BOTTLE,20220706CCHSIOAMB
EXPOCODE,SECT_ID,STNNBR,CASTNO,SAMPNO,BTLNBR,BTLNBR_FLAG_W,DATE,TIME,LATITUDE,LONGITUDE,DEPTH,CTDPRS,CTDTMP,CTDSAL,CTDSAL_FLAG_W,SALNTY,SALNTY_FLAG_W,CTDOXY,CTDOXY_FLAG_W,OXYGEN,OXYGEN_FLAG_W,SILCAT,SILCAT_FLAG_W,NH4,NH4_FLAG_W,NITRAT,NITRAT_FLAG_W,NITRIT,NITRIT_FLAG_W,PHSPHT,PHSPHT_FLAG_W,CFC-11,CFC-11_FLAG_W,CFC-12,CFC-12_FLAG_W,CFC113,CFC113_FLAG_W,SF6,SF6_FLAG_W,TCARBN,TCARBN_FLAG_W,ALKALI,ALKALI_FLAG_W,PH_TOT,PH_TOT_FLAG_W,PH_TMP,REFTMP,DELC13,DELC13_FLAG_W,DELC14,DELC14_FLAG_W,C14ERR,DELO18,DELO18_FLAG_W,POC,POC_FLAG_W,DOC,DOC_FLAG_W,TDN,TDN_FLAG_W,TON,TON_FLAG_W,D15N_NO3,D15N_NO3_FLAG_W,BTL_DATE,BTL_TIME,BTL_LAT,BTL_LON,14C-DOC,14C-DOC_FLAG_W,CHLORA,CHLORA_FLAG_W,HPLC,HPLC_FLAG_W,CDOM325,CDOM325_FLAG_W,CDOM340,CDOM340_FLAG_W,CDOM380,CDOM380_FLAG_W,CDOM412,CDOM412_FLAG_W,CDOM443,CDOM443_FLAG_W,CDOM490,CDOM490_FLAG_W,CDOM555,CDOM555_FLAG_W,CDOMSL,CDOMSL_FLAG_W,CDOMSN,CDOMSN_FLAG_W,D18O_NO3,D18O_NO3_FLAG_W,D15N_NO2+NO3,D15N_NO2+NO3_FLAG_W,D18O_NO2+NO3,D18O_NO2+NO3_FLAG_W
,,,,,,,,,,,METERS,DBAR,ITS-90,PSS-78,,PSS-78,,UMOL/KG,,UMOL/KG,,UMOL/KG,,UMOL/KG,,UMOL/KG,,UMOL/KG,,UMOL/KG,,PMOL/KG,,PMOL/KG,,PMOL/KG,,FMOL/KG,,UMOL/KG,,UMOL/KG,,,,DEG C,DEG C,/MILLE,,/MILLE,,/MILLE,/MILLE,,UG/KG,,UMOL/KG,,UMOL/KG,,UMOL/KG,,/MILLE,,,,,,/MILLE,,MG/M3,,,,1/M,,1/M,,1/M,,1/M,,1/M,,1/M,,1/M,,1/NM,,1/NM,,/MILLE,,/MILLE,,/MILLE,
33RR20160208,       I08S,      55,          1,          1,          1,2,20160304,       1919,   -43.0680,    95.0001,       3168,  3201.3,   1.5017,  34.7355,2,  34.7355,2,    201.2,2,   201.1,2,   104.1,2,    0.00,2,   31.03,2,    0.00,2,    2.14,2,   0.153,2,   0.088,2,   0.006,2,          0.06,2,  2256.8,2, 2362.43,2,   7.6157,2,    24.91,   1.5022, -999.00,9,  -999.0,9,  -999.0, -999.00,1,-999.000,9,  -999.0,9, -999.00,9,     -999.0,9,    4.88,2, 20160304,     1919, -43.0680,  95.0001,     -999.0,9,     -999.0,9,     -999.0,9,-999.0000,9,-999.0000,9,-999.0000,9,-999.0000,9,-999.0000,9,-999.0000,9,-999.0000,9,     -999.0,9,     -999.0,9,       2.02,2,       4.88,2,       2.02,2
33RR20160208,       I08S,      55,          1,          2,          2,2,20160304,       1919,   -43.0680,    95.0001,       3168,  2962.4,   1.5643,  34.7387,2,  34.7386,2,    199.9,2,   200.6,2,   101.1,2,    0.00,2,   30.87,2,    0.00,2,    2.12,2,-999.000,9,-999.000,9,-999.000,9,-999.000000000,9,  -999.0,9, -999.00,9,-999.0000,9,  -999.00,   1.5647, -999.00,9,  -999.0,9,  -999.0, -999.00,1,-999.000,9,  -999.0,9, -999.00,9,     -999.0,9,    4.96,2, 20160304,     1924, -43.0680,  95.0001,     -999.0,9,     -999.0,9,     -999.0,9,-999.0000,9,-999.0000,9,-999.0000,9,-999.0000,9,-999.0000,9,-999.0000,9,-999.0000,9,     -999.0,9,     -999.0,9,       1.97,2,       4.96,2,       1.97,2
33RR20160208,       I08S,      55,          1,          3,          3,2,20160304,       1919,   -43.0680,    95.0001,       3168,  2737.6,   1.7699,  34.7477,2,  34.7478,2,    198.9,2,   200.0,2,    93.0,2,    0.00,2,   30.36,2,    0.00,2,    2.09,2,   0.104,2,   0.059,2,   0.000,2,             0,2,  2248.6,2, 2358.33,2,   7.6194,2,    24.91,   1.7700, -999.00,9,  -999.0,9,  -999.0, -999.00,1,-999.000,9,  -999.0,9, -999.00,9,     -999.0,9,     5.0,2, 20160304,     1929, -43.0680,  95.0001,     -999.0,9,     -999.0,9,     -999.0,9,-999.0000,9,-999.0000,9,-999.0000,9,-999.0000,9,-999.0000,9,-999.0000,9,-999.0000,9,     -999.0,9,     -999.0,9,       1.92,2,        5.0,2,       1.92,2
33RR20160208,       I08S,      55,          1,          4,          4,2,20160304,       1919,   -43.0680,    95.0001,       3168,  2533.8,   2.0418,  34.7536,2,  34.7533,2,    196.9,2,   197.5,2,    84.4,2,    0.00,2,   29.97,2,    0.00,2,    2.04,2,-999.000,9,-999.000,9,-999.000,9,-999.000000000,9,  -999.0,9, -999.00,9,-999.0000,9,     9.00,   2.0417, -999.00,9,  -999.0,9,  -999.0, -999.00,1,-999.000,9,  -999.0,9, -999.00,9,     -999.0,9,    5.02,2, 20160304,     1934, -43.0680,  95.0001,     -999.0,9,     -999.0,9,     -999.0,9,-999.0000,9,-999.0000,9,-999.0000,9,-999.0000,9,-999.0000,9,-999.0000,9,-999.0000,9,     -999.0,9,     -999.0,9,        1.9,2,       5.02,2,        1.9,2
33RR20160208,       I08S,      55,          1,          5,          5,2,20160304,       1919,   -43.0680,    95.0001,       3168,  2334.8,   2.2346,  34.7462,2,  34.7458,2,    193.9,2,   194.6,2,    79.2,2,    0.00,2,   30.19,2,    0.00,2,    2.07,2,   0.120,2,   0.069,2,   0.000,2,             0,2,  2241.0,2, 2348.77,2,   7.6162,2,    24.89,   2.2358, -999.00,9,  -999.0,9,  -999.0, -999.00,1,-999.000,9,  -999.0,9, -999.00,9,     -999.0,9,    5.04,2, 20160304,     1938, -43.0681,  95.0001,     -999.0,9,     -999.0,9,     -999.0,9,-999.0000,9,-999.0000,9,-999.0000,9,-999.0000,9,-999.0000,9,-999.0000,9,-999.0000,9,     -999.0,9,     -999.0,9,       2.02,2,       5.04,2,       2.02,2
33RR20160208,       I08S,      55,          1,          6,         38,2,20160304,       1919,   -43.0680,    95.0001,       3168,  2130.3,   2.4075,  34.7239,2,  34.7235,2,    188.7,2,   189.3,2,    74.3,2,    0.00,2,   30.65,2,    0.00,2,    2.09,2,-999.000,9,-999.000,9,-999.000,9,-999.000000000,9,  -999.0,9, -999.00,9,-999.0000,9,  -999.00,   2.4077, -999.00,9,  -999.0,9,  -999.0, -999.00,1,-999.000,9,  -999.0,9, -999.00,9,     -999.0,9,     5.1,2, 20160304,     1943, -43.0681,  95.0001,     -999.0,9,     -999.0,9,     -999.0,9,-999.0000,9,-999.0000,9,-999.0000,9,-999.0000,9,-999.0000,9,-999.0000,9,-999.0000,9,     -999.0,9,     -999.0,9,       2.04,2,        5.1,2,       2.04,2
33RR20160208,       I08S,      55,          1,          7,          7,2,20160304,       1919,   -43.0680,    95.0001,       3168,  1932.8,   2.5459,  34.6812,2,  34.6811,2,    182.0,2,   182.0,2,    72.8,2,    0.00,2,   31.64,2,    0.00,2,    2.18,2,   0.238,2,   0.130,2,   0.005,2,          0.04,2,  -999.0,9, -999.00,9,-999.0000,9,     9.00,   2.5458, -999.00,9,  -999.0,9,  -999.0, -999.00,1,-999.000,9,  -999.0,9, -999.00,9,     -999.0,9,    5.15,2, 20160304,     1947, -43.0681,  95.0001,     -999.0,9,     -999.0,9,     -999.0,9,-999.0000,9,-999.0000,9,-999.0000,9,-999.0000,9,-999.0000,9,-999.0000,9,-999.0000,9,     -999.0,9,     -999.0,9,       2.13,2,       5.15,2,       2.13,2
33RR20160208,       I08S,      55,          1,          8,          8,2,20160304,       1919,   -43.0680,    95.0001,       3168,  1766.5,   2.6525,  34.6343,2,  34.6338,2,    177.5,2,   178.1,2,    70.2,2,    0.00,2,   32.56,2,    0.00,2,    2.24,2,   0.351,2,   0.186,2,   0.010,2,         0.045,2,  2246.7,2, 2338.31,2,   7.5773,6,    24.90,   2.6527, -999.00,9,  -999.0,9,  -999.0, -999.00,1,-999.000,9,  -999.0,9, -999.00,9,     -999.0,9,    5.21,2, 20160304,     1951, -43.0681,  95.0001,     -999.0,9,     -999.0,9,     -999.0,9,-999.0000,9,-999.0000,9,-999.0000,9,-999.0000,9,-999.0000,9,-999.0000,9,-999.0000,9,     -999.0,9,     -999.0,9,       2.02,2,       5.21,2,       2.02,2
33RR20160208,       I08S,      55,          1,          9,          9,2,20160304,       1919,   -43.0680,    95.0001,       3168,  1687.6,   2.6890,  34.6030,2,  34.6022,2,    176.3,2,   176.2,2,    68.8,2,    0.00,2,   33.03,2,    0.00,2,    2.27,2,   0.478,2,   0.254,2,   0.021,2,         0.064,2,  2245.7,2, 2335.39,2,   7.5689,2,    24.89,   2.6899, -999.00,9,  -999.0,9,  -999.0, -999.00,1,-999.000,9,  -999.0,9, -999.00,9,     -999.0,9,     5.2,2, 20160304,     1953, -43.0681,  95.0001,     -999.0,9,     -999.0,9,     -999.0,9,-999.0000,9,-999.0000,9,-999.0000,9,-999.0000,9,-999.0000,9,-999.0000,9,-999.0000,9,     -999.0,9,     -999.0,9,       2.16,2,        5.2,2,       2.16,2
33RR20160208,       I08S,      55,          1,         10,         10,2,20160304,       1919,   -43.0680,    95.0001,       3168,  1566.3,   2.8355,  34.5576,2,  34.5565,2,    175.6,2,   175.2,2,    65.7,2,    0.00,2,   33.75,2,    0.00,2,    2.31,2,   0.593,2,   0.306,2,   0.028,2,         0.153,2,  2245.3,2, 2331.81,2,   7.5647,2,    24.89,   2.8368, -999.00,9,  -999.0,9,  -999.0, -999.00,1,-999.000,9,  -999.0,9, -999.00,9,     -999.0,9,    5.29,2, 20160304,     1957, -43.0681,  95.0001,     -999.0,9,     -999.0,9,     -999.0,9,-999.0000,9,-999.0000,9,-999.0000,9,-999.0000,9,-999.0000,9,-999.0000,9,-999.0000,9,     -999.0,9,     -999.0,9,       2.21,2,       5.29,2,       2.21,2
33RR20160208,       I08S,      55,          1,         11,         11,2,20160304,       1919,   -43.0680,    95.0001,       3168,  1464.3,   2.9472,  34.4994,2,  34.4979,2,    178.7,2,   177.6,2,    61.3,2,    0.00,2,   33.77,2,    0.00,2,    2.32,2,   0.911,2,   0.459,2,   0.050,2,         0.243,2,  2237.4,2, 2325.46,2,   7.5612,2,    24.90,   2.9476, -999.00,9,  -999.0,9,  -999.0, -999.00,1,-999.000,9,  -999.0,9, -999.00,9,     -999.0,9,    5.36,2, 20160304,     2000, -43.0680,  95.0001,     -999.0,9,     -999.0,9,     -999.0,9,-999.0000,9,-999.0000,9,-999.0000,9,-999.0000,9,-999.0000,9,-999.0000,9,-999.0000,9,     -999.0,9,     -999.0,9,        2.2,2,       5.36,2,        2.2,2
33RR20160208,       I08S,      55,          1,         12,         12,2,20160304,       1919,   -43.0680,    95.0001,       3168,  1367.1,   3.1703,  34.4493,2,  34.4489,2,    183.0,2,   182.3,2,    55.7,2,    0.00,2,   33.58,2,    0.00,2,    2.30,2,   1.183,2,   0.597,2,   0.071,2,         0.301,2,  2233.2,2, 2320.49,2,   7.5673,2,    24.91,   3.1714, -999.00,9,  -999.0,9,  -999.0, -999.00,1,-999.000,9,  -999.0,9, -999.00,9,     -999.0,9,    5.43,2, 20160304,     2002, -43.0680,  95.0001,     -999.0,9,     -999.0,9,     -999.0,9,-999.0000,9,-999.0000,9,-999.0000,9,-999.0000,9,-999.0000,9,-999.0000,9,-999.0000,9,     -999.0,9,     -999.0,9,       2.44,2,       5.43,2,       2.44,2
33RR20160208,       I08S,      55,          1,         13,         13,2,20160304,       1919,   -43.0680,    95.0001,       3168,  1266.6,   3.3615,  34.4028,2,  34.4020,2,    190.0,2,   189.6,2,    48.9,2,    0.00,2,   33.12,2,    0.00,2,    2.26,2,   1.563,2,   0.773,2,   0.099,2,         0.364,2,  2224.7,2, 2314.49,2,   7.5747,2,    24.90,   3.3614, -999.00,9,  -999.0,9,  -999.0, -999.00,1,-999.000,9,  -999.0,9, -999.00,9,     -999.0,9,    5.54,2, 20160304,     2005, -43.0681,  95.0001,     -999.0,9,     -999.0,9,     -999.0,9,-999.0000,9,-999.0000,9,-999.0000,9,-999.0000,9,-999.0000,9,-999.0000,9,-999.0000,9,     -999.0,9,     -999.0,9,       2.47,2,       5.54,2,       2.47,2
33RR20160208,       I08S,      55,          1,         14,         14,2,20160304,       1919,   -43.0680,    95.0001,       3168,  1164.8,   3.6933,  34.3611,2,  34.3601,2,    199.1,2,   198.7,2,    41.5,2,    0.00,2,   32.24,2,    0.00,2,    2.21,2,   1.940,2,   0.965,2,   0.130,2,         0.504,2,  -999.0,9, -999.00,9,-999.0000,9,  -999.00,   3.6934, -999.00,9,  -999.0,9,  -999.0, -999.00,1,-999.000,9,  -999.0,9, -999.00,9,     -999.0,9,    5.62,2, 20160304,     2008, -43.0681,  95.0001,     -999.0,9,     -999.0,9,     -999.0,9,-999.0000,9,-999.0000,9,-999.0000,9,-999.0000,9,-999.0000,9,-999.0000,9,-999.0000,9,     -999.0,9,     -999.0,9,       2.53,2,       5.62,2,       2.53,2
33RR20160208,       I08S,      55,          1,         15,         15,2,20160304,       1919,   -43.0680,    95.0001,       3168,  1063.2,   4.1377,  34.3288,2,  34.3281,2,    208.8,2,   208.0,2,    33.4,2,    0.00,2,   30.88,2,    0.00,2,    2.11,2,   2.421,2,   1.216,2,   0.157,2,         0.704,2,  2199.7,2, 2300.82,2,   7.6071,2,    24.89,   4.1373, -999.00,9,  -999.0,9,  -999.0, -999.00,1,-999.000,9,  -999.0,9, -999.00,9,     -999.0,9,    5.74,2, 20160304,     2011, -43.0681,  95.0001,     -999.0,9,     -999.0,9,     -999.0,9,-999.0000,9,-999.0000,9,-999.0000,9,-999.0000,9,-999.0000,9,-999.0000,9,-999.0000,9,     -999.0,9,     -999.0,9,        2.7,2,       5.74,2,        2.7,2
33RR20160208,       I08S,      55,          1,         16,         16,2,20160304,       1919,   -43.0680,    95.0001,       3168,   964.9,   4.6421,  34.3110,2,  34.3111,2,    216.2,2,   216.3,2,    25.8,2,    0.00,2,   29.39,2,    0.00,2,    1.99,2,   2.789,2,   1.436,2,   0.186,2,         0.792,2,  -999.0,9, -999.00,9,-999.0000,9,     9.00,   4.6445, -999.00,9,  -999.0,9,  -999.0, -999.00,1,-999.000,9,  -999.0,9, -999.00,9,     -999.0,9,    5.81,2, 20160304,     2014, -43.0681,  95.0001,     -999.0,9,     -999.0,9,     -999.0,9,-999.0000,9,-999.0000,9,-999.0000,9,-999.0000,9,-999.0000,9,-999.0000,9,-999.0000,9,     -999.0,9,     -999.0,9,       2.89,2,       5.81,2,       2.89,2
33RR20160208,       I08S,      55,          1,         17,         17,2,20160304,       1919,   -43.0680,    95.0001,       3168,   866.8,   5.4997,  34.3441,2,  34.3442,2,    211.8,2,   216.8,2,    20.0,2,    0.00,2,   27.54,2,    0.00,2,    1.87,2,   2.988,2,   1.575,2,   0.193,2,         0.873,2,  2178.9,2, 2290.49,2,   7.6425,6,    24.93,   5.4997, -999.00,9,  -999.0,9,  -999.0, -999.00,1,-999.000,9,  -999.0,9, -999.00,9,     -999.0,9,    5.92,2, 20160304,     2016, -43.0681,  95.0001,     -999.0,9,     -999.0,9,     -999.0,9,-999.0000,9,-999.0000,9,-999.0000,9,-999.0000,9,-999.0000,9,-999.0000,9,-999.0000,9,     -999.0,9,     -999.0,9,        2.9,2,       5.92,2,        2.9,2
33RR20160208,       I08S,      55,          1,         18,         37,2,20160304,       1919,   -43.0680,    95.0001,       3168,   766.5,   6.7965,  34.4451,2,  34.4447,2,    209.8,2,   210.7,2,    16.5,2,    0.00,2,   25.11,2,    0.00,2,    1.68,2,   2.974,2,   1.555,2,   0.157,2,         0.947,2,  -999.0,9, -999.00,9,-999.0000,9,  -999.00,   6.7952, -999.00,9,  -999.0,9,  -999.0, -999.00,1,-999.000,9,  -999.0,9, -999.00,9,     -999.0,9,    6.09,2, 20160304,     2019, -43.0680,  95.0001,     -999.0,9,     -999.0,9,     -999.0,9,-999.0000,9,-999.0000,9,-999.0000,9,-999.0000,9,-999.0000,9,-999.0000,9,-999.0000,9,     -999.0,9,     -999.0,9,       2.99,2,       6.09,2,       2.99,2
33RR20160208,       I08S,      55,          1,         19,         19,2,20160304,       1919,   -43.0680,    95.0001,       3168,   664.7,   8.1420,  34.5656,2,  34.5653,2,    211.7,2,   211.4,2,    11.6,2,    0.00,2,   21.75,2,    0.00,2,    1.47,2,   3.009,2,   1.595,2,   0.131,2,         0.946,2,  2158.6,2, 2292.73,2,   7.7053,6,    24.95,   8.1377, -999.00,9,  -999.0,9,  -999.0, -999.00,1,-999.000,9,  -999.0,9, -999.00,9,     -999.0,9,    6.29,2, 20160304,     2022, -43.0681,  95.0001,     -999.0,9,     -999.0,9,     -999.0,9,-999.0000,9,-999.0000,9,-999.0000,9,-999.0000,9,-999.0000,9,-999.0000,9,-999.0000,9,     -999.0,9,     -999.0,9,       3.08,2,       6.29,2,       3.08,2
33RR20160208,       I08S,      55,          1,         20,         20,2,20160304,       1919,   -43.0680,    95.0001,       3168,   568.0,   9.0202,  34.6474,2,  34.6475,2,    221.1,2,   219.4,2,     8.3,2,    0.00,2,   18.86,2,    0.00,2,    1.29,2,   3.176,2,   1.718,2,   0.137,2,         1.262,2,  2148.4,2, 2294.88,2,   7.7368,6,    24.92,   9.0163, -999.00,9,  -999.0,9,  -999.0, -999.00,1,-999.000,9,  -999.0,9, -999.00,9,     -999.0,9,     6.5,2, 20160304,     2025, -43.0681,  95.0001,     -999.0,9,     -999.0,9,     -999.0,9,-999.0000,9,-999.0000,9,-999.0000,9,-999.0000,9,-999.0000,9,-999.0000,9,-999.0000,9,     -999.0,9,     -999.0,9,       3.36,2,        6.5,2,       3.36,2
33RR20160208,       I08S,      55,          1,         21,         21,2,20160304,       1919,   -43.0680,    95.0001,       3168,   487.0,   9.7571,  34.7273,2,  34.7251,2,    232.1,2,   232.3,2,     6.0,2,    0.00,2,   16.00,2,    0.00,2,    1.11,2,   3.152,2,   1.762,2,   0.148,2,         1.432,2,  2137.1,2, 2297.80,2,   7.7700,6,    24.91,   9.7570, -999.00,9,  -999.0,9,  -999.0, -999.00,1,-999.000,9,  -999.0,9, -999.00,9,     -999.0,9,    6.67,2, 20160304,     2027, -43.0681,  95.0001,     -999.0,9,     -999.0,9,     -999.0,9,-999.0000,9,-999.0000,9,-999.0000,9,-999.0000,9,-999.0000,9,-999.0000,9,-999.0000,9,     -999.0,9,     -999.0,9,       3.74,2,       6.67,2,       3.74,2
33RR20160208,       I08S,      55,          1,         22,         22,2,20160304,       1919,   -43.0680,    95.0001,       3168,   437.6,  10.1720,  34.7745,2,  34.7736,2,    237.2,2,   237.3,2,     5.2,2,    0.00,2,   14.60,2,    0.00,2,    1.01,2,   3.155,2,   1.780,2,   0.159,2,         1.689,2,  2128.2,2, 2299.33,2,   7.7864,2,    24.92,  10.1724, -999.00,9,  -999.0,9,  -999.0, -999.00,1,-999.000,9,  -999.0,9, -999.00,9,     -999.0,9,    6.65,2, 20160304,     2029, -43.0680,  95.0001,     -999.0,9,     -999.0,9,     -999.0,9,-999.0000,9,-999.0000,9,-999.0000,9,-999.0000,9,-999.0000,9,-999.0000,9,-999.0000,9,     -999.0,9,     -999.0,9,       3.81,2,       6.65,2,       3.81,2
33RR20160208,       I08S,      55,          1,         23,         23,2,20160304,       1919,   -43.0680,    95.0001,       3168,   385.3,  10.6095,  34.8375,2,  34.8362,2,    245.8,2,   245.2,2,     4.4,2,    0.00,2,   12.87,2,    0.00,2,    0.90,2,-999.000,9,-999.000,9,-999.000,9,-999.000000000,9,  -999.0,9, -999.00,9,-999.0000,9,  -999.00,  10.6094, -999.00,9,  -999.0,9,  -999.0, -999.00,1,-999.000,9,  -999.0,9, -999.00,9,     -999.0,9,     6.7,2, 20160304,     2031, -43.0681,  95.0001,     -999.0,9,     -999.0,9,     -999.0,9,-999.0000,9,-999.0000,9,-999.0000,9,-999.0000,9,-999.0000,9,-999.0000,9,-999.0000,9,     -999.0,9,     -999.0,9,       3.93,2,        6.7,2,       3.93,2
33RR20160208,       I08S,      55,          1,         24,         24,2,20160304,       1919,   -43.0680,    95.0001,       3168,   335.7,  10.7903,  34.8617,2,  34.8590,2,    251.0,2,   250.8,2,     3.9,2,    0.00,2,   11.93,2,    0.00,2,    0.85,2,   3.078,2,   1.747,2,   0.203,2,         1.743,2,  2118.2,2, 2302.50,2,   7.8191,6,    24.94,  10.7895, -999.00,9,  -999.0,9,  -999.0, -999.00,1,-999.000,9,  -999.0,9, -999.00,9,     -999.0,9,    6.83,2, 20160304,     2034, -43.0680,  95.0001,     -999.0,9,     -999.0,9,     -999.0,9,-999.0000,9,-999.0000,9,-999.0000,9,-999.0000,9,-999.0000,9,-999.0000,9,-999.0000,9,     -999.0,9,     -999.0,9,       4.42,2,       6.83,2,       4.42,2
33RR20160208,       I08S,      55,          1,         25,         25,2,20160304,       1919,   -43.0680,    95.0001,       3168,   286.5,  10.8897,  34.8723,2,  34.8714,2,    252.7,2,   252.9,2,     3.8,2,    0.00,2,   11.50,2,    0.00,2,    0.82,2,-999.000,9,-999.000,9,-999.000,9,-999.000000000,9,  -999.0,9, -999.00,9,-999.0000,9,     9.00,  10.8899, -999.00,9,  -999.0,9,  -999.0, -999.00,1,-999.000,9,  -999.0,9, -999.00,9,     -999.0,9,    6.94,2, 20160304,     2036, -43.0681,  95.0001,     -999.0,9,     -999.0,9,     -999.0,9,-999.0000,9,-999.0000,9,-999.0000,9,-999.0000,9,-999.0000,9,-999.0000,9,-999.0000,9,     -999.0,9,     -999.0,9,       4.47,2,       6.94,2,       4.47,2
33RR20160208,       I08S,      55,          1,         26,         26,2,20160304,       1919,   -43.0680,    95.0001,       3168,   236.1,  10.9680,  34.8755,2,  34.8739,2,    253.3,2,   253.6,2,     3.7,2,    0.00,2,   11.28,2,    0.00,2,    0.81,2,   3.028,2,   1.734,2,   0.216,2,         1.858,2,  2117.1,2, 2303.62,2,   7.8264,2,    24.93,  10.9665, -999.00,9,  -999.0,9,  -999.0, -999.00,1,-999.000,9,  -999.0,9, -999.00,9,     -999.0,9,    6.94,2, 20160304,     2038, -43.0680,  95.0001,     -999.0,9,     -999.0,9,     -999.0,9,-999.0000,9,-999.0000,9,-999.0000,9,-999.0000,9,-999.0000,9,-999.0000,9,-999.0000,9,     -999.0,9,     -999.0,9,       4.73,2,       6.94,2,       4.73,2
33RR20160208,       I08S,      55,          1,         27,         27,2,20160304,       1919,   -43.0680,    95.0001,       3168,   185.9,  11.1790,  34.9064,2,  34.9059,2,    254.1,2,   254.7,2,     3.4,2,    0.00,2,   10.68,2,    0.00,2,    0.78,2,-999.000,9,-999.000,9,-999.000,9,-999.000000000,9,  -999.0,9, -999.00,9,-999.0000,9,  -999.00,  11.1787, -999.00,9,  -999.0,9,  -999.0, -999.00,1,-999.000,9,  -999.0,9, -999.00,9,     -999.0,9,    7.02,2, 20160304,     2040, -43.0681,  95.0001,     -999.0,9,     -999.0,9,     -999.0,9,-999.0000,9,-999.0000,9,-999.0000,9,-999.0000,9,-999.0000,9,-999.0000,9,-999.0000,9,     -999.0,9,     -999.0,9,        4.9,2,       7.02,2,        4.9,2