BOTTLE,20220706CCHSIOAMB
EXPOCODE,SECT_ID,STNNBR,CASTNO,SAMPNO,BTLNBR,BTLNBR_FLAG_W,DATE,TIME,LATITUDE,LONGITUDE,DEPTH,CTDPRS,CTDTMP,CTDSAL,CTDSAL_FLAG_W,SALNTY,SALNTY_FLAG_W,CTDOXY,CTDOXY_FLAG_W,OXYGEN,OXYGEN_FLAG_W,SILCAT,SILCAT_FLAG_W,NH4,NH4_FLAG_W,NITRAT,NITRAT_FLAG_W,NITRIT,NITRIT_FLAG_W,PHSPHT,PHSPHT_FLAG_W,CFC-11,CFC-11_FLAG_W,CFC-12,CFC-12_FLAG_W,CFC113,CFC113_FLAG_W,SF6,SF6_FLAG_W,TCARBN,TCARBN_FLAG_W,ALKALI,ALKALI_FLAG_W,PH_TOT,PH_TOT_FLAG_W,PH_TMP,REFTMP,DELC13,DELC13_FLAG_W,DELC14,DELC14_FLAG_W,C14ERR,DELO18,DELO18_FLAG_W,POC,POC_FLAG_W,DOC,DOC_FLAG_W,TDN,TDN_FLAG_W,TON,TON_FLAG_W,D15N_NO3,D15N_NO3_FLAG_W,BTL_DATE,BTL_TIME,BTL_LAT,BTL_LON,14C-DOC,14C-DOC_FLAG_W,CHLORA,CHLORA_FLAG_W,HPLC,HPLC_FLAG_W,CDOM325,CDOM325_FLAG_W,CDOM340,CDOM340_FLAG_W,CDOM380,CDOM380_FLAG_W,CDOM412,CDOM412_FLAG_W,CDOM443,CDOM443_FLAG_W,CDOM490,CDOM490_FLAG_W,CDOM555,CDOM555_FLAG_W,CDOMSL,CDOMSL_FLAG_W,CDOMSN,CDOMSN_FLAG_W,D18O_NO3,D18O_NO3_FLAG_W,D15N_NO2+NO3,D15N_NO2+NO3_FLAG_W,D18O_NO2+NO3,D18O_NO2+NO3_FLAG_W
,,,,,,,,,,,METERS,DBAR,ITS-90,PSS-78,,PSS-78,,UMOL/KG,,UMOL/KG,,UMOL/KG,,UMOL/KG,,UMOL/KG,,UMOL/KG,,UMOL/KG,,PMOL/KG,,PMOL/KG,,PMOL/KG,,FMOL/KG,,UMOL/KG,,UMOL/KG,,,,DEG C,DEG C,/MILLE,,/MILLE,,/MILLE,/MILLE,,UG/KG,,UMOL/KG,,UMOL/KG,,UMOL/KG,,/MILLE,,,,,,/MILLE,,MG/M3,,,,1/M,,1/M,,1/M,,1/M,,1/M,,1/M,,1/M,,1/NM,,1/NM,,/MILLE,,/MILLE,,/MILLE,
33RR20160208,       I08S,       4,          1,         28,         28,2,20160219,       1743,   -66.4000,    78.1993,       1979,    55.0,  -1.7377,  34.2874,2,  34.2985,2,    303.3,2,   304.3,2,    57.5,2,    0.29,2,   30.10,2,    0.15,2,    2.05,2,   4.876,2,   2.624,2,   0.477,2,         2.575,2,  2216.5,2, 2317.34,2,   7.6119,2,    25.06,  -1.7382, -999.00,9,  -999.0,9,  -999.0, -999.00,1,-999.000,9,    39.8,2,   33.10,2,     -999.0,1, -999.00,9, 20160219,     1855, -66.4001,  78.1992,     -999.0,9,     -999.0,9,     -999.0,9,-999.0000,9,-999.0000,9,-999.0000,9,-999.0000,9,-999.0000,9,-999.0000,9,-999.0000,9,     -999.0,9,     -999.0,9,     -999.0,9,     -999.0,9,     -999.0,9
33RR20160208,       I08S,       4,          1,         29,         29,2,20160219,       1743,   -66.4000,    78.1993,       1979,    30.4,  -1.6617,  34.0880,2,  34.1393,4,    312.5,2,   311.9,2,    54.2,2,    0.75,2,   28.78,2,    0.09,2,    2.01,2,   4.743,2,   2.555,2,   0.468,2,         2.505,2,  2204.9,2, 2312.06,2,   7.6348,2,    25.04,  -1.6622, -999.00,9,  -999.0,9,  -999.0, -999.00,1,-999.000,9,    44.0,2,   32.70,2,     -999.0,1, -999.00,9, 20160219,     1857, -66.4001,  78.1992,     -999.0,9,     -999.0,9,     -999.0,9,-999.0000,9,-999.0000,9,-999.0000,9,-999.0000,9,-999.0000,9,-999.0000,9,-999.0000,9,     -999.0,9,     -999.0,9,     -999.0,9,     -999.0,9,     -999.0,9
33RR20160208,       I08S,       4,          1,         30,         30,2,20160219,       1743,   -66.4000,    78.1993,       1979,    16.4,  -1.0636,  33.0873,2,  33.1133,2,    347.1,2,   346.1,2,    44.9,2,    0.39,2,   24.43,2,    0.15,2,    1.59,2,   5.608,2,   3.019,2,   0.566,2,         2.991,2,  2122.2,2, 2241.81,2,   7.6989,2,    25.05,  -1.0657, -999.00,9,  -999.0,9,  -999.0, -999.00,1,-999.000,9,    43.4,2,   28.10,2,     -999.0,1, -999.00,9, 20160219,     1858, -66.4002,  78.1992,     -999.0,9,     -999.0,9,     -999.0,9,-999.0000,9,-999.0000,9,-999.0000,9,-999.0000,9,-999.0000,9,-999.0000,9,-999.0000,9,     -999.0,9,     -999.0,9,     -999.0,9,     -999.0,9,     -999.0,9
33RR20160208,       I08S,       4,          1,         31,         31,2,20160219,       1743,   -66.4000,    78.1993,       1979,     5.3,  -1.1363,  33.0463,2,  33.0621,2,    346.9,2,   347.3,2,    44.6,2,    0.44,2,   24.19,2,    0.16,2,    1.61,2,   5.645,6,   3.050,6,   0.578,6,        3.1865,6,  2116.9,6, 2239.83,2,   7.7008,6,    25.05,  -1.1361, -999.00,9,  -999.0,9,  -999.0, -999.00,1,-999.000,9,    43.0,2,   27.10,2,     -999.0,1, -999.00,9, 20160219,     1900, -66.4001,  78.1992,     -999.0,9,     -999.0,9,     -999.0,9,-999.0000,9,-999.0000,9,-999.0000,9,-999.0000,9,-999.0000,9,-999.0000,9,-999.0000,9,     -999.0,9,     -999.0,9,     -999.0,9,     -999.0,9,     -999.0,9