BOTTLE,20220706CCHSIOAMB
EXPOCODE,SECT_ID,STNNBR,CASTNO,SAMPNO,BTLNBR,BTLNBR_FLAG_W,DATE,TIME,LATITUDE,LONGITUDE,DEPTH,CTDPRS,CTDTMP,CTDSAL,CTDSAL_FLAG_W,SALNTY,SALNTY_FLAG_W,CTDOXY,CTDOXY_FLAG_W,OXYGEN,OXYGEN_FLAG_W,SILCAT,SILCAT_FLAG_W,NH4,NH4_FLAG_W,NITRAT,NITRAT_FLAG_W,NITRIT,NITRIT_FLAG_W,PHSPHT,PHSPHT_FLAG_W,CFC-11,CFC-11_FLAG_W,CFC-12,CFC-12_FLAG_W,CFC113,CFC113_FLAG_W,SF6,SF6_FLAG_W,TCARBN,TCARBN_FLAG_W,ALKALI,ALKALI_FLAG_W,PH_TOT,PH_TOT_FLAG_W,PH_TMP,REFTMP,DELC13,DELC13_FLAG_W,DELC14,DELC14_FLAG_W,C14ERR,DELO18,DELO18_FLAG_W,POC,POC_FLAG_W,DOC,DOC_FLAG_W,TDN,TDN_FLAG_W,TON,TON_FLAG_W,D15N_NO3,D15N_NO3_FLAG_W,BTL_DATE,BTL_TIME,BTL_LAT,BTL_LON,14C-DOC,14C-DOC_FLAG_W,CHLORA,CHLORA_FLAG_W,HPLC,HPLC_FLAG_W,CDOM325,CDOM325_FLAG_W,CDOM340,CDOM340_FLAG_W,CDOM380,CDOM380_FLAG_W,CDOM412,CDOM412_FLAG_W,CDOM443,CDOM443_FLAG_W,CDOM490,CDOM490_FLAG_W,CDOM555,CDOM555_FLAG_W,CDOMSL,CDOMSL_FLAG_W,CDOMSN,CDOMSN_FLAG_W,D18O_NO3,D18O_NO3_FLAG_W,D15N_NO2+NO3,D15N_NO2+NO3_FLAG_W,D18O_NO2+NO3,D18O_NO2+NO3_FLAG_W
,,,,,,,,,,,METERS,DBAR,ITS-90,PSS-78,,PSS-78,,UMOL/KG,,UMOL/KG,,UMOL/KG,,UMOL/KG,,UMOL/KG,,UMOL/KG,,UMOL/KG,,PMOL/KG,,PMOL/KG,,PMOL/KG,,FMOL/KG,,UMOL/KG,,UMOL/KG,,,,DEG C,DEG C,/MILLE,,/MILLE,,/MILLE,/MILLE,,UG/KG,,UMOL/KG,,UMOL/KG,,UMOL/KG,,/MILLE,,,,,,/MILLE,,MG/M3,,,,1/M,,1/M,,1/M,,1/M,,1/M,,1/M,,1/M,,1/NM,,1/NM,,/MILLE,,/MILLE,,/MILLE,
33RR20160208,       I08S,      76,          2,          1,          1,2,20160310,       0904,   -32.0089,    95.0129,       4252,  4245.2,   1.1228,  34.7160,2,  34.7165,2,    205.3,2,   204.4,2,   117.5,2,    0.00,2,   31.85,2,    0.00,2,    2.22,2,   0.052,2,   0.026,2,-999.000,5,             0,2,  2264.2,6, 2374.73,6,   7.6199,2,    24.99,-999.0000, -999.00,9,  -999.0,9,  -999.0, -999.00,9,-999.000,9,    38.9,2, -999.00,9,     -999.0,1, -999.00,9, 20160310,      904, -32.0089,  95.0129,     -999.0,9,     -999.0,9,     -999.0,9,-999.0000,9,-999.0000,9,-999.0000,9,-999.0000,9,-999.0000,9,-999.0000,9,-999.0000,9,     -999.0,9,     -999.0,9,     -999.0,9,     -999.0,9,     -999.0,9
33RR20160208,       I08S,      76,          2,          2,          2,2,20160310,       0904,   -32.0089,    95.0129,       4252,  4002.8,   1.1877,  34.7198,2,  34.7198,2,    202.7,2,   203.5,2,   115.2,2,    0.00,2,   31.77,2,    0.00,2,    2.22,2,   0.041,2,   0.020,2,-999.000,5,             0,2,  2266.7,2, 2374.08,2,   7.6194,2,    24.98,-999.0000, -999.00,9,  -999.0,9,  -999.0, -999.00,9,-999.000,9,    38.2,2, -999.00,9,     -999.0,1, -999.00,9, 20160310,      909, -32.0089,  95.0129,     -999.0,9,     -999.0,9,     -999.0,9,-999.0000,9,-999.0000,9,-999.0000,9,-999.0000,9,-999.0000,9,-999.0000,9,-999.0000,9,     -999.0,9,     -999.0,9,     -999.0,9,     -999.0,9,     -999.0,9
33RR20160208,       I08S,      76,          2,          3,          3,2,20160310,       0904,   -32.0089,    95.0129,       4252,  3758.7,   1.2113,  34.7220,2,  34.7219,2,    202.0,2,   202.9,2,   114.1,2,    0.00,2,   31.71,2,    0.00,2,    2.21,2,-999.000,9,-999.000,9,-999.000,9,-999.000000000,9,  2261.7,2, 2371.40,2,   7.6181,2,    24.98,-999.0000, -999.00,9,  -999.0,9,  -999.0, -999.00,9,-999.000,9,    37.7,2, -999.00,9,     -999.0,1, -999.00,9, 20160310,      914, -32.0089,  95.0129,     -999.0,9,     -999.0,9,     -999.0,9,-999.0000,9,-999.0000,9,-999.0000,9,-999.0000,9,-999.0000,9,-999.0000,9,-999.0000,9,     -999.0,9,     -999.0,9,     -999.0,9,     -999.0,9,     -999.0,9
33RR20160208,       I08S,      76,          2,          4,          4,2,20160310,       0904,   -32.0089,    95.0129,       4252,  3503.7,   1.2814,  34.7256,2,  34.7253,2,    200.9,2,   202.0,2,   111.7,2,    0.00,2,   31.57,2,    0.00,2,    2.21,2,   0.037,2,   0.021,2,-999.000,5,             0,2,  2265.2,2, 2368.73,2,   7.6169,2,    24.98,-999.0000, -999.00,9,  -999.0,9,  -999.0, -999.00,9,-999.000,9,    37.7,2, -999.00,9,     -999.0,1, -999.00,9, 20160310,      920, -32.0089,  95.0129,     -999.0,9,     -999.0,9,     -999.0,9,-999.0000,9,-999.0000,9,-999.0000,9,-999.0000,9,-999.0000,9,-999.0000,9,-999.0000,9,     -999.0,9,     -999.0,9,     -999.0,9,     -999.0,9,     -999.0,9
33RR20160208,       I08S,      76,          2,          5,          5,2,20160310,       0904,   -32.0089,    95.0129,       4252,  3197.9,   1.4691,  34.7329,2,  34.7324,2,    198.5,2,   199.6,2,   105.9,2,    0.00,2,   31.25,2,    0.00,2,    2.17,2,   0.038,2,   0.021,2,-999.000,5,             0,2,  2260.3,2, 2366.39,6,   7.6146,2,    25.02,-999.0000, -999.00,9,  -999.0,9,  -999.0, -999.00,9,-999.000,9,    39.0,2, -999.00,9,     -999.0,1, -999.00,9, 20160310,      926, -32.0089,  95.0129,     -999.0,9,     -999.0,9,     -999.0,9,-999.0000,9,-999.0000,9,-999.0000,9,-999.0000,9,-999.0000,9,-999.0000,9,-999.0000,9,     -999.0,9,     -999.0,9,     -999.0,9,     -999.0,9,     -999.0,9
33RR20160208,       I08S,      76,          2,          6,         38,2,20160310,       0904,   -32.0089,    95.0129,       4252,  2911.8,   1.6857,  34.7385,2,  34.7383,2,    195.2,2,   196.1,2,   100.0,2,    0.00,2,   31.01,2,    0.00,2,    2.15,2,-999.000,9,-999.000,9,-999.000,9,-999.000000000,9,  2253.8,2, 2363.62,2,   7.6143,2,    25.00,-999.0000, -999.00,9,  -999.0,9,  -999.0, -999.00,9,-999.000,9,    38.7,2, -999.00,9,     -999.0,1, -999.00,9, 20160310,      932, -32.0089,  95.0129,     -999.0,9,     -999.0,9,     -999.0,9,-999.0000,9,-999.0000,9,-999.0000,9,-999.0000,9,-999.0000,9,-999.0000,9,-999.0000,9,     -999.0,9,     -999.0,9,     -999.0,9,     -999.0,9,     -999.0,9
33RR20160208,       I08S,      76,          2,          7,          7,2,20160310,       0904,   -32.0089,    95.0129,       4252,  2662.1,   1.9151,  34.7384,2,  34.7383,2,    190.6,2,   191.2,2,    94.3,2,    0.00,2,   31.03,2,    0.00,2,    2.17,2,   0.032,2,   0.016,2,-999.000,5,             0,2,  2254.7,2, 2359.64,2,   7.6109,2,    25.00,-999.0000, -999.00,9,  -999.0,9,  -999.0, -999.00,9,-999.000,9,    37.4,2, -999.00,9,     -999.0,1, -999.00,9, 20160310,      937, -32.0089,  95.0129,     -999.0,9,     -999.0,9,     -999.0,9,-999.0000,9,-999.0000,9,-999.0000,9,-999.0000,9,-999.0000,9,-999.0000,9,-999.0000,9,     -999.0,9,     -999.0,9,     -999.0,9,     -999.0,9,     -999.0,9
33RR20160208,       I08S,      76,          2,          8,          8,2,20160310,       0904,   -32.0089,    95.0129,       4252,  2412.8,   2.1590,  34.7273,2,  34.7271,2,    183.1,2,   182.9,2,    91.2,2,    0.00,2,   31.57,2,    0.00,2,    2.21,2,-999.000,9,-999.000,9,-999.000,9,-999.000000000,9,  2256.5,2, 2359.61,2,   7.6022,6,    24.98,-999.0000, -999.00,9,  -999.0,9,  -999.0, -999.00,9,-999.000,9,    39.3,2, -999.00,9,     -999.0,1, -999.00,9, 20160310,      942, -32.0089,  95.0129,     -999.0,9,     -999.0,9,     -999.0,9,-999.0000,9,-999.0000,9,-999.0000,9,-999.0000,9,-999.0000,9,-999.0000,9,-999.0000,9,     -999.0,9,     -999.0,9,     -999.0,9,     -999.0,9,     -999.0,9
33RR20160208,       I08S,      76,          2,          9,          9,2,20160310,       0904,   -32.0089,    95.0129,       4252,  2167.4,   2.3679,  34.7076,2,  34.7077,2,    173.9,2,   172.7,2,    91.1,2,    0.00,2,   32.54,2,    0.00,2,    2.28,2,   0.036,2,   0.016,2,-999.000,5,             0,2,  2263.0,2, 2360.85,2,   7.5904,2,    24.97,-999.0000, -999.00,9,  -999.0,9,  -999.0, -999.00,9,-999.000,9,    38.2,2, -999.00,9,     -999.0,1, -999.00,9, 20160310,      948, -32.0089,  95.0129,     -999.0,9,     -999.0,9,     -999.0,9,-999.0000,9,-999.0000,9,-999.0000,9,-999.0000,9,-999.0000,9,-999.0000,9,-999.0000,9,     -999.0,9,     -999.0,9,     -999.0,9,     -999.0,9,     -999.0,9
33RR20160208,       I08S,      76,          2,         10,         10,2,20160310,       0904,   -32.0089,    95.0129,       4252,  1934.0,   2.5499,  34.6847,2,  34.6841,2,    165.4,2,   165.2,2,    89.6,2,    0.00,2,   33.18,2,    0.00,2,    2.33,2,-999.000,9,-999.000,9,-999.000,9,-999.000000000,9,  2266.9,2, 2359.55,2,   7.5794,2,    24.97,-999.0000, -999.00,9,  -999.0,9,  -999.0, -999.00,9,-999.000,9,    37.3,2, -999.00,9,     -999.0,1, -999.00,9, 20160310,      953, -32.0089,  95.0129,     -999.0,9,     -999.0,9,     -999.0,9,-999.0000,9,-999.0000,9,-999.0000,9,-999.0000,9,-999.0000,9,-999.0000,9,-999.0000,9,     -999.0,9,     -999.0,9,     -999.0,9,     -999.0,9,     -999.0,9
33RR20160208,       I08S,      76,          2,         11,         11,2,20160310,       0904,   -32.0089,    95.0129,       4252,  1736.9,   2.7500,  34.6518,2,  34.6517,2,    159.6,2,   159.0,2,    86.2,2,    0.00,2,   33.85,2,    0.00,2,    2.39,2,   0.052,2,   0.026,2,-999.000,5,             0,2,  2265.5,6, 2356.42,2,   7.5686,2,    24.97,-999.0000, -999.00,9,  -999.0,9,  -999.0, -999.00,9,-999.000,9,    37.7,2, -999.00,9,     -999.0,1, -999.00,9, 20160310,      957, -32.0089,  95.0130,     -999.0,9,     -999.0,9,     -999.0,9,-999.0000,9,-999.0000,9,-999.0000,9,-999.0000,9,-999.0000,9,-999.0000,9,-999.0000,9,     -999.0,9,     -999.0,9,     -999.0,9,     -999.0,9,     -999.0,9
33RR20160208,       I08S,      76,          2,         12,         12,2,20160310,       0904,   -32.0089,    95.0129,       4252,  1565.0,   3.0192,  34.6044,2,  34.6045,2,    155.6,2,   154.1,2,    81.2,2,    0.00,2,   34.51,2,    0.00,2,    2.39,2,   0.098,2,   0.045,2,-999.000,5,             0,2,  2261.0,2, 2349.94,2,   7.5598,2,    24.96,-999.0000, -999.00,9,  -999.0,9,  -999.0, -999.00,9,-999.000,9,    37.7,2, -999.00,9,     -999.0,1, -999.00,9, 20160310,     1001, -32.0089,  95.0129,     -999.0,9,     -999.0,9,     -999.0,9,-999.0000,9,-999.0000,9,-999.0000,9,-999.0000,9,-999.0000,9,-999.0000,9,-999.0000,9,     -999.0,9,     -999.0,9,     -999.0,9,     -999.0,9,     -999.0,9
33RR20160208,       I08S,      76,          2,         13,         13,2,20160310,       0904,   -32.0089,    95.0129,       4252,  1462.3,   3.1909,  34.5650,2,  34.5651,2,    155.4,2,   154.6,2,    75.9,2,    0.00,2,   34.65,2,    0.00,2,    2.43,2,   0.173,2,   0.080,2,-999.000,5,             0,2,  2259.8,2, 2343.94,2,   7.5566,2,    24.96,-999.0000, -999.00,9,  -999.0,9,  -999.0, -999.00,9,-999.000,9,    37.8,2, -999.00,9,     -999.0,1, -999.00,9, 20160310,     1004, -32.0089,  95.0129,     -999.0,9,     -999.0,9,     -999.0,9,-999.0000,9,-999.0000,9,-999.0000,9,-999.0000,9,-999.0000,9,-999.0000,9,-999.0000,9,     -999.0,9,     -999.0,9,     -999.0,9,     -999.0,9,     -999.0,9
33RR20160208,       I08S,      76,          2,         14,         14,2,20160310,       0904,   -32.0089,    95.0129,       4252,  1365.5,   3.3908,  34.5419,2,  34.5413,2,    154.9,2,   154.5,2,    72.6,2,    0.00,2,   34.68,2,    0.00,2,    2.43,2,   0.270,2,   0.121,2,-999.000,5,          0.05,2,  2258.1,2, 2339.53,2,   7.5563,2,    24.97,-999.0000, -999.00,9,  -999.0,9,  -999.0, -999.00,9,-999.000,9,    37.8,3, -999.00,9,     -999.0,1, -999.00,9, 20160310,     1007, -32.0089,  95.0129,     -999.0,9,     -999.0,9,     -999.0,9,-999.0000,9,-999.0000,9,-999.0000,9,-999.0000,9,-999.0000,9,-999.0000,9,-999.0000,9,     -999.0,9,     -999.0,9,     -999.0,9,     -999.0,9,     -999.0,9
33RR20160208,       I08S,      76,          2,         15,         15,2,20160310,       0904,   -32.0089,    95.0129,       4252,  1265.5,   3.6598,  34.4968,2,  34.4964,2,    158.6,2,   159.8,2,    64.6,2,    0.00,2,   34.30,2,    0.00,2,    2.40,2,   0.496,2,   0.212,2,-999.000,5,             0,2,  2245.7,2, 2330.67,2,   7.5632,2,    24.90,-999.0000, -999.00,9,  -999.0,9,  -999.0, -999.00,9,-999.000,9,    38.8,2, -999.00,9,     -999.0,1, -999.00,9, 20160310,     1010, -32.0089,  95.0129,     -999.0,9,     -999.0,9,     -999.0,9,-999.0000,9,-999.0000,9,-999.0000,9,-999.0000,9,-999.0000,9,-999.0000,9,-999.0000,9,     -999.0,9,     -999.0,9,     -999.0,9,     -999.0,9,     -999.0,9
33RR20160208,       I08S,      76,          2,         16,         16,2,20160310,       0904,   -32.0089,    95.0129,       4252,  1165.9,   4.0203,  34.4488,2,  34.4478,2,    170.5,2,   169.3,2,    53.7,2,    0.00,2,   33.35,2,    0.00,2,    2.31,2,   0.867,2,   0.393,2,-999.000,5,          0.17,2,  2229.8,2, 2321.58,2,   7.5760,2,    24.94,-999.0000, -999.00,9,  -999.0,9,  -999.0, -999.00,9,-999.000,9,    39.0,2, -999.00,9,     -999.0,1, -999.00,9, 20160310,     1014, -32.0089,  95.0129,     -999.0,9,     -999.0,9,     -999.0,9,-999.0000,9,-999.0000,9,-999.0000,9,-999.0000,9,-999.0000,9,-999.0000,9,-999.0000,9,     -999.0,9,     -999.0,9,     -999.0,9,     -999.0,9,     -999.0,9
33RR20160208,       I08S,      76,          2,         17,         17,2,20160310,       0904,   -32.0089,    95.0129,       4252,  1066.5,   4.4361,  34.4138,2,  34.4137,2,    178.2,2,   179.4,2,    43.6,2,    0.00,2,   32.12,2,    0.00,2,    2.22,2,   1.249,2,   0.570,2,-999.000,5,          0.18,2,  2212.1,2, 2310.91,2,   7.5923,2,    24.95,-999.0000, -999.00,9,  -999.0,9,  -999.0, -999.00,9,-999.000,9,    38.3,2, -999.00,9,     -999.0,1, -999.00,9, 20160310,     1016, -32.0089,  95.0130,     -999.0,9,     -999.0,9,     -999.0,9,-999.0000,9,-999.0000,9,-999.0000,9,-999.0000,9,-999.0000,9,-999.0000,9,-999.0000,9,     -999.0,9,     -999.0,9,     -999.0,9,     -999.0,9,     -999.0,9
33RR20160208,       I08S,      76,          2,         18,         37,2,20160310,       0904,   -32.0089,    95.0129,       4252,   965.6,   5.2362,  34.4110,2,  34.4106,2,    187.1,2,   185.6,2,    33.1,2,    0.00,2,   30.32,2,    0.00,2,    2.08,2,   1.565,2,   0.725,2,-999.000,5,         0.208,2,  2197.8,2, 2301.66,2,   7.6148,6,    24.96,-999.0000, -999.00,9,  -999.0,9,  -999.0, -999.00,9,-999.000,9,    39.6,2, -999.00,9,     -999.0,1, -999.00,9, 20160310,     1019, -32.0089,  95.0130,     -999.0,9,     -999.0,9,     -999.0,9,-999.0000,9,-999.0000,9,-999.0000,9,-999.0000,9,-999.0000,9,-999.0000,9,-999.0000,9,     -999.0,9,     -999.0,9,     -999.0,9,     -999.0,9,     -999.0,9
33RR20160208,       I08S,      76,          2,         19,         19,2,20160310,       0904,   -32.0089,    95.0129,       4252,   865.8,   6.4345,  34.4337,2,  34.4347,2,    200.2,2,   200.0,2,    19.6,2,    0.00,2,   26.65,2,    0.00,2,    1.83,2,   2.287,2,   1.140,2,-999.000,5,         0.653,2,  2173.6,2, 2290.68,2,   7.6550,2,    24.94,-999.0000, -999.00,9,  -999.0,9,  -999.0, -999.00,9,-999.000,9,    40.3,2, -999.00,9,     -999.0,1, -999.00,9, 20160310,     1022, -32.0089,  95.0130,     -999.0,9,     -999.0,9,     -999.0,9,-999.0000,9,-999.0000,9,-999.0000,9,-999.0000,9,-999.0000,9,-999.0000,9,-999.0000,9,     -999.0,9,     -999.0,9,     -999.0,9,     -999.0,9,     -999.0,9
33RR20160208,       I08S,      76,          2,         20,         20,2,20160310,       0904,   -32.0089,    95.0129,       4252,   765.2,   7.8552,  34.5277,2,  34.5271,2,    213.4,2,   212.1,2,    11.0,2,    0.00,2,   22.36,2,    0.00,2,    1.53,2,   2.636,2,   1.534,2,-999.000,5,         0.704,2,  2155.3,2, 2288.96,2,   7.7008,2,    24.97,-999.0000, -999.00,9,  -999.0,9,  -999.0, -999.00,9,-999.000,9,    42.1,2, -999.00,9,     -999.0,1, -999.00,9, 20160310,     1025, -32.0089,  95.0129,     -999.0,9,     -999.0,9,     -999.0,9,-999.0000,9,-999.0000,9,-999.0000,9,-999.0000,9,-999.0000,9,-999.0000,9,-999.0000,9,     -999.0,9,     -999.0,9,     -999.0,9,     -999.0,9,     -999.0,9
33RR20160208,       I08S,      76,          2,         21,         21,2,20160310,       0904,   -32.0089,    95.0129,       4252,   663.0,   8.9531,  34.6302,2,  34.6302,2,    229.2,2,   230.4,2,     5.5,2,    0.00,2,   17.94,2,    0.00,2,    1.25,2,   2.599,2,   1.833,2,-999.000,5,          0.91,2,  2139.0,2, 2290.39,2,   7.7484,2,    24.94,-999.0000, -999.00,9,  -999.0,9,  -999.0, -999.00,9,-999.000,9,    42.6,2, -999.00,9,     -999.0,1, -999.00,9, 20160310,     1028, -32.0089,  95.0129,     -999.0,9,     -999.0,9,     -999.0,9,-999.0000,9,-999.0000,9,-999.0000,9,-999.0000,9,-999.0000,9,-999.0000,9,-999.0000,9,     -999.0,9,     -999.0,9,     -999.0,9,     -999.0,9,     -999.0,9
33RR20160208,       I08S,      76,          2,         22,         22,2,20160310,       0904,   -32.0089,    95.0129,       4252,   563.7,   9.5743,  34.7083,2,  34.7089,2,    236.1,2,   237.0,2,     4.0,2,    0.00,2,   15.48,2,    0.00,2,    1.09,2,   2.530,2,   1.869,2,-999.000,5,         1.239,2,  2133.4,6, 2293.59,2,   7.7714,2,    24.96,-999.0000, -999.00,9,  -999.0,9,  -999.0, -999.00,9,-999.000,9,    42.9,2, -999.00,9,     -999.0,1, -999.00,9, 20160310,     1031, -32.0089,  95.0129,     -999.0,9,     -999.0,9,     -999.0,9,-999.0000,9,-999.0000,9,-999.0000,9,-999.0000,9,-999.0000,9,-999.0000,9,-999.0000,9,     -999.0,9,     -999.0,9,     -999.0,9,     -999.0,9,     -999.0,9
33RR20160208,       I08S,      76,          2,         23,         23,2,20160310,       0904,   -32.0089,    95.0129,       4252,   484.2,  10.1608,  34.7933,2,  34.7945,2,    238.6,2,   239.7,2,     3.3,2,    0.00,2,   13.50,2,    0.00,2,    1.00,2,   2.520,2,   1.846,2,-999.000,5,         1.475,2,  2126.1,2, 2297.20,2,   7.7905,6,    24.97,-999.0000, -999.00,9,  -999.0,9,  -999.0, -999.00,9,-999.000,9,    44.1,2, -999.00,9,     -999.0,1, -999.00,9, 20160310,     1033, -32.0089,  95.0129,     -999.0,9,     -999.0,9,     -999.0,9,-999.0000,9,-999.0000,9,-999.0000,9,-999.0000,9,-999.0000,9,-999.0000,9,-999.0000,9,     -999.0,9,     -999.0,9,     -999.0,9,     -999.0,9,     -999.0,9
33RR20160208,       I08S,      76,          2,         24,         24,2,20160310,       0904,   -32.0089,    95.0129,       4252,   434.0,  10.5626,  34.8540,2,  34.8532,2,    238.6,2,   240.6,2,     3.0,2,    0.00,2,   12.39,2,    0.00,2,    0.92,2,-999.000,9,-999.000,9,-999.000,9,-999.000000000,9,  2122.1,2, 2300.76,2,   7.8022,2,    24.95,-999.0000, -999.00,9,  -999.0,9,  -999.0, -999.00,9,-999.000,9,    44.2,2, -999.00,9,     -999.0,1, -999.00,9, 20160310,     1035, -32.0089,  95.0129,     -999.0,9,     -999.0,9,     -999.0,9,-999.0000,9,-999.0000,9,-999.0000,9,-999.0000,9,-999.0000,9,-999.0000,9,-999.0000,9,     -999.0,9,     -999.0,9,     -999.0,9,     -999.0,9,     -999.0,9
33RR20160208,       I08S,      76,          2,         25,         25,2,20160310,       0904,   -32.0089,    95.0129,       4252,   385.5,  11.0496,  34.9303,2,  34.9294,2,    238.0,2,   239.2,2,     2.7,2,    0.00,2,   11.17,2,    0.00,2,    0.84,2,   2.493,2,   1.752,2,-999.000,5,         1.379,2,  2120.5,2, 2304.24,2,   7.8128,2,    24.96,-999.0000, -999.00,9,  -999.0,9,  -999.0, -999.00,9,-999.000,9,    46.0,2, -999.00,9,     -999.0,1, -999.00,9, 20160310,     1038, -32.0089,  95.0129,     -999.0,9,     -999.0,9,     -999.0,9,-999.0000,9,-999.0000,9,-999.0000,9,-999.0000,9,-999.0000,9,-999.0000,9,-999.0000,9,     -999.0,9,     -999.0,9,     -999.0,9,     -999.0,9,     -999.0,9
33RR20160208,       I08S,      76,          2,         26,         26,2,20160310,       0904,   -32.0089,    95.0129,       4252,   336.9,  11.5141,  35.0018,2,  35.0017,2,    236.2,2,   238.1,2,     2.4,2,    0.00,2,   10.05,2,    0.00,2,    0.78,2,-999.000,9,-999.000,9,-999.000,9,-999.000000000,9,  2120.4,2, 2308.41,2,   7.8246,2,    24.90,-999.0000, -999.00,9,  -999.0,9,  -999.0, -999.00,9,-999.000,9,    46.2,2,   13.00,2,     -999.0,1, -999.00,9, 20160310,     1039, -32.0089,  95.0129,     -999.0,9,     -999.0,9,     -999.0,9,-999.0000,9,-999.0000,9,-999.0000,9,-999.0000,9,-999.0000,9,-999.0000,9,-999.0000,9,     -999.0,9,     -999.0,9,     -999.0,9,     -999.0,9,     -999.0,9
33RR20160208,       I08S,      76,          2,         27,         27,2,20160310,       0904,   -32.0089,    95.0129,       4252,   284.8,  12.1380,  35.0894,2,  35.0890,2,    234.3,2,   235.2,2,     2.0,2,    0.00,2,    8.60,2,    0.00,2,    0.69,2,   2.478,2,   1.688,2,-999.000,5,         1.597,2,  2119.7,2, 2313.34,2,   7.8359,6,    24.94,-999.0000, -999.00,9,  -999.0,9,  -999.0, -999.00,9,-999.000,9,    46.4,2,   11.60,2,     -999.0,1, -999.00,9, 20160310,     1041, -32.0089,  95.0129,     -999.0,9,     -999.0,9,     -999.0,9,-999.0000,9,-999.0000,9,-999.0000,9,-999.0000,9,-999.0000,9,-999.0000,9,-999.0000,9,     -999.0,9,     -999.0,9,     -999.0,9,     -999.0,9,     -999.0,9