BOTTLE,20220706CCHSIOAMB
EXPOCODE,SECT_ID,STNNBR,CASTNO,SAMPNO,BTLNBR,BTLNBR_FLAG_W,DATE,TIME,LATITUDE,LONGITUDE,DEPTH,CTDPRS,CTDTMP,CTDSAL,CTDSAL_FLAG_W,SALNTY,SALNTY_FLAG_W,CTDOXY,CTDOXY_FLAG_W,OXYGEN,OXYGEN_FLAG_W,SILCAT,SILCAT_FLAG_W,NH4,NH4_FLAG_W,NITRAT,NITRAT_FLAG_W,NITRIT,NITRIT_FLAG_W,PHSPHT,PHSPHT_FLAG_W,CFC-11,CFC-11_FLAG_W,CFC-12,CFC-12_FLAG_W,CFC113,CFC113_FLAG_W,SF6,SF6_FLAG_W,TCARBN,TCARBN_FLAG_W,ALKALI,ALKALI_FLAG_W,PH_TOT,PH_TOT_FLAG_W,PH_TMP,REFTMP,DELC13,DELC13_FLAG_W,DELC14,DELC14_FLAG_W,C14ERR,DELO18,DELO18_FLAG_W,POC,POC_FLAG_W,DOC,DOC_FLAG_W,TDN,TDN_FLAG_W,TON,TON_FLAG_W,D15N_NO3,D15N_NO3_FLAG_W,BTL_DATE,BTL_TIME,BTL_LAT,BTL_LON,14C-DOC,14C-DOC_FLAG_W,CHLORA,CHLORA_FLAG_W,HPLC,HPLC_FLAG_W,CDOM325,CDOM325_FLAG_W,CDOM340,CDOM340_FLAG_W,CDOM380,CDOM380_FLAG_W,CDOM412,CDOM412_FLAG_W,CDOM443,CDOM443_FLAG_W,CDOM490,CDOM490_FLAG_W,CDOM555,CDOM555_FLAG_W,CDOMSL,CDOMSL_FLAG_W,CDOMSN,CDOMSN_FLAG_W,D18O_NO3,D18O_NO3_FLAG_W,D15N_NO2+NO3,D15N_NO2+NO3_FLAG_W,D18O_NO2+NO3,D18O_NO2+NO3_FLAG_W
,,,,,,,,,,,METERS,DBAR,ITS-90,PSS-78,,PSS-78,,UMOL/KG,,UMOL/KG,,UMOL/KG,,UMOL/KG,,UMOL/KG,,UMOL/KG,,UMOL/KG,,PMOL/KG,,PMOL/KG,,PMOL/KG,,FMOL/KG,,UMOL/KG,,UMOL/KG,,,,DEG C,DEG C,/MILLE,,/MILLE,,/MILLE,/MILLE,,UG/KG,,UMOL/KG,,UMOL/KG,,UMOL/KG,,/MILLE,,,,,,/MILLE,,MG/M3,,,,1/M,,1/M,,1/M,,1/M,,1/M,,1/M,,1/M,,1/NM,,1/NM,,/MILLE,,/MILLE,,/MILLE,
33RR20160208,       I08S,      50,          1,          1,          1,2,20160303,       1212,   -46.0569,    94.0047,       3271,  3296.0,   1.1193,  34.7197,2,  34.7182,2,    207.3,2,   207.6,2,   112.5,2,    0.00,2,   31.54,2,    0.00,2,    2.18,2,   0.242,2,   0.128,2,   0.007,2,         0.074,2,  2257.9,6, 2363.25,2,   7.6086,2,    24.99,   1.1193, -999.00,9,  -999.0,9,  -999.0, -999.00,9,-999.000,9,    38.9,2, -999.00,9,     -999.0,1, -999.00,9, 20160303,     1212, -46.0569,  94.0047,     -999.0,9,     -999.0,9,     -999.0,9,-999.0000,9,-999.0000,9,-999.0000,9,-999.0000,9,-999.0000,9,-999.0000,9,-999.0000,9,     -999.0,9,     -999.0,9,     -999.0,9,     -999.0,9,     -999.0,9
33RR20160208,       I08S,      50,          1,          2,          2,2,20160303,       1212,   -46.0569,    94.0047,       3271,  3150.6,   1.1192,  34.7203,2,  34.7198,2,    206.6,2,   207.2,2,   112.0,2,    0.00,2,   31.51,2,    0.00,2,    2.18,2,-999.000,9,-999.000,9,-999.000,9,-999.000000000,9,  -999.0,9, -999.00,9,-999.0000,9,     9.00,   1.1188, -999.00,9,  -999.0,9,  -999.0, -999.00,9,-999.000,9,    38.9,2, -999.00,9,     -999.0,1, -999.00,9, 20160303,     1216, -46.0570,  94.0047,     -999.0,9,     -999.0,9,     -999.0,9,-999.0000,9,-999.0000,9,-999.0000,9,-999.0000,9,-999.0000,9,-999.0000,9,-999.0000,9,     -999.0,9,     -999.0,9,     -999.0,9,     -999.0,9,     -999.0,9
33RR20160208,       I08S,      50,          1,          3,          3,2,20160303,       1212,   -46.0569,    94.0047,       3271,  2976.1,   1.2738,  34.7283,2,  34.7283,2,    204.8,2,   204.9,2,   107.0,2,    0.00,2,   31.20,2,    0.00,2,    2.16,2,   0.171,2,   0.093,2,   0.003,2,         0.039,2,  -999.0,9, -999.00,9,-999.0000,9,  -999.00,   1.2737, -999.00,9,  -999.0,9,  -999.0, -999.00,9,-999.000,9,    38.9,2, -999.00,9,     -999.0,1, -999.00,9, 20160303,     1220, -46.0570,  94.0047,     -999.0,9,     -999.0,9,     -999.0,9,-999.0000,9,-999.0000,9,-999.0000,9,-999.0000,9,-999.0000,9,-999.0000,9,-999.0000,9,     -999.0,9,     -999.0,9,     -999.0,9,     -999.0,9,     -999.0,9
33RR20160208,       I08S,      50,          1,          4,          4,2,20160303,       1212,   -46.0569,    94.0047,       3271,  2801.6,   1.4610,  34.7375,2,  34.7360,2,    203.0,2,   203.1,2,   101.4,2,    0.00,2,   30.93,2,    0.00,2,    2.13,2,-999.000,9,-999.000,9,-999.000,9,-999.000000000,9,  2250.2,2, 2361.54,6,   7.6157,6,    25.00,   1.4611, -999.00,9,  -999.0,9,  -999.0, -999.00,9,-999.000,9,    39.0,2, -999.00,9,     -999.0,1, -999.00,9, 20160303,     1224, -46.0570,  94.0047,     -999.0,9,     -999.0,9,     -999.0,9,-999.0000,9,-999.0000,9,-999.0000,9,-999.0000,9,-999.0000,9,-999.0000,9,-999.0000,9,     -999.0,9,     -999.0,9,     -999.0,9,     -999.0,9,     -999.0,9
33RR20160208,       I08S,      50,          1,          5,          5,2,20160303,       1212,   -46.0569,    94.0047,       3271,  2600.6,   1.7124,  34.7485,2,  34.7466,2,    201.0,2,   202.8,2,    93.1,2,    0.00,2,   30.38,2,    0.00,2,    2.09,2,   0.124,2,   0.066,2,   0.000,2,         0.003,2,  -999.0,9, -999.00,9,-999.0000,9,     9.00,   1.7122, -999.00,9,  -999.0,9,  -999.0, -999.00,9,-999.000,9,    39.2,2, -999.00,9,     -999.0,1, -999.00,9, 20160303,     1229, -46.0570,  94.0047,     -999.0,9,     -999.0,9,     -999.0,9,-999.0000,9,-999.0000,9,-999.0000,9,-999.0000,9,-999.0000,9,-999.0000,9,-999.0000,9,     -999.0,9,     -999.0,9,     -999.0,9,     -999.0,9,     -999.0,9
33RR20160208,       I08S,      50,          1,          6,         38,2,20160303,       1212,   -46.0569,    94.0047,       3271,  2402.0,   1.9695,  34.7554,2,  34.7543,2,    199.1,2,   199.6,2,    84.8,2,    0.00,2,   29.95,2,    0.00,2,    2.05,2,-999.000,9,-999.000,9,-999.000,9,-999.000000000,9,  -999.0,9, -999.00,9,-999.0000,9,  -999.00,   1.9698, -999.00,9,  -999.0,9,  -999.0, -999.00,9,-999.000,9,    40.7,2, -999.00,9,     -999.0,1, -999.00,9, 20160303,     1234, -46.0570,  94.0047,     -999.0,9,     -999.0,9,     -999.0,9,-999.0000,9,-999.0000,9,-999.0000,9,-999.0000,9,-999.0000,9,-999.0000,9,-999.0000,9,     -999.0,9,     -999.0,9,     -999.0,9,     -999.0,9,     -999.0,9
33RR20160208,       I08S,      50,          1,          7,          7,2,20160303,       1212,   -46.0569,    94.0047,       3271,  2201.0,   2.1469,  34.7532,2,  34.7519,2,    196.9,2,   196.6,2,    79.5,2,    0.00,2,   29.88,2,    0.00,2,    2.04,2,   0.127,2,   0.073,2,   0.001,2,         0.027,2,  -999.0,9, -999.00,9,-999.0000,9,  -999.00,   2.1470, -999.00,9,  -999.0,9,  -999.0, -999.00,9,-999.000,9,    39.7,2, -999.00,9,     -999.0,1, -999.00,9, 20160303,     1238, -46.0570,  94.0047,     -999.0,9,     -999.0,9,     -999.0,9,-999.0000,9,-999.0000,9,-999.0000,9,-999.0000,9,-999.0000,9,-999.0000,9,-999.0000,9,     -999.0,9,     -999.0,9,     -999.0,9,     -999.0,9,     -999.0,9
33RR20160208,       I08S,      50,          1,          8,          8,2,20160303,       1212,   -46.0569,    94.0047,       3271,  2011.3,   2.2970,  34.7403,2,  34.7386,2,    193.1,2,   193.1,2,    75.4,2,    0.00,2,   30.15,2,    0.00,2,    2.07,2,-999.000,9,-999.000,9,-999.000,9,-999.000000000,9,  2239.4,2, 2346.53,2,   7.6106,6,    24.98,   2.2978, -999.00,9,  -999.0,9,  -999.0, -999.00,9,-999.000,9,    38.6,2, -999.00,9,     -999.0,1, -999.00,9, 20160303,     1243, -46.0570,  94.0047,     -999.0,9,     -999.0,9,     -999.0,9,-999.0000,9,-999.0000,9,-999.0000,9,-999.0000,9,-999.0000,9,-999.0000,9,-999.0000,9,     -999.0,9,     -999.0,9,     -999.0,9,     -999.0,9,     -999.0,9
33RR20160208,       I08S,      50,          1,          9,          9,2,20160303,       1212,   -46.0569,    94.0047,       3271,  1901.0,   2.3705,  34.7287,2,  34.7282,2,    190.2,2,   190.1,2,    73.9,2,    0.00,2,   30.40,2,    0.00,2,    2.09,2,   0.168,2,   0.094,2,   0.003,2,         0.009,2,  -999.0,9, -999.00,9,-999.0000,9,  -999.00,   2.3708, -999.00,9,  -999.0,9,  -999.0, -999.00,9,-999.000,9,    39.1,2, -999.00,9,     -999.0,1, -999.00,9, 20160303,     1246, -46.0570,  94.0047,     -999.0,9,     -999.0,9,     -999.0,9,-999.0000,9,-999.0000,9,-999.0000,9,-999.0000,9,-999.0000,9,-999.0000,9,-999.0000,9,     -999.0,9,     -999.0,9,     -999.0,9,     -999.0,9,     -999.0,9
33RR20160208,       I08S,      50,          1,         10,         10,2,20160303,       1212,   -46.0569,    94.0047,       3271,  1698.6,   2.4858,  34.6954,2,  34.6940,2,    184.0,2,   184.1,2,    71.9,2,    0.00,2,   31.25,2,    0.00,2,    2.15,2,   0.223,2,   0.121,2,   0.006,2,         0.043,2,  -999.0,9, -999.00,9,-999.0000,9,  -999.00,   2.4858, -999.00,9,  -999.0,9,  -999.0, -999.00,9,-999.000,9,    39.6,2, -999.00,9,     -999.0,1, -999.00,9, 20160303,     1251, -46.0570,  94.0047,     -999.0,9,     -999.0,9,     -999.0,9,-999.0000,9,-999.0000,9,-999.0000,9,-999.0000,9,-999.0000,9,-999.0000,9,-999.0000,9,     -999.0,9,     -999.0,9,     -999.0,9,     -999.0,9,     -999.0,9
33RR20160208,       I08S,      50,          1,         11,         11,2,20160303,       1212,   -46.0569,    94.0047,       3271,  1601.3,   2.5513,  34.6691,2,  34.6677,2,    180.4,2,   180.5,2,    71.1,2,    0.00,2,   31.85,2,    0.00,2,    2.19,2,   0.272,2,   0.146,2,   0.007,2,         0.042,2,  -999.0,9, -999.00,9,-999.0000,9,     9.00,   2.5510, -999.00,9,  -999.0,9,  -999.0, -999.00,9,-999.000,9,    38.8,2, -999.00,9,     -999.0,1, -999.00,9, 20160303,     1254, -46.0570,  94.0047,     -999.0,9,     -999.0,9,     -999.0,9,-999.0000,9,-999.0000,9,-999.0000,9,-999.0000,9,-999.0000,9,-999.0000,9,-999.0000,9,     -999.0,9,     -999.0,9,     -999.0,9,     -999.0,9,     -999.0,9
33RR20160208,       I08S,      50,          1,         12,         12,2,20160303,       1212,   -46.0569,    94.0047,       3271,  1501.0,   2.6177,  34.6424,2,  34.6418,2,    177.9,2,   179.1,2,    69.9,2,    0.00,2,   32.39,2,    0.00,2,    2.23,2,   0.334,2,   0.176,2,   0.011,2,         0.108,2,  2247.0,2, 2337.99,2,   7.5777,6,    24.98,   2.6181, -999.00,9,  -999.0,9,  -999.0, -999.00,9,-999.000,9,    39.2,2, -999.00,9,     -999.0,1, -999.00,9, 20160303,     1257, -46.0570,  94.0047,     -999.0,9,     -999.0,9,     -999.0,9,-999.0000,9,-999.0000,9,-999.0000,9,-999.0000,9,-999.0000,9,-999.0000,9,-999.0000,9,     -999.0,9,     -999.0,9,     -999.0,9,     -999.0,9,     -999.0,9
33RR20160208,       I08S,      50,          1,         13,         13,2,20160303,       1212,   -46.0569,    94.0047,       3271,  1399.8,   2.6914,  34.6058,2,  34.6047,2,    176.3,2,   176.0,2,    68.0,2,    0.00,2,   33.02,2,    0.00,2,    2.26,2,   0.458,2,   0.241,2,   0.020,2,         0.095,2,  -999.0,9, -999.00,9,-999.0000,9,  -999.00,   2.6921, -999.00,9,  -999.0,9,  -999.0, -999.00,9,-999.000,9,    38.7,2, -999.00,9,     -999.0,1, -999.00,9, 20160303,     1300, -46.0570,  94.0047,     -999.0,9,     -999.0,9,     -999.0,9,-999.0000,9,-999.0000,9,-999.0000,9,-999.0000,9,-999.0000,9,-999.0000,9,-999.0000,9,     -999.0,9,     -999.0,9,     -999.0,9,     -999.0,9,     -999.0,9
33RR20160208,       I08S,      50,          1,         14,         14,2,20160303,       1212,   -46.0569,    94.0047,       3271,  1299.5,   2.7455,  34.5628,2,  34.5601,2,    175.7,2,   175.8,2,    66.1,2,    0.00,2,   33.58,2,    0.00,2,    2.31,2,   0.630,2,   0.330,2,   0.032,2,         0.117,2,  -999.0,9, -999.00,9,-999.0000,9,     9.00,   2.7458, -999.00,9,  -999.0,9,  -999.0, -999.00,9,-999.000,9,    39.0,2, -999.00,9,     -999.0,1, -999.00,9, 20160303,     1303, -46.0570,  94.0047,     -999.0,9,     -999.0,9,     -999.0,9,-999.0000,9,-999.0000,9,-999.0000,9,-999.0000,9,-999.0000,9,-999.0000,9,-999.0000,9,     -999.0,9,     -999.0,9,     -999.0,9,     -999.0,9,     -999.0,9
33RR20160208,       I08S,      50,          1,         15,         15,2,20160303,       1212,   -46.0569,    94.0047,       3271,  1198.5,   2.8453,  34.5159,2,  34.5150,2,    177.1,2,   177.1,2,    62.7,2,    0.00,2,   33.90,2,    0.00,2,    2.35,2,   0.833,2,   0.423,2,   0.047,2,         0.208,2,  2240.7,2, 2327.43,2,   7.5592,6,    24.98,   2.8527, -999.00,9,  -999.0,9,  -999.0, -999.00,9,-999.000,9,    38.5,2, -999.00,9,     -999.0,1, -999.00,9, 20160303,     1306, -46.0570,  94.0047,     -999.0,9,     -999.0,9,     -999.0,9,-999.0000,9,-999.0000,9,-999.0000,9,-999.0000,9,-999.0000,9,-999.0000,9,-999.0000,9,     -999.0,9,     -999.0,9,     -999.0,9,     -999.0,9,     -999.0,9
33RR20160208,       I08S,      50,          1,         16,         16,2,20160303,       1212,   -46.0569,    94.0047,       3271,  1101.0,   3.0049,  34.4675,2,  34.4659,2,    180.4,2,   180.8,2,    57.8,2,    0.00,2,   33.86,2,    0.00,2,    2.35,2,   1.110,2,   0.549,2,   0.065,2,         0.242,2,  -999.0,9, -999.00,9,-999.0000,9,  -999.00,   3.0051, -999.00,9,  -999.0,9,  -999.0, -999.00,9,-999.000,9,    39.4,2, -999.00,9,     -999.0,1, -999.00,9, 20160303,     1309, -46.0570,  94.0047,     -999.0,9,     -999.0,9,     -999.0,9,-999.0000,9,-999.0000,9,-999.0000,9,-999.0000,9,-999.0000,9,-999.0000,9,-999.0000,9,     -999.0,9,     -999.0,9,     -999.0,9,     -999.0,9,     -999.0,9
33RR20160208,       I08S,      50,          1,         17,         17,2,20160303,       1212,   -46.0569,    94.0047,       3271,  1000.7,   3.1327,  34.4174,2,  34.4164,2,    187.7,2,   186.3,2,    52.5,2,    0.00,2,   33.58,2,    0.00,2,    2.32,2,   1.459,2,   0.715,2,   0.092,2,         0.325,2,  2228.2,2, 2316.66,2,   7.5643,2,    25.02,   3.1328, -999.00,9,  -999.0,9,  -999.0, -999.00,9,-999.000,9,    40.8,2, -999.00,9,     -999.0,1, -999.00,9, 20160303,     1312, -46.0570,  94.0047,     -999.0,9,     -999.0,9,     -999.0,9,-999.0000,9,-999.0000,9,-999.0000,9,-999.0000,9,-999.0000,9,-999.0000,9,-999.0000,9,     -999.0,9,     -999.0,9,     -999.0,9,     -999.0,9,     -999.0,9
33RR20160208,       I08S,      50,          1,         18,         37,2,20160303,       1212,   -46.0569,    94.0047,       3271,   900.9,   3.2349,  34.3521,2,  34.3513,2,    198.4,2,   197.6,2,    45.1,2,    0.00,2,   33.02,2,    0.00,2,    2.27,2,   1.964,6,   0.979,6,   0.134,6,         0.548,6,  2220.2,2, 2308.47,2,   7.5741,2,    24.99,   3.2347, -999.00,9,  -999.0,9,  -999.0, -999.00,9,-999.000,9,    39.0,2, -999.00,9,     -999.0,1, -999.00,9, 20160303,     1315, -46.0570,  94.0047,     -999.0,9,     -999.0,9,     -999.0,9,-999.0000,9,-999.0000,9,-999.0000,9,-999.0000,9,-999.0000,9,-999.0000,9,-999.0000,9,     -999.0,9,     -999.0,9,     -999.0,9,     -999.0,9,     -999.0,9
33RR20160208,       I08S,      50,          1,         19,         19,2,20160303,       1212,   -46.0569,    94.0047,       3271,   800.2,   3.6745,  34.3261,2,  34.3256,2,    207.8,2,   206.0,2,    37.6,2,    0.00,2,   31.85,2,    0.00,2,    2.19,2,   1.145,2,   1.145,2,   0.156,2,         0.653,2,  2206.6,2, 2303.01,2,   7.5928,2,    24.99,   3.6729, -999.00,9,  -999.0,9,  -999.0, -999.00,9,-999.000,9,    38.4,2, -999.00,9,     -999.0,1, -999.00,9, 20160303,     1317, -46.0570,  94.0047,     -999.0,9,     -999.0,9,     -999.0,9,-999.0000,9,-999.0000,9,-999.0000,9,-999.0000,9,-999.0000,9,-999.0000,9,-999.0000,9,     -999.0,9,     -999.0,9,     -999.0,9,     -999.0,9,     -999.0,9
33RR20160208,       I08S,      50,          1,         20,         20,2,20160303,       1212,   -46.0569,    94.0047,       3271,   699.7,   3.9920,  34.2883,2,  34.2864,2,    215.4,2,   217.1,2,    30.4,2,    0.00,2,   30.68,2,    0.00,2,    2.09,2,   1.403,2,   1.403,2,   0.190,2,         0.851,2,  2195.6,2, 2295.93,2,   7.6089,2,    24.99,   3.9962, -999.00,9,  -999.0,9,  -999.0, -999.00,9,-999.000,9,    39.6,2, -999.00,9,     -999.0,1, -999.00,9, 20160303,     1320, -46.0570,  94.0047,     -999.0,9,     -999.0,9,     -999.0,9,-999.0000,9,-999.0000,9,-999.0000,9,-999.0000,9,-999.0000,9,-999.0000,9,-999.0000,9,     -999.0,9,     -999.0,9,     -999.0,9,     -999.0,9,     -999.0,9
33RR20160208,       I08S,      50,          1,         21,         21,2,20160303,       1212,   -46.0569,    94.0047,       3271,   599.7,   4.7247,  34.3015,2,  34.2994,2,    220.0,2,   220.3,2,    23.8,2,    0.00,2,   29.07,2,    0.00,2,    1.98,2,   1.534,2,   1.534,2,   0.202,2,         0.895,2,  2185.7,2, 2291.45,2,   7.6283,2,    24.99,   4.7249, -999.00,9,  -999.0,9,  -999.0, -999.00,9,-999.000,9,    40.4,2, -999.00,9,     -999.0,1, -999.00,9, 20160303,     1323, -46.0570,  94.0047,     -999.0,9,     -999.0,9,     -999.0,9,-999.0000,9,-999.0000,9,-999.0000,9,-999.0000,9,-999.0000,9,-999.0000,9,-999.0000,9,     -999.0,9,     -999.0,9,     -999.0,9,     -999.0,9,     -999.0,9
33RR20160208,       I08S,      50,          1,         22,         22,2,20160303,       1212,   -46.0569,    94.0047,       3271,   499.7,   5.3737,  34.2955,2,  34.2941,2,    233.5,2,   226.7,2,    18.4,2,    0.00,2,   27.15,2,    0.00,2,    1.86,2,   1.756,2,   1.756,2,   0.229,2,         1.294,2,  2174.6,2, 2286.51,2,   7.6457,2,    25.00,   5.3726, -999.00,9,  -999.0,9,  -999.0, -999.00,9,-999.000,9,    41.8,2, -999.00,9,     -999.0,1, -999.00,9, 20160303,     1326, -46.0571,  94.0047,     -999.0,9,     -999.0,9,     -999.0,9,-999.0000,9,-999.0000,9,-999.0000,9,-999.0000,9,-999.0000,9,-999.0000,9,-999.0000,9,     -999.0,9,     -999.0,9,     -999.0,9,     -999.0,9,     -999.0,9
33RR20160208,       I08S,      50,          1,         23,         23,2,20160303,       1212,   -46.0569,    94.0047,       3271,   450.5,   5.8899,  34.3248,2,  34.3196,2,    228.4,2,   226.6,2,    16.2,2,    0.00,2,   26.14,2,    0.00,2,    1.79,2,-999.000,9,-999.000,9,-999.000,9,-999.000000000,9,  -999.0,9, -999.00,9,-999.0000,9,     9.00,   5.8871, -999.00,9,  -999.0,9,  -999.0, -999.00,9,-999.000,9,    42.4,2, -999.00,9,     -999.0,1, -999.00,9, 20160303,     1328, -46.0571,  94.0047,     -999.0,9,     -999.0,9,     -999.0,9,-999.0000,9,-999.0000,9,-999.0000,9,-999.0000,9,-999.0000,9,-999.0000,9,-999.0000,9,     -999.0,9,     -999.0,9,     -999.0,9,     -999.0,9,     -999.0,9
33RR20160208,       I08S,      50,          1,         24,         24,2,20160303,       1212,   -46.0569,    94.0047,       3271,   400.9,   6.0883,  34.3002,2,  34.2957,2,    237.1,2,   235.2,2,    13.4,2,    0.00,2,   24.99,2,    0.00,2,    1.72,2,   1.892,2,   1.892,2,   0.238,2,         1.544,2,  2165.1,2, 2284.34,2,   7.6700,6,    25.00,   6.0937, -999.00,9,  -999.0,9,  -999.0, -999.00,9,-999.000,9,    42.2,2, -999.00,9,     -999.0,1, -999.00,9, 20160303,     1330, -46.0571,  94.0047,     -999.0,9,     -999.0,9,     -999.0,9,-999.0000,9,-999.0000,9,-999.0000,9,-999.0000,9,-999.0000,9,-999.0000,9,-999.0000,9,     -999.0,9,     -999.0,9,     -999.0,9,     -999.0,9,     -999.0,9
33RR20160208,       I08S,      50,          1,         25,         25,2,20160303,       1212,   -46.0569,    94.0047,       3271,   350.8,   6.0183,  34.2209,2,  34.2214,2,    255.6,2,   254.2,2,    10.2,2,    0.00,2,   23.51,2,    0.00,2,    1.61,2,-999.000,9,-999.000,9,-999.000,9,-999.000000000,9,  -999.0,9, -999.00,9,-999.0000,9,  -999.00,   6.0173, -999.00,9,  -999.0,9,  -999.0, -999.00,9,-999.000,9,    41.4,2, -999.00,9,     -999.0,1, -999.00,9, 20160303,     1332, -46.0570,  94.0047,     -999.0,9,     -999.0,9,     -999.0,9,-999.0000,9,-999.0000,9,-999.0000,9,-999.0000,9,-999.0000,9,-999.0000,9,-999.0000,9,     -999.0,9,     -999.0,9,     -999.0,9,     -999.0,9,     -999.0,9
33RR20160208,       I08S,      50,          1,         26,         26,2,20160303,       1212,   -46.0569,    94.0047,       3271,   301.8,   6.7890,  34.3008,2,  34.2983,2,    251.6,2,   253.3,2,     8.4,2,    0.00,2,   21.68,2,    0.00,2,    1.50,2,   1.995,2,   1.995,2,   0.262,2,          1.91,2,  2147.2,2, 2283.81,2,   7.7131,2,    25.00,   6.7886, -999.00,9,  -999.0,9,  -999.0, -999.00,9,-999.000,9,    43.4,2,   24.80,2,     -999.0,1, -999.00,9, 20160303,     1334, -46.0569,  94.0047,     -999.0,9,     -999.0,9,     -999.0,9,-999.0000,9,-999.0000,9,-999.0000,9,-999.0000,9,-999.0000,9,-999.0000,9,-999.0000,9,     -999.0,9,     -999.0,9,     -999.0,9,     -999.0,9,     -999.0,9
33RR20160208,       I08S,      50,          1,         27,         27,2,20160303,       1212,   -46.0569,    94.0047,       3271,   250.3,   6.9764,  34.2835,2,  34.2789,2,    267.9,2,   268.3,2,     6.2,2,    0.00,2,   19.90,2,    0.00,2,    1.37,2,-999.000,9,-999.000,9,-999.000,9,-999.000000000,9,  -999.0,9, -999.00,9,-999.0000,9,  -999.00,   6.9819, -999.00,9,  -999.0,9,  -999.0, -999.00,9,-999.000,9,    43.4,2,   22.60,2,     -999.0,1, -999.00,9, 20160303,     1337, -46.0570,  94.0047,     -999.0,9,     -999.0,9,     -999.0,9,-999.0000,9,-999.0000,9,-999.0000,9,-999.0000,9,-999.0000,9,-999.0000,9,-999.0000,9,     -999.0,9,     -999.0,9,     -999.0,9,     -999.0,9,     -999.0,9