BOTTLE,20220706CCHSIOAMB
EXPOCODE,SECT_ID,STNNBR,CASTNO,SAMPNO,BTLNBR,BTLNBR_FLAG_W,DATE,TIME,LATITUDE,LONGITUDE,DEPTH,CTDPRS,CTDTMP,CTDSAL,CTDSAL_FLAG_W,SALNTY,SALNTY_FLAG_W,CTDOXY,CTDOXY_FLAG_W,OXYGEN,OXYGEN_FLAG_W,SILCAT,SILCAT_FLAG_W,NH4,NH4_FLAG_W,NITRAT,NITRAT_FLAG_W,NITRIT,NITRIT_FLAG_W,PHSPHT,PHSPHT_FLAG_W,CFC-11,CFC-11_FLAG_W,CFC-12,CFC-12_FLAG_W,CFC113,CFC113_FLAG_W,SF6,SF6_FLAG_W,TCARBN,TCARBN_FLAG_W,ALKALI,ALKALI_FLAG_W,PH_TOT,PH_TOT_FLAG_W,PH_TMP,REFTMP,DELC13,DELC13_FLAG_W,DELC14,DELC14_FLAG_W,C14ERR,DELO18,DELO18_FLAG_W,POC,POC_FLAG_W,DOC,DOC_FLAG_W,TDN,TDN_FLAG_W,TON,TON_FLAG_W,D15N_NO3,D15N_NO3_FLAG_W,BTL_DATE,BTL_TIME,BTL_LAT,BTL_LON,14C-DOC,14C-DOC_FLAG_W,CHLORA,CHLORA_FLAG_W,HPLC,HPLC_FLAG_W,CDOM325,CDOM325_FLAG_W,CDOM340,CDOM340_FLAG_W,CDOM380,CDOM380_FLAG_W,CDOM412,CDOM412_FLAG_W,CDOM443,CDOM443_FLAG_W,CDOM490,CDOM490_FLAG_W,CDOM555,CDOM555_FLAG_W,CDOMSL,CDOMSL_FLAG_W,CDOMSN,CDOMSN_FLAG_W,D18O_NO3,D18O_NO3_FLAG_W,D15N_NO2+NO3,D15N_NO2+NO3_FLAG_W,D18O_NO2+NO3,D18O_NO2+NO3_FLAG_W
,,,,,,,,,,,METERS,DBAR,ITS-90,PSS-78,,PSS-78,,UMOL/KG,,UMOL/KG,,UMOL/KG,,UMOL/KG,,UMOL/KG,,UMOL/KG,,UMOL/KG,,PMOL/KG,,PMOL/KG,,PMOL/KG,,FMOL/KG,,UMOL/KG,,UMOL/KG,,,,DEG C,DEG C,/MILLE,,/MILLE,,/MILLE,/MILLE,,UG/KG,,UMOL/KG,,UMOL/KG,,UMOL/KG,,/MILLE,,,,,,/MILLE,,MG/M3,,,,1/M,,1/M,,1/M,,1/M,,1/M,,1/M,,1/M,,1/NM,,1/NM,,/MILLE,,/MILLE,,/MILLE,
33RR20160208,       I08S,      43,          1,         28,         28,2,20160301,       1634,   -49.5429,    90.7469,       3868,   234.8,   6.1164,  34.1365,2,  34.1371,2,    265.9,2,   266.2,2,     7.5,2,    0.00,2,   22.63,2,    0.00,2,    1.56,2,   3.908,2,   2.235,2,   0.303,2,          2.01,2,  -999.0,9, -999.00,9,-999.0000,9,  -999.00,   6.1154, -999.00,9,  -999.0,9,  -999.0, -999.00,1,-999.000,9,  -999.0,9, -999.00,9,     -999.0,9,    5.79,2, 20160301,     1806, -49.5429,  90.7470,     -999.0,9,     -999.0,9,     -999.0,9,-999.0000,9,-999.0000,9,-999.0000,9,-999.0000,9,-999.0000,9,-999.0000,9,-999.0000,9,     -999.0,9,     -999.0,9,       3.18,2,       5.79,2,       3.18,2
33RR20160208,       I08S,      43,          1,         29,         29,2,20160301,       1634,   -49.5429,    90.7469,       3868,   185.5,   6.4349,  34.1026,2,  34.1015,2,    272.2,2,   271.3,2,     5.8,2,    0.00,2,   21.72,2,    0.00,2,    1.50,2,   3.956,2,   2.261,2,   0.322,2,         2.212,2,  2141.3,2, 2275.93,2,   7.7216,2,    25.05,   6.4351, -999.00,9,  -999.0,9,  -999.0, -999.00,1,-999.000,9,  -999.0,9, -999.00,9,     -999.0,9,    6.08,2, 20160301,     1808, -49.5429,  90.7469,     -999.0,9,     -999.0,9,     -999.0,9,-999.0000,9,-999.0000,9,-999.0000,9,-999.0000,9,-999.0000,9,-999.0000,9,-999.0000,9,     -999.0,9,     -999.0,9,       3.63,2,       6.08,2,       3.63,2
33RR20160208,       I08S,      43,          1,         30,         30,2,20160301,       1634,   -49.5429,    90.7469,       3868,   138.4,   6.1310,  33.8480,2,  33.8455,2,    295.7,2,   294.1,2,     2.7,2,    0.70,2,   20.52,2,    0.29,2,    1.47,2,   4.122,2,   2.355,2,   0.388,2,         2.424,2,  2128.7,2, 2275.46,2,   7.7516,2,    25.04,   6.1012, -999.00,9,  -999.0,9,  -999.0, -999.00,1,-999.000,9,  -999.0,9, -999.00,9,     -999.0,9,    7.21,2, 20160301,     1811, -49.5429,  90.7470,     -999.0,9,     -999.0,9,     -999.0,9,-999.0000,9,-999.0000,9,-999.0000,9,-999.0000,9,-999.0000,9,-999.0000,9,-999.0000,9,     -999.0,9,     -999.0,9,       4.45,2,       6.74,2,        4.5,2
33RR20160208,       I08S,      43,          1,         31,         31,2,20160301,       1634,   -49.5429,    90.7469,       3868,   114.6,   6.4374,  33.7704,2,  33.7726,2,    299.2,2,   298.5,2,     1.9,2,    0.91,2,   19.64,2,    0.27,2,    1.42,2,   4.033,2,   2.312,2,   0.386,2,         2.356,2,  2120.6,2, 2273.75,2,   7.7694,6,    25.05,   6.4424, -999.00,9,  -999.0,9,  -999.0, -999.00,1,-999.000,9,  -999.0,9, -999.00,9,     -999.0,9,    8.24,2, 20160301,     1813, -49.5429,  90.7470,     -999.0,9,     -999.0,9,     -999.0,9,-999.0000,9,-999.0000,9,-999.0000,9,-999.0000,9,-999.0000,9,-999.0000,9,-999.0000,9,     -999.0,9,     -999.0,9,       4.73,2,       7.48,2,       5.02,2
33RR20160208,       I08S,      43,          1,         32,         32,2,20160301,       1634,   -49.5429,    90.7469,       3868,    90.6,   6.6212,  33.7738,2,  33.7747,2,    296.4,2,   299.0,2,     1.8,2,    0.71,2,   19.58,2,    0.26,2,    1.40,2,   3.965,2,   2.276,2,   0.379,2,         2.288,2,  2118.9,2, 2273.18,2,   7.7734,2,    25.05,   6.6216, -999.00,9,  -999.0,9,  -999.0, -999.00,1,-999.000,9,  -999.0,9, -999.00,9,     -999.0,9,    8.21,2, 20160301,     1814, -49.5429,  90.7470,     -999.0,9,     -999.0,9,     -999.0,9,-999.0000,9,-999.0000,9,-999.0000,9,-999.0000,9,-999.0000,9,-999.0000,9,-999.0000,9,     -999.0,9,     -999.0,9,       4.91,2,       7.56,2,       5.01,2
33RR20160208,       I08S,      43,          1,         33,         33,2,20160301,       1634,   -49.5429,    90.7469,       3868,    66.0,   6.7499,  33.7866,2,  33.7874,2,    297.4,2,   297.9,2,     1.7,2,    0.58,2,   19.43,2,    0.26,2,    1.38,2,-999.000,9,-999.000,9,-999.000,9,-999.000000000,9,  -999.0,9, -999.00,9,-999.0000,9,  -999.00,   6.7495, -999.00,9,  -999.0,9,  -999.0, -999.00,1,-999.000,9,  -999.0,9, -999.00,9,     -999.0,9,    8.31,2, 20160301,     1817, -49.5429,  90.7470,     -999.0,9,     -999.0,9,     -999.0,9,-999.0000,9,-999.0000,9,-999.0000,9,-999.0000,9,-999.0000,9,-999.0000,9,-999.0000,9,     -999.0,9,     -999.0,9,       5.01,2,       7.57,2,        5.2,2
33RR20160208,       I08S,      43,          1,         34,         34,2,20160301,       1634,   -49.5429,    90.7469,       3868,    41.1,   6.8542,  33.7907,2,  33.7910,2,    298.4,2,   298.3,2,     1.8,2,    0.55,2,   19.19,2,    0.26,2,    1.37,2,   3.936,2,   2.228,2,   0.378,2,          2.05,2,  2114.2,2, 2274.09,2,   7.7785,6,    25.06,   6.8543, -999.00,9,  -999.0,9,  -999.0, -999.00,1,-999.000,9,  -999.0,9, -999.00,9,     -999.0,9,    8.41,2, 20160301,     1819, -49.5429,  90.7470,     -999.0,9,     -999.0,9,     -999.0,9,-999.0000,9,-999.0000,9,-999.0000,9,-999.0000,9,-999.0000,9,-999.0000,9,-999.0000,9,     -999.0,9,     -999.0,9,       4.88,2,       7.46,2,        5.0,2
33RR20160208,       I08S,      43,          1,         35,         35,2,20160301,       1634,   -49.5429,    90.7469,       3868,    19.6,   6.8516,  33.7909,2,  33.7911,2,    298.2,2,   298.6,2,     1.8,2,    0.55,2,   19.17,2,    0.26,2,    1.38,2,   3.939,2,   2.251,2,   0.367,2,         2.343,2,  2116.2,2, 2273.35,2,   7.7775,2,    25.05,   6.8522, -999.00,9,  -999.0,9,  -999.0, -999.00,1,-999.000,9,  -999.0,9, -999.00,9,     -999.0,9,    8.39,2, 20160301,     1821, -49.5429,  90.7470,     -999.0,9,     -999.0,9,     -999.0,9,-999.0000,9,-999.0000,9,-999.0000,9,-999.0000,9,-999.0000,9,-999.0000,9,-999.0000,9,     -999.0,9,     -999.0,9,       4.95,2,       7.53,2,       5.02,2
33RR20160208,       I08S,      43,          1,         36,         36,2,20160301,       1634,   -49.5429,    90.7469,       3868,     7.0,   6.8489,  33.7908,2,  33.7909,2,    296.5,2,   298.4,2,     1.9,2,    0.55,2,   19.09,2,    0.26,2,    1.37,2,   3.969,2,   2.251,2,   0.362,2,         2.257,2,  2116.0,6, 2275.73,2,   7.7787,2,    25.07,   6.8479, -999.00,9,  -999.0,9,  -999.0, -999.00,1,-999.000,9,  -999.0,9, -999.00,9,     -999.0,9,    8.43,2, 20160301,     1823, -49.5429,  90.7470,     -999.0,9,     -999.0,9,     -999.0,9,-999.0000,9,-999.0000,9,-999.0000,9,-999.0000,9,-999.0000,9,-999.0000,9,-999.0000,9,     -999.0,9,     -999.0,9,       4.81,2,       7.45,2,        4.9,2