BOTTLE,20220706CCHSIOAMB
EXPOCODE,SECT_ID,STNNBR,CASTNO,SAMPNO,BTLNBR,BTLNBR_FLAG_W,DATE,TIME,LATITUDE,LONGITUDE,DEPTH,CTDPRS,CTDTMP,CTDSAL,CTDSAL_FLAG_W,SALNTY,SALNTY_FLAG_W,CTDOXY,CTDOXY_FLAG_W,OXYGEN,OXYGEN_FLAG_W,SILCAT,SILCAT_FLAG_W,NH4,NH4_FLAG_W,NITRAT,NITRAT_FLAG_W,NITRIT,NITRIT_FLAG_W,PHSPHT,PHSPHT_FLAG_W,CFC-11,CFC-11_FLAG_W,CFC-12,CFC-12_FLAG_W,CFC113,CFC113_FLAG_W,SF6,SF6_FLAG_W,TCARBN,TCARBN_FLAG_W,ALKALI,ALKALI_FLAG_W,PH_TOT,PH_TOT_FLAG_W,PH_TMP,REFTMP,DELC13,DELC13_FLAG_W,DELC14,DELC14_FLAG_W,C14ERR,DELO18,DELO18_FLAG_W,POC,POC_FLAG_W,DOC,DOC_FLAG_W,TDN,TDN_FLAG_W,TON,TON_FLAG_W,D15N_NO3,D15N_NO3_FLAG_W,BTL_DATE,BTL_TIME,BTL_LAT,BTL_LON,14C-DOC,14C-DOC_FLAG_W,CHLORA,CHLORA_FLAG_W,HPLC,HPLC_FLAG_W,CDOM325,CDOM325_FLAG_W,CDOM340,CDOM340_FLAG_W,CDOM380,CDOM380_FLAG_W,CDOM412,CDOM412_FLAG_W,CDOM443,CDOM443_FLAG_W,CDOM490,CDOM490_FLAG_W,CDOM555,CDOM555_FLAG_W,CDOMSL,CDOMSL_FLAG_W,CDOMSN,CDOMSN_FLAG_W,D18O_NO3,D18O_NO3_FLAG_W,D15N_NO2+NO3,D15N_NO2+NO3_FLAG_W,D18O_NO2+NO3,D18O_NO2+NO3_FLAG_W
,,,,,,,,,,,METERS,DBAR,ITS-90,PSS-78,,PSS-78,,UMOL/KG,,UMOL/KG,,UMOL/KG,,UMOL/KG,,UMOL/KG,,UMOL/KG,,UMOL/KG,,PMOL/KG,,PMOL/KG,,PMOL/KG,,FMOL/KG,,UMOL/KG,,UMOL/KG,,,,DEG C,DEG C,/MILLE,,/MILLE,,/MILLE,/MILLE,,UG/KG,,UMOL/KG,,UMOL/KG,,UMOL/KG,,/MILLE,,,,,,/MILLE,,MG/M3,,,,1/M,,1/M,,1/M,,1/M,,1/M,,1/M,,1/M,,1/NM,,1/NM,,/MILLE,,/MILLE,,/MILLE,
33RR20160208,       I08S,      52,          1,          1,          1,2,20160304,       0040,   -44.9920,    95.0002,       2903,  2931.0,   1.4245,  34.7342,2,  34.7357,2,    203.7,2,   202.7,2,   104.0,2,    0.03,2,   31.05,2,    0.00,2,    2.12,2,   0.164,2,   0.094,2,   0.004,2,   0.079606448,2,  2256.5,6, 2361.24,2,   7.6151,2,    25.00,   1.4241,    0.59,2,  -165.9,2,     1.8, -999.00,1,-999.000,9,    38.4,2, -999.00,9,     -999.0,1, -999.00,9, 20160304,       40, -44.9920,  95.0002,     -999.0,9,     -999.0,9,     -999.0,9,-999.0000,9,-999.0000,9,-999.0000,9,-999.0000,9,-999.0000,9,-999.0000,9,-999.0000,9,     -999.0,9,     -999.0,9,     -999.0,9,     -999.0,9,     -999.0,9
33RR20160208,       I08S,      52,          1,          2,          2,2,20160304,       0040,   -44.9920,    95.0002,       2903,  2736.2,   1.5129,  34.7387,2,  34.7390,2,    201.9,2,   202.1,2,   101.0,2,    0.00,2,   30.84,2,    0.00,2,    2.12,2,-999.000,9,-999.000,9,-999.000,9,-999.000000000,9,  -999.0,9, -999.00,9,-999.0000,9,  -999.00,   1.5128,    0.61,2,  -155.1,2,     2.0, -999.00,1,-999.000,9,    38.8,2, -999.00,9,     -999.0,1, -999.00,9, 20160304,       44, -44.9920,  95.0002,     -999.0,9,     -999.0,9,     -999.0,9,-999.0000,9,-999.0000,9,-999.0000,9,-999.0000,9,-999.0000,9,-999.0000,9,-999.0000,9,     -999.0,9,     -999.0,9,     -999.0,9,     -999.0,9,     -999.0,9
33RR20160208,       I08S,      52,          1,          3,          3,2,20160304,       0040,   -44.9920,    95.0002,       2903,  2535.1,   1.7688,  34.7491,2,  34.7488,2,    199.9,2,   200.2,2,    70.8,4,    0.06,4,   32.38,4,    0.00,4,    2.21,4,   0.100,2,   0.054,2,   0.000,2,   0.020153531,2,  2251.0,2, 2357.69,6,   7.6202,2,    25.01,   1.7685,    0.61,2,  -157.3,2,     2.0, -999.00,1,-999.000,9,    38.7,2, -999.00,9,     -999.0,1, -999.00,9, 20160304,       48, -44.9920,  95.0002,     -999.0,9,     -999.0,9,     -999.0,9,-999.0000,9,-999.0000,9,-999.0000,9,-999.0000,9,-999.0000,9,-999.0000,9,-999.0000,9,     -999.0,9,     -999.0,9,     -999.0,9,     -999.0,9,     -999.0,9
33RR20160208,       I08S,      52,          1,          4,          4,2,20160304,       0040,   -44.9920,    95.0002,       2903,  2331.4,   2.0008,  34.7552,2,  34.7557,2,    198.5,2,   198.7,2,    68.9,4,    0.00,4,   32.88,4,    0.00,4,    2.25,4,-999.000,9,-999.000,9,-999.000,9,-999.000000000,9,  -999.0,9, -999.00,9,-999.0000,9,     9.00,   2.0012,    0.63,2,  -152.6,2,     1.7, -999.00,1,-999.000,9,    38.7,2, -999.00,9,     -999.0,1, -999.00,9, 20160304,       53, -44.9920,  95.0002,     -999.0,9,     -999.0,9,     -999.0,9,-999.0000,9,-999.0000,9,-999.0000,9,-999.0000,9,-999.0000,9,-999.0000,9,-999.0000,9,     -999.0,9,     -999.0,9,     -999.0,9,     -999.0,9,     -999.0,9
33RR20160208,       I08S,      52,          1,          5,          5,2,20160304,       0040,   -44.9920,    95.0002,       2903,  2131.6,   2.1902,  34.7497,2,  34.7502,2,    195.0,2,   196.6,2,    78.8,2,    0.00,2,   29.95,2,    0.00,2,    2.05,2,   0.134,2,   0.074,2,   0.001,2,   0.018138178,2,  2241.7,2, 2348.79,2,   7.6164,6,    25.00,   2.1907,    0.59,2,  -145.5,2,     2.6, -999.00,1,-999.000,9,    39.6,2, -999.00,9,     -999.0,1, -999.00,9, 20160304,       58, -44.9920,  95.0002,     -999.0,9,     -999.0,9,     -999.0,9,-999.0000,9,-999.0000,9,-999.0000,9,-999.0000,9,-999.0000,9,-999.0000,9,-999.0000,9,     -999.0,9,     -999.0,9,     -999.0,9,     -999.0,9,     -999.0,9
33RR20160208,       I08S,      52,          1,          6,         38,2,20160304,       0040,   -44.9920,    95.0002,       2903,  1932.2,   2.3522,  34.7282,2,  34.7288,2,    189.9,2,   190.6,2,    75.1,2,    0.00,2,   30.55,2,    0.00,2,    2.08,2,   0.182,6,   0.095,6,   0.004,6,   0.066002815,6,  -999.0,9, -999.00,9,-999.0000,9,  -999.00,   2.3520,    0.62,2,  -146.1,2,     2.3, -999.00,1,-999.000,9,    38.2,2, -999.00,9,     -999.0,1, -999.00,9, 20160304,      103, -44.9920,  95.0002,     -999.0,9,     -999.0,9,     -999.0,9,-999.0000,9,-999.0000,9,-999.0000,9,-999.0000,9,-999.0000,9,-999.0000,9,-999.0000,9,     -999.0,9,     -999.0,9,     -999.0,9,     -999.0,9,     -999.0,9
33RR20160208,       I08S,      52,          1,          7,          7,2,20160304,       0040,   -44.9920,    95.0002,       2903,  1764.2,   2.4810,  34.6989,2,  34.6999,2,    184.9,2,   185.8,2,    72.6,2,    0.00,2,   31.22,2,    0.00,2,    2.13,2,   0.222,2,   0.119,2,   0.005,2,   0.063483623,2,  2242.9,2, 2341.16,2,   7.5949,2,    25.01,   2.4806,    0.60,2,  -142.8,2,     1.7, -999.00,1,-999.000,9,    37.9,2, -999.00,9,     -999.0,1, -999.00,9, 20160304,      106, -44.9920,  95.0002,     -999.0,9,     -999.0,9,     -999.0,9,-999.0000,9,-999.0000,9,-999.0000,9,-999.0000,9,-999.0000,9,-999.0000,9,-999.0000,9,     -999.0,9,     -999.0,9,     -999.0,9,     -999.0,9,     -999.0,9
33RR20160208,       I08S,      52,          1,          8,          8,2,20160304,       0040,   -44.9920,    95.0002,       2903,  1662.5,   2.5446,  34.6721,2,  34.6712,2,    181.6,2,   181.8,2,    71.2,2,    0.00,2,   31.84,2,    0.00,2,    2.18,2,   0.283,2,   0.150,2,   0.009,2,   0.065498976,2,  -999.0,9, -999.00,9,-999.0000,9,  -999.00,   2.5441,    0.57,2,  -139.8,2,     2.0, -999.00,1,-999.000,9,    38.7,2, -999.00,9,     -999.0,1, -999.00,9, 20160304,      109, -44.9920,  95.0002,     -999.0,9,     -999.0,9,     -999.0,9,-999.0000,9,-999.0000,9,-999.0000,9,-999.0000,9,-999.0000,9,-999.0000,9,-999.0000,9,     -999.0,9,     -999.0,9,     -999.0,9,     -999.0,9,     -999.0,9
33RR20160208,       I08S,      52,          1,          9,          9,2,20160304,       0040,   -44.9920,    95.0002,       2903,  1565.6,   2.6103,  34.6463,2,  34.6466,2,    178.4,2,   178.7,2,    70.6,2,    0.00,2,   32.39,2,    0.00,2,    2.22,2,   0.312,2,   0.164,2,   0.010,2,   0.086660184,2,  2246.1,2, 2338.68,2,   7.5789,2,    25.01,   2.6105,    0.60,2,  -138.1,2,     2.1, -999.00,1,-999.000,9,    38.2,2, -999.00,9,     -999.0,1, -999.00,9, 20160304,      112, -44.9920,  95.0002,     -999.0,9,     -999.0,9,     -999.0,9,-999.0000,9,-999.0000,9,-999.0000,9,-999.0000,9,-999.0000,9,-999.0000,9,-999.0000,9,     -999.0,9,     -999.0,9,     -999.0,9,     -999.0,9,     -999.0,9
33RR20160208,       I08S,      52,          1,         10,         10,2,20160304,       0040,   -44.9920,    95.0002,       2903,  1469.2,   2.6870,  34.6123,2,  34.6126,2,    176.9,2,   176.8,2,    68.8,2,    0.00,2,   32.85,2,    0.00,2,    2.26,2,   0.428,2,   0.225,2,   0.017,2,   0.102783009,2,  -999.0,9, -999.00,9,-999.0000,9,     9.00,   2.6867,    0.55,2,  -140.8,2,     1.9, -999.00,1,-999.000,9,    37.7,2, -999.00,9,     -999.0,1, -999.00,9, 20160304,      114, -44.9920,  95.0002,     -999.0,9,     -999.0,9,     -999.0,9,-999.0000,9,-999.0000,9,-999.0000,9,-999.0000,9,-999.0000,9,-999.0000,9,-999.0000,9,     -999.0,9,     -999.0,9,     -999.0,9,     -999.0,9,     -999.0,9
33RR20160208,       I08S,      52,          1,         11,         11,2,20160304,       0040,   -44.9920,    95.0002,       2903,  1367.6,   2.7806,  34.5711,2,  34.5714,2,    174.9,2,   175.0,2,    66.9,2,    0.00,2,   33.41,2,    0.00,2,    2.28,2,   0.524,2,   0.268,2,   0.023,2,   0.112859775,2,  2245.5,2, 2332.43,2,   7.5656,6,    25.00,   2.7810,    0.50,2,  -135.9,2,     1.9, -999.00,1,-999.000,9,    37.3,2, -999.00,9,     -999.0,1, -999.00,9, 20160304,      117, -44.9920,  95.0002,     -999.0,9,     -999.0,9,     -999.0,9,-999.0000,9,-999.0000,9,-999.0000,9,-999.0000,9,-999.0000,9,-999.0000,9,-999.0000,9,     -999.0,9,     -999.0,9,     -999.0,9,     -999.0,9,     -999.0,9
33RR20160208,       I08S,      52,          1,         12,         12,2,20160304,       0040,   -44.9920,    95.0002,       2903,  1266.2,   2.9100,  34.5280,2,  34.5280,2,    175.3,2,   175.3,2,    63.8,2,    0.00,2,   33.79,2,    0.00,2,    2.33,2,   0.681,2,   0.345,2,   0.034,2,   0.176343398,2,  2244.8,6, 2328.69,2,   7.5630,2,    24.99,   2.9097,    0.55,2,  -132.8,2,     2.0, -999.00,1,-999.000,9,    37.4,2, -999.00,9,     -999.0,1, -999.00,9, 20160304,      120, -44.9920,  95.0001,     -999.0,9,     -999.0,9,     -999.0,9,-999.0000,9,-999.0000,9,-999.0000,9,-999.0000,9,-999.0000,9,-999.0000,9,-999.0000,9,     -999.0,9,     -999.0,9,     -999.0,9,     -999.0,9,     -999.0,9
33RR20160208,       I08S,      52,          1,         13,         13,2,20160304,       0040,   -44.9920,    95.0002,       2903,  1164.8,   3.0508,  34.4814,2,  34.4820,2,    179.0,2,   179.6,2,    59.0,2,    0.00,2,   33.78,2,    0.00,2,    2.31,2,   0.951,2,   0.467,2,   0.050,2,   0.249903787,2,  2238.8,2, 2323.13,2,   7.5636,2,    24.99,   3.0510,    0.59,2,  -123.7,2,     2.1, -999.00,1,-999.000,9,    38.3,2, -999.00,9,     -999.0,1, -999.00,9, 20160304,      122, -44.9920,  95.0002,     -999.0,9,     -999.0,9,     -999.0,9,-999.0000,9,-999.0000,9,-999.0000,9,-999.0000,9,-999.0000,9,-999.0000,9,-999.0000,9,     -999.0,9,     -999.0,9,     -999.0,9,     -999.0,9,     -999.0,9
33RR20160208,       I08S,      52,          1,         14,         14,2,20160304,       0040,   -44.9920,    95.0002,       2903,  1063.8,   3.2888,  34.4385,2,  34.4371,2,    184.3,2,   184.7,2,    53.1,2,    0.00,2,   33.44,2,    0.00,2,    2.31,2,   1.255,2,   0.611,2,   0.070,2,   0.288195496,2,  2230.4,2, 2318.40,2,   7.5707,2,    24.98,   3.2885,    0.70,2,  -111.7,2,     2.0, -999.00,1,-999.000,9,    38.2,2, -999.00,9,     -999.0,1, -999.00,9, 20160304,      125, -44.9920,  95.0002,     -999.0,9,     -999.0,9,     -999.0,9,-999.0000,9,-999.0000,9,-999.0000,9,-999.0000,9,-999.0000,9,-999.0000,9,-999.0000,9,     -999.0,9,     -999.0,9,     -999.0,9,     -999.0,9,     -999.0,9
33RR20160208,       I08S,      52,          1,         15,         15,2,20160304,       0040,   -44.9920,    95.0002,       2903,   964.1,   3.3796,  34.3714,2,  34.3709,2,    194.4,2,   195.2,2,    45.7,2,    0.00,2,   32.98,2,    0.00,2,    2.26,2,   1.809,2,   0.889,2,   0.113,2,   0.434308598,2,  -999.0,9, -999.00,9,-999.0000,9,  -999.00,   3.3797,    0.71,2,  -100.0,2,     2.3, -999.00,1,-999.000,9,    38.2,2, -999.00,9,     -999.0,1, -999.00,9, 20160304,      128, -44.9919,  95.0002,     -999.0,9,     -999.0,9,     -999.0,9,-999.0000,9,-999.0000,9,-999.0000,9,-999.0000,9,-999.0000,9,-999.0000,9,-999.0000,9,     -999.0,9,     -999.0,9,     -999.0,9,     -999.0,9,     -999.0,9
33RR20160208,       I08S,      52,          1,         16,         16,2,20160304,       0040,   -44.9920,    95.0002,       2903,   867.1,   3.6358,  34.3218,2,  34.3203,2,    205.9,2,   207.2,2,    38.1,2,    0.00,2,   31.94,2,    0.00,2,    2.18,2,   2.267,2,   1.135,2,   0.147,2,   0.580421699,2,  2209.9,2, 2301.72,2,   7.5929,6,    24.99,   3.6316,    0.85,2,   -82.2,2,     2.0, -999.00,1,-999.000,9,    38.4,2, -999.00,9,     -999.0,1, -999.00,9, 20160304,      130, -44.9920,  95.0002,     -999.0,9,     -999.0,9,     -999.0,9,-999.0000,9,-999.0000,9,-999.0000,9,-999.0000,9,-999.0000,9,-999.0000,9,-999.0000,9,     -999.0,9,     -999.0,9,     -999.0,9,     -999.0,9,     -999.0,9
33RR20160208,       I08S,      52,          1,         17,         17,2,20160304,       0040,   -44.9920,    95.0002,       2903,   765.1,   4.0664,  34.2977,2,  34.2974,2,    214.0,2,   215.1,2,    30.9,2,    0.00,2,   30.68,2,    0.00,2,    2.09,2,   2.618,2,   1.318,2,   0.171,2,   0.747696008,2,  -999.0,9, -999.00,9,-999.0000,9,  -999.00,   4.0650,    0.93,2,   -65.3,2,     2.0, -999.00,1,-999.000,9,    39.5,2, -999.00,9,     -999.0,1, -999.00,9, 20160304,      133, -44.9919,  95.0002,     -999.0,9,     -999.0,9,     -999.0,9,-999.0000,9,-999.0000,9,-999.0000,9,-999.0000,9,-999.0000,9,-999.0000,9,-999.0000,9,     -999.0,9,     -999.0,9,     -999.0,9,     -999.0,9,     -999.0,9
33RR20160208,       I08S,      52,          1,         18,         37,2,20160304,       0040,   -44.9920,    95.0002,       2903,   667.1,   4.6631,  34.2918,2,  34.3356,4,    221.2,2,   222.0,2,    23.7,2,    0.00,2,   29.05,2,    0.00,2,    1.97,2,   2.923,2,   1.509,2,   0.195,2,   0.902878199,2,  2185.9,2, 2289.91,2,   7.6289,6,    24.99,   4.6627,    1.00,2,   -48.2,2,     2.2, -999.00,1,-999.000,9,    40.0,2, -999.00,9,     -999.0,1, -999.00,9, 20160304,      136, -44.9920,  95.0002,     -999.0,9,     -999.0,9,     -999.0,9,-999.0000,9,-999.0000,9,-999.0000,9,-999.0000,9,-999.0000,9,-999.0000,9,-999.0000,9,     -999.0,9,     -999.0,9,     -999.0,9,     -999.0,9,     -999.0,9
33RR20160208,       I08S,      52,          1,         19,         19,2,20160304,       0040,   -44.9920,    95.0002,       2903,   567.3,   5.5662,  34.3382,2,  34.3337,2,    219.9,2,   219.5,2,    19.9,2,    0.00,2,   27.39,2,    0.00,2,    1.86,2,   3.054,2,   1.579,2,   0.195,2,    1.01573797,2,  -999.0,9, -999.00,9,-999.0000,9,     9.00,   5.5545,    1.00,2,   -30.9,2,     2.2, -999.00,1,-999.000,9,    44.5,3, -999.00,9,     -999.0,1, -999.00,9, 20160304,      138, -44.9920,  95.0002,     -999.0,9,     -999.0,9,     -999.0,9,-999.0000,9,-999.0000,9,-999.0000,9,-999.0000,9,-999.0000,9,-999.0000,9,-999.0000,9,     -999.0,9,     -999.0,9,     -999.0,9,     -999.0,9,     -999.0,9
33RR20160208,       I08S,      52,          1,         20,         20,2,20160304,       0040,   -44.9920,    95.0002,       2903,   484.0,   6.6954,  34.4144,2,  34.4149,2,    215.0,2,   216.5,2,    15.2,2,    0.00,2,   24.88,2,    0.00,2,    1.68,2,   3.089,2,   1.623,2,   0.171,2,    1.01372262,2,  2168.1,2, 2288.81,2,   7.6700,2,    24.99,   6.6965,    1.03,2,   -12.2,2,     2.0, -999.00,1,-999.000,9,    40.5,2, -999.00,9,     -999.0,1, -999.00,9, 20160304,      141, -44.9920,  95.0002,     -999.0,9,     -999.0,9,     -999.0,9,-999.0000,9,-999.0000,9,-999.0000,9,-999.0000,9,-999.0000,9,-999.0000,9,-999.0000,9,     -999.0,9,     -999.0,9,     -999.0,9,     -999.0,9,     -999.0,9
33RR20160208,       I08S,      52,          1,         21,         21,2,20160304,       0040,   -44.9920,    95.0002,       2903,   435.4,   7.2463,  34.4439,2,  34.4432,2,    216.8,2,   220.2,2,    12.4,2,    0.00,2,   23.29,2,    0.00,2,    1.58,2,-999.000,9,-999.000,9,-999.000,9,-999.000000000,9,  2160.9,2, 2287.85,2,   7.6864,6,    25.00,   7.2305,    1.07,2,    -3.8,2,     2.4, -999.00,1,-999.000,9,    41.3,2, -999.00,9,     -999.0,1, -999.00,9, 20160304,      143, -44.9920,  95.0002,     -999.0,9,     -999.0,9,     -999.0,9,-999.0000,9,-999.0000,9,-999.0000,9,-999.0000,9,-999.0000,9,-999.0000,9,-999.0000,9,     -999.0,9,     -999.0,9,     -999.0,9,     -999.0,9,     -999.0,9
33RR20160208,       I08S,      52,          1,         22,         22,2,20160304,       0040,   -44.9920,    95.0002,       2903,   386.1,   7.4787,  34.4265,2,  34.4343,2,    220.8,2,   229.5,2,    10.0,2,    0.00,2,   21.84,2,    0.00,2,    1.48,2,   3.333,2,   1.793,2,   0.181,2,    1.31199488,2,  2152.8,2, 2286.47,2,   7.7050,2,    25.01,   7.4728,    1.10,2,     2.6,2,     2.6, -999.00,1,-999.000,9,    42.0,2, -999.00,9,     -999.0,1, -999.00,9, 20160304,      145, -44.9920,  95.0002,     -999.0,9,     -999.0,9,     -999.0,9,-999.0000,9,-999.0000,9,-999.0000,9,-999.0000,9,-999.0000,9,-999.0000,9,-999.0000,9,     -999.0,9,     -999.0,9,     -999.0,9,     -999.0,9,     -999.0,9
33RR20160208,       I08S,      52,          1,         23,         23,2,20160304,       0040,   -44.9920,    95.0002,       2903,   335.4,   7.9145,  34.4413,2,  34.4447,2,    232.5,2,   240.8,2,     7.4,2,    0.00,2,   19.80,2,    0.00,2,    1.36,2,-999.000,9,-999.000,9,-999.000,9,-999.000000000,9,  2144.3,2, 2287.33,2,   7.7307,2,    25.00,   7.9057,    1.14,2,     1.2,2,     2.1, -999.00,1,-999.000,9,    42.8,2,   22.40,2,     -999.0,1, -999.00,9, 20160304,      148, -44.9920,  95.0002,     -999.0,9,     -999.0,9,     -999.0,9,-999.0000,9,-999.0000,9,-999.0000,9,-999.0000,9,-999.0000,9,-999.0000,9,-999.0000,9,     -999.0,9,     -999.0,9,     -999.0,9,     -999.0,9,     -999.0,9
33RR20160208,       I08S,      52,          1,         24,         24,2,20160304,       0040,   -44.9920,    95.0002,       2903,   287.2,   8.7061,  34.5356,2,  34.5296,2,    245.6,2,   239.4,3,     6.4,2,    0.00,2,   18.17,2,    0.00,2,    1.26,2,   3.371,2,   1.865,2,   0.183,2,    1.42082395,2,  2138.9,2, 2289.59,2,   7.7486,2,    25.00,   8.7059,    1.07,2,    11.8,2,     2.0, -999.00,1,-999.000,9,    44.0,2,   20.40,2,     -999.0,1, -999.00,9, 20160304,      150, -44.9920,  95.0002,     -999.0,9,     -999.0,9,     -999.0,9,-999.0000,9,-999.0000,9,-999.0000,9,-999.0000,9,-999.0000,9,-999.0000,9,-999.0000,9,     -999.0,9,     -999.0,9,     -999.0,9,     -999.0,9,     -999.0,9
33RR20160208,       I08S,      52,          1,         25,         25,2,20160304,       0040,   -44.9920,    95.0002,       2903,   234.9,   8.7740,  34.4985,2,  34.5005,2,    254.5,2,   256.3,2,     4.7,2,    0.00,2,   16.53,2,    0.00,2,    1.17,2,-999.000,9,-999.000,9,-999.000,9,-999.000000000,9,  2127.1,2, 2287.73,2,   7.7718,2,    24.99,   8.7756, -999.00,5,  -999.0,5,  -999.0, -999.00,1,-999.000,9,    43.4,2,   19.10,2,     -999.0,1, -999.00,9, 20160304,      152, -44.9920,  95.0001,     -999.0,9,     -999.0,9,     -999.0,9,-999.0000,9,-999.0000,9,-999.0000,9,-999.0000,9,-999.0000,9,-999.0000,9,-999.0000,9,     -999.0,9,     -999.0,9,     -999.0,9,     -999.0,9,     -999.0,9
33RR20160208,       I08S,      52,          1,         26,         26,2,20160304,       0040,   -44.9920,    95.0002,       2903,   187.2,   9.0509,  34.5118,2,  34.5135,2,    261.0,2,   257.5,3,     4.1,2,    0.00,2,   15.86,2,    0.00,2,    1.13,2,   3.351,2,   1.887,2,   0.237,2,    1.77250307,2,  2126.0,2, 2287.45,2,   7.7810,2,    24.99,   9.0650,    1.12,2,     2.7,2,     1.9, -999.00,1,-999.000,9,    45.8,2,   18.30,2,     -999.0,1, -999.00,9, 20160304,      154, -44.9920,  95.0002,     -999.0,9,     -999.0,9,     -999.0,9,-999.0000,9,-999.0000,9,-999.0000,9,-999.0000,9,-999.0000,9,-999.0000,9,-999.0000,9,     -999.0,9,     -999.0,9,     -999.0,9,     -999.0,9,     -999.0,9
33RR20160208,       I08S,      52,          1,         27,         27,2,20160304,       0040,   -44.9920,    95.0002,       2903,   139.6,   9.2896,  34.5264,2,  34.5237,2,    264.1,2,   258.5,3,     3.8,2,    0.00,2,   15.32,2,    0.00,2,    1.09,2,-999.000,9,-999.000,9,-999.000,9,-999.000000000,9,  2122.8,2, 2289.12,2,   7.7881,2,    25.00,   9.2902,    1.15,2,     5.6,2,     2.6, -999.00,1,-999.000,9,    45.6,2,   17.30,2,     -999.0,1, -999.00,9, 20160304,      156, -44.9920,  95.0001,     -999.0,9,     -999.0,9,     -999.0,9,-999.0000,9,-999.0000,9,-999.0000,9,-999.0000,9,-999.0000,9,-999.0000,9,-999.0000,9,     -999.0,9,     -999.0,9,     -999.0,9,     -999.0,9,     -999.0,9