BOTTLE,20220706CCHSIOAMB
EXPOCODE,SECT_ID,STNNBR,CASTNO,SAMPNO,BTLNBR,BTLNBR_FLAG_W,DATE,TIME,LATITUDE,LONGITUDE,DEPTH,CTDPRS,CTDTMP,CTDSAL,CTDSAL_FLAG_W,SALNTY,SALNTY_FLAG_W,CTDOXY,CTDOXY_FLAG_W,OXYGEN,OXYGEN_FLAG_W,SILCAT,SILCAT_FLAG_W,NH4,NH4_FLAG_W,NITRAT,NITRAT_FLAG_W,NITRIT,NITRIT_FLAG_W,PHSPHT,PHSPHT_FLAG_W,CFC-11,CFC-11_FLAG_W,CFC-12,CFC-12_FLAG_W,CFC113,CFC113_FLAG_W,SF6,SF6_FLAG_W,TCARBN,TCARBN_FLAG_W,ALKALI,ALKALI_FLAG_W,PH_TOT,PH_TOT_FLAG_W,PH_TMP,REFTMP,DELC13,DELC13_FLAG_W,DELC14,DELC14_FLAG_W,C14ERR,DELO18,DELO18_FLAG_W,POC,POC_FLAG_W,DOC,DOC_FLAG_W,TDN,TDN_FLAG_W,TON,TON_FLAG_W,D15N_NO3,D15N_NO3_FLAG_W,BTL_DATE,BTL_TIME,BTL_LAT,BTL_LON,14C-DOC,14C-DOC_FLAG_W,CHLORA,CHLORA_FLAG_W,HPLC,HPLC_FLAG_W,CDOM325,CDOM325_FLAG_W,CDOM340,CDOM340_FLAG_W,CDOM380,CDOM380_FLAG_W,CDOM412,CDOM412_FLAG_W,CDOM443,CDOM443_FLAG_W,CDOM490,CDOM490_FLAG_W,CDOM555,CDOM555_FLAG_W,CDOMSL,CDOMSL_FLAG_W,CDOMSN,CDOMSN_FLAG_W,D18O_NO3,D18O_NO3_FLAG_W,D15N_NO2+NO3,D15N_NO2+NO3_FLAG_W,D18O_NO2+NO3,D18O_NO2+NO3_FLAG_W
,,,,,,,,,,,METERS,DBAR,ITS-90,PSS-78,,PSS-78,,UMOL/KG,,UMOL/KG,,UMOL/KG,,UMOL/KG,,UMOL/KG,,UMOL/KG,,UMOL/KG,,PMOL/KG,,PMOL/KG,,PMOL/KG,,FMOL/KG,,UMOL/KG,,UMOL/KG,,,,DEG C,DEG C,/MILLE,,/MILLE,,/MILLE,/MILLE,,UG/KG,,UMOL/KG,,UMOL/KG,,UMOL/KG,,/MILLE,,,,,,/MILLE,,MG/M3,,,,1/M,,1/M,,1/M,,1/M,,1/M,,1/M,,1/M,,1/NM,,1/NM,,/MILLE,,/MILLE,,/MILLE,
33RR20160208,       I08S,      26,          1,          1,          1,2,20160224,       2356,   -57.3209,    82.7791,       4240,  4295.2,  -0.0052,  34.6606,2,  34.6611,2,    232.6,2,   232.7,2,   128.9,2,    0.00,2,   32.23,2,    0.00,2,    2.25,2,   1.459,2,   0.704,2,   0.095,2,   0.333944648,2,  2258.7,6, 2354.69,2,   7.8129,6,     9.80,  -0.0055,    0.52,2,  -153.0,2,     2.5, -999.00,1,-999.000,9,    38.9,2, -999.00,9,     -999.0,1, -999.00,9, 20160224,     2356, -57.3209,  82.7792,     -999.0,9,     -999.0,9,     -999.0,9,-999.0000,9,-999.0000,9,-999.0000,9,-999.0000,9,-999.0000,9,-999.0000,9,-999.0000,9,     -999.0,9,     -999.0,9,     -999.0,9,     -999.0,9,     -999.0,9
33RR20160208,       I08S,      26,          1,          2,          2,2,20160224,       2356,   -57.3209,    82.7791,       4240,  4066.0,  -0.0051,  34.6623,2,  34.6633,2,    231.6,2,   232.4,2,   126.7,2,    0.00,2,   32.17,2,    0.00,2,    2.26,2,   1.334,2,   0.653,2,   0.093,2,    0.33089956,2,  2256.5,2, 2354.99,6,   7.8140,2,     9.78,  -0.0052,    0.47,2,  -149.6,2,     2.2, -999.00,1,-999.000,9,    39.2,2, -999.00,9,     -999.0,1, -999.00,9, 20160225,        2, -57.3209,  82.7791,     -999.0,9,     -999.0,9,     -999.0,9,-999.0000,9,-999.0000,9,-999.0000,9,-999.0000,9,-999.0000,9,-999.0000,9,-999.0000,9,     -999.0,9,     -999.0,9,     -999.0,9,     -999.0,9,     -999.0,9
33RR20160208,       I08S,      26,          1,          3,          3,2,20160224,       2356,   -57.3209,    82.7791,       4240,  3829.1,   0.0165,  34.6646,2,  34.6648,2,    230.5,2,   231.3,2,   125.8,2,    0.00,2,   32.29,2,    0.00,2,    2.25,2,   1.217,2,   0.603,2,   0.084,2,   0.312629032,2,  2256.4,2, 2353.23,2,   7.8142,2,     9.78,   0.0163,    0.52,2,  -153.8,2,     2.7, -999.00,1,-999.000,9,    37.8,2, -999.00,9,     -999.0,1, -999.00,9, 20160225,        8, -57.3210,  82.7793,     -999.0,9,     -999.0,9,     -999.0,9,-999.0000,9,-999.0000,9,-999.0000,9,-999.0000,9,-999.0000,9,-999.0000,9,-999.0000,9,     -999.0,9,     -999.0,9,     -999.0,9,     -999.0,9,     -999.0,9
33RR20160208,       I08S,      26,          1,          4,          4,2,20160224,       2356,   -57.3209,    82.7791,       4240,  3594.6,   0.0524,  34.6677,2,  34.6692,2,    229.2,2,   228.9,2,   126.0,2,    0.00,2,   32.32,2,    0.00,2,    2.26,2,   1.109,2,   0.538,2,   0.072,2,   0.297403592,2,  2257.3,2, 2355.74,2,   7.8146,2,     9.78,   0.0522,    0.50,2,  -157.5,2,     1.9, -999.00,1,-999.000,9,    38.8,2, -999.00,9,     -999.0,1, -999.00,9, 20160225,       12, -57.3210,  82.7790,     -999.0,9,     -999.0,9,     -999.0,9,-999.0000,9,-999.0000,9,-999.0000,9,-999.0000,9,-999.0000,9,-999.0000,9,-999.0000,9,     -999.0,9,     -999.0,9,     -999.0,9,     -999.0,9,     -999.0,9
33RR20160208,       I08S,      26,          1,          5,          5,2,20160224,       2356,   -57.3209,    82.7791,       4240,  3290.5,   0.0917,  34.6705,2,  34.6709,2,    226.9,2,   227.4,2,   125.0,2,    0.00,2,   32.32,2,    0.00,2,    2.26,2,   0.914,2,   0.465,2,   0.060,2,   0.282178152,2,  2257.0,2, 2355.85,2,   7.8140,2,     9.80,   0.0916,    0.49,2,  -155.0,2,     1.9, -999.00,1,-999.000,9,    38.6,2, -999.00,9,     -999.0,1, -999.00,9, 20160225,       18, -57.3210,  82.7790,     -999.0,9,     -999.0,9,     -999.0,9,-999.0000,9,-999.0000,9,-999.0000,9,-999.0000,9,-999.0000,9,-999.0000,9,-999.0000,9,     -999.0,9,     -999.0,9,     -999.0,9,     -999.0,9,     -999.0,9
33RR20160208,       I08S,      26,          1,          6,         38,2,20160224,       2356,   -57.3209,    82.7791,       4240,  2993.6,   0.1549,  34.6743,2,  34.6739,2,    223.8,2,   224.0,2,   125.1,2,    0.00,2,   32.43,2,    0.00,2,    2.28,2,   0.773,2,   0.392,2,   0.046,2,    0.16544978,2,  2257.1,2, 2355.98,2,   7.8135,2,     9.77,   0.1546,    0.47,2,  -150.5,2,     2.4, -999.00,1,-999.000,9,    38.7,2, -999.00,9,     -999.0,1, -999.00,9, 20160225,       24, -57.3210,  82.7790,     -999.0,9,     -999.0,9,     -999.0,9,-999.0000,9,-999.0000,9,-999.0000,9,-999.0000,9,-999.0000,9,-999.0000,9,-999.0000,9,     -999.0,9,     -999.0,9,     -999.0,9,     -999.0,9,     -999.0,9
33RR20160208,       I08S,      26,          1,          7,          7,2,20160224,       2356,   -57.3209,    82.7791,       4240,  2743.0,   0.2400,  34.6783,2,  34.6780,2,    220.7,2,   220.2,2,   125.0,2,    0.00,2,   32.65,2,    0.00,2,    2.29,2,   0.604,2,   0.299,2,   0.030,2,    0.15123937,2,  2259.2,2, 2357.05,2,   7.8137,2,     9.77,   0.2399,    0.39,2,  -158.7,2,     1.8, -999.00,1,-999.000,9,    37.7,2, -999.00,9,     -999.0,1, -999.00,9, 20160225,       30, -57.3210,  82.7790,     -999.0,9,     -999.0,9,     -999.0,9,-999.0000,9,-999.0000,9,-999.0000,9,-999.0000,9,-999.0000,9,-999.0000,9,-999.0000,9,     -999.0,9,     -999.0,9,     -999.0,9,     -999.0,9,     -999.0,9
33RR20160208,       I08S,      26,          1,          8,          8,2,20160224,       2356,   -57.3209,    82.7791,       4240,  2504.6,   0.3376,  34.6833,2,  34.6833,2,    217.2,2,   215.7,2,   125.6,2,    0.00,2,   32.41,2,    0.00,2,    2.29,2,   0.375,2,   0.195,2,   0.011,2,    0.13601393,2,  2260.2,2, 2357.24,2,   7.8130,2,     9.78,   0.3376,    0.43,2,  -157.0,2,     1.8, -999.00,1,-999.000,9,    39.0,2, -999.00,9,     -999.0,1, -999.00,9, 20160225,       35, -57.3210,  82.7791,     -999.0,9,     -999.0,9,     -999.0,9,-999.0000,9,-999.0000,9,-999.0000,9,-999.0000,9,-999.0000,9,-999.0000,9,-999.0000,9,     -999.0,9,     -999.0,9,     -999.0,9,     -999.0,9,     -999.0,9
33RR20160208,       I08S,      26,          1,          9,          9,2,20160224,       2356,   -57.3209,    82.7791,       4240,  2248.7,   0.3836,  34.6867,2,  34.6860,2,    215.6,2,   215.1,2,   123.9,2,    0.00,2,   32.33,2,    0.00,2,    2.27,2,   0.383,2,   0.201,2,   0.014,2,    0.13601393,2,  2260.5,2, 2358.09,2,   7.8131,2,     9.79,   0.3835,    0.40,2,  -153.3,2,     2.4, -999.00,1,-999.000,9,    39.0,2, -999.00,9,     -999.0,1, -999.00,9, 20160225,       40, -57.3210,  82.7790,     -999.0,9,     -999.0,9,     -999.0,9,-999.0000,9,-999.0000,9,-999.0000,9,-999.0000,9,-999.0000,9,-999.0000,9,-999.0000,9,     -999.0,9,     -999.0,9,     -999.0,9,     -999.0,9,     -999.0,9
33RR20160208,       I08S,      26,          1,         10,         10,2,20160224,       2356,   -57.3209,    82.7791,       4240,  1997.4,   0.5195,  34.6939,2,  34.6943,2,    212.5,2,   212.6,2,   119.5,2,    0.00,2,   32.20,2,    0.00,2,    2.24,2,   0.396,2,   0.214,2,   0.015,2,   0.158344575,2,  2259.7,6, 2358.87,2,   7.8159,2,     9.78,   0.5197,    0.43,2,  -155.6,2,     1.8, -999.00,1,-999.000,9,    38.7,2, -999.00,9,     -999.0,1, -999.00,9, 20160225,       45, -57.3209,  82.7790,     -999.0,9,     -999.0,9,     -999.0,9,-999.0000,9,-999.0000,9,-999.0000,9,-999.0000,9,-999.0000,9,-999.0000,9,-999.0000,9,     -999.0,9,     -999.0,9,     -999.0,9,     -999.0,9,     -999.0,9
33RR20160208,       I08S,      26,          1,         11,         11,2,20160224,       2356,   -57.3209,    82.7791,       4240,  1796.2,   0.6504,  34.7004,2,  34.6986,2,    209.9,2,   210.8,2,   116.1,2,    0.00,2,   31.94,2,    0.00,2,    2.24,2,   0.346,2,   0.181,2,   0.012,2,   0.118758431,2,  2255.9,2, 2359.66,2,   7.8173,2,     9.78,   0.6498,    0.50,2,  -158.3,2,     1.6, -999.00,1,-999.000,9,    38.3,2, -999.00,9,     -999.0,1, -999.00,9, 20160225,       50, -57.3209,  82.7791,     -999.0,9,     -999.0,9,     -999.0,9,-999.0000,9,-999.0000,9,-999.0000,9,-999.0000,9,-999.0000,9,-999.0000,9,-999.0000,9,     -999.0,9,     -999.0,9,     -999.0,9,     -999.0,9,     -999.0,9
33RR20160208,       I08S,      26,          1,         12,         12,2,20160224,       2356,   -57.3209,    82.7791,       4240,  1599.2,   0.7728,  34.7077,2,  34.7098,2,    208.3,2,   208.3,2,   113.3,2,    0.00,2,   31.91,2,    0.00,2,    2.20,2,   0.309,2,   0.162,2,   0.008,2,   0.077142229,2,  2257.5,2, 2359.02,2,   7.8201,6,     9.78,   0.7726,    0.48,2,  -157.5,2,     1.9, -999.00,1,-999.000,9,    39.0,2, -999.00,9,     -999.0,1, -999.00,9, 20160225,       54, -57.3210,  82.7791,     -999.0,9,     -999.0,9,     -999.0,9,-999.0000,9,-999.0000,9,-999.0000,9,-999.0000,9,-999.0000,9,-999.0000,9,-999.0000,9,     -999.0,9,     -999.0,9,     -999.0,9,     -999.0,9,     -999.0,9
33RR20160208,       I08S,      26,          1,         13,         13,2,20160224,       2356,   -57.3209,    82.7791,       4240,  1497.8,   0.8279,  34.7092,2,  34.7102,2,    207.2,2,   207.9,2,   110.5,2,    0.00,2,   31.66,2,    0.00,2,    2.20,2,   0.328,2,   0.174,2,   0.010,2,   0.082217375,2,  2256.6,2, 2357.18,2,   7.8206,6,     9.77,   0.8278,    0.47,2,  -158.3,2,     1.6, -999.00,1,-999.000,9,    39.5,2, -999.00,9,     -999.0,1, -999.00,9, 20160225,       57, -57.3210,  82.7791,     -999.0,9,     -999.0,9,     -999.0,9,-999.0000,9,-999.0000,9,-999.0000,9,-999.0000,9,-999.0000,9,-999.0000,9,-999.0000,9,     -999.0,9,     -999.0,9,     -999.0,9,     -999.0,9,     -999.0,9
33RR20160208,       I08S,      26,          1,         14,         14,2,20160224,       2356,   -57.3209,    82.7791,       4240,  1399.4,   0.9012,  34.7136,2,  34.7135,2,    206.5,2,   207.5,2,   108.5,2,    0.00,2,   31.51,2,    0.00,2,    2.19,2,   0.311,2,   0.165,2,   0.010,2,   0.066991935,2,  2257.1,2, 2356.83,2,   7.8225,2,     9.79,   0.9018,    0.47,2,  -158.5,2,     1.8, -999.00,1,-999.000,9,    38.2,2, -999.00,9,     -999.0,1, -999.00,9, 20160225,       59, -57.3210,  82.7791,     -999.0,9,     -999.0,9,     -999.0,9,-999.0000,9,-999.0000,9,-999.0000,9,-999.0000,9,-999.0000,9,-999.0000,9,-999.0000,9,     -999.0,9,     -999.0,9,     -999.0,9,     -999.0,9,     -999.0,9
33RR20160208,       I08S,      26,          1,         15,         15,2,20160224,       2356,   -57.3209,    82.7791,       4240,  1299.5,   0.9780,  34.7166,2,  34.7162,2,    206.1,2,   205.8,2,   105.0,2,    0.00,2,   31.36,2,    0.00,2,    2.17,2,   0.334,2,   0.180,2,   0.012,2,   0.099472874,2,  2254.3,2, 2355.36,2,   7.8226,6,     9.77,   0.9787,    0.49,2,  -156.9,2,     1.7, -999.00,1,-999.000,9,    39.1,2, -999.00,9,     -999.0,1, -999.00,9, 20160225,      102, -57.3210,  82.7791,     -999.0,9,     -999.0,9,     -999.0,9,-999.0000,9,-999.0000,9,-999.0000,9,-999.0000,9,-999.0000,9,-999.0000,9,-999.0000,9,     -999.0,9,     -999.0,9,     -999.0,9,     -999.0,9,     -999.0,9
33RR20160208,       I08S,      26,          1,         16,         16,2,20160224,       2356,   -57.3209,    82.7791,       4240,  1197.2,   1.0409,  34.7176,2,  34.7176,2,    205.4,2,   205.3,2,   102.4,2,    0.00,2,   31.26,2,    0.00,2,    2.18,2,   0.374,2,   0.200,2,   0.016,2,   0.129923754,2,  2253.5,2, 2355.21,2,   7.8222,2,     9.81,   1.0396,    0.47,2,  -152.1,2,     1.7, -999.00,1,-999.000,9,    39.1,2, -999.00,9,     -999.0,1, -999.00,9, 20160225,      104, -57.3210,  82.7791,     -999.0,9,     -999.0,9,     -999.0,9,-999.0000,9,-999.0000,9,-999.0000,9,-999.0000,9,-999.0000,9,-999.0000,9,-999.0000,9,     -999.0,9,     -999.0,9,     -999.0,9,     -999.0,9,     -999.0,9
33RR20160208,       I08S,      26,          1,         17,         17,2,20160224,       2356,   -57.3209,    82.7791,       4240,  1098.6,   1.1157,  34.7192,2,  34.7192,2,    204.6,2,   205.0,2,    99.7,2,    0.00,2,   31.17,2,    0.00,2,    2.17,2,   0.417,2,   0.226,2,   0.024,2,   0.146164223,2,  2253.4,2, 2354.18,2,   7.8226,2,     9.79,   1.1165,    0.45,2,  -156.9,2,     1.9, -999.00,1,-999.000,9,    38.0,2, -999.00,9,     -999.0,1, -999.00,9, 20160225,      107, -57.3210,  82.7791,     -999.0,9,     -999.0,9,     -999.0,9,-999.0000,9,-999.0000,9,-999.0000,9,-999.0000,9,-999.0000,9,-999.0000,9,-999.0000,9,     -999.0,9,     -999.0,9,     -999.0,9,     -999.0,9,     -999.0,9
33RR20160208,       I08S,      26,          1,         18,         37,2,20160224,       2356,   -57.3209,    82.7791,       4240,   999.6,   1.1777,  34.7204,2,  34.7202,2,    203.7,2,   204.2,2,    97.5,2,    0.00,2,   31.04,2,    0.00,2,    2.17,2,   0.441,2,   0.239,2,   0.025,2,    0.16544978,2,  2250.3,2, 2352.03,2,   7.8222,2,     9.77,   1.1780,    0.45,2,  -155.2,2,     1.8, -999.00,1,-999.000,9,    38.6,2, -999.00,9,     -999.0,1, -999.00,9, 20160225,      110, -57.3209,  82.7791,     -999.0,9,     -999.0,9,     -999.0,9,-999.0000,9,-999.0000,9,-999.0000,9,-999.0000,9,-999.0000,9,-999.0000,9,-999.0000,9,     -999.0,9,     -999.0,9,     -999.0,9,     -999.0,9,     -999.0,9
33RR20160208,       I08S,      26,          1,         19,         19,2,20160224,       2356,   -57.3209,    82.7791,       4240,   898.1,   1.2496,  34.7212,2,  34.7215,2,    202.6,2,   203.2,2,    95.0,2,    0.00,2,   30.92,2,    0.00,2,    2.16,2,   0.448,2,   0.244,2,   0.027,2,   0.170524927,2,  2250.6,2, 2352.09,2,   7.8212,2,     9.77,   1.2495,    0.46,2,  -151.4,2,     1.7, -999.00,1,-999.000,9,    39.2,2, -999.00,9,     -999.0,1, -999.00,9, 20160225,      113, -57.3209,  82.7791,     -999.0,9,     -999.0,9,     -999.0,9,-999.0000,9,-999.0000,9,-999.0000,9,-999.0000,9,-999.0000,9,-999.0000,9,-999.0000,9,     -999.0,9,     -999.0,9,     -999.0,9,     -999.0,9,     -999.0,9
33RR20160208,       I08S,      26,          1,         20,         20,2,20160224,       2356,   -57.3209,    82.7791,       4240,   799.3,   1.3312,  34.7219,2,  34.7219,2,    201.2,2,   201.5,2,    92.4,2,    0.00,2,   30.86,2,    0.00,2,    2.15,2,   0.459,2,   0.250,2,   0.027,2,   0.122818548,2,  2250.2,2, 2352.01,2,   7.8210,2,     9.76,   1.3308,    0.44,2,  -148.8,2,     1.8, -999.00,1,-999.000,9,    37.9,2, -999.00,9,     -999.0,1, -999.00,9, 20160225,      115, -57.3210,  82.7791,     -999.0,9,     -999.0,9,     -999.0,9,-999.0000,9,-999.0000,9,-999.0000,9,-999.0000,9,-999.0000,9,-999.0000,9,-999.0000,9,     -999.0,9,     -999.0,9,     -999.0,9,     -999.0,9,     -999.0,9
33RR20160208,       I08S,      26,          1,         21,         21,2,20160224,       2356,   -57.3209,    82.7791,       4240,   698.8,   1.3391,  34.7155,2,  34.7162,2,    199.5,2,   201.4,2,    91.1,2,    0.00,2,   31.04,2,    0.00,2,    2.17,2,   0.540,2,   0.292,2,   0.038,2,   0.168494868,2,  2250.3,2, 2348.54,2,   7.8162,2,     9.79,   1.3389,    0.45,2,  -150.1,2,     1.9, -999.00,1,-999.000,9,    39.0,2, -999.00,9,     -999.0,1, -999.00,9, 20160225,      118, -57.3210,  82.7791,     -999.0,9,     -999.0,9,     -999.0,9,-999.0000,9,-999.0000,9,-999.0000,9,-999.0000,9,-999.0000,9,-999.0000,9,-999.0000,9,     -999.0,9,     -999.0,9,     -999.0,9,     -999.0,9,     -999.0,9
33RR20160208,       I08S,      26,          1,         22,         22,2,20160224,       2356,   -57.3209,    82.7791,       4240,   599.3,   1.3249,  34.6993,2,  34.7007,2,    199.4,2,   201.2,2,    88.2,2,    0.00,2,   31.23,2,    0.00,2,    2.20,2,   0.694,2,   0.373,2,   0.055,2,    0.27101283,2,  2249.5,2, 2347.27,2,   7.8106,2,     9.77,   1.3245,    0.43,2,  -144.2,2,     2.6, -999.00,1,-999.000,9,    38.6,2, -999.00,9,     -999.0,1, -999.00,9, 20160225,      121, -57.3210,  82.7791,     -999.0,9,     -999.0,9,     -999.0,9,-999.0000,9,-999.0000,9,-999.0000,9,-999.0000,9,-999.0000,9,-999.0000,9,-999.0000,9,     -999.0,9,     -999.0,9,     -999.0,9,     -999.0,9,     -999.0,9
33RR20160208,       I08S,      26,          1,         23,         23,2,20160224,       2356,   -57.3209,    82.7791,       4240,   499.0,   1.1675,  34.6664,2,  34.6662,2,    204.4,2,   205.4,2,    85.4,2,    0.00,2,   31.63,2,    0.02,2,    2.21,2,   1.034,2,   0.549,2,   0.087,2,   0.428342375,2,  2250.5,2, 2343.83,2,   7.8018,2,     9.80,   1.1676,    0.41,2,  -149.3,2,     2.0, -999.00,1,-999.000,9,    38.5,2, -999.00,9,     -999.0,1, -999.00,9, 20160225,      123, -57.3210,  82.7791,     -999.0,9,     -999.0,9,     -999.0,9,-999.0000,9,-999.0000,9,-999.0000,9,-999.0000,9,-999.0000,9,-999.0000,9,-999.0000,9,     -999.0,9,     -999.0,9,     -999.0,9,     -999.0,9,     -999.0,9
33RR20160208,       I08S,      26,          1,         24,         24,2,20160224,       2356,   -57.3209,    82.7791,       4240,   450.8,   1.1239,  34.6522,2,  34.6519,2,    203.8,2,   205.1,2,    84.2,2,    0.00,2,   31.80,2,    0.02,2,    2.22,2,   1.132,2,   0.605,2,   0.096,2,   0.462853372,2,  2250.7,6, 2344.08,2,   7.7976,2,     9.78,   1.1253, -999.00,9,  -999.0,9,  -999.0, -999.00,1,-999.000,9,    39.4,2, -999.00,9,     -999.0,1, -999.00,9, 20160225,      125, -57.3210,  82.7791,     -999.0,9,     -999.0,9,     -999.0,9,-999.0000,9,-999.0000,9,-999.0000,9,-999.0000,9,-999.0000,9,-999.0000,9,-999.0000,9,     -999.0,9,     -999.0,9,     -999.0,9,     -999.0,9,     -999.0,9
33RR20160208,       I08S,      26,          1,         25,         25,2,20160224,       2356,   -57.3209,    82.7791,       4240,   399.6,   1.2182,  34.6442,2,  34.6446,2,    199.9,2,   201.4,2,    83.4,2,    0.00,2,   32.12,2,    0.02,2,    2.25,2,   1.115,2,   0.585,2,   0.094,2,   0.437477639,2,  2251.4,2, 2342.17,2,   7.7908,2,     9.77,   1.2179,    0.44,2,  -153.3,2,     1.9, -999.00,1,-999.000,9,    39.5,2, -999.00,9,     -999.0,1, -999.00,9, 20160225,      127, -57.3210,  82.7791,     -999.0,9,     -999.0,9,     -999.0,9,-999.0000,9,-999.0000,9,-999.0000,9,-999.0000,9,-999.0000,9,-999.0000,9,-999.0000,9,     -999.0,9,     -999.0,9,     -999.0,9,     -999.0,9,     -999.0,9
33RR20160208,       I08S,      26,          1,         26,         26,2,20160224,       2356,   -57.3209,    82.7791,       4240,   349.0,   1.1958,  34.6282,2,  34.6277,2,    202.3,2,   200.0,2,    82.4,2,    0.00,2,   32.41,2,    0.02,2,    2.25,2,   1.197,2,   0.629,2,   0.102,2,   0.478078812,2,  2253.3,2, 2341.54,2,   7.7847,2,     9.81,   1.1951, -999.00,9,  -999.0,9,  -999.0, -999.00,1,-999.000,9,    39.0,2, -999.00,9,     -999.0,1, -999.00,9, 20160225,      129, -57.3210,  82.7792,     -999.0,9,     -999.0,9,     -999.0,9,-999.0000,9,-999.0000,9,-999.0000,9,-999.0000,9,-999.0000,9,-999.0000,9,-999.0000,9,     -999.0,9,     -999.0,9,     -999.0,9,     -999.0,9,     -999.0,9
33RR20160208,       I08S,      26,          1,         27,         27,2,20160224,       2356,   -57.3209,    82.7791,       4240,   300.1,   1.0122,  34.5947,2,  34.5948,2,    210.5,2,   204.7,2,    80.6,2,    0.00,2,   32.60,2,    0.03,2,    2.27,2,   1.476,2,   0.759,2,   0.124,2,   0.522740103,2,  2250.1,2, 2338.61,2,   7.7813,6,     9.78,   1.0100,    0.41,2,  -147.6,2,     2.4, -999.00,1,-999.000,9,    39.4,2,   37.10,3,     -999.0,1, -999.00,9, 20160225,      131, -57.3210,  82.7791,     -999.0,9,     -999.0,9,     -999.0,9,-999.0000,9,-999.0000,9,-999.0000,9,-999.0000,9,-999.0000,9,-999.0000,9,-999.0000,9,     -999.0,9,     -999.0,9,     -999.0,9,     -999.0,9,     -999.0,9