BOTTLE,20220706CCHSIOAMB
EXPOCODE,SECT_ID,STNNBR,CASTNO,SAMPNO,BTLNBR,BTLNBR_FLAG_W,DATE,TIME,LATITUDE,LONGITUDE,DEPTH,CTDPRS,CTDTMP,CTDSAL,CTDSAL_FLAG_W,SALNTY,SALNTY_FLAG_W,CTDOXY,CTDOXY_FLAG_W,OXYGEN,OXYGEN_FLAG_W,SILCAT,SILCAT_FLAG_W,NH4,NH4_FLAG_W,NITRAT,NITRAT_FLAG_W,NITRIT,NITRIT_FLAG_W,PHSPHT,PHSPHT_FLAG_W,CFC-11,CFC-11_FLAG_W,CFC-12,CFC-12_FLAG_W,CFC113,CFC113_FLAG_W,SF6,SF6_FLAG_W,TCARBN,TCARBN_FLAG_W,ALKALI,ALKALI_FLAG_W,PH_TOT,PH_TOT_FLAG_W,PH_TMP,REFTMP,DELC13,DELC13_FLAG_W,DELC14,DELC14_FLAG_W,C14ERR,DELO18,DELO18_FLAG_W,POC,POC_FLAG_W,DOC,DOC_FLAG_W,TDN,TDN_FLAG_W,TON,TON_FLAG_W,D15N_NO3,D15N_NO3_FLAG_W,BTL_DATE,BTL_TIME,BTL_LAT,BTL_LON,14C-DOC,14C-DOC_FLAG_W,CHLORA,CHLORA_FLAG_W,HPLC,HPLC_FLAG_W,CDOM325,CDOM325_FLAG_W,CDOM340,CDOM340_FLAG_W,CDOM380,CDOM380_FLAG_W,CDOM412,CDOM412_FLAG_W,CDOM443,CDOM443_FLAG_W,CDOM490,CDOM490_FLAG_W,CDOM555,CDOM555_FLAG_W,CDOMSL,CDOMSL_FLAG_W,CDOMSN,CDOMSN_FLAG_W,D18O_NO3,D18O_NO3_FLAG_W,D15N_NO2+NO3,D15N_NO2+NO3_FLAG_W,D18O_NO2+NO3,D18O_NO2+NO3_FLAG_W
,,,,,,,,,,,METERS,DBAR,ITS-90,PSS-78,,PSS-78,,UMOL/KG,,UMOL/KG,,UMOL/KG,,UMOL/KG,,UMOL/KG,,UMOL/KG,,UMOL/KG,,PMOL/KG,,PMOL/KG,,PMOL/KG,,FMOL/KG,,UMOL/KG,,UMOL/KG,,,,DEG C,DEG C,/MILLE,,/MILLE,,/MILLE,/MILLE,,UG/KG,,UMOL/KG,,UMOL/KG,,UMOL/KG,,/MILLE,,,,,,/MILLE,,MG/M3,,,,1/M,,1/M,,1/M,,1/M,,1/M,,1/M,,1/M,,1/NM,,1/NM,,/MILLE,,/MILLE,,/MILLE,
33RR20160208,       I08S,      64,          1,          1,          1,2,20160307,       0357,   -37.9993,    95.0039,       4155,  4156.1,   1.0177,  34.7118,2,  34.7127,2,    206.2,2,   206.8,2,   120.3,2,    0.00,2,   32.12,2,    0.00,2,    2.18,2,   0.106,2,   0.060,2,   0.000,2,   0.041062176,2,  2264.5,6, 2375.08,2,   7.6175,2,    25.02,   1.0176, -999.00,9,  -999.0,9,  -999.0, -999.00,9,-999.000,9,    39.1,2, -999.00,9,     -999.0,1, -999.00,9, 20160307,      357, -37.9993,  95.0040,     -999.0,9,     -999.0,9,     -999.0,9,-999.0000,9,-999.0000,9,-999.0000,9,-999.0000,9,-999.0000,9,-999.0000,9,-999.0000,9,     -999.0,9,     -999.0,9,     -999.0,9,     -999.0,9,     -999.0,9
33RR20160208,       I08S,      64,          1,          2,          2,2,20160307,       0357,   -37.9993,    95.0039,       4155,  3824.8,   1.0358,  34.7141,2,  34.7151,2,    206.1,2,   206.7,2,   118.6,2,    0.00,2,   31.98,2,    0.00,2,    2.19,2,   0.132,2,   0.074,2,   0.000,2,   0.068779145,2,  2263.9,2, 2371.12,2,   7.6145,2,    25.02,   1.0358,    0.46,6,  -163.8,6,     1.4, -999.00,9,-999.000,9,    38.3,2, -999.00,9,     -999.0,1, -999.00,9, 20160307,      404, -37.9992,  95.0040,     -999.0,9,     -999.0,9,     -999.0,9,-999.0000,9,-999.0000,9,-999.0000,9,-999.0000,9,-999.0000,9,-999.0000,9,-999.0000,9,     -999.0,9,     -999.0,9,     -999.0,9,     -999.0,9,     -999.0,9
33RR20160208,       I08S,      64,          1,          3,          3,2,20160307,       0357,   -37.9993,    95.0039,       4155,  3439.8,   1.1748,  34.7220,2,  34.7223,2,    205.5,2,   205.9,2,   113.3,2,    0.00,2,   31.60,2,    0.00,2,    2.15,2,   0.145,2,   0.081,2,   0.000,2,   0.008212435,2,  2258.3,2, 2363.31,6,   7.6111,2,    25.01,   1.1763, -999.00,9,  -999.0,9,  -999.0, -999.00,9,-999.000,9,    38.2,2, -999.00,9,     -999.0,1, -999.00,9, 20160307,      411, -37.9993,  95.0040,     -999.0,9,     -999.0,9,     -999.0,9,-999.0000,9,-999.0000,9,-999.0000,9,-999.0000,9,-999.0000,9,-999.0000,9,-999.0000,9,     -999.0,9,     -999.0,9,     -999.0,9,     -999.0,9,     -999.0,9
33RR20160208,       I08S,      64,          1,          4,          4,2,20160307,       0357,   -37.9993,    95.0039,       4155,  3200.8,   1.3493,  34.7305,2,  34.7315,2,    203.4,2,   203.6,2,   107.5,2,    0.00,2,   31.31,2,    0.00,2,    2.13,2,   0.104,2,   0.059,2,   0.000,2,   0.030796632,2,  2254.5,2, 2361.56,2,   7.6130,2,    25.02,   1.3505, -999.00,9,  -999.0,9,  -999.0, -999.00,9,-999.000,9,    38.0,2, -999.00,9,     -999.0,1, -999.00,9, 20160307,      416, -37.9993,  95.0041,     -999.0,9,     -999.0,9,     -999.0,9,-999.0000,9,-999.0000,9,-999.0000,9,-999.0000,9,-999.0000,9,-999.0000,9,-999.0000,9,     -999.0,9,     -999.0,9,     -999.0,9,     -999.0,9,     -999.0,9
33RR20160208,       I08S,      64,          1,          5,          5,2,20160307,       0357,   -37.9993,    95.0039,       4155,  2913.5,   1.6313,  34.7418,2,  34.7427,2,    200.1,2,   200.5,2,    98.5,2,    0.00,2,   30.84,2,    0.00,2,    2.11,2,-999.000,9,-999.000,9,-999.000,9,-999.000000000,9,  2251.3,2, 2359.92,2,   7.6149,2,    25.03,   1.6301, -999.00,9,  -999.0,9,  -999.0, -999.00,9,-999.000,9,    38.7,2, -999.00,9,     -999.0,1, -999.00,9, 20160307,      422, -37.9993,  95.0041,     -999.0,9,     -999.0,9,     -999.0,9,-999.0000,9,-999.0000,9,-999.0000,9,-999.0000,9,-999.0000,9,-999.0000,9,-999.0000,9,     -999.0,9,     -999.0,9,     -999.0,9,     -999.0,9,     -999.0,9
33RR20160208,       I08S,      64,          1,          6,         38,2,20160307,       0357,   -37.9993,    95.0039,       4155,  2665.7,   1.9304,  34.7480,2,  34.7490,2,    196.1,2,   196.0,2,    88.9,2,    0.00,2,   30.54,2,    0.00,2,    2.09,2,   0.068,2,   0.038,2,   0.000,2,   0.031823187,2,  2248.7,2, 2356.05,2,   7.6149,6,    25.03,   1.9291, -999.00,9,  -999.0,9,  -999.0, -999.00,9,-999.000,9,    38.8,2, -999.00,9,     -999.0,1, -999.00,9, 20160307,      427, -37.9993,  95.0041,     -999.0,9,     -999.0,9,     -999.0,9,-999.0000,9,-999.0000,9,-999.0000,9,-999.0000,9,-999.0000,9,-999.0000,9,-999.0000,9,     -999.0,9,     -999.0,9,     -999.0,9,     -999.0,9,     -999.0,9
33RR20160208,       I08S,      64,          1,          7,          7,2,20160307,       0357,   -37.9993,    95.0039,       4155,  2416.1,   2.1623,  34.7395,2,  34.7400,2,    189.7,2,   190.3,2,    84.2,2,    0.00,2,   30.82,2,    0.00,2,    2.09,2,-999.000,9,-999.000,9,-999.000,9,-999.000000000,9,  2247.1,2, 2353.62,2,   7.6082,2,    25.02,   2.1623, -999.00,9,  -999.0,9,  -999.0, -999.00,9,-999.000,9,    38.7,2, -999.00,9,     -999.0,1, -999.00,9, 20160307,      432, -37.9993,  95.0041,     -999.0,9,     -999.0,9,     -999.0,9,-999.0000,9,-999.0000,9,-999.0000,9,-999.0000,9,-999.0000,9,-999.0000,9,-999.0000,9,     -999.0,9,     -999.0,9,     -999.0,9,     -999.0,9,     -999.0,9
33RR20160208,       I08S,      64,          1,          8,          8,2,20160307,       0357,   -37.9993,    95.0039,       4155,  2166.5,   2.3836,  34.7097,2,  34.7107,2,    179.1,2,   179.4,2,    82.5,2,    0.00,2,   31.88,2,    0.00,2,    2.15,2,   0.089,2,   0.055,2,   0.000,2,   0.013345207,2,  2252.9,2, 2351.85,2,   7.5932,2,    24.99,   2.3825, -999.00,9,  -999.0,9,  -999.0, -999.00,9,-999.000,9,    37.6,2, -999.00,9,     -999.0,1, -999.00,9, 20160307,      437, -37.9993,  95.0040,     -999.0,9,     -999.0,9,     -999.0,9,-999.0000,9,-999.0000,9,-999.0000,9,-999.0000,9,-999.0000,9,-999.0000,9,-999.0000,9,     -999.0,9,     -999.0,9,     -999.0,9,     -999.0,9,     -999.0,9
33RR20160208,       I08S,      64,          1,          9,          9,2,20160307,       0357,   -37.9993,    95.0039,       4155,  1937.9,   2.5919,  34.6592,2,  34.6587,2,    169.9,2,   171.7,2,    78.9,2,    0.00,2,   32.98,2,    0.00,2,    2.25,2,   0.160,2,   0.098,2,   0.000,2,   0.052354275,2,  2253.9,2, 2346.65,2,   7.5757,6,    25.00,   2.5923, -999.00,9,  -999.0,9,  -999.0, -999.00,9,-999.000,9,    37.8,2, -999.00,9,     -999.0,1, -999.00,9, 20160307,      442, -37.9992,  95.0039,     -999.0,9,     -999.0,9,     -999.0,9,-999.0000,9,-999.0000,9,-999.0000,9,-999.0000,9,-999.0000,9,-999.0000,9,-999.0000,9,     -999.0,9,     -999.0,9,     -999.0,9,     -999.0,9,     -999.0,9
33RR20160208,       I08S,      64,          1,         10,         10,2,20160307,       0357,   -37.9993,    95.0039,       4155,  1767.7,   2.8040,  34.6107,2,  34.6111,2,    163.9,2,   164.0,2,    77.7,2,    0.00,2,   33.95,2,    0.00,2,    2.32,2,   0.175,2,   0.109,2,   0.000,2,   0.074938472,2,  2258.6,2, 2347.42,2,   7.5630,2,    25.00,   2.8009, -999.00,9,  -999.0,9,  -999.0, -999.00,9,-999.000,9,    38.6,2, -999.00,9,     -999.0,1, -999.00,9, 20160307,      446, -37.9992,  95.0039,     -999.0,9,     -999.0,9,     -999.0,9,-999.0000,9,-999.0000,9,-999.0000,9,-999.0000,9,-999.0000,9,-999.0000,9,-999.0000,9,     -999.0,9,     -999.0,9,     -999.0,9,     -999.0,9,     -999.0,9
33RR20160208,       I08S,      64,          1,         11,         11,2,20160307,       0357,   -37.9993,    95.0039,       4155,  1668.7,   2.9130,  34.5765,2,  34.5769,2,    164.3,2,   163.5,2,    73.9,2,    0.00,2,   34.20,2,    0.00,2,    2.35,2,   0.247,2,   0.147,2,   0.002,2,   0.092389896,2,  2255.4,2, 2342.39,2,   7.5590,2,    25.04,   2.9121, -999.00,9,  -999.0,9,  -999.0, -999.00,9,-999.000,9,    37.6,2, -999.00,9,     -999.0,1, -999.00,9, 20160307,      449, -37.9992,  95.0039,     -999.0,9,     -999.0,9,     -999.0,9,-999.0000,9,-999.0000,9,-999.0000,9,-999.0000,9,-999.0000,9,-999.0000,9,-999.0000,9,     -999.0,9,     -999.0,9,     -999.0,9,     -999.0,9,     -999.0,9
33RR20160208,       I08S,      64,          1,         12,         12,2,20160307,       0357,   -37.9993,    95.0039,       4155,  1566.0,   3.0602,  34.5312,2,  34.5318,2,    167.6,2,   165.8,2,    68.4,2,    0.05,2,   34.29,2,    0.00,2,    2.35,2,   0.383,2,   0.218,2,   0.009,2,   0.148850389,2,  2248.6,2, 2336.14,2,   7.5592,2,    24.98,   3.0613, -999.00,9,  -999.0,9,  -999.0, -999.00,9,-999.000,9,    39.8,2, -999.00,9,     -999.0,1, -999.00,9, 20160307,      452, -37.9992,  95.0039,     -999.0,9,     -999.0,9,     -999.0,9,-999.0000,9,-999.0000,9,-999.0000,9,-999.0000,9,-999.0000,9,-999.0000,9,-999.0000,9,     -999.0,9,     -999.0,9,     -999.0,9,     -999.0,9,     -999.0,9
33RR20160208,       I08S,      64,          1,         13,         13,2,20160307,       0357,   -37.9993,    95.0039,       4155,  1463.4,   3.2524,  34.4867,2,  34.4873,2,    173.7,2,   169.8,2,    62.4,2,    0.00,2,   34.19,2,    0.00,2,    2.38,2,   0.566,2,   0.301,2,   0.018,2,   0.189912565,2,  2245.0,2, 2328.86,2,   7.5628,2,    25.00,   3.2508, -999.00,9,  -999.0,9,  -999.0, -999.00,9,-999.000,9,    39.4,2, -999.00,9,     -999.0,1, -999.00,9, 20160307,      454, -37.9993,  95.0040,     -999.0,9,     -999.0,9,     -999.0,9,-999.0000,9,-999.0000,9,-999.0000,9,-999.0000,9,-999.0000,9,-999.0000,9,-999.0000,9,     -999.0,9,     -999.0,9,     -999.0,9,     -999.0,9,     -999.0,9
33RR20160208,       I08S,      64,          1,         14,         14,2,20160307,       0357,   -37.9993,    95.0039,       4155,  1369.8,   3.4330,  34.4402,2,  34.4391,2,    184.3,2,   178.4,2,    54.8,2,    0.00,2,   33.69,2,    0.00,2,    2.30,2,   0.907,2,   0.456,2,   0.040,2,   0.211470207,2,  2235.7,2, 2322.00,2,   7.5713,2,    25.02,   3.4326, -999.00,9,  -999.0,9,  -999.0, -999.00,9,-999.000,9,    40.0,2, -999.00,9,     -999.0,1, -999.00,9, 20160307,      458, -37.9993,  95.0040,     -999.0,9,     -999.0,9,     -999.0,9,-999.0000,9,-999.0000,9,-999.0000,9,-999.0000,9,-999.0000,9,-999.0000,9,-999.0000,9,     -999.0,9,     -999.0,9,     -999.0,9,     -999.0,9,     -999.0,9
33RR20160208,       I08S,      64,          1,         15,         15,2,20160307,       0357,   -37.9993,    95.0039,       4155,  1266.7,   3.6768,  34.3800,2,  34.3817,2,    195.3,2,   191.8,2,    44.9,2,    0.00,2,   32.83,2,    0.00,2,    2.24,2,   1.548,2,   0.752,2,   0.084,2,   0.351081606,2,  2218.7,2, 2310.51,2,   7.5855,2,    25.01,   3.6753, -999.00,9,  -999.0,9,  -999.0, -999.00,9,-999.000,9,    39.7,2, -999.00,9,     -999.0,1, -999.00,9, 20160307,      500, -37.9993,  95.0039,     -999.0,9,     -999.0,9,     -999.0,9,-999.0000,9,-999.0000,9,-999.0000,9,-999.0000,9,-999.0000,9,-999.0000,9,-999.0000,9,     -999.0,9,     -999.0,9,     -999.0,9,     -999.0,9,     -999.0,9
33RR20160208,       I08S,      64,          1,         16,         16,2,20160307,       0357,   -37.9993,    95.0039,       4155,  1166.1,   4.2369,  34.3501,2,  34.3505,2,    203.0,2,   200.9,2,    35.2,2,    0.00,2,   31.33,2,    0.00,2,    2.12,2,   1.956,2,   0.963,2,   0.108,2,   0.496852332,2,  2204.9,2, 2301.48,2,   7.6050,2,    24.99,   4.2359, -999.00,9,  -999.0,9,  -999.0, -999.00,9,-999.000,9,    39.1,2, -999.00,9,     -999.0,1, -999.00,9, 20160307,      503, -37.9993,  95.0040,     -999.0,9,     -999.0,9,     -999.0,9,-999.0000,9,-999.0000,9,-999.0000,9,-999.0000,9,-999.0000,9,-999.0000,9,-999.0000,9,     -999.0,9,     -999.0,9,     -999.0,9,     -999.0,9,     -999.0,9
33RR20160208,       I08S,      64,          1,         17,         17,2,20160307,       0357,   -37.9993,    95.0039,       4155,  1064.8,   4.9465,  34.3441,2,  34.3447,2,    207.6,2,   206.7,2,    26.3,2,    0.00,2,   29.55,2,    0.00,2,    2.00,2,   2.413,2,   1.215,2,   0.133,2,   0.641596503,2,  2190.1,2, 2294.71,2,   7.6248,2,    24.98,   4.9461, -999.00,9,  -999.0,9,  -999.0, -999.00,9,-999.000,9,    40.5,2, -999.00,9,     -999.0,1, -999.00,9, 20160307,      506, -37.9993,  95.0039,     -999.0,9,     -999.0,9,     -999.0,9,-999.0000,9,-999.0000,9,-999.0000,9,-999.0000,9,-999.0000,9,-999.0000,9,-999.0000,9,     -999.0,9,     -999.0,9,     -999.0,9,     -999.0,9,     -999.0,9
33RR20160208,       I08S,      64,          1,         18,         37,2,20160307,       0357,   -37.9993,    95.0039,       4155,   966.1,   6.1064,  34.3989,2,  34.3989,2,    206.5,2,   205.8,2,    18.9,2,    0.00,2,   27.20,2,    0.00,2,    1.81,2,   2.619,2,   1.339,2,   0.120,2,   0.690871114,2,  2177.9,2, 2291.35,2,   7.6475,2,    25.00,   6.1058, -999.00,9,  -999.0,9,  -999.0, -999.00,9,-999.000,9,    39.2,2, -999.00,9,     -999.0,1, -999.00,9, 20160307,      509, -37.9992,  95.0039,     -999.0,9,     -999.0,9,     -999.0,9,-999.0000,9,-999.0000,9,-999.0000,9,-999.0000,9,-999.0000,9,-999.0000,9,-999.0000,9,     -999.0,9,     -999.0,9,     -999.0,9,     -999.0,9,     -999.0,9
33RR20160208,       I08S,      64,          1,         19,         19,2,20160307,       0357,   -37.9993,    95.0039,       4155,   864.8,   7.5881,  34.5027,2,  34.5026,2,    212.6,2,   210.0,2,    12.8,2,    0.09,2,   23.44,2,    0.00,2,    1.55,2,   2.924,2,   1.557,2,   0.115,2,   0.910553756,2,  2162.2,2, 2288.76,2,   7.6885,2,    25.00,   7.5911, -999.00,9,  -999.0,9,  -999.0, -999.00,9,-999.000,9,    38.9,2, -999.00,9,     -999.0,1, -999.00,9, 20160307,      513, -37.9992,  95.0039,     -999.0,9,     -999.0,9,     -999.0,9,-999.0000,9,-999.0000,9,-999.0000,9,-999.0000,9,-999.0000,9,-999.0000,9,-999.0000,9,     -999.0,9,     -999.0,9,     -999.0,9,     -999.0,9,     -999.0,9
33RR20160208,       I08S,      64,          1,         20,         20,2,20160307,       0357,   -37.9993,    95.0039,       4155,   764.2,   8.6792,  34.5962,2,  34.5944,2,    230.5,2,   224.3,2,     7.5,2,    0.00,2,   19.52,2,    0.00,2,    1.32,2,   3.261,2,   1.758,2,   0.130,2,    1.30269754,2,  2146.7,2, 2290.78,2,   7.7317,2,    25.01,   8.6777, -999.00,9,  -999.0,9,  -999.0, -999.00,9,-999.000,9,    39.5,2, -999.00,9,     -999.0,1, -999.00,9, 20160307,      516, -37.9992,  95.0039,     -999.0,9,     -999.0,9,     -999.0,9,-999.0000,9,-999.0000,9,-999.0000,9,-999.0000,9,-999.0000,9,-999.0000,9,-999.0000,9,     -999.0,9,     -999.0,9,     -999.0,9,     -999.0,9,     -999.0,9
33RR20160208,       I08S,      64,          1,         21,         21,2,20160307,       0357,   -37.9993,    95.0039,       4155,   664.8,   9.4978,  34.6926,2,  34.6937,2,    242.8,2,   239.4,2,     4.5,2,    0.00,2,   15.95,2,    0.00,2,    1.07,2,   3.340,2,   1.891,2,   0.141,2,    1.45873381,2,  2133.4,2, 2292.71,2,   7.7687,2,    25.03,   9.4959, -999.00,9,  -999.0,9,  -999.0, -999.00,9,-999.000,9,    43.0,2, -999.00,9,     -999.0,1, -999.00,9, 20160307,      519, -37.9993,  95.0039,     -999.0,9,     -999.0,9,     -999.0,9,-999.0000,9,-999.0000,9,-999.0000,9,-999.0000,9,-999.0000,9,-999.0000,9,-999.0000,9,     -999.0,9,     -999.0,9,     -999.0,9,     -999.0,9,     -999.0,9
33RR20160208,       I08S,      64,          1,         22,         22,2,20160307,       0357,   -37.9993,    95.0039,       4155,   564.6,  10.0253,  34.7639,2,  34.7624,2,    246.2,2,   245.4,2,     3.8,2,    0.00,2,   13.96,2,    0.00,2,    0.98,2,   3.202,2,   1.835,2,   0.147,2,    1.61784974,2,  2129.0,2, 2298.38,2,   7.7901,2,    25.02,  10.0265, -999.00,9,  -999.0,9,  -999.0, -999.00,9,-999.000,9,    44.2,2, -999.00,9,     -999.0,1, -999.00,9, 20160307,      521, -37.9992,  95.0039,     -999.0,9,     -999.0,9,     -999.0,9,-999.0000,9,-999.0000,9,-999.0000,9,-999.0000,9,-999.0000,9,-999.0000,9,-999.0000,9,     -999.0,9,     -999.0,9,     -999.0,9,     -999.0,9,     -999.0,9
33RR20160208,       I08S,      64,          1,         23,         23,2,20160307,       0357,   -37.9993,    95.0039,       4155,   482.7,  10.3971,  34.8177,2,  34.8175,2,    250.3,2,   250.7,2,     3.3,2,    0.00,2,   12.49,2,    0.00,2,    0.87,2,   3.176,2,   1.829,2,   0.166,2,    1.77080635,2,  2124.0,2, 2300.01,2,   7.8058,6,    24.98,  10.3959, -999.00,9,  -999.0,9,  -999.0, -999.00,9,-999.000,9,    44.7,2, -999.00,9,     -999.0,1, -999.00,9, 20160307,      524, -37.9992,  95.0039,     -999.0,9,     -999.0,9,     -999.0,9,-999.0000,9,-999.0000,9,-999.0000,9,-999.0000,9,-999.0000,9,-999.0000,9,-999.0000,9,     -999.0,9,     -999.0,9,     -999.0,9,     -999.0,9,     -999.0,9
33RR20160208,       I08S,      64,          1,         24,         24,2,20160307,       0357,   -37.9993,    95.0039,       4155,   434.8,  10.6050,  34.8507,2,  34.8480,2,    251.9,2,   249.4,2,     3.1,2,    0.00,2,   12.01,2,    0.00,2,    0.86,2,-999.000,9,-999.000,9,-999.000,9,-999.000000000,9,  2123.4,6, 2303.95,2,   7.8094,6,    24.97,  10.6058, -999.00,9,  -999.0,9,  -999.0, -999.00,9,-999.000,9,    44.3,2, -999.00,9,     -999.0,1, -999.00,9, 20160307,      526, -37.9993,  95.0039,     -999.0,9,     -999.0,9,     -999.0,9,-999.0000,9,-999.0000,9,-999.0000,9,-999.0000,9,-999.0000,9,-999.0000,9,-999.0000,9,     -999.0,9,     -999.0,9,     -999.0,9,     -999.0,9,     -999.0,9
33RR20160208,       I08S,      64,          1,         25,         25,2,20160307,       0357,   -37.9993,    95.0039,       4155,   384.4,  10.7539,  34.8712,2,  34.8709,2,    250.5,2,   254.5,2,     2.8,2,    0.00,2,   11.03,2,    0.00,2,    0.80,2,   3.071,6,   1.799,6,   0.194,6,    1.81443491,6,  2119.3,2, 2302.66,2,   7.8202,2,    24.99,  10.7539, -999.00,9,  -999.0,9,  -999.0, -999.00,9,-999.000,9,    46.7,2, -999.00,9,     -999.0,1, -999.00,9, 20160307,      529, -37.9992,  95.0040,     -999.0,9,     -999.0,9,     -999.0,9,-999.0000,9,-999.0000,9,-999.0000,9,-999.0000,9,-999.0000,9,-999.0000,9,-999.0000,9,     -999.0,9,     -999.0,9,     -999.0,9,     -999.0,9,     -999.0,9
33RR20160208,       I08S,      64,          1,         26,         26,2,20160307,       0357,   -37.9993,    95.0039,       4155,   336.2,  10.9144,  34.8953,2,  34.8947,2,    253.9,2,   254.4,2,     2.6,2,    0.00,2,   10.62,2,    0.00,2,    0.77,2,-999.000,9,-999.000,9,-999.000,9,-999.000000000,9,  2119.0,2, 2304.84,2,   7.8233,2,    24.99,  10.9140, -999.00,9,  -999.0,9,  -999.0, -999.00,9,-999.000,9,    46.4,2,   12.70,2,     -999.0,1, -999.00,9, 20160307,      531, -37.9993,  95.0040,     -999.0,9,     -999.0,9,     -999.0,9,-999.0000,9,-999.0000,9,-999.0000,9,-999.0000,9,-999.0000,9,-999.0000,9,-999.0000,9,     -999.0,9,     -999.0,9,     -999.0,9,     -999.0,9,     -999.0,9
33RR20160208,       I08S,      64,          1,         27,         27,2,20160307,       0357,   -37.9993,    95.0039,       4155,   285.1,  11.1901,  34.9370,2,  34.9369,2,    252.7,2,   253.7,2,     2.3,2,    0.00,2,    9.85,2,    0.00,2,    0.73,2,   3.046,2,   1.791,2,   0.210,2,    1.92478951,2,  2117.0,2, 2307.02,2,   7.8295,2,    25.00,  11.1905, -999.00,9,  -999.0,9,  -999.0, -999.00,9,-999.000,9,    48.4,2,   15.60,3,     -999.0,1, -999.00,9, 20160307,      533, -37.9993,  95.0040,     -999.0,9,     -999.0,9,     -999.0,9,-999.0000,9,-999.0000,9,-999.0000,9,-999.0000,9,-999.0000,9,-999.0000,9,-999.0000,9,     -999.0,9,     -999.0,9,     -999.0,9,     -999.0,9,     -999.0,9