BOTTLE,20220706CCHSIOAMB
EXPOCODE,SECT_ID,STNNBR,CASTNO,SAMPNO,BTLNBR,BTLNBR_FLAG_W,DATE,TIME,LATITUDE,LONGITUDE,DEPTH,CTDPRS,CTDTMP,CTDSAL,CTDSAL_FLAG_W,SALNTY,SALNTY_FLAG_W,CTDOXY,CTDOXY_FLAG_W,OXYGEN,OXYGEN_FLAG_W,SILCAT,SILCAT_FLAG_W,NH4,NH4_FLAG_W,NITRAT,NITRAT_FLAG_W,NITRIT,NITRIT_FLAG_W,PHSPHT,PHSPHT_FLAG_W,CFC-11,CFC-11_FLAG_W,CFC-12,CFC-12_FLAG_W,CFC113,CFC113_FLAG_W,SF6,SF6_FLAG_W,TCARBN,TCARBN_FLAG_W,ALKALI,ALKALI_FLAG_W,PH_TOT,PH_TOT_FLAG_W,PH_TMP,REFTMP,DELC13,DELC13_FLAG_W,DELC14,DELC14_FLAG_W,C14ERR,DELO18,DELO18_FLAG_W,POC,POC_FLAG_W,DOC,DOC_FLAG_W,TDN,TDN_FLAG_W,TON,TON_FLAG_W,D15N_NO3,D15N_NO3_FLAG_W,BTL_DATE,BTL_TIME,BTL_LAT,BTL_LON,14C-DOC,14C-DOC_FLAG_W,CHLORA,CHLORA_FLAG_W,HPLC,HPLC_FLAG_W,CDOM325,CDOM325_FLAG_W,CDOM340,CDOM340_FLAG_W,CDOM380,CDOM380_FLAG_W,CDOM412,CDOM412_FLAG_W,CDOM443,CDOM443_FLAG_W,CDOM490,CDOM490_FLAG_W,CDOM555,CDOM555_FLAG_W,CDOMSL,CDOMSL_FLAG_W,CDOMSN,CDOMSN_FLAG_W,D18O_NO3,D18O_NO3_FLAG_W,D15N_NO2+NO3,D15N_NO2+NO3_FLAG_W,D18O_NO2+NO3,D18O_NO2+NO3_FLAG_W
,,,,,,,,,,,METERS,DBAR,ITS-90,PSS-78,,PSS-78,,UMOL/KG,,UMOL/KG,,UMOL/KG,,UMOL/KG,,UMOL/KG,,UMOL/KG,,UMOL/KG,,PMOL/KG,,PMOL/KG,,PMOL/KG,,FMOL/KG,,UMOL/KG,,UMOL/KG,,,,DEG C,DEG C,/MILLE,,/MILLE,,/MILLE,/MILLE,,UG/KG,,UMOL/KG,,UMOL/KG,,UMOL/KG,,/MILLE,,,,,,/MILLE,,MG/M3,,,,1/M,,1/M,,1/M,,1/M,,1/M,,1/M,,1/M,,1/NM,,1/NM,,/MILLE,,/MILLE,,/MILLE,
33RR20160208,       I08S,      41,          2,         28,         28,2,20160301,       0333,   -50.5401,    89.8300,       4107,   199.8,   2.7090,  34.0178,2,  34.0142,2,    285.3,2,   286.2,2,    22.5,2,    0.01,2,   28.62,2,    0.06,2,    1.95,2,   4.747,2,   2.648,2,   0.459,2,    2.08579168,2,  -999.0,9, -999.00,9,-999.0000,9,  -999.00,   2.7162, -999.00,9,  -999.0,9,  -999.0, -999.00,9,-999.000,9,  -999.0,9, -999.00,9,     -999.0,9, -999.00,9, 20160301,      509, -50.5455,  89.8418,     -999.0,9,     -999.0,9,     -999.0,9,-999.0000,9,-999.0000,9,-999.0000,9,-999.0000,9,-999.0000,9,-999.0000,9,-999.0000,9,     -999.0,9,     -999.0,9,     -999.0,9,     -999.0,9,     -999.0,9
33RR20160208,       I08S,      41,          2,         29,         29,2,20160301,       0333,   -50.5401,    89.8300,       4107,   149.8,   2.7698,  33.9210,2,  33.9228,2,    304.9,2,   308.3,2,    20.4,2,    0.38,2,   26.64,2,    0.22,2,    1.85,2,   5.031,2,   2.616,2,   0.442,2,    2.38564965,2,  2160.9,2, 2281.11,2,   7.6718,6,    24.98,   2.7698, -999.00,9,  -999.0,9,  -999.0, -999.00,9,-999.000,9,  -999.0,9, -999.00,9,     -999.0,9, -999.00,9, 20160301,      511, -50.5456,  89.8421,     -999.0,9,     -999.0,9,     -999.0,9,-999.0000,9,-999.0000,9,-999.0000,9,-999.0000,9,-999.0000,9,-999.0000,9,-999.0000,9,     -999.0,9,     -999.0,9,     -999.0,9,     -999.0,9,     -999.0,9
33RR20160208,       I08S,      41,          2,         30,         30,2,20160301,       0333,   -50.5401,    89.8300,       4107,   128.4,   3.4049,  33.8857,2,  33.8837,2,    310.4,2,   312.9,2,    14.3,2,    0.73,2,   24.89,2,    0.28,2,    1.76,2,   4.420,2,   2.467,2,   0.431,2,    2.49339522,2,  -999.0,9, -999.00,9,-999.0000,9,  -999.00,   3.4035, -999.00,9,  -999.0,9,  -999.0, -999.00,9,-999.000,9,  -999.0,9, -999.00,9,     -999.0,9, -999.00,9, 20160301,      512, -50.5457,  89.8424,     -999.0,9,     -999.0,9,     -999.0,9,-999.0000,9,-999.0000,9,-999.0000,9,-999.0000,9,-999.0000,9,-999.0000,9,-999.0000,9,     -999.0,9,     -999.0,9,     -999.0,9,     -999.0,9,     -999.0,9
33RR20160208,       I08S,      41,          2,         31,         31,2,20160301,       0333,   -50.5401,    89.8300,       4107,   103.0,   4.6405,  33.8452,2,  33.8413,2,    311.1,2,   309.3,2,     7.4,2,    0.86,2,   22.42,2,    0.22,2,    1.59,2,   4.225,2,   2.382,2,   0.414,2,    2.46290119,2,  2135.3,2, 2277.76,6,   7.7323,2,    24.97,   4.5997, -999.00,9,  -999.0,9,  -999.0, -999.00,9,-999.000,9,  -999.0,9, -999.00,9,     -999.0,9, -999.00,9, 20160301,      514, -50.5458,  89.8425,     -999.0,9,     -999.0,9,     -999.0,9,-999.0000,9,-999.0000,9,-999.0000,9,-999.0000,9,-999.0000,9,-999.0000,9,-999.0000,9,     -999.0,9,     -999.0,9,     -999.0,9,     -999.0,9,     -999.0,9
33RR20160208,       I08S,      41,          2,         32,         32,2,20160301,       0333,   -50.5401,    89.8300,       4107,    76.4,   5.7564,  33.7927,2,  33.7920,2,    304.6,2,   306.4,2,     3.6,2,    0.54,2,   21.13,2,    0.22,2,    1.47,2,   4.222,2,   2.379,2,   0.415,2,    2.46391766,2,  -999.0,9, -999.00,9,-999.0000,9,     9.00,   5.7560, -999.00,9,  -999.0,9,  -999.0, -999.00,9,-999.000,9,  -999.0,9, -999.00,9,     -999.0,9, -999.00,9, 20160301,      516, -50.5460,  89.8424,     -999.0,9,     -999.0,9,     -999.0,9,-999.0000,9,-999.0000,9,-999.0000,9,-999.0000,9,-999.0000,9,-999.0000,9,-999.0000,9,     -999.0,9,     -999.0,9,     -999.0,9,     -999.0,9,     -999.0,9
33RR20160208,       I08S,      41,          2,         33,         33,2,20160301,       0333,   -50.5401,    89.8300,       4107,    54.4,   5.8429,  33.7873,2,  33.7873,2,    304.9,2,   306.0,2,     3.3,2,    0.50,2,   21.05,2,    0.22,2,    1.47,2,   4.175,2,   2.369,2,   0.406,2,    2.61537135,2,  2122.2,2, 2275.60,2,   7.7596,2,    25.00,   5.8432, -999.00,9,  -999.0,9,  -999.0, -999.00,9,-999.000,9,  -999.0,9, -999.00,9,     -999.0,9, -999.00,9, 20160301,      518, -50.5462,  89.8423,     -999.0,9,     -999.0,9,     -999.0,9,-999.0000,9,-999.0000,9,-999.0000,9,-999.0000,9,-999.0000,9,-999.0000,9,-999.0000,9,     -999.0,9,     -999.0,9,     -999.0,9,     -999.0,9,     -999.0,9
33RR20160208,       I08S,      41,          2,         35,         35,2,20160301,       0333,   -50.5401,    89.8300,       4107,    37.4,   5.8495,  33.7865,2,-999.0000,9,    305.4,2,  -999.0,9,  -999.0,9, -999.00,9, -999.00,9, -999.00,9, -999.00,9,-999.000,9,-999.000,9,-999.000,9,-999.000000000,9,  -999.0,9, -999.00,9,-999.0000,9,  -999.00,   5.8459, -999.00,9,  -999.0,9,  -999.0, -999.00,9,-999.000,1,  -999.0,9, -999.00,9,     -999.0,9, -999.00,9, 20160301,      521, -50.5463,  89.8423,     -999.0,9,     -999.0,9,     -999.0,1,-999.0000,9,-999.0000,9,-999.0000,9,-999.0000,9,-999.0000,9,-999.0000,9,-999.0000,9,     -999.0,9,     -999.0,9,     -999.0,9,     -999.0,9,     -999.0,9
33RR20160208,       I08S,      41,          2,         34,         34,2,20160301,       0333,   -50.5401,    89.8300,       4107,    37.3,   5.8493,  33.7863,2,  33.7863,2,    305.4,2,   306.0,2,     3.3,2,    0.49,2,   20.93,2,    0.22,2,    1.46,2,   4.188,2,   2.355,2,   0.410,2,    2.45578592,2,  2116.7,2, 2274.04,2,   7.7619,2,    24.93,   5.8494, -999.00,9,  -999.0,9,  -999.0, -999.00,9,-999.000,9,  -999.0,9, -999.00,9,     -999.0,9, -999.00,9, 20160301,      520, -50.5463,  89.8424,     -999.0,9,     -999.0,9,     -999.0,9,-999.0000,9,-999.0000,9,-999.0000,9,-999.0000,9,-999.0000,9,-999.0000,9,-999.0000,9,     -999.0,9,     -999.0,9,     -999.0,9,     -999.0,9,     -999.0,9
33RR20160208,       I08S,      41,          2,         36,         36,2,20160301,       0333,   -50.5401,    89.8300,       4107,     5.8,   5.8523,  33.7866,2,  33.7863,2,    306.2,2,   306.5,2,     3.3,2,    0.53,2,   20.90,2,    0.23,2,    1.46,2,   4.188,2,   2.355,2,   0.410,2,    2.44460478,2,  2120.2,2, 2272.90,2,   7.7600,2,    25.02,   5.8521, -999.00,9,  -999.0,9,  -999.0, -999.00,9,-999.000,1,  -999.0,9, -999.00,9,     -999.0,9, -999.00,9, 20160301,      524, -50.5465,  89.8423,     -999.0,9,     -999.0,9,     -999.0,1,-999.0000,9,-999.0000,9,-999.0000,9,-999.0000,9,-999.0000,9,-999.0000,9,-999.0000,9,     -999.0,9,     -999.0,9,     -999.0,9,     -999.0,9,     -999.0,9