BOTTLE,20220706CCHSIOAMB
EXPOCODE,SECT_ID,STNNBR,CASTNO,SAMPNO,BTLNBR,BTLNBR_FLAG_W,DATE,TIME,LATITUDE,LONGITUDE,DEPTH,CTDPRS,CTDTMP,CTDSAL,CTDSAL_FLAG_W,SALNTY,SALNTY_FLAG_W,CTDOXY,CTDOXY_FLAG_W,OXYGEN,OXYGEN_FLAG_W,SILCAT,SILCAT_FLAG_W,NH4,NH4_FLAG_W,NITRAT,NITRAT_FLAG_W,NITRIT,NITRIT_FLAG_W,PHSPHT,PHSPHT_FLAG_W,CFC-11,CFC-11_FLAG_W,CFC-12,CFC-12_FLAG_W,CFC113,CFC113_FLAG_W,SF6,SF6_FLAG_W,TCARBN,TCARBN_FLAG_W,ALKALI,ALKALI_FLAG_W,PH_TOT,PH_TOT_FLAG_W,PH_TMP,REFTMP,DELC13,DELC13_FLAG_W,DELC14,DELC14_FLAG_W,C14ERR,DELO18,DELO18_FLAG_W,POC,POC_FLAG_W,DOC,DOC_FLAG_W,TDN,TDN_FLAG_W,TON,TON_FLAG_W,D15N_NO3,D15N_NO3_FLAG_W,BTL_DATE,BTL_TIME,BTL_LAT,BTL_LON,14C-DOC,14C-DOC_FLAG_W,CHLORA,CHLORA_FLAG_W,HPLC,HPLC_FLAG_W,CDOM325,CDOM325_FLAG_W,CDOM340,CDOM340_FLAG_W,CDOM380,CDOM380_FLAG_W,CDOM412,CDOM412_FLAG_W,CDOM443,CDOM443_FLAG_W,CDOM490,CDOM490_FLAG_W,CDOM555,CDOM555_FLAG_W,CDOMSL,CDOMSL_FLAG_W,CDOMSN,CDOMSN_FLAG_W,D18O_NO3,D18O_NO3_FLAG_W,D15N_NO2+NO3,D15N_NO2+NO3_FLAG_W,D18O_NO2+NO3,D18O_NO2+NO3_FLAG_W
,,,,,,,,,,,METERS,DBAR,ITS-90,PSS-78,,PSS-78,,UMOL/KG,,UMOL/KG,,UMOL/KG,,UMOL/KG,,UMOL/KG,,UMOL/KG,,UMOL/KG,,PMOL/KG,,PMOL/KG,,PMOL/KG,,FMOL/KG,,UMOL/KG,,UMOL/KG,,,,DEG C,DEG C,/MILLE,,/MILLE,,/MILLE,/MILLE,,UG/KG,,UMOL/KG,,UMOL/KG,,UMOL/KG,,/MILLE,,,,,,/MILLE,,MG/M3,,,,1/M,,1/M,,1/M,,1/M,,1/M,,1/M,,1/M,,1/NM,,1/NM,,/MILLE,,/MILLE,,/MILLE,
33RR20160208,       I08S,       3,          1,          1,          1,2,20160219,       1335,   -66.4500,    78.2494,       1497,  1488.4,   0.1359,  34.6611,2,  34.6623,2,    226.9,2,   227.0,2,   110.8,2,    0.00,2,   32.08,2,    0.00,2,    2.24,2,   1.268,2,   0.589,2,   0.105,2,         0.532,2,  2257.8,2, 2351.98,2,   7.5916,6,    25.04,   0.1365,    0.49,2,  -157.0,2,     1.7, -999.00,1,-999.000,9,  -999.0,9, -999.00,9,     -999.0,9, -999.00,9, 20160219,     1335, -66.4500,  78.2494,     -999.0,9,     -999.0,9,     -999.0,9,-999.0000,9,-999.0000,9,-999.0000,9,-999.0000,9,-999.0000,9,-999.0000,9,-999.0000,9,     -999.0,9,     -999.0,9,     -999.0,9,     -999.0,9,     -999.0,9
33RR20160208,       I08S,       3,          1,          2,          2,2,20160219,       1335,   -66.4500,    78.2494,       1497,  1360.9,   0.1545,  34.6618,2,  34.6622,2,    225.7,2,   226.2,2,   110.2,2,    0.00,2,   32.05,2,    0.00,2,    2.23,2,   1.189,2,   0.579,2,   0.098,2,         0.597,2,  2257.3,2, 2352.76,2,   7.5936,3,    25.04,   0.1549,    0.48,2,  -153.3,2,     1.7, -999.00,1,-999.000,9,  -999.0,9, -999.00,9,     -999.0,9, -999.00,9, 20160219,     1339, -66.4499,  78.2494,     -999.0,9,     -999.0,9,     -999.0,9,-999.0000,9,-999.0000,9,-999.0000,9,-999.0000,9,-999.0000,9,-999.0000,9,-999.0000,9,     -999.0,9,     -999.0,9,     -999.0,9,     -999.0,9,     -999.0,9
33RR20160208,       I08S,       3,          1,          3,          3,2,20160219,       1335,   -66.4500,    78.2494,       1497,  1269.3,   0.2037,  34.6627,2,  34.6637,2,    225.1,2,   225.1,2,   109.0,2,    0.00,2,   31.95,2,    0.00,2,    2.23,2,   1.172,2,   0.569,2,   0.099,2,         0.717,2,  -999.0,9, -999.00,9,-999.0000,9,  -999.00,   0.2035, -999.00,9,  -999.0,9,  -999.0, -999.00,1,-999.000,9,  -999.0,9, -999.00,9,     -999.0,9, -999.00,9, 20160219,     1342, -66.4500,  78.2494,     -999.0,9,     -999.0,9,     -999.0,9,-999.0000,9,-999.0000,9,-999.0000,9,-999.0000,9,-999.0000,9,-999.0000,9,-999.0000,9,     -999.0,9,     -999.0,9,     -999.0,9,     -999.0,9,     -999.0,9
33RR20160208,       I08S,       3,          1,          4,          4,2,20160219,       1335,   -66.4500,    78.2494,       1497,  1169.3,   0.2347,  34.6636,2,  34.6640,2,    225.0,2,   224.9,2,   108.0,2,    0.00,2,   31.95,2,    0.00,2,    2.23,2,   1.167,2,   0.571,2,   0.095,2,         0.692,2,  2253.1,2, 2352.03,6,   7.5918,2,    25.08,   0.2346,    0.46,2,  -154.3,2,     2.0, -999.00,1,-999.000,9,  -999.0,9, -999.00,9,     -999.0,9, -999.00,9, 20160219,     1345, -66.4499,  78.2494,     -999.0,9,     -999.0,9,     -999.0,9,-999.0000,9,-999.0000,9,-999.0000,9,-999.0000,9,-999.0000,9,-999.0000,9,-999.0000,9,     -999.0,9,     -999.0,9,     -999.0,9,     -999.0,9,     -999.0,9
33RR20160208,       I08S,       3,          1,          5,          5,2,20160219,       1335,   -66.4500,    78.2494,       1497,  1068.7,   0.3126,  34.6660,2,  34.6657,2,    223.9,2,   222.5,2,   106.2,2,    0.00,2,   31.89,2,    0.00,2,    2.23,2,   1.125,2,   0.568,2,   0.093,2,         0.709,2,  -999.0,9, -999.00,9,-999.0000,9,  -999.00,   0.3137,    0.48,2,  -153.6,2,     1.8, -999.00,1,-999.000,9,  -999.0,9, -999.00,9,     -999.0,9, -999.00,9, 20160219,     1348, -66.4499,  78.2494,     -999.0,9,     -999.0,9,     -999.0,9,-999.0000,9,-999.0000,9,-999.0000,9,-999.0000,9,-999.0000,9,-999.0000,9,-999.0000,9,     -999.0,9,     -999.0,9,     -999.0,9,     -999.0,9,     -999.0,9
33RR20160208,       I08S,       3,          1,          6,          6,2,20160219,       1335,   -66.4500,    78.2494,       1497,   968.7,   0.3954,  34.6703,2,  34.6711,2,    221.6,2,   221.5,2,   105.0,2,    0.00,2,   31.89,2,    0.00,2,    2.23,2,   1.061,2,   0.522,2,   0.089,2,         0.614,2,  -999.0,9, -999.00,9,-999.0000,9,  -999.00,   0.3950, -999.00,9,  -999.0,9,  -999.0, -999.00,1,-999.000,9,  -999.0,9, -999.00,9,     -999.0,9, -999.00,9, 20160219,     1351, -66.4500,  78.2494,     -999.0,9,     -999.0,9,     -999.0,9,-999.0000,9,-999.0000,9,-999.0000,9,-999.0000,9,-999.0000,9,-999.0000,9,-999.0000,9,     -999.0,9,     -999.0,9,     -999.0,9,     -999.0,9,     -999.0,9
33RR20160208,       I08S,       3,          1,          7,          7,2,20160219,       1335,   -66.4500,    78.2494,       1497,   859.8,   0.3534,  34.6586,2,  34.6597,2,    225.2,2,   226.2,2,    99.9,2,    0.00,2,   31.73,2,    0.00,2,    2.21,2,   1.313,2,   0.649,2,   0.113,2,          0.69,2,  2254.5,2, 2346.99,2,   7.5928,2,    25.06,   0.3539,    0.46,2,  -152.2,2,     1.9, -999.00,1,-999.000,9,  -999.0,9, -999.00,9,     -999.0,9, -999.00,9, 20160219,     1355, -66.4499,  78.2494,     -999.0,9,     -999.0,9,     -999.0,9,-999.0000,9,-999.0000,9,-999.0000,9,-999.0000,9,-999.0000,9,-999.0000,9,-999.0000,9,     -999.0,9,     -999.0,9,     -999.0,9,     -999.0,9,     -999.0,9
33RR20160208,       I08S,       3,          1,          8,          8,2,20160219,       1335,   -66.4500,    78.2494,       1497,   786.6,   0.3805,  34.6554,2,  34.6557,2,    225.3,2,   226.5,2,    97.0,2,    0.00,2,   31.64,2,    0.00,2,    2.20,2,   1.416,2,   0.685,2,   0.124,2,         0.782,2,  -999.0,9, -999.00,9,-999.0000,9,  -999.00,   0.3809, -999.00,9,  -999.0,9,  -999.0, -999.00,1,-999.000,9,  -999.0,9, -999.00,9,     -999.0,9, -999.00,9, 20160219,     1357, -66.4500,  78.2494,     -999.0,9,     -999.0,9,     -999.0,9,-999.0000,9,-999.0000,9,-999.0000,9,-999.0000,9,-999.0000,9,-999.0000,9,-999.0000,9,     -999.0,9,     -999.0,9,     -999.0,9,     -999.0,9,     -999.0,9
33RR20160208,       I08S,       3,          1,          9,          9,2,20160219,       1335,   -66.4500,    78.2494,       1497,   711.0,   0.3957,  34.6487,2,  34.6503,2,    227.8,2,   226.8,2,    93.0,2,    0.00,2,   31.46,2,    0.00,2,    2.20,2,   1.545,2,   0.760,2,   0.135,2,         0.844,2,  -999.0,9, -999.00,9,-999.0000,9,  -999.00,   0.3979,    0.49,2,  -148.4,2,     1.9, -999.00,1,-999.000,9,  -999.0,9, -999.00,9,     -999.0,9, -999.00,9, 20160219,     1400, -66.4499,  78.2493,     -999.0,9,     -999.0,9,     -999.0,9,-999.0000,9,-999.0000,9,-999.0000,9,-999.0000,9,-999.0000,9,-999.0000,9,-999.0000,9,     -999.0,9,     -999.0,9,     -999.0,9,     -999.0,9,     -999.0,9
33RR20160208,       I08S,       3,          1,         10,         10,2,20160219,       1335,   -66.4500,    78.2494,       1497,   634.7,   0.2202,  34.6203,2,  34.6196,2,    233.6,2,   234.9,2,    86.6,2,    0.00,2,   31.35,2,    0.00,2,    2.18,2,   2.017,2,   1.013,2,   0.179,2,         1.081,2,  -999.0,9, -999.00,9,-999.0000,9,     9.00,   0.2212, -999.00,9,  -999.0,9,  -999.0, -999.00,1,-999.000,9,  -999.0,9, -999.00,9,     -999.0,9, -999.00,9, 20160219,     1403, -66.4498,  78.2485,     -999.0,9,     -999.0,9,     -999.0,9,-999.0000,9,-999.0000,9,-999.0000,9,-999.0000,9,-999.0000,9,-999.0000,9,-999.0000,9,     -999.0,9,     -999.0,9,     -999.0,9,     -999.0,9,     -999.0,9
33RR20160208,       I08S,       3,          1,         11,         11,2,20160219,       1335,   -66.4500,    78.2494,       1497,   582.3,   0.0431,  34.5970,2,  34.5958,2,    241.8,2,   242.1,2,    83.4,2,    0.00,2,   31.34,2,    0.00,2,    2.19,2,   2.377,6,   1.248,6,   0.214,6,        1.3015,6,  2245.1,2, 2339.79,2,   7.5915,6,    25.06,   0.0418,    0.47,2,  -139.5,2,     1.7, -999.00,1,-999.000,9,  -999.0,9, -999.00,9,     -999.0,9, -999.00,9, 20160219,     1405, -66.4497,  78.2471,     -999.0,9,     -999.0,9,     -999.0,9,-999.0000,9,-999.0000,9,-999.0000,9,-999.0000,9,-999.0000,9,-999.0000,9,-999.0000,9,     -999.0,9,     -999.0,9,     -999.0,9,     -999.0,9,     -999.0,9
33RR20160208,       I08S,       3,          1,         12,         12,2,20160219,       1335,   -66.4500,    78.2494,       1497,   511.1,  -0.2492,  34.5579,2,  34.5593,2,    254.8,2,   253.7,2,    78.1,2,    0.00,2,   31.32,2,    0.00,2,    2.20,2,   2.994,2,   1.539,2,   0.271,2,         1.449,2,  -999.0,9, -999.00,9,-999.0000,9,  -999.00,  -0.2475, -999.00,9,  -999.0,9,  -999.0, -999.00,1,-999.000,9,  -999.0,9, -999.00,9,     -999.0,9, -999.00,9, 20160219,     1407, -66.4494,  78.2456,     -999.0,9,     -999.0,9,     -999.0,9,-999.0000,9,-999.0000,9,-999.0000,9,-999.0000,9,-999.0000,9,-999.0000,9,-999.0000,9,     -999.0,9,     -999.0,9,     -999.0,9,     -999.0,9,     -999.0,9
33RR20160208,       I08S,       3,          1,         13,         13,2,20160219,       1335,   -66.4500,    78.2494,       1497,   462.3,  -0.5949,  34.5208,2,  34.5210,2,    268.8,2,   266.3,2,    74.0,2,    0.00,2,   31.18,2,    0.00,2,    2.19,2,   3.459,2,   1.846,2,   0.318,2,         1.891,2,  -999.0,9, -999.00,9,-999.0000,9,     9.00,  -0.5948, -999.00,9,  -999.0,9,  -999.0, -999.00,1,-999.000,9,  -999.0,9, -999.00,9,     -999.0,9, -999.00,9, 20160219,     1410, -66.4492,  78.2441,     -999.0,9,     -999.0,9,     -999.0,9,-999.0000,9,-999.0000,9,-999.0000,9,-999.0000,9,-999.0000,9,-999.0000,9,-999.0000,9,     -999.0,9,     -999.0,9,     -999.0,9,     -999.0,9,     -999.0,9
33RR20160208,       I08S,       3,          1,         14,         14,2,20160219,       1335,   -66.4500,    78.2494,       1497,   417.3,  -0.9448,  34.4817,2,  34.4807,2,    290.4,2,   280.6,2,    69.4,2,    0.00,2,   30.90,2,    0.00,2,    2.17,2,   4.118,2,   2.190,2,   0.379,2,         2.088,2,  2232.9,2, 2330.55,2,   7.5984,6,    25.05,  -0.9427,    0.69,2,  -128.9,2,     1.9, -999.00,1,-999.000,9,  -999.0,9, -999.00,9,     -999.0,9, -999.00,9, 20160219,     1412, -66.4489,  78.2428,     -999.0,9,     -999.0,9,     -999.0,9,-999.0000,9,-999.0000,9,-999.0000,9,-999.0000,9,-999.0000,9,-999.0000,9,-999.0000,9,     -999.0,9,     -999.0,9,     -999.0,9,     -999.0,9,     -999.0,9
33RR20160208,       I08S,       3,          1,         15,         15,2,20160219,       1335,   -66.4500,    78.2494,       1497,   370.8,  -1.4033,  34.4409,2,  34.4409,2,    299.5,2,   298.8,2,    65.2,2,    0.00,2,   30.47,2,    0.00,2,    2.15,2,   4.665,2,   2.548,2,   0.441,2,         2.364,2,  -999.0,9, -999.00,9,-999.0000,9,  -999.00,  -1.3977, -999.00,9,  -999.0,9,  -999.0, -999.00,1,-999.000,9,  -999.0,9, -999.00,9,     -999.0,9, -999.00,9, 20160219,     1415, -66.4489,  78.2426,     -999.0,9,     -999.0,9,     -999.0,9,-999.0000,9,-999.0000,9,-999.0000,9,-999.0000,9,-999.0000,9,-999.0000,9,-999.0000,9,     -999.0,9,     -999.0,9,     -999.0,9,     -999.0,9,     -999.0,9
33RR20160208,       I08S,       3,          1,         16,         16,2,20160219,       1335,   -66.4500,    78.2494,       1497,   316.5,  -1.5094,  34.4246,2,  34.4263,2,    299.6,2,   302.3,2,    63.7,2,    0.00,2,   30.34,2,    0.00,2,    2.14,2,   4.872,2,   2.639,2,   0.459,2,         2.577,2,  -999.0,9, -999.00,9,-999.0000,9,     9.00,  -1.5088,    0.79,2,  -131.8,2,     2.3, -999.00,1,-999.000,9,  -999.0,9, -999.00,9,     -999.0,9, -999.00,9, 20160219,     1417, -66.4489,  78.2426,     -999.0,9,     -999.0,9,     -999.0,9,-999.0000,9,-999.0000,9,-999.0000,9,-999.0000,9,-999.0000,9,-999.0000,9,-999.0000,9,     -999.0,9,     -999.0,9,     -999.0,9,     -999.0,9,     -999.0,9
33RR20160208,       I08S,       3,          1,         17,         17,2,20160219,       1335,   -66.4500,    78.2494,       1497,   265.5,  -1.5564,  34.4030,2,  34.4041,2,    305.4,2,   305.3,2,    61.8,2,    0.00,2,   30.20,2,    0.00,2,    2.12,2,   4.868,2,   2.637,2,   0.469,2,         2.513,2,  2222.9,2, 2323.74,6,   7.6107,6,    25.05,  -1.5555,    0.80,2,  -126.2,2,     4.5, -999.00,1,-999.000,9,  -999.0,9, -999.00,9,     -999.0,9, -999.00,9, 20160219,     1420, -66.4489,  78.2427,     -999.0,9,     -999.0,9,     -999.0,9,-999.0000,9,-999.0000,9,-999.0000,9,-999.0000,9,-999.0000,9,-999.0000,9,-999.0000,9,     -999.0,9,     -999.0,9,     -999.0,9,     -999.0,9,     -999.0,9
33RR20160208,       I08S,       3,          1,         18,         18,2,20160219,       1335,   -66.4500,    78.2494,       1497,   235.8,  -1.5969,  34.3914,2,  34.3931,2,    308.1,2,   305.4,2,    61.2,2,    0.00,2,   30.17,2,    0.00,2,    2.11,2,   4.939,2,   2.674,2,   0.473,2,         2.599,2,  -999.0,9, -999.00,9,-999.0000,9,  -999.00,  -1.5960, -999.00,9,  -999.0,9,  -999.0, -999.00,1,-999.000,9,  -999.0,9, -999.00,9,     -999.0,9, -999.00,9, 20160219,     1422, -66.4489,  78.2426,     -999.0,9,     -999.0,9,     -999.0,9,-999.0000,9,-999.0000,9,-999.0000,9,-999.0000,9,-999.0000,9,-999.0000,9,-999.0000,9,     -999.0,9,     -999.0,9,     -999.0,9,     -999.0,9,     -999.0,9
33RR20160208,       I08S,       3,          1,         19,         19,2,20160219,       1335,   -66.4500,    78.2494,       1497,   210.1,  -1.6420,  34.3824,2,  34.3846,2,    309.7,2,   306.7,2,    60.5,2,    0.00,2,   30.18,2,    0.00,2,    2.10,2,   4.882,2,   2.639,2,   0.461,2,         2.431,2,  -999.0,9, -999.00,9,-999.0000,9,     9.00,  -1.6415, -999.00,9,  -999.0,9,  -999.0, -999.00,1,-999.000,9,  -999.0,9, -999.00,9,     -999.0,9, -999.00,9, 20160219,     1424, -66.4489,  78.2426,     -999.0,9,     -999.0,9,     -999.0,9,-999.0000,9,-999.0000,9,-999.0000,9,-999.0000,9,-999.0000,9,-999.0000,9,-999.0000,9,     -999.0,9,     -999.0,9,     -999.0,9,     -999.0,9,     -999.0,9
33RR20160208,       I08S,       3,          1,         20,         20,2,20160219,       1335,   -66.4500,    78.2494,       1497,   184.7,  -1.7107,  34.3734,2,  34.3745,2,    309.7,2,   309.8,2,    59.6,2,    0.00,2,   30.05,2,    0.00,2,    2.10,2,   5.011,2,   2.717,2,   0.459,2,          2.65,2,  2223.4,2, 2322.22,2,   7.6154,6,    25.00,  -1.7113,    0.82,2,  -127.3,2,     1.8, -999.00,1,-999.000,9,  -999.0,9, -999.00,9,     -999.0,9, -999.00,9, 20160219,     1426, -66.4489,  78.2426,     -999.0,9,     -999.0,9,     -999.0,9,-999.0000,9,-999.0000,9,-999.0000,9,-999.0000,9,-999.0000,9,-999.0000,9,-999.0000,9,     -999.0,9,     -999.0,9,     -999.0,9,     -999.0,9,     -999.0,9
33RR20160208,       I08S,       3,          1,         21,         21,2,20160219,       1335,   -66.4500,    78.2494,       1497,   160.5,  -1.7560,  34.3606,2,  34.3625,2,    308.3,2,   310.7,2,    58.8,2,    0.00,2,   29.97,2,    0.02,2,    2.09,2,   4.990,2,   2.680,2,   0.484,2,         2.494,2,  -999.0,9, -999.00,9,-999.0000,9,  -999.00,  -1.7550, -999.00,9,  -999.0,9,  -999.0, -999.00,1,-999.000,9,  -999.0,9, -999.00,9,     -999.0,9, -999.00,9, 20160219,     1428, -66.4489,  78.2427,     -999.0,9,     -999.0,9,     -999.0,9,-999.0000,9,-999.0000,9,-999.0000,9,-999.0000,9,-999.0000,9,-999.0000,9,-999.0000,9,     -999.0,9,     -999.0,9,     -999.0,9,     -999.0,9,     -999.0,9
33RR20160208,       I08S,       3,          1,         22,         22,2,20160219,       1335,   -66.4500,    78.2494,       1497,   135.2,  -1.7630,  34.3485,2,  34.3509,2,    309.5,2,   308.2,2,    58.1,2,    0.00,2,   30.00,2,    0.04,2,    2.09,2,   4.936,2,   2.676,2,   0.485,2,         2.724,2,  2221.7,2, 2319.61,2,   7.6136,2,    25.08,  -1.7618,    0.77,2,  -128.6,2,     1.9, -999.00,1,-999.000,9,  -999.0,9, -999.00,9,     -999.0,9, -999.00,9, 20160219,     1430, -66.4490,  78.2425,     -999.0,9,     -999.0,9,     -999.0,9,-999.0000,9,-999.0000,9,-999.0000,9,-999.0000,9,-999.0000,9,-999.0000,9,-999.0000,9,     -999.0,9,     -999.0,9,     -999.0,9,     -999.0,9,     -999.0,9
33RR20160208,       I08S,       3,          1,         23,         23,2,20160219,       1335,   -66.4500,    78.2494,       1497,   110.5,  -1.7814,  34.3342,2,  34.3359,2,    310.7,2,   309.5,2,    57.7,2,    0.01,2,   30.00,2,    0.06,2,    2.09,2,   4.901,2,   2.653,2,   0.477,2,         2.546,2,  -999.0,9, -999.00,9,-999.0000,9,  -999.00,  -1.7810,    0.84,2,  -127.7,2,     1.9, -999.00,1,-999.000,9,  -999.0,9, -999.00,9,     -999.0,9, -999.00,9, 20160219,     1432, -66.4491,  78.2425,     -999.0,9,     -999.0,9,     -999.0,9,-999.0000,9,-999.0000,9,-999.0000,9,-999.0000,9,-999.0000,9,-999.0000,9,-999.0000,9,     -999.0,9,     -999.0,9,     -999.0,9,     -999.0,9,     -999.0,9
33RR20160208,       I08S,       3,          1,         24,         24,2,20160219,       1335,   -66.4500,    78.2494,       1497,    85.4,  -1.7936,  34.3090,2,  34.3110,2,    309.4,2,   307.0,2,    57.4,2,    0.12,2,   29.92,2,    0.15,2,    2.10,2,   4.942,2,   2.639,2,   0.476,2,         2.487,2,  2218.7,2, 2317.83,2,   7.6117,2,    25.07,  -1.7930,    0.84,2,  -122.2,2,     1.9, -999.00,1,-999.000,9,  -999.0,9, -999.00,9,     -999.0,9, -999.00,9, 20160219,     1434, -66.4491,  78.2427,     -999.0,9,     -999.0,9,     -999.0,9,-999.0000,9,-999.0000,9,-999.0000,9,-999.0000,9,-999.0000,9,-999.0000,9,-999.0000,9,     -999.0,9,     -999.0,9,     -999.0,9,     -999.0,9,     -999.0,9
33RR20160208,       I08S,       3,          1,         25,         25,2,20160219,       1335,   -66.4500,    78.2494,       1497,    61.6,  -1.7773,  34.2618,2,  34.2672,2,    308.7,2,   309.9,2,    56.7,2,    0.45,2,   29.61,2,    0.15,2,    2.09,2,   4.864,2,   2.615,2,   0.476,2,         2.498,2,  2215.4,2, 2315.49,2,   7.6135,2,    25.06,  -1.7764, -999.00,9,  -999.0,9,  -999.0, -999.00,1,-999.000,9,  -999.0,9, -999.00,9,     -999.0,9, -999.00,9, 20160219,     1436, -66.4491,  78.2429,     -999.0,9,     -999.0,9,     -999.0,9,-999.0000,9,-999.0000,9,-999.0000,9,-999.0000,9,-999.0000,9,-999.0000,9,-999.0000,9,     -999.0,9,     -999.0,9,     -999.0,9,     -999.0,9,     -999.0,9
33RR20160208,       I08S,       3,          1,         26,         26,2,20160219,       1335,   -66.4500,    78.2494,       1497,    35.4,  -1.6820,  34.1015,2,  34.1229,2,    321.0,2,   320.0,2,    53.1,2,    1.27,2,   28.05,2,    0.08,2,    2.06,2,   5.030,2,   2.675,2,   0.491,2,         2.741,2,  2203.0,2, 2308.87,2,   7.6389,3,    25.05,  -1.6811,    0.87,2,  -128.2,2,     1.8, -999.00,1,-999.000,9,  -999.0,9, -999.00,9,     -999.0,9, -999.00,9, 20160219,     1438, -66.4491,  78.2431,     -999.0,9,     -999.0,9,     -999.0,9,-999.0000,9,-999.0000,9,-999.0000,9,-999.0000,9,-999.0000,9,-999.0000,9,-999.0000,9,     -999.0,9,     -999.0,9,     -999.0,9,     -999.0,9,     -999.0,9
33RR20160208,       I08S,       3,          1,         27,         27,2,20160219,       1335,   -66.4500,    78.2494,       1497,     4.7,  -1.3958,  33.0264,2,  33.0275,2,    351.0,2,   351.4,2,    44.9,2,    0.67,2,   23.89,2,    0.15,2,    1.61,2,   5.597,2,   3.074,2,   0.568,2,         3.185,2,  2109.0,2, 2238.45,2,   7.7034,2,    25.05,  -1.3952,    1.23,2,  -118.3,2,     1.8, -999.00,1,-999.000,9,  -999.0,9, -999.00,9,     -999.0,9, -999.00,9, 20160219,     1440, -66.4490,  78.2431,     -999.0,9,     -999.0,9,     -999.0,9,-999.0000,9,-999.0000,9,-999.0000,9,-999.0000,9,-999.0000,9,-999.0000,9,-999.0000,9,     -999.0,9,     -999.0,9,     -999.0,9,     -999.0,9,     -999.0,9