BOTTLE,20220706CCHSIOAMB
EXPOCODE,SECT_ID,STNNBR,CASTNO,SAMPNO,BTLNBR,BTLNBR_FLAG_W,DATE,TIME,LATITUDE,LONGITUDE,DEPTH,CTDPRS,CTDTMP,CTDSAL,CTDSAL_FLAG_W,SALNTY,SALNTY_FLAG_W,CTDOXY,CTDOXY_FLAG_W,OXYGEN,OXYGEN_FLAG_W,SILCAT,SILCAT_FLAG_W,NH4,NH4_FLAG_W,NITRAT,NITRAT_FLAG_W,NITRIT,NITRIT_FLAG_W,PHSPHT,PHSPHT_FLAG_W,CFC-11,CFC-11_FLAG_W,CFC-12,CFC-12_FLAG_W,CFC113,CFC113_FLAG_W,SF6,SF6_FLAG_W,TCARBN,TCARBN_FLAG_W,ALKALI,ALKALI_FLAG_W,PH_TOT,PH_TOT_FLAG_W,PH_TMP,REFTMP,DELC13,DELC13_FLAG_W,DELC14,DELC14_FLAG_W,C14ERR,DELO18,DELO18_FLAG_W,POC,POC_FLAG_W,DOC,DOC_FLAG_W,TDN,TDN_FLAG_W,TON,TON_FLAG_W,D15N_NO3,D15N_NO3_FLAG_W,BTL_DATE,BTL_TIME,BTL_LAT,BTL_LON,14C-DOC,14C-DOC_FLAG_W,CHLORA,CHLORA_FLAG_W,HPLC,HPLC_FLAG_W,CDOM325,CDOM325_FLAG_W,CDOM340,CDOM340_FLAG_W,CDOM380,CDOM380_FLAG_W,CDOM412,CDOM412_FLAG_W,CDOM443,CDOM443_FLAG_W,CDOM490,CDOM490_FLAG_W,CDOM555,CDOM555_FLAG_W,CDOMSL,CDOMSL_FLAG_W,CDOMSN,CDOMSN_FLAG_W,D18O_NO3,D18O_NO3_FLAG_W,D15N_NO2+NO3,D15N_NO2+NO3_FLAG_W,D18O_NO2+NO3,D18O_NO2+NO3_FLAG_W
,,,,,,,,,,,METERS,DBAR,ITS-90,PSS-78,,PSS-78,,UMOL/KG,,UMOL/KG,,UMOL/KG,,UMOL/KG,,UMOL/KG,,UMOL/KG,,UMOL/KG,,PMOL/KG,,PMOL/KG,,PMOL/KG,,FMOL/KG,,UMOL/KG,,UMOL/KG,,,,DEG C,DEG C,/MILLE,,/MILLE,,/MILLE,/MILLE,,UG/KG,,UMOL/KG,,UMOL/KG,,UMOL/KG,,/MILLE,,,,,,/MILLE,,MG/M3,,,,1/M,,1/M,,1/M,,1/M,,1/M,,1/M,,1/M,,1/NM,,1/NM,,/MILLE,,/MILLE,,/MILLE,
33RR20160208,       I08S,      12,          1,         28,         28,2,20160221,       2006,   -63.0030,    82.0103,       2748,    85.2,   0.4938,  34.3281,2,  34.3239,2,    219.5,2,   214.7,2,    67.3,2,    0.57,2,   33.62,2,    0.26,2,    2.40,2,   2.529,2,   1.335,2,   0.223,2,         1.411,2,  2246.7,2, 2317.34,2,   7.5312,2,    24.99,   0.4907, -999.00,9,  -999.0,9,  -999.0, -999.00,1,-999.000,9,    39.4,2,   36.30,2,     -999.0,1,    4.93,2, 20160221,     2126, -63.0031,  82.0104,     -999.0,9,     -999.0,9,     -999.0,9,-999.0000,9,-999.0000,9,-999.0000,9,-999.0000,9,-999.0000,9,-999.0000,9,-999.0000,9,     -999.0,9,     -999.0,9,       2.42,2,       4.74,2,       2.38,2
33RR20160208,       I08S,      12,          1,         29,         29,2,20160221,       2006,   -63.0030,    82.0103,       2748,    50.9,   1.1595,  33.8219,2,  33.8494,2,    338.9,2,   331.6,2,    32.2,2,    0.08,2,   26.26,2,    0.25,2,    1.72,2,-999.000,9,-999.000,9,-999.000,9,-999.000000000,9,  2168.2,2, 2290.99,2,   7.6846,2,    24.98,   1.1548, -999.00,9,  -999.0,9,  -999.0, -999.00,1,-999.000,9,    42.2,2,   29.40,2,     -999.0,1,     7.0,2, 20160221,     2128, -63.0031,  82.0104,     -999.0,9,     -999.0,9,     -999.0,9,-999.0000,9,-999.0000,9,-999.0000,9,-999.0000,9,-999.0000,9,-999.0000,9,-999.0000,9,     -999.0,9,     -999.0,9,       3.35,2,       6.22,2,       3.22,2
33RR20160208,       I08S,      12,          1,         30,         30,2,20160221,       2006,   -63.0030,    82.0103,       2748,    29.6,   1.2115,  33.8164,2,  33.8175,2,    338.6,2,   337.3,2,    29.7,2,    0.02,2,   25.65,2,    0.27,2,    1.64,2,   5.342,2,   2.888,2,   0.514,2,         3.049,2,  2163.1,2, 2288.60,2,   7.6963,2,    25.00,   1.2120, -999.00,9,  -999.0,9,  -999.0, -999.00,1,-999.000,9,    43.1,2,   28.40,2,     -999.0,1,    7.29,2, 20160221,     2130, -63.0031,  82.0104,     -999.0,9,     -999.0,9,     -999.0,9,-999.0000,9,-999.0000,9,-999.0000,9,-999.0000,9,-999.0000,9,-999.0000,9,-999.0000,9,     -999.0,9,     -999.0,9,       3.45,2,       6.34,2,       3.24,2
33RR20160208,       I08S,      12,          1,         31,         31,2,20160221,       2006,   -63.0030,    82.0103,       2748,     2.5,   1.2137,  33.8123,2,  33.8132,2,    337.9,2,   337.4,2,    29.6,2,    0.02,2,   25.54,2,    0.27,2,    1.68,2,   5.383,2,   2.889,2,   0.525,2,         2.923,2,  2161.6,6, 2288.77,2,   7.6977,6,    24.99,   1.2139, -999.00,9,  -999.0,9,  -999.0, -999.00,1,-999.000,9,    43.1,2,   28.30,2,     -999.0,1,    7.28,2, 20160221,     2134, -63.0031,  82.0104,     -999.0,9,     -999.0,9,     -999.0,9,-999.0000,9,-999.0000,9,-999.0000,9,-999.0000,9,-999.0000,9,-999.0000,9,-999.0000,9,     -999.0,9,     -999.0,9,       3.42,2,       6.29,2,       3.26,2