BOTTLE,20220706CCHSIOAMB
EXPOCODE,SECT_ID,STNNBR,CASTNO,SAMPNO,BTLNBR,BTLNBR_FLAG_W,DATE,TIME,LATITUDE,LONGITUDE,DEPTH,CTDPRS,CTDTMP,CTDSAL,CTDSAL_FLAG_W,SALNTY,SALNTY_FLAG_W,CTDOXY,CTDOXY_FLAG_W,OXYGEN,OXYGEN_FLAG_W,SILCAT,SILCAT_FLAG_W,NH4,NH4_FLAG_W,NITRAT,NITRAT_FLAG_W,NITRIT,NITRIT_FLAG_W,PHSPHT,PHSPHT_FLAG_W,CFC-11,CFC-11_FLAG_W,CFC-12,CFC-12_FLAG_W,CFC113,CFC113_FLAG_W,SF6,SF6_FLAG_W,TCARBN,TCARBN_FLAG_W,ALKALI,ALKALI_FLAG_W,PH_TOT,PH_TOT_FLAG_W,PH_TMP,REFTMP,DELC13,DELC13_FLAG_W,DELC14,DELC14_FLAG_W,C14ERR,DELO18,DELO18_FLAG_W,POC,POC_FLAG_W,DOC,DOC_FLAG_W,TDN,TDN_FLAG_W,TON,TON_FLAG_W,D15N_NO3,D15N_NO3_FLAG_W,BTL_DATE,BTL_TIME,BTL_LAT,BTL_LON,14C-DOC,14C-DOC_FLAG_W,CHLORA,CHLORA_FLAG_W,HPLC,HPLC_FLAG_W,CDOM325,CDOM325_FLAG_W,CDOM340,CDOM340_FLAG_W,CDOM380,CDOM380_FLAG_W,CDOM412,CDOM412_FLAG_W,CDOM443,CDOM443_FLAG_W,CDOM490,CDOM490_FLAG_W,CDOM555,CDOM555_FLAG_W,CDOMSL,CDOMSL_FLAG_W,CDOMSN,CDOMSN_FLAG_W,D18O_NO3,D18O_NO3_FLAG_W,D15N_NO2+NO3,D15N_NO2+NO3_FLAG_W,D18O_NO2+NO3,D18O_NO2+NO3_FLAG_W
,,,,,,,,,,,METERS,DBAR,ITS-90,PSS-78,,PSS-78,,UMOL/KG,,UMOL/KG,,UMOL/KG,,UMOL/KG,,UMOL/KG,,UMOL/KG,,UMOL/KG,,PMOL/KG,,PMOL/KG,,PMOL/KG,,FMOL/KG,,UMOL/KG,,UMOL/KG,,,,DEG C,DEG C,/MILLE,,/MILLE,,/MILLE,/MILLE,,UG/KG,,UMOL/KG,,UMOL/KG,,UMOL/KG,,/MILLE,,,,,,/MILLE,,MG/M3,,,,1/M,,1/M,,1/M,,1/M,,1/M,,1/M,,1/M,,1/NM,,1/NM,,/MILLE,,/MILLE,,/MILLE,
33RR20160208,       I08S,      40,          1,         28,         28,2,20160229,       2042,   -51.0370,    89.3503,       4141,   189.1,   3.4650,  33.8951,2,  33.8948,2,    301.7,2,   299.1,2,    12.2,2,    0.00,2,   26.51,2,    0.02,2,    1.83,2,   4.592,2,   2.570,2,   0.418,2,    2.59504199,2,  2154.6,2, 2277.60,2,   7.6783,2,    25.02,   3.4644, -999.00,9,  -999.0,9,  -999.0, -999.00,1,-999.000,9,    41.1,2,   29.20,2,     -999.0,9,    5.77,2, 20160229,     2219, -51.0369,  89.3503,     -999.0,9,     -999.0,9,     -999.0,9,-999.0000,9,-999.0000,9,-999.0000,9,-999.0000,9,-999.0000,9,-999.0000,9,-999.0000,9,     -999.0,9,     -999.0,9,       3.25,2,       5.76,2,       3.14,2
33RR20160208,       I08S,      40,          1,         29,         29,2,20160229,       2042,   -51.0370,    89.3503,       4141,   143.2,   4.1678,  33.8424,2,  33.8422,2,    303.8,2,   303.3,3,     7.9,2,    0.00,2,   24.58,2,    0.15,2,    1.71,2,   4.552,2,   2.556,2,   0.423,2,    2.66314533,2,  2141.5,2, 2274.63,2,   7.7071,2,    25.01,   4.1669, -999.00,9,  -999.0,9,  -999.0, -999.00,1,-999.000,9,    44.6,2,   28.00,2,     -999.0,9,    6.11,2, 20160229,     2221, -51.0369,  89.3504,     -999.0,9,     -999.0,9,     -999.0,9,-999.0000,9,-999.0000,9,-999.0000,9,-999.0000,9,-999.0000,9,-999.0000,9,-999.0000,9,     -999.0,9,     -999.0,9,       3.69,2,       6.05,2,       3.66,2
33RR20160208,       I08S,      40,          1,         30,         30,2,20160229,       2042,   -51.0370,    89.3503,       4141,   118.6,   4.7520,  33.7978,2,  33.7965,2,    292.8,2,   309.3,3,     5.8,2,    0.63,2,   22.58,2,    0.32,2,    1.61,2,   4.485,2,   2.518,2,   0.414,2,    2.79833553,2,  2132.4,2, 2276.48,2,   7.7335,6,    25.01,   4.7518, -999.00,9,  -999.0,9,  -999.0, -999.00,1,-999.000,9,    44.2,2,   25.80,2,     -999.0,9,    7.02,2, 20160229,     2223, -51.0370,  89.3504,     -999.0,9,     -999.0,9,     -999.0,9,-999.0000,9,-999.0000,9,-999.0000,9,-999.0000,9,-999.0000,9,-999.0000,9,-999.0000,9,     -999.0,9,     -999.0,9,       4.07,2,       6.48,2,       4.19,2
33RR20160208,       I08S,      40,          1,         31,         31,2,20160229,       2042,   -51.0370,    89.3503,       4141,    94.5,   5.2253,  33.7931,2,  33.7944,2,    304.5,2,   309.3,2,     4.3,2,    0.59,2,   21.77,2,    0.26,2,    1.55,2,   4.368,2,   2.458,2,   0.402,2,    2.64179951,2,  2128.0,2, 2276.68,2,   7.7480,2,    25.01,   5.2217, -999.00,9,  -999.0,9,  -999.0, -999.00,1,-999.000,9,    46.2,2,   27.10,3,     -999.0,9,    7.48,2, 20160229,     2225, -51.0369,  89.3503,     -999.0,9,     -999.0,9,     -999.0,9,-999.0000,9,-999.0000,9,-999.0000,9,-999.0000,9,-999.0000,9,-999.0000,9,-999.0000,9,     -999.0,9,     -999.0,9,       4.32,2,       6.88,2,       4.32,2
33RR20160208,       I08S,      40,          1,         32,         32,2,20160229,       2042,   -51.0370,    89.3503,       4141,    65.9,   6.6461,  33.8018,2,  33.8004,2,    295.7,2,   299.1,2,     2.2,2,    0.49,2,   19.62,2,    0.25,2,    1.41,2,   4.042,2,   2.267,2,   0.368,2,    2.41207781,2,  2114.6,2, 2274.16,2,   7.7733,6,    25.01,   6.6457, -999.00,9,  -999.0,9,  -999.0, -999.00,1,-999.000,9,    45.7,2,   23.50,2,     -999.0,9,    8.28,2, 20160229,     2228, -51.0369,  89.3504,     -999.0,9,     -999.0,9,     -999.0,9,-999.0000,9,-999.0000,9,-999.0000,9,-999.0000,9,-999.0000,9,-999.0000,9,-999.0000,9,     -999.0,9,     -999.0,9,       4.98,2,       7.49,2,        4.9,2
33RR20160208,       I08S,      40,          1,         33,         33,2,20160229,       2042,   -51.0370,    89.3503,       4141,    40.6,   6.6503,  33.7992,2,  33.7997,2,    295.7,2,   299.2,2,     2.2,2,    0.50,2,   19.56,2,    0.25,2,    1.41,2,   4.059,2,   2.285,2,   0.376,2,    2.55438328,2,  2116.2,2, 2273.26,2,   7.7734,2,    25.00,   6.6503, -999.00,9,  -999.0,9,  -999.0, -999.00,1,-999.000,9,    46.2,2,   23.50,2,     -999.0,9,    8.25,2, 20160229,     2230, -51.0369,  89.3504,     -999.0,9,     -999.0,9,     -999.0,9,-999.0000,9,-999.0000,9,-999.0000,9,-999.0000,9,-999.0000,9,-999.0000,9,-999.0000,9,     -999.0,9,     -999.0,9,       4.93,2,       7.46,2,       4.67,2
33RR20160208,       I08S,      40,          1,         35,         35,2,20160229,       2042,   -51.0370,    89.3503,       4141,    21.0,   6.6494,  33.7996,2,  33.7993,2,    296.4,2,   299.0,2,     2.2,2,    0.51,2,   19.65,2,    0.25,2,    1.41,2,   4.044,2,   2.282,2,   0.378,2,    2.59199259,2,  -999.0,9, -999.00,9,-999.0000,9,  -999.00,   6.6490, -999.00,9,  -999.0,9,  -999.0, -999.00,9,-999.000,9,    47.0,2,   23.40,2,     -999.0,9, -999.00,9, 20160229,     2232, -51.0369,  89.3504,     -999.0,9,     -999.0,9,     -999.0,9,-999.0000,9,-999.0000,9,-999.0000,9,-999.0000,9,-999.0000,9,-999.0000,9,-999.0000,9,     -999.0,9,     -999.0,9,     -999.0,9,     -999.0,9,     -999.0,9
33RR20160208,       I08S,      40,          1,         34,         34,2,20160229,       2042,   -51.0370,    89.3503,       4141,    20.6,   6.6489,  33.7995,2,  33.7989,2,    296.4,2,   299.0,2,     2.2,2,    0.50,2,   19.72,2,    0.25,2,    1.40,2,   4.101,2,   2.315,2,   0.382,2,    2.45883532,2,  2115.6,2, 2273.92,6,   7.7738,2,    25.01,   6.6486, -999.00,9,  -999.0,9,  -999.0, -999.00,1,-999.000,9,    46.2,2,   23.80,2,     -999.0,9,    8.25,2, 20160229,     2232, -51.0369,  89.3504,     -999.0,9,     -999.0,9,     -999.0,9,-999.0000,9,-999.0000,9,-999.0000,9,-999.0000,9,-999.0000,9,-999.0000,9,-999.0000,9,     -999.0,9,     -999.0,9,       4.95,2,       7.46,2,       4.68,2
33RR20160208,       I08S,      40,          1,         36,         36,2,20160229,       2042,   -51.0370,    89.3503,       4141,     1.0,   6.6473,  33.7994,2,  33.8001,2,    295.3,2,   299.3,2,     2.2,2,    0.50,2,   19.73,2,    0.25,2,    1.38,2,   4.011,2,   2.283,2,   0.375,2,         2.469,2,  2114.6,6, 2273.20,2,   7.7727,2,    25.01,   6.6472, -999.00,9,  -999.0,9,  -999.0, -999.00,1,-999.000,9,  -999.0,9, -999.00,9,     -999.0,9,    8.26,2, 20160229,     2234, -51.0369,  89.3504,     -999.0,9,     -999.0,9,     -999.0,9,-999.0000,9,-999.0000,9,-999.0000,9,-999.0000,9,-999.0000,9,-999.0000,9,-999.0000,9,     -999.0,9,     -999.0,9,       5.02,2,       7.46,2,       4.74,2