BOTTLE,20220706CCHSIOAMB
EXPOCODE,SECT_ID,STNNBR,CASTNO,SAMPNO,BTLNBR,BTLNBR_FLAG_W,DATE,TIME,LATITUDE,LONGITUDE,DEPTH,CTDPRS,CTDTMP,CTDSAL,CTDSAL_FLAG_W,SALNTY,SALNTY_FLAG_W,CTDOXY,CTDOXY_FLAG_W,OXYGEN,OXYGEN_FLAG_W,SILCAT,SILCAT_FLAG_W,NH4,NH4_FLAG_W,NITRAT,NITRAT_FLAG_W,NITRIT,NITRIT_FLAG_W,PHSPHT,PHSPHT_FLAG_W,CFC-11,CFC-11_FLAG_W,CFC-12,CFC-12_FLAG_W,CFC113,CFC113_FLAG_W,SF6,SF6_FLAG_W,TCARBN,TCARBN_FLAG_W,ALKALI,ALKALI_FLAG_W,PH_TOT,PH_TOT_FLAG_W,PH_TMP,REFTMP,DELC13,DELC13_FLAG_W,DELC14,DELC14_FLAG_W,C14ERR,DELO18,DELO18_FLAG_W,POC,POC_FLAG_W,DOC,DOC_FLAG_W,TDN,TDN_FLAG_W,TON,TON_FLAG_W,D15N_NO3,D15N_NO3_FLAG_W,BTL_DATE,BTL_TIME,BTL_LAT,BTL_LON,14C-DOC,14C-DOC_FLAG_W,CHLORA,CHLORA_FLAG_W,HPLC,HPLC_FLAG_W,CDOM325,CDOM325_FLAG_W,CDOM340,CDOM340_FLAG_W,CDOM380,CDOM380_FLAG_W,CDOM412,CDOM412_FLAG_W,CDOM443,CDOM443_FLAG_W,CDOM490,CDOM490_FLAG_W,CDOM555,CDOM555_FLAG_W,CDOMSL,CDOMSL_FLAG_W,CDOMSN,CDOMSN_FLAG_W,D18O_NO3,D18O_NO3_FLAG_W,D15N_NO2+NO3,D15N_NO2+NO3_FLAG_W,D18O_NO2+NO3,D18O_NO2+NO3_FLAG_W
,,,,,,,,,,,METERS,DBAR,ITS-90,PSS-78,,PSS-78,,UMOL/KG,,UMOL/KG,,UMOL/KG,,UMOL/KG,,UMOL/KG,,UMOL/KG,,UMOL/KG,,PMOL/KG,,PMOL/KG,,PMOL/KG,,FMOL/KG,,UMOL/KG,,UMOL/KG,,,,DEG C,DEG C,/MILLE,,/MILLE,,/MILLE,/MILLE,,UG/KG,,UMOL/KG,,UMOL/KG,,UMOL/KG,,/MILLE,,,,,,/MILLE,,MG/M3,,,,1/M,,1/M,,1/M,,1/M,,1/M,,1/M,,1/M,,1/NM,,1/NM,,/MILLE,,/MILLE,,/MILLE,
33RR20160208,       I08S,      68,          1,         28,         28,2,20160308,       0358,   -36.0181,    95.0090,       4350,   251.5,  11.3252,  34.9422,2,  34.9428,2,    251.2,2,   250.5,2,     2.1,2,    0.00,2,    9.01,2,    0.00,2,    0.71,2,-999.000,9,-999.000,9,-999.000,9,-999.000000000,9,  2112.5,2, 2304.68,2,   7.8299,2,    24.94,  11.3262, -999.00,9,  -999.0,9,  -999.0, -999.00,9,-999.000,9,    48.2,2,   12.90,3,     -999.0,1, -999.00,9, 20160308,      536, -36.0181,  95.0089,     -999.0,9,     -999.0,9,     -999.0,9,   0.0633,2,   0.0507,2,   0.0577,2,   0.0142,2,   0.0031,3,  -0.0026,4,  -0.0025,4,     0.0051,4,     0.0040,4,     -999.0,9,     -999.0,9,     -999.0,9
33RR20160208,       I08S,      68,          1,         29,         29,2,20160308,       0358,   -36.0181,    95.0090,       4350,   202.6,  11.4182,  34.9326,2,  34.9334,2,    252.7,2,   255.6,2,     2.1,2,    0.00,2,    9.00,2,    0.00,2,    0.70,2,   3.001,2,   1.802,2,   0.217,2,         1.786,2,  2107.8,2, 2305.40,2,   7.8402,6,    25.00,  11.4177,    1.01,2,    26.0,6,     1.5, -999.00,9,-999.000,9,    49.0,2,   11.60,2,     -999.0,1, -999.00,9, 20160308,      538, -36.0181,  95.0089,     -999.0,9,     -999.0,9,     -999.0,9,   0.0701,2,   0.0424,2,   0.0148,2,   0.0088,2,   0.0031,3,  -0.0013,4,  -0.0020,4,     0.0260,2,     0.0296,2,     -999.0,9,     -999.0,9,     -999.0,9
33RR20160208,       I08S,      68,          1,         30,         30,2,20160308,       0358,   -36.0181,    95.0090,       4350,   151.2,  11.7998,  34.9908,2,  35.0000,2,    246.0,2,   249.5,2,     2.0,2,    0.00,2,    8.42,2,    0.01,2,    0.66,2,-999.000,9,-999.000,9,-999.000,9,-999.000000000,9,  2109.0,2, 2307.38,2,   7.8434,2,    24.97,  11.7664, -999.00,9,  -999.0,9,  -999.0, -999.00,9,-999.000,9,    49.9,2,   11.30,2,     -999.0,1, -999.00,9, 20160308,      539, -36.0181,  95.0089,     -999.0,9,     -999.0,9,     -999.0,9,   0.0573,2,   0.0336,2,   0.0117,2,   0.0054,2,   0.0004,4,  -0.0030,4,  -0.0028,4,     0.0273,2,     0.0309,2,     -999.0,9,     -999.0,9,     -999.0,9
33RR20160208,       I08S,      68,          1,         31,         31,2,20160308,       0358,   -36.0181,    95.0090,       4350,   125.9,  12.6009,  35.1411,2,  35.1457,2,    243.9,2,   245.7,2,     1.2,2,    0.03,2,    6.51,2,    0.01,2,    0.55,2,   2.869,2,   1.707,2,   0.195,2,         1.712,2,  2105.9,2, 2316.52,2,   7.8625,2,    24.96,  12.6156,    1.09,2,    29.6,2,     2.2, -999.00,9,-999.000,9,    49.8,2,   10.20,2,     -999.0,1, -999.00,9, 20160308,      541, -36.0181,  95.0089,     -999.0,9,0.030569241,2,     -999.0,9,   0.0621,2,   0.0388,2,   0.0167,2,   0.0081,2,   0.0023,3,  -0.0018,4,  -0.0021,4,     0.0227,2,     0.0254,2,     -999.0,9,     -999.0,9,     -999.0,9
33RR20160208,       I08S,      68,          1,         32,         32,2,20160308,       0358,   -36.0181,    95.0090,       4350,   102.2,  13.2581,  35.2534,2,  35.2487,2,    245.8,2,   242.5,2,     1.0,2,    0.00,2,    5.26,2,    0.04,2,    0.47,2,-999.000,9,-999.000,9,-999.000,9,-999.000000000,9,  2105.1,2, 2321.20,6,   7.8762,2,    25.00,  13.2414,    1.04,2,    28.5,2,     4.0, -999.00,9,-999.000,9,    53.0,2,    8.90,2,     -999.0,1, -999.00,9, 20160308,      543, -36.0181,  95.0089,     -999.0,9,0.074040653,2,     -999.0,9,   0.0635,2,   0.0409,2,   0.0202,2,   0.0080,2,   0.0016,3,  -0.0023,4,  -0.0024,4,     0.0207,2,     0.0223,2,     -999.0,9,     -999.0,9,     -999.0,9
33RR20160208,       I08S,      68,          1,         33,         33,2,20160308,       0358,   -36.0181,    95.0090,       4350,    76.3,  13.3213,  35.1617,2,  35.1696,2,    257.3,2,   251.6,2,     1.4,2,    0.21,2,    4.26,2,    0.68,2,    0.47,2,   2.724,2,   1.639,2,   0.201,2,         1.718,2,  2100.8,2, 2318.10,2,   7.8805,2,    25.06,  13.3264,    1.12,2,    26.6,6,     2.0, -999.00,9,-999.000,9,    52.7,2,    8.70,2,     -999.0,1, -999.00,9, 20160308,      544, -36.0181,  95.0089,     -999.0,9,0.255792521,2,     -999.0,9,   0.0826,2,   0.0540,2,   0.0239,2,   0.0122,2,   0.0044,3,  -0.0010,4,  -0.0017,4,     0.0216,2,     0.0234,2,     -999.0,9,     -999.0,9,     -999.0,9
33RR20160208,       I08S,      68,          1,         34,         34,2,20160308,       0358,   -36.0181,    95.0090,       4350,    50.0,  16.2635,  35.1669,3,  35.1281,2,    254.5,2,   258.9,2,     0.3,2,    0.17,2,    1.75,2,    0.05,2,    0.27,2,-999.000,9,-999.000,9,-999.000,9,-999.000000000,9,  2072.1,2, 2319.85,2,   7.9385,2,    25.02,  16.2457,    1.41,2,    23.3,2,     2.1, -999.00,9,-999.000,9,    59.4,2,    6.00,2,     -999.0,1, -999.00,9, 20160308,      546, -36.0181,  95.0088,     -999.0,9,0.337259426,2,     -999.0,9,   0.1269,2,   0.0867,2,   0.0363,2,   0.0178,2,   0.0076,2,   0.0009,3,  -0.0009,4,     0.0224,2,     0.0232,2,     -999.0,9,     -999.0,9,     -999.0,9
33RR20160208,       I08S,      68,          1,         35,         35,2,20160308,       0358,   -36.0181,    95.0090,       4350,    25.8,  19.0606,  35.4355,2,  35.4345,2,    240.0,2,   235.6,2,     0.0,2,    0.01,2,    0.00,2,    0.00,2,    0.13,2,   2.122,2,   1.320,2,   0.150,2,           1.4,2,  2065.9,2, 2335.80,2,   7.9775,2,    25.04,  19.0591,    1.47,2,    25.1,2,     2.1, -999.00,9,-999.000,9,    65.9,2,    4.80,2,     -999.0,1, -999.00,9, 20160308,      548, -36.0181,  95.0089,     -999.0,9,0.252885909,3,     -999.0,9,   0.1200,2,   0.0799,2,   0.0316,2,   0.0169,2,   0.0081,2,   0.0020,2,  -0.0002,4,     0.0233,2,     0.0247,2,     -999.0,9,     -999.0,9,     -999.0,9
33RR20160208,       I08S,      68,          1,         36,         36,2,20160308,       0358,   -36.0181,    95.0090,       4350,     5.5,  18.7944,  35.1946,2,  35.1860,2,    242.5,2,   242.4,2,     0.0,2,    0.03,2,    0.04,2,    0.01,2,    0.16,2,   2.226,6,   1.348,6,   0.154,6,         1.447,6,  2051.3,6, 2325.21,2,   7.9835,2,    25.03,  18.7886,    1.64,2,    26.9,2,     4.2, -999.00,9,-999.000,9,    65.3,2,    4.50,2,     -999.0,1, -999.00,9, 20160308,      550, -36.0181,  95.0089,     -999.0,9,0.315539017,2,     -999.0,9,   0.1361,2,   0.0914,2,   0.0370,2,   0.0176,2,   0.0080,2,   0.0015,3,  -0.0006,4,     0.0232,2,     0.0241,2,     -999.0,9,     -999.0,9,     -999.0,9