BOTTLE,20220706CCHSIOAMB
EXPOCODE,SECT_ID,STNNBR,CASTNO,SAMPNO,BTLNBR,BTLNBR_FLAG_W,DATE,TIME,LATITUDE,LONGITUDE,DEPTH,CTDPRS,CTDTMP,CTDSAL,CTDSAL_FLAG_W,SALNTY,SALNTY_FLAG_W,CTDOXY,CTDOXY_FLAG_W,OXYGEN,OXYGEN_FLAG_W,SILCAT,SILCAT_FLAG_W,NH4,NH4_FLAG_W,NITRAT,NITRAT_FLAG_W,NITRIT,NITRIT_FLAG_W,PHSPHT,PHSPHT_FLAG_W,CFC-11,CFC-11_FLAG_W,CFC-12,CFC-12_FLAG_W,CFC113,CFC113_FLAG_W,SF6,SF6_FLAG_W,TCARBN,TCARBN_FLAG_W,ALKALI,ALKALI_FLAG_W,PH_TOT,PH_TOT_FLAG_W,PH_TMP,REFTMP,DELC13,DELC13_FLAG_W,DELC14,DELC14_FLAG_W,C14ERR,DELO18,DELO18_FLAG_W,POC,POC_FLAG_W,DOC,DOC_FLAG_W,TDN,TDN_FLAG_W,TON,TON_FLAG_W,D15N_NO3,D15N_NO3_FLAG_W,BTL_DATE,BTL_TIME,BTL_LAT,BTL_LON,14C-DOC,14C-DOC_FLAG_W,CHLORA,CHLORA_FLAG_W,HPLC,HPLC_FLAG_W,CDOM325,CDOM325_FLAG_W,CDOM340,CDOM340_FLAG_W,CDOM380,CDOM380_FLAG_W,CDOM412,CDOM412_FLAG_W,CDOM443,CDOM443_FLAG_W,CDOM490,CDOM490_FLAG_W,CDOM555,CDOM555_FLAG_W,CDOMSL,CDOMSL_FLAG_W,CDOMSN,CDOMSN_FLAG_W,D18O_NO3,D18O_NO3_FLAG_W,D15N_NO2+NO3,D15N_NO2+NO3_FLAG_W,D18O_NO2+NO3,D18O_NO2+NO3_FLAG_W
,,,,,,,,,,,METERS,DBAR,ITS-90,PSS-78,,PSS-78,,UMOL/KG,,UMOL/KG,,UMOL/KG,,UMOL/KG,,UMOL/KG,,UMOL/KG,,UMOL/KG,,PMOL/KG,,PMOL/KG,,PMOL/KG,,FMOL/KG,,UMOL/KG,,UMOL/KG,,,,DEG C,DEG C,/MILLE,,/MILLE,,/MILLE,/MILLE,,UG/KG,,UMOL/KG,,UMOL/KG,,UMOL/KG,,/MILLE,,,,,,/MILLE,,MG/M3,,,,1/M,,1/M,,1/M,,1/M,,1/M,,1/M,,1/M,,1/NM,,1/NM,,/MILLE,,/MILLE,,/MILLE,
33RR20160208,       I08S,      40,          1,          1,          1,2,20160229,       2042,   -51.0370,    89.3503,       4141,  4164.3,   0.3498,  34.6783,2,  34.6792,2,    222.6,2,   221.8,2,   128.4,2,    0.00,2,   32.45,2,    0.00,2,    2.27,2,   0.812,2,   0.416,2,   0.047,2,   0.221589955,2,  2259.0,6, 2356.84,2,   7.5938,6,    25.01,   0.3498, -999.00,9,  -999.0,9,  -999.0, -999.00,1,-999.000,9,    38.1,2, -999.00,9,     -999.0,9,    4.84,2, 20160229,     2042, -51.0370,  89.3503,     -999.0,9,     -999.0,9,     -999.0,9,-999.0000,9,-999.0000,9,-999.0000,9,-999.0000,9,-999.0000,9,-999.0000,9,-999.0000,9,     -999.0,9,     -999.0,9,        2.0,2,       4.84,2,        2.0,2
33RR20160208,       I08S,      40,          1,          2,          2,2,20160229,       2042,   -51.0370,    89.3503,       4141,  3822.8,   0.3877,  34.6819,2,  34.6829,2,    219.6,2,   220.8,2,   127.2,2,    0.00,2,   32.43,2,    0.00,2,    2.24,2,   0.714,2,   0.366,2,   0.041,2,   0.203293536,2,  2256.4,2, 2359.19,6,   7.5949,2,    25.01,   0.3875, -999.00,9,  -999.0,9,  -999.0, -999.00,1,-999.000,9,    37.9,2, -999.00,9,     -999.0,9,     4.7,2, 20160229,     2049, -51.0370,  89.3503,     -999.0,9,     -999.0,9,     -999.0,9,-999.0000,9,-999.0000,9,-999.0000,9,-999.0000,9,-999.0000,9,-999.0000,9,-999.0000,9,     -999.0,9,     -999.0,9,       1.83,2,        4.7,2,       1.83,2
33RR20160208,       I08S,      40,          1,          3,          3,2,20160229,       2042,   -51.0370,    89.3503,       4141,  3497.2,   0.5116,  34.6896,2,  34.6896,2,    217.0,2,   217.3,2,   125.7,2,    0.00,2,   32.34,2,    0.00,2,    2.23,2,   0.589,2,   0.304,2,   0.030,2,   0.171783038,2,  2254.8,2, 2358.55,2,   7.5967,2,    24.99,   0.5115, -999.00,9,  -999.0,9,  -999.0, -999.00,1,-999.000,9,    38.6,2, -999.00,9,     -999.0,9,    4.75,2, 20160229,     2056, -51.0370,  89.3503,     -999.0,9,     -999.0,9,     -999.0,9,-999.0000,9,-999.0000,9,-999.0000,9,-999.0000,9,-999.0000,9,-999.0000,9,-999.0000,9,     -999.0,9,     -999.0,9,        1.9,2,       4.75,2,        1.9,2
33RR20160208,       I08S,      40,          1,          4,          4,2,20160229,       2042,   -51.0370,    89.3503,       4141,  3210.5,   0.7273,  34.7009,2,  34.7008,2,    213.0,2,   212.6,2,   120.1,2,    0.00,2,   32.03,2,    0.00,2,    2.23,2,   0.407,2,   0.213,2,   0.014,2,   0.136206669,2,  2254.7,2, 2359.35,2,   7.5998,2,    25.02,   0.7268, -999.00,9,  -999.0,9,  -999.0, -999.00,1,-999.000,9,    38.2,2, -999.00,9,     -999.0,9,    4.67,2, 20160229,     2101, -51.0370,  89.3503,     -999.0,9,     -999.0,9,     -999.0,9,-999.0000,9,-999.0000,9,-999.0000,9,-999.0000,9,-999.0000,9,-999.0000,9,-999.0000,9,     -999.0,9,     -999.0,9,       1.78,2,       4.67,2,       1.78,2
33RR20160208,       I08S,      40,          1,          5,          5,2,20160229,       2042,   -51.0370,    89.3503,       4141,  2912.1,   0.9931,  34.7151,2,  34.7149,2,    209.2,2,   209.0,2,   113.2,2,    0.00,2,   31.68,2,    0.00,2,    2.19,2,   0.264,2,   0.140,2,   0.006,2,   0.086399753,2,  2253.0,2, 2360.35,2,   7.6046,2,    25.00,   0.9933, -999.00,9,  -999.0,9,  -999.0, -999.00,1,-999.000,9,    39.0,2, -999.00,9,     -999.0,9,    4.83,2, 20160229,     2107, -51.0370,  89.3503,     -999.0,9,     -999.0,9,     -999.0,9,-999.0000,9,-999.0000,9,-999.0000,9,-999.0000,9,-999.0000,9,-999.0000,9,-999.0000,9,     -999.0,9,     -999.0,9,       1.79,2,       4.83,2,       1.79,2
33RR20160208,       I08S,      40,          1,          6,         38,2,20160229,       2042,   -51.0370,    89.3503,       4141,  2662.3,   1.2132,  34.7268,2,  34.7281,2,    206.7,2,   206.0,2,   106.4,2,    0.00,2,   31.18,2,    0.00,2,    2.17,2,   0.202,2,   0.108,2,   0.001,2,   0.063020996,2,  2249.5,2, 2358.74,2,   7.6091,6,    25.00,   1.2134, -999.00,9,  -999.0,9,  -999.0, -999.00,1,-999.000,9,    38.5,2, -999.00,9,     -999.0,9,    4.72,2, 20160229,     2113, -51.0370,  89.3503,     -999.0,9,     -999.0,9,     -999.0,9,-999.0000,9,-999.0000,9,-999.0000,9,-999.0000,9,-999.0000,9,-999.0000,9,-999.0000,9,     -999.0,9,     -999.0,9,       1.83,2,       4.72,2,       1.83,2
33RR20160208,       I08S,      40,          1,          7,          7,2,20160229,       2042,   -51.0370,    89.3503,       4141,  2417.7,   1.4136,  34.7371,2,  34.6916,4,    204.3,2,   204.2,2,   100.9,2,    0.00,2,   30.81,2,    0.00,2,    2.15,2,   0.160,2,   0.087,2,   0.000,2,   0.088432688,2,  2248.9,2, 2357.84,2,   7.6142,2,    25.02,   1.4138, -999.00,9,  -999.0,9,  -999.0, -999.00,1,-999.000,9,    38.0,2, -999.00,9,     -999.0,9,    4.81,2, 20160229,     2118, -51.0370,  89.3503,     -999.0,9,     -999.0,9,     -999.0,9,-999.0000,9,-999.0000,9,-999.0000,9,-999.0000,9,-999.0000,9,-999.0000,9,-999.0000,9,     -999.0,9,     -999.0,9,        1.8,2,       4.81,2,        1.8,2
33RR20160208,       I08S,      40,          1,          8,          8,2,20160229,       2042,   -51.0370,    89.3503,       4141,  2166.0,   1.6672,  34.7472,2,  34.7469,2,    201.8,2,   201.5,2,    93.1,2,    0.00,2,   30.43,2,    0.00,2,    2.10,2,   0.151,2,   0.083,2,   0.000,2,   0.036592837,2,  2245.1,2, 2354.48,2,   7.6158,2,    25.00,   1.6674, -999.00,9,  -999.0,9,  -999.0, -999.00,1,-999.000,9,    39.2,2, -999.00,9,     -999.0,9,    4.82,2, 20160229,     2124, -51.0370,  89.3503,     -999.0,9,     -999.0,9,     -999.0,9,-999.0000,9,-999.0000,9,-999.0000,9,-999.0000,9,-999.0000,9,-999.0000,9,-999.0000,9,     -999.0,9,     -999.0,9,       1.84,2,       4.82,2,       1.84,2
33RR20160208,       I08S,      40,          1,          9,          9,2,20160229,       2042,   -51.0370,    89.3503,       4141,  1931.5,   1.8925,  34.7520,2,  34.7554,2,    200.0,2,   199.0,2,    86.3,2,    0.00,2,   30.06,2,    0.00,2,    2.08,2,   0.154,2,   0.083,2,   0.000,2,   0.027444627,2,  2242.6,2, 2351.25,2,   7.6172,2,    25.01,   1.8925, -999.00,9,  -999.0,9,  -999.0, -999.00,1,-999.000,9,    38.7,2, -999.00,9,     -999.0,9,    4.87,2, 20160229,     2129, -51.0370,  89.3504,     -999.0,9,     -999.0,9,     -999.0,9,-999.0000,9,-999.0000,9,-999.0000,9,-999.0000,9,-999.0000,9,-999.0000,9,-999.0000,9,     -999.0,9,     -999.0,9,       1.82,2,       4.87,2,       1.82,2
33RR20160208,       I08S,      40,          1,         10,         10,2,20160229,       2042,   -51.0370,    89.3503,       4141,  1733.0,   2.0459,  34.7490,2,  34.7491,2,    196.4,2,   196.3,2,    81.8,2,    0.00,2,   30.04,2,    0.00,2,    2.07,2,   0.161,2,   0.088,2,   0.000,2,   0.001016468,2,  2241.2,2, 2349.29,2,   7.6144,2,    25.00,   2.0459, -999.00,9,  -999.0,9,  -999.0, -999.00,1,-999.000,9,    38.2,2, -999.00,9,     -999.0,9,    4.91,2, 20160229,     2133, -51.0370,  89.3503,     -999.0,9,     -999.0,9,     -999.0,9,-999.0000,9,-999.0000,9,-999.0000,9,-999.0000,9,-999.0000,9,-999.0000,9,-999.0000,9,     -999.0,9,     -999.0,9,       1.79,2,       4.91,2,       1.79,2
33RR20160208,       I08S,      40,          1,         11,         11,2,20160229,       2042,   -51.0370,    89.3503,       4141,  1564.5,   2.1116,  34.7288,2,  34.7295,2,    190.4,2,   190.4,2,    80.5,2,    0.00,2,   30.93,2,    0.00,2,    2.14,2,   0.258,2,   0.139,2,   0.007,2,   0.087416221,2,  2242.9,2, 2345.30,2,   7.5965,2,    25.01,   2.1116, -999.00,9,  -999.0,9,  -999.0, -999.00,1,-999.000,9,    39.0,2, -999.00,9,     -999.0,9,    4.87,2, 20160229,     2137, -51.0369,  89.3504,     -999.0,9,     -999.0,9,     -999.0,9,-999.0000,9,-999.0000,9,-999.0000,9,-999.0000,9,-999.0000,9,-999.0000,9,-999.0000,9,     -999.0,9,     -999.0,9,       1.85,2,       4.87,2,       1.85,2
33RR20160208,       I08S,      40,          1,         12,         12,2,20160229,       2042,   -51.0370,    89.3503,       4141,  1463.5,   2.2008,  34.7210,2,  34.6903,4,    188.8,2,   188.8,2,    75.8,2,    0.00,2,   30.66,2,    0.00,2,    2.12,2,   0.276,2,   0.152,2,   0.009,2,   0.073185673,2,  2242.8,6, 2343.34,2,   7.5979,2,    25.01,   2.2006, -999.00,9,  -999.0,9,  -999.0, -999.00,1,-999.000,9,    39.2,2, -999.00,9,     -999.0,9,    4.95,2, 20160229,     2140, -51.0370,  89.3503,     -999.0,9,     -999.0,9,     -999.0,9,-999.0000,9,-999.0000,9,-999.0000,9,-999.0000,9,-999.0000,9,-999.0000,9,-999.0000,9,     -999.0,9,     -999.0,9,       1.97,2,       4.95,2,       1.97,2
33RR20160208,       I08S,      40,          1,         13,         13,2,20160229,       2042,   -51.0370,    89.3503,       4141,  1363.5,   2.2879,  34.7117,2,  34.7117,2,    186.5,2,   187.7,2,    75.9,2,    0.00,2,   31.12,2,    0.00,2,    2.15,2,   0.253,2,   0.138,2,   0.006,2,    0.09656443,2,  2244.5,2, 2343.40,2,   7.5939,2,    25.00,   2.2877, -999.00,9,  -999.0,9,  -999.0, -999.00,1,-999.000,9,    39.0,2, -999.00,9,     -999.0,9,     4.9,2, 20160229,     2143, -51.0371,  89.3503,     -999.0,9,     -999.0,9,     -999.0,9,-999.0000,9,-999.0000,9,-999.0000,9,-999.0000,9,-999.0000,9,-999.0000,9,-999.0000,9,     -999.0,9,     -999.0,9,       1.92,2,        4.9,2,       1.92,2
33RR20160208,       I08S,      40,          1,         14,         14,2,20160229,       2042,   -51.0370,    89.3503,       4141,  1261.9,   2.3882,  34.6929,2,  34.6930,2,    184.7,2,   183.9,2,    73.7,2,    0.00,2,   31.52,2,    0.00,2,    2.16,2,   0.287,2,   0.154,2,   0.008,2,   0.105712639,2,  2244.5,2, 2341.20,2,   7.5885,6,    25.01,   2.3858, -999.00,9,  -999.0,9,  -999.0, -999.00,1,-999.000,9,    38.7,2, -999.00,9,     -999.0,9,    5.07,2, 20160229,     2145, -51.0371,  89.3503,     -999.0,9,     -999.0,9,     -999.0,9,-999.0000,9,-999.0000,9,-999.0000,9,-999.0000,9,-999.0000,9,-999.0000,9,-999.0000,9,     -999.0,9,     -999.0,9,        2.0,2,       5.07,2,        2.0,2
33RR20160208,       I08S,      40,          1,         15,         15,2,20160229,       2042,   -51.0370,    89.3503,       4141,  1160.7,   2.4710,  34.6771,2,  34.6777,2,    182.2,2,   183.3,2,    72.0,2,    0.00,2,   31.72,2,    0.00,2,    2.20,2,   0.297,2,   0.158,2,   0.007,2,   0.114860848,2,  2245.2,2, 2341.53,2,   7.5851,2,    25.01,   2.4712, -999.00,9,  -999.0,9,  -999.0, -999.00,1,-999.000,9,    39.8,2, -999.00,9,     -999.0,9,    5.07,2, 20160229,     2148, -51.0370,  89.3504,     -999.0,9,     -999.0,9,     -999.0,9,-999.0000,9,-999.0000,9,-999.0000,9,-999.0000,9,-999.0000,9,-999.0000,9,-999.0000,9,     -999.0,9,     -999.0,9,       1.98,2,       5.07,2,       1.98,2
33RR20160208,       I08S,      40,          1,         16,         16,2,20160229,       2042,   -51.0370,    89.3503,       4141,  1064.5,   2.5561,  34.6558,2,  34.6554,2,    179.5,2,   180.0,2,    70.5,2,    0.00,2,   32.16,2,    0.00,2,    2.23,2,   0.328,2,   0.172,2,   0.009,2,   0.087416221,2,  2247.0,2, 2338.67,2,   7.5820,2,    25.00,   2.5559, -999.00,9,  -999.0,9,  -999.0, -999.00,1,-999.000,9,    38.4,2, -999.00,9,     -999.0,9,    5.05,2, 20160229,     2151, -51.0369,  89.3504,     -999.0,9,     -999.0,9,     -999.0,9,-999.0000,9,-999.0000,9,-999.0000,9,-999.0000,9,-999.0000,9,-999.0000,9,-999.0000,9,     -999.0,9,     -999.0,9,       1.85,2,       5.05,2,       1.85,2
33RR20160208,       I08S,      40,          1,         17,         17,2,20160229,       2042,   -51.0370,    89.3503,       4141,   963.3,   2.6070,  34.6238,2,  34.6238,2,    176.6,2,   177.6,2,    69.4,2,    0.00,2,   32.71,2,    0.00,2,    2.27,2,   0.419,2,   0.217,2,   0.017,2,   0.084366818,2,  2247.6,2, 2338.07,2,   7.5735,2,    24.99,   2.6070, -999.00,9,  -999.0,9,  -999.0, -999.00,1,-999.000,9,    39.8,2, -999.00,9,     -999.0,9,    5.03,2, 20160229,     2154, -51.0369,  89.3504,     -999.0,9,     -999.0,9,     -999.0,9,-999.0000,9,-999.0000,9,-999.0000,9,-999.0000,9,-999.0000,9,-999.0000,9,-999.0000,9,     -999.0,9,     -999.0,9,       2.03,2,       5.03,2,       2.03,2
33RR20160208,       I08S,      40,          1,         18,         37,2,20160229,       2042,   -51.0370,    89.3503,       4141,   865.4,   2.6753,  34.5861,2,  34.5867,2,    175.2,2,   175.9,2,    67.6,2,    0.00,2,   33.26,2,    0.00,2,    2.31,2,   0.531,2,   0.274,2,   0.026,2,   0.165684232,2,  2245.6,2, 2334.71,2,   7.5651,2,    25.00,   2.6752, -999.00,9,  -999.0,9,  -999.0, -999.00,1,-999.000,9,    39.6,2, -999.00,9,     -999.0,9,    4.96,2, 20160229,     2156, -51.0370,  89.3504,     -999.0,9,     -999.0,9,     -999.0,9,-999.0000,9,-999.0000,9,-999.0000,9,-999.0000,9,-999.0000,9,-999.0000,9,-999.0000,9,     -999.0,9,     -999.0,9,       2.06,2,       4.96,2,       2.06,2
33RR20160208,       I08S,      40,          1,         19,         19,2,20160229,       2042,   -51.0370,    89.3503,       4141,   763.4,   2.5345,  34.5119,2,  34.5119,2,    178.9,2,   179.0,2,    66.0,2,    0.00,2,   34.24,2,    0.00,2,    2.36,2,   1.003,2,   0.506,2,   0.064,2,   0.257166324,2,  2243.9,2, 2327.43,2,   7.5501,2,    25.01,   2.5354, -999.00,9,  -999.0,9,  -999.0, -999.00,1,-999.000,9,    39.5,2, -999.00,9,     -999.0,9,     5.1,2, 20160229,     2159, -51.0369,  89.3504,     -999.0,9,     -999.0,9,     -999.0,9,-999.0000,9,-999.0000,9,-999.0000,9,-999.0000,9,-999.0000,9,-999.0000,9,-999.0000,9,     -999.0,9,     -999.0,9,        2.0,2,        5.1,2,        2.0,2
33RR20160208,       I08S,      40,          1,         20,         20,2,20160229,       2042,   -51.0370,    89.3503,       4141,   661.7,   2.7971,  34.4707,2,  34.4707,2,    179.4,2,   180.3,2,    60.3,2,    0.00,2,   34.11,2,    0.00,2,    2.36,2,   1.114,2,   0.557,2,   0.071,2,   0.285627419,2,  2237.3,2, 2322.43,2,   7.5549,6,    25.01,   2.7973, -999.00,9,  -999.0,9,  -999.0, -999.00,1,-999.000,9,    39.3,2, -999.00,9,     -999.0,9,     5.2,2, 20160229,     2202, -51.0369,  89.3504,     -999.0,9,     -999.0,9,     -999.0,9,-999.0000,9,-999.0000,9,-999.0000,9,-999.0000,9,-999.0000,9,-999.0000,9,-999.0000,9,     -999.0,9,     -999.0,9,       2.05,2,        5.2,2,       2.05,2
33RR20160208,       I08S,      40,          1,         21,         21,2,20160229,       2042,   -51.0370,    89.3503,       4141,   560.7,   2.8701,  34.3956,2,  34.3966,2,    197.0,2,   190.3,2,    53.4,2,    0.00,2,   33.87,2,    0.00,2,    2.34,2,   1.652,2,   0.821,2,   0.112,2,    0.51738205,2,  2228.5,2, 2315.01,2,   7.5596,2,    25.01,   2.8674, -999.00,9,  -999.0,9,  -999.0, -999.00,1,-999.000,9,    39.4,2, -999.00,9,     -999.0,9,    5.24,2, 20160229,     2205, -51.0370,  89.3504,     -999.0,9,     -999.0,9,     -999.0,9,-999.0000,9,-999.0000,9,-999.0000,9,-999.0000,9,-999.0000,9,-999.0000,9,-999.0000,9,     -999.0,9,     -999.0,9,       2.19,2,       5.24,2,       2.19,2
33RR20160208,       I08S,      40,          1,         22,         22,2,20160229,       2042,   -51.0370,    89.3503,       4141,   475.6,   2.5241,  34.2523,2,  34.2556,2,    209.6,2,   218.5,2,    43.9,2,    0.00,2,   33.04,2,    0.00,2,    2.29,2,   2.724,2,   1.403,2,   0.210,2,    1.03882997,2,  2211.5,2, 2302.17,2,   7.5707,2,    25.01,   2.5301, -999.00,9,  -999.0,9,  -999.0, -999.00,1,-999.000,9,    39.4,2, -999.00,9,     -999.0,9,    5.26,2, 20160229,     2207, -51.0369,  89.3504,     -999.0,9,     -999.0,9,     -999.0,9,-999.0000,9,-999.0000,9,-999.0000,9,-999.0000,9,-999.0000,9,-999.0000,9,-999.0000,9,     -999.0,9,     -999.0,9,       2.19,2,       5.26,2,       2.19,2
33RR20160208,       I08S,      40,          1,         23,         23,2,20160229,       2042,   -51.0370,    89.3503,       4141,   436.3,   2.7427,  34.2381,2,  34.2342,2,    219.1,2,   222.9,2,    39.7,2,    0.00,2,   32.59,2,    0.00,2,    2.25,2,   2.926,2,   1.514,2,   0.223,2,    1.18418485,2,  2207.3,2, 2299.00,2,   7.5797,2,    25.02,   2.7429, -999.00,9,  -999.0,9,  -999.0, -999.00,1,-999.000,9,    39.7,2, -999.00,9,     -999.0,9,    5.33,2, 20160229,     2209, -51.0369,  89.3504,     -999.0,9,     -999.0,9,     -999.0,9,-999.0000,9,-999.0000,9,-999.0000,9,-999.0000,9,-999.0000,9,-999.0000,9,-999.0000,9,     -999.0,9,     -999.0,9,       2.27,2,       5.33,2,       2.27,2
33RR20160208,       I08S,      40,          1,         24,         24,2,20160229,       2042,   -51.0370,    89.3503,       4141,   384.9,   2.5421,  34.1537,2,  34.1528,2,    236.9,2,   246.0,2,    33.8,2,    0.00,2,   31.51,2,    0.00,2,    2.16,2,   3.491,2,   1.863,2,   0.288,2,    1.61211774,2,  2195.3,2, 2293.97,2,   7.5985,2,    25.01,   2.5433, -999.00,9,  -999.0,9,  -999.0, -999.00,1,-999.000,9,    40.5,2, -999.00,9,     -999.0,9,     5.4,2, 20160229,     2211, -51.0369,  89.3504,     -999.0,9,     -999.0,9,     -999.0,9,-999.0000,9,-999.0000,9,-999.0000,9,-999.0000,9,-999.0000,9,-999.0000,9,-999.0000,9,     -999.0,9,     -999.0,9,       2.27,2,        5.4,2,       2.27,2
33RR20160208,       I08S,      40,          1,         25,         25,2,20160229,       2042,   -51.0370,    89.3503,       4141,   327.0,   2.4694,  34.0569,2,  34.0456,2,    254.0,2,   275.3,2,    26.4,2,    0.00,2,   29.80,2,    0.00,2,    2.06,2,   4.324,2,   2.297,2,   0.372,2,    2.14373034,2,  2179.4,2, 2286.48,2,   7.6255,2,    25.01,   2.4694, -999.00,9,  -999.0,9,  -999.0, -999.00,1,-999.000,9,    40.9,2,   32.80,2,     -999.0,9,    5.47,2, 20160229,     2214, -51.0369,  89.3504,     -999.0,9,     -999.0,9,     -999.0,9,-999.0000,9,-999.0000,9,-999.0000,9,-999.0000,9,-999.0000,9,-999.0000,9,-999.0000,9,     -999.0,9,     -999.0,9,        2.6,2,       5.47,2,        2.6,2
33RR20160208,       I08S,      40,          1,         26,         26,2,20160229,       2042,   -51.0370,    89.3503,       4141,   288.7,   2.9639,  34.0362,2,  34.0348,2,    283.8,2,   277.2,2,    21.1,2,    0.00,2,   28.83,2,    0.00,2,    1.98,2,   4.287,2,   2.353,2,   0.377,2,    2.17422437,2,  2175.5,6, 2283.28,2,   7.6392,2,    25.00,   2.9642, -999.00,9,  -999.0,9,  -999.0, -999.00,1,-999.000,9,    41.1,2,   30.60,2,     -999.0,9,    5.57,2, 20160229,     2215, -51.0369,  89.3504,     -999.0,9,     -999.0,9,     -999.0,9,-999.0000,9,-999.0000,9,-999.0000,9,-999.0000,9,-999.0000,9,-999.0000,9,-999.0000,9,     -999.0,9,     -999.0,9,       2.82,2,       5.57,2,       2.82,2
33RR20160208,       I08S,      40,          1,         27,         27,2,20160229,       2042,   -51.0370,    89.3503,       4141,   240.3,   2.7179,  33.9238,2,  33.9231,2,    299.0,2,   302.0,2,    18.5,2,    0.00,2,   27.71,2,    0.03,2,    1.92,2,   4.711,2,   2.646,2,   0.436,2,    2.62960189,2,  2164.0,2, 2281.92,2,   7.6625,2,    25.02,   2.7194, -999.00,9,  -999.0,9,  -999.0, -999.00,1,-999.000,9,    41.9,2,   29.90,2,     -999.0,9,    5.67,2, 20160229,     2217, -51.0369,  89.3504,     -999.0,9,     -999.0,9,     -999.0,9,-999.0000,9,-999.0000,9,-999.0000,9,-999.0000,9,-999.0000,9,-999.0000,9,-999.0000,9,     -999.0,9,     -999.0,9,       3.09,2,       5.64,2,       2.96,2