BOTTLE,20220706CCHSIOAMB
EXPOCODE,SECT_ID,STNNBR,CASTNO,SAMPNO,BTLNBR,BTLNBR_FLAG_W,DATE,TIME,LATITUDE,LONGITUDE,DEPTH,CTDPRS,CTDTMP,CTDSAL,CTDSAL_FLAG_W,SALNTY,SALNTY_FLAG_W,CTDOXY,CTDOXY_FLAG_W,OXYGEN,OXYGEN_FLAG_W,SILCAT,SILCAT_FLAG_W,NH4,NH4_FLAG_W,NITRAT,NITRAT_FLAG_W,NITRIT,NITRIT_FLAG_W,PHSPHT,PHSPHT_FLAG_W,CFC-11,CFC-11_FLAG_W,CFC-12,CFC-12_FLAG_W,CFC113,CFC113_FLAG_W,SF6,SF6_FLAG_W,TCARBN,TCARBN_FLAG_W,ALKALI,ALKALI_FLAG_W,PH_TOT,PH_TOT_FLAG_W,PH_TMP,REFTMP,DELC13,DELC13_FLAG_W,DELC14,DELC14_FLAG_W,C14ERR,DELO18,DELO18_FLAG_W,POC,POC_FLAG_W,DOC,DOC_FLAG_W,TDN,TDN_FLAG_W,TON,TON_FLAG_W,D15N_NO3,D15N_NO3_FLAG_W,BTL_DATE,BTL_TIME,BTL_LAT,BTL_LON,14C-DOC,14C-DOC_FLAG_W,CHLORA,CHLORA_FLAG_W,HPLC,HPLC_FLAG_W,CDOM325,CDOM325_FLAG_W,CDOM340,CDOM340_FLAG_W,CDOM380,CDOM380_FLAG_W,CDOM412,CDOM412_FLAG_W,CDOM443,CDOM443_FLAG_W,CDOM490,CDOM490_FLAG_W,CDOM555,CDOM555_FLAG_W,CDOMSL,CDOMSL_FLAG_W,CDOMSN,CDOMSN_FLAG_W,D18O_NO3,D18O_NO3_FLAG_W,D15N_NO2+NO3,D15N_NO2+NO3_FLAG_W,D18O_NO2+NO3,D18O_NO2+NO3_FLAG_W
,,,,,,,,,,,METERS,DBAR,ITS-90,PSS-78,,PSS-78,,UMOL/KG,,UMOL/KG,,UMOL/KG,,UMOL/KG,,UMOL/KG,,UMOL/KG,,UMOL/KG,,PMOL/KG,,PMOL/KG,,PMOL/KG,,FMOL/KG,,UMOL/KG,,UMOL/KG,,,,DEG C,DEG C,/MILLE,,/MILLE,,/MILLE,/MILLE,,UG/KG,,UMOL/KG,,UMOL/KG,,UMOL/KG,,/MILLE,,,,,,/MILLE,,MG/M3,,,,1/M,,1/M,,1/M,,1/M,,1/M,,1/M,,1/M,,1/NM,,1/NM,,/MILLE,,/MILLE,,/MILLE,
33RR20160208,       I08S,      76,          2,         28,         28,2,20160310,       0904,   -32.0089,    95.0129,       4252,   233.8,  12.9326,  35.1891,2,  35.1845,2,    234.1,2,   232.3,2,     1.5,2,    0.00,2,    6.98,2,    0.01,2,    0.60,2,-999.000,9,-999.000,9,-999.000,9,-999.000000000,9,  2118.2,2, 2317.61,6,   7.8529,2,    24.91,-999.0000, -999.00,9,  -999.0,9,  -999.0, -999.00,9,-999.000,9,    49.1,2,   10.80,2,     -999.0,1, -999.00,9, 20160310,     1043, -32.0089,  95.0129,     -999.0,9,     -999.0,9,     -999.0,9,-999.0000,9,-999.0000,9,-999.0000,9,-999.0000,9,-999.0000,9,-999.0000,9,-999.0000,9,     -999.0,9,     -999.0,9,     -999.0,9,     -999.0,9,     -999.0,9
33RR20160208,       I08S,      76,          2,         29,         29,2,20160310,       0904,   -32.0089,    95.0129,       4252,   184.7,  14.4067,  35.4164,2,  35.4112,2,    232.1,2,   225.2,2,     1.1,2,    0.00,2,    4.30,2,    0.01,2,    0.42,2,   2.475,2,   1.529,2,-999.000,5,         1.536,2,  2112.3,2, 2330.08,2,   7.8846,2,    24.97,-999.0000, -999.00,9,  -999.0,9,  -999.0, -999.00,9,-999.000,9,    51.7,2,    8.10,2,     -999.0,1, -999.00,9, 20160310,     1046, -32.0089,  95.0129,     -999.0,9,     -999.0,9,     -999.0,9,-999.0000,9,-999.0000,9,-999.0000,9,-999.0000,9,-999.0000,9,-999.0000,9,-999.0000,9,     -999.0,9,     -999.0,9,     -999.0,9,     -999.0,9,     -999.0,9
33RR20160208,       I08S,      76,          2,         30,         30,2,20160310,       0904,   -32.0089,    95.0129,       4252,   140.5,  15.5057,  35.5501,2,  35.5471,2,    234.9,2,   224.6,2,     0.9,2,    0.01,2,    2.15,2,    0.09,2,    0.32,2,-999.000,9,-999.000,9,-999.000,9,-999.000000000,9,  2101.0,2, 2339.55,2,   7.9127,2,    24.93,-999.0000, -999.00,9,  -999.0,9,  -999.0, -999.00,9,-999.000,9,    52.5,2,    6.10,2,     -999.0,1, -999.00,9, 20160310,     1048, -32.0089,  95.0129,     -999.0,9,0.213948948,2,     -999.0,9,-999.0000,9,-999.0000,9,-999.0000,9,-999.0000,9,-999.0000,9,-999.0000,9,-999.0000,9,     -999.0,9,     -999.0,9,     -999.0,9,     -999.0,9,     -999.0,9
33RR20160208,       I08S,      76,          2,         31,         31,2,20160310,       0904,   -32.0089,    95.0129,       4252,   114.6,  16.0313,  35.5307,2,  35.5382,2,    249.8,2,   253.9,2,     0.4,2,    0.02,2,    0.00,2,    0.02,2,    0.16,2,   2.481,2,   1.426,2,-999.000,5,         1.537,2,  2078.3,2, 2340.23,2,   7.9558,2,    24.94,-999.0000, -999.00,9,  -999.0,9,  -999.0, -999.00,9,-999.000,9,    61.1,2,    4.70,2,     -999.0,1, -999.00,9, 20160310,     1049, -32.0089,  95.0129,     -999.0,9,0.238360588,2,     -999.0,9,-999.0000,9,-999.0000,9,-999.0000,9,-999.0000,9,-999.0000,9,-999.0000,9,-999.0000,9,     -999.0,9,     -999.0,9,     -999.0,9,     -999.0,9,     -999.0,9
33RR20160208,       I08S,      76,          2,         32,         32,2,20160310,       0904,   -32.0089,    95.0129,       4252,    91.0,  17.1529,  35.5523,2,  35.5599,2,    255.7,2,   262.5,2,     0.4,2,    0.01,2,    0.00,2,    0.00,2,    0.11,2,-999.000,9,-999.000,9,-999.000,9,-999.000000000,9,  2074.9,2, 2341.11,2,   7.9753,2,    24.96,-999.0000, -999.00,9,  -999.0,9,  -999.0, -999.00,9,-999.000,9,    62.7,2,    4.60,2,     -999.0,1, -999.00,9, 20160310,     1051, -32.0089,  95.0129,     -999.0,9,0.177881357,2,     -999.0,9,-999.0000,9,-999.0000,9,-999.0000,9,-999.0000,9,-999.0000,9,-999.0000,9,-999.0000,9,     -999.0,9,     -999.0,9,     -999.0,9,     -999.0,9,     -999.0,9
33RR20160208,       I08S,      76,          2,         33,         33,2,20160310,       0904,   -32.0089,    95.0129,       4252,    65.1,  21.1741,  35.9438,2,  35.9337,2,    224.2,2,   231.0,2,     1.0,2,    0.00,2,    0.00,2,    0.00,2,    0.06,2,   2.052,2,   1.204,2,-999.000,5,         1.438,2,  2069.8,2, 2359.68,2,   8.0064,2,    24.99,-999.0000, -999.00,9,  -999.0,9,  -999.0, -999.00,9,-999.000,9,    66.3,2,    4.40,2,     -999.0,1, -999.00,9, 20160310,     1053, -32.0089,  95.0129,     -999.0,9,0.077477213,2,     -999.0,9,-999.0000,9,-999.0000,9,-999.0000,9,-999.0000,9,-999.0000,9,-999.0000,9,-999.0000,9,     -999.0,9,     -999.0,9,     -999.0,9,     -999.0,9,     -999.0,9
33RR20160208,       I08S,      76,          2,         34,         34,2,20160310,       0904,   -32.0089,    95.0129,       4252,    39.9,  22.9561,  35.9635,2,-999.0000,9,    217.6,2,  -999.0,9,  -999.0,9, -999.00,9, -999.00,9, -999.00,9, -999.00,9,-999.000,9,-999.000,9,-999.000,9,-999.000000000,9,  -999.0,9, -999.00,9,-999.0000,9,  -999.00,-999.0000, -999.00,9,  -999.0,9,  -999.0, -999.00,9,-999.000,9,  -999.0,9, -999.00,9,     -999.0,9, -999.00,9, 20160310,     1055, -32.0089,  95.0130,     -999.0,9,     -999.0,9,     -999.0,9,-999.0000,9,-999.0000,9,-999.0000,9,-999.0000,9,-999.0000,9,-999.0000,9,-999.0000,9,     -999.0,9,     -999.0,9,     -999.0,9,     -999.0,9,     -999.0,9
33RR20160208,       I08S,      76,          2,         35,         35,2,20160310,       0904,   -32.0089,    95.0129,       4252,    20.8,  22.9727,  35.9650,2,  35.9639,2,    214.7,2,   216.8,2,     1.2,2,    0.01,2,    0.00,2,    0.00,2,    0.06,2,   1.824,6,   1.065,6,-999.000,5,         1.266,6,  2062.2,2, 2360.43,2,   8.0233,2,    24.92,-999.0000, -999.00,9,  -999.0,9,  -999.0, -999.00,9,-999.000,9,    69.6,2,    4.40,2,     -999.0,1, -999.00,9, 20160310,     1057, -32.0089,  95.0129,     -999.0,9,0.049635169,2,     -999.0,9,-999.0000,9,-999.0000,9,-999.0000,9,-999.0000,9,-999.0000,9,-999.0000,9,-999.0000,9,     -999.0,9,     -999.0,9,     -999.0,9,     -999.0,9,     -999.0,9
33RR20160208,       I08S,      76,          2,         36,         36,2,20160310,       0904,   -32.0089,    95.0129,       4252,     7.9,  22.9669,  35.9653,2,  35.9637,2,    218.0,2,   218.1,2,     1.2,2,    0.02,2,    0.00,2,    0.01,2,    0.07,2,   1.815,2,   1.092,2,-999.000,5,         1.204,2,  2062.4,2, 2360.32,2,   8.0218,6,    24.97,-999.0000, -999.00,9,  -999.0,9,  -999.0, -999.00,9,-999.000,9,    68.9,2,    4.70,2,     -999.0,1, -999.00,9, 20160310,     1059, -32.0088,  95.0130,     -999.0,9,0.051985991,2,     -999.0,9,-999.0000,9,-999.0000,9,-999.0000,9,-999.0000,9,-999.0000,9,-999.0000,9,-999.0000,9,     -999.0,9,     -999.0,9,     -999.0,9,     -999.0,9,     -999.0,9