BOTTLE,20220706CCHSIOAMB
EXPOCODE,SECT_ID,STNNBR,CASTNO,SAMPNO,BTLNBR,BTLNBR_FLAG_W,DATE,TIME,LATITUDE,LONGITUDE,DEPTH,CTDPRS,CTDTMP,CTDSAL,CTDSAL_FLAG_W,SALNTY,SALNTY_FLAG_W,CTDOXY,CTDOXY_FLAG_W,OXYGEN,OXYGEN_FLAG_W,SILCAT,SILCAT_FLAG_W,NH4,NH4_FLAG_W,NITRAT,NITRAT_FLAG_W,NITRIT,NITRIT_FLAG_W,PHSPHT,PHSPHT_FLAG_W,CFC-11,CFC-11_FLAG_W,CFC-12,CFC-12_FLAG_W,CFC113,CFC113_FLAG_W,SF6,SF6_FLAG_W,TCARBN,TCARBN_FLAG_W,ALKALI,ALKALI_FLAG_W,PH_TOT,PH_TOT_FLAG_W,PH_TMP,REFTMP,DELC13,DELC13_FLAG_W,DELC14,DELC14_FLAG_W,C14ERR,DELO18,DELO18_FLAG_W,POC,POC_FLAG_W,DOC,DOC_FLAG_W,TDN,TDN_FLAG_W,TON,TON_FLAG_W,D15N_NO3,D15N_NO3_FLAG_W,BTL_DATE,BTL_TIME,BTL_LAT,BTL_LON,14C-DOC,14C-DOC_FLAG_W,CHLORA,CHLORA_FLAG_W,HPLC,HPLC_FLAG_W,CDOM325,CDOM325_FLAG_W,CDOM340,CDOM340_FLAG_W,CDOM380,CDOM380_FLAG_W,CDOM412,CDOM412_FLAG_W,CDOM443,CDOM443_FLAG_W,CDOM490,CDOM490_FLAG_W,CDOM555,CDOM555_FLAG_W,CDOMSL,CDOMSL_FLAG_W,CDOMSN,CDOMSN_FLAG_W,D18O_NO3,D18O_NO3_FLAG_W,D15N_NO2+NO3,D15N_NO2+NO3_FLAG_W,D18O_NO2+NO3,D18O_NO2+NO3_FLAG_W
,,,,,,,,,,,METERS,DBAR,ITS-90,PSS-78,,PSS-78,,UMOL/KG,,UMOL/KG,,UMOL/KG,,UMOL/KG,,UMOL/KG,,UMOL/KG,,UMOL/KG,,PMOL/KG,,PMOL/KG,,PMOL/KG,,FMOL/KG,,UMOL/KG,,UMOL/KG,,,,DEG C,DEG C,/MILLE,,/MILLE,,/MILLE,/MILLE,,UG/KG,,UMOL/KG,,UMOL/KG,,UMOL/KG,,/MILLE,,,,,,/MILLE,,MG/M3,,,,1/M,,1/M,,1/M,,1/M,,1/M,,1/M,,1/M,,1/NM,,1/NM,,/MILLE,,/MILLE,,/MILLE,
33RR20160208,       I08S,      48,          1,         28,         28,2,20160303,       0003,   -47.0530,    93.0739,       3490,   214.6,   6.7073,  34.2342,2,  34.2227,2,    269.1,2,   270.2,2,     6.4,2,    0.00,2,   20.44,2,    0.02,2,    1.39,2,   3.861,2,   2.143,2,   0.307,2,         1.931,2,  2138.8,2, 2280.25,6,   7.7328,2,    24.99,   6.7077,    1.21,2,   -18.0,2,     2.3, -999.00,1,-999.000,9,    45.3,2,   22.90,2,     -999.0,1, -999.00,9, 20160303,      128, -47.0530,  93.0739,     -999.0,9,     -999.0,9,     -999.0,9,-999.0000,9,-999.0000,9,-999.0000,9,-999.0000,9,-999.0000,9,-999.0000,9,-999.0000,9,     -999.0,9,     -999.0,9,     -999.0,9,     -999.0,9,     -999.0,9
33RR20160208,       I08S,      48,          1,         29,         29,2,20160303,       0003,   -47.0530,    93.0739,       3490,   164.5,   7.0861,  34.2099,2,  34.1913,2,    272.4,2,   270.4,2,     4.9,2,    0.00,2,   20.00,2,    0.02,2,    1.37,2,-999.000,9,-999.000,9,-999.000,9,-999.000000000,9,  2138.6,2, 2278.51,2,   7.7425,2,    24.97,   7.0996,    1.28,2,   -21.7,2,     2.2, -999.00,1,-999.000,9,    45.3,2,   23.60,2,     -999.0,1, -999.00,9, 20160303,      130, -47.0530,  93.0740,     -999.0,9,     -999.0,9,     -999.0,9,-999.0000,9,-999.0000,9,-999.0000,9,-999.0000,9,-999.0000,9,-999.0000,9,-999.0000,9,     -999.0,9,     -999.0,9,     -999.0,9,     -999.0,9,     -999.0,9
33RR20160208,       I08S,      48,          1,         30,         30,2,20160303,       0003,   -47.0530,    93.0739,       3490,   135.1,   7.3322,  34.1786,2,  34.1699,2,    276.9,2,   274.3,2,     3.7,2,    0.01,2,   19.25,2,    0.05,2,    1.34,2,   3.864,2,   2.146,2,   0.306,2,          1.99,2,  2130.8,2, 2279.20,2,   7.7540,6,    24.99,   7.3317,    1.30,2,   -19.7,2,     2.1, -999.00,1,-999.000,9,    44.8,2,   21.90,2,     -999.0,1, -999.00,9, 20160303,      132, -47.0530,  93.0740,     -999.0,9,     -999.0,9,     -999.0,9,-999.0000,9,-999.0000,9,-999.0000,9,-999.0000,9,-999.0000,9,-999.0000,9,-999.0000,9,     -999.0,9,     -999.0,9,     -999.0,9,     -999.0,9,     -999.0,9
33RR20160208,       I08S,      48,          1,         31,         31,2,20160303,       0003,   -47.0530,    93.0739,       3490,   109.7,   7.3363,  34.0672,2,  34.0629,2,    285.8,2,   285.7,2,     2.4,2,    0.29,2,   18.19,2,    0.48,2,    1.32,2,   3.906,2,   2.170,2,   0.336,2,         2.155,2,  2121.6,2, 2275.24,2,   7.7662,2,    24.98,   7.3364,    1.43,2,   -27.0,2,     2.0, -999.00,1,-999.000,9,    44.0,2,   21.20,2,     -999.0,1, -999.00,9, 20160303,      133, -47.0530,  93.0739,     -999.0,9,     -999.0,9,     -999.0,9,-999.0000,9,-999.0000,9,-999.0000,9,-999.0000,9,-999.0000,9,-999.0000,9,-999.0000,9,     -999.0,9,     -999.0,9,     -999.0,9,     -999.0,9,     -999.0,9
33RR20160208,       I08S,      48,          1,         32,         32,2,20160303,       0003,   -47.0530,    93.0739,       3490,    82.1,   8.0213,  33.9768,2,  33.9701,2,    286.6,2,   289.9,2,     1.7,2,    0.52,2,   17.27,2,    0.23,2,    1.25,2,-999.000,9,-999.000,9,-999.000,9,-999.000000000,9,  2113.1,2, 2275.11,2,   7.7871,2,    24.98,   8.0327,    1.57,2,   -31.6,2,     2.3, -999.00,1,-999.000,9,    46.0,2,   20.90,2,     -999.0,1, -999.00,9, 20160303,      135, -47.0530,  93.0739,     -999.0,9,     -999.0,9,     -999.0,9,-999.0000,9,-999.0000,9,-999.0000,9,-999.0000,9,-999.0000,9,-999.0000,9,-999.0000,9,     -999.0,9,     -999.0,9,     -999.0,9,     -999.0,9,     -999.0,9
33RR20160208,       I08S,      48,          1,         33,         33,2,20160303,       0003,   -47.0530,    93.0739,       3490,    61.3,   8.7081,  33.9900,2,  33.9798,2,    286.1,2,   287.7,2,     1.3,2,    0.28,2,   16.22,2,    0.22,2,    1.17,2,   3.616,2,   2.030,2,   0.305,2,         2.024,2,  2107.7,2, 2274.48,2,   7.8043,2,    24.99,   8.7086,    1.62,2,   -29.9,2,     2.1, -999.00,9,-999.000,1,    47.3,2,   19.30,2,     -999.0,1, -999.00,9, 20160303,      137, -47.0530,  93.0739,     -999.0,9,     -999.0,9,     -999.0,1,-999.0000,9,-999.0000,9,-999.0000,9,-999.0000,9,-999.0000,9,-999.0000,9,-999.0000,9,     -999.0,9,     -999.0,9,     -999.0,9,     -999.0,9,     -999.0,9
33RR20160208,       I08S,      48,          1,         34,         34,4,20160303,       0003,   -47.0530,    93.0739,       3490,    35.0,   9.3478,  34.0046,3,-999.0000,9,    283.2,3,  -999.0,9,  -999.0,9, -999.00,9, -999.00,9, -999.00,9, -999.00,9,-999.000,9,-999.000,9,-999.000,9,-999.000000000,9,  -999.0,9, -999.00,9,-999.0000,9,  -999.00,   9.3533, -999.00,9,  -999.0,9,  -999.0, -999.00,9,-999.000,9,  -999.0,9, -999.00,9,     -999.0,9, -999.00,9, 20160303,      139, -47.0530,  93.0739,     -999.0,9,     -999.0,9,     -999.0,9,-999.0000,9,-999.0000,9,-999.0000,9,-999.0000,9,-999.0000,9,-999.0000,9,-999.0000,9,     -999.0,9,     -999.0,9,     -999.0,9,     -999.0,9,     -999.0,9
33RR20160208,       I08S,      48,          1,         35,         35,2,20160303,       0003,   -47.0530,    93.0739,       3490,     6.2,   9.3600,  34.0052,2,  33.9955,2,    282.3,2,   282.7,2,     1.2,2,    0.34,2,   15.41,2,    0.22,2,    1.12,2,   3.506,2,   1.975,2,   0.295,2,          1.93,2,  2102.5,6, 2274.59,2,   7.8144,6,    24.99,   9.3597,    1.66,2,   -21.7,2,     2.4, -999.00,1,-999.000,9,    48.2,2,   20.20,2,     -999.0,1, -999.00,9, 20160303,      141, -47.0530,  93.0739,     -999.0,9,     -999.0,9,     -999.0,9,-999.0000,9,-999.0000,9,-999.0000,9,-999.0000,9,-999.0000,9,-999.0000,9,-999.0000,9,     -999.0,9,     -999.0,9,     -999.0,9,     -999.0,9,     -999.0,9
33RR20160208,       I08S,      48,          1,         36,         36,2,20160303,       0003,   -47.0530,    93.0739,       3490,     5.7,   9.3620,  34.0052,2,-999.0000,9,    282.0,2,  -999.0,9,     1.2,2,    0.33,2,   15.40,2,    0.21,2,    1.13,2,-999.000,9,-999.000,9,-999.000,9,-999.000000000,9,  -999.0,9, -999.00,9,-999.0000,9,  -999.00,   9.3620, -999.00,9,  -999.0,9,  -999.0, -999.00,9,-999.000,1,  -999.0,9, -999.00,9,     -999.0,9, -999.00,9, 20160303,      141, -47.0530,  93.0739,     -999.0,9,     -999.0,9,     -999.0,1,-999.0000,9,-999.0000,9,-999.0000,9,-999.0000,9,-999.0000,9,-999.0000,9,-999.0000,9,     -999.0,9,     -999.0,9,     -999.0,9,     -999.0,9,     -999.0,9