BOTTLE,20220706CCHSIOAMB
EXPOCODE,SECT_ID,STNNBR,CASTNO,SAMPNO,BTLNBR,BTLNBR_FLAG_W,DATE,TIME,LATITUDE,LONGITUDE,DEPTH,CTDPRS,CTDTMP,CTDSAL,CTDSAL_FLAG_W,SALNTY,SALNTY_FLAG_W,CTDOXY,CTDOXY_FLAG_W,OXYGEN,OXYGEN_FLAG_W,SILCAT,SILCAT_FLAG_W,NH4,NH4_FLAG_W,NITRAT,NITRAT_FLAG_W,NITRIT,NITRIT_FLAG_W,PHSPHT,PHSPHT_FLAG_W,CFC-11,CFC-11_FLAG_W,CFC-12,CFC-12_FLAG_W,CFC113,CFC113_FLAG_W,SF6,SF6_FLAG_W,TCARBN,TCARBN_FLAG_W,ALKALI,ALKALI_FLAG_W,PH_TOT,PH_TOT_FLAG_W,PH_TMP,REFTMP,DELC13,DELC13_FLAG_W,DELC14,DELC14_FLAG_W,C14ERR,DELO18,DELO18_FLAG_W,POC,POC_FLAG_W,DOC,DOC_FLAG_W,TDN,TDN_FLAG_W,TON,TON_FLAG_W,D15N_NO3,D15N_NO3_FLAG_W,BTL_DATE,BTL_TIME,BTL_LAT,BTL_LON,14C-DOC,14C-DOC_FLAG_W,CHLORA,CHLORA_FLAG_W,HPLC,HPLC_FLAG_W,CDOM325,CDOM325_FLAG_W,CDOM340,CDOM340_FLAG_W,CDOM380,CDOM380_FLAG_W,CDOM412,CDOM412_FLAG_W,CDOM443,CDOM443_FLAG_W,CDOM490,CDOM490_FLAG_W,CDOM555,CDOM555_FLAG_W,CDOMSL,CDOMSL_FLAG_W,CDOMSN,CDOMSN_FLAG_W,D18O_NO3,D18O_NO3_FLAG_W,D15N_NO2+NO3,D15N_NO2+NO3_FLAG_W,D18O_NO2+NO3,D18O_NO2+NO3_FLAG_W
,,,,,,,,,,,METERS,DBAR,ITS-90,PSS-78,,PSS-78,,UMOL/KG,,UMOL/KG,,UMOL/KG,,UMOL/KG,,UMOL/KG,,UMOL/KG,,UMOL/KG,,PMOL/KG,,PMOL/KG,,PMOL/KG,,FMOL/KG,,UMOL/KG,,UMOL/KG,,,,DEG C,DEG C,/MILLE,,/MILLE,,/MILLE,/MILLE,,UG/KG,,UMOL/KG,,UMOL/KG,,UMOL/KG,,/MILLE,,,,,,/MILLE,,MG/M3,,,,1/M,,1/M,,1/M,,1/M,,1/M,,1/M,,1/M,,1/NM,,1/NM,,/MILLE,,/MILLE,,/MILLE,
33RR20160208,       I08S,      66,          1,         28,         28,2,20160307,       1610,   -37.0021,    95.0050,       4220,   264.9,  11.3462,  34.9601,2,  34.9589,2,    246.4,2,   245.4,2,     2.3,2,    0.00,2,   10.02,2,    0.00,2,    0.71,2,   3.042,2,   1.839,2,   0.171,2,    1.93750922,2,  2120.5,2, 2305.80,2,   7.8251,2,    25.03,  11.3480, -999.00,9,  -999.0,9,  -999.0, -999.00,9,-999.000,9,    48.8,2,   14.60,3,     -999.0,1, -999.00,9, 20160307,     1746, -37.0021,  95.0049,     -999.0,9,     -999.0,9,     -999.0,9,-999.0000,9,-999.0000,9,-999.0000,9,-999.0000,9,-999.0000,9,-999.0000,9,-999.0000,9,     -999.0,9,     -999.0,9,     -999.0,9,     -999.0,9,     -999.0,9
33RR20160208,       I08S,      66,          1,         29,         29,2,20160307,       1610,   -37.0021,    95.0050,       4220,   216.5,  11.7545,  35.0124,2,  35.0087,2,    243.6,2,   244.1,2,     2.0,2,    0.00,2,    8.97,2,    0.00,2,    0.66,2,-999.000,9,-999.000,9,-999.000,9,-999.000000000,9,  2118.2,2, 2309.16,2,   7.8354,2,    25.02,  11.7501, -999.00,9,  -999.0,9,  -999.0, -999.00,9,-999.000,9,    47.3,2,   12.60,2,     -999.0,1, -999.00,9, 20160307,     1748, -37.0021,  95.0049,     -999.0,9,     -999.0,9,     -999.0,9,-999.0000,9,-999.0000,9,-999.0000,9,-999.0000,9,-999.0000,9,-999.0000,9,-999.0000,9,     -999.0,9,     -999.0,9,     -999.0,9,     -999.0,9,     -999.0,9
33RR20160208,       I08S,      66,          1,         30,         30,2,20160307,       1610,   -37.0021,    95.0050,       4220,   163.8,  12.4757,  35.1222,2,  35.1244,2,    246.0,2,   245.6,2,     1.4,2,    0.00,2,    6.88,2,    0.02,2,    0.55,2,   2.911,2,   1.773,2,   0.197,2,    1.99205849,2,  2113.7,2, 2314.76,2,   7.8581,2,    25.02,  12.4764, -999.00,9,  -999.0,9,  -999.0, -999.00,9,-999.000,9,    51.6,2,   11.90,3,     -999.0,1, -999.00,9, 20160307,     1750, -37.0021,  95.0049,     -999.0,9,     -999.0,9,     -999.0,9,-999.0000,9,-999.0000,9,-999.0000,9,-999.0000,9,-999.0000,9,-999.0000,9,-999.0000,9,     -999.0,9,     -999.0,9,     -999.0,9,     -999.0,9,     -999.0,9
33RR20160208,       I08S,      66,          1,         31,         31,2,20160307,       1610,   -37.0021,    95.0050,       4220,   135.1,  12.8947,  35.1888,2,  35.1836,2,    245.6,2,   245.2,2,     1.2,2,    0.00,2,    5.94,2,    0.06,2,    0.50,2,-999.000,9,-999.000,9,-999.000,9,-999.000000000,9,  2109.4,2, 2320.05,2,   7.8679,2,    25.02,  12.8948, -999.00,9,  -999.0,9,  -999.0, -999.00,9,-999.000,9,    51.0,2,    9.10,2,     -999.0,1, -999.00,9, 20160307,     1752, -37.0021,  95.0049,     -999.0,9,     -999.0,9,     -999.0,9,-999.0000,9,-999.0000,9,-999.0000,9,-999.0000,9,-999.0000,9,-999.0000,9,-999.0000,9,     -999.0,9,     -999.0,9,     -999.0,9,     -999.0,9,     -999.0,9
33RR20160208,       I08S,      66,          1,         32,         32,2,20160307,       1610,   -37.0021,    95.0050,       4220,   108.1,  13.1987,  35.2241,2,  35.2235,2,    247.9,2,   247.8,2,     1.1,2,    0.00,2,    4.26,2,    0.78,2,    0.43,2,   2.861,2,   1.709,2,   0.201,2,    1.62940687,2,  2108.1,2, 2321.73,6,   7.8790,2,    25.02,  13.2024, -999.00,9,  -999.0,9,  -999.0, -999.00,9,-999.000,9,    52.9,2,    8.30,2,     -999.0,1, -999.00,9, 20160307,     1754, -37.0021,  95.0049,     -999.0,9,     -999.0,9,     -999.0,9,-999.0000,9,-999.0000,9,-999.0000,9,-999.0000,9,-999.0000,9,-999.0000,9,-999.0000,9,     -999.0,9,     -999.0,9,     -999.0,9,     -999.0,9,     -999.0,9
33RR20160208,       I08S,      66,          1,         33,         33,2,20160307,       1610,   -37.0021,    95.0050,       4220,    84.5,  13.7602,  35.2429,2,  35.2430,2,    249.5,2,   250.5,2,     1.0,2,    0.40,2,    3.22,2,    0.47,2,    0.40,2,   2.750,2,   1.673,2,   0.204,2,    1.89508201,2,  2103.6,2, 2323.66,2,   7.8931,2,    25.03,  13.7591, -999.00,9,  -999.0,9,  -999.0, -999.00,9,-999.000,9,    52.7,2,    8.10,2,     -999.0,1, -999.00,9, 20160307,     1756, -37.0021,  95.0049,     -999.0,9,     -999.0,9,     -999.0,9,-999.0000,9,-999.0000,9,-999.0000,9,-999.0000,9,-999.0000,9,-999.0000,9,-999.0000,9,     -999.0,9,     -999.0,9,     -999.0,9,     -999.0,9,     -999.0,9
33RR20160208,       I08S,      66,          1,         34,         34,2,20160307,       1610,   -37.0021,    95.0050,       4220,    60.5,  15.8024,  35.2531,2,  35.2467,2,    256.9,2,   255.8,2,     0.5,2,    0.26,2,    1.20,2,    0.05,2,    0.24,2,   2.534,2,   1.553,2,   0.186,2,    1.57687794,2,  2084.8,2, 2325.49,2,   7.9317,6,    25.01,  15.8113, -999.00,9,  -999.0,9,  -999.0, -999.00,9,-999.000,9,    57.2,2,    5.70,2,     -999.0,1, -999.00,9, 20160307,     1758, -37.0021,  95.0049,     -999.0,9,     -999.0,9,     -999.0,9,-999.0000,9,-999.0000,9,-999.0000,9,-999.0000,9,-999.0000,9,-999.0000,9,-999.0000,9,     -999.0,9,     -999.0,9,     -999.0,9,     -999.0,9,     -999.0,9
33RR20160208,       I08S,      66,          1,         35,         35,2,20160307,       1610,   -37.0021,    95.0050,       4220,    35.5,  18.3089,  35.2615,2,  35.2664,2,    241.6,2,   239.9,2,     0.0,2,    0.00,2,   -0.02,2,    0.00,2,    0.12,2,   2.191,2,   1.358,2,   0.155,2,    1.33342657,2,  2064.4,2, 2329.45,2,   7.9785,2,    25.01,  18.3041, -999.00,9,  -999.0,9,  -999.0, -999.00,9,-999.000,9,    63.5,2,    4.50,2,     -999.0,1, -999.00,9, 20160307,     1759, -37.0021,  95.0049,     -999.0,9,     -999.0,9,     -999.0,9,-999.0000,9,-999.0000,9,-999.0000,9,-999.0000,9,-999.0000,9,-999.0000,9,-999.0000,9,     -999.0,9,     -999.0,9,     -999.0,9,     -999.0,9,     -999.0,9
33RR20160208,       I08S,      66,          1,         36,         36,2,20160307,       1610,   -37.0021,    95.0050,       4220,     5.1,  18.9674,  35.2308,2,  35.2247,2,    238.9,2,   239.2,2,     0.0,2,    0.00,2,   -0.03,2,    0.02,2,    0.13,2,   2.225,2,   1.366,2,   0.158,2,         1.589,2,  2061.1,6, 2327.48,2,   7.9812,2,    25.00,  18.9572, -999.00,9,  -999.0,9,  -999.0, -999.00,9,-999.000,9,    64.6,2,    4.50,2,     -999.0,1, -999.00,9, 20160307,     1802, -37.0021,  95.0049,     -999.0,9,     -999.0,9,     -999.0,9,-999.0000,9,-999.0000,9,-999.0000,9,-999.0000,9,-999.0000,9,-999.0000,9,-999.0000,9,     -999.0,9,     -999.0,9,     -999.0,9,     -999.0,9,     -999.0,9