BOTTLE,20220706CCHSIOAMB
EXPOCODE,SECT_ID,STNNBR,CASTNO,SAMPNO,BTLNBR,BTLNBR_FLAG_W,DATE,TIME,LATITUDE,LONGITUDE,DEPTH,CTDPRS,CTDTMP,CTDSAL,CTDSAL_FLAG_W,SALNTY,SALNTY_FLAG_W,CTDOXY,CTDOXY_FLAG_W,OXYGEN,OXYGEN_FLAG_W,SILCAT,SILCAT_FLAG_W,NH4,NH4_FLAG_W,NITRAT,NITRAT_FLAG_W,NITRIT,NITRIT_FLAG_W,PHSPHT,PHSPHT_FLAG_W,CFC-11,CFC-11_FLAG_W,CFC-12,CFC-12_FLAG_W,CFC113,CFC113_FLAG_W,SF6,SF6_FLAG_W,TCARBN,TCARBN_FLAG_W,ALKALI,ALKALI_FLAG_W,PH_TOT,PH_TOT_FLAG_W,PH_TMP,REFTMP,DELC13,DELC13_FLAG_W,DELC14,DELC14_FLAG_W,C14ERR,DELO18,DELO18_FLAG_W,POC,POC_FLAG_W,DOC,DOC_FLAG_W,TDN,TDN_FLAG_W,TON,TON_FLAG_W,D15N_NO3,D15N_NO3_FLAG_W,BTL_DATE,BTL_TIME,BTL_LAT,BTL_LON,14C-DOC,14C-DOC_FLAG_W,CHLORA,CHLORA_FLAG_W,HPLC,HPLC_FLAG_W,CDOM325,CDOM325_FLAG_W,CDOM340,CDOM340_FLAG_W,CDOM380,CDOM380_FLAG_W,CDOM412,CDOM412_FLAG_W,CDOM443,CDOM443_FLAG_W,CDOM490,CDOM490_FLAG_W,CDOM555,CDOM555_FLAG_W,CDOMSL,CDOMSL_FLAG_W,CDOMSN,CDOMSN_FLAG_W,D18O_NO3,D18O_NO3_FLAG_W,D15N_NO2+NO3,D15N_NO2+NO3_FLAG_W,D18O_NO2+NO3,D18O_NO2+NO3_FLAG_W
,,,,,,,,,,,METERS,DBAR,ITS-90,PSS-78,,PSS-78,,UMOL/KG,,UMOL/KG,,UMOL/KG,,UMOL/KG,,UMOL/KG,,UMOL/KG,,UMOL/KG,,PMOL/KG,,PMOL/KG,,PMOL/KG,,FMOL/KG,,UMOL/KG,,UMOL/KG,,,,DEG C,DEG C,/MILLE,,/MILLE,,/MILLE,/MILLE,,UG/KG,,UMOL/KG,,UMOL/KG,,UMOL/KG,,/MILLE,,,,,,/MILLE,,MG/M3,,,,1/M,,1/M,,1/M,,1/M,,1/M,,1/M,,1/M,,1/NM,,1/NM,,/MILLE,,/MILLE,,/MILLE,
33RR20160208,       I08S,      61,          1,         28,         28,2,20160306,       1043,   -39.5070,    95.0020,       3766,   236.2,  11.3238,  34.9277,2,  34.9273,2,    249.3,2,   253.5,2,     2.6,2,    0.00,2,    9.76,2,    0.02,2,    0.74,2,-999.000,9,-999.000,9,-999.000,9,-999.000000000,9,  2117.1,2, 2302.56,2,   7.8322,6,    25.03,  11.3222, -999.00,9,  -999.0,9,  -999.0, -999.00,9,-999.000,9,  -999.0,9, -999.00,9,     -999.0,9, -999.00,9, 20160306,     1216, -39.5071,  95.0020,     -999.0,9,     -999.0,9,     -999.0,9,-999.0000,9,-999.0000,9,-999.0000,9,-999.0000,9,-999.0000,9,-999.0000,9,-999.0000,9,     -999.0,9,     -999.0,9,     -999.0,9,     -999.0,9,     -999.0,9
33RR20160208,       I08S,      61,          1,         29,         29,2,20160306,       1043,   -39.5070,    95.0020,       3766,   184.6,  11.6388,  34.9602,2,  34.9648,2,    251.1,2,   252.1,2,     2.3,2,    0.00,2,    8.78,2,    0.02,2,    0.67,2,   3.002,2,   1.753,2,   0.223,2,         1.792,2,  -999.0,9, -999.00,9,-999.0000,9,     9.00,  11.6343, -999.00,9,  -999.0,9,  -999.0, -999.00,9,-999.000,9,  -999.0,9, -999.00,9,     -999.0,9, -999.00,9, 20160306,     1218, -39.5071,  95.0020,     -999.0,9,     -999.0,9,     -999.0,9,-999.0000,9,-999.0000,9,-999.0000,9,-999.0000,9,-999.0000,9,-999.0000,9,-999.0000,9,     -999.0,9,     -999.0,9,     -999.0,9,     -999.0,9,     -999.0,9
33RR20160208,       I08S,      61,          1,         30,         30,2,20160306,       1043,   -39.5070,    95.0020,       3766,   141.1,  12.2974,  35.0741,2,  35.0729,2,    249.3,2,   247.9,2,     1.9,2,    0.00,2,    7.30,2,    0.07,2,    0.58,2,-999.000,9,-999.000,9,-999.000,9,-999.000000000,9,  2113.0,2, 2314.12,2,   7.8525,2,    25.07,  12.3113, -999.00,9,  -999.0,9,  -999.0, -999.00,9,-999.000,9,  -999.0,9, -999.00,9,     -999.0,9, -999.00,9, 20160306,     1220, -39.5071,  95.0020,     -999.0,9,     -999.0,9,     -999.0,9,-999.0000,9,-999.0000,9,-999.0000,9,-999.0000,9,-999.0000,9,-999.0000,9,-999.0000,9,     -999.0,9,     -999.0,9,     -999.0,9,     -999.0,9,     -999.0,9
33RR20160208,       I08S,      61,          1,         31,         31,2,20160306,       1043,   -39.5070,    95.0020,       3766,   117.5,  12.8517,  35.1611,2,  35.1474,2,    246.6,2,   247.1,2,     1.7,2,    0.00,2,    6.08,2,    0.24,2,    0.51,2,   2.930,2,   1.709,2,   0.220,2,         1.751,2,  -999.0,9, -999.00,9,-999.0000,9,  -999.00,  12.8498, -999.00,9,  -999.0,9,  -999.0, -999.00,9,-999.000,9,  -999.0,9, -999.00,9,     -999.0,9, -999.00,9, 20160306,     1222, -39.5071,  95.0020,     -999.0,9,     -999.0,9,     -999.0,9,-999.0000,9,-999.0000,9,-999.0000,9,-999.0000,9,-999.0000,9,-999.0000,9,-999.0000,9,     -999.0,9,     -999.0,9,     -999.0,9,     -999.0,9,     -999.0,9
33RR20160208,       I08S,      61,          1,         32,         32,2,20160306,       1043,   -39.5070,    95.0020,       3766,    91.7,  13.5095,  35.2628,2,  35.2609,2,    246.9,2,   244.8,2,     1.4,2,    0.00,2,    4.12,2,    0.66,2,    0.44,2,-999.000,9,-999.000,9,-999.000,9,-999.000000000,9,  2107.6,2, 2323.80,2,   7.8816,2,    25.01,  13.5091, -999.00,9,  -999.0,9,  -999.0, -999.00,9,-999.000,9,  -999.0,9, -999.00,9,     -999.0,9, -999.00,9, 20160306,     1224, -39.5070,  95.0020,     -999.0,9,     -999.0,9,     -999.0,9,-999.0000,9,-999.0000,9,-999.0000,9,-999.0000,9,-999.0000,9,-999.0000,9,-999.0000,9,     -999.0,9,     -999.0,9,     -999.0,9,     -999.0,9,     -999.0,9
33RR20160208,       I08S,      61,          1,         33,         33,2,20160306,       1043,   -39.5070,    95.0020,       3766,    65.7,  14.8268,  35.0314,2,  35.0189,2,    254.7,2,   252.2,2,     0.7,2,    0.67,2,    2.81,2,    0.08,2,    0.35,2,   2.674,2,   1.572,2,   0.209,2,         1.707,2,  -999.0,9, -999.00,9,-999.0000,9,  -999.00,  14.8002, -999.00,9,  -999.0,9,  -999.0, -999.00,9,-999.000,9,  -999.0,9, -999.00,9,     -999.0,9, -999.00,9, 20160306,     1226, -39.5071,  95.0020,     -999.0,9,     -999.0,9,     -999.0,9,-999.0000,9,-999.0000,9,-999.0000,9,-999.0000,9,-999.0000,9,-999.0000,9,-999.0000,9,     -999.0,9,     -999.0,9,     -999.0,9,     -999.0,9,     -999.0,9
33RR20160208,       I08S,      61,          1,         34,         34,2,20160306,       1043,   -39.5070,    95.0020,       3766,    41.2,  15.5897,  34.9476,2,  34.9470,2,    255.3,2,   252.9,2,     0.1,2,    0.12,2,    2.57,2,    0.07,2,    0.31,2,-999.000,9,-999.000,9,-999.000,9,-999.000000000,9,  2070.0,2, 2312.09,6,   7.9410,6,    25.00,  15.5856, -999.00,9,  -999.0,9,  -999.0, -999.00,9,-999.000,9,  -999.0,9, -999.00,9,     -999.0,9, -999.00,9, 20160306,     1228, -39.5071,  95.0020,     -999.0,9,     -999.0,9,     -999.0,9,-999.0000,9,-999.0000,9,-999.0000,9,-999.0000,9,-999.0000,9,-999.0000,9,-999.0000,9,     -999.0,9,     -999.0,9,     -999.0,9,     -999.0,9,     -999.0,9
33RR20160208,       I08S,      61,          1,         35,         35,2,20160306,       1043,   -39.5070,    95.0020,       3766,    21.2,  15.7257,  34.9530,2,  34.9524,2,    255.4,2,   254.4,2,     0.1,2,    0.05,2,    2.38,2,    0.07,2,    0.30,2,   2.526,2,   1.490,2,   0.203,2,         1.679,2,  2067.0,2, 2312.16,2,   7.9454,2,    25.02,  15.7239, -999.00,9,  -999.0,9,  -999.0, -999.00,9,-999.000,9,  -999.0,9, -999.00,9,     -999.0,9, -999.00,9, 20160306,     1230, -39.5071,  95.0020,     -999.0,9,     -999.0,9,     -999.0,9,-999.0000,9,-999.0000,9,-999.0000,9,-999.0000,9,-999.0000,9,-999.0000,9,-999.0000,9,     -999.0,9,     -999.0,9,     -999.0,9,     -999.0,9,     -999.0,9
33RR20160208,       I08S,      61,          1,         36,         36,2,20160306,       1043,   -39.5070,    95.0020,       3766,     5.5,  16.7669,  35.0264,2,  35.0147,2,    244.9,2,   250.8,2,     0.1,2,    0.03,2,    1.44,2,    0.05,2,    0.26,2,   2.454,2,   1.442,2,   0.193,2,         1.598,2,  2062.7,6, 2315.27,2,   7.9579,2,    25.05,  16.7642, -999.00,9,  -999.0,9,  -999.0, -999.00,9,-999.000,9,  -999.0,9, -999.00,9,     -999.0,9, -999.00,9, 20160306,     1232, -39.5070,  95.0020,     -999.0,9,     -999.0,9,     -999.0,9,-999.0000,9,-999.0000,9,-999.0000,9,-999.0000,9,-999.0000,9,-999.0000,9,-999.0000,9,     -999.0,9,     -999.0,9,     -999.0,9,     -999.0,9,     -999.0,9