BOTTLE,20220706CCHSIOAMB
EXPOCODE,SECT_ID,STNNBR,CASTNO,SAMPNO,BTLNBR,BTLNBR_FLAG_W,DATE,TIME,LATITUDE,LONGITUDE,DEPTH,CTDPRS,CTDTMP,CTDSAL,CTDSAL_FLAG_W,SALNTY,SALNTY_FLAG_W,CTDOXY,CTDOXY_FLAG_W,OXYGEN,OXYGEN_FLAG_W,SILCAT,SILCAT_FLAG_W,NH4,NH4_FLAG_W,NITRAT,NITRAT_FLAG_W,NITRIT,NITRIT_FLAG_W,PHSPHT,PHSPHT_FLAG_W,CFC-11,CFC-11_FLAG_W,CFC-12,CFC-12_FLAG_W,CFC113,CFC113_FLAG_W,SF6,SF6_FLAG_W,TCARBN,TCARBN_FLAG_W,ALKALI,ALKALI_FLAG_W,PH_TOT,PH_TOT_FLAG_W,PH_TMP,REFTMP,DELC13,DELC13_FLAG_W,DELC14,DELC14_FLAG_W,C14ERR,DELO18,DELO18_FLAG_W,POC,POC_FLAG_W,DOC,DOC_FLAG_W,TDN,TDN_FLAG_W,TON,TON_FLAG_W,D15N_NO3,D15N_NO3_FLAG_W,BTL_DATE,BTL_TIME,BTL_LAT,BTL_LON,14C-DOC,14C-DOC_FLAG_W,CHLORA,CHLORA_FLAG_W,HPLC,HPLC_FLAG_W,CDOM325,CDOM325_FLAG_W,CDOM340,CDOM340_FLAG_W,CDOM380,CDOM380_FLAG_W,CDOM412,CDOM412_FLAG_W,CDOM443,CDOM443_FLAG_W,CDOM490,CDOM490_FLAG_W,CDOM555,CDOM555_FLAG_W,CDOMSL,CDOMSL_FLAG_W,CDOMSN,CDOMSN_FLAG_W,D18O_NO3,D18O_NO3_FLAG_W,D15N_NO2+NO3,D15N_NO2+NO3_FLAG_W,D18O_NO2+NO3,D18O_NO2+NO3_FLAG_W
,,,,,,,,,,,METERS,DBAR,ITS-90,PSS-78,,PSS-78,,UMOL/KG,,UMOL/KG,,UMOL/KG,,UMOL/KG,,UMOL/KG,,UMOL/KG,,UMOL/KG,,PMOL/KG,,PMOL/KG,,PMOL/KG,,FMOL/KG,,UMOL/KG,,UMOL/KG,,,,DEG C,DEG C,/MILLE,,/MILLE,,/MILLE,/MILLE,,UG/KG,,UMOL/KG,,UMOL/KG,,UMOL/KG,,/MILLE,,,,,,/MILLE,,MG/M3,,,,1/M,,1/M,,1/M,,1/M,,1/M,,1/M,,1/M,,1/NM,,1/NM,,/MILLE,,/MILLE,,/MILLE,
33RR20160208,       I08S,       9,          1,          1,          1,2,20160221,       0019,   -64.5799,    80.3926,       3667,  3675.2,  -0.1113,  34.6595,2,  34.6597,2,    232.1,2,   232.1,2,   140.4,2,    0.00,2,   32.49,2,    0.00,2,    2.30,2,   1.153,2,   0.588,2,   0.076,2,         0.365,2,  2256.7,6, 2356.39,2,   7.5925,2,    24.93,  -0.1112,    0.52,2,  -153.1,2,     2.1, -999.00,1,-999.000,9,  -999.0,9, -999.00,9,     -999.0,9, -999.00,9, 20160221,       19, -64.5799,  80.3926,     -999.0,9,     -999.0,9,     -999.0,9,-999.0000,9,-999.0000,9,-999.0000,9,-999.0000,9,-999.0000,9,-999.0000,9,-999.0000,9,     -999.0,9,     -999.0,9,     -999.0,9,     -999.0,9,     -999.0,9
33RR20160208,       I08S,       9,          1,          2,          2,2,20160221,       0019,   -64.5799,    80.3926,       3667,  3481.2,  -0.0931,  34.6609,2,  34.6617,2,    232.5,2,   232.9,2,   130.7,2,    0.00,2,   32.30,2,    0.00,2,    2.30,2,   1.204,2,   0.603,2,   0.082,2,         0.465,2,  2254.8,2, 2356.10,2,   7.5934,6,    24.98,  -0.0932,    0.56,2,  -152.6,2,     2.2, -999.00,1,-999.000,9,  -999.0,9, -999.00,9,     -999.0,9, -999.00,9, 20160221,       24, -64.5800,  80.3925,     -999.0,9,     -999.0,9,     -999.0,9,-999.0000,9,-999.0000,9,-999.0000,9,-999.0000,9,-999.0000,9,-999.0000,9,-999.0000,9,     -999.0,9,     -999.0,9,     -999.0,9,     -999.0,9,     -999.0,9
33RR20160208,       I08S,       9,          1,          3,          3,2,20160221,       0019,   -64.5799,    80.3926,       3667,  3289.4,  -0.0393,  34.6633,2,  34.6621,2,    230.9,2,   231.2,2,   125.2,2,    0.00,2,   32.29,2,    0.00,2,    2.28,2,   1.175,2,   0.611,2,   0.080,2,         0.447,2,  2254.9,2, 2355.57,6,   7.5936,2,    24.99,  -0.0392,    0.57,2,  -156.7,2,     2.0, -999.00,1,-999.000,9,  -999.0,9, -999.00,9,     -999.0,9, -999.00,9, 20160221,       29, -64.5799,  80.3924,     -999.0,9,     -999.0,9,     -999.0,9,-999.0000,9,-999.0000,9,-999.0000,9,-999.0000,9,-999.0000,9,-999.0000,9,-999.0000,9,     -999.0,9,     -999.0,9,     -999.0,9,     -999.0,9,     -999.0,9
33RR20160208,       I08S,       9,          1,          4,          4,2,20160221,       0019,   -64.5799,    80.3926,       3667,  3094.5,  -0.0010,  34.6655,2,  34.6662,2,    229.6,2,   229.6,2,   124.4,2,    0.00,2,   32.28,2,    0.00,2,    2.30,2,   1.081,2,   0.548,2,   0.073,2,         0.393,2,  2255.6,2, 2355.34,2,   7.5938,2,    24.99,  -0.0007,    0.55,2,  -154.2,2,     2.0, -999.00,1,-999.000,9,  -999.0,9, -999.00,9,     -999.0,9, -999.00,9, 20160221,       33, -64.5799,  80.3925,     -999.0,9,     -999.0,9,     -999.0,9,-999.0000,9,-999.0000,9,-999.0000,9,-999.0000,9,-999.0000,9,-999.0000,9,-999.0000,9,     -999.0,9,     -999.0,9,     -999.0,9,     -999.0,9,     -999.0,9
33RR20160208,       I08S,       9,          1,          5,          5,2,20160221,       0019,   -64.5799,    80.3926,       3667,  2863.2,   0.0363,  34.6665,2,  34.6664,2,    228.1,2,   228.1,2,   124.7,2,    0.00,2,   32.31,2,    0.00,2,    2.27,2,   1.049,2,   0.532,2,   0.069,2,         0.413,2,  2257.8,2, 2355.87,2,   7.5932,2,    24.98,   0.0361,    0.54,2,  -156.5,2,     2.0, -999.00,1,-999.000,9,  -999.0,9, -999.00,9,     -999.0,9, -999.00,9, 20160221,       38, -64.5800,  80.3924,     -999.0,9,     -999.0,9,     -999.0,9,-999.0000,9,-999.0000,9,-999.0000,9,-999.0000,9,-999.0000,9,-999.0000,9,-999.0000,9,     -999.0,9,     -999.0,9,     -999.0,9,     -999.0,9,     -999.0,9
33RR20160208,       I08S,       9,          1,          6,          6,2,20160221,       0019,   -64.5799,    80.3926,       3667,  2663.1,   0.0808,  34.6681,2,  34.6697,2,    227.2,2,   225.9,2,   122.8,2,    0.00,2,   32.25,2,    0.00,2,    2.28,2,   0.874,2,   0.463,2,   0.059,2,         0.365,2,  2258.6,2, 2356.81,2,   7.5936,2,    24.97,   0.0806,    0.53,2,  -155.0,2,     2.6, -999.00,1,-999.000,9,  -999.0,9, -999.00,9,     -999.0,9, -999.00,9, 20160221,       42, -64.5800,  80.3924,     -999.0,9,     -999.0,9,     -999.0,9,-999.0000,9,-999.0000,9,-999.0000,9,-999.0000,9,-999.0000,9,-999.0000,9,-999.0000,9,     -999.0,9,     -999.0,9,     -999.0,9,     -999.0,9,     -999.0,9
33RR20160208,       I08S,       9,          1,          7,          7,2,20160221,       0019,   -64.5799,    80.3926,       3667,  2460.7,   0.1240,  34.6686,2,  34.6683,2,    224.5,2,   224.9,2,   120.4,2,    0.00,2,   32.25,2,    0.00,2,    2.29,2,   0.907,2,   0.473,2,   0.060,2,         0.382,2,  2255.5,2, 2356.74,2,   7.5930,6,    24.98,   0.1239,    0.53,2,  -151.3,2,     2.0, -999.00,1,-999.000,9,  -999.0,9, -999.00,9,     -999.0,9, -999.00,9, 20160221,       47, -64.5800,  80.3924,     -999.0,9,     -999.0,9,     -999.0,9,-999.0000,9,-999.0000,9,-999.0000,9,-999.0000,9,-999.0000,9,-999.0000,9,-999.0000,9,     -999.0,9,     -999.0,9,     -999.0,9,     -999.0,9,     -999.0,9
33RR20160208,       I08S,       9,          1,          8,          8,2,20160221,       0019,   -64.5799,    80.3926,       3667,  2258.0,   0.2032,  34.6739,2,  34.6740,2,    220.4,2,   221.9,2,   123.7,2,    0.00,2,   32.37,2,    0.00,2,    2.28,2,   0.649,6,   0.356,6,   0.037,6,        0.3455,6,  2256.1,2, 2357.33,2,   7.5926,2,    24.94,   0.2032,    0.51,2,  -158.2,2,     1.8, -999.00,1,-999.000,9,  -999.0,9, -999.00,9,     -999.0,9, -999.00,9, 20160221,       51, -64.5800,  80.3924,     -999.0,9,     -999.0,9,     -999.0,9,-999.0000,9,-999.0000,9,-999.0000,9,-999.0000,9,-999.0000,9,-999.0000,9,-999.0000,9,     -999.0,9,     -999.0,9,     -999.0,9,     -999.0,9,     -999.0,9
33RR20160208,       I08S,       9,          1,          9,          9,2,20160221,       0019,   -64.5799,    80.3926,       3667,  2060.4,   0.2676,  34.6751,2,  34.6748,2,    219.0,2,   219.5,2,   120.3,2,    0.00,2,   32.28,2,    0.00,2,    2.28,2,   0.690,2,   0.367,2,   0.042,2,         0.322,2,  2256.0,2, 2355.71,3,   7.5924,2,    24.97,   0.2675,    0.59,2,  -162.4,2,     1.8, -999.00,1,-999.000,9,  -999.0,9, -999.00,9,     -999.0,9, -999.00,9, 20160221,       56, -64.5800,  80.3924,     -999.0,9,     -999.0,9,     -999.0,9,-999.0000,9,-999.0000,9,-999.0000,9,-999.0000,9,-999.0000,9,-999.0000,9,-999.0000,9,     -999.0,9,     -999.0,9,     -999.0,9,     -999.0,9,     -999.0,9
33RR20160208,       I08S,       9,          1,         10,         10,2,20160221,       0019,   -64.5799,    80.3926,       3667,  1860.7,   0.3766,  34.6812,2,  34.6789,2,    216.6,2,   216.0,2,   119.2,2,    0.00,2,   32.36,2,    0.00,2,    2.28,2,   0.571,2,   0.298,2,   0.032,2,         0.243,2,  2257.7,6, 2357.03,2,   7.5926,2,    24.98,   0.3766,    0.60,2,  -157.5,2,     1.8, -999.00,1,-999.000,9,  -999.0,9, -999.00,9,     -999.0,9, -999.00,9, 20160221,      100, -64.5800,  80.3924,     -999.0,9,     -999.0,9,     -999.0,9,-999.0000,9,-999.0000,9,-999.0000,9,-999.0000,9,-999.0000,9,-999.0000,9,-999.0000,9,     -999.0,9,     -999.0,9,     -999.0,9,     -999.0,9,     -999.0,9
33RR20160208,       I08S,       9,          1,         11,         11,2,20160221,       0019,   -64.5799,    80.3926,       3667,  1729.5,   0.4319,  34.6835,2,  34.6842,2,    214.5,2,   214.6,2,   117.4,2,    0.00,2,   32.32,2,    0.00,2,    2.27,2,   0.566,2,   0.297,2,   0.030,2,         0.316,2,  2256.3,2, 2356.20,3,   7.5927,6,    24.97,   0.4317,    0.61,2,  -148.7,2,     2.1, -999.00,1,-999.000,9,  -999.0,9, -999.00,9,     -999.0,9, -999.00,9, 20160221,      104, -64.5800,  80.3923,     -999.0,9,     -999.0,9,     -999.0,9,-999.0000,9,-999.0000,9,-999.0000,9,-999.0000,9,-999.0000,9,-999.0000,9,-999.0000,9,     -999.0,9,     -999.0,9,     -999.0,9,     -999.0,9,     -999.0,9
33RR20160208,       I08S,       9,          1,         12,         12,2,20160221,       0019,   -64.5799,    80.3926,       3667,  1629.3,   0.4913,  34.6860,2,  34.6879,2,    213.9,2,   213.9,2,   116.2,2,    0.00,2,   32.23,2,    0.00,2,    2.27,2,   0.560,2,   0.297,2,   0.033,2,         0.248,2,  2257.6,2, 2357.16,2,   7.5931,2,    24.97,   0.4913,    0.55,2,  -150.0,2,     3.0, -999.00,1,-999.000,9,  -999.0,9, -999.00,9,     -999.0,9, -999.00,9, 20160221,      107, -64.5799,  80.3924,     -999.0,9,     -999.0,9,     -999.0,9,-999.0000,9,-999.0000,9,-999.0000,9,-999.0000,9,-999.0000,9,-999.0000,9,-999.0000,9,     -999.0,9,     -999.0,9,     -999.0,9,     -999.0,9,     -999.0,9
33RR20160208,       I08S,       9,          1,         13,         13,2,20160221,       0019,   -64.5799,    80.3926,       3667,  1532.8,   0.5980,  34.6942,2,  34.6942,2,    211.4,2,   210.3,2,   117.8,2,    0.00,2,   32.15,2,    0.00,2,    2.27,2,   0.446,2,   0.228,2,   0.018,2,         0.233,2,  2257.4,2, 2357.74,2,   7.5953,2,    24.97,   0.5982,    0.58,2,  -158.7,2,     2.6, -999.00,1,-999.000,9,  -999.0,9, -999.00,9,     -999.0,9, -999.00,9, 20160221,      110, -64.5799,  80.3923,     -999.0,9,     -999.0,9,     -999.0,9,-999.0000,9,-999.0000,9,-999.0000,9,-999.0000,9,-999.0000,9,-999.0000,9,-999.0000,9,     -999.0,9,     -999.0,9,     -999.0,9,     -999.0,9,     -999.0,9
33RR20160208,       I08S,       9,          1,         14,         14,2,20160221,       0019,   -64.5799,    80.3926,       3667,  1431.1,   0.6722,  34.6996,2,  34.6968,2,    209.7,2,   210.0,2,   114.7,2,    0.00,2,   32.05,2,    0.00,2,    2.25,2,   0.381,2,   0.202,2,   0.015,2,         0.189,2,  2255.2,2, 2354.13,3,   7.5960,2,    24.97,   0.6729,    0.56,2,  -160.1,2,     2.0, -999.00,1,-999.000,9,  -999.0,9, -999.00,9,     -999.0,9, -999.00,9, 20160221,      112, -64.5799,  80.3924,     -999.0,9,     -999.0,9,     -999.0,9,-999.0000,9,-999.0000,9,-999.0000,9,-999.0000,9,-999.0000,9,-999.0000,9,-999.0000,9,     -999.0,9,     -999.0,9,     -999.0,9,     -999.0,9,     -999.0,9
33RR20160208,       I08S,       9,          1,         15,         15,2,20160221,       0019,   -64.5799,    80.3926,       3667,  1332.6,   0.7497,  34.7035,2,  34.7050,2,    208.3,2,   207.6,2,   112.2,2,    0.06,2,   31.85,2,    0.00,2,    2.26,2,   0.378,2,   0.202,2,   0.015,2,         0.178,2,  2256.6,2, 2357.64,2,   7.5973,6,    24.97,   0.7495,    0.50,2,  -152.1,2,     2.0, -999.00,1,-999.000,9,  -999.0,9, -999.00,9,     -999.0,9, -999.00,9, 20160221,      115, -64.5799,  80.3925,     -999.0,9,     -999.0,9,     -999.0,9,-999.0000,9,-999.0000,9,-999.0000,9,-999.0000,9,-999.0000,9,-999.0000,9,-999.0000,9,     -999.0,9,     -999.0,9,     -999.0,9,     -999.0,9,     -999.0,9
33RR20160208,       I08S,       9,          1,         16,         16,2,20160221,       0019,   -64.5799,    80.3926,       3667,  1231.8,   0.8012,  34.7055,2,  34.7056,2,    207.4,2,   207.8,2,   110.1,2,    0.02,2,   31.60,2,    0.00,2,    2.24,2,   0.408,2,   0.215,2,   0.017,2,          0.19,2,  2256.5,2, 2357.44,2,   7.5980,2,    24.98,   0.8015,    0.51,2,  -156.3,2,     2.2, -999.00,1,-999.000,9,  -999.0,9, -999.00,9,     -999.0,9, -999.00,9, 20160221,      118, -64.5799,  80.3924,     -999.0,9,     -999.0,9,     -999.0,9,-999.0000,9,-999.0000,9,-999.0000,9,-999.0000,9,-999.0000,9,-999.0000,9,-999.0000,9,     -999.0,9,     -999.0,9,     -999.0,9,     -999.0,9,     -999.0,9
33RR20160208,       I08S,       9,          1,         17,         17,2,20160221,       0019,   -64.5799,    80.3926,       3667,  1133.0,   0.8716,  34.7078,2,  34.7065,2,    207.0,2,   207.2,2,   107.2,2,    0.00,2,   31.49,2,    0.00,2,    2.23,2,   0.433,2,   0.231,2,   0.022,2,         0.214,2,  2255.5,2, 2357.51,2,   7.5988,2,    24.97,   0.8726,    0.53,2,  -155.4,2,     1.8, -999.00,1,-999.000,9,  -999.0,9, -999.00,9,     -999.0,9, -999.00,9, 20160221,      121, -64.5800,  80.3924,     -999.0,9,     -999.0,9,     -999.0,9,-999.0000,9,-999.0000,9,-999.0000,9,-999.0000,9,-999.0000,9,-999.0000,9,-999.0000,9,     -999.0,9,     -999.0,9,     -999.0,9,     -999.0,9,     -999.0,9
33RR20160208,       I08S,       9,          1,         18,         18,2,20160221,       0019,   -64.5799,    80.3926,       3667,  1034.9,   0.9298,  34.7092,2,  34.7101,2,    206.7,2,   208.4,2,   104.4,2,    0.02,2,   31.38,2,    0.00,2,    2.21,2,   0.467,2,   0.253,2,   0.026,2,         0.369,2,  2256.7,2, 2355.85,2,   7.5994,2,    24.98,   0.9301,    0.54,2,  -155.6,2,     1.8, -999.00,1,-999.000,9,  -999.0,9, -999.00,9,     -999.0,9, -999.00,9, 20160221,      123, -64.5800,  80.3923,     -999.0,9,     -999.0,9,     -999.0,9,-999.0000,9,-999.0000,9,-999.0000,9,-999.0000,9,-999.0000,9,-999.0000,9,-999.0000,9,     -999.0,9,     -999.0,9,     -999.0,9,     -999.0,9,     -999.0,9
33RR20160208,       I08S,       9,          1,         19,         19,2,20160221,       0019,   -64.5799,    80.3926,       3667,   932.5,   1.0410,  34.7144,2,  34.7140,2,    205.6,2,   205.4,2,   101.7,2,    0.00,2,   31.27,2,    0.00,2,    2.22,2,   0.453,2,   0.246,2,   0.026,2,         0.271,2,  2255.5,2, 2354.32,2,   7.6000,2,    24.98,   1.0411,    0.56,2,  -153.0,2,     2.1, -999.00,1,-999.000,9,  -999.0,9, -999.00,9,     -999.0,9, -999.00,9, 20160221,      126, -64.5799,  80.3923,     -999.0,9,     -999.0,9,     -999.0,9,-999.0000,9,-999.0000,9,-999.0000,9,-999.0000,9,-999.0000,9,-999.0000,9,-999.0000,9,     -999.0,9,     -999.0,9,     -999.0,9,     -999.0,9,     -999.0,9
33RR20160208,       I08S,       9,          1,         20,         20,2,20160221,       0019,   -64.5799,    80.3926,       3667,   831.5,   1.1077,  34.7140,2,  34.7150,2,    205.0,2,   205.2,2,    99.1,2,    0.00,2,   31.17,2,    0.00,2,    2.20,2,-999.000,9,-999.000,9,-999.000,9,-999.000000000,9,  2252.7,2, 2354.65,3,   7.5995,2,    24.96,   1.1079,    0.55,2,  -152.6,2,     1.8, -999.00,1,-999.000,9,  -999.0,9, -999.00,9,     -999.0,9, -999.00,9, 20160221,      129, -64.5799,  80.3923,     -999.0,9,     -999.0,9,     -999.0,9,-999.0000,9,-999.0000,9,-999.0000,9,-999.0000,9,-999.0000,9,-999.0000,9,-999.0000,9,     -999.0,9,     -999.0,9,     -999.0,9,     -999.0,9,     -999.0,9
33RR20160208,       I08S,       9,          1,         21,         21,2,20160221,       0019,   -64.5799,    80.3926,       3667,   732.3,   1.2038,  34.7160,2,  34.7142,2,    203.8,2,   203.1,2,    96.5,2,    0.00,2,   31.11,2,    0.00,2,    2.18,2,   0.515,2,   0.282,2,   0.034,2,         0.314,2,  2251.0,6, 2350.74,3,   7.5988,2,    24.96,   1.2037,    0.55,2,  -150.4,2,     2.1, -999.00,1,-999.000,9,  -999.0,9, -999.00,9,     -999.0,9, -999.00,9, 20160221,      132, -64.5799,  80.3923,     -999.0,9,     -999.0,9,     -999.0,9,-999.0000,9,-999.0000,9,-999.0000,9,-999.0000,9,-999.0000,9,-999.0000,9,-999.0000,9,     -999.0,9,     -999.0,9,     -999.0,9,     -999.0,9,     -999.0,9
33RR20160208,       I08S,       9,          1,         22,         22,2,20160221,       0019,   -64.5799,    80.3926,       3667,   634.3,   1.2767,  34.7132,2,  34.7148,2,    202.7,2,   202.4,2,    93.0,2,    0.00,2,   31.06,2,    0.00,2,    2.20,2,-999.000,9,-999.000,9,-999.000,9,-999.000000000,9,  2251.0,2, 2351.23,2,   7.5962,2,    24.95,   1.2774,    0.55,2,  -153.5,2,     1.7, -999.00,1,-999.000,9,  -999.0,9, -999.00,9,     -999.0,9, -999.00,9, 20160221,      135, -64.5799,  80.3923,     -999.0,9,     -999.0,9,     -999.0,9,-999.0000,9,-999.0000,9,-999.0000,9,-999.0000,9,-999.0000,9,-999.0000,9,-999.0000,9,     -999.0,9,     -999.0,9,     -999.0,9,     -999.0,9,     -999.0,9
33RR20160208,       I08S,       9,          1,         23,         23,2,20160221,       0019,   -64.5799,    80.3926,       3667,   532.4,   1.3675,  34.7114,2,  34.7106,2,    200.3,2,   199.2,2,    91.3,2,    0.00,2,   31.14,2,    0.00,2,    2.20,2,   0.575,2,   0.319,2,   0.040,2,          0.42,2,  2250.2,2, 2349.44,2,   7.5929,2,    24.95,   1.3678,    0.53,2,  -150.6,2,     1.6, -999.00,1,-999.000,9,  -999.0,9, -999.00,9,     -999.0,9, -999.00,9, 20160221,      137, -64.5799,  80.3923,     -999.0,9,     -999.0,9,     -999.0,9,-999.0000,9,-999.0000,9,-999.0000,9,-999.0000,9,-999.0000,9,-999.0000,9,-999.0000,9,     -999.0,9,     -999.0,9,     -999.0,9,     -999.0,9,     -999.0,9
33RR20160208,       I08S,       9,          1,         24,         24,2,20160221,       0019,   -64.5799,    80.3926,       3667,   464.0,   1.3584,  34.6999,2,  34.6969,2,    202.2,2,   199.3,2,    89.1,2,    0.00,2,   31.36,2,    0.00,2,    2.21,2,-999.000,9,-999.000,9,-999.000,9,-999.000000000,9,  2250.5,2, 2347.03,2,   7.5889,2,    24.96,   1.3585,    0.40,2,  -147.7,2,     1.7, -999.00,1,-999.000,9,  -999.0,9, -999.00,9,     -999.0,9, -999.00,9, 20160221,      140, -64.5799,  80.3924,     -999.0,9,     -999.0,9,     -999.0,9,-999.0000,9,-999.0000,9,-999.0000,9,-999.0000,9,-999.0000,9,-999.0000,9,-999.0000,9,     -999.0,9,     -999.0,9,     -999.0,9,     -999.0,9,     -999.0,9
33RR20160208,       I08S,       9,          1,         25,         25,2,20160221,       0019,   -64.5799,    80.3926,       3667,   416.7,   1.3592,  34.6917,2,  34.6904,2,    199.5,2,   199.1,2,    88.1,2,    0.00,2,   31.53,2,    0.00,2,    2.22,2,   0.767,2,   0.416,2,   0.062,2,         0.417,2,  2249.1,2, 2345.79,2,   7.5847,2,    24.99,   1.3594, -999.00,9,  -999.0,9,  -999.0, -999.00,1,-999.000,9,  -999.0,9, -999.00,9,     -999.0,9, -999.00,9, 20160221,      142, -64.5800,  80.3924,     -999.0,9,     -999.0,9,     -999.0,9,-999.0000,9,-999.0000,9,-999.0000,9,-999.0000,9,-999.0000,9,-999.0000,9,-999.0000,9,     -999.0,9,     -999.0,9,     -999.0,9,     -999.0,9,     -999.0,9
33RR20160208,       I08S,       9,          1,         26,         26,2,20160221,       0019,   -64.5799,    80.3926,       3667,   364.7,   1.3358,  34.6771,2,  34.6742,2,    197.8,2,   198.8,2,    86.3,2,    0.01,2,   31.81,2,    0.00,2,    2.25,2,-999.000,9,-999.000,9,-999.000,9,-999.000000000,9,  2251.2,2, 2343.77,2,   7.5795,2,    24.98,   1.3352,    0.49,2,  -149.3,2,     1.7, -999.00,1,-999.000,9,  -999.0,9, -999.00,9,     -999.0,9, -999.00,9, 20160221,      144, -64.5799,  80.3924,     -999.0,9,     -999.0,9,     -999.0,9,-999.0000,9,-999.0000,9,-999.0000,9,-999.0000,9,-999.0000,9,-999.0000,9,-999.0000,9,     -999.0,9,     -999.0,9,     -999.0,9,     -999.0,9,     -999.0,9
33RR20160208,       I08S,       9,          1,         27,         27,2,20160221,       0019,   -64.5799,    80.3926,       3667,   315.2,   1.2334,  34.6542,2,  34.6534,2,    203.9,2,   199.4,2,    86.9,2,    0.00,2,   32.17,2,    0.00,2,    2.26,2,   1.049,2,   0.561,2,   0.085,2,         0.513,2,  2251.6,2, 2341.99,2,   7.5728,2,    24.96,   1.2323, -999.00,9,  -999.0,9,  -999.0, -999.00,1,-999.000,9,  -999.0,9, -999.00,9,     -999.0,9, -999.00,9, 20160221,      146, -64.5799,  80.3923,     -999.0,9,     -999.0,9,     -999.0,9,-999.0000,9,-999.0000,9,-999.0000,9,-999.0000,9,-999.0000,9,-999.0000,9,-999.0000,9,     -999.0,9,     -999.0,9,     -999.0,9,     -999.0,9,     -999.0,9