BOTTLE,20220706CCHSIOAMB
EXPOCODE,SECT_ID,STNNBR,CASTNO,SAMPNO,BTLNBR,BTLNBR_FLAG_W,DATE,TIME,LATITUDE,LONGITUDE,DEPTH,CTDPRS,CTDTMP,CTDSAL,CTDSAL_FLAG_W,SALNTY,SALNTY_FLAG_W,CTDOXY,CTDOXY_FLAG_W,OXYGEN,OXYGEN_FLAG_W,SILCAT,SILCAT_FLAG_W,NH4,NH4_FLAG_W,NITRAT,NITRAT_FLAG_W,NITRIT,NITRIT_FLAG_W,PHSPHT,PHSPHT_FLAG_W,CFC-11,CFC-11_FLAG_W,CFC-12,CFC-12_FLAG_W,CFC113,CFC113_FLAG_W,SF6,SF6_FLAG_W,TCARBN,TCARBN_FLAG_W,ALKALI,ALKALI_FLAG_W,PH_TOT,PH_TOT_FLAG_W,PH_TMP,REFTMP,DELC13,DELC13_FLAG_W,DELC14,DELC14_FLAG_W,C14ERR,DELO18,DELO18_FLAG_W,POC,POC_FLAG_W,DOC,DOC_FLAG_W,TDN,TDN_FLAG_W,TON,TON_FLAG_W,D15N_NO3,D15N_NO3_FLAG_W,BTL_DATE,BTL_TIME,BTL_LAT,BTL_LON,14C-DOC,14C-DOC_FLAG_W,CHLORA,CHLORA_FLAG_W,HPLC,HPLC_FLAG_W,CDOM325,CDOM325_FLAG_W,CDOM340,CDOM340_FLAG_W,CDOM380,CDOM380_FLAG_W,CDOM412,CDOM412_FLAG_W,CDOM443,CDOM443_FLAG_W,CDOM490,CDOM490_FLAG_W,CDOM555,CDOM555_FLAG_W,CDOMSL,CDOMSL_FLAG_W,CDOMSN,CDOMSN_FLAG_W,D18O_NO3,D18O_NO3_FLAG_W,D15N_NO2+NO3,D15N_NO2+NO3_FLAG_W,D18O_NO2+NO3,D18O_NO2+NO3_FLAG_W
,,,,,,,,,,,METERS,DBAR,ITS-90,PSS-78,,PSS-78,,UMOL/KG,,UMOL/KG,,UMOL/KG,,UMOL/KG,,UMOL/KG,,UMOL/KG,,UMOL/KG,,PMOL/KG,,PMOL/KG,,PMOL/KG,,FMOL/KG,,UMOL/KG,,UMOL/KG,,,,DEG C,DEG C,/MILLE,,/MILLE,,/MILLE,/MILLE,,UG/KG,,UMOL/KG,,UMOL/KG,,UMOL/KG,,/MILLE,,,,,,/MILLE,,MG/M3,,,,1/M,,1/M,,1/M,,1/M,,1/M,,1/M,,1/M,,1/NM,,1/NM,,/MILLE,,/MILLE,,/MILLE,
33RR20160208,       I08S,       2,          3,          1,          1,2,20160219,       0939,   -66.4997,    78.2986,        953,   934.3,   0.3768,  34.6669,2,-999.0000,9,    222.5,2,   221.9,2,   104.5,2,    0.03,2,   31.86,2,    0.00,2,    2.21,2,   1.199,2,   0.559,2,   0.106,2,         0.563,2,  -999.0,9, -999.00,9,-999.0000,9,  -999.00,   0.3773, -999.00,9,  -999.0,9,  -999.0, -999.00,9,-999.000,9,  -999.0,9, -999.00,9,     -999.0,9, -999.00,9, 20160219,      939, -66.4997,  78.2986,     -999.0,9,     -999.0,9,     -999.0,9,   0.1365,2,   0.0967,2,   0.0562,2,   0.0336,2,   0.0204,2,   0.0091,2,   0.0030,2,     0.0155,2,     0.0165,2,     -999.0,9,     -999.0,9,     -999.0,9
33RR20160208,       I08S,       2,          3,          2,          2,2,20160219,       0939,   -66.4997,    78.2986,        953,   933.9,   0.3768,  34.6669,2,  34.6683,2,    222.5,2,   223.8,2,   104.4,2,    0.00,2,   31.80,2,    0.00,2,    2.22,2,-999.000,9,-999.000,9,-999.000,9,-999.000000000,9,  2254.0,6, 2350.11,2,   7.5939,6,    25.04,   0.3770, -999.00,9,  -999.0,9,  -999.0, -999.00,1,-999.000,9,    42.2,2, -999.00,9,     -999.0,1, -999.00,9, 20160219,      939, -66.4997,  78.2986,     -999.0,9,     -999.0,9,     -999.0,9,-999.0000,9,-999.0000,9,-999.0000,9,-999.0000,9,-999.0000,9,-999.0000,9,-999.0000,9,     -999.0,9,     -999.0,9,     -999.0,9,     -999.0,9,     -999.0,9
33RR20160208,       I08S,       2,          3,          3,          3,2,20160219,       0939,   -66.4997,    78.2986,        953,   800.9,   0.3582,  34.6533,2,  34.6523,2,    226.7,2,   226.2,2,    97.3,2,    0.04,2,   31.53,2,    0.00,2,    2.19,2,   1.439,2,   0.706,2,   0.114,2,         0.763,2,  2250.4,2, 2348.48,2,   7.5934,2,    25.07,   0.3585, -999.00,9,  -999.0,9,  -999.0, -999.00,1,-999.000,9,    43.9,3, -999.00,9,     -999.0,1, -999.00,9, 20160219,      943, -66.4997,  78.2987,     -999.0,9,     -999.0,9,     -999.0,9,   0.1206,2,   0.0813,2,   0.0445,2,   0.0283,2,   0.0167,2,   0.0064,2,   0.0018,2,     0.0167,2,     0.0186,2,     -999.0,9,     -999.0,9,     -999.0,9
33RR20160208,       I08S,       2,          3,          4,          4,2,20160219,       0939,   -66.4997,    78.2986,        953,   699.3,   0.3428,  34.6438,2,  34.6436,2,    226.6,2,   227.9,2,    93.0,2,    0.01,2,   31.46,2,    0.00,2,    2.19,2,   1.627,2,   0.802,2,   0.153,2,         0.915,2,  -999.0,9, -999.00,9,-999.0000,9,  -999.00,   0.3432, -999.00,9,  -999.0,9,  -999.0, -999.00,1,-999.000,9,    43.4,2, -999.00,9,     -999.0,1, -999.00,9, 20160219,      946, -66.4997,  78.2987,     -999.0,9,     -999.0,9,     -999.0,9,-999.0000,9,-999.0000,9,-999.0000,9,-999.0000,9,-999.0000,9,-999.0000,9,-999.0000,9,     -999.0,9,     -999.0,9,     -999.0,9,     -999.0,9,     -999.0,9
33RR20160208,       I08S,       2,          3,          5,          5,2,20160219,       0939,   -66.4997,    78.2986,        953,   599.3,  -0.0191,  34.5953,2,  34.5983,2,    241.4,2,   242.9,2,    85.0,2,    0.07,2,   31.26,2,    0.00,2,    2.17,2,   2.361,2,   1.165,2,   0.215,2,         1.287,2,  2244.4,2, 2338.93,2,   7.5934,6,    25.06,  -0.0184, -999.00,9,  -999.0,9,  -999.0, -999.00,1,-999.000,9,    42.2,2, -999.00,9,     -999.0,1, -999.00,9, 20160219,      949, -66.4997,  78.2986,     -999.0,9,     -999.0,9,     -999.0,9,   0.1121,2,   0.0766,2,   0.0481,2,   0.0270,2,   0.0152,2,   0.0056,2,   0.0014,2,     0.0146,2,     0.0160,2,     -999.0,9,     -999.0,9,     -999.0,9
33RR20160208,       I08S,       2,          3,          6,          6,2,20160219,       0939,   -66.4997,    78.2986,        953,   509.0,  -0.3670,  34.5470,2,  34.5479,2,    253.6,2,   258.1,2,    77.0,2,    0.00,2,   31.24,2,    0.00,2,    2.14,2,   3.160,2,   1.563,2,   0.287,2,         1.588,2,  -999.0,9, -999.00,9,-999.0000,9,  -999.00,  -0.3687, -999.00,9,  -999.0,9,  -999.0, -999.00,1,-999.000,9,    43.0,2, -999.00,9,     -999.0,1, -999.00,9, 20160219,      953, -66.4997,  78.2986,     -999.0,9,     -999.0,9,     -999.0,9,-999.0000,9,-999.0000,9,-999.0000,9,-999.0000,9,-999.0000,9,-999.0000,9,-999.0000,9,     -999.0,9,     -999.0,9,     -999.0,9,     -999.0,9,     -999.0,9
33RR20160208,       I08S,       2,          3,          7,          7,2,20160219,       0939,   -66.4997,    78.2986,        953,   450.3,  -0.7021,  34.5129,2,  34.5143,2,    271.3,2,   269.3,2,    73.5,2,    0.00,2,   31.04,2,    0.00,2,    2.17,2,   3.577,2,   1.811,2,   0.326,2,          1.99,2,  2236.1,2, 2332.59,6,   7.5962,2,    25.06,  -0.6980, -999.00,9,  -999.0,9,  -999.0, -999.00,1,-999.000,9,    41.7,2, -999.00,9,     -999.0,1, -999.00,9, 20160219,      955, -66.4997,  78.2985,     -999.0,9,     -999.0,9,     -999.0,9,   0.1142,2,   0.0770,2,   0.0435,2,   0.0274,2,   0.0160,2,   0.0061,2,   0.0017,2,     0.0162,2,     0.0180,2,     -999.0,9,     -999.0,9,     -999.0,9
33RR20160208,       I08S,       2,          3,          8,          8,2,20160219,       0939,   -66.4997,    78.2986,        953,   399.6,  -1.0002,  34.4774,2,  34.4771,2,    281.7,2,   281.6,2,    70.1,2,    0.00,2,   30.90,2,    0.00,2,    2.15,2,   4.119,2,   2.079,2,   0.355,2,          2.09,2,  -999.0,9, -999.00,9,-999.0000,9,     9.00,  -0.9993, -999.00,9,  -999.0,9,  -999.0, -999.00,1,-999.000,9,    43.7,2, -999.00,9,     -999.0,1, -999.00,9, 20160219,      957, -66.4997,  78.2985,     -999.0,9,     -999.0,9,     -999.0,9,   0.1113,2,   0.0792,2,   0.0607,2,   0.0283,2,   0.0149,2,   0.0050,2,   0.0012,2,     0.0114,2,     0.0117,2,     -999.0,9,     -999.0,9,     -999.0,9
33RR20160208,       I08S,       2,          3,          9,          9,2,20160219,       0939,   -66.4997,    78.2986,        953,   352.3,  -1.4751,  34.4327,2,  34.4322,2,    303.2,2,   301.1,2,    64.6,2,    0.00,2,   30.35,2,    0.00,2,    2.10,2,   4.814,2,   2.456,2,   0.414,2,         2.517,2,  2226.5,2, 2324.58,2,   7.6071,2,    25.06,  -1.4759, -999.00,9,  -999.0,9,  -999.0, -999.00,1,-999.000,9,    41.4,2, -999.00,9,     -999.0,1, -999.00,9, 20160219,     1000, -66.4997,  78.2984,     -999.0,9,     -999.0,9,     -999.0,9,-999.0000,9,-999.0000,9,-999.0000,9,-999.0000,9,-999.0000,9,-999.0000,9,-999.0000,9,     -999.0,9,     -999.0,9,     -999.0,9,     -999.0,9,     -999.0,9
33RR20160208,       I08S,       2,          3,         10,         10,2,20160219,       0939,   -66.4997,    78.2986,        953,   301.4,  -1.6372,  34.4114,2,  34.4141,2,    302.4,2,   306.5,2,    62.4,2,    0.00,2,   30.08,2,    0.00,2,    2.09,2,   4.828,2,   2.534,2,   0.427,2,         2.802,2,  -999.0,9, -999.00,9,-999.0000,9,  -999.00,  -1.6371, -999.00,9,  -999.0,9,  -999.0, -999.00,1,-999.000,9,    41.7,2,   31.40,2,     -999.0,1, -999.00,9, 20160219,     1002, -66.4997,  78.2984,     -999.0,9,     -999.0,9,     -999.0,9,   0.1045,2,   0.0691,2,   0.0401,2,   0.0251,2,   0.0146,2,   0.0056,2,   0.0016,2,     0.0158,2,     0.0180,2,     -999.0,9,     -999.0,9,     -999.0,9
33RR20160208,       I08S,       2,          3,         11,         11,2,20160219,       0939,   -66.4997,    78.2986,        953,   256.1,  -1.5035,  34.4051,2,  34.4078,2,    295.3,2,   300.8,2,    62.7,2,    0.00,2,   30.25,2,    0.00,2,    2.10,2,   4.700,2,   2.460,2,   0.419,2,         2.741,2,  2224.1,2, 2325.03,2,   7.6091,6,    25.06,  -1.5016, -999.00,9,  -999.0,9,  -999.0, -999.00,1,-999.000,9,    42.4,2,   32.80,2,     -999.0,1, -999.00,9, 20160219,     1005, -66.4997,  78.2982,     -999.0,9,     -999.0,9,     -999.0,9,-999.0000,9,-999.0000,9,-999.0000,9,-999.0000,9,-999.0000,9,-999.0000,9,-999.0000,9,     -999.0,9,     -999.0,9,     -999.0,9,     -999.0,9,     -999.0,9
33RR20160208,       I08S,       2,          3,         12,         12,2,20160219,       0939,   -66.4997,    78.2986,        953,   225.9,  -1.6131,  34.3921,2,  34.3937,2,    310.2,2,   306.7,2,    61.4,2,    0.10,2,   30.07,2,    0.00,2,    2.08,2,   4.914,2,   2.540,2,   0.435,2,         2.739,2,  -999.0,9, -999.00,9,-999.0000,9,  -999.00,  -1.6074, -999.00,9,  -999.0,9,  -999.0, -999.00,1,-999.000,9,    42.0,2,   32.40,2,     -999.0,1, -999.00,9, 20160219,     1006, -66.4996,  78.2980,     -999.0,9,     -999.0,9,     -999.0,9,   0.1085,2,   0.0817,2,   0.0745,2,   0.0306,2,   0.0154,2,   0.0048,2,   0.0011,2,     0.0082,3,     0.0078,3,     -999.0,9,     -999.0,9,     -999.0,9
33RR20160208,       I08S,       2,          3,         13,         13,2,20160219,       0939,   -66.4997,    78.2986,        953,   200.1,  -1.7910,  34.3746,2,  34.3755,2,    313.2,2,   313.4,2,    59.5,2,    0.42,2,   29.84,2,    0.01,2,    2.07,2,   5.048,2,   2.607,2,   0.438,2,           2.8,2,  2219.4,2, 2323.27,2,   7.6176,6,    25.07,  -1.7915, -999.00,9,  -999.0,9,  -999.0, -999.00,1,-999.000,9,    44.0,2,   32.50,2,     -999.0,1, -999.00,9, 20160219,     1008, -66.4996,  78.2976,     -999.0,9,     -999.0,9,     -999.0,9,   0.1181,2,   0.0844,2,   0.0668,2,   0.0317,2,   0.0174,2,   0.0066,2,   0.0020,2,     0.0107,2,     0.0109,2,     -999.0,9,     -999.0,9,     -999.0,9
33RR20160208,       I08S,       2,          3,         14,         14,2,20160219,       0939,   -66.4997,    78.2986,        953,   175.2,  -1.8131,  34.3650,2,  34.3667,2,    314.2,2,   314.4,2,    58.8,2,    0.06,2,   29.74,2,    0.04,2,    2.06,2,   5.149,2,   2.633,2,   0.445,2,         2.784,2,  -999.0,9, -999.00,9,-999.0000,9,     9.00,  -1.8124, -999.00,9,  -999.0,9,  -999.0, -999.00,1,-999.000,9,    43.3,2,   32.00,2,     -999.0,1, -999.00,9, 20160219,     1010, -66.4996,  78.2973,     -999.0,9,     -999.0,9,     -999.0,9,   0.1019,2,   0.0676,2,   0.0388,2,   0.0249,2,   0.0147,2,   0.0057,2,   0.0016,2,     0.0159,2,     0.0181,2,     -999.0,9,     -999.0,9,     -999.0,9
33RR20160208,       I08S,       2,          3,         15,         15,2,20160219,       0939,   -66.4997,    78.2986,        953,   150.5,  -1.8167,  34.3581,2,  34.3600,2,    314.3,2,   313.9,2,    58.6,2,    0.07,2,   29.77,2,    0.02,2,    2.05,2,   5.007,2,   2.613,2,   0.441,2,         2.888,2,  2220.0,2, 2321.92,2,   7.6183,6,    25.04,  -1.8162, -999.00,9,  -999.0,9,  -999.0, -999.00,1,-999.000,9,    47.2,3,   32.10,2,     -999.0,1, -999.00,9, 20160219,     1012, -66.4995,  78.2970,     -999.0,9,     -999.0,9,     -999.0,9,-999.0000,9,-999.0000,9,-999.0000,9,-999.0000,9,-999.0000,9,-999.0000,9,-999.0000,9,     -999.0,9,     -999.0,9,     -999.0,9,     -999.0,9,     -999.0,9
33RR20160208,       I08S,       2,          3,         16,         16,2,20160219,       0939,   -66.4997,    78.2986,        953,   125.6,  -1.8140,  34.3500,2,  34.3518,2,    314.5,2,   314.4,2,    58.1,2,    0.20,2,   29.62,2,    0.07,2,    2.05,2,   5.329,2,   2.660,2,   0.438,2,         2.664,2,  -999.0,9, -999.00,9,-999.0000,9,  -999.00,  -1.8129, -999.00,9,  -999.0,9,  -999.0, -999.00,1,-999.000,9,    42.2,2,   31.60,2,     -999.0,1, -999.00,9, 20160219,     1013, -66.4994,  78.2968,     -999.0,9,      0.051,2,     -999.0,9,   0.1059,2,   0.0726,2,   0.0481,2,   0.0276,2,   0.0162,2,   0.0066,2,   0.0022,2,     0.0135,2,     0.0148,2,     -999.0,9,     -999.0,9,     -999.0,9
33RR20160208,       I08S,       2,          3,         17,         17,2,20160219,       0939,   -66.4997,    78.2986,        953,    99.9,  -1.8066,  34.3363,2,  34.3353,2,    313.6,2,   312.0,2,    57.9,2,    0.34,2,   29.62,2,    0.09,2,    2.08,2,   5.044,2,   2.592,2,   0.433,2,         2.765,2,  2219.1,2, 2320.71,2,   7.6148,2,    25.06,  -1.8058, -999.00,9,  -999.0,9,  -999.0, -999.00,1,-999.000,9,    44.2,2,   33.30,3,     -999.0,1, -999.00,9, 20160219,     1015, -66.4995,  78.2967,     -999.0,9,     -999.0,9,     -999.0,9,-999.0000,9,-999.0000,9,-999.0000,9,-999.0000,9,-999.0000,9,-999.0000,9,-999.0000,9,     -999.0,9,     -999.0,9,     -999.0,9,     -999.0,9,     -999.0,9
33RR20160208,       I08S,       2,          3,         18,         18,2,20160219,       0939,   -66.4997,    78.2986,        953,    75.3,  -1.7918,  34.3122,2,  34.3122,2,    312.6,2,   311.6,2,    57.4,2,    0.84,2,   29.46,2,    0.12,2,    2.08,2,   5.133,2,   2.624,2,   0.443,2,         2.774,2,  -999.0,9, -999.00,9,-999.0000,9,  -999.00,  -1.7911, -999.00,9,  -999.0,9,  -999.0, -999.00,1,-999.000,9,    42.3,2,   32.80,2,     -999.0,1, -999.00,9, 20160219,     1017, -66.4995,  78.2966,     -999.0,9,      0.133,2,     -999.0,9,   0.1034,2,   0.0726,2,   0.0537,2,   0.0279,2,   0.0155,2,   0.0057,2,   0.0017,2,     0.0117,2,     0.0124,2,     -999.0,9,     -999.0,9,     -999.0,9
33RR20160208,       I08S,       2,          3,         19,         19,2,20160219,       0939,   -66.4997,    78.2986,        953,    50.6,  -1.7570,  34.2467,2,  34.2460,2,    312.8,2,   311.9,2,    56.2,2,    1.03,2,   28.90,2,    0.11,2,    2.09,2,   5.087,2,   2.588,2,   0.437,2,         2.755,2,  2213.0,2, 2316.25,2,   7.6199,2,    25.05,  -1.7556, -999.00,9,  -999.0,9,  -999.0, -999.00,1,-999.000,9,    43.2,2,   32.70,2,     -999.0,1, -999.00,9, 20160219,     1019, -66.4995,  78.2967,     -999.0,9,      0.400,3,     -999.0,9,   0.1072,2,   0.0732,2,   0.0451,2,   0.0283,2,   0.0173,2,   0.0072,2,   0.0023,2,     0.0145,2,     0.0161,2,     -999.0,9,     -999.0,9,     -999.0,9
33RR20160208,       I08S,       2,          3,         20,         20,2,20160219,       0939,   -66.4997,    78.2986,        953,    24.1,  -1.6500,  33.8467,2,  33.8550,2,    323.7,2,   324.5,2,    51.7,2,    0.92,2,   27.22,2,    0.10,2,    1.93,2,   5.025,2,   2.556,2,   0.434,2,         2.821,2,  -999.0,9, -999.00,9,-999.0000,9,     9.00,  -1.6498, -999.00,9,  -999.0,9,  -999.0, -999.00,1,-999.000,9,    42.7,2,   30.50,2,     -999.0,1, -999.00,9, 20160219,     1022, -66.4995,  78.2970,     -999.0,9,      0.358,2,     -999.0,9,   0.1109,2,   0.0778,2,   0.0529,2,   0.0288,2,   0.0172,2,   0.0069,2,   0.0020,2,     0.0130,2,     0.0139,2,     -999.0,9,     -999.0,9,     -999.0,9
33RR20160208,       I08S,       2,          3,         21,         21,2,20160219,       0939,   -66.4997,    78.2986,        953,    13.7,  -1.4055,  33.0909,2,  33.1261,2,    349.9,2,   347.1,2,    46.0,2,    0.84,2,   24.36,2,    0.14,2,    1.65,2,   5.660,2,   2.862,2,   0.457,2,         3.173,2,  2120.5,2, 2245.82,2,   7.6967,2,    25.04,  -1.4130, -999.00,9,  -999.0,9,  -999.0, -999.00,1,-999.000,9,    43.3,2,   27.10,2,     -999.0,1, -999.00,9, 20160219,     1023, -66.4996,  78.2972,     -999.0,9,      0.076,2,     -999.0,9,   0.1070,2,   0.0739,2,   0.0456,2,   0.0264,2,   0.0162,2,   0.0068,2,   0.0017,2,     0.0146,2,     0.0160,2,     -999.0,9,     -999.0,9,     -999.0,9
33RR20160208,       I08S,       2,          3,         22,         22,2,20160219,       0939,   -66.4997,    78.2986,        953,     5.4,  -1.3913,  33.0641,2,  33.0638,2,    349.6,2,   350.4,2,    45.6,2,    0.72,2,   24.08,2,    0.15,2,    1.62,2,   5.730,6,   3.068,6,   0.576,6,         3.103,6,  2115.4,6, 2239.87,2,   7.7013,6,    25.05,  -1.3908, -999.00,9,  -999.0,9,  -999.0, -999.00,1,-999.000,9,    44.5,2, -999.00,9,     -999.0,1, -999.00,9, 20160219,     1025, -66.4997,  78.2973,     -999.0,9,      0.443,2,     -999.0,9,   0.1000,2,   0.0665,2,   0.0355,2,   0.0222,2,   0.0136,2,   0.0052,2,   0.0011,2,     0.0173,2,     0.0194,2,     -999.0,9,     -999.0,9,     -999.0,9