BOTTLE,20220706CCHSIOAMB
EXPOCODE,SECT_ID,STNNBR,CASTNO,SAMPNO,BTLNBR,BTLNBR_FLAG_W,DATE,TIME,LATITUDE,LONGITUDE,DEPTH,CTDPRS,CTDTMP,CTDSAL,CTDSAL_FLAG_W,SALNTY,SALNTY_FLAG_W,CTDOXY,CTDOXY_FLAG_W,OXYGEN,OXYGEN_FLAG_W,SILCAT,SILCAT_FLAG_W,NH4,NH4_FLAG_W,NITRAT,NITRAT_FLAG_W,NITRIT,NITRIT_FLAG_W,PHSPHT,PHSPHT_FLAG_W,CFC-11,CFC-11_FLAG_W,CFC-12,CFC-12_FLAG_W,CFC113,CFC113_FLAG_W,SF6,SF6_FLAG_W,TCARBN,TCARBN_FLAG_W,ALKALI,ALKALI_FLAG_W,PH_TOT,PH_TOT_FLAG_W,PH_TMP,REFTMP,DELC13,DELC13_FLAG_W,DELC14,DELC14_FLAG_W,C14ERR,DELO18,DELO18_FLAG_W,POC,POC_FLAG_W,DOC,DOC_FLAG_W,TDN,TDN_FLAG_W,TON,TON_FLAG_W,D15N_NO3,D15N_NO3_FLAG_W,BTL_DATE,BTL_TIME,BTL_LAT,BTL_LON,14C-DOC,14C-DOC_FLAG_W,CHLORA,CHLORA_FLAG_W,HPLC,HPLC_FLAG_W,CDOM325,CDOM325_FLAG_W,CDOM340,CDOM340_FLAG_W,CDOM380,CDOM380_FLAG_W,CDOM412,CDOM412_FLAG_W,CDOM443,CDOM443_FLAG_W,CDOM490,CDOM490_FLAG_W,CDOM555,CDOM555_FLAG_W,CDOMSL,CDOMSL_FLAG_W,CDOMSN,CDOMSN_FLAG_W,D18O_NO3,D18O_NO3_FLAG_W,D15N_NO2+NO3,D15N_NO2+NO3_FLAG_W,D18O_NO2+NO3,D18O_NO2+NO3_FLAG_W
,,,,,,,,,,,METERS,DBAR,ITS-90,PSS-78,,PSS-78,,UMOL/KG,,UMOL/KG,,UMOL/KG,,UMOL/KG,,UMOL/KG,,UMOL/KG,,UMOL/KG,,PMOL/KG,,PMOL/KG,,PMOL/KG,,FMOL/KG,,UMOL/KG,,UMOL/KG,,,,DEG C,DEG C,/MILLE,,/MILLE,,/MILLE,/MILLE,,UG/KG,,UMOL/KG,,UMOL/KG,,UMOL/KG,,/MILLE,,,,,,/MILLE,,MG/M3,,,,1/M,,1/M,,1/M,,1/M,,1/M,,1/M,,1/M,,1/NM,,1/NM,,/MILLE,,/MILLE,,/MILLE,
33RR20160208,       I08S,      49,          1,         28,         28,2,20160303,       0602,   -46.5551,    93.5393,       3454,   186.0,   6.7071,  34.1635,2,  34.1443,4,    280.0,2,   279.7,2,     4.2,2,    0.00,2,   19.96,2,    0.02,2,    1.38,2,   3.826,2,   1.486,2,   0.315,2,         2.271,2,  -999.0,9, -999.00,9,-999.0000,9,  -999.00,   6.7045, -999.00,9,  -999.0,9,  -999.0, -999.00,9,-999.000,9,  -999.0,9, -999.00,9,     -999.0,9, -999.00,9, 20160303,      729, -46.5551,  93.5393,     -999.0,9,     -999.0,9,     -999.0,9,   0.0821,2,   0.0513,2,   0.0227,2,   0.0154,2,   0.0087,2,   0.0023,2,  -0.0001,4,     0.0209,2,     0.0244,2,     -999.0,9,     -999.0,9,     -999.0,9
33RR20160208,       I08S,      49,          1,         29,         29,2,20160303,       0602,   -46.5551,    93.5393,       3454,   141.5,   6.6416,  34.0381,2,  34.0170,4,    289.9,2,   288.9,2,     2.5,2,    0.39,2,   19.17,2,    0.54,2,    1.42,2,-999.000,9,-999.000,9,-999.000,9,-999.000000000,9,  2122.4,2, 2275.98,2,   7.7558,2,    24.98,   6.6487, -999.00,9,  -999.0,9,  -999.0, -999.00,9,-999.000,9,  -999.0,9, -999.00,9,     -999.0,9, -999.00,9, 20160303,      731, -46.5551,  93.5393,     -999.0,9,     -999.0,9,     -999.0,9,-999.0000,9,-999.0000,9,-999.0000,9,-999.0000,9,-999.0000,9,-999.0000,9,-999.0000,9,     -999.0,9,     -999.0,9,     -999.0,9,     -999.0,9,     -999.0,9
33RR20160208,       I08S,      49,          1,         30,         30,2,20160303,       0602,   -46.5551,    93.5393,       3454,   116.2,   7.6265,  34.1363,2,  34.1243,2,    286.7,2,   283.7,2,     1.9,2,    0.39,2,   17.07,2,    0.56,2,    1.28,2,   3.714,2,   1.400,2,   0.320,2,         2.415,2,  -999.0,9, -999.00,9,-999.0000,9,  -999.00,   7.6296, -999.00,9,  -999.0,9,  -999.0, -999.00,9,-999.000,9,  -999.0,9, -999.00,9,     -999.0,9, -999.00,9, 20160303,      732, -46.5551,  93.5394,     -999.0,9,0.125439298,2,     -999.0,9,   0.0839,2,   0.0531,2,   0.0227,2,   0.0160,2,   0.0092,2,   0.0025,2,   0.0000,4,     0.0212,3,     0.0247,3,     -999.0,9,     -999.0,9,     -999.0,9
33RR20160208,       I08S,      49,          1,         31,         31,2,20160303,       0602,   -46.5551,    93.5393,       3454,    91.2,   7.7530,  33.9953,2,  33.9827,2,    291.6,2,   290.1,2,     1.6,2,    0.63,2,   17.51,2,    0.25,2,    1.30,2,-999.000,9,-999.000,9,-999.000,9,-999.000000000,9,  2112.3,2, 2275.54,2,   7.7817,2,    25.02,   7.7587, -999.00,9,  -999.0,9,  -999.0, -999.00,9,-999.000,9,  -999.0,9, -999.00,9,     -999.0,9, -999.00,9, 20160303,      734, -46.5551,  93.5393,     -999.0,9,0.249386078,2,     -999.0,9,   0.0838,2,   0.0529,2,   0.0223,2,   0.0151,2,   0.0086,2,   0.0021,2,  -0.0002,4,     0.0216,2,     0.0249,2,     -999.0,9,     -999.0,9,     -999.0,9
33RR20160208,       I08S,      49,          1,         32,         32,2,20160303,       0602,   -46.5551,    93.5393,       3454,    66.6,   8.7861,  33.9890,2,  33.9760,2,    288.3,2,   288.0,2,     0.7,2,    0.22,2,   16.24,2,    0.22,2,    1.19,2,   3.565,2,   2.028,2,   0.301,2,         2.234,2,  2101.6,2, 2274.75,2,   7.8067,2,    25.00,   8.7833, -999.00,9,  -999.0,9,  -999.0, -999.00,9,-999.000,9,  -999.0,9, -999.00,9,     -999.0,9, -999.00,9, 20160303,      736, -46.5551,  93.5393,     -999.0,9,0.397550748,2,     -999.0,9,   0.0798,2,   0.0498,2,   0.0221,2,   0.0158,2,   0.0096,2,   0.0030,2,   0.0000,3,     0.0205,2,     0.0244,2,     -999.0,9,     -999.0,9,     -999.0,9
33RR20160208,       I08S,      49,          1,         33,         33,2,20160303,       0602,   -46.5551,    93.5393,       3454,    43.2,   8.8240,  33.9871,2,  33.9745,2,    288.6,2,   288.1,2,     0.6,2,    0.21,2,   16.21,2,    0.22,2,    1.18,2,-999.000,9,-999.000,9,-999.000,9,-999.000000000,9,  2101.5,2, 2274.97,6,   7.8074,2,    25.04,   8.8226, -999.00,9,  -999.0,9,  -999.0, -999.00,9,-999.000,9,  -999.0,9, -999.00,9,     -999.0,9, -999.00,9, 20160303,      738, -46.5551,  93.5393,     -999.0,9,0.416304604,2,     -999.0,9,   0.0858,2,   0.0541,2,   0.0236,2,   0.0157,2,   0.0092,2,   0.0027,2,  -0.0001,4,     0.0211,2,     0.0245,2,     -999.0,9,     -999.0,9,     -999.0,9
33RR20160208,       I08S,      49,          1,         34,         34,2,20160303,       0602,   -46.5551,    93.5393,       3454,    42.3,   8.8211,  33.9872,2,  33.9785,2,    288.8,2,   288.1,2,     0.5,2,    0.21,2,   16.21,2,    0.22,2,    1.19,2,   3.534,2,   2.014,2,   0.305,2,          2.21,2,  -999.0,9, -999.00,9,-999.0000,9,  -999.00,   8.8211, -999.00,9,  -999.0,9,  -999.0, -999.00,9,-999.000,9,  -999.0,9, -999.00,9,     -999.0,9, -999.00,9, 20160303,      738, -46.5551,  93.5393,     -999.0,9,     -999.0,9,     -999.0,9,-999.0000,9,-999.0000,9,-999.0000,9,-999.0000,9,-999.0000,9,-999.0000,9,-999.0000,9,     -999.0,9,     -999.0,9,     -999.0,9,     -999.0,9,     -999.0,9
33RR20160208,       I08S,      49,          1,         35,         35,2,20160303,       0602,   -46.5551,    93.5393,       3454,    21.3,   8.8376,  33.9870,2,  33.9823,2,    288.8,2,   287.8,2,     0.6,2,    0.26,2,   16.21,2,    0.22,2,    1.17,2,   3.545,2,   2.024,2,   0.307,2,         2.268,2,  2099.7,2, 2274.92,2,   7.8081,2,    25.02,   8.8372, -999.00,9,  -999.0,9,  -999.0, -999.00,9,-999.000,9,  -999.0,9, -999.00,9,     -999.0,9, -999.00,9, 20160303,      740, -46.5551,  93.5393,     -999.0,9,0.409685731,2,     -999.0,9,   0.0894,2,   0.0571,2,   0.0205,2,   0.0146,2,   0.0086,2,   0.0024,2,  -0.0002,4,     0.0241,2,     0.0278,2,     -999.0,9,     -999.0,9,     -999.0,9
33RR20160208,       I08S,      49,          1,         36,         36,2,20160303,       0602,   -46.5551,    93.5393,       3454,     6.8,   8.8722,  33.9868,2,  33.9828,2,    288.4,2,   289.2,2,     0.7,2,    0.21,2,   16.19,2,    0.22,2,    1.18,2,   3.553,2,   2.023,2,   0.313,2,         2.121,2,  2101.3,6, 2274.39,2,   7.8081,6,    25.00,   8.8722, -999.00,9,  -999.0,9,  -999.0, -999.00,9,-999.000,9,  -999.0,9, -999.00,9,     -999.0,9, -999.00,9, 20160303,      742, -46.5551,  93.5393,     -999.0,9,0.392717445,2,     -999.0,9,   0.0841,2,   0.0532,2,   0.0243,2,   0.0169,2,   0.0101,2,   0.0031,2,   0.0002,3,     0.0200,2,     0.0235,2,     -999.0,9,     -999.0,9,     -999.0,9