BOTTLE,20220706CCHSIOAMB
EXPOCODE,SECT_ID,STNNBR,CASTNO,SAMPNO,BTLNBR,BTLNBR_FLAG_W,DATE,TIME,LATITUDE,LONGITUDE,DEPTH,CTDPRS,CTDTMP,CTDSAL,CTDSAL_FLAG_W,SALNTY,SALNTY_FLAG_W,CTDOXY,CTDOXY_FLAG_W,OXYGEN,OXYGEN_FLAG_W,SILCAT,SILCAT_FLAG_W,NH4,NH4_FLAG_W,NITRAT,NITRAT_FLAG_W,NITRIT,NITRIT_FLAG_W,PHSPHT,PHSPHT_FLAG_W,CFC-11,CFC-11_FLAG_W,CFC-12,CFC-12_FLAG_W,CFC113,CFC113_FLAG_W,SF6,SF6_FLAG_W,TCARBN,TCARBN_FLAG_W,ALKALI,ALKALI_FLAG_W,PH_TOT,PH_TOT_FLAG_W,PH_TMP,REFTMP,DELC13,DELC13_FLAG_W,DELC14,DELC14_FLAG_W,C14ERR,DELO18,DELO18_FLAG_W,POC,POC_FLAG_W,DOC,DOC_FLAG_W,TDN,TDN_FLAG_W,TON,TON_FLAG_W,D15N_NO3,D15N_NO3_FLAG_W,BTL_DATE,BTL_TIME,BTL_LAT,BTL_LON,14C-DOC,14C-DOC_FLAG_W,CHLORA,CHLORA_FLAG_W,HPLC,HPLC_FLAG_W,CDOM325,CDOM325_FLAG_W,CDOM340,CDOM340_FLAG_W,CDOM380,CDOM380_FLAG_W,CDOM412,CDOM412_FLAG_W,CDOM443,CDOM443_FLAG_W,CDOM490,CDOM490_FLAG_W,CDOM555,CDOM555_FLAG_W,CDOMSL,CDOMSL_FLAG_W,CDOMSN,CDOMSN_FLAG_W,D18O_NO3,D18O_NO3_FLAG_W,D15N_NO2+NO3,D15N_NO2+NO3_FLAG_W,D18O_NO2+NO3,D18O_NO2+NO3_FLAG_W
,,,,,,,,,,,METERS,DBAR,ITS-90,PSS-78,,PSS-78,,UMOL/KG,,UMOL/KG,,UMOL/KG,,UMOL/KG,,UMOL/KG,,UMOL/KG,,UMOL/KG,,PMOL/KG,,PMOL/KG,,PMOL/KG,,FMOL/KG,,UMOL/KG,,UMOL/KG,,,,DEG C,DEG C,/MILLE,,/MILLE,,/MILLE,/MILLE,,UG/KG,,UMOL/KG,,UMOL/KG,,UMOL/KG,,/MILLE,,,,,,/MILLE,,MG/M3,,,,1/M,,1/M,,1/M,,1/M,,1/M,,1/M,,1/M,,1/NM,,1/NM,,/MILLE,,/MILLE,,/MILLE,
33RR20160208,       I08S,      59,          1,         28,         28,2,20160305,       2113,   -40.4971,    95.0001,       3540,   199.2,  11.2139,  34.9321,2,  34.9305,2,    252.4,2,   256.0,2,     2.5,2,    0.00,2,    9.57,2,    0.01,2,    0.71,2,   3.011,2,   1.739,2,   0.226,2,    1.85162524,2,  2113.9,2, 2306.12,2,-999.0000,5,     9.00,  11.2134, -999.00,9,  -999.0,9,  -999.0, -999.00,9,-999.000,9,  -999.0,9, -999.00,9,     -999.0,9, -999.00,9, 20160305,     2242, -40.4969,  95.0001,     -999.0,9,     -999.0,9,     -999.0,9,-999.0000,9,-999.0000,9,-999.0000,9,-999.0000,9,-999.0000,9,-999.0000,9,-999.0000,9,     -999.0,9,     -999.0,9,     -999.0,9,     -999.0,9,     -999.0,9
33RR20160208,       I08S,      59,          1,         29,         29,2,20160305,       2113,   -40.4971,    95.0001,       3540,   150.6,  11.2560,  34.9201,2,  34.9161,2,    254.6,2,   254.4,2,     2.6,2,    0.00,2,    9.83,2,    0.01,2,    0.72,2,   2.981,2,   1.723,2,   0.219,2,    1.82385086,2,  2115.2,2, 2305.98,2,   7.8321,2,    25.05,  11.2562, -999.00,9,  -999.0,9,  -999.0, -999.00,9,-999.000,9,  -999.0,9, -999.00,9,     -999.0,9, -999.00,9, 20160305,     2244, -40.4969,  95.0001,     -999.0,9,     -999.0,9,     -999.0,9,-999.0000,9,-999.0000,9,-999.0000,9,-999.0000,9,-999.0000,9,-999.0000,9,-999.0000,9,     -999.0,9,     -999.0,9,     -999.0,9,     -999.0,9,     -999.0,9
33RR20160208,       I08S,      59,          1,         30,         30,2,20160305,       2113,   -40.4971,    95.0001,       3540,   126.7,  11.3881,  34.9265,2,  34.9185,2,    254.4,2,   255.0,2,     2.4,2,    0.01,2,    9.34,2,    0.14,2,    0.69,2,   3.001,2,   1.732,2,   0.229,2,    1.85676864,2,  2112.4,2, 2305.27,2,   7.8350,2,    25.06,  11.3928, -999.00,9,  -999.0,9,  -999.0, -999.00,9,-999.000,9,  -999.0,9, -999.00,9,     -999.0,9, -999.00,9, 20160305,     2246, -40.4968,  95.0001,     -999.0,9,     -999.0,9,     -999.0,9,-999.0000,9,-999.0000,9,-999.0000,9,-999.0000,9,-999.0000,9,-999.0000,9,-999.0000,9,     -999.0,9,     -999.0,9,     -999.0,9,     -999.0,9,     -999.0,9
33RR20160208,       I08S,      59,          1,         31,         31,2,20160305,       2113,   -40.4971,    95.0001,       3540,    99.4,  11.9880,  34.9852,2,  34.9890,2,    253.7,2,   253.9,2,     2.0,2,    0.18,2,    7.20,2,    0.72,2,    0.64,2,   2.918,2,   1.700,2,   0.231,2,    1.79093308,2,  2109.3,2, 2310.27,2,   7.8488,2,    25.08,  11.9868, -999.00,9,  -999.0,9,  -999.0, -999.00,9,-999.000,9,  -999.0,9, -999.00,9,     -999.0,9, -999.00,9, 20160305,     2248, -40.4969,  95.0001,     -999.0,9,     -999.0,9,     -999.0,9,-999.0000,9,-999.0000,9,-999.0000,9,-999.0000,9,-999.0000,9,-999.0000,9,-999.0000,9,     -999.0,9,     -999.0,9,     -999.0,9,     -999.0,9,     -999.0,9
33RR20160208,       I08S,      59,          1,         32,         32,2,20160305,       2113,   -40.4971,    95.0001,       3540,    73.9,  12.9715,  34.9438,2,  34.9413,2,    258.0,2,   258.2,2,     1.4,2,    0.96,2,    5.57,2,    0.19,2,    0.57,2,   2.826,2,   1.642,2,   0.225,2,     1.7415564,2,  2098.5,2, 2309.90,2,   7.8753,6,    25.07,  12.9755, -999.00,9,  -999.0,9,  -999.0, -999.00,9,-999.000,9,  -999.0,9, -999.00,9,     -999.0,9, -999.00,9, 20160305,     2250, -40.4969,  95.0001,     -999.0,9,     -999.0,9,     -999.0,9,-999.0000,9,-999.0000,9,-999.0000,9,-999.0000,9,-999.0000,9,-999.0000,9,-999.0000,9,     -999.0,9,     -999.0,9,     -999.0,9,     -999.0,9,     -999.0,9
33RR20160208,       I08S,      59,          1,         33,         33,2,20160305,       2113,   -40.4971,    95.0001,       3540,    50.0,  15.0671,  34.9082,2,  34.9071,2,    254.9,2,   253.9,2,     0.1,2,    0.19,2,    3.29,2,    0.07,2,    0.36,2,   2.559,2,   1.504,2,   0.207,2,    1.63148757,2,  2072.8,2, 2310.93,2,   7.9314,2,    25.05,  15.0671, -999.00,9,  -999.0,9,  -999.0, -999.00,9,-999.000,9,  -999.0,9, -999.00,9,     -999.0,9, -999.00,9, 20160305,     2252, -40.4969,  95.0001,     -999.0,9,     -999.0,9,     -999.0,9,-999.0000,9,-999.0000,9,-999.0000,9,-999.0000,9,-999.0000,9,-999.0000,9,-999.0000,9,     -999.0,9,     -999.0,9,     -999.0,9,     -999.0,9,     -999.0,9
33RR20160208,       I08S,      59,          1,         34,         34,2,20160305,       2113,   -40.4971,    95.0001,       3540,    25.4,  15.3552,  34.9035,2,  34.9022,2,    256.9,2,   254.0,2,     0.0,2,    0.12,2,    3.15,2,    0.07,2,    0.35,2,   2.630,2,   1.497,2,   0.202,2,    1.73538432,2,  2068.2,2, 2310.27,6,   7.9359,2,    25.05,  15.3539, -999.00,9,  -999.0,9,  -999.0, -999.00,9,-999.000,9,  -999.0,9, -999.00,9,     -999.0,9, -999.00,9, 20160305,     2254, -40.4969,  95.0001,     -999.0,9,     -999.0,9,     -999.0,9,-999.0000,9,-999.0000,9,-999.0000,9,-999.0000,9,-999.0000,9,-999.0000,9,-999.0000,9,     -999.0,9,     -999.0,9,     -999.0,9,     -999.0,9,     -999.0,9
33RR20160208,       I08S,      59,          1,         35,         35,2,20160305,       2113,   -40.4971,    95.0001,       3540,     5.4,  15.6199,  34.9053,2,  34.9043,2,    254.0,2,   253.2,2,     0.1,2,    0.12,2,    3.13,2,    0.06,2,    0.35,2,   2.517,2,   1.460,2,   0.198,2,         1.614,2,  2070.7,2, 2310.69,2,   7.9355,6,    25.06,  15.6223, -999.00,9,  -999.0,9,  -999.0, -999.00,9,-999.000,9,  -999.0,9, -999.00,9,     -999.0,9, -999.00,9, 20160305,     2256, -40.4969,  95.0002,     -999.0,9,     -999.0,9,     -999.0,9,-999.0000,9,-999.0000,9,-999.0000,9,-999.0000,9,-999.0000,9,-999.0000,9,-999.0000,9,     -999.0,9,     -999.0,9,     -999.0,9,     -999.0,9,     -999.0,9