BOTTLE,20220706CCHSIOAMB
EXPOCODE,SECT_ID,STNNBR,CASTNO,SAMPNO,BTLNBR,BTLNBR_FLAG_W,DATE,TIME,LATITUDE,LONGITUDE,DEPTH,CTDPRS,CTDTMP,CTDSAL,CTDSAL_FLAG_W,SALNTY,SALNTY_FLAG_W,CTDOXY,CTDOXY_FLAG_W,OXYGEN,OXYGEN_FLAG_W,SILCAT,SILCAT_FLAG_W,NH4,NH4_FLAG_W,NITRAT,NITRAT_FLAG_W,NITRIT,NITRIT_FLAG_W,PHSPHT,PHSPHT_FLAG_W,CFC-11,CFC-11_FLAG_W,CFC-12,CFC-12_FLAG_W,CFC113,CFC113_FLAG_W,SF6,SF6_FLAG_W,TCARBN,TCARBN_FLAG_W,ALKALI,ALKALI_FLAG_W,PH_TOT,PH_TOT_FLAG_W,PH_TMP,REFTMP,DELC13,DELC13_FLAG_W,DELC14,DELC14_FLAG_W,C14ERR,DELO18,DELO18_FLAG_W,POC,POC_FLAG_W,DOC,DOC_FLAG_W,TDN,TDN_FLAG_W,TON,TON_FLAG_W,D15N_NO3,D15N_NO3_FLAG_W,BTL_DATE,BTL_TIME,BTL_LAT,BTL_LON,14C-DOC,14C-DOC_FLAG_W,CHLORA,CHLORA_FLAG_W,HPLC,HPLC_FLAG_W,CDOM325,CDOM325_FLAG_W,CDOM340,CDOM340_FLAG_W,CDOM380,CDOM380_FLAG_W,CDOM412,CDOM412_FLAG_W,CDOM443,CDOM443_FLAG_W,CDOM490,CDOM490_FLAG_W,CDOM555,CDOM555_FLAG_W,CDOMSL,CDOMSL_FLAG_W,CDOMSN,CDOMSN_FLAG_W,D18O_NO3,D18O_NO3_FLAG_W,D15N_NO2+NO3,D15N_NO2+NO3_FLAG_W,D18O_NO2+NO3,D18O_NO2+NO3_FLAG_W
,,,,,,,,,,,METERS,DBAR,ITS-90,PSS-78,,PSS-78,,UMOL/KG,,UMOL/KG,,UMOL/KG,,UMOL/KG,,UMOL/KG,,UMOL/KG,,UMOL/KG,,PMOL/KG,,PMOL/KG,,PMOL/KG,,FMOL/KG,,UMOL/KG,,UMOL/KG,,,,DEG C,DEG C,/MILLE,,/MILLE,,/MILLE,/MILLE,,UG/KG,,UMOL/KG,,UMOL/KG,,UMOL/KG,,/MILLE,,,,,,/MILLE,,MG/M3,,,,1/M,,1/M,,1/M,,1/M,,1/M,,1/M,,1/M,,1/NM,,1/NM,,/MILLE,,/MILLE,,/MILLE,
33RR20160208,       I08S,      58,          1,          1,          1,2,20160305,       1435,   -41.1441,    95.0003,       3564,  3565.0,   1.2530,  34.7240,2,  34.7243,2,    204.7,2,   204.3,2,   111.9,2,    0.00,2,   31.53,2,    0.00,2,    2.17,2,   0.166,2,   0.086,2,   0.001,2,   0.097782709,2,  2262.5,6, 2365.36,2,   7.6121,2,    25.05,   1.2526, -999.00,9,  -999.0,9,  -999.0, -999.00,1,-999.000,9,    37.5,2, -999.00,9,     -999.0,1,    4.88,2, 20160305,     1435, -41.1441,  95.0003,     -999.0,9,     -999.0,9,     -999.0,9,-999.0000,9,-999.0000,9,-999.0000,9,-999.0000,9,-999.0000,9,-999.0000,9,-999.0000,9,     -999.0,9,     -999.0,9,       1.91,2,       4.88,2,       1.91,2
33RR20160208,       I08S,      58,          1,          2,          2,2,20160305,       1435,   -41.1441,    95.0003,       3564,  3367.8,   1.2818,  34.7263,2,  34.7266,2,    203.5,2,   204.0,2,   110.2,2,    0.00,2,   31.43,2,    0.00,2,    2.14,2,-999.000,9,-999.000,9,-999.000,9,-999.000000000,9,  2258.9,2, 2363.77,6,   7.6123,6,    25.06,   1.2820, -999.00,9,  -999.0,9,  -999.0, -999.00,1,-999.000,9,    38.2,2, -999.00,9,     -999.0,1,    4.87,2, 20160305,     1440, -41.1441,  95.0003,     -999.0,9,     -999.0,9,     -999.0,9,-999.0000,9,-999.0000,9,-999.0000,9,-999.0000,9,-999.0000,9,-999.0000,9,-999.0000,9,     -999.0,9,     -999.0,9,       1.86,2,       4.87,2,       1.86,2
33RR20160208,       I08S,      58,          1,          3,          3,2,20160305,       1435,   -41.1441,    95.0003,       3564,  3149.2,   1.4193,  34.7330,2,  34.7327,2,    202.3,2,   202.9,2,   105.6,2,    0.00,2,   31.22,2,    0.00,2,    2.12,2,   0.143,2,   0.076,2,   0.000,2,   0.008064553,2,  2257.1,2, 2361.63,2,   7.6132,2,    25.06,   1.4186, -999.00,9,  -999.0,9,  -999.0, -999.00,1,-999.000,9,    37.6,2, -999.00,9,     -999.0,1,     4.9,2, 20160305,     1445, -41.1441,  95.0004,     -999.0,9,     -999.0,9,     -999.0,9,-999.0000,9,-999.0000,9,-999.0000,9,-999.0000,9,-999.0000,9,-999.0000,9,-999.0000,9,     -999.0,9,     -999.0,9,       1.91,2,        4.9,2,       1.91,2
33RR20160208,       I08S,      58,          1,          4,          4,2,20160305,       1435,   -41.1441,    95.0003,       3564,  2935.7,   1.5959,  34.7409,2,  34.7404,2,    200.6,2,   201.2,2,    98.4,2,    0.00,2,   30.83,2,    0.00,2,    2.09,2,-999.000,9,-999.000,9,-999.000,9,-999.000000000,9,  2254.6,2, 2359.24,2,   7.6155,6,    25.06,   1.5949, -999.00,9,  -999.0,9,  -999.0, -999.00,1,-999.000,9,    37.5,2, -999.00,9,     -999.0,1,    4.96,2, 20160305,     1450, -41.1440,  95.0004,     -999.0,9,     -999.0,9,     -999.0,9,-999.0000,9,-999.0000,9,-999.0000,9,-999.0000,9,-999.0000,9,-999.0000,9,-999.0000,9,     -999.0,9,     -999.0,9,       1.94,2,       4.96,2,       1.94,2
33RR20160208,       I08S,      58,          1,          5,          5,2,20160305,       1435,   -41.1441,    95.0003,       3564,  2735.1,   1.8522,  34.7489,2,  34.7486,2,    198.3,2,   199.3,2,    90.4,2,    0.00,2,   30.40,2,    0.00,2,    2.08,2,   0.107,2,   0.056,2,   0.000,2,             0,2,  -999.0,9, -999.00,9,-999.0000,9,  -999.00,   1.8523, -999.00,9,  -999.0,9,  -999.0, -999.00,1,-999.000,9,    38.4,2, -999.00,9,     -999.0,1,    5.01,2, 20160305,     1454, -41.1441,  95.0004,     -999.0,9,     -999.0,9,     -999.0,9,-999.0000,9,-999.0000,9,-999.0000,9,-999.0000,9,-999.0000,9,-999.0000,9,-999.0000,9,     -999.0,9,     -999.0,9,       1.91,2,       5.01,2,       1.91,2
33RR20160208,       I08S,      58,          1,          6,         38,2,20160305,       1435,   -41.1441,    95.0003,       3564,  2535.9,   2.0803,  34.7492,2,  34.7494,2,    194.9,2,   195.4,2,    83.5,2,    0.00,2,   30.27,2,    0.00,2,    2.06,2,-999.000,9,-999.000,9,-999.000,9,-999.000000000,9,  -999.0,9, -999.00,9,-999.0000,9,  -999.00,   2.0811, -999.00,9,  -999.0,9,  -999.0, -999.00,1,-999.000,9,    38.9,2, -999.00,9,     -999.0,1,    5.01,2, 20160305,     1459, -41.1441,  95.0004,     -999.0,9,     -999.0,9,     -999.0,9,-999.0000,9,-999.0000,9,-999.0000,9,-999.0000,9,-999.0000,9,-999.0000,9,-999.0000,9,     -999.0,9,     -999.0,9,       1.92,2,       5.01,2,       1.92,2
33RR20160208,       I08S,      58,          1,          7,          7,2,20160305,       1435,   -41.1441,    95.0003,       3564,  2334.8,   2.2575,  34.7372,2,  34.7370,2,    190.5,2,   191.2,2,    78.8,2,    0.00,2,   30.52,2,    0.00,2,    2.05,2,   0.145,2,   0.077,2,   0.000,2,   0.056451873,2,  -999.0,9, -999.00,9,-999.0000,9,     9.00,   2.2571, -999.00,9,  -999.0,9,  -999.0, -999.00,1,-999.000,9,    38.4,2, -999.00,9,     -999.0,1,    5.05,2, 20160305,     1504, -41.1441,  95.0004,     -999.0,9,     -999.0,9,     -999.0,9,-999.0000,9,-999.0000,9,-999.0000,9,-999.0000,9,-999.0000,9,-999.0000,9,-999.0000,9,     -999.0,9,     -999.0,9,       1.92,2,       5.05,2,       1.92,2
33RR20160208,       I08S,      58,          1,          8,          8,2,20160305,       1435,   -41.1441,    95.0003,       3564,  2137.3,   2.4111,  34.7076,2,  34.7066,2,    183.6,2,   183.8,2,    76.3,2,    0.00,2,   31.36,2,    0.00,2,    2.13,2,-999.000,9,-999.000,9,-999.000,9,-999.000000000,9,  2248.3,2, 2344.91,2,   7.5938,6,    25.05,   2.4104, -999.00,9,  -999.0,9,  -999.0, -999.00,1,-999.000,9,    39.1,2, -999.00,9,     -999.0,1,    4.96,2, 20160305,     1508, -41.1441,  95.0004,     -999.0,9,     -999.0,9,     -999.0,9,-999.0000,9,-999.0000,9,-999.0000,9,-999.0000,9,-999.0000,9,-999.0000,9,-999.0000,9,     -999.0,9,     -999.0,9,       1.82,2,       4.96,2,       1.82,2
33RR20160208,       I08S,      58,          1,          9,          9,2,20160305,       1435,   -41.1441,    95.0003,       3564,  1936.3,   2.5519,  34.6562,2,  34.6558,2,    177.6,2,   178.3,2,    73.0,2,    0.00,2,   32.41,2,    0.00,2,    2.22,2,   0.307,2,   0.159,2,   0.009,2,   0.102823055,2,  -999.0,9, -999.00,9,-999.0000,9,  -999.00,   2.5517, -999.00,9,  -999.0,9,  -999.0, -999.00,1,-999.000,9,    38.3,2, -999.00,9,     -999.0,1,    5.06,2, 20160305,     1513, -41.1441,  95.0004,     -999.0,9,     -999.0,9,     -999.0,9,-999.0000,9,-999.0000,9,-999.0000,9,-999.0000,9,-999.0000,9,-999.0000,9,-999.0000,9,     -999.0,9,     -999.0,9,       1.86,2,       5.06,2,       1.86,2
33RR20160208,       I08S,      58,          1,         10,         10,2,20160305,       1435,   -41.1441,    95.0003,       3564,  1765.4,   2.6976,  34.5916,2,  34.5914,2,    174.7,2,   173.6,2,    69.1,2,    0.00,2,   33.39,2,    0.00,2,    2.30,2,   0.457,2,   0.235,2,   0.017,2,   0.118952161,2,  -999.0,9, -999.00,9,-999.0000,9,     9.00,   2.6974, -999.00,9,  -999.0,9,  -999.0, -999.00,1,-999.000,9,    38.2,2, -999.00,9,     -999.0,1,    5.12,2, 20160305,     1517, -41.1441,  95.0004,     -999.0,9,     -999.0,9,     -999.0,9,-999.0000,9,-999.0000,9,-999.0000,9,-999.0000,9,-999.0000,9,-999.0000,9,-999.0000,9,     -999.0,9,     -999.0,9,       2.08,2,       5.12,2,       2.08,2
33RR20160208,       I08S,      58,          1,         11,         11,2,20160305,       1435,   -41.1441,    95.0003,       3564,  1662.6,   2.7961,  34.5530,2,  34.5528,2,    173.6,2,   174.4,2,    66.9,2,    0.00,2,   33.77,2,    0.00,2,    2.32,2,   0.590,2,   0.298,2,   0.025,2,   0.136089337,2,  -999.0,9, -999.00,9,-999.0000,9,  -999.00,   2.7947, -999.00,9,  -999.0,9,  -999.0, -999.00,1,-999.000,9,    38.8,2, -999.00,9,     -999.0,1,    5.24,2, 20160305,     1520, -41.1441,  95.0004,     -999.0,9,     -999.0,9,     -999.0,9,-999.0000,9,-999.0000,9,-999.0000,9,-999.0000,9,-999.0000,9,-999.0000,9,-999.0000,9,     -999.0,9,     -999.0,9,       1.98,2,       5.24,2,       1.98,2
33RR20160208,       I08S,      58,          1,         12,         12,2,20160305,       1435,   -41.1441,    95.0003,       3564,  1564.4,   2.9548,  34.5084,2,  34.5079,2,    175.3,2,   174.5,2,    63.2,2,    0.00,2,   34.08,2,    0.00,2,    2.33,2,   0.730,2,   0.365,2,   0.035,2,   0.166331412,2,  2244.3,2, 2327.97,2,   7.5602,2,    25.05,   2.9548, -999.00,9,  -999.0,9,  -999.0, -999.00,1,-999.000,9,    38.3,2, -999.00,9,     -999.0,1,    5.38,2, 20160305,     1523, -41.1441,  95.0004,     -999.0,9,     -999.0,9,     -999.0,9,-999.0000,9,-999.0000,9,-999.0000,9,-999.0000,9,-999.0000,9,-999.0000,9,-999.0000,9,     -999.0,9,     -999.0,9,       2.13,2,       5.38,2,       2.13,2
33RR20160208,       I08S,      58,          1,         13,         13,2,20160305,       1435,   -41.1441,    95.0003,       3564,  1462.9,   3.1650,  34.4649,2,  34.4636,2,    179.0,2,   178.6,2,    57.8,2,    0.00,2,   33.88,2,    0.00,2,    2.32,2,   0.963,2,   0.476,2,   0.048,2,    0.26512219,2,  -999.0,9, -999.00,9,-999.0000,9,     9.00,   3.1648, -999.00,9,  -999.0,9,  -999.0, -999.00,1,-999.000,9,    38.4,2, -999.00,9,     -999.0,1,    5.45,2, 20160305,     1525, -41.1441,  95.0004,     -999.0,9,     -999.0,9,     -999.0,9,-999.0000,9,-999.0000,9,-999.0000,9,-999.0000,9,-999.0000,9,-999.0000,9,-999.0000,9,     -999.0,9,     -999.0,9,       2.21,2,       5.45,2,       2.21,2
33RR20160208,       I08S,      58,          1,         14,         14,2,20160305,       1435,   -41.1441,    95.0003,       3564,  1363.4,   3.4373,  34.4118,2,  34.4122,2,    186.9,2,   185.7,2,    50.1,2,    0.00,2,   33.31,2,    0.00,2,    2.27,2,   1.353,2,   0.657,2,   0.076,2,   0.305444957,2,  -999.0,9, -999.00,9,-999.0000,9,  -999.00,   3.4363, -999.00,9,  -999.0,9,  -999.0, -999.00,1,-999.000,9,    38.6,2, -999.00,9,     -999.0,1,    5.55,2, 20160305,     1528, -41.1441,  95.0004,     -999.0,9,     -999.0,9,     -999.0,9,-999.0000,9,-999.0000,9,-999.0000,9,-999.0000,9,-999.0000,9,-999.0000,9,-999.0000,9,     -999.0,9,     -999.0,9,       2.27,2,       5.55,2,       2.27,2
33RR20160208,       I08S,      58,          1,         15,         15,2,20160305,       1435,   -41.1441,    95.0003,       3564,  1262.5,   3.7426,  34.3727,2,  34.3721,2,    195.1,2,   194.7,2,    42.7,2,    0.00,2,   32.45,2,    0.00,2,    2.22,2,   1.761,2,   0.849,2,   0.103,2,   0.385082421,2,  -999.0,9, -999.00,9,-999.0000,9,  -999.00,   3.7405, -999.00,9,  -999.0,9,  -999.0, -999.00,1,-999.000,9,    40.0,2, -999.00,9,     -999.0,1,    5.55,2, 20160305,     1531, -41.1441,  95.0004,     -999.0,9,     -999.0,9,     -999.0,9,-999.0000,9,-999.0000,9,-999.0000,9,-999.0000,9,-999.0000,9,-999.0000,9,-999.0000,9,     -999.0,9,     -999.0,9,       2.23,2,       5.55,2,       2.23,2
33RR20160208,       I08S,      58,          1,         16,         16,2,20160305,       1435,   -41.1441,    95.0003,       3564,  1167.6,   4.1276,  34.3422,2,  34.3415,2,    203.9,2,   203.8,2,    34.8,2,    0.00,2,   31.29,2,    0.00,2,    2.13,2,   2.218,2,   1.096,2,   0.137,2,   0.603833429,2,  2204.9,2, 2300.37,2,   7.6037,2,    25.06,   4.1307, -999.00,9,  -999.0,9,  -999.0, -999.00,1,-999.000,9,    40.2,2, -999.00,9,     -999.0,1,    5.62,2, 20160305,     1534, -41.1441,  95.0004,     -999.0,9,     -999.0,9,     -999.0,9,-999.0000,9,-999.0000,9,-999.0000,9,-999.0000,9,-999.0000,9,-999.0000,9,-999.0000,9,     -999.0,9,     -999.0,9,       2.26,2,       5.62,2,       2.26,2
33RR20160208,       I08S,      58,          1,         17,         17,2,20160305,       1435,   -41.1441,    95.0003,       3564,  1065.8,   4.6727,  34.3323,2,  34.3313,2,    209.7,2,   209.4,2,    27.8,2,    0.00,2,   29.91,2,    0.00,2,    2.01,2,   2.523,2,   1.261,2,   0.149,2,   0.586696254,2,  -999.0,9, -999.00,9,-999.0000,9,  -999.00,   4.6713, -999.00,9,  -999.0,9,  -999.0, -999.00,1,-999.000,9,    41.0,2, -999.00,9,     -999.0,1,    5.75,2, 20160305,     1537, -41.1441,  95.0004,     -999.0,9,     -999.0,9,     -999.0,9,-999.0000,9,-999.0000,9,-999.0000,9,-999.0000,9,-999.0000,9,-999.0000,9,-999.0000,9,     -999.0,9,     -999.0,9,       2.41,2,       5.75,2,       2.41,2
33RR20160208,       I08S,      58,          1,         18,         37,2,20160305,       1435,   -41.1441,    95.0003,       3564,   966.3,   5.5703,  34.3614,2,  34.3652,2,    210.9,2,   210.8,2,    20.7,2,    0.00,2,   27.84,2,    0.00,2,    1.90,2,   2.800,6,   1.423,6,   0.154,6,   0.748491354,6,  2180.3,2, 2290.69,2,   7.6409,2,    25.05,   5.5740, -999.00,9,  -999.0,9,  -999.0, -999.00,1,-999.000,9,    40.6,2, -999.00,9,     -999.0,1,    5.85,2, 20160305,     1540, -41.1440,  95.0004,     -999.0,9,     -999.0,9,     -999.0,9,-999.0000,9,-999.0000,9,-999.0000,9,-999.0000,9,-999.0000,9,-999.0000,9,-999.0000,9,     -999.0,9,     -999.0,9,       2.49,2,       5.85,2,       2.49,2
33RR20160208,       I08S,      58,          1,         19,         19,2,20160305,       1435,   -41.1441,    95.0003,       3564,   866.9,   6.8663,  34.4562,2,  34.4522,2,    208.4,2,   207.8,2,    16.5,2,    0.00,2,   25.28,2,    0.00,2,    1.71,2,   2.853,2,   1.470,2,   0.131,2,   0.753027666,2,  -999.0,9, -999.00,9,-999.0000,9,     9.00,   6.8346, -999.00,9,  -999.0,9,  -999.0, -999.00,1,-999.000,9,    40.7,2, -999.00,9,     -999.0,1,    6.02,2, 20160305,     1542, -41.1441,  95.0003,     -999.0,9,     -999.0,9,     -999.0,9,-999.0000,9,-999.0000,9,-999.0000,9,-999.0000,9,-999.0000,9,-999.0000,9,-999.0000,9,     -999.0,9,     -999.0,9,       2.53,2,       6.02,2,       2.53,2
33RR20160208,       I08S,      58,          1,         20,         20,2,20160305,       1435,   -41.1441,    95.0003,       3564,   766.5,   8.1435,  34.5589,2,  34.5587,2,    212.5,2,   212.5,2,    11.0,2,    0.00,2,   21.75,2,    0.00,2,    1.45,2,   3.059,2,   1.600,2,   0.122,2,   0.896173487,2,  2156.3,2, 2290.53,2,   7.7047,2,    25.07,   8.1517, -999.00,9,  -999.0,9,  -999.0, -999.00,1,-999.000,9,    41.5,2, -999.00,9,     -999.0,1,    6.19,2, 20160305,     1545, -41.1441,  95.0004,     -999.0,9,     -999.0,9,     -999.0,9,-999.0000,9,-999.0000,9,-999.0000,9,-999.0000,9,-999.0000,9,-999.0000,9,-999.0000,9,     -999.0,9,     -999.0,9,       2.86,2,       6.19,2,       2.86,2
33RR20160208,       I08S,      58,          1,         21,         21,2,20160305,       1435,   -41.1441,    95.0003,       3564,   665.5,   9.1740,  34.6574,2,  34.6561,2,    225.9,2,   226.8,2,     7.1,2,    0.00,2,   18.04,2,    0.00,2,    1.26,2,   3.208,2,   1.756,2,   0.134,2,    1.27621556,2,  -999.0,9, -999.00,9,-999.0000,9,  -999.00,   9.1742, -999.00,9,  -999.0,9,  -999.0, -999.00,1,-999.000,9,    44.0,2, -999.00,9,     -999.0,1,    6.47,2, 20160305,     1548, -41.1441,  95.0004,     -999.0,9,     -999.0,9,     -999.0,9,-999.0000,9,-999.0000,9,-999.0000,9,-999.0000,9,-999.0000,9,-999.0000,9,-999.0000,9,     -999.0,9,     -999.0,9,       3.35,2,       6.47,2,       3.35,2
33RR20160208,       I08S,      58,          1,         22,         22,2,20160305,       1435,   -41.1441,    95.0003,       3564,   564.4,   9.9540,  34.7532,2,  34.7488,2,    236.1,2,   236.0,2,     5.2,2,    0.00,2,   15.36,2,    0.00,2,    1.06,2,   3.241,2,   1.775,2,   0.138,2,    1.34778847,2,  2134.7,2, 2297.23,2,   7.7772,6,    25.05,   9.9542, -999.00,9,  -999.0,9,  -999.0, -999.00,1,-999.000,9,    44.5,2, -999.00,9,     -999.0,1,    6.58,2, 20160305,     1551, -41.1441,  95.0004,     -999.0,9,     -999.0,9,     -999.0,9,-999.0000,9,-999.0000,9,-999.0000,9,-999.0000,9,-999.0000,9,-999.0000,9,-999.0000,9,     -999.0,9,     -999.0,9,       3.69,2,       6.58,2,       3.69,2
33RR20160208,       I08S,      58,          1,         23,         23,2,20160305,       1435,   -41.1441,    95.0003,       3564,   485.0,  10.5126,  34.8377,2,  34.8355,2,    238.2,2,   239.4,2,     4.4,2,    0.00,2,   13.68,2,    0.00,2,    0.97,2,   3.134,2,   1.772,2,   0.142,2,     1.5987977,2,  2129.4,2, 2300.78,2,   7.7954,2,    25.06,  10.5122, -999.00,9,  -999.0,9,  -999.0, -999.00,1,-999.000,9,    45.0,2, -999.00,9,     -999.0,1,    6.71,2, 20160305,     1553, -41.1440,  95.0005,     -999.0,9,     -999.0,9,     -999.0,9,-999.0000,9,-999.0000,9,-999.0000,9,-999.0000,9,-999.0000,9,-999.0000,9,-999.0000,9,     -999.0,9,     -999.0,9,       4.07,2,       6.71,2,       4.07,2
33RR20160208,       I08S,      58,          1,         24,         24,2,20160305,       1435,   -41.1441,    95.0003,       3564,   434.8,  10.8664,  34.8950,2,  34.8905,2,    242.4,2,   241.8,2,     4.1,2,    0.00,2,   12.63,2,    0.00,2,    0.91,2,-999.000,9,-999.000,9,-999.000,9,-999.000000000,9,  2127.1,2, 2302.68,2,   7.8066,2,    25.05,  10.8667, -999.00,9,  -999.0,9,  -999.0, -999.00,1,-999.000,9,    45.8,2, -999.00,9,     -999.0,1,    6.84,2, 20160305,     1555, -41.1440,  95.0004,     -999.0,9,     -999.0,9,     -999.0,9,-999.0000,9,-999.0000,9,-999.0000,9,-999.0000,9,-999.0000,9,-999.0000,9,-999.0000,9,     -999.0,9,     -999.0,9,       4.12,2,       6.84,2,       4.12,2
33RR20160208,       I08S,      58,          1,         25,         25,2,20160305,       1435,   -41.1441,    95.0003,       3564,   384.9,  10.9746,  34.9009,2,  34.9051,2,    251.9,2,   249.6,2,     3.4,2,    0.00,2,   11.33,2,    0.00,2,    0.82,2,   3.091,2,   1.759,2,   0.182,2,    1.66331412,2,  2121.3,2, 2303.58,2,   7.8205,6,    25.06,  10.9736, -999.00,9,  -999.0,9,  -999.0, -999.00,1,-999.000,9,    46.1,2, -999.00,9,     -999.0,1,    7.05,2, 20160305,     1557, -41.1440,  95.0004,     -999.0,9,     -999.0,9,     -999.0,9,-999.0000,9,-999.0000,9,-999.0000,9,-999.0000,9,-999.0000,9,-999.0000,9,-999.0000,9,     -999.0,9,     -999.0,9,       4.65,2,       7.05,2,       4.65,2
33RR20160208,       I08S,      58,          1,         26,         26,2,20160305,       1435,   -41.1441,    95.0003,       3564,   336.4,  11.1833,  34.9308,2,  34.9284,2,    250.1,2,   251.4,2,     3.2,2,    0.00,2,   10.76,2,    0.00,2,    0.82,2,-999.000,9,-999.000,9,-999.000,9,-999.000000000,9,  2118.8,2, 2304.82,2,   7.8271,2,    25.06,  11.1827, -999.00,9,  -999.0,9,  -999.0, -999.00,1,-999.000,9,    46.3,2,   12.80,2,     -999.0,1,    7.15,2, 20160305,     1559, -41.1440,  95.0004,     -999.0,9,     -999.0,9,     -999.0,9,-999.0000,9,-999.0000,9,-999.0000,9,-999.0000,9,-999.0000,9,-999.0000,9,-999.0000,9,     -999.0,9,     -999.0,9,       4.86,2,       7.15,2,       4.86,2
33RR20160208,       I08S,      58,          1,         27,         27,2,20160305,       1435,   -41.1441,    95.0003,       3564,   284.7,  11.2433,  34.9318,2,  34.9310,2,    252.9,2,   254.3,2,     3.1,2,    0.00,2,   10.31,2,    0.00,2,    0.76,2,   3.035,2,   1.767,2,   0.209,2,    1.85383919,2,  -999.0,9, -999.00,9,-999.0000,9,  -999.00,  11.2402, -999.00,9,  -999.0,9,  -999.0, -999.00,1,-999.000,9,    47.3,2,   13.40,2,     -999.0,1,    7.33,2, 20160305,     1601, -41.1439,  95.0004,     -999.0,9,     -999.0,9,     -999.0,9,-999.0000,9,-999.0000,9,-999.0000,9,-999.0000,9,-999.0000,9,-999.0000,9,-999.0000,9,     -999.0,9,     -999.0,9,       5.18,2,       7.33,2,       5.18,2