BOTTLE,20220706CCHSIOAMB
EXPOCODE,SECT_ID,STNNBR,CASTNO,SAMPNO,BTLNBR,BTLNBR_FLAG_W,DATE,TIME,LATITUDE,LONGITUDE,DEPTH,CTDPRS,CTDTMP,CTDSAL,CTDSAL_FLAG_W,SALNTY,SALNTY_FLAG_W,CTDOXY,CTDOXY_FLAG_W,OXYGEN,OXYGEN_FLAG_W,SILCAT,SILCAT_FLAG_W,NH4,NH4_FLAG_W,NITRAT,NITRAT_FLAG_W,NITRIT,NITRIT_FLAG_W,PHSPHT,PHSPHT_FLAG_W,CFC-11,CFC-11_FLAG_W,CFC-12,CFC-12_FLAG_W,CFC113,CFC113_FLAG_W,SF6,SF6_FLAG_W,TCARBN,TCARBN_FLAG_W,ALKALI,ALKALI_FLAG_W,PH_TOT,PH_TOT_FLAG_W,PH_TMP,REFTMP,DELC13,DELC13_FLAG_W,DELC14,DELC14_FLAG_W,C14ERR,DELO18,DELO18_FLAG_W,POC,POC_FLAG_W,DOC,DOC_FLAG_W,TDN,TDN_FLAG_W,TON,TON_FLAG_W,D15N_NO3,D15N_NO3_FLAG_W,BTL_DATE,BTL_TIME,BTL_LAT,BTL_LON,14C-DOC,14C-DOC_FLAG_W,CHLORA,CHLORA_FLAG_W,HPLC,HPLC_FLAG_W,CDOM325,CDOM325_FLAG_W,CDOM340,CDOM340_FLAG_W,CDOM380,CDOM380_FLAG_W,CDOM412,CDOM412_FLAG_W,CDOM443,CDOM443_FLAG_W,CDOM490,CDOM490_FLAG_W,CDOM555,CDOM555_FLAG_W,CDOMSL,CDOMSL_FLAG_W,CDOMSN,CDOMSN_FLAG_W,D18O_NO3,D18O_NO3_FLAG_W,D15N_NO2+NO3,D15N_NO2+NO3_FLAG_W,D18O_NO2+NO3,D18O_NO2+NO3_FLAG_W
,,,,,,,,,,,METERS,DBAR,ITS-90,PSS-78,,PSS-78,,UMOL/KG,,UMOL/KG,,UMOL/KG,,UMOL/KG,,UMOL/KG,,UMOL/KG,,UMOL/KG,,PMOL/KG,,PMOL/KG,,PMOL/KG,,FMOL/KG,,UMOL/KG,,UMOL/KG,,,,DEG C,DEG C,/MILLE,,/MILLE,,/MILLE,/MILLE,,UG/KG,,UMOL/KG,,UMOL/KG,,UMOL/KG,,/MILLE,,,,,,/MILLE,,MG/M3,,,,1/M,,1/M,,1/M,,1/M,,1/M,,1/M,,1/M,,1/NM,,1/NM,,/MILLE,,/MILLE,,/MILLE,
33RR20160208,       I08S,      67,          1,          1,          1,2,20160307,       2205,   -36.4980,    95.0028,       4246,  4287.5,   1.0210,  34.7114,2,  34.7119,2,    207.8,2,   206.8,2,   119.8,2,    0.00,2,   32.10,2,    0.00,2,    2.21,2,   0.110,2,   0.058,2,  -0.001,2,         0.029,2,  2268.1,2, 2377.14,6,   7.6193,2,    25.04,   1.0211, -999.00,9,  -999.0,9,  -999.0, -999.00,9,-999.000,9,  -999.0,9, -999.00,9,     -999.0,9,    4.81,2, 20160307,     2205, -36.4980,  95.0028,     -999.0,9,     -999.0,9,     -999.0,9,-999.0000,9,-999.0000,9,-999.0000,9,-999.0000,9,-999.0000,9,-999.0000,9,-999.0000,9,     -999.0,9,     -999.0,9,       2.01,2,       4.81,2,       2.01,2
33RR20160208,       I08S,      67,          1,          2,          2,2,20160307,       2205,   -36.4980,    95.0028,       4246,  3915.4,   1.0150,  34.7131,2,  34.7127,2,    206.3,2,   207.1,2,   118.7,2,    0.00,2,   31.99,2,    0.00,2,    2.22,2,   0.109,2,   0.059,2,  -0.004,2,         0.019,2,  -999.0,9, -999.00,9,-999.0000,9,     9.00,   1.0153, -999.00,9,  -999.0,9,  -999.0, -999.00,9,-999.000,9,  -999.0,9, -999.00,9,     -999.0,9,    4.78,2, 20160307,     2213, -36.4980,  95.0028,     -999.0,9,     -999.0,9,     -999.0,9,-999.0000,9,-999.0000,9,-999.0000,9,-999.0000,9,-999.0000,9,-999.0000,9,-999.0000,9,     -999.0,9,     -999.0,9,       1.98,2,       4.78,2,       1.98,2
33RR20160208,       I08S,      67,          1,          3,          3,2,20160307,       2205,   -36.4980,    95.0028,       4246,  3552.0,   1.1114,  34.7190,2,  34.7180,2,    205.1,2,   206.2,2,   114.9,2,    0.00,2,   31.73,2,    0.00,2,    2.18,2,-999.000,9,-999.000,9,-999.000,9,-999.000000000,9,  -999.0,9, -999.00,9,-999.0000,9,  -999.00,   1.1116, -999.00,9,  -999.0,9,  -999.0, -999.00,9,-999.000,9,  -999.0,9, -999.00,9,     -999.0,9,    4.84,2, 20160307,     2220, -36.4979,  95.0028,     -999.0,9,     -999.0,9,     -999.0,9,-999.0000,9,-999.0000,9,-999.0000,9,-999.0000,9,-999.0000,9,-999.0000,9,-999.0000,9,     -999.0,9,     -999.0,9,        2.0,2,       4.84,2,        2.0,2
33RR20160208,       I08S,      67,          1,          4,          4,2,20160307,       2205,   -36.4980,    95.0028,       4246,  3195.8,   1.3246,  34.7295,2,  34.7290,2,    202.5,2,   203.4,2,   108.0,2,    0.00,2,   31.32,2,    0.00,2,    2.16,2,   0.083,2,   0.044,2,  -0.005,2,             0,2,  2255.2,2, 2365.20,2,   7.6134,2,    25.03,   1.3244, -999.00,9,  -999.0,9,  -999.0, -999.00,9,-999.000,9,  -999.0,9, -999.00,9,     -999.0,9,    4.87,2, 20160307,     2227, -36.4980,  95.0028,     -999.0,9,     -999.0,9,     -999.0,9,-999.0000,9,-999.0000,9,-999.0000,9,-999.0000,9,-999.0000,9,-999.0000,9,-999.0000,9,     -999.0,9,     -999.0,9,       1.95,2,       4.87,2,       1.95,2
33RR20160208,       I08S,      67,          1,          5,          5,2,20160307,       2205,   -36.4980,    95.0028,       4246,  2908.6,   1.5678,  34.7393,2,  34.7388,2,    199.3,2,   200.4,2,    99.9,2,    0.00,2,   30.99,2,    0.00,2,    2.13,2,-999.000,9,-999.000,9,-999.000,9,-999.000000000,9,  -999.0,9, -999.00,9,-999.0000,9,     9.00,   1.5679, -999.00,9,  -999.0,9,  -999.0, -999.00,9,-999.000,9,  -999.0,9, -999.00,9,     -999.0,9,    4.93,2, 20160307,     2233, -36.4979,  95.0028,     -999.0,9,     -999.0,9,     -999.0,9,-999.0000,9,-999.0000,9,-999.0000,9,-999.0000,9,-999.0000,9,-999.0000,9,-999.0000,9,     -999.0,9,     -999.0,9,       1.89,2,       4.93,2,       1.89,2
33RR20160208,       I08S,      67,          1,          6,         38,2,20160307,       2205,   -36.4980,    95.0028,       4246,  2663.6,   1.8772,  34.7464,2,  34.7461,2,    195.8,2,   195.5,2,    91.0,2,    0.00,2,   30.64,2,    0.00,2,    2.12,2,   0.055,2,   0.037,2,  -0.006,2,         0.017,2,  -999.0,9, -999.00,9,-999.0000,9,  -999.00,   1.8777, -999.00,9,  -999.0,9,  -999.0, -999.00,9,-999.000,9,  -999.0,9, -999.00,9,     -999.0,9,    4.95,2, 20160307,     2238, -36.4980,  95.0028,     -999.0,9,     -999.0,9,     -999.0,9,-999.0000,9,-999.0000,9,-999.0000,9,-999.0000,9,-999.0000,9,-999.0000,9,-999.0000,9,     -999.0,9,     -999.0,9,       1.87,2,       4.95,2,       1.87,2
33RR20160208,       I08S,      67,          1,          7,          7,2,20160307,       2205,   -36.4980,    95.0028,       4246,  2415.6,   2.1345,  34.7390,2,  34.7386,2,    188.9,2,   189.9,2,    85.6,2,    0.00,2,   30.92,2,    0.00,2,    2.12,2,-999.000,9,-999.000,9,-999.000,9,-999.000000000,9,  -999.0,9, -999.00,9,-999.0000,9,  -999.00,   2.1349, -999.00,9,  -999.0,9,  -999.0, -999.00,9,-999.000,9,  -999.0,9, -999.00,9,     -999.0,9,    5.04,2, 20160307,     2244, -36.4979,  95.0028,     -999.0,9,     -999.0,9,     -999.0,9,-999.0000,9,-999.0000,9,-999.0000,9,-999.0000,9,-999.0000,9,-999.0000,9,-999.0000,9,     -999.0,9,     -999.0,9,       1.98,2,       5.04,2,       1.98,2
33RR20160208,       I08S,      67,          1,          8,          8,2,20160307,       2205,   -36.4980,    95.0028,       4246,  2158.8,   2.3711,  34.7110,2,  34.7100,2,    178.3,2,   179.5,2,    83.4,2,    0.00,2,   31.92,2,    0.00,2,    2.24,2,   0.082,2,   0.052,2,  -0.005,2,             0,2,  2254.5,2, 2354.78,2,   7.5920,2,    25.04,   2.3712, -999.00,9,  -999.0,9,  -999.0, -999.00,9,-999.000,9,  -999.0,9, -999.00,9,     -999.0,9,    5.15,2, 20160307,     2249, -36.4980,  95.0028,     -999.0,9,     -999.0,9,     -999.0,9,-999.0000,9,-999.0000,9,-999.0000,9,-999.0000,9,-999.0000,9,-999.0000,9,-999.0000,9,     -999.0,9,     -999.0,9,       2.08,2,       5.15,2,       2.08,2
33RR20160208,       I08S,      67,          1,          9,          9,2,20160307,       2205,   -36.4980,    95.0028,       4246,  1936.4,   2.5768,  34.6675,2,  34.6678,2,    169.7,2,   170.9,2,    80.7,2,    0.00,2,   33.00,2,    0.00,2,    2.27,2,-999.000,9,-999.000,9,-999.000,9,-999.000000000,9,  -999.0,9, -999.00,9,-999.0000,9,  -999.00,   2.5761, -999.00,9,  -999.0,9,  -999.0, -999.00,9,-999.000,9,  -999.0,9, -999.00,9,     -999.0,9,    5.23,2, 20160307,     2253, -36.4980,  95.0028,     -999.0,9,     -999.0,9,     -999.0,9,-999.0000,9,-999.0000,9,-999.0000,9,-999.0000,9,-999.0000,9,-999.0000,9,-999.0000,9,     -999.0,9,     -999.0,9,       2.16,2,       5.23,2,       2.16,2
33RR20160208,       I08S,      67,          1,         10,         10,2,20160307,       2205,   -36.4980,    95.0028,       4246,  1771.1,   2.7399,  34.6256,2,  34.6256,2,    165.4,2,   165.4,2,    78.0,2,    0.00,2,   33.75,2,    0.00,2,    2.35,2,   0.175,2,   0.111,2,  -0.001,2,         0.088,2,  -999.0,9, -999.00,9,-999.0000,9,  -999.00,   2.7410, -999.00,9,  -999.0,9,  -999.0, -999.00,9,-999.000,9,  -999.0,9, -999.00,9,     -999.0,9,    5.32,2, 20160307,     2257, -36.4980,  95.0028,     -999.0,9,     -999.0,9,     -999.0,9,-999.0000,9,-999.0000,9,-999.0000,9,-999.0000,9,-999.0000,9,-999.0000,9,-999.0000,9,     -999.0,9,     -999.0,9,       2.17,2,       5.32,2,       2.17,2
33RR20160208,       I08S,      67,          1,         11,         11,2,20160307,       2205,   -36.4980,    95.0028,       4246,  1667.9,   2.8400,  34.5909,2,  34.5907,2,    165.3,2,   164.7,2,    73.9,2,    0.00,2,   33.97,2,    0.00,2,    2.35,2,   0.253,2,   0.175,2,   0.002,2,         0.112,2,  -999.0,9, -999.00,9,-999.0000,9,     9.00,   2.8403, -999.00,9,  -999.0,9,  -999.0, -999.00,9,-999.000,9,  -999.0,9, -999.00,9,     -999.0,9,    5.34,2, 20160307,     2300, -36.4980,  95.0028,     -999.0,9,     -999.0,9,     -999.0,9,-999.0000,9,-999.0000,9,-999.0000,9,-999.0000,9,-999.0000,9,-999.0000,9,-999.0000,9,     -999.0,9,     -999.0,9,       2.16,2,       5.34,2,       2.16,2
33RR20160208,       I08S,      67,          1,         12,         12,2,20160307,       2205,   -36.4980,    95.0028,       4246,  1565.4,   2.9692,  34.5529,2,  34.5522,2,    168.8,2,   165.2,2,    70.1,2,    0.00,2,   34.21,2,    0.00,2,    2.36,2,   0.350,2,   0.184,2,   0.006,2,          0.12,2,  2251.0,2, 2338.00,2,   7.5597,6,    25.04,   2.9694, -999.00,9,  -999.0,9,  -999.0, -999.00,9,-999.000,9,  -999.0,9, -999.00,9,     -999.0,9,     5.4,2, 20160307,     2303, -36.4980,  95.0028,     -999.0,9,     -999.0,9,     -999.0,9,-999.0000,9,-999.0000,9,-999.0000,9,-999.0000,9,-999.0000,9,-999.0000,9,-999.0000,9,     -999.0,9,     -999.0,9,       2.29,2,        5.4,2,       2.29,2
33RR20160208,       I08S,      67,          1,         13,         13,2,20160307,       2205,   -36.4980,    95.0028,       4246,  1463.2,   3.1814,  34.5057,2,  34.5072,2,    168.5,2,   167.7,2,    64.7,2,    0.00,2,   34.25,2,    0.00,2,    2.36,2,   0.537,2,   0.294,2,   0.019,2,         0.199,2,  -999.0,9, -999.00,9,-999.0000,9,  -999.00,   3.1820, -999.00,9,  -999.0,9,  -999.0, -999.00,9,-999.000,9,  -999.0,9, -999.00,9,     -999.0,9,    5.46,2, 20160307,     2306, -36.4980,  95.0028,     -999.0,9,     -999.0,9,     -999.0,9,-999.0000,9,-999.0000,9,-999.0000,9,-999.0000,9,-999.0000,9,-999.0000,9,-999.0000,9,     -999.0,9,     -999.0,9,       2.38,2,       5.46,2,       2.38,2
33RR20160208,       I08S,      67,          1,         14,         14,2,20160307,       2205,   -36.4980,    95.0028,       4246,  1368.5,   3.3304,  34.4546,2,  34.4556,2,    176.5,2,   176.1,2,    57.1,2,    0.00,2,   33.79,2,    0.00,2,    2.34,2,   0.852,2,   0.441,2,   0.035,2,         0.268,2,  -999.0,9, -999.00,9,-999.0000,9,     9.00,   3.3308, -999.00,9,  -999.0,9,  -999.0, -999.00,9,-999.000,9,  -999.0,9, -999.00,9,     -999.0,9,    5.54,2, 20160307,     2308, -36.4981,  95.0029,     -999.0,9,     -999.0,9,     -999.0,9,-999.0000,9,-999.0000,9,-999.0000,9,-999.0000,9,-999.0000,9,-999.0000,9,-999.0000,9,     -999.0,9,     -999.0,9,       2.38,2,       5.54,2,       2.38,2
33RR20160208,       I08S,      67,          1,         15,         15,2,20160307,       2205,   -36.4980,    95.0028,       4246,  1266.7,   3.6511,  34.4031,2,  34.4036,2,    185.9,2,   185.3,2,    48.2,2,    0.00,2,   33.02,2,    0.00,2,    2.30,2,   1.244,2,   0.622,2,   0.059,2,         0.291,2,  -999.0,9, -999.00,9,-999.0000,9,  -999.00,   3.6504, -999.00,9,  -999.0,9,  -999.0, -999.00,9,-999.000,9,  -999.0,9, -999.00,9,     -999.0,9,    5.61,2, 20160307,     2311, -36.4980,  95.0029,     -999.0,9,     -999.0,9,     -999.0,9,-999.0000,9,-999.0000,9,-999.0000,9,-999.0000,9,-999.0000,9,-999.0000,9,-999.0000,9,     -999.0,9,     -999.0,9,       2.38,2,       5.61,2,       2.38,2
33RR20160208,       I08S,      67,          1,         16,         16,2,20160307,       2205,   -36.4980,    95.0028,       4246,  1165.6,   4.0178,  34.3700,2,  34.3701,2,    194.8,2,   194.0,2,    40.1,2,    0.00,2,   31.98,2,    0.00,2,    2.20,2,   1.620,2,   0.799,2,   0.081,2,         0.309,2,  -999.0,9, -999.00,9,-999.0000,9,  -999.00,   4.0176, -999.00,9,  -999.0,9,  -999.0, -999.00,9,-999.000,9,  -999.0,9, -999.00,9,     -999.0,9,    5.68,2, 20160307,     2314, -36.4981,  95.0029,     -999.0,9,     -999.0,9,     -999.0,9,-999.0000,9,-999.0000,9,-999.0000,9,-999.0000,9,-999.0000,9,-999.0000,9,-999.0000,9,     -999.0,9,     -999.0,9,       2.51,2,       5.68,2,       2.51,2
33RR20160208,       I08S,      67,          1,         17,         17,2,20160307,       2205,   -36.4980,    95.0028,       4246,  1066.2,   4.6525,  34.3516,2,  34.3509,2,    202.0,2,   201.2,2,    30.5,2,    0.00,2,   30.45,2,    0.00,2,    2.06,2,   2.005,2,   0.994,2,   0.100,2,         0.425,2,  -999.0,9, -999.00,9,-999.0000,9,     9.00,   4.6543, -999.00,9,  -999.0,9,  -999.0, -999.00,9,-999.000,9,  -999.0,9, -999.00,9,     -999.0,9,    5.79,2, 20160307,     2317, -36.4980,  95.0029,     -999.0,9,     -999.0,9,     -999.0,9,-999.0000,9,-999.0000,9,-999.0000,9,-999.0000,9,-999.0000,9,-999.0000,9,-999.0000,9,     -999.0,9,     -999.0,9,       2.62,2,       5.79,2,       2.62,2
33RR20160208,       I08S,      67,          1,         18,         37,2,20160307,       2205,   -36.4980,    95.0028,       4246,   967.0,   5.6369,  34.3758,2,  34.3770,2,    204.8,2,   204.7,2,    21.6,2,    0.00,2,   28.27,2,    0.00,2,    1.92,2,   2.420,2,   1.237,2,   0.109,2,         0.617,2,  -999.0,9, -999.00,9,-999.0000,9,  -999.00,   5.6392, -999.00,9,  -999.0,9,  -999.0, -999.00,9,-999.000,9,  -999.0,9, -999.00,9,     -999.0,9,    5.93,2, 20160307,     2319, -36.4981,  95.0029,     -999.0,9,     -999.0,9,     -999.0,9,-999.0000,9,-999.0000,9,-999.0000,9,-999.0000,9,-999.0000,9,-999.0000,9,-999.0000,9,     -999.0,9,     -999.0,9,        2.6,2,       5.93,2,        2.6,2
33RR20160208,       I08S,      67,          1,         19,         19,2,20160307,       2205,   -36.4980,    95.0028,       4246,   865.5,   6.9761,  34.4594,2,  34.4597,2,    204.7,2,   203.8,2,    15.7,2,    0.00,2,   25.35,2,    0.00,2,    1.72,2,   2.595,2,   1.344,2,   0.095,2,         0.696,2,  2166.6,2, 2290.00,2,   7.6683,2,    25.05,   6.9725, -999.00,9,  -999.0,9,  -999.0, -999.00,9,-999.000,9,  -999.0,9, -999.00,9,     -999.0,9,    6.14,2, 20160307,     2322, -36.4980,  95.0028,     -999.0,9,     -999.0,9,     -999.0,9,-999.0000,9,-999.0000,9,-999.0000,9,-999.0000,9,-999.0000,9,-999.0000,9,-999.0000,9,     -999.0,9,     -999.0,9,       2.87,2,       6.14,2,       2.87,2
33RR20160208,       I08S,      67,          1,         20,         20,2,20160307,       2205,   -36.4980,    95.0028,       4246,   766.2,   8.2915,  34.5634,2,  34.5618,2,    218.5,2,   216.6,2,     9.3,2,    0.00,2,   21.14,2,    0.00,2,    1.43,2,   3.055,2,   1.656,2,   0.112,2,         0.998,2,  -999.0,9, -999.00,9,-999.0000,9,     9.00,   8.2943, -999.00,9,  -999.0,9,  -999.0, -999.00,9,-999.000,9,  -999.0,9, -999.00,9,     -999.0,9,    6.27,2, 20160307,     2325, -36.4981,  95.0029,     -999.0,9,     -999.0,9,     -999.0,9,-999.0000,9,-999.0000,9,-999.0000,9,-999.0000,9,-999.0000,9,-999.0000,9,-999.0000,9,     -999.0,9,     -999.0,9,        3.1,2,       6.27,2,        3.1,2
33RR20160208,       I08S,      67,          1,         21,         21,2,20160307,       2205,   -36.4980,    95.0028,       4246,   664.9,   9.2085,  34.6551,2,  34.6548,2,    234.8,2,   236.4,2,     4.9,2,    0.00,2,   17.05,2,    0.00,2,    1.19,2,   3.258,2,   1.854,2,   0.129,2,          1.29,2,  -999.0,9, -999.00,9,-999.0000,9,  -999.00,   9.2095, -999.00,9,  -999.0,9,  -999.0, -999.00,9,-999.000,9,  -999.0,9, -999.00,9,     -999.0,9,    6.69,2, 20160307,     2328, -36.4981,  95.0029,     -999.0,9,     -999.0,9,     -999.0,9,-999.0000,9,-999.0000,9,-999.0000,9,-999.0000,9,-999.0000,9,-999.0000,9,-999.0000,9,     -999.0,9,     -999.0,9,       3.81,2,       6.69,2,       3.81,2
33RR20160208,       I08S,      67,          1,         22,         22,2,20160307,       2205,   -36.4980,    95.0028,       4246,   563.1,   9.8384,  34.7388,2,  34.7398,2,    242.5,2,   243.4,2,     4.2,2,    0.00,2,   14.66,2,    0.00,2,    1.04,2,   3.221,2,   1.855,2,   0.138,2,          1.49,2,  -999.0,9, -999.00,9,-999.0000,9,  -999.00,   9.8466, -999.00,9,  -999.0,9,  -999.0, -999.00,9,-999.000,9,  -999.0,9, -999.00,9,     -999.0,9,    6.84,2, 20160307,     2330, -36.4981,  95.0029,     -999.0,9,     -999.0,9,     -999.0,9,-999.0000,9,-999.0000,9,-999.0000,9,-999.0000,9,-999.0000,9,-999.0000,9,-999.0000,9,     -999.0,9,     -999.0,9,       4.28,2,       6.84,2,       4.28,2
33RR20160208,       I08S,      67,          1,         23,         23,2,20160307,       2205,   -36.4980,    95.0028,       4246,   484.8,  10.2900,  34.8041,2,  34.8030,2,    245.0,2,   246.3,2,     3.6,2,    0.00,2,   13.13,2,    0.00,2,    0.95,2,-999.000,9,-999.000,9,-999.000,9,-999.000000000,9,  -999.0,9, -999.00,9,-999.0000,9,     9.00,  10.2884, -999.00,9,  -999.0,9,  -999.0, -999.00,9,-999.000,9,  -999.0,9, -999.00,9,     -999.0,9,    7.01,2, 20160307,     2333, -36.4981,  95.0029,     -999.0,9,     -999.0,9,     -999.0,9,-999.0000,9,-999.0000,9,-999.0000,9,-999.0000,9,-999.0000,9,-999.0000,9,-999.0000,9,     -999.0,9,     -999.0,9,        4.5,2,       7.01,2,        4.5,2
33RR20160208,       I08S,      67,          1,         24,         24,2,20160307,       2205,   -36.4980,    95.0028,       4246,   433.4,  10.5175,  34.8384,2,  34.8397,2,    245.8,2,   246.9,2,     3.4,2,    0.00,2,   12.45,2,    0.00,2,    0.90,2,   3.094,2,   1.835,2,   0.139,2,         1.629,2,  2120.9,2, 2301.52,2,   7.8048,6,    25.04,  10.5195, -999.00,9,  -999.0,9,  -999.0, -999.00,9,-999.000,9,  -999.0,9, -999.00,9,     -999.0,9,    7.11,2, 20160307,     2335, -36.4981,  95.0029,     -999.0,9,     -999.0,9,     -999.0,9,-999.0000,9,-999.0000,9,-999.0000,9,-999.0000,9,-999.0000,9,-999.0000,9,-999.0000,9,     -999.0,9,     -999.0,9,       4.72,2,       7.11,2,       4.72,2
33RR20160208,       I08S,      67,          1,         25,         25,2,20160307,       2205,   -36.4980,    95.0028,       4246,   385.4,  10.7546,  34.8746,2,  34.8725,2,    246.0,2,   246.8,2,     3.3,2,    0.00,2,   11.52,2,    0.00,2,    0.83,2,-999.000,9,-999.000,9,-999.000,9,-999.000000000,9,  -999.0,9, -999.00,9,-999.0000,9,  -999.00,  10.7493, -999.00,9,  -999.0,9,  -999.0, -999.00,9,-999.000,9,  -999.0,9, -999.00,9,     -999.0,9,    7.12,2, 20160307,     2336, -36.4981,  95.0029,     -999.0,9,     -999.0,9,     -999.0,9,-999.0000,9,-999.0000,9,-999.0000,9,-999.0000,9,-999.0000,9,-999.0000,9,-999.0000,9,     -999.0,9,     -999.0,9,       4.73,2,       7.12,2,       4.73,2
33RR20160208,       I08S,      67,          1,         26,         26,2,20160307,       2205,   -36.4980,    95.0028,       4246,   336.3,  10.9719,  34.9079,2,  34.9085,2,    245.4,2,   245.6,2,     3.4,2,    0.00,2,   11.98,2,    0.00,2,    0.86,2,   3.054,2,   1.790,2,   0.139,2,         1.704,2,  -999.0,9, -999.00,9,-999.0000,9,     9.00,  10.9715, -999.00,9,  -999.0,9,  -999.0, -999.00,9,-999.000,9,  -999.0,9, -999.00,9,     -999.0,9,    7.09,2, 20160307,     2340, -36.4981,  95.0028,     -999.0,9,     -999.0,9,     -999.0,9,-999.0000,9,-999.0000,9,-999.0000,9,-999.0000,9,-999.0000,9,-999.0000,9,-999.0000,9,     -999.0,9,     -999.0,9,       4.68,2,       7.09,2,       4.68,2
33RR20160208,       I08S,      67,          1,         27,         27,2,20160307,       2205,   -36.4980,    95.0028,       4246,   286.0,  11.2496,  34.9423,2,  34.9422,2,    243.0,2,   243.6,2,     2.7,2,    0.00,2,   10.74,2,    0.00,2,    0.79,2,-999.000,9,-999.000,9,-999.000,9,-999.000000000,9,  -999.0,9, -999.00,9,-999.0000,9,  -999.00,  11.2478, -999.00,9,  -999.0,9,  -999.0, -999.00,9,-999.000,9,  -999.0,9, -999.00,9,     -999.0,9,    7.33,2, 20160307,     2342, -36.4981,  95.0029,     -999.0,9,     -999.0,9,     -999.0,9,-999.0000,9,-999.0000,9,-999.0000,9,-999.0000,9,-999.0000,9,-999.0000,9,-999.0000,9,     -999.0,9,     -999.0,9,        5.0,2,       7.33,2,        5.0,2