BOTTLE,20220706CCHSIOAMB
EXPOCODE,SECT_ID,STNNBR,CASTNO,SAMPNO,BTLNBR,BTLNBR_FLAG_W,DATE,TIME,LATITUDE,LONGITUDE,DEPTH,CTDPRS,CTDTMP,CTDSAL,CTDSAL_FLAG_W,SALNTY,SALNTY_FLAG_W,CTDOXY,CTDOXY_FLAG_W,OXYGEN,OXYGEN_FLAG_W,SILCAT,SILCAT_FLAG_W,NH4,NH4_FLAG_W,NITRAT,NITRAT_FLAG_W,NITRIT,NITRIT_FLAG_W,PHSPHT,PHSPHT_FLAG_W,CFC-11,CFC-11_FLAG_W,CFC-12,CFC-12_FLAG_W,CFC113,CFC113_FLAG_W,SF6,SF6_FLAG_W,TCARBN,TCARBN_FLAG_W,ALKALI,ALKALI_FLAG_W,PH_TOT,PH_TOT_FLAG_W,PH_TMP,REFTMP,DELC13,DELC13_FLAG_W,DELC14,DELC14_FLAG_W,C14ERR,DELO18,DELO18_FLAG_W,POC,POC_FLAG_W,DOC,DOC_FLAG_W,TDN,TDN_FLAG_W,TON,TON_FLAG_W,D15N_NO3,D15N_NO3_FLAG_W,BTL_DATE,BTL_TIME,BTL_LAT,BTL_LON,14C-DOC,14C-DOC_FLAG_W,CHLORA,CHLORA_FLAG_W,HPLC,HPLC_FLAG_W,CDOM325,CDOM325_FLAG_W,CDOM340,CDOM340_FLAG_W,CDOM380,CDOM380_FLAG_W,CDOM412,CDOM412_FLAG_W,CDOM443,CDOM443_FLAG_W,CDOM490,CDOM490_FLAG_W,CDOM555,CDOM555_FLAG_W,CDOMSL,CDOMSL_FLAG_W,CDOMSN,CDOMSN_FLAG_W,D18O_NO3,D18O_NO3_FLAG_W,D15N_NO2+NO3,D15N_NO2+NO3_FLAG_W,D18O_NO2+NO3,D18O_NO2+NO3_FLAG_W
,,,,,,,,,,,METERS,DBAR,ITS-90,PSS-78,,PSS-78,,UMOL/KG,,UMOL/KG,,UMOL/KG,,UMOL/KG,,UMOL/KG,,UMOL/KG,,UMOL/KG,,PMOL/KG,,PMOL/KG,,PMOL/KG,,FMOL/KG,,UMOL/KG,,UMOL/KG,,,,DEG C,DEG C,/MILLE,,/MILLE,,/MILLE,/MILLE,,UG/KG,,UMOL/KG,,UMOL/KG,,UMOL/KG,,/MILLE,,,,,,/MILLE,,MG/M3,,,,1/M,,1/M,,1/M,,1/M,,1/M,,1/M,,1/M,,1/NM,,1/NM,,/MILLE,,/MILLE,,/MILLE,
33RR20160208,       I08S,      65,          2,          1,          1,2,20160307,       1023,   -37.4941,    94.9880,       4299,  4309.1,   1.0282,  34.7117,2,  34.7121,2,    206.6,2,   206.3,2,   120.5,2,    0.00,2,   32.18,2,    0.00,2,    2.20,2,   0.112,2,   0.067,2,   0.000,2,   0.030796632,2,  2269.4,6, 2376.56,2,   7.6189,6,    25.00,   1.0282, -999.00,9,  -999.0,9,  -999.0, -999.00,9,-999.000,9,  -999.0,9, -999.00,9,     -999.0,9, -999.00,9, 20160307,     1023, -37.4941,  94.9880,     -999.0,9,     -999.0,9,     -999.0,9,   0.1025,2,   0.0654,2,   0.0309,2,   0.0176,2,   0.0081,2,   0.0002,4,  -0.0016,4,     0.0204,2,     0.0229,2,     -999.0,9,     -999.0,9,     -999.0,9
33RR20160208,       I08S,      65,          2,          2,          2,2,20160307,       1023,   -37.4941,    94.9880,       4299,  3945.6,   1.0111,  34.7128,2,  34.7133,2,    205.4,2,   207.2,2,   119.6,2,    0.00,2,   32.13,2,    0.00,2,    2.21,2,   0.101,2,   0.069,2,   0.000,2,             0,2,  -999.0,9, -999.00,9,-999.0000,9,     9.00,   1.0113, -999.00,9,  -999.0,9,  -999.0, -999.00,9,-999.000,9,  -999.0,9, -999.00,9,     -999.0,9, -999.00,9, 20160307,     1030, -37.4941,  94.9880,     -999.0,9,     -999.0,9,     -999.0,9,-999.0000,9,-999.0000,9,-999.0000,9,-999.0000,9,-999.0000,9,-999.0000,9,-999.0000,9,     -999.0,9,     -999.0,9,     -999.0,9,     -999.0,9,     -999.0,9
33RR20160208,       I08S,      65,          2,          3,          3,2,20160307,       1023,   -37.4941,    94.9880,       4299,  3596.9,   1.0647,  34.7168,2,  34.7178,2,    205.8,2,   207.0,2,   116.9,2,    0.00,2,   31.90,2,    0.00,2,    2.18,2,   0.132,2,   0.079,2,   0.000,2,   0.030796632,2,  -999.0,9, -999.00,9,-999.0000,9,  -999.00,   1.0650, -999.00,9,  -999.0,9,  -999.0, -999.00,9,-999.000,9,  -999.0,9, -999.00,9,     -999.0,9, -999.00,9, 20160307,     1037, -37.4941,  94.9880,     -999.0,9,     -999.0,9,     -999.0,9,-999.0000,9,-999.0000,9,-999.0000,9,-999.0000,9,-999.0000,9,-999.0000,9,-999.0000,9,     -999.0,9,     -999.0,9,     -999.0,9,     -999.0,9,     -999.0,9
33RR20160208,       I08S,      65,          2,          4,          4,2,20160307,       1023,   -37.4941,    94.9880,       4299,  3295.0,   1.2235,  34.7249,2,  34.7257,2,    204.3,2,   204.5,2,   111.4,2,    0.00,2,   31.49,2,    0.00,2,    2.16,2,   0.125,2,   0.083,2,   0.000,2,   0.073911917,2,  -999.0,9, -999.00,9,-999.0000,9,  -999.00,   1.2236, -999.00,9,  -999.0,9,  -999.0, -999.00,9,-999.000,9,  -999.0,9, -999.00,9,     -999.0,9, -999.00,9, 20160307,     1044, -37.4941,  94.9880,     -999.0,9,     -999.0,9,     -999.0,9,-999.0000,9,-999.0000,9,-999.0000,9,-999.0000,9,-999.0000,9,-999.0000,9,-999.0000,9,     -999.0,9,     -999.0,9,     -999.0,9,     -999.0,9,     -999.0,9
33RR20160208,       I08S,      65,          2,          5,          5,2,20160307,       1023,   -37.4941,    94.9880,       4299,  2998.1,   1.4730,  34.7361,2,  34.7368,2,    201.6,2,   203.1,2,   103.4,2,    0.00,2,   31.04,2,    0.00,2,    2.13,2,-999.000,9,-999.000,9,-999.000,9,-999.000000000,9,  -999.0,9, -999.00,9,-999.0000,9,     9.00,   1.4727, -999.00,9,  -999.0,9,  -999.0, -999.00,9,-999.000,9,  -999.0,9, -999.00,9,     -999.0,9, -999.00,9, 20160307,     1050, -37.4941,  94.9880,     -999.0,9,     -999.0,9,     -999.0,9,   0.1036,2,   0.0653,2,   0.0288,2,   0.0175,2,   0.0080,2,   0.0001,4,  -0.0018,4,     0.0216,2,     0.0244,2,     -999.0,9,     -999.0,9,     -999.0,9
33RR20160208,       I08S,      65,          2,          6,         38,2,20160307,       1023,   -37.4941,    94.9880,       4299,  2747.7,   1.7616,  34.7455,2,  34.7471,2,    198.2,2,   198.3,2,    94.1,2,    0.00,2,   30.62,2,    0.00,2,    2.09,2,   0.066,2,   0.048,2,   0.000,2,             0,2,  2251.7,2, 2357.60,2,   7.6153,2,    25.03,   1.7618, -999.00,9,  -999.0,9,  -999.0, -999.00,9,-999.000,9,  -999.0,9, -999.00,9,     -999.0,9, -999.00,9, 20160307,     1055, -37.4941,  94.9880,     -999.0,9,     -999.0,9,     -999.0,9,-999.0000,9,-999.0000,9,-999.0000,9,-999.0000,9,-999.0000,9,-999.0000,9,-999.0000,9,     -999.0,9,     -999.0,9,     -999.0,9,     -999.0,9,     -999.0,9
33RR20160208,       I08S,      65,          2,          7,          7,2,20160307,       1023,   -37.4941,    94.9880,       4299,  2500.3,   2.0657,  34.7442,2,  34.7449,2,    193.2,2,   192.0,2,    86.4,2,    0.00,2,   30.62,2,    0.00,2,    2.12,2,-999.000,9,-999.000,9,-999.000,9,-999.000000000,9,  -999.0,9, -999.00,9,-999.0000,9,  -999.00,   2.0658, -999.00,9,  -999.0,9,  -999.0, -999.00,9,-999.000,9,  -999.0,9, -999.00,9,     -999.0,9, -999.00,9, 20160307,     1100, -37.4941,  94.9880,     -999.0,9,     -999.0,9,     -999.0,9,-999.0000,9,-999.0000,9,-999.0000,9,-999.0000,9,-999.0000,9,-999.0000,9,-999.0000,9,     -999.0,9,     -999.0,9,     -999.0,9,     -999.0,9,     -999.0,9
33RR20160208,       I08S,      65,          2,          8,          8,2,20160307,       1023,   -37.4941,    94.9880,       4299,  2248.9,   2.2801,  34.7265,2,  34.7272,2,    182.0,2,   185.3,2,    82.9,2,    0.00,2,   31.21,2,    0.00,2,    2.16,2,   0.087,2,   0.069,2,   0.000,2,   0.050301166,2,  -999.0,9, -999.00,9,-999.0000,9,     9.00,   2.2800, -999.00,9,  -999.0,9,  -999.0, -999.00,9,-999.000,9,  -999.0,9, -999.00,9,     -999.0,9, -999.00,9, 20160307,     1106, -37.4941,  94.9880,     -999.0,9,     -999.0,9,     -999.0,9,-999.0000,9,-999.0000,9,-999.0000,9,-999.0000,9,-999.0000,9,-999.0000,9,-999.0000,9,     -999.0,9,     -999.0,9,     -999.0,9,     -999.0,9,     -999.0,9
33RR20160208,       I08S,      65,          2,          9,          9,2,20160307,       1023,   -37.4941,    94.9880,       4299,  1999.1,   2.4992,  34.6856,2,  34.6856,2,    173.5,2,   173.6,2,    82.3,2,    0.00,2,   32.66,2,    0.00,2,    2.25,2,-999.000,9,-999.000,9,-999.000,9,-999.000000000,9,  -999.0,9, -999.00,9,-999.0000,9,  -999.00,   2.4992, -999.00,9,  -999.0,9,  -999.0, -999.00,9,-999.000,9,  -999.0,9, -999.00,9,     -999.0,9, -999.00,9, 20160307,     1111, -37.4941,  94.9880,     -999.0,9,     -999.0,9,     -999.0,9,-999.0000,5,-999.0000,5,-999.0000,5,-999.0000,5,-999.0000,5,-999.0000,5,-999.0000,5,     -999.0,5,     -999.0,5,     -999.0,9,     -999.0,9,     -999.0,9
33RR20160208,       I08S,      65,          2,         10,         10,2,20160307,       1023,   -37.4941,    94.9880,       4299,  1799.9,   2.7131,  34.6299,2,  34.6299,2,    167.3,2,   167.8,2,    78.0,2,    0.00,2,   33.64,2,    0.00,2,    2.32,2,   0.178,2,   0.120,2,   0.000,2,   0.010265544,2,  -999.0,9, -999.00,9,-999.0000,9,  -999.00,   2.7134, -999.00,9,  -999.0,9,  -999.0, -999.00,9,-999.000,9,  -999.0,9, -999.00,9,     -999.0,9, -999.00,9, 20160307,     1115, -37.4941,  94.9881,     -999.0,9,     -999.0,9,     -999.0,9,-999.0000,9,-999.0000,9,-999.0000,9,-999.0000,9,-999.0000,9,-999.0000,9,-999.0000,9,     -999.0,9,     -999.0,9,     -999.0,9,     -999.0,9,     -999.0,9
33RR20160208,       I08S,      65,          2,         11,         11,2,20160307,       1023,   -37.4941,    94.9880,       4299,  1700.6,   2.8340,  34.5897,2,  34.5903,2,    166.6,2,   166.3,2,    74.1,2,    0.00,2,   34.01,2,    0.00,2,    2.35,2,   0.263,2,   0.154,2,   0.004,2,   0.021557642,2,  2255.5,2, 2342.23,2,   7.5623,6,    25.01,   2.8335, -999.00,9,  -999.0,9,  -999.0, -999.00,9,-999.000,9,  -999.0,9, -999.00,9,     -999.0,9, -999.00,9, 20160307,     1118, -37.4941,  94.9880,     -999.0,9,     -999.0,9,     -999.0,9,-999.0000,9,-999.0000,9,-999.0000,9,-999.0000,9,-999.0000,9,-999.0000,9,-999.0000,9,     -999.0,9,     -999.0,9,     -999.0,9,     -999.0,9,     -999.0,9
33RR20160208,       I08S,      65,          2,         12,         12,2,20160307,       1023,   -37.4941,    94.9880,       4299,  1600.1,   2.9689,  34.5488,2,  34.5487,2,    167.0,2,   167.3,2,    69.7,2,    0.00,2,   34.23,2,    0.00,2,    2.35,2,   0.391,2,   0.213,2,   0.011,2,   0.126266192,2,  -999.0,9, -999.00,9,-999.0000,9,  -999.00,   2.9705, -999.00,9,  -999.0,9,  -999.0, -999.00,9,-999.000,9,  -999.0,9, -999.00,9,     -999.0,9, -999.00,9, 20160307,     1121, -37.4941,  94.9880,     -999.0,9,     -999.0,9,     -999.0,9,-999.0000,9,-999.0000,9,-999.0000,9,-999.0000,9,-999.0000,9,-999.0000,9,-999.0000,9,     -999.0,9,     -999.0,9,     -999.0,9,     -999.0,9,     -999.0,9
33RR20160208,       I08S,      65,          2,         13,         13,2,20160307,       1023,   -37.4941,    94.9880,       4299,  1500.6,   3.1805,  34.5014,2,  34.5017,2,    169.0,2,   168.8,2,    64.5,2,    0.00,2,   34.26,2,    0.00,2,    2.37,2,   0.540,2,   0.289,2,   0.018,2,   0.206337435,2,  -999.0,9, -999.00,9,-999.0000,9,  -999.00,   3.1810, -999.00,9,  -999.0,9,  -999.0, -999.00,9,-999.000,9,  -999.0,9, -999.00,9,     -999.0,9, -999.00,9, 20160307,     1124, -37.4941,  94.9880,     -999.0,9,     -999.0,9,     -999.0,9,   0.1024,2,   0.0667,2,   0.0356,2,   0.0200,2,   0.0097,2,   0.0008,3,  -0.0015,4,     0.0181,2,     0.0201,2,     -999.0,9,     -999.0,9,     -999.0,9
33RR20160208,       I08S,      65,          2,         14,         14,2,20160307,       1023,   -37.4941,    94.9880,       4299,  1399.9,   3.3956,  34.4580,2,  34.4579,2,    174.8,2,   174.4,2,    58.0,2,    0.00,2,   33.97,2,    0.00,2,    2.32,2,   0.773,2,   0.401,2,   0.032,2,   0.203257772,2,  -999.0,9, -999.00,9,-999.0000,9,     9.00,   3.3958, -999.00,9,  -999.0,9,  -999.0, -999.00,9,-999.000,9,  -999.0,9, -999.00,9,     -999.0,9, -999.00,9, 20160307,     1127, -37.4941,  94.9880,     -999.0,9,     -999.0,9,     -999.0,9,-999.0000,9,-999.0000,9,-999.0000,9,-999.0000,9,-999.0000,9,-999.0000,9,-999.0000,9,     -999.0,9,     -999.0,9,     -999.0,9,     -999.0,9,     -999.0,9
33RR20160208,       I08S,      65,          2,         15,         15,2,20160307,       1023,   -37.4941,    94.9880,       4299,  1300.0,   3.6430,  34.4050,2,  34.4048,2,    185.2,2,   186.4,2,    48.3,2,    0.00,2,   33.12,2,    0.00,2,    2.28,2,   1.222,2,   0.625,2,   0.063,2,   0.339789508,2,  -999.0,9, -999.00,9,-999.0000,9,  -999.00,   3.6459, -999.00,9,  -999.0,9,  -999.0, -999.00,9,-999.000,9,  -999.0,9, -999.00,9,     -999.0,9, -999.00,9, 20160307,     1129, -37.4941,  94.9880,     -999.0,9,     -999.0,9,     -999.0,9,-999.0000,9,-999.0000,9,-999.0000,9,-999.0000,9,-999.0000,9,-999.0000,9,-999.0000,9,     -999.0,9,     -999.0,9,     -999.0,9,     -999.0,9,     -999.0,9
33RR20160208,       I08S,      65,          2,         16,         16,2,20160307,       1023,   -37.4941,    94.9880,       4299,  1199.9,   3.9711,  34.3698,2,  34.3709,2,    196.1,2,   194.6,2,    40.4,2,    0.00,2,   32.12,2,    0.00,2,    2.20,2,   1.633,2,   0.833,2,   0.087,2,   0.367506477,2,  -999.0,9, -999.00,9,-999.0000,9,  -999.00,   3.9689, -999.00,9,  -999.0,9,  -999.0, -999.00,9,-999.000,9,  -999.0,9, -999.00,9,     -999.0,9, -999.00,9, 20160307,     1132, -37.4941,  94.9880,     -999.0,9,     -999.0,9,     -999.0,9,-999.0000,9,-999.0000,9,-999.0000,9,-999.0000,9,-999.0000,9,-999.0000,9,-999.0000,9,     -999.0,9,     -999.0,9,     -999.0,9,     -999.0,9,     -999.0,9
33RR20160208,       I08S,      65,          2,         17,         17,2,20160307,       1023,   -37.4941,    94.9880,       4299,  1099.3,   4.5823,  34.3509,2,  34.3513,2,    202.1,2,   201.3,2,    31.3,2,    0.00,2,   30.63,2,    0.00,2,    2.09,2,   2.016,2,   1.042,2,   0.108,2,   0.515330311,2,  -999.0,9, -999.00,9,-999.0000,9,     9.00,   4.5800, -999.00,9,  -999.0,9,  -999.0, -999.00,9,-999.000,9,  -999.0,9, -999.00,9,     -999.0,9, -999.00,9, 20160307,     1135, -37.4941,  94.9880,     -999.0,9,     -999.0,9,     -999.0,9,-999.0000,9,-999.0000,9,-999.0000,9,-999.0000,9,-999.0000,9,-999.0000,9,-999.0000,9,     -999.0,9,     -999.0,9,     -999.0,9,     -999.0,9,     -999.0,9
33RR20160208,       I08S,      65,          2,         18,         37,2,20160307,       1023,   -37.4941,    94.9880,       4299,  1000.9,   5.3304,  34.3648,2,  34.3664,2,    203.8,2,   203.7,2,    24.0,2,    0.00,2,   28.98,2,    0.00,2,    1.95,2,   2.316,2,   1.191,2,   0.118,2,   0.616959197,2,  2186.4,2, 2293.84,2,   7.6308,6,    25.02,   5.3382, -999.00,9,  -999.0,9,  -999.0, -999.00,9,-999.000,9,  -999.0,9, -999.00,9,     -999.0,9, -999.00,9, 20160307,     1138, -37.4941,  94.9880,     -999.0,9,     -999.0,9,     -999.0,9,   0.0752,2,   0.0442,2,   0.0180,2,   0.0110,2,   0.0046,2,  -0.0010,4,  -0.0022,4,     0.0236,2,     0.0281,2,     -999.0,9,     -999.0,9,     -999.0,9
33RR20160208,       I08S,      65,          2,         19,         19,2,20160307,       1023,   -37.4941,    94.9880,       4299,   900.3,   6.7245,  34.4426,2,  34.4428,2,    204.0,2,   204.0,2,    17.1,2,    0.00,2,   25.97,2,    0.00,2,    1.75,2,   2.543,2,   1.336,2,   0.102,2,   0.570764249,2,  -999.0,9, -999.00,9,-999.0000,9,  -999.00,   6.7268, -999.00,9,  -999.0,9,  -999.0, -999.00,9,-999.000,9,  -999.0,9, -999.00,9,     -999.0,9, -999.00,9, 20160307,     1141, -37.4941,  94.9880,     -999.0,9,     -999.0,9,     -999.0,9,-999.0000,9,-999.0000,9,-999.0000,9,-999.0000,9,-999.0000,9,-999.0000,9,-999.0000,9,     -999.0,9,     -999.0,9,     -999.0,9,     -999.0,9,     -999.0,9
33RR20160208,       I08S,      65,          2,         20,         20,2,20160307,       1023,   -37.4941,    94.9880,       4299,   800.7,   8.0489,  34.5401,2,  34.5409,2,    215.1,2,   213.7,2,    10.2,2,    0.00,2,   21.91,2,    0.00,2,    1.47,2,   2.953,2,   1.628,2,   0.114,2,   0.919792746,2,  -999.0,9, -999.00,9,-999.0000,9,     9.00,   8.0489, -999.00,9,  -999.0,9,  -999.0, -999.00,9,-999.000,9,  -999.0,9, -999.00,9,     -999.0,9, -999.00,9, 20160307,     1144, -37.4941,  94.9880,     -999.0,9,     -999.0,9,     -999.0,9,-999.0000,9,-999.0000,9,-999.0000,9,-999.0000,9,-999.0000,9,-999.0000,9,-999.0000,9,     -999.0,9,     -999.0,9,     -999.0,9,     -999.0,9,     -999.0,9
33RR20160208,       I08S,      65,          2,         21,         21,2,20160307,       1023,   -37.4941,    94.9880,       4299,   699.5,   9.0358,  34.6358,2,  34.6358,2,    232.0,2,   231.5,2,     5.7,2,    0.00,2,   17.95,2,    0.00,2,    1.22,2,   3.264,2,   1.862,2,   0.135,2,    1.42383096,2,  2139.1,2, 2291.76,6,   7.7486,2,    25.02,   9.0358, -999.00,9,  -999.0,9,  -999.0, -999.00,9,-999.000,9,  -999.0,9, -999.00,9,     -999.0,9, -999.00,9, 20160307,     1146, -37.4941,  94.9880,     -999.0,9,     -999.0,9,     -999.0,9,   0.0624,2,   0.0357,2,   0.0122,2,   0.0066,2,   0.0015,3,  -0.0024,4,  -0.0028,4,     0.0275,2,     0.0320,2,     -999.0,9,     -999.0,9,     -999.0,9
33RR20160208,       I08S,      65,          2,         22,         22,2,20160307,       1023,   -37.4941,    94.9880,       4299,   599.7,   9.7104,  34.7215,2,  34.7225,2,    242.4,2,   242.4,2,     4.1,2,    0.00,2,   15.08,2,    0.00,2,    1.05,2,   3.217,2,   1.885,2,   0.144,2,    1.54599093,2,  -999.0,9, -999.00,9,-999.0000,9,  -999.00,   9.7113, -999.00,9,  -999.0,9,  -999.0, -999.00,9,-999.000,9,  -999.0,9, -999.00,9,     -999.0,9, -999.00,9, 20160307,     1149, -37.4941,  94.9880,     -999.0,9,     -999.0,9,     -999.0,9,-999.0000,9,-999.0000,9,-999.0000,9,-999.0000,9,-999.0000,9,-999.0000,9,-999.0000,9,     -999.0,9,     -999.0,9,     -999.0,9,     -999.0,9,     -999.0,9
33RR20160208,       I08S,      65,          2,         23,         23,2,20160307,       1023,   -37.4941,    94.9880,       4299,   499.9,  10.1644,  34.7860,2,  34.7871,2,    246.2,2,   246.4,2,     3.6,2,    0.00,2,   13.44,2,    0.00,2,    0.96,2,   3.170,2,   1.880,2,   0.146,2,    1.61784974,2,  2125.1,2, 2298.68,2,   7.7943,6,    25.03,  10.1677, -999.00,9,  -999.0,9,  -999.0, -999.00,9,-999.000,9,  -999.0,9, -999.00,9,     -999.0,9, -999.00,9, 20160307,     1152, -37.4941,  94.9880,     -999.0,9,     -999.0,9,     -999.0,9,   0.0668,2,   0.0421,2,   0.0127,2,   0.0067,2,   0.0016,3,  -0.0024,4,  -0.0028,4,     0.0290,2,     0.0300,2,     -999.0,9,     -999.0,9,     -999.0,9
33RR20160208,       I08S,      65,          2,         24,         24,2,20160307,       1023,   -37.4941,    94.9880,       4299,   449.9,  10.3739,  34.8163,2,  34.8167,2,    246.9,2,   247.4,2,     3.2,2,    0.00,2,   12.68,2,    0.00,2,    0.92,2,-999.000,9,-999.000,9,-999.000,9,-999.000000000,9,  -999.0,9, -999.00,9,-999.0000,9,  -999.00,  10.3747, -999.00,9,  -999.0,9,  -999.0, -999.00,9,-999.000,9,  -999.0,9, -999.00,9,     -999.0,9, -999.00,9, 20160307,     1154, -37.4941,  94.9880,     -999.0,9,     -999.0,9,     -999.0,9,-999.0000,9,-999.0000,9,-999.0000,9,-999.0000,9,-999.0000,9,-999.0000,9,-999.0000,9,     -999.0,9,     -999.0,9,     -999.0,9,     -999.0,9,     -999.0,9
33RR20160208,       I08S,      65,          2,         25,         25,2,20160307,       1023,   -37.4941,    94.9880,       4299,   400.8,  10.6252,  34.8548,2,  34.8548,2,    246.2,2,   247.0,2,     3.2,2,    0.00,2,   12.21,2,    0.00,2,    0.88,2,   3.096,2,   1.847,2,   0.150,2,    1.73282383,2,  2123.7,2, 2301.93,2,   7.8050,6,    25.04,  10.6247, -999.00,9,  -999.0,9,  -999.0, -999.00,9,-999.000,9,  -999.0,9, -999.00,9,     -999.0,9, -999.00,9, 20160307,     1156, -37.4941,  94.9880,     -999.0,9,     -999.0,9,     -999.0,9,-999.0000,9,-999.0000,9,-999.0000,9,-999.0000,9,-999.0000,9,-999.0000,9,-999.0000,9,     -999.0,9,     -999.0,9,     -999.0,9,     -999.0,9,     -999.0,9
33RR20160208,       I08S,      65,          2,         26,         26,2,20160307,       1023,   -37.4941,    94.9880,       4299,   350.7,  10.8506,  34.8886,2,  34.8886,2,    245.6,2,   246.2,2,     3.1,2,    0.00,2,   11.67,2,    0.00,2,    0.84,2,-999.000,9,-999.000,9,-999.000,9,-999.000000000,9,  -999.0,9, -999.00,9,-999.0000,9,     9.00,  10.8527, -999.00,9,  -999.0,9,  -999.0, -999.00,9,-999.000,9,  -999.0,9, -999.00,9,     -999.0,9, -999.00,9, 20160307,     1159, -37.4941,  94.9880,     -999.0,9,     -999.0,9,     -999.0,9,   0.0551,2,   0.0316,2,   0.0110,2,   0.0053,2,   0.0005,4,  -0.0027,4,  -0.0028,4,     0.0275,2,     0.0317,2,     -999.0,9,     -999.0,9,     -999.0,9
33RR20160208,       I08S,      65,          2,         27,         27,2,20160307,       1023,   -37.4941,    94.9880,       4299,   299.5,  11.1070,  34.9273,2,  34.9273,2,    244.4,2,   244.2,2,     3.0,2,    0.00,2,   11.24,2,    0.00,2,    0.82,2,   3.022,2,   1.792,2,   0.144,2,    1.76464702,2,  2123.3,2, 2304.78,2,   7.8141,6,    25.02,  11.1076, -999.00,9,  -999.0,9,  -999.0, -999.00,9,-999.000,9,  -999.0,9, -999.00,9,     -999.0,9, -999.00,9, 20160307,     1201, -37.4941,  94.9880,     -999.0,9,     -999.0,9,     -999.0,9,-999.0000,9,-999.0000,9,-999.0000,9,-999.0000,9,-999.0000,9,-999.0000,9,-999.0000,9,     -999.0,9,     -999.0,9,     -999.0,9,     -999.0,9,     -999.0,9