BOTTLE,20220706CCHSIOAMB
EXPOCODE,SECT_ID,STNNBR,CASTNO,SAMPNO,BTLNBR,BTLNBR_FLAG_W,DATE,TIME,LATITUDE,LONGITUDE,DEPTH,CTDPRS,CTDTMP,CTDSAL,CTDSAL_FLAG_W,SALNTY,SALNTY_FLAG_W,CTDOXY,CTDOXY_FLAG_W,OXYGEN,OXYGEN_FLAG_W,SILCAT,SILCAT_FLAG_W,NH4,NH4_FLAG_W,NITRAT,NITRAT_FLAG_W,NITRIT,NITRIT_FLAG_W,PHSPHT,PHSPHT_FLAG_W,CFC-11,CFC-11_FLAG_W,CFC-12,CFC-12_FLAG_W,CFC113,CFC113_FLAG_W,SF6,SF6_FLAG_W,TCARBN,TCARBN_FLAG_W,ALKALI,ALKALI_FLAG_W,PH_TOT,PH_TOT_FLAG_W,PH_TMP,REFTMP,DELC13,DELC13_FLAG_W,DELC14,DELC14_FLAG_W,C14ERR,DELO18,DELO18_FLAG_W,POC,POC_FLAG_W,DOC,DOC_FLAG_W,TDN,TDN_FLAG_W,TON,TON_FLAG_W,D15N_NO3,D15N_NO3_FLAG_W,BTL_DATE,BTL_TIME,BTL_LAT,BTL_LON,14C-DOC,14C-DOC_FLAG_W,CHLORA,CHLORA_FLAG_W,HPLC,HPLC_FLAG_W,CDOM325,CDOM325_FLAG_W,CDOM340,CDOM340_FLAG_W,CDOM380,CDOM380_FLAG_W,CDOM412,CDOM412_FLAG_W,CDOM443,CDOM443_FLAG_W,CDOM490,CDOM490_FLAG_W,CDOM555,CDOM555_FLAG_W,CDOMSL,CDOMSL_FLAG_W,CDOMSN,CDOMSN_FLAG_W,D18O_NO3,D18O_NO3_FLAG_W,D15N_NO2+NO3,D15N_NO2+NO3_FLAG_W,D18O_NO2+NO3,D18O_NO2+NO3_FLAG_W
,,,,,,,,,,,METERS,DBAR,ITS-90,PSS-78,,PSS-78,,UMOL/KG,,UMOL/KG,,UMOL/KG,,UMOL/KG,,UMOL/KG,,UMOL/KG,,UMOL/KG,,PMOL/KG,,PMOL/KG,,PMOL/KG,,FMOL/KG,,UMOL/KG,,UMOL/KG,,,,DEG C,DEG C,/MILLE,,/MILLE,,/MILLE,/MILLE,,UG/KG,,UMOL/KG,,UMOL/KG,,UMOL/KG,,/MILLE,,,,,,/MILLE,,MG/M3,,,,1/M,,1/M,,1/M,,1/M,,1/M,,1/M,,1/M,,1/NM,,1/NM,,/MILLE,,/MILLE,,/MILLE,
33RR20160208,       I08S,      74,          1,         28,         28,2,20160309,       2029,   -33.0189,    94.9739,       4213,   249.6,  13.0641,  35.2329,2,  35.2288,2,    229.7,2,   229.5,2,     1.7,2,    0.00,2,    7.17,2,    0.00,2,    0.56,2,-999.000,5,-999.000,5,-999.000,5,-999.000000000,5,  2115.6,2, 2319.43,2,   7.8557,2,    25.02,  13.0632,    0.94,2,    31.7,2,     2.6, -999.00,9,-999.000,9,    47.4,2,    9.90,2,     -999.0,1, -999.00,9, 20160309,     2204, -33.0189,  94.9739,     -999.0,9,     -999.0,9,     -999.0,9,-999.0000,9,-999.0000,9,-999.0000,9,-999.0000,9,-999.0000,9,-999.0000,9,-999.0000,9,     -999.0,9,     -999.0,9,     -999.0,9,     -999.0,9,     -999.0,9
33RR20160208,       I08S,      74,          1,         29,         29,2,20160309,       2029,   -33.0189,    94.9739,       4213,   200.3,  14.0116,  35.3412,2,  35.3418,2,    232.4,2,   232.3,2,     1.2,2,    0.00,2,    4.73,2,    0.00,2,    0.40,2,-999.000,5,-999.000,5,-999.000,5,-999.000000000,5,  2106.5,2, 2324.37,2,   7.8846,2,    25.01,  14.0068,    0.88,2,    24.4,2,     2.4, -999.00,9,-999.000,9,    50.3,2,    8.10,2,     -999.0,1, -999.00,9, 20160309,     2206, -33.0188,  94.9740,     -999.0,9,     -999.0,9,     -999.0,9,-999.0000,9,-999.0000,9,-999.0000,9,-999.0000,9,-999.0000,9,-999.0000,9,-999.0000,9,     -999.0,9,     -999.0,9,     -999.0,9,     -999.0,9,     -999.0,9
33RR20160208,       I08S,      74,          1,         30,         30,2,20160309,       2029,   -33.0189,    94.9739,       4213,   151.6,  15.3508,  35.5260,2,  35.5294,2,    232.1,2,   231.0,2,     1.0,2,    0.00,2,    1.86,2,    0.20,2,    0.25,2,-999.000,5,-999.000,5,-999.000,5,-999.000000000,5,  2103.4,2, 2336.23,2,   7.9179,2,    25.00,  15.3514,    0.90,2,    35.6,2,     2.6, -999.00,9,-999.000,9,    53.9,2,    5.40,2,     -999.0,1, -999.00,9, 20160309,     2209, -33.0189,  94.9740,     -999.0,9,     -999.0,9,     -999.0,9,-999.0000,9,-999.0000,9,-999.0000,9,-999.0000,9,-999.0000,9,-999.0000,9,-999.0000,9,     -999.0,9,     -999.0,9,     -999.0,9,     -999.0,9,     -999.0,9
33RR20160208,       I08S,      74,          1,         31,         31,2,20160309,       2029,   -33.0189,    94.9739,       4213,   123.5,  16.2697,  35.6286,2,  35.6265,2,    238.1,2,   235.7,2,     0.8,2,    0.04,2,    0.19,2,    0.03,2,    0.27,2,-999.000,9,-999.000,9,-999.000,9,-999.000000000,9,  2093.5,2, 2343.83,6,   7.9439,2,    25.02,  16.2715, -999.00,9,  -999.0,9,  -999.0, -999.00,9,-999.000,9,    60.8,2,    4.10,2,     -999.0,1, -999.00,9, 20160309,     2210, -33.0189,  94.9740,     -999.0,9,     -999.0,9,     -999.0,9,-999.0000,9,-999.0000,9,-999.0000,9,-999.0000,9,-999.0000,9,-999.0000,9,-999.0000,9,     -999.0,9,     -999.0,9,     -999.0,9,     -999.0,9,     -999.0,9
33RR20160208,       I08S,      74,          1,         32,         32,2,20160309,       2029,   -33.0189,    94.9739,       4213,   100.0,  17.1591,  35.7105,2,  35.7101,2,    240.9,2,   241.2,2,     0.8,2,    0.00,2,    0.00,2,    0.00,2,    0.20,2,-999.000,5,-999.000,5,-999.000,5,-999.000000000,5,  2083.4,2, 2349.69,2,   7.9678,2,    25.01,  17.1569,    0.98,2,    30.4,2,     2.4, -999.00,9,-999.000,9,    58.3,2,    4.60,2,     -999.0,1, -999.00,9, 20160309,     2213, -33.0189,  94.9740,     -999.0,9,     -999.0,9,     -999.0,9,-999.0000,9,-999.0000,9,-999.0000,9,-999.0000,9,-999.0000,9,-999.0000,9,-999.0000,9,     -999.0,9,     -999.0,9,     -999.0,9,     -999.0,9,     -999.0,9
33RR20160208,       I08S,      74,          1,         33,         33,2,20160309,       2029,   -33.0189,    94.9739,       4213,    75.4,  18.2388,  35.7544,2,  35.7527,2,    248.0,2,   247.5,2,     0.9,2,    0.00,2,    0.00,2,    0.00,2,    0.20,2,-999.000,9,-999.000,9,-999.000,9,-999.000000000,9,  2076.2,2, 2349.23,2,   7.9848,2,    25.02,  18.2367, -999.00,9,  -999.0,9,  -999.0, -999.00,9,-999.000,9,    63.8,2,    4.00,2,     -999.0,1, -999.00,9, 20160309,     2215, -33.0189,  94.9739,     -999.0,9,     -999.0,9,     -999.0,9,-999.0000,9,-999.0000,9,-999.0000,9,-999.0000,9,-999.0000,9,-999.0000,9,-999.0000,9,     -999.0,9,     -999.0,9,     -999.0,9,     -999.0,9,     -999.0,9
33RR20160208,       I08S,      74,          1,         34,         34,2,20160309,       2029,   -33.0189,    94.9739,       4213,    50.5,  21.5861,  36.0143,2,  36.0151,2,    229.6,2,   224.6,2,     1.2,2,    0.00,2,    0.00,2,    0.00,2,    0.18,2,-999.000,5,-999.000,5,-999.000,5,-999.000000000,5,  2073.9,2, 2363.31,2,   8.0078,6,    25.00,  21.5872,    0.83,2,    28.8,2,     2.7, -999.00,9,-999.000,9,    67.2,2,    5.10,2,     -999.0,1, -999.00,9, 20160309,     2217, -33.0188,  94.9739,     -999.0,9,     -999.0,9,     -999.0,9,-999.0000,9,-999.0000,9,-999.0000,9,-999.0000,9,-999.0000,9,-999.0000,9,-999.0000,9,     -999.0,9,     -999.0,9,     -999.0,9,     -999.0,9,     -999.0,9
33RR20160208,       I08S,      74,          1,         35,         35,2,20160309,       2029,   -33.0189,    94.9739,       4213,    24.1,  22.7261,  35.9917,2,  35.9876,2,    217.4,2,   216.7,2,     1.3,2,    0.00,2,    0.00,2,    0.00,2,    0.05,2,-999.000,5,-999.000,5,-999.000,5,-999.000000000,5,  2064.1,2, 2361.68,2,   8.0205,2,    25.00,  22.7262, -999.00,9,  -999.0,9,  -999.0, -999.00,9,-999.000,9,    71.6,2,    4.30,2,     -999.0,1, -999.00,9, 20160309,     2219, -33.0188,  94.9740,     -999.0,9,     -999.0,9,     -999.0,9,-999.0000,9,-999.0000,9,-999.0000,9,-999.0000,9,-999.0000,9,-999.0000,9,-999.0000,9,     -999.0,9,     -999.0,9,     -999.0,9,     -999.0,9,     -999.0,9
33RR20160208,       I08S,      74,          1,         36,         36,2,20160309,       2029,   -33.0189,    94.9739,       4213,     5.8,  22.7383,  35.9888,2,  35.9860,2,    217.1,2,   217.7,2,     1.4,2,    0.00,2,    0.00,2,    0.00,2,    0.06,2,-999.000,5,-999.000,5,-999.000,5,-999.000000000,5,  2064.0,6, 2360.82,2,   8.0203,6,    25.01,  22.7380,    0.75,2,    43.2,2,     3.1, -999.00,9,-999.000,9,    69.9,2,    4.70,2,     -999.0,1, -999.00,9, 20160309,     2220, -33.0188,  94.9739,     -999.0,9,     -999.0,9,     -999.0,9,-999.0000,9,-999.0000,9,-999.0000,9,-999.0000,9,-999.0000,9,-999.0000,9,-999.0000,9,     -999.0,9,     -999.0,9,     -999.0,9,     -999.0,9,     -999.0,9