BOTTLE,20220706CCHSIOAMB
EXPOCODE,SECT_ID,STNNBR,CASTNO,SAMPNO,BTLNBR,BTLNBR_FLAG_W,DATE,TIME,LATITUDE,LONGITUDE,DEPTH,CTDPRS,CTDTMP,CTDSAL,CTDSAL_FLAG_W,SALNTY,SALNTY_FLAG_W,CTDOXY,CTDOXY_FLAG_W,OXYGEN,OXYGEN_FLAG_W,SILCAT,SILCAT_FLAG_W,NH4,NH4_FLAG_W,NITRAT,NITRAT_FLAG_W,NITRIT,NITRIT_FLAG_W,PHSPHT,PHSPHT_FLAG_W,CFC-11,CFC-11_FLAG_W,CFC-12,CFC-12_FLAG_W,CFC113,CFC113_FLAG_W,SF6,SF6_FLAG_W,TCARBN,TCARBN_FLAG_W,ALKALI,ALKALI_FLAG_W,PH_TOT,PH_TOT_FLAG_W,PH_TMP,REFTMP,DELC13,DELC13_FLAG_W,DELC14,DELC14_FLAG_W,C14ERR,DELO18,DELO18_FLAG_W,POC,POC_FLAG_W,DOC,DOC_FLAG_W,TDN,TDN_FLAG_W,TON,TON_FLAG_W,D15N_NO3,D15N_NO3_FLAG_W,BTL_DATE,BTL_TIME,BTL_LAT,BTL_LON,14C-DOC,14C-DOC_FLAG_W,CHLORA,CHLORA_FLAG_W,HPLC,HPLC_FLAG_W,CDOM325,CDOM325_FLAG_W,CDOM340,CDOM340_FLAG_W,CDOM380,CDOM380_FLAG_W,CDOM412,CDOM412_FLAG_W,CDOM443,CDOM443_FLAG_W,CDOM490,CDOM490_FLAG_W,CDOM555,CDOM555_FLAG_W,CDOMSL,CDOMSL_FLAG_W,CDOMSN,CDOMSN_FLAG_W,D18O_NO3,D18O_NO3_FLAG_W,D15N_NO2+NO3,D15N_NO2+NO3_FLAG_W,D18O_NO2+NO3,D18O_NO2+NO3_FLAG_W
,,,,,,,,,,,METERS,DBAR,ITS-90,PSS-78,,PSS-78,,UMOL/KG,,UMOL/KG,,UMOL/KG,,UMOL/KG,,UMOL/KG,,UMOL/KG,,UMOL/KG,,PMOL/KG,,PMOL/KG,,PMOL/KG,,FMOL/KG,,UMOL/KG,,UMOL/KG,,,,DEG C,DEG C,/MILLE,,/MILLE,,/MILLE,/MILLE,,UG/KG,,UMOL/KG,,UMOL/KG,,UMOL/KG,,/MILLE,,,,,,/MILLE,,MG/M3,,,,1/M,,1/M,,1/M,,1/M,,1/M,,1/M,,1/M,,1/NM,,1/NM,,/MILLE,,/MILLE,,/MILLE,
33RR20160208,       I08S,      68,          1,          1,          1,2,20160308,       0358,   -36.0181,    95.0090,       4350,  4392.3,   1.0151,  34.7105,2,  34.7111,2,    206.8,2,   206.7,2,   120.6,2,    0.00,2,   32.16,2,    0.00,2,    2.23,2,   0.100,2,   0.053,2,   0.000,2,         0.004,2,  2267.8,6, 2376.83,2,   7.6194,2,    24.97,   1.0148, -999.00,5,  -160.0,2,     1.7, -999.00,9,-999.000,9,    38.4,2, -999.00,9,     -999.0,1, -999.00,9, 20160308,      358, -36.0181,  95.0090,     -999.0,9,     -999.0,9,     -999.0,9,   0.1075,2,   0.0703,2,   0.0362,2,   0.0183,2,   0.0083,2,   0.0003,4,  -0.0016,4,     0.0191,2,     0.0208,2,     -999.0,9,     -999.0,9,     -999.0,9
33RR20160208,       I08S,      68,          1,          2,          2,2,20160308,       0358,   -36.0181,    95.0090,       4350,  4124.5,   1.0024,  34.7116,2,  34.7117,2,    206.5,2,   207.5,2,   120.0,2,    0.00,2,   32.17,2,    0.00,2,    2.23,2,-999.000,9,-999.000,9,-999.000,9,-999.000000000,9,  2267.3,2, 2375.47,2,   7.6213,3,    24.83,   1.0025,    0.43,2,  -163.5,2,     2.0, -999.00,9,-999.000,9,    38.1,2, -999.00,9,     -999.0,1, -999.00,9, 20160308,      403, -36.0181,  95.0090,     -999.0,9,     -999.0,9,     -999.0,9,-999.0000,9,-999.0000,9,-999.0000,9,-999.0000,9,-999.0000,9,-999.0000,9,-999.0000,9,     -999.0,9,     -999.0,9,     -999.0,9,     -999.0,9,     -999.0,9
33RR20160208,       I08S,      68,          1,          3,          3,2,20160308,       0358,   -36.0181,    95.0090,       4350,  3861.5,   1.0217,  34.7137,2,  34.7137,2,    206.5,2,   206.7,2,   118.7,2,    0.00,2,   32.07,2,    0.00,2,    2.21,2,   0.094,2,   0.051,2,   0.000,2,         0.033,2,  2263.7,2, 2372.75,2,   7.6149,2,    25.19,   1.0217,    0.52,2,  -161.0,2,     2.2, -999.00,9,-999.000,9,    37.8,2, -999.00,9,     -999.0,1, -999.00,9, 20160308,      409, -36.0181,  95.0090,     -999.0,9,     -999.0,9,     -999.0,9,-999.0000,9,-999.0000,9,-999.0000,9,-999.0000,9,-999.0000,9,-999.0000,9,-999.0000,9,     -999.0,9,     -999.0,9,     -999.0,9,     -999.0,9,     -999.0,9
33RR20160208,       I08S,      68,          1,          4,          4,2,20160308,       0358,   -36.0181,    95.0090,       4350,  3599.9,   1.0854,  34.7176,2,  34.7172,2,    206.2,2,   206.0,2,   116.5,2,    0.00,2,   31.84,2,    0.00,2,    2.18,2,-999.000,9,-999.000,9,-999.000,9,-999.000000000,9,  2261.8,2, 2368.08,6,   7.6148,6,    24.97,   1.0855,    0.49,2,  -161.7,2,     1.8, -999.00,9,-999.000,9,    38.3,2, -999.00,9,     -999.0,1, -999.00,9, 20160308,      414, -36.0181,  95.0089,     -999.0,9,     -999.0,9,     -999.0,9,-999.0000,9,-999.0000,9,-999.0000,9,-999.0000,9,-999.0000,9,-999.0000,9,-999.0000,9,     -999.0,9,     -999.0,9,     -999.0,9,     -999.0,9,     -999.0,9
33RR20160208,       I08S,      68,          1,          5,          5,2,20160308,       0358,   -36.0181,    95.0090,       4350,  3298.4,   1.2326,  34.7252,2,  34.7255,2,    204.5,2,   204.5,2,   111.6,2,    0.00,2,   31.64,2,    0.00,2,    2.17,2,   0.094,2,   0.051,2,   0.000,2,             0,2,  2257.6,2, 2364.22,2,   7.6137,2,    24.96,   1.2327,    0.48,2,  -158.9,2,     2.3, -999.00,9,-999.000,9,    39.0,2, -999.00,9,     -999.0,1, -999.00,9, 20160308,      420, -36.0181,  95.0089,     -999.0,9,     -999.0,9,     -999.0,9,-999.0000,9,-999.0000,9,-999.0000,9,-999.0000,9,-999.0000,9,-999.0000,9,-999.0000,9,     -999.0,9,     -999.0,9,     -999.0,9,     -999.0,9,     -999.0,9
33RR20160208,       I08S,      68,          1,          6,         38,2,20160308,       0358,   -36.0181,    95.0090,       4350,  2996.2,   1.4670,  34.7357,2,  34.7366,2,    201.8,2,   201.8,2,   103.7,2,    0.00,2,   31.15,2,    0.00,2,    2.13,2,-999.000,9,-999.000,9,-999.000,9,-999.000000000,9,  2253.1,2, 2360.82,2,   7.6148,2,    24.96,   1.4670,    0.48,2,  -157.0,2,     1.7, -999.00,9,-999.000,9,    41.2,3, -999.00,9,     -999.0,1, -999.00,9, 20160308,      426, -36.0181,  95.0089,     -999.0,9,     -999.0,9,     -999.0,9,   0.1032,2,   0.0643,2,   0.0267,2,   0.0159,2,   0.0070,2,  -0.0001,4,  -0.0017,4,     0.0228,2,     0.0258,2,     -999.0,9,     -999.0,9,     -999.0,9
33RR20160208,       I08S,      68,          1,          7,          7,2,20160308,       0358,   -36.0181,    95.0090,       4350,  2752.8,   1.7288,  34.7441,2,  34.7445,2,    198.2,2,   198.4,2,    95.6,2,    0.00,2,   30.77,2,    0.00,2,    2.12,2,   0.051,2,   0.027,2,   0.000,2,         0.033,2,  2250.4,2, 2357.22,2,   7.6160,6,    24.96,   1.7288,    0.54,2,  -156.4,2,     1.7, -999.00,9,-999.000,9,    38.8,2, -999.00,9,     -999.0,1, -999.00,9, 20160308,      431, -36.0180,  95.0089,     -999.0,9,     -999.0,9,     -999.0,9,-999.0000,9,-999.0000,9,-999.0000,9,-999.0000,9,-999.0000,9,-999.0000,9,-999.0000,9,     -999.0,9,     -999.0,9,     -999.0,9,     -999.0,9,     -999.0,9
33RR20160208,       I08S,      68,          1,          8,          8,2,20160308,       0358,   -36.0181,    95.0090,       4350,  2503.3,   2.0206,  34.7440,2,  34.7449,2,    192.4,2,   192.9,2,    88.0,2,    0.00,2,   30.72,2,    0.00,2,    2.11,2,-999.000,9,-999.000,9,-999.000,9,-999.000000000,9,  2249.6,2, 2355.34,2,   7.6123,2,    24.98,   2.0210,    0.52,2,  -158.9,2,     1.8, -999.00,9,-999.000,9,    39.0,2, -999.00,9,     -999.0,1, -999.00,9, 20160308,      436, -36.0181,  95.0089,     -999.0,9,     -999.0,9,     -999.0,9,-999.0000,9,-999.0000,9,-999.0000,9,-999.0000,9,-999.0000,9,-999.0000,9,-999.0000,9,     -999.0,9,     -999.0,9,     -999.0,9,     -999.0,9,     -999.0,9
33RR20160208,       I08S,      68,          1,          9,          9,2,20160308,       0358,   -36.0181,    95.0090,       4350,  2247.4,   2.2627,  34.7271,2,  34.7282,2,    184.1,2,   184.9,2,    83.3,2,    0.00,2,   31.21,2,    0.00,2,    2.16,2,   0.072,2,   0.037,2,   0.000,2,         0.008,2,  2250.1,2, 2352.30,2,   7.6019,2,    25.01,   2.2627,    0.52,2,  -156.0,2,     1.7, -999.00,9,-999.000,9,    41.7,3, -999.00,9,     -999.0,1, -999.00,9, 20160308,      441, -36.0180,  95.0089,     -999.0,9,     -999.0,9,     -999.0,9,-999.0000,9,-999.0000,9,-999.0000,9,-999.0000,9,-999.0000,9,-999.0000,9,-999.0000,9,     -999.0,9,     -999.0,9,     -999.0,9,     -999.0,9,     -999.0,9
33RR20160208,       I08S,      68,          1,         10,         10,2,20160308,       0358,   -36.0181,    95.0090,       4350,  1998.6,   2.5068,  34.6848,2,  34.6860,2,    171.8,2,   172.9,2,    82.4,2,    0.00,2,   32.63,2,    0.00,2,    2.26,2,-999.000,9,-999.000,9,-999.000,9,-999.000000000,9,  2256.6,2, 2352.10,2,   7.5828,2,    24.97,   2.5063, -999.00,5,  -154.5,2,     1.8, -999.00,9,-999.000,9,    37.2,2, -999.00,9,     -999.0,1, -999.00,9, 20160308,      446, -36.0181,  95.0089,     -999.0,9,     -999.0,9,     -999.0,9,   0.1064,2,   0.0690,2,   0.0341,2,   0.0192,2,   0.0091,2,   0.0005,3,  -0.0016,4,     0.0194,2,     0.0216,2,     -999.0,9,     -999.0,9,     -999.0,9
33RR20160208,       I08S,      68,          1,         11,         11,2,20160308,       0358,   -36.0181,    95.0090,       4350,  1803.7,   2.7035,  34.6378,2,  34.6385,2,    165.7,2,   165.9,2,    79.6,2,    0.00,2,   33.61,2,    0.00,2,    2.33,2,   0.141,2,   0.074,2,   0.000,2,         0.015,2,  2257.9,2, 2347.51,2,   7.5690,2,    24.98,   2.7027,    0.47,2,  -162.0,2,     1.8, -999.00,9,-999.000,9,    38.1,2, -999.00,9,     -999.0,1, -999.00,9, 20160308,      450, -36.0181,  95.0089,     -999.0,9,     -999.0,9,     -999.0,9,-999.0000,9,-999.0000,9,-999.0000,9,-999.0000,9,-999.0000,9,-999.0000,9,-999.0000,9,     -999.0,9,     -999.0,9,     -999.0,9,     -999.0,9,     -999.0,9
33RR20160208,       I08S,      68,          1,         12,         12,2,20160308,       0358,   -36.0181,    95.0090,       4350,  1601.8,   2.9188,  34.5673,2,  34.5669,2,    166.3,2,   165.8,2,    71.9,2,    0.00,2,   34.18,2,    0.00,2,    2.38,2,   0.307,2,   0.162,2,   0.004,2,         0.066,2,  2253.8,2, 2337.52,2,   7.5605,2,    24.97,   2.9191,    0.51,2,  -150.8,2,     1.9, -999.00,9,-999.000,9,    37.2,2, -999.00,9,     -999.0,1, -999.00,9, 20160308,      455, -36.0180,  95.0089,     -999.0,9,     -999.0,9,     -999.0,9,-999.0000,9,-999.0000,9,-999.0000,9,-999.0000,9,-999.0000,9,-999.0000,9,-999.0000,9,     -999.0,9,     -999.0,9,     -999.0,9,     -999.0,9,     -999.0,9
33RR20160208,       I08S,      68,          1,         13,         13,2,20160308,       0358,   -36.0181,    95.0090,       4350,  1499.7,   3.0583,  34.5234,2,  34.5240,2,    169.3,2,   168.0,2,    66.7,2,    0.00,2,   34.22,2,    0.00,2,    2.37,2,   0.458,2,   0.241,2,   0.011,2,         0.125,2,  2249.2,2, 2332.27,2,   7.5608,6,    24.98,   3.0585,    0.55,2,  -143.2,2,     2.0, -999.00,9,-999.000,9,    38.3,2, -999.00,9,     -999.0,1, -999.00,9, 20160308,      458, -36.0180,  95.0089,     -999.0,9,     -999.0,9,     -999.0,9,   0.0996,2,   0.0633,2,   0.0323,2,   0.0180,2,   0.0084,2,   0.0003,4,  -0.0017,4,     0.0192,2,     0.0217,2,     -999.0,9,     -999.0,9,     -999.0,9
33RR20160208,       I08S,      68,          1,         14,         14,2,20160308,       0358,   -36.0181,    95.0090,       4350,  1401.4,   3.2518,  34.4703,2,  34.4705,2,    175.1,2,   174.5,2,    59.5,2,    0.00,2,   34.00,2,    0.00,2,    2.35,2,   0.766,2,   0.378,2,   0.026,2,          0.21,2,  2237.8,6, 2326.57,2,   7.5657,2,    24.94,   3.2518,    0.64,2,  -134.8,2,     1.9, -999.00,9,-999.000,9,    39.0,2, -999.00,9,     -999.0,1, -999.00,9, 20160308,      501, -36.0181,  95.0089,     -999.0,9,     -999.0,9,     -999.0,9,-999.0000,9,-999.0000,9,-999.0000,9,-999.0000,9,-999.0000,9,-999.0000,9,-999.0000,9,     -999.0,9,     -999.0,9,     -999.0,9,     -999.0,9,     -999.0,9
33RR20160208,       I08S,      68,          1,         15,         15,2,20160308,       0358,   -36.0181,    95.0090,       4350,  1299.3,   3.5450,  34.4338,2,  34.4344,2,    179.2,2,   178.2,2,    53.4,2,    0.00,2,   33.54,2,    0.00,2,    2.31,2,   0.927,2,   0.477,2,   0.037,2,         0.282,2,  2231.8,2, 2319.50,2,   7.5736,2,    24.98,   3.5437,    0.66,2,  -120.4,2,     2.1, -999.00,9,-999.000,9,    37.8,2, -999.00,9,     -999.0,1, -999.00,9, 20160308,      504, -36.0181,  95.0089,     -999.0,9,     -999.0,9,     -999.0,9,-999.0000,9,-999.0000,9,-999.0000,9,-999.0000,9,-999.0000,9,-999.0000,9,-999.0000,9,     -999.0,9,     -999.0,9,     -999.0,9,     -999.0,9,     -999.0,9
33RR20160208,       I08S,      68,          1,         16,         16,2,20160308,       0358,   -36.0181,    95.0090,       4350,  1201.2,   3.8717,  34.3833,2,  34.3829,2,    190.3,2,   190.9,2,    43.1,2,    0.00,2,   32.40,2,    0.00,2,    2.24,2,   1.442,2,   0.735,2,   0.070,2,         0.387,2,  2216.0,2, 2308.95,2,   7.5900,2,    24.97,   3.8750,    0.76,2,  -100.8,2,     3.0, -999.00,9,-999.000,9,    39.0,2, -999.00,9,     -999.0,1, -999.00,9, 20160308,      507, -36.0180,  95.0089,     -999.0,9,     -999.0,9,     -999.0,9,-999.0000,9,-999.0000,9,-999.0000,9,-999.0000,9,-999.0000,9,-999.0000,9,-999.0000,9,     -999.0,9,     -999.0,9,     -999.0,9,     -999.0,9,     -999.0,9
33RR20160208,       I08S,      68,          1,         17,         17,2,20160308,       0358,   -36.0181,    95.0090,       4350,  1100.6,   4.3240,  34.3480,2,  34.3482,2,    202.1,2,   202.2,2,    33.5,2,    0.00,2,   30.99,2,    0.00,2,    2.12,2,   2.024,2,   1.038,2,   0.107,2,         0.508,2,  2199.8,2, 2299.69,2,   7.6086,2,    24.95,   4.3268,    0.77,2,   -68.8,2,     3.8, -999.00,9,-999.000,9,    40.5,2, -999.00,9,     -999.0,1, -999.00,9, 20160308,      509, -36.0180,  95.0089,     -999.0,9,     -999.0,9,     -999.0,9,-999.0000,9,-999.0000,9,-999.0000,9,-999.0000,9,-999.0000,9,-999.0000,9,-999.0000,9,     -999.0,9,     -999.0,9,     -999.0,9,     -999.0,9,     -999.0,9
33RR20160208,       I08S,      68,          1,         18,         37,2,20160308,       0358,   -36.0181,    95.0090,       4350,  1001.2,   5.1435,  34.3569,2,  34.3566,2,    204.5,2,   204.3,2,    25.2,2,    0.00,2,   29.30,2,    0.00,2,    1.98,2,   2.305,2,   1.181,2,   0.110,2,         0.552,2,  2187.7,2, 2290.82,2,   7.6277,2,    24.97,   5.1425,    0.91,2,   -55.6,2,     4.0, -999.00,9,-999.000,9,    40.4,2, -999.00,9,     -999.0,1, -999.00,9, 20160308,      512, -36.0180,  95.0089,     -999.0,9,     -999.0,9,     -999.0,9,   0.0755,2,   0.0467,2,   0.0260,2,   0.0120,2,   0.0044,3,  -0.0015,4,  -0.0023,4,     0.0186,2,     0.0210,2,     -999.0,9,     -999.0,9,     -999.0,9
33RR20160208,       I08S,      68,          1,         19,         19,2,20160308,       0358,   -36.0181,    95.0090,       4350,   900.4,   6.1789,  34.4042,2,  34.4048,2,    205.8,2,   206.5,2,    19.2,2,    0.00,2,   26.92,2,    0.00,2,    1.82,2,   2.654,2,   1.395,2,   0.122,2,         0.691,2,  2175.4,2, 2289.05,2,   7.6514,2,    24.98,   6.1856,    0.98,2,   -27.2,2,     3.8, -999.00,9,-999.000,9,    43.0,2, -999.00,9,     -999.0,1, -999.00,9, 20160308,      515, -36.0180,  95.0089,     -999.0,9,     -999.0,9,     -999.0,9,-999.0000,9,-999.0000,9,-999.0000,9,-999.0000,9,-999.0000,9,-999.0000,9,-999.0000,9,     -999.0,9,     -999.0,9,     -999.0,9,     -999.0,9,     -999.0,9
33RR20160208,       I08S,      68,          1,         20,         20,2,20160308,       0358,   -36.0181,    95.0090,       4350,   802.4,   7.6068,  34.5095,2,  34.5119,2,    211.2,2,   209.6,2,    12.6,2,    0.00,2,   23.34,2,    0.00,2,    1.56,2,   2.881,2,   1.584,2,   0.107,2,         0.921,2,  2160.4,2, 2288.73,2,   7.6896,6,    25.02,   7.6063,    1.00,2,     4.4,2,     4.2, -999.00,9,-999.000,9,    41.9,2, -999.00,9,     -999.0,1, -999.00,9, 20160308,      518, -36.0180,  95.0089,     -999.0,9,     -999.0,9,     -999.0,9,-999.0000,9,-999.0000,9,-999.0000,9,-999.0000,9,-999.0000,9,-999.0000,9,-999.0000,9,     -999.0,9,     -999.0,9,     -999.0,9,     -999.0,9,     -999.0,9
33RR20160208,       I08S,      68,          1,         21,         21,2,20160308,       0358,   -36.0181,    95.0090,       4350,   700.4,   8.8550,  34.6196,2,  34.6209,2,    228.7,2,   225.9,2,     7.0,2,    0.00,2,   18.88,2,    0.00,2,    1.29,2,   3.171,2,   1.819,2,   0.124,2,         1.155,2,  2143.4,2, 2289.84,2,   7.7395,2,    24.97,   8.8613,    1.02,2,    20.4,6,     3.1, -999.00,9,-999.000,9,    43.7,2, -999.00,9,     -999.0,1, -999.00,9, 20160308,      520, -36.0180,  95.0089,     -999.0,9,     -999.0,9,     -999.0,9,   0.0578,2,   0.0340,2,   0.0173,2,   0.0055,2,   0.0001,4,  -0.0033,4,  -0.0031,4,     0.0217,2,     0.0244,2,     -999.0,9,     -999.0,9,     -999.0,9
33RR20160208,       I08S,      68,          1,         22,         22,2,20160308,       0358,   -36.0181,    95.0090,       4350,   600.1,   9.5950,  34.7063,2,  34.7047,2,    241.3,2,   240.6,2,     4.1,2,    0.00,2,   15.60,2,    0.00,2,    1.08,2,   3.260,2,   1.925,2,   0.134,2,         1.457,2,  2132.3,2, 2293.29,2,   7.7727,2,    24.99,   9.5957,    1.04,2,    29.8,2,     3.6, -999.00,9,-999.000,9,    45.5,2, -999.00,9,     -999.0,1, -999.00,9, 20160308,      523, -36.0181,  95.0089,     -999.0,9,     -999.0,9,     -999.0,9,-999.0000,9,-999.0000,9,-999.0000,9,-999.0000,9,-999.0000,9,-999.0000,9,-999.0000,9,     -999.0,9,     -999.0,9,     -999.0,9,     -999.0,9,     -999.0,9
33RR20160208,       I08S,      68,          1,         23,         23,2,20160308,       0358,   -36.0181,    95.0090,       4350,   500.0,  10.1318,  34.7808,2,  34.7796,2,    247.2,2,   246.8,2,     3.4,2,    0.00,2,   13.48,2,    0.00,2,    0.97,2,   3.177,2,   1.894,2,   0.140,2,          1.65,2,  2124.9,2, 2297.24,2,   7.7942,2,    24.99,  10.1318,    1.05,2,    26.3,6,     1.9, -999.00,9,-999.000,9,    47.1,2, -999.00,9,     -999.0,1, -999.00,9, 20160308,      526, -36.0181,  95.0089,     -999.0,9,     -999.0,9,     -999.0,9,   0.0577,2,   0.0444,2,   0.0491,2,   0.0113,2,   0.0016,3,  -0.0033,4,  -0.0030,4,     0.0062,4,     0.0051,4,     -999.0,9,     -999.0,9,     -999.0,9
33RR20160208,       I08S,      68,          1,         24,         24,2,20160308,       0358,   -36.0181,    95.0090,       4350,   449.3,  10.3788,  34.8155,2,  34.8138,2,    246.9,2,   253.2,2,     2.8,2,    0.00,2,   12.10,2,    0.00,2,    0.89,2,-999.000,9,-999.000,9,-999.000,9,-999.000000000,9,  2122.2,2, 2299.39,2,   7.8085,6,    24.99,  10.3789, -999.00,9,  -999.0,9,  -999.0, -999.00,9,-999.000,9,    47.7,2, -999.00,9,     -999.0,1, -999.00,9, 20160308,      528, -36.0181,  95.0089,     -999.0,9,     -999.0,9,     -999.0,9,-999.0000,9,-999.0000,9,-999.0000,9,-999.0000,9,-999.0000,9,-999.0000,9,-999.0000,9,     -999.0,9,     -999.0,9,     -999.0,9,     -999.0,9,     -999.0,9
33RR20160208,       I08S,      68,          1,         25,         25,2,20160308,       0358,   -36.0181,    95.0090,       4350,   401.5,  10.5834,  34.8482,2,  34.8503,2,    245.0,2,   247.2,2,     3.0,2,    0.00,2,   12.25,2,    0.00,2,    0.90,2,   3.099,2,   1.842,2,   0.141,2,         1.643,2,  2122.4,2, 2300.73,2,   7.8061,2,    24.99,  10.5867,    1.01,2,    28.0,2,     2.3, -999.00,9,-999.000,9,    47.0,2, -999.00,9,     -999.0,1, -999.00,9, 20160308,      530, -36.0181,  95.0089,     -999.0,9,     -999.0,9,     -999.0,9,-999.0000,9,-999.0000,9,-999.0000,9,-999.0000,9,-999.0000,9,-999.0000,9,-999.0000,9,     -999.0,9,     -999.0,9,     -999.0,9,     -999.0,9,     -999.0,9
33RR20160208,       I08S,      68,          1,         26,         26,2,20160308,       0358,   -36.0181,    95.0090,       4350,   350.2,  10.8407,  34.8877,2,  34.8859,2,    243.5,2,   246.5,2,     3.0,2,    0.00,2,   11.78,2,    0.00,2,    0.86,2,-999.000,9,-999.000,9,-999.000,9,-999.000000000,9,  2117.8,2, 2300.98,2,   7.8103,2,    24.98,  10.8400, -999.00,9,  -999.0,9,  -999.0, -999.00,9,-999.000,9,    48.5,2, -999.00,9,     -999.0,1, -999.00,9, 20160308,      532, -36.0181,  95.0089,     -999.0,9,     -999.0,9,     -999.0,9,   0.0614,2,   0.0472,2,   0.0479,2,   0.0120,2,   0.0022,3,  -0.0029,4,  -0.0028,4,     0.0076,4,     0.0064,4,     -999.0,9,     -999.0,9,     -999.0,9
33RR20160208,       I08S,      68,          1,         27,         27,2,20160308,       0358,   -36.0181,    95.0090,       4350,   301.2,  11.1965,  34.9424,2,  34.9424,2,    245.2,2,   245.0,2,     3.0,2,    0.00,2,   11.16,2,    0.00,2,    0.82,2,   2.977,2,   1.797,2,   0.140,2,         1.727,2,  2115.7,2, 2304.55,2,   7.8177,2,    25.03,  11.1978,    0.93,2,    28.2,2,     2.1, -999.00,9,-999.000,9,    48.1,2,   13.50,2,     -999.0,1, -999.00,9, 20160308,      534, -36.0181,  95.0089,     -999.0,9,     -999.0,9,     -999.0,9,-999.0000,9,-999.0000,9,-999.0000,9,-999.0000,9,-999.0000,9,-999.0000,9,-999.0000,9,     -999.0,9,     -999.0,9,     -999.0,9,     -999.0,9,     -999.0,9