BOTTLE,20220706CCHSIOAMB
EXPOCODE,SECT_ID,STNNBR,CASTNO,SAMPNO,BTLNBR,BTLNBR_FLAG_W,DATE,TIME,LATITUDE,LONGITUDE,DEPTH,CTDPRS,CTDTMP,CTDSAL,CTDSAL_FLAG_W,SALNTY,SALNTY_FLAG_W,CTDOXY,CTDOXY_FLAG_W,OXYGEN,OXYGEN_FLAG_W,SILCAT,SILCAT_FLAG_W,NH4,NH4_FLAG_W,NITRAT,NITRAT_FLAG_W,NITRIT,NITRIT_FLAG_W,PHSPHT,PHSPHT_FLAG_W,CFC-11,CFC-11_FLAG_W,CFC-12,CFC-12_FLAG_W,CFC113,CFC113_FLAG_W,SF6,SF6_FLAG_W,TCARBN,TCARBN_FLAG_W,ALKALI,ALKALI_FLAG_W,PH_TOT,PH_TOT_FLAG_W,PH_TMP,REFTMP,DELC13,DELC13_FLAG_W,DELC14,DELC14_FLAG_W,C14ERR,DELO18,DELO18_FLAG_W,POC,POC_FLAG_W,DOC,DOC_FLAG_W,TDN,TDN_FLAG_W,TON,TON_FLAG_W,D15N_NO3,D15N_NO3_FLAG_W,BTL_DATE,BTL_TIME,BTL_LAT,BTL_LON,14C-DOC,14C-DOC_FLAG_W,CHLORA,CHLORA_FLAG_W,HPLC,HPLC_FLAG_W,CDOM325,CDOM325_FLAG_W,CDOM340,CDOM340_FLAG_W,CDOM380,CDOM380_FLAG_W,CDOM412,CDOM412_FLAG_W,CDOM443,CDOM443_FLAG_W,CDOM490,CDOM490_FLAG_W,CDOM555,CDOM555_FLAG_W,CDOMSL,CDOMSL_FLAG_W,CDOMSN,CDOMSN_FLAG_W,D18O_NO3,D18O_NO3_FLAG_W,D15N_NO2+NO3,D15N_NO2+NO3_FLAG_W,D18O_NO2+NO3,D18O_NO2+NO3_FLAG_W
,,,,,,,,,,,METERS,DBAR,ITS-90,PSS-78,,PSS-78,,UMOL/KG,,UMOL/KG,,UMOL/KG,,UMOL/KG,,UMOL/KG,,UMOL/KG,,UMOL/KG,,PMOL/KG,,PMOL/KG,,PMOL/KG,,FMOL/KG,,UMOL/KG,,UMOL/KG,,,,DEG C,DEG C,/MILLE,,/MILLE,,/MILLE,/MILLE,,UG/KG,,UMOL/KG,,UMOL/KG,,UMOL/KG,,/MILLE,,,,,,/MILLE,,MG/M3,,,,1/M,,1/M,,1/M,,1/M,,1/M,,1/M,,1/M,,1/NM,,1/NM,,/MILLE,,/MILLE,,/MILLE,
33RR20160208,       I08S,      67,          1,         28,         28,2,20160307,       2205,   -36.4980,    95.0028,       4246,   235.1,  11.6250,  34.9844,2,  34.9837,2,    243.6,2,   245.6,2,     2.3,2,    0.00,2,    9.40,2,    0.00,2,    0.72,2,   2.967,2,   1.800,2,   0.158,2,         1.695,2,  -999.0,9, -999.00,9,-999.0000,9,  -999.00,  11.6271, -999.00,9,  -999.0,9,  -999.0, -999.00,9,-999.000,9,  -999.0,9, -999.00,9,     -999.0,9,    7.48,2, 20160307,     2344, -36.4981,  95.0029,     -999.0,9,     -999.0,9,     -999.0,9,-999.0000,9,-999.0000,9,-999.0000,9,-999.0000,9,-999.0000,9,-999.0000,9,-999.0000,9,     -999.0,9,     -999.0,9,       5.44,2,       7.48,2,       5.44,2
33RR20160208,       I08S,      67,          1,         29,         29,2,20160307,       2205,   -36.4980,    95.0028,       4246,   184.8,  12.2339,  35.0737,2,  35.0704,2,    245.8,2,   246.4,2,     1.9,2,    0.00,2,    7.57,2,    0.00,2,    0.62,2,-999.000,9,-999.000,9,-999.000,9,-999.000000000,9,  -999.0,9, -999.00,9,-999.0000,9,     9.00,  12.2370, -999.00,9,  -999.0,9,  -999.0, -999.00,9,-999.000,9,  -999.0,9, -999.00,9,     -999.0,9,    8.11,2, 20160307,     2346, -36.4981,  95.0029,     -999.0,9,     -999.0,9,     -999.0,9,-999.0000,9,-999.0000,9,-999.0000,9,-999.0000,9,-999.0000,9,-999.0000,9,-999.0000,9,     -999.0,9,     -999.0,9,       6.09,2,       8.11,2,       6.09,2
33RR20160208,       I08S,      67,          1,         30,         30,2,20160307,       2205,   -36.4980,    95.0028,       4246,   136.6,  12.8947,  35.1835,2,  35.1812,2,    245.4,2,   245.6,2,     1.5,2,    0.00,2,    5.90,2,    0.08,2,    0.52,2,   2.808,2,   1.681,2,   0.203,2,         1.746,2,  2105.6,2, 2320.09,2,   7.8676,2,    25.03,  12.8963, -999.00,9,  -999.0,9,  -999.0, -999.00,9,-999.000,9,  -999.0,9, -999.00,9,     -999.0,9,    9.02,2, 20160307,     2348, -36.4981,  95.0029,     -999.0,9,     -999.0,9,     -999.0,9,-999.0000,9,-999.0000,9,-999.0000,9,-999.0000,9,-999.0000,9,-999.0000,9,-999.0000,9,     -999.0,9,     -999.0,9,       6.88,2,       8.84,2,        7.0,2
33RR20160208,       I08S,      67,          1,         31,         31,2,20160307,       2205,   -36.4980,    95.0028,       4246,   115.0,  13.0313,  35.1838,2,  35.1844,2,    247.0,2,   247.3,2,     1.5,2,    0.00,2,    4.91,2,    0.72,2,    0.50,2,-999.000,9,-999.000,9,-999.000,9,-999.000000000,9,  -999.0,9, -999.00,9,-999.0000,9,  -999.00,  13.0391, -999.00,9,  -999.0,9,  -999.0, -999.00,9,-999.000,9,  -999.0,9, -999.00,9,     -999.0,9,   10.81,2, 20160307,     2350, -36.4981,  95.0029,     -999.0,9,     -999.0,9,     -999.0,9,-999.0000,9,-999.0000,9,-999.0000,9,-999.0000,9,-999.0000,9,-999.0000,9,-999.0000,9,     -999.0,9,     -999.0,9,        8.4,2,       9.55,2,       9.13,2
33RR20160208,       I08S,      67,          1,         32,         32,2,20160307,       2205,   -36.4980,    95.0028,       4246,    91.0,  13.5054,  35.1919,2,  35.1972,2,    250.7,2,   251.8,2,     1.5,2,    0.38,2,    3.70,2,    0.55,2,    0.44,2,   2.684,2,   1.610,2,   0.204,2,         1.818,2,  -999.0,9, -999.00,9,-999.0000,9,     9.00,  13.4956, -999.00,9,  -999.0,9,  -999.0, -999.00,9,-999.000,9,  -999.0,9, -999.00,9,     -999.0,9,   13.16,2, 20160307,     2351, -36.4981,  95.0029,     -999.0,9,     -999.0,9,     -999.0,9,-999.0000,9,-999.0000,9,-999.0000,9,-999.0000,9,-999.0000,9,-999.0000,9,-999.0000,9,     -999.0,9,     -999.0,9,      10.46,2,      11.01,2,      11.42,2
33RR20160208,       I08S,      67,          1,         33,         33,2,20160307,       2205,   -36.4980,    95.0028,       4246,    64.9,  14.6460,  35.1006,2,  35.0973,2,    258.9,2,   259.6,2,     1.0,2,    0.42,2,    2.69,2,    0.08,2,    0.37,2,-999.000,9,-999.000,9,-999.000,9,-999.000000000,9,  2082.4,2, 2317.92,2,   7.9161,2,    25.02,  14.6628, -999.00,9,  -999.0,9,  -999.0, -999.00,9,-999.000,9,  -999.0,9, -999.00,9,     -999.0,9,   17.76,2, 20160307,     2353, -36.4981,  95.0029,     -999.0,9,     -999.0,9,     -999.0,9,-999.0000,9,-999.0000,9,-999.0000,9,-999.0000,9,-999.0000,9,-999.0000,9,-999.0000,9,     -999.0,9,     -999.0,9,      15.22,2,      16.42,2,      14.95,2
33RR20160208,       I08S,      67,          1,         34,         34,2,20160307,       2205,   -36.4980,    95.0028,       4246,    40.1,  18.6920,  35.4458,2,  35.4447,2,    237.5,2,   236.4,2,     0.1,2,    0.00,2,   -0.04,2,    0.00,2,    0.12,2,   2.164,2,   1.319,2,   0.151,2,         1.518,2,  -999.0,9, -999.00,9,-999.0000,9,  -999.00,  18.6860, -999.00,9,  -999.0,9,  -999.0, -999.00,9,-999.000,9,  -999.0,9, -999.00,9,     -999.0,9, -999.00,9, 20160307,     2355, -36.4981,  95.0029,     -999.0,9,     -999.0,9,     -999.0,9,-999.0000,9,-999.0000,9,-999.0000,9,-999.0000,9,-999.0000,9,-999.0000,9,-999.0000,9,     -999.0,9,     -999.0,9,     -999.0,9,     -999.0,9,     -999.0,9
33RR20160208,       I08S,      67,          1,         35,         35,2,20160307,       2205,   -36.4980,    95.0028,       4246,    19.7,  19.0545,  35.4334,2,  35.4315,2,    237.0,2,   235.3,2,     0.1,2,    0.00,2,   -0.07,2,    0.00,2,    0.12,2,   2.080,2,   1.280,2,   0.148,2,         1.361,2,  -999.0,9, -999.00,9,-999.0000,9,     9.00,  19.0782, -999.00,9,  -999.0,9,  -999.0, -999.00,9,-999.000,9,  -999.0,9, -999.00,9,     -999.0,9, -999.00,9, 20160307,     2357, -36.4981,  95.0029,     -999.0,9,     -999.0,9,     -999.0,9,-999.0000,9,-999.0000,9,-999.0000,9,-999.0000,9,-999.0000,9,-999.0000,9,-999.0000,9,     -999.0,9,     -999.0,9,     -999.0,9,     -999.0,9,     -999.0,9
33RR20160208,       I08S,      67,          1,         36,         36,2,20160307,       2205,   -36.4980,    95.0028,       4246,     5.1,  19.1422,  35.4168,2,  35.4181,2,    235.5,2,   235.1,2,     0.1,2,    0.00,2,   -0.04,2,    0.00,2,    0.15,2,   2.123,2,   1.320,2,   0.147,2,          1.31,2,  2065.3,2, 2336.68,2,   7.9774,6,    25.03,  19.1417, -999.00,9,  -999.0,9,  -999.0, -999.00,9,-999.000,9,  -999.0,9, -999.00,9,     -999.0,9, -999.00,9, 20160307,     2358, -36.4980,  95.0029,     -999.0,9,     -999.0,9,     -999.0,9,-999.0000,9,-999.0000,9,-999.0000,9,-999.0000,9,-999.0000,9,-999.0000,9,-999.0000,9,     -999.0,9,     -999.0,9,     -999.0,9,     -999.0,9,     -999.0,9