BOTTLE,20220706CCHSIOAMB
EXPOCODE,SECT_ID,STNNBR,CASTNO,SAMPNO,BTLNBR,BTLNBR_FLAG_W,DATE,TIME,LATITUDE,LONGITUDE,DEPTH,CTDPRS,CTDTMP,CTDSAL,CTDSAL_FLAG_W,SALNTY,SALNTY_FLAG_W,CTDOXY,CTDOXY_FLAG_W,OXYGEN,OXYGEN_FLAG_W,SILCAT,SILCAT_FLAG_W,NH4,NH4_FLAG_W,NITRAT,NITRAT_FLAG_W,NITRIT,NITRIT_FLAG_W,PHSPHT,PHSPHT_FLAG_W,CFC-11,CFC-11_FLAG_W,CFC-12,CFC-12_FLAG_W,CFC113,CFC113_FLAG_W,SF6,SF6_FLAG_W,TCARBN,TCARBN_FLAG_W,ALKALI,ALKALI_FLAG_W,PH_TOT,PH_TOT_FLAG_W,PH_TMP,REFTMP,DELC13,DELC13_FLAG_W,DELC14,DELC14_FLAG_W,C14ERR,DELO18,DELO18_FLAG_W,POC,POC_FLAG_W,DOC,DOC_FLAG_W,TDN,TDN_FLAG_W,TON,TON_FLAG_W,D15N_NO3,D15N_NO3_FLAG_W,BTL_DATE,BTL_TIME,BTL_LAT,BTL_LON,14C-DOC,14C-DOC_FLAG_W,CHLORA,CHLORA_FLAG_W,HPLC,HPLC_FLAG_W,CDOM325,CDOM325_FLAG_W,CDOM340,CDOM340_FLAG_W,CDOM380,CDOM380_FLAG_W,CDOM412,CDOM412_FLAG_W,CDOM443,CDOM443_FLAG_W,CDOM490,CDOM490_FLAG_W,CDOM555,CDOM555_FLAG_W,CDOMSL,CDOMSL_FLAG_W,CDOMSN,CDOMSN_FLAG_W,D18O_NO3,D18O_NO3_FLAG_W,D15N_NO2+NO3,D15N_NO2+NO3_FLAG_W,D18O_NO2+NO3,D18O_NO2+NO3_FLAG_W
,,,,,,,,,,,METERS,DBAR,ITS-90,PSS-78,,PSS-78,,UMOL/KG,,UMOL/KG,,UMOL/KG,,UMOL/KG,,UMOL/KG,,UMOL/KG,,UMOL/KG,,PMOL/KG,,PMOL/KG,,PMOL/KG,,FMOL/KG,,UMOL/KG,,UMOL/KG,,,,DEG C,DEG C,/MILLE,,/MILLE,,/MILLE,/MILLE,,UG/KG,,UMOL/KG,,UMOL/KG,,UMOL/KG,,/MILLE,,,,,,/MILLE,,MG/M3,,,,1/M,,1/M,,1/M,,1/M,,1/M,,1/M,,1/M,,1/NM,,1/NM,,/MILLE,,/MILLE,,/MILLE,
33RR20160208,       I08S,      32,          1,         28,         28,2,20160226,       1706,   -54.7862,    85.6644,       4712,   302.5,   2.2813,  34.5264,2,  34.5269,2,    175.7,2,   176.1,2,    70.9,2,    0.00,2,   34.34,2,    0.00,2,    2.37,2,   0.974,2,   0.493,2,   0.067,2,   0.297970827,2,  2254.8,2, 2330.26,2,   7.5388,6,    24.97,   2.2792, -999.00,9,  -999.0,9,  -999.0, -999.00,1,-999.000,9,    40.2,2,   36.80,2,     -999.0,1,    5.04,2, 20160226,     1858, -54.7863,  85.6643,     -999.0,9,     -999.0,9,     -999.0,9,-999.0000,9,-999.0000,9,-999.0000,9,-999.0000,9,-999.0000,9,-999.0000,9,-999.0000,9,     -999.0,9,     -999.0,9,       2.11,2,       5.04,2,       2.11,2
33RR20160208,       I08S,      32,          1,         29,         29,2,20160226,       1706,   -54.7862,    85.6644,       4712,   252.2,   1.5822,  34.4018,2,  34.4037,2,    186.0,2,   202.8,2,    67.0,2,    0.04,2,   34.39,2,    0.08,2,    2.38,2,   2.012,2,   1.036,2,   0.167,2,   0.734792004,2,  2247.8,2, 2321.78,2,   7.5375,6,    24.98,   1.6111, -999.00,9,  -999.0,9,  -999.0, -999.00,1,-999.000,9,    40.2,2,   36.70,2,     -999.0,1,    5.03,2, 20160226,     1900, -54.7862,  85.6644,     -999.0,9,     -999.0,9,     -999.0,9,-999.0000,9,-999.0000,9,-999.0000,9,-999.0000,9,-999.0000,9,-999.0000,9,-999.0000,9,     -999.0,9,     -999.0,9,       2.28,2,       4.94,2,       2.16,2
33RR20160208,       I08S,      32,          1,         30,         30,2,20160226,       1706,   -54.7862,    85.6644,       4712,   201.0,   1.2294,  34.2897,2,  34.2832,2,    236.3,2,   232.1,2,    58.2,2,    0.11,2,   33.40,2,    0.09,2,    2.33,2,   2.894,2,   1.507,2,   0.252,2,    1.28005835,2,  2231.8,2, 2312.50,2,   7.5574,2,    25.00,   1.2259, -999.00,9,  -999.0,9,  -999.0, -999.00,1,-999.000,9,    40.2,2,   35.50,2,     -999.0,1,    5.13,2, 20160226,     1902, -54.7862,  85.6643,     -999.0,9,     -999.0,9,     -999.0,9,-999.0000,9,-999.0000,9,-999.0000,9,-999.0000,9,-999.0000,9,-999.0000,9,-999.0000,9,     -999.0,9,     -999.0,9,       2.32,2,       5.02,2,       2.38,2
33RR20160208,       I08S,      32,          1,         31,         31,2,20160226,       1706,   -54.7862,    85.6644,       4712,   150.6,   0.5307,  33.9978,2,  34.0082,2,    309.9,2,   308.1,2,    40.5,2,    0.49,2,   28.99,2,    0.21,2,    2.05,2,   4.937,2,   2.590,2,   0.465,2,    2.23275419,2,  2195.1,2, 2298.51,2,   7.6265,2,    24.99,   0.5280, -999.00,9,  -999.0,9,  -999.0, -999.00,1,-999.000,9,    41.2,2,   32.20,2,     -999.0,1,    5.91,2, 20160226,     1904, -54.7862,  85.6643,     -999.0,9,     -999.0,9,     -999.0,9,-999.0000,9,-999.0000,9,-999.0000,9,-999.0000,9,-999.0000,9,-999.0000,9,-999.0000,9,     -999.0,9,     -999.0,9,       2.82,2,       5.53,2,       2.96,2
33RR20160208,       I08S,      32,          1,         32,         32,2,20160226,       1706,   -54.7862,    85.6644,       4712,    98.5,   1.9901,  33.8433,2,  33.8396,2,    328.0,2,   331.4,2,    23.8,2,    0.50,2,   25.21,2,    0.27,2,    1.76,2,   5.230,2,   2.736,2,   0.491,2,    2.04829606,2,  2162.7,2, 2288.59,6,   7.6936,2,    24.98,   1.9896, -999.00,9,  -999.0,9,  -999.0, -999.00,1,-999.000,9,    44.7,2,   28.90,2,     -999.0,1,    7.11,2, 20160226,     1906, -54.7863,  85.6643,     -999.0,9,     -999.0,9,     -999.0,9,-999.0000,9,-999.0000,9,-999.0000,9,-999.0000,9,-999.0000,9,-999.0000,9,-999.0000,9,     -999.0,9,     -999.0,9,        3.4,2,        6.3,2,       3.53,2
33RR20160208,       I08S,      32,          1,         33,         33,2,20160226,       1706,   -54.7862,    85.6644,       4712,    75.9,   2.6674,  33.8287,2,  33.8233,2,    324.5,2,   329.7,2,    20.0,2,    0.34,2,   24.49,2,    0.27,2,    1.68,2,   5.173,2,   2.768,2,   0.495,2,    2.36653701,2,  2154.1,2, 2286.26,2,   7.7078,2,    24.98,   2.6670, -999.00,9,  -999.0,9,  -999.0, -999.00,1,-999.000,9,    43.5,2,   28.60,2,     -999.0,1,    7.33,2, 20160226,     1909, -54.7862,  85.6643,     -999.0,9,     -999.0,9,     -999.0,9,-999.0000,9,-999.0000,9,-999.0000,9,-999.0000,9,-999.0000,9,-999.0000,9,-999.0000,9,     -999.0,9,     -999.0,9,       3.61,2,       6.44,2,       3.73,2
33RR20160208,       I08S,      32,          1,         34,         34,2,20160226,       1706,   -54.7862,    85.6644,       4712,    50.5,   3.3874,  33.8450,2,  33.8450,2,    329.3,2,   325.1,3,    13.9,2,    0.23,2,   23.78,2,    0.24,2,    1.62,2,   4.865,2,   2.614,2,   0.470,2,    2.31282118,2,  2148.3,2, 2283.45,2,   7.7230,2,    24.97,   3.3894, -999.00,9,  -999.0,9,  -999.0, -999.00,1,-999.000,9,    42.7,2,   26.40,2,     -999.0,1,    7.39,2, 20160226,     1911, -54.7862,  85.6644,     -999.0,9,     -999.0,9,     -999.0,9,-999.0000,9,-999.0000,9,-999.0000,9,-999.0000,9,-999.0000,9,-999.0000,9,-999.0000,9,     -999.0,9,     -999.0,9,       3.75,2,       6.64,2,       3.86,2
33RR20160208,       I08S,      32,          1,         35,         35,2,20160226,       1706,   -54.7862,    85.6644,       4712,    26.1,   3.5766,  33.8475,2,  33.8471,2,    326.0,2,   323.8,2,    12.4,2,    0.21,2,   23.44,2,    0.23,2,    1.60,2,   4.766,2,   2.559,2,   0.450,2,    2.22363263,2,  2146.8,2, 2282.67,2,   7.7264,2,    24.98,   3.5767, -999.00,9,  -999.0,9,  -999.0, -999.00,1,-999.000,9,    43.5,2,   26.10,2,     -999.0,1,    7.46,2, 20160226,     1913, -54.7862,  85.6644,     -999.0,9,     -999.0,9,     -999.0,9,-999.0000,9,-999.0000,9,-999.0000,9,-999.0000,9,-999.0000,9,-999.0000,9,-999.0000,9,     -999.0,9,     -999.0,9,       3.91,2,       6.69,2,       3.95,2
33RR20160208,       I08S,      32,          1,         36,         36,2,20160226,       1706,   -54.7862,    85.6644,       4712,     4.8,   3.5735,  33.8475,2,  33.8477,2,    326.5,2,   323.0,2,    12.5,2,    0.21,2,   23.38,2,    0.23,2,    1.60,2,   4.786,2,   2.558,2,   0.454,2,    2.50031983,2,  2144.9,6, 2281.39,2,   7.7264,6,    24.98,   3.5735, -999.00,9,  -999.0,9,  -999.0, -999.00,1,-999.000,9,    43.9,2,   25.70,2,     -999.0,1,     7.5,2, 20160226,     1916, -54.7862,  85.6644,     -999.0,9,     -999.0,9,     -999.0,9,-999.0000,9,-999.0000,9,-999.0000,9,-999.0000,9,-999.0000,9,-999.0000,9,-999.0000,9,     -999.0,9,     -999.0,9,       3.99,2,       6.68,2,       3.98,2