BOTTLE,20220706CCHSIOAMB
EXPOCODE,SECT_ID,STNNBR,CASTNO,SAMPNO,BTLNBR,BTLNBR_FLAG_W,DATE,TIME,LATITUDE,LONGITUDE,DEPTH,CTDPRS,CTDTMP,CTDSAL,CTDSAL_FLAG_W,SALNTY,SALNTY_FLAG_W,CTDOXY,CTDOXY_FLAG_W,OXYGEN,OXYGEN_FLAG_W,SILCAT,SILCAT_FLAG_W,NH4,NH4_FLAG_W,NITRAT,NITRAT_FLAG_W,NITRIT,NITRIT_FLAG_W,PHSPHT,PHSPHT_FLAG_W,CFC-11,CFC-11_FLAG_W,CFC-12,CFC-12_FLAG_W,CFC113,CFC113_FLAG_W,SF6,SF6_FLAG_W,TCARBN,TCARBN_FLAG_W,ALKALI,ALKALI_FLAG_W,PH_TOT,PH_TOT_FLAG_W,PH_TMP,REFTMP,DELC13,DELC13_FLAG_W,DELC14,DELC14_FLAG_W,C14ERR,DELO18,DELO18_FLAG_W,POC,POC_FLAG_W,DOC,DOC_FLAG_W,TDN,TDN_FLAG_W,TON,TON_FLAG_W,D15N_NO3,D15N_NO3_FLAG_W,BTL_DATE,BTL_TIME,BTL_LAT,BTL_LON,14C-DOC,14C-DOC_FLAG_W,CHLORA,CHLORA_FLAG_W,HPLC,HPLC_FLAG_W,CDOM325,CDOM325_FLAG_W,CDOM340,CDOM340_FLAG_W,CDOM380,CDOM380_FLAG_W,CDOM412,CDOM412_FLAG_W,CDOM443,CDOM443_FLAG_W,CDOM490,CDOM490_FLAG_W,CDOM555,CDOM555_FLAG_W,CDOMSL,CDOMSL_FLAG_W,CDOMSN,CDOMSN_FLAG_W,D18O_NO3,D18O_NO3_FLAG_W,D15N_NO2+NO3,D15N_NO2+NO3_FLAG_W,D18O_NO2+NO3,D18O_NO2+NO3_FLAG_W
,,,,,,,,,,,METERS,DBAR,ITS-90,PSS-78,,PSS-78,,UMOL/KG,,UMOL/KG,,UMOL/KG,,UMOL/KG,,UMOL/KG,,UMOL/KG,,UMOL/KG,,PMOL/KG,,PMOL/KG,,PMOL/KG,,FMOL/KG,,UMOL/KG,,UMOL/KG,,,,DEG C,DEG C,/MILLE,,/MILLE,,/MILLE,/MILLE,,UG/KG,,UMOL/KG,,UMOL/KG,,UMOL/KG,,/MILLE,,,,,,/MILLE,,MG/M3,,,,1/M,,1/M,,1/M,,1/M,,1/M,,1/M,,1/M,,1/NM,,1/NM,,/MILLE,,/MILLE,,/MILLE,
33RR20160208,       I08S,      26,          1,         28,         28,2,20160224,       2356,   -57.3209,    82.7791,       4240,   249.2,   0.9651,  34.5702,2,  34.5662,2,    213.7,2,   205.6,2,    79.2,2,    0.00,2,   32.89,2,    0.04,2,    2.27,2,   1.623,2,   0.847,2,   0.140,2,   0.613077713,2,  2253.3,2, 2334.80,2,   7.7754,2,     9.80,   0.9668, -999.00,9,  -999.0,9,  -999.0, -999.00,1,-999.000,9,    39.2,2,   35.30,2,     -999.0,1, -999.00,9, 20160225,      133, -57.3210,  82.7791,     -999.0,9,     -999.0,9,     -999.0,9,-999.0000,9,-999.0000,9,-999.0000,9,-999.0000,9,-999.0000,9,-999.0000,9,-999.0000,9,     -999.0,9,     -999.0,9,     -999.0,9,     -999.0,9,     -999.0,9
33RR20160208,       I08S,      26,          1,         29,         29,2,20160224,       2356,   -57.3209,    82.7791,       4240,   197.2,   0.5205,  34.5093,2,  34.5087,2,    219.5,2,   218.4,2,    76.1,2,    0.00,2,   32.80,2,    0.08,2,    2.28,2,   2.133,2,   1.096,2,   0.182,2,   0.938902126,2,  2246.9,2, 2330.17,2,   7.7764,2,     9.79,   0.5304,    0.46,2,  -142.6,2,     2.6, -999.00,1,-999.000,9,    40.1,2,   36.80,3,     -999.0,1, -999.00,9, 20160225,      135, -57.3209,  82.7791,     -999.0,9,     -999.0,9,     -999.0,9,-999.0000,9,-999.0000,9,-999.0000,9,-999.0000,9,-999.0000,9,-999.0000,9,-999.0000,9,     -999.0,9,     -999.0,9,     -999.0,9,     -999.0,9,     -999.0,9
33RR20160208,       I08S,      26,          1,         30,         30,2,20160224,       2356,   -57.3209,    82.7791,       4240,   150.5,   0.1593,  34.4420,2,  34.4409,2,    226.5,2,   229.9,2,    72.3,2,    0.00,2,   32.62,2,    0.20,2,    2.30,2,   2.586,2,   1.340,2,   0.231,2,    1.08608138,2,  2240.4,2, 2325.36,2,   7.7788,2,     9.79,   0.1611,    0.52,2,  -133.1,2,     2.2, -999.00,1,-999.000,9,    39.4,2,   35.70,2,     -999.0,1, -999.00,9, 20160225,      137, -57.3210,  82.7791,     -999.0,9,     -999.0,9,     -999.0,9,-999.0000,9,-999.0000,9,-999.0000,9,-999.0000,9,-999.0000,9,-999.0000,9,-999.0000,9,     -999.0,9,     -999.0,9,     -999.0,9,     -999.0,9,     -999.0,9
33RR20160208,       I08S,      26,          1,         31,         31,2,20160224,       2356,   -57.3209,    82.7791,       4240,   124.5,   0.0664,  34.3885,2,  34.3837,2,    237.8,2,   235.3,2,    69.9,2,    0.29,2,   32.18,2,    0.21,2,    2.29,2,   2.769,2,   1.448,2,   0.250,2,    1.31750806,2,  2237.1,2, 2322.51,2,   7.7816,2,     9.79,   0.0654,    0.47,2,  -132.7,2,     1.8, -999.00,1,-999.000,9,    40.4,2,   35.40,2,     -999.0,1, -999.00,9, 20160225,      138, -57.3210,  82.7791,     -999.0,9,     -999.0,9,     -999.0,9,-999.0000,9,-999.0000,9,-999.0000,9,-999.0000,9,-999.0000,9,-999.0000,9,-999.0000,9,     -999.0,9,     -999.0,9,     -999.0,9,     -999.0,9,     -999.0,9
33RR20160208,       I08S,      26,          1,         32,         32,2,20160224,       2356,   -57.3209,    82.7791,       4240,    99.6,   0.0381,  34.2540,2,  34.2628,2,    254.6,2,   251.9,2,    64.1,2,    0.86,2,   30.93,2,    0.20,2,    2.25,2,   3.274,2,   1.726,2,   0.304,2,    1.62404692,2,  2226.4,2, 2315.80,6,   7.7970,2,     9.80,   0.0404,    0.58,2,  -131.9,2,     2.6, -999.00,1,-999.000,9,    40.0,2,   34.00,2,     -999.0,1, -999.00,9, 20160225,      140, -57.3210,  82.7791,     -999.0,9,     -999.0,9,     -999.0,9,-999.0000,9,-999.0000,9,-999.0000,9,-999.0000,9,-999.0000,9,-999.0000,9,-999.0000,9,     -999.0,9,     -999.0,9,     -999.0,9,     -999.0,9,     -999.0,9
33RR20160208,       I08S,      26,          1,         33,         33,2,20160224,       2356,   -57.3209,    82.7791,       4240,    75.1,   0.3877,  34.0991,2,  34.0960,2,    283.2,2,   277.8,2,    52.1,2,    1.12,2,   28.50,2,    0.19,2,    2.09,2,   3.912,2,   2.087,2,   0.368,2,    2.05035924,2,  2201.9,2, 2307.19,2,   7.8415,2,     9.79,   0.3894,    0.81,2,  -129.3,2,     2.7, -999.00,1,-999.000,9,    40.7,2,   32.10,2,     -999.0,1, -999.00,9, 20160225,      142, -57.3210,  82.7791,     -999.0,9,     -999.0,9,     -999.0,9,-999.0000,9,-999.0000,9,-999.0000,9,-999.0000,9,-999.0000,9,-999.0000,9,-999.0000,9,     -999.0,9,     -999.0,9,     -999.0,9,     -999.0,9,     -999.0,9
33RR20160208,       I08S,      26,          1,         34,         34,2,20160224,       2356,   -57.3209,    82.7791,       4240,    49.7,   1.6420,  33.8520,2,  33.8505,2,    330.9,2,   330.6,2,    27.3,2,    0.48,2,   24.36,2,    0.22,2,    1.60,2,   5.245,2,   2.823,2,   0.502,2,    2.70200806,2,  2157.9,2, 2292.18,2,   7.9352,2,     9.82,   1.6511,    1.27,2,  -120.3,2,     2.1, -999.00,1,-999.000,9,    42.2,2,   27.30,2,     -999.0,1, -999.00,9, 20160225,      144, -57.3210,  82.7791,     -999.0,9,     -999.0,9,     -999.0,9,-999.0000,9,-999.0000,9,-999.0000,9,-999.0000,9,-999.0000,9,-999.0000,9,-999.0000,9,     -999.0,9,     -999.0,9,     -999.0,9,     -999.0,9,     -999.0,9
33RR20160208,       I08S,      26,          1,         35,         35,2,20160224,       2356,   -57.3209,    82.7791,       4240,    25.2,   1.6513,  33.6795,2,  33.7470,2,    338.2,2,   335.2,2,    24.8,2,    0.40,2,   23.38,2,    0.22,2,    1.50,2,   5.243,2,   2.806,2,   0.504,2,    2.69490286,2,  2145.9,2, 2287.02,2,   7.9496,2,     9.79,   1.6527, -999.00,9,  -999.0,9,  -999.0, -999.00,1,-999.000,9,    44.2,2,   26.30,2,     -999.0,1, -999.00,9, 20160225,      146, -57.3210,  82.7791,     -999.0,9,     -999.0,9,     -999.0,9,-999.0000,9,-999.0000,9,-999.0000,9,-999.0000,9,-999.0000,9,-999.0000,9,-999.0000,9,     -999.0,9,     -999.0,9,     -999.0,9,     -999.0,9,     -999.0,9
33RR20160208,       I08S,      26,          1,         36,         36,2,20160224,       2356,   -57.3209,    82.7791,       4240,     5.4,   1.6228,  33.6659,2,  33.6671,2,    338.3,2,   338.2,2,    24.0,2,    0.42,2,   22.58,2,    0.23,2,    1.48,2,   5.207,2,   2.784,2,   0.500,2,         2.769,2,  2138.8,6, 2281.44,2,   7.9582,2,     9.80,   1.6229,    1.45,2,  -117.3,2,     2.4, -999.00,1,-999.000,9,    45.6,2,   26.80,2,     -999.0,1, -999.00,9, 20160225,      148, -57.3210,  82.7791,     -999.0,9,     -999.0,9,     -999.0,9,-999.0000,9,-999.0000,9,-999.0000,9,-999.0000,9,-999.0000,9,-999.0000,9,-999.0000,9,     -999.0,9,     -999.0,9,     -999.0,9,     -999.0,9,     -999.0,9