BOTTLE,20220706CCHSIOAMB
EXPOCODE,SECT_ID,STNNBR,CASTNO,SAMPNO,BTLNBR,BTLNBR_FLAG_W,DATE,TIME,LATITUDE,LONGITUDE,DEPTH,CTDPRS,CTDTMP,CTDSAL,CTDSAL_FLAG_W,SALNTY,SALNTY_FLAG_W,CTDOXY,CTDOXY_FLAG_W,OXYGEN,OXYGEN_FLAG_W,SILCAT,SILCAT_FLAG_W,NH4,NH4_FLAG_W,NITRAT,NITRAT_FLAG_W,NITRIT,NITRIT_FLAG_W,PHSPHT,PHSPHT_FLAG_W,CFC-11,CFC-11_FLAG_W,CFC-12,CFC-12_FLAG_W,CFC113,CFC113_FLAG_W,SF6,SF6_FLAG_W,TCARBN,TCARBN_FLAG_W,ALKALI,ALKALI_FLAG_W,PH_TOT,PH_TOT_FLAG_W,PH_TMP,REFTMP,DELC13,DELC13_FLAG_W,DELC14,DELC14_FLAG_W,C14ERR,DELO18,DELO18_FLAG_W,POC,POC_FLAG_W,DOC,DOC_FLAG_W,TDN,TDN_FLAG_W,TON,TON_FLAG_W,D15N_NO3,D15N_NO3_FLAG_W,BTL_DATE,BTL_TIME,BTL_LAT,BTL_LON,14C-DOC,14C-DOC_FLAG_W,CHLORA,CHLORA_FLAG_W,HPLC,HPLC_FLAG_W,CDOM325,CDOM325_FLAG_W,CDOM340,CDOM340_FLAG_W,CDOM380,CDOM380_FLAG_W,CDOM412,CDOM412_FLAG_W,CDOM443,CDOM443_FLAG_W,CDOM490,CDOM490_FLAG_W,CDOM555,CDOM555_FLAG_W,CDOMSL,CDOMSL_FLAG_W,CDOMSN,CDOMSN_FLAG_W,D18O_NO3,D18O_NO3_FLAG_W,D15N_NO2+NO3,D15N_NO2+NO3_FLAG_W,D18O_NO2+NO3,D18O_NO2+NO3_FLAG_W
,,,,,,,,,,,METERS,DBAR,ITS-90,PSS-78,,PSS-78,,UMOL/KG,,UMOL/KG,,UMOL/KG,,UMOL/KG,,UMOL/KG,,UMOL/KG,,UMOL/KG,,PMOL/KG,,PMOL/KG,,PMOL/KG,,FMOL/KG,,UMOL/KG,,UMOL/KG,,,,DEG C,DEG C,/MILLE,,/MILLE,,/MILLE,/MILLE,,UG/KG,,UMOL/KG,,UMOL/KG,,UMOL/KG,,/MILLE,,,,,,/MILLE,,MG/M3,,,,1/M,,1/M,,1/M,,1/M,,1/M,,1/M,,1/M,,1/NM,,1/NM,,/MILLE,,/MILLE,,/MILLE,
33RR20160208,       I08S,      39,          1,         28,         28,2,20160229,       1357,   -51.5350,    88.8849,       4081,   266.1,   3.2267,  34.0229,2,  34.0274,2,    278.2,2,   277.1,2,    19.9,2,    0.00,2,   28.33,2,    0.00,2,    1.96,2,   4.284,2,   2.394,2,   0.365,2,    2.16695881,2,  -999.0,9, -999.00,9,-999.0000,9,  -999.00,   3.2265, -999.00,9,  -999.0,9,  -999.0, -999.00,9,-999.000,9,  -999.0,9, -999.00,9,     -999.0,9, -999.00,9, 20160229,     1536, -51.5350,  88.8848,     -999.0,9,     -999.0,9,     -999.0,9,-999.0000,9,-999.0000,9,-999.0000,9,-999.0000,9,-999.0000,9,-999.0000,9,-999.0000,9,     -999.0,9,     -999.0,9,     -999.0,9,     -999.0,9,     -999.0,9
33RR20160208,       I08S,      39,          1,         29,         29,2,20160229,       1357,   -51.5350,    88.8849,       4081,   214.5,   3.4035,  33.9365,2,  33.9358,2,    294.0,2,   294.5,2,    14.4,2,    0.00,2,   26.82,2,    0.02,2,    1.86,2,   4.511,2,   2.576,2,   0.403,2,    2.54799588,2,  -999.0,9, -999.00,9,-999.0000,9,     9.00,   3.4040, -999.00,9,  -999.0,9,  -999.0, -999.00,9,-999.000,9,  -999.0,9, -999.00,9,     -999.0,9, -999.00,9, 20160229,     1538, -51.5350,  88.8848,     -999.0,9,     -999.0,9,     -999.0,9,-999.0000,9,-999.0000,9,-999.0000,9,-999.0000,9,-999.0000,9,-999.0000,9,-999.0000,9,     -999.0,9,     -999.0,9,     -999.0,9,     -999.0,9,     -999.0,9
33RR20160208,       I08S,      39,          1,         30,         30,2,20160229,       1357,   -51.5350,    88.8849,       4081,   166.1,   3.8343,  33.8660,2,  33.8643,2,    301.3,2,   302.1,2,     9.5,2,    0.00,2,   25.48,2,    0.07,2,    1.78,2,   4.542,2,   2.596,2,   0.420,2,    2.66827018,2,  2150.8,2, 2275.79,2,   7.6952,2,    24.99,   3.8352, -999.00,9,  -999.0,9,  -999.0, -999.00,9,-999.000,9,  -999.0,9, -999.00,9,     -999.0,9, -999.00,9, 20160229,     1540, -51.5350,  88.8848,     -999.0,9,     -999.0,9,     -999.0,9,-999.0000,9,-999.0000,9,-999.0000,9,-999.0000,9,-999.0000,9,-999.0000,9,-999.0000,9,     -999.0,9,     -999.0,9,     -999.0,9,     -999.0,9,     -999.0,9
33RR20160208,       I08S,      39,          1,         31,         31,2,20160229,       1357,   -51.5350,    88.8849,       4081,   136.2,   4.4916,  33.8274,2,  33.8291,2,    306.5,2,   306.3,2,     5.8,2,    0.44,2,   23.27,2,    0.38,2,    1.66,2,   4.487,2,   2.565,2,   0.420,2,    2.62480972,2,  -999.0,9, -999.00,9,-999.0000,9,  -999.00,   4.4982, -999.00,9,  -999.0,9,  -999.0, -999.00,9,-999.000,9,  -999.0,9, -999.00,9,     -999.0,9, -999.00,9, 20160229,     1541, -51.5350,  88.8848,     -999.0,9,     -999.0,9,     -999.0,9,-999.0000,9,-999.0000,9,-999.0000,9,-999.0000,9,-999.0000,9,-999.0000,9,-999.0000,9,     -999.0,9,     -999.0,9,     -999.0,9,     -999.0,9,     -999.0,9
33RR20160208,       I08S,      39,          1,         32,         32,2,20160229,       1357,   -51.5350,    88.8849,       4081,   110.7,   5.2637,  33.7963,2,  33.7974,2,    305.4,2,   304.2,2,     3.5,2,    0.88,2,   21.79,2,    0.31,2,    1.59,2,   4.190,2,   2.394,2,   0.384,2,    2.39032537,2,  2130.6,2, 2276.67,6,   7.7420,2,    25.00,   5.2478, -999.00,9,  -999.0,9,  -999.0, -999.00,9,-999.000,9,  -999.0,9, -999.00,9,     -999.0,9, -999.00,9, 20160229,     1543, -51.5350,  88.8848,     -999.0,9,     -999.0,9,     -999.0,9,-999.0000,9,-999.0000,9,-999.0000,9,-999.0000,9,-999.0000,9,-999.0000,9,-999.0000,9,     -999.0,9,     -999.0,9,     -999.0,9,     -999.0,9,     -999.0,9
33RR20160208,       I08S,      39,          1,         33,         33,2,20160229,       1357,   -51.5350,    88.8849,       4081,    85.8,   5.9102,  33.7772,2,  33.7777,2,    304.8,2,   304.4,2,     2.6,2,    0.62,2,   20.86,2,    0.24,2,    1.50,2,   4.068,2,   2.333,2,   0.386,2,    2.43479654,2,  -999.0,9, -999.00,9,-999.0000,9,  -999.00,   5.9118, -999.00,9,  -999.0,9,  -999.0, -999.00,9,-999.000,9,  -999.0,9, -999.00,9,     -999.0,9, -999.00,9, 20160229,     1545, -51.5350,  88.8848,     -999.0,9,     -999.0,9,     -999.0,9,-999.0000,9,-999.0000,9,-999.0000,9,-999.0000,9,-999.0000,9,-999.0000,9,-999.0000,9,     -999.0,9,     -999.0,9,     -999.0,9,     -999.0,9,     -999.0,9
33RR20160208,       I08S,      39,          1,         34,         34,3,20160229,       1357,   -51.5350,    88.8849,       4081,    63.1,   5.9249,  33.7771,3,-999.0000,9,    305.2,3,  -999.0,9,     2.6,3,    0.62,3,   20.81,3,    0.24,3,    1.48,3,-999.000,9,-999.000,9,-999.000,9,-999.000000000,9,  -999.0,9, -999.00,9,-999.0000,9,  -999.00,   5.9243, -999.00,9,  -999.0,9,  -999.0, -999.00,9,-999.000,9,  -999.0,9, -999.00,9,     -999.0,9, -999.00,9, 20160229,     1547, -51.5350,  88.8848,     -999.0,9,     -999.0,9,     -999.0,9,-999.0000,9,-999.0000,9,-999.0000,9,-999.0000,9,-999.0000,9,-999.0000,9,-999.0000,9,     -999.0,9,     -999.0,9,     -999.0,9,     -999.0,9,     -999.0,9
33RR20160208,       I08S,      39,          1,         35,         35,2,20160229,       1357,   -51.5350,    88.8849,       4081,    38.2,   5.9275,  33.7773,2,  33.7771,2,    305.0,2,   304.2,2,     2.7,2,    0.61,2,   20.75,2,    0.24,2,    1.47,2,   4.051,2,   2.319,2,   0.374,2,    2.19121582,2,  2122.2,2, 2274.34,2,   7.7616,6,    25.00,   5.9266, -999.00,9,  -999.0,9,  -999.0, -999.00,9,-999.000,9,  -999.0,9, -999.00,9,     -999.0,9, -999.00,9, 20160229,     1549, -51.5350,  88.8848,     -999.0,9,     -999.0,9,     -999.0,9,-999.0000,9,-999.0000,9,-999.0000,9,-999.0000,9,-999.0000,9,-999.0000,9,-999.0000,9,     -999.0,9,     -999.0,9,     -999.0,9,     -999.0,9,     -999.0,9
33RR20160208,       I08S,      39,          1,         36,         36,2,20160229,       1357,   -51.5350,    88.8849,       4081,     8.1,   5.9337,  33.7774,2,  33.7773,2,    305.5,2,   305.4,2,     2.6,2,    0.62,2,   20.69,2,    0.24,2,    1.46,2,   4.313,2,   2.335,2,   0.386,2,         2.454,2,  2120.9,6, 2274.61,2,   7.7619,6,    25.02,   5.9337, -999.00,9,  -999.0,9,  -999.0, -999.00,9,-999.000,9,  -999.0,9, -999.00,9,     -999.0,9, -999.00,9, 20160229,     1551, -51.5350,  88.8848,     -999.0,9,     -999.0,9,     -999.0,9,-999.0000,9,-999.0000,9,-999.0000,9,-999.0000,9,-999.0000,9,-999.0000,9,-999.0000,9,     -999.0,9,     -999.0,9,     -999.0,9,     -999.0,9,     -999.0,9