BOTTLE,20220706CCHSIOAMB
EXPOCODE,SECT_ID,STNNBR,CASTNO,SAMPNO,BTLNBR,BTLNBR_FLAG_W,DATE,TIME,LATITUDE,LONGITUDE,DEPTH,CTDPRS,CTDTMP,CTDSAL,CTDSAL_FLAG_W,SALNTY,SALNTY_FLAG_W,CTDOXY,CTDOXY_FLAG_W,OXYGEN,OXYGEN_FLAG_W,SILCAT,SILCAT_FLAG_W,NH4,NH4_FLAG_W,NITRAT,NITRAT_FLAG_W,NITRIT,NITRIT_FLAG_W,PHSPHT,PHSPHT_FLAG_W,CFC-11,CFC-11_FLAG_W,CFC-12,CFC-12_FLAG_W,CFC113,CFC113_FLAG_W,SF6,SF6_FLAG_W,TCARBN,TCARBN_FLAG_W,ALKALI,ALKALI_FLAG_W,PH_TOT,PH_TOT_FLAG_W,PH_TMP,REFTMP,DELC13,DELC13_FLAG_W,DELC14,DELC14_FLAG_W,C14ERR,DELO18,DELO18_FLAG_W,POC,POC_FLAG_W,DOC,DOC_FLAG_W,TDN,TDN_FLAG_W,TON,TON_FLAG_W,D15N_NO3,D15N_NO3_FLAG_W,BTL_DATE,BTL_TIME,BTL_LAT,BTL_LON,14C-DOC,14C-DOC_FLAG_W,CHLORA,CHLORA_FLAG_W,HPLC,HPLC_FLAG_W,CDOM325,CDOM325_FLAG_W,CDOM340,CDOM340_FLAG_W,CDOM380,CDOM380_FLAG_W,CDOM412,CDOM412_FLAG_W,CDOM443,CDOM443_FLAG_W,CDOM490,CDOM490_FLAG_W,CDOM555,CDOM555_FLAG_W,CDOMSL,CDOMSL_FLAG_W,CDOMSN,CDOMSN_FLAG_W,D18O_NO3,D18O_NO3_FLAG_W,D15N_NO2+NO3,D15N_NO2+NO3_FLAG_W,D18O_NO2+NO3,D18O_NO2+NO3_FLAG_W
,,,,,,,,,,,METERS,DBAR,ITS-90,PSS-78,,PSS-78,,UMOL/KG,,UMOL/KG,,UMOL/KG,,UMOL/KG,,UMOL/KG,,UMOL/KG,,UMOL/KG,,PMOL/KG,,PMOL/KG,,PMOL/KG,,FMOL/KG,,UMOL/KG,,UMOL/KG,,,,DEG C,DEG C,/MILLE,,/MILLE,,/MILLE,/MILLE,,UG/KG,,UMOL/KG,,UMOL/KG,,UMOL/KG,,/MILLE,,,,,,/MILLE,,MG/M3,,,,1/M,,1/M,,1/M,,1/M,,1/M,,1/M,,1/M,,1/NM,,1/NM,,/MILLE,,/MILLE,,/MILLE,
33RR20160208,       I08S,      34,          1,         28,         28,2,20160227,       0625,   -53.9380,    86.5697,       4870,   285.9,   1.8012,  34.1781,2,  34.1777,2,    257.7,2,   249.9,2,    41.7,2,    0.00,2,   31.99,2,    0.03,2,    2.22,2,   3.559,2,   1.785,2,   0.299,2,         1.352,2,  2211.4,2, 2299.83,2,   7.5891,2,    24.95,   1.7927, -999.00,9,  -999.0,9,  -999.0, -999.00,9,-999.000,9,    40.9,2,   34.80,2,     -999.0,1, -999.00,9, 20160227,      852, -53.9364,  86.5696,     -999.0,9,     -999.0,9,     -999.0,9,-999.0000,9,-999.0000,9,-999.0000,9,-999.0000,9,-999.0000,9,-999.0000,9,-999.0000,9,     -999.0,9,     -999.0,9,     -999.0,9,     -999.0,9,     -999.0,9
33RR20160208,       I08S,      34,          1,         29,         29,2,20160227,       0625,   -53.9380,    86.5697,       4870,   234.8,   1.9202,  34.1015,2,  34.1016,2,    266.7,2,   265.1,2,    34.0,2,    0.00,2,   31.00,2,    0.02,2,    2.14,2,   4.024,2,   2.094,2,   0.350,2,         1.794,2,  2198.2,2, 2290.21,2,   7.6056,2,    24.98,   1.9230, -999.00,9,  -999.0,9,  -999.0, -999.00,9,-999.000,9,    39.5,2,   33.90,2,     -999.0,1, -999.00,9, 20160227,      854, -53.9363,  86.5699,     -999.0,9,     -999.0,9,     -999.0,9,   0.0881,2,   0.0544,2,   0.0263,2,   0.0176,2,   0.0098,2,   0.0026,2,   0.0004,3,     0.0194,2,     0.0231,2,     -999.0,9,     -999.0,9,     -999.0,9
33RR20160208,       I08S,      34,          1,         30,         30,2,20160227,       0625,   -53.9380,    86.5697,       4870,   183.9,   2.0529,  34.0146,2,  34.0110,2,    287.9,2,   288.8,2,    26.9,2,    0.00,2,   29.10,2,    0.07,2,    2.02,2,   4.513,2,   2.358,2,   0.407,2,         1.749,2,  2182.3,2, 2287.75,2,   7.6315,2,    25.02,   2.0522, -999.00,9,  -999.0,9,  -999.0, -999.00,9,-999.000,9,    41.1,2,   32.10,2,     -999.0,1, -999.00,9, 20160227,      857, -53.9363,  86.5699,     -999.0,9,     -999.0,9,     -999.0,9,-999.0000,9,-999.0000,9,-999.0000,9,-999.0000,9,-999.0000,9,-999.0000,9,-999.0000,9,     -999.0,9,     -999.0,9,     -999.0,9,     -999.0,9,     -999.0,9
33RR20160208,       I08S,      34,          1,         31,         31,2,20160227,       0625,   -53.9380,    86.5697,       4870,   136.3,   2.2507,  33.9370,2,  33.9265,2,    310.3,2,   310.3,2,    22.0,2,    0.23,2,   26.78,2,    0.24,2,    1.91,2,   4.962,2,   2.614,2,   0.459,2,         2.205,2,  2169.9,2, 2285.94,2,   7.6654,2,    25.01,   2.2854, -999.00,9,  -999.0,9,  -999.0, -999.00,9,-999.000,9,    40.6,2,   31.00,2,     -999.0,1, -999.00,9, 20160227,      859, -53.9363,  86.5700,     -999.0,9,0.426843961,2,     -999.0,9,   0.0814,2,   0.0490,2,   0.0224,2,   0.0163,2,   0.0094,2,   0.0027,2,   0.0006,2,     0.0203,2,     0.0248,2,     -999.0,9,     -999.0,9,     -999.0,9
33RR20160208,       I08S,      34,          1,         32,         32,2,20160227,       0625,   -53.9380,    86.5697,       4870,    92.0,   3.3824,  33.8856,2,  33.8838,2,    319.0,2,   318.8,2,    13.1,2,    0.49,2,   23.47,2,    0.22,2,    1.69,2,   4.839,2,   2.570,2,   0.449,2,         2.064,2,  2147.4,2, 2283.91,2,   7.7154,2,    25.00,   3.3826, -999.00,9,  -999.0,9,  -999.0, -999.00,9,-999.000,9,    44.2,2,   27.40,2,     -999.0,1, -999.00,9, 20160227,      900, -53.9362,  86.5701,     -999.0,9,0.624777753,2,     -999.0,9,   0.0779,2,   0.0468,2,   0.0212,2,   0.0160,2,   0.0095,2,   0.0028,2,   0.0004,3,     0.0202,2,     0.0250,2,     -999.0,9,     -999.0,9,     -999.0,9
33RR20160208,       I08S,      34,          1,         33,         33,2,20160227,       0625,   -53.9380,    86.5697,       4870,    63.5,   3.7770,  33.8654,2,  33.8635,2,    320.1,2,   321.3,2,    11.7,2,    0.16,2,   23.09,2,    0.22,2,    1.62,2,   4.793,2,   2.561,2,   0.453,2,         2.347,2,  2142.6,2, 2282.24,2,   7.7265,2,    25.01,   3.7805, -999.00,9,  -999.0,9,  -999.0, -999.00,9,-999.000,9,    43.5,2,   26.30,2,     -999.0,1, -999.00,9, 20160227,      901, -53.9362,  86.5701,     -999.0,9,0.669559154,2,     -999.0,9,   0.0806,2,   0.0515,2,   0.0297,2,   0.0185,2,   0.0109,2,   0.0037,2,   0.0008,2,     0.0162,2,     0.0188,2,     -999.0,9,     -999.0,9,     -999.0,9
33RR20160208,       I08S,      34,          1,         34,         34,2,20160227,       0625,   -53.9380,    86.5697,       4870,    43.5,   3.7883,  33.8633,2,  33.8631,2,    319.6,2,   321.2,2,    11.8,2,    0.15,2,   23.12,2,    0.22,2,    1.62,2,   4.733,2,   2.506,2,   0.439,2,         2.259,2,  2143.6,2, 2283.98,2,   7.7274,2,    25.00,   3.7884, -999.00,9,  -999.0,9,  -999.0, -999.00,9,-999.000,9,    43.9,2,   27.70,2,     -999.0,1, -999.00,9, 20160227,      901, -53.9361,  86.5701,     -999.0,9,0.627091745,2,     -999.0,9,   0.0768,2,   0.0461,2,   0.0190,2,   0.0140,2,   0.0078,2,   0.0016,2,  -0.0001,4,     0.0221,2,     0.0267,2,     -999.0,9,     -999.0,9,     -999.0,9
33RR20160208,       I08S,      34,          1,         35,         35,2,20160227,       0625,   -53.9380,    86.5697,       4870,    24.7,   3.7872,  33.8632,2,  33.8615,2,    319.2,2,   321.2,2,    11.7,2,    0.15,2,   23.06,2,    0.22,2,    1.62,2,   4.740,2,   2.544,2,   0.444,2,         2.376,2,  2144.3,2, 2285.53,2,   7.7265,6,    25.01,   3.7887, -999.00,9,  -999.0,9,  -999.0, -999.00,9,-999.000,9,    43.6,2,   30.40,3,     -999.0,1, -999.00,9, 20160227,      902, -53.9361,  86.5703,     -999.0,9,0.607137359,2,     -999.0,9,   0.0768,2,   0.0464,2,   0.0194,2,   0.0140,2,   0.0078,2,   0.0016,3,  -0.0000,4,     0.0219,2,     0.0262,2,     -999.0,9,     -999.0,9,     -999.0,9
33RR20160208,       I08S,      34,          1,         36,         36,2,20160227,       0625,   -53.9380,    86.5697,       4870,     6.9,   3.7903,  33.8615,2,  33.8625,2,    320.6,2,   321.4,2,    11.8,2,    0.15,2,   23.15,2,    0.22,2,    1.65,2,   4.704,2,   2.494,2,   0.432,2,         2.245,2,  2142.7,6, 2281.84,2,   7.7268,2,    25.01,   3.7903, -999.00,9,  -999.0,9,  -999.0, -999.00,9,-999.000,9,    43.2,2,   26.10,2,     -999.0,1, -999.00,9, 20160227,      903, -53.9361,  86.5704,     -999.0,9,0.614277287,2,     -999.0,9,   0.0748,2,   0.0452,2,   0.0222,2,   0.0144,2,   0.0080,2,   0.0018,2,  -0.0000,4,     0.0194,2,     0.0234,2,     -999.0,9,     -999.0,9,     -999.0,9