BOTTLE,20220706CCHSIOAMB
EXPOCODE,SECT_ID,STNNBR,CASTNO,SAMPNO,BTLNBR,BTLNBR_FLAG_W,DATE,TIME,LATITUDE,LONGITUDE,DEPTH,CTDPRS,CTDTMP,CTDSAL,CTDSAL_FLAG_W,SALNTY,SALNTY_FLAG_W,CTDOXY,CTDOXY_FLAG_W,OXYGEN,OXYGEN_FLAG_W,SILCAT,SILCAT_FLAG_W,NH4,NH4_FLAG_W,NITRAT,NITRAT_FLAG_W,NITRIT,NITRIT_FLAG_W,PHSPHT,PHSPHT_FLAG_W,CFC-11,CFC-11_FLAG_W,CFC-12,CFC-12_FLAG_W,CFC113,CFC113_FLAG_W,SF6,SF6_FLAG_W,TCARBN,TCARBN_FLAG_W,ALKALI,ALKALI_FLAG_W,PH_TOT,PH_TOT_FLAG_W,PH_TMP,REFTMP,DELC13,DELC13_FLAG_W,DELC14,DELC14_FLAG_W,C14ERR,DELO18,DELO18_FLAG_W,POC,POC_FLAG_W,DOC,DOC_FLAG_W,TDN,TDN_FLAG_W,TON,TON_FLAG_W,D15N_NO3,D15N_NO3_FLAG_W,BTL_DATE,BTL_TIME,BTL_LAT,BTL_LON,14C-DOC,14C-DOC_FLAG_W,CHLORA,CHLORA_FLAG_W,HPLC,HPLC_FLAG_W,CDOM325,CDOM325_FLAG_W,CDOM340,CDOM340_FLAG_W,CDOM380,CDOM380_FLAG_W,CDOM412,CDOM412_FLAG_W,CDOM443,CDOM443_FLAG_W,CDOM490,CDOM490_FLAG_W,CDOM555,CDOM555_FLAG_W,CDOMSL,CDOMSL_FLAG_W,CDOMSN,CDOMSN_FLAG_W,D18O_NO3,D18O_NO3_FLAG_W,D15N_NO2+NO3,D15N_NO2+NO3_FLAG_W,D18O_NO2+NO3,D18O_NO2+NO3_FLAG_W
,,,,,,,,,,,METERS,DBAR,ITS-90,PSS-78,,PSS-78,,UMOL/KG,,UMOL/KG,,UMOL/KG,,UMOL/KG,,UMOL/KG,,UMOL/KG,,UMOL/KG,,PMOL/KG,,PMOL/KG,,PMOL/KG,,FMOL/KG,,UMOL/KG,,UMOL/KG,,,,DEG C,DEG C,/MILLE,,/MILLE,,/MILLE,/MILLE,,UG/KG,,UMOL/KG,,UMOL/KG,,UMOL/KG,,/MILLE,,,,,,/MILLE,,MG/M3,,,,1/M,,1/M,,1/M,,1/M,,1/M,,1/M,,1/M,,1/NM,,1/NM,,/MILLE,,/MILLE,,/MILLE,
33RR20160208,       I08S,      42,          2,          1,          1,2,20160301,       1014,   -50.0409,    90.2813,       4128,  4178.4,   0.4142,  34.6812,2,  34.6825,2,    219.9,2,   220.2,2,   128.1,2,    0.00,2,   32.33,2,    0.00,2,    2.24,2,   0.743,6,   0.368,6,   0.052,6,        0.2005,6,  2259.3,6, 2355.75,2,   7.5938,2,    24.93,   0.4144,    0.48,2,  -162.5,2,     2.3, -999.00,9,-999.000,9,    40.8,2, -999.00,9,     -999.0,1, -999.00,9, 20160301,     1014, -50.0409,  90.2814,     -999.0,9,     -999.0,9,     -999.0,9,   0.1310,2,   0.0873,2,   0.0428,2,   0.0300,2,   0.0177,2,   0.0069,2,   0.0019,2,     0.0183,2,     0.0207,2,     -999.0,9,     -999.0,9,     -999.0,9
33RR20160208,       I08S,      42,          2,          2,          2,2,20160301,       1014,   -50.0409,    90.2813,       4128,  3920.5,   0.4096,  34.6823,2,  34.6829,2,    218.9,2,   219.8,2,   127.5,2,    0.00,2,   32.31,2,    0.00,2,    2.24,2,   0.689,2,   0.346,2,   0.044,2,         0.135,2,  2259.8,2, 2358.59,2,   7.5933,2,    25.03,   0.4097,    0.52,2,  -156.4,2,     3.3, -999.00,9,-999.000,9,    39.0,2, -999.00,9,     -999.0,1, -999.00,9, 20160301,     1020, -50.0409,  90.2813,     -999.0,9,     -999.0,9,     -999.0,9,-999.0000,9,-999.0000,9,-999.0000,9,-999.0000,9,-999.0000,9,-999.0000,9,-999.0000,9,     -999.0,9,     -999.0,9,     -999.0,9,     -999.0,9,     -999.0,9
33RR20160208,       I08S,      42,          2,          3,          3,2,20160301,       1014,   -50.0409,    90.2813,       4128,  3659.5,   0.5695,  34.6912,2,  34.6913,2,    215.6,2,   216.4,2,   124.5,2,    0.00,2,   32.15,2,    0.00,2,    2.22,2,   0.550,2,   0.276,2,   0.034,2,         0.142,2,  2257.1,2, 2356.92,2,   7.5947,2,    25.03,   0.5709,    0.53,2,  -154.4,2,     3.5, -999.00,9,-999.000,9,    38.8,2, -999.00,9,     -999.0,1, -999.00,9, 20160301,     1026, -50.0409,  90.2813,     -999.0,9,     -999.0,9,     -999.0,9,-999.0000,9,-999.0000,9,-999.0000,9,-999.0000,9,-999.0000,9,-999.0000,9,-999.0000,9,     -999.0,9,     -999.0,9,     -999.0,9,     -999.0,9,     -999.0,9
33RR20160208,       I08S,      42,          2,          4,          4,2,20160301,       1014,   -50.0409,    90.2813,       4128,  3397.3,   0.6941,  34.6976,2,  34.6982,2,    212.4,2,   212.5,2,   121.7,2,    0.00,2,   32.09,2,    0.00,2,    2.22,2,   0.402,2,   0.205,2,   0.021,2,         0.068,2,  2259.1,2, 2358.55,2,   7.5965,6,    25.02,   0.6945,    0.54,2,  -158.0,2,     1.8, -999.00,9,-999.000,9,    38.0,2, -999.00,9,     -999.0,1, -999.00,9, 20160301,     1031, -50.0409,  90.2813,     -999.0,9,     -999.0,9,     -999.0,9,-999.0000,9,-999.0000,9,-999.0000,9,-999.0000,9,-999.0000,9,-999.0000,9,-999.0000,9,     -999.0,9,     -999.0,9,     -999.0,9,     -999.0,9,     -999.0,9
33RR20160208,       I08S,      42,          2,          5,          5,2,20160301,       1014,   -50.0409,    90.2813,       4128,  3090.4,   0.9280,  34.7106,2,  34.7096,2,    209.1,2,   209.1,2,   115.4,2,    0.00,2,   31.70,2,    0.00,2,    2.20,2,   0.279,2,   0.146,2,   0.013,2,         0.046,2,  2255.8,2, 2358.80,6,   7.6004,2,    25.01,   0.9281,    0.53,2,  -153.6,2,     3.5, -999.00,9,-999.000,9,    39.7,2, -999.00,9,     -999.0,1, -999.00,9, 20160301,     1038, -50.0409,  90.2813,     -999.0,9,     -999.0,9,     -999.0,9,   0.1374,2,   0.0938,2,   0.0483,2,   0.0323,2,   0.0188,2,   0.0073,2,   0.0018,2,     0.0175,2,     0.0193,2,     -999.0,9,     -999.0,9,     -999.0,9
33RR20160208,       I08S,      42,          2,          6,         38,2,20160301,       1014,   -50.0409,    90.2813,       4128,  2831.7,   1.1379,  34.7224,2,  34.7233,2,    207.1,2,   207.1,2,   109.4,2,    0.00,2,   31.34,2,    0.00,2,    2.17,2,   0.238,2,   0.125,2,   0.011,2,         0.039,2,  2254.3,2, 2359.38,2,   7.6062,2,    25.02,   1.1393,    0.59,2,  -159.1,2,     3.5, -999.00,9,-999.000,9,    39.4,2, -999.00,9,     -999.0,1, -999.00,9, 20160301,     1044, -50.0409,  90.2812,     -999.0,9,     -999.0,9,     -999.0,9,-999.0000,9,-999.0000,9,-999.0000,9,-999.0000,9,-999.0000,9,-999.0000,9,-999.0000,9,     -999.0,9,     -999.0,9,     -999.0,9,     -999.0,9,     -999.0,9
33RR20160208,       I08S,      42,          2,          7,          7,2,20160301,       1014,   -50.0409,    90.2813,       4128,  2586.6,   1.3388,  34.7331,2,  34.7343,2,    205.2,2,   205.4,2,   102.2,2,    0.00,2,   30.85,2,    0.00,2,    2.14,2,   0.216,2,   0.115,2,   0.011,2,         0.003,2,  2251.8,2, 2357.90,2,   7.6102,2,    25.01,   1.3387,    0.58,2,  -150.2,2,     4.3, -999.00,9,-999.000,9,    38.7,2, -999.00,9,     -999.0,1, -999.00,9, 20160301,     1049, -50.0410,  90.2812,     -999.0,9,     -999.0,9,     -999.0,9,-999.0000,9,-999.0000,9,-999.0000,9,-999.0000,9,-999.0000,9,-999.0000,9,-999.0000,9,     -999.0,9,     -999.0,9,     -999.0,9,     -999.0,9,     -999.0,9
33RR20160208,       I08S,      42,          2,          8,          8,2,20160301,       1014,   -50.0409,    90.2813,       4128,  2331.1,   1.5792,  34.7434,2,  34.7443,2,    202.9,2,   202.5,2,    95.5,2,    0.00,2,   30.40,2,    0.00,2,    2.10,2,   0.194,2,   0.105,2,   0.010,2,         0.031,2,  2249.2,2, 2355.10,2,   7.6134,2,    25.00,   1.5796,    0.58,2,  -151.3,2,     3.5, -999.00,9,-999.000,9,    39.1,2, -999.00,9,     -999.0,1, -999.00,9, 20160301,     1054, -50.0409,  90.2813,     -999.0,9,     -999.0,9,     -999.0,9,-999.0000,9,-999.0000,9,-999.0000,9,-999.0000,9,-999.0000,9,-999.0000,9,-999.0000,9,     -999.0,9,     -999.0,9,     -999.0,9,     -999.0,9,     -999.0,9
33RR20160208,       I08S,      42,          2,          9,          9,2,20160301,       1014,   -50.0409,    90.2813,       4128,  2086.0,   1.7747,  34.7481,2,  34.7494,2,    200.5,2,   200.6,2,    89.7,2,    0.00,2,   30.19,2,    0.00,2,    2.08,2,   0.194,2,   0.106,2,   0.011,2,         0.006,2,  2248.2,2, 2352.41,2,   7.6140,2,    24.99,   1.7754,    0.58,2,  -150.6,2,     3.9, -999.00,9,-999.000,9,    39.1,2, -999.00,9,     -999.0,1, -999.00,9, 20160301,     1100, -50.0410,  90.2812,     -999.0,9,     -999.0,9,     -999.0,9,   0.1216,2,   0.0800,2,   0.0381,2,   0.0270,2,   0.0154,2,   0.0052,2,   0.0009,2,     0.0189,2,     0.0216,2,     -999.0,9,     -999.0,9,     -999.0,9
33RR20160208,       I08S,      42,          2,         10,         10,2,20160301,       1014,   -50.0409,    90.2813,       4128,  1863.7,   1.9706,  34.7450,2,  34.7470,2,    196.0,2,   196.0,2,    84.6,2,    0.00,2,   30.36,2,    0.00,2,    2.09,2,   0.211,2,   0.114,2,   0.012,2,         0.043,2,  2246.3,6, 2350.32,2,   7.6086,2,    25.00,   1.9712,    0.57,2,  -149.8,2,     3.3, -999.00,9,-999.000,9,    38.5,2, -999.00,9,     -999.0,1, -999.00,9, 20160301,     1105, -50.0409,  90.2813,     -999.0,9,     -999.0,9,     -999.0,9,   0.1155,2,   0.0757,2,   0.0392,2,   0.0264,2,   0.0153,2,   0.0057,2,   0.0012,2,     0.0177,2,     0.0203,2,     -999.0,9,     -999.0,9,     -999.0,9
33RR20160208,       I08S,      42,          2,         11,         11,3,20160301,       1014,   -50.0409,    90.2813,       4128,  1736.0,   2.0931,  34.7367,3,  34.7374,3,    192.3,3,   193.4,3,    81.8,3,    0.00,3,   30.52,3,    0.00,3,    2.11,3,   0.237,2,   0.130,2,   0.014,2,         0.016,2,  -999.0,9, -999.00,9,-999.0000,9,     9.00,   2.0938, -999.00,9,  -999.0,9,  -999.0, -999.00,9,-999.000,9,    39.4,2, -999.00,9,     -999.0,1, -999.00,9, 20160301,     1108, -50.0410,  90.2812,     -999.0,9,     -999.0,9,     -999.0,9,-999.0000,5,-999.0000,5,-999.0000,5,-999.0000,5,-999.0000,5,-999.0000,5,-999.0000,5,     -999.0,5,     -999.0,5,     -999.0,9,     -999.0,9,     -999.0,9
33RR20160208,       I08S,      42,          2,         12,         12,2,20160301,       1014,   -50.0409,    90.2813,       4128,  1634.8,   2.1677,  34.7267,2,  34.7282,2,    189.5,2,   190.6,2,    80.0,2,    0.00,2,   30.80,2,    0.00,2,    2.13,2,   0.256,2,   0.139,2,   0.016,2,         0.081,2,  2247.5,2, 2347.75,2,   7.5976,2,    25.02,   2.1674,    0.55,2,  -148.4,2,     3.7, -999.00,9,-999.000,9,    39.5,2, -999.00,9,     -999.0,1, -999.00,9, 20160301,     1111, -50.0409,  90.2812,     -999.0,9,     -999.0,9,     -999.0,9,-999.0000,9,-999.0000,9,-999.0000,9,-999.0000,9,-999.0000,9,-999.0000,9,-999.0000,9,     -999.0,9,     -999.0,9,     -999.0,9,     -999.0,9,     -999.0,9
33RR20160208,       I08S,      42,          2,         13,         13,2,20160301,       1014,   -50.0409,    90.2813,       4128,  1532.9,   2.2435,  34.7113,2,  34.7133,2,    186.0,2,   187.0,2,    77.7,2,    0.00,2,   31.23,2,    0.00,2,    2.15,2,   0.293,2,   0.162,2,   0.018,2,         0.089,2,  2247.0,2, 2344.28,2,   7.5888,2,    25.00,   2.2445,    0.54,2,  -143.0,2,     3.5, -999.00,9,-999.000,9,    38.4,2, -999.00,9,     -999.0,1, -999.00,9, 20160301,     1114, -50.0410,  90.2813,     -999.0,9,     -999.0,9,     -999.0,9,-999.0000,5,-999.0000,5,-999.0000,5,-999.0000,5,-999.0000,5,-999.0000,5,-999.0000,5,     -999.0,5,     -999.0,5,     -999.0,9,     -999.0,9,     -999.0,9
33RR20160208,       I08S,      42,          2,         14,         14,2,20160301,       1014,   -50.0409,    90.2813,       4128,  1435.5,   2.3391,  34.6898,2,  34.6919,2,    183.3,2,   183.8,2,    75.8,2,    0.00,2,   31.66,2,    0.00,2,    2.19,2,   0.332,2,   0.174,2,   0.020,2,         0.088,2,  2250.0,2, 2341.11,2,   7.5827,2,    25.05,   2.3393,    0.54,2,  -145.6,2,     3.4, -999.00,9,-999.000,9,    39.8,2, -999.00,9,     -999.0,1, -999.00,9, 20160301,     1117, -50.0409,  90.2813,     -999.0,9,     -999.0,9,     -999.0,9,-999.0000,9,-999.0000,9,-999.0000,9,-999.0000,9,-999.0000,9,-999.0000,9,-999.0000,9,     -999.0,9,     -999.0,9,     -999.0,9,     -999.0,9,     -999.0,9
33RR20160208,       I08S,      42,          2,         15,         15,2,20160301,       1014,   -50.0409,    90.2813,       4128,  1335.0,   2.4324,  34.6662,2,  34.6671,2,    180.6,2,   180.7,2,    73.5,2,    0.00,2,   32.10,2,    0.00,2,    2.23,2,   0.371,2,   0.196,2,   0.023,2,         0.112,2,  2249.9,2, 2340.47,2,   7.5773,2,    24.99,   2.4328,    0.55,2,  -139.9,2,     3.8, -999.00,9,-999.000,9,    39.9,2, -999.00,9,     -999.0,1, -999.00,9, 20160301,     1120, -50.0409,  90.2812,     -999.0,9,     -999.0,9,     -999.0,9,-999.0000,9,-999.0000,9,-999.0000,9,-999.0000,9,-999.0000,9,-999.0000,9,-999.0000,9,     -999.0,9,     -999.0,9,     -999.0,9,     -999.0,9,     -999.0,9
33RR20160208,       I08S,      42,          2,         16,         16,2,20160301,       1014,   -50.0409,    90.2813,       4128,  1234.5,   2.5095,  34.6294,2,  34.6314,2,    178.1,2,   178.3,2,    72.0,2,    0.00,2,   32.71,2,    0.00,2,    2.27,2,   0.465,2,   0.243,2,   0.029,2,         0.139,2,  2249.9,2, 2336.73,2,   7.5686,2,    25.03,   2.5094,    0.50,2,  -140.8,2,     1.8, -999.00,9,-999.000,9,    39.0,2, -999.00,9,     -999.0,1, -999.00,9, 20160301,     1122, -50.0410,  90.2812,     -999.0,9,     -999.0,9,     -999.0,9,-999.0000,9,-999.0000,9,-999.0000,9,-999.0000,9,-999.0000,9,-999.0000,9,-999.0000,9,     -999.0,9,     -999.0,9,     -999.0,9,     -999.0,9,     -999.0,9
33RR20160208,       I08S,      42,          2,         17,         17,2,20160301,       1014,   -50.0409,    90.2813,       4128,  1135.5,   2.5980,  34.5926,2,  34.5938,2,    176.9,2,   176.4,2,    69.8,2,    0.00,2,   33.22,2,    0.00,2,    2.29,2,   0.562,2,   0.288,2,   0.036,2,         0.143,2,  2249.7,2, 2332.87,2,   7.5627,6,    25.03,   2.5974,    0.47,2,  -136.0,2,     2.1, -999.00,9,-999.000,9,    40.0,2, -999.00,9,     -999.0,1, -999.00,9, 20160301,     1125, -50.0410,  90.2812,     -999.0,9,     -999.0,9,     -999.0,9,-999.0000,9,-999.0000,9,-999.0000,9,-999.0000,9,-999.0000,9,-999.0000,9,-999.0000,9,     -999.0,9,     -999.0,9,     -999.0,9,     -999.0,9,     -999.0,9
33RR20160208,       I08S,      42,          2,         18,         37,2,20160301,       1014,   -50.0409,    90.2813,       4128,  1035.8,   2.6208,  34.5433,2,  34.5445,2,    177.2,2,   176.9,2,    67.8,2,    0.00,2,   33.80,2,    0.00,2,    2.32,2,   0.783,2,   0.400,2,   0.054,2,         0.217,2,  2250.8,2, 2328.24,2,   7.5529,6,    25.03,   2.6207,    0.50,2,  -139.2,2,     1.8, -999.00,9,-999.000,9,    38.6,2, -999.00,9,     -999.0,1, -999.00,9, 20160301,     1128, -50.0410,  90.2813,     -999.0,9,     -999.0,9,     -999.0,9,-999.0000,5,-999.0000,5,-999.0000,5,-999.0000,5,-999.0000,5,-999.0000,5,-999.0000,5,     -999.0,5,     -999.0,5,     -999.0,9,     -999.0,9,     -999.0,9
33RR20160208,       I08S,      42,          2,         19,         19,2,20160301,       1014,   -50.0409,    90.2813,       4128,   935.0,   2.6248,  34.4805,2,  34.4830,2,    179.6,2,   180.5,2,    63.8,2,    0.00,2,   34.25,2,    0.00,2,    2.35,2,   1.116,2,   0.564,2,   0.079,2,         0.322,2,  2247.1,6, 2325.18,2,   7.5481,2,    25.04,   2.6125,    0.50,2,  -131.2,2,     2.4, -999.00,9,-999.000,9,    39.4,2, -999.00,9,     -999.0,1, -999.00,9, 20160301,     1131, -50.0409,  90.2813,     -999.0,9,     -999.0,9,     -999.0,9,-999.0000,9,-999.0000,9,-999.0000,9,-999.0000,9,-999.0000,9,-999.0000,9,-999.0000,9,     -999.0,9,     -999.0,9,     -999.0,9,     -999.0,9,     -999.0,9
33RR20160208,       I08S,      42,          2,         20,         20,2,20160301,       1014,   -50.0409,    90.2813,       4128,   834.7,   2.8281,  34.4389,2,  34.4373,2,    185.1,2,   184.3,2,    58.0,2,    0.00,2,   34.07,2,    0.00,2,    2.35,2,   1.330,2,   0.669,2,   0.097,2,         0.331,2,  2237.9,2, 2319.89,2,   7.5537,2,    25.03,   2.8258,    0.55,2,  -128.5,2,     2.4, -999.00,9,-999.000,9,    38.4,2, -999.00,9,     -999.0,1, -999.00,9, 20160301,     1134, -50.0409,  90.2813,     -999.0,9,     -999.0,9,     -999.0,9,-999.0000,9,-999.0000,9,-999.0000,9,-999.0000,9,-999.0000,9,-999.0000,9,-999.0000,9,     -999.0,9,     -999.0,9,     -999.0,9,     -999.0,9,     -999.0,9
33RR20160208,       I08S,      42,          2,         21,         21,2,20160301,       1014,   -50.0409,    90.2813,       4128,   734.6,   3.1353,  34.3870,2,  34.3877,2,    192.7,2,   192.3,2,    50.1,2,    0.00,2,   33.38,2,    0.00,2,    2.31,2,   1.657,2,   0.833,2,   0.118,2,         0.458,2,  2226.8,2, 2312.87,2,   7.5676,2,    25.02,   3.1426,    0.62,2,  -106.9,2,     2.2, -999.00,9,-999.000,9,    38.4,2, -999.00,9,     -999.0,1, -999.00,9, 20160301,     1136, -50.0409,  90.2812,     -999.0,9,     -999.0,9,     -999.0,9,   0.1004,2,   0.0656,2,   0.0385,2,   0.0241,2,   0.0135,2,   0.0041,2,   0.0005,4,     0.0159,2,     0.0182,2,     -999.0,9,     -999.0,9,     -999.0,9
33RR20160208,       I08S,      42,          2,         22,         22,2,20160301,       1014,   -50.0409,    90.2813,       4128,   633.4,   3.1635,  34.3097,2,  34.3101,2,    207.4,2,   206.5,2,    42.2,2,    0.00,2,   32.71,2,    0.00,2,    2.25,2,   2.308,2,   1.192,2,   0.174,2,         0.725,2,  2216.3,2, 2303.75,2,   7.5770,2,    25.04,   3.1620,    0.69,2,   -92.4,2,     2.2, -999.00,9,-999.000,9,    40.0,2, -999.00,9,     -999.0,1, -999.00,9, 20160301,     1139, -50.0409,  90.2813,     -999.0,9,     -999.0,9,     -999.0,9,-999.0000,9,-999.0000,9,-999.0000,9,-999.0000,9,-999.0000,9,-999.0000,9,-999.0000,9,     -999.0,9,     -999.0,9,     -999.0,9,     -999.0,9,     -999.0,9
33RR20160208,       I08S,      42,          2,         23,         23,2,20160301,       1014,   -50.0409,    90.2813,       4128,   533.3,   3.3213,  34.2299,2,  34.2243,2,    232.5,2,   228.7,2,    32.8,2,    0.00,2,   31.31,2,    0.00,2,    2.14,2,   3.074,2,   1.634,2,   0.241,2,         1.122,2,  2199.3,2, 2293.74,2,   7.5985,2,    25.05,   3.2954,    0.89,2,   -79.5,2,     1.9, -999.00,9,-999.000,9,    39.8,2, -999.00,9,     -999.0,1, -999.00,9, 20160301,     1142, -50.0409,  90.2813,     -999.0,9,     -999.0,9,     -999.0,9,   0.0926,2,   0.0596,2,   0.0341,2,   0.0235,2,   0.0139,2,   0.0050,2,   0.0010,2,     0.0159,2,     0.0189,2,     -999.0,9,     -999.0,9,     -999.0,9
33RR20160208,       I08S,      42,          2,         24,         24,2,20160301,       1014,   -50.0409,    90.2813,       4128,   463.8,   3.6609,  34.2115,2,  34.2122,2,    236.7,2,   234.6,2,    27.0,2,    0.00,2,   30.21,2,    0.00,2,    2.06,2,   3.250,2,   1.747,2,   0.254,2,         1.258,2,  2190.2,2, 2290.74,2,   7.6146,2,    25.00,   3.6595,    0.95,2,   -62.2,2,     2.0, -999.00,9,-999.000,9,    41.5,2, -999.00,9,     -999.0,1, -999.00,9, 20160301,     1144, -50.0409,  90.2813,     -999.0,9,     -999.0,9,     -999.0,9,-999.0000,9,-999.0000,9,-999.0000,9,-999.0000,9,-999.0000,9,-999.0000,9,-999.0000,9,     -999.0,9,     -999.0,9,     -999.0,9,     -999.0,9,     -999.0,9
33RR20160208,       I08S,      42,          2,         25,         25,2,20160301,       1014,   -50.0409,    90.2813,       4128,   414.8,   4.1571,  34.2284,2,  34.2253,2,    237.9,2,   234.9,2,    23.6,2,    0.00,2,   29.28,2,    0.00,2,    2.00,2,   3.318,2,   1.794,2,   0.261,2,         1.149,2,  2183.9,2, 2288.53,2,   7.6247,2,    25.02,   4.1574,    0.97,2,   -53.1,2,     2.0, -999.00,9,-999.000,9,    40.6,2, -999.00,9,     -999.0,1, -999.00,9, 20160301,     1146, -50.0409,  90.2813,     -999.0,9,     -999.0,9,     -999.0,9,-999.0000,9,-999.0000,9,-999.0000,9,-999.0000,9,-999.0000,9,-999.0000,9,-999.0000,9,     -999.0,9,     -999.0,9,     -999.0,9,     -999.0,9,     -999.0,9
33RR20160208,       I08S,      42,          2,         26,         26,2,20160301,       1014,   -50.0409,    90.2813,       4128,   364.5,   4.3544,  34.2043,2,  34.2047,2,    239.8,2,   241.0,2,    19.9,2,    0.00,2,   28.39,2,    0.00,2,    1.93,2,   3.521,2,   1.935,2,   0.280,2,         1.368,2,  2177.1,2, 2285.39,2,   7.6355,2,    24.99,   4.3485,    1.00,2,   -48.0,2,     2.1, -999.00,9,-999.000,9,    41.1,2, -999.00,9,     -999.0,1, -999.00,9, 20160301,     1148, -50.0409,  90.2813,     -999.0,9,     -999.0,9,     -999.0,9,-999.0000,5,-999.0000,5,-999.0000,5,-999.0000,5,-999.0000,5,-999.0000,5,-999.0000,5,     -999.0,5,     -999.0,5,     -999.0,9,     -999.0,9,     -999.0,9
33RR20160208,       I08S,      42,          2,         27,         27,2,20160301,       1014,   -50.0409,    90.2813,       4128,   316.3,   4.4421,  34.1553,2,  34.1595,2,    249.5,2,   252.6,2,    17.6,2,    0.00,2,   27.33,2,    0.00,2,    1.89,2,   3.792,2,   2.086,2,   0.313,2,         1.599,2,  2172.2,2, 2282.23,2,   7.6497,2,    25.01,   4.4433,    1.07,2,   -49.5,2,     2.0, -999.00,9,-999.000,9,    40.2,2,   30.60,2,     -999.0,1, -999.00,9, 20160301,     1150, -50.0409,  90.2813,     -999.0,9,     -999.0,9,     -999.0,9,-999.0000,9,-999.0000,9,-999.0000,9,-999.0000,9,-999.0000,9,-999.0000,9,-999.0000,9,     -999.0,9,     -999.0,9,     -999.0,9,     -999.0,9,     -999.0,9