BOTTLE,20220706CCHSIOAMB
EXPOCODE,SECT_ID,STNNBR,CASTNO,SAMPNO,BTLNBR,BTLNBR_FLAG_W,DATE,TIME,LATITUDE,LONGITUDE,DEPTH,CTDPRS,CTDTMP,CTDSAL,CTDSAL_FLAG_W,SALNTY,SALNTY_FLAG_W,CTDOXY,CTDOXY_FLAG_W,OXYGEN,OXYGEN_FLAG_W,SILCAT,SILCAT_FLAG_W,NH4,NH4_FLAG_W,NITRAT,NITRAT_FLAG_W,NITRIT,NITRIT_FLAG_W,PHSPHT,PHSPHT_FLAG_W,CFC-11,CFC-11_FLAG_W,CFC-12,CFC-12_FLAG_W,CFC113,CFC113_FLAG_W,SF6,SF6_FLAG_W,TCARBN,TCARBN_FLAG_W,ALKALI,ALKALI_FLAG_W,PH_TOT,PH_TOT_FLAG_W,PH_TMP,REFTMP,DELC13,DELC13_FLAG_W,DELC14,DELC14_FLAG_W,C14ERR,DELO18,DELO18_FLAG_W,POC,POC_FLAG_W,DOC,DOC_FLAG_W,TDN,TDN_FLAG_W,TON,TON_FLAG_W,D15N_NO3,D15N_NO3_FLAG_W,BTL_DATE,BTL_TIME,BTL_LAT,BTL_LON,14C-DOC,14C-DOC_FLAG_W,CHLORA,CHLORA_FLAG_W,HPLC,HPLC_FLAG_W,CDOM325,CDOM325_FLAG_W,CDOM340,CDOM340_FLAG_W,CDOM380,CDOM380_FLAG_W,CDOM412,CDOM412_FLAG_W,CDOM443,CDOM443_FLAG_W,CDOM490,CDOM490_FLAG_W,CDOM555,CDOM555_FLAG_W,CDOMSL,CDOMSL_FLAG_W,CDOMSN,CDOMSN_FLAG_W,D18O_NO3,D18O_NO3_FLAG_W,D15N_NO2+NO3,D15N_NO2+NO3_FLAG_W,D18O_NO2+NO3,D18O_NO2+NO3_FLAG_W
,,,,,,,,,,,METERS,DBAR,ITS-90,PSS-78,,PSS-78,,UMOL/KG,,UMOL/KG,,UMOL/KG,,UMOL/KG,,UMOL/KG,,UMOL/KG,,UMOL/KG,,PMOL/KG,,PMOL/KG,,PMOL/KG,,FMOL/KG,,UMOL/KG,,UMOL/KG,,,,DEG C,DEG C,/MILLE,,/MILLE,,/MILLE,/MILLE,,UG/KG,,UMOL/KG,,UMOL/KG,,UMOL/KG,,/MILLE,,,,,,/MILLE,,MG/M3,,,,1/M,,1/M,,1/M,,1/M,,1/M,,1/M,,1/M,,1/NM,,1/NM,,/MILLE,,/MILLE,,/MILLE,
33RR20160208,       I08S,      66,          1,          1,          1,2,20160307,       1610,   -37.0021,    95.0050,       4220,  4187.6,   1.0125,  34.7117,2,  34.7115,2,    208.3,2,   208.3,2,   119.6,2,    0.00,2,   32.11,2,    0.00,2,    2.20,2,   0.109,2,   0.065,2,   0.002,2,   0.113139224,2,  2270.1,6, 2375.06,2,   7.6189,6,    25.04,   1.0123, -999.00,9,  -999.0,9,  -999.0, -999.00,9,-999.000,9,    38.4,2, -999.00,9,     -999.0,1, -999.00,9, 20160307,     1610, -37.0021,  95.0050,     -999.0,9,     -999.0,9,     -999.0,9,-999.0000,9,-999.0000,9,-999.0000,9,-999.0000,9,-999.0000,9,-999.0000,9,-999.0000,9,     -999.0,9,     -999.0,9,     -999.0,9,     -999.0,9,     -999.0,9
33RR20160208,       I08S,      66,          1,          2,          2,2,20160307,       1610,   -37.0021,    95.0050,       4220,  3885.7,   1.0045,  34.7128,2,  34.7119,2,    206.8,2,   208.9,4,   118.9,2,    0.00,2,   32.02,2,    0.00,2,    2.20,2,   0.106,2,   0.083,2,   0.000,2,             0,2,  2267.0,2, 2374.54,6,   7.6171,2,    25.04,   1.0046, -999.00,9,  -999.0,9,  -999.0, -999.00,9,-999.000,9,    39.0,2, -999.00,9,     -999.0,1, -999.00,9, 20160307,     1616, -37.0021,  95.0050,     -999.0,9,     -999.0,9,     -999.0,9,-999.0000,9,-999.0000,9,-999.0000,9,-999.0000,9,-999.0000,9,-999.0000,9,-999.0000,9,     -999.0,9,     -999.0,9,     -999.0,9,     -999.0,9,     -999.0,9
33RR20160208,       I08S,      66,          1,          3,          3,2,20160307,       1610,   -37.0021,    95.0050,       4220,  3586.1,   1.0717,  34.7171,2,  34.7162,2,    206.2,2,   206.7,2,   115.8,2,    0.00,2,   31.75,2,    0.00,2,    2.17,2,-999.000,9,-999.000,9,-999.000,9,-999.000000000,9,  2262.3,2, 2368.21,2,   7.6139,2,    25.03,   1.0717, -999.00,9,  -999.0,9,  -999.0, -999.00,9,-999.000,9,    39.3,2, -999.00,9,     -999.0,1, -999.00,9, 20160307,     1622, -37.0021,  95.0051,     -999.0,9,     -999.0,9,     -999.0,9,-999.0000,9,-999.0000,9,-999.0000,9,-999.0000,9,-999.0000,9,-999.0000,9,-999.0000,9,     -999.0,9,     -999.0,9,     -999.0,9,     -999.0,9,     -999.0,9
33RR20160208,       I08S,      66,          1,          4,          4,2,20160307,       1610,   -37.0021,    95.0050,       4220,  3334.9,   1.2018,  34.7240,2,  34.7237,2,    204.5,2,   204.7,2,   111.6,2,    0.00,2,   31.43,2,    0.00,2,    2.13,2,   0.119,2,   0.071,2,   0.000,2,             0,2,  2257.5,2, 2364.18,2,   7.6130,6,    25.01,   1.2022, -999.00,9,  -999.0,9,  -999.0, -999.00,9,-999.000,9,    38.6,2, -999.00,9,     -999.0,1, -999.00,9, 20160307,     1627, -37.0021,  95.0051,     -999.0,9,     -999.0,9,     -999.0,9,-999.0000,9,-999.0000,9,-999.0000,9,-999.0000,9,-999.0000,9,-999.0000,9,-999.0000,9,     -999.0,9,     -999.0,9,     -999.0,9,     -999.0,9,     -999.0,9
33RR20160208,       I08S,      66,          1,          5,          5,2,20160307,       1610,   -37.0021,    95.0050,       4220,  3085.9,   1.4048,  34.7333,2,  34.7323,2,    201.8,2,   202.3,2,   104.4,2,    0.00,2,   31.09,2,    0.00,2,    2.12,2,-999.000,9,-999.000,9,-999.000,9,-999.000000000,9,  2255.4,2, 2361.97,2,   7.6143,2,    25.03,   1.4048, -999.00,9,  -999.0,9,  -999.0, -999.00,9,-999.000,9,    38.7,2, -999.00,9,     -999.0,1, -999.00,9, 20160307,     1633, -37.0021,  95.0051,     -999.0,9,     -999.0,9,     -999.0,9,-999.0000,9,-999.0000,9,-999.0000,9,-999.0000,9,-999.0000,9,-999.0000,9,-999.0000,9,     -999.0,9,     -999.0,9,     -999.0,9,     -999.0,9,     -999.0,9
33RR20160208,       I08S,      66,          1,          6,         38,2,20160307,       1610,   -37.0021,    95.0050,       4220,  2833.1,   1.6861,  34.7434,2,  34.7429,2,    198.4,2,   199.0,2,    96.1,2,    0.00,2,   30.72,2,    0.00,2,    2.07,2,   0.060,2,   0.037,2,   0.000,2,             0,2,  2251.5,2, 2359.24,2,   7.6161,2,    25.02,   1.6868, -999.00,9,  -999.0,9,  -999.0, -999.00,9,-999.000,9,    38.8,2, -999.00,9,     -999.0,1, -999.00,9, 20160307,     1638, -37.0021,  95.0051,     -999.0,9,     -999.0,9,     -999.0,9,-999.0000,9,-999.0000,9,-999.0000,9,-999.0000,9,-999.0000,9,-999.0000,9,-999.0000,9,     -999.0,9,     -999.0,9,     -999.0,9,     -999.0,9,     -999.0,9
33RR20160208,       I08S,      66,          1,          7,          7,2,20160307,       1610,   -37.0021,    95.0050,       4220,  2584.5,   1.9862,  34.7442,2,  34.7433,2,    192.3,2,   193.0,2,    89.3,2,    0.00,2,   30.81,2,    0.00,2,    2.10,2,-999.000,9,-999.000,9,-999.000,9,-999.000000000,9,  2252.1,2, 2356.46,2,   7.6127,2,    25.02,   1.9866, -999.00,9,  -999.0,9,  -999.0, -999.00,9,-999.000,9,    37.8,2, -999.00,9,     -999.0,1, -999.00,9, 20160307,     1643, -37.0021,  95.0049,     -999.0,9,     -999.0,9,     -999.0,9,-999.0000,9,-999.0000,9,-999.0000,9,-999.0000,9,-999.0000,9,-999.0000,9,-999.0000,9,     -999.0,9,     -999.0,9,     -999.0,9,     -999.0,9,     -999.0,9
33RR20160208,       I08S,      66,          1,          8,          8,2,20160307,       1610,   -37.0021,    95.0050,       4220,  2333.6,   2.1870,  34.7337,2,  34.7323,2,    186.0,2,   186.1,2,    85.4,2,    0.00,2,   31.16,2,    0.00,2,    2.14,2,   0.055,2,   0.035,2,   0.000,2,             0,2,  2252.2,2, 2354.97,2,   7.6049,2,    25.02,   2.1871, -999.00,9,  -999.0,9,  -999.0, -999.00,9,-999.000,9,    38.6,2, -999.00,9,     -999.0,1, -999.00,9, 20160307,     1649, -37.0021,  95.0050,     -999.0,9,     -999.0,9,     -999.0,9,-999.0000,9,-999.0000,9,-999.0000,9,-999.0000,9,-999.0000,9,-999.0000,9,-999.0000,9,     -999.0,9,     -999.0,9,     -999.0,9,     -999.0,9,     -999.0,9
33RR20160208,       I08S,      66,          1,          9,          9,2,20160307,       1610,   -37.0021,    95.0050,       4220,  2084.9,   2.4374,  34.6990,2,  34.7000,2,    176.8,2,   176.8,2,    81.6,2,    0.00,2,   32.15,2,    0.00,2,    2.23,2,-999.000,9,-999.000,9,-999.000,9,-999.000000000,9,  2256.9,2, 2351.36,2,   7.5887,2,    25.02,   2.4369, -999.00,9,  -999.0,9,  -999.0, -999.00,9,-999.000,9,    38.6,2, -999.00,9,     -999.0,1, -999.00,9, 20160307,     1654, -37.0022,  95.0050,     -999.0,9,     -999.0,9,     -999.0,9,-999.0000,9,-999.0000,9,-999.0000,9,-999.0000,9,-999.0000,9,-999.0000,9,-999.0000,9,     -999.0,9,     -999.0,9,     -999.0,9,     -999.0,9,     -999.0,9
33RR20160208,       I08S,      66,          1,         10,         10,2,20160307,       1610,   -37.0021,    95.0050,       4220,  1864.7,   2.6489,  34.6489,2,  34.6480,2,    167.9,2,   167.9,2,    79.1,2,    0.00,2,   33.30,2,    0.00,2,    2.29,2,   0.146,2,   0.082,2,   0.000,2,             0,2,  2260.0,2, 2347.92,2,   7.5716,2,    25.03,   2.6488, -999.00,9,  -999.0,9,  -999.0, -999.00,9,-999.000,9,    38.5,2, -999.00,9,     -999.0,1, -999.00,9, 20160307,     1659, -37.0021,  95.0049,     -999.0,9,     -999.0,9,     -999.0,9,-999.0000,9,-999.0000,9,-999.0000,9,-999.0000,9,-999.0000,9,-999.0000,9,-999.0000,9,     -999.0,9,     -999.0,9,     -999.0,9,     -999.0,9,     -999.0,9
33RR20160208,       I08S,      66,          1,         11,         11,2,20160307,       1610,   -37.0021,    95.0050,       4220,  1737.0,   2.7763,  34.6087,2,  34.6097,2,    165.9,2,   166.1,2,    75.6,2,    0.00,2,   33.79,2,    0.00,2,    2.34,2,   0.213,2,   0.125,2,   0.001,2,   0.059600127,2,  2259.0,2, 2344.24,2,   7.5646,2,    25.01,   2.7766, -999.00,9,  -999.0,9,  -999.0, -999.00,9,-999.000,9,    39.1,2, -999.00,9,     -999.0,1, -999.00,9, 20160307,     1702, -37.0021,  95.0049,     -999.0,9,     -999.0,9,     -999.0,9,-999.0000,9,-999.0000,9,-999.0000,9,-999.0000,9,-999.0000,9,-999.0000,9,-999.0000,9,     -999.0,9,     -999.0,9,     -999.0,9,     -999.0,9,     -999.0,9
33RR20160208,       I08S,      66,          1,         12,         12,2,20160307,       1610,   -37.0021,    95.0050,       4220,  1636.1,   2.9014,  34.5706,2,  34.5695,2,    165.7,2,   165.6,2,    71.6,2,    0.00,2,   34.06,2,    0.00,2,    2.35,2,   0.306,2,   0.174,2,   0.004,2,   0.086874762,2,  2255.2,6, 2338.99,2,   7.5611,2,    25.02,   2.9008, -999.00,9,  -999.0,9,  -999.0, -999.00,9,-999.000,9,    38.4,2, -999.00,9,     -999.0,1, -999.00,9, 20160307,     1705, -37.0021,  95.0049,     -999.0,9,     -999.0,9,     -999.0,9,-999.0000,9,-999.0000,9,-999.0000,9,-999.0000,9,-999.0000,9,-999.0000,9,-999.0000,9,     -999.0,9,     -999.0,9,     -999.0,9,     -999.0,9,     -999.0,9
33RR20160208,       I08S,      66,          1,         13,         13,2,20160307,       1610,   -37.0021,    95.0050,       4220,  1536.2,   3.0397,  34.5261,2,  34.5256,2,    167.8,2,   167.5,2,    66.4,2,    0.00,2,   34.20,2,    0.00,2,    2.35,2,   0.501,2,   0.495,4,   0.016,2,   0.077783217,2,  2249.5,2, 2333.29,2,   7.5605,2,    25.02,   3.0397, -999.00,9,  -999.0,9,  -999.0, -999.00,9,-999.000,9,    39.3,2, -999.00,9,     -999.0,1, -999.00,9, 20160307,     1708, -37.0021,  95.0049,     -999.0,9,     -999.0,9,     -999.0,9,-999.0000,9,-999.0000,9,-999.0000,9,-999.0000,9,-999.0000,9,-999.0000,9,-999.0000,9,     -999.0,9,     -999.0,9,     -999.0,9,     -999.0,9,     -999.0,9
33RR20160208,       I08S,      66,          1,         14,         14,2,20160307,       1610,   -37.0021,    95.0050,       4220,  1436.5,   3.2275,  34.4874,2,  34.4870,2,    169.7,2,   170.4,2,    62.1,2,    0.00,2,   34.17,2,    0.00,2,    2.33,2,   0.609,2,   0.324,2,   0.020,2,   0.107078195,2,  2245.1,2, 2328.68,2,   7.5629,2,    25.02,   3.2292, -999.00,9,  -999.0,9,  -999.0, -999.00,9,-999.000,9,    38.4,2, -999.00,9,     -999.0,1, -999.00,9, 20160307,     1711, -37.0021,  95.0049,     -999.0,9,     -999.0,9,     -999.0,9,-999.0000,9,-999.0000,9,-999.0000,9,-999.0000,9,-999.0000,9,-999.0000,9,-999.0000,9,     -999.0,9,     -999.0,9,     -999.0,9,     -999.0,9,     -999.0,9
33RR20160208,       I08S,      66,          1,         15,         15,2,20160307,       1610,   -37.0021,    95.0050,       4220,  1336.2,   3.4608,  34.4362,2,  34.4370,2,    178.6,2,   177.7,2,    54.2,2,    0.00,2,   33.67,2,    0.00,2,    2.32,2,   0.935,2,   0.489,2,   0.038,2,   0.132332486,2,  2234.2,2, 2321.09,2,   7.5720,2,    25.03,   3.4625, -999.00,9,  -999.0,9,  -999.0, -999.00,9,-999.000,9,    40.4,2, -999.00,9,     -999.0,1, -999.00,9, 20160307,     1714, -37.0021,  95.0049,     -999.0,9,     -999.0,9,     -999.0,9,-999.0000,9,-999.0000,9,-999.0000,9,-999.0000,9,-999.0000,9,-999.0000,9,-999.0000,9,     -999.0,9,     -999.0,9,     -999.0,9,     -999.0,9,     -999.0,9
33RR20160208,       I08S,      66,          1,         16,         16,2,20160307,       1610,   -37.0021,    95.0050,       4220,  1236.3,   3.8117,  34.3880,2,  34.3876,2,    188.7,2,   189.3,2,    44.3,2,    0.00,2,   32.61,2,    0.00,2,    2.23,2,   1.399,2,   0.717,2,   0.070,2,   0.731364272,4,  2220.3,2, 2311.30,2,   7.5881,6,    25.03,   3.8143, -999.00,9,  -999.0,9,  -999.0, -999.00,9,-999.000,9,    40.1,2, -999.00,9,     -999.0,1, -999.00,9, 20160307,     1716, -37.0021,  95.0049,     -999.0,9,     -999.0,9,     -999.0,9,-999.0000,9,-999.0000,9,-999.0000,9,-999.0000,9,-999.0000,9,-999.0000,9,-999.0000,9,     -999.0,9,     -999.0,9,     -999.0,9,     -999.0,9,     -999.0,9
33RR20160208,       I08S,      66,          1,         17,         17,2,20160307,       1610,   -37.0021,    95.0050,       4220,  1136.5,   4.3344,  34.3538,2,  34.3537,2,    198.5,2,   199.0,2,    34.4,2,    0.00,2,   31.19,2,    0.00,2,    2.13,2,   1.936,2,   0.985,2,   0.100,2,   0.838442467,4,  2204.5,2, 2302.70,2,   7.6071,2,    25.02,   4.3349, -999.00,9,  -999.0,9,  -999.0, -999.00,9,-999.000,9,    40.0,2, -999.00,9,     -999.0,1, -999.00,9, 20160307,     1719, -37.0021,  95.0050,     -999.0,9,     -999.0,9,     -999.0,9,-999.0000,9,-999.0000,9,-999.0000,9,-999.0000,9,-999.0000,9,-999.0000,9,-999.0000,9,     -999.0,9,     -999.0,9,     -999.0,9,     -999.0,9,     -999.0,9
33RR20160208,       I08S,      66,          1,         18,         37,2,20160307,       1610,   -37.0021,    95.0050,       4220,  1034.9,   5.0634,  34.3557,2,  34.3547,2,    204.1,2,   203.6,2,    26.2,2,    0.00,2,   29.56,2,    0.00,2,    2.00,2,   2.372,2,   1.157,2,   0.112,2,   0.801066116,2,  2192.2,2, 2294.81,2,   7.6253,2,    25.02,   5.0646, -999.00,9,  -999.0,9,  -999.0, -999.00,9,-999.000,9,    41.2,2, -999.00,9,     -999.0,1, -999.00,9, 20160307,     1722, -37.0021,  95.0049,     -999.0,9,     -999.0,9,     -999.0,9,-999.0000,9,-999.0000,9,-999.0000,9,-999.0000,9,-999.0000,9,-999.0000,9,-999.0000,9,     -999.0,9,     -999.0,9,     -999.0,9,     -999.0,9,     -999.0,9
33RR20160208,       I08S,      66,          1,         19,         19,2,20160307,       1610,   -37.0021,    95.0050,       4220,   934.9,   6.1507,  34.4061,2,  34.4064,2,    203.0,2,   203.1,2,    20.1,2,    0.00,2,   27.34,2,    0.00,2,    1.84,2,   2.515,2,   1.299,2,   0.102,2,   0.985927527,2,  2179.3,2, 2291.96,2,   7.6476,2,    25.01,   6.1440, -999.00,9,  -999.0,9,  -999.0, -999.00,9,-999.000,9,    40.6,2, -999.00,9,     -999.0,1, -999.00,9, 20160307,     1725, -37.0021,  95.0050,     -999.0,9,     -999.0,9,     -999.0,9,-999.0000,9,-999.0000,9,-999.0000,9,-999.0000,9,-999.0000,9,-999.0000,9,-999.0000,9,     -999.0,9,     -999.0,9,     -999.0,9,     -999.0,9,     -999.0,9
33RR20160208,       I08S,      66,          1,         20,         20,2,20160307,       1610,   -37.0021,    95.0050,       4220,   834.6,   7.4963,  34.4982,2,  34.5001,2,    209.2,2,   207.3,2,    13.0,2,    0.00,2,   23.79,2,    0.00,2,    1.61,2,   2.849,2,   1.525,2,   0.103,2,     1.1899822,2,  2164.3,2, 2289.41,2,   7.6861,2,    25.01,   7.4923, -999.00,9,  -999.0,9,  -999.0, -999.00,9,-999.000,9,    41.7,2, -999.00,9,     -999.0,1, -999.00,9, 20160307,     1727, -37.0021,  95.0049,     -999.0,9,     -999.0,9,     -999.0,9,-999.0000,9,-999.0000,9,-999.0000,9,-999.0000,9,-999.0000,9,-999.0000,9,-999.0000,9,     -999.0,9,     -999.0,9,     -999.0,9,     -999.0,9,     -999.0,9
33RR20160208,       I08S,      66,          1,         21,         21,2,20160307,       1610,   -37.0021,    95.0050,       4220,   734.2,   8.6165,  34.5926,2,  34.5922,2,    224.3,2,   222.9,2,     7.4,2,    0.00,2,   19.75,2,    0.00,2,    1.34,2,   3.239,2,   1.826,2,   0.124,2,    1.49909472,2,  2145.3,2, 2290.29,2,   7.7307,2,    25.02,   8.6147, -999.00,9,  -999.0,9,  -999.0, -999.00,9,-999.000,9,    42.1,2, -999.00,9,     -999.0,1, -999.00,9, 20160307,     1730, -37.0021,  95.0049,     -999.0,9,     -999.0,9,     -999.0,9,-999.0000,9,-999.0000,9,-999.0000,9,-999.0000,9,-999.0000,9,-999.0000,9,-999.0000,9,     -999.0,9,     -999.0,9,     -999.0,9,     -999.0,9,     -999.0,9
33RR20160208,       I08S,      66,          1,         22,         22,2,20160307,       1610,   -37.0021,    95.0050,       4220,   635.4,   9.3889,  34.6792,2,  34.6797,2,    237.6,2,   237.8,2,     4.7,2,    0.00,2,   16.43,2,    0.00,2,    1.13,2,   3.325,2,   1.924,2,   0.136,2,    1.74658678,2,  2130.9,2, 2293.22,2,   7.7659,6,    25.03,   9.3893, -999.00,9,  -999.0,9,  -999.0, -999.00,9,-999.000,9,    43.2,2, -999.00,9,     -999.0,1, -999.00,9, 20160307,     1733, -37.0021,  95.0049,     -999.0,9,     -999.0,9,     -999.0,9,-999.0000,9,-999.0000,9,-999.0000,9,-999.0000,9,-999.0000,9,-999.0000,9,-999.0000,9,     -999.0,9,     -999.0,9,     -999.0,9,     -999.0,9,     -999.0,9
33RR20160208,       I08S,      66,          1,         23,         23,2,20160307,       1610,   -37.0021,    95.0050,       4220,   535.5,   9.9220,  34.7509,2,  34.7522,2,    244.6,2,   245.5,2,     3.7,2,    0.00,2,   14.18,2,    0.00,2,    1.00,2,-999.000,9,-999.000,9,-999.000,9,-999.000000000,9,  2132.3,3, 2296.09,2,   7.7885,6,    25.03,   9.9250, -999.00,9,  -999.0,9,  -999.0, -999.00,9,-999.000,9,    43.9,2, -999.00,9,     -999.0,1, -999.00,9, 20160307,     1736, -37.0021,  95.0049,     -999.0,9,     -999.0,9,     -999.0,9,-999.0000,9,-999.0000,9,-999.0000,9,-999.0000,9,-999.0000,9,-999.0000,9,-999.0000,9,     -999.0,9,     -999.0,9,     -999.0,9,     -999.0,9,     -999.0,9
33RR20160208,       I08S,      66,          1,         24,         24,2,20160307,       1610,   -37.0021,    95.0050,       4220,   465.9,  10.2770,  34.8030,2,  34.8030,2,    245.4,2,   246.4,2,     3.5,2,    0.00,2,   13.16,2,    0.00,2,    0.92,2,   3.196,2,   1.892,2,   0.141,2,    1.94963128,2,  2125.0,6, 2298.46,2,   7.7984,2,    25.03,  10.2749, -999.00,9,  -999.0,9,  -999.0, -999.00,9,-999.000,9,    44.5,2, -999.00,9,     -999.0,1, -999.00,9, 20160307,     1738, -37.0021,  95.0049,     -999.0,9,     -999.0,9,     -999.0,9,-999.0000,9,-999.0000,9,-999.0000,9,-999.0000,9,-999.0000,9,-999.0000,9,-999.0000,9,     -999.0,9,     -999.0,9,     -999.0,9,     -999.0,9,     -999.0,9
33RR20160208,       I08S,      66,          1,         25,         25,2,20160307,       1610,   -37.0021,    95.0050,       4220,   415.4,  10.5352,  34.8426,2,  34.8427,2,    245.5,2,   246.2,2,     3.4,2,    0.00,2,   12.52,2,    0.00,2,    0.89,2,-999.000,9,-999.000,9,-999.000,9,-999.000000000,9,  2123.3,2, 2300.24,2,   7.8051,2,    25.02,  10.5346, -999.00,9,  -999.0,9,  -999.0, -999.00,9,-999.000,9,    46.8,2, -999.00,9,     -999.0,1, -999.00,9, 20160307,     1740, -37.0021,  95.0049,     -999.0,9,     -999.0,9,     -999.0,9,-999.0000,9,-999.0000,9,-999.0000,9,-999.0000,9,-999.0000,9,-999.0000,9,-999.0000,9,     -999.0,9,     -999.0,9,     -999.0,9,     -999.0,9,     -999.0,9
33RR20160208,       I08S,      66,          1,         26,         26,2,20160307,       1610,   -37.0021,    95.0050,       4220,   365.7,  10.7464,  34.8734,2,  34.8745,2,    246.8,2,   246.8,2,     3.3,2,    0.04,2,   11.90,2,    0.00,2,    0.84,2,   3.134,6,   1.862,6,   0.143,6,    1.96074317,6,  2125.6,3, 2302.37,2,   7.8103,2,    25.00,  10.7470, -999.00,9,  -999.0,9,  -999.0, -999.00,9,-999.000,9,    47.2,2, -999.00,9,     -999.0,1, -999.00,9, 20160307,     1742, -37.0021,  95.0049,     -999.0,9,     -999.0,9,     -999.0,9,-999.0000,9,-999.0000,9,-999.0000,9,-999.0000,9,-999.0000,9,-999.0000,9,-999.0000,9,     -999.0,9,     -999.0,9,     -999.0,9,     -999.0,9,     -999.0,9
33RR20160208,       I08S,      66,          1,         27,         27,2,20160307,       1610,   -37.0021,    95.0050,       4220,   314.6,  10.9947,  34.9104,2,  34.9128,2,    244.5,2,   246.1,2,     3.0,2,    0.00,2,   11.39,2,    0.00,2,    0.82,2,-999.000,9,-999.000,9,-999.000,9,-999.000000000,9,  2120.1,2, 2302.68,2,   7.8144,2,    25.02,  10.9985, -999.00,9,  -999.0,9,  -999.0, -999.00,9,-999.000,9,    45.9,2,   14.30,2,     -999.0,1, -999.00,9, 20160307,     1744, -37.0021,  95.0049,     -999.0,9,     -999.0,9,     -999.0,9,-999.0000,9,-999.0000,9,-999.0000,9,-999.0000,9,-999.0000,9,-999.0000,9,-999.0000,9,     -999.0,9,     -999.0,9,     -999.0,9,     -999.0,9,     -999.0,9