BOTTLE,20220706CCHSIOAMB
EXPOCODE,SECT_ID,STNNBR,CASTNO,SAMPNO,BTLNBR,BTLNBR_FLAG_W,DATE,TIME,LATITUDE,LONGITUDE,DEPTH,CTDPRS,CTDTMP,CTDSAL,CTDSAL_FLAG_W,SALNTY,SALNTY_FLAG_W,CTDOXY,CTDOXY_FLAG_W,OXYGEN,OXYGEN_FLAG_W,SILCAT,SILCAT_FLAG_W,NH4,NH4_FLAG_W,NITRAT,NITRAT_FLAG_W,NITRIT,NITRIT_FLAG_W,PHSPHT,PHSPHT_FLAG_W,CFC-11,CFC-11_FLAG_W,CFC-12,CFC-12_FLAG_W,CFC113,CFC113_FLAG_W,SF6,SF6_FLAG_W,TCARBN,TCARBN_FLAG_W,ALKALI,ALKALI_FLAG_W,PH_TOT,PH_TOT_FLAG_W,PH_TMP,REFTMP,DELC13,DELC13_FLAG_W,DELC14,DELC14_FLAG_W,C14ERR,DELO18,DELO18_FLAG_W,POC,POC_FLAG_W,DOC,DOC_FLAG_W,TDN,TDN_FLAG_W,TON,TON_FLAG_W,D15N_NO3,D15N_NO3_FLAG_W,BTL_DATE,BTL_TIME,BTL_LAT,BTL_LON,14C-DOC,14C-DOC_FLAG_W,CHLORA,CHLORA_FLAG_W,HPLC,HPLC_FLAG_W,CDOM325,CDOM325_FLAG_W,CDOM340,CDOM340_FLAG_W,CDOM380,CDOM380_FLAG_W,CDOM412,CDOM412_FLAG_W,CDOM443,CDOM443_FLAG_W,CDOM490,CDOM490_FLAG_W,CDOM555,CDOM555_FLAG_W,CDOMSL,CDOMSL_FLAG_W,CDOMSN,CDOMSN_FLAG_W,D18O_NO3,D18O_NO3_FLAG_W,D15N_NO2+NO3,D15N_NO2+NO3_FLAG_W,D18O_NO2+NO3,D18O_NO2+NO3_FLAG_W
,,,,,,,,,,,METERS,DBAR,ITS-90,PSS-78,,PSS-78,,UMOL/KG,,UMOL/KG,,UMOL/KG,,UMOL/KG,,UMOL/KG,,UMOL/KG,,UMOL/KG,,PMOL/KG,,PMOL/KG,,PMOL/KG,,FMOL/KG,,UMOL/KG,,UMOL/KG,,,,DEG C,DEG C,/MILLE,,/MILLE,,/MILLE,/MILLE,,UG/KG,,UMOL/KG,,UMOL/KG,,UMOL/KG,,/MILLE,,,,,,/MILLE,,MG/M3,,,,1/M,,1/M,,1/M,,1/M,,1/M,,1/M,,1/M,,1/NM,,1/NM,,/MILLE,,/MILLE,,/MILLE,
33RR20160208,       I08S,       6,          1,         28,         28,2,20160220,       0346,   -66.1500,    78.0102,       3009,   210.6,  -1.4049,  34.3990,2,  34.3980,2,    300.4,2,   297.3,2,    63.1,2,    0.00,2,   30.44,2,    0.00,2,    2.11,2,   4.584,2,   2.496,2,   0.430,2,          2.26,2,  -999.0,9, -999.00,9,-999.0000,9,  -999.00,  -1.4010, -999.00,9,  -999.0,9,  -999.0, -999.00,1,-999.000,9,    41.3,2,   32.50,2,     -999.0,1, -999.00,9, 20160220,      508, -66.1500,  78.0102,     -999.0,9,     -999.0,9,     -999.0,9,-999.0000,9,-999.0000,9,-999.0000,9,-999.0000,9,-999.0000,9,-999.0000,9,-999.0000,9,     -999.0,9,     -999.0,9,     -999.0,9,     -999.0,9,     -999.0,9
33RR20160208,       I08S,       6,          1,         29,         29,2,20160220,       0346,   -66.1500,    78.0102,       3009,   185.5,  -1.7299,  34.3697,2,  34.3706,2,    305.3,2,   309.1,2,    60.3,2,    0.00,2,   29.98,2,    0.01,2,    2.10,2,   4.944,2,   2.681,2,   0.463,2,         2.348,2,  2221.0,2, 2324.33,2,   7.6152,6,    25.07,  -1.7290, -999.00,9,  -999.0,9,  -999.0, -999.00,1,-999.000,9,    42.4,2,   32.90,2,     -999.0,1, -999.00,9, 20160220,      509, -66.1500,  78.0103,     -999.0,9,     -999.0,9,     -999.0,9,-999.0000,9,-999.0000,9,-999.0000,9,-999.0000,9,-999.0000,9,-999.0000,9,-999.0000,9,     -999.0,9,     -999.0,9,     -999.0,9,     -999.0,9,     -999.0,9
33RR20160208,       I08S,       6,          1,         30,         30,2,20160220,       0346,   -66.1500,    78.0102,       3009,   160.6,  -1.6113,  34.3654,2,  34.3648,2,    304.3,2,   302.6,2,    60.5,2,    0.00,2,   30.19,2,    0.01,2,    2.11,2,   4.765,2,   2.596,2,   0.449,2,         2.485,2,  2221.3,2, 2324.10,2,   7.6114,2,    25.04,  -1.6120,    0.80,2,  -122.8,2,     1.6, -999.00,1,-999.000,9,    41.0,2,   31.50,2,     -999.0,1, -999.00,9, 20160220,      511, -66.1500,  78.0103,     -999.0,9,     -999.0,9,     -999.0,9,-999.0000,9,-999.0000,9,-999.0000,9,-999.0000,9,-999.0000,9,-999.0000,9,-999.0000,9,     -999.0,9,     -999.0,9,     -999.0,9,     -999.0,9,     -999.0,9
33RR20160208,       I08S,       6,          1,         31,         31,2,20160220,       0346,   -66.1500,    78.0102,       3009,   135.8,  -1.6453,  34.3528,2,  34.3521,2,    303.4,2,   303.2,2,    59.8,2,    0.02,2,   30.01,2,    0.02,2,    2.11,2,   4.776,2,   2.604,2,   0.450,2,         2.593,2,  -999.0,9, -999.00,9,-999.0000,9,  -999.00,  -1.6484, -999.00,9,  -999.0,9,  -999.0, -999.00,1,-999.000,9,    42.2,2,   32.10,2,     -999.0,1, -999.00,9, 20160220,      513, -66.1500,  78.0103,     -999.0,9,     -999.0,9,     -999.0,9,-999.0000,9,-999.0000,9,-999.0000,9,-999.0000,9,-999.0000,9,-999.0000,9,-999.0000,9,     -999.0,9,     -999.0,9,     -999.0,9,     -999.0,9,     -999.0,9
33RR20160208,       I08S,       6,          1,         32,         32,2,20160220,       0346,   -66.1500,    78.0102,       3009,   112.6,  -1.7669,  34.3301,2,  34.3330,2,    299.0,2,   304.7,3,    58.4,2,    0.01,2,   30.16,2,    0.03,2,    2.10,2,   4.849,2,   2.643,2,   0.453,2,         2.457,2,  2220.1,2, 2320.20,2,   7.6132,2,    25.05,  -1.7663,    0.58,2,  -128.0,2,     1.6, -999.00,1,-999.000,9,    40.6,2,   31.40,2,     -999.0,1, -999.00,9, 20160220,      514, -66.1500,  78.0102,     -999.0,9,     -999.0,9,     -999.0,9,-999.0000,9,-999.0000,9,-999.0000,9,-999.0000,9,-999.0000,9,-999.0000,9,-999.0000,9,     -999.0,9,     -999.0,9,     -999.0,9,     -999.0,9,     -999.0,9
33RR20160208,       I08S,       6,          1,         33,         33,2,20160220,       0346,   -66.1500,    78.0102,       3009,    84.2,  -1.7438,  34.3129,2,  34.3142,2,    303.7,2,   303.5,2,    58.1,2,    0.04,2,   30.11,2,    0.09,2,    2.09,2,   4.738,2,   2.544,2,   0.443,2,         2.179,2,  -999.0,9, -999.00,9,-999.0000,9,  -999.00,  -1.7434, -999.00,9,  -999.0,9,  -999.0, -999.00,1,-999.000,9,    42.5,2,   34.00,2,     -999.0,1, -999.00,9, 20160220,      516, -66.1500,  78.0102,     -999.0,9,     -999.0,9,     -999.0,9,-999.0000,9,-999.0000,9,-999.0000,9,-999.0000,9,-999.0000,9,-999.0000,9,-999.0000,9,     -999.0,9,     -999.0,9,     -999.0,9,     -999.0,9,     -999.0,9
33RR20160208,       I08S,       6,          1,         34,         34,2,20160220,       0346,   -66.1500,    78.0102,       3009,    59.8,  -1.7488,  34.2326,2,  34.2306,2,    303.9,2,   302.8,2,    57.1,2,    0.34,2,   29.75,2,    0.14,2,    2.10,2,   4.733,2,   2.573,2,   0.462,2,         2.404,2,  2217.2,2, 2315.13,2,   7.6127,2,    25.09,  -1.7481,   -0.10,6,  -147.2,3,     1.4, -999.00,1,-999.000,9,    43.0,2, -999.00,5,     -999.0,1, -999.00,9, 20160220,      518, -66.1500,  78.0103,     -999.0,9,     -999.0,9,     -999.0,9,-999.0000,9,-999.0000,9,-999.0000,9,-999.0000,9,-999.0000,9,-999.0000,9,-999.0000,9,     -999.0,9,     -999.0,9,     -999.0,9,     -999.0,9,     -999.0,9
33RR20160208,       I08S,       6,          1,         35,         35,3,20160220,       0346,   -66.1500,    78.0102,       3009,    35.7,  -1.6528,  34.0324,3,  34.0338,3,    315.8,3,   311.3,3,    53.2,3,    0.35,3,   28.27,3,    0.07,3,    1.93,3,   4.439,6,   2.376,6,   0.416,6,         2.145,6,  -999.0,9, -999.00,9,-999.0000,9,     9.00,  -1.6518,    0.94,2,  -125.4,2,     1.5, -999.00,1,-999.000,9,    42.5,2,   31.30,2,     -999.0,1, -999.00,9, 20160220,      520, -66.1500,  78.0106,     -999.0,9,     -999.0,9,     -999.0,9,-999.0000,9,-999.0000,9,-999.0000,9,-999.0000,9,-999.0000,9,-999.0000,9,-999.0000,9,     -999.0,9,     -999.0,9,     -999.0,9,     -999.0,9,     -999.0,9
33RR20160208,       I08S,       6,          1,         36,         36,2,20160220,       0346,   -66.1500,    78.0102,       3009,     5.7,  -0.8418,  33.0111,2,  33.0109,2,    350.7,2,   350.7,2,    40.6,2,    0.32,2,   22.85,2,    0.16,2,    1.51,2,   5.613,2,   3.038,2,   0.549,2,         3.169,2,  2105.3,6, 2238.23,2,   7.7209,2,    25.05,  -0.8408,    0.01,6,  -150.7,3,     1.1, -999.00,1,-999.000,9,    44.3,2,   25.90,2,     -999.0,1, -999.00,9, 20160220,      522, -66.1500,  78.0103,     -999.0,9,     -999.0,9,     -999.0,9,-999.0000,9,-999.0000,9,-999.0000,9,-999.0000,9,-999.0000,9,-999.0000,9,-999.0000,9,     -999.0,9,     -999.0,9,     -999.0,9,     -999.0,9,     -999.0,9