BOTTLE,20220706CCHSIOAMB
EXPOCODE,SECT_ID,STNNBR,CASTNO,SAMPNO,BTLNBR,BTLNBR_FLAG_W,DATE,TIME,LATITUDE,LONGITUDE,DEPTH,CTDPRS,CTDTMP,CTDSAL,CTDSAL_FLAG_W,SALNTY,SALNTY_FLAG_W,CTDOXY,CTDOXY_FLAG_W,OXYGEN,OXYGEN_FLAG_W,SILCAT,SILCAT_FLAG_W,NH4,NH4_FLAG_W,NITRAT,NITRAT_FLAG_W,NITRIT,NITRIT_FLAG_W,PHSPHT,PHSPHT_FLAG_W,CFC-11,CFC-11_FLAG_W,CFC-12,CFC-12_FLAG_W,CFC113,CFC113_FLAG_W,SF6,SF6_FLAG_W,TCARBN,TCARBN_FLAG_W,ALKALI,ALKALI_FLAG_W,PH_TOT,PH_TOT_FLAG_W,PH_TMP,REFTMP,DELC13,DELC13_FLAG_W,DELC14,DELC14_FLAG_W,C14ERR,DELO18,DELO18_FLAG_W,POC,POC_FLAG_W,DOC,DOC_FLAG_W,TDN,TDN_FLAG_W,TON,TON_FLAG_W,D15N_NO3,D15N_NO3_FLAG_W,BTL_DATE,BTL_TIME,BTL_LAT,BTL_LON,14C-DOC,14C-DOC_FLAG_W,CHLORA,CHLORA_FLAG_W,HPLC,HPLC_FLAG_W,CDOM325,CDOM325_FLAG_W,CDOM340,CDOM340_FLAG_W,CDOM380,CDOM380_FLAG_W,CDOM412,CDOM412_FLAG_W,CDOM443,CDOM443_FLAG_W,CDOM490,CDOM490_FLAG_W,CDOM555,CDOM555_FLAG_W,CDOMSL,CDOMSL_FLAG_W,CDOMSN,CDOMSN_FLAG_W,D18O_NO3,D18O_NO3_FLAG_W,D15N_NO2+NO3,D15N_NO2+NO3_FLAG_W,D18O_NO2+NO3,D18O_NO2+NO3_FLAG_W
,,,,,,,,,,,METERS,DBAR,ITS-90,PSS-78,,PSS-78,,UMOL/KG,,UMOL/KG,,UMOL/KG,,UMOL/KG,,UMOL/KG,,UMOL/KG,,UMOL/KG,,PMOL/KG,,PMOL/KG,,PMOL/KG,,FMOL/KG,,UMOL/KG,,UMOL/KG,,,,DEG C,DEG C,/MILLE,,/MILLE,,/MILLE,/MILLE,,UG/KG,,UMOL/KG,,UMOL/KG,,UMOL/KG,,/MILLE,,,,,,/MILLE,,MG/M3,,,,1/M,,1/M,,1/M,,1/M,,1/M,,1/M,,1/M,,1/NM,,1/NM,,/MILLE,,/MILLE,,/MILLE,
33RR20160208,       I08S,      14,          3,         28,         28,2,20160222,       1449,   -62.0000,    82.0002,       2256,   100.6,   1.5362,  34.5369,2,  34.5278,2,    176.8,2,  -999.0,9,    80.1,2,    0.00,2,   35.14,2,    0.21,2,    2.42,2,-999.000,9,-999.000,9,-999.000,9,-999.000000000,9,  -999.0,9, -999.00,9,-999.0000,9,  -999.00,   1.5335, -999.00,9,  -999.0,9,  -999.0, -999.00,9,-999.000,9,    40.1,2, -999.00,9,     -999.0,1, -999.00,9, 20160222,     1549, -62.0000,  82.0003,     -999.0,9,     -999.0,9,     -999.0,9,-999.0000,9,-999.0000,9,-999.0000,9,-999.0000,9,-999.0000,9,-999.0000,9,-999.0000,9,     -999.0,9,     -999.0,9,     -999.0,9,     -999.0,9,     -999.0,9
33RR20160208,       I08S,      14,          3,         29,         29,2,20160222,       1449,   -62.0000,    82.0002,       2256,    77.0,   0.7777,  34.4046,2,  34.4158,2,    199.6,2,   199.2,2,  -999.0,9, -999.00,9, -999.00,9, -999.00,9, -999.00,9,   1.939,2,   1.021,2,   0.171,2,    1.07590916,2,  2253.2,2, 2324.14,2,   7.5246,6,    24.98,   0.7823, -999.00,9,  -999.0,9,  -999.0, -999.00,9,-999.000,9,    38.9,2, -999.00,9,     -999.0,1, -999.00,9, 20160222,     1551, -62.0000,  82.0003,     -999.0,9,     -999.0,9,     -999.0,9,-999.0000,9,-999.0000,9,-999.0000,9,-999.0000,9,-999.0000,9,-999.0000,9,-999.0000,9,     -999.0,9,     -999.0,9,     -999.0,9,     -999.0,9,     -999.0,9
33RR20160208,       I08S,      14,          3,         30,         30,2,20160222,       1449,   -62.0000,    82.0002,       2256,    76.5,   0.7725,  34.4035,2,  34.4033,2,    199.6,2,  -999.0,9,    74.1,2,    0.48,2,   34.14,2,    0.27,2,    2.40,2,-999.000,9,-999.000,9,-999.000,9,-999.000000000,9,  -999.0,9, -999.00,9,-999.0000,9,  -999.00,   0.7863, -999.00,9,  -999.0,9,  -999.0, -999.00,9,-999.000,9,    40.5,2, -999.00,9,     -999.0,1, -999.00,9, 20160222,     1552, -62.0000,  82.0003,     -999.0,9,     -999.0,9,     -999.0,9,-999.0000,9,-999.0000,9,-999.0000,9,-999.0000,9,-999.0000,9,-999.0000,9,-999.0000,9,     -999.0,9,     -999.0,9,     -999.0,9,     -999.0,9,     -999.0,9
33RR20160208,       I08S,      14,          3,         32,         32,2,20160222,       1449,   -62.0000,    82.0002,       2256,    52.5,   1.4201,  33.7870,2,  33.7882,2,    332.8,2,   333.2,2,    26.8,2,    0.47,2,   23.22,2,    0.19,2,    1.49,2,   5.082,2,   2.772,2,   0.492,2,    3.03247361,2,  2152.4,2, 2291.49,2,   7.7263,2,    24.99,   1.4166, -999.00,9,  -999.0,9,  -999.0, -999.00,9,-999.000,9,    44.1,2, -999.00,9,     -999.0,1, -999.00,9, 20160222,     1554, -62.0000,  82.0002,     -999.0,9,     -999.0,9,     -999.0,9,-999.0000,9,-999.0000,9,-999.0000,9,-999.0000,9,-999.0000,9,-999.0000,9,-999.0000,9,     -999.0,9,     -999.0,9,     -999.0,9,     -999.0,9,     -999.0,9
33RR20160208,       I08S,      14,          3,         31,         31,3,20160222,       1449,   -62.0000,    82.0002,       2256,    51.4,   1.4027,  33.7893,3,-999.0000,9,    332.8,3,  -999.0,9,    27.6,3,    0.52,3,   23.42,3,    0.19,3,    1.50,3,-999.000,9,-999.000,9,-999.000,9,-999.000000000,9,  -999.0,9, -999.00,9,-999.0000,9,     9.00,   1.4115, -999.00,9,  -999.0,9,  -999.0, -999.00,9,-999.000,9,  -999.0,9, -999.00,9,     -999.0,9, -999.00,9, 20160222,     1554, -62.0000,  82.0003,     -999.0,9,     -999.0,9,     -999.0,9,-999.0000,9,-999.0000,9,-999.0000,9,-999.0000,9,-999.0000,9,-999.0000,9,-999.0000,9,     -999.0,9,     -999.0,9,     -999.0,9,     -999.0,9,     -999.0,9
33RR20160208,       I08S,      14,          3,         33,         33,2,20160222,       1449,   -62.0000,    82.0002,       2256,    28.0,   1.4207,  33.7867,2,  33.7876,2,    333.3,2,   332.6,2,    26.7,2,    0.47,2,   23.26,2,    0.19,2,    1.48,2,   5.240,2,   2.747,2,   0.485,2,    2.70034075,2,  2152.2,2, 2290.78,2,   7.7255,2,    25.01,   1.4204, -999.00,9,  -999.0,9,  -999.0, -999.00,9,-999.000,9,    45.4,2, -999.00,9,     -999.0,1, -999.00,9, 20160222,     1556, -62.0000,  82.0002,     -999.0,9,     -999.0,9,     -999.0,9,-999.0000,9,-999.0000,9,-999.0000,9,-999.0000,9,-999.0000,9,-999.0000,9,-999.0000,9,     -999.0,9,     -999.0,9,     -999.0,9,     -999.0,9,     -999.0,9
33RR20160208,       I08S,      14,          3,         34,         34,2,20160222,       1449,   -62.0000,    82.0002,       2256,    27.7,   1.4205,  33.7870,2,  33.7890,2,    333.3,2,  -999.0,9,    26.8,2,    0.47,2,   23.22,2,    0.19,2,    1.47,2,-999.000,9,-999.000,9,-999.000,9,-999.000000000,9,  -999.0,9, -999.00,9,-999.0000,9,  -999.00,   1.4204, -999.00,9,  -999.0,9,  -999.0, -999.00,9,-999.000,9,    44.7,2, -999.00,9,     -999.0,1, -999.00,9, 20160222,     1557, -62.0000,  82.0002,     -999.0,9,     -999.0,9,     -999.0,9,-999.0000,9,-999.0000,9,-999.0000,9,-999.0000,9,-999.0000,9,-999.0000,9,-999.0000,9,     -999.0,9,     -999.0,9,     -999.0,9,     -999.0,9,     -999.0,9
33RR20160208,       I08S,      14,          3,         35,         35,2,20160222,       1449,   -62.0000,    82.0002,       2256,     7.2,   1.4191,  33.7870,2,  33.7880,2,    331.8,2,   332.1,2,    26.8,2,    0.47,2,   23.17,2,    0.19,2,    1.46,2,   5.326,2,   2.780,2,   0.499,2,         2.803,2,  2151.2,6, 2291.45,2,   7.7261,2,    24.97,   1.4185, -999.00,9,  -999.0,9,  -999.0, -999.00,9,-999.000,9,    43.8,2, -999.00,9,     -999.0,1, -999.00,9, 20160222,     1559, -62.0001,  82.0003,     -999.0,9,     -999.0,9,     -999.0,9,-999.0000,9,-999.0000,9,-999.0000,9,-999.0000,9,-999.0000,9,-999.0000,9,-999.0000,9,     -999.0,9,     -999.0,9,     -999.0,9,     -999.0,9,     -999.0,9
33RR20160208,       I08S,      14,          3,         36,         36,2,20160222,       1449,   -62.0000,    82.0002,       2256,     6.9,   1.4192,  33.7871,2,  33.7890,2,    331.5,2,  -999.0,9,    26.9,2,    0.48,2,   23.13,2,    0.19,2,    1.46,2,-999.000,9,-999.000,9,-999.000,9,-999.000000000,9,  -999.0,9, -999.00,9,-999.0000,9,  -999.00,   1.4189, -999.00,9,  -999.0,9,  -999.0, -999.00,9,-999.000,9,    44.4,2, -999.00,9,     -999.0,1, -999.00,9, 20160222,     1600, -62.0001,  82.0003,     -999.0,9,     -999.0,9,     -999.0,9,-999.0000,9,-999.0000,9,-999.0000,9,-999.0000,9,-999.0000,9,-999.0000,9,-999.0000,9,     -999.0,9,     -999.0,9,     -999.0,9,     -999.0,9,     -999.0,9