BOTTLE,20220706CCHSIOAMB
EXPOCODE,SECT_ID,STNNBR,CASTNO,SAMPNO,BTLNBR,BTLNBR_FLAG_W,DATE,TIME,LATITUDE,LONGITUDE,DEPTH,CTDPRS,CTDTMP,CTDSAL,CTDSAL_FLAG_W,SALNTY,SALNTY_FLAG_W,CTDOXY,CTDOXY_FLAG_W,OXYGEN,OXYGEN_FLAG_W,SILCAT,SILCAT_FLAG_W,NH4,NH4_FLAG_W,NITRAT,NITRAT_FLAG_W,NITRIT,NITRIT_FLAG_W,PHSPHT,PHSPHT_FLAG_W,CFC-11,CFC-11_FLAG_W,CFC-12,CFC-12_FLAG_W,CFC113,CFC113_FLAG_W,SF6,SF6_FLAG_W,TCARBN,TCARBN_FLAG_W,ALKALI,ALKALI_FLAG_W,PH_TOT,PH_TOT_FLAG_W,PH_TMP,REFTMP,DELC13,DELC13_FLAG_W,DELC14,DELC14_FLAG_W,C14ERR,DELO18,DELO18_FLAG_W,POC,POC_FLAG_W,DOC,DOC_FLAG_W,TDN,TDN_FLAG_W,TON,TON_FLAG_W,D15N_NO3,D15N_NO3_FLAG_W,BTL_DATE,BTL_TIME,BTL_LAT,BTL_LON,14C-DOC,14C-DOC_FLAG_W,CHLORA,CHLORA_FLAG_W,HPLC,HPLC_FLAG_W,CDOM325,CDOM325_FLAG_W,CDOM340,CDOM340_FLAG_W,CDOM380,CDOM380_FLAG_W,CDOM412,CDOM412_FLAG_W,CDOM443,CDOM443_FLAG_W,CDOM490,CDOM490_FLAG_W,CDOM555,CDOM555_FLAG_W,CDOMSL,CDOMSL_FLAG_W,CDOMSN,CDOMSN_FLAG_W,D18O_NO3,D18O_NO3_FLAG_W,D15N_NO2+NO3,D15N_NO2+NO3_FLAG_W,D18O_NO2+NO3,D18O_NO2+NO3_FLAG_W
,,,,,,,,,,,METERS,DBAR,ITS-90,PSS-78,,PSS-78,,UMOL/KG,,UMOL/KG,,UMOL/KG,,UMOL/KG,,UMOL/KG,,UMOL/KG,,UMOL/KG,,PMOL/KG,,PMOL/KG,,PMOL/KG,,FMOL/KG,,UMOL/KG,,UMOL/KG,,,,DEG C,DEG C,/MILLE,,/MILLE,,/MILLE,/MILLE,,UG/KG,,UMOL/KG,,UMOL/KG,,UMOL/KG,,/MILLE,,,,,,/MILLE,,MG/M3,,,,1/M,,1/M,,1/M,,1/M,,1/M,,1/M,,1/M,,1/NM,,1/NM,,/MILLE,,/MILLE,,/MILLE,
33RR20160208,       I08S,      34,          1,          1,          1,2,20160227,       0625,   -53.9380,    86.5697,       4870,  4907.5,   0.1707,  34.6659,2,  34.6658,2,    230.2,2,   229.5,2,   128.7,2,    0.00,2,   32.34,2,    0.00,2,    2.26,2,   1.178,2,   0.579,2,   0.081,2,         0.242,2,  2261.3,6, 2355.35,2,   7.5921,2,    25.01,   0.1710, -999.00,9,  -999.0,9,  -999.0, -999.00,9,-999.000,9,    39.5,2, -999.00,9,     -999.0,1, -999.00,9, 20160227,      625, -53.9380,  86.5697,     -999.0,9,     -999.0,9,     -999.0,9,   0.1107,2,   0.0715,2,   0.0336,2,   0.0226,2,   0.0128,2,   0.0040,2,   0.0009,2,     0.0196,2,     0.0223,2,     -999.0,9,     -999.0,9,     -999.0,9
33RR20160208,       I08S,      34,          1,          2,          2,2,20160227,       0625,   -53.9380,    86.5697,       4870,  4646.0,   0.1493,  34.6665,2,  34.6664,2,    228.2,2,   229.9,2,   129.1,2,    0.00,2,   32.30,2,    0.00,2,    2.26,2,   1.152,2,   0.574,2,   0.082,2,         0.251,2,  2258.9,2, 2355.43,2,   7.5925,2,    25.03,   0.1499, -999.00,9,  -999.0,9,  -999.0, -999.00,9,-999.000,9,    40.0,2, -999.00,9,     -999.0,1, -999.00,9, 20160227,      635, -53.9381,  86.5703,     -999.0,9,     -999.0,9,     -999.0,9,-999.0000,9,-999.0000,9,-999.0000,9,-999.0000,9,-999.0000,9,-999.0000,9,-999.0000,9,     -999.0,9,     -999.0,9,     -999.0,9,     -999.0,9,     -999.0,9
33RR20160208,       I08S,      34,          1,          3,          3,3,20160227,       0625,   -53.9380,    86.5697,       4870,  4395.1,   0.1282,  34.6671,3,  34.6666,3,    227.9,3,   229.7,3,   129.4,3,    0.00,3,   32.30,3,    0.00,3,    2.27,3,   1.138,2,   0.564,2,   0.081,2,          0.25,2,  2261.2,3, 2355.38,3,   7.5939,3,    24.97,   0.1283, -999.00,9,  -999.0,9,  -999.0, -999.00,9,-999.000,9,    40.0,2, -999.00,9,     -999.0,1, -999.00,9, 20160227,      644, -53.9380,  86.5705,     -999.0,9,     -999.0,9,     -999.0,9,-999.0000,9,-999.0000,9,-999.0000,9,-999.0000,9,-999.0000,9,-999.0000,9,-999.0000,9,     -999.0,9,     -999.0,9,     -999.0,9,     -999.0,9,     -999.0,9
33RR20160208,       I08S,      34,          1,          4,          4,2,20160227,       0625,   -53.9380,    86.5697,       4870,  4094.4,   0.1865,  34.6713,2,  34.6709,2,    226.1,2,   227.0,2,   127.7,2,    0.00,2,   32.34,2,    0.00,2,    2.24,2,   0.944,2,   0.464,2,   0.064,2,         0.192,2,  2255.4,2, 2355.94,2,   7.5926,2,    25.03,   0.1868, -999.00,9,  -999.0,9,  -999.0, -999.00,9,-999.000,9,    39.0,2, -999.00,9,     -999.0,1, -999.00,9, 20160227,      653, -53.9385,  86.5702,     -999.0,9,     -999.0,9,     -999.0,9,   0.1095,2,   0.0697,2,   0.0313,2,   0.0225,2,   0.0128,2,   0.0038,2,   0.0008,2,     0.0203,2,     0.0234,2,     -999.0,9,     -999.0,9,     -999.0,9
33RR20160208,       I08S,      34,          1,          5,          5,2,20160227,       0625,   -53.9380,    86.5697,       4870,  3792.6,   0.2432,  34.6755,2,  34.6748,2,    223.9,2,   224.3,2,   127.6,2,    0.00,2,   32.37,2,    0.00,2,    2.26,2,   0.835,2,   0.414,2,   0.057,2,         0.179,2,  2261.5,2, 2357.77,6,   7.5935,2,    25.00,   0.2422, -999.00,9,  -999.0,9,  -999.0, -999.00,9,-999.000,9,    39.2,2, -999.00,9,     -999.0,1, -999.00,9, 20160227,      704, -53.9383,  86.5712,     -999.0,9,     -999.0,9,     -999.0,9,-999.0000,9,-999.0000,9,-999.0000,9,-999.0000,9,-999.0000,9,-999.0000,9,-999.0000,9,     -999.0,9,     -999.0,9,     -999.0,9,     -999.0,9,     -999.0,9
33RR20160208,       I08S,      34,          1,          6,         38,2,20160227,       0625,   -53.9380,    86.5697,       4870,  3495.3,   0.3623,  34.6817,2,  34.6819,2,    220.4,2,   220.7,2,   125.3,2,    0.00,2,   32.27,2,    0.00,2,    2.25,2,   0.635,2,   0.320,2,   0.040,2,         0.116,2,  2258.8,2, 2357.37,2,   7.5937,2,    25.01,   0.3625, -999.00,9,  -999.0,9,  -999.0, -999.00,9,-999.000,9,    39.6,2, -999.00,9,     -999.0,1, -999.00,9, 20160227,      712, -53.9384,  86.5713,     -999.0,9,     -999.0,9,     -999.0,9,-999.0000,9,-999.0000,9,-999.0000,9,-999.0000,9,-999.0000,9,-999.0000,9,-999.0000,9,     -999.0,9,     -999.0,9,     -999.0,9,     -999.0,9,     -999.0,9
33RR20160208,       I08S,      34,          1,          7,          7,2,20160227,       0625,   -53.9380,    86.5697,       4870,  3201.5,   0.5020,  34.6891,2,  34.6889,2,    216.7,2,   216.0,2,   122.2,2,    0.00,2,   32.10,2,    0.00,2,    2.25,2,   0.524,2,   0.275,2,   0.032,2,         0.076,2,  2262.0,2, 2358.65,2,   7.5944,2,    25.01,   0.5026, -999.00,9,  -999.0,9,  -999.0, -999.00,9,-999.000,9,    39.7,2, -999.00,9,     -999.0,1, -999.00,9, 20160227,      719, -53.9385,  86.5711,     -999.0,9,     -999.0,9,     -999.0,9,-999.0000,9,-999.0000,9,-999.0000,9,-999.0000,9,-999.0000,9,-999.0000,9,-999.0000,9,     -999.0,9,     -999.0,9,     -999.0,9,     -999.0,9,     -999.0,9
33RR20160208,       I08S,      34,          1,          8,          8,2,20160227,       0625,   -53.9380,    86.5697,       4870,  2917.5,   0.6433,  34.6966,2,  34.6964,2,    213.7,2,   213.0,2,   119.9,2,    0.00,2,   32.07,2,    0.00,2,    2.23,2,   0.389,2,   0.200,2,   0.019,2,         0.072,2,  2260.4,6, 2358.02,2,   7.5961,2,    25.01,   0.6436, -999.00,9,  -999.0,9,  -999.0, -999.00,9,-999.000,9,    39.4,2, -999.00,9,     -999.0,1, -999.00,9, 20160227,      727, -53.9385,  86.5709,     -999.0,9,     -999.0,9,     -999.0,9,   0.1140,2,   0.0737,2,   0.0340,2,   0.0234,2,   0.0132,2,   0.0040,2,   0.0009,2,     0.0198,2,     0.0225,2,     -999.0,9,     -999.0,9,     -999.0,9
33RR20160208,       I08S,      34,          1,          9,          9,2,20160227,       0625,   -53.9380,    86.5697,       4870,  2669.5,   0.8597,  34.7083,2,  34.7081,2,    210.7,2,   210.2,2,   115.2,2,    0.00,2,   31.59,2,    0.00,2,    2.23,2,-999.000,9,-999.000,9,-999.000,9,-999.000000000,9,  2261.0,2, 2358.90,6,   7.6003,6,    25.00,   0.8598, -999.00,9,  -999.0,9,  -999.0, -999.00,9,-999.000,9,    38.3,2, -999.00,9,     -999.0,1, -999.00,9, 20160227,      734, -53.9384,  86.5706,     -999.0,9,     -999.0,9,     -999.0,9,-999.0000,9,-999.0000,9,-999.0000,9,-999.0000,9,-999.0000,9,-999.0000,9,-999.0000,9,     -999.0,9,     -999.0,9,     -999.0,9,     -999.0,9,     -999.0,9
33RR20160208,       I08S,      34,          1,         10,         10,2,20160227,       0625,   -53.9380,    86.5697,       4870,  2422.8,   1.0063,  34.7167,2,  34.7173,2,    208.6,2,   207.9,2,   109.7,2,    0.00,2,   31.46,2,    0.00,2,    2.20,2,   0.262,2,   0.137,2,   0.011,2,         0.049,2,  2259.9,2, 2358.15,2,   7.6037,2,    24.96,   1.0072, -999.00,9,  -999.0,9,  -999.0, -999.00,9,-999.000,9,    39.4,2, -999.00,9,     -999.0,1, -999.00,9, 20160227,      740, -53.9384,  86.5706,     -999.0,9,     -999.0,9,     -999.0,9,-999.0000,9,-999.0000,9,-999.0000,9,-999.0000,9,-999.0000,9,-999.0000,9,-999.0000,9,     -999.0,9,     -999.0,9,     -999.0,9,     -999.0,9,     -999.0,9
33RR20160208,       I08S,      34,          1,         11,         11,2,20160227,       0625,   -53.9380,    86.5697,       4870,  2164.3,   1.2372,  34.7285,2,  34.7285,2,    207.0,2,   205.2,2,   103.1,2,    0.00,2,   30.96,2,    0.00,2,    2.16,2,-999.000,9,-999.000,9,-999.000,9,-999.000000000,9,  2255.3,2, 2357.30,2,   7.6075,2,    25.02,   1.2377, -999.00,9,  -999.0,9,  -999.0, -999.00,9,-999.000,9,    38.9,2, -999.00,9,     -999.0,1, -999.00,9, 20160227,      746, -53.9384,  86.5708,     -999.0,9,     -999.0,9,     -999.0,9,-999.0000,9,-999.0000,9,-999.0000,9,-999.0000,9,-999.0000,9,-999.0000,9,-999.0000,9,     -999.0,9,     -999.0,9,     -999.0,9,     -999.0,9,     -999.0,9
33RR20160208,       I08S,      34,          1,         12,         12,2,20160227,       0625,   -53.9380,    86.5697,       4870,  1938.7,   1.4373,  34.7379,2,  34.7385,2,    204.7,2,   204.4,2,    97.4,2,    0.00,2,   30.56,2,    0.00,2,    2.13,2,   0.222,2,   0.118,2,   0.011,2,          0.01,2,  2254.9,2, 2356.97,2,   7.6111,2,    24.99,   1.4374, -999.00,9,  -999.0,9,  -999.0, -999.00,9,-999.000,9,    39.4,2, -999.00,9,     -999.0,1, -999.00,9, 20160227,      752, -53.9384,  86.5713,     -999.0,9,     -999.0,9,     -999.0,9,   0.1162,2,   0.0768,2,   0.0371,2,   0.0242,2,   0.0137,2,   0.0042,2,   0.0009,2,     0.0190,2,     0.0213,2,     -999.0,9,     -999.0,9,     -999.0,9
33RR20160208,       I08S,      34,          1,         13,         13,2,20160227,       0625,   -53.9380,    86.5697,       4870,  1736.3,   1.5700,  34.7417,2,  34.7416,2,    202.3,2,   201.2,2,    92.6,2,    0.00,2,   30.36,2,    0.00,2,    2.13,2,-999.000,9,-999.000,9,-999.000,9,-999.000000000,9,  2250.7,2, 2354.26,2,   7.6100,2,    25.01,   1.5708, -999.00,9,  -999.0,9,  -999.0, -999.00,9,-999.000,9,    39.1,2, -999.00,9,     -999.0,1, -999.00,9, 20160227,      758, -53.9382,  86.5709,     -999.0,9,     -999.0,9,     -999.0,9,-999.0000,9,-999.0000,9,-999.0000,9,-999.0000,9,-999.0000,9,-999.0000,9,-999.0000,9,     -999.0,9,     -999.0,9,     -999.0,9,     -999.0,9,     -999.0,9
33RR20160208,       I08S,      34,          1,         14,         14,2,20160227,       0625,   -53.9380,    86.5697,       4870,  1564.0,   1.7149,  34.7439,2,  34.7434,2,    199.8,2,   199.2,2,    88.6,2,    0.00,2,   30.27,2,    0.00,2,    2.11,2,   0.230,2,   0.122,2,   0.013,2,         0.021,2,  2247.6,2, 2351.33,2,   7.6090,2,    24.99,   1.7163, -999.00,9,  -999.0,9,  -999.0, -999.00,9,-999.000,9,    38.7,2, -999.00,9,     -999.0,1, -999.00,9, 20160227,      803, -53.9380,  86.5708,     -999.0,9,     -999.0,9,     -999.0,9,-999.0000,9,-999.0000,9,-999.0000,9,-999.0000,9,-999.0000,9,-999.0000,9,-999.0000,9,     -999.0,9,     -999.0,9,     -999.0,9,     -999.0,9,     -999.0,9
33RR20160208,       I08S,      34,          1,         15,         15,2,20160227,       0625,   -53.9380,    86.5697,       4870,  1461.7,   1.8093,  34.7437,2,  34.7443,2,    197.7,2,   197.9,2,    86.5,2,    0.00,2,   30.45,2,    0.00,2,    2.11,2,-999.000,9,-999.000,9,-999.000,9,-999.000000000,9,  2248.1,2, 2350.18,2,   7.6076,2,    25.01,   1.8103, -999.00,9,  -999.0,9,  -999.0, -999.00,9,-999.000,9,    40.0,2, -999.00,9,     -999.0,1, -999.00,9, 20160227,      807, -53.9378,  86.5703,     -999.0,9,     -999.0,9,     -999.0,9,   0.1133,2,   0.0737,2,   0.0337,2,   0.0234,2,   0.0133,2,   0.0041,2,   0.0009,2,     0.0199,2,     0.0226,2,     -999.0,9,     -999.0,9,     -999.0,9
33RR20160208,       I08S,      34,          1,         16,         16,2,20160227,       0625,   -53.9380,    86.5697,       4870,  1365.5,   1.9211,  34.7411,2,  34.7412,2,    195.7,2,   194.7,2,    83.9,2,    0.00,2,   30.41,2,    0.00,2,    2.10,2,   0.237,2,   0.126,2,   0.014,2,         0.058,2,  2248.0,2, 2349.12,6,   7.6052,6,    24.99,   1.9221, -999.00,9,  -999.0,9,  -999.0, -999.00,9,-999.000,9,    40.0,2, -999.00,9,     -999.0,1, -999.00,9, 20160227,      810, -53.9378,  86.5704,     -999.0,9,     -999.0,9,     -999.0,9,-999.0000,9,-999.0000,9,-999.0000,9,-999.0000,9,-999.0000,9,-999.0000,9,-999.0000,9,     -999.0,9,     -999.0,9,     -999.0,9,     -999.0,9,     -999.0,9
33RR20160208,       I08S,      34,          1,         17,         17,3,20160227,       0625,   -53.9380,    86.5697,       4870,  1265.7,   1.9928,  34.7340,3,  34.7335,3,    193.0,3,   192.1,3,    82.3,3,    0.00,3,   30.65,3,    0.00,3,    2.13,3,-999.000,9,-999.000,9,-999.000,9,-999.000000000,9,  -999.0,9, -999.00,9,-999.0000,9,  -999.00,   1.9936, -999.00,9,  -999.0,9,  -999.0, -999.00,9,-999.000,9,    41.6,2, -999.00,9,     -999.0,1, -999.00,9, 20160227,      814, -53.9380,  86.5696,     -999.0,9,     -999.0,9,     -999.0,9,-999.0000,9,-999.0000,9,-999.0000,9,-999.0000,9,-999.0000,9,-999.0000,9,-999.0000,9,     -999.0,9,     -999.0,9,     -999.0,9,     -999.0,9,     -999.0,9
33RR20160208,       I08S,      34,          1,         18,         37,2,20160227,       0625,   -53.9380,    86.5697,       4870,  1161.7,   2.0408,  34.7267,2,  34.7268,2,    190.6,2,   189.8,2,    80.8,2,    0.00,2,   30.78,2,    0.00,2,    2.14,2,   0.295,2,   0.153,2,   0.026,2,         0.058,2,  2248.7,2, 2346.74,2,   7.5959,6,    24.99,   2.0418, -999.00,9,  -999.0,9,  -999.0, -999.00,9,-999.000,9,    39.3,2, -999.00,9,     -999.0,1, -999.00,9, 20160227,      817, -53.9378,  86.5699,     -999.0,9,     -999.0,9,     -999.0,9,-999.0000,9,-999.0000,9,-999.0000,9,-999.0000,9,-999.0000,9,-999.0000,9,-999.0000,9,     -999.0,9,     -999.0,9,     -999.0,9,     -999.0,9,     -999.0,9
33RR20160208,       I08S,      34,          1,         19,         19,2,20160227,       0625,   -53.9380,    86.5697,       4870,  1063.6,   2.1231,  34.7057,2,  34.7064,2,    187.6,2,   187.4,2,    77.9,2,    0.00,2,   31.32,2,    0.00,2,    2.16,2,-999.000,9,-999.000,9,-999.000,9,-999.000000000,9,  2249.2,6, 2345.50,2,   7.5852,2,    25.00,   2.1232, -999.00,9,  -999.0,9,  -999.0, -999.00,9,-999.000,9,    39.7,2, -999.00,9,     -999.0,1, -999.00,9, 20160227,      821, -53.9377,  86.5698,     -999.0,9,     -999.0,9,     -999.0,9,-999.0000,9,-999.0000,9,-999.0000,9,-999.0000,9,-999.0000,9,-999.0000,9,-999.0000,9,     -999.0,9,     -999.0,9,     -999.0,9,     -999.0,9,     -999.0,9
33RR20160208,       I08S,      34,          1,         20,         20,2,20160227,       0625,   -53.9380,    86.5697,       4870,   962.4,   2.1764,  34.6897,2,  34.6897,2,    186.0,2,   184.6,2,    77.0,2,    0.00,2,   31.75,2,    0.00,2,    2.22,2,   0.398,2,   0.212,2,   0.029,2,         0.115,2,  2248.7,2, 2342.29,2,   7.5796,2,    24.99,   2.1763, -999.00,9,  -999.0,9,  -999.0, -999.00,9,-999.000,9,    39.4,2, -999.00,9,     -999.0,1, -999.00,9, 20160227,      824, -53.9375,  86.5704,     -999.0,9,     -999.0,9,     -999.0,9,   0.1151,2,   0.0752,2,   0.0357,2,   0.0237,2,   0.0135,2,   0.0042,2,   0.0011,2,     0.0194,2,     0.0219,2,     -999.0,9,     -999.0,9,     -999.0,9
33RR20160208,       I08S,      34,          1,         21,         21,4,20160227,       0625,   -53.9380,    86.5697,       4870,   866.1,   2.1764,  34.6558,3,  34.7119,3,    181.3,3,   205.1,3,    97.6,3,    0.00,3,   31.32,3,    0.00,3,    2.17,3,-999.000,9,-999.000,9,-999.000,9,-999.000000000,9,  2251.5,3, 2351.92,3,   7.5999,4,    25.05,   2.1783, -999.00,9,  -999.0,9,  -999.0, -999.00,9,-999.000,9,    38.5,2, -999.00,9,     -999.0,1, -999.00,9, 20160227,      828, -53.9372,  86.5703,     -999.0,9,     -999.0,9,     -999.0,9,-999.0000,9,-999.0000,9,-999.0000,9,-999.0000,9,-999.0000,9,-999.0000,9,-999.0000,9,     -999.0,9,     -999.0,9,     -999.0,9,     -999.0,9,     -999.0,9
33RR20160208,       I08S,      34,          1,         22,         22,2,20160227,       0625,   -53.9380,    86.5697,       4870,   761.8,   2.2994,  34.6145,2,  34.6151,2,    179.2,2,   177.6,2,    73.2,2,    0.00,2,   33.37,2,    0.00,2,    2.30,2,   0.633,2,   0.325,2,   0.045,2,          0.16,2,  2251.9,2, 2336.97,2,   7.5581,6,    24.97,   2.2995, -999.00,9,  -999.0,9,  -999.0, -999.00,9,-999.000,9,    38.6,2, -999.00,9,     -999.0,1, -999.00,9, 20160227,      831, -53.9366,  86.5704,     -999.0,9,     -999.0,9,     -999.0,9,   0.1167,2,   0.0769,2,   0.0381,2,   0.0245,2,   0.0139,2,   0.0044,2,   0.0006,2,     0.0186,2,     0.0209,2,     -999.0,9,     -999.0,9,     -999.0,9
33RR20160208,       I08S,      34,          1,         23,         23,2,20160227,       0625,   -53.9380,    86.5697,       4870,   667.0,   2.2934,  34.5823,2,  34.5820,2,    177.5,2,   177.7,2,    72.0,2,    0.00,2,   33.86,2,    0.00,2,    2.34,2,-999.000,9,-999.000,9,-999.000,9,-999.000000000,9,  2252.8,2, 2333.56,2,   7.5511,2,    25.00,   2.2934, -999.00,9,  -999.0,9,  -999.0, -999.00,9,-999.000,9,    38.8,2, -999.00,9,     -999.0,1, -999.00,9, 20160227,      835, -53.9364,  86.5705,     -999.0,9,     -999.0,9,     -999.0,9,-999.0000,9,-999.0000,9,-999.0000,9,-999.0000,9,-999.0000,9,-999.0000,9,-999.0000,9,     -999.0,9,     -999.0,9,     -999.0,9,     -999.0,9,     -999.0,9
33RR20160208,       I08S,      34,          1,         24,         24,2,20160227,       0625,   -53.9380,    86.5697,       4870,   565.2,   2.2879,  34.5168,2,  34.5167,2,    180.4,2,   180.9,2,    68.2,2,    0.00,2,   34.39,2,    0.00,2,    2.39,2,   1.084,2,   0.555,2,   0.085,2,         0.302,2,  2251.3,2, 2329.71,2,   7.5441,6,    25.00,   2.2879, -999.00,9,  -999.0,9,  -999.0, -999.00,9,-999.000,9,    40.0,2, -999.00,9,     -999.0,1, -999.00,9, 20160227,      839, -53.9365,  86.5701,     -999.0,9,     -999.0,9,     -999.0,9,-999.0000,9,-999.0000,9,-999.0000,9,-999.0000,9,-999.0000,9,-999.0000,9,-999.0000,9,     -999.0,9,     -999.0,9,     -999.0,9,     -999.0,9,     -999.0,9
33RR20160208,       I08S,      34,          1,         25,         25,3,20160227,       0625,   -53.9380,    86.5697,       4870,   459.2,   2.3048,  34.4428,3,  34.4398,3,    201.3,3,   189.3,3,    62.1,3,    0.00,3,   34.42,3,    0.00,3,    2.39,3,   1.598,2,   0.771,2,   0.121,2,          0.52,2,  -999.0,9, -999.00,9,-999.0000,9,  -999.00,   2.3071, -999.00,9,  -999.0,9,  -999.0, -999.00,9,-999.000,9,    39.1,2, -999.00,9,     -999.0,1, -999.00,9, 20160227,      843, -53.9365,  86.5697,     -999.0,9,     -999.0,9,     -999.0,9,   0.1117,2,   0.0714,2,   0.0326,2,   0.0238,2,   0.0140,2,   0.0048,2,   0.0014,2,     0.0199,2,     0.0230,2,     -999.0,9,     -999.0,9,     -999.0,9
33RR20160208,       I08S,      34,          1,         26,         26,2,20160227,       0625,   -53.9380,    86.5697,       4870,   385.6,   2.1649,  34.3531,2,  34.3530,2,    206.6,2,   205.9,2,    55.9,2,    0.00,2,   34.07,2,    0.00,2,    2.34,2,   2.170,2,   1.089,2,   0.176,2,         0.763,2,  2236.4,2, 2314.72,6,   7.5511,2,    25.07,   2.1675, -999.00,9,  -999.0,9,  -999.0, -999.00,9,-999.000,9,    40.0,2, -999.00,9,     -999.0,1, -999.00,9, 20160227,      846, -53.9365,  86.5691,     -999.0,9,     -999.0,9,     -999.0,9,-999.0000,9,-999.0000,9,-999.0000,9,-999.0000,9,-999.0000,9,-999.0000,9,-999.0000,9,     -999.0,9,     -999.0,9,     -999.0,9,     -999.0,9,     -999.0,9
33RR20160208,       I08S,      34,          1,         27,         27,4,20160227,       0625,   -53.9380,    86.5697,       4870,   332.6,   2.1409,  34.2976,3,  34.3346,3,    222.0,3,   197.4,3,    53.2,3,    0.00,3,   33.72,3,    0.00,3,    2.33,3,   1.675,2,   0.832,2,   0.134,2,          0.51,2,  2236.7,3, 2313.87,3,   7.5544,4,    25.00,   2.1416, -999.00,9,  -999.0,9,  -999.0, -999.00,9,-999.000,9,    39.4,2,   35.90,2,     -999.0,1, -999.00,9, 20160227,      848, -53.9365,  86.5693,     -999.0,9,     -999.0,9,     -999.0,9,   0.1030,2,   0.0651,2,   0.0295,2,   0.0216,2,   0.0122,2,   0.0036,2,   0.0008,2,     0.0201,2,     0.0235,2,     -999.0,9,     -999.0,9,     -999.0,9