BOTTLE,20220706CCHSIOAMB
EXPOCODE,SECT_ID,STNNBR,CASTNO,SAMPNO,BTLNBR,BTLNBR_FLAG_W,DATE,TIME,LATITUDE,LONGITUDE,DEPTH,CTDPRS,CTDTMP,CTDSAL,CTDSAL_FLAG_W,SALNTY,SALNTY_FLAG_W,CTDOXY,CTDOXY_FLAG_W,OXYGEN,OXYGEN_FLAG_W,SILCAT,SILCAT_FLAG_W,NH4,NH4_FLAG_W,NITRAT,NITRAT_FLAG_W,NITRIT,NITRIT_FLAG_W,PHSPHT,PHSPHT_FLAG_W,CFC-11,CFC-11_FLAG_W,CFC-12,CFC-12_FLAG_W,CFC113,CFC113_FLAG_W,SF6,SF6_FLAG_W,TCARBN,TCARBN_FLAG_W,ALKALI,ALKALI_FLAG_W,PH_TOT,PH_TOT_FLAG_W,PH_TMP,REFTMP,DELC13,DELC13_FLAG_W,DELC14,DELC14_FLAG_W,C14ERR,DELO18,DELO18_FLAG_W,POC,POC_FLAG_W,DOC,DOC_FLAG_W,TDN,TDN_FLAG_W,TON,TON_FLAG_W,D15N_NO3,D15N_NO3_FLAG_W,BTL_DATE,BTL_TIME,BTL_LAT,BTL_LON,14C-DOC,14C-DOC_FLAG_W,CHLORA,CHLORA_FLAG_W,HPLC,HPLC_FLAG_W,CDOM325,CDOM325_FLAG_W,CDOM340,CDOM340_FLAG_W,CDOM380,CDOM380_FLAG_W,CDOM412,CDOM412_FLAG_W,CDOM443,CDOM443_FLAG_W,CDOM490,CDOM490_FLAG_W,CDOM555,CDOM555_FLAG_W,CDOMSL,CDOMSL_FLAG_W,CDOMSN,CDOMSN_FLAG_W,D18O_NO3,D18O_NO3_FLAG_W,D15N_NO2+NO3,D15N_NO2+NO3_FLAG_W,D18O_NO2+NO3,D18O_NO2+NO3_FLAG_W
,,,,,,,,,,,METERS,DBAR,ITS-90,PSS-78,,PSS-78,,UMOL/KG,,UMOL/KG,,UMOL/KG,,UMOL/KG,,UMOL/KG,,UMOL/KG,,UMOL/KG,,PMOL/KG,,PMOL/KG,,PMOL/KG,,FMOL/KG,,UMOL/KG,,UMOL/KG,,,,DEG C,DEG C,/MILLE,,/MILLE,,/MILLE,/MILLE,,UG/KG,,UMOL/KG,,UMOL/KG,,UMOL/KG,,/MILLE,,,,,,/MILLE,,MG/M3,,,,1/M,,1/M,,1/M,,1/M,,1/M,,1/M,,1/M,,1/NM,,1/NM,,/MILLE,,/MILLE,,/MILLE,
33RR20160208,       I08S,      17,          1,          1,          1,2,20160223,       0611,   -60.5001,    82.0002,       1766,  1770.6,   0.6768,  34.7020,2,  34.7027,2,    204.7,2,   204.6,2,   136.6,2,    0.00,2,   32.43,2,    0.02,2,    2.28,2,   0.257,2,   0.139,2,   0.006,2,         0.261,2,  2262.7,2, 2360.34,2,   7.5880,2,    25.00,   0.6768, -999.00,9,  -999.0,9,  -999.0, -999.00,9,-999.000,9,  -999.0,9, -999.00,9,     -999.0,9, -999.00,9, 20160223,      611, -60.5000,  82.0002,     -999.0,9,     -999.0,9,     -999.0,9,   0.1205,2,   0.0849,2,   0.0537,2,   0.0293,2,   0.0165,2,   0.0058,2,   0.0015,2,     0.0144,2,     0.0152,2,     -999.0,9,     -999.0,9,     -999.0,9
33RR20160208,       I08S,      17,          1,          2,          2,2,20160223,       0611,   -60.5001,    82.0002,       1766,  1589.3,   0.8759,  34.7131,2,  34.7139,2,    203.1,2,   204.4,2,   122.0,2,    0.00,2,   32.00,2,    0.00,2,    2.23,2,   0.233,2,   0.124,2,   0.004,2,         0.262,2,  2259.2,2, 2358.76,2,   7.5933,2,    24.99,   0.8754, -999.00,9,  -999.0,9,  -999.0, -999.00,9,-999.000,9,  -999.0,9, -999.00,9,     -999.0,9, -999.00,9, 20160223,      615, -60.5000,  82.0002,     -999.0,9,     -999.0,9,     -999.0,9,   0.1192,2,   0.0893,2,   0.0718,2,   0.0321,2,   0.0168,2,   0.0054,2,   0.0012,2,     0.0102,2,     0.0100,2,     -999.0,9,     -999.0,9,     -999.0,9
33RR20160208,       I08S,      17,          1,          3,          3,2,20160223,       0611,   -60.5001,    82.0002,       1766,  1398.8,   0.9593,  34.7182,2,  34.7192,2,    202.4,2,   203.5,2,   115.5,2,    0.00,2,   31.73,2,    0.00,2,    2.22,2,   0.228,2,   0.123,2,   0.003,2,         0.193,2,  2258.5,2, 2357.84,2,   7.5970,2,    24.97,   0.9594, -999.00,9,  -999.0,9,  -999.0, -999.00,9,-999.000,9,  -999.0,9, -999.00,9,     -999.0,9, -999.00,9, 20160223,      619, -60.5000,  82.0002,     -999.0,9,     -999.0,9,     -999.0,9,-999.0000,9,-999.0000,9,-999.0000,9,-999.0000,9,-999.0000,9,-999.0000,9,-999.0000,9,     -999.0,9,     -999.0,9,     -999.0,9,     -999.0,9,     -999.0,9
33RR20160208,       I08S,      17,          1,          4,          4,2,20160223,       0611,   -60.5001,    82.0002,       1766,  1398.7,   0.9610,  34.7182,2,  34.7186,2,    202.4,2,  -999.0,9,   115.4,2,    0.00,2,   31.70,2,    0.00,2,    2.23,2,-999.000,9,-999.000,9,-999.000,9,-999.000000000,9,  -999.0,9, -999.00,9,-999.0000,9,     9.00,   0.9612, -999.00,9,  -999.0,9,  -999.0, -999.00,9,-999.000,9,  -999.0,9, -999.00,9,     -999.0,9, -999.00,9, 20160223,      619, -60.5000,  82.0002,     -999.0,9,     -999.0,9,     -999.0,9,-999.0000,9,-999.0000,9,-999.0000,9,-999.0000,9,-999.0000,9,-999.0000,9,-999.0000,9,     -999.0,9,     -999.0,9,     -999.0,9,     -999.0,9,     -999.0,9
33RR20160208,       I08S,      17,          1,          5,          5,2,20160223,       0611,   -60.5001,    82.0002,       1766,  1298.4,   1.0182,  34.7217,2,  34.7227,2,    203.1,2,   205.5,2,   110.5,2,    0.00,2,   31.53,2,    0.00,2,    2.20,2,   0.235,2,   0.129,2,   0.005,2,         0.249,2,  -999.0,9, -999.00,9,-999.0000,9,  -999.00,   1.0181, -999.00,9,  -999.0,9,  -999.0, -999.00,9,-999.000,9,  -999.0,9, -999.00,9,     -999.0,9, -999.00,9, 20160223,      622, -60.5000,  82.0002,     -999.0,9,     -999.0,9,     -999.0,9,-999.0000,9,-999.0000,9,-999.0000,9,-999.0000,9,-999.0000,9,-999.0000,9,-999.0000,9,     -999.0,9,     -999.0,9,     -999.0,9,     -999.0,9,     -999.0,9
33RR20160208,       I08S,      17,          1,          6,          6,2,20160223,       0611,   -60.5001,    82.0002,       1766,  1200.3,   1.0840,  34.7254,2,  34.7260,2,    203.3,2,   204.2,2,   106.4,2,    0.00,2,   31.30,2,    0.00,2,    2.18,2,   0.232,2,   0.127,2,   0.003,2,         0.257,2,  2254.2,2, 2357.02,2,   7.6025,6,    24.98,   1.0841, -999.00,9,  -999.0,9,  -999.0, -999.00,9,-999.000,9,  -999.0,9, -999.00,9,     -999.0,9, -999.00,9, 20160223,      625, -60.5000,  82.0002,     -999.0,9,     -999.0,9,     -999.0,9,-999.0000,9,-999.0000,9,-999.0000,9,-999.0000,9,-999.0000,9,-999.0000,9,-999.0000,9,     -999.0,9,     -999.0,9,     -999.0,9,     -999.0,9,     -999.0,9
33RR20160208,       I08S,      17,          1,          7,          7,2,20160223,       0611,   -60.5001,    82.0002,       1766,  1100.5,   1.1873,  34.7304,2,  34.7307,2,    202.5,2,   202.9,2,   102.8,2,    0.00,2,   31.09,2,    0.00,2,    2.16,2,   0.227,2,   0.121,2,   0.004,2,         0.194,2,  -999.0,9, -999.00,9,-999.0000,9,     9.00,   1.1894, -999.00,9,  -999.0,9,  -999.0, -999.00,9,-999.000,9,  -999.0,9, -999.00,9,     -999.0,9, -999.00,9, 20160223,      628, -60.5000,  82.0002,     -999.0,9,     -999.0,9,     -999.0,9,-999.0000,9,-999.0000,9,-999.0000,9,-999.0000,9,-999.0000,9,-999.0000,9,-999.0000,9,     -999.0,9,     -999.0,9,     -999.0,9,     -999.0,9,     -999.0,9
33RR20160208,       I08S,      17,          1,          9,          9,2,20160223,       0611,   -60.5001,    82.0002,       1766,  1002.9,   1.2694,  34.7344,2,  34.7346,2,    202.0,2,  -999.0,9,    99.9,2,    0.00,2,   30.93,2,    0.00,2,    2.15,2,-999.000,9,-999.000,9,-999.000,9,-999.000000000,9,  -999.0,9, -999.00,9,-999.0000,9,  -999.00,   1.2694, -999.00,9,  -999.0,9,  -999.0, -999.00,9,-999.000,9,  -999.0,9, -999.00,9,     -999.0,9, -999.00,9, 20160223,      631, -60.5000,  82.0003,     -999.0,9,     -999.0,9,     -999.0,9,   0.1129,2,   0.0766,2,   0.0431,2,   0.0254,2,   0.0144,2,   0.0050,2,   0.0011,2,     0.0165,2,     0.0181,2,     -999.0,9,     -999.0,9,     -999.0,9
33RR20160208,       I08S,      17,          1,          8,          8,2,20160223,       0611,   -60.5001,    82.0002,       1766,   999.4,   1.2678,  34.7343,2,  34.7343,2,    202.0,2,   203.0,2,    99.8,2,    0.00,2,   30.95,2,    0.00,2,    2.17,2,   0.226,2,   0.123,2,   0.004,2,         0.163,2,  2252.3,2, 2354.94,2,   7.6051,6,    24.97,   1.2681, -999.00,9,  -999.0,9,  -999.0, -999.00,9,-999.000,9,  -999.0,9, -999.00,9,     -999.0,9, -999.00,9, 20160223,      631, -60.5000,  82.0002,     -999.0,9,     -999.0,9,     -999.0,9,-999.0000,9,-999.0000,9,-999.0000,9,-999.0000,9,-999.0000,9,-999.0000,9,-999.0000,9,     -999.0,9,     -999.0,9,     -999.0,9,     -999.0,9,     -999.0,9
33RR20160208,       I08S,      17,          1,         10,         10,3,20160223,       0611,   -60.5001,    82.0002,       1766,   900.3,   1.3742,  34.7386,3,  34.7384,3,    200.7,3,   201.0,3,    96.5,3,    0.00,3,   30.73,3,    0.00,3,    2.12,3,   0.234,2,   0.130,2,   0.004,2,         0.171,2,  -999.0,9, -999.00,9,-999.0000,9,     9.00,   1.3738, -999.00,9,  -999.0,9,  -999.0, -999.00,9,-999.000,9,  -999.0,9, -999.00,9,     -999.0,9, -999.00,9, 20160223,      634, -60.5000,  82.0003,     -999.0,9,     -999.0,9,     -999.0,9,-999.0000,9,-999.0000,9,-999.0000,9,-999.0000,9,-999.0000,9,-999.0000,9,-999.0000,9,     -999.0,9,     -999.0,9,     -999.0,9,     -999.0,9,     -999.0,9
33RR20160208,       I08S,      17,          1,         11,         11,2,20160223,       0611,   -60.5001,    82.0002,       1766,   800.7,   1.4815,  34.7418,2,  34.7427,2,    199.3,2,   199.5,2,    93.5,2,    0.00,2,   30.63,2,    0.00,2,    2.15,2,   0.233,2,   0.130,2,   0.006,2,         0.143,2,  2249.8,2, 2353.17,2,   7.6052,6,    24.97,   1.4821, -999.00,9,  -999.0,9,  -999.0, -999.00,9,-999.000,9,  -999.0,9, -999.00,9,     -999.0,9, -999.00,9, 20160223,      637, -60.5000,  82.0002,     -999.0,9,     -999.0,9,     -999.0,9,-999.0000,9,-999.0000,9,-999.0000,9,-999.0000,9,-999.0000,9,-999.0000,9,-999.0000,9,     -999.0,9,     -999.0,9,     -999.0,9,     -999.0,9,     -999.0,9
33RR20160208,       I08S,      17,          1,         12,         12,2,20160223,       0611,   -60.5001,    82.0002,       1766,   699.9,   1.5815,  34.7426,2,  34.7429,2,    197.3,2,   196.4,2,    91.0,2,    0.00,2,   30.73,2,    0.00,2,    2.15,2,   0.251,2,   0.138,2,   0.008,2,         0.124,2,  -999.0,9, -999.00,9,-999.0000,9,  -999.00,   1.5810, -999.00,9,  -999.0,9,  -999.0, -999.00,9,-999.000,9,  -999.0,9, -999.00,9,     -999.0,9, -999.00,9, 20160223,      640, -60.5000,  82.0002,     -999.0,9,     -999.0,9,     -999.0,9,-999.0000,9,-999.0000,9,-999.0000,9,-999.0000,9,-999.0000,9,-999.0000,9,-999.0000,9,     -999.0,9,     -999.0,9,     -999.0,9,     -999.0,9,     -999.0,9
33RR20160208,       I08S,      17,          1,         13,         13,2,20160223,       0611,   -60.5001,    82.0002,       1766,   599.1,   1.6770,  34.7409,2,  34.7411,2,    196.1,2,   192.9,2,    88.8,2,    0.00,2,   30.78,2,    0.00,2,    2.15,2,   0.273,2,   0.147,2,   0.009,2,         0.232,2,  2247.7,2, 2350.31,2,   7.5993,6,    24.99,   1.6769, -999.00,9,  -999.0,9,  -999.0, -999.00,9,-999.000,9,  -999.0,9, -999.00,9,     -999.0,9, -999.00,9, 20160223,      642, -60.5000,  82.0002,     -999.0,9,     -999.0,9,     -999.0,9,-999.0000,9,-999.0000,9,-999.0000,9,-999.0000,9,-999.0000,9,-999.0000,9,-999.0000,9,     -999.0,9,     -999.0,9,     -999.0,9,     -999.0,9,     -999.0,9
33RR20160208,       I08S,      17,          1,         14,         14,2,20160223,       0611,   -60.5001,    82.0002,       1766,   498.7,   1.7752,  34.7351,2,  34.7348,2,    191.1,2,   192.4,2,    87.2,2,    0.00,2,   31.12,2,    0.00,2,    2.18,2,   0.298,2,   0.155,2,   0.014,2,         0.116,2,  -999.0,9, -999.00,9,-999.0000,9,  -999.00,   1.7753, -999.00,9,  -999.0,9,  -999.0, -999.00,9,-999.000,9,  -999.0,9, -999.00,9,     -999.0,9, -999.00,9, 20160223,      645, -60.5000,  82.0002,     -999.0,9,     -999.0,9,     -999.0,9,   0.1181,2,   0.0809,2,   0.0451,2,   0.0267,2,   0.0151,2,   0.0051,2,   0.0011,2,     0.0165,2,     0.0181,2,     -999.0,9,     -999.0,9,     -999.0,9
33RR20160208,       I08S,      17,          1,         15,         15,2,20160223,       0611,   -60.5001,    82.0002,       1766,   399.8,   1.8304,  34.7218,2,  34.7230,2,    185.8,2,   185.8,2,    86.6,2,    0.00,2,   31.77,2,    0.00,2,    2.23,2,   0.347,2,   0.195,2,   0.018,2,         0.212,2,  2253.6,2, 2345.54,2,   7.5792,2,    25.00,   1.8303, -999.00,9,  -999.0,9,  -999.0, -999.00,9,-999.000,9,  -999.0,9, -999.00,9,     -999.0,9, -999.00,9, 20160223,      648, -60.5000,  82.0003,     -999.0,9,     -999.0,9,     -999.0,9,   0.1173,2,   0.0838,2,   0.0578,2,   0.0285,2,   0.0153,2,   0.0052,2,   0.0012,2,     0.0131,2,     0.0135,2,     -999.0,9,     -999.0,9,     -999.0,9
33RR20160208,       I08S,      17,          1,         16,         16,2,20160223,       0611,   -60.5001,    82.0002,       1766,   350.5,   1.8433,  34.7139,2,  34.7138,2,    183.0,2,   181.4,2,    86.6,2,    0.00,2,   32.22,2,    0.00,2,    2.26,2,-999.000,9,-999.000,9,-999.000,9,-999.000000000,9,  -999.0,9, -999.00,9,-999.0000,9,     9.00,   1.8430, -999.00,9,  -999.0,9,  -999.0, -999.00,9,-999.000,9,  -999.0,9, -999.00,9,     -999.0,9, -999.00,9, 20160223,      650, -60.5000,  82.0002,     -999.0,9,     -999.0,9,     -999.0,9,-999.0000,9,-999.0000,9,-999.0000,9,-999.0000,9,-999.0000,9,-999.0000,9,-999.0000,9,     -999.0,9,     -999.0,9,     -999.0,9,     -999.0,9,     -999.0,9
33RR20160208,       I08S,      17,          1,         17,         17,2,20160223,       0611,   -60.5001,    82.0002,       1766,   300.0,   1.8687,  34.7074,2,  34.7085,2,    182.0,2,   182.1,2,    85.7,2,    0.00,2,   32.29,2,    0.00,2,    2.28,2,   0.396,2,   0.227,2,   0.023,2,         0.172,2,  2258.1,2, 2346.68,2,   7.5691,2,    24.99,   1.8683, -999.00,9,  -999.0,9,  -999.0, -999.00,9,-999.000,9,  -999.0,9, -999.00,9,     -999.0,9, -999.00,9, 20160223,      652, -60.5000,  82.0002,     -999.0,9,     -999.0,9,     -999.0,9,   0.1211,2,   0.0837,2,   0.0486,2,   0.0286,2,   0.0164,2,   0.0059,2,   0.0015,2,     0.0157,2,     0.0171,2,     -999.0,9,     -999.0,9,     -999.0,9
33RR20160208,       I08S,      17,          1,         19,         19,2,20160223,       0611,   -60.5001,    82.0002,       1766,   250.8,   1.8932,  34.6941,2,  34.6942,2,    179.8,2,  -999.0,9,    85.4,2,    0.00,2,   32.83,2,    0.01,2,    2.29,2,-999.000,9,-999.000,9,-999.000,9,-999.000000000,9,  -999.0,9, -999.00,9,-999.0000,9,  -999.00,   1.8930, -999.00,9,  -999.0,9,  -999.0, -999.00,9,-999.000,9,  -999.0,9, -999.00,9,     -999.0,9, -999.00,9, 20160223,      655, -60.5000,  82.0002,     -999.0,9,     -999.0,9,     -999.0,9,-999.0000,9,-999.0000,9,-999.0000,9,-999.0000,9,-999.0000,9,-999.0000,9,-999.0000,9,     -999.0,9,     -999.0,9,     -999.0,9,     -999.0,9,     -999.0,9
33RR20160208,       I08S,      17,          1,         18,         37,2,20160223,       0611,   -60.5001,    82.0002,       1766,   249.0,   1.8929,  34.6946,2,  34.6938,2,    179.5,2,   178.0,2,    85.3,2,    0.00,2,   32.77,2,    0.00,2,    2.29,2,-999.000,9,-999.000,9,-999.000,9,-999.000000000,9,  -999.0,9, -999.00,9,-999.0000,9,     9.00,   1.8927, -999.00,9,  -999.0,9,  -999.0, -999.00,9,-999.000,9,  -999.0,9, -999.00,9,     -999.0,9, -999.00,9, 20160223,      654, -60.5000,  82.0003,     -999.0,9,     -999.0,9,     -999.0,9,   0.1226,2,   0.0814,2,   0.0422,2,   0.0264,2,   0.0153,2,   0.0054,2,   0.0013,2,     0.0179,2,     0.0200,2,     -999.0,9,     -999.0,9,     -999.0,9
33RR20160208,       I08S,      17,          1,         20,         20,2,20160223,       0611,   -60.5001,    82.0002,       1766,   201.4,   1.8901,  34.6740,2,  34.6774,2,    177.7,2,   175.4,2,    84.9,2,    0.00,2,   33.35,2,    0.02,2,    2.32,2,   0.539,2,   0.290,2,   0.035,2,         0.252,2,  2259.5,2, 2343.40,2,   7.5512,6,    24.99,   1.8899, -999.00,9,  -999.0,9,  -999.0, -999.00,9,-999.000,9,  -999.0,9, -999.00,9,     -999.0,9, -999.00,9, 20160223,      657, -60.5000,  82.0002,     -999.0,9,0.008432894,2,     -999.0,9,   0.1202,2,   0.0814,2,   0.0431,2,   0.0270,2,   0.0154,2,   0.0053,2,   0.0013,2,     0.0173,2,     0.0192,2,     -999.0,9,     -999.0,9,     -999.0,9
33RR20160208,       I08S,      17,          1,         21,         21,2,20160223,       0611,   -60.5001,    82.0002,       1766,   150.0,   1.7060,  34.6095,2,  34.6093,2,    175.8,2,   174.5,2,    83.1,2,    0.00,2,   34.31,2,    0.07,2,    2.39,2,-999.000,9,-999.000,9,-999.000,9,-999.000000000,9,  -999.0,9, -999.00,9,-999.0000,9,  -999.00,   1.7066, -999.00,9,  -999.0,9,  -999.0, -999.00,9,-999.000,9,  -999.0,9, -999.00,9,     -999.0,9, -999.00,9, 20160223,      659, -60.5000,  82.0002,     -999.0,9,     -999.0,9,     -999.0,9,   0.1162,2,   0.0790,2,   0.0452,2,   0.0269,2,   0.0152,2,   0.0054,2,   0.0014,2,     0.0162,2,     0.0177,2,     -999.0,9,     -999.0,9,     -999.0,9
33RR20160208,       I08S,      17,          1,         22,         22,3,20160223,       0611,   -60.5001,    82.0002,       1766,   101.0,   1.3462,  34.5315,3,  34.5318,3,    182.4,3,   183.3,3,    79.8,3,    0.05,3,   34.51,3,    0.28,3,    2.44,3,   1.305,2,   0.693,2,   0.108,2,         0.653,2,  -999.0,9, -999.00,9,-999.0000,9,     9.00,   1.3505, -999.00,9,  -999.0,9,  -999.0, -999.00,9,-999.000,9,  -999.0,9, -999.00,9,     -999.0,9, -999.00,9, 20160223,      701, -60.5000,  82.0002,     -999.0,9,0.044109325,2,     -999.0,9,   0.1217,2,   0.0829,2,   0.0461,2,   0.0294,2,   0.0172,2,   0.0066,2,   0.0020,2,     0.0163,2,     0.0181,2,     -999.0,9,     -999.0,9,     -999.0,9
33RR20160208,       I08S,      17,          1,         23,         23,2,20160223,       0611,   -60.5001,    82.0002,       1766,    75.6,   0.1695,  34.3269,2,  34.3291,2,    218.2,2,   227.6,2,    71.2,2,    0.84,2,   32.91,2,    0.20,2,    2.40,2,-999.000,9,-999.000,9,-999.000,9,-999.000000000,9,  2243.2,2, 2319.28,2,   7.5449,6,    24.99,   0.1661, -999.00,9,  -999.0,9,  -999.0, -999.00,9,-999.000,9,  -999.0,9, -999.00,9,     -999.0,9, -999.00,9, 20160223,      703, -60.5000,  82.0002,     -999.0,9,0.231207145,2,     -999.0,9,   0.1224,2,   0.0828,2,   0.0479,2,   0.0300,2,   0.0177,2,   0.0071,2,   0.0024,2,     0.0158,2,     0.0176,2,     -999.0,9,     -999.0,9,     -999.0,9
33RR20160208,       I08S,      17,          1,         24,         24,2,20160223,       0611,   -60.5001,    82.0002,       1766,    49.3,   1.2846,  33.8585,2,  33.8569,2,    335.2,2,   334.9,2,    30.6,2,    0.50,2,   24.19,2,    0.20,2,    1.63,2,   5.015,2,   2.798,2,   0.489,2,         3.051,2,  2157.0,2, 2294.88,2,   7.7161,2,    25.01,   1.2903, -999.00,9,  -999.0,9,  -999.0, -999.00,9,-999.000,9,  -999.0,9, -999.00,9,     -999.0,9, -999.00,9, 20160223,      705, -60.5000,  82.0003,     -999.0,9,0.432113639,2,     -999.0,9,   0.1077,2,   0.0744,2,   0.0461,2,   0.0261,2,   0.0160,2,   0.0069,2,   0.0020,2,     0.0147,2,     0.0160,2,     -999.0,9,     -999.0,9,     -999.0,9
33RR20160208,       I08S,      17,          1,         25,         25,2,20160223,       0611,   -60.5001,    82.0002,       1766,    25.0,   1.3455,  33.8552,2,  33.8556,2,    336.6,2,   334.9,2,    30.6,2,    0.50,2,   24.23,2,    0.20,2,    1.62,2,   5.119,2,   2.810,2,   0.518,2,          3.02,2,  2157.4,2, 2294.65,2,   7.7169,2,    24.98,   1.3458, -999.00,9,  -999.0,9,  -999.0, -999.00,9,-999.000,9,  -999.0,9, -999.00,9,     -999.0,9, -999.00,9, 20160223,      707, -60.5000,  82.0002,     -999.0,9,     -999.0,9,     -999.0,9,-999.0000,9,-999.0000,9,-999.0000,9,-999.0000,9,-999.0000,9,-999.0000,9,-999.0000,9,     -999.0,9,     -999.0,9,     -999.0,9,     -999.0,9,     -999.0,9
33RR20160208,       I08S,      17,          1,         26,         26,2,20160223,       0611,   -60.5001,    82.0002,       1766,    24.0,   1.3454,  33.8551,2,  33.8561,2,    336.6,2,  -999.0,9,    30.7,2,    0.52,2,   24.25,2,    0.19,2,    1.62,2,-999.000,9,-999.000,9,-999.000,9,-999.000000000,9,  -999.0,9, -999.00,9,-999.0000,9,  -999.00,   1.3451, -999.00,9,  -999.0,9,  -999.0, -999.00,9,-999.000,9,  -999.0,9, -999.00,9,     -999.0,9, -999.00,9, 20160223,      708, -60.5000,  82.0004,     -999.0,9,0.375369272,2,     -999.0,9,   0.1084,2,   0.0794,2,   0.0604,2,   0.0292,2,   0.0168,2,   0.0070,2,   0.0021,2,     0.0111,2,     0.0113,2,     -999.0,9,     -999.0,9,     -999.0,9
33RR20160208,       I08S,      17,          1,         27,         27,2,20160223,       0611,   -60.5001,    82.0002,       1766,     5.3,   1.3440,  33.8552,2,  33.8554,2,    337.5,2,   334.8,2,    30.5,2,    0.51,2,   24.20,2,    0.19,2,    1.62,2,   5.232,2,   2.869,2,   0.530,2,         3.071,2,  2158.7,6, 2294.32,2,   7.7167,2,    24.99,   1.3449, -999.00,9,  -999.0,9,  -999.0, -999.00,9,-999.000,9,  -999.0,9, -999.00,9,     -999.0,9, -999.00,9, 20160223,      710, -60.5000,  82.0002,     -999.0,9,0.417918564,2,     -999.0,9,   0.0968,2,   0.0656,2,   0.0404,2,   0.0216,2,   0.0121,2,   0.0038,2,   0.0005,3,     0.0152,2,     0.0165,2,     -999.0,9,     -999.0,9,     -999.0,9