BOTTLE,20220706CCHSIOAMB
EXPOCODE,SECT_ID,STNNBR,CASTNO,SAMPNO,BTLNBR,BTLNBR_FLAG_W,DATE,TIME,LATITUDE,LONGITUDE,DEPTH,CTDPRS,CTDTMP,CTDSAL,CTDSAL_FLAG_W,SALNTY,SALNTY_FLAG_W,CTDOXY,CTDOXY_FLAG_W,OXYGEN,OXYGEN_FLAG_W,SILCAT,SILCAT_FLAG_W,NH4,NH4_FLAG_W,NITRAT,NITRAT_FLAG_W,NITRIT,NITRIT_FLAG_W,PHSPHT,PHSPHT_FLAG_W,CFC-11,CFC-11_FLAG_W,CFC-12,CFC-12_FLAG_W,CFC113,CFC113_FLAG_W,SF6,SF6_FLAG_W,TCARBN,TCARBN_FLAG_W,ALKALI,ALKALI_FLAG_W,PH_TOT,PH_TOT_FLAG_W,PH_TMP,REFTMP,DELC13,DELC13_FLAG_W,DELC14,DELC14_FLAG_W,C14ERR,DELO18,DELO18_FLAG_W,POC,POC_FLAG_W,DOC,DOC_FLAG_W,TDN,TDN_FLAG_W,TON,TON_FLAG_W,D15N_NO3,D15N_NO3_FLAG_W,BTL_DATE,BTL_TIME,BTL_LAT,BTL_LON,14C-DOC,14C-DOC_FLAG_W,CHLORA,CHLORA_FLAG_W,HPLC,HPLC_FLAG_W,CDOM325,CDOM325_FLAG_W,CDOM340,CDOM340_FLAG_W,CDOM380,CDOM380_FLAG_W,CDOM412,CDOM412_FLAG_W,CDOM443,CDOM443_FLAG_W,CDOM490,CDOM490_FLAG_W,CDOM555,CDOM555_FLAG_W,CDOMSL,CDOMSL_FLAG_W,CDOMSN,CDOMSN_FLAG_W,D18O_NO3,D18O_NO3_FLAG_W,D15N_NO2+NO3,D15N_NO2+NO3_FLAG_W,D18O_NO2+NO3,D18O_NO2+NO3_FLAG_W
,,,,,,,,,,,METERS,DBAR,ITS-90,PSS-78,,PSS-78,,UMOL/KG,,UMOL/KG,,UMOL/KG,,UMOL/KG,,UMOL/KG,,UMOL/KG,,UMOL/KG,,PMOL/KG,,PMOL/KG,,PMOL/KG,,FMOL/KG,,UMOL/KG,,UMOL/KG,,,,DEG C,DEG C,/MILLE,,/MILLE,,/MILLE,/MILLE,,UG/KG,,UMOL/KG,,UMOL/KG,,UMOL/KG,,/MILLE,,,,,,/MILLE,,MG/M3,,,,1/M,,1/M,,1/M,,1/M,,1/M,,1/M,,1/M,,1/NM,,1/NM,,/MILLE,,/MILLE,,/MILLE,
33RR20160208,       I08S,      12,          1,          1,          1,2,20160221,       2006,   -63.0030,    82.0103,       2748,  2734.0,   0.3995,  34.6861,2,  34.6857,2,    213.6,2,   213.7,2,   132.2,2,    0.00,2,   32.64,2,    0.00,2,    2.28,2,   0.286,2,   0.144,2,   0.017,2,         0.164,2,  2263.0,2, 2356.80,2,   7.5912,6,    24.99,   0.3997, -999.00,9,  -999.0,9,  -999.0, -999.00,1,-999.000,9,    38.7,2, -999.00,9,     -999.0,1,    4.66,2, 20160221,     2006, -63.0030,  82.0104,     -999.0,9,     -999.0,9,     -999.0,9,-999.0000,9,-999.0000,9,-999.0000,9,-999.0000,9,-999.0000,9,-999.0000,9,-999.0000,9,     -999.0,9,     -999.0,9,       1.98,2,       4.66,2,       1.98,2
33RR20160208,       I08S,      12,          1,          2,          2,2,20160221,       2006,   -63.0030,    82.0103,       2748,  2511.7,   0.5053,  34.6919,2,  34.6946,4,    210.4,2,   211.0,2,   131.3,2,    0.00,2,   32.58,2,    0.00,2,    2.27,2,   0.273,6,   0.148,6,   0.009,6,        0.2075,6,  2267.0,2, 2359.47,2,   7.5917,2,    24.99,   0.5053, -999.00,9,  -999.0,9,  -999.0, -999.00,1,-999.000,9,    39.1,2, -999.00,9,     -999.0,1,    4.66,2, 20160221,     2014, -63.0030,  82.0104,     -999.0,9,     -999.0,9,     -999.0,9,-999.0000,9,-999.0000,9,-999.0000,9,-999.0000,9,-999.0000,9,-999.0000,9,-999.0000,9,     -999.0,9,     -999.0,9,       1.95,2,       4.66,2,       1.95,2
33RR20160208,       I08S,      12,          1,          3,          3,2,20160221,       2006,   -63.0030,    82.0103,       2748,  2299.5,   0.5728,  34.6959,2,  34.6946,2,    209.9,2,   209.9,2,   124.7,2,    0.00,2,   32.38,2,    0.00,2,    2.26,2,   0.266,2,   0.142,2,   0.008,2,         0.224,2,  2262.5,2, 2359.21,2,   7.5934,6,    24.99,   0.5726, -999.00,9,  -999.0,9,  -999.0, -999.00,1,-999.000,9,    38.6,2, -999.00,9,     -999.0,1,    4.63,2, 20160221,     2019, -63.0030,  82.0104,     -999.0,9,     -999.0,9,     -999.0,9,-999.0000,9,-999.0000,9,-999.0000,9,-999.0000,9,-999.0000,9,-999.0000,9,-999.0000,9,     -999.0,9,     -999.0,9,        1.9,2,       4.63,2,        1.9,2
33RR20160208,       I08S,      12,          1,          4,          4,2,20160221,       2006,   -63.0030,    82.0103,       2748,  2097.3,   0.6715,  34.7012,2,  34.7013,2,    208.8,2,   210.2,2,   119.1,2,    0.00,2,   32.18,2,    0.00,2,    2.24,2,   0.282,2,   0.145,2,   0.009,2,         0.208,2,  -999.0,9, -999.00,9,-999.0000,9,  -999.00,   0.6719, -999.00,9,  -999.0,9,  -999.0, -999.00,1,-999.000,9,    40.4,2, -999.00,9,     -999.0,1,    4.64,2, 20160221,     2025, -63.0030,  82.0104,     -999.0,9,     -999.0,9,     -999.0,9,-999.0000,9,-999.0000,9,-999.0000,9,-999.0000,9,-999.0000,9,-999.0000,9,-999.0000,9,     -999.0,9,     -999.0,9,       1.99,2,       4.64,2,       1.99,2
33RR20160208,       I08S,      12,          1,          5,          5,2,20160221,       2006,   -63.0030,    82.0103,       2748,  1865.2,   0.8334,  34.7104,2,  34.7105,2,    207.4,2,   207.2,2,   113.3,2,    0.00,2,   31.79,2,    0.00,2,    2.21,2,   0.274,2,   0.140,2,   0.008,2,           0.2,2,  -999.0,9, -999.00,9,-999.0000,9,  -999.00,   0.8333, -999.00,9,  -999.0,9,  -999.0, -999.00,1,-999.000,9,    39.8,2, -999.00,9,     -999.0,1,    4.68,2, 20160221,     2030, -63.0030,  82.0103,     -999.0,9,     -999.0,9,     -999.0,9,-999.0000,9,-999.0000,9,-999.0000,9,-999.0000,9,-999.0000,9,-999.0000,9,-999.0000,9,     -999.0,9,     -999.0,9,       1.99,2,       4.68,2,       1.99,2
33RR20160208,       I08S,      12,          1,          6,          6,2,20160221,       2006,   -63.0030,    82.0103,       2748,  1732.0,   0.9338,  34.7162,2,  34.7162,2,    206.1,2,   206.7,2,   110.0,2,    0.00,2,   31.53,2,    0.00,2,    2.19,2,   0.274,2,   0.143,2,   0.009,2,         0.247,2,  -999.0,9, -999.00,9,-999.0000,9,     9.00,   0.9326, -999.00,9,  -999.0,9,  -999.0, -999.00,1,-999.000,9,    40.0,2, -999.00,9,     -999.0,1,    4.69,2, 20160221,     2033, -63.0031,  82.0103,     -999.0,9,     -999.0,9,     -999.0,9,-999.0000,9,-999.0000,9,-999.0000,9,-999.0000,9,-999.0000,9,-999.0000,9,-999.0000,9,     -999.0,9,     -999.0,9,       1.96,2,       4.69,2,       1.96,2
33RR20160208,       I08S,      12,          1,          7,          7,2,20160221,       2006,   -63.0030,    82.0103,       2748,  1635.8,   1.0176,  34.7210,2,  34.7221,2,    206.2,2,   206.6,2,   106.9,2,    0.00,2,   31.36,2,    0.00,2,    2.17,2,   0.261,2,   0.139,2,   0.007,2,         0.233,2,  -999.0,9, -999.00,9,-999.0000,9,  -999.00,   1.0179, -999.00,9,  -999.0,9,  -999.0, -999.00,1,-999.000,9,    39.3,2, -999.00,9,     -999.0,1,    4.69,2, 20160221,     2036, -63.0031,  82.0104,     -999.0,9,     -999.0,9,     -999.0,9,-999.0000,9,-999.0000,9,-999.0000,9,-999.0000,9,-999.0000,9,-999.0000,9,-999.0000,9,     -999.0,9,     -999.0,9,       1.96,2,       4.69,2,       1.96,2
33RR20160208,       I08S,      12,          1,          8,          8,2,20160221,       2006,   -63.0030,    82.0103,       2748,  1534.9,   1.1008,  34.7257,2,  34.7264,2,    205.8,2,   207.1,2,   104.5,2,    0.00,2,   31.09,2,    0.00,2,    2.16,2,   0.266,2,   0.143,2,   0.009,2,         0.177,2,  -999.0,9, -999.00,9,-999.0000,9,  -999.00,   1.1006, -999.00,9,  -999.0,9,  -999.0, -999.00,1,-999.000,9,    39.1,2, -999.00,9,     -999.0,1,    4.73,2, 20160221,     2039, -63.0031,  82.0103,     -999.0,9,     -999.0,9,     -999.0,9,-999.0000,9,-999.0000,9,-999.0000,9,-999.0000,9,-999.0000,9,-999.0000,9,-999.0000,9,     -999.0,9,     -999.0,9,       2.01,2,       4.73,2,       2.01,2
33RR20160208,       I08S,      12,          1,          9,          9,2,20160221,       2006,   -63.0030,    82.0103,       2748,  1431.9,   1.1915,  34.7309,2,  34.7309,2,    205.1,2,   205.5,2,   101.7,2,    0.00,2,   30.94,2,    0.00,2,    2.15,2,   0.246,2,   0.135,2,   0.008,2,         0.202,2,  -999.0,9, -999.00,9,-999.0000,9,     9.00,   1.1908, -999.00,9,  -999.0,9,  -999.0, -999.00,1,-999.000,9,    39.5,2, -999.00,9,     -999.0,1,     4.7,2, 20160221,     2042, -63.0031,  82.0104,     -999.0,9,     -999.0,9,     -999.0,9,-999.0000,9,-999.0000,9,-999.0000,9,-999.0000,9,-999.0000,9,-999.0000,9,-999.0000,9,     -999.0,9,     -999.0,9,       1.99,2,        4.7,2,       1.99,2
33RR20160208,       I08S,      12,          1,         10,         10,2,20160221,       2006,   -63.0030,    82.0103,       2748,  1332.8,   1.2800,  34.7355,2,  34.7333,2,    204.4,2,   204.8,2,    99.1,2,    0.00,2,   30.72,2,    0.00,2,    2.13,2,   0.254,2,   0.139,2,   0.009,2,         0.271,2,  -999.0,9, -999.00,9,-999.0000,9,  -999.00,   1.2793, -999.00,9,  -999.0,9,  -999.0, -999.00,1,-999.000,9,    39.7,2, -999.00,9,     -999.0,1,    4.68,2, 20160221,     2045, -63.0030,  82.0104,     -999.0,9,     -999.0,9,     -999.0,9,-999.0000,9,-999.0000,9,-999.0000,9,-999.0000,9,-999.0000,9,-999.0000,9,-999.0000,9,     -999.0,9,     -999.0,9,       1.97,2,       4.68,2,       1.97,2
33RR20160208,       I08S,      12,          1,         11,         11,2,20160221,       2006,   -63.0030,    82.0103,       2748,  1234.8,   1.3756,  34.7399,2,  34.7394,2,    203.5,2,   203.8,2,    96.3,2,    0.00,2,   30.54,2,    0.00,2,    2.12,2,   0.239,2,   0.127,2,   0.008,2,         0.186,2,  -999.0,9, -999.00,9,-999.0000,9,  -999.00,   1.3753, -999.00,9,  -999.0,9,  -999.0, -999.00,1,-999.000,9,    38.6,2, -999.00,9,     -999.0,1,    4.76,2, 20160221,     2048, -63.0031,  82.0104,     -999.0,9,     -999.0,9,     -999.0,9,-999.0000,9,-999.0000,9,-999.0000,9,-999.0000,9,-999.0000,9,-999.0000,9,-999.0000,9,     -999.0,9,     -999.0,9,       2.01,2,       4.76,2,       2.01,2
33RR20160208,       I08S,      12,          1,         12,         12,2,20160221,       2006,   -63.0030,    82.0103,       2748,  1133.1,   1.4715,  34.7436,2,  34.7429,2,    202.5,2,   202.5,2,    93.4,2,    0.00,2,   30.35,2,    0.00,2,    2.11,2,   0.244,2,   0.143,2,   0.008,2,         0.254,2,  -999.0,9, -999.00,9,-999.0000,9,     9.00,   1.4714, -999.00,9,  -999.0,9,  -999.0, -999.00,1,-999.000,9,    40.1,2, -999.00,9,     -999.0,1,    4.82,2, 20160221,     2051, -63.0031,  82.0104,     -999.0,9,     -999.0,9,     -999.0,9,-999.0000,9,-999.0000,9,-999.0000,9,-999.0000,9,-999.0000,9,-999.0000,9,-999.0000,9,     -999.0,9,     -999.0,9,       1.93,2,       4.82,2,       1.93,2
33RR20160208,       I08S,      12,          1,         13,         13,2,20160221,       2006,   -63.0030,    82.0103,       2748,  1033.0,   1.5542,  34.7457,2,  34.7468,2,    201.2,2,   201.5,2,    91.4,2,    0.00,2,   30.31,2,    0.00,2,    2.11,2,   0.240,2,   0.132,2,   0.008,2,          0.24,2,  -999.0,9, -999.00,9,-999.0000,9,  -999.00,   1.5536, -999.00,9,  -999.0,9,  -999.0, -999.00,1,-999.000,9,    38.0,2, -999.00,9,     -999.0,1,    4.71,2, 20160221,     2054, -63.0031,  82.0104,     -999.0,9,     -999.0,9,     -999.0,9,-999.0000,9,-999.0000,9,-999.0000,9,-999.0000,9,-999.0000,9,-999.0000,9,-999.0000,9,     -999.0,9,     -999.0,9,       1.85,2,       4.71,2,       1.85,2
33RR20160208,       I08S,      12,          1,         14,         14,2,20160221,       2006,   -63.0030,    82.0103,       2748,   933.0,   1.6464,  34.7470,2,  34.7435,2,    199.5,2,   199.4,2,    89.3,2,    0.00,2,   30.33,2,    0.00,2,    2.11,2,   0.253,2,   0.141,2,   0.009,2,         0.244,2,  2250.2,2, 2350.01,2,   7.6094,6,    24.98,   1.6471, -999.00,9,  -999.0,9,  -999.0, -999.00,1,-999.000,9,    39.9,2, -999.00,9,     -999.0,1,    4.76,2, 20160221,     2056, -63.0031,  82.0103,     -999.0,9,     -999.0,9,     -999.0,9,-999.0000,9,-999.0000,9,-999.0000,9,-999.0000,9,-999.0000,9,-999.0000,9,-999.0000,9,     -999.0,9,     -999.0,9,       1.96,2,       4.76,2,       1.96,2
33RR20160208,       I08S,      12,          1,         15,         15,2,20160221,       2006,   -63.0030,    82.0103,       2748,   832.8,   1.7319,  34.7453,2,  34.7450,2,    197.4,2,   197.3,2,    87.2,2,    0.00,2,   30.43,2,    0.00,2,    2.12,2,   0.267,2,   0.143,2,   0.010,2,         0.205,2,  -999.0,9, -999.00,9,-999.0000,9,     9.00,   1.7318, -999.00,9,  -999.0,9,  -999.0, -999.00,1,-999.000,9,    39.9,2, -999.00,9,     -999.0,1,    4.79,2, 20160221,     2059, -63.0031,  82.0104,     -999.0,9,     -999.0,9,     -999.0,9,-999.0000,9,-999.0000,9,-999.0000,9,-999.0000,9,-999.0000,9,-999.0000,9,-999.0000,9,     -999.0,9,     -999.0,9,       1.93,2,       4.79,2,       1.93,2
33RR20160208,       I08S,      12,          1,         16,         16,2,20160221,       2006,   -63.0030,    82.0103,       2748,   732.9,   1.8176,  34.7399,2,  34.7405,2,    194.2,2,   193.8,2,    85.5,2,    0.00,2,   30.67,2,    0.00,2,    2.14,2,   0.289,2,   0.156,2,   0.012,2,         0.231,2,  -999.0,9, -999.00,9,-999.0000,9,  -999.00,   1.8186, -999.00,9,  -999.0,9,  -999.0, -999.00,1,-999.000,9,    40.1,2, -999.00,9,     -999.0,1,    4.71,2, 20160221,     2102, -63.0031,  82.0104,     -999.0,9,     -999.0,9,     -999.0,9,-999.0000,9,-999.0000,9,-999.0000,9,-999.0000,9,-999.0000,9,-999.0000,9,-999.0000,9,     -999.0,9,     -999.0,9,       1.88,2,       4.71,2,       1.88,2
33RR20160208,       I08S,      12,          1,         17,         17,2,20160221,       2006,   -63.0030,    82.0103,       2748,   632.8,   1.8642,  34.7316,2,  34.7327,2,    189.8,2,   189.6,2,    85.0,2,    0.00,2,   31.11,2,    0.00,2,    2.17,2,-999.000,9,-999.000,9,-999.000,9,-999.000000000,9,  -999.0,9, -999.00,9,-999.0000,9,  -999.00,   1.8641, -999.00,9,  -999.0,9,  -999.0, -999.00,1,-999.000,9,    39.3,2, -999.00,9,     -999.0,1,    4.82,2, 20160221,     2105, -63.0031,  82.0104,     -999.0,9,     -999.0,9,     -999.0,9,-999.0000,9,-999.0000,9,-999.0000,9,-999.0000,9,-999.0000,9,-999.0000,9,-999.0000,9,     -999.0,9,     -999.0,9,        1.8,2,       4.82,2,        1.8,2
33RR20160208,       I08S,      12,          1,         18,         18,2,20160221,       2006,   -63.0030,    82.0103,       2748,   532.1,   1.9113,  34.7192,2,  34.7186,2,    185.9,2,   186.5,2,    84.8,2,    0.00,2,   31.65,2,    0.00,2,    2.19,2,   0.365,2,   0.195,2,   0.018,2,          0.24,2,  -999.0,9, -999.00,9,-999.0000,9,     9.00,   1.9117, -999.00,9,  -999.0,9,  -999.0, -999.00,1,-999.000,9,    39.4,2, -999.00,9,     -999.0,1,    4.82,2, 20160221,     2108, -63.0031,  82.0104,     -999.0,9,     -999.0,9,     -999.0,9,-999.0000,9,-999.0000,9,-999.0000,9,-999.0000,9,-999.0000,9,-999.0000,9,-999.0000,9,     -999.0,9,     -999.0,9,       1.96,2,       4.82,2,       1.96,2
33RR20160208,       I08S,      12,          1,         19,         19,2,20160221,       2006,   -63.0030,    82.0103,       2748,   464.6,   1.9381,  34.7058,2,  34.7060,2,    182.5,2,   181.5,2,    84.3,2,    0.00,2,   32.13,2,    0.00,2,    2.24,2,-999.000,9,-999.000,9,-999.000,9,-999.000000000,9,  -999.0,9, -999.00,9,-999.0000,9,  -999.00,   1.9386, -999.00,9,  -999.0,9,  -999.0, -999.00,1,-999.000,9,    40.3,2, -999.00,9,     -999.0,1,    4.76,2, 20160221,     2110, -63.0030,  82.0104,     -999.0,9,     -999.0,9,     -999.0,9,-999.0000,9,-999.0000,9,-999.0000,9,-999.0000,9,-999.0000,9,-999.0000,9,-999.0000,9,     -999.0,9,     -999.0,9,       1.75,2,       4.76,2,       1.75,2
33RR20160208,       I08S,      12,          1,         20,         20,2,20160221,       2006,   -63.0030,    82.0103,       2748,   415.6,   1.9650,  34.6966,2,  34.6964,2,    180.1,2,   179.6,2,    84.2,2,    0.00,2,   32.45,2,    0.00,2,    2.22,2,   0.445,2,   0.242,2,   0.025,2,         0.285,2,  -999.0,9, -999.00,9,-999.0000,9,  -999.00,   1.9653, -999.00,9,  -999.0,9,  -999.0, -999.00,1,-999.000,9,    39.9,2, -999.00,9,     -999.0,1,    4.78,2, 20160221,     2112, -63.0030,  82.0104,     -999.0,9,     -999.0,9,     -999.0,9,-999.0000,9,-999.0000,9,-999.0000,9,-999.0000,9,-999.0000,9,-999.0000,9,-999.0000,9,     -999.0,9,     -999.0,9,       1.85,2,       4.78,2,       1.85,2
33RR20160208,       I08S,      12,          1,         21,         21,2,20160221,       2006,   -63.0030,    82.0103,       2748,   365.3,   1.9690,  34.6828,2,  34.6829,2,    177.1,2,   176.4,2,    83.8,2,    0.00,2,   32.90,2,    0.00,2,    2.28,2,-999.000,9,-999.000,9,-999.000,9,-999.000000000,9,  -999.0,9, -999.00,9,-999.0000,9,     9.00,   1.9687, -999.00,9,  -999.0,9,  -999.0, -999.00,1,-999.000,9,    38.7,2, -999.00,9,     -999.0,1,    4.79,2, 20160221,     2114, -63.0031,  82.0104,     -999.0,9,     -999.0,9,     -999.0,9,-999.0000,9,-999.0000,9,-999.0000,9,-999.0000,9,-999.0000,9,-999.0000,9,-999.0000,9,     -999.0,9,     -999.0,9,       1.77,2,       4.79,2,       1.77,2
33RR20160208,       I08S,      12,          1,         22,         22,2,20160221,       2006,   -63.0030,    82.0103,       2748,   316.5,   1.9804,  34.6706,2,  34.6697,2,    174.8,2,   175.0,2,    83.2,2,    0.00,2,   33.28,2,    0.00,2,    2.30,2,   0.536,2,   0.294,2,   0.032,2,         0.305,2,  2262.6,2, 2341.50,2,   7.5515,6,    25.01,   1.9807, -999.00,9,  -999.0,9,  -999.0, -999.00,1,-999.000,9,    40.4,2,   35.30,2,     -999.0,1,    4.74,2, 20160221,     2116, -63.0030,  82.0104,     -999.0,9,     -999.0,9,     -999.0,9,-999.0000,9,-999.0000,9,-999.0000,9,-999.0000,9,-999.0000,9,-999.0000,9,-999.0000,9,     -999.0,9,     -999.0,9,       1.83,2,       4.74,2,       1.83,2
33RR20160208,       I08S,      12,          1,         23,         23,2,20160221,       2006,   -63.0030,    82.0103,       2748,   267.2,   1.9704,  34.6468,2,  34.6464,2,    171.5,2,   171.0,2,    83.4,2,    0.00,2,   33.91,2,    0.00,2,    2.36,2,-999.000,9,-999.000,9,-999.000,9,-999.000000000,9,  -999.0,9, -999.00,9,-999.0000,9,  -999.00,   1.9707, -999.00,9,  -999.0,9,  -999.0, -999.00,1,-999.000,9,    39.1,2,   35.80,2,     -999.0,1,    4.75,2, 20160221,     2117, -63.0030,  82.0104,     -999.0,9,     -999.0,9,     -999.0,9,-999.0000,9,-999.0000,9,-999.0000,9,-999.0000,9,-999.0000,9,-999.0000,9,-999.0000,9,     -999.0,9,     -999.0,9,       1.84,2,       4.75,2,       1.84,2
33RR20160208,       I08S,      12,          1,         24,         24,2,20160221,       2006,   -63.0030,    82.0103,       2748,   214.5,   1.9771,  34.6215,2,  34.6185,2,    169.2,2,   168.9,2,    82.5,2,    0.00,2,   34.51,2,    0.00,2,    2.39,2,   0.744,2,   0.397,2,   0.049,2,         0.461,2,  -999.0,9, -999.00,9,-999.0000,9,     9.00,   1.9777, -999.00,9,  -999.0,9,  -999.0, -999.00,1,-999.000,9,    40.0,2,   35.80,2,     -999.0,1,    4.74,2, 20160221,     2119, -63.0030,  82.0103,     -999.0,9,     -999.0,9,     -999.0,9,-999.0000,9,-999.0000,9,-999.0000,9,-999.0000,9,-999.0000,9,-999.0000,9,-999.0000,9,     -999.0,9,     -999.0,9,       1.86,2,       4.74,2,       1.86,2
33RR20160208,       I08S,      12,          1,         25,         25,2,20160221,       2006,   -63.0030,    82.0103,       2748,   163.5,   1.7664,  34.5598,2,  34.5593,2,    170.2,2,   170.5,2,    80.5,2,    0.00,2,   35.22,2,    0.05,2,    2.68,4,-999.000,9,-999.000,9,-999.000,9,-999.000000000,9,  2266.1,2, 2332.74,2,   7.5150,6,    24.99,   1.7676, -999.00,9,  -999.0,9,  -999.0, -999.00,1,-999.000,9,    38.4,2,   36.90,2,     -999.0,1,    4.76,2, 20160221,     2121, -63.0031,  82.0105,     -999.0,9,     -999.0,9,     -999.0,9,-999.0000,9,-999.0000,9,-999.0000,9,-999.0000,9,-999.0000,9,-999.0000,9,-999.0000,9,     -999.0,9,     -999.0,9,       2.09,2,       4.68,2,       1.88,2
33RR20160208,       I08S,      12,          1,         26,         26,2,20160221,       2006,   -63.0030,    82.0103,       2748,   133.9,   1.8132,  34.5453,2,  34.5442,2,    173.2,2,   172.0,2,    79.2,2,    0.00,2,   35.47,2,    0.04,2,    2.48,2,   1.146,2,   0.611,2,   0.090,2,         0.554,2,  -999.0,9, -999.00,9,-999.0000,9,  -999.00,   1.8135, -999.00,9,  -999.0,9,  -999.0, -999.00,1,-999.000,9,    39.3,2,   38.10,2,     -999.0,1,    4.75,2, 20160221,     2123, -63.0031,  82.0103,     -999.0,9,     -999.0,9,     -999.0,9,-999.0000,9,-999.0000,9,-999.0000,9,-999.0000,9,-999.0000,9,-999.0000,9,-999.0000,9,     -999.0,9,     -999.0,9,       2.08,2,       4.72,2,       1.92,2
33RR20160208,       I08S,      12,          1,         27,         27,2,20160221,       2006,   -63.0030,    82.0103,       2748,   110.2,   1.3519,  34.4724,2,  34.4856,2,    177.9,2,   178.8,2,    76.2,2,    0.00,2,   35.34,2,    0.19,2,    2.48,2,-999.000,9,-999.000,9,-999.000,9,-999.000000000,9,  2261.9,2, 2326.40,2,   7.5098,2,    25.00,   1.3530, -999.00,9,  -999.0,9,  -999.0, -999.00,1,-999.000,9,    39.2,2,   38.40,2,     -999.0,1,    4.75,2, 20160221,     2124, -63.0030,  82.0104,     -999.0,9,     -999.0,9,     -999.0,9,-999.0000,9,-999.0000,9,-999.0000,9,-999.0000,9,-999.0000,9,-999.0000,9,-999.0000,9,     -999.0,9,     -999.0,9,       2.09,2,       4.68,2,       2.07,2