BOTTLE,20220706CCHSIOAMB
EXPOCODE,SECT_ID,STNNBR,CASTNO,SAMPNO,BTLNBR,BTLNBR_FLAG_W,DATE,TIME,LATITUDE,LONGITUDE,DEPTH,CTDPRS,CTDTMP,CTDSAL,CTDSAL_FLAG_W,SALNTY,SALNTY_FLAG_W,CTDOXY,CTDOXY_FLAG_W,OXYGEN,OXYGEN_FLAG_W,SILCAT,SILCAT_FLAG_W,NH4,NH4_FLAG_W,NITRAT,NITRAT_FLAG_W,NITRIT,NITRIT_FLAG_W,PHSPHT,PHSPHT_FLAG_W,CFC-11,CFC-11_FLAG_W,CFC-12,CFC-12_FLAG_W,CFC113,CFC113_FLAG_W,SF6,SF6_FLAG_W,TCARBN,TCARBN_FLAG_W,ALKALI,ALKALI_FLAG_W,PH_TOT,PH_TOT_FLAG_W,PH_TMP,REFTMP,DELC13,DELC13_FLAG_W,DELC14,DELC14_FLAG_W,C14ERR,DELO18,DELO18_FLAG_W,POC,POC_FLAG_W,DOC,DOC_FLAG_W,TDN,TDN_FLAG_W,TON,TON_FLAG_W,D15N_NO3,D15N_NO3_FLAG_W,BTL_DATE,BTL_TIME,BTL_LAT,BTL_LON,14C-DOC,14C-DOC_FLAG_W,CHLORA,CHLORA_FLAG_W,HPLC,HPLC_FLAG_W,CDOM325,CDOM325_FLAG_W,CDOM340,CDOM340_FLAG_W,CDOM380,CDOM380_FLAG_W,CDOM412,CDOM412_FLAG_W,CDOM443,CDOM443_FLAG_W,CDOM490,CDOM490_FLAG_W,CDOM555,CDOM555_FLAG_W,CDOMSL,CDOMSL_FLAG_W,CDOMSN,CDOMSN_FLAG_W,D18O_NO3,D18O_NO3_FLAG_W,D15N_NO2+NO3,D15N_NO2+NO3_FLAG_W,D18O_NO2+NO3,D18O_NO2+NO3_FLAG_W
,,,,,,,,,,,METERS,DBAR,ITS-90,PSS-78,,PSS-78,,UMOL/KG,,UMOL/KG,,UMOL/KG,,UMOL/KG,,UMOL/KG,,UMOL/KG,,UMOL/KG,,PMOL/KG,,PMOL/KG,,PMOL/KG,,FMOL/KG,,UMOL/KG,,UMOL/KG,,,,DEG C,DEG C,/MILLE,,/MILLE,,/MILLE,/MILLE,,UG/KG,,UMOL/KG,,UMOL/KG,,UMOL/KG,,/MILLE,,,,,,/MILLE,,MG/M3,,,,1/M,,1/M,,1/M,,1/M,,1/M,,1/M,,1/M,,1/NM,,1/NM,,/MILLE,,/MILLE,,/MILLE,
33RR20160208,       I08S,      77,          1,          1,          1,2,20160310,       1424,   -31.7020,    94.9999,       3048,  3061.6,   1.6456,  34.7366,2,  34.7376,2,    196.4,2,   195.8,2,   102.6,2,    0.00,2,   31.15,2,    0.00,2,    2.15,2,-999.000,9,-999.000,9,-999.000,9,-999.000000000,9,  2259.3,6, 2364.46,2,   7.6142,2,    24.94,-999.0000, -999.00,9,  -999.0,9,  -999.0, -999.00,9,-999.000,9,  -999.0,9, -999.00,9,     -999.0,9, -999.00,9, 20160310,     1424, -31.7020,  94.9999,     -999.0,9,     -999.0,9,     -999.0,9,-999.0000,9,-999.0000,9,-999.0000,9,-999.0000,9,-999.0000,9,-999.0000,9,-999.0000,9,     -999.0,9,     -999.0,9,     -999.0,9,     -999.0,9,     -999.0,9
33RR20160208,       I08S,      77,          1,          2,          2,2,20160310,       1424,   -31.7020,    94.9999,       3048,  2781.8,   1.8469,  34.7387,2,  34.7384,2,    192.4,2,   193.8,2,    96.0,2,    0.00,2,   31.04,2,    0.00,2,    2.16,2,-999.000,9,-999.000,9,-999.000,9,-999.000000000,9,  2257.8,2, 2362.66,2,   7.6129,6,    24.90,-999.0000, -999.00,9,  -999.0,9,  -999.0, -999.00,9,-999.000,9,  -999.0,9, -999.00,9,     -999.0,9, -999.00,9, 20160310,     1430, -31.7020,  94.9999,     -999.0,9,     -999.0,9,     -999.0,9,-999.0000,9,-999.0000,9,-999.0000,9,-999.0000,9,-999.0000,9,-999.0000,9,-999.0000,9,     -999.0,9,     -999.0,9,     -999.0,9,     -999.0,9,     -999.0,9
33RR20160208,       I08S,      77,          1,          3,          3,2,20160310,       1424,   -31.7020,    94.9999,       3048,  2500.0,   2.0269,  34.7343,2,  34.7349,2,    186.9,2,   187.6,2,    92.5,2,    0.00,2,   31.28,2,    0.00,2,    2.15,2,-999.000,9,-999.000,9,-999.000,9,-999.000000000,9,  -999.0,9, -999.00,9,-999.0000,9,  -999.00,-999.0000, -999.00,9,  -999.0,9,  -999.0, -999.00,9,-999.000,9,  -999.0,9, -999.00,9,     -999.0,9, -999.00,9, 20160310,     1436, -31.7021,  94.9999,     -999.0,9,     -999.0,9,     -999.0,9,-999.0000,9,-999.0000,9,-999.0000,9,-999.0000,9,-999.0000,9,-999.0000,9,-999.0000,9,     -999.0,9,     -999.0,9,     -999.0,9,     -999.0,9,     -999.0,9
33RR20160208,       I08S,      77,          1,          4,          4,2,20160310,       1424,   -31.7020,    94.9999,       3048,  2251.3,   2.2428,  34.7195,2,  34.7202,2,    177.6,2,   178.7,2,    91.2,2,    0.00,2,   31.96,2,    0.00,2,    2.22,2,-999.000,9,-999.000,9,-999.000,9,-999.000000000,9,  -999.0,9, -999.00,9,-999.0000,9,  -999.00,-999.0000, -999.00,9,  -999.0,9,  -999.0, -999.00,9,-999.000,9,  -999.0,9, -999.00,9,     -999.0,9, -999.00,9, 20160310,     1441, -31.7020,  94.9999,     -999.0,9,     -999.0,9,     -999.0,9,-999.0000,9,-999.0000,9,-999.0000,9,-999.0000,9,-999.0000,9,-999.0000,9,-999.0000,9,     -999.0,9,     -999.0,9,     -999.0,9,     -999.0,9,     -999.0,9
33RR20160208,       I08S,      77,          1,          5,          5,2,20160310,       1424,   -31.7020,    94.9999,       3048,  1999.4,   2.4820,  34.6938,2,  34.6943,2,    166.9,2,   167.8,2,    90.3,2,    0.00,2,   32.93,2,    0.00,2,    2.28,2,-999.000,9,-999.000,9,-999.000,9,-999.000000000,9,  2270.3,2, 2362.43,6,   7.5838,6,    24.89,-999.0000, -999.00,9,  -999.0,9,  -999.0, -999.00,9,-999.000,9,  -999.0,9, -999.00,9,     -999.0,9, -999.00,9, 20160310,     1447, -31.7021,  94.9999,     -999.0,9,     -999.0,9,     -999.0,9,-999.0000,9,-999.0000,9,-999.0000,9,-999.0000,9,-999.0000,9,-999.0000,9,-999.0000,9,     -999.0,9,     -999.0,9,     -999.0,9,     -999.0,9,     -999.0,9
33RR20160208,       I08S,      77,          1,          6,         38,2,20160310,       1424,   -31.7020,    94.9999,       3048,  1799.7,   2.7274,  34.6592,2,  34.6595,2,    159.5,2,   159.3,2,    87.7,2,    0.00,2,   33.81,2,    0.00,2,    2.34,2,-999.000,9,-999.000,9,-999.000,9,-999.000000000,9,  2271.1,2, 2359.26,2,   7.5701,2,    24.99,-999.0000, -999.00,9,  -999.0,9,  -999.0, -999.00,9,-999.000,9,  -999.0,9, -999.00,9,     -999.0,9, -999.00,9, 20160310,     1451, -31.7021,  94.9999,     -999.0,9,     -999.0,9,     -999.0,9,-999.0000,9,-999.0000,9,-999.0000,9,-999.0000,9,-999.0000,9,-999.0000,9,-999.0000,9,     -999.0,9,     -999.0,9,     -999.0,9,     -999.0,9,     -999.0,9
33RR20160208,       I08S,      77,          1,          7,          7,2,20160310,       1424,   -31.7020,    94.9999,       3048,  1702.0,   2.8799,  34.6330,2,  34.6328,2,    156.1,2,   156.5,2,    84.7,2,    0.00,2,   34.19,2,    0.00,2,    2.38,2,-999.000,9,-999.000,9,-999.000,9,-999.000000000,9,  -999.0,9, -999.00,9,-999.0000,9,  -999.00,-999.0000, -999.00,9,  -999.0,9,  -999.0, -999.00,9,-999.000,9,  -999.0,9, -999.00,9,     -999.0,9, -999.00,9, 20160310,     1454, -31.7021,  94.9999,     -999.0,9,     -999.0,9,     -999.0,9,-999.0000,9,-999.0000,9,-999.0000,9,-999.0000,9,-999.0000,9,-999.0000,9,-999.0000,9,     -999.0,9,     -999.0,9,     -999.0,9,     -999.0,9,     -999.0,9
33RR20160208,       I08S,      77,          1,          8,          8,2,20160310,       1424,   -31.7020,    94.9999,       3048,  1602.7,   2.9370,  34.6209,2,  34.6205,2,    154.7,2,   155.3,2,    83.4,2,    0.00,2,   34.35,2,    0.00,2,    2.37,2,-999.000,9,-999.000,9,-999.000,9,-999.000000000,9,  -999.0,9, -999.00,9,-999.0000,9,     9.00,-999.0000, -999.00,9,  -999.0,9,  -999.0, -999.00,9,-999.000,9,  -999.0,9, -999.00,9,     -999.0,9, -999.00,9, 20160310,     1457, -31.7021,  94.9999,     -999.0,9,     -999.0,9,     -999.0,9,-999.0000,9,-999.0000,9,-999.0000,9,-999.0000,9,-999.0000,9,-999.0000,9,-999.0000,9,     -999.0,9,     -999.0,9,     -999.0,9,     -999.0,9,     -999.0,9
33RR20160208,       I08S,      77,          1,          9,          9,2,20160310,       1424,   -31.7020,    94.9999,       3048,  1499.9,   3.0798,  34.5934,2,  34.5930,2,    153.7,2,   152.8,2,    80.1,2,    0.00,2,   34.66,2,    0.00,2,    2.40,2,-999.000,9,-999.000,9,-999.000,9,-999.000000000,9,  2266.7,2, 2350.06,2,   7.5583,6,    24.96,-999.0000, -999.00,9,  -999.0,9,  -999.0, -999.00,9,-999.000,9,  -999.0,9, -999.00,9,     -999.0,9, -999.00,9, 20160310,     1500, -31.7021,  94.9998,     -999.0,9,     -999.0,9,     -999.0,9,-999.0000,9,-999.0000,9,-999.0000,9,-999.0000,9,-999.0000,9,-999.0000,9,-999.0000,9,     -999.0,9,     -999.0,9,     -999.0,9,     -999.0,9,     -999.0,9
33RR20160208,       I08S,      77,          1,         10,         10,2,20160310,       1424,   -31.7020,    94.9999,       3048,  1397.7,   3.2099,  34.5667,2,  34.5663,2,    153.8,2,   154.1,2,    76.2,2,    0.00,2,   34.71,2,    0.00,2,    2.41,2,-999.000,9,-999.000,9,-999.000,9,-999.000000000,9,  -999.0,9, -999.00,9,-999.0000,9,  -999.00,-999.0000, -999.00,9,  -999.0,9,  -999.0, -999.00,9,-999.000,9,  -999.0,9, -999.00,9,     -999.0,9, -999.00,9, 20160310,     1503, -31.7021,  94.9999,     -999.0,9,     -999.0,9,     -999.0,9,-999.0000,9,-999.0000,9,-999.0000,9,-999.0000,9,-999.0000,9,-999.0000,9,-999.0000,9,     -999.0,9,     -999.0,9,     -999.0,9,     -999.0,9,     -999.0,9
33RR20160208,       I08S,      77,          1,         11,         11,2,20160310,       1424,   -31.7020,    94.9999,       3048,  1300.0,   3.4719,  34.5289,2,  34.5295,2,    155.6,2,   154.5,2,    70.7,2,    0.00,2,   34.63,2,    0.00,2,    2.40,2,-999.000,9,-999.000,9,-999.000,9,-999.000000000,9,  -999.0,9, -999.00,9,-999.0000,9,     9.00,-999.0000, -999.00,9,  -999.0,9,  -999.0, -999.00,9,-999.000,9,  -999.0,9, -999.00,9,     -999.0,9, -999.00,9, 20160310,     1506, -31.7021,  94.9999,     -999.0,9,     -999.0,9,     -999.0,9,-999.0000,9,-999.0000,9,-999.0000,9,-999.0000,9,-999.0000,9,-999.0000,9,-999.0000,9,     -999.0,9,     -999.0,9,     -999.0,9,     -999.0,9,     -999.0,9
33RR20160208,       I08S,      77,          1,         12,         12,2,20160310,       1424,   -31.7020,    94.9999,       3048,  1200.2,   3.9942,  34.4569,2,  34.4571,2,    166.9,2,   166.6,2,    56.0,2,    0.00,2,   33.51,2,    0.00,2,    2.31,2,-999.000,9,-999.000,9,-999.000,9,-999.000000000,9,  2237.7,2, 2325.56,2,   7.5736,2,    24.96,-999.0000, -999.00,9,  -999.0,9,  -999.0, -999.00,9,-999.000,9,  -999.0,9, -999.00,9,     -999.0,9, -999.00,9, 20160310,     1509, -31.7021,  94.9998,     -999.0,9,     -999.0,9,     -999.0,9,-999.0000,9,-999.0000,9,-999.0000,9,-999.0000,9,-999.0000,9,-999.0000,9,-999.0000,9,     -999.0,9,     -999.0,9,     -999.0,9,     -999.0,9,     -999.0,9
33RR20160208,       I08S,      77,          1,         13,         13,2,20160310,       1424,   -31.7020,    94.9999,       3048,  1100.1,   4.2747,  34.4306,2,  34.4311,2,    173.9,2,   172.8,2,    48.9,2,    0.00,2,   32.75,2,    0.00,2,    2.25,2,-999.000,9,-999.000,9,-999.000,9,-999.000000000,9,  -999.0,9, -999.00,9,-999.0000,9,  -999.00,-999.0000, -999.00,9,  -999.0,9,  -999.0, -999.00,9,-999.000,9,  -999.0,9, -999.00,9,     -999.0,9, -999.00,9, 20160310,     1512, -31.7021,  94.9998,     -999.0,9,     -999.0,9,     -999.0,9,-999.0000,9,-999.0000,9,-999.0000,9,-999.0000,9,-999.0000,9,-999.0000,9,-999.0000,9,     -999.0,9,     -999.0,9,     -999.0,9,     -999.0,9,     -999.0,9
33RR20160208,       I08S,      77,          1,         14,         14,2,20160310,       1424,   -31.7020,    94.9999,       3048,  1000.1,   5.0677,  34.4188,2,  34.4189,2,    182.5,2,   180.0,2,    37.3,2,    0.00,2,   30.97,2,    0.00,2,    2.10,2,-999.000,9,-999.000,9,-999.000,9,-999.000000000,9,  2208.8,2, 2308.46,2,   7.6051,2,    24.97,-999.0000, -999.00,9,  -999.0,9,  -999.0, -999.00,9,-999.000,9,  -999.0,9, -999.00,9,     -999.0,9, -999.00,9, 20160310,     1514, -31.7021,  94.9999,     -999.0,9,     -999.0,9,     -999.0,9,-999.0000,9,-999.0000,9,-999.0000,9,-999.0000,9,-999.0000,9,-999.0000,9,-999.0000,9,     -999.0,9,     -999.0,9,     -999.0,9,     -999.0,9,     -999.0,9
33RR20160208,       I08S,      77,          1,         15,         15,2,20160310,       1424,   -31.7020,    94.9999,       3048,   900.4,   6.0622,  34.4186,2,  34.4179,2,    199.7,2,   197.9,2,    21.8,2,    0.00,2,   27.67,2,    0.00,2,    1.86,2,-999.000,9,-999.000,9,-999.000,9,-999.000000000,9,  -999.0,9, -999.00,9,-999.0000,9,  -999.00,-999.0000, -999.00,9,  -999.0,9,  -999.0, -999.00,9,-999.000,9,  -999.0,9, -999.00,9,     -999.0,9, -999.00,9, 20160310,     1517, -31.7021,  94.9999,     -999.0,9,     -999.0,9,     -999.0,9,-999.0000,9,-999.0000,9,-999.0000,9,-999.0000,9,-999.0000,9,-999.0000,9,-999.0000,9,     -999.0,9,     -999.0,9,     -999.0,9,     -999.0,9,     -999.0,9
33RR20160208,       I08S,      77,          1,         16,         16,2,20160310,       1424,   -31.7020,    94.9999,       3048,   799.3,   7.4794,  34.4996,2,  34.4997,2,    210.2,2,   207.8,2,    13.2,2,    0.00,2,   23.58,2,    0.00,2,    1.57,2,-999.000,9,-999.000,9,-999.000,9,-999.000000000,9,  -999.0,9, -999.00,9,-999.0000,9,  -999.00,-999.0000, -999.00,9,  -999.0,9,  -999.0, -999.00,9,-999.000,9,  -999.0,9, -999.00,9,     -999.0,9, -999.00,9, 20160310,     1520, -31.7021,  94.9999,     -999.0,9,     -999.0,9,     -999.0,9,-999.0000,9,-999.0000,9,-999.0000,9,-999.0000,9,-999.0000,9,-999.0000,9,-999.0000,9,     -999.0,9,     -999.0,9,     -999.0,9,     -999.0,9,     -999.0,9
33RR20160208,       I08S,      77,          1,         17,         17,2,20160310,       1424,   -31.7020,    94.9999,       3048,   696.9,   8.8717,  34.6225,2,  34.6224,2,    228.2,2,   227.7,2,     6.1,2,    0.00,2,   18.49,2,    0.00,2,    1.26,2,-999.000,9,-999.000,9,-999.000,9,-999.000000000,9,  2141.0,2, 2290.88,2,   7.7437,2,    24.97,-999.0000, -999.00,9,  -999.0,9,  -999.0, -999.00,9,-999.000,9,  -999.0,9, -999.00,9,     -999.0,9, -999.00,9, 20160310,     1523, -31.7021,  94.9998,     -999.0,9,     -999.0,9,     -999.0,9,-999.0000,9,-999.0000,9,-999.0000,9,-999.0000,9,-999.0000,9,-999.0000,9,-999.0000,9,     -999.0,9,     -999.0,9,     -999.0,9,     -999.0,9,     -999.0,9
33RR20160208,       I08S,      77,          1,         18,         37,2,20160310,       1424,   -31.7020,    94.9999,       3048,   602.3,   9.5637,  34.7058,2,  34.7060,2,    237.2,2,   237.2,2,     4.1,2,    0.00,2,   15.69,2,    0.00,2,    1.08,2,-999.000,9,-999.000,9,-999.000,9,-999.000000000,9,  -999.0,9, -999.00,9,-999.0000,9,  -999.00,-999.0000, -999.00,9,  -999.0,9,  -999.0, -999.00,9,-999.000,9,  -999.0,9, -999.00,9,     -999.0,9, -999.00,9, 20160310,     1526, -31.7021,  94.9998,     -999.0,9,     -999.0,9,     -999.0,9,-999.0000,9,-999.0000,9,-999.0000,9,-999.0000,9,-999.0000,9,-999.0000,9,-999.0000,9,     -999.0,9,     -999.0,9,     -999.0,9,     -999.0,9,     -999.0,9
33RR20160208,       I08S,      77,          1,         19,         19,2,20160310,       1424,   -31.7020,    94.9999,       3048,   498.3,  10.3255,  34.8167,2,  34.8173,2,    240.1,2,   240.7,2,     3.2,2,    0.00,2,   13.16,2,    0.00,2,    0.94,2,-999.000,9,-999.000,9,-999.000,9,-999.000000000,9,  2126.6,2, 2299.88,2,   7.7955,2,    24.95,-999.0000, -999.00,9,  -999.0,9,  -999.0, -999.00,9,-999.000,9,  -999.0,9, -999.00,9,     -999.0,9, -999.00,9, 20160310,     1529, -31.7021,  94.9999,     -999.0,9,     -999.0,9,     -999.0,9,-999.0000,9,-999.0000,9,-999.0000,9,-999.0000,9,-999.0000,9,-999.0000,9,-999.0000,9,     -999.0,9,     -999.0,9,     -999.0,9,     -999.0,9,     -999.0,9
33RR20160208,       I08S,      77,          1,         20,         20,2,20160310,       1424,   -31.7020,    94.9999,       3048,   450.9,  10.6630,  34.8690,2,  34.8717,2,    240.7,2,   240.2,2,     3.0,2,    0.00,2,   12.23,2,    0.00,2,    0.88,2,-999.000,9,-999.000,9,-999.000,9,-999.000000000,9,  -999.0,9, -999.00,9,-999.0000,9,     9.00,-999.0000, -999.00,9,  -999.0,9,  -999.0, -999.00,9,-999.000,9,  -999.0,9, -999.00,9,     -999.0,9, -999.00,9, 20160310,     1530, -31.7021,  94.9999,     -999.0,9,     -999.0,9,     -999.0,9,-999.0000,9,-999.0000,9,-999.0000,9,-999.0000,9,-999.0000,9,-999.0000,9,-999.0000,9,     -999.0,9,     -999.0,9,     -999.0,9,     -999.0,9,     -999.0,9
33RR20160208,       I08S,      77,          1,         21,         21,2,20160310,       1424,   -31.7020,    94.9999,       3048,   401.5,  11.1523,  34.9455,2,  34.9455,2,    239.1,2,   239.2,2,     2.7,2,    0.00,2,   10.97,2,    0.00,2,    0.81,2,-999.000,9,-999.000,9,-999.000,9,-999.000000000,9,  -999.0,9, -999.00,9,-999.0000,9,  -999.00,-999.0000, -999.00,9,  -999.0,9,  -999.0, -999.00,9,-999.000,9,  -999.0,9, -999.00,9,     -999.0,9, -999.00,9, 20160310,     1532, -31.7021,  94.9999,     -999.0,9,     -999.0,9,     -999.0,9,-999.0000,9,-999.0000,9,-999.0000,9,-999.0000,9,-999.0000,9,-999.0000,9,-999.0000,9,     -999.0,9,     -999.0,9,     -999.0,9,     -999.0,9,     -999.0,9
33RR20160208,       I08S,      77,          1,         22,         22,2,20160310,       1424,   -31.7020,    94.9999,       3048,   347.6,  11.6224,  35.0157,2,  35.0155,2,    238.2,2,   238.4,2,     2.4,2,    0.00,2,    9.83,2,    0.00,2,    0.75,2,-999.000,9,-999.000,9,-999.000,9,-999.000000000,9,  2121.3,2, 2310.11,2,   7.8268,2,    24.96,-999.0000, -999.00,9,  -999.0,9,  -999.0, -999.00,9,-999.000,9,  -999.0,9, -999.00,9,     -999.0,9, -999.00,9, 20160310,     1534, -31.7021,  94.9999,     -999.0,9,     -999.0,9,     -999.0,9,-999.0000,9,-999.0000,9,-999.0000,9,-999.0000,9,-999.0000,9,-999.0000,9,-999.0000,9,     -999.0,9,     -999.0,9,     -999.0,9,     -999.0,9,     -999.0,9
33RR20160208,       I08S,      77,          1,         23,         23,2,20160310,       1424,   -31.7020,    94.9999,       3048,   299.8,  12.1539,  35.0871,2,  35.0853,2,    235.1,2,   235.7,2,     2.0,2,    0.00,2,    8.73,2,    0.00,2,    0.69,2,-999.000,9,-999.000,9,-999.000,9,-999.000000000,9,  -999.0,9, -999.00,9,-999.0000,9,     9.00,-999.0000, -999.00,9,  -999.0,9,  -999.0, -999.00,9,-999.000,9,  -999.0,9, -999.00,9,     -999.0,9, -999.00,9, 20160310,     1536, -31.7020,  94.9999,     -999.0,9,     -999.0,9,     -999.0,9,-999.0000,9,-999.0000,9,-999.0000,9,-999.0000,9,-999.0000,9,-999.0000,9,-999.0000,9,     -999.0,9,     -999.0,9,     -999.0,9,     -999.0,9,     -999.0,9
33RR20160208,       I08S,      77,          1,         24,         24,2,20160310,       1424,   -31.7020,    94.9999,       3048,   250.7,  12.7634,  35.1586,2,  35.1545,2,    234.4,2,   234.1,2,     1.7,2,    0.00,2,    7.35,2,    0.00,2,    0.59,2,-999.000,9,-999.000,9,-999.000,9,-999.000000000,9,  2116.0,2, 2317.07,2,   7.8498,2,    24.97,-999.0000, -999.00,9,  -999.0,9,  -999.0, -999.00,9,-999.000,9,  -999.0,9, -999.00,9,     -999.0,9, -999.00,9, 20160310,     1538, -31.7021,  94.9999,     -999.0,9,     -999.0,9,     -999.0,9,-999.0000,9,-999.0000,9,-999.0000,9,-999.0000,9,-999.0000,9,-999.0000,9,-999.0000,9,     -999.0,9,     -999.0,9,     -999.0,9,     -999.0,9,     -999.0,9
33RR20160208,       I08S,      77,          1,         25,         25,2,20160310,       1424,   -31.7020,    94.9999,       3048,   199.6,  13.9905,  35.3548,2,  35.3551,2,    228.1,2,   227.5,2,     1.2,2,    0.00,2,    5.05,2,    0.02,2,    0.46,2,-999.000,9,-999.000,9,-999.000,9,-999.000000000,9,  -999.0,9, -999.00,9,-999.0000,9,  -999.00,-999.0000, -999.00,9,  -999.0,9,  -999.0, -999.00,9,-999.000,9,  -999.0,9, -999.00,9,     -999.0,9, -999.00,9, 20160310,     1541, -31.7021,  94.9999,     -999.0,9,     -999.0,9,     -999.0,9,-999.0000,9,-999.0000,9,-999.0000,9,-999.0000,9,-999.0000,9,-999.0000,9,-999.0000,9,     -999.0,9,     -999.0,9,     -999.0,9,     -999.0,9,     -999.0,9
33RR20160208,       I08S,      77,          1,         26,         26,2,20160310,       1424,   -31.7020,    94.9999,       3048,   152.5,  15.1370,  35.4909,2,  35.4913,2,    234.6,2,   232.6,2,     0.8,2,    0.03,2,    1.87,2,    0.23,2,    0.28,2,-999.000,9,-999.000,9,-999.000,9,-999.000000000,9,  2102.7,2, 2337.02,2,   7.9135,2,    24.97,-999.0000, -999.00,9,  -999.0,9,  -999.0, -999.00,9,-999.000,9,  -999.0,9, -999.00,9,     -999.0,9, -999.00,9, 20160310,     1542, -31.7021,  94.9999,     -999.0,9,     -999.0,9,     -999.0,9,-999.0000,9,-999.0000,9,-999.0000,9,-999.0000,9,-999.0000,9,-999.0000,9,-999.0000,9,     -999.0,9,     -999.0,9,     -999.0,9,     -999.0,9,     -999.0,9
33RR20160208,       I08S,      77,          1,         27,         27,2,20160310,       1424,   -31.7020,    94.9999,       3048,   126.5,  15.5779,  35.5169,2,  35.5181,2,    246.8,2,   250.5,2,     0.6,2,    0.08,2,    0.00,2,    0.00,2,    0.17,2,-999.000,9,-999.000,9,-999.000,9,-999.000000000,9,  -999.0,9, -999.00,9,-999.0000,9,  -999.00,-999.0000, -999.00,9,  -999.0,9,  -999.0, -999.00,9,-999.000,9,  -999.0,9, -999.00,9,     -999.0,9, -999.00,9, 20160310,     1544, -31.7021,  94.9999,     -999.0,9,     -999.0,9,     -999.0,9,-999.0000,9,-999.0000,9,-999.0000,9,-999.0000,9,-999.0000,9,-999.0000,9,-999.0000,9,     -999.0,9,     -999.0,9,     -999.0,9,     -999.0,9,     -999.0,9