BOTTLE,20220706CCHSIOAMB
EXPOCODE,SECT_ID,STNNBR,CASTNO,SAMPNO,BTLNBR,BTLNBR_FLAG_W,DATE,TIME,LATITUDE,LONGITUDE,DEPTH,CTDPRS,CTDTMP,CTDSAL,CTDSAL_FLAG_W,SALNTY,SALNTY_FLAG_W,CTDOXY,CTDOXY_FLAG_W,OXYGEN,OXYGEN_FLAG_W,SILCAT,SILCAT_FLAG_W,NH4,NH4_FLAG_W,NITRAT,NITRAT_FLAG_W,NITRIT,NITRIT_FLAG_W,PHSPHT,PHSPHT_FLAG_W,CFC-11,CFC-11_FLAG_W,CFC-12,CFC-12_FLAG_W,CFC113,CFC113_FLAG_W,SF6,SF6_FLAG_W,TCARBN,TCARBN_FLAG_W,ALKALI,ALKALI_FLAG_W,PH_TOT,PH_TOT_FLAG_W,PH_TMP,REFTMP,DELC13,DELC13_FLAG_W,DELC14,DELC14_FLAG_W,C14ERR,DELO18,DELO18_FLAG_W,POC,POC_FLAG_W,DOC,DOC_FLAG_W,TDN,TDN_FLAG_W,TON,TON_FLAG_W,D15N_NO3,D15N_NO3_FLAG_W,BTL_DATE,BTL_TIME,BTL_LAT,BTL_LON,14C-DOC,14C-DOC_FLAG_W,CHLORA,CHLORA_FLAG_W,HPLC,HPLC_FLAG_W,CDOM325,CDOM325_FLAG_W,CDOM340,CDOM340_FLAG_W,CDOM380,CDOM380_FLAG_W,CDOM412,CDOM412_FLAG_W,CDOM443,CDOM443_FLAG_W,CDOM490,CDOM490_FLAG_W,CDOM555,CDOM555_FLAG_W,CDOMSL,CDOMSL_FLAG_W,CDOMSN,CDOMSN_FLAG_W,D18O_NO3,D18O_NO3_FLAG_W,D15N_NO2+NO3,D15N_NO2+NO3_FLAG_W,D18O_NO2+NO3,D18O_NO2+NO3_FLAG_W
,,,,,,,,,,,METERS,DBAR,ITS-90,PSS-78,,PSS-78,,UMOL/KG,,UMOL/KG,,UMOL/KG,,UMOL/KG,,UMOL/KG,,UMOL/KG,,UMOL/KG,,PMOL/KG,,PMOL/KG,,PMOL/KG,,FMOL/KG,,UMOL/KG,,UMOL/KG,,,,DEG C,DEG C,/MILLE,,/MILLE,,/MILLE,/MILLE,,UG/KG,,UMOL/KG,,UMOL/KG,,UMOL/KG,,/MILLE,,,,,,/MILLE,,MG/M3,,,,1/M,,1/M,,1/M,,1/M,,1/M,,1/M,,1/M,,1/NM,,1/NM,,/MILLE,,/MILLE,,/MILLE,
33RR20160208,       I08S,      45,          1,         28,         28,2,20160302,       0520,   -48.5469,    91.6778,       3593,   264.6,   5.2153,  34.1140,2,  34.1122,2,    263.4,2,   264.1,2,    11.1,2,    0.00,2,   25.09,2,    0.01,2,    1.71,2,   3.955,2,   2.204,2,   0.322,2,    1.96884026,2,  2154.7,2, 2279.68,2,   7.6798,2,    25.04,   5.2152, -999.00,9,  -999.0,9,  -999.0, -999.00,9,-999.000,9,  -999.0,9, -999.00,9,     -999.0,9, -999.00,9, 20160302,      648, -48.5469,  91.6780,     -999.0,9,     -999.0,9,     -999.0,9,   0.0837,2,   0.0526,2,   0.0237,2,   0.0173,2,   0.0102,2,   0.0031,2,   0.0004,3,     0.0201,2,     0.0239,2,     -999.0,9,     -999.0,9,     -999.0,9
33RR20160208,       I08S,      45,          1,         29,         29,2,20160302,       0520,   -48.5469,    91.6778,       3593,   216.0,   5.2446,  34.0411,2,  34.0480,2,    274.8,2,   275.6,2,     8.7,2,    0.01,2,   24.05,2,    0.01,2,    1.66,2,-999.000,9,-999.000,9,-999.000,9,-999.000000000,9,  2147.0,2, 2277.76,2,   7.6955,6,    25.06,   5.2464, -999.00,9,  -999.0,9,  -999.0, -999.00,9,-999.000,9,  -999.0,9, -999.00,9,     -999.0,9, -999.00,9, 20160302,      650, -48.5469,  91.6778,     -999.0,9,     -999.0,9,     -999.0,9,-999.0000,9,-999.0000,9,-999.0000,9,-999.0000,9,-999.0000,9,-999.0000,9,-999.0000,9,     -999.0,9,     -999.0,9,     -999.0,9,     -999.0,9,     -999.0,9
33RR20160208,       I08S,      45,          1,         30,         30,2,20160302,       0520,   -48.5469,    91.6778,       3593,   165.3,   5.5085,  33.9726,2,-999.0000,5,    284.0,2,   283.3,2,     6.1,2,    0.01,2,   23.14,2,    0.01,2,    1.60,2,   4.103,2,   2.273,2,   0.357,2,    2.03829322,2,  2139.2,2, 2277.53,2,   7.7119,2,    25.08,   5.5030, -999.00,9,  -999.0,9,  -999.0, -999.00,9,-999.000,9,  -999.0,9, -999.00,9,     -999.0,9, -999.00,9, 20160302,      652, -48.5469,  91.6779,     -999.0,9,     -999.0,9,     -999.0,9,   0.0872,2,   0.0552,2,   0.0241,2,   0.0173,2,   0.0099,2,   0.0029,2,   0.0003,3,     0.0208,2,     0.0243,2,     -999.0,9,     -999.0,9,     -999.0,9
33RR20160208,       I08S,      45,          1,         31,         31,2,20160302,       0520,   -48.5469,    91.6778,       3593,   136.0,   6.2102,  33.9867,2,  33.9852,2,    285.2,2,   283.7,2,     4.5,2,    0.01,2,   21.70,2,    0.01,2,    1.52,2,-999.000,9,-999.000,9,-999.000,9,-999.000000000,9,  2131.6,2, 2274.53,2,   7.7322,2,    25.05,   6.2076, -999.00,9,  -999.0,9,  -999.0, -999.00,9,-999.000,9,  -999.0,9, -999.00,9,     -999.0,9, -999.00,9, 20160302,      653, -48.5469,  91.6778,     -999.0,9,0.057976146,2,     -999.0,9,   0.0848,2,   0.0526,2,   0.0230,2,   0.0163,2,   0.0091,2,   0.0024,2,  -0.0000,4,     0.0210,2,     0.0248,2,     -999.0,9,     -999.0,9,     -999.0,9
33RR20160208,       I08S,      45,          1,         32,         32,2,20160302,       0520,   -48.5469,    91.6778,       3593,   110.7,   6.5408,  33.9238,2,  33.9193,2,    289.1,2,   288.6,2,     3.0,2,    0.12,2,   20.76,2,    0.51,2,    1.46,2,   4.041,2,   2.294,2,   0.366,2,    2.42179431,2,  2122.5,2, 2271.76,2,   7.7464,2,    25.07,   6.5405, -999.00,9,  -999.0,9,  -999.0, -999.00,9,-999.000,9,  -999.0,9, -999.00,9,     -999.0,9, -999.00,9, 20160302,      656, -48.5469,  91.6778,     -999.0,9,0.151231973,2,     -999.0,9,   0.0845,2,   0.0538,2,   0.0240,2,   0.0173,2,   0.0100,2,   0.0030,2,   0.0004,3,     0.0202,2,     0.0237,2,     -999.0,9,     -999.0,9,     -999.0,9
33RR20160208,       I08S,      45,          1,         33,         33,2,20160302,       0520,   -48.5469,    91.6778,       3593,    88.0,   7.0694,  33.8103,2,  33.8094,2,    294.9,2,   294.3,2,     2.1,2,    0.69,2,   19.60,2,    0.30,2,    1.39,2,-999.000,9,-999.000,9,-999.000,9,-999.000000000,9,  2113.2,2, 2273.02,2,   7.7715,2,    25.04,   7.0619, -999.00,9,  -999.0,9,  -999.0, -999.00,9,-999.000,9,  -999.0,9, -999.00,9,     -999.0,9, -999.00,9, 20160302,      658, -48.5469,  91.6778,     -999.0,9,0.267823662,2,     -999.0,9,   0.0872,2,   0.0555,2,   0.0258,2,   0.0186,2,   0.0112,2,   0.0038,2,   0.0006,2,     0.0195,2,     0.0229,2,     -999.0,9,     -999.0,9,     -999.0,9
33RR20160208,       I08S,      45,          1,         34,         34,2,20160302,       0520,   -48.5469,    91.6778,       3593,    61.5,   7.6143,  33.8062,2,  33.8043,2,    294.8,2,   294.2,2,     1.9,2,    0.38,2,   18.69,2,    0.25,2,    1.31,2,   3.838,2,   2.156,2,   0.346,2,    2.20739606,2,  2104.2,2, 2270.89,6,   7.7837,2,    25.09,   7.6127, -999.00,9,  -999.0,9,  -999.0, -999.00,9,-999.000,9,  -999.0,9, -999.00,9,     -999.0,9, -999.00,9, 20160302,      700, -48.5469,  91.6778,     -999.0,9,0.322504326,2,     -999.0,9,   0.0959,2,   0.0634,2,   0.0259,2,   0.0171,2,   0.0101,2,   0.0027,2,  -0.0001,4,     0.0220,2,     0.0242,2,     -999.0,9,     -999.0,9,     -999.0,9
33RR20160208,       I08S,      45,          1,         35,         35,2,20160302,       0520,   -48.5469,    91.6778,       3593,    35.0,   7.6317,  33.7917,2,  33.7897,2,    294.9,2,   294.1,2,     2.1,2,    0.34,2,   18.81,2,    0.25,2,    1.32,2,-999.000,9,-999.000,9,-999.000,9,-999.000000000,9,  2108.0,2, 2270.63,2,   7.7856,6,    25.04,   7.6315, -999.00,9,  -999.0,9,  -999.0, -999.00,9,-999.000,9,  -999.0,9, -999.00,9,     -999.0,9, -999.00,9, 20160302,      702, -48.5469,  91.6778,     -999.0,9,0.311487863,2,     -999.0,9,   0.0869,2,   0.0557,2,   0.0254,2,   0.0179,2,   0.0109,2,   0.0036,2,   0.0005,3,     0.0199,2,     0.0231,2,     -999.0,9,     -999.0,9,     -999.0,9
33RR20160208,       I08S,      45,          1,         36,         36,2,20160302,       0520,   -48.5469,    91.6778,       3593,     4.9,   7.6445,  33.7891,2,  33.7888,2,    295.3,2,   295.4,2,     2.1,2,    0.34,2,   18.79,2,    0.25,2,    1.30,2,   3.845,2,   2.178,2,   0.350,2,           2.3,2,  2106.1,6, 2270.51,2,   7.7852,2,    25.07,   7.6457, -999.00,9,  -999.0,9,  -999.0, -999.00,9,-999.000,9,  -999.0,9, -999.00,9,     -999.0,9, -999.00,9, 20160302,      704, -48.5469,  91.6779,     -999.0,9,0.322889343,2,     -999.0,9,   0.0838,2,   0.0536,2,   0.0249,2,   0.0179,2,   0.0110,2,   0.0039,2,   0.0007,2,     0.0195,2,     0.0228,2,     -999.0,9,     -999.0,9,     -999.0,9