BOTTLE,20220706CCHSIOAMB
EXPOCODE,SECT_ID,STNNBR,CASTNO,SAMPNO,BTLNBR,BTLNBR_FLAG_W,DATE,TIME,LATITUDE,LONGITUDE,DEPTH,CTDPRS,CTDTMP,CTDSAL,CTDSAL_FLAG_W,SALNTY,SALNTY_FLAG_W,CTDOXY,CTDOXY_FLAG_W,OXYGEN,OXYGEN_FLAG_W,SILCAT,SILCAT_FLAG_W,NH4,NH4_FLAG_W,NITRAT,NITRAT_FLAG_W,NITRIT,NITRIT_FLAG_W,PHSPHT,PHSPHT_FLAG_W,CFC-11,CFC-11_FLAG_W,CFC-12,CFC-12_FLAG_W,CFC113,CFC113_FLAG_W,SF6,SF6_FLAG_W,TCARBN,TCARBN_FLAG_W,ALKALI,ALKALI_FLAG_W,PH_TOT,PH_TOT_FLAG_W,PH_TMP,REFTMP,DELC13,DELC13_FLAG_W,DELC14,DELC14_FLAG_W,C14ERR,DELO18,DELO18_FLAG_W,POC,POC_FLAG_W,DOC,DOC_FLAG_W,TDN,TDN_FLAG_W,TON,TON_FLAG_W,D15N_NO3,D15N_NO3_FLAG_W,BTL_DATE,BTL_TIME,BTL_LAT,BTL_LON,14C-DOC,14C-DOC_FLAG_W,CHLORA,CHLORA_FLAG_W,HPLC,HPLC_FLAG_W,CDOM325,CDOM325_FLAG_W,CDOM340,CDOM340_FLAG_W,CDOM380,CDOM380_FLAG_W,CDOM412,CDOM412_FLAG_W,CDOM443,CDOM443_FLAG_W,CDOM490,CDOM490_FLAG_W,CDOM555,CDOM555_FLAG_W,CDOMSL,CDOMSL_FLAG_W,CDOMSN,CDOMSN_FLAG_W,D18O_NO3,D18O_NO3_FLAG_W,D15N_NO2+NO3,D15N_NO2+NO3_FLAG_W,D18O_NO2+NO3,D18O_NO2+NO3_FLAG_W
,,,,,,,,,,,METERS,DBAR,ITS-90,PSS-78,,PSS-78,,UMOL/KG,,UMOL/KG,,UMOL/KG,,UMOL/KG,,UMOL/KG,,UMOL/KG,,UMOL/KG,,PMOL/KG,,PMOL/KG,,PMOL/KG,,FMOL/KG,,UMOL/KG,,UMOL/KG,,,,DEG C,DEG C,/MILLE,,/MILLE,,/MILLE,/MILLE,,UG/KG,,UMOL/KG,,UMOL/KG,,UMOL/KG,,/MILLE,,,,,,/MILLE,,MG/M3,,,,1/M,,1/M,,1/M,,1/M,,1/M,,1/M,,1/M,,1/NM,,1/NM,,/MILLE,,/MILLE,,/MILLE,
33RR20160208,       I08S,      46,          1,         28,         28,2,20160302,       1140,   -48.0490,    92.1430,       3516,   236.8,   8.0783,  34.4303,2,  34.4295,2,    242.6,2,   245.0,2,     6.6,2,    0.00,2,   19.45,2,    0.00,2,    1.33,2,   3.519,2,   1.949,2,   0.212,2,    1.78463895,2,  2142.8,2, 2286.98,2,   7.7351,2,    25.00,   8.0828, -999.00,9,  -999.0,9,  -999.0, -999.00,9,-999.000,9,    42.9,2,   21.50,2,     -999.0,1, -999.00,9, 20160302,     1310, -48.0490,  92.1429,     -999.0,9,     -999.0,9,     -999.0,9,-999.0000,9,-999.0000,9,-999.0000,9,-999.0000,9,-999.0000,9,-999.0000,9,-999.0000,9,     -999.0,9,     -999.0,9,     -999.0,9,     -999.0,9,     -999.0,9
33RR20160208,       I08S,      46,          1,         29,         29,2,20160302,       1140,   -48.0490,    92.1430,       3516,   187.3,   8.4015,  34.4340,2,  34.4357,2,    255.0,2,   255.0,2,     5.2,2,    0.00,2,   17.80,2,    0.00,2,    1.22,2,-999.000,9,-999.000,9,-999.000,9,-999.000000000,9,  2133.0,2, 2289.07,2,   7.7577,2,    25.01,   8.4029, -999.00,9,  -999.0,9,  -999.0, -999.00,9,-999.000,9,    43.3,2,   19.90,2,     -999.0,1, -999.00,9, 20160302,     1312, -48.0490,  92.1430,     -999.0,9,     -999.0,9,     -999.0,9,-999.0000,9,-999.0000,9,-999.0000,9,-999.0000,9,-999.0000,9,-999.0000,9,-999.0000,9,     -999.0,9,     -999.0,9,     -999.0,9,     -999.0,9,     -999.0,9
33RR20160208,       I08S,      46,          1,         30,         30,2,20160302,       1140,   -48.0490,    92.1430,       3516,   141.0,   8.3663,  34.3752,2,  34.3781,2,    265.8,2,   265.0,2,     4.1,2,    0.00,2,   17.23,2,    0.00,2,    1.19,2,   0.020,4,   0.005,4,  -0.003,4,  -0.043282276,4,  2128.3,2, 2285.82,2,   7.7704,3,    25.00,   8.3642, -999.00,9,  -999.0,9,  -999.0, -999.00,9,-999.000,9,    43.6,2,   20.00,2,     -999.0,1, -999.00,9, 20160302,     1314, -48.0490,  92.1430,     -999.0,9,     -999.0,9,     -999.0,9,-999.0000,9,-999.0000,9,-999.0000,9,-999.0000,9,-999.0000,9,-999.0000,9,-999.0000,9,     -999.0,9,     -999.0,9,     -999.0,9,     -999.0,9,     -999.0,9
33RR20160208,       I08S,      46,          1,         31,         31,2,20160302,       1140,   -48.0490,    92.1430,       3516,   115.3,   8.2823,  34.2647,2,  34.2680,2,    271.1,2,   271.6,2,     3.3,2,    0.00,2,   17.50,2,    0.00,2,    1.20,2,-999.000,9,-999.000,9,-999.000,9,-999.000000000,9,  2121.3,2, 2280.94,6,   7.7745,2,    24.98,   8.2815, -999.00,9,  -999.0,9,  -999.0, -999.00,9,-999.000,9,    45.1,2,   20.40,2,     -999.0,1, -999.00,9, 20160302,     1316, -48.0490,  92.1430,     -999.0,9,     -999.0,9,     -999.0,9,-999.0000,9,-999.0000,9,-999.0000,9,-999.0000,9,-999.0000,9,-999.0000,9,-999.0000,9,     -999.0,9,     -999.0,9,     -999.0,9,     -999.0,9,     -999.0,9
33RR20160208,       I08S,      46,          1,         32,         32,2,20160302,       1140,   -48.0490,    92.1430,       3516,    90.9,   8.5979,  34.2300,2,  34.2341,2,    277.4,2,   274.2,2,     2.6,2,    0.00,2,   16.47,2,    0.16,2,    1.16,2,   3.663,2,   2.064,2,   0.299,2,    2.13592998,2,  2114.1,2, 2280.73,2,   7.7878,2,    24.98,   8.5973, -999.00,9,  -999.0,9,  -999.0, -999.00,9,-999.000,9,    44.7,2,   19.70,2,     -999.0,1, -999.00,9, 20160302,     1318, -48.0490,  92.1430,     -999.0,9,     -999.0,9,     -999.0,9,-999.0000,9,-999.0000,9,-999.0000,9,-999.0000,9,-999.0000,9,-999.0000,9,-999.0000,9,     -999.0,9,     -999.0,9,     -999.0,9,     -999.0,9,     -999.0,9
33RR20160208,       I08S,      46,          1,         33,         33,2,20160302,       1140,   -48.0490,    92.1430,       3516,    67.1,   8.3195,  34.0657,2,  34.0663,2,    283.5,2,   283.7,2,     2.1,2,    0.33,2,   16.56,2,    0.50,2,    1.21,2,-999.000,9,-999.000,9,-999.000,9,-999.000000000,9,  2111.6,2, 2276.84,2,   7.7936,2,    24.98,   8.3193, -999.00,9,  -999.0,9,  -999.0, -999.00,9,-999.000,9,    45.8,2,   20.20,2,     -999.0,1, -999.00,9, 20160302,     1320, -48.0490,  92.1430,     -999.0,9,     -999.0,9,     -999.0,9,-999.0000,9,-999.0000,9,-999.0000,9,-999.0000,9,-999.0000,9,-999.0000,9,-999.0000,9,     -999.0,9,     -999.0,9,     -999.0,9,     -999.0,9,     -999.0,9
33RR20160208,       I08S,      46,          1,         34,         34,2,20160302,       1140,   -48.0490,    92.1430,       3516,    41.6,   8.2242,  33.9910,2,  33.9931,2,    288.2,2,   288.3,2,     1.8,2,    0.35,2,   16.77,2,    0.33,2,    1.21,2,   3.807,6,   2.110,6,   0.320,6,    2.24514223,6,  2107.9,2, 2277.06,2,   7.7974,2,    25.00,   8.2185, -999.00,9,  -999.0,9,  -999.0, -999.00,9,-999.000,9,    44.7,2,   20.20,2,     -999.0,1, -999.00,9, 20160302,     1323, -48.0490,  92.1430,     -999.0,9,     -999.0,9,     -999.0,9,-999.0000,9,-999.0000,9,-999.0000,9,-999.0000,9,-999.0000,9,-999.0000,9,-999.0000,9,     -999.0,9,     -999.0,9,     -999.0,9,     -999.0,9,     -999.0,9
33RR20160208,       I08S,      46,          1,         35,         35,2,20160302,       1140,   -48.0490,    92.1430,       3516,    20.8,   7.9087,  33.8326,2,  33.8329,2,    292.6,2,   292.9,2,     2.0,2,    0.27,2,   18.31,2,    0.25,2,    1.28,2,-999.000,9,-999.000,9,-999.000,9,-999.000000000,9,  2105.9,2, 2271.53,2,   7.7917,2,    24.99,   7.9106,    1.64,2,   -46.0,6,     1.4, -999.00,9,-999.000,9,    44.6,2,   21.10,2,     -999.0,1, -999.00,9, 20160302,     1325, -48.0490,  92.1430,     -999.0,9,     -999.0,9,     -999.0,9,-999.0000,9,-999.0000,9,-999.0000,9,-999.0000,9,-999.0000,9,-999.0000,9,-999.0000,9,     -999.0,9,     -999.0,9,     -999.0,9,     -999.0,9,     -999.0,9
33RR20160208,       I08S,      46,          1,         36,         36,2,20160302,       1140,   -48.0490,    92.1430,       3516,     6.8,   7.9063,  33.8246,2,  33.8260,2,    292.7,2,   292.8,2,     1.9,2,    0.27,2,   18.34,2,    0.25,2,    1.28,2,   3.865,2,   2.148,2,   0.324,2,    2.17115974,2,  2105.1,6, 2268.85,2,   7.7921,2,    24.98,   7.9064, -999.00,9,  -999.0,9,  -999.0, -999.00,9,-999.000,9,    45.0,2,   22.10,2,     -999.0,1, -999.00,9, 20160302,     1327, -48.0490,  92.1429,     -999.0,9,     -999.0,9,     -999.0,9,-999.0000,9,-999.0000,9,-999.0000,9,-999.0000,9,-999.0000,9,-999.0000,9,-999.0000,9,     -999.0,9,     -999.0,9,     -999.0,9,     -999.0,9,     -999.0,9