BOTTLE,20220706CCHSIOAMB
EXPOCODE,SECT_ID,STNNBR,CASTNO,SAMPNO,BTLNBR,BTLNBR_FLAG_W,DATE,TIME,LATITUDE,LONGITUDE,DEPTH,CTDPRS,CTDTMP,CTDSAL,CTDSAL_FLAG_W,SALNTY,SALNTY_FLAG_W,CTDOXY,CTDOXY_FLAG_W,OXYGEN,OXYGEN_FLAG_W,SILCAT,SILCAT_FLAG_W,NH4,NH4_FLAG_W,NITRAT,NITRAT_FLAG_W,NITRIT,NITRIT_FLAG_W,PHSPHT,PHSPHT_FLAG_W,CFC-11,CFC-11_FLAG_W,CFC-12,CFC-12_FLAG_W,CFC113,CFC113_FLAG_W,SF6,SF6_FLAG_W,TCARBN,TCARBN_FLAG_W,ALKALI,ALKALI_FLAG_W,PH_TOT,PH_TOT_FLAG_W,PH_TMP,REFTMP,DELC13,DELC13_FLAG_W,DELC14,DELC14_FLAG_W,C14ERR,DELO18,DELO18_FLAG_W,POC,POC_FLAG_W,DOC,DOC_FLAG_W,TDN,TDN_FLAG_W,TON,TON_FLAG_W,D15N_NO3,D15N_NO3_FLAG_W,BTL_DATE,BTL_TIME,BTL_LAT,BTL_LON,14C-DOC,14C-DOC_FLAG_W,CHLORA,CHLORA_FLAG_W,HPLC,HPLC_FLAG_W,CDOM325,CDOM325_FLAG_W,CDOM340,CDOM340_FLAG_W,CDOM380,CDOM380_FLAG_W,CDOM412,CDOM412_FLAG_W,CDOM443,CDOM443_FLAG_W,CDOM490,CDOM490_FLAG_W,CDOM555,CDOM555_FLAG_W,CDOMSL,CDOMSL_FLAG_W,CDOMSN,CDOMSN_FLAG_W,D18O_NO3,D18O_NO3_FLAG_W,D15N_NO2+NO3,D15N_NO2+NO3_FLAG_W,D18O_NO2+NO3,D18O_NO2+NO3_FLAG_W
,,,,,,,,,,,METERS,DBAR,ITS-90,PSS-78,,PSS-78,,UMOL/KG,,UMOL/KG,,UMOL/KG,,UMOL/KG,,UMOL/KG,,UMOL/KG,,UMOL/KG,,PMOL/KG,,PMOL/KG,,PMOL/KG,,FMOL/KG,,UMOL/KG,,UMOL/KG,,,,DEG C,DEG C,/MILLE,,/MILLE,,/MILLE,/MILLE,,UG/KG,,UMOL/KG,,UMOL/KG,,UMOL/KG,,/MILLE,,,,,,/MILLE,,MG/M3,,,,1/M,,1/M,,1/M,,1/M,,1/M,,1/M,,1/M,,1/NM,,1/NM,,/MILLE,,/MILLE,,/MILLE,
33RR20160208,       I08S,      29,          1,         28,         28,2,20160225,       2051,   -56.0580,    84.2612,       4822,   250.2,   2.2464,  34.1728,2,  34.1710,2,    235.6,2,   246.4,3,    37.3,2,    0.00,2,   31.31,2,    0.02,2,    2.19,2,   3.419,2,   1.800,2,   0.288,2,         1.414,2,  2204.1,2, 2296.01,2,   7.5939,2,    25.00,   2.2471, -999.00,9,  -999.0,9,  -999.0, -999.00,1,-999.000,9,  -999.0,9, -999.00,9,     -999.0,9, -999.00,9, 20160225,     2241, -56.0580,  84.2612,     -999.0,9,     -999.0,9,     -999.0,9,-999.0000,9,-999.0000,9,-999.0000,9,-999.0000,9,-999.0000,9,-999.0000,9,-999.0000,9,     -999.0,9,     -999.0,9,     -999.0,9,     -999.0,9,     -999.0,9
33RR20160208,       I08S,      29,          1,         29,         29,2,20160225,       2051,   -56.0580,    84.2612,       4822,   200.1,   2.1120,  34.0877,2,  34.0847,2,    274.2,2,   272.6,2,    30.9,2,    0.01,2,   29.87,2,    0.07,2,    2.10,2,   4.106,2,   2.206,2,   0.365,2,         1.876,2,  -999.0,9, -999.00,9,-999.0000,9,  -999.00,   2.1027, -999.00,9,  -999.0,9,  -999.0, -999.00,1,-999.000,9,  -999.0,9, -999.00,9,     -999.0,9, -999.00,9, 20160225,     2243, -56.0580,  84.2612,     -999.0,9,     -999.0,9,     -999.0,9,-999.0000,9,-999.0000,9,-999.0000,9,-999.0000,9,-999.0000,9,-999.0000,9,-999.0000,9,     -999.0,9,     -999.0,9,     -999.0,9,     -999.0,9,     -999.0,9
33RR20160208,       I08S,      29,          1,         30,         30,2,20160225,       2051,   -56.0580,    84.2612,       4822,   149.9,   2.9184,  34.0793,2,  34.0782,2,    264.6,2,   266.6,2,    24.0,2,    0.01,2,   28.97,2,    0.06,2,    2.04,2,   4.157,2,   2.204,2,   0.341,2,         1.692,2,  2183.1,2, 2286.71,2,   7.6284,2,    25.00,   2.9182, -999.00,9,  -999.0,9,  -999.0, -999.00,1,-999.000,9,  -999.0,9, -999.00,9,     -999.0,9, -999.00,9, 20160225,     2245, -56.0580,  84.2612,     -999.0,9,     -999.0,9,     -999.0,9,-999.0000,9,-999.0000,9,-999.0000,9,-999.0000,9,-999.0000,9,-999.0000,9,-999.0000,9,     -999.0,9,     -999.0,9,     -999.0,9,     -999.0,9,     -999.0,9
33RR20160208,       I08S,      29,          1,         31,         31,2,20160225,       2051,   -56.0580,    84.2612,       4822,   125.9,   3.0494,  34.0415,2,  34.0404,2,    278.1,2,   276.7,2,    20.7,2,    0.02,2,   28.12,2,    0.07,2,    1.97,2,   4.271,2,   2.326,2,   0.372,2,         2.056,2,  -999.0,9, -999.00,9,-999.0000,9,  -999.00,   3.0487, -999.00,9,  -999.0,9,  -999.0, -999.00,1,-999.000,9,  -999.0,9, -999.00,9,     -999.0,9, -999.00,9, 20160225,     2246, -56.0580,  84.2612,     -999.0,9,     -999.0,9,     -999.0,9,-999.0000,9,-999.0000,9,-999.0000,9,-999.0000,9,-999.0000,9,-999.0000,9,-999.0000,9,     -999.0,9,     -999.0,9,     -999.0,9,     -999.0,9,     -999.0,9
33RR20160208,       I08S,      29,          1,         32,         32,2,20160225,       2051,   -56.0580,    84.2612,       4822,   104.1,   2.8590,  33.9385,2,  33.9337,2,    309.6,2,   311.3,2,    18.6,2,    0.48,2,   25.49,2,    0.21,2,    1.83,2,   4.781,2,   2.648,2,   0.450,2,         2.638,2,  2162.2,2, 2284.57,2,   7.6837,2,    25.00,   2.8617, -999.00,9,  -999.0,9,  -999.0, -999.00,1,-999.000,9,  -999.0,9, -999.00,9,     -999.0,9, -999.00,9, 20160225,     2248, -56.0580,  84.2612,     -999.0,9,     -999.0,9,     -999.0,9,-999.0000,9,-999.0000,9,-999.0000,9,-999.0000,9,-999.0000,9,-999.0000,9,-999.0000,9,     -999.0,9,     -999.0,9,     -999.0,9,     -999.0,9,     -999.0,9
33RR20160208,       I08S,      29,          1,         33,         33,2,20160225,       2051,   -56.0580,    84.2612,       4822,    74.6,   3.4268,  33.8998,2,  33.8996,2,    315.2,2,   317.6,2,    12.1,2,    0.42,2,   23.37,2,    0.21,2,    1.67,2,-999.000,5,-999.000,5,-999.000,5,-999.000000000,5,  -999.0,9, -999.00,9,-999.0000,9,     9.00,   3.4251, -999.00,9,  -999.0,9,  -999.0, -999.00,1,-999.000,9,  -999.0,9, -999.00,9,     -999.0,9, -999.00,9, 20160225,     2250, -56.0580,  84.2611,     -999.0,9,     -999.0,9,     -999.0,9,-999.0000,9,-999.0000,9,-999.0000,9,-999.0000,9,-999.0000,9,-999.0000,9,-999.0000,9,     -999.0,9,     -999.0,9,     -999.0,9,     -999.0,9,     -999.0,9
33RR20160208,       I08S,      29,          1,         34,         34,2,20160225,       2051,   -56.0580,    84.2612,       4822,    50.8,   3.5970,  33.8937,2,  33.8945,2,    319.6,2,   318.8,2,    11.1,2,    0.35,2,   23.17,2,    0.21,2,    1.67,2,   5.169,2,   2.669,2,   0.479,2,         2.606,2,  2142.8,2, 2281.36,2,   7.7243,2,    24.99,   3.5966, -999.00,9,  -999.0,9,  -999.0, -999.00,1,-999.000,9,  -999.0,9, -999.00,9,     -999.0,9, -999.00,9, 20160225,     2252, -56.0580,  84.2611,     -999.0,9,     -999.0,9,     -999.0,9,-999.0000,9,-999.0000,9,-999.0000,9,-999.0000,9,-999.0000,9,-999.0000,9,-999.0000,9,     -999.0,9,     -999.0,9,     -999.0,9,     -999.0,9,     -999.0,9
33RR20160208,       I08S,      29,          1,         35,         35,2,20160225,       2051,   -56.0580,    84.2612,       4822,    25.7,   3.9173,  33.8840,2,  33.8844,2,    317.5,2,   317.7,2,     9.3,2,    0.37,2,   22.90,2,    0.21,2,    1.61,2,   4.640,2,   2.573,2,   0.431,2,          2.76,2,  2139.2,2, 2280.50,2,   7.7303,2,    24.99,   3.9176, -999.00,9,  -999.0,9,  -999.0, -999.00,1,-999.000,9,  -999.0,9, -999.00,9,     -999.0,9, -999.00,9, 20160225,     2253, -56.0580,  84.2612,     -999.0,9,     -999.0,9,     -999.0,9,-999.0000,9,-999.0000,9,-999.0000,9,-999.0000,9,-999.0000,9,-999.0000,9,-999.0000,9,     -999.0,9,     -999.0,9,     -999.0,9,     -999.0,9,     -999.0,9
33RR20160208,       I08S,      29,          1,         36,         36,2,20160225,       2051,   -56.0580,    84.2612,       4822,     6.8,   3.9200,  33.8838,2,  33.8844,2,    317.7,2,   317.4,2,     9.3,2,    0.31,2,   22.97,2,    0.21,2,    1.62,2,   4.673,2,   2.565,2,   0.444,2,         2.429,2,  2139.1,2, 2278.88,2,   7.7306,2,    24.98,   3.9200, -999.00,9,  -999.0,9,  -999.0, -999.00,1,-999.000,9,  -999.0,9, -999.00,9,     -999.0,9, -999.00,9, 20160225,     2256, -56.0580,  84.2611,     -999.0,9,     -999.0,9,     -999.0,9,-999.0000,9,-999.0000,9,-999.0000,9,-999.0000,9,-999.0000,9,-999.0000,9,-999.0000,9,     -999.0,9,     -999.0,9,     -999.0,9,     -999.0,9,     -999.0,9