BOTTLE,20220706CCHSIOAMB
EXPOCODE,SECT_ID,STNNBR,CASTNO,SAMPNO,BTLNBR,BTLNBR_FLAG_W,DATE,TIME,LATITUDE,LONGITUDE,DEPTH,CTDPRS,CTDTMP,CTDSAL,CTDSAL_FLAG_W,SALNTY,SALNTY_FLAG_W,CTDOXY,CTDOXY_FLAG_W,OXYGEN,OXYGEN_FLAG_W,SILCAT,SILCAT_FLAG_W,NH4,NH4_FLAG_W,NITRAT,NITRAT_FLAG_W,NITRIT,NITRIT_FLAG_W,PHSPHT,PHSPHT_FLAG_W,CFC-11,CFC-11_FLAG_W,CFC-12,CFC-12_FLAG_W,CFC113,CFC113_FLAG_W,SF6,SF6_FLAG_W,TCARBN,TCARBN_FLAG_W,ALKALI,ALKALI_FLAG_W,PH_TOT,PH_TOT_FLAG_W,PH_TMP,REFTMP,DELC13,DELC13_FLAG_W,DELC14,DELC14_FLAG_W,C14ERR,DELO18,DELO18_FLAG_W,POC,POC_FLAG_W,DOC,DOC_FLAG_W,TDN,TDN_FLAG_W,TON,TON_FLAG_W,D15N_NO3,D15N_NO3_FLAG_W,BTL_DATE,BTL_TIME,BTL_LAT,BTL_LON,14C-DOC,14C-DOC_FLAG_W,CHLORA,CHLORA_FLAG_W,HPLC,HPLC_FLAG_W,CDOM325,CDOM325_FLAG_W,CDOM340,CDOM340_FLAG_W,CDOM380,CDOM380_FLAG_W,CDOM412,CDOM412_FLAG_W,CDOM443,CDOM443_FLAG_W,CDOM490,CDOM490_FLAG_W,CDOM555,CDOM555_FLAG_W,CDOMSL,CDOMSL_FLAG_W,CDOMSN,CDOMSN_FLAG_W,D18O_NO3,D18O_NO3_FLAG_W,D15N_NO2+NO3,D15N_NO2+NO3_FLAG_W,D18O_NO2+NO3,D18O_NO2+NO3_FLAG_W
,,,,,,,,,,,METERS,DBAR,ITS-90,PSS-78,,PSS-78,,UMOL/KG,,UMOL/KG,,UMOL/KG,,UMOL/KG,,UMOL/KG,,UMOL/KG,,UMOL/KG,,PMOL/KG,,PMOL/KG,,PMOL/KG,,FMOL/KG,,UMOL/KG,,UMOL/KG,,,,DEG C,DEG C,/MILLE,,/MILLE,,/MILLE,/MILLE,,UG/KG,,UMOL/KG,,UMOL/KG,,UMOL/KG,,/MILLE,,,,,,/MILLE,,MG/M3,,,,1/M,,1/M,,1/M,,1/M,,1/M,,1/M,,1/M,,1/NM,,1/NM,,/MILLE,,/MILLE,,/MILLE,
33RR20160208,       I08S,      19,          2,          1,          1,2,20160223,       1518,   -59.5002,    82.0003,       1706,  1710.1,   0.7086,  34.7040,2,  34.7041,2,    205.8,2,   204.7,2,   133.1,2,    0.00,2,   32.43,2,    0.02,2,    2.23,2,   0.252,2,   0.128,2,   0.005,2,         0.101,2,  2264.4,6, 2358.82,2,   7.5902,6,    24.98,   0.7085, -999.00,9,  -999.0,9,  -999.0, -999.00,1,-999.000,9,  -999.0,9, -999.00,9,     -999.0,9,    4.75,2, 20160223,     1518, -59.5003,  82.0002,     -999.0,9,     -999.0,9,     -999.0,9,-999.0000,9,-999.0000,9,-999.0000,9,-999.0000,9,-999.0000,9,-999.0000,9,-999.0000,9,     -999.0,9,     -999.0,9,       2.08,2,       4.66,2,       1.87,2
33RR20160208,       I08S,      19,          2,          2,          2,2,20160223,       1518,   -59.5002,    82.0003,       1706,  1588.8,   0.8019,  34.7094,2,  34.7098,2,    204.4,2,   203.6,2,   126.0,2,    0.00,2,   32.19,2,    0.00,2,    2.22,2,-999.000,9,-999.000,9,-999.000,9,-999.000000000,9,  -999.0,9, -999.00,9,-999.0000,9,  -999.00,   0.8016, -999.00,9,  -999.0,9,  -999.0, -999.00,1,-999.000,9,  -999.0,9, -999.00,9,     -999.0,9,    4.58,2, 20160223,     1522, -59.5003,  82.0003,     -999.0,9,     -999.0,9,     -999.0,9,-999.0000,9,-999.0000,9,-999.0000,9,-999.0000,9,-999.0000,9,-999.0000,9,-999.0000,9,     -999.0,9,     -999.0,9,       1.79,2,       4.58,2,       1.79,2
33RR20160208,       I08S,      19,          2,          3,          3,2,20160223,       1518,   -59.5002,    82.0003,       1706,  1470.1,   0.8868,  34.7144,2,  34.7137,2,    202.9,2,   202.9,2,   123.5,2,    0.00,2,   32.07,2,    0.00,2,    2.22,2,   0.236,2,   0.125,2,   0.004,2,         0.147,2,  2259.8,2, 2356.92,2,   7.5937,2,    24.97,   0.8863, -999.00,9,  -999.0,9,  -999.0, -999.00,1,-999.000,9,  -999.0,9, -999.00,9,     -999.0,9,    4.67,2, 20160223,     1526, -59.5003,  82.0002,     -999.0,9,     -999.0,9,     -999.0,9,-999.0000,9,-999.0000,9,-999.0000,9,-999.0000,9,-999.0000,9,-999.0000,9,-999.0000,9,     -999.0,9,     -999.0,9,       1.85,2,       4.67,2,       1.85,2
33RR20160208,       I08S,      19,          2,          4,          4,2,20160223,       1518,   -59.5002,    82.0003,       1706,  1368.2,   0.9553,  34.7182,2,  34.7180,2,    202.5,2,   201.7,2,   119.2,2,    0.00,2,   31.92,2,    0.00,2,    2.20,2,-999.000,9,-999.000,9,-999.000,9,-999.000000000,9,  -999.0,9, -999.00,9,-999.0000,9,  -999.00,   0.9547, -999.00,9,  -999.0,9,  -999.0, -999.00,1,-999.000,9,  -999.0,9, -999.00,9,     -999.0,9,    4.66,2, 20160223,     1529, -59.5002,  82.0003,     -999.0,9,     -999.0,9,     -999.0,9,-999.0000,9,-999.0000,9,-999.0000,9,-999.0000,9,-999.0000,9,-999.0000,9,-999.0000,9,     -999.0,9,     -999.0,9,       1.88,2,       4.66,2,       1.88,2
33RR20160208,       I08S,      19,          2,          5,          5,2,20160223,       1518,   -59.5002,    82.0003,       1706,  1264.3,   1.0447,  34.7233,2,  34.7241,2,    203.4,2,   203.7,2,   110.7,2,    0.00,2,   31.56,2,    0.00,2,    2.18,2,   0.233,2,   0.123,2,   0.003,2,         0.196,2,  2256.4,2, 2356.04,2,   7.6013,2,    24.98,   1.0421, -999.00,9,  -999.0,9,  -999.0, -999.00,1,-999.000,9,  -999.0,9, -999.00,9,     -999.0,9,    4.68,2, 20160223,     1532, -59.5002,  82.0002,     -999.0,9,     -999.0,9,     -999.0,9,-999.0000,9,-999.0000,9,-999.0000,9,-999.0000,9,-999.0000,9,-999.0000,9,-999.0000,9,     -999.0,9,     -999.0,9,       1.92,2,       4.68,2,       1.92,2
33RR20160208,       I08S,      19,          2,          6,          6,2,20160223,       1518,   -59.5002,    82.0003,       1706,  1164.2,   1.1220,  34.7268,2,  34.7276,2,    202.8,2,   202.4,2,   107.2,2,    0.00,2,   31.38,2,    0.00,2,    2.15,2,-999.000,9,-999.000,9,-999.000,9,-999.000000000,9,  -999.0,9, -999.00,9,-999.0000,9,     9.00,   1.1213, -999.00,9,  -999.0,9,  -999.0, -999.00,1,-999.000,9,  -999.0,9, -999.00,9,     -999.0,9,    4.71,2, 20160223,     1535, -59.5002,  82.0003,     -999.0,9,     -999.0,9,     -999.0,9,-999.0000,9,-999.0000,9,-999.0000,9,-999.0000,9,-999.0000,9,-999.0000,9,-999.0000,9,     -999.0,9,     -999.0,9,       1.98,2,       4.71,2,       1.98,2
33RR20160208,       I08S,      19,          2,          7,          7,2,20160223,       1518,   -59.5002,    82.0003,       1706,  1063.3,   1.2235,  34.7323,2,  34.7327,2,    202.7,2,   202.3,2,   103.4,2,    0.00,2,   31.06,2,    0.00,2,    2.13,2,   0.232,2,   0.128,2,   0.005,2,         0.207,2,  2253.3,2, 2354.90,6,   7.6053,6,    24.99,   1.2234, -999.00,9,  -999.0,9,  -999.0, -999.00,1,-999.000,9,  -999.0,9, -999.00,9,     -999.0,9,     4.7,2, 20160223,     1537, -59.5002,  82.0003,     -999.0,9,     -999.0,9,     -999.0,9,-999.0000,9,-999.0000,9,-999.0000,9,-999.0000,9,-999.0000,9,-999.0000,9,-999.0000,9,     -999.0,9,     -999.0,9,       1.81,2,        4.7,2,       1.81,2
33RR20160208,       I08S,      19,          2,          8,          8,2,20160223,       1518,   -59.5002,    82.0003,       1706,   973.9,   1.2989,  34.7348,2,  34.7355,2,    201.2,2,   201.6,2,   101.2,2,    0.00,2,   31.02,2,    0.00,2,    2.15,2,-999.000,9,-999.000,9,-999.000,9,-999.000000000,9,  -999.0,9, -999.00,9,-999.0000,9,  -999.00,   1.2991, -999.00,9,  -999.0,9,  -999.0, -999.00,1,-999.000,9,  -999.0,9, -999.00,9,     -999.0,9,    4.69,2, 20160223,     1540, -59.5002,  82.0003,     -999.0,9,     -999.0,9,     -999.0,9,-999.0000,9,-999.0000,9,-999.0000,9,-999.0000,9,-999.0000,9,-999.0000,9,-999.0000,9,     -999.0,9,     -999.0,9,       1.92,2,       4.69,2,       1.92,2
33RR20160208,       I08S,      19,          2,          9,          9,2,20160223,       1518,   -59.5002,    82.0003,       1706,   865.1,   1.3950,  34.7375,2,  34.7380,2,    201.3,2,   200.3,2,    97.9,2,    0.00,2,   30.85,2,    0.00,2,    2.13,2,   0.267,2,   0.146,2,   0.007,2,         0.237,2,  2251.2,2, 2352.26,2,   7.6046,6,    24.99,   1.3954, -999.00,9,  -999.0,9,  -999.0, -999.00,1,-999.000,9,  -999.0,9, -999.00,9,     -999.0,9,    4.71,2, 20160223,     1543, -59.5002,  82.0003,     -999.0,9,     -999.0,9,     -999.0,9,-999.0000,9,-999.0000,9,-999.0000,9,-999.0000,9,-999.0000,9,-999.0000,9,-999.0000,9,     -999.0,9,     -999.0,9,       1.81,2,       4.71,2,       1.81,2
33RR20160208,       I08S,      19,          2,         10,         10,2,20160223,       1518,   -59.5002,    82.0003,       1706,   766.0,   1.5021,  34.7412,2,  34.7420,2,    199.0,2,   198.6,2,    95.1,2,    0.00,2,   30.77,2,    0.00,2,    2.11,2,-999.000,9,-999.000,9,-999.000,9,-999.000000000,9,  -999.0,9, -999.00,9,-999.0000,9,  -999.00,   1.5025, -999.00,9,  -999.0,9,  -999.0, -999.00,1,-999.000,9,  -999.0,9, -999.00,9,     -999.0,9,    4.71,2, 20160223,     1546, -59.5002,  82.0003,     -999.0,9,     -999.0,9,     -999.0,9,-999.0000,9,-999.0000,9,-999.0000,9,-999.0000,9,-999.0000,9,-999.0000,9,-999.0000,9,     -999.0,9,     -999.0,9,        1.8,2,       4.71,2,        1.8,2
33RR20160208,       I08S,      19,          2,         11,         11,2,20160223,       1518,   -59.5002,    82.0003,       1706,   675.3,   1.5756,  34.7397,2,  34.7402,2,    196.9,2,   196.0,2,    93.2,2,    0.00,2,   30.86,2,    0.00,2,    2.12,2,   0.283,2,   0.159,2,   0.011,2,         0.263,2,  2251.5,2, 2351.35,2,   7.6001,6,    24.99,   1.5754, -999.00,9,  -999.0,9,  -999.0, -999.00,1,-999.000,9,  -999.0,9, -999.00,9,     -999.0,9,    4.68,2, 20160223,     1549, -59.5002,  82.0003,     -999.0,9,     -999.0,9,     -999.0,9,-999.0000,9,-999.0000,9,-999.0000,9,-999.0000,9,-999.0000,9,-999.0000,9,-999.0000,9,     -999.0,9,     -999.0,9,       1.89,2,       4.68,2,       1.89,2
33RR20160208,       I08S,      19,          2,         12,         12,2,20160223,       1518,   -59.5002,    82.0003,       1706,   562.9,   1.6735,  34.7376,2,  34.7374,2,    192.9,2,   192.4,2,    91.1,2,    0.00,2,   31.01,2,    0.00,2,    2.14,2,-999.000,9,-999.000,9,-999.000,9,-999.000000000,9,  -999.0,9, -999.00,9,-999.0000,9,     9.00,   1.6728, -999.00,9,  -999.0,9,  -999.0, -999.00,1,-999.000,9,  -999.0,9, -999.00,9,     -999.0,9,    4.68,2, 20160223,     1552, -59.5003,  82.0003,     -999.0,9,     -999.0,9,     -999.0,9,-999.0000,9,-999.0000,9,-999.0000,9,-999.0000,9,-999.0000,9,-999.0000,9,-999.0000,9,     -999.0,9,     -999.0,9,       1.88,2,       4.68,2,       1.88,2
33RR20160208,       I08S,      19,          2,         13,         13,2,20160223,       1518,   -59.5002,    82.0003,       1706,   485.7,   1.7415,  34.7351,2,  34.7349,2,    191.0,2,   190.7,2,    90.3,2,    0.00,2,   31.25,2,    0.00,2,    2.13,2,   0.297,2,   0.164,2,   0.011,2,         0.292,2,  2250.8,2, 2348.76,2,   7.5903,2,    25.01,   1.7392, -999.00,9,  -999.0,9,  -999.0, -999.00,1,-999.000,9,  -999.0,9, -999.00,9,     -999.0,9,    4.69,2, 20160223,     1554, -59.5002,  82.0003,     -999.0,9,     -999.0,9,     -999.0,9,-999.0000,9,-999.0000,9,-999.0000,9,-999.0000,9,-999.0000,9,-999.0000,9,-999.0000,9,     -999.0,9,     -999.0,9,        1.8,2,       4.69,2,        1.8,2
33RR20160208,       I08S,      19,          2,         14,         14,2,20160223,       1518,   -59.5002,    82.0003,       1706,   433.8,   1.7845,  34.7320,2,  34.7315,2,    188.5,2,   186.4,2,    90.1,2,    0.00,2,   31.54,2,    0.00,2,    2.18,2,-999.000,9,-999.000,9,-999.000,9,-999.000000000,9,  -999.0,9, -999.00,9,-999.0000,9,  -999.00,   1.7842, -999.00,9,  -999.0,9,  -999.0, -999.00,1,-999.000,9,  -999.0,9, -999.00,9,     -999.0,9,    4.62,2, 20160223,     1557, -59.5002,  82.0002,     -999.0,9,     -999.0,9,     -999.0,9,-999.0000,9,-999.0000,9,-999.0000,9,-999.0000,9,-999.0000,9,-999.0000,9,-999.0000,9,     -999.0,9,     -999.0,9,       1.88,2,       4.62,2,       1.88,2
33RR20160208,       I08S,      19,          2,         15,         15,2,20160223,       1518,   -59.5002,    82.0003,       1706,   382.1,   1.8169,  34.7257,2,  34.7259,2,    185.0,2,   185.9,2,    89.5,2,    0.00,2,   31.83,2,    0.00,2,    2.18,2,   0.327,2,   0.176,2,   0.016,2,         0.278,2,  2254.9,2, 2347.25,2,   7.5781,2,    25.00,   1.8171, -999.00,9,  -999.0,9,  -999.0, -999.00,1,-999.000,9,  -999.0,9, -999.00,9,     -999.0,9,    4.65,2, 20160223,     1559, -59.5002,  82.0002,     -999.0,9,     -999.0,9,     -999.0,9,-999.0000,9,-999.0000,9,-999.0000,9,-999.0000,9,-999.0000,9,-999.0000,9,-999.0000,9,     -999.0,9,     -999.0,9,       1.88,2,       4.65,2,       1.88,2
33RR20160208,       I08S,      19,          2,         16,         16,2,20160223,       1518,   -59.5002,    82.0003,       1706,   333.9,   1.8319,  34.7195,2,  34.7215,2,    183.0,2,   183.7,2,    89.6,2,    0.00,2,   32.13,2,    0.00,2,    2.21,2,   0.349,2,   0.193,2,   0.016,2,         0.265,2,  2258.8,2, 2345.83,2,   7.5728,2,    25.00,   1.8322, -999.00,9,  -999.0,9,  -999.0, -999.00,1,-999.000,9,  -999.0,9, -999.00,9,     -999.0,9,    4.62,2, 20160223,     1601, -59.5002,  82.0003,     -999.0,9,     -999.0,9,     -999.0,9,-999.0000,9,-999.0000,9,-999.0000,9,-999.0000,9,-999.0000,9,-999.0000,9,-999.0000,9,     -999.0,9,     -999.0,9,       1.76,2,       4.62,2,       1.76,2
33RR20160208,       I08S,      19,          2,         17,         17,2,20160223,       1518,   -59.5002,    82.0003,       1706,   285.3,   1.8569,  34.7102,2,  34.7115,2,    179.9,2,   180.5,2,    88.8,2,    0.00,2,   32.47,2,    0.00,2,    2.24,2,   0.378,2,   0.210,2,   0.020,2,         0.273,2,  2259.9,2, 2345.33,2,   7.5663,2,    24.99,   1.8566, -999.00,9,  -999.0,9,  -999.0, -999.00,1,-999.000,9,  -999.0,9, -999.00,9,     -999.0,9,    4.73,2, 20160223,     1603, -59.5003,  82.0003,     -999.0,9,     -999.0,9,     -999.0,9,-999.0000,9,-999.0000,9,-999.0000,9,-999.0000,9,-999.0000,9,-999.0000,9,-999.0000,9,     -999.0,9,     -999.0,9,       1.97,2,       4.68,2,       1.82,2
33RR20160208,       I08S,      19,          2,         18,         37,2,20160223,       1518,   -59.5002,    82.0003,       1706,   234.1,   1.8582,  34.6960,2,  34.6966,2,    177.1,2,   176.8,2,    88.5,2,    0.00,2,   33.02,2,    0.02,2,    2.28,2,   0.448,2,   0.248,2,   0.027,2,         0.305,2,  2261.2,2, 2342.86,2,   7.5558,2,    24.99,   1.8580, -999.00,9,  -999.0,9,  -999.0, -999.00,1,-999.000,9,  -999.0,9, -999.00,9,     -999.0,9,    4.73,2, 20160223,     1605, -59.5003,  82.0002,     -999.0,9,     -999.0,9,     -999.0,9,-999.0000,9,-999.0000,9,-999.0000,9,-999.0000,9,-999.0000,9,-999.0000,9,-999.0000,9,     -999.0,9,     -999.0,9,       1.93,2,       4.63,2,       1.87,2
33RR20160208,       I08S,      19,          2,         19,         19,2,20160223,       1518,   -59.5002,    82.0003,       1706,   185.2,   1.7828,  34.6670,2,  34.6542,2,    180.5,2,   175.5,2,    87.5,2,    0.00,2,   33.56,2,    0.02,2,    2.30,2,   0.597,2,   0.324,2,   0.040,2,         0.413,2,  2262.2,2, 2340.30,2,   7.5458,2,    24.99,   1.7801, -999.00,9,  -999.0,9,  -999.0, -999.00,1,-999.000,9,  -999.0,9, -999.00,9,     -999.0,9,     4.7,2, 20160223,     1607, -59.5002,  82.0003,     -999.0,9,     -999.0,9,     -999.0,9,-999.0000,9,-999.0000,9,-999.0000,9,-999.0000,9,-999.0000,9,-999.0000,9,-999.0000,9,     -999.0,9,     -999.0,9,       1.92,2,        4.6,2,       1.76,2
33RR20160208,       I08S,      19,          2,         20,         20,2,20160223,       1518,   -59.5002,    82.0003,       1706,   135.1,   1.2727,  34.5733,2,  34.5838,2,    190.9,2,   188.5,2,    83.8,2,    0.00,2,   33.96,2,    0.05,2,    2.32,2,   1.151,2,   0.606,2,   0.098,2,         0.657,2,  2258.1,2, 2334.17,2,   7.5383,2,    25.00,   1.2685, -999.00,9,  -999.0,9,  -999.0, -999.00,1,-999.000,9,  -999.0,9, -999.00,9,     -999.0,9,    4.69,2, 20160223,     1609, -59.5003,  82.0003,     -999.0,9,     -999.0,9,     -999.0,9,-999.0000,9,-999.0000,9,-999.0000,9,-999.0000,9,-999.0000,9,-999.0000,9,-999.0000,9,     -999.0,9,     -999.0,9,       1.98,2,        4.6,2,       1.77,2
33RR20160208,       I08S,      19,          2,         21,         21,2,20160223,       1518,   -59.5002,    82.0003,       1706,    90.4,  -0.7931,  34.2454,2,  34.2399,2,    277.0,2,   270.0,2,    68.1,2,    0.36,2,   32.23,2,    0.25,2,    2.25,2,   3.629,2,   1.967,2,   0.353,2,         2.082,2,  2228.4,2, 2311.82,2,   7.5683,2,    24.99,  -0.8486, -999.00,9,  -999.0,9,  -999.0, -999.00,1,-999.000,9,  -999.0,9, -999.00,9,     -999.0,9,    4.83,2, 20160223,     1611, -59.5002,  82.0003,     -999.0,9,     -999.0,9,     -999.0,9,-999.0000,9,-999.0000,9,-999.0000,9,-999.0000,9,-999.0000,9,-999.0000,9,-999.0000,9,     -999.0,9,     -999.0,9,       3.08,2,       4.72,2,        2.2,2
33RR20160208,       I08S,      19,          2,         22,         22,2,20160223,       1518,   -59.5002,    82.0003,       1706,    65.5,  -0.0557,  33.9812,2,  33.9655,2,    313.1,2,   325.2,2,    47.4,2,    0.99,2,   27.42,2,    0.25,2,    2.01,2,   5.223,2,   2.808,2,   0.504,2,         2.942,2,  2183.0,2, 2298.81,2,   7.6591,2,    24.99,  -0.1448, -999.00,9,  -999.0,9,  -999.0, -999.00,1,-999.000,9,  -999.0,9, -999.00,9,     -999.0,9,    6.32,2, 20160223,     1613, -59.5003,  82.0003,     -999.0,9,     -999.0,9,     -999.0,9,-999.0000,9,-999.0000,9,-999.0000,9,-999.0000,9,-999.0000,9,-999.0000,9,-999.0000,9,     -999.0,9,     -999.0,9,       3.29,2,       5.72,2,       2.97,2
33RR20160208,       I08S,      19,          2,         23,         23,2,20160223,       1518,   -59.5002,    82.0003,       1706,    40.3,   1.3647,  33.8675,2,  33.8701,2,    337.1,2,   337.2,2,    34.2,2,    0.31,2,   25.02,2,    0.24,2,    1.64,2,   5.331,2,   2.923,2,   0.531,2,         3.259,2,  2158.8,2, 2293.22,2,   7.7113,2,    24.99,   1.3648, -999.00,9,  -999.0,9,  -999.0, -999.00,1,-999.000,9,  -999.0,9, -999.00,9,     -999.0,9,    7.13,2, 20160223,     1615, -59.5002,  82.0003,     -999.0,9,     -999.0,9,     -999.0,9,-999.0000,9,-999.0000,9,-999.0000,9,-999.0000,9,-999.0000,9,-999.0000,9,-999.0000,9,     -999.0,9,     -999.0,9,       3.57,2,        6.4,2,       3.47,2
33RR20160208,       I08S,      19,          2,         24,         24,2,20160223,       1518,   -59.5002,    82.0003,       1706,    21.0,   1.4195,  33.8547,2,  33.8548,2,    337.5,2,   336.9,2,    32.5,2,    0.30,2,   24.59,2,    0.22,2,    1.59,2,   5.312,2,   2.888,2,   0.528,2,          3.13,2,  2156.4,2, 2293.26,2,   7.7151,6,    25.00,   1.4183, -999.00,9,  -999.0,9,  -999.0, -999.00,1,-999.000,9,  -999.0,9, -999.00,9,     -999.0,9,    7.29,2, 20160223,     1617, -59.5002,  82.0003,     -999.0,9,     -999.0,9,     -999.0,9,-999.0000,9,-999.0000,9,-999.0000,9,-999.0000,9,-999.0000,9,-999.0000,9,-999.0000,9,     -999.0,9,     -999.0,9,        3.7,2,       6.54,2,       3.58,2
33RR20160208,       I08S,      19,          2,         25,         25,2,20160223,       1518,   -59.5002,    82.0003,       1706,     5.1,   1.5224,  33.8523,2,  33.8554,2,    337.0,2,   336.9,2,    32.4,2,    0.30,2,   24.51,2,    0.22,2,    1.58,2,   5.286,2,   2.895,2,   0.527,2,          3.06,2,  2158.1,6, 2294.83,2,   7.7149,6,    24.99,   1.5228, -999.00,9,  -999.0,9,  -999.0, -999.00,1,-999.000,9,  -999.0,9, -999.00,9,     -999.0,9,    7.31,2, 20160223,     1619, -59.5002,  82.0004,     -999.0,9,     -999.0,9,     -999.0,9,-999.0000,9,-999.0000,9,-999.0000,9,-999.0000,9,-999.0000,9,-999.0000,9,-999.0000,9,     -999.0,9,     -999.0,9,       3.77,2,       6.57,2,       3.55,2