BOTTLE,20220706CCHSIOAMB
EXPOCODE,SECT_ID,STNNBR,CASTNO,SAMPNO,BTLNBR,BTLNBR_FLAG_W,DATE,TIME,LATITUDE,LONGITUDE,DEPTH,CTDPRS,CTDTMP,CTDSAL,CTDSAL_FLAG_W,SALNTY,SALNTY_FLAG_W,CTDOXY,CTDOXY_FLAG_W,OXYGEN,OXYGEN_FLAG_W,SILCAT,SILCAT_FLAG_W,NH4,NH4_FLAG_W,NITRAT,NITRAT_FLAG_W,NITRIT,NITRIT_FLAG_W,PHSPHT,PHSPHT_FLAG_W,CFC-11,CFC-11_FLAG_W,CFC-12,CFC-12_FLAG_W,CFC113,CFC113_FLAG_W,SF6,SF6_FLAG_W,TCARBN,TCARBN_FLAG_W,ALKALI,ALKALI_FLAG_W,PH_TOT,PH_TOT_FLAG_W,PH_TMP,REFTMP,DELC13,DELC13_FLAG_W,DELC14,DELC14_FLAG_W,C14ERR,DELO18,DELO18_FLAG_W,POC,POC_FLAG_W,DOC,DOC_FLAG_W,TDN,TDN_FLAG_W,TON,TON_FLAG_W,D15N_NO3,D15N_NO3_FLAG_W,BTL_DATE,BTL_TIME,BTL_LAT,BTL_LON,14C-DOC,14C-DOC_FLAG_W,CHLORA,CHLORA_FLAG_W,HPLC,HPLC_FLAG_W,CDOM325,CDOM325_FLAG_W,CDOM340,CDOM340_FLAG_W,CDOM380,CDOM380_FLAG_W,CDOM412,CDOM412_FLAG_W,CDOM443,CDOM443_FLAG_W,CDOM490,CDOM490_FLAG_W,CDOM555,CDOM555_FLAG_W,CDOMSL,CDOMSL_FLAG_W,CDOMSN,CDOMSN_FLAG_W,D18O_NO3,D18O_NO3_FLAG_W,D15N_NO2+NO3,D15N_NO2+NO3_FLAG_W,D18O_NO2+NO3,D18O_NO2+NO3_FLAG_W
,,,,,,,,,,,METERS,DBAR,ITS-90,PSS-78,,PSS-78,,UMOL/KG,,UMOL/KG,,UMOL/KG,,UMOL/KG,,UMOL/KG,,UMOL/KG,,UMOL/KG,,PMOL/KG,,PMOL/KG,,PMOL/KG,,FMOL/KG,,UMOL/KG,,UMOL/KG,,,,DEG C,DEG C,/MILLE,,/MILLE,,/MILLE,/MILLE,,UG/KG,,UMOL/KG,,UMOL/KG,,UMOL/KG,,/MILLE,,,,,,/MILLE,,MG/M3,,,,1/M,,1/M,,1/M,,1/M,,1/M,,1/M,,1/M,,1/NM,,1/NM,,/MILLE,,/MILLE,,/MILLE,
33RR20160208,       I08S,      49,          1,          1,          1,2,20160303,       0602,   -46.5551,    93.5393,       3454,  3455.2,   1.0534,  34.7155,2,  34.7053,4,    207.7,2,   207.4,2,   115.6,2,    0.00,2,   31.87,2,    0.00,2,    2.22,2,   0.293,2,   0.151,2,   0.013,2,         0.059,2,  2258.0,6, 2362.56,2,   7.6079,2,    25.02,   1.0526, -999.00,9,  -999.0,9,  -999.0, -999.00,9,-999.000,9,  -999.0,9, -999.00,9,     -999.0,9, -999.00,9, 20160303,      602, -46.5551,  93.5393,     -999.0,9,     -999.0,9,     -999.0,9,   0.1234,2,   0.0836,2,   0.0367,2,   0.0237,2,   0.0134,2,   0.0043,2,   0.0009,2,     0.0207,2,     0.0221,2,     -999.0,9,     -999.0,9,     -999.0,9
33RR20160208,       I08S,      49,          1,          2,          2,2,20160303,       0602,   -46.5551,    93.5393,       3454,  3197.1,   1.1054,  34.7193,2,  34.7085,4,    206.8,2,   207.6,2,   113.7,2,    0.00,2,   31.74,2,    0.00,2,    2.20,2,   0.271,2,   0.148,2,   0.010,2,         0.052,2,  2254.8,2, 2363.22,2,   7.6090,2,    25.00,   1.1051, -999.00,9,  -999.0,9,  -999.0, -999.00,9,-999.000,9,  -999.0,9, -999.00,9,     -999.0,9, -999.00,9, 20160303,      608, -46.5551,  93.5393,     -999.0,9,     -999.0,9,     -999.0,9,-999.0000,9,-999.0000,9,-999.0000,9,-999.0000,9,-999.0000,9,-999.0000,9,-999.0000,9,     -999.0,9,     -999.0,9,     -999.0,9,     -999.0,9,     -999.0,9
33RR20160208,       I08S,      49,          1,          3,          3,2,20160303,       0602,   -46.5551,    93.5393,       3454,  2936.2,   1.3757,  34.7328,2,  34.7227,4,    203.8,2,   203.7,2,   105.5,2,    0.00,2,   31.27,2,    0.00,2,    2.17,2,-999.000,9,-999.000,9,-999.000,9,-999.000000000,9,  -999.0,9, -999.00,9,-999.0000,9,  -999.00,   1.3750, -999.00,9,  -999.0,9,  -999.0, -999.00,9,-999.000,9,  -999.0,9, -999.00,9,     -999.0,9, -999.00,9, 20160303,      613, -46.5551,  93.5393,     -999.0,9,     -999.0,9,     -999.0,9,   0.1191,2,   0.0774,2,   0.0345,2,   0.0234,2,   0.0133,2,   0.0043,2,   0.0008,2,     0.0205,2,     0.0231,2,     -999.0,9,     -999.0,9,     -999.0,9
33RR20160208,       I08S,      49,          1,          4,          4,2,20160303,       0602,   -46.5551,    93.5393,       3454,  2734.1,   1.5471,  34.7409,2,  34.7289,4,    202.8,2,   202.2,2,   100.0,2,    0.00,2,   30.93,2,    0.00,2,    2.15,2,   0.119,2,   0.063,2,   0.000,2,         0.052,2,  2250.7,2, 2360.82,6,   7.6176,2,    25.00,   1.5467, -999.00,9,  -999.0,9,  -999.0, -999.00,9,-999.000,9,  -999.0,9, -999.00,9,     -999.0,9, -999.00,9, 20160303,      618, -46.5551,  93.5393,     -999.0,9,     -999.0,9,     -999.0,9,-999.0000,9,-999.0000,9,-999.0000,9,-999.0000,9,-999.0000,9,-999.0000,9,-999.0000,9,     -999.0,9,     -999.0,9,     -999.0,9,     -999.0,9,     -999.0,9
33RR20160208,       I08S,      49,          1,          5,          5,2,20160303,       0602,   -46.5551,    93.5393,       3454,  2534.2,   1.7855,  34.7510,2,  34.7396,4,    200.9,2,   201.3,2,    92.1,2,    0.00,2,   30.45,2,    0.00,2,    2.11,2,-999.000,9,-999.000,9,-999.000,9,-999.000000000,9,  -999.0,9, -999.00,9,-999.0000,9,     9.00,   1.7852, -999.00,9,  -999.0,9,  -999.0, -999.00,9,-999.000,9,  -999.0,9, -999.00,9,     -999.0,9, -999.00,9, 20160303,      622, -46.5551,  93.5393,     -999.0,9,     -999.0,9,     -999.0,9,-999.0000,9,-999.0000,9,-999.0000,9,-999.0000,9,-999.0000,9,-999.0000,9,-999.0000,9,     -999.0,9,     -999.0,9,     -999.0,9,     -999.0,9,     -999.0,9
33RR20160208,       I08S,      49,          1,          6,         38,2,20160303,       0602,   -46.5551,    93.5393,       3454,  2333.5,   1.9740,  34.7556,2,  34.7444,4,    199.7,2,   199.3,2,    85.5,2,    0.00,2,   30.13,2,    0.00,2,    2.09,2,   0.110,2,   0.060,2,   0.000,2,         0.045,2,  -999.0,9, -999.00,9,-999.0000,9,  -999.00,   1.9739, -999.00,9,  -999.0,9,  -999.0, -999.00,9,-999.000,9,  -999.0,9, -999.00,9,     -999.0,9, -999.00,9, 20160303,      627, -46.5551,  93.5393,     -999.0,9,     -999.0,9,     -999.0,9,-999.0000,9,-999.0000,9,-999.0000,9,-999.0000,9,-999.0000,9,-999.0000,9,-999.0000,9,     -999.0,9,     -999.0,9,     -999.0,9,     -999.0,9,     -999.0,9
33RR20160208,       I08S,      49,          1,          7,          7,2,20160303,       0602,   -46.5551,    93.5393,       3454,  2132.4,   2.1453,  34.7532,2,  34.7420,4,    197.5,2,   197.4,2,    79.9,2,    0.00,2,   30.10,2,    0.00,2,    2.09,2,-999.000,9,-999.000,9,-999.000,9,-999.000000000,9,  2240.6,2, 2350.21,2,   7.6185,6,    25.01,   2.1441, -999.00,9,  -999.0,9,  -999.0, -999.00,9,-999.000,9,  -999.0,9, -999.00,9,     -999.0,9, -999.00,9, 20160303,      632, -46.5551,  93.5393,     -999.0,9,     -999.0,9,     -999.0,9,   0.1331,2,   0.0838,2,   0.0364,2,   0.0252,2,   0.0143,2,   0.0044,2,   0.0009,2,     0.0213,2,     0.0244,2,     -999.0,9,     -999.0,9,     -999.0,9
33RR20160208,       I08S,      49,          1,          8,          8,2,20160303,       0602,   -46.5551,    93.5393,       3454,  1934.4,   2.3039,  34.7387,2,  34.7279,4,    192.9,2,   193.0,2,    75.9,2,    0.00,2,   30.39,2,    0.00,2,    2.11,2,   0.154,2,   0.050,2,   0.002,2,         0.029,2,  -999.0,9, -999.00,9,-999.0000,9,     9.00,   2.3035, -999.00,9,  -999.0,9,  -999.0, -999.00,9,-999.000,9,  -999.0,9, -999.00,9,     -999.0,9, -999.00,9, 20160303,      636, -46.5551,  93.5393,     -999.0,9,     -999.0,9,     -999.0,9,-999.0000,9,-999.0000,9,-999.0000,9,-999.0000,9,-999.0000,9,-999.0000,9,-999.0000,9,     -999.0,9,     -999.0,9,     -999.0,9,     -999.0,9,     -999.0,9
33RR20160208,       I08S,      49,          1,          9,          9,2,20160303,       0602,   -46.5551,    93.5393,       3454,  1765.1,   2.4132,  34.7143,2,  34.7027,4,    187.6,2,   187.0,2,    74.1,2,    0.00,2,   31.07,2,    0.00,2,    2.15,2,   0.192,2,   0.035,2,   0.003,2,         0.013,2,  -999.0,9, -999.00,9,-999.0000,9,  -999.00,   2.4133, -999.00,9,  -999.0,9,  -999.0, -999.00,9,-999.000,9,  -999.0,9, -999.00,9,     -999.0,9, -999.00,9, 20160303,      640, -46.5551,  93.5393,     -999.0,9,     -999.0,9,     -999.0,9,-999.0000,9,-999.0000,9,-999.0000,9,-999.0000,9,-999.0000,9,-999.0000,9,-999.0000,9,     -999.0,9,     -999.0,9,     -999.0,9,     -999.0,9,     -999.0,9
33RR20160208,       I08S,      49,          1,         10,         10,2,20160303,       0602,   -46.5551,    93.5393,       3454,  1666.0,   2.4854,  34.6917,2,  34.6799,4,    184.3,2,   184.8,2,    72.6,2,    0.00,2,   31.60,2,    0.00,2,    2.19,2,   0.255,2,   0.036,2,   0.007,2,         0.101,2,  -999.0,9, -999.00,9,-999.0000,9,  -999.00,   2.4850, -999.00,9,  -999.0,9,  -999.0, -999.00,9,-999.000,9,  -999.0,9, -999.00,9,     -999.0,9, -999.00,9, 20160303,      643, -46.5551,  93.5393,     -999.0,9,     -999.0,9,     -999.0,9,-999.0000,9,-999.0000,9,-999.0000,9,-999.0000,9,-999.0000,9,-999.0000,9,-999.0000,9,     -999.0,9,     -999.0,9,     -999.0,9,     -999.0,9,     -999.0,9
33RR20160208,       I08S,      49,          1,         11,         11,2,20160303,       0602,   -46.5551,    93.5393,       3454,  1564.9,   2.5422,  34.6651,2,  34.6511,4,    181.1,2,   181.2,2,    71.4,2,    0.00,2,   32.16,2,    0.00,2,    2.23,2,   0.310,2,   0.028,2,   0.010,2,         0.049,2,  2242.0,2, 2339.78,2,   7.5821,6,    25.01,   2.5421, -999.00,9,  -999.0,9,  -999.0, -999.00,9,-999.000,9,  -999.0,9, -999.00,9,     -999.0,9, -999.00,9, 20160303,      646, -46.5551,  93.5393,     -999.0,9,     -999.0,9,     -999.0,9,   0.1188,2,   0.0761,2,   0.0340,2,   0.0244,2,   0.0142,2,   0.0044,2,   0.0008,2,     0.0204,2,     0.0234,2,     -999.0,9,     -999.0,9,     -999.0,9
33RR20160208,       I08S,      49,          1,         12,         12,2,20160303,       0602,   -46.5551,    93.5393,       3454,  1465.4,   2.5936,  34.6352,2,  34.6206,4,    178.1,2,   178.6,2,    70.5,2,    0.00,2,   32.75,2,    0.00,2,    2.28,2,   0.391,2,   0.037,2,   0.015,2,         0.112,2,  -999.0,9, -999.00,9,-999.0000,9,  -999.00,   2.5934, -999.00,9,  -999.0,9,  -999.0, -999.00,9,-999.000,9,  -999.0,9, -999.00,9,     -999.0,9, -999.00,9, 20160303,      649, -46.5552,  93.5393,     -999.0,9,     -999.0,9,     -999.0,9,-999.0000,9,-999.0000,9,-999.0000,9,-999.0000,9,-999.0000,9,-999.0000,9,-999.0000,9,     -999.0,9,     -999.0,9,     -999.0,9,     -999.0,9,     -999.0,9
33RR20160208,       I08S,      49,          1,         13,         13,2,20160303,       0602,   -46.5551,    93.5393,       3454,  1365.6,   2.6482,  34.5959,2,  34.5834,4,    176.3,2,   176.6,2,    68.8,2,    0.00,2,   33.38,2,    0.00,2,    2.33,2,   0.520,2,   0.067,2,   0.026,2,         0.139,2,  2245.1,2, 2334.68,2,   7.5652,2,    25.01,   2.6483, -999.00,9,  -999.0,9,  -999.0, -999.00,9,-999.000,9,  -999.0,9, -999.00,9,     -999.0,9, -999.00,9, 20160303,      652, -46.5551,  93.5393,     -999.0,9,     -999.0,9,     -999.0,9,-999.0000,9,-999.0000,9,-999.0000,9,-999.0000,9,-999.0000,9,-999.0000,9,-999.0000,9,     -999.0,9,     -999.0,9,     -999.0,9,     -999.0,9,     -999.0,9
33RR20160208,       I08S,      49,          1,         14,         14,2,20160303,       0602,   -46.5551,    93.5393,       3454,  1264.8,   2.7694,  34.5586,2,  34.5443,4,    175.7,2,   175.2,2,    66.1,2,    0.00,2,   33.76,2,    0.00,2,    2.34,2,   0.623,2,   0.083,2,   0.032,2,           0.2,2,  -999.0,9, -999.00,9,-999.0000,9,     9.00,   2.7694, -999.00,9,  -999.0,9,  -999.0, -999.00,9,-999.000,9,  -999.0,9, -999.00,9,     -999.0,9, -999.00,9, 20160303,      655, -46.5551,  93.5393,     -999.0,9,     -999.0,9,     -999.0,9,-999.0000,9,-999.0000,9,-999.0000,9,-999.0000,9,-999.0000,9,-999.0000,9,-999.0000,9,     -999.0,9,     -999.0,9,     -999.0,9,     -999.0,9,     -999.0,9
33RR20160208,       I08S,      49,          1,         15,         15,2,20160303,       0602,   -46.5551,    93.5393,       3454,  1164.6,   2.8815,  34.5259,2,  34.5126,4,    176.5,2,   176.7,2,    63.5,2,    0.00,2,   33.96,2,    0.00,2,    2.37,2,   0.753,2,   0.108,2,   0.041,2,         0.163,2,  2242.8,2, 2328.51,2,   7.5617,2,    24.98,   2.8817, -999.00,9,  -999.0,9,  -999.0, -999.00,9,-999.000,9,  -999.0,9, -999.00,9,     -999.0,9, -999.00,9, 20160303,      657, -46.5551,  93.5393,     -999.0,9,     -999.0,9,     -999.0,9,-999.0000,9,-999.0000,9,-999.0000,9,-999.0000,9,-999.0000,9,-999.0000,9,-999.0000,9,     -999.0,9,     -999.0,9,     -999.0,9,     -999.0,9,     -999.0,9
33RR20160208,       I08S,      49,          1,         16,         16,2,20160303,       0602,   -46.5551,    93.5393,       3454,  1065.0,   3.0251,  34.4829,2,  34.4684,4,    178.7,2,   178.5,2,    59.2,2,    0.00,2,   33.97,2,    0.00,2,    2.38,2,   0.985,2,   0.179,2,   0.057,2,         0.214,2,  -999.0,9, -999.00,9,-999.0000,9,  -999.00,   3.0254, -999.00,9,  -999.0,9,  -999.0, -999.00,9,-999.000,9,  -999.0,9, -999.00,9,     -999.0,9, -999.00,9, 20160303,      700, -46.5551,  93.5393,     -999.0,9,     -999.0,9,     -999.0,9,   0.1173,2,   0.0789,2,   0.0346,2,   0.0243,2,   0.0142,2,   0.0043,2,   0.0008,2,     0.0204,2,     0.0222,2,     -999.0,9,     -999.0,9,     -999.0,9
33RR20160208,       I08S,      49,          1,         17,         17,2,20160303,       0602,   -46.5551,    93.5393,       3454,   966.0,   3.1914,  34.4297,2,  34.4158,4,    185.1,2,   184.7,2,    53.4,2,    0.00,2,   33.72,2,    0.00,2,    2.35,2,   1.308,2,   0.296,2,   0.077,2,         0.308,2,  2229.2,2, 2317.74,2,   7.5668,6,    25.01,   3.1945, -999.00,9,  -999.0,9,  -999.0, -999.00,9,-999.000,9,  -999.0,9, -999.00,9,     -999.0,9, -999.00,9, 20160303,      703, -46.5551,  93.5393,     -999.0,9,     -999.0,9,     -999.0,9,-999.0000,9,-999.0000,9,-999.0000,9,-999.0000,9,-999.0000,9,-999.0000,9,-999.0000,9,     -999.0,9,     -999.0,9,     -999.0,9,     -999.0,9,     -999.0,9
33RR20160208,       I08S,      49,          1,         18,         37,2,20160303,       0602,   -46.5551,    93.5393,       3454,   871.7,   3.3781,  34.3778,2,  34.3636,4,    194.4,2,   193.9,2,    46.3,2,    0.00,2,   33.15,2,    0.00,2,    2.30,2,   1.783,2,   0.491,2,   0.114,2,         0.476,2,  -999.0,9, -999.00,9,-999.0000,9,  -999.00,   3.3808, -999.00,9,  -999.0,9,  -999.0, -999.00,9,-999.000,9,  -999.0,9, -999.00,9,     -999.0,9, -999.00,9, 20160303,      706, -46.5551,  93.5393,     -999.0,9,     -999.0,9,     -999.0,9,-999.0000,9,-999.0000,9,-999.0000,9,-999.0000,9,-999.0000,9,-999.0000,9,-999.0000,9,     -999.0,9,     -999.0,9,     -999.0,9,     -999.0,9,     -999.0,9
33RR20160208,       I08S,      49,          1,         19,         19,2,20160303,       0602,   -46.5551,    93.5393,       3454,   763.8,   3.5432,  34.3079,2,  34.2963,4,    209.5,2,   209.2,2,    37.3,2,    0.00,2,   32.12,2,    0.00,2,    2.23,2,   2.422,2,   0.783,2,   0.163,2,         0.683,2,  2205.1,2, 2302.66,2,   7.5917,2,    25.00,   3.5402, -999.00,9,  -999.0,9,  -999.0, -999.00,9,-999.000,9,  -999.0,9, -999.00,9,     -999.0,9, -999.00,9, 20160303,      709, -46.5553,  93.5394,     -999.0,9,     -999.0,9,     -999.0,9,   0.0966,2,   0.0610,2,   0.0281,2,   0.0197,2,   0.0114,2,   0.0033,2,   0.0003,3,     0.0200,2,     0.0233,2,     -999.0,9,     -999.0,9,     -999.0,9
33RR20160208,       I08S,      49,          1,         20,         20,2,20160303,       0602,   -46.5551,    93.5393,       3454,   664.3,   3.6682,  34.2270,2,  34.2141,4,    229.1,2,   229.2,2,    28.3,2,    0.00,2,   30.74,2,    0.00,2,    2.12,2,   3.164,2,   1.165,2,   0.229,2,          1.16,2,  -999.0,9, -999.00,9,-999.0000,9,     9.00,   3.6678, -999.00,9,  -999.0,9,  -999.0, -999.00,9,-999.000,9,  -999.0,9, -999.00,9,     -999.0,9, -999.00,9, 20160303,      712, -46.5551,  93.5393,     -999.0,9,     -999.0,9,     -999.0,9,-999.0000,9,-999.0000,9,-999.0000,9,-999.0000,9,-999.0000,9,-999.0000,9,-999.0000,9,     -999.0,9,     -999.0,9,     -999.0,9,     -999.0,9,     -999.0,9
33RR20160208,       I08S,      49,          1,         21,         21,2,20160303,       0602,   -46.5551,    93.5393,       3454,   565.3,   4.6235,  34.2680,2,  34.2432,4,    231.6,2,   228.8,2,    21.6,2,    0.00,2,   28.94,2,    0.00,2,    1.99,2,   3.179,2,   1.157,2,   0.226,2,         1.129,2,  2181.2,2, 2288.22,2,   7.6304,2,    25.00,   4.6100, -999.00,9,  -999.0,9,  -999.0, -999.00,9,-999.000,9,  -999.0,9, -999.00,9,     -999.0,9, -999.00,9, 20160303,      714, -46.5551,  93.5393,     -999.0,9,     -999.0,9,     -999.0,9,-999.0000,9,-999.0000,9,-999.0000,9,-999.0000,9,-999.0000,9,-999.0000,9,-999.0000,9,     -999.0,9,     -999.0,9,     -999.0,9,     -999.0,9,     -999.0,9
33RR20160208,       I08S,      49,          1,         22,         22,2,20160303,       0602,   -46.5551,    93.5393,       3454,   484.8,   5.1958,  34.2740,2,  34.2572,4,    232.7,2,   230.3,2,    18.5,2,    0.00,2,   27.58,2,    0.00,2,    1.89,2,   3.373,2,   1.238,2,   0.235,2,         1.286,2,  -999.0,9, -999.00,9,-999.0000,9,  -999.00,   5.1964, -999.00,9,  -999.0,9,  -999.0, -999.00,9,-999.000,9,  -999.0,9, -999.00,9,     -999.0,9, -999.00,9, 20160303,      717, -46.5551,  93.5394,     -999.0,9,     -999.0,9,     -999.0,9,   0.0874,2,   0.0535,2,   0.0235,2,   0.0173,2,   0.0099,2,   0.0028,2,   0.0003,4,     0.0209,2,     0.0251,2,     -999.0,9,     -999.0,9,     -999.0,9
33RR20160208,       I08S,      49,          1,         23,         23,2,20160303,       0602,   -46.5551,    93.5393,       3454,   434.6,   5.7578,  34.2981,2,  34.2818,4,    229.1,2,   230.6,2,    15.6,2,    0.00,2,   26.17,2,    0.00,2,    1.80,2,-999.000,9,-999.000,9,-999.000,9,-999.000000000,9,  2168.7,2, 2285.28,2,   7.6587,6,    25.02,   5.7606, -999.00,9,  -999.0,9,  -999.0, -999.00,9,-999.000,9,  -999.0,9, -999.00,9,     -999.0,9, -999.00,9, 20160303,      719, -46.5551,  93.5393,     -999.0,9,     -999.0,9,     -999.0,9,-999.0000,9,-999.0000,9,-999.0000,9,-999.0000,9,-999.0000,9,-999.0000,9,-999.0000,9,     -999.0,9,     -999.0,9,     -999.0,9,     -999.0,9,     -999.0,9
33RR20160208,       I08S,      49,          1,         24,         24,2,20160303,       0602,   -46.5551,    93.5393,       3454,   385.1,   6.0468,  34.2746,2,  34.2780,4,    238.0,2,   236.2,2,    13.0,2,    0.00,2,   24.87,2,    0.00,2,    1.71,2,   3.457,2,   1.272,2,   0.229,2,         1.451,2,  -999.0,9, -999.00,9,-999.0000,9,  -999.00,   6.0574, -999.00,9,  -999.0,9,  -999.0, -999.00,9,-999.000,9,  -999.0,9, -999.00,9,     -999.0,9, -999.00,9, 20160303,      721, -46.5551,  93.5393,     -999.0,9,     -999.0,9,     -999.0,9,   0.0855,2,   0.0523,2,   0.0221,2,   0.0163,2,   0.0091,2,   0.0025,2,  -0.0000,4,     0.0216,2,     0.0258,2,     -999.0,9,     -999.0,9,     -999.0,9
33RR20160208,       I08S,      49,          1,         25,         25,2,20160303,       0602,   -46.5551,    93.5393,       3454,   336.0,   6.1062,  34.2252,2,  34.2049,4,    256.9,2,   255.4,2,     9.9,2,    0.00,2,   23.43,2,    0.00,2,    1.60,2,-999.000,9,-999.000,9,-999.000,9,-999.000000000,9,  2151.9,2, 2281.61,2,   7.6961,6,    25.00,   6.1256, -999.00,9,  -999.0,9,  -999.0, -999.00,9,-999.000,9,  -999.0,9, -999.00,9,     -999.0,9, -999.00,9, 20160303,      723, -46.5551,  93.5393,     -999.0,9,     -999.0,9,     -999.0,9,-999.0000,9,-999.0000,9,-999.0000,9,-999.0000,9,-999.0000,9,-999.0000,9,-999.0000,9,     -999.0,9,     -999.0,9,     -999.0,9,     -999.0,9,     -999.0,9
33RR20160208,       I08S,      49,          1,         26,         26,2,20160303,       0602,   -46.5551,    93.5393,       3454,   287.4,   6.4027,  34.1993,2,  34.1919,4,    263.9,2,   266.6,2,     8.5,2,    0.00,2,   21.60,2,    0.00,2,    1.50,2,   3.809,2,   1.491,2,   0.294,2,         2.054,2,  -999.0,9, -999.00,9,-999.0000,9,     9.00,   6.4642, -999.00,9,  -999.0,9,  -999.0, -999.00,9,-999.000,9,  -999.0,9, -999.00,9,     -999.0,9, -999.00,9, 20160303,      725, -46.5551,  93.5393,     -999.0,9,     -999.0,9,     -999.0,9,   0.0802,2,   0.0489,2,   0.0204,2,   0.0148,2,   0.0083,2,   0.0021,2,  -0.0001,4,     0.0219,2,     0.0262,2,     -999.0,9,     -999.0,9,     -999.0,9
33RR20160208,       I08S,      49,          1,         27,         27,2,20160303,       0602,   -46.5551,    93.5393,       3454,   235.1,   7.0467,  34.2744,2,  34.2522,4,    272.2,2,   267.3,2,     8.6,2,    0.00,2,   20.02,2,    0.00,2,    1.41,2,-999.000,9,-999.000,9,-999.000,9,-999.000000000,9,  2133.4,2, 2281.22,2,   7.7391,2,    24.99,   7.0747, -999.00,9,  -999.0,9,  -999.0, -999.00,9,-999.000,9,  -999.0,9, -999.00,9,     -999.0,9, -999.00,9, 20160303,      727, -46.5551,  93.5393,     -999.0,9,     -999.0,9,     -999.0,9,-999.0000,9,-999.0000,9,-999.0000,9,-999.0000,9,-999.0000,9,-999.0000,9,-999.0000,9,     -999.0,9,     -999.0,9,     -999.0,9,     -999.0,9,     -999.0,9