BOTTLE,20220706CCHSIOAMB
EXPOCODE,SECT_ID,STNNBR,CASTNO,SAMPNO,BTLNBR,BTLNBR_FLAG_W,DATE,TIME,LATITUDE,LONGITUDE,DEPTH,CTDPRS,CTDTMP,CTDSAL,CTDSAL_FLAG_W,SALNTY,SALNTY_FLAG_W,CTDOXY,CTDOXY_FLAG_W,OXYGEN,OXYGEN_FLAG_W,SILCAT,SILCAT_FLAG_W,NH4,NH4_FLAG_W,NITRAT,NITRAT_FLAG_W,NITRIT,NITRIT_FLAG_W,PHSPHT,PHSPHT_FLAG_W,CFC-11,CFC-11_FLAG_W,CFC-12,CFC-12_FLAG_W,CFC113,CFC113_FLAG_W,SF6,SF6_FLAG_W,TCARBN,TCARBN_FLAG_W,ALKALI,ALKALI_FLAG_W,PH_TOT,PH_TOT_FLAG_W,PH_TMP,REFTMP,DELC13,DELC13_FLAG_W,DELC14,DELC14_FLAG_W,C14ERR,DELO18,DELO18_FLAG_W,POC,POC_FLAG_W,DOC,DOC_FLAG_W,TDN,TDN_FLAG_W,TON,TON_FLAG_W,D15N_NO3,D15N_NO3_FLAG_W,BTL_DATE,BTL_TIME,BTL_LAT,BTL_LON,14C-DOC,14C-DOC_FLAG_W,CHLORA,CHLORA_FLAG_W,HPLC,HPLC_FLAG_W,CDOM325,CDOM325_FLAG_W,CDOM340,CDOM340_FLAG_W,CDOM380,CDOM380_FLAG_W,CDOM412,CDOM412_FLAG_W,CDOM443,CDOM443_FLAG_W,CDOM490,CDOM490_FLAG_W,CDOM555,CDOM555_FLAG_W,CDOMSL,CDOMSL_FLAG_W,CDOMSN,CDOMSN_FLAG_W,D18O_NO3,D18O_NO3_FLAG_W,D15N_NO2+NO3,D15N_NO2+NO3_FLAG_W,D18O_NO2+NO3,D18O_NO2+NO3_FLAG_W
,,,,,,,,,,,METERS,DBAR,ITS-90,PSS-78,,PSS-78,,UMOL/KG,,UMOL/KG,,UMOL/KG,,UMOL/KG,,UMOL/KG,,UMOL/KG,,UMOL/KG,,PMOL/KG,,PMOL/KG,,PMOL/KG,,FMOL/KG,,UMOL/KG,,UMOL/KG,,,,DEG C,DEG C,/MILLE,,/MILLE,,/MILLE,/MILLE,,UG/KG,,UMOL/KG,,UMOL/KG,,UMOL/KG,,/MILLE,,,,,,/MILLE,,MG/M3,,,,1/M,,1/M,,1/M,,1/M,,1/M,,1/M,,1/M,,1/NM,,1/NM,,/MILLE,,/MILLE,,/MILLE,
33RR20160208,       I08S,      74,          1,          1,          1,2,20160309,       2029,   -33.0189,    94.9739,       4213,  4237.0,   1.1116,  34.7155,2,  34.7186,4,    204.6,2,   204.7,2,   118.1,2,    0.00,2,   31.97,2,    0.00,2,    2.19,2,   0.054,2,   0.036,2,   0.000,2,   0.028471213,2,  2269.4,6, 2375.99,2,   7.6207,2,    24.98,   1.1113,    0.51,2,  -162.3,2,     1.8, -999.00,9,-999.000,9,    39.7,2, -999.00,9,     -999.0,1, -999.00,9, 20160309,     2029, -33.0189,  94.9739,     -999.0,9,     -999.0,9,     -999.0,9,-999.0000,9,-999.0000,9,-999.0000,9,-999.0000,9,-999.0000,9,-999.0000,9,-999.0000,9,     -999.0,9,     -999.0,9,     -999.0,9,     -999.0,9,     -999.0,9
33RR20160208,       I08S,      74,          1,          2,          2,2,20160309,       2029,   -33.0189,    94.9739,       4213,  3912.7,   1.1247,  34.7178,2,  34.7174,2,    203.7,2,   204.5,2,   117.0,2,    0.00,2,   31.91,2,    0.00,2,    2.15,2,   0.049,2,   0.042,2,   0.000,2,   0.035589017,2,  2265.8,2, 2374.31,2,   7.6193,2,    24.99,   1.1242,    0.52,2,  -164.9,2,     2.0, -999.00,9,-999.000,9,    38.7,2, -999.00,9,     -999.0,1, -999.00,9, 20160309,     2036, -33.0188,  94.9739,     -999.0,9,     -999.0,9,     -999.0,9,-999.0000,9,-999.0000,9,-999.0000,9,-999.0000,9,-999.0000,9,-999.0000,9,-999.0000,9,     -999.0,9,     -999.0,9,     -999.0,9,     -999.0,9,     -999.0,9
33RR20160208,       I08S,      74,          1,          3,          3,2,20160309,       2029,   -33.0189,    94.9739,       4213,  3601.9,   1.2389,  34.7239,2,  34.7231,2,    202.5,2,   202.9,2,   113.2,2,    0.00,2,   31.68,2,    0.00,2,    2.16,2,-999.000,9,-999.000,9,-999.000,9,-999.000000000,9,  2260.6,2, 2371.60,2,   7.6171,2,    25.00,   1.2391,    0.54,2,  -158.8,2,     3.5, -999.00,9,-999.000,9,    38.4,2, -999.00,9,     -999.0,1, -999.00,9, 20160309,     2042, -33.0189,  94.9739,     -999.0,9,     -999.0,9,     -999.0,9,-999.0000,9,-999.0000,9,-999.0000,9,-999.0000,9,-999.0000,9,-999.0000,9,-999.0000,9,     -999.0,9,     -999.0,9,     -999.0,9,     -999.0,9,     -999.0,9
33RR20160208,       I08S,      74,          1,          4,          4,2,20160309,       2029,   -33.0189,    94.9739,       4213,  3299.8,   1.4148,  34.7315,2,  34.7306,2,    200.4,2,   201.1,2,   107.8,2,    0.00,2,   31.33,2,    0.00,2,    2.15,2,   0.037,2,   0.027,2,   0.000,2,   0.017286094,2,  2258.3,2, 2366.46,2,   7.6159,2,    24.99,   1.4151,    0.61,2,  -153.9,2,     2.6, -999.00,9,-999.000,9,    38.7,2, -999.00,9,     -999.0,1, -999.00,9, 20160309,     2048, -33.0189,  94.9739,     -999.0,9,     -999.0,9,     -999.0,9,-999.0000,9,-999.0000,9,-999.0000,9,-999.0000,9,-999.0000,9,-999.0000,9,-999.0000,9,     -999.0,9,     -999.0,9,     -999.0,9,     -999.0,9,     -999.0,9
33RR20160208,       I08S,      74,          1,          5,          5,2,20160309,       2029,   -33.0189,    94.9739,       4213,  2999.1,   1.6340,  34.7379,2,  34.7368,2,    197.0,2,   197.2,2,   101.5,2,    0.00,2,   31.10,2,    0.00,2,    2.16,2,-999.000,9,-999.000,9,-999.000,9,-999.000000000,9,  2257.4,2, 2364.09,2,   7.6158,2,    24.99,   1.6344,    0.59,2,  -159.4,2,     1.9, -999.00,9,-999.000,9,    39.3,2, -999.00,9,     -999.0,1, -999.00,9, 20160309,     2054, -33.0189,  94.9740,     -999.0,9,     -999.0,9,     -999.0,9,-999.0000,9,-999.0000,9,-999.0000,9,-999.0000,9,-999.0000,9,-999.0000,9,-999.0000,9,     -999.0,9,     -999.0,9,     -999.0,9,     -999.0,9,     -999.0,9
33RR20160208,       I08S,      74,          1,          6,         38,2,20160309,       2029,   -33.0189,    94.9739,       4213,  2733.3,   1.8610,  34.7397,2,  34.7394,2,    192.3,2,   192.8,2,    95.7,2,    0.00,2,   31.02,2,    0.00,2,    2.15,2,   0.031,2,   0.020,2,   0.000,2,   0.030504872,2,  2253.6,2, 2361.58,2,   7.6130,2,    24.99,   1.8610,    0.57,2,  -156.0,2,     2.0, -999.00,9,-999.000,9,    39.5,2, -999.00,9,     -999.0,1, -999.00,9, 20160309,     2100, -33.0189,  94.9739,     -999.0,9,     -999.0,9,     -999.0,9,-999.0000,9,-999.0000,9,-999.0000,9,-999.0000,9,-999.0000,9,-999.0000,9,-999.0000,9,     -999.0,9,     -999.0,9,     -999.0,9,     -999.0,9,     -999.0,9
33RR20160208,       I08S,      74,          1,          7,          7,2,20160309,       2029,   -33.0189,    94.9739,       4213,  2497.1,   2.0853,  34.7330,2,  34.7325,2,    184.9,2,   185.5,2,    92.2,2,    0.00,2,   31.37,2,    0.00,2,    2.17,2,-999.000,9,-999.000,9,-999.000,9,-999.000000000,9,  2255.5,2, 2358.79,2,   7.6058,2,    25.00,   2.0853,    0.59,2,  -160.9,2,     2.0, -999.00,9,-999.000,9,    39.0,2, -999.00,9,     -999.0,1, -999.00,9, 20160309,     2105, -33.0189,  94.9739,     -999.0,9,     -999.0,9,     -999.0,9,-999.0000,9,-999.0000,9,-999.0000,9,-999.0000,9,-999.0000,9,-999.0000,9,-999.0000,9,     -999.0,9,     -999.0,9,     -999.0,9,     -999.0,9,     -999.0,9
33RR20160208,       I08S,      74,          1,          8,          8,2,20160309,       2029,   -33.0189,    94.9739,       4213,  2248.8,   2.3611,  34.7094,2,  34.7086,2,    173.6,2,   173.9,2,    90.8,2,    0.00,2,   32.30,2,    0.00,2,    2.25,2,   0.035,2,   0.019,2,   0.000,2,             0,2,  2263.0,2, 2360.62,2,   7.5907,2,    24.99,   2.3611,    0.53,2,  -169.2,2,     1.9, -999.00,9,-999.000,9,    38.4,2, -999.00,9,     -999.0,1, -999.00,9, 20160309,     2110, -33.0189,  94.9739,     -999.0,9,     -999.0,9,     -999.0,9,-999.0000,9,-999.0000,9,-999.0000,9,-999.0000,9,-999.0000,9,-999.0000,9,-999.0000,9,     -999.0,9,     -999.0,9,     -999.0,9,     -999.0,9,     -999.0,9
33RR20160208,       I08S,      74,          1,          9,          9,2,20160309,       2029,   -33.0189,    94.9739,       4213,  2000.5,   2.5993,  34.6776,2,  34.6766,2,    163.9,2,   163.7,2,    88.8,2,    0.00,2,   33.25,2,    0.00,2,    2.31,2,-999.000,9,-999.000,9,-999.000,9,-999.000000000,9,  2267.3,2, 2359.33,2,   7.5772,2,    24.99,   2.5995,    0.49,2,  -170.3,2,     2.2, -999.00,9,-999.000,9,    38.0,2, -999.00,9,     -999.0,1, -999.00,9, 20160309,     2115, -33.0189,  94.9740,     -999.0,9,     -999.0,9,     -999.0,9,-999.0000,9,-999.0000,9,-999.0000,9,-999.0000,9,-999.0000,9,-999.0000,9,-999.0000,9,     -999.0,9,     -999.0,9,     -999.0,9,     -999.0,9,     -999.0,9
33RR20160208,       I08S,      74,          1,         10,         10,2,20160309,       2029,   -33.0189,    94.9739,       4213,  1799.5,   2.8773,  34.6291,2,  34.6287,2,    157.0,2,   157.4,2,    83.9,2,    0.00,2,   34.04,2,    0.00,2,    2.38,2,-999.000,5,-999.000,5,-999.000,5,-999.000000000,5,  2267.3,2, 2355.79,2,   7.5643,2,    25.01,   2.8776,    0.48,2,  -171.4,2,     2.1, -999.00,9,-999.000,9,    37.5,2, -999.00,9,     -999.0,1, -999.00,9, 20160309,     2120, -33.0189,  94.9740,     -999.0,9,     -999.0,9,     -999.0,9,-999.0000,9,-999.0000,9,-999.0000,9,-999.0000,9,-999.0000,9,-999.0000,9,-999.0000,9,     -999.0,9,     -999.0,9,     -999.0,9,     -999.0,9,     -999.0,9
33RR20160208,       I08S,      74,          1,         11,         11,2,20160309,       2029,   -33.0189,    94.9739,       4213,  1700.9,   3.0137,  34.6002,2,  34.6003,2,    155.6,2,   155.4,2,    80.1,2,    0.00,2,   34.33,2,    0.00,2,    2.38,2,-999.000,5,-999.000,5,-999.000,5,-999.000000000,5,  2264.6,2, 2351.27,2,   7.5598,2,    24.99,   3.0142,    0.53,2,  -164.6,6,     2.8, -999.00,9,-999.000,9,    38.1,2, -999.00,9,     -999.0,1, -999.00,9, 20160309,     2123, -33.0189,  94.9739,     -999.0,9,     -999.0,9,     -999.0,9,-999.0000,9,-999.0000,9,-999.0000,9,-999.0000,9,-999.0000,9,-999.0000,9,-999.0000,9,     -999.0,9,     -999.0,9,     -999.0,9,     -999.0,9,     -999.0,9
33RR20160208,       I08S,      74,          1,         12,         12,2,20160309,       2029,   -33.0189,    94.9739,       4213,  1597.8,   3.1407,  34.5780,2,  34.5764,2,    154.3,2,   154.0,2,    77.8,2,    0.00,2,   34.56,2,    0.00,2,    2.40,2,-999.000,5,-999.000,5,-999.000,5,-999.000000000,5,  2264.0,6, 2349.44,2,   7.5578,2,    24.98,   3.1388,    0.56,2,  -157.0,2,     2.2, -999.00,9,-999.000,9,    37.1,2, -999.00,9,     -999.0,1, -999.00,9, 20160309,     2125, -33.0188,  94.9740,     -999.0,9,     -999.0,9,     -999.0,9,-999.0000,9,-999.0000,9,-999.0000,9,-999.0000,9,-999.0000,9,-999.0000,9,-999.0000,9,     -999.0,9,     -999.0,9,     -999.0,9,     -999.0,9,     -999.0,9
33RR20160208,       I08S,      74,          1,         13,         13,2,20160309,       2029,   -33.0189,    94.9739,       4213,  1499.1,   3.3582,  34.5462,2,  34.5452,2,    153.6,2,   153.7,2,    74.2,2,    0.00,2,   34.70,2,    0.00,2,    2.40,2,-999.000,5,-999.000,5,-999.000,5,-999.000000000,5,  2259.0,2, 2344.80,2,   7.5561,2,    25.00,   3.3585,    0.55,2,  -152.5,2,     2.0, -999.00,9,-999.000,9,    37.9,2, -999.00,9,     -999.0,1, -999.00,9, 20160309,     2128, -33.0189,  94.9739,     -999.0,9,     -999.0,9,     -999.0,9,-999.0000,9,-999.0000,9,-999.0000,9,-999.0000,9,-999.0000,9,-999.0000,9,-999.0000,9,     -999.0,9,     -999.0,9,     -999.0,9,     -999.0,9,     -999.0,9
33RR20160208,       I08S,      74,          1,         14,         14,2,20160309,       2029,   -33.0189,    94.9739,       4213,  1399.0,   3.5199,  34.5238,2,  34.5232,2,    154.8,2,   155.1,2,    70.2,2,    0.00,2,   34.55,2,    0.00,2,    2.39,2,-999.000,5,-999.000,5,-999.000,5,-999.000000000,5,  2254.2,2, 2339.01,2,   7.5579,2,    24.99,   3.5199,    0.62,2,  -143.2,2,     2.1, -999.00,9,-999.000,9,    39.6,2, -999.00,9,     -999.0,1, -999.00,9, 20160309,     2131, -33.0188,  94.9740,     -999.0,9,     -999.0,9,     -999.0,9,-999.0000,9,-999.0000,9,-999.0000,9,-999.0000,9,-999.0000,9,-999.0000,9,-999.0000,9,     -999.0,9,     -999.0,9,     -999.0,9,     -999.0,9,     -999.0,9
33RR20160208,       I08S,      74,          1,         15,         15,2,20160309,       2029,   -33.0189,    94.9739,       4213,  1301.1,   3.7293,  34.4906,2,  34.4895,2,    160.6,2,   159.7,2,    64.0,2,    0.00,2,   34.27,2,    0.00,2,    2.39,2,-999.000,5,-999.000,5,-999.000,5,-999.000000000,5,  2247.5,2, 2332.13,2,   7.5637,6,    24.98,   3.7289,    0.64,2,  -137.9,2,     1.9, -999.00,9,-999.000,9,    39.0,2, -999.00,9,     -999.0,1, -999.00,9, 20160309,     2133, -33.0189,  94.9739,     -999.0,9,     -999.0,9,     -999.0,9,-999.0000,9,-999.0000,9,-999.0000,9,-999.0000,9,-999.0000,9,-999.0000,9,-999.0000,9,     -999.0,9,     -999.0,9,     -999.0,9,     -999.0,9,     -999.0,9
33RR20160208,       I08S,      74,          1,         16,         16,2,20160309,       2029,   -33.0189,    94.9739,       4213,  1200.0,   3.9200,  34.4583,2,  34.4579,2,    167.1,2,   166.6,2,    57.1,2,    0.00,2,   33.64,2,    0.00,2,    2.32,2,-999.000,5,-999.000,5,-999.000,5,-999.000000000,5,  2237.3,2, 2326.60,2,   7.5724,2,    24.99,   3.9199,    0.73,2,  -126.0,2,     1.8, -999.00,9,-999.000,9,    37.4,2, -999.00,9,     -999.0,1, -999.00,9, 20160309,     2136, -33.0188,  94.9740,     -999.0,9,     -999.0,9,     -999.0,9,-999.0000,9,-999.0000,9,-999.0000,9,-999.0000,9,-999.0000,9,-999.0000,9,-999.0000,9,     -999.0,9,     -999.0,9,     -999.0,9,     -999.0,9,     -999.0,9
33RR20160208,       I08S,      74,          1,         17,         17,2,20160309,       2029,   -33.0189,    94.9739,       4213,  1098.8,   4.1553,  34.4254,2,  34.4252,2,    175.7,2,   175.8,2,    48.8,2,    0.00,2,   32.84,2,    0.00,2,    2.27,2,-999.000,5,-999.000,5,-999.000,5,-999.000000000,5,  2226.7,2, 2317.29,2,   7.5839,2,    24.99,   4.1552,    0.72,2,  -110.9,2,     2.1, -999.00,9,-999.000,9,    38.7,2, -999.00,9,     -999.0,1, -999.00,9, 20160309,     2139, -33.0188,  94.9740,     -999.0,9,     -999.0,9,     -999.0,9,-999.0000,9,-999.0000,9,-999.0000,9,-999.0000,9,-999.0000,9,-999.0000,9,-999.0000,9,     -999.0,9,     -999.0,9,     -999.0,9,     -999.0,9,     -999.0,9
33RR20160208,       I08S,      74,          1,         18,         37,2,20160309,       2029,   -33.0189,    94.9739,       4213,  1001.0,   4.4205,  34.3961,2,  34.3956,2,    186.9,2,   185.1,2,    40.3,2,    0.00,2,   31.72,2,    0.00,2,    2.16,2,-999.000,5,-999.000,5,-999.000,5,-999.000000000,5,  2213.2,2, 2308.48,2,   7.5990,2,    24.99,   4.4201,    0.80,2,   -90.2,2,     1.9, -999.00,9,-999.000,9,    38.5,2, -999.00,9,     -999.0,1, -999.00,9, 20160309,     2141, -33.0188,  94.9740,     -999.0,9,     -999.0,9,     -999.0,9,-999.0000,9,-999.0000,9,-999.0000,9,-999.0000,9,-999.0000,9,-999.0000,9,-999.0000,9,     -999.0,9,     -999.0,9,     -999.0,9,     -999.0,9,     -999.0,9
33RR20160208,       I08S,      74,          1,         19,         19,2,20160309,       2029,   -33.0189,    94.9739,       4213,   902.1,   5.0860,  34.3783,2,  34.3774,2,    196.3,2,   196.1,2,    29.0,2,    0.00,2,   29.84,2,    0.00,2,    2.02,2,-999.000,5,-999.000,5,-999.000,5,-999.000000000,5,  2195.5,2, 2298.50,6,   7.6216,2,    24.98,   5.0863,    0.89,2,   -68.9,2,     2.2, -999.00,9,-999.000,9,    40.3,2, -999.00,9,     -999.0,1, -999.00,9, 20160309,     2144, -33.0189,  94.9740,     -999.0,9,     -999.0,9,     -999.0,9,-999.0000,9,-999.0000,9,-999.0000,9,-999.0000,9,-999.0000,9,-999.0000,9,-999.0000,9,     -999.0,9,     -999.0,9,     -999.0,9,     -999.0,9,     -999.0,9
33RR20160208,       I08S,      74,          1,         20,         20,2,20160309,       2029,   -33.0189,    94.9739,       4213,   804.9,   6.7245,  34.4475,2,  34.4499,2,    203.5,2,   202.6,2,    17.2,2,    0.00,2,   25.84,2,    0.00,2,    1.73,2,-999.000,5,-999.000,5,-999.000,5,-999.000000000,5,  2170.5,2, 2290.58,2,   7.6648,2,    24.99,   6.7307,    0.99,2,   -29.4,2,     2.6, -999.00,9,-999.000,9,    40.6,2, -999.00,9,     -999.0,1, -999.00,9, 20160309,     2147, -33.0189,  94.9740,     -999.0,9,     -999.0,9,     -999.0,9,-999.0000,9,-999.0000,9,-999.0000,9,-999.0000,9,-999.0000,9,-999.0000,9,-999.0000,9,     -999.0,9,     -999.0,9,     -999.0,9,     -999.0,9,     -999.0,9
33RR20160208,       I08S,      74,          1,         21,         21,2,20160309,       2029,   -33.0189,    94.9739,       4213,   702.7,   8.4228,  34.5757,2,  34.5744,2,    223.8,2,   221.3,2,     8.0,2,    0.00,2,   20.39,2,    0.00,2,    1.38,2,-999.000,5,-999.000,5,-999.000,5,-999.000000000,5,  2146.3,2, 2290.32,2,   7.7257,2,    24.99,   8.4224,    1.04,2,    18.6,2,     2.3, -999.00,9,-999.000,9,    41.0,2, -999.00,9,     -999.0,1, -999.00,9, 20160309,     2149, -33.0188,  94.9740,     -999.0,9,     -999.0,9,     -999.0,9,-999.0000,9,-999.0000,9,-999.0000,9,-999.0000,9,-999.0000,9,-999.0000,9,-999.0000,9,     -999.0,9,     -999.0,9,     -999.0,9,     -999.0,9,     -999.0,9
33RR20160208,       I08S,      74,          1,         22,         22,2,20160309,       2029,   -33.0189,    94.9739,       4213,   602.6,   9.4150,  34.6838,2,  34.6833,2,    238.5,2,   238.5,2,     4.1,2,    0.00,2,   16.18,2,    0.00,2,    1.10,2,-999.000,5,-999.000,5,-999.000,5,-999.000000000,5,  2131.3,2, 2292.97,2,   7.7667,6,    25.00,   9.4153,    1.03,2,    17.5,2,     2.4, -999.00,9,-999.000,9,    42.4,2, -999.00,9,     -999.0,1, -999.00,9, 20160309,     2152, -33.0188,  94.9740,     -999.0,9,     -999.0,9,     -999.0,9,-999.0000,9,-999.0000,9,-999.0000,9,-999.0000,9,-999.0000,9,-999.0000,9,-999.0000,9,     -999.0,9,     -999.0,9,     -999.0,9,     -999.0,9,     -999.0,9
33RR20160208,       I08S,      74,          1,         23,         23,2,20160309,       2029,   -33.0189,    94.9739,       4213,   501.4,  10.1255,  34.7847,2,  34.7824,2,    244.3,2,   242.9,2,     3.2,2,    0.00,2,   13.57,2,    0.00,2,    0.96,2,-999.000,5,-999.000,5,-999.000,5,-999.000000000,5,  2127.0,2, 2298.20,2,   7.7915,6,    25.01,  10.1245,    1.06,2,    30.6,2,     2.2, -999.00,9,-999.000,9,    44.3,2, -999.00,9,     -999.0,1, -999.00,9, 20160309,     2155, -33.0188,  94.9739,     -999.0,9,     -999.0,9,     -999.0,9,-999.0000,9,-999.0000,9,-999.0000,9,-999.0000,9,-999.0000,9,-999.0000,9,-999.0000,9,     -999.0,9,     -999.0,9,     -999.0,9,     -999.0,9,     -999.0,9
33RR20160208,       I08S,      74,          1,         24,         24,2,20160309,       2029,   -33.0189,    94.9739,       4213,   452.8,  10.4364,  34.8309,2,  34.8305,2,    241.0,2,   244.8,2,     2.9,2,    0.00,2,   12.42,2,    0.00,2,    0.88,2,-999.000,5,-999.000,5,-999.000,5,-999.000000000,5,  2124.9,6, 2299.80,2,   7.8024,2,    25.01,  10.4372, -999.00,9,  -999.0,9,  -999.0, -999.00,9,-999.000,9,    45.5,2, -999.00,9,     -999.0,1, -999.00,9, 20160309,     2157, -33.0189,  94.9739,     -999.0,9,     -999.0,9,     -999.0,9,-999.0000,9,-999.0000,9,-999.0000,9,-999.0000,9,-999.0000,9,-999.0000,9,-999.0000,9,     -999.0,9,     -999.0,9,     -999.0,9,     -999.0,9,     -999.0,9
33RR20160208,       I08S,      74,          1,         25,         25,2,20160309,       2029,   -33.0189,    94.9739,       4213,   401.7,  10.8843,  34.9014,2,  34.8974,2,    239.0,2,   241.2,2,     2.6,2,    0.00,2,   11.45,2,    0.00,2,    0.81,2,-999.000,5,-999.000,5,-999.000,5,-999.000000000,5,  2122.2,2, 2303.80,2,   7.8108,2,    25.01,  10.8862,    0.94,2,    28.9,2,     2.7, -999.00,9,-999.000,9,    46.5,2, -999.00,9,     -999.0,1, -999.00,9, 20160309,     2159, -33.0189,  94.9739,     -999.0,9,     -999.0,9,     -999.0,9,-999.0000,9,-999.0000,9,-999.0000,9,-999.0000,9,-999.0000,9,-999.0000,9,-999.0000,9,     -999.0,9,     -999.0,9,     -999.0,9,     -999.0,9,     -999.0,9
33RR20160208,       I08S,      74,          1,         26,         26,2,20160309,       2029,   -33.0189,    94.9739,       4213,   350.9,  11.4403,  34.9863,2,  34.9809,2,    238.0,2,   240.1,2,     2.6,2,    0.00,2,   10.49,2,    0.00,2,    0.74,2,-999.000,5,-999.000,5,-999.000,5,-999.000000000,5,  2122.3,2, 2307.04,2,   7.8225,2,    25.02,  11.4392,    0.98,2,    38.4,2,     2.4, -999.00,9,-999.000,9,    46.1,2, -999.00,9,     -999.0,1, -999.00,9, 20160309,     2200, -33.0188,  94.9739,     -999.0,9,     -999.0,9,     -999.0,9,-999.0000,9,-999.0000,9,-999.0000,9,-999.0000,9,-999.0000,9,-999.0000,9,-999.0000,9,     -999.0,9,     -999.0,9,     -999.0,9,     -999.0,9,     -999.0,9
33RR20160208,       I08S,      74,          1,         27,         27,2,20160309,       2029,   -33.0189,    94.9739,       4213,   299.4,  12.1742,  35.1011,2,  35.1008,2,    231.2,2,   234.0,2,     2.0,2,    0.00,2,    8.91,2,    0.00,2,    0.64,2,-999.000,5,-999.000,5,-999.000,5,-999.000000000,5,  2120.7,2, 2313.62,2,   7.8369,2,    25.01,  12.1663,    0.98,2,    31.7,2,     2.6, -999.00,9,-999.000,9,    46.3,2,   11.20,2,     -999.0,1, -999.00,9, 20160309,     2202, -33.0189,  94.9739,     -999.0,9,     -999.0,9,     -999.0,9,-999.0000,9,-999.0000,9,-999.0000,9,-999.0000,9,-999.0000,9,-999.0000,9,-999.0000,9,     -999.0,9,     -999.0,9,     -999.0,9,     -999.0,9,     -999.0,9