BOTTLE,20220706CCHSIOAMB
EXPOCODE,SECT_ID,STNNBR,CASTNO,SAMPNO,BTLNBR,BTLNBR_FLAG_W,DATE,TIME,LATITUDE,LONGITUDE,DEPTH,CTDPRS,CTDTMP,CTDSAL,CTDSAL_FLAG_W,SALNTY,SALNTY_FLAG_W,CTDOXY,CTDOXY_FLAG_W,OXYGEN,OXYGEN_FLAG_W,SILCAT,SILCAT_FLAG_W,NH4,NH4_FLAG_W,NITRAT,NITRAT_FLAG_W,NITRIT,NITRIT_FLAG_W,PHSPHT,PHSPHT_FLAG_W,CFC-11,CFC-11_FLAG_W,CFC-12,CFC-12_FLAG_W,CFC113,CFC113_FLAG_W,SF6,SF6_FLAG_W,TCARBN,TCARBN_FLAG_W,ALKALI,ALKALI_FLAG_W,PH_TOT,PH_TOT_FLAG_W,PH_TMP,REFTMP,DELC13,DELC13_FLAG_W,DELC14,DELC14_FLAG_W,C14ERR,DELO18,DELO18_FLAG_W,POC,POC_FLAG_W,DOC,DOC_FLAG_W,TDN,TDN_FLAG_W,TON,TON_FLAG_W,D15N_NO3,D15N_NO3_FLAG_W,BTL_DATE,BTL_TIME,BTL_LAT,BTL_LON,14C-DOC,14C-DOC_FLAG_W,CHLORA,CHLORA_FLAG_W,HPLC,HPLC_FLAG_W,CDOM325,CDOM325_FLAG_W,CDOM340,CDOM340_FLAG_W,CDOM380,CDOM380_FLAG_W,CDOM412,CDOM412_FLAG_W,CDOM443,CDOM443_FLAG_W,CDOM490,CDOM490_FLAG_W,CDOM555,CDOM555_FLAG_W,CDOMSL,CDOMSL_FLAG_W,CDOMSN,CDOMSN_FLAG_W,D18O_NO3,D18O_NO3_FLAG_W,D15N_NO2+NO3,D15N_NO2+NO3_FLAG_W,D18O_NO2+NO3,D18O_NO2+NO3_FLAG_W
,,,,,,,,,,,METERS,DBAR,ITS-90,PSS-78,,PSS-78,,UMOL/KG,,UMOL/KG,,UMOL/KG,,UMOL/KG,,UMOL/KG,,UMOL/KG,,UMOL/KG,,PMOL/KG,,PMOL/KG,,PMOL/KG,,FMOL/KG,,UMOL/KG,,UMOL/KG,,,,DEG C,DEG C,/MILLE,,/MILLE,,/MILLE,/MILLE,,UG/KG,,UMOL/KG,,UMOL/KG,,UMOL/KG,,/MILLE,,,,,,/MILLE,,MG/M3,,,,1/M,,1/M,,1/M,,1/M,,1/M,,1/M,,1/M,,1/NM,,1/NM,,/MILLE,,/MILLE,,/MILLE,
33RR20160208,       I08S,      27,          1,          1,          1,2,20160225,       0611,   -56.8970,    83.3052,       4600,  4605.8,   0.0224,  34.6602,2,  34.6597,2,    233.3,2,   233.3,2,   130.4,2,    0.00,2,   32.31,2,    0.00,2,    2.27,2,   1.408,2,   0.701,2,   0.099,2,   0.370476592,2,  2257.7,6, 2353.94,2,   7.5904,2,    25.01,   0.0222, -999.00,9,  -999.0,9,  -999.0, -999.00,9,-999.000,9,  -999.0,9, -999.00,9,     -999.0,9, -999.00,9, 20160225,      611, -56.8970,  83.3052,     -999.0,9,     -999.0,9,     -999.0,9,   0.1100,2,   0.0742,2,   0.0438,2,   0.0255,2,   0.0142,2,   0.0044,2,   0.0008,3,     0.0158,2,     0.0174,2,     -999.0,9,     -999.0,9,     -999.0,9
33RR20160208,       I08S,      27,          1,          2,          2,2,20160225,       0611,   -56.8970,    83.3052,       4600,  4296.2,   0.0324,  34.6630,2,  34.6623,2,    231.9,2,   232.0,2,   127.5,2,    0.00,2,   32.33,2,    0.00,2,    2.27,2,   1.316,6,   0.654,6,   0.092,6,    0.28747364,6,  -999.0,9, -999.00,9,-999.0000,9,  -999.00,   0.0320, -999.00,9,  -999.0,9,  -999.0, -999.00,9,-999.000,9,  -999.0,9, -999.00,9,     -999.0,9, -999.00,9, 20160225,      618, -56.8970,  83.3052,     -999.0,9,     -999.0,9,     -999.0,9,-999.0000,9,-999.0000,9,-999.0000,9,-999.0000,9,-999.0000,9,-999.0000,9,-999.0000,9,     -999.0,9,     -999.0,9,     -999.0,9,     -999.0,9,     -999.0,9
33RR20160208,       I08S,      27,          1,          3,          3,2,20160225,       0611,   -56.8970,    83.3052,       4600,  4003.9,   0.0637,  34.6665,2,  34.6654,2,    230.2,2,   230.0,2,   127.1,2,    0.00,2,   32.25,2,    0.00,2,    2.27,2,   1.170,2,   0.577,2,   0.080,2,   0.283424715,2,  -999.0,9, -999.00,9,-999.0000,9,     9.00,   0.0634, -999.00,9,  -999.0,9,  -999.0, -999.00,9,-999.000,9,  -999.0,9, -999.00,9,     -999.0,9, -999.00,9, 20160225,      624, -56.8970,  83.3052,     -999.0,9,     -999.0,9,     -999.0,9,   0.1075,2,   0.0723,2,   0.0426,2,   0.0237,2,   0.0128,2,   0.0037,2,   0.0003,4,     0.0160,2,     0.0176,2,     -999.0,9,     -999.0,9,     -999.0,9
33RR20160208,       I08S,      27,          1,          4,          4,2,20160225,       0611,   -56.8970,    83.3052,       4600,  3697.2,   0.1214,  34.6708,2,  34.6699,2,    227.6,2,   227.3,2,   126.6,2,    0.00,2,   32.26,2,    0.00,2,    2.27,2,   0.967,2,   0.487,2,   0.063,2,   0.250021088,2,  2254.1,2, 2355.92,2,   7.5931,6,    24.99,   0.1210, -999.00,9,  -999.0,9,  -999.0, -999.00,9,-999.000,9,  -999.0,9, -999.00,9,     -999.0,9, -999.00,9, 20160225,      630, -56.8970,  83.3052,     -999.0,9,     -999.0,9,     -999.0,9,-999.0000,9,-999.0000,9,-999.0000,9,-999.0000,9,-999.0000,9,-999.0000,9,-999.0000,9,     -999.0,9,     -999.0,9,     -999.0,9,     -999.0,9,     -999.0,9
33RR20160208,       I08S,      27,          1,          5,          5,2,20160225,       0611,   -56.8970,    83.3052,       4600,  3401.5,   0.1865,  34.6747,2,  34.6745,2,    225.2,2,   225.9,2,   125.8,2,    0.00,2,   32.37,2,    0.00,2,    2.28,2,   0.787,2,   0.401,2,   0.046,2,    0.18017714,2,  -999.0,9, -999.00,9,-999.0000,9,  -999.00,   0.1864, -999.00,9,  -999.0,9,  -999.0, -999.00,9,-999.000,9,  -999.0,9, -999.00,9,     -999.0,9, -999.00,9, 20160225,      637, -56.8970,  83.3052,     -999.0,9,     -999.0,9,     -999.0,9,-999.0000,9,-999.0000,9,-999.0000,9,-999.0000,9,-999.0000,9,-999.0000,9,-999.0000,9,     -999.0,9,     -999.0,9,     -999.0,9,     -999.0,9,     -999.0,9
33RR20160208,       I08S,      27,          1,          6,         38,2,20160225,       0611,   -56.8970,    83.3052,       4600,  3099.4,   0.2719,  34.6790,2,  34.6788,2,    221.8,2,   220.7,2,   124.9,2,    0.00,2,   32.53,2,    0.00,2,    2.30,2,   0.603,2,   0.310,2,   0.034,2,   0.118431042,2,  -999.0,9, -999.00,9,-999.0000,9,     9.00,   0.2718, -999.00,9,  -999.0,9,  -999.0, -999.00,9,-999.000,9,  -999.0,9, -999.00,9,     -999.0,9, -999.00,9, 20160225,      643, -56.8970,  83.3052,     -999.0,9,     -999.0,9,     -999.0,9,-999.0000,9,-999.0000,9,-999.0000,9,-999.0000,9,-999.0000,9,-999.0000,9,-999.0000,9,     -999.0,9,     -999.0,9,     -999.0,9,     -999.0,9,     -999.0,9
33RR20160208,       I08S,      27,          1,          7,          7,2,20160225,       0611,   -56.8970,    83.3052,       4600,  2834.1,   0.3569,  34.6831,2,  34.6823,2,    218.7,2,   217.5,2,   123.4,2,    0.00,2,   32.46,2,    0.00,2,    2.28,2,   0.492,2,   0.257,2,   0.021,2,   0.093125264,2,  -999.0,9, -999.00,9,-999.0000,9,  -999.00,   0.3565, -999.00,9,  -999.0,9,  -999.0, -999.00,9,-999.000,9,  -999.0,9, -999.00,9,     -999.0,9, -999.00,9, 20160225,      649, -56.8970,  83.3052,     -999.0,9,     -999.0,9,     -999.0,9,   0.1088,2,   0.0759,2,   0.0508,2,   0.0245,2,   0.0125,2,   0.0032,2,   0.0001,4,     0.0140,2,     0.0146,2,     -999.0,9,     -999.0,9,     -999.0,9
33RR20160208,       I08S,      27,          1,          8,          8,2,20160225,       0611,   -56.8970,    83.3052,       4600,  2586.7,   0.4740,  34.6882,2,  34.6878,2,    213.8,2,   213.9,2,   120.8,2,    0.00,2,   32.50,2,    0.00,2,    2.29,2,   0.385,2,   0.199,2,   0.013,2,    0.07186841,2,  -999.0,9, -999.00,9,-999.0000,9,  -999.00,   0.4734, -999.00,9,  -999.0,9,  -999.0, -999.00,9,-999.000,9,  -999.0,9, -999.00,9,     -999.0,9, -999.00,9, 20160225,      654, -56.8970,  83.3052,     -999.0,9,     -999.0,9,     -999.0,9,-999.0000,9,-999.0000,9,-999.0000,9,-999.0000,9,-999.0000,9,-999.0000,9,-999.0000,9,     -999.0,9,     -999.0,9,     -999.0,9,     -999.0,9,     -999.0,9
33RR20160208,       I08S,      27,          1,          9,          9,2,20160225,       0611,   -56.8970,    83.3052,       4600,  2338.4,   0.5971,  34.6948,2,  34.6954,2,    211.3,2,   211.1,2,   117.6,2,    0.00,2,   32.30,2,    0.00,2,    2.26,2,   0.364,2,   0.187,2,   0.013,2,   0.104259806,2,  -999.0,9, -999.00,9,-999.0000,9,     9.00,   0.5974, -999.00,9,  -999.0,9,  -999.0, -999.00,9,-999.000,9,  -999.0,9, -999.00,9,     -999.0,9, -999.00,9, 20160225,      659, -56.8970,  83.3052,     -999.0,9,     -999.0,9,     -999.0,9,-999.0000,9,-999.0000,9,-999.0000,9,-999.0000,9,-999.0000,9,-999.0000,9,-999.0000,9,     -999.0,9,     -999.0,9,     -999.0,9,     -999.0,9,     -999.0,9
33RR20160208,       I08S,      27,          1,         10,         10,2,20160225,       0611,   -56.8970,    83.3052,       4600,  2088.0,   0.7470,  34.7037,2,  34.7033,2,    208.7,2,   209.0,2,   114.0,2,    0.00,2,   31.99,2,    0.00,2,    2.25,2,   0.311,2,   0.163,2,   0.017,2,   0.178152678,2,  2258.0,2, 2357.79,6,   7.5957,6,    25.01,   0.7471, -999.00,9,  -999.0,9,  -999.0, -999.00,9,-999.000,9,  -999.0,9, -999.00,9,     -999.0,9, -999.00,9, 20160225,      705, -56.8970,  83.3052,     -999.0,9,     -999.0,9,     -999.0,9,   0.1102,2,   0.0719,2,   0.0359,2,   0.0227,2,   0.0126,2,   0.0036,2,   0.0002,4,     0.0188,2,     0.0212,2,     -999.0,9,     -999.0,9,     -999.0,9
33RR20160208,       I08S,      27,          1,         11,         11,2,20160225,       0611,   -56.8970,    83.3052,       4600,  1877.3,   0.9046,  34.7120,2,  34.7115,2,    207.9,2,   207.7,2,   109.0,2,    0.00,2,   31.60,2,    0.00,2,    2.22,2,   0.317,2,   0.169,2,   0.018,2,   0.137663433,2,  -999.0,9, -999.00,9,-999.0000,9,  -999.00,   0.9042, -999.00,9,  -999.0,9,  -999.0, -999.00,9,-999.000,9,  -999.0,9, -999.00,9,     -999.0,9, -999.00,9, 20160225,      709, -56.8970,  83.3052,     -999.0,9,     -999.0,9,     -999.0,9,-999.0000,9,-999.0000,9,-999.0000,9,-999.0000,9,-999.0000,9,-999.0000,9,-999.0000,9,     -999.0,9,     -999.0,9,     -999.0,9,     -999.0,9,     -999.0,9
33RR20160208,       I08S,      27,          1,         12,         12,2,20160225,       0611,   -56.8970,    83.3052,       4600,  1667.2,   1.0794,  34.7213,2,  34.7214,2,    205.5,2,   205.9,2,   104.2,2,    0.00,2,   31.27,2,    0.00,2,    2.19,2,   0.295,2,   0.162,2,   0.018,2,   0.137663433,2,  -999.0,9, -999.00,9,-999.0000,9,     9.00,   1.0794, -999.00,9,  -999.0,9,  -999.0, -999.00,9,-999.000,9,  -999.0,9, -999.00,9,     -999.0,9, -999.00,9, 20160225,      714, -56.8970,  83.3052,     -999.0,9,     -999.0,9,     -999.0,9,-999.0000,9,-999.0000,9,-999.0000,9,-999.0000,9,-999.0000,9,-999.0000,9,-999.0000,9,     -999.0,9,     -999.0,9,     -999.0,9,     -999.0,9,     -999.0,9
33RR20160208,       I08S,      27,          1,         13,         13,2,20160225,       0611,   -56.8970,    83.3052,       4600,  1537.2,   1.2128,  34.7270,2,  34.7274,2,    204.2,2,   203.8,2,    99.8,2,    0.00,2,   31.20,2,    0.00,2,    2.17,2,   0.303,2,   0.165,2,   0.019,2,   0.095149726,2,  -999.0,9, -999.00,9,-999.0000,9,  -999.00,   1.2124, -999.00,9,  -999.0,9,  -999.0, -999.00,9,-999.000,9,  -999.0,9, -999.00,9,     -999.0,9, -999.00,9, 20160225,      717, -56.8970,  83.3052,     -999.0,9,     -999.0,9,     -999.0,9,   0.1110,2,   0.0756,2,   0.0448,2,   0.0242,2,   0.0128,2,   0.0036,2,   0.0003,3,     0.0159,2,     0.0172,2,     -999.0,9,     -999.0,9,     -999.0,9
33RR20160208,       I08S,      27,          1,         14,         14,2,20160225,       0611,   -56.8970,    83.3052,       4600,  1434.7,   1.3527,  34.7332,2,  34.7327,2,    202.8,2,   203.7,2,    95.7,2,    0.00,2,   30.93,2,    0.00,2,    2.16,2,   0.291,2,   0.159,2,   0.020,2,   0.096161957,2,  -999.0,9, -999.00,9,-999.0000,9,  -999.00,   1.3524, -999.00,9,  -999.0,9,  -999.0, -999.00,9,-999.000,9,  -999.0,9, -999.00,9,     -999.0,9, -999.00,9, 20160225,      720, -56.8970,  83.3051,     -999.0,9,     -999.0,9,     -999.0,9,-999.0000,9,-999.0000,9,-999.0000,9,-999.0000,9,-999.0000,9,-999.0000,9,-999.0000,9,     -999.0,9,     -999.0,9,     -999.0,9,     -999.0,9,     -999.0,9
33RR20160208,       I08S,      27,          1,         15,         15,2,20160225,       0611,   -56.8970,    83.3052,       4600,  1335.4,   1.4321,  34.7360,2,  34.7355,2,    201.6,2,   201.6,2,    94.1,2,    0.00,2,   30.73,2,    0.00,2,    2.16,2,   0.284,2,   0.154,2,   0.019,2,   0.112357655,2,  -999.0,9, -999.00,9,-999.0000,9,     9.00,   1.4317, -999.00,9,  -999.0,9,  -999.0, -999.00,9,-999.000,9,  -999.0,9, -999.00,9,     -999.0,9, -999.00,9, 20160225,      723, -56.8970,  83.3052,     -999.0,9,     -999.0,9,     -999.0,9,-999.0000,9,-999.0000,9,-999.0000,9,-999.0000,9,-999.0000,9,-999.0000,9,-999.0000,9,     -999.0,9,     -999.0,9,     -999.0,9,     -999.0,9,     -999.0,9
33RR20160208,       I08S,      27,          1,         16,         16,2,20160225,       0611,   -56.8970,    83.3052,       4600,  1235.7,   1.5423,  34.7397,2,  34.7390,2,    200.4,2,   200.7,2,    91.9,2,    0.00,2,   30.57,2,    0.00,2,    2.15,2,   0.268,2,   0.147,2,   0.018,2,   0.112357655,2,  2249.1,2, 2352.94,2,   7.6060,6,    24.99,   1.5426, -999.00,9,  -999.0,9,  -999.0, -999.00,9,-999.000,9,  -999.0,9, -999.00,9,     -999.0,9, -999.00,9, 20160225,      726, -56.8971,  83.3051,     -999.0,9,     -999.0,9,     -999.0,9,-999.0000,9,-999.0000,9,-999.0000,9,-999.0000,9,-999.0000,9,-999.0000,9,-999.0000,9,     -999.0,9,     -999.0,9,     -999.0,9,     -999.0,9,     -999.0,9
33RR20160208,       I08S,      27,          1,         17,         17,2,20160225,       0611,   -56.8970,    83.3052,       4600,  1136.7,   1.6422,  34.7399,2,  34.7400,2,    198.3,2,   198.5,2,    89.4,2,    0.00,2,   30.59,2,    0.00,2,    2.13,2,   0.271,2,   0.149,2,   0.019,2,   0.135638971,2,  -999.0,9, -999.00,9,-999.0000,9,  -999.00,   1.6421, -999.00,9,  -999.0,9,  -999.0, -999.00,9,-999.000,9,  -999.0,9, -999.00,9,     -999.0,9, -999.00,9, 20160225,      728, -56.8971,  83.3051,     -999.0,9,     -999.0,9,     -999.0,9,-999.0000,9,-999.0000,9,-999.0000,9,-999.0000,9,-999.0000,9,-999.0000,9,-999.0000,9,     -999.0,9,     -999.0,9,     -999.0,9,     -999.0,9,     -999.0,9
33RR20160208,       I08S,      27,          1,         18,         37,2,20160225,       0611,   -56.8970,    83.3052,       4600,  1036.5,   1.7068,  34.7401,2,  34.7394,2,    197.3,2,   197.1,2,    87.7,2,    0.00,2,   30.58,2,    0.00,2,    2.14,2,   0.269,2,   0.146,2,   0.018,2,   0.093125264,2,  2248.1,2, 2351.47,2,   7.6036,6,    24.98,   1.7068, -999.00,9,  -999.0,9,  -999.0, -999.00,9,-999.000,9,  -999.0,9, -999.00,9,     -999.0,9, -999.00,9, 20160225,      731, -56.8971,  83.3051,     -999.0,9,     -999.0,9,     -999.0,9,   0.1164,2,   0.0759,2,   0.0375,2,   0.0228,2,   0.0125,2,   0.0035,2,   0.0002,3,     0.0191,2,     0.0215,2,     -999.0,9,     -999.0,9,     -999.0,9
33RR20160208,       I08S,      27,          1,         19,         19,2,20160225,       0611,   -56.8970,    83.3052,       4600,   934.5,   1.7990,  34.7363,2,  34.7365,2,    193.8,2,   194.5,2,    85.5,2,    0.00,2,   30.74,2,    0.00,2,    2.16,2,   0.289,2,   0.158,2,   0.020,2,   0.123492197,2,  -999.0,9, -999.00,9,-999.0000,9,  -999.00,   1.7989, -999.00,9,  -999.0,9,  -999.0, -999.00,9,-999.000,9,  -999.0,9, -999.00,9,     -999.0,9, -999.00,9, 20160225,      734, -56.8970,  83.3052,     -999.0,9,     -999.0,9,     -999.0,9,-999.0000,9,-999.0000,9,-999.0000,9,-999.0000,9,-999.0000,9,-999.0000,9,-999.0000,9,     -999.0,9,     -999.0,9,     -999.0,9,     -999.0,9,     -999.0,9
33RR20160208,       I08S,      27,          1,         20,         20,2,20160225,       0611,   -56.8970,    83.3052,       4600,   835.5,   1.8368,  34.7234,2,  34.7221,2,    190.9,2,   190.8,2,    84.1,2,    0.00,2,   31.36,2,    0.00,2,    2.19,2,   0.356,2,   0.196,2,   0.027,2,   0.150822438,2,  2247.2,2, 2345.75,3,   7.5900,2,    24.99,   1.8364, -999.00,9,  -999.0,9,  -999.0, -999.00,9,-999.000,9,  -999.0,9, -999.00,9,     -999.0,9, -999.00,9, 20160225,      737, -56.8971,  83.3051,     -999.0,9,     -999.0,9,     -999.0,9,-999.0000,9,-999.0000,9,-999.0000,9,-999.0000,9,-999.0000,9,-999.0000,9,-999.0000,9,     -999.0,9,     -999.0,9,     -999.0,9,     -999.0,9,     -999.0,9
33RR20160208,       I08S,      27,          1,         21,         21,2,20160225,       0611,   -56.8970,    83.3052,       4600,   735.7,   1.8989,  34.7134,2,  34.7119,2,    187.2,2,   189.2,2,    82.6,2,    0.00,2,   31.62,2,    0.00,2,    2.22,2,   0.396,2,   0.216,2,   0.030,2,   0.155883593,2,  -999.0,9, -999.00,9,-999.0000,9,     9.00,   1.8988, -999.00,9,  -999.0,9,  -999.0, -999.00,9,-999.000,9,  -999.0,9, -999.00,9,     -999.0,9, -999.00,9, 20160225,      739, -56.8971,  83.3051,     -999.0,9,     -999.0,9,     -999.0,9,   0.1133,2,   0.0760,2,   0.0410,2,   0.0236,2,   0.0126,2,   0.0035,2,   0.0003,3,     0.0175,2,     0.0192,2,     -999.0,9,     -999.0,9,     -999.0,9
33RR20160208,       I08S,      27,          1,         22,         22,2,20160225,       0611,   -56.8970,    83.3052,       4600,   635.1,   1.9819,  34.6945,2,  34.6943,2,    184.4,2,   184.7,2,    80.4,2,    0.00,2,   31.97,2,    0.00,2,    2.23,2,   0.450,2,   0.243,2,   0.034,2,   0.178152678,2,  2249.9,2, 2341.02,3,   7.5761,2,    25.00,   1.9818, -999.00,9,  -999.0,9,  -999.0, -999.00,9,-999.000,9,  -999.0,9, -999.00,9,     -999.0,9, -999.00,9, 20160225,      742, -56.8970,  83.3051,     -999.0,9,     -999.0,9,     -999.0,9,-999.0000,9,-999.0000,9,-999.0000,9,-999.0000,9,-999.0000,9,-999.0000,9,-999.0000,9,     -999.0,9,     -999.0,9,     -999.0,9,     -999.0,9,     -999.0,9
33RR20160208,       I08S,      27,          1,         23,         23,2,20160225,       0611,   -56.8970,    83.3052,       4600,   536.0,   2.0854,  34.6684,2,  34.6701,2,    182.5,2,   182.0,2,    77.7,2,    0.00,2,   32.43,2,    0.00,2,    2.27,2,   0.515,2,   0.273,2,   0.041,2,   0.193336145,2,  -999.0,9, -999.00,9,-999.0000,9,  -999.00,   2.0850, -999.00,9,  -999.0,9,  -999.0, -999.00,9,-999.000,9,  -999.0,9, -999.00,9,     -999.0,9, -999.00,9, 20160225,      745, -56.8970,  83.3051,     -999.0,9,     -999.0,9,     -999.0,9,   0.1163,2,   0.0807,2,   0.0516,2,   0.0269,2,   0.0144,2,   0.0044,2,   0.0007,2,     0.0146,2,     0.0155,2,     -999.0,9,     -999.0,9,     -999.0,9
33RR20160208,       I08S,      27,          1,         24,         24,2,20160225,       0611,   -56.8970,    83.3052,       4600,   465.4,   2.1146,  34.6410,2,  34.6395,2,    181.1,2,   180.4,2,    76.4,2,    0.00,2,   33.06,2,    0.00,2,    2.31,2,   0.618,2,   0.327,2,   0.051,2,    0.21560523,2,  2252.3,2, 2339.02,2,   7.5604,2,    24.99,   2.1143, -999.00,9,  -999.0,9,  -999.0, -999.00,9,-999.000,9,  -999.0,9, -999.00,9,     -999.0,9, -999.00,9, 20160225,      747, -56.8970,  83.3052,     -999.0,9,     -999.0,9,     -999.0,9,-999.0000,9,-999.0000,9,-999.0000,9,-999.0000,9,-999.0000,9,-999.0000,9,-999.0000,9,     -999.0,9,     -999.0,9,     -999.0,9,     -999.0,9,     -999.0,9
33RR20160208,       I08S,      27,          1,         25,         25,2,20160225,       0611,   -56.8970,    83.3052,       4600,   415.5,   2.1255,  34.6123,2,  34.6109,2,    180.9,2,   180.8,2,    74.8,2,    0.00,2,   33.47,2,    0.00,2,    2.33,2,   0.733,2,   0.387,2,   0.060,2,   0.232813159,2,  -999.0,9, -999.00,9,-999.0000,9,  -999.00,   2.1268, -999.00,9,  -999.0,9,  -999.0, -999.00,9,-999.000,9,  -999.0,9, -999.00,9,     -999.0,9, -999.00,9, 20160225,      749, -56.8970,  83.3052,     -999.0,9,     -999.0,9,     -999.0,9,-999.0000,9,-999.0000,9,-999.0000,9,-999.0000,9,-999.0000,9,-999.0000,9,-999.0000,9,     -999.0,9,     -999.0,9,     -999.0,9,     -999.0,9,     -999.0,9
33RR20160208,       I08S,      27,          1,         26,         26,2,20160225,       0611,   -56.8970,    83.3052,       4600,   365.3,   2.1143,  34.5884,2,  34.5872,2,    181.5,2,   180.3,2,    73.7,2,    0.00,2,   33.88,2,    0.00,2,    2.37,2,   0.857,2,   0.445,2,   0.072,2,   0.271277942,2,  2251.7,2, 2333.32,2,   7.5491,2,    24.98,   2.1140, -999.00,9,  -999.0,9,  -999.0, -999.00,9,-999.000,9,  -999.0,9, -999.00,9,     -999.0,9, -999.00,9, 20160225,      751, -56.8970,  83.3051,     -999.0,9,     -999.0,9,     -999.0,9,-999.0000,9,-999.0000,9,-999.0000,9,-999.0000,9,-999.0000,9,-999.0000,9,-999.0000,9,     -999.0,9,     -999.0,9,     -999.0,9,     -999.0,9,     -999.0,9
33RR20160208,       I08S,      27,          1,         27,         27,2,20160225,       0611,   -56.8970,    83.3052,       4600,   315.5,   2.0099,  34.5357,2,  34.5326,2,    182.3,2,   187.2,2,    71.3,2,    0.00,2,   34.37,2,    0.00,2,    2.39,2,   1.226,2,   0.622,2,   0.103,2,   0.441332771,2,  -999.0,9, -999.00,9,-999.0000,9,     9.00,   2.0048, -999.00,9,  -999.0,9,  -999.0, -999.00,9,-999.000,9,  -999.0,9, -999.00,9,     -999.0,9, -999.00,9, 20160225,      753, -56.8971,  83.3051,     -999.0,9,     -999.0,9,     -999.0,9,-999.0000,9,-999.0000,9,-999.0000,9,-999.0000,9,-999.0000,9,-999.0000,9,-999.0000,9,     -999.0,9,     -999.0,9,     -999.0,9,     -999.0,9,     -999.0,9