BOTTLE,20220706CCHSIOAMB
EXPOCODE,SECT_ID,STNNBR,CASTNO,SAMPNO,BTLNBR,BTLNBR_FLAG_W,DATE,TIME,LATITUDE,LONGITUDE,DEPTH,CTDPRS,CTDTMP,CTDSAL,CTDSAL_FLAG_W,SALNTY,SALNTY_FLAG_W,CTDOXY,CTDOXY_FLAG_W,OXYGEN,OXYGEN_FLAG_W,SILCAT,SILCAT_FLAG_W,NH4,NH4_FLAG_W,NITRAT,NITRAT_FLAG_W,NITRIT,NITRIT_FLAG_W,PHSPHT,PHSPHT_FLAG_W,CFC-11,CFC-11_FLAG_W,CFC-12,CFC-12_FLAG_W,CFC113,CFC113_FLAG_W,SF6,SF6_FLAG_W,TCARBN,TCARBN_FLAG_W,ALKALI,ALKALI_FLAG_W,PH_TOT,PH_TOT_FLAG_W,PH_TMP,REFTMP,DELC13,DELC13_FLAG_W,DELC14,DELC14_FLAG_W,C14ERR,DELO18,DELO18_FLAG_W,POC,POC_FLAG_W,DOC,DOC_FLAG_W,TDN,TDN_FLAG_W,TON,TON_FLAG_W,D15N_NO3,D15N_NO3_FLAG_W,BTL_DATE,BTL_TIME,BTL_LAT,BTL_LON,14C-DOC,14C-DOC_FLAG_W,CHLORA,CHLORA_FLAG_W,HPLC,HPLC_FLAG_W,CDOM325,CDOM325_FLAG_W,CDOM340,CDOM340_FLAG_W,CDOM380,CDOM380_FLAG_W,CDOM412,CDOM412_FLAG_W,CDOM443,CDOM443_FLAG_W,CDOM490,CDOM490_FLAG_W,CDOM555,CDOM555_FLAG_W,CDOMSL,CDOMSL_FLAG_W,CDOMSN,CDOMSN_FLAG_W,D18O_NO3,D18O_NO3_FLAG_W,D15N_NO2+NO3,D15N_NO2+NO3_FLAG_W,D18O_NO2+NO3,D18O_NO2+NO3_FLAG_W
,,,,,,,,,,,METERS,DBAR,ITS-90,PSS-78,,PSS-78,,UMOL/KG,,UMOL/KG,,UMOL/KG,,UMOL/KG,,UMOL/KG,,UMOL/KG,,UMOL/KG,,PMOL/KG,,PMOL/KG,,PMOL/KG,,FMOL/KG,,UMOL/KG,,UMOL/KG,,,,DEG C,DEG C,/MILLE,,/MILLE,,/MILLE,/MILLE,,UG/KG,,UMOL/KG,,UMOL/KG,,UMOL/KG,,/MILLE,,,,,,/MILLE,,MG/M3,,,,1/M,,1/M,,1/M,,1/M,,1/M,,1/M,,1/M,,1/NM,,1/NM,,/MILLE,,/MILLE,,/MILLE,
33RR20160208,       I08S,      55,          1,         28,         28,2,20160304,       1919,   -43.0680,    95.0001,       3168,   140.1,  11.4472,  34.9477,2,  34.9456,2,    253.3,2,   253.0,2,     3.4,2,    0.01,2,   10.21,2,    0.01,2,    0.74,2,   3.069,2,   1.762,2,   0.236,2,         1.916,2,  2114.9,2, 2307.48,2,   7.8363,2,    24.94,  11.4474, -999.00,9,  -999.0,9,  -999.0, -999.00,1,-999.000,9,  -999.0,9, -999.00,9,     -999.0,9,    7.08,2, 20160304,     2042, -43.0681,  95.0001,     -999.0,9,     -999.0,9,     -999.0,9,-999.0000,9,-999.0000,9,-999.0000,9,-999.0000,9,-999.0000,9,-999.0000,9,-999.0000,9,     -999.0,9,     -999.0,9,       5.25,2,       7.06,2,       5.02,2
33RR20160208,       I08S,      55,          1,         29,         29,2,20160304,       1919,   -43.0680,    95.0001,       3168,   116.3,  11.4280,  34.9174,2,  34.9148,2,    254.4,2,   253.9,2,     3.1,2,    0.01,2,   10.27,2,    0.01,2,    0.77,2,-999.000,9,-999.000,9,-999.000,9,-999.000000000,9,  -999.0,9, -999.00,9,-999.0000,9,  -999.00,  11.4280, -999.00,9,  -999.0,9,  -999.0, -999.00,1,-999.000,9,  -999.0,9, -999.00,9,     -999.0,9,     7.2,2, 20160304,     2044, -43.0681,  95.0001,     -999.0,9,     -999.0,9,     -999.0,9,-999.0000,9,-999.0000,9,-999.0000,9,-999.0000,9,-999.0000,9,-999.0000,9,-999.0000,9,     -999.0,9,     -999.0,9,       5.37,2,       7.14,2,       5.23,2
33RR20160208,       I08S,      55,          1,         30,         30,2,20160304,       1919,   -43.0680,    95.0001,       3168,    89.9,  11.5601,  34.8526,2,  34.8435,2,    257.2,2,   255.8,2,     2.8,2,    0.01,2,    9.64,2,    0.47,2,    0.76,2,   3.029,2,   1.741,2,   0.253,2,         1.852,2,  2108.6,2, 2303.58,2,   7.8395,2,    24.95,  11.5607, -999.00,9,  -999.0,9,  -999.0, -999.00,1,-999.000,9,  -999.0,9, -999.00,9,     -999.0,9,    8.32,2, 20160304,     2045, -43.0680,  95.0001,     -999.0,9,     -999.0,9,     -999.0,9,-999.0000,9,-999.0000,9,-999.0000,9,-999.0000,9,-999.0000,9,-999.0000,9,-999.0000,9,     -999.0,9,     -999.0,9,       6.17,2,       7.74,2,       6.72,2
33RR20160208,       I08S,      55,          1,         31,         31,2,20160304,       1919,   -43.0680,    95.0001,       3168,    63.9,  12.5441,  34.6710,2,  34.6666,2,    261.1,2,   260.9,2,     0.4,2,    1.18,2,    7.43,2,    0.19,2,    0.70,2,-999.000,9,-999.000,9,-999.000,9,-999.000000000,9,  -999.0,9, -999.00,9,-999.0000,9,     9.00,  12.4707, -999.00,9,  -999.0,9,  -999.0, -999.00,1,-999.000,9,  -999.0,9, -999.00,9,     -999.0,9,   12.09,2, 20160304,     2047, -43.0680,  95.0001,     -999.0,9,     -999.0,9,     -999.0,9,-999.0000,9,-999.0000,9,-999.0000,9,-999.0000,9,-999.0000,9,-999.0000,9,-999.0000,9,     -999.0,9,     -999.0,9,       8.68,2,      10.92,2,        9.0,2
33RR20160208,       I08S,      55,          1,         32,         32,2,20160304,       1919,   -43.0680,    95.0001,       3168,    40.2,  14.0550,  34.7050,2,  34.7039,2,    259.2,2,   258.1,2,     0.3,2,    0.22,2,    5.60,2,    0.11,2,    0.50,2,   2.700,2,   1.566,2,   0.232,2,         1.771,2,  2071.6,2, 2302.74,6,   7.9136,2,    24.94,  14.0551, -999.00,9,  -999.0,9,  -999.0, -999.00,1,-999.000,9,  -999.0,9, -999.00,9,     -999.0,9,   14.49,2, 20160304,     2050, -43.0680,  95.0001,     -999.0,9,     -999.0,9,     -999.0,9,-999.0000,9,-999.0000,9,-999.0000,9,-999.0000,9,-999.0000,9,-999.0000,9,-999.0000,9,     -999.0,9,     -999.0,9,      10.58,2,      13.04,2,      11.25,2
33RR20160208,       I08S,      55,          1,         33,         33,2,20160304,       1919,   -43.0680,    95.0001,       3168,    20.1,  14.0533,  34.7055,2,  34.7045,2,    258.3,2,   258.0,2,     0.2,2,    0.24,2,    5.60,2,    0.11,2,    0.50,2,   2.736,2,   1.573,2,   0.233,2,         1.805,2,  2073.2,2, 2303.25,2,   7.9124,2,    24.94,  14.0530, -999.00,9,  -999.0,9,  -999.0, -999.00,1,-999.000,9,  -999.0,9, -999.00,9,     -999.0,9,   14.45,2, 20160304,     2051, -43.0681,  95.0001,     -999.0,9,     -999.0,9,     -999.0,9,-999.0000,9,-999.0000,9,-999.0000,9,-999.0000,9,-999.0000,9,-999.0000,9,-999.0000,9,     -999.0,9,     -999.0,9,       10.7,2,      13.08,2,      11.04,2
33RR20160208,       I08S,      55,          1,         34,         34,2,20160304,       1919,   -43.0680,    95.0001,       3168,     5.3,  14.0496,  34.7048,2,  34.7037,2,    254.9,2,   258.0,2,     0.2,2,    0.23,2,    5.61,2,    0.11,2,    0.50,2,   2.706,2,   1.557,2,   0.227,2,         1.779,2,  2073.7,6, 2302.81,2,   7.9139,2,    24.95,  14.0498, -999.00,9,  -999.0,9,  -999.0, -999.00,1,-999.000,9,  -999.0,9, -999.00,9,     -999.0,9,   14.48,2, 20160304,     2053, -43.0681,  95.0001,     -999.0,9,     -999.0,9,     -999.0,9,-999.0000,9,-999.0000,9,-999.0000,9,-999.0000,9,-999.0000,9,-999.0000,9,-999.0000,9,     -999.0,9,     -999.0,9,      10.91,2,      13.05,2,      11.09,2