BOTTLE,20220706CCHSIOAMB
EXPOCODE,SECT_ID,STNNBR,CASTNO,SAMPNO,BTLNBR,BTLNBR_FLAG_W,DATE,TIME,LATITUDE,LONGITUDE,DEPTH,CTDPRS,CTDTMP,CTDSAL,CTDSAL_FLAG_W,SALNTY,SALNTY_FLAG_W,CTDOXY,CTDOXY_FLAG_W,OXYGEN,OXYGEN_FLAG_W,SILCAT,SILCAT_FLAG_W,NH4,NH4_FLAG_W,NITRAT,NITRAT_FLAG_W,NITRIT,NITRIT_FLAG_W,PHSPHT,PHSPHT_FLAG_W,CFC-11,CFC-11_FLAG_W,CFC-12,CFC-12_FLAG_W,CFC113,CFC113_FLAG_W,SF6,SF6_FLAG_W,TCARBN,TCARBN_FLAG_W,ALKALI,ALKALI_FLAG_W,PH_TOT,PH_TOT_FLAG_W,PH_TMP,REFTMP,DELC13,DELC13_FLAG_W,DELC14,DELC14_FLAG_W,C14ERR,DELO18,DELO18_FLAG_W,POC,POC_FLAG_W,DOC,DOC_FLAG_W,TDN,TDN_FLAG_W,TON,TON_FLAG_W,D15N_NO3,D15N_NO3_FLAG_W,BTL_DATE,BTL_TIME,BTL_LAT,BTL_LON,14C-DOC,14C-DOC_FLAG_W,CHLORA,CHLORA_FLAG_W,HPLC,HPLC_FLAG_W,CDOM325,CDOM325_FLAG_W,CDOM340,CDOM340_FLAG_W,CDOM380,CDOM380_FLAG_W,CDOM412,CDOM412_FLAG_W,CDOM443,CDOM443_FLAG_W,CDOM490,CDOM490_FLAG_W,CDOM555,CDOM555_FLAG_W,CDOMSL,CDOMSL_FLAG_W,CDOMSN,CDOMSN_FLAG_W,D18O_NO3,D18O_NO3_FLAG_W,D15N_NO2+NO3,D15N_NO2+NO3_FLAG_W,D18O_NO2+NO3,D18O_NO2+NO3_FLAG_W
,,,,,,,,,,,METERS,DBAR,ITS-90,PSS-78,,PSS-78,,UMOL/KG,,UMOL/KG,,UMOL/KG,,UMOL/KG,,UMOL/KG,,UMOL/KG,,UMOL/KG,,PMOL/KG,,PMOL/KG,,PMOL/KG,,FMOL/KG,,UMOL/KG,,UMOL/KG,,,,DEG C,DEG C,/MILLE,,/MILLE,,/MILLE,/MILLE,,UG/KG,,UMOL/KG,,UMOL/KG,,UMOL/KG,,/MILLE,,,,,,/MILLE,,MG/M3,,,,1/M,,1/M,,1/M,,1/M,,1/M,,1/M,,1/M,,1/NM,,1/NM,,/MILLE,,/MILLE,,/MILLE,
33RR20160208,       I08S,      75,          1,          1,          1,2,20160310,       0241,   -32.5081,    95.0029,       4332,  4366.5,   1.1309,  34.7158,2,  34.7154,2,    205.0,2,   205.1,2,   118.2,2,    0.00,2,   31.69,2,    0.00,2,    2.20,2,-999.000,5,-999.000,5,-999.000,5,-999.000000000,5,  2266.4,2, 2375.22,6,   7.6208,2,    24.98,   1.1312, -999.00,9,  -999.0,9,  -999.0, -999.00,9,-999.000,9,  -999.0,9, -999.00,9,     -999.0,9, -999.00,9, 20160310,      241, -32.5080,  95.0029,     -999.0,9,     -999.0,9,     -999.0,9,-999.0000,9,-999.0000,9,-999.0000,9,-999.0000,9,-999.0000,9,-999.0000,9,-999.0000,9,     -999.0,9,     -999.0,9,     -999.0,9,     -999.0,9,     -999.0,9
33RR20160208,       I08S,      75,          1,          2,          2,2,20160310,       0241,   -32.5081,    95.0029,       4332,  4028.6,   1.1475,  34.7182,2,  34.7178,2,    203.5,2,   204.3,2,   116.7,2,    0.00,2,   31.61,2,    0.00,2,    2.20,2,-999.000,5,-999.000,5,-999.000,5,-999.000000000,5,  -999.0,9, -999.00,9,-999.0000,9,     9.00,   1.1476, -999.00,9,  -999.0,9,  -999.0, -999.00,9,-999.000,9,  -999.0,9, -999.00,9,     -999.0,9, -999.00,9, 20160310,      248, -32.5080,  95.0029,     -999.0,9,     -999.0,9,     -999.0,9,-999.0000,9,-999.0000,9,-999.0000,9,-999.0000,9,-999.0000,9,-999.0000,9,-999.0000,9,     -999.0,9,     -999.0,9,     -999.0,9,     -999.0,9,     -999.0,9
33RR20160208,       I08S,      75,          1,          3,          3,2,20160310,       0241,   -32.5081,    95.0029,       4332,  3701.9,   1.2184,  34.7226,2,  34.7237,2,    202.9,2,   203.3,2,   114.0,2,    0.00,2,   31.40,2,    0.00,2,    2.19,2,-999.000,9,-999.000,9,-999.000,9,-999.000000000,9,  -999.0,9, -999.00,9,-999.0000,9,  -999.00,   1.2185, -999.00,9,  -999.0,9,  -999.0, -999.00,9,-999.000,9,  -999.0,9, -999.00,9,     -999.0,9, -999.00,9, 20160310,      254, -32.5080,  95.0029,     -999.0,9,     -999.0,9,     -999.0,9,-999.0000,9,-999.0000,9,-999.0000,9,-999.0000,9,-999.0000,9,-999.0000,9,-999.0000,9,     -999.0,9,     -999.0,9,     -999.0,9,     -999.0,9,     -999.0,9
33RR20160208,       I08S,      75,          1,          4,          4,2,20160310,       0241,   -32.5081,    95.0029,       4332,  3399.4,   1.3554,  34.7288,2,  34.7286,2,    201.1,2,   200.6,2,   110.2,2,    0.00,2,   31.22,2,    0.00,2,    2.18,2,-999.000,5,-999.000,5,-999.000,5,-999.000000000,5,  -999.0,9, -999.00,9,-999.0000,9,  -999.00,   1.3556, -999.00,9,  -999.0,9,  -999.0, -999.00,9,-999.000,9,  -999.0,9, -999.00,9,     -999.0,9, -999.00,9, 20160310,      300, -32.5080,  95.0028,     -999.0,9,     -999.0,9,     -999.0,9,-999.0000,9,-999.0000,9,-999.0000,9,-999.0000,9,-999.0000,9,-999.0000,9,-999.0000,9,     -999.0,9,     -999.0,9,     -999.0,9,     -999.0,9,     -999.0,9
33RR20160208,       I08S,      75,          1,          5,          5,2,20160310,       0241,   -32.5081,    95.0029,       4332,  3099.4,   1.5471,  34.7352,2,  34.7346,2,    198.1,2,   198.4,2,   104.6,2,    0.00,2,   31.02,2,    0.00,2,    2.17,2,-999.000,5,-999.000,5,-999.000,5,-999.000000000,5,  -999.0,9, -999.00,9,-999.0000,9,     9.00,   1.5462, -999.00,9,  -999.0,9,  -999.0, -999.00,9,-999.000,9,  -999.0,9, -999.00,9,     -999.0,9, -999.00,9, 20160310,      306, -32.5080,  95.0028,     -999.0,9,     -999.0,9,     -999.0,9,-999.0000,9,-999.0000,9,-999.0000,9,-999.0000,9,-999.0000,9,-999.0000,9,-999.0000,9,     -999.0,9,     -999.0,9,     -999.0,9,     -999.0,9,     -999.0,9
33RR20160208,       I08S,      75,          1,          6,         38,2,20160310,       0241,   -32.5081,    95.0029,       4332,  2837.3,   1.7761,  34.7392,2,  34.7391,2,    194.0,2,   194.4,2,    98.5,2,    0.00,2,   30.88,2,    0.00,2,    2.17,2,-999.000,9,-999.000,9,-999.000,9,-999.000000000,9,  -999.0,9, -999.00,9,-999.0000,9,  -999.00,   1.7761, -999.00,9,  -999.0,9,  -999.0, -999.00,9,-999.000,9,  -999.0,9, -999.00,9,     -999.0,9, -999.00,9, 20160310,      312, -32.5080,  95.0029,     -999.0,9,     -999.0,9,     -999.0,9,-999.0000,9,-999.0000,9,-999.0000,9,-999.0000,9,-999.0000,9,-999.0000,9,-999.0000,9,     -999.0,9,     -999.0,9,     -999.0,9,     -999.0,9,     -999.0,9
33RR20160208,       I08S,      75,          1,          7,          7,2,20160310,       0241,   -32.5081,    95.0029,       4332,  2588.0,   1.9825,  34.7366,2,  34.7360,2,    188.7,2,   189.3,2,    93.9,2,    0.00,2,   30.95,2,    0.00,2,    2.17,2,-999.000,5,-999.000,5,-999.000,5,-999.000000000,5,  -999.0,9, -999.00,9,-999.0000,9,  -999.00,   1.9825, -999.00,9,  -999.0,9,  -999.0, -999.00,9,-999.000,9,  -999.0,9, -999.00,9,     -999.0,9, -999.00,9, 20160310,      317, -32.5080,  95.0028,     -999.0,9,     -999.0,9,     -999.0,9,-999.0000,9,-999.0000,9,-999.0000,9,-999.0000,9,-999.0000,9,-999.0000,9,-999.0000,9,     -999.0,9,     -999.0,9,     -999.0,9,     -999.0,9,     -999.0,9
33RR20160208,       I08S,      75,          1,          8,          8,2,20160310,       0241,   -32.5081,    95.0029,       4332,  2335.2,   2.2197,  34.7227,2,  34.7222,2,    180.5,2,   181.3,2,    91.0,2,    0.00,2,   31.64,2,    0.00,2,    2.23,2,-999.000,9,-999.000,9,-999.000,9,-999.000000000,9,  -999.0,9, -999.00,9,-999.0000,9,     9.00,   2.2202, -999.00,9,  -999.0,9,  -999.0, -999.00,9,-999.000,9,  -999.0,9, -999.00,9,     -999.0,9, -999.00,9, 20160310,      322, -32.5080,  95.0028,     -999.0,9,     -999.0,9,     -999.0,9,-999.0000,9,-999.0000,9,-999.0000,9,-999.0000,9,-999.0000,9,-999.0000,9,-999.0000,9,     -999.0,9,     -999.0,9,     -999.0,9,     -999.0,9,     -999.0,9
33RR20160208,       I08S,      75,          1,          9,          9,2,20160310,       0241,   -32.5081,    95.0029,       4332,  2083.8,   2.3983,  34.7038,2,  34.7038,2,    172.2,2,   171.8,2,    90.8,2,    0.00,2,   32.41,2,    0.00,2,    2.28,2,-999.000,5,-999.000,5,-999.000,5,-999.000000000,5,  -999.0,9, -999.00,9,-999.0000,9,  -999.00,   2.3981, -999.00,9,  -999.0,9,  -999.0, -999.00,9,-999.000,9,  -999.0,9, -999.00,9,     -999.0,9, -999.00,9, 20160310,      327, -32.5080,  95.0028,     -999.0,9,     -999.0,9,     -999.0,9,-999.0000,9,-999.0000,9,-999.0000,9,-999.0000,9,-999.0000,9,-999.0000,9,-999.0000,9,     -999.0,9,     -999.0,9,     -999.0,9,     -999.0,9,     -999.0,9
33RR20160208,       I08S,      75,          1,         10,         10,2,20160310,       0241,   -32.5081,    95.0029,       4332,  1860.9,   2.6385,  34.6743,2,  34.6739,2,    161.5,2,   160.9,2,    89.7,2,    0.00,2,   33.38,2,    0.00,2,    2.34,2,-999.000,9,-999.000,9,-999.000,9,-999.000000000,9,  2269.4,2, 2361.00,2,   7.5738,6,    25.00,   2.6388, -999.00,9,  -999.0,9,  -999.0, -999.00,9,-999.000,9,  -999.0,9, -999.00,9,     -999.0,9, -999.00,9, 20160310,      332, -32.5080,  95.0028,     -999.0,9,     -999.0,9,     -999.0,9,-999.0000,9,-999.0000,9,-999.0000,9,-999.0000,9,-999.0000,9,-999.0000,9,-999.0000,9,     -999.0,9,     -999.0,9,     -999.0,9,     -999.0,9,     -999.0,9
33RR20160208,       I08S,      75,          1,         11,         11,2,20160310,       0241,   -32.5081,    95.0029,       4332,  1732.9,   2.7914,  34.6411,2,  34.6406,2,    159.3,2,   158.0,2,    85.1,2,    0.00,2,   33.82,2,    0.00,2,    2.40,2,-999.000,5,-999.000,5,-999.000,5,-999.000000000,5,  2270.2,2, 2355.09,2,   7.5663,2,    25.00,   2.7913, -999.00,9,  -999.0,9,  -999.0, -999.00,9,-999.000,9,  -999.0,9, -999.00,9,     -999.0,9, -999.00,9, 20160310,      335, -32.5080,  95.0028,     -999.0,9,     -999.0,9,     -999.0,9,-999.0000,9,-999.0000,9,-999.0000,9,-999.0000,9,-999.0000,9,-999.0000,9,-999.0000,9,     -999.0,9,     -999.0,9,     -999.0,9,     -999.0,9,     -999.0,9
33RR20160208,       I08S,      75,          1,         12,         12,2,20160310,       0241,   -32.5081,    95.0029,       4332,  1636.0,   2.9058,  34.6184,2,  34.6176,2,    157.3,2,   155.9,2,    82.7,2,    0.00,2,   34.18,2,    0.00,2,    2.41,2,-999.000,5,-999.000,5,-999.000,5,-999.000000000,5,  -999.0,9, -999.00,9,-999.0000,9,  -999.00,   2.9057, -999.00,9,  -999.0,9,  -999.0, -999.00,9,-999.000,9,  -999.0,9, -999.00,9,     -999.0,9, -999.00,9, 20160310,      338, -32.5080,  95.0028,     -999.0,9,     -999.0,9,     -999.0,9,-999.0000,9,-999.0000,9,-999.0000,9,-999.0000,9,-999.0000,9,-999.0000,9,-999.0000,9,     -999.0,9,     -999.0,9,     -999.0,9,     -999.0,9,     -999.0,9
33RR20160208,       I08S,      75,          1,         13,         13,2,20160310,       0241,   -32.5081,    95.0029,       4332,  1538.3,   3.0702,  34.5851,2,  34.5845,2,    155.1,2,   155.1,2,    78.9,2,    0.00,2,   34.43,2,    0.00,2,    2.44,2,-999.000,5,-999.000,5,-999.000,5,-999.000000000,5,  -999.0,9, -999.00,9,-999.0000,9,  -999.00,   3.0709, -999.00,9,  -999.0,9,  -999.0, -999.00,9,-999.000,9,  -999.0,9, -999.00,9,     -999.0,9, -999.00,9, 20160310,      341, -32.5080,  95.0028,     -999.0,9,     -999.0,9,     -999.0,9,-999.0000,9,-999.0000,9,-999.0000,9,-999.0000,9,-999.0000,9,-999.0000,9,-999.0000,9,     -999.0,9,     -999.0,9,     -999.0,9,     -999.0,9,     -999.0,9
33RR20160208,       I08S,      75,          1,         14,         14,2,20160310,       0241,   -32.5081,    95.0029,       4332,  1435.3,   3.2216,  34.5525,2,  34.5517,2,    156.8,2,   156.2,2,    74.5,2,    0.00,2,   34.52,2,    0.00,2,    2.45,2,-999.000,5,-999.000,5,-999.000,5,-999.000000000,5,  -999.0,9, -999.00,9,-999.0000,9,     9.00,   3.2217, -999.00,9,  -999.0,9,  -999.0, -999.00,9,-999.000,9,  -999.0,9, -999.00,9,     -999.0,9, -999.00,9, 20160310,      343, -32.5080,  95.0028,     -999.0,9,     -999.0,9,     -999.0,9,-999.0000,9,-999.0000,9,-999.0000,9,-999.0000,9,-999.0000,9,-999.0000,9,-999.0000,9,     -999.0,9,     -999.0,9,     -999.0,9,     -999.0,9,     -999.0,9
33RR20160208,       I08S,      75,          1,         15,         15,2,20160310,       0241,   -32.5081,    95.0029,       4332,  1335.8,   3.4096,  34.5145,2,  34.5142,2,    158.0,2,   159.6,2,    68.1,2,    0.00,2,   34.38,2,    0.00,2,    2.44,2,-999.000,5,-999.000,5,-999.000,5,-999.000000000,5,  -999.0,9, -999.00,9,-999.0000,9,  -999.00,   3.4094, -999.00,9,  -999.0,9,  -999.0, -999.00,9,-999.000,9,  -999.0,9, -999.00,9,     -999.0,9, -999.00,9, 20160310,      346, -32.5080,  95.0028,     -999.0,9,     -999.0,9,     -999.0,9,-999.0000,9,-999.0000,9,-999.0000,9,-999.0000,9,-999.0000,9,-999.0000,9,-999.0000,9,     -999.0,9,     -999.0,9,     -999.0,9,     -999.0,9,     -999.0,9
33RR20160208,       I08S,      75,          1,         16,         16,2,20160310,       0241,   -32.5081,    95.0029,       4332,  1236.1,   3.6779,  34.4616,2,  34.4607,2,    167.6,2,   168.2,2,    58.5,2,    0.00,2,   33.73,2,    0.00,2,    2.38,2,-999.000,5,-999.000,5,-999.000,5,-999.000000000,5,  -999.0,9, -999.00,9,-999.0000,9,  -999.00,   3.6773, -999.00,9,  -999.0,9,  -999.0, -999.00,9,-999.000,9,  -999.0,9, -999.00,9,     -999.0,9, -999.00,9, 20160310,      349, -32.5080,  95.0028,     -999.0,9,     -999.0,9,     -999.0,9,-999.0000,9,-999.0000,9,-999.0000,9,-999.0000,9,-999.0000,9,-999.0000,9,-999.0000,9,     -999.0,9,     -999.0,9,     -999.0,9,     -999.0,9,     -999.0,9
33RR20160208,       I08S,      75,          1,         17,         17,2,20160310,       0241,   -32.5081,    95.0029,       4332,  1138.5,   4.0608,  34.4466,2,  34.4458,2,    170.1,2,   169.3,2,    53.5,2,    0.00,2,   33.17,2,    0.00,2,    2.33,2,-999.000,5,-999.000,5,-999.000,5,-999.000000000,5,  -999.0,9, -999.00,9,-999.0000,9,     9.00,   4.0617, -999.00,9,  -999.0,9,  -999.0, -999.00,9,-999.000,9,  -999.0,9, -999.00,9,     -999.0,9, -999.00,9, 20160310,      352, -32.5080,  95.0028,     -999.0,9,     -999.0,9,     -999.0,9,-999.0000,9,-999.0000,9,-999.0000,9,-999.0000,9,-999.0000,9,-999.0000,9,-999.0000,9,     -999.0,9,     -999.0,9,     -999.0,9,     -999.0,9,     -999.0,9
33RR20160208,       I08S,      75,          1,         18,         37,2,20160310,       0241,   -32.5081,    95.0029,       4332,  1038.7,   4.7736,  34.4224,2,  34.4215,2,    177.7,2,   176.3,2,    42.1,2,    0.00,2,   31.60,2,    0.00,2,    2.22,2,-999.000,5,-999.000,5,-999.000,5,-999.000000000,5,  2216.5,2, 2310.78,2,   7.5966,2,    24.98,   4.7736, -999.00,9,  -999.0,9,  -999.0, -999.00,9,-999.000,9,  -999.0,9, -999.00,9,     -999.0,9, -999.00,9, 20160310,      355, -32.5080,  95.0029,     -999.0,9,     -999.0,9,     -999.0,9,-999.0000,9,-999.0000,9,-999.0000,9,-999.0000,9,-999.0000,9,-999.0000,9,-999.0000,9,     -999.0,9,     -999.0,9,     -999.0,9,     -999.0,9,     -999.0,9
33RR20160208,       I08S,      75,          1,         19,         19,2,20160310,       0241,   -32.5081,    95.0029,       4332,   937.6,   5.4116,  34.3969,2,  34.3966,2,    194.4,2,   194.0,2,    28.0,2,    0.00,2,   29.21,2,    0.00,2,    2.00,2,-999.000,5,-999.000,5,-999.000,5,-999.000000000,5,  -999.0,9, -999.00,9,-999.0000,9,  -999.00,   5.4178, -999.00,9,  -999.0,9,  -999.0, -999.00,9,-999.000,9,  -999.0,9, -999.00,9,     -999.0,9, -999.00,9, 20160310,      357, -32.5080,  95.0028,     -999.0,9,     -999.0,9,     -999.0,9,-999.0000,9,-999.0000,9,-999.0000,9,-999.0000,9,-999.0000,9,-999.0000,9,-999.0000,9,     -999.0,9,     -999.0,9,     -999.0,9,     -999.0,9,     -999.0,9
33RR20160208,       I08S,      75,          1,         20,         20,2,20160310,       0241,   -32.5081,    95.0029,       4332,   835.7,   6.7401,  34.4553,2,  34.4552,2,    202.6,2,   199.5,2,    18.7,2,    0.00,2,   25.86,2,    0.00,2,    1.78,2,-999.000,5,-999.000,5,-999.000,5,-999.000000000,5,  -999.0,9, -999.00,9,-999.0000,9,     9.00,   6.7400, -999.00,9,  -999.0,9,  -999.0, -999.00,9,-999.000,9,  -999.0,9, -999.00,9,     -999.0,9, -999.00,9, 20160310,      400, -32.5080,  95.0029,     -999.0,9,     -999.0,9,     -999.0,9,-999.0000,9,-999.0000,9,-999.0000,9,-999.0000,9,-999.0000,9,-999.0000,9,-999.0000,9,     -999.0,9,     -999.0,9,     -999.0,9,     -999.0,9,     -999.0,9
33RR20160208,       I08S,      75,          1,         21,         21,2,20160310,       0241,   -32.5081,    95.0029,       4332,   736.7,   8.1639,  34.5532,2,  34.5540,2,    219.4,2,   217.8,2,     9.4,2,    0.00,2,   20.90,2,    0.00,2,    1.47,2,-999.000,5,-999.000,5,-999.000,5,-999.000000000,5,  2152.6,2, 2288.88,2,   7.7154,2,    25.00,   8.1681, -999.00,9,  -999.0,9,  -999.0, -999.00,9,-999.000,9,  -999.0,9, -999.00,9,     -999.0,9, -999.00,9, 20160310,      403, -32.5080,  95.0028,     -999.0,9,     -999.0,9,     -999.0,9,-999.0000,9,-999.0000,9,-999.0000,9,-999.0000,9,-999.0000,9,-999.0000,9,-999.0000,9,     -999.0,9,     -999.0,9,     -999.0,9,     -999.0,9,     -999.0,9
33RR20160208,       I08S,      75,          1,         22,         22,2,20160310,       0241,   -32.5081,    95.0029,       4332,   636.7,   9.0162,  34.6351,2,  34.6342,2,    233.8,2,   232.7,2,     5.2,2,    0.00,2,   17.43,2,    0.00,2,    1.23,2,-999.000,5,-999.000,5,-999.000,5,-999.000000000,5,  -999.0,9, -999.00,9,-999.0000,9,  -999.00,   9.0156, -999.00,9,  -999.0,9,  -999.0, -999.00,9,-999.000,9,  -999.0,9, -999.00,9,     -999.0,9, -999.00,9, 20160310,      406, -32.5080,  95.0029,     -999.0,9,     -999.0,9,     -999.0,9,-999.0000,9,-999.0000,9,-999.0000,9,-999.0000,9,-999.0000,9,-999.0000,9,-999.0000,9,     -999.0,9,     -999.0,9,     -999.0,9,     -999.0,9,     -999.0,9
33RR20160208,       I08S,      75,          1,         23,         23,2,20160310,       0241,   -32.5081,    95.0029,       4332,   536.4,   9.7249,  34.7278,2,  34.7266,2,    240.7,2,   239.3,2,     3.9,2,    0.00,2,   14.82,2,    0.00,2,    1.08,2,-999.000,5,-999.000,5,-999.000,5,-999.000000000,5,  -999.0,9, -999.00,9,-999.0000,9,     9.00,   9.7259, -999.00,9,  -999.0,9,  -999.0, -999.00,9,-999.000,9,  -999.0,9, -999.00,9,     -999.0,9, -999.00,9, 20160310,      409, -32.5080,  95.0029,     -999.0,9,     -999.0,9,     -999.0,9,-999.0000,9,-999.0000,9,-999.0000,9,-999.0000,9,-999.0000,9,-999.0000,9,-999.0000,9,     -999.0,9,     -999.0,9,     -999.0,9,     -999.0,9,     -999.0,9
33RR20160208,       I08S,      75,          1,         24,         24,2,20160310,       0241,   -32.5081,    95.0029,       4332,   465.1,  10.2909,  34.8107,2,  34.8077,2,    242.5,2,   242.1,2,     3.3,2,    0.00,2,   12.89,2,    0.00,2,    0.98,2,-999.000,9,-999.000,9,-999.000,9,-999.000000000,9,  2126.9,2, 2299.15,2,   7.7956,3,    24.98,  10.2894, -999.00,9,  -999.0,9,  -999.0, -999.00,9,-999.000,9,  -999.0,9, -999.00,9,     -999.0,9, -999.00,9, 20160310,      411, -32.5080,  95.0029,     -999.0,9,     -999.0,9,     -999.0,9,-999.0000,9,-999.0000,9,-999.0000,9,-999.0000,9,-999.0000,9,-999.0000,9,-999.0000,9,     -999.0,9,     -999.0,9,     -999.0,9,     -999.0,9,     -999.0,9
33RR20160208,       I08S,      75,          1,         25,         25,2,20160310,       0241,   -32.5081,    95.0029,       4332,   415.6,  10.7426,  34.8799,2,  34.8762,2,    242.9,2,   241.7,2,     2.8,2,    0.00,2,   11.42,2,    0.00,2,    0.89,2,-999.000,5,-999.000,5,-999.000,5,-999.000000000,5,  -999.0,9, -999.00,9,-999.0000,9,  -999.00,  10.7268, -999.00,9,  -999.0,9,  -999.0, -999.00,9,-999.000,9,  -999.0,9, -999.00,9,     -999.0,9, -999.00,9, 20160310,      413, -32.5080,  95.0028,     -999.0,9,     -999.0,9,     -999.0,9,-999.0000,9,-999.0000,9,-999.0000,9,-999.0000,9,-999.0000,9,-999.0000,9,-999.0000,9,     -999.0,9,     -999.0,9,     -999.0,9,     -999.0,9,     -999.0,9
33RR20160208,       I08S,      75,          1,         26,         26,2,20160310,       0241,   -32.5081,    95.0029,       4332,   364.8,  11.2021,  34.9496,2,  34.9477,2,    239.9,2,   241.5,2,     2.6,2,    0.00,2,   10.39,2,    0.00,2,    0.81,2,-999.000,9,-999.000,9,-999.000,9,-999.000000000,9,  2122.5,2, 2302.43,2,   7.8181,2,    25.00,  11.2002, -999.00,9,  -999.0,9,  -999.0, -999.00,9,-999.000,9,  -999.0,9, -999.00,9,     -999.0,9, -999.00,9, 20160310,      415, -32.5080,  95.0029,     -999.0,9,     -999.0,9,     -999.0,9,-999.0000,9,-999.0000,9,-999.0000,9,-999.0000,9,-999.0000,9,-999.0000,9,-999.0000,9,     -999.0,9,     -999.0,9,     -999.0,9,     -999.0,9,     -999.0,9
33RR20160208,       I08S,      75,          1,         27,         27,2,20160310,       0241,   -32.5081,    95.0029,       4332,   307.6,  11.9142,  35.0567,2,  35.0563,2,    236.3,2,   237.3,2,     2.0,2,    0.00,2,    8.66,2,    0.00,2,    0.71,2,-999.000,5,-999.000,5,-999.000,5,-999.000000000,5,  -999.0,9, -999.00,9,-999.0000,9,  -999.00,  11.9138, -999.00,9,  -999.0,9,  -999.0, -999.00,9,-999.000,9,  -999.0,9, -999.00,9,     -999.0,9, -999.00,9, 20160310,      417, -32.5080,  95.0028,     -999.0,9,     -999.0,9,     -999.0,9,-999.0000,9,-999.0000,9,-999.0000,9,-999.0000,9,-999.0000,9,-999.0000,9,-999.0000,9,     -999.0,9,     -999.0,9,     -999.0,9,     -999.0,9,     -999.0,9