BOTTLE,20220706CCHSIOAMB
EXPOCODE,SECT_ID,STNNBR,CASTNO,SAMPNO,BTLNBR,BTLNBR_FLAG_W,DATE,TIME,LATITUDE,LONGITUDE,DEPTH,CTDPRS,CTDTMP,CTDSAL,CTDSAL_FLAG_W,SALNTY,SALNTY_FLAG_W,CTDOXY,CTDOXY_FLAG_W,OXYGEN,OXYGEN_FLAG_W,SILCAT,SILCAT_FLAG_W,NH4,NH4_FLAG_W,NITRAT,NITRAT_FLAG_W,NITRIT,NITRIT_FLAG_W,PHSPHT,PHSPHT_FLAG_W,CFC-11,CFC-11_FLAG_W,CFC-12,CFC-12_FLAG_W,CFC113,CFC113_FLAG_W,SF6,SF6_FLAG_W,TCARBN,TCARBN_FLAG_W,ALKALI,ALKALI_FLAG_W,PH_TOT,PH_TOT_FLAG_W,PH_TMP,REFTMP,DELC13,DELC13_FLAG_W,DELC14,DELC14_FLAG_W,C14ERR,DELO18,DELO18_FLAG_W,POC,POC_FLAG_W,DOC,DOC_FLAG_W,TDN,TDN_FLAG_W,TON,TON_FLAG_W,D15N_NO3,D15N_NO3_FLAG_W,BTL_DATE,BTL_TIME,BTL_LAT,BTL_LON,14C-DOC,14C-DOC_FLAG_W,CHLORA,CHLORA_FLAG_W,HPLC,HPLC_FLAG_W,CDOM325,CDOM325_FLAG_W,CDOM340,CDOM340_FLAG_W,CDOM380,CDOM380_FLAG_W,CDOM412,CDOM412_FLAG_W,CDOM443,CDOM443_FLAG_W,CDOM490,CDOM490_FLAG_W,CDOM555,CDOM555_FLAG_W,CDOMSL,CDOMSL_FLAG_W,CDOMSN,CDOMSN_FLAG_W,D18O_NO3,D18O_NO3_FLAG_W,D15N_NO2+NO3,D15N_NO2+NO3_FLAG_W,D18O_NO2+NO3,D18O_NO2+NO3_FLAG_W
,,,,,,,,,,,METERS,DBAR,ITS-90,PSS-78,,PSS-78,,UMOL/KG,,UMOL/KG,,UMOL/KG,,UMOL/KG,,UMOL/KG,,UMOL/KG,,UMOL/KG,,PMOL/KG,,PMOL/KG,,PMOL/KG,,FMOL/KG,,UMOL/KG,,UMOL/KG,,,,DEG C,DEG C,/MILLE,,/MILLE,,/MILLE,/MILLE,,UG/KG,,UMOL/KG,,UMOL/KG,,UMOL/KG,,/MILLE,,,,,,/MILLE,,MG/M3,,,,1/M,,1/M,,1/M,,1/M,,1/M,,1/M,,1/M,,1/NM,,1/NM,,/MILLE,,/MILLE,,/MILLE,
33RR20160208,       I08S,      75,          1,         28,         28,2,20160310,       0241,   -32.5081,    95.0029,       4332,   266.1,  12.5957,  35.1566,2,  35.1501,2,    232.4,2,   233.1,2,     1.7,2,    0.00,2,    7.31,2,    0.00,2,    0.63,2,-999.000,9,-999.000,9,-999.000,9,-999.000000000,9,  2119.1,2, 2316.06,2,   7.8478,6,    24.99,  12.5946, -999.00,9,  -999.0,9,  -999.0, -999.00,9,-999.000,9,  -999.0,9, -999.00,9,     -999.0,9, -999.00,9, 20160310,      419, -32.5080,  95.0029,     -999.0,9,     -999.0,9,     -999.0,9,-999.0000,9,-999.0000,9,-999.0000,9,-999.0000,9,-999.0000,9,-999.0000,9,-999.0000,9,     -999.0,9,     -999.0,9,     -999.0,9,     -999.0,9,     -999.0,9
33RR20160208,       I08S,      75,          1,         29,         29,2,20160310,       0241,   -32.5081,    95.0029,       4332,   215.8,  13.5008,  35.2828,2,  35.2828,2,    229.9,2,   228.8,2,     1.4,2,    0.00,2,    5.52,2,    0.00,2,    0.50,2,-999.000,5,-999.000,5,-999.000,5,-999.000000000,5,  -999.0,9, -999.00,9,-999.0000,9,     9.00,  13.5048, -999.00,9,  -999.0,9,  -999.0, -999.00,9,-999.000,9,  -999.0,9, -999.00,9,     -999.0,9, -999.00,9, 20160310,      421, -32.5080,  95.0028,     -999.0,9,     -999.0,9,     -999.0,9,-999.0000,9,-999.0000,9,-999.0000,9,-999.0000,9,-999.0000,9,-999.0000,9,-999.0000,9,     -999.0,9,     -999.0,9,     -999.0,9,     -999.0,9,     -999.0,9
33RR20160208,       I08S,      75,          1,         30,         30,2,20160310,       0241,   -32.5081,    95.0029,       4332,   162.4,  14.5390,  35.4017,2,  35.3982,2,    236.0,2,   235.8,2,     0.8,2,    0.01,2,    2.27,2,    0.48,2,    0.37,2,-999.000,9,-999.000,9,-999.000,9,-999.000000000,9,  2104.2,2, 2330.75,2,   7.9012,2,    24.99,  14.5357, -999.00,9,  -999.0,9,  -999.0, -999.00,9,-999.000,9,  -999.0,9, -999.00,9,     -999.0,9, -999.00,9, 20160310,      423, -32.5080,  95.0028,     -999.0,9,     -999.0,9,     -999.0,9,-999.0000,9,-999.0000,9,-999.0000,9,-999.0000,9,-999.0000,9,-999.0000,9,-999.0000,9,     -999.0,9,     -999.0,9,     -999.0,9,     -999.0,9,     -999.0,9
33RR20160208,       I08S,      75,          1,         31,         31,2,20160310,       0241,   -32.5081,    95.0029,       4332,   133.8,  15.2655,  35.4871,2,  35.4842,2,    245.2,2,   245.3,2,     0.5,2,    0.09,2,    0.20,2,    0.09,2,    0.20,2,-999.000,5,-999.000,5,-999.000,5,-999.000000000,5,  -999.0,9, -999.00,9,-999.0000,9,  -999.00,  15.2479, -999.00,9,  -999.0,9,  -999.0, -999.00,9,-999.000,9,  -999.0,9, -999.00,9,     -999.0,9, -999.00,9, 20160310,      425, -32.5080,  95.0028,     -999.0,9,     -999.0,9,     -999.0,9,-999.0000,9,-999.0000,9,-999.0000,9,-999.0000,9,-999.0000,9,-999.0000,9,-999.0000,9,     -999.0,9,     -999.0,9,     -999.0,9,     -999.0,9,     -999.0,9
33RR20160208,       I08S,      75,          1,         32,         32,2,20160310,       0241,   -32.5081,    95.0029,       4332,   110.8,  15.9803,  35.5400,2,  35.5395,2,    255.2,2,   255.9,2,     0.5,2,    0.04,2,    0.00,2,    0.00,2,    0.17,2,-999.000,9,-999.000,9,-999.000,9,-999.000000000,9,  2082.8,2, 2338.61,2,   7.9572,6,    24.99,  15.9785, -999.00,9,  -999.0,9,  -999.0, -999.00,9,-999.000,9,  -999.0,9, -999.00,9,     -999.0,9, -999.00,9, 20160310,      426, -32.5080,  95.0028,     -999.0,9,     -999.0,9,     -999.0,9,-999.0000,9,-999.0000,9,-999.0000,9,-999.0000,9,-999.0000,9,-999.0000,9,-999.0000,9,     -999.0,9,     -999.0,9,     -999.0,9,     -999.0,9,     -999.0,9
33RR20160208,       I08S,      75,          1,         33,         33,2,20160310,       0241,   -32.5081,    95.0029,       4332,    85.6,  17.3103,  35.5377,2,  35.5367,2,    267.7,2,   263.4,2,     0.6,2,    0.02,2,    0.00,2,    0.00,2,    0.12,2,-999.000,5,-999.000,5,-999.000,5,-999.000000000,5,  -999.0,9, -999.00,9,-999.0000,9,  -999.00,  17.3071, -999.00,9,  -999.0,9,  -999.0, -999.00,9,-999.000,9,  -999.0,9, -999.00,9,     -999.0,9, -999.00,9, 20160310,      428, -32.5080,  95.0028,     -999.0,9,     -999.0,9,     -999.0,9,-999.0000,9,-999.0000,9,-999.0000,9,-999.0000,9,-999.0000,9,-999.0000,9,-999.0000,9,     -999.0,9,     -999.0,9,     -999.0,9,     -999.0,9,     -999.0,9
33RR20160208,       I08S,      75,          1,         34,         34,2,20160310,       0241,   -32.5081,    95.0029,       4332,    59.7,  21.3942,  35.8454,2,  35.8486,2,    233.1,2,   231.8,2,     1.0,2,    0.02,2,    0.00,2,    0.00,2,    0.09,2,-999.000,9,-999.000,9,-999.000,9,-999.000000000,9,  2070.3,2, 2355.75,2,   8.0010,2,    24.99,  21.3375, -999.00,9,  -999.0,9,  -999.0, -999.00,9,-999.000,9,  -999.0,9, -999.00,9,     -999.0,9, -999.00,9, 20160310,      430, -32.5080,  95.0027,     -999.0,9,     -999.0,9,     -999.0,9,-999.0000,9,-999.0000,9,-999.0000,9,-999.0000,9,-999.0000,9,-999.0000,9,-999.0000,9,     -999.0,9,     -999.0,9,     -999.0,9,     -999.0,9,     -999.0,9
33RR20160208,       I08S,      75,          1,         35,         35,2,20160310,       0241,   -32.5081,    95.0029,       4332,    32.8,  23.2271,  35.9182,2,  35.9152,2,    218.1,2,   215.4,2,     1.4,2,    0.00,2,    0.00,2,    0.00,2,    0.06,2,-999.000,5,-999.000,5,-999.000,5,-999.000000000,5,  -999.0,9, -999.00,9,-999.0000,9,     9.00,  23.2259, -999.00,9,  -999.0,9,  -999.0, -999.00,9,-999.000,9,  -999.0,9, -999.00,9,     -999.0,9, -999.00,9, 20160310,      432, -32.5080,  95.0027,     -999.0,9,     -999.0,9,     -999.0,9,-999.0000,9,-999.0000,9,-999.0000,9,-999.0000,9,-999.0000,9,-999.0000,9,-999.0000,9,     -999.0,9,     -999.0,9,     -999.0,9,     -999.0,9,     -999.0,9
33RR20160208,       I08S,      75,          1,         36,         36,2,20160310,       0241,   -32.5081,    95.0029,       4332,     6.7,  23.2427,  35.9170,2,  35.9140,2,    218.9,2,   217.4,2,     1.4,2,    0.00,2,    0.00,2,    0.00,2,    0.07,2,-999.000,5,-999.000,5,-999.000,5,-999.000000000,5,  2055.3,6, 2355.51,2,   8.0287,6,    25.00,-999.0000, -999.00,9,  -999.0,9,  -999.0, -999.00,9,-999.000,9,  -999.0,9, -999.00,9,     -999.0,9, -999.00,9, 20160310,      434, -32.5081,  95.0026,     -999.0,9,     -999.0,9,     -999.0,9,-999.0000,9,-999.0000,9,-999.0000,9,-999.0000,9,-999.0000,9,-999.0000,9,-999.0000,9,     -999.0,9,     -999.0,9,     -999.0,9,     -999.0,9,     -999.0,9