BOTTLE,20220706CCHSIOAMB
EXPOCODE,SECT_ID,STNNBR,CASTNO,SAMPNO,BTLNBR,BTLNBR_FLAG_W,DATE,TIME,LATITUDE,LONGITUDE,DEPTH,CTDPRS,CTDTMP,CTDSAL,CTDSAL_FLAG_W,SALNTY,SALNTY_FLAG_W,CTDOXY,CTDOXY_FLAG_W,OXYGEN,OXYGEN_FLAG_W,SILCAT,SILCAT_FLAG_W,NH4,NH4_FLAG_W,NITRAT,NITRAT_FLAG_W,NITRIT,NITRIT_FLAG_W,PHSPHT,PHSPHT_FLAG_W,CFC-11,CFC-11_FLAG_W,CFC-12,CFC-12_FLAG_W,CFC113,CFC113_FLAG_W,SF6,SF6_FLAG_W,TCARBN,TCARBN_FLAG_W,ALKALI,ALKALI_FLAG_W,PH_TOT,PH_TOT_FLAG_W,PH_TMP,REFTMP,DELC13,DELC13_FLAG_W,DELC14,DELC14_FLAG_W,C14ERR,DELO18,DELO18_FLAG_W,POC,POC_FLAG_W,DOC,DOC_FLAG_W,TDN,TDN_FLAG_W,TON,TON_FLAG_W,D15N_NO3,D15N_NO3_FLAG_W,BTL_DATE,BTL_TIME,BTL_LAT,BTL_LON,14C-DOC,14C-DOC_FLAG_W,CHLORA,CHLORA_FLAG_W,HPLC,HPLC_FLAG_W,CDOM325,CDOM325_FLAG_W,CDOM340,CDOM340_FLAG_W,CDOM380,CDOM380_FLAG_W,CDOM412,CDOM412_FLAG_W,CDOM443,CDOM443_FLAG_W,CDOM490,CDOM490_FLAG_W,CDOM555,CDOM555_FLAG_W,CDOMSL,CDOMSL_FLAG_W,CDOMSN,CDOMSN_FLAG_W,D18O_NO3,D18O_NO3_FLAG_W,D15N_NO2+NO3,D15N_NO2+NO3_FLAG_W,D18O_NO2+NO3,D18O_NO2+NO3_FLAG_W
,,,,,,,,,,,METERS,DBAR,ITS-90,PSS-78,,PSS-78,,UMOL/KG,,UMOL/KG,,UMOL/KG,,UMOL/KG,,UMOL/KG,,UMOL/KG,,UMOL/KG,,PMOL/KG,,PMOL/KG,,PMOL/KG,,FMOL/KG,,UMOL/KG,,UMOL/KG,,,,DEG C,DEG C,/MILLE,,/MILLE,,/MILLE,/MILLE,,UG/KG,,UMOL/KG,,UMOL/KG,,UMOL/KG,,/MILLE,,,,,,/MILLE,,MG/M3,,,,1/M,,1/M,,1/M,,1/M,,1/M,,1/M,,1/M,,1/NM,,1/NM,,/MILLE,,/MILLE,,/MILLE,
33RR20160208,       I08S,       8,          1,         28,         28,2,20160220,       1751,   -65.1000,    79.6066,       3525,   251.0,   0.3254,  34.5551,2,  34.5548,2,    230.8,2,   230.9,2,    77.7,2,    0.00,2,   32.05,2,    0.00,2,    2.25,2,   2.359,2,   1.225,2,   0.200,2,         1.095,2,  2247.2,2, 2335.96,2,   7.5763,2,    24.97,   0.3273, -999.00,9,  -999.0,9,  -999.0, -999.00,1,-999.000,9,    39.2,2,   34.00,2,     -999.0,1,     4.9,2, 20160220,     1922, -65.0999,  79.6065,     -999.0,9,     -999.0,9,     -999.0,9,-999.0000,9,-999.0000,9,-999.0000,9,-999.0000,9,-999.0000,9,-999.0000,9,-999.0000,9,     -999.0,9,     -999.0,9,       2.02,2,        4.9,2,       2.02,2
33RR20160208,       I08S,       8,          1,         29,         29,2,20160220,       1751,   -65.1000,    79.6066,       3525,   200.3,   0.1361,  34.5099,2,  34.5085,2,    243.5,2,   237.0,2,    74.9,2,    0.00,2,   32.21,2,    0.01,2,    2.27,2,-999.000,9,-999.000,9,-999.000,9,-999.000000000,9,  2245.1,2, 2331.16,2,   7.5730,2,    24.98,   0.1372, -999.00,9,  -999.0,9,  -999.0, -999.00,1,-999.000,9,    40.8,2,   34.90,2,     -999.0,1,    4.83,2, 20160220,     1924, -65.0998,  79.6065,     -999.0,9,     -999.0,9,     -999.0,9,-999.0000,9,-999.0000,9,-999.0000,9,-999.0000,9,-999.0000,9,-999.0000,9,-999.0000,9,     -999.0,9,     -999.0,9,       2.02,2,       4.83,2,       2.02,2
33RR20160208,       I08S,       8,          1,         30,         30,2,20160220,       1751,   -65.1000,    79.6066,       3525,   151.1,  -0.3262,  34.4434,2,  34.4446,2,    266.5,2,   253.3,3,    69.9,2,    0.00,2,   31.86,2,    0.02,2,    2.24,2,   3.229,2,   1.717,2,   0.294,2,         1.565,2,  2239.0,2, 2326.19,2,   7.5793,2,    24.98,  -0.3312, -999.00,9,  -999.0,9,  -999.0, -999.00,1,-999.000,9,    41.0,2,   34.90,2,     -999.0,1,    4.97,2, 20160220,     1926, -65.0998,  79.6065,     -999.0,9,     -999.0,9,     -999.0,9,-999.0000,9,-999.0000,9,-999.0000,9,-999.0000,9,-999.0000,9,-999.0000,9,-999.0000,9,     -999.0,9,     -999.0,9,       2.39,2,       4.94,2,       2.11,2
33RR20160208,       I08S,       8,          1,         31,         31,2,20160220,       1751,   -65.1000,    79.6066,       3525,   126.8,  -0.9043,  34.3753,2,  34.3733,2,    278.4,2,   272.1,2,    64.9,2,    0.07,2,   31.26,2,    0.03,2,    2.20,2,-999.000,9,-999.000,9,-999.000,9,-999.000000000,9,  2230.6,2, 2321.82,2,   7.5907,2,    24.97,  -0.8972, -999.00,9,  -999.0,9,  -999.0, -999.00,1,-999.000,9,    42.2,2,   34.50,2,     -999.0,1,     5.0,2, 20160220,     1928, -65.0998,  79.6066,     -999.0,9,     -999.0,9,     -999.0,9,-999.0000,9,-999.0000,9,-999.0000,9,-999.0000,9,-999.0000,9,-999.0000,9,-999.0000,9,     -999.0,9,     -999.0,9,       2.37,2,       5.02,2,       2.27,2
33RR20160208,       I08S,       8,          1,         32,         32,2,20160220,       1751,   -65.1000,    79.6066,       3525,   101.5,  -0.7191,  34.3575,2,  34.3553,2,    262.8,2,   266.5,2,    65.5,2,    0.17,2,   31.57,2,    0.04,2,    2.24,2,   3.544,2,   1.907,2,   0.327,2,         1.814,2,  2230.5,2, 2319.60,2,   7.5830,2,    24.97,  -0.7201, -999.00,9,  -999.0,9,  -999.0, -999.00,1,-999.000,9,    41.9,2,   34.60,2,     -999.0,1,    5.01,2, 20160220,     1929, -65.0998,  79.6066,     -999.0,9,     -999.0,9,     -999.0,9,-999.0000,9,-999.0000,9,-999.0000,9,-999.0000,9,-999.0000,9,-999.0000,9,-999.0000,9,     -999.0,9,     -999.0,9,       2.56,2,       4.99,2,       2.18,2
33RR20160208,       I08S,       8,          1,         33,         33,2,20160220,       1751,   -65.1000,    79.6066,       3525,    74.8,  -1.1849,  34.2471,2,  34.2773,2,    282.1,2,   263.5,2,    62.4,2,    0.21,2,   31.55,2,    0.15,2,    2.23,2,-999.000,9,-999.000,9,-999.000,9,-999.000000000,9,  2224.7,2, 2315.04,6,   7.5775,2,    24.96,  -1.1559, -999.00,9,  -999.0,9,  -999.0, -999.00,1,-999.000,9,    40.9,2,   35.00,2,     -999.0,1,    5.09,2, 20160220,     1932, -65.0998,  79.6066,     -999.0,9,     -999.0,9,     -999.0,9,-999.0000,9,-999.0000,9,-999.0000,9,-999.0000,9,-999.0000,9,-999.0000,9,-999.0000,9,     -999.0,9,     -999.0,9,       2.51,2,       4.97,2,       2.31,2
33RR20160208,       I08S,       8,          1,         34,         34,2,20160220,       1751,   -65.1000,    79.6066,       3525,    49.4,  -1.6216,  34.1387,2,  34.1385,2,    295.0,2,   296.1,2,    56.0,2,    1.02,2,   29.74,2,    0.11,2,    2.10,2,   4.169,2,   2.241,2,   0.389,2,         2.038,2,  2210.9,2, 2307.72,2,   7.6104,6,    24.97,  -1.6156, -999.00,9,  -999.0,9,  -999.0, -999.00,1,-999.000,9,    41.3,2,   33.50,2,     -999.0,1,     5.4,2, 20160220,     1934, -65.0998,  79.6065,     -999.0,9,     -999.0,9,     -999.0,9,-999.0000,9,-999.0000,9,-999.0000,9,-999.0000,9,-999.0000,9,-999.0000,9,-999.0000,9,     -999.0,9,     -999.0,9,        2.7,2,       5.28,2,       2.54,2
33RR20160208,       I08S,       8,          1,         35,         35,2,20160220,       1751,   -65.1000,    79.6066,       3525,    25.5,  -1.4830,  33.8785,2,  33.8773,2,    364.1,2,   333.0,3,    48.4,2,    0.22,2,   27.08,2,    0.07,2,    1.91,2,-999.000,9,-999.000,9,-999.000,9,-999.000000000,9,  2170.4,2, 2294.19,2,   7.6783,6,    24.98,  -1.4872, -999.00,9,  -999.0,9,  -999.0, -999.00,1,-999.000,9,    44.4,2,   30.60,2,     -999.0,1,    5.92,2, 20160220,     1936, -65.0997,  79.6066,     -999.0,9,     -999.0,9,     -999.0,9,-999.0000,9,-999.0000,9,-999.0000,9,-999.0000,9,-999.0000,9,-999.0000,9,-999.0000,9,     -999.0,9,     -999.0,9,       3.03,2,       5.76,2,       2.93,2
33RR20160208,       I08S,       8,          1,         36,         36,2,20160220,       1751,   -65.1000,    79.6066,       3525,     6.4,  -0.2078,  32.8004,2,  32.8006,2,    363.2,2,   362.6,2,    28.2,2,    0.94,2,   20.45,2,    0.20,2,    1.30,2,   6.096,6,   2.930,6,   0.533,6,         2.459,6,  2075.2,6, 2225.56,2,   7.7720,6,    24.97,  -0.2069, -999.00,9,  -999.0,9,  -999.0, -999.00,1,-999.000,9,    45.6,2,   24.00,2,     -999.0,1,    8.16,2, 20160220,     1938, -65.0998,  79.6065,     -999.0,9,     -999.0,9,     -999.0,9,-999.0000,9,-999.0000,9,-999.0000,9,-999.0000,9,-999.0000,9,-999.0000,9,-999.0000,9,     -999.0,9,     -999.0,9,       4.52,2,       7.36,2,       4.06,2