BOTTLE,20220706CCHSIOAMB
EXPOCODE,SECT_ID,STNNBR,CASTNO,SAMPNO,BTLNBR,BTLNBR_FLAG_W,DATE,TIME,LATITUDE,LONGITUDE,DEPTH,CTDPRS,CTDTMP,CTDSAL,CTDSAL_FLAG_W,SALNTY,SALNTY_FLAG_W,CTDOXY,CTDOXY_FLAG_W,OXYGEN,OXYGEN_FLAG_W,SILCAT,SILCAT_FLAG_W,NH4,NH4_FLAG_W,NITRAT,NITRAT_FLAG_W,NITRIT,NITRIT_FLAG_W,PHSPHT,PHSPHT_FLAG_W,CFC-11,CFC-11_FLAG_W,CFC-12,CFC-12_FLAG_W,CFC113,CFC113_FLAG_W,SF6,SF6_FLAG_W,TCARBN,TCARBN_FLAG_W,ALKALI,ALKALI_FLAG_W,PH_TOT,PH_TOT_FLAG_W,PH_TMP,REFTMP,DELC13,DELC13_FLAG_W,DELC14,DELC14_FLAG_W,C14ERR,DELO18,DELO18_FLAG_W,POC,POC_FLAG_W,DOC,DOC_FLAG_W,TDN,TDN_FLAG_W,TON,TON_FLAG_W,D15N_NO3,D15N_NO3_FLAG_W,BTL_DATE,BTL_TIME,BTL_LAT,BTL_LON,14C-DOC,14C-DOC_FLAG_W,CHLORA,CHLORA_FLAG_W,HPLC,HPLC_FLAG_W,CDOM325,CDOM325_FLAG_W,CDOM340,CDOM340_FLAG_W,CDOM380,CDOM380_FLAG_W,CDOM412,CDOM412_FLAG_W,CDOM443,CDOM443_FLAG_W,CDOM490,CDOM490_FLAG_W,CDOM555,CDOM555_FLAG_W,CDOMSL,CDOMSL_FLAG_W,CDOMSN,CDOMSN_FLAG_W,D18O_NO3,D18O_NO3_FLAG_W,D15N_NO2+NO3,D15N_NO2+NO3_FLAG_W,D18O_NO2+NO3,D18O_NO2+NO3_FLAG_W
,,,,,,,,,,,METERS,DBAR,ITS-90,PSS-78,,PSS-78,,UMOL/KG,,UMOL/KG,,UMOL/KG,,UMOL/KG,,UMOL/KG,,UMOL/KG,,UMOL/KG,,PMOL/KG,,PMOL/KG,,PMOL/KG,,FMOL/KG,,UMOL/KG,,UMOL/KG,,,,DEG C,DEG C,/MILLE,,/MILLE,,/MILLE,/MILLE,,UG/KG,,UMOL/KG,,UMOL/KG,,UMOL/KG,,/MILLE,,,,,,/MILLE,,MG/M3,,,,1/M,,1/M,,1/M,,1/M,,1/M,,1/M,,1/M,,1/NM,,1/NM,,/MILLE,,/MILLE,,/MILLE,
33RR20160208,       I08S,      45,          1,          1,          1,2,20160302,       0520,   -48.5469,    91.6778,       3593,  3620.8,   0.8301,  34.7042,2,  34.7037,2,    211.4,2,   211.2,2,   121.0,2,    0.00,2,   32.60,2,    0.00,2,    2.20,2,   0.429,2,   0.217,2,   0.024,2,   0.111728665,2,  2259.7,6, 2363.16,2,   7.6025,2,    25.05,   0.8299, -999.00,9,  -999.0,9,  -999.0, -999.00,9,-999.000,9,  -999.0,9, -999.00,9,     -999.0,9, -999.00,9, 20160302,      520, -48.5469,  91.6778,     -999.0,9,     -999.0,9,     -999.0,9,   0.1164,2,   0.0771,2,   0.0353,2,   0.0239,2,   0.0138,2,   0.0046,2,   0.0011,2,     0.0199,2,     0.0222,2,     -999.0,9,     -999.0,9,     -999.0,9
33RR20160208,       I08S,      45,          1,          2,          2,2,20160302,       0520,   -48.5469,    91.6778,       3593,  3446.2,   0.8954,  34.7082,2,  34.7082,2,    209.3,2,   210.7,2,   119.2,2,    0.00,2,   32.13,2,    0.00,2,    2.20,2,   0.364,2,   0.186,2,   0.014,2,   0.115754923,2,  2260.4,2, 2361.23,2,   7.6037,6,    25.05,   0.8953, -999.00,9,  -999.0,9,  -999.0, -999.00,9,-999.000,9,  -999.0,9, -999.00,9,     -999.0,9, -999.00,9, 20160302,      524, -48.5469,  91.6778,     -999.0,9,     -999.0,9,     -999.0,9,-999.0000,9,-999.0000,9,-999.0000,9,-999.0000,9,-999.0000,9,-999.0000,9,-999.0000,9,     -999.0,9,     -999.0,9,     -999.0,9,     -999.0,9,     -999.0,9
33RR20160208,       I08S,      45,          1,          3,          3,2,20160302,       0520,   -48.5469,    91.6778,       3593,  3258.7,   1.0341,  34.7159,2,  34.7163,2,    208.0,2,   208.0,2,   115.5,2,    0.00,2,   31.85,2,    0.00,2,    2.18,2,-999.000,9,-999.000,9,-999.000,9,-999.000000000,9,  -999.0,9, -999.00,9,-999.0000,9,  -999.00,   1.0341, -999.00,9,  -999.0,9,  -999.0, -999.00,9,-999.000,9,  -999.0,9, -999.00,9,     -999.0,9, -999.00,9, 20160302,      529, -48.5469,  91.6778,     -999.0,9,     -999.0,9,     -999.0,9,-999.0000,9,-999.0000,9,-999.0000,9,-999.0000,9,-999.0000,9,-999.0000,9,-999.0000,9,     -999.0,9,     -999.0,9,     -999.0,9,     -999.0,9,     -999.0,9
33RR20160208,       I08S,      45,          1,          4,          4,2,20160302,       0520,   -48.5469,    91.6778,       3593,  3060.5,   1.1746,  34.7234,2,  34.7237,2,    206.1,2,   206.6,2,   111.5,2,    0.00,2,   31.59,2,    0.00,2,    2.16,2,   0.203,2,   0.109,2,   0.003,2,             0,2,  2255.7,2, 2363.21,6,   7.6095,6,    25.06,   1.1743, -999.00,9,  -999.0,9,  -999.0, -999.00,9,-999.000,9,  -999.0,9, -999.00,9,     -999.0,9, -999.00,9, 20160302,      533, -48.5469,  91.6778,     -999.0,9,     -999.0,9,     -999.0,9,   0.1154,2,   0.0754,2,   0.0341,2,   0.0231,2,   0.0133,2,   0.0042,2,   0.0008,2,     0.0202,2,     0.0228,2,     -999.0,9,     -999.0,9,     -999.0,9
33RR20160208,       I08S,      45,          1,          5,          5,2,20160302,       0520,   -48.5469,    91.6778,       3593,  2863.2,   1.3452,  34.7322,2,  34.7324,2,    204.5,2,   204.9,2,   105.3,2,    0.00,2,   31.38,2,    0.00,2,    2.15,2,-999.000,9,-999.000,9,-999.000,9,-999.000000000,9,  -999.0,9, -999.00,9,-999.0000,9,     9.00,   1.3452, -999.00,9,  -999.0,9,  -999.0, -999.00,9,-999.000,9,  -999.0,9, -999.00,9,     -999.0,9, -999.00,9, 20160302,      538, -48.5469,  91.6778,     -999.0,9,     -999.0,9,     -999.0,9,-999.0000,9,-999.0000,9,-999.0000,9,-999.0000,9,-999.0000,9,-999.0000,9,-999.0000,9,     -999.0,9,     -999.0,9,     -999.0,9,     -999.0,9,     -999.0,9
33RR20160208,       I08S,      45,          1,          6,         38,2,20160302,       0520,   -48.5469,    91.6778,       3593,  2664.7,   1.5389,  34.7411,2,  34.7414,2,    202.7,2,   202.5,2,    98.9,2,    0.00,2,   31.22,2,    0.00,2,    2.12,2,   0.120,2,   0.064,2,   0.000,2,   0.004026258,2,  2250.3,2, 2361.07,2,   7.6163,2,    25.05,   1.5384, -999.00,9,  -999.0,9,  -999.0, -999.00,9,-999.000,9,  -999.0,9, -999.00,9,     -999.0,9, -999.00,9, 20160302,      542, -48.5468,  91.6778,     -999.0,9,     -999.0,9,     -999.0,9,-999.0000,9,-999.0000,9,-999.0000,9,-999.0000,9,-999.0000,9,-999.0000,9,-999.0000,9,     -999.0,9,     -999.0,9,     -999.0,9,     -999.0,9,     -999.0,9
33RR20160208,       I08S,      45,          1,          7,          7,2,20160302,       0520,   -48.5469,    91.6778,       3593,  2466.3,   1.7756,  34.7507,2,  34.7514,2,    201.2,2,   201.0,2,    91.6,2,    0.00,2,   30.59,2,    0.00,2,    2.08,2,-999.000,9,-999.000,9,-999.000,9,-999.000000000,9,  -999.0,9, -999.00,9,-999.0000,9,  -999.00,   1.7756, -999.00,9,  -999.0,9,  -999.0, -999.00,9,-999.000,9,  -999.0,9, -999.00,9,     -999.0,9, -999.00,9, 20160302,      547, -48.5469,  91.6778,     -999.0,9,     -999.0,9,     -999.0,9,-999.0000,9,-999.0000,9,-999.0000,9,-999.0000,9,-999.0000,9,-999.0000,9,-999.0000,9,     -999.0,9,     -999.0,9,     -999.0,9,     -999.0,9,     -999.0,9
33RR20160208,       I08S,      45,          1,          8,          8,2,20160302,       0520,   -48.5469,    91.6778,       3593,  2262.1,   1.9763,  34.7548,2,  34.7553,2,    199.4,2,   199.1,2,    85.2,2,    0.00,2,   30.53,2,    0.00,2,    2.06,2,   0.115,2,   0.065,2,   0.000,2,   0.026170678,2,  2244.2,2, 2353.41,2,   7.6182,6,    25.06,   1.9760, -999.00,9,  -999.0,9,  -999.0, -999.00,9,-999.000,9,  -999.0,9, -999.00,9,     -999.0,9, -999.00,9, 20160302,      551, -48.5468,  91.6778,     -999.0,9,     -999.0,9,     -999.0,9,-999.0000,9,-999.0000,9,-999.0000,9,-999.0000,9,-999.0000,9,-999.0000,9,-999.0000,9,     -999.0,9,     -999.0,9,     -999.0,9,     -999.0,9,     -999.0,9
33RR20160208,       I08S,      45,          1,          9,          9,2,20160302,       0520,   -48.5469,    91.6778,       3593,  2064.7,   2.1450,  34.7504,2,  34.7500,2,    196.7,2,   196.0,2,    80.1,2,    0.00,2,   30.15,2,    0.00,2,    2.06,2,-999.000,9,-999.000,9,-999.000,9,-999.000000000,9,  -999.0,9, -999.00,9,-999.0000,9,  -999.00,   2.1448, -999.00,9,  -999.0,9,  -999.0, -999.00,9,-999.000,9,  -999.0,9, -999.00,9,     -999.0,9, -999.00,9, 20160302,      555, -48.5468,  91.6778,     -999.0,9,     -999.0,9,     -999.0,9,   0.1124,2,   0.0732,2,   0.0328,2,   0.0214,2,   0.0122,2,   0.0038,2,   0.0005,4,     0.0205,2,     0.0230,2,     -999.0,9,     -999.0,9,     -999.0,9
33RR20160208,       I08S,      45,          1,         10,         10,2,20160302,       0520,   -48.5469,    91.6778,       3593,  1865.3,   2.2796,  34.7356,2,  34.7357,2,    192.3,2,   193.2,2,    76.5,2,    0.00,2,   30.85,2,    0.00,2,    2.09,2,   0.175,2,   0.098,2,   0.001,2,             0,2,  2242.4,2, 2346.80,2,   7.6071,6,    25.07,   2.2795, -999.00,9,  -999.0,9,  -999.0, -999.00,9,-999.000,9,  -999.0,9, -999.00,9,     -999.0,9, -999.00,9, 20160302,      600, -48.5469,  91.6779,     -999.0,9,     -999.0,9,     -999.0,9,-999.0000,9,-999.0000,9,-999.0000,9,-999.0000,9,-999.0000,9,-999.0000,9,-999.0000,9,     -999.0,9,     -999.0,9,     -999.0,9,     -999.0,9,     -999.0,9
33RR20160208,       I08S,      45,          1,         11,         11,2,20160302,       0520,   -48.5469,    91.6778,       3593,  1734.2,   2.3371,  34.7168,2,  34.7178,2,    187.2,2,   187.8,2,    75.4,2,    0.00,2,   31.17,2,    0.00,2,    2.13,2,   0.227,2,   0.124,2,   0.004,2,   0.048315098,2,  -999.0,9, -999.00,9,-999.0000,9,     9.00,   2.3372, -999.00,9,  -999.0,9,  -999.0, -999.00,9,-999.000,9,  -999.0,9, -999.00,9,     -999.0,9, -999.00,9, 20160302,      603, -48.5470,  91.6780,     -999.0,9,     -999.0,9,     -999.0,9,-999.0000,9,-999.0000,9,-999.0000,9,-999.0000,9,-999.0000,9,-999.0000,9,-999.0000,9,     -999.0,9,     -999.0,9,     -999.0,9,     -999.0,9,     -999.0,9
33RR20160208,       I08S,      45,          1,         12,         12,2,20160302,       0520,   -48.5469,    91.6778,       3593,  1633.2,   2.3811,  34.6994,2,  34.6998,2,    184.6,2,   185.4,2,    75.1,2,    0.00,2,   31.54,2,    0.00,2,    2.16,2,   0.273,2,   0.149,2,   0.009,2,   0.067439825,2,  2245.3,2, 2342.53,2,   7.5886,2,    25.08,   2.3817, -999.00,9,  -999.0,9,  -999.0, -999.00,9,-999.000,9,  -999.0,9, -999.00,9,     -999.0,9, -999.00,9, 20160302,      606, -48.5470,  91.6779,     -999.0,9,     -999.0,9,     -999.0,9,-999.0000,9,-999.0000,9,-999.0000,9,-999.0000,9,-999.0000,9,-999.0000,9,-999.0000,9,     -999.0,9,     -999.0,9,     -999.0,9,     -999.0,9,     -999.0,9
33RR20160208,       I08S,      45,          1,         13,         13,2,20160302,       0520,   -48.5469,    91.6778,       3593,  1535.2,   2.4639,  34.6802,2,  34.6815,2,    182.7,2,   182.7,2,    73.0,2,    0.00,2,   32.00,2,    0.00,2,    2.19,2,   0.295,2,   0.159,2,   0.009,2,   0.100656455,2,  2244.2,2, 2341.31,2,   7.5838,2,    25.07,   2.4638, -999.00,9,  -999.0,9,  -999.0, -999.00,9,-999.000,9,  -999.0,9, -999.00,9,     -999.0,9, -999.00,9, 20160302,      609, -48.5469,  91.6778,     -999.0,9,     -999.0,9,     -999.0,9,   0.1132,2,   0.0742,2,   0.0342,2,   0.0231,2,   0.0134,2,   0.0043,2,   0.0008,2,     0.0198,2,     0.0224,2,     -999.0,9,     -999.0,9,     -999.0,9
33RR20160208,       I08S,      45,          1,         14,         14,2,20160302,       0520,   -48.5469,    91.6778,       3593,  1435.2,   2.5289,  34.6549,2,  34.6550,2,    179.9,2,   180.2,2,    71.8,2,    0.00,2,   32.41,2,    0.00,2,    2.20,2,   0.356,2,   0.191,2,   0.014,2,   0.120787746,2,  2245.4,2, 2337.91,2,   7.5772,2,    25.08,   2.5287, -999.00,9,  -999.0,9,  -999.0, -999.00,9,-999.000,9,  -999.0,9, -999.00,9,     -999.0,9, -999.00,9, 20160302,      612, -48.5469,  91.6778,     -999.0,9,     -999.0,9,     -999.0,9,-999.0000,9,-999.0000,9,-999.0000,9,-999.0000,9,-999.0000,9,-999.0000,9,-999.0000,9,     -999.0,9,     -999.0,9,     -999.0,9,     -999.0,9,     -999.0,9
33RR20160208,       I08S,      45,          1,         15,         15,2,20160302,       0520,   -48.5469,    91.6778,       3593,  1335.3,   2.6348,  34.6298,2,  34.6291,2,    178.3,2,   179.5,2,    69.6,2,    0.00,2,   32.75,2,    0.00,2,    2.25,2,   0.415,2,   0.209,2,   0.013,2,   0.135886214,2,  -999.0,9, -999.00,9,-999.0000,9,  -999.00,   2.6353, -999.00,9,  -999.0,9,  -999.0, -999.00,9,-999.000,9,  -999.0,9, -999.00,9,     -999.0,9, -999.00,9, 20160302,      615, -48.5469,  91.6778,     -999.0,9,     -999.0,9,     -999.0,9,-999.0000,9,-999.0000,9,-999.0000,9,-999.0000,9,-999.0000,9,-999.0000,9,-999.0000,9,     -999.0,9,     -999.0,9,     -999.0,9,     -999.0,9,     -999.0,9
33RR20160208,       I08S,      45,          1,         16,         16,2,20160302,       0520,   -48.5469,    91.6778,       3593,  1236.3,   2.6865,  34.5949,2,  34.5944,2,    176.7,2,   176.6,2,    68.2,2,    0.00,2,   33.54,2,    0.00,2,    2.30,2,   0.520,2,   0.268,2,   0.022,2,   0.163063457,2,  2243.9,2, 2334.55,2,   7.5663,2,    25.07,   2.6881, -999.00,9,  -999.0,9,  -999.0, -999.00,9,-999.000,9,  -999.0,9, -999.00,9,     -999.0,9, -999.00,9, 20160302,      618, -48.5469,  91.6778,     -999.0,9,     -999.0,9,     -999.0,9,-999.0000,9,-999.0000,9,-999.0000,9,-999.0000,9,-999.0000,9,-999.0000,9,-999.0000,9,     -999.0,9,     -999.0,9,     -999.0,9,     -999.0,9,     -999.0,9
33RR20160208,       I08S,      45,          1,         17,         17,2,20160302,       0520,   -48.5469,    91.6778,       3593,  1135.0,   2.6731,  34.5413,2,  34.5407,2,    176.4,2,   176.3,2,    66.5,2,    0.00,2,   34.09,2,    0.00,2,    2.35,2,   0.776,2,   0.394,2,   0.045,2,   0.233522976,2,  -999.0,9, -999.00,9,-999.0000,9,     9.00,   2.6780, -999.00,9,  -999.0,9,  -999.0, -999.00,9,-999.000,9,  -999.0,9, -999.00,9,     -999.0,9, -999.00,9, 20160302,      621, -48.5469,  91.6781,     -999.0,9,     -999.0,9,     -999.0,9,-999.0000,9,-999.0000,9,-999.0000,9,-999.0000,9,-999.0000,9,-999.0000,9,-999.0000,9,     -999.0,9,     -999.0,9,     -999.0,9,     -999.0,9,     -999.0,9
33RR20160208,       I08S,      45,          1,         18,         37,2,20160302,       0520,   -48.5469,    91.6778,       3593,  1034.7,   2.8286,  34.5131,2,  34.5116,2,    178.4,2,   176.8,2,    62.7,2,    0.00,2,   34.03,2,    0.00,2,    2.35,2,   0.870,2,   0.441,2,   0.048,2,   0.270765864,2,  2242.2,2, 2326.61,2,   7.5575,2,    25.08,   2.8308, -999.00,9,  -999.0,9,  -999.0, -999.00,9,-999.000,9,  -999.0,9, -999.00,9,     -999.0,9, -999.00,9, 20160302,      624, -48.5468,  91.6778,     -999.0,9,     -999.0,9,     -999.0,9,   0.1098,2,   0.0717,2,   0.0339,2,   0.0235,2,   0.0139,2,   0.0047,2,   0.0011,2,     0.0192,2,     0.0220,2,     -999.0,9,     -999.0,9,     -999.0,9
33RR20160208,       I08S,      45,          1,         19,         19,2,20160302,       0520,   -48.5469,    91.6778,       3593,   936.0,   2.8517,  34.4429,2,  34.4428,2,    185.8,2,   183.5,2,    58.0,2,    0.00,2,   34.32,2,    0.00,2,    2.34,2,   1.307,2,   0.653,2,   0.084,2,   0.365382932,2,  -999.0,9, -999.00,9,-999.0000,9,  -999.00,   2.8514, -999.00,9,  -999.0,9,  -999.0, -999.00,9,-999.000,9,  -999.0,9, -999.00,9,     -999.0,9, -999.00,9, 20160302,      627, -48.5469,  91.6779,     -999.0,9,     -999.0,9,     -999.0,9,-999.0000,9,-999.0000,9,-999.0000,9,-999.0000,9,-999.0000,9,-999.0000,9,-999.0000,9,     -999.0,9,     -999.0,9,     -999.0,9,     -999.0,9,     -999.0,9
33RR20160208,       I08S,      45,          1,         20,         20,2,20160302,       0520,   -48.5469,    91.6778,       3593,   835.5,   2.8978,  34.3770,2,  34.3774,2,    194.6,2,   193.3,2,    51.8,2,    0.00,2,   33.95,2,    0.00,2,    2.32,2,   1.774,2,   0.888,2,   0.119,2,   0.573741794,2,  2231.5,2, 2313.48,2,   7.5587,2,    25.09,   2.8971, -999.00,9,  -999.0,9,  -999.0, -999.00,9,-999.000,9,  -999.0,9, -999.00,9,     -999.0,9, -999.00,9, 20160302,      629, -48.5469,  91.6779,     -999.0,9,     -999.0,9,     -999.0,9,-999.0000,9,-999.0000,9,-999.0000,9,-999.0000,9,-999.0000,9,-999.0000,9,-999.0000,9,     -999.0,9,     -999.0,9,     -999.0,9,     -999.0,9,     -999.0,9
33RR20160208,       I08S,      45,          1,         21,         21,2,20160302,       0520,   -48.5469,    91.6778,       3593,   733.5,   2.7553,  34.2751,2,  34.2753,2,    216.0,2,   214.4,2,    43.8,2,    0.00,2,   33.22,2,    0.00,2,    2.27,2,   2.574,2,   1.319,2,   0.191,2,    1.04078775,2,  -999.0,9, -999.00,9,-999.0000,9,  -999.00,   2.7549, -999.00,9,  -999.0,9,  -999.0, -999.00,9,-999.000,9,  -999.0,9, -999.00,9,     -999.0,9, -999.00,9, 20160302,      632, -48.5469,  91.6779,     -999.0,9,     -999.0,9,     -999.0,9,   0.0992,2,   0.0632,2,   0.0295,2,   0.0210,2,   0.0124,2,   0.0040,2,   0.0007,2,     0.0196,2,     0.0229,2,     -999.0,9,     -999.0,9,     -999.0,9
33RR20160208,       I08S,      45,          1,         22,         22,2,20160302,       0520,   -48.5469,    91.6778,       3593,   634.7,   2.8722,  34.1964,2,  34.1966,2,    238.1,2,   234.1,2,    34.3,2,    0.00,2,   31.87,2,    0.00,2,    2.17,2,   3.210,2,   1.662,2,   0.246,2,    1.15452954,2,  2198.9,2, 2293.56,2,   7.5936,2,    25.08,   2.8713, -999.00,9,  -999.0,9,  -999.0, -999.00,9,-999.000,9,  -999.0,9, -999.00,9,     -999.0,9, -999.00,9, 20160302,      635, -48.5469,  91.6779,     -999.0,9,     -999.0,9,     -999.0,9,-999.0000,9,-999.0000,9,-999.0000,9,-999.0000,9,-999.0000,9,-999.0000,9,-999.0000,9,     -999.0,9,     -999.0,9,     -999.0,9,     -999.0,9,     -999.0,9
33RR20160208,       I08S,      45,          1,         23,         23,2,20160302,       0520,   -48.5469,    91.6778,       3593,   533.8,   3.4082,  34.1688,2,  34.1694,2,    243.6,2,   243.4,2,    26.3,2,    0.00,2,   30.38,2,    0.00,2,    2.07,2,   3.568,2,   1.897,2,   0.280,2,     1.4283151,2,  -999.0,9, -999.00,9,-999.0000,9,     9.00,   3.4075, -999.00,9,  -999.0,9,  -999.0, -999.00,9,-999.000,9,  -999.0,9, -999.00,9,     -999.0,9, -999.00,9, 20160302,      638, -48.5469,  91.6778,     -999.0,9,     -999.0,9,     -999.0,9,   0.0867,2,   0.0540,2,   0.0243,2,   0.0175,2,   0.0102,2,   0.0031,2,   0.0005,3,     0.0203,2,     0.0242,2,     -999.0,9,     -999.0,9,     -999.0,9
33RR20160208,       I08S,      45,          1,         24,         24,2,20160302,       0520,   -48.5469,    91.6778,       3593,   465.2,   3.5984,  34.1244,2,  34.1324,2,    251.6,2,   253.8,2,    21.3,2,    0.00,2,   29.21,2,    0.00,2,    1.99,2,   3.813,2,   2.055,2,   0.302,2,    1.62358862,2,  2176.8,2, 2285.03,2,   7.6285,2,    25.09,   3.5929, -999.00,9,  -999.0,9,  -999.0, -999.00,9,-999.000,9,  -999.0,9, -999.00,9,     -999.0,9, -999.00,9, 20160302,      640, -48.5469,  91.6778,     -999.0,9,     -999.0,9,     -999.0,9,-999.0000,9,-999.0000,9,-999.0000,9,-999.0000,9,-999.0000,9,-999.0000,9,-999.0000,9,     -999.0,9,     -999.0,9,     -999.0,9,     -999.0,9,     -999.0,9
33RR20160208,       I08S,      45,          1,         25,         25,2,20160302,       0520,   -48.5469,    91.6778,       3593,   415.3,   3.8499,  34.1130,2,  34.1112,2,    258.2,2,   259.2,2,    19.4,2,    0.00,2,   28.41,2,    0.00,2,    1.94,2,-999.000,9,-999.000,9,-999.000,9,-999.000000000,9,  -999.0,9, -999.00,9,-999.0000,9,  -999.00,   3.8475, -999.00,9,  -999.0,9,  -999.0, -999.00,9,-999.000,9,  -999.0,9, -999.00,9,     -999.0,9, -999.00,9, 20160302,      642, -48.5469,  91.6779,     -999.0,9,     -999.0,9,     -999.0,9,-999.0000,9,-999.0000,9,-999.0000,9,-999.0000,9,-999.0000,9,-999.0000,9,-999.0000,9,     -999.0,9,     -999.0,9,     -999.0,9,     -999.0,9,     -999.0,9
33RR20160208,       I08S,      45,          1,         26,         26,2,20160302,       0520,   -48.5469,    91.6778,       3593,   362.7,   4.5351,  34.1514,2,  34.1510,2,    254.3,2,   254.6,2,    16.3,2,    0.00,2,   27.54,2,    0.00,2,    1.85,2,   3.830,2,   2.085,2,   0.301,2,    1.74538293,2,  2167.1,2, 2282.40,2,   7.6530,2,    25.06,   4.5349, -999.00,9,  -999.0,9,  -999.0, -999.00,9,-999.000,9,  -999.0,9, -999.00,9,     -999.0,9, -999.00,9, 20160302,      644, -48.5469,  91.6779,     -999.0,9,     -999.0,9,     -999.0,9,   0.0819,2,   0.0511,2,   0.0222,2,   0.0164,2,   0.0094,2,   0.0026,2,   0.0002,4,     0.0208,2,     0.0247,2,     -999.0,9,     -999.0,9,     -999.0,9
33RR20160208,       I08S,      45,          1,         27,         27,2,20160302,       0520,   -48.5469,    91.6778,       3593,   315.3,   4.7342,  34.1247,2,  34.1245,2,    261.5,2,   260.9,2,    14.2,2,    0.00,2,   26.33,2,    0.01,2,    1.80,2,-999.000,9,-999.000,9,-999.000,9,-999.000000000,9,  2160.8,2, 2280.71,2,   7.6637,2,    25.05,   4.7349, -999.00,9,  -999.0,9,  -999.0, -999.00,9,-999.000,9,  -999.0,9, -999.00,9,     -999.0,9, -999.00,9, 20160302,      646, -48.5469,  91.6780,     -999.0,9,     -999.0,9,     -999.0,9,-999.0000,9,-999.0000,9,-999.0000,9,-999.0000,9,-999.0000,9,-999.0000,9,-999.0000,9,     -999.0,9,     -999.0,9,     -999.0,9,     -999.0,9,     -999.0,9