BOTTLE,20220706CCHSIOAMB
EXPOCODE,SECT_ID,STNNBR,CASTNO,SAMPNO,BTLNBR,BTLNBR_FLAG_W,DATE,TIME,LATITUDE,LONGITUDE,DEPTH,CTDPRS,CTDTMP,CTDSAL,CTDSAL_FLAG_W,SALNTY,SALNTY_FLAG_W,CTDOXY,CTDOXY_FLAG_W,OXYGEN,OXYGEN_FLAG_W,SILCAT,SILCAT_FLAG_W,NH4,NH4_FLAG_W,NITRAT,NITRAT_FLAG_W,NITRIT,NITRIT_FLAG_W,PHSPHT,PHSPHT_FLAG_W,CFC-11,CFC-11_FLAG_W,CFC-12,CFC-12_FLAG_W,CFC113,CFC113_FLAG_W,SF6,SF6_FLAG_W,TCARBN,TCARBN_FLAG_W,ALKALI,ALKALI_FLAG_W,PH_TOT,PH_TOT_FLAG_W,PH_TMP,REFTMP,DELC13,DELC13_FLAG_W,DELC14,DELC14_FLAG_W,C14ERR,DELO18,DELO18_FLAG_W,POC,POC_FLAG_W,DOC,DOC_FLAG_W,TDN,TDN_FLAG_W,TON,TON_FLAG_W,D15N_NO3,D15N_NO3_FLAG_W,BTL_DATE,BTL_TIME,BTL_LAT,BTL_LON,14C-DOC,14C-DOC_FLAG_W,CHLORA,CHLORA_FLAG_W,HPLC,HPLC_FLAG_W,CDOM325,CDOM325_FLAG_W,CDOM340,CDOM340_FLAG_W,CDOM380,CDOM380_FLAG_W,CDOM412,CDOM412_FLAG_W,CDOM443,CDOM443_FLAG_W,CDOM490,CDOM490_FLAG_W,CDOM555,CDOM555_FLAG_W,CDOMSL,CDOMSL_FLAG_W,CDOMSN,CDOMSN_FLAG_W,D18O_NO3,D18O_NO3_FLAG_W,D15N_NO2+NO3,D15N_NO2+NO3_FLAG_W,D18O_NO2+NO3,D18O_NO2+NO3_FLAG_W
,,,,,,,,,,,METERS,DBAR,ITS-90,PSS-78,,PSS-78,,UMOL/KG,,UMOL/KG,,UMOL/KG,,UMOL/KG,,UMOL/KG,,UMOL/KG,,UMOL/KG,,PMOL/KG,,PMOL/KG,,PMOL/KG,,FMOL/KG,,UMOL/KG,,UMOL/KG,,,,DEG C,DEG C,/MILLE,,/MILLE,,/MILLE,/MILLE,,UG/KG,,UMOL/KG,,UMOL/KG,,UMOL/KG,,/MILLE,,,,,,/MILLE,,MG/M3,,,,1/M,,1/M,,1/M,,1/M,,1/M,,1/M,,1/M,,1/NM,,1/NM,,/MILLE,,/MILLE,,/MILLE,
33RR20160208,       I08S,      61,          1,          1,          1,2,20160306,       1043,   -39.5070,    95.0020,       3766,  3782.6,   1.0937,  34.7166,2,  34.7176,2,    206.4,2,   206.4,2,   116.6,2,    0.00,2,   31.77,2,    0.00,2,    2.19,2,   0.152,2,   0.076,2,   0.000,2,         0.046,2,  2263.9,6, 2369.80,2,   7.6137,2,    25.03,   1.0935, -999.00,9,  -999.0,9,  -999.0, -999.00,9,-999.000,9,  -999.0,9, -999.00,9,     -999.0,9, -999.00,9, 20160306,     1043, -39.5070,  95.0020,     -999.0,9,     -999.0,9,     -999.0,9,-999.0000,9,-999.0000,9,-999.0000,9,-999.0000,9,-999.0000,9,-999.0000,9,-999.0000,9,     -999.0,9,     -999.0,9,     -999.0,9,     -999.0,9,     -999.0,9
33RR20160208,       I08S,      61,          1,          2,          2,2,20160306,       1043,   -39.5070,    95.0020,       3766,  3577.2,   1.1070,  34.7182,2,  34.7188,2,    205.8,2,   206.4,2,   115.6,2,    0.00,2,   31.78,2,    0.00,2,    2.18,2,   0.147,2,   0.080,2,   0.000,2,          0.03,2,  2260.5,2, 2368.30,2,   7.6129,2,    25.02,   1.1071, -999.00,9,  -999.0,9,  -999.0, -999.00,9,-999.000,9,  -999.0,9, -999.00,9,     -999.0,9, -999.00,9, 20160306,     1048, -39.5070,  95.0020,     -999.0,9,     -999.0,9,     -999.0,9,-999.0000,9,-999.0000,9,-999.0000,9,-999.0000,9,-999.0000,9,-999.0000,9,-999.0000,9,     -999.0,9,     -999.0,9,     -999.0,9,     -999.0,9,     -999.0,9
33RR20160208,       I08S,      61,          1,          3,          3,2,20160306,       1043,   -39.5070,    95.0020,       3766,  3373.9,   1.2096,  34.7236,2,  34.7241,2,    205.0,2,   205.9,2,   111.5,2,    0.00,2,   31.44,2,    0.00,2,    2.19,2,   0.150,2,   0.082,2,   0.000,2,          0.09,2,  -999.0,9, -999.00,9,-999.0000,9,  -999.00,   1.2095, -999.00,9,  -999.0,9,  -999.0, -999.00,9,-999.000,9,  -999.0,9, -999.00,9,     -999.0,9, -999.00,9, 20160306,     1053, -39.5071,  95.0020,     -999.0,9,     -999.0,9,     -999.0,9,-999.0000,9,-999.0000,9,-999.0000,9,-999.0000,9,-999.0000,9,-999.0000,9,-999.0000,9,     -999.0,9,     -999.0,9,     -999.0,9,     -999.0,9,     -999.0,9
33RR20160208,       I08S,      61,          1,          4,          4,2,20160306,       1043,   -39.5070,    95.0020,       3766,  3160.2,   1.3611,  34.7310,2,  34.7319,2,    203.2,2,   204.1,2,   106.2,2,    0.00,2,   31.16,2,    0.00,2,    2.14,2,-999.000,9,-999.000,9,-999.000,9,-999.000000000,9,  2253.4,2, 2361.42,2,   7.6123,2,    25.02,   1.3611, -999.00,9,  -999.0,9,  -999.0, -999.00,9,-999.000,9,  -999.0,9, -999.00,9,     -999.0,9, -999.00,9, 20160306,     1058, -39.5071,  95.0020,     -999.0,9,     -999.0,9,     -999.0,9,-999.0000,9,-999.0000,9,-999.0000,9,-999.0000,9,-999.0000,9,-999.0000,9,-999.0000,9,     -999.0,9,     -999.0,9,     -999.0,9,     -999.0,9,     -999.0,9
33RR20160208,       I08S,      61,          1,          5,          5,2,20160306,       1043,   -39.5070,    95.0020,       3766,  2913.3,   1.6035,  34.7414,2,  34.7422,2,    200.7,2,   200.8,2,    98.0,2,    0.00,2,   30.70,2,    0.00,2,    2.13,2,   0.092,2,   0.052,2,   0.000,2,         0.038,2,  -999.0,9, -999.00,9,-999.0000,9,     9.00,   1.6044, -999.00,9,  -999.0,9,  -999.0, -999.00,9,-999.000,9,  -999.0,9, -999.00,9,     -999.0,9, -999.00,9, 20160306,     1103, -39.5071,  95.0020,     -999.0,9,     -999.0,9,     -999.0,9,-999.0000,9,-999.0000,9,-999.0000,9,-999.0000,9,-999.0000,9,-999.0000,9,-999.0000,9,     -999.0,9,     -999.0,9,     -999.0,9,     -999.0,9,     -999.0,9
33RR20160208,       I08S,      61,          1,          6,         38,2,20160306,       1043,   -39.5070,    95.0020,       3766,  2661.0,   1.9419,  34.7488,2,  34.7490,2,    196.3,2,   196.8,2,    88.2,2,    0.00,2,   30.38,2,    0.00,2,    2.10,2,-999.000,9,-999.000,9,-999.000,9,-999.000000000,9,  2247.9,2, 2354.63,6,   7.6155,2,    25.01,   1.9417, -999.00,9,  -999.0,9,  -999.0, -999.00,9,-999.000,9,  -999.0,9, -999.00,9,     -999.0,9, -999.00,9, 20160306,     1108, -39.5071,  95.0020,     -999.0,9,     -999.0,9,     -999.0,9,-999.0000,9,-999.0000,9,-999.0000,9,-999.0000,9,-999.0000,9,-999.0000,9,-999.0000,9,     -999.0,9,     -999.0,9,     -999.0,9,     -999.0,9,     -999.0,9
33RR20160208,       I08S,      61,          1,          7,          7,2,20160306,       1043,   -39.5070,    95.0020,       3766,  2417.1,   2.1862,  34.7418,2,  34.7422,2,    191.7,2,   191.8,2,    81.4,2,    0.00,2,   30.49,2,    0.00,2,    2.10,2,   0.094,2,   0.054,2,   0.000,2,             0,2,  -999.0,9, -999.00,9,-999.0000,9,  -999.00,   2.1862, -999.00,9,  -999.0,9,  -999.0, -999.00,9,-999.000,9,  -999.0,9, -999.00,9,     -999.0,9, -999.00,9, 20160306,     1114, -39.5071,  95.0020,     -999.0,9,     -999.0,9,     -999.0,9,-999.0000,9,-999.0000,9,-999.0000,9,-999.0000,9,-999.0000,9,-999.0000,9,-999.0000,9,     -999.0,9,     -999.0,9,     -999.0,9,     -999.0,9,     -999.0,9
33RR20160208,       I08S,      61,          1,          8,          8,2,20160306,       1043,   -39.5070,    95.0020,       3766,  2164.2,   2.3728,  34.7136,2,  34.7143,2,    182.4,2,   183.4,2,    79.6,2,    0.00,2,   31.44,2,    0.00,2,    2.17,2,-999.000,9,-999.000,9,-999.000,9,-999.000000000,9,  2249.3,2, 2349.24,2,   7.5948,2,    25.01,   2.3726, -999.00,9,  -999.0,9,  -999.0, -999.00,9,-999.000,9,  -999.0,9, -999.00,9,     -999.0,9, -999.00,9, 20160306,     1119, -39.5071,  95.0021,     -999.0,9,     -999.0,9,     -999.0,9,-999.0000,9,-999.0000,9,-999.0000,9,-999.0000,9,-999.0000,9,-999.0000,9,-999.0000,9,     -999.0,9,     -999.0,9,     -999.0,9,     -999.0,9,     -999.0,9
33RR20160208,       I08S,      61,          1,          9,          9,2,20160306,       1043,   -39.5070,    95.0020,       3766,  1935.8,   2.5593,  34.6608,2,  34.6613,2,    174.9,2,   175.7,2,    75.9,2,    0.00,2,   32.57,2,    0.00,2,    2.27,2,   0.201,2,   0.112,2,   0.002,2,         0.047,2,  -999.0,9, -999.00,9,-999.0000,9,  -999.00,   2.5601, -999.00,9,  -999.0,9,  -999.0, -999.00,9,-999.000,9,  -999.0,9, -999.00,9,     -999.0,9, -999.00,9, 20160306,     1124, -39.5071,  95.0020,     -999.0,9,     -999.0,9,     -999.0,9,-999.0000,9,-999.0000,9,-999.0000,9,-999.0000,9,-999.0000,9,-999.0000,9,-999.0000,9,     -999.0,9,     -999.0,9,     -999.0,9,     -999.0,9,     -999.0,9
33RR20160208,       I08S,      61,          1,         10,         10,2,20160306,       1043,   -39.5070,    95.0020,       3766,  1767.7,   2.7033,  34.5999,2,  34.6001,2,    172.6,2,   172.3,2,    71.4,2,    0.00,2,   33.42,2,    0.00,2,    2.31,2,   0.348,2,   0.186,2,   0.010,2,          0.09,2,  2253.1,2, 2338.47,2,   7.5654,6,    25.03,   2.7034, -999.00,9,  -999.0,9,  -999.0, -999.00,9,-999.000,9,  -999.0,9, -999.00,9,     -999.0,9, -999.00,9, 20160306,     1128, -39.5071,  95.0020,     -999.0,9,     -999.0,9,     -999.0,9,-999.0000,9,-999.0000,9,-999.0000,9,-999.0000,9,-999.0000,9,-999.0000,9,-999.0000,9,     -999.0,9,     -999.0,9,     -999.0,9,     -999.0,9,     -999.0,9
33RR20160208,       I08S,      61,          1,         11,         11,2,20160306,       1043,   -39.5070,    95.0020,       3766,  1665.7,   2.7987,  34.5591,2,  34.5595,2,    173.1,2,   172.3,2,    68.1,2,    0.00,2,   33.79,2,    0.00,2,    2.32,2,   0.480,2,   0.251,2,   0.018,2,         0.146,2,  -999.0,9, -999.00,9,-999.0000,9,     9.00,   2.7989, -999.00,9,  -999.0,9,  -999.0, -999.00,9,-999.000,9,  -999.0,9, -999.00,9,     -999.0,9, -999.00,9, 20160306,     1131, -39.5070,  95.0020,     -999.0,9,     -999.0,9,     -999.0,9,-999.0000,9,-999.0000,9,-999.0000,9,-999.0000,9,-999.0000,9,-999.0000,9,-999.0000,9,     -999.0,9,     -999.0,9,     -999.0,9,     -999.0,9,     -999.0,9
33RR20160208,       I08S,      61,          1,         12,         12,2,20160306,       1043,   -39.5070,    95.0020,       3766,  1567.0,   2.9644,  34.5109,2,  34.5105,2,    174.9,2,   174.4,2,    63.7,2,    0.00,2,   33.99,2,    0.00,2,    2.36,2,   0.683,2,   0.337,2,   0.029,2,         0.217,2,  2244.9,6, 2327.90,2,   7.5611,6,    25.02,   2.9648, -999.00,9,  -999.0,9,  -999.0, -999.00,9,-999.000,9,  -999.0,9, -999.00,9,     -999.0,9, -999.00,9, 20160306,     1133, -39.5070,  95.0020,     -999.0,9,     -999.0,9,     -999.0,9,-999.0000,9,-999.0000,9,-999.0000,9,-999.0000,9,-999.0000,9,-999.0000,9,-999.0000,9,     -999.0,9,     -999.0,9,     -999.0,9,     -999.0,9,     -999.0,9
33RR20160208,       I08S,      61,          1,         13,         13,2,20160306,       1043,   -39.5070,    95.0020,       3766,  1463.9,   3.1410,  34.4676,2,  34.4675,2,    178.9,2,   177.8,2,    58.7,2,    0.00,2,   33.98,2,    0.00,2,    2.35,2,   0.867,2,   0.437,2,   0.044,2,         0.244,2,  -999.0,9, -999.00,9,-999.0000,9,  -999.00,   3.1403, -999.00,9,  -999.0,9,  -999.0, -999.00,9,-999.000,9,  -999.0,9, -999.00,9,     -999.0,9, -999.00,9, 20160306,     1136, -39.5070,  95.0020,     -999.0,9,     -999.0,9,     -999.0,9,-999.0000,9,-999.0000,9,-999.0000,9,-999.0000,9,-999.0000,9,-999.0000,9,-999.0000,9,     -999.0,9,     -999.0,9,     -999.0,9,     -999.0,9,     -999.0,9
33RR20160208,       I08S,      61,          1,         14,         14,2,20160306,       1043,   -39.5070,    95.0020,       3766,  1364.1,   3.4262,  34.4134,2,  34.4140,2,    186.3,2,   186.5,2,    50.8,2,    0.00,2,   33.37,2,    0.00,2,    2.30,2,   1.230,2,   0.616,2,   0.065,2,         0.266,2,  2226.9,2, 2315.66,2,   7.5752,6,    25.02,   3.4244, -999.00,9,  -999.0,9,  -999.0, -999.00,9,-999.000,9,  -999.0,9, -999.00,9,     -999.0,9, -999.00,9, 20160306,     1139, -39.5071,  95.0020,     -999.0,9,     -999.0,9,     -999.0,9,-999.0000,9,-999.0000,9,-999.0000,9,-999.0000,9,-999.0000,9,-999.0000,9,-999.0000,9,     -999.0,9,     -999.0,9,     -999.0,9,     -999.0,9,     -999.0,9
33RR20160208,       I08S,      61,          1,         15,         15,2,20160306,       1043,   -39.5070,    95.0020,       3766,  1265.7,   3.6990,  34.3795,2,  34.3792,2,    192.9,2,   192.8,2,    43.9,2,    0.00,2,   32.63,2,    0.00,2,    2.26,2,   1.534,2,   0.762,2,   0.085,2,          0.33,2,  -999.0,9, -999.00,9,-999.0000,9,  -999.00,   3.6994, -999.00,9,  -999.0,9,  -999.0, -999.00,9,-999.000,9,  -999.0,9, -999.00,9,     -999.0,9, -999.00,9, 20160306,     1142, -39.5070,  95.0020,     -999.0,9,     -999.0,9,     -999.0,9,-999.0000,9,-999.0000,9,-999.0000,9,-999.0000,9,-999.0000,9,-999.0000,9,-999.0000,9,     -999.0,9,     -999.0,9,     -999.0,9,     -999.0,9,     -999.0,9
33RR20160208,       I08S,      61,          1,         16,         16,2,20160306,       1043,   -39.5070,    95.0020,       3766,  1165.7,   4.1615,  34.3519,2,  34.3494,2,    201.4,2,   201.1,2,    35.6,2,    0.00,2,   31.39,2,    0.00,2,    2.14,2,   1.980,2,   0.978,2,   0.113,2,          0.46,2,  2205.4,2, 2301.37,2,   7.6031,2,    25.01,   4.1613, -999.00,9,  -999.0,9,  -999.0, -999.00,9,-999.000,9,  -999.0,9, -999.00,9,     -999.0,9, -999.00,9, 20160306,     1144, -39.5071,  95.0020,     -999.0,9,     -999.0,9,     -999.0,9,-999.0000,9,-999.0000,9,-999.0000,9,-999.0000,9,-999.0000,9,-999.0000,9,-999.0000,9,     -999.0,9,     -999.0,9,     -999.0,9,     -999.0,9,     -999.0,9
33RR20160208,       I08S,      61,          1,         17,         17,2,20160306,       1043,   -39.5070,    95.0020,       3766,  1065.4,   4.8133,  34.3322,2,  34.3321,2,    210.5,2,   210.8,2,    26.1,2,    0.00,2,   29.51,2,    0.00,2,    2.01,2,   2.580,2,   1.324,2,   0.151,2,         0.706,2,  -999.0,9, -999.00,9,-999.0000,9,     9.00,   4.8092, -999.00,9,  -999.0,9,  -999.0, -999.00,9,-999.000,9,  -999.0,9, -999.00,9,     -999.0,9, -999.00,9, 20160306,     1147, -39.5071,  95.0020,     -999.0,9,     -999.0,9,     -999.0,9,-999.0000,9,-999.0000,9,-999.0000,9,-999.0000,9,-999.0000,9,-999.0000,9,-999.0000,9,     -999.0,9,     -999.0,9,     -999.0,9,     -999.0,9,     -999.0,9
33RR20160208,       I08S,      61,          1,         18,         37,2,20160306,       1043,   -39.5070,    95.0020,       3766,   966.7,   5.9281,  34.3929,2,  34.3946,2,    203.4,2,   203.3,2,    20.3,2,    0.00,2,   27.72,2,    0.00,2,    1.88,2,   2.458,2,   1.241,2,   0.110,2,         0.534,2,  2180.4,2, 2288.63,2,   7.6423,2,    25.04,   5.9308, -999.00,9,  -999.0,9,  -999.0, -999.00,9,-999.000,9,  -999.0,9, -999.00,9,     -999.0,9, -999.00,9, 20160306,     1150, -39.5071,  95.0020,     -999.0,9,     -999.0,9,     -999.0,9,-999.0000,9,-999.0000,9,-999.0000,9,-999.0000,9,-999.0000,9,-999.0000,9,-999.0000,9,     -999.0,9,     -999.0,9,     -999.0,9,     -999.0,9,     -999.0,9
33RR20160208,       I08S,      61,          1,         19,         19,2,20160306,       1043,   -39.5070,    95.0020,       3766,   866.6,   7.2797,  34.4806,2,  34.4875,2,    207.9,2,   206.3,2,    13.7,2,    0.00,2,   24.18,2,    0.00,2,    1.61,2,   2.755,2,   1.441,2,   0.105,2,         0.749,2,  -999.0,9, -999.00,9,-999.0000,9,  -999.00,   7.3122, -999.00,9,  -999.0,9,  -999.0, -999.00,9,-999.000,9,  -999.0,9, -999.00,9,     -999.0,9, -999.00,9, 20160306,     1153, -39.5071,  95.0020,     -999.0,9,     -999.0,9,     -999.0,9,-999.0000,9,-999.0000,9,-999.0000,9,-999.0000,9,-999.0000,9,-999.0000,9,-999.0000,9,     -999.0,9,     -999.0,9,     -999.0,9,     -999.0,9,     -999.0,9
33RR20160208,       I08S,      61,          1,         20,         20,2,20160306,       1043,   -39.5070,    95.0020,       3766,   765.8,   8.4056,  34.5696,2,  34.5671,2,    223.6,2,   220.4,2,     8.3,2,    0.00,2,   20.62,2,    0.00,2,    1.37,2,   3.129,2,   1.701,2,   0.123,2,         0.906,2,  2149.9,2, 2288.38,2,   7.7196,2,    25.03,   8.4040, -999.00,9,  -999.0,9,  -999.0, -999.00,9,-999.000,9,  -999.0,9, -999.00,9,     -999.0,9, -999.00,9, 20160306,     1156, -39.5071,  95.0020,     -999.0,9,     -999.0,9,     -999.0,9,-999.0000,9,-999.0000,9,-999.0000,9,-999.0000,9,-999.0000,9,-999.0000,9,-999.0000,9,     -999.0,9,     -999.0,9,     -999.0,9,     -999.0,9,     -999.0,9
33RR20160208,       I08S,      61,          1,         21,         21,2,20160306,       1043,   -39.5070,    95.0020,       3766,   663.7,   9.2144,  34.6563,2,  34.6564,2,    236.9,2,   236.1,2,     5.0,2,    0.00,2,   17.02,2,    0.00,2,    1.16,2,   3.345,2,   1.889,2,   0.140,2,         1.344,2,  -999.0,9, -999.00,9,-999.0000,9,  -999.00,   9.2156, -999.00,9,  -999.0,9,  -999.0, -999.00,9,-999.000,9,  -999.0,9, -999.00,9,     -999.0,9, -999.00,9, 20160306,     1200, -39.5071,  95.0020,     -999.0,9,     -999.0,9,     -999.0,9,-999.0000,9,-999.0000,9,-999.0000,9,-999.0000,9,-999.0000,9,-999.0000,9,-999.0000,9,     -999.0,9,     -999.0,9,     -999.0,9,     -999.0,9,     -999.0,9
33RR20160208,       I08S,      61,          1,         22,         22,2,20160306,       1043,   -39.5070,    95.0020,       3766,   564.2,   9.6994,  34.7196,2,  34.7194,2,    244.3,2,   243.0,2,     4.2,2,    0.00,2,   15.05,2,    0.00,2,    1.04,2,   3.296,2,   1.876,2,   0.146,2,         1.483,2,  2130.5,2, 2295.34,2,   7.7787,2,    25.02,   9.6985, -999.00,9,  -999.0,9,  -999.0, -999.00,9,-999.000,9,  -999.0,9, -999.00,9,     -999.0,9, -999.00,9, 20160306,     1203, -39.5071,  95.0020,     -999.0,9,     -999.0,9,     -999.0,9,-999.0000,9,-999.0000,9,-999.0000,9,-999.0000,9,-999.0000,9,-999.0000,9,-999.0000,9,     -999.0,9,     -999.0,9,     -999.0,9,     -999.0,9,     -999.0,9
33RR20160208,       I08S,      61,          1,         23,         23,2,20160306,       1043,   -39.5070,    95.0020,       3766,   484.6,  10.0979,  34.7759,2,  34.7765,2,    246.5,2,   247.2,2,     3.6,2,    0.00,2,   13.42,2,    0.00,2,    0.95,2,   3.227,2,   1.879,2,   0.151,2,         1.752,2,  -999.0,9, -999.00,9,-999.0000,9,     9.00,  10.0972, -999.00,9,  -999.0,9,  -999.0, -999.00,9,-999.000,9,  -999.0,9, -999.00,9,     -999.0,9, -999.00,9, 20160306,     1205, -39.5071,  95.0020,     -999.0,9,     -999.0,9,     -999.0,9,-999.0000,9,-999.0000,9,-999.0000,9,-999.0000,9,-999.0000,9,-999.0000,9,-999.0000,9,     -999.0,9,     -999.0,9,     -999.0,9,     -999.0,9,     -999.0,9
33RR20160208,       I08S,      61,          1,         24,         24,2,20160306,       1043,   -39.5070,    95.0020,       3766,   435.2,  10.4034,  34.8225,2,  34.8232,2,    245.3,2,   246.6,2,     3.5,2,    0.00,2,   12.79,2,    0.00,2,    0.92,2,-999.000,9,-999.000,9,-999.000,9,-999.000000000,9,  2125.4,2, 2299.44,2,   7.8013,2,    25.01,  10.4014, -999.00,9,  -999.0,9,  -999.0, -999.00,9,-999.000,9,  -999.0,9, -999.00,9,     -999.0,9, -999.00,9, 20160306,     1208, -39.5071,  95.0020,     -999.0,9,     -999.0,9,     -999.0,9,-999.0000,9,-999.0000,9,-999.0000,9,-999.0000,9,-999.0000,9,-999.0000,9,-999.0000,9,     -999.0,9,     -999.0,9,     -999.0,9,     -999.0,9,     -999.0,9
33RR20160208,       I08S,      61,          1,         25,         25,2,20160306,       1043,   -39.5070,    95.0020,       3766,   384.3,  10.6627,  34.8631,2,  34.8707,2,    245.1,2,   246.0,2,     3.7,2,    0.00,2,   12.41,2,    0.00,2,    0.91,2,   3.115,2,   1.804,2,   0.148,2,         1.639,2,  -999.0,9, -999.00,9,-999.0000,9,  -999.00,  10.6662, -999.00,9,  -999.0,9,  -999.0, -999.00,9,-999.000,9,  -999.0,9, -999.00,9,     -999.0,9, -999.00,9, 20160306,     1210, -39.5071,  95.0020,     -999.0,9,     -999.0,9,     -999.0,9,-999.0000,9,-999.0000,9,-999.0000,9,-999.0000,9,-999.0000,9,-999.0000,9,-999.0000,9,     -999.0,9,     -999.0,9,     -999.0,9,     -999.0,9,     -999.0,9
33RR20160208,       I08S,      61,          1,         26,         26,2,20160306,       1043,   -39.5070,    95.0020,       3766,   337.4,  10.8921,  34.8934,2,  34.8924,2,    244.4,2,   246.0,2,     3.0,2,    0.00,2,   11.45,2,    0.00,2,    0.83,2,-999.000,9,-999.000,9,-999.000,9,-999.000000000,9,  2122.3,2, 2303.66,2,   7.8113,6,    25.02,  10.8915, -999.00,9,  -999.0,9,  -999.0, -999.00,9,-999.000,9,  -999.0,9, -999.00,9,     -999.0,9, -999.00,9, 20160306,     1212, -39.5071,  95.0020,     -999.0,9,     -999.0,9,     -999.0,9,-999.0000,9,-999.0000,9,-999.0000,9,-999.0000,9,-999.0000,9,-999.0000,9,-999.0000,9,     -999.0,9,     -999.0,9,     -999.0,9,     -999.0,9,     -999.0,9
33RR20160208,       I08S,      61,          1,         27,         27,2,20160306,       1043,   -39.5070,    95.0020,       3766,   286.3,  11.1902,  34.9390,2,  34.9371,2,    243.5,2,   243.5,3,     2.6,2,    0.00,2,   10.69,2,    0.00,2,    0.78,2,   3.065,2,   1.793,2,   0.144,2,         1.614,2,  -999.0,9, -999.00,9,-999.0000,9,  -999.00,  11.1867, -999.00,9,  -999.0,9,  -999.0, -999.00,9,-999.000,9,  -999.0,9, -999.00,9,     -999.0,9, -999.00,9, 20160306,     1214, -39.5071,  95.0020,     -999.0,9,     -999.0,9,     -999.0,9,-999.0000,9,-999.0000,9,-999.0000,9,-999.0000,9,-999.0000,9,-999.0000,9,-999.0000,9,     -999.0,9,     -999.0,9,     -999.0,9,     -999.0,9,     -999.0,9