BOTTLE,20220706CCHSIOAMB
EXPOCODE,SECT_ID,STNNBR,CASTNO,SAMPNO,BTLNBR,BTLNBR_FLAG_W,DATE,TIME,LATITUDE,LONGITUDE,DEPTH,CTDPRS,CTDTMP,CTDSAL,CTDSAL_FLAG_W,SALNTY,SALNTY_FLAG_W,CTDOXY,CTDOXY_FLAG_W,OXYGEN,OXYGEN_FLAG_W,SILCAT,SILCAT_FLAG_W,NH4,NH4_FLAG_W,NITRAT,NITRAT_FLAG_W,NITRIT,NITRIT_FLAG_W,PHSPHT,PHSPHT_FLAG_W,CFC-11,CFC-11_FLAG_W,CFC-12,CFC-12_FLAG_W,CFC113,CFC113_FLAG_W,SF6,SF6_FLAG_W,TCARBN,TCARBN_FLAG_W,ALKALI,ALKALI_FLAG_W,PH_TOT,PH_TOT_FLAG_W,PH_TMP,REFTMP,DELC13,DELC13_FLAG_W,DELC14,DELC14_FLAG_W,C14ERR,DELO18,DELO18_FLAG_W,POC,POC_FLAG_W,DOC,DOC_FLAG_W,TDN,TDN_FLAG_W,TON,TON_FLAG_W,D15N_NO3,D15N_NO3_FLAG_W,BTL_DATE,BTL_TIME,BTL_LAT,BTL_LON,14C-DOC,14C-DOC_FLAG_W,CHLORA,CHLORA_FLAG_W,HPLC,HPLC_FLAG_W,CDOM325,CDOM325_FLAG_W,CDOM340,CDOM340_FLAG_W,CDOM380,CDOM380_FLAG_W,CDOM412,CDOM412_FLAG_W,CDOM443,CDOM443_FLAG_W,CDOM490,CDOM490_FLAG_W,CDOM555,CDOM555_FLAG_W,CDOMSL,CDOMSL_FLAG_W,CDOMSN,CDOMSN_FLAG_W,D18O_NO3,D18O_NO3_FLAG_W,D15N_NO2+NO3,D15N_NO2+NO3_FLAG_W,D18O_NO2+NO3,D18O_NO2+NO3_FLAG_W
,,,,,,,,,,,METERS,DBAR,ITS-90,PSS-78,,PSS-78,,UMOL/KG,,UMOL/KG,,UMOL/KG,,UMOL/KG,,UMOL/KG,,UMOL/KG,,UMOL/KG,,PMOL/KG,,PMOL/KG,,PMOL/KG,,FMOL/KG,,UMOL/KG,,UMOL/KG,,,,DEG C,DEG C,/MILLE,,/MILLE,,/MILLE,/MILLE,,UG/KG,,UMOL/KG,,UMOL/KG,,UMOL/KG,,/MILLE,,,,,,/MILLE,,MG/M3,,,,1/M,,1/M,,1/M,,1/M,,1/M,,1/M,,1/M,,1/NM,,1/NM,,/MILLE,,/MILLE,,/MILLE,
33RR20160208,       I08S,      77,          1,         28,         28,2,20160310,       1424,   -31.7020,    94.9999,       3048,   101.2,  16.7515,  35.6756,2,  35.6740,2,    236.7,2,   236.5,2,     0.7,2,    0.00,2,    0.00,2,    0.00,2,    0.15,2,-999.000,9,-999.000,9,-999.000,9,-999.000000000,9,  2090.8,2, 2346.99,2,   7.9548,6,    24.96,-999.0000, -999.00,9,  -999.0,9,  -999.0, -999.00,9,-999.000,9,  -999.0,9, -999.00,9,     -999.0,9, -999.00,9, 20160310,     1546, -31.7021,  94.9999,     -999.0,9,     -999.0,9,     -999.0,9,-999.0000,9,-999.0000,9,-999.0000,9,-999.0000,9,-999.0000,9,-999.0000,9,-999.0000,9,     -999.0,9,     -999.0,9,     -999.0,9,     -999.0,9,     -999.0,9
33RR20160208,       I08S,      77,          1,         29,         29,2,20160310,       1424,   -31.7020,    94.9999,       3048,    76.8,  17.5007,  35.6870,2,  35.6716,2,    250.9,2,   250.9,2,     0.7,2,    0.00,2,    0.00,2,    0.00,2,    0.12,2,-999.000,9,-999.000,9,-999.000,9,-999.000000000,9,  -999.0,9, -999.00,9,-999.0000,9,     9.00,-999.0000, -999.00,9,  -999.0,9,  -999.0, -999.00,9,-999.000,9,  -999.0,9, -999.00,9,     -999.0,9, -999.00,9, 20160310,     1548, -31.7021,  94.9999,     -999.0,9,     -999.0,9,     -999.0,9,-999.0000,9,-999.0000,9,-999.0000,9,-999.0000,9,-999.0000,9,-999.0000,9,-999.0000,9,     -999.0,9,     -999.0,9,     -999.0,9,     -999.0,9,     -999.0,9
33RR20160208,       I08S,      77,          1,         30,         30,2,20160310,       1424,   -31.7020,    94.9999,       3048,    52.1,  21.3577,  35.8193,2,  35.8141,2,    230.6,2,   232.5,2,     0.8,2,    0.00,2,    0.00,2,    0.00,2,    0.09,2,-999.000,9,-999.000,9,-999.000,9,-999.000000000,9,  2073.4,2, 2356.44,2,   7.9974,2,    24.96,-999.0000, -999.00,9,  -999.0,9,  -999.0, -999.00,9,-999.000,9,  -999.0,9, -999.00,9,     -999.0,9, -999.00,9, 20160310,     1550, -31.7021,  94.9999,     -999.0,9,     -999.0,9,     -999.0,9,-999.0000,9,-999.0000,9,-999.0000,9,-999.0000,9,-999.0000,9,-999.0000,9,-999.0000,9,     -999.0,9,     -999.0,9,     -999.0,9,     -999.0,9,     -999.0,9
33RR20160208,       I08S,      77,          1,         31,         31,2,20160310,       1424,   -31.7020,    94.9999,       3048,    27.4,  23.3694,  35.9063,2,  35.9011,2,    214.3,2,   214.8,2,     1.4,2,    0.00,2,    0.00,2,    0.00,2,    0.05,2,-999.000,9,-999.000,9,-999.000,9,-999.000000000,9,  -999.0,9, -999.00,9,-999.0000,9,  -999.00,-999.0000, -999.00,9,  -999.0,9,  -999.0, -999.00,9,-999.000,9,  -999.0,9, -999.00,9,     -999.0,9, -999.00,9, 20160310,     1551, -31.7021,  94.9999,     -999.0,9,     -999.0,9,     -999.0,9,-999.0000,9,-999.0000,9,-999.0000,9,-999.0000,9,-999.0000,9,-999.0000,9,-999.0000,9,     -999.0,9,     -999.0,9,     -999.0,9,     -999.0,9,     -999.0,9
33RR20160208,       I08S,      77,          1,         32,         32,2,20160310,       1424,   -31.7020,    94.9999,       3048,     6.5,  23.3650,  35.8923,2,  35.8899,2,    215.6,2,   214.6,2,     1.4,2,    0.00,2,    0.00,2,    0.00,2,    0.06,2,-999.000,9,-999.000,9,-999.000,9,-999.000000000,9,  2053.2,2, 2363.14,2,   8.0319,6,    24.97,-999.0000, -999.00,9,  -999.0,9,  -999.0, -999.00,9,-999.000,9,  -999.0,9, -999.00,9,     -999.0,9, -999.00,9, 20160310,     1553, -31.7021,  94.9998,     -999.0,9,     -999.0,9,     -999.0,9,-999.0000,9,-999.0000,9,-999.0000,9,-999.0000,9,-999.0000,9,-999.0000,9,-999.0000,9,     -999.0,9,     -999.0,9,     -999.0,9,     -999.0,9,     -999.0,9
33RR20160208,       I08S,      78,          1,          1,          1,2,20160310,       1859,   -31.2999,    95.0019,       1484,  1483.5,   3.0807,  34.6027,2,  34.6029,2,    150.8,2,   151.4,2,    82.1,2,    0.00,2,   34.74,2,    0.00,2,    2.44,2,-999.000,9,-999.000,9,-999.000,9,-999.000000000,9,  2270.6,2, 2353.54,6,   7.5569,2,    24.98,-999.0000,    0.36,2,  -158.2,2,     2.0, -999.00,9,-999.000,9,    37.5,2, -999.00,9,     -999.0,1, -999.00,9, 20160310,     1859, -31.2999,  95.0019,     -999.0,9,     -999.0,9,     -999.0,9,-999.0000,9,-999.0000,9,-999.0000,9,-999.0000,9,-999.0000,9,-999.0000,9,-999.0000,9,     -999.0,9,     -999.0,9,     -999.0,9,     -999.0,9,     -999.0,9
33RR20160208,       I08S,      78,          1,          2,          2,2,20160310,       1859,   -31.2999,    95.0019,       1484,  1361.3,   3.3771,  34.5586,2,  34.5578,2,    149.7,2,   150.0,2,    75.8,2,    0.00,2,   34.92,2,    0.00,2,    2.46,2,-999.000,9,-999.000,9,-999.000,9,-999.000000000,9,  -999.0,9, -999.00,9,-999.0000,9,  -999.00,-999.0000,    0.40,2,  -153.1,2,     2.0, -999.00,9,-999.000,9,    38.0,2, -999.00,9,     -999.0,1, -999.00,9, 20160310,     1902, -31.2999,  95.0019,     -999.0,9,     -999.0,9,     -999.0,9,-999.0000,9,-999.0000,9,-999.0000,9,-999.0000,9,-999.0000,9,-999.0000,9,-999.0000,9,     -999.0,9,     -999.0,9,     -999.0,9,     -999.0,9,     -999.0,9
33RR20160208,       I08S,      78,          1,          3,          3,2,20160310,       1859,   -31.2999,    95.0019,       1484,  1235.2,   3.6384,  34.4954,2,  34.4961,2,    159.1,2,   159.2,2,    64.6,2,    0.00,2,   34.36,2,    0.00,2,    2.40,2,-999.000,9,-999.000,9,-999.000,9,-999.000000000,9,  2249.7,2, 2334.33,2,   7.5634,2,    24.96,-999.0000,    0.50,2,  -138.0,2,     2.5, -999.00,9,-999.000,9,    38.4,2, -999.00,9,     -999.0,1, -999.00,9, 20160310,     1905, -31.3000,  95.0019,     -999.0,9,     -999.0,9,     -999.0,9,-999.0000,9,-999.0000,9,-999.0000,9,-999.0000,9,-999.0000,9,-999.0000,9,-999.0000,9,     -999.0,9,     -999.0,9,     -999.0,9,     -999.0,9,     -999.0,9
33RR20160208,       I08S,      78,          1,          4,          4,2,20160310,       1859,   -31.2999,    95.0019,       1484,  1133.6,   4.1407,  34.4767,2,  34.4763,2,    157.5,2,   158.4,2,    58.9,2,    0.00,2,   33.90,2,    0.00,2,    2.36,2,-999.000,9,-999.000,9,-999.000,9,-999.000000000,9,  -999.0,9, -999.00,9,-999.0000,9,  -999.00,-999.0000,    0.57,2,  -129.8,2,     2.0, -999.00,9,-999.000,9,    38.6,2, -999.00,9,     -999.0,1, -999.00,9, 20160310,     1908, -31.2999,  95.0019,     -999.0,9,     -999.0,9,     -999.0,9,-999.0000,9,-999.0000,9,-999.0000,9,-999.0000,9,-999.0000,9,-999.0000,9,-999.0000,9,     -999.0,9,     -999.0,9,     -999.0,9,     -999.0,9,     -999.0,9
33RR20160208,       I08S,      78,          1,          5,          5,2,20160310,       1859,   -31.2999,    95.0019,       1484,  1036.6,   4.6761,  34.4376,2,  34.4380,2,    170.1,2,   170.0,2,    46.8,2,    0.00,2,   32.42,2,    0.00,2,    2.24,2,-999.000,9,-999.000,9,-999.000,9,-999.000000000,9,  2223.0,2, 2315.49,2,   7.5880,2,    24.97,-999.0000,    0.66,2,  -104.4,2,     2.1, -999.00,9,-999.000,9,    38.0,2, -999.00,9,     -999.0,1, -999.00,9, 20160310,     1911, -31.2999,  95.0019,     -999.0,9,     -999.0,9,     -999.0,9,-999.0000,9,-999.0000,9,-999.0000,9,-999.0000,9,-999.0000,9,-999.0000,9,-999.0000,9,     -999.0,9,     -999.0,9,     -999.0,9,     -999.0,9,     -999.0,9
33RR20160208,       I08S,      78,          1,          6,         38,2,20160310,       1859,   -31.2999,    95.0019,       1484,   935.9,   5.3140,  34.3968,2,  34.3967,2,    192.7,2,   192.1,2,    29.3,2,    0.00,2,   29.82,2,    0.00,2,    2.02,2,-999.000,9,-999.000,9,-999.000,9,-999.000000000,9,  -999.0,9, -999.00,9,-999.0000,9,     9.00,-999.0000,    0.86,2,   -62.0,2,     2.7, -999.00,9,-999.000,9,    40.5,2, -999.00,9,     -999.0,1, -999.00,9, 20160310,     1914, -31.2999,  95.0019,     -999.0,9,     -999.0,9,     -999.0,9,-999.0000,9,-999.0000,9,-999.0000,9,-999.0000,9,-999.0000,9,-999.0000,9,-999.0000,9,     -999.0,9,     -999.0,9,     -999.0,9,     -999.0,9,     -999.0,9
33RR20160208,       I08S,      78,          1,          7,          7,2,20160310,       1859,   -31.2999,    95.0019,       1484,   835.2,   6.5732,  34.4425,2,  34.4429,2,    200.4,2,   200.1,2,    19.2,2,    0.00,2,   26.48,2,    0.00,2,    1.80,2,-999.000,9,-999.000,9,-999.000,9,-999.000000000,9,  2176.1,2, 2291.67,2,   7.6591,2,    24.97,-999.0000,    0.91,2,   -21.9,2,     2.9, -999.00,9,-999.000,9,    40.5,2, -999.00,9,     -999.0,1, -999.00,9, 20160310,     1916, -31.2999,  95.0019,     -999.0,9,     -999.0,9,     -999.0,9,-999.0000,9,-999.0000,9,-999.0000,9,-999.0000,9,-999.0000,9,-999.0000,9,-999.0000,9,     -999.0,9,     -999.0,9,     -999.0,9,     -999.0,9,     -999.0,9
33RR20160208,       I08S,      78,          1,          8,          8,2,20160310,       1859,   -31.2999,    95.0019,       1484,   734.8,   8.0482,  34.5438,2,  34.5429,2,    213.5,2,   214.6,2,    10.3,2,    0.00,2,   21.82,2,    0.00,2,    1.48,2,-999.000,9,-999.000,9,-999.000,9,-999.000000000,9,  -999.0,9, -999.00,9,-999.0000,9,  -999.00,-999.0000,    0.98,2,    14.9,2,     2.2, -999.00,9,-999.000,9,    40.6,2, -999.00,9,     -999.0,1, -999.00,9, 20160310,     1919, -31.2999,  95.0019,     -999.0,9,     -999.0,9,     -999.0,9,-999.0000,9,-999.0000,9,-999.0000,9,-999.0000,9,-999.0000,9,-999.0000,9,-999.0000,9,     -999.0,9,     -999.0,9,     -999.0,9,     -999.0,9,     -999.0,9
33RR20160208,       I08S,      78,          1,          9,          9,2,20160310,       1859,   -31.2999,    95.0019,       1484,   636.2,   9.0128,  34.6341,2,  34.6330,2,    232.7,2,   232.1,2,     5.5,2,    0.00,2,   17.85,2,    0.00,2,    1.22,2,-999.000,9,-999.000,9,-999.000,9,-999.000000000,9,  2137.7,2, 2290.45,2,   7.7505,6,    24.96,-999.0000,    0.96,2,    30.3,2,     2.1, -999.00,9,-999.000,9,    41.1,2, -999.00,9,     -999.0,1, -999.00,9, 20160310,     1922, -31.2999,  95.0019,     -999.0,9,     -999.0,9,     -999.0,9,-999.0000,9,-999.0000,9,-999.0000,9,-999.0000,9,-999.0000,9,-999.0000,9,-999.0000,9,     -999.0,9,     -999.0,9,     -999.0,9,     -999.0,9,     -999.0,9
33RR20160208,       I08S,      78,          1,         10,         10,2,20160310,       1859,   -31.2999,    95.0019,       1484,   535.0,   9.8439,  34.7450,2,  34.7452,2,    240.1,2,   240.4,2,     3.7,2,    0.00,2,   14.56,2,    0.00,2,    1.02,2,-999.000,9,-999.000,9,-999.000,9,-999.000000000,9,  -999.0,9, -999.00,9,-999.0000,9,  -999.00,-999.0000, -999.00,9,  -999.0,9,  -999.0, -999.00,9,-999.000,9,    42.3,2, -999.00,9,     -999.0,1, -999.00,9, 20160310,     1925, -31.2999,  95.0019,     -999.0,9,     -999.0,9,     -999.0,9,-999.0000,9,-999.0000,9,-999.0000,9,-999.0000,9,-999.0000,9,-999.0000,9,-999.0000,9,     -999.0,9,     -999.0,9,     -999.0,9,     -999.0,9,     -999.0,9
33RR20160208,       I08S,      78,          1,         11,         11,2,20160310,       1859,   -31.2999,    95.0019,       1484,   435.4,  10.5849,  34.8540,2,  34.8524,2,    245.1,2,   243.1,2,     3.2,2,    0.00,2,   12.30,2,    0.00,2,    0.89,2,-999.000,9,-999.000,9,-999.000,9,-999.000000000,9,  2125.7,2, 2300.52,2,   7.8045,6,    24.98,-999.0000,    0.97,2,    40.3,2,     2.3, -999.00,9,-999.000,9,    44.1,2, -999.00,9,     -999.0,1, -999.00,9, 20160310,     1927, -31.2999,  95.0019,     -999.0,9,     -999.0,9,     -999.0,9,-999.0000,9,-999.0000,9,-999.0000,9,-999.0000,9,-999.0000,9,-999.0000,9,-999.0000,9,     -999.0,9,     -999.0,9,     -999.0,9,     -999.0,9,     -999.0,9
33RR20160208,       I08S,      78,          1,         12,         12,2,20160310,       1859,   -31.2999,    95.0019,       1484,   367.0,  11.0831,  34.9236,2,  34.9227,2,    245.3,2,   245.1,2,     2.9,2,    0.00,2,   10.97,2,    0.00,2,    0.82,2,-999.000,9,-999.000,9,-999.000,9,-999.000000000,9,  -999.0,9, -999.00,9,-999.0000,9,     9.00,-999.0000, -999.00,9,  -999.0,9,  -999.0, -999.00,9,-999.000,9,    45.3,2, -999.00,9,     -999.0,1, -999.00,9, 20160310,     1930, -31.2999,  95.0019,     -999.0,9,     -999.0,9,     -999.0,9,-999.0000,9,-999.0000,9,-999.0000,9,-999.0000,9,-999.0000,9,-999.0000,9,-999.0000,9,     -999.0,9,     -999.0,9,     -999.0,9,     -999.0,9,     -999.0,9
33RR20160208,       I08S,      78,          1,         13,         13,2,20160310,       1859,   -31.2999,    95.0019,       1484,   315.0,  11.5108,  34.9844,2,  34.9834,2,    242.0,2,   241.9,2,     2.6,2,    0.00,2,   10.03,2,    0.00,2,    0.75,2,-999.000,9,-999.000,9,-999.000,9,-999.000000000,9,  2121.3,2, 2307.56,2,   7.8251,2,    24.96,-999.0000,    0.92,2,    39.7,2,     2.7, -999.00,9,-999.000,9,    45.3,2,   12.90,2,     -999.0,1, -999.00,9, 20160310,     1931, -31.2999,  95.0019,     -999.0,9,     -999.0,9,     -999.0,9,-999.0000,9,-999.0000,9,-999.0000,9,-999.0000,9,-999.0000,9,-999.0000,9,-999.0000,9,     -999.0,9,     -999.0,9,     -999.0,9,     -999.0,9,     -999.0,9
33RR20160208,       I08S,      78,          1,         14,         14,2,20160310,       1859,   -31.2999,    95.0019,       1484,   265.5,  12.4325,  35.1188,2,  35.1174,2,    239.7,2,   240.1,2,     1.8,2,    0.00,2,    7.56,2,    0.00,2,    0.61,2,-999.000,9,-999.000,9,-999.000,9,-999.000000000,9,  -999.0,9, -999.00,9,-999.0000,9,  -999.00,-999.0000, -999.00,9,  -999.0,9,  -999.0, -999.00,9,-999.000,9,    48.0,2,   10.90,2,     -999.0,1, -999.00,9, 20160310,     1933, -31.2999,  95.0019,     -999.0,9,     -999.0,9,     -999.0,9,-999.0000,9,-999.0000,9,-999.0000,9,-999.0000,9,-999.0000,9,-999.0000,9,-999.0000,9,     -999.0,9,     -999.0,9,     -999.0,9,     -999.0,9,     -999.0,9
33RR20160208,       I08S,      78,          1,         15,         15,2,20160310,       1859,   -31.2999,    95.0019,       1484,   215.7,  13.3773,  35.2682,2,  35.2679,2,    231.1,2,   236.6,2,     1.4,2,    0.00,2,    5.53,2,    0.01,2,    0.48,2,-999.000,9,-999.000,9,-999.000,9,-999.000000000,9,  2111.8,2, 2322.77,2,   7.8743,6,    24.96,-999.0000,    0.96,2,    33.0,2,     2.7, -999.00,9,-999.000,9,    48.7,2,    9.70,2,     -999.0,1, -999.00,9, 20160310,     1935, -31.2999,  95.0019,     -999.0,9,     -999.0,9,     -999.0,9,-999.0000,9,-999.0000,9,-999.0000,9,-999.0000,9,-999.0000,9,-999.0000,9,-999.0000,9,     -999.0,9,     -999.0,9,     -999.0,9,     -999.0,9,     -999.0,9
33RR20160208,       I08S,      78,          1,         16,         16,2,20160310,       1859,   -31.2999,    95.0019,       1484,   164.8,  14.6099,  35.4362,2,  35.4352,2,    233.3,2,   232.9,2,     1.2,2,    0.00,2,    3.32,2,    0.07,2,    0.35,2,-999.000,9,-999.000,9,-999.000,9,-999.000000000,9,  -999.0,9, -999.00,9,-999.0000,9,  -999.00,-999.0000, -999.00,9,  -999.0,9,  -999.0, -999.00,9,-999.000,9,    51.7,2,    6.90,3,     -999.0,1, -999.00,9, 20160310,     1938, -31.2999,  95.0019,     -999.0,9,     -999.0,9,     -999.0,9,-999.0000,9,-999.0000,9,-999.0000,9,-999.0000,9,-999.0000,9,-999.0000,9,-999.0000,9,     -999.0,9,     -999.0,9,     -999.0,9,     -999.0,9,     -999.0,9
33RR20160208,       I08S,      78,          1,         17,         17,2,20160310,       1859,   -31.2999,    95.0019,       1484,   115.2,  16.0195,  35.5771,2,  35.5815,2,    248.9,2,   244.3,2,     0.8,2,    0.00,2,    0.10,2,    0.03,2,    0.15,2,-999.000,9,-999.000,9,-999.000,9,-999.000000000,9,  2092.0,2, 2342.11,2,   7.9483,2,    24.97,-999.0000,    1.06,2,    37.5,2,     2.2, -999.00,9,-999.000,9,    56.8,2,    4.10,2,     -999.0,1, -999.00,9, 20160310,     1940, -31.2999,  95.0019,     -999.0,9,     -999.0,9,     -999.0,9,-999.0000,9,-999.0000,9,-999.0000,9,-999.0000,9,-999.0000,9,-999.0000,9,-999.0000,9,     -999.0,9,     -999.0,9,     -999.0,9,     -999.0,9,     -999.0,9
33RR20160208,       I08S,      78,          1,         18,         37,2,20160310,       1859,   -31.2999,    95.0019,       1484,    84.4,  17.6068,  35.7340,2,  35.7342,2,    237.2,2,   235.9,2,     1.1,2,    0.00,2,    0.00,2,    0.00,2,    0.11,2,-999.000,9,-999.000,9,-999.000,9,-999.000000000,9,  -999.0,9, -999.00,9,-999.0000,9,     9.00,-999.0000, -999.00,9,  -999.0,9,  -999.0, -999.00,9,-999.000,9,    58.7,2,    4.00,2,     -999.0,1, -999.00,9, 20160310,     1942, -31.2999,  95.0019,     -999.0,9,     -999.0,9,     -999.0,9,-999.0000,9,-999.0000,9,-999.0000,9,-999.0000,9,-999.0000,9,-999.0000,9,-999.0000,9,     -999.0,9,     -999.0,9,     -999.0,9,     -999.0,9,     -999.0,9
33RR20160208,       I08S,      78,          1,         19,         19,2,20160310,       1859,   -31.2999,    95.0019,       1484,    60.6,  20.8319,  35.9055,2,  35.9141,2,    234.5,2,   233.4,2,     1.2,2,    0.00,2,    0.00,2,    0.00,2,    0.06,2,-999.000,9,-999.000,9,-999.000,9,-999.000000000,9,  2072.4,2, 2358.92,2,   8.0032,2,    24.98,-999.0000,    0.91,2,    31.3,2,     2.1, -999.00,9,-999.000,9,    65.2,2,    4.80,2,     -999.0,1, -999.00,9, 20160310,     1944, -31.2999,  95.0019,     -999.0,9,     -999.0,9,     -999.0,9,-999.0000,9,-999.0000,9,-999.0000,9,-999.0000,9,-999.0000,9,-999.0000,9,-999.0000,9,     -999.0,9,     -999.0,9,     -999.0,9,     -999.0,9,     -999.0,9
33RR20160208,       I08S,      78,          1,         20,         20,2,20160310,       1859,   -31.2999,    95.0019,       1484,    33.3,  22.3781,  35.8924,2,  35.8983,2,    221.7,2,   222.9,2,     1.1,2,    0.00,2,    0.00,2,    0.00,2,    0.08,2,-999.000,9,-999.000,9,-999.000,9,-999.000000000,9,  2072.7,2, 2357.84,2,   8.0065,2,    24.98,-999.0000,    0.95,2,    38.7,2,     2.2, -999.00,9,-999.000,9,    67.0,2,    4.10,2,     -999.0,1, -999.00,9, 20160310,     1946, -31.2999,  95.0019,     -999.0,9,     -999.0,9,     -999.0,9,-999.0000,9,-999.0000,9,-999.0000,9,-999.0000,9,-999.0000,9,-999.0000,9,-999.0000,9,     -999.0,9,     -999.0,9,     -999.0,9,     -999.0,9,     -999.0,9
33RR20160208,       I08S,      78,          1,         21,         21,2,20160310,       1859,   -31.2999,    95.0019,       1484,     4.2,  23.3634,  35.8948,2,  35.8932,2,    214.7,2,   214.5,2,     1.6,2,    0.00,2,    0.00,2,    0.00,2,    0.05,2,-999.000,9,-999.000,9,-999.000,9,-999.000000000,9,  2051.9,6, 2355.40,2,   8.0316,2,    24.97,-999.0000,    0.72,2,    34.7,2,     2.2, -999.00,9,-999.000,9,    70.0,2,    4.60,2,     -999.0,1, -999.00,9, 20160310,     1950, -31.2999,  95.0019,     -999.0,9,     -999.0,9,     -999.0,9,-999.0000,9,-999.0000,9,-999.0000,9,-999.0000,9,-999.0000,9,-999.0000,9,-999.0000,9,     -999.0,9,     -999.0,9,     -999.0,9,     -999.0,9,     -999.0,9