BOTTLE,20220706CCHSIOAMB
EXPOCODE,SECT_ID,STNNBR,CASTNO,SAMPNO,BTLNBR,BTLNBR_FLAG_W,DATE,TIME,LATITUDE,LONGITUDE,DEPTH,CTDPRS,CTDTMP,CTDSAL,CTDSAL_FLAG_W,SALNTY,SALNTY_FLAG_W,CTDOXY,CTDOXY_FLAG_W,OXYGEN,OXYGEN_FLAG_W,SILCAT,SILCAT_FLAG_W,NH4,NH4_FLAG_W,NITRAT,NITRAT_FLAG_W,NITRIT,NITRIT_FLAG_W,PHSPHT,PHSPHT_FLAG_W,CFC-11,CFC-11_FLAG_W,CFC-12,CFC-12_FLAG_W,CFC113,CFC113_FLAG_W,SF6,SF6_FLAG_W,TCARBN,TCARBN_FLAG_W,ALKALI,ALKALI_FLAG_W,PH_TOT,PH_TOT_FLAG_W,PH_TMP,REFTMP,DELC13,DELC13_FLAG_W,DELC14,DELC14_FLAG_W,C14ERR,DELO18,DELO18_FLAG_W,POC,POC_FLAG_W,DOC,DOC_FLAG_W,TDN,TDN_FLAG_W,TON,TON_FLAG_W,D15N_NO3,D15N_NO3_FLAG_W,BTL_DATE,BTL_TIME,BTL_LAT,BTL_LON,14C-DOC,14C-DOC_FLAG_W,CHLORA,CHLORA_FLAG_W,HPLC,HPLC_FLAG_W,CDOM325,CDOM325_FLAG_W,CDOM340,CDOM340_FLAG_W,CDOM380,CDOM380_FLAG_W,CDOM412,CDOM412_FLAG_W,CDOM443,CDOM443_FLAG_W,CDOM490,CDOM490_FLAG_W,CDOM555,CDOM555_FLAG_W,CDOMSL,CDOMSL_FLAG_W,CDOMSN,CDOMSN_FLAG_W,D18O_NO3,D18O_NO3_FLAG_W,D15N_NO2+NO3,D15N_NO2+NO3_FLAG_W,D18O_NO2+NO3,D18O_NO2+NO3_FLAG_W
,,,,,,,,,,,METERS,DBAR,ITS-90,PSS-78,,PSS-78,,UMOL/KG,,UMOL/KG,,UMOL/KG,,UMOL/KG,,UMOL/KG,,UMOL/KG,,UMOL/KG,,PMOL/KG,,PMOL/KG,,PMOL/KG,,FMOL/KG,,UMOL/KG,,UMOL/KG,,,,DEG C,DEG C,/MILLE,,/MILLE,,/MILLE,/MILLE,,UG/KG,,UMOL/KG,,UMOL/KG,,UMOL/KG,,/MILLE,,,,,,/MILLE,,MG/M3,,,,1/M,,1/M,,1/M,,1/M,,1/M,,1/M,,1/M,,1/NM,,1/NM,,/MILLE,,/MILLE,,/MILLE,
33RR20160208,       I08S,      72,          2,         28,         28,2,20160309,       0804,   -33.9960,    94.9989,       4518,   265.5,  12.0339,  35.0648,2,  35.0706,2,    236.3,2,   237.4,2,     1.8,2,    0.00,2,    8.67,2,    0.00,2,    0.69,2,   2.966,2,   1.781,2,   0.132,2,         1.604,2,  2117.0,2, 2312.59,2,   7.8368,2,    25.01,  12.0342, -999.00,9,  -999.0,9,  -999.0, -999.00,9,-999.000,9,    49.7,2,   10.90,2,     -999.0,1, -999.00,9, 20160309,     1009, -33.9960,  94.9989,     -999.0,9,     -999.0,9,     -999.0,9,-999.0000,9,-999.0000,9,-999.0000,9,-999.0000,9,-999.0000,9,-999.0000,9,-999.0000,9,     -999.0,9,     -999.0,9,     -999.0,9,     -999.0,9,     -999.0,9
33RR20160208,       I08S,      72,          2,         29,         29,2,20160309,       0804,   -33.9960,    94.9989,       4518,   214.2,  12.6522,  35.1490,2,  35.1530,2,    241.3,2,   242.7,2,     1.4,2,    0.00,2,    6.72,2,    0.00,2,    0.57,2,   2.864,2,   1.714,2,   0.185,2,         1.568,2,  2113.3,2, 2317.31,2,   7.8605,2,    24.97,  12.6471, -999.00,9,  -999.0,9,  -999.0, -999.00,9,-999.000,9,    50.5,2,    9.60,2,     -999.0,1, -999.00,9, 20160309,     1011, -33.9960,  94.9989,     -999.0,9,     -999.0,9,     -999.0,9,-999.0000,9,-999.0000,9,-999.0000,9,-999.0000,9,-999.0000,9,-999.0000,9,-999.0000,9,     -999.0,9,     -999.0,9,     -999.0,9,     -999.0,9,     -999.0,9
33RR20160208,       I08S,      72,          2,         30,         30,2,20160309,       0804,   -33.9960,    94.9989,       4518,   165.9,  13.7605,  35.3309,2,  35.3338,2,    225.6,2,   227.0,2,     1.2,2,    0.00,2,    5.55,2,    0.01,2,    0.49,2,   2.715,2,   1.628,2,   0.087,2,         1.602,2,  2112.1,2, 2325.84,2,   7.8741,2,    24.99,  13.7587, -999.00,9,  -999.0,9,  -999.0, -999.00,9,-999.000,9,    49.0,2,    8.60,2,     -999.0,1, -999.00,9, 20160309,     1013, -33.9960,  94.9989,     -999.0,9, 0.00737755,2,     -999.0,9,-999.0000,9,-999.0000,9,-999.0000,9,-999.0000,9,-999.0000,9,-999.0000,9,-999.0000,9,     -999.0,9,     -999.0,9,     -999.0,9,     -999.0,9,     -999.0,9
33RR20160208,       I08S,      72,          2,         31,         31,2,20160309,       0804,   -33.9960,    94.9989,       4518,   135.5,  14.2276,  35.3936,2,  35.3912,2,    227.9,2,   230.3,2,     1.0,2,    0.00,2,    4.45,2,    0.03,2,    0.41,2,-999.000,9,-999.000,9,-999.000,9,-999.000000000,9,  2106.3,2, 2330.07,2,   7.8877,2,    24.97,  14.2305, -999.00,9,  -999.0,9,  -999.0, -999.00,9,-999.000,9,    49.2,2,    7.80,2,     -999.0,1, -999.00,9, 20160309,     1015, -33.9960,  94.9989,     -999.0,9,     -999.0,9,     -999.0,9,-999.0000,9,-999.0000,9,-999.0000,9,-999.0000,9,-999.0000,9,-999.0000,9,-999.0000,9,     -999.0,9,     -999.0,9,     -999.0,9,     -999.0,9,     -999.0,9
33RR20160208,       I08S,      72,          2,         32,         32,2,20160309,       0804,   -33.9960,    94.9989,       4518,   110.0,  14.6149,  35.4188,2,  35.4245,2,    248.5,2,   246.1,2,     0.6,2,    0.13,2,    1.43,2,    0.24,2,    0.27,2,   2.615,2,   1.575,2,   0.190,2,         1.615,2,  2096.8,2, 2333.45,2,   7.9170,2,    24.98,  14.6262, -999.00,9,  -999.0,9,  -999.0, -999.00,9,-999.000,9,    55.0,2,    4.70,2,     -999.0,1, -999.00,9, 20160309,     1017, -33.9960,  94.9989,     -999.0,9,0.225760028,2,     -999.0,9,-999.0000,9,-999.0000,9,-999.0000,9,-999.0000,9,-999.0000,9,-999.0000,9,-999.0000,9,     -999.0,9,     -999.0,9,     -999.0,9,     -999.0,9,     -999.0,9
33RR20160208,       I08S,      72,          2,         33,         33,2,20160309,       0804,   -33.9960,    94.9989,       4518,    86.5,  15.6365,  35.5365,2,  35.5338,2,    255.8,2,   251.7,2,     0.5,2,    0.03,2,    0.02,2,    0.01,2,    0.15,2,   2.575,2,   1.534,2,   0.176,2,         1.608,2,  2086.4,2, 2340.32,2,   7.9459,2,    25.05,  15.6311, -999.00,9,  -999.0,9,  -999.0, -999.00,9,-999.000,9,    57.8,2,    4.00,2,     -999.0,1, -999.00,9, 20160309,     1018, -33.9960,  94.9989,     -999.0,9,0.282470268,2,     -999.0,9,-999.0000,9,-999.0000,9,-999.0000,9,-999.0000,9,-999.0000,9,-999.0000,9,-999.0000,9,     -999.0,9,     -999.0,9,     -999.0,9,     -999.0,9,     -999.0,9
33RR20160208,       I08S,      72,          2,         34,         34,2,20160309,       0804,   -33.9960,    94.9989,       4518,    61.5,  16.8920,  35.4457,2,  35.4383,2,    246.1,2,   267.1,4,     0.3,2,    0.00,2,    0.00,2,    0.00,2,    0.15,2,   2.523,2,   1.515,2,   0.192,2,         1.454,2,  2069.8,2, 2334.90,6,   7.9675,2,    25.05,  16.8960, -999.00,9,  -999.0,9,  -999.0, -999.00,9,-999.000,9,    61.8,2,    4.00,2,     -999.0,1, -999.00,9, 20160309,     1020, -33.9960,  94.9989,     -999.0,9,0.173401382,2,     -999.0,9,-999.0000,9,-999.0000,9,-999.0000,9,-999.0000,9,-999.0000,9,-999.0000,9,-999.0000,9,     -999.0,9,     -999.0,9,     -999.0,9,     -999.0,9,     -999.0,9
33RR20160208,       I08S,      72,          2,         35,         35,2,20160309,       0804,   -33.9960,    94.9989,       4518,    36.0,  20.1360,  35.7374,2,  35.7348,2,    229.4,2,   231.9,2,     0.3,2,    0.00,2,    0.00,2,    0.00,2,    0.11,2,   2.063,2,   1.259,2,   0.159,2,          1.34,2,  2078.4,2, 2353.84,2,   7.9800,2,    25.02,  20.1403, -999.00,9,  -999.0,9,  -999.0, -999.00,9,-999.000,9,    64.0,2,    4.20,2,     -999.0,1, -999.00,9, 20160309,     1022, -33.9960,  94.9989,     -999.0,9,0.097686237,2,     -999.0,9,-999.0000,9,-999.0000,9,-999.0000,9,-999.0000,9,-999.0000,9,-999.0000,9,-999.0000,9,     -999.0,9,     -999.0,9,     -999.0,9,     -999.0,9,     -999.0,9
33RR20160208,       I08S,      72,          2,         36,         36,2,20160309,       0804,   -33.9960,    94.9989,       4518,     5.9,  20.8723,  35.7183,2,  35.7152,2,    225.6,2,   226.6,2,     0.4,2,    0.00,2,    0.00,2,    0.00,2,    0.11,2,   2.000,2,   1.225,2,   0.154,2,          1.45,2,  2073.9,6, 2351.03,2,   7.9848,2,    25.02,  20.8723, -999.00,9,  -999.0,9,  -999.0, -999.00,9,-999.000,9,    65.5,2,    4.70,2,     -999.0,1, -999.00,9, 20160309,     1024, -33.9960,  94.9989,     -999.0,9,0.070364876,2,     -999.0,9,-999.0000,9,-999.0000,9,-999.0000,9,-999.0000,9,-999.0000,9,-999.0000,9,-999.0000,9,     -999.0,9,     -999.0,9,     -999.0,9,     -999.0,9,     -999.0,9