BOTTLE,20220706CCHSIOAMB
EXPOCODE,SECT_ID,STNNBR,CASTNO,SAMPNO,BTLNBR,BTLNBR_FLAG_W,DATE,TIME,LATITUDE,LONGITUDE,DEPTH,CTDPRS,CTDTMP,CTDSAL,CTDSAL_FLAG_W,SALNTY,SALNTY_FLAG_W,CTDOXY,CTDOXY_FLAG_W,OXYGEN,OXYGEN_FLAG_W,SILCAT,SILCAT_FLAG_W,NH4,NH4_FLAG_W,NITRAT,NITRAT_FLAG_W,NITRIT,NITRIT_FLAG_W,PHSPHT,PHSPHT_FLAG_W,CFC-11,CFC-11_FLAG_W,CFC-12,CFC-12_FLAG_W,CFC113,CFC113_FLAG_W,SF6,SF6_FLAG_W,TCARBN,TCARBN_FLAG_W,ALKALI,ALKALI_FLAG_W,PH_TOT,PH_TOT_FLAG_W,PH_TMP,REFTMP,DELC13,DELC13_FLAG_W,DELC14,DELC14_FLAG_W,C14ERR,DELO18,DELO18_FLAG_W,POC,POC_FLAG_W,DOC,DOC_FLAG_W,TDN,TDN_FLAG_W,TON,TON_FLAG_W,D15N_NO3,D15N_NO3_FLAG_W,BTL_DATE,BTL_TIME,BTL_LAT,BTL_LON,14C-DOC,14C-DOC_FLAG_W,CHLORA,CHLORA_FLAG_W,HPLC,HPLC_FLAG_W,CDOM325,CDOM325_FLAG_W,CDOM340,CDOM340_FLAG_W,CDOM380,CDOM380_FLAG_W,CDOM412,CDOM412_FLAG_W,CDOM443,CDOM443_FLAG_W,CDOM490,CDOM490_FLAG_W,CDOM555,CDOM555_FLAG_W,CDOMSL,CDOMSL_FLAG_W,CDOMSN,CDOMSN_FLAG_W,D18O_NO3,D18O_NO3_FLAG_W,D15N_NO2+NO3,D15N_NO2+NO3_FLAG_W,D18O_NO2+NO3,D18O_NO2+NO3_FLAG_W
,,,,,,,,,,,METERS,DBAR,ITS-90,PSS-78,,PSS-78,,UMOL/KG,,UMOL/KG,,UMOL/KG,,UMOL/KG,,UMOL/KG,,UMOL/KG,,UMOL/KG,,PMOL/KG,,PMOL/KG,,PMOL/KG,,FMOL/KG,,UMOL/KG,,UMOL/KG,,,,DEG C,DEG C,/MILLE,,/MILLE,,/MILLE,/MILLE,,UG/KG,,UMOL/KG,,UMOL/KG,,UMOL/KG,,/MILLE,,,,,,/MILLE,,MG/M3,,,,1/M,,1/M,,1/M,,1/M,,1/M,,1/M,,1/M,,1/NM,,1/NM,,/MILLE,,/MILLE,,/MILLE,
33RR20160208,       I08S,      63,          1,          1,          1,2,20160306,       2216,   -38.4901,    95.0040,       3917,  3901.3,   1.0335,  34.7134,2,  34.7136,2,    207.6,2,   207.4,2,   117.5,2,    0.00,2,   31.78,2,    0.00,2,    2.20,2,   0.152,2,   0.080,2,   0.008,2,             0,2,  2267.9,2, 2371.86,2,   7.6157,2,    24.98,   1.0332, -999.00,9,  -999.0,9,  -999.0, -999.00,9,-999.000,9,  -999.0,9, -999.00,9,     -999.0,9, -999.00,9, 20160306,     2216, -38.4901,  95.0040,     -999.0,9,     -999.0,9,     -999.0,9,-999.0000,9,-999.0000,9,-999.0000,9,-999.0000,9,-999.0000,9,-999.0000,9,-999.0000,9,     -999.0,9,     -999.0,9,     -999.0,9,     -999.0,9,     -999.0,9
33RR20160208,       I08S,      63,          1,          2,          2,2,20160306,       2216,   -38.4901,    95.0040,       3917,  3703.2,   1.0388,  34.7146,2,  34.7141,2,    206.4,2,   207.0,2,   117.0,2,    0.00,2,   31.72,2,    0.00,2,    2.21,2,-999.000,9,-999.000,9,-999.000,9,-999.000000000,9,  -999.0,9, -999.00,9,-999.0000,9,     9.00,   1.0387, -999.00,9,  -999.0,9,  -999.0, -999.00,9,-999.000,9,  -999.0,9, -999.00,9,     -999.0,9, -999.00,9, 20160306,     2221, -38.4901,  95.0040,     -999.0,9,     -999.0,9,     -999.0,9,-999.0000,9,-999.0000,9,-999.0000,9,-999.0000,9,-999.0000,9,-999.0000,9,-999.0000,9,     -999.0,9,     -999.0,9,     -999.0,9,     -999.0,9,     -999.0,9
33RR20160208,       I08S,      63,          1,          3,          3,2,20160306,       2216,   -38.4901,    95.0040,       3917,  3502.0,   1.0932,  34.7180,2,  34.7175,2,    206.2,2,   207.2,2,   115.1,2,    0.00,2,   31.56,2,    0.00,2,    2.19,2,   0.155,2,   0.083,2,   0.002,2,   0.011292098,2,  -999.0,9, -999.00,9,-999.0000,9,  -999.00,   1.0933, -999.00,9,  -999.0,9,  -999.0, -999.00,9,-999.000,9,  -999.0,9, -999.00,9,     -999.0,9, -999.00,9, 20160306,     2225, -38.4901,  95.0040,     -999.0,9,     -999.0,9,     -999.0,9,-999.0000,9,-999.0000,9,-999.0000,9,-999.0000,9,-999.0000,9,-999.0000,9,-999.0000,9,     -999.0,9,     -999.0,9,     -999.0,9,     -999.0,9,     -999.0,9
33RR20160208,       I08S,      63,          1,          4,          4,2,20160306,       2216,   -38.4901,    95.0040,       3917,  3252.2,   1.2531,  34.7261,2,  34.7251,2,    204.2,2,   204.6,2,   109.8,2,    0.00,2,   31.25,2,    0.00,2,    2.15,2,-999.000,9,-999.000,9,-999.000,9,-999.000000000,9,  2255.0,2, 2364.07,2,   7.6121,6,    25.00,   1.2530, -999.00,9,  -999.0,9,  -999.0, -999.00,9,-999.000,9,  -999.0,9, -999.00,9,     -999.0,9, -999.00,9, 20160306,     2230, -38.4901,  95.0040,     -999.0,9,     -999.0,9,     -999.0,9,-999.0000,9,-999.0000,9,-999.0000,9,-999.0000,9,-999.0000,9,-999.0000,9,-999.0000,9,     -999.0,9,     -999.0,9,     -999.0,9,     -999.0,9,     -999.0,9
33RR20160208,       I08S,      63,          1,          5,          5,2,20160306,       2216,   -38.4901,    95.0040,       3917,  3000.5,   1.4710,  34.7361,2,  34.7359,2,    201.7,2,   202.5,2,   102.6,2,    0.00,2,   31.01,2,    0.00,2,    2.15,2,   0.099,2,   0.053,2,   0.000,2,   0.027716969,2,  -999.0,9, -999.00,9,-999.0000,9,     9.00,   1.4721, -999.00,9,  -999.0,9,  -999.0, -999.00,9,-999.000,9,  -999.0,9, -999.00,9,     -999.0,9, -999.00,9, 20160306,     2235, -38.4901,  95.0040,     -999.0,9,     -999.0,9,     -999.0,9,-999.0000,9,-999.0000,9,-999.0000,9,-999.0000,9,-999.0000,9,-999.0000,9,-999.0000,9,     -999.0,9,     -999.0,9,     -999.0,9,     -999.0,9,     -999.0,9
33RR20160208,       I08S,      63,          1,          6,         38,2,20160306,       2216,   -38.4901,    95.0040,       3917,  2752.0,   1.8045,  34.7476,2,  34.7477,2,    198.7,2,   198.6,2,    92.0,2,    0.00,2,   30.41,2,    0.00,2,    2.09,2,-999.000,9,-999.000,9,-999.000,9,-999.000000000,9,  -999.0,9, -999.00,9,-999.0000,9,  -999.00,   1.8038, -999.00,9,  -999.0,9,  -999.0, -999.00,9,-999.000,9,  -999.0,9, -999.00,9,     -999.0,9, -999.00,9, 20160306,     2241, -38.4901,  95.0040,     -999.0,9,     -999.0,9,     -999.0,9,-999.0000,9,-999.0000,9,-999.0000,9,-999.0000,9,-999.0000,9,-999.0000,9,-999.0000,9,     -999.0,9,     -999.0,9,     -999.0,9,     -999.0,9,     -999.0,9
33RR20160208,       I08S,      63,          1,          7,          7,2,20160306,       2216,   -38.4901,    95.0040,       3917,  2501.9,   2.0960,  34.7477,2,  34.7475,2,    194.2,2,   194.1,2,    83.3,2,    0.00,2,   30.25,2,    0.00,2,    2.09,2,   0.096,2,   0.052,2,   0.000,2,    0.01642487,2,  -999.0,9, -999.00,9,-999.0000,9,  -999.00,   2.0957, -999.00,9,  -999.0,9,  -999.0, -999.00,9,-999.000,9,  -999.0,9, -999.00,9,     -999.0,9, -999.00,9, 20160306,     2246, -38.4901,  95.0040,     -999.0,9,     -999.0,9,     -999.0,9,-999.0000,9,-999.0000,9,-999.0000,9,-999.0000,9,-999.0000,9,-999.0000,9,-999.0000,9,     -999.0,9,     -999.0,9,     -999.0,9,     -999.0,9,     -999.0,9
33RR20160208,       I08S,      63,          1,          8,          8,2,20160306,       2216,   -38.4901,    95.0040,       3917,  2251.9,   2.3103,  34.7270,2,  34.7272,2,    187.3,2,   187.4,2,    79.0,2,    0.00,2,   30.80,2,    0.00,2,    2.12,2,-999.000,9,-999.000,9,-999.000,9,-999.000000000,9,  2245.9,2, 2348.11,2,   7.6022,6,    25.00,   2.3103, -999.00,9,  -999.0,9,  -999.0, -999.00,9,-999.000,9,  -999.0,9, -999.00,9,     -999.0,9, -999.00,9, 20160306,     2251, -38.4901,  95.0040,     -999.0,9,     -999.0,9,     -999.0,9,-999.0000,9,-999.0000,9,-999.0000,9,-999.0000,9,-999.0000,9,-999.0000,9,-999.0000,9,     -999.0,9,     -999.0,9,     -999.0,9,     -999.0,9,     -999.0,9
33RR20160208,       I08S,      63,          1,          9,          9,2,20160306,       2216,   -38.4901,    95.0040,       3917,  1997.5,   2.5230,  34.6723,2,  34.6725,2,    177.0,2,   177.7,2,    76.0,2,    0.00,2,   32.19,2,    0.00,2,    2.22,2,   0.192,2,   0.106,2,   0.004,2,   0.021557642,2,  -999.0,9, -999.00,9,-999.0000,9,  -999.00,   2.5231, -999.00,9,  -999.0,9,  -999.0, -999.00,9,-999.000,9,  -999.0,9, -999.00,9,     -999.0,9, -999.00,9, 20160306,     2256, -38.4901,  95.0040,     -999.0,9,     -999.0,9,     -999.0,9,-999.0000,9,-999.0000,9,-999.0000,9,-999.0000,9,-999.0000,9,-999.0000,9,-999.0000,9,     -999.0,9,     -999.0,9,     -999.0,9,     -999.0,9,     -999.0,9
33RR20160208,       I08S,      63,          1,         10,         10,2,20160306,       2216,   -38.4901,    95.0040,       3917,  1799.3,   2.6798,  34.6076,2,  34.6075,2,    173.5,2,   172.4,2,    71.7,2,    0.00,2,   33.22,2,    0.00,2,    2.31,2,-999.000,9,-999.000,9,-999.000,9,-999.000000000,9,  -999.0,9, -999.00,9,-999.0000,9,  -999.00,   2.6809, -999.00,9,  -999.0,9,  -999.0, -999.00,9,-999.000,9,  -999.0,9, -999.00,9,     -999.0,9, -999.00,9, 20160306,     2301, -38.4901,  95.0040,     -999.0,9,     -999.0,9,     -999.0,9,-999.0000,9,-999.0000,9,-999.0000,9,-999.0000,9,-999.0000,9,-999.0000,9,-999.0000,9,     -999.0,9,     -999.0,9,     -999.0,9,     -999.0,9,     -999.0,9
33RR20160208,       I08S,      63,          1,         11,         11,2,20160306,       2216,   -38.4901,    95.0040,       3917,  1704.0,   2.7778,  34.5677,2,  34.5673,2,    172.5,2,   172.2,2,    68.6,2,    0.00,2,   33.63,2,    0.00,2,    2.33,2,   0.437,2,   0.225,2,   0.017,2,   0.116000648,2,  -999.0,9, -999.00,9,-999.0000,9,     9.00,   2.7781, -999.00,9,  -999.0,9,  -999.0, -999.00,9,-999.000,9,  -999.0,9, -999.00,9,     -999.0,9, -999.00,9, 20160306,     2304, -38.4901,  95.0040,     -999.0,9,     -999.0,9,     -999.0,9,-999.0000,9,-999.0000,9,-999.0000,9,-999.0000,9,-999.0000,9,-999.0000,9,-999.0000,9,     -999.0,9,     -999.0,9,     -999.0,9,     -999.0,9,     -999.0,9
33RR20160208,       I08S,      63,          1,         12,         12,2,20160306,       2216,   -38.4901,    95.0040,       3917,  1607.0,   2.9087,  34.5266,2,  34.5257,2,    174.2,2,   173.7,2,    65.0,2,    0.00,2,   33.81,2,    0.00,2,    2.33,2,-999.000,9,-999.000,9,-999.000,9,-999.000000000,9,  2243.8,2, 2330.88,2,   7.5607,2,    25.00,   2.9086, -999.00,9,  -999.0,9,  -999.0, -999.00,9,-999.000,9,  -999.0,9, -999.00,9,     -999.0,9, -999.00,9, 20160306,     2307, -38.4901,  95.0040,     -999.0,9,     -999.0,9,     -999.0,9,-999.0000,9,-999.0000,9,-999.0000,9,-999.0000,9,-999.0000,9,-999.0000,9,-999.0000,9,     -999.0,9,     -999.0,9,     -999.0,9,     -999.0,9,     -999.0,9
33RR20160208,       I08S,      63,          1,         13,         13,2,20160306,       2216,   -38.4901,    95.0040,       3917,  1504.9,   3.0712,  34.4765,2,  34.4765,2,    178.1,2,   177.3,2,    59.5,2,    0.00,2,   33.78,2,    0.00,2,    2.33,2,   0.826,2,   0.419,2,   0.043,2,   0.244319948,2,  -999.0,9, -999.00,9,-999.0000,9,  -999.00,   3.0719, -999.00,9,  -999.0,9,  -999.0, -999.00,9,-999.000,9,  -999.0,9, -999.00,9,     -999.0,9, -999.00,9, 20160306,     2310, -38.4901,  95.0040,     -999.0,9,     -999.0,9,     -999.0,9,-999.0000,9,-999.0000,9,-999.0000,9,-999.0000,9,-999.0000,9,-999.0000,9,-999.0000,9,     -999.0,9,     -999.0,9,     -999.0,9,     -999.0,9,     -999.0,9
33RR20160208,       I08S,      63,          1,         14,         14,2,20160306,       2216,   -38.4901,    95.0040,       3917,  1402.3,   3.3361,  34.4348,2,  34.4343,2,    182.5,2,   181.9,2,    54.1,2,    0.00,2,   33.49,2,    0.00,2,    2.32,2,   0.995,2,   0.500,2,   0.052,2,   0.296674223,2,  -999.0,9, -999.00,9,-999.0000,9,     9.00,   3.3365, -999.00,9,  -999.0,9,  -999.0, -999.00,9,-999.000,9,  -999.0,9, -999.00,9,     -999.0,9, -999.00,9, 20160306,     2312, -38.4901,  95.0040,     -999.0,9,     -999.0,9,     -999.0,9,-999.0000,9,-999.0000,9,-999.0000,9,-999.0000,9,-999.0000,9,-999.0000,9,-999.0000,9,     -999.0,9,     -999.0,9,     -999.0,9,     -999.0,9,     -999.0,9
33RR20160208,       I08S,      63,          1,         15,         15,2,20160306,       2216,   -38.4901,    95.0040,       3917,  1301.8,   3.6739,  34.3828,2,  34.3824,2,    191.7,2,   191.5,2,    44.7,2,    0.00,2,   32.54,2,    0.00,2,    2.25,2,   1.432,2,   0.714,2,   0.080,2,   0.334656736,2,  2216.3,2, 2311.38,2,   7.5857,6,    25.01,   3.6740, -999.00,9,  -999.0,9,  -999.0, -999.00,9,-999.000,9,  -999.0,9, -999.00,9,     -999.0,9, -999.00,9, 20160306,     2315, -38.4901,  95.0040,     -999.0,9,     -999.0,9,     -999.0,9,-999.0000,9,-999.0000,9,-999.0000,9,-999.0000,9,-999.0000,9,-999.0000,9,-999.0000,9,     -999.0,9,     -999.0,9,     -999.0,9,     -999.0,9,     -999.0,9
33RR20160208,       I08S,      63,          1,         16,         16,2,20160306,       2216,   -38.4901,    95.0040,       3917,  1200.2,   4.1339,  34.3507,2,  34.3502,2,    200.4,2,   200.6,2,    35.7,2,    0.00,2,   31.22,2,    0.00,2,    2.15,2,   1.894,2,   0.929,2,   0.112,2,   0.414727979,2,  -999.0,9, -999.00,9,-999.0000,9,  -999.00,   4.1328, -999.00,9,  -999.0,9,  -999.0, -999.00,9,-999.000,9,  -999.0,9, -999.00,9,     -999.0,9, -999.00,9, 20160306,     2318, -38.4901,  95.0040,     -999.0,9,     -999.0,9,     -999.0,9,-999.0000,9,-999.0000,9,-999.0000,9,-999.0000,9,-999.0000,9,-999.0000,9,-999.0000,9,     -999.0,9,     -999.0,9,     -999.0,9,     -999.0,9,     -999.0,9
33RR20160208,       I08S,      63,          1,         17,         17,2,20160306,       2216,   -38.4901,    95.0040,       3917,  1099.6,   4.7826,  34.3431,2,  34.3428,2,    205.7,2,   205.7,2,    27.6,2,    0.00,2,   29.75,2,    0.00,2,    2.02,2,   2.270,2,   1.139,2,   0.127,2,    0.56871114,2,  -999.0,9, -999.00,9,-999.0000,9,     9.00,   4.7852, -999.00,9,  -999.0,9,  -999.0, -999.00,9,-999.000,9,  -999.0,9, -999.00,9,     -999.0,9, -999.00,9, 20160306,     2321, -38.4901,  95.0040,     -999.0,9,     -999.0,9,     -999.0,9,-999.0000,9,-999.0000,9,-999.0000,9,-999.0000,9,-999.0000,9,-999.0000,9,-999.0000,9,     -999.0,9,     -999.0,9,     -999.0,9,     -999.0,9,     -999.0,9
33RR20160208,       I08S,      63,          1,         18,         37,2,20160306,       2216,   -38.4901,    95.0040,       3917,   998.4,   5.9035,  34.3850,2,  34.3853,2,    206.9,2,   205.7,2,    19.7,2,    0.00,2,   27.57,2,    0.00,2,    1.88,2,   2.547,2,   1.357,2,   0.120,2,   0.779154793,2,  2178.2,2, 2291.27,2,   7.6431,6,    25.01,   5.9183, -999.00,9,  -999.0,9,  -999.0, -999.00,9,-999.000,9,  -999.0,9, -999.00,9,     -999.0,9, -999.00,9, 20160306,     2323, -38.4901,  95.0040,     -999.0,9,     -999.0,9,     -999.0,9,-999.0000,9,-999.0000,9,-999.0000,9,-999.0000,9,-999.0000,9,-999.0000,9,-999.0000,9,     -999.0,9,     -999.0,9,     -999.0,9,     -999.0,9,     -999.0,9
33RR20160208,       I08S,      63,          1,         19,         19,2,20160306,       2216,   -38.4901,    95.0040,       3917,   901.6,   7.2389,  34.4774,2,  34.4758,2,    207.1,2,   206.7,2,    14.5,2,    0.00,2,   24.48,2,    0.00,2,    1.66,2,   2.777,2,   1.455,2,   0.112,2,   0.756570596,2,  -999.0,9, -999.00,9,-999.0000,9,  -999.00,   7.2388, -999.00,9,  -999.0,9,  -999.0, -999.00,9,-999.000,9,  -999.0,9, -999.00,9,     -999.0,9, -999.00,9, 20160306,     2326, -38.4901,  95.0040,     -999.0,9,     -999.0,9,     -999.0,9,-999.0000,9,-999.0000,9,-999.0000,9,-999.0000,9,-999.0000,9,-999.0000,9,-999.0000,9,     -999.0,9,     -999.0,9,     -999.0,9,     -999.0,9,     -999.0,9
33RR20160208,       I08S,      63,          1,         20,         20,2,20160306,       2216,   -38.4901,    95.0040,       3917,   801.1,   8.4474,  34.5793,2,  34.5784,2,    219.0,2,   218.4,2,     9.0,2,    0.00,2,   20.49,2,    0.00,2,    1.41,2,   3.107,2,   1.697,2,   0.119,2,    1.10354598,2,  2151.3,2, 2290.41,2,   7.7210,2,    24.99,   8.4503, -999.00,9,  -999.0,9,  -999.0, -999.00,9,-999.000,9,  -999.0,9, -999.00,9,     -999.0,9, -999.00,9, 20160306,     2329, -38.4901,  95.0039,     -999.0,9,     -999.0,9,     -999.0,9,-999.0000,9,-999.0000,9,-999.0000,9,-999.0000,9,-999.0000,9,-999.0000,9,-999.0000,9,     -999.0,9,     -999.0,9,     -999.0,9,     -999.0,9,     -999.0,9
33RR20160208,       I08S,      63,          1,         21,         21,2,20160306,       2216,   -38.4901,    95.0040,       3917,   699.1,   9.3414,  34.6693,2,  34.6670,2,    238.0,2,   238.5,2,     5.1,2,    0.00,2,   16.45,2,    0.00,2,    1.14,2,   3.208,2,   1.847,2,   0.143,2,     1.5962921,2,  -999.0,9, -999.00,9,-999.0000,9,  -999.00,   9.3450, -999.00,9,  -999.0,9,  -999.0, -999.00,9,-999.000,9,  -999.0,9, -999.00,9,     -999.0,9, -999.00,9, 20160306,     2331, -38.4901,  95.0040,     -999.0,9,     -999.0,9,     -999.0,9,-999.0000,9,-999.0000,9,-999.0000,9,-999.0000,9,-999.0000,9,-999.0000,9,-999.0000,9,     -999.0,9,     -999.0,9,     -999.0,9,     -999.0,9,     -999.0,9
33RR20160208,       I08S,      63,          1,         22,         22,2,20160306,       2216,   -38.4901,    95.0040,       3917,   600.0,   9.9520,  34.7503,2,  34.7463,2,    248.0,2,   248.9,2,     3.9,2,    0.00,2,   13.80,2,    0.00,2,    0.99,2,   3.162,2,   1.837,2,   0.161,2,    1.64761982,2,  2125.6,2, 2296.98,2,   7.7924,2,    25.00,   9.9523, -999.00,9,  -999.0,9,  -999.0, -999.00,9,-999.000,9,  -999.0,9, -999.00,9,     -999.0,9, -999.00,9, 20160306,     2334, -38.4901,  95.0040,     -999.0,9,     -999.0,9,     -999.0,9,-999.0000,9,-999.0000,9,-999.0000,9,-999.0000,9,-999.0000,9,-999.0000,9,-999.0000,9,     -999.0,9,     -999.0,9,     -999.0,9,     -999.0,9,     -999.0,9
33RR20160208,       I08S,      63,          1,         23,         23,2,20160306,       2216,   -38.4901,    95.0040,       3917,   500.1,  10.3844,  34.8145,2,  34.8114,2,    252.5,2,   251.2,2,     3.5,2,    0.00,2,   12.46,2,    0.00,2,    0.89,2,-999.000,9,-999.000,9,-999.000,9,-999.000000000,9,  -999.0,9, -999.00,9,-999.0000,9,     9.00,  10.3849, -999.00,9,  -999.0,9,  -999.0, -999.00,9,-999.000,9,  -999.0,9, -999.00,9,     -999.0,9, -999.00,9, 20160306,     2337, -38.4901,  95.0040,     -999.0,9,     -999.0,9,     -999.0,9,-999.0000,9,-999.0000,9,-999.0000,9,-999.0000,9,-999.0000,9,-999.0000,9,-999.0000,9,     -999.0,9,     -999.0,9,     -999.0,9,     -999.0,9,     -999.0,9
33RR20160208,       I08S,      63,          1,         24,         24,2,20160306,       2216,   -38.4901,    95.0040,       3917,   448.9,  10.5076,  34.8339,2,  34.8312,2,    249.1,2,   254.7,2,     3.2,2,    0.00,2,   11.65,2,    0.00,2,    0.86,2,   3.124,2,   1.809,2,   0.183,2,    1.82110751,2,  -999.0,9, -999.00,9,-999.0000,9,  -999.00,  10.5088, -999.00,9,  -999.0,9,  -999.0, -999.00,9,-999.000,9,  -999.0,9, -999.00,9,     -999.0,9, -999.00,9, 20160306,     2339, -38.4901,  95.0040,     -999.0,9,     -999.0,9,     -999.0,9,-999.0000,9,-999.0000,9,-999.0000,9,-999.0000,9,-999.0000,9,-999.0000,9,-999.0000,9,     -999.0,9,     -999.0,9,     -999.0,9,     -999.0,9,     -999.0,9
33RR20160208,       I08S,      63,          1,         25,         25,2,20160306,       2216,   -38.4901,    95.0040,       3917,   402.1,  10.7385,  34.8702,2,  34.8664,2,    246.7,2,   251.3,2,     3.3,2,    0.00,2,   11.54,2,    0.00,2,    0.84,2,-999.000,9,-999.000,9,-999.000,9,-999.000000000,9,  2121.4,2, 2302.80,2,   7.8156,2,    25.00,  10.7375, -999.00,9,  -999.0,9,  -999.0, -999.00,9,-999.000,9,  -999.0,9, -999.00,9,     -999.0,9, -999.00,9, 20160306,     2340, -38.4901,  95.0040,     -999.0,9,     -999.0,9,     -999.0,9,-999.0000,9,-999.0000,9,-999.0000,9,-999.0000,9,-999.0000,9,-999.0000,9,-999.0000,9,     -999.0,9,     -999.0,9,     -999.0,9,     -999.0,9,     -999.0,9
33RR20160208,       I08S,      63,          1,         26,         26,2,20160306,       2216,   -38.4901,    95.0040,       3917,   352.1,  11.0258,  34.9155,2,  34.9141,2,    245.6,2,   248.3,2,     3.3,2,    0.00,2,   11.26,2,    0.00,2,    0.81,2,   3.011,2,   1.764,2,   0.166,2,    1.86319624,2,  -999.0,9, -999.00,9,-999.0000,9,     9.00,  11.0253, -999.00,9,  -999.0,9,  -999.0, -999.00,9,-999.000,9,  -999.0,9, -999.00,9,     -999.0,9, -999.00,9, 20160306,     2342, -38.4901,  95.0040,     -999.0,9,     -999.0,9,     -999.0,9,-999.0000,9,-999.0000,9,-999.0000,9,-999.0000,9,-999.0000,9,-999.0000,9,-999.0000,9,     -999.0,9,     -999.0,9,     -999.0,9,     -999.0,9,     -999.0,9
33RR20160208,       I08S,      63,          1,         27,         27,2,20160306,       2216,   -38.4901,    95.0040,       3917,   299.9,  11.2433,  34.9381,2,  34.9369,2,    250.7,2,   251.2,2,     2.9,2,    0.00,2,   10.28,2,    0.00,2,    0.77,2,-999.000,9,-999.000,9,-999.000,9,-999.000000000,9,  2118.2,2, 2305.82,2,   7.8279,6,    25.00,  11.2439, -999.00,9,  -999.0,9,  -999.0, -999.00,9,-999.000,9,  -999.0,9, -999.00,9,     -999.0,9, -999.00,9, 20160306,     2344, -38.4901,  95.0040,     -999.0,9,     -999.0,9,     -999.0,9,-999.0000,9,-999.0000,9,-999.0000,9,-999.0000,9,-999.0000,9,-999.0000,9,-999.0000,9,     -999.0,9,     -999.0,9,     -999.0,9,     -999.0,9,     -999.0,9