BOTTLE,20220706CCHSIOAMB
EXPOCODE,SECT_ID,STNNBR,CASTNO,SAMPNO,BTLNBR,BTLNBR_FLAG_W,DATE,TIME,LATITUDE,LONGITUDE,DEPTH,CTDPRS,CTDTMP,CTDSAL,CTDSAL_FLAG_W,SALNTY,SALNTY_FLAG_W,CTDOXY,CTDOXY_FLAG_W,OXYGEN,OXYGEN_FLAG_W,SILCAT,SILCAT_FLAG_W,NH4,NH4_FLAG_W,NITRAT,NITRAT_FLAG_W,NITRIT,NITRIT_FLAG_W,PHSPHT,PHSPHT_FLAG_W,CFC-11,CFC-11_FLAG_W,CFC-12,CFC-12_FLAG_W,CFC113,CFC113_FLAG_W,SF6,SF6_FLAG_W,TCARBN,TCARBN_FLAG_W,ALKALI,ALKALI_FLAG_W,PH_TOT,PH_TOT_FLAG_W,PH_TMP,REFTMP,DELC13,DELC13_FLAG_W,DELC14,DELC14_FLAG_W,C14ERR,DELO18,DELO18_FLAG_W,POC,POC_FLAG_W,DOC,DOC_FLAG_W,TDN,TDN_FLAG_W,TON,TON_FLAG_W,D15N_NO3,D15N_NO3_FLAG_W,BTL_DATE,BTL_TIME,BTL_LAT,BTL_LON,14C-DOC,14C-DOC_FLAG_W,CHLORA,CHLORA_FLAG_W,HPLC,HPLC_FLAG_W,CDOM325,CDOM325_FLAG_W,CDOM340,CDOM340_FLAG_W,CDOM380,CDOM380_FLAG_W,CDOM412,CDOM412_FLAG_W,CDOM443,CDOM443_FLAG_W,CDOM490,CDOM490_FLAG_W,CDOM555,CDOM555_FLAG_W,CDOMSL,CDOMSL_FLAG_W,CDOMSN,CDOMSN_FLAG_W,D18O_NO3,D18O_NO3_FLAG_W,D15N_NO2+NO3,D15N_NO2+NO3_FLAG_W,D18O_NO2+NO3,D18O_NO2+NO3_FLAG_W
,,,,,,,,,,,METERS,DBAR,ITS-90,PSS-78,,PSS-78,,UMOL/KG,,UMOL/KG,,UMOL/KG,,UMOL/KG,,UMOL/KG,,UMOL/KG,,UMOL/KG,,PMOL/KG,,PMOL/KG,,PMOL/KG,,FMOL/KG,,UMOL/KG,,UMOL/KG,,,,DEG C,DEG C,/MILLE,,/MILLE,,/MILLE,/MILLE,,UG/KG,,UMOL/KG,,UMOL/KG,,UMOL/KG,,/MILLE,,,,,,/MILLE,,MG/M3,,,,1/M,,1/M,,1/M,,1/M,,1/M,,1/M,,1/M,,1/NM,,1/NM,,/MILLE,,/MILLE,,/MILLE,
33RR20160208,       I08S,      83,          1,          2,          2,2,20160311,       2055,   -28.3180,    95.0091,       3136,  3101.8,   1.4169,  34.7235,2,-999.0000,9,    187.9,2,  -999.0,9,  -999.0,9, -999.00,9, -999.00,9, -999.00,9, -999.00,9,-999.000,9,-999.000,9,-999.000,9,-999.000000000,9,  -999.0,9, -999.00,9,-999.0000,9,  -999.00,   1.4172, -999.00,9,  -999.0,9,  -999.0, -999.00,9,-999.000,9,  -999.0,9, -999.00,9,     -999.0,9, -999.00,9, 20160311,     2055, -28.3180,  95.0091,     -999.0,9,     -999.0,9,     -999.0,9,-999.0000,9,-999.0000,9,-999.0000,9,-999.0000,9,-999.0000,9,-999.0000,9,-999.0000,9,     -999.0,9,     -999.0,9,     -999.0,9,     -999.0,9,     -999.0,9
33RR20160208,       I08S,      83,          1,          4,          4,2,20160311,       2055,   -28.3180,    95.0091,       3136,  3099.9,   1.4167,  34.7236,2,  34.7253,2,    187.8,2,   187.9,2,   118.3,2,    0.00,2,   32.77,2,    0.00,2,    2.24,2,   0.012,2,   0.029,2,-999.000,5,             0,2,  2281.6,6, 2385.66,2,   7.6113,2,    25.00,   1.4162,    0.38,2,  -186.8,2,     1.7, -999.00,9,-999.000,9,  -999.0,9, -999.00,9,     -999.0,9, -999.00,9, 20160311,     2055, -28.3180,  95.0090,     -999.0,9,     -999.0,9,     -999.0,9,-999.0000,9,-999.0000,9,-999.0000,9,-999.0000,9,-999.0000,9,-999.0000,9,-999.0000,9,     -999.0,9,     -999.0,9,     -999.0,9,     -999.0,9,     -999.0,9
33RR20160208,       I08S,      83,          1,          1,          1,2,20160311,       2055,   -28.3180,    95.0091,       3136,  3099.7,   1.4171,  34.7236,2,-999.0000,9,    187.8,2,  -999.0,9,  -999.0,9, -999.00,9, -999.00,9, -999.00,9, -999.00,9,-999.000,9,-999.000,9,-999.000,9,-999.000000000,9,  -999.0,9, -999.00,9,-999.0000,9,  -999.00,   1.4170, -999.00,9,  -999.0,9,  -999.0, -999.00,9,-999.000,9,  -999.0,9, -999.00,9,     -999.0,9, -999.00,9, 20160311,     2054, -28.3180,  95.0090,     -999.0,9,     -999.0,9,     -999.0,9,-999.0000,9,-999.0000,9,-999.0000,9,-999.0000,9,-999.0000,9,-999.0000,9,-999.0000,9,     -999.0,9,     -999.0,9,     -999.0,9,     -999.0,9,     -999.0,9
33RR20160208,       I08S,      83,          1,          3,          3,2,20160311,       2055,   -28.3180,    95.0091,       3136,  3098.1,   1.4171,  34.7235,2,-999.0000,9,    187.9,2,  -999.0,9,  -999.0,9, -999.00,9, -999.00,9, -999.00,9, -999.00,9,-999.000,9,-999.000,9,-999.000,9,-999.000000000,9,  -999.0,9, -999.00,9,-999.0000,9,  -999.00,   1.4169, -999.00,9,  -999.0,9,  -999.0, -999.00,9,-999.000,9,  -999.0,9, -999.00,9,     -999.0,9, -999.00,9, 20160311,     2055, -28.3180,  95.0091,     -999.0,9,     -999.0,9,     -999.0,9,-999.0000,9,-999.0000,9,-999.0000,9,-999.0000,9,-999.0000,9,-999.0000,9,-999.0000,9,     -999.0,9,     -999.0,9,     -999.0,9,     -999.0,9,     -999.0,9
33RR20160208,       I08S,      83,          1,          5,          5,2,20160311,       2055,   -28.3180,    95.0091,       3136,  2872.8,   1.5838,  34.7266,2,  34.7280,2,    183.1,2,   184.1,2,   115.0,2,    0.00,2,   32.74,2,    0.00,2,    2.26,2,   0.011,2,   0.032,2,-999.000,5,             0,2,  2278.7,2, 2384.53,6,   7.6079,2,    25.01,   1.5838,    0.42,2,  -184.4,2,     1.9, -999.00,9,-999.000,9,  -999.0,9, -999.00,9,     -999.0,9, -999.00,9, 20160311,     2100, -28.3180,  95.0090,     -999.0,9,     -999.0,9,     -999.0,9,-999.0000,9,-999.0000,9,-999.0000,9,-999.0000,9,-999.0000,9,-999.0000,9,-999.0000,9,     -999.0,9,     -999.0,9,     -999.0,9,     -999.0,9,     -999.0,9
33RR20160208,       I08S,      83,          1,          6,         38,2,20160311,       2055,   -28.3180,    95.0091,       3136,  2645.6,   1.7527,  34.7280,2,  34.7294,2,    180.4,2,   181.8,2,   110.7,2,    0.00,2,   32.67,2,    0.00,2,    2.26,2,   0.008,2,   0.038,2,-999.000,5,             0,2,  2275.9,2, 2380.48,2,   7.6052,2,    25.03,   1.7526,    0.43,2,  -183.3,2,     1.8, -999.00,9,-999.000,9,  -999.0,9, -999.00,9,     -999.0,9, -999.00,9, 20160311,     2105, -28.3180,  95.0090,     -999.0,9,     -999.0,9,     -999.0,9,-999.0000,9,-999.0000,9,-999.0000,9,-999.0000,9,-999.0000,9,-999.0000,9,-999.0000,9,     -999.0,9,     -999.0,9,     -999.0,9,     -999.0,9,     -999.0,9
33RR20160208,       I08S,      83,          1,          7,          7,2,20160311,       2055,   -28.3180,    95.0091,       3136,  2398.0,   1.9810,  34.7254,2,  34.7255,2,    172.8,2,   175.3,2,   107.8,2,    0.00,2,   33.00,2,    0.00,2,    2.30,2,   0.009,2,   0.029,2,-999.000,5,             0,2,  2278.3,2, 2379.54,2,   7.5970,2,    24.99,   1.9811,    0.39,2,  -183.4,2,     1.8, -999.00,9,-999.000,9,  -999.0,9, -999.00,9,     -999.0,9, -999.00,9, 20160311,     2110, -28.3180,  95.0090,     -999.0,9,     -999.0,9,     -999.0,9,-999.0000,9,-999.0000,9,-999.0000,9,-999.0000,9,-999.0000,9,-999.0000,9,-999.0000,9,     -999.0,9,     -999.0,9,     -999.0,9,     -999.0,9,     -999.0,9
33RR20160208,       I08S,      83,          1,          8,          8,2,20160311,       2055,   -28.3180,    95.0091,       3136,  2196.4,   2.1790,  34.7202,2,  34.7210,2,    166.7,2,   167.9,2,   105.3,2,    0.00,2,   33.32,2,    0.00,2,    2.30,2,   0.009,2,   0.017,2,-999.000,5,             0,2,  2279.0,2, 2377.36,2,   7.5896,6,    25.02,   2.1794,    0.36,2,  -182.8,2,     2.4, -999.00,9,-999.000,9,  -999.0,9, -999.00,9,     -999.0,9, -999.00,9, 20160311,     2114, -28.3180,  95.0090,     -999.0,9,     -999.0,9,     -999.0,9,-999.0000,9,-999.0000,9,-999.0000,9,-999.0000,9,-999.0000,9,-999.0000,9,-999.0000,9,     -999.0,9,     -999.0,9,     -999.0,9,     -999.0,9,     -999.0,9
33RR20160208,       I08S,      83,          1,          9,          9,2,20160311,       2055,   -28.3180,    95.0091,       3136,  2001.5,   2.4245,  34.7076,2,  34.7082,2,    160.8,2,   161.3,2,   101.0,2,    0.00,2,   33.70,2,    0.00,2,    2.32,2,   0.013,2,   0.021,2,-999.000,5,             0,2,  2278.9,2, 2373.64,2,   7.5803,6,    25.00,   2.4242,    0.35,2,  -182.5,2,     1.9, -999.00,9,-999.000,9,  -999.0,9, -999.00,9,     -999.0,9, -999.00,9, 20160311,     2119, -28.3180,  95.0090,     -999.0,9,     -999.0,9,     -999.0,9,-999.0000,9,-999.0000,9,-999.0000,9,-999.0000,9,-999.0000,9,-999.0000,9,-999.0000,9,     -999.0,9,     -999.0,9,     -999.0,9,     -999.0,9,     -999.0,9
33RR20160208,       I08S,      83,          1,         10,         10,2,20160311,       2055,   -28.3180,    95.0091,       3136,  1801.8,   2.7008,  34.6800,2,  34.6795,2,    154.5,2,   155.6,2,    94.6,2,    0.00,2,   34.16,2,    0.00,2,    2.38,2,   0.014,2,   0.019,2,-999.000,5,             0,2,  2276.4,2, 2366.75,2,   7.5696,2,    25.02,   2.7010,    0.35,2,  -175.2,2,     2.6, -999.00,9,-999.000,9,  -999.0,9, -999.00,9,     -999.0,9, -999.00,9, 20160311,     2123, -28.3180,  95.0090,     -999.0,9,     -999.0,9,     -999.0,9,-999.0000,9,-999.0000,9,-999.0000,9,-999.0000,9,-999.0000,9,-999.0000,9,-999.0000,9,     -999.0,9,     -999.0,9,     -999.0,9,     -999.0,9,     -999.0,9
33RR20160208,       I08S,      83,          1,         11,         11,2,20160311,       2055,   -28.3180,    95.0091,       3136,  1699.6,   2.8440,  34.6605,2,  34.6609,2,    151.7,2,   151.1,2,    91.7,2,    0.00,2,   34.49,2,    0.00,2,    2.40,2,   0.016,2,   0.018,2,-999.000,5,             0,2,  2275.8,2, 2363.79,2,   7.5641,2,    25.00,   2.8438,    0.34,2,  -178.0,2,     1.8, -999.00,9,-999.000,9,  -999.0,9, -999.00,9,     -999.0,9, -999.00,9, 20160311,     2127, -28.3180,  95.0090,     -999.0,9,     -999.0,9,     -999.0,9,-999.0000,9,-999.0000,9,-999.0000,9,-999.0000,9,-999.0000,9,-999.0000,9,-999.0000,9,     -999.0,9,     -999.0,9,     -999.0,9,     -999.0,9,     -999.0,9
33RR20160208,       I08S,      83,          1,         12,         12,2,20160311,       2055,   -28.3180,    95.0091,       3136,  1600.2,   3.0229,  34.6367,2,  34.6374,2,    148.2,2,   148.9,2,    88.4,2,    0.00,2,   34.84,2,    0.00,2,    2.41,2,   0.024,2,   0.023,2,-999.000,5,             0,2,  2274.5,2, 2360.10,2,   7.5584,2,    25.00,   3.0248,    0.37,2,  -177.3,2,     1.9, -999.00,9,-999.000,9,  -999.0,9, -999.00,9,     -999.0,9, -999.00,9, 20160311,     2129, -28.3180,  95.0090,     -999.0,9,     -999.0,9,     -999.0,9,-999.0000,9,-999.0000,9,-999.0000,9,-999.0000,9,-999.0000,9,-999.0000,9,-999.0000,9,     -999.0,9,     -999.0,9,     -999.0,9,     -999.0,9,     -999.0,9
33RR20160208,       I08S,      83,          1,         13,         13,2,20160311,       2055,   -28.3180,    95.0091,       3136,  1497.8,   3.2135,  34.6114,2,  34.6115,2,    145.7,2,   145.8,2,    84.8,2,    0.00,2,   35.03,2,    0.00,2,    2.45,2,   0.038,2,   0.034,2,-999.000,5,             0,2,  2273.0,2, 2355.72,2,   7.5528,2,    25.02,   3.2127,    0.36,2,  -172.4,2,     1.7, -999.00,9,-999.000,9,  -999.0,9, -999.00,9,     -999.0,9, -999.00,9, 20160311,     2132, -28.3180,  95.0090,     -999.0,9,     -999.0,9,     -999.0,9,-999.0000,9,-999.0000,9,-999.0000,9,-999.0000,9,-999.0000,9,-999.0000,9,-999.0000,9,     -999.0,9,     -999.0,9,     -999.0,9,     -999.0,9,     -999.0,9
33RR20160208,       I08S,      83,          1,         14,         14,2,20160311,       2055,   -28.3180,    95.0091,       3136,  1399.4,   3.4005,  34.5818,2,  34.5881,4,    146.2,2,   145.1,2,    80.2,2,    0.00,2,   35.13,2,    0.00,2,    2.46,2,   0.086,2,   0.062,2,-999.000,5,             0,2,  2268.5,6, 2351.26,2,   7.5510,2,    25.00,   3.4004,    0.42,2,  -163.2,2,     1.9, -999.00,9,-999.000,9,  -999.0,9, -999.00,9,     -999.0,9, -999.00,9, 20160311,     2135, -28.3180,  95.0090,     -999.0,9,     -999.0,9,     -999.0,9,-999.0000,9,-999.0000,9,-999.0000,9,-999.0000,9,-999.0000,9,-999.0000,9,-999.0000,9,     -999.0,9,     -999.0,9,     -999.0,9,     -999.0,9,     -999.0,9
33RR20160208,       I08S,      83,          1,         15,         15,2,20160311,       2055,   -28.3180,    95.0091,       3136,  1300.9,   3.6239,  34.5487,2,  34.5477,2,    149.3,2,   146.6,2,    74.5,2,    0.00,2,   35.03,2,    0.00,2,    2.45,2,   0.158,2,   0.097,2,-999.000,5,         0.095,2,  2259.9,2, 2332.55,2,   7.5521,2,    25.01,   3.6265,    0.43,2,  -153.1,2,     2.0, -999.00,9,-999.000,9,  -999.0,9, -999.00,9,     -999.0,9, -999.00,9, 20160311,     2137, -28.3180,  95.0090,     -999.0,9,     -999.0,9,     -999.0,9,-999.0000,9,-999.0000,9,-999.0000,9,-999.0000,9,-999.0000,9,-999.0000,9,-999.0000,9,     -999.0,9,     -999.0,9,     -999.0,9,     -999.0,9,     -999.0,9
33RR20160208,       I08S,      83,          1,         16,         16,2,20160311,       2055,   -28.3180,    95.0091,       3136,  1200.0,   3.8106,  34.4934,2,  34.4948,2,    159.4,2,   157.3,2,    63.6,2,    0.00,2,   34.32,2,    0.00,2,    2.37,2,   0.401,2,   0.211,2,-999.000,5,             0,2,  2247.4,2, 2332.36,2,   7.5622,2,    25.02,   3.8099,    0.54,2,  -138.6,2,     1.9, -999.00,9,-999.000,9,  -999.0,9, -999.00,9,     -999.0,9, -999.00,9, 20160311,     2140, -28.3180,  95.0090,     -999.0,9,     -999.0,9,     -999.0,9,-999.0000,9,-999.0000,9,-999.0000,9,-999.0000,9,-999.0000,9,-999.0000,9,-999.0000,9,     -999.0,9,     -999.0,9,     -999.0,9,     -999.0,9,     -999.0,9
33RR20160208,       I08S,      83,          1,         17,         17,2,20160311,       2055,   -28.3180,    95.0091,       3136,  1098.5,   4.0683,  34.4365,2,  34.4370,2,    175.6,2,   172.3,2,    51.0,2,    0.00,2,   33.19,2,    0.00,2,    2.26,2,   0.798,2,   0.405,2,-999.000,5,         0.212,2,  2228.6,2, 2319.51,2,   7.5801,2,    25.00,   4.0689,    0.64,2,  -117.0,2,     2.5, -999.00,9,-999.000,9,  -999.0,9, -999.00,9,     -999.0,9, -999.00,9, 20160311,     2143, -28.3180,  95.0090,     -999.0,9,     -999.0,9,     -999.0,9,-999.0000,9,-999.0000,9,-999.0000,9,-999.0000,9,-999.0000,9,-999.0000,9,-999.0000,9,     -999.0,9,     -999.0,9,     -999.0,9,     -999.0,9,     -999.0,9
33RR20160208,       I08S,      83,          1,         18,         37,2,20160311,       2055,   -28.3180,    95.0091,       3136,  1000.2,   4.6110,  34.3890,2,  34.3894,2,    189.7,2,   188.7,2,    36.4,2,    0.00,2,   31.30,2,    0.00,2,    2.10,2,   1.443,2,   0.716,2,-999.000,5,         0.243,2,  2205.9,2, 2304.97,2,   7.6052,2,    25.02,   4.6040,    0.78,2,   -88.8,2,     2.1, -999.00,9,-999.000,9,  -999.0,9, -999.00,9,     -999.0,9, -999.00,9, 20160311,     2146, -28.3180,  95.0090,     -999.0,9,     -999.0,9,     -999.0,9,-999.0000,9,-999.0000,9,-999.0000,9,-999.0000,9,-999.0000,9,-999.0000,9,-999.0000,9,     -999.0,9,     -999.0,9,     -999.0,9,     -999.0,9,     -999.0,9
33RR20160208,       I08S,      83,          1,         19,         19,2,20160311,       2055,   -28.3180,    95.0091,       3136,   899.5,   5.8518,  34.4073,2,  34.4074,2,    197.9,2,   197.8,2,    22.7,2,    0.00,2,   28.26,2,    0.00,2,    1.88,2,   2.033,2,   1.023,2,-999.000,5,         0.384,2,  2184.1,2, 2294.15,2,   7.6393,2,    25.02,   5.8541,    0.87,2,   -43.1,2,     1.9, -999.00,9,-999.000,9,  -999.0,9, -999.00,9,     -999.0,9, -999.00,9, 20160311,     2148, -28.3180,  95.0090,     -999.0,9,     -999.0,9,     -999.0,9,-999.0000,9,-999.0000,9,-999.0000,9,-999.0000,9,-999.0000,9,-999.0000,9,-999.0000,9,     -999.0,9,     -999.0,9,     -999.0,9,     -999.0,9,     -999.0,9
33RR20160208,       I08S,      83,          1,         20,         20,2,20160311,       2055,   -28.3180,    95.0091,       3136,   799.4,   7.3598,  34.4943,2,  34.4938,2,    205.8,2,   205.4,2,    14.3,2,    0.00,2,   24.29,2,    0.00,2,    1.62,2,   2.573,2,   1.291,2,-999.000,5,         0.806,2,  2165.2,2, 2291.06,2,   7.6824,2,    25.04,   7.3649,    0.94,2,    -9.9,2,     2.0, -999.00,9,-999.000,9,  -999.0,9, -999.00,9,     -999.0,9, -999.00,9, 20160311,     2151, -28.3180,  95.0090,     -999.0,9,     -999.0,9,     -999.0,9,-999.0000,9,-999.0000,9,-999.0000,9,-999.0000,9,-999.0000,9,-999.0000,9,-999.0000,9,     -999.0,9,     -999.0,9,     -999.0,9,     -999.0,9,     -999.0,9
33RR20160208,       I08S,      83,          1,         21,         21,2,20160311,       2055,   -28.3180,    95.0091,       3136,   699.3,   8.7949,  34.6113,2,  34.6107,2,    228.6,2,   228.4,2,     5.9,2,    0.00,2,   18.87,2,    0.00,2,    1.29,2,   3.014,2,   1.764,2,-999.000,5,         1.052,2,  2141.4,2, 2289.95,2,   7.7411,6,    25.00,   8.7959,    1.01,2,    19.7,2,     2.0, -999.00,9,-999.000,9,  -999.0,9, -999.00,9,     -999.0,9, -999.00,9, 20160311,     2154, -28.3180,  95.0090,     -999.0,9,     -999.0,9,     -999.0,9,-999.0000,9,-999.0000,9,-999.0000,9,-999.0000,9,-999.0000,9,-999.0000,9,-999.0000,9,     -999.0,9,     -999.0,9,     -999.0,9,     -999.0,9,     -999.0,9
33RR20160208,       I08S,      83,          1,         22,         22,2,20160311,       2055,   -28.3180,    95.0091,       3136,   601.3,   9.5383,  34.7005,2,  34.7005,2,    239.2,2,   238.8,2,     3.7,2,    0.00,2,   15.77,2,    0.00,2,    1.08,2,   3.008,2,   1.838,2,-999.000,5,         1.226,2,  2131.7,2, 2293.66,2,   7.7710,2,    24.98,   9.5396,    1.02,2,    32.0,2,     2.0, -999.00,9,-999.000,9,  -999.0,9, -999.00,9,     -999.0,9, -999.00,9, 20160311,     2156, -28.3180,  95.0090,     -999.0,9,     -999.0,9,     -999.0,9,-999.0000,9,-999.0000,9,-999.0000,9,-999.0000,9,-999.0000,9,-999.0000,9,-999.0000,9,     -999.0,9,     -999.0,9,     -999.0,9,     -999.0,9,     -999.0,9
33RR20160208,       I08S,      83,          1,         23,         23,2,20160311,       2055,   -28.3180,    95.0091,       3136,   500.2,  10.3432,  34.8173,2,  34.8165,2,    243.2,2,   243.1,2,     2.6,2,    0.00,2,   12.89,2,    0.00,2,    0.91,2,   3.002,2,   1.833,2,-999.000,5,         1.659,2,  2124.3,2, 2297.94,2,   7.7970,2,    25.01,  10.3450,    1.02,2,    26.7,2,     2.0, -999.00,9,-999.000,9,  -999.0,9, -999.00,9,     -999.0,9, -999.00,9, 20160311,     2159, -28.3180,  95.0090,     -999.0,9,     -999.0,9,     -999.0,9,-999.0000,9,-999.0000,9,-999.0000,9,-999.0000,9,-999.0000,9,-999.0000,9,-999.0000,9,     -999.0,9,     -999.0,9,     -999.0,9,     -999.0,9,     -999.0,9
33RR20160208,       I08S,      83,          1,         24,         24,2,20160311,       2055,   -28.3180,    95.0091,       3136,   450.4,  10.7839,  34.8833,2,  34.8853,2,    242.6,2,   243.6,2,     2.2,2,    0.00,2,   11.50,2,    0.00,2,    0.84,2,   3.048,2,   1.803,2,-999.000,5,         1.479,2,  2124.3,6, 2303.54,2,   7.8104,2,    25.00,  10.7775,    1.00,2,    26.0,2,     2.0, -999.00,9,-999.000,9,  -999.0,9, -999.00,9,     -999.0,9, -999.00,9, 20160311,     2201, -28.3180,  95.0090,     -999.0,9,     -999.0,9,     -999.0,9,-999.0000,9,-999.0000,9,-999.0000,9,-999.0000,9,-999.0000,9,-999.0000,9,-999.0000,9,     -999.0,9,     -999.0,9,     -999.0,9,     -999.0,9,     -999.0,9
33RR20160208,       I08S,      83,          1,         25,         25,2,20160311,       2055,   -28.3180,    95.0091,       3136,   398.9,  11.3527,  34.9720,2,  34.9721,2,    239.2,2,   240.1,2,     2.2,2,    0.00,2,   10.54,2,    0.00,2,    0.76,2,   3.051,2,   1.759,2,-999.000,5,         1.766,2,  2122.0,2, 2306.01,2,   7.8207,2,    25.00,  11.3487,    0.95,2,    29.6,2,     2.1, -999.00,9,-999.000,9,  -999.0,9, -999.00,9,     -999.0,9, -999.00,9, 20160311,     2203, -28.3180,  95.0090,     -999.0,9,     -999.0,9,     -999.0,9,-999.0000,9,-999.0000,9,-999.0000,9,-999.0000,9,-999.0000,9,-999.0000,9,-999.0000,9,     -999.0,9,     -999.0,9,     -999.0,9,     -999.0,9,     -999.0,9
33RR20160208,       I08S,      83,          1,         26,         26,2,20160311,       2055,   -28.3180,    95.0091,       3136,   352.4,  12.1368,  35.0909,2,  35.0916,2,    234.8,2,   235.1,2,     1.8,2,    0.00,2,    8.91,2,    0.00,2,    0.67,2,   2.938,2,   1.694,2,-999.000,5,         1.705,2,  2118.2,2, 2312.79,2,   7.8367,2,    25.01,  12.1391,    0.90,2,    30.6,2,     2.0, -999.00,9,-999.000,9,  -999.0,9, -999.00,9,     -999.0,9, -999.00,9, 20160311,     2205, -28.3180,  95.0090,     -999.0,9,     -999.0,9,     -999.0,9,-999.0000,9,-999.0000,9,-999.0000,9,-999.0000,9,-999.0000,9,-999.0000,9,-999.0000,9,     -999.0,9,     -999.0,9,     -999.0,9,     -999.0,9,     -999.0,9
33RR20160208,       I08S,      83,          1,         27,         27,2,20160311,       2055,   -28.3180,    95.0091,       3136,   299.4,  12.9475,  35.2060,2,  35.2098,2,    233.9,2,   234.1,2,     1.1,2,    0.00,2,    6.72,2,    0.00,2,    0.55,2,   2.749,2,   1.634,2,-999.000,5,         1.586,2,  2114.2,2, 2321.03,2,   7.8592,2,    25.04,  12.9429,    0.89,2,    28.1,2,     2.1, -999.00,9,-999.000,9,  -999.0,9, -999.00,9,     -999.0,9, -999.00,9, 20160311,     2207, -28.3180,  95.0090,     -999.0,9,     -999.0,9,     -999.0,9,-999.0000,9,-999.0000,9,-999.0000,9,-999.0000,9,-999.0000,9,-999.0000,9,-999.0000,9,     -999.0,9,     -999.0,9,     -999.0,9,     -999.0,9,     -999.0,9