BOTTLE,20220706CCHSIOAMB
EXPOCODE,SECT_ID,STNNBR,CASTNO,SAMPNO,BTLNBR,BTLNBR_FLAG_W,DATE,TIME,LATITUDE,LONGITUDE,DEPTH,CTDPRS,CTDTMP,CTDSAL,CTDSAL_FLAG_W,SALNTY,SALNTY_FLAG_W,CTDOXY,CTDOXY_FLAG_W,OXYGEN,OXYGEN_FLAG_W,SILCAT,SILCAT_FLAG_W,NH4,NH4_FLAG_W,NITRAT,NITRAT_FLAG_W,NITRIT,NITRIT_FLAG_W,PHSPHT,PHSPHT_FLAG_W,CFC-11,CFC-11_FLAG_W,CFC-12,CFC-12_FLAG_W,CFC113,CFC113_FLAG_W,SF6,SF6_FLAG_W,TCARBN,TCARBN_FLAG_W,ALKALI,ALKALI_FLAG_W,PH_TOT,PH_TOT_FLAG_W,PH_TMP,REFTMP,DELC13,DELC13_FLAG_W,DELC14,DELC14_FLAG_W,C14ERR,DELO18,DELO18_FLAG_W,POC,POC_FLAG_W,DOC,DOC_FLAG_W,TDN,TDN_FLAG_W,TON,TON_FLAG_W,D15N_NO3,D15N_NO3_FLAG_W,BTL_DATE,BTL_TIME,BTL_LAT,BTL_LON,14C-DOC,14C-DOC_FLAG_W,CHLORA,CHLORA_FLAG_W,HPLC,HPLC_FLAG_W,CDOM325,CDOM325_FLAG_W,CDOM340,CDOM340_FLAG_W,CDOM380,CDOM380_FLAG_W,CDOM412,CDOM412_FLAG_W,CDOM443,CDOM443_FLAG_W,CDOM490,CDOM490_FLAG_W,CDOM555,CDOM555_FLAG_W,CDOMSL,CDOMSL_FLAG_W,CDOMSN,CDOMSN_FLAG_W,D18O_NO3,D18O_NO3_FLAG_W,D15N_NO2+NO3,D15N_NO2+NO3_FLAG_W,D18O_NO2+NO3,D18O_NO2+NO3_FLAG_W
,,,,,,,,,,,METERS,DBAR,ITS-90,PSS-78,,PSS-78,,UMOL/KG,,UMOL/KG,,UMOL/KG,,UMOL/KG,,UMOL/KG,,UMOL/KG,,UMOL/KG,,PMOL/KG,,PMOL/KG,,PMOL/KG,,FMOL/KG,,UMOL/KG,,UMOL/KG,,,,DEG C,DEG C,/MILLE,,/MILLE,,/MILLE,/MILLE,,UG/KG,,UMOL/KG,,UMOL/KG,,UMOL/KG,,/MILLE,,,,,,/MILLE,,MG/M3,,,,1/M,,1/M,,1/M,,1/M,,1/M,,1/M,,1/M,,1/NM,,1/NM,,/MILLE,,/MILLE,,/MILLE,
33RR20160208,       I08S,      30,          1,          1,          1,2,20160226,       0325,   -55.6232,    84.7474,       4825,  4853.4,   0.0826,  34.6620,2,  34.6613,2,    231.2,2,   232.2,2,   131.1,2,    0.00,2,   32.19,2,    0.00,2,    2.25,2,   1.327,2,   0.651,2,   0.092,2,   0.279053542,2,  2258.6,6, 2354.23,2,   7.5926,2,    24.98,   0.0823,    0.54,2,  -150.9,2,     1.8, -999.00,9,-999.000,9,    39.3,2, -999.00,9,     -999.0,1, -999.00,9, 20160226,      325, -55.6231,  84.7473,     -999.0,9,     -999.0,9,     -999.0,9,-999.0000,9,-999.0000,9,-999.0000,9,-999.0000,9,-999.0000,9,-999.0000,9,-999.0000,9,     -999.0,9,     -999.0,9,     -999.0,9,     -999.0,9,     -999.0,9
33RR20160208,       I08S,      30,          1,          2,          2,2,20160226,       0325,   -55.6232,    84.7474,       4825,  4569.8,   0.0690,  34.6632,2,  34.6639,2,    230.0,2,   231.6,2,   129.5,2,    0.00,2,   32.25,2,    0.00,2,    2.25,2,   1.267,2,   0.629,2,   0.088,2,   0.334461285,2,  2258.4,2, 2352.82,2,   7.5925,2,    25.00,   0.0691,    0.52,2,  -151.3,2,     1.7, -999.00,9,-999.000,9,    38.5,2, -999.00,9,     -999.0,1, -999.00,9, 20160226,      334, -55.6232,  84.7475,     -999.0,9,     -999.0,9,     -999.0,9,-999.0000,9,-999.0000,9,-999.0000,9,-999.0000,9,-999.0000,9,-999.0000,9,-999.0000,9,     -999.0,9,     -999.0,9,     -999.0,9,     -999.0,9,     -999.0,9
33RR20160208,       I08S,      30,          1,          3,          3,3,20160226,       0325,   -55.6232,    84.7474,       4825,  4291.4,   0.0743,  34.6654,3,  34.6645,3,    229.6,3,   230.6,3,   129.4,3,    0.00,3,   32.20,3,    0.00,3,    2.25,3,   1.221,2,   0.601,2,   0.084,2,   0.297186985,2,  -999.0,9, -999.00,9,-999.0000,9,     9.00,   0.0742, -999.00,9,  -999.0,9,  -999.0, -999.00,9,-999.000,9,    39.0,2, -999.00,9,     -999.0,1, -999.00,9, 20160226,      340, -55.6232,  84.7474,     -999.0,9,     -999.0,9,     -999.0,9,-999.0000,9,-999.0000,9,-999.0000,9,-999.0000,9,-999.0000,9,-999.0000,9,-999.0000,9,     -999.0,9,     -999.0,9,     -999.0,9,     -999.0,9,     -999.0,9
33RR20160208,       I08S,      30,          1,          4,          4,2,20160226,       0325,   -55.6232,    84.7474,       4825,  3994.2,   0.0830,  34.6675,2,  34.6676,2,    228.7,2,   229.4,2,   129.0,2,    0.00,2,   32.18,2,    0.00,2,    2.25,2,   1.088,2,   0.535,2,   0.073,2,   0.290135091,2,  2258.8,2, 2353.42,2,   7.5929,2,    24.99,   0.0830,    0.53,2,  -150.9,2,     1.7, -999.00,9,-999.000,9,    38.4,2, -999.00,9,     -999.0,1, -999.00,9, 20160226,      348, -55.6232,  84.7473,     -999.0,9,     -999.0,9,     -999.0,9,-999.0000,9,-999.0000,9,-999.0000,9,-999.0000,9,-999.0000,9,-999.0000,9,-999.0000,9,     -999.0,9,     -999.0,9,     -999.0,9,     -999.0,9,     -999.0,9
33RR20160208,       I08S,      30,          1,          5,          5,2,20160226,       0325,   -55.6232,    84.7474,       4825,  3692.4,   0.1203,  34.6707,2,  34.6700,2,    227.2,2,   228.0,2,   127.4,2,    0.00,2,   32.22,2,    0.00,2,    2.25,2,   0.973,2,   0.479,2,   0.065,2,   0.264949753,2,  2257.3,2, 2353.04,2,   7.5940,2,    25.00,   0.1201,    0.54,2,  -151.0,2,     1.7, -999.00,9,-999.000,9,    38.5,2, -999.00,9,     -999.0,1, -999.00,9, 20160226,      354, -55.6232,  84.7474,     -999.0,9,     -999.0,9,     -999.0,9,-999.0000,9,-999.0000,9,-999.0000,9,-999.0000,9,-999.0000,9,-999.0000,9,-999.0000,9,     -999.0,9,     -999.0,9,     -999.0,9,     -999.0,9,     -999.0,9
33RR20160208,       I08S,      30,          1,          6,         38,2,20160226,       0325,   -55.6232,    84.7474,       4825,  3395.6,   0.1655,  34.6736,2,  34.6729,2,    224.7,2,   224.3,2,   126.6,2,    0.00,2,   32.23,2,    0.00,2,    2.25,2,   0.799,2,   0.402,2,   0.050,2,   0.213571664,2,  2258.3,2, 2352.58,6,   7.5927,6,    24.99,   0.1654,    0.52,2,  -155.4,2,     1.7, -999.00,9,-999.000,9,    38.2,2, -999.00,9,     -999.0,1, -999.00,9, 20160226,      400, -55.6232,  84.7475,     -999.0,9,     -999.0,9,     -999.0,9,-999.0000,9,-999.0000,9,-999.0000,9,-999.0000,9,-999.0000,9,-999.0000,9,-999.0000,9,     -999.0,9,     -999.0,9,     -999.0,9,     -999.0,9,     -999.0,9
33RR20160208,       I08S,      30,          1,          7,          7,2,20160226,       0325,   -55.6232,    84.7474,       4825,  3094.2,   0.2700,  34.6789,2,  34.6784,2,    220.8,2,   221.2,2,   126.1,2,    0.00,2,   32.24,2,    0.00,2,    2.25,2,   0.616,2,   0.313,2,   0.033,2,   0.173275124,2,  2260.4,2, 2354.49,2,   7.5929,2,    24.99,   0.2693,    0.52,2,  -155.6,2,     2.4, -999.00,9,-999.000,9,    38.8,2, -999.00,9,     -999.0,1, -999.00,9, 20160226,      406, -55.6232,  84.7472,     -999.0,9,     -999.0,9,     -999.0,9,-999.0000,9,-999.0000,9,-999.0000,9,-999.0000,9,-999.0000,9,-999.0000,9,-999.0000,9,     -999.0,9,     -999.0,9,     -999.0,9,     -999.0,9,     -999.0,9
33RR20160208,       I08S,      30,          1,          8,          8,2,20160226,       0325,   -55.6232,    84.7474,       4825,  2835.3,   0.3901,  34.6849,2,  34.6853,2,    216.8,2,   217.1,2,   124.7,2,    0.00,2,   32.29,2,    0.00,2,    2.26,2,   0.474,2,   0.238,2,   0.021,2,   0.049363262,2,  2260.4,2, 2356.92,2,   7.5929,6,    24.98,   0.3898,    0.51,2,  -155.0,2,     1.7, -999.00,9,-999.000,9,    39.3,2, -999.00,9,     -999.0,1, -999.00,9, 20160226,      412, -55.6232,  84.7473,     -999.0,9,     -999.0,9,     -999.0,9,-999.0000,9,-999.0000,9,-999.0000,9,-999.0000,9,-999.0000,9,-999.0000,9,-999.0000,9,     -999.0,9,     -999.0,9,     -999.0,9,     -999.0,9,     -999.0,9
33RR20160208,       I08S,      30,          1,          9,          9,2,20160226,       0325,   -55.6232,    84.7474,       4825,  2567.4,   0.5035,  34.6907,2,  34.6897,2,    212.8,2,   213.4,2,   122.7,2,    0.00,2,   32.34,2,    0.00,2,    2.24,2,-999.000,9,-999.000,9,-999.000,9,-999.000000000,9,  2261.1,2, 2356.11,2,   7.5929,6,    24.99,   0.5035,    0.51,2,  -157.8,2,     1.6, -999.00,9,-999.000,9,    38.6,2, -999.00,9,     -999.0,1, -999.00,9, 20160226,      418, -55.6232,  84.7474,     -999.0,9,     -999.0,9,     -999.0,9,-999.0000,9,-999.0000,9,-999.0000,9,-999.0000,9,-999.0000,9,-999.0000,9,-999.0000,9,     -999.0,9,     -999.0,9,     -999.0,9,     -999.0,9,     -999.0,9
33RR20160208,       I08S,      30,          1,         10,         10,2,20160226,       0325,   -55.6232,    84.7474,       4825,  2346.8,   0.6171,  34.6967,2,  34.6953,2,    210.8,2,   211.2,2,   120.0,2,    0.00,2,   32.11,2,    0.00,2,    2.23,2,   0.321,2,   0.167,2,   0.009,2,    0.05742257,2,  2261.8,2, 2357.02,2,   7.5943,2,    24.98,   0.6172,    0.57,2,  -156.8,2,     1.7, -999.00,9,-999.000,9,    38.1,2, -999.00,9,     -999.0,1, -999.00,9, 20160226,      424, -55.6232,  84.7474,     -999.0,9,     -999.0,9,     -999.0,9,-999.0000,9,-999.0000,9,-999.0000,9,-999.0000,9,-999.0000,9,-999.0000,9,-999.0000,9,     -999.0,9,     -999.0,9,     -999.0,9,     -999.0,9,     -999.0,9
33RR20160208,       I08S,      30,          1,         11,         11,2,20160226,       0325,   -55.6232,    84.7474,       4825,  2087.5,   0.7769,  34.7047,2,  34.7034,2,    208.1,2,   209.1,2,   114.0,2,    0.00,2,   31.84,2,    0.00,2,    2.21,2,-999.000,9,-999.000,9,-999.000,9,-999.000000000,9,  2261.0,2, 2357.23,2,   7.5968,2,    25.00,   0.7769,    0.56,2,  -155.9,2,     1.9, -999.00,9,-999.000,9,    38.0,2, -999.00,9,     -999.0,1, -999.00,9, 20160226,      429, -55.6232,  84.7473,     -999.0,9,     -999.0,9,     -999.0,9,-999.0000,9,-999.0000,9,-999.0000,9,-999.0000,9,-999.0000,9,-999.0000,9,-999.0000,9,     -999.0,9,     -999.0,9,     -999.0,9,     -999.0,9,     -999.0,9
33RR20160208,       I08S,      30,          1,         12,         12,2,20160226,       0325,   -55.6232,    84.7474,       4825,  1864.0,   0.9858,  34.7163,2,  34.7150,2,    206.0,2,   206.5,2,   107.9,2,    0.00,2,   31.39,2,    0.00,2,    2.18,2,   0.298,2,   0.156,2,   0.010,2,   0.056415157,2,  2256.5,2, 2356.27,2,   7.6009,2,    24.97,   0.9851,    0.59,2,  -154.2,2,     1.8, -999.00,9,-999.000,9,    38.1,2, -999.00,9,     -999.0,1, -999.00,9, 20160226,      434, -55.6232,  84.7473,     -999.0,9,     -999.0,9,     -999.0,9,-999.0000,9,-999.0000,9,-999.0000,9,-999.0000,9,-999.0000,9,-999.0000,9,-999.0000,9,     -999.0,9,     -999.0,9,     -999.0,9,     -999.0,9,     -999.0,9
33RR20160208,       I08S,      30,          1,         13,         13,2,20160226,       0325,   -55.6232,    84.7474,       4825,  1656.4,   1.1676,  34.7258,2,  34.7256,2,    203.9,2,   205.6,2,   102.9,2,    0.00,2,   31.10,2,    0.00,2,    2.15,2,-999.000,9,-999.000,9,-999.000,9,-999.000000000,9,  2255.5,2, 2354.60,2,   7.6042,2,    25.01,   1.1674,    0.56,2,  -151.1,2,     1.8, -999.00,9,-999.000,9,    38.8,2, -999.00,9,     -999.0,1, -999.00,9, 20160226,      439, -55.6232,  84.7473,     -999.0,9,     -999.0,9,     -999.0,9,-999.0000,9,-999.0000,9,-999.0000,9,-999.0000,9,-999.0000,9,-999.0000,9,-999.0000,9,     -999.0,9,     -999.0,9,     -999.0,9,     -999.0,9,     -999.0,9
33RR20160208,       I08S,      30,          1,         14,         14,2,20160226,       0325,   -55.6232,    84.7474,       4825,  1535.3,   1.2471,  34.7298,2,  34.7291,2,    203.4,2,   204.3,2,   100.9,2,    0.00,2,   30.87,2,    0.00,2,    2.15,2,   0.264,2,   0.143,2,   0.009,2,   0.047348435,2,  2253.2,2, 2354.47,2,   7.6062,2,    25.00,   1.2469,    0.56,2,  -153.9,2,     1.6, -999.00,9,-999.000,9,    38.7,2, -999.00,9,     -999.0,1, -999.00,9, 20160226,      443, -55.6232,  84.7473,     -999.0,9,     -999.0,9,     -999.0,9,-999.0000,9,-999.0000,9,-999.0000,9,-999.0000,9,-999.0000,9,-999.0000,9,-999.0000,9,     -999.0,9,     -999.0,9,     -999.0,9,     -999.0,9,     -999.0,9
33RR20160208,       I08S,      30,          1,         15,         15,2,20160226,       0325,   -55.6232,    84.7474,       4825,  1432.6,   1.3295,  34.7329,2,  34.7319,2,    202.5,2,   203.3,2,    98.2,2,    0.00,2,   30.82,2,    0.00,2,    2.12,2,-999.000,9,-999.000,9,-999.000,9,-999.000000000,9,  2253.0,2, 2353.69,2,   7.6057,2,    24.99,   1.3293,    0.56,2,  -155.2,2,     1.6, -999.00,9,-999.000,9,    38.9,2, -999.00,9,     -999.0,1, -999.00,9, 20160226,      445, -55.6232,  84.7473,     -999.0,9,     -999.0,9,     -999.0,9,-999.0000,9,-999.0000,9,-999.0000,9,-999.0000,9,-999.0000,9,-999.0000,9,-999.0000,9,     -999.0,9,     -999.0,9,     -999.0,9,     -999.0,9,     -999.0,9
33RR20160208,       I08S,      30,          1,         16,         16,2,20160226,       0325,   -55.6232,    84.7474,       4825,  1335.3,   1.4136,  34.7374,2,  34.7370,2,    201.8,2,   202.7,2,    96.2,2,    0.00,2,   30.65,2,    0.00,2,    2.11,2,   0.252,2,   0.133,2,   0.010,2,   0.071526359,2,  2252.3,2, 2353.17,2,   7.6080,2,    24.99,   1.4134,    0.55,2,  -146.8,2,     2.6, -999.00,9,-999.000,9,    38.6,2, -999.00,9,     -999.0,1, -999.00,9, 20160226,      448, -55.6232,  84.7473,     -999.0,9,     -999.0,9,     -999.0,9,-999.0000,9,-999.0000,9,-999.0000,9,-999.0000,9,-999.0000,9,-999.0000,9,-999.0000,9,     -999.0,9,     -999.0,9,     -999.0,9,     -999.0,9,     -999.0,9
33RR20160208,       I08S,      30,          1,         17,         17,2,20160226,       0325,   -55.6232,    84.7474,       4825,  1234.0,   1.5123,  34.7390,2,  34.7368,2,    200.3,2,   201.3,2,    93.4,2,    0.00,2,   30.68,2,    0.00,2,    2.11,2,-999.000,9,-999.000,9,-999.000,9,-999.000000000,9,  2252.4,2, 2350.45,2,   7.6066,2,    24.96,   1.5121,    0.51,2,  -150.6,2,     1.9, -999.00,9,-999.000,9,    38.2,2, -999.00,9,     -999.0,1, -999.00,9, 20160226,      451, -55.6232,  84.7473,     -999.0,9,     -999.0,9,     -999.0,9,-999.0000,9,-999.0000,9,-999.0000,9,-999.0000,9,-999.0000,9,-999.0000,9,-999.0000,9,     -999.0,9,     -999.0,9,     -999.0,9,     -999.0,9,     -999.0,9
33RR20160208,       I08S,      30,          1,         18,         37,2,20160226,       0325,   -55.6232,    84.7474,       4825,  1133.7,   1.6056,  34.7404,2,  34.7388,2,    197.7,2,   199.9,2,    90.7,2,    0.00,2,   30.66,2,    0.00,2,    2.12,2,   0.264,2,   0.141,2,   0.011,2,   0.102756178,2,  2251.7,6, 2351.23,2,   7.6058,2,    24.99,   1.6055,    0.50,2,  -148.3,2,     1.9, -999.00,9,-999.000,9,    38.5,2, -999.00,9,     -999.0,1, -999.00,9, 20160226,      454, -55.6232,  84.7473,     -999.0,9,     -999.0,9,     -999.0,9,-999.0000,9,-999.0000,9,-999.0000,9,-999.0000,9,-999.0000,9,-999.0000,9,-999.0000,9,     -999.0,9,     -999.0,9,     -999.0,9,     -999.0,9,     -999.0,9
33RR20160208,       I08S,      30,          1,         19,         19,2,20160226,       0325,   -55.6232,    84.7474,       4825,  1035.1,   1.7087,  34.7400,2,  34.7380,2,    192.5,2,   195.9,2,    87.9,2,    0.00,2,   30.53,2,    0.00,2,    2.12,2,-999.000,9,-999.000,9,-999.000,9,-999.000000000,9,  2250.2,2, 2349.65,2,   7.6004,2,    24.98,   1.7086,    0.52,2,  -149.9,2,     2.1, -999.00,9,-999.000,9,    39.1,2, -999.00,9,     -999.0,1, -999.00,9, 20160226,      457, -55.6232,  84.7474,     -999.0,9,     -999.0,9,     -999.0,9,-999.0000,9,-999.0000,9,-999.0000,9,-999.0000,9,-999.0000,9,-999.0000,9,-999.0000,9,     -999.0,9,     -999.0,9,     -999.0,9,     -999.0,9,     -999.0,9
33RR20160208,       I08S,      30,          1,         20,         20,2,20160226,       0325,   -55.6232,    84.7474,       4825,   931.6,   1.7763,  34.7335,2,  34.7310,2,    187.3,2,   191.7,3,    87.4,2,    0.00,2,   30.93,2,    0.00,2,    2.14,2,   0.309,2,   0.164,2,   0.016,2,   0.125926689,2,  2250.4,2, 2347.93,2,   7.5911,3,    25.01,   1.7796,    0.44,2,  -152.8,2,     1.8, -999.00,9,-999.000,9,    39.0,2, -999.00,9,     -999.0,1, -999.00,9, 20160226,      459, -55.6232,  84.7474,     -999.0,9,     -999.0,9,     -999.0,9,-999.0000,9,-999.0000,9,-999.0000,9,-999.0000,9,-999.0000,9,-999.0000,9,-999.0000,9,     -999.0,9,     -999.0,9,     -999.0,9,     -999.0,9,     -999.0,9
33RR20160208,       I08S,      30,          1,         21,         21,2,20160226,       0325,   -55.6232,    84.7474,       4825,   841.8,   1.9567,  34.7371,2,  34.7347,2,    190.4,2,   193.0,2,    82.4,2,    0.00,2,   30.46,2,    0.00,2,    2.11,2,-999.000,9,-999.000,9,-999.000,9,-999.000000000,9,  2247.8,2, 2348.20,2,   7.6001,2,    24.98,   1.9556,    0.52,2,  -152.6,2,     1.8, -999.00,9,-999.000,9,    38.3,2, -999.00,9,     -999.0,1, -999.00,9, 20160226,      502, -55.6232,  84.7474,     -999.0,9,     -999.0,9,     -999.0,9,-999.0000,9,-999.0000,9,-999.0000,9,-999.0000,9,-999.0000,9,-999.0000,9,-999.0000,9,     -999.0,9,     -999.0,9,     -999.0,9,     -999.0,9,     -999.0,9
33RR20160208,       I08S,      30,          1,         22,         22,2,20160226,       0325,   -55.6232,    84.7474,       4825,   735.4,   2.0725,  34.7303,2,  34.7287,2,    188.0,2,   190.4,2,    79.7,2,    0.00,2,   30.58,2,    0.00,2,    2.10,2,   0.246,2,   0.132,2,   0.010,2,   0.019140857,2,  2245.0,2, 2345.97,2,   7.5983,2,    25.01,   2.0743,    0.53,2,  -147.5,2,     1.8, -999.00,9,-999.000,9,    38.0,2, -999.00,9,     -999.0,1, -999.00,9, 20160226,      505, -55.6232,  84.7473,     -999.0,9,     -999.0,9,     -999.0,9,-999.0000,9,-999.0000,9,-999.0000,9,-999.0000,9,-999.0000,9,-999.0000,9,-999.0000,9,     -999.0,9,     -999.0,9,     -999.0,9,     -999.0,9,     -999.0,9
33RR20160208,       I08S,      30,          1,         23,         23,2,20160226,       0325,   -55.6232,    84.7474,       4825,   636.4,   2.1569,  34.7165,2,  34.7145,2,    185.8,2,   187.3,2,    78.2,2,    0.00,2,   30.96,2,    0.00,2,    2.15,2,-999.000,9,-999.000,9,-999.000,9,-999.000000000,9,  2247.8,2, 2344.37,2,   7.5915,2,    24.98,   2.1565,    0.49,2,  -146.1,2,     2.3, -999.00,9,-999.000,9,    39.2,2, -999.00,9,     -999.0,1, -999.00,9, 20160226,      509, -55.6232,  84.7473,     -999.0,9,     -999.0,9,     -999.0,9,-999.0000,9,-999.0000,9,-999.0000,9,-999.0000,9,-999.0000,9,-999.0000,9,-999.0000,9,     -999.0,9,     -999.0,9,     -999.0,9,     -999.0,9,     -999.0,9
33RR20160208,       I08S,      30,          1,         24,         24,2,20160226,       0325,   -55.6232,    84.7474,       4825,   535.2,   2.2067,  34.6984,2,  34.6967,2,    182.7,2,   184.5,2,    76.9,2,    0.00,2,   31.47,2,    0.00,2,    2.18,2,   0.314,2,   0.165,2,   0.014,2,   0.075556013,2,  2250.1,2, 2342.71,2,   7.5847,2,    24.98,   2.2066,    0.53,2,  -145.0,2,     1.8, -999.00,9,-999.000,9,    38.1,2, -999.00,9,     -999.0,1, -999.00,9, 20160226,      512, -55.6232,  84.7473,     -999.0,9,     -999.0,9,     -999.0,9,-999.0000,9,-999.0000,9,-999.0000,9,-999.0000,9,-999.0000,9,-999.0000,9,-999.0000,9,     -999.0,9,     -999.0,9,     -999.0,9,     -999.0,9,     -999.0,9
33RR20160208,       I08S,      30,          1,         25,         25,3,20160226,       0325,   -55.6232,    84.7474,       4825,   466.0,   2.1518,  34.6724,3,  34.6700,3,    180.3,3,   182.6,3,    76.5,3,    0.00,3,   32.15,3,    0.00,3,    2.23,3,   0.451,2,   0.236,2,   0.027,2,   0.127941516,2,  2252.5,3, 2341.36,3,   7.5735,3,    24.97,   2.1514, -999.00,9,  -999.0,9,  -999.0, -999.00,9,-999.000,9,    38.9,2, -999.00,9,     -999.0,1, -999.00,9, 20160226,      515, -55.6232,  84.7473,     -999.0,9,     -999.0,9,     -999.0,9,-999.0000,9,-999.0000,9,-999.0000,9,-999.0000,9,-999.0000,9,-999.0000,9,-999.0000,9,     -999.0,9,     -999.0,9,     -999.0,9,     -999.0,9,     -999.0,9
33RR20160208,       I08S,      30,          1,         26,         26,2,20160226,       0325,   -55.6232,    84.7474,       4825,   414.7,   2.2097,  34.6562,2,  34.6541,2,    180.1,2,   182.2,2,    75.4,2,    0.00,2,   32.34,2,    0.00,2,    2.24,2,   0.494,2,   0.260,2,   0.030,2,   0.183349259,2,  2253.1,2, 2340.09,2,   7.5707,2,    24.94,   2.2095,    0.47,2,  -141.6,2,     1.7, -999.00,9,-999.000,9,    39.7,2, -999.00,9,     -999.0,1, -999.00,9, 20160226,      517, -55.6232,  84.7473,     -999.0,9,     -999.0,9,     -999.0,9,-999.0000,9,-999.0000,9,-999.0000,9,-999.0000,9,-999.0000,9,-999.0000,9,-999.0000,9,     -999.0,9,     -999.0,9,     -999.0,9,     -999.0,9,     -999.0,9
33RR20160208,       I08S,      30,          1,         27,         27,2,20160226,       0325,   -55.6232,    84.7474,       4825,   366.7,   2.2199,  34.6237,2,  34.6222,2,    177.8,2,   181.4,2,    73.8,2,    0.00,2,   32.86,2,    0.00,2,    2.28,2,   0.618,2,   0.320,2,   0.041,2,   0.234727348,2,  2251.5,2, 2337.79,2,   7.5626,2,    24.99,   2.2197,    0.45,2,  -145.5,2,     1.9, -999.00,9,-999.000,9,    39.1,2, -999.00,9,     -999.0,1, -999.00,9, 20160226,      519, -55.6233,  84.7473,     -999.0,9,     -999.0,9,     -999.0,9,-999.0000,9,-999.0000,9,-999.0000,9,-999.0000,9,-999.0000,9,-999.0000,9,-999.0000,9,     -999.0,9,     -999.0,9,     -999.0,9,     -999.0,9,     -999.0,9