BOTTLE,20220706CCHSIOAMB
EXPOCODE,SECT_ID,STNNBR,CASTNO,SAMPNO,BTLNBR,BTLNBR_FLAG_W,DATE,TIME,LATITUDE,LONGITUDE,DEPTH,CTDPRS,CTDTMP,CTDSAL,CTDSAL_FLAG_W,SALNTY,SALNTY_FLAG_W,CTDOXY,CTDOXY_FLAG_W,OXYGEN,OXYGEN_FLAG_W,SILCAT,SILCAT_FLAG_W,NH4,NH4_FLAG_W,NITRAT,NITRAT_FLAG_W,NITRIT,NITRIT_FLAG_W,PHSPHT,PHSPHT_FLAG_W,CFC-11,CFC-11_FLAG_W,CFC-12,CFC-12_FLAG_W,CFC113,CFC113_FLAG_W,SF6,SF6_FLAG_W,TCARBN,TCARBN_FLAG_W,ALKALI,ALKALI_FLAG_W,PH_TOT,PH_TOT_FLAG_W,PH_TMP,REFTMP,DELC13,DELC13_FLAG_W,DELC14,DELC14_FLAG_W,C14ERR,DELO18,DELO18_FLAG_W,POC,POC_FLAG_W,DOC,DOC_FLAG_W,TDN,TDN_FLAG_W,TON,TON_FLAG_W,D15N_NO3,D15N_NO3_FLAG_W,BTL_DATE,BTL_TIME,BTL_LAT,BTL_LON,14C-DOC,14C-DOC_FLAG_W,CHLORA,CHLORA_FLAG_W,HPLC,HPLC_FLAG_W,CDOM325,CDOM325_FLAG_W,CDOM340,CDOM340_FLAG_W,CDOM380,CDOM380_FLAG_W,CDOM412,CDOM412_FLAG_W,CDOM443,CDOM443_FLAG_W,CDOM490,CDOM490_FLAG_W,CDOM555,CDOM555_FLAG_W,CDOMSL,CDOMSL_FLAG_W,CDOMSN,CDOMSN_FLAG_W,D18O_NO3,D18O_NO3_FLAG_W,D15N_NO2+NO3,D15N_NO2+NO3_FLAG_W,D18O_NO2+NO3,D18O_NO2+NO3_FLAG_W
,,,,,,,,,,,METERS,DBAR,ITS-90,PSS-78,,PSS-78,,UMOL/KG,,UMOL/KG,,UMOL/KG,,UMOL/KG,,UMOL/KG,,UMOL/KG,,UMOL/KG,,PMOL/KG,,PMOL/KG,,PMOL/KG,,FMOL/KG,,UMOL/KG,,UMOL/KG,,,,DEG C,DEG C,/MILLE,,/MILLE,,/MILLE,/MILLE,,UG/KG,,UMOL/KG,,UMOL/KG,,UMOL/KG,,/MILLE,,,,,,/MILLE,,MG/M3,,,,1/M,,1/M,,1/M,,1/M,,1/M,,1/M,,1/M,,1/NM,,1/NM,,/MILLE,,/MILLE,,/MILLE,
33RR20160208,       I08S,      13,          1,          1,          1,2,20160222,       0115,   -62.5003,    82.0002,       1919,  1932.8,   0.5654,  34.6969,2,  34.6966,2,    207.6,2,   207.9,2,   129.2,2,    0.01,2,   32.45,2,    0.03,2,    2.25,2,   0.275,2,   0.139,2,   0.005,2,         0.222,2,  2261.7,6, 2358.67,2,   7.5914,2,    25.00,   0.5650,    0.52,2,  -156.8,2,     3.2, -999.00,1,-999.000,9,  -999.0,9, -999.00,9,     -999.0,9, -999.00,9, 20160222,      115, -62.5003,  82.0002,     -999.0,9,     -999.0,9,     -999.0,9,-999.0000,9,-999.0000,9,-999.0000,9,-999.0000,9,-999.0000,9,-999.0000,9,-999.0000,9,     -999.0,9,     -999.0,9,     -999.0,9,     -999.0,9,     -999.0,9
33RR20160208,       I08S,      13,          1,          2,          2,2,20160222,       0115,   -62.5003,    82.0002,       1919,  1732.4,   0.8117,  34.7100,2,  34.7092,2,    206.3,2,   206.5,2,   115.0,2,    0.00,2,   31.81,2,    0.00,2,    2.21,2,   0.256,2,   0.134,2,   0.004,2,         0.318,2,  2257.7,2, 2358.71,6,   7.5988,2,    25.00,   0.8117,    0.55,2,  -158.3,2,     1.9, -999.00,1,-999.000,9,  -999.0,9, -999.00,9,     -999.0,9, -999.00,9, 20160222,      120, -62.5003,  82.0002,     -999.0,9,     -999.0,9,     -999.0,9,-999.0000,9,-999.0000,9,-999.0000,9,-999.0000,9,-999.0000,9,-999.0000,9,-999.0000,9,     -999.0,9,     -999.0,9,     -999.0,9,     -999.0,9,     -999.0,9
33RR20160208,       I08S,      13,          1,          3,          3,2,20160222,       0115,   -62.5003,    82.0002,       1919,  1531.2,   0.9907,  34.7201,2,  34.7198,2,    204.7,2,   205.5,2,   108.5,2,    0.00,2,   31.45,2,    0.00,2,    2.19,2,   0.248,2,   0.134,2,   0.004,2,         0.283,2,  2255.2,2, 2355.82,2,   7.6027,2,    24.98,   0.9901,    0.59,2,  -159.2,2,     1.9, -999.00,1,-999.000,9,  -999.0,9, -999.00,9,     -999.0,9, -999.00,9, 20160222,      125, -62.5003,  82.0003,     -999.0,9,     -999.0,9,     -999.0,9,-999.0000,9,-999.0000,9,-999.0000,9,-999.0000,9,-999.0000,9,-999.0000,9,-999.0000,9,     -999.0,9,     -999.0,9,     -999.0,9,     -999.0,9,     -999.0,9
33RR20160208,       I08S,      13,          1,          4,          4,2,20160222,       0115,   -62.5003,    82.0002,       1919,  1362.7,   1.1320,  34.7277,2,  34.7274,2,    203.6,2,   204.1,2,   104.0,2,    0.00,2,   31.24,2,    0.00,2,    2.17,2,   0.244,2,   0.130,2,   0.004,2,          0.19,2,  2251.4,2, 2355.12,2,   7.6057,6,    24.98,   1.1318,    0.60,2,  -159.7,2,     1.8, -999.00,1,-999.000,9,  -999.0,9, -999.00,9,     -999.0,9, -999.00,9, 20160222,      129, -62.5003,  82.0002,     -999.0,9,     -999.0,9,     -999.0,9,-999.0000,9,-999.0000,9,-999.0000,9,-999.0000,9,-999.0000,9,-999.0000,9,-999.0000,9,     -999.0,9,     -999.0,9,     -999.0,9,     -999.0,9,     -999.0,9
33RR20160208,       I08S,      13,          1,          5,          5,2,20160222,       0115,   -62.5003,    82.0002,       1919,  1264.7,   1.2080,  34.7319,2,  34.7317,2,    203.2,2,   203.0,2,   101.7,2,    0.00,2,   31.07,2,    0.00,2,    2.15,2,   0.255,2,   0.131,2,   0.004,2,         0.185,2,  2252.0,2, 2355.32,2,   7.6070,2,    24.98,   1.2083,    0.56,2,  -157.6,2,     1.9, -999.00,1,-999.000,9,  -999.0,9, -999.00,9,     -999.0,9, -999.00,9, 20160222,      132, -62.5003,  82.0002,     -999.0,9,     -999.0,9,     -999.0,9,-999.0000,9,-999.0000,9,-999.0000,9,-999.0000,9,-999.0000,9,-999.0000,9,-999.0000,9,     -999.0,9,     -999.0,9,     -999.0,9,     -999.0,9,     -999.0,9
33RR20160208,       I08S,      13,          1,          6,          6,2,20160222,       0115,   -62.5003,    82.0002,       1919,  1164.5,   1.2907,  34.7358,2,  34.7356,2,    202.4,2,   202.8,2,    98.8,2,    0.00,2,   30.81,2,    0.00,2,    2.14,2,-999.000,9,-999.000,9,-999.000,9,-999.000000000,9,  -999.0,9, -999.00,9,-999.0000,9,  -999.00,   1.2899, -999.00,9,  -999.0,9,  -999.0, -999.00,9,-999.000,9,  -999.0,9, -999.00,9,     -999.0,9, -999.00,9, 20160222,      134, -62.5003,  82.0002,     -999.0,9,     -999.0,9,     -999.0,9,-999.0000,9,-999.0000,9,-999.0000,9,-999.0000,9,-999.0000,9,-999.0000,9,-999.0000,9,     -999.0,9,     -999.0,9,     -999.0,9,     -999.0,9,     -999.0,9
33RR20160208,       I08S,      13,          1,          7,          7,2,20160222,       0115,   -62.5003,    82.0002,       1919,  1062.6,   1.3884,  34.7397,2,  34.7396,2,    201.6,2,   201.4,2,    95.8,2,    0.00,2,   30.73,2,    0.00,2,    2.11,2,   0.252,2,   0.138,2,   0.007,2,         0.232,2,  2250.4,2, 2352.92,2,   7.6089,2,    24.98,   1.3884,    0.64,2,  -150.2,6,     1.5, -999.00,1,-999.000,9,  -999.0,9, -999.00,9,     -999.0,9, -999.00,9, 20160222,      137, -62.5003,  82.0002,     -999.0,9,     -999.0,9,     -999.0,9,-999.0000,9,-999.0000,9,-999.0000,9,-999.0000,9,-999.0000,9,-999.0000,9,-999.0000,9,     -999.0,9,     -999.0,9,     -999.0,9,     -999.0,9,     -999.0,9
33RR20160208,       I08S,      13,          1,          8,          8,2,20160222,       0115,   -62.5003,    82.0002,       1919,   962.6,   1.4787,  34.7428,2,  34.7427,2,    200.8,2,   200.6,2,    93.4,2,    0.00,2,   30.57,2,    0.00,2,    2.10,2,   0.247,2,   0.137,2,   0.006,2,         0.248,2,  2248.2,2, 2352.36,2,   7.6088,2,    24.98,   1.4787,    0.68,2,  -148.5,6,     1.2, -999.00,1,-999.000,9,  -999.0,9, -999.00,9,     -999.0,9, -999.00,9, 20160222,      140, -62.5003,  82.0002,     -999.0,9,     -999.0,9,     -999.0,9,-999.0000,9,-999.0000,9,-999.0000,9,-999.0000,9,-999.0000,9,-999.0000,9,-999.0000,9,     -999.0,9,     -999.0,9,     -999.0,9,     -999.0,9,     -999.0,9
33RR20160208,       I08S,      13,          1,          9,          9,2,20160222,       0115,   -62.5003,    82.0002,       1919,   864.3,   1.5582,  34.7441,2,  34.7449,2,    198.9,2,   198.4,2,    91.4,2,    0.00,2,   30.55,2,    0.00,2,    2.10,2,   0.250,2,   0.140,2,   0.007,2,         0.213,2,  2249.1,2, 2349.96,2,   7.6067,2,    24.99,   1.5563,    0.62,2,  -151.8,6,     2.7, -999.00,1,-999.000,9,  -999.0,9, -999.00,9,     -999.0,9, -999.00,9, 20160222,      143, -62.5003,  82.0002,     -999.0,9,     -999.0,9,     -999.0,9,-999.0000,9,-999.0000,9,-999.0000,9,-999.0000,9,-999.0000,9,-999.0000,9,-999.0000,9,     -999.0,9,     -999.0,9,     -999.0,9,     -999.0,9,     -999.0,9
33RR20160208,       I08S,      13,          1,         10,         10,2,20160222,       0115,   -62.5003,    82.0002,       1919,   765.1,   1.6500,  34.7438,2,  34.7411,2,    196.1,2,   196.4,2,    89.4,2,    0.00,2,   30.67,2,    0.00,2,    2.11,2,   0.258,2,   0.144,2,   0.009,2,         0.269,2,  2248.0,2, 2350.30,2,   7.6033,6,    24.99,   1.6502,    0.60,2,  -152.7,6,     1.3, -999.00,1,-999.000,9,  -999.0,9, -999.00,9,     -999.0,9, -999.00,9, 20160222,      146, -62.5003,  82.0002,     -999.0,9,     -999.0,9,     -999.0,9,-999.0000,9,-999.0000,9,-999.0000,9,-999.0000,9,-999.0000,9,-999.0000,9,-999.0000,9,     -999.0,9,     -999.0,9,     -999.0,9,     -999.0,9,     -999.0,9
33RR20160208,       I08S,      13,          1,         11,         11,2,20160222,       0115,   -62.5003,    82.0002,       1919,   665.9,   1.7332,  34.7399,2,  34.7398,2,    192.4,2,   192.5,2,    88.0,2,    0.00,2,   30.96,2,    0.00,2,    2.13,2,   0.279,2,   0.156,2,   0.012,2,          0.27,2,  -999.0,5, 2349.06,2,   7.5960,6,    25.00,   1.7333,    0.56,2,  -151.5,6,     1.2, -999.00,1,-999.000,9,  -999.0,9, -999.00,9,     -999.0,9, -999.00,9, 20160222,      148, -62.5002,  82.0002,     -999.0,9,     -999.0,9,     -999.0,9,-999.0000,9,-999.0000,9,-999.0000,9,-999.0000,9,-999.0000,9,-999.0000,9,-999.0000,9,     -999.0,9,     -999.0,9,     -999.0,9,     -999.0,9,     -999.0,9
33RR20160208,       I08S,      13,          1,         12,         12,2,20160222,       0115,   -62.5003,    82.0002,       1919,   564.1,   1.7951,  34.7342,2,  34.7345,2,    189.4,2,   189.1,2,    87.0,2,    0.00,2,   31.23,2,    0.00,2,    2.12,2,   0.304,2,   0.169,2,   0.012,2,         0.268,2,  2251.2,2, 2350.05,2,   7.5892,2,    25.00,   1.7951,    0.53,2,  -153.3,2,     1.7, -999.00,1,-999.000,9,  -999.0,9, -999.00,9,     -999.0,9, -999.00,9, 20160222,      151, -62.5003,  82.0003,     -999.0,9,     -999.0,9,     -999.0,9,-999.0000,9,-999.0000,9,-999.0000,9,-999.0000,9,-999.0000,9,-999.0000,9,-999.0000,9,     -999.0,9,     -999.0,9,     -999.0,9,     -999.0,9,     -999.0,9
33RR20160208,       I08S,      13,          1,         13,         13,2,20160222,       0115,   -62.5003,    82.0002,       1919,   465.8,   1.8590,  34.7225,2,  34.7221,2,    184.6,2,   184.4,2,    86.0,2,    0.00,2,   31.80,2,    0.00,2,    2.18,2,   0.351,2,   0.190,2,   0.019,2,         0.225,2,  2253.3,2, 2347.95,2,   7.5790,2,    24.98,   1.8592, -999.00,9,  -999.0,9,  -999.0, -999.00,1,-999.000,9,  -999.0,9, -999.00,9,     -999.0,9, -999.00,9, 20160222,      154, -62.5002,  82.0002,     -999.0,9,     -999.0,9,     -999.0,9,-999.0000,9,-999.0000,9,-999.0000,9,-999.0000,9,-999.0000,9,-999.0000,9,-999.0000,9,     -999.0,9,     -999.0,9,     -999.0,9,     -999.0,9,     -999.0,9
33RR20160208,       I08S,      13,          1,         14,         14,2,20160222,       0115,   -62.5003,    82.0002,       1919,   364.9,   1.9075,  34.7074,2,  34.7032,2,    179.1,2,   178.7,2,    86.3,2,    0.00,2,   32.60,2,    0.00,2,    2.23,2,   0.408,2,   0.224,2,   0.024,2,         0.282,2,  2257.2,2, 2345.69,2,   7.5657,2,    24.98,   1.9082,    0.40,2,  -152.4,6,     1.4, -999.00,1,-999.000,9,  -999.0,9, -999.00,9,     -999.0,9, -999.00,9, 20160222,      157, -62.5003,  82.0002,     -999.0,9,     -999.0,9,     -999.0,9,-999.0000,9,-999.0000,9,-999.0000,9,-999.0000,9,-999.0000,9,-999.0000,9,-999.0000,9,     -999.0,9,     -999.0,9,     -999.0,9,     -999.0,9,     -999.0,9
33RR20160208,       I08S,      13,          1,         15,         15,2,20160222,       0115,   -62.5003,    82.0002,       1919,   323.9,   1.9243,  34.6968,2,  34.6966,2,    177.3,2,   175.4,2,    85.8,2,    0.00,2,   32.96,2,    0.01,2,    2.27,2,-999.000,9,-999.000,9,-999.000,9,-999.000000000,9,  2258.4,6, 2344.87,2,   7.5584,2,    24.98,   1.9243,    0.48,2,  -149.2,6,     1.3, -999.00,1,-999.000,9,  -999.0,9, -999.00,9,     -999.0,9, -999.00,9, 20160222,      159, -62.5003,  82.0003,     -999.0,9,     -999.0,9,     -999.0,9,-999.0000,9,-999.0000,9,-999.0000,9,-999.0000,9,-999.0000,9,-999.0000,9,-999.0000,9,     -999.0,9,     -999.0,9,     -999.0,9,     -999.0,9,     -999.0,9
33RR20160208,       I08S,      13,          1,         16,         16,2,20160222,       0115,   -62.5003,    82.0002,       1919,   286.7,   1.9270,  34.6865,2,  34.6866,2,    176.6,2,   175.2,2,    85.5,2,    0.00,2,   33.19,2,    0.02,2,    2.29,2,   0.475,2,   0.260,2,   0.029,2,         0.409,2,  2259.9,2, 2346.34,2,   7.5542,2,    24.99,   1.9276, -999.00,9,  -999.0,9,  -999.0, -999.00,1,-999.000,9,  -999.0,9, -999.00,9,     -999.0,9, -999.00,9, 20160222,      201, -62.5002,  82.0004,     -999.0,9,     -999.0,9,     -999.0,9,-999.0000,9,-999.0000,9,-999.0000,9,-999.0000,9,-999.0000,9,-999.0000,9,-999.0000,9,     -999.0,9,     -999.0,9,     -999.0,9,     -999.0,9,     -999.0,9
33RR20160208,       I08S,      13,          1,         17,         17,2,20160222,       0115,   -62.5003,    82.0002,       1919,   236.2,   1.9039,  34.6664,2,  34.6654,2,    172.3,2,   171.6,2,    85.1,2,    0.00,2,   33.76,2,    0.04,2,    2.32,2,-999.000,9,-999.000,9,-999.000,9,-999.000000000,9,  2262.5,2, 2342.93,2,   7.5436,2,    24.98,   1.9041, -999.00,9,  -999.0,9,  -999.0, -999.00,1,-999.000,9,  -999.0,9, -999.00,9,     -999.0,9, -999.00,9, 20160222,      203, -62.5002,  82.0002,     -999.0,9,     -999.0,9,     -999.0,9,-999.0000,9,-999.0000,9,-999.0000,9,-999.0000,9,-999.0000,9,-999.0000,9,-999.0000,9,     -999.0,9,     -999.0,9,     -999.0,9,     -999.0,9,     -999.0,9
33RR20160208,       I08S,      13,          1,         18,         18,2,20160222,       0115,   -62.5003,    82.0002,       1919,   185.3,   1.8371,  34.6412,2,  34.6408,2,    171.1,2,   171.3,2,    84.2,2,    0.01,2,   34.15,2,    0.05,2,    2.35,2,   0.680,2,   0.363,2,   0.048,2,          0.42,2,  2263.0,2, 2340.08,2,   7.5350,2,    25.00,   1.8390, -999.00,9,  -999.0,9,  -999.0, -999.00,1,-999.000,9,  -999.0,9, -999.00,9,     -999.0,9, -999.00,9, 20160222,      205, -62.5003,  82.0002,     -999.0,9,     -999.0,9,     -999.0,9,-999.0000,9,-999.0000,9,-999.0000,9,-999.0000,9,-999.0000,9,-999.0000,9,-999.0000,9,     -999.0,9,     -999.0,9,     -999.0,9,     -999.0,9,     -999.0,9
33RR20160208,       I08S,      13,          1,         19,         19,2,20160222,       0115,   -62.5003,    82.0002,       1919,   135.0,   1.3646,  34.5574,2,  34.5557,2,    180.9,2,   182.4,2,    80.6,2,    0.01,2,   34.37,2,    0.11,2,    2.37,2,-999.000,9,-999.000,9,-999.000,9,-999.000000000,9,  2257.2,2, 2333.30,2,   7.5277,2,    24.99,   1.3643,    0.39,2,  -143.2,6,     2.1, -999.00,1,-999.000,9,  -999.0,9, -999.00,9,     -999.0,9, -999.00,9, 20160222,      207, -62.5002,  82.0002,     -999.0,9,     -999.0,9,     -999.0,9,-999.0000,9,-999.0000,9,-999.0000,9,-999.0000,9,-999.0000,9,-999.0000,9,-999.0000,9,     -999.0,9,     -999.0,9,     -999.0,9,     -999.0,9,     -999.0,9
33RR20160208,       I08S,      13,          1,         20,         20,2,20160222,       0115,   -62.5003,    82.0002,       1919,    90.4,   0.3620,  34.3844,2,  34.3758,2,    217.6,2,   214.1,2,    73.2,2,    0.36,2,   33.69,2,    0.21,2,    2.37,2,   2.245,2,   1.181,2,   0.205,2,         1.313,2,  2247.8,2, 2320.80,6,   7.5340,6,    25.00,   0.3685, -999.00,9,  -999.0,9,  -999.0, -999.00,1,-999.000,9,  -999.0,9, -999.00,9,     -999.0,9, -999.00,9, 20160222,      209, -62.5003,  82.0002,     -999.0,9,     -999.0,9,     -999.0,9,-999.0000,9,-999.0000,9,-999.0000,9,-999.0000,9,-999.0000,9,-999.0000,9,-999.0000,9,     -999.0,9,     -999.0,9,     -999.0,9,     -999.0,9,     -999.0,9
33RR20160208,       I08S,      13,          1,         21,         21,2,20160222,       0115,   -62.5003,    82.0002,       1919,    65.5,  -0.6337,  34.1944,2,  34.1954,2,    255.5,2,   253.0,2,    65.7,2,    1.18,2,   32.00,2,    0.15,2,    2.33,2,-999.000,9,-999.000,9,-999.000,9,-999.000000000,9,  2227.9,2, 2311.39,2,   7.5561,2,    25.01,-999.0000,    0.63,2,  -128.9,6,     2.6, -999.00,1,-999.000,9,  -999.0,9, -999.00,9,     -999.0,9, -999.00,9, 20160222,      211, -62.5003,  82.0002,     -999.0,9,     -999.0,9,     -999.0,9,-999.0000,9,-999.0000,9,-999.0000,9,-999.0000,9,-999.0000,9,-999.0000,9,-999.0000,9,     -999.0,9,     -999.0,9,     -999.0,9,     -999.0,9,     -999.0,9
33RR20160208,       I08S,      13,          1,         22,         22,2,20160222,       0115,   -62.5003,    82.0002,       1919,    40.3,   1.4050,  33.7622,2,  33.7983,2,    334.0,2,   325.7,2,    27.6,2,    0.88,2,   23.43,2,    0.19,2,    1.57,2,   5.004,2,   2.647,2,   0.468,2,         2.489,2,  2154.4,2, 2292.45,2,   7.7209,3,    24.99,-999.0000, -999.00,9,  -999.0,9,  -999.0, -999.00,1,-999.000,9,  -999.0,9, -999.00,9,     -999.0,9, -999.00,9, 20160222,      213, -62.5003,  82.0002,     -999.0,9,     -999.0,9,     -999.0,9,-999.0000,9,-999.0000,9,-999.0000,9,-999.0000,9,-999.0000,9,-999.0000,9,-999.0000,9,     -999.0,9,     -999.0,9,     -999.0,9,     -999.0,9,     -999.0,9
33RR20160208,       I08S,      13,          1,         23,         23,2,20160222,       0115,   -62.5003,    82.0002,       1919,    20.1,   1.4462,  33.7569,2,  33.7576,2,    334.4,2,   333.8,2,    22.6,2,    0.64,2,   22.43,2,    0.20,2,    1.44,2,-999.000,9,-999.000,9,-999.000,9,-999.000000000,9,  2145.2,2, 2290.44,2,   7.7403,6,    24.99,-999.0000, -999.00,9,  -999.0,9,  -999.0, -999.00,1,-999.000,9,  -999.0,9, -999.00,9,     -999.0,9, -999.00,9, 20160222,      214, -62.5003,  82.0002,     -999.0,9,     -999.0,9,     -999.0,9,-999.0000,9,-999.0000,9,-999.0000,9,-999.0000,9,-999.0000,9,-999.0000,9,-999.0000,9,     -999.0,9,     -999.0,9,     -999.0,9,     -999.0,9,     -999.0,9
33RR20160208,       I08S,      13,          1,         24,         24,2,20160222,       0115,   -62.5003,    82.0002,       1919,     6.2,   1.4510,  33.7567,2,  33.7574,2,    334.3,2,   333.6,2,    22.7,2,    0.64,2,   22.37,2,    0.20,2,    1.46,2,   5.176,2,   2.763,2,   0.489,2,           2.6,2,  2145.1,6, 2291.39,2,   7.7398,6,    24.99,-999.0000, -999.00,9,  -999.0,9,  -999.0, -999.00,1,-999.000,9,  -999.0,9, -999.00,9,     -999.0,9, -999.00,9, 20160222,      216, -62.5003,  82.0004,     -999.0,9,     -999.0,9,     -999.0,9,-999.0000,9,-999.0000,9,-999.0000,9,-999.0000,9,-999.0000,9,-999.0000,9,-999.0000,9,     -999.0,9,     -999.0,9,     -999.0,9,     -999.0,9,     -999.0,9