BOTTLE,20220706CCHSIOAMB
EXPOCODE,SECT_ID,STNNBR,CASTNO,SAMPNO,BTLNBR,BTLNBR_FLAG_W,DATE,TIME,LATITUDE,LONGITUDE,DEPTH,CTDPRS,CTDTMP,CTDSAL,CTDSAL_FLAG_W,SALNTY,SALNTY_FLAG_W,CTDOXY,CTDOXY_FLAG_W,OXYGEN,OXYGEN_FLAG_W,SILCAT,SILCAT_FLAG_W,NH4,NH4_FLAG_W,NITRAT,NITRAT_FLAG_W,NITRIT,NITRIT_FLAG_W,PHSPHT,PHSPHT_FLAG_W,CFC-11,CFC-11_FLAG_W,CFC-12,CFC-12_FLAG_W,CFC113,CFC113_FLAG_W,SF6,SF6_FLAG_W,TCARBN,TCARBN_FLAG_W,ALKALI,ALKALI_FLAG_W,PH_TOT,PH_TOT_FLAG_W,PH_TMP,REFTMP,DELC13,DELC13_FLAG_W,DELC14,DELC14_FLAG_W,C14ERR,DELO18,DELO18_FLAG_W,POC,POC_FLAG_W,DOC,DOC_FLAG_W,TDN,TDN_FLAG_W,TON,TON_FLAG_W,D15N_NO3,D15N_NO3_FLAG_W,BTL_DATE,BTL_TIME,BTL_LAT,BTL_LON,14C-DOC,14C-DOC_FLAG_W,CHLORA,CHLORA_FLAG_W,HPLC,HPLC_FLAG_W,CDOM325,CDOM325_FLAG_W,CDOM340,CDOM340_FLAG_W,CDOM380,CDOM380_FLAG_W,CDOM412,CDOM412_FLAG_W,CDOM443,CDOM443_FLAG_W,CDOM490,CDOM490_FLAG_W,CDOM555,CDOM555_FLAG_W,CDOMSL,CDOMSL_FLAG_W,CDOMSN,CDOMSN_FLAG_W,D18O_NO3,D18O_NO3_FLAG_W,D15N_NO2+NO3,D15N_NO2+NO3_FLAG_W,D18O_NO2+NO3,D18O_NO2+NO3_FLAG_W
,,,,,,,,,,,METERS,DBAR,ITS-90,PSS-78,,PSS-78,,UMOL/KG,,UMOL/KG,,UMOL/KG,,UMOL/KG,,UMOL/KG,,UMOL/KG,,UMOL/KG,,PMOL/KG,,PMOL/KG,,PMOL/KG,,FMOL/KG,,UMOL/KG,,UMOL/KG,,,,DEG C,DEG C,/MILLE,,/MILLE,,/MILLE,/MILLE,,UG/KG,,UMOL/KG,,UMOL/KG,,UMOL/KG,,/MILLE,,,,,,/MILLE,,MG/M3,,,,1/M,,1/M,,1/M,,1/M,,1/M,,1/M,,1/M,,1/NM,,1/NM,,/MILLE,,/MILLE,,/MILLE,
33RR20160208,       I08S,      52,          1,         28,         28,2,20160304,       0040,   -44.9920,    95.0002,       2903,   118.7,   8.7415,  34.3609,2,  34.3696,2,    267.1,2,   266.8,2,     3.2,2,    0.01,2,   16.27,2,    0.01,2,    1.15,2,   3.515,2,   1.995,2,   0.280,2,    1.96295394,2,  2120.7,2, 2282.80,2,   7.7808,2,    25.01,   8.7289,    1.25,2,    -4.8,2,     2.0, -999.00,1,-999.000,9,    45.1,2,   18.60,2,     -999.0,1, -999.00,9, 20160304,      159, -44.9920,  95.0002,     -999.0,9,     -999.0,9,     -999.0,9,-999.0000,9,-999.0000,9,-999.0000,9,-999.0000,9,-999.0000,9,-999.0000,9,-999.0000,9,     -999.0,9,     -999.0,9,     -999.0,9,     -999.0,9,     -999.0,9
33RR20160208,       I08S,      52,          1,         29,         29,2,20160304,       0040,   -44.9920,    95.0002,       2903,    86.3,   8.7941,  34.1949,2,  34.1923,2,    278.1,2,   276.6,2,     2.0,2,    0.12,2,   15.06,2,    0.90,2,    1.16,2,   3.565,2,   2.014,2,   0.295,2,    2.07178301,2,  2111.6,2, 2278.28,2,   7.7934,6,    25.01,   8.7932,    1.42,2,   -12.6,2,     2.1, -999.00,1,-999.000,9,    44.0,2,   18.20,2,     -999.0,1, -999.00,9, 20160304,      200, -44.9920,  95.0002,     -999.0,9,     -999.0,9,     -999.0,9,-999.0000,9,-999.0000,9,-999.0000,9,-999.0000,9,-999.0000,9,-999.0000,9,-999.0000,9,     -999.0,9,     -999.0,9,     -999.0,9,     -999.0,9,     -999.0,9
33RR20160208,       I08S,      52,          1,         30,         30,2,20160304,       0040,   -44.9920,    95.0002,       2903,    65.5,   9.3377,  34.0479,2,  34.0476,2,    284.5,2,   284.4,2,     1.2,2,    0.27,2,   15.26,2,    0.22,2,    1.12,2,   3.528,2,   1.986,2,   0.296,2,    2.04759877,2,  2100.2,2, 2275.45,6,   7.8135,2,    24.99,   9.3354,    1.61,2,   -26.2,2,     1.9, -999.00,1,-999.000,9,    47.2,2,   17.80,2,     -999.0,1, -999.00,9, 20160304,      202, -44.9920,  95.0001,     -999.0,9,     -999.0,9,     -999.0,9,-999.0000,9,-999.0000,9,-999.0000,9,-999.0000,9,-999.0000,9,-999.0000,9,-999.0000,9,     -999.0,9,     -999.0,9,     -999.0,9,     -999.0,9,     -999.0,9
33RR20160208,       I08S,      52,          1,         31,         31,2,20160304,       0040,   -44.9920,    95.0002,       2903,    40.7,   9.6104,  34.0381,2,  34.0386,2,    284.6,2,   283.5,2,     1.1,2,    0.19,2,   14.97,2,    0.22,2,    1.09,2,-999.000,9,-999.000,9,-999.000,9,-999.000000000,9,  -999.0,9, -999.00,9,-999.0000,9,     9.00,   9.6090,    1.64,2,   -25.0,2,     2.0, -999.00,1,-999.000,9,    46.2,2,   18.50,2,     -999.0,1, -999.00,9, 20160304,      204, -44.9920,  95.0002,     -999.0,9,     -999.0,9,     -999.0,9,-999.0000,9,-999.0000,9,-999.0000,9,-999.0000,9,-999.0000,9,-999.0000,9,-999.0000,9,     -999.0,9,     -999.0,9,     -999.0,9,     -999.0,9,     -999.0,9
33RR20160208,       I08S,      52,          1,         32,         32,2,20160304,       0040,   -44.9920,    95.0002,       2903,    19.5,   9.6387,  34.0424,2,  34.0415,2,    285.0,2,   283.8,2,     0.9,2,    0.19,2,   14.92,2,    0.22,2,    1.09,2,   3.483,2,   1.955,2,   0.285,2,    2.00225333,2,  2097.6,2, 2273.89,2,   7.8186,2,    25.01,   9.6387, -999.00,9,  -999.0,9,  -999.0, -999.00,1,-999.000,9,    47.8,2,   18.00,2,     -999.0,1, -999.00,9, 20160304,      206, -44.9920,  95.0002,     -999.0,9,     -999.0,9,     -999.0,9,-999.0000,9,-999.0000,9,-999.0000,9,-999.0000,9,-999.0000,9,-999.0000,9,-999.0000,9,     -999.0,9,     -999.0,9,     -999.0,9,     -999.0,9,     -999.0,9
33RR20160208,       I08S,      52,          1,         34,         34,2,20160304,       0040,   -44.9920,    95.0002,       2903,     5.7,   9.6637,  34.0451,2,  34.0443,2,    283.6,2,   283.8,2,     1.0,2,    0.19,2,   14.90,2,    0.22,2,    1.10,2,-999.000,9,-999.000,9,-999.000,9,-999.000000000,9,  -999.0,9, -999.00,9,-999.0000,9,  -999.00,   9.6635, -999.00,9,  -999.0,9,  -999.0, -999.00,9,-999.000,9,  -999.0,9,   17.00,2,     -999.0,9, -999.00,9, 20160304,      208, -44.9920,  95.0002,     -999.0,9,     -999.0,9,     -999.0,9,-999.0000,9,-999.0000,9,-999.0000,9,-999.0000,9,-999.0000,9,-999.0000,9,-999.0000,9,     -999.0,9,     -999.0,9,     -999.0,9,     -999.0,9,     -999.0,9
33RR20160208,       I08S,      52,          1,         33,         33,2,20160304,       0040,   -44.9920,    95.0002,       2903,     5.5,   9.6615,  34.0451,2,  34.0443,2,    283.6,2,   283.9,2,     0.9,2,    0.19,2,   14.90,2,    0.22,2,    1.09,2,   3.467,2,   1.953,2,   0.284,2,     2.0465911,2,  2096.6,6, 2274.67,2,   7.8189,2,    25.01,   9.6615,    1.62,2,   -17.3,2,     2.0, -999.00,1,-999.000,9,    46.8,2,   17.70,2,     -999.0,1, -999.00,9, 20160304,      208, -44.9920,  95.0002,     -999.0,9,     -999.0,9,     -999.0,9,-999.0000,9,-999.0000,9,-999.0000,9,-999.0000,9,-999.0000,9,-999.0000,9,-999.0000,9,     -999.0,9,     -999.0,9,     -999.0,9,     -999.0,9,     -999.0,9