BOTTLE,20220706CCHSIOAMB
EXPOCODE,SECT_ID,STNNBR,CASTNO,SAMPNO,BTLNBR,BTLNBR_FLAG_W,DATE,TIME,LATITUDE,LONGITUDE,DEPTH,CTDPRS,CTDTMP,CTDSAL,CTDSAL_FLAG_W,SALNTY,SALNTY_FLAG_W,CTDOXY,CTDOXY_FLAG_W,OXYGEN,OXYGEN_FLAG_W,SILCAT,SILCAT_FLAG_W,NH4,NH4_FLAG_W,NITRAT,NITRAT_FLAG_W,NITRIT,NITRIT_FLAG_W,PHSPHT,PHSPHT_FLAG_W,CFC-11,CFC-11_FLAG_W,CFC-12,CFC-12_FLAG_W,CFC113,CFC113_FLAG_W,SF6,SF6_FLAG_W,TCARBN,TCARBN_FLAG_W,ALKALI,ALKALI_FLAG_W,PH_TOT,PH_TOT_FLAG_W,PH_TMP,REFTMP,DELC13,DELC13_FLAG_W,DELC14,DELC14_FLAG_W,C14ERR,DELO18,DELO18_FLAG_W,POC,POC_FLAG_W,DOC,DOC_FLAG_W,TDN,TDN_FLAG_W,TON,TON_FLAG_W,D15N_NO3,D15N_NO3_FLAG_W,BTL_DATE,BTL_TIME,BTL_LAT,BTL_LON,14C-DOC,14C-DOC_FLAG_W,CHLORA,CHLORA_FLAG_W,HPLC,HPLC_FLAG_W,CDOM325,CDOM325_FLAG_W,CDOM340,CDOM340_FLAG_W,CDOM380,CDOM380_FLAG_W,CDOM412,CDOM412_FLAG_W,CDOM443,CDOM443_FLAG_W,CDOM490,CDOM490_FLAG_W,CDOM555,CDOM555_FLAG_W,CDOMSL,CDOMSL_FLAG_W,CDOMSN,CDOMSN_FLAG_W,D18O_NO3,D18O_NO3_FLAG_W,D15N_NO2+NO3,D15N_NO2+NO3_FLAG_W,D18O_NO2+NO3,D18O_NO2+NO3_FLAG_W
,,,,,,,,,,,METERS,DBAR,ITS-90,PSS-78,,PSS-78,,UMOL/KG,,UMOL/KG,,UMOL/KG,,UMOL/KG,,UMOL/KG,,UMOL/KG,,UMOL/KG,,PMOL/KG,,PMOL/KG,,PMOL/KG,,FMOL/KG,,UMOL/KG,,UMOL/KG,,,,DEG C,DEG C,/MILLE,,/MILLE,,/MILLE,/MILLE,,UG/KG,,UMOL/KG,,UMOL/KG,,UMOL/KG,,/MILLE,,,,,,/MILLE,,MG/M3,,,,1/M,,1/M,,1/M,,1/M,,1/M,,1/M,,1/M,,1/NM,,1/NM,,/MILLE,,/MILLE,,/MILLE,
33RR20160208,       I08S,      27,          1,         28,         28,2,20160225,       0611,   -56.8970,    83.3052,       4600,   264.6,   1.5444,  34.4347,2,  34.4327,2,    189.2,2,   205.9,2,    67.4,2,    0.00,2,   34.42,2,    0.06,2,    2.40,2,   2.038,2,   1.040,2,   0.184,2,   0.886714466,2,  2245.9,2, 2325.02,2,   7.5429,6,    24.99,   1.5454, -999.00,9,  -999.0,9,  -999.0, -999.00,9,-999.000,9,  -999.0,9, -999.00,9,     -999.0,9, -999.00,9, 20160225,      755, -56.8971,  83.3051,     -999.0,9,     -999.0,9,     -999.0,9,   0.1088,2,   0.0713,2,   0.0390,2,   0.0242,2,   0.0134,2,   0.0042,2,   0.0007,2,     0.0172,2,     0.0195,2,     -999.0,9,     -999.0,9,     -999.0,9
33RR20160208,       I08S,      27,          1,         29,         29,2,20160225,       0611,   -56.8970,    83.3052,       4600,   215.2,   1.8150,  34.3874,2,  34.3827,2,    216.8,2,   210.1,2,    60.5,2,    0.00,2,   34.14,2,    0.01,2,    2.39,2,   2.252,2,   1.149,2,   0.184,2,   0.912020245,2,  -999.0,9, -999.00,9,-999.0000,9,  -999.00,   1.8148, -999.00,9,  -999.0,9,  -999.0, -999.00,9,-999.000,9,  -999.0,9, -999.00,9,     -999.0,9, -999.00,9, 20160225,      757, -56.8970,  83.3052,     -999.0,9,     -999.0,9,     -999.0,9,   0.1060,2,   0.0714,2,   0.0443,2,   0.0236,2,   0.0127,2,   0.0037,2,   0.0004,3,     0.0152,2,     0.0166,2,     -999.0,9,     -999.0,9,     -999.0,9
33RR20160208,       I08S,      27,          1,         30,         30,2,20160225,       0611,   -56.8970,    83.3052,       4600,   164.9,   1.5697,  34.2625,2,  34.2599,2,    235.4,2,   237.8,2,    51.4,2,    0.00,2,   32.96,2,    0.01,2,    2.33,2,   3.075,2,   1.610,2,   0.264,2,    1.43230704,2,  2221.5,2, 2310.18,2,   7.5700,2,    25.00,   1.5690, -999.00,9,  -999.0,9,  -999.0, -999.00,9,-999.000,9,  -999.0,9, -999.00,9,     -999.0,9, -999.00,9, 20160225,      759, -56.8970,  83.3051,     -999.0,9,0.016865788,2,     -999.0,9,   0.0999,2,   0.0647,2,   0.0350,2,   0.0217,2,   0.0120,2,   0.0033,2,   0.0002,4,     0.0174,2,     0.0199,2,     -999.0,9,     -999.0,9,     -999.0,9
33RR20160208,       I08S,      27,          1,         31,         31,2,20160225,       0611,   -56.8970,    83.3052,       4600,   135.3,   0.2391,  34.0544,2,  34.0522,2,    298.7,2,   294.3,2,    43.0,2,    0.27,2,   30.04,2,    0.19,2,    2.14,2,   4.717,2,   2.422,2,   0.427,2,    2.17629692,2,  -999.0,9, -999.00,9,-999.0000,9,  -999.00,   0.2411, -999.00,9,  -999.0,9,  -999.0, -999.00,9,-999.000,9,  -999.0,9, -999.00,9,     -999.0,9, -999.00,9, 20160225,      801, -56.8970,  83.3052,     -999.0,9,     -999.0,9,     -999.0,9,-999.0000,9,-999.0000,9,-999.0000,9,-999.0000,9,-999.0000,9,-999.0000,9,-999.0000,9,     -999.0,9,     -999.0,9,     -999.0,9,     -999.0,9,     -999.0,9
33RR20160208,       I08S,      27,          1,         32,         32,2,20160225,       0611,   -56.8970,    83.3052,       4600,   110.3,   1.0953,  33.9386,2,  33.9381,2,    320.9,2,   325.2,2,    32.3,2,    0.57,2,   27.13,2,    0.24,2,    1.94,2,   5.195,2,   2.700,2,   0.486,2,    2.06090257,2,  2177.9,2, 2292.66,2,   7.6614,2,    25.00,   1.1031, -999.00,9,  -999.0,9,  -999.0, -999.00,9,-999.000,9,  -999.0,9, -999.00,9,     -999.0,9, -999.00,9, 20160225,      802, -56.8971,  83.3051,     -999.0,9,0.393767492,2,     -999.0,9,   0.0848,2,   0.0553,2,   0.0367,2,   0.0186,2,   0.0098,2,   0.0023,2,  -0.0002,4,     0.0146,2,     0.0162,2,     -999.0,9,     -999.0,9,     -999.0,9
33RR20160208,       I08S,      27,          1,         33,         33,2,20160225,       0611,   -56.8970,    83.3052,       4600,    85.8,   2.6881,  33.9109,2,  33.9104,2,    328.0,2,   326.3,2,    20.3,2,    0.31,2,   25.00,2,    0.22,2,    1.72,2,   5.062,2,   2.742,2,   0.492,2,    2.70063264,2,  -999.0,9, -999.00,9,-999.0000,9,     9.00,   2.6875, -999.00,9,  -999.0,9,  -999.0, -999.00,9,-999.000,9,  -999.0,9, -999.00,9,     -999.0,9, -999.00,9, 20160225,      805, -56.8970,  83.3052,     -999.0,9,0.538785882,2,     -999.0,9,   0.0786,2,   0.0487,2,   0.0275,2,   0.0162,2,   0.0090,2,   0.0022,2,  -0.0003,4,     0.0173,2,     0.0205,2,     -999.0,9,     -999.0,9,     -999.0,9
33RR20160208,       I08S,      27,          1,         34,         34,2,20160225,       0611,   -56.8970,    83.3052,       4600,    59.7,   2.7097,  33.9086,2,  33.9082,2,    329.9,2,   327.4,2,    20.0,2,    0.30,2,   24.91,2,    0.22,2,    1.72,2,   5.051,2,   2.716,2,   0.487,2,    2.78464783,2,  2155.0,2, 2287.82,6,   7.7077,2,    25.00,   2.7095, -999.00,9,  -999.0,9,  -999.0, -999.00,9,-999.000,9,  -999.0,9, -999.00,9,     -999.0,9, -999.00,9, 20160225,      808, -56.8970,  83.3051,     -999.0,9, 0.50061946,2,     -999.0,9,   0.0764,2,   0.0486,2,   0.0289,2,   0.0164,2,   0.0093,2,   0.0025,2,  -0.0001,4,     0.0162,2,     0.0188,2,     -999.0,9,     -999.0,9,     -999.0,9
33RR20160208,       I08S,      27,          1,         35,         35,2,20160225,       0611,   -56.8970,    83.3052,       4600,    34.7,   2.7912,  33.9008,2,  33.9010,2,    331.0,2,   328.2,2,    19.0,2,    0.27,2,   24.75,2,    0.22,2,    1.70,2,   5.171,2,   2.708,2,   0.481,2,    2.55790806,2,  2152.7,2, 2278.14,3,   7.7105,6,    24.97,   2.7910, -999.00,9,  -999.0,9,  -999.0, -999.00,9,-999.000,9,  -999.0,9, -999.00,9,     -999.0,9, -999.00,9, 20160225,      810, -56.8970,  83.3052,     -999.0,9,0.490989343,2,     -999.0,9,   0.0754,2,   0.0476,2,   0.0264,2,   0.0149,2,   0.0079,2,   0.0013,3,  -0.0008,4,     0.0176,2,     0.0203,2,     -999.0,9,     -999.0,9,     -999.0,9
33RR20160208,       I08S,      27,          1,         36,         36,2,20160225,       0611,   -56.8970,    83.3052,       4600,     6.0,   2.8460,  33.8814,2,  33.8808,2,    329.1,2,   329.3,2,    19.4,2,    0.23,2,   24.84,2,    0.24,2,    1.72,2,   5.034,2,   2.686,2,   0.480,2,           2.4,2,  2152.4,2, 2288.33,2,   7.7095,2,    25.00,   2.8607, -999.00,9,  -999.0,9,  -999.0, -999.00,9,-999.000,9,  -999.0,9, -999.00,9,     -999.0,9, -999.00,9, 20160225,      812, -56.8970,  83.3052,     -999.0,9,0.410043215,2,     -999.0,9,   0.0762,2,   0.0485,2,   0.0280,2,   0.0166,2,   0.0096,2,   0.0030,2,   0.0002,4,     0.0166,2,     0.0192,2,     -999.0,9,     -999.0,9,     -999.0,9