BOTTLE,20220706CCHSIOAMB
EXPOCODE,SECT_ID,STNNBR,CASTNO,SAMPNO,BTLNBR,BTLNBR_FLAG_W,DATE,TIME,LATITUDE,LONGITUDE,DEPTH,CTDPRS,CTDTMP,CTDSAL,CTDSAL_FLAG_W,SALNTY,SALNTY_FLAG_W,CTDOXY,CTDOXY_FLAG_W,OXYGEN,OXYGEN_FLAG_W,SILCAT,SILCAT_FLAG_W,NH4,NH4_FLAG_W,NITRAT,NITRAT_FLAG_W,NITRIT,NITRIT_FLAG_W,PHSPHT,PHSPHT_FLAG_W,CFC-11,CFC-11_FLAG_W,CFC-12,CFC-12_FLAG_W,CFC113,CFC113_FLAG_W,SF6,SF6_FLAG_W,TCARBN,TCARBN_FLAG_W,ALKALI,ALKALI_FLAG_W,PH_TOT,PH_TOT_FLAG_W,PH_TMP,REFTMP,DELC13,DELC13_FLAG_W,DELC14,DELC14_FLAG_W,C14ERR,DELO18,DELO18_FLAG_W,POC,POC_FLAG_W,DOC,DOC_FLAG_W,TDN,TDN_FLAG_W,TON,TON_FLAG_W,D15N_NO3,D15N_NO3_FLAG_W,BTL_DATE,BTL_TIME,BTL_LAT,BTL_LON,14C-DOC,14C-DOC_FLAG_W,CHLORA,CHLORA_FLAG_W,HPLC,HPLC_FLAG_W,CDOM325,CDOM325_FLAG_W,CDOM340,CDOM340_FLAG_W,CDOM380,CDOM380_FLAG_W,CDOM412,CDOM412_FLAG_W,CDOM443,CDOM443_FLAG_W,CDOM490,CDOM490_FLAG_W,CDOM555,CDOM555_FLAG_W,CDOMSL,CDOMSL_FLAG_W,CDOMSN,CDOMSN_FLAG_W,D18O_NO3,D18O_NO3_FLAG_W,D15N_NO2+NO3,D15N_NO2+NO3_FLAG_W,D18O_NO2+NO3,D18O_NO2+NO3_FLAG_W
,,,,,,,,,,,METERS,DBAR,ITS-90,PSS-78,,PSS-78,,UMOL/KG,,UMOL/KG,,UMOL/KG,,UMOL/KG,,UMOL/KG,,UMOL/KG,,UMOL/KG,,PMOL/KG,,PMOL/KG,,PMOL/KG,,FMOL/KG,,UMOL/KG,,UMOL/KG,,,,DEG C,DEG C,/MILLE,,/MILLE,,/MILLE,/MILLE,,UG/KG,,UMOL/KG,,UMOL/KG,,UMOL/KG,,/MILLE,,,,,,/MILLE,,MG/M3,,,,1/M,,1/M,,1/M,,1/M,,1/M,,1/M,,1/M,,1/NM,,1/NM,,/MILLE,,/MILLE,,/MILLE,
33RR20160208,       I08S,      80,          1,          1,          1,2,20160311,       0435,   -30.1157,    94.9998,       2072,  2062.8,   2.3852,  34.7069,2,  34.7074,2,    163.6,2,   163.9,2,    99.8,2,    0.00,2,   33.53,2,    0.00,2,    2.38,2,   0.014,2,   0.009,2,-999.000,5,             0,2,  2277.8,2, 2372.24,2,   7.5826,2,    24.98,   2.3847, -999.00,9,  -999.0,9,  -999.0, -999.00,9,-999.000,9,    38.0,2, -999.00,9,     -999.0,1, -999.00,9, 20160311,      435, -30.1158,  94.9998,     -999.0,9,     -999.0,9,     -999.0,9,-999.0000,9,-999.0000,9,-999.0000,9,-999.0000,9,-999.0000,9,-999.0000,9,-999.0000,9,     -999.0,9,     -999.0,9,     -999.0,9,     -999.0,9,     -999.0,9
33RR20160208,       I08S,      80,          1,          2,          2,2,20160311,       0435,   -30.1157,    94.9998,       2072,  1832.8,   2.6919,  34.6762,2,  34.6768,2,    154.8,2,   156.4,2,    94.0,2,    0.00,2,   34.20,2,    0.00,2,    2.44,2,   0.019,2,   0.006,2,-999.000,5,             0,2,  2275.4,2, 2367.74,2,   7.5699,2,    24.97,   2.6919, -999.00,9,  -999.0,9,  -999.0, -999.00,9,-999.000,9,    37.9,2, -999.00,9,     -999.0,1, -999.00,9, 20160311,      440, -30.1158,  94.9998,     -999.0,9,     -999.0,9,     -999.0,9,-999.0000,9,-999.0000,9,-999.0000,9,-999.0000,9,-999.0000,9,-999.0000,9,-999.0000,9,     -999.0,9,     -999.0,9,     -999.0,9,     -999.0,9,     -999.0,9
33RR20160208,       I08S,      80,          1,          3,          3,2,20160311,       0435,   -30.1157,    94.9998,       2072,  1601.5,   3.0858,  34.6139,2,  34.6140,2,    149.5,2,   150.3,2,    85.0,2,    0.00,2,   34.98,2,    0.00,2,    2.50,2,   0.057,2,   0.034,2,-999.000,5,         0.044,2,  2270.8,2, 2356.47,6,   7.5569,2,    24.99,   3.0856, -999.00,9,  -999.0,9,  -999.0, -999.00,9,-999.000,9,    37.7,2, -999.00,9,     -999.0,1, -999.00,9, 20160311,      445, -30.1158,  94.9998,     -999.0,9,     -999.0,9,     -999.0,9,-999.0000,9,-999.0000,9,-999.0000,9,-999.0000,9,-999.0000,9,-999.0000,9,-999.0000,9,     -999.0,9,     -999.0,9,     -999.0,9,     -999.0,9,     -999.0,9
33RR20160208,       I08S,      80,          1,          4,          4,2,20160311,       0435,   -30.1157,    94.9998,       2072,  1502.0,   3.2353,  34.5833,2,  34.5832,2,    149.6,2,   149.5,2,    80.3,2,    0.00,2,   35.06,2,    0.00,2,    2.48,2,   0.112,2,   0.053,2,-999.000,5,             0,2,  2269.0,2, 2350.59,2,   7.5550,2,    24.97,   3.2345, -999.00,9,  -999.0,9,  -999.0, -999.00,9,-999.000,9,    37.9,2, -999.00,9,     -999.0,1, -999.00,9, 20160311,      447, -30.1158,  94.9998,     -999.0,9,     -999.0,9,     -999.0,9,-999.0000,9,-999.0000,9,-999.0000,9,-999.0000,9,-999.0000,9,-999.0000,9,-999.0000,9,     -999.0,9,     -999.0,9,     -999.0,9,     -999.0,9,     -999.0,9
33RR20160208,       I08S,      80,          1,          5,          5,2,20160311,       0435,   -30.1157,    94.9998,       2072,  1402.0,   3.4235,  34.5405,2,  34.5393,2,    154.9,2,   154.0,2,    73.0,2,    0.00,2,   34.88,2,    0.00,2,    2.47,2,   0.252,2,   0.127,2,-999.000,5,         0.074,2,  2260.0,2, 2341.57,2,   7.5568,6,    24.98,   3.4273, -999.00,9,  -999.0,9,  -999.0, -999.00,9,-999.000,9,    38.6,2, -999.00,9,     -999.0,1, -999.00,9, 20160311,      450, -30.1158,  94.9998,     -999.0,9,     -999.0,9,     -999.0,9,-999.0000,9,-999.0000,9,-999.0000,9,-999.0000,9,-999.0000,9,-999.0000,9,-999.0000,9,     -999.0,9,     -999.0,9,     -999.0,9,     -999.0,9,     -999.0,9
33RR20160208,       I08S,      80,          1,          6,         38,2,20160311,       0435,   -30.1157,    94.9998,       2072,  1300.5,   3.6644,  34.4919,2,  34.4926,2,    157.1,2,   160.6,3,    64.8,2,    0.00,2,   34.45,2,    0.00,2,    2.42,2,   0.494,2,   0.235,2,-999.000,5,         0.111,2,  2247.5,3, 2332.91,2,   7.5641,2,    24.97,   3.6639, -999.00,9,  -999.0,9,  -999.0, -999.00,9,-999.000,9,    40.4,3, -999.00,9,     -999.0,1, -999.00,9, 20160311,      453, -30.1158,  94.9998,     -999.0,9,     -999.0,9,     -999.0,9,-999.0000,9,-999.0000,9,-999.0000,9,-999.0000,9,-999.0000,9,-999.0000,9,-999.0000,9,     -999.0,9,     -999.0,9,     -999.0,9,     -999.0,9,     -999.0,9
33RR20160208,       I08S,      80,          1,          7,          7,2,20160311,       0435,   -30.1157,    94.9998,       2072,  1198.5,   4.1071,  34.4768,2,  34.4767,2,    162.9,2,   159.2,3,    59.7,2,    0.00,2,   34.07,2,    0.00,2,    2.38,2,   0.583,2,   0.300,2,-999.000,5,             0,2,  2242.2,2, 2329.10,2,   7.5689,2,    24.98,   4.1068, -999.00,9,  -999.0,9,  -999.0, -999.00,9,-999.000,9,    37.8,2, -999.00,9,     -999.0,1, -999.00,9, 20160311,      456, -30.1158,  94.9998,     -999.0,9,     -999.0,9,     -999.0,9,-999.0000,9,-999.0000,9,-999.0000,9,-999.0000,9,-999.0000,9,-999.0000,9,-999.0000,9,     -999.0,9,     -999.0,9,     -999.0,9,     -999.0,9,     -999.0,9
33RR20160208,       I08S,      80,          1,          8,          8,2,20160311,       0435,   -30.1157,    94.9998,       2072,  1102.3,   4.5344,  34.4115,2,  34.4110,2,    180.5,2,   180.0,2,    42.7,2,    0.00,2,   32.12,2,    0.00,2,    2.22,2,   1.279,2,   0.668,2,-999.000,5,         0.263,2,  2216.9,2, 2311.67,2,   7.5961,2,    24.97,   4.5345, -999.00,9,  -999.0,9,  -999.0, -999.00,9,-999.000,9,    39.0,2, -999.00,9,     -999.0,1, -999.00,9, 20160311,      459, -30.1158,  94.9998,     -999.0,9,     -999.0,9,     -999.0,9,-999.0000,9,-999.0000,9,-999.0000,9,-999.0000,9,-999.0000,9,-999.0000,9,-999.0000,9,     -999.0,9,     -999.0,9,     -999.0,9,     -999.0,9,     -999.0,9
33RR20160208,       I08S,      80,          1,          9,          9,2,20160311,       0435,   -30.1157,    94.9998,       2072,  1000.2,   5.5834,  34.3979,2,  34.3977,2,    194.0,2,   195.6,2,    25.9,2,    0.00,2,   29.09,2,    0.00,2,    1.96,2,   1.978,2,   0.955,2,-999.000,5,         0.352,2,  2195.2,2, 2301.14,2,   7.6323,2,    24.96,   5.5835, -999.00,9,  -999.0,9,  -999.0, -999.00,9,-999.000,9,    39.8,2, -999.00,9,     -999.0,1, -999.00,9, 20160311,      502, -30.1158,  94.9998,     -999.0,9,     -999.0,9,     -999.0,9,-999.0000,9,-999.0000,9,-999.0000,9,-999.0000,9,-999.0000,9,-999.0000,9,-999.0000,9,     -999.0,9,     -999.0,9,     -999.0,9,     -999.0,9,     -999.0,9
33RR20160208,       I08S,      80,          1,         10,         10,2,20160311,       0435,   -30.1157,    94.9998,       2072,   902.1,   7.0973,  34.4753,2,  34.4785,2,    205.3,2,   204.3,2,    15.5,2,    0.00,2,   24.93,2,    0.00,2,    1.66,2,   2.447,2,   1.290,2,-999.000,5,          0.71,2,  -999.0,9, -999.00,9,-999.0000,9,  -999.00,   7.0670, -999.00,9,  -999.0,9,  -999.0, -999.00,9,-999.000,9,    41.2,2, -999.00,9,     -999.0,1, -999.00,9, 20160311,      505, -30.1158,  94.9998,     -999.0,9,     -999.0,9,     -999.0,9,-999.0000,9,-999.0000,9,-999.0000,9,-999.0000,9,-999.0000,9,-999.0000,9,-999.0000,9,     -999.0,9,     -999.0,9,     -999.0,9,     -999.0,9,     -999.0,9
33RR20160208,       I08S,      80,          1,         11,         11,2,20160311,       0435,   -30.1157,    94.9998,       2072,   800.5,   8.6125,  34.5883,2,  34.5886,2,    226.6,2,   225.4,2,     6.7,2,    0.00,2,   19.63,2,    0.00,2,    1.32,2,   2.462,2,   1.676,2,-999.000,5,         1.039,2,  2145.6,2, 2291.25,2,   7.7328,6,    24.99,   8.6154, -999.00,9,  -999.0,9,  -999.0, -999.00,9,-999.000,9,    43.8,2, -999.00,9,     -999.0,1, -999.00,9, 20160311,      508, -30.1158,  94.9998,     -999.0,9,     -999.0,9,     -999.0,9,-999.0000,9,-999.0000,9,-999.0000,9,-999.0000,9,-999.0000,9,-999.0000,9,-999.0000,9,     -999.0,9,     -999.0,9,     -999.0,9,     -999.0,9,     -999.0,9
33RR20160208,       I08S,      80,          1,         12,         12,2,20160311,       0435,   -30.1157,    94.9998,       2072,   698.3,   9.2984,  34.6662,2,  34.6677,2,    240.7,2,   238.1,2,     4.3,2,    0.00,2,   16.57,2,    0.00,2,    1.11,2,   2.474,2,   1.747,2,-999.000,5,          1.56,2,  -999.0,9, -999.00,9,-999.0000,9,     9.00,   9.2976, -999.00,9,  -999.0,9,  -999.0, -999.00,9,-999.000,9,    43.7,2, -999.00,9,     -999.0,1, -999.00,9, 20160311,      511, -30.1158,  94.9998,     -999.0,9,     -999.0,9,     -999.0,9,-999.0000,9,-999.0000,9,-999.0000,9,-999.0000,9,-999.0000,9,-999.0000,9,-999.0000,9,     -999.0,9,     -999.0,9,     -999.0,9,     -999.0,9,     -999.0,9
33RR20160208,       I08S,      80,          1,         13,         13,2,20160311,       0435,   -30.1157,    94.9998,       2072,   600.0,  10.0475,  34.7719,2,  34.7731,2,    242.2,2,   241.9,2,     3.3,2,    0.00,2,   13.87,2,    0.00,2,    0.96,2,   2.479,2,   1.771,2,-999.000,5,         1.581,2,  2128.0,2, 2297.68,2,   7.7890,2,    24.95,  10.0477, -999.00,9,  -999.0,9,  -999.0, -999.00,9,-999.000,9,    44.6,2, -999.00,9,     -999.0,1, -999.00,9, 20160311,      514, -30.1158,  94.9998,     -999.0,9,     -999.0,9,     -999.0,9,-999.0000,9,-999.0000,9,-999.0000,9,-999.0000,9,-999.0000,9,-999.0000,9,-999.0000,9,     -999.0,9,     -999.0,9,     -999.0,9,     -999.0,9,     -999.0,9
33RR20160208,       I08S,      80,          1,         14,         14,2,20160311,       0435,   -30.1157,    94.9998,       2072,   499.3,  11.3254,  34.9651,2,  34.9647,2,    240.3,2,   240.8,2,     2.3,2,    0.00,2,   10.30,2,    0.00,2,    0.74,2,   2.490,2,   1.714,2,-999.000,5,         1.633,2,  2122.1,2, 2307.45,2,   7.8211,2,    25.02,  11.3248, -999.00,9,  -999.0,9,  -999.0, -999.00,9,-999.000,9,    46.6,2, -999.00,9,     -999.0,1, -999.00,9, 20160311,      516, -30.1158,  94.9998,     -999.0,9,     -999.0,9,     -999.0,9,-999.0000,9,-999.0000,9,-999.0000,9,-999.0000,9,-999.0000,9,-999.0000,9,-999.0000,9,     -999.0,9,     -999.0,9,     -999.0,9,     -999.0,9,     -999.0,9
33RR20160208,       I08S,      80,          1,         15,         15,2,20160311,       0435,   -30.1157,    94.9998,       2072,   400.8,  12.8394,  35.1934,2,  35.1925,2,    231.2,2,   233.6,2,     1.5,2,    0.00,2,    6.97,2,    0.00,2,    0.53,2,   2.501,2,   1.650,2,-999.000,5,         1.732,2,  2115.4,2, 2319.16,2,   7.8559,6,    25.05,  12.8425, -999.00,9,  -999.0,9,  -999.0, -999.00,9,-999.000,9,    50.1,2, -999.00,9,     -999.0,1, -999.00,9, 20160311,      519, -30.1158,  94.9998,     -999.0,9,     -999.0,9,     -999.0,9,-999.0000,9,-999.0000,9,-999.0000,9,-999.0000,9,-999.0000,9,-999.0000,9,-999.0000,9,     -999.0,9,     -999.0,9,     -999.0,9,     -999.0,9,     -999.0,9
33RR20160208,       I08S,      80,          1,         16,         16,2,20160311,       0435,   -30.1157,    94.9998,       2072,   347.7,  14.3311,  35.4185,2,  35.4249,2,    228.6,2,   230.0,2,     1.1,2,    0.00,2,    4.07,2,    0.00,2,    0.35,2,   2.514,2,   1.527,2,-999.000,5,          1.56,2,  -999.0,9, -999.00,9,-999.0000,9,  -999.00,  14.3481, -999.00,9,  -999.0,9,  -999.0, -999.00,9,-999.000,9,    49.9,2, -999.00,9,     -999.0,1, -999.00,9, 20160311,      521, -30.1158,  94.9997,     -999.0,9,     -999.0,9,     -999.0,9,-999.0000,9,-999.0000,9,-999.0000,9,-999.0000,9,-999.0000,9,-999.0000,9,-999.0000,9,     -999.0,9,     -999.0,9,     -999.0,9,     -999.0,9,     -999.0,9
33RR20160208,       I08S,      80,          1,         17,         17,2,20160311,       0435,   -30.1157,    94.9998,       2072,   299.1,  15.6177,  35.6113,2,  35.6114,2,    231.5,2,   232.2,2,     0.8,2,    0.00,2,    1.70,2,    0.00,2,    0.20,2,   2.558,2,   1.424,2,-999.000,5,         1.434,2,  2100.6,2, 2343.41,2,   7.9289,2,    25.06,  15.6176, -999.00,9,  -999.0,9,  -999.0, -999.00,9,-999.000,9,    54.4,2,    5.20,2,     -999.0,1, -999.00,9, 20160311,      523, -30.1158,  94.9998,     -999.0,9,     -999.0,9,     -999.0,9,-999.0000,9,-999.0000,9,-999.0000,9,-999.0000,9,-999.0000,9,-999.0000,9,-999.0000,9,     -999.0,9,     -999.0,9,     -999.0,9,     -999.0,9,     -999.0,9
33RR20160208,       I08S,      80,          1,         18,         37,2,20160311,       0435,   -30.1157,    94.9998,       2072,   248.6,  16.8510,  35.7220,2,  35.7224,2,    221.4,2,   222.6,2,     1.0,2,    0.00,2,    1.24,2,    0.00,2,    0.16,2,   2.320,2,   1.358,2,-999.000,5,         1.489,2,  -999.0,9, -999.00,9,-999.0000,9,     9.00,  16.8435, -999.00,9,  -999.0,9,  -999.0, -999.00,9,-999.000,9,    55.8,2,    5.20,2,     -999.0,1, -999.00,9, 20160311,      525, -30.1158,  94.9997,     -999.0,9,     -999.0,9,     -999.0,9,-999.0000,9,-999.0000,9,-999.0000,9,-999.0000,9,-999.0000,9,-999.0000,9,-999.0000,9,     -999.0,9,     -999.0,9,     -999.0,9,     -999.0,9,     -999.0,9
33RR20160208,       I08S,      80,          1,         19,         19,2,20160311,       0435,   -30.1157,    94.9998,       2072,   198.0,  18.2258,  35.8118,2,  35.8103,2,    218.7,2,   218.4,2,     1.3,2,    0.00,2,    0.70,2,    0.00,2,    0.10,2,   2.193,2,   1.278,2,-999.000,5,         1.393,2,  2082.6,2, 2351.23,2,   7.9729,2,    25.02,  18.2291, -999.00,9,  -999.0,9,  -999.0, -999.00,9,-999.000,9,    56.9,2,    4.80,2,     -999.0,1, -999.00,9, 20160311,      527, -30.1158,  94.9998,     -999.0,9,     -999.0,9,     -999.0,9,-999.0000,9,-999.0000,9,-999.0000,9,-999.0000,9,-999.0000,9,-999.0000,9,-999.0000,9,     -999.0,9,     -999.0,9,     -999.0,9,     -999.0,9,     -999.0,9
33RR20160208,       I08S,      80,          1,         20,         20,2,20160311,       0435,   -30.1157,    94.9998,       2072,   148.6,  18.7378,  35.8074,2,  35.8062,2,    222.1,2,   222.9,2,     1.4,2,    0.00,2,    0.00,2,    0.05,2,    0.05,2,   2.105,2,   1.247,2,-999.000,5,         1.514,2,  -999.0,9, -999.00,9,-999.0000,9,  -999.00,  18.7366, -999.00,9,  -999.0,9,  -999.0, -999.00,9,-999.000,9,    62.7,2,    3.30,2,     -999.0,1, -999.00,9, 20160311,      529, -30.1158,  94.9998,     -999.0,9,     -999.0,9,     -999.0,9,-999.0000,9,-999.0000,9,-999.0000,9,-999.0000,9,-999.0000,9,-999.0000,9,-999.0000,9,     -999.0,9,     -999.0,9,     -999.0,9,     -999.0,9,     -999.0,9
33RR20160208,       I08S,      80,          1,         21,         21,2,20160311,       0435,   -30.1157,    94.9998,       2072,   101.5,  19.2108,  35.8004,2,  35.7987,2,    233.2,2,   234.2,2,     1.4,2,    0.00,2,    0.00,2,    0.00,2,    0.02,2,   2.146,2,   1.264,2,-999.000,5,          1.57,2,  2058.4,2, 2351.51,2,   8.0140,2,    25.02,  19.2129, -999.00,9,  -999.0,9,  -999.0, -999.00,9,-999.000,9,    66.8,2,    4.60,2,     -999.0,1, -999.00,9, 20160311,      532, -30.1158,  94.9998,     -999.0,9,     -999.0,9,     -999.0,9,-999.0000,9,-999.0000,9,-999.0000,9,-999.0000,9,-999.0000,9,-999.0000,9,-999.0000,9,     -999.0,9,     -999.0,9,     -999.0,9,     -999.0,9,     -999.0,9
33RR20160208,       I08S,      80,          1,         22,         22,2,20160311,       0435,   -30.1157,    94.9998,       2072,    74.2,  20.0894,  35.8008,2,  35.7995,2,    240.1,2,   237.8,2,     1.5,2,    0.00,2,    0.00,2,    0.00,2,    0.01,2,   2.149,2,   1.246,2,-999.000,5,         1.599,2,  -999.0,9, -999.00,9,-999.0000,9,  -999.00,  20.0921, -999.00,9,  -999.0,9,  -999.0, -999.00,9,-999.000,9,    66.7,2,    4.30,2,     -999.0,1, -999.00,9, 20160311,      534, -30.1158,  94.9998,     -999.0,9,     -999.0,9,     -999.0,9,-999.0000,9,-999.0000,9,-999.0000,9,-999.0000,9,-999.0000,9,-999.0000,9,-999.0000,9,     -999.0,9,     -999.0,9,     -999.0,9,     -999.0,9,     -999.0,9
33RR20160208,       I08S,      80,          1,         23,         23,2,20160311,       0435,   -30.1157,    94.9998,       2072,    51.0,  21.8164,  35.9924,2,  35.9886,2,    228.1,2,   223.8,2,     1.5,2,    0.00,2,    0.00,2,    0.00,2,    0.02,2,   1.935,2,   1.137,2,-999.000,5,         1.467,2,  2068.2,2, 2363.21,6,   8.0154,2,    25.05,  21.8159, -999.00,9,  -999.0,9,  -999.0, -999.00,9,-999.000,9,    69.3,2,    4.60,2,     -999.0,1, -999.00,9, 20160311,      536, -30.1158,  94.9998,     -999.0,9,     -999.0,9,     -999.0,9,-999.0000,9,-999.0000,9,-999.0000,9,-999.0000,9,-999.0000,9,-999.0000,9,-999.0000,9,     -999.0,9,     -999.0,9,     -999.0,9,     -999.0,9,     -999.0,9
33RR20160208,       I08S,      80,          1,         24,         24,2,20160311,       0435,   -30.1157,    94.9998,       2072,    25.5,  22.3772,  36.0159,2,  36.0139,2,    224.0,2,   219.5,2,     1.5,2,    0.00,2,    0.00,2,    0.00,2,    0.01,2,   1.979,2,   1.109,2,-999.000,5,         1.487,2,  2066.2,2, 2363.91,2,   8.0147,6,    25.03,  22.3760, -999.00,9,  -999.0,9,  -999.0, -999.00,9,-999.000,9,    68.7,2,    4.00,2,     -999.0,1, -999.00,9, 20160311,      537, -30.1158,  94.9998,     -999.0,9,     -999.0,9,     -999.0,9,-999.0000,9,-999.0000,9,-999.0000,9,-999.0000,9,-999.0000,9,-999.0000,9,-999.0000,9,     -999.0,9,     -999.0,9,     -999.0,9,     -999.0,9,     -999.0,9
33RR20160208,       I08S,      80,          1,         25,         25,2,20160311,       0435,   -30.1157,    94.9998,       2072,     4.7,  22.4920,  36.0167,2,  36.0153,2,    222.2,2,   220.6,2,     1.6,2,    0.00,2,    0.00,2,    0.00,2,    0.01,2,   1.839,2,   1.108,2,-999.000,5,         1.197,2,  2070.5,6, 2363.31,2,   8.0169,6,    24.94,  22.4921, -999.00,9,  -999.0,9,  -999.0, -999.00,9,-999.000,9,    66.6,3,    4.20,2,     -999.0,1, -999.00,9, 20160311,      539, -30.1158,  94.9998,     -999.0,9,     -999.0,9,     -999.0,9,-999.0000,9,-999.0000,9,-999.0000,9,-999.0000,9,-999.0000,9,-999.0000,9,-999.0000,9,     -999.0,9,     -999.0,9,     -999.0,9,     -999.0,9,     -999.0,9