BOTTLE,20220706CCHSIOAMB
EXPOCODE,SECT_ID,STNNBR,CASTNO,SAMPNO,BTLNBR,BTLNBR_FLAG_W,DATE,TIME,LATITUDE,LONGITUDE,DEPTH,CTDPRS,CTDTMP,CTDSAL,CTDSAL_FLAG_W,SALNTY,SALNTY_FLAG_W,CTDOXY,CTDOXY_FLAG_W,OXYGEN,OXYGEN_FLAG_W,SILCAT,SILCAT_FLAG_W,NH4,NH4_FLAG_W,NITRAT,NITRAT_FLAG_W,NITRIT,NITRIT_FLAG_W,PHSPHT,PHSPHT_FLAG_W,CFC-11,CFC-11_FLAG_W,CFC-12,CFC-12_FLAG_W,CFC113,CFC113_FLAG_W,SF6,SF6_FLAG_W,TCARBN,TCARBN_FLAG_W,ALKALI,ALKALI_FLAG_W,PH_TOT,PH_TOT_FLAG_W,PH_TMP,REFTMP,DELC13,DELC13_FLAG_W,DELC14,DELC14_FLAG_W,C14ERR,DELO18,DELO18_FLAG_W,POC,POC_FLAG_W,DOC,DOC_FLAG_W,TDN,TDN_FLAG_W,TON,TON_FLAG_W,D15N_NO3,D15N_NO3_FLAG_W,BTL_DATE,BTL_TIME,BTL_LAT,BTL_LON,14C-DOC,14C-DOC_FLAG_W,CHLORA,CHLORA_FLAG_W,HPLC,HPLC_FLAG_W,CDOM325,CDOM325_FLAG_W,CDOM340,CDOM340_FLAG_W,CDOM380,CDOM380_FLAG_W,CDOM412,CDOM412_FLAG_W,CDOM443,CDOM443_FLAG_W,CDOM490,CDOM490_FLAG_W,CDOM555,CDOM555_FLAG_W,CDOMSL,CDOMSL_FLAG_W,CDOMSN,CDOMSN_FLAG_W,D18O_NO3,D18O_NO3_FLAG_W,D15N_NO2+NO3,D15N_NO2+NO3_FLAG_W,D18O_NO2+NO3,D18O_NO2+NO3_FLAG_W
,,,,,,,,,,,METERS,DBAR,ITS-90,PSS-78,,PSS-78,,UMOL/KG,,UMOL/KG,,UMOL/KG,,UMOL/KG,,UMOL/KG,,UMOL/KG,,UMOL/KG,,PMOL/KG,,PMOL/KG,,PMOL/KG,,FMOL/KG,,UMOL/KG,,UMOL/KG,,,,DEG C,DEG C,/MILLE,,/MILLE,,/MILLE,/MILLE,,UG/KG,,UMOL/KG,,UMOL/KG,,UMOL/KG,,/MILLE,,,,,,/MILLE,,MG/M3,,,,1/M,,1/M,,1/M,,1/M,,1/M,,1/M,,1/M,,1/NM,,1/NM,,/MILLE,,/MILLE,,/MILLE,
33RR20160208,       I08S,      56,          1,          1,          1,2,20160305,       0131,   -42.4267,    95.0001,       3327,  3352.8,   1.4626,  34.7337,2,  34.7339,2,    202.3,2,   202.2,2,   105.3,2,    0.00,2,   31.17,2,    0.00,2,    2.12,2,   0.133,2,   0.069,2,   0.006,2,             0,2,  2258.2,6, 2362.75,2,   7.6138,2,    25.01,   1.4625,    0.49,2,  -156.1,2,     1.7, -999.00,9,-999.000,9,    38.9,2, -999.00,9,     -999.0,9, -999.00,9, 20160305,      131, -42.4267,  95.0001,     -999.0,9,     -999.0,9,     -999.0,9,-999.0000,9,-999.0000,9,-999.0000,9,-999.0000,9,-999.0000,9,-999.0000,9,-999.0000,9,     -999.0,9,     -999.0,9,     -999.0,9,     -999.0,9,     -999.0,9
33RR20160208,       I08S,      56,          1,          2,          2,2,20160305,       0131,   -42.4267,    95.0001,       3327,  3073.4,   1.5559,  34.7383,2,  34.7376,2,    200.9,2,   201.2,2,   101.7,2,    0.00,2,   30.92,2,    0.00,2,    2.12,2,-999.000,9,-999.000,9,-999.000,9,-999.000000000,9,  -999.0,9, -999.00,9,-999.0000,9,  -999.00,   1.5557,    0.48,2,  -157.5,2,     1.7, -999.00,9,-999.000,9,    37.4,2, -999.00,9,     -999.0,9, -999.00,9, 20160305,      137, -42.4267,  95.0001,     -999.0,9,     -999.0,9,     -999.0,9,-999.0000,9,-999.0000,9,-999.0000,9,-999.0000,9,-999.0000,9,-999.0000,9,-999.0000,9,     -999.0,9,     -999.0,9,     -999.0,9,     -999.0,9,     -999.0,9
33RR20160208,       I08S,      56,          1,          3,          3,2,20160305,       0131,   -42.4267,    95.0001,       3327,  2798.0,   1.7875,  34.7470,2,  34.7463,2,    199.0,2,   199.2,2,    93.5,2,    0.00,2,   30.41,2,    0.00,2,    2.07,2,   0.099,2,   0.053,2,   0.005,2,             0,2,  2251.7,2, 2358.07,2,   7.6179,6,    25.00,   1.7877,    0.46,2,  -154.6,2,     2.1, -999.00,9,-999.000,9,    37.6,2, -999.00,9,     -999.0,9, -999.00,9, 20160305,      142, -42.4267,  95.0001,     -999.0,9,     -999.0,9,     -999.0,9,-999.0000,9,-999.0000,9,-999.0000,9,-999.0000,9,-999.0000,9,-999.0000,9,-999.0000,9,     -999.0,9,     -999.0,9,     -999.0,9,     -999.0,9,     -999.0,9
33RR20160208,       I08S,      56,          1,          4,          4,2,20160305,       0131,   -42.4267,    95.0001,       3327,  2598.0,   2.0415,  34.7519,2,  34.7518,2,    197.1,2,   196.7,2,    84.7,2,    0.00,2,   29.96,2,    0.00,2,    2.05,2,-999.000,9,-999.000,9,-999.000,9,-999.000000000,9,  -999.0,9, -999.00,9,-999.0000,9,  -999.00,   2.0416,    0.52,2,  -150.5,2,     1.8, -999.00,9,-999.000,9,    38.4,2, -999.00,9,     -999.0,9, -999.00,9, 20160305,      147, -42.4267,  95.0001,     -999.0,9,     -999.0,9,     -999.0,9,-999.0000,9,-999.0000,9,-999.0000,9,-999.0000,9,-999.0000,9,-999.0000,9,-999.0000,9,     -999.0,9,     -999.0,9,     -999.0,9,     -999.0,9,     -999.0,9
33RR20160208,       I08S,      56,          1,          5,          5,2,20160305,       0131,   -42.4267,    95.0001,       3327,  2399.3,   2.2252,  34.7470,2,  34.7469,2,    193.9,2,   194.5,2,    78.8,2,    0.00,2,   29.95,2,    0.00,2,    2.04,2,   0.133,2,   0.072,2,   0.006,2,             0,2,  -999.0,9, -999.00,9,-999.0000,9,  -999.00,   2.2257,    0.53,2,  -145.7,2,     1.9, -999.00,9,-999.000,9,    38.3,2, -999.00,9,     -999.0,9, -999.00,9, 20160305,      151, -42.4267,  95.0001,     -999.0,9,     -999.0,9,     -999.0,9,-999.0000,9,-999.0000,9,-999.0000,9,-999.0000,9,-999.0000,9,-999.0000,9,-999.0000,9,     -999.0,9,     -999.0,9,     -999.0,9,     -999.0,9,     -999.0,9
33RR20160208,       I08S,      56,          1,          6,         38,2,20160305,       0131,   -42.4267,    95.0001,       3327,  2199.7,   2.3962,  34.7263,2,  34.7267,2,    188.7,2,   188.9,2,    74.1,2,    0.00,2,   30.37,2,    0.00,2,    2.09,2,-999.000,9,-999.000,9,-999.000,9,-999.000000000,9,  2243.1,2, 2345.25,2,   7.6046,6,    25.00,   2.3966,    0.48,2,  -139.8,2,     1.9, -999.00,9,-999.000,9,    38.1,2, -999.00,9,     -999.0,9, -999.00,9, 20160305,      155, -42.4267,  95.0001,     -999.0,9,     -999.0,9,     -999.0,9,-999.0000,9,-999.0000,9,-999.0000,9,-999.0000,9,-999.0000,9,-999.0000,9,-999.0000,9,     -999.0,9,     -999.0,9,     -999.0,9,     -999.0,9,     -999.0,9
33RR20160208,       I08S,      56,          1,          7,          7,2,20160305,       0131,   -42.4267,    95.0001,       3327,  2001.3,   2.5326,  34.6846,2,  34.6857,2,    181.9,2,   183.2,2,    69.9,4,    0.00,4,   32.59,4,    0.00,4,    2.24,4,   0.267,2,   0.137,2,   0.013,2,             0,2,  -999.0,9, -999.00,9,-999.0000,9,  -999.00,   2.5328,    0.53,2,  -141.3,2,     1.7, -999.00,9,-999.000,9,    38.2,2, -999.00,9,     -999.0,9, -999.00,9, 20160305,      200, -42.4267,  95.0001,     -999.0,9,     -999.0,9,     -999.0,9,-999.0000,9,-999.0000,9,-999.0000,9,-999.0000,9,-999.0000,9,-999.0000,9,-999.0000,9,     -999.0,9,     -999.0,9,     -999.0,9,     -999.0,9,     -999.0,9
33RR20160208,       I08S,      56,          1,          8,          8,2,20160305,       0131,   -42.4267,    95.0001,       3327,  1801.1,   2.6798,  34.6251,2,  34.6250,2,    175.7,2,   176.0,2,    72.1,4,    0.00,4,   31.38,4,    0.00,4,    2.13,4,   0.374,2,   0.196,2,   0.018,2,    0.09131831,2,  2248.2,2, 2337.24,2,   7.5745,6,    24.99,   2.6798,    0.44,2,  -141.8,2,     1.8, -999.00,9,-999.000,9,    38.8,2, -999.00,9,     -999.0,9, -999.00,9, 20160305,      204, -42.4267,  95.0001,     -999.0,9,     -999.0,9,     -999.0,9,-999.0000,9,-999.0000,9,-999.0000,9,-999.0000,9,-999.0000,9,-999.0000,9,-999.0000,9,     -999.0,9,     -999.0,9,     -999.0,9,     -999.0,9,     -999.0,9
33RR20160208,       I08S,      56,          1,          9,          9,2,20160305,       0131,   -42.4267,    95.0001,       3327,  1699.0,   2.7808,  34.5778,2,  34.5774,2,    174.1,2,   174.7,2,    67.8,2,    0.00,2,   33.20,2,    0.00,2,    2.28,2,   0.502,2,   0.256,2,   0.020,2,   0.151182535,2,  2247.3,2, 2333.61,2,   7.5657,2,    25.01,   2.7807,    0.49,2,  -144.2,2,     1.9, -999.00,9,-999.000,9,    37.0,2, -999.00,9,     -999.0,9, -999.00,9, 20160305,      207, -42.4267,  95.0001,     -999.0,9,     -999.0,9,     -999.0,9,-999.0000,9,-999.0000,9,-999.0000,9,-999.0000,9,-999.0000,9,-999.0000,9,-999.0000,9,     -999.0,9,     -999.0,9,     -999.0,9,     -999.0,9,     -999.0,9
33RR20160208,       I08S,      56,          1,         10,         10,2,20160305,       0131,   -42.4267,    95.0001,       3327,  1599.0,   2.8011,  34.5219,2,  34.5242,2,    176.4,2,   176.6,2,    64.4,2,    0.00,2,   33.74,2,    0.00,2,    2.31,2,   0.821,2,   0.415,2,   0.044,2,    0.19684169,2,  2245.5,2, 2327.45,2,   7.5566,2,    25.01,   2.8016,    0.48,2,  -130.9,2,     2.3, -999.00,9,-999.000,9,    39.5,2, -999.00,9,     -999.0,9, -999.00,9, 20160305,      210, -42.4268,  95.0001,     -999.0,9,     -999.0,9,     -999.0,9,-999.0000,9,-999.0000,9,-999.0000,9,-999.0000,9,-999.0000,9,-999.0000,9,-999.0000,9,     -999.0,9,     -999.0,9,     -999.0,9,     -999.0,9,     -999.0,9
33RR20160208,       I08S,      56,          1,         11,         11,2,20160305,       0131,   -42.4267,    95.0001,       3327,  1499.5,   2.9918,  34.4780,2,  34.4776,2,    179.1,2,   178.8,2,    59.6,2,    0.00,2,   33.72,2,    0.00,2,    2.28,2,   1.024,2,   0.505,2,   0.059,2,   0.247574085,2,  -999.0,5, 2323.78,2,   7.5609,2,    24.99,   2.9927,    0.54,2,  -122.4,2,     1.8, -999.00,9,-999.000,9,    38.5,2, -999.00,9,     -999.0,9, -999.00,9, 20160305,      213, -42.4267,  95.0001,     -999.0,9,     -999.0,9,     -999.0,9,-999.0000,9,-999.0000,9,-999.0000,9,-999.0000,9,-999.0000,9,-999.0000,9,-999.0000,9,     -999.0,9,     -999.0,9,     -999.0,9,     -999.0,9,     -999.0,9
33RR20160208,       I08S,      56,          1,         12,         12,2,20160305,       0131,   -42.4267,    95.0001,       3327,  1400.0,   3.2381,  34.4433,2,  34.4431,2,    182.3,2,   182.3,2,    54.4,2,    0.00,2,   33.37,2,    0.00,2,    2.31,2,   1.161,2,   0.574,2,   0.067,2,   0.314540845,2,  1522.0,4, 2319.97,2,   7.5686,2,    24.98,   3.2330,    0.63,2,  -118.2,2,     1.9, -999.00,9,-999.000,9,    38.0,2, -999.00,9,     -999.0,9, -999.00,9, 20160305,      215, -42.4268,  95.0000,     -999.0,9,     -999.0,9,     -999.0,9,-999.0000,9,-999.0000,9,-999.0000,9,-999.0000,9,-999.0000,9,-999.0000,9,-999.0000,9,     -999.0,9,     -999.0,9,     -999.0,9,     -999.0,9,     -999.0,9
33RR20160208,       I08S,      56,          1,         13,         13,2,20160305,       0131,   -42.4267,    95.0001,       3327,  1299.8,   3.5221,  34.3955,2,  34.3953,2,    190.9,2,   190.0,2,    47.0,2,    0.00,2,   32.68,2,    0.00,2,    2.23,2,   1.524,2,   0.742,2,   0.089,2,   0.395712676,2,  2222.3,2, 2312.51,2,   7.5803,6,    24.98,   3.5228,    0.71,2,  -107.2,2,     2.3, -999.00,9,-999.000,9,    38.6,2, -999.00,9,     -999.0,9, -999.00,9, 20160305,      218, -42.4267,  95.0000,     -999.0,9,     -999.0,9,     -999.0,9,-999.0000,9,-999.0000,9,-999.0000,9,-999.0000,9,-999.0000,9,-999.0000,9,-999.0000,9,     -999.0,9,     -999.0,9,     -999.0,9,     -999.0,9,     -999.0,9
33RR20160208,       I08S,      56,          1,         14,         14,2,20160305,       0131,   -42.4267,    95.0001,       3327,  1200.6,   3.8009,  34.3327,2,  34.3330,2,    205.4,2,   204.9,2,    37.6,2,    0.00,2,   31.50,2,    0.00,2,    2.15,2,   2.219,2,   1.105,2,   0.142,2,       0.64836,2,  2209.0,6, 2304.43,2,   7.5962,2,    24.98,   3.7990,    0.80,2,   -80.4,2,     1.8, -999.00,9,-999.000,9,    40.2,2, -999.00,9,     -999.0,9, -999.00,9, 20160305,      221, -42.4268,  95.0000,     -999.0,9,     -999.0,9,     -999.0,9,-999.0000,9,-999.0000,9,-999.0000,9,-999.0000,9,-999.0000,9,-999.0000,9,-999.0000,9,     -999.0,9,     -999.0,9,     -999.0,9,     -999.0,9,     -999.0,9
33RR20160208,       I08S,      56,          1,         15,         15,2,20160305,       0131,   -42.4267,    95.0001,       3327,  1100.9,   4.3052,  34.3193,2,  34.3188,2,    211.6,2,   210.6,2,    30.5,2,    0.00,2,   30.22,2,    0.00,2,    2.04,2,   2.554,2,   1.289,2,   0.164,2,   0.680828732,2,  2196.4,2, 2298.30,2,   7.6122,2,    25.00,   4.3049,    0.82,2,   -69.8,2,     2.0, -999.00,9,-999.000,9,    38.5,2, -999.00,9,     -999.0,9, -999.00,9, 20160305,      224, -42.4268,  95.0001,     -999.0,9,     -999.0,9,     -999.0,9,-999.0000,9,-999.0000,9,-999.0000,9,-999.0000,9,-999.0000,9,-999.0000,9,-999.0000,9,     -999.0,9,     -999.0,9,     -999.0,9,     -999.0,9,     -999.0,9
33RR20160208,       I08S,      56,          1,         16,         16,2,20160305,       0131,   -42.4267,    95.0001,       3327,  1000.7,   5.0004,  34.3232,2,  34.3230,2,    216.9,2,   216.4,2,    23.3,2,    0.00,2,   28.54,2,    0.00,2,    1.93,2,   2.875,2,   1.477,2,   0.183,2,   0.858392113,2,  2185.9,2, 2292.42,2,   7.6316,2,    25.00,   5.0023,    0.88,2,   -45.9,2,     2.0, -999.00,9,-999.000,9,    39.6,2, -999.00,9,     -999.0,9, -999.00,9, 20160305,      226, -42.4268,  95.0002,     -999.0,9,     -999.0,9,     -999.0,9,-999.0000,9,-999.0000,9,-999.0000,9,-999.0000,9,-999.0000,9,-999.0000,9,-999.0000,9,     -999.0,9,     -999.0,9,     -999.0,9,     -999.0,9,     -999.0,9
33RR20160208,       I08S,      56,          1,         17,         17,2,20160305,       0131,   -42.4267,    95.0001,       3327,   899.5,   6.0130,  34.3827,2,  34.3825,2,    212.5,2,   210.4,2,    19.4,2,    0.00,2,   26.72,2,    0.00,2,    1.79,2,   2.885,2,   1.482,2,   0.155,2,   0.833025915,2,  -999.0,9, -999.00,9,-999.0000,9,  -999.00,   6.0128,    0.92,2,   -29.3,2,     2.3, -999.00,9,-999.000,9,    40.2,2, -999.00,9,     -999.0,9, -999.00,9, 20160305,      231, -42.4267,  95.0003,     -999.0,9,     -999.0,9,     -999.0,9,-999.0000,9,-999.0000,9,-999.0000,9,-999.0000,9,-999.0000,9,-999.0000,9,-999.0000,9,     -999.0,9,     -999.0,9,     -999.0,9,     -999.0,9,     -999.0,9
33RR20160208,       I08S,      56,          1,         18,         37,2,20160305,       0131,   -42.4267,    95.0001,       3327,   799.6,   7.4512,  34.4997,2,  34.4992,2,    209.3,2,   208.3,2,    13.9,2,    0.00,2,   23.47,2,    0.00,2,    1.57,2,   2.910,2,   1.520,2,   0.122,2,   0.921300282,2,  -999.0,5, 2291.17,2,   7.6845,2,    25.00,   7.4528,    0.92,2,    -4.0,2,     2.2, -999.00,9,-999.000,9,    42.2,2, -999.00,9,     -999.0,9, -999.00,9, 20160305,      235, -42.4267,  95.0001,     -999.0,9,     -999.0,9,     -999.0,9,-999.0000,9,-999.0000,9,-999.0000,9,-999.0000,9,-999.0000,9,-999.0000,9,-999.0000,9,     -999.0,9,     -999.0,9,     -999.0,9,     -999.0,9,     -999.0,9
33RR20160208,       I08S,      56,          1,         19,         19,2,20160305,       0131,   -42.4267,    95.0001,       3327,   699.9,   8.5890,  34.5981,2,  34.5978,2,    217.2,2,   217.7,2,     9.2,2,    0.00,2,   20.00,2,    0.00,2,    1.32,2,   3.151,2,   1.702,2,   0.127,2,    1.13944958,2,  -999.0,9, -999.00,9,-999.0000,9,  -999.00,   8.5910,    1.01,2,    13.1,2,     2.1, -999.00,9,-999.000,9,    42.4,2, -999.00,9,     -999.0,9, -999.00,9, 20160305,      239, -42.4267,  95.0002,     -999.0,9,     -999.0,9,     -999.0,9,-999.0000,9,-999.0000,9,-999.0000,9,-999.0000,9,-999.0000,9,-999.0000,9,-999.0000,9,     -999.0,9,     -999.0,9,     -999.0,9,     -999.0,9,     -999.0,9
33RR20160208,       I08S,      56,          1,         20,         20,2,20160305,       0131,   -42.4267,    95.0001,       3327,   599.4,   9.4426,  34.6855,2,  34.6845,2,    232.8,2,   235.0,2,     5.7,2,    0.00,2,   16.39,2,    0.00,2,    1.10,2,   3.201,2,   1.778,2,   0.138,2,    1.32107155,2,  2138.1,2, 2295.17,2,   7.7630,2,    25.00,   9.4423,    1.03,2,    29.5,2,     2.6, -999.00,9,-999.000,9,    44.4,2, -999.00,9,     -999.0,9, -999.00,9, 20160305,      244, -42.4267,  95.0002,     -999.0,9,     -999.0,9,     -999.0,9,-999.0000,9,-999.0000,9,-999.0000,9,-999.0000,9,-999.0000,9,-999.0000,9,-999.0000,9,     -999.0,9,     -999.0,9,     -999.0,9,     -999.0,9,     -999.0,9
33RR20160208,       I08S,      56,          1,         21,         21,2,20160305,       0131,   -42.4267,    95.0001,       3327,   499.7,  10.1564,  34.7842,2,  34.7805,2,    238.8,2,   237.4,2,     4.8,2,    0.00,2,   14.48,2,    0.00,2,    0.99,2,   3.196,2,   1.803,2,   0.141,2,    1.53922084,2,  -999.0,9, -999.00,9,-999.0000,9,     9.00,  10.1560,    1.01,2,    29.6,2,     2.0, -999.00,9,-999.000,9,    43.7,2, -999.00,9,     -999.0,9, -999.00,9, 20160305,      248, -42.4268,  95.0002,     -999.0,9,     -999.0,9,     -999.0,9,-999.0000,9,-999.0000,9,-999.0000,9,-999.0000,9,-999.0000,9,-999.0000,9,-999.0000,9,     -999.0,9,     -999.0,9,     -999.0,9,     -999.0,9,     -999.0,9
33RR20160208,       I08S,      56,          1,         22,         22,2,20160305,       0131,   -42.4267,    95.0001,       3327,   451.4,  10.4850,  34.8341,2,  34.8319,2,    244.5,2,   242.4,2,     4.2,2,    0.00,2,   13.16,2,    0.01,2,    0.90,2,-999.000,9,-999.000,9,-999.000,9,-999.000000000,9,  2127.3,2, 2301.21,2,   7.8000,2,    24.98,  10.4831,    1.00,2,    29.3,2,     3.0, -999.00,9,-999.000,9,    45.6,2, -999.00,9,     -999.0,9, -999.00,9, 20160305,      250, -42.4267,  95.0001,     -999.0,9,     -999.0,9,     -999.0,9,-999.0000,9,-999.0000,9,-999.0000,9,-999.0000,9,-999.0000,9,-999.0000,9,-999.0000,9,     -999.0,9,     -999.0,9,     -999.0,9,     -999.0,9,     -999.0,9
33RR20160208,       I08S,      56,          1,         23,         23,2,20160305,       0131,   -42.4267,    95.0001,       3327,   399.6,  10.7401,  34.8737,2,  34.8712,2,    251.5,2,   246.1,2,     3.7,2,    0.00,2,   12.14,2,    0.00,2,    0.84,2,   3.146,2,   1.798,2,   0.165,2,    1.72287211,2,  -999.0,9, -999.00,9,-999.0000,9,  -999.00,  10.7398,    0.97,2,    24.7,2,     2.0, -999.00,9,-999.000,9,    45.6,2, -999.00,9,     -999.0,9, -999.00,9, 20160305,      253, -42.4267,  95.0002,     -999.0,9,     -999.0,9,     -999.0,9,-999.0000,9,-999.0000,9,-999.0000,9,-999.0000,9,-999.0000,9,-999.0000,9,-999.0000,9,     -999.0,9,     -999.0,9,     -999.0,9,     -999.0,9,     -999.0,9
33RR20160208,       I08S,      56,          1,         24,         24,2,20160305,       0131,   -42.4267,    95.0001,       3327,   349.2,  10.9035,  34.8945,2,  34.8928,2,    248.6,2,   249.4,2,     3.5,2,    0.00,2,   11.39,2,    0.00,2,    0.78,2,-999.000,9,-999.000,9,-999.000,9,-999.000000000,9,  2121.6,2, 2303.42,2,   7.8187,2,    24.98,  10.9041,    0.92,2,    25.8,2,     2.1, -999.00,9,-999.000,9,    46.6,2, -999.00,9,     -999.0,9, -999.00,9, 20160305,      256, -42.4267,  95.0002,     -999.0,9,     -999.0,9,     -999.0,9,-999.0000,9,-999.0000,9,-999.0000,9,-999.0000,9,-999.0000,9,-999.0000,9,-999.0000,9,     -999.0,9,     -999.0,9,     -999.0,9,     -999.0,9,     -999.0,9
33RR20160208,       I08S,      56,          1,         25,         25,2,20160305,       0131,   -42.4267,    95.0001,       3327,   299.2,  10.9597,  34.8928,2,  34.8914,2,    255.7,2,   254.6,2,     2.6,2,    0.00,2,   10.32,2,    0.00,2,    0.74,2,   3.031,2,   1.740,2,   0.214,2,     1.8030293,2,  -999.0,9, -999.00,9,-999.0000,9,  -999.00,  10.9571,    0.98,2,    29.5,2,     2.1, -999.00,9,-999.000,9,    45.6,2,   12.50,2,     -999.0,9, -999.00,9, 20160305,      259, -42.4267,  95.0002,     -999.0,9,     -999.0,9,     -999.0,9,-999.0000,9,-999.0000,9,-999.0000,9,-999.0000,9,-999.0000,9,-999.0000,9,-999.0000,9,     -999.0,9,     -999.0,9,     -999.0,9,     -999.0,9,     -999.0,9
33RR20160208,       I08S,      56,          1,         26,         26,2,20160305,       0131,   -42.4267,    95.0001,       3327,   250.4,  11.1503,  34.9180,2,  34.9172,2,    252.7,2,   253.6,2,     2.9,2,    0.00,2,   10.41,2,    0.00,2,    0.73,2,-999.000,9,-999.000,9,-999.000,9,-999.000000000,9,  2116.8,2, 2304.86,6,   7.8305,6,    25.00,  11.1500,    0.96,2,    25.7,2,     2.6, -999.00,9,-999.000,9,    45.4,2,   13.20,2,     -999.0,9, -999.00,9, 20160305,      301, -42.4267,  95.0002,     -999.0,9,     -999.0,9,     -999.0,9,-999.0000,9,-999.0000,9,-999.0000,9,-999.0000,9,-999.0000,9,-999.0000,9,-999.0000,9,     -999.0,9,     -999.0,9,     -999.0,9,     -999.0,9,     -999.0,9
33RR20160208,       I08S,      56,          1,         27,         27,2,20160305,       0131,   -42.4267,    95.0001,       3327,   201.2,  11.2383,  34.9262,2,  34.9252,2,    253.6,2,   254.8,2,     3.0,2,    0.00,2,   10.13,2,    0.00,2,    0.70,2,   3.033,2,   1.762,2,   0.214,2,    1.80201465,2,  -999.0,9, -999.00,9,-999.0000,9,     9.00,  11.2379,    0.93,2,    29.2,2,     2.4, -999.00,9,-999.000,9,    47.2,2,   12.90,2,     -999.0,9, -999.00,9, 20160305,      304, -42.4268,  95.0002,     -999.0,9,     -999.0,9,     -999.0,9,-999.0000,9,-999.0000,9,-999.0000,9,-999.0000,9,-999.0000,9,-999.0000,9,-999.0000,9,     -999.0,9,     -999.0,9,     -999.0,9,     -999.0,9,     -999.0,9