BOTTLE,20220706CCHSIOAMB
EXPOCODE,SECT_ID,STNNBR,CASTNO,SAMPNO,BTLNBR,BTLNBR_FLAG_W,DATE,TIME,LATITUDE,LONGITUDE,DEPTH,CTDPRS,CTDTMP,CTDSAL,CTDSAL_FLAG_W,SALNTY,SALNTY_FLAG_W,CTDOXY,CTDOXY_FLAG_W,OXYGEN,OXYGEN_FLAG_W,SILCAT,SILCAT_FLAG_W,NH4,NH4_FLAG_W,NITRAT,NITRAT_FLAG_W,NITRIT,NITRIT_FLAG_W,PHSPHT,PHSPHT_FLAG_W,CFC-11,CFC-11_FLAG_W,CFC-12,CFC-12_FLAG_W,CFC113,CFC113_FLAG_W,SF6,SF6_FLAG_W,TCARBN,TCARBN_FLAG_W,ALKALI,ALKALI_FLAG_W,PH_TOT,PH_TOT_FLAG_W,PH_TMP,REFTMP,DELC13,DELC13_FLAG_W,DELC14,DELC14_FLAG_W,C14ERR,DELO18,DELO18_FLAG_W,POC,POC_FLAG_W,DOC,DOC_FLAG_W,TDN,TDN_FLAG_W,TON,TON_FLAG_W,D15N_NO3,D15N_NO3_FLAG_W,BTL_DATE,BTL_TIME,BTL_LAT,BTL_LON,14C-DOC,14C-DOC_FLAG_W,CHLORA,CHLORA_FLAG_W,HPLC,HPLC_FLAG_W,CDOM325,CDOM325_FLAG_W,CDOM340,CDOM340_FLAG_W,CDOM380,CDOM380_FLAG_W,CDOM412,CDOM412_FLAG_W,CDOM443,CDOM443_FLAG_W,CDOM490,CDOM490_FLAG_W,CDOM555,CDOM555_FLAG_W,CDOMSL,CDOMSL_FLAG_W,CDOMSN,CDOMSN_FLAG_W,D18O_NO3,D18O_NO3_FLAG_W,D15N_NO2+NO3,D15N_NO2+NO3_FLAG_W,D18O_NO2+NO3,D18O_NO2+NO3_FLAG_W
,,,,,,,,,,,METERS,DBAR,ITS-90,PSS-78,,PSS-78,,UMOL/KG,,UMOL/KG,,UMOL/KG,,UMOL/KG,,UMOL/KG,,UMOL/KG,,UMOL/KG,,PMOL/KG,,PMOL/KG,,PMOL/KG,,FMOL/KG,,UMOL/KG,,UMOL/KG,,,,DEG C,DEG C,/MILLE,,/MILLE,,/MILLE,/MILLE,,UG/KG,,UMOL/KG,,UMOL/KG,,UMOL/KG,,/MILLE,,,,,,/MILLE,,MG/M3,,,,1/M,,1/M,,1/M,,1/M,,1/M,,1/M,,1/M,,1/NM,,1/NM,,/MILLE,,/MILLE,,/MILLE,
33RR20160208,       I08S,      28,          1,          1,          1,2,20160225,       1411,   -56.4840,    83.7702,       4777,  4822.6,   0.0976,  34.6631,2,  34.6636,2,    231.0,2,   231.6,2,   131.6,2,    0.01,2,   32.45,2,    0.01,2,    2.24,2,   1.441,2,   0.653,2,   0.092,2,   0.300988045,2,  2258.0,6, 2354.35,2,   7.5916,2,    25.00,   0.0974, -999.00,9,  -999.0,9,  -999.0, -999.00,9,-999.000,9,    40.5,2, -999.00,9,     -999.0,1,    4.81,2, 20160225,     1411, -56.4841,  83.7702,     -999.0,9,     -999.0,9,     -999.0,9,-999.0000,9,-999.0000,9,-999.0000,9,-999.0000,9,-999.0000,9,-999.0000,9,-999.0000,9,     -999.0,9,     -999.0,9,       2.14,2,        4.8,2,       2.07,2
33RR20160208,       I08S,      28,          1,          2,          2,2,20160225,       1411,   -56.4840,    83.7702,       4777,  4438.4,   0.1164,  34.6667,2,  34.6662,2,    229.5,2,   229.8,2,   127.5,2,    0.00,2,   32.45,2,    0.00,2,    2.25,2,   1.158,2,   0.563,2,   0.078,2,   0.264627073,2,  2254.7,2, 2354.39,2,   7.5928,2,    24.99,   0.1164, -999.00,9,  -999.0,9,  -999.0, -999.00,9,-999.000,9,    38.9,2, -999.00,9,     -999.0,1,     4.8,2, 20160225,     1421, -56.4840,  83.7702,     -999.0,9,     -999.0,9,     -999.0,9,-999.0000,9,-999.0000,9,-999.0000,9,-999.0000,9,-999.0000,9,-999.0000,9,-999.0000,9,     -999.0,9,     -999.0,9,       1.99,2,        4.8,2,       1.99,2
33RR20160208,       I08S,      28,          1,          3,          3,2,20160225,       1411,   -56.4840,    83.7702,       4777,  4102.8,   0.1474,  34.6700,2,  34.6693,2,    227.9,2,   227.7,2,   127.9,2,    0.00,2,   32.55,2,    0.00,2,    2.25,2,   0.989,2,   0.492,2,   0.065,2,   0.247456614,2,  2254.9,2, 2356.32,2,   7.5926,2,    24.99,   0.1477, -999.00,9,  -999.0,9,  -999.0, -999.00,9,-999.000,9,    38.5,2, -999.00,9,     -999.0,1,    4.77,2, 20160225,     1429, -56.4840,  83.7704,     -999.0,9,     -999.0,9,     -999.0,9,-999.0000,9,-999.0000,9,-999.0000,9,-999.0000,9,-999.0000,9,-999.0000,9,-999.0000,9,     -999.0,9,     -999.0,9,       2.09,2,       4.77,2,       2.09,2
33RR20160208,       I08S,      28,          1,          4,          4,2,20160225,       1411,   -56.4840,    83.7702,       4777,  3802.4,   0.1916,  34.6736,2,  34.6731,2,    225.9,2,   225.6,2,   127.8,2,    0.00,2,   32.55,2,    0.00,2,    2.27,2,   0.882,2,   0.439,2,   0.053,2,   0.188875048,2,  2255.9,2, 2356.07,6,   7.5934,2,    24.98,   0.1916, -999.00,9,  -999.0,9,  -999.0, -999.00,9,-999.000,9,    39.3,2, -999.00,9,     -999.0,1,    4.77,2, 20160225,     1436, -56.4841,  83.7701,     -999.0,9,     -999.0,9,     -999.0,9,-999.0000,9,-999.0000,9,-999.0000,9,-999.0000,9,-999.0000,9,-999.0000,9,-999.0000,9,     -999.0,9,     -999.0,9,       2.04,2,       4.77,2,       2.04,2
33RR20160208,       I08S,      28,          1,          5,          5,2,20160225,       1411,   -56.4840,    83.7702,       4777,  3506.0,   0.2512,  34.6768,2,  34.6768,2,    223.0,2,   223.2,2,   126.7,2,    0.00,2,   32.58,2,    0.00,2,    2.28,2,   0.688,2,   0.347,2,   0.040,2,    0.17473467,2,  2255.7,2, 2356.96,2,   7.5926,2,    24.99,   0.2517, -999.00,9,  -999.0,9,  -999.0, -999.00,9,-999.000,9,    39.2,2, -999.00,9,     -999.0,1,    4.75,2, 20160225,     1442, -56.4841,  83.7715,     -999.0,9,     -999.0,9,     -999.0,9,-999.0000,9,-999.0000,9,-999.0000,9,-999.0000,9,-999.0000,9,-999.0000,9,-999.0000,9,     -999.0,9,     -999.0,9,       2.06,2,       4.75,2,       2.06,2
33RR20160208,       I08S,      28,          1,          6,         38,2,20160225,       1411,   -56.4840,    83.7702,       4777,  3208.5,   0.3493,  34.6822,2,  34.6821,2,    219.3,2,   219.2,2,   125.5,2,    0.00,2,   32.46,2,    0.00,2,    2.25,2,   0.553,2,   0.282,2,   0.028,2,   0.195945237,2,  2256.8,2, 2357.94,2,   7.5931,2,    24.98,   0.3493, -999.00,9,  -999.0,9,  -999.0, -999.00,9,-999.000,9,    39.2,2, -999.00,9,     -999.0,1,    4.74,2, 20160225,     1449, -56.4840,  83.7709,     -999.0,9,     -999.0,9,     -999.0,9,-999.0000,9,-999.0000,9,-999.0000,9,-999.0000,9,-999.0000,9,-999.0000,9,-999.0000,9,     -999.0,9,     -999.0,9,       2.06,2,       4.74,2,       2.06,2
33RR20160208,       I08S,      28,          1,          7,          7,2,20160225,       1411,   -56.4840,    83.7702,       4777,  2912.5,   0.4723,  34.6885,2,  34.6880,2,    215.1,2,   215.6,2,   123.2,2,    0.00,2,   32.38,2,    0.00,2,    2.25,2,   0.433,2,   0.223,2,   0.017,2,   0.112112997,2,  2257.4,2, 2357.45,2,   7.5932,2,    24.98,   0.4722, -999.00,9,  -999.0,9,  -999.0, -999.00,9,-999.000,9,    39.0,2, -999.00,9,     -999.0,1,    4.75,2, 20160225,     1456, -56.4840,  83.7705,     -999.0,9,     -999.0,9,     -999.0,9,-999.0000,9,-999.0000,9,-999.0000,9,-999.0000,9,-999.0000,9,-999.0000,9,-999.0000,9,     -999.0,9,     -999.0,9,       2.06,2,       4.75,2,       2.06,2
33RR20160208,       I08S,      28,          1,          8,          8,2,20160225,       1411,   -56.4840,    83.7702,       4777,  2664.4,   0.6043,  34.6955,2,  34.6944,2,    212.4,2,   212.3,2,   120.4,2,    0.00,2,   32.36,2,    0.00,2,    2.25,2,   0.372,2,   0.189,2,   0.013,2,   0.094942538,2,  2259.2,2, 2357.90,2,   7.5949,2,    24.98,   0.6039, -999.00,9,  -999.0,9,  -999.0, -999.00,9,-999.000,9,    38.2,2, -999.00,9,     -999.0,1,    4.77,2, 20160225,     1501, -56.4840,  83.7705,     -999.0,9,     -999.0,9,     -999.0,9,-999.0000,9,-999.0000,9,-999.0000,9,-999.0000,9,-999.0000,9,-999.0000,9,-999.0000,9,     -999.0,9,     -999.0,9,       2.13,2,       4.77,2,       2.13,2
33RR20160208,       I08S,      28,          1,          9,          9,2,20160225,       1411,   -56.4840,    83.7702,       4777,  2414.1,   0.7842,  34.7055,2,  34.7048,2,    209.6,2,   209.9,2,   115.6,2,    0.00,2,   32.06,2,    0.00,2,    2.22,2,   0.326,2,   0.166,2,   0.009,2,   0.061611647,2,  2256.9,2, 2358.06,2,   7.5975,2,    24.99,   0.7843, -999.00,9,  -999.0,9,  -999.0, -999.00,9,-999.000,9,    39.0,2, -999.00,9,     -999.0,1,    4.81,2, 20160225,     1507, -56.4841,  83.7704,     -999.0,9,     -999.0,9,     -999.0,9,-999.0000,9,-999.0000,9,-999.0000,9,-999.0000,9,-999.0000,9,-999.0000,9,-999.0000,9,     -999.0,9,     -999.0,9,       2.12,2,       4.81,2,       2.12,2
33RR20160208,       I08S,      28,          1,         10,         10,2,20160225,       1411,   -56.4840,    83.7702,       4777,  2166.7,   0.9433,  34.7146,2,  34.7137,2,    208.2,2,   208.7,2,   111.4,2,    0.00,2,   31.64,2,    0.00,2,    2.20,2,   0.288,2,   0.151,2,   0.008,2,   0.075752025,2,  2255.6,2, 2357.59,2,   7.6015,2,    24.99,   0.9434, -999.00,9,  -999.0,9,  -999.0, -999.00,9,-999.000,9,    38.6,2, -999.00,9,     -999.0,1,    4.77,2, 20160225,     1512, -56.4840,  83.7704,     -999.0,9,     -999.0,9,     -999.0,9,-999.0000,9,-999.0000,9,-999.0000,9,-999.0000,9,-999.0000,9,-999.0000,9,-999.0000,9,     -999.0,9,     -999.0,9,       2.04,2,       4.77,2,       2.04,2
33RR20160208,       I08S,      28,          1,         11,         11,2,20160225,       1411,   -56.4840,    83.7702,       4777,  1935.3,   1.1083,  34.7236,2,  34.7241,2,    206.2,2,   206.0,2,   106.4,2,    0.00,2,   31.29,2,    0.00,2,    2.19,2,   0.270,2,   0.141,2,   0.008,2,   0.103022754,2,  2253.2,2, 2357.48,2,   7.6048,2,    25.00,   1.1084, -999.00,9,  -999.0,9,  -999.0, -999.00,9,-999.000,9,    39.0,2, -999.00,9,     -999.0,1,    4.78,2, 20160225,     1519, -56.4841,  83.7704,     -999.0,9,     -999.0,9,     -999.0,9,-999.0000,9,-999.0000,9,-999.0000,9,-999.0000,9,-999.0000,9,-999.0000,9,-999.0000,9,     -999.0,9,     -999.0,9,       2.01,2,       4.78,2,       2.01,2
33RR20160208,       I08S,      28,          1,         12,         12,2,20160225,       1411,   -56.4840,    83.7702,       4777,  1736.0,   1.2711,  34.7307,2,  34.7313,2,    205.2,2,   204.3,2,   101.5,2,    0.00,2,   31.01,2,    0.00,2,    2.16,2,   0.268,6,   0.144,6,   0.009,6,     0.0823172,6,  2252.2,2, 2355.41,2,   7.6067,2,    24.99,   1.2711, -999.00,9,  -999.0,9,  -999.0, -999.00,9,-999.000,9,    39.0,2, -999.00,9,     -999.0,1,    4.84,2, 20160225,     1524, -56.4840,  83.7705,     -999.0,9,     -999.0,9,     -999.0,9,-999.0000,9,-999.0000,9,-999.0000,9,-999.0000,9,-999.0000,9,-999.0000,9,-999.0000,9,     -999.0,9,     -999.0,9,       2.02,2,       4.84,2,       2.02,2
33RR20160208,       I08S,      28,          1,         13,         13,2,20160225,       1411,   -56.4840,    83.7702,       4777,  1564.8,   1.4237,  34.7385,2,  34.7390,2,    202.5,2,   202.4,2,    97.1,2,    0.00,2,   30.72,2,    0.00,2,    2.13,2,   0.236,2,   0.127,2,   0.007,2,   0.064641728,2,  2250.8,2, 2353.69,2,   7.6091,6,    24.98,   1.4236, -999.00,9,  -999.0,9,  -999.0, -999.00,9,-999.000,9,    39.4,2, -999.00,9,     -999.0,1,     4.8,2, 20160225,     1528, -56.4840,  83.7704,     -999.0,9,     -999.0,9,     -999.0,9,-999.0000,9,-999.0000,9,-999.0000,9,-999.0000,9,-999.0000,9,-999.0000,9,-999.0000,9,     -999.0,9,     -999.0,9,       2.09,2,        4.8,2,       2.09,2
33RR20160208,       I08S,      28,          1,         14,         14,2,20160225,       1411,   -56.4840,    83.7702,       4777,  1467.0,   1.5107,  34.7407,2,  34.7405,2,    201.1,2,   200.9,2,    94.4,2,    0.00,2,   30.69,2,    0.00,2,    2.12,2,   0.241,2,   0.130,2,   0.008,2,   0.085852295,2,  2248.7,2, 2353.78,2,   7.6085,2,    25.00,   1.5108, -999.00,9,  -999.0,9,  -999.0, -999.00,9,-999.000,9,    38.0,2, -999.00,9,     -999.0,1,    4.81,2, 20160225,     1531, -56.4840,  83.7704,     -999.0,9,     -999.0,9,     -999.0,9,-999.0000,9,-999.0000,9,-999.0000,9,-999.0000,9,-999.0000,9,-999.0000,9,-999.0000,9,     -999.0,9,     -999.0,9,       2.03,2,       4.81,2,       2.03,2
33RR20160208,       I08S,      28,          1,         15,         15,2,20160225,       1411,   -56.4840,    83.7702,       4777,  1364.6,   1.5991,  34.7404,2,  34.7407,2,    199.5,2,   199.2,2,    91.3,2,    0.08,2,   30.50,2,    0.01,2,    2.15,2,   0.273,2,   0.144,2,   0.010,2,   0.064641728,2,  2249.5,2, 2351.49,2,   7.6061,2,    24.99,   1.5995,    0.48,6,  -153.3,6,     1.3, -999.00,9,-999.000,9,    38.7,2, -999.00,9,     -999.0,1,    4.88,2, 20160225,     1534, -56.4840,  83.7704,     -999.0,9,     -999.0,9,     -999.0,9,-999.0000,9,-999.0000,9,-999.0000,9,-999.0000,9,-999.0000,9,-999.0000,9,-999.0000,9,     -999.0,9,     -999.0,9,       1.97,2,       4.79,2,       1.96,2
33RR20160208,       I08S,      28,          1,         16,         16,2,20160225,       1411,   -56.4840,    83.7702,       4777,  1265.2,   1.6741,  34.7397,2,  34.7394,2,    197.7,2,   197.7,2,    89.2,2,    0.00,2,   30.51,2,    0.01,2,    2.16,2,   0.282,2,   0.150,2,   0.012,2,   0.082822214,2,  2248.9,2, 2351.77,2,   7.6037,6,    24.99,   1.6742, -999.00,9,  -999.0,9,  -999.0, -999.00,9,-999.000,9,    39.9,2, -999.00,9,     -999.0,1,    4.86,2, 20160225,     1537, -56.4840,  83.7704,     -999.0,9,     -999.0,9,     -999.0,9,-999.0000,9,-999.0000,9,-999.0000,9,-999.0000,9,-999.0000,9,-999.0000,9,-999.0000,9,     -999.0,9,     -999.0,9,       1.94,2,       4.83,2,       2.01,2
33RR20160208,       I08S,      28,          1,         17,         17,2,20160225,       1411,   -56.4840,    83.7702,       4777,  1165.3,   1.7504,  34.7392,2,  34.7400,2,    195.5,2,   196.5,2,    87.7,2,    0.01,2,   30.57,2,    0.01,2,    2.16,2,   0.277,2,   0.149,2,   0.011,2,   0.126253374,2,  2249.1,2, 2349.20,2,   7.6030,2,    24.98,   1.7503, -999.00,9,  -999.0,9,  -999.0, -999.00,9,-999.000,9,    39.7,2, -999.00,9,     -999.0,1,    4.88,2, 20160225,     1540, -56.4840,  83.7704,     -999.0,9,     -999.0,9,     -999.0,9,-999.0000,9,-999.0000,9,-999.0000,9,-999.0000,9,-999.0000,9,-999.0000,9,-999.0000,9,     -999.0,9,     -999.0,9,       2.01,2,       4.86,2,       2.01,2
33RR20160208,       I08S,      28,          1,         18,         37,2,20160225,       1411,   -56.4840,    83.7702,       4777,  1064.6,   1.8219,  34.7357,2,  34.7364,2,    193.4,2,   193.9,2,    85.9,2,    0.00,2,   30.69,2,    0.01,2,    2.11,3,   0.288,2,   0.157,2,   0.013,2,   0.120193212,2,  2248.2,6, 2348.74,2,   7.5993,2,    24.99,   1.8221, -999.00,9,  -999.0,9,  -999.0, -999.00,9,-999.000,9,    40.7,2, -999.00,9,     -999.0,1,    4.86,2, 20160225,     1543, -56.4840,  83.7704,     -999.0,9,     -999.0,9,     -999.0,9,-999.0000,9,-999.0000,9,-999.0000,9,-999.0000,9,-999.0000,9,-999.0000,9,-999.0000,9,     -999.0,9,     -999.0,9,       1.93,2,       4.84,2,       1.93,2
33RR20160208,       I08S,      28,          1,         19,         19,2,20160225,       1411,   -56.4840,    83.7702,       4777,   965.0,   1.8677,  34.7241,2,  34.7244,2,    190.3,2,   190.5,2,    84.3,2,    0.00,2,   31.13,2,    0.01,2,    2.18,2,   0.345,2,   0.187,2,   0.018,2,   0.120193212,2,  2250.1,2, 2346.31,2,   7.5898,2,    25.01,   1.8676, -999.00,9,  -999.0,9,  -999.0, -999.00,9,-999.000,9,    39.0,2, -999.00,9,     -999.0,1,    4.88,2, 20160225,     1546, -56.4840,  83.7705,     -999.0,9,     -999.0,9,     -999.0,9,-999.0000,9,-999.0000,9,-999.0000,9,-999.0000,9,-999.0000,9,-999.0000,9,-999.0000,9,     -999.0,9,     -999.0,9,       2.07,2,       4.87,2,       2.05,2
33RR20160208,       I08S,      28,          1,         20,         20,2,20160225,       1411,   -56.4840,    83.7702,       4777,   866.4,   1.9089,  34.7069,2,  34.7072,2,    185.9,2,   186.0,2,    83.5,2,    0.00,2,   31.70,2,    0.01,2,    2.19,2,   0.415,2,   0.227,2,   0.026,2,   0.106052835,2,  2251.1,2, 2344.70,2,   7.5800,6,    24.99,   1.9088, -999.00,9,  -999.0,9,  -999.0, -999.00,9,-999.000,9,    39.0,2, -999.00,9,     -999.0,1,    4.84,2, 20160225,     1549, -56.4840,  83.7704,     -999.0,9,     -999.0,9,     -999.0,9,-999.0000,9,-999.0000,9,-999.0000,9,-999.0000,9,-999.0000,9,-999.0000,9,-999.0000,9,     -999.0,9,     -999.0,9,       1.92,2,       4.75,2,       1.82,2
33RR20160208,       I08S,      28,          1,         21,         21,2,20160225,       1411,   -56.4840,    83.7702,       4777,   764.6,   2.0661,  34.7039,2,  34.7048,2,    185.1,2,   185.6,2,    80.0,2,    0.00,2,   31.62,2,    0.01,2,    2.19,2,   0.365,2,   0.198,2,   0.019,2,   0.149483995,2,  2249.3,2, 2344.54,2,   7.5830,2,    24.98,   2.0666, -999.00,9,  -999.0,9,  -999.0, -999.00,9,-999.000,9,    39.4,2, -999.00,9,     -999.0,1,    4.86,2, 20160225,     1552, -56.4840,  83.7705,     -999.0,9,     -999.0,9,     -999.0,9,-999.0000,9,-999.0000,9,-999.0000,9,-999.0000,9,-999.0000,9,-999.0000,9,-999.0000,9,     -999.0,9,     -999.0,9,       1.93,2,       4.88,2,        1.9,2
33RR20160208,       I08S,      28,          1,         22,         22,2,20160225,       1411,   -56.4840,    83.7702,       4777,   665.6,   2.1319,  34.6851,2,  34.6854,2,    182.0,2,   182.6,2,    78.1,2,    0.00,2,   31.99,2,    0.01,2,    2.22,2,   0.420,2,   0.223,2,   0.023,2,   0.175744697,2,  2247.6,2, 2341.43,2,   7.5760,2,    24.99,   2.1318, -999.00,9,  -999.0,9,  -999.0, -999.00,9,-999.000,9,    39.5,2, -999.00,9,     -999.0,1,    4.96,2, 20160225,     1555, -56.4840,  83.7705,     -999.0,9,     -999.0,9,     -999.0,9,-999.0000,9,-999.0000,9,-999.0000,9,-999.0000,9,-999.0000,9,-999.0000,9,-999.0000,9,     -999.0,9,     -999.0,9,       2.08,2,       4.92,2,       1.99,2
33RR20160208,       I08S,      28,          1,         23,         23,2,20160225,       1411,   -56.4840,    83.7702,       4777,   565.1,   2.1372,  34.6489,2,  34.6493,2,    180.8,2,   181.2,2,    77.2,2,    0.00,2,   32.71,2,    0.01,2,    2.28,2,   0.571,2,   0.306,2,   0.039,2,   0.170694562,2,  2249.3,2, 2338.13,2,   7.5634,2,    25.01,   2.1371, -999.00,9,  -999.0,9,  -999.0, -999.00,9,-999.000,9,    38.9,2, -999.00,9,     -999.0,1,    4.94,2, 20160225,     1558, -56.4840,  83.7705,     -999.0,9,     -999.0,9,     -999.0,9,-999.0000,9,-999.0000,9,-999.0000,9,-999.0000,9,-999.0000,9,-999.0000,9,-999.0000,9,     -999.0,9,     -999.0,9,       2.02,2,       4.89,2,       1.98,2
33RR20160208,       I08S,      28,          1,         24,         24,2,20160225,       1411,   -56.4840,    83.7702,       4777,   485.1,   2.0577,  34.6153,2,  34.6140,2,    186.7,2,   182.0,2,    76.0,2,    0.00,2,   33.19,2,    0.01,2,    2.31,2,   0.759,2,   0.397,2,   0.056,2,   0.196955264,2,  2251.7,2, 2335.52,2,   7.5572,6,    25.00,   2.0578, -999.00,9,  -999.0,9,  -999.0, -999.00,9,-999.000,9,    39.8,2, -999.00,9,     -999.0,1,    4.93,2, 20160225,     1600, -56.4840,  83.7705,     -999.0,9,     -999.0,9,     -999.0,9,-999.0000,9,-999.0000,9,-999.0000,9,-999.0000,9,-999.0000,9,-999.0000,9,-999.0000,9,     -999.0,9,     -999.0,9,       2.04,2,       4.88,2,       1.95,2
33RR20160208,       I08S,      28,          1,         25,         25,2,20160225,       1411,   -56.4840,    83.7702,       4777,   434.4,   1.8034,  34.5637,2,  34.5663,2,    191.6,2,   191.0,2,    74.7,2,    0.00,2,   33.60,2,    0.02,2,    2.32,2,   1.211,2,   0.624,2,   0.098,2,    0.45047204,2,  2249.1,2, 2333.30,2,   7.5517,2,    25.00,   1.8035, -999.00,9,  -999.0,9,  -999.0, -999.00,9,-999.000,9,    39.5,2, -999.00,9,     -999.0,1,     4.9,2, 20160225,     1603, -56.4840,  83.7705,     -999.0,9,     -999.0,9,     -999.0,9,-999.0000,9,-999.0000,9,-999.0000,9,-999.0000,9,-999.0000,9,-999.0000,9,-999.0000,9,     -999.0,9,     -999.0,9,       2.02,2,       4.82,2,       1.92,2
33RR20160208,       I08S,      28,          1,         26,         26,2,20160225,       1411,   -56.4840,    83.7702,       4777,   385.1,   1.7267,  34.5219,2,  34.5212,2,    205.6,2,   193.2,2,    73.5,2,    0.01,2,   34.17,2,    0.02,2,    2.37,2,   1.426,2,   0.744,2,   0.117,2,   0.576725415,2,  2251.4,2, 2328.84,2,   7.5420,6,    25.00,   1.7236, -999.00,9,  -999.0,9,  -999.0, -999.00,9,-999.000,9,    40.0,2, -999.00,9,     -999.0,1,    4.89,2, 20160225,     1605, -56.4840,  83.7705,     -999.0,9,     -999.0,9,     -999.0,9,-999.0000,9,-999.0000,9,-999.0000,9,-999.0000,9,-999.0000,9,-999.0000,9,-999.0000,9,     -999.0,9,     -999.0,9,       2.13,2,       4.83,2,       1.87,2
33RR20160208,       I08S,      28,          1,         27,         27,2,20160225,       1411,   -56.4840,    83.7702,       4777,   334.0,   0.9328,  34.3915,2,  34.3948,2,    243.7,2,   237.9,2,    66.8,2,    0.01,2,   33.28,2,    0.09,2,    2.33,2,   2.844,2,   1.492,2,   0.259,2,    1.39484728,2,  2234.9,2, 2319.76,2,   7.5639,2,    24.98,   0.9304, -999.00,9,  -999.0,9,  -999.0, -999.00,9,-999.000,9,    38.7,2,   35.50,2,     -999.0,1,    4.92,2, 20160225,     1607, -56.4840,  83.7705,     -999.0,9,     -999.0,9,     -999.0,9,-999.0000,9,-999.0000,9,-999.0000,9,-999.0000,9,-999.0000,9,-999.0000,9,-999.0000,9,     -999.0,9,     -999.0,9,       2.11,2,       4.87,2,       2.17,2