BOTTLE,20220706CCHSIOAMB
EXPOCODE,SECT_ID,STNNBR,CASTNO,SAMPNO,BTLNBR,BTLNBR_FLAG_W,DATE,TIME,LATITUDE,LONGITUDE,DEPTH,CTDPRS,CTDTMP,CTDSAL,CTDSAL_FLAG_W,SALNTY,SALNTY_FLAG_W,CTDOXY,CTDOXY_FLAG_W,OXYGEN,OXYGEN_FLAG_W,SILCAT,SILCAT_FLAG_W,NH4,NH4_FLAG_W,NITRAT,NITRAT_FLAG_W,NITRIT,NITRIT_FLAG_W,PHSPHT,PHSPHT_FLAG_W,CFC-11,CFC-11_FLAG_W,CFC-12,CFC-12_FLAG_W,CFC113,CFC113_FLAG_W,SF6,SF6_FLAG_W,TCARBN,TCARBN_FLAG_W,ALKALI,ALKALI_FLAG_W,PH_TOT,PH_TOT_FLAG_W,PH_TMP,REFTMP,DELC13,DELC13_FLAG_W,DELC14,DELC14_FLAG_W,C14ERR,DELO18,DELO18_FLAG_W,POC,POC_FLAG_W,DOC,DOC_FLAG_W,TDN,TDN_FLAG_W,TON,TON_FLAG_W,D15N_NO3,D15N_NO3_FLAG_W,BTL_DATE,BTL_TIME,BTL_LAT,BTL_LON,14C-DOC,14C-DOC_FLAG_W,CHLORA,CHLORA_FLAG_W,HPLC,HPLC_FLAG_W,CDOM325,CDOM325_FLAG_W,CDOM340,CDOM340_FLAG_W,CDOM380,CDOM380_FLAG_W,CDOM412,CDOM412_FLAG_W,CDOM443,CDOM443_FLAG_W,CDOM490,CDOM490_FLAG_W,CDOM555,CDOM555_FLAG_W,CDOMSL,CDOMSL_FLAG_W,CDOMSN,CDOMSN_FLAG_W,D18O_NO3,D18O_NO3_FLAG_W,D15N_NO2+NO3,D15N_NO2+NO3_FLAG_W,D18O_NO2+NO3,D18O_NO2+NO3_FLAG_W
,,,,,,,,,,,METERS,DBAR,ITS-90,PSS-78,,PSS-78,,UMOL/KG,,UMOL/KG,,UMOL/KG,,UMOL/KG,,UMOL/KG,,UMOL/KG,,UMOL/KG,,PMOL/KG,,PMOL/KG,,PMOL/KG,,FMOL/KG,,UMOL/KG,,UMOL/KG,,,,DEG C,DEG C,/MILLE,,/MILLE,,/MILLE,/MILLE,,UG/KG,,UMOL/KG,,UMOL/KG,,UMOL/KG,,/MILLE,,,,,,/MILLE,,MG/M3,,,,1/M,,1/M,,1/M,,1/M,,1/M,,1/M,,1/M,,1/NM,,1/NM,,/MILLE,,/MILLE,,/MILLE,
33RR20160208,       I08S,      62,          1,          1,          1,2,20160306,       1630,   -38.9911,    94.9921,       3718,  3698.4,   1.0830,  34.7166,2,  34.7164,2,    206.2,2,   205.8,2,   117.1,2,    0.00,2,   31.89,2,    0.00,2,    2.19,2,   0.164,2,   0.090,2,   0.000,2,         0.025,2,  2265.1,6, 2369.02,2,   7.6144,2,    25.01,   1.0831,    0.55,2,  -161.5,2,     1.9, -999.00,9,-999.000,9,    38.0,2, -999.00,9,     -999.0,1,    4.88,2, 20160306,     1630, -38.9911,  94.9920,     -999.0,9,     -999.0,9,     -999.0,9,-999.0000,9,-999.0000,9,-999.0000,9,-999.0000,9,-999.0000,9,-999.0000,9,-999.0000,9,     -999.0,9,     -999.0,9,       2.02,2,       4.88,2,       2.02,2
33RR20160208,       I08S,      62,          1,          2,          2,2,20160306,       1630,   -38.9911,    94.9921,       3718,  3450.9,   1.1537,  34.7208,2,  34.7205,2,    205.2,2,   205.9,2,   113.6,2,    0.00,2,   31.53,2,    0.00,2,    2.17,2,   0.173,2,   0.092,2,   0.000,2,         0.014,2,  2259.1,2, 2364.28,2,   7.6118,6,    25.02,   1.1535,    0.54,2,  -159.6,2,     2.1, -999.00,9,-999.000,9,    38.0,2, -999.00,9,     -999.0,1,     4.9,2, 20160306,     1636, -38.9911,  94.9921,     -999.0,9,     -999.0,9,     -999.0,9,-999.0000,9,-999.0000,9,-999.0000,9,-999.0000,9,-999.0000,9,-999.0000,9,-999.0000,9,     -999.0,9,     -999.0,9,       2.04,2,        4.9,2,       2.04,2
33RR20160208,       I08S,      62,          1,          3,          3,2,20160306,       1630,   -38.9911,    94.9921,       3718,  3199.6,   1.3257,  34.7293,2,  34.7285,2,    203.4,2,   203.8,2,   107.6,2,    0.00,2,   31.25,2,    0.00,2,    2.12,2,-999.000,9,-999.000,9,-999.000,9,-999.000000000,9,  2252.7,2, 2362.84,6,   7.6124,2,    25.02,   1.3259,    0.56,2,  -159.3,2,     1.9, -999.00,9,-999.000,9,    38.4,2, -999.00,9,     -999.0,1,    4.91,2, 20160306,     1641, -38.9911,  94.9920,     -999.0,9,     -999.0,9,     -999.0,9,-999.0000,9,-999.0000,9,-999.0000,9,-999.0000,9,-999.0000,9,-999.0000,9,-999.0000,9,     -999.0,9,     -999.0,9,       2.07,2,       4.91,2,       2.07,2
33RR20160208,       I08S,      62,          1,          4,          4,2,20160306,       1630,   -38.9911,    94.9921,       3718,  2998.6,   1.4914,  34.7370,2,  34.7360,2,    201.8,2,   203.8,4,   102.0,2,    0.00,2,   30.85,2,    0.00,2,    2.10,2,   0.113,2,   0.062,2,   0.000,2,             0,2,  2252.7,2, 2361.10,2,   7.6149,2,    25.01,   1.4916,    0.60,2,  -157.2,2,     2.0, -999.00,9,-999.000,9,    37.4,2, -999.00,9,     -999.0,1,    4.95,2, 20160306,     1646, -38.9911,  94.9920,     -999.0,9,     -999.0,9,     -999.0,9,-999.0000,9,-999.0000,9,-999.0000,9,-999.0000,9,-999.0000,9,-999.0000,9,-999.0000,9,     -999.0,9,     -999.0,9,       2.01,2,       4.95,2,       2.01,2
33RR20160208,       I08S,      62,          1,          5,          5,2,20160306,       1630,   -38.9911,    94.9921,       3718,  2796.9,   1.7210,  34.7454,2,  34.7450,2,    198.9,2,   199.9,2,    94.5,2,    0.00,2,   30.49,2,    0.00,2,    2.07,2,-999.000,9,-999.000,9,-999.000,9,-999.000000000,9,  -999.0,9, -999.00,9,-999.0000,9,     9.00,   1.7209,    0.55,2,  -159.3,2,     2.1, -999.00,9,-999.000,9,    38.1,2, -999.00,9,     -999.0,1,    4.97,2, 20160306,     1650, -38.9911,  94.9920,     -999.0,9,     -999.0,9,     -999.0,9,-999.0000,9,-999.0000,9,-999.0000,9,-999.0000,9,-999.0000,9,-999.0000,9,-999.0000,9,     -999.0,9,     -999.0,9,       2.09,2,       4.97,2,       2.09,2
33RR20160208,       I08S,      62,          1,          6,         38,2,20160306,       1630,   -38.9911,    94.9921,       3718,  2601.9,   1.9714,  34.7493,2,  34.7489,2,    194.9,2,   195.6,2,    87.1,2,    0.00,2,   30.28,2,    0.00,2,    2.07,2,   0.090,2,   0.053,2,   0.000,2,             0,2,  2246.3,2, 2353.96,2,   7.6152,6,    25.00,   1.9706,    0.59,2,  -155.1,2,     1.9, -999.00,9,-999.000,9,    37.2,2, -999.00,9,     -999.0,1,    4.99,2, 20160306,     1655, -38.9911,  94.9920,     -999.0,9,     -999.0,9,     -999.0,9,-999.0000,9,-999.0000,9,-999.0000,9,-999.0000,9,-999.0000,9,-999.0000,9,-999.0000,9,     -999.0,9,     -999.0,9,       2.12,2,       4.99,2,       2.12,2
33RR20160208,       I08S,      62,          1,          7,          7,2,20160306,       1630,   -38.9911,    94.9921,       3718,  2402.2,   2.1920,  34.7385,2,  34.7379,2,    188.6,2,   189.3,2,    82.9,2,    0.00,2,   30.69,2,    0.00,2,    2.09,2,-999.000,9,-999.000,9,-999.000,9,-999.000000000,9,  -999.0,9, -999.00,9,-999.0000,9,  -999.00,   2.1925, -999.00,5,  -999.0,5,  -999.0, -999.00,9,-999.000,9,    38.8,2, -999.00,9,     -999.0,1,    5.06,2, 20160306,     1659, -38.9911,  94.9920,     -999.0,9,     -999.0,9,     -999.0,9,-999.0000,9,-999.0000,9,-999.0000,9,-999.0000,9,-999.0000,9,-999.0000,9,-999.0000,9,     -999.0,9,     -999.0,9,       1.99,2,       5.06,2,       1.99,2
33RR20160208,       I08S,      62,          1,          8,          8,2,20160306,       1630,   -38.9911,    94.9921,       3718,  2199.3,   2.3625,  34.7155,2,  34.7151,2,    182.2,2,   183.1,2,    80.5,2,    0.00,2,   31.43,2,    0.00,2,    2.13,2,   0.117,2,   0.068,2,   0.000,2,         0.014,2,  2248.9,2, 2350.20,2,   7.5960,2,    25.01,   2.3623,    0.55,2,  -157.7,2,     2.7, -999.00,9,-999.000,9,    38.7,2, -999.00,9,     -999.0,1,     5.1,2, 20160306,     1704, -38.9911,  94.9920,     -999.0,9,     -999.0,9,     -999.0,9,-999.0000,9,-999.0000,9,-999.0000,9,-999.0000,9,-999.0000,9,-999.0000,9,-999.0000,9,     -999.0,9,     -999.0,9,       2.06,2,        5.1,2,       2.06,2
33RR20160208,       I08S,      62,          1,          9,          9,2,20160306,       1630,   -38.9911,    94.9921,       3718,  1997.7,   2.5216,  34.6724,2,  34.6721,2,    176.8,2,   176.8,2,    76.5,2,    0.00,2,   32.27,2,    0.00,2,    2.20,2,-999.000,9,-999.000,9,-999.000,9,-999.000000000,9,  -999.0,9, -999.00,9,-999.0000,9,  -999.00,   2.5213, -999.00,5,  -999.0,5,  -999.0, -999.00,9,-999.000,9,    38.5,2, -999.00,9,     -999.0,1,    5.14,2, 20160306,     1708, -38.9911,  94.9920,     -999.0,9,     -999.0,9,     -999.0,9,-999.0000,9,-999.0000,9,-999.0000,9,-999.0000,9,-999.0000,9,-999.0000,9,-999.0000,9,     -999.0,9,     -999.0,9,       2.15,2,       5.14,2,       2.15,2
33RR20160208,       I08S,      62,          1,         10,         10,2,20160306,       1630,   -38.9911,    94.9921,       3718,  1800.2,   2.7030,  34.6059,2,  34.6056,2,    170.6,2,   170.1,2,    73.1,2,    0.00,2,   33.46,2,    0.00,2,    2.29,2,   0.317,2,   0.167,2,   0.008,2,         0.069,2,  2252.0,2, 2341.83,2,   7.5651,2,    25.01,   2.7029,    0.55,2,  -151.0,2,     2.0, -999.00,9,-999.000,9,    38.3,2, -999.00,9,     -999.0,1,    5.26,2, 20160306,     1713, -38.9911,  94.9920,     -999.0,9,     -999.0,9,     -999.0,9,-999.0000,9,-999.0000,9,-999.0000,9,-999.0000,9,-999.0000,9,-999.0000,9,-999.0000,9,     -999.0,9,     -999.0,9,       2.21,2,       5.26,2,       2.21,2
33RR20160208,       I08S,      62,          1,         11,         11,2,20160306,       1630,   -38.9911,    94.9921,       3718,  1704.5,   2.7982,  34.5672,2,  34.5675,2,    170.2,2,   169.7,2,    69.8,2,    0.00,2,   33.82,2,    0.00,2,    2.32,2,   0.417,2,   0.221,2,   0.013,2,         0.112,2,  -999.0,9, -999.00,9,-999.0000,9,     9.00,   2.7974,    0.57,2,  -148.4,2,     1.9, -999.00,9,-999.000,9,    37.6,2, -999.00,9,     -999.0,1,    5.31,2, 20160306,     1715, -38.9911,  94.9920,     -999.0,9,     -999.0,9,     -999.0,9,-999.0000,9,-999.0000,9,-999.0000,9,-999.0000,9,-999.0000,9,-999.0000,9,-999.0000,9,     -999.0,9,     -999.0,9,       2.16,2,       5.31,2,       2.16,2
33RR20160208,       I08S,      62,          1,         12,         12,2,20160306,       1630,   -38.9911,    94.9921,       3718,  1602.8,   2.9345,  34.5179,2,  34.5175,2,    172.7,2,   172.7,2,    64.9,2,    0.00,2,   34.02,2,    0.00,2,    2.32,2,   0.607,2,   0.309,2,   0.024,2,          0.18,2,  2245.4,2, 2331.14,2,   7.5599,2,    25.02,   2.9340,    0.61,2,  -140.4,2,     2.4, -999.00,9,-999.000,9,    38.7,2, -999.00,9,     -999.0,1,    5.38,2, 20160306,     1718, -38.9911,  94.9920,     -999.0,9,     -999.0,9,     -999.0,9,-999.0000,9,-999.0000,9,-999.0000,9,-999.0000,9,-999.0000,9,-999.0000,9,-999.0000,9,     -999.0,9,     -999.0,9,       2.32,2,       5.38,2,       2.32,2
33RR20160208,       I08S,      62,          1,         13,         13,2,20160306,       1630,   -38.9911,    94.9921,       3718,  1502.8,   3.1111,  34.4726,2,  34.4712,2,    176.4,2,   175.9,2,    59.6,2,    0.00,2,   33.93,2,    0.00,2,    2.33,2,   0.814,2,   0.411,2,   0.039,2,         0.199,2,  -999.0,9, -999.00,9,-999.0000,9,  -999.00,   3.1126,    0.65,2,  -127.6,2,     2.0, -999.00,9,-999.000,9,    39.4,2, -999.00,9,     -999.0,1,    5.46,2, 20160306,     1721, -38.9911,  94.9920,     -999.0,9,     -999.0,9,     -999.0,9,-999.0000,9,-999.0000,9,-999.0000,9,-999.0000,9,-999.0000,9,-999.0000,9,-999.0000,9,     -999.0,9,     -999.0,9,       2.31,2,       5.46,2,       2.31,2
33RR20160208,       I08S,      62,          1,         14,         14,2,20160306,       1630,   -38.9911,    94.9921,       3718,  1399.4,   3.3476,  34.4325,2,  34.4314,2,    182.8,2,   181.1,2,    54.1,2,    0.00,2,   33.58,2,    0.00,2,    2.29,2,   1.056,2,   0.525,2,   0.054,2,         0.271,2,  2233.0,2, 2319.83,2,   7.5707,6,    25.01,   3.3477,    0.72,2,  -118.8,2,     1.8, -999.00,9,-999.000,9,    38.3,2, -999.00,9,     -999.0,1,    5.54,2, 20160306,     1724, -38.9911,  94.9920,     -999.0,9,     -999.0,9,     -999.0,9,-999.0000,9,-999.0000,9,-999.0000,9,-999.0000,9,-999.0000,9,-999.0000,9,-999.0000,9,     -999.0,9,     -999.0,9,        2.4,2,       5.54,2,        2.4,2
33RR20160208,       I08S,      62,          1,         15,         15,2,20160306,       1630,   -38.9911,    94.9921,       3718,  1300.5,   3.6629,  34.3976,2,  34.3973,2,    188.6,2,   187.2,2,    47.5,2,    0.00,2,   32.92,2,    0.00,2,    2.25,2,   1.315,2,   0.647,2,   0.070,2,         0.313,2,  -999.0,9, -999.00,9,-999.0000,9,  -999.00,   3.6667,    0.78,2,  -109.4,2,     2.1, -999.00,9,-999.000,9,    39.3,2, -999.00,9,     -999.0,1,    5.62,2, 20160306,     1727, -38.9911,  94.9920,     -999.0,9,     -999.0,9,     -999.0,9,-999.0000,9,-999.0000,9,-999.0000,9,-999.0000,9,-999.0000,9,-999.0000,9,-999.0000,9,     -999.0,9,     -999.0,9,        2.5,2,       5.62,2,        2.5,2
33RR20160208,       I08S,      62,          1,         16,         16,2,20160306,       1630,   -38.9911,    94.9921,       3718,  1200.9,   4.1077,  34.3589,2,  34.3581,2,    198.2,2,   197.2,2,    37.4,2,    0.00,2,   31.57,2,    0.00,2,    2.15,2,   1.833,2,   0.894,2,   0.102,2,         0.466,2,  2206.7,2, 2306.90,2,   7.6010,2,    25.00,   4.1070,    0.90,2,   -84.1,2,     1.8, -999.00,9,-999.000,9,    38.9,2, -999.00,9,     -999.0,1,    5.72,2, 20160306,     1730, -38.9911,  94.9920,     -999.0,9,     -999.0,9,     -999.0,9,-999.0000,9,-999.0000,9,-999.0000,9,-999.0000,9,-999.0000,9,-999.0000,9,-999.0000,9,     -999.0,9,     -999.0,9,       2.51,2,       5.72,2,       2.51,2
33RR20160208,       I08S,      62,          1,         17,         17,2,20160306,       1630,   -38.9911,    94.9921,       3718,  1101.2,   4.7135,  34.3486,2,  34.3499,2,    205.7,2,   202.0,2,    29.6,2,    0.02,2,   30.21,2,    0.00,2,    2.05,2,   2.144,2,   1.057,2,   0.115,2,         0.422,2,  2195.8,2, 2298.97,2,   7.6166,2,    25.00,   4.7134,    0.87,2,   -68.5,2,     1.9, -999.00,9,-999.000,9,    39.3,2, -999.00,9,     -999.0,1,     5.8,2, 20160306,     1733, -38.9911,  94.9920,     -999.0,9,     -999.0,9,     -999.0,9,-999.0000,9,-999.0000,9,-999.0000,9,-999.0000,9,-999.0000,9,-999.0000,9,-999.0000,9,     -999.0,9,     -999.0,9,        2.5,2,        5.8,2,        2.5,2
33RR20160208,       I08S,      62,          1,         18,         37,2,20160306,       1630,   -38.9911,    94.9921,       3718,  1000.7,   5.6437,  34.3775,2,  34.3783,2,    202.9,2,   203.0,2,    21.8,2,    0.00,2,   28.27,2,    0.00,2,    1.90,2,   2.421,2,   1.221,2,   0.116,2,         0.636,2,  2182.8,6, 2293.08,2,   7.6367,2,    25.01,   5.6589,    0.89,2,   -38.4,2,     2.9, -999.00,9,-999.000,9,    38.0,2, -999.00,9,     -999.0,1,    5.93,2, 20160306,     1736, -38.9911,  94.9920,     -999.0,9,     -999.0,9,     -999.0,9,-999.0000,9,-999.0000,9,-999.0000,9,-999.0000,9,-999.0000,9,-999.0000,9,-999.0000,9,     -999.0,9,     -999.0,9,       2.71,2,       5.93,2,       2.71,2
33RR20160208,       I08S,      62,          1,         19,         19,2,20160306,       1630,   -38.9911,    94.9921,       3718,   901.7,   7.0038,  34.4631,2,  34.4580,2,    206.4,2,   207.5,2,    15.6,2,    0.00,2,   25.02,2,    0.00,2,    1.68,2,   2.824,2,   1.486,2,   0.122,2,         0.803,2,  2170.8,2, 2290.35,2,   7.6697,2,    25.01,   7.0133,    0.92,2,   -11.4,2,     2.1, -999.00,9,-999.000,9,    40.6,2, -999.00,9,     -999.0,1,    6.06,2, 20160306,     1739, -38.9911,  94.9919,     -999.0,9,     -999.0,9,     -999.0,9,-999.0000,9,-999.0000,9,-999.0000,9,-999.0000,9,-999.0000,9,-999.0000,9,-999.0000,9,     -999.0,9,     -999.0,9,        2.8,2,       6.06,2,        2.8,2
33RR20160208,       I08S,      62,          1,         20,         20,2,20160306,       1630,   -38.9911,    94.9921,       3718,   800.8,   8.2057,  34.5548,2,  34.5570,2,    217.4,2,   216.3,2,     9.6,2,    0.00,2,   21.24,2,    0.00,2,    1.43,2,   3.116,2,   1.672,2,   0.123,2,         1.076,2,  -999.0,9, -999.00,9,-999.0000,9,     9.00,   8.2216,    0.98,2,     9.3,2,     2.0, -999.00,9,-999.000,9,    41.7,2, -999.00,9,     -999.0,1,    6.28,2, 20160306,     1741, -38.9911,  94.9920,     -999.0,9,     -999.0,9,     -999.0,9,-999.0000,9,-999.0000,9,-999.0000,9,-999.0000,9,-999.0000,9,-999.0000,9,-999.0000,9,     -999.0,9,     -999.0,9,       3.15,2,       6.28,2,       3.15,2
33RR20160208,       I08S,      62,          1,         21,         21,2,20160306,       1630,   -38.9911,    94.9921,       3718,   700.8,   9.1815,  34.6507,2,  34.6507,2,    235.3,2,   235.7,2,     5.6,2,    0.00,2,   17.16,2,    0.00,2,    1.18,2,   3.336,2,   1.877,2,   0.144,2,         1.377,2,  -999.0,9, -999.00,9,-999.0000,9,  -999.00,   9.1771,    1.00,2,    20.9,2,     2.4, -999.00,9,-999.000,9,    42.0,2, -999.00,9,     -999.0,1,     6.5,2, 20160306,     1744, -38.9911,  94.9920,     -999.0,9,     -999.0,9,     -999.0,9,-999.0000,9,-999.0000,9,-999.0000,9,-999.0000,9,-999.0000,9,-999.0000,9,-999.0000,9,     -999.0,9,     -999.0,9,       3.48,2,        6.5,2,       3.48,2
33RR20160208,       I08S,      62,          1,         22,         22,2,20160306,       1630,   -38.9911,    94.9921,       3718,   600.8,   9.7846,  34.7293,2,  34.7282,2,    243.8,2,   244.3,2,     4.3,2,    0.00,2,   14.72,2,    0.00,2,    1.03,2,   3.275,2,   1.875,2,   0.153,2,           1.5,2,  2130.0,2, 2296.68,2,   7.7823,2,    25.02,   9.7829,    1.01,2,    25.3,2,     2.0, -999.00,9,-999.000,9,    43.8,2, -999.00,9,     -999.0,1,     6.8,2, 20160306,     1747, -38.9911,  94.9920,     -999.0,9,     -999.0,9,     -999.0,9,-999.0000,9,-999.0000,9,-999.0000,9,-999.0000,9,-999.0000,9,-999.0000,9,-999.0000,9,     -999.0,9,     -999.0,9,       4.17,2,        6.8,2,       4.17,2
33RR20160208,       I08S,      62,          1,         23,         23,2,20160306,       1630,   -38.9911,    94.9921,       3718,   501.2,  10.3060,  34.8048,2,  34.8034,2,    249.1,2,   248.4,2,     3.5,2,    0.00,2,   12.82,2,    0.00,2,    0.91,2,   3.192,2,   1.844,2,   0.157,2,         1.742,2,  -999.0,9, -999.00,9,-999.0000,9,     9.00,  10.3060, -999.00,9,  -999.0,9,  -999.0, -999.00,9,-999.000,9,    44.2,2, -999.00,9,     -999.0,1,    6.94,2, 20160306,     1750, -38.9911,  94.9920,     -999.0,9,     -999.0,9,     -999.0,9,-999.0000,9,-999.0000,9,-999.0000,9,-999.0000,9,-999.0000,9,-999.0000,9,-999.0000,9,     -999.0,9,     -999.0,9,       4.45,2,       6.94,2,       4.45,2
33RR20160208,       I08S,      62,          1,         24,         24,2,20160306,       1630,   -38.9911,    94.9921,       3718,   450.5,  10.4985,  34.8329,2,  34.8328,2,    252.9,2,   254.3,2,     3.1,2,    0.00,2,   11.68,2,    0.00,2,    0.84,2,-999.000,9,-999.000,9,-999.000,9,-999.000000000,9,  2118.5,2, 2301.61,2,   7.8140,2,    24.99,  10.4974,    0.94,2,    25.5,2,     2.0, -999.00,9,-999.000,9,    44.7,2, -999.00,9,     -999.0,1,    7.21,2, 20160306,     1751, -38.9911,  94.9920,     -999.0,9,     -999.0,9,     -999.0,9,-999.0000,9,-999.0000,9,-999.0000,9,-999.0000,9,-999.0000,9,-999.0000,9,-999.0000,9,     -999.0,9,     -999.0,9,       5.08,2,       7.21,2,       5.08,2
33RR20160208,       I08S,      62,          1,         25,         25,2,20160306,       1630,   -38.9911,    94.9921,       3718,   399.7,  10.6561,  34.8554,2,  34.8548,2,    255.1,2,   255.6,2,     2.9,2,    0.00,2,   11.15,2,    0.00,2,    0.80,2,   3.130,2,   1.814,2,   0.196,2,         1.851,2,  -999.0,9, -999.00,9,-999.0000,9,  -999.00,  10.6546, -999.00,9,  -999.0,9,  -999.0, -999.00,9,-999.000,9,    44.4,2, -999.00,9,     -999.0,1,    7.29,2, 20160306,     1753, -38.9911,  94.9920,     -999.0,9,     -999.0,9,     -999.0,9,-999.0000,9,-999.0000,9,-999.0000,9,-999.0000,9,-999.0000,9,-999.0000,9,-999.0000,9,     -999.0,9,     -999.0,9,       5.31,2,       7.29,2,       5.31,2
33RR20160208,       I08S,      62,          1,         26,         26,2,20160306,       1630,   -38.9911,    94.9921,       3718,   351.9,  10.8750,  34.8908,2,  34.8901,2,    252.0,2,   253.4,2,     2.9,2,    0.00,2,   10.78,2,    0.00,2,    0.78,2,-999.000,9,-999.000,9,-999.000,9,-999.000000000,9,  2117.0,2, 2303.32,2,   7.8219,2,    25.00,  10.8748,    0.97,2,    26.5,2,     2.2, -999.00,9,-999.000,9,    45.0,2, -999.00,9,     -999.0,1,    7.32,2, 20160306,     1755, -38.9911,  94.9919,     -999.0,9,     -999.0,9,     -999.0,9,-999.0000,9,-999.0000,9,-999.0000,9,-999.0000,9,-999.0000,9,-999.0000,9,-999.0000,9,     -999.0,9,     -999.0,9,       5.39,2,       7.32,2,       5.39,2
33RR20160208,       I08S,      62,          1,         27,         27,2,20160306,       1630,   -38.9911,    94.9921,       3718,   301.2,  11.1673,  34.9318,2,  34.9272,2,    250.7,2,   250.6,2,     2.9,2,    0.00,2,   10.49,2,    0.00,2,    0.77,2,   3.098,2,   1.800,2,   0.188,2,         1.802,2,  -999.0,9, -999.00,9,-999.0000,9,  -999.00,  11.1671, -999.00,9,  -999.0,9,  -999.0, -999.00,9,-999.000,9,    45.9,2,   12.70,2,     -999.0,1,    7.31,2, 20160306,     1757, -38.9911,  94.9920,     -999.0,9,     -999.0,9,     -999.0,9,-999.0000,9,-999.0000,9,-999.0000,9,-999.0000,9,-999.0000,9,-999.0000,9,-999.0000,9,     -999.0,9,     -999.0,9,       5.25,2,       7.31,2,       5.25,2