BOTTLE,20220706CCHSIOAMB
EXPOCODE,SECT_ID,STNNBR,CASTNO,SAMPNO,BTLNBR,BTLNBR_FLAG_W,DATE,TIME,LATITUDE,LONGITUDE,DEPTH,CTDPRS,CTDTMP,CTDSAL,CTDSAL_FLAG_W,SALNTY,SALNTY_FLAG_W,CTDOXY,CTDOXY_FLAG_W,OXYGEN,OXYGEN_FLAG_W,SILCAT,SILCAT_FLAG_W,NH4,NH4_FLAG_W,NITRAT,NITRAT_FLAG_W,NITRIT,NITRIT_FLAG_W,PHSPHT,PHSPHT_FLAG_W,CFC-11,CFC-11_FLAG_W,CFC-12,CFC-12_FLAG_W,CFC113,CFC113_FLAG_W,SF6,SF6_FLAG_W,TCARBN,TCARBN_FLAG_W,ALKALI,ALKALI_FLAG_W,PH_TOT,PH_TOT_FLAG_W,PH_TMP,REFTMP,DELC13,DELC13_FLAG_W,DELC14,DELC14_FLAG_W,C14ERR,DELO18,DELO18_FLAG_W,POC,POC_FLAG_W,DOC,DOC_FLAG_W,TDN,TDN_FLAG_W,TON,TON_FLAG_W,D15N_NO3,D15N_NO3_FLAG_W,BTL_DATE,BTL_TIME,BTL_LAT,BTL_LON,14C-DOC,14C-DOC_FLAG_W,CHLORA,CHLORA_FLAG_W,HPLC,HPLC_FLAG_W,CDOM325,CDOM325_FLAG_W,CDOM340,CDOM340_FLAG_W,CDOM380,CDOM380_FLAG_W,CDOM412,CDOM412_FLAG_W,CDOM443,CDOM443_FLAG_W,CDOM490,CDOM490_FLAG_W,CDOM555,CDOM555_FLAG_W,CDOMSL,CDOMSL_FLAG_W,CDOMSN,CDOMSN_FLAG_W,D18O_NO3,D18O_NO3_FLAG_W,D15N_NO2+NO3,D15N_NO2+NO3_FLAG_W,D18O_NO2+NO3,D18O_NO2+NO3_FLAG_W
,,,,,,,,,,,METERS,DBAR,ITS-90,PSS-78,,PSS-78,,UMOL/KG,,UMOL/KG,,UMOL/KG,,UMOL/KG,,UMOL/KG,,UMOL/KG,,UMOL/KG,,PMOL/KG,,PMOL/KG,,PMOL/KG,,FMOL/KG,,UMOL/KG,,UMOL/KG,,,,DEG C,DEG C,/MILLE,,/MILLE,,/MILLE,/MILLE,,UG/KG,,UMOL/KG,,UMOL/KG,,UMOL/KG,,/MILLE,,,,,,/MILLE,,MG/M3,,,,1/M,,1/M,,1/M,,1/M,,1/M,,1/M,,1/M,,1/NM,,1/NM,,/MILLE,,/MILLE,,/MILLE,
33RR20160208,       I08S,      11,          1,          1,          1,2,20160221,       1351,   -63.5350,    82.0005,       3450,  3423.6,   0.0971,  34.6699,2,  34.6705,2,    223.8,2,   224.4,2,   134.5,2,   -0.02,2,   32.70,2,    0.01,2,    2.31,2,   0.531,2,   0.270,2,   0.025,2,         0.667,4,  2261.6,6, 2355.67,2,   7.5923,2,    24.94,   0.0952, -999.00,9,  -999.0,9,  -999.0, -999.00,1,-999.000,9,  -999.0,9, -999.00,9,     -999.0,9, -999.00,9, 20160221,     1351, -63.5350,  82.0005,     -999.0,9,     -999.0,9,     -999.0,9,-999.0000,9,-999.0000,9,-999.0000,9,-999.0000,9,-999.0000,9,-999.0000,9,-999.0000,9,     -999.0,9,     -999.0,9,     -999.0,9,     -999.0,9,     -999.0,9
33RR20160208,       I08S,      11,          1,          2,          2,2,20160221,       1351,   -63.5350,    82.0005,       3450,  3209.6,   0.1756,  34.6733,2,  34.6735,2,    222.1,2,   221.7,2,   127.8,2,   -0.03,2,   32.58,2,    0.00,2,    2.29,2,   0.491,2,   0.258,2,   0.024,2,         0.298,2,  2260.3,2, 2355.52,2,   7.5919,6,    24.99,   0.1755, -999.00,9,  -999.0,9,  -999.0, -999.00,1,-999.000,9,  -999.0,9, -999.00,9,     -999.0,9, -999.00,9, 20160221,     1357, -63.5350,  82.0006,     -999.0,9,     -999.0,9,     -999.0,9,-999.0000,9,-999.0000,9,-999.0000,9,-999.0000,9,-999.0000,9,-999.0000,9,-999.0000,9,     -999.0,9,     -999.0,9,     -999.0,9,     -999.0,9,     -999.0,9
33RR20160208,       I08S,      11,          1,          3,          3,2,20160221,       1351,   -63.5350,    82.0005,       3450,  2996.1,   0.2423,  34.6779,2,  34.6786,2,    218.2,2,   218.0,2,   129.5,2,    0.01,2,   32.71,2,    0.00,2,    2.31,2,   0.274,2,   0.146,2,   0.006,2,         1.444,4,  2263.5,2, 2357.73,2,   7.5923,2,    25.02,   0.2420, -999.00,9,  -999.0,9,  -999.0, -999.00,1,-999.000,9,  -999.0,9, -999.00,9,     -999.0,9, -999.00,9, 20160221,     1402, -63.5350,  82.0006,     -999.0,9,     -999.0,9,     -999.0,9,-999.0000,9,-999.0000,9,-999.0000,9,-999.0000,9,-999.0000,9,-999.0000,9,-999.0000,9,     -999.0,9,     -999.0,9,     -999.0,9,     -999.0,9,     -999.0,9
33RR20160208,       I08S,      11,          1,          4,          4,2,20160221,       1351,   -63.5350,    82.0005,       3450,  2802.0,   0.3134,  34.6807,2,  34.6813,2,    216.5,2,   216.3,2,   126.5,2,   -0.03,2,   32.61,2,    0.00,2,    2.29,2,   0.314,2,   0.168,2,   0.009,2,         0.254,2,  -999.0,9, -999.00,9,-999.0000,9,  -999.00,   0.3140, -999.00,9,  -999.0,9,  -999.0, -999.00,1,-999.000,9,  -999.0,9, -999.00,9,     -999.0,9, -999.00,9, 20160221,     1407, -63.5351,  82.0006,     -999.0,9,     -999.0,9,     -999.0,9,-999.0000,9,-999.0000,9,-999.0000,9,-999.0000,9,-999.0000,9,-999.0000,9,-999.0000,9,     -999.0,9,     -999.0,9,     -999.0,9,     -999.0,9,     -999.0,9
33RR20160208,       I08S,      11,          1,          5,          5,2,20160221,       1351,   -63.5350,    82.0005,       3450,  2595.4,   0.3919,  34.6841,2,  34.6853,2,    213.4,2,   214.0,2,   124.3,2,   -0.03,2,   32.53,2,    0.00,2,    2.29,2,   0.355,6,   0.188,6,   0.010,6,        0.1565,6,  -999.0,9, -999.00,9,-999.0000,9,  -999.00,   0.3920, -999.00,9,  -999.0,9,  -999.0, -999.00,1,-999.000,9,  -999.0,9, -999.00,9,     -999.0,9, -999.00,9, 20160221,     1412, -63.5350,  82.0005,     -999.0,9,     -999.0,9,     -999.0,9,-999.0000,9,-999.0000,9,-999.0000,9,-999.0000,9,-999.0000,9,-999.0000,9,-999.0000,9,     -999.0,9,     -999.0,9,     -999.0,9,     -999.0,9,     -999.0,9
33RR20160208,       I08S,      11,          1,          6,          6,2,20160221,       1351,   -63.5350,    82.0005,       3450,  2401.1,   0.4930,  34.6907,2,  34.6919,2,    211.2,2,   211.3,2,   123.0,2,   -0.03,2,   32.54,2,    0.00,2,    2.28,2,   0.280,2,   0.146,2,   0.004,2,          0.17,2,  -999.0,9, -999.00,9,-999.0000,9,     9.00,   0.4929, -999.00,9,  -999.0,9,  -999.0, -999.00,1,-999.000,9,  -999.0,9, -999.00,9,     -999.0,9, -999.00,9, 20160221,     1416, -63.5351,  82.0006,     -999.0,9,     -999.0,9,     -999.0,9,-999.0000,9,-999.0000,9,-999.0000,9,-999.0000,9,-999.0000,9,-999.0000,9,-999.0000,9,     -999.0,9,     -999.0,9,     -999.0,9,     -999.0,9,     -999.0,9
33RR20160208,       I08S,      11,          1,          7,          7,2,20160221,       1351,   -63.5350,    82.0005,       3450,  2201.8,   0.5989,  34.6966,2,  34.6970,2,    209.8,2,   209.3,2,   120.0,2,   -0.03,2,   32.35,2,    0.00,2,    2.27,2,   0.275,2,   0.145,2,   0.004,2,         0.109,2,  -999.0,9, -999.00,9,-999.0000,9,  -999.00,   0.5989, -999.00,9,  -999.0,9,  -999.0, -999.00,1,-999.000,9,  -999.0,9, -999.00,9,     -999.0,9, -999.00,9, 20160221,     1422, -63.5351,  82.0006,     -999.0,9,     -999.0,9,     -999.0,9,-999.0000,9,-999.0000,9,-999.0000,9,-999.0000,9,-999.0000,9,-999.0000,9,-999.0000,9,     -999.0,9,     -999.0,9,     -999.0,9,     -999.0,9,     -999.0,9
33RR20160208,       I08S,      11,          1,          8,          8,2,20160221,       1351,   -63.5350,    82.0005,       3450,  2002.5,   0.7268,  34.7037,2,  34.7035,2,    208.4,2,   207.6,2,   115.7,2,   -0.03,2,   32.06,2,    0.00,2,    2.26,2,   0.281,2,   0.145,2,   0.007,2,         0.158,2,  2263.6,2, 2358.17,6,   7.5967,6,    24.99,   0.7264, -999.00,9,  -999.0,9,  -999.0, -999.00,1,-999.000,9,  -999.0,9, -999.00,9,     -999.0,9, -999.00,9, 20160221,     1426, -63.5350,  82.0006,     -999.0,9,     -999.0,9,     -999.0,9,-999.0000,9,-999.0000,9,-999.0000,9,-999.0000,9,-999.0000,9,-999.0000,9,-999.0000,9,     -999.0,9,     -999.0,9,     -999.0,9,     -999.0,9,     -999.0,9
33RR20160208,       I08S,      11,          1,          9,          9,2,20160221,       1351,   -63.5350,    82.0005,       3450,  1802.3,   0.8266,  34.7088,2,  34.7098,2,    207.0,2,   206.8,2,   112.4,2,   -0.03,2,   31.82,2,    0.00,2,    2.23,2,   0.291,2,   0.156,2,   0.009,2,          0.19,2,  -999.0,9, -999.00,9,-999.0000,9,     9.00,   0.8266, -999.00,9,  -999.0,9,  -999.0, -999.00,1,-999.000,9,  -999.0,9, -999.00,9,     -999.0,9, -999.00,9, 20160221,     1431, -63.5350,  82.0006,     -999.0,9,     -999.0,9,     -999.0,9,-999.0000,9,-999.0000,9,-999.0000,9,-999.0000,9,-999.0000,9,-999.0000,9,-999.0000,9,     -999.0,9,     -999.0,9,     -999.0,9,     -999.0,9,     -999.0,9
33RR20160208,       I08S,      11,          1,         10,         10,2,20160221,       1351,   -63.5350,    82.0005,       3450,  1704.0,   0.9123,  34.7131,2,  34.7145,2,    206.7,2,   208.0,2,   109.2,2,   -0.03,2,   31.62,2,    0.00,2,    2.19,2,   0.299,2,   0.156,2,   0.009,2,         0.164,2,  -999.0,9, -999.00,9,-999.0000,9,  -999.00,   0.9124, -999.00,9,  -999.0,9,  -999.0, -999.00,1,-999.000,9,  -999.0,9, -999.00,9,     -999.0,9, -999.00,9, 20160221,     1434, -63.5350,  82.0005,     -999.0,9,     -999.0,9,     -999.0,9,-999.0000,9,-999.0000,9,-999.0000,9,-999.0000,9,-999.0000,9,-999.0000,9,-999.0000,9,     -999.0,9,     -999.0,9,     -999.0,9,     -999.0,9,     -999.0,9
33RR20160208,       I08S,      11,          1,         11,         11,2,20160221,       1351,   -63.5350,    82.0005,       3450,  1605.1,   0.9861,  34.7174,2,  34.7188,2,    206.3,2,   207.5,2,   106.4,2,   -0.03,2,   31.42,2,    0.00,2,    2.19,2,   0.293,2,   0.152,2,   0.011,2,         0.214,2,  -999.0,9, -999.00,9,-999.0000,9,  -999.00,   0.9859, -999.00,9,  -999.0,9,  -999.0, -999.00,1,-999.000,9,  -999.0,9, -999.00,9,     -999.0,9, -999.00,9, 20160221,     1437, -63.5350,  82.0006,     -999.0,9,     -999.0,9,     -999.0,9,-999.0000,9,-999.0000,9,-999.0000,9,-999.0000,9,-999.0000,9,-999.0000,9,-999.0000,9,     -999.0,9,     -999.0,9,     -999.0,9,     -999.0,9,     -999.0,9
33RR20160208,       I08S,      11,          1,         12,         12,2,20160221,       1351,   -63.5350,    82.0005,       3450,  1501.2,   1.0739,  34.7219,2,  34.7224,2,    205.6,2,   206.0,2,   104.5,2,    0.01,2,   31.25,2,    0.00,2,    2.19,2,   0.286,2,   0.150,2,   0.010,2,         0.208,2,  2259.4,2, 2355.51,2,   7.6039,6,    24.98,   1.0739, -999.00,9,  -999.0,9,  -999.0, -999.00,1,-999.000,9,  -999.0,9, -999.00,9,     -999.0,9, -999.00,9, 20160221,     1440, -63.5351,  82.0006,     -999.0,9,     -999.0,9,     -999.0,9,-999.0000,9,-999.0000,9,-999.0000,9,-999.0000,9,-999.0000,9,-999.0000,9,-999.0000,9,     -999.0,9,     -999.0,9,     -999.0,9,     -999.0,9,     -999.0,9
33RR20160208,       I08S,      11,          1,         13,         13,2,20160221,       1351,   -63.5350,    82.0005,       3450,  1401.1,   1.1579,  34.7268,2,  34.7273,2,    204.9,2,   204.3,2,   102.3,2,   -0.03,2,   31.04,2,    0.00,2,    2.19,2,   0.279,2,   0.148,2,   0.010,2,         0.229,2,  -999.0,9, -999.00,9,-999.0000,9,  -999.00,   1.1585, -999.00,9,  -999.0,9,  -999.0, -999.00,1,-999.000,9,  -999.0,9, -999.00,9,     -999.0,9, -999.00,9, 20160221,     1443, -63.5350,  82.0006,     -999.0,9,     -999.0,9,     -999.0,9,-999.0000,9,-999.0000,9,-999.0000,9,-999.0000,9,-999.0000,9,-999.0000,9,-999.0000,9,     -999.0,9,     -999.0,9,     -999.0,9,     -999.0,9,     -999.0,9
33RR20160208,       I08S,      11,          1,         14,         14,2,20160221,       1351,   -63.5350,    82.0005,       3450,  1302.9,   1.2511,  34.7312,2,  34.7332,2,    204.1,2,   204.4,2,    99.6,2,   -0.03,2,   30.85,2,    0.00,2,    2.17,2,   0.268,2,   0.146,2,   0.010,2,         0.162,2,  -999.0,9, -999.00,9,-999.0000,9,  -999.00,   1.2516, -999.00,9,  -999.0,9,  -999.0, -999.00,1,-999.000,9,  -999.0,9, -999.00,9,     -999.0,9, -999.00,9, 20160221,     1446, -63.5350,  82.0006,     -999.0,9,     -999.0,9,     -999.0,9,-999.0000,9,-999.0000,9,-999.0000,9,-999.0000,9,-999.0000,9,-999.0000,9,-999.0000,9,     -999.0,9,     -999.0,9,     -999.0,9,     -999.0,9,     -999.0,9
33RR20160208,       I08S,      11,          1,         15,         15,2,20160221,       1351,   -63.5350,    82.0005,       3450,  1203.8,   1.3541,  34.7364,2,  34.7385,2,    203.1,2,   202.8,2,    96.8,2,   -0.03,2,   30.67,2,    0.00,2,    2.18,2,   0.255,2,   0.139,2,   0.009,2,          0.22,2,  -999.0,9, -999.00,9,-999.0000,9,     9.00,   1.3535, -999.00,9,  -999.0,9,  -999.0, -999.00,1,-999.000,9,  -999.0,9, -999.00,9,     -999.0,9, -999.00,9, 20160221,     1449, -63.5350,  82.0006,     -999.0,9,     -999.0,9,     -999.0,9,-999.0000,9,-999.0000,9,-999.0000,9,-999.0000,9,-999.0000,9,-999.0000,9,-999.0000,9,     -999.0,9,     -999.0,9,     -999.0,9,     -999.0,9,     -999.0,9
33RR20160208,       I08S,      11,          1,         16,         16,2,20160221,       1351,   -63.5350,    82.0005,       3450,  1105.2,   1.4515,  34.7408,2,  34.7432,2,    202.3,2,   202.9,2,    93.6,2,   -0.03,2,   30.46,2,    0.00,2,    2.15,2,   0.247,2,   0.137,2,   0.008,2,         0.212,2,  -999.0,9, -999.00,9,-999.0000,9,  -999.00,   1.4515, -999.00,9,  -999.0,9,  -999.0, -999.00,1,-999.000,9,  -999.0,9, -999.00,9,     -999.0,9, -999.00,9, 20160221,     1452, -63.5350,  82.0006,     -999.0,9,     -999.0,9,     -999.0,9,-999.0000,9,-999.0000,9,-999.0000,9,-999.0000,9,-999.0000,9,-999.0000,9,-999.0000,9,     -999.0,9,     -999.0,9,     -999.0,9,     -999.0,9,     -999.0,9
33RR20160208,       I08S,      11,          1,         17,         17,2,20160221,       1351,   -63.5350,    82.0005,       3450,  1005.8,   1.5531,  34.7436,2,  34.7445,2,    200.3,2,   201.0,2,    90.6,2,   -0.03,2,   30.36,2,    0.00,2,    2.15,2,   0.255,2,   0.140,2,   0.010,2,         0.223,2,  2253.3,2, 2351.12,2,   7.6090,6,    24.99,   1.5533, -999.00,9,  -999.0,9,  -999.0, -999.00,1,-999.000,9,  -999.0,9, -999.00,9,     -999.0,9, -999.00,9, 20160221,     1455, -63.5350,  82.0006,     -999.0,9,     -999.0,9,     -999.0,9,-999.0000,9,-999.0000,9,-999.0000,9,-999.0000,9,-999.0000,9,-999.0000,9,-999.0000,9,     -999.0,9,     -999.0,9,     -999.0,9,     -999.0,9,     -999.0,9
33RR20160208,       I08S,      11,          1,         18,         18,2,20160221,       1351,   -63.5350,    82.0005,       3450,   900.8,   1.6392,  34.7423,2,  34.7438,2,    198.2,2,   198.0,2,    89.6,2,   -0.03,2,   30.48,2,    0.00,2,    2.15,2,   0.269,2,   0.149,2,   0.012,2,         0.232,2,  -999.0,9, -999.00,9,-999.0000,9,     9.00,   1.6396, -999.00,9,  -999.0,9,  -999.0, -999.00,1,-999.000,9,  -999.0,9, -999.00,9,     -999.0,9, -999.00,9, 20160221,     1458, -63.5350,  82.0006,     -999.0,9,     -999.0,9,     -999.0,9,-999.0000,9,-999.0000,9,-999.0000,9,-999.0000,9,-999.0000,9,-999.0000,9,-999.0000,9,     -999.0,9,     -999.0,9,     -999.0,9,     -999.0,9,     -999.0,9
33RR20160208,       I08S,      11,          1,         19,         19,2,20160221,       1351,   -63.5350,    82.0005,       3450,   798.9,   1.7235,  34.7400,2,  34.7410,2,    195.0,2,   194.3,2,    87.5,2,   -0.03,2,   30.67,2,    0.00,2,    2.17,2,   0.284,2,   0.156,2,   0.014,2,         0.226,2,  2251.8,2, 2348.28,2,   7.6003,6,    24.99,   1.7249, -999.00,9,  -999.0,9,  -999.0, -999.00,1,-999.000,9,  -999.0,9, -999.00,9,     -999.0,9, -999.00,9, 20160221,     1501, -63.5350,  82.0006,     -999.0,9,     -999.0,9,     -999.0,9,-999.0000,9,-999.0000,9,-999.0000,9,-999.0000,9,-999.0000,9,-999.0000,9,-999.0000,9,     -999.0,9,     -999.0,9,     -999.0,9,     -999.0,9,     -999.0,9
33RR20160208,       I08S,      11,          1,         20,         20,2,20160221,       1351,   -63.5350,    82.0005,       3450,   703.0,   1.8031,  34.7363,2,  34.7395,2,    192.6,2,   191.8,2,    85.9,2,   -0.03,2,   30.87,2,    0.00,2,    2.18,2,   0.295,2,   0.164,2,   0.016,2,         0.258,2,  -999.0,9, -999.00,9,-999.0000,9,  -999.00,   1.8036, -999.00,9,  -999.0,9,  -999.0, -999.00,1,-999.000,9,  -999.0,9, -999.00,9,     -999.0,9, -999.00,9, 20160221,     1504, -63.5351,  82.0006,     -999.0,9,     -999.0,9,     -999.0,9,-999.0000,9,-999.0000,9,-999.0000,9,-999.0000,9,-999.0000,9,-999.0000,9,-999.0000,9,     -999.0,9,     -999.0,9,     -999.0,9,     -999.0,9,     -999.0,9
33RR20160208,       I08S,      11,          1,         21,         21,2,20160221,       1351,   -63.5350,    82.0005,       3450,   600.6,   1.8679,  34.7257,2,  34.7275,2,    188.4,2,   187.6,2,    84.8,2,   -0.03,2,   31.32,2,    0.00,2,    2.23,2,-999.000,9,-999.000,9,-999.000,9,-999.000000000,9,  2254.3,2, 2347.00,2,   7.5873,2,    24.99,   1.8680, -999.00,9,  -999.0,9,  -999.0, -999.00,1,-999.000,9,  -999.0,9, -999.00,9,     -999.0,9, -999.00,9, 20160221,     1507, -63.5350,  82.0006,     -999.0,9,     -999.0,9,     -999.0,9,-999.0000,9,-999.0000,9,-999.0000,9,-999.0000,9,-999.0000,9,-999.0000,9,-999.0000,9,     -999.0,9,     -999.0,9,     -999.0,9,     -999.0,9,     -999.0,9
33RR20160208,       I08S,      11,          1,         22,         22,2,20160221,       1351,   -63.5350,    82.0005,       3450,   500.9,   1.9102,  34.7105,2,  34.7120,2,    183.5,2,   184.1,2,    84.7,2,   -0.03,2,   32.05,2,    0.00,2,    2.26,2,   0.385,2,   0.211,2,   0.024,2,         0.304,2,  2257.8,6, 2345.39,2,   7.5752,2,    24.98,   1.9108, -999.00,9,  -999.0,9,  -999.0, -999.00,1,-999.000,9,  -999.0,9, -999.00,9,     -999.0,9, -999.00,9, 20160221,     1510, -63.5351,  82.0005,     -999.0,9,     -999.0,9,     -999.0,9,-999.0000,9,-999.0000,9,-999.0000,9,-999.0000,9,-999.0000,9,-999.0000,9,-999.0000,9,     -999.0,9,     -999.0,9,     -999.0,9,     -999.0,9,     -999.0,9
33RR20160208,       I08S,      11,          1,         23,         23,2,20160221,       1351,   -63.5350,    82.0005,       3450,   450.1,   1.9450,  34.6985,2,  34.6989,2,    180.1,2,   180.2,2,    84.3,2,   -0.03,2,   32.46,2,    0.00,2,    2.31,2,-999.000,9,-999.000,9,-999.000,9,-999.000000000,9,  -999.0,9, -999.00,9,-999.0000,9,  -999.00,   1.9452, -999.00,9,  -999.0,9,  -999.0, -999.00,1,-999.000,9,  -999.0,9, -999.00,9,     -999.0,9, -999.00,9, 20160221,     1512, -63.5351,  82.0006,     -999.0,9,     -999.0,9,     -999.0,9,-999.0000,9,-999.0000,9,-999.0000,9,-999.0000,9,-999.0000,9,-999.0000,9,-999.0000,9,     -999.0,9,     -999.0,9,     -999.0,9,     -999.0,9,     -999.0,9
33RR20160208,       I08S,      11,          1,         24,         24,2,20160221,       1351,   -63.5350,    82.0005,       3450,   399.8,   1.9746,  34.6869,2,  34.6887,2,    177.8,2,   179.2,2,    83.8,2,   -0.03,2,   32.81,2,    0.00,2,    2.32,2,   0.461,2,   0.253,2,   0.031,2,         0.327,2,  2260.1,2, 2343.89,2,   7.5616,2,    25.00,   1.9748, -999.00,9,  -999.0,9,  -999.0, -999.00,1,-999.000,9,  -999.0,9, -999.00,9,     -999.0,9, -999.00,9, 20160221,     1514, -63.5351,  82.0006,     -999.0,9,     -999.0,9,     -999.0,9,-999.0000,9,-999.0000,9,-999.0000,9,-999.0000,9,-999.0000,9,-999.0000,9,-999.0000,9,     -999.0,9,     -999.0,9,     -999.0,9,     -999.0,9,     -999.0,9
33RR20160208,       I08S,      11,          1,         25,         25,2,20160221,       1351,   -63.5350,    82.0005,       3450,   349.1,   1.9936,  34.6738,2,  34.6741,2,    175.9,2,   175.1,2,    83.3,2,   -0.03,2,   33.18,2,    0.01,2,    2.34,2,-999.000,9,-999.000,9,-999.000,9,-999.000000000,9,  -999.0,9, -999.00,9,-999.0000,9,  -999.00,   1.9941, -999.00,9,  -999.0,9,  -999.0, -999.00,1,-999.000,9,  -999.0,9, -999.00,9,     -999.0,9, -999.00,9, 20160221,     1516, -63.5351,  82.0005,     -999.0,9,     -999.0,9,     -999.0,9,-999.0000,9,-999.0000,9,-999.0000,9,-999.0000,9,-999.0000,9,-999.0000,9,-999.0000,9,     -999.0,9,     -999.0,9,     -999.0,9,     -999.0,9,     -999.0,9
33RR20160208,       I08S,      11,          1,         26,         26,2,20160221,       1351,   -63.5350,    82.0005,       3450,   300.3,   1.9923,  34.6548,2,  34.6557,2,    172.0,2,   172.7,2,    82.7,2,   -0.03,2,   33.75,2,    0.01,2,    2.33,2,   0.570,2,   0.309,2,   0.042,2,         0.368,2,  2262.6,2, 2339.43,2,   7.5441,2,    24.98,   1.9930, -999.00,9,  -999.0,9,  -999.0, -999.00,1,-999.000,9,  -999.0,9, -999.00,9,     -999.0,9, -999.00,9, 20160221,     1518, -63.5351,  82.0006,     -999.0,9,     -999.0,9,     -999.0,9,-999.0000,9,-999.0000,9,-999.0000,9,-999.0000,9,-999.0000,9,-999.0000,9,-999.0000,9,     -999.0,9,     -999.0,9,     -999.0,9,     -999.0,9,     -999.0,9
33RR20160208,       I08S,      11,          1,         27,         27,2,20160221,       1351,   -63.5350,    82.0005,       3450,   249.9,   1.9904,  34.6295,2,  34.6300,2,    169.6,2,   169.8,2,    82.0,2,   -0.03,2,   34.37,2,    0.01,2,    2.38,2,-999.000,9,-999.000,9,-999.000,9,-999.000000000,9,  -999.0,9, -999.00,9,-999.0000,9,     9.00,   1.9907, -999.00,9,  -999.0,9,  -999.0, -999.00,1,-999.000,9,  -999.0,9, -999.00,9,     -999.0,9, -999.00,9, 20160221,     1520, -63.5351,  82.0007,     -999.0,9,     -999.0,9,     -999.0,9,-999.0000,9,-999.0000,9,-999.0000,9,-999.0000,9,-999.0000,9,-999.0000,9,-999.0000,9,     -999.0,9,     -999.0,9,     -999.0,9,     -999.0,9,     -999.0,9