BOTTLE,20220706CCHSIOAMB
EXPOCODE,SECT_ID,STNNBR,CASTNO,SAMPNO,BTLNBR,BTLNBR_FLAG_W,DATE,TIME,LATITUDE,LONGITUDE,DEPTH,CTDPRS,CTDTMP,CTDSAL,CTDSAL_FLAG_W,SALNTY,SALNTY_FLAG_W,CTDOXY,CTDOXY_FLAG_W,OXYGEN,OXYGEN_FLAG_W,SILCAT,SILCAT_FLAG_W,NH4,NH4_FLAG_W,NITRAT,NITRAT_FLAG_W,NITRIT,NITRIT_FLAG_W,PHSPHT,PHSPHT_FLAG_W,CFC-11,CFC-11_FLAG_W,CFC-12,CFC-12_FLAG_W,CFC113,CFC113_FLAG_W,SF6,SF6_FLAG_W,TCARBN,TCARBN_FLAG_W,ALKALI,ALKALI_FLAG_W,PH_TOT,PH_TOT_FLAG_W,PH_TMP,REFTMP,DELC13,DELC13_FLAG_W,DELC14,DELC14_FLAG_W,C14ERR,DELO18,DELO18_FLAG_W,POC,POC_FLAG_W,DOC,DOC_FLAG_W,TDN,TDN_FLAG_W,TON,TON_FLAG_W,D15N_NO3,D15N_NO3_FLAG_W,BTL_DATE,BTL_TIME,BTL_LAT,BTL_LON,14C-DOC,14C-DOC_FLAG_W,CHLORA,CHLORA_FLAG_W,HPLC,HPLC_FLAG_W,CDOM325,CDOM325_FLAG_W,CDOM340,CDOM340_FLAG_W,CDOM380,CDOM380_FLAG_W,CDOM412,CDOM412_FLAG_W,CDOM443,CDOM443_FLAG_W,CDOM490,CDOM490_FLAG_W,CDOM555,CDOM555_FLAG_W,CDOMSL,CDOMSL_FLAG_W,CDOMSN,CDOMSN_FLAG_W,D18O_NO3,D18O_NO3_FLAG_W,D15N_NO2+NO3,D15N_NO2+NO3_FLAG_W,D18O_NO2+NO3,D18O_NO2+NO3_FLAG_W
,,,,,,,,,,,METERS,DBAR,ITS-90,PSS-78,,PSS-78,,UMOL/KG,,UMOL/KG,,UMOL/KG,,UMOL/KG,,UMOL/KG,,UMOL/KG,,UMOL/KG,,PMOL/KG,,PMOL/KG,,PMOL/KG,,FMOL/KG,,UMOL/KG,,UMOL/KG,,,,DEG C,DEG C,/MILLE,,/MILLE,,/MILLE,/MILLE,,UG/KG,,UMOL/KG,,UMOL/KG,,UMOL/KG,,/MILLE,,,,,,/MILLE,,MG/M3,,,,1/M,,1/M,,1/M,,1/M,,1/M,,1/M,,1/M,,1/NM,,1/NM,,/MILLE,,/MILLE,,/MILLE,
33RR20160208,       I08S,       6,          1,          1,          1,2,20160220,       0346,   -66.1500,    78.0102,       3009,  3025.5,  -0.1680,  34.6599,2,  34.6599,2,    231.8,2,   231.9,2,   138.3,2,    0.00,2,   32.87,2,    0.00,2,    2.29,2,   1.196,2,   0.590,2,   0.079,2,         0.349,2,  2260.7,6, 2355.21,2,   7.5936,3,    25.07,  -0.1681, -999.00,9,  -999.0,9,  -999.0, -999.00,1,-999.000,9,    40.3,2, -999.00,9,     -999.0,1, -999.00,9, 20160220,      346, -66.1500,  78.0102,     -999.0,9,     -999.0,9,     -999.0,9,-999.0000,9,-999.0000,9,-999.0000,9,-999.0000,9,-999.0000,9,-999.0000,9,-999.0000,9,     -999.0,9,     -999.0,9,     -999.0,9,     -999.0,9,     -999.0,9
33RR20160208,       I08S,       6,          1,          2,          2,2,20160220,       0346,   -66.1500,    78.0102,       3009,  2819.1,  -0.0713,  34.6615,2,  34.6632,2,    232.1,2,   232.6,2,   121.4,2,    0.00,2,   32.40,2,    0.00,2,    2.27,2,   1.440,2,   0.729,2,   0.103,2,         0.587,2,  2259.5,2, 2354.40,2,   7.5915,2,    25.03,  -0.0711, -999.00,9,  -999.0,9,  -999.0, -999.00,1,-999.000,9,    39.9,2, -999.00,9,     -999.0,1, -999.00,9, 20160220,      351, -66.1500,  78.0103,     -999.0,9,     -999.0,9,     -999.0,9,-999.0000,9,-999.0000,9,-999.0000,9,-999.0000,9,-999.0000,9,-999.0000,9,-999.0000,9,     -999.0,9,     -999.0,9,     -999.0,9,     -999.0,9,     -999.0,9
33RR20160208,       I08S,       6,          1,          3,          3,2,20160220,       0346,   -66.1500,    78.0102,       3009,  2664.5,  -0.0427,  34.6617,2,  34.6614,2,    231.5,2,   232.0,2,   120.0,2,    0.00,2,   32.35,2,    0.00,2,    2.26,2,   1.390,2,   0.700,2,   0.102,2,         0.568,2,  2258.8,2, 2354.64,2,   7.5915,6,    25.06,  -0.0428, -999.00,9,  -999.0,9,  -999.0, -999.00,1,-999.000,9,    39.9,2, -999.00,9,     -999.0,1, -999.00,9, 20160220,      355, -66.1500,  78.0102,     -999.0,9,     -999.0,9,     -999.0,9,-999.0000,9,-999.0000,9,-999.0000,9,-999.0000,9,-999.0000,9,-999.0000,9,-999.0000,9,     -999.0,9,     -999.0,9,     -999.0,9,     -999.0,9,     -999.0,9
33RR20160208,       I08S,       6,          1,          4,          4,2,20160220,       0346,   -66.1500,    78.0102,       3009,  2461.3,  -0.0084,  34.6630,2,  34.6626,2,    230.4,2,   230.4,2,   119.2,2,    0.00,2,   32.38,2,    0.00,2,    2.25,2,   1.274,2,   0.644,2,   0.091,2,         0.489,2,  -999.0,9, -999.00,9,-999.0000,9,  -999.00,  -0.0084, -999.00,9,  -999.0,9,  -999.0, -999.00,1,-999.000,9,    41.6,2, -999.00,9,     -999.0,1, -999.00,9, 20160220,      400, -66.1500,  78.0102,     -999.0,9,     -999.0,9,     -999.0,9,-999.0000,9,-999.0000,9,-999.0000,9,-999.0000,9,-999.0000,9,-999.0000,9,-999.0000,9,     -999.0,9,     -999.0,9,     -999.0,9,     -999.0,9,     -999.0,9
33RR20160208,       I08S,       6,          1,          5,          5,2,20160220,       0346,   -66.1500,    78.0102,       3009,  2260.3,  -0.0044,  34.6606,2,  34.6606,2,    231.4,2,   230.7,2,   117.3,2,    0.00,2,   32.42,2,    0.00,2,    2.25,2,   1.337,2,   0.673,2,   0.098,2,         0.516,2,  2258.6,2, 2354.11,2,   7.5925,6,    25.05,  -0.0044, -999.00,9,  -999.0,9,  -999.0, -999.00,1,-999.000,9,    40.4,2, -999.00,9,     -999.0,1, -999.00,9, 20160220,      405, -66.1500,  78.0103,     -999.0,9,     -999.0,9,     -999.0,9,-999.0000,9,-999.0000,9,-999.0000,9,-999.0000,9,-999.0000,9,-999.0000,9,-999.0000,9,     -999.0,9,     -999.0,9,     -999.0,9,     -999.0,9,     -999.0,9
33RR20160208,       I08S,       6,          1,          6,          6,2,20160220,       0346,   -66.1500,    78.0102,       3009,  2057.3,   0.0094,  34.6597,2,  34.6596,2,    231.3,2,   231.0,2,   115.8,2,    0.00,2,   32.36,2,    0.00,2,    2.26,2,   1.336,2,   0.690,2,   0.101,2,         0.547,2,  -999.0,9, -999.00,9,-999.0000,9,  -999.00,   0.0092, -999.00,9,  -999.0,9,  -999.0, -999.00,1,-999.000,9,    39.6,2, -999.00,9,     -999.0,1, -999.00,9, 20160220,      410, -66.1501,  78.0102,     -999.0,9,     -999.0,9,     -999.0,9,-999.0000,9,-999.0000,9,-999.0000,9,-999.0000,9,-999.0000,9,-999.0000,9,-999.0000,9,     -999.0,9,     -999.0,9,     -999.0,9,     -999.0,9,     -999.0,9
33RR20160208,       I08S,       6,          1,          7,          7,2,20160220,       0346,   -66.1500,    78.0102,       3009,  1935.2,   0.0223,  34.6596,2,  34.6582,2,    230.7,2,   230.3,2,   114.7,2,    0.00,2,   32.31,2,    0.00,2,    2.26,2,   1.324,2,   0.678,2,   0.098,2,         0.566,2,  2256.6,2, 2354.21,2,   7.5916,2,    25.06,   0.0224,    0.48,2,  -156.0,2,     2.1, -999.00,1,-999.000,9,    41.1,2, -999.00,9,     -999.0,1, -999.00,9, 20160220,      414, -66.1500,  78.0102,     -999.0,9,     -999.0,9,     -999.0,9,-999.0000,9,-999.0000,9,-999.0000,9,-999.0000,9,-999.0000,9,-999.0000,9,-999.0000,9,     -999.0,9,     -999.0,9,     -999.0,9,     -999.0,9,     -999.0,9
33RR20160208,       I08S,       6,          1,          8,          8,2,20160220,       0346,   -66.1500,    78.0102,       3009,  1835.6,   0.0432,  34.6597,2,  34.6582,2,    229.7,2,   228.3,2,   114.4,2,    0.00,2,   32.26,2,    0.00,2,    2.24,2,   1.281,2,   0.667,2,   0.097,2,         0.537,2,  2256.8,2, 2353.74,2,   7.5913,2,    25.04,   0.0435, -999.00,9,  -999.0,9,  -999.0, -999.00,1,-999.000,9,    39.4,2, -999.00,9,     -999.0,1, -999.00,9, 20160220,      417, -66.1501,  78.0102,     -999.0,9,     -999.0,9,     -999.0,9,-999.0000,9,-999.0000,9,-999.0000,9,-999.0000,9,-999.0000,9,-999.0000,9,-999.0000,9,     -999.0,9,     -999.0,9,     -999.0,9,     -999.0,9,     -999.0,9
33RR20160208,       I08S,       6,          1,          9,          9,2,20160220,       0346,   -66.1500,    78.0102,       3009,  1732.9,   0.0723,  34.6606,2,  34.6593,2,    229.0,2,   228.3,2,   113.7,2,    0.00,2,   32.22,2,    0.00,2,    2.25,2,   1.309,2,   0.627,2,   0.089,2,         0.475,2,  2259.2,2, 2354.04,2,   7.5919,2,    25.03,   0.0726,    0.51,2,  -153.5,2,     2.2, -999.00,1,-999.000,9,    40.4,2, -999.00,9,     -999.0,1, -999.00,9, 20160220,      420, -66.1500,  78.0102,     -999.0,9,     -999.0,9,     -999.0,9,-999.0000,9,-999.0000,9,-999.0000,9,-999.0000,9,-999.0000,9,-999.0000,9,-999.0000,9,     -999.0,9,     -999.0,9,     -999.0,9,     -999.0,9,     -999.0,9
33RR20160208,       I08S,       6,          1,         10,         10,2,20160220,       0346,   -66.1500,    78.0102,       3009,  1630.8,   0.1353,  34.6647,2,  34.6628,2,    227.6,2,   226.3,2,   114.7,2,    0.00,2,   32.27,2,    0.00,2,    2.25,2,   1.094,2,   0.569,2,   0.080,2,         0.449,2,  2259.3,2, 2354.41,2,   7.5923,2,    25.04,   0.1354, -999.00,9,  -999.0,9,  -999.0, -999.00,1,-999.000,9,    40.8,2, -999.00,9,     -999.0,1, -999.00,9, 20160220,      424, -66.1500,  78.0102,     -999.0,9,     -999.0,9,     -999.0,9,-999.0000,9,-999.0000,9,-999.0000,9,-999.0000,9,-999.0000,9,-999.0000,9,-999.0000,9,     -999.0,9,     -999.0,9,     -999.0,9,     -999.0,9,     -999.0,9
33RR20160208,       I08S,       6,          1,         11,         11,2,20160220,       0346,   -66.1500,    78.0102,       3009,  1533.4,   0.1620,  34.6650,2,  34.6633,2,    225.6,2,   225.3,2,   113.8,2,    0.00,2,   32.28,2,    0.00,2,    2.24,2,   1.084,2,   0.571,2,   0.081,2,         0.471,2,  2255.4,2, 2354.79,2,   7.5920,2,    25.08,   0.1619,    0.50,2,  -147.8,2,     1.5, -999.00,1,-999.000,9,    39.4,2, -999.00,9,     -999.0,1, -999.00,9, 20160220,      426, -66.1500,  78.0102,     -999.0,9,     -999.0,9,     -999.0,9,-999.0000,9,-999.0000,9,-999.0000,9,-999.0000,9,-999.0000,9,-999.0000,9,-999.0000,9,     -999.0,9,     -999.0,9,     -999.0,9,     -999.0,9,     -999.0,9
33RR20160208,       I08S,       6,          1,         12,         12,2,20160220,       0346,   -66.1500,    78.0102,       3009,  1431.7,   0.2041,  34.6665,2,  34.6643,2,    224.8,2,   225.2,2,   113.1,2,    0.00,2,   32.28,2,    0.00,2,    2.24,2,   1.061,2,   0.569,2,   0.078,2,         0.445,2,  -999.0,9, -999.00,9,-999.0000,9,  -999.00,   0.2042, -999.00,9,  -999.0,9,  -999.0, -999.00,1,-999.000,9,    40.4,2, -999.00,9,     -999.0,1, -999.00,9, 20160220,      429, -66.1500,  78.0102,     -999.0,9,     -999.0,9,     -999.0,9,-999.0000,9,-999.0000,9,-999.0000,9,-999.0000,9,-999.0000,9,-999.0000,9,-999.0000,9,     -999.0,9,     -999.0,9,     -999.0,9,     -999.0,9,     -999.0,9
33RR20160208,       I08S,       6,          1,         13,         13,2,20160220,       0346,   -66.1500,    78.0102,       3009,  1335.2,   0.2534,  34.6692,2,  34.6666,2,    222.7,2,   222.6,2,   112.5,2,    0.00,2,   32.19,2,    0.00,2,    2.24,2,   1.000,2,   0.523,2,   0.077,2,         0.413,2,  2258.7,2, 2353.74,2,   7.5924,2,    25.05,   0.2536,    0.50,2,  -153.8,2,     1.8, -999.00,1,-999.000,9,    41.8,2, -999.00,9,     -999.0,1, -999.00,9, 20160220,      432, -66.1500,  78.0102,     -999.0,9,     -999.0,9,     -999.0,9,-999.0000,9,-999.0000,9,-999.0000,9,-999.0000,9,-999.0000,9,-999.0000,9,-999.0000,9,     -999.0,9,     -999.0,9,     -999.0,9,     -999.0,9,     -999.0,9
33RR20160208,       I08S,       6,          1,         14,         14,2,20160220,       0346,   -66.1500,    78.0102,       3009,  1233.4,   0.2746,  34.6670,2,  34.6652,2,    222.1,2,   224.0,2,   109.7,2,    0.00,2,   32.09,2,    0.00,2,    2.24,2,   1.094,2,   0.584,2,   0.082,2,         0.495,2,  -999.0,9, -999.00,9,-999.0000,9,     9.00,   0.2753, -999.00,9,  -999.0,9,  -999.0, -999.00,1,-999.000,9,    40.6,2, -999.00,9,     -999.0,1, -999.00,9, 20160220,      435, -66.1500,  78.0101,     -999.0,9,     -999.0,9,     -999.0,9,-999.0000,9,-999.0000,9,-999.0000,9,-999.0000,9,-999.0000,9,-999.0000,9,-999.0000,9,     -999.0,9,     -999.0,9,     -999.0,9,     -999.0,9,     -999.0,9
33RR20160208,       I08S,       6,          1,         15,         15,2,20160220,       0346,   -66.1500,    78.0102,       3009,  1134.4,   0.3470,  34.6698,2,  34.6679,2,    222.7,2,   221.9,2,   108.3,2,    0.00,2,   32.02,2,    0.00,2,    2.23,2,   1.027,2,   0.550,2,   0.078,2,         0.463,2,  2257.6,2, 2354.78,2,   7.5930,6,    25.05,   0.3523,    0.54,2,  -156.3,2,     1.6, -999.00,1,-999.000,9,    40.6,2, -999.00,9,     -999.0,1, -999.00,9, 20160220,      438, -66.1500,  78.0101,     -999.0,9,     -999.0,9,     -999.0,9,-999.0000,9,-999.0000,9,-999.0000,9,-999.0000,9,-999.0000,9,-999.0000,9,-999.0000,9,     -999.0,9,     -999.0,9,     -999.0,9,     -999.0,9,     -999.0,9
33RR20160208,       I08S,       6,          1,         16,         16,2,20160220,       0346,   -66.1500,    78.0102,       3009,  1034.3,   0.3936,  34.6699,2,  34.6661,2,    222.2,2,   220.8,2,   105.8,2,    0.00,2,   31.89,2,    0.00,2,    2.23,2,   1.081,2,   0.569,2,   0.083,2,         0.521,2,  -999.0,9, -999.00,9,-999.0000,9,  -999.00,   0.3937, -999.00,9,  -999.0,9,  -999.0, -999.00,1,-999.000,9,    41.6,2, -999.00,9,     -999.0,1, -999.00,9, 20160220,      440, -66.1500,  78.0102,     -999.0,9,     -999.0,9,     -999.0,9,-999.0000,9,-999.0000,9,-999.0000,9,-999.0000,9,-999.0000,9,-999.0000,9,-999.0000,9,     -999.0,9,     -999.0,9,     -999.0,9,     -999.0,9,     -999.0,9
33RR20160208,       I08S,       6,          1,         17,         17,2,20160220,       0346,   -66.1500,    78.0102,       3009,   932.2,   0.4402,  34.6684,2,  34.6659,2,    222.2,2,   221.7,2,   102.5,2,    0.00,2,   31.81,2,    0.00,2,    2.22,2,   1.156,2,   0.607,2,   0.091,2,         0.553,2,  2265.2,2, 2333.13,3,   7.5935,6,    25.05,   0.4405,    0.49,2,  -151.5,2,     1.8, -999.00,1,-999.000,9,    40.4,2, -999.00,9,     -999.0,1, -999.00,9, 20160220,      443, -66.1501,  78.0101,     -999.0,9,     -999.0,9,     -999.0,9,-999.0000,9,-999.0000,9,-999.0000,9,-999.0000,9,-999.0000,9,-999.0000,9,-999.0000,9,     -999.0,9,     -999.0,9,     -999.0,9,     -999.0,9,     -999.0,9
33RR20160208,       I08S,       6,          1,         18,         18,2,20160220,       0346,   -66.1500,    78.0102,       3009,   833.6,   0.5646,  34.6753,2,  34.6733,2,    219.6,2,   218.7,2,   102.1,2,    0.00,2,   31.81,2,    0.00,2,    2.22,2,   1.052,2,   0.556,2,   0.083,2,         0.472,2,  -999.0,9, -999.00,9,-999.0000,9,  -999.00,   0.5644, -999.00,9,  -999.0,9,  -999.0, -999.00,1,-999.000,9,    41.0,2, -999.00,9,     -999.0,1, -999.00,9, 20160220,      446, -66.1500,  78.0102,     -999.0,9,     -999.0,9,     -999.0,9,-999.0000,9,-999.0000,9,-999.0000,9,-999.0000,9,-999.0000,9,-999.0000,9,-999.0000,9,     -999.0,9,     -999.0,9,     -999.0,9,     -999.0,9,     -999.0,9
33RR20160208,       I08S,       6,          1,         19,         19,2,20160220,       0346,   -66.1500,    78.0102,       3009,   732.5,   0.4967,  34.6594,2,  34.6584,2,    224.8,2,   223.5,2,    95.3,2,    0.00,2,   31.62,2,    0.00,2,    2.21,2,   1.365,2,   0.709,2,   0.114,2,         0.595,2,  2251.8,2, 2349.65,2,   7.5926,6,    25.06,   0.4954,    0.51,2,  -150.9,2,     1.5, -999.00,1,-999.000,9,    41.1,2, -999.00,9,     -999.0,1, -999.00,9, 20160220,      448, -66.1500,  78.0102,     -999.0,9,     -999.0,9,     -999.0,9,-999.0000,9,-999.0000,9,-999.0000,9,-999.0000,9,-999.0000,9,-999.0000,9,-999.0000,9,     -999.0,9,     -999.0,9,     -999.0,9,     -999.0,9,     -999.0,9
33RR20160208,       I08S,       6,          1,         20,         20,2,20160220,       0346,   -66.1500,    78.0102,       3009,   632.0,   0.3663,  34.6364,2,  34.6345,2,    231.9,2,   230.2,2,    89.8,2,    0.00,2,   31.48,2,    0.00,2,    2.20,2,   1.729,2,   0.908,2,   0.143,2,         0.743,2,  -999.0,9, -999.00,9,-999.0000,9,     9.00,   0.3663, -999.00,9,  -999.0,9,  -999.0, -999.00,1,-999.000,9,    40.6,2, -999.00,9,     -999.0,1, -999.00,9, 20160220,      451, -66.1500,  78.0102,     -999.0,9,     -999.0,9,     -999.0,9,-999.0000,9,-999.0000,9,-999.0000,9,-999.0000,9,-999.0000,9,-999.0000,9,-999.0000,9,     -999.0,9,     -999.0,9,     -999.0,9,     -999.0,9,     -999.0,9
33RR20160208,       I08S,       6,          1,         21,         21,2,20160220,       0346,   -66.1500,    78.0102,       3009,   532.8,   0.0064,  34.5865,2,  34.5829,2,    244.9,2,   243.9,2,    81.9,2,    0.00,2,   31.37,2,    0.00,2,    2.19,2,   2.478,2,   1.327,2,   0.221,2,         1.201,2,  2245.4,2, 2340.35,2,   7.5916,2,    25.06,   0.0065,    0.46,2,  -139.1,2,     1.6, -999.00,1,-999.000,9,    41.1,2, -999.00,9,     -999.0,1, -999.00,9, 20160220,      454, -66.1500,  78.0102,     -999.0,9,     -999.0,9,     -999.0,9,-999.0000,9,-999.0000,9,-999.0000,9,-999.0000,9,-999.0000,9,-999.0000,9,-999.0000,9,     -999.0,9,     -999.0,9,     -999.0,9,     -999.0,9,     -999.0,9
33RR20160208,       I08S,       6,          1,         22,         22,2,20160220,       0346,   -66.1500,    78.0102,       3009,   462.3,  -0.5770,  34.5230,2,  34.5213,2,    266.8,2,   266.7,2,    74.5,2,    0.00,2,   31.15,2,    0.00,2,    2.17,2,   3.619,2,   1.844,2,   0.309,2,         1.685,2,  -999.0,9, -999.00,9,-999.0000,9,  -999.00,  -0.5751, -999.00,9,  -999.0,9,  -999.0, -999.00,1,-999.000,9,    41.9,2, -999.00,9,     -999.0,1, -999.00,9, 20160220,      457, -66.1500,  78.0103,     -999.0,9,     -999.0,9,     -999.0,9,-999.0000,9,-999.0000,9,-999.0000,9,-999.0000,9,-999.0000,9,-999.0000,9,-999.0000,9,     -999.0,9,     -999.0,9,     -999.0,9,     -999.0,9,     -999.0,9
33RR20160208,       I08S,       6,          1,         23,         23,2,20160220,       0346,   -66.1500,    78.0102,       3009,   415.0,  -0.8591,  34.4937,2,  34.4893,2,    274.0,2,   278.0,2,    71.2,2,    0.00,2,   30.95,2,    0.00,2,    2.17,2,   3.876,2,   2.078,2,   0.349,2,         1.995,2,  2235.8,2, 2331.82,2,   7.5975,2,    25.07,  -0.8563,    0.66,2,  -132.6,2,     2.2, -999.00,1,-999.000,9,    41.6,2, -999.00,9,     -999.0,1, -999.00,9, 20160220,      459, -66.1501,  78.0102,     -999.0,9,     -999.0,9,     -999.0,9,-999.0000,9,-999.0000,9,-999.0000,9,-999.0000,9,-999.0000,9,-999.0000,9,-999.0000,9,     -999.0,9,     -999.0,9,     -999.0,9,     -999.0,9,     -999.0,9
33RR20160208,       I08S,       6,          1,         24,         24,2,20160220,       0346,   -66.1500,    78.0102,       3009,   364.9,  -1.2886,  34.4509,2,  34.4506,2,    292.1,2,   293.1,2,    66.9,2,    0.00,2,   30.61,2,    0.00,2,    2.14,2,   4.473,2,   2.443,2,   0.414,2,         2.361,2,  -999.0,9, -999.00,9,-999.0000,9,  -999.00,  -1.2878, -999.00,9,  -999.0,9,  -999.0, -999.00,1,-999.000,9,    40.4,2, -999.00,9,     -999.0,1, -999.00,9, 20160220,      501, -66.1501,  78.0102,     -999.0,9,     -999.0,9,     -999.0,9,-999.0000,9,-999.0000,9,-999.0000,9,-999.0000,9,-999.0000,9,-999.0000,9,-999.0000,9,     -999.0,9,     -999.0,9,     -999.0,9,     -999.0,9,     -999.0,9
33RR20160208,       I08S,       6,          1,         25,         25,2,20160220,       0346,   -66.1500,    78.0102,       3009,   314.7,  -1.3852,  34.4328,2,  34.4330,2,    300.3,2,   298.5,2,    65.1,2,    0.00,2,   30.49,2,    0.00,2,    2.14,2,   4.611,2,   2.496,2,   0.424,2,         2.379,2,  2230.6,2, 2327.75,2,   7.6059,2,    25.05,  -1.3802,    0.79,2,  -120.7,2,     1.6, -999.00,1,-999.000,9,    41.9,2,   32.60,2,     -999.0,1, -999.00,9, 20160220,      503, -66.1501,  78.0102,     -999.0,9,     -999.0,9,     -999.0,9,-999.0000,9,-999.0000,9,-999.0000,9,-999.0000,9,-999.0000,9,-999.0000,9,-999.0000,9,     -999.0,9,     -999.0,9,     -999.0,9,     -999.0,9,     -999.0,9
33RR20160208,       I08S,       6,          1,         26,         26,2,20160220,       0346,   -66.1500,    78.0102,       3009,   264.2,  -1.4972,  34.4111,2,  34.4104,2,    298.5,2,   302.3,2,    63.0,2,    0.00,2,   30.32,2,    0.00,2,    2.11,2,   4.766,2,   2.581,2,   0.451,2,         2.535,2,  2227.4,2, 2326.22,6,   7.6089,2,    25.06,  -1.5037, -999.00,9,  -999.0,9,  -999.0, -999.00,1,-999.000,9,    42.0,2,   34.00,2,     -999.0,1, -999.00,9, 20160220,      504, -66.1500,  78.0102,     -999.0,9,     -999.0,9,     -999.0,9,-999.0000,9,-999.0000,9,-999.0000,9,-999.0000,9,-999.0000,9,-999.0000,9,-999.0000,9,     -999.0,9,     -999.0,9,     -999.0,9,     -999.0,9,     -999.0,9
33RR20160208,       I08S,       6,          1,         27,         27,2,20160220,       0346,   -66.1500,    78.0102,       3009,   234.8,  -1.4916,  34.4027,2,  34.4066,2,    307.6,2,   300.0,2,    63.0,2,    0.00,2,   30.34,2,    0.00,2,    2.11,2,   4.711,2,   2.501,2,   0.432,2,         2.021,2,  2228.1,2, 2326.16,2,   7.6092,2,    25.05,  -1.4911,    0.76,2,  -126.3,2,     1.7, -999.00,1,-999.000,9,    41.5,2,   32.50,2,     -999.0,1, -999.00,9, 20160220,      506, -66.1501,  78.0102,     -999.0,9,     -999.0,9,     -999.0,9,-999.0000,9,-999.0000,9,-999.0000,9,-999.0000,9,-999.0000,9,-999.0000,9,-999.0000,9,     -999.0,9,     -999.0,9,     -999.0,9,     -999.0,9,     -999.0,9