BOTTLE,20220706CCHSIOAMB
EXPOCODE,SECT_ID,STNNBR,CASTNO,SAMPNO,BTLNBR,BTLNBR_FLAG_W,DATE,TIME,LATITUDE,LONGITUDE,DEPTH,CTDPRS,CTDTMP,CTDSAL,CTDSAL_FLAG_W,SALNTY,SALNTY_FLAG_W,CTDOXY,CTDOXY_FLAG_W,OXYGEN,OXYGEN_FLAG_W,SILCAT,SILCAT_FLAG_W,NH4,NH4_FLAG_W,NITRAT,NITRAT_FLAG_W,NITRIT,NITRIT_FLAG_W,PHSPHT,PHSPHT_FLAG_W,CFC-11,CFC-11_FLAG_W,CFC-12,CFC-12_FLAG_W,CFC113,CFC113_FLAG_W,SF6,SF6_FLAG_W,TCARBN,TCARBN_FLAG_W,ALKALI,ALKALI_FLAG_W,PH_TOT,PH_TOT_FLAG_W,PH_TMP,REFTMP,DELC13,DELC13_FLAG_W,DELC14,DELC14_FLAG_W,C14ERR,DELO18,DELO18_FLAG_W,POC,POC_FLAG_W,DOC,DOC_FLAG_W,TDN,TDN_FLAG_W,TON,TON_FLAG_W,D15N_NO3,D15N_NO3_FLAG_W,BTL_DATE,BTL_TIME,BTL_LAT,BTL_LON,14C-DOC,14C-DOC_FLAG_W,CHLORA,CHLORA_FLAG_W,HPLC,HPLC_FLAG_W,CDOM325,CDOM325_FLAG_W,CDOM340,CDOM340_FLAG_W,CDOM380,CDOM380_FLAG_W,CDOM412,CDOM412_FLAG_W,CDOM443,CDOM443_FLAG_W,CDOM490,CDOM490_FLAG_W,CDOM555,CDOM555_FLAG_W,CDOMSL,CDOMSL_FLAG_W,CDOMSN,CDOMSN_FLAG_W,D18O_NO3,D18O_NO3_FLAG_W,D15N_NO2+NO3,D15N_NO2+NO3_FLAG_W,D18O_NO2+NO3,D18O_NO2+NO3_FLAG_W
,,,,,,,,,,,METERS,DBAR,ITS-90,PSS-78,,PSS-78,,UMOL/KG,,UMOL/KG,,UMOL/KG,,UMOL/KG,,UMOL/KG,,UMOL/KG,,UMOL/KG,,PMOL/KG,,PMOL/KG,,PMOL/KG,,FMOL/KG,,UMOL/KG,,UMOL/KG,,,,DEG C,DEG C,/MILLE,,/MILLE,,/MILLE,/MILLE,,UG/KG,,UMOL/KG,,UMOL/KG,,UMOL/KG,,/MILLE,,,,,,/MILLE,,MG/M3,,,,1/M,,1/M,,1/M,,1/M,,1/M,,1/M,,1/M,,1/NM,,1/NM,,/MILLE,,/MILLE,,/MILLE,
33RR20160208,       I08S,      53,          1,          1,          1,2,20160304,       0636,   -44.3510,    95.0001,       3072,  3058.1,   1.4339,  34.7340,2,  34.7347,2,    203.7,2,   203.5,2,   104.7,2,    0.00,2,   31.09,2,    0.00,2,    2.12,2,   0.157,2,   0.081,2,   0.005,2,         0.028,2,  2255.6,6, 2362.34,2,   7.6144,2,    25.00,   1.4336, -999.00,9,  -999.0,9,  -999.0, -999.00,9,-999.000,9,  -999.0,9, -999.00,9,     -999.0,9, -999.00,9, 20160304,      636, -44.3510,  95.0001,     -999.0,9,     -999.0,9,     -999.0,9,   0.1136,2,   0.0792,2,   0.0505,2,   0.0262,2,   0.0141,2,   0.0041,2,   0.0008,2,     0.0146,2,     0.0154,2,     -999.0,9,     -999.0,9,     -999.0,9
33RR20160208,       I08S,      53,          1,          2,          2,2,20160304,       0636,   -44.3510,    95.0001,       3072,  2822.5,   1.4405,  34.7353,2,  34.7356,2,    202.7,2,   203.3,2,   103.3,2,    0.00,2,   31.00,2,    0.00,2,    2.11,2,-999.000,9,-999.000,9,-999.000,9,-999.000000000,9,  2252.8,2, 2361.80,2,   7.6148,2,    25.02,   1.4403, -999.00,9,  -999.0,9,  -999.0, -999.00,9,-999.000,9,  -999.0,9, -999.00,9,     -999.0,9, -999.00,9, 20160304,      641, -44.3510,  95.0001,     -999.0,9,     -999.0,9,     -999.0,9,-999.0000,9,-999.0000,9,-999.0000,9,-999.0000,9,-999.0000,9,-999.0000,9,-999.0000,9,     -999.0,9,     -999.0,9,     -999.0,9,     -999.0,9,     -999.0,9
33RR20160208,       I08S,      53,          1,          3,          3,2,20160304,       0636,   -44.3510,    95.0001,       3072,  2598.4,   1.6564,  34.7444,2,  34.7448,2,    200.6,2,   200.9,2,    96.1,2,    0.00,2,   30.60,2,    0.00,2,    2.08,2,   0.115,2,   0.061,2,   0.000,2,         0.026,2,  -999.0,9, -999.00,9,-999.0000,9,     9.00,   1.6565, -999.00,9,  -999.0,9,  -999.0, -999.00,9,-999.000,9,  -999.0,9, -999.00,9,     -999.0,9, -999.00,9, 20160304,      646, -44.3511,  95.0001,     -999.0,9,     -999.0,9,     -999.0,9,-999.0000,9,-999.0000,9,-999.0000,9,-999.0000,9,-999.0000,9,-999.0000,9,-999.0000,9,     -999.0,9,     -999.0,9,     -999.0,9,     -999.0,9,     -999.0,9
33RR20160208,       I08S,      53,          1,          4,          4,2,20160304,       0636,   -44.3510,    95.0001,       3072,  2399.6,   1.9191,  34.7536,2,  34.7536,2,    199.2,2,   200.0,2,    87.0,2,    0.00,2,   30.09,2,    0.00,2,    2.04,2,-999.000,9,-999.000,9,-999.000,9,-999.000000000,9,  2241.6,2, 2354.77,2,   7.6202,6,    25.00,   1.9191, -999.00,9,  -999.0,9,  -999.0, -999.00,9,-999.000,9,  -999.0,9, -999.00,9,     -999.0,9, -999.00,9, 20160304,      650, -44.3510,  95.0001,     -999.0,9,     -999.0,9,     -999.0,9,-999.0000,9,-999.0000,9,-999.0000,9,-999.0000,9,-999.0000,9,-999.0000,9,-999.0000,9,     -999.0,9,     -999.0,9,     -999.0,9,     -999.0,9,     -999.0,9
33RR20160208,       I08S,      53,          1,          5,          5,2,20160304,       0636,   -44.3510,    95.0001,       3072,  2200.9,   2.1221,  34.7527,2,  34.7530,2,    197.0,2,   197.0,2,    80.5,2,    0.00,2,   30.02,2,    0.00,2,    2.04,2,   0.128,2,   0.070,2,   0.000,2,         0.074,2,  -999.0,9, -999.00,9,-999.0000,9,  -999.00,   2.1223, -999.00,9,  -999.0,9,  -999.0, -999.00,9,-999.000,9,  -999.0,9, -999.00,9,     -999.0,9, -999.00,9, 20160304,      655, -44.3510,  95.0001,     -999.0,9,     -999.0,9,     -999.0,9,-999.0000,9,-999.0000,9,-999.0000,9,-999.0000,9,-999.0000,9,-999.0000,9,-999.0000,9,     -999.0,9,     -999.0,9,     -999.0,9,     -999.0,9,     -999.0,9
33RR20160208,       I08S,      53,          1,          6,         38,2,20160304,       0636,   -44.3510,    95.0001,       3072,  2001.8,   2.2643,  34.7424,2,  34.7424,2,    193.3,2,   193.5,2,    76.3,2,    0.00,2,   30.23,2,    0.00,2,    2.06,2,-999.000,9,-999.000,9,-999.000,9,-999.000000000,9,  2239.7,2, 2348.15,6,   7.6120,2,    25.01,   2.2646, -999.00,9,  -999.0,9,  -999.0, -999.00,9,-999.000,9,  -999.0,9, -999.00,9,     -999.0,9, -999.00,9, 20160304,      659, -44.3510,  95.0002,     -999.0,9,     -999.0,9,     -999.0,9,-999.0000,5,-999.0000,5,-999.0000,5,-999.0000,5,-999.0000,5,-999.0000,5,-999.0000,5,     -999.0,5,     -999.0,5,     -999.0,9,     -999.0,9,     -999.0,9
33RR20160208,       I08S,      53,          1,          7,          7,2,20160304,       0636,   -44.3510,    95.0001,       3072,  1800.9,   2.3993,  34.7159,2,  34.7158,2,    187.8,2,   188.1,2,    73.7,2,    0.00,2,   30.90,2,    0.00,2,    2.10,2,   0.203,2,   0.108,2,   0.004,2,          0.03,2,  -999.0,9, -999.00,9,-999.0000,9,  -999.00,   2.4001, -999.00,9,  -999.0,9,  -999.0, -999.00,9,-999.000,9,  -999.0,9, -999.00,9,     -999.0,9, -999.00,9, 20160304,      704, -44.3510,  95.0002,     -999.0,9,     -999.0,9,     -999.0,9,-999.0000,9,-999.0000,9,-999.0000,9,-999.0000,9,-999.0000,9,-999.0000,9,-999.0000,9,     -999.0,9,     -999.0,9,     -999.0,9,     -999.0,9,     -999.0,9
33RR20160208,       I08S,      53,          1,          8,          8,2,20160304,       0636,   -44.3510,    95.0001,       3072,  1702.8,   2.4516,  34.6986,2,  34.6985,2,    184.4,2,   185.2,2,    73.3,2,    0.00,2,   31.33,2,    0.00,2,    2.14,2,   0.237,2,   0.127,2,   0.005,2,         0.062,2,  2244.1,2, 2342.63,2,   7.5925,6,    25.01,   2.4513, -999.00,9,  -999.0,9,  -999.0, -999.00,9,-999.000,9,  -999.0,9, -999.00,9,     -999.0,9, -999.00,9, 20160304,      707, -44.3511,  95.0001,     -999.0,9,     -999.0,9,     -999.0,9,-999.0000,9,-999.0000,9,-999.0000,9,-999.0000,9,-999.0000,9,-999.0000,9,-999.0000,9,     -999.0,9,     -999.0,9,     -999.0,9,     -999.0,9,     -999.0,9
33RR20160208,       I08S,      53,          1,          9,          9,2,20160304,       0636,   -44.3510,    95.0001,       3072,  1601.2,   2.5020,  34.6734,2,  34.6732,2,    181.3,2,   181.3,2,    72.4,2,    0.00,2,   31.91,2,    0.00,2,    2.17,2,   0.304,2,   0.159,2,   0.010,2,         0.091,2,  -999.0,9, -999.00,9,-999.0000,9,     9.00,   2.5020, -999.00,9,  -999.0,9,  -999.0, -999.00,9,-999.000,9,  -999.0,9, -999.00,9,     -999.0,9, -999.00,9, 20160304,      709, -44.3510,  95.0002,     -999.0,9,     -999.0,9,     -999.0,9,-999.0000,9,-999.0000,9,-999.0000,9,-999.0000,9,-999.0000,9,-999.0000,9,-999.0000,9,     -999.0,9,     -999.0,9,     -999.0,9,     -999.0,9,     -999.0,9
33RR20160208,       I08S,      53,          1,         10,         10,2,20160304,       0636,   -44.3510,    95.0001,       3072,  1501.7,   2.5563,  34.6452,2,  34.6453,2,    178.7,2,   179.1,2,    71.0,2,    0.00,2,   32.46,2,    0.00,2,    2.22,2,   0.371,2,   0.195,2,   0.013,2,         0.104,2,  2244.3,2, 2339.03,2,   7.5758,2,    25.01,   2.5562, -999.00,9,  -999.0,9,  -999.0, -999.00,9,-999.000,9,  -999.0,9, -999.00,9,     -999.0,9, -999.00,9, 20160304,      712, -44.3510,  95.0001,     -999.0,9,     -999.0,9,     -999.0,9,   0.1134,2,   0.0763,2,   0.0415,2,   0.0251,2,   0.0141,2,   0.0042,2,   0.0008,2,     0.0171,2,     0.0188,2,     -999.0,9,     -999.0,9,     -999.0,9
33RR20160208,       I08S,      53,          1,         11,         11,2,20160304,       0636,   -44.3510,    95.0001,       3072,  1400.3,   2.6161,  34.6043,2,  34.6047,2,    176.3,2,   175.7,2,    69.3,2,    0.00,2,   33.17,2,    0.00,2,    2.27,2,   0.502,2,   0.257,2,   0.024,2,         0.139,2,  -999.0,9, -999.00,9,-999.0000,9,  -999.00,   2.6145, -999.00,9,  -999.0,9,  -999.0, -999.00,9,-999.000,9,  -999.0,9, -999.00,9,     -999.0,9, -999.00,9, 20160304,      715, -44.3510,  95.0002,     -999.0,9,     -999.0,9,     -999.0,9,-999.0000,9,-999.0000,9,-999.0000,9,-999.0000,9,-999.0000,9,-999.0000,9,-999.0000,9,     -999.0,9,     -999.0,9,     -999.0,9,     -999.0,9,     -999.0,9
33RR20160208,       I08S,      53,          1,         12,         12,2,20160304,       0636,   -44.3510,    95.0001,       3072,  1299.9,   2.7062,  34.5669,2,  34.5672,2,    176.0,2,   176.6,2,    67.0,2,    0.00,2,   33.60,2,    0.00,2,    2.29,2,   0.628,2,   0.321,2,   0.031,2,         0.166,2,  2246.2,6, 2332.86,2,   7.5621,6,    25.00,   2.7062, -999.00,9,  -999.0,9,  -999.0, -999.00,9,-999.000,9,  -999.0,9, -999.00,9,     -999.0,9, -999.00,9, 20160304,      718, -44.3510,  95.0002,     -999.0,9,     -999.0,9,     -999.0,9,-999.0000,9,-999.0000,9,-999.0000,9,-999.0000,9,-999.0000,9,-999.0000,9,-999.0000,9,     -999.0,9,     -999.0,9,     -999.0,9,     -999.0,9,     -999.0,9
33RR20160208,       I08S,      53,          1,         13,         13,2,20160304,       0636,   -44.3510,    95.0001,       3072,  1200.2,   2.8192,  34.5277,2,  34.5283,2,    177.5,2,   176.9,2,    64.1,2,    0.00,2,   33.94,2,    0.00,2,    2.32,2,   0.796,2,   0.392,2,   0.049,2,         0.203,2,  -999.0,9, -999.00,9,-999.0000,9,  -999.00,   2.8188, -999.00,9,  -999.0,9,  -999.0, -999.00,9,-999.000,9,  -999.0,9, -999.00,9,     -999.0,9, -999.00,9, 20160304,      720, -44.3510,  95.0001,     -999.0,9,     -999.0,9,     -999.0,9,   0.1065,2,   0.0734,2,   0.0483,2,   0.0249,2,   0.0135,2,   0.0037,2,   0.0005,2,     0.0141,2,     0.0150,2,     -999.0,9,     -999.0,9,     -999.0,9
33RR20160208,       I08S,      53,          1,         14,         14,2,20160304,       0636,   -44.3510,    95.0001,       3072,  1100.2,   2.8165,  34.4467,2,  34.4481,2,    184.1,2,   183.6,2,    58.8,2,    0.00,2,   34.16,2,    0.00,2,    2.33,2,   1.294,2,   0.635,2,   0.090,2,         0.368,2,  -999.0,9, -999.00,9,-999.0000,9,  -999.00,   2.8140, -999.00,9,  -999.0,9,  -999.0, -999.00,9,-999.000,9,  -999.0,9, -999.00,9,     -999.0,9, -999.00,9, 20160304,      723, -44.3511,  95.0001,     -999.0,9,     -999.0,9,     -999.0,9,-999.0000,9,-999.0000,9,-999.0000,9,-999.0000,9,-999.0000,9,-999.0000,9,-999.0000,9,     -999.0,9,     -999.0,9,     -999.0,9,     -999.0,9,     -999.0,9
33RR20160208,       I08S,      53,          1,         15,         15,2,20160304,       0636,   -44.3510,    95.0001,       3072,  1000.1,   3.0340,  34.4030,2,  34.4022,2,    190.5,2,   189.6,2,    52.6,2,    0.00,2,   33.75,2,    0.00,2,    2.31,2,   1.561,2,   0.767,2,   0.110,2,          0.45,2,  2228.5,2, 2316.22,2,   7.5633,2,    25.02,   3.0324, -999.00,9,  -999.0,9,  -999.0, -999.00,9,-999.000,9,  -999.0,9, -999.00,9,     -999.0,9, -999.00,9, 20160304,      726, -44.3510,  95.0001,     -999.0,9,     -999.0,9,     -999.0,9,   0.1012,2,   0.0669,2,   0.0368,2,   0.0225,2,   0.0127,2,   0.0036,2,   0.0005,3,     0.0171,2,     0.0191,2,     -999.0,9,     -999.0,9,     -999.0,9
33RR20160208,       I08S,      53,          1,         16,         16,2,20160304,       0636,   -44.3510,    95.0001,       3072,   900.6,   3.1758,  34.3389,2,  34.3395,2,    204.0,2,   201.3,2,    45.1,2,    0.00,2,   33.02,2,    0.00,2,    2.25,2,   2.051,2,   1.006,2,   0.146,2,         0.676,2,  2219.3,2, 2308.39,2,   7.5746,6,    25.01,   3.1758, -999.00,9,  -999.0,9,  -999.0, -999.00,9,-999.000,9,  -999.0,9, -999.00,9,     -999.0,9, -999.00,9, 20160304,      729, -44.3510,  95.0001,     -999.0,9,     -999.0,9,     -999.0,9,-999.0000,9,-999.0000,9,-999.0000,9,-999.0000,9,-999.0000,9,-999.0000,9,-999.0000,9,     -999.0,9,     -999.0,9,     -999.0,9,     -999.0,9,     -999.0,9
33RR20160208,       I08S,      53,          1,         17,         17,2,20160304,       0636,   -44.3510,    95.0001,       3072,   800.3,   3.4858,  34.2833,2,  34.2835,2,    215.8,2,   214.2,2,    35.9,2,    0.00,2,   31.80,2,    0.00,2,    2.16,2,   2.609,2,   1.298,2,   0.188,2,         0.782,2,  2204.7,2, 2299.83,2,   7.5938,6,    25.00,   3.4862, -999.00,9,  -999.0,9,  -999.0, -999.00,9,-999.000,9,  -999.0,9, -999.00,9,     -999.0,9, -999.00,9, 20160304,      732, -44.3510,  95.0002,     -999.0,9,     -999.0,9,     -999.0,9,-999.0000,9,-999.0000,9,-999.0000,9,-999.0000,9,-999.0000,9,-999.0000,9,-999.0000,9,     -999.0,9,     -999.0,9,     -999.0,9,     -999.0,9,     -999.0,9
33RR20160208,       I08S,      53,          1,         18,         37,2,20160304,       0636,   -44.3510,    95.0001,       3072,   699.0,   3.8947,  34.2449,2,  34.2449,2,    227.2,2,   227.3,2,    27.6,2,    0.00,2,   30.36,2,    0.00,2,    2.04,2,   3.136,2,   1.605,2,   0.233,2,         0.953,2,  2190.2,2, 2292.69,2,   7.6136,2,    25.00,   3.8947, -999.00,9,  -999.0,9,  -999.0, -999.00,9,-999.000,9,  -999.0,9, -999.00,9,     -999.0,9, -999.00,9, 20160304,      734, -44.3510,  95.0001,     -999.0,9,     -999.0,9,     -999.0,9,   0.0848,2,   0.0535,2,   0.0272,2,   0.0177,2,   0.0099,2,   0.0026,2,   0.0002,4,     0.0186,2,     0.0217,2,     -999.0,9,     -999.0,9,     -999.0,9
33RR20160208,       I08S,      53,          1,         19,         19,2,20160304,       0636,   -44.3510,    95.0001,       3072,   600.5,   4.5124,  34.2456,2,  34.2444,2,    231.4,2,   231.6,2,    21.5,2,    0.00,2,   28.80,2,    0.00,2,    1.94,2,   3.367,2,   1.723,2,   0.245,2,         1.228,2,  2180.9,2, 2288.42,2,   7.6315,2,    25.01,   4.5129, -999.00,9,  -999.0,9,  -999.0, -999.00,9,-999.000,9,  -999.0,9, -999.00,9,     -999.0,9, -999.00,9, 20160304,      737, -44.3510,  95.0001,     -999.0,9,     -999.0,9,     -999.0,9,-999.0000,9,-999.0000,9,-999.0000,9,-999.0000,9,-999.0000,9,-999.0000,9,-999.0000,9,     -999.0,9,     -999.0,9,     -999.0,9,     -999.0,9,     -999.0,9
33RR20160208,       I08S,      53,          1,         20,         20,2,20160304,       0636,   -44.3510,    95.0001,       3072,   500.2,   5.1869,  34.2499,2,  34.2491,2,    237.2,2,   237.6,2,    17.2,2,    0.00,2,   26.89,2,    0.00,2,    1.79,2,   3.540,2,   1.861,2,   0.257,2,         1.374,2,  2171.2,2, 2285.07,2,   7.6515,2,    25.01,   5.1905, -999.00,9,  -999.0,9,  -999.0, -999.00,9,-999.000,9,  -999.0,9, -999.00,9,     -999.0,9, -999.00,9, 20160304,      740, -44.3510,  95.0002,     -999.0,9,     -999.0,9,     -999.0,9,   0.0805,2,   0.0511,2,   0.0269,2,   0.0166,2,   0.0090,2,   0.0022,2,  -0.0000,4,     0.0182,2,     0.0211,2,     -999.0,9,     -999.0,9,     -999.0,9
33RR20160208,       I08S,      53,          1,         21,         21,2,20160304,       0636,   -44.3510,    95.0001,       3072,   451.0,   5.5405,  34.2575,2,  34.2548,2,    238.7,2,   239.4,2,    15.5,2,    0.00,2,   25.98,2,    0.00,2,    1.73,2,-999.000,9,-999.000,9,-999.000,9,-999.000000000,9,  -999.0,9, -999.00,9,-999.0000,9,     9.00,   5.5398, -999.00,9,  -999.0,9,  -999.0, -999.00,9,-999.000,9,  -999.0,9, -999.00,9,     -999.0,9, -999.00,9, 20160304,      742, -44.3510,  95.0001,     -999.0,9,     -999.0,9,     -999.0,9,-999.0000,9,-999.0000,9,-999.0000,9,-999.0000,9,-999.0000,9,-999.0000,9,-999.0000,9,     -999.0,9,     -999.0,9,     -999.0,9,     -999.0,9,     -999.0,9
33RR20160208,       I08S,      53,          1,         22,         22,2,20160304,       0636,   -44.3510,    95.0001,       3072,   399.0,   6.0329,  34.2708,2,  34.2694,2,    244.5,2,   244.7,2,    12.3,2,    0.00,2,   24.31,2,    0.00,2,    1.64,2,   3.618,2,   1.933,2,   0.257,2,         1.637,2,  2157.2,2, 2283.90,2,   7.6815,2,    25.01,   6.0299, -999.00,9,  -999.0,9,  -999.0, -999.00,9,-999.000,9,  -999.0,9, -999.00,9,     -999.0,9, -999.00,9, 20160304,      744, -44.3510,  95.0001,     -999.0,9,     -999.0,9,     -999.0,9,-999.0000,9,-999.0000,9,-999.0000,9,-999.0000,9,-999.0000,9,-999.0000,9,-999.0000,9,     -999.0,9,     -999.0,9,     -999.0,9,     -999.0,9,     -999.0,9
33RR20160208,       I08S,      53,          1,         23,         23,2,20160304,       0636,   -44.3510,    95.0001,       3072,   349.3,   6.2110,  34.2331,2,  34.2410,2,    260.7,2,   259.7,2,     9.3,2,    0.00,2,   22.39,2,    0.00,2,    1.52,2,-999.000,9,-999.000,9,-999.000,9,-999.000000000,9,  -999.0,9, -999.00,9,-999.0000,9,  -999.00,   6.2065, -999.00,9,  -999.0,9,  -999.0, -999.00,9,-999.000,9,  -999.0,9, -999.00,9,     -999.0,9, -999.00,9, 20160304,      746, -44.3510,  95.0001,     -999.0,9,     -999.0,9,     -999.0,9,   0.0780,2,   0.0518,2,   0.0330,2,   0.0166,2,   0.0084,2,   0.0019,2,  -0.0002,4,     0.0151,2,     0.0165,2,     -999.0,9,     -999.0,9,     -999.0,9
33RR20160208,       I08S,      53,          1,         24,         24,2,20160304,       0636,   -44.3510,    95.0001,       3072,   301.0,   6.7416,  34.2762,2,  34.2755,2,    265.6,2,   261.5,2,     7.6,2,    0.00,2,   21.12,2,    0.00,2,    1.45,2,   3.793,2,   2.077,2,   0.290,2,         1.736,2,  2141.4,2, 2282.85,2,   7.7228,2,    25.01,   6.7454, -999.00,9,  -999.0,9,  -999.0, -999.00,9,-999.000,9,  -999.0,9, -999.00,9,     -999.0,9, -999.00,9, 20160304,      748, -44.3510,  95.0001,     -999.0,9,     -999.0,9,     -999.0,9,-999.0000,9,-999.0000,9,-999.0000,9,-999.0000,9,-999.0000,9,-999.0000,9,-999.0000,9,     -999.0,9,     -999.0,9,     -999.0,9,     -999.0,9,     -999.0,9
33RR20160208,       I08S,      53,          1,         25,         25,2,20160304,       0636,   -44.3510,    95.0001,       3072,   251.1,   7.1627,  34.3067,2,  34.3027,2,    264.6,2,   263.3,2,     6.4,2,    0.00,2,   19.98,2,    0.00,2,    1.36,2,-999.000,9,-999.000,9,-999.000,9,-999.000000000,9,  -999.0,9, -999.00,9,-999.0000,9,  -999.00,   7.1627, -999.00,9,  -999.0,9,  -999.0, -999.00,9,-999.000,9,  -999.0,9, -999.00,9,     -999.0,9, -999.00,9, 20160304,      750, -44.3510,  95.0001,     -999.0,9,     -999.0,9,     -999.0,9,   0.0731,2,   0.0462,2,   0.0237,2,   0.0142,2,   0.0075,2,   0.0017,2,  -0.0002,4,     0.0187,2,     0.0217,2,     -999.0,9,     -999.0,9,     -999.0,9
33RR20160208,       I08S,      53,          1,         26,         26,2,20160304,       0636,   -44.3510,    95.0001,       3072,   200.0,   7.0731,  34.2362,2,  34.2423,2,    264.7,2,   268.6,2,     5.3,2,    0.00,2,   19.79,2,    0.00,2,    1.36,2,   3.806,2,   2.089,2,   0.292,2,         1.919,2,  2133.7,2, 2281.29,2,   7.7415,2,    25.03,   7.0727, -999.00,9,  -999.0,9,  -999.0, -999.00,9,-999.000,9,  -999.0,9, -999.00,9,     -999.0,9, -999.00,9, 20160304,      752, -44.3510,  95.0001,     -999.0,9,     -999.0,9,     -999.0,9,-999.0000,9,-999.0000,9,-999.0000,9,-999.0000,9,-999.0000,9,-999.0000,9,-999.0000,9,     -999.0,9,     -999.0,9,     -999.0,9,     -999.0,9,     -999.0,9
33RR20160208,       I08S,      53,          1,         27,         27,2,20160304,       0636,   -44.3510,    95.0001,       3072,   174.5,   7.2069,  34.2234,2,  34.2345,2,    262.9,2,   269.3,2,     4.8,2,    0.00,2,   19.54,2,    0.00,2,    1.34,2,-999.000,9,-999.000,9,-999.000,9,-999.000000000,9,  -999.0,9, -999.00,9,-999.0000,9,     9.00,   7.1974, -999.00,9,  -999.0,9,  -999.0, -999.00,9,-999.000,9,  -999.0,9, -999.00,9,     -999.0,9, -999.00,9, 20160304,      753, -44.3510,  95.0001,     -999.0,9,     -999.0,9,     -999.0,9,   0.0745,2,   0.0482,2,   0.0271,2,   0.0156,2,   0.0083,2,   0.0021,2,   0.0000,4,     0.0170,2,     0.0195,2,     -999.0,9,     -999.0,9,     -999.0,9