BOTTLE,20220706CCHSIOAMB
EXPOCODE,SECT_ID,STNNBR,CASTNO,SAMPNO,BTLNBR,BTLNBR_FLAG_W,DATE,TIME,LATITUDE,LONGITUDE,DEPTH,CTDPRS,CTDTMP,CTDSAL,CTDSAL_FLAG_W,SALNTY,SALNTY_FLAG_W,CTDOXY,CTDOXY_FLAG_W,OXYGEN,OXYGEN_FLAG_W,SILCAT,SILCAT_FLAG_W,NH4,NH4_FLAG_W,NITRAT,NITRAT_FLAG_W,NITRIT,NITRIT_FLAG_W,PHSPHT,PHSPHT_FLAG_W,CFC-11,CFC-11_FLAG_W,CFC-12,CFC-12_FLAG_W,CFC113,CFC113_FLAG_W,SF6,SF6_FLAG_W,TCARBN,TCARBN_FLAG_W,ALKALI,ALKALI_FLAG_W,PH_TOT,PH_TOT_FLAG_W,PH_TMP,REFTMP,DELC13,DELC13_FLAG_W,DELC14,DELC14_FLAG_W,C14ERR,DELO18,DELO18_FLAG_W,POC,POC_FLAG_W,DOC,DOC_FLAG_W,TDN,TDN_FLAG_W,TON,TON_FLAG_W,D15N_NO3,D15N_NO3_FLAG_W,BTL_DATE,BTL_TIME,BTL_LAT,BTL_LON,14C-DOC,14C-DOC_FLAG_W,CHLORA,CHLORA_FLAG_W,HPLC,HPLC_FLAG_W,CDOM325,CDOM325_FLAG_W,CDOM340,CDOM340_FLAG_W,CDOM380,CDOM380_FLAG_W,CDOM412,CDOM412_FLAG_W,CDOM443,CDOM443_FLAG_W,CDOM490,CDOM490_FLAG_W,CDOM555,CDOM555_FLAG_W,CDOMSL,CDOMSL_FLAG_W,CDOMSN,CDOMSN_FLAG_W,D18O_NO3,D18O_NO3_FLAG_W,D15N_NO2+NO3,D15N_NO2+NO3_FLAG_W,D18O_NO2+NO3,D18O_NO2+NO3_FLAG_W
,,,,,,,,,,,METERS,DBAR,ITS-90,PSS-78,,PSS-78,,UMOL/KG,,UMOL/KG,,UMOL/KG,,UMOL/KG,,UMOL/KG,,UMOL/KG,,UMOL/KG,,PMOL/KG,,PMOL/KG,,PMOL/KG,,FMOL/KG,,UMOL/KG,,UMOL/KG,,,,DEG C,DEG C,/MILLE,,/MILLE,,/MILLE,/MILLE,,UG/KG,,UMOL/KG,,UMOL/KG,,UMOL/KG,,/MILLE,,,,,,/MILLE,,MG/M3,,,,1/M,,1/M,,1/M,,1/M,,1/M,,1/M,,1/M,,1/NM,,1/NM,,/MILLE,,/MILLE,,/MILLE,
33RR20160208,       I08S,      15,          1,         28,         28,2,20160222,       2040,   -61.4999,    82.0002,       2175,   165.7,   1.8621,  34.6557,2,  34.6549,2,    172.8,2,   173.1,3,    85.1,2,    0.00,2,   33.81,2,    0.03,2,    2.34,2,   0.603,2,   0.329,2,   0.044,2,         0.428,2,  2269.5,2, 2341.09,2,   7.5413,2,    24.99,   1.8612, -999.00,9,  -999.0,9,  -999.0, -999.00,1,-999.000,9,  -999.0,9, -999.00,9,     -999.0,9,    4.77,2, 20160222,     2139, -61.4999,  82.0002,     -999.0,9,     -999.0,9,     -999.0,9,-999.0000,9,-999.0000,9,-999.0000,9,-999.0000,9,-999.0000,9,-999.0000,9,-999.0000,9,     -999.0,9,     -999.0,9,       1.91,2,       4.73,2,       1.85,2
33RR20160208,       I08S,      15,          1,         29,         29,2,20160222,       2040,   -61.4999,    82.0002,       2175,   116.0,   1.5857,  34.5946,2,  34.5886,2,    177.8,2,   178.2,2,    82.7,2,    0.00,2,   34.38,2,    0.07,2,    2.39,2,   0.961,2,   0.516,2,   0.082,2,         0.626,2,  2260.4,2, 2336.42,2,   7.5311,2,    24.97,   1.5829, -999.00,9,  -999.0,9,  -999.0, -999.00,1,-999.000,9,  -999.0,9, -999.00,9,     -999.0,9,    4.72,2, 20160222,     2141, -61.4999,  82.0002,     -999.0,9,     -999.0,9,     -999.0,9,-999.0000,9,-999.0000,9,-999.0000,9,-999.0000,9,-999.0000,9,-999.0000,9,-999.0000,9,     -999.0,9,     -999.0,9,       1.99,2,       4.69,2,       1.94,2
33RR20160208,       I08S,      15,          1,         30,         30,2,20160222,       2040,   -61.4999,    82.0002,       2175,    86.0,   0.5498,  34.4125,2,  34.4265,2,    218.5,2,   206.5,2,    75.6,2,    0.13,2,   33.89,2,    0.19,2,    2.35,2,   2.035,2,   1.035,2,   0.180,2,         0.962,2,  2250.4,2, 2325.63,2,   7.5352,2,    24.99,   0.5514, -999.00,9,  -999.0,9,  -999.0, -999.00,1,-999.000,9,  -999.0,9, -999.00,9,     -999.0,9,    4.81,2, 20160222,     2143, -61.4999,  82.0002,     -999.0,9,     -999.0,9,     -999.0,9,-999.0000,9,-999.0000,9,-999.0000,9,-999.0000,9,-999.0000,9,-999.0000,9,-999.0000,9,     -999.0,9,     -999.0,9,       2.11,2,       4.73,2,       2.05,2
33RR20160208,       I08S,      15,          1,         31,         31,2,20160222,       2040,   -61.4999,    82.0002,       2175,    61.7,  -0.1254,  34.0288,2,  34.0098,2,    335.3,2,   290.4,2,    50.7,2,    1.06,2,   28.42,2,    0.16,2,    2.09,2,-999.000,9,-999.000,9,-999.000,9,-999.000000000,9,  -999.0,9, -999.00,9,-999.0000,9,  -999.00,  -0.1203, -999.00,9,  -999.0,9,  -999.0, -999.00,9,-999.000,9,  -999.0,9, -999.00,9,     -999.0,9, -999.00,9, 20160222,     2144, -61.4999,  82.0002,     -999.0,9,     -999.0,9,     -999.0,9,-999.0000,9,-999.0000,9,-999.0000,9,-999.0000,9,-999.0000,9,-999.0000,9,-999.0000,9,     -999.0,9,     -999.0,9,     -999.0,9,     -999.0,9,     -999.0,9
33RR20160208,       I08S,      15,          1,         32,         32,2,20160222,       2040,   -61.4999,    82.0002,       2175,    61.0,  -0.1138,  34.0213,2,  34.0159,2,    335.3,2,   288.4,2,    51.5,2,    1.09,2,   28.57,2,    0.16,2,    2.11,2,   4.257,2,   2.275,2,   0.404,2,         2.411,2,  2200.0,2, 2303.01,2,   7.6251,2,    24.98,  -0.1235, -999.00,9,  -999.0,9,  -999.0, -999.00,1,-999.000,9,  -999.0,9, -999.00,9,     -999.0,9,    5.92,2, 20160222,     2145, -61.4999,  82.0002,     -999.0,9,     -999.0,9,     -999.0,9,-999.0000,9,-999.0000,9,-999.0000,9,-999.0000,9,-999.0000,9,-999.0000,9,-999.0000,9,     -999.0,9,     -999.0,9,       2.85,2,        5.7,2,       2.86,2
33RR20160208,       I08S,      15,          1,         33,         33,2,20160222,       2040,   -61.4999,    82.0002,       2175,    35.5,   1.3003,  33.8216,2,  33.8227,2,    336.9,2,   335.8,2,    28.8,2,    0.33,2,   23.45,2,    0.17,2,    1.58,2,   5.278,2,   2.829,2,   0.519,2,         3.114,2,  -999.0,9, -999.00,9,-999.0000,9,  -999.00,   1.3002, -999.00,9,  -999.0,9,  -999.0, -999.00,9,-999.000,9,  -999.0,9, -999.00,9,     -999.0,9, -999.00,9, 20160222,     2147, -61.4999,  82.0002,     -999.0,9,     -999.0,9,     -999.0,9,-999.0000,9,-999.0000,9,-999.0000,9,-999.0000,9,-999.0000,9,-999.0000,9,-999.0000,9,     -999.0,9,     -999.0,9,     -999.0,9,     -999.0,9,     -999.0,9
33RR20160208,       I08S,      15,          1,         34,         34,2,20160222,       2040,   -61.4999,    82.0002,       2175,    35.5,   1.3004,  33.8219,2,  33.8227,2,    336.9,2,   335.7,2,    28.8,2,    0.29,2,   23.42,2,    0.17,2,    1.54,2,   5.431,2,   2.815,2,   0.518,2,         3.076,2,  2153.3,2, 2294.81,2,   7.7323,2,    24.99,   1.3006, -999.00,9,  -999.0,9,  -999.0, -999.00,1,-999.000,9,  -999.0,9, -999.00,9,     -999.0,9,    7.42,2, 20160222,     2147, -61.4999,  82.0002,     -999.0,9,     -999.0,9,     -999.0,9,-999.0000,9,-999.0000,9,-999.0000,9,-999.0000,9,-999.0000,9,-999.0000,9,-999.0000,9,     -999.0,9,     -999.0,9,       3.81,2,       7.03,2,       3.86,2
33RR20160208,       I08S,      15,          1,         36,         36,2,20160222,       2040,   -61.4999,    82.0002,       2175,     6.8,   1.3011,  33.8220,2,  33.8235,2,    336.3,2,   336.9,2,    28.7,2,    0.30,2,   23.36,2,    0.17,2,    1.52,2,   5.272,2,   2.787,2,   0.524,2,         3.074,2,  2151.2,6, 2294.21,2,   7.7314,2,    24.99,   1.3009, -999.00,9,  -999.0,9,  -999.0, -999.00,1,-999.000,9,  -999.0,9, -999.00,9,     -999.0,9,    7.45,2, 20160222,     2150, -61.4999,  82.0002,     -999.0,9,     -999.0,9,     -999.0,9,-999.0000,9,-999.0000,9,-999.0000,9,-999.0000,9,-999.0000,9,-999.0000,9,-999.0000,9,     -999.0,9,     -999.0,9,       3.88,2,       7.01,2,       3.76,2
33RR20160208,       I08S,      15,          1,         35,         35,2,20160222,       2040,   -61.4999,    82.0002,       2175,     6.6,   1.2997,  33.8220,2,  33.8221,2,    336.3,2,   335.5,2,    28.7,2,    0.31,2,   23.42,2,    0.17,2,    1.56,2,-999.000,9,-999.000,9,-999.000,9,-999.000000000,9,  -999.0,9, -999.00,9,-999.0000,9,  -999.00,   1.2998, -999.00,9,  -999.0,9,  -999.0, -999.00,9,-999.000,9,  -999.0,9, -999.00,9,     -999.0,9, -999.00,9, 20160222,     2150, -61.4999,  82.0002,     -999.0,9,     -999.0,9,     -999.0,9,-999.0000,9,-999.0000,9,-999.0000,9,-999.0000,9,-999.0000,9,-999.0000,9,-999.0000,9,     -999.0,9,     -999.0,9,     -999.0,9,     -999.0,9,     -999.0,9