BOTTLE,20220706CCHSIOAMB
EXPOCODE,SECT_ID,STNNBR,CASTNO,SAMPNO,BTLNBR,BTLNBR_FLAG_W,DATE,TIME,LATITUDE,LONGITUDE,DEPTH,CTDPRS,CTDTMP,CTDSAL,CTDSAL_FLAG_W,SALNTY,SALNTY_FLAG_W,CTDOXY,CTDOXY_FLAG_W,OXYGEN,OXYGEN_FLAG_W,SILCAT,SILCAT_FLAG_W,NH4,NH4_FLAG_W,NITRAT,NITRAT_FLAG_W,NITRIT,NITRIT_FLAG_W,PHSPHT,PHSPHT_FLAG_W,CFC-11,CFC-11_FLAG_W,CFC-12,CFC-12_FLAG_W,CFC113,CFC113_FLAG_W,SF6,SF6_FLAG_W,TCARBN,TCARBN_FLAG_W,ALKALI,ALKALI_FLAG_W,PH_TOT,PH_TOT_FLAG_W,PH_TMP,REFTMP,DELC13,DELC13_FLAG_W,DELC14,DELC14_FLAG_W,C14ERR,DELO18,DELO18_FLAG_W,POC,POC_FLAG_W,DOC,DOC_FLAG_W,TDN,TDN_FLAG_W,TON,TON_FLAG_W,D15N_NO3,D15N_NO3_FLAG_W,BTL_DATE,BTL_TIME,BTL_LAT,BTL_LON,14C-DOC,14C-DOC_FLAG_W,CHLORA,CHLORA_FLAG_W,HPLC,HPLC_FLAG_W,CDOM325,CDOM325_FLAG_W,CDOM340,CDOM340_FLAG_W,CDOM380,CDOM380_FLAG_W,CDOM412,CDOM412_FLAG_W,CDOM443,CDOM443_FLAG_W,CDOM490,CDOM490_FLAG_W,CDOM555,CDOM555_FLAG_W,CDOMSL,CDOMSL_FLAG_W,CDOMSN,CDOMSN_FLAG_W,D18O_NO3,D18O_NO3_FLAG_W,D15N_NO2+NO3,D15N_NO2+NO3_FLAG_W,D18O_NO2+NO3,D18O_NO2+NO3_FLAG_W
,,,,,,,,,,,METERS,DBAR,ITS-90,PSS-78,,PSS-78,,UMOL/KG,,UMOL/KG,,UMOL/KG,,UMOL/KG,,UMOL/KG,,UMOL/KG,,UMOL/KG,,PMOL/KG,,PMOL/KG,,PMOL/KG,,FMOL/KG,,UMOL/KG,,UMOL/KG,,,,DEG C,DEG C,/MILLE,,/MILLE,,/MILLE,/MILLE,,UG/KG,,UMOL/KG,,UMOL/KG,,UMOL/KG,,/MILLE,,,,,,/MILLE,,MG/M3,,,,1/M,,1/M,,1/M,,1/M,,1/M,,1/M,,1/M,,1/NM,,1/NM,,/MILLE,,/MILLE,,/MILLE,
33RR20160208,       I08S,      38,          1,          1,          1,2,20160229,       0159,   -52.0329,    88.4196,       4240,  4276.5,   0.3355,  34.6773,2,  34.6770,2,    224.2,2,   224.0,2,   128.2,2,    0.00,2,   32.25,2,    0.00,2,    2.25,2,   0.808,2,   0.418,2,   0.053,2,   0.134239139,2,  2259.6,6, 2356.56,2,   7.5936,2,    25.00,   0.3359, -999.00,9,  -999.0,9,  -999.0, -999.00,9,-999.000,9,    39.1,2, -999.00,9,     -999.0,1, -999.00,9, 20160229,      159, -52.0328,  88.4197,     -999.0,9,     -999.0,9,     -999.0,9,-999.0000,9,-999.0000,9,-999.0000,9,-999.0000,9,-999.0000,9,-999.0000,9,-999.0000,9,     -999.0,9,     -999.0,9,     -999.0,9,     -999.0,9,     -999.0,9
33RR20160208,       I08S,      38,          1,          2,          2,2,20160229,       0159,   -52.0329,    88.4196,       4240,  3930.0,   0.3571,  34.6803,2,  34.6798,2,    220.8,2,   221.3,2,   127.7,2,    0.00,2,   32.24,2,    0.00,2,    2.24,2,   0.741,2,   0.385,2,   0.049,2,   0.186104261,2,  2258.0,2, 2357.42,2,   7.5940,2,    24.99,   0.3574, -999.00,9,  -999.0,9,  -999.0, -999.00,9,-999.000,9,    40.2,2, -999.00,9,     -999.0,1, -999.00,9, 20160229,      224, -52.0329,  88.4195,     -999.0,9,     -999.0,9,     -999.0,9,-999.0000,9,-999.0000,9,-999.0000,9,-999.0000,9,-999.0000,9,-999.0000,9,-999.0000,9,     -999.0,9,     -999.0,9,     -999.0,9,     -999.0,9,     -999.0,9
33RR20160208,       I08S,      38,          1,          3,          3,3,20160229,       0159,   -52.0329,    88.4196,       4240,  3597.2,   0.4896,  34.6880,3,  34.6906,4,    217.3,3,   218.3,3,   125.0,3,    0.00,3,   32.11,3,    0.00,3,    2.24,3,   0.575,2,   0.308,2,   0.036,2,   0.130171287,2,  2258.5,3, 2357.96,3,   7.5959,3,    25.01,   0.4902, -999.00,9,  -999.0,9,  -999.0, -999.00,9,-999.000,9,    38.3,2, -999.00,9,     -999.0,1, -999.00,9, 20160229,      233, -52.0328,  88.4196,     -999.0,9,     -999.0,9,     -999.0,9,-999.0000,9,-999.0000,9,-999.0000,9,-999.0000,9,-999.0000,9,-999.0000,9,-999.0000,9,     -999.0,9,     -999.0,9,     -999.0,9,     -999.0,9,     -999.0,9
33RR20160208,       I08S,      38,          1,          4,          4,2,20160229,       0159,   -52.0329,    88.4196,       4240,  3297.4,   0.7090,  34.6998,2,  34.6996,2,    213.5,2,   213.1,2,   120.4,2,    0.00,2,   31.90,2,    0.00,2,    2.22,2,   0.401,2,   0.218,2,   0.020,2,   0.075255275,2,  2256.7,2, 2359.15,2,   7.5988,2,    25.02,   0.7100, -999.00,9,  -999.0,9,  -999.0, -999.00,9,-999.000,9,    39.0,2, -999.00,9,     -999.0,1, -999.00,9, 20160229,      246, -52.0329,  88.4196,     -999.0,9,     -999.0,9,     -999.0,9,-999.0000,9,-999.0000,9,-999.0000,9,-999.0000,9,-999.0000,9,-999.0000,9,-999.0000,9,     -999.0,9,     -999.0,9,     -999.0,9,     -999.0,9,     -999.0,9
33RR20160208,       I08S,      38,          1,          5,          5,2,20160229,       0159,   -52.0329,    88.4196,       4240,  2995.1,   0.9889,  34.7151,2,  34.7150,2,    209.5,2,   209.2,2,   113.4,2,    0.00,2,   31.51,2,    0.00,2,    2.19,2,   0.254,2,   0.142,2,   0.008,2,   0.058983864,2,  2256.5,2, 2359.32,2,   7.6061,2,    25.01,   0.9891, -999.00,9,  -999.0,9,  -999.0, -999.00,9,-999.000,9,    38.4,2, -999.00,9,     -999.0,1, -999.00,9, 20160229,      253, -52.0329,  88.4197,     -999.0,9,     -999.0,9,     -999.0,9,-999.0000,9,-999.0000,9,-999.0000,9,-999.0000,9,-999.0000,9,-999.0000,9,-999.0000,9,     -999.0,9,     -999.0,9,     -999.0,9,     -999.0,9,     -999.0,9
33RR20160208,       I08S,      38,          1,          6,         38,2,20160229,       0159,   -52.0329,    88.4196,       4240,  2750.6,   1.1858,  34.7257,2,  34.7254,2,    207.1,2,   206.3,2,   108.2,2,    0.00,2,   31.22,2,    0.00,2,    2.16,2,   0.181,2,   0.105,2,   0.003,2,   0.009152669,2,  2254.6,2, 2360.18,2,   7.6100,2,    25.00,   1.1862, -999.00,9,  -999.0,9,  -999.0, -999.00,9,-999.000,9,    39.6,2, -999.00,9,     -999.0,1, -999.00,9, 20160229,      258, -52.0329,  88.4198,     -999.0,9,     -999.0,9,     -999.0,9,-999.0000,9,-999.0000,9,-999.0000,9,-999.0000,9,-999.0000,9,-999.0000,9,-999.0000,9,     -999.0,9,     -999.0,9,     -999.0,9,     -999.0,9,     -999.0,9
33RR20160208,       I08S,      38,          1,          7,          7,2,20160229,       0159,   -52.0329,    88.4196,       4240,  2500.6,   1.3719,  34.7354,2,  34.7344,2,    204.9,2,   204.2,2,   102.2,2,    0.00,2,   30.82,2,    0.00,2,    2.14,2,   0.146,2,   0.089,2,   0.002,2,             0,2,  2255.8,2, 2359.00,2,   7.6137,6,    25.00,   1.3722, -999.00,9,  -999.0,9,  -999.0, -999.00,9,-999.000,9,    40.0,2, -999.00,9,     -999.0,1, -999.00,9, 20160229,      303, -52.0329,  88.4196,     -999.0,9,     -999.0,9,     -999.0,9,-999.0000,9,-999.0000,9,-999.0000,9,-999.0000,9,-999.0000,9,-999.0000,9,-999.0000,9,     -999.0,9,     -999.0,9,     -999.0,9,     -999.0,9,     -999.0,9
33RR20160208,       I08S,      38,          1,          8,          8,2,20160229,       0159,   -52.0329,    88.4196,       4240,  2246.1,   1.5796,  34.7444,2,  34.7452,2,    202.9,2,   203.2,2,    95.1,2,    0.00,2,   30.41,2,    0.00,2,    2.09,2,   0.170,2,   0.100,2,   0.002,2,             0,2,  2248.3,2, 2354.50,2,   7.6137,2,    24.99,   1.5793, -999.00,9,  -999.0,9,  -999.0, -999.00,9,-999.000,9,    38.4,2, -999.00,9,     -999.0,1, -999.00,9, 20160229,      309, -52.0329,  88.4198,     -999.0,9,     -999.0,9,     -999.0,9,-999.0000,9,-999.0000,9,-999.0000,9,-999.0000,9,-999.0000,9,-999.0000,9,-999.0000,9,     -999.0,9,     -999.0,9,     -999.0,9,     -999.0,9,     -999.0,9
33RR20160208,       I08S,      38,          1,          9,          9,2,20160229,       0159,   -52.0329,    88.4196,       4240,  2001.2,   1.7861,  34.7503,2,  34.7501,2,    200.5,2,   200.9,2,    89.0,2,    0.00,2,   30.02,2,    0.00,2,    2.08,2,   0.164,2,   0.095,2,   0.003,2,             0,2,  2245.0,2, 2351.26,2,   7.6146,2,    25.01,   1.7863, -999.00,9,  -999.0,9,  -999.0, -999.00,9,-999.000,9,    39.4,2, -999.00,9,     -999.0,1, -999.00,9, 20160229,      314, -52.0330,  88.4196,     -999.0,9,     -999.0,9,     -999.0,9,-999.0000,9,-999.0000,9,-999.0000,9,-999.0000,9,-999.0000,9,-999.0000,9,-999.0000,9,     -999.0,9,     -999.0,9,     -999.0,9,     -999.0,9,     -999.0,9
33RR20160208,       I08S,      38,          1,         10,         10,2,20160229,       0159,   -52.0329,    88.4196,       4240,  1797.5,   1.9476,  34.7499,2,  34.7507,2,    197.9,2,   198.2,2,    84.3,2,    0.00,2,   29.96,2,    0.00,2,    2.07,2,   0.175,2,   0.097,2,   0.002,2,   0.009152669,2,  2244.1,2, 2349.20,6,   7.6130,2,    25.02,   1.9481, -999.00,9,  -999.0,9,  -999.0, -999.00,9,-999.000,9,    38.0,2, -999.00,9,     -999.0,1, -999.00,9, 20160229,      318, -52.0329,  88.4196,     -999.0,9,     -999.0,9,     -999.0,9,-999.0000,9,-999.0000,9,-999.0000,9,-999.0000,9,-999.0000,9,-999.0000,9,-999.0000,9,     -999.0,9,     -999.0,9,     -999.0,9,     -999.0,9,     -999.0,9
33RR20160208,       I08S,      38,          1,         11,         11,2,20160229,       0159,   -52.0329,    88.4196,       4240,  1700.2,   1.9972,  34.7461,2,  34.7473,2,    195.4,2,   196.2,2,    83.1,2,    0.00,2,   30.08,2,    0.00,2,    2.08,2,   0.186,2,   0.107,2,   0.004,2,   0.033559785,2,  2246.2,2, 2348.28,2,   7.6089,2,    25.01,   1.9972, -999.00,9,  -999.0,9,  -999.0, -999.00,9,-999.000,9,    39.8,2, -999.00,9,     -999.0,1, -999.00,9, 20160229,      321, -52.0329,  88.4196,     -999.0,9,     -999.0,9,     -999.0,9,-999.0000,9,-999.0000,9,-999.0000,9,-999.0000,9,-999.0000,9,-999.0000,9,-999.0000,9,     -999.0,9,     -999.0,9,     -999.0,9,     -999.0,9,     -999.0,9
33RR20160208,       I08S,      38,          1,         12,         12,2,20160229,       0159,   -52.0329,    88.4196,       4240,  1603.2,   2.0559,  34.7404,2,  34.7411,2,    192.8,2,   194.3,2,    81.4,2,    0.00,2,   30.39,2,    0.00,2,    2.09,2,   0.207,2,   0.115,2,   0.006,2,   0.031525859,2,  2246.8,6, 2347.48,2,   7.6050,2,    25.01,   2.0553, -999.00,9,  -999.0,9,  -999.0, -999.00,9,-999.000,9,    39.2,2, -999.00,9,     -999.0,1, -999.00,9, 20160229,      323, -52.0329,  88.4195,     -999.0,9,     -999.0,9,     -999.0,9,-999.0000,9,-999.0000,9,-999.0000,9,-999.0000,9,-999.0000,9,-999.0000,9,-999.0000,9,     -999.0,9,     -999.0,9,     -999.0,9,     -999.0,9,     -999.0,9
33RR20160208,       I08S,      38,          1,         13,         13,2,20160229,       0159,   -52.0329,    88.4196,       4240,  1502.0,   2.1412,  34.7311,2,  34.7319,2,    191.0,2,   191.4,2,    79.2,2,    0.00,2,   30.63,2,    0.00,2,    2.12,2,   0.229,2,   0.126,2,   0.007,2,   0.060000827,2,  2246.2,2, 2345.54,2,   7.6005,6,    25.00,   2.1413, -999.00,9,  -999.0,9,  -999.0, -999.00,9,-999.000,9,    37.8,2, -999.00,9,     -999.0,1, -999.00,9, 20160229,      326, -52.0329,  88.4195,     -999.0,9,     -999.0,9,     -999.0,9,-999.0000,9,-999.0000,9,-999.0000,9,-999.0000,9,-999.0000,9,-999.0000,9,-999.0000,9,     -999.0,9,     -999.0,9,     -999.0,9,     -999.0,9,     -999.0,9
33RR20160208,       I08S,      38,          1,         14,         14,2,20160229,       0159,   -52.0329,    88.4196,       4240,  1400.0,   2.2114,  34.7200,2,  34.7209,2,    187.7,2,   188.5,2,    77.6,2,    0.00,2,   30.91,2,    0.00,2,    2.15,2,   0.253,2,   0.140,2,   0.008,2,   0.098645428,2,  2247.0,2, 2344.95,2,   7.5945,2,    25.03,   2.2114, -999.00,9,  -999.0,9,  -999.0, -999.00,9,-999.000,9,    38.9,2, -999.00,9,     -999.0,1, -999.00,9, 20160229,      329, -52.0329,  88.4196,     -999.0,9,     -999.0,9,     -999.0,9,-999.0000,9,-999.0000,9,-999.0000,9,-999.0000,9,-999.0000,9,-999.0000,9,-999.0000,9,     -999.0,9,     -999.0,9,     -999.0,9,     -999.0,9,     -999.0,9
33RR20160208,       I08S,      38,          1,         15,         15,2,20160229,       0159,   -52.0329,    88.4196,       4240,  1299.0,   2.2536,  34.6952,2,  34.6960,2,    183.8,2,   184.3,2,    77.5,2,    0.00,2,   31.67,2,    0.00,2,    2.21,2,   0.332,2,   0.179,2,   0.015,2,   0.116950765,2,  2249.1,2, 2342.62,2,   7.5816,2,    25.02,   2.2536, -999.00,9,  -999.0,9,  -999.0, -999.00,9,-999.000,9,    39.7,2, -999.00,9,     -999.0,1, -999.00,9, 20160229,      331, -52.0329,  88.4196,     -999.0,9,     -999.0,9,     -999.0,9,-999.0000,9,-999.0000,9,-999.0000,9,-999.0000,9,-999.0000,9,-999.0000,9,-999.0000,9,     -999.0,9,     -999.0,9,     -999.0,9,     -999.0,9,     -999.0,9
33RR20160208,       I08S,      38,          1,         16,         16,2,20160229,       0159,   -52.0329,    88.4196,       4240,  1202.5,   2.3239,  34.6775,2,  34.6760,2,    181.5,2,   181.6,2,    75.9,2,    0.00,2,   31.97,2,    0.00,2,    2.22,2,   0.363,2,   0.194,2,   0.016,2,   0.138306992,2,  2250.7,2, 2340.72,2,   7.5762,2,    24.99,   2.3232, -999.00,9,  -999.0,9,  -999.0, -999.00,9,-999.000,9,    39.5,2, -999.00,9,     -999.0,1, -999.00,9, 20160229,      334, -52.0329,  88.4195,     -999.0,9,     -999.0,9,     -999.0,9,-999.0000,9,-999.0000,9,-999.0000,9,-999.0000,9,-999.0000,9,-999.0000,9,-999.0000,9,     -999.0,9,     -999.0,9,     -999.0,9,     -999.0,9,     -999.0,9
33RR20160208,       I08S,      38,          1,         17,         17,2,20160229,       0159,   -52.0329,    88.4196,       4240,  1101.8,   2.4244,  34.6538,2,  34.6534,2,    179.7,2,   179.2,2,    73.3,2,    0.00,2,   32.31,2,    0.00,2,    2.23,2,   0.405,2,   0.213,2,   0.017,2,   0.143391808,2,  2247.2,2, 2338.09,2,   7.5730,2,    25.00,   2.4239, -999.00,9,  -999.0,9,  -999.0, -999.00,9,-999.000,9,    41.4,2, -999.00,9,     -999.0,1, -999.00,9, 20160229,      337, -52.0329,  88.4195,     -999.0,9,     -999.0,9,     -999.0,9,-999.0000,9,-999.0000,9,-999.0000,9,-999.0000,9,-999.0000,9,-999.0000,9,-999.0000,9,     -999.0,9,     -999.0,9,     -999.0,9,     -999.0,9,     -999.0,9
33RR20160208,       I08S,      38,          1,         18,         37,2,20160229,       0159,   -52.0329,    88.4196,       4240,  1002.0,   2.4990,  34.6235,2,  34.6240,2,    177.8,2,   176.7,2,    71.6,2,    0.00,2,   32.76,2,    0.00,2,    2.27,2,   0.481,2,   0.248,2,   0.022,2,   0.151527513,2,  2247.8,2, 2337.46,2,   7.5670,6,    25.00,   2.4991, -999.00,9,  -999.0,9,  -999.0, -999.00,9,-999.000,9,    39.8,2, -999.00,9,     -999.0,1, -999.00,9, 20160229,      342, -52.0329,  88.4195,     -999.0,9,     -999.0,9,     -999.0,9,-999.0000,9,-999.0000,9,-999.0000,9,-999.0000,9,-999.0000,9,-999.0000,9,-999.0000,9,     -999.0,9,     -999.0,9,     -999.0,9,     -999.0,9,     -999.0,9
33RR20160208,       I08S,      38,          1,         19,         19,2,20160229,       0159,   -52.0329,    88.4196,       4240,   899.7,   2.5150,  34.5724,2,  34.5720,2,    176.1,2,   175.9,2,    69.7,2,    0.00,2,   33.67,2,    0.00,2,    2.32,2,   0.660,2,   0.339,2,   0.038,2,   0.152544477,2,  2248.6,2, 2331.94,2,   7.5547,2,    25.00,   2.5151, -999.00,9,  -999.0,9,  -999.0, -999.00,9,-999.000,9,    40.3,2, -999.00,9,     -999.0,1, -999.00,9, 20160229,      346, -52.0329,  88.4196,     -999.0,9,     -999.0,9,     -999.0,9,-999.0000,9,-999.0000,9,-999.0000,9,-999.0000,9,-999.0000,9,-999.0000,9,-999.0000,9,     -999.0,9,     -999.0,9,     -999.0,9,     -999.0,9,     -999.0,9
33RR20160208,       I08S,      38,          1,         20,         20,2,20160229,       0159,   -52.0329,    88.4196,       4240,   798.8,   2.5707,  34.5278,2,  34.5283,2,    177.1,2,   177.7,2,    66.7,2,    0.00,2,   33.98,2,    0.00,2,    2.35,2,   0.830,2,   0.420,2,   0.052,2,   0.241020273,2,  2244.9,2, 2328.59,2,   7.5504,6,    25.01,   2.5703, -999.00,9,  -999.0,9,  -999.0, -999.00,9,-999.000,9,    38.3,2, -999.00,9,     -999.0,1, -999.00,9, 20160229,      351, -52.0329,  88.4195,     -999.0,9,     -999.0,9,     -999.0,9,-999.0000,9,-999.0000,9,-999.0000,9,-999.0000,9,-999.0000,9,-999.0000,9,-999.0000,9,     -999.0,9,     -999.0,9,     -999.0,9,     -999.0,9,     -999.0,9
33RR20160208,       I08S,      38,          1,         21,         21,2,20160229,       0159,   -52.0329,    88.4196,       4240,   703.7,   2.5750,  34.4581,2,  34.4593,2,    184.1,2,   182.7,2,    62.1,2,    0.00,2,   34.24,2,    0.00,2,    2.37,2,   1.059,2,   0.536,2,   0.070,2,   0.358988002,2,  2242.5,2, 2322.56,2,   7.5488,2,    25.01,   2.5749, -999.00,9,  -999.0,9,  -999.0, -999.00,9,-999.000,9,    39.1,2, -999.00,9,     -999.0,1, -999.00,9, 20160229,      355, -52.0329,  88.4196,     -999.0,9,     -999.0,9,     -999.0,9,-999.0000,9,-999.0000,9,-999.0000,9,-999.0000,9,-999.0000,9,-999.0000,9,-999.0000,9,     -999.0,9,     -999.0,9,     -999.0,9,     -999.0,9,     -999.0,9
33RR20160208,       I08S,      38,          1,         22,         22,2,20160229,       0159,   -52.0329,    88.4196,       4240,   599.8,   2.5294,  34.3746,2,  34.3745,2,    197.1,2,   194.3,2,    55.5,2,    0.00,2,   34.12,2,    0.00,2,    2.36,2,   1.846,2,   0.918,2,   0.128,2,   0.579669011,2,  2235.6,2, 2316.31,2,   7.5511,2,    25.01,   2.5238, -999.00,9,  -999.0,9,  -999.0, -999.00,9,-999.000,9,    39.7,2, -999.00,9,     -999.0,1, -999.00,9, 20160229,      358, -52.0329,  88.4196,     -999.0,9,     -999.0,9,     -999.0,9,-999.0000,9,-999.0000,9,-999.0000,9,-999.0000,9,-999.0000,9,-999.0000,9,-999.0000,9,     -999.0,9,     -999.0,9,     -999.0,9,     -999.0,9,     -999.0,9
33RR20160208,       I08S,      38,          1,         23,         23,2,20160229,       0159,   -52.0329,    88.4196,       4240,   499.1,   2.9902,  34.3442,2,  34.3439,2,    204.7,2,   199.1,3,    47.7,2,    0.00,2,   33.34,2,    0.00,2,    2.32,2,   2.031,6,   1.016,6,   0.141,6,   0.594414977,6,  2225.2,2, 2309.24,2,   7.5651,2,    25.11,   2.9851, -999.00,9,  -999.0,9,  -999.0, -999.00,9,-999.000,9,    39.6,2, -999.00,9,     -999.0,1, -999.00,9, 20160229,      400, -52.0329,  88.4196,     -999.0,9,     -999.0,9,     -999.0,9,-999.0000,9,-999.0000,9,-999.0000,9,-999.0000,9,-999.0000,9,-999.0000,9,-999.0000,9,     -999.0,9,     -999.0,9,     -999.0,9,     -999.0,9,     -999.0,9
33RR20160208,       I08S,      38,          1,         24,         24,2,20160229,       0159,   -52.0329,    88.4196,       4240,   448.6,   2.9180,  34.2844,2,  34.2850,2,    215.5,2,   211.3,2,    42.7,2,    0.00,2,   32.86,2,    0.00,2,    2.28,2,   2.537,2,   1.282,2,   0.183,2,   0.838994621,2,  2215.9,2, 2302.95,2,   7.5726,2,    25.10,   2.9190, -999.00,9,  -999.0,9,  -999.0, -999.00,9,-999.000,9,    39.8,2, -999.00,9,     -999.0,1, -999.00,9, 20160229,      402, -52.0329,  88.4195,     -999.0,9,     -999.0,9,     -999.0,9,-999.0000,9,-999.0000,9,-999.0000,9,-999.0000,9,-999.0000,9,-999.0000,9,-999.0000,9,     -999.0,9,     -999.0,9,     -999.0,9,     -999.0,9,     -999.0,9
33RR20160208,       I08S,      38,          1,         25,         25,2,20160229,       0159,   -52.0329,    88.4196,       4240,   399.8,   3.0790,  34.2469,2,  34.2490,2,    222.0,2,   221.1,2,    36.9,2,    0.00,2,   31.97,2,    0.00,2,    2.22,2,   2.831,2,   1.457,2,   0.208,2,    1.01696318,2,  2208.3,2, 2297.55,2,   7.5865,2,    25.12,   3.0788, -999.00,9,  -999.0,9,  -999.0, -999.00,9,-999.000,9,    40.0,2, -999.00,9,     -999.0,1, -999.00,9, 20160229,      404, -52.0329,  88.4196,     -999.0,9,     -999.0,9,     -999.0,9,-999.0000,9,-999.0000,9,-999.0000,9,-999.0000,9,-999.0000,9,-999.0000,9,-999.0000,9,     -999.0,9,     -999.0,9,     -999.0,9,     -999.0,9,     -999.0,9
33RR20160208,       I08S,      38,          1,         26,         26,2,20160229,       0159,   -52.0329,    88.4196,       4240,   350.7,   2.9391,  34.1690,2,  34.1701,2,    239.8,2,   241.6,2,    31.3,2,    0.00,2,   31.07,2,    0.00,2,    2.16,2,   3.430,2,   1.810,2,   0.267,2,    1.43391808,2,  2196.6,2, 2291.54,2,   7.6015,6,    25.16,   2.9388, -999.00,9,  -999.0,9,  -999.0, -999.00,9,-999.000,9,    41.0,2, -999.00,9,     -999.0,1, -999.00,9, 20160229,      406, -52.0329,  88.4195,     -999.0,9,     -999.0,9,     -999.0,9,-999.0000,9,-999.0000,9,-999.0000,9,-999.0000,9,-999.0000,9,-999.0000,9,-999.0000,9,     -999.0,9,     -999.0,9,     -999.0,9,     -999.0,9,     -999.0,9
33RR20160208,       I08S,      38,          1,         27,         27,2,20160229,       0159,   -52.0329,    88.4196,       4240,   301.5,   3.0125,  34.1105,2,  34.1110,2,    256.3,2,   257.7,2,    25.7,2,    0.00,2,   29.94,2,    0.00,2,    2.06,2,   3.883,2,   2.081,2,   0.311,2,    1.69934547,2,  2184.7,2, 2286.82,2,   7.6177,2,    25.12,   3.0116, -999.00,9,  -999.0,9,  -999.0, -999.00,9,-999.000,9,    40.0,2,   33.30,2,     -999.0,1, -999.00,9, 20160229,      408, -52.0329,  88.4195,     -999.0,9,     -999.0,9,     -999.0,9,-999.0000,9,-999.0000,9,-999.0000,9,-999.0000,9,-999.0000,9,-999.0000,9,-999.0000,9,     -999.0,9,     -999.0,9,     -999.0,9,     -999.0,9,     -999.0,9