BOTTLE,20220706CCHSIOAMB
EXPOCODE,SECT_ID,STNNBR,CASTNO,SAMPNO,BTLNBR,BTLNBR_FLAG_W,DATE,TIME,LATITUDE,LONGITUDE,DEPTH,CTDPRS,CTDTMP,CTDSAL,CTDSAL_FLAG_W,SALNTY,SALNTY_FLAG_W,CTDOXY,CTDOXY_FLAG_W,OXYGEN,OXYGEN_FLAG_W,SILCAT,SILCAT_FLAG_W,NH4,NH4_FLAG_W,NITRAT,NITRAT_FLAG_W,NITRIT,NITRIT_FLAG_W,PHSPHT,PHSPHT_FLAG_W,CFC-11,CFC-11_FLAG_W,CFC-12,CFC-12_FLAG_W,CFC113,CFC113_FLAG_W,SF6,SF6_FLAG_W,TCARBN,TCARBN_FLAG_W,ALKALI,ALKALI_FLAG_W,PH_TOT,PH_TOT_FLAG_W,PH_TMP,REFTMP,DELC13,DELC13_FLAG_W,DELC14,DELC14_FLAG_W,C14ERR,DELO18,DELO18_FLAG_W,POC,POC_FLAG_W,DOC,DOC_FLAG_W,TDN,TDN_FLAG_W,TON,TON_FLAG_W,D15N_NO3,D15N_NO3_FLAG_W,BTL_DATE,BTL_TIME,BTL_LAT,BTL_LON,14C-DOC,14C-DOC_FLAG_W,CHLORA,CHLORA_FLAG_W,HPLC,HPLC_FLAG_W,CDOM325,CDOM325_FLAG_W,CDOM340,CDOM340_FLAG_W,CDOM380,CDOM380_FLAG_W,CDOM412,CDOM412_FLAG_W,CDOM443,CDOM443_FLAG_W,CDOM490,CDOM490_FLAG_W,CDOM555,CDOM555_FLAG_W,CDOMSL,CDOMSL_FLAG_W,CDOMSN,CDOMSN_FLAG_W,D18O_NO3,D18O_NO3_FLAG_W,D15N_NO2+NO3,D15N_NO2+NO3_FLAG_W,D18O_NO2+NO3,D18O_NO2+NO3_FLAG_W
,,,,,,,,,,,METERS,DBAR,ITS-90,PSS-78,,PSS-78,,UMOL/KG,,UMOL/KG,,UMOL/KG,,UMOL/KG,,UMOL/KG,,UMOL/KG,,UMOL/KG,,PMOL/KG,,PMOL/KG,,PMOL/KG,,FMOL/KG,,UMOL/KG,,UMOL/KG,,,,DEG C,DEG C,/MILLE,,/MILLE,,/MILLE,/MILLE,,UG/KG,,UMOL/KG,,UMOL/KG,,UMOL/KG,,/MILLE,,,,,,/MILLE,,MG/M3,,,,1/M,,1/M,,1/M,,1/M,,1/M,,1/M,,1/M,,1/NM,,1/NM,,/MILLE,,/MILLE,,/MILLE,
33RR20160208,       I08S,      38,          1,         28,         28,2,20160229,       0159,   -52.0329,    88.4196,       4240,   251.1,   2.7740,  34.0171,2,  34.0149,2,    278.0,2,   280.3,2,    21.4,2,    0.00,2,   28.91,2,    0.00,2,    1.99,2,   4.248,2,   2.339,2,   0.367,2,    2.10511378,2,  2176.2,6, 2283.75,2,   7.6361,2,    25.09,   2.7766, -999.00,9,  -999.0,9,  -999.0, -999.00,9,-999.000,9,    41.3,2,   30.90,2,     -999.0,1, -999.00,9, 20160229,      410, -52.0329,  88.4196,     -999.0,9,     -999.0,9,     -999.0,9,-999.0000,9,-999.0000,9,-999.0000,9,-999.0000,9,-999.0000,9,-999.0000,9,-999.0000,9,     -999.0,9,     -999.0,9,     -999.0,9,     -999.0,9,     -999.0,9
33RR20160208,       I08S,      38,          1,         29,         29,2,20160229,       0159,   -52.0329,    88.4196,       4240,   201.6,   2.9144,  33.9182,2,  33.9183,2,    297.8,2,   301.2,2,    15.6,2,    0.00,2,   27.31,2,    0.00,2,    1.90,2,   4.566,2,   2.564,2,   0.415,2,    2.43054199,2,  2163.5,2, 2277.89,2,   7.6638,2,    25.10,   2.9137, -999.00,9,  -999.0,9,  -999.0, -999.00,9,-999.000,9,    42.8,2,   30.20,2,     -999.0,1, -999.00,9, 20160229,      412, -52.0329,  88.4195,     -999.0,9,     -999.0,9,     -999.0,9,-999.0000,9,-999.0000,9,-999.0000,9,-999.0000,9,-999.0000,9,-999.0000,9,-999.0000,9,     -999.0,9,     -999.0,9,     -999.0,9,     -999.0,9,     -999.0,9
33RR20160208,       I08S,      38,          1,         30,         30,2,20160229,       0159,   -52.0329,    88.4196,       4240,   153.2,   3.6189,  33.8685,2,  33.8694,2,    304.1,2,   302.1,2,    10.6,2,    0.00,2,   25.76,2,    0.03,2,    1.80,2,   4.496,2,   2.527,2,   0.416,2,    2.51494994,2,  2153.9,2, 2276.81,2,   7.6879,2,    25.08,   3.6235, -999.00,9,  -999.0,9,  -999.0, -999.00,9,-999.000,9,    43.6,2,   28.50,2,     -999.0,1, -999.00,9, 20160229,      415, -52.0329,  88.4196,     -999.0,9,     -999.0,9,     -999.0,9,-999.0000,9,-999.0000,9,-999.0000,9,-999.0000,9,-999.0000,9,-999.0000,9,-999.0000,9,     -999.0,9,     -999.0,9,     -999.0,9,     -999.0,9,     -999.0,9
33RR20160208,       I08S,      38,          1,         31,         31,2,20160229,       0159,   -52.0329,    88.4196,       4240,   130.0,   4.0797,  33.8608,2,  33.8626,2,    307.9,2,   301.5,2,     8.5,2,    0.00,2,   24.77,2,    0.05,2,    1.73,2,   4.637,2,   2.568,2,   0.423,2,    2.55562846,2,  2147.0,2, 2275.06,2,   7.7029,6,    25.10,   4.0843, -999.00,9,  -999.0,9,  -999.0, -999.00,9,-999.000,9,    42.9,2,   28.20,2,     -999.0,1, -999.00,9, 20160229,      417, -52.0329,  88.4195,     -999.0,9,     -999.0,9,     -999.0,9,-999.0000,9,-999.0000,9,-999.0000,9,-999.0000,9,-999.0000,9,-999.0000,9,-999.0000,9,     -999.0,9,     -999.0,9,     -999.0,9,     -999.0,9,     -999.0,9
33RR20160208,       I08S,      38,          1,         32,         32,2,20160229,       0159,   -52.0329,    88.4196,       4240,   103.0,   4.6242,  33.8297,2,  33.8294,2,    304.6,2,   305.0,2,     5.6,2,    0.43,2,   22.77,2,    0.42,2,    1.64,2,   4.443,2,   2.492,2,   0.411,2,    2.57088291,2,  2140.1,2, 2275.46,2,   7.7233,2,    25.11,   4.6145, -999.00,9,  -999.0,9,  -999.0, -999.00,9,-999.000,9,  -999.0,5, -999.00,5,     -999.0,1, -999.00,9, 20160229,      419, -52.0329,  88.4196,     -999.0,9,     -999.0,9,     -999.0,9,-999.0000,9,-999.0000,9,-999.0000,9,-999.0000,9,-999.0000,9,-999.0000,9,-999.0000,9,     -999.0,9,     -999.0,9,     -999.0,9,     -999.0,9,     -999.0,9
33RR20160208,       I08S,      38,          1,         33,         33,2,20160229,       0159,   -52.0329,    88.4196,       4240,    75.4,   5.9205,  33.7665,2,  33.7672,2,    300.8,2,   301.8,2,     2.6,2,    0.84,2,   20.36,2,    0.29,2,    1.49,2,   4.197,2,   2.379,2,   0.389,2,    2.46511874,2,  2123.4,2, 2274.73,2,   7.7612,2,    25.12,   5.9222, -999.00,9,  -999.0,9,  -999.0, -999.00,9,-999.000,9,    45.1,2,   23.40,2,     -999.0,1, -999.00,9, 20160229,      420, -52.0329,  88.4196,     -999.0,9,     -999.0,9,     -999.0,9,-999.0000,9,-999.0000,9,-999.0000,9,-999.0000,9,-999.0000,9,-999.0000,9,-999.0000,9,     -999.0,9,     -999.0,9,     -999.0,9,     -999.0,9,     -999.0,9
33RR20160208,       I08S,      38,          1,         34,         34,2,20160229,       0159,   -52.0329,    88.4196,       4240,    52.2,   6.0278,  33.7609,2,  33.7616,2,    301.0,2,   303.2,2,     2.6,2,    0.78,2,   20.23,2,    0.26,2,    1.46,2,   4.093,2,   2.309,2,   0.379,2,    2.40918577,2,  2122.0,2, 2274.93,6,   7.7663,2,    25.06,   6.0287, -999.00,9,  -999.0,9,  -999.0, -999.00,9,-999.000,9,    44.3,2,   23.70,2,     -999.0,1, -999.00,9, 20160229,      423, -52.0329,  88.4196,     -999.0,9,     -999.0,9,     -999.0,9,-999.0000,9,-999.0000,9,-999.0000,9,-999.0000,9,-999.0000,9,-999.0000,9,-999.0000,9,     -999.0,9,     -999.0,9,     -999.0,9,     -999.0,9,     -999.0,9
33RR20160208,       I08S,      38,          1,         35,         35,2,20160229,       0159,   -52.0329,    88.4196,       4240,    26.9,   6.0188,  33.7611,2,  33.7628,2,    301.4,2,   303.6,2,     2.5,2,    0.78,2,   20.19,2,    0.26,2,    1.45,2,   4.060,2,   2.286,2,   0.388,2,    2.36037154,2,  2120.8,2, 2275.30,2,   7.7662,2,    25.05,   6.0210, -999.00,9,  -999.0,9,  -999.0, -999.00,9,-999.000,9,    45.4,2,   24.20,2,     -999.0,1, -999.00,9, 20160229,      425, -52.0329,  88.4196,     -999.0,9,     -999.0,9,     -999.0,9,-999.0000,9,-999.0000,9,-999.0000,9,-999.0000,9,-999.0000,9,-999.0000,9,-999.0000,9,     -999.0,9,     -999.0,9,     -999.0,9,     -999.0,9,     -999.0,9
33RR20160208,       I08S,      38,          1,         36,         36,2,20160229,       0159,   -52.0329,    88.4196,       4240,     6.1,   6.0379,  33.7608,2,  33.7622,2,    301.8,2,   303.1,2,     2.5,2,    0.79,2,   20.18,2,    0.26,2,    1.47,2,   4.086,2,   2.322,2,   0.373,2,         2.458,2,  2120.8,6, 2274.39,2,   7.7647,2,    25.10,   6.0374, -999.00,9,  -999.0,9,  -999.0, -999.00,9,-999.000,9,    44.0,2,   23.90,2,     -999.0,1, -999.00,9, 20160229,      427, -52.0329,  88.4195,     -999.0,9,     -999.0,9,     -999.0,9,-999.0000,9,-999.0000,9,-999.0000,9,-999.0000,9,-999.0000,9,-999.0000,9,-999.0000,9,     -999.0,9,     -999.0,9,     -999.0,9,     -999.0,9,     -999.0,9