BOTTLE,20220706CCHSIOAMB
EXPOCODE,SECT_ID,STNNBR,CASTNO,SAMPNO,BTLNBR,BTLNBR_FLAG_W,DATE,TIME,LATITUDE,LONGITUDE,DEPTH,CTDPRS,CTDTMP,CTDSAL,CTDSAL_FLAG_W,SALNTY,SALNTY_FLAG_W,CTDOXY,CTDOXY_FLAG_W,OXYGEN,OXYGEN_FLAG_W,SILCAT,SILCAT_FLAG_W,NH4,NH4_FLAG_W,NITRAT,NITRAT_FLAG_W,NITRIT,NITRIT_FLAG_W,PHSPHT,PHSPHT_FLAG_W,CFC-11,CFC-11_FLAG_W,CFC-12,CFC-12_FLAG_W,CFC113,CFC113_FLAG_W,SF6,SF6_FLAG_W,TCARBN,TCARBN_FLAG_W,ALKALI,ALKALI_FLAG_W,PH_TOT,PH_TOT_FLAG_W,PH_TMP,REFTMP,DELC13,DELC13_FLAG_W,DELC14,DELC14_FLAG_W,C14ERR,DELO18,DELO18_FLAG_W,POC,POC_FLAG_W,DOC,DOC_FLAG_W,TDN,TDN_FLAG_W,TON,TON_FLAG_W,D15N_NO3,D15N_NO3_FLAG_W,BTL_DATE,BTL_TIME,BTL_LAT,BTL_LON,14C-DOC,14C-DOC_FLAG_W,CHLORA,CHLORA_FLAG_W,HPLC,HPLC_FLAG_W,CDOM325,CDOM325_FLAG_W,CDOM340,CDOM340_FLAG_W,CDOM380,CDOM380_FLAG_W,CDOM412,CDOM412_FLAG_W,CDOM443,CDOM443_FLAG_W,CDOM490,CDOM490_FLAG_W,CDOM555,CDOM555_FLAG_W,CDOMSL,CDOMSL_FLAG_W,CDOMSN,CDOMSN_FLAG_W,D18O_NO3,D18O_NO3_FLAG_W,D15N_NO2+NO3,D15N_NO2+NO3_FLAG_W,D18O_NO2+NO3,D18O_NO2+NO3_FLAG_W
,,,,,,,,,,,METERS,DBAR,ITS-90,PSS-78,,PSS-78,,UMOL/KG,,UMOL/KG,,UMOL/KG,,UMOL/KG,,UMOL/KG,,UMOL/KG,,UMOL/KG,,PMOL/KG,,PMOL/KG,,PMOL/KG,,FMOL/KG,,UMOL/KG,,UMOL/KG,,,,DEG C,DEG C,/MILLE,,/MILLE,,/MILLE,/MILLE,,UG/KG,,UMOL/KG,,UMOL/KG,,UMOL/KG,,/MILLE,,,,,,/MILLE,,MG/M3,,,,1/M,,1/M,,1/M,,1/M,,1/M,,1/M,,1/M,,1/NM,,1/NM,,/MILLE,,/MILLE,,/MILLE,
33RR20160208,       I08S,      60,          1,          1,          1,2,20160306,       0446,   -39.9970,    94.9950,       3698,  3686.3,   1.1476,  34.7192,2,  34.7194,2,    205.9,2,   206.0,2,   115.6,2,    0.00,2,   31.72,2,    0.00,2,    2.24,2,   0.155,2,   0.079,2,   0.000,2,   0.020573614,2,  2262.6,6, 2369.26,2,   7.6132,2,    25.02,   1.1474, -999.00,9,  -999.0,9,  -999.0, -999.00,9,-999.000,9,    39.1,2, -999.00,9,     -999.0,1, -999.00,9, 20160306,      446, -39.9971,  94.9950,     -999.0,9,     -999.0,9,     -999.0,9,   0.1155,2,   0.0787,2,   0.0446,2,   0.0253,2,   0.0143,2,   0.0049,2,   0.0010,2,     0.0165,2,     0.0179,2,     -999.0,9,     -999.0,9,     -999.0,9
33RR20160208,       I08S,      60,          1,          2,          2,2,20160306,       0446,   -39.9970,    94.9950,       3698,  3488.4,   1.1816,  34.7217,2,  34.7217,2,    205.1,2,   205.7,2,   113.7,2,    0.00,2,   31.65,2,    0.00,2,    2.21,2,   0.157,2,   0.084,2,   0.000,2,    0.08949522,2,  2258.6,2, 2366.63,2,   7.6128,2,    25.02,   1.1809, -999.00,9,  -999.0,9,  -999.0, -999.00,9,-999.000,9,    37.7,2, -999.00,9,     -999.0,1, -999.00,9, 20160306,      451, -39.9970,  94.9950,     -999.0,9,     -999.0,9,     -999.0,9,-999.0000,9,-999.0000,9,-999.0000,9,-999.0000,9,-999.0000,9,-999.0000,9,-999.0000,9,     -999.0,9,     -999.0,9,     -999.0,9,     -999.0,9,     -999.0,9
33RR20160208,       I08S,      60,          1,          3,          3,2,20160306,       0446,   -39.9970,    94.9950,       3698,  3304.0,   1.2891,  34.7271,2,  34.7270,2,    204.2,2,   204.3,2,   110.1,2,    0.00,2,   31.42,2,    0.00,2,    2.21,2,-999.000,9,-999.000,9,-999.000,9,-999.000000000,9,  -999.0,9, -999.00,9,-999.0000,9,  -999.00,   1.2881, -999.00,9,  -999.0,9,  -999.0, -999.00,9,-999.000,9,    38.2,2, -999.00,9,     -999.0,1, -999.00,9, 20160306,      455, -39.9971,  94.9950,     -999.0,9,     -999.0,9,     -999.0,9,-999.0000,9,-999.0000,9,-999.0000,9,-999.0000,9,-999.0000,9,-999.0000,9,-999.0000,9,     -999.0,9,     -999.0,9,     -999.0,9,     -999.0,9,     -999.0,9
33RR20160208,       I08S,      60,          1,          4,          4,2,20160306,       0446,   -39.9970,    94.9950,       3698,  3105.3,   1.4190,  34.7336,2,  34.7339,2,    202.8,2,   203.0,2,   105.5,2,    0.00,2,   31.19,2,    0.00,2,    2.18,2,   0.116,2,   0.061,2,   0.000,2,   0.033946463,2,  2254.1,2, 2362.03,6,   7.6134,2,    25.03,   1.4186, -999.00,9,  -999.0,9,  -999.0, -999.00,9,-999.000,9,    38.5,2, -999.00,9,     -999.0,1, -999.00,9, 20160306,      459, -39.9971,  94.9950,     -999.0,9,     -999.0,9,     -999.0,9,   0.1140,2,   0.0801,2,   0.0523,2,   0.0262,2,   0.0139,2,   0.0042,2,   0.0006,2,     0.0142,2,     0.0149,2,     -999.0,9,     -999.0,9,     -999.0,9
33RR20160208,       I08S,      60,          1,          5,          5,2,20160306,       0446,   -39.9970,    94.9950,       3698,  2864.9,   1.6742,  34.7438,2,  34.7435,2,    200.2,2,   201.2,2,    96.8,2,    0.00,2,   30.72,2,    0.00,2,    2.13,2,-999.000,9,-999.000,9,-999.000,9,-999.000000000,9,  -999.0,9, -999.00,9,-999.0000,9,     9.00,   1.6740, -999.00,9,  -999.0,9,  -999.0, -999.00,9,-999.000,9,    38.6,2, -999.00,9,     -999.0,1, -999.00,9, 20160306,      504, -39.9971,  94.9950,     -999.0,9,     -999.0,9,     -999.0,9,-999.0000,9,-999.0000,9,-999.0000,9,-999.0000,9,-999.0000,9,-999.0000,9,-999.0000,9,     -999.0,9,     -999.0,9,     -999.0,9,     -999.0,9,     -999.0,9
33RR20160208,       I08S,      60,          1,          6,         38,2,20160306,       0446,   -39.9970,    94.9950,       3698,  2664.3,   1.9289,  34.7497,2,  34.7500,2,    197.3,2,   197.6,2,    88.9,2,    0.00,2,   30.37,2,    0.00,2,    2.11,2,   0.082,2,   0.044,2,   0.000,2,   0.018516252,2,  2247.7,2, 2354.67,2,   7.6160,6,    25.04,   1.9293, -999.00,9,  -999.0,9,  -999.0, -999.00,9,-999.000,9,    38.0,2, -999.00,9,     -999.0,1, -999.00,9, 20160306,      509, -39.9971,  94.9949,     -999.0,9,     -999.0,9,     -999.0,9,-999.0000,9,-999.0000,9,-999.0000,9,-999.0000,9,-999.0000,9,-999.0000,9,-999.0000,9,     -999.0,9,     -999.0,9,     -999.0,9,     -999.0,9,     -999.0,9
33RR20160208,       I08S,      60,          1,          7,          7,2,20160306,       0446,   -39.9970,    94.9950,       3698,  2464.7,   2.1403,  34.7458,2,  34.7459,2,    193.7,2,   193.2,2,    82.7,2,    0.00,2,   30.39,2,    0.00,2,    2.14,2,-999.000,9,-999.000,9,-999.000,9,-999.000000000,9,  -999.0,9, -999.00,9,-999.0000,9,  -999.00,   2.1401, -999.00,9,  -999.0,9,  -999.0, -999.00,9,-999.000,9,    38.6,2, -999.00,9,     -999.0,1, -999.00,9, 20160306,      513, -39.9970,  94.9949,     -999.0,9,     -999.0,9,     -999.0,9,-999.0000,9,-999.0000,9,-999.0000,9,-999.0000,9,-999.0000,9,-999.0000,9,-999.0000,9,     -999.0,9,     -999.0,9,     -999.0,9,     -999.0,9,     -999.0,9
33RR20160208,       I08S,      60,          1,          8,          8,2,20160306,       0446,   -39.9970,    94.9950,       3698,  2263.6,   2.3158,  34.7268,2,  34.7266,2,    187.1,2,   187.7,2,    79.8,2,    0.00,2,   30.98,2,    0.00,2,    2.18,2,   0.120,2,   0.064,2,   0.000,2,   0.050405354,2,  2245.7,2, 2349.17,2,   7.6013,2,    25.04,   2.3166, -999.00,9,  -999.0,9,  -999.0, -999.00,9,-999.000,9,    39.5,2, -999.00,9,     -999.0,1, -999.00,9, 20160306,      518, -39.9970,  94.9949,     -999.0,9,     -999.0,9,     -999.0,9,-999.0000,9,-999.0000,9,-999.0000,9,-999.0000,9,-999.0000,9,-999.0000,9,-999.0000,9,     -999.0,9,     -999.0,9,     -999.0,9,     -999.0,9,     -999.0,9
33RR20160208,       I08S,      60,          1,          9,          9,2,20160306,       0446,   -39.9970,    94.9950,       3698,  2065.4,   2.4760,  34.6927,2,  34.6933,2,    181.3,2,   182.0,2,    76.1,2,    0.00,2,   31.78,2,    0.00,2,    2.23,2,-999.000,9,-999.000,9,-999.000,9,-999.000000000,9,  -999.0,9, -999.00,9,-999.0000,9,  -999.00,   2.4759, -999.00,9,  -999.0,9,  -999.0, -999.00,9,-999.000,9,    39.5,2, -999.00,9,     -999.0,1, -999.00,9, 20160306,      522, -39.9971,  94.9950,     -999.0,9,     -999.0,9,     -999.0,9,   0.1163,2,   0.0813,2,   0.0525,2,   0.0271,2,   0.0145,2,   0.0043,2,   0.0006,2,     0.0143,2,     0.0151,2,     -999.0,9,     -999.0,9,     -999.0,9
33RR20160208,       I08S,      60,          1,         10,         10,2,20160306,       0446,   -39.9970,    94.9950,       3698,  1865.1,   2.6232,  34.6378,2,  34.6378,2,    175.3,2,   175.8,2,    73.5,2,    0.00,2,   32.87,2,    0.00,2,    2.29,2,   0.286,2,   0.151,2,   0.008,2,   0.167674952,2,  2248.4,2, 2340.48,2,   7.5728,6,    25.02,   2.6231,    0.60,2,  -147.1,2,     2.0, -999.00,9,-999.000,9,    38.6,2, -999.00,9,     -999.0,1, -999.00,9, 20160306,      527, -39.9971,  94.9950,     -999.0,9,     -999.0,9,     -999.0,9,-999.0000,9,-999.0000,9,-999.0000,9,-999.0000,9,-999.0000,9,-999.0000,9,-999.0000,9,     -999.0,9,     -999.0,9,     -999.0,9,     -999.0,9,     -999.0,9
33RR20160208,       I08S,      60,          1,         11,         11,2,20160306,       0446,   -39.9970,    94.9950,       3698,  1734.2,   2.7392,  34.5884,2,  34.5889,2,    174.2,2,   173.0,2,    70.3,2,    0.00,2,   33.48,2,    0.00,2,    2.33,2,   0.414,2,   0.215,2,   0.014,2,    0.08949522,2,  -999.0,9, -999.00,9,-999.0000,9,     9.00,   2.7396, -999.00,9,  -999.0,9,  -999.0, -999.00,9,-999.000,9,    38.8,2, -999.00,9,     -999.0,1, -999.00,9, 20160306,      530, -39.9970,  94.9950,     -999.0,9,     -999.0,9,     -999.0,9,-999.0000,9,-999.0000,9,-999.0000,9,-999.0000,9,-999.0000,9,-999.0000,9,-999.0000,9,     -999.0,9,     -999.0,9,     -999.0,9,     -999.0,9,     -999.0,9
33RR20160208,       I08S,      60,          1,         12,         12,2,20160306,       0446,   -39.9970,    94.9950,       3698,  1633.9,   2.8658,  34.5392,2,  34.5389,2,    174.6,2,   174.4,2,    65.7,2,    0.00,2,   33.80,2,    0.00,2,    2.36,2,   0.595,2,   0.304,2,   0.025,2,   0.183105163,2,  2246.7,2, 2332.05,2,   7.5609,2,    25.03,   2.8688,    0.59,2,  -138.7,2,     1.8, -999.00,9,-999.000,9,    38.7,2, -999.00,9,     -999.0,1, -999.00,9, 20160306,      533, -39.9971,  94.9950,     -999.0,9,     -999.0,9,     -999.0,9,-999.0000,9,-999.0000,9,-999.0000,9,-999.0000,9,-999.0000,9,-999.0000,9,-999.0000,9,     -999.0,9,     -999.0,9,     -999.0,9,     -999.0,9,     -999.0,9
33RR20160208,       I08S,      60,          1,         13,         13,2,20160306,       0446,   -39.9970,    94.9950,       3698,  1534.1,   3.0094,  34.4935,2,  34.4934,2,    177.5,2,   176.9,2,    61.5,2,    0.00,2,   33.91,2,    0.00,2,    2.36,2,   0.773,2,   0.387,2,   0.037,2,   0.195449331,2,  -999.0,9, -999.00,9,-999.0000,9,  -999.00,   3.0106, -999.00,9,  -999.0,9,  -999.0, -999.00,9,-999.000,9,    37.7,2, -999.00,9,     -999.0,1, -999.00,9, 20160306,      536, -39.9971,  94.9950,     -999.0,9,     -999.0,9,     -999.0,9,   0.1066,2,   0.0722,2,   0.0440,2,   0.0244,2,   0.0134,2,   0.0040,2,   0.0004,4,     0.0154,2,     0.0168,2,     -999.0,9,     -999.0,9,     -999.0,9
33RR20160208,       I08S,      60,          1,         14,         14,2,20160306,       0446,   -39.9970,    94.9950,       3698,  1432.9,   3.2333,  34.4522,2,  34.4523,2,    179.1,2,   179.4,2,    57.1,2,    0.00,2,   33.94,2,    0.00,2,    2.36,2,   0.927,2,   0.462,2,   0.044,2,    0.22425239,2,  -999.0,9, -999.00,9,-999.0000,9,     9.00,   3.2363, -999.00,9,  -999.0,9,  -999.0, -999.00,9,-999.000,9,    38.7,2, -999.00,9,     -999.0,1, -999.00,9, 20160306,      538, -39.9970,  94.9950,     -999.0,9,     -999.0,9,     -999.0,9,-999.0000,9,-999.0000,9,-999.0000,9,-999.0000,9,-999.0000,9,-999.0000,9,-999.0000,9,     -999.0,9,     -999.0,9,     -999.0,9,     -999.0,9,     -999.0,9
33RR20160208,       I08S,      60,          1,         15,         15,2,20160306,       0446,   -39.9970,    94.9950,       3698,  1335.2,   3.4371,  34.3988,2,  34.3997,2,    189.7,2,   189.0,2,    48.8,2,    0.00,2,   33.24,2,    0.00,2,    2.30,2,   1.386,2,   0.689,2,   0.081,2,   0.262313576,2,  -999.0,9, -999.00,9,-999.0000,9,  -999.00,   3.4363, -999.00,9,  -999.0,9,  -999.0, -999.00,9,-999.000,9,    38.5,2, -999.00,9,     -999.0,1, -999.00,9, 20160306,      541, -39.9971,  94.9950,     -999.0,9,     -999.0,9,     -999.0,9,-999.0000,9,-999.0000,9,-999.0000,9,-999.0000,9,-999.0000,9,-999.0000,9,-999.0000,9,     -999.0,9,     -999.0,9,     -999.0,9,     -999.0,9,     -999.0,9
33RR20160208,       I08S,      60,          1,         16,         16,2,20160306,       0446,   -39.9970,    94.9950,       3698,  1235.3,   3.7599,  34.3630,2,  34.3647,2,    198.6,2,   197.4,2,    41.5,2,    0.00,2,   32.33,2,    0.00,2,    2.25,2,   1.760,2,   0.873,2,   0.103,2,   0.379583174,2,  2211.8,2, 2307.90,2,   7.5899,6,    25.05,   3.7629,    0.88,2,   -92.2,2,     1.9, -999.00,9,-999.000,9,    38.1,2, -999.00,9,     -999.0,1, -999.00,9, 20160306,      544, -39.9971,  94.9950,     -999.0,9,     -999.0,9,     -999.0,9,-999.0000,9,-999.0000,9,-999.0000,9,-999.0000,9,-999.0000,9,-999.0000,9,-999.0000,9,     -999.0,9,     -999.0,9,     -999.0,9,     -999.0,9,     -999.0,9
33RR20160208,       I08S,      60,          1,         17,         17,2,20160306,       0446,   -39.9970,    94.9950,       3698,  1137.2,   4.1902,  34.3373,2,  34.3378,2,    206.1,2,   205.0,2,    33.9,2,    0.00,2,   31.10,2,    0.00,2,    2.15,2,   2.139,2,   1.077,2,   0.129,2,   0.527713193,2,  -999.0,9, -999.00,9,-999.0000,9,     9.00,   4.1910, -999.00,9,  -999.0,9,  -999.0, -999.00,9,-999.000,9,    39.4,2, -999.00,9,     -999.0,1, -999.00,9, 20160306,      547, -39.9971,  94.9950,     -999.0,9,     -999.0,9,     -999.0,9,-999.0000,9,-999.0000,9,-999.0000,9,-999.0000,9,-999.0000,9,-999.0000,9,-999.0000,9,     -999.0,9,     -999.0,9,     -999.0,9,     -999.0,9,     -999.0,9
33RR20160208,       I08S,      60,          1,         18,         37,2,20160306,       0446,   -39.9970,    94.9950,       3698,  1037.1,   4.9073,  34.3357,2,  34.3366,2,    210.0,2,   209.9,2,    25.8,2,    0.00,2,   29.44,2,    0.00,2,    2.01,2,   2.498,2,   1.275,2,   0.144,2,    0.61309369,2,  2186.8,2, 2294.33,2,   7.6247,2,    25.06,   4.9077,    1.00,2,   -54.9,2,     3.9, -999.00,9,-999.000,9,    39.8,2, -999.00,9,     -999.0,1, -999.00,9, 20160306,      549, -39.9971,  94.9950,     -999.0,9,     -999.0,9,     -999.0,9,   0.0865,2,   0.0614,2,   0.0492,2,   0.0211,2,   0.0103,2,   0.0023,2,  -0.0002,4,     0.0110,2,     0.0111,2,     -999.0,9,     -999.0,9,     -999.0,9
33RR20160208,       I08S,      60,          1,         19,         19,2,20160306,       0446,   -39.9970,    94.9950,       3698,   935.6,   6.1308,  34.3987,2,  34.3993,2,    208.7,2,   208.7,2,    19.5,2,    0.00,2,   26.88,2,    0.00,2,    1.84,2,   2.744,2,   1.433,2,   0.136,2,   0.733449331,2,  -999.0,9, -999.00,9,-999.0000,9,  -999.00,   6.1311, -999.00,9,  -999.0,9,  -999.0, -999.00,9,-999.000,9,    40.1,2, -999.00,9,     -999.0,1, -999.00,9, 20160306,      552, -39.9971,  94.9950,     -999.0,9,     -999.0,9,     -999.0,9,-999.0000,9,-999.0000,9,-999.0000,9,-999.0000,9,-999.0000,9,-999.0000,9,-999.0000,9,     -999.0,9,     -999.0,9,     -999.0,9,     -999.0,9,     -999.0,9
33RR20160208,       I08S,      60,          1,         20,         20,2,20160306,       0446,   -39.9970,    94.9950,       3698,   836.0,   7.4399,  34.4965,2,  34.4981,2,    208.7,2,   208.4,2,    13.8,2,    0.00,2,   23.75,2,    0.00,2,    1.60,2,   2.892,2,   1.494,2,   0.113,2,   0.752994264,2,  2163.9,2, 2291.39,2,   7.6829,2,    25.10,   7.4338,    1.06,2,     0.4,2,     2.4, -999.00,9,-999.000,9,    42.8,2, -999.00,9,     -999.0,1, -999.00,9, 20160306,      555, -39.9971,  94.9950,     -999.0,9,     -999.0,9,     -999.0,9,-999.0000,9,-999.0000,9,-999.0000,9,-999.0000,9,-999.0000,9,-999.0000,9,-999.0000,9,     -999.0,9,     -999.0,9,     -999.0,9,     -999.0,9,     -999.0,9
33RR20160208,       I08S,      60,          1,         21,         21,2,20160306,       0446,   -39.9970,    94.9950,       3698,   736.8,   8.7017,  34.6087,2,  34.6087,4,    220.2,2,   220.8,2,     8.7,2,    0.00,2,   19.64,2,    0.00,2,    1.33,2,   3.035,2,   1.668,2,   0.121,2,    1.06982792,2,  2146.2,2, 2291.68,2,   7.7285,2,    25.04,   8.6964,    1.11,2,    17.9,2,     2.4, -999.00,9,-999.000,9,    43.4,2, -999.00,9,     -999.0,1, -999.00,9, 20160306,      558, -39.9971,  94.9950,     -999.0,9,     -999.0,9,     -999.0,9,   0.0758,2,   0.0520,2,   0.0362,2,   0.0162,2,   0.0076,2,   0.0014,3,  -0.0006,4,     0.0136,2,     0.0143,2,     -999.0,9,     -999.0,9,     -999.0,9
33RR20160208,       I08S,      60,          1,         22,         22,2,20160306,       0446,   -39.9970,    94.9950,       3698,   635.5,   9.4018,  34.6795,2,  34.6799,2,    237.5,2,   238.5,2,     5.6,2,    0.00,2,   16.36,2,    0.00,2,    1.12,2,   3.230,2,   1.791,2,   0.143,2,     1.5183327,2,  2133.9,2, 2293.86,2,   7.7663,2,    25.01,   9.4014,    1.09,2,    19.4,2,     2.4, -999.00,9,-999.000,9,    44.3,2, -999.00,9,     -999.0,1, -999.00,9, 20160306,      600, -39.9971,  94.9950,     -999.0,9,     -999.0,9,     -999.0,9,-999.0000,9,-999.0000,9,-999.0000,9,-999.0000,9,-999.0000,9,-999.0000,9,-999.0000,9,     -999.0,9,     -999.0,9,     -999.0,9,     -999.0,9,     -999.0,9
33RR20160208,       I08S,      60,          1,         23,         23,2,20160306,       0446,   -39.9970,    94.9950,       3698,   535.8,   9.9794,  34.7576,2,  34.7567,2,    240.1,2,   241.1,2,     4.8,2,    0.00,2,   14.70,2,    0.00,2,    1.02,2,   3.165,2,   1.818,2,   0.145,2,    1.49981644,2,  2128.4,2, 2298.33,2,   7.7835,2,    25.01,   9.9716,    1.07,2,    25.2,2,     2.0, -999.00,9,-999.000,9,    44.2,2, -999.00,9,     -999.0,1, -999.00,9, 20160306,      603, -39.9971,  94.9950,     -999.0,9,     -999.0,9,     -999.0,9,-999.0000,9,-999.0000,9,-999.0000,9,-999.0000,9,-999.0000,9,-999.0000,9,-999.0000,9,     -999.0,9,     -999.0,9,     -999.0,9,     -999.0,9,     -999.0,9
33RR20160208,       I08S,      60,          1,         24,         24,2,20160306,       0446,   -39.9970,    94.9950,       3698,   464.4,  10.4199,  34.8248,2,  34.8248,2,    244.5,2,   244.8,2,     4.0,2,    0.00,2,   13.23,2,    0.00,2,    0.93,2,   3.117,2,   1.814,2,   0.149,2,    1.62017208,2,  2124.0,2, 2300.49,2,   7.7987,2,    25.01,  10.4173,    1.06,2,    22.8,2,     2.6, -999.00,9,-999.000,9,    45.4,2, -999.00,9,     -999.0,1, -999.00,9, 20160306,      605, -39.9971,  94.9950,     -999.0,9,     -999.0,9,     -999.0,9,-999.0000,5,-999.0000,5,-999.0000,5,-999.0000,5,-999.0000,5,-999.0000,5,-999.0000,5,     -999.0,5,     -999.0,5,     -999.0,9,     -999.0,9,     -999.0,9
33RR20160208,       I08S,      60,          1,         25,         25,2,20160306,       0446,   -39.9970,    94.9950,       3698,   415.5,  10.6900,  34.8676,2,  34.8684,2,    244.0,2,   245.1,2,     3.9,2,    0.00,2,   12.56,2,    0.00,2,    0.89,2,-999.000,9,-999.000,9,-999.000,9,-999.000000000,9,  -999.0,9, -999.00,9,-999.0000,9,  -999.00,  10.6883, -999.00,9,  -999.0,9,  -999.0, -999.00,9,-999.000,9,    45.5,2, -999.00,9,     -999.0,1, -999.00,9, 20160306,      607, -39.9971,  94.9950,     -999.0,9,     -999.0,9,     -999.0,9,-999.0000,9,-999.0000,9,-999.0000,9,-999.0000,9,-999.0000,9,-999.0000,9,-999.0000,9,     -999.0,9,     -999.0,9,     -999.0,9,     -999.0,9,     -999.0,9
33RR20160208,       I08S,      60,          1,         26,         26,2,20160306,       0446,   -39.9970,    94.9950,       3698,   364.0,  10.9292,  34.9068,2,  34.9067,2,    244.6,2,   245.3,2,     3.8,2,    0.00,2,   12.02,2,    0.00,2,    0.85,2,   2.998,2,   1.762,2,   0.145,2,    1.74875717,2,  2123.3,2, 2304.09,2,   7.8110,2,    25.01,  10.9297,    1.05,2,    26.0,2,     3.3, -999.00,9,-999.000,9,    45.5,2, -999.00,9,     -999.0,1, -999.00,9, 20160306,      609, -39.9970,  94.9950,     -999.0,9,     -999.0,9,     -999.0,9,   0.0684,2,   0.0451,2,   0.0259,2,   0.0133,2,   0.0063,2,   0.0013,2,  -0.0004,4,     0.0168,2,     0.0186,2,     -999.0,9,     -999.0,9,     -999.0,9
33RR20160208,       I08S,      60,          1,         27,         27,2,20160306,       0446,   -39.9970,    94.9950,       3698,   316.9,  11.1348,  34.9364,2,  34.9361,2,    245.4,2,   246.2,2,     3.6,2,    0.00,2,   11.48,2,    0.00,2,    0.81,2,-999.000,9,-999.000,9,-999.000,9,-999.000000000,9,  -999.0,9, -999.00,9,-999.0000,9,  -999.00,  11.1317, -999.00,9,  -999.0,9,  -999.0, -999.00,9,-999.000,9,    47.5,2,   14.10,2,     -999.0,1, -999.00,9, 20160306,      611, -39.9970,  94.9950,     -999.0,9,     -999.0,9,     -999.0,9,-999.0000,9,-999.0000,9,-999.0000,9,-999.0000,9,-999.0000,9,-999.0000,9,-999.0000,9,     -999.0,9,     -999.0,9,     -999.0,9,     -999.0,9,     -999.0,9