BOTTLE,20220706CCHSIOAMB
EXPOCODE,SECT_ID,STNNBR,CASTNO,SAMPNO,BTLNBR,BTLNBR_FLAG_W,DATE,TIME,LATITUDE,LONGITUDE,DEPTH,CTDPRS,CTDTMP,CTDSAL,CTDSAL_FLAG_W,SALNTY,SALNTY_FLAG_W,CTDOXY,CTDOXY_FLAG_W,OXYGEN,OXYGEN_FLAG_W,SILCAT,SILCAT_FLAG_W,NH4,NH4_FLAG_W,NITRAT,NITRAT_FLAG_W,NITRIT,NITRIT_FLAG_W,PHSPHT,PHSPHT_FLAG_W,CFC-11,CFC-11_FLAG_W,CFC-12,CFC-12_FLAG_W,CFC113,CFC113_FLAG_W,SF6,SF6_FLAG_W,TCARBN,TCARBN_FLAG_W,ALKALI,ALKALI_FLAG_W,PH_TOT,PH_TOT_FLAG_W,PH_TMP,REFTMP,DELC13,DELC13_FLAG_W,DELC14,DELC14_FLAG_W,C14ERR,DELO18,DELO18_FLAG_W,POC,POC_FLAG_W,DOC,DOC_FLAG_W,TDN,TDN_FLAG_W,TON,TON_FLAG_W,D15N_NO3,D15N_NO3_FLAG_W,BTL_DATE,BTL_TIME,BTL_LAT,BTL_LON,14C-DOC,14C-DOC_FLAG_W,CHLORA,CHLORA_FLAG_W,HPLC,HPLC_FLAG_W,CDOM325,CDOM325_FLAG_W,CDOM340,CDOM340_FLAG_W,CDOM380,CDOM380_FLAG_W,CDOM412,CDOM412_FLAG_W,CDOM443,CDOM443_FLAG_W,CDOM490,CDOM490_FLAG_W,CDOM555,CDOM555_FLAG_W,CDOMSL,CDOMSL_FLAG_W,CDOMSN,CDOMSN_FLAG_W,D18O_NO3,D18O_NO3_FLAG_W,D15N_NO2+NO3,D15N_NO2+NO3_FLAG_W,D18O_NO2+NO3,D18O_NO2+NO3_FLAG_W
,,,,,,,,,,,METERS,DBAR,ITS-90,PSS-78,,PSS-78,,UMOL/KG,,UMOL/KG,,UMOL/KG,,UMOL/KG,,UMOL/KG,,UMOL/KG,,UMOL/KG,,PMOL/KG,,PMOL/KG,,PMOL/KG,,FMOL/KG,,UMOL/KG,,UMOL/KG,,,,DEG C,DEG C,/MILLE,,/MILLE,,/MILLE,/MILLE,,UG/KG,,UMOL/KG,,UMOL/KG,,UMOL/KG,,/MILLE,,,,,,/MILLE,,MG/M3,,,,1/M,,1/M,,1/M,,1/M,,1/M,,1/M,,1/M,,1/NM,,1/NM,,/MILLE,,/MILLE,,/MILLE,
33RR20160208,       I08S,       7,          2,          1,          1,2,20160220,       1109,   -65.6248,    78.8085,       3313,  3330.2,  -0.1536,  34.6588,2,  34.6591,2,    233.9,2,   233.1,2,   138.4,2,    0.00,2,   32.64,2,    0.00,2,    2.28,2,   1.195,2,   0.594,2,   0.078,2,         0.323,2,  2262.0,6, 2356.95,2,   7.5903,2,    25.11,  -0.1537, -999.00,9,  -999.0,9,  -999.0, -999.00,1,-999.000,9,  -999.0,9, -999.00,9,     -999.0,9, -999.00,9, 20160220,     1109, -65.6248,  78.8085,     -999.0,9,     -999.0,9,     -999.0,9,   0.1188,2,   0.0858,2,   0.0611,2,   0.0299,2,   0.0165,2,   0.0058,2,   0.0017,2,     0.0124,2,     0.0127,2,     -999.0,9,     -999.0,9,     -999.0,9
33RR20160208,       I08S,       7,          2,          2,          2,2,20160220,       1109,   -65.6248,    78.8085,       3313,  3204.3,  -0.1398,  34.6599,2,  34.6607,2,    233.5,2,   233.2,2,   132.3,2,    0.00,2,   32.42,2,    0.00,2,    2.26,2,   1.281,2,   0.643,2,   0.088,2,         0.433,2,  2260.9,2, 2355.42,2,   7.5913,6,    25.06,  -0.1401, -999.00,9,  -999.0,9,  -999.0, -999.00,1,-999.000,9,  -999.0,9, -999.00,9,     -999.0,9, -999.00,9, 20160220,     1113, -65.6247,  78.8086,     -999.0,9,     -999.0,9,     -999.0,9,-999.0000,9,-999.0000,9,-999.0000,9,-999.0000,9,-999.0000,9,-999.0000,9,-999.0000,9,     -999.0,9,     -999.0,9,     -999.0,9,     -999.0,9,     -999.0,9
33RR20160208,       I08S,       7,          2,          3,          3,2,20160220,       1109,   -65.6248,    78.8085,       3313,  3133.3,  -0.1174,  34.6611,2,  34.6601,2,    233.2,2,   233.2,2,   127.0,2,    0.00,2,   32.31,2,    0.00,2,    2.25,2,   1.342,2,   0.676,2,   0.096,2,         0.487,2,  2257.2,2, 2354.67,6,   7.5924,2,    25.03,  -0.1180, -999.00,9,  -999.0,9,  -999.0, -999.00,1,-999.000,9,  -999.0,9, -999.00,9,     -999.0,9, -999.00,9, 20160220,     1115, -65.6248,  78.8086,     -999.0,9,     -999.0,9,     -999.0,9,-999.0000,9,-999.0000,9,-999.0000,9,-999.0000,9,-999.0000,9,-999.0000,9,-999.0000,9,     -999.0,9,     -999.0,9,     -999.0,9,     -999.0,9,     -999.0,9
33RR20160208,       I08S,       7,          2,          4,          4,2,20160220,       1109,   -65.6248,    78.8085,       3313,  2931.8,  -0.0707,  34.6633,2,  34.6629,2,    230.8,2,   231.7,2,   124.0,2,    0.00,2,   32.28,2,    0.00,2,    2.24,2,   1.233,2,   0.619,2,   0.086,2,         0.404,2,  2259.7,2, 2354.40,2,   7.5930,2,    25.05,  -0.0706, -999.00,9,  -999.0,9,  -999.0, -999.00,1,-999.000,9,  -999.0,9, -999.00,9,     -999.0,9, -999.00,9, 20160220,     1119, -65.6248,  78.8084,     -999.0,9,     -999.0,9,     -999.0,9,   0.1201,2,   0.0881,2,   0.0663,2,   0.0315,2,   0.0173,2,   0.0063,2,   0.0019,2,     0.0114,2,     0.0115,2,     -999.0,9,     -999.0,9,     -999.0,9
33RR20160208,       I08S,       7,          2,          5,          5,2,20160220,       1109,   -65.6248,    78.8085,       3313,  2728.2,  -0.0256,  34.6655,2,  34.6644,2,    228.8,2,   230.1,2,   123.6,2,    0.00,2,   32.40,2,    0.00,2,    2.26,2,   1.052,2,   0.538,2,   0.072,2,          0.35,2,  2257.7,2, 2354.87,2,   7.5923,2,    25.07,  -0.0254, -999.00,9,  -999.0,9,  -999.0, -999.00,1,-999.000,9,  -999.0,9, -999.00,9,     -999.0,9, -999.00,9, 20160220,     1124, -65.6247,  78.8084,     -999.0,9,     -999.0,9,     -999.0,9,-999.0000,9,-999.0000,9,-999.0000,9,-999.0000,9,-999.0000,9,-999.0000,9,-999.0000,9,     -999.0,9,     -999.0,9,     -999.0,9,     -999.0,9,     -999.0,9
33RR20160208,       I08S,       7,          2,          6,          6,2,20160220,       1109,   -65.6248,    78.8085,       3313,  2531.7,   0.0322,  34.6691,2,  34.6654,4,    225.7,2,   226.7,2,   125.7,2,    0.00,2,   32.54,2,    0.00,2,    2.27,2,   0.771,2,   0.396,2,   0.047,2,           0.2,2,  2258.8,2, 2356.15,2,   7.5918,2,    25.06,   0.0325, -999.00,9,  -999.0,9,  -999.0, -999.00,1,-999.000,9,  -999.0,9, -999.00,9,     -999.0,9, -999.00,9, 20160220,     1129, -65.6248,  78.8084,     -999.0,9,     -999.0,9,     -999.0,9,-999.0000,9,-999.0000,9,-999.0000,9,-999.0000,9,-999.0000,9,-999.0000,9,-999.0000,9,     -999.0,9,     -999.0,9,     -999.0,9,     -999.0,9,     -999.0,9
33RR20160208,       I08S,       7,          2,          7,          7,2,20160220,       1109,   -65.6248,    78.8085,       3313,  2333.8,   0.0605,  34.6684,2,  34.6678,2,    224.8,2,   226.8,2,   122.3,2,    0.00,2,   32.44,2,    0.00,2,    2.25,2,   0.887,2,   0.457,2,   0.057,2,         0.274,2,  2260.8,2, 2355.32,2,   7.5917,6,    25.03,   0.0608, -999.00,9,  -999.0,9,  -999.0, -999.00,1,-999.000,9,  -999.0,9, -999.00,9,     -999.0,9, -999.00,9, 20160220,     1134, -65.6248,  78.8084,     -999.0,9,     -999.0,9,     -999.0,9,-999.0000,9,-999.0000,9,-999.0000,9,-999.0000,9,-999.0000,9,-999.0000,9,-999.0000,9,     -999.0,9,     -999.0,9,     -999.0,9,     -999.0,9,     -999.0,9
33RR20160208,       I08S,       7,          2,          8,          8,2,20160220,       1109,   -65.6248,    78.8085,       3313,  2134.1,   0.0821,  34.6656,2,  34.6666,2,    226.2,2,   226.8,2,   118.0,2,    0.00,2,   32.31,2,    0.00,2,    2.23,2,   1.064,2,   0.549,4,   0.074,4,         0.425,4,  2260.3,2, 2355.33,2,   7.5914,2,    25.05,   0.0817, -999.00,9,  -999.0,9,  -999.0, -999.00,1,-999.000,9,  -999.0,9, -999.00,9,     -999.0,9, -999.00,9, 20160220,     1138, -65.6248,  78.8084,     -999.0,9,     -999.0,9,     -999.0,9,-999.0000,9,-999.0000,9,-999.0000,9,-999.0000,9,-999.0000,9,-999.0000,9,-999.0000,9,     -999.0,9,     -999.0,9,     -999.0,9,     -999.0,9,     -999.0,9
33RR20160208,       I08S,       7,          2,          9,          9,2,20160220,       1109,   -65.6248,    78.8085,       3313,  1936.7,   0.1440,  34.6678,2,  34.6666,2,    222.4,2,   224.5,2,   117.3,2,    0.00,2,   32.27,2,    0.00,2,    2.25,2,   0.945,2,   0.490,4,   0.069,4,         0.393,4,  2263.6,2, 2354.97,2,   7.5910,2,    25.07,   0.1436, -999.00,9,  -999.0,9,  -999.0, -999.00,1,-999.000,9,  -999.0,9, -999.00,9,     -999.0,9, -999.00,9, 20160220,     1143, -65.6248,  78.8084,     -999.0,9,     -999.0,9,     -999.0,9,   0.1205,2,   0.0834,2,   0.0493,2,   0.0293,2,   0.0174,2,   0.0069,2,   0.0022,2,     0.0154,2,     0.0167,2,     -999.0,9,     -999.0,9,     -999.0,9
33RR20160208,       I08S,       7,          2,         10,         10,2,20160220,       1109,   -65.6248,    78.8085,       3313,  1768.0,   0.2941,  34.6814,2,  34.6795,2,    216.8,2,   216.2,2,   122.9,2,    0.00,2,   32.53,2,    0.00,2,    2.28,2,   0.451,2,   0.231,2,   0.020,2,         0.238,2,  2263.4,6, 2357.57,2,   7.5895,2,    25.03,   0.2947, -999.00,9,  -999.0,9,  -999.0, -999.00,1,-999.000,9,  -999.0,9, -999.00,9,     -999.0,9, -999.00,9, 20160220,     1147, -65.6248,  78.8084,     -999.0,9,     -999.0,9,     -999.0,9,-999.0000,9,-999.0000,9,-999.0000,9,-999.0000,9,-999.0000,9,-999.0000,9,-999.0000,9,     -999.0,9,     -999.0,9,     -999.0,9,     -999.0,9,     -999.0,9
33RR20160208,       I08S,       7,          2,         11,         11,2,20160220,       1109,   -65.6248,    78.8085,       3313,  1665.6,   0.3348,  34.6829,2,  34.6783,2,    216.0,2,   215.9,2,   121.3,2,    0.00,2,   32.44,2,    0.00,2,    2.26,2,   0.469,2,   0.251,2,   0.020,2,         0.246,2,  2264.6,2, 2358.64,2,   7.5907,2,    25.06,   0.3346, -999.00,9,  -999.0,9,  -999.0, -999.00,1,-999.000,9,  -999.0,9, -999.00,9,     -999.0,9, -999.00,9, 20160220,     1150, -65.6248,  78.8084,     -999.0,9,     -999.0,9,     -999.0,9,-999.0000,9,-999.0000,9,-999.0000,9,-999.0000,9,-999.0000,9,-999.0000,9,-999.0000,9,     -999.0,9,     -999.0,9,     -999.0,9,     -999.0,9,     -999.0,9
33RR20160208,       I08S,       7,          2,         12,         12,2,20160220,       1109,   -65.6248,    78.8085,       3313,  1563.9,   0.3383,  34.6786,2,  34.6778,2,    218.5,2,   217.7,2,   116.8,2,    0.00,2,   32.26,2,    0.00,2,    2.26,2,   0.663,2,   0.347,2,   0.039,2,         0.373,2,  2262.8,2, 2356.88,3,   7.5910,2,    25.05,   0.3387, -999.00,9,  -999.0,9,  -999.0, -999.00,1,-999.000,9,  -999.0,9, -999.00,9,     -999.0,9, -999.00,9, 20160220,     1153, -65.6248,  78.8084,     -999.0,9,     -999.0,9,     -999.0,9,-999.0000,9,-999.0000,9,-999.0000,9,-999.0000,9,-999.0000,9,-999.0000,9,-999.0000,9,     -999.0,9,     -999.0,9,     -999.0,9,     -999.0,9,     -999.0,9
33RR20160208,       I08S,       7,          2,         13,         13,2,20160220,       1109,   -65.6248,    78.8085,       3313,  1467.3,   0.4305,  34.6863,2,  34.6852,2,    214.6,2,   213.3,2,   118.4,2,    0.05,2,   32.35,2,    0.00,2,    2.26,2,   0.505,2,   0.261,2,   0.026,2,         0.229,2,  2263.4,2, 2358.54,3,   7.5921,2,    25.05,   0.4302, -999.00,9,  -999.0,9,  -999.0, -999.00,1,-999.000,9,  -999.0,9, -999.00,9,     -999.0,9, -999.00,9, 20160220,     1155, -65.6248,  78.8084,     -999.0,9,     -999.0,9,     -999.0,9,   0.1195,2,   0.0827,2,   0.0495,2,   0.0281,2,   0.0162,2,   0.0062,2,   0.0019,2,     0.0154,2,     0.0166,2,     -999.0,9,     -999.0,9,     -999.0,9
33RR20160208,       I08S,       7,          2,         14,         14,2,20160220,       1109,   -65.6248,    78.8085,       3313,  1368.0,   0.4922,  34.6899,2,  34.6880,2,    213.0,2,   212.7,2,   117.6,2,    0.00,2,   32.34,2,    0.00,2,    2.26,2,   0.504,2,   0.241,2,   0.020,2,         0.172,2,  2264.8,2, 2356.51,3,   7.5917,2,    25.07,   0.4927, -999.00,9,  -999.0,9,  -999.0, -999.00,1,-999.000,9,  -999.0,9, -999.00,9,     -999.0,9, -999.00,9, 20160220,     1158, -65.6248,  78.8084,     -999.0,9,     -999.0,9,     -999.0,9,-999.0000,9,-999.0000,9,-999.0000,9,-999.0000,9,-999.0000,9,-999.0000,9,-999.0000,9,     -999.0,9,     -999.0,9,     -999.0,9,     -999.0,9,     -999.0,9
33RR20160208,       I08S,       7,          2,         15,         15,2,20160220,       1109,   -65.6248,    78.8085,       3313,  1266.7,   0.5331,  34.6909,2,  34.6905,2,    212.9,2,   212.0,2,   115.0,2,    0.00,2,   32.15,2,    0.00,2,    2.24,2,   0.505,2,   0.259,2,   0.024,2,         0.247,2,  2264.3,2, 2359.25,3,   7.5919,2,    25.05,   0.5331, -999.00,9,  -999.0,9,  -999.0, -999.00,1,-999.000,9,  -999.0,9, -999.00,9,     -999.0,9, -999.00,9, 20160220,     1201, -65.6248,  78.8084,     -999.0,9,     -999.0,9,     -999.0,9,-999.0000,9,-999.0000,9,-999.0000,9,-999.0000,9,-999.0000,9,-999.0000,9,-999.0000,9,     -999.0,9,     -999.0,9,     -999.0,9,     -999.0,9,     -999.0,9
33RR20160208,       I08S,       7,          2,         16,         16,2,20160220,       1109,   -65.6248,    78.8085,       3313,  1065.9,   0.6231,  34.6918,2,  34.6913,2,    213.2,2,   213.5,2,   109.2,2,    0.00,2,   31.82,2,    0.00,2,    2.22,2,   0.629,2,   0.326,2,   0.039,2,         0.286,2,  2261.3,2, 2355.56,2,   7.5943,2,    25.08,   0.6233, -999.00,9,  -999.0,9,  -999.0, -999.00,1,-999.000,9,  -999.0,9, -999.00,9,     -999.0,9, -999.00,9, 20160220,     1207, -65.6248,  78.8084,     -999.0,9,     -999.0,9,     -999.0,9,   0.1107,2,   0.0748,2,   0.0425,2,   0.0243,2,   0.0136,2,   0.0045,2,   0.0011,2,     0.0165,2,     0.0181,2,     -999.0,9,     -999.0,9,     -999.0,9
33RR20160208,       I08S,       7,          2,         17,         17,2,20160220,       1109,   -65.6248,    78.8085,       3313,   966.1,   0.6755,  34.6931,2,  34.6927,2,    213.3,2,   212.4,2,   106.4,2,    0.00,2,   31.70,2,    0.00,2,    2.21,2,   0.663,2,   0.351,2,   0.044,2,         0.377,2,  2260.8,2, 2353.10,2,   7.5961,2,    25.03,   0.6759, -999.00,9,  -999.0,9,  -999.0, -999.00,1,-999.000,9,  -999.0,9, -999.00,9,     -999.0,9, -999.00,9, 20160220,     1210, -65.6248,  78.8084,     -999.0,9,     -999.0,9,     -999.0,9,-999.0000,9,-999.0000,9,-999.0000,9,-999.0000,9,-999.0000,9,-999.0000,9,-999.0000,9,     -999.0,9,     -999.0,9,     -999.0,9,     -999.0,9,     -999.0,9
33RR20160208,       I08S,       7,          2,         18,         18,2,20160220,       1109,   -65.6248,    78.8085,       3313,   867.6,   0.7098,  34.6907,2,  34.6911,2,    214.2,2,   214.0,2,   102.8,2,    0.00,2,   31.55,2,    0.00,2,    2.19,2,   0.772,2,   0.407,2,   0.056,2,         0.479,2,  2257.6,2, 2353.15,2,   7.5959,6,    25.05,   0.7092, -999.00,9,  -999.0,9,  -999.0, -999.00,1,-999.000,9,  -999.0,9, -999.00,9,     -999.0,9, -999.00,9, 20160220,     1213, -65.6248,  78.8084,     -999.0,9,     -999.0,9,     -999.0,9,-999.0000,9,-999.0000,9,-999.0000,9,-999.0000,9,-999.0000,9,-999.0000,9,-999.0000,9,     -999.0,9,     -999.0,9,     -999.0,9,     -999.0,9,     -999.0,9
33RR20160208,       I08S,       7,          2,         19,         19,2,20160220,       1109,   -65.6248,    78.8085,       3313,   766.5,   0.6646,  34.6790,2,  34.6781,2,    217.8,2,   216.9,2,    98.3,2,    0.00,2,   31.43,2,    0.00,2,    2.20,2,   1.060,2,   0.549,2,   0.082,2,         0.403,2,  2260.6,2, 2351.16,2,   7.5943,2,    25.06,   0.6657, -999.00,9,  -999.0,9,  -999.0, -999.00,1,-999.000,9,  -999.0,9, -999.00,9,     -999.0,9, -999.00,9, 20160220,     1216, -65.6248,  78.8085,     -999.0,9,     -999.0,9,     -999.0,9,   0.1146,2,   0.0787,2,   0.0471,2,   0.0263,2,   0.0151,2,   0.0057,2,   0.0017,2,     0.0155,2,     0.0167,2,     -999.0,9,     -999.0,9,     -999.0,9
33RR20160208,       I08S,       7,          2,         20,         20,2,20160220,       1109,   -65.6248,    78.8085,       3313,   668.0,   0.8514,  34.6912,2,  34.6901,2,    214.4,2,   212.7,2,    96.8,2,    0.00,2,   31.27,2,    0.00,2,    2.18,2,   0.906,2,   0.474,2,   0.070,2,         0.463,2,  2256.9,2, 2351.50,2,   7.5960,2,    25.00,   0.8477, -999.00,9,  -999.0,9,  -999.0, -999.00,1,-999.000,9,  -999.0,9, -999.00,9,     -999.0,9, -999.00,9, 20160220,     1220, -65.6248,  78.8084,     -999.0,9,     -999.0,9,     -999.0,9,-999.0000,9,-999.0000,9,-999.0000,9,-999.0000,9,-999.0000,9,-999.0000,9,-999.0000,9,     -999.0,9,     -999.0,9,     -999.0,9,     -999.0,9,     -999.0,9
33RR20160208,       I08S,       7,          2,         21,         21,2,20160220,       1109,   -65.6248,    78.8085,       3313,   564.9,   0.9334,  34.6900,2,  34.6875,2,    207.3,2,   211.6,2,    94.0,2,    0.00,2,   31.24,2,    0.00,2,    2.18,2,   0.924,2,   0.482,2,   0.072,2,         0.469,2,  2254.8,6, 2351.27,2,   7.5937,2,    25.08,   0.9321, -999.00,9,  -999.0,9,  -999.0, -999.00,1,-999.000,9,  -999.0,9, -999.00,9,     -999.0,9, -999.00,9, 20160220,     1223, -65.6248,  78.8085,     -999.0,9,     -999.0,9,     -999.0,9,-999.0000,9,-999.0000,9,-999.0000,9,-999.0000,9,-999.0000,9,-999.0000,9,-999.0000,9,     -999.0,9,     -999.0,9,     -999.0,9,     -999.0,9,     -999.0,9
33RR20160208,       I08S,       7,          2,         22,         22,2,20160220,       1109,   -65.6248,    78.8085,       3313,   483.8,   0.8660,  34.6695,2,  34.6685,2,    213.3,2,   213.2,2,    90.0,2,    0.00,2,   31.40,2,    0.00,2,    2.18,2,   1.185,2,   0.615,2,   0.097,2,         0.554,2,  2252.6,2, 2346.68,2,   7.5893,2,    25.06,   0.8627, -999.00,9,  -999.0,9,  -999.0, -999.00,1,-999.000,9,  -999.0,9, -999.00,9,     -999.0,9, -999.00,9, 20160220,     1225, -65.6248,  78.8084,     -999.0,9,     -999.0,9,     -999.0,9,   0.1163,2,   0.0806,2,   0.0497,2,   0.0272,2,   0.0155,2,   0.0059,2,   0.0018,2,     0.0150,2,     0.0161,2,     -999.0,9,     -999.0,9,     -999.0,9
33RR20160208,       I08S,       7,          2,         23,         23,2,20160220,       1109,   -65.6248,    78.8085,       3313,   436.7,   0.8395,  34.6592,2,  34.6597,2,    213.1,2,   214.2,2,    88.0,2,    0.00,2,   31.45,2,    0.00,2,    2.20,2,   1.314,2,   0.689,2,   0.109,2,         0.639,2,  2252.4,2, 2344.91,2,   7.5868,6,    25.05,   0.8409, -999.00,9,  -999.0,9,  -999.0, -999.00,1,-999.000,9,  -999.0,9, -999.00,9,     -999.0,9, -999.00,9, 20160220,     1227, -65.6248,  78.8084,     -999.0,9,     -999.0,9,     -999.0,9,-999.0000,9,-999.0000,9,-999.0000,9,-999.0000,9,-999.0000,9,-999.0000,9,-999.0000,9,     -999.0,9,     -999.0,9,     -999.0,9,     -999.0,9,     -999.0,9
33RR20160208,       I08S,       7,          2,         24,         24,2,20160220,       1109,   -65.6248,    78.8085,       3313,   384.6,   0.5014,  34.6143,2,  34.6144,2,    217.6,2,   226.6,2,    82.8,2,    0.00,2,   31.46,2,    0.00,2,    2.20,2,   1.927,2,   1.005,2,   0.166,2,         0.887,2,  2250.6,2, 2341.72,2,   7.5853,2,    25.03,   0.5054, -999.00,9,  -999.0,9,  -999.0, -999.00,1,-999.000,9,  -999.0,9, -999.00,9,     -999.0,9, -999.00,9, 20160220,     1230, -65.6248,  78.8084,     -999.0,9,     -999.0,9,     -999.0,9,   0.1149,2,   0.0810,2,   0.0542,2,   0.0280,2,   0.0158,2,   0.0062,2,   0.0022,2,     0.0136,2,     0.0143,2,     -999.0,9,     -999.0,9,     -999.0,9
33RR20160208,       I08S,       7,          2,         25,         25,2,20160220,       1109,   -65.6248,    78.8085,       3313,   336.0,   0.2590,  34.5810,2,  34.5792,2,    247.8,2,   234.2,2,    79.7,2,    0.00,2,   31.56,2,    0.00,2,    2.20,2,   2.319,2,   1.211,2,   0.197,2,         0.992,2,  2249.0,2, 2340.07,2,   7.5825,2,    25.02,   0.2602, -999.00,9,  -999.0,9,  -999.0, -999.00,1,-999.000,9,  -999.0,9, -999.00,9,     -999.0,9, -999.00,9, 20160220,     1232, -65.6248,  78.8084,     -999.0,9,     -999.0,9,     -999.0,9,-999.0000,9,-999.0000,9,-999.0000,9,-999.0000,9,-999.0000,9,-999.0000,9,-999.0000,9,     -999.0,9,     -999.0,9,     -999.0,9,     -999.0,9,     -999.0,9
33RR20160208,       I08S,       7,          2,         26,         26,2,20160220,       1109,   -65.6248,    78.8085,       3313,   286.7,  -0.2772,  34.5242,2,  34.5222,2,    264.6,2,   254.9,2,    74.1,2,    0.00,2,   31.32,2,    0.01,2,    2.20,2,   3.107,2,   1.662,3,   0.272,3,         1.547,3,  2243.2,2, 2333.39,2,   7.5877,6,    25.05,  -0.2764, -999.00,9,  -999.0,9,  -999.0, -999.00,1,-999.000,9,  -999.0,9, -999.00,9,     -999.0,9, -999.00,9, 20160220,     1234, -65.6248,  78.8084,     -999.0,9,     -999.0,9,     -999.0,9,-999.0000,9,-999.0000,9,-999.0000,9,-999.0000,9,-999.0000,9,-999.0000,9,-999.0000,9,     -999.0,9,     -999.0,9,     -999.0,9,     -999.0,9,     -999.0,9
33RR20160208,       I08S,       7,          2,         27,         27,2,20160220,       1109,   -65.6248,    78.8085,       3313,   237.6,   0.1719,  34.5276,2,  34.5261,2,    236.3,2,   235.9,2,    76.7,2,    0.00,2,   32.07,2,    0.01,2,    2.25,2,   2.578,2,   1.366,2,   0.233,2,          1.31,2,  2241.9,2, 2334.80,3,   7.5737,2,    25.05,   0.1694, -999.00,9,  -999.0,9,  -999.0, -999.00,1,-999.000,9,  -999.0,9, -999.00,9,     -999.0,9, -999.00,9, 20160220,     1236, -65.6248,  78.8084,     -999.0,9,     -999.0,9,     -999.0,9,   0.1135,2,   0.0824,2,   0.0610,2,   0.0279,2,   0.0142,2,   0.0041,2,   0.0007,3,     0.0119,2,     0.0120,2,     -999.0,9,     -999.0,9,     -999.0,9