BOTTLE,20220706CCHSIOAMB
EXPOCODE,SECT_ID,STNNBR,CASTNO,SAMPNO,BTLNBR,BTLNBR_FLAG_W,DATE,TIME,LATITUDE,LONGITUDE,DEPTH,CTDPRS,CTDTMP,CTDSAL,CTDSAL_FLAG_W,SALNTY,SALNTY_FLAG_W,CTDOXY,CTDOXY_FLAG_W,OXYGEN,OXYGEN_FLAG_W,SILCAT,SILCAT_FLAG_W,NH4,NH4_FLAG_W,NITRAT,NITRAT_FLAG_W,NITRIT,NITRIT_FLAG_W,PHSPHT,PHSPHT_FLAG_W,CFC-11,CFC-11_FLAG_W,CFC-12,CFC-12_FLAG_W,CFC113,CFC113_FLAG_W,SF6,SF6_FLAG_W,TCARBN,TCARBN_FLAG_W,ALKALI,ALKALI_FLAG_W,PH_TOT,PH_TOT_FLAG_W,PH_TMP,REFTMP,DELC13,DELC13_FLAG_W,DELC14,DELC14_FLAG_W,C14ERR,DELO18,DELO18_FLAG_W,POC,POC_FLAG_W,DOC,DOC_FLAG_W,TDN,TDN_FLAG_W,TON,TON_FLAG_W,D15N_NO3,D15N_NO3_FLAG_W,BTL_DATE,BTL_TIME,BTL_LAT,BTL_LON,14C-DOC,14C-DOC_FLAG_W,CHLORA,CHLORA_FLAG_W,HPLC,HPLC_FLAG_W,CDOM325,CDOM325_FLAG_W,CDOM340,CDOM340_FLAG_W,CDOM380,CDOM380_FLAG_W,CDOM412,CDOM412_FLAG_W,CDOM443,CDOM443_FLAG_W,CDOM490,CDOM490_FLAG_W,CDOM555,CDOM555_FLAG_W,CDOMSL,CDOMSL_FLAG_W,CDOMSN,CDOMSN_FLAG_W,D18O_NO3,D18O_NO3_FLAG_W,D15N_NO2+NO3,D15N_NO2+NO3_FLAG_W,D18O_NO2+NO3,D18O_NO2+NO3_FLAG_W
,,,,,,,,,,,METERS,DBAR,ITS-90,PSS-78,,PSS-78,,UMOL/KG,,UMOL/KG,,UMOL/KG,,UMOL/KG,,UMOL/KG,,UMOL/KG,,UMOL/KG,,PMOL/KG,,PMOL/KG,,PMOL/KG,,FMOL/KG,,UMOL/KG,,UMOL/KG,,,,DEG C,DEG C,/MILLE,,/MILLE,,/MILLE,/MILLE,,UG/KG,,UMOL/KG,,UMOL/KG,,UMOL/KG,,/MILLE,,,,,,/MILLE,,MG/M3,,,,1/M,,1/M,,1/M,,1/M,,1/M,,1/M,,1/M,,1/NM,,1/NM,,/MILLE,,/MILLE,,/MILLE,
33RR20160208,       I08S,      24,          1,          1,          1,2,20160224,       1236,   -57.6120,    82.3811,       3042,  3054.6,   0.0139,  34.6669,2,  34.6672,2,    230.8,2,   229.6,2,   126.2,2,    0.00,2,   32.45,2,    0.00,2,    2.24,2,   1.043,2,   0.506,2,   0.060,2,       0.21744,2,  2258.3,6, 2354.68,2,   7.5930,6,    24.98,   0.0135, -999.00,9,  -999.0,9,  -999.0, -999.00,9,-999.000,9,    39.2,2, -999.00,9,     -999.0,1, -999.00,9, 20160224,     1236, -57.6120,  82.3811,     -999.0,9,     -999.0,9,     -999.0,9,-999.0000,9,-999.0000,9,-999.0000,9,-999.0000,9,-999.0000,9,-999.0000,9,-999.0000,9,     -999.0,9,     -999.0,9,     -999.0,9,     -999.0,9,     -999.0,9
33RR20160208,       I08S,      24,          1,          2,          2,2,20160224,       1236,   -57.6120,    82.3811,       3042,  2815.9,   0.1011,  34.6713,2,  34.6717,2,    221.2,2,   225.0,2,   126.0,2,    0.00,2,   32.46,2,    0.00,2,    2.23,2,   0.789,2,   0.396,2,   0.039,2,       0.18724,2,  -999.0,9, -999.00,9,-999.0000,9,     9.00,   0.1002, -999.00,9,  -999.0,9,  -999.0, -999.00,9,-999.000,9,    40.0,2, -999.00,9,     -999.0,1, -999.00,9, 20160224,     1241, -57.6119,  82.3811,     -999.0,9,     -999.0,9,     -999.0,9,-999.0000,9,-999.0000,9,-999.0000,9,-999.0000,9,-999.0000,9,-999.0000,9,-999.0000,9,     -999.0,9,     -999.0,9,     -999.0,9,     -999.0,9,     -999.0,9
33RR20160208,       I08S,      24,          1,          3,          3,2,20160224,       1236,   -57.6120,    82.3811,       3042,  2581.7,   0.1907,  34.6759,2,  34.6762,2,    222.7,2,   221.7,2,   124.9,2,    0.00,2,   32.67,2,    0.00,2,    2.23,2,   0.697,2,   0.336,2,   0.032,2,   0.174153333,2,  2259.5,2, 2356.54,2,   7.5922,6,    24.99,   0.1902, -999.00,9,  -999.0,9,  -999.0, -999.00,9,-999.000,9,    38.6,2, -999.00,9,     -999.0,1, -999.00,9, 20160224,     1246, -57.6120,  82.3811,     -999.0,9,     -999.0,9,     -999.0,9,-999.0000,9,-999.0000,9,-999.0000,9,-999.0000,9,-999.0000,9,-999.0000,9,-999.0000,9,     -999.0,9,     -999.0,9,     -999.0,9,     -999.0,9,     -999.0,9
33RR20160208,       I08S,      24,          1,          4,          4,2,20160224,       1236,   -57.6120,    82.3811,       3042,  2330.8,   0.2817,  34.6804,2,  34.6807,2,    220.3,2,   218.7,2,   124.1,2,    0.00,2,   32.66,2,    0.00,2,    2.24,2,   0.578,2,   0.269,2,   0.019,2,   0.152006667,2,  -999.0,9, -999.00,9,-999.0000,9,  -999.00,   0.2816, -999.00,9,  -999.0,9,  -999.0, -999.00,9,-999.000,9,    40.2,2, -999.00,9,     -999.0,1, -999.00,9, 20160224,     1252, -57.6120,  82.3811,     -999.0,9,     -999.0,9,     -999.0,9,-999.0000,9,-999.0000,9,-999.0000,9,-999.0000,9,-999.0000,9,-999.0000,9,-999.0000,9,     -999.0,9,     -999.0,9,     -999.0,9,     -999.0,9,     -999.0,9
33RR20160208,       I08S,      24,          1,          5,          5,2,20160224,       1236,   -57.6120,    82.3811,       3042,  2084.4,   0.3640,  34.6844,2,  34.6831,2,    216.4,2,   214.7,2,   123.5,2,    0.00,2,   32.68,2,    0.00,2,    2.23,2,   0.449,2,   0.212,2,   0.008,2,   0.128853333,2,  2260.7,2, 2357.65,2,   7.5913,6,    24.97,   0.3634, -999.00,9,  -999.0,9,  -999.0, -999.00,9,-999.000,9,    39.5,2, -999.00,9,     -999.0,1, -999.00,9, 20160224,     1257, -57.6119,  82.3811,     -999.0,9,     -999.0,9,     -999.0,9,-999.0000,9,-999.0000,9,-999.0000,9,-999.0000,9,-999.0000,9,-999.0000,9,-999.0000,9,     -999.0,9,     -999.0,9,     -999.0,9,     -999.0,9,     -999.0,9
33RR20160208,       I08S,      24,          1,          6,          6,2,20160224,       1236,   -57.6120,    82.3811,       3042,  1762.5,   0.5222,  34.6925,2,  34.6921,2,    210.5,2,   210.8,2,   119.4,2,    0.00,2,   32.52,2,    0.00,2,    2.24,2,   0.454,2,   0.206,2,   0.010,2,   0.121806667,2,  -999.0,9, -999.00,9,-999.0000,9,  -999.00,   0.5221, -999.00,9,  -999.0,9,  -999.0, -999.00,9,-999.000,9,    37.8,2, -999.00,9,     -999.0,1, -999.00,9, 20160224,     1304, -57.6120,  82.3812,     -999.0,9,     -999.0,9,     -999.0,9,-999.0000,9,-999.0000,9,-999.0000,9,-999.0000,9,-999.0000,9,-999.0000,9,-999.0000,9,     -999.0,9,     -999.0,9,     -999.0,9,     -999.0,9,     -999.0,9
33RR20160208,       I08S,      24,          1,          7,          7,2,20160224,       1236,   -57.6120,    82.3811,       3042,  1665.4,   0.5933,  34.6960,2,  34.6960,2,    209.2,2,   210.2,2,   117.3,2,    0.00,2,   32.41,2,    0.00,2,    2.21,2,   0.465,2,   0.201,2,   0.008,2,   0.086573333,2,  -999.0,9, -999.00,9,-999.0000,9,  -999.00,   0.5930, -999.00,9,  -999.0,9,  -999.0, -999.00,9,-999.000,9,    38.1,2, -999.00,9,     -999.0,1, -999.00,9, 20160224,     1307, -57.6119,  82.3811,     -999.0,9,     -999.0,9,     -999.0,9,-999.0000,9,-999.0000,9,-999.0000,9,-999.0000,9,-999.0000,9,-999.0000,9,-999.0000,9,     -999.0,9,     -999.0,9,     -999.0,9,     -999.0,9,     -999.0,9
33RR20160208,       I08S,      24,          1,          8,          8,2,20160224,       1236,   -57.6120,    82.3811,       3042,  1533.6,   0.6928,  34.7014,2,  34.7021,2,    207.0,2,   209.7,2,   114.2,2,    0.00,2,   32.16,2,    0.00,2,    2.21,2,   0.463,2,   0.185,2,   0.007,2,   0.089593333,2,  2259.9,2, 2357.60,6,   7.5949,6,    25.01,   0.6924, -999.00,9,  -999.0,9,  -999.0, -999.00,9,-999.000,9,    38.3,2, -999.00,9,     -999.0,1, -999.00,9, 20160224,     1311, -57.6120,  82.3811,     -999.0,9,     -999.0,9,     -999.0,9,-999.0000,9,-999.0000,9,-999.0000,9,-999.0000,9,-999.0000,9,-999.0000,9,-999.0000,9,     -999.0,9,     -999.0,9,     -999.0,9,     -999.0,9,     -999.0,9
33RR20160208,       I08S,      24,          1,          9,          9,2,20160224,       1236,   -57.6120,    82.3811,       3042,  1435.7,   0.7836,  34.7069,2,  34.7066,2,    207.1,2,   208.5,2,   111.9,2,    0.00,2,   31.93,2,    0.00,2,    2.20,2,   0.466,2,   0.189,2,   0.009,2,        0.1208,2,  -999.0,9, -999.00,9,-999.0000,9,  -999.00,   0.7842, -999.00,9,  -999.0,9,  -999.0, -999.00,9,-999.000,9,    38.9,2, -999.00,9,     -999.0,1, -999.00,9, 20160224,     1314, -57.6120,  82.3810,     -999.0,9,     -999.0,9,     -999.0,9,-999.0000,9,-999.0000,9,-999.0000,9,-999.0000,9,-999.0000,9,-999.0000,9,-999.0000,9,     -999.0,9,     -999.0,9,     -999.0,9,     -999.0,9,     -999.0,9
33RR20160208,       I08S,      24,          1,         10,         10,2,20160224,       1236,   -57.6120,    82.3811,       3042,  1334.5,   0.8456,  34.7092,2,  34.7099,2,    206.4,2,   207.1,2,   109.5,2,    0.00,2,   31.81,2,    0.00,2,    2.22,2,   0.561,2,   0.246,2,   0.019,2,        0.1359,2,  2257.0,2, 2357.66,2,   7.5991,2,    24.98,   0.8450, -999.00,9,  -999.0,9,  -999.0, -999.00,9,-999.000,9,    38.4,2, -999.00,9,     -999.0,1, -999.00,9, 20160224,     1317, -57.6120,  82.3810,     -999.0,9,     -999.0,9,     -999.0,9,-999.0000,9,-999.0000,9,-999.0000,9,-999.0000,9,-999.0000,9,-999.0000,9,-999.0000,9,     -999.0,9,     -999.0,9,     -999.0,9,     -999.0,9,     -999.0,9
33RR20160208,       I08S,      24,          1,         11,         11,2,20160224,       1236,   -57.6120,    82.3811,       3042,  1234.7,   0.9342,  34.7148,2,  34.7150,2,    206.0,2,   206.1,2,   107.7,2,    0.00,2,   31.69,2,    0.00,2,    2.20,2,   0.496,2,   0.179,2,   0.010,2,       0.08456,2,  -999.0,9, -999.00,9,-999.0000,9,     9.00,   0.9339, -999.00,9,  -999.0,9,  -999.0, -999.00,9,-999.000,9,    38.3,2, -999.00,9,     -999.0,1, -999.00,9, 20160224,     1320, -57.6120,  82.3811,     -999.0,9,     -999.0,9,     -999.0,9,-999.0000,9,-999.0000,9,-999.0000,9,-999.0000,9,-999.0000,9,-999.0000,9,-999.0000,9,     -999.0,9,     -999.0,9,     -999.0,9,     -999.0,9,     -999.0,9
33RR20160208,       I08S,      24,          1,         12,         12,2,20160224,       1236,   -57.6120,    82.3811,       3042,  1135.3,   1.0296,  34.7196,2,  34.7201,2,    204.9,2,   205.3,2,   104.7,2,    0.00,2,   31.44,2,    0.00,2,    2.19,2,   0.509,2,   0.176,2,   0.008,2,   0.083553333,2,  2257.8,2, 2356.44,2,   7.6014,2,    25.01,   1.0284, -999.00,9,  -999.0,9,  -999.0, -999.00,9,-999.000,9,    38.8,2, -999.00,9,     -999.0,1, -999.00,9, 20160224,     1323, -57.6120,  82.3810,     -999.0,9,     -999.0,9,     -999.0,9,-999.0000,9,-999.0000,9,-999.0000,9,-999.0000,9,-999.0000,9,-999.0000,9,-999.0000,9,     -999.0,9,     -999.0,9,     -999.0,9,     -999.0,9,     -999.0,9
33RR20160208,       I08S,      24,          1,         13,         13,2,20160224,       1236,   -57.6120,    82.3811,       3042,  1034.3,   1.1544,  34.7263,2,  34.7264,2,    204.7,2,   204.0,2,   100.9,2,    0.00,2,   31.21,2,    0.00,2,    2.17,2,   0.527,2,   0.194,2,   0.012,2,   0.134893333,2,  -999.0,9, -999.00,9,-999.0000,9,  -999.00,   1.1540, -999.00,9,  -999.0,9,  -999.0, -999.00,9,-999.000,9,    38.5,2, -999.00,9,     -999.0,1, -999.00,9, 20160224,     1326, -57.6119,  82.3811,     -999.0,9,     -999.0,9,     -999.0,9,-999.0000,9,-999.0000,9,-999.0000,9,-999.0000,9,-999.0000,9,-999.0000,9,-999.0000,9,     -999.0,9,     -999.0,9,     -999.0,9,     -999.0,9,     -999.0,9
33RR20160208,       I08S,      24,          1,         14,         14,2,20160224,       1236,   -57.6120,    82.3811,       3042,   934.7,   1.2550,  34.7303,2,  34.7307,2,    204.2,2,   204.6,2,    98.0,2,    0.00,2,   31.03,2,    0.00,2,    2.14,2,   0.532,2,   0.165,2,   0.009,2,   0.086573333,2,  2253.4,2, 2353.89,2,   7.6051,6,    25.00,   1.2550, -999.00,9,  -999.0,9,  -999.0, -999.00,9,-999.000,9,    40.2,2, -999.00,9,     -999.0,1, -999.00,9, 20160224,     1329, -57.6119,  82.3811,     -999.0,9,     -999.0,9,     -999.0,9,-999.0000,9,-999.0000,9,-999.0000,9,-999.0000,9,-999.0000,9,-999.0000,9,-999.0000,9,     -999.0,9,     -999.0,9,     -999.0,9,     -999.0,9,     -999.0,9
33RR20160208,       I08S,      24,          1,         15,         15,2,20160224,       1236,   -57.6120,    82.3811,       3042,   835.1,   1.3752,  34.7334,2,  34.7326,2,    203.5,2,   201.6,2,    94.7,2,    0.00,2,   30.93,2,    0.00,2,    2.16,2,   0.579,2,   0.173,2,   0.010,2,   0.068453333,2,  -999.0,9, -999.00,9,-999.0000,9,  -999.00,   1.3748, -999.00,9,  -999.0,9,  -999.0, -999.00,9,-999.000,9,    38.2,2, -999.00,9,     -999.0,1, -999.00,9, 20160224,     1332, -57.6120,  82.3811,     -999.0,9,     -999.0,9,     -999.0,9,-999.0000,9,-999.0000,9,-999.0000,9,-999.0000,9,-999.0000,9,-999.0000,9,-999.0000,9,     -999.0,9,     -999.0,9,     -999.0,9,     -999.0,9,     -999.0,9
33RR20160208,       I08S,      24,          1,         16,         16,2,20160224,       1236,   -57.6120,    82.3811,       3042,   736.0,   1.4965,  34.7366,2,  34.7364,2,    201.5,2,   200.5,2,    91.9,2,    0.00,2,   30.78,2,    0.00,2,    2.15,2,   0.617,2,   0.171,2,   0.012,2,        0.0755,2,  2252.5,2, 2350.39,2,   7.6042,6,    24.96,   1.4961, -999.00,9,  -999.0,9,  -999.0, -999.00,9,-999.000,9,    41.5,2, -999.00,9,     -999.0,1, -999.00,9, 20160224,     1335, -57.6120,  82.3811,     -999.0,9,     -999.0,9,     -999.0,9,-999.0000,9,-999.0000,9,-999.0000,9,-999.0000,9,-999.0000,9,-999.0000,9,-999.0000,9,     -999.0,9,     -999.0,9,     -999.0,9,     -999.0,9,     -999.0,9
33RR20160208,       I08S,      24,          1,         17,         17,2,20160224,       1236,   -57.6120,    82.3811,       3042,   635.9,   1.5680,  34.7307,2,  34.7307,2,    198.5,2,   196.8,2,    89.9,2,    0.00,2,   30.94,2,    0.00,2,    2.18,2,   0.796,2,   0.215,2,   0.020,2,        0.1057,2,  -999.0,9, -999.00,9,-999.0000,9,     9.00,   1.5675, -999.00,9,  -999.0,9,  -999.0, -999.00,9,-999.000,9,    39.5,2, -999.00,9,     -999.0,1, -999.00,9, 20160224,     1338, -57.6120,  82.3811,     -999.0,9,     -999.0,9,     -999.0,9,-999.0000,9,-999.0000,9,-999.0000,9,-999.0000,9,-999.0000,9,-999.0000,9,-999.0000,9,     -999.0,9,     -999.0,9,     -999.0,9,     -999.0,9,     -999.0,9
33RR20160208,       I08S,      24,          1,         18,         37,2,20160224,       1236,   -57.6120,    82.3811,       3042,   535.0,   1.6615,  34.7267,2,  34.7259,2,    194.6,2,   193.2,2,    88.0,2,    0.00,2,   31.22,2,    0.00,2,    2.16,2,   0.887,2,   0.211,2,   0.020,2,        0.0906,2,  2252.1,2, 2347.45,2,   7.5918,2,    24.99,   1.6610, -999.00,9,  -999.0,9,  -999.0, -999.00,9,-999.000,9,    40.2,2, -999.00,9,     -999.0,1, -999.00,9, 20160224,     1341, -57.6120,  82.3811,     -999.0,9,     -999.0,9,     -999.0,9,-999.0000,9,-999.0000,9,-999.0000,9,-999.0000,9,-999.0000,9,-999.0000,9,-999.0000,9,     -999.0,9,     -999.0,9,     -999.0,9,     -999.0,9,     -999.0,9
33RR20160208,       I08S,      24,          1,         19,         19,2,20160224,       1236,   -57.6120,    82.3811,       3042,   435.4,   1.6902,  34.7105,2,  34.7104,2,    191.6,2,   191.4,2,    86.2,2,    0.00,2,   31.64,2,    0.00,2,    2.20,2,   0.495,2,   0.271,2,   0.031,2,   0.109726667,2,  -999.0,9, -999.00,9,-999.0000,9,  -999.00,   1.6899, -999.00,9,  -999.0,9,  -999.0, -999.00,9,-999.000,9,    39.8,2, -999.00,9,     -999.0,1, -999.00,9, 20160224,     1344, -57.6120,  82.3810,     -999.0,9,     -999.0,9,     -999.0,9,-999.0000,9,-999.0000,9,-999.0000,9,-999.0000,9,-999.0000,9,-999.0000,9,-999.0000,9,     -999.0,9,     -999.0,9,     -999.0,9,     -999.0,9,     -999.0,9
33RR20160208,       I08S,      24,          1,         20,         20,2,20160224,       1236,   -57.6120,    82.3811,       3042,   365.5,   1.8545,  34.7092,2,  34.7095,2,    185.7,2,   188.0,2,    82.6,2,    0.00,2,   31.68,2,    0.00,2,    2.21,2,   0.420,2,   0.235,2,   0.027,2,   0.167106667,2,  2255.4,2, 2343.77,2,   7.5824,2,    24.99,   1.8550, -999.00,9,  -999.0,9,  -999.0, -999.00,9,-999.000,9,    40.2,2, -999.00,9,     -999.0,1, -999.00,9, 20160224,     1346, -57.6120,  82.3811,     -999.0,9,     -999.0,9,     -999.0,9,-999.0000,9,-999.0000,9,-999.0000,9,-999.0000,9,-999.0000,9,-999.0000,9,-999.0000,9,     -999.0,9,     -999.0,9,     -999.0,9,     -999.0,9,     -999.0,9
33RR20160208,       I08S,      24,          1,         21,         21,2,20160224,       1236,   -57.6120,    82.3811,       3042,   315.5,   1.7684,  34.6823,2,  34.6818,2,    183.1,2,   184.4,2,    83.8,2,    0.00,2,   32.59,2,    0.00,2,    2.27,2,   0.584,2,   0.321,2,   0.041,2,   0.170126667,2,  -999.0,9, -999.00,9,-999.0000,9,  -999.00,   1.7690, -999.00,9,  -999.0,9,  -999.0, -999.00,9,-999.000,9,    40.5,2,   34.30,2,     -999.0,1, -999.00,9, 20160224,     1348, -57.6119,  82.3811,     -999.0,9,     -999.0,9,     -999.0,9,-999.0000,9,-999.0000,9,-999.0000,9,-999.0000,9,-999.0000,9,-999.0000,9,-999.0000,9,     -999.0,9,     -999.0,9,     -999.0,9,     -999.0,9,     -999.0,9
33RR20160208,       I08S,      24,          1,         22,         22,2,20160224,       1236,   -57.6120,    82.3811,       3042,   265.3,   1.8504,  34.6690,2,  34.6692,2,    183.4,2,   180.3,2,    83.0,2,    0.01,2,   33.04,2,    0.02,2,    2.29,2,   0.601,2,   0.320,2,   0.043,2,       0.18422,2,  2257.5,2, 2341.42,2,   7.5594,2,    24.96,   1.8527, -999.00,9,  -999.0,9,  -999.0, -999.00,9,-999.000,9,    39.0,2,   34.50,2,     -999.0,1, -999.00,9, 20160224,     1350, -57.6120,  82.3811,     -999.0,9,     -999.0,9,     -999.0,9,-999.0000,9,-999.0000,9,-999.0000,9,-999.0000,9,-999.0000,9,-999.0000,9,-999.0000,9,     -999.0,9,     -999.0,9,     -999.0,9,     -999.0,9,     -999.0,9
33RR20160208,       I08S,      24,          1,         23,         23,2,20160224,       1236,   -57.6120,    82.3811,       3042,   216.4,   2.0194,  34.6673,2,  34.6653,2,    179.3,2,   183.5,2,    78.6,2,    0.01,2,   32.55,2,    0.01,2,    2.27,2,   0.545,2,   0.303,2,   0.037,2,   0.194286667,2,  -999.0,9, -999.00,9,-999.0000,9,     9.00,   2.0189, -999.00,9,  -999.0,9,  -999.0, -999.00,9,-999.000,9,    40.1,2,   35.00,2,     -999.0,1, -999.00,9, 20160224,     1352, -57.6119,  82.3811,     -999.0,9,     -999.0,9,     -999.0,9,-999.0000,9,-999.0000,9,-999.0000,9,-999.0000,9,-999.0000,9,-999.0000,9,-999.0000,9,     -999.0,9,     -999.0,9,     -999.0,9,     -999.0,9,     -999.0,9
33RR20160208,       I08S,      24,          1,         24,         24,2,20160224,       1236,   -57.6120,    82.3811,       3042,   165.6,   1.9633,  34.6357,2,  34.6347,2,    187.3,2,   183.5,2,    77.8,2,    0.02,2,   33.03,2,    0.01,2,    2.26,2,   0.719,2,   0.394,2,   0.052,2,   0.219453333,2,  2255.3,2, 2337.88,2,   7.5592,2,    25.03,   1.9631, -999.00,9,  -999.0,9,  -999.0, -999.00,9,-999.000,9,    39.8,2,   34.80,2,     -999.0,1, -999.00,9, 20160224,     1355, -57.6119,  82.3811,     -999.0,9,     -999.0,9,     -999.0,9,-999.0000,9,-999.0000,9,-999.0000,9,-999.0000,9,-999.0000,9,-999.0000,9,-999.0000,9,     -999.0,9,     -999.0,9,     -999.0,9,     -999.0,9,     -999.0,9
33RR20160208,       I08S,      24,          1,         25,         25,2,20160224,       1236,   -57.6120,    82.3811,       3042,   115.0,   1.2972,  34.4851,2,  34.4833,2,    205.2,2,   208.3,3,    71.7,2,    0.01,2,   33.75,2,    0.06,2,    2.35,2,   1.879,2,   0.981,2,   0.157,2,       0.81238,2,  2249.7,2, 2326.03,2,   7.5502,2,    24.99,   1.2969, -999.00,9,  -999.0,9,  -999.0, -999.00,9,-999.000,9,    39.8,2,   35.20,2,     -999.0,1, -999.00,9, 20160224,     1357, -57.6119,  82.3811,     -999.0,9,     -999.0,9,     -999.0,9,-999.0000,9,-999.0000,9,-999.0000,9,-999.0000,9,-999.0000,9,-999.0000,9,-999.0000,9,     -999.0,9,     -999.0,9,     -999.0,9,     -999.0,9,     -999.0,9
33RR20160208,       I08S,      24,          1,         26,         26,2,20160224,       1236,   -57.6120,    82.3811,       3042,    85.1,   1.1450,  34.3785,2,  34.3737,2,    240.1,2,   234.7,2,    63.9,2,    0.02,2,   33.52,2,    0.10,2,    2.39,2,   2.725,2,   1.442,2,   0.248,2,    1.34289333,2,  2239.6,2, 2318.06,2,   7.5602,2,    25.02,   1.1390, -999.00,9,  -999.0,9,  -999.0, -999.00,9,-999.000,9,    39.6,2,   35.70,2,     -999.0,1, -999.00,9, 20160224,     1400, -57.6119,  82.3811,     -999.0,9,     -999.0,9,     -999.0,9,-999.0000,9,-999.0000,9,-999.0000,9,-999.0000,9,-999.0000,9,-999.0000,9,-999.0000,9,     -999.0,9,     -999.0,9,     -999.0,9,     -999.0,9,     -999.0,9
33RR20160208,       I08S,      24,          1,         27,         27,2,20160224,       1236,   -57.6120,    82.3811,       3042,    59.9,   0.4067,  34.1853,2,  34.1767,2,    295.1,2,   296.5,2,    51.2,2,    0.62,2,   30.34,2,    0.28,2,    2.18,2,   4.248,2,   2.351,2,   0.367,2,    2.48747333,2,  2212.3,2, 2307.68,6,   7.6125,2,    24.98,   0.3818, -999.00,9,  -999.0,9,  -999.0, -999.00,9,-999.000,9,    40.1,2,   33.10,2,     -999.0,1, -999.00,9, 20160224,     1402, -57.6119,  82.3811,     -999.0,9,     -999.0,9,     -999.0,9,-999.0000,9,-999.0000,9,-999.0000,9,-999.0000,9,-999.0000,9,-999.0000,9,-999.0000,9,     -999.0,9,     -999.0,9,     -999.0,9,     -999.0,9,     -999.0,9