BOTTLE,20220706CCHSIOAMB
EXPOCODE,SECT_ID,STNNBR,CASTNO,SAMPNO,BTLNBR,BTLNBR_FLAG_W,DATE,TIME,LATITUDE,LONGITUDE,DEPTH,CTDPRS,CTDTMP,CTDSAL,CTDSAL_FLAG_W,SALNTY,SALNTY_FLAG_W,CTDOXY,CTDOXY_FLAG_W,OXYGEN,OXYGEN_FLAG_W,SILCAT,SILCAT_FLAG_W,NH4,NH4_FLAG_W,NITRAT,NITRAT_FLAG_W,NITRIT,NITRIT_FLAG_W,PHSPHT,PHSPHT_FLAG_W,CFC-11,CFC-11_FLAG_W,CFC-12,CFC-12_FLAG_W,CFC113,CFC113_FLAG_W,SF6,SF6_FLAG_W,TCARBN,TCARBN_FLAG_W,ALKALI,ALKALI_FLAG_W,PH_TOT,PH_TOT_FLAG_W,PH_TMP,REFTMP,DELC13,DELC13_FLAG_W,DELC14,DELC14_FLAG_W,C14ERR,DELO18,DELO18_FLAG_W,POC,POC_FLAG_W,DOC,DOC_FLAG_W,TDN,TDN_FLAG_W,TON,TON_FLAG_W,D15N_NO3,D15N_NO3_FLAG_W,BTL_DATE,BTL_TIME,BTL_LAT,BTL_LON,14C-DOC,14C-DOC_FLAG_W,CHLORA,CHLORA_FLAG_W,HPLC,HPLC_FLAG_W,CDOM325,CDOM325_FLAG_W,CDOM340,CDOM340_FLAG_W,CDOM380,CDOM380_FLAG_W,CDOM412,CDOM412_FLAG_W,CDOM443,CDOM443_FLAG_W,CDOM490,CDOM490_FLAG_W,CDOM555,CDOM555_FLAG_W,CDOMSL,CDOMSL_FLAG_W,CDOMSN,CDOMSN_FLAG_W,D18O_NO3,D18O_NO3_FLAG_W,D15N_NO2+NO3,D15N_NO2+NO3_FLAG_W,D18O_NO2+NO3,D18O_NO2+NO3_FLAG_W
,,,,,,,,,,,METERS,DBAR,ITS-90,PSS-78,,PSS-78,,UMOL/KG,,UMOL/KG,,UMOL/KG,,UMOL/KG,,UMOL/KG,,UMOL/KG,,UMOL/KG,,PMOL/KG,,PMOL/KG,,PMOL/KG,,FMOL/KG,,UMOL/KG,,UMOL/KG,,,,DEG C,DEG C,/MILLE,,/MILLE,,/MILLE,/MILLE,,UG/KG,,UMOL/KG,,UMOL/KG,,UMOL/KG,,/MILLE,,,,,,/MILLE,,MG/M3,,,,1/M,,1/M,,1/M,,1/M,,1/M,,1/M,,1/M,,1/NM,,1/NM,,/MILLE,,/MILLE,,/MILLE,
33RR20160208,       I08S,      71,          1,         28,         28,2,20160309,       0138,   -34.5041,    95.0051,       4546,   250.2,  11.7950,  35.0200,2,  35.0162,2,    241.5,2,   242.7,2,     2.1,2,    0.00,2,    9.17,2,    0.00,2,    0.72,2,   2.991,2,   1.780,2,   0.160,2,    1.79383266,2,  2117.4,2, 2309.46,2,   7.8334,6,    25.03,  11.7937, -999.00,9,  -999.0,9,  -999.0, -999.00,9,-999.000,9,  -999.0,9, -999.00,9,     -999.0,9, -999.00,9, 20160309,      318, -34.5041,  95.0050,     -999.0,9,     -999.0,9,     -999.0,9,-999.0000,9,-999.0000,9,-999.0000,9,-999.0000,9,-999.0000,9,-999.0000,9,-999.0000,9,     -999.0,9,     -999.0,9,     -999.0,9,     -999.0,9,     -999.0,9
33RR20160208,       I08S,      71,          1,         29,         29,2,20160309,       0138,   -34.5041,    95.0051,       4546,   200.1,  12.5487,  35.1397,2,  35.1359,2,    237.0,2,   235.7,2,     1.6,2,    0.00,2,    7.71,2,    0.02,2,    0.60,2,   2.920,2,   1.737,2,   0.139,2,    1.60387327,2,  -999.0,9, -999.00,9,-999.0000,9,     9.00,  12.5405, -999.00,9,  -999.0,9,  -999.0, -999.00,9,-999.000,9,  -999.0,9, -999.00,9,     -999.0,9, -999.00,9, 20160309,      320, -34.5041,  95.0051,     -999.0,9,     -999.0,9,     -999.0,9,-999.0000,9,-999.0000,9,-999.0000,9,-999.0000,9,-999.0000,9,-999.0000,9,-999.0000,9,     -999.0,9,     -999.0,9,     -999.0,9,     -999.0,9,     -999.0,9
33RR20160208,       I08S,      71,          1,         30,         30,2,20160309,       0138,   -34.5041,    95.0051,       4546,   150.2,  13.3132,  35.2164,2,  35.2102,2,    236.8,2,   235.6,2,     1.3,2,    0.00,2,    6.04,2,    0.04,2,    0.52,2,   2.807,2,   1.675,2,   0.180,2,    1.70758083,2,  2110.2,2, 2320.51,2,   7.8660,2,    25.02,  13.3085, -999.00,9,  -999.0,9,  -999.0, -999.00,9,-999.000,9,  -999.0,9, -999.00,9,     -999.0,9, -999.00,9, 20160309,      322, -34.5041,  95.0050,     -999.0,9,     -999.0,9,     -999.0,9,-999.0000,9,-999.0000,9,-999.0000,9,-999.0000,9,-999.0000,9,-999.0000,9,-999.0000,9,     -999.0,9,     -999.0,9,     -999.0,9,     -999.0,9,     -999.0,9
33RR20160208,       I08S,      71,          1,         31,         31,2,20160309,       0138,   -34.5041,    95.0051,       4546,   124.9,  13.9749,  35.3020,2,  35.2889,2,    236.7,2,   234.4,2,     1.1,2,    0.00,2,    4.56,2,    0.34,2,    0.43,2,   2.661,2,   1.585,2,   0.179,2,     1.6357043,2,  -999.0,9, -999.00,9,-999.0000,9,  -999.00,  13.9900, -999.00,9,  -999.0,9,  -999.0, -999.00,9,-999.000,9,  -999.0,9, -999.00,9,     -999.0,9, -999.00,9, 20160309,      324, -34.5041,  95.0050,     -999.0,9,     -999.0,9,     -999.0,9,-999.0000,9,-999.0000,9,-999.0000,9,-999.0000,9,-999.0000,9,-999.0000,9,-999.0000,9,     -999.0,9,     -999.0,9,     -999.0,9,     -999.0,9,     -999.0,9
33RR20160208,       I08S,      71,          1,         32,         32,2,20160309,       0138,   -34.5041,    95.0051,       4546,   100.0,  14.4109,  35.2990,2,  35.2887,2,    252.0,2,   254.8,2,     0.9,2,    0.03,2,    1.17,2,    0.13,2,    0.26,2,   2.681,2,   1.786,3,   0.208,2,    1.54842567,2,  2089.0,2, 2327.53,2,   7.9214,2,    25.03,  14.4290, -999.00,9,  -999.0,9,  -999.0, -999.00,9,-999.000,9,  -999.0,9, -999.00,9,     -999.0,9, -999.00,9, 20160309,      325, -34.5041,  95.0050,     -999.0,9,     -999.0,9,     -999.0,9,-999.0000,9,-999.0000,9,-999.0000,9,-999.0000,9,-999.0000,9,-999.0000,9,-999.0000,9,     -999.0,9,     -999.0,9,     -999.0,9,     -999.0,9,     -999.0,9
33RR20160208,       I08S,      71,          1,         33,         33,2,20160309,       0138,   -34.5041,    95.0051,       4546,    74.4,  15.9133,  35.3238,2,  35.3196,2,    274.2,2,   274.5,2,     0.5,2,    0.00,2,    0.00,2,    0.00,2,    0.13,2,   2.630,2,   1.554,2,   0.204,2,    1.61106093,2,  -999.0,9, -999.00,9,-999.0000,9,  -999.00,  15.9503, -999.00,9,  -999.0,9,  -999.0, -999.00,9,-999.000,9,  -999.0,9, -999.00,9,     -999.0,9, -999.00,9, 20160309,      327, -34.5041,  95.0050,     -999.0,9,     -999.0,9,     -999.0,9,-999.0000,9,-999.0000,9,-999.0000,9,-999.0000,9,-999.0000,9,-999.0000,9,-999.0000,9,     -999.0,9,     -999.0,9,     -999.0,9,     -999.0,9,     -999.0,9
33RR20160208,       I08S,      71,          1,         34,         34,2,20160309,       0138,   -34.5041,    95.0051,       4546,    49.8,  20.3353,  35.7380,2,  35.7186,2,    229.9,2,   229.4,2,     0.4,2,    0.00,2,    0.00,2,    0.00,2,    0.11,2,   2.061,2,   1.254,2,   0.165,2,     1.3882437,2,  2078.3,2, 2352.87,2,   7.9810,2,    25.02,  20.3078, -999.00,9,  -999.0,9,  -999.0, -999.00,9,-999.000,9,  -999.0,9, -999.00,9,     -999.0,9, -999.00,9, 20160309,      329, -34.5041,  95.0050,     -999.0,9,     -999.0,9,     -999.0,9,-999.0000,9,-999.0000,9,-999.0000,9,-999.0000,9,-999.0000,9,-999.0000,9,-999.0000,9,     -999.0,9,     -999.0,9,     -999.0,9,     -999.0,9,     -999.0,9
33RR20160208,       I08S,      71,          1,         35,         35,2,20160309,       0138,   -34.5041,    95.0051,       4546,    25.4,  20.5495,  35.7293,2,  35.7322,2,    228.9,2,   227.0,2,     0.4,2,    0.00,2,    0.00,2,    0.00,2,    0.11,2,   2.015,2,   1.235,2,   0.163,2,    1.41904793,2,  2080.6,2, 2352.83,2,   7.9809,6,    25.03,  20.5487, -999.00,9,  -999.0,9,  -999.0, -999.00,9,-999.000,9,  -999.0,9, -999.00,9,     -999.0,9, -999.00,9, 20160309,      331, -34.5041,  95.0050,     -999.0,9,     -999.0,9,     -999.0,9,-999.0000,9,-999.0000,9,-999.0000,9,-999.0000,9,-999.0000,9,-999.0000,9,-999.0000,9,     -999.0,9,     -999.0,9,     -999.0,9,     -999.0,9,     -999.0,9
33RR20160208,       I08S,      71,          1,         36,         36,2,20160309,       0138,   -34.5041,    95.0051,       4546,     5.7,  20.5483,  35.5466,2,  35.5722,2,    224.8,2,   226.7,2,     0.6,2,    0.00,2,    0.00,2,    0.00,2,    0.12,2,   2.088,2,   1.221,2,   0.161,2,         1.264,2,  2068.7,6, 2342.75,2,   7.9801,2,    25.02,  20.5449, -999.00,9,  -999.0,9,  -999.0, -999.00,9,-999.000,9,  -999.0,9, -999.00,9,     -999.0,9, -999.00,9, 20160309,      332, -34.5041,  95.0050,     -999.0,9,     -999.0,9,     -999.0,9,-999.0000,9,-999.0000,9,-999.0000,9,-999.0000,9,-999.0000,9,-999.0000,9,-999.0000,9,     -999.0,9,     -999.0,9,     -999.0,9,     -999.0,9,     -999.0,9