BOTTLE,20220706CCHSIOAMB
EXPOCODE,SECT_ID,STNNBR,CASTNO,SAMPNO,BTLNBR,BTLNBR_FLAG_W,DATE,TIME,LATITUDE,LONGITUDE,DEPTH,CTDPRS,CTDTMP,CTDSAL,CTDSAL_FLAG_W,SALNTY,SALNTY_FLAG_W,CTDOXY,CTDOXY_FLAG_W,OXYGEN,OXYGEN_FLAG_W,SILCAT,SILCAT_FLAG_W,NH4,NH4_FLAG_W,NITRAT,NITRAT_FLAG_W,NITRIT,NITRIT_FLAG_W,PHSPHT,PHSPHT_FLAG_W,CFC-11,CFC-11_FLAG_W,CFC-12,CFC-12_FLAG_W,CFC113,CFC113_FLAG_W,SF6,SF6_FLAG_W,TCARBN,TCARBN_FLAG_W,ALKALI,ALKALI_FLAG_W,PH_TOT,PH_TOT_FLAG_W,PH_TMP,REFTMP,DELC13,DELC13_FLAG_W,DELC14,DELC14_FLAG_W,C14ERR,DELO18,DELO18_FLAG_W,POC,POC_FLAG_W,DOC,DOC_FLAG_W,TDN,TDN_FLAG_W,TON,TON_FLAG_W,D15N_NO3,D15N_NO3_FLAG_W,BTL_DATE,BTL_TIME,BTL_LAT,BTL_LON,14C-DOC,14C-DOC_FLAG_W,CHLORA,CHLORA_FLAG_W,HPLC,HPLC_FLAG_W,CDOM325,CDOM325_FLAG_W,CDOM340,CDOM340_FLAG_W,CDOM380,CDOM380_FLAG_W,CDOM412,CDOM412_FLAG_W,CDOM443,CDOM443_FLAG_W,CDOM490,CDOM490_FLAG_W,CDOM555,CDOM555_FLAG_W,CDOMSL,CDOMSL_FLAG_W,CDOMSN,CDOMSN_FLAG_W,D18O_NO3,D18O_NO3_FLAG_W,D15N_NO2+NO3,D15N_NO2+NO3_FLAG_W,D18O_NO2+NO3,D18O_NO2+NO3_FLAG_W
,,,,,,,,,,,METERS,DBAR,ITS-90,PSS-78,,PSS-78,,UMOL/KG,,UMOL/KG,,UMOL/KG,,UMOL/KG,,UMOL/KG,,UMOL/KG,,UMOL/KG,,PMOL/KG,,PMOL/KG,,PMOL/KG,,FMOL/KG,,UMOL/KG,,UMOL/KG,,,,DEG C,DEG C,/MILLE,,/MILLE,,/MILLE,/MILLE,,UG/KG,,UMOL/KG,,UMOL/KG,,UMOL/KG,,/MILLE,,,,,,/MILLE,,MG/M3,,,,1/M,,1/M,,1/M,,1/M,,1/M,,1/M,,1/M,,1/NM,,1/NM,,/MILLE,,/MILLE,,/MILLE,
33RR20160208,       I08S,      25,          1,          1,          1,2,20160224,       1803,   -57.5131,    82.5226,       4438,  4523.0,   0.0653,  34.6633,2,  34.6638,2,    232.3,2,   232.5,2,   128.8,2,    0.00,2,   32.38,2,    0.00,2,    2.26,2,   1.281,2,   0.642,2,   0.092,2,   0.385553333,2,  2255.9,2, 2355.73,2,   7.8134,2,     9.81,   0.0652, -999.00,9,  -999.0,9,  -999.0, -999.00,1,-999.000,9,  -999.0,9, -999.00,9,     -999.0,9,    4.89,2, 20160224,     1803, -57.5131,  82.5226,     -999.0,9,     -999.0,9,     -999.0,9,-999.0000,9,-999.0000,9,-999.0000,9,-999.0000,9,-999.0000,9,-999.0000,9,-999.0000,9,     -999.0,9,     -999.0,9,       1.98,2,       4.89,2,       1.98,2
33RR20160208,       I08S,      25,          1,          2,          2,2,20160224,       1803,   -57.5131,    82.5226,       4438,  4167.5,   0.0433,  34.6645,2,  34.6648,2,    231.7,2,   231.7,2,   129.7,2,    0.00,2,   32.38,2,    0.00,2,    2.29,2,   1.266,2,   0.618,2,   0.087,2,       0.36542,2,  2256.1,2, 2356.15,6,   7.8143,2,     9.78,   0.0432, -999.00,9,  -999.0,9,  -999.0, -999.00,1,-999.000,9,  -999.0,9, -999.00,9,     -999.0,9,    4.84,2, 20160224,     1810, -57.5132,  82.5225,     -999.0,9,     -999.0,9,     -999.0,9,-999.0000,9,-999.0000,9,-999.0000,9,-999.0000,9,-999.0000,9,-999.0000,9,-999.0000,9,     -999.0,9,     -999.0,9,       2.06,2,       4.84,2,       2.06,2
33RR20160208,       I08S,      25,          1,          3,          3,3,20160224,       1803,   -57.5131,    82.5226,       4438,  3829.7,   0.0645,  34.6676,3,  34.6672,3,    229.7,3,   229.5,3,   129.0,3,    0.00,3,   32.35,3,    0.00,3,    2.29,3,   1.132,2,   0.569,2,   0.078,2,       0.30502,2,  2257.0,3, 2355.46,3,   7.8140,3,     9.79,   0.0644, -999.00,9,  -999.0,9,  -999.0, -999.00,1,-999.000,9,  -999.0,9, -999.00,9,     -999.0,9,    4.78,2, 20160224,     1817, -57.5131,  82.5226,     -999.0,9,     -999.0,9,     -999.0,9,-999.0000,9,-999.0000,9,-999.0000,9,-999.0000,9,-999.0000,9,-999.0000,9,-999.0000,9,     -999.0,9,     -999.0,9,       1.99,2,       4.78,2,       1.99,2
33RR20160208,       I08S,      25,          1,          4,          4,2,20160224,       1803,   -57.5131,    82.5226,       4438,  3489.4,   0.0757,  34.6699,2,  34.6690,2,    228.6,2,   228.3,2,   128.2,2,    0.00,2,   32.38,2,    0.00,2,    2.26,2,   1.019,2,   0.521,2,   0.069,2,        0.2718,2,  -999.0,9, -999.00,9,-999.0000,9,  -999.00,   0.0757, -999.00,9,  -999.0,9,  -999.0, -999.00,1,-999.000,9,  -999.0,9, -999.00,9,     -999.0,9,    4.77,2, 20160224,     1823, -57.5131,  82.5226,     -999.0,9,     -999.0,9,     -999.0,9,-999.0000,9,-999.0000,9,-999.0000,9,-999.0000,9,-999.0000,9,-999.0000,9,-999.0000,9,     -999.0,9,     -999.0,9,       2.04,2,       4.77,2,       2.04,2
33RR20160208,       I08S,      25,          1,          5,          5,2,20160224,       1803,   -57.5131,    82.5226,       4438,  3183.9,   0.1149,  34.6728,2,  34.6725,2,    226.5,2,   227.3,2,   128.2,2,    0.00,2,   32.41,2,    0.00,2,    2.27,2,   0.933,2,   0.463,2,   0.056,2,   0.228513333,2,  -999.0,9, -999.00,9,-999.0000,9,  -999.00,   0.1150, -999.00,9,  -999.0,9,  -999.0, -999.00,1,-999.000,9,  -999.0,9, -999.00,9,     -999.0,9,    4.76,2, 20160224,     1830, -57.5131,  82.5226,     -999.0,9,     -999.0,9,     -999.0,9,-999.0000,9,-999.0000,9,-999.0000,9,-999.0000,9,-999.0000,9,-999.0000,9,-999.0000,9,     -999.0,9,     -999.0,9,       2.06,2,       4.76,2,       2.06,2
33RR20160208,       I08S,      25,          1,          6,          6,2,20160224,       1803,   -57.5131,    82.5226,       4438,  2913.1,   0.1364,  34.6750,2,  34.6739,2,    225.5,2,   224.8,2,   127.8,2,    0.00,2,   32.44,2,    0.00,2,    2.26,2,   0.847,2,   0.433,2,   0.054,2,   0.242606667,2,  -999.0,9, -999.00,9,-999.0000,9,     9.00,   0.1372, -999.00,9,  -999.0,9,  -999.0, -999.00,1,-999.000,9,  -999.0,9, -999.00,9,     -999.0,9,     4.8,2, 20160224,     1835, -57.5131,  82.5226,     -999.0,9,     -999.0,9,     -999.0,9,-999.0000,9,-999.0000,9,-999.0000,9,-999.0000,9,-999.0000,9,-999.0000,9,-999.0000,9,     -999.0,9,     -999.0,9,       2.07,2,        4.8,2,       2.07,2
33RR20160208,       I08S,      25,          1,          7,          7,2,20160224,       1803,   -57.5131,    82.5226,       4438,  2666.3,   0.1689,  34.6771,2,  34.6766,2,    224.2,2,   223.4,2,   127.4,2,    0.00,2,   32.48,2,    0.00,2,    2.23,2,   0.760,2,   0.395,2,   0.045,2,   0.221466667,2,  -999.0,9, -999.00,9,-999.0000,9,  -999.00,   0.1689, -999.00,9,  -999.0,9,  -999.0, -999.00,1,-999.000,9,  -999.0,9, -999.00,9,     -999.0,9,     4.8,2, 20160224,     1841, -57.5132,  82.5226,     -999.0,9,     -999.0,9,     -999.0,9,-999.0000,9,-999.0000,9,-999.0000,9,-999.0000,9,-999.0000,9,-999.0000,9,-999.0000,9,     -999.0,9,     -999.0,9,       2.12,2,        4.8,2,       2.12,2
33RR20160208,       I08S,      25,          1,          8,          8,2,20160224,       1803,   -57.5131,    82.5226,       4438,  2414.0,   0.2286,  34.6803,2,  34.6790,2,    222.1,2,   220.7,2,   126.4,2,    0.00,2,   32.45,2,    0.00,2,    2.24,2,   0.652,2,   0.330,2,   0.033,2,   0.210393333,2,  -999.0,9, -999.00,9,-999.0000,9,  -999.00,   0.2285, -999.00,9,  -999.0,9,  -999.0, -999.00,1,-999.000,9,  -999.0,9, -999.00,9,     -999.0,9,     4.8,2, 20160224,     1846, -57.5131,  82.5226,     -999.0,9,     -999.0,9,     -999.0,9,-999.0000,9,-999.0000,9,-999.0000,9,-999.0000,9,-999.0000,9,-999.0000,9,-999.0000,9,     -999.0,9,     -999.0,9,       2.02,2,        4.8,2,       2.02,2
33RR20160208,       I08S,      25,          1,          9,          9,2,20160224,       1803,   -57.5131,    82.5226,       4438,  2162.8,   0.3968,  34.6871,2,  34.6870,2,    216.1,2,   215.6,2,   123.0,2,    0.00,2,   32.50,2,    0.00,2,    2.26,2,   0.432,2,   0.230,2,   0.018,2,   0.183213333,2,  2260.6,2, 2358.51,2,   7.8113,2,     9.82,   0.3966, -999.00,9,  -999.0,9,  -999.0, -999.00,1,-999.000,9,  -999.0,9, -999.00,9,     -999.0,9,    4.81,2, 20160224,     1852, -57.5132,  82.5227,     -999.0,9,     -999.0,9,     -999.0,9,-999.0000,9,-999.0000,9,-999.0000,9,-999.0000,9,-999.0000,9,-999.0000,9,-999.0000,9,     -999.0,9,     -999.0,9,       1.98,2,       4.81,2,       1.98,2
33RR20160208,       I08S,      25,          1,         10,         10,2,20160224,       1803,   -57.5131,    82.5226,       4438,  1939.8,   0.4855,  34.6911,2,  34.6911,2,    213.6,2,   212.9,2,   120.2,2,    0.00,2,   32.41,2,    0.00,2,    2.26,2,   0.371,2,   0.205,2,   0.012,2,        0.1661,2,  -999.0,9, -999.00,9,-999.0000,9,  -999.00,   0.4856, -999.00,9,  -999.0,9,  -999.0, -999.00,1,-999.000,9,  -999.0,9, -999.00,9,     -999.0,9,    4.81,2, 20160224,     1857, -57.5131,  82.5227,     -999.0,9,     -999.0,9,     -999.0,9,-999.0000,9,-999.0000,9,-999.0000,9,-999.0000,9,-999.0000,9,-999.0000,9,-999.0000,9,     -999.0,9,     -999.0,9,        1.9,2,       4.81,2,        1.9,2
33RR20160208,       I08S,      25,          1,         11,         11,2,20160224,       1803,   -57.5131,    82.5226,       4438,  1734.3,   0.6448,  34.6988,2,  34.6976,2,    210.7,2,   209.9,2,   116.0,2,    0.00,2,   32.17,2,    0.00,2,    2.25,2,   0.354,2,   0.193,2,   0.011,2,   0.149993333,2,  -999.0,9, -999.00,9,-999.0000,9,  -999.00,   0.6444, -999.00,9,  -999.0,9,  -999.0, -999.00,1,-999.000,9,  -999.0,9, -999.00,9,     -999.0,9,    4.78,2, 20160224,     1901, -57.5131,  82.5227,     -999.0,9,     -999.0,9,     -999.0,9,-999.0000,9,-999.0000,9,-999.0000,9,-999.0000,9,-999.0000,9,-999.0000,9,-999.0000,9,     -999.0,9,     -999.0,9,       1.92,2,       4.78,2,       1.92,2
33RR20160208,       I08S,      25,          1,         12,         12,2,20160224,       1803,   -57.5131,    82.5226,       4438,  1565.1,   0.7821,  34.7057,2,  34.7056,2,    208.6,2,   208.7,2,   112.2,2,    0.00,2,   31.90,2,    0.00,2,    2.21,2,   0.351,2,   0.190,2,   0.013,2,   0.130866667,2,  -999.0,9, -999.00,9,-999.0000,9,     9.00,   0.7826, -999.00,9,  -999.0,9,  -999.0, -999.00,1,-999.000,9,  -999.0,9, -999.00,9,     -999.0,9,    4.74,2, 20160224,     1906, -57.5131,  82.5226,     -999.0,9,     -999.0,9,     -999.0,9,-999.0000,9,-999.0000,9,-999.0000,9,-999.0000,9,-999.0000,9,-999.0000,9,-999.0000,9,     -999.0,9,     -999.0,9,       1.82,2,       4.74,2,       1.82,2
33RR20160208,       I08S,      25,          1,         13,         13,2,20160224,       1803,   -57.5131,    82.5226,       4438,  1469.7,   0.8457,  34.7094,2,  34.7090,2,    207.8,2,   207.0,2,   110.3,2,    0.00,2,   31.76,2,    0.00,2,    2.21,2,   0.350,2,   0.187,2,   0.013,2,       0.13892,2,  -999.0,9, -999.00,9,-999.0000,9,  -999.00,   0.8455, -999.00,9,  -999.0,9,  -999.0, -999.00,1,-999.000,9,  -999.0,9, -999.00,9,     -999.0,9,    4.79,2, 20160224,     1909, -57.5131,  82.5226,     -999.0,9,     -999.0,9,     -999.0,9,-999.0000,9,-999.0000,9,-999.0000,9,-999.0000,9,-999.0000,9,-999.0000,9,-999.0000,9,     -999.0,9,     -999.0,9,       1.91,2,       4.79,2,       1.91,2
33RR20160208,       I08S,      25,          1,         14,         14,2,20160224,       1803,   -57.5131,    82.5226,       4438,  1367.7,   0.9097,  34.7127,2,  34.7127,2,    206.9,2,   207.6,2,   108.1,2,    0.00,2,   31.72,2,    0.00,2,    2.20,2,   0.344,2,   0.188,2,   0.012,2,        0.0906,2,  -999.0,9, -999.00,9,-999.0000,9,  -999.00,   0.9100, -999.00,9,  -999.0,9,  -999.0, -999.00,1,-999.000,9,  -999.0,9, -999.00,9,     -999.0,9,    4.75,2, 20160224,     1911, -57.5131,  82.5226,     -999.0,9,     -999.0,9,     -999.0,9,-999.0000,9,-999.0000,9,-999.0000,9,-999.0000,9,-999.0000,9,-999.0000,9,-999.0000,9,     -999.0,9,     -999.0,9,       1.85,2,       4.75,2,       1.85,2
33RR20160208,       I08S,      25,          1,         15,         15,2,20160224,       1803,   -57.5131,    82.5226,       4438,  1269.9,   0.9664,  34.7153,2,  34.7156,2,    206.0,2,   208.1,2,   106.2,2,    0.00,2,   31.54,2,    0.00,2,    2.17,2,   0.359,2,   0.188,2,   0.014,2,       0.10872,2,  -999.0,9, -999.00,9,-999.0000,9,     9.00,   0.9660, -999.00,9,  -999.0,9,  -999.0, -999.00,1,-999.000,9,  -999.0,9, -999.00,9,     -999.0,9,    4.79,2, 20160224,     1914, -57.5132,  82.5226,     -999.0,9,     -999.0,9,     -999.0,9,-999.0000,9,-999.0000,9,-999.0000,9,-999.0000,9,-999.0000,9,-999.0000,9,-999.0000,9,     -999.0,9,     -999.0,9,       1.81,2,       4.79,2,       1.81,2
33RR20160208,       I08S,      25,          1,         16,         16,2,20160224,       1803,   -57.5131,    82.5226,       4438,  1167.7,   1.0233,  34.7187,2,  34.7194,2,    205.4,2,   205.7,2,   104.4,2,    0.00,2,   31.43,2,    0.00,2,    2.19,2,   0.341,2,   0.180,2,   0.013,2,   0.112746667,2,  2255.3,2, 2355.96,2,   7.8234,6,     9.80,   1.0234, -999.00,9,  -999.0,9,  -999.0, -999.00,1,-999.000,9,  -999.0,9, -999.00,9,     -999.0,9,    4.78,2, 20160224,     1917, -57.5131,  82.5226,     -999.0,9,     -999.0,9,     -999.0,9,-999.0000,9,-999.0000,9,-999.0000,9,-999.0000,9,-999.0000,9,-999.0000,9,-999.0000,9,     -999.0,9,     -999.0,9,       1.89,2,       4.78,2,       1.89,2
33RR20160208,       I08S,      25,          1,         17,         17,2,20160224,       1803,   -57.5131,    82.5226,       4438,  1067.7,   1.1279,  34.7233,2,  34.7235,2,    204.7,2,   205.3,2,   102.0,2,    0.00,2,   31.25,2,    0.00,2,    2.18,2,   0.342,2,   0.181,2,   0.012,2,        0.1057,2,  -999.0,9, -999.00,9,-999.0000,9,  -999.00,   1.1278, -999.00,9,  -999.0,9,  -999.0, -999.00,1,-999.000,9,  -999.0,9, -999.00,9,     -999.0,9,    4.75,2, 20160224,     1920, -57.5131,  82.5226,     -999.0,9,     -999.0,9,     -999.0,9,-999.0000,9,-999.0000,9,-999.0000,9,-999.0000,9,-999.0000,9,-999.0000,9,-999.0000,9,     -999.0,9,     -999.0,9,       1.89,2,       4.75,2,       1.89,2
33RR20160208,       I08S,      25,          1,         18,         37,2,20160224,       1803,   -57.5131,    82.5226,       4438,   968.1,   1.2172,  34.7264,2,  34.7264,2,    203.8,2,   203.5,2,    98.8,2,    0.00,2,   31.11,2,    0.00,2,    2.17,2,   0.363,2,   0.190,2,   0.014,2,   0.128853333,2,  -999.0,9, -999.00,9,-999.0000,9,     9.00,   1.2180, -999.00,9,  -999.0,9,  -999.0, -999.00,1,-999.000,9,  -999.0,9, -999.00,9,     -999.0,9,    4.69,2, 20160224,     1923, -57.5131,  82.5226,     -999.0,9,     -999.0,9,     -999.0,9,-999.0000,9,-999.0000,9,-999.0000,9,-999.0000,9,-999.0000,9,-999.0000,9,-999.0000,9,     -999.0,9,     -999.0,9,        1.9,2,       4.69,2,        1.9,2
33RR20160208,       I08S,      25,          1,         19,         19,2,20160224,       1803,   -57.5131,    82.5226,       4438,   866.4,   1.2784,  34.7261,2,  34.7237,2,    202.4,2,   203.9,2,    96.5,2,    0.00,2,   31.06,2,    0.00,2,    2.14,2,   0.391,2,   0.216,2,   0.019,2,   0.142946667,2,  -999.0,9, -999.00,9,-999.0000,9,  -999.00,   1.2781, -999.00,9,  -999.0,9,  -999.0, -999.00,1,-999.000,9,  -999.0,9, -999.00,9,     -999.0,9,    4.68,2, 20160224,     1926, -57.5131,  82.5226,     -999.0,9,     -999.0,9,     -999.0,9,-999.0000,9,-999.0000,9,-999.0000,9,-999.0000,9,-999.0000,9,-999.0000,9,-999.0000,9,     -999.0,9,     -999.0,9,       1.69,2,       4.68,2,       1.69,2
33RR20160208,       I08S,      25,          1,         20,         20,2,20160224,       1803,   -57.5131,    82.5226,       4438,   766.5,   1.3403,  34.7254,2,  34.7255,2,    201.1,2,   202.3,2,    94.4,2,    0.00,2,   31.04,2,    0.00,2,    2.16,2,   0.408,2,   0.224,2,   0.021,2,   0.136906667,2,  -999.0,9, -999.00,9,-999.0000,9,  -999.00,   1.3402, -999.00,9,  -999.0,9,  -999.0, -999.00,1,-999.000,9,  -999.0,9, -999.00,9,     -999.0,9,    4.69,2, 20160224,     1929, -57.5131,  82.5226,     -999.0,9,     -999.0,9,     -999.0,9,-999.0000,9,-999.0000,9,-999.0000,9,-999.0000,9,-999.0000,9,-999.0000,9,-999.0000,9,     -999.0,9,     -999.0,9,       1.85,2,       4.69,2,       1.85,2
33RR20160208,       I08S,      25,          1,         21,         21,2,20160224,       1803,   -57.5131,    82.5226,       4438,   666.0,   1.4000,  34.7272,2,  34.7263,2,    198.9,2,   201.2,2,    92.7,2,    0.00,2,   31.01,2,    0.00,2,    2.16,2,   0.409,2,   0.230,2,   0.023,2,   0.149993333,2,  -999.0,9, -999.00,9,-999.0000,9,     9.00,   1.3997, -999.00,9,  -999.0,9,  -999.0, -999.00,1,-999.000,9,  -999.0,9, -999.00,9,     -999.0,9,    4.71,2, 20160224,     1932, -57.5131,  82.5226,     -999.0,9,     -999.0,9,     -999.0,9,-999.0000,9,-999.0000,9,-999.0000,9,-999.0000,9,-999.0000,9,-999.0000,9,-999.0000,9,     -999.0,9,     -999.0,9,       1.82,2,       4.71,2,       1.82,2
33RR20160208,       I08S,      25,          1,         22,         22,2,20160224,       1803,   -57.5131,    82.5226,       4438,   564.3,   1.5104,  34.7201,2,  34.7200,2,    197.7,2,   197.9,2,    89.6,2,    0.00,2,   31.21,2,    0.00,2,    2.18,2,   0.480,2,   0.266,2,   0.028,2,   0.171133333,2,  2250.9,2, 2349.24,2,   7.8143,6,     9.79,   1.5109, -999.00,9,  -999.0,9,  -999.0, -999.00,1,-999.000,9,  -999.0,9, -999.00,9,     -999.0,9,    4.77,2, 20160224,     1935, -57.5131,  82.5226,     -999.0,9,     -999.0,9,     -999.0,9,-999.0000,9,-999.0000,9,-999.0000,9,-999.0000,9,-999.0000,9,-999.0000,9,-999.0000,9,     -999.0,9,     -999.0,9,        1.9,2,       4.77,2,        1.9,2
33RR20160208,       I08S,      25,          1,         23,         23,2,20160224,       1803,   -57.5131,    82.5226,       4438,   465.0,   1.5522,  34.6989,2,  34.7000,2,    196.3,2,   193.8,2,    87.3,2,    0.00,2,   31.77,2,    0.00,2,    2.22,2,   0.606,2,   0.335,2,   0.046,2,   0.216433333,2,  -999.0,9, -999.00,9,-999.0000,9,  -999.00,   1.5519, -999.00,9,  -999.0,9,  -999.0, -999.00,1,-999.000,9,  -999.0,9, -999.00,9,     -999.0,9,    4.74,2, 20160224,     1938, -57.5132,  82.5227,     -999.0,9,     -999.0,9,     -999.0,9,-999.0000,9,-999.0000,9,-999.0000,9,-999.0000,9,-999.0000,9,-999.0000,9,-999.0000,9,     -999.0,9,     -999.0,9,       1.81,2,       4.74,2,       1.81,2
33RR20160208,       I08S,      25,          1,         24,         24,2,20160224,       1803,   -57.5131,    82.5226,       4438,   385.9,   1.5672,  34.6913,2,  34.6907,2,    194.8,2,   192.1,2,    86.5,2,    0.00,2,   31.99,2,    0.00,2,    2.24,2,   0.654,2,   0.358,2,   0.050,2,   0.224486667,2,  2253.1,2, 2345.52,2,   7.7973,6,     9.79,   1.5672, -999.00,9,  -999.0,9,  -999.0, -999.00,1,-999.000,9,  -999.0,9, -999.00,9,     -999.0,9,    4.77,2, 20160224,     1941, -57.5132,  82.5227,     -999.0,9,     -999.0,9,     -999.0,9,-999.0000,9,-999.0000,9,-999.0000,9,-999.0000,9,-999.0000,9,-999.0000,9,-999.0000,9,     -999.0,9,     -999.0,9,       1.74,2,       4.77,2,       1.74,2
33RR20160208,       I08S,      25,          1,         25,         25,2,20160224,       1803,   -57.5131,    82.5226,       4438,   336.8,   1.5771,  34.6803,2,  34.6831,2,    192.9,2,   190.1,2,    86.0,2,    0.00,2,   32.35,2,    0.00,2,    2.26,2,   0.701,2,   0.389,2,   0.055,2,   0.228513333,2,  -999.0,9, -999.00,9,-999.0000,9,  -999.00,   1.5769, -999.00,9,  -999.0,9,  -999.0, -999.00,1,-999.000,9,  -999.0,9, -999.00,9,     -999.0,9,    4.75,2, 20160224,     1943, -57.5131,  82.5226,     -999.0,9,     -999.0,9,     -999.0,9,-999.0000,9,-999.0000,9,-999.0000,9,-999.0000,9,-999.0000,9,-999.0000,9,-999.0000,9,     -999.0,9,     -999.0,9,       1.88,2,       4.75,2,       1.88,2
33RR20160208,       I08S,      25,          1,         26,         26,2,20160224,       1803,   -57.5131,    82.5226,       4438,   286.7,   1.4902,  34.6546,2,  34.6525,2,    190.3,2,   193.4,4,    84.4,2,    0.00,2,   32.71,2,    0.03,2,    2.29,2,   0.881,2,   0.474,2,   0.074,2,   0.297973333,2,  -999.0,9, -999.00,9,-999.0000,9,  -999.00,   1.4900, -999.00,9,  -999.0,9,  -999.0, -999.00,1,-999.000,9,  -999.0,9, -999.00,9,     -999.0,9,    4.85,2, 20160224,     1945, -57.5132,  82.5226,     -999.0,9,     -999.0,9,     -999.0,9,-999.0000,9,-999.0000,9,-999.0000,9,-999.0000,9,-999.0000,9,-999.0000,9,-999.0000,9,     -999.0,9,     -999.0,9,       1.81,2,       4.81,2,       1.86,2
33RR20160208,       I08S,      25,          1,         27,         27,2,20160224,       1803,   -57.5131,    82.5226,       4438,   236.9,   1.3938,  34.6376,2,  34.6364,2,    184.4,2,   192.9,2,    83.8,2,    0.00,2,   32.85,2,    0.03,2,    2.30,2,   1.037,2,   0.541,2,   0.086,2,       0.33824,2,  2253.1,2, 2340.36,2,   7.7795,6,     9.81,   1.3934, -999.00,9,  -999.0,9,  -999.0, -999.00,1,-999.000,9,  -999.0,9, -999.00,9,     -999.0,9,    4.79,2, 20160224,     1947, -57.5131,  82.5226,     -999.0,9,     -999.0,9,     -999.0,9,-999.0000,9,-999.0000,9,-999.0000,9,-999.0000,9,-999.0000,9,-999.0000,9,-999.0000,9,     -999.0,9,     -999.0,9,       2.03,2,       4.72,2,       1.89,2