BOTTLE,20220706CCHSIOAMB
EXPOCODE,SECT_ID,STNNBR,CASTNO,SAMPNO,BTLNBR,BTLNBR_FLAG_W,DATE,TIME,LATITUDE,LONGITUDE,DEPTH,CTDPRS,CTDTMP,CTDSAL,CTDSAL_FLAG_W,SALNTY,SALNTY_FLAG_W,CTDOXY,CTDOXY_FLAG_W,OXYGEN,OXYGEN_FLAG_W,SILCAT,SILCAT_FLAG_W,NH4,NH4_FLAG_W,NITRAT,NITRAT_FLAG_W,NITRIT,NITRIT_FLAG_W,PHSPHT,PHSPHT_FLAG_W,CFC-11,CFC-11_FLAG_W,CFC-12,CFC-12_FLAG_W,CFC113,CFC113_FLAG_W,SF6,SF6_FLAG_W,TCARBN,TCARBN_FLAG_W,ALKALI,ALKALI_FLAG_W,PH_TOT,PH_TOT_FLAG_W,PH_TMP,REFTMP,DELC13,DELC13_FLAG_W,DELC14,DELC14_FLAG_W,C14ERR,DELO18,DELO18_FLAG_W,POC,POC_FLAG_W,DOC,DOC_FLAG_W,TDN,TDN_FLAG_W,TON,TON_FLAG_W,D15N_NO3,D15N_NO3_FLAG_W,BTL_DATE,BTL_TIME,BTL_LAT,BTL_LON,14C-DOC,14C-DOC_FLAG_W,CHLORA,CHLORA_FLAG_W,HPLC,HPLC_FLAG_W,CDOM325,CDOM325_FLAG_W,CDOM340,CDOM340_FLAG_W,CDOM380,CDOM380_FLAG_W,CDOM412,CDOM412_FLAG_W,CDOM443,CDOM443_FLAG_W,CDOM490,CDOM490_FLAG_W,CDOM555,CDOM555_FLAG_W,CDOMSL,CDOMSL_FLAG_W,CDOMSN,CDOMSN_FLAG_W,D18O_NO3,D18O_NO3_FLAG_W,D15N_NO2+NO3,D15N_NO2+NO3_FLAG_W,D18O_NO2+NO3,D18O_NO2+NO3_FLAG_W
,,,,,,,,,,,METERS,DBAR,ITS-90,PSS-78,,PSS-78,,UMOL/KG,,UMOL/KG,,UMOL/KG,,UMOL/KG,,UMOL/KG,,UMOL/KG,,UMOL/KG,,PMOL/KG,,PMOL/KG,,PMOL/KG,,FMOL/KG,,UMOL/KG,,UMOL/KG,,,,DEG C,DEG C,/MILLE,,/MILLE,,/MILLE,/MILLE,,UG/KG,,UMOL/KG,,UMOL/KG,,UMOL/KG,,/MILLE,,,,,,/MILLE,,MG/M3,,,,1/M,,1/M,,1/M,,1/M,,1/M,,1/M,,1/M,,1/NM,,1/NM,,/MILLE,,/MILLE,,/MILLE,
33RR20160208,       I08S,      29,          1,          1,          1,2,20160225,       2051,   -56.0580,    84.2612,       4822,  4850.4,   0.0842,  34.6622,2,  34.6632,2,    232.5,2,   232.7,2,   132.1,2,    0.00,2,   32.35,2,    0.00,2,    2.27,2,   1.387,2,   0.680,2,   0.096,2,         0.331,2,  2258.2,6, 2355.37,6,   7.5925,6,    24.99,   0.0842, -999.00,9,  -999.0,9,  -999.0, -999.00,1,-999.000,9,  -999.0,9, -999.00,9,     -999.0,9, -999.00,9, 20160225,     2051, -56.0580,  84.2612,     -999.0,9,     -999.0,9,     -999.0,9,-999.0000,9,-999.0000,9,-999.0000,9,-999.0000,9,-999.0000,9,-999.0000,9,-999.0000,9,     -999.0,9,     -999.0,9,     -999.0,9,     -999.0,9,     -999.0,9
33RR20160208,       I08S,      29,          1,          2,          2,2,20160225,       2051,   -56.0580,    84.2612,       4822,  4531.6,   0.1359,  34.6672,2,  34.6675,2,    229.7,2,   229.3,2,   129.5,2,    0.00,2,   32.41,2,    0.00,2,    2.27,2,   1.158,2,   0.566,2,   0.078,2,         0.312,2,  -999.0,9, -999.00,9,-999.0000,9,  -999.00,   0.1357, -999.00,9,  -999.0,9,  -999.0, -999.00,1,-999.000,9,  -999.0,9, -999.00,9,     -999.0,9, -999.00,9, 20160225,     2058, -56.0580,  84.2611,     -999.0,9,     -999.0,9,     -999.0,9,-999.0000,9,-999.0000,9,-999.0000,9,-999.0000,9,-999.0000,9,-999.0000,9,-999.0000,9,     -999.0,9,     -999.0,9,     -999.0,9,     -999.0,9,     -999.0,9
33RR20160208,       I08S,      29,          1,          3,          3,3,20160225,       2051,   -56.0580,    84.2612,       4822,  4193.9,   0.1557,  34.6700,3,  34.6704,3,    227.0,3,   228.3,3,   128.5,3,    0.00,3,   32.38,3,    0.00,3,    2.27,3,   1.043,2,   0.510,2,   0.066,2,         0.237,2,  -999.0,9, -999.00,9,-999.0000,9,     9.00,   0.1558, -999.00,9,  -999.0,9,  -999.0, -999.00,1,-999.000,9,  -999.0,9, -999.00,9,     -999.0,9, -999.00,9, 20160225,     2105, -56.0580,  84.2611,     -999.0,9,     -999.0,9,     -999.0,9,-999.0000,9,-999.0000,9,-999.0000,9,-999.0000,9,-999.0000,9,-999.0000,9,-999.0000,9,     -999.0,9,     -999.0,9,     -999.0,9,     -999.0,9,     -999.0,9
33RR20160208,       I08S,      29,          1,          4,          4,2,20160225,       2051,   -56.0580,    84.2612,       4822,  3900.9,   0.2054,  34.6737,2,  34.6743,2,    224.4,2,   224.8,2,   128.1,2,    0.00,2,   32.34,2,    0.00,2,    2.23,2,   0.910,2,   0.452,2,   0.057,2,         0.228,2,  -999.0,9, -999.00,9,-999.0000,9,  -999.00,   0.2056, -999.00,9,  -999.0,9,  -999.0, -999.00,1,-999.000,9,  -999.0,9, -999.00,9,     -999.0,9, -999.00,9, 20160225,     2111, -56.0580,  84.2612,     -999.0,9,     -999.0,9,     -999.0,9,-999.0000,9,-999.0000,9,-999.0000,9,-999.0000,9,-999.0000,9,-999.0000,9,-999.0000,9,     -999.0,9,     -999.0,9,     -999.0,9,     -999.0,9,     -999.0,9
33RR20160208,       I08S,      29,          1,          5,          5,2,20160225,       2051,   -56.0580,    84.2612,       4822,  3592.8,   0.2863,  34.6785,2,  34.6785,2,    221.0,2,   222.0,2,   126.8,2,    0.00,2,   32.51,2,    0.00,2,    2.27,2,   0.714,2,   0.357,2,   0.041,2,         0.171,2,  -999.0,9, -999.00,9,-999.0000,9,  -999.00,   0.2864, -999.00,9,  -999.0,9,  -999.0, -999.00,1,-999.000,9,  -999.0,9, -999.00,9,     -999.0,9, -999.00,9, 20160225,     2118, -56.0580,  84.2612,     -999.0,9,     -999.0,9,     -999.0,9,-999.0000,9,-999.0000,9,-999.0000,9,-999.0000,9,-999.0000,9,-999.0000,9,-999.0000,9,     -999.0,9,     -999.0,9,     -999.0,9,     -999.0,9,     -999.0,9
33RR20160208,       I08S,      29,          1,          6,         38,2,20160225,       2051,   -56.0580,    84.2612,       4822,  3291.0,   0.4117,  34.6849,2,  34.6855,2,    217.4,2,   217.2,2,   124.9,2,    0.00,2,   32.50,2,    0.00,2,    2.27,2,   0.520,2,   0.268,2,   0.026,2,         0.115,2,  2258.4,2, 2357.06,2,   7.5930,6,    25.00,   0.4111, -999.00,9,  -999.0,9,  -999.0, -999.00,1,-999.000,9,  -999.0,9, -999.00,9,     -999.0,9, -999.00,9, 20160225,     2124, -56.0580,  84.2612,     -999.0,9,     -999.0,9,     -999.0,9,-999.0000,9,-999.0000,9,-999.0000,9,-999.0000,9,-999.0000,9,-999.0000,9,-999.0000,9,     -999.0,9,     -999.0,9,     -999.0,9,     -999.0,9,     -999.0,9
33RR20160208,       I08S,      29,          1,          7,          7,2,20160225,       2051,   -56.0580,    84.2612,       4822,  2991.7,   0.5208,  34.6907,2,  34.6902,2,    213.9,2,   214.2,2,   122.4,2,    0.00,2,   32.29,2,    0.00,2,    2.25,2,   0.423,2,   0.214,2,   0.015,2,         0.155,2,  -999.0,9, -999.00,9,-999.0000,9,  -999.00,   0.5210, -999.00,9,  -999.0,9,  -999.0, -999.00,1,-999.000,9,  -999.0,9, -999.00,9,     -999.0,9, -999.00,9, 20160225,     2130, -56.0580,  84.2612,     -999.0,9,     -999.0,9,     -999.0,9,-999.0000,9,-999.0000,9,-999.0000,9,-999.0000,9,-999.0000,9,-999.0000,9,-999.0000,9,     -999.0,9,     -999.0,9,     -999.0,9,     -999.0,9,     -999.0,9
33RR20160208,       I08S,      29,          1,          8,          8,2,20160225,       2051,   -56.0580,    84.2612,       4822,  2746.9,   0.6692,  34.6985,2,  34.6973,2,    211.2,2,   210.5,2,   119.2,2,    0.00,2,   32.22,2,    0.00,2,    2.26,2,   0.346,2,   0.176,2,   0.011,2,          0.11,2,  -999.0,9, -999.00,9,-999.0000,9,  -999.00,   0.6689, -999.00,9,  -999.0,9,  -999.0, -999.00,1,-999.000,9,  -999.0,9, -999.00,9,     -999.0,9, -999.00,9, 20160225,     2135, -56.0580,  84.2612,     -999.0,9,     -999.0,9,     -999.0,9,-999.0000,9,-999.0000,9,-999.0000,9,-999.0000,9,-999.0000,9,-999.0000,9,-999.0000,9,     -999.0,9,     -999.0,9,     -999.0,9,     -999.0,9,     -999.0,9
33RR20160208,       I08S,      29,          1,          9,          9,2,20160225,       2051,   -56.0580,    84.2612,       4822,  2497.5,   0.8431,  34.7081,2,  34.7083,2,    209.0,2,   208.9,2,   114.5,2,    0.00,2,   31.76,2,    0.00,2,    2.23,2,   0.304,2,   0.156,2,   0.008,2,         0.053,2,  -999.0,9, -999.00,9,-999.0000,9,     9.00,   0.8422, -999.00,9,  -999.0,9,  -999.0, -999.00,1,-999.000,9,  -999.0,9, -999.00,9,     -999.0,9, -999.00,9, 20160225,     2141, -56.0580,  84.2612,     -999.0,9,     -999.0,9,     -999.0,9,-999.0000,9,-999.0000,9,-999.0000,9,-999.0000,9,-999.0000,9,-999.0000,9,-999.0000,9,     -999.0,9,     -999.0,9,     -999.0,9,     -999.0,9,     -999.0,9
33RR20160208,       I08S,      29,          1,         10,         10,2,20160225,       2051,   -56.0580,    84.2612,       4822,  2249.9,   1.0349,  34.7192,2,  34.7183,2,    206.9,2,   206.4,2,   109.3,2,    0.00,2,   31.52,2,    0.00,2,    2.20,2,   0.259,2,   0.135,2,   0.007,2,         0.047,2,  2256.2,2, 2357.59,2,   7.6036,6,    25.00,   1.0351, -999.00,9,  -999.0,9,  -999.0, -999.00,1,-999.000,9,  -999.0,9, -999.00,9,     -999.0,9, -999.00,9, 20160225,     2146, -56.0580,  84.2612,     -999.0,9,     -999.0,9,     -999.0,9,-999.0000,9,-999.0000,9,-999.0000,9,-999.0000,9,-999.0000,9,-999.0000,9,-999.0000,9,     -999.0,9,     -999.0,9,     -999.0,9,     -999.0,9,     -999.0,9
33RR20160208,       I08S,      29,          1,         11,         11,2,20160225,       2051,   -56.0580,    84.2612,       4822,  2000.5,   1.2277,  34.7293,2,  34.7287,2,    205.1,2,   204.9,2,   103.5,2,    0.00,2,   30.99,2,    0.00,2,    2.17,2,   0.237,2,   0.127,2,   0.006,2,         0.076,2,  -999.0,9, -999.00,9,-999.0000,9,  -999.00,   1.2278, -999.00,9,  -999.0,9,  -999.0, -999.00,1,-999.000,9,  -999.0,9, -999.00,9,     -999.0,9, -999.00,9, 20160225,     2151, -56.0580,  84.2612,     -999.0,9,     -999.0,9,     -999.0,9,-999.0000,9,-999.0000,9,-999.0000,9,-999.0000,9,-999.0000,9,-999.0000,9,-999.0000,9,     -999.0,9,     -999.0,9,     -999.0,9,     -999.0,9,     -999.0,9
33RR20160208,       I08S,      29,          1,         12,         12,2,20160225,       2051,   -56.0580,    84.2612,       4822,  1799.9,   1.4127,  34.7369,2,  34.7371,2,    203.1,2,   202.9,2,    97.3,2,    0.00,2,   30.80,2,    0.00,2,    2.14,2,   0.237,2,   0.127,2,   0.009,2,         0.081,2,  -999.0,9, -999.00,9,-999.0000,9,     9.00,   1.4127, -999.00,9,  -999.0,9,  -999.0, -999.00,1,-999.000,9,  -999.0,9, -999.00,9,     -999.0,9, -999.00,9, 20160225,     2156, -56.0580,  84.2612,     -999.0,9,     -999.0,9,     -999.0,9,-999.0000,9,-999.0000,9,-999.0000,9,-999.0000,9,-999.0000,9,-999.0000,9,-999.0000,9,     -999.0,9,     -999.0,9,     -999.0,9,     -999.0,9,     -999.0,9
33RR20160208,       I08S,      29,          1,         13,         13,2,20160225,       2051,   -56.0580,    84.2612,       4822,  1600.3,   1.5884,  34.7420,2,  34.7426,2,    200.8,2,   200.3,2,    92.6,2,    0.00,2,   30.54,2,    0.00,2,    2.12,2,   0.239,2,   0.130,2,   0.008,2,         0.085,2,  -999.0,9, -999.00,9,-999.0000,9,  -999.00,   1.5884, -999.00,9,  -999.0,9,  -999.0, -999.00,1,-999.000,9,  -999.0,9, -999.00,9,     -999.0,9, -999.00,9, 20160225,     2200, -56.0580,  84.2612,     -999.0,9,     -999.0,9,     -999.0,9,-999.0000,9,-999.0000,9,-999.0000,9,-999.0000,9,-999.0000,9,-999.0000,9,-999.0000,9,     -999.0,9,     -999.0,9,     -999.0,9,     -999.0,9,     -999.0,9
33RR20160208,       I08S,      29,          1,         14,         14,2,20160225,       2051,   -56.0580,    84.2612,       4822,  1499.0,   1.6648,  34.7420,2,  34.7454,2,    198.5,2,   198.8,2,    90.4,2,    0.00,2,   30.61,2,    0.00,2,    2.14,2,   0.251,2,   0.137,2,   0.010,2,         0.087,2,  -999.0,9, -999.00,9,-999.0000,9,  -999.00,   1.6646, -999.00,9,  -999.0,9,  -999.0, -999.00,1,-999.000,9,  -999.0,9, -999.00,9,     -999.0,9, -999.00,9, 20160225,     2204, -56.0580,  84.2612,     -999.0,9,     -999.0,9,     -999.0,9,-999.0000,9,-999.0000,9,-999.0000,9,-999.0000,9,-999.0000,9,-999.0000,9,-999.0000,9,     -999.0,9,     -999.0,9,     -999.0,9,     -999.0,9,     -999.0,9
33RR20160208,       I08S,      29,          1,         15,         15,2,20160225,       2051,   -56.0580,    84.2612,       4822,  1400.2,   1.7460,  34.7379,2,  34.7377,2,    196.7,2,   196.1,2,    88.0,2,    0.00,2,   30.68,2,    0.00,2,    2.14,2,   0.284,2,   0.153,2,   0.014,2,         0.064,2,  -999.0,9, -999.00,9,-999.0000,9,     9.00,   1.7459, -999.00,9,  -999.0,9,  -999.0, -999.00,1,-999.000,9,  -999.0,9, -999.00,9,     -999.0,9, -999.00,9, 20160225,     2207, -56.0580,  84.2612,     -999.0,9,     -999.0,9,     -999.0,9,-999.0000,9,-999.0000,9,-999.0000,9,-999.0000,9,-999.0000,9,-999.0000,9,-999.0000,9,     -999.0,9,     -999.0,9,     -999.0,9,     -999.0,9,     -999.0,9
33RR20160208,       I08S,      29,          1,         16,         16,2,20160225,       2051,   -56.0580,    84.2612,       4822,  1300.7,   1.8734,  34.7384,2,  34.7383,2,    193.0,2,   195.0,2,    85.4,2,    0.00,2,   30.58,2,    0.00,2,    2.14,2,   0.260,2,   0.140,2,   0.010,2,          0.11,2,  2246.8,2, 2347.57,2,   7.6017,6,    24.99,   1.8734, -999.00,9,  -999.0,9,  -999.0, -999.00,1,-999.000,9,  -999.0,9, -999.00,9,     -999.0,9, -999.00,9, 20160225,     2210, -56.0580,  84.2612,     -999.0,9,     -999.0,9,     -999.0,9,-999.0000,9,-999.0000,9,-999.0000,9,-999.0000,9,-999.0000,9,-999.0000,9,-999.0000,9,     -999.0,9,     -999.0,9,     -999.0,9,     -999.0,9,     -999.0,9
33RR20160208,       I08S,      29,          1,         17,         17,2,20160225,       2051,   -56.0580,    84.2612,       4822,  1199.7,   1.9435,  34.7304,2,  34.7304,2,    191.2,2,   191.5,2,    83.2,2,    0.00,2,   30.78,2,    0.00,2,    2.16,2,   0.281,2,   0.155,2,   0.012,2,         0.083,2,  -999.0,9, -999.00,9,-999.0000,9,  -999.00,   1.9434, -999.00,9,  -999.0,9,  -999.0, -999.00,1,-999.000,9,  -999.0,9, -999.00,9,     -999.0,9, -999.00,9, 20160225,     2213, -56.0580,  84.2612,     -999.0,9,     -999.0,9,     -999.0,9,-999.0000,9,-999.0000,9,-999.0000,9,-999.0000,9,-999.0000,9,-999.0000,9,-999.0000,9,     -999.0,9,     -999.0,9,     -999.0,9,     -999.0,9,     -999.0,9
33RR20160208,       I08S,      29,          1,         18,         37,2,20160225,       2051,   -56.0580,    84.2612,       4822,  1100.1,   2.0477,  34.7149,2,  34.7151,2,    187.9,2,   187.1,2,    80.4,2,    0.00,2,   31.12,2,    0.00,2,    2.19,2,   0.322,2,   0.173,2,   0.015,2,         0.162,2,  -999.0,9, -999.00,9,-999.0000,9,     9.00,   2.0477, -999.00,9,  -999.0,9,  -999.0, -999.00,1,-999.000,9,  -999.0,9, -999.00,9,     -999.0,9, -999.00,9, 20160225,     2215, -56.0580,  84.2612,     -999.0,9,     -999.0,9,     -999.0,9,-999.0000,9,-999.0000,9,-999.0000,9,-999.0000,9,-999.0000,9,-999.0000,9,-999.0000,9,     -999.0,9,     -999.0,9,     -999.0,9,     -999.0,9,     -999.0,9
33RR20160208,       I08S,      29,          1,         19,         19,2,20160225,       2051,   -56.0580,    84.2612,       4822,   999.8,   2.1340,  34.7075,2,  34.7067,2,    186.8,2,   186.3,2,    78.6,2,    0.00,2,   31.09,2,    0.00,2,    2.19,2,   0.324,2,   0.177,2,   0.015,2,         0.155,2,  -999.0,9, -999.00,9,-999.0000,9,  -999.00,   2.1337, -999.00,9,  -999.0,9,  -999.0, -999.00,1,-999.000,9,  -999.0,9, -999.00,9,     -999.0,9, -999.00,9, 20160225,     2218, -56.0580,  84.2612,     -999.0,9,     -999.0,9,     -999.0,9,-999.0000,9,-999.0000,9,-999.0000,9,-999.0000,9,-999.0000,9,-999.0000,9,-999.0000,9,     -999.0,9,     -999.0,9,     -999.0,9,     -999.0,9,     -999.0,9
33RR20160208,       I08S,      29,          1,         20,         20,2,20160225,       2051,   -56.0580,    84.2612,       4822,   900.5,   2.2579,  34.6855,2,  34.6849,2,    183.4,2,   183.2,2,    76.0,2,    0.00,2,   31.50,2,    0.00,2,    2.22,2,   0.342,2,   0.186,2,   0.015,2,         0.155,2,  2247.2,2, 2341.79,2,   7.5810,6,    25.01,   2.2575, -999.00,9,  -999.0,9,  -999.0, -999.00,1,-999.000,9,  -999.0,9, -999.00,9,     -999.0,9, -999.00,9, 20160225,     2221, -56.0580,  84.2612,     -999.0,9,     -999.0,9,     -999.0,9,-999.0000,9,-999.0000,9,-999.0000,9,-999.0000,9,-999.0000,9,-999.0000,9,-999.0000,9,     -999.0,9,     -999.0,9,     -999.0,9,     -999.0,9,     -999.0,9
33RR20160208,       I08S,      29,          1,         21,         21,2,20160225,       2051,   -56.0580,    84.2612,       4822,   800.2,   2.3196,  34.6599,2,  34.6598,2,    180.1,2,   180.1,2,    74.6,2,    0.00,2,   32.04,2,    0.00,2,    2.27,2,   0.417,2,   0.223,2,   0.020,2,          0.14,2,  -999.0,9, -999.00,9,-999.0000,9,     9.00,   2.3201, -999.00,9,  -999.0,9,  -999.0, -999.00,1,-999.000,9,  -999.0,9, -999.00,9,     -999.0,9, -999.00,9, 20160225,     2224, -56.0580,  84.2612,     -999.0,9,     -999.0,9,     -999.0,9,-999.0000,9,-999.0000,9,-999.0000,9,-999.0000,9,-999.0000,9,-999.0000,9,-999.0000,9,     -999.0,9,     -999.0,9,     -999.0,9,     -999.0,9,     -999.0,9
33RR20160208,       I08S,      29,          1,         22,         22,2,20160225,       2051,   -56.0580,    84.2612,       4822,   700.8,   2.3978,  34.6212,2,  34.6233,2,    176.3,2,   177.1,2,    72.5,2,    0.00,2,   32.77,2,    0.00,2,    2.26,2,   0.500,2,   0.261,2,   0.025,2,         0.145,2,  -999.0,9, -999.00,9,-999.0000,9,  -999.00,   2.3975, -999.00,9,  -999.0,9,  -999.0, -999.00,1,-999.000,9,  -999.0,9, -999.00,9,     -999.0,9, -999.00,9, 20160225,     2226, -56.0580,  84.2612,     -999.0,9,     -999.0,9,     -999.0,9,-999.0000,9,-999.0000,9,-999.0000,9,-999.0000,9,-999.0000,9,-999.0000,9,-999.0000,9,     -999.0,9,     -999.0,9,     -999.0,9,     -999.0,9,     -999.0,9
33RR20160208,       I08S,      29,          1,         23,         23,2,20160225,       2051,   -56.0580,    84.2612,       4822,   600.0,   2.4618,  34.5527,2,  34.5529,2,    174.8,2,   177.2,2,    69.0,2,    0.00,2,   33.59,2,    0.00,2,    2.36,2,   0.754,2,   0.387,2,   0.048,2,         0.212,2,  -999.0,9, -999.00,9,-999.0000,9,  -999.00,   2.4614, -999.00,9,  -999.0,9,  -999.0, -999.00,1,-999.000,9,  -999.0,9, -999.00,9,     -999.0,9, -999.00,9, 20160225,     2229, -56.0580,  84.2612,     -999.0,9,     -999.0,9,     -999.0,9,-999.0000,9,-999.0000,9,-999.0000,9,-999.0000,9,-999.0000,9,-999.0000,9,-999.0000,9,     -999.0,9,     -999.0,9,     -999.0,9,     -999.0,9,     -999.0,9
33RR20160208,       I08S,      29,          1,         24,         24,2,20160225,       2051,   -56.0580,    84.2612,       4822,   500.4,   2.5686,  34.5038,2,  34.5038,2,    178.0,2,   178.6,2,    65.0,2,    0.00,2,   33.67,2,    0.00,2,    2.36,2,   0.963,2,   0.481,2,   0.062,2,         0.288,2,  2247.5,2, 2327.62,2,   7.5511,6,    24.99,   2.5678, -999.00,9,  -999.0,9,  -999.0, -999.00,1,-999.000,9,  -999.0,9, -999.00,9,     -999.0,9, -999.00,9, 20160225,     2232, -56.0580,  84.2612,     -999.0,9,     -999.0,9,     -999.0,9,-999.0000,9,-999.0000,9,-999.0000,9,-999.0000,9,-999.0000,9,-999.0000,9,-999.0000,9,     -999.0,9,     -999.0,9,     -999.0,9,     -999.0,9,     -999.0,9
33RR20160208,       I08S,      29,          1,         25,         25,2,20160225,       2051,   -56.0580,    84.2612,       4822,   399.4,   2.5150,  34.3963,2,  34.3970,2,    183.2,2,   192.1,3,    57.0,2,    0.00,2,   33.85,2,    0.00,2,    2.39,2,   1.646,2,   0.828,2,   0.121,2,         0.525,2,  -999.0,9, -999.00,9,-999.0000,9,  -999.00,   2.5157, -999.00,9,  -999.0,9,  -999.0, -999.00,1,-999.000,9,  -999.0,9, -999.00,9,     -999.0,9, -999.00,9, 20160225,     2235, -56.0580,  84.2612,     -999.0,9,     -999.0,9,     -999.0,9,-999.0000,9,-999.0000,9,-999.0000,9,-999.0000,9,-999.0000,9,-999.0000,9,-999.0000,9,     -999.0,9,     -999.0,9,     -999.0,9,     -999.0,9,     -999.0,9
33RR20160208,       I08S,      29,          1,         26,         26,2,20160225,       2051,   -56.0580,    84.2612,       4822,   349.8,   2.7966,  34.3694,2,  34.3692,2,    198.1,2,   196.2,2,    51.3,2,    0.00,2,   33.36,2,    0.01,2,    2.35,2,   1.797,2,   0.911,2,   0.128,2,         0.547,2,  2230.6,2, 2312.68,2,   7.5624,2,    24.98,   2.7988, -999.00,9,  -999.0,9,  -999.0, -999.00,1,-999.000,9,  -999.0,9, -999.00,9,     -999.0,9, -999.00,9, 20160225,     2237, -56.0580,  84.2611,     -999.0,9,     -999.0,9,     -999.0,9,-999.0000,9,-999.0000,9,-999.0000,9,-999.0000,9,-999.0000,9,-999.0000,9,-999.0000,9,     -999.0,9,     -999.0,9,     -999.0,9,     -999.0,9,     -999.0,9
33RR20160208,       I08S,      29,          1,         27,         27,2,20160225,       2051,   -56.0580,    84.2612,       4822,   300.8,   2.9117,  34.3268,2,  34.3278,2,    203.0,2,   204.9,2,    46.3,2,    0.00,2,   32.68,2,    0.02,2,    2.31,2,   2.139,2,   1.083,2,   0.158,2,         0.656,2,  -999.0,9, -999.00,9,-999.0000,9,     9.00,   2.9138, -999.00,9,  -999.0,9,  -999.0, -999.00,1,-999.000,9,  -999.0,9, -999.00,9,     -999.0,9, -999.00,9, 20160225,     2239, -56.0580,  84.2612,     -999.0,9,     -999.0,9,     -999.0,9,-999.0000,9,-999.0000,9,-999.0000,9,-999.0000,9,-999.0000,9,-999.0000,9,-999.0000,9,     -999.0,9,     -999.0,9,     -999.0,9,     -999.0,9,     -999.0,9