BOTTLE,20220706CCHSIOAMB
EXPOCODE,SECT_ID,STNNBR,CASTNO,SAMPNO,BTLNBR,BTLNBR_FLAG_W,DATE,TIME,LATITUDE,LONGITUDE,DEPTH,CTDPRS,CTDTMP,CTDSAL,CTDSAL_FLAG_W,SALNTY,SALNTY_FLAG_W,CTDOXY,CTDOXY_FLAG_W,OXYGEN,OXYGEN_FLAG_W,SILCAT,SILCAT_FLAG_W,NH4,NH4_FLAG_W,NITRAT,NITRAT_FLAG_W,NITRIT,NITRIT_FLAG_W,PHSPHT,PHSPHT_FLAG_W,CFC-11,CFC-11_FLAG_W,CFC-12,CFC-12_FLAG_W,CFC113,CFC113_FLAG_W,SF6,SF6_FLAG_W,TCARBN,TCARBN_FLAG_W,ALKALI,ALKALI_FLAG_W,PH_TOT,PH_TOT_FLAG_W,PH_TMP,REFTMP,DELC13,DELC13_FLAG_W,DELC14,DELC14_FLAG_W,C14ERR,DELO18,DELO18_FLAG_W,POC,POC_FLAG_W,DOC,DOC_FLAG_W,TDN,TDN_FLAG_W,TON,TON_FLAG_W,D15N_NO3,D15N_NO3_FLAG_W,BTL_DATE,BTL_TIME,BTL_LAT,BTL_LON,14C-DOC,14C-DOC_FLAG_W,CHLORA,CHLORA_FLAG_W,HPLC,HPLC_FLAG_W,CDOM325,CDOM325_FLAG_W,CDOM340,CDOM340_FLAG_W,CDOM380,CDOM380_FLAG_W,CDOM412,CDOM412_FLAG_W,CDOM443,CDOM443_FLAG_W,CDOM490,CDOM490_FLAG_W,CDOM555,CDOM555_FLAG_W,CDOMSL,CDOMSL_FLAG_W,CDOMSN,CDOMSN_FLAG_W,D18O_NO3,D18O_NO3_FLAG_W,D15N_NO2+NO3,D15N_NO2+NO3_FLAG_W,D18O_NO2+NO3,D18O_NO2+NO3_FLAG_W
,,,,,,,,,,,METERS,DBAR,ITS-90,PSS-78,,PSS-78,,UMOL/KG,,UMOL/KG,,UMOL/KG,,UMOL/KG,,UMOL/KG,,UMOL/KG,,UMOL/KG,,PMOL/KG,,PMOL/KG,,PMOL/KG,,FMOL/KG,,UMOL/KG,,UMOL/KG,,,,DEG C,DEG C,/MILLE,,/MILLE,,/MILLE,/MILLE,,UG/KG,,UMOL/KG,,UMOL/KG,,UMOL/KG,,/MILLE,,,,,,/MILLE,,MG/M3,,,,1/M,,1/M,,1/M,,1/M,,1/M,,1/M,,1/M,,1/NM,,1/NM,,/MILLE,,/MILLE,,/MILLE,
33RR20160208,       I08S,       5,          1,         28,         28,2,20160219,       2235,   -66.2999,    78.1253,       2731,   149.2,  -1.7730,  34.3574,2,  34.3599,2,    306.6,2,   309.0,2,    59.2,2,    0.09,2,   29.80,2,    0.02,2,    2.08,2,   4.618,2,   2.657,2,   0.456,2,         2.384,2,  -999.0,9, -999.00,9,-999.0000,9,  -999.00,  -1.7720, -999.00,9,  -999.0,9,  -999.0, -999.00,1,-999.000,9,  -999.0,9, -999.00,9,     -999.0,9,     5.2,2, 20160220,        3, -66.2999,  78.1251,     -999.0,9,     -999.0,9,     -999.0,9,-999.0000,9,-999.0000,9,-999.0000,9,-999.0000,9,-999.0000,9,-999.0000,9,-999.0000,9,     -999.0,9,     -999.0,9,       2.62,2,       5.12,2,       2.38,2
33RR20160208,       I08S,       5,          1,         29,         29,2,20160219,       2235,   -66.2999,    78.1253,       2731,   124.2,  -1.7480,  34.3490,2,  34.3475,2,    305.5,2,   307.7,2,    58.8,2,    0.00,2,   29.80,2,    0.03,2,    2.07,2,   4.570,2,   2.651,2,   0.465,2,         2.489,2,  2217.1,2, 2320.49,2,   7.6148,6,    25.06,  -1.7525, -999.00,9,  -999.0,9,  -999.0, -999.00,1,-999.000,9,  -999.0,9, -999.00,9,     -999.0,9,    5.21,2, 20160220,        5, -66.2999,  78.1251,     -999.0,9,     -999.0,9,     -999.0,9,-999.0000,9,-999.0000,9,-999.0000,9,-999.0000,9,-999.0000,9,-999.0000,9,-999.0000,9,     -999.0,9,     -999.0,9,       2.52,2,       5.04,2,       2.36,2
33RR20160208,       I08S,       5,          1,         30,         30,2,20160219,       2235,   -66.2999,    78.1253,       2731,   100.4,  -1.8028,  34.3307,2,  34.3317,2,    304.0,2,   305.9,2,    58.0,2,    0.60,2,   29.83,2,    0.05,2,    2.07,2,   4.535,2,   2.624,2,   0.463,2,         2.554,2,  -999.0,9, -999.00,9,-999.0000,9,     9.00,  -1.8023, -999.00,9,  -999.0,9,  -999.0, -999.00,1,-999.000,9,  -999.0,9, -999.00,9,     -999.0,9,    5.19,2, 20160220,        6, -66.2999,  78.1253,     -999.0,9,     -999.0,9,     -999.0,9,-999.0000,9,-999.0000,9,-999.0000,9,-999.0000,9,-999.0000,9,-999.0000,9,-999.0000,9,     -999.0,9,     -999.0,9,       2.63,2,       5.05,2,       2.34,2
33RR20160208,       I08S,       5,          1,         31,         31,2,20160219,       2235,   -66.2999,    78.1253,       2731,    75.0,  -1.7819,  34.3148,2,  34.3152,2,    305.2,2,   304.1,2,    57.7,2,    0.52,2,   29.84,2,    0.10,2,    2.04,2,   4.424,2,   2.558,2,   0.452,2,         2.443,2,  2219.0,2, 2318.59,2,   7.6140,2,    25.00,  -1.7871, -999.00,9,  -999.0,9,  -999.0, -999.00,1,-999.000,9,  -999.0,9, -999.00,9,     -999.0,9,    5.18,2, 20160220,        8, -66.2999,  78.1251,     -999.0,9,     -999.0,9,     -999.0,9,-999.0000,9,-999.0000,9,-999.0000,9,-999.0000,9,-999.0000,9,-999.0000,9,-999.0000,9,     -999.0,9,     -999.0,9,       2.54,2,       5.11,2,       2.46,2
33RR20160208,       I08S,       5,          1,         32,         32,2,20160219,       2235,   -66.2999,    78.1253,       2731,    49.0,  -1.7217,  34.2159,2,  34.2221,2,    304.5,2,   304.1,2,    56.6,2,    0.79,2,   29.34,2,    0.11,2,    2.04,2,   4.302,2,   2.464,2,   0.438,2,         2.553,2,  2209.3,2, 2313.70,6,   7.6175,2,    25.07,  -1.7214, -999.00,9,  -999.0,9,  -999.0, -999.00,1,-999.000,9,  -999.0,9, -999.00,9,     -999.0,9,    5.32,2, 20160220,       10, -66.2999,  78.1251,     -999.0,9,     -999.0,9,     -999.0,9,-999.0000,9,-999.0000,9,-999.0000,9,-999.0000,9,-999.0000,9,-999.0000,9,-999.0000,9,     -999.0,9,     -999.0,9,       2.66,2,       5.08,2,       2.47,2
33RR20160208,       I08S,       5,          1,         33,         33,2,20160219,       2235,   -66.2999,    78.1253,       2731,    24.4,  -1.3871,  33.7070,2,  33.6509,2,    330.4,2,   327.7,2,    49.7,2,    1.19,2,   26.09,2,    0.10,2,    1.80,2,   4.629,2,   2.622,2,   0.464,2,         2.476,2,  2160.1,6, 2278.98,2,   7.6716,2,    25.07,  -1.3786, -999.00,9,  -999.0,9,  -999.0, -999.00,1,-999.000,9,  -999.0,9, -999.00,9,     -999.0,9,    6.14,2, 20160220,       12, -66.2999,  78.1252,     -999.0,9,     -999.0,9,     -999.0,9,-999.0000,9,-999.0000,9,-999.0000,9,-999.0000,9,-999.0000,9,-999.0000,9,-999.0000,9,     -999.0,9,     -999.0,9,       3.18,2,        5.8,2,       2.92,2
33RR20160208,       I08S,       5,          1,         34,         34,2,20160219,       2235,   -66.2999,    78.1253,       2731,     4.8,  -0.8450,  33.1087,2,  33.1092,2,    344.9,2,   345.4,2,    43.6,2,    0.44,2,   23.75,2,    0.15,2,    1.58,2,   5.287,2,   3.038,2,   0.545,2,         3.024,2,  2119.4,2, 2243.38,2,   7.7008,2,    25.06,  -0.8447, -999.00,9,  -999.0,9,  -999.0, -999.00,1,-999.000,9,  -999.0,9, -999.00,9,     -999.0,9,     6.9,2, 20160220,       15, -66.2999,  78.1252,     -999.0,9,     -999.0,9,     -999.0,9,-999.0000,9,-999.0000,9,-999.0000,9,-999.0000,9,-999.0000,9,-999.0000,9,-999.0000,9,     -999.0,9,     -999.0,9,       3.72,2,       6.38,2,       3.19,2