BOTTLE,20220706CCHSIOAMB
EXPOCODE,SECT_ID,STNNBR,CASTNO,SAMPNO,BTLNBR,BTLNBR_FLAG_W,DATE,TIME,LATITUDE,LONGITUDE,DEPTH,CTDPRS,CTDTMP,CTDSAL,CTDSAL_FLAG_W,SALNTY,SALNTY_FLAG_W,CTDOXY,CTDOXY_FLAG_W,OXYGEN,OXYGEN_FLAG_W,SILCAT,SILCAT_FLAG_W,NH4,NH4_FLAG_W,NITRAT,NITRAT_FLAG_W,NITRIT,NITRIT_FLAG_W,PHSPHT,PHSPHT_FLAG_W,CFC-11,CFC-11_FLAG_W,CFC-12,CFC-12_FLAG_W,CFC113,CFC113_FLAG_W,SF6,SF6_FLAG_W,TCARBN,TCARBN_FLAG_W,ALKALI,ALKALI_FLAG_W,PH_TOT,PH_TOT_FLAG_W,PH_TMP,REFTMP,DELC13,DELC13_FLAG_W,DELC14,DELC14_FLAG_W,C14ERR,DELO18,DELO18_FLAG_W,POC,POC_FLAG_W,DOC,DOC_FLAG_W,TDN,TDN_FLAG_W,TON,TON_FLAG_W,D15N_NO3,D15N_NO3_FLAG_W,BTL_DATE,BTL_TIME,BTL_LAT,BTL_LON,14C-DOC,14C-DOC_FLAG_W,CHLORA,CHLORA_FLAG_W,HPLC,HPLC_FLAG_W,CDOM325,CDOM325_FLAG_W,CDOM340,CDOM340_FLAG_W,CDOM380,CDOM380_FLAG_W,CDOM412,CDOM412_FLAG_W,CDOM443,CDOM443_FLAG_W,CDOM490,CDOM490_FLAG_W,CDOM555,CDOM555_FLAG_W,CDOMSL,CDOMSL_FLAG_W,CDOMSN,CDOMSN_FLAG_W,D18O_NO3,D18O_NO3_FLAG_W,D15N_NO2+NO3,D15N_NO2+NO3_FLAG_W,D18O_NO2+NO3,D18O_NO2+NO3_FLAG_W
,,,,,,,,,,,METERS,DBAR,ITS-90,PSS-78,,PSS-78,,UMOL/KG,,UMOL/KG,,UMOL/KG,,UMOL/KG,,UMOL/KG,,UMOL/KG,,UMOL/KG,,PMOL/KG,,PMOL/KG,,PMOL/KG,,FMOL/KG,,UMOL/KG,,UMOL/KG,,,,DEG C,DEG C,/MILLE,,/MILLE,,/MILLE,/MILLE,,UG/KG,,UMOL/KG,,UMOL/KG,,UMOL/KG,,/MILLE,,,,,,/MILLE,,MG/M3,,,,1/M,,1/M,,1/M,,1/M,,1/M,,1/M,,1/M,,1/NM,,1/NM,,/MILLE,,/MILLE,,/MILLE,
33RR20160208,       I08S,      35,          1,         28,         28,2,20160227,       2318,   -53.5264,    87.0235,       4602,   299.4,   1.8057,  34.3002,2,  34.2976,2,    229.5,2,   223.2,2,    54.4,2,    0.01,2,   33.22,2,    0.01,2,    2.31,2,   2.668,2,   1.380,2,   0.222,2,         1.088,2,  2227.8,2, 2310.54,2,   7.5606,6,    24.98,   1.8148, -999.00,9,  -999.0,9,  -999.0, -999.00,1,-999.000,9,  -999.0,9, -999.00,9,     -999.0,9,     5.2,2, 20160228,       28, -53.5270,  87.0226,     -999.0,9,     -999.0,9,     -999.0,9,-999.0000,9,-999.0000,9,-999.0000,9,-999.0000,9,-999.0000,9,-999.0000,9,-999.0000,9,     -999.0,9,     -999.0,9,       2.41,2,       5.15,2,       2.33,2
33RR20160208,       I08S,      35,          1,         29,         29,2,20160227,       2318,   -53.5264,    87.0235,       4602,   250.7,   1.2435,  34.1622,2,  34.1640,2,    261.0,2,   267.8,2,    44.8,2,    0.01,2,   31.44,2,    0.07,2,    2.18,2,   3.878,2,   2.077,2,   0.355,2,         1.847,2,  -999.0,9, -999.00,9,-999.0000,9,  -999.00,   1.2337, -999.00,9,  -999.0,9,  -999.0, -999.00,1,-999.000,9,  -999.0,9, -999.00,9,     -999.0,9,    5.31,2, 20160228,       29, -53.5271,  87.0226,     -999.0,9,     -999.0,9,     -999.0,9,-999.0000,9,-999.0000,9,-999.0000,9,-999.0000,9,-999.0000,9,-999.0000,9,-999.0000,9,     -999.0,9,     -999.0,9,       2.54,2,       5.09,2,       2.31,2
33RR20160208,       I08S,      35,          1,         30,         30,2,20160227,       2318,   -53.5264,    87.0235,       4602,   197.4,   1.0241,  34.0566,2,  34.0601,2,    302.4,2,   303.2,2,    37.2,2,    0.35,2,   29.02,2,    0.27,2,    2.04,2,   4.806,2,   2.575,2,   0.444,2,         2.451,2,  2190.0,2, 2297.62,2,   7.6312,2,    24.98,   1.0459, -999.00,9,  -999.0,9,  -999.0, -999.00,1,-999.000,9,  -999.0,9, -999.00,9,     -999.0,9,    5.67,2, 20160228,       30, -53.5270,  87.0226,     -999.0,9,     -999.0,9,     -999.0,9,-999.0000,9,-999.0000,9,-999.0000,9,-999.0000,9,-999.0000,9,-999.0000,9,-999.0000,9,     -999.0,9,     -999.0,9,       2.72,2,       5.32,2,       2.84,2
33RR20160208,       I08S,      35,          1,         31,         31,2,20160227,       2318,   -53.5264,    87.0235,       4602,   149.3,   1.9465,  34.0128,2,  34.0128,2,    314.2,2,   297.9,2,    28.4,2,    0.27,2,   28.10,2,    0.19,2,    1.97,2,   4.710,2,   2.538,2,   0.434,2,         2.255,2,  2180.0,2, 2290.50,2,   7.6445,2,    25.00,   1.9949, -999.00,9,  -999.0,9,  -999.0, -999.00,1,-999.000,9,  -999.0,9, -999.00,9,     -999.0,9,    5.87,2, 20160228,       31, -53.5270,  87.0226,     -999.0,9,     -999.0,9,     -999.0,9,-999.0000,9,-999.0000,9,-999.0000,9,-999.0000,9,-999.0000,9,-999.0000,9,-999.0000,9,     -999.0,9,     -999.0,9,       2.93,2,       5.51,2,       2.82,2
33RR20160208,       I08S,      35,          1,         32,         32,2,20160227,       2318,   -53.5264,    87.0235,       4602,    97.2,   2.6983,  33.9028,2,  33.9005,2,    318.4,2,   324.0,2,    20.1,2,    0.53,2,   24.73,2,    0.23,2,    1.74,2,   5.062,2,   2.735,2,   0.479,2,         2.692,2,  2155.3,2, 2287.54,2,   7.7018,2,    25.00,   2.7142, -999.00,9,  -999.0,9,  -999.0, -999.00,1,-999.000,9,  -999.0,9, -999.00,9,     -999.0,9,    7.05,2, 20160228,       31, -53.5270,  87.0226,     -999.0,9,     -999.0,9,     -999.0,9,-999.0000,9,-999.0000,9,-999.0000,9,-999.0000,9,-999.0000,9,-999.0000,9,-999.0000,9,     -999.0,9,     -999.0,9,       3.46,2,       6.32,2,       3.35,2
33RR20160208,       I08S,      35,          1,         33,         33,2,20160227,       2318,   -53.5264,    87.0235,       4602,    72.5,   3.1878,  33.8815,2,  33.8831,2,    321.5,2,   322.9,2,    17.3,2,    0.30,2,   24.13,2,    0.22,2,    1.68,2,   4.912,2,   2.671,2,   0.469,2,         2.648,2,  2149.1,2, 2285.28,2,   7.7135,6,    24.97,   3.2279, -999.00,9,  -999.0,9,  -999.0, -999.00,1,-999.000,9,  -999.0,9, -999.00,9,     -999.0,9,    7.21,2, 20160228,       32, -53.5270,  87.0226,     -999.0,9,     -999.0,9,     -999.0,9,-999.0000,9,-999.0000,9,-999.0000,9,-999.0000,9,-999.0000,9,-999.0000,9,-999.0000,9,     -999.0,9,     -999.0,9,       3.55,2,       6.47,2,       3.48,2
33RR20160208,       I08S,      35,          1,         34,         34,2,20160227,       2318,   -53.5264,    87.0235,       4602,    47.4,   3.3770,  33.8740,2,  33.8751,2,    320.6,2,   322.3,2,    15.4,2,    0.21,2,   23.68,2,    0.21,2,    1.65,2,   4.893,2,   2.658,2,   0.463,2,         2.586,2,  -999.0,9, -999.00,9,-999.0000,9,  -999.00,   3.3801, -999.00,9,  -999.0,9,  -999.0, -999.00,1,-999.000,9,  -999.0,9, -999.00,9,     -999.0,9,    7.22,2, 20160228,       33, -53.5270,  87.0226,     -999.0,9,     -999.0,9,     -999.0,9,-999.0000,9,-999.0000,9,-999.0000,9,-999.0000,9,-999.0000,9,-999.0000,9,-999.0000,9,     -999.0,9,     -999.0,9,       3.57,2,       6.54,2,       3.59,2
33RR20160208,       I08S,      35,          1,         35,         35,2,20160227,       2318,   -53.5264,    87.0235,       4602,    24.4,   3.3899,  33.8733,2,  33.8742,2,    321.3,2,   322.6,2,    15.2,2,    0.21,2,   23.63,2,    0.21,2,    1.63,2,   4.875,2,   2.639,2,   0.464,2,         2.632,2,  2144.7,2, 2283.49,2,   7.7195,2,    24.97,   3.3899, -999.00,9,  -999.0,9,  -999.0, -999.00,1,-999.000,9,  -999.0,9, -999.00,9,     -999.0,9,    7.23,2, 20160228,       33, -53.5270,  87.0227,     -999.0,9,     -999.0,9,     -999.0,9,-999.0000,9,-999.0000,9,-999.0000,9,-999.0000,9,-999.0000,9,-999.0000,9,-999.0000,9,     -999.0,9,     -999.0,9,       3.67,2,       6.54,2,       3.59,2
33RR20160208,       I08S,      35,          1,         36,         36,2,20160227,       2318,   -53.5264,    87.0235,       4602,     7.9,   3.3993,  33.8731,2,  33.8738,2,    321.3,2,   322.3,2,    15.1,2,    0.21,2,   23.59,2,    0.21,2,    1.63,2,   4.776,2,   2.608,2,   0.459,2,         2.583,2,  2145.6,2, 2284.28,2,   7.7200,6,    24.99,   3.3994, -999.00,9,  -999.0,9,  -999.0, -999.00,1,-999.000,9,  -999.0,9, -999.00,9,     -999.0,9,    7.24,2, 20160228,       34, -53.5270,  87.0226,     -999.0,9,     -999.0,9,     -999.0,9,-999.0000,9,-999.0000,9,-999.0000,9,-999.0000,9,-999.0000,9,-999.0000,9,-999.0000,9,     -999.0,9,     -999.0,9,       3.62,2,       6.55,2,       3.49,2