BOTTLE,20220706CCHSIOAMB
EXPOCODE,SECT_ID,STNNBR,CASTNO,SAMPNO,BTLNBR,BTLNBR_FLAG_W,DATE,TIME,LATITUDE,LONGITUDE,DEPTH,CTDPRS,CTDTMP,CTDSAL,CTDSAL_FLAG_W,SALNTY,SALNTY_FLAG_W,CTDOXY,CTDOXY_FLAG_W,OXYGEN,OXYGEN_FLAG_W,SILCAT,SILCAT_FLAG_W,NH4,NH4_FLAG_W,NITRAT,NITRAT_FLAG_W,NITRIT,NITRIT_FLAG_W,PHSPHT,PHSPHT_FLAG_W,CFC-11,CFC-11_FLAG_W,CFC-12,CFC-12_FLAG_W,CFC113,CFC113_FLAG_W,SF6,SF6_FLAG_W,TCARBN,TCARBN_FLAG_W,ALKALI,ALKALI_FLAG_W,PH_TOT,PH_TOT_FLAG_W,PH_TMP,REFTMP,DELC13,DELC13_FLAG_W,DELC14,DELC14_FLAG_W,C14ERR,DELO18,DELO18_FLAG_W,POC,POC_FLAG_W,DOC,DOC_FLAG_W,TDN,TDN_FLAG_W,TON,TON_FLAG_W,D15N_NO3,D15N_NO3_FLAG_W,BTL_DATE,BTL_TIME,BTL_LAT,BTL_LON,14C-DOC,14C-DOC_FLAG_W,CHLORA,CHLORA_FLAG_W,HPLC,HPLC_FLAG_W,CDOM325,CDOM325_FLAG_W,CDOM340,CDOM340_FLAG_W,CDOM380,CDOM380_FLAG_W,CDOM412,CDOM412_FLAG_W,CDOM443,CDOM443_FLAG_W,CDOM490,CDOM490_FLAG_W,CDOM555,CDOM555_FLAG_W,CDOMSL,CDOMSL_FLAG_W,CDOMSN,CDOMSN_FLAG_W,D18O_NO3,D18O_NO3_FLAG_W,D15N_NO2+NO3,D15N_NO2+NO3_FLAG_W,D18O_NO2+NO3,D18O_NO2+NO3_FLAG_W
,,,,,,,,,,,METERS,DBAR,ITS-90,PSS-78,,PSS-78,,UMOL/KG,,UMOL/KG,,UMOL/KG,,UMOL/KG,,UMOL/KG,,UMOL/KG,,UMOL/KG,,PMOL/KG,,PMOL/KG,,PMOL/KG,,FMOL/KG,,UMOL/KG,,UMOL/KG,,,,DEG C,DEG C,/MILLE,,/MILLE,,/MILLE,/MILLE,,UG/KG,,UMOL/KG,,UMOL/KG,,UMOL/KG,,/MILLE,,,,,,/MILLE,,MG/M3,,,,1/M,,1/M,,1/M,,1/M,,1/M,,1/M,,1/M,,1/NM,,1/NM,,/MILLE,,/MILLE,,/MILLE,
33RR20160208,       I08S,      31,          3,         28,         28,2,20160226,       1024,   -55.1951,    85.1891,       4711,   236.3,   1.9911,  34.2396,2,  34.2361,2,    228.8,2,   228.4,2,    46.7,2,    0.00,2,   33.02,2,    0.00,2,    2.28,2,   2.928,2,   1.518,2,  -0.068,2,   0.956749865,2,  -999.0,9, -999.00,9,-999.0000,9,  -999.00,   1.9911, -999.00,9,  -999.0,9,  -999.0, -999.00,9,-999.000,9,  -999.0,9, -999.00,9,     -999.0,9, -999.00,9, 20160226,     1226, -55.1950,  85.1892,     -999.0,9,     -999.0,9,     -999.0,9,-999.0000,9,-999.0000,9,-999.0000,9,-999.0000,9,-999.0000,9,-999.0000,9,-999.0000,9,     -999.0,9,     -999.0,9,     -999.0,9,     -999.0,9,     -999.0,9
33RR20160208,       I08S,      31,          3,         29,         29,2,20160226,       1024,   -55.1951,    85.1891,       4711,   186.0,   1.5918,  34.0851,2,  34.0836,2,    266.9,2,   270.7,2,    35.3,2,    0.00,2,   30.96,2,    0.02,2,    2.14,2,   4.034,2,   2.102,2,  -0.001,2,    1.33884171,2,  2198.8,2, 2295.14,2,   7.6051,6,    24.99,   1.5976, -999.00,9,  -999.0,9,  -999.0, -999.00,9,-999.000,9,  -999.0,9, -999.00,9,     -999.0,9, -999.00,9, 20160226,     1228, -55.1950,  85.1892,     -999.0,9,     -999.0,9,     -999.0,9,-999.0000,9,-999.0000,9,-999.0000,9,-999.0000,9,-999.0000,9,-999.0000,9,-999.0000,9,     -999.0,9,     -999.0,9,     -999.0,9,     -999.0,9,     -999.0,9
33RR20160208,       I08S,      31,          3,         30,         30,2,20160226,       1024,   -55.1951,    85.1891,       4711,   141.4,   1.8224,  34.0002,2,  33.9975,2,    293.6,2,   292.8,2,    27.5,2,    0.00,2,   29.38,2,    0.05,2,    2.03,2,   4.624,2,   2.475,2,   0.036,2,    1.89728363,2,  -999.0,9, -999.00,9,-999.0000,9,     9.00,   1.8232, -999.00,9,  -999.0,9,  -999.0, -999.00,9,-999.000,9,  -999.0,9, -999.00,9,     -999.0,9, -999.00,9, 20160226,     1230, -55.1950,  85.1892,     -999.0,9,     -999.0,9,     -999.0,9,-999.0000,9,-999.0000,9,-999.0000,9,-999.0000,9,-999.0000,9,-999.0000,9,-999.0000,9,     -999.0,9,     -999.0,9,     -999.0,9,     -999.0,9,     -999.0,9
33RR20160208,       I08S,      31,          3,         31,         31,2,20160226,       1024,   -55.1951,    85.1891,       4711,   114.8,   2.1556,  33.9612,2,  33.9609,2,    301.1,2,   301.9,2,    23.4,2,    0.00,2,   28.23,2,    0.19,2,    1.95,2,   4.834,2,   2.594,2,   0.434,2,    2.22261912,2,  2177.4,2, 2285.37,2,   7.6494,6,    24.98,   2.1503, -999.00,9,  -999.0,9,  -999.0, -999.00,9,-999.000,9,  -999.0,9, -999.00,9,     -999.0,9, -999.00,9, 20160226,     1232, -55.1950,  85.1892,     -999.0,9,0.121749906,2,     -999.0,9,-999.0000,9,-999.0000,9,-999.0000,9,-999.0000,9,-999.0000,9,-999.0000,9,-999.0000,9,     -999.0,9,     -999.0,9,     -999.0,9,     -999.0,9,     -999.0,9
33RR20160208,       I08S,      31,          3,         32,         32,2,20160226,       1024,   -55.1951,    85.1891,       4711,    90.5,   2.5485,  33.9213,2,  33.9211,2,    312.1,2,   311.7,2,    19.4,2,    0.21,2,   26.48,2,    0.25,2,    1.85,2,   4.881,2,   2.652,2,   0.457,2,    2.33410481,2,  -999.0,9, -999.00,9,-999.0000,9,  -999.00,   2.5531, -999.00,9,  -999.0,9,  -999.0, -999.00,9,-999.000,9,  -999.0,9, -999.00,9,     -999.0,9, -999.00,9, 20160226,     1234, -55.1950,  85.1892,     -999.0,9,0.467270757,2,     -999.0,9,-999.0000,9,-999.0000,9,-999.0000,9,-999.0000,9,-999.0000,9,-999.0000,9,-999.0000,9,     -999.0,9,     -999.0,9,     -999.0,9,     -999.0,9,     -999.0,9
33RR20160208,       I08S,      31,          3,         33,         33,2,20160226,       1024,   -55.1951,    85.1891,       4711,    65.7,   3.2144,  33.8819,2,  33.8822,2,    319.3,2,   321.6,2,    14.4,2,    0.20,2,   24.50,2,    0.22,2,    1.69,2,   4.849,2,   2.618,2,   0.457,2,    2.38072609,2,  2147.8,2, 2282.75,2,   7.7124,6,    24.97,   3.2146, -999.00,9,  -999.0,9,  -999.0, -999.00,9,-999.000,9,  -999.0,9, -999.00,9,     -999.0,9, -999.00,9, 20160226,     1236, -55.1950,  85.1893,     -999.0,9,1.663436024,3,     -999.0,9,-999.0000,9,-999.0000,9,-999.0000,9,-999.0000,9,-999.0000,9,-999.0000,9,-999.0000,9,     -999.0,9,     -999.0,9,     -999.0,9,     -999.0,9,     -999.0,9
33RR20160208,       I08S,      31,          3,         34,         34,2,20160226,       1024,   -55.1951,    85.1891,       4711,    40.9,   3.4166,  33.8800,2,  33.8798,2,    325.0,2,   324.9,2,    13.1,2,    0.13,2,   24.04,2,    0.22,2,    1.63,2,   4.837,2,   2.574,2,   0.449,2,    1.89525662,2,  -999.0,9, -999.00,9,-999.0000,9,  -999.00,   3.4162, -999.00,9,  -999.0,9,  -999.0, -999.00,9,-999.000,9,  -999.0,9, -999.00,9,     -999.0,9, -999.00,9, 20160226,     1239, -55.1950,  85.1893,     -999.0,9,1.068163838,3,     -999.0,9,-999.0000,9,-999.0000,9,-999.0000,9,-999.0000,9,-999.0000,9,-999.0000,9,-999.0000,9,     -999.0,9,     -999.0,9,     -999.0,9,     -999.0,9,     -999.0,9
33RR20160208,       I08S,      31,          3,         35,         35,2,20160226,       1024,   -55.1951,    85.1891,       4711,    20.9,   4.3088,  33.8385,2,  33.8386,2,    317.5,2,   319.3,2,     9.6,2,    0.13,2,   22.75,2,    0.22,2,    1.54,2,   4.712,2,   2.559,2,   0.439,2,    2.22363263,2,  2136.2,2, 2278.57,2,   7.7404,2,    24.98,   4.3064, -999.00,9,  -999.0,9,  -999.0, -999.00,9,-999.000,9,  -999.0,9, -999.00,9,     -999.0,9, -999.00,9, 20160226,     1240, -55.1950,  85.1892,     -999.0,9,-0.351670452,4,     -999.0,9,-999.0000,9,-999.0000,9,-999.0000,9,-999.0000,9,-999.0000,9,-999.0000,9,-999.0000,9,     -999.0,9,     -999.0,9,     -999.0,9,     -999.0,9,     -999.0,9
33RR20160208,       I08S,      31,          3,         36,         36,2,20160226,       1024,   -55.1951,    85.1891,       4711,     5.5,   4.3977,  33.8339,2,  33.8339,2,    318.8,2,   318.6,2,     9.2,2,    0.13,2,   22.63,2,    0.22,2,    1.54,2,   4.609,2,   2.463,2,   0.443,2,         1.876,2,  2133.0,2, 2278.62,2,   7.7430,6,    24.98,   4.3980, -999.00,9,  -999.0,9,  -999.0, -999.00,9,-999.000,9,  -999.0,9, -999.00,9,     -999.0,9, -999.00,9, 20160226,     1243, -55.1950,  85.1892,     -999.0,9,0.393767492,2,     -999.0,9,-999.0000,9,-999.0000,9,-999.0000,9,-999.0000,9,-999.0000,9,-999.0000,9,-999.0000,9,     -999.0,9,     -999.0,9,     -999.0,9,     -999.0,9,     -999.0,9