BOTTLE,20220706CCHSIOAMB
EXPOCODE,SECT_ID,STNNBR,CASTNO,SAMPNO,BTLNBR,BTLNBR_FLAG_W,DATE,TIME,LATITUDE,LONGITUDE,DEPTH,CTDPRS,CTDTMP,CTDSAL,CTDSAL_FLAG_W,SALNTY,SALNTY_FLAG_W,CTDOXY,CTDOXY_FLAG_W,OXYGEN,OXYGEN_FLAG_W,SILCAT,SILCAT_FLAG_W,NH4,NH4_FLAG_W,NITRAT,NITRAT_FLAG_W,NITRIT,NITRIT_FLAG_W,PHSPHT,PHSPHT_FLAG_W,CFC-11,CFC-11_FLAG_W,CFC-12,CFC-12_FLAG_W,CFC113,CFC113_FLAG_W,SF6,SF6_FLAG_W,TCARBN,TCARBN_FLAG_W,ALKALI,ALKALI_FLAG_W,PH_TOT,PH_TOT_FLAG_W,PH_TMP,REFTMP,DELC13,DELC13_FLAG_W,DELC14,DELC14_FLAG_W,C14ERR,DELO18,DELO18_FLAG_W,POC,POC_FLAG_W,DOC,DOC_FLAG_W,TDN,TDN_FLAG_W,TON,TON_FLAG_W,D15N_NO3,D15N_NO3_FLAG_W,BTL_DATE,BTL_TIME,BTL_LAT,BTL_LON,14C-DOC,14C-DOC_FLAG_W,CHLORA,CHLORA_FLAG_W,HPLC,HPLC_FLAG_W,CDOM325,CDOM325_FLAG_W,CDOM340,CDOM340_FLAG_W,CDOM380,CDOM380_FLAG_W,CDOM412,CDOM412_FLAG_W,CDOM443,CDOM443_FLAG_W,CDOM490,CDOM490_FLAG_W,CDOM555,CDOM555_FLAG_W,CDOMSL,CDOMSL_FLAG_W,CDOMSN,CDOMSN_FLAG_W,D18O_NO3,D18O_NO3_FLAG_W,D15N_NO2+NO3,D15N_NO2+NO3_FLAG_W,D18O_NO2+NO3,D18O_NO2+NO3_FLAG_W
,,,,,,,,,,,METERS,DBAR,ITS-90,PSS-78,,PSS-78,,UMOL/KG,,UMOL/KG,,UMOL/KG,,UMOL/KG,,UMOL/KG,,UMOL/KG,,UMOL/KG,,PMOL/KG,,PMOL/KG,,PMOL/KG,,FMOL/KG,,UMOL/KG,,UMOL/KG,,,,DEG C,DEG C,/MILLE,,/MILLE,,/MILLE,/MILLE,,UG/KG,,UMOL/KG,,UMOL/KG,,UMOL/KG,,/MILLE,,,,,,/MILLE,,MG/M3,,,,1/M,,1/M,,1/M,,1/M,,1/M,,1/M,,1/M,,1/NM,,1/NM,,/MILLE,,/MILLE,,/MILLE,
33RR20160208,       I08S,      31,          3,          1,          1,2,20160226,       1024,   -55.1951,    85.1891,       4711,  4739.9,   0.0814,  34.6621,2,  34.6617,2,    232.2,2,   231.5,2,   127.8,2,    0.00,2,   32.32,2,    0.00,2,    2.23,2,   1.341,2,   0.641,2,   0.093,2,   0.306078876,2,  2258.3,6, 2356.00,2,   7.5935,2,    24.98,   0.0813, -999.00,9,  -999.0,9,  -999.0, -999.00,9,-999.000,9,  -999.0,9, -999.00,9,     -999.0,9, -999.00,9, 20160226,     1024, -55.1951,  85.1891,     -999.0,9,     -999.0,9,     -999.0,9,-999.0000,9,-999.0000,9,-999.0000,9,-999.0000,9,-999.0000,9,-999.0000,9,-999.0000,9,     -999.0,9,     -999.0,9,     -999.0,9,     -999.0,9,     -999.0,9
33RR20160208,       I08S,      31,          3,          2,          2,2,20160226,       1024,   -55.1951,    85.1891,       4711,  4320.7,   0.0816,  34.6647,2,  34.6637,2,    228.9,2,   230.7,2,   128.0,2,    0.00,2,   32.33,2,    0.00,2,    2.23,2,   1.223,2,   0.599,2,   0.084,2,   0.250336035,2,  -999.0,9, -999.00,9,-999.0000,9,  -999.00,   0.0819, -999.00,9,  -999.0,9,  -999.0, -999.00,9,-999.000,9,  -999.0,9, -999.00,9,     -999.0,9, -999.00,9, 20160226,     1035, -55.1951,  85.1892,     -999.0,9,     -999.0,9,     -999.0,9,-999.0000,9,-999.0000,9,-999.0000,9,-999.0000,9,-999.0000,9,-999.0000,9,-999.0000,9,     -999.0,9,     -999.0,9,     -999.0,9,     -999.0,9,     -999.0,9
33RR20160208,       I08S,      31,          3,          3,          3,2,20160226,       1024,   -55.1951,    85.1891,       4711,  3901.9,   0.1359,  34.6693,2,  34.6688,2,    226.6,2,   227.4,2,   126.7,2,    0.00,2,   32.44,2,    0.00,2,    2.24,2,   0.978,6,   0.482,6,   0.054,6,             0,2,  -999.0,9, -999.00,9,-999.0000,9,     9.00,   0.1361, -999.00,9,  -999.0,9,  -999.0, -999.00,9,-999.000,9,  -999.0,9, -999.00,9,     -999.0,9, -999.00,9, 20160226,     1045, -55.1951,  85.1891,     -999.0,9,     -999.0,9,     -999.0,9,-999.0000,9,-999.0000,9,-999.0000,9,-999.0000,9,-999.0000,9,-999.0000,9,-999.0000,9,     -999.0,9,     -999.0,9,     -999.0,9,     -999.0,9,     -999.0,9
33RR20160208,       I08S,      31,          3,          4,          4,2,20160226,       1024,   -55.1951,    85.1891,       4711,  3499.1,   0.2242,  34.6745,2,  34.6739,2,    223.1,2,   223.3,2,   125.4,2,    0.00,2,   32.45,2,    0.00,2,    2.24,2,   0.746,2,   0.361,2,   0.007,2,   0.155066451,2,  -999.0,9, -999.00,9,-999.0000,9,  -999.00,   0.2243, -999.00,9,  -999.0,9,  -999.0, -999.00,9,-999.000,9,  -999.0,9, -999.00,9,     -999.0,9, -999.00,9, 20160226,     1054, -55.1951,  85.1892,     -999.0,9,     -999.0,9,     -999.0,9,-999.0000,9,-999.0000,9,-999.0000,9,-999.0000,9,-999.0000,9,-999.0000,9,-999.0000,9,     -999.0,9,     -999.0,9,     -999.0,9,     -999.0,9,     -999.0,9
33RR20160208,       I08S,      31,          3,          5,          5,2,20160226,       1024,   -55.1951,    85.1891,       4711,  3203.1,   0.3295,  34.6798,2,  34.6784,2,    219.4,2,   221.0,2,   124.2,2,    0.00,2,   32.45,2,    0.00,2,    2.25,2,   0.541,2,   0.276,2,  -0.024,2,   0.177363587,2,  -999.0,9, -999.00,9,-999.0000,9,  -999.00,   0.3299, -999.00,9,  -999.0,9,  -999.0, -999.00,9,-999.000,9,  -999.0,9, -999.00,9,     -999.0,9, -999.00,9, 20160226,     1100, -55.1950,  85.1893,     -999.0,9,     -999.0,9,     -999.0,9,-999.0000,9,-999.0000,9,-999.0000,9,-999.0000,9,-999.0000,9,-999.0000,9,-999.0000,9,     -999.0,9,     -999.0,9,     -999.0,9,     -999.0,9,     -999.0,9
33RR20160208,       I08S,      31,          3,          6,         38,2,20160226,       1024,   -55.1951,    85.1891,       4711,  2916.0,   0.4527,  34.6863,2,  34.6853,2,    216.1,2,   215.6,2,   123.0,2,    0.00,2,   32.28,2,    0.00,2,    2.24,2,   0.441,2,   0.224,2,  -0.050,2,   0.092229065,2,  2259.3,2, 2357.47,2,   7.5937,2,    24.97,   0.4530, -999.00,9,  -999.0,9,  -999.0, -999.00,9,-999.000,9,  -999.0,9, -999.00,9,     -999.0,9, -999.00,9, 20160226,     1107, -55.1950,  85.1894,     -999.0,9,     -999.0,9,     -999.0,9,-999.0000,9,-999.0000,9,-999.0000,9,-999.0000,9,-999.0000,9,-999.0000,9,-999.0000,9,     -999.0,9,     -999.0,9,     -999.0,9,     -999.0,9,     -999.0,9
33RR20160208,       I08S,      31,          3,          7,          7,2,20160226,       1024,   -55.1951,    85.1891,       4711,  2667.6,   0.6165,  34.6952,2,  34.6955,2,    213.1,2,   212.1,2,   119.6,2,    0.00,2,   32.05,2,    0.00,2,    2.23,2,   0.370,2,   0.191,2,  -0.070,2,   0.100337115,2,  -999.0,9, -999.00,9,-999.0000,9,  -999.00,   0.6179, -999.00,9,  -999.0,9,  -999.0, -999.00,9,-999.000,9,  -999.0,9, -999.00,9,     -999.0,9, -999.00,9, 20160226,     1114, -55.1951,  85.1891,     -999.0,9,     -999.0,9,     -999.0,9,-999.0000,9,-999.0000,9,-999.0000,9,-999.0000,9,-999.0000,9,-999.0000,9,-999.0000,9,     -999.0,9,     -999.0,9,     -999.0,9,     -999.0,9,     -999.0,9
33RR20160208,       I08S,      31,          3,          8,          8,2,20160226,       1024,   -55.1951,    85.1891,       4711,  2419.7,   0.8074,  34.7055,2,  34.7051,2,    210.1,2,   209.6,2,   114.8,2,    0.00,2,   31.80,2,    0.00,2,    2.20,2,-999.000,9,-999.000,9,-999.000,9,-999.000000000,9,  -999.0,9, -999.00,9,-999.0000,9,  -999.00,   0.8076, -999.00,9,  -999.0,9,  -999.0, -999.00,9,-999.000,9,  -999.0,9, -999.00,9,     -999.0,9, -999.00,9, 20160226,     1119, -55.1951,  85.1892,     -999.0,9,     -999.0,9,     -999.0,9,-999.0000,9,-999.0000,9,-999.0000,9,-999.0000,9,-999.0000,9,-999.0000,9,-999.0000,9,     -999.0,9,     -999.0,9,     -999.0,9,     -999.0,9,     -999.0,9
33RR20160208,       I08S,      31,          3,          9,          9,2,20160226,       1024,   -55.1951,    85.1891,       4711,  2166.0,   1.0283,  34.7187,2,  34.7181,2,    208.2,2,   207.9,2,   106.3,2,    0.00,2,   31.33,2,    0.00,2,    2.17,2,   0.246,2,   0.129,2,  -0.091,2,  -0.033445705,2,  -999.0,9, -999.00,9,-999.0000,9,     9.00,   1.0292, -999.00,9,  -999.0,9,  -999.0, -999.00,9,-999.000,9,  -999.0,9, -999.00,9,     -999.0,9, -999.00,9, 20160226,     1126, -55.1950,  85.1892,     -999.0,9,     -999.0,9,     -999.0,9,-999.0000,9,-999.0000,9,-999.0000,9,-999.0000,9,-999.0000,9,-999.0000,9,-999.0000,9,     -999.0,9,     -999.0,9,     -999.0,9,     -999.0,9,     -999.0,9
33RR20160208,       I08S,      31,          3,         10,         10,2,20160226,       1024,   -55.1951,    85.1891,       4711,  1935.7,   1.1773,  34.7252,2,  34.7258,2,    205.7,2,   205.3,2,   103.0,2,    0.00,2,   31.00,2,    0.00,2,    2.13,2,-999.000,9,-999.000,9,-999.000,9,-999.000000000,9,  -999.0,9, -999.00,9,-999.0000,9,  -999.00,   1.1777, -999.00,9,  -999.0,9,  -999.0, -999.00,9,-999.000,9,  -999.0,9, -999.00,9,     -999.0,9, -999.00,9, 20160226,     1131, -55.1951,  85.1893,     -999.0,9,     -999.0,9,     -999.0,9,-999.0000,9,-999.0000,9,-999.0000,9,-999.0000,9,-999.0000,9,-999.0000,9,-999.0000,9,     -999.0,9,     -999.0,9,     -999.0,9,     -999.0,9,     -999.0,9
33RR20160208,       I08S,      31,          3,         11,         11,2,20160226,       1024,   -55.1951,    85.1891,       4711,  1734.2,   1.3976,  34.7363,2,  34.7358,2,    203.4,2,   203.5,2,    97.3,2,    0.00,2,   30.62,2,    0.00,2,    2.11,2,   0.218,2,   0.117,2,  -0.107,2,   0.032432199,2,  -999.0,9, -999.00,9,-999.0000,9,  -999.00,   1.3966, -999.00,9,  -999.0,9,  -999.0, -999.00,9,-999.000,9,  -999.0,9, -999.00,9,     -999.0,9, -999.00,9, 20160226,     1137, -55.1950,  85.1892,     -999.0,9,     -999.0,9,     -999.0,9,-999.0000,9,-999.0000,9,-999.0000,9,-999.0000,9,-999.0000,9,-999.0000,9,-999.0000,9,     -999.0,9,     -999.0,9,     -999.0,9,     -999.0,9,     -999.0,9
33RR20160208,       I08S,      31,          3,         12,         12,2,20160226,       1024,   -55.1951,    85.1891,       4711,  1566.1,   1.5703,  34.7432,2,  34.7419,2,    201.6,2,   202.4,2,    92.8,2,    0.00,2,   30.34,2,    0.00,2,    2.09,2,-999.000,9,-999.000,9,-999.000,9,-999.000000000,9,  2246.0,2, 2354.06,2,   7.6127,6,    25.00,   1.5703, -999.00,9,  -999.0,9,  -999.0, -999.00,9,-999.000,9,  -999.0,9, -999.00,9,     -999.0,9, -999.00,9, 20160226,     1141, -55.1950,  85.1894,     -999.0,9,     -999.0,9,     -999.0,9,-999.0000,9,-999.0000,9,-999.0000,9,-999.0000,9,-999.0000,9,-999.0000,9,-999.0000,9,     -999.0,9,     -999.0,9,     -999.0,9,     -999.0,9,     -999.0,9
33RR20160208,       I08S,      31,          3,         13,         13,2,20160226,       1024,   -55.1951,    85.1891,       4711,  1466.9,   1.6590,  34.7460,2,  34.7460,2,    200.2,2,   200.5,2,    90.4,2,    0.00,2,   30.22,2,    0.00,2,    2.05,2,   0.188,2,   0.105,2,  -0.121,2,   0.070945435,2,  -999.0,9, -999.00,9,-999.0000,9,  -999.00,   1.6590, -999.00,9,  -999.0,9,  -999.0, -999.00,9,-999.000,9,  -999.0,9, -999.00,9,     -999.0,9, -999.00,9, 20160226,     1144, -55.1950,  85.1893,     -999.0,9,     -999.0,9,     -999.0,9,-999.0000,9,-999.0000,9,-999.0000,9,-999.0000,9,-999.0000,9,-999.0000,9,-999.0000,9,     -999.0,9,     -999.0,9,     -999.0,9,     -999.0,9,     -999.0,9
33RR20160208,       I08S,      31,          3,         14,         14,2,20160226,       1024,   -55.1951,    85.1891,       4711,  1366.7,   1.7449,  34.7446,2,  34.7447,2,    198.9,2,   198.5,2,    88.0,2,    0.00,2,   30.18,2,    0.00,2,    2.07,2,-999.000,9,-999.000,9,-999.000,9,-999.000000000,9,  -999.0,9, -999.00,9,-999.0000,9,  -999.00,   1.7452, -999.00,9,  -999.0,9,  -999.0, -999.00,9,-999.000,9,  -999.0,9, -999.00,9,     -999.0,9, -999.00,9, 20160226,     1147, -55.1950,  85.1893,     -999.0,9,     -999.0,9,     -999.0,9,-999.0000,9,-999.0000,9,-999.0000,9,-999.0000,9,-999.0000,9,-999.0000,9,-999.0000,9,     -999.0,9,     -999.0,9,     -999.0,9,     -999.0,9,     -999.0,9
33RR20160208,       I08S,      31,          3,         15,         15,2,20160226,       1024,   -55.1951,    85.1891,       4711,  1268.4,   1.8719,  34.7474,2,  34.7468,2,    196.8,2,   197.3,2,    85.0,2,    0.00,2,   30.12,2,    0.00,2,    2.09,2,   0.182,2,   0.100,2,  -0.135,2,  -0.015202593,2,  -999.0,9, -999.00,9,-999.0000,9,     9.00,   1.8719, -999.00,9,  -999.0,9,  -999.0, -999.00,9,-999.000,9,  -999.0,9, -999.00,9,     -999.0,9, -999.00,9, 20160226,     1150, -55.1951,  85.1892,     -999.0,9,     -999.0,9,     -999.0,9,-999.0000,9,-999.0000,9,-999.0000,9,-999.0000,9,-999.0000,9,-999.0000,9,-999.0000,9,     -999.0,9,     -999.0,9,     -999.0,9,     -999.0,9,     -999.0,9
33RR20160208,       I08S,      31,          3,         16,         16,2,20160226,       1024,   -55.1951,    85.1891,       4711,  1165.6,   1.9611,  34.7442,2,  34.7447,2,    195.9,2,   195.2,2,    81.6,2,    0.00,2,   30.16,2,    0.00,2,    2.09,2,-999.000,9,-999.000,9,-999.000,9,-999.000000000,9,  -999.0,9, -999.00,9,-999.0000,9,  -999.00,   1.9623, -999.00,9,  -999.0,9,  -999.0, -999.00,9,-999.000,9,  -999.0,9, -999.00,9,     -999.0,9, -999.00,9, 20160226,     1153, -55.1951,  85.1891,     -999.0,9,     -999.0,9,     -999.0,9,-999.0000,9,-999.0000,9,-999.0000,9,-999.0000,9,-999.0000,9,-999.0000,9,-999.0000,9,     -999.0,9,     -999.0,9,     -999.0,9,     -999.0,9,     -999.0,9
33RR20160208,       I08S,      31,          3,         17,         17,2,20160226,       1024,   -55.1951,    85.1891,       4711,  1065.6,   2.0107,  34.7305,2,  34.7308,2,    191.2,2,   191.5,2,    80.8,2,    0.00,2,   30.65,2,    0.00,2,    2.12,2,   0.294,2,   0.167,2,  -0.141,2,    0.06689141,2,  2248.4,2, 2345.93,2,   7.5990,2,    24.98,   2.0106, -999.00,9,  -999.0,9,  -999.0, -999.00,9,-999.000,9,  -999.0,9, -999.00,9,     -999.0,9, -999.00,9, 20160226,     1156, -55.1951,  85.1890,     -999.0,9,     -999.0,9,     -999.0,9,-999.0000,9,-999.0000,9,-999.0000,9,-999.0000,9,-999.0000,9,-999.0000,9,-999.0000,9,     -999.0,9,     -999.0,9,     -999.0,9,     -999.0,9,     -999.0,9
33RR20160208,       I08S,      31,          3,         18,         37,2,20160226,       1024,   -55.1951,    85.1891,       4711,   965.6,   2.1092,  34.7203,2,  34.7198,2,    188.9,2,   189.1,2,    78.5,2,    0.00,2,   30.92,2,    0.00,2,    2.14,2,-999.000,9,-999.000,9,-999.000,9,-999.000000000,9,  -999.0,9, -999.00,9,-999.0000,9,     9.00,   2.1092, -999.00,9,  -999.0,9,  -999.0, -999.00,9,-999.000,9,  -999.0,9, -999.00,9,     -999.0,9, -999.00,9, 20160226,     1159, -55.1951,  85.1891,     -999.0,9,     -999.0,9,     -999.0,9,-999.0000,9,-999.0000,9,-999.0000,9,-999.0000,9,-999.0000,9,-999.0000,9,-999.0000,9,     -999.0,9,     -999.0,9,     -999.0,9,     -999.0,9,     -999.0,9
33RR20160208,       I08S,      31,          3,         19,         19,2,20160226,       1024,   -55.1951,    85.1891,       4711,   865.5,   2.2005,  34.7039,2,  34.7039,2,    185.8,2,   185.5,2,    77.4,2,    0.00,2,   31.35,2,    0.00,2,    2.17,2,   0.292,2,   0.161,2,  -0.156,2,   0.002027012,2,  2246.4,2, 2342.27,2,   7.5872,6,    24.98,   2.2005, -999.00,9,  -999.0,9,  -999.0, -999.00,9,-999.000,9,  -999.0,9, -999.00,9,     -999.0,9, -999.00,9, 20160226,     1202, -55.1951,  85.1890,     -999.0,9,     -999.0,9,     -999.0,9,-999.0000,9,-999.0000,9,-999.0000,9,-999.0000,9,-999.0000,9,-999.0000,9,-999.0000,9,     -999.0,9,     -999.0,9,     -999.0,9,     -999.0,9,     -999.0,9
33RR20160208,       I08S,      31,          3,         20,         20,2,20160226,       1024,   -55.1951,    85.1891,       4711,   765.2,   2.1600,  34.6617,2,  34.6611,2,    179.5,2,   178.0,2,    78.3,2,    0.00,2,   32.77,2,    0.00,2,    2.27,2,-999.000,9,-999.000,9,-999.000,9,-999.000000000,9,  -999.0,9, -999.00,9,-999.0000,9,  -999.00,   2.1603, -999.00,9,  -999.0,9,  -999.0, -999.00,9,-999.000,9,  -999.0,9, -999.00,9,     -999.0,9, -999.00,9, 20160226,     1205, -55.1951,  85.1891,     -999.0,9,     -999.0,9,     -999.0,9,-999.0000,9,-999.0000,9,-999.0000,9,-999.0000,9,-999.0000,9,-999.0000,9,-999.0000,9,     -999.0,9,     -999.0,9,     -999.0,9,     -999.0,9,     -999.0,9
33RR20160208,       I08S,      31,          3,         21,         21,2,20160226,       1024,   -55.1951,    85.1891,       4711,   664.5,   2.2797,  34.6187,2,  34.6186,2,    176.3,2,   175.9,2,    74.5,2,    0.00,2,   33.32,2,    0.00,2,    2.31,2,   0.576,2,   0.303,2,  -0.151,2,   0.087161534,2,  2251.4,2, 2336.69,2,   7.5552,2,    24.99,   2.2798, -999.00,9,  -999.0,9,  -999.0, -999.00,9,-999.000,9,  -999.0,9, -999.00,9,     -999.0,9, -999.00,9, 20160226,     1208, -55.1951,  85.1890,     -999.0,9,     -999.0,9,     -999.0,9,-999.0000,9,-999.0000,9,-999.0000,9,-999.0000,9,-999.0000,9,-999.0000,9,-999.0000,9,     -999.0,9,     -999.0,9,     -999.0,9,     -999.0,9,     -999.0,9
33RR20160208,       I08S,      31,          3,         22,         22,2,20160226,       1024,   -55.1951,    85.1891,       4711,   563.7,   2.3963,  34.5782,2,  34.5766,2,    175.9,2,   176.8,2,    70.0,2,    0.00,2,   33.63,2,    0.00,2,    2.32,2,-999.000,9,-999.000,9,-999.000,9,-999.000000000,9,  -999.0,9, -999.00,9,-999.0000,9,  -999.00,   2.3950, -999.00,9,  -999.0,9,  -999.0, -999.00,9,-999.000,9,  -999.0,9, -999.00,9,     -999.0,9, -999.00,9, 20160226,     1211, -55.1950,  85.1891,     -999.0,9,     -999.0,9,     -999.0,9,-999.0000,9,-999.0000,9,-999.0000,9,-999.0000,9,-999.0000,9,-999.0000,9,-999.0000,9,     -999.0,9,     -999.0,9,     -999.0,9,     -999.0,9,     -999.0,9
33RR20160208,       I08S,      31,          3,         23,         23,2,20160226,       1024,   -55.1951,    85.1891,       4711,   483.9,   2.4188,  34.5346,2,  34.5339,2,    176.1,2,   177.0,2,    68.2,2,    0.00,2,   34.08,2,    0.00,2,    2.36,2,   0.888,2,   0.449,2,  -0.147,2,   0.135809833,2,  2249.1,2, 2329.99,2,   7.5469,2,    24.99,   2.4188, -999.00,9,  -999.0,9,  -999.0, -999.00,9,-999.000,9,  -999.0,9, -999.00,9,     -999.0,9, -999.00,9, 20160226,     1215, -55.1951,  85.1893,     -999.0,9,     -999.0,9,     -999.0,9,-999.0000,9,-999.0000,9,-999.0000,9,-999.0000,9,-999.0000,9,-999.0000,9,-999.0000,9,     -999.0,9,     -999.0,9,     -999.0,9,     -999.0,9,     -999.0,9
33RR20160208,       I08S,      31,          3,         24,         24,2,20160226,       1024,   -55.1951,    85.1891,       4711,   433.8,   2.4132,  34.4998,2,  34.5013,2,    179.0,2,   180.0,2,    66.0,2,    0.00,2,   34.28,2,    0.00,2,    2.37,2,-999.000,9,-999.000,9,-999.000,9,-999.000000000,9,  -999.0,9, -999.00,9,-999.0000,9,     9.00,   2.4137, -999.00,9,  -999.0,9,  -999.0, -999.00,9,-999.000,9,  -999.0,9, -999.00,9,     -999.0,9, -999.00,9, 20160226,     1217, -55.1950,  85.1892,     -999.0,9,     -999.0,9,     -999.0,9,-999.0000,9,-999.0000,9,-999.0000,9,-999.0000,9,-999.0000,9,-999.0000,9,-999.0000,9,     -999.0,9,     -999.0,9,     -999.0,9,     -999.0,9,     -999.0,9
33RR20160208,       I08S,      31,          3,         25,         25,2,20160226,       1024,   -55.1951,    85.1891,       4711,   382.3,   2.5226,  34.4713,2,  34.4694,2,    177.7,2,   182.8,2,    62.4,2,    0.00,2,   34.17,2,    0.00,2,    2.36,2,   1.216,2,   0.607,2,  -0.143,2,   0.262498109,2,  2245.0,2, 2324.24,2,   7.5489,2,    25.00,   2.5226, -999.00,9,  -999.0,9,  -999.0, -999.00,9,-999.000,9,  -999.0,9, -999.00,9,     -999.0,9, -999.00,9, 20160226,     1220, -55.1950,  85.1891,     -999.0,9,     -999.0,9,     -999.0,9,-999.0000,9,-999.0000,9,-999.0000,9,-999.0000,9,-999.0000,9,-999.0000,9,-999.0000,9,     -999.0,9,     -999.0,9,     -999.0,9,     -999.0,9,     -999.0,9
33RR20160208,       I08S,      31,          3,         26,         26,2,20160226,       1024,   -55.1951,    85.1891,       4711,   336.3,   2.2135,  34.3952,2,  34.3953,2,    188.7,2,   198.3,2,    59.2,2,    0.00,2,   34.08,2,    0.00,2,    2.36,2,   1.825,2,   0.924,2,  -0.117,2,   0.611144246,2,  -999.0,9, -999.00,9,-999.0000,9,  -999.00,   2.2134, -999.00,9,  -999.0,9,  -999.0, -999.00,9,-999.000,9,  -999.0,9, -999.00,9,     -999.0,9, -999.00,9, 20160226,     1222, -55.1950,  85.1892,     -999.0,9,     -999.0,9,     -999.0,9,-999.0000,9,-999.0000,9,-999.0000,9,-999.0000,9,-999.0000,9,-999.0000,9,-999.0000,9,     -999.0,9,     -999.0,9,     -999.0,9,     -999.0,9,     -999.0,9
33RR20160208,       I08S,      31,          3,         27,         27,2,20160226,       1024,   -55.1951,    85.1891,       4711,   286.6,   2.3604,  34.3528,2,  34.3508,2,    202.9,2,   201.5,2,    54.3,2,    0.00,2,   33.96,2,    0.00,2,    2.34,2,   2.039,2,   1.027,2,  -0.118,2,   0.688170719,2,  2233.2,2, 2313.47,2,   7.5533,2,    24.97,   2.3663, -999.00,9,  -999.0,9,  -999.0, -999.00,9,-999.000,9,  -999.0,9, -999.00,9,     -999.0,9, -999.00,9, 20160226,     1224, -55.1950,  85.1892,     -999.0,9,     -999.0,9,     -999.0,9,-999.0000,9,-999.0000,9,-999.0000,9,-999.0000,9,-999.0000,9,-999.0000,9,-999.0000,9,     -999.0,9,     -999.0,9,     -999.0,9,     -999.0,9,     -999.0,9