BOTTLE,20220706CCHSIOAMB
EXPOCODE,SECT_ID,STNNBR,CASTNO,SAMPNO,BTLNBR,BTLNBR_FLAG_W,DATE,TIME,LATITUDE,LONGITUDE,DEPTH,CTDPRS,CTDTMP,CTDSAL,CTDSAL_FLAG_W,SALNTY,SALNTY_FLAG_W,CTDOXY,CTDOXY_FLAG_W,OXYGEN,OXYGEN_FLAG_W,SILCAT,SILCAT_FLAG_W,NH4,NH4_FLAG_W,NITRAT,NITRAT_FLAG_W,NITRIT,NITRIT_FLAG_W,PHSPHT,PHSPHT_FLAG_W,CFC-11,CFC-11_FLAG_W,CFC-12,CFC-12_FLAG_W,CFC113,CFC113_FLAG_W,SF6,SF6_FLAG_W,TCARBN,TCARBN_FLAG_W,ALKALI,ALKALI_FLAG_W,PH_TOT,PH_TOT_FLAG_W,PH_TMP,REFTMP,DELC13,DELC13_FLAG_W,DELC14,DELC14_FLAG_W,C14ERR,DELO18,DELO18_FLAG_W,POC,POC_FLAG_W,DOC,DOC_FLAG_W,TDN,TDN_FLAG_W,TON,TON_FLAG_W,D15N_NO3,D15N_NO3_FLAG_W,BTL_DATE,BTL_TIME,BTL_LAT,BTL_LON,14C-DOC,14C-DOC_FLAG_W,CHLORA,CHLORA_FLAG_W,HPLC,HPLC_FLAG_W,CDOM325,CDOM325_FLAG_W,CDOM340,CDOM340_FLAG_W,CDOM380,CDOM380_FLAG_W,CDOM412,CDOM412_FLAG_W,CDOM443,CDOM443_FLAG_W,CDOM490,CDOM490_FLAG_W,CDOM555,CDOM555_FLAG_W,CDOMSL,CDOMSL_FLAG_W,CDOMSN,CDOMSN_FLAG_W,D18O_NO3,D18O_NO3_FLAG_W,D15N_NO2+NO3,D15N_NO2+NO3_FLAG_W,D18O_NO2+NO3,D18O_NO2+NO3_FLAG_W
,,,,,,,,,,,METERS,DBAR,ITS-90,PSS-78,,PSS-78,,UMOL/KG,,UMOL/KG,,UMOL/KG,,UMOL/KG,,UMOL/KG,,UMOL/KG,,UMOL/KG,,PMOL/KG,,PMOL/KG,,PMOL/KG,,FMOL/KG,,UMOL/KG,,UMOL/KG,,,,DEG C,DEG C,/MILLE,,/MILLE,,/MILLE,/MILLE,,UG/KG,,UMOL/KG,,UMOL/KG,,UMOL/KG,,/MILLE,,,,,,/MILLE,,MG/M3,,,,1/M,,1/M,,1/M,,1/M,,1/M,,1/M,,1/M,,1/NM,,1/NM,,/MILLE,,/MILLE,,/MILLE,
33RR20160208,       I08S,      48,          1,          1,          1,2,20160303,       0003,   -47.0530,    93.0739,       3490,  3530.2,   1.0381,  34.7148,2,  34.7140,4,    208.2,2,   208.3,2,   116.1,2,    0.00,2,   31.63,2,    0.00,2,    2.17,2,   0.294,2,   0.148,2,   0.009,2,         0.028,2,  2261.8,6, 2362.51,2,   7.6072,2,    25.00,   1.0381,    0.49,2,  -159.9,2,     2.2, -999.00,1,-999.000,9,    39.0,2, -999.00,9,     -999.0,1, -999.00,9, 20160303,        3, -47.0530,  93.0739,     -999.0,9,     -999.0,9,     -999.0,9,-999.0000,9,-999.0000,9,-999.0000,9,-999.0000,9,-999.0000,9,-999.0000,9,-999.0000,9,     -999.0,9,     -999.0,9,     -999.0,9,     -999.0,9,     -999.0,9
33RR20160208,       I08S,      48,          1,          2,          2,2,20160303,       0003,   -47.0530,    93.0739,       3490,  3310.8,   1.0691,  34.7173,2,  34.7127,4,    207.3,2,   208.0,2,   114.3,2,    0.00,2,   31.54,2,    0.00,2,    2.16,2,   0.262,2,   0.136,2,   0.007,2,             0,2,  2261.5,2, 2362.35,2,   7.6085,2,    24.99,   1.0689,    0.48,2,  -161.1,2,     2.9, -999.00,1,-999.000,9,    38.6,2, -999.00,9,     -999.0,1, -999.00,9, 20160303,        8, -47.0530,  93.0739,     -999.0,9,     -999.0,9,     -999.0,9,-999.0000,9,-999.0000,9,-999.0000,9,-999.0000,9,-999.0000,9,-999.0000,9,-999.0000,9,     -999.0,9,     -999.0,9,     -999.0,9,     -999.0,9,     -999.0,9
33RR20160208,       I08S,      48,          1,          3,          3,2,20160303,       0003,   -47.0530,    93.0739,       3490,  3094.8,   1.1938,  34.7243,2,  34.7169,4,    205.8,2,   206.6,2,   110.4,2,    0.00,2,   31.29,2,    0.00,2,    2.15,2,-999.000,9,-999.000,9,-999.000,9,-999.000000000,9,  -999.0,9, -999.00,9,-999.0000,9,  -999.00,   1.1939,    0.50,2,  -162.6,2,     1.7, -999.00,1,-999.000,9,    39.0,2, -999.00,9,     -999.0,1, -999.00,9, 20160303,       12, -47.0530,  93.0740,     -999.0,9,     -999.0,9,     -999.0,9,-999.0000,9,-999.0000,9,-999.0000,9,-999.0000,9,-999.0000,9,-999.0000,9,-999.0000,9,     -999.0,9,     -999.0,9,     -999.0,9,     -999.0,9,     -999.0,9
33RR20160208,       I08S,      48,          1,          4,          4,2,20160303,       0003,   -47.0530,    93.0739,       3490,  2865.2,   1.3779,  34.7336,2,  34.7255,4,    204.0,2,   203.4,2,   104.8,2,    0.00,2,   31.00,2,    0.00,2,    2.12,2,   0.138,2,   0.073,2,   0.000,2,             0,2,  2256.0,2, 2361.72,6,   7.6152,2,    24.99,   1.3780,    0.51,2,  -159.2,2,     1.8, -999.00,1,-999.000,9,    38.8,2, -999.00,9,     -999.0,1, -999.00,9, 20160303,       17, -47.0530,  93.0739,     -999.0,9,     -999.0,9,     -999.0,9,-999.0000,9,-999.0000,9,-999.0000,9,-999.0000,9,-999.0000,9,-999.0000,9,-999.0000,9,     -999.0,9,     -999.0,9,     -999.0,9,     -999.0,9,     -999.0,9
33RR20160208,       I08S,      48,          1,          5,          5,2,20160303,       0003,   -47.0530,    93.0739,       3490,  2662.4,   1.5867,  34.7434,2,  34.7345,4,    202.2,2,   203.4,2,    98.1,2,    0.00,2,   30.57,2,    0.00,2,    2.09,2,-999.000,9,-999.000,9,-999.000,9,-999.000000000,9,  -999.0,9, -999.00,9,-999.0000,9,     9.00,   1.5862,    0.50,2,  -158.1,2,     1.8, -999.00,1,-999.000,9,    38.8,2, -999.00,9,     -999.0,1, -999.00,9, 20160303,       22, -47.0530,  93.0739,     -999.0,9,     -999.0,9,     -999.0,9,-999.0000,9,-999.0000,9,-999.0000,9,-999.0000,9,-999.0000,9,-999.0000,9,-999.0000,9,     -999.0,9,     -999.0,9,     -999.0,9,     -999.0,9,     -999.0,9
33RR20160208,       I08S,      48,          1,          6,         38,2,20160303,       0003,   -47.0530,    93.0739,       3490,  2461.8,   1.8043,  34.7521,2,  34.7430,4,    200.8,2,   199.9,2,    91.1,2,    0.00,2,   30.22,2,    0.00,2,    2.06,2,   0.112,2,   0.059,2,   0.000,2,         0.007,2,  2249.8,2, 2355.99,2,   7.6204,2,    25.00,   1.8034,    0.56,2,  -156.4,2,     2.0, -999.00,1,-999.000,9,    38.3,2, -999.00,9,     -999.0,1, -999.00,9, 20160303,       26, -47.0530,  93.0740,     -999.0,9,     -999.0,9,     -999.0,9,-999.0000,9,-999.0000,9,-999.0000,9,-999.0000,9,-999.0000,9,-999.0000,9,-999.0000,9,     -999.0,9,     -999.0,9,     -999.0,9,     -999.0,9,     -999.0,9
33RR20160208,       I08S,      48,          1,          7,          7,2,20160303,       0003,   -47.0530,    93.0739,       3490,  2261.2,   1.9999,  34.7558,2,  34.7473,4,    199.2,2,   198.8,2,    84.2,2,    0.00,2,   29.87,2,    0.00,2,    2.05,2,-999.000,9,-999.000,9,-999.000,9,-999.000000000,9,  -999.0,9, -999.00,9,-999.0000,9,  -999.00,   2.0007,    0.57,6,  -149.1,6,     1.9, -999.00,1,-999.000,9,    38.7,2, -999.00,9,     -999.0,1, -999.00,9, 20160303,       31, -47.0530,  93.0740,     -999.0,9,     -999.0,9,     -999.0,9,-999.0000,9,-999.0000,9,-999.0000,9,-999.0000,9,-999.0000,9,-999.0000,9,-999.0000,9,     -999.0,9,     -999.0,9,     -999.0,9,     -999.0,9,     -999.0,9
33RR20160208,       I08S,      48,          1,          8,          8,2,20160303,       0003,   -47.0530,    93.0739,       3490,  2064.2,   2.1612,  34.7507,2,  34.7415,4,    196.2,2,   196.8,2,    79.1,2,    0.00,2,   29.88,2,    0.00,2,    2.05,2,   0.139,6,   0.076,6,   0.000,6,        0.0275,6,  2243.2,2, 2349.52,2,   7.6160,2,    24.99,   2.1615,    0.58,6,  -145.6,6,     1.7, -999.00,1,-999.000,9,    38.6,2, -999.00,9,     -999.0,1, -999.00,9, 20160303,       35, -47.0530,  93.0739,     -999.0,9,     -999.0,9,     -999.0,9,-999.0000,9,-999.0000,9,-999.0000,9,-999.0000,9,-999.0000,9,-999.0000,9,-999.0000,9,     -999.0,9,     -999.0,9,     -999.0,9,     -999.0,9,     -999.0,9
33RR20160208,       I08S,      48,          1,          9,          9,2,20160303,       0003,   -47.0530,    93.0739,       3490,  1864.4,   2.3278,  34.7335,2,  34.7236,4,    191.5,2,   191.4,2,    75.1,2,    0.00,2,   30.28,2,    0.00,2,    2.07,2,   0.172,2,   0.091,2,   0.002,2,             0,2,  -999.0,9, -999.00,9,-999.0000,9,  -999.00,   2.3278,    0.59,2,  -146.8,2,     2.5, -999.00,1,-999.000,9,    39.5,2, -999.00,9,     -999.0,1, -999.00,9, 20160303,       40, -47.0530,  93.0740,     -999.0,9,     -999.0,9,     -999.0,9,-999.0000,9,-999.0000,9,-999.0000,9,-999.0000,9,-999.0000,9,-999.0000,9,-999.0000,9,     -999.0,9,     -999.0,9,     -999.0,9,     -999.0,9,     -999.0,9
33RR20160208,       I08S,      48,          1,         10,         10,2,20160303,       0003,   -47.0530,    93.0739,       3490,  1737.1,   2.4091,  34.7172,2,  34.7074,4,    188.2,2,   187.8,2,    73.5,2,    0.00,2,   30.69,2,    0.00,2,    2.10,2,   0.197,2,   0.104,2,   0.003,2,         0.004,2,  2243.6,2, 2342.94,2,   7.6008,2,    25.00,   2.4093,    0.57,2,  -144.4,2,     2.5, -999.00,1,-999.000,9,    40.1,2, -999.00,9,     -999.0,1, -999.00,9, 20160303,       44, -47.0530,  93.0740,     -999.0,9,     -999.0,9,     -999.0,9,-999.0000,9,-999.0000,9,-999.0000,9,-999.0000,9,-999.0000,9,-999.0000,9,-999.0000,9,     -999.0,9,     -999.0,9,     -999.0,9,     -999.0,9,     -999.0,9
33RR20160208,       I08S,      48,          1,         11,         11,2,20160303,       0003,   -47.0530,    93.0739,       3490,  1634.5,   2.4615,  34.7000,2,  34.6901,4,    184.4,2,   185.4,2,    72.8,2,    0.00,2,   31.11,2,    0.00,2,    2.11,2,   0.221,2,   0.116,2,   0.004,2,             0,2,  -999.0,9, -999.00,9,-999.0000,9,     9.00,   2.4615,    0.57,2,  -141.5,2,     1.9, -999.00,1,-999.000,9,    39.2,2, -999.00,9,     -999.0,1, -999.00,9, 20160303,       46, -47.0530,  93.0740,     -999.0,9,     -999.0,9,     -999.0,9,-999.0000,9,-999.0000,9,-999.0000,9,-999.0000,9,-999.0000,9,-999.0000,9,-999.0000,9,     -999.0,9,     -999.0,9,     -999.0,9,     -999.0,9,     -999.0,9
33RR20160208,       I08S,      48,          1,         12,         12,2,20160303,       0003,   -47.0530,    93.0739,       3490,  1534.2,   2.5266,  34.6757,2,  34.6659,4,    180.8,2,   181.6,2,    72.3,2,    0.00,2,   31.74,2,    0.00,2,    2.17,2,   0.255,2,   0.134,2,   0.005,2,         0.015,2,  2247.1,2, 2340.59,2,   7.5864,2,    25.00,   2.5269,    0.53,2,  -141.8,2,     2.0, -999.00,1,-999.000,9,    39.3,2, -999.00,9,     -999.0,1, -999.00,9, 20160303,       49, -47.0530,  93.0739,     -999.0,9,     -999.0,9,     -999.0,9,-999.0000,9,-999.0000,9,-999.0000,9,-999.0000,9,-999.0000,9,-999.0000,9,-999.0000,9,     -999.0,9,     -999.0,9,     -999.0,9,     -999.0,9,     -999.0,9
33RR20160208,       I08S,      48,          1,         13,         13,2,20160303,       0003,   -47.0530,    93.0739,       3490,  1434.4,   2.6014,  34.6443,2,  34.6357,4,    178.2,2,   178.2,2,    71.0,2,    0.00,2,   32.38,2,    0.00,2,    2.23,2,   0.332,2,   0.171,2,   0.010,2,         0.043,2,  -999.0,9, -999.00,9,-999.0000,9,  -999.00,   2.6013,    0.50,2,  -140.3,2,     1.8, -999.00,1,-999.000,9,    38.6,2, -999.00,9,     -999.0,1, -999.00,9, 20160303,       52, -47.0530,  93.0740,     -999.0,9,     -999.0,9,     -999.0,9,-999.0000,9,-999.0000,9,-999.0000,9,-999.0000,9,-999.0000,9,-999.0000,9,-999.0000,9,     -999.0,9,     -999.0,9,     -999.0,9,     -999.0,9,     -999.0,9
33RR20160208,       I08S,      48,          1,         14,         14,2,20160303,       0003,   -47.0530,    93.0739,       3490,  1333.6,   2.6771,  34.6119,2,  34.6021,4,    176.9,2,   176.2,2,    69.0,2,    0.00,2,   32.92,2,    0.00,2,    2.25,2,   0.415,2,   0.216,2,   0.015,2,         0.056,2,  -999.0,9, -999.00,9,-999.0000,9,     9.00,   2.6771,    0.54,2,  -141.2,6,     1.5, -999.00,1,-999.000,9,    38.8,2, -999.00,9,     -999.0,1, -999.00,9, 20160303,       55, -47.0530,  93.0739,     -999.0,9,     -999.0,9,     -999.0,9,-999.0000,9,-999.0000,9,-999.0000,9,-999.0000,9,-999.0000,9,-999.0000,9,-999.0000,9,     -999.0,9,     -999.0,9,     -999.0,9,     -999.0,9,     -999.0,9
33RR20160208,       I08S,      48,          1,         15,         15,2,20160303,       0003,   -47.0530,    93.0739,       3490,  1235.4,   2.7562,  34.5682,2,  34.5581,4,    176.1,2,   176.0,2,    66.4,2,    0.00,2,   33.37,2,    0.00,2,    2.29,2,   0.591,2,   0.300,2,   0.028,2,         0.134,2,  2246.8,2, 2330.33,2,   7.5648,2,    24.98,   2.7563,    0.52,2,  -135.3,2,     1.8, -999.00,1,-999.000,9,    38.1,2, -999.00,9,     -999.0,1, -999.00,9, 20160303,       58, -47.0530,  93.0739,     -999.0,9,     -999.0,9,     -999.0,9,-999.0000,9,-999.0000,9,-999.0000,9,-999.0000,9,-999.0000,9,-999.0000,9,-999.0000,9,     -999.0,9,     -999.0,9,     -999.0,9,     -999.0,9,     -999.0,9
33RR20160208,       I08S,      48,          1,         16,         16,2,20160303,       0003,   -47.0530,    93.0739,       3490,  1134.6,   2.8559,  34.5309,2,  34.5204,4,    177.1,2,   175.8,2,    63.7,2,    0.00,2,   33.63,2,    0.01,2,    2.27,2,   0.761,2,   0.382,2,   0.041,2,         0.151,2,  2247.1,6, 2327.41,2,   7.5604,2,    24.99,   2.8564,    0.57,2,  -131.7,6,     1.6, -999.00,1,-999.000,9,    40.4,2, -999.00,9,     -999.0,1, -999.00,9, 20160303,      100, -47.0530,  93.0740,     -999.0,9,     -999.0,9,     -999.0,9,-999.0000,9,-999.0000,9,-999.0000,9,-999.0000,9,-999.0000,9,-999.0000,9,-999.0000,9,     -999.0,9,     -999.0,9,     -999.0,9,     -999.0,9,     -999.0,9
33RR20160208,       I08S,      48,          1,         17,         17,2,20160303,       0003,   -47.0530,    93.0739,       3490,  1035.7,   2.9668,  34.4849,2,  34.4754,4,    179.7,2,   178.9,2,    60.0,2,    0.00,2,   33.77,2,    0.00,2,    2.31,2,   1.004,2,   0.492,2,   0.053,2,         0.201,2,  2240.6,2, 2322.64,2,   7.5607,2,    24.99,   2.9678,    0.54,2,  -120.6,2,     2.0, -999.00,1,-999.000,9,    39.4,2, -999.00,9,     -999.0,1, -999.00,9, 20160303,      103, -47.0530,  93.0739,     -999.0,9,     -999.0,9,     -999.0,9,-999.0000,9,-999.0000,9,-999.0000,9,-999.0000,9,-999.0000,9,-999.0000,9,-999.0000,9,     -999.0,9,     -999.0,9,     -999.0,9,     -999.0,9,     -999.0,9
33RR20160208,       I08S,      48,          1,         18,         37,2,20160303,       0003,   -47.0530,    93.0739,       3490,   935.5,   3.1272,  34.4396,2,  34.4295,4,    185.1,2,   183.8,2,    54.4,2,    0.00,2,   33.56,2,    0.00,2,    2.29,2,   1.288,2,   0.628,2,   0.074,2,         0.295,2,  -999.0,9, -999.00,9,-999.0000,9,  -999.00,   3.1272,    0.61,2,  -116.3,2,     1.9, -999.00,1,-999.000,9,    38.6,2, -999.00,9,     -999.0,1, -999.00,9, 20160303,      106, -47.0530,  93.0739,     -999.0,9,     -999.0,9,     -999.0,9,-999.0000,9,-999.0000,9,-999.0000,9,-999.0000,9,-999.0000,9,-999.0000,9,-999.0000,9,     -999.0,9,     -999.0,9,     -999.0,9,     -999.0,9,     -999.0,9
33RR20160208,       I08S,      48,          1,         19,         19,2,20160303,       0003,   -47.0530,    93.0739,       3490,   836.3,   3.3308,  34.3937,2,  34.3832,4,    192.3,2,   191.0,2,    48.4,2,    0.00,2,   33.05,2,    0.00,2,    2.26,2,   1.655,2,   0.801,2,   0.101,2,         0.377,2,  2228.0,2, 2312.65,2,   7.5742,6,    24.99,   3.3325,    0.53,2,  -103.8,2,     2.1, -999.00,1,-999.000,9,    39.3,2, -999.00,9,     -999.0,1, -999.00,9, 20160303,      108, -47.0530,  93.0740,     -999.0,9,     -999.0,9,     -999.0,9,-999.0000,9,-999.0000,9,-999.0000,9,-999.0000,9,-999.0000,9,-999.0000,9,-999.0000,9,     -999.0,9,     -999.0,9,     -999.0,9,     -999.0,9,     -999.0,9
33RR20160208,       I08S,      48,          1,         20,         20,2,20160303,       0003,   -47.0530,    93.0739,       3490,   735.1,   3.4893,  34.3225,2,  34.3102,4,    204.9,2,   205.9,2,    39.5,2,    0.00,2,   32.15,2,    0.00,2,    2.19,2,   2.295,2,   1.127,2,   0.146,2,         0.643,2,  -999.0,9, -999.00,9,-999.0000,9,     9.00,   3.4921,    0.77,2,   -81.0,2,     2.3, -999.00,1,-999.000,9,    39.0,2, -999.00,9,     -999.0,1, -999.00,9, 20160303,      111, -47.0530,  93.0740,     -999.0,9,     -999.0,9,     -999.0,9,-999.0000,9,-999.0000,9,-999.0000,9,-999.0000,9,-999.0000,9,-999.0000,9,-999.0000,9,     -999.0,9,     -999.0,9,     -999.0,9,     -999.0,9,     -999.0,9
33RR20160208,       I08S,      48,          1,         21,         21,2,20160303,       0003,   -47.0530,    93.0739,       3490,   635.4,   3.6704,  34.2465,2,  34.2363,4,    223.1,2,   225.1,2,    30.0,2,    0.00,2,   30.77,2,    0.00,2,    2.08,2,   3.053,2,   1.569,2,   0.211,2,         0.882,2,  2199.2,2, 2294.40,2,   7.6066,6,    24.99,   3.6707,    0.88,2,   -71.9,2,     2.1, -999.00,1,-999.000,9,    39.5,2, -999.00,9,     -999.0,1, -999.00,9, 20160303,      115, -47.0530,  93.0739,     -999.0,9,     -999.0,9,     -999.0,9,-999.0000,9,-999.0000,9,-999.0000,9,-999.0000,9,-999.0000,9,-999.0000,9,-999.0000,9,     -999.0,9,     -999.0,9,     -999.0,9,     -999.0,9,     -999.0,9
33RR20160208,       I08S,      48,          1,         22,         22,2,20160303,       0003,   -47.0530,    93.0739,       3490,   536.1,   4.1894,  34.2218,2,  34.2133,4,    230.6,2,   234.2,2,    22.8,2,    0.00,2,   29.18,2,    0.00,2,    1.96,2,   3.411,2,   1.765,2,   0.238,2,         1.212,2,  -999.0,9, -999.00,9,-999.0000,9,  -999.00,   4.1944, -999.00,9,  -999.0,9,  -999.0, -999.00,1,-999.000,9,    39.8,2, -999.00,9,     -999.0,1, -999.00,9, 20160303,      117, -47.0530,  93.0739,     -999.0,9,     -999.0,9,     -999.0,9,-999.0000,9,-999.0000,9,-999.0000,9,-999.0000,9,-999.0000,9,-999.0000,9,-999.0000,9,     -999.0,9,     -999.0,9,     -999.0,9,     -999.0,9,     -999.0,9
33RR20160208,       I08S,      48,          1,         23,         23,2,20160303,       0003,   -47.0530,    93.0739,       3490,   465.5,   4.9174,  34.2625,2,  34.2473,4,    233.2,2,   231.8,2,    20.1,2,    0.00,2,   27.82,2,    0.00,2,    1.88,2,-999.000,9,-999.000,9,-999.000,9,-999.000000000,9,  2181.1,2, 2285.67,2,   7.6403,6,    24.99,   4.9267,    0.99,2,   -42.1,2,     2.1, -999.00,1,-999.000,9,    40.4,2, -999.00,9,     -999.0,1, -999.00,9, 20160303,      119, -47.0530,  93.0739,     -999.0,9,     -999.0,9,     -999.0,9,-999.0000,9,-999.0000,9,-999.0000,9,-999.0000,9,-999.0000,9,-999.0000,9,-999.0000,9,     -999.0,9,     -999.0,9,     -999.0,9,     -999.0,9,     -999.0,9
33RR20160208,       I08S,      48,          1,         24,         24,2,20160303,       0003,   -47.0530,    93.0739,       3490,   415.0,   5.2151,  34.2649,2,  34.2552,2,    239.3,2,   232.7,2,    17.6,2,    0.00,2,   27.04,2,    0.00,2,    1.82,2,   3.523,2,   1.834,2,   0.239,2,         1.258,2,  -999.0,9, -999.00,9,-999.0000,9,  -999.00,   5.2184, -999.00,9,  -999.0,9,  -999.0, -999.00,1,-999.000,9,    41.1,2, -999.00,9,     -999.0,1, -999.00,9, 20160303,      121, -47.0530,  93.0739,     -999.0,9,     -999.0,9,     -999.0,9,-999.0000,9,-999.0000,9,-999.0000,9,-999.0000,9,-999.0000,9,-999.0000,9,-999.0000,9,     -999.0,9,     -999.0,9,     -999.0,9,     -999.0,9,     -999.0,9
33RR20160208,       I08S,      48,          1,         25,         25,2,20160303,       0003,   -47.0530,    93.0739,       3490,   367.1,   5.3937,  34.2248,2,  34.2170,2,    239.8,2,   242.9,2,    14.6,2,    0.00,2,   25.91,2,    0.00,2,    1.75,2,-999.000,9,-999.000,9,-999.000,9,-999.000000000,9,  2168.1,2, 2281.38,2,   7.6624,2,    24.98,   5.3941,    1.04,2,   -33.4,2,     2.2, -999.00,1,-999.000,9,    41.5,2, -999.00,9,     -999.0,1, -999.00,9, 20160303,      123, -47.0530,  93.0739,     -999.0,9,     -999.0,9,     -999.0,9,-999.0000,9,-999.0000,9,-999.0000,9,-999.0000,9,-999.0000,9,-999.0000,9,-999.0000,9,     -999.0,9,     -999.0,9,     -999.0,9,     -999.0,9,     -999.0,9
33RR20160208,       I08S,      48,          1,         26,         26,2,20160303,       0003,   -47.0530,    93.0739,       3490,   315.9,   5.8251,  34.2253,2,  34.2220,2,    248.3,2,   247.3,2,    12.1,2,    0.00,2,   24.53,2,    0.00,2,    1.64,2,   3.787,2,   2.028,2,   0.266,2,         1.625,2,  2162.6,2, 2281.28,2,   7.6787,2,    24.97,   5.8239,    1.11,2,   -23.4,2,     2.8, -999.00,1,-999.000,9,    41.8,2,   27.20,2,     -999.0,1, -999.00,9, 20160303,      125, -47.0530,  93.0739,     -999.0,9,     -999.0,9,     -999.0,9,-999.0000,9,-999.0000,9,-999.0000,9,-999.0000,9,-999.0000,9,-999.0000,9,-999.0000,9,     -999.0,9,     -999.0,9,     -999.0,9,     -999.0,9,     -999.0,9
33RR20160208,       I08S,      48,          1,         27,         27,2,20160303,       0003,   -47.0530,    93.0739,       3490,   266.8,   6.0028,  34.1865,2,  34.1777,2,    257.1,2,   260.0,2,     9.1,2,    0.00,2,   23.01,2,    0.00,2,    1.56,2,-999.000,9,-999.000,9,-999.000,9,-999.000000000,9,  2155.6,2, 2280.07,2,   7.7021,6,    24.99,   6.0048,    1.17,2,   -24.8,2,     2.2, -999.00,1,-999.000,9,    42.1,2,   25.30,2,     -999.0,1, -999.00,9, 20160303,      127, -47.0530,  93.0740,     -999.0,9,     -999.0,9,     -999.0,9,-999.0000,9,-999.0000,9,-999.0000,9,-999.0000,9,-999.0000,9,-999.0000,9,-999.0000,9,     -999.0,9,     -999.0,9,     -999.0,9,     -999.0,9,     -999.0,9