BOTTLE,20220706CCHSIOAMB
EXPOCODE,SECT_ID,STNNBR,CASTNO,SAMPNO,BTLNBR,BTLNBR_FLAG_W,DATE,TIME,LATITUDE,LONGITUDE,DEPTH,CTDPRS,CTDTMP,CTDSAL,CTDSAL_FLAG_W,SALNTY,SALNTY_FLAG_W,CTDOXY,CTDOXY_FLAG_W,OXYGEN,OXYGEN_FLAG_W,SILCAT,SILCAT_FLAG_W,NH4,NH4_FLAG_W,NITRAT,NITRAT_FLAG_W,NITRIT,NITRIT_FLAG_W,PHSPHT,PHSPHT_FLAG_W,CFC-11,CFC-11_FLAG_W,CFC-12,CFC-12_FLAG_W,CFC113,CFC113_FLAG_W,SF6,SF6_FLAG_W,TCARBN,TCARBN_FLAG_W,ALKALI,ALKALI_FLAG_W,PH_TOT,PH_TOT_FLAG_W,PH_TMP,REFTMP,DELC13,DELC13_FLAG_W,DELC14,DELC14_FLAG_W,C14ERR,DELO18,DELO18_FLAG_W,POC,POC_FLAG_W,DOC,DOC_FLAG_W,TDN,TDN_FLAG_W,TON,TON_FLAG_W,D15N_NO3,D15N_NO3_FLAG_W,BTL_DATE,BTL_TIME,BTL_LAT,BTL_LON,14C-DOC,14C-DOC_FLAG_W,CHLORA,CHLORA_FLAG_W,HPLC,HPLC_FLAG_W,CDOM325,CDOM325_FLAG_W,CDOM340,CDOM340_FLAG_W,CDOM380,CDOM380_FLAG_W,CDOM412,CDOM412_FLAG_W,CDOM443,CDOM443_FLAG_W,CDOM490,CDOM490_FLAG_W,CDOM555,CDOM555_FLAG_W,CDOMSL,CDOMSL_FLAG_W,CDOMSN,CDOMSN_FLAG_W,D18O_NO3,D18O_NO3_FLAG_W,D15N_NO2+NO3,D15N_NO2+NO3_FLAG_W,D18O_NO2+NO3,D18O_NO2+NO3_FLAG_W
,,,,,,,,,,,METERS,DBAR,ITS-90,PSS-78,,PSS-78,,UMOL/KG,,UMOL/KG,,UMOL/KG,,UMOL/KG,,UMOL/KG,,UMOL/KG,,UMOL/KG,,PMOL/KG,,PMOL/KG,,PMOL/KG,,FMOL/KG,,UMOL/KG,,UMOL/KG,,,,DEG C,DEG C,/MILLE,,/MILLE,,/MILLE,/MILLE,,UG/KG,,UMOL/KG,,UMOL/KG,,UMOL/KG,,/MILLE,,,,,,/MILLE,,MG/M3,,,,1/M,,1/M,,1/M,,1/M,,1/M,,1/M,,1/M,,1/NM,,1/NM,,/MILLE,,/MILLE,,/MILLE,
33RR20160208,       I08S,      50,          1,         28,         28,2,20160303,       1212,   -46.0569,    94.0047,       3271,   201.2,   6.7347,  34.1837,2,  34.1907,2,    276.8,2,   278.6,2,     4.2,2,    0.00,2,   19.52,2,    0.00,2,    1.35,2,   2.143,2,   2.143,2,   0.323,2,         2.226,2,  2129.9,2, 2279.75,2,   7.7474,2,    24.99,   6.7287, -999.00,9,  -999.0,9,  -999.0, -999.00,9,-999.000,9,    44.2,2,   22.40,2,     -999.0,1, -999.00,9, 20160303,     1339, -46.0569,  94.0047,     -999.0,9,     -999.0,9,     -999.0,9,-999.0000,9,-999.0000,9,-999.0000,9,-999.0000,9,-999.0000,9,-999.0000,9,-999.0000,9,     -999.0,9,     -999.0,9,     -999.0,9,     -999.0,9,     -999.0,9
33RR20160208,       I08S,      50,          1,         29,         29,2,20160303,       1212,   -46.0569,    94.0047,       3271,   175.8,   6.9603,  34.1956,2,  34.1944,2,    273.2,2,   276.1,2,     4.1,2,    0.00,2,   19.46,2,    0.04,2,    1.34,2,-999.000,9,-999.000,9,-999.000,9,-999.000000000,9,  -999.0,9, -999.00,9,-999.0000,9,     9.00,   6.9608, -999.00,9,  -999.0,9,  -999.0, -999.00,9,-999.000,9,    44.6,2,   21.70,2,     -999.0,1, -999.00,9, 20160303,     1341, -46.0569,  94.0047,     -999.0,9,     -999.0,9,     -999.0,9,-999.0000,9,-999.0000,9,-999.0000,9,-999.0000,9,-999.0000,9,-999.0000,9,-999.0000,9,     -999.0,9,     -999.0,9,     -999.0,9,     -999.0,9,     -999.0,9
33RR20160208,       I08S,      50,          1,         30,         30,2,20160303,       1212,   -46.0569,    94.0047,       3271,   149.7,   7.0537,  34.1522,2,  34.1495,2,    279.0,2,   280.1,2,     3.0,2,    0.00,2,   18.76,2,    0.36,2,    1.33,2,   2.146,2,   2.146,2,   0.330,2,         2.288,2,  2126.2,2, 2277.56,2,   7.7554,2,    25.03,   7.0513, -999.00,9,  -999.0,9,  -999.0, -999.00,9,-999.000,9,    45.4,2,   21.40,2,     -999.0,1, -999.00,9, 20160303,     1342, -46.0570,  94.0047,     -999.0,9,     -999.0,9,     -999.0,9,-999.0000,9,-999.0000,9,-999.0000,9,-999.0000,9,-999.0000,9,-999.0000,9,-999.0000,9,     -999.0,9,     -999.0,9,     -999.0,9,     -999.0,9,     -999.0,9
33RR20160208,       I08S,      50,          1,         31,         31,2,20160303,       1212,   -46.0569,    94.0047,       3271,   125.7,   7.4748,  34.1355,2,  34.1335,2,    285.3,2,   282.5,2,     2.2,2,    0.18,2,   17.56,2,    0.52,2,    1.28,2,-999.000,9,-999.000,9,-999.000,9,-999.000000000,9,  -999.0,9, -999.00,9,-999.0000,9,  -999.00,   7.4760, -999.00,9,  -999.0,9,  -999.0, -999.00,9,-999.000,9,    45.7,2,   22.00,2,     -999.0,1, -999.00,9, 20160303,     1344, -46.0570,  94.0047,     -999.0,9,     -999.0,9,     -999.0,9,-999.0000,9,-999.0000,9,-999.0000,9,-999.0000,9,-999.0000,9,-999.0000,9,-999.0000,9,     -999.0,9,     -999.0,9,     -999.0,9,     -999.0,9,     -999.0,9
33RR20160208,       I08S,      50,          1,         32,         32,2,20160303,       1212,   -46.0569,    94.0047,       3271,   100.5,   7.4386,  34.0490,2,  34.0612,2,    290.0,2,   289.6,2,     1.9,2,    0.66,2,   17.33,2,    0.32,2,    1.29,2,   2.158,2,   2.158,2,   0.348,2,         2.377,2,  2116.6,2, 2277.25,2,   7.7760,2,    24.99,   7.4401, -999.00,9,  -999.0,9,  -999.0, -999.00,9,-999.000,9,    49.4,3,   20.80,2,     -999.0,1, -999.00,9, 20160303,     1346, -46.0570,  94.0047,     -999.0,9,     -999.0,9,     -999.0,9,-999.0000,9,-999.0000,9,-999.0000,9,-999.0000,9,-999.0000,9,-999.0000,9,-999.0000,9,     -999.0,9,     -999.0,9,     -999.0,9,     -999.0,9,     -999.0,9
33RR20160208,       I08S,      50,          1,         33,         33,2,20160303,       1212,   -46.0569,    94.0047,       3271,    76.1,   8.0014,  33.9944,2,  33.9920,2,    289.1,2,   288.9,2,     1.7,2,    0.55,2,   17.05,2,    0.21,2,    1.25,2,-999.000,9,-999.000,9,-999.000,9,-999.000000000,9,  2108.7,2, 2273.56,2,   7.7883,6,    25.02,   7.9972, -999.00,9,  -999.0,9,  -999.0, -999.00,9,-999.000,9,    45.1,2,   21.70,2,     -999.0,1, -999.00,9, 20160303,     1348, -46.0569,  94.0047,     -999.0,9,     -999.0,9,     -999.0,9,-999.0000,9,-999.0000,9,-999.0000,9,-999.0000,9,-999.0000,9,-999.0000,9,-999.0000,9,     -999.0,9,     -999.0,9,     -999.0,9,     -999.0,9,     -999.0,9
33RR20160208,       I08S,      50,          1,         34,         34,2,20160303,       1212,   -46.0569,    94.0047,       3271,    51.1,   8.8293,  33.9923,2,  33.9917,2,    287.8,2,   287.1,2,     1.4,2,    0.22,2,   16.34,2,    0.20,2,    1.18,2,   2.015,2,   2.015,2,   0.310,2,          2.06,2,  2100.5,2, 2273.39,6,   7.8032,2,    25.04,   8.8285, -999.00,9,  -999.0,9,  -999.0, -999.00,9,-999.000,9,    47.0,2,   18.80,2,     -999.0,1, -999.00,9, 20160303,     1350, -46.0570,  94.0047,     -999.0,9,     -999.0,9,     -999.0,9,-999.0000,9,-999.0000,9,-999.0000,9,-999.0000,9,-999.0000,9,-999.0000,9,-999.0000,9,     -999.0,9,     -999.0,9,     -999.0,9,     -999.0,9,     -999.0,9
33RR20160208,       I08S,      50,          1,         35,         35,2,20160303,       1212,   -46.0569,    94.0047,       3271,    26.1,   8.9359,  33.9973,2,  33.9960,2,    287.7,2,   287.5,2,     1.1,2,    0.21,2,   16.21,2,    0.21,2,    1.16,2,-999.000,9,-999.000,9,-999.000,9,-999.000000000,9,  2106.1,2, 2272.73,2,   7.8066,2,    24.93,   8.9405, -999.00,9,  -999.0,9,  -999.0, -999.00,9,-999.000,9,    46.4,2,   19.30,2,     -999.0,1, -999.00,9, 20160303,     1352, -46.0570,  94.0047,     -999.0,9,     -999.0,9,     -999.0,9,-999.0000,9,-999.0000,9,-999.0000,9,-999.0000,9,-999.0000,9,-999.0000,9,-999.0000,9,     -999.0,9,     -999.0,9,     -999.0,9,     -999.0,9,     -999.0,9
33RR20160208,       I08S,      50,          1,         36,         36,2,20160303,       1212,   -46.0569,    94.0047,       3271,     6.0,   9.0360,  33.9977,2,  33.9960,2,    286.8,2,   286.8,2,     1.4,2,    0.20,2,   16.21,2,    0.21,2,    1.17,2,   2.004,2,   2.004,2,   0.306,2,          2.18,2,  2100.1,6, 2273.14,2,   7.8045,2,    25.00,   9.0357, -999.00,9,  -999.0,9,  -999.0, -999.00,9,-999.000,9,    47.2,2,   18.80,2,     -999.0,1, -999.00,9, 20160303,     1355, -46.0569,  94.0047,     -999.0,9,     -999.0,9,     -999.0,9,-999.0000,9,-999.0000,9,-999.0000,9,-999.0000,9,-999.0000,9,-999.0000,9,-999.0000,9,     -999.0,9,     -999.0,9,     -999.0,9,     -999.0,9,     -999.0,9