BOTTLE,20220706CCHSIOAMB
EXPOCODE,SECT_ID,STNNBR,CASTNO,SAMPNO,BTLNBR,BTLNBR_FLAG_W,DATE,TIME,LATITUDE,LONGITUDE,DEPTH,CTDPRS,CTDTMP,CTDSAL,CTDSAL_FLAG_W,SALNTY,SALNTY_FLAG_W,CTDOXY,CTDOXY_FLAG_W,OXYGEN,OXYGEN_FLAG_W,SILCAT,SILCAT_FLAG_W,NH4,NH4_FLAG_W,NITRAT,NITRAT_FLAG_W,NITRIT,NITRIT_FLAG_W,PHSPHT,PHSPHT_FLAG_W,CFC-11,CFC-11_FLAG_W,CFC-12,CFC-12_FLAG_W,CFC113,CFC113_FLAG_W,SF6,SF6_FLAG_W,TCARBN,TCARBN_FLAG_W,ALKALI,ALKALI_FLAG_W,PH_TOT,PH_TOT_FLAG_W,PH_TMP,REFTMP,DELC13,DELC13_FLAG_W,DELC14,DELC14_FLAG_W,C14ERR,DELO18,DELO18_FLAG_W,POC,POC_FLAG_W,DOC,DOC_FLAG_W,TDN,TDN_FLAG_W,TON,TON_FLAG_W,D15N_NO3,D15N_NO3_FLAG_W,BTL_DATE,BTL_TIME,BTL_LAT,BTL_LON,14C-DOC,14C-DOC_FLAG_W,CHLORA,CHLORA_FLAG_W,HPLC,HPLC_FLAG_W,CDOM325,CDOM325_FLAG_W,CDOM340,CDOM340_FLAG_W,CDOM380,CDOM380_FLAG_W,CDOM412,CDOM412_FLAG_W,CDOM443,CDOM443_FLAG_W,CDOM490,CDOM490_FLAG_W,CDOM555,CDOM555_FLAG_W,CDOMSL,CDOMSL_FLAG_W,CDOMSN,CDOMSN_FLAG_W,D18O_NO3,D18O_NO3_FLAG_W,D15N_NO2+NO3,D15N_NO2+NO3_FLAG_W,D18O_NO2+NO3,D18O_NO2+NO3_FLAG_W
,,,,,,,,,,,METERS,DBAR,ITS-90,PSS-78,,PSS-78,,UMOL/KG,,UMOL/KG,,UMOL/KG,,UMOL/KG,,UMOL/KG,,UMOL/KG,,UMOL/KG,,PMOL/KG,,PMOL/KG,,PMOL/KG,,FMOL/KG,,UMOL/KG,,UMOL/KG,,,,DEG C,DEG C,/MILLE,,/MILLE,,/MILLE,/MILLE,,UG/KG,,UMOL/KG,,UMOL/KG,,UMOL/KG,,/MILLE,,,,,,/MILLE,,MG/M3,,,,1/M,,1/M,,1/M,,1/M,,1/M,,1/M,,1/M,,1/NM,,1/NM,,/MILLE,,/MILLE,,/MILLE,
33RR20160208,       I08S,      51,          1,         28,         28,2,20160303,       1825,   -45.5590,    94.4702,       3219,   167.0,   9.5978,  34.6029,2,  34.6009,2,    253.3,2,   252.6,2,     4.0,2,    0.00,2,   15.05,2,    0.00,2,    1.08,2,-999.000,9,-999.000,9,-999.000,9,-999.000000000,9,  2126.0,2, 2292.38,6,   7.7883,2,    25.00,   9.5960, -999.00,9,  -999.0,9,  -999.0, -999.00,1,-999.000,9,  -999.0,9, -999.00,9,     -999.0,9,    6.79,2, 20160303,     1951, -45.5590,  94.4702,     -999.0,9,     -999.0,9,     -999.0,9,-999.0000,9,-999.0000,9,-999.0000,9,-999.0000,9,-999.0000,9,-999.0000,9,-999.0000,9,     -999.0,9,     -999.0,9,       4.36,2,       6.79,2,       4.36,2
33RR20160208,       I08S,      51,          1,         29,         29,2,20160303,       1825,   -45.5590,    94.4702,       3219,   135.4,   9.2062,  34.4818,2,  34.4766,2,    263.7,2,   261.2,2,     3.4,2,    0.00,2,   15.56,2,    0.00,2,    1.10,2,   1.898,2,   1.898,2,   0.248,2,    1.96093859,2,  2123.5,2, 2287.98,2,   7.7868,2,    25.01,   9.2108, -999.00,9,  -999.0,9,  -999.0, -999.00,1,-999.000,9,  -999.0,9, -999.00,9,     -999.0,9,    6.82,2, 20160303,     1953, -45.5590,  94.4702,     -999.0,9,     -999.0,9,     -999.0,9,-999.0000,9,-999.0000,9,-999.0000,9,-999.0000,9,-999.0000,9,-999.0000,9,-999.0000,9,     -999.0,9,     -999.0,9,       4.71,2,       6.82,2,       4.71,2
33RR20160208,       I08S,      51,          1,         30,         30,2,20160303,       1825,   -45.5590,    94.4702,       3219,   110.0,   8.7535,  34.2148,2,  34.2131,2,    272.7,2,   275.0,2,     2.2,2,    0.00,2,   15.55,2,    0.62,2,    1.16,2,-999.000,9,-999.000,9,-999.000,9,-999.000000000,9,  2113.4,2, 2283.75,2,   7.7911,2,    25.00,   8.7550, -999.00,9,  -999.0,9,  -999.0, -999.00,1,-999.000,9,  -999.0,9, -999.00,9,     -999.0,9,    7.88,2, 20160303,     1955, -45.5590,  94.4702,     -999.0,9,     -999.0,9,     -999.0,9,-999.0000,9,-999.0000,9,-999.0000,9,-999.0000,9,-999.0000,9,-999.0000,9,-999.0000,9,     -999.0,9,     -999.0,9,       5.34,2,       7.37,2,       5.76,2
33RR20160208,       I08S,      51,          1,         31,         31,2,20160303,       1825,   -45.5590,    94.4702,       3219,    85.3,   8.8868,  34.1224,2,  34.1190,2,    285.1,2,   282.7,2,     1.6,2,    0.59,2,   14.98,2,    0.31,2,    1.14,2,   1.984,2,   1.984,2,   0.290,2,    2.17255067,2,  2106.3,2, 2277.74,2,   7.8045,6,    25.00,   8.8817, -999.00,9,  -999.0,9,  -999.0, -999.00,1,-999.000,9,  -999.0,9, -999.00,9,     -999.0,9,    9.24,2, 20160303,     1957, -45.5590,  94.4702,     -999.0,9,     -999.0,9,     -999.0,9,-999.0000,9,-999.0000,9,-999.0000,9,-999.0000,9,-999.0000,9,-999.0000,9,-999.0000,9,     -999.0,9,     -999.0,9,       5.77,2,       8.36,2,       6.05,2
33RR20160208,       I08S,      51,          1,         32,         32,2,20160303,       1825,   -45.5590,    94.4702,       3219,    60.3,   9.2864,  34.0638,2,  34.0634,2,    284.0,2,   284.3,2,     1.2,2,    0.26,2,   15.40,2,    0.22,2,    1.13,2,   1.935,2,   1.935,2,   0.286,2,    2.15844319,2,  -999.0,9, -999.00,9,-999.0000,9,     9.00,   9.2853, -999.00,9,  -999.0,9,  -999.0, -999.00,1,-999.000,9,  -999.0,9, -999.00,9,     -999.0,9,    9.61,2, 20160303,     1959, -45.5590,  94.4702,     -999.0,9,     -999.0,9,     -999.0,9,-999.0000,9,-999.0000,9,-999.0000,9,-999.0000,9,-999.0000,9,-999.0000,9,-999.0000,9,     -999.0,9,     -999.0,9,       5.84,2,       8.71,2,       5.95,2
33RR20160208,       I08S,      51,          1,         33,         33,2,20160303,       1825,   -45.5590,    94.4702,       3219,    34.4,   9.6826,  34.0756,2,  34.0773,2,    285.3,2,   283.0,2,     1.0,2,    0.22,2,   14.59,2,    0.22,2,    1.09,2,   1.911,2,   1.911,2,   0.284,2,    1.92466223,2,  2098.0,2, 2277.05,2,   7.8226,2,    25.01,   9.6610, -999.00,9,  -999.0,9,  -999.0, -999.00,1,-999.000,9,  -999.0,9, -999.00,9,     -999.0,9,    9.52,2, 20160303,     2002, -45.5590,  94.4702,     -999.0,9,     -999.0,9,     -999.0,9,-999.0000,9,-999.0000,9,-999.0000,9,-999.0000,9,-999.0000,9,-999.0000,9,-999.0000,9,     -999.0,9,     -999.0,9,       6.03,2,       8.99,2,       6.34,2
33RR20160208,       I08S,      51,          1,         34,         34,2,20160303,       1825,   -45.5590,    94.4702,       3219,     5.1,   9.8353,  34.0842,2,  34.0832,2,    281.4,2,   282.4,2,     0.9,2,    0.21,2,   14.28,2,    0.22,2,    1.06,2,   1.910,2,   1.910,2,   0.283,2,         1.969,2,  2097.8,6, 2276.44,2,   7.8257,6,    25.01,   9.8349, -999.00,9,  -999.0,9,  -999.0, -999.00,1,-999.000,9,  -999.0,9, -999.00,9,     -999.0,9,    10.0,2, 20160303,     2004, -45.5590,  94.4702,     -999.0,9,     -999.0,9,     -999.0,9,-999.0000,9,-999.0000,9,-999.0000,9,-999.0000,9,-999.0000,9,-999.0000,9,-999.0000,9,     -999.0,9,     -999.0,9,        6.5,2,        9.3,2,       6.43,2