BOTTLE,20220706CCHSIOAMB
EXPOCODE,SECT_ID,STNNBR,CASTNO,SAMPNO,BTLNBR,BTLNBR_FLAG_W,DATE,TIME,LATITUDE,LONGITUDE,DEPTH,CTDPRS,CTDTMP,CTDSAL,CTDSAL_FLAG_W,SALNTY,SALNTY_FLAG_W,CTDOXY,CTDOXY_FLAG_W,OXYGEN,OXYGEN_FLAG_W,SILCAT,SILCAT_FLAG_W,NH4,NH4_FLAG_W,NITRAT,NITRAT_FLAG_W,NITRIT,NITRIT_FLAG_W,PHSPHT,PHSPHT_FLAG_W,CFC-11,CFC-11_FLAG_W,CFC-12,CFC-12_FLAG_W,CFC113,CFC113_FLAG_W,SF6,SF6_FLAG_W,TCARBN,TCARBN_FLAG_W,ALKALI,ALKALI_FLAG_W,PH_TOT,PH_TOT_FLAG_W,PH_TMP,REFTMP,DELC13,DELC13_FLAG_W,DELC14,DELC14_FLAG_W,C14ERR,DELO18,DELO18_FLAG_W,POC,POC_FLAG_W,DOC,DOC_FLAG_W,TDN,TDN_FLAG_W,TON,TON_FLAG_W,D15N_NO3,D15N_NO3_FLAG_W,BTL_DATE,BTL_TIME,BTL_LAT,BTL_LON,14C-DOC,14C-DOC_FLAG_W,CHLORA,CHLORA_FLAG_W,HPLC,HPLC_FLAG_W,CDOM325,CDOM325_FLAG_W,CDOM340,CDOM340_FLAG_W,CDOM380,CDOM380_FLAG_W,CDOM412,CDOM412_FLAG_W,CDOM443,CDOM443_FLAG_W,CDOM490,CDOM490_FLAG_W,CDOM555,CDOM555_FLAG_W,CDOMSL,CDOMSL_FLAG_W,CDOMSN,CDOMSN_FLAG_W,D18O_NO3,D18O_NO3_FLAG_W,D15N_NO2+NO3,D15N_NO2+NO3_FLAG_W,D18O_NO2+NO3,D18O_NO2+NO3_FLAG_W
,,,,,,,,,,,METERS,DBAR,ITS-90,PSS-78,,PSS-78,,UMOL/KG,,UMOL/KG,,UMOL/KG,,UMOL/KG,,UMOL/KG,,UMOL/KG,,UMOL/KG,,PMOL/KG,,PMOL/KG,,PMOL/KG,,FMOL/KG,,UMOL/KG,,UMOL/KG,,,,DEG C,DEG C,/MILLE,,/MILLE,,/MILLE,/MILLE,,UG/KG,,UMOL/KG,,UMOL/KG,,UMOL/KG,,/MILLE,,,,,,/MILLE,,MG/M3,,,,1/M,,1/M,,1/M,,1/M,,1/M,,1/M,,1/M,,1/NM,,1/NM,,/MILLE,,/MILLE,,/MILLE,
33RR20160208,       I08S,      53,          1,         28,         28,2,20160304,       0636,   -44.3510,    95.0001,       3072,   151.1,   7.2526,  34.1678,2,  34.1745,2,    273.9,2,   274.1,2,     4.1,2,    0.01,2,   19.50,2,    0.00,2,    1.34,2,   3.867,2,   2.147,2,   0.321,2,             2,4,  2128.1,2, 2279.70,2,   7.7487,6,    25.05,   7.2505, -999.00,9,  -999.0,9,  -999.0, -999.00,9,-999.000,9,  -999.0,9, -999.00,9,     -999.0,9, -999.00,9, 20160304,      755, -44.3510,  95.0001,     -999.0,9,     -999.0,9,     -999.0,9,-999.0000,9,-999.0000,9,-999.0000,9,-999.0000,9,-999.0000,9,-999.0000,9,-999.0000,9,     -999.0,9,     -999.0,9,     -999.0,9,     -999.0,9,     -999.0,9
33RR20160208,       I08S,      53,          1,         29,         29,2,20160304,       0636,   -44.3510,    95.0001,       3072,   125.3,   6.9725,  34.0297,2,  34.0441,2,    286.5,2,   286.7,2,     2.7,2,    0.23,2,   18.75,2,    0.57,2,    1.34,2,-999.000,9,-999.000,9,-999.000,9,-999.000000000,9,  -999.0,9, -999.00,9,-999.0000,9,  -999.00,   6.9630, -999.00,9,  -999.0,9,  -999.0, -999.00,9,-999.000,9,  -999.0,9, -999.00,9,     -999.0,9, -999.00,9, 20160304,      756, -44.3510,  95.0001,     -999.0,9, 0.15706265,2,     -999.0,9,   0.0750,2,   0.0499,2,   0.0326,2,   0.0168,2,   0.0087,2,   0.0020,2,  -0.0001,4,     0.0144,2,     0.0160,2,     -999.0,9,     -999.0,9,     -999.0,9
33RR20160208,       I08S,      53,          1,         30,         30,2,20160304,       0636,   -44.3510,    95.0001,       3072,   101.6,   7.6014,  34.0621,2,  34.0564,2,    288.6,2,   288.2,2,     2.2,2,    0.68,2,   17.43,2,    0.39,2,    1.28,2,   3.840,2,   2.136,2,   0.343,2,         2.118,2,  2117.1,2, 2276.44,2,   7.7732,2,    25.04,   7.6389, -999.00,9,  -999.0,9,  -999.0, -999.00,9,-999.000,9,  -999.0,9, -999.00,9,     -999.0,9, -999.00,9, 20160304,      758, -44.3510,  95.0001,     -999.0,9,0.267761894,2,     -999.0,9,-999.0000,5,-999.0000,5,-999.0000,5,-999.0000,5,-999.0000,5,-999.0000,5,-999.0000,5,     -999.0,5,     -999.0,5,     -999.0,9,     -999.0,9,     -999.0,9
33RR20160208,       I08S,      53,          1,         31,         31,2,20160304,       0636,   -44.3510,    95.0001,       3072,    75.9,   8.9394,  33.9855,2,  33.9856,2,    286.7,2,   288.3,2,     1.6,2,    0.31,2,   16.64,2,    0.20,2,    1.19,2,-999.000,9,-999.000,9,-999.000,9,-999.000000000,9,  -999.0,9, -999.00,9,-999.0000,9,  -999.00,   8.9404, -999.00,9,  -999.0,9,  -999.0, -999.00,9,-999.000,9,  -999.0,9, -999.00,9,     -999.0,9, -999.00,9, 20160304,      800, -44.3510,  95.0001,     -999.0,9,0.283516454,2,     -999.0,9,   0.0768,2,   0.0504,2,   0.0286,2,   0.0162,2,   0.0094,2,   0.0029,2,   0.0003,4,     0.0167,2,     0.0189,2,     -999.0,9,     -999.0,9,     -999.0,9
33RR20160208,       I08S,      53,          1,         32,         32,2,20160304,       0636,   -44.3510,    95.0001,       3072,    52.0,   9.0501,  33.9974,2,  33.9975,2,    286.7,2,   287.7,2,     1.4,2,    0.26,2,   16.30,2,    0.20,2,    1.15,2,   3.631,2,   2.028,2,   0.322,2,         1.984,2,  2099.6,2, 2274.74,6,   7.8052,2,    25.01,   9.0497, -999.00,9,  -999.0,9,  -999.0, -999.00,9,-999.000,9,  -999.0,9, -999.00,9,     -999.0,9, -999.00,9, 20160304,      802, -44.3510,  95.0001,     -999.0,9,0.247674891,2,     -999.0,9,   0.0778,2,   0.0515,2,   0.0302,2,   0.0161,2,   0.0091,2,   0.0025,2,   0.0001,4,     0.0162,2,     0.0181,2,     -999.0,9,     -999.0,9,     -999.0,9
33RR20160208,       I08S,      53,          1,         33,         33,2,20160304,       0636,   -44.3510,    95.0001,       3072,    26.6,   9.4014,  34.0300,2,  34.0303,2,    285.6,2,   285.2,2,     1.3,2,    0.23,2,   15.53,2,    0.21,2,    1.11,2,-999.000,9,-999.000,9,-999.000,9,-999.000000000,9,  2100.0,2, 2275.22,2,   7.8117,2,    25.02,   9.3974, -999.00,9,  -999.0,9,  -999.0, -999.00,9,-999.000,9,  -999.0,9, -999.00,9,     -999.0,9, -999.00,9, 20160304,      804, -44.3510,  95.0001,     -999.0,9,0.251830018,2,     -999.0,9,   0.0796,2,   0.0528,2,   0.0306,2,   0.0166,2,   0.0096,2,   0.0031,2,   0.0003,4,     0.0165,2,     0.0183,2,     -999.0,9,     -999.0,9,     -999.0,9
33RR20160208,       I08S,      53,          1,         34,         34,2,20160304,       0636,   -44.3510,    95.0001,       3072,     5.3,   9.4034,  34.0313,2,  34.0309,2,    284.6,2,   285.6,2,     1.5,2,    0.24,2,   15.49,2,    0.21,2,    1.10,2,   3.577,2,   1.988,2,   0.313,2,         1.982,2,  2098.7,6, 2275.63,2,   7.8106,2,    25.03,   9.4018, -999.00,9,  -999.0,9,  -999.0, -999.00,9,-999.000,9,  -999.0,9, -999.00,9,     -999.0,9, -999.00,9, 20160304,      806, -44.3510,  95.0001,     -999.0,9,0.260936591,2,     -999.0,9,   0.0806,2,   0.0557,2,   0.0373,2,   0.0180,2,   0.0100,2,   0.0032,2,   0.0005,4,     0.0139,2,     0.0147,2,     -999.0,9,     -999.0,9,     -999.0,9