BOTTLE,20220706CCHSIOAMB
EXPOCODE,SECT_ID,STNNBR,CASTNO,SAMPNO,BTLNBR,BTLNBR_FLAG_W,DATE,TIME,LATITUDE,LONGITUDE,DEPTH,CTDPRS,CTDTMP,CTDSAL,CTDSAL_FLAG_W,SALNTY,SALNTY_FLAG_W,CTDOXY,CTDOXY_FLAG_W,OXYGEN,OXYGEN_FLAG_W,SILCAT,SILCAT_FLAG_W,NH4,NH4_FLAG_W,NITRAT,NITRAT_FLAG_W,NITRIT,NITRIT_FLAG_W,PHSPHT,PHSPHT_FLAG_W,CFC-11,CFC-11_FLAG_W,CFC-12,CFC-12_FLAG_W,CFC113,CFC113_FLAG_W,SF6,SF6_FLAG_W,TCARBN,TCARBN_FLAG_W,ALKALI,ALKALI_FLAG_W,PH_TOT,PH_TOT_FLAG_W,PH_TMP,REFTMP,DELC13,DELC13_FLAG_W,DELC14,DELC14_FLAG_W,C14ERR,DELO18,DELO18_FLAG_W,POC,POC_FLAG_W,DOC,DOC_FLAG_W,TDN,TDN_FLAG_W,TON,TON_FLAG_W,D15N_NO3,D15N_NO3_FLAG_W,BTL_DATE,BTL_TIME,BTL_LAT,BTL_LON,14C-DOC,14C-DOC_FLAG_W,CHLORA,CHLORA_FLAG_W,HPLC,HPLC_FLAG_W,CDOM325,CDOM325_FLAG_W,CDOM340,CDOM340_FLAG_W,CDOM380,CDOM380_FLAG_W,CDOM412,CDOM412_FLAG_W,CDOM443,CDOM443_FLAG_W,CDOM490,CDOM490_FLAG_W,CDOM555,CDOM555_FLAG_W,CDOMSL,CDOMSL_FLAG_W,CDOMSN,CDOMSN_FLAG_W,D18O_NO3,D18O_NO3_FLAG_W,D15N_NO2+NO3,D15N_NO2+NO3_FLAG_W,D18O_NO2+NO3,D18O_NO2+NO3_FLAG_W
,,,,,,,,,,,METERS,DBAR,ITS-90,PSS-78,,PSS-78,,UMOL/KG,,UMOL/KG,,UMOL/KG,,UMOL/KG,,UMOL/KG,,UMOL/KG,,UMOL/KG,,PMOL/KG,,PMOL/KG,,PMOL/KG,,FMOL/KG,,UMOL/KG,,UMOL/KG,,,,DEG C,DEG C,/MILLE,,/MILLE,,/MILLE,/MILLE,,UG/KG,,UMOL/KG,,UMOL/KG,,UMOL/KG,,/MILLE,,,,,,/MILLE,,MG/M3,,,,1/M,,1/M,,1/M,,1/M,,1/M,,1/M,,1/M,,1/NM,,1/NM,,/MILLE,,/MILLE,,/MILLE,
33RR20160208,       I08S,      65,          2,         28,         28,2,20160307,       1023,   -37.4941,    94.9880,       4299,   250.8,  11.4215,  34.9633,2,  34.9635,2,    245.6,2,   245.8,2,     2.4,2,    0.00,2,    9.98,2,    0.00,2,    0.75,2,-999.000,9,-999.000,9,-999.000,9,-999.000000000,9,  -999.0,9, -999.00,9,-999.0000,9,  -999.00,  11.4251, -999.00,9,  -999.0,9,  -999.0, -999.00,9,-999.000,9,  -999.0,9, -999.00,9,     -999.0,9, -999.00,9, 20160307,     1203, -37.4941,  94.9880,     -999.0,9,     -999.0,9,     -999.0,9,   0.0607,2,   0.0361,2,   0.0129,2,   0.0072,2,   0.0018,3,  -0.0019,4,  -0.0024,4,     0.0261,2,     0.0299,2,     -999.0,9,     -999.0,9,     -999.0,9
33RR20160208,       I08S,      65,          2,         29,         29,2,20160307,       1023,   -37.4941,    94.9880,       4299,   200.3,  11.7179,  34.9888,2,  34.9910,2,    249.6,2,   252.1,2,     2.0,2,    0.00,2,    8.51,2,    0.00,2,    0.66,2,   2.940,2,   1.743,2,   0.203,2,    1.83342617,2,  2113.9,2, 2310.04,2,   7.8414,2,    25.01,  11.7154, -999.00,9,  -999.0,9,  -999.0, -999.00,9,-999.000,9,  -999.0,9, -999.00,9,     -999.0,9, -999.00,9, 20160307,     1205, -37.4941,  94.9880,     -999.0,9,     -999.0,9,     -999.0,9,   0.0592,2,   0.0357,2,   0.0144,2,   0.0064,2,   0.0011,3,  -0.0027,4,  -0.0028,4,     0.0246,2,     0.0276,2,     -999.0,9,     -999.0,9,     -999.0,9
33RR20160208,       I08S,      65,          2,         30,         30,2,20160307,       1023,   -37.4941,    94.9880,       4299,   150.5,  12.3084,  35.0806,2,  35.0800,2,    246.3,2,   247.4,2,     1.7,2,    0.00,2,    7.28,2,    0.02,2,    0.60,2,-999.000,9,-999.000,9,-999.000,9,-999.000000000,9,  -999.0,9, -999.00,9,-999.0000,9,  -999.00,  12.2970, -999.00,9,  -999.0,9,  -999.0, -999.00,9,-999.000,9,  -999.0,9, -999.00,9,     -999.0,9, -999.00,9, 20160307,     1207, -37.4941,  94.9880,     -999.0,9,     -999.0,9,     -999.0,9,   0.0574,2,   0.0338,2,   0.0121,2,   0.0058,2,   0.0007,3,  -0.0027,4,  -0.0028,4,     0.0268,2,     0.0305,2,     -999.0,9,     -999.0,9,     -999.0,9
33RR20160208,       I08S,      65,          2,         31,         31,2,20160307,       1023,   -37.4941,    94.9880,       4299,   124.1,  12.7824,  35.1583,2,  35.1580,2,    245.0,2,   244.7,2,     1.3,2,    0.00,2,    5.33,2,    0.11,2,    0.47,2,   2.797,2,   1.666,2,   0.202,2,    1.77491256,2,  -999.0,9, -999.00,9,-999.0000,9,  -999.00,  12.7805, -999.00,9,  -999.0,9,  -999.0, -999.00,9,-999.000,9,  -999.0,9, -999.00,9,     -999.0,9, -999.00,9, 20160307,     1209, -37.4941,  94.9880,     -999.0,9,0.026879849,2,     -999.0,9,-999.0000,9,-999.0000,9,-999.0000,9,-999.0000,9,-999.0000,9,-999.0000,9,-999.0000,9,     -999.0,9,     -999.0,9,     -999.0,9,     -999.0,9,     -999.0,9
33RR20160208,       I08S,      65,          2,         32,         32,2,20160307,       1023,   -37.4941,    94.9880,       4299,   101.0,  13.2092,  35.2128,2,  35.2212,2,    245.4,2,   242.8,2,     1.5,2,    0.00,2,    6.50,2,    0.03,2,    0.55,2,-999.000,9,-999.000,9,-999.000,9,-999.000000000,9,  2110.3,2, 2321.03,2,   7.8740,2,    25.00,  13.2077, -999.00,9,  -999.0,9,  -999.0, -999.00,9,-999.000,9,  -999.0,9, -999.00,9,     -999.0,9, -999.00,9, 20160307,     1210, -37.4941,  94.9880,     -999.0,9,0.069839765,2,     -999.0,9,   0.0613,2,   0.0373,2,   0.0133,2,   0.0068,2,   0.0012,3,  -0.0023,4,  -0.0025,4,     0.0264,2,     0.0295,2,     -999.0,9,     -999.0,9,     -999.0,9
33RR20160208,       I08S,      65,          2,         33,         33,2,20160307,       1023,   -37.4941,    94.9880,       4299,    74.5,  14.1927,  35.3549,2,  35.3585,2,    241.6,2,   242.0,2,     1.1,2,    0.00,2,    2.52,2,    1.03,2,    0.36,2,   2.668,2,   1.579,2,   0.203,2,    1.79133744,2,  -999.0,9, -999.00,9,-999.0000,9,  -999.00,  14.2037, -999.00,9,  -999.0,9,  -999.0, -999.00,9,-999.000,9,  -999.0,9, -999.00,9,     -999.0,9, -999.00,9, 20160307,     1212, -37.4941,  94.9880,     -999.0,9,0.252130869,2,     -999.0,9,   0.0759,2,   0.0510,2,   0.0198,2,   0.0099,2,   0.0031,3,  -0.0014,4,  -0.0019,4,     0.0241,2,     0.0245,2,     -999.0,9,     -999.0,9,     -999.0,9
33RR20160208,       I08S,      65,          2,         34,         34,2,20160307,       1023,   -37.4941,    94.9880,       4299,    51.4,  15.6366,  35.1124,2,  35.1144,2,    256.4,2,   255.4,2,     0.6,2,    0.39,2,    2.06,2,    0.07,2,    0.32,2,-999.000,9,-999.000,9,-999.000,9,-999.000000000,9,  2082.3,2, 2320.25,2,   7.9281,2,    24.98,  15.7058, -999.00,9,  -999.0,9,  -999.0, -999.00,9,-999.000,9,  -999.0,9, -999.00,9,     -999.0,9, -999.00,9, 20160307,     1214, -37.4941,  94.9880,     -999.0,9,0.342529104,2,     -999.0,9,   0.1148,2,   0.0761,2,   0.0278,2,   0.0170,2,   0.0077,2,   0.0011,3,  -0.0009,4,     0.0242,2,     0.0260,2,     -999.0,9,     -999.0,9,     -999.0,9
33RR20160208,       I08S,      65,          2,         35,         35,2,20160307,       1023,   -37.4941,    94.9880,       4299,    26.6,  17.9059,  35.2029,2,  35.1982,2,    248.4,2,   242.7,2,     0.0,2,    0.05,2,    0.36,2,    0.03,2,    0.18,2,   2.401,4,   1.651,4,   0.195,4,    5.13687824,4,  2061.7,2, 2326.08,2,   7.9723,2,    24.99,  17.9033, -999.00,9,  -999.0,9,  -999.0, -999.00,9,-999.000,9,  -999.0,9, -999.00,9,     -999.0,9, -999.00,9, 20160307,     1217, -37.4941,  94.9880,     -999.0,9,0.313599645,2,     -999.0,9,   0.1203,2,   0.0801,2,   0.0315,2,   0.0159,2,   0.0070,2,   0.0009,3,  -0.0011,4,     0.0236,2,     0.0248,2,     -999.0,9,     -999.0,9,     -999.0,9
33RR20160208,       I08S,      65,          2,         36,         36,2,20160307,       1023,   -37.4941,    94.9880,       4299,     6.7,  18.5423,  35.2299,2,  35.2290,2,    242.3,2,   241.0,2,     0.0,2,    0.00,2,    0.01,2,    0.02,2,    0.15,2,-999.000,5,-999.000,5,-999.000,5,-999.000000000,5,  2061.4,6, 2328.66,2,   7.9779,2,    25.06,  18.5390, -999.00,9,  -999.0,9,  -999.0, -999.00,9,-999.000,9,  -999.0,9, -999.00,9,     -999.0,9, -999.00,9, 20160307,     1219, -37.4941,  94.9880,     -999.0,9,0.286137711,2,     -999.0,9,   0.1146,2,   0.0785,2,   0.0390,2,   0.0157,2,   0.0061,2,   0.0002,4,  -0.0013,4,     0.0200,2,     0.0206,2,     -999.0,9,     -999.0,9,     -999.0,9