BOTTLE,20220706CCHSIOAMB
EXPOCODE,SECT_ID,STNNBR,CASTNO,SAMPNO,BTLNBR,BTLNBR_FLAG_W,DATE,TIME,LATITUDE,LONGITUDE,DEPTH,CTDPRS,CTDTMP,CTDSAL,CTDSAL_FLAG_W,SALNTY,SALNTY_FLAG_W,CTDOXY,CTDOXY_FLAG_W,OXYGEN,OXYGEN_FLAG_W,SILCAT,SILCAT_FLAG_W,NH4,NH4_FLAG_W,NITRAT,NITRAT_FLAG_W,NITRIT,NITRIT_FLAG_W,PHSPHT,PHSPHT_FLAG_W,CFC-11,CFC-11_FLAG_W,CFC-12,CFC-12_FLAG_W,CFC113,CFC113_FLAG_W,SF6,SF6_FLAG_W,TCARBN,TCARBN_FLAG_W,ALKALI,ALKALI_FLAG_W,PH_TOT,PH_TOT_FLAG_W,PH_TMP,REFTMP,DELC13,DELC13_FLAG_W,DELC14,DELC14_FLAG_W,C14ERR,DELO18,DELO18_FLAG_W,POC,POC_FLAG_W,DOC,DOC_FLAG_W,TDN,TDN_FLAG_W,TON,TON_FLAG_W,D15N_NO3,D15N_NO3_FLAG_W,BTL_DATE,BTL_TIME,BTL_LAT,BTL_LON,14C-DOC,14C-DOC_FLAG_W,CHLORA,CHLORA_FLAG_W,HPLC,HPLC_FLAG_W,CDOM325,CDOM325_FLAG_W,CDOM340,CDOM340_FLAG_W,CDOM380,CDOM380_FLAG_W,CDOM412,CDOM412_FLAG_W,CDOM443,CDOM443_FLAG_W,CDOM490,CDOM490_FLAG_W,CDOM555,CDOM555_FLAG_W,CDOMSL,CDOMSL_FLAG_W,CDOMSN,CDOMSN_FLAG_W,D18O_NO3,D18O_NO3_FLAG_W,D15N_NO2+NO3,D15N_NO2+NO3_FLAG_W,D18O_NO2+NO3,D18O_NO2+NO3_FLAG_W
,,,,,,,,,,,METERS,DBAR,ITS-90,PSS-78,,PSS-78,,UMOL/KG,,UMOL/KG,,UMOL/KG,,UMOL/KG,,UMOL/KG,,UMOL/KG,,UMOL/KG,,PMOL/KG,,PMOL/KG,,PMOL/KG,,FMOL/KG,,UMOL/KG,,UMOL/KG,,,,DEG C,DEG C,/MILLE,,/MILLE,,/MILLE,/MILLE,,UG/KG,,UMOL/KG,,UMOL/KG,,UMOL/KG,,/MILLE,,,,,,/MILLE,,MG/M3,,,,1/M,,1/M,,1/M,,1/M,,1/M,,1/M,,1/M,,1/NM,,1/NM,,/MILLE,,/MILLE,,/MILLE,
33RR20160208,       I08S,      44,          1,          1,          1,2,20160301,       2306,   -49.0449,    91.2121,       3815,  3818.1,   0.6809,  34.6961,2,  34.6968,2,    214.0,2,   214.0,2,   123.0,2,    0.00,2,   32.18,2,    0.00,2,    2.19,2,   0.513,2,   0.263,2,   0.027,2,         0.148,2,  2260.1,6, 2359.85,2,   7.5987,2,    25.04,   0.6809, -999.00,9,  -999.0,9,  -999.0, -999.00,1,-999.000,9,    38.3,2, -999.00,9,     -999.0,1, -999.00,9, 20160301,     2306, -49.0449,  91.2121,     -999.0,9,     -999.0,9,     -999.0,9,-999.0000,9,-999.0000,9,-999.0000,9,-999.0000,9,-999.0000,9,-999.0000,9,-999.0000,9,     -999.0,9,     -999.0,9,     -999.0,9,     -999.0,9,     -999.0,9
33RR20160208,       I08S,      44,          1,          2,          2,2,20160301,       2306,   -49.0449,    91.2121,       3815,  3541.1,   0.9076,  34.7085,2,  34.7102,2,    209.2,2,   209.9,2,   117.3,2,    0.00,2,   31.85,2,    0.00,2,    2.18,2,   0.337,2,   0.180,2,   0.012,2,          0.12,2,  -999.0,9, -999.00,9,-999.0000,9,     9.00,   0.9083, -999.00,9,  -999.0,9,  -999.0, -999.00,1,-999.000,9,    39.9,2, -999.00,9,     -999.0,1, -999.00,9, 20160301,     2313, -49.0449,  91.2121,     -999.0,9,     -999.0,9,     -999.0,9,-999.0000,9,-999.0000,9,-999.0000,9,-999.0000,9,-999.0000,9,-999.0000,9,-999.0000,9,     -999.0,9,     -999.0,9,     -999.0,9,     -999.0,9,     -999.0,9
33RR20160208,       I08S,      44,          1,          3,          3,2,20160301,       2306,   -49.0449,    91.2121,       3815,  3269.2,   1.1832,  34.7229,2,  34.7241,2,    205.7,2,   206.0,2,   109.1,2,    0.00,2,   31.42,2,    0.00,2,    2.16,2,   0.215,2,   0.116,2,   0.004,2,             0,2,  2256.4,2, 2359.49,6,   7.6082,2,    25.03,   1.1838, -999.00,9,  -999.0,9,  -999.0, -999.00,1,-999.000,9,    37.7,2, -999.00,9,     -999.0,1, -999.00,9, 20160301,     2318, -49.0449,  91.2121,     -999.0,9,     -999.0,9,     -999.0,9,-999.0000,9,-999.0000,9,-999.0000,9,-999.0000,9,-999.0000,9,-999.0000,9,-999.0000,9,     -999.0,9,     -999.0,9,     -999.0,9,     -999.0,9,     -999.0,9
33RR20160208,       I08S,      44,          1,          4,          4,2,20160301,       2306,   -49.0449,    91.2121,       3815,  2991.8,   1.4121,  34.7350,2,  34.7367,2,    203.2,2,   203.4,2,   102.5,2,    0.00,2,   30.89,2,    0.00,2,    2.14,2,   0.140,2,   0.078,2,   0.000,2,             0,2,  -999.0,9, -999.00,9,-999.0000,9,  -999.00,   1.4120, -999.00,9,  -999.0,9,  -999.0, -999.00,1,-999.000,9,    37.1,2, -999.00,9,     -999.0,1, -999.00,9, 20160301,     2324, -49.0449,  91.2121,     -999.0,9,     -999.0,9,     -999.0,9,-999.0000,9,-999.0000,9,-999.0000,9,-999.0000,9,-999.0000,9,-999.0000,9,-999.0000,9,     -999.0,9,     -999.0,9,     -999.0,9,     -999.0,9,     -999.0,9
33RR20160208,       I08S,      44,          1,          5,          5,2,20160301,       2306,   -49.0449,    91.2121,       3815,  2799.0,   1.6079,  34.7440,2,  34.7463,2,    201.6,2,   203.1,2,    96.2,2,    0.00,2,   30.61,2,    0.00,2,    2.10,2,   0.146,2,   0.081,2,   0.000,2,             0,2,  2253.3,2, 2357.69,2,   7.6157,2,    25.04,   1.6088, -999.00,9,  -999.0,9,  -999.0, -999.00,1,-999.000,9,    38.0,2, -999.00,9,     -999.0,1, -999.00,9, 20160301,     2328, -49.0449,  91.2121,     -999.0,9,     -999.0,9,     -999.0,9,-999.0000,9,-999.0000,9,-999.0000,9,-999.0000,9,-999.0000,9,-999.0000,9,-999.0000,9,     -999.0,9,     -999.0,9,     -999.0,9,     -999.0,9,     -999.0,9
33RR20160208,       I08S,      44,          1,          6,         38,2,20160301,       2306,   -49.0449,    91.2121,       3815,  2600.2,   1.8121,  34.7515,2,  34.7510,2,    199.8,2,   200.2,2,    89.1,2,    0.00,2,   30.24,2,    0.00,2,    2.08,2,   0.127,2,   0.070,2,   0.000,2,             0,2,  -999.0,9, -999.00,9,-999.0000,9,  -999.00,   1.8131, -999.00,9,  -999.0,9,  -999.0, -999.00,1,-999.000,9,    38.3,2, -999.00,9,     -999.0,1, -999.00,9, 20160301,     2332, -49.0449,  91.2121,     -999.0,9,     -999.0,9,     -999.0,9,-999.0000,9,-999.0000,9,-999.0000,9,-999.0000,9,-999.0000,9,-999.0000,9,-999.0000,9,     -999.0,9,     -999.0,9,     -999.0,9,     -999.0,9,     -999.0,9
33RR20160208,       I08S,      44,          1,          7,          7,2,20160301,       2306,   -49.0449,    91.2121,       3815,  2396.9,   2.0181,  34.7545,2,  34.7538,2,    198.1,2,   198.6,2,    83.2,2,    0.00,2,   30.00,2,    0.00,2,    2.05,2,-999.000,9,-999.000,9,-999.000,9,-999.000000000,9,  2244.7,2, 2351.29,2,   7.6185,2,    25.03,   2.0186, -999.00,9,  -999.0,9,  -999.0, -999.00,1,-999.000,9,    38.5,2, -999.00,9,     -999.0,1, -999.00,9, 20160301,     2337, -49.0448,  91.2121,     -999.0,9,     -999.0,9,     -999.0,9,-999.0000,9,-999.0000,9,-999.0000,9,-999.0000,9,-999.0000,9,-999.0000,9,-999.0000,9,     -999.0,9,     -999.0,9,     -999.0,9,     -999.0,9,     -999.0,9
33RR20160208,       I08S,      44,          1,          8,          8,2,20160301,       2306,   -49.0449,    91.2121,       3815,  2195.2,   2.1908,  34.7487,2,  34.7510,2,    194.8,2,   195.3,2,    78.4,2,    0.00,2,   30.11,2,    0.00,2,    2.05,2,   0.138,2,   0.076,2,  -0.001,2,        -0.034,2,  -999.0,9, -999.00,9,-999.0000,9,     9.00,   2.1912, -999.00,9,  -999.0,9,  -999.0, -999.00,1,-999.000,9,    38.3,2, -999.00,9,     -999.0,1, -999.00,9, 20160301,     2341, -49.0449,  91.2122,     -999.0,9,     -999.0,9,     -999.0,9,-999.0000,9,-999.0000,9,-999.0000,9,-999.0000,9,-999.0000,9,-999.0000,9,-999.0000,9,     -999.0,9,     -999.0,9,     -999.0,9,     -999.0,9,     -999.0,9
33RR20160208,       I08S,      44,          1,          9,          9,2,20160301,       2306,   -49.0449,    91.2121,       3815,  1998.4,   2.3294,  34.7322,2,  34.7339,2,    191.0,2,   191.4,2,    75.3,2,    0.00,2,   30.54,2,    0.00,2,    2.08,2,-999.000,9,-999.000,9,-999.000,9,-999.000000000,9,  -999.0,9, -999.00,9,-999.0000,9,  -999.00,   2.3296, -999.00,9,  -999.0,9,  -999.0, -999.00,1,-999.000,9,    38.4,2, -999.00,9,     -999.0,1, -999.00,9, 20160301,     2345, -49.0449,  91.2122,     -999.0,9,     -999.0,9,     -999.0,9,-999.0000,9,-999.0000,9,-999.0000,9,-999.0000,9,-999.0000,9,-999.0000,9,-999.0000,9,     -999.0,9,     -999.0,9,     -999.0,9,     -999.0,9,     -999.0,9
33RR20160208,       I08S,      44,          1,         10,         10,2,20160301,       2306,   -49.0449,    91.2121,       3815,  1796.9,   2.4233,  34.6961,2,  34.6972,2,    184.0,2,   184.5,2,    73.6,2,    0.00,2,   31.47,2,    0.00,2,    2.15,2,   0.262,2,   0.140,2,   0.007,2,         0.051,2,  2247.6,2, 2341.64,2,   7.5889,6,    25.05,   2.4228,    0.52,2,  -142.8,2,     1.8, -999.00,1,-999.000,9,    39.8,2, -999.00,9,     -999.0,1, -999.00,9, 20160301,     2349, -49.0449,  91.2124,     -999.0,9,     -999.0,9,     -999.0,9,-999.0000,9,-999.0000,9,-999.0000,9,-999.0000,9,-999.0000,9,-999.0000,9,-999.0000,9,     -999.0,9,     -999.0,9,     -999.0,9,     -999.0,9,     -999.0,9
33RR20160208,       I08S,      44,          1,         11,         11,2,20160301,       2306,   -49.0449,    91.2121,       3815,  1698.9,   2.4656,  34.6721,2,  34.6739,2,    180.6,2,   181.1,2,    72.4,2,    0.00,2,   31.97,2,    0.00,2,    2.19,2,-999.000,9,-999.000,9,-999.000,9,-999.000000000,9,  -999.0,9, -999.00,9,-999.0000,9,     9.00,   2.4659, -999.00,9,  -999.0,9,  -999.0, -999.00,1,-999.000,9,    38.3,2, -999.00,9,     -999.0,1, -999.00,9, 20160301,     2352, -49.0449,  91.2122,     -999.0,9,     -999.0,9,     -999.0,9,-999.0000,9,-999.0000,9,-999.0000,9,-999.0000,9,-999.0000,9,-999.0000,9,-999.0000,9,     -999.0,9,     -999.0,9,     -999.0,9,     -999.0,9,     -999.0,9
33RR20160208,       I08S,      44,          1,         12,         12,2,20160301,       2306,   -49.0449,    91.2121,       3815,  1599.8,   2.5287,  34.6451,2,  34.6477,2,    178.4,2,   178.6,2,    70.8,2,    0.00,2,   32.53,2,    0.00,2,    2.23,2,   0.389,2,   0.206,2,   0.014,2,         0.116,2,  2247.8,2, 2337.45,2,   7.5734,6,    25.03,   2.5300,    0.51,2,  -144.3,2,     1.8, -999.00,1,-999.000,9,    39.1,2, -999.00,9,     -999.0,1, -999.00,9, 20160301,     2355, -49.0448,  91.2123,     -999.0,9,     -999.0,9,     -999.0,9,-999.0000,9,-999.0000,9,-999.0000,9,-999.0000,9,-999.0000,9,-999.0000,9,-999.0000,9,     -999.0,9,     -999.0,9,     -999.0,9,     -999.0,9,     -999.0,9
33RR20160208,       I08S,      44,          1,         13,         13,2,20160301,       2306,   -49.0449,    91.2121,       3815,  1497.5,   2.6001,  34.6179,2,  34.6201,2,    176.6,2,   177.4,2,    69.5,2,    0.00,2,   32.99,2,    0.00,2,    2.26,2,-999.000,9,-999.000,9,-999.000,9,-999.000000000,9,  -999.0,9, -999.00,9,-999.0000,9,  -999.00,   2.6001, -999.00,9,  -999.0,9,  -999.0, -999.00,1,-999.000,9,    39.3,2, -999.00,9,     -999.0,1, -999.00,9, 20160301,     2357, -49.0449,  91.2122,     -999.0,9,     -999.0,9,     -999.0,9,-999.0000,9,-999.0000,9,-999.0000,9,-999.0000,9,-999.0000,9,-999.0000,9,-999.0000,9,     -999.0,9,     -999.0,9,     -999.0,9,     -999.0,9,     -999.0,9
33RR20160208,       I08S,      44,          1,         14,         14,2,20160301,       2306,   -49.0449,    91.2121,       3815,  1400.8,   2.6711,  34.5783,2,  34.5792,2,    175.6,2,   175.7,2,    67.7,2,    0.00,2,   33.44,2,    0.00,2,    2.31,2,   0.589,2,   0.303,2,   0.028,2,         0.156,2,  2247.8,2, 2333.28,2,   7.5615,6,    25.04,   2.6731,    0.52,2,  -138.5,2,     1.8, -999.00,1,-999.000,9,    37.9,2, -999.00,9,     -999.0,1, -999.00,9, 20160302,        0, -49.0449,  91.2121,     -999.0,9,     -999.0,9,     -999.0,9,-999.0000,9,-999.0000,9,-999.0000,9,-999.0000,9,-999.0000,9,-999.0000,9,-999.0000,9,     -999.0,9,     -999.0,9,     -999.0,9,     -999.0,9,     -999.0,9
33RR20160208,       I08S,      44,          1,         15,         15,2,20160301,       2306,   -49.0449,    91.2121,       3815,  1299.7,   2.8480,  34.5395,2,  34.5412,2,    176.0,2,   176.7,2,    64.3,2,    0.00,2,   33.66,2,    0.00,2,    2.32,2,   0.712,2,   0.361,2,   0.037,2,         0.172,2,  -999.0,9, -999.00,9,-999.0000,9,  -999.00,   2.8481, -999.00,9,  -999.0,9,  -999.0, -999.00,1,-999.000,9,    41.4,2, -999.00,9,     -999.0,1, -999.00,9, 20160302,        3, -49.0449,  91.2121,     -999.0,9,     -999.0,9,     -999.0,9,-999.0000,9,-999.0000,9,-999.0000,9,-999.0000,9,-999.0000,9,-999.0000,9,-999.0000,9,     -999.0,9,     -999.0,9,     -999.0,9,     -999.0,9,     -999.0,9
33RR20160208,       I08S,      44,          1,         16,         16,2,20160301,       2306,   -49.0449,    91.2121,       3815,  1200.3,   2.9121,  34.4880,2,  34.4894,2,    178.7,2,   178.4,2,    60.7,2,    0.00,2,   33.93,2,    0.00,2,    2.34,2,   0.970,2,   0.483,2,   0.058,2,         0.269,2,  2242.1,2, 2324.25,2,   7.5584,2,    25.04,   2.9134,    0.57,2,  -123.0,2,     2.5, -999.00,1,-999.000,9,    39.7,2, -999.00,9,     -999.0,1, -999.00,9, 20160302,        5, -49.0448,  91.2122,     -999.0,9,     -999.0,9,     -999.0,9,-999.0000,9,-999.0000,9,-999.0000,9,-999.0000,9,-999.0000,9,-999.0000,9,-999.0000,9,     -999.0,9,     -999.0,9,     -999.0,9,     -999.0,9,     -999.0,9
33RR20160208,       I08S,      44,          1,         17,         17,2,20160301,       2306,   -49.0449,    91.2121,       3815,  1098.7,   2.8822,  34.4098,2,  34.4102,2,    190.1,2,   188.1,2,    55.0,2,    0.00,2,   34.09,2,    0.00,2,    2.33,2,   1.531,2,   0.767,2,   0.104,2,         0.432,2,  -999.0,9, -999.00,9,-999.0000,9,     9.00,   2.8881, -999.00,9,  -999.0,9,  -999.0, -999.00,1,-999.000,9,    39.3,2, -999.00,9,     -999.0,1, -999.00,9, 20160302,        8, -49.0449,  91.2122,     -999.0,9,     -999.0,9,     -999.0,9,-999.0000,9,-999.0000,9,-999.0000,9,-999.0000,9,-999.0000,9,-999.0000,9,-999.0000,9,     -999.0,9,     -999.0,9,     -999.0,9,     -999.0,9,     -999.0,9
33RR20160208,       I08S,      44,          1,         18,         37,2,20160301,       2306,   -49.0449,    91.2121,       3815,  1001.2,   3.1608,  34.3787,2,  34.3813,2,    194.5,2,   192.9,2,    48.9,2,    0.00,2,   33.33,2,    0.00,2,    2.30,2,   1.693,2,   0.841,2,   0.113,2,         0.488,2,  2227.2,2, 2313.09,2,   7.5691,2,    25.04,   3.1650,    0.71,2,  -102.5,2,     1.7, -999.00,1,-999.000,9,    39.1,2, -999.00,9,     -999.0,1, -999.00,9, 20160302,       11, -49.0449,  91.2121,     -999.0,9,     -999.0,9,     -999.0,9,-999.0000,9,-999.0000,9,-999.0000,9,-999.0000,9,-999.0000,9,-999.0000,9,-999.0000,9,     -999.0,9,     -999.0,9,     -999.0,9,     -999.0,9,     -999.0,9
33RR20160208,       I08S,      44,          1,         19,         19,2,20160301,       2306,   -49.0449,    91.2121,       3815,   900.4,   3.2243,  34.3121,2,  34.3104,2,    214.6,2,   207.5,2,    41.2,2,    0.00,2,   32.64,2,    0.00,2,    2.25,2,   2.377,2,   1.165,2,   0.161,2,         0.619,2,  -999.0,9, -999.00,9,-999.0000,9,  -999.00,   3.2222, -999.00,9,  -999.0,9,  -999.0, -999.00,1,-999.000,9,    38.8,2, -999.00,9,     -999.0,1, -999.00,9, 20160302,       13, -49.0449,  91.2121,     -999.0,9,     -999.0,9,     -999.0,9,-999.0000,9,-999.0000,9,-999.0000,9,-999.0000,9,-999.0000,9,-999.0000,9,-999.0000,9,     -999.0,9,     -999.0,9,     -999.0,9,     -999.0,9,     -999.0,9
33RR20160208,       I08S,      44,          1,         20,         20,2,20160301,       2306,   -49.0449,    91.2121,       3815,   800.1,   3.4771,  34.2469,2,  34.2494,2,    229.1,2,   224.1,2,    32.0,2,    0.00,2,   31.32,2,    0.00,2,    2.14,2,   2.903,2,   1.494,2,   0.212,2,         0.964,2,  2199.5,2, 2293.83,2,   7.6010,6,    25.05,   3.4792,    0.87,2,   -70.7,2,     1.8, -999.00,1,-999.000,9,    39.3,2, -999.00,9,     -999.0,1, -999.00,9, 20160302,       16, -49.0449,  91.2122,     -999.0,9,     -999.0,9,     -999.0,9,-999.0000,9,-999.0000,9,-999.0000,9,-999.0000,9,-999.0000,9,-999.0000,9,-999.0000,9,     -999.0,9,     -999.0,9,     -999.0,9,     -999.0,9,     -999.0,9
33RR20160208,       I08S,      44,          1,         21,         21,2,20160301,       2306,   -49.0449,    91.2121,       3815,   700.2,   4.4780,  34.2775,2,  34.2808,2,    224.3,2,   224.2,2,    24.2,2,    0.00,2,   29.32,2,    0.00,2,    2.00,2,   3.014,2,   1.582,2,   0.213,2,         1.046,2,  -999.0,9, -999.00,9,-999.0000,9,  -999.00,   4.4797, -999.00,9,  -999.0,9,  -999.0, -999.00,1,-999.000,9,    41.1,2, -999.00,9,     -999.0,1, -999.00,9, 20160302,       18, -49.0449,  91.2121,     -999.0,9,     -999.0,9,     -999.0,9,-999.0000,9,-999.0000,9,-999.0000,9,-999.0000,9,-999.0000,9,-999.0000,9,-999.0000,9,     -999.0,9,     -999.0,9,     -999.0,9,     -999.0,9,     -999.0,9
33RR20160208,       I08S,      44,          1,         22,         22,2,20160301,       2306,   -49.0449,    91.2121,       3815,   597.7,   5.2812,  34.3078,2,  34.3088,2,    223.0,2,   223.6,2,    20.1,2,    0.00,2,   27.65,2,    0.00,2,    1.90,2,   3.163,2,   1.666,2,   0.212,2,         1.053,2,  2180.5,2, 2287.97,2,   7.6421,2,    25.04,   5.2818,    0.98,2,   -34.7,2,     1.9, -999.00,1,-999.000,9,    41.5,2, -999.00,9,     -999.0,1, -999.00,9, 20160302,       21, -49.0449,  91.2121,     -999.0,9,     -999.0,9,     -999.0,9,-999.0000,9,-999.0000,9,-999.0000,9,-999.0000,9,-999.0000,9,-999.0000,9,-999.0000,9,     -999.0,9,     -999.0,9,     -999.0,9,     -999.0,9,     -999.0,9
33RR20160208,       I08S,      44,          1,         23,         23,2,20160301,       2306,   -49.0449,    91.2121,       3815,   499.8,   7.0407,  34.4592,2,  34.4596,2,    213.0,2,   213.0,2,    15.1,2,    0.00,2,   24.39,2,    0.00,2,    1.67,2,   3.057,2,   1.600,2,   0.154,2,         1.018,2,  2169.9,2, 2289.35,2,   7.6750,2,    25.05,   7.0456,    0.95,2,    -9.5,2,     2.4, -999.00,1,-999.000,9,    41.6,2, -999.00,9,     -999.0,1, -999.00,9, 20160302,       24, -49.0449,  91.2122,     -999.0,9,     -999.0,9,     -999.0,9,-999.0000,9,-999.0000,9,-999.0000,9,-999.0000,9,-999.0000,9,-999.0000,9,-999.0000,9,     -999.0,9,     -999.0,9,     -999.0,9,     -999.0,9,     -999.0,9
33RR20160208,       I08S,      44,          1,         24,         24,2,20160301,       2306,   -49.0449,    91.2121,       3815,   450.3,   7.7592,  34.5246,2,  34.5247,2,    212.8,2,   212.7,2,    13.0,2,    0.00,2,   22.68,2,    0.00,2,    1.55,2,   3.074,2,   1.629,2,   0.140,2,         1.024,2,  2162.3,2, 2289.69,2,   7.6935,2,    25.04,   7.7515,    1.00,2,     0.5,2,     2.0, -999.00,1,-999.000,9,    43.6,2, -999.00,9,     -999.0,1, -999.00,9, 20160302,       25, -49.0449,  91.2122,     -999.0,9,     -999.0,9,     -999.0,9,-999.0000,9,-999.0000,9,-999.0000,9,-999.0000,9,-999.0000,9,-999.0000,9,-999.0000,9,     -999.0,9,     -999.0,9,     -999.0,9,     -999.0,9,     -999.0,9
33RR20160208,       I08S,      44,          1,         25,         25,2,20160301,       2306,   -49.0449,    91.2121,       3815,   401.3,   8.3969,  34.5826,2,  34.5829,2,    214.4,2,   214.8,2,    10.6,2,    0.00,2,   20.85,2,    0.00,2,    1.45,2,   3.108,2,   1.671,2,   0.133,2,         1.164,2,  2160.1,2, 2290.75,2,   7.7127,2,    25.04,   8.3964,    1.00,2,    11.0,2,     2.0, -999.00,1,-999.000,9,    42.1,2, -999.00,9,     -999.0,1, -999.00,9, 20160302,       27, -49.0449,  91.2121,     -999.0,9,     -999.0,9,     -999.0,9,-999.0000,9,-999.0000,9,-999.0000,9,-999.0000,9,-999.0000,9,-999.0000,9,-999.0000,9,     -999.0,9,     -999.0,9,     -999.0,9,     -999.0,9,     -999.0,9
33RR20160208,       I08S,      44,          1,         26,         26,2,20160301,       2306,   -49.0449,    91.2121,       3815,   351.3,   8.7989,  34.5907,2,  34.5916,2,    223.1,2,   224.0,2,     8.2,2,    0.00,2,   19.18,2,    0.00,2,    1.32,2,   3.222,2,   1.766,2,   0.149,2,           1.3,2,  2148.1,2, 2290.80,2,   7.7333,2,    25.04,   8.7984, -999.00,9,  -999.0,9,  -999.0, -999.00,1,-999.000,9,    44.7,2, -999.00,9,     -999.0,1, -999.00,9, 20160302,       29, -49.0449,  91.2122,     -999.0,9,     -999.0,9,     -999.0,9,-999.0000,9,-999.0000,9,-999.0000,9,-999.0000,9,-999.0000,9,-999.0000,9,-999.0000,9,     -999.0,9,     -999.0,9,     -999.0,9,     -999.0,9,     -999.0,9
33RR20160208,       I08S,      44,          1,         27,         27,2,20160301,       2306,   -49.0449,    91.2121,       3815,   302.1,   9.4501,  34.6618,2,  34.6589,2,    234.9,2,   232.9,2,     6.3,2,    0.00,2,   16.75,2,    0.00,2,    1.19,2,   3.258,2,   1.811,2,   0.161,2,         1.455,2,  2138.4,2, 2292.79,2,   7.7604,6,    25.04,   9.4510,    1.00,2,    15.0,2,     2.0, -999.00,1,-999.000,9,    45.1,2,   19.60,2,     -999.0,1, -999.00,9, 20160302,       31, -49.0449,  91.2122,     -999.0,9,     -999.0,9,     -999.0,9,-999.0000,9,-999.0000,9,-999.0000,9,-999.0000,9,-999.0000,9,-999.0000,9,-999.0000,9,     -999.0,9,     -999.0,9,     -999.0,9,     -999.0,9,     -999.0,9