BOTTLE,20220706CCHSIOAMB
EXPOCODE,SECT_ID,STNNBR,CASTNO,SAMPNO,BTLNBR,BTLNBR_FLAG_W,DATE,TIME,LATITUDE,LONGITUDE,DEPTH,CTDPRS,CTDTMP,CTDSAL,CTDSAL_FLAG_W,SALNTY,SALNTY_FLAG_W,CTDOXY,CTDOXY_FLAG_W,OXYGEN,OXYGEN_FLAG_W,SILCAT,SILCAT_FLAG_W,NH4,NH4_FLAG_W,NITRAT,NITRAT_FLAG_W,NITRIT,NITRIT_FLAG_W,PHSPHT,PHSPHT_FLAG_W,CFC-11,CFC-11_FLAG_W,CFC-12,CFC-12_FLAG_W,CFC113,CFC113_FLAG_W,SF6,SF6_FLAG_W,TCARBN,TCARBN_FLAG_W,ALKALI,ALKALI_FLAG_W,PH_TOT,PH_TOT_FLAG_W,PH_TMP,REFTMP,DELC13,DELC13_FLAG_W,DELC14,DELC14_FLAG_W,C14ERR,DELO18,DELO18_FLAG_W,POC,POC_FLAG_W,DOC,DOC_FLAG_W,TDN,TDN_FLAG_W,TON,TON_FLAG_W,D15N_NO3,D15N_NO3_FLAG_W,BTL_DATE,BTL_TIME,BTL_LAT,BTL_LON,14C-DOC,14C-DOC_FLAG_W,CHLORA,CHLORA_FLAG_W,HPLC,HPLC_FLAG_W,CDOM325,CDOM325_FLAG_W,CDOM340,CDOM340_FLAG_W,CDOM380,CDOM380_FLAG_W,CDOM412,CDOM412_FLAG_W,CDOM443,CDOM443_FLAG_W,CDOM490,CDOM490_FLAG_W,CDOM555,CDOM555_FLAG_W,CDOMSL,CDOMSL_FLAG_W,CDOMSN,CDOMSN_FLAG_W,D18O_NO3,D18O_NO3_FLAG_W,D15N_NO2+NO3,D15N_NO2+NO3_FLAG_W,D18O_NO2+NO3,D18O_NO2+NO3_FLAG_W
,,,,,,,,,,,METERS,DBAR,ITS-90,PSS-78,,PSS-78,,UMOL/KG,,UMOL/KG,,UMOL/KG,,UMOL/KG,,UMOL/KG,,UMOL/KG,,UMOL/KG,,PMOL/KG,,PMOL/KG,,PMOL/KG,,FMOL/KG,,UMOL/KG,,UMOL/KG,,,,DEG C,DEG C,/MILLE,,/MILLE,,/MILLE,/MILLE,,UG/KG,,UMOL/KG,,UMOL/KG,,UMOL/KG,,/MILLE,,,,,,/MILLE,,MG/M3,,,,1/M,,1/M,,1/M,,1/M,,1/M,,1/M,,1/M,,1/NM,,1/NM,,/MILLE,,/MILLE,,/MILLE,
33RR20160208,       I08S,      43,          1,          1,          1,2,20160301,       1634,   -49.5429,    90.7469,       3868,  3883.5,   0.7046,  34.6969,2,  34.6970,2,    215.2,2,   215.3,2,   122.8,2,    0.00,2,   32.02,2,    0.00,2,    2.21,2,   0.499,2,   0.262,2,   0.023,2,         0.119,2,  2262.9,6, 2360.62,2,   7.5985,2,    25.04,   0.7049, -999.00,9,  -999.0,9,  -999.0, -999.00,1,-999.000,9,  -999.0,9, -999.00,9,     -999.0,9,    4.76,2, 20160301,     1634, -49.5429,  90.7469,     -999.0,9,     -999.0,9,     -999.0,9,-999.0000,9,-999.0000,9,-999.0000,9,-999.0000,9,-999.0000,9,-999.0000,9,-999.0000,9,     -999.0,9,     -999.0,9,       1.93,2,       4.76,2,       1.93,2
33RR20160208,       I08S,      43,          1,          2,          2,2,20160301,       1634,   -49.5429,    90.7469,       3868,  3566.1,   1.0177,  34.7139,2,  34.7147,2,    209.1,2,   209.0,2,   114.7,2,    0.00,2,   31.54,2,    0.00,2,    2.17,2,   0.280,2,   0.149,2,   0.008,2,         0.043,2,  2261.9,2, 2360.75,2,   7.6054,3,    25.05,   1.0174, -999.00,9,  -999.0,9,  -999.0, -999.00,1,-999.000,9,  -999.0,9, -999.00,9,     -999.0,9,    4.82,2, 20160301,     1641, -49.5429,  90.7469,     -999.0,9,     -999.0,9,     -999.0,9,-999.0000,9,-999.0000,9,-999.0000,9,-999.0000,9,-999.0000,9,-999.0000,9,-999.0000,9,     -999.0,9,     -999.0,9,       1.88,2,       4.82,2,       1.88,2
33RR20160208,       I08S,      43,          1,          3,          3,2,20160301,       1634,   -49.5429,    90.7469,       3868,  3249.7,   1.2318,  34.7256,2,  34.7249,2,    206.0,2,   205.9,2,   108.5,2,    0.00,2,   31.18,2,    0.00,2,    2.14,2,   0.179,2,   0.096,2,   0.000,2,             0,2,  -999.0,9, -999.00,9,-999.0000,9,  -999.00,   1.2321, -999.00,9,  -999.0,9,  -999.0, -999.00,1,-999.000,9,  -999.0,9, -999.00,9,     -999.0,9,    4.81,2, 20160301,     1647, -49.5429,  90.7469,     -999.0,9,     -999.0,9,     -999.0,9,-999.0000,9,-999.0000,9,-999.0000,9,-999.0000,9,-999.0000,9,-999.0000,9,-999.0000,9,     -999.0,9,     -999.0,9,       1.89,2,       4.81,2,       1.89,2
33RR20160208,       I08S,      43,          1,          4,          4,2,20160301,       1634,   -49.5429,    90.7469,       3868,  2935.8,   1.4661,  34.7376,2,  34.7379,2,    203.4,2,   203.4,2,   101.2,2,    0.00,2,   30.83,2,    0.00,2,    2.11,2,   0.134,2,   0.074,2,   0.000,2,         0.057,2,  -999.0,9, -999.00,9,-999.0000,9,  -999.00,   1.4667, -999.00,9,  -999.0,9,  -999.0, -999.00,1,-999.000,9,  -999.0,9, -999.00,9,     -999.0,9,    4.84,2, 20160301,     1654, -49.5429,  90.7470,     -999.0,9,     -999.0,9,     -999.0,9,-999.0000,9,-999.0000,9,-999.0000,9,-999.0000,9,-999.0000,9,-999.0000,9,-999.0000,9,     -999.0,9,     -999.0,9,       1.89,2,       4.84,2,       1.89,2
33RR20160208,       I08S,      43,          1,          5,          5,3,20160301,       1634,   -49.5429,    90.7469,       3868,  2738.3,   1.6770,  34.7471,3,  34.7473,3,    201.8,3,   202.6,3,    94.8,3,    0.00,3,   30.33,3,    0.00,3,    2.09,3,   0.122,2,   0.069,2,   0.000,2,         0.017,2,  -999.0,9, -999.00,9,-999.0000,9,     9.00,   1.6765, -999.00,9,  -999.0,9,  -999.0, -999.00,1,-999.000,9,  -999.0,9, -999.00,9,     -999.0,9,    4.85,2, 20160301,     1658, -49.5429,  90.7470,     -999.0,9,     -999.0,9,     -999.0,9,-999.0000,9,-999.0000,9,-999.0000,9,-999.0000,9,-999.0000,9,-999.0000,9,-999.0000,9,     -999.0,9,     -999.0,9,       1.87,2,       4.85,2,       1.87,2
33RR20160208,       I08S,      43,          1,          6,         38,2,20160301,       1634,   -49.5429,    90.7469,       3868,  2532.7,   1.8486,  34.7530,2,  34.7533,2,    200.2,2,   199.9,2,    89.1,2,    0.00,2,   30.10,2,    0.00,2,    2.06,2,   0.119,2,   0.065,2,   0.000,2,         0.031,2,  2249.3,2, 2354.54,2,   7.6195,6,    25.04,   1.8482, -999.00,9,  -999.0,9,  -999.0, -999.00,1,-999.000,9,  -999.0,9, -999.00,9,     -999.0,9,     4.9,2, 20160301,     1703, -49.5429,  90.7469,     -999.0,9,     -999.0,9,     -999.0,9,-999.0000,9,-999.0000,9,-999.0000,9,-999.0000,9,-999.0000,9,-999.0000,9,-999.0000,9,     -999.0,9,     -999.0,9,       1.87,2,        4.9,2,       1.87,2
33RR20160208,       I08S,      43,          1,          7,          7,2,20160301,       1634,   -49.5429,    90.7469,       3868,  2332.2,   2.0236,  34.7567,2,  34.7565,2,    198.9,2,   199.8,2,    83.2,2,    0.00,2,   29.72,2,    0.00,2,    2.03,2,-999.000,9,-999.000,9,-999.000,9,-999.000000000,9,  -999.0,9, -999.00,9,-999.0000,9,  -999.00,   2.0236, -999.00,9,  -999.0,9,  -999.0, -999.00,1,-999.000,9,  -999.0,9, -999.00,9,     -999.0,9,    4.92,2, 20160301,     1707, -49.5429,  90.7470,     -999.0,9,     -999.0,9,     -999.0,9,-999.0000,9,-999.0000,9,-999.0000,9,-999.0000,9,-999.0000,9,-999.0000,9,-999.0000,9,     -999.0,9,     -999.0,9,        1.8,2,       4.92,2,        1.8,2
33RR20160208,       I08S,      43,          1,          8,          8,2,20160301,       1634,   -49.5429,    90.7469,       3868,  2130.3,   2.1894,  34.7518,2,  34.7520,2,    196.6,2,   196.6,2,    78.2,2,    0.00,2,   29.78,2,    0.00,2,    2.04,2,   0.127,2,   0.072,2,   0.000,2,         0.036,2,  -999.0,9, -999.00,9,-999.0000,9,     9.00,   2.1894, -999.00,9,  -999.0,9,  -999.0, -999.00,1,-999.000,9,  -999.0,9, -999.00,9,     -999.0,9,    4.97,2, 20160301,     1711, -49.5429,  90.7471,     -999.0,9,     -999.0,9,     -999.0,9,-999.0000,9,-999.0000,9,-999.0000,9,-999.0000,9,-999.0000,9,-999.0000,9,-999.0000,9,     -999.0,9,     -999.0,9,       1.96,2,       4.97,2,       1.96,2
33RR20160208,       I08S,      43,          1,          9,          9,2,20160301,       1634,   -49.5429,    90.7469,       3868,  1932.8,   2.3197,  34.7365,2,  34.7367,2,    192.6,2,   192.4,2,    74.5,2,    0.00,2,   30.22,2,    0.00,2,    2.06,2,-999.000,9,-999.000,9,-999.000,9,-999.000000000,9,  -999.0,9, -999.00,9,-999.0000,9,  -999.00,   2.3198, -999.00,9,  -999.0,9,  -999.0, -999.00,1,-999.000,9,  -999.0,9, -999.00,9,     -999.0,9,     5.0,2, 20160301,     1716, -49.5429,  90.7469,     -999.0,9,     -999.0,9,     -999.0,9,-999.0000,9,-999.0000,9,-999.0000,9,-999.0000,9,-999.0000,9,-999.0000,9,-999.0000,9,     -999.0,9,     -999.0,9,       1.89,2,        5.0,2,       1.89,2
33RR20160208,       I08S,      43,          1,         10,         10,2,20160301,       1634,   -49.5429,    90.7469,       3868,  1764.7,   2.3734,  34.7124,2,  34.7117,2,    187.2,2,   187.8,2,    74.3,2,    0.00,2,   30.93,2,    0.00,2,    2.10,2,   0.228,2,   0.127,2,   0.005,2,         0.021,2,  -999.0,9, -999.00,9,-999.0000,9,  -999.00,   2.3736, -999.00,9,  -999.0,9,  -999.0, -999.00,1,-999.000,9,  -999.0,9, -999.00,9,     -999.0,9,    5.04,2, 20160301,     1720, -49.5429,  90.7470,     -999.0,9,     -999.0,9,     -999.0,9,-999.0000,9,-999.0000,9,-999.0000,9,-999.0000,9,-999.0000,9,-999.0000,9,-999.0000,9,     -999.0,9,     -999.0,9,       1.91,2,       5.04,2,       1.91,2
33RR20160208,       I08S,      43,          1,         11,         11,2,20160301,       1634,   -49.5429,    90.7469,       3868,  1662.9,   2.4159,  34.6926,2,  34.6914,2,    183.6,2,   184.2,2,    73.4,2,    0.00,2,   31.47,2,    0.00,2,    2.13,2,-999.000,9,-999.000,9,-999.000,9,-999.000000000,9,  -999.0,9, -999.00,9,-999.0000,9,     9.00,   2.4152, -999.00,9,  -999.0,9,  -999.0, -999.00,1,-999.000,9,  -999.0,9, -999.00,9,     -999.0,9,    5.03,2, 20160301,     1722, -49.5429,  90.7469,     -999.0,9,     -999.0,9,     -999.0,9,-999.0000,9,-999.0000,9,-999.0000,9,-999.0000,9,-999.0000,9,-999.0000,9,-999.0000,9,     -999.0,9,     -999.0,9,       1.93,2,       5.03,2,       1.93,2
33RR20160208,       I08S,      43,          1,         12,         12,2,20160301,       1634,   -49.5429,    90.7469,       3868,  1566.8,   2.3785,  34.6538,2,  34.6514,2,    180.6,2,   181.3,2,    74.0,2,    0.00,2,   32.43,2,    0.00,2,    2.19,2,   0.449,2,   0.247,2,   0.022,2,         0.136,2,  2250.6,2, 2339.46,6,   7.5704,6,    25.05,   2.3781, -999.00,9,  -999.0,9,  -999.0, -999.00,1,-999.000,9,  -999.0,9, -999.00,9,     -999.0,9,    5.04,2, 20160301,     1725, -49.5429,  90.7469,     -999.0,9,     -999.0,9,     -999.0,9,-999.0000,9,-999.0000,9,-999.0000,9,-999.0000,9,-999.0000,9,-999.0000,9,-999.0000,9,     -999.0,9,     -999.0,9,        1.9,2,       5.04,2,        1.9,2
33RR20160208,       I08S,      43,          1,         13,         13,2,20160301,       1634,   -49.5429,    90.7469,       3868,  1465.3,   2.4656,  34.6337,2,  34.6337,2,    177.9,2,   177.8,2,    72.4,2,    0.00,2,   32.73,2,    0.00,2,    2.21,2,-999.000,9,-999.000,9,-999.000,9,-999.000000000,9,  -999.0,9, -999.00,9,-999.0000,9,  -999.00,   2.4654, -999.00,9,  -999.0,9,  -999.0, -999.00,1,-999.000,9,  -999.0,9, -999.00,9,     -999.0,9,    5.08,2, 20160301,     1728, -49.5429,  90.7470,     -999.0,9,     -999.0,9,     -999.0,9,-999.0000,9,-999.0000,9,-999.0000,9,-999.0000,9,-999.0000,9,-999.0000,9,-999.0000,9,     -999.0,9,     -999.0,9,       1.91,2,       5.08,2,       1.91,2
33RR20160208,       I08S,      43,          1,         14,         14,2,20160301,       1634,   -49.5429,    90.7469,       3868,  1363.3,   2.5622,  34.6002,2,  34.5992,2,    176.4,2,   177.2,2,    69.9,2,    0.00,2,   33.20,2,    0.00,2,    2.26,2,   0.548,2,   0.290,2,   0.026,2,          0.22,2,  -999.0,9, -999.00,9,-999.0000,9,     9.00,   2.5626, -999.00,9,  -999.0,9,  -999.0, -999.00,1,-999.000,9,  -999.0,9, -999.00,9,     -999.0,9,     5.1,2, 20160301,     1731, -49.5428,  90.7469,     -999.0,9,     -999.0,9,     -999.0,9,-999.0000,9,-999.0000,9,-999.0000,9,-999.0000,9,-999.0000,9,-999.0000,9,-999.0000,9,     -999.0,9,     -999.0,9,        2.0,2,        5.1,2,        2.0,2
33RR20160208,       I08S,      43,          1,         15,         15,2,20160301,       1634,   -49.5429,    90.7469,       3868,  1266.9,   2.5328,  34.5493,2,  34.5488,2,    176.4,2,   176.1,2,    68.3,2,    0.00,2,   33.92,2,    0.00,2,    2.31,2,   0.794,2,   0.414,2,   0.049,2,         0.298,2,  -999.0,9, -999.00,9,-999.0000,9,  -999.00,   2.5327, -999.00,9,  -999.0,9,  -999.0, -999.00,1,-999.000,9,  -999.0,9, -999.00,9,     -999.0,9,    5.12,2, 20160301,     1733, -49.5429,  90.7469,     -999.0,9,     -999.0,9,     -999.0,9,-999.0000,9,-999.0000,9,-999.0000,9,-999.0000,9,-999.0000,9,-999.0000,9,-999.0000,9,     -999.0,9,     -999.0,9,       2.03,2,       5.12,2,       2.03,2
33RR20160208,       I08S,      43,          1,         16,         16,2,20160301,       1634,   -49.5429,    90.7469,       3868,  1165.5,   2.5732,  34.4990,2,  34.4988,2,    179.0,2,   178.3,2,    65.1,2,    0.00,2,   34.30,2,    0.00,2,    2.33,2,   1.040,2,   0.536,2,   0.067,2,         0.387,2,  -999.0,9, -999.00,9,-999.0000,9,  -999.00,   2.5735, -999.00,9,  -999.0,9,  -999.0, -999.00,1,-999.000,9,  -999.0,9, -999.00,9,     -999.0,9,    5.07,2, 20160301,     1736, -49.5429,  90.7469,     -999.0,9,     -999.0,9,     -999.0,9,-999.0000,9,-999.0000,9,-999.0000,9,-999.0000,9,-999.0000,9,-999.0000,9,-999.0000,9,     -999.0,9,     -999.0,9,       1.95,2,       5.07,2,       1.95,2
33RR20160208,       I08S,      43,          1,         17,         17,2,20160301,       1634,   -49.5429,    90.7469,       3868,  1065.0,   2.6650,  34.4276,2,  34.4280,2,    184.1,2,   185.2,2,    59.0,2,    0.00,2,   34.32,2,    0.00,2,    2.34,2,   1.435,2,   0.734,2,   0.099,2,         0.458,2,  2239.9,2, 2318.82,2,   7.5473,2,    25.04,   2.6642, -999.00,9,  -999.0,9,  -999.0, -999.00,1,-999.000,9,  -999.0,9, -999.00,9,     -999.0,9,    5.23,2, 20160301,     1739, -49.5429,  90.7469,     -999.0,9,     -999.0,9,     -999.0,9,-999.0000,9,-999.0000,9,-999.0000,9,-999.0000,9,-999.0000,9,-999.0000,9,-999.0000,9,     -999.0,9,     -999.0,9,        2.0,2,       5.23,2,        2.0,2
33RR20160208,       I08S,      43,          1,         18,         37,2,20160301,       1634,   -49.5429,    90.7469,       3868,   964.6,   2.9689,  34.4133,2,  34.4135,2,    189.1,2,   187.0,2,    54.2,2,    0.00,2,   33.88,2,    0.00,2,    2.32,2,   1.473,2,   0.747,2,   0.096,2,         0.449,2,  -999.0,9, -999.00,9,-999.0000,9,  -999.00,   2.9687, -999.00,9,  -999.0,9,  -999.0, -999.00,1,-999.000,9,  -999.0,9, -999.00,9,     -999.0,9,    5.37,2, 20160301,     1742, -49.5429,  90.7469,     -999.0,9,     -999.0,9,     -999.0,9,-999.0000,9,-999.0000,9,-999.0000,9,-999.0000,9,-999.0000,9,-999.0000,9,-999.0000,9,     -999.0,9,     -999.0,9,        2.2,2,       5.37,2,        2.2,2
33RR20160208,       I08S,      43,          1,         19,         19,2,20160301,       1634,   -49.5429,    90.7469,       3868,   868.2,   3.2913,  34.3957,2,  34.3967,2,    195.2,2,   190.7,2,    48.9,2,    0.00,2,   33.20,2,    0.00,2,    2.26,2,   1.626,2,   0.815,2,   0.105,2,         0.466,2,  2228.0,2, 2312.85,2,   7.5709,2,    25.05,   3.2914, -999.00,9,  -999.0,9,  -999.0, -999.00,1,-999.000,9,  -999.0,9, -999.00,9,     -999.0,9,    5.27,2, 20160301,     1744, -49.5429,  90.7469,     -999.0,9,     -999.0,9,     -999.0,9,-999.0000,9,-999.0000,9,-999.0000,9,-999.0000,9,-999.0000,9,-999.0000,9,-999.0000,9,     -999.0,9,     -999.0,9,       2.13,2,       5.27,2,       2.13,2
33RR20160208,       I08S,      43,          1,         20,         20,2,20160301,       1634,   -49.5429,    90.7469,       3868,   765.5,   3.2405,  34.3083,2,  34.3089,2,    209.1,2,   207.5,2,    41.2,2,    0.00,2,   32.56,2,    0.00,2,    2.22,2,   2.312,2,   1.198,2,   0.161,2,          0.74,2,  -999.0,9, -999.00,9,-999.0000,9,     9.00,   3.2404, -999.00,9,  -999.0,9,  -999.0, -999.00,1,-999.000,9,  -999.0,9, -999.00,9,     -999.0,9,    5.46,2, 20160301,     1747, -49.5429,  90.7469,     -999.0,9,     -999.0,9,     -999.0,9,-999.0000,9,-999.0000,9,-999.0000,9,-999.0000,9,-999.0000,9,-999.0000,9,-999.0000,9,     -999.0,9,     -999.0,9,       2.35,2,       5.46,2,       2.35,2
33RR20160208,       I08S,      43,          1,         21,         21,2,20160301,       1634,   -49.5429,    90.7469,       3868,   664.8,   3.5251,  34.2614,2,  34.2625,2,    224.0,2,   220.7,2,    33.4,2,    0.00,2,   31.32,2,    0.00,2,    2.15,2,   2.782,2,   1.458,2,   0.207,2,         1.034,2,  2201.0,2, 2294.73,2,   7.5973,2,    25.06,   3.5253, -999.00,9,  -999.0,9,  -999.0, -999.00,1,-999.000,9,  -999.0,9, -999.00,9,     -999.0,9,    5.56,2, 20160301,     1750, -49.5429,  90.7469,     -999.0,9,     -999.0,9,     -999.0,9,-999.0000,9,-999.0000,9,-999.0000,9,-999.0000,9,-999.0000,9,-999.0000,9,-999.0000,9,     -999.0,9,     -999.0,9,       2.44,2,       5.56,2,       2.44,2
33RR20160208,       I08S,      43,          1,         22,         22,2,20160301,       1634,   -49.5429,    90.7469,       3868,   565.0,   3.8356,  34.2148,2,  34.2155,2,    235.4,2,   234.3,2,    25.9,2,    0.00,2,   29.99,2,    0.00,2,    2.04,2,   3.280,2,   1.769,2,   0.250,2,         1.325,2,  -999.0,9, -999.00,9,-999.0000,9,  -999.00,   3.8361, -999.00,9,  -999.0,9,  -999.0, -999.00,1,-999.000,9,  -999.0,9, -999.00,9,     -999.0,9,    5.64,2, 20160301,     1753, -49.5429,  90.7469,     -999.0,9,     -999.0,9,     -999.0,9,-999.0000,9,-999.0000,9,-999.0000,9,-999.0000,9,-999.0000,9,-999.0000,9,-999.0000,9,     -999.0,9,     -999.0,9,       2.55,2,       5.64,2,       2.55,2
33RR20160208,       I08S,      43,          1,         23,         23,2,20160301,       1634,   -49.5429,    90.7469,       3868,   483.6,   4.3449,  34.2216,2,  34.2212,2,    237.6,2,   236.9,2,    21.0,2,    0.00,2,   28.66,2,    0.00,2,    1.97,2,   3.431,2,   1.840,2,   0.255,2,         1.383,2,  2181.4,2, 2285.21,2,   7.6302,2,    25.05,   4.3419, -999.00,9,  -999.0,9,  -999.0, -999.00,1,-999.000,9,  -999.0,9, -999.00,9,     -999.0,9,    5.72,2, 20160301,     1755, -49.5429,  90.7469,     -999.0,9,     -999.0,9,     -999.0,9,-999.0000,9,-999.0000,9,-999.0000,9,-999.0000,9,-999.0000,9,-999.0000,9,-999.0000,9,     -999.0,9,     -999.0,9,       2.65,2,       5.72,2,       2.65,2
33RR20160208,       I08S,      43,          1,         24,         24,2,20160301,       1634,   -49.5429,    90.7469,       3868,   435.3,   4.4877,  34.2014,2,  34.1951,2,    238.4,2,   243.3,2,    19.3,2,    0.00,2,   28.02,2,    0.00,2,    1.91,2,   3.567,2,   1.978,2,   0.276,2,         1.458,2,  -999.0,9, -999.00,9,-999.0000,9,  -999.00,   4.4861, -999.00,9,  -999.0,9,  -999.0, -999.00,1,-999.000,9,  -999.0,9, -999.00,9,     -999.0,9,    5.71,2, 20160301,     1758, -49.5429,  90.7470,     -999.0,9,     -999.0,9,     -999.0,9,-999.0000,9,-999.0000,9,-999.0000,9,-999.0000,9,-999.0000,9,-999.0000,9,-999.0000,9,     -999.0,9,     -999.0,9,       2.78,2,       5.71,2,       2.78,2
33RR20160208,       I08S,      43,          1,         25,         25,2,20160301,       1634,   -49.5429,    90.7469,       3868,   384.4,   4.8696,  34.1926,2,  34.1925,2,    258.2,2,   247.5,2,    16.2,2,    0.00,2,   26.86,2,    0.00,2,    1.83,2,   3.702,6,   2.047,6,   0.284,6,         1.593,6,  -999.0,9, -999.00,9,-999.0000,9,  -999.00,   4.8728, -999.00,9,  -999.0,9,  -999.0, -999.00,1,-999.000,9,  -999.0,9, -999.00,9,     -999.0,9,    5.82,2, 20160301,     1759, -49.5429,  90.7469,     -999.0,9,     -999.0,9,     -999.0,9,-999.0000,9,-999.0000,9,-999.0000,9,-999.0000,9,-999.0000,9,-999.0000,9,-999.0000,9,     -999.0,9,     -999.0,9,       2.79,2,       5.82,2,       2.79,2
33RR20160208,       I08S,      43,          1,         26,         26,2,20160301,       1634,   -49.5429,    90.7469,       3868,   336.2,   5.0688,  34.1546,2,  34.1554,2,    259.5,2,   257.6,2,    13.2,2,    0.00,2,   25.64,2,    0.00,2,    1.74,2,   3.842,2,   2.149,2,   0.291,2,         1.882,2,  2165.2,2, 2280.62,2,   7.6695,6,    25.05,   5.0691, -999.00,9,  -999.0,9,  -999.0, -999.00,1,-999.000,9,  -999.0,9, -999.00,9,     -999.0,9,    5.86,2, 20160301,     1802, -49.5429,  90.7470,     -999.0,9,     -999.0,9,     -999.0,9,-999.0000,9,-999.0000,9,-999.0000,9,-999.0000,9,-999.0000,9,-999.0000,9,-999.0000,9,     -999.0,9,     -999.0,9,       2.95,2,       5.86,2,       2.95,2
33RR20160208,       I08S,      43,          1,         27,         27,2,20160301,       1634,   -49.5429,    90.7469,       3868,   284.1,   4.9390,  34.0490,2,  34.0510,2,    275.5,2,   275.6,2,    10.1,2,    0.00,2,   24.68,2,    0.00,2,    1.70,2,   4.102,2,   2.330,2,   0.345,2,         2.204,2,  -999.0,9, -999.00,9,-999.0000,9,  -999.00,   4.9380, -999.00,9,  -999.0,9,  -999.0, -999.00,1,-999.000,9,  -999.0,9, -999.00,9,     -999.0,9,    5.69,2, 20160301,     1804, -49.5429,  90.7469,     -999.0,9,     -999.0,9,     -999.0,9,-999.0000,9,-999.0000,9,-999.0000,9,-999.0000,9,-999.0000,9,-999.0000,9,-999.0000,9,     -999.0,9,     -999.0,9,        3.0,2,       5.69,2,        3.0,2