BOTTLE,20220706CCHSIOAMB
EXPOCODE,SECT_ID,STNNBR,CASTNO,SAMPNO,BTLNBR,BTLNBR_FLAG_W,DATE,TIME,LATITUDE,LONGITUDE,DEPTH,CTDPRS,CTDTMP,CTDSAL,CTDSAL_FLAG_W,SALNTY,SALNTY_FLAG_W,CTDOXY,CTDOXY_FLAG_W,OXYGEN,OXYGEN_FLAG_W,SILCAT,SILCAT_FLAG_W,NH4,NH4_FLAG_W,NITRAT,NITRAT_FLAG_W,NITRIT,NITRIT_FLAG_W,PHSPHT,PHSPHT_FLAG_W,CFC-11,CFC-11_FLAG_W,CFC-12,CFC-12_FLAG_W,CFC113,CFC113_FLAG_W,SF6,SF6_FLAG_W,TCARBN,TCARBN_FLAG_W,ALKALI,ALKALI_FLAG_W,PH_TOT,PH_TOT_FLAG_W,PH_TMP,REFTMP,DELC13,DELC13_FLAG_W,DELC14,DELC14_FLAG_W,C14ERR,DELO18,DELO18_FLAG_W,POC,POC_FLAG_W,DOC,DOC_FLAG_W,TDN,TDN_FLAG_W,TON,TON_FLAG_W,D15N_NO3,D15N_NO3_FLAG_W,BTL_DATE,BTL_TIME,BTL_LAT,BTL_LON,14C-DOC,14C-DOC_FLAG_W,CHLORA,CHLORA_FLAG_W,HPLC,HPLC_FLAG_W,CDOM325,CDOM325_FLAG_W,CDOM340,CDOM340_FLAG_W,CDOM380,CDOM380_FLAG_W,CDOM412,CDOM412_FLAG_W,CDOM443,CDOM443_FLAG_W,CDOM490,CDOM490_FLAG_W,CDOM555,CDOM555_FLAG_W,CDOMSL,CDOMSL_FLAG_W,CDOMSN,CDOMSN_FLAG_W,D18O_NO3,D18O_NO3_FLAG_W,D15N_NO2+NO3,D15N_NO2+NO3_FLAG_W,D18O_NO2+NO3,D18O_NO2+NO3_FLAG_W
,,,,,,,,,,,METERS,DBAR,ITS-90,PSS-78,,PSS-78,,UMOL/KG,,UMOL/KG,,UMOL/KG,,UMOL/KG,,UMOL/KG,,UMOL/KG,,UMOL/KG,,PMOL/KG,,PMOL/KG,,PMOL/KG,,FMOL/KG,,UMOL/KG,,UMOL/KG,,,,DEG C,DEG C,/MILLE,,/MILLE,,/MILLE,/MILLE,,UG/KG,,UMOL/KG,,UMOL/KG,,UMOL/KG,,/MILLE,,,,,,/MILLE,,MG/M3,,,,1/M,,1/M,,1/M,,1/M,,1/M,,1/M,,1/M,,1/NM,,1/NM,,/MILLE,,/MILLE,,/MILLE,
33RR20160208,       I08S,      10,          1,          1,          1,2,20160221,       0658,   -64.0500,    81.2022,       3700,  3706.4,  -0.1107,  34.6601,2,  34.6597,2,    232.4,2,   233.0,2,   140.0,2,    0.04,2,   32.65,2,    0.00,2,    2.31,2,   0.941,2,   0.486,2,   0.059,2,         0.346,2,  2259.7,6, 2357.16,2,   7.5916,2,    24.99,  -0.1110, -999.00,9,  -999.0,9,  -999.0, -999.00,1,-999.000,9,    41.7,2, -999.00,9,     -999.0,1, -999.00,9, 20160221,      658, -64.0500,  81.2022,     -999.0,9,     -999.0,9,     -999.0,9,   0.1123,2,   0.0780,2,   0.0476,2,   0.0262,2,   0.0147,2,   0.0049,2,   0.0013,2,     0.0152,2,     0.0162,2,     -999.0,9,     -999.0,9,     -999.0,9
33RR20160208,       I08S,      10,          1,          2,          2,2,20160221,       0658,   -64.0500,    81.2022,       3700,  3445.5,  -0.0658,  34.6626,2,  34.6618,2,    232.1,2,   231.9,2,   128.5,2,    0.00,2,   32.38,2,    0.00,2,    2.29,2,   1.026,2,   0.516,2,   0.068,2,          0.38,2,  2256.2,2, 2355.55,2,   7.5936,2,    24.99,  -0.0661, -999.00,9,  -999.0,9,  -999.0, -999.00,1,-999.000,9,    40.0,2, -999.00,9,     -999.0,1, -999.00,9, 20160221,      704, -64.0501,  81.2023,     -999.0,9,     -999.0,9,     -999.0,9,-999.0000,9,-999.0000,9,-999.0000,9,-999.0000,9,-999.0000,9,-999.0000,9,-999.0000,9,     -999.0,9,     -999.0,9,     -999.0,9,     -999.0,9,     -999.0,9
33RR20160208,       I08S,      10,          1,          3,          3,2,20160221,       0658,   -64.0500,    81.2022,       3700,  3190.2,  -0.0084,  34.6655,2,  34.6651,2,    229.3,2,   230.1,2,   126.4,2,    0.04,2,   32.31,2,    0.00,2,    2.26,2,   0.949,2,   0.488,2,   0.063,2,         0.314,2,  -999.0,9, -999.00,9,-999.0000,9,     9.00,  -0.0085, -999.00,9,  -999.0,9,  -999.0, -999.00,1,-999.000,9,    39.9,2, -999.00,9,     -999.0,1, -999.00,9, 20160221,      709, -64.0500,  81.2023,     -999.0,9,     -999.0,9,     -999.0,9,-999.0000,9,-999.0000,9,-999.0000,9,-999.0000,9,-999.0000,9,-999.0000,9,-999.0000,9,     -999.0,9,     -999.0,9,     -999.0,9,     -999.0,9,     -999.0,9
33RR20160208,       I08S,      10,          1,          4,          4,2,20160221,       0658,   -64.0500,    81.2022,       3700,  2935.4,   0.0588,  34.6689,2,  34.6683,2,    226.5,2,   226.4,2,   125.7,2,    0.03,2,   32.43,2,    0.00,2,    2.29,2,   0.737,2,   0.387,2,   0.045,2,          0.29,2,  -999.0,9, -999.00,9,-999.0000,9,  -999.00,   0.0591, -999.00,9,  -999.0,9,  -999.0, -999.00,1,-999.000,9,    41.0,2, -999.00,9,     -999.0,1, -999.00,9, 20160221,      715, -64.0501,  81.2022,     -999.0,9,     -999.0,9,     -999.0,9,   0.1099,2,   0.0768,2,   0.0494,2,   0.0263,2,   0.0147,2,   0.0050,2,   0.0014,2,     0.0143,2,     0.0151,2,     -999.0,9,     -999.0,9,     -999.0,9
33RR20160208,       I08S,      10,          1,          5,          5,2,20160221,       0658,   -64.0500,    81.2022,       3700,  2736.2,   0.1206,  34.6716,2,  34.6712,2,    223.6,2,   224.4,2,   125.4,2,    0.02,2,   32.44,2,    0.00,2,    2.27,2,   0.656,2,   0.341,2,   0.039,2,         0.295,2,  -999.0,9, -999.00,9,-999.0000,9,  -999.00,   0.1204, -999.00,9,  -999.0,9,  -999.0, -999.00,1,-999.000,9,    40.7,2, -999.00,9,     -999.0,1, -999.00,9, 20160221,      719, -64.0500,  81.2023,     -999.0,9,     -999.0,9,     -999.0,9,-999.0000,9,-999.0000,9,-999.0000,9,-999.0000,9,-999.0000,9,-999.0000,9,-999.0000,9,     -999.0,9,     -999.0,9,     -999.0,9,     -999.0,9,     -999.0,9
33RR20160208,       I08S,      10,          1,          6,          6,2,20160221,       0658,   -64.0500,    81.2022,       3700,  2534.5,   0.1736,  34.6735,2,  34.6742,2,    222.2,2,   222.1,2,   124.7,2,    0.05,2,   32.42,2,    0.00,2,    2.30,2,   0.627,2,   0.328,2,   0.034,2,         0.287,2,  2261.3,2, 2356.33,6,   7.5921,6,    24.99,   0.1736, -999.00,9,  -999.0,9,  -999.0, -999.00,1,-999.000,9,    39.6,2, -999.00,9,     -999.0,1, -999.00,9, 20160221,      724, -64.0500,  81.2023,     -999.0,9,     -999.0,9,     -999.0,9,-999.0000,9,-999.0000,9,-999.0000,9,-999.0000,9,-999.0000,9,-999.0000,9,-999.0000,9,     -999.0,9,     -999.0,9,     -999.0,9,     -999.0,9,     -999.0,9
33RR20160208,       I08S,      10,          1,          7,          7,2,20160221,       0658,   -64.0500,    81.2022,       3700,  2336.5,   0.2411,  34.6768,2,  34.6769,2,    219.9,2,   219.0,2,   123.9,2,    0.00,2,   32.46,2,    0.00,2,    2.29,2,   0.536,2,   0.284,2,   0.027,2,         0.268,2,  -999.0,9, -999.00,9,-999.0000,9,  -999.00,   0.2413, -999.00,9,  -999.0,9,  -999.0, -999.00,1,-999.000,9,    39.8,2, -999.00,9,     -999.0,1, -999.00,9, 20160221,      728, -64.0500,  81.2022,     -999.0,9,     -999.0,9,     -999.0,9,-999.0000,9,-999.0000,9,-999.0000,9,-999.0000,9,-999.0000,9,-999.0000,9,-999.0000,9,     -999.0,9,     -999.0,9,     -999.0,9,     -999.0,9,     -999.0,9
33RR20160208,       I08S,      10,          1,          8,          8,2,20160221,       0658,   -64.0500,    81.2022,       3700,  2135.8,   0.3151,  34.6804,2,  34.6800,2,    217.2,2,   217.3,2,   122.4,2,    0.06,2,   32.52,2,    0.00,2,    2.29,2,   0.491,2,   0.266,2,   0.023,2,         0.273,2,  -999.0,9, -999.00,9,-999.0000,9,  -999.00,   0.3151, -999.00,9,  -999.0,9,  -999.0, -999.00,1,-999.000,9,    40.0,2, -999.00,9,     -999.0,1, -999.00,9, 20160221,      733, -64.0500,  81.2022,     -999.0,9,     -999.0,9,     -999.0,9,-999.0000,9,-999.0000,9,-999.0000,9,-999.0000,9,-999.0000,9,-999.0000,9,-999.0000,9,     -999.0,9,     -999.0,9,     -999.0,9,     -999.0,9,     -999.0,9
33RR20160208,       I08S,      10,          1,          9,          9,2,20160221,       0658,   -64.0500,    81.2022,       3700,  1930.4,   0.4203,  34.6857,2,  34.6861,2,    213.9,2,   213.0,2,   120.8,2,    0.00,2,   32.44,2,    0.00,2,    2.29,2,   0.435,2,   0.235,2,   0.020,2,         0.242,2,  2262.3,2, 2357.33,2,   7.5906,2,    24.98,   0.4201, -999.00,9,  -999.0,9,  -999.0, -999.00,1,-999.000,9,    39.5,2, -999.00,9,     -999.0,1, -999.00,9, 20160221,      737, -64.0501,  81.2023,     -999.0,9,     -999.0,9,     -999.0,9,   0.1137,2,   0.0820,2,   0.0587,2,   0.0284,2,   0.0156,2,   0.0053,2,   0.0014,2,     0.0124,2,     0.0127,2,     -999.0,9,     -999.0,9,     -999.0,9
33RR20160208,       I08S,      10,          1,         10,         10,2,20160221,       0658,   -64.0500,    81.2022,       3700,  1764.9,   0.4904,  34.6895,2,  34.6904,2,    212.5,2,   213.4,2,   119.1,2,    0.00,2,   32.34,2,    0.00,2,    2.27,2,  -0.001,4,   0.823,4,   0.045,4,             0,4,  -999.0,9, -999.00,9,-999.0000,9,  -999.00,   0.4904, -999.00,9,  -999.0,9,  -999.0, -999.00,1,-999.000,9,    43.3,3, -999.00,9,     -999.0,1, -999.00,9, 20160221,      741, -64.0500,  81.2023,     -999.0,9,     -999.0,9,     -999.0,9,-999.0000,9,-999.0000,9,-999.0000,9,-999.0000,9,-999.0000,9,-999.0000,9,-999.0000,9,     -999.0,9,     -999.0,9,     -999.0,9,     -999.0,9,     -999.0,9
33RR20160208,       I08S,      10,          1,         11,         11,2,20160221,       0658,   -64.0500,    81.2022,       3700,  1665.6,   0.5549,  34.6925,2,  34.6920,2,    211.2,2,   211.1,2,   116.7,2,    0.00,2,   32.27,2,    0.00,2,    2.27,2,  -0.001,4,   0.834,4,   0.028,4,             0,4,  -999.0,9, -999.00,9,-999.0000,9,  -999.00,   0.5548, -999.00,9,  -999.0,9,  -999.0, -999.00,1,-999.000,9,    41.7,2, -999.00,9,     -999.0,1, -999.00,9, 20160221,      744, -64.0503,  81.2025,     -999.0,9,     -999.0,9,     -999.0,9,-999.0000,9,-999.0000,9,-999.0000,9,-999.0000,9,-999.0000,9,-999.0000,9,-999.0000,9,     -999.0,9,     -999.0,9,     -999.0,9,     -999.0,9,     -999.0,9
33RR20160208,       I08S,      10,          1,         12,         12,2,20160221,       0658,   -64.0500,    81.2022,       3700,  1569.4,   0.6066,  34.6952,2,  34.6951,2,    210.1,2,   210.8,2,   115.5,2,    0.11,2,   32.20,2,    0.00,2,    2.27,2,   0.431,2,   0.215,2,   0.015,2,         0.203,2,  -999.0,9, -999.00,9,-999.0000,9,     9.00,   0.6066, -999.00,9,  -999.0,9,  -999.0, -999.00,1,-999.000,9,    41.2,2, -999.00,9,     -999.0,1, -999.00,9, 20160221,      747, -64.0505,  81.2023,     -999.0,9,     -999.0,9,     -999.0,9,-999.0000,9,-999.0000,9,-999.0000,9,-999.0000,9,-999.0000,9,-999.0000,9,-999.0000,9,     -999.0,9,     -999.0,9,     -999.0,9,     -999.0,9,     -999.0,9
33RR20160208,       I08S,      10,          1,         13,         13,2,20160221,       0658,   -64.0500,    81.2022,       3700,  1466.9,   0.6953,  34.7012,2,  34.7006,2,    209.5,2,   208.5,2,   114.5,2,    0.00,2,   32.02,2,    0.00,2,    2.24,2,   0.343,2,   0.179,2,   0.012,2,         1.207,4,  2262.2,2, 2357.25,2,   7.5937,6,    24.99,   0.6951, -999.00,9,  -999.0,9,  -999.0, -999.00,1,-999.000,9,    40.4,2, -999.00,9,     -999.0,1, -999.00,9, 20160221,      750, -64.0503,  81.2023,     -999.0,9,     -999.0,9,     -999.0,9,   0.1165,2,   0.0856,2,   0.0637,2,   0.0292,2,   0.0156,2,   0.0052,2,   0.0013,2,     0.0117,2,     0.0117,2,     -999.0,9,     -999.0,9,     -999.0,9
33RR20160208,       I08S,      10,          1,         14,         14,2,20160221,       0658,   -64.0500,    81.2022,       3700,  1364.3,   0.7478,  34.7029,2,  34.7022,2,    208.6,2,   209.8,2,   111.8,2,    0.00,2,   31.87,2,    0.00,2,    2.24,2,   0.345,2,   0.182,2,   0.013,2,         1.233,4,  -999.0,9, -999.00,9,-999.0000,9,  -999.00,   0.7482, -999.00,9,  -999.0,9,  -999.0, -999.00,1,-999.000,9,    40.1,2, -999.00,9,     -999.0,1, -999.00,9, 20160221,      753, -64.0501,  81.2022,     -999.0,9,     -999.0,9,     -999.0,9,-999.0000,9,-999.0000,9,-999.0000,9,-999.0000,9,-999.0000,9,-999.0000,9,-999.0000,9,     -999.0,9,     -999.0,9,     -999.0,9,     -999.0,9,     -999.0,9
33RR20160208,       I08S,      10,          1,         15,         15,2,20160221,       0658,   -64.0500,    81.2022,       3700,  1264.7,   0.8256,  34.7073,2,  34.7073,2,    207.6,2,   207.1,2,   110.0,2,    0.04,2,   31.70,2,    0.00,2,    2.22,2,   0.332,2,   0.178,2,   0.014,2,         3.623,4,  -999.0,9, -999.00,9,-999.0000,9,     9.00,   0.8253, -999.00,9,  -999.0,9,  -999.0, -999.00,1,-999.000,9,    42.2,3, -999.00,9,     -999.0,1, -999.00,9, 20160221,      756, -64.0502,  81.2023,     -999.0,9,     -999.0,9,     -999.0,9,-999.0000,9,-999.0000,9,-999.0000,9,-999.0000,9,-999.0000,9,-999.0000,9,-999.0000,9,     -999.0,9,     -999.0,9,     -999.0,9,     -999.0,9,     -999.0,9
33RR20160208,       I08S,      10,          1,         16,         16,2,20160221,       0658,   -64.0500,    81.2022,       3700,  1163.7,   0.8811,  34.7086,2,  34.7090,2,    206.8,2,   210.7,4,   107.1,2,    0.00,2,   31.60,2,    0.00,2,    2.21,2,   0.365,2,   0.202,2,   0.019,2,             0,4,  -999.0,9, -999.00,9,-999.0000,9,  -999.00,   0.8813, -999.00,9,  -999.0,9,  -999.0, -999.00,1,-999.000,9,    39.9,2, -999.00,9,     -999.0,1, -999.00,9, 20160221,      759, -64.0502,  81.2022,     -999.0,9,     -999.0,9,     -999.0,9,-999.0000,9,-999.0000,9,-999.0000,9,-999.0000,9,-999.0000,9,-999.0000,9,-999.0000,9,     -999.0,9,     -999.0,9,     -999.0,9,     -999.0,9,     -999.0,9
33RR20160208,       I08S,      10,          1,         17,         17,2,20160221,       0658,   -64.0500,    81.2022,       3700,  1065.5,   0.9667,  34.7126,2,  34.7128,2,    206.8,2,   206.6,2,   104.5,2,    0.00,2,   31.49,2,    0.00,2,    2.19,2,   0.361,2,   0.193,2,   0.017,2,         0.022,2,  2257.8,2, 2355.96,2,   7.6001,6,    25.00,   0.9670, -999.00,9,  -999.0,9,  -999.0, -999.00,1,-999.000,9,    40.5,2, -999.00,9,     -999.0,1, -999.00,9, 20160221,      801, -64.0502,  81.2022,     -999.0,9,     -999.0,9,     -999.0,9,   0.1141,2,   0.0806,2,   0.0525,2,   0.0272,2,   0.0152,2,   0.0053,2,   0.0015,2,     0.0140,2,     0.0147,2,     -999.0,9,     -999.0,9,     -999.0,9
33RR20160208,       I08S,      10,          1,         18,         18,2,20160221,       0658,   -64.0500,    81.2022,       3700,   964.0,   1.0391,  34.7155,2,  34.7147,2,    205.3,2,   206.2,2,   101.7,2,    0.00,2,   31.30,2,    0.00,2,    2.16,2,   0.369,2,   0.205,2,   0.019,2,         0.224,2,  -999.0,9, -999.00,9,-999.0000,9,     9.00,   1.0396, -999.00,9,  -999.0,9,  -999.0, -999.00,1,-999.000,9,    39.5,2, -999.00,9,     -999.0,1, -999.00,9, 20160221,      804, -64.0501,  81.2022,     -999.0,9,     -999.0,9,     -999.0,9,-999.0000,9,-999.0000,9,-999.0000,9,-999.0000,9,-999.0000,9,-999.0000,9,-999.0000,9,     -999.0,9,     -999.0,9,     -999.0,9,     -999.0,9,     -999.0,9
33RR20160208,       I08S,      10,          1,         19,         19,2,20160221,       0658,   -64.0500,    81.2022,       3700,   866.4,   1.1069,  34.7152,2,  34.7153,2,    204.6,2,   204.7,2,    99.5,2,    0.00,2,   31.23,2,    0.00,2,    2.17,2,   0.461,2,   0.252,2,   0.028,2,         0.393,4,  -999.0,9, -999.00,9,-999.0000,9,  -999.00,   1.1072, -999.00,9,  -999.0,9,  -999.0, -999.00,1,-999.000,9,    40.9,2, -999.00,9,     -999.0,1, -999.00,9, 20160221,      807, -64.0501,  81.2023,     -999.0,9,     -999.0,9,     -999.0,9,-999.0000,9,-999.0000,9,-999.0000,9,-999.0000,9,-999.0000,9,-999.0000,9,-999.0000,9,     -999.0,9,     -999.0,9,     -999.0,9,     -999.0,9,     -999.0,9
33RR20160208,       I08S,      10,          1,         20,         20,2,20160221,       0658,   -64.0500,    81.2022,       3700,   765.1,   1.2195,  34.7185,2,  34.7198,2,    203.5,2,   203.4,2,    96.4,2,    0.00,2,   31.10,2,    0.00,2,    2.17,2,   0.471,2,   0.263,2,   0.032,2,         0.302,2,  -999.0,9, -999.00,9,-999.0000,9,  -999.00,   1.2190, -999.00,9,  -999.0,9,  -999.0, -999.00,1,-999.000,9,    40.9,2, -999.00,9,     -999.0,1, -999.00,9, 20160221,      810, -64.0502,  81.2022,     -999.0,9,     -999.0,9,     -999.0,9,   0.1191,2,   0.0840,2,   0.0521,2,   0.0290,2,   0.0167,2,   0.0062,2,   0.0018,2,     0.0147,2,     0.0156,2,     -999.0,9,     -999.0,9,     -999.0,9
33RR20160208,       I08S,      10,          1,         21,         21,2,20160221,       0658,   -64.0500,    81.2022,       3700,   665.4,   1.2766,  34.7149,2,  34.7153,2,    201.5,2,   202.0,2,    93.9,2,    0.05,2,   31.16,2,    0.00,2,    2.17,2,   0.522,2,   0.290,2,   0.038,2,          3.14,4,  2257.1,2, 2351.23,2,   7.5954,2,    24.99,   1.2763, -999.00,9,  -999.0,9,  -999.0, -999.00,1,-999.000,9,    38.9,2, -999.00,9,     -999.0,1, -999.00,9, 20160221,      813, -64.0501,  81.2022,     -999.0,9,     -999.0,9,     -999.0,9,-999.0000,9,-999.0000,9,-999.0000,9,-999.0000,9,-999.0000,9,-999.0000,9,-999.0000,9,     -999.0,9,     -999.0,9,     -999.0,9,     -999.0,9,     -999.0,9
33RR20160208,       I08S,      10,          1,         22,         22,2,20160221,       0658,   -64.0500,    81.2022,       3700,   564.5,   1.3393,  34.7117,2,  34.7116,2,    200.3,2,   203.2,2,    89.9,2,    0.00,2,   31.02,2,    0.00,2,    2.18,2,   0.558,2,   0.308,2,   0.042,2,         2.179,4,  -999.0,9, -999.00,9,-999.0000,9,  -999.00,   1.3376, -999.00,9,  -999.0,9,  -999.0, -999.00,1,-999.000,9,    39.8,2, -999.00,9,     -999.0,1, -999.00,9, 20160221,      816, -64.0501,  81.2022,     -999.0,9,     -999.0,9,     -999.0,9,-999.0000,9,-999.0000,9,-999.0000,9,-999.0000,9,-999.0000,9,-999.0000,9,-999.0000,9,     -999.0,9,     -999.0,9,     -999.0,9,     -999.0,9,     -999.0,9
33RR20160208,       I08S,      10,          1,         23,         23,2,20160221,       0658,   -64.0500,    81.2022,       3700,   484.8,   1.2516,  34.6890,2,  34.6896,2,    201.0,2,   205.2,2,    86.6,2,    0.00,2,   31.31,2,    0.00,2,    2.19,2,   0.829,2,   0.442,2,   0.066,2,         0.435,2,  -999.0,9, -999.00,9,-999.0000,9,  -999.00,   1.2530, -999.00,9,  -999.0,9,  -999.0, -999.00,1,-999.000,9,    39.5,2, -999.00,9,     -999.0,1, -999.00,9, 20160221,      818, -64.0502,  81.2022,     -999.0,9,     -999.0,9,     -999.0,9,   0.1156,2,   0.0808,2,   0.0494,2,   0.0272,2,   0.0153,2,   0.0053,2,   0.0015,2,     0.0150,2,     0.0160,2,     -999.0,9,     -999.0,9,     -999.0,9
33RR20160208,       I08S,      10,          1,         24,         24,2,20160221,       0658,   -64.0500,    81.2022,       3700,   436.9,   1.3432,  34.6916,2,  34.6917,2,    203.0,2,   201.0,2,    86.7,2,    0.00,2,   31.43,2,    0.00,2,    2.20,2,   0.770,2,   0.421,2,   0.063,2,         0.563,4,  -999.0,9, -999.00,9,-999.0000,9,     9.00,   1.3431, -999.00,9,  -999.0,9,  -999.0, -999.00,1,-999.000,9,    40.4,2, -999.00,9,     -999.0,1, -999.00,9, 20160221,      820, -64.0501,  81.2023,     -999.0,9,     -999.0,9,     -999.0,9,-999.0000,9,-999.0000,9,-999.0000,9,-999.0000,9,-999.0000,9,-999.0000,9,-999.0000,9,     -999.0,9,     -999.0,9,     -999.0,9,     -999.0,9,     -999.0,9
33RR20160208,       I08S,      10,          1,         25,         25,2,20160221,       0658,   -64.0500,    81.2022,       3700,   387.2,   1.3831,  34.6869,2,  34.6872,2,    200.5,2,   199.0,2,    86.6,2,    0.00,2,   31.65,2,    0.00,2,    2.23,2,   0.789,2,   0.422,2,   0.065,2,         0.411,2,  2256.1,2, 2346.39,2,   7.5827,2,    24.99,   1.3842, -999.00,9,  -999.0,9,  -999.0, -999.00,1,-999.000,9,    41.2,2, -999.00,9,     -999.0,1, -999.00,9, 20160221,      822, -64.0501,  81.2023,     -999.0,9,     -999.0,9,     -999.0,9,   0.1146,2,   0.0792,2,   0.0464,2,   0.0260,2,   0.0147,2,   0.0050,2,   0.0014,2,     0.0158,2,     0.0170,2,     -999.0,9,     -999.0,9,     -999.0,9
33RR20160208,       I08S,      10,          1,         26,         26,2,20160221,       0658,   -64.0500,    81.2022,       3700,   335.6,   1.0937,  34.6463,2,  34.6478,2,    196.5,2,   205.3,2,    84.0,2,    0.00,2,   31.98,2,    0.00,2,    2.24,2,   1.177,2,   0.616,2,   0.101,2,         2.359,4,  -999.0,9, -999.00,9,-999.0000,9,  -999.00,   1.0927, -999.00,9,  -999.0,9,  -999.0, -999.00,1,-999.000,9,    41.1,2,   33.50,2,     -999.0,1, -999.00,9, 20160221,      824, -64.0501,  81.2022,     -999.0,9,     -999.0,9,     -999.0,9,-999.0000,9,-999.0000,9,-999.0000,9,-999.0000,9,-999.0000,9,-999.0000,9,-999.0000,9,     -999.0,9,     -999.0,9,     -999.0,9,     -999.0,9,     -999.0,9
33RR20160208,       I08S,      10,          1,         27,         27,2,20160221,       0658,   -64.0500,    81.2022,       3700,   284.7,   0.9160,  34.6169,2,  34.6164,2,    201.4,2,   211.3,2,    82.3,2,    0.00,2,   32.19,2,    0.00,2,    2.25,2,   1.565,2,   0.798,2,   0.131,2,         0.867,2,  -999.0,9, -999.00,9,-999.0000,9,     9.00,   0.9156, -999.00,9,  -999.0,9,  -999.0, -999.00,1,-999.000,9,    41.5,2,   34.20,2,     -999.0,1, -999.00,9, 20160221,      826, -64.0502,  81.2022,     -999.0,9,     -999.0,9,     -999.0,9,-999.0000,9,-999.0000,9,-999.0000,9,-999.0000,9,-999.0000,9,-999.0000,9,-999.0000,9,     -999.0,9,     -999.0,9,     -999.0,9,     -999.0,9,     -999.0,9