BOTTLE,20220706CCHSIOAMB
EXPOCODE,SECT_ID,STNNBR,CASTNO,SAMPNO,BTLNBR,BTLNBR_FLAG_W,DATE,TIME,LATITUDE,LONGITUDE,DEPTH,CTDPRS,CTDTMP,CTDSAL,CTDSAL_FLAG_W,SALNTY,SALNTY_FLAG_W,CTDOXY,CTDOXY_FLAG_W,OXYGEN,OXYGEN_FLAG_W,SILCAT,SILCAT_FLAG_W,NH4,NH4_FLAG_W,NITRAT,NITRAT_FLAG_W,NITRIT,NITRIT_FLAG_W,PHSPHT,PHSPHT_FLAG_W,CFC-11,CFC-11_FLAG_W,CFC-12,CFC-12_FLAG_W,CFC113,CFC113_FLAG_W,SF6,SF6_FLAG_W,TCARBN,TCARBN_FLAG_W,ALKALI,ALKALI_FLAG_W,PH_TOT,PH_TOT_FLAG_W,PH_TMP,REFTMP,DELC13,DELC13_FLAG_W,DELC14,DELC14_FLAG_W,C14ERR,DELO18,DELO18_FLAG_W,POC,POC_FLAG_W,DOC,DOC_FLAG_W,TDN,TDN_FLAG_W,TON,TON_FLAG_W,D15N_NO3,D15N_NO3_FLAG_W,BTL_DATE,BTL_TIME,BTL_LAT,BTL_LON,14C-DOC,14C-DOC_FLAG_W,CHLORA,CHLORA_FLAG_W,HPLC,HPLC_FLAG_W,CDOM325,CDOM325_FLAG_W,CDOM340,CDOM340_FLAG_W,CDOM380,CDOM380_FLAG_W,CDOM412,CDOM412_FLAG_W,CDOM443,CDOM443_FLAG_W,CDOM490,CDOM490_FLAG_W,CDOM555,CDOM555_FLAG_W,CDOMSL,CDOMSL_FLAG_W,CDOMSN,CDOMSN_FLAG_W,D18O_NO3,D18O_NO3_FLAG_W,D15N_NO2+NO3,D15N_NO2+NO3_FLAG_W,D18O_NO2+NO3,D18O_NO2+NO3_FLAG_W
,,,,,,,,,,,METERS,DBAR,ITS-90,PSS-78,,PSS-78,,UMOL/KG,,UMOL/KG,,UMOL/KG,,UMOL/KG,,UMOL/KG,,UMOL/KG,,UMOL/KG,,PMOL/KG,,PMOL/KG,,PMOL/KG,,FMOL/KG,,UMOL/KG,,UMOL/KG,,,,DEG C,DEG C,/MILLE,,/MILLE,,/MILLE,/MILLE,,UG/KG,,UMOL/KG,,UMOL/KG,,UMOL/KG,,/MILLE,,,,,,/MILLE,,MG/M3,,,,1/M,,1/M,,1/M,,1/M,,1/M,,1/M,,1/M,,1/NM,,1/NM,,/MILLE,,/MILLE,,/MILLE,
33RR20160208,       I08S,      82,          1,          1,          1,2,20160311,       1516,   -28.9110,    95.0017,       2621,  2613.0,   1.7738,  34.7273,2,  34.7290,2,    179.2,2,   179.3,2,   110.5,2,    0.00,2,   32.67,2,    0.00,2,    2.29,2,   0.015,2,   0.009,2,-999.000,5,             0,2,  2278.0,6, 2382.62,2,   7.6037,2,    24.99,   1.7733, -999.00,9,  -999.0,9,  -999.0, -999.00,9,-999.000,9,    37.1,2, -999.00,9,     -999.0,1,    5.16,2, 20160311,     1516, -28.9110,  95.0017,     -999.0,9,     -999.0,9,     -999.0,9,-999.0000,9,-999.0000,9,-999.0000,9,-999.0000,9,-999.0000,9,-999.0000,9,-999.0000,9,     -999.0,9,     -999.0,9,       2.15,2,       5.16,2,       2.15,2
33RR20160208,       I08S,      82,          1,          2,          2,2,20160311,       1516,   -28.9110,    95.0017,       2621,  2392.0,   1.9528,  34.7259,2,  34.7264,2,    173.8,2,   174.1,2,   107.4,2,    0.00,2,   32.78,2,    0.00,2,    2.31,2,-999.000,9,-999.000,9,-999.000,9,-999.000000000,9,  2276.6,2, 2377.27,2,   7.5978,2,    25.00,   1.9525, -999.00,9,  -999.0,9,  -999.0, -999.00,9,-999.000,9,    36.9,2, -999.00,9,     -999.0,1,     5.2,2, 20160311,     1521, -28.9110,  95.0017,     -999.0,9,     -999.0,9,     -999.0,9,-999.0000,9,-999.0000,9,-999.0000,9,-999.0000,9,-999.0000,9,-999.0000,9,-999.0000,9,     -999.0,9,     -999.0,9,       2.19,2,        5.2,2,       2.19,2
33RR20160208,       I08S,      82,          1,          3,          3,2,20160311,       1516,   -28.9110,    95.0017,       2621,  2167.2,   2.2120,  34.7182,2,  34.7194,2,    166.0,2,   166.4,2,   104.1,2,    0.00,2,   33.25,2,    0.00,2,    2.35,2,   0.013,2,   0.008,2,-999.000,5,             0,2,  2279.3,2, 2376.10,2,   7.5887,2,    24.99,   2.2119,    0.37,6,  -181.0,6,     2.4, -999.00,9,-999.000,9,    37.5,2, -999.00,9,     -999.0,1,    5.31,2, 20160311,     1526, -28.9109,  95.0018,     -999.0,9,     -999.0,9,     -999.0,9,-999.0000,9,-999.0000,9,-999.0000,9,-999.0000,9,-999.0000,9,-999.0000,9,-999.0000,9,     -999.0,9,     -999.0,9,       2.28,2,       5.31,2,       2.28,2
33RR20160208,       I08S,      82,          1,          4,          4,2,20160311,       1516,   -28.9110,    95.0017,       2621,  1936.7,   2.4979,  34.6996,2,  34.7000,2,    158.7,2,   159.4,2,    98.9,2,    0.00,2,   33.76,2,    0.00,2,    2.38,2,-999.000,9,-999.000,9,-999.000,9,-999.000000000,9,  2278.3,2, 2371.21,2,   7.5768,2,    25.01,   2.4982, -999.00,9,  -999.0,9,  -999.0, -999.00,9,-999.000,9,    37.3,2, -999.00,9,     -999.0,1,    5.43,2, 20160311,     1531, -28.9109,  95.0018,     -999.0,9,     -999.0,9,     -999.0,9,-999.0000,9,-999.0000,9,-999.0000,9,-999.0000,9,-999.0000,9,-999.0000,9,-999.0000,9,     -999.0,9,     -999.0,9,        2.2,2,       5.43,2,        2.2,2
33RR20160208,       I08S,      82,          1,          5,          5,2,20160311,       1516,   -28.9110,    95.0017,       2621,  1736.3,   2.7840,  34.6640,2,  34.6652,2,    152.9,2,   153.8,2,    91.5,2,    0.00,2,   34.28,2,    0.00,2,    2.45,2,   0.025,2,   0.018,2,-999.000,5,             0,2,  2276.6,2, 2363.49,6,   7.5660,2,    25.02,   2.7834, -999.00,9,  -999.0,9,  -999.0, -999.00,9,-999.000,9,    36.6,2, -999.00,9,     -999.0,1,    5.51,2, 20160311,     1536, -28.9109,  95.0018,     -999.0,9,     -999.0,9,     -999.0,9,-999.0000,9,-999.0000,9,-999.0000,9,-999.0000,9,-999.0000,9,-999.0000,9,-999.0000,9,     -999.0,9,     -999.0,9,       2.29,2,       5.51,2,       2.29,2
33RR20160208,       I08S,      82,          1,          6,         38,2,20160311,       1516,   -28.9110,    95.0017,       2621,  1535.8,   3.1250,  34.6071,2,  34.6076,2,    149.2,2,   148.2,2,    83.1,2,    0.00,2,   34.82,2,    0.00,2,    2.48,2,-999.000,9,-999.000,9,-999.000,9,-999.000000000,9,  2270.2,2, 2352.99,2,   7.5551,2,    25.02,   3.1253, -999.00,9,  -999.0,9,  -999.0, -999.00,9,-999.000,9,    36.8,2, -999.00,9,     -999.0,1,    5.64,2, 20160311,     1540, -28.9108,  95.0019,     -999.0,9,     -999.0,9,     -999.0,9,-999.0000,9,-999.0000,9,-999.0000,9,-999.0000,9,-999.0000,9,-999.0000,9,-999.0000,9,     -999.0,9,     -999.0,9,       2.38,2,       5.64,2,       2.38,2
33RR20160208,       I08S,      82,          1,          7,          7,2,20160311,       1516,   -28.9110,    95.0017,       2621,  1368.0,   3.4915,  34.5564,2,  34.5570,2,    148.5,2,   148.0,2,    75.9,2,    0.00,2,   34.97,2,    0.00,2,    2.49,2,   0.151,2,   0.081,2,-999.000,5,         0.098,2,  -999.0,9, -999.00,9,   7.5527,2,    25.00,   3.4913, -999.00,9,  -999.0,9,  -999.0, -999.00,9,-999.000,9,    37.5,2, -999.00,9,     -999.0,1,    5.72,2, 20160311,     1544, -28.9108,  95.0018,     -999.0,9,     -999.0,9,     -999.0,9,-999.0000,9,-999.0000,9,-999.0000,9,-999.0000,9,-999.0000,9,-999.0000,9,-999.0000,9,     -999.0,9,     -999.0,9,       2.37,2,       5.72,2,       2.37,2
33RR20160208,       I08S,      82,          1,          8,          8,2,20160311,       1516,   -28.9110,    95.0017,       2621,  1264.2,   3.7155,  34.5119,2,  34.5117,2,    154.2,2,   153.8,2,    67.8,2,    0.00,2,   34.59,2,    0.00,2,    2.47,2,-999.000,9,-999.000,9,-999.000,9,-999.000000000,9,  2254.6,2, 2337.84,2,   7.5584,2,    25.02,   3.7145, -999.00,9,  -999.0,9,  -999.0, -999.00,9,-999.000,9,    38.0,2, -999.00,9,     -999.0,1,    5.77,2, 20160311,     1547, -28.9109,  95.0018,     -999.0,9,     -999.0,9,     -999.0,9,-999.0000,9,-999.0000,9,-999.0000,9,-999.0000,9,-999.0000,9,-999.0000,9,-999.0000,9,     -999.0,9,     -999.0,9,       2.46,2,       5.77,2,       2.46,2
33RR20160208,       I08S,      82,          1,          9,          9,2,20160311,       1516,   -28.9110,    95.0017,       2621,  1165.5,   4.0899,  34.4716,2,  34.4711,2,    162.0,2,   160.0,2,    58.2,2,    0.00,2,   33.84,2,    0.00,2,    2.40,2,   0.625,2,   0.286,2,-999.000,5,         0.074,2,  -999.0,9, -999.00,9,-999.0000,9,  -999.00,   4.0936, -999.00,9,  -999.0,9,  -999.0, -999.00,9,-999.000,9,    37.2,2, -999.00,9,     -999.0,1,    5.85,2, 20160311,     1550, -28.9108,  95.0018,     -999.0,9,     -999.0,9,     -999.0,9,-999.0000,9,-999.0000,9,-999.0000,9,-999.0000,9,-999.0000,9,-999.0000,9,-999.0000,9,     -999.0,9,     -999.0,9,       2.43,2,       5.85,2,       2.43,2
33RR20160208,       I08S,      82,          1,         10,         10,2,20160311,       1516,   -28.9110,    95.0017,       2621,  1066.5,   4.4450,  34.4189,2,  34.4185,2,    177.7,2,   176.8,2,    44.5,2,    0.00,2,   32.30,2,    0.00,2,    2.27,2,-999.000,9,-999.000,9,-999.000,9,-999.000000000,9,  2221.7,2, 2313.45,2,   7.5907,6,    25.01,   4.4442, -999.00,9,  -999.0,9,  -999.0, -999.00,9,-999.000,9,    39.1,2, -999.00,9,     -999.0,1,    5.86,2, 20160311,     1553, -28.9108,  95.0019,     -999.0,9,     -999.0,9,     -999.0,9,-999.0000,9,-999.0000,9,-999.0000,9,-999.0000,9,-999.0000,9,-999.0000,9,-999.0000,9,     -999.0,9,     -999.0,9,       2.46,2,       5.86,2,       2.46,2
33RR20160208,       I08S,      82,          1,         11,         11,2,20160311,       1516,   -28.9110,    95.0017,       2621,   964.4,   5.1967,  34.3834,2,  34.3839,2,    195.6,2,   196.0,2,    28.0,2,    0.00,2,   29.69,2,    0.00,2,    2.04,2,   2.009,2,   0.911,2,-999.000,5,         0.653,2,  2193.9,2, 2296.98,2,   7.6241,2,    25.01,   5.1900, -999.00,9,  -999.0,9,  -999.0, -999.00,9,-999.000,9,    40.3,2, -999.00,9,     -999.0,1,    5.92,2, 20160311,     1556, -28.9107,  95.0019,     -999.0,9,     -999.0,9,     -999.0,9,-999.0000,9,-999.0000,9,-999.0000,9,-999.0000,9,-999.0000,9,-999.0000,9,-999.0000,9,     -999.0,9,     -999.0,9,       2.37,2,       5.92,2,       2.37,2
33RR20160208,       I08S,      82,          1,         12,         12,2,20160311,       1516,   -28.9110,    95.0017,       2621,   866.3,   6.8321,  34.4562,2,  34.4577,2,    202.4,2,   201.6,2,    17.1,2,    0.00,2,   25.73,2,    0.00,2,    1.75,2,-999.000,9,-999.000,9,-999.000,9,-999.000000000,9,  2172.2,2, 2290.28,2,   7.6664,2,    25.01,   6.8357, -999.00,9,  -999.0,9,  -999.0, -999.00,9,-999.000,9,    40.8,2, -999.00,9,     -999.0,1,    6.07,2, 20160311,     1559, -28.9108,  95.0019,     -999.0,9,     -999.0,9,     -999.0,9,-999.0000,9,-999.0000,9,-999.0000,9,-999.0000,9,-999.0000,9,-999.0000,9,-999.0000,9,     -999.0,9,     -999.0,9,       2.47,2,       6.07,2,       2.47,2
33RR20160208,       I08S,      82,          1,         13,         13,2,20160311,       1516,   -28.9110,    95.0017,       2621,   766.4,   8.3591,  34.5705,2,  34.5705,2,    219.7,2,   219.4,2,     8.3,2,    0.00,2,   20.75,2,    0.00,2,    1.43,2,   2.902,2,   1.640,2,-999.000,5,         0.855,2,  2149.3,2, 2289.95,2,   7.7211,2,    25.01,   8.3632, -999.00,9,  -999.0,9,  -999.0, -999.00,9,-999.000,9,    42.4,2, -999.00,9,     -999.0,1,    6.29,2, 20160311,     1602, -28.9108,  95.0019,     -999.0,9,     -999.0,9,     -999.0,9,-999.0000,9,-999.0000,9,-999.0000,9,-999.0000,9,-999.0000,9,-999.0000,9,-999.0000,9,     -999.0,9,     -999.0,9,        2.9,2,       6.29,2,        2.9,2
33RR20160208,       I08S,      82,          1,         14,         14,2,20160311,       1516,   -28.9110,    95.0017,       2621,   664.3,   9.2995,  34.6685,2,  34.6676,2,    236.7,2,   236.8,2,     4.3,2,    0.00,2,   16.72,2,    0.00,2,    1.15,2,   2.895,2,   1.849,2,-999.000,5,         1.296,2,  2138.0,2, 2292.17,2,   7.7618,2,    25.00,   9.3031, -999.00,9,  -999.0,9,  -999.0, -999.00,9,-999.000,9,    43.4,2, -999.00,9,     -999.0,1,    6.66,2, 20160311,     1605, -28.9107,  95.0018,     -999.0,9,     -999.0,9,     -999.0,9,-999.0000,9,-999.0000,9,-999.0000,9,-999.0000,9,-999.0000,9,-999.0000,9,-999.0000,9,     -999.0,9,     -999.0,9,       3.79,2,       6.66,2,       3.79,2
33RR20160208,       I08S,      82,          1,         15,         15,2,20160311,       1516,   -28.9110,    95.0017,       2621,   567.4,  10.0358,  34.7711,2,  34.7737,2,    241.7,2,   241.8,2,     3.2,2,    0.00,2,   13.90,2,    0.00,2,    0.99,2,   2.888,2,   1.850,2,-999.000,5,         1.456,2,  2128.2,2, 2296.68,2,   7.7887,2,    25.01,  10.0420, -999.00,9,  -999.0,9,  -999.0, -999.00,9,-999.000,9,    43.9,2, -999.00,9,     -999.0,1,     7.0,2, 20160311,     1608, -28.9108,  95.0018,     -999.0,9,     -999.0,9,     -999.0,9,-999.0000,9,-999.0000,9,-999.0000,9,-999.0000,9,-999.0000,9,-999.0000,9,-999.0000,9,     -999.0,9,     -999.0,9,       4.34,2,        7.0,2,       4.34,2
33RR20160208,       I08S,      82,          1,         16,         16,2,20160311,       1516,   -28.9110,    95.0017,       2621,   463.0,  11.0733,  34.9249,2,  34.9252,2,    243.9,2,   244.1,2,     2.8,2,    0.00,2,   11.25,2,    0.00,2,    0.85,2,   2.880,2,   1.743,2,-999.000,5,          1.59,2,  2120.7,2, 2304.70,2,   7.8164,2,    25.01,  11.0629, -999.00,9,  -999.0,9,  -999.0, -999.00,9,-999.000,9,    46.3,2, -999.00,9,     -999.0,1,    7.27,2, 20160311,     1611, -28.9108,  95.0019,     -999.0,9,     -999.0,9,     -999.0,9,-999.0000,9,-999.0000,9,-999.0000,9,-999.0000,9,-999.0000,9,-999.0000,9,-999.0000,9,     -999.0,9,     -999.0,9,       4.93,2,       7.27,2,       4.93,2
33RR20160208,       I08S,      82,          1,         17,         17,2,20160311,       1516,   -28.9110,    95.0017,       2621,   385.9,  11.6828,  35.0185,2,  35.0183,2,    238.8,2,   239.5,2,     2.3,2,    0.00,2,    9.94,2,    0.00,2,    0.73,2,   2.872,2,   1.738,2,-999.000,5,         1.563,2,  2120.4,2, 2308.61,2,   7.8269,2,    25.02,  11.6848, -999.00,9,  -999.0,9,  -999.0, -999.00,9,-999.000,9,    47.8,2, -999.00,9,     -999.0,1,    7.53,2, 20160311,     1613, -28.9109,  95.0018,     -999.0,9,     -999.0,9,     -999.0,9,-999.0000,9,-999.0000,9,-999.0000,9,-999.0000,9,-999.0000,9,-999.0000,9,-999.0000,9,     -999.0,9,     -999.0,9,       4.98,2,       7.53,2,       4.98,2
33RR20160208,       I08S,      82,          1,         18,         37,2,20160311,       1516,   -28.9110,    95.0017,       2621,   336.1,  12.4166,  35.1288,2,  35.1309,2,    232.5,2,   233.9,2,     1.9,2,    0.00,2,    8.40,2,    0.00,2,    0.66,2,-999.000,9,-999.000,9,-999.000,9,-999.000000000,9,  2117.3,3, 2315.33,2,   7.8415,6,    25.00,  12.4322, -999.00,9,  -999.0,9,  -999.0, -999.00,9,-999.000,9,    47.7,2,   11.10,2,     -999.0,1,    7.74,2, 20160311,     1615, -28.9109,  95.0018,     -999.0,9,     -999.0,9,     -999.0,9,-999.0000,9,-999.0000,9,-999.0000,9,-999.0000,9,-999.0000,9,-999.0000,9,-999.0000,9,     -999.0,9,     -999.0,9,       4.88,2,       7.74,2,       4.88,2
33RR20160208,       I08S,      82,          1,         19,         19,2,20160311,       1516,   -28.9110,    95.0017,       2621,   284.0,  13.5403,  35.2941,2,  35.2959,2,    228.4,2,   229.0,2,     1.2,2,    0.00,2,    5.89,2,    0.00,2,    0.50,2,   2.864,2,   1.603,2,-999.000,5,         1.489,2,  2120.3,2, 2323.65,2,   7.8709,2,    24.98,  13.5324,    0.89,6,    32.6,6,     3.6, -999.00,9,-999.000,9,    48.2,2,    8.70,2,     -999.0,1,    7.72,2, 20160311,     1617, -28.9109,  95.0018,     -999.0,9,     -999.0,9,     -999.0,9,-999.0000,9,-999.0000,9,-999.0000,9,-999.0000,9,-999.0000,9,-999.0000,9,-999.0000,9,     -999.0,9,     -999.0,9,       4.55,2,       7.72,2,       4.55,2
33RR20160208,       I08S,      82,          1,         20,         20,2,20160311,       1516,   -28.9110,    95.0017,       2621,   236.0,  15.0476,  35.5112,2,  35.5136,2,    226.3,2,   227.0,2,     0.9,2,    0.00,2,    3.16,2,    0.00,2,    0.34,2,   2.494,2,   0.002,4,-999.000,5,         1.615,2,  2098.5,2, 2336.29,6,   7.9079,2,    25.00,  15.0594, -999.00,9,  -999.0,9,  -999.0, -999.00,9,-999.000,9,    51.8,2,    6.90,2,     -999.0,1,    7.79,2, 20160311,     1619, -28.9108,  95.0018,     -999.0,9,     -999.0,9,     -999.0,9,-999.0000,9,-999.0000,9,-999.0000,9,-999.0000,9,-999.0000,9,-999.0000,9,-999.0000,9,     -999.0,9,     -999.0,9,       4.23,2,       7.79,2,       4.04,2
33RR20160208,       I08S,      82,          1,         21,         21,2,20160311,       1516,   -28.9110,    95.0017,       2621,   183.9,  16.6210,  35.7039,2,  35.7038,2,    225.6,2,   224.2,2,     0.8,2,    0.00,2,    1.33,2,    0.01,2,    0.21,2,   2.316,2,   0.001,4,-999.000,5,         1.576,2,  2095.0,2, 2347.08,2,   7.9424,2,    24.98,  16.6165, -999.00,9,  -999.0,9,  -999.0, -999.00,9,-999.000,9,    54.9,2,    4.80,2,     -999.0,1, -999.00,9, 20160311,     1621, -28.9108,  95.0018,     -999.0,9,     -999.0,9,     -999.0,9,-999.0000,9,-999.0000,9,-999.0000,9,-999.0000,9,-999.0000,9,-999.0000,9,-999.0000,9,     -999.0,9,     -999.0,9,     -999.0,9,     -999.0,9,     -999.0,9
33RR20160208,       I08S,      82,          1,         22,         22,2,20160311,       1516,   -28.9110,    95.0017,       2621,   134.9,  18.0733,  35.8156,2,  35.8142,2,    223.6,2,   224.5,2,     1.0,2,    0.00,2,    0.06,2,    0.05,2,    0.12,2,-999.000,9,-999.000,9,-999.000,9,-999.000000000,9,  2083.1,2, 2351.35,2,   7.9729,6,    25.00,  18.0715, -999.00,9,  -999.0,9,  -999.0, -999.00,9,-999.000,9,    59.4,2,    4.10,2,     -999.0,1, -999.00,9, 20160311,     1623, -28.9108,  95.0018,     -999.0,9,     -999.0,9,     -999.0,9,-999.0000,9,-999.0000,9,-999.0000,9,-999.0000,9,-999.0000,9,-999.0000,9,-999.0000,9,     -999.0,9,     -999.0,9,     -999.0,9,     -999.0,9,     -999.0,9
33RR20160208,       I08S,      82,          1,         23,         23,2,20160311,       1516,   -28.9110,    95.0017,       2621,    88.8,  19.8969,  35.8214,2,  35.8132,2,    233.4,2,   233.9,2,     1.2,2,    0.00,2,    0.00,2,    0.00,2,    0.06,2,   2.010,2,   1.227,2,-999.000,5,         1.464,2,  -999.0,9, -999.00,9,-999.0000,9,     9.00,  19.9005, -999.00,9,  -999.0,9,  -999.0, -999.00,9,-999.000,9,    66.7,2,    4.10,2,     -999.0,1, -999.00,9, 20160311,     1625, -28.9108,  95.0018,     -999.0,9,     -999.0,9,     -999.0,9,-999.0000,9,-999.0000,9,-999.0000,9,-999.0000,9,-999.0000,9,-999.0000,9,-999.0000,9,     -999.0,9,     -999.0,9,     -999.0,9,     -999.0,9,     -999.0,9
33RR20160208,       I08S,      82,          1,         24,         24,2,20160311,       1516,   -28.9110,    95.0017,       2621,    64.2,  21.7345,  35.9457,2,  35.9466,2,    223.4,2,   225.4,2,     1.2,2,    0.00,2,    0.00,2,    0.00,2,    0.04,2,   1.871,2,   1.149,2,-999.000,5,         1.589,2,  2062.1,2, 2359.31,2,   8.0180,2,    25.00,  21.7423, -999.00,9,  -999.0,9,  -999.0, -999.00,9,-999.000,9,    69.6,2,    4.50,2,     -999.0,1, -999.00,9, 20160311,     1627, -28.9108,  95.0018,     -999.0,9,     -999.0,9,     -999.0,9,-999.0000,9,-999.0000,9,-999.0000,9,-999.0000,9,-999.0000,9,-999.0000,9,-999.0000,9,     -999.0,9,     -999.0,9,     -999.0,9,     -999.0,9,     -999.0,9
33RR20160208,       I08S,      82,          1,         25,         25,2,20160311,       1516,   -28.9110,    95.0017,       2621,    41.4,  22.1976,  35.9847,2,  35.9835,2,    222.4,2,   222.2,2,     1.3,2,    0.00,2,    0.00,2,    0.00,2,    0.05,2,   1.824,2,   1.142,2,-999.000,5,         1.398,2,  2062.7,2, 2361.28,2,   8.0205,2,    24.97,  22.2016, -999.00,9,  -999.0,9,  -999.0, -999.00,9,-999.000,9,    70.5,2,    4.50,2,     -999.0,1, -999.00,9, 20160311,     1629, -28.9108,  95.0018,     -999.0,9,     -999.0,9,     -999.0,9,-999.0000,9,-999.0000,9,-999.0000,9,-999.0000,9,-999.0000,9,-999.0000,9,-999.0000,9,     -999.0,9,     -999.0,9,     -999.0,9,     -999.0,9,     -999.0,9
33RR20160208,       I08S,      82,          1,         26,         26,2,20160311,       1516,   -28.9110,    95.0017,       2621,    20.9,  23.0290,  35.9775,2,  35.9762,2,    217.8,2,   216.1,2,     1.3,2,    0.00,2,    0.00,2,    0.00,2,    0.04,2,-999.000,9,-999.000,9,-999.000,9,-999.000000000,9,  2057.7,2, 2359.99,2,   8.0245,3,    25.00,  23.0771, -999.00,9,  -999.0,9,  -999.0, -999.00,9,-999.000,9,    70.0,2,    5.10,2,     -999.0,1, -999.00,9, 20160311,     1631, -28.9108,  95.0019,     -999.0,9,     -999.0,9,     -999.0,9,-999.0000,9,-999.0000,9,-999.0000,9,-999.0000,9,-999.0000,9,-999.0000,9,-999.0000,9,     -999.0,9,     -999.0,9,     -999.0,9,     -999.0,9,     -999.0,9
33RR20160208,       I08S,      82,          1,         27,         27,2,20160311,       1516,   -28.9110,    95.0017,       2621,     7.4,  23.1740,  35.9720,2,  35.9695,2,    218.1,2,   215.6,2,     1.2,2,    0.00,2,    0.00,2,    0.00,2,    0.06,2,   1.694,2,   1.092,2,-999.000,5,         1.355,2,  2060.5,6, 2359.36,2,   8.0257,6,    24.99,  23.1699, -999.00,9,  -999.0,9,  -999.0, -999.00,9,-999.000,9,    70.9,2,    4.40,2,     -999.0,1, -999.00,9, 20160311,     1632, -28.9108,  95.0018,     -999.0,9,     -999.0,9,     -999.0,9,-999.0000,9,-999.0000,9,-999.0000,9,-999.0000,9,-999.0000,9,-999.0000,9,-999.0000,9,     -999.0,9,     -999.0,9,     -999.0,9,     -999.0,9,     -999.0,9