BOTTLE,20220706CCHSIOAMB
EXPOCODE,SECT_ID,STNNBR,CASTNO,SAMPNO,BTLNBR,BTLNBR_FLAG_W,DATE,TIME,LATITUDE,LONGITUDE,DEPTH,CTDPRS,CTDTMP,CTDSAL,CTDSAL_FLAG_W,SALNTY,SALNTY_FLAG_W,CTDOXY,CTDOXY_FLAG_W,OXYGEN,OXYGEN_FLAG_W,SILCAT,SILCAT_FLAG_W,NH4,NH4_FLAG_W,NITRAT,NITRAT_FLAG_W,NITRIT,NITRIT_FLAG_W,PHSPHT,PHSPHT_FLAG_W,CFC-11,CFC-11_FLAG_W,CFC-12,CFC-12_FLAG_W,CFC113,CFC113_FLAG_W,SF6,SF6_FLAG_W,TCARBN,TCARBN_FLAG_W,ALKALI,ALKALI_FLAG_W,PH_TOT,PH_TOT_FLAG_W,PH_TMP,REFTMP,DELC13,DELC13_FLAG_W,DELC14,DELC14_FLAG_W,C14ERR,DELO18,DELO18_FLAG_W,POC,POC_FLAG_W,DOC,DOC_FLAG_W,TDN,TDN_FLAG_W,TON,TON_FLAG_W,D15N_NO3,D15N_NO3_FLAG_W,BTL_DATE,BTL_TIME,BTL_LAT,BTL_LON,14C-DOC,14C-DOC_FLAG_W,CHLORA,CHLORA_FLAG_W,HPLC,HPLC_FLAG_W,CDOM325,CDOM325_FLAG_W,CDOM340,CDOM340_FLAG_W,CDOM380,CDOM380_FLAG_W,CDOM412,CDOM412_FLAG_W,CDOM443,CDOM443_FLAG_W,CDOM490,CDOM490_FLAG_W,CDOM555,CDOM555_FLAG_W,CDOMSL,CDOMSL_FLAG_W,CDOMSN,CDOMSN_FLAG_W,D18O_NO3,D18O_NO3_FLAG_W,D15N_NO2+NO3,D15N_NO2+NO3_FLAG_W,D18O_NO2+NO3,D18O_NO2+NO3_FLAG_W
,,,,,,,,,,,METERS,DBAR,ITS-90,PSS-78,,PSS-78,,UMOL/KG,,UMOL/KG,,UMOL/KG,,UMOL/KG,,UMOL/KG,,UMOL/KG,,UMOL/KG,,PMOL/KG,,PMOL/KG,,PMOL/KG,,FMOL/KG,,UMOL/KG,,UMOL/KG,,,,DEG C,DEG C,/MILLE,,/MILLE,,/MILLE,/MILLE,,UG/KG,,UMOL/KG,,UMOL/KG,,UMOL/KG,,/MILLE,,,,,,/MILLE,,MG/M3,,,,1/M,,1/M,,1/M,,1/M,,1/M,,1/M,,1/M,,1/NM,,1/NM,,/MILLE,,/MILLE,,/MILLE,
33RR20160208,       I08S,      56,          1,         28,         28,2,20160305,       0131,   -42.4267,    95.0001,       3327,   148.2,  11.4494,  34.9513,2,  34.9504,2,    252.6,2,   253.4,2,     2.8,2,    0.00,2,    9.61,2,    0.00,2,    0.68,2,   3.017,6,   1.741,6,   0.224,6,    1.87760592,6,     8.0,4, 2306.23,2,   7.8367,2,    25.02,  11.4495,    0.93,2,    28.8,2,     2.1, -999.00,9,-999.000,9,    48.6,2,   13.10,2,     -999.0,9, -999.00,9, 20160305,      307, -42.4268,  95.0002,     -999.0,9,     -999.0,9,     -999.0,9,-999.0000,9,-999.0000,9,-999.0000,9,-999.0000,9,-999.0000,9,-999.0000,9,-999.0000,9,     -999.0,9,     -999.0,9,     -999.0,9,     -999.0,9,     -999.0,9
33RR20160208,       I08S,      56,          1,         29,         29,2,20160305,       0131,   -42.4267,    95.0001,       3327,   125.4,  11.4845,  34.9362,2,  34.9362,2,    253.9,2,   254.5,2,     2.6,2,    0.01,2,    9.16,2,    0.02,2,    0.66,2,   3.031,2,   1.753,2,   0.234,2,    1.92986028,2,  2113.9,2, 2306.27,2,   7.8397,2,    25.00,  11.4836,    0.96,2,    26.5,2,     2.0, -999.00,9,-999.000,9,    48.3,2,   12.30,2,     -999.0,9, -999.00,9, 20160305,      309, -42.4267,  95.0002,     -999.0,9,     -999.0,9,     -999.0,9,-999.0000,9,-999.0000,9,-999.0000,9,-999.0000,9,-999.0000,9,-999.0000,9,-999.0000,9,     -999.0,9,     -999.0,9,     -999.0,9,     -999.0,9,     -999.0,9
33RR20160208,       I08S,      56,          1,         30,         30,2,20160305,       0131,   -42.4267,    95.0001,       3327,    99.8,  11.6524,  34.9167,2,  34.9183,2,    253.1,2,   255.4,2,     2.7,2,    0.03,2,    8.84,2,    0.52,2,    0.66,2,   3.025,2,   1.751,2,   0.243,2,    1.86289352,2,  2112.0,2, 2305.71,2,   7.8405,2,    25.00,  11.6504,    1.02,2,    24.8,2,     2.1, -999.00,9,-999.000,9,    48.1,2,   13.20,2,     -999.0,9, -999.00,9, 20160305,      310, -42.4267,  95.0001,     -999.0,9,     -999.0,9,     -999.0,9,-999.0000,9,-999.0000,9,-999.0000,9,-999.0000,9,-999.0000,9,-999.0000,9,-999.0000,9,     -999.0,9,     -999.0,9,     -999.0,9,     -999.0,9,     -999.0,9
33RR20160208,       I08S,      56,          1,         31,         31,2,20160305,       0131,   -42.4267,    95.0001,       3327,    75.8,  13.2318,  34.8618,2,  34.8588,2,    255.1,2,   252.2,2,     0.8,2,    1.15,2,    5.60,2,    0.21,2,    0.58,2,   2.838,2,   1.640,2,   0.227,2,    1.82332225,2,  2094.8,2, 2307.20,2,   7.8824,2,    24.98,  13.2902,    1.26,2,    23.6,2,     2.1, -999.00,9,-999.000,9,    51.1,2,   10.90,2,     -999.0,9, -999.00,9, 20160305,      312, -42.4267,  95.0002,     -999.0,9,     -999.0,9,     -999.0,9,-999.0000,9,-999.0000,9,-999.0000,9,-999.0000,9,-999.0000,9,-999.0000,9,-999.0000,9,     -999.0,9,     -999.0,9,     -999.0,9,     -999.0,9,     -999.0,9
33RR20160208,       I08S,      56,          1,         33,         33,2,20160305,       0131,   -42.4267,    95.0001,       3327,    49.7,  14.0136,  34.8307,2,  34.8308,2,    256.9,2,   256.5,2,     0.2,2,    0.23,2,    4.95,2,    0.10,2,    0.45,2,-999.000,9,-999.000,9,-999.000,9,-999.000000000,9,  -999.0,9, -999.00,9,-999.0000,9,  -999.00,  14.0090, -999.00,9,  -999.0,9,  -999.0, -999.00,9,-999.000,1,    54.2,2,    9.60,2,     -999.0,9, -999.00,9, 20160305,      315, -42.4267,  95.0002,     -999.0,9,     -999.0,9,     -999.0,1,-999.0000,9,-999.0000,9,-999.0000,9,-999.0000,9,-999.0000,9,-999.0000,9,-999.0000,9,     -999.0,9,     -999.0,9,     -999.0,9,     -999.0,9,     -999.0,9
33RR20160208,       I08S,      56,          1,         32,         32,2,20160305,       0131,   -42.4267,    95.0001,       3327,    48.9,  14.0085,  34.8311,2,  34.8306,2,    256.9,2,   257.0,2,     0.2,2,    0.22,2,    4.94,2,    0.10,2,    0.42,2,   2.676,2,   1.552,2,   0.217,2,    1.77867775,2,  2080.8,2, 2307.63,6,   7.9101,2,    25.01,  14.0091, -999.00,9,  -999.0,9,  -999.0, -999.00,9,-999.000,9,  -999.0,9, -999.00,9,     -999.0,9, -999.00,9, 20160305,      314, -42.4267,  95.0002,     -999.0,9,     -999.0,9,     -999.0,9,-999.0000,9,-999.0000,9,-999.0000,9,-999.0000,9,-999.0000,9,-999.0000,9,-999.0000,9,     -999.0,9,     -999.0,9,     -999.0,9,     -999.0,9,     -999.0,9
33RR20160208,       I08S,      56,          1,         34,         34,2,20160305,       0131,   -42.4267,    95.0001,       3327,    24.6,  14.0082,  34.8231,2,  34.8225,2,    257.5,2,   256.9,2,     0.3,2,    0.22,2,    5.02,2,    0.10,2,    0.46,2,   2.724,2,   1.581,2,   0.219,2,    1.71272563,2,  2080.9,2, 2307.07,2,   7.9096,2,    25.01,  14.0093, -999.00,9,  -999.0,9,  -999.0, -999.00,9,-999.000,9,  -999.0,9, -999.00,9,     -999.0,9, -999.00,9, 20160305,      317, -42.4267,  95.0002,     -999.0,9,     -999.0,9,     -999.0,9,-999.0000,9,-999.0000,9,-999.0000,9,-999.0000,9,-999.0000,9,-999.0000,9,-999.0000,9,     -999.0,9,     -999.0,9,     -999.0,9,     -999.0,9,     -999.0,9
33RR20160208,       I08S,      56,          1,         36,         36,2,20160305,       0131,   -42.4267,    95.0001,       3327,     6.0,  14.0175,  34.8235,2,  34.8233,2,    255.5,2,  -999.0,9,     0.3,2,    0.23,2,    5.02,2,    0.11,2,    0.47,2,-999.000,9,-999.000,9,-999.000,9,-999.000000000,9,  -999.0,9, -999.00,9,-999.0000,9,  -999.00,  14.0155, -999.00,9,  -999.0,9,  -999.0, -999.00,9,-999.000,1,    54.3,2,    9.40,2,     -999.0,9, -999.00,9, 20160305,      319, -42.4267,  95.0002,     -999.0,9,     -999.0,9,     -999.0,1,-999.0000,9,-999.0000,9,-999.0000,9,-999.0000,9,-999.0000,9,-999.0000,9,-999.0000,9,     -999.0,9,     -999.0,9,     -999.0,9,     -999.0,9,     -999.0,9
33RR20160208,       I08S,      56,          1,         35,         35,2,20160305,       0131,   -42.4267,    95.0001,       3327,     5.9,  14.0187,  34.8235,2,  34.8225,2,    255.5,2,   257.3,2,     0.3,2,    0.22,2,    5.01,2,    0.10,2,    0.44,2,   2.722,2,   1.576,2,   0.222,2,         1.801,2,  2081.5,6, 2307.53,2,   7.9097,6,    25.01,  14.0178,    1.44,2,    22.3,2,     2.0, -999.00,9,-999.000,9,    55.2,2,    9.90,2,     -999.0,9, -999.00,9, 20160305,      318, -42.4267,  95.0001,     -999.0,9,     -999.0,9,     -999.0,9,-999.0000,9,-999.0000,9,-999.0000,9,-999.0000,9,-999.0000,9,-999.0000,9,-999.0000,9,     -999.0,9,     -999.0,9,     -999.0,9,     -999.0,9,     -999.0,9