BOTTLE,20220706CCHSIOAMB
EXPOCODE,SECT_ID,STNNBR,CASTNO,SAMPNO,BTLNBR,BTLNBR_FLAG_W,DATE,TIME,LATITUDE,LONGITUDE,DEPTH,CTDPRS,CTDTMP,CTDSAL,CTDSAL_FLAG_W,SALNTY,SALNTY_FLAG_W,CTDOXY,CTDOXY_FLAG_W,OXYGEN,OXYGEN_FLAG_W,SILCAT,SILCAT_FLAG_W,NH4,NH4_FLAG_W,NITRAT,NITRAT_FLAG_W,NITRIT,NITRIT_FLAG_W,PHSPHT,PHSPHT_FLAG_W,CFC-11,CFC-11_FLAG_W,CFC-12,CFC-12_FLAG_W,CFC113,CFC113_FLAG_W,SF6,SF6_FLAG_W,TCARBN,TCARBN_FLAG_W,ALKALI,ALKALI_FLAG_W,PH_TOT,PH_TOT_FLAG_W,PH_TMP,REFTMP,DELC13,DELC13_FLAG_W,DELC14,DELC14_FLAG_W,C14ERR,DELO18,DELO18_FLAG_W,POC,POC_FLAG_W,DOC,DOC_FLAG_W,TDN,TDN_FLAG_W,TON,TON_FLAG_W,D15N_NO3,D15N_NO3_FLAG_W,BTL_DATE,BTL_TIME,BTL_LAT,BTL_LON,14C-DOC,14C-DOC_FLAG_W,CHLORA,CHLORA_FLAG_W,HPLC,HPLC_FLAG_W,CDOM325,CDOM325_FLAG_W,CDOM340,CDOM340_FLAG_W,CDOM380,CDOM380_FLAG_W,CDOM412,CDOM412_FLAG_W,CDOM443,CDOM443_FLAG_W,CDOM490,CDOM490_FLAG_W,CDOM555,CDOM555_FLAG_W,CDOMSL,CDOMSL_FLAG_W,CDOMSN,CDOMSN_FLAG_W,D18O_NO3,D18O_NO3_FLAG_W,D15N_NO2+NO3,D15N_NO2+NO3_FLAG_W,D18O_NO2+NO3,D18O_NO2+NO3_FLAG_W
,,,,,,,,,,,METERS,DBAR,ITS-90,PSS-78,,PSS-78,,UMOL/KG,,UMOL/KG,,UMOL/KG,,UMOL/KG,,UMOL/KG,,UMOL/KG,,UMOL/KG,,PMOL/KG,,PMOL/KG,,PMOL/KG,,FMOL/KG,,UMOL/KG,,UMOL/KG,,,,DEG C,DEG C,/MILLE,,/MILLE,,/MILLE,/MILLE,,UG/KG,,UMOL/KG,,UMOL/KG,,UMOL/KG,,/MILLE,,,,,,/MILLE,,MG/M3,,,,1/M,,1/M,,1/M,,1/M,,1/M,,1/M,,1/M,,1/NM,,1/NM,,/MILLE,,/MILLE,,/MILLE,
33RR20160208,       I08S,      47,          1,         28,         28,2,20160302,       1758,   -47.5510,    92.6087,       3616,   248.9,   5.5291,  34.1246,2,  34.1249,2,    268.2,2,   270.0,2,     9.5,2,    0.00,2,   23.48,2,    0.00,2,    1.59,2,-999.000,9,-999.000,9,-999.000,9,-999.000000000,9,  2146.9,2, 2277.06,2,   7.6972,2,    24.98,   5.5291, -999.00,9,  -999.0,9,  -999.0, -999.00,1,-999.000,9,  -999.0,9, -999.00,9,     -999.0,9,    5.96,2, 20160302,     1924, -47.5510,  92.6087,     -999.0,9,     -999.0,9,     -999.0,9,-999.0000,9,-999.0000,9,-999.0000,9,-999.0000,9,-999.0000,9,-999.0000,9,-999.0000,9,     -999.0,9,     -999.0,9,       3.54,2,       5.96,2,       3.54,2
33RR20160208,       I08S,      47,          1,         29,         29,2,20160302,       1758,   -47.5510,    92.6087,       3616,   199.7,   5.7171,  34.0785,2,  34.0755,2,    277.9,2,   280.3,2,     7.0,2,    0.00,2,   22.22,2,    0.00,2,    1.53,2,   3.994,2,   2.227,2,   0.331,2,         2.035,2,  2139.4,2, 2276.32,2,   7.7160,2,    25.01,   5.7188, -999.00,9,  -999.0,9,  -999.0, -999.00,1,-999.000,9,  -999.0,9, -999.00,9,     -999.0,9,    6.21,2, 20160302,     1927, -47.5510,  92.6088,     -999.0,9,     -999.0,9,     -999.0,9,-999.0000,9,-999.0000,9,-999.0000,9,-999.0000,9,-999.0000,9,-999.0000,9,-999.0000,9,     -999.0,9,     -999.0,9,       3.81,2,       6.21,2,       3.81,2
33RR20160208,       I08S,      47,          1,         30,         30,2,20160302,       1758,   -47.5510,    92.6087,       3616,   148.9,   5.8330,  33.9647,2,  33.9644,2,    288.4,2,   289.1,2,     5.0,2,    0.00,2,   21.52,2,    0.05,2,    1.48,2,-999.000,9,-999.000,9,-999.000,9,-999.000000000,9,  2128.8,2, 2272.12,2,   7.7305,2,    24.98,   5.8337, -999.00,9,  -999.0,9,  -999.0, -999.00,1,-999.000,9,  -999.0,9, -999.00,9,     -999.0,9,    6.39,2, 20160302,     1929, -47.5511,  92.6088,     -999.0,9,     -999.0,9,     -999.0,9,-999.0000,9,-999.0000,9,-999.0000,9,-999.0000,9,-999.0000,9,-999.0000,9,-999.0000,9,     -999.0,9,     -999.0,9,       4.09,2,       6.39,2,       4.11,2
33RR20160208,       I08S,      47,          1,         31,         31,2,20160302,       1758,   -47.5510,    92.6087,       3616,   126.8,   6.3482,  33.9822,2,  33.9888,2,    287.1,2,   286.9,2,     4.1,2,    0.20,2,   19.31,2,    1.30,2,    1.45,2,   3.999,2,   2.251,2,   0.341,2,         2.013,2,  2124.8,2, 2271.86,2,   7.7400,2,    24.99,   6.3381, -999.00,9,  -999.0,9,  -999.0, -999.00,1,-999.000,9,  -999.0,9, -999.00,9,     -999.0,9,    7.15,2, 20160302,     1931, -47.5511,  92.6087,     -999.0,9,     -999.0,9,     -999.0,9,-999.0000,9,-999.0000,9,-999.0000,9,-999.0000,9,-999.0000,9,-999.0000,9,-999.0000,9,     -999.0,9,     -999.0,9,       4.66,2,       6.19,2,       5.26,2
33RR20160208,       I08S,      47,          1,         32,         32,2,20160302,       1758,   -47.5510,    92.6087,       3616,    99.9,   7.8841,  34.0600,2,  34.0613,2,    285.5,2,   282.3,2,     2.2,2,    1.09,2,   16.31,2,    0.59,2,    1.26,2,-999.000,9,-999.000,9,-999.000,9,-999.000000000,9,  2111.6,2, 2276.64,6,   7.7800,2,    24.99,   7.8889, -999.00,9,  -999.0,9,  -999.0, -999.00,1,-999.000,9,  -999.0,9, -999.00,9,     -999.0,9,    8.43,2, 20160302,     1932, -47.5510,  92.6087,     -999.0,9,     -999.0,9,     -999.0,9,-999.0000,9,-999.0000,9,-999.0000,9,-999.0000,9,-999.0000,9,-999.0000,9,-999.0000,9,     -999.0,9,     -999.0,9,       5.38,2,        7.4,2,       5.81,2
33RR20160208,       I08S,      47,          1,         33,         33,2,20160302,       1758,   -47.5510,    92.6087,       3616,    74.7,   8.9122,  34.0445,2,  34.0443,2,    283.3,2,   283.7,2,     1.3,2,    0.72,2,   15.35,2,    0.23,2,    1.15,2,   3.484,2,   1.985,2,   0.288,2,         1.944,2,  2103.8,2, 2276.09,2,   7.8056,2,    24.98,   8.9045, -999.00,9,  -999.0,9,  -999.0, -999.00,1,-999.000,9,  -999.0,9, -999.00,9,     -999.0,9,    9.46,2, 20160302,     1934, -47.5510,  92.6087,     -999.0,9,     -999.0,9,     -999.0,9,-999.0000,9,-999.0000,9,-999.0000,9,-999.0000,9,-999.0000,9,-999.0000,9,-999.0000,9,     -999.0,9,     -999.0,9,       5.86,2,       8.52,2,       5.88,2
33RR20160208,       I08S,      47,          1,         34,         34,3,20160302,       1758,   -47.5510,    92.6087,       3616,    49.4,   9.4228,  34.0179,3,  34.0169,3,    280.9,3,  -999.0,9,     1.2,3,    0.37,3,   15.22,3,    0.21,3,    1.14,3,-999.000,9,-999.000,9,-999.000,9,-999.000000000,9,  -999.0,9, -999.00,9,-999.0000,9,  -999.00,   9.4213, -999.00,9,  -999.0,9,  -999.0, -999.00,9,-999.000,9,  -999.0,9, -999.00,9,     -999.0,9,    9.92,2, 20160302,     1937, -47.5510,  92.6087,     -999.0,9,     -999.0,9,     -999.0,9,-999.0000,9,-999.0000,9,-999.0000,9,-999.0000,9,-999.0000,9,-999.0000,9,-999.0000,9,     -999.0,9,     -999.0,9,       5.98,2,       8.88,2,       6.03,2
33RR20160208,       I08S,      47,          1,         35,         35,2,20160302,       1758,   -47.5510,    92.6087,       3616,    26.3,   9.4312,  34.0181,2,  34.0172,2,    281.2,2,   282.0,2,     1.1,2,    0.35,2,   15.21,2,    0.21,2,    1.12,2,   3.485,2,   1.970,2,   0.284,2,         1.954,2,  2096.9,2, 2274.49,2,   7.8156,2,    24.99,   9.4309, -999.00,9,  -999.0,9,  -999.0, -999.00,1,-999.000,9,  -999.0,9, -999.00,9,     -999.0,9, -999.00,9, 20160302,     1939, -47.5510,  92.6087,     -999.0,9,     -999.0,9,     -999.0,9,-999.0000,9,-999.0000,9,-999.0000,9,-999.0000,9,-999.0000,9,-999.0000,9,-999.0000,9,     -999.0,9,     -999.0,9,     -999.0,9,     -999.0,9,     -999.0,9
33RR20160208,       I08S,      47,          1,         36,         36,2,20160302,       1758,   -47.5510,    92.6087,       3616,     5.3,   9.4323,  34.0183,2,  34.0209,2,    281.0,2,   282.0,2,     1.3,2,    0.37,2,   15.16,2,    0.21,2,    1.13,2,   3.430,2,   1.945,2,   0.275,2,         1.888,2,  2096.0,2, 2275.02,2,   7.8155,2,    24.99,   9.4319, -999.00,9,  -999.0,9,  -999.0, -999.00,1,-999.000,9,  -999.0,9, -999.00,9,     -999.0,9,    9.87,2, 20160302,     1941, -47.5510,  92.6087,     -999.0,9,     -999.0,9,     -999.0,9,-999.0000,9,-999.0000,9,-999.0000,9,-999.0000,9,-999.0000,9,-999.0000,9,-999.0000,9,     -999.0,9,     -999.0,9,       5.95,2,       8.91,2,       6.13,2