BOTTLE,20220706CCHSIOAMB
EXPOCODE,SECT_ID,STNNBR,CASTNO,SAMPNO,BTLNBR,BTLNBR_FLAG_W,DATE,TIME,LATITUDE,LONGITUDE,DEPTH,CTDPRS,CTDTMP,CTDSAL,CTDSAL_FLAG_W,SALNTY,SALNTY_FLAG_W,CTDOXY,CTDOXY_FLAG_W,OXYGEN,OXYGEN_FLAG_W,SILCAT,SILCAT_FLAG_W,NH4,NH4_FLAG_W,NITRAT,NITRAT_FLAG_W,NITRIT,NITRIT_FLAG_W,PHSPHT,PHSPHT_FLAG_W,CFC-11,CFC-11_FLAG_W,CFC-12,CFC-12_FLAG_W,CFC113,CFC113_FLAG_W,SF6,SF6_FLAG_W,TCARBN,TCARBN_FLAG_W,ALKALI,ALKALI_FLAG_W,PH_TOT,PH_TOT_FLAG_W,PH_TMP,REFTMP,DELC13,DELC13_FLAG_W,DELC14,DELC14_FLAG_W,C14ERR,DELO18,DELO18_FLAG_W,POC,POC_FLAG_W,DOC,DOC_FLAG_W,TDN,TDN_FLAG_W,TON,TON_FLAG_W,D15N_NO3,D15N_NO3_FLAG_W,BTL_DATE,BTL_TIME,BTL_LAT,BTL_LON,14C-DOC,14C-DOC_FLAG_W,CHLORA,CHLORA_FLAG_W,HPLC,HPLC_FLAG_W,CDOM325,CDOM325_FLAG_W,CDOM340,CDOM340_FLAG_W,CDOM380,CDOM380_FLAG_W,CDOM412,CDOM412_FLAG_W,CDOM443,CDOM443_FLAG_W,CDOM490,CDOM490_FLAG_W,CDOM555,CDOM555_FLAG_W,CDOMSL,CDOMSL_FLAG_W,CDOMSN,CDOMSN_FLAG_W,D18O_NO3,D18O_NO3_FLAG_W,D15N_NO2+NO3,D15N_NO2+NO3_FLAG_W,D18O_NO2+NO3,D18O_NO2+NO3_FLAG_W
,,,,,,,,,,,METERS,DBAR,ITS-90,PSS-78,,PSS-78,,UMOL/KG,,UMOL/KG,,UMOL/KG,,UMOL/KG,,UMOL/KG,,UMOL/KG,,UMOL/KG,,PMOL/KG,,PMOL/KG,,PMOL/KG,,FMOL/KG,,UMOL/KG,,UMOL/KG,,,,DEG C,DEG C,/MILLE,,/MILLE,,/MILLE,/MILLE,,UG/KG,,UMOL/KG,,UMOL/KG,,UMOL/KG,,/MILLE,,,,,,/MILLE,,MG/M3,,,,1/M,,1/M,,1/M,,1/M,,1/M,,1/M,,1/M,,1/NM,,1/NM,,/MILLE,,/MILLE,,/MILLE,
33RR20160208,       I08S,      30,          1,         28,         28,2,20160226,       0325,   -55.6232,    84.7474,       4825,   316.0,   2.1515,  34.5948,2,  34.5939,2,    179.1,2,   177.5,3,    74.9,2,    0.00,2,   33.62,2,    0.00,2,    2.33,2,   0.746,2,   0.386,2,   0.052,2,   0.250845964,2,  2255.6,2, 2336.33,2,   7.5479,6,    24.99,   2.1517,    0.47,2,  -142.0,2,     1.9, -999.00,9,-999.000,9,    40.8,2,   36.10,2,     -999.0,1, -999.00,9, 20160226,      521, -55.6232,  84.7473,     -999.0,9,     -999.0,9,     -999.0,9,-999.0000,9,-999.0000,9,-999.0000,9,-999.0000,9,-999.0000,9,-999.0000,9,-999.0000,9,     -999.0,9,     -999.0,9,     -999.0,9,     -999.0,9,     -999.0,9
33RR20160208,       I08S,      30,          1,         29,         29,2,20160226,       0325,   -55.6232,    84.7474,       4825,   266.1,   1.8711,  34.5255,2,  34.5214,2,    174.2,2,   182.8,2,    74.6,2,    0.00,2,   34.67,2,    0.01,2,    2.40,2,   1.278,2,   0.649,2,   0.101,2,   0.508743822,2,  2256.9,6, 2330.11,2,   7.5307,6,    24.98,   1.8687,    0.41,2,  -140.4,2,     2.0, -999.00,9,-999.000,9,    38.7,2,   38.60,3,     -999.0,1, -999.00,9, 20160226,      523, -55.6232,  84.7473,     -999.0,9,     -999.0,9,     -999.0,9,-999.0000,9,-999.0000,9,-999.0000,9,-999.0000,9,-999.0000,9,-999.0000,9,-999.0000,9,     -999.0,9,     -999.0,9,     -999.0,9,     -999.0,9,     -999.0,9
33RR20160208,       I08S,      30,          1,         30,         30,2,20160226,       0325,   -55.6232,    84.7474,       4825,   209.4,   1.7024,  34.4509,2,  34.4502,2,    185.8,2,   192.1,2,    70.2,2,    0.00,2,   34.71,2,    0.02,2,    2.40,2,   1.741,2,   0.885,2,   0.142,2,   0.592359143,2,  2250.5,2, 2325.43,2,   7.5302,6,    25.00,   1.7018,    0.40,2,  -137.6,2,     2.5, -999.00,9,-999.000,9,    40.9,2,   36.80,2,     -999.0,1, -999.00,9, 20160226,      525, -55.6232,  84.7473,     -999.0,9,     -999.0,9,     -999.0,9,-999.0000,9,-999.0000,9,-999.0000,9,-999.0000,9,-999.0000,9,-999.0000,9,-999.0000,9,     -999.0,9,     -999.0,9,     -999.0,9,     -999.0,9,     -999.0,9
33RR20160208,       I08S,      30,          1,         31,         31,2,20160226,       0325,   -55.6232,    84.7474,       4825,   173.2,   1.4774,  34.3875,2,  34.3850,2,    224.4,2,   205.5,2,    65.7,2,    0.01,2,   34.32,2,    0.04,2,    2.38,2,   2.165,2,   1.129,2,   0.184,2,   0.950998353,2,  2243.3,2, 2322.56,2,   7.5375,2,    25.00,   1.4779,    0.56,2,  -129.8,2,     1.9, -999.00,9,-999.000,9,    39.4,2,   37.50,2,     -999.0,1, -999.00,9, 20160226,      527, -55.6232,  84.7473,     -999.0,9,     -999.0,9,     -999.0,9,-999.0000,9,-999.0000,9,-999.0000,9,-999.0000,9,-999.0000,9,-999.0000,9,-999.0000,9,     -999.0,9,     -999.0,9,     -999.0,9,     -999.0,9,     -999.0,9
33RR20160208,       I08S,      30,          1,         32,         32,2,20160226,       0325,   -55.6232,    84.7474,       4825,   115.9,   0.2176,  34.0779,2,  34.0760,2,    299.9,2,   288.7,2,    45.0,2,    0.25,2,   30.18,2,    0.16,2,    2.12,2,   4.352,2,   2.252,2,   0.402,2,    1.43556425,2,  2205.6,2, 2301.32,6,   7.6036,2,    25.00,   0.2174, -999.00,9,  -999.0,9,  -999.0, -999.00,9,-999.000,9,    40.2,2,   33.10,2,     -999.0,1, -999.00,9, 20160226,      529, -55.6232,  84.7472,     -999.0,9,     -999.0,9,     -999.0,9,-999.0000,9,-999.0000,9,-999.0000,9,-999.0000,9,-999.0000,9,-999.0000,9,-999.0000,9,     -999.0,9,     -999.0,9,     -999.0,9,     -999.0,9,     -999.0,9
33RR20160208,       I08S,      30,          1,         33,         33,2,20160226,       0325,   -55.6232,    84.7474,       4825,    75.4,   0.9896,  33.8690,2,  33.8673,2,    333.0,2,   331.7,2,    32.0,2,    0.49,2,   26.26,2,    0.26,2,    1.88,2,   5.266,2,   2.843,2,   0.507,2,    2.29085832,2,  2171.0,2, 2292.17,2,   7.6726,2,    24.99,   0.9893,    1.28,2,  -103.9,2,     2.1, -999.00,9,-999.000,9,    41.0,2,   29.80,2,     -999.0,1, -999.00,9, 20160226,      532, -55.6232,  84.7473,     -999.0,9,     -999.0,9,     -999.0,9,-999.0000,9,-999.0000,9,-999.0000,9,-999.0000,9,-999.0000,9,-999.0000,9,-999.0000,9,     -999.0,9,     -999.0,9,     -999.0,9,     -999.0,9,     -999.0,9
33RR20160208,       I08S,      30,          1,         34,         34,2,20160226,       0325,   -55.6232,    84.7474,       4825,    58.5,   1.5186,  33.8378,2,  33.8386,2,    334.7,2,   334.9,2,    29.5,2,    0.41,2,   25.58,2,    0.28,2,    1.73,2,   5.354,2,   2.866,2,   0.513,2,    2.47118534,2,  2164.1,2, 2289.64,2,   7.6888,2,    25.01,   1.5183, -999.00,9,  -999.0,9,  -999.0, -999.00,9,-999.000,9,    41.3,2,   28.80,2,     -999.0,1, -999.00,9, 20160226,      534, -55.6232,  84.7473,     -999.0,9,     -999.0,9,     -999.0,9,-999.0000,9,-999.0000,9,-999.0000,9,-999.0000,9,-999.0000,9,-999.0000,9,-999.0000,9,     -999.0,9,     -999.0,9,     -999.0,9,     -999.0,9,     -999.0,9
33RR20160208,       I08S,      30,          1,         35,         35,2,20160226,       0325,   -55.6232,    84.7474,       4825,    24.1,   2.1554,  33.7627,2,  33.7579,2,    340.5,2,   341.6,2,    20.7,2,    0.08,2,   24.54,2,    0.29,2,    1.61,2,   5.284,2,   2.742,2,   0.499,2,    1.71663262,4,  2152.4,2, 2283.23,2,   7.7094,2,    24.96,   2.1601,    1.58,2,   -94.6,2,     2.0, -999.00,9,-999.000,9,    42.3,2,   28.40,2,     -999.0,1, -999.00,9, 20160226,      536, -55.6232,  84.7473,     -999.0,9,     -999.0,9,     -999.0,9,-999.0000,9,-999.0000,9,-999.0000,9,-999.0000,9,-999.0000,9,-999.0000,9,-999.0000,9,     -999.0,9,     -999.0,9,     -999.0,9,     -999.0,9,     -999.0,9
33RR20160208,       I08S,      30,          1,         36,         36,2,20160226,       0325,   -55.6232,    84.7474,       4825,     5.3,   2.3057,  33.7383,2,  33.7386,2,    338.7,2,   340.9,2,    20.9,2,    0.06,2,   24.45,2,    0.30,2,    1.59,2,   5.378,2,   2.882,2,   0.515,2,         2.446,2,  2152.6,6, 2284.17,2,   7.7097,2,    25.00,   2.3048,    1.57,2,   -93.0,2,     2.0, -999.00,9,-999.000,9,    42.0,2,   27.10,2,     -999.0,1, -999.00,9, 20160226,      538, -55.6232,  84.7473,     -999.0,9,     -999.0,9,     -999.0,9,-999.0000,9,-999.0000,9,-999.0000,9,-999.0000,9,-999.0000,9,-999.0000,9,-999.0000,9,     -999.0,9,     -999.0,9,     -999.0,9,     -999.0,9,     -999.0,9