BOTTLE,20220706CCHSIOAMB
EXPOCODE,SECT_ID,STNNBR,CASTNO,SAMPNO,BTLNBR,BTLNBR_FLAG_W,DATE,TIME,LATITUDE,LONGITUDE,DEPTH,CTDPRS,CTDTMP,CTDSAL,CTDSAL_FLAG_W,SALNTY,SALNTY_FLAG_W,CTDOXY,CTDOXY_FLAG_W,OXYGEN,OXYGEN_FLAG_W,SILCAT,SILCAT_FLAG_W,NH4,NH4_FLAG_W,NITRAT,NITRAT_FLAG_W,NITRIT,NITRIT_FLAG_W,PHSPHT,PHSPHT_FLAG_W,CFC-11,CFC-11_FLAG_W,CFC-12,CFC-12_FLAG_W,CFC113,CFC113_FLAG_W,SF6,SF6_FLAG_W,TCARBN,TCARBN_FLAG_W,ALKALI,ALKALI_FLAG_W,PH_TOT,PH_TOT_FLAG_W,PH_TMP,REFTMP,DELC13,DELC13_FLAG_W,DELC14,DELC14_FLAG_W,C14ERR,DELO18,DELO18_FLAG_W,POC,POC_FLAG_W,DOC,DOC_FLAG_W,TDN,TDN_FLAG_W,TON,TON_FLAG_W,D15N_NO3,D15N_NO3_FLAG_W,BTL_DATE,BTL_TIME,BTL_LAT,BTL_LON,14C-DOC,14C-DOC_FLAG_W,CHLORA,CHLORA_FLAG_W,HPLC,HPLC_FLAG_W,CDOM325,CDOM325_FLAG_W,CDOM340,CDOM340_FLAG_W,CDOM380,CDOM380_FLAG_W,CDOM412,CDOM412_FLAG_W,CDOM443,CDOM443_FLAG_W,CDOM490,CDOM490_FLAG_W,CDOM555,CDOM555_FLAG_W,CDOMSL,CDOMSL_FLAG_W,CDOMSN,CDOMSN_FLAG_W,D18O_NO3,D18O_NO3_FLAG_W,D15N_NO2+NO3,D15N_NO2+NO3_FLAG_W,D18O_NO2+NO3,D18O_NO2+NO3_FLAG_W
,,,,,,,,,,,METERS,DBAR,ITS-90,PSS-78,,PSS-78,,UMOL/KG,,UMOL/KG,,UMOL/KG,,UMOL/KG,,UMOL/KG,,UMOL/KG,,UMOL/KG,,PMOL/KG,,PMOL/KG,,PMOL/KG,,FMOL/KG,,UMOL/KG,,UMOL/KG,,,,DEG C,DEG C,/MILLE,,/MILLE,,/MILLE,/MILLE,,UG/KG,,UMOL/KG,,UMOL/KG,,UMOL/KG,,/MILLE,,,,,,/MILLE,,MG/M3,,,,1/M,,1/M,,1/M,,1/M,,1/M,,1/M,,1/M,,1/NM,,1/NM,,/MILLE,,/MILLE,,/MILLE,
33RR20160208,       I08S,      41,          2,          1,          1,2,20160301,       0333,   -50.5401,    89.8300,       4107,  4142.4,   0.3558,  34.6786,2,  34.6789,2,    222.9,2,   222.5,2,   128.2,2,    0.00,2,   32.49,2,    0.00,2,    2.23,2,   0.710,6,   0.357,6,   0.040,6,   0.231754632,6,  2257.2,6, 2357.93,2,   7.5934,2,    25.03,   0.3559, -999.00,9,  -999.0,9,  -999.0, -999.00,9,-999.000,9,  -999.0,9, -999.00,9,     -999.0,9, -999.00,9, 20160301,      333, -50.5400,  89.8300,     -999.0,9,     -999.0,9,     -999.0,9,-999.0000,9,-999.0000,9,-999.0000,9,-999.0000,9,-999.0000,9,-999.0000,9,-999.0000,9,     -999.0,9,     -999.0,9,     -999.0,9,     -999.0,9,     -999.0,9
33RR20160208,       I08S,      41,          2,          2,          2,2,20160301,       0333,   -50.5401,    89.8300,       4107,  3588.0,   0.4809,  34.6875,2,  34.6859,2,    217.7,2,   218.6,2,   126.0,2,    0.00,2,   32.21,2,    0.00,2,    2.22,2,   0.500,2,   0.251,2,   0.024,2,   0.138239605,2,  -999.0,9, -999.00,9,-999.0000,9,     9.00,   0.4810, -999.00,9,  -999.0,9,  -999.0, -999.00,9,-999.000,9,  -999.0,9, -999.00,9,     -999.0,9, -999.00,9, 20160301,      344, -50.5408,  89.8290,     -999.0,9,     -999.0,9,     -999.0,9,-999.0000,9,-999.0000,9,-999.0000,9,-999.0000,9,-999.0000,9,-999.0000,9,-999.0000,9,     -999.0,9,     -999.0,9,     -999.0,9,     -999.0,9,     -999.0,9
33RR20160208,       I08S,      41,          2,          3,          3,2,20160301,       0333,   -50.5401,    89.8300,       4107,  3294.9,   0.6175,  34.6952,2,  34.6940,2,    214.9,2,   215.5,2,   122.5,2,    0.00,2,   32.08,2,    0.00,2,    2.21,2,   0.340,2,   0.173,2,   0.012,2,   0.085383285,2,  -999.0,9, -999.00,9,-999.0000,9,  -999.00,   0.6172, -999.00,9,  -999.0,9,  -999.0, -999.00,9,-999.000,9,  -999.0,9, -999.00,9,     -999.0,9, -999.00,9, 20160301,      350, -50.5408,  89.8287,     -999.0,9,     -999.0,9,     -999.0,9,-999.0000,9,-999.0000,9,-999.0000,9,-999.0000,9,-999.0000,9,-999.0000,9,-999.0000,9,     -999.0,9,     -999.0,9,     -999.0,9,     -999.0,9,     -999.0,9
33RR20160208,       I08S,      41,          2,          4,          4,2,20160301,       0333,   -50.5401,    89.8300,       4107,  3002.5,   0.8517,  34.7076,2,  34.7063,2,    211.0,2,   211.1,2,   117.2,2,    0.00,2,   31.74,2,    0.00,2,    2.20,2,   0.260,2,   0.130,2,   0.006,2,   0.052856319,2,  2254.9,2, 2358.24,6,   7.6000,6,    25.02,   0.8518, -999.00,9,  -999.0,9,  -999.0, -999.00,9,-999.000,9,  -999.0,9, -999.00,9,     -999.0,9, -999.00,9, 20160301,      356, -50.5408,  89.8291,     -999.0,9,     -999.0,9,     -999.0,9,-999.0000,9,-999.0000,9,-999.0000,9,-999.0000,9,-999.0000,9,-999.0000,9,-999.0000,9,     -999.0,9,     -999.0,9,     -999.0,9,     -999.0,9,     -999.0,9
33RR20160208,       I08S,      41,          2,          5,          5,2,20160301,       0333,   -50.5401,    89.8300,       4107,  2758.8,   1.0873,  34.7202,2,  34.7196,2,    208.2,2,   208.0,2,   109.7,2,    0.00,2,   31.35,2,    0.00,2,    2.16,2,   0.223,2,   0.115,2,   0.004,2,   0.055905723,2,  -999.0,9, -999.00,9,-999.0000,9,     9.00,   1.0875, -999.00,9,  -999.0,9,  -999.0, -999.00,9,-999.000,9,  -999.0,9, -999.00,9,     -999.0,9, -999.00,9, 20160301,      401, -50.5411,  89.8303,     -999.0,9,     -999.0,9,     -999.0,9,-999.0000,9,-999.0000,9,-999.0000,9,-999.0000,9,-999.0000,9,-999.0000,9,-999.0000,9,     -999.0,9,     -999.0,9,     -999.0,9,     -999.0,9,     -999.0,9
33RR20160208,       I08S,      41,          2,          6,         38,2,20160301,       0333,   -50.5401,    89.8300,       4107,  2504.1,   1.2393,  34.7290,2,  34.7286,2,    206.9,2,   206.4,2,   104.8,2,    0.00,2,   31.32,2,    0.00,2,    2.13,2,   0.201,2,   0.105,2,   0.003,2,             0,2,  -999.0,9, -999.00,9,-999.0000,9,  -999.00,   1.2392, -999.00,9,  -999.0,9,  -999.0, -999.00,9,-999.000,9,  -999.0,9, -999.00,9,     -999.0,9, -999.00,9, 20160301,      406, -50.5413,  89.8319,     -999.0,9,     -999.0,9,     -999.0,9,-999.0000,9,-999.0000,9,-999.0000,9,-999.0000,9,-999.0000,9,-999.0000,9,-999.0000,9,     -999.0,9,     -999.0,9,     -999.0,9,     -999.0,9,     -999.0,9
33RR20160208,       I08S,      41,          2,          7,          7,2,20160301,       0333,   -50.5401,    89.8300,       4107,  2246.5,   1.4628,  34.7393,2,  34.7381,2,    204.6,2,   204.1,2,    98.2,2,    0.00,2,   30.77,2,    0.00,2,    2.10,2,   0.196,2,   0.104,2,   0.003,2,   0.016263483,2,  -999.0,9, -999.00,9,-999.0000,9,  -999.00,   1.4628, -999.00,9,  -999.0,9,  -999.0, -999.00,9,-999.000,9,  -999.0,9, -999.00,9,     -999.0,9, -999.00,9, 20160301,      411, -50.5418,  89.8328,     -999.0,9,     -999.0,9,     -999.0,9,-999.0000,9,-999.0000,9,-999.0000,9,-999.0000,9,-999.0000,9,-999.0000,9,-999.0000,9,     -999.0,9,     -999.0,9,     -999.0,9,     -999.0,9,     -999.0,9
33RR20160208,       I08S,      41,          2,          8,          8,2,20160301,       0333,   -50.5401,    89.8300,       4107,  1997.5,   1.6522,  34.7458,2,  34.7453,2,    202.3,2,   202.0,2,    92.4,2,    0.00,2,   30.36,2,    0.00,2,    2.08,2,   0.198,2,   0.105,2,   0.004,2,   0.023378757,2,  -999.0,9, -999.00,9,-999.0000,9,     9.00,   1.6528, -999.00,9,  -999.0,9,  -999.0, -999.00,9,-999.000,9,  -999.0,9, -999.00,9,     -999.0,9, -999.00,9, 20160301,      417, -50.5422,  89.8341,     -999.0,9,     -999.0,9,     -999.0,9,-999.0000,9,-999.0000,9,-999.0000,9,-999.0000,9,-999.0000,9,-999.0000,9,-999.0000,9,     -999.0,9,     -999.0,9,     -999.0,9,     -999.0,9,     -999.0,9
33RR20160208,       I08S,      41,          2,          9,          9,2,20160301,       0333,   -50.5401,    89.8300,       4107,  1801.4,   1.8135,  34.7477,2,  34.7474,2,    199.3,2,   199.2,2,    87.6,2,    0.00,2,   30.22,2,    0.00,2,    2.06,2,   0.202,2,   0.108,2,   0.004,2,   0.025411692,2,  -999.0,9, -999.00,9,-999.0000,9,  -999.00,   1.8140, -999.00,9,  -999.0,9,  -999.0, -999.00,9,-999.000,9,  -999.0,9, -999.00,9,     -999.0,9, -999.00,9, 20160301,      421, -50.5424,  89.8349,     -999.0,9,     -999.0,9,     -999.0,9,-999.0000,9,-999.0000,9,-999.0000,9,-999.0000,9,-999.0000,9,-999.0000,9,-999.0000,9,     -999.0,9,     -999.0,9,     -999.0,9,     -999.0,9,     -999.0,9
33RR20160208,       I08S,      41,          2,         10,         10,2,20160301,       0333,   -50.5401,    89.8300,       4107,  1704.5,   1.8907,  34.7467,2,  34.7466,2,    197.7,2,   197.3,2,    85.0,2,    0.00,2,   30.24,2,    0.00,2,    2.06,2,   0.211,2,   0.113,2,   0.004,2,    0.03049403,2,  2242.6,2, 2348.09,2,   7.6094,6,    25.02,   1.8905, -999.00,9,  -999.0,9,  -999.0, -999.00,9,-999.000,9,  -999.0,9, -999.00,9,     -999.0,9, -999.00,9, 20160301,      424, -50.5426,  89.8354,     -999.0,9,     -999.0,9,     -999.0,9,-999.0000,9,-999.0000,9,-999.0000,9,-999.0000,9,-999.0000,9,-999.0000,9,-999.0000,9,     -999.0,9,     -999.0,9,     -999.0,9,     -999.0,9,     -999.0,9
33RR20160208,       I08S,      41,          2,         11,         11,3,20160301,       0333,   -50.5401,    89.8300,       4107,  1600.0,   1.9539,  34.7446,3,  34.7447,3,    195.4,3,   196.4,3,    83.6,3,    0.00,3,   30.21,3,    0.00,3,    2.05,3,   0.203,2,   0.106,2,   0.005,2,   0.014230548,2,  -999.0,9, -999.00,9,-999.0000,9,     9.00,   1.9545, -999.00,9,  -999.0,9,  -999.0, -999.00,9,-999.000,9,  -999.0,9, -999.00,9,     -999.0,9, -999.00,9, 20160301,      426, -50.5428,  89.8358,     -999.0,9,     -999.0,9,     -999.0,9,-999.0000,9,-999.0000,9,-999.0000,9,-999.0000,9,-999.0000,9,-999.0000,9,-999.0000,9,     -999.0,9,     -999.0,9,     -999.0,9,     -999.0,9,     -999.0,9
33RR20160208,       I08S,      41,          2,         12,         12,2,20160301,       0333,   -50.5401,    89.8300,       4107,  1499.8,   2.0522,  34.7422,2,  34.7419,2,    193.3,2,   195.1,2,    81.1,2,    0.00,2,   30.25,2,    0.00,2,    2.08,2,   0.258,2,   0.137,2,   0.008,2,   0.018296418,2,  -999.0,9, -999.00,9,-999.0000,9,  -999.00,   2.0521, -999.00,9,  -999.0,9,  -999.0, -999.00,9,-999.000,9,  -999.0,9, -999.00,9,     -999.0,9, -999.00,9, 20160301,      429, -50.5429,  89.8362,     -999.0,9,     -999.0,9,     -999.0,9,-999.0000,9,-999.0000,9,-999.0000,9,-999.0000,9,-999.0000,9,-999.0000,9,-999.0000,9,     -999.0,9,     -999.0,9,     -999.0,9,     -999.0,9,     -999.0,9
33RR20160208,       I08S,      41,          2,         13,         13,2,20160301,       0333,   -50.5401,    89.8300,       4107,  1401.3,   2.0792,  34.7295,2,  34.7295,2,    190.4,2,   191.2,2,    82.9,2,    0.00,2,   30.86,2,    0.00,2,    2.10,2,   0.262,2,   0.134,2,   0.007,2,   0.079284479,2,  -999.0,9, -999.00,9,-999.0000,9,  -999.00,   2.0795, -999.00,9,  -999.0,9,  -999.0, -999.00,9,-999.000,9,  -999.0,9, -999.00,9,     -999.0,9, -999.00,9, 20160301,      432, -50.5431,  89.8367,     -999.0,9,     -999.0,9,     -999.0,9,-999.0000,9,-999.0000,9,-999.0000,9,-999.0000,9,-999.0000,9,-999.0000,9,-999.0000,9,     -999.0,9,     -999.0,9,     -999.0,9,     -999.0,9,     -999.0,9
33RR20160208,       I08S,      41,          2,         14,         14,2,20160301,       0333,   -50.5401,    89.8300,       4107,  1300.2,   2.1714,  34.7235,2,  34.7232,2,    189.8,2,   189.7,2,    78.7,2,    0.00,2,   31.03,2,    0.00,2,    2.13,2,   0.335,2,   0.173,2,   0.014,2,   0.081317415,2,  -999.0,9, -999.00,9,-999.0000,9,     9.00,   2.1712, -999.00,9,  -999.0,9,  -999.0, -999.00,9,-999.000,9,  -999.0,9, -999.00,9,     -999.0,9, -999.00,9, 20160301,      434, -50.5432,  89.8370,     -999.0,9,     -999.0,9,     -999.0,9,-999.0000,9,-999.0000,9,-999.0000,9,-999.0000,9,-999.0000,9,-999.0000,9,-999.0000,9,     -999.0,9,     -999.0,9,     -999.0,9,     -999.0,9,     -999.0,9
33RR20160208,       I08S,      41,          2,         15,         15,2,20160301,       0333,   -50.5401,    89.8300,       4107,  1200.4,   2.1934,  34.7041,2,  34.7028,2,    185.5,2,   185.3,2,    78.3,2,    0.00,2,   31.58,2,    0.00,2,    2.16,2,   0.354,2,   0.187,2,   0.015,2,   0.098597365,2,  -999.0,9, -999.00,9,-999.0000,9,  -999.00,   2.1935, -999.00,9,  -999.0,9,  -999.0, -999.00,9,-999.000,9,  -999.0,9, -999.00,9,     -999.0,9, -999.00,9, 20160301,      437, -50.5434,  89.8375,     -999.0,9,     -999.0,9,     -999.0,9,-999.0000,9,-999.0000,9,-999.0000,9,-999.0000,9,-999.0000,9,-999.0000,9,-999.0000,9,     -999.0,9,     -999.0,9,     -999.0,9,     -999.0,9,     -999.0,9
33RR20160208,       I08S,      41,          2,         16,         16,2,20160301,       0333,   -50.5401,    89.8300,       4107,  1099.4,   2.2897,  34.6863,2,  34.6859,2,    183.2,2,   182.8,2,    76.9,2,    0.00,2,   31.94,2,    0.00,2,    2.18,2,   0.409,2,   0.214,2,   0.021,2,   0.129091396,2,  -999.0,9, -999.00,9,-999.0000,9,  -999.00,   2.2894, -999.00,9,  -999.0,9,  -999.0, -999.00,9,-999.000,9,  -999.0,9, -999.00,9,     -999.0,9, -999.00,9, 20160301,      440, -50.5435,  89.8379,     -999.0,9,     -999.0,9,     -999.0,9,-999.0000,9,-999.0000,9,-999.0000,9,-999.0000,9,-999.0000,9,-999.0000,9,-999.0000,9,     -999.0,9,     -999.0,9,     -999.0,9,     -999.0,9,     -999.0,9
33RR20160208,       I08S,      41,          2,         17,         17,2,20160301,       0333,   -50.5401,    89.8300,       4107,   996.4,   2.3486,  34.6656,2,  34.6652,2,    180.0,2,   180.3,2,    74.4,2,    0.00,2,   32.27,2,    0.00,2,    2.21,2,   0.426,2,   0.220,2,   0.020,2,   0.180931247,2,  2244.5,2, 2338.80,2,   7.5740,6,    25.02,   2.3489, -999.00,9,  -999.0,9,  -999.0, -999.00,9,-999.000,9,  -999.0,9, -999.00,9,     -999.0,9, -999.00,9, 20160301,      443, -50.5437,  89.8381,     -999.0,9,     -999.0,9,     -999.0,9,-999.0000,9,-999.0000,9,-999.0000,9,-999.0000,9,-999.0000,9,-999.0000,9,-999.0000,9,     -999.0,9,     -999.0,9,     -999.0,9,     -999.0,9,     -999.0,9
33RR20160208,       I08S,      41,          2,         18,         37,2,20160301,       0333,   -50.5401,    89.8300,       4107,   897.6,   2.4290,  34.6421,2,  34.6421,2,    178.2,2,   179.0,2,    72.5,2,    0.00,2,   32.67,2,    0.00,2,    2.24,2,   0.578,2,   0.298,2,   0.031,2,   0.218540552,2,  -999.0,9, -999.00,9,-999.0000,9,  -999.00,   2.4289, -999.00,9,  -999.0,9,  -999.0, -999.00,9,-999.000,9,  -999.0,9, -999.00,9,     -999.0,9, -999.00,9, 20160301,      445, -50.5439,  89.8383,     -999.0,9,     -999.0,9,     -999.0,9,-999.0000,9,-999.0000,9,-999.0000,9,-999.0000,9,-999.0000,9,-999.0000,9,-999.0000,9,     -999.0,9,     -999.0,9,     -999.0,9,     -999.0,9,     -999.0,9
33RR20160208,       I08S,      41,          2,         19,         19,2,20160301,       0333,   -50.5401,    89.8300,       4107,   796.9,   2.4858,  34.5979,2,  34.5981,2,    176.0,2,   176.3,2,    70.7,2,    0.00,2,   33.41,2,    0.00,2,    2.30,2,   0.746,2,   0.376,2,   0.047,2,   0.219557019,2,  -999.0,9, -999.00,9,-999.0000,9,  -999.00,   2.4865, -999.00,9,  -999.0,9,  -999.0, -999.00,9,-999.000,9,  -999.0,9, -999.00,9,     -999.0,9, -999.00,9, 20160301,      448, -50.5441,  89.8385,     -999.0,9,     -999.0,9,     -999.0,9,-999.0000,9,-999.0000,9,-999.0000,9,-999.0000,9,-999.0000,9,-999.0000,9,-999.0000,9,     -999.0,9,     -999.0,9,     -999.0,9,     -999.0,9,     -999.0,9
33RR20160208,       I08S,      41,          2,         20,         20,2,20160301,       0333,   -50.5401,    89.8300,       4107,   700.9,   2.5265,  34.5552,2,  34.5536,2,    176.0,2,   176.5,2,    68.5,2,    0.00,2,   33.90,2,    0.00,2,    2.33,2,   1.034,2,   0.513,2,   0.069,2,   0.186013586,2,  2244.9,2, 2329.78,2,   7.5546,6,    24.98,   2.5276, -999.00,9,  -999.0,9,  -999.0, -999.00,9,-999.000,9,  -999.0,9, -999.00,9,     -999.0,9, -999.00,9, 20160301,      451, -50.5444,  89.8389,     -999.0,9,     -999.0,9,     -999.0,9,-999.0000,9,-999.0000,9,-999.0000,9,-999.0000,9,-999.0000,9,-999.0000,9,-999.0000,9,     -999.0,9,     -999.0,9,     -999.0,9,     -999.0,9,     -999.0,9
33RR20160208,       I08S,      41,          2,         21,         21,2,20160301,       0333,   -50.5401,    89.8300,       4107,   602.9,   2.5582,  34.5017,2,  34.5012,2,    178.5,2,   179.3,2,    65.6,2,    0.00,2,   34.39,2,    0.00,2,    2.34,2,   1.523,2,   0.763,2,   0.110,2,   0.241919308,2,  -999.0,9, -999.00,9,-999.0000,9,  -999.00,   2.5603, -999.00,9,  -999.0,9,  -999.0, -999.00,9,-999.000,9,  -999.0,9, -999.00,9,     -999.0,9, -999.00,9, 20160301,      453, -50.5445,  89.8395,     -999.0,9,     -999.0,9,     -999.0,9,-999.0000,9,-999.0000,9,-999.0000,9,-999.0000,9,-999.0000,9,-999.0000,9,-999.0000,9,     -999.0,9,     -999.0,9,     -999.0,9,     -999.0,9,     -999.0,9
33RR20160208,       I08S,      41,          2,         22,         22,2,20160301,       0333,   -50.5401,    89.8300,       4107,   496.5,   2.5669,  34.4198,2,  34.4177,2,    187.1,2,   187.4,2,    59.2,2,    0.00,2,   34.42,2,    0.00,2,    2.35,2,   1.410,3,   0.690,3,   0.096,3,   0.412685879,3,  2234.5,2, 2313.62,2,   7.5480,6,    24.98,   2.5638, -999.00,9,  -999.0,9,  -999.0, -999.00,9,-999.000,9,  -999.0,9, -999.00,9,     -999.0,9, -999.00,9, 20160301,      456, -50.5447,  89.8397,     -999.0,9,     -999.0,9,     -999.0,9,-999.0000,9,-999.0000,9,-999.0000,9,-999.0000,9,-999.0000,9,-999.0000,9,-999.0000,9,     -999.0,9,     -999.0,9,     -999.0,9,     -999.0,9,     -999.0,9
33RR20160208,       I08S,      41,          2,         23,         23,2,20160301,       0333,   -50.5401,    89.8300,       4107,   449.6,   2.9070,  34.4260,2,  34.4237,2,    185.9,2,   186.2,2,    55.8,2,    0.00,2,   34.02,2,    0.00,2,    2.34,2,   2.644,2,   1.364,2,   0.210,2,   0.351697818,2,  -999.0,9, -999.00,9,-999.0000,9,     9.00,   2.9100, -999.00,9,  -999.0,9,  -999.0, -999.00,9,-999.000,9,  -999.0,9, -999.00,9,     -999.0,9, -999.00,9, 20160301,      458, -50.5449,  89.8401,     -999.0,9,     -999.0,9,     -999.0,9,-999.0000,9,-999.0000,9,-999.0000,9,-999.0000,9,-999.0000,9,-999.0000,9,-999.0000,9,     -999.0,9,     -999.0,9,     -999.0,9,     -999.0,9,     -999.0,9
33RR20160208,       I08S,      41,          2,         24,         24,2,20160301,       0333,   -50.5401,    89.8300,       4107,   401.4,   2.1079,  34.2796,2,  34.2793,2,    219.8,2,   217.8,2,    50.2,2,    0.00,2,   33.54,2,    0.00,2,    2.29,2,   2.887,2,   1.498,2,   0.237,2,   0.995121861,2,  -999.0,9, -999.00,9,-999.0000,9,  -999.00,   2.1062, -999.00,9,  -999.0,9,  -999.0, -999.00,9,-999.000,9,  -999.0,9, -999.00,9,     -999.0,9, -999.00,9, 20160301,      500, -50.5450,  89.8405,     -999.0,9,     -999.0,9,     -999.0,9,-999.0000,9,-999.0000,9,-999.0000,9,-999.0000,9,-999.0000,9,-999.0000,9,-999.0000,9,     -999.0,9,     -999.0,9,     -999.0,9,     -999.0,9,     -999.0,9
33RR20160208,       I08S,      41,          2,         25,         25,2,20160301,       0333,   -50.5401,    89.8300,       4107,   351.1,   2.2950,  34.2373,2,  34.2370,2,    227.1,2,   227.2,2,    43.8,2,    0.00,2,   33.02,2,    0.01,2,    2.24,2,   3.241,2,   1.678,2,   0.265,2,    1.03069823,2,  2211.7,2, 2303.02,2,   7.5755,2,    24.98,   2.2948, -999.00,9,  -999.0,9,  -999.0, -999.00,9,-999.000,9,  -999.0,9, -999.00,9,     -999.0,9, -999.00,9, 20160301,      502, -50.5450,  89.8408,     -999.0,9,     -999.0,9,     -999.0,9,-999.0000,9,-999.0000,9,-999.0000,9,-999.0000,9,-999.0000,9,-999.0000,9,-999.0000,9,     -999.0,9,     -999.0,9,     -999.0,9,     -999.0,9,     -999.0,9
33RR20160208,       I08S,      41,          2,         26,         26,2,20160301,       0333,   -50.5401,    89.8300,       4107,   299.9,   2.4674,  34.1847,2,  34.1833,2,    242.6,2,   238.6,2,    37.1,2,    0.00,2,   32.04,2,    0.01,2,    2.18,2,   3.857,2,   2.073,2,   0.331,2,    1.30311157,2,  -999.0,9, -999.00,9,-999.0000,9,     9.00,   2.4691, -999.00,9,  -999.0,9,  -999.0, -999.00,9,-999.000,9,  -999.0,9, -999.00,9,     -999.0,9, -999.00,9, 20160301,      504, -50.5451,  89.8412,     -999.0,9,     -999.0,9,     -999.0,9,-999.0000,9,-999.0000,9,-999.0000,9,-999.0000,9,-999.0000,9,-999.0000,9,-999.0000,9,     -999.0,9,     -999.0,9,     -999.0,9,     -999.0,9,     -999.0,9
33RR20160208,       I08S,      41,          2,         27,         27,2,20160301,       0333,   -50.5401,    89.8300,       4107,   248.6,   2.5333,  34.1019,2,  34.1022,2,    263.4,2,   262.3,2,    29.0,2,    0.03,2,   30.55,2,    0.01,2,    2.06,2,   4.421,2,   2.448,2,   0.403,2,    1.68022108,2,  2186.7,2, 2287.43,2,   7.6154,2,    24.99,   2.5132, -999.00,9,  -999.0,9,  -999.0, -999.00,9,-999.000,9,  -999.0,9, -999.00,9,     -999.0,9, -999.00,9, 20160301,      507, -50.5453,  89.8416,     -999.0,9,     -999.0,9,     -999.0,9,-999.0000,9,-999.0000,9,-999.0000,9,-999.0000,9,-999.0000,9,-999.0000,9,-999.0000,9,     -999.0,9,     -999.0,9,     -999.0,9,     -999.0,9,     -999.0,9