BOTTLE,20220706CCHSIOAMB
EXPOCODE,SECT_ID,STNNBR,CASTNO,SAMPNO,BTLNBR,BTLNBR_FLAG_W,DATE,TIME,LATITUDE,LONGITUDE,DEPTH,CTDPRS,CTDTMP,CTDSAL,CTDSAL_FLAG_W,SALNTY,SALNTY_FLAG_W,CTDOXY,CTDOXY_FLAG_W,OXYGEN,OXYGEN_FLAG_W,SILCAT,SILCAT_FLAG_W,NH4,NH4_FLAG_W,NITRAT,NITRAT_FLAG_W,NITRIT,NITRIT_FLAG_W,PHSPHT,PHSPHT_FLAG_W,CFC-11,CFC-11_FLAG_W,CFC-12,CFC-12_FLAG_W,CFC113,CFC113_FLAG_W,SF6,SF6_FLAG_W,TCARBN,TCARBN_FLAG_W,ALKALI,ALKALI_FLAG_W,PH_TOT,PH_TOT_FLAG_W,PH_TMP,REFTMP,DELC13,DELC13_FLAG_W,DELC14,DELC14_FLAG_W,C14ERR,DELO18,DELO18_FLAG_W,POC,POC_FLAG_W,DOC,DOC_FLAG_W,TDN,TDN_FLAG_W,TON,TON_FLAG_W,D15N_NO3,D15N_NO3_FLAG_W,BTL_DATE,BTL_TIME,BTL_LAT,BTL_LON,14C-DOC,14C-DOC_FLAG_W,CHLORA,CHLORA_FLAG_W,HPLC,HPLC_FLAG_W,CDOM325,CDOM325_FLAG_W,CDOM340,CDOM340_FLAG_W,CDOM380,CDOM380_FLAG_W,CDOM412,CDOM412_FLAG_W,CDOM443,CDOM443_FLAG_W,CDOM490,CDOM490_FLAG_W,CDOM555,CDOM555_FLAG_W,CDOMSL,CDOMSL_FLAG_W,CDOMSN,CDOMSN_FLAG_W,D18O_NO3,D18O_NO3_FLAG_W,D15N_NO2+NO3,D15N_NO2+NO3_FLAG_W,D18O_NO2+NO3,D18O_NO2+NO3_FLAG_W
,,,,,,,,,,,METERS,DBAR,ITS-90,PSS-78,,PSS-78,,UMOL/KG,,UMOL/KG,,UMOL/KG,,UMOL/KG,,UMOL/KG,,UMOL/KG,,UMOL/KG,,PMOL/KG,,PMOL/KG,,PMOL/KG,,FMOL/KG,,UMOL/KG,,UMOL/KG,,,,DEG C,DEG C,/MILLE,,/MILLE,,/MILLE,/MILLE,,UG/KG,,UMOL/KG,,UMOL/KG,,UMOL/KG,,/MILLE,,,,,,/MILLE,,MG/M3,,,,1/M,,1/M,,1/M,,1/M,,1/M,,1/M,,1/M,,1/NM,,1/NM,,/MILLE,,/MILLE,,/MILLE,
33RR20160208,       I08S,      70,          1,          1,          1,2,20160308,       1910,   -35.0010,    95.0019,       4416,  4481.7,   1.0343,  34.7110,2,  34.7114,2,    206.6,2,   206.6,2,   121.4,2,    0.00,2,   32.22,2,    0.00,2,    2.24,2,   0.085,2,   0.058,2,   0.002,2,          0.01,2,  2270.0,6, 2376.84,2,   7.6197,2,    25.03,   1.0344, -999.00,9,  -999.0,9,  -999.0, -999.00,9,-999.000,9,    39.3,2, -999.00,9,     -999.0,1, -999.00,9, 20160308,     1910, -35.0010,  95.0019,     -999.0,9,     -999.0,9,     -999.0,9,-999.0000,9,-999.0000,9,-999.0000,9,-999.0000,9,-999.0000,9,-999.0000,9,-999.0000,9,     -999.0,9,     -999.0,9,     -999.0,9,     -999.0,9,     -999.0,9
33RR20160208,       I08S,      70,          1,          2,          2,2,20160308,       1910,   -35.0010,    95.0019,       4416,  4144.4,   1.0208,  34.7124,2,  34.7120,2,    206.0,2,   207.0,2,   120.4,2,    0.00,2,   32.37,2,    0.00,2,    2.22,2,   0.083,2,   0.065,2,   0.001,2,             0,2,  2267.1,2, 2375.62,6,   7.6188,2,    25.03,   1.0209, -999.00,9,  -999.0,9,  -999.0, -999.00,9,-999.000,9,    38.8,2, -999.00,9,     -999.0,1, -999.00,9, 20160308,     1918, -35.0010,  95.0019,     -999.0,9,     -999.0,9,     -999.0,9,-999.0000,9,-999.0000,9,-999.0000,9,-999.0000,9,-999.0000,9,-999.0000,9,-999.0000,9,     -999.0,9,     -999.0,9,     -999.0,9,     -999.0,9,     -999.0,9
33RR20160208,       I08S,      70,          1,          3,          3,2,20160308,       1910,   -35.0010,    95.0019,       4416,  3794.1,   1.0628,  34.7160,2,  34.7154,2,    205.6,2,   206.0,2,   118.9,2,    0.00,2,   31.99,2,    0.00,2,    2.21,2,   0.083,2,   0.054,2,   0.001,2,             0,2,  2264.4,2, 2372.67,2,   7.6170,2,    25.03,   1.0629, -999.00,9,  -999.0,9,  -999.0, -999.00,9,-999.000,9,    36.9,2, -999.00,9,     -999.0,1, -999.00,9, 20160308,     1924, -35.0009,  95.0017,     -999.0,9,     -999.0,9,     -999.0,9,-999.0000,9,-999.0000,9,-999.0000,9,-999.0000,9,-999.0000,9,-999.0000,9,-999.0000,9,     -999.0,9,     -999.0,9,     -999.0,9,     -999.0,9,     -999.0,9
33RR20160208,       I08S,      70,          1,          5,          5,2,20160308,       1910,   -35.0010,    95.0019,       4416,  3497.5,   1.1586,  34.7214,2,  34.7207,2,    205.2,2,   204.9,2,   115.1,2,    0.00,2,   31.67,2,    0.00,2,    2.19,2,-999.000,9,-999.000,9,-999.000,9,-999.000000000,9,  -999.0,9, -999.00,9,-999.0000,9,  -999.00,   1.1585, -999.00,9,  -999.0,9,  -999.0, -999.00,9,-999.000,9,  -999.0,9, -999.00,9,     -999.0,9, -999.00,9, 20160308,     1931, -35.0009,  95.0018,     -999.0,9,     -999.0,9,     -999.0,9,-999.0000,9,-999.0000,9,-999.0000,9,-999.0000,9,-999.0000,9,-999.0000,9,-999.0000,9,     -999.0,9,     -999.0,9,     -999.0,9,     -999.0,9,     -999.0,9
33RR20160208,       I08S,      70,          1,          4,          4,2,20160308,       1910,   -35.0010,    95.0019,       4416,  3496.4,   1.1583,  34.7214,2,  34.7211,2,    205.0,2,   204.6,2,   115.2,2,    0.00,2,   31.67,2,    0.00,2,    2.18,2,   0.091,2,   0.052,2,   0.001,2,             0,2,  2259.5,2, 2367.49,2,   7.6148,6,    25.02,   1.1583, -999.00,9,  -999.0,9,  -999.0, -999.00,9,-999.000,9,    38.0,2, -999.00,9,     -999.0,1, -999.00,9, 20160308,     1931, -35.0009,  95.0018,     -999.0,9,     -999.0,9,     -999.0,9,-999.0000,9,-999.0000,9,-999.0000,9,-999.0000,9,-999.0000,9,-999.0000,9,-999.0000,9,     -999.0,9,     -999.0,9,     -999.0,9,     -999.0,9,     -999.0,9
33RR20160208,       I08S,      70,          1,          6,         38,2,20160308,       1910,   -35.0010,    95.0019,       4416,  3212.3,   1.3316,  34.7300,2,  34.7295,2,    202.9,2,   203.0,2,   109.1,2,    0.00,2,   31.28,2,    0.00,2,    2.15,2,   0.080,2,   0.047,2,   0.001,2,             0,2,  2255.3,2, 2364.52,2,   7.6134,2,    25.04,   1.3319, -999.00,9,  -999.0,9,  -999.0, -999.00,9,-999.000,9,    38.5,2, -999.00,9,     -999.0,1, -999.00,9, 20160308,     1937, -35.0009,  95.0017,     -999.0,9,     -999.0,9,     -999.0,9,-999.0000,9,-999.0000,9,-999.0000,9,-999.0000,9,-999.0000,9,-999.0000,9,-999.0000,9,     -999.0,9,     -999.0,9,     -999.0,9,     -999.0,9,     -999.0,9
33RR20160208,       I08S,      70,          1,          7,          7,2,20160308,       1910,   -35.0010,    95.0019,       4416,  2813.0,   1.7292,  34.7431,2,  34.7427,2,    197.3,2,   198.1,2,    97.1,2,    0.00,2,   30.85,2,    0.00,2,    2.12,2,   0.038,2,   0.024,2,   0.000,2,             0,2,  2254.1,2, 2359.79,2,   7.6159,2,    25.03,   1.7299, -999.00,9,  -999.0,9,  -999.0, -999.00,9,-999.000,9,    38.3,2, -999.00,9,     -999.0,1, -999.00,9, 20160308,     1945, -35.0009,  95.0017,     -999.0,9,     -999.0,9,     -999.0,9,-999.0000,9,-999.0000,9,-999.0000,9,-999.0000,9,-999.0000,9,-999.0000,9,-999.0000,9,     -999.0,9,     -999.0,9,     -999.0,9,     -999.0,9,     -999.0,9
33RR20160208,       I08S,      70,          1,          8,          8,2,20160308,       1910,   -35.0010,    95.0019,       4416,  2646.6,   1.9267,  34.7445,2,  34.7442,2,    193.8,2,   193.8,2,    92.0,2,    0.00,2,   30.80,2,    0.00,2,    2.12,2,   0.036,2,   0.023,2,   0.000,2,             0,2,  2252.6,2, 2358.39,2,   7.6136,2,    25.04,   1.9296, -999.00,9,  -999.0,9,  -999.0, -999.00,9,-999.000,9,    37.8,2, -999.00,9,     -999.0,1, -999.00,9, 20160308,     1949, -35.0009,  95.0017,     -999.0,9,     -999.0,9,     -999.0,9,-999.0000,9,-999.0000,9,-999.0000,9,-999.0000,9,-999.0000,9,-999.0000,9,-999.0000,9,     -999.0,9,     -999.0,9,     -999.0,9,     -999.0,9,     -999.0,9
33RR20160208,       I08S,      70,          1,          9,          9,2,20160308,       1910,   -35.0010,    95.0019,       4416,  2409.3,   2.1715,  34.7322,2,  34.7321,2,    185.1,2,   185.1,2,    88.6,2,    0.00,2,   31.36,2,    0.00,2,    2.17,2,   0.035,2,   0.022,2,   0.000,2,             0,2,  2255.9,2, 2357.39,2,   7.6034,2,    25.03,   2.1718, -999.00,9,  -999.0,9,  -999.0, -999.00,9,-999.000,9,    37.6,2, -999.00,9,     -999.0,1, -999.00,9, 20160308,     1954, -35.0009,  95.0017,     -999.0,9,     -999.0,9,     -999.0,9,-999.0000,9,-999.0000,9,-999.0000,9,-999.0000,9,-999.0000,9,-999.0000,9,-999.0000,9,     -999.0,9,     -999.0,9,     -999.0,9,     -999.0,9,     -999.0,9
33RR20160208,       I08S,      70,          1,         10,         10,2,20160308,       1910,   -35.0010,    95.0019,       4416,  2057.6,   2.4804,  34.6937,2,  34.6934,2,    168.0,2,   168.4,2,    89.7,2,    0.00,2,   32.93,2,    0.00,2,    2.29,2,   0.037,2,   0.022,2,   0.000,2,          0.02,2,  2266.4,2, 2360.58,2,   7.5819,2,    25.04,   2.4808, -999.00,9,  -999.0,9,  -999.0, -999.00,9,-999.000,9,    37.6,2, -999.00,9,     -999.0,1, -999.00,9, 20160308,     2001, -35.0009,  95.0017,     -999.0,9,     -999.0,9,     -999.0,9,-999.0000,9,-999.0000,9,-999.0000,9,-999.0000,9,-999.0000,9,-999.0000,9,-999.0000,9,     -999.0,9,     -999.0,9,     -999.0,9,     -999.0,9,     -999.0,9
33RR20160208,       I08S,      70,          1,         11,         11,2,20160308,       1910,   -35.0010,    95.0019,       4416,  1728.9,   2.9052,  34.6166,2,  34.6169,2,    157.1,2,   157.0,2,    82.3,2,    0.00,2,   34.32,2,    0.00,2,    2.38,2,   0.088,2,   0.049,2,   0.001,2,         0.067,2,  2267.1,2, 2352.41,2,   7.5614,2,    25.03,   2.9065, -999.00,9,  -999.0,9,  -999.0, -999.00,9,-999.000,9,    37.2,2, -999.00,9,     -999.0,1, -999.00,9, 20160308,     2008, -35.0009,  95.0017,     -999.0,9,     -999.0,9,     -999.0,9,-999.0000,9,-999.0000,9,-999.0000,9,-999.0000,9,-999.0000,9,-999.0000,9,-999.0000,9,     -999.0,9,     -999.0,9,     -999.0,9,     -999.0,9,     -999.0,9
33RR20160208,       I08S,      70,          1,         12,         12,2,20160308,       1910,   -35.0010,    95.0019,       4416,  1566.6,   3.1166,  34.5630,2,  34.5630,2,    157.5,2,   157.5,2,    75.4,2,    0.00,2,   34.61,2,    0.00,2,    2.42,2,   0.187,2,   0.102,2,   0.004,2,         0.033,2,  2261.0,2, 2344.00,2,   7.5571,2,    25.03,   3.1167, -999.00,9,  -999.0,9,  -999.0, -999.00,9,-999.000,9,    37.6,2, -999.00,9,     -999.0,1, -999.00,9, 20160308,     2012, -35.0009,  95.0017,     -999.0,9,     -999.0,9,     -999.0,9,-999.0000,9,-999.0000,9,-999.0000,9,-999.0000,9,-999.0000,9,-999.0000,9,-999.0000,9,     -999.0,9,     -999.0,9,     -999.0,9,     -999.0,9,     -999.0,9
33RR20160208,       I08S,      70,          1,         13,         13,2,20160308,       1910,   -35.0010,    95.0019,       4416,  1464.3,   3.2691,  34.5237,2,  34.5234,2,    160.7,2,   160.7,2,    69.6,2,    0.00,2,   34.53,2,    0.00,2,    2.42,2,   0.340,2,   0.172,2,   0.010,2,         0.081,2,  2254.3,2, 2337.68,2,   7.5583,2,    25.03,   3.2691, -999.00,9,  -999.0,9,  -999.0, -999.00,9,-999.000,9,    38.6,2, -999.00,9,     -999.0,1, -999.00,9, 20160308,     2015, -35.0009,  95.0017,     -999.0,9,     -999.0,9,     -999.0,9,-999.0000,9,-999.0000,9,-999.0000,9,-999.0000,9,-999.0000,9,-999.0000,9,-999.0000,9,     -999.0,9,     -999.0,9,     -999.0,9,     -999.0,9,     -999.0,9
33RR20160208,       I08S,      70,          1,         14,         14,2,20160308,       1910,   -35.0010,    95.0019,       4416,  1364.3,   3.4715,  34.4845,2,  34.4843,2,    165.4,2,   164.7,2,    62.8,2,    0.00,2,   34.27,2,    0.00,2,    2.37,2,   0.529,2,   0.266,2,   0.020,2,          0.07,2,  2247.1,6, 2331.30,2,   7.5636,2,    25.04,   3.4719, -999.00,9,  -999.0,9,  -999.0, -999.00,9,-999.000,9,    39.3,2, -999.00,9,     -999.0,1, -999.00,9, 20160308,     2018, -35.0009,  95.0017,     -999.0,9,     -999.0,9,     -999.0,9,-999.0000,9,-999.0000,9,-999.0000,9,-999.0000,9,-999.0000,9,-999.0000,9,-999.0000,9,     -999.0,9,     -999.0,9,     -999.0,9,     -999.0,9,     -999.0,9
33RR20160208,       I08S,      70,          1,         15,         15,2,20160308,       1910,   -35.0010,    95.0019,       4416,  1265.2,   3.6828,  34.4316,2,  34.4312,2,    176.4,2,   176.7,2,    52.8,2,    0.00,2,   33.48,2,    0.00,2,    2.32,2,   0.951,2,   0.458,2,   0.042,2,           0.2,2,  2234.6,2, 2320.45,2,   7.5760,2,    25.04,   3.6832, -999.00,9,  -999.0,9,  -999.0, -999.00,9,-999.000,9,    38.2,2, -999.00,9,     -999.0,1, -999.00,9, 20160308,     2021, -35.0009,  95.0017,     -999.0,9,     -999.0,9,     -999.0,9,-999.0000,9,-999.0000,9,-999.0000,9,-999.0000,9,-999.0000,9,-999.0000,9,-999.0000,9,     -999.0,9,     -999.0,9,     -999.0,9,     -999.0,9,     -999.0,9
33RR20160208,       I08S,      70,          1,         16,         16,2,20160308,       1910,   -35.0010,    95.0019,       4416,  1164.3,   3.9809,  34.3873,2,  34.3871,2,    190.0,2,   188.4,2,    43.3,2,    0.00,2,   32.36,2,    0.00,2,    2.23,2,   1.487,2,   0.697,2,   0.075,2,         0.236,2,  2219.0,2, 2311.21,2,   7.5914,2,    25.03,   3.9806, -999.00,9,  -999.0,9,  -999.0, -999.00,9,-999.000,9,    38.1,2, -999.00,9,     -999.0,1, -999.00,9, 20160308,     2024, -35.0009,  95.0017,     -999.0,9,     -999.0,9,     -999.0,9,-999.0000,9,-999.0000,9,-999.0000,9,-999.0000,9,-999.0000,9,-999.0000,9,-999.0000,9,     -999.0,9,     -999.0,9,     -999.0,9,     -999.0,9,     -999.0,9
33RR20160208,       I08S,      70,          1,         17,         17,2,20160308,       1910,   -35.0010,    95.0019,       4416,  1065.2,   4.4769,  34.3622,2,  34.3625,2,    198.3,2,   196.7,2,    34.5,2,    0.00,2,   31.03,2,    0.00,2,    2.11,2,   1.959,2,   0.928,2,   0.101,2,         0.336,2,  2205.3,2, 2302.27,2,   7.6085,6,    25.03,   4.4771, -999.00,9,  -999.0,9,  -999.0, -999.00,9,-999.000,9,    38.9,2, -999.00,9,     -999.0,1, -999.00,9, 20160308,     2026, -35.0009,  95.0017,     -999.0,9,     -999.0,9,     -999.0,9,-999.0000,9,-999.0000,9,-999.0000,9,-999.0000,9,-999.0000,9,-999.0000,9,-999.0000,9,     -999.0,9,     -999.0,9,     -999.0,9,     -999.0,9,     -999.0,9
33RR20160208,       I08S,      70,          1,         18,         37,2,20160308,       1910,   -35.0010,    95.0019,       4416,   965.2,   5.4848,  34.3746,2,  34.3746,2,    205.2,2,   202.8,2,    23.5,2,    0.00,2,   28.72,2,    0.00,2,    1.95,2,   2.499,2,   1.222,2,   0.117,2,         0.429,2,  2186.4,2, 2293.15,2,   7.6330,2,    25.04,   5.4936, -999.00,9,  -999.0,9,  -999.0, -999.00,9,-999.000,9,    40.2,2, -999.00,9,     -999.0,1, -999.00,9, 20160308,     2029, -35.0009,  95.0017,     -999.0,9,     -999.0,9,     -999.0,9,-999.0000,9,-999.0000,9,-999.0000,9,-999.0000,9,-999.0000,9,-999.0000,9,-999.0000,9,     -999.0,9,     -999.0,9,     -999.0,9,     -999.0,9,     -999.0,9
33RR20160208,       I08S,      70,          1,         19,         19,2,20160308,       1910,   -35.0010,    95.0019,       4416,   864.5,   6.9303,  34.4595,2,  34.4585,2,    205.0,2,   204.8,2,    16.4,2,    0.00,2,   25.33,2,    0.00,2,    1.73,2,   2.878,2,   1.434,2,   0.112,2,         0.589,2,  2171.1,2, 2286.96,2,   7.6674,2,    25.04,   6.9374, -999.00,9,  -999.0,9,  -999.0, -999.00,9,-999.000,9,    40.5,2, -999.00,9,     -999.0,1, -999.00,9, 20160308,     2032, -35.0009,  95.0017,     -999.0,9,     -999.0,9,     -999.0,9,-999.0000,9,-999.0000,9,-999.0000,9,-999.0000,9,-999.0000,9,-999.0000,9,-999.0000,9,     -999.0,9,     -999.0,9,     -999.0,9,     -999.0,9,     -999.0,9
33RR20160208,       I08S,      70,          1,         20,         20,2,20160308,       1910,   -35.0010,    95.0019,       4416,   764.7,   8.3389,  34.5727,2,  34.5730,2,    217.6,2,   216.2,2,     9.5,2,    0.00,2,   20.91,2,    0.00,2,    1.43,2,   3.345,2,   1.742,2,   0.125,2,         0.832,2,  2154.0,2, 2291.37,2,   7.7156,2,    25.04,   8.3411, -999.00,9,  -999.0,9,  -999.0, -999.00,9,-999.000,9,    41.9,2, -999.00,9,     -999.0,1, -999.00,9, 20160308,     2035, -35.0009,  95.0018,     -999.0,9,     -999.0,9,     -999.0,9,-999.0000,9,-999.0000,9,-999.0000,9,-999.0000,9,-999.0000,9,-999.0000,9,-999.0000,9,     -999.0,9,     -999.0,9,     -999.0,9,     -999.0,9,     -999.0,9
33RR20160208,       I08S,      70,          1,         21,         21,2,20160308,       1910,   -35.0010,    95.0019,       4416,   664.0,   9.2626,  34.6645,2,  34.6650,2,    234.6,2,   234.4,2,     4.9,2,    0.00,2,   16.99,2,    0.00,2,    1.18,2,   3.650,2,   1.981,2,   0.146,2,         1.031,2,  2138.1,2, 2293.25,2,   7.7578,6,    25.04,   9.2622, -999.00,9,  -999.0,9,  -999.0, -999.00,9,-999.000,9,    42.8,2, -999.00,9,     -999.0,1, -999.00,9, 20160308,     2038, -35.0009,  95.0017,     -999.0,9,     -999.0,9,     -999.0,9,-999.0000,9,-999.0000,9,-999.0000,9,-999.0000,9,-999.0000,9,-999.0000,9,-999.0000,9,     -999.0,9,     -999.0,9,     -999.0,9,     -999.0,9,     -999.0,9
33RR20160208,       I08S,      70,          1,         22,         22,2,20160308,       1910,   -35.0010,    95.0019,       4416,   563.8,  10.0364,  34.7688,2,  34.7688,2,    243.8,2,   243.9,2,     3.8,2,    0.00,2,   14.05,2,    0.00,2,    0.99,2,   3.454,2,   1.965,2,   0.151,2,         1.418,2,  2130.4,2, 2297.96,2,   7.7892,2,    25.03,  10.0368, -999.00,9,  -999.0,9,  -999.0, -999.00,9,-999.000,9,    43.6,2, -999.00,9,     -999.0,1, -999.00,9, 20160308,     2040, -35.0010,  95.0018,     -999.0,9,     -999.0,9,     -999.0,9,-999.0000,9,-999.0000,9,-999.0000,9,-999.0000,9,-999.0000,9,-999.0000,9,-999.0000,9,     -999.0,9,     -999.0,9,     -999.0,9,     -999.0,9,     -999.0,9
33RR20160208,       I08S,      70,          1,         23,         23,2,20160308,       1910,   -35.0010,    95.0019,       4416,   484.1,  10.5172,  34.8405,2,  34.8401,2,    244.2,2,   244.8,2,     3.5,2,    0.00,2,   12.81,2,    0.00,2,    0.94,2,   3.354,2,   1.929,2,   0.149,2,         1.493,2,  2126.2,2, 2300.61,2,   7.8015,2,    25.03,  10.5146, -999.00,9,  -999.0,9,  -999.0, -999.00,9,-999.000,9,    44.3,2, -999.00,9,     -999.0,1, -999.00,9, 20160308,     2043, -35.0009,  95.0017,     -999.0,9,     -999.0,9,     -999.0,9,-999.0000,9,-999.0000,9,-999.0000,9,-999.0000,9,-999.0000,9,-999.0000,9,-999.0000,9,     -999.0,9,     -999.0,9,     -999.0,9,     -999.0,9,     -999.0,9
33RR20160208,       I08S,      70,          1,         24,         24,2,20160308,       1910,   -35.0010,    95.0019,       4416,   435.1,  10.7857,  34.8823,2,  34.8811,2,    245.1,2,   245.8,2,     3.4,2,    0.00,2,   12.09,2,    0.00,2,    0.89,2,   3.286,2,   1.888,2,   0.148,2,         1.555,2,  2124.4,2, 2301.89,2,   7.8095,2,    25.04,  10.7853, -999.00,9,  -999.0,9,  -999.0, -999.00,9,-999.000,9,    44.5,2, -999.00,9,     -999.0,1, -999.00,9, 20160308,     2045, -35.0009,  95.0018,     -999.0,9,     -999.0,9,     -999.0,9,-999.0000,9,-999.0000,9,-999.0000,9,-999.0000,9,-999.0000,9,-999.0000,9,-999.0000,9,     -999.0,9,     -999.0,9,     -999.0,9,     -999.0,9,     -999.0,9
33RR20160208,       I08S,      70,          1,         25,         25,2,20160308,       1910,   -35.0010,    95.0019,       4416,   385.8,  11.0225,  34.9207,2,  34.9194,2,    243.8,2,   244.9,2,     3.5,2,    0.00,2,   11.78,2,    0.00,2,    0.88,2,   3.275,2,   1.858,2,   0.151,2,         1.499,2,  2124.8,2, 2304.71,2,   7.8130,2,    25.04,  11.0236, -999.00,9,  -999.0,9,  -999.0, -999.00,9,-999.000,9,    43.2,2, -999.00,9,     -999.0,1, -999.00,9, 20160308,     2047, -35.0009,  95.0018,     -999.0,9,     -999.0,9,     -999.0,9,-999.0000,9,-999.0000,9,-999.0000,9,-999.0000,9,-999.0000,9,-999.0000,9,-999.0000,9,     -999.0,9,     -999.0,9,     -999.0,9,     -999.0,9,     -999.0,9
33RR20160208,       I08S,      70,          1,         26,         26,2,20160308,       1910,   -35.0010,    95.0019,       4416,   334.8,  11.2476,  34.9545,2,  34.9544,2,    243.3,2,   243.9,2,     3.5,2,    0.00,2,   11.21,2,    0.00,2,    0.82,2,   3.231,2,   1.843,2,   0.144,2,         1.557,2,  2121.4,2, 2305.49,2,   7.8177,6,    25.02,  11.2472, -999.00,9,  -999.0,9,  -999.0, -999.00,9,-999.000,9,    44.9,2,   13.90,2,     -999.0,1, -999.00,9, 20160308,     2049, -35.0009,  95.0017,     -999.0,9,     -999.0,9,     -999.0,9,-999.0000,9,-999.0000,9,-999.0000,9,-999.0000,9,-999.0000,9,-999.0000,9,-999.0000,9,     -999.0,9,     -999.0,9,     -999.0,9,     -999.0,9,     -999.0,9
33RR20160208,       I08S,      70,          1,         27,         27,2,20160308,       1910,   -35.0010,    95.0019,       4416,   285.6,  11.4095,  34.9673,2,  34.9670,2,    242.8,2,   244.5,2,     2.9,2,    0.00,2,   10.40,2,    0.00,2,    0.78,2,   3.213,2,   1.854,2,   0.157,2,         1.569,2,  2120.7,2, 2306.62,2,   7.8238,2,    25.05,  11.4094, -999.00,9,  -999.0,9,  -999.0, -999.00,9,-999.000,9,    46.5,2,   12.70,2,     -999.0,1, -999.00,9, 20160308,     2051, -35.0009,  95.0017,     -999.0,9,     -999.0,9,     -999.0,9,-999.0000,9,-999.0000,9,-999.0000,9,-999.0000,9,-999.0000,9,-999.0000,9,-999.0000,9,     -999.0,9,     -999.0,9,     -999.0,9,     -999.0,9,     -999.0,9