BOTTLE,20220706CCHSIOAMB
EXPOCODE,SECT_ID,STNNBR,CASTNO,SAMPNO,BTLNBR,BTLNBR_FLAG_W,DATE,TIME,LATITUDE,LONGITUDE,DEPTH,CTDPRS,CTDTMP,CTDSAL,CTDSAL_FLAG_W,SALNTY,SALNTY_FLAG_W,CTDOXY,CTDOXY_FLAG_W,OXYGEN,OXYGEN_FLAG_W,SILCAT,SILCAT_FLAG_W,NH4,NH4_FLAG_W,NITRAT,NITRAT_FLAG_W,NITRIT,NITRIT_FLAG_W,PHSPHT,PHSPHT_FLAG_W,CFC-11,CFC-11_FLAG_W,CFC-12,CFC-12_FLAG_W,CFC113,CFC113_FLAG_W,SF6,SF6_FLAG_W,TCARBN,TCARBN_FLAG_W,ALKALI,ALKALI_FLAG_W,PH_TOT,PH_TOT_FLAG_W,PH_TMP,REFTMP,DELC13,DELC13_FLAG_W,DELC14,DELC14_FLAG_W,C14ERR,DELO18,DELO18_FLAG_W,POC,POC_FLAG_W,DOC,DOC_FLAG_W,TDN,TDN_FLAG_W,TON,TON_FLAG_W,D15N_NO3,D15N_NO3_FLAG_W,BTL_DATE,BTL_TIME,BTL_LAT,BTL_LON,14C-DOC,14C-DOC_FLAG_W,CHLORA,CHLORA_FLAG_W,HPLC,HPLC_FLAG_W,CDOM325,CDOM325_FLAG_W,CDOM340,CDOM340_FLAG_W,CDOM380,CDOM380_FLAG_W,CDOM412,CDOM412_FLAG_W,CDOM443,CDOM443_FLAG_W,CDOM490,CDOM490_FLAG_W,CDOM555,CDOM555_FLAG_W,CDOMSL,CDOMSL_FLAG_W,CDOMSN,CDOMSN_FLAG_W,D18O_NO3,D18O_NO3_FLAG_W,D15N_NO2+NO3,D15N_NO2+NO3_FLAG_W,D18O_NO2+NO3,D18O_NO2+NO3_FLAG_W
,,,,,,,,,,,METERS,DBAR,ITS-90,PSS-78,,PSS-78,,UMOL/KG,,UMOL/KG,,UMOL/KG,,UMOL/KG,,UMOL/KG,,UMOL/KG,,UMOL/KG,,PMOL/KG,,PMOL/KG,,PMOL/KG,,FMOL/KG,,UMOL/KG,,UMOL/KG,,,,DEG C,DEG C,/MILLE,,/MILLE,,/MILLE,/MILLE,,UG/KG,,UMOL/KG,,UMOL/KG,,UMOL/KG,,/MILLE,,,,,,/MILLE,,MG/M3,,,,1/M,,1/M,,1/M,,1/M,,1/M,,1/M,,1/M,,1/NM,,1/NM,,/MILLE,,/MILLE,,/MILLE,
33RR20160208,       I08S,      14,          3,          2,          2,2,20160222,       1449,   -62.0000,    82.0002,       2256,  2275.2,   0.4232,  34.6878,2,  34.6881,2,    211.5,2,  -999.0,9,   136.4,2,    0.00,2,   32.85,2,    0.00,2,    2.31,2,-999.000,9,-999.000,9,-999.000,9,-999.000000000,9,  -999.0,9, -999.00,9,-999.0000,9,  -999.00,   0.4228, -999.00,9,  -999.0,9,  -999.0, -999.00,9,-999.000,9,    39.6,2, -999.00,9,     -999.0,1, -999.00,9, 20160222,     1449, -62.0000,  82.0003,     -999.0,9,     -999.0,9,     -999.0,9,-999.0000,9,-999.0000,9,-999.0000,9,-999.0000,9,-999.0000,9,-999.0000,9,-999.0000,9,     -999.0,9,     -999.0,9,     -999.0,9,     -999.0,9,     -999.0,9
33RR20160208,       I08S,      14,          3,          1,          1,2,20160222,       1449,   -62.0000,    82.0002,       2256,  2274.0,   0.4234,  34.6878,2,  34.6891,2,    211.5,2,   211.6,2,   136.3,2,    0.00,2,   32.84,2,    0.00,2,    2.29,2,   0.296,2,   0.153,2,   0.006,2,   0.172105206,2,  2264.9,6, 2359.68,6,   7.5901,3,    24.98,   0.4228, -999.00,9,  -999.0,9,  -999.0, -999.00,9,-999.000,9,    39.6,2, -999.00,9,     -999.0,1, -999.00,9, 20160222,     1449, -62.0000,  82.0002,     -999.0,9,     -999.0,9,     -999.0,9,-999.0000,9,-999.0000,9,-999.0000,9,-999.0000,9,-999.0000,9,-999.0000,9,-999.0000,9,     -999.0,9,     -999.0,9,     -999.0,9,     -999.0,9,     -999.0,9
33RR20160208,       I08S,      14,          3,          4,          4,2,20160222,       1449,   -62.0000,    82.0002,       2256,  1798.7,   0.7807,  34.7072,2,  34.7081,2,    208.5,2,   208.0,2,   116.4,2,    0.00,2,   32.04,2,    0.00,2,    2.24,2,   0.268,2,   0.144,2,   0.005,2,   0.179150449,2,  2256.7,2, 2359.05,2,   7.5984,6,    24.98,   0.7801, -999.00,9,  -999.0,9,  -999.0, -999.00,9,-999.000,9,    39.5,2, -999.00,9,     -999.0,1, -999.00,9, 20160222,     1459, -62.0000,  82.0002,     -999.0,9,     -999.0,9,     -999.0,9,-999.0000,9,-999.0000,9,-999.0000,9,-999.0000,9,-999.0000,9,-999.0000,9,-999.0000,9,     -999.0,9,     -999.0,9,     -999.0,9,     -999.0,9,     -999.0,9
33RR20160208,       I08S,      14,          3,          3,          3,3,20160222,       1449,   -62.0000,    82.0002,       2256,  1798.1,   0.7791,  34.7072,3,-999.0000,9,    208.5,3,  -999.0,9,  -999.0,9, -999.00,9, -999.00,9, -999.00,9, -999.00,9,-999.000,9,-999.000,9,-999.000,9,-999.000000000,9,  -999.0,9, -999.00,9,-999.0000,9,  -999.00,   0.7795, -999.00,9,  -999.0,9,  -999.0, -999.00,9,-999.000,9,  -999.0,9, -999.00,9,     -999.0,1, -999.00,9, 20160222,     1459, -62.0000,  82.0003,     -999.0,9,     -999.0,9,     -999.0,9,-999.0000,9,-999.0000,9,-999.0000,9,-999.0000,9,-999.0000,9,-999.0000,9,-999.0000,9,     -999.0,9,     -999.0,9,     -999.0,9,     -999.0,9,     -999.0,9
33RR20160208,       I08S,      14,          3,          5,          5,3,20160222,       1449,   -62.0000,    82.0002,       2256,  1599.5,   0.9046,  34.7142,3,  34.7152,3,    207.4,3,   208.3,3,  -999.0,9, -999.00,9, -999.00,9, -999.00,9, -999.00,9,-999.000,9,-999.000,9,-999.000,9,-999.000000000,9,  -999.0,9, -999.00,9,-999.0000,9,     9.00,   0.9052, -999.00,9,  -999.0,9,  -999.0, -999.00,9,-999.000,9,  -999.0,9, -999.00,9,     -999.0,9, -999.00,9, 20160222,     1504, -62.0001,  82.0002,     -999.0,9,     -999.0,9,     -999.0,9,-999.0000,9,-999.0000,9,-999.0000,9,-999.0000,9,-999.0000,9,-999.0000,9,-999.0000,9,     -999.0,9,     -999.0,9,     -999.0,9,     -999.0,9,     -999.0,9
33RR20160208,       I08S,      14,          3,          6,          6,3,20160222,       1449,   -62.0000,    82.0002,       2256,  1599.5,   0.9085,  34.7143,3,-999.0000,9,    207.4,3,  -999.0,9,  -999.0,9, -999.00,9, -999.00,9, -999.00,9, -999.00,9,-999.000,9,-999.000,9,-999.000,9,-999.000000000,9,  -999.0,9, -999.00,9,-999.0000,9,  -999.00,   0.9098, -999.00,9,  -999.0,9,  -999.0, -999.00,9,-999.000,9,  -999.0,9, -999.00,9,     -999.0,9, -999.00,9, 20160222,     1504, -62.0000,  82.0002,     -999.0,9,     -999.0,9,     -999.0,9,-999.0000,9,-999.0000,9,-999.0000,9,-999.0000,9,-999.0000,9,-999.0000,9,-999.0000,9,     -999.0,9,     -999.0,9,     -999.0,9,     -999.0,9,     -999.0,9
33RR20160208,       I08S,      14,          3,          8,          8,2,20160222,       1449,   -62.0000,    82.0002,       2256,  1398.7,   1.0623,  34.7227,2,  34.7240,2,    206.2,2,  -999.0,9,   105.9,2,    0.00,2,   31.37,2,    0.00,2,    2.18,2,-999.000,9,-999.000,9,-999.000,9,-999.000000000,9,  -999.0,9, -999.00,9,-999.0000,9,  -999.00,   1.0629, -999.00,9,  -999.0,9,  -999.0, -999.00,9,-999.000,9,    40.1,2, -999.00,9,     -999.0,1, -999.00,9, 20160222,     1511, -62.0001,  82.0003,     -999.0,9,     -999.0,9,     -999.0,9,-999.0000,9,-999.0000,9,-999.0000,9,-999.0000,9,-999.0000,9,-999.0000,9,-999.0000,9,     -999.0,9,     -999.0,9,     -999.0,9,     -999.0,9,     -999.0,9
33RR20160208,       I08S,      14,          3,          7,          7,2,20160222,       1449,   -62.0000,    82.0002,       2256,  1397.6,   1.0620,  34.7228,2,  34.7240,2,    206.2,2,   205.8,2,   106.2,2,    0.00,2,   31.36,2,    0.00,2,    2.21,2,   0.262,2,   0.143,2,   0.007,2,   0.249602873,2,  2256.2,2, 2356.76,2,   7.6032,2,    25.04,   1.0621, -999.00,9,  -999.0,9,  -999.0, -999.00,9,-999.000,9,    38.6,2, -999.00,9,     -999.0,1, -999.00,9, 20160222,     1510, -62.0001,  82.0002,     -999.0,9,     -999.0,9,     -999.0,9,-999.0000,9,-999.0000,9,-999.0000,9,-999.0000,9,-999.0000,9,-999.0000,9,-999.0000,9,     -999.0,9,     -999.0,9,     -999.0,9,     -999.0,9,     -999.0,9
33RR20160208,       I08S,      14,          3,          9,          9,2,20160222,       1449,   -62.0000,    82.0002,       2256,  1200.2,   1.2337,  34.7314,2,  34.7322,2,    204.6,2,   204.9,2,   100.7,2,    0.00,2,   31.04,2,    0.00,2,    2.18,2,   0.265,2,   0.148,2,   0.008,2,   0.290867864,2,  2251.4,2, 2355.01,2,   7.6071,6,    24.97,   1.2339, -999.00,9,  -999.0,9,  -999.0, -999.00,9,-999.000,9,    39.0,2, -999.00,9,     -999.0,1, -999.00,9, 20160222,     1515, -62.0001,  82.0004,     -999.0,9,     -999.0,9,     -999.0,9,-999.0000,9,-999.0000,9,-999.0000,9,-999.0000,9,-999.0000,9,-999.0000,9,-999.0000,9,     -999.0,9,     -999.0,9,     -999.0,9,     -999.0,9,     -999.0,9
33RR20160208,       I08S,      14,          3,         10,         10,2,20160222,       1449,   -62.0000,    82.0002,       2256,  1199.8,   1.2343,  34.7313,2,  34.7308,2,    204.6,2,  -999.0,9,   100.8,2,    0.00,2,   31.03,2,    0.00,2,    2.17,2,-999.000,9,-999.000,9,-999.000,9,-999.000000000,9,  -999.0,9, -999.00,9,-999.0000,9,  -999.00,   1.2341, -999.00,9,  -999.0,9,  -999.0, -999.00,9,-999.000,9,    39.0,2, -999.00,9,     -999.0,1, -999.00,9, 20160222,     1516, -62.0001,  82.0003,     -999.0,9,     -999.0,9,     -999.0,9,-999.0000,9,-999.0000,9,-999.0000,9,-999.0000,9,-999.0000,9,-999.0000,9,-999.0000,9,     -999.0,9,     -999.0,9,     -999.0,9,     -999.0,9,     -999.0,9
33RR20160208,       I08S,      14,          3,         12,         12,2,20160222,       1449,   -62.0000,    82.0002,       2256,   998.9,   1.4358,  34.7399,2,  34.7409,2,    202.9,2,  -999.0,9,    94.9,2,    0.00,2,   30.69,2,    0.00,2,    2.16,2,-999.000,9,-999.000,9,-999.000,9,-999.000000000,9,  -999.0,9, -999.00,9,-999.0000,9,     9.00,   1.4362, -999.00,9,  -999.0,9,  -999.0, -999.00,9,-999.000,9,    39.1,2, -999.00,9,     -999.0,1, -999.00,9, 20160222,     1521, -62.0000,  82.0003,     -999.0,9,     -999.0,9,     -999.0,9,-999.0000,9,-999.0000,9,-999.0000,9,-999.0000,9,-999.0000,9,-999.0000,9,-999.0000,9,     -999.0,9,     -999.0,9,     -999.0,9,     -999.0,9,     -999.0,9
33RR20160208,       I08S,      14,          3,         11,         11,2,20160222,       1449,   -62.0000,    82.0002,       2256,   998.5,   1.4385,  34.7399,2,  34.7401,2,    202.9,2,   203.1,2,    95.1,2,    0.00,2,   30.75,2,    0.00,2,    2.15,2,   0.252,2,   0.145,2,   0.008,2,   0.224441293,2,  2249.4,2, 2352.64,2,   7.6082,2,    25.00,   1.4382, -999.00,9,  -999.0,9,  -999.0, -999.00,9,-999.000,9,    38.5,2, -999.00,9,     -999.0,1, -999.00,9, 20160222,     1521, -62.0000,  82.0003,     -999.0,9,     -999.0,9,     -999.0,9,-999.0000,9,-999.0000,9,-999.0000,9,-999.0000,9,-999.0000,9,-999.0000,9,-999.0000,9,     -999.0,9,     -999.0,9,     -999.0,9,     -999.0,9,     -999.0,9
33RR20160208,       I08S,      14,          3,         13,         13,2,20160222,       1449,   -62.0000,    82.0002,       2256,   800.5,   1.6271,  34.7422,2,  34.7430,2,    199.4,2,   198.8,2,    90.1,2,    0.00,2,   30.67,2,    0.00,2,    2.15,2,   0.273,2,   0.153,2,   0.009,2,   0.230480072,2,  2248.0,2, 2351.40,2,   7.6061,2,    24.94,   1.6268, -999.00,9,  -999.0,9,  -999.0, -999.00,9,-999.000,9,    40.0,2, -999.00,9,     -999.0,1, -999.00,9, 20160222,     1525, -62.0001,  82.0004,     -999.0,9,     -999.0,9,     -999.0,9,-999.0000,9,-999.0000,9,-999.0000,9,-999.0000,9,-999.0000,9,-999.0000,9,-999.0000,9,     -999.0,9,     -999.0,9,     -999.0,9,     -999.0,9,     -999.0,9
33RR20160208,       I08S,      14,          3,         14,         14,2,20160222,       1449,   -62.0000,    82.0002,       2256,   800.5,   1.6280,  34.7422,2,  34.7416,2,    199.4,2,  -999.0,9,    90.1,2,    0.00,2,   30.67,2,    0.00,2,    2.14,2,-999.000,9,-999.000,9,-999.000,9,-999.000000000,9,  -999.0,9, -999.00,9,-999.0000,9,     9.00,   1.6278, -999.00,9,  -999.0,9,  -999.0, -999.00,9,-999.000,9,    38.9,2, -999.00,9,     -999.0,1, -999.00,9, 20160222,     1526, -62.0001,  82.0003,     -999.0,9,     -999.0,9,     -999.0,9,-999.0000,9,-999.0000,9,-999.0000,9,-999.0000,9,-999.0000,9,-999.0000,9,-999.0000,9,     -999.0,9,     -999.0,9,     -999.0,9,     -999.0,9,     -999.0,9
33RR20160208,       I08S,      14,          3,         16,         16,2,20160222,       1449,   -62.0000,    82.0002,       2256,   600.3,   1.7814,  34.7346,2,  34.7344,2,    192.6,2,  -999.0,9,    87.6,2,    0.00,2,   31.17,2,    0.00,2,    2.17,2,-999.000,9,-999.000,9,-999.000,9,-999.000000000,9,  -999.0,9, -999.00,9,-999.0000,9,  -999.00,   1.7812, -999.00,9,  -999.0,9,  -999.0, -999.00,9,-999.000,9,    40.2,2, -999.00,9,     -999.0,1, -999.00,9, 20160222,     1531, -62.0000,  82.0003,     -999.0,9,     -999.0,9,     -999.0,9,-999.0000,9,-999.0000,9,-999.0000,9,-999.0000,9,-999.0000,9,-999.0000,9,-999.0000,9,     -999.0,9,     -999.0,9,     -999.0,9,     -999.0,9,     -999.0,9
33RR20160208,       I08S,      14,          3,         15,         15,2,20160222,       1449,   -62.0000,    82.0002,       2256,   599.6,   1.7815,  34.7347,2,  34.7353,2,    192.6,2,   192.6,2,    87.7,2,    0.00,2,   31.17,2,    0.00,2,    2.18,2,   0.298,2,   0.167,2,   0.013,2,     0.2898614,2,  2250.5,2, 2348.14,2,   7.5924,6,    24.99,   1.7812, -999.00,9,  -999.0,9,  -999.0, -999.00,9,-999.000,9,    39.5,2, -999.00,9,     -999.0,1, -999.00,9, 20160222,     1530, -62.0001,  82.0002,     -999.0,9,     -999.0,9,     -999.0,9,-999.0000,9,-999.0000,9,-999.0000,9,-999.0000,9,-999.0000,9,-999.0000,9,-999.0000,9,     -999.0,9,     -999.0,9,     -999.0,9,     -999.0,9,     -999.0,9
33RR20160208,       I08S,      14,          3,         18,         18,3,20160222,       1449,   -62.0000,    82.0002,       2256,   500.7,   1.8302,  34.7262,3,  34.7269,3,    187.3,3,  -999.0,9,    87.1,3,    0.00,3,   31.67,3,    0.00,3,    2.23,3,-999.000,9,-999.000,9,-999.000,9,-999.000000000,9,  -999.0,9, -999.00,9,-999.0000,9,     9.00,   1.8300, -999.00,9,  -999.0,9,  -999.0, -999.00,9,-999.000,9,  -999.0,9, -999.00,9,     -999.0,1, -999.00,9, 20160222,     1534, -62.0000,  82.0002,     -999.0,9,     -999.0,9,     -999.0,9,-999.0000,9,-999.0000,9,-999.0000,9,-999.0000,9,-999.0000,9,-999.0000,9,-999.0000,9,     -999.0,9,     -999.0,9,     -999.0,9,     -999.0,9,     -999.0,9
33RR20160208,       I08S,      14,          3,         17,         17,2,20160222,       1449,   -62.0000,    82.0002,       2256,   499.8,   1.8297,  34.7263,2,  34.7267,2,    187.3,2,   188.1,2,    87.2,2,    0.00,2,   31.65,2,    0.00,2,    2.21,2,   0.330,2,   0.190,2,   0.016,2,   0.322068223,2,  2255.2,2, 2348.38,2,   7.5841,6,    24.99,   1.8297, -999.00,9,  -999.0,9,  -999.0, -999.00,9,-999.000,9,    39.4,2, -999.00,9,     -999.0,1, -999.00,9, 20160222,     1534, -62.0001,  82.0003,     -999.0,9,     -999.0,9,     -999.0,9,-999.0000,9,-999.0000,9,-999.0000,9,-999.0000,9,-999.0000,9,-999.0000,9,-999.0000,9,     -999.0,9,     -999.0,9,     -999.0,9,     -999.0,9,     -999.0,9
33RR20160208,       I08S,      14,          3,         19,         19,2,20160222,       1449,   -62.0000,    82.0002,       2256,   400.7,   1.8839,  34.7130,2,  34.7134,2,    182.8,2,   182.6,2,    86.2,2,    0.00,2,   32.24,2,    0.00,2,    2.26,2,   0.379,2,   0.213,2,   0.020,2,   0.290867864,2,  2256.1,2, 2345.50,2,   7.5730,2,    25.03,   1.8841, -999.00,9,  -999.0,9,  -999.0, -999.00,9,-999.000,9,    38.8,2, -999.00,9,     -999.0,1, -999.00,9, 20160222,     1537, -62.0000,  82.0003,     -999.0,9,     -999.0,9,     -999.0,9,-999.0000,9,-999.0000,9,-999.0000,9,-999.0000,9,-999.0000,9,-999.0000,9,-999.0000,9,     -999.0,9,     -999.0,9,     -999.0,9,     -999.0,9,     -999.0,9
33RR20160208,       I08S,      14,          3,         20,         20,2,20160222,       1449,   -62.0000,    82.0002,       2256,   399.1,   1.8846,  34.7127,2,  34.7130,2,    182.7,2,  -999.0,9,    86.4,2,    0.00,2,   32.23,2,    0.00,2,    2.26,2,-999.000,9,-999.000,9,-999.000,9,-999.000000000,9,  -999.0,9, -999.00,9,-999.0000,9,     9.00,   1.8847, -999.00,9,  -999.0,9,  -999.0, -999.00,9,-999.000,9,    40.6,2, -999.00,9,     -999.0,1, -999.00,9, 20160222,     1537, -62.0001,  82.0003,     -999.0,9,     -999.0,9,     -999.0,9,-999.0000,9,-999.0000,9,-999.0000,9,-999.0000,9,-999.0000,9,-999.0000,9,-999.0000,9,     -999.0,9,     -999.0,9,     -999.0,9,     -999.0,9,     -999.0,9
33RR20160208,       I08S,      14,          3,         21,         21,2,20160222,       1449,   -62.0000,    82.0002,       2256,   301.6,   1.9229,  34.6874,2,  34.6882,2,    176.8,2,   176.5,2,    85.8,2,    0.00,2,   33.16,2,    0.02,2,    2.32,2,   0.464,2,   0.260,2,   0.029,2,   0.366352603,2,  2261.7,2, 2343.20,6,   7.5561,2,    25.00,   1.9236, -999.00,9,  -999.0,9,  -999.0, -999.00,9,-999.000,9,    39.8,2, -999.00,9,     -999.0,1, -999.00,9, 20160222,     1540, -62.0000,  82.0003,     -999.0,9,     -999.0,9,     -999.0,9,-999.0000,9,-999.0000,9,-999.0000,9,-999.0000,9,-999.0000,9,-999.0000,9,-999.0000,9,     -999.0,9,     -999.0,9,     -999.0,9,     -999.0,9,     -999.0,9
33RR20160208,       I08S,      14,          3,         22,         22,2,20160222,       1449,   -62.0000,    82.0002,       2256,   299.7,   1.9241,  34.6870,2,  34.6870,2,    176.8,2,  -999.0,9,    85.8,2,    0.00,2,   33.00,2,    0.02,2,    2.31,2,-999.000,9,-999.000,9,-999.000,9,-999.000000000,9,  -999.0,9, -999.00,9,-999.0000,9,  -999.00,   1.9238, -999.00,9,  -999.0,9,  -999.0, -999.00,9,-999.000,9,    40.0,2, -999.00,9,     -999.0,1, -999.00,9, 20160222,     1541, -62.0000,  82.0003,     -999.0,9,     -999.0,9,     -999.0,9,-999.0000,9,-999.0000,9,-999.0000,9,-999.0000,9,-999.0000,9,-999.0000,9,-999.0000,9,     -999.0,9,     -999.0,9,     -999.0,9,     -999.0,9,     -999.0,9
33RR20160208,       I08S,      14,          3,         24,         24,2,20160222,       1449,   -62.0000,    82.0002,       2256,   200.8,   1.9092,  34.6455,2,  34.6464,2,    172.6,2,  -999.0,9,    84.8,2,    0.00,2,   34.07,2,    0.02,2,    2.36,2,-999.000,9,-999.000,9,-999.000,9,-999.000000000,9,  -999.0,9, -999.00,9,-999.0000,9,     9.00,   1.9101, -999.00,9,  -999.0,9,  -999.0, -999.00,9,-999.000,9,    39.8,2, -999.00,9,     -999.0,1, -999.00,9, 20160222,     1544, -62.0000,  82.0002,     -999.0,9,     -999.0,9,     -999.0,9,-999.0000,9,-999.0000,9,-999.0000,9,-999.0000,9,-999.0000,9,-999.0000,9,-999.0000,9,     -999.0,9,     -999.0,9,     -999.0,9,     -999.0,9,     -999.0,9
33RR20160208,       I08S,      14,          3,         23,         23,2,20160222,       1449,   -62.0000,    82.0002,       2256,   199.5,   1.9076,  34.6467,2,  34.6462,2,    172.5,2,   173.1,2,    84.7,2,    0.00,2,   34.12,2,    0.02,2,    2.38,2,   0.639,2,   0.353,2,   0.045,2,   0.395540036,2,  2263.8,2, 2340.34,2,   7.5400,2,    24.99,   1.9076, -999.00,9,  -999.0,9,  -999.0, -999.00,9,-999.000,9,    38.7,2, -999.00,9,     -999.0,1, -999.00,9, 20160222,     1543, -62.0000,  82.0003,     -999.0,9,     -999.0,9,     -999.0,9,-999.0000,9,-999.0000,9,-999.0000,9,-999.0000,9,-999.0000,9,-999.0000,9,-999.0000,9,     -999.0,9,     -999.0,9,     -999.0,9,     -999.0,9,     -999.0,9
33RR20160208,       I08S,      14,          3,         25,         25,2,20160222,       1449,   -62.0000,    82.0002,       2256,   152.1,   1.8474,  34.6126,2,  34.6105,2,    172.1,2,   171.6,2,    83.2,2,    0.00,2,   34.62,2,    0.04,2,    2.41,2,   0.799,2,   0.427,2,   0.061,2,   0.456934291,2,  2264.1,2, 2337.04,2,   7.5273,2,    25.00,   1.8461, -999.00,9,  -999.0,9,  -999.0, -999.00,9,-999.000,9,    39.8,2, -999.00,9,     -999.0,1, -999.00,9, 20160222,     1546, -62.0000,  82.0002,     -999.0,9,     -999.0,9,     -999.0,9,-999.0000,9,-999.0000,9,-999.0000,9,-999.0000,9,-999.0000,9,-999.0000,9,-999.0000,9,     -999.0,9,     -999.0,9,     -999.0,9,     -999.0,9,     -999.0,9
33RR20160208,       I08S,      14,          3,         26,         26,2,20160222,       1449,   -62.0000,    82.0002,       2256,   150.1,   1.8444,  34.6107,2,  34.6107,2,    172.4,2,  -999.0,9,    83.2,2,    0.00,2,   34.60,2,    0.04,2,    2.38,2,-999.000,9,-999.000,9,-999.000,9,-999.000000000,9,  -999.0,9, -999.00,9,-999.0000,9,     9.00,   1.8444, -999.00,9,  -999.0,9,  -999.0, -999.00,9,-999.000,9,    41.0,2, -999.00,9,     -999.0,1, -999.00,9, 20160222,     1546, -62.0000,  82.0003,     -999.0,9,     -999.0,9,     -999.0,9,-999.0000,9,-999.0000,9,-999.0000,9,-999.0000,9,-999.0000,9,-999.0000,9,-999.0000,9,     -999.0,9,     -999.0,9,     -999.0,9,     -999.0,9,     -999.0,9
33RR20160208,       I08S,      14,          3,         27,         27,2,20160222,       1449,   -62.0000,    82.0002,       2256,   100.9,   1.5508,  34.5389,2,  34.5470,2,    176.8,2,   177.0,2,    80.8,2,    0.00,2,   35.05,2,    0.15,2,    2.42,2,   1.143,2,   0.603,2,   0.092,2,   0.768937882,2,  2262.4,2, 2332.64,2,   7.5180,6,    25.00,   1.5517, -999.00,9,  -999.0,9,  -999.0, -999.00,9,-999.000,9,    39.7,2, -999.00,9,     -999.0,1, -999.00,9, 20160222,     1548, -62.0000,  82.0003,     -999.0,9,     -999.0,9,     -999.0,9,-999.0000,9,-999.0000,9,-999.0000,9,-999.0000,9,-999.0000,9,-999.0000,9,-999.0000,9,     -999.0,9,     -999.0,9,     -999.0,9,     -999.0,9,     -999.0,9