BOTTLE,20220706CCHSIOAMB
EXPOCODE,SECT_ID,STNNBR,CASTNO,SAMPNO,BTLNBR,BTLNBR_FLAG_W,DATE,TIME,LATITUDE,LONGITUDE,DEPTH,CTDPRS,CTDTMP,CTDSAL,CTDSAL_FLAG_W,SALNTY,SALNTY_FLAG_W,CTDOXY,CTDOXY_FLAG_W,OXYGEN,OXYGEN_FLAG_W,SILCAT,SILCAT_FLAG_W,NH4,NH4_FLAG_W,NITRAT,NITRAT_FLAG_W,NITRIT,NITRIT_FLAG_W,PHSPHT,PHSPHT_FLAG_W,CFC-11,CFC-11_FLAG_W,CFC-12,CFC-12_FLAG_W,CFC113,CFC113_FLAG_W,SF6,SF6_FLAG_W,TCARBN,TCARBN_FLAG_W,ALKALI,ALKALI_FLAG_W,PH_TOT,PH_TOT_FLAG_W,PH_TMP,REFTMP,DELC13,DELC13_FLAG_W,DELC14,DELC14_FLAG_W,C14ERR,DELO18,DELO18_FLAG_W,POC,POC_FLAG_W,DOC,DOC_FLAG_W,TDN,TDN_FLAG_W,TON,TON_FLAG_W,D15N_NO3,D15N_NO3_FLAG_W,BTL_DATE,BTL_TIME,BTL_LAT,BTL_LON,14C-DOC,14C-DOC_FLAG_W,CHLORA,CHLORA_FLAG_W,HPLC,HPLC_FLAG_W,CDOM325,CDOM325_FLAG_W,CDOM340,CDOM340_FLAG_W,CDOM380,CDOM380_FLAG_W,CDOM412,CDOM412_FLAG_W,CDOM443,CDOM443_FLAG_W,CDOM490,CDOM490_FLAG_W,CDOM555,CDOM555_FLAG_W,CDOMSL,CDOMSL_FLAG_W,CDOMSN,CDOMSN_FLAG_W,D18O_NO3,D18O_NO3_FLAG_W,D15N_NO2+NO3,D15N_NO2+NO3_FLAG_W,D18O_NO2+NO3,D18O_NO2+NO3_FLAG_W
,,,,,,,,,,,METERS,DBAR,ITS-90,PSS-78,,PSS-78,,UMOL/KG,,UMOL/KG,,UMOL/KG,,UMOL/KG,,UMOL/KG,,UMOL/KG,,UMOL/KG,,PMOL/KG,,PMOL/KG,,PMOL/KG,,FMOL/KG,,UMOL/KG,,UMOL/KG,,,,DEG C,DEG C,/MILLE,,/MILLE,,/MILLE,/MILLE,,UG/KG,,UMOL/KG,,UMOL/KG,,UMOL/KG,,/MILLE,,,,,,/MILLE,,MG/M3,,,,1/M,,1/M,,1/M,,1/M,,1/M,,1/M,,1/M,,1/NM,,1/NM,,/MILLE,,/MILLE,,/MILLE,
33RR20160208,       I08S,      73,          1,         28,         28,2,20160309,       1428,   -33.5083,    95.0010,       4371,   235.9,  14.0065,  35.3649,2,  35.3461,2,    228.2,2,   228.4,2,     1.1,2,    0.00,2,    5.22,2,    0.00,2,    0.46,2,   2.678,2,   1.591,2,   0.094,2,    1.55981577,2,  2112.6,2, 2326.59,2,   7.8810,2,    24.98,  14.0152, -999.00,9,  -999.0,9,  -999.0, -999.00,9,-999.000,9,  -999.0,9, -999.00,9,     -999.0,9,    8.35,2, 20160309,     1610, -33.5083,  95.0010,     -999.0,9,     -999.0,9,     -999.0,9,-999.0000,9,-999.0000,9,-999.0000,9,-999.0000,9,-999.0000,9,-999.0000,9,-999.0000,9,     -999.0,9,     -999.0,9,       5.43,2,       7.88,2,       4.46,2
33RR20160208,       I08S,      73,          1,         29,         29,2,20160309,       1428,   -33.5083,    95.0010,       4371,   185.7,  15.1722,  35.5095,2,  35.5008,2,    229.7,2,   230.4,2,     0.8,2,    0.00,2,    2.58,2,    0.10,2,    0.31,2,-999.000,9,-999.000,9,-999.000,9,-999.000000000,9,  -999.0,9, -999.00,9,-999.0000,9,     9.00,  15.1703, -999.00,9,  -999.0,9,  -999.0, -999.00,9,-999.000,9,  -999.0,9, -999.00,9,     -999.0,9,    8.67,2, 20160309,     1612, -33.5083,  95.0011,     -999.0,9,     -999.0,9,     -999.0,9,-999.0000,9,-999.0000,9,-999.0000,9,-999.0000,9,-999.0000,9,-999.0000,9,-999.0000,9,     -999.0,9,     -999.0,9,        4.9,2,       8.39,2,       5.59,2
33RR20160208,       I08S,      73,          1,         30,         30,2,20160309,       1428,   -33.5083,    95.0010,       4371,   140.1,  16.7808,  35.6937,2,  35.6896,2,    230.7,2,   229.7,2,     0.7,2,    0.04,2,    0.36,2,    0.13,2,    0.18,2,   2.344,2,   1.407,2,   0.133,2,    1.56286625,2,  2094.3,2, 2345.86,2,   7.9487,2,    24.99,  16.7792, -999.00,9,  -999.0,9,  -999.0, -999.00,9,-999.000,9,  -999.0,9, -999.00,9,     -999.0,9, -999.00,9, 20160309,     1614, -33.5083,  95.0010,     -999.0,9,     -999.0,9,     -999.0,9,-999.0000,9,-999.0000,9,-999.0000,9,-999.0000,9,-999.0000,9,-999.0000,9,-999.0000,9,     -999.0,9,     -999.0,9,     -999.0,9,     -999.0,9,     -999.0,9
33RR20160208,       I08S,      73,          1,         31,         31,2,20160309,       1428,   -33.5083,    95.0010,       4371,   114.7,  17.6532,  35.7683,2,  35.7637,2,    232.9,2,   232.9,2,     0.6,2,    0.00,2,    0.00,2,    0.02,2,    0.12,2,-999.000,9,-999.000,9,-999.000,9,-999.000000000,9,  -999.0,9, -999.00,9,-999.0000,9,  -999.00,  17.6402, -999.00,9,  -999.0,9,  -999.0, -999.00,9,-999.000,9,  -999.0,9, -999.00,9,     -999.0,9, -999.00,9, 20160309,     1616, -33.5083,  95.0011,     -999.0,9,     -999.0,9,     -999.0,9,-999.0000,9,-999.0000,9,-999.0000,9,-999.0000,9,-999.0000,9,-999.0000,9,-999.0000,9,     -999.0,9,     -999.0,9,     -999.0,9,     -999.0,9,     -999.0,9
33RR20160208,       I08S,      73,          1,         32,         32,2,20160309,       1428,   -33.5083,    95.0010,       4371,    89.8,  18.6596,  35.8267,2,  35.8243,2,    236.3,2,   230.0,4,     1.0,2,    0.00,2,    0.00,2,    0.00,2,    0.09,2,   2.156,2,   1.305,2,   0.143,2,    1.41644287,2,  2075.6,2, 2353.86,2,   7.9894,2,    24.98,  18.6591, -999.00,9,  -999.0,9,  -999.0, -999.00,9,-999.000,9,  -999.0,9, -999.00,9,     -999.0,9, -999.00,9, 20160309,     1618, -33.5083,  95.0010,     -999.0,9,     -999.0,9,     -999.0,9,-999.0000,9,-999.0000,9,-999.0000,9,-999.0000,9,-999.0000,9,-999.0000,9,-999.0000,9,     -999.0,9,     -999.0,9,     -999.0,9,     -999.0,9,     -999.0,9
33RR20160208,       I08S,      73,          1,         33,         33,2,20160309,       1428,   -33.5083,    95.0010,       4371,    65.9,  20.6290,  35.8776,2,  35.8600,2,    236.9,2,   235.5,2,     1.1,2,    0.00,2,    0.00,2,    0.00,2,    0.07,2,-999.000,9,-999.000,9,-999.000,9,-999.000000000,9,  -999.0,9, -999.00,9,-999.0000,9,  -999.00,  20.6354, -999.00,9,  -999.0,9,  -999.0, -999.00,9,-999.000,9,  -999.0,9, -999.00,9,     -999.0,9, -999.00,9, 20160309,     1619, -33.5083,  95.0011,     -999.0,9,     -999.0,9,     -999.0,9,-999.0000,9,-999.0000,9,-999.0000,9,-999.0000,9,-999.0000,9,-999.0000,9,-999.0000,9,     -999.0,9,     -999.0,9,     -999.0,9,     -999.0,9,     -999.0,9
33RR20160208,       I08S,      73,          1,         34,         34,2,20160309,       1428,   -33.5083,    95.0010,       4371,    41.1,  21.7164,  36.0058,2,  36.0038,2,    223.4,2,   222.0,2,     1.3,2,    0.00,2,    0.00,2,    0.00,2,    0.05,2,   1.865,2,   1.145,2,   0.149,2,    1.28730558,2,  2067.6,2, 2362.51,2,   8.0195,2,    24.99,  21.7343, -999.00,9,  -999.0,9,  -999.0, -999.00,9,-999.000,9,  -999.0,9, -999.00,9,     -999.0,9, -999.00,9, 20160309,     1621, -33.5083,  95.0011,     -999.0,9,     -999.0,9,     -999.0,9,-999.0000,9,-999.0000,9,-999.0000,9,-999.0000,9,-999.0000,9,-999.0000,9,-999.0000,9,     -999.0,9,     -999.0,9,     -999.0,9,     -999.0,9,     -999.0,9
33RR20160208,       I08S,      73,          1,         35,         35,2,20160309,       1428,   -33.5083,    95.0010,       4371,    22.1,  22.3364,  35.9719,2,  35.9683,2,    220.7,2,   219.2,2,     1.3,2,    0.00,2,    0.00,2,    0.00,2,    0.06,2,-999.000,9,-999.000,9,-999.000,9,-999.000000000,9,  -999.0,9, -999.00,9,-999.0000,9,     9.00,  22.3271, -999.00,9,  -999.0,9,  -999.0, -999.00,9,-999.000,9,  -999.0,9, -999.00,9,     -999.0,9, -999.00,9, 20160309,     1623, -33.5082,  95.0010,     -999.0,9,     -999.0,9,     -999.0,9,-999.0000,9,-999.0000,9,-999.0000,9,-999.0000,9,-999.0000,9,-999.0000,9,-999.0000,9,     -999.0,9,     -999.0,9,     -999.0,9,     -999.0,9,     -999.0,9
33RR20160208,       I08S,      73,          1,         36,         36,2,20160309,       1428,   -33.5083,    95.0010,       4371,     6.8,  22.6693,  35.9258,2,  35.9160,2,    218.4,2,   217.1,2,     1.2,2,    0.00,2,    0.00,2,    0.00,2,    0.06,2,   1.771,2,   1.098,2,   0.140,2,         1.148,2,  2058.4,6, 2356.61,2,   8.0254,2,    24.97,  22.6721, -999.00,9,  -999.0,9,  -999.0, -999.00,9,-999.000,9,  -999.0,9, -999.00,9,     -999.0,9, -999.00,9, 20160309,     1625, -33.5083,  95.0011,     -999.0,9,     -999.0,9,     -999.0,9,-999.0000,9,-999.0000,9,-999.0000,9,-999.0000,9,-999.0000,9,-999.0000,9,-999.0000,9,     -999.0,9,     -999.0,9,     -999.0,9,     -999.0,9,     -999.0,9