BOTTLE,20220706CCHSIOAMB
EXPOCODE,SECT_ID,STNNBR,CASTNO,SAMPNO,BTLNBR,BTLNBR_FLAG_W,DATE,TIME,LATITUDE,LONGITUDE,DEPTH,CTDPRS,CTDTMP,CTDSAL,CTDSAL_FLAG_W,SALNTY,SALNTY_FLAG_W,CTDOXY,CTDOXY_FLAG_W,OXYGEN,OXYGEN_FLAG_W,SILCAT,SILCAT_FLAG_W,NH4,NH4_FLAG_W,NITRAT,NITRAT_FLAG_W,NITRIT,NITRIT_FLAG_W,PHSPHT,PHSPHT_FLAG_W,CFC-11,CFC-11_FLAG_W,CFC-12,CFC-12_FLAG_W,CFC113,CFC113_FLAG_W,SF6,SF6_FLAG_W,TCARBN,TCARBN_FLAG_W,ALKALI,ALKALI_FLAG_W,PH_TOT,PH_TOT_FLAG_W,PH_TMP,REFTMP,DELC13,DELC13_FLAG_W,DELC14,DELC14_FLAG_W,C14ERR,DELO18,DELO18_FLAG_W,POC,POC_FLAG_W,DOC,DOC_FLAG_W,TDN,TDN_FLAG_W,TON,TON_FLAG_W,D15N_NO3,D15N_NO3_FLAG_W,BTL_DATE,BTL_TIME,BTL_LAT,BTL_LON,14C-DOC,14C-DOC_FLAG_W,CHLORA,CHLORA_FLAG_W,HPLC,HPLC_FLAG_W,CDOM325,CDOM325_FLAG_W,CDOM340,CDOM340_FLAG_W,CDOM380,CDOM380_FLAG_W,CDOM412,CDOM412_FLAG_W,CDOM443,CDOM443_FLAG_W,CDOM490,CDOM490_FLAG_W,CDOM555,CDOM555_FLAG_W,CDOMSL,CDOMSL_FLAG_W,CDOMSN,CDOMSN_FLAG_W,D18O_NO3,D18O_NO3_FLAG_W,D15N_NO2+NO3,D15N_NO2+NO3_FLAG_W,D18O_NO2+NO3,D18O_NO2+NO3_FLAG_W
,,,,,,,,,,,METERS,DBAR,ITS-90,PSS-78,,PSS-78,,UMOL/KG,,UMOL/KG,,UMOL/KG,,UMOL/KG,,UMOL/KG,,UMOL/KG,,UMOL/KG,,PMOL/KG,,PMOL/KG,,PMOL/KG,,FMOL/KG,,UMOL/KG,,UMOL/KG,,,,DEG C,DEG C,/MILLE,,/MILLE,,/MILLE,/MILLE,,UG/KG,,UMOL/KG,,UMOL/KG,,UMOL/KG,,/MILLE,,,,,,/MILLE,,MG/M3,,,,1/M,,1/M,,1/M,,1/M,,1/M,,1/M,,1/M,,1/NM,,1/NM,,/MILLE,,/MILLE,,/MILLE,
33RR20160208,       I08S,      57,          1,          1,          1,2,20160305,       0801,   -41.7851,    95.0002,       3512,  3520.9,   1.3847,  34.7297,2,  34.7305,2,    203.8,2,   203.6,2,   107.8,2,    0.00,2,   31.34,2,    0.00,2,    2.19,2,   0.145,2,   0.075,2,   0.000,2,   0.028225937,2,  2259.7,6, 2363.58,2,   7.6132,2,    25.03,   1.3842, -999.00,9,  -999.0,9,  -999.0, -999.00,9,-999.000,9,  -999.0,9, -999.00,9,     -999.0,9, -999.00,9, 20160305,      801, -41.7851,  95.0002,     -999.0,9,     -999.0,9,     -999.0,9,   0.1172,2,   0.0790,2,   0.0423,2,   0.0253,2,   0.0142,2,   0.0046,2,   0.0008,2,     0.0175,2,     0.0192,2,     -999.0,9,     -999.0,9,     -999.0,9
33RR20160208,       I08S,      57,          1,          2,          2,2,20160305,       0801,   -41.7851,    95.0002,       3512,  3290.2,   1.4220,  34.7322,2,  34.7323,2,    202.4,2,   202.6,2,   105.8,2,    0.00,2,   31.20,2,    0.00,2,    2.16,2,-999.000,9,-999.000,9,-999.000,9,-999.000000000,9,  2256.6,2, 2362.18,6,   7.6133,6,    25.05,   1.4219, -999.00,9,  -999.0,9,  -999.0, -999.00,9,-999.000,9,  -999.0,9, -999.00,9,     -999.0,9, -999.00,9, 20160305,      807, -41.7851,  95.0002,     -999.0,9,     -999.0,9,     -999.0,9,-999.0000,9,-999.0000,9,-999.0000,9,-999.0000,9,-999.0000,9,-999.0000,9,-999.0000,9,     -999.0,9,     -999.0,9,     -999.0,9,     -999.0,9,     -999.0,9
33RR20160208,       I08S,      57,          1,          3,          3,3,20160305,       0801,   -41.7851,    95.0002,       3512,  3066.8,   1.5018,  34.7364,3,  34.7366,3,    201.7,3,   202.1,3,   102.3,3,    0.00,3,   30.98,3,    0.00,3,    2.15,3,   0.126,2,   0.069,2,   0.000,2,   0.039314697,2,  -999.0,9, -999.00,9,-999.0000,9,     9.00,   1.5017, -999.00,9,  -999.0,9,  -999.0, -999.00,9,-999.000,9,  -999.0,9, -999.00,9,     -999.0,9, -999.00,9, 20160305,      812, -41.7851,  95.0002,     -999.0,9,     -999.0,9,     -999.0,9,   0.1138,2,   0.0755,2,   0.0382,2,   0.0240,2,   0.0135,2,   0.0042,2,   0.0006,2,     0.0184,2,     0.0205,2,     -999.0,9,     -999.0,9,     -999.0,9
33RR20160208,       I08S,      57,          1,          4,          4,2,20160305,       0801,   -41.7851,    95.0002,       3512,  2863.4,   1.6780,  34.7438,2,  34.7440,2,    200.3,2,   200.8,2,    96.2,2,    0.00,2,   30.63,2,    0.00,2,    2.10,2,-999.000,9,-999.000,9,-999.000,9,-999.000000000,9,  -999.0,9, -999.00,9,-999.0000,9,  -999.00,   1.6783, -999.00,9,  -999.0,9,  -999.0, -999.00,9,-999.000,9,  -999.0,9, -999.00,9,     -999.0,9, -999.00,9, 20160305,      817, -41.7851,  95.0002,     -999.0,9,     -999.0,9,     -999.0,9,-999.0000,9,-999.0000,9,-999.0000,9,-999.0000,9,-999.0000,9,-999.0000,9,-999.0000,9,     -999.0,9,     -999.0,9,     -999.0,9,     -999.0,9,     -999.0,9
33RR20160208,       I08S,      57,          1,          5,          5,2,20160305,       0801,   -41.7851,    95.0002,       3512,  2665.9,   1.9317,  34.7508,2,  34.7511,2,    198.0,2,   199.0,2,    87.9,2,    0.00,2,   30.21,2,    0.00,2,    2.09,2,   0.103,2,   0.056,2,   0.000,2,   0.026209798,2,  2245.8,2, 2353.89,2,   7.6173,2,    25.05,   1.9317, -999.00,9,  -999.0,9,  -999.0, -999.00,9,-999.000,9,  -999.0,9, -999.00,9,     -999.0,9, -999.00,9, 20160305,      821, -41.7850,  95.0002,     -999.0,9,     -999.0,9,     -999.0,9,-999.0000,9,-999.0000,9,-999.0000,9,-999.0000,9,-999.0000,9,-999.0000,9,-999.0000,9,     -999.0,9,     -999.0,9,     -999.0,9,     -999.0,9,     -999.0,9
33RR20160208,       I08S,      57,          1,          6,         38,2,20160305,       0801,   -41.7851,    95.0002,       3512,  2467.6,   2.1458,  34.7473,2,  34.7480,2,    194.2,2,   194.1,2,    81.2,2,    0.00,2,   30.19,2,    0.00,2,    2.08,2,-999.000,9,-999.000,9,-999.000,9,-999.000000000,9,  -999.0,9, -999.00,9,-999.0000,9,     9.00,   2.1460, -999.00,9,  -999.0,9,  -999.0, -999.00,9,-999.000,9,  -999.0,9, -999.00,9,     -999.0,9, -999.00,9, 20160305,      825, -41.7850,  95.0002,     -999.0,9,     -999.0,9,     -999.0,9,-999.0000,9,-999.0000,9,-999.0000,9,-999.0000,9,-999.0000,9,-999.0000,9,-999.0000,9,     -999.0,9,     -999.0,9,     -999.0,9,     -999.0,9,     -999.0,9
33RR20160208,       I08S,      57,          1,          7,          7,2,20160305,       0801,   -41.7851,    95.0002,       3512,  2262.4,   2.3278,  34.7297,2,  34.7289,2,    189.2,2,   189.0,2,    77.1,2,    0.00,2,   30.65,2,    0.00,2,    2.11,2,   0.150,2,   0.078,2,   0.000,2,             0,2,  -999.0,9, -999.00,9,-999.0000,9,  -999.00,   2.3283, -999.00,9,  -999.0,9,  -999.0, -999.00,9,-999.000,9,  -999.0,9, -999.00,9,     -999.0,9, -999.00,9, 20160305,      830, -41.7850,  95.0002,     -999.0,9,     -999.0,9,     -999.0,9,-999.0000,9,-999.0000,9,-999.0000,9,-999.0000,9,-999.0000,9,-999.0000,9,-999.0000,9,     -999.0,9,     -999.0,9,     -999.0,9,     -999.0,9,     -999.0,9
33RR20160208,       I08S,      57,          1,          8,          8,2,20160305,       0801,   -41.7851,    95.0002,       3512,  2062.9,   2.4868,  34.7000,2,  34.7001,2,    184.8,2,   186.3,2,    72.6,2,    0.00,2,   31.19,2,    0.00,2,    2.16,2,-999.000,9,-999.000,9,-999.000,9,-999.000000000,9,  2245.1,2, 2341.66,2,   7.5938,6,    25.02,   2.4872, -999.00,9,  -999.0,9,  -999.0, -999.00,9,-999.000,9,  -999.0,9, -999.00,9,     -999.0,9, -999.00,9, 20160305,      834, -41.7851,  95.0002,     -999.0,9,     -999.0,9,     -999.0,9,   0.1126,2,   0.0764,2,   0.0440,2,   0.0242,2,   0.0132,2,   0.0039,2,   0.0004,3,     0.0164,2,     0.0178,2,     -999.0,9,     -999.0,9,     -999.0,9
33RR20160208,       I08S,      57,          1,          9,          9,2,20160305,       0801,   -41.7851,    95.0002,       3512,  1865.1,   2.6118,  34.6444,2,  34.6446,2,    177.4,2,   178.4,2,    71.0,2,    0.00,2,   32.48,2,    0.00,2,    2.24,2,   0.317,2,   0.167,2,   0.008,2,   0.073589049,2,  -999.0,9, -999.00,9,-999.0000,9,     9.00,   2.6118, -999.00,9,  -999.0,9,  -999.0, -999.00,9,-999.000,9,  -999.0,9, -999.00,9,     -999.0,9, -999.00,9, 20160305,      839, -41.7851,  95.0002,     -999.0,9,     -999.0,9,     -999.0,9,-999.0000,9,-999.0000,9,-999.0000,9,-999.0000,9,-999.0000,9,-999.0000,9,-999.0000,9,     -999.0,9,     -999.0,9,     -999.0,9,     -999.0,9,     -999.0,9
33RR20160208,       I08S,      57,          1,         10,         10,2,20160305,       0801,   -41.7851,    95.0002,       3512,  1734.2,   2.7195,  34.5956,2,  34.5951,2,    175.5,2,   175.2,2,    68.3,2,    0.00,2,   33.30,2,    0.00,2,    2.29,2,   0.464,2,   0.241,2,   0.017,2,   0.094758501,2,  2246.9,2, 2334.88,6,   7.5673,6,    25.01,   2.7193, -999.00,9,  -999.0,9,  -999.0, -999.00,9,-999.000,9,  -999.0,9, -999.00,9,     -999.0,9, -999.00,9, 20160305,      842, -41.7851,  95.0002,     -999.0,9,     -999.0,9,     -999.0,9,-999.0000,9,-999.0000,9,-999.0000,9,-999.0000,9,-999.0000,9,-999.0000,9,-999.0000,9,     -999.0,9,     -999.0,9,     -999.0,9,     -999.0,9,     -999.0,9
33RR20160208,       I08S,      57,          1,         11,         11,2,20160305,       0801,   -41.7851,    95.0002,       3512,  1633.6,   2.8275,  34.5471,2,  34.4359,4,    176.3,2,   175.7,2,    65.3,2,    0.00,2,   33.73,2,    0.00,2,    2.33,2,   0.659,2,   0.334,2,   0.030,2,   0.158266859,2,  2244.5,2, 2329.27,2,   7.5618,2,    25.01,   2.8270, -999.00,9,  -999.0,9,  -999.0, -999.00,9,-999.000,9,  -999.0,9, -999.00,9,     -999.0,9, -999.00,9, 20160305,      845, -41.7851,  95.0002,     -999.0,9,     -999.0,9,     -999.0,9,-999.0000,9,-999.0000,9,-999.0000,9,-999.0000,9,-999.0000,9,-999.0000,9,-999.0000,9,     -999.0,9,     -999.0,9,     -999.0,9,     -999.0,9,     -999.0,9
33RR20160208,       I08S,      57,          1,         12,         12,2,20160305,       0801,   -41.7851,    95.0002,       3512,  1534.2,   2.9041,  34.5014,2,  34.5010,2,    179.0,2,   177.9,2,    61.8,2,    0.00,2,   33.94,2,    0.00,2,    2.33,2,   0.917,2,   0.455,2,   0.052,2,   0.251009222,2,  2242.1,6, 2325.17,2,   7.5587,2,    25.03,   2.9038, -999.00,9,  -999.0,9,  -999.0, -999.00,9,-999.000,9,  -999.0,9, -999.00,9,     -999.0,9, -999.00,9, 20160305,      848, -41.7851,  95.0002,     -999.0,9,     -999.0,9,     -999.0,9,   0.1068,2,   0.0699,2,   0.0359,2,   0.0229,2,   0.0130,2,   0.0040,2,   0.0005,3,     0.0182,2,     0.0206,2,     -999.0,9,     -999.0,9,     -999.0,9
33RR20160208,       I08S,      57,          1,         13,         13,2,20160305,       0801,   -41.7851,    95.0002,       3512,  1435.8,   3.0736,  34.4349,2,  34.4355,2,    185.7,2,   184.6,2,    55.3,2,    0.00,2,   33.84,2,    0.00,2,    2.34,2,   1.326,2,   0.653,2,   0.082,2,   0.258065706,2,  2233.5,2, 2318.25,2,   7.5625,2,    25.02,   3.0713, -999.00,9,  -999.0,9,  -999.0, -999.00,9,-999.000,9,  -999.0,9, -999.00,9,     -999.0,9, -999.00,9, 20160305,      850, -41.7851,  95.0002,     -999.0,9,     -999.0,9,     -999.0,9,-999.0000,9,-999.0000,9,-999.0000,9,-999.0000,9,-999.0000,9,-999.0000,9,-999.0000,9,     -999.0,9,     -999.0,9,     -999.0,9,     -999.0,9,     -999.0,9
33RR20160208,       I08S,      57,          1,         14,         14,2,20160305,       0801,   -41.7851,    95.0002,       3512,  1335.8,   3.3555,  34.4000,2,  34.3999,2,    190.9,2,   189.6,2,    49.1,2,    0.00,2,   33.23,2,    0.00,2,    2.30,2,   1.558,2,   0.744,2,   0.096,2,   0.406251873,2,  2225.4,2, 2313.15,2,   7.5736,2,    25.02,   3.3558, -999.00,9,  -999.0,9,  -999.0, -999.00,9,-999.000,9,  -999.0,9, -999.00,9,     -999.0,9, -999.00,9, 20160305,      853, -41.7851,  95.0002,     -999.0,9,     -999.0,9,     -999.0,9,-999.0000,9,-999.0000,9,-999.0000,9,-999.0000,9,-999.0000,9,-999.0000,9,-999.0000,9,     -999.0,9,     -999.0,9,     -999.0,9,     -999.0,9,     -999.0,9
33RR20160208,       I08S,      57,          1,         15,         15,2,20160305,       0801,   -41.7851,    95.0002,       3512,  1234.7,   3.7353,  34.3719,2,  34.3709,2,    197.9,2,   196.3,2,    42.0,2,    0.00,2,   32.24,2,    0.00,2,    2.22,2,   1.809,2,   0.888,2,   0.107,2,    0.42238098,2,  -999.0,9, -999.00,9,-999.0000,9,     9.00,   3.7346, -999.00,9,  -999.0,9,  -999.0, -999.00,9,-999.000,9,  -999.0,9, -999.00,9,     -999.0,9, -999.00,9, 20160305,      856, -41.7851,  95.0002,     -999.0,9,     -999.0,9,     -999.0,9,-999.0000,9,-999.0000,9,-999.0000,9,-999.0000,9,-999.0000,9,-999.0000,9,-999.0000,9,     -999.0,9,     -999.0,9,     -999.0,9,     -999.0,9,     -999.0,9
33RR20160208,       I08S,      57,          1,         16,         16,2,20160305,       0801,   -41.7851,    95.0002,       3512,  1134.3,   4.1600,  34.3322,2,  34.3323,2,    206.6,2,   206.6,2,    33.2,2,    0.00,2,   30.96,2,    0.00,2,    2.13,2,   2.293,2,   1.141,2,   0.146,2,    0.53125245,2,  2201.7,2, 2302.93,2,   7.6066,2,    25.02,   4.1582, -999.00,9,  -999.0,9,  -999.0, -999.00,9,-999.000,9,  -999.0,9, -999.00,9,     -999.0,9, -999.00,9, 20160305,      859, -41.7851,  95.0002,     -999.0,9,     -999.0,9,     -999.0,9,-999.0000,9,-999.0000,9,-999.0000,9,-999.0000,9,-999.0000,9,-999.0000,9,-999.0000,9,     -999.0,9,     -999.0,9,     -999.0,9,     -999.0,9,     -999.0,9
33RR20160208,       I08S,      57,          1,         17,         17,2,20160305,       0801,   -41.7851,    95.0002,       3512,  1034.9,   4.9262,  34.3447,2,  34.3466,2,    206.5,2,   207.0,2,    26.0,2,    0.00,2,   29.52,2,    0.00,2,    2.01,2,   2.383,2,   1.168,2,   0.130,2,   0.647180403,2,  -999.0,9, -999.00,9,-999.0000,9,  -999.00,   4.9231, -999.00,9,  -999.0,9,  -999.0, -999.00,9,-999.000,9,  -999.0,9, -999.00,9,     -999.0,9, -999.00,9, 20160305,      902, -41.7851,  95.0002,     -999.0,9,     -999.0,9,     -999.0,9,   0.0881,2,   0.0562,2,   0.0297,2,   0.0179,2,   0.0099,2,   0.0027,2,   0.0000,4,     0.0181,2,     0.0207,2,     -999.0,9,     -999.0,9,     -999.0,9
33RR20160208,       I08S,      57,          1,         18,         37,2,20160305,       0801,   -41.7851,    95.0002,       3512,   934.9,   5.9367,  34.3840,2,  34.3842,2,    210.7,2,   209.2,2,    20.2,2,    0.00,2,   27.26,2,    0.00,2,    1.86,2,   2.711,2,   1.364,2,   0.143,2,   0.758068012,2,  2178.4,2, 2289.93,2,   7.6468,2,    25.01,   5.9326, -999.00,9,  -999.0,9,  -999.0, -999.00,9,-999.000,9,  -999.0,9, -999.00,9,     -999.0,9, -999.00,9, 20160305,      904, -41.7851,  95.0002,     -999.0,9,     -999.0,9,     -999.0,9,-999.0000,9,-999.0000,9,-999.0000,9,-999.0000,9,-999.0000,9,-999.0000,9,-999.0000,9,     -999.0,9,     -999.0,9,     -999.0,9,     -999.0,9,     -999.0,9
33RR20160208,       I08S,      57,          1,         19,         19,2,20160305,       0801,   -41.7851,    95.0002,       3512,   836.2,   7.1443,  34.4724,2,  34.4691,2,    208.7,2,   208.4,2,    15.0,2,    0.00,2,   24.62,2,    0.00,2,    1.68,2,   2.913,2,   1.483,2,   0.126,2,   0.871979827,2,  -999.0,9, -999.00,9,-999.0000,9,  -999.00,   7.1387, -999.00,9,  -999.0,9,  -999.0, -999.00,9,-999.000,9,  -999.0,9, -999.00,9,     -999.0,9, -999.00,9, 20160305,      907, -41.7851,  95.0002,     -999.0,9,     -999.0,9,     -999.0,9,-999.0000,9,-999.0000,9,-999.0000,9,-999.0000,9,-999.0000,9,-999.0000,9,-999.0000,9,     -999.0,9,     -999.0,9,     -999.0,9,     -999.0,9,     -999.0,9
33RR20160208,       I08S,      57,          1,         20,         20,2,20160305,       0801,   -41.7851,    95.0002,       3512,   736.1,   8.2977,  34.5691,2,  34.5683,2,    213.7,2,   215.4,2,    10.3,2,    0.00,2,   21.13,2,    0.00,2,    1.45,2,   3.001,2,   1.586,2,   0.120,2,   0.993956196,2,  2153.6,2, 2290.92,2,   7.7133,2,    25.00,   8.2960, -999.00,9,  -999.0,9,  -999.0, -999.00,9,-999.000,9,  -999.0,9, -999.00,9,     -999.0,9, -999.00,9, 20160305,      910, -41.7851,  95.0002,     -999.0,9,     -999.0,9,     -999.0,9,   0.0764,2,   0.0489,2,   0.0243,2,   0.0145,2,   0.0077,2,   0.0019,2,  -0.0003,4,     0.0192,2,     0.0218,2,     -999.0,9,     -999.0,9,     -999.0,9
33RR20160208,       I08S,      57,          1,         21,         21,2,20160305,       0801,   -41.7851,    95.0002,       3512,   634.2,   9.1530,  34.6488,2,  34.6491,2,    233.1,2,   232.6,2,     6.3,2,    0.00,2,   17.53,2,    0.00,2,    1.22,2,   3.247,2,   1.786,2,   0.143,2,    1.42238559,2,  -999.0,9, -999.00,9,-999.0000,9,     9.00,   9.1522, -999.00,9,  -999.0,9,  -999.0, -999.00,9,-999.000,9,  -999.0,9, -999.00,9,     -999.0,9, -999.00,9, 20160305,      913, -41.7851,  95.0002,     -999.0,9,     -999.0,9,     -999.0,9,-999.0000,9,-999.0000,9,-999.0000,9,-999.0000,9,-999.0000,9,-999.0000,9,-999.0000,9,     -999.0,9,     -999.0,9,     -999.0,9,     -999.0,9,     -999.0,9
33RR20160208,       I08S,      57,          1,         22,         22,2,20160305,       0801,   -41.7851,    95.0002,       3512,   535.3,   9.7964,  34.7278,2,  34.7266,2,    243.0,2,   242.6,2,     4.7,2,    0.00,2,   14.99,2,    0.00,2,    1.05,2,   3.247,2,   1.829,2,   0.153,2,    1.63105591,2,  2130.0,2, 2295.67,2,   7.7821,2,    25.01,   9.7994, -999.00,9,  -999.0,9,  -999.0, -999.00,9,-999.000,9,  -999.0,9, -999.00,9,     -999.0,9, -999.00,9, 20160305,      916, -41.7851,  95.0002,     -999.0,9,     -999.0,9,     -999.0,9,   0.0674,2,   0.0429,2,   0.0219,2,   0.0123,2,   0.0062,2,   0.0012,3,  -0.0005,4,     0.0190,2,     0.0217,2,     -999.0,9,     -999.0,9,     -999.0,9
33RR20160208,       I08S,      57,          1,         23,         23,2,20160305,       0801,   -41.7851,    95.0002,       3512,   466.8,  10.2863,  34.8045,2,  34.8028,2,    236.4,2,   237.5,2,     4.7,2,    0.00,2,   14.34,2,    0.00,2,    1.03,2,   3.165,2,   1.783,2,   0.138,2,    1.49799078,2,  -999.0,9, -999.00,9,-999.0000,9,  -999.00,  10.2856, -999.00,9,  -999.0,9,  -999.0, -999.00,9,-999.000,9,  -999.0,9, -999.00,9,     -999.0,9, -999.00,9, 20160305,      918, -41.7851,  95.0002,     -999.0,9,     -999.0,9,     -999.0,9,-999.0000,9,-999.0000,9,-999.0000,9,-999.0000,9,-999.0000,9,-999.0000,9,-999.0000,9,     -999.0,9,     -999.0,9,     -999.0,9,     -999.0,9,     -999.0,9
33RR20160208,       I08S,      57,          1,         24,         24,2,20160305,       0801,   -41.7851,    95.0002,       3512,   415.4,  10.4998,  34.8332,2,  34.8312,2,    237.1,2,   249.1,2,     3.7,2,    0.00,2,   12.48,2,    0.00,2,    0.91,2,-999.000,9,-999.000,9,-999.000,9,-999.000000000,9,  2122.0,2, 2301.68,2,   7.8071,6,    25.02,  10.5024, -999.00,9,  -999.0,9,  -999.0, -999.00,9,-999.000,9,  -999.0,9, -999.00,9,     -999.0,9, -999.00,9, 20160305,      920, -41.7851,  95.0002,     -999.0,9,     -999.0,9,     -999.0,9,-999.0000,9,-999.0000,9,-999.0000,9,-999.0000,9,-999.0000,9,-999.0000,9,-999.0000,9,     -999.0,9,     -999.0,9,     -999.0,9,     -999.0,9,     -999.0,9
33RR20160208,       I08S,      57,          1,         25,         25,2,20160305,       0801,   -41.7851,    95.0002,       3512,   366.4,  10.8270,  34.8894,2,  34.8860,2,    240.2,2,   241.6,2,     4.2,2,    0.00,2,   12.65,2,    0.00,2,    0.92,2,   3.106,2,   1.763,2,   0.152,2,    1.74597579,2,  -999.0,9, -999.00,9,-999.0000,9,  -999.00,  10.8257, -999.00,9,  -999.0,9,  -999.0, -999.00,9,-999.000,9,  -999.0,9, -999.00,9,     -999.0,9, -999.00,9, 20160305,      922, -41.7851,  95.0002,     -999.0,9,     -999.0,9,     -999.0,9,   0.0673,2,   0.0423,2,   0.0195,2,   0.0118,2,   0.0059,2,   0.0012,3,  -0.0004,4,     0.0207,2,     0.0239,2,     -999.0,9,     -999.0,9,     -999.0,9
33RR20160208,       I08S,      57,          1,         26,         26,2,20160305,       0801,   -41.7851,    95.0002,       3512,   315.1,  11.0219,  34.9196,2,  34.9179,2,    247.9,2,   246.6,2,     3.9,2,    0.00,2,   11.68,2,    0.00,2,    0.86,2,-999.000,9,-999.000,9,-999.000,9,-999.000000000,9,  2120.5,2, 2304.65,2,   7.8182,2,    25.01,  11.0220, -999.00,9,  -999.0,9,  -999.0, -999.00,9,-999.000,9,  -999.0,9, -999.00,9,     -999.0,9, -999.00,9, 20160305,      924, -41.7851,  95.0002,     -999.0,9,     -999.0,9,     -999.0,9,-999.0000,9,-999.0000,9,-999.0000,9,-999.0000,9,-999.0000,9,-999.0000,9,-999.0000,9,     -999.0,9,     -999.0,9,     -999.0,9,     -999.0,9,     -999.0,9
33RR20160208,       I08S,      57,          1,         27,         27,2,20160305,       0801,   -41.7851,    95.0002,       3512,   265.0,  10.9727,  34.8894,2,  34.8905,2,    253.4,2,   255.1,2,     3.0,2,    0.00,2,   10.57,2,    0.00,2,    0.79,2,   3.124,2,   1.778,2,   0.215,2,    1.73387896,2,  -999.0,9, -999.00,9,-999.0000,9,     9.00,  10.9739, -999.00,9,  -999.0,9,  -999.0, -999.00,9,-999.000,9,  -999.0,9, -999.00,9,     -999.0,9, -999.00,9, 20160305,      926, -41.7851,  95.0002,     -999.0,9,     -999.0,9,     -999.0,9,   0.0707,2,   0.0460,2,   0.0232,2,   0.0129,2,   0.0065,2,   0.0015,2,  -0.0003,4,     0.0190,2,     0.0213,2,     -999.0,9,     -999.0,9,     -999.0,9