BOTTLE,20220706CCHSIOAMB
EXPOCODE,SECT_ID,STNNBR,CASTNO,SAMPNO,BTLNBR,BTLNBR_FLAG_W,DATE,TIME,LATITUDE,LONGITUDE,DEPTH,CTDPRS,CTDTMP,CTDSAL,CTDSAL_FLAG_W,SALNTY,SALNTY_FLAG_W,CTDOXY,CTDOXY_FLAG_W,OXYGEN,OXYGEN_FLAG_W,SILCAT,SILCAT_FLAG_W,NH4,NH4_FLAG_W,NITRAT,NITRAT_FLAG_W,NITRIT,NITRIT_FLAG_W,PHSPHT,PHSPHT_FLAG_W,CFC-11,CFC-11_FLAG_W,CFC-12,CFC-12_FLAG_W,CFC113,CFC113_FLAG_W,SF6,SF6_FLAG_W,TCARBN,TCARBN_FLAG_W,ALKALI,ALKALI_FLAG_W,PH_TOT,PH_TOT_FLAG_W,PH_TMP,REFTMP,DELC13,DELC13_FLAG_W,DELC14,DELC14_FLAG_W,C14ERR,DELO18,DELO18_FLAG_W,POC,POC_FLAG_W,DOC,DOC_FLAG_W,TDN,TDN_FLAG_W,TON,TON_FLAG_W,D15N_NO3,D15N_NO3_FLAG_W,BTL_DATE,BTL_TIME,BTL_LAT,BTL_LON,14C-DOC,14C-DOC_FLAG_W,CHLORA,CHLORA_FLAG_W,HPLC,HPLC_FLAG_W,CDOM325,CDOM325_FLAG_W,CDOM340,CDOM340_FLAG_W,CDOM380,CDOM380_FLAG_W,CDOM412,CDOM412_FLAG_W,CDOM443,CDOM443_FLAG_W,CDOM490,CDOM490_FLAG_W,CDOM555,CDOM555_FLAG_W,CDOMSL,CDOMSL_FLAG_W,CDOMSN,CDOMSN_FLAG_W,D18O_NO3,D18O_NO3_FLAG_W,D15N_NO2+NO3,D15N_NO2+NO3_FLAG_W,D18O_NO2+NO3,D18O_NO2+NO3_FLAG_W
,,,,,,,,,,,METERS,DBAR,ITS-90,PSS-78,,PSS-78,,UMOL/KG,,UMOL/KG,,UMOL/KG,,UMOL/KG,,UMOL/KG,,UMOL/KG,,UMOL/KG,,PMOL/KG,,PMOL/KG,,PMOL/KG,,FMOL/KG,,UMOL/KG,,UMOL/KG,,,,DEG C,DEG C,/MILLE,,/MILLE,,/MILLE,/MILLE,,UG/KG,,UMOL/KG,,UMOL/KG,,UMOL/KG,,/MILLE,,,,,,/MILLE,,MG/M3,,,,1/M,,1/M,,1/M,,1/M,,1/M,,1/M,,1/M,,1/NM,,1/NM,,/MILLE,,/MILLE,,/MILLE,
33RR20160208,       I08S,      11,          1,         28,         28,2,20160221,       1351,   -63.5350,    82.0005,       3450,   200.2,   1.9752,  34.5980,2,  34.5998,2,    168.4,2,   167.7,2,    81.1,2,   -0.03,2,   34.95,2,    0.02,2,    2.42,2,   0.805,2,   0.430,2,   0.061,2,         0.597,2,  2265.8,2, 2335.65,2,   7.5224,2,    24.99,   1.9755, -999.00,9,  -999.0,9,  -999.0, -999.00,1,-999.000,9,  -999.0,9, -999.00,9,     -999.0,9, -999.00,9, 20160221,     1522, -63.5351,  82.0006,     -999.0,9,     -999.0,9,     -999.0,9,-999.0000,9,-999.0000,9,-999.0000,9,-999.0000,9,-999.0000,9,-999.0000,9,-999.0000,9,     -999.0,9,     -999.0,9,     -999.0,9,     -999.0,9,     -999.0,9
33RR20160208,       I08S,      11,          1,         29,         29,2,20160221,       1351,   -63.5350,    82.0005,       3450,   149.6,   1.8658,  34.5499,2,  34.5525,2,    169.4,2,   170.1,2,    79.1,2,   -0.03,2,   35.54,2,    0.04,2,    2.49,2,-999.000,9,-999.000,9,-999.000,9,-999.000000000,9,  2266.9,2, 2331.07,2,   7.5119,2,    24.98,   1.8645, -999.00,9,  -999.0,9,  -999.0, -999.00,1,-999.000,9,  -999.0,9, -999.00,9,     -999.0,9, -999.00,9, 20160221,     1524, -63.5351,  82.0006,     -999.0,9,     -999.0,9,     -999.0,9,-999.0000,9,-999.0000,9,-999.0000,9,-999.0000,9,-999.0000,9,-999.0000,9,-999.0000,9,     -999.0,9,     -999.0,9,     -999.0,9,     -999.0,9,     -999.0,9
33RR20160208,       I08S,      11,          1,         30,         30,2,20160221,       1351,   -63.5350,    82.0005,       3450,   125.9,   1.7917,  34.5172,2,  34.5178,2,    173.2,2,   173.3,2,    77.2,2,   -0.02,2,   35.67,2,    0.10,2,    2.49,2,-999.000,9,-999.000,9,-999.000,9,-999.000000000,9,  -999.0,9, -999.00,9,-999.0000,9,     9.00,   1.7924, -999.00,9,  -999.0,9,  -999.0, -999.00,1,-999.000,9,  -999.0,9, -999.00,9,     -999.0,9, -999.00,9, 20160221,     1525, -63.5351,  82.0006,     -999.0,9,     -999.0,9,     -999.0,9,-999.0000,9,-999.0000,9,-999.0000,9,-999.0000,9,-999.0000,9,-999.0000,9,-999.0000,9,     -999.0,9,     -999.0,9,     -999.0,9,     -999.0,9,     -999.0,9
33RR20160208,       I08S,      11,          1,         31,         31,2,20160221,       1351,   -63.5350,    82.0005,       3450,   100.5,   1.7287,  34.4835,2,  34.4849,2,    177.7,2,   176.4,2,    74.7,2,    0.03,2,   35.66,2,    0.20,2,    2.53,2,   1.457,2,   0.772,2,   0.122,2,         0.743,2,  2262.4,2, 2324.74,2,   7.5073,2,    24.97,   1.7283, -999.00,9,  -999.0,9,  -999.0, -999.00,1,-999.000,9,  -999.0,9, -999.00,9,     -999.0,9, -999.00,9, 20160221,     1527, -63.5350,  82.0006,     -999.0,9,     -999.0,9,     -999.0,9,-999.0000,9,-999.0000,9,-999.0000,9,-999.0000,9,-999.0000,9,-999.0000,9,-999.0000,9,     -999.0,9,     -999.0,9,     -999.0,9,     -999.0,9,     -999.0,9
33RR20160208,       I08S,      11,          1,         32,         32,2,20160221,       1351,   -63.5350,    82.0005,       3450,    75.1,   0.3609,  34.2680,2,  34.2643,2,    231.8,2,   234.2,2,    60.6,2,    0.37,2,   32.70,2,    0.13,2,    2.34,2,-999.000,9,-999.000,9,-999.000,9,-999.000000000,9,  2235.1,2, 2312.90,2,   7.5554,2,    24.98,   0.3609, -999.00,9,  -999.0,9,  -999.0, -999.00,1,-999.000,9,  -999.0,9, -999.00,9,     -999.0,9, -999.00,9, 20160221,     1529, -63.5351,  82.0006,     -999.0,9,     -999.0,9,     -999.0,9,-999.0000,9,-999.0000,9,-999.0000,9,-999.0000,9,-999.0000,9,-999.0000,9,-999.0000,9,     -999.0,9,     -999.0,9,     -999.0,9,     -999.0,9,     -999.0,9
33RR20160208,       I08S,      11,          1,         34,         34,2,20160221,       1351,   -63.5350,    82.0005,       3450,    61.0,  -0.1805,  33.9395,2,  33.9328,2,    322.2,2,  -999.0,9,    37.5,2,    0.27,2,   27.65,2,    0.21,2,    1.89,2,-999.000,9,-999.000,9,-999.000,9,-999.000000000,9,  -999.0,9, -999.00,9,-999.0000,9,     9.00,  -0.1011, -999.00,9,  -999.0,9,  -999.0, -999.00,9,-999.000,1,  -999.0,9, -999.00,9,     -999.0,9, -999.00,9, 20160221,     1531, -63.5351,  82.0006,     -999.0,9,     -999.0,9,     -999.0,1,-999.0000,9,-999.0000,9,-999.0000,9,-999.0000,9,-999.0000,9,-999.0000,9,-999.0000,9,     -999.0,9,     -999.0,9,     -999.0,9,     -999.0,9,     -999.0,9
33RR20160208,       I08S,      11,          1,         33,         33,2,20160221,       1351,   -63.5350,    82.0005,       3450,    60.6,  -0.3357,  33.9620,2,  33.9396,2,    322.2,2,   321.7,2,    38.0,2,    0.28,2,   27.76,2,    0.21,2,    1.93,2,   4.764,2,   2.557,2,   0.462,2,         2.686,2,  2186.1,2, 2295.49,6,   7.6507,2,    24.98,  -0.4279, -999.00,9,  -999.0,9,  -999.0, -999.00,1,-999.000,9,  -999.0,9, -999.00,9,     -999.0,9, -999.00,9, 20160221,     1530, -63.5351,  82.0006,     -999.0,9,     -999.0,9,     -999.0,9,-999.0000,9,-999.0000,9,-999.0000,9,-999.0000,9,-999.0000,9,-999.0000,9,-999.0000,9,     -999.0,9,     -999.0,9,     -999.0,9,     -999.0,9,     -999.0,9
33RR20160208,       I08S,      11,          1,         35,         35,2,20160221,       1351,   -63.5350,    82.0005,       3450,    25.3,   1.2877,  33.7665,2,  33.7688,2,    340.3,2,   341.6,2,    23.5,2,    0.00,2,   24.12,2,    0.26,2,    1.50,2,   5.342,2,   2.850,2,   0.524,2,         2.817,2,  2154.0,2, 2287.15,2,   7.7174,6,    24.98,   1.2856, -999.00,9,  -999.0,9,  -999.0, -999.00,1,-999.000,9,  -999.0,9, -999.00,9,     -999.0,9, -999.00,9, 20160221,     1533, -63.5350,  82.0005,     -999.0,9,     -999.0,9,     -999.0,9,-999.0000,9,-999.0000,9,-999.0000,9,-999.0000,9,-999.0000,9,-999.0000,9,-999.0000,9,     -999.0,9,     -999.0,9,     -999.0,9,     -999.0,9,     -999.0,9
33RR20160208,       I08S,      11,          1,         36,         36,2,20160221,       1351,   -63.5350,    82.0005,       3450,     5.0,   1.3048,  33.7590,2,  33.7637,2,    341.8,2,   341.6,2,    23.1,2,    0.00,2,   23.88,2,    0.26,2,    1.51,2,   5.302,2,   2.835,2,   0.527,2,         2.787,2,  2150.3,2, 2286.67,2,   7.7234,2,    25.00,   1.3031, -999.00,9,  -999.0,9,  -999.0, -999.00,1,-999.000,1,  -999.0,9, -999.00,9,     -999.0,9, -999.00,9, 20160221,     1535, -63.5351,  82.0006,     -999.0,9,     -999.0,9,     -999.0,1,-999.0000,9,-999.0000,9,-999.0000,9,-999.0000,9,-999.0000,9,-999.0000,9,-999.0000,9,     -999.0,9,     -999.0,9,     -999.0,9,     -999.0,9,     -999.0,9