BOTTLE,20220706CCHSIOAMB
EXPOCODE,SECT_ID,STNNBR,CASTNO,SAMPNO,BTLNBR,BTLNBR_FLAG_W,DATE,TIME,LATITUDE,LONGITUDE,DEPTH,CTDPRS,CTDTMP,CTDSAL,CTDSAL_FLAG_W,SALNTY,SALNTY_FLAG_W,CTDOXY,CTDOXY_FLAG_W,OXYGEN,OXYGEN_FLAG_W,SILCAT,SILCAT_FLAG_W,NH4,NH4_FLAG_W,NITRAT,NITRAT_FLAG_W,NITRIT,NITRIT_FLAG_W,PHSPHT,PHSPHT_FLAG_W,CFC-11,CFC-11_FLAG_W,CFC-12,CFC-12_FLAG_W,CFC113,CFC113_FLAG_W,SF6,SF6_FLAG_W,TCARBN,TCARBN_FLAG_W,ALKALI,ALKALI_FLAG_W,PH_TOT,PH_TOT_FLAG_W,PH_TMP,REFTMP,DELC13,DELC13_FLAG_W,DELC14,DELC14_FLAG_W,C14ERR,DELO18,DELO18_FLAG_W,POC,POC_FLAG_W,DOC,DOC_FLAG_W,TDN,TDN_FLAG_W,TON,TON_FLAG_W,D15N_NO3,D15N_NO3_FLAG_W,BTL_DATE,BTL_TIME,BTL_LAT,BTL_LON,14C-DOC,14C-DOC_FLAG_W,CHLORA,CHLORA_FLAG_W,HPLC,HPLC_FLAG_W,CDOM325,CDOM325_FLAG_W,CDOM340,CDOM340_FLAG_W,CDOM380,CDOM380_FLAG_W,CDOM412,CDOM412_FLAG_W,CDOM443,CDOM443_FLAG_W,CDOM490,CDOM490_FLAG_W,CDOM555,CDOM555_FLAG_W,CDOMSL,CDOMSL_FLAG_W,CDOMSN,CDOMSN_FLAG_W,D18O_NO3,D18O_NO3_FLAG_W,D15N_NO2+NO3,D15N_NO2+NO3_FLAG_W,D18O_NO2+NO3,D18O_NO2+NO3_FLAG_W
,,,,,,,,,,,METERS,DBAR,ITS-90,PSS-78,,PSS-78,,UMOL/KG,,UMOL/KG,,UMOL/KG,,UMOL/KG,,UMOL/KG,,UMOL/KG,,UMOL/KG,,PMOL/KG,,PMOL/KG,,PMOL/KG,,FMOL/KG,,UMOL/KG,,UMOL/KG,,,,DEG C,DEG C,/MILLE,,/MILLE,,/MILLE,/MILLE,,UG/KG,,UMOL/KG,,UMOL/KG,,UMOL/KG,,/MILLE,,,,,,/MILLE,,MG/M3,,,,1/M,,1/M,,1/M,,1/M,,1/M,,1/M,,1/M,,1/NM,,1/NM,,/MILLE,,/MILLE,,/MILLE,
33RR20160208,       I08S,      39,          1,          1,          1,2,20160229,       1357,   -51.5350,    88.8849,       4081,  4096.8,   0.3200,  34.6771,2,  34.6778,2,    223.3,2,   223.8,2,   127.0,2,    0.00,2,   32.42,2,    0.00,2,    2.26,2,   0.854,2,   0.407,2,   0.044,2,   0.172831137,2,  2258.8,2, 2358.36,2,   7.5924,2,    25.01,   0.3199, -999.00,9,  -999.0,9,  -999.0, -999.00,9,-999.000,9,  -999.0,9, -999.00,9,     -999.0,9, -999.00,9, 20160229,     1357, -51.5350,  88.8849,     -999.0,9,     -999.0,9,     -999.0,9,-999.0000,9,-999.0000,9,-999.0000,9,-999.0000,9,-999.0000,9,-999.0000,9,-999.0000,9,     -999.0,9,     -999.0,9,     -999.0,9,     -999.0,9,     -999.0,9
33RR20160208,       I08S,      39,          1,          2,          2,2,20160229,       1357,   -51.5350,    88.8849,       4081,  3847.5,   0.4638,  34.6852,2,  34.6854,2,    218.2,2,   220.6,2,   125.0,2,    0.00,2,   32.33,2,    0.00,2,    2.24,2,   0.613,2,   0.322,2,   0.033,2,    0.16474547,2,  2258.0,2, 2357.91,2,   7.5949,6,    25.02,   0.4642, -999.00,9,  -999.0,9,  -999.0, -999.00,9,-999.000,9,  -999.0,9, -999.00,9,     -999.0,9, -999.00,9, 20160229,     1403, -51.5352,  88.8849,     -999.0,9,     -999.0,9,     -999.0,9,-999.0000,9,-999.0000,9,-999.0000,9,-999.0000,9,-999.0000,9,-999.0000,9,-999.0000,9,     -999.0,9,     -999.0,9,     -999.0,9,     -999.0,9,     -999.0,9
33RR20160208,       I08S,      39,          1,          3,          3,3,20160229,       1357,   -51.5350,    88.8849,       4081,  3582.4,   0.6069,  34.6934,3,  34.6935,3,    215.2,3,   215.5,3,   122.6,3,    0.00,3,   32.14,3,    0.00,3,    2.24,3,   0.503,2,   0.267,2,   0.024,2,   0.127349259,2,  -999.0,9, -999.00,9,-999.0000,9,  -999.00,   0.6070, -999.00,9,  -999.0,9,  -999.0, -999.00,9,-999.000,9,  -999.0,9, -999.00,9,     -999.0,9, -999.00,9, 20160229,     1409, -51.5350,  88.8849,     -999.0,9,     -999.0,9,     -999.0,9,-999.0000,9,-999.0000,9,-999.0000,9,-999.0000,9,-999.0000,9,-999.0000,9,-999.0000,9,     -999.0,9,     -999.0,9,     -999.0,9,     -999.0,9,     -999.0,9
33RR20160208,       I08S,      39,          1,          4,          4,2,20160229,       1357,   -51.5350,    88.8849,       4081,  3334.8,   0.7941,  34.7036,2,  34.7039,2,    212.4,2,   212.0,2,   118.5,2,    0.00,2,   31.92,2,    0.00,2,    2.21,2,   0.383,2,   0.201,2,   0.014,2,   0.089953048,2,  -999.0,9, -999.00,9,-999.0000,9,  -999.00,   0.7942, -999.00,9,  -999.0,9,  -999.0, -999.00,9,-999.000,9,  -999.0,9, -999.00,9,     -999.0,9, -999.00,9, 20160229,     1414, -51.5350,  88.8849,     -999.0,9,     -999.0,9,     -999.0,9,-999.0000,9,-999.0000,9,-999.0000,9,-999.0000,9,-999.0000,9,-999.0000,9,-999.0000,9,     -999.0,9,     -999.0,9,     -999.0,9,     -999.0,9,     -999.0,9
33RR20160208,       I08S,      39,          1,          5,          5,2,20160229,       1357,   -51.5350,    88.8849,       4081,  3087.7,   1.0055,  34.7148,2,  34.7139,2,    208.7,2,   209.1,2,   112.9,2,    0.00,2,   31.62,2,    0.04,2,    2.18,2,   0.261,2,   0.138,2,   0.005,2,   0.026278418,2,  -999.0,9, -999.00,9,-999.0000,9,     9.00,   1.0057, -999.00,9,  -999.0,9,  -999.0, -999.00,9,-999.000,9,  -999.0,9, -999.00,9,     -999.0,9, -999.00,9, 20160229,     1420, -51.5350,  88.8849,     -999.0,9,     -999.0,9,     -999.0,9,-999.0000,9,-999.0000,9,-999.0000,9,-999.0000,9,-999.0000,9,-999.0000,9,-999.0000,9,     -999.0,9,     -999.0,9,     -999.0,9,     -999.0,9,     -999.0,9
33RR20160208,       I08S,      39,          1,          6,         38,2,20160229,       1357,   -51.5350,    88.8849,       4081,  2838.3,   1.1891,  34.7250,2,  34.7262,2,    206.5,2,   206.1,2,   107.4,2,    0.00,2,   31.32,2,    0.00,2,    2.18,2,   0.205,2,   0.111,2,   0.002,2,   0.058621087,2,  -999.0,9, -999.00,9,-999.0000,9,  -999.00,   1.1885, -999.00,9,  -999.0,9,  -999.0, -999.00,9,-999.000,9,  -999.0,9, -999.00,9,     -999.0,9, -999.00,9, 20160229,     1425, -51.5350,  88.8848,     -999.0,9,     -999.0,9,     -999.0,9,-999.0000,9,-999.0000,9,-999.0000,9,-999.0000,9,-999.0000,9,-999.0000,9,-999.0000,9,     -999.0,9,     -999.0,9,     -999.0,9,     -999.0,9,     -999.0,9
33RR20160208,       I08S,      39,          1,          7,          7,2,20160229,       1357,   -51.5350,    88.8849,       4081,  2585.8,   1.4005,  34.7357,2,  34.7370,2,    204.4,2,   204.5,2,   100.6,2,    0.00,2,   30.91,2,    0.00,2,    2.14,2,   0.172,2,   0.094,2,   0.001,2,   0.012128501,2,  -999.0,9, -999.00,9,-999.0000,9,  -999.00,   1.4001, -999.00,9,  -999.0,9,  -999.0, -999.00,9,-999.000,9,  -999.0,9, -999.00,9,     -999.0,9, -999.00,9, 20160229,     1431, -51.5350,  88.8849,     -999.0,9,     -999.0,9,     -999.0,9,-999.0000,9,-999.0000,9,-999.0000,9,-999.0000,9,-999.0000,9,-999.0000,9,-999.0000,9,     -999.0,9,     -999.0,9,     -999.0,9,     -999.0,9,     -999.0,9
33RR20160208,       I08S,      39,          1,          8,          8,2,20160229,       1357,   -51.5350,    88.8849,       4081,  2336.5,   1.6191,  34.7448,2,  34.7456,2,    202.6,2,   201.9,2,    93.3,2,    0.00,2,   30.46,2,    0.00,2,    2.10,2,   0.174,2,   0.095,2,   0.001,2,   0.014149918,2,  2248.7,2, 2355.93,6,   7.6147,2,    25.01,   1.6182, -999.00,9,  -999.0,9,  -999.0, -999.00,9,-999.000,9,  -999.0,9, -999.00,9,     -999.0,9, -999.00,9, 20160229,     1436, -51.5350,  88.8849,     -999.0,9,     -999.0,9,     -999.0,9,-999.0000,9,-999.0000,9,-999.0000,9,-999.0000,9,-999.0000,9,-999.0000,9,-999.0000,9,     -999.0,9,     -999.0,9,     -999.0,9,     -999.0,9,     -999.0,9
33RR20160208,       I08S,      39,          1,          9,          9,2,20160229,       1357,   -51.5350,    88.8849,       4081,  2088.7,   1.8691,  34.7543,2,  34.7555,2,    200.3,2,   200.7,2,    86.9,2,    0.00,2,   30.02,2,    0.00,2,    2.09,2,   0.123,2,   0.070,2,   0.000,2,    0.00606425,2,  2245.5,2, 2354.02,2,   7.6211,2,    25.01,   1.8687, -999.00,9,  -999.0,9,  -999.0, -999.00,9,-999.000,9,  -999.0,9, -999.00,9,     -999.0,9, -999.00,9, 20160229,     1442, -51.5350,  88.8848,     -999.0,9,     -999.0,9,     -999.0,9,-999.0000,9,-999.0000,9,-999.0000,9,-999.0000,9,-999.0000,9,-999.0000,9,-999.0000,9,     -999.0,9,     -999.0,9,     -999.0,9,     -999.0,9,     -999.0,9
33RR20160208,       I08S,      39,          1,         10,         10,2,20160229,       1357,   -51.5350,    88.8849,       4081,  1864.9,   2.0633,  34.7557,2,  34.7566,2,    198.4,2,   199.2,2,    81.0,2,    0.00,2,   29.79,2,    0.00,2,    2.06,2,   0.129,2,   0.068,2,   0.000,2,   0.002021417,2,  2242.8,2, 2351.30,2,   7.6211,6,    25.00,   2.0635, -999.00,9,  -999.0,9,  -999.0, -999.00,9,-999.000,9,  -999.0,9, -999.00,9,     -999.0,9, -999.00,9, 20160229,     1447, -51.5349,  88.8849,     -999.0,9,     -999.0,9,     -999.0,9,-999.0000,9,-999.0000,9,-999.0000,9,-999.0000,9,-999.0000,9,-999.0000,9,-999.0000,9,     -999.0,9,     -999.0,9,     -999.0,9,     -999.0,9,     -999.0,9
33RR20160208,       I08S,      39,          1,         11,         11,2,20160229,       1357,   -51.5350,    88.8849,       4081,  1737.2,   2.1663,  34.7510,2,  34.7527,2,    196.1,2,   196.5,2,    77.7,2,    0.00,2,   29.85,2,    0.00,2,    2.07,2,   0.132,2,   0.076,2,   0.000,2,   0.024257002,2,  -999.0,9, -999.00,9,-999.0000,9,     9.00,   2.1688, -999.00,9,  -999.0,9,  -999.0, -999.00,9,-999.000,9,  -999.0,9, -999.00,9,     -999.0,9, -999.00,9, 20160229,     1450, -51.5350,  88.8848,     -999.0,9,     -999.0,9,     -999.0,9,-999.0000,9,-999.0000,9,-999.0000,9,-999.0000,9,-999.0000,9,-999.0000,9,-999.0000,9,     -999.0,9,     -999.0,9,     -999.0,9,     -999.0,9,     -999.0,9
33RR20160208,       I08S,      39,          1,         12,         12,2,20160229,       1357,   -51.5350,    88.8849,       4081,  1634.5,   2.2233,  34.7438,2,  34.7454,2,    194.4,2,   194.7,2,    77.0,2,    0.00,2,   30.03,2,    0.00,2,    2.07,2,   0.149,2,   0.085,2,   0.000,2,   0.018192751,2,  -999.0,9, -999.00,9,-999.0000,9,  -999.00,   2.2234, -999.00,9,  -999.0,9,  -999.0, -999.00,9,-999.000,9,  -999.0,9, -999.00,9,     -999.0,9, -999.00,9, 20160229,     1453, -51.5350,  88.8848,     -999.0,9,     -999.0,9,     -999.0,9,-999.0000,9,-999.0000,9,-999.0000,9,-999.0000,9,-999.0000,9,-999.0000,9,-999.0000,9,     -999.0,9,     -999.0,9,     -999.0,9,     -999.0,9,     -999.0,9
33RR20160208,       I08S,      39,          1,         13,         13,2,20160229,       1357,   -51.5350,    88.8849,       4081,  1534.8,   2.2960,  34.7340,2,  34.7350,2,    192.0,2,   191.9,2,    74.4,2,    0.00,2,   30.35,2,    0.00,2,    2.09,2,   0.173,2,   0.098,2,   0.000,2,   0.026278418,2,  -999.0,9, -999.00,9,-999.0000,9,  -999.00,   2.2964, -999.00,9,  -999.0,9,  -999.0, -999.00,9,-999.000,9,  -999.0,9, -999.00,9,     -999.0,9, -999.00,9, 20160229,     1456, -51.5350,  88.8848,     -999.0,9,     -999.0,9,     -999.0,9,-999.0000,9,-999.0000,9,-999.0000,9,-999.0000,9,-999.0000,9,-999.0000,9,-999.0000,9,     -999.0,9,     -999.0,9,     -999.0,9,     -999.0,9,     -999.0,9
33RR20160208,       I08S,      39,          1,         14,         14,2,20160229,       1357,   -51.5350,    88.8849,       4081,  1430.2,   2.3416,  34.7143,2,  34.7152,2,    187.8,2,   188.2,2,    74.7,2,    0.00,2,   30.94,2,    0.00,2,    2.14,2,   0.241,2,   0.129,2,   0.005,2,   0.027289127,2,  -999.0,9, -999.00,9,-999.0000,9,     9.00,   2.3416, -999.00,9,  -999.0,9,  -999.0, -999.00,9,-999.000,9,  -999.0,9, -999.00,9,     -999.0,9, -999.00,9, 20160229,     1459, -51.5350,  88.8849,     -999.0,9,     -999.0,9,     -999.0,9,-999.0000,9,-999.0000,9,-999.0000,9,-999.0000,9,-999.0000,9,-999.0000,9,-999.0000,9,     -999.0,9,     -999.0,9,     -999.0,9,     -999.0,9,     -999.0,9
33RR20160208,       I08S,      39,          1,         15,         15,2,20160229,       1357,   -51.5350,    88.8849,       4081,  1333.8,   2.3550,  34.6920,2,  34.6938,2,    182.6,2,   184.8,2,    74.0,2,    0.00,2,   31.64,2,    0.00,2,    2.18,2,   0.303,2,   0.163,2,   0.010,2,   0.103092257,2,  2246.9,2, 2341.99,2,   7.5864,6,    25.00,   2.3551, -999.00,9,  -999.0,9,  -999.0, -999.00,9,-999.000,9,  -999.0,9, -999.00,9,     -999.0,9, -999.00,9, 20160229,     1502, -51.5350,  88.8848,     -999.0,9,     -999.0,9,     -999.0,9,-999.0000,9,-999.0000,9,-999.0000,9,-999.0000,9,-999.0000,9,-999.0000,9,-999.0000,9,     -999.0,9,     -999.0,9,     -999.0,9,     -999.0,9,     -999.0,9
33RR20160208,       I08S,      39,          1,         16,         16,2,20160229,       1357,   -51.5350,    88.8849,       4081,  1233.0,   2.3701,  34.6535,2,  34.6542,2,    180.4,2,   180.8,2,    73.1,2,    0.00,2,   32.56,2,    0.00,2,    2.24,2,   0.443,2,   0.235,2,   0.021,2,   0.106124382,2,  2250.2,2, 2339.38,2,   7.5729,6,    25.00,   2.3701, -999.00,9,  -999.0,9,  -999.0, -999.00,9,-999.000,9,  -999.0,9, -999.00,9,     -999.0,9, -999.00,9, 20160229,     1505, -51.5350,  88.8848,     -999.0,9,     -999.0,9,     -999.0,9,-999.0000,9,-999.0000,9,-999.0000,9,-999.0000,9,-999.0000,9,-999.0000,9,-999.0000,9,     -999.0,9,     -999.0,9,     -999.0,9,     -999.0,9,     -999.0,9
33RR20160208,       I08S,      39,          1,         17,         17,2,20160229,       1357,   -51.5350,    88.8849,       4081,  1137.6,   2.4896,  34.6295,2,  34.6306,2,    177.9,2,   178.9,2,    71.2,2,    0.00,2,   32.77,2,    0.00,2,    2.27,2,   0.457,2,   0.238,2,   0.021,2,   0.112188633,2,  2248.6,2, 2337.81,2,   7.5696,2,    25.00,   2.4897, -999.00,9,  -999.0,9,  -999.0, -999.00,9,-999.000,9,  -999.0,9, -999.00,9,     -999.0,9, -999.00,9, 20160229,     1508, -51.5350,  88.8849,     -999.0,9,     -999.0,9,     -999.0,9,-999.0000,9,-999.0000,9,-999.0000,9,-999.0000,9,-999.0000,9,-999.0000,9,-999.0000,9,     -999.0,9,     -999.0,9,     -999.0,9,     -999.0,9,     -999.0,9
33RR20160208,       I08S,      39,          1,         18,         37,2,20160229,       1357,   -51.5350,    88.8849,       4081,  1035.3,   2.5251,  34.5825,2,  34.5823,2,    176.2,2,   176.7,2,    69.5,2,    0.00,2,   33.52,2,    0.00,2,    2.32,2,   0.629,2,   0.327,2,   0.034,2,   0.131392092,2,  -999.0,9, -999.00,9,-999.0000,9,  -999.00,   2.5253, -999.00,9,  -999.0,9,  -999.0, -999.00,9,-999.000,9,  -999.0,9, -999.00,9,     -999.0,9, -999.00,9, 20160229,     1511, -51.5350,  88.8849,     -999.0,9,     -999.0,9,     -999.0,9,-999.0000,9,-999.0000,9,-999.0000,9,-999.0000,9,-999.0000,9,-999.0000,9,-999.0000,9,     -999.0,9,     -999.0,9,     -999.0,9,     -999.0,9,     -999.0,9
33RR20160208,       I08S,      39,          1,         19,         19,2,20160229,       1357,   -51.5350,    88.8849,       4081,   935.2,   2.6048,  34.5499,2,  34.5512,2,    176.1,2,   175.7,2,    67.3,2,    0.00,2,   33.85,2,    0.00,2,    2.35,2,   0.727,2,   0.376,2,   0.041,2,   0.184959638,2,  -999.0,9, -999.00,9,-999.0000,9,  -999.00,   2.6048, -999.00,9,  -999.0,9,  -999.0, -999.00,9,-999.000,9,  -999.0,9, -999.00,9,     -999.0,9, -999.00,9, 20160229,     1514, -51.5350,  88.8848,     -999.0,9,     -999.0,9,     -999.0,9,-999.0000,9,-999.0000,9,-999.0000,9,-999.0000,9,-999.0000,9,-999.0000,9,-999.0000,9,     -999.0,9,     -999.0,9,     -999.0,9,     -999.0,9,     -999.0,9
33RR20160208,       I08S,      39,          1,         20,         20,2,20160229,       1357,   -51.5350,    88.8849,       4081,   833.5,   2.6521,  34.5012,2,  34.5010,2,    178.4,2,   177.6,2,    63.6,2,    0.00,2,   34.17,2,    0.00,2,    2.36,2,   0.977,2,   0.494,2,   0.057,2,    0.20214168,2,  2245.7,2, 2326.53,2,   7.5507,2,    24.99,   2.6499, -999.00,9,  -999.0,9,  -999.0, -999.00,9,-999.000,9,  -999.0,9, -999.00,9,     -999.0,9, -999.00,9, 20160229,     1517, -51.5350,  88.8848,     -999.0,9,     -999.0,9,     -999.0,9,-999.0000,9,-999.0000,9,-999.0000,9,-999.0000,9,-999.0000,9,-999.0000,9,-999.0000,9,     -999.0,9,     -999.0,9,     -999.0,9,     -999.0,9,     -999.0,9
33RR20160208,       I08S,      39,          1,         21,         21,2,20160229,       1357,   -51.5350,    88.8849,       4081,   734.7,   2.8177,  34.4526,2,  34.4533,2,    182.9,2,   181.7,2,    58.7,2,    0.00,2,   34.18,2,    0.00,2,    2.36,2,   1.230,2,   0.615,2,   0.078,2,   0.320394563,2,  -999.0,9, -999.00,9,-999.0000,9,  -999.00,   2.8159, -999.00,9,  -999.0,9,  -999.0, -999.00,9,-999.000,9,  -999.0,9, -999.00,9,     -999.0,9, -999.00,9, 20160229,     1520, -51.5350,  88.8848,     -999.0,9,     -999.0,9,     -999.0,9,-999.0000,9,-999.0000,9,-999.0000,9,-999.0000,9,-999.0000,9,-999.0000,9,-999.0000,9,     -999.0,9,     -999.0,9,     -999.0,9,     -999.0,9,     -999.0,9
33RR20160208,       I08S,      39,          1,         22,         22,2,20160229,       1357,   -51.5350,    88.8849,       4081,   634.4,   2.8128,  34.3798,2,  34.3802,2,    196.7,2,   192.4,2,    52.6,2,    0.00,2,   33.98,2,    0.00,2,    2.35,2,   1.716,6,   0.867,6,   0.117,6,   0.502322076,6,  2232.4,2, 2314.86,2,   7.5579,2,    24.99,   2.8134, -999.00,9,  -999.0,9,  -999.0, -999.00,9,-999.000,9,  -999.0,9, -999.00,9,     -999.0,9, -999.00,9, 20160229,     1523, -51.5350,  88.8848,     -999.0,9,     -999.0,9,     -999.0,9,-999.0000,9,-999.0000,9,-999.0000,9,-999.0000,9,-999.0000,9,-999.0000,9,-999.0000,9,     -999.0,9,     -999.0,9,     -999.0,9,     -999.0,9,     -999.0,9
33RR20160208,       I08S,      39,          1,         23,         23,2,20160229,       1357,   -51.5350,    88.8849,       4081,   536.5,   3.0585,  34.3178,2,  34.3183,2,    210.4,2,   205.0,2,    43.8,2,    0.00,2,   33.04,2,    0.00,2,    2.26,2,   2.233,2,   1.139,2,   0.156,2,   0.624617792,2,  -999.0,9, -999.00,9,-999.0000,9,     9.00,   3.0581, -999.00,9,  -999.0,9,  -999.0, -999.00,9,-999.000,9,  -999.0,9, -999.00,9,     -999.0,9, -999.00,9, 20160229,     1525, -51.5350,  88.8848,     -999.0,9,     -999.0,9,     -999.0,9,-999.0000,9,-999.0000,9,-999.0000,9,-999.0000,9,-999.0000,9,-999.0000,9,-999.0000,9,     -999.0,9,     -999.0,9,     -999.0,9,     -999.0,9,     -999.0,9
33RR20160208,       I08S,      39,          1,         24,         24,2,20160229,       1357,   -51.5350,    88.8849,       4081,   466.6,   3.0914,  34.2499,2,  34.2488,2,    222.7,2,   221.8,2,    36.3,2,    0.00,2,   32.05,2,    0.00,2,    2.22,2,   2.838,2,   1.484,2,   0.206,2,   0.997569193,2,  2207.6,2, 2298.84,2,   7.5897,2,    24.99,   3.0913, -999.00,9,  -999.0,9,  -999.0, -999.00,9,-999.000,9,  -999.0,9, -999.00,9,     -999.0,9, -999.00,9, 20160229,     1528, -51.5350,  88.8848,     -999.0,9,     -999.0,9,     -999.0,9,-999.0000,9,-999.0000,9,-999.0000,9,-999.0000,9,-999.0000,9,-999.0000,9,-999.0000,9,     -999.0,9,     -999.0,9,     -999.0,9,     -999.0,9,     -999.0,9
33RR20160208,       I08S,      39,          1,         25,         25,2,20160229,       1357,   -51.5350,    88.8849,       4081,   416.4,   2.7461,  34.1463,2,  34.1501,2,    236.0,2,   246.2,2,    31.1,2,    0.00,2,   31.12,2,    0.00,2,    2.15,2,   3.538,2,   1.908,2,   0.279,2,    1.43520593,2,  -999.0,9, -999.00,9,-999.0000,9,  -999.00,   2.7454, -999.00,9,  -999.0,9,  -999.0, -999.00,9,-999.000,9,  -999.0,9, -999.00,9,     -999.0,9, -999.00,9, 20160229,     1530, -51.5350,  88.8848,     -999.0,9,     -999.0,9,     -999.0,9,-999.0000,9,-999.0000,9,-999.0000,9,-999.0000,9,-999.0000,9,-999.0000,9,-999.0000,9,     -999.0,9,     -999.0,9,     -999.0,9,     -999.0,9,     -999.0,9
33RR20160208,       I08S,      39,          1,         26,         26,2,20160229,       1357,   -51.5350,    88.8849,       4081,   366.2,   2.4728,  34.0504,2,  34.0567,2,    261.8,2,   273.6,2,    26.4,2,    0.00,2,   29.87,2,    0.00,2,    2.06,2,   4.101,2,   2.264,2,   0.344,2,    1.94763509,2,  -999.0,9, -999.00,9,-999.0000,9,     9.00,   2.4739, -999.00,9,  -999.0,9,  -999.0, -999.00,9,-999.000,9,  -999.0,9, -999.00,9,     -999.0,9, -999.00,9, 20160229,     1532, -51.5350,  88.8848,     -999.0,9,     -999.0,9,     -999.0,9,-999.0000,9,-999.0000,9,-999.0000,9,-999.0000,9,-999.0000,9,-999.0000,9,-999.0000,9,     -999.0,9,     -999.0,9,     -999.0,9,     -999.0,9,     -999.0,9
33RR20160208,       I08S,      39,          1,         27,         27,2,20160229,       1357,   -51.5350,    88.8849,       4081,   315.9,   3.0400,  34.0731,2,  34.0749,2,    271.6,2,   266.5,2,    22.8,2,    0.00,2,   29.33,2,    0.00,2,    2.02,2,   4.055,2,   2.232,2,   0.330,2,    1.87183196,2,  2179.9,2, 2284.92,2,   7.6297,2,    24.99,   3.0410, -999.00,9,  -999.0,9,  -999.0, -999.00,9,-999.000,9,  -999.0,9, -999.00,9,     -999.0,9, -999.00,9, 20160229,     1534, -51.5350,  88.8848,     -999.0,9,     -999.0,9,     -999.0,9,-999.0000,9,-999.0000,9,-999.0000,9,-999.0000,9,-999.0000,9,-999.0000,9,-999.0000,9,     -999.0,9,     -999.0,9,     -999.0,9,     -999.0,9,     -999.0,9