BOTTLE,20220706CCHSIOAMB
EXPOCODE,SECT_ID,STNNBR,CASTNO,SAMPNO,BTLNBR,BTLNBR_FLAG_W,DATE,TIME,LATITUDE,LONGITUDE,DEPTH,CTDPRS,CTDTMP,CTDSAL,CTDSAL_FLAG_W,SALNTY,SALNTY_FLAG_W,CTDOXY,CTDOXY_FLAG_W,OXYGEN,OXYGEN_FLAG_W,SILCAT,SILCAT_FLAG_W,NH4,NH4_FLAG_W,NITRAT,NITRAT_FLAG_W,NITRIT,NITRIT_FLAG_W,PHSPHT,PHSPHT_FLAG_W,CFC-11,CFC-11_FLAG_W,CFC-12,CFC-12_FLAG_W,CFC113,CFC113_FLAG_W,SF6,SF6_FLAG_W,TCARBN,TCARBN_FLAG_W,ALKALI,ALKALI_FLAG_W,PH_TOT,PH_TOT_FLAG_W,PH_TMP,REFTMP,DELC13,DELC13_FLAG_W,DELC14,DELC14_FLAG_W,C14ERR,DELO18,DELO18_FLAG_W,POC,POC_FLAG_W,DOC,DOC_FLAG_W,TDN,TDN_FLAG_W,TON,TON_FLAG_W,D15N_NO3,D15N_NO3_FLAG_W,BTL_DATE,BTL_TIME,BTL_LAT,BTL_LON,14C-DOC,14C-DOC_FLAG_W,CHLORA,CHLORA_FLAG_W,HPLC,HPLC_FLAG_W,CDOM325,CDOM325_FLAG_W,CDOM340,CDOM340_FLAG_W,CDOM380,CDOM380_FLAG_W,CDOM412,CDOM412_FLAG_W,CDOM443,CDOM443_FLAG_W,CDOM490,CDOM490_FLAG_W,CDOM555,CDOM555_FLAG_W,CDOMSL,CDOMSL_FLAG_W,CDOMSN,CDOMSN_FLAG_W,D18O_NO3,D18O_NO3_FLAG_W,D15N_NO2+NO3,D15N_NO2+NO3_FLAG_W,D18O_NO2+NO3,D18O_NO2+NO3_FLAG_W
,,,,,,,,,,,METERS,DBAR,ITS-90,PSS-78,,PSS-78,,UMOL/KG,,UMOL/KG,,UMOL/KG,,UMOL/KG,,UMOL/KG,,UMOL/KG,,UMOL/KG,,PMOL/KG,,PMOL/KG,,PMOL/KG,,FMOL/KG,,UMOL/KG,,UMOL/KG,,,,DEG C,DEG C,/MILLE,,/MILLE,,/MILLE,/MILLE,,UG/KG,,UMOL/KG,,UMOL/KG,,UMOL/KG,,/MILLE,,,,,,/MILLE,,MG/M3,,,,1/M,,1/M,,1/M,,1/M,,1/M,,1/M,,1/M,,1/NM,,1/NM,,/MILLE,,/MILLE,,/MILLE,
33RR20160208,       I08S,      62,          1,         28,         28,2,20160306,       1630,   -38.9911,    94.9921,       3718,   250.3,  11.3415,  34.9456,2,  34.9423,2,    251.9,2,   252.6,2,     2.7,2,    0.00,2,    9.79,2,    0.00,2,    0.73,2,-999.000,9,-999.000,9,-999.000,9,-999.000000000,9,  2116.0,2, 2305.89,2,   7.8325,6,    25.01,  11.3407,    0.94,2,    28.3,2,     2.0, -999.00,9,-999.000,9,    45.4,2,   11.50,2,     -999.0,1,    7.57,2, 20160306,     1759, -38.9911,  94.9920,     -999.0,9,     -999.0,9,     -999.0,9,-999.0000,9,-999.0000,9,-999.0000,9,-999.0000,9,-999.0000,9,-999.0000,9,-999.0000,9,     -999.0,9,     -999.0,9,       5.57,2,       7.57,2,       5.57,2
33RR20160208,       I08S,      62,          1,         29,         29,2,20160306,       1630,   -38.9911,    94.9921,       3718,   199.2,  11.5675,  34.9599,2,  34.9592,2,    252.1,2,   251.3,2,     2.3,2,    0.00,2,    9.00,2,    0.02,2,    0.68,2,   3.015,2,   1.755,2,   0.207,2,         1.933,2,  -999.0,9, -999.00,9,-999.0000,9,     9.00,  11.5667, -999.00,9,  -999.0,9,  -999.0, -999.00,9,-999.000,9,    46.8,2,   11.60,2,     -999.0,1,    7.93,2, 20160306,     1801, -38.9911,  94.9919,     -999.0,9,     -999.0,9,     -999.0,9,-999.0000,9,-999.0000,9,-999.0000,9,-999.0000,9,-999.0000,9,-999.0000,9,-999.0000,9,     -999.0,9,     -999.0,9,       6.32,2,       7.53,2,       6.23,2
33RR20160208,       I08S,      62,          1,         30,         30,2,20160306,       1630,   -38.9911,    94.9921,       3718,   151.3,  12.1347,  35.0558,2,  35.0466,2,    248.7,2,   248.6,2,     1.9,2,    0.00,2,    7.66,2,    0.02,2,    0.61,2,-999.000,9,-999.000,9,-999.000,9,-999.000000000,9,  2110.9,2, 2312.02,2,   7.8495,2,    25.01,  12.1259,    0.98,2,    24.9,2,     2.2, -999.00,9,-999.000,9,    48.4,2,   10.20,2,     -999.0,1,    8.28,2, 20160306,     1803, -38.9911,  94.9920,     -999.0,9,     -999.0,9,     -999.0,9,-999.0000,9,-999.0000,9,-999.0000,9,-999.0000,9,-999.0000,9,-999.0000,9,-999.0000,9,     -999.0,9,     -999.0,9,       6.55,2,       7.97,2,       6.28,2
33RR20160208,       I08S,      62,          1,         31,         31,2,20160306,       1630,   -38.9911,    94.9921,       3718,   123.7,  12.5367,  35.1275,2,  35.1223,2,    246.4,2,   246.8,2,     1.6,2,    0.00,2,    6.65,2,    0.02,2,    0.54,2,-999.000,9,-999.000,9,-999.000,9,-999.000000000,9,  2110.2,2, 2316.05,2,   7.8594,2,    25.02,  12.5327,    0.96,2,    27.1,2,     2.2, -999.00,9,-999.000,9,    48.8,2,    8.90,2,     -999.0,1,    8.62,2, 20160306,     1805, -38.9911,  94.9920,     -999.0,9,     -999.0,9,     -999.0,9,-999.0000,9,-999.0000,9,-999.0000,9,-999.0000,9,-999.0000,9,-999.0000,9,-999.0000,9,     -999.0,9,     -999.0,9,       6.54,2,       8.34,2,       6.46,2
33RR20160208,       I08S,      62,          1,         32,         32,2,20160306,       1630,   -38.9911,    94.9921,       3718,   100.2,  12.8584,  35.1770,2,  35.1848,2,    245.0,2,   244.7,2,     1.5,2,    0.00,2,    5.89,2,    0.05,2,    0.49,2,   2.817,6,   1.648,6,   0.212,6,          1.81,6,  2109.8,2, 2318.88,2,   7.8681,2,    25.01,  12.8593,    0.96,2,    27.0,2,     2.2, -999.00,9,-999.000,9,    50.2,2,    8.50,2,     -999.0,1,    8.88,2, 20160306,     1807, -38.9911,  94.9920,     -999.0,9,     -999.0,9,     -999.0,9,-999.0000,9,-999.0000,9,-999.0000,9,-999.0000,9,-999.0000,9,-999.0000,9,-999.0000,9,     -999.0,9,     -999.0,9,        6.8,2,       8.83,2,       6.76,2
33RR20160208,       I08S,      62,          1,         33,         33,2,20160306,       1630,   -38.9911,    94.9921,       3718,    74.7,  13.1905,  35.1020,2,  35.1156,2,    255.6,2,   253.2,2,     1.8,2,    0.61,2,    4.51,2,    0.51,2,    0.50,2,   2.839,2,   1.662,2,   0.223,2,         1.727,2,  2102.8,2, 2318.03,2,   7.8782,2,    24.99,  13.2060,    1.04,2,    30.4,2,     2.2, -999.00,9,-999.000,9,    51.4,2,    8.30,2,     -999.0,1,    12.9,2, 20160306,     1809, -38.9911,  94.9920,     -999.0,9,     -999.0,9,     -999.0,9,-999.0000,9,-999.0000,9,-999.0000,9,-999.0000,9,-999.0000,9,-999.0000,9,-999.0000,9,     -999.0,9,     -999.0,9,      10.19,2,      10.96,2,      10.63,2
33RR20160208,       I08S,      62,          1,         34,         34,2,20160306,       1630,   -38.9911,    94.9921,       3718,    50.0,  16.6669,  35.0892,2,  35.0018,2,    246.2,2,   251.6,2,     0.3,2,    0.49,2,    2.48,2,    0.07,2,    0.34,2,   2.559,2,   1.509,2,   0.202,2,         1.747,2,  2074.1,2, 2315.52,6,   7.9338,6,    25.00,  16.7469,    1.42,2,    17.6,2,     2.4, -999.00,9,-999.000,9,    58.5,2,    7.20,2,     -999.0,1,   19.72,2, 20160306,     1811, -38.9911,  94.9920,     -999.0,9,     -999.0,9,     -999.0,9,-999.0000,9,-999.0000,9,-999.0000,9,-999.0000,9,-999.0000,9,-999.0000,9,-999.0000,9,     -999.0,9,     -999.0,9,      16.82,2,      18.17,2,      16.89,2
33RR20160208,       I08S,      62,          1,         35,         35,2,20160306,       1630,   -38.9911,    94.9921,       3718,    25.1,  17.0591,  35.0918,2,  35.0906,2,    249.6,2,   247.2,2,     0.0,2,    0.03,2,    0.73,2,    0.04,2,    0.20,2,   2.330,2,   1.381,2,   0.181,2,         1.595,2,  2060.7,2, 2320.53,2,   7.9685,6,    24.99,  17.0634,    1.51,2,    20.0,2,     2.4, -999.00,9,-999.000,9,    63.1,2,    4.70,2,     -999.0,1, -999.00,9, 20160306,     1813, -38.9911,  94.9920,     -999.0,9,     -999.0,9,     -999.0,9,-999.0000,9,-999.0000,9,-999.0000,9,-999.0000,9,-999.0000,9,-999.0000,9,-999.0000,9,     -999.0,9,     -999.0,9,     -999.0,9,     -999.0,9,     -999.0,9
33RR20160208,       I08S,      62,          1,         36,         36,2,20160306,       1630,   -38.9911,    94.9921,       3718,     5.4,  17.4285,  35.1191,2,  35.1179,2,    245.7,2,   245.9,2,     0.1,2,    0.02,2,    0.42,2,    0.03,2,    0.20,2,   2.261,2,   1.339,2,   0.177,2,         1.477,2,  2060.2,6, 2321.10,2,   7.9713,3,    25.01,  17.4286,    1.51,2,    23.2,2,     2.5, -999.00,9,-999.000,9,    63.2,2,    4.80,2,     -999.0,1, -999.00,9, 20160306,     1815, -38.9911,  94.9920,     -999.0,9,     -999.0,9,     -999.0,9,-999.0000,9,-999.0000,9,-999.0000,9,-999.0000,9,-999.0000,9,-999.0000,9,-999.0000,9,     -999.0,9,     -999.0,9,     -999.0,9,     -999.0,9,     -999.0,9