BOTTLE,20220706CCHSIOAMB
EXPOCODE,SECT_ID,STNNBR,CASTNO,SAMPNO,BTLNBR,BTLNBR_FLAG_W,DATE,TIME,LATITUDE,LONGITUDE,DEPTH,CTDPRS,CTDTMP,CTDSAL,CTDSAL_FLAG_W,SALNTY,SALNTY_FLAG_W,CTDOXY,CTDOXY_FLAG_W,OXYGEN,OXYGEN_FLAG_W,SILCAT,SILCAT_FLAG_W,NH4,NH4_FLAG_W,NITRAT,NITRAT_FLAG_W,NITRIT,NITRIT_FLAG_W,PHSPHT,PHSPHT_FLAG_W,CFC-11,CFC-11_FLAG_W,CFC-12,CFC-12_FLAG_W,CFC113,CFC113_FLAG_W,SF6,SF6_FLAG_W,TCARBN,TCARBN_FLAG_W,ALKALI,ALKALI_FLAG_W,PH_TOT,PH_TOT_FLAG_W,PH_TMP,REFTMP,DELC13,DELC13_FLAG_W,DELC14,DELC14_FLAG_W,C14ERR,DELO18,DELO18_FLAG_W,POC,POC_FLAG_W,DOC,DOC_FLAG_W,TDN,TDN_FLAG_W,TON,TON_FLAG_W,D15N_NO3,D15N_NO3_FLAG_W,BTL_DATE,BTL_TIME,BTL_LAT,BTL_LON,14C-DOC,14C-DOC_FLAG_W,CHLORA,CHLORA_FLAG_W,HPLC,HPLC_FLAG_W,CDOM325,CDOM325_FLAG_W,CDOM340,CDOM340_FLAG_W,CDOM380,CDOM380_FLAG_W,CDOM412,CDOM412_FLAG_W,CDOM443,CDOM443_FLAG_W,CDOM490,CDOM490_FLAG_W,CDOM555,CDOM555_FLAG_W,CDOMSL,CDOMSL_FLAG_W,CDOMSN,CDOMSN_FLAG_W,D18O_NO3,D18O_NO3_FLAG_W,D15N_NO2+NO3,D15N_NO2+NO3_FLAG_W,D18O_NO2+NO3,D18O_NO2+NO3_FLAG_W
,,,,,,,,,,,METERS,DBAR,ITS-90,PSS-78,,PSS-78,,UMOL/KG,,UMOL/KG,,UMOL/KG,,UMOL/KG,,UMOL/KG,,UMOL/KG,,UMOL/KG,,PMOL/KG,,PMOL/KG,,PMOL/KG,,FMOL/KG,,UMOL/KG,,UMOL/KG,,,,DEG C,DEG C,/MILLE,,/MILLE,,/MILLE,/MILLE,,UG/KG,,UMOL/KG,,UMOL/KG,,UMOL/KG,,/MILLE,,,,,,/MILLE,,MG/M3,,,,1/M,,1/M,,1/M,,1/M,,1/M,,1/M,,1/M,,1/NM,,1/NM,,/MILLE,,/MILLE,,/MILLE,
33RR20160208,       I08S,      73,          1,          1,          1,2,20160309,       1428,   -33.5083,    95.0010,       4371,  4429.5,   1.1262,  34.7152,2,  34.7155,2,    204.6,2,   204.9,2,   117.5,2,    0.00,2,   31.92,2,    0.00,2,    2.18,2,   0.064,2,   0.041,2,   0.000,2,             0,2,  2267.3,2, 2375.94,2,   7.6200,2,    25.00,   1.1260, -999.00,9,  -999.0,9,  -999.0, -999.00,9,-999.000,9,  -999.0,9, -999.00,9,     -999.0,9,    4.67,2, 20160309,     1428, -33.5083,  95.0010,     -999.0,9,     -999.0,9,     -999.0,9,-999.0000,9,-999.0000,9,-999.0000,9,-999.0000,9,-999.0000,9,-999.0000,9,-999.0000,9,     -999.0,9,     -999.0,9,       1.82,2,       4.67,2,       1.82,2
33RR20160208,       I08S,      73,          1,          2,          2,2,20160309,       1428,   -33.5083,    95.0010,       4371,  4113.1,   1.1225,  34.7167,2,  34.7162,2,    203.9,2,   204.5,2,   116.6,2,    0.00,2,   31.85,2,    0.00,2,    2.18,2,   0.057,2,   0.040,2,   0.000,2,             0,2,  -999.0,9, -999.00,9,-999.0000,9,     9.00,   1.1225, -999.00,9,  -999.0,9,  -999.0, -999.00,9,-999.000,9,  -999.0,9, -999.00,9,     -999.0,9,    4.78,2, 20160309,     1435, -33.5083,  95.0010,     -999.0,9,     -999.0,9,     -999.0,9,-999.0000,9,-999.0000,9,-999.0000,9,-999.0000,9,-999.0000,9,-999.0000,9,-999.0000,9,     -999.0,9,     -999.0,9,       2.02,2,       4.78,2,       2.02,2
33RR20160208,       I08S,      73,          1,          3,          3,2,20160309,       1428,   -33.5083,    95.0010,       4371,  3799.2,   1.1845,  34.7210,2,  34.7200,2,    203.5,2,   204.1,2,   113.6,2,    0.00,2,   31.59,2,    0.00,2,    2.18,2,-999.000,9,-999.000,9,-999.000,9,-999.000000000,9,  -999.0,9, -999.00,9,-999.0000,9,  -999.00,   1.1845, -999.00,9,  -999.0,9,  -999.0, -999.00,9,-999.000,9,  -999.0,9, -999.00,9,     -999.0,9,    4.85,2, 20160309,     1441, -33.5083,  95.0010,     -999.0,9,     -999.0,9,     -999.0,9,-999.0000,9,-999.0000,9,-999.0000,9,-999.0000,9,-999.0000,9,-999.0000,9,-999.0000,9,     -999.0,9,     -999.0,9,       1.89,2,       4.85,2,       1.89,2
33RR20160208,       I08S,      73,          1,          4,          4,2,20160309,       1428,   -33.5083,    95.0010,       4371,  3499.5,   1.3072,  34.7270,2,  34.7268,2,    201.8,2,   201.6,2,   110.4,2,    0.00,2,   31.50,2,    0.00,2,    2.15,2,   0.046,2,   0.035,2,   0.000,2,   0.014235607,2,  -999.0,9, -999.00,9,-999.0000,9,  -999.00,   1.3073, -999.00,9,  -999.0,9,  -999.0, -999.00,9,-999.000,9,  -999.0,9, -999.00,9,     -999.0,9,    4.81,2, 20160309,     1448, -33.5083,  95.0010,     -999.0,9,     -999.0,9,     -999.0,9,-999.0000,9,-999.0000,9,-999.0000,9,-999.0000,9,-999.0000,9,-999.0000,9,-999.0000,9,     -999.0,9,     -999.0,9,       1.98,2,       4.81,2,       1.98,2
33RR20160208,       I08S,      73,          1,          5,          5,2,20160309,       1428,   -33.5083,    95.0010,       4371,  3201.1,   1.4912,  34.7343,2,  34.7319,4,    199.3,2,   199.8,2,   104.5,2,    0.00,2,   31.22,2,    0.00,2,    2.12,2,-999.000,9,-999.000,9,-999.000,9,-999.000000000,9,  -999.0,9, -999.00,9,-999.0000,9,     9.00,   1.4911, -999.00,9,  -999.0,9,  -999.0, -999.00,9,-999.000,9,  -999.0,9, -999.00,9,     -999.0,9,    4.88,2, 20160309,     1454, -33.5083,  95.0010,     -999.0,9,     -999.0,9,     -999.0,9,-999.0000,9,-999.0000,9,-999.0000,9,-999.0000,9,-999.0000,9,-999.0000,9,-999.0000,9,     -999.0,9,     -999.0,9,        1.9,2,       4.88,2,        1.9,2
33RR20160208,       I08S,      73,          1,          6,         38,2,20160309,       1428,   -33.5083,    95.0010,       4371,  2914.7,   1.7287,  34.7403,2,  34.7398,2,    195.6,2,   195.8,2,    97.5,2,    0.00,2,   30.95,2,    0.00,2,    2.09,2,   0.043,2,   0.029,2,   0.000,2,             0,2,  -999.0,9, -999.00,9,-999.0000,9,  -999.00,   1.7292, -999.00,9,  -999.0,9,  -999.0, -999.00,9,-999.000,9,  -999.0,9, -999.00,9,     -999.0,9,    4.93,2, 20160309,     1500, -33.5083,  95.0010,     -999.0,9,     -999.0,9,     -999.0,9,-999.0000,9,-999.0000,9,-999.0000,9,-999.0000,9,-999.0000,9,-999.0000,9,-999.0000,9,     -999.0,9,     -999.0,9,        1.9,2,       4.93,2,        1.9,2
33RR20160208,       I08S,      73,          1,          7,          7,2,20160309,       1428,   -33.5083,    95.0010,       4371,  2666.7,   1.9163,  34.7394,2,  34.7376,2,    191.0,2,   191.6,2,    93.6,2,    0.00,2,   31.03,2,    0.00,2,    2.12,2,-999.000,9,-999.000,9,-999.000,9,-999.000000000,9,  -999.0,9, -999.00,9,-999.0000,9,  -999.00,   1.9164, -999.00,9,  -999.0,9,  -999.0, -999.00,9,-999.000,9,  -999.0,9, -999.00,9,     -999.0,9,    4.97,2, 20160309,     1505, -33.5083,  95.0010,     -999.0,9,     -999.0,9,     -999.0,9,-999.0000,9,-999.0000,9,-999.0000,9,-999.0000,9,-999.0000,9,-999.0000,9,-999.0000,9,     -999.0,9,     -999.0,9,       1.93,2,       4.97,2,       1.93,2
33RR20160208,       I08S,      73,          1,          8,          8,2,20160309,       1428,   -33.5083,    95.0010,       4371,  2408.0,   2.1541,  34.7287,2,  34.7274,2,    183.0,2,   183.4,2,    90.5,2,    0.00,2,   31.48,2,    0.00,2,    2.16,2,   0.037,2,   0.027,2,   0.000,2,   0.008134632,2,  -999.0,9, -999.00,9,-999.0000,9,     9.00,   2.1547, -999.00,9,  -999.0,9,  -999.0, -999.00,9,-999.000,9,  -999.0,9, -999.00,9,     -999.0,9,    5.09,2, 20160309,     1511, -33.5083,  95.0011,     -999.0,9,     -999.0,9,     -999.0,9,-999.0000,9,-999.0000,9,-999.0000,9,-999.0000,9,-999.0000,9,-999.0000,9,-999.0000,9,     -999.0,9,     -999.0,9,       2.07,2,       5.09,2,       2.07,2
33RR20160208,       I08S,      73,          1,          9,          9,2,20160309,       1428,   -33.5083,    95.0010,       4371,  2164.7,   2.3610,  34.7088,2,  34.7076,2,    172.7,2,   173.2,2,    89.6,2,    0.00,2,   32.32,2,    0.00,2,    2.23,2,-999.000,9,-999.000,9,-999.000,9,-999.000000000,9,  -999.0,9, -999.00,9,-999.0000,9,  -999.00,   2.3608, -999.00,9,  -999.0,9,  -999.0, -999.00,9,-999.000,9,  -999.0,9, -999.00,9,     -999.0,9,    5.22,2, 20160309,     1516, -33.5082,  95.0010,     -999.0,9,     -999.0,9,     -999.0,9,-999.0000,9,-999.0000,9,-999.0000,9,-999.0000,9,-999.0000,9,-999.0000,9,-999.0000,9,     -999.0,9,     -999.0,9,       2.11,2,       5.22,2,       2.11,2
33RR20160208,       I08S,      73,          1,         10,         10,2,20160309,       1428,   -33.5083,    95.0010,       4371,  1935.6,   2.6127,  34.6754,2,  34.6748,2,    162.8,2,   163.6,2,    87.6,2,    0.00,2,   33.22,2,    0.00,2,    2.29,2,   0.054,2,   0.061,2,   0.000,2,             0,2,  2266.8,2, 2360.00,6,   7.5759,2,    24.99,   2.6128, -999.00,9,  -999.0,9,  -999.0, -999.00,9,-999.000,9,  -999.0,9, -999.00,9,     -999.0,9,    5.37,2, 20160309,     1521, -33.5083,  95.0011,     -999.0,9,     -999.0,9,     -999.0,9,-999.0000,9,-999.0000,9,-999.0000,9,-999.0000,9,-999.0000,9,-999.0000,9,-999.0000,9,     -999.0,9,     -999.0,9,       2.09,2,       5.37,2,       2.09,2
33RR20160208,       I08S,      73,          1,         11,         11,2,20160309,       1428,   -33.5083,    95.0010,       4371,  1736.1,   2.8447,  34.6329,2,  34.6325,2,    157.0,2,   157.6,2,    83.2,2,    0.00,2,   33.87,2,    0.00,2,    2.34,2,-999.000,9,-999.000,9,-999.000,9,-999.000000000,9,  2266.2,2, 2354.87,2,   7.5647,6,    24.98,   2.8446, -999.00,9,  -999.0,9,  -999.0, -999.00,9,-999.000,9,  -999.0,9, -999.00,9,     -999.0,9,    5.46,2, 20160309,     1525, -33.5083,  95.0011,     -999.0,9,     -999.0,9,     -999.0,9,-999.0000,9,-999.0000,9,-999.0000,9,-999.0000,9,-999.0000,9,-999.0000,9,-999.0000,9,     -999.0,9,     -999.0,9,       2.26,2,       5.46,2,       2.26,2
33RR20160208,       I08S,      73,          1,         12,         12,2,20160309,       1428,   -33.5083,    95.0010,       4371,  1566.9,   3.0896,  34.5861,2,  34.5856,2,    154.0,2,   154.2,2,    78.1,2,    0.00,2,   34.40,2,    0.00,2,    2.38,2,   0.129,2,   0.075,2,   0.001,2,             0,2,  -999.0,9, -999.00,9,-999.0000,9,  -999.00,   3.0898, -999.00,9,  -999.0,9,  -999.0, -999.00,9,-999.000,9,  -999.0,9, -999.00,9,     -999.0,9,    5.56,2, 20160309,     1529, -33.5083,  95.0011,     -999.0,9,     -999.0,9,     -999.0,9,-999.0000,9,-999.0000,9,-999.0000,9,-999.0000,9,-999.0000,9,-999.0000,9,-999.0000,9,     -999.0,9,     -999.0,9,       2.25,2,       5.56,2,       2.25,2
33RR20160208,       I08S,      73,          1,         13,         13,2,20160309,       1428,   -33.5083,    95.0010,       4371,  1468.3,   3.2536,  34.5523,2,  34.5513,2,    154.5,2,   154.5,2,    73.5,2,    0.00,2,   34.50,2,    0.00,2,    2.39,2,-999.000,9,-999.000,9,-999.000,9,-999.000000000,9,  -999.0,9, -999.00,9,-999.0000,9,  -999.00,   3.2533, -999.00,9,  -999.0,9,  -999.0, -999.00,9,-999.000,9,  -999.0,9, -999.00,9,     -999.0,9,    5.58,2, 20160309,     1532, -33.5083,  95.0010,     -999.0,9,     -999.0,9,     -999.0,9,-999.0000,9,-999.0000,9,-999.0000,9,-999.0000,9,-999.0000,9,-999.0000,9,-999.0000,9,     -999.0,9,     -999.0,9,       2.35,2,       5.58,2,       2.35,2
33RR20160208,       I08S,      73,          1,         14,         14,2,20160309,       1428,   -33.5083,    95.0010,       4371,  1368.6,   3.4497,  34.5203,2,  34.5191,2,    157.0,2,   156.1,2,    68.9,2,    0.00,2,   34.51,2,    0.00,2,    2.39,2,   0.313,2,   0.192,2,   0.008,2,   0.037622675,2,  -999.0,9, -999.00,9,-999.0000,9,     9.00,   3.4504, -999.00,9,  -999.0,9,  -999.0, -999.00,9,-999.000,9,  -999.0,9, -999.00,9,     -999.0,9,    5.66,2, 20160309,     1535, -33.5083,  95.0011,     -999.0,9,     -999.0,9,     -999.0,9,-999.0000,9,-999.0000,9,-999.0000,9,-999.0000,9,-999.0000,9,-999.0000,9,-999.0000,9,     -999.0,9,     -999.0,9,       2.28,2,       5.66,2,       2.28,2
33RR20160208,       I08S,      73,          1,         15,         15,2,20160309,       1428,   -33.5083,    95.0010,       4371,  1265.7,   3.7609,  34.4881,2,  34.4881,2,    159.9,2,   158.0,2,    63.3,2,    0.00,2,   34.22,2,    0.00,2,    2.36,2,-999.000,9,-999.000,9,-999.000,9,-999.000000000,9,  -999.0,9, -999.00,9,-999.0000,9,  -999.00,   3.7608, -999.00,9,  -999.0,9,  -999.0, -999.00,9,-999.000,9,  -999.0,9, -999.00,9,     -999.0,9,    5.69,2, 20160309,     1538, -33.5083,  95.0010,     -999.0,9,     -999.0,9,     -999.0,9,-999.0000,9,-999.0000,9,-999.0000,9,-999.0000,9,-999.0000,9,-999.0000,9,-999.0000,9,     -999.0,9,     -999.0,9,       2.41,2,       5.69,2,       2.41,2
33RR20160208,       I08S,      73,          1,         16,         16,2,20160309,       1428,   -33.5083,    95.0010,       4371,  1164.5,   4.0410,  34.4229,2,  34.4211,2,    177.4,2,   176.7,2,    48.7,2,    0.00,2,   32.84,2,    0.00,2,    2.24,2,   1.002,2,   0.495,2,   0.044,2,   0.186079717,2,  -999.0,9, -999.00,9,-999.0000,9,  -999.00,   4.0433, -999.00,9,  -999.0,9,  -999.0, -999.00,9,-999.000,9,  -999.0,9, -999.00,9,     -999.0,9,    5.68,2, 20160309,     1541, -33.5083,  95.0010,     -999.0,9,     -999.0,9,     -999.0,9,-999.0000,9,-999.0000,9,-999.0000,9,-999.0000,9,-999.0000,9,-999.0000,9,-999.0000,9,     -999.0,9,     -999.0,9,       2.35,2,       5.68,2,       2.35,2
33RR20160208,       I08S,      73,          1,         17,         17,2,20160309,       1428,   -33.5083,    95.0010,       4371,  1065.4,   4.5202,  34.3977,2,  34.3964,2,    184.8,2,   185.0,2,    39.3,2,    0.00,2,   31.59,2,    0.00,2,    2.12,2,-999.000,9,-999.000,9,-999.000,9,-999.000000000,9,  2209.3,2, 2308.07,2,   7.6004,6,    24.98,   4.5296, -999.00,9,  -999.0,9,  -999.0, -999.00,9,-999.000,9,  -999.0,9, -999.00,9,     -999.0,9,    5.79,2, 20160309,     1544, -33.5083,  95.0010,     -999.0,9,     -999.0,9,     -999.0,9,-999.0000,9,-999.0000,9,-999.0000,9,-999.0000,9,-999.0000,9,-999.0000,9,-999.0000,9,     -999.0,9,     -999.0,9,       2.45,2,       5.79,2,       2.45,2
33RR20160208,       I08S,      73,          1,         18,         37,2,20160309,       1428,   -33.5083,    95.0010,       4371,   966.4,   5.3532,  34.3809,2,  34.3807,2,    199.3,2,   198.2,2,    26.1,2,    0.00,2,   29.17,2,    0.00,2,    1.98,2,   2.034,2,   1.014,2,   0.091,2,   0.397580159,2,  -999.0,9, -999.00,9,-999.0000,9,  -999.00,   5.3503, -999.00,9,  -999.0,9,  -999.0, -999.00,9,-999.000,9,  -999.0,9, -999.00,9,     -999.0,9,    5.91,2, 20160309,     1546, -33.5083,  95.0010,     -999.0,9,     -999.0,9,     -999.0,9,-999.0000,9,-999.0000,9,-999.0000,9,-999.0000,9,-999.0000,9,-999.0000,9,-999.0000,9,     -999.0,9,     -999.0,9,       2.58,2,       5.91,2,       2.58,2
33RR20160208,       I08S,      73,          1,         19,         19,2,20160309,       1428,   -33.5083,    95.0010,       4371,   866.1,   6.8001,  34.4501,2,  34.4423,2,    203.3,2,   201.7,2,    17.4,2,    0.00,2,   25.96,2,    0.00,2,    1.74,2,-999.000,9,-999.000,9,-999.000,9,-999.000000000,9,  -999.0,9, -999.00,9,-999.0000,9,  -999.00,   6.7881, -999.00,9,  -999.0,9,  -999.0, -999.00,9,-999.000,9,  -999.0,9, -999.00,9,     -999.0,9,    6.04,2, 20160309,     1549, -33.5083,  95.0010,     -999.0,9,     -999.0,9,     -999.0,9,-999.0000,9,-999.0000,9,-999.0000,9,-999.0000,9,-999.0000,9,-999.0000,9,-999.0000,9,     -999.0,9,     -999.0,9,       2.61,2,       6.04,2,       2.61,2
33RR20160208,       I08S,      73,          1,         20,         20,2,20160309,       1428,   -33.5083,    95.0010,       4371,   765.7,   8.2988,  34.5620,2,  34.5560,2,    218.8,2,   218.1,2,     8.5,2,    0.00,2,   20.99,2,    0.00,2,    1.42,2,   3.057,2,   1.646,2,   0.120,2,   0.728049601,2,  2150.1,2, 2289.41,2,   7.7174,6,    24.98,   8.2973, -999.00,9,  -999.0,9,  -999.0, -999.00,9,-999.000,9,  -999.0,9, -999.00,9,     -999.0,9,    6.35,2, 20160309,     1552, -33.5083,  95.0010,     -999.0,9,     -999.0,9,     -999.0,9,-999.0000,9,-999.0000,9,-999.0000,9,-999.0000,9,-999.0000,9,-999.0000,9,-999.0000,9,     -999.0,9,     -999.0,9,       3.11,2,       6.35,2,       3.11,2
33RR20160208,       I08S,      73,          1,         21,         21,2,20160309,       1428,   -33.5083,    95.0010,       4371,   664.7,   9.2002,  34.6575,2,  34.6546,2,    233.5,2,   233.9,2,     4.5,2,    0.00,2,   17.11,2,    0.00,2,    1.15,2,-999.000,9,-999.000,9,-999.000,9,-999.000000000,9,  -999.0,9, -999.00,9,-999.0000,9,  -999.00,   9.1990, -999.00,9,  -999.0,9,  -999.0, -999.00,9,-999.000,9,  -999.0,9, -999.00,9,     -999.0,9,     6.7,2, 20160309,     1555, -33.5083,  95.0010,     -999.0,9,     -999.0,9,     -999.0,9,-999.0000,9,-999.0000,9,-999.0000,9,-999.0000,9,-999.0000,9,-999.0000,9,-999.0000,9,     -999.0,9,     -999.0,9,       3.79,2,        6.7,2,       3.79,2
33RR20160208,       I08S,      73,          1,         22,         22,2,20160309,       1428,   -33.5083,    95.0010,       4371,   565.4,   9.7918,  34.7369,2,  34.7345,2,    239.1,2,   238.9,2,     3.5,2,    0.00,2,   14.99,2,    0.00,2,    1.02,2,   3.295,2,   1.889,2,   0.131,2,     1.3300124,2,  -999.0,9, -999.00,9,-999.0000,9,  -999.00,   9.7905, -999.00,9,  -999.0,9,  -999.0, -999.00,9,-999.000,9,  -999.0,9, -999.00,9,     -999.0,9,    6.89,2, 20160309,     1558, -33.5083,  95.0010,     -999.0,9,     -999.0,9,     -999.0,9,-999.0000,9,-999.0000,9,-999.0000,9,-999.0000,9,-999.0000,9,-999.0000,9,-999.0000,9,     -999.0,9,     -999.0,9,       4.11,2,       6.89,2,       4.11,2
33RR20160208,       I08S,      73,          1,         23,         23,2,20160309,       1428,   -33.5083,    95.0010,       4371,   486.4,  10.3705,  34.8221,2,  34.8195,2,    241.9,2,   242.7,2,     2.8,2,    0.00,2,   12.85,2,    0.00,2,    0.91,2,-999.000,9,-999.000,9,-999.000,9,-999.000000000,9,  2126.6,2, 2299.63,2,   7.7976,6,    24.98,  10.3726, -999.00,9,  -999.0,9,  -999.0, -999.00,9,-999.000,9,  -999.0,9, -999.00,9,     -999.0,9,    7.17,2, 20160309,     1600, -33.5083,  95.0011,     -999.0,9,     -999.0,9,     -999.0,9,-999.0000,9,-999.0000,9,-999.0000,9,-999.0000,9,-999.0000,9,-999.0000,9,-999.0000,9,     -999.0,9,     -999.0,9,        4.7,2,       7.17,2,        4.7,2
33RR20160208,       I08S,      73,          1,         24,         24,2,20160309,       1428,   -33.5083,    95.0010,       4371,   436.3,  10.8174,  34.8904,2,  34.8876,2,    241.2,2,   241.8,2,     2.4,2,    0.00,2,   11.58,2,    0.00,2,    0.83,2,   3.126,2,   1.816,2,   0.131,2,    1.46626749,2,  -999.0,9, -999.00,9,-999.0000,9,  -999.00,  10.8181, -999.00,9,  -999.0,9,  -999.0, -999.00,9,-999.000,9,  -999.0,9, -999.00,9,     -999.0,9,    7.32,2, 20160309,     1602, -33.5083,  95.0011,     -999.0,9,     -999.0,9,     -999.0,9,-999.0000,9,-999.0000,9,-999.0000,9,-999.0000,9,-999.0000,9,-999.0000,9,-999.0000,9,     -999.0,9,     -999.0,9,       4.74,2,       7.32,2,       4.74,2
33RR20160208,       I08S,      73,          1,         25,         25,2,20160309,       1428,   -33.5083,    95.0010,       4371,   386.1,  11.2930,  34.9628,2,  34.9579,2,    240.3,2,   240.5,2,     2.1,2,    0.00,2,   10.42,2,    0.00,2,    0.77,2,-999.000,9,-999.000,9,-999.000,9,-999.000000000,9,  -999.0,9, -999.00,9,-999.0000,9,  -999.00,  11.2934, -999.00,9,  -999.0,9,  -999.0, -999.00,9,-999.000,9,  -999.0,9, -999.00,9,     -999.0,9,     7.5,2, 20160309,     1604, -33.5083,  95.0011,     -999.0,9,     -999.0,9,     -999.0,9,-999.0000,9,-999.0000,9,-999.0000,9,-999.0000,9,-999.0000,9,-999.0000,9,-999.0000,9,     -999.0,9,     -999.0,9,       4.88,2,        7.5,2,       4.88,2
33RR20160208,       I08S,      73,          1,         26,         26,2,20160309,       1428,   -33.5083,    95.0010,       4371,   336.3,  12.0451,  35.0775,2,  35.0710,2,    236.6,2,   236.5,2,     1.7,2,    0.00,2,    8.75,2,    0.00,2,    0.68,2,   2.932,2,   1.733,2,   0.115,2,    1.61167405,2,  2119.6,2, 2312.05,2,   7.8383,6,    24.98,  12.0424, -999.00,9,  -999.0,9,  -999.0, -999.00,9,-999.000,9,  -999.0,9, -999.00,9,     -999.0,9,    7.53,2, 20160309,     1606, -33.5083,  95.0011,     -999.0,9,     -999.0,9,     -999.0,9,-999.0000,9,-999.0000,9,-999.0000,9,-999.0000,9,-999.0000,9,-999.0000,9,-999.0000,9,     -999.0,9,     -999.0,9,       4.71,2,       7.53,2,       4.71,2
33RR20160208,       I08S,      73,          1,         27,         27,2,20160309,       1428,   -33.5083,    95.0010,       4371,   285.9,  12.9363,  35.2043,2,  35.1997,2,    233.2,2,   234.8,2,     1.3,2,    0.00,2,    6.73,2,    0.00,2,    0.56,2,-999.000,9,-999.000,9,-999.000,9,-999.000000000,9,  -999.0,9, -999.00,9,-999.0000,9,  -999.00,  12.9363, -999.00,9,  -999.0,9,  -999.0, -999.00,9,-999.000,9,  -999.0,9, -999.00,9,     -999.0,9,    8.02,2, 20160309,     1608, -33.5083,  95.0010,     -999.0,9,     -999.0,9,     -999.0,9,-999.0000,9,-999.0000,9,-999.0000,9,-999.0000,9,-999.0000,9,-999.0000,9,-999.0000,9,     -999.0,9,     -999.0,9,       5.33,2,       8.02,2,       5.33,2