BOTTLE,20220706CCHSIOAMB
EXPOCODE,SECT_ID,STNNBR,CASTNO,SAMPNO,BTLNBR,BTLNBR_FLAG_W,DATE,TIME,LATITUDE,LONGITUDE,DEPTH,CTDPRS,CTDTMP,CTDSAL,CTDSAL_FLAG_W,SALNTY,SALNTY_FLAG_W,CTDOXY,CTDOXY_FLAG_W,OXYGEN,OXYGEN_FLAG_W,SILCAT,SILCAT_FLAG_W,NH4,NH4_FLAG_W,NITRAT,NITRAT_FLAG_W,NITRIT,NITRIT_FLAG_W,PHSPHT,PHSPHT_FLAG_W,CFC-11,CFC-11_FLAG_W,CFC-12,CFC-12_FLAG_W,CFC113,CFC113_FLAG_W,SF6,SF6_FLAG_W,TCARBN,TCARBN_FLAG_W,ALKALI,ALKALI_FLAG_W,PH_TOT,PH_TOT_FLAG_W,PH_TMP,REFTMP,DELC13,DELC13_FLAG_W,DELC14,DELC14_FLAG_W,C14ERR,DELO18,DELO18_FLAG_W,POC,POC_FLAG_W,DOC,DOC_FLAG_W,TDN,TDN_FLAG_W,TON,TON_FLAG_W,D15N_NO3,D15N_NO3_FLAG_W,BTL_DATE,BTL_TIME,BTL_LAT,BTL_LON,14C-DOC,14C-DOC_FLAG_W,CHLORA,CHLORA_FLAG_W,HPLC,HPLC_FLAG_W,CDOM325,CDOM325_FLAG_W,CDOM340,CDOM340_FLAG_W,CDOM380,CDOM380_FLAG_W,CDOM412,CDOM412_FLAG_W,CDOM443,CDOM443_FLAG_W,CDOM490,CDOM490_FLAG_W,CDOM555,CDOM555_FLAG_W,CDOMSL,CDOMSL_FLAG_W,CDOMSN,CDOMSN_FLAG_W,D18O_NO3,D18O_NO3_FLAG_W,D15N_NO2+NO3,D15N_NO2+NO3_FLAG_W,D18O_NO2+NO3,D18O_NO2+NO3_FLAG_W
,,,,,,,,,,,METERS,DBAR,ITS-90,PSS-78,,PSS-78,,UMOL/KG,,UMOL/KG,,UMOL/KG,,UMOL/KG,,UMOL/KG,,UMOL/KG,,UMOL/KG,,PMOL/KG,,PMOL/KG,,PMOL/KG,,FMOL/KG,,UMOL/KG,,UMOL/KG,,,,DEG C,DEG C,/MILLE,,/MILLE,,/MILLE,/MILLE,,UG/KG,,UMOL/KG,,UMOL/KG,,UMOL/KG,,/MILLE,,,,,,/MILLE,,MG/M3,,,,1/M,,1/M,,1/M,,1/M,,1/M,,1/M,,1/M,,1/NM,,1/NM,,/MILLE,,/MILLE,,/MILLE,
33RR20160208,       I08S,      44,          1,         28,         28,2,20160301,       2306,   -49.0449,    91.2121,       3815,   251.7,  10.0046,  34.7030,2,  34.7084,2,    245.2,2,   246.4,2,     4.4,2,    0.01,2,   14.37,2,    0.01,2,    1.05,2,   3.234,2,   1.836,2,   0.190,2,         1.776,2,  2128.6,6, 2295.04,2,   7.7922,2,    25.05,  10.0046,    1.05,2,    17.0,2,     2.6, -999.00,1,-999.000,9,    47.2,2,   17.50,2,     -999.0,1, -999.00,9, 20160302,       33, -49.0449,  91.2121,     -999.0,9,     -999.0,9,     -999.0,9,-999.0000,9,-999.0000,9,-999.0000,9,-999.0000,9,-999.0000,9,-999.0000,9,-999.0000,9,     -999.0,9,     -999.0,9,     -999.0,9,     -999.0,9,     -999.0,9
33RR20160208,       I08S,      44,          1,         29,         29,2,20160301,       2306,   -49.0449,    91.2121,       3815,   201.7,  10.4633,  34.7678,2,  34.7673,2,    251.0,2,   252.5,2,     3.8,2,    0.01,2,   12.80,2,    0.01,2,    0.93,2,   3.142,6,   1.798,6,   0.210,6,        1.7835,6,  -999.0,9, -999.00,9,-999.0000,9,     9.00,  10.4609, -999.00,9,  -999.0,9,  -999.0, -999.00,1,-999.000,9,    47.3,2,   15.60,2,     -999.0,1, -999.00,9, 20160302,       35, -49.0449,  91.2122,     -999.0,9,     -999.0,9,     -999.0,9,-999.0000,9,-999.0000,9,-999.0000,9,-999.0000,9,-999.0000,9,-999.0000,9,-999.0000,9,     -999.0,9,     -999.0,9,     -999.0,9,     -999.0,9,     -999.0,9
33RR20160208,       I08S,      44,          1,         30,         30,2,20160301,       2306,   -49.0449,    91.2121,       3815,   151.4,  10.5759,  34.6940,2,  34.7003,2,    260.0,2,   257.7,2,     3.1,2,    0.01,2,   12.12,2,    0.04,2,    0.90,2,   3.146,2,   1.822,2,   0.250,2,         1.874,2,  2114.8,2, 2294.93,2,   7.8226,2,    25.04,  10.5734,    1.11,2,    16.4,2,     2.3, -999.00,1,-999.000,9,    49.4,2,   14.90,2,     -999.0,1, -999.00,9, 20160302,       37, -49.0449,  91.2121,     -999.0,9,     -999.0,9,     -999.0,9,-999.0000,9,-999.0000,9,-999.0000,9,-999.0000,9,-999.0000,9,-999.0000,9,-999.0000,9,     -999.0,9,     -999.0,9,     -999.0,9,     -999.0,9,     -999.0,9
33RR20160208,       I08S,      44,          1,         31,         31,2,20160301,       2306,   -49.0449,    91.2121,       3815,   126.8,  10.0941,  34.4940,2,  34.6979,4,    272.9,2,   271.3,2,     2.1,2,    0.25,2,   12.04,2,    0.25,2,    0.91,2,   3.241,2,   1.854,2,   0.268,2,         1.994,2,  2106.2,2, 2289.31,2,   7.8318,6,    25.03,  10.0866, -999.00,9,  -999.0,9,  -999.0, -999.00,1,-999.000,9,    50.2,2,   15.10,2,     -999.0,1, -999.00,9, 20160302,       39, -49.0449,  91.2122,     -999.0,9,     -999.0,9,     -999.0,9,-999.0000,9,-999.0000,9,-999.0000,9,-999.0000,9,-999.0000,9,-999.0000,9,-999.0000,9,     -999.0,9,     -999.0,9,     -999.0,9,     -999.0,9,     -999.0,9
33RR20160208,       I08S,      44,          1,         32,         32,2,20160301,       2306,   -49.0449,    91.2121,       3815,    98.9,   9.9838,  34.4566,2,  34.4582,2,    273.8,2,   274.4,2,     1.9,2,    0.28,2,   11.76,2,    0.25,2,    0.91,2,   3.208,2,   1.838,2,   0.271,2,         2.064,2,  2104.2,2, 2286.99,2,   7.8316,2,    25.05,   9.9844,    1.32,2,     0.0,2,     2.0, -999.00,1,-999.000,9,    49.2,2,   16.20,2,     -999.0,1, -999.00,9, 20160302,       40, -49.0449,  91.2121,     -999.0,9,     -999.0,9,     -999.0,9,-999.0000,9,-999.0000,9,-999.0000,9,-999.0000,9,-999.0000,9,-999.0000,9,-999.0000,9,     -999.0,9,     -999.0,9,     -999.0,9,     -999.0,9,     -999.0,9
33RR20160208,       I08S,      44,          1,         33,         33,2,20160301,       2306,   -49.0449,    91.2121,       3815,    76.2,   9.9240,  34.4314,2,  34.4354,2,    275.8,2,   275.8,2,     1.8,2,    0.27,2,   11.85,2,    0.25,2,    0.92,2,-999.000,9,-999.000,9,-999.000,9,-999.000000000,9,  2103.6,2, 2289.48,2,   7.8328,2,    25.04,   9.9233,    1.41,2,    -8.2,2,     2.0, -999.00,1,-999.000,9,    49.2,2,   16.00,2,     -999.0,1, -999.00,9, 20160302,       42, -49.0449,  91.2121,     -999.0,9,     -999.0,9,     -999.0,9,-999.0000,9,-999.0000,9,-999.0000,9,-999.0000,9,-999.0000,9,-999.0000,9,-999.0000,9,     -999.0,9,     -999.0,9,     -999.0,9,     -999.0,9,     -999.0,9
33RR20160208,       I08S,      44,          1,         34,         34,2,20160301,       2306,   -49.0449,    91.2121,       3815,    49.9,   9.5161,  34.2671,2,  34.2688,2,    278.9,2,   279.4,2,     1.5,2,    0.30,2,   13.25,2,    0.24,2,    0.99,2,   3.350,2,   1.922,2,   0.275,2,         2.156,2,  2102.4,2, 2281.63,6,   7.8254,2,    25.03,   9.5224, -999.00,9,  -999.0,9,  -999.0, -999.00,1,-999.000,9,    50.0,2,   16.70,2,     -999.0,1, -999.00,9, 20160302,       44, -49.0449,  91.2121,     -999.0,9,     -999.0,9,     -999.0,9,-999.0000,9,-999.0000,9,-999.0000,9,-999.0000,9,-999.0000,9,-999.0000,9,-999.0000,9,     -999.0,9,     -999.0,9,     -999.0,9,     -999.0,9,     -999.0,9
33RR20160208,       I08S,      44,          1,         35,         35,2,20160301,       2306,   -49.0449,    91.2121,       3815,    25.8,   9.4236,  34.2358,2,  34.2366,2,    279.4,2,   279.9,2,     1.5,2,    0.32,2,   13.52,2,    0.23,2,    1.02,2,   3.417,2,   1.939,2,   0.283,2,         2.107,2,  2102.8,2, 2280.35,2,   7.8234,2,    25.03,   9.4194, -999.00,9,  -999.0,9,  -999.0, -999.00,1,-999.000,9,    49.9,2,   17.10,2,     -999.0,1, -999.00,9, 20160302,       46, -49.0448,  91.2121,     -999.0,9,     -999.0,9,     -999.0,9,-999.0000,9,-999.0000,9,-999.0000,9,-999.0000,9,-999.0000,9,-999.0000,9,-999.0000,9,     -999.0,9,     -999.0,9,     -999.0,9,     -999.0,9,     -999.0,9
33RR20160208,       I08S,      44,          1,         36,         36,2,20160301,       2306,   -49.0449,    91.2121,       3815,     6.5,   9.4117,  34.2314,2,  34.2325,2,    279.8,2,   279.9,2,     1.6,2,    0.33,2,   13.57,2,    0.23,2,    1.01,2,   3.453,2,   1.983,2,   0.293,2,         2.215,2,  2102.2,6, 2281.35,2,   7.8232,2,    25.04,   9.4115,    1.54,2,   -17.4,2,     2.1, -999.00,1,-999.000,9,    49.4,2,   17.30,2,     -999.0,1, -999.00,9, 20160302,       48, -49.0448,  91.2122,     -999.0,9,     -999.0,9,     -999.0,9,-999.0000,9,-999.0000,9,-999.0000,9,-999.0000,9,-999.0000,9,-999.0000,9,-999.0000,9,     -999.0,9,     -999.0,9,     -999.0,9,     -999.0,9,     -999.0,9