BOTTLE,20220706CCHSIOAMB
EXPOCODE,SECT_ID,STNNBR,CASTNO,SAMPNO,BTLNBR,BTLNBR_FLAG_W,DATE,TIME,LATITUDE,LONGITUDE,DEPTH,CTDPRS,CTDTMP,CTDSAL,CTDSAL_FLAG_W,SALNTY,SALNTY_FLAG_W,CTDOXY,CTDOXY_FLAG_W,OXYGEN,OXYGEN_FLAG_W,SILCAT,SILCAT_FLAG_W,NH4,NH4_FLAG_W,NITRAT,NITRAT_FLAG_W,NITRIT,NITRIT_FLAG_W,PHSPHT,PHSPHT_FLAG_W,CFC-11,CFC-11_FLAG_W,CFC-12,CFC-12_FLAG_W,CFC113,CFC113_FLAG_W,SF6,SF6_FLAG_W,TCARBN,TCARBN_FLAG_W,ALKALI,ALKALI_FLAG_W,PH_TOT,PH_TOT_FLAG_W,PH_TMP,REFTMP,DELC13,DELC13_FLAG_W,DELC14,DELC14_FLAG_W,C14ERR,DELO18,DELO18_FLAG_W,POC,POC_FLAG_W,DOC,DOC_FLAG_W,TDN,TDN_FLAG_W,TON,TON_FLAG_W,D15N_NO3,D15N_NO3_FLAG_W,BTL_DATE,BTL_TIME,BTL_LAT,BTL_LON,14C-DOC,14C-DOC_FLAG_W,CHLORA,CHLORA_FLAG_W,HPLC,HPLC_FLAG_W,CDOM325,CDOM325_FLAG_W,CDOM340,CDOM340_FLAG_W,CDOM380,CDOM380_FLAG_W,CDOM412,CDOM412_FLAG_W,CDOM443,CDOM443_FLAG_W,CDOM490,CDOM490_FLAG_W,CDOM555,CDOM555_FLAG_W,CDOMSL,CDOMSL_FLAG_W,CDOMSN,CDOMSN_FLAG_W,D18O_NO3,D18O_NO3_FLAG_W,D15N_NO2+NO3,D15N_NO2+NO3_FLAG_W,D18O_NO2+NO3,D18O_NO2+NO3_FLAG_W
,,,,,,,,,,,METERS,DBAR,ITS-90,PSS-78,,PSS-78,,UMOL/KG,,UMOL/KG,,UMOL/KG,,UMOL/KG,,UMOL/KG,,UMOL/KG,,UMOL/KG,,PMOL/KG,,PMOL/KG,,PMOL/KG,,FMOL/KG,,UMOL/KG,,UMOL/KG,,,,DEG C,DEG C,/MILLE,,/MILLE,,/MILLE,/MILLE,,UG/KG,,UMOL/KG,,UMOL/KG,,UMOL/KG,,/MILLE,,,,,,/MILLE,,MG/M3,,,,1/M,,1/M,,1/M,,1/M,,1/M,,1/M,,1/M,,1/NM,,1/NM,,/MILLE,,/MILLE,,/MILLE,
33RR20160208,       I08S,      64,          1,         28,         28,2,20160307,       0357,   -37.9993,    95.0039,       4155,   234.9,  11.4787,  34.9651,2,  34.9605,2,    252.3,2,   252.7,2,     2.0,2,    0.00,2,    9.19,2,    0.01,2,    0.69,2,-999.000,9,-999.000,9,-999.000,9,-999.000000000,9,  2115.8,2, 2307.39,2,   7.8347,2,    25.00,  11.4769,    0.98,6,    28.1,6,     1.6, -999.00,9,-999.000,9,    51.1,2,   11.70,2,     -999.0,1, -999.00,9, 20160307,      536, -37.9993,  95.0040,     -999.0,9,     -999.0,9,     -999.0,9,-999.0000,9,-999.0000,9,-999.0000,9,-999.0000,9,-999.0000,9,-999.0000,9,-999.0000,9,     -999.0,9,     -999.0,9,     -999.0,9,     -999.0,9,     -999.0,9
33RR20160208,       I08S,      64,          1,         29,         29,2,20160307,       0357,   -37.9993,    95.0039,       4155,   185.9,  11.7574,  34.9828,2,  34.9784,2,    250.1,2,   252.3,2,     2.1,2,    0.00,2,    8.48,2,    0.07,2,    0.66,2,   2.934,2,   1.738,2,   0.223,2,    1.79852332,2,  2112.6,2, 2309.54,2,   7.8426,6,    25.00,  11.7631, -999.00,9,  -999.0,9,  -999.0, -999.00,9,-999.000,9,    50.1,2,   11.60,2,     -999.0,1, -999.00,9, 20160307,      538, -37.9992,  95.0040,     -999.0,9,     -999.0,9,     -999.0,9,-999.0000,9,-999.0000,9,-999.0000,9,-999.0000,9,-999.0000,9,-999.0000,9,-999.0000,9,     -999.0,9,     -999.0,9,     -999.0,9,     -999.0,9,     -999.0,9
33RR20160208,       I08S,      64,          1,         30,         30,2,20160307,       0357,   -37.9993,    95.0039,       4155,   141.3,  12.5978,  35.1260,2,  35.1248,2,    247.1,2,   246.3,2,     1.6,2,    0.00,2,    6.76,2,    0.02,2,    0.55,2,-999.000,9,-999.000,9,-999.000,9,-999.000000000,9,  2110.7,2, 2316.69,2,   7.8602,2,    25.01,  12.5971, -999.00,9,  -999.0,9,  -999.0, -999.00,9,-999.000,9,    54.2,2,   10.00,2,     -999.0,1, -999.00,9, 20160307,      540, -37.9992,  95.0039,     -999.0,9,     -999.0,9,     -999.0,9,-999.0000,9,-999.0000,9,-999.0000,9,-999.0000,9,-999.0000,9,-999.0000,9,-999.0000,9,     -999.0,9,     -999.0,9,     -999.0,9,     -999.0,9,     -999.0,9
33RR20160208,       I08S,      64,          1,         31,         31,2,20160307,       0357,   -37.9993,    95.0039,       4155,   116.4,  12.9654,  35.1749,2,  35.1757,2,    246.5,2,   245.9,2,     1.4,2,    0.01,2,    5.49,2,    0.41,2,    0.49,2,   2.821,2,   1.705,2,   0.219,2,    1.80878886,2,  2110.7,2, 2320.03,2,   7.8697,2,    25.01,  12.9682, -999.00,9,  -999.0,9,  -999.0, -999.00,9,-999.000,9,    51.8,2,    9.80,2,     -999.0,1, -999.00,9, 20160307,      542, -37.9993,  95.0040,     -999.0,9,     -999.0,9,     -999.0,9,-999.0000,9,-999.0000,9,-999.0000,9,-999.0000,9,-999.0000,9,-999.0000,9,-999.0000,9,     -999.0,9,     -999.0,9,     -999.0,9,     -999.0,9,     -999.0,9
33RR20160208,       I08S,      64,          1,         32,         32,2,20160307,       0357,   -37.9993,    95.0039,       4155,    91.0,  13.5337,  35.2404,2,  35.2428,2,    249.2,2,   246.4,2,     1.3,2,    0.08,2,    3.73,2,    0.99,2,    0.42,2,-999.000,9,-999.000,9,-999.000,9,-999.000000000,9,  2108.7,2, 2323.35,6,   7.8832,2,    25.01,  13.5353, -999.00,9,  -999.0,9,  -999.0, -999.00,9,-999.000,9,    52.7,2,   14.30,3,     -999.0,1, -999.00,9, 20160307,      544, -37.9993,  95.0040,     -999.0,9,     -999.0,9,     -999.0,9,-999.0000,9,-999.0000,9,-999.0000,9,-999.0000,9,-999.0000,9,-999.0000,9,-999.0000,9,     -999.0,9,     -999.0,9,     -999.0,9,     -999.0,9,     -999.0,9
33RR20160208,       I08S,      64,          1,         33,         33,2,20160307,       0357,   -37.9993,    95.0039,       4155,    65.5,  14.4711,  35.1560,2,  35.1626,2,    251.5,2,   251.6,2,     1.0,2,    0.88,2,    2.64,2,    0.10,2,    0.37,2,   2.684,2,   1.600,2,   0.212,2,    1.74616904,2,  2095.7,2, 2320.31,2,   7.9073,6,    24.97,  14.5277, -999.00,9,  -999.0,9,  -999.0, -999.00,9,-999.000,9,    54.5,2,   10.20,3,     -999.0,1, -999.00,9, 20160307,      547, -37.9992,  95.0039,     -999.0,9,     -999.0,9,     -999.0,9,-999.0000,9,-999.0000,9,-999.0000,9,-999.0000,9,-999.0000,9,-999.0000,9,-999.0000,9,     -999.0,9,     -999.0,9,     -999.0,9,     -999.0,9,     -999.0,9
33RR20160208,       I08S,      64,          1,         34,         34,2,20160307,       0357,   -37.9993,    95.0039,       4155,    42.1,  16.9175,  35.1736,2,  35.1669,2,    249.6,2,   243.4,2,     0.0,2,    0.23,2,    0.49,2,    0.02,2,    0.16,2,-999.000,9,-999.000,9,-999.000,9,-999.000000000,9,  2071.2,2, 2324.77,2,   7.9616,2,    25.00,  16.9164, -999.00,9,  -999.0,9,  -999.0, -999.00,9,-999.000,9,    66.0,2,    5.90,2,     -999.0,1, -999.00,9, 20160307,      549, -37.9992,  95.0039,     -999.0,9,     -999.0,9,     -999.0,9,-999.0000,9,-999.0000,9,-999.0000,9,-999.0000,9,-999.0000,9,-999.0000,9,-999.0000,9,     -999.0,9,     -999.0,9,     -999.0,9,     -999.0,9,     -999.0,9
33RR20160208,       I08S,      64,          1,         35,         35,2,20160307,       0357,   -37.9993,    95.0039,       4155,    20.5,  17.2941,  35.1672,2,  35.1689,2,    244.3,2,   248.0,2,     0.0,2,    0.02,2,    0.24,2,    0.02,2,    0.18,2,   2.371,2,   1.439,2,   0.185,2,    1.60450453,2,  2065.9,2, 2326.39,2,   7.9720,2,    25.01,  17.2938, -999.00,9,  -999.0,9,  -999.0, -999.00,9,-999.000,9,    65.7,2,    5.10,2,     -999.0,1, -999.00,9, 20160307,      551, -37.9992,  95.0039,     -999.0,9,     -999.0,9,     -999.0,9,-999.0000,9,-999.0000,9,-999.0000,9,-999.0000,9,-999.0000,9,-999.0000,9,-999.0000,9,     -999.0,9,     -999.0,9,     -999.0,9,     -999.0,9,     -999.0,9
33RR20160208,       I08S,      64,          1,         36,         36,2,20160307,       0357,   -37.9993,    95.0039,       4155,     5.5,  17.3885,  35.1532,2,  35.1517,2,    242.9,2,   247.5,2,     0.0,2,    0.03,2,    0.35,2,    0.02,2,    0.20,2,   2.339,2,   1.402,2,   0.183,2,    1.56344236,2,  2065.8,6, 2322.61,2,   7.9698,2,    25.01,  17.3859, -999.00,9,  -999.0,9,  -999.0, -999.00,9,-999.000,9,    64.9,2,    5.30,2,     -999.0,1, -999.00,9, 20160307,      554, -37.9993,  95.0039,     -999.0,9,     -999.0,9,     -999.0,9,-999.0000,9,-999.0000,9,-999.0000,9,-999.0000,9,-999.0000,9,-999.0000,9,-999.0000,9,     -999.0,9,     -999.0,9,     -999.0,9,     -999.0,9,     -999.0,9