BOTTLE,20220706CCHSIOAMB
EXPOCODE,SECT_ID,STNNBR,CASTNO,SAMPNO,BTLNBR,BTLNBR_FLAG_W,DATE,TIME,LATITUDE,LONGITUDE,DEPTH,CTDPRS,CTDTMP,CTDSAL,CTDSAL_FLAG_W,SALNTY,SALNTY_FLAG_W,CTDOXY,CTDOXY_FLAG_W,OXYGEN,OXYGEN_FLAG_W,SILCAT,SILCAT_FLAG_W,NH4,NH4_FLAG_W,NITRAT,NITRAT_FLAG_W,NITRIT,NITRIT_FLAG_W,PHSPHT,PHSPHT_FLAG_W,CFC-11,CFC-11_FLAG_W,CFC-12,CFC-12_FLAG_W,CFC113,CFC113_FLAG_W,SF6,SF6_FLAG_W,TCARBN,TCARBN_FLAG_W,ALKALI,ALKALI_FLAG_W,PH_TOT,PH_TOT_FLAG_W,PH_TMP,REFTMP,DELC13,DELC13_FLAG_W,DELC14,DELC14_FLAG_W,C14ERR,DELO18,DELO18_FLAG_W,POC,POC_FLAG_W,DOC,DOC_FLAG_W,TDN,TDN_FLAG_W,TON,TON_FLAG_W,D15N_NO3,D15N_NO3_FLAG_W,BTL_DATE,BTL_TIME,BTL_LAT,BTL_LON,14C-DOC,14C-DOC_FLAG_W,CHLORA,CHLORA_FLAG_W,HPLC,HPLC_FLAG_W,CDOM325,CDOM325_FLAG_W,CDOM340,CDOM340_FLAG_W,CDOM380,CDOM380_FLAG_W,CDOM412,CDOM412_FLAG_W,CDOM443,CDOM443_FLAG_W,CDOM490,CDOM490_FLAG_W,CDOM555,CDOM555_FLAG_W,CDOMSL,CDOMSL_FLAG_W,CDOMSN,CDOMSN_FLAG_W,D18O_NO3,D18O_NO3_FLAG_W,D15N_NO2+NO3,D15N_NO2+NO3_FLAG_W,D18O_NO2+NO3,D18O_NO2+NO3_FLAG_W
,,,,,,,,,,,METERS,DBAR,ITS-90,PSS-78,,PSS-78,,UMOL/KG,,UMOL/KG,,UMOL/KG,,UMOL/KG,,UMOL/KG,,UMOL/KG,,UMOL/KG,,PMOL/KG,,PMOL/KG,,PMOL/KG,,FMOL/KG,,UMOL/KG,,UMOL/KG,,,,DEG C,DEG C,/MILLE,,/MILLE,,/MILLE,/MILLE,,UG/KG,,UMOL/KG,,UMOL/KG,,UMOL/KG,,/MILLE,,,,,,/MILLE,,MG/M3,,,,1/M,,1/M,,1/M,,1/M,,1/M,,1/M,,1/M,,1/NM,,1/NM,,/MILLE,,/MILLE,,/MILLE,
33RR20160208,       I08S,      15,          1,          1,          1,2,20160222,       2040,   -61.4999,    82.0002,       2175,  2188.1,   0.4187,  34.6876,2,  34.6890,2,    210.9,2,   209.6,2,   142.4,2,    0.00,2,   32.88,2,    0.00,2,    2.28,2,   0.272,2,   0.142,2,   0.016,2,         0.221,2,  2264.8,6, 2360.65,2,   7.5860,2,    24.97,   0.4181, -999.00,9,  -999.0,9,  -999.0, -999.00,1,-999.000,9,  -999.0,9, -999.00,9,     -999.0,9,    4.69,2, 20160222,     2040, -61.5000,  82.0002,     -999.0,9,     -999.0,9,     -999.0,9,-999.0000,9,-999.0000,9,-999.0000,9,-999.0000,9,-999.0000,9,-999.0000,9,-999.0000,9,     -999.0,9,     -999.0,9,        2.0,2,       4.69,2,        2.0,2
33RR20160208,       I08S,      15,          1,          2,          2,2,20160222,       2040,   -61.4999,    82.0002,       2175,  2027.8,   0.5667,  34.6956,2,  34.6974,2,    210.9,2,   210.5,2,   124.4,2,    0.00,2,   32.42,2,    0.00,2,    2.26,2,   0.250,2,   0.135,2,   0.005,2,         0.306,2,  2260.3,2, 2359.47,2,   7.5932,2,    24.99,   0.5654, -999.00,9,  -999.0,9,  -999.0, -999.00,1,-999.000,9,  -999.0,9, -999.00,9,     -999.0,9,    4.74,2, 20160222,     2044, -61.4999,  82.0002,     -999.0,9,     -999.0,9,     -999.0,9,-999.0000,9,-999.0000,9,-999.0000,9,-999.0000,9,-999.0000,9,-999.0000,9,-999.0000,9,     -999.0,9,     -999.0,9,       1.98,2,       4.74,2,       1.98,2
33RR20160208,       I08S,      15,          1,          3,          3,2,20160222,       2040,   -61.4999,    82.0002,       2175,  1865.8,   0.6890,  34.7025,2,  34.7035,2,    209.2,2,   208.8,2,   119.5,2,    0.00,2,   32.21,2,    0.00,2,    2.26,2,   0.249,2,   0.135,2,   0.004,2,         0.277,2,  -999.0,9, -999.00,9,-999.0000,9,  -999.00,   0.6892, -999.00,9,  -999.0,9,  -999.0, -999.00,9,-999.000,9,  -999.0,9, -999.00,9,     -999.0,9, -999.00,9, 20160222,     2048, -61.4999,  82.0002,     -999.0,9,     -999.0,9,     -999.0,9,-999.0000,9,-999.0000,9,-999.0000,9,-999.0000,9,-999.0000,9,-999.0000,9,-999.0000,9,     -999.0,9,     -999.0,9,     -999.0,9,     -999.0,9,     -999.0,9
33RR20160208,       I08S,      15,          1,          4,          4,2,20160222,       2040,   -61.4999,    82.0002,       2175,  1863.2,   0.6921,  34.7026,2,  34.7039,2,    209.2,2,   209.0,2,   119.6,2,    0.00,2,   32.26,2,    0.00,2,    2.26,2,-999.000,9,-999.000,9,-999.000,9,-999.000000000,9,  2260.7,2, 2358.48,6,   7.5962,6,    24.99,   0.6920, -999.00,9,  -999.0,9,  -999.0, -999.00,1,-999.000,9,  -999.0,9, -999.00,9,     -999.0,9,    4.71,2, 20160222,     2048, -61.4999,  82.0002,     -999.0,9,     -999.0,9,     -999.0,9,-999.0000,9,-999.0000,9,-999.0000,9,-999.0000,9,-999.0000,9,-999.0000,9,-999.0000,9,     -999.0,9,     -999.0,9,       2.05,2,       4.71,2,       2.05,2
33RR20160208,       I08S,      15,          1,          5,          5,3,20160222,       2040,   -61.4999,    82.0002,       2175,  1660.0,   0.8441,  34.7113,3,  34.7119,3,    207.5,3,   207.4,3,   114.4,3,    0.00,3,   31.87,3,    0.00,3,    2.24,3,-999.000,9,-999.000,9,-999.000,9,-999.000000000,9,  -999.0,9, -999.00,9,-999.0000,9,     9.00,   0.8440, -999.00,9,  -999.0,9,  -999.0, -999.00,9,-999.000,9,  -999.0,9, -999.00,9,     -999.0,9, -999.00,9, 20160222,     2052, -61.4999,  82.0004,     -999.0,9,     -999.0,9,     -999.0,9,-999.0000,9,-999.0000,9,-999.0000,9,-999.0000,9,-999.0000,9,-999.0000,9,-999.0000,9,     -999.0,9,     -999.0,9,     -999.0,9,     -999.0,9,     -999.0,9
33RR20160208,       I08S,      15,          1,          6,          6,2,20160222,       2040,   -61.4999,    82.0002,       2175,  1659.5,   0.8459,  34.7114,2,  34.7127,2,    207.5,2,   207.2,2,   114.1,2,    0.00,2,   31.87,2,    0.00,2,    2.24,2,   0.249,2,   0.139,2,   0.004,2,         0.282,2,  2255.6,2, 2357.28,2,   7.5995,2,    24.98,   0.8460, -999.00,9,  -999.0,9,  -999.0, -999.00,1,-999.000,9,  -999.0,9, -999.00,9,     -999.0,9,    4.71,2, 20160222,     2053, -61.4999,  82.0003,     -999.0,9,     -999.0,9,     -999.0,9,-999.0000,9,-999.0000,9,-999.0000,9,-999.0000,9,-999.0000,9,-999.0000,9,-999.0000,9,     -999.0,9,     -999.0,9,       1.99,2,       4.71,2,       1.99,2
33RR20160208,       I08S,      15,          1,          7,          7,2,20160222,       2040,   -61.4999,    82.0002,       2175,  1601.0,   0.8982,  34.7143,2,  34.7152,2,    206.9,2,   206.7,2,   112.8,2,    0.00,2,   31.75,2,    0.00,2,    2.24,2,   0.240,2,   0.129,2,   0.004,2,         0.298,2,  2258.4,2, 2356.44,2,   7.5998,2,    25.00,   0.8970, -999.00,9,  -999.0,9,  -999.0, -999.00,1,-999.000,9,  -999.0,9, -999.00,9,     -999.0,9,    4.75,2, 20160222,     2055, -61.4999,  82.0002,     -999.0,9,     -999.0,9,     -999.0,9,-999.0000,9,-999.0000,9,-999.0000,9,-999.0000,9,-999.0000,9,-999.0000,9,-999.0000,9,     -999.0,9,     -999.0,9,        2.0,2,       4.75,2,        2.0,2
33RR20160208,       I08S,      15,          1,          8,          8,2,20160222,       2040,   -61.4999,    82.0002,       2175,  1538.5,   0.9441,  34.7170,2,  34.7178,2,    206.2,2,   205.1,2,   111.4,2,    0.00,2,   31.63,2,    0.00,2,    2.25,2,   0.232,2,   0.128,2,   0.002,2,         0.257,2,  2256.9,2, 2356.82,2,   7.6001,2,    25.00,   0.9442, -999.00,9,  -999.0,9,  -999.0, -999.00,1,-999.000,9,  -999.0,9, -999.00,9,     -999.0,9,    4.77,2, 20160222,     2057, -61.4999,  82.0003,     -999.0,9,     -999.0,9,     -999.0,9,-999.0000,9,-999.0000,9,-999.0000,9,-999.0000,9,-999.0000,9,-999.0000,9,-999.0000,9,     -999.0,9,     -999.0,9,       1.96,2,       4.77,2,       1.96,2
33RR20160208,       I08S,      15,          1,          9,          9,2,20160222,       2040,   -61.4999,    82.0002,       2175,  1438.0,   1.0205,  34.7214,2,  34.7221,2,    206.5,2,   206.9,2,   108.0,2,    0.00,2,   31.35,2,    0.00,2,    2.19,2,   0.239,2,   0.131,2,   0.004,2,         0.266,2,  2256.8,2, 2357.32,2,   7.6034,2,    25.01,   1.0218, -999.00,9,  -999.0,9,  -999.0, -999.00,1,-999.000,9,  -999.0,9, -999.00,9,     -999.0,9,    4.79,2, 20160222,     2100, -61.4999,  82.0002,     -999.0,9,     -999.0,9,     -999.0,9,-999.0000,9,-999.0000,9,-999.0000,9,-999.0000,9,-999.0000,9,-999.0000,9,-999.0000,9,     -999.0,9,     -999.0,9,       2.01,2,       4.79,2,       2.01,2
33RR20160208,       I08S,      15,          1,         10,         10,2,20160222,       2040,   -61.4999,    82.0002,       2175,  1335.3,   1.1179,  34.7268,2,  34.7278,2,    205.5,2,   205.8,2,   105.0,2,    0.00,2,   31.12,2,    0.00,2,    2.17,2,   0.241,2,   0.128,2,   0.004,2,         0.259,2,  2253.9,2, 2356.03,2,   7.6052,2,    25.01,   1.1177, -999.00,9,  -999.0,9,  -999.0, -999.00,1,-999.000,9,  -999.0,9, -999.00,9,     -999.0,9,     4.8,2, 20160222,     2103, -61.4999,  82.0003,     -999.0,9,     -999.0,9,     -999.0,9,-999.0000,9,-999.0000,9,-999.0000,9,-999.0000,9,-999.0000,9,-999.0000,9,-999.0000,9,     -999.0,9,     -999.0,9,       1.96,2,        4.8,2,       1.96,2
33RR20160208,       I08S,      15,          1,         11,         11,2,20160222,       2040,   -61.4999,    82.0002,       2175,  1234.3,   1.1932,  34.7310,2,  34.7296,2,    205.3,2,   205.0,2,   101.5,2,    0.00,2,   30.95,2,    0.00,2,    2.14,2,   0.238,2,   0.128,2,   0.005,2,         0.333,2,  2253.8,2, 2356.06,2,   7.6078,6,    24.96,   1.1932, -999.00,9,  -999.0,9,  -999.0, -999.00,1,-999.000,9,  -999.0,9, -999.00,9,     -999.0,9,    4.82,2, 20160222,     2105, -61.4999,  82.0003,     -999.0,9,     -999.0,9,     -999.0,9,-999.0000,9,-999.0000,9,-999.0000,9,-999.0000,9,-999.0000,9,-999.0000,9,-999.0000,9,     -999.0,9,     -999.0,9,       1.98,2,       4.82,2,       1.98,2
33RR20160208,       I08S,      15,          1,         12,         12,2,20160222,       2040,   -61.4999,    82.0002,       2175,  1130.5,   1.2846,  34.7357,2,  34.7360,2,    203.8,2,   204.0,2,    99.3,2,    0.00,2,   30.83,2,    0.00,2,    2.15,2,   0.227,2,   0.126,2,   0.005,2,         0.276,2,  2252.7,2, 2355.48,2,   7.6081,2,    24.96,   1.2854, -999.00,9,  -999.0,9,  -999.0, -999.00,1,-999.000,9,  -999.0,9, -999.00,9,     -999.0,9,    4.82,2, 20160222,     2108, -61.4999,  82.0003,     -999.0,9,     -999.0,9,     -999.0,9,-999.0000,9,-999.0000,9,-999.0000,9,-999.0000,9,-999.0000,9,-999.0000,9,-999.0000,9,     -999.0,9,     -999.0,9,       1.95,2,       4.82,2,       1.95,2
33RR20160208,       I08S,      15,          1,         13,         13,2,20160222,       2040,   -61.4999,    82.0002,       2175,  1033.8,   1.3760,  34.7401,2,  34.7419,2,    203.4,2,   202.7,2,    96.4,2,    0.00,2,   30.65,2,    0.00,2,    2.14,2,   0.233,2,   0.124,2,   0.005,2,         0.262,2,  2251.4,2, 2354.04,2,   7.6094,6,    25.01,   1.3755, -999.00,9,  -999.0,9,  -999.0, -999.00,1,-999.000,9,  -999.0,9, -999.00,9,     -999.0,9,    4.83,2, 20160222,     2111, -61.4999,  82.0002,     -999.0,9,     -999.0,9,     -999.0,9,-999.0000,9,-999.0000,9,-999.0000,9,-999.0000,9,-999.0000,9,-999.0000,9,-999.0000,9,     -999.0,9,     -999.0,9,       1.93,2,       4.83,2,       1.93,2
33RR20160208,       I08S,      15,          1,         14,         14,2,20160222,       2040,   -61.4999,    82.0002,       2175,   935.5,   1.4533,  34.7423,2,  34.7435,2,    201.3,2,   202.1,2,    95.0,2,    0.00,2,   30.66,2,    0.00,2,    2.12,2,   0.226,2,   0.122,2,   0.007,2,         0.272,2,  2248.4,2, 2353.29,2,   7.6076,6,    24.99,   1.4529, -999.00,9,  -999.0,9,  -999.0, -999.00,1,-999.000,9,  -999.0,9, -999.00,9,     -999.0,9,    4.84,2, 20160222,     2113, -61.4999,  82.0002,     -999.0,9,     -999.0,9,     -999.0,9,-999.0000,9,-999.0000,9,-999.0000,9,-999.0000,9,-999.0000,9,-999.0000,9,-999.0000,9,     -999.0,9,     -999.0,9,       2.04,2,       4.84,2,       2.04,2
33RR20160208,       I08S,      15,          1,         15,         15,2,20160222,       2040,   -61.4999,    82.0002,       2175,   934.7,   1.4583,  34.7425,2,  34.7435,2,    201.1,2,   201.8,2,    95.0,2,    0.00,2,   30.62,2,    0.00,2,    2.14,2,-999.000,9,-999.000,9,-999.000,9,-999.000000000,9,  -999.0,9, -999.00,9,-999.0000,9,  -999.00,   1.4579, -999.00,9,  -999.0,9,  -999.0, -999.00,9,-999.000,9,  -999.0,9, -999.00,9,     -999.0,9, -999.00,9, 20160222,     2114, -61.4999,  82.0002,     -999.0,9,     -999.0,9,     -999.0,9,-999.0000,9,-999.0000,9,-999.0000,9,-999.0000,9,-999.0000,9,-999.0000,9,-999.0000,9,     -999.0,9,     -999.0,9,     -999.0,9,     -999.0,9,     -999.0,9
33RR20160208,       I08S,      15,          1,         17,         17,2,20160222,       2040,   -61.4999,    82.0002,       2175,   834.9,   1.5575,  34.7444,2,  34.7447,2,    199.6,2,   199.4,2,    92.2,2,    0.00,2,   30.54,2,    0.00,2,    2.14,2,-999.000,9,-999.000,9,-999.000,9,-999.000000000,9,  -999.0,9, -999.00,9,-999.0000,9,  -999.00,   1.5582, -999.00,9,  -999.0,9,  -999.0, -999.00,9,-999.000,9,  -999.0,9, -999.00,9,     -999.0,9,    4.85,2, 20160222,     2117, -61.4999,  82.0004,     -999.0,9,     -999.0,9,     -999.0,9,-999.0000,9,-999.0000,9,-999.0000,9,-999.0000,9,-999.0000,9,-999.0000,9,-999.0000,9,     -999.0,9,     -999.0,9,       2.04,2,       4.85,2,       2.04,2
33RR20160208,       I08S,      15,          1,         16,         16,2,20160222,       2040,   -61.4999,    82.0002,       2175,   834.1,   1.5541,  34.7444,2,  34.7445,2,    199.5,2,   199.5,2,    92.4,2,    0.00,2,   30.54,2,    0.00,2,    2.15,2,   0.229,2,   0.134,2,   0.008,2,         0.293,2,  2246.4,2, 2352.16,2,   7.6071,6,    24.98,   1.5549, -999.00,9,  -999.0,9,  -999.0, -999.00,1,-999.000,9,  -999.0,9, -999.00,9,     -999.0,9, -999.00,9, 20160222,     2117, -61.4999,  82.0003,     -999.0,9,     -999.0,9,     -999.0,9,-999.0000,9,-999.0000,9,-999.0000,9,-999.0000,9,-999.0000,9,-999.0000,9,-999.0000,9,     -999.0,9,     -999.0,9,     -999.0,9,     -999.0,9,     -999.0,9
33RR20160208,       I08S,      15,          1,         19,         19,2,20160222,       2040,   -61.4999,    82.0002,       2175,   735.8,   1.6332,  34.7443,2,  34.7437,2,    197.1,2,   197.1,2,    90.2,2,    0.00,2,   30.61,2,    0.00,2,    2.15,2,-999.000,9,-999.000,9,-999.000,9,-999.000000000,9,  2247.8,2, 2350.36,2,   7.6042,6,    24.98,   1.6335, -999.00,9,  -999.0,9,  -999.0, -999.00,1,-999.000,9,  -999.0,9, -999.00,9,     -999.0,9,    4.83,2, 20160222,     2120, -61.4999,  82.0003,     -999.0,9,     -999.0,9,     -999.0,9,-999.0000,9,-999.0000,9,-999.0000,9,-999.0000,9,-999.0000,9,-999.0000,9,-999.0000,9,     -999.0,9,     -999.0,9,       1.92,2,       4.83,2,       1.92,2
33RR20160208,       I08S,      15,          1,         18,         18,3,20160222,       2040,   -61.4999,    82.0002,       2175,   735.4,   1.6344,  34.7443,3,  34.7419,3,    197.1,3,   197.4,3,    90.3,3,    0.00,3,   30.63,3,    0.00,3,    2.15,3,   0.238,2,   0.141,2,   0.009,2,         0.319,2,  -999.0,9, -999.00,9,-999.0000,9,  -999.00,   1.6334, -999.00,9,  -999.0,9,  -999.0, -999.00,9,-999.000,9,  -999.0,9, -999.00,9,     -999.0,9, -999.00,9, 20160222,     2120, -61.4999,  82.0003,     -999.0,9,     -999.0,9,     -999.0,9,-999.0000,9,-999.0000,9,-999.0000,9,-999.0000,9,-999.0000,9,-999.0000,9,-999.0000,9,     -999.0,9,     -999.0,9,     -999.0,9,     -999.0,9,     -999.0,9
33RR20160208,       I08S,      15,          1,         21,         21,2,20160222,       2040,   -61.4999,    82.0002,       2175,   635.4,   1.7184,  34.7411,2,  34.7417,2,    194.0,2,   192.9,2,    89.1,2,    0.00,2,   30.90,2,    0.00,2,    2.17,2,-999.000,9,-999.000,9,-999.000,9,-999.000000000,9,  -999.0,9, -999.00,9,-999.0000,9,     9.00,   1.7183, -999.00,9,  -999.0,9,  -999.0, -999.00,9,-999.000,9,  -999.0,9, -999.00,9,     -999.0,9, -999.00,9, 20160222,     2123, -61.4999,  82.0003,     -999.0,9,     -999.0,9,     -999.0,9,-999.0000,9,-999.0000,9,-999.0000,9,-999.0000,9,-999.0000,9,-999.0000,9,-999.0000,9,     -999.0,9,     -999.0,9,     -999.0,9,     -999.0,9,     -999.0,9
33RR20160208,       I08S,      15,          1,         20,         20,2,20160222,       2040,   -61.4999,    82.0002,       2175,   634.2,   1.7187,  34.7411,2,  34.7409,2,    193.8,2,   193.1,2,    89.1,2,    0.00,2,   30.92,2,    0.00,2,    2.15,2,   0.257,2,   0.155,2,   0.011,2,         0.362,2,  2252.2,2, 2349.35,2,   7.5973,2,    24.95,   1.7184, -999.00,9,  -999.0,9,  -999.0, -999.00,1,-999.000,9,  -999.0,9, -999.00,9,     -999.0,9,    4.83,2, 20160222,     2123, -61.4999,  82.0002,     -999.0,9,     -999.0,9,     -999.0,9,-999.0000,9,-999.0000,9,-999.0000,9,-999.0000,9,-999.0000,9,-999.0000,9,-999.0000,9,     -999.0,9,     -999.0,9,       1.98,2,       4.83,2,       1.98,2
33RR20160208,       I08S,      15,          1,         22,         22,2,20160222,       2040,   -61.4999,    82.0002,       2175,   536.3,   1.7891,  34.7360,2,  34.7356,2,    190.7,2,   189.9,2,    88.2,2,    0.00,2,   31.26,2,    0.00,2,    2.20,2,   0.274,2,   0.156,2,   0.013,2,         0.368,2,  2251.9,2, 2350.81,2,   7.5916,2,    24.92,   1.7884, -999.00,9,  -999.0,9,  -999.0, -999.00,1,-999.000,9,  -999.0,9, -999.00,9,     -999.0,9,    4.82,2, 20160222,     2126, -61.4999,  82.0003,     -999.0,9,     -999.0,9,     -999.0,9,-999.0000,9,-999.0000,9,-999.0000,9,-999.0000,9,-999.0000,9,-999.0000,9,-999.0000,9,     -999.0,9,     -999.0,9,       2.03,2,       4.82,2,       2.03,2
33RR20160208,       I08S,      15,          1,         23,         23,2,20160222,       2040,   -61.4999,    82.0002,       2175,   435.4,   1.8472,  34.7270,2,  34.7262,2,    186.6,2,   186.3,2,    86.8,2,    0.00,2,   31.73,2,    0.00,2,    2.23,2,   0.316,2,   0.173,2,   0.016,2,         0.276,2,  2254.5,6, 2345.28,2,   7.5813,2,    24.96,   1.8470, -999.00,9,  -999.0,9,  -999.0, -999.00,1,-999.000,9,  -999.0,9, -999.00,9,     -999.0,9,    4.81,2, 20160222,     2129, -61.4999,  82.0003,     -999.0,9,     -999.0,9,     -999.0,9,-999.0000,9,-999.0000,9,-999.0000,9,-999.0000,9,-999.0000,9,-999.0000,9,-999.0000,9,     -999.0,9,     -999.0,9,       1.93,2,       4.81,2,       1.93,2
33RR20160208,       I08S,      15,          1,         24,         24,2,20160222,       2040,   -61.4999,    82.0002,       2175,   366.1,   1.8818,  34.7179,2,  34.7173,2,    183.1,2,   182.4,2,    86.7,2,    0.00,2,   32.07,2,    0.00,2,    2.26,2,   0.347,2,   0.194,2,   0.020,2,         0.277,2,  2255.2,2, 2344.07,2,   7.5732,2,    24.99,   1.8817, -999.00,9,  -999.0,9,  -999.0, -999.00,1,-999.000,9,  -999.0,9, -999.00,9,     -999.0,9,    4.82,2, 20160222,     2131, -61.4999,  82.0002,     -999.0,9,     -999.0,9,     -999.0,9,-999.0000,9,-999.0000,9,-999.0000,9,-999.0000,9,-999.0000,9,-999.0000,9,-999.0000,9,     -999.0,9,     -999.0,9,        2.0,2,       4.82,2,        2.0,2
33RR20160208,       I08S,      15,          1,         25,         25,2,20160222,       2040,   -61.4999,    82.0002,       2175,   314.5,   1.9021,  34.7099,2,  34.7101,2,    179.6,2,   180.1,2,    86.5,2,    0.00,2,   32.45,2,    0.00,2,    2.27,2,   0.376,2,   0.207,2,   0.023,2,         0.376,2,  2257.9,2, 2344.81,2,   7.5668,6,    24.98,   1.9023, -999.00,9,  -999.0,9,  -999.0, -999.00,1,-999.000,9,  -999.0,9, -999.00,9,     -999.0,9,    4.79,2, 20160222,     2133, -61.4999,  82.0002,     -999.0,9,     -999.0,9,     -999.0,9,-999.0000,9,-999.0000,9,-999.0000,9,-999.0000,9,-999.0000,9,-999.0000,9,-999.0000,9,     -999.0,9,     -999.0,9,       1.91,2,       4.79,2,       1.91,2
33RR20160208,       I08S,      15,          1,         26,         26,2,20160222,       2040,   -61.4999,    82.0002,       2175,   264.8,   1.9139,  34.7000,2,  34.7005,2,    177.2,2,   178.2,2,    86.3,2,    0.00,2,   32.75,2,    0.01,2,    2.27,2,   0.422,2,   0.224,2,   0.025,2,         0.394,2,  2259.9,2, 2344.30,2,   7.5614,2,    24.98,   1.9138, -999.00,9,  -999.0,9,  -999.0, -999.00,1,-999.000,9,  -999.0,9, -999.00,9,     -999.0,9,    4.75,2, 20160222,     2135, -61.4999,  82.0003,     -999.0,9,     -999.0,9,     -999.0,9,-999.0000,9,-999.0000,9,-999.0000,9,-999.0000,9,-999.0000,9,-999.0000,9,-999.0000,9,     -999.0,9,     -999.0,9,       1.89,2,       4.78,2,       1.83,2
33RR20160208,       I08S,      15,          1,         27,         27,2,20160222,       2040,   -61.4999,    82.0002,       2175,   216.7,   1.9099,  34.6832,2,  34.6828,2,    174.5,2,   175.2,3,    85.8,2,    0.00,2,   33.21,2,    0.02,2,    2.30,2,   0.480,2,   0.264,2,   0.034,2,         0.394,2,  2262.0,2, 2343.13,2,   7.5523,2,    24.97,   1.9086, -999.00,9,  -999.0,9,  -999.0, -999.00,1,-999.000,9,  -999.0,9, -999.00,9,     -999.0,9,    4.77,2, 20160222,     2137, -61.4999,  82.0002,     -999.0,9,     -999.0,9,     -999.0,9,-999.0000,9,-999.0000,9,-999.0000,9,-999.0000,9,-999.0000,9,-999.0000,9,-999.0000,9,     -999.0,9,     -999.0,9,       1.89,2,       4.76,2,       1.92,2