BOTTLE,20220706CCHSIOAMB
EXPOCODE,SECT_ID,STNNBR,CASTNO,SAMPNO,BTLNBR,BTLNBR_FLAG_W,DATE,TIME,LATITUDE,LONGITUDE,DEPTH,CTDPRS,CTDTMP,CTDSAL,CTDSAL_FLAG_W,SALNTY,SALNTY_FLAG_W,CTDOXY,CTDOXY_FLAG_W,OXYGEN,OXYGEN_FLAG_W,SILCAT,SILCAT_FLAG_W,NH4,NH4_FLAG_W,NITRAT,NITRAT_FLAG_W,NITRIT,NITRIT_FLAG_W,PHSPHT,PHSPHT_FLAG_W,CFC-11,CFC-11_FLAG_W,CFC-12,CFC-12_FLAG_W,CFC113,CFC113_FLAG_W,SF6,SF6_FLAG_W,TCARBN,TCARBN_FLAG_W,ALKALI,ALKALI_FLAG_W,PH_TOT,PH_TOT_FLAG_W,PH_TMP,REFTMP,DELC13,DELC13_FLAG_W,DELC14,DELC14_FLAG_W,C14ERR,DELO18,DELO18_FLAG_W,POC,POC_FLAG_W,DOC,DOC_FLAG_W,TDN,TDN_FLAG_W,TON,TON_FLAG_W,D15N_NO3,D15N_NO3_FLAG_W,BTL_DATE,BTL_TIME,BTL_LAT,BTL_LON,14C-DOC,14C-DOC_FLAG_W,CHLORA,CHLORA_FLAG_W,HPLC,HPLC_FLAG_W,CDOM325,CDOM325_FLAG_W,CDOM340,CDOM340_FLAG_W,CDOM380,CDOM380_FLAG_W,CDOM412,CDOM412_FLAG_W,CDOM443,CDOM443_FLAG_W,CDOM490,CDOM490_FLAG_W,CDOM555,CDOM555_FLAG_W,CDOMSL,CDOMSL_FLAG_W,CDOMSN,CDOMSN_FLAG_W,D18O_NO3,D18O_NO3_FLAG_W,D15N_NO2+NO3,D15N_NO2+NO3_FLAG_W,D18O_NO2+NO3,D18O_NO2+NO3_FLAG_W
,,,,,,,,,,,METERS,DBAR,ITS-90,PSS-78,,PSS-78,,UMOL/KG,,UMOL/KG,,UMOL/KG,,UMOL/KG,,UMOL/KG,,UMOL/KG,,UMOL/KG,,PMOL/KG,,PMOL/KG,,PMOL/KG,,FMOL/KG,,UMOL/KG,,UMOL/KG,,,,DEG C,DEG C,/MILLE,,/MILLE,,/MILLE,/MILLE,,UG/KG,,UMOL/KG,,UMOL/KG,,UMOL/KG,,/MILLE,,,,,,/MILLE,,MG/M3,,,,1/M,,1/M,,1/M,,1/M,,1/M,,1/M,,1/M,,1/NM,,1/NM,,/MILLE,,/MILLE,,/MILLE,
33RR20160208,       I08S,      20,          1,          1,          1,2,20160223,       2000,   -59.0001,    82.0000,       1291,  1290.4,   0.9192,  34.7163,2,  34.7168,2,    197.1,2,   197.2,2,   137.8,2,    0.00,2,   32.53,2,    0.01,2,    2.27,2,   0.239,2,   0.124,2,   0.004,2,         0.154,2,  2265.1,6, 2359.62,2,   7.5827,6,    24.99,   0.9187, -999.00,9,  -999.0,9,  -999.0, -999.00,1,-999.000,9,    38.8,2, -999.00,9,     -999.0,1, -999.00,9, 20160223,     2000, -59.0001,  82.0000,     -999.0,9,     -999.0,9,     -999.0,9,-999.0000,9,-999.0000,9,-999.0000,9,-999.0000,9,-999.0000,9,-999.0000,9,-999.0000,9,     -999.0,9,     -999.0,9,     -999.0,9,     -999.0,9,     -999.0,9
33RR20160208,       I08S,      20,          1,          2,          2,2,20160223,       2000,   -59.0001,    82.0000,       1291,  1192.6,   0.9401,  34.7177,2,  34.7182,2,    198.2,2,   197.0,2,   134.2,2,    0.00,2,   32.41,2,    0.00,2,    2.23,2,-999.000,9,-999.000,9,-999.000,9,-999.000000000,9,  -999.0,9, -999.00,9,-999.0000,9,     9.00,   0.9409, -999.00,9,  -999.0,9,  -999.0, -999.00,1,-999.000,9,    39.7,2, -999.00,9,     -999.0,1, -999.00,9, 20160223,     2004, -59.0001,  82.0000,     -999.0,9,     -999.0,9,     -999.0,9,-999.0000,9,-999.0000,9,-999.0000,9,-999.0000,9,-999.0000,9,-999.0000,9,-999.0000,9,     -999.0,9,     -999.0,9,     -999.0,9,     -999.0,9,     -999.0,9
33RR20160208,       I08S,      20,          1,          3,          3,2,20160223,       2000,   -59.0001,    82.0000,       1291,  1103.2,   1.0609,  34.7242,2,  34.7245,2,    201.1,2,   202.2,2,   109.5,2,    0.00,2,   31.56,2,    0.00,2,    2.19,2,   0.226,2,   0.119,2,   0.002,2,         0.133,2,  2255.4,2, 2356.05,2,   7.5976,2,    24.98,   1.0606, -999.00,9,  -999.0,9,  -999.0, -999.00,1,-999.000,9,    40.0,2, -999.00,9,     -999.0,1, -999.00,9, 20160223,     2006, -59.0001,  81.9999,     -999.0,9,     -999.0,9,     -999.0,9,-999.0000,9,-999.0000,9,-999.0000,9,-999.0000,9,-999.0000,9,-999.0000,9,-999.0000,9,     -999.0,9,     -999.0,9,     -999.0,9,     -999.0,9,     -999.0,9
33RR20160208,       I08S,      20,          1,          4,          4,2,20160223,       2000,   -59.0001,    82.0000,       1291,   994.1,   1.1843,  34.7303,2,  34.7314,2,    201.4,2,   202.2,2,   102.9,2,    0.00,2,   31.25,2,    0.00,2,    2.15,2,-999.000,9,-999.000,9,-999.000,9,-999.000000000,9,  -999.0,9, -999.00,9,-999.0000,9,  -999.00,   1.1843, -999.00,9,  -999.0,9,  -999.0, -999.00,1,-999.000,9,    40.1,2, -999.00,9,     -999.0,1, -999.00,9, 20160223,     2009, -59.0001,  82.0000,     -999.0,9,     -999.0,9,     -999.0,9,-999.0000,9,-999.0000,9,-999.0000,9,-999.0000,9,-999.0000,9,-999.0000,9,-999.0000,9,     -999.0,9,     -999.0,9,     -999.0,9,     -999.0,9,     -999.0,9
33RR20160208,       I08S,      20,          1,          5,          5,2,20160223,       2000,   -59.0001,    82.0000,       1291,   901.1,   1.2701,  34.7343,2,  34.7355,2,    201.7,2,   201.6,2,    99.7,2,    0.00,2,   31.02,2,    0.00,2,    2.16,2,   0.247,2,   0.154,2,   0.009,2,         0.153,2,  2253.4,2, 2354.56,2,   7.6040,2,    24.99,   1.2718, -999.00,9,  -999.0,9,  -999.0, -999.00,1,-999.000,9,    39.1,2, -999.00,9,     -999.0,1, -999.00,9, 20160223,     2012, -59.0001,  82.0000,     -999.0,9,     -999.0,9,     -999.0,9,-999.0000,9,-999.0000,9,-999.0000,9,-999.0000,9,-999.0000,9,-999.0000,9,-999.0000,9,     -999.0,9,     -999.0,9,     -999.0,9,     -999.0,9,     -999.0,9
33RR20160208,       I08S,      20,          1,          6,          6,2,20160223,       2000,   -59.0001,    82.0000,       1291,   798.5,   1.3901,  34.7385,2,  34.7388,2,    200.3,2,   199.6,2,    95.8,2,    0.00,2,   30.86,2,    0.00,2,    2.13,2,-999.000,9,-999.000,9,-999.000,9,-999.000000000,9,  -999.0,9, -999.00,9,-999.0000,9,  -999.00,   1.3880, -999.00,9,  -999.0,9,  -999.0, -999.00,1,-999.000,9,    39.7,2, -999.00,9,     -999.0,1, -999.00,9, 20160223,     2015, -59.0001,  82.0000,     -999.0,9,     -999.0,9,     -999.0,9,-999.0000,9,-999.0000,9,-999.0000,9,-999.0000,9,-999.0000,9,-999.0000,9,-999.0000,9,     -999.0,9,     -999.0,9,     -999.0,9,     -999.0,9,     -999.0,9
33RR20160208,       I08S,      20,          1,          7,          7,2,20160223,       2000,   -59.0001,    82.0000,       1291,   699.0,   1.4845,  34.7407,2,  34.7408,2,    199.1,2,   199.3,2,    93.4,2,    0.00,2,   30.78,2,    0.00,2,    2.14,2,   0.246,2,   0.139,2,   0.006,2,          0.14,2,  2250.0,2, 2351.86,2,   7.6029,6,    24.99,   1.4853, -999.00,9,  -999.0,9,  -999.0, -999.00,1,-999.000,9,    39.0,2, -999.00,9,     -999.0,1, -999.00,9, 20160223,     2018, -59.0001,  81.9999,     -999.0,9,     -999.0,9,     -999.0,9,-999.0000,9,-999.0000,9,-999.0000,9,-999.0000,9,-999.0000,9,-999.0000,9,-999.0000,9,     -999.0,9,     -999.0,9,     -999.0,9,     -999.0,9,     -999.0,9
33RR20160208,       I08S,      20,          1,          8,          8,2,20160223,       2000,   -59.0001,    82.0000,       1291,   597.7,   1.5909,  34.7410,2,  34.7410,2,    196.0,2,   196.2,2,    90.8,2,    0.00,2,   30.82,2,    0.00,2,    2.15,2,-999.000,9,-999.000,9,-999.000,9,-999.000000000,9,  -999.0,9, -999.00,9,-999.0000,9,     9.00,   1.5911, -999.00,9,  -999.0,9,  -999.0, -999.00,1,-999.000,9,    40.4,2, -999.00,9,     -999.0,1, -999.00,9, 20160223,     2021, -59.0001,  81.9999,     -999.0,9,     -999.0,9,     -999.0,9,-999.0000,9,-999.0000,9,-999.0000,9,-999.0000,9,-999.0000,9,-999.0000,9,-999.0000,9,     -999.0,9,     -999.0,9,     -999.0,9,     -999.0,9,     -999.0,9
33RR20160208,       I08S,      20,          1,          9,          9,2,20160223,       2000,   -59.0001,    82.0000,       1291,   496.1,   1.6568,  34.7371,2,  34.7372,2,    194.0,2,   193.1,2,    89.1,2,    0.00,2,   31.02,2,    0.00,2,    2.17,2,   0.290,2,   0.161,2,   0.011,2,         0.159,2,  2250.6,2, 2349.85,2,   7.5943,2,    24.98,   1.6582, -999.00,9,  -999.0,9,  -999.0, -999.00,1,-999.000,9,    40.1,2, -999.00,9,     -999.0,1, -999.00,9, 20160223,     2024, -59.0001,  81.9999,     -999.0,9,     -999.0,9,     -999.0,9,-999.0000,9,-999.0000,9,-999.0000,9,-999.0000,9,-999.0000,9,-999.0000,9,-999.0000,9,     -999.0,9,     -999.0,9,     -999.0,9,     -999.0,9,     -999.0,9
33RR20160208,       I08S,      20,          1,         10,         10,2,20160223,       2000,   -59.0001,    82.0000,       1291,   449.8,   1.6982,  34.7350,2,  34.7355,2,    191.7,2,   192.2,2,    88.8,2,    0.00,2,   31.05,2,    0.00,2,    2.17,2,-999.000,9,-999.000,9,-999.000,9,-999.000000000,9,  2253.3,2, 2348.94,2,   7.5918,6,    24.98,   1.6977, -999.00,9,  -999.0,9,  -999.0, -999.00,1,-999.000,9,    39.3,2, -999.00,9,     -999.0,1, -999.00,9, 20160223,     2026, -59.0001,  81.9999,     -999.0,9,     -999.0,9,     -999.0,9,-999.0000,9,-999.0000,9,-999.0000,9,-999.0000,9,-999.0000,9,-999.0000,9,-999.0000,9,     -999.0,9,     -999.0,9,     -999.0,9,     -999.0,9,     -999.0,9
33RR20160208,       I08S,      20,          1,         11,         11,2,20160223,       2000,   -59.0001,    82.0000,       1291,   400.3,   1.7273,  34.7299,2,  34.7284,2,    189.8,2,   190.5,2,    87.9,2,    0.00,2,   31.32,2,    0.00,2,    2.18,2,   0.326,2,   0.183,2,   0.016,2,         0.215,2,  2256.2,2, 2347.07,2,   7.5865,2,    24.99,   1.7266, -999.00,9,  -999.0,9,  -999.0, -999.00,1,-999.000,9,    38.7,2, -999.00,9,     -999.0,1, -999.00,9, 20160223,     2028, -59.0001,  82.0000,     -999.0,9,     -999.0,9,     -999.0,9,-999.0000,9,-999.0000,9,-999.0000,9,-999.0000,9,-999.0000,9,-999.0000,9,-999.0000,9,     -999.0,9,     -999.0,9,     -999.0,9,     -999.0,9,     -999.0,9
33RR20160208,       I08S,      20,          1,         12,         12,2,20160223,       2000,   -59.0001,    82.0000,       1291,   350.0,   1.7594,  34.7254,2,  34.7255,2,    187.3,2,   187.2,2,    87.6,2,    0.00,2,   31.59,2,    0.00,2,    2.20,2,   0.330,2,   0.188,2,   0.016,2,         0.215,2,  2253.9,2, 2346.89,2,   7.5810,2,    25.00,   1.7595, -999.00,9,  -999.0,9,  -999.0, -999.00,1,-999.000,9,    41.1,2, -999.00,9,     -999.0,1, -999.00,9, 20160223,     2030, -59.0001,  81.9999,     -999.0,9,     -999.0,9,     -999.0,9,-999.0000,9,-999.0000,9,-999.0000,9,-999.0000,9,-999.0000,9,-999.0000,9,-999.0000,9,     -999.0,9,     -999.0,9,     -999.0,9,     -999.0,9,     -999.0,9
33RR20160208,       I08S,      20,          1,         13,         13,2,20160223,       2000,   -59.0001,    82.0000,       1291,   301.6,   1.7992,  34.7163,2,  34.7164,2,    183.2,2,   184.4,2,    87.1,2,    0.00,2,   32.07,2,    0.00,2,    2.25,2,   0.357,2,   0.198,2,   0.019,2,         0.189,2,  2257.8,2, 2346.33,2,   7.5737,2,    24.98,   1.7992, -999.00,9,  -999.0,9,  -999.0, -999.00,1,-999.000,9,    39.5,2,   34.60,2,     -999.0,1, -999.00,9, 20160223,     2032, -59.0001,  82.0000,     -999.0,9,     -999.0,9,     -999.0,9,-999.0000,9,-999.0000,9,-999.0000,9,-999.0000,9,-999.0000,9,-999.0000,9,-999.0000,9,     -999.0,9,     -999.0,9,     -999.0,9,     -999.0,9,     -999.0,9
33RR20160208,       I08S,      20,          1,         14,         14,2,20160223,       2000,   -59.0001,    82.0000,       1291,   250.2,   1.8265,  34.7065,2,  34.7058,2,    180.0,2,   179.7,2,    87.0,2,    0.00,2,   32.63,2,    0.00,2,    2.26,2,   0.392,2,   0.216,2,   0.022,2,           0.2,2,  2258.8,2, 2345.16,2,   7.5629,2,    24.99,   1.8262, -999.00,9,  -999.0,9,  -999.0, -999.00,1,-999.000,9,    39.4,2,   35.20,2,     -999.0,1, -999.00,9, 20160223,     2034, -59.0001,  81.9999,     -999.0,9,     -999.0,9,     -999.0,9,-999.0000,9,-999.0000,9,-999.0000,9,-999.0000,9,-999.0000,9,-999.0000,9,-999.0000,9,     -999.0,9,     -999.0,9,     -999.0,9,     -999.0,9,     -999.0,9
33RR20160208,       I08S,      20,          1,         15,         15,2,20160223,       2000,   -59.0001,    82.0000,       1291,   199.1,   1.8135,  34.6885,2,  34.6880,2,    176.3,2,   176.2,2,    86.7,2,    0.00,2,   33.22,2,    0.00,2,    2.30,2,   0.464,2,   0.257,2,   0.028,2,         0.219,2,  2260.6,2, 2343.08,2,   7.5518,6,    24.98,   1.8128, -999.00,9,  -999.0,9,  -999.0, -999.00,1,-999.000,9,    40.7,2,   34.90,2,     -999.0,1, -999.00,9, 20160223,     2036, -59.0001,  81.9999,     -999.0,9,     -999.0,9,     -999.0,9,-999.0000,9,-999.0000,9,-999.0000,9,-999.0000,9,-999.0000,9,-999.0000,9,-999.0000,9,     -999.0,9,     -999.0,9,     -999.0,9,     -999.0,9,     -999.0,9
33RR20160208,       I08S,      20,          1,         16,         16,2,20160223,       2000,   -59.0001,    82.0000,       1291,   150.5,   1.5226,  34.6249,2,  34.6268,2,    183.8,2,   184.2,2,    83.4,2,    0.00,2,   33.67,2,    0.02,2,    2.33,2,   0.859,2,   0.474,2,   0.069,2,          0.38,2,  2259.7,2, 2338.33,2,   7.5440,2,    24.99,   1.5192, -999.00,9,  -999.0,9,  -999.0, -999.00,1,-999.000,9,    41.5,2,   35.30,2,     -999.0,1, -999.00,9, 20160223,     2038, -59.0001,  81.9999,     -999.0,9,     -999.0,9,     -999.0,9,-999.0000,9,-999.0000,9,-999.0000,9,-999.0000,9,-999.0000,9,-999.0000,9,-999.0000,9,     -999.0,9,     -999.0,9,     -999.0,9,     -999.0,9,     -999.0,9
33RR20160208,       I08S,      20,          1,         17,         17,2,20160223,       2000,   -59.0001,    82.0000,       1291,    99.5,  -1.2641,  34.1781,2,  34.1980,2,    291.7,2,   292.2,2,    63.0,2,    0.41,2,   31.49,2,    0.30,2,    2.23,2,   3.704,2,   2.042,2,   0.363,2,         1.893,2,  2221.6,2, 2310.99,6,   7.5841,2,    25.00,  -1.2851, -999.00,9,  -999.0,9,  -999.0, -999.00,1,-999.000,9,    40.0,2,   33.60,2,     -999.0,1, -999.00,9, 20160223,     2040, -59.0001,  81.9999,     -999.0,9,     -999.0,9,     -999.0,9,-999.0000,9,-999.0000,9,-999.0000,9,-999.0000,9,-999.0000,9,-999.0000,9,-999.0000,9,     -999.0,9,     -999.0,9,     -999.0,9,     -999.0,9,     -999.0,9
33RR20160208,       I08S,      20,          1,         18,         37,2,20160223,       2000,   -59.0001,    82.0000,       1291,    76.2,  -1.1861,  34.0326,2,  34.0299,2,    327.0,2,   326.8,2,    56.1,2,    1.27,2,   29.38,2,    0.24,2,    2.17,2,   4.573,2,   2.618,2,   0.472,2,         2.527,2,  2201.3,2, 2301.97,2,   7.6155,6,    24.99,  -1.1848, -999.00,9,  -999.0,9,  -999.0, -999.00,1,-999.000,9,    40.6,2,   32.80,2,     -999.0,1, -999.00,9, 20160223,     2042, -59.0001,  81.9999,     -999.0,9,     -999.0,9,     -999.0,9,-999.0000,9,-999.0000,9,-999.0000,9,-999.0000,9,-999.0000,9,-999.0000,9,-999.0000,9,     -999.0,9,     -999.0,9,     -999.0,9,     -999.0,9,     -999.0,9
33RR20160208,       I08S,      20,          1,         19,         19,2,20160223,       2000,   -59.0001,    82.0000,       1291,    50.1,   1.3384,  33.8885,2,  33.8898,2,    337.3,2,   337.0,2,    35.6,2,    0.39,2,   25.58,2,    0.26,2,    1.75,2,   4.734,6,   2.672,6,   0.485,6,         2.549,6,  2166.6,2, 2294.32,2,   7.7011,6,    24.99,   1.3392, -999.00,9,  -999.0,9,  -999.0, -999.00,1,-999.000,9,    43.1,2,   28.50,2,     -999.0,1, -999.00,9, 20160223,     2044, -59.0001,  81.9999,     -999.0,9,     -999.0,9,     -999.0,9,-999.0000,9,-999.0000,9,-999.0000,9,-999.0000,9,-999.0000,9,-999.0000,9,-999.0000,9,     -999.0,9,     -999.0,9,     -999.0,9,     -999.0,9,     -999.0,9
33RR20160208,       I08S,      20,          1,         20,         20,2,20160223,       2000,   -59.0001,    82.0000,       1291,    25.4,   1.4453,  33.8909,2,  33.8926,2,    336.9,2,   337.5,2,    35.7,2,    0.37,2,   25.59,2,    0.26,2,    1.76,2,   4.774,2,   2.665,2,   0.483,2,         2.433,2,  2164.9,2, 2295.69,2,   7.7003,2,    24.99,   1.4450, -999.00,9,  -999.0,9,  -999.0, -999.00,1,-999.000,9,    43.2,2,   28.60,2,     -999.0,1, -999.00,9, 20160223,     2045, -59.0001,  81.9999,     -999.0,9,     -999.0,9,     -999.0,9,-999.0000,9,-999.0000,9,-999.0000,9,-999.0000,9,-999.0000,9,-999.0000,9,-999.0000,9,     -999.0,9,     -999.0,9,     -999.0,9,     -999.0,9,     -999.0,9
33RR20160208,       I08S,      20,          1,         21,         21,2,20160223,       2000,   -59.0001,    82.0000,       1291,     5.3,   1.4435,  33.8905,2,  33.8914,2,    337.7,2,   337.8,2,    35.7,2,    0.37,2,   25.56,2,    0.26,2,    1.76,2,   4.749,2,   2.696,2,   0.495,2,         2.442,2,  2166.6,6, 2294.64,2,   7.6996,2,    24.99,   1.4434, -999.00,9,  -999.0,9,  -999.0, -999.00,1,-999.000,9,    43.2,2,   28.70,2,     -999.0,1, -999.00,9, 20160223,     2047, -59.0001,  81.9999,     -999.0,9,     -999.0,9,     -999.0,9,-999.0000,9,-999.0000,9,-999.0000,9,-999.0000,9,-999.0000,9,-999.0000,9,-999.0000,9,     -999.0,9,     -999.0,9,     -999.0,9,     -999.0,9,     -999.0,9