BOTTLE,20220706CCHSIOAMB
EXPOCODE,SECT_ID,STNNBR,CASTNO,SAMPNO,BTLNBR,BTLNBR_FLAG_W,DATE,TIME,LATITUDE,LONGITUDE,DEPTH,CTDPRS,CTDTMP,CTDSAL,CTDSAL_FLAG_W,SALNTY,SALNTY_FLAG_W,CTDOXY,CTDOXY_FLAG_W,OXYGEN,OXYGEN_FLAG_W,SILCAT,SILCAT_FLAG_W,NH4,NH4_FLAG_W,NITRAT,NITRAT_FLAG_W,NITRIT,NITRIT_FLAG_W,PHSPHT,PHSPHT_FLAG_W,CFC-11,CFC-11_FLAG_W,CFC-12,CFC-12_FLAG_W,CFC113,CFC113_FLAG_W,SF6,SF6_FLAG_W,TCARBN,TCARBN_FLAG_W,ALKALI,ALKALI_FLAG_W,PH_TOT,PH_TOT_FLAG_W,PH_TMP,REFTMP,DELC13,DELC13_FLAG_W,DELC14,DELC14_FLAG_W,C14ERR,DELO18,DELO18_FLAG_W,POC,POC_FLAG_W,DOC,DOC_FLAG_W,TDN,TDN_FLAG_W,TON,TON_FLAG_W,D15N_NO3,D15N_NO3_FLAG_W,BTL_DATE,BTL_TIME,BTL_LAT,BTL_LON,14C-DOC,14C-DOC_FLAG_W,CHLORA,CHLORA_FLAG_W,HPLC,HPLC_FLAG_W,CDOM325,CDOM325_FLAG_W,CDOM340,CDOM340_FLAG_W,CDOM380,CDOM380_FLAG_W,CDOM412,CDOM412_FLAG_W,CDOM443,CDOM443_FLAG_W,CDOM490,CDOM490_FLAG_W,CDOM555,CDOM555_FLAG_W,CDOMSL,CDOMSL_FLAG_W,CDOMSN,CDOMSN_FLAG_W,D18O_NO3,D18O_NO3_FLAG_W,D15N_NO2+NO3,D15N_NO2+NO3_FLAG_W,D18O_NO2+NO3,D18O_NO2+NO3_FLAG_W
,,,,,,,,,,,METERS,DBAR,ITS-90,PSS-78,,PSS-78,,UMOL/KG,,UMOL/KG,,UMOL/KG,,UMOL/KG,,UMOL/KG,,UMOL/KG,,UMOL/KG,,PMOL/KG,,PMOL/KG,,PMOL/KG,,FMOL/KG,,UMOL/KG,,UMOL/KG,,,,DEG C,DEG C,/MILLE,,/MILLE,,/MILLE,/MILLE,,UG/KG,,UMOL/KG,,UMOL/KG,,UMOL/KG,,/MILLE,,,,,,/MILLE,,MG/M3,,,,1/M,,1/M,,1/M,,1/M,,1/M,,1/M,,1/M,,1/NM,,1/NM,,/MILLE,,/MILLE,,/MILLE,
33RR20160208,       I08S,      72,          2,          1,          1,2,20160309,       0804,   -33.9960,    94.9989,       4518,  4578.7,   1.0704,  34.7120,2,  34.7151,4,    207.9,2,   207.2,2,   119.8,2,    0.00,2,   31.95,2,    0.00,2,    2.19,2,   0.074,2,   0.053,2,   0.002,2,         0.004,2,  2270.0,6, 2377.84,2,   7.6179,2,    25.15,   1.0701, -999.00,9,  -999.0,9,  -999.0, -999.00,9,-999.000,9,    39.2,2, -999.00,9,     -999.0,1, -999.00,9, 20160309,      804, -33.9960,  94.9989,     -999.0,9,     -999.0,9,     -999.0,9,-999.0000,9,-999.0000,9,-999.0000,9,-999.0000,9,-999.0000,9,-999.0000,9,-999.0000,9,     -999.0,9,     -999.0,9,     -999.0,9,     -999.0,9,     -999.0,9
33RR20160208,       I08S,      72,          2,          2,          2,2,20160309,       0804,   -33.9960,    94.9989,       4518,  4290.7,   1.0630,  34.7133,2,  34.7127,2,    205.3,2,   206.1,2,   119.3,2,    0.00,2,   31.88,2,    0.00,2,    2.18,2,-999.000,9,-999.000,9,-999.000,9,-999.000000000,9,  2267.6,2, 2376.63,2,   7.6179,2,    25.10,   1.0633, -999.00,9,  -999.0,9,  -999.0, -999.00,9,-999.000,9,    38.4,2, -999.00,9,     -999.0,1, -999.00,9, 20160309,      811, -33.9960,  94.9989,     -999.0,9,     -999.0,9,     -999.0,9,-999.0000,9,-999.0000,9,-999.0000,9,-999.0000,9,-999.0000,9,-999.0000,9,-999.0000,9,     -999.0,9,     -999.0,9,     -999.0,9,     -999.0,9,     -999.0,9
33RR20160208,       I08S,      72,          2,          3,          3,2,20160309,       0804,   -33.9960,    94.9989,       4518,  3997.2,   1.0790,  34.7155,2,  34.7145,2,    204.6,2,   205.3,2,   118.0,2,    0.00,2,   31.85,2,    0.00,2,    2.17,2,   0.065,2,   0.050,2,   0.002,2,             0,2,  2265.8,2, 2375.12,6,   7.6171,2,    25.08,   1.0790, -999.00,9,  -999.0,9,  -999.0, -999.00,9,-999.000,9,    38.4,2, -999.00,9,     -999.0,1, -999.00,9, 20160309,      818, -33.9960,  94.9989,     -999.0,9,     -999.0,9,     -999.0,9,-999.0000,9,-999.0000,9,-999.0000,9,-999.0000,9,-999.0000,9,-999.0000,9,-999.0000,9,     -999.0,9,     -999.0,9,     -999.0,9,     -999.0,9,     -999.0,9
33RR20160208,       I08S,      72,          2,          4,          4,2,20160309,       0804,   -33.9960,    94.9989,       4518,  3702.0,   1.1297,  34.7191,2,  34.7186,2,    203.8,2,   204.9,2,   115.5,2,    0.00,2,   31.68,2,    0.00,2,    2.15,2,-999.000,9,-999.000,9,-999.000,9,-999.000000000,9,  2261.8,2, 2368.51,2,   7.6139,2,    25.10,   1.1299, -999.00,9,  -999.0,9,  -999.0, -999.00,9,-999.000,9,    38.9,2, -999.00,9,     -999.0,1, -999.00,9, 20160309,      825, -33.9960,  94.9989,     -999.0,9,     -999.0,9,     -999.0,9,-999.0000,9,-999.0000,9,-999.0000,9,-999.0000,9,-999.0000,9,-999.0000,9,-999.0000,9,     -999.0,9,     -999.0,9,     -999.0,9,     -999.0,9,     -999.0,9
33RR20160208,       I08S,      72,          2,          5,          5,2,20160309,       0804,   -33.9960,    94.9989,       4518,  3402.0,   1.2747,  34.7265,2,  34.7258,2,    201.8,2,   203.1,2,   110.7,2,    0.00,2,   31.38,2,    0.00,2,    2.11,2,   0.063,2,   0.043,2,   0.002,2,             0,2,  2259.4,2, 2366.56,2,   7.6147,2,    25.00,   1.2746, -999.00,9,  -999.0,9,  -999.0, -999.00,9,-999.000,9,    37.7,2, -999.00,9,     -999.0,1, -999.00,9, 20160309,      833, -33.9960,  94.9989,     -999.0,9,     -999.0,9,     -999.0,9,-999.0000,9,-999.0000,9,-999.0000,9,-999.0000,9,-999.0000,9,-999.0000,9,-999.0000,9,     -999.0,9,     -999.0,9,     -999.0,9,     -999.0,9,     -999.0,9
33RR20160208,       I08S,      72,          2,          6,         38,2,20160309,       0804,   -33.9960,    94.9989,       4518,  3098.1,   1.4783,  34.7350,2,  34.7345,2,    199.0,2,   200.4,2,   104.5,2,    0.00,2,   31.01,2,    0.00,2,    2.09,2,-999.000,9,-999.000,9,-999.000,9,-999.000000000,9,  2257.7,2, 2364.23,2,   7.6137,2,    24.99,   1.4784, -999.00,9,  -999.0,9,  -999.0, -999.00,9,-999.000,9,    38.9,2, -999.00,9,     -999.0,1, -999.00,9, 20160309,      840, -33.9960,  94.9989,     -999.0,9,     -999.0,9,     -999.0,9,-999.0000,9,-999.0000,9,-999.0000,9,-999.0000,9,-999.0000,9,-999.0000,9,-999.0000,9,     -999.0,9,     -999.0,9,     -999.0,9,     -999.0,9,     -999.0,9
33RR20160208,       I08S,      72,          2,          7,          7,2,20160309,       0804,   -33.9960,    94.9989,       4518,  2832.1,   1.7102,  34.7402,2,  34.7392,2,    195.0,2,   196.5,2,    98.3,2,    0.00,2,   30.91,2,    0.00,2,    2.07,2,   0.039,2,   0.027,2,   0.002,2,         0.012,2,  2256.5,2, 2362.33,2,   7.6150,2,    24.98,   1.7109, -999.00,9,  -999.0,9,  -999.0, -999.00,9,-999.000,9,    38.6,2, -999.00,9,     -999.0,1, -999.00,9, 20160309,      847, -33.9960,  94.9989,     -999.0,9,     -999.0,9,     -999.0,9,-999.0000,9,-999.0000,9,-999.0000,9,-999.0000,9,-999.0000,9,-999.0000,9,-999.0000,9,     -999.0,9,     -999.0,9,     -999.0,9,     -999.0,9,     -999.0,9
33RR20160208,       I08S,      72,          2,          8,          8,2,20160309,       0804,   -33.9960,    94.9989,       4518,  2586.2,   1.9528,  34.7402,2,  34.7396,2,    190.5,2,   192.0,2,    92.5,2,    0.00,2,   30.98,2,    0.00,2,    2.07,2,-999.000,9,-999.000,9,-999.000,9,-999.000000000,9,  2254.4,2, 2360.15,2,   7.6110,2,    25.01,   1.9533, -999.00,9,  -999.0,9,  -999.0, -999.00,9,-999.000,9,    38.3,2, -999.00,9,     -999.0,1, -999.00,9, 20160309,      853, -33.9960,  94.9989,     -999.0,9,     -999.0,9,     -999.0,9,-999.0000,9,-999.0000,9,-999.0000,9,-999.0000,9,-999.0000,9,-999.0000,9,-999.0000,9,     -999.0,9,     -999.0,9,     -999.0,9,     -999.0,9,     -999.0,9
33RR20160208,       I08S,      72,          2,          9,          9,2,20160309,       0804,   -33.9960,    94.9989,       4518,  2330.5,   2.2006,  34.7264,2,  34.7258,2,    181.7,2,   182.0,2,    89.7,2,    0.00,2,   31.69,2,    0.00,2,    2.10,2,   0.040,2,   0.029,2,   0.002,2,             0,2,  2258.7,2, 2359.31,2,   7.6010,2,    24.98,   2.2004, -999.00,9,  -999.0,9,  -999.0, -999.00,9,-999.000,9,    38.5,2, -999.00,9,     -999.0,1, -999.00,9, 20160309,      900, -33.9960,  94.9989,     -999.0,9,     -999.0,9,     -999.0,9,-999.0000,9,-999.0000,9,-999.0000,9,-999.0000,9,-999.0000,9,-999.0000,9,-999.0000,9,     -999.0,9,     -999.0,9,     -999.0,9,     -999.0,9,     -999.0,9
33RR20160208,       I08S,      72,          2,         10,         10,2,20160309,       0804,   -33.9960,    94.9989,       4518,  2085.5,   2.4596,  34.6969,2,  34.6964,2,    171.3,2,   169.6,2,    88.7,2,    0.00,2,   32.89,2,    0.00,2,    2.21,2,-999.000,9,-999.000,9,-999.000,9,-999.000000000,9,  2264.9,2, 2360.05,2,   7.5844,2,    25.01,   2.4597, -999.00,9,  -999.0,9,  -999.0, -999.00,9,-999.000,9,    39.1,2, -999.00,9,     -999.0,1, -999.00,9, 20160309,      906, -33.9960,  94.9989,     -999.0,9,     -999.0,9,     -999.0,9,-999.0000,9,-999.0000,9,-999.0000,9,-999.0000,9,-999.0000,9,-999.0000,9,-999.0000,9,     -999.0,9,     -999.0,9,     -999.0,9,     -999.0,9,     -999.0,9
33RR20160208,       I08S,      72,          2,         11,         11,2,20160309,       0804,   -33.9960,    94.9989,       4518,  1866.5,   2.7105,  34.6578,2,  34.6579,2,    162.8,2,   161.1,2,    85.8,2,    0.00,2,   33.83,2,    0.00,2,    2.32,2,   0.072,2,   0.059,2,   0.009,2,             0,2,  2266.8,2, 2358.66,2,   7.5708,2,    25.01,   2.7107, -999.00,9,  -999.0,9,  -999.0, -999.00,9,-999.000,9,    37.4,2, -999.00,9,     -999.0,1, -999.00,9, 20160309,      912, -33.9960,  94.9989,     -999.0,9,     -999.0,9,     -999.0,9,-999.0000,9,-999.0000,9,-999.0000,9,-999.0000,9,-999.0000,9,-999.0000,9,-999.0000,9,     -999.0,9,     -999.0,9,     -999.0,9,     -999.0,9,     -999.0,9
33RR20160208,       I08S,      72,          2,         12,         12,2,20160309,       0804,   -33.9960,    94.9989,       4518,  1668.2,   2.9807,  34.6006,2,  34.6006,2,    157.8,2,   156.3,2,    79.9,2,    0.00,2,   34.55,2,    0.00,2,    2.42,2,-999.000,9,-999.000,9,-999.000,9,-999.000000000,9,  2265.6,6, 2350.33,2,   7.5598,2,    24.98,   2.9808, -999.00,9,  -999.0,9,  -999.0, -999.00,9,-999.000,9,    38.3,2, -999.00,9,     -999.0,1, -999.00,9, 20160309,      918, -33.9960,  94.9989,     -999.0,9,     -999.0,9,     -999.0,9,-999.0000,9,-999.0000,9,-999.0000,9,-999.0000,9,-999.0000,9,-999.0000,9,-999.0000,9,     -999.0,9,     -999.0,9,     -999.0,9,     -999.0,9,     -999.0,9
33RR20160208,       I08S,      72,          2,         13,         13,2,20160309,       0804,   -33.9960,    94.9989,       4518,  1537.0,   3.1608,  34.5593,2,  34.5588,2,    157.9,2,   156.8,2,    74.3,2,    0.00,2,   34.69,2,    0.00,2,    2.50,2,   0.189,2,   0.106,2,   0.008,2,             0,2,  2257.3,2, 2343.94,2,   7.5572,6,    25.00,   3.1607, -999.00,9,  -999.0,9,  -999.0, -999.00,9,-999.000,9,    37.8,2, -999.00,9,     -999.0,1, -999.00,9, 20160309,      922, -33.9960,  94.9989,     -999.0,9,     -999.0,9,     -999.0,9,-999.0000,9,-999.0000,9,-999.0000,9,-999.0000,9,-999.0000,9,-999.0000,9,-999.0000,9,     -999.0,9,     -999.0,9,     -999.0,9,     -999.0,9,     -999.0,9
33RR20160208,       I08S,      72,          2,         14,         14,2,20160309,       0804,   -33.9960,    94.9989,       4518,  1435.9,   3.2906,  34.5218,2,  34.5218,2,    160.6,2,   160.0,2,    68.7,2,    0.00,2,   34.61,2,    0.00,2,    2.46,2,   0.313,2,   0.170,2,   0.012,2,          0.08,2,  -999.0,5, 2337.75,2,   7.5579,2,    25.02,   3.2904, -999.00,9,  -999.0,9,  -999.0, -999.00,9,-999.000,9,    38.1,2, -999.00,9,     -999.0,1, -999.00,9, 20160309,      925, -33.9960,  94.9989,     -999.0,9,     -999.0,9,     -999.0,9,-999.0000,9,-999.0000,9,-999.0000,9,-999.0000,9,-999.0000,9,-999.0000,9,-999.0000,9,     -999.0,9,     -999.0,9,     -999.0,9,     -999.0,9,     -999.0,9
33RR20160208,       I08S,      72,          2,         15,         15,2,20160309,       0804,   -33.9960,    94.9989,       4518,  1334.7,   3.4938,  34.4721,2,  34.4714,2,    170.1,2,   168.6,2,    60.4,2,    0.00,2,   34.18,2,    0.00,2,    2.43,2,   0.570,2,   0.294,2,   0.022,2,          0.08,2,  2242.4,2, 2329.02,2,   7.5663,6,    25.03,   3.4934, -999.00,9,  -999.0,9,  -999.0, -999.00,9,-999.000,9,    38.5,2, -999.00,9,     -999.0,1, -999.00,9, 20160309,      929, -33.9960,  94.9989,     -999.0,9,     -999.0,9,     -999.0,9,-999.0000,9,-999.0000,9,-999.0000,9,-999.0000,9,-999.0000,9,-999.0000,9,-999.0000,9,     -999.0,9,     -999.0,9,     -999.0,9,     -999.0,9,     -999.0,9
33RR20160208,       I08S,      72,          2,         16,         16,2,20160309,       0804,   -33.9960,    94.9989,       4518,  1233.6,   3.8335,  34.4302,2,  34.4296,2,    175.8,2,   176.3,2,    51.8,2,    0.00,2,   33.37,2,    0.00,2,    2.33,2,   0.912,2,   0.449,2,   0.041,2,         0.102,2,  2230.7,2, 2320.25,2,   7.5785,6,    24.97,   3.8347, -999.00,9,  -999.0,9,  -999.0, -999.00,9,-999.000,9,    38.9,2, -999.00,9,     -999.0,1, -999.00,9, 20160309,      932, -33.9960,  94.9989,     -999.0,9,     -999.0,9,     -999.0,9,-999.0000,9,-999.0000,9,-999.0000,9,-999.0000,9,-999.0000,9,-999.0000,9,-999.0000,9,     -999.0,9,     -999.0,9,     -999.0,9,     -999.0,9,     -999.0,9
33RR20160208,       I08S,      72,          2,         17,         17,2,20160309,       0804,   -33.9960,    94.9989,       4518,  1135.4,   4.2837,  34.3964,2,  34.3963,2,    186.1,2,   185.4,2,    41.8,2,    0.00,2,   32.16,2,    0.00,2,    2.26,2,   1.290,2,   0.638,2,   0.063,2,         0.231,2,  2214.6,2, 2310.76,2,   7.5954,2,    24.97,   4.2818, -999.00,9,  -999.0,9,  -999.0, -999.00,9,-999.000,9,    39.7,2, -999.00,9,     -999.0,1, -999.00,9, 20160309,      936, -33.9960,  94.9989,     -999.0,9,     -999.0,9,     -999.0,9,-999.0000,9,-999.0000,9,-999.0000,9,-999.0000,9,-999.0000,9,-999.0000,9,-999.0000,9,     -999.0,9,     -999.0,9,     -999.0,9,     -999.0,9,     -999.0,9
33RR20160208,       I08S,      72,          2,         18,         37,2,20160309,       0804,   -33.9960,    94.9989,       4518,  1035.5,   4.9404,  34.3709,2,  34.3701,2,    197.7,2,   197.5,2,    29.7,2,    0.00,2,   30.17,2,    0.00,2,    2.09,2,   1.927,2,   0.937,2,   0.094,2,          0.27,2,  2195.5,2, 2298.11,2,   7.6189,2,    24.98,   4.9392, -999.00,9,  -999.0,9,  -999.0, -999.00,9,-999.000,9,    38.4,2, -999.00,9,     -999.0,1, -999.00,9, 20160309,      939, -33.9960,  94.9989,     -999.0,9,     -999.0,9,     -999.0,9,-999.0000,9,-999.0000,9,-999.0000,9,-999.0000,9,-999.0000,9,-999.0000,9,-999.0000,9,     -999.0,9,     -999.0,9,     -999.0,9,     -999.0,9,     -999.0,9
33RR20160208,       I08S,      72,          2,         19,         19,2,20160309,       0804,   -33.9960,    94.9989,       4518,   936.7,   6.1029,  34.4102,2,  34.4100,2,    199.5,2,   200.5,2,    19.9,2,    0.00,2,   27.51,2,    0.00,2,    1.88,2,   2.338,2,   1.187,2,   0.098,2,         0.501,2,  2178.4,2, 2292.23,2,   7.6460,2,    24.99,   6.1143, -999.00,9,  -999.0,9,  -999.0, -999.00,9,-999.000,9,    41.4,2, -999.00,9,     -999.0,1, -999.00,9, 20160309,      943, -33.9960,  94.9989,     -999.0,9,     -999.0,9,     -999.0,9,-999.0000,9,-999.0000,9,-999.0000,9,-999.0000,9,-999.0000,9,-999.0000,9,-999.0000,9,     -999.0,9,     -999.0,9,     -999.0,9,     -999.0,9,     -999.0,9
33RR20160208,       I08S,      72,          2,         20,         20,2,20160309,       0804,   -33.9960,    94.9989,       4518,   835.9,   7.6426,  34.5102,2,  34.5112,2,    209.8,2,   209.2,2,    12.1,2,    0.00,2,   23.28,2,    0.00,2,    1.59,2,   2.844,2,   1.486,2,   0.107,2,         0.543,2,  2158.6,2, 2291.07,2,   7.6927,6,    24.97,   7.6393, -999.00,9,  -999.0,9,  -999.0, -999.00,9,-999.000,9,    42.2,2, -999.00,9,     -999.0,1, -999.00,9, 20160309,      946, -33.9960,  94.9989,     -999.0,9,     -999.0,9,     -999.0,9,-999.0000,9,-999.0000,9,-999.0000,9,-999.0000,9,-999.0000,9,-999.0000,9,-999.0000,9,     -999.0,9,     -999.0,9,     -999.0,9,     -999.0,9,     -999.0,9
33RR20160208,       I08S,      72,          2,         21,         21,2,20160309,       0804,   -33.9960,    94.9989,       4518,   735.6,   8.8429,  34.6146,2,  34.6145,2,    229.3,2,   228.0,2,     6.2,2,    0.00,2,   18.75,2,    0.00,2,    1.28,2,   3.334,2,   1.885,2,   0.138,2,         1.086,2,  2141.1,2, 2291.63,2,   7.7414,2,    24.98,   8.8452, -999.00,9,  -999.0,9,  -999.0, -999.00,9,-999.000,9,    42.8,2, -999.00,9,     -999.0,1, -999.00,9, 20160309,      950, -33.9960,  94.9989,     -999.0,9,     -999.0,9,     -999.0,9,-999.0000,9,-999.0000,9,-999.0000,9,-999.0000,9,-999.0000,9,-999.0000,9,-999.0000,9,     -999.0,9,     -999.0,9,     -999.0,9,     -999.0,9,     -999.0,9
33RR20160208,       I08S,      72,          2,         22,         22,2,20160309,       0804,   -33.9960,    94.9989,       4518,   637.3,   9.5590,  34.7020,2,  34.7016,2,    239.8,2,   239.7,2,     6.1,2,    0.00,2,   18.75,2,    0.00,2,    1.26,2,   3.373,2,   1.965,2,   0.144,2,         1.425,2,  2131.3,2, 2294.50,2,   7.7717,2,    24.98,   9.5658, -999.00,9,  -999.0,9,  -999.0, -999.00,9,-999.000,9,    42.5,2, -999.00,9,     -999.0,1, -999.00,9, 20160309,      953, -33.9960,  94.9989,     -999.0,9,     -999.0,9,     -999.0,9,-999.0000,9,-999.0000,9,-999.0000,9,-999.0000,9,-999.0000,9,-999.0000,9,-999.0000,9,     -999.0,9,     -999.0,9,     -999.0,9,     -999.0,9,     -999.0,9
33RR20160208,       I08S,      72,          2,         23,         23,2,20160309,       0804,   -33.9960,    94.9989,       4518,   536.5,  10.1958,  34.7919,2,  34.7893,2,    244.3,2,   245.1,2,     3.2,2,    0.00,2,   13.33,2,    0.00,2,    0.97,2,   3.253,2,   1.917,2,   0.144,2,         1.453,2,  2125.2,2, 2297.06,2,   7.7942,2,    24.97,  10.1948, -999.00,9,  -999.0,9,  -999.0, -999.00,9,-999.000,9,    43.8,2, -999.00,9,     -999.0,1, -999.00,9, 20160309,      957, -33.9960,  94.9989,     -999.0,9,     -999.0,9,     -999.0,9,-999.0000,9,-999.0000,9,-999.0000,9,-999.0000,9,-999.0000,9,-999.0000,9,-999.0000,9,     -999.0,9,     -999.0,9,     -999.0,9,     -999.0,9,     -999.0,9
33RR20160208,       I08S,      72,          2,         24,         24,2,20160309,       0804,   -33.9960,    94.9989,       4518,   464.7,  10.6032,  34.8537,2,  34.8541,2,    244.9,2,   244.9,2,     2.8,2,    0.00,2,   12.08,2,    0.00,2,    0.89,2,   3.203,2,   1.895,2,   0.152,2,         1.513,2,  2122.9,6, 2300.88,2,   7.8056,2,    25.00,  10.6069, -999.00,9,  -999.0,9,  -999.0, -999.00,9,-999.000,9,    45.3,2, -999.00,9,     -999.0,1, -999.00,9, 20160309,      959, -33.9960,  94.9989,     -999.0,9,     -999.0,9,     -999.0,9,-999.0000,9,-999.0000,9,-999.0000,9,-999.0000,9,-999.0000,9,-999.0000,9,-999.0000,9,     -999.0,9,     -999.0,9,     -999.0,9,     -999.0,9,     -999.0,9
33RR20160208,       I08S,      72,          2,         25,         25,2,20160309,       0804,   -33.9960,    94.9989,       4518,   415.2,  10.8601,  34.8893,2,  34.8897,2,    244.6,2,   245.7,2,     2.7,2,    0.00,2,   11.35,2,    0.00,2,    0.85,2,-999.000,9,-999.000,9,-999.000,9,-999.000000000,9,  2122.5,2, 2303.69,2,   7.8125,2,    24.98,  10.8584, -999.00,9,  -999.0,9,  -999.0, -999.00,9,-999.000,9,    46.0,2, -999.00,9,     -999.0,1, -999.00,9, 20160309,     1002, -33.9960,  94.9989,     -999.0,9,     -999.0,9,     -999.0,9,-999.0000,9,-999.0000,9,-999.0000,9,-999.0000,9,-999.0000,9,-999.0000,9,-999.0000,9,     -999.0,9,     -999.0,9,     -999.0,9,     -999.0,9,     -999.0,9
33RR20160208,       I08S,      72,          2,         26,         26,2,20160309,       0804,   -33.9960,    94.9989,       4518,   365.0,  11.1723,  34.9380,2,  34.9402,2,    242.6,2,   244.2,2,     2.8,2,    0.00,2,   10.97,2,    0.00,2,    0.81,2,   3.093,6,   1.848,6,   0.142,6,        1.5575,6,  2121.7,2, 2305.15,2,   7.8175,2,    25.02,  11.1718, -999.00,9,  -999.0,9,  -999.0, -999.00,9,-999.000,9,    46.4,2, -999.00,9,     -999.0,1, -999.00,9, 20160309,     1004, -33.9960,  94.9989,     -999.0,9,     -999.0,9,     -999.0,9,-999.0000,9,-999.0000,9,-999.0000,9,-999.0000,9,-999.0000,9,-999.0000,9,-999.0000,9,     -999.0,9,     -999.0,9,     -999.0,9,     -999.0,9,     -999.0,9
33RR20160208,       I08S,      72,          2,         27,         27,2,20160309,       0804,   -33.9960,    94.9989,       4518,   315.5,  11.4467,  34.9751,2,  34.9769,2,    241.2,2,   243.2,2,     2.3,2,    0.00,2,   10.10,2,    0.00,2,    0.75,2,-999.000,9,-999.000,9,-999.000,9,-999.000000000,9,  2116.7,2, 2307.93,2,   7.8242,2,    24.98,  11.4466, -999.00,9,  -999.0,9,  -999.0, -999.00,9,-999.000,9,    47.3,2,   12.50,2,     -999.0,1, -999.00,9, 20160309,     1006, -33.9960,  94.9989,     -999.0,9,     -999.0,9,     -999.0,9,-999.0000,9,-999.0000,9,-999.0000,9,-999.0000,9,-999.0000,9,-999.0000,9,-999.0000,9,     -999.0,9,     -999.0,9,     -999.0,9,     -999.0,9,     -999.0,9