BOTTLE,20220706CCHSIOAMB
EXPOCODE,SECT_ID,STNNBR,CASTNO,SAMPNO,BTLNBR,BTLNBR_FLAG_W,DATE,TIME,LATITUDE,LONGITUDE,DEPTH,CTDPRS,CTDTMP,CTDSAL,CTDSAL_FLAG_W,SALNTY,SALNTY_FLAG_W,CTDOXY,CTDOXY_FLAG_W,OXYGEN,OXYGEN_FLAG_W,SILCAT,SILCAT_FLAG_W,NH4,NH4_FLAG_W,NITRAT,NITRAT_FLAG_W,NITRIT,NITRIT_FLAG_W,PHSPHT,PHSPHT_FLAG_W,CFC-11,CFC-11_FLAG_W,CFC-12,CFC-12_FLAG_W,CFC113,CFC113_FLAG_W,SF6,SF6_FLAG_W,TCARBN,TCARBN_FLAG_W,ALKALI,ALKALI_FLAG_W,PH_TOT,PH_TOT_FLAG_W,PH_TMP,REFTMP,DELC13,DELC13_FLAG_W,DELC14,DELC14_FLAG_W,C14ERR,DELO18,DELO18_FLAG_W,POC,POC_FLAG_W,DOC,DOC_FLAG_W,TDN,TDN_FLAG_W,TON,TON_FLAG_W,D15N_NO3,D15N_NO3_FLAG_W,BTL_DATE,BTL_TIME,BTL_LAT,BTL_LON,14C-DOC,14C-DOC_FLAG_W,CHLORA,CHLORA_FLAG_W,HPLC,HPLC_FLAG_W,CDOM325,CDOM325_FLAG_W,CDOM340,CDOM340_FLAG_W,CDOM380,CDOM380_FLAG_W,CDOM412,CDOM412_FLAG_W,CDOM443,CDOM443_FLAG_W,CDOM490,CDOM490_FLAG_W,CDOM555,CDOM555_FLAG_W,CDOMSL,CDOMSL_FLAG_W,CDOMSN,CDOMSN_FLAG_W,D18O_NO3,D18O_NO3_FLAG_W,D15N_NO2+NO3,D15N_NO2+NO3_FLAG_W,D18O_NO2+NO3,D18O_NO2+NO3_FLAG_W
,,,,,,,,,,,METERS,DBAR,ITS-90,PSS-78,,PSS-78,,UMOL/KG,,UMOL/KG,,UMOL/KG,,UMOL/KG,,UMOL/KG,,UMOL/KG,,UMOL/KG,,PMOL/KG,,PMOL/KG,,PMOL/KG,,FMOL/KG,,UMOL/KG,,UMOL/KG,,,,DEG C,DEG C,/MILLE,,/MILLE,,/MILLE,/MILLE,,UG/KG,,UMOL/KG,,UMOL/KG,,UMOL/KG,,/MILLE,,,,,,/MILLE,,MG/M3,,,,1/M,,1/M,,1/M,,1/M,,1/M,,1/M,,1/M,,1/NM,,1/NM,,/MILLE,,/MILLE,,/MILLE,
33RR20160208,       I08S,       7,          2,         28,         28,3,20160220,       1109,   -65.6248,    78.8085,       3313,   186.9,  -0.3827,  34.4538,3,  34.4165,4,    272.3,3,   273.5,3,    66.7,3,    0.02,3,   31.13,3,    0.02,3,    2.18,3,-999.000,9,-999.000,9,-999.000,9,-999.000000000,9,  -999.0,9, -999.00,9,-999.0000,9,  -999.00,  -0.3949, -999.00,9,  -999.0,9,  -999.0, -999.00,1,-999.000,9,  -999.0,9, -999.00,9,     -999.0,9, -999.00,9, 20160220,     1238, -65.6248,  78.8084,     -999.0,9,     -999.0,9,     -999.0,9,   0.1123,2,   0.0786,2,   0.0539,2,   0.0278,2,   0.0153,2,   0.0055,2,   0.0015,2,     0.0132,2,     0.0140,2,     -999.0,9,     -999.0,9,     -999.0,9
33RR20160208,       I08S,       7,          2,         29,         29,2,20160220,       1109,   -65.6248,    78.8085,       3313,   140.2,  -1.5096,  34.3490,2,  34.3446,2,    299.9,2,   299.2,2,    59.6,2,    0.00,2,   30.23,2,    0.02,2,    2.10,2,   4.508,2,   2.490,2,   0.414,2,         2.392,2,  2218.1,2, 2320.11,2,   7.6088,2,    25.04,  -1.5117, -999.00,9,  -999.0,9,  -999.0, -999.00,1,-999.000,9,  -999.0,9, -999.00,9,     -999.0,9, -999.00,9, 20160220,     1240, -65.6248,  78.8084,     -999.0,9,     -999.0,9,     -999.0,9,   0.0993,2,   0.0667,2,   0.0416,2,   0.0237,2,   0.0130,2,   0.0044,2,   0.0010,2,     0.0148,2,     0.0164,2,     -999.0,9,     -999.0,9,     -999.0,9
33RR20160208,       I08S,       7,          2,         30,         30,2,20160220,       1109,   -65.6248,    78.8085,       3313,   115.1,  -1.6935,  34.3229,2,  34.3234,2,    304.3,2,   301.2,2,    58.6,2,    0.01,2,   30.19,2,    0.02,2,    2.09,2,   4.587,2,   2.510,2,   0.424,2,         2.382,2,  2217.8,2, 2319.54,2,   7.6100,2,    25.05,  -1.6917, -999.00,9,  -999.0,9,  -999.0, -999.00,1,-999.000,9,  -999.0,9, -999.00,9,     -999.0,9, -999.00,9, 20160220,     1242, -65.6248,  78.8084,     -999.0,9,0.065881984,2,     -999.0,9,-999.0000,9,-999.0000,9,-999.0000,9,-999.0000,9,-999.0000,9,-999.0000,9,-999.0000,9,     -999.0,9,     -999.0,9,     -999.0,9,     -999.0,9,     -999.0,9
33RR20160208,       I08S,       7,          2,         31,         31,2,20160220,       1109,   -65.6248,    78.8085,       3313,    90.4,  -1.5503,  34.3048,2,  34.3062,2,    301.7,2,   293.9,2,    59.2,2,    0.00,2,   30.49,2,    0.08,2,    2.12,2,   4.378,2,   2.435,2,   0.408,2,         2.334,2,  2218.1,2, 2317.02,2,   7.6030,2,    25.08,  -1.5455, -999.00,9,  -999.0,9,  -999.0, -999.00,1,-999.000,9,  -999.0,9, -999.00,9,     -999.0,9, -999.00,9, 20160220,     1244, -65.6248,  78.8084,     -999.0,9,0.126551755,2,     -999.0,9,   0.1038,2,   0.0711,2,   0.0458,2,   0.0258,2,   0.0144,2,   0.0052,2,   0.0014,2,     0.0142,2,     0.0155,2,     -999.0,9,     -999.0,9,     -999.0,9
33RR20160208,       I08S,       7,          2,         32,         32,2,20160220,       1109,   -65.6248,    78.8085,       3313,    64.0,  -1.5714,  34.2175,2,  34.2151,2,    291.5,2,   292.0,2,    57.7,2,    0.21,2,   30.21,2,    0.12,2,    2.11,2,   4.225,2,   2.331,2,   0.402,2,           2.3,2,  2215.7,2, 2312.67,2,   7.6046,2,    25.07,  -1.5722, -999.00,9,  -999.0,9,  -999.0, -999.00,1,-999.000,9,  -999.0,9, -999.00,9,     -999.0,9, -999.00,9, 20160220,     1246, -65.6248,  78.8084,     -999.0,9,0.449860057,2,     -999.0,9,   0.1027,2,   0.0715,2,   0.0501,2,   0.0253,2,   0.0133,2,   0.0040,2,   0.0008,2,     0.0129,2,     0.0137,2,     -999.0,9,     -999.0,9,     -999.0,9
33RR20160208,       I08S,       7,          2,         33,         33,2,20160220,       1109,   -65.6248,    78.8085,       3313,    39.2,  -1.6528,  34.0535,2,  34.0634,2,    308.2,2,   308.0,2,    53.1,2,    0.35,2,   28.82,2,    0.07,2,    1.97,2,   4.380,2,   2.303,2,   0.399,2,          1.79,2,  2198.7,2, 2302.87,2,   7.6308,2,    25.06,  -1.6536, -999.00,9,  -999.0,9,  -999.0, -999.00,1,-999.000,9,  -999.0,9, -999.00,9,     -999.0,9, -999.00,9, 20160220,     1248, -65.6248,  78.8084,     -999.0,9,0.819036382,2,     -999.0,9,   0.1132,2,   0.0796,2,   0.0521,2,   0.0290,2,   0.0172,2,   0.0070,2,   0.0021,2,     0.0137,2,     0.0146,2,     -999.0,9,     -999.0,9,     -999.0,9
33RR20160208,       I08S,       7,          2,         34,         34,2,20160220,       1109,   -65.6248,    78.8085,       3313,    20.6,  -1.3391,  33.8146,2,  33.8135,2,    351.2,2,   342.6,2,    43.5,2,    0.38,2,   25.92,2,    0.07,2,    1.79,2,   4.679,2,   2.517,2,   0.430,2,         2.258,2,  2162.9,2, 2289.43,6,   7.6938,2,    25.06,  -1.3355, -999.00,9,  -999.0,9,  -999.0, -999.00,1,-999.000,9,  -999.0,9, -999.00,9,     -999.0,9, -999.00,9, 20160220,     1250, -65.6248,  78.8084,     -999.0,9,1.364846739,2,     -999.0,9,   0.1769,2,   0.1287,2,   0.0541,2,   0.0309,2,   0.0187,2,   0.0083,2,   0.0028,2,     0.0212,2,     0.0219,2,     -999.0,9,     -999.0,9,     -999.0,9
33RR20160208,       I08S,       7,          2,         35,         35,2,20160220,       1109,   -65.6248,    78.8085,       3313,     5.9,  -0.3806,  32.9088,2,  32.8515,4,    362.2,2,   359.6,2,    32.8,2,    0.26,2,   20.89,2,    0.17,2,    1.37,2,   5.626,2,   2.968,2,   0.522,2,         2.257,4,  2080.1,6, 2229.12,2,   7.7614,6,    25.06,  -0.3803, -999.00,9,  -999.0,9,  -999.0, -999.00,1,-999.000,9,  -999.0,9, -999.00,9,     -999.0,9, -999.00,9, 20160220,     1252, -65.6248,  78.8084,     -999.0,9,0.681049733,2,     -999.0,9,   0.1057,2,   0.0789,2,   0.0556,2,   0.0262,2,   0.0148,2,   0.0057,2,   0.0014,2,     0.0124,2,     0.0124,2,     -999.0,9,     -999.0,9,     -999.0,9