BOTTLE,20220706CCHSIOAMB
EXPOCODE,SECT_ID,STNNBR,CASTNO,SAMPNO,BTLNBR,BTLNBR_FLAG_W,DATE,TIME,LATITUDE,LONGITUDE,DEPTH,CTDPRS,CTDTMP,CTDSAL,CTDSAL_FLAG_W,SALNTY,SALNTY_FLAG_W,CTDOXY,CTDOXY_FLAG_W,OXYGEN,OXYGEN_FLAG_W,SILCAT,SILCAT_FLAG_W,NH4,NH4_FLAG_W,NITRAT,NITRAT_FLAG_W,NITRIT,NITRIT_FLAG_W,PHSPHT,PHSPHT_FLAG_W,CFC-11,CFC-11_FLAG_W,CFC-12,CFC-12_FLAG_W,CFC113,CFC113_FLAG_W,SF6,SF6_FLAG_W,TCARBN,TCARBN_FLAG_W,ALKALI,ALKALI_FLAG_W,PH_TOT,PH_TOT_FLAG_W,PH_TMP,REFTMP,DELC13,DELC13_FLAG_W,DELC14,DELC14_FLAG_W,C14ERR,DELO18,DELO18_FLAG_W,POC,POC_FLAG_W,DOC,DOC_FLAG_W,TDN,TDN_FLAG_W,TON,TON_FLAG_W,D15N_NO3,D15N_NO3_FLAG_W,BTL_DATE,BTL_TIME,BTL_LAT,BTL_LON,14C-DOC,14C-DOC_FLAG_W,CHLORA,CHLORA_FLAG_W,HPLC,HPLC_FLAG_W,CDOM325,CDOM325_FLAG_W,CDOM340,CDOM340_FLAG_W,CDOM380,CDOM380_FLAG_W,CDOM412,CDOM412_FLAG_W,CDOM443,CDOM443_FLAG_W,CDOM490,CDOM490_FLAG_W,CDOM555,CDOM555_FLAG_W,CDOMSL,CDOMSL_FLAG_W,CDOMSN,CDOMSN_FLAG_W,D18O_NO3,D18O_NO3_FLAG_W,D15N_NO2+NO3,D15N_NO2+NO3_FLAG_W,D18O_NO2+NO3,D18O_NO2+NO3_FLAG_W
,,,,,,,,,,,METERS,DBAR,ITS-90,PSS-78,,PSS-78,,UMOL/KG,,UMOL/KG,,UMOL/KG,,UMOL/KG,,UMOL/KG,,UMOL/KG,,UMOL/KG,,PMOL/KG,,PMOL/KG,,PMOL/KG,,FMOL/KG,,UMOL/KG,,UMOL/KG,,,,DEG C,DEG C,/MILLE,,/MILLE,,/MILLE,/MILLE,,UG/KG,,UMOL/KG,,UMOL/KG,,UMOL/KG,,/MILLE,,,,,,/MILLE,,MG/M3,,,,1/M,,1/M,,1/M,,1/M,,1/M,,1/M,,1/M,,1/NM,,1/NM,,/MILLE,,/MILLE,,/MILLE,
33RR20160208,       I08S,      81,          2,          1,          1,2,20160311,       0955,   -29.5150,    95.0059,       2695,  2661.5,   1.7257,  34.7278,2,  34.7327,4,    181.1,2,   181.2,2,   111.4,2,    0.00,2,   32.76,2,    0.00,2,    2.30,2,-999.000,9,-999.000,9,-999.000,9,-999.000000000,9,  2280.3,6, 2381.37,2,   7.6058,2,    24.90,   1.7264, -999.00,9,  -999.0,9,  -999.0, -999.00,9,-999.000,9,  -999.0,9, -999.00,9,     -999.0,9, -999.00,9, 20160311,      955, -29.5150,  95.0059,     -999.0,9,     -999.0,9,     -999.0,9,   0.1248,2,   0.1028,2,   0.1080,2,   0.0376,2,   0.0177,2,   0.0046,2,   0.0006,3,     0.0054,3,     0.0045,3,     -999.0,9,     -999.0,9,     -999.0,9
33RR20160208,       I08S,      81,          2,          2,          2,2,20160311,       0955,   -29.5150,    95.0059,       2695,  2375.4,   2.0333,  34.7245,2,  34.7249,2,    172.2,2,   173.1,2,   106.0,2,    0.00,2,   32.99,2,    0.00,2,    2.32,2,-999.000,9,-999.000,9,-999.000,9,-999.000000000,9,  2278.9,2, 2377.28,6,   7.5962,2,    24.90,   2.0331, -999.00,9,  -999.0,9,  -999.0, -999.00,9,-999.000,9,  -999.0,9, -999.00,9,     -999.0,9, -999.00,9, 20160311,     1001, -29.5150,  95.0059,     -999.0,9,     -999.0,9,     -999.0,9,-999.0000,9,-999.0000,9,-999.0000,9,-999.0000,9,-999.0000,9,-999.0000,9,-999.0000,9,     -999.0,9,     -999.0,9,     -999.0,9,     -999.0,9,     -999.0,9
33RR20160208,       I08S,      81,          2,          3,          3,2,20160311,       0955,   -29.5150,    95.0059,       2695,  2086.3,   2.3485,  34.7105,2,  34.7111,2,    163.0,2,   164.3,2,   101.5,2,    0.00,2,   33.57,2,    0.00,2,    2.37,2,-999.000,9,-999.000,9,-999.000,9,-999.000000000,9,  2280.7,2, 2374.32,2,   7.5841,2,    24.91,   2.3482, -999.00,9,  -999.0,9,  -999.0, -999.00,9,-999.000,9,  -999.0,9, -999.00,9,     -999.0,9, -999.00,9, 20160311,     1007, -29.5150,  95.0059,     -999.0,9,     -999.0,9,     -999.0,9,   0.1251,2,   0.0953,2,   0.0817,2,   0.0349,2,   0.0179,2,   0.0051,2,   0.0008,2,     0.0092,3,     0.0087,3,     -999.0,9,     -999.0,9,     -999.0,9
33RR20160208,       I08S,      81,          2,          4,          4,2,20160311,       0955,   -29.5150,    95.0059,       2695,  1867.8,   2.6480,  34.6809,2,  34.6817,2,    155.9,2,   156.7,2,    94.5,2,    0.00,2,   34.08,2,    0.00,2,    2.41,2,-999.000,9,-999.000,9,-999.000,9,-999.000000000,9,  2278.0,2, 2362.84,2,   7.5732,6,    24.87,   2.6488, -999.00,9,  -999.0,9,  -999.0, -999.00,9,-999.000,9,  -999.0,9, -999.00,9,     -999.0,9, -999.00,9, 20160311,     1012, -29.5150,  95.0059,     -999.0,9,     -999.0,9,     -999.0,9,-999.0000,9,-999.0000,9,-999.0000,9,-999.0000,9,-999.0000,9,-999.0000,9,-999.0000,9,     -999.0,9,     -999.0,9,     -999.0,9,     -999.0,9,     -999.0,9
33RR20160208,       I08S,      81,          2,          5,          5,2,20160311,       0955,   -29.5150,    95.0059,       2695,  1668.6,   2.9750,  34.6320,2,  34.6324,2,    150.3,2,   151.1,2,    86.9,2,    0.00,2,   34.69,2,    0.00,2,    2.46,2,-999.000,9,-999.000,9,-999.000,9,-999.000000000,9,  2275.7,2, 2358.67,2,   7.5615,6,    24.87,   2.9715, -999.00,9,  -999.0,9,  -999.0, -999.00,9,-999.000,9,  -999.0,9, -999.00,9,     -999.0,9, -999.00,9, 20160311,     1016, -29.5150,  95.0059,     -999.0,9,     -999.0,9,     -999.0,9,-999.0000,9,-999.0000,9,-999.0000,9,-999.0000,9,-999.0000,9,-999.0000,9,-999.0000,9,     -999.0,9,     -999.0,9,     -999.0,9,     -999.0,9,     -999.0,9
33RR20160208,       I08S,      81,          2,          6,         38,2,20160311,       0955,   -29.5150,    95.0059,       2695,  1538.7,   3.3171,  34.5927,2,  34.5930,2,    147.9,2,   145.2,2,    82.2,2,    0.00,2,   35.22,2,    0.00,2,    2.51,2,-999.000,9,-999.000,9,-999.000,9,-999.000000000,9,  2273.1,2, 2353.49,2,   7.5539,2,    24.88,   3.3181, -999.00,9,  -999.0,9,  -999.0, -999.00,9,-999.000,9,  -999.0,9, -999.00,9,     -999.0,9, -999.00,9, 20160311,     1020, -29.5149,  95.0059,     -999.0,9,     -999.0,9,     -999.0,9,   0.1174,2,   0.0770,2,   0.0365,2,   0.0256,2,   0.0152,2,   0.0047,2,   0.0007,2,     0.0192,2,     0.0218,2,     -999.0,9,     -999.0,9,     -999.0,9
33RR20160208,       I08S,      81,          2,          7,          7,2,20160311,       0955,   -29.5150,    95.0059,       2695,  1434.1,   3.4992,  34.5584,2,  34.5588,2,    147.0,2,   147.1,2,    76.6,2,    0.00,2,   35.15,2,    0.00,2,    2.51,2,-999.000,9,-999.000,9,-999.000,9,-999.000000000,9,  2267.5,2, 2346.40,2,   7.5542,2,    24.89,   3.4992, -999.00,9,  -999.0,9,  -999.0, -999.00,9,-999.000,9,  -999.0,9, -999.00,9,     -999.0,9, -999.00,9, 20160311,     1022, -29.5150,  95.0059,     -999.0,9,     -999.0,9,     -999.0,9,-999.0000,9,-999.0000,9,-999.0000,9,-999.0000,9,-999.0000,9,-999.0000,9,-999.0000,9,     -999.0,9,     -999.0,9,     -999.0,9,     -999.0,9,     -999.0,9
33RR20160208,       I08S,      81,          2,          8,          8,2,20160311,       0955,   -29.5150,    95.0059,       2695,  1333.0,   3.7043,  34.5221,2,  34.5204,2,    153.1,2,   151.2,2,    69.5,2,    0.00,2,   34.85,2,    0.00,2,    2.46,2,-999.000,9,-999.000,9,-999.000,9,-999.000000000,9,  2258.3,2, 2339.64,2,   7.5586,2,    24.89,   3.7060, -999.00,9,  -999.0,9,  -999.0, -999.00,9,-999.000,9,  -999.0,9, -999.00,9,     -999.0,9, -999.00,9, 20160311,     1025, -29.5150,  95.0059,     -999.0,9,     -999.0,9,     -999.0,9,   0.1125,2,   0.0791,2,   0.0543,2,   0.0278,2,   0.0152,2,   0.0045,2,   0.0006,2,     0.0132,2,     0.0139,2,     -999.0,9,     -999.0,9,     -999.0,9
33RR20160208,       I08S,      81,          2,          9,          9,2,20160311,       0955,   -29.5150,    95.0059,       2695,  1232.0,   4.0806,  34.4858,2,  34.4859,2,    157.1,2,   156.1,2,    61.4,2,    0.00,2,   34.23,2,    0.00,2,    2.41,2,-999.000,9,-999.000,9,-999.000,9,-999.000000000,9,  2247.5,2, 2330.56,2,   7.5669,2,    24.87,   4.0806, -999.00,9,  -999.0,9,  -999.0, -999.00,9,-999.000,9,  -999.0,9, -999.00,9,     -999.0,9, -999.00,9, 20160311,     1029, -29.5150,  95.0059,     -999.0,9,     -999.0,9,     -999.0,9,-999.0000,9,-999.0000,9,-999.0000,9,-999.0000,9,-999.0000,9,-999.0000,9,-999.0000,9,     -999.0,9,     -999.0,9,     -999.0,9,     -999.0,9,     -999.0,9
33RR20160208,       I08S,      81,          2,         10,         10,2,20160311,       0955,   -29.5150,    95.0059,       2695,  1134.0,   4.3864,  34.4323,2,  34.4312,2,    172.3,2,   171.9,2,    48.1,2,    0.00,2,   32.85,2,    0.00,2,    2.27,2,-999.000,9,-999.000,9,-999.000,9,-999.000000000,9,  2229.7,2, 2317.74,2,   7.5871,2,    24.89,   4.3862, -999.00,9,  -999.0,9,  -999.0, -999.00,9,-999.000,9,  -999.0,9, -999.00,9,     -999.0,9, -999.00,9, 20160311,     1031, -29.5150,  95.0059,     -999.0,9,     -999.0,9,     -999.0,9,-999.0000,9,-999.0000,9,-999.0000,9,-999.0000,9,-999.0000,9,-999.0000,9,-999.0000,9,     -999.0,9,     -999.0,9,     -999.0,9,     -999.0,9,     -999.0,9
33RR20160208,       I08S,      81,          2,         11,         11,2,20160311,       0955,   -29.5150,    95.0059,       2695,  1034.2,   4.9996,  34.3987,2,  34.3987,2,    186.1,2,   187.0,2,    34.3,2,    0.00,2,   30.82,2,    0.00,2,    2.12,2,-999.000,9,-999.000,9,-999.000,9,-999.000000000,9,  -999.0,9, -999.00,9,-999.0000,9,     9.00,   4.9973, -999.00,9,  -999.0,9,  -999.0, -999.00,9,-999.000,9,  -999.0,9, -999.00,9,     -999.0,9, -999.00,9, 20160311,     1034, -29.5150,  95.0059,     -999.0,9,     -999.0,9,     -999.0,9,   0.0905,2,   0.0642,2,   0.0502,2,   0.0216,2,   0.0108,2,   0.0025,2,  -0.0002,4,     0.0114,2,     0.0116,2,     -999.0,9,     -999.0,9,     -999.0,9
33RR20160208,       I08S,      81,          2,         12,         12,2,20160311,       0955,   -29.5150,    95.0059,       2695,   930.5,   6.5315,  34.4425,2,  34.4424,2,    199.7,2,   198.0,2,    20.1,2,    0.00,2,   26.91,2,    0.00,2,    1.82,2,-999.000,9,-999.000,9,-999.000,9,-999.000000000,9,  2180.5,2, 2293.11,2,   7.6563,2,    24.88,   6.5264, -999.00,9,  -999.0,9,  -999.0, -999.00,9,-999.000,9,  -999.0,9, -999.00,9,     -999.0,9, -999.00,9, 20160311,     1037, -29.5149,  95.0059,     -999.0,9,     -999.0,9,     -999.0,9,-999.0000,9,-999.0000,9,-999.0000,9,-999.0000,9,-999.0000,9,-999.0000,9,-999.0000,9,     -999.0,9,     -999.0,9,     -999.0,9,     -999.0,9,     -999.0,9
33RR20160208,       I08S,      81,          2,         13,         13,2,20160311,       0955,   -29.5150,    95.0059,       2695,   832.2,   7.9932,  34.5340,2,  34.5339,2,    216.8,2,   215.1,2,    10.1,2,    0.00,2,   22.18,2,    0.00,2,    1.49,2,-999.000,9,-999.000,9,-999.000,9,-999.000000000,9,  -999.0,9, -999.00,9,-999.0000,9,  -999.00,   7.9922, -999.00,9,  -999.0,9,  -999.0, -999.00,9,-999.000,9,  -999.0,9, -999.00,9,     -999.0,9, -999.00,9, 20160311,     1040, -29.5149,  95.0059,     -999.0,9,     -999.0,9,     -999.0,9,-999.0000,9,-999.0000,9,-999.0000,9,-999.0000,9,-999.0000,9,-999.0000,9,-999.0000,9,     -999.0,9,     -999.0,9,     -999.0,9,     -999.0,9,     -999.0,9
33RR20160208,       I08S,      81,          2,         14,         14,2,20160311,       0955,   -29.5150,    95.0059,       2695,   732.0,   9.0199,  34.6313,2,  34.6318,2,    236.5,2,   234.1,2,     5.0,2,    0.00,2,   17.84,2,    0.00,2,    1.22,2,-999.000,9,-999.000,9,-999.000,9,-999.000000000,9,  2140.7,2, 2289.94,2,   7.7528,2,    24.90,   9.0145, -999.00,9,  -999.0,9,  -999.0, -999.00,9,-999.000,9,  -999.0,9, -999.00,9,     -999.0,9, -999.00,9, 20160311,     1043, -29.5149,  95.0059,     -999.0,9,     -999.0,9,     -999.0,9,   0.0676,2,   0.0446,2,   0.0276,2,   0.0132,2,   0.0064,2,   0.0010,3,  -0.0006,4,     0.0158,2,     0.0173,2,     -999.0,9,     -999.0,9,     -999.0,9
33RR20160208,       I08S,      81,          2,         15,         15,2,20160311,       0955,   -29.5150,    95.0059,       2695,   634.4,   9.7137,  34.7231,2,  34.7230,2,    241.4,2,   240.6,2,     3.6,2,    0.00,2,   15.12,2,    0.00,2,    1.05,2,-999.000,9,-999.000,9,-999.000,9,-999.000000000,9,  -999.0,9, -999.00,9,-999.0000,9,  -999.00,   9.7142, -999.00,9,  -999.0,9,  -999.0, -999.00,9,-999.000,9,  -999.0,9, -999.00,9,     -999.0,9, -999.00,9, 20160311,     1046, -29.5150,  95.0059,     -999.0,9,     -999.0,9,     -999.0,9,-999.0000,9,-999.0000,9,-999.0000,9,-999.0000,9,-999.0000,9,-999.0000,9,-999.0000,9,     -999.0,9,     -999.0,9,     -999.0,9,     -999.0,9,     -999.0,9
33RR20160208,       I08S,      81,          2,         16,         16,2,20160311,       0955,   -29.5150,    95.0059,       2695,   539.2,  10.5385,  34.8451,2,  34.8461,2,    242.5,2,   243.6,2,     2.5,2,    0.00,2,   12.20,2,    0.00,2,    0.88,2,-999.000,9,-999.000,9,-999.000,9,-999.000000000,9,  2125.5,2, 2300.44,2,   7.8044,2,    24.91,  10.5441, -999.00,9,  -999.0,9,  -999.0, -999.00,9,-999.000,9,  -999.0,9, -999.00,9,     -999.0,9, -999.00,9, 20160311,     1048, -29.5149,  95.0059,     -999.0,9,     -999.0,9,     -999.0,9,   0.0650,2,   0.0426,2,   0.0241,2,   0.0121,2,   0.0059,2,   0.0011,2,  -0.0005,4,     0.0173,2,     0.0192,2,     -999.0,9,     -999.0,9,     -999.0,9
33RR20160208,       I08S,      81,          2,         17,         17,2,20160311,       0955,   -29.5150,    95.0059,       2695,   434.7,  12.1026,  35.0842,2,  35.0822,2,    236.1,2,   236.7,2,     1.6,2,    0.00,2,    8.55,2,    0.00,2,    0.67,2,-999.000,9,-999.000,9,-999.000,9,-999.000000000,9,  2121.0,2, 2313.81,2,   7.8410,2,    24.86,  12.0995, -999.00,9,  -999.0,9,  -999.0, -999.00,9,-999.000,9,  -999.0,9, -999.00,9,     -999.0,9, -999.00,9, 20160311,     1051, -29.5149,  95.0059,     -999.0,9,     -999.0,9,     -999.0,9,-999.0000,9,-999.0000,9,-999.0000,9,-999.0000,9,-999.0000,9,-999.0000,9,-999.0000,9,     -999.0,9,     -999.0,9,     -999.0,9,     -999.0,9,     -999.0,9
33RR20160208,       I08S,      81,          2,         18,         37,2,20160311,       0955,   -29.5150,    95.0059,       2695,   363.9,  13.6705,  35.3149,2,  35.3147,2,    227.6,2,   228.9,2,     1.1,2,    0.00,2,    5.56,2,    0.00,2,    0.45,2,-999.000,9,-999.000,9,-999.000,9,-999.000000000,9,  2113.7,2, 2325.77,2,   7.8777,2,    24.89,  13.6479, -999.00,9,  -999.0,9,  -999.0, -999.00,9,-999.000,9,  -999.0,9, -999.00,9,     -999.0,9, -999.00,9, 20160311,     1053, -29.5149,  95.0059,     -999.0,9,     -999.0,9,     -999.0,9,   0.0725,2,   0.0512,2,   0.0324,2,   0.0155,2,   0.0071,2,   0.0015,2,  -0.0002,4,     0.0148,2,     0.0155,2,     -999.0,9,     -999.0,9,     -999.0,9
33RR20160208,       I08S,      81,          2,         19,         19,2,20160311,       0955,   -29.5150,    95.0059,       2695,   313.5,  15.1404,  35.5279,2,  35.5277,2,    227.0,2,   227.7,2,     0.8,2,    0.00,2,    2.93,2,    0.01,2,    0.33,2,-999.000,9,-999.000,9,-999.000,9,-999.000000000,9,  2106.7,2, 2337.81,2,   7.9148,2,    24.87,  15.1364, -999.00,9,  -999.0,9,  -999.0, -999.00,9,-999.000,9,  -999.0,9, -999.00,9,     -999.0,9, -999.00,9, 20160311,     1055, -29.5149,  95.0059,     -999.0,9,     -999.0,9,     -999.0,9,-999.0000,9,-999.0000,9,-999.0000,9,-999.0000,9,-999.0000,9,-999.0000,9,-999.0000,9,     -999.0,9,     -999.0,9,     -999.0,9,     -999.0,9,     -999.0,9
33RR20160208,       I08S,      81,          2,         20,         20,2,20160311,       0955,   -29.5150,    95.0059,       2695,   266.9,  16.4710,  35.6818,2,  35.6861,2,    222.1,2,   223.3,2,     0.9,2,    0.00,2,    1.61,2,    0.01,2,    0.21,2,-999.000,9,-999.000,9,-999.000,9,-999.000000000,9,  2099.6,2, 2345.83,2,   7.9405,2,    24.88,  16.4754, -999.00,9,  -999.0,9,  -999.0, -999.00,9,-999.000,9,  -999.0,9, -999.00,9,     -999.0,9, -999.00,9, 20160311,     1057, -29.5150,  95.0059,     -999.0,9,     -999.0,9,     -999.0,9,   0.0798,2,   0.0564,2,   0.0330,2,   0.0160,2,   0.0071,2,   0.0017,2,   0.0000,4,     0.0162,2,     0.0168,2,     -999.0,9,     -999.0,9,     -999.0,9
33RR20160208,       I08S,      81,          2,         21,         21,2,20160311,       0955,   -29.5150,    95.0059,       2695,   215.2,  17.7618,  35.7965,2,  35.7957,2,    219.8,2,   220.2,2,     1.1,2,    0.00,2,    0.85,2,    0.02,2,    0.15,2,-999.000,9,-999.000,9,-999.000,9,-999.000000000,9,  2087.3,2, 2351.26,2,   7.9642,2,    24.92,  17.7607, -999.00,9,  -999.0,9,  -999.0, -999.00,9,-999.000,9,  -999.0,9, -999.00,9,     -999.0,9, -999.00,9, 20160311,     1059, -29.5150,  95.0059,     -999.0,9,0.074841934,2,     -999.0,9,   0.0780,2,   0.0653,2,   0.0656,2,   0.0209,2,   0.0079,2,   0.0015,2,  -0.0000,4,     0.0063,3,     0.0052,3,     -999.0,9,     -999.0,9,     -999.0,9
33RR20160208,       I08S,      81,          2,         22,         22,2,20160311,       0955,   -29.5150,    95.0059,       2695,   164.1,  18.5074,  35.8144,2,  35.8125,2,    221.2,2,   222.7,2,     1.1,2,    0.00,2,    0.00,2,    0.05,2,    0.05,2,-999.000,9,-999.000,9,-999.000,9,-999.000000000,9,  2077.2,2, 2352.06,2,   7.9863,2,    24.90,  18.5123, -999.00,9,  -999.0,9,  -999.0, -999.00,9,-999.000,9,  -999.0,9, -999.00,9,     -999.0,9, -999.00,9, 20160311,     1101, -29.5150,  95.0059,     -999.0,9,0.299263294,2,     -999.0,9,   0.0789,2,   0.0634,2,   0.0575,2,   0.0210,2,   0.0086,2,   0.0019,2,   0.0003,3,     0.0081,3,     0.0072,3,     -999.0,9,     -999.0,9,     -999.0,9
33RR20160208,       I08S,      81,          2,         23,         23,2,20160311,       0955,   -29.5150,    95.0059,       2695,   115.0,  19.0903,  35.8016,2,  35.7995,2,    232.7,2,   232.2,2,     1.2,2,    0.00,2,    0.00,2,    0.00,2,    0.04,2,-999.000,9,-999.000,9,-999.000,9,-999.000000000,9,  -999.0,9, -999.00,9,-999.0000,9,     9.00,  19.0899, -999.00,9,  -999.0,9,  -999.0, -999.00,9,-999.000,9,  -999.0,9, -999.00,9,     -999.0,9, -999.00,9, 20160311,     1103, -29.5150,  95.0059,     -999.0,9,0.161662763,2,     -999.0,9,   0.0938,2,   0.0641,2,   0.0317,2,   0.0155,2,   0.0071,2,   0.0022,2,   0.0005,3,     0.0194,2,     0.0205,2,     -999.0,9,     -999.0,9,     -999.0,9
33RR20160208,       I08S,      81,          2,         24,         24,2,20160311,       0955,   -29.5150,    95.0059,       2695,    86.7,  20.3807,  35.8077,2,  35.8105,2,    239.5,2,   235.3,2,     1.3,2,    0.00,2,    0.00,2,    0.00,2,    0.03,2,-999.000,9,-999.000,9,-999.000,9,-999.000000000,9,  2058.2,2, 2350.15,6,   8.0210,2,    24.89,  20.3842, -999.00,9,  -999.0,9,  -999.0, -999.00,9,-999.000,9,  -999.0,9, -999.00,9,     -999.0,9, -999.00,9, 20160311,     1105, -29.5150,  95.0059,     -999.0,9,     -999.0,9,     -999.0,9,-999.0000,9,-999.0000,9,-999.0000,9,-999.0000,9,-999.0000,9,-999.0000,9,-999.0000,9,     -999.0,9,     -999.0,9,     -999.0,9,     -999.0,9,     -999.0,9
33RR20160208,       I08S,      81,          2,         25,         25,2,20160311,       0955,   -29.5150,    95.0059,       2695,    62.3,  21.8979,  35.9905,2,  35.9882,2,    228.1,2,   223.0,2,     1.3,2,    0.00,2,    0.00,2,    0.00,2,    0.02,2,-999.000,9,-999.000,9,-999.000,9,-999.000000000,9,  2069.4,2, 2362.70,2,   8.0166,2,    24.96,  21.8958, -999.00,9,  -999.0,9,  -999.0, -999.00,9,-999.000,9,  -999.0,9, -999.00,9,     -999.0,9, -999.00,9, 20160311,     1107, -29.5150,  95.0059,     -999.0,9,0.059030258,2,     -999.0,9,   0.0475,2,   0.0311,2,   0.0174,2,   0.0055,2,   0.0017,2,  -0.0005,4,  -0.0010,4,     0.0193,2,     0.0198,2,     -999.0,9,     -999.0,9,     -999.0,9
33RR20160208,       I08S,      81,          2,         26,         26,2,20160311,       0955,   -29.5150,    95.0059,       2695,    35.4,  22.3505,  36.0130,2,  36.0113,2,    223.7,2,   220.2,2,     1.3,2,    0.00,2,    0.00,2,    0.00,2,    0.03,2,-999.000,9,-999.000,9,-999.000,9,-999.000000000,9,  2071.1,2, 2364.11,2,   8.0169,6,    24.92,  22.3629, -999.00,9,  -999.0,9,  -999.0, -999.00,9,-999.000,9,  -999.0,9, -999.00,9,     -999.0,9, -999.00,9, 20160311,     1109, -29.5150,  95.0059,     -999.0,9, 0.04118663,2,     -999.0,9,   0.0370,2,   0.0252,2,   0.0214,2,   0.0048,3,   0.0006,3,  -0.0011,4,  -0.0013,4,     0.0121,3,     0.0116,3,     -999.0,9,     -999.0,9,     -999.0,9
33RR20160208,       I08S,      81,          2,         27,         27,2,20160311,       0955,   -29.5150,    95.0059,       2695,     7.4,  22.8177,  36.0204,2,  36.0180,2,    223.1,2,   218.9,2,     1.3,2,    0.00,2,    0.00,2,    0.00,2,    0.04,2,-999.000,9,-999.000,9,-999.000,9,-999.000000000,9,  2070.5,6, 2364.44,2,   8.0169,6,    24.92,  22.8320, -999.00,9,  -999.0,9,  -999.0, -999.00,9,-999.000,9,  -999.0,9, -999.00,9,     -999.0,9, -999.00,9, 20160311,     1111, -29.5150,  95.0059,     -999.0,9,0.034237238,2,     -999.0,9,   0.0371,2,   0.0293,2,   0.0337,2,   0.0068,3,   0.0011,3,  -0.0012,4,  -0.0013,4,     0.0056,4,     0.0043,4,     -999.0,9,     -999.0,9,     -999.0,9