BOTTLE,20220706CCHSIOAMB
EXPOCODE,SECT_ID,STNNBR,CASTNO,SAMPNO,BTLNBR,BTLNBR_FLAG_W,DATE,TIME,LATITUDE,LONGITUDE,DEPTH,CTDPRS,CTDTMP,CTDSAL,CTDSAL_FLAG_W,SALNTY,SALNTY_FLAG_W,CTDOXY,CTDOXY_FLAG_W,OXYGEN,OXYGEN_FLAG_W,SILCAT,SILCAT_FLAG_W,NH4,NH4_FLAG_W,NITRAT,NITRAT_FLAG_W,NITRIT,NITRIT_FLAG_W,PHSPHT,PHSPHT_FLAG_W,CFC-11,CFC-11_FLAG_W,CFC-12,CFC-12_FLAG_W,CFC113,CFC113_FLAG_W,SF6,SF6_FLAG_W,TCARBN,TCARBN_FLAG_W,ALKALI,ALKALI_FLAG_W,PH_TOT,PH_TOT_FLAG_W,PH_TMP,REFTMP,DELC13,DELC13_FLAG_W,DELC14,DELC14_FLAG_W,C14ERR,DELO18,DELO18_FLAG_W,POC,POC_FLAG_W,DOC,DOC_FLAG_W,TDN,TDN_FLAG_W,TON,TON_FLAG_W,D15N_NO3,D15N_NO3_FLAG_W,BTL_DATE,BTL_TIME,BTL_LAT,BTL_LON,14C-DOC,14C-DOC_FLAG_W,CHLORA,CHLORA_FLAG_W,HPLC,HPLC_FLAG_W,CDOM325,CDOM325_FLAG_W,CDOM340,CDOM340_FLAG_W,CDOM380,CDOM380_FLAG_W,CDOM412,CDOM412_FLAG_W,CDOM443,CDOM443_FLAG_W,CDOM490,CDOM490_FLAG_W,CDOM555,CDOM555_FLAG_W,CDOMSL,CDOMSL_FLAG_W,CDOMSN,CDOMSN_FLAG_W,D18O_NO3,D18O_NO3_FLAG_W,D15N_NO2+NO3,D15N_NO2+NO3_FLAG_W,D18O_NO2+NO3,D18O_NO2+NO3_FLAG_W
,,,,,,,,,,,METERS,DBAR,ITS-90,PSS-78,,PSS-78,,UMOL/KG,,UMOL/KG,,UMOL/KG,,UMOL/KG,,UMOL/KG,,UMOL/KG,,UMOL/KG,,PMOL/KG,,PMOL/KG,,PMOL/KG,,FMOL/KG,,UMOL/KG,,UMOL/KG,,,,DEG C,DEG C,/MILLE,,/MILLE,,/MILLE,/MILLE,,UG/KG,,UMOL/KG,,UMOL/KG,,UMOL/KG,,/MILLE,,,,,,/MILLE,,MG/M3,,,,1/M,,1/M,,1/M,,1/M,,1/M,,1/M,,1/M,,1/NM,,1/NM,,/MILLE,,/MILLE,,/MILLE,
33RR20160208,       I08S,      83,          1,         28,         28,2,20160311,       2055,   -28.3180,    95.0091,       3136,   249.1,  14.0946,  35.3833,2,  35.3878,2,    231.4,2,   231.8,2,     0.8,2,    0.00,2,    4.40,2,    0.00,2,    0.39,2,   2.543,2,   1.520,2,-999.000,5,         1.283,2,  2108.4,2, 2330.80,2,   7.8888,2,    25.01,  14.1017,    0.86,2,    30.2,2,     2.0, -999.00,9,-999.000,9,  -999.0,9, -999.00,9,     -999.0,9, -999.00,9, 20160311,     2209, -28.3180,  95.0090,     -999.0,9,     -999.0,9,     -999.0,9,-999.0000,9,-999.0000,9,-999.0000,9,-999.0000,9,-999.0000,9,-999.0000,9,-999.0000,9,     -999.0,9,     -999.0,9,     -999.0,9,     -999.0,9,     -999.0,9
33RR20160208,       I08S,      83,          1,         29,         29,2,20160311,       2055,   -28.3180,    95.0091,       3136,   201.0,  15.2002,  35.5188,2,  35.5170,2,    225.0,2,   225.7,2,     0.7,2,    0.00,2,    3.02,2,    0.02,2,    0.33,2,   2.463,2,   1.487,2,-999.000,5,         1.486,2,  2105.2,2, 2336.25,2,   7.9068,2,    25.02,  15.2013,    0.89,2,    35.9,2,     2.6, -999.00,9,-999.000,9,  -999.0,9, -999.00,9,     -999.0,9, -999.00,9, 20160311,     2212, -28.3180,  95.0090,     -999.0,9,     -999.0,9,     -999.0,9,-999.0000,9,-999.0000,9,-999.0000,9,-999.0000,9,-999.0000,9,-999.0000,9,-999.0000,9,     -999.0,9,     -999.0,9,     -999.0,9,     -999.0,9,     -999.0,9
33RR20160208,       I08S,      83,          1,         30,         30,2,20160311,       2055,   -28.3180,    95.0091,       3136,   148.7,  17.0011,  35.7172,2,  35.7152,2,    228.7,2,   228.1,2,     0.7,2,    0.00,2,    0.32,2,    0.11,2,    0.18,2,   2.258,6,   1.393,6,-999.000,5,         1.417,6,  2092.7,2, 2347.62,2,   7.9505,2,    25.01,  17.0010,    0.88,2,    32.6,2,     2.0, -999.00,9,-999.000,9,  -999.0,9, -999.00,9,     -999.0,9, -999.00,9, 20160311,     2214, -28.3180,  95.0090,     -999.0,9,     -999.0,9,     -999.0,9,-999.0000,9,-999.0000,9,-999.0000,9,-999.0000,9,-999.0000,9,-999.0000,9,-999.0000,9,     -999.0,9,     -999.0,9,     -999.0,9,     -999.0,9,     -999.0,9
33RR20160208,       I08S,      83,          1,         31,         31,2,20160311,       2055,   -28.3180,    95.0091,       3136,   126.6,  17.8408,  35.7662,2,  35.7706,2,    237.3,2,   235.2,2,     0.7,2,    0.00,2,    0.00,2,    0.00,2,    0.10,2,   2.184,2,   1.370,2,-999.000,5,         1.469,2,  2082.1,2, 2350.81,6,   7.9739,2,    25.01,  17.8650,    0.93,2,    36.5,2,     2.2, -999.00,9,-999.000,9,  -999.0,9, -999.00,9,     -999.0,9, -999.00,9, 20160311,     2216, -28.3180,  95.0091,     -999.0,9,     -999.0,9,     -999.0,9,-999.0000,9,-999.0000,9,-999.0000,9,-999.0000,9,-999.0000,9,-999.0000,9,-999.0000,9,     -999.0,9,     -999.0,9,     -999.0,9,     -999.0,9,     -999.0,9
33RR20160208,       I08S,      83,          1,         32,         32,2,20160311,       2055,   -28.3180,    95.0091,       3136,   100.8,  19.3204,  35.8241,2,  35.8268,2,    238.1,2,   236.8,2,     0.9,2,    0.00,2,    0.00,2,    0.00,2,    0.08,2,   2.101,2,   1.292,2,-999.000,5,         1.288,2,  2067.7,2, 2351.36,2,   8.0008,2,    25.01,  19.3513,    0.89,2,    32.5,2,     2.7, -999.00,9,-999.000,9,  -999.0,9, -999.00,9,     -999.0,9, -999.00,9, 20160311,     2218, -28.3180,  95.0090,     -999.0,9,     -999.0,9,     -999.0,9,-999.0000,9,-999.0000,9,-999.0000,9,-999.0000,9,-999.0000,9,-999.0000,9,-999.0000,9,     -999.0,9,     -999.0,9,     -999.0,9,     -999.0,9,     -999.0,9
33RR20160208,       I08S,      83,          1,         33,         33,2,20160311,       2055,   -28.3180,    95.0091,       3136,    73.1,  20.6746,  35.8485,2,  35.8503,2,    235.3,2,   234.0,2,     1.1,2,    0.00,2,    0.00,2,    0.00,2,    0.06,2,   2.008,2,   1.235,2,-999.000,5,         1.389,2,  2059.2,2, 2352.12,2,   8.0165,2,    25.03,  20.6380,    0.84,2,    31.1,2,     2.0, -999.00,9,-999.000,9,  -999.0,9, -999.00,9,     -999.0,9, -999.00,9, 20160311,     2219, -28.3180,  95.0090,     -999.0,9,     -999.0,9,     -999.0,9,-999.0000,9,-999.0000,9,-999.0000,9,-999.0000,9,-999.0000,9,-999.0000,9,-999.0000,9,     -999.0,9,     -999.0,9,     -999.0,9,     -999.0,9,     -999.0,9
33RR20160208,       I08S,      83,          1,         34,         34,2,20160311,       2055,   -28.3180,    95.0091,       3136,    49.0,  22.2015,  35.9373,2,  35.9357,2,    224.7,2,   225.3,2,     1.1,2,    0.00,2,    0.00,2,    0.00,2,    0.06,2,   1.874,2,   1.147,2,-999.000,5,         1.405,2,  2063.1,2, 2356.78,2,   8.0191,6,    25.02,  22.1585,    0.80,2,    29.9,2,     2.2, -999.00,9,-999.000,9,  -999.0,9, -999.00,9,     -999.0,9, -999.00,9, 20160311,     2221, -28.3180,  95.0090,     -999.0,9,     -999.0,9,     -999.0,9,-999.0000,9,-999.0000,9,-999.0000,9,-999.0000,9,-999.0000,9,-999.0000,9,-999.0000,9,     -999.0,9,     -999.0,9,     -999.0,9,     -999.0,9,     -999.0,9
33RR20160208,       I08S,      83,          1,         35,         35,2,20160311,       2055,   -28.3180,    95.0091,       3136,    24.8,  23.6129,  35.9463,2,  35.9438,2,    214.2,2,   213.6,2,     1.2,2,    0.00,2,    0.00,2,    0.00,2,    0.04,2,   1.708,2,   1.071,2,-999.000,5,          1.38,2,  2054.3,2, 2356.96,2,   8.0334,2,    25.01,  23.6097, -999.00,9,  -999.0,9,  -999.0, -999.00,9,-999.000,9,  -999.0,9, -999.00,9,     -999.0,9, -999.00,9, 20160311,     2223, -28.3180,  95.0090,     -999.0,9,     -999.0,9,     -999.0,9,-999.0000,9,-999.0000,9,-999.0000,9,-999.0000,9,-999.0000,9,-999.0000,9,-999.0000,9,     -999.0,9,     -999.0,9,     -999.0,9,     -999.0,9,     -999.0,9
33RR20160208,       I08S,      83,          1,         36,         36,2,20160311,       2055,   -28.3180,    95.0091,       3136,     7.4,  23.9520,  35.9385,2,  35.9365,2,    212.7,2,   212.4,2,     1.3,2,    0.00,2,    0.00,2,    0.00,2,    0.04,2,   1.636,2,   1.045,2,-999.000,5,         1.321,2,  2049.7,6, 2355.25,2,   8.0362,6,    25.01,  23.9496,    0.67,2,    35.1,2,     2.4, -999.00,9,-999.000,9,  -999.0,9, -999.00,9,     -999.0,9, -999.00,9, 20160311,     2225, -28.3180,  95.0090,     -999.0,9,     -999.0,9,     -999.0,9,-999.0000,9,-999.0000,9,-999.0000,9,-999.0000,9,-999.0000,9,-999.0000,9,-999.0000,9,     -999.0,9,     -999.0,9,     -999.0,9,     -999.0,9,     -999.0,9