BOTTLE,20220706CCHSIOAMB
EXPOCODE,SECT_ID,STNNBR,CASTNO,SAMPNO,BTLNBR,BTLNBR_FLAG_W,DATE,TIME,LATITUDE,LONGITUDE,DEPTH,CTDPRS,CTDTMP,CTDSAL,CTDSAL_FLAG_W,SALNTY,SALNTY_FLAG_W,CTDOXY,CTDOXY_FLAG_W,OXYGEN,OXYGEN_FLAG_W,SILCAT,SILCAT_FLAG_W,NH4,NH4_FLAG_W,NITRAT,NITRAT_FLAG_W,NITRIT,NITRIT_FLAG_W,PHSPHT,PHSPHT_FLAG_W,CFC-11,CFC-11_FLAG_W,CFC-12,CFC-12_FLAG_W,CFC113,CFC113_FLAG_W,SF6,SF6_FLAG_W,TCARBN,TCARBN_FLAG_W,ALKALI,ALKALI_FLAG_W,PH_TOT,PH_TOT_FLAG_W,PH_TMP,REFTMP,DELC13,DELC13_FLAG_W,DELC14,DELC14_FLAG_W,C14ERR,DELO18,DELO18_FLAG_W,POC,POC_FLAG_W,DOC,DOC_FLAG_W,TDN,TDN_FLAG_W,TON,TON_FLAG_W,D15N_NO3,D15N_NO3_FLAG_W,BTL_DATE,BTL_TIME,BTL_LAT,BTL_LON,14C-DOC,14C-DOC_FLAG_W,CHLORA,CHLORA_FLAG_W,HPLC,HPLC_FLAG_W,CDOM325,CDOM325_FLAG_W,CDOM340,CDOM340_FLAG_W,CDOM380,CDOM380_FLAG_W,CDOM412,CDOM412_FLAG_W,CDOM443,CDOM443_FLAG_W,CDOM490,CDOM490_FLAG_W,CDOM555,CDOM555_FLAG_W,CDOMSL,CDOMSL_FLAG_W,CDOMSN,CDOMSN_FLAG_W,D18O_NO3,D18O_NO3_FLAG_W,D15N_NO2+NO3,D15N_NO2+NO3_FLAG_W,D18O_NO2+NO3,D18O_NO2+NO3_FLAG_W
,,,,,,,,,,,METERS,DBAR,ITS-90,PSS-78,,PSS-78,,UMOL/KG,,UMOL/KG,,UMOL/KG,,UMOL/KG,,UMOL/KG,,UMOL/KG,,UMOL/KG,,PMOL/KG,,PMOL/KG,,PMOL/KG,,FMOL/KG,,UMOL/KG,,UMOL/KG,,,,DEG C,DEG C,/MILLE,,/MILLE,,/MILLE,/MILLE,,UG/KG,,UMOL/KG,,UMOL/KG,,UMOL/KG,,/MILLE,,,,,,/MILLE,,MG/M3,,,,1/M,,1/M,,1/M,,1/M,,1/M,,1/M,,1/M,,1/NM,,1/NM,,/MILLE,,/MILLE,,/MILLE,
33RR20160208,       I08S,      33,          1,          1,          1,2,20160226,       2347,   -54.3670,    86.1421,       4641,  4688.3,   0.2102,  34.6690,2,  34.6713,4,    227.5,2,   227.4,2,   127.9,2,    0.00,2,   32.19,2,    0.00,2,    2.25,2,   1.073,2,   0.531,2,   0.081,2,         0.249,2,  2260.9,2, 2356.47,6,   7.5937,2,    24.98,   0.2109, -999.00,9,  -999.0,9,  -999.0, -999.00,1,-999.000,9,  -999.0,9, -999.00,9,     -999.0,9, -999.00,9, 20160226,     2347, -54.3670,  86.1422,     -999.0,9,     -999.0,9,     -999.0,9,-999.0000,9,-999.0000,9,-999.0000,9,-999.0000,9,-999.0000,9,-999.0000,9,-999.0000,9,     -999.0,9,     -999.0,9,     -999.0,9,     -999.0,9,     -999.0,9
33RR20160208,       I08S,      33,          1,          2,          2,2,20160226,       2347,   -54.3670,    86.1421,       4641,  4492.1,   0.2301,  34.6709,2,  34.6717,4,    226.1,2,   226.4,2,   127.8,2,    0.00,2,   32.19,2,    0.00,2,    2.24,2,   0.957,2,   0.479,2,   0.065,2,         0.226,2,  -999.0,9, -999.00,9,-999.0000,9,  -999.00,   0.2304, -999.00,9,  -999.0,9,  -999.0, -999.00,1,-999.000,9,  -999.0,9, -999.00,9,     -999.0,9, -999.00,9, 20160226,     2352, -54.3670,  86.1422,     -999.0,9,     -999.0,9,     -999.0,9,-999.0000,9,-999.0000,9,-999.0000,9,-999.0000,9,-999.0000,9,-999.0000,9,-999.0000,9,     -999.0,9,     -999.0,9,     -999.0,9,     -999.0,9,     -999.0,9
33RR20160208,       I08S,      33,          1,          3,          3,3,20160226,       2347,   -54.3670,    86.1421,       4641,  4298.3,   0.2631,  34.6736,3,  34.6739,3,    224.7,3,   224.6,3,   127.2,3,    0.00,3,   32.17,3,    0.00,3,    2.25,3,   0.889,2,   0.444,2,   0.056,2,         0.196,2,  -999.0,9, -999.00,9,-999.0000,9,     9.00,   0.2627, -999.00,9,  -999.0,9,  -999.0, -999.00,1,-999.000,9,  -999.0,9, -999.00,9,     -999.0,9, -999.00,9, 20160226,     2355, -54.3670,  86.1422,     -999.0,9,     -999.0,9,     -999.0,9,-999.0000,9,-999.0000,9,-999.0000,9,-999.0000,9,-999.0000,9,-999.0000,9,-999.0000,9,     -999.0,9,     -999.0,9,     -999.0,9,     -999.0,9,     -999.0,9
33RR20160208,       I08S,      33,          1,          4,          4,2,20160226,       2347,   -54.3670,    86.1421,       4641,  3998.7,   0.3239,  34.6776,2,  34.6782,2,    221.9,2,   221.9,2,   126.4,2,    0.00,2,   32.26,2,    0.00,2,    2.24,2,   0.747,2,   0.382,2,   0.047,2,         0.142,2,  -999.0,9, -999.00,9,-999.0000,9,  -999.00,   0.3237, -999.00,9,  -999.0,9,  -999.0, -999.00,1,-999.000,9,  -999.0,9, -999.00,9,     -999.0,9, -999.00,9, 20160227,        0, -54.3669,  86.1422,     -999.0,9,     -999.0,9,     -999.0,9,-999.0000,9,-999.0000,9,-999.0000,9,-999.0000,9,-999.0000,9,-999.0000,9,-999.0000,9,     -999.0,9,     -999.0,9,     -999.0,9,     -999.0,9,     -999.0,9
33RR20160208,       I08S,      33,          1,          5,          5,2,20160226,       2347,   -54.3670,    86.1421,       4641,  3699.2,   0.4560,  34.6845,2,  34.6854,2,    216.9,2,   218.2,2,   124.3,2,    0.00,2,   32.16,2,    0.00,2,    2.25,2,   0.554,2,   0.285,2,   0.031,2,         0.129,2,  -999.0,9, -999.00,9,-999.0000,9,  -999.00,   0.4552, -999.00,9,  -999.0,9,  -999.0, -999.00,1,-999.000,9,  -999.0,9, -999.00,9,     -999.0,9, -999.00,9, 20160227,        5, -54.3671,  86.1422,     -999.0,9,     -999.0,9,     -999.0,9,-999.0000,9,-999.0000,9,-999.0000,9,-999.0000,9,-999.0000,9,-999.0000,9,-999.0000,9,     -999.0,9,     -999.0,9,     -999.0,9,     -999.0,9,     -999.0,9
33RR20160208,       I08S,      33,          1,          6,         38,2,20160226,       2347,   -54.3670,    86.1421,       4641,  3400.6,   0.6857,  34.6965,2,  34.6964,2,    211.5,2,   211.8,2,   120.2,2,    0.00,2,   32.01,2,    0.00,2,    2.24,2,   0.338,2,   0.177,2,   0.011,2,         0.015,2,  2263.3,2, 2358.51,2,   7.5959,6,    24.98,   0.6852, -999.00,9,  -999.0,9,  -999.0, -999.00,1,-999.000,9,  -999.0,9, -999.00,9,     -999.0,9, -999.00,9, 20160227,       10, -54.3671,  86.1422,     -999.0,9,     -999.0,9,     -999.0,9,-999.0000,9,-999.0000,9,-999.0000,9,-999.0000,9,-999.0000,9,-999.0000,9,-999.0000,9,     -999.0,9,     -999.0,9,     -999.0,9,     -999.0,9,     -999.0,9
33RR20160208,       I08S,      33,          1,          7,          7,2,20160226,       2347,   -54.3670,    86.1421,       4641,  3098.3,   0.8743,  34.7079,2,  34.7084,2,    209.8,2,   209.7,2,   115.5,2,    0.00,2,   31.63,2,    0.00,2,    2.23,2,   0.264,2,   0.133,2,   0.005,2,         0.041,2,  -999.0,9, -999.00,9,-999.0000,9,  -999.00,   0.8741, -999.00,9,  -999.0,9,  -999.0, -999.00,1,-999.000,9,  -999.0,9, -999.00,9,     -999.0,9, -999.00,9, 20160227,       15, -54.3670,  86.1422,     -999.0,9,     -999.0,9,     -999.0,9,-999.0000,9,-999.0000,9,-999.0000,9,-999.0000,9,-999.0000,9,-999.0000,9,-999.0000,9,     -999.0,9,     -999.0,9,     -999.0,9,     -999.0,9,     -999.0,9
33RR20160208,       I08S,      33,          1,          8,          8,2,20160226,       2347,   -54.3670,    86.1421,       4641,  2834.0,   0.9340,  34.7122,2,  34.7135,2,    209.1,2,   208.7,2,   113.0,2,    0.00,2,   31.29,2,    0.00,2,    2.19,2,   0.246,6,   0.129,6,   0.004,6,             0,6,  -999.0,9, -999.00,9,-999.0000,9,  -999.00,   0.9337, -999.00,9,  -999.0,9,  -999.0, -999.00,1,-999.000,9,  -999.0,9, -999.00,9,     -999.0,9, -999.00,9, 20160227,       19, -54.3670,  86.1422,     -999.0,9,     -999.0,9,     -999.0,9,-999.0000,9,-999.0000,9,-999.0000,9,-999.0000,9,-999.0000,9,-999.0000,9,-999.0000,9,     -999.0,9,     -999.0,9,     -999.0,9,     -999.0,9,     -999.0,9
33RR20160208,       I08S,      33,          1,          9,          9,2,20160226,       2347,   -54.3670,    86.1421,       4641,  2582.3,   0.9973,  34.7168,2,  34.7178,2,    208.5,2,   208.2,2,   110.4,2,    0.00,2,   31.21,2,    0.00,2,    2.18,2,   0.240,2,   0.128,2,   0.004,2,         0.015,2,  -999.0,9, -999.00,9,-999.0000,9,     9.00,   0.9969, -999.00,9,  -999.0,9,  -999.0, -999.00,1,-999.000,9,  -999.0,9, -999.00,9,     -999.0,9, -999.00,9, 20160227,       23, -54.3670,  86.1422,     -999.0,9,     -999.0,9,     -999.0,9,-999.0000,9,-999.0000,9,-999.0000,9,-999.0000,9,-999.0000,9,-999.0000,9,-999.0000,9,     -999.0,9,     -999.0,9,     -999.0,9,     -999.0,9,     -999.0,9
33RR20160208,       I08S,      33,          1,         10,         10,2,20160226,       2347,   -54.3670,    86.1421,       4641,  2330.7,   1.1113,  34.7241,2,  34.7259,2,    207.2,2,   206.5,2,   106.4,2,    0.00,2,   30.91,2,    0.00,2,    2.16,2,-999.000,9,-999.000,9,-999.000,9,-999.000000000,9,  -999.0,9, -999.00,9,-999.0000,9,  -999.00,   1.1104, -999.00,9,  -999.0,9,  -999.0, -999.00,1,-999.000,9,  -999.0,9, -999.00,9,     -999.0,9, -999.00,9, 20160227,       28, -54.3670,  86.1422,     -999.0,9,     -999.0,9,     -999.0,9,-999.0000,9,-999.0000,9,-999.0000,9,-999.0000,9,-999.0000,9,-999.0000,9,-999.0000,9,     -999.0,9,     -999.0,9,     -999.0,9,     -999.0,9,     -999.0,9
33RR20160208,       I08S,      33,          1,         11,         11,2,20160226,       2347,   -54.3670,    86.1421,       4641,  2085.4,   1.3388,  34.7360,2,  34.7374,2,    205.8,2,   205.6,2,    99.9,2,    0.00,2,   30.52,2,    0.00,2,    2.12,2,   0.213,2,   0.115,2,   0.003,2,         0.014,2,  2254.4,2, 2355.15,2,   7.6114,6,    24.98,   1.3414, -999.00,9,  -999.0,9,  -999.0, -999.00,1,-999.000,9,  -999.0,9, -999.00,9,     -999.0,9, -999.00,9, 20160227,       32, -54.3670,  86.1421,     -999.0,9,     -999.0,9,     -999.0,9,-999.0000,9,-999.0000,9,-999.0000,9,-999.0000,9,-999.0000,9,-999.0000,9,-999.0000,9,     -999.0,9,     -999.0,9,     -999.0,9,     -999.0,9,     -999.0,9
33RR20160208,       I08S,      33,          1,         12,         12,2,20160226,       2347,   -54.3670,    86.1421,       4641,  1860.8,   1.4530,  34.7421,2,  34.7433,2,    205.3,2,   204.5,2,    96.2,2,    0.00,2,   30.21,2,    0.00,2,    2.11,2,-999.000,9,-999.000,9,-999.000,9,-999.000000000,9,  -999.0,9, -999.00,9,-999.0000,9,     9.00,   1.4526, -999.00,9,  -999.0,9,  -999.0, -999.00,1,-999.000,9,  -999.0,9, -999.00,9,     -999.0,9, -999.00,9, 20160227,       35, -54.3670,  86.1422,     -999.0,9,     -999.0,9,     -999.0,9,-999.0000,9,-999.0000,9,-999.0000,9,-999.0000,9,-999.0000,9,-999.0000,9,-999.0000,9,     -999.0,9,     -999.0,9,     -999.0,9,     -999.0,9,     -999.0,9
33RR20160208,       I08S,      33,          1,         13,         13,2,20160226,       2347,   -54.3670,    86.1421,       4641,  1661.8,   1.5570,  34.7466,2,  34.7480,2,    204.1,2,   203.2,2,    92.7,2,    0.00,2,   30.00,2,    0.00,2,    2.09,2,   0.200,2,   0.104,2,   0.002,2,             0,2,  -999.0,9, -999.00,9,-999.0000,9,  -999.00,   1.5569, -999.00,9,  -999.0,9,  -999.0, -999.00,1,-999.000,9,  -999.0,9, -999.00,9,     -999.0,9, -999.00,9, 20160227,       38, -54.3670,  86.1422,     -999.0,9,     -999.0,9,     -999.0,9,-999.0000,9,-999.0000,9,-999.0000,9,-999.0000,9,-999.0000,9,-999.0000,9,-999.0000,9,     -999.0,9,     -999.0,9,     -999.0,9,     -999.0,9,     -999.0,9
33RR20160208,       I08S,      33,          1,         14,         14,2,20160226,       2347,   -54.3670,    86.1421,       4641,  1534.0,   1.6193,  34.7490,2,  34.7502,2,    203.0,2,   203.3,2,    90.8,2,    0.00,2,   29.89,2,    0.00,2,    2.08,2,-999.000,9,-999.000,9,-999.000,9,-999.000000000,9,  -999.0,9, -999.00,9,-999.0000,9,  -999.00,   1.6193, -999.00,9,  -999.0,9,  -999.0, -999.00,1,-999.000,9,  -999.0,9, -999.00,9,     -999.0,9, -999.00,9, 20160227,       41, -54.3670,  86.1421,     -999.0,9,     -999.0,9,     -999.0,9,-999.0000,9,-999.0000,9,-999.0000,9,-999.0000,9,-999.0000,9,-999.0000,9,-999.0000,9,     -999.0,9,     -999.0,9,     -999.0,9,     -999.0,9,     -999.0,9
33RR20160208,       I08S,      33,          1,         15,         15,2,20160226,       2347,   -54.3670,    86.1421,       4641,  1432.6,   1.6868,  34.7508,2,  34.7527,2,    201.6,2,   201.8,2,    89.4,2,    0.00,2,   29.82,2,    0.00,2,    2.06,2,   0.187,2,   0.100,2,   0.002,2,             0,2,  -999.0,9, -999.00,9,-999.0000,9,     9.00,   1.6859, -999.00,9,  -999.0,9,  -999.0, -999.00,1,-999.000,9,  -999.0,9, -999.00,9,     -999.0,9, -999.00,9, 20160227,       42, -54.3670,  86.1422,     -999.0,9,     -999.0,9,     -999.0,9,-999.0000,9,-999.0000,9,-999.0000,9,-999.0000,9,-999.0000,9,-999.0000,9,-999.0000,9,     -999.0,9,     -999.0,9,     -999.0,9,     -999.0,9,     -999.0,9
33RR20160208,       I08S,      33,          1,         16,         16,2,20160226,       2347,   -54.3670,    86.1421,       4641,  1332.9,   1.7891,  34.7500,2,  34.7522,2,    198.9,2,   199.6,2,    86.7,2,    0.00,2,   29.86,2,    0.00,2,    2.07,2,-999.000,9,-999.000,9,-999.000,9,-999.000000000,9,  2248.5,2, 2347.86,2,   7.6130,2,    25.00,   1.7947, -999.00,9,  -999.0,9,  -999.0, -999.00,1,-999.000,9,  -999.0,9, -999.00,9,     -999.0,9, -999.00,9, 20160227,       44, -54.3670,  86.1422,     -999.0,9,     -999.0,9,     -999.0,9,-999.0000,9,-999.0000,9,-999.0000,9,-999.0000,9,-999.0000,9,-999.0000,9,-999.0000,9,     -999.0,9,     -999.0,9,     -999.0,9,     -999.0,9,     -999.0,9
33RR20160208,       I08S,      33,          1,         17,         17,2,20160226,       2347,   -54.3670,    86.1421,       4641,  1230.0,   1.9070,  34.7464,2,  34.7471,2,    196.2,2,   197.3,2,    83.5,2,    0.00,2,   30.05,2,    0.00,2,    2.08,2,   0.191,2,   0.108,2,   0.003,2,         0.044,2,  -999.0,9, -999.00,9,-999.0000,9,  -999.00,   1.9069, -999.00,9,  -999.0,9,  -999.0, -999.00,1,-999.000,9,  -999.0,9, -999.00,9,     -999.0,9, -999.00,9, 20160227,       46, -54.3670,  86.1422,     -999.0,9,     -999.0,9,     -999.0,9,-999.0000,9,-999.0000,9,-999.0000,9,-999.0000,9,-999.0000,9,-999.0000,9,-999.0000,9,     -999.0,9,     -999.0,9,     -999.0,9,     -999.0,9,     -999.0,9
33RR20160208,       I08S,      33,          1,         18,         37,2,20160226,       2347,   -54.3670,    86.1421,       4641,  1134.2,   1.9969,  34.7416,2,  34.7427,2,    193.5,2,   194.3,2,    81.3,2,    0.00,2,   30.21,2,    0.00,2,    2.10,2,-999.000,9,-999.000,9,-999.000,9,-999.000000000,9,  -999.0,9, -999.00,9,-999.0000,9,     9.00,   2.0006, -999.00,9,  -999.0,9,  -999.0, -999.00,1,-999.000,9,  -999.0,9, -999.00,9,     -999.0,9, -999.00,9, 20160227,       47, -54.3671,  86.1422,     -999.0,9,     -999.0,9,     -999.0,9,-999.0000,9,-999.0000,9,-999.0000,9,-999.0000,9,-999.0000,9,-999.0000,9,-999.0000,9,     -999.0,9,     -999.0,9,     -999.0,9,     -999.0,9,     -999.0,9
33RR20160208,       I08S,      33,          1,         19,         19,2,20160226,       2347,   -54.3670,    86.1421,       4641,  1035.3,   2.0709,  34.7300,2,  34.7298,2,    189.8,2,   190.2,2,    79.4,2,    0.00,2,   30.62,2,    0.00,2,    2.12,2,   0.252,2,   0.138,2,   0.008,2,         0.034,2,  -999.0,9, -999.00,9,-999.0000,9,  -999.00,   2.0708, -999.00,9,  -999.0,9,  -999.0, -999.00,1,-999.000,9,  -999.0,9, -999.00,9,     -999.0,9, -999.00,9, 20160227,       49, -54.3670,  86.1422,     -999.0,9,     -999.0,9,     -999.0,9,-999.0000,9,-999.0000,9,-999.0000,9,-999.0000,9,-999.0000,9,-999.0000,9,-999.0000,9,     -999.0,9,     -999.0,9,     -999.0,9,     -999.0,9,     -999.0,9
33RR20160208,       I08S,      33,          1,         20,         20,2,20160226,       2347,   -54.3670,    86.1421,       4641,   932.0,   2.1829,  34.7035,2,  34.7060,2,    184.9,2,   185.9,2,    76.8,2,    0.00,2,   31.19,2,    0.00,2,    2.19,2,-999.000,9,-999.000,9,-999.000,9,-999.000000000,9,  -999.0,9, -999.00,9,-999.0000,9,  -999.00,   2.1840, -999.00,9,  -999.0,9,  -999.0, -999.00,1,-999.000,9,  -999.0,9, -999.00,9,     -999.0,9, -999.00,9, 20160227,       51, -54.3670,  86.1422,     -999.0,9,     -999.0,9,     -999.0,9,-999.0000,9,-999.0000,9,-999.0000,9,-999.0000,9,-999.0000,9,-999.0000,9,-999.0000,9,     -999.0,9,     -999.0,9,     -999.0,9,     -999.0,9,     -999.0,9
33RR20160208,       I08S,      33,          1,         21,         21,4,20160226,       2347,   -54.3670,    86.1421,       4641,   830.1,   2.3257,  34.6730,3,  34.7288,3,    181.4,3,   198.0,3,    87.1,3,    0.00,3,   30.43,3,    0.00,3,    2.13,3,   0.219,2,   0.116,2,   0.004,2,         0.037,2,  -999.0,9, -999.00,9,-999.0000,9,     9.00,   2.3210, -999.00,9,  -999.0,9,  -999.0, -999.00,1,-999.000,9,  -999.0,9, -999.00,9,     -999.0,9, -999.00,9, 20160227,       52, -54.3670,  86.1422,     -999.0,9,     -999.0,9,     -999.0,9,-999.0000,9,-999.0000,9,-999.0000,9,-999.0000,9,-999.0000,9,-999.0000,9,-999.0000,9,     -999.0,9,     -999.0,9,     -999.0,9,     -999.0,9,     -999.0,9
33RR20160208,       I08S,      33,          1,         22,         22,2,20160226,       2347,   -54.3670,    86.1421,       4641,   733.1,   2.4214,  34.6335,2,  34.6334,2,    177.5,2,   177.6,2,    71.8,2,    0.00,2,   32.59,2,    0.00,2,    2.26,2,-999.000,9,-999.000,9,-999.000,9,-999.000000000,9,  2253.9,2, 2336.91,2,   7.5687,2,    24.98,   2.4229, -999.00,9,  -999.0,9,  -999.0, -999.00,1,-999.000,9,  -999.0,9, -999.00,9,     -999.0,9, -999.00,9, 20160227,       54, -54.3670,  86.1422,     -999.0,9,     -999.0,9,     -999.0,9,-999.0000,9,-999.0000,9,-999.0000,9,-999.0000,9,-999.0000,9,-999.0000,9,-999.0000,9,     -999.0,9,     -999.0,9,     -999.0,9,     -999.0,9,     -999.0,9
33RR20160208,       I08S,      33,          1,         23,         23,2,20160226,       2347,   -54.3670,    86.1421,       4641,   631.6,   2.3889,  34.5800,2,  34.5821,2,    175.1,2,   175.5,2,    70.9,2,    0.00,2,   33.51,2,    0.00,2,    2.33,2,   0.701,2,   0.387,2,   0.046,2,         0.174,2,  -999.0,9, -999.00,9,-999.0000,9,  -999.00,   2.3886, -999.00,9,  -999.0,9,  -999.0, -999.00,1,-999.000,9,  -999.0,9, -999.00,9,     -999.0,9, -999.00,9, 20160227,       56, -54.3670,  86.1422,     -999.0,9,     -999.0,9,     -999.0,9,-999.0000,9,-999.0000,9,-999.0000,9,-999.0000,9,-999.0000,9,-999.0000,9,-999.0000,9,     -999.0,9,     -999.0,9,     -999.0,9,     -999.0,9,     -999.0,9
33RR20160208,       I08S,      33,          1,         24,         24,2,20160226,       2347,   -54.3670,    86.1421,       4641,   532.3,   2.4692,  34.5174,2,  34.5183,2,    177.2,2,   176.9,2,    66.9,2,    0.00,2,   34.08,2,    0.00,2,    2.36,2,-999.000,9,-999.000,9,-999.000,9,-999.000000000,9,  2251.7,2, 2323.76,2,   7.5471,2,    24.98,   2.4760, -999.00,9,  -999.0,9,  -999.0, -999.00,1,-999.000,9,  -999.0,9, -999.00,9,     -999.0,9, -999.00,9, 20160227,       57, -54.3670,  86.1422,     -999.0,9,     -999.0,9,     -999.0,9,-999.0000,9,-999.0000,9,-999.0000,9,-999.0000,9,-999.0000,9,-999.0000,9,-999.0000,9,     -999.0,9,     -999.0,9,     -999.0,9,     -999.0,9,     -999.0,9
33RR20160208,       I08S,      33,          1,         25,         25,2,20160226,       2347,   -54.3670,    86.1421,       4641,   464.8,   2.4640,  34.4540,2,  34.4523,2,    187.0,2,   185.8,2,    61.7,2,    0.00,2,   34.07,2,    0.00,2,    2.38,2,   1.358,2,   0.688,2,   0.099,2,         0.397,2,  -999.0,9, -999.00,9,-999.0000,9,  -999.00,   2.4640, -999.00,9,  -999.0,9,  -999.0, -999.00,1,-999.000,9,  -999.0,9, -999.00,9,     -999.0,9, -999.00,9, 20160227,       58, -54.3670,  86.1422,     -999.0,9,     -999.0,9,     -999.0,9,-999.0000,9,-999.0000,9,-999.0000,9,-999.0000,9,-999.0000,9,-999.0000,9,-999.0000,9,     -999.0,9,     -999.0,9,     -999.0,9,     -999.0,9,     -999.0,9
33RR20160208,       I08S,      33,          1,         26,         26,2,20160226,       2347,   -54.3670,    86.1421,       4641,   414.1,   2.3390,  34.3589,2,  34.3588,2,    201.1,2,   200.8,2,    55.2,2,    0.00,2,   33.91,2,    0.00,2,    2.35,2,-999.000,9,-999.000,9,-999.000,9,-999.000000000,9,  2236.3,2, 2313.71,2,   7.5527,6,    24.96,   2.3393, -999.00,9,  -999.0,9,  -999.0, -999.00,1,-999.000,9,  -999.0,9, -999.00,9,     -999.0,9, -999.00,9, 20160227,       59, -54.3670,  86.1422,     -999.0,9,     -999.0,9,     -999.0,9,-999.0000,9,-999.0000,9,-999.0000,9,-999.0000,9,-999.0000,9,-999.0000,9,-999.0000,9,     -999.0,9,     -999.0,9,     -999.0,9,     -999.0,9,     -999.0,9
33RR20160208,       I08S,      33,          1,         27,         27,2,20160226,       2347,   -54.3670,    86.1421,       4641,   364.2,   2.4901,  34.2918,2,  34.2912,2,    212.8,2,   214.0,2,    46.9,2,    0.00,2,   33.06,2,    0.00,2,    2.30,2,   2.533,2,   1.266,2,   0.195,2,          0.97,2,  -999.0,9, -999.00,9,-999.0000,9,     9.00,   2.4870, -999.00,9,  -999.0,9,  -999.0, -999.00,1,-999.000,9,  -999.0,9, -999.00,9,     -999.0,9, -999.00,9, 20160227,      100, -54.3670,  86.1422,     -999.0,9,     -999.0,9,     -999.0,9,-999.0000,9,-999.0000,9,-999.0000,9,-999.0000,9,-999.0000,9,-999.0000,9,-999.0000,9,     -999.0,9,     -999.0,9,     -999.0,9,     -999.0,9,     -999.0,9