BOTTLE,20220706CCHSIOAMB
EXPOCODE,SECT_ID,STNNBR,CASTNO,SAMPNO,BTLNBR,BTLNBR_FLAG_W,DATE,TIME,LATITUDE,LONGITUDE,DEPTH,CTDPRS,CTDTMP,CTDSAL,CTDSAL_FLAG_W,SALNTY,SALNTY_FLAG_W,CTDOXY,CTDOXY_FLAG_W,OXYGEN,OXYGEN_FLAG_W,SILCAT,SILCAT_FLAG_W,NH4,NH4_FLAG_W,NITRAT,NITRAT_FLAG_W,NITRIT,NITRIT_FLAG_W,PHSPHT,PHSPHT_FLAG_W,CFC-11,CFC-11_FLAG_W,CFC-12,CFC-12_FLAG_W,CFC113,CFC113_FLAG_W,SF6,SF6_FLAG_W,TCARBN,TCARBN_FLAG_W,ALKALI,ALKALI_FLAG_W,PH_TOT,PH_TOT_FLAG_W,PH_TMP,REFTMP,DELC13,DELC13_FLAG_W,DELC14,DELC14_FLAG_W,C14ERR,DELO18,DELO18_FLAG_W,POC,POC_FLAG_W,DOC,DOC_FLAG_W,TDN,TDN_FLAG_W,TON,TON_FLAG_W,D15N_NO3,D15N_NO3_FLAG_W,BTL_DATE,BTL_TIME,BTL_LAT,BTL_LON,14C-DOC,14C-DOC_FLAG_W,CHLORA,CHLORA_FLAG_W,HPLC,HPLC_FLAG_W,CDOM325,CDOM325_FLAG_W,CDOM340,CDOM340_FLAG_W,CDOM380,CDOM380_FLAG_W,CDOM412,CDOM412_FLAG_W,CDOM443,CDOM443_FLAG_W,CDOM490,CDOM490_FLAG_W,CDOM555,CDOM555_FLAG_W,CDOMSL,CDOMSL_FLAG_W,CDOMSN,CDOMSN_FLAG_W,D18O_NO3,D18O_NO3_FLAG_W,D15N_NO2+NO3,D15N_NO2+NO3_FLAG_W,D18O_NO2+NO3,D18O_NO2+NO3_FLAG_W
,,,,,,,,,,,METERS,DBAR,ITS-90,PSS-78,,PSS-78,,UMOL/KG,,UMOL/KG,,UMOL/KG,,UMOL/KG,,UMOL/KG,,UMOL/KG,,UMOL/KG,,PMOL/KG,,PMOL/KG,,PMOL/KG,,FMOL/KG,,UMOL/KG,,UMOL/KG,,,,DEG C,DEG C,/MILLE,,/MILLE,,/MILLE,/MILLE,,UG/KG,,UMOL/KG,,UMOL/KG,,UMOL/KG,,/MILLE,,,,,,/MILLE,,MG/M3,,,,1/M,,1/M,,1/M,,1/M,,1/M,,1/M,,1/M,,1/NM,,1/NM,,/MILLE,,/MILLE,,/MILLE,
33RR20160208,       I08S,       4,          1,          1,          1,2,20160219,       1743,   -66.4000,    78.1993,       1979,  1985.3,   0.0325,  34.6592,2,  34.6583,2,    229.3,2,   229.4,2,   113.8,2,    1.55,2,   32.19,2,    0.00,2,    2.13,2,   1.371,2,   0.685,2,   0.115,2,         0.582,2,  2258.1,6, 2352.40,2,   7.5923,2,    25.05,   0.0325, -999.00,9,  -999.0,9,  -999.0, -999.00,1,-999.000,9,    40.4,2, -999.00,9,     -999.0,1, -999.00,9, 20160219,     1743, -66.4000,  78.1993,     -999.0,9,     -999.0,9,     -999.0,9,-999.0000,9,-999.0000,9,-999.0000,9,-999.0000,9,-999.0000,9,-999.0000,9,-999.0000,9,     -999.0,9,     -999.0,9,     -999.0,9,     -999.0,9,     -999.0,9
33RR20160208,       I08S,       4,          1,          2,          2,2,20160219,       1743,   -66.4000,    78.1993,       1979,  1873.3,   0.0428,  34.6593,2,  34.6591,2,    229.0,2,   228.8,2,   113.4,2,    0.00,2,   32.16,2,    0.00,2,    2.23,2,   1.291,2,   0.687,2,   0.107,2,         0.592,2,  -999.0,9, -999.00,9,-999.0000,9,  -999.00,   0.0434, -999.00,9,  -999.0,9,  -999.0, -999.00,1,-999.000,9,    40.6,2, -999.00,9,     -999.0,1, -999.00,9, 20160219,     1748, -66.4000,  78.1994,     -999.0,9,     -999.0,9,     -999.0,9,-999.0000,9,-999.0000,9,-999.0000,9,-999.0000,9,-999.0000,9,-999.0000,9,-999.0000,9,     -999.0,9,     -999.0,9,     -999.0,9,     -999.0,9,     -999.0,9
33RR20160208,       I08S,       4,          1,          3,          3,2,20160219,       1743,   -66.4000,    78.1993,       1979,  1818.1,   0.0506,  34.6595,2,  34.6594,2,    228.7,2,   229.1,2,   112.9,2,    0.04,2,   32.13,2,    0.00,2,    2.21,2,   1.307,2,   0.670,2,   0.107,2,         0.564,2,  -999.0,9, -999.00,9,-999.0000,9,  -999.00,   0.0508, -999.00,9,  -999.0,9,  -999.0, -999.00,1,-999.000,9,    38.7,2, -999.00,9,     -999.0,1, -999.00,9, 20160219,     1750, -66.4000,  78.1994,     -999.0,9,     -999.0,9,     -999.0,9,-999.0000,9,-999.0000,9,-999.0000,9,-999.0000,9,-999.0000,9,-999.0000,9,-999.0000,9,     -999.0,9,     -999.0,9,     -999.0,9,     -999.0,9,     -999.0,9
33RR20160208,       I08S,       4,          1,          4,          4,2,20160219,       1743,   -66.4000,    78.1993,       1979,  1766.1,   0.0654,  34.6597,2,  34.6600,2,    228.1,2,   228.0,2,   112.3,2,    2.41,2,   32.15,2,    0.00,2,    2.16,2,   1.287,2,   0.660,2,   0.105,2,         0.623,2,  2258.1,2, 2352.52,6,   7.5923,6,    25.04,   0.0655, -999.00,9,  -999.0,9,  -999.0, -999.00,1,-999.000,9,    40.5,2, -999.00,9,     -999.0,1, -999.00,9, 20160219,     1753, -66.4000,  78.1993,     -999.0,9,     -999.0,9,     -999.0,9,-999.0000,9,-999.0000,9,-999.0000,9,-999.0000,9,-999.0000,9,-999.0000,9,-999.0000,9,     -999.0,9,     -999.0,9,     -999.0,9,     -999.0,9,     -999.0,9
33RR20160208,       I08S,       4,          1,          5,          5,2,20160219,       1743,   -66.4000,    78.1993,       1979,  1664.3,   0.0860,  34.6602,2,  34.6602,2,    227.3,2,   227.5,2,   111.4,2,    0.37,2,   32.09,2,    0.00,2,    2.17,2,   1.267,2,   0.649,2,   0.104,2,         0.567,2,  -999.0,9, -999.00,9,-999.0000,9,  -999.00,   0.0860, -999.00,9,  -999.0,9,  -999.0, -999.00,1,-999.000,9,    41.4,2, -999.00,9,     -999.0,1, -999.00,9, 20160219,     1756, -66.4000,  78.1993,     -999.0,9,     -999.0,9,     -999.0,9,-999.0000,9,-999.0000,9,-999.0000,9,-999.0000,9,-999.0000,9,-999.0000,9,-999.0000,9,     -999.0,9,     -999.0,9,     -999.0,9,     -999.0,9,     -999.0,9
33RR20160208,       I08S,       4,          1,          6,          6,2,20160219,       1743,   -66.4000,    78.1993,       1979,  1563.8,   0.1359,  34.6619,2,  34.6647,2,    226.1,2,   225.9,2,   111.2,2,    0.22,2,   32.08,2,    0.00,2,    2.22,2,   1.197,2,   0.624,2,   0.098,2,         0.557,2,  -999.0,9, -999.00,9,-999.0000,9,  -999.00,   0.1360, -999.00,9,  -999.0,9,  -999.0, -999.00,1,-999.000,9,    40.7,2, -999.00,9,     -999.0,1, -999.00,9, 20160219,     1759, -66.4000,  78.1993,     -999.0,9,     -999.0,9,     -999.0,9,-999.0000,9,-999.0000,9,-999.0000,9,-999.0000,9,-999.0000,9,-999.0000,9,-999.0000,9,     -999.0,9,     -999.0,9,     -999.0,9,     -999.0,9,     -999.0,9
33RR20160208,       I08S,       4,          1,          7,          7,2,20160219,       1743,   -66.4000,    78.1993,       1979,  1465.1,   0.1723,  34.6632,2,  34.6619,2,    225.2,2,   225.4,2,   110.7,2,    0.15,2,   32.05,2,    0.00,2,    2.20,2,   1.140,2,   0.593,2,   0.091,2,         0.531,2,  2256.6,2, 2351.57,2,   7.5924,6,    25.05,   0.1723, -999.00,9,  -999.0,9,  -999.0, -999.00,1,-999.000,9,    39.2,2, -999.00,9,     -999.0,1, -999.00,9, 20160219,     1802, -66.4000,  78.1993,     -999.0,9,     -999.0,9,     -999.0,9,-999.0000,9,-999.0000,9,-999.0000,9,-999.0000,9,-999.0000,9,-999.0000,9,-999.0000,9,     -999.0,9,     -999.0,9,     -999.0,9,     -999.0,9,     -999.0,9
33RR20160208,       I08S,       4,          1,          8,          8,2,20160219,       1743,   -66.4000,    78.1993,       1979,  1363.7,   0.2308,  34.6663,2,  34.6657,2,    223.1,2,   223.4,2,   111.0,2,    0.17,2,   32.14,2,    0.00,2,    2.20,2,   1.053,2,   0.549,2,   0.085,2,         0.508,2,  -999.0,9, -999.00,9,-999.0000,9,  -999.00,   0.2301, -999.00,9,  -999.0,9,  -999.0, -999.00,1,-999.000,9,    39.6,2, -999.00,9,     -999.0,1, -999.00,9, 20160219,     1806, -66.4000,  78.1993,     -999.0,9,     -999.0,9,     -999.0,9,-999.0000,9,-999.0000,9,-999.0000,9,-999.0000,9,-999.0000,9,-999.0000,9,-999.0000,9,     -999.0,9,     -999.0,9,     -999.0,9,     -999.0,9,     -999.0,9
33RR20160208,       I08S,       4,          1,          9,          9,2,20160219,       1743,   -66.4000,    78.1993,       1979,  1218.1,   0.3259,  34.6692,2,  34.6698,2,    221.2,2,   221.6,2,   108.2,2,    0.12,2,   31.97,2,    0.00,2,    2.21,2,   1.038,2,   0.552,2,   0.086,2,         0.529,2,  -999.0,9, -999.00,9,-999.0000,9,  -999.00,   0.3262, -999.00,9,  -999.0,9,  -999.0, -999.00,1,-999.000,9,    39.9,2, -999.00,9,     -999.0,1, -999.00,9, 20160219,     1810, -66.4000,  78.1993,     -999.0,9,     -999.0,9,     -999.0,9,-999.0000,9,-999.0000,9,-999.0000,9,-999.0000,9,-999.0000,9,-999.0000,9,-999.0000,9,     -999.0,9,     -999.0,9,     -999.0,9,     -999.0,9,     -999.0,9
33RR20160208,       I08S,       4,          1,         10,         10,2,20160219,       1743,   -66.4000,    78.1993,       1979,  1019.4,   0.4244,  34.6718,2,  34.6702,2,    219.8,2,   219.7,2,   104.6,2,    0.00,2,   31.79,2,    0.00,2,    2.21,2,   1.042,2,   0.559,2,   0.090,2,         0.623,2,  2254.9,2, 2351.22,2,   7.5936,2,    25.06,   0.4244, -999.00,9,  -999.0,9,  -999.0, -999.00,1,-999.000,9,    41.0,2, -999.00,9,     -999.0,1, -999.00,9, 20160219,     1815, -66.4000,  78.1994,     -999.0,9,     -999.0,9,     -999.0,9,-999.0000,9,-999.0000,9,-999.0000,9,-999.0000,9,-999.0000,9,-999.0000,9,-999.0000,9,     -999.0,9,     -999.0,9,     -999.0,9,     -999.0,9,     -999.0,9
33RR20160208,       I08S,       4,          1,         11,         11,2,20160219,       1743,   -66.4000,    78.1993,       1979,   926.4,   0.3980,  34.6632,2,  34.6633,2,    222.5,2,   222.4,2,   100.3,2,    0.00,2,   31.66,2,    0.00,2,    2.17,2,   1.230,2,   0.643,2,   0.105,2,         0.653,2,  -999.0,9, -999.00,9,-999.0000,9,  -999.00,   0.4004, -999.00,9,  -999.0,9,  -999.0, -999.00,1,-999.000,9,    38.2,2, -999.00,9,     -999.0,1, -999.00,9, 20160219,     1818, -66.4000,  78.1994,     -999.0,9,     -999.0,9,     -999.0,9,-999.0000,9,-999.0000,9,-999.0000,9,-999.0000,9,-999.0000,9,-999.0000,9,-999.0000,9,     -999.0,9,     -999.0,9,     -999.0,9,     -999.0,9,     -999.0,9
33RR20160208,       I08S,       4,          1,         12,         12,2,20160219,       1743,   -66.4000,    78.1993,       1979,   825.2,   0.4374,  34.6599,2,  34.6601,2,    224.2,2,   222.9,2,    97.2,2,    0.00,2,   31.56,2,    0.00,2,    2.18,2,   1.320,2,   0.694,2,   0.116,2,         0.725,2,  -999.0,9, -999.00,9,-999.0000,9,  -999.00,   0.4400, -999.00,9,  -999.0,9,  -999.0, -999.00,1,-999.000,9,    40.0,2, -999.00,9,     -999.0,1, -999.00,9, 20160219,     1821, -66.4000,  78.1994,     -999.0,9,     -999.0,9,     -999.0,9,-999.0000,9,-999.0000,9,-999.0000,9,-999.0000,9,-999.0000,9,-999.0000,9,-999.0000,9,     -999.0,9,     -999.0,9,     -999.0,9,     -999.0,9,     -999.0,9
33RR20160208,       I08S,       4,          1,         13,         13,2,20160219,       1743,   -66.4000,    78.1993,       1979,   725.9,   0.3294,  34.6387,2,  34.6389,2,    227.1,2,   228.7,2,    91.2,2,    0.00,2,   31.42,2,    0.00,2,    2.17,2,   1.799,2,   0.899,2,   0.158,2,         0.692,2,  2249.7,2, 2345.26,2,   7.5928,6,    25.06,   0.3330, -999.00,9,  -999.0,9,  -999.0, -999.00,1,-999.000,9,    39.9,2, -999.00,9,     -999.0,1, -999.00,9, 20160219,     1824, -66.4000,  78.1993,     -999.0,9,     -999.0,9,     -999.0,9,-999.0000,9,-999.0000,9,-999.0000,9,-999.0000,9,-999.0000,9,-999.0000,9,-999.0000,9,     -999.0,9,     -999.0,9,     -999.0,9,     -999.0,9,     -999.0,9
33RR20160208,       I08S,       4,          1,         14,         14,2,20160219,       1743,   -66.4000,    78.1993,       1979,   623.9,   0.1847,  34.6145,2,  34.6136,2,    236.0,2,   235.9,2,    86.1,2,    0.00,2,   31.34,2,    0.00,2,    2.17,2,   2.086,2,   1.109,2,   0.192,2,         1.082,2,  -999.0,9, -999.00,9,-999.0000,9,  -999.00,   0.1848, -999.00,9,  -999.0,9,  -999.0, -999.00,1,-999.000,9,    40.1,2, -999.00,9,     -999.0,1, -999.00,9, 20160219,     1826, -66.3999,  78.1994,     -999.0,9,     -999.0,9,     -999.0,9,-999.0000,9,-999.0000,9,-999.0000,9,-999.0000,9,-999.0000,9,-999.0000,9,-999.0000,9,     -999.0,9,     -999.0,9,     -999.0,9,     -999.0,9,     -999.0,9
33RR20160208,       I08S,       4,          1,         15,         15,2,20160219,       1743,   -66.4000,    78.1993,       1979,   520.2,  -0.2182,  34.5634,2,  34.5628,2,    252.4,2,   251.6,2,    78.8,2,    0.00,2,   31.24,2,    0.00,2,    2.17,2,   2.811,2,   1.507,2,   0.262,2,         1.514,2,  -999.0,9, -999.00,9,-999.0000,9,  -999.00,  -0.2165, -999.00,9,  -999.0,9,  -999.0, -999.00,1,-999.000,9,    40.0,2, -999.00,9,     -999.0,1, -999.00,9, 20160219,     1830, -66.4001,  78.1991,     -999.0,9,     -999.0,9,     -999.0,9,-999.0000,9,-999.0000,9,-999.0000,9,-999.0000,9,-999.0000,9,-999.0000,9,-999.0000,9,     -999.0,9,     -999.0,9,     -999.0,9,     -999.0,9,     -999.0,9
33RR20160208,       I08S,       4,          1,         16,         16,2,20160219,       1743,   -66.4000,    78.1993,       1979,   425.3,  -0.9459,  34.4841,2,  34.4867,2,    278.4,2,   279.9,2,    69.7,2,    0.00,2,   30.88,2,    0.00,2,    2.14,2,   4.040,2,   2.132,2,   0.373,2,         1.933,2,  2235.7,2, 2330.19,2,   7.5987,6,    25.05,  -0.9444, -999.00,9,  -999.0,9,  -999.0, -999.00,1,-999.000,9,    43.3,3, -999.00,9,     -999.0,1, -999.00,9, 20160219,     1833, -66.4001,  78.1992,     -999.0,9,     -999.0,9,     -999.0,9,-999.0000,9,-999.0000,9,-999.0000,9,-999.0000,9,-999.0000,9,-999.0000,9,-999.0000,9,     -999.0,9,     -999.0,9,     -999.0,9,     -999.0,9,     -999.0,9
33RR20160208,       I08S,       4,          1,         17,         17,2,20160219,       1743,   -66.4000,    78.1993,       1979,   375.1,  -1.2524,  34.4527,2,  34.4530,2,    293.6,2,   292.7,2,    66.0,2,    0.03,2,   30.58,2,    0.00,2,    2.12,2,   4.475,2,   2.417,2,   0.424,2,         2.154,2,  -999.0,9, -999.00,9,-999.0000,9,  -999.00,  -1.2563, -999.00,9,  -999.0,9,  -999.0, -999.00,1,-999.000,9,    41.4,2, -999.00,9,     -999.0,1, -999.00,9, 20160219,     1835, -66.4001,  78.1992,     -999.0,9,     -999.0,9,     -999.0,9,-999.0000,9,-999.0000,9,-999.0000,9,-999.0000,9,-999.0000,9,-999.0000,9,-999.0000,9,     -999.0,9,     -999.0,9,     -999.0,9,     -999.0,9,     -999.0,9
33RR20160208,       I08S,       4,          1,         18,         18,2,20160219,       1743,   -66.4000,    78.1993,       1979,   348.9,  -1.3200,  34.4419,2,  34.4444,2,    294.6,2,   294.9,2,    65.4,2,    0.00,2,   30.53,2,    0.00,2,    2.11,2,   4.559,2,   2.467,2,   0.430,2,         2.299,2,  2231.0,2, 2327.70,2,   7.6048,2,    25.06,  -1.3238, -999.00,9,  -999.0,9,  -999.0, -999.00,1,-999.000,9,    39.4,2, -999.00,9,     -999.0,1, -999.00,9, 20160219,     1837, -66.4001,  78.1992,     -999.0,9,     -999.0,9,     -999.0,9,-999.0000,9,-999.0000,9,-999.0000,9,-999.0000,9,-999.0000,9,-999.0000,9,-999.0000,9,     -999.0,9,     -999.0,9,     -999.0,9,     -999.0,9,     -999.0,9
33RR20160208,       I08S,       4,          1,         19,         19,2,20160219,       1743,   -66.4000,    78.1993,       1979,   325.1,  -1.4122,  34.4299,2,  34.4312,2,    298.2,2,   298.6,2,    64.3,2,    0.00,2,   30.42,2,    0.00,2,    2.10,2,   4.789,2,   2.543,2,   0.440,2,         2.255,2,  -999.0,9, -999.00,9,-999.0000,9,     9.00,  -1.4113, -999.00,9,  -999.0,9,  -999.0, -999.00,1,-999.000,9,    42.4,2,   33.00,2,     -999.0,1, -999.00,9, 20160219,     1839, -66.4001,  78.1993,     -999.0,9,     -999.0,9,     -999.0,9,-999.0000,9,-999.0000,9,-999.0000,9,-999.0000,9,-999.0000,9,-999.0000,9,-999.0000,9,     -999.0,9,     -999.0,9,     -999.0,9,     -999.0,9,     -999.0,9
33RR20160208,       I08S,       4,          1,         20,         20,2,20160219,       1743,   -66.4000,    78.1993,       1979,   274.9,  -1.4917,  34.4088,2,  34.4110,2,    302.3,2,   301.7,2,    62.7,2,    0.00,2,   30.24,2,    0.00,2,    2.08,2,   4.809,2,   2.601,2,   0.461,2,         2.397,2,  2227.4,2, 2324.94,2,   7.6089,2,    25.06,  -1.4892, -999.00,9,  -999.0,9,  -999.0, -999.00,1,-999.000,9,    40.1,2,   32.30,2,     -999.0,1, -999.00,9, 20160219,     1841, -66.4001,  78.1991,     -999.0,9,     -999.0,9,     -999.0,9,-999.0000,9,-999.0000,9,-999.0000,9,-999.0000,9,-999.0000,9,-999.0000,9,-999.0000,9,     -999.0,9,     -999.0,9,     -999.0,9,     -999.0,9,     -999.0,9
33RR20160208,       I08S,       4,          1,         21,         21,2,20160219,       1743,   -66.4000,    78.1993,       1979,   235.5,  -1.6021,  34.3921,2,  34.3930,2,    304.9,2,   305.7,2,    61.4,2,    0.04,2,   30.17,2,    0.00,2,    2.09,2,   4.886,2,   2.659,2,   0.481,2,         2.597,2,  -999.0,9, -999.00,9,-999.0000,9,  -999.00,  -1.6036, -999.00,9,  -999.0,9,  -999.0, -999.00,1,-999.000,9,    41.8,2,   31.80,2,     -999.0,1, -999.00,9, 20160219,     1842, -66.4001,  78.1991,     -999.0,9,     -999.0,9,     -999.0,9,-999.0000,9,-999.0000,9,-999.0000,9,-999.0000,9,-999.0000,9,-999.0000,9,-999.0000,9,     -999.0,9,     -999.0,9,     -999.0,9,     -999.0,9,     -999.0,9
33RR20160208,       I08S,       4,          1,         22,         22,2,20160219,       1743,   -66.4000,    78.1993,       1979,   205.6,  -1.6967,  34.3781,2,  34.3793,2,    308.8,2,   308.9,2,    59.8,2,    0.00,2,   30.04,2,    0.00,2,    2.08,2,   5.039,2,   2.737,2,   0.495,2,         2.642,2,  -999.0,9, -999.00,9,-999.0000,9,     9.00,  -1.6953, -999.00,9,  -999.0,9,  -999.0, -999.00,1,-999.000,9,    40.3,2,   32.70,2,     -999.0,1, -999.00,9, 20160219,     1844, -66.4001,  78.1992,     -999.0,9,     -999.0,9,     -999.0,9,-999.0000,9,-999.0000,9,-999.0000,9,-999.0000,9,-999.0000,9,-999.0000,9,-999.0000,9,     -999.0,9,     -999.0,9,     -999.0,9,     -999.0,9,     -999.0,9
33RR20160208,       I08S,       4,          1,         23,         23,2,20160219,       1743,   -66.4000,    78.1993,       1979,   180.5,  -1.7110,  34.3714,2,  34.3736,2,    307.7,2,   308.5,2,    59.3,2,    0.00,2,   30.02,2,    0.00,2,    2.09,2,   5.064,2,   2.717,2,   0.489,2,         2.723,2,  2224.7,2, 2322.96,2,   7.6140,2,    25.05,  -1.7101, -999.00,9,  -999.0,9,  -999.0, -999.00,1,-999.000,9,    41.4,2,   32.60,2,     -999.0,1, -999.00,9, 20160219,     1846, -66.4002,  78.1991,     -999.0,9,     -999.0,9,     -999.0,9,-999.0000,9,-999.0000,9,-999.0000,9,-999.0000,9,-999.0000,9,-999.0000,9,-999.0000,9,     -999.0,9,     -999.0,9,     -999.0,9,     -999.0,9,     -999.0,9
33RR20160208,       I08S,       4,          1,         24,         24,2,20160219,       1743,   -66.4000,    78.1993,       1979,   155.1,  -1.7744,  34.3599,2,  34.3626,2,    309.4,2,   309.1,2,    58.6,2,    0.00,2,   30.00,2,    0.01,2,    2.08,2,   5.033,2,   2.704,2,   0.478,2,         2.683,2,  -999.0,9, -999.00,9,-999.0000,9,  -999.00,  -1.7742, -999.00,9,  -999.0,9,  -999.0, -999.00,1,-999.000,9,    40.6,2,   33.50,3,     -999.0,1, -999.00,9, 20160219,     1847, -66.4001,  78.1992,     -999.0,9,     -999.0,9,     -999.0,9,-999.0000,9,-999.0000,9,-999.0000,9,-999.0000,9,-999.0000,9,-999.0000,9,-999.0000,9,     -999.0,9,     -999.0,9,     -999.0,9,     -999.0,9,     -999.0,9
33RR20160208,       I08S,       4,          1,         25,         25,2,20160219,       1743,   -66.4000,    78.1993,       1979,   128.8,  -1.7829,  34.3492,2,  34.3494,2,    307.7,2,   307.7,2,    58.1,2,    0.04,2,   30.03,2,    0.03,2,    2.07,2,   4.992,2,   2.714,2,   0.488,2,         2.713,2,  2221.1,2, 2319.93,2,   7.6145,6,    25.05,  -1.7830, -999.00,9,  -999.0,9,  -999.0, -999.00,1,-999.000,9,    40.2,2,   32.70,2,     -999.0,1, -999.00,9, 20160219,     1849, -66.4001,  78.1992,     -999.0,9,     -999.0,9,     -999.0,9,-999.0000,9,-999.0000,9,-999.0000,9,-999.0000,9,-999.0000,9,-999.0000,9,-999.0000,9,     -999.0,9,     -999.0,9,     -999.0,9,     -999.0,9,     -999.0,9
33RR20160208,       I08S,       4,          1,         26,         26,2,20160219,       1743,   -66.4000,    78.1993,       1979,   105.2,  -1.7922,  34.3365,2,  34.3406,2,    306.5,2,   306.8,2,    57.9,2,    0.03,2,   30.09,2,    0.04,2,    2.08,2,   4.919,2,   2.645,2,   0.489,2,         2.608,2,  -999.0,9, -999.00,9,-999.0000,9,  -999.00,  -1.7922, -999.00,9,  -999.0,9,  -999.0, -999.00,1,-999.000,9,    40.5,2,   34.30,3,     -999.0,1, -999.00,9, 20160219,     1851, -66.4002,  78.1991,     -999.0,9,     -999.0,9,     -999.0,9,-999.0000,9,-999.0000,9,-999.0000,9,-999.0000,9,-999.0000,9,-999.0000,9,-999.0000,9,     -999.0,9,     -999.0,9,     -999.0,9,     -999.0,9,     -999.0,9
33RR20160208,       I08S,       4,          1,         27,         27,2,20160219,       1743,   -66.4000,    78.1993,       1979,    80.9,  -1.7926,  34.3221,2,  34.3244,2,    304.2,2,   304.5,2,    57.5,2,    0.04,2,   30.13,2,    0.08,2,    2.08,2,   4.884,2,   2.617,2,   0.470,2,         2.518,2,  2222.6,2, 2319.31,2,   7.6128,2,    25.04,  -1.7928, -999.00,9,  -999.0,9,  -999.0, -999.00,1,-999.000,9,    40.3,2,   32.80,2,     -999.0,1, -999.00,9, 20160219,     1853, -66.4002,  78.1992,     -999.0,9,     -999.0,9,     -999.0,9,-999.0000,9,-999.0000,9,-999.0000,9,-999.0000,9,-999.0000,9,-999.0000,9,-999.0000,9,     -999.0,9,     -999.0,9,     -999.0,9,     -999.0,9,     -999.0,9