BOTTLE,20220706CCHSIOAMB
EXPOCODE,SECT_ID,STNNBR,CASTNO,SAMPNO,BTLNBR,BTLNBR_FLAG_W,DATE,TIME,LATITUDE,LONGITUDE,DEPTH,CTDPRS,CTDTMP,CTDSAL,CTDSAL_FLAG_W,SALNTY,SALNTY_FLAG_W,CTDOXY,CTDOXY_FLAG_W,OXYGEN,OXYGEN_FLAG_W,SILCAT,SILCAT_FLAG_W,NH4,NH4_FLAG_W,NITRAT,NITRAT_FLAG_W,NITRIT,NITRIT_FLAG_W,PHSPHT,PHSPHT_FLAG_W,CFC-11,CFC-11_FLAG_W,CFC-12,CFC-12_FLAG_W,CFC113,CFC113_FLAG_W,SF6,SF6_FLAG_W,TCARBN,TCARBN_FLAG_W,ALKALI,ALKALI_FLAG_W,PH_TOT,PH_TOT_FLAG_W,PH_TMP,REFTMP,DELC13,DELC13_FLAG_W,DELC14,DELC14_FLAG_W,C14ERR,DELO18,DELO18_FLAG_W,POC,POC_FLAG_W,DOC,DOC_FLAG_W,TDN,TDN_FLAG_W,TON,TON_FLAG_W,D15N_NO3,D15N_NO3_FLAG_W,BTL_DATE,BTL_TIME,BTL_LAT,BTL_LON,14C-DOC,14C-DOC_FLAG_W,CHLORA,CHLORA_FLAG_W,HPLC,HPLC_FLAG_W,CDOM325,CDOM325_FLAG_W,CDOM340,CDOM340_FLAG_W,CDOM380,CDOM380_FLAG_W,CDOM412,CDOM412_FLAG_W,CDOM443,CDOM443_FLAG_W,CDOM490,CDOM490_FLAG_W,CDOM555,CDOM555_FLAG_W,CDOMSL,CDOMSL_FLAG_W,CDOMSN,CDOMSN_FLAG_W,D18O_NO3,D18O_NO3_FLAG_W,D15N_NO2+NO3,D15N_NO2+NO3_FLAG_W,D18O_NO2+NO3,D18O_NO2+NO3_FLAG_W
,,,,,,,,,,,METERS,DBAR,ITS-90,PSS-78,,PSS-78,,UMOL/KG,,UMOL/KG,,UMOL/KG,,UMOL/KG,,UMOL/KG,,UMOL/KG,,UMOL/KG,,PMOL/KG,,PMOL/KG,,PMOL/KG,,FMOL/KG,,UMOL/KG,,UMOL/KG,,,,DEG C,DEG C,/MILLE,,/MILLE,,/MILLE,/MILLE,,UG/KG,,UMOL/KG,,UMOL/KG,,UMOL/KG,,/MILLE,,,,,,/MILLE,,MG/M3,,,,1/M,,1/M,,1/M,,1/M,,1/M,,1/M,,1/M,,1/NM,,1/NM,,/MILLE,,/MILLE,,/MILLE,
33RR20160208,       I08S,      28,          1,         28,         28,2,20160225,       1411,   -56.4840,    83.7702,       4777,   284.6,   0.8610,  34.3349,2,  34.3358,2,    245.3,2,   245.9,2,    63.2,2,    0.03,2,   32.97,2,    0.27,2,    2.31,2,   3.108,2,   1.624,2,   0.284,2,    1.36858658,2,  2230.1,2, 2315.95,2,   7.5665,2,    24.99,   0.8622, -999.00,9,  -999.0,9,  -999.0, -999.00,9,-999.000,9,    40.4,2,   35.20,2,     -999.0,1,    5.03,2, 20160225,     1609, -56.4840,  83.7705,     -999.0,9,     -999.0,9,     -999.0,9,-999.0000,9,-999.0000,9,-999.0000,9,-999.0000,9,-999.0000,9,-999.0000,9,-999.0000,9,     -999.0,9,     -999.0,9,       2.28,2,       4.85,2,       2.13,2
33RR20160208,       I08S,      28,          1,         29,         29,2,20160225,       1411,   -56.4840,    83.7702,       4777,   234.8,   0.4831,  34.1705,2,  34.1744,2,    300.5,2,   291.5,2,    52.2,2,    0.59,2,   30.54,2,    0.26,2,    2.18,2,   4.498,2,   2.364,2,   0.410,2,    2.11499653,2,  2208.3,6, 2307.81,2,   7.6072,2,    24.99,   0.4828, -999.00,9,  -999.0,9,  -999.0, -999.00,9,-999.000,9,    39.7,2,   34.10,2,     -999.0,1,    5.45,2, 20160225,     1611, -56.4840,  83.7705,     -999.0,9,     -999.0,9,     -999.0,9,-999.0000,9,-999.0000,9,-999.0000,9,-999.0000,9,-999.0000,9,-999.0000,9,-999.0000,9,     -999.0,9,     -999.0,9,       2.49,2,       5.12,2,       2.56,2
33RR20160208,       I08S,      28,          1,         30,         30,2,20160225,       1411,   -56.4840,    83.7702,       4777,   185.2,   1.2912,  34.0442,2,  34.0439,2,    323.1,2,   323.4,2,    37.2,2,    0.82,2,   27.57,2,    0.24,2,    1.96,2,   5.101,2,   2.732,2,   0.483,2,    2.48971654,2,  2180.7,2, 2298.83,2,   7.6609,2,    25.01,   1.2863, -999.00,9,  -999.0,9,  -999.0, -999.00,9,-999.000,9,    41.4,2,   31.30,2,     -999.0,1,    6.33,2, 20160225,     1613, -56.4840,  83.7705,     -999.0,9,     -999.0,9,     -999.0,9,-999.0000,9,-999.0000,9,-999.0000,9,-999.0000,9,-999.0000,9,-999.0000,9,-999.0000,9,     -999.0,9,     -999.0,9,        3.0,2,       5.71,2,       3.04,2
33RR20160208,       I08S,      28,          1,         31,         31,2,20160225,       1411,   -56.4840,    83.7702,       4777,   135.6,   2.6774,  33.9391,2,  33.9404,2,    326.0,2,   326.1,2,    24.3,2,    0.47,2,   25.52,2,    0.23,2,    1.76,2,   5.003,2,   2.700,2,   0.477,2,    2.48870652,2,  2159.2,2, 2291.85,6,   7.7016,2,    25.00,   2.6767, -999.00,9,  -999.0,9,  -999.0, -999.00,9,-999.000,9,    41.4,2,   29.00,2,     -999.0,1,    7.12,2, 20160225,     1615, -56.4840,  83.7705,     -999.0,9,     -999.0,9,     -999.0,9,-999.0000,9,-999.0000,9,-999.0000,9,-999.0000,9,-999.0000,9,-999.0000,9,-999.0000,9,     -999.0,9,     -999.0,9,       3.32,2,       6.27,2,       3.44,2
33RR20160208,       I08S,      28,          1,         32,         32,2,20160225,       1411,   -56.4840,    83.7702,       4777,    91.1,   2.7871,  33.9362,2,  33.9367,2,    325.3,2,   327.6,2,    23.7,2,    0.34,2,   25.37,2,    0.23,2,    1.74,2,   4.910,2,   2.583,2,   0.457,2,      1.833199,2,  2157.7,2, 2290.30,2,   7.7064,2,    24.99,   2.7863, -999.00,9,  -999.0,9,  -999.0, -999.00,9,-999.000,9,    39.7,2,   28.20,2,     -999.0,1,     7.2,2, 20160225,     1617, -56.4840,  83.7705,     -999.0,9,     -999.0,9,     -999.0,9,-999.0000,9,-999.0000,9,-999.0000,9,-999.0000,9,-999.0000,9,-999.0000,9,-999.0000,9,     -999.0,9,     -999.0,9,       3.49,2,       6.38,2,       3.43,2
33RR20160208,       I08S,      28,          1,         33,         33,2,20160225,       1411,   -56.4840,    83.7702,       4777,    64.9,   2.8009,  33.8938,2,  33.8894,2,    324.2,2,   326.0,2,    18.5,2,    0.29,2,   24.74,2,    0.24,2,    1.71,2,   4.940,2,   2.678,2,   0.468,2,    2.65536097,2,  2149.6,2, 2282.89,2,   7.7071,2,    25.01,   2.7983, -999.00,9,  -999.0,9,  -999.0, -999.00,9,-999.000,9,    40.7,2,   27.50,2,     -999.0,1,    7.16,2, 20160225,     1619, -56.4840,  83.7705,     -999.0,9,     -999.0,9,     -999.0,9,-999.0000,9,-999.0000,9,-999.0000,9,-999.0000,9,-999.0000,9,-999.0000,9,-999.0000,9,     -999.0,9,     -999.0,9,       3.51,2,       6.43,2,       3.62,2
33RR20160208,       I08S,      28,          1,         34,         34,2,20160225,       1411,   -56.4840,    83.7702,       4777,    41.0,   2.7999,  33.8762,2,  33.8766,2,    327.5,2,   327.3,2,    17.8,2,    0.26,2,   24.61,2,    0.23,2,    1.69,2,   5.018,2,   2.697,2,   0.469,2,    2.63819051,2,  2149.8,2, 2283.61,2,   7.7099,2,    24.99,   2.8014, -999.00,9,  -999.0,9,  -999.0, -999.00,9,-999.000,9,    41.0,2,   27.90,2,     -999.0,1,     7.2,2, 20160225,     1620, -56.4840,  83.7705,     -999.0,9,     -999.0,9,     -999.0,9,-999.0000,9,-999.0000,9,-999.0000,9,-999.0000,9,-999.0000,9,-999.0000,9,-999.0000,9,     -999.0,9,     -999.0,9,        3.5,2,       6.44,2,       3.64,2
33RR20160208,       I08S,      28,          1,         35,         35,2,20160225,       1411,   -56.4840,    83.7702,       4777,    20.6,   3.1895,  33.8845,2,  33.8815,2,    330.0,2,   326.3,2,    16.8,2,    0.21,2,   24.35,2,    0.24,2,    1.67,2,   4.949,2,   2.712,2,   0.470,2,    2.67758157,2,  2146.4,2, 2283.61,2,   7.7152,6,    24.99,   3.1848, -999.00,9,  -999.0,9,  -999.0, -999.00,9,-999.000,9,    41.6,2,   27.70,2,     -999.0,1,     7.4,2, 20160225,     1622, -56.4840,  83.7705,     -999.0,9,     -999.0,9,     -999.0,9,-999.0000,9,-999.0000,9,-999.0000,9,-999.0000,9,-999.0000,9,-999.0000,9,-999.0000,9,     -999.0,9,     -999.0,9,       3.64,2,       6.55,2,       3.66,2
33RR20160208,       I08S,      28,          1,         36,         36,2,20160225,       1411,   -56.4840,    83.7702,       4777,     3.0,   3.2840,  33.8921,2,  33.8935,2,    327.0,2,   326.5,2,    16.2,2,    0.22,2,   24.19,2,    0.23,2,    1.66,2,   4.911,2,   2.675,2,   0.466,2,         2.619,2,  2145.0,6, 2282.81,2,   7.7165,2,    25.01,   3.2843, -999.00,9,  -999.0,9,  -999.0, -999.00,9,-999.000,9,    40.3,2,   26.50,2,     -999.0,1,    7.41,2, 20160225,     1624, -56.4840,  83.7705,     -999.0,9,     -999.0,9,     -999.0,9,-999.0000,9,-999.0000,9,-999.0000,9,-999.0000,9,-999.0000,9,-999.0000,9,-999.0000,9,     -999.0,9,     -999.0,9,       3.57,2,       6.57,2,       3.72,2