BOTTLE,20220706CCHSIOAMB
EXPOCODE,SECT_ID,STNNBR,CASTNO,SAMPNO,BTLNBR,BTLNBR_FLAG_W,DATE,TIME,LATITUDE,LONGITUDE,DEPTH,CTDPRS,CTDTMP,CTDSAL,CTDSAL_FLAG_W,SALNTY,SALNTY_FLAG_W,CTDOXY,CTDOXY_FLAG_W,OXYGEN,OXYGEN_FLAG_W,SILCAT,SILCAT_FLAG_W,NH4,NH4_FLAG_W,NITRAT,NITRAT_FLAG_W,NITRIT,NITRIT_FLAG_W,PHSPHT,PHSPHT_FLAG_W,CFC-11,CFC-11_FLAG_W,CFC-12,CFC-12_FLAG_W,CFC113,CFC113_FLAG_W,SF6,SF6_FLAG_W,TCARBN,TCARBN_FLAG_W,ALKALI,ALKALI_FLAG_W,PH_TOT,PH_TOT_FLAG_W,PH_TMP,REFTMP,DELC13,DELC13_FLAG_W,DELC14,DELC14_FLAG_W,C14ERR,DELO18,DELO18_FLAG_W,POC,POC_FLAG_W,DOC,DOC_FLAG_W,TDN,TDN_FLAG_W,TON,TON_FLAG_W,D15N_NO3,D15N_NO3_FLAG_W,BTL_DATE,BTL_TIME,BTL_LAT,BTL_LON,14C-DOC,14C-DOC_FLAG_W,CHLORA,CHLORA_FLAG_W,HPLC,HPLC_FLAG_W,CDOM325,CDOM325_FLAG_W,CDOM340,CDOM340_FLAG_W,CDOM380,CDOM380_FLAG_W,CDOM412,CDOM412_FLAG_W,CDOM443,CDOM443_FLAG_W,CDOM490,CDOM490_FLAG_W,CDOM555,CDOM555_FLAG_W,CDOMSL,CDOMSL_FLAG_W,CDOMSN,CDOMSN_FLAG_W,D18O_NO3,D18O_NO3_FLAG_W,D15N_NO2+NO3,D15N_NO2+NO3_FLAG_W,D18O_NO2+NO3,D18O_NO2+NO3_FLAG_W
,,,,,,,,,,,METERS,DBAR,ITS-90,PSS-78,,PSS-78,,UMOL/KG,,UMOL/KG,,UMOL/KG,,UMOL/KG,,UMOL/KG,,UMOL/KG,,UMOL/KG,,PMOL/KG,,PMOL/KG,,PMOL/KG,,FMOL/KG,,UMOL/KG,,UMOL/KG,,,,DEG C,DEG C,/MILLE,,/MILLE,,/MILLE,/MILLE,,UG/KG,,UMOL/KG,,UMOL/KG,,UMOL/KG,,/MILLE,,,,,,/MILLE,,MG/M3,,,,1/M,,1/M,,1/M,,1/M,,1/M,,1/M,,1/M,,1/NM,,1/NM,,/MILLE,,/MILLE,,/MILLE,
33RR20160208,       I08S,      16,          1,          1,          1,2,20160223,       0136,   -61.0000,    82.0005,       1858,  1869.1,   0.6651,  34.7011,2,  34.7014,2,    205.9,2,   205.7,2,   135.4,2,    0.00,2,   32.46,2,    0.00,2,    2.27,2,   0.263,2,   0.134,2,   0.017,2,     0.2458284,2,  2261.7,2, 2361.28,6,   7.5900,6,    24.98,   0.6647,    0.54,2,  -158.1,2,     1.8, -999.00,1,-999.000,9,    39.2,2, -999.00,9,     -999.0,1, -999.00,9, 20160223,      136, -61.0000,  82.0005,     -999.0,9,     -999.0,9,     -999.0,9,-999.0000,9,-999.0000,9,-999.0000,9,-999.0000,9,-999.0000,9,-999.0000,9,-999.0000,9,     -999.0,9,     -999.0,9,     -999.0,9,     -999.0,9,     -999.0,9
33RR20160208,       I08S,      16,          1,          2,          2,2,20160223,       0136,   -61.0000,    82.0005,       1858,  1695.5,   0.7844,  34.7080,2,  34.7085,2,    204.5,2,   206.1,2,   122.4,2,    0.00,2,   32.10,2,    0.00,2,    2.23,2,   0.242,2,   0.132,2,   0.010,2,   0.332829398,2,  -999.0,9, -999.00,9,-999.0000,9,     9.00,   0.7839, -999.00,9,  -999.0,9,  -999.0, -999.00,1,-999.000,9,    40.1,2, -999.00,9,     -999.0,1, -999.00,9, 20160223,      140, -61.0000,  82.0006,     -999.0,9,     -999.0,9,     -999.0,9,-999.0000,9,-999.0000,9,-999.0000,9,-999.0000,9,-999.0000,9,-999.0000,9,-999.0000,9,     -999.0,9,     -999.0,9,     -999.0,9,     -999.0,9,     -999.0,9
33RR20160208,       I08S,      16,          1,          3,          3,2,20160223,       0136,   -61.0000,    82.0005,       1858,  1532.9,   0.9070,  34.7152,2,  34.7159,2,    206.1,2,   206.6,2,   111.9,2,    0.00,2,   31.60,2,    0.00,2,    2.20,2,   0.252,2,   0.141,2,   0.010,2,   0.228630529,2,  -999.0,9, -999.00,9,-999.0000,9,  -999.00,   0.9069,    0.56,2,  -159.4,2,     1.8, -999.00,1,-999.000,9,    39.5,2, -999.00,9,     -999.0,1, -999.00,9, 20160223,      144, -61.0000,  82.0006,     -999.0,9,     -999.0,9,     -999.0,9,-999.0000,9,-999.0000,9,-999.0000,9,-999.0000,9,-999.0000,9,-999.0000,9,-999.0000,9,     -999.0,9,     -999.0,9,     -999.0,9,     -999.0,9,     -999.0,9
33RR20160208,       I08S,      16,          1,          4,          4,2,20160223,       0136,   -61.0000,    82.0005,       1858,  1360.9,   1.0374,  34.7225,2,  34.7230,2,    205.3,2,   204.4,2,   109.1,2,    0.00,2,   31.41,2,    0.00,2,    2.19,2,   0.236,2,   0.129,2,   0.008,2,   0.264037912,2,  -999.0,9, -999.00,9,-999.0000,9,  -999.00,   1.0371, -999.00,9,  -999.0,9,  -999.0, -999.00,1,-999.000,9,    38.4,2, -999.00,9,     -999.0,1, -999.00,9, 20160223,      148, -61.0000,  82.0006,     -999.0,9,     -999.0,9,     -999.0,9,-999.0000,9,-999.0000,9,-999.0000,9,-999.0000,9,-999.0000,9,-999.0000,9,-999.0000,9,     -999.0,9,     -999.0,9,     -999.0,9,     -999.0,9,     -999.0,9
33RR20160208,       I08S,      16,          1,          5,          5,2,20160223,       0136,   -61.0000,    82.0005,       1858,  1265.4,   1.1356,  34.7280,2,  34.7277,2,    204.4,2,   204.7,2,   103.7,2,    0.00,2,   31.11,2,    0.00,2,    2.17,2,   0.236,2,   0.129,2,   0.008,2,   0.284270702,2,  2252.4,2, 2356.70,2,   7.6064,6,    24.98,   1.1350,    0.54,2,  -153.8,2,     1.8, -999.00,1,-999.000,9,    38.9,2, -999.00,9,     -999.0,1, -999.00,9, 20160223,      151, -61.0000,  82.0005,     -999.0,9,     -999.0,9,     -999.0,9,-999.0000,9,-999.0000,9,-999.0000,9,-999.0000,9,-999.0000,9,-999.0000,9,-999.0000,9,     -999.0,9,     -999.0,9,     -999.0,9,     -999.0,9,     -999.0,9
33RR20160208,       I08S,      16,          1,          6,          6,2,20160223,       0136,   -61.0000,    82.0005,       1858,  1164.3,   1.2252,  34.7321,2,  34.7322,2,    202.3,2,   202.6,2,   101.3,2,    0.00,2,   31.01,2,    0.00,2,    2.18,2,   0.229,2,   0.123,2,   0.007,2,   0.279212504,2,  -999.0,9, -999.00,9,-999.0000,9,  -999.00,   1.2255, -999.00,9,  -999.0,9,  -999.0, -999.00,1,-999.000,9,    38.2,2, -999.00,9,     -999.0,1, -999.00,9, 20160223,      153, -61.0000,  82.0006,     -999.0,9,     -999.0,9,     -999.0,9,-999.0000,9,-999.0000,9,-999.0000,9,-999.0000,9,-999.0000,9,-999.0000,9,-999.0000,9,     -999.0,9,     -999.0,9,     -999.0,9,     -999.0,9,     -999.0,9
33RR20160208,       I08S,      16,          1,          7,          7,2,20160223,       0136,   -61.0000,    82.0005,       1858,  1061.9,   1.3164,  34.7366,2,  34.7373,2,    201.7,2,   204.1,2,    99.3,2,    0.00,2,   30.83,2,    0.00,2,    2.15,2,   0.235,6,   0.130,6,   0.008,6,   0.289834719,6,  -999.0,9, -999.00,9,-999.0000,9,  -999.00,   1.3167,    0.55,2,  -155.6,2,     1.9, -999.00,1,-999.000,9,    39.1,2, -999.00,9,     -999.0,1, -999.00,9, 20160223,      156, -61.0000,  82.0006,     -999.0,9,     -999.0,9,     -999.0,9,-999.0000,9,-999.0000,9,-999.0000,9,-999.0000,9,-999.0000,9,-999.0000,9,-999.0000,9,     -999.0,9,     -999.0,9,     -999.0,9,     -999.0,9,     -999.0,9
33RR20160208,       I08S,      16,          1,          8,          8,4,20160223,       0136,   -61.0000,    82.0005,       1858,   963.1,   1.4156,  34.7413,3,  34.7308,3,    201.9,3,   200.5,3,    94.2,3,    0.00,3,   30.87,3,    0.00,3,    2.16,3,   0.240,2,   0.133,2,   0.009,2,   0.310573329,2,  -999.0,9, -999.00,9,-999.0000,9,     9.00,   1.4156, -999.00,9,  -999.0,9,  -999.0, -999.00,1,-999.000,9,    39.9,2, -999.00,9,     -999.0,1, -999.00,9, 20160223,      159, -61.0000,  82.0006,     -999.0,9,     -999.0,9,     -999.0,9,-999.0000,9,-999.0000,9,-999.0000,9,-999.0000,9,-999.0000,9,-999.0000,9,-999.0000,9,     -999.0,9,     -999.0,9,     -999.0,9,     -999.0,9,     -999.0,9
33RR20160208,       I08S,      16,          1,          9,          9,2,20160223,       0136,   -61.0000,    82.0005,       1858,   864.6,   1.4980,  34.7425,2,  34.7426,2,    198.9,2,   200.3,2,    94.0,2,    0.00,2,   30.64,2,    0.00,2,    2.14,2,   0.237,2,   0.126,2,   0.008,2,     0.2458284,2,  2247.5,2, 2352.20,2,   7.6067,6,    24.98,   1.4974,    0.56,2,  -151.7,2,     1.8, -999.00,1,-999.000,9,    39.1,2, -999.00,9,     -999.0,1, -999.00,9, 20160223,      202, -61.0000,  82.0005,     -999.0,9,     -999.0,9,     -999.0,9,-999.0000,9,-999.0000,9,-999.0000,9,-999.0000,9,-999.0000,9,-999.0000,9,-999.0000,9,     -999.0,9,     -999.0,9,     -999.0,9,     -999.0,9,     -999.0,9
33RR20160208,       I08S,      16,          1,         10,         10,2,20160223,       0136,   -61.0000,    82.0005,       1858,   761.8,   1.5810,  34.7432,2,  34.7440,2,    197.3,2,   198.0,2,    91.4,2,    0.00,2,   30.67,2,    0.00,2,    2.14,2,   0.247,2,   0.139,2,   0.010,2,   0.242793482,2,  -999.0,9, -999.00,9,-999.0000,9,  -999.00,   1.5806,    0.54,2,  -150.0,2,     2.0, -999.00,1,-999.000,9,    38.4,2, -999.00,9,     -999.0,1, -999.00,9, 20160223,      205, -61.0000,  82.0006,     -999.0,9,     -999.0,9,     -999.0,9,-999.0000,9,-999.0000,9,-999.0000,9,-999.0000,9,-999.0000,9,-999.0000,9,-999.0000,9,     -999.0,9,     -999.0,9,     -999.0,9,     -999.0,9,     -999.0,9
33RR20160208,       I08S,      16,          1,         11,         11,2,20160223,       0136,   -61.0000,    82.0005,       1858,   664.2,   1.6592,  34.7426,2,  34.7412,2,    195.6,2,   196.9,2,    89.5,2,    0.00,2,   30.68,2,    0.00,2,    2.13,2,   0.261,2,   0.144,2,   0.011,2,    0.26707283,2,  2247.9,2, 2352.15,2,   7.6021,2,    24.97,   1.6592,    0.52,2,  -151.6,2,     2.0, -999.00,1,-999.000,9,    39.6,2, -999.00,9,     -999.0,1, -999.00,9, 20160223,      207, -61.0000,  82.0006,     -999.0,9,     -999.0,9,     -999.0,9,-999.0000,9,-999.0000,9,-999.0000,9,-999.0000,9,-999.0000,9,-999.0000,9,-999.0000,9,     -999.0,9,     -999.0,9,     -999.0,9,     -999.0,9,     -999.0,9
33RR20160208,       I08S,      16,          1,         12,         12,2,20160223,       0136,   -61.0000,    82.0005,       1858,   565.5,   1.7362,  34.7374,2,  34.7367,2,    191.9,2,   191.7,2,    88.9,2,    0.00,2,   31.03,2,    0.00,2,    2.17,2,   0.286,2,   0.158,2,   0.014,2,    0.30753841,2,  -999.0,9, -999.00,9,-999.0000,9,  -999.00,   1.7350,    0.52,2,  -154.6,2,     1.9, -999.00,1,-999.000,9,    38.0,2, -999.00,9,     -999.0,1, -999.00,9, 20160223,      210, -61.0000,  82.0006,     -999.0,9,     -999.0,9,     -999.0,9,-999.0000,9,-999.0000,9,-999.0000,9,-999.0000,9,-999.0000,9,-999.0000,9,-999.0000,9,     -999.0,9,     -999.0,9,     -999.0,9,     -999.0,9,     -999.0,9
33RR20160208,       I08S,      16,          1,         13,         13,2,20160223,       0136,   -61.0000,    82.0005,       1858,   463.7,   1.7881,  34.7310,2,  34.7312,2,    186.6,2,   187.6,2,    88.3,2,    0.00,2,   31.50,2,    0.00,2,    2.20,2,   0.312,2,   0.172,2,   0.017,2,   0.324736282,2,  -999.0,9, -999.00,9,-999.0000,9,  -999.00,   1.7880,    0.47,2,  -149.7,2,     2.8, -999.00,1,-999.000,9,    39.7,2, -999.00,9,     -999.0,1, -999.00,9, 20160223,      213, -60.9999,  82.0006,     -999.0,9,     -999.0,9,     -999.0,9,-999.0000,9,-999.0000,9,-999.0000,9,-999.0000,9,-999.0000,9,-999.0000,9,-999.0000,9,     -999.0,9,     -999.0,9,     -999.0,9,     -999.0,9,     -999.0,9
33RR20160208,       I08S,      16,          1,         14,         14,2,20160223,       0136,   -61.0000,    82.0005,       1858,   384.8,   1.8325,  34.7208,2,  34.7214,2,    182.4,2,   182.8,2,    88.1,2,    0.00,2,   31.98,2,    0.00,2,    2.22,2,   0.359,2,   0.189,2,   0.019,2,    0.37026006,2,  2255.5,2, 2346.03,2,   7.5736,2,    24.99,   1.8315,    0.46,2,  -144.6,2,     2.0, -999.00,1,-999.000,9,    39.0,2, -999.00,9,     -999.0,1, -999.00,9, 20160223,      215, -61.0000,  82.0006,     -999.0,9,     -999.0,9,     -999.0,9,-999.0000,9,-999.0000,9,-999.0000,9,-999.0000,9,-999.0000,9,-999.0000,9,-999.0000,9,     -999.0,9,     -999.0,9,     -999.0,9,     -999.0,9,     -999.0,9
33RR20160208,       I08S,      16,          1,         15,         15,2,20160223,       0136,   -61.0000,    82.0005,       1858,   333.5,   1.8450,  34.7140,2,  34.7141,2,    181.0,2,   181.8,2,    87.3,2,    0.00,2,   32.24,2,    0.00,2,    2.23,2,   0.381,2,   0.209,2,   0.023,2,   0.371271699,2,  -999.0,9, -999.00,9,-999.0000,9,  -999.00,   1.8447, -999.00,9,  -999.0,9,  -999.0, -999.00,1,-999.000,9,    38.6,2,   34.30,2,     -999.0,1, -999.00,9, 20160223,      217, -61.0000,  82.0006,     -999.0,9,     -999.0,9,     -999.0,9,-999.0000,9,-999.0000,9,-999.0000,9,-999.0000,9,-999.0000,9,-999.0000,9,-999.0000,9,     -999.0,9,     -999.0,9,     -999.0,9,     -999.0,9,     -999.0,9
33RR20160208,       I08S,      16,          1,         16,         16,2,20160223,       0136,   -61.0000,    82.0005,       1858,   283.6,   1.8531,  34.7026,2,  34.7023,2,    178.4,2,   178.8,2,    87.1,2,    0.00,2,   32.75,2,    0.00,2,    2.28,2,   0.447,2,   0.248,2,   0.029,2,   0.357108746,2,  2257.5,2, 2344.65,2,   7.5599,2,    24.99,   1.8527,    0.38,2,  -149.5,2,     1.8, -999.00,1,-999.000,9,    40.6,2,   34.90,2,     -999.0,1, -999.00,9, 20160223,      219, -61.0000,  82.0006,     -999.0,9,     -999.0,9,     -999.0,9,-999.0000,9,-999.0000,9,-999.0000,9,-999.0000,9,-999.0000,9,-999.0000,9,-999.0000,9,     -999.0,9,     -999.0,9,     -999.0,9,     -999.0,9,     -999.0,9
33RR20160208,       I08S,      16,          1,         17,         17,2,20160223,       0136,   -61.0000,    82.0005,       1858,   235.8,   1.8268,  34.6856,2,  34.6874,2,    177.0,2,   175.3,2,    87.1,2,    0.00,2,   33.22,2,    0.02,2,    2.30,2,   0.512,2,   0.276,2,   0.037,2,   0.379364815,2,  -999.0,9, -999.00,9,-999.0000,9,     9.00,   1.8268, -999.00,9,  -999.0,9,  -999.0, -999.00,1,-999.000,9,    39.2,2,   35.70,2,     -999.0,1, -999.00,9, 20160223,      220, -61.0000,  82.0006,     -999.0,9,     -999.0,9,     -999.0,9,-999.0000,9,-999.0000,9,-999.0000,9,-999.0000,9,-999.0000,9,-999.0000,9,-999.0000,9,     -999.0,9,     -999.0,9,     -999.0,9,     -999.0,9,     -999.0,9
33RR20160208,       I08S,      16,          1,         18,         18,3,20160223,       0136,   -61.0000,    82.0005,       1858,   186.2,   1.7692,  34.6508,3,-999.0000,9,    177.5,3,  -999.0,9,    76.0,3,    0.07,3,   32.23,3,    0.07,3,    2.25,3,-999.000,9,-999.000,9,-999.000,9,-999.000000000,9,  -999.0,9, -999.00,9,-999.0000,9,  -999.00,   1.7778, -999.00,9,  -999.0,9,  -999.0, -999.00,9,-999.000,9,  -999.0,9, -999.00,9,     -999.0,9, -999.00,9, 20160223,      222, -61.0000,  82.0006,     -999.0,9,     -999.0,9,     -999.0,9,-999.0000,9,-999.0000,9,-999.0000,9,-999.0000,9,-999.0000,9,-999.0000,9,-999.0000,9,     -999.0,9,     -999.0,9,     -999.0,9,     -999.0,9,     -999.0,9
33RR20160208,       I08S,      16,          1,         19,         19,2,20160223,       0136,   -61.0000,    82.0005,       1858,   186.1,   1.7797,  34.6513,2,  34.6503,2,    178.3,2,   176.1,2,    85.1,2,    0.00,2,   33.66,2,    0.04,2,    2.33,2,   0.670,2,   0.356,2,   0.051,2,   0.432981709,2,  2260.6,2, 2339.99,2,   7.5438,2,    24.98,   1.7808,    0.33,2,  -147.6,2,     2.0, -999.00,1,-999.000,9,    39.0,2,   36.10,2,     -999.0,1, -999.00,9, 20160223,      223, -61.0000,  82.0006,     -999.0,9,     -999.0,9,     -999.0,9,-999.0000,9,-999.0000,9,-999.0000,9,-999.0000,9,-999.0000,9,-999.0000,9,-999.0000,9,     -999.0,9,     -999.0,9,     -999.0,9,     -999.0,9,     -999.0,9
33RR20160208,       I08S,      16,          1,         20,         20,2,20160223,       0136,   -61.0000,    82.0005,       1858,   133.9,   1.4805,  34.5824,2,  34.5823,2,    179.4,2,   181.3,2,    82.3,2,    0.00,2,   34.25,2,    0.10,2,    2.38,2,   1.073,2,   0.566,2,   0.089,2,     0.7809857,2,  2258.5,2, 2335.50,2,   7.5324,2,    24.94,   1.4756,    0.33,2,  -142.8,2,     2.0, -999.00,1,-999.000,9,    39.3,2,   35.70,2,     -999.0,1, -999.00,9, 20160223,      224, -61.0000,  82.0006,     -999.0,9,     -999.0,9,     -999.0,9,-999.0000,9,-999.0000,9,-999.0000,9,-999.0000,9,-999.0000,9,-999.0000,9,-999.0000,9,     -999.0,9,     -999.0,9,     -999.0,9,     -999.0,9,     -999.0,9
33RR20160208,       I08S,      16,          1,         21,         21,2,20160223,       0136,   -61.0000,    82.0005,       1858,    90.3,   0.4543,  34.3929,2,  34.3794,2,    228.0,2,   218.1,2,    73.6,2,    0.61,2,   33.22,2,    0.21,2,    2.39,2,   2.290,2,   1.197,2,   0.211,2,    1.38695776,2,  2246.4,2, 2321.86,2,   7.5399,2,    24.97,   0.4468,    0.43,2,  -134.2,2,     2.0, -999.00,1,-999.000,9,    38.3,2,   35.70,2,     -999.0,1, -999.00,9, 20160223,      226, -61.0000,  82.0006,     -999.0,9,     -999.0,9,     -999.0,9,-999.0000,9,-999.0000,9,-999.0000,9,-999.0000,9,-999.0000,9,-999.0000,9,-999.0000,9,     -999.0,9,     -999.0,9,     -999.0,9,     -999.0,9,     -999.0,9
33RR20160208,       I08S,      16,          1,         22,         22,2,20160223,       0136,   -61.0000,    82.0005,       1858,    67.3,  -0.5627,  34.2254,2,  34.1996,2,    265.6,2,   267.7,2,    66.1,2,    1.02,2,   31.58,2,    0.20,2,    2.32,2,   3.561,2,   1.885,2,   0.345,2,    2.13253608,2,  2226.7,2, 2311.73,2,   7.5672,6,    24.99,  -0.6526,    0.57,2,  -128.0,2,     1.9, -999.00,1,-999.000,9,    40.4,2,   35.70,2,     -999.0,1, -999.00,9, 20160223,      228, -61.0000,  82.0006,     -999.0,9,     -999.0,9,     -999.0,9,-999.0000,9,-999.0000,9,-999.0000,9,-999.0000,9,-999.0000,9,-999.0000,9,-999.0000,9,     -999.0,9,     -999.0,9,     -999.0,9,     -999.0,9,     -999.0,9
33RR20160208,       I08S,      16,          1,         23,         23,2,20160223,       0136,   -61.0000,    82.0005,       1858,    40.4,   1.4382,  33.8326,2,  33.8332,2,    331.3,2,   330.3,2,    27.6,2,    0.39,2,   23.99,2,    0.19,2,    1.57,2,   5.012,2,   2.728,2,   0.500,2,    3.24837446,2,  2157.0,2, 2292.56,2,   7.7157,2,    24.95,   1.4422, -999.00,9,  -999.0,9,  -999.0, -999.00,1,-999.000,9,    45.0,2,   26.80,2,     -999.0,1, -999.00,9, 20160223,      230, -61.0000,  82.0006,     -999.0,9,     -999.0,9,     -999.0,9,-999.0000,9,-999.0000,9,-999.0000,9,-999.0000,9,-999.0000,9,-999.0000,9,-999.0000,9,     -999.0,9,     -999.0,9,     -999.0,9,     -999.0,9,     -999.0,9
33RR20160208,       I08S,      16,          1,         24,         24,2,20160223,       0136,   -61.0000,    82.0005,       1858,    20.0,   1.4644,  33.8309,2,  33.8308,2,    331.5,2,   330.6,2,    27.3,2,    0.41,2,   23.95,2,    0.20,2,    1.52,2,   5.082,2,   2.703,2,   0.501,2,    3.10674493,2,  2157.6,6, 2292.61,2,   7.7161,6,    24.98,   1.4642, -999.00,9,  -999.0,9,  -999.0, -999.00,1,-999.000,9,    44.1,2,   26.10,2,     -999.0,1, -999.00,9, 20160223,      232, -60.9999,  82.0006,     -999.0,9,     -999.0,9,     -999.0,9,-999.0000,9,-999.0000,9,-999.0000,9,-999.0000,9,-999.0000,9,-999.0000,9,-999.0000,9,     -999.0,9,     -999.0,9,     -999.0,9,     -999.0,9,     -999.0,9
33RR20160208,       I08S,      16,          1,         25,         25,2,20160223,       0136,   -61.0000,    82.0005,       1858,     5.8,   1.4660,  33.8305,2,  33.8308,2,    331.6,2,   330.9,2,    27.5,2,    0.38,2,   24.03,2,    0.20,2,    1.50,2,   5.071,2,   2.766,2,   0.512,2,         3.042,2,  2156.3,2, 2294.60,2,   7.7169,6,    24.95,   1.4660,    1.42,2,  -118.7,2,     2.4, -999.00,1,-999.000,9,    44.9,2,   25.80,2,     -999.0,1, -999.00,9, 20160223,      234, -60.9999,  82.0006,     -999.0,9,     -999.0,9,     -999.0,9,-999.0000,9,-999.0000,9,-999.0000,9,-999.0000,9,-999.0000,9,-999.0000,9,-999.0000,9,     -999.0,9,     -999.0,9,     -999.0,9,     -999.0,9,     -999.0,9