BOTTLE,20220706CCHSIOAMB
EXPOCODE,SECT_ID,STNNBR,CASTNO,SAMPNO,BTLNBR,BTLNBR_FLAG_W,DATE,TIME,LATITUDE,LONGITUDE,DEPTH,CTDPRS,CTDTMP,CTDSAL,CTDSAL_FLAG_W,SALNTY,SALNTY_FLAG_W,CTDOXY,CTDOXY_FLAG_W,OXYGEN,OXYGEN_FLAG_W,SILCAT,SILCAT_FLAG_W,NH4,NH4_FLAG_W,NITRAT,NITRAT_FLAG_W,NITRIT,NITRIT_FLAG_W,PHSPHT,PHSPHT_FLAG_W,CFC-11,CFC-11_FLAG_W,CFC-12,CFC-12_FLAG_W,CFC113,CFC113_FLAG_W,SF6,SF6_FLAG_W,TCARBN,TCARBN_FLAG_W,ALKALI,ALKALI_FLAG_W,PH_TOT,PH_TOT_FLAG_W,PH_TMP,REFTMP,DELC13,DELC13_FLAG_W,DELC14,DELC14_FLAG_W,C14ERR,DELO18,DELO18_FLAG_W,POC,POC_FLAG_W,DOC,DOC_FLAG_W,TDN,TDN_FLAG_W,TON,TON_FLAG_W,D15N_NO3,D15N_NO3_FLAG_W,BTL_DATE,BTL_TIME,BTL_LAT,BTL_LON,14C-DOC,14C-DOC_FLAG_W,CHLORA,CHLORA_FLAG_W,HPLC,HPLC_FLAG_W,CDOM325,CDOM325_FLAG_W,CDOM340,CDOM340_FLAG_W,CDOM380,CDOM380_FLAG_W,CDOM412,CDOM412_FLAG_W,CDOM443,CDOM443_FLAG_W,CDOM490,CDOM490_FLAG_W,CDOM555,CDOM555_FLAG_W,CDOMSL,CDOMSL_FLAG_W,CDOMSN,CDOMSN_FLAG_W,D18O_NO3,D18O_NO3_FLAG_W,D15N_NO2+NO3,D15N_NO2+NO3_FLAG_W,D18O_NO2+NO3,D18O_NO2+NO3_FLAG_W
,,,,,,,,,,,METERS,DBAR,ITS-90,PSS-78,,PSS-78,,UMOL/KG,,UMOL/KG,,UMOL/KG,,UMOL/KG,,UMOL/KG,,UMOL/KG,,UMOL/KG,,PMOL/KG,,PMOL/KG,,PMOL/KG,,FMOL/KG,,UMOL/KG,,UMOL/KG,,,,DEG C,DEG C,/MILLE,,/MILLE,,/MILLE,/MILLE,,UG/KG,,UMOL/KG,,UMOL/KG,,UMOL/KG,,/MILLE,,,,,,/MILLE,,MG/M3,,,,1/M,,1/M,,1/M,,1/M,,1/M,,1/M,,1/M,,1/NM,,1/NM,,/MILLE,,/MILLE,,/MILLE,
33RR20160208,       I08S,      33,          1,         28,         28,2,20160226,       2347,   -54.3670,    86.1421,       4641,   314.1,   2.4507,  34.2245,2,  34.2289,2,    219.3,2,   229.6,2,    40.9,2,    0.00,2,   32.31,2,    0.00,2,    2.24,2,   2.955,2,   1.527,2,   0.238,2,          1.05,2,  2215.2,2, 2296.63,2,   7.5819,2,    24.98,   2.4537, -999.00,9,  -999.0,9,  -999.0, -999.00,1,-999.000,9,  -999.0,9, -999.00,9,     -999.0,9, -999.00,9, 20160227,      101, -54.3670,  86.1422,     -999.0,9,     -999.0,9,     -999.0,9,-999.0000,9,-999.0000,9,-999.0000,9,-999.0000,9,-999.0000,9,-999.0000,9,-999.0000,9,     -999.0,9,     -999.0,9,     -999.0,9,     -999.0,9,     -999.0,9
33RR20160208,       I08S,      33,          1,         29,         29,2,20160226,       2347,   -54.3670,    86.1421,       4641,   265.3,   2.7789,  34.1923,2,  34.1896,2,    235.8,2,   237.9,2,    34.2,2,    0.00,2,   31.35,2,    0.00,2,    2.18,2,   3.259,2,   1.706,2,   0.260,2,         1.043,2,  -999.0,9, -999.00,9,-999.0000,9,  -999.00,   2.7742, -999.00,9,  -999.0,9,  -999.0, -999.00,1,-999.000,9,  -999.0,9, -999.00,9,     -999.0,9, -999.00,9, 20160227,      102, -54.3670,  86.1422,     -999.0,9,     -999.0,9,     -999.0,9,-999.0000,9,-999.0000,9,-999.0000,9,-999.0000,9,-999.0000,9,-999.0000,9,-999.0000,9,     -999.0,9,     -999.0,9,     -999.0,9,     -999.0,9,     -999.0,9
33RR20160208,       I08S,      33,          1,         30,         30,2,20160226,       2347,   -54.3670,    86.1421,       4641,   213.7,   2.9910,  34.1392,2,  34.1375,2,    251.9,2,   251.5,2,    27.7,2,    0.00,2,   30.15,2,    0.00,2,    2.09,2,   3.632,2,   1.931,2,   0.310,2,         1.338,2,  2194.6,2, 2288.88,2,   7.6141,6,    24.96,   3.0340, -999.00,9,  -999.0,9,  -999.0, -999.00,1,-999.000,9,  -999.0,9, -999.00,9,     -999.0,9, -999.00,9, 20160227,      103, -54.3670,  86.1422,     -999.0,9,     -999.0,9,     -999.0,9,-999.0000,9,-999.0000,9,-999.0000,9,-999.0000,9,-999.0000,9,-999.0000,9,-999.0000,9,     -999.0,9,     -999.0,9,     -999.0,9,     -999.0,9,     -999.0,9
33RR20160208,       I08S,      33,          1,         31,         31,2,20160226,       2347,   -54.3670,    86.1421,       4641,   163.9,   3.4659,  34.1140,2,  34.1093,2,    263.7,2,   263.3,2,    21.7,2,    0.02,2,   28.54,2,    0.03,2,    1.97,2,   4.048,2,   2.140,2,   0.326,2,         1.633,2,  -999.0,9, -999.00,9,-999.0000,9,  -999.00,   3.4318, -999.00,9,  -999.0,9,  -999.0, -999.00,1,-999.000,9,  -999.0,9, -999.00,9,     -999.0,9, -999.00,9, 20160227,      104, -54.3670,  86.1422,     -999.0,9,     -999.0,9,     -999.0,9,-999.0000,9,-999.0000,9,-999.0000,9,-999.0000,9,-999.0000,9,-999.0000,9,-999.0000,9,     -999.0,9,     -999.0,9,     -999.0,9,     -999.0,9,     -999.0,9
33RR20160208,       I08S,      33,          1,         32,         32,2,20160226,       2347,   -54.3670,    86.1421,       4641,   113.1,   3.2163,  33.9795,2,  33.9898,2,    275.2,2,   291.1,2,    18.5,2,    0.06,2,   26.94,2,    0.16,2,    1.88,2,   4.470,2,   2.368,2,   0.396,2,         1.916,2,  2170.6,2, 2283.78,2,   7.6652,6,    24.97,   3.2224, -999.00,9,  -999.0,9,  -999.0, -999.00,1,-999.000,9,  -999.0,9, -999.00,9,     -999.0,9, -999.00,9, 20160227,      104, -54.3669,  86.1422,     -999.0,9,     -999.0,9,     -999.0,9,-999.0000,9,-999.0000,9,-999.0000,9,-999.0000,9,-999.0000,9,-999.0000,9,-999.0000,9,     -999.0,9,     -999.0,9,     -999.0,9,     -999.0,9,     -999.0,9
33RR20160208,       I08S,      33,          1,         33,         33,2,20160226,       2347,   -54.3670,    86.1421,       4641,    86.4,   3.8042,  33.9731,2,  33.9798,2,    300.7,2,   291.9,3,    13.1,2,    0.15,2,   25.17,2,    0.21,2,    1.77,2,   4.452,2,   2.419,2,   0.391,2,         2.102,2,  -999.0,9, -999.00,9,-999.0000,9,     9.00,   3.7751, -999.00,9,  -999.0,9,  -999.0, -999.00,1,-999.000,9,  -999.0,9, -999.00,9,     -999.0,9, -999.00,9, 20160227,      105, -54.3669,  86.1422,     -999.0,9,     -999.0,9,     -999.0,9,-999.0000,9,-999.0000,9,-999.0000,9,-999.0000,9,-999.0000,9,-999.0000,9,-999.0000,9,     -999.0,9,     -999.0,9,     -999.0,9,     -999.0,9,     -999.0,9
33RR20160208,       I08S,      33,          1,         34,         34,2,20160226,       2347,   -54.3670,    86.1421,       4641,    59.5,   4.8915,  33.8782,2,  33.8791,2,    308.0,2,   308.0,2,     5.6,2,    0.42,2,   21.50,2,    0.21,2,    1.54,2,   4.318,2,   2.361,2,   0.404,2,         2.011,2,  2134.4,2, 2275.82,2,   7.7442,2,    24.97,   4.8471, -999.00,9,  -999.0,9,  -999.0, -999.00,1,-999.000,9,  -999.0,9, -999.00,9,     -999.0,9, -999.00,9, 20160227,      106, -54.3670,  86.1421,     -999.0,9,     -999.0,9,     -999.0,9,-999.0000,9,-999.0000,9,-999.0000,9,-999.0000,9,-999.0000,9,-999.0000,9,-999.0000,9,     -999.0,9,     -999.0,9,     -999.0,9,     -999.0,9,     -999.0,9
33RR20160208,       I08S,      33,          1,         35,         35,2,20160226,       2347,   -54.3670,    86.1421,       4641,    34.2,   5.1270,  33.8380,2,  33.8388,2,    308.8,2,   308.6,2,     4.8,2,    0.31,2,   21.35,2,    0.22,2,    1.52,2,   4.348,2,   2.380,2,   0.405,2,         2.047,2,  2131.7,2, 2276.97,2,   7.7500,2,    24.99,   5.1253, -999.00,9,  -999.0,9,  -999.0, -999.00,1,-999.000,9,  -999.0,9, -999.00,9,     -999.0,9, -999.00,9, 20160227,      107, -54.3670,  86.1422,     -999.0,9,     -999.0,9,     -999.0,9,-999.0000,9,-999.0000,9,-999.0000,9,-999.0000,9,-999.0000,9,-999.0000,9,-999.0000,9,     -999.0,9,     -999.0,9,     -999.0,9,     -999.0,9,     -999.0,9
33RR20160208,       I08S,      33,          1,         36,         36,2,20160226,       2347,   -54.3670,    86.1421,       4641,     5.4,   5.0819,  33.8263,2,  33.8263,2,    308.8,2,   309.0,2,     4.8,2,    0.33,2,   21.36,2,    0.22,2,    1.52,2,   4.313,2,   2.333,2,   0.405,2,         2.087,2,  2129.7,6, 2275.47,2,   7.7499,6,    24.97,   5.0818, -999.00,9,  -999.0,9,  -999.0, -999.00,1,-999.000,9,  -999.0,9, -999.00,9,     -999.0,9, -999.00,9, 20160227,      109, -54.3670,  86.1421,     -999.0,9,     -999.0,9,     -999.0,9,-999.0000,9,-999.0000,9,-999.0000,9,-999.0000,9,-999.0000,9,-999.0000,9,-999.0000,9,     -999.0,9,     -999.0,9,     -999.0,9,     -999.0,9,     -999.0,9