BOTTLE,20220706CCHSIOAMB
EXPOCODE,SECT_ID,STNNBR,CASTNO,SAMPNO,BTLNBR,BTLNBR_FLAG_W,DATE,TIME,LATITUDE,LONGITUDE,DEPTH,CTDPRS,CTDTMP,CTDSAL,CTDSAL_FLAG_W,SALNTY,SALNTY_FLAG_W,CTDOXY,CTDOXY_FLAG_W,OXYGEN,OXYGEN_FLAG_W,SILCAT,SILCAT_FLAG_W,NH4,NH4_FLAG_W,NITRAT,NITRAT_FLAG_W,NITRIT,NITRIT_FLAG_W,PHSPHT,PHSPHT_FLAG_W,CFC-11,CFC-11_FLAG_W,CFC-12,CFC-12_FLAG_W,CFC113,CFC113_FLAG_W,SF6,SF6_FLAG_W,TCARBN,TCARBN_FLAG_W,ALKALI,ALKALI_FLAG_W,PH_TOT,PH_TOT_FLAG_W,PH_TMP,REFTMP,DELC13,DELC13_FLAG_W,DELC14,DELC14_FLAG_W,C14ERR,DELO18,DELO18_FLAG_W,POC,POC_FLAG_W,DOC,DOC_FLAG_W,TDN,TDN_FLAG_W,TON,TON_FLAG_W,D15N_NO3,D15N_NO3_FLAG_W,BTL_DATE,BTL_TIME,BTL_LAT,BTL_LON,14C-DOC,14C-DOC_FLAG_W,CHLORA,CHLORA_FLAG_W,HPLC,HPLC_FLAG_W,CDOM325,CDOM325_FLAG_W,CDOM340,CDOM340_FLAG_W,CDOM380,CDOM380_FLAG_W,CDOM412,CDOM412_FLAG_W,CDOM443,CDOM443_FLAG_W,CDOM490,CDOM490_FLAG_W,CDOM555,CDOM555_FLAG_W,CDOMSL,CDOMSL_FLAG_W,CDOMSN,CDOMSN_FLAG_W,D18O_NO3,D18O_NO3_FLAG_W,D15N_NO2+NO3,D15N_NO2+NO3_FLAG_W,D18O_NO2+NO3,D18O_NO2+NO3_FLAG_W
,,,,,,,,,,,METERS,DBAR,ITS-90,PSS-78,,PSS-78,,UMOL/KG,,UMOL/KG,,UMOL/KG,,UMOL/KG,,UMOL/KG,,UMOL/KG,,UMOL/KG,,PMOL/KG,,PMOL/KG,,PMOL/KG,,FMOL/KG,,UMOL/KG,,UMOL/KG,,,,DEG C,DEG C,/MILLE,,/MILLE,,/MILLE,/MILLE,,UG/KG,,UMOL/KG,,UMOL/KG,,UMOL/KG,,/MILLE,,,,,,/MILLE,,MG/M3,,,,1/M,,1/M,,1/M,,1/M,,1/M,,1/M,,1/M,,1/NM,,1/NM,,/MILLE,,/MILLE,,/MILLE,
33RR20160208,       I08S,      36,          1,         28,         28,2,20160228,       0541,   -53.0281,    87.4892,       4565,   263.4,   1.4986,  34.2353,2,  34.2360,2,    244.3,2,   246.3,2,    49.5,2,    0.00,2,   32.55,2,    0.03,2,    2.25,2,   3.327,2,   1.749,2,   0.291,2,    1.52701942,2,  2215.9,2, 2307.89,2,   7.5774,2,    24.96,   1.5395,    0.73,2,  -116.3,2,     2.0, -999.00,9,-999.000,9,    42.6,2,   34.90,2,     -999.0,1, -999.00,9, 20160228,      653, -53.0281,  87.4892,     -999.0,9,     -999.0,9,     -999.0,9,   0.0969,2,   0.0628,2,   0.0353,2,   0.0212,2,   0.0118,2,   0.0032,2,   0.0003,4,     0.0170,2,     0.0193,2,     -999.0,9,     -999.0,9,     -999.0,9
33RR20160208,       I08S,      36,          1,         29,         29,2,20160228,       0541,   -53.0281,    87.4892,       4565,   212.4,   1.7198,  34.1899,2,  34.1909,2,    262.6,2,   251.4,3,    43.0,2,    0.00,2,   31.90,2,    0.01,2,    2.20,2,   3.429,2,   1.814,2,   0.303,2,    1.62132942,2,  2207.9,2, 2303.07,2,   7.5889,2,    24.93,   1.7091,    0.64,2,   -93.8,2,     2.5, -999.00,9,-999.000,9,    41.1,2,   34.60,2,     -999.0,1, -999.00,9, 20160228,      653, -53.0281,  87.4893,     -999.0,9,     -999.0,9,     -999.0,9,   0.0958,2,   0.0651,2,   0.0456,2,   0.0226,2,   0.0119,2,   0.0031,2,   0.0002,4,     0.0133,2,     0.0142,2,     -999.0,9,     -999.0,9,     -999.0,9
33RR20160208,       I08S,      36,          1,         30,         30,2,20160228,       0541,   -53.0281,    87.4892,       4565,   166.3,   1.5434,  34.0835,2,  34.0903,2,    286.4,2,   280.3,2,    35.1,2,    0.00,2,   30.28,2,    0.10,2,    2.09,2,   4.231,2,   2.250,2,   0.384,2,    1.91027922,2,  2193.3,2, 2296.59,2,   7.6157,6,    24.97,   1.5188,    0.97,2,   -96.0,2,     2.2, -999.00,9,-999.000,9,    40.9,2,   33.00,2,     -999.0,1, -999.00,9, 20160228,      654, -53.0281,  87.4893,     -999.0,9,0.051651475,2,     -999.0,9,   0.0854,2,   0.0566,2,   0.0377,2,   0.0188,2,   0.0098,2,   0.0021,2,  -0.0003,4,     0.0144,2,     0.0157,2,     -999.0,9,     -999.0,9,     -999.0,9
33RR20160208,       I08S,      36,          1,         31,         31,2,20160228,       0541,   -53.0281,    87.4892,       4565,   111.1,   1.9882,  33.9785,2,  33.9696,2,    312.4,2,   312.2,2,    24.1,2,    0.42,2,   26.87,2,    0.27,2,    1.90,2,   4.866,2,   2.646,2,   0.455,2,    2.70288457,2,  2168.2,2, 2289.48,6,   7.6675,2,    24.96,   2.0231, -999.00,9,  -999.0,9,  -999.0, -999.00,9,-999.000,9,    44.3,2,   29.90,2,     -999.0,1, -999.00,9, 20160228,      655, -53.0281,  87.4893,     -999.0,9,0.249386078,2,     -999.0,9,   0.0813,2,   0.0555,2,   0.0440,2,   0.0196,2,   0.0101,2,   0.0025,2,  -0.0000,4,     0.0114,2,     0.0119,2,     -999.0,9,     -999.0,9,     -999.0,9
33RR20160208,       I08S,      36,          1,         32,         32,2,20160228,       0541,   -53.0281,    87.4892,       4565,    85.5,   2.9015,  33.9012,2,-999.0000,9,    322.9,2,   323.8,2,  -999.0,9, -999.00,9, -999.00,9, -999.00,9, -999.00,9,   4.893,2,   2.685,2,   0.469,2,    2.94066618,2,  2152.3,2, 2287.64,2,   7.7086,2,    24.95,   2.9180,    1.36,2,   -83.6,2,     2.0, -999.00,9,-999.000,1,    43.6,2,   27.90,2,     -999.0,1, -999.00,9, 20160228,      656, -53.0281,  87.4892,     -999.0,9,0.554478675,2,     -999.0,9,   0.0781,2,   0.0522,2,   0.0376,2,   0.0174,2,   0.0091,2,   0.0019,2,  -0.0005,4,     0.0132,2,     0.0141,2,     -999.0,9,     -999.0,9,     -999.0,9
33RR20160208,       I08S,      36,          1,         33,         33,2,20160228,       0541,   -53.0281,    87.4892,       4565,    58.0,   3.1579,  33.8900,2,  33.8916,2,    322.7,2,   324.3,2,    17.3,2,    0.25,2,   24.25,2,    0.22,2,    1.65,2,   4.836,2,   2.649,2,   0.460,2,    2.75706266,2,  2149.8,2, 2286.58,2,   7.7164,6,    24.96,   3.1577, -999.00,9,  -999.0,9,  -999.0, -999.00,9,-999.000,9,    44.7,2,   26.40,2,     -999.0,1, -999.00,9, 20160228,      657, -53.0281,  87.4892,     -999.0,9,0.526967853,2,     -999.0,9,   0.0834,2,   0.0575,2,   0.0453,2,   0.0185,2,   0.0090,2,   0.0013,3,  -0.0009,4,     0.0117,2,     0.0119,2,     -999.0,9,     -999.0,9,     -999.0,9
33RR20160208,       I08S,      36,          1,         34,         34,2,20160228,       0541,   -53.0281,    87.4892,       4565,    33.8,   3.1554,  33.8900,2,  33.8928,2,    322.8,2,   324.3,2,    17.3,2,    0.25,2,   24.28,2,    0.22,2,    1.64,2,   4.847,2,   2.673,2,   0.462,2,    2.74803298,2,  2150.9,2, 2286.47,2,   7.7157,2,    24.97,   3.1551, -999.00,9,  -999.0,9,  -999.0, -999.00,9,-999.000,9,    44.4,2,   27.70,2,     -999.0,1, -999.00,9, 20160228,      657, -53.0281,  87.4893,     -999.0,9,0.485709887,2,     -999.0,9,   0.0813,2,   0.0557,2,   0.0439,2,   0.0191,2,   0.0099,2,   0.0023,2,  -0.0003,4,     0.0115,2,     0.0120,2,     -999.0,9,     -999.0,9,     -999.0,9
33RR20160208,       I08S,      36,          1,         36,         36,2,20160228,       0541,   -53.0281,    87.4892,       4565,    12.4,   3.1557,  33.8904,2,-999.0000,9,    322.9,2,  -999.0,9,  -999.0,9, -999.00,9, -999.00,9, -999.00,9, -999.00,9,-999.000,9,-999.000,9,-999.000,9,-999.000000000,9,  -999.0,9, -999.00,9,-999.0000,9,  -999.00,   3.1557, -999.00,9,  -999.0,9,  -999.0, -999.00,9,-999.000,1,  -999.0,9, -999.00,9,     -999.0,9, -999.00,9, 20160228,      659, -53.0281,  87.4892,     -999.0,9,     -999.0,9,     -999.0,9,-999.0000,9,-999.0000,9,-999.0000,9,-999.0000,9,-999.0000,9,-999.0000,9,-999.0000,9,     -999.0,9,     -999.0,9,     -999.0,9,     -999.0,9,     -999.0,9
33RR20160208,       I08S,      36,          1,         35,         35,2,20160228,       0541,   -53.0281,    87.4892,       4565,    12.1,   3.1555,  33.8904,2,  33.8918,2,    322.9,2,   324.4,2,    17.3,2,    0.25,2,   24.22,2,    0.22,2,    1.67,2,   4.921,2,   2.655,2,   0.462,2,         2.738,2,  2148.9,6, 2287.18,2,   7.7161,6,    24.95,   3.1560,    1.51,2,   -79.2,2,     1.9, -999.00,9,-999.000,9,    45.2,2,   27.20,2,     -999.0,1, -999.00,9, 20160228,      659, -53.0281,  87.4893,     -999.0,9,0.483021456,2,     -999.0,9,   0.0787,2,   0.0543,2,   0.0407,2,   0.0177,2,   0.0090,2,   0.0018,2,  -0.0005,4,     0.0124,2,     0.0128,2,     -999.0,9,     -999.0,9,     -999.0,9