BOTTLE,20220706CCHSIOAMB
EXPOCODE,SECT_ID,STNNBR,CASTNO,SAMPNO,BTLNBR,BTLNBR_FLAG_W,DATE,TIME,LATITUDE,LONGITUDE,DEPTH,CTDPRS,CTDTMP,CTDSAL,CTDSAL_FLAG_W,SALNTY,SALNTY_FLAG_W,CTDOXY,CTDOXY_FLAG_W,OXYGEN,OXYGEN_FLAG_W,SILCAT,SILCAT_FLAG_W,NH4,NH4_FLAG_W,NITRAT,NITRAT_FLAG_W,NITRIT,NITRIT_FLAG_W,PHSPHT,PHSPHT_FLAG_W,CFC-11,CFC-11_FLAG_W,CFC-12,CFC-12_FLAG_W,CFC113,CFC113_FLAG_W,SF6,SF6_FLAG_W,TCARBN,TCARBN_FLAG_W,ALKALI,ALKALI_FLAG_W,PH_TOT,PH_TOT_FLAG_W,PH_TMP,REFTMP,DELC13,DELC13_FLAG_W,DELC14,DELC14_FLAG_W,C14ERR,DELO18,DELO18_FLAG_W,POC,POC_FLAG_W,DOC,DOC_FLAG_W,TDN,TDN_FLAG_W,TON,TON_FLAG_W,D15N_NO3,D15N_NO3_FLAG_W,BTL_DATE,BTL_TIME,BTL_LAT,BTL_LON,14C-DOC,14C-DOC_FLAG_W,CHLORA,CHLORA_FLAG_W,HPLC,HPLC_FLAG_W,CDOM325,CDOM325_FLAG_W,CDOM340,CDOM340_FLAG_W,CDOM380,CDOM380_FLAG_W,CDOM412,CDOM412_FLAG_W,CDOM443,CDOM443_FLAG_W,CDOM490,CDOM490_FLAG_W,CDOM555,CDOM555_FLAG_W,CDOMSL,CDOMSL_FLAG_W,CDOMSN,CDOMSN_FLAG_W,D18O_NO3,D18O_NO3_FLAG_W,D15N_NO2+NO3,D15N_NO2+NO3_FLAG_W,D18O_NO2+NO3,D18O_NO2+NO3_FLAG_W
,,,,,,,,,,,METERS,DBAR,ITS-90,PSS-78,,PSS-78,,UMOL/KG,,UMOL/KG,,UMOL/KG,,UMOL/KG,,UMOL/KG,,UMOL/KG,,UMOL/KG,,PMOL/KG,,PMOL/KG,,PMOL/KG,,FMOL/KG,,UMOL/KG,,UMOL/KG,,,,DEG C,DEG C,/MILLE,,/MILLE,,/MILLE,/MILLE,,UG/KG,,UMOL/KG,,UMOL/KG,,UMOL/KG,,/MILLE,,,,,,/MILLE,,MG/M3,,,,1/M,,1/M,,1/M,,1/M,,1/M,,1/M,,1/M,,1/NM,,1/NM,,/MILLE,,/MILLE,,/MILLE,
33RR20160208,       I08S,      71,          1,          1,          1,2,20160309,       0138,   -34.5041,    95.0051,       4546,  4606.4,   1.0826,  34.7123,2,  34.7119,2,    206.0,2,   205.9,2,   118.9,2,    0.02,2,   32.00,2,    0.00,2,    2.22,2,   0.092,2,   0.065,2,   0.006,2,             0,2,  2268.2,6, 2377.82,2,   7.6201,2,    25.05,   1.0827, -999.00,9,  -999.0,9,  -999.0, -999.00,9,-999.000,9,  -999.0,9, -999.00,9,     -999.0,9, -999.00,9, 20160309,      138, -34.5041,  95.0050,     -999.0,9,     -999.0,9,     -999.0,9,-999.0000,9,-999.0000,9,-999.0000,9,-999.0000,9,-999.0000,9,-999.0000,9,-999.0000,9,     -999.0,9,     -999.0,9,     -999.0,9,     -999.0,9,     -999.0,9
33RR20160208,       I08S,      71,          1,          2,          2,2,20160309,       0138,   -34.5041,    95.0051,       4546,  4251.0,   1.0756,  34.7140,2,  34.7137,2,    205.3,2,   205.7,2,   118.4,2,    0.09,2,   32.09,2,    0.00,2,    2.19,2,   0.078,2,   0.071,2,   0.001,2,             0,2,  -999.0,9, -999.00,9,-999.0000,9,     9.00,   1.0756, -999.00,9,  -999.0,9,  -999.0, -999.00,9,-999.000,9,  -999.0,9, -999.00,9,     -999.0,9, -999.00,9, 20160309,      145, -34.5041,  95.0050,     -999.0,9,     -999.0,9,     -999.0,9,-999.0000,9,-999.0000,9,-999.0000,9,-999.0000,9,-999.0000,9,-999.0000,9,-999.0000,9,     -999.0,9,     -999.0,9,     -999.0,9,     -999.0,9,     -999.0,9
33RR20160208,       I08S,      71,          1,          3,          3,2,20160309,       0138,   -34.5041,    95.0051,       4546,  3895.1,   1.0770,  34.7160,2,  34.7152,2,    205.2,2,   205.7,2,   117.2,2,    0.03,2,   31.86,2,    0.00,2,    2.22,2,   0.077,2,   0.051,2,   0.000,2,             0,2,  -999.0,9, -999.00,9,-999.0000,9,  -999.00,   1.0770, -999.00,9,  -999.0,9,  -999.0, -999.00,9,-999.000,9,  -999.0,9, -999.00,9,     -999.0,9, -999.00,9, 20160309,      151, -34.5041,  95.0051,     -999.0,9,     -999.0,9,     -999.0,9,-999.0000,9,-999.0000,9,-999.0000,9,-999.0000,9,-999.0000,9,-999.0000,9,-999.0000,9,     -999.0,9,     -999.0,9,     -999.0,9,     -999.0,9,     -999.0,9
33RR20160208,       I08S,      71,          1,          4,          4,2,20160309,       0138,   -34.5041,    95.0051,       4546,  3598.2,   1.1326,  34.7197,2,  34.7192,2,    204.3,2,   204.6,2,   114.8,2,    0.00,2,   31.74,2,    0.00,2,    2.19,2,   0.061,2,   0.044,2,   0.000,2,             0,2,  2263.3,2, 2373.42,2,   7.6169,6,    25.03,   1.1328, -999.00,9,  -999.0,9,  -999.0, -999.00,9,-999.000,9,  -999.0,9, -999.00,9,     -999.0,9, -999.00,9, 20160309,      157, -34.5041,  95.0051,     -999.0,9,     -999.0,9,     -999.0,9,-999.0000,9,-999.0000,9,-999.0000,9,-999.0000,9,-999.0000,9,-999.0000,9,-999.0000,9,     -999.0,9,     -999.0,9,     -999.0,9,     -999.0,9,     -999.0,9
33RR20160208,       I08S,      71,          1,          5,          5,2,20160309,       0138,   -34.5041,    95.0051,       4546,  3317.2,   1.2366,  34.7252,2,  34.7249,2,    203.3,2,   203.1,2,   111.3,2,    0.00,2,   31.43,2,    0.00,2,    2.20,2,-999.000,9,-999.000,9,-999.000,9,-999.000000000,9,  -999.0,9, -999.00,9,-999.0000,9,     9.00,   1.2370, -999.00,9,  -999.0,9,  -999.0, -999.00,9,-999.000,9,  -999.0,9, -999.00,9,     -999.0,9, -999.00,9, 20160309,      203, -34.5041,  95.0050,     -999.0,9,     -999.0,9,     -999.0,9,-999.0000,9,-999.0000,9,-999.0000,9,-999.0000,9,-999.0000,9,-999.0000,9,-999.0000,9,     -999.0,9,     -999.0,9,     -999.0,9,     -999.0,9,     -999.0,9
33RR20160208,       I08S,      71,          1,          6,         38,2,20160309,       0138,   -34.5041,    95.0051,       4546,  3000.0,   1.5012,  34.7366,2,  34.7364,2,    200.5,2,   200.1,2,   102.6,2,    0.00,2,   30.97,2,    0.00,2,    2.14,2,   0.058,2,   0.036,2,   0.000,2,             0,2,  -999.0,9, -999.00,9,-999.0000,9,  -999.00,   1.5012, -999.00,9,  -999.0,9,  -999.0, -999.00,9,-999.000,9,  -999.0,9, -999.00,9,     -999.0,9, -999.00,9, 20160309,      209, -34.5041,  95.0050,     -999.0,9,     -999.0,9,     -999.0,9,-999.0000,9,-999.0000,9,-999.0000,9,-999.0000,9,-999.0000,9,-999.0000,9,-999.0000,9,     -999.0,9,     -999.0,9,     -999.0,9,     -999.0,9,     -999.0,9
33RR20160208,       I08S,      71,          1,          7,          7,2,20160309,       0138,   -34.5041,    95.0051,       4546,  2699.9,   1.8343,  34.7450,2,  34.7451,2,    195.6,2,   196.1,2,    92.6,2,    0.00,2,   30.59,2,    0.00,2,    2.14,2,-999.000,9,-999.000,9,-999.000,9,-999.000000000,9,  -999.0,9, -999.00,9,-999.0000,9,  -999.00,   1.8344, -999.00,9,  -999.0,9,  -999.0, -999.00,9,-999.000,9,  -999.0,9, -999.00,9,     -999.0,9, -999.00,9, 20160309,      215, -34.5041,  95.0050,     -999.0,9,     -999.0,9,     -999.0,9,-999.0000,9,-999.0000,9,-999.0000,9,-999.0000,9,-999.0000,9,-999.0000,9,-999.0000,9,     -999.0,9,     -999.0,9,     -999.0,9,     -999.0,9,     -999.0,9
33RR20160208,       I08S,      71,          1,          8,          8,2,20160309,       0138,   -34.5041,    95.0051,       4546,  2460.7,   2.0910,  34.7386,2,  34.7386,2,    188.9,2,   189.3,2,    87.6,2,    0.00,2,   30.80,2,    0.00,2,    2.13,2,   0.048,2,   0.032,2,   0.000,2,   0.026696994,2,  2251.1,2, 2358.26,2,   7.6090,2,    25.02,   2.0907, -999.00,9,  -999.0,9,  -999.0, -999.00,9,-999.000,9,  -999.0,9, -999.00,9,     -999.0,9, -999.00,9, 20160309,      220, -34.5041,  95.0050,     -999.0,9,     -999.0,9,     -999.0,9,-999.0000,9,-999.0000,9,-999.0000,9,-999.0000,9,-999.0000,9,-999.0000,9,-999.0000,9,     -999.0,9,     -999.0,9,     -999.0,9,     -999.0,9,     -999.0,9
33RR20160208,       I08S,      71,          1,          9,          9,2,20160309,       0138,   -34.5041,    95.0051,       4546,  2230.1,   2.3012,  34.7172,2,  34.7170,2,    177.9,2,   179.3,2,    87.0,2,    0.00,2,   31.73,2,    0.00,2,    2.20,2,-999.000,9,-999.000,9,-999.000,9,-999.000000000,9,  -999.0,9, -999.00,9,-999.0000,9,  -999.00,   2.3015, -999.00,9,  -999.0,9,  -999.0, -999.00,9,-999.000,9,  -999.0,9, -999.00,9,     -999.0,9, -999.00,9, 20160309,      225, -34.5041,  95.0050,     -999.0,9,     -999.0,9,     -999.0,9,-999.0000,9,-999.0000,9,-999.0000,9,-999.0000,9,-999.0000,9,-999.0000,9,-999.0000,9,     -999.0,9,     -999.0,9,     -999.0,9,     -999.0,9,     -999.0,9
33RR20160208,       I08S,      71,          1,         10,         10,2,20160309,       0138,   -34.5041,    95.0051,       4546,  2001.1,   2.5522,  34.6833,2,  34.6832,2,    165.8,2,   166.3,2,    87.3,2,    0.00,2,   32.98,2,    0.00,2,    2.30,2,   0.054,2,   0.043,2,   0.000,2,             0,2,  -999.0,9, -999.00,9,-999.0000,9,  -999.00,   2.5523, -999.00,9,  -999.0,9,  -999.0, -999.00,9,-999.000,9,  -999.0,9, -999.00,9,     -999.0,9, -999.00,9, 20160309,      230, -34.5041,  95.0050,     -999.0,9,     -999.0,9,     -999.0,9,-999.0000,9,-999.0000,9,-999.0000,9,-999.0000,9,-999.0000,9,-999.0000,9,-999.0000,9,     -999.0,9,     -999.0,9,     -999.0,9,     -999.0,9,     -999.0,9
33RR20160208,       I08S,      71,          1,         11,         11,2,20160309,       0138,   -34.5041,    95.0051,       4546,  1801.3,   2.7717,  34.6319,2,  34.6316,2,    161.3,2,   161.5,2,    80.8,2,    0.00,2,   33.76,2,    0.00,2,    2.37,2,-999.000,9,-999.000,9,-999.000,9,-999.000000000,9,  -999.0,9, -999.00,9,-999.0000,9,     9.00,   2.7724, -999.00,9,  -999.0,9,  -999.0, -999.00,9,-999.000,9,  -999.0,9, -999.00,9,     -999.0,9, -999.00,9, 20160309,      234, -34.5041,  95.0050,     -999.0,9,     -999.0,9,     -999.0,9,-999.0000,9,-999.0000,9,-999.0000,9,-999.0000,9,-999.0000,9,-999.0000,9,-999.0000,9,     -999.0,9,     -999.0,9,     -999.0,9,     -999.0,9,     -999.0,9
33RR20160208,       I08S,      71,          1,         12,         12,2,20160309,       0138,   -34.5041,    95.0051,       4546,  1602.0,   3.0403,  34.5675,2,  34.5671,2,    159.2,2,   159.5,2,    74.3,2,    0.00,2,   34.39,2,    0.00,2,    2.39,2,   0.198,2,   0.118,2,   0.004,2,   0.021562957,2,  2257.3,2, 2344.13,2,   7.5578,6,    25.04,   3.0399, -999.00,9,  -999.0,9,  -999.0, -999.00,9,-999.000,9,  -999.0,9, -999.00,9,     -999.0,9, -999.00,9, 20160309,      238, -34.5041,  95.0050,     -999.0,9,     -999.0,9,     -999.0,9,-999.0000,9,-999.0000,9,-999.0000,9,-999.0000,9,-999.0000,9,-999.0000,9,-999.0000,9,     -999.0,9,     -999.0,9,     -999.0,9,     -999.0,9,     -999.0,9
33RR20160208,       I08S,      71,          1,         13,         13,2,20160309,       0138,   -34.5041,    95.0051,       4546,  1501.5,   3.1725,  34.5335,2,  34.5337,2,    161.5,2,   160.7,2,    69.9,2,    0.00,2,   34.43,2,    0.00,2,    2.41,2,   0.299,2,   0.167,2,   0.008,2,   0.021562957,2,  -999.0,9, -999.00,9,-999.0000,9,  -999.00,   3.1731, -999.00,9,  -999.0,9,  -999.0, -999.00,9,-999.000,9,  -999.0,9, -999.00,9,     -999.0,9, -999.00,9, 20160309,      241, -34.5041,  95.0050,     -999.0,9,     -999.0,9,     -999.0,9,-999.0000,9,-999.0000,9,-999.0000,9,-999.0000,9,-999.0000,9,-999.0000,9,-999.0000,9,     -999.0,9,     -999.0,9,     -999.0,9,     -999.0,9,     -999.0,9
33RR20160208,       I08S,      71,          1,         14,         14,2,20160309,       0138,   -34.5041,    95.0051,       4546,  1401.6,   3.3211,  34.4946,2,  34.4928,2,    165.4,2,   165.7,2,    64.2,2,    0.00,2,   34.21,2,    0.00,2,    2.39,2,   0.466,2,   0.243,2,   0.016,2,   0.087278635,2,  -999.0,9, -999.00,9,-999.0000,9,     9.00,   3.3219, -999.00,9,  -999.0,9,  -999.0, -999.00,9,-999.000,9,  -999.0,9, -999.00,9,     -999.0,9, -999.00,9, 20160309,      244, -34.5041,  95.0050,     -999.0,9,     -999.0,9,     -999.0,9,-999.0000,9,-999.0000,9,-999.0000,9,-999.0000,9,-999.0000,9,-999.0000,9,-999.0000,9,     -999.0,9,     -999.0,9,     -999.0,9,     -999.0,9,     -999.0,9
33RR20160208,       I08S,      71,          1,         15,         15,2,20160309,       0138,   -34.5041,    95.0051,       4546,  1301.1,   3.5774,  34.4321,2,  34.4328,2,    176.0,2,   177.7,2,    53.4,2,    0.00,2,   33.46,2,    0.00,2,    2.32,2,   0.917,2,   0.457,2,   0.043,2,   0.104734362,2,  -999.0,9, -999.00,9,-999.0000,9,  -999.00,   3.5778, -999.00,9,  -999.0,9,  -999.0, -999.00,9,-999.000,9,  -999.0,9, -999.00,9,     -999.0,9, -999.00,9, 20160309,      247, -34.5041,  95.0051,     -999.0,9,     -999.0,9,     -999.0,9,-999.0000,9,-999.0000,9,-999.0000,9,-999.0000,9,-999.0000,9,-999.0000,9,-999.0000,9,     -999.0,9,     -999.0,9,     -999.0,9,     -999.0,9,     -999.0,9
33RR20160208,       I08S,      71,          1,         16,         16,2,20160309,       0138,   -34.5041,    95.0051,       4546,  1201.3,   3.9579,  34.4022,2,  34.4014,2,    184.6,2,   183.5,2,    45.8,2,    0.00,2,   32.57,2,    0.00,2,    2.26,2,   1.184,2,   0.582,2,   0.061,2,   0.209468725,2,  -999.0,9, -999.00,9,-999.0000,9,  -999.00,   3.9612, -999.00,9,  -999.0,9,  -999.0, -999.00,9,-999.000,9,  -999.0,9, -999.00,9,     -999.0,9, -999.00,9, 20160309,      249, -34.5041,  95.0050,     -999.0,9,     -999.0,9,     -999.0,9,-999.0000,9,-999.0000,9,-999.0000,9,-999.0000,9,-999.0000,9,-999.0000,9,-999.0000,9,     -999.0,9,     -999.0,9,     -999.0,9,     -999.0,9,     -999.0,9
33RR20160208,       I08S,      71,          1,         17,         17,2,20160309,       0138,   -34.5041,    95.0051,       4546,  1101.8,   4.4798,  34.3795,2,  34.3799,2,    195.1,2,   190.9,2,    36.7,2,    0.00,2,   31.27,2,    0.00,2,    2.15,2,   1.583,2,   0.773,2,   0.080,2,   0.247460601,2,  -999.0,9, -999.00,9,-999.0000,9,     9.00,   4.4801, -999.00,9,  -999.0,9,  -999.0, -999.00,9,-999.000,9,  -999.0,9, -999.00,9,     -999.0,9, -999.00,9, 20160309,      252, -34.5041,  95.0050,     -999.0,9,     -999.0,9,     -999.0,9,-999.0000,9,-999.0000,9,-999.0000,9,-999.0000,9,-999.0000,9,-999.0000,9,-999.0000,9,     -999.0,9,     -999.0,9,     -999.0,9,     -999.0,9,     -999.0,9
33RR20160208,       I08S,      71,          1,         18,         37,2,20160309,       0138,   -34.5041,    95.0051,       4546,   999.7,   5.4054,  34.3862,2,  34.3857,2,    197.2,2,   196.7,2,    25.9,2,    0.00,2,   29.09,2,    0.00,2,    1.99,2,   1.985,2,   0.979,2,   0.089,2,   0.368623883,2,  -999.0,9, -999.00,9,-999.0000,9,  -999.00,   5.4144, -999.00,9,  -999.0,9,  -999.0, -999.00,9,-999.000,9,  -999.0,9, -999.00,9,     -999.0,9, -999.00,9, 20160309,      255, -34.5041,  95.0050,     -999.0,9,     -999.0,9,     -999.0,9,-999.0000,9,-999.0000,9,-999.0000,9,-999.0000,9,-999.0000,9,-999.0000,9,-999.0000,9,     -999.0,9,     -999.0,9,     -999.0,9,     -999.0,9,     -999.0,9
33RR20160208,       I08S,      71,          1,         19,         19,2,20160309,       0138,   -34.5041,    95.0051,       4546,   900.3,   6.6796,  34.4436,2,  34.4437,2,    202.1,2,   202.0,2,    17.6,2,    0.00,2,   26.05,2,    0.00,2,    1.77,2,   2.485,2,   1.264,2,   0.097,2,   0.490813972,2,  -999.0,9, -999.00,9,-999.0000,9,  -999.00,   6.6822, -999.00,9,  -999.0,9,  -999.0, -999.00,9,-999.000,9,  -999.0,9, -999.00,9,     -999.0,9, -999.00,9, 20160309,      258, -34.5041,  95.0050,     -999.0,9,     -999.0,9,     -999.0,9,-999.0000,9,-999.0000,9,-999.0000,9,-999.0000,9,-999.0000,9,-999.0000,9,-999.0000,9,     -999.0,9,     -999.0,9,     -999.0,9,     -999.0,9,     -999.0,9
33RR20160208,       I08S,      71,          1,         20,         20,2,20160309,       0138,   -34.5041,    95.0051,       4546,   800.6,   8.0235,  34.5409,2,  34.5406,2,    215.0,2,   213.1,2,    10.4,2,    0.00,2,   21.94,2,    0.00,2,    1.49,2,   2.953,2,   1.577,2,   0.112,2,    0.68282697,2,  2155.0,2, 2290.46,6,   7.7054,6,    25.04,   8.0223, -999.00,9,  -999.0,9,  -999.0, -999.00,9,-999.000,9,  -999.0,9, -999.00,9,     -999.0,9, -999.00,9, 20160309,      300, -34.5041,  95.0050,     -999.0,9,     -999.0,9,     -999.0,9,-999.0000,9,-999.0000,9,-999.0000,9,-999.0000,9,-999.0000,9,-999.0000,9,-999.0000,9,     -999.0,9,     -999.0,9,     -999.0,9,     -999.0,9,     -999.0,9
33RR20160208,       I08S,      71,          1,         21,         21,2,20160309,       0138,   -34.5041,    95.0051,       4546,   701.0,   9.0530,  34.6417,2,  34.6375,2,    229.7,2,   228.2,2,     5.9,2,    0.00,2,   18.11,2,    0.00,2,    1.26,2,   3.310,2,   1.863,2,   0.131,2,    1.12435418,2,  -999.0,9, -999.00,9,-999.0000,9,  -999.00,   9.0425, -999.00,9,  -999.0,9,  -999.0, -999.00,9,-999.000,9,  -999.0,9, -999.00,9,     -999.0,9, -999.00,9, 20160309,      303, -34.5041,  95.0050,     -999.0,9,     -999.0,9,     -999.0,9,-999.0000,9,-999.0000,9,-999.0000,9,-999.0000,9,-999.0000,9,-999.0000,9,-999.0000,9,     -999.0,9,     -999.0,9,     -999.0,9,     -999.0,9,     -999.0,9
33RR20160208,       I08S,      71,          1,         22,         22,2,20160309,       0138,   -34.5041,    95.0051,       4546,   600.0,   9.7731,  34.7351,2,  34.7307,2,    238.5,2,   238.2,2,     4.1,2,    0.00,2,   15.31,2,    0.00,2,    1.06,2,   3.328,2,   1.925,2,   0.142,2,    1.39748497,2,  2129.6,2, 2295.36,2,   7.7766,2,    25.03,   9.7813, -999.00,9,  -999.0,9,  -999.0, -999.00,9,-999.000,9,  -999.0,9, -999.00,9,     -999.0,9, -999.00,9, 20160309,      306, -34.5041,  95.0051,     -999.0,9,     -999.0,9,     -999.0,9,-999.0000,9,-999.0000,9,-999.0000,9,-999.0000,9,-999.0000,9,-999.0000,9,-999.0000,9,     -999.0,9,     -999.0,9,     -999.0,9,     -999.0,9,     -999.0,9
33RR20160208,       I08S,      71,          1,         23,         23,2,20160309,       0138,   -34.5041,    95.0051,       4546,   500.7,  10.3600,  34.8198,2,  34.8182,2,    240.7,2,   241.1,2,     3.4,2,    0.00,2,   13.36,2,    0.00,2,    0.97,2,   3.242,2,   1.900,2,   0.147,2,    1.34511779,2,  -999.0,9, -999.00,9,-999.0000,9,     9.00,  10.3575, -999.00,9,  -999.0,9,  -999.0, -999.00,9,-999.000,9,  -999.0,9, -999.00,9,     -999.0,9, -999.00,9, 20160309,      309, -34.5041,  95.0050,     -999.0,9,     -999.0,9,     -999.0,9,-999.0000,9,-999.0000,9,-999.0000,9,-999.0000,9,-999.0000,9,-999.0000,9,-999.0000,9,     -999.0,9,     -999.0,9,     -999.0,9,     -999.0,9,     -999.0,9
33RR20160208,       I08S,      71,          1,         24,         24,2,20160309,       0138,   -34.5041,    95.0051,       4546,   448.6,  10.6340,  34.8612,2,  34.8614,2,    241.7,2,   242.5,2,     3.2,2,    0.00,2,   12.53,2,    0.00,2,    0.90,2,-999.000,9,-999.000,9,-999.000,9,-999.000000000,9,  2123.3,2, 2301.56,2,   7.8043,2,    25.03,  10.6335, -999.00,9,  -999.0,9,  -999.0, -999.00,9,-999.000,9,  -999.0,9, -999.00,9,     -999.0,9, -999.00,9, 20160309,      310, -34.5041,  95.0050,     -999.0,9,     -999.0,9,     -999.0,9,-999.0000,9,-999.0000,9,-999.0000,9,-999.0000,9,-999.0000,9,-999.0000,9,-999.0000,9,     -999.0,9,     -999.0,9,     -999.0,9,     -999.0,9,     -999.0,9
33RR20160208,       I08S,      71,          1,         25,         25,2,20160309,       0138,   -34.5041,    95.0051,       4546,   401.0,  10.9515,  34.9094,2,  34.9093,2,    241.9,2,   243.6,2,     3.0,2,    0.00,2,   11.54,2,    0.00,2,    0.85,2,   3.052,2,   1.799,2,   0.134,2,    1.41802112,2,  -999.0,9, -999.00,9,-999.0000,9,  -999.00,  10.9478, -999.00,9,  -999.0,9,  -999.0, -999.00,9,-999.000,9,  -999.0,9, -999.00,9,     -999.0,9, -999.00,9, 20160309,      312, -34.5041,  95.0050,     -999.0,9,     -999.0,9,     -999.0,9,-999.0000,9,-999.0000,9,-999.0000,9,-999.0000,9,-999.0000,9,-999.0000,9,-999.0000,9,     -999.0,9,     -999.0,9,     -999.0,9,     -999.0,9,     -999.0,9
33RR20160208,       I08S,      71,          1,         26,         26,2,20160309,       0138,   -34.5041,    95.0051,       4546,   349.2,  11.1943,  34.9466,2,  34.9459,2,    242.2,2,   242.6,2,     2.8,2,    0.00,2,   11.00,2,    0.00,2,    0.80,2,-999.000,9,-999.000,9,-999.000,9,-999.000000000,9,  2121.9,2, 2306.40,2,   7.8176,2,    25.02,  11.1975, -999.00,9,  -999.0,9,  -999.0, -999.00,9,-999.000,9,  -999.0,9, -999.00,9,     -999.0,9, -999.00,9, 20160309,      314, -34.5041,  95.0051,     -999.0,9,     -999.0,9,     -999.0,9,-999.0000,9,-999.0000,9,-999.0000,9,-999.0000,9,-999.0000,9,-999.0000,9,-999.0000,9,     -999.0,9,     -999.0,9,     -999.0,9,     -999.0,9,     -999.0,9
33RR20160208,       I08S,      71,          1,         27,         27,2,20160309,       0138,   -34.5041,    95.0051,       4546,   299.9,  11.4527,  34.9840,2,  34.9873,2,    240.7,2,   241.2,2,     2.6,2,    0.00,2,   10.37,2,    0.00,2,    0.76,2,   3.060,2,   1.808,2,   0.134,2,    1.58128351,2,  -999.0,9, -999.00,9,-999.0000,9,  -999.00,  11.4521, -999.00,9,  -999.0,9,  -999.0, -999.00,9,-999.000,9,  -999.0,9, -999.00,9,     -999.0,9, -999.00,9, 20160309,      316, -34.5041,  95.0050,     -999.0,9,     -999.0,9,     -999.0,9,-999.0000,9,-999.0000,9,-999.0000,9,-999.0000,9,-999.0000,9,-999.0000,9,-999.0000,9,     -999.0,9,     -999.0,9,     -999.0,9,     -999.0,9,     -999.0,9