BOTTLE,20220706CCHSIOAMB
EXPOCODE,SECT_ID,STNNBR,CASTNO,SAMPNO,BTLNBR,BTLNBR_FLAG_W,DATE,TIME,LATITUDE,LONGITUDE,DEPTH,CTDPRS,CTDTMP,CTDSAL,CTDSAL_FLAG_W,SALNTY,SALNTY_FLAG_W,CTDOXY,CTDOXY_FLAG_W,OXYGEN,OXYGEN_FLAG_W,SILCAT,SILCAT_FLAG_W,NH4,NH4_FLAG_W,NITRAT,NITRAT_FLAG_W,NITRIT,NITRIT_FLAG_W,PHSPHT,PHSPHT_FLAG_W,CFC-11,CFC-11_FLAG_W,CFC-12,CFC-12_FLAG_W,CFC113,CFC113_FLAG_W,SF6,SF6_FLAG_W,TCARBN,TCARBN_FLAG_W,ALKALI,ALKALI_FLAG_W,PH_TOT,PH_TOT_FLAG_W,PH_TMP,REFTMP,DELC13,DELC13_FLAG_W,DELC14,DELC14_FLAG_W,C14ERR,DELO18,DELO18_FLAG_W,POC,POC_FLAG_W,DOC,DOC_FLAG_W,TDN,TDN_FLAG_W,TON,TON_FLAG_W,D15N_NO3,D15N_NO3_FLAG_W,BTL_DATE,BTL_TIME,BTL_LAT,BTL_LON,14C-DOC,14C-DOC_FLAG_W,CHLORA,CHLORA_FLAG_W,HPLC,HPLC_FLAG_W,CDOM325,CDOM325_FLAG_W,CDOM340,CDOM340_FLAG_W,CDOM380,CDOM380_FLAG_W,CDOM412,CDOM412_FLAG_W,CDOM443,CDOM443_FLAG_W,CDOM490,CDOM490_FLAG_W,CDOM555,CDOM555_FLAG_W,CDOMSL,CDOMSL_FLAG_W,CDOMSN,CDOMSN_FLAG_W,D18O_NO3,D18O_NO3_FLAG_W,D15N_NO2+NO3,D15N_NO2+NO3_FLAG_W,D18O_NO2+NO3,D18O_NO2+NO3_FLAG_W
,,,,,,,,,,,METERS,DBAR,ITS-90,PSS-78,,PSS-78,,UMOL/KG,,UMOL/KG,,UMOL/KG,,UMOL/KG,,UMOL/KG,,UMOL/KG,,UMOL/KG,,PMOL/KG,,PMOL/KG,,PMOL/KG,,FMOL/KG,,UMOL/KG,,UMOL/KG,,,,DEG C,DEG C,/MILLE,,/MILLE,,/MILLE,/MILLE,,UG/KG,,UMOL/KG,,UMOL/KG,,UMOL/KG,,/MILLE,,,,,,/MILLE,,MG/M3,,,,1/M,,1/M,,1/M,,1/M,,1/M,,1/M,,1/M,,1/NM,,1/NM,,/MILLE,,/MILLE,,/MILLE,
33RR20160208,       I08S,       9,          1,         28,         28,2,20160221,       0019,   -64.5799,    80.3926,       3667,   265.1,   0.8170,  34.5946,2,  34.5962,2,    211.0,2,   211.9,2,    81.6,2,    0.01,2,   32.38,2,    0.00,2,    2.28,2,-999.000,9,-999.000,9,-999.000,9,-999.000000000,9,  2247.7,2, 2336.87,2,   7.5688,2,    25.00,   0.8191,    0.52,2,  -142.6,2,     2.0, -999.00,1,-999.000,9,  -999.0,9, -999.00,9,     -999.0,9, -999.00,9, 20160221,      147, -64.5799,  80.3924,     -999.0,9,     -999.0,9,     -999.0,9,-999.0000,9,-999.0000,9,-999.0000,9,-999.0000,9,-999.0000,9,-999.0000,9,-999.0000,9,     -999.0,9,     -999.0,9,     -999.0,9,     -999.0,9,     -999.0,9
33RR20160208,       I08S,       9,          1,         29,         29,2,20160221,       0019,   -64.5799,    80.3926,       3667,   215.8,   0.9363,  34.5847,2,  34.5838,2,    206.5,2,   205.6,2,    81.5,2,    0.00,2,   32.85,2,    0.00,2,    2.33,2,   1.591,2,   0.839,2,   0.138,2,         0.849,2,  2249.9,2, 2336.70,2,   7.5601,6,    24.98,   0.9353, -999.00,9,  -999.0,9,  -999.0, -999.00,1,-999.000,9,  -999.0,9, -999.00,9,     -999.0,9, -999.00,9, 20160221,      149, -64.5799,  80.3923,     -999.0,9,     -999.0,9,     -999.0,9,-999.0000,9,-999.0000,9,-999.0000,9,-999.0000,9,-999.0000,9,-999.0000,9,-999.0000,9,     -999.0,9,     -999.0,9,     -999.0,9,     -999.0,9,     -999.0,9
33RR20160208,       I08S,       9,          1,         30,         30,2,20160221,       0019,   -64.5799,    80.3926,       3667,   164.2,   0.5075,  34.5131,2,  34.5185,2,    215.7,2,   216.6,2,    77.9,2,    0.41,2,   33.05,2,    0.02,2,    2.37,2,-999.000,9,-999.000,9,-999.000,9,-999.000000000,9,  2249.1,2, 2329.94,2,   7.5563,2,    24.99,   0.4902,    0.48,2,  -141.6,2,     2.5, -999.00,1,-999.000,9,  -999.0,9, -999.00,9,     -999.0,9, -999.00,9, 20160221,      151, -64.5799,  80.3924,     -999.0,9,     -999.0,9,     -999.0,9,-999.0000,9,-999.0000,9,-999.0000,9,-999.0000,9,-999.0000,9,-999.0000,9,-999.0000,9,     -999.0,9,     -999.0,9,     -999.0,9,     -999.0,9,     -999.0,9
33RR20160208,       I08S,       9,          1,         31,         31,2,20160221,       0019,   -64.5799,    80.3926,       3667,   134.5,   0.4610,  34.4785,2,  34.4806,2,    233.4,2,   220.2,2,    75.2,2,    0.01,2,   33.10,2,    0.06,2,    2.36,2,-999.000,9,-999.000,9,-999.000,9,-999.000000000,9,  2246.2,2, 2329.30,6,   7.5543,2,    24.96,   0.4746,    0.24,2,  -136.0,2,     1.8, -999.00,1,-999.000,9,  -999.0,9, -999.00,9,     -999.0,9, -999.00,9, 20160221,      153, -64.5799,  80.3923,     -999.0,9,     -999.0,9,     -999.0,9,-999.0000,9,-999.0000,9,-999.0000,9,-999.0000,9,-999.0000,9,-999.0000,9,-999.0000,9,     -999.0,9,     -999.0,9,     -999.0,9,     -999.0,9,     -999.0,9
33RR20160208,       I08S,       9,          1,         32,         32,2,20160221,       0019,   -64.5799,    80.3926,       3667,   109.5,  -1.0552,  34.3047,2,  34.3066,2,    271.4,2,   269.3,2,    62.7,2,    0.02,2,   31.47,2,    0.10,2,    2.25,2,   3.664,2,   1.972,2,   0.339,2,         2.007,2,  2229.1,2, 2317.84,2,   7.5828,2,    24.97,  -1.0518,    0.70,2,  -126.9,2,     1.7, -999.00,1,-999.000,9,  -999.0,9, -999.00,9,     -999.0,9, -999.00,9, 20160221,      154, -64.5799,  80.3924,     -999.0,9,     -999.0,9,     -999.0,9,-999.0000,9,-999.0000,9,-999.0000,9,-999.0000,9,-999.0000,9,-999.0000,9,-999.0000,9,     -999.0,9,     -999.0,9,     -999.0,9,     -999.0,9,     -999.0,9
33RR20160208,       I08S,       9,          1,         33,         33,2,20160221,       0019,   -64.5799,    80.3926,       3667,    83.5,  -1.5446,  34.2224,2,  34.2265,2,    283.4,2,   285.2,2,    58.5,2,    0.23,2,   30.69,2,    0.16,2,    2.20,2,-999.000,9,-999.000,9,-999.000,9,-999.000000000,9,  2220.1,2, 2312.75,2,   7.5938,2,    24.98,  -1.5438, -999.00,9,  -999.0,9,  -999.0, -999.00,1,-999.000,9,  -999.0,9, -999.00,9,     -999.0,9, -999.00,9, 20160221,      156, -64.5799,  80.3923,     -999.0,9,     -999.0,9,     -999.0,9,-999.0000,9,-999.0000,9,-999.0000,9,-999.0000,9,-999.0000,9,-999.0000,9,-999.0000,9,     -999.0,9,     -999.0,9,     -999.0,9,     -999.0,9,     -999.0,9
33RR20160208,       I08S,       9,          1,         34,         34,2,20160221,       0019,   -64.5799,    80.3926,       3667,    59.7,  -1.6585,  34.1285,2,  34.1204,2,    290.7,2,   294.6,3,    55.6,2,    0.63,2,   29.75,2,    0.11,2,    2.15,2,   4.217,2,   2.269,2,   0.402,2,         2.319,2,  2208.1,2, 2306.67,2,   7.6073,2,    24.98,  -1.6582,    0.84,2,  -119.3,2,     1.9, -999.00,1,-999.000,9,  -999.0,9, -999.00,9,     -999.0,9, -999.00,9, 20160221,      158, -64.5799,  80.3924,     -999.0,9,     -999.0,9,     -999.0,9,-999.0000,9,-999.0000,9,-999.0000,9,-999.0000,9,-999.0000,9,-999.0000,9,-999.0000,9,     -999.0,9,     -999.0,9,     -999.0,9,     -999.0,9,     -999.0,9
33RR20160208,       I08S,       9,          1,         35,         35,2,20160221,       0019,   -64.5799,    80.3926,       3667,    33.3,  -0.2488,  33.7306,2,  33.7024,2,    358.2,2,   358.0,2,    24.2,2,    0.45,2,   23.05,2,    0.16,2,    1.68,2,-999.000,9,-999.000,9,-999.000,9,-999.000000000,9,  2141.3,2, 2285.72,2,   7.7404,6,    24.97,  -0.1952,    1.46,2,  -117.7,2,     1.8, -999.00,1,-999.000,9,  -999.0,9, -999.00,9,     -999.0,9, -999.00,9, 20160221,      200, -64.5799,  80.3924,     -999.0,9,     -999.0,9,     -999.0,9,-999.0000,9,-999.0000,9,-999.0000,9,-999.0000,9,-999.0000,9,-999.0000,9,-999.0000,9,     -999.0,9,     -999.0,9,     -999.0,9,     -999.0,9,     -999.0,9
33RR20160208,       I08S,       9,          1,         36,         36,2,20160221,       0019,   -64.5799,    80.3926,       3667,     4.5,   0.8623,  33.3380,2,  33.3356,2,    360.6,2,   361.1,2,    20.4,2,    0.11,2,   19.12,2,    0.17,2,    1.22,2,   5.393,2,   2.916,2,   0.521,2,         2.837,2,  2097.7,6, 2264.56,2,   7.8026,2,    24.98,   0.8649,    1.90,2,  -116.4,2,     1.7, -999.00,1,-999.000,9,  -999.0,9, -999.00,9,     -999.0,9, -999.00,9, 20160221,      208, -64.5799,  80.3924,     -999.0,9,     -999.0,9,     -999.0,9,-999.0000,9,-999.0000,9,-999.0000,9,-999.0000,9,-999.0000,9,-999.0000,9,-999.0000,9,     -999.0,9,     -999.0,9,     -999.0,9,     -999.0,9,     -999.0,9