BOTTLE,20220706CCHSIOAMB
EXPOCODE,SECT_ID,STNNBR,CASTNO,SAMPNO,BTLNBR,BTLNBR_FLAG_W,DATE,TIME,LATITUDE,LONGITUDE,DEPTH,CTDPRS,CTDTMP,CTDSAL,CTDSAL_FLAG_W,SALNTY,SALNTY_FLAG_W,CTDOXY,CTDOXY_FLAG_W,OXYGEN,OXYGEN_FLAG_W,SILCAT,SILCAT_FLAG_W,NH4,NH4_FLAG_W,NITRAT,NITRAT_FLAG_W,NITRIT,NITRIT_FLAG_W,PHSPHT,PHSPHT_FLAG_W,CFC-11,CFC-11_FLAG_W,CFC-12,CFC-12_FLAG_W,CFC113,CFC113_FLAG_W,SF6,SF6_FLAG_W,TCARBN,TCARBN_FLAG_W,ALKALI,ALKALI_FLAG_W,PH_TOT,PH_TOT_FLAG_W,PH_TMP,REFTMP,DELC13,DELC13_FLAG_W,DELC14,DELC14_FLAG_W,C14ERR,DELO18,DELO18_FLAG_W,POC,POC_FLAG_W,DOC,DOC_FLAG_W,TDN,TDN_FLAG_W,TON,TON_FLAG_W,D15N_NO3,D15N_NO3_FLAG_W,BTL_DATE,BTL_TIME,BTL_LAT,BTL_LON,14C-DOC,14C-DOC_FLAG_W,CHLORA,CHLORA_FLAG_W,HPLC,HPLC_FLAG_W,CDOM325,CDOM325_FLAG_W,CDOM340,CDOM340_FLAG_W,CDOM380,CDOM380_FLAG_W,CDOM412,CDOM412_FLAG_W,CDOM443,CDOM443_FLAG_W,CDOM490,CDOM490_FLAG_W,CDOM555,CDOM555_FLAG_W,CDOMSL,CDOMSL_FLAG_W,CDOMSN,CDOMSN_FLAG_W,D18O_NO3,D18O_NO3_FLAG_W,D15N_NO2+NO3,D15N_NO2+NO3_FLAG_W,D18O_NO2+NO3,D18O_NO2+NO3_FLAG_W
,,,,,,,,,,,METERS,DBAR,ITS-90,PSS-78,,PSS-78,,UMOL/KG,,UMOL/KG,,UMOL/KG,,UMOL/KG,,UMOL/KG,,UMOL/KG,,UMOL/KG,,PMOL/KG,,PMOL/KG,,PMOL/KG,,FMOL/KG,,UMOL/KG,,UMOL/KG,,,,DEG C,DEG C,/MILLE,,/MILLE,,/MILLE,/MILLE,,UG/KG,,UMOL/KG,,UMOL/KG,,UMOL/KG,,/MILLE,,,,,,/MILLE,,MG/M3,,,,1/M,,1/M,,1/M,,1/M,,1/M,,1/M,,1/M,,1/NM,,1/NM,,/MILLE,,/MILLE,,/MILLE,
33RR20160208,       I08S,      32,          1,          1,          1,2,20160226,       1706,   -54.7862,    85.6644,       4712,  4746.4,   0.1581,  34.6662,2,  34.6675,2,    230.7,2,   230.6,2,   129.1,2,    0.00,2,   32.37,2,    0.00,2,    2.22,2,   1.181,2,   0.574,2,   0.080,2,   0.223984873,2,  2256.7,6, 2355.35,2,   7.5931,2,    24.98,   0.1586, -999.00,9,  -999.0,9,  -999.0, -999.00,1,-999.000,9,    40.7,2, -999.00,9,     -999.0,1,    4.75,2, 20160226,     1706, -54.7862,  85.6644,     -999.0,9,     -999.0,9,     -999.0,9,-999.0000,9,-999.0000,9,-999.0000,9,-999.0000,9,-999.0000,9,-999.0000,9,-999.0000,9,     -999.0,9,     -999.0,9,       2.03,2,       4.75,2,       2.03,2
33RR20160208,       I08S,      32,          1,          2,          2,2,20160226,       1706,   -54.7862,    85.6644,       4712,  4474.2,   0.1651,  34.6681,2,  34.6683,2,    228.0,2,   229.2,2,   129.1,2,    0.00,2,   32.25,2,    0.00,2,    2.24,2,   1.113,2,   0.537,2,   0.072,2,   0.205741761,2,  2255.6,2, 2354.95,2,   7.5935,2,    24.98,   0.1656, -999.00,9,  -999.0,9,  -999.0, -999.00,1,-999.000,9,    38.9,2, -999.00,9,     -999.0,1,    4.66,2, 20160226,     1712, -54.7862,  85.6643,     -999.0,9,     -999.0,9,     -999.0,9,-999.0000,9,-999.0000,9,-999.0000,9,-999.0000,9,-999.0000,9,-999.0000,9,-999.0000,9,     -999.0,9,     -999.0,9,       1.86,2,       4.66,2,       1.86,2
33RR20160208,       I08S,      32,          1,          3,          3,2,20160226,       1706,   -54.7862,    85.6644,       4712,  4201.2,   0.2064,  34.6715,2,  34.6720,2,    226.4,2,   226.1,2,   128.6,2,    0.00,2,   32.27,2,    0.00,2,    2.24,2,   0.990,2,   0.485,2,   0.062,2,   0.182431118,2,  2254.8,2, 2355.73,2,   7.5937,2,    24.97,   0.2069, -999.00,9,  -999.0,9,  -999.0, -999.00,1,-999.000,9,    38.9,2, -999.00,9,     -999.0,1,     4.7,2, 20160226,     1718, -54.7862,  85.6643,     -999.0,9,     -999.0,9,     -999.0,9,-999.0000,9,-999.0000,9,-999.0000,9,-999.0000,9,-999.0000,9,-999.0000,9,-999.0000,9,     -999.0,9,     -999.0,9,        2.0,2,        4.7,2,        2.0,2
33RR20160208,       I08S,      32,          1,          4,          4,2,20160226,       1706,   -54.7862,    85.6644,       4712,  3898.4,   0.2652,  34.6757,2,  34.6757,2,    224.2,2,   223.4,2,   127.5,2,    0.00,2,   32.22,2,    0.00,2,    2.23,2,   0.847,2,   0.415,2,   0.051,2,   0.187498649,2,  2255.5,2, 2355.68,2,   7.5934,2,    24.97,   0.2653, -999.00,9,  -999.0,9,  -999.0, -999.00,1,-999.000,9,    39.6,2, -999.00,9,     -999.0,1,     4.7,2, 20160226,     1724, -54.7863,  85.6643,     -999.0,9,     -999.0,9,     -999.0,9,-999.0000,9,-999.0000,9,-999.0000,9,-999.0000,9,-999.0000,9,-999.0000,9,-999.0000,9,     -999.0,9,     -999.0,9,       2.05,2,        4.7,2,       2.05,2
33RR20160208,       I08S,      32,          1,          5,          5,2,20160226,       1706,   -54.7862,    85.6644,       4712,  3597.0,   0.3209,  34.6793,2,  34.6790,2,    222.0,2,   222.2,2,   126.4,2,    0.00,2,   32.22,2,    0.00,2,    2.24,2,   0.726,2,   0.364,2,   0.044,2,   0.176350081,2,  2253.8,2, 2356.59,2,   7.5938,2,    24.96,   0.3212, -999.00,9,  -999.0,9,  -999.0, -999.00,1,-999.000,9,    38.4,2, -999.00,9,     -999.0,1,    4.74,2, 20160226,     1731, -54.7863,  85.6643,     -999.0,9,     -999.0,9,     -999.0,9,-999.0000,9,-999.0000,9,-999.0000,9,-999.0000,9,-999.0000,9,-999.0000,9,-999.0000,9,     -999.0,9,     -999.0,9,       2.03,2,       4.74,2,       2.03,2
33RR20160208,       I08S,      32,          1,          6,         38,2,20160226,       1706,   -54.7862,    85.6644,       4712,  3300.0,   0.3961,  34.6838,2,  34.6835,2,    219.7,2,   218.6,2,   125.3,2,    0.00,2,   32.23,2,    0.00,2,    2.25,2,   0.620,2,   0.310,2,   0.032,2,   0.210809292,2,  2256.7,2, 2357.82,2,   7.5945,2,    24.95,   0.3963, -999.00,9,  -999.0,9,  -999.0, -999.00,1,-999.000,9,    39.5,2, -999.00,9,     -999.0,1,     4.8,2, 20160226,     1737, -54.7863,  85.6643,     -999.0,9,     -999.0,9,     -999.0,9,-999.0000,9,-999.0000,9,-999.0000,9,-999.0000,9,-999.0000,9,-999.0000,9,-999.0000,9,     -999.0,9,     -999.0,9,        2.0,2,        4.8,2,        2.0,2
33RR20160208,       I08S,      32,          1,          7,          7,2,20160226,       1706,   -54.7862,    85.6644,       4712,  2998.0,   0.5259,  34.6908,2,  34.6907,2,    216.3,2,   215.7,2,   122.5,2,    0.00,2,   32.13,2,    0.00,2,    2.26,2,   0.475,2,   0.244,2,   0.021,2,   0.022297137,2,  2255.2,2, 2358.27,2,   7.5944,2,    24.99,   0.5266, -999.00,9,  -999.0,9,  -999.0, -999.00,1,-999.000,9,    38.7,2, -999.00,9,     -999.0,1,    4.81,2, 20160226,     1744, -54.7862,  85.6643,     -999.0,9,     -999.0,9,     -999.0,9,-999.0000,9,-999.0000,9,-999.0000,9,-999.0000,9,-999.0000,9,-999.0000,9,-999.0000,9,     -999.0,9,     -999.0,9,       2.12,2,       4.81,2,       2.12,2
33RR20160208,       I08S,      32,          1,          8,          8,2,20160226,       1706,   -54.7862,    85.6644,       4712,  2752.0,   0.6682,  34.6978,2,  34.6981,2,    213.2,2,   212.2,2,   119.2,2,    0.00,2,   32.15,2,    0.00,2,    2.24,2,   0.357,2,   0.186,2,   0.012,2,   0.036486224,2,  2257.1,2, 2359.44,2,   7.5963,2,    24.95,   0.6689, -999.00,9,  -999.0,9,  -999.0, -999.00,1,-999.000,9,    38.3,2, -999.00,9,     -999.0,1,    4.74,2, 20160226,     1749, -54.7862,  85.6643,     -999.0,9,     -999.0,9,     -999.0,9,-999.0000,9,-999.0000,9,-999.0000,9,-999.0000,9,-999.0000,9,-999.0000,9,-999.0000,9,     -999.0,9,     -999.0,9,       2.07,2,       4.74,2,       2.07,2
33RR20160208,       I08S,      32,          1,          9,          9,2,20160226,       1706,   -54.7862,    85.6644,       4712,  2502.5,   0.7980,  34.7052,2,  34.7052,2,    210.6,2,   210.4,2,   115.5,2,    0.00,2,   31.73,2,    0.00,2,    2.22,2,   0.319,2,   0.165,2,   0.009,2,   0.016216099,2,  2255.6,2, 2358.01,2,   7.5994,2,    24.98,   0.7977, -999.00,9,  -999.0,9,  -999.0, -999.00,1,-999.000,9,    39.9,2, -999.00,9,     -999.0,1,     4.8,2, 20160226,     1755, -54.7862,  85.6643,     -999.0,9,     -999.0,9,     -999.0,9,-999.0000,9,-999.0000,9,-999.0000,9,-999.0000,9,-999.0000,9,-999.0000,9,-999.0000,9,     -999.0,9,     -999.0,9,       1.99,2,        4.8,2,       1.99,2
33RR20160208,       I08S,      32,          1,         10,         10,2,20160226,       1706,   -54.7862,    85.6644,       4712,  2253.6,   0.9660,  34.7148,2,  34.7214,4,    208.4,2,   208.5,2,   110.9,2,    0.00,2,   31.41,2,    0.00,2,    2.19,2,   0.278,2,   0.147,2,   0.008,2,   0.003040519,2,  2252.5,2, 2357.98,2,   7.6025,2,    24.99,   0.9674, -999.00,9,  -999.0,9,  -999.0, -999.00,1,-999.000,9,    40.4,2, -999.00,9,     -999.0,1,    4.83,2, 20160226,     1801, -54.7862,  85.6642,     -999.0,9,     -999.0,9,     -999.0,9,-999.0000,9,-999.0000,9,-999.0000,9,-999.0000,9,-999.0000,9,-999.0000,9,-999.0000,9,     -999.0,9,     -999.0,9,       2.06,2,       4.83,2,       2.06,2
33RR20160208,       I08S,      32,          1,         11,         11,2,20160226,       1706,   -54.7862,    85.6644,       4712,  1997.6,   1.1337,  34.7234,2,  34.7194,2,    206.3,2,   206.7,2,   105.6,2,    0.00,2,   31.05,2,    0.00,2,    2.16,2,-999.000,9,-999.000,9,-999.000,9,-999.000000000,9,  2251.0,2, 2356.57,2,   7.6062,2,    24.97,   1.1338, -999.00,9,  -999.0,9,  -999.0, -999.00,1,-999.000,9,    39.2,2, -999.00,9,     -999.0,1,    4.85,2, 20160226,     1807, -54.7862,  85.6643,     -999.0,9,     -999.0,9,     -999.0,9,-999.0000,9,-999.0000,9,-999.0000,9,-999.0000,9,-999.0000,9,-999.0000,9,-999.0000,9,     -999.0,9,     -999.0,9,       1.96,2,       4.85,2,       1.96,2
33RR20160208,       I08S,      32,          1,         12,         12,2,20160226,       1706,   -54.7862,    85.6644,       4712,  1800.2,   1.2908,  34.7304,2,  34.7267,2,    204.4,2,   204.4,2,   100.1,2,    0.00,2,   30.75,2,    0.00,2,    2.13,2,   0.274,2,   0.147,2,   0.008,2,   0.076012966,2,  2250.4,6, 2354.68,2,   7.6069,2,    24.98,   1.2910, -999.00,9,  -999.0,9,  -999.0, -999.00,1,-999.000,9,    39.0,2, -999.00,9,     -999.0,1,    4.85,2, 20160226,     1812, -54.7863,  85.6643,     -999.0,9,     -999.0,9,     -999.0,9,-999.0000,9,-999.0000,9,-999.0000,9,-999.0000,9,-999.0000,9,-999.0000,9,-999.0000,9,     -999.0,9,     -999.0,9,       2.05,2,       4.85,2,       2.05,2
33RR20160208,       I08S,      32,          1,         13,         13,2,20160226,       1706,   -54.7862,    85.6644,       4712,  1596.8,   1.4603,  34.7372,2,  34.7372,2,    202.0,2,   202.1,2,    95.5,2,    0.00,2,   30.51,2,    0.00,2,    2.12,2,-999.000,9,-999.000,9,-999.000,9,-999.000000000,9,  2248.8,2, 2353.17,2,   7.6091,2,    24.90,   1.4605, -999.00,9,  -999.0,9,  -999.0, -999.00,1,-999.000,9,    39.7,2, -999.00,9,     -999.0,1,    4.75,2, 20160226,     1816, -54.7862,  85.6643,     -999.0,9,     -999.0,9,     -999.0,9,-999.0000,9,-999.0000,9,-999.0000,9,-999.0000,9,-999.0000,9,-999.0000,9,-999.0000,9,     -999.0,9,     -999.0,9,       1.78,2,       4.75,2,       1.78,2
33RR20160208,       I08S,      32,          1,         14,         14,2,20160226,       1706,   -54.7862,    85.6644,       4712,  1500.9,   1.5631,  34.7403,2,  34.7411,2,    200.8,2,   201.4,2,    93.0,2,    0.00,2,   30.41,2,    0.00,2,    2.12,2,   0.243,2,   0.130,2,   0.008,2,   0.034459211,2,  2247.6,2, 2352.78,6,   7.6087,6,    25.00,   1.5639, -999.00,9,  -999.0,9,  -999.0, -999.00,1,-999.000,9,    39.0,2, -999.00,9,     -999.0,1,    4.75,2, 20160226,     1820, -54.7863,  85.6643,     -999.0,9,     -999.0,9,     -999.0,9,-999.0000,9,-999.0000,9,-999.0000,9,-999.0000,9,-999.0000,9,-999.0000,9,-999.0000,9,     -999.0,9,     -999.0,9,       1.86,2,       4.75,2,       1.86,2
33RR20160208,       I08S,      32,          1,         15,         15,2,20160226,       1706,   -54.7862,    85.6644,       4712,  1399.0,   1.6339,  34.7411,2,  34.7417,2,    198.9,2,   200.3,2,    90.9,2,    0.00,2,   30.42,2,    0.00,2,    2.10,2,-999.000,9,-999.000,9,-999.000,9,-999.000000000,9,  2246.3,2, 2352.16,2,   7.6079,2,    24.99,   1.6340, -999.00,9,  -999.0,9,  -999.0, -999.00,1,-999.000,9,    38.8,2, -999.00,9,     -999.0,1,    4.83,2, 20160226,     1822, -54.7863,  85.6643,     -999.0,9,     -999.0,9,     -999.0,9,-999.0000,9,-999.0000,9,-999.0000,9,-999.0000,9,-999.0000,9,-999.0000,9,-999.0000,9,     -999.0,9,     -999.0,9,        1.9,2,       4.83,2,        1.9,2
33RR20160208,       I08S,      32,          1,         16,         16,2,20160226,       1706,   -54.7862,    85.6644,       4712,  1298.1,   1.7315,  34.7400,2,  34.7415,2,    197.4,2,   197.3,2,    88.3,2,    0.00,2,   30.39,2,    0.00,2,    2.11,2,   0.261,2,   0.146,2,   0.010,2,   0.034459211,2,  2248.1,2, 2350.39,2,   7.6054,2,    24.97,   1.7316, -999.00,9,  -999.0,9,  -999.0, -999.00,1,-999.000,9,    40.6,2, -999.00,9,     -999.0,1,    4.84,2, 20160226,     1825, -54.7863,  85.6643,     -999.0,9,     -999.0,9,     -999.0,9,-999.0000,9,-999.0000,9,-999.0000,9,-999.0000,9,-999.0000,9,-999.0000,9,-999.0000,9,     -999.0,9,     -999.0,9,       1.93,2,       4.84,2,       1.93,2
33RR20160208,       I08S,      32,          1,         17,         17,2,20160226,       1706,   -54.7862,    85.6644,       4712,  1200.7,   1.7860,  34.7386,2,  34.7387,2,    195.7,2,   196.1,2,    86.9,2,    0.00,2,   30.46,2,    0.00,2,    2.10,2,-999.000,9,-999.000,9,-999.000,9,-999.000000000,9,  2247.1,2, 2350.17,2,   7.6037,2,    24.97,   1.7867, -999.00,9,  -999.0,9,  -999.0, -999.00,1,-999.000,9,    38.9,2, -999.00,9,     -999.0,1,    4.87,2, 20160226,     1828, -54.7863,  85.6643,     -999.0,9,     -999.0,9,     -999.0,9,-999.0000,9,-999.0000,9,-999.0000,9,-999.0000,9,-999.0000,9,-999.0000,9,-999.0000,9,     -999.0,9,     -999.0,9,       1.89,2,       4.87,2,       1.89,2
33RR20160208,       I08S,      32,          1,         18,         37,2,20160226,       1706,   -54.7862,    85.6644,       4712,  1100.8,   1.8749,  34.7346,2,  34.7359,2,    193.6,2,   193.8,2,    84.9,2,    0.00,2,   30.56,2,    0.00,2,    2.14,2,   0.278,2,   0.152,2,   0.012,2,    0.09628309,2,  2245.6,2, 2348.87,2,   7.5997,2,    25.00,   1.8744, -999.00,9,  -999.0,9,  -999.0, -999.00,1,-999.000,9,    40.6,2, -999.00,9,     -999.0,1,    4.86,2, 20160226,     1832, -54.7863,  85.6643,     -999.0,9,     -999.0,9,     -999.0,9,-999.0000,9,-999.0000,9,-999.0000,9,-999.0000,9,-999.0000,9,-999.0000,9,-999.0000,9,     -999.0,9,     -999.0,9,       1.85,2,       4.86,2,       1.85,2
33RR20160208,       I08S,      32,          1,         19,         19,2,20160226,       1706,   -54.7862,    85.6644,       4712,  1004.5,   1.9442,  34.7272,2,  34.7272,2,    191.5,2,   190.6,2,    83.2,2,    0.00,2,   30.86,2,    0.00,2,    2.13,2,-999.000,9,-999.000,9,-999.000,9,-999.000000000,9,  2247.4,2, 2346.24,2,   7.5942,2,    24.97,   1.9441, -999.00,9,  -999.0,9,  -999.0, -999.00,1,-999.000,9,    40.0,2, -999.00,9,     -999.0,1,    4.85,2, 20160226,     1834, -54.7863,  85.6644,     -999.0,9,     -999.0,9,     -999.0,9,-999.0000,9,-999.0000,9,-999.0000,9,-999.0000,9,-999.0000,9,-999.0000,9,-999.0000,9,     -999.0,9,     -999.0,9,        1.9,2,       4.85,2,        1.9,2
33RR20160208,       I08S,      32,          1,         20,         20,2,20160226,       1706,   -54.7862,    85.6644,       4712,   898.4,   2.0228,  34.7186,2,  34.7191,2,    188.5,2,   188.8,2,    81.1,2,    0.00,2,   31.02,2,    0.00,2,    2.16,2,   0.314,2,   0.173,2,   0.016,2,   0.118580227,2,  2246.4,2, 2344.90,2,   7.5906,6,    24.99,   2.0233, -999.00,9,  -999.0,9,  -999.0, -999.00,1,-999.000,9,    38.6,2, -999.00,9,     -999.0,1,    4.86,2, 20160226,     1838, -54.7862,  85.6643,     -999.0,9,     -999.0,9,     -999.0,9,-999.0000,9,-999.0000,9,-999.0000,9,-999.0000,9,-999.0000,9,-999.0000,9,-999.0000,9,     -999.0,9,     -999.0,9,       1.85,2,       4.86,2,       1.85,2
33RR20160208,       I08S,      32,          1,         21,         21,4,20160226,       1706,   -54.7862,    85.6644,       4712,   791.2,   2.0867,  34.6995,3,  34.7175,3,    185.2,3,   189.4,3,    82.3,3,    0.00,3,   31.10,3,    0.00,3,    2.16,3,-999.000,9,-999.000,9,-999.000,9,-999.000000000,9,  2247.3,3, 2344.17,3,   7.5887,4,    24.98,   2.0876, -999.00,9,  -999.0,9,  -999.0, -999.00,1,-999.000,9,    39.2,2, -999.00,9,     -999.0,1,    4.88,2, 20160226,     1841, -54.7862,  85.6643,     -999.0,9,     -999.0,9,     -999.0,9,-999.0000,9,-999.0000,9,-999.0000,9,-999.0000,9,-999.0000,9,-999.0000,9,-999.0000,9,     -999.0,9,     -999.0,9,       1.89,2,       4.88,2,       1.89,2
33RR20160208,       I08S,      32,          1,         22,         22,2,20160226,       1706,   -54.7862,    85.6644,       4712,   701.4,   2.1545,  34.6820,2,  34.6822,2,    183.3,2,   182.8,2,    78.1,2,    0.00,2,   32.05,2,    0.00,2,    2.23,2,   0.426,2,   0.231,2,   0.025,2,   0.144931388,2,  2248.9,2, 2341.37,2,   7.5758,2,    24.98,   2.1544, -999.00,9,  -999.0,9,  -999.0, -999.00,1,-999.000,9,    38.2,2, -999.00,9,     -999.0,1,    4.88,2, 20160226,     1843, -54.7863,  85.6643,     -999.0,9,     -999.0,9,     -999.0,9,-999.0000,9,-999.0000,9,-999.0000,9,-999.0000,9,-999.0000,9,-999.0000,9,-999.0000,9,     -999.0,9,     -999.0,9,       1.88,2,       4.88,2,       1.88,2
33RR20160208,       I08S,      32,          1,         23,         23,2,20160226,       1706,   -54.7862,    85.6644,       4712,   601.6,   2.2273,  34.6577,2,  34.6570,2,    178.2,2,   178.5,2,    77.2,2,    0.00,2,   32.71,2,    0.00,2,    2.27,2,-999.000,9,-999.000,9,-999.000,9,-999.000000000,9,  2251.6,2, 2340.21,2,   7.5641,2,    24.94,   2.2236, -999.00,9,  -999.0,9,  -999.0, -999.00,1,-999.000,9,    39.4,2, -999.00,9,     -999.0,1,    4.88,2, 20160226,     1846, -54.7862,  85.6643,     -999.0,9,     -999.0,9,     -999.0,9,-999.0000,9,-999.0000,9,-999.0000,9,-999.0000,9,-999.0000,9,-999.0000,9,-999.0000,9,     -999.0,9,     -999.0,9,       1.95,2,       4.88,2,       1.95,2
33RR20160208,       I08S,      32,          1,         24,         24,2,20160226,       1706,   -54.7862,    85.6644,       4712,   499.8,   2.3668,  34.6255,2,  34.6247,2,    178.3,2,   176.8,2,    73.0,2,    0.00,2,   32.97,2,    0.00,2,    2.28,2,   0.508,2,   0.268,2,   0.027,2,   0.181417612,2,  2253.5,6, 2337.32,2,   7.5621,6,    24.98,   2.3670, -999.00,9,  -999.0,9,  -999.0, -999.00,1,-999.000,9,    40.2,2, -999.00,9,     -999.0,1,     5.0,2, 20160226,     1849, -54.7862,  85.6643,     -999.0,9,     -999.0,9,     -999.0,9,-999.0000,9,-999.0000,9,-999.0000,9,-999.0000,9,-999.0000,9,-999.0000,9,-999.0000,9,     -999.0,9,     -999.0,9,       2.02,2,        5.0,2,       2.02,2
33RR20160208,       I08S,      32,          1,         25,         25,2,20160226,       1706,   -54.7862,    85.6644,       4712,   449.6,   2.4051,  34.6129,2,  34.6138,2,    177.3,2,   178.3,2,    72.1,2,    0.00,2,   33.08,2,    0.00,2,    2.29,2,   0.538,2,   0.283,2,   0.030,2,   0.173309562,2,  2251.3,2, 2335.87,2,   7.5610,2,    24.99,   2.4053, -999.00,9,  -999.0,9,  -999.0, -999.00,1,-999.000,9,    40.0,2, -999.00,9,     -999.0,1,    5.01,2, 20160226,     1852, -54.7863,  85.6643,     -999.0,9,     -999.0,9,     -999.0,9,-999.0000,9,-999.0000,9,-999.0000,9,-999.0000,9,-999.0000,9,-999.0000,9,-999.0000,9,     -999.0,9,     -999.0,9,       1.98,2,       5.01,2,       1.98,2
33RR20160208,       I08S,      32,          1,         26,         26,2,20160226,       1706,   -54.7862,    85.6644,       4712,   400.4,   2.3943,  34.5860,2,  34.5840,2,    175.7,2,   176.4,2,    71.4,2,    0.00,2,   33.64,2,    0.00,2,    2.33,2,   0.670,2,   0.347,2,   0.043,2,   0.176350081,2,  2253.1,2, 2334.19,2,   7.5527,2,    24.99,   2.3943, -999.00,9,  -999.0,9,  -999.0, -999.00,1,-999.000,9,    38.6,2, -999.00,9,     -999.0,1,    5.03,2, 20160226,     1854, -54.7862,  85.6644,     -999.0,9,     -999.0,9,     -999.0,9,-999.0000,9,-999.0000,9,-999.0000,9,-999.0000,9,-999.0000,9,-999.0000,9,-999.0000,9,     -999.0,9,     -999.0,9,        2.0,2,       5.03,2,        2.0,2
33RR20160208,       I08S,      32,          1,         27,         27,2,20160226,       1706,   -54.7862,    85.6644,       4712,   350.6,   2.4147,  34.5677,2,  34.5667,2,    175.9,2,   175.2,2,    70.8,2,    0.00,2,   33.73,2,    0.00,2,    2.33,2,   0.713,2,   0.373,2,   0.044,2,   0.198647218,2,  2251.2,2, 2332.27,2,   7.5510,2,    24.97,   2.4178, -999.00,9,  -999.0,9,  -999.0, -999.00,1,-999.000,9,    40.8,2, -999.00,9,     -999.0,1,    5.09,2, 20160226,     1856, -54.7863,  85.6643,     -999.0,9,     -999.0,9,     -999.0,9,-999.0000,9,-999.0000,9,-999.0000,9,-999.0000,9,-999.0000,9,-999.0000,9,-999.0000,9,     -999.0,9,     -999.0,9,       2.01,2,       5.09,2,       2.01,2