BOTTLE,20220706CCHSIOAMB
EXPOCODE,SECT_ID,STNNBR,CASTNO,SAMPNO,BTLNBR,BTLNBR_FLAG_W,DATE,TIME,LATITUDE,LONGITUDE,DEPTH,CTDPRS,CTDTMP,CTDSAL,CTDSAL_FLAG_W,SALNTY,SALNTY_FLAG_W,CTDOXY,CTDOXY_FLAG_W,OXYGEN,OXYGEN_FLAG_W,SILCAT,SILCAT_FLAG_W,NH4,NH4_FLAG_W,NITRAT,NITRAT_FLAG_W,NITRIT,NITRIT_FLAG_W,PHSPHT,PHSPHT_FLAG_W,CFC-11,CFC-11_FLAG_W,CFC-12,CFC-12_FLAG_W,CFC113,CFC113_FLAG_W,SF6,SF6_FLAG_W,TCARBN,TCARBN_FLAG_W,ALKALI,ALKALI_FLAG_W,PH_TOT,PH_TOT_FLAG_W,PH_TMP,REFTMP,DELC13,DELC13_FLAG_W,DELC14,DELC14_FLAG_W,C14ERR,DELO18,DELO18_FLAG_W,POC,POC_FLAG_W,DOC,DOC_FLAG_W,TDN,TDN_FLAG_W,TON,TON_FLAG_W,D15N_NO3,D15N_NO3_FLAG_W,BTL_DATE,BTL_TIME,BTL_LAT,BTL_LON,14C-DOC,14C-DOC_FLAG_W,CHLORA,CHLORA_FLAG_W,HPLC,HPLC_FLAG_W,CDOM325,CDOM325_FLAG_W,CDOM340,CDOM340_FLAG_W,CDOM380,CDOM380_FLAG_W,CDOM412,CDOM412_FLAG_W,CDOM443,CDOM443_FLAG_W,CDOM490,CDOM490_FLAG_W,CDOM555,CDOM555_FLAG_W,CDOMSL,CDOMSL_FLAG_W,CDOMSN,CDOMSN_FLAG_W,D18O_NO3,D18O_NO3_FLAG_W,D15N_NO2+NO3,D15N_NO2+NO3_FLAG_W,D18O_NO2+NO3,D18O_NO2+NO3_FLAG_W
,,,,,,,,,,,METERS,DBAR,ITS-90,PSS-78,,PSS-78,,UMOL/KG,,UMOL/KG,,UMOL/KG,,UMOL/KG,,UMOL/KG,,UMOL/KG,,UMOL/KG,,PMOL/KG,,PMOL/KG,,PMOL/KG,,FMOL/KG,,UMOL/KG,,UMOL/KG,,,,DEG C,DEG C,/MILLE,,/MILLE,,/MILLE,/MILLE,,UG/KG,,UMOL/KG,,UMOL/KG,,UMOL/KG,,/MILLE,,,,,,/MILLE,,MG/M3,,,,1/M,,1/M,,1/M,,1/M,,1/M,,1/M,,1/M,,1/NM,,1/NM,,/MILLE,,/MILLE,,/MILLE,
33RR20160208,       I08S,      46,          1,          1,          1,2,20160302,       1140,   -48.0490,    92.1430,       3516,  3531.0,   0.9792,  34.7118,2,  34.7119,2,    209.7,2,   209.2,2,   117.8,2,    0.00,2,   32.05,2,    0.00,2,    2.20,2,   0.328,2,   0.169,2,   0.012,2,    0.06643326,2,  2259.5,6, 2362.77,2,   7.6036,2,    25.07,   0.9791, -999.00,9,  -999.0,9,  -999.0, -999.00,9,-999.000,9,    38.4,2, -999.00,9,     -999.0,1, -999.00,9, 20160302,     1140, -48.0490,  92.1430,     -999.0,9,     -999.0,9,     -999.0,9,-999.0000,9,-999.0000,9,-999.0000,9,-999.0000,9,-999.0000,9,-999.0000,9,-999.0000,9,     -999.0,9,     -999.0,9,     -999.0,9,     -999.0,9,     -999.0,9
33RR20160208,       I08S,      46,          1,          2,          2,2,20160302,       1140,   -48.0490,    92.1430,       3516,  3336.9,   0.9967,  34.7136,2,  34.7130,2,    208.2,2,   209.0,2,   116.7,2,    0.00,2,   31.80,2,    0.00,2,    2.21,2,   0.304,2,   0.159,2,   0.009,2,   0.093610503,2,  -999.0,9, -999.00,9,-999.0000,9,     9.00,   0.9965, -999.00,9,  -999.0,9,  -999.0, -999.00,9,-999.000,9,    38.9,2, -999.00,9,     -999.0,1, -999.00,9, 20160302,     1144, -48.0490,  92.1430,     -999.0,9,     -999.0,9,     -999.0,9,-999.0000,9,-999.0000,9,-999.0000,9,-999.0000,9,-999.0000,9,-999.0000,9,-999.0000,9,     -999.0,9,     -999.0,9,     -999.0,9,     -999.0,9,     -999.0,9
33RR20160208,       I08S,      46,          1,          3,          3,2,20160302,       1140,   -48.0490,    92.1430,       3516,  3133.9,   1.1397,  34.7215,2,  34.7216,2,    206.6,2,   207.5,2,   111.8,2,    0.00,2,   31.76,2,    0.00,2,    2.20,2,-999.000,9,-999.000,9,-999.000,9,-999.000000000,9,  2258.1,2, 2362.11,6,   7.6095,2,    25.07,   1.1397, -999.00,9,  -999.0,9,  -999.0, -999.00,9,-999.000,9,    40.0,2, -999.00,9,     -999.0,1, -999.00,9, 20160302,     1149, -48.0490,  92.1430,     -999.0,9,     -999.0,9,     -999.0,9,-999.0000,9,-999.0000,9,-999.0000,9,-999.0000,9,-999.0000,9,-999.0000,9,-999.0000,9,     -999.0,9,     -999.0,9,     -999.0,9,     -999.0,9,     -999.0,9
33RR20160208,       I08S,      46,          1,          4,          4,2,20160302,       1140,   -48.0490,    92.1430,       3516,  2935.6,   1.2883,  34.7292,2,  34.7289,2,    204.8,2,   205.7,2,   106.5,2,    0.00,2,   31.27,2,    0.00,2,    2.18,2,   0.169,2,   0.086,2,   0.001,2,   0.008052516,2,  -999.0,9, -999.00,9,-999.0000,9,  -999.00,   1.2901, -999.00,9,  -999.0,9,  -999.0, -999.00,9,-999.000,9,    39.0,2, -999.00,9,     -999.0,1, -999.00,9, 20160302,     1154, -48.0490,  92.1430,     -999.0,9,     -999.0,9,     -999.0,9,-999.0000,9,-999.0000,9,-999.0000,9,-999.0000,9,-999.0000,9,-999.0000,9,-999.0000,9,     -999.0,9,     -999.0,9,     -999.0,9,     -999.0,9,     -999.0,9
33RR20160208,       I08S,      46,          1,          5,          5,2,20160302,       1140,   -48.0490,    92.1430,       3516,  2735.2,   1.5081,  34.7399,2,  34.7408,2,    202.8,2,   203.1,2,   100.0,2,    0.00,2,   30.72,2,    0.00,2,    2.14,2,-999.000,9,-999.000,9,-999.000,9,-999.000000000,9,  -999.0,9, -999.00,9,-999.0000,9,     9.00,   1.5077, -999.00,9,  -999.0,9,  -999.0, -999.00,9,-999.000,9,    39.7,2, -999.00,9,     -999.0,1, -999.00,9, 20160302,     1158, -48.0490,  92.1430,     -999.0,9,     -999.0,9,     -999.0,9,-999.0000,9,-999.0000,9,-999.0000,9,-999.0000,9,-999.0000,9,-999.0000,9,-999.0000,9,     -999.0,9,     -999.0,9,     -999.0,9,     -999.0,9,     -999.0,9
33RR20160208,       I08S,      46,          1,          6,         38,2,20160302,       1140,   -48.0490,    92.1430,       3516,  2534.3,   1.7468,  34.7495,2,  34.7504,2,    200.9,2,   201.6,2,    92.2,2,    0.00,2,   30.57,2,    0.00,2,    2.12,2,   0.125,2,   0.066,2,   0.000,2,   0.035229759,2,  2247.8,2, 2356.84,2,   7.6182,2,    25.06,   1.7471, -999.00,9,  -999.0,9,  -999.0, -999.00,9,-999.000,9,    38.4,2, -999.00,9,     -999.0,1, -999.00,9, 20160302,     1203, -48.0490,  92.1430,     -999.0,9,     -999.0,9,     -999.0,9,-999.0000,9,-999.0000,9,-999.0000,9,-999.0000,9,-999.0000,9,-999.0000,9,-999.0000,9,     -999.0,9,     -999.0,9,     -999.0,9,     -999.0,9,     -999.0,9
33RR20160208,       I08S,      46,          1,          7,          7,2,20160302,       1140,   -48.0490,    92.1430,       3516,  2335.1,   1.9467,  34.7539,2,  34.7545,2,    199.5,2,   199.5,2,    86.4,2,    0.00,2,   30.12,2,    0.00,2,    2.09,2,-999.000,9,-999.000,9,-999.000,9,-999.000000000,9,  -999.0,9, -999.00,9,-999.0000,9,  -999.00,   1.9464, -999.00,9,  -999.0,9,  -999.0, -999.00,9,-999.000,9,    39.4,2, -999.00,9,     -999.0,1, -999.00,9, 20160302,     1208, -48.0490,  92.1429,     -999.0,9,     -999.0,9,     -999.0,9,-999.0000,9,-999.0000,9,-999.0000,9,-999.0000,9,-999.0000,9,-999.0000,9,-999.0000,9,     -999.0,9,     -999.0,9,     -999.0,9,     -999.0,9,     -999.0,9
33RR20160208,       I08S,      46,          1,          8,          8,2,20160302,       1140,   -48.0490,    92.1430,       3516,  2132.4,   2.1281,  34.7508,2,  34.7538,4,    196.7,2,   196.6,2,    80.4,2,    0.00,2,   30.14,2,    0.00,2,    2.08,2,   0.142,2,   0.078,2,   0.000,2,   0.002013129,2,  -999.0,9, -999.00,9,-999.0000,9,     9.00,   2.1280, -999.00,9,  -999.0,9,  -999.0, -999.00,9,-999.000,9,    40.4,2, -999.00,9,     -999.0,1, -999.00,9, 20160302,     1212, -48.0490,  92.1430,     -999.0,9,     -999.0,9,     -999.0,9,-999.0000,9,-999.0000,9,-999.0000,9,-999.0000,9,-999.0000,9,-999.0000,9,-999.0000,9,     -999.0,9,     -999.0,9,     -999.0,9,     -999.0,9,     -999.0,9
33RR20160208,       I08S,      46,          1,          9,          9,2,20160302,       1140,   -48.0490,    92.1430,       3516,  1930.2,   2.2960,  34.7340,2,  34.7347,2,    192.0,2,   191.6,2,    76.2,2,    0.00,2,   30.56,2,    0.00,2,    2.11,2,   0.216,2,   0.117,2,   0.004,2,   0.063413567,2,  -999.0,9, -999.00,9,-999.0000,9,  -999.00,   2.2960, -999.00,9,  -999.0,9,  -999.0, -999.00,9,-999.000,9,    40.5,2, -999.00,9,     -999.0,1, -999.00,9, 20160302,     1217, -48.0490,  92.1430,     -999.0,9,     -999.0,9,     -999.0,9,-999.0000,9,-999.0000,9,-999.0000,9,-999.0000,9,-999.0000,9,-999.0000,9,-999.0000,9,     -999.0,9,     -999.0,9,     -999.0,9,     -999.0,9,     -999.0,9
33RR20160208,       I08S,      46,          1,         10,         10,2,20160302,       1140,   -48.0490,    92.1430,       3516,  1763.2,   2.3945,  34.7155,2,  34.7201,2,    188.3,2,   188.8,2,    74.0,2,    0.00,2,   30.94,2,    0.00,2,    2.14,2,   0.209,2,   0.114,2,   0.003,2,   0.060393873,2,  2242.7,2, 2344.44,2,   7.5972,2,    25.07,   2.3942,    0.49,6,  -129.3,3,     1.9, -999.00,9,-999.000,9,    39.6,2, -999.00,9,     -999.0,1, -999.00,9, 20160302,     1221, -48.0490,  92.1429,     -999.0,9,     -999.0,9,     -999.0,9,-999.0000,9,-999.0000,9,-999.0000,9,-999.0000,9,-999.0000,9,-999.0000,9,-999.0000,9,     -999.0,9,     -999.0,9,     -999.0,9,     -999.0,9,     -999.0,9
33RR20160208,       I08S,      46,          1,         11,         11,2,20160302,       1140,   -48.0490,    92.1430,       3516,  1665.1,   2.4601,  34.6935,2,  34.6963,2,    184.7,2,   184.7,2,    72.8,2,    0.00,2,   31.56,2,    0.00,2,    2.18,2,   0.256,2,   0.137,2,   0.006,2,   0.049321663,2,  2244.7,6, 2341.47,2,   7.5887,6,    25.08,   2.4602, -999.00,9,  -999.0,9,  -999.0, -999.00,9,-999.000,9,    38.5,2, -999.00,9,     -999.0,1, -999.00,9, 20160302,     1224, -48.0490,  92.1430,     -999.0,9,     -999.0,9,     -999.0,9,-999.0000,9,-999.0000,9,-999.0000,9,-999.0000,9,-999.0000,9,-999.0000,9,-999.0000,9,     -999.0,9,     -999.0,9,     -999.0,9,     -999.0,9,     -999.0,9
33RR20160208,       I08S,      46,          1,         12,         12,2,20160302,       1140,   -48.0490,    92.1430,       3516,  1563.5,   2.5062,  34.6686,2,  34.6704,2,    181.1,2,   181.9,2,    72.1,2,    0.00,2,   31.94,2,    0.00,2,    2.23,2,   0.326,2,   0.170,2,   0.012,2,   0.056367615,2,  -999.0,9, -999.00,9,-999.0000,9,  -999.00,   2.5059, -999.00,9,  -999.0,9,  -999.0, -999.00,9,-999.000,9,    39.6,2, -999.00,9,     -999.0,1, -999.00,9, 20160302,     1227, -48.0490,  92.1430,     -999.0,9,     -999.0,9,     -999.0,9,-999.0000,9,-999.0000,9,-999.0000,9,-999.0000,9,-999.0000,9,-999.0000,9,-999.0000,9,     -999.0,9,     -999.0,9,     -999.0,9,     -999.0,9,     -999.0,9
33RR20160208,       I08S,      46,          1,         13,         13,2,20160302,       1140,   -48.0490,    92.1430,       3516,  1464.0,   2.5359,  34.6356,2,  34.6380,2,    178.2,2,   178.3,2,    71.4,2,    0.00,2,   33.01,2,    0.00,2,    2.26,2,   0.428,2,   0.224,2,   0.018,2,   0.109715536,2,  -999.0,9, -999.00,9,-999.0000,9,  -999.00,   2.5357, -999.00,9,  -999.0,9,  -999.0, -999.00,9,-999.000,9,    39.3,2, -999.00,9,     -999.0,1, -999.00,9, 20160302,     1230, -48.0490,  92.1429,     -999.0,9,     -999.0,9,     -999.0,9,-999.0000,9,-999.0000,9,-999.0000,9,-999.0000,9,-999.0000,9,-999.0000,9,-999.0000,9,     -999.0,9,     -999.0,9,     -999.0,9,     -999.0,9,     -999.0,9
33RR20160208,       I08S,      46,          1,         14,         14,2,20160302,       1140,   -48.0490,    92.1430,       3516,  1365.8,   2.6381,  34.5974,2,  34.5985,2,    177.0,2,   178.0,2,    69.1,2,    0.00,2,   33.18,2,    0.00,2,    2.30,2,   0.533,2,   0.275,2,   0.024,2,     0.1902407,2,  2247.2,2, 2334.68,2,   7.5642,6,    25.09,   2.6383, -999.00,9,  -999.0,9,  -999.0, -999.00,9,-999.000,9,    40.2,2, -999.00,9,     -999.0,1, -999.00,9, 20160302,     1233, -48.0490,  92.1430,     -999.0,9,     -999.0,9,     -999.0,9,-999.0000,9,-999.0000,9,-999.0000,9,-999.0000,9,-999.0000,9,-999.0000,9,-999.0000,9,     -999.0,9,     -999.0,9,     -999.0,9,     -999.0,9,     -999.0,9
33RR20160208,       I08S,      46,          1,         15,         15,2,20160302,       1140,   -48.0490,    92.1430,       3516,  1265.9,   2.7162,  34.5623,2,  34.5651,2,    176.4,2,   176.1,2,    66.8,2,    0.00,2,   33.79,2,    0.00,2,    2.31,2,   0.646,2,   0.328,2,   0.033,2,   0.227483589,2,  -999.0,9, -999.00,9,-999.0000,9,  -999.00,   2.7157, -999.00,9,  -999.0,9,  -999.0, -999.00,9,-999.000,9,    38.6,2, -999.00,9,     -999.0,1, -999.00,9, 20160302,     1236, -48.0490,  92.1430,     -999.0,9,     -999.0,9,     -999.0,9,-999.0000,9,-999.0000,9,-999.0000,9,-999.0000,9,-999.0000,9,-999.0000,9,-999.0000,9,     -999.0,9,     -999.0,9,     -999.0,9,     -999.0,9,     -999.0,9
33RR20160208,       I08S,      46,          1,         16,         16,2,20160302,       1140,   -48.0490,    92.1430,       3516,  1166.5,   2.8412,  34.5213,2,  34.5218,2,    177.6,2,   177.8,2,    63.5,2,    0.00,2,   34.00,2,    0.00,2,    2.34,2,   0.817,2,   0.407,2,   0.045,2,   0.249628009,2,  2243.0,2, 2327.91,2,   7.5584,6,    25.09,   2.8414, -999.00,9,  -999.0,9,  -999.0, -999.00,9,-999.000,9,    38.3,2, -999.00,9,     -999.0,1, -999.00,9, 20160302,     1239, -48.0490,  92.1430,     -999.0,9,     -999.0,9,     -999.0,9,-999.0000,9,-999.0000,9,-999.0000,9,-999.0000,9,-999.0000,9,-999.0000,9,-999.0000,9,     -999.0,9,     -999.0,9,     -999.0,9,     -999.0,9,     -999.0,9
33RR20160208,       I08S,      46,          1,         17,         17,2,20160302,       1140,   -48.0490,    92.1430,       3516,  1068.6,   2.9119,  34.4750,2,  34.4766,2,    180.9,2,   179.9,2,    59.5,2,    0.00,2,   34.15,2,    0.00,2,    2.36,2,   1.064,2,   0.529,2,   0.063,2,   0.287877462,2,  -999.0,9, -999.00,9,-999.0000,9,     9.00,   2.9119, -999.00,9,  -999.0,9,  -999.0, -999.00,9,-999.000,9,    39.9,2, -999.00,9,     -999.0,1, -999.00,9, 20160302,     1242, -48.0490,  92.1430,     -999.0,9,     -999.0,9,     -999.0,9,-999.0000,9,-999.0000,9,-999.0000,9,-999.0000,9,-999.0000,9,-999.0000,9,-999.0000,9,     -999.0,9,     -999.0,9,     -999.0,9,     -999.0,9,     -999.0,9
33RR20160208,       I08S,      46,          1,         18,         37,2,20160302,       1140,   -48.0490,    92.1430,       3516,   967.5,   3.0601,  34.4057,2,  34.4080,2,    188.3,2,   188.6,2,    52.3,2,    0.00,2,   33.91,2,    0.00,2,    2.33,2,   1.556,2,   0.768,2,   0.100,2,   0.461006565,2,  2229.8,2, 2315.01,2,   7.5641,6,    24.99,   3.0599, -999.00,9,  -999.0,9,  -999.0, -999.00,9,-999.000,9,    38.7,2, -999.00,9,     -999.0,1, -999.00,9, 20160302,     1245, -48.0490,  92.1430,     -999.0,9,     -999.0,9,     -999.0,9,-999.0000,9,-999.0000,9,-999.0000,9,-999.0000,9,-999.0000,9,-999.0000,9,-999.0000,9,     -999.0,9,     -999.0,9,     -999.0,9,     -999.0,9,     -999.0,9
33RR20160208,       I08S,      46,          1,         19,         19,2,20160302,       1140,   -48.0490,    92.1430,       3516,   866.9,   3.3925,  34.3742,2,  34.3760,2,    194.5,2,   195.0,2,    45.9,2,    0.00,2,   33.20,2,    0.00,2,    2.28,2,   1.831,2,   0.894,2,   0.115,2,    0.50428884,2,  -999.0,9, -999.00,9,-999.0000,9,  -999.00,   3.3925, -999.00,9,  -999.0,9,  -999.0, -999.00,9,-999.000,9,    39.7,2, -999.00,9,     -999.0,1, -999.00,9, 20160302,     1248, -48.0490,  92.1430,     -999.0,9,     -999.0,9,     -999.0,9,-999.0000,9,-999.0000,9,-999.0000,9,-999.0000,9,-999.0000,9,-999.0000,9,-999.0000,9,     -999.0,9,     -999.0,9,     -999.0,9,     -999.0,9,     -999.0,9
33RR20160208,       I08S,      46,          1,         20,         20,2,20160302,       1140,   -48.0490,    92.1430,       3516,   764.6,   3.6319,  34.3223,2,  34.3263,2,    208.8,2,   207.5,2,    38.0,2,    0.00,2,   32.13,2,    0.00,2,    2.20,2,   2.289,2,   1.152,2,   0.151,2,   0.678424508,2,  2208.7,2, 2303.04,2,   7.5932,6,    24.99,   3.6313, -999.00,9,  -999.0,9,  -999.0, -999.00,9,-999.000,9,    39.4,2, -999.00,9,     -999.0,1, -999.00,9, 20160302,     1251, -48.0490,  92.1430,     -999.0,9,     -999.0,9,     -999.0,9,-999.0000,9,-999.0000,9,-999.0000,9,-999.0000,9,-999.0000,9,-999.0000,9,-999.0000,9,     -999.0,9,     -999.0,9,     -999.0,9,     -999.0,9,     -999.0,9
33RR20160208,       I08S,      46,          1,         21,         21,2,20160302,       1140,   -48.0490,    92.1430,       3516,   663.2,   4.0063,  34.2948,2,  34.2963,2,    217.1,2,   216.3,2,    30.9,2,    0.00,2,   30.80,2,    0.00,2,    2.11,2,   2.710,2,   1.382,2,   0.185,2,   0.880743982,2,  -999.0,9, -999.00,9,-999.0000,9,  -999.00,   4.0078, -999.00,9,  -999.0,9,  -999.0, -999.00,9,-999.000,9,    39.9,2, -999.00,9,     -999.0,1, -999.00,9, 20160302,     1254, -48.0490,  92.1430,     -999.0,9,     -999.0,9,     -999.0,9,-999.0000,9,-999.0000,9,-999.0000,9,-999.0000,9,-999.0000,9,-999.0000,9,-999.0000,9,     -999.0,9,     -999.0,9,     -999.0,9,     -999.0,9,     -999.0,9
33RR20160208,       I08S,      46,          1,         22,         22,2,20160302,       1140,   -48.0490,    92.1430,       3516,   563.1,   4.4019,  34.2461,2,  34.2500,2,    232.5,2,   230.9,2,    22.6,2,    0.00,2,   29.25,2,    0.00,2,    1.99,2,   3.251,2,   1.704,2,   0.229,2,     1.1756674,2,  2184.4,2, 2287.71,2,   7.6281,2,    24.98,   4.4020, -999.00,9,  -999.0,9,  -999.0, -999.00,9,-999.000,9,    40.4,2, -999.00,9,     -999.0,1, -999.00,9, 20160302,     1257, -48.0490,  92.1430,     -999.0,9,     -999.0,9,     -999.0,9,-999.0000,9,-999.0000,9,-999.0000,9,-999.0000,9,-999.0000,9,-999.0000,9,-999.0000,9,     -999.0,9,     -999.0,9,     -999.0,9,     -999.0,9,     -999.0,9
33RR20160208,       I08S,      46,          1,         23,         23,2,20160302,       1140,   -48.0490,    92.1430,       3516,   485.2,   5.2634,  34.2979,2,  34.2993,2,    225.6,2,   225.5,2,    19.6,2,    0.00,2,   27.81,2,    0.00,2,    1.90,2,-999.000,9,-999.000,9,-999.000,9,-999.000000000,9,  -999.0,9, -999.00,9,-999.0000,9,     9.00,   5.2659, -999.00,9,  -999.0,9,  -999.0, -999.00,9,-999.000,9,    41.7,2, -999.00,9,     -999.0,1, -999.00,9, 20160302,     1259, -48.0490,  92.1430,     -999.0,9,     -999.0,9,     -999.0,9,-999.0000,9,-999.0000,9,-999.0000,9,-999.0000,9,-999.0000,9,-999.0000,9,-999.0000,9,     -999.0,9,     -999.0,9,     -999.0,9,     -999.0,9,     -999.0,9
33RR20160208,       I08S,      46,          1,         24,         24,2,20160302,       1140,   -48.0490,    92.1430,       3516,   434.6,   5.7852,  34.3217,2,  34.3238,2,    224.4,2,   225.0,2,    16.8,2,    0.00,2,   26.62,2,    0.00,2,    1.81,2,   3.335,2,   1.765,2,   0.218,2,    1.28538293,2,  2171.5,2, 2285.83,2,   7.6532,2,    25.00,   5.7892, -999.00,9,  -999.0,9,  -999.0, -999.00,9,-999.000,9,    40.2,2, -999.00,9,     -999.0,1, -999.00,9, 20160302,     1301, -48.0490,  92.1430,     -999.0,9,     -999.0,9,     -999.0,9,-999.0000,9,-999.0000,9,-999.0000,9,-999.0000,9,-999.0000,9,-999.0000,9,-999.0000,9,     -999.0,9,     -999.0,9,     -999.0,9,     -999.0,9,     -999.0,9
33RR20160208,       I08S,      46,          1,         25,         25,2,20160302,       1140,   -48.0490,    92.1430,       3516,   385.2,   6.3536,  34.3458,2,  34.3432,2,    228.4,2,   227.1,2,    14.2,2,    0.00,2,   25.16,2,    0.00,2,    1.70,2,-999.000,9,-999.000,9,-999.000,9,-999.000000000,9,  2167.2,2, 2285.76,2,   7.6693,2,    25.00,   6.3543, -999.00,9,  -999.0,9,  -999.0, -999.00,9,-999.000,9,    41.1,2, -999.00,9,     -999.0,1, -999.00,9, 20160302,     1303, -48.0490,  92.1429,     -999.0,9,     -999.0,9,     -999.0,9,-999.0000,9,-999.0000,9,-999.0000,9,-999.0000,9,-999.0000,9,-999.0000,9,-999.0000,9,     -999.0,9,     -999.0,9,     -999.0,9,     -999.0,9,     -999.0,9
33RR20160208,       I08S,      46,          1,         26,         26,2,20160302,       1140,   -48.0490,    92.1430,       3516,   334.5,   7.0337,  34.3882,2,  34.3903,2,    231.0,2,   229.9,2,    11.5,2,    0.00,2,   23.41,2,    0.00,2,    1.59,2,   3.398,2,   1.830,2,   0.200,2,    1.46153173,2,  2159.5,2, 2286.83,2,   7.6896,2,    25.01,   7.0318, -999.00,9,  -999.0,9,  -999.0, -999.00,9,-999.000,9,    41.9,2,   25.90,2,     -999.0,1, -999.00,9, 20160302,     1305, -48.0490,  92.1430,     -999.0,9,     -999.0,9,     -999.0,9,-999.0000,9,-999.0000,9,-999.0000,9,-999.0000,9,-999.0000,9,-999.0000,9,-999.0000,9,     -999.0,9,     -999.0,9,     -999.0,9,     -999.0,9,     -999.0,9
33RR20160208,       I08S,      46,          1,         27,         27,2,20160302,       1140,   -48.0490,    92.1430,       3516,   285.4,   7.5691,  34.4206,2,  34.4236,2,    235.2,2,   233.3,2,     9.5,2,    0.00,2,   21.65,2,    0.00,2,    1.48,2,-999.000,9,-999.000,9,-999.000,9,-999.000000000,9,  2152.3,2, 2286.78,2,   7.7076,2,    25.00,   7.5724, -999.00,9,  -999.0,9,  -999.0, -999.00,9,-999.000,9,    42.6,2,   23.30,2,     -999.0,1, -999.00,9, 20160302,     1308, -48.0490,  92.1429,     -999.0,9,     -999.0,9,     -999.0,9,-999.0000,9,-999.0000,9,-999.0000,9,-999.0000,9,-999.0000,9,-999.0000,9,-999.0000,9,     -999.0,9,     -999.0,9,     -999.0,9,     -999.0,9,     -999.0,9