BOTTLE,20220706CCHSIOAMB
EXPOCODE,SECT_ID,STNNBR,CASTNO,SAMPNO,BTLNBR,BTLNBR_FLAG_W,DATE,TIME,LATITUDE,LONGITUDE,DEPTH,CTDPRS,CTDTMP,CTDSAL,CTDSAL_FLAG_W,SALNTY,SALNTY_FLAG_W,CTDOXY,CTDOXY_FLAG_W,OXYGEN,OXYGEN_FLAG_W,SILCAT,SILCAT_FLAG_W,NH4,NH4_FLAG_W,NITRAT,NITRAT_FLAG_W,NITRIT,NITRIT_FLAG_W,PHSPHT,PHSPHT_FLAG_W,CFC-11,CFC-11_FLAG_W,CFC-12,CFC-12_FLAG_W,CFC113,CFC113_FLAG_W,SF6,SF6_FLAG_W,TCARBN,TCARBN_FLAG_W,ALKALI,ALKALI_FLAG_W,PH_TOT,PH_TOT_FLAG_W,PH_TMP,REFTMP,DELC13,DELC13_FLAG_W,DELC14,DELC14_FLAG_W,C14ERR,DELO18,DELO18_FLAG_W,POC,POC_FLAG_W,DOC,DOC_FLAG_W,TDN,TDN_FLAG_W,TON,TON_FLAG_W,D15N_NO3,D15N_NO3_FLAG_W,BTL_DATE,BTL_TIME,BTL_LAT,BTL_LON,14C-DOC,14C-DOC_FLAG_W,CHLORA,CHLORA_FLAG_W,HPLC,HPLC_FLAG_W,CDOM325,CDOM325_FLAG_W,CDOM340,CDOM340_FLAG_W,CDOM380,CDOM380_FLAG_W,CDOM412,CDOM412_FLAG_W,CDOM443,CDOM443_FLAG_W,CDOM490,CDOM490_FLAG_W,CDOM555,CDOM555_FLAG_W,CDOMSL,CDOMSL_FLAG_W,CDOMSN,CDOMSN_FLAG_W,D18O_NO3,D18O_NO3_FLAG_W,D15N_NO2+NO3,D15N_NO2+NO3_FLAG_W,D18O_NO2+NO3,D18O_NO2+NO3_FLAG_W
,,,,,,,,,,,METERS,DBAR,ITS-90,PSS-78,,PSS-78,,UMOL/KG,,UMOL/KG,,UMOL/KG,,UMOL/KG,,UMOL/KG,,UMOL/KG,,UMOL/KG,,PMOL/KG,,PMOL/KG,,PMOL/KG,,FMOL/KG,,UMOL/KG,,UMOL/KG,,,,DEG C,DEG C,/MILLE,,/MILLE,,/MILLE,/MILLE,,UG/KG,,UMOL/KG,,UMOL/KG,,UMOL/KG,,/MILLE,,,,,,/MILLE,,MG/M3,,,,1/M,,1/M,,1/M,,1/M,,1/M,,1/M,,1/M,,1/NM,,1/NM,,/MILLE,,/MILLE,,/MILLE,
33RR20160208,       I08S,      69,          1,          1,          1,2,20160308,       1252,   -35.4981,    94.9909,       4097,  4105.1,   1.0316,  34.7126,2,  34.7121,2,    206.2,2,   206.4,2,   119.5,2,    0.00,2,   32.13,2,    0.00,2,    2.22,2,   0.096,2,   0.057,2,   0.000,2,             0,2,  2273.0,2, 2376.86,2,   7.6190,2,    25.01,   1.0317, -999.00,9,  -999.0,9,  -999.0, -999.00,9,-999.000,9,  -999.0,9, -999.00,9,     -999.0,9, -999.00,9, 20160308,     1252, -35.4981,  94.9909,     -999.0,9,     -999.0,9,     -999.0,9,-999.0000,9,-999.0000,9,-999.0000,9,-999.0000,9,-999.0000,9,-999.0000,9,-999.0000,9,     -999.0,9,     -999.0,9,     -999.0,9,     -999.0,9,     -999.0,9
33RR20160208,       I08S,      69,          1,          2,          2,2,20160308,       1252,   -35.4981,    94.9909,       4097,  3892.5,   1.0439,  34.7144,2,  34.7137,2,    205.4,2,   206.0,2,   118.3,2,    0.00,2,   32.03,2,    0.00,2,    2.20,2,-999.000,9,-999.000,9,-999.000,9,-999.000000000,9,  -999.0,9, -999.00,9,-999.0000,9,     9.00,   1.0438, -999.00,9,  -999.0,9,  -999.0, -999.00,9,-999.000,9,  -999.0,9, -999.00,9,     -999.0,9, -999.00,9, 20160308,     1257, -35.4980,  94.9909,     -999.0,9,     -999.0,9,     -999.0,9,-999.0000,9,-999.0000,9,-999.0000,9,-999.0000,9,-999.0000,9,-999.0000,9,-999.0000,9,     -999.0,9,     -999.0,9,     -999.0,9,     -999.0,9,     -999.0,9
33RR20160208,       I08S,      69,          1,          3,          3,2,20160308,       1252,   -35.4981,    94.9909,       4097,  3645.6,   1.0713,  34.7167,2,  34.7168,2,    205.7,2,   205.9,2,   116.8,2,    0.00,2,   31.86,2,    0.00,2,    2.19,2,   0.096,2,   0.059,2,   0.000,2,             0,2,  -999.0,9, -999.00,9,-999.0000,9,  -999.00,   1.0715, -999.00,9,  -999.0,9,  -999.0, -999.00,9,-999.000,9,  -999.0,9, -999.00,9,     -999.0,9, -999.00,9, 20160308,     1303, -35.4981,  94.9909,     -999.0,9,     -999.0,9,     -999.0,9,-999.0000,9,-999.0000,9,-999.0000,9,-999.0000,9,-999.0000,9,-999.0000,9,-999.0000,9,     -999.0,9,     -999.0,9,     -999.0,9,     -999.0,9,     -999.0,9
33RR20160208,       I08S,      69,          1,          4,          4,2,20160308,       1252,   -35.4981,    94.9909,       4097,  3398.1,   1.1769,  34.7224,2,  34.7227,2,    205.2,2,   205.7,2,   112.5,2,    0.00,2,   31.61,2,    0.00,2,    2.16,2,-999.000,9,-999.000,9,-999.000,9,-999.000000000,9,  -999.0,9, -999.00,9,-999.0000,9,  -999.00,   1.1770, -999.00,9,  -999.0,9,  -999.0, -999.00,9,-999.000,9,  -999.0,9, -999.00,9,     -999.0,9, -999.00,9, 20160308,     1308, -35.4980,  94.9909,     -999.0,9,     -999.0,9,     -999.0,9,-999.0000,9,-999.0000,9,-999.0000,9,-999.0000,9,-999.0000,9,-999.0000,9,-999.0000,9,     -999.0,9,     -999.0,9,     -999.0,9,     -999.0,9,     -999.0,9
33RR20160208,       I08S,      69,          1,          5,          5,2,20160308,       1252,   -35.4981,    94.9909,       4097,  3100.8,   1.4160,  34.7336,2,  34.7331,2,    202.6,2,   202.6,2,   105.0,2,    0.00,2,   31.21,2,    0.00,2,    2.14,2,   0.072,2,   0.052,2,   0.000,2,             0,2,  2260.3,2, 2362.61,2,   7.6141,6,    25.02,   1.4156, -999.00,9,  -999.0,9,  -999.0, -999.00,9,-999.000,9,  -999.0,9, -999.00,9,     -999.0,9, -999.00,9, 20160308,     1315, -35.4981,  94.9909,     -999.0,9,     -999.0,9,     -999.0,9,-999.0000,9,-999.0000,9,-999.0000,9,-999.0000,9,-999.0000,9,-999.0000,9,-999.0000,9,     -999.0,9,     -999.0,9,     -999.0,9,     -999.0,9,     -999.0,9
33RR20160208,       I08S,      69,          1,          6,         38,2,20160308,       1252,   -35.4981,    94.9909,       4097,  2836.8,   1.6907,  34.7426,2,  34.7431,2,    198.6,2,   198.4,2,    96.4,2,    0.00,2,   30.89,2,    0.00,2,    2.14,2,-999.000,9,-999.000,9,-999.000,9,-999.000000000,9,  -999.0,9, -999.00,9,-999.0000,9,  -999.00,   1.6907, -999.00,9,  -999.0,9,  -999.0, -999.00,9,-999.000,9,  -999.0,9, -999.00,9,     -999.0,9, -999.00,9, 20160308,     1320, -35.4981,  94.9909,     -999.0,9,     -999.0,9,     -999.0,9,-999.0000,9,-999.0000,9,-999.0000,9,-999.0000,9,-999.0000,9,-999.0000,9,-999.0000,9,     -999.0,9,     -999.0,9,     -999.0,9,     -999.0,9,     -999.0,9
33RR20160208,       I08S,      69,          1,          7,          7,2,20160308,       1252,   -35.4981,    94.9909,       4097,  2589.0,   1.9902,  34.7443,2,  34.7447,2,    193.7,2,   193.4,2,    88.5,2,    0.00,2,   30.77,2,    0.00,2,    2.13,2,   0.043,2,   0.040,2,   0.000,2,         0.004,2,  -999.0,9, -999.00,9,-999.0000,9,  -999.00,   1.9908, -999.00,9,  -999.0,9,  -999.0, -999.00,9,-999.000,9,  -999.0,9, -999.00,9,     -999.0,9, -999.00,9, 20160308,     1326, -35.4981,  94.9910,     -999.0,9,     -999.0,9,     -999.0,9,-999.0000,9,-999.0000,9,-999.0000,9,-999.0000,9,-999.0000,9,-999.0000,9,-999.0000,9,     -999.0,9,     -999.0,9,     -999.0,9,     -999.0,9,     -999.0,9
33RR20160208,       I08S,      69,          1,          8,          8,2,20160308,       1252,   -35.4981,    94.9909,       4097,  2335.2,   2.2050,  34.7284,2,  34.7288,2,    183.1,2,   183.7,2,    88.2,2,    0.00,2,   31.59,2,    0.00,2,    2.18,2,-999.000,9,-999.000,9,-999.000,9,-999.000000000,9,  -999.0,9, -999.00,9,-999.0000,9,     9.00,   2.2053, -999.00,9,  -999.0,9,  -999.0, -999.00,9,-999.000,9,  -999.0,9, -999.00,9,     -999.0,9, -999.00,9, 20160308,     1331, -35.4981,  94.9909,     -999.0,9,     -999.0,9,     -999.0,9,-999.0000,9,-999.0000,9,-999.0000,9,-999.0000,9,-999.0000,9,-999.0000,9,-999.0000,9,     -999.0,9,     -999.0,9,     -999.0,9,     -999.0,9,     -999.0,9
33RR20160208,       I08S,      69,          1,          9,          9,2,20160308,       1252,   -35.4981,    94.9909,       4097,  2086.7,   2.4405,  34.6989,2,  34.6994,2,    170.3,2,   171.6,2,    88.6,2,    0.00,2,   32.80,2,    0.00,2,    2.28,2,   0.046,2,   0.036,2,   0.000,2,         0.027,2,  2267.8,6, 2359.16,2,   7.5859,6,    24.99,   2.4410, -999.00,9,  -999.0,9,  -999.0, -999.00,9,-999.000,9,  -999.0,9, -999.00,9,     -999.0,9, -999.00,9, 20160308,     1337, -35.4980,  94.9909,     -999.0,9,     -999.0,9,     -999.0,9,-999.0000,9,-999.0000,9,-999.0000,9,-999.0000,9,-999.0000,9,-999.0000,9,-999.0000,9,     -999.0,9,     -999.0,9,     -999.0,9,     -999.0,9,     -999.0,9
33RR20160208,       I08S,      69,          1,         10,         10,2,20160308,       1252,   -35.4981,    94.9909,       4097,  1865.2,   2.6887,  34.6568,2,  34.6580,2,    162.8,2,   162.8,2,    85.0,2,    0.00,2,   33.76,2,    0.00,2,    2.35,2,-999.000,9,-999.000,9,-999.000,9,-999.000000000,9,  -999.0,9, -999.00,9,-999.0000,9,  -999.00,   2.6884, -999.00,9,  -999.0,9,  -999.0, -999.00,9,-999.000,9,  -999.0,9, -999.00,9,     -999.0,9, -999.00,9, 20160308,     1342, -35.4981,  94.9910,     -999.0,9,     -999.0,9,     -999.0,9,-999.0000,9,-999.0000,9,-999.0000,9,-999.0000,9,-999.0000,9,-999.0000,9,-999.0000,9,     -999.0,9,     -999.0,9,     -999.0,9,     -999.0,9,     -999.0,9
33RR20160208,       I08S,      69,          1,         11,         11,2,20160308,       1252,   -35.4981,    94.9909,       4097,  1736.8,   2.8239,  34.6262,2,  34.6268,2,    159.4,2,   160.2,2,    81.6,2,    0.00,2,   34.16,2,    0.00,2,    2.37,2,   0.098,2,   0.063,2,   0.000,2,         0.013,2,  -999.0,9, -999.00,9,-999.0000,9,     9.00,   2.8242, -999.00,9,  -999.0,9,  -999.0, -999.00,9,-999.000,9,  -999.0,9, -999.00,9,     -999.0,9, -999.00,9, 20160308,     1345, -35.4980,  94.9910,     -999.0,9,     -999.0,9,     -999.0,9,-999.0000,9,-999.0000,9,-999.0000,9,-999.0000,9,-999.0000,9,-999.0000,9,-999.0000,9,     -999.0,9,     -999.0,9,     -999.0,9,     -999.0,9,     -999.0,9
33RR20160208,       I08S,      69,          1,         12,         12,2,20160308,       1252,   -35.4981,    94.9909,       4097,  1634.9,   2.9627,  34.5979,2,  34.5988,2,    158.0,2,   157.4,2,    78.8,2,    0.00,2,   34.48,2,    0.00,2,    2.39,2,   0.126,2,   0.073,2,   0.000,2,          0.03,2,  -999.0,9, -999.00,9,-999.0000,9,  -999.00,   2.9627, -999.00,9,  -999.0,9,  -999.0, -999.00,9,-999.000,9,  -999.0,9, -999.00,9,     -999.0,9, -999.00,9, 20160308,     1348, -35.4981,  94.9910,     -999.0,9,     -999.0,9,     -999.0,9,-999.0000,9,-999.0000,9,-999.0000,9,-999.0000,9,-999.0000,9,-999.0000,9,-999.0000,9,     -999.0,9,     -999.0,9,     -999.0,9,     -999.0,9,     -999.0,9
33RR20160208,       I08S,      69,          1,         13,         13,2,20160308,       1252,   -35.4981,    94.9909,       4097,  1533.1,   3.1005,  34.5598,2,  34.5597,2,    159.2,2,   158.6,2,    73.4,2,    0.00,2,   34.60,2,    0.00,2,    2.42,2,   0.242,2,   0.249,4,   0.003,2,         0.041,2,  -999.0,9, -999.00,9,-999.0000,9,  -999.00,   3.1005, -999.00,9,  -999.0,9,  -999.0, -999.00,9,-999.000,9,  -999.0,9, -999.00,9,     -999.0,9, -999.00,9, 20160308,     1351, -35.4981,  94.9910,     -999.0,9,     -999.0,9,     -999.0,9,-999.0000,9,-999.0000,9,-999.0000,9,-999.0000,9,-999.0000,9,-999.0000,9,-999.0000,9,     -999.0,9,     -999.0,9,     -999.0,9,     -999.0,9,     -999.0,9
33RR20160208,       I08S,      69,          1,         14,         14,2,20160308,       1252,   -35.4981,    94.9909,       4097,  1435.0,   3.2843,  34.5223,2,  34.5221,2,    161.4,2,   160.0,2,    68.5,2,    0.00,2,   34.60,2,    0.00,2,    2.43,2,   0.320,2,   0.172,2,   0.004,2,         0.142,2,  -999.0,9, -999.00,9,-999.0000,9,     9.00,   3.2841, -999.00,9,  -999.0,9,  -999.0, -999.00,9,-999.000,9,  -999.0,9, -999.00,9,     -999.0,9, -999.00,9, 20160308,     1354, -35.4981,  94.9910,     -999.0,9,     -999.0,9,     -999.0,9,-999.0000,9,-999.0000,9,-999.0000,9,-999.0000,9,-999.0000,9,-999.0000,9,-999.0000,9,     -999.0,9,     -999.0,9,     -999.0,9,     -999.0,9,     -999.0,9
33RR20160208,       I08S,      69,          1,         15,         15,2,20160308,       1252,   -35.4981,    94.9909,       4097,  1333.5,   3.4987,  34.4825,2,  34.4823,2,    167.0,2,   165.0,2,    61.8,2,    0.00,2,   34.32,2,    0.00,2,    2.39,2,   0.493,2,   0.258,2,   0.011,2,         0.162,2,  -999.0,9, -999.00,9,-999.0000,9,  -999.00,   3.4994, -999.00,9,  -999.0,9,  -999.0, -999.00,9,-999.000,9,  -999.0,9, -999.00,9,     -999.0,9, -999.00,9, 20160308,     1357, -35.4981,  94.9910,     -999.0,9,     -999.0,9,     -999.0,9,-999.0000,9,-999.0000,9,-999.0000,9,-999.0000,9,-999.0000,9,-999.0000,9,-999.0000,9,     -999.0,9,     -999.0,9,     -999.0,9,     -999.0,9,     -999.0,9
33RR20160208,       I08S,      69,          1,         16,         16,2,20160308,       1252,   -35.4981,    94.9909,       4097,  1233.2,   3.7111,  34.4326,2,  34.4325,2,    178.5,2,   176.6,2,    52.6,2,    0.00,2,   33.51,2,    0.00,2,    2.32,2,   0.860,2,   0.433,2,   0.030,2,         0.242,2,  2236.1,2, 2321.03,2,   7.5766,6,    25.00,   3.7115, -999.00,9,  -999.0,9,  -999.0, -999.00,9,-999.000,9,  -999.0,9, -999.00,9,     -999.0,9, -999.00,9, 20160308,     1400, -35.4980,  94.9910,     -999.0,9,     -999.0,9,     -999.0,9,-999.0000,9,-999.0000,9,-999.0000,9,-999.0000,9,-999.0000,9,-999.0000,9,-999.0000,9,     -999.0,9,     -999.0,9,     -999.0,9,     -999.0,9,     -999.0,9
33RR20160208,       I08S,      69,          1,         17,         17,2,20160308,       1252,   -35.4981,    94.9909,       4097,  1135.0,   4.0255,  34.3758,2,  34.3698,4,    195.4,2,   192.9,2,    40.6,2,    0.00,2,   32.16,2,    0.00,2,    2.21,2,   1.495,2,   0.739,2,   0.071,2,         0.283,2,  -999.0,9, -999.00,9,-999.0000,9,     9.00,   4.0235, -999.00,9,  -999.0,9,  -999.0, -999.00,9,-999.000,9,  -999.0,9, -999.00,9,     -999.0,9, -999.00,9, 20160308,     1403, -35.4981,  94.9910,     -999.0,9,     -999.0,9,     -999.0,9,-999.0000,9,-999.0000,9,-999.0000,9,-999.0000,9,-999.0000,9,-999.0000,9,-999.0000,9,     -999.0,9,     -999.0,9,     -999.0,9,     -999.0,9,     -999.0,9
33RR20160208,       I08S,      69,          1,         18,         37,2,20160308,       1252,   -35.4981,    94.9909,       4097,  1036.2,   4.5293,  34.3481,2,  34.3484,2,    202.0,2,   202.3,2,    31.3,2,    0.00,2,   30.66,2,    0.00,2,    2.10,2,   2.061,2,   1.046,2,   0.104,2,         0.448,2,  2201.0,2, 2298.78,2,   7.6135,2,    24.97,   4.5326, -999.00,9,  -999.0,9,  -999.0, -999.00,9,-999.000,9,  -999.0,9, -999.00,9,     -999.0,9, -999.00,9, 20160308,     1406, -35.4981,  94.9910,     -999.0,9,     -999.0,9,     -999.0,9,-999.0000,9,-999.0000,9,-999.0000,9,-999.0000,9,-999.0000,9,-999.0000,9,-999.0000,9,     -999.0,9,     -999.0,9,     -999.0,9,     -999.0,9,     -999.0,9
33RR20160208,       I08S,      69,          1,         19,         19,2,20160308,       1252,   -35.4981,    94.9909,       4097,   935.3,   5.5578,  34.3708,2,  34.3696,2,    205.9,2,   207.1,2,    21.9,2,    0.00,2,   28.34,2,    0.00,2,    1.92,2,   2.560,2,   1.283,2,   0.117,2,         0.583,2,  -999.0,9, -999.00,9,-999.0000,9,  -999.00,   5.5662, -999.00,9,  -999.0,9,  -999.0, -999.00,9,-999.000,9,  -999.0,9, -999.00,9,     -999.0,9, -999.00,9, 20160308,     1409, -35.4981,  94.9910,     -999.0,9,     -999.0,9,     -999.0,9,-999.0000,9,-999.0000,9,-999.0000,9,-999.0000,9,-999.0000,9,-999.0000,9,-999.0000,9,     -999.0,9,     -999.0,9,     -999.0,9,     -999.0,9,     -999.0,9
33RR20160208,       I08S,      69,          1,         20,         20,2,20160308,       1252,   -35.4981,    94.9909,       4097,   836.5,   7.1478,  34.4725,2,  34.4701,2,    205.9,2,   206.0,2,    14.8,2,    0.00,2,   24.86,2,    0.00,2,    1.69,2,   2.714,2,   1.425,2,   0.102,2,         0.759,2,  -999.0,9, -999.00,9,-999.0000,9,     9.00,   7.1470, -999.00,9,  -999.0,9,  -999.0, -999.00,9,-999.000,9,  -999.0,9, -999.00,9,     -999.0,9, -999.00,9, 20160308,     1412, -35.4980,  94.9909,     -999.0,9,     -999.0,9,     -999.0,9,-999.0000,9,-999.0000,9,-999.0000,9,-999.0000,9,-999.0000,9,-999.0000,9,-999.0000,9,     -999.0,9,     -999.0,9,     -999.0,9,     -999.0,9,     -999.0,9
33RR20160208,       I08S,      69,          1,         21,         21,2,20160308,       1252,   -35.4981,    94.9909,       4097,   735.3,   8.3746,  34.5736,2,  34.5705,2,    222.9,2,   217.1,2,     8.9,2,    0.00,2,   20.96,2,    0.00,2,    1.45,2,   3.094,2,   1.703,2,   0.112,2,         1.045,2,  2156.4,2, 2290.65,2,   7.7158,2,    25.06,   8.3710, -999.00,9,  -999.0,9,  -999.0, -999.00,9,-999.000,9,  -999.0,9, -999.00,9,     -999.0,9, -999.00,9, 20160308,     1415, -35.4980,  94.9909,     -999.0,9,     -999.0,9,     -999.0,9,-999.0000,9,-999.0000,9,-999.0000,9,-999.0000,9,-999.0000,9,-999.0000,9,-999.0000,9,     -999.0,9,     -999.0,9,     -999.0,9,     -999.0,9,     -999.0,9
33RR20160208,       I08S,      69,          1,         22,         22,2,20160308,       1252,   -35.4981,    94.9909,       4097,   635.5,   9.2304,  34.6586,2,  34.6608,2,    237.7,2,   235.8,2,     4.6,2,    0.00,2,   17.02,2,    0.00,2,    1.18,2,   3.314,2,   1.924,2,   0.133,2,         1.477,2,  -999.0,9, -999.00,9,-999.0000,9,  -999.00,   9.2303, -999.00,9,  -999.0,9,  -999.0, -999.00,9,-999.000,9,  -999.0,9, -999.00,9,     -999.0,9, -999.00,9, 20160308,     1418, -35.4980,  94.9910,     -999.0,9,     -999.0,9,     -999.0,9,-999.0000,9,-999.0000,9,-999.0000,9,-999.0000,9,-999.0000,9,-999.0000,9,-999.0000,9,     -999.0,9,     -999.0,9,     -999.0,9,     -999.0,9,     -999.0,9
33RR20160208,       I08S,      69,          1,         23,         23,2,20160308,       1252,   -35.4981,    94.9909,       4097,   534.8,   9.8815,  34.7455,2,  34.7442,2,    244.6,2,   244.8,2,     3.7,2,    0.00,2,   14.46,2,    0.00,2,    1.02,2,   3.238,2,   1.891,2,   0.141,2,         1.628,2,  2132.7,2, 2296.62,6,   7.7858,2,    24.99,   9.8846, -999.00,9,  -999.0,9,  -999.0, -999.00,9,-999.000,9,  -999.0,9, -999.00,9,     -999.0,9, -999.00,9, 20160308,     1421, -35.4980,  94.9909,     -999.0,9,     -999.0,9,     -999.0,9,-999.0000,9,-999.0000,9,-999.0000,9,-999.0000,9,-999.0000,9,-999.0000,9,-999.0000,9,     -999.0,9,     -999.0,9,     -999.0,9,     -999.0,9,     -999.0,9
33RR20160208,       I08S,      69,          1,         24,         24,2,20160308,       1252,   -35.4981,    94.9909,       4097,   464.5,  10.2282,  34.7965,2,  34.7964,2,    245.6,2,   245.8,2,     3.2,2,    0.00,2,   13.29,2,    0.00,2,    0.96,2,   3.184,2,   1.868,2,   0.138,2,         1.681,2,  -999.0,9, -999.00,9,-999.0000,9,  -999.00,  10.2263, -999.00,9,  -999.0,9,  -999.0, -999.00,9,-999.000,9,  -999.0,9, -999.00,9,     -999.0,9, -999.00,9, 20160308,     1423, -35.4981,  94.9909,     -999.0,9,     -999.0,9,     -999.0,9,-999.0000,9,-999.0000,9,-999.0000,9,-999.0000,9,-999.0000,9,-999.0000,9,-999.0000,9,     -999.0,9,     -999.0,9,     -999.0,9,     -999.0,9,     -999.0,9
33RR20160208,       I08S,      69,          1,         25,         25,2,20160308,       1252,   -35.4981,    94.9909,       4097,   416.8,  10.5385,  34.8410,2,  34.8394,2,    246.5,2,   246.8,2,     3.1,2,    0.00,2,   12.38,2,    0.00,2,    0.90,2,-999.000,9,-999.000,9,-999.000,9,-999.000000000,9,  -999.0,9, -999.00,9,-999.0000,9,  -999.00,  10.5406, -999.00,9,  -999.0,9,  -999.0, -999.00,9,-999.000,9,  -999.0,9, -999.00,9,     -999.0,9, -999.00,9, 20160308,     1425, -35.4980,  94.9910,     -999.0,9,     -999.0,9,     -999.0,9,-999.0000,9,-999.0000,9,-999.0000,9,-999.0000,9,-999.0000,9,-999.0000,9,-999.0000,9,     -999.0,9,     -999.0,9,     -999.0,9,     -999.0,9,     -999.0,9
33RR20160208,       I08S,      69,          1,         26,         26,2,20160308,       1252,   -35.4981,    94.9909,       4097,   366.4,  10.8006,  34.8816,2,  34.8751,2,    245.8,2,   246.8,2,     3.0,2,    0.00,2,   11.93,2,    0.00,2,    0.89,2,   3.130,2,   1.837,2,   0.144,2,         1.869,2,  2125.9,2, 2302.81,2,   7.8106,6,    24.98,  10.7928, -999.00,9,  -999.0,9,  -999.0, -999.00,9,-999.000,9,  -999.0,9, -999.00,9,     -999.0,9, -999.00,9, 20160308,     1427, -35.4980,  94.9909,     -999.0,9,     -999.0,9,     -999.0,9,-999.0000,9,-999.0000,9,-999.0000,9,-999.0000,9,-999.0000,9,-999.0000,9,-999.0000,9,     -999.0,9,     -999.0,9,     -999.0,9,     -999.0,9,     -999.0,9
33RR20160208,       I08S,      69,          1,         27,         27,2,20160308,       1252,   -35.4981,    94.9909,       4097,   316.3,  11.1002,  34.9249,2,  34.9250,2,    243.3,2,   245.2,2,     2.8,2,    0.00,2,   11.22,2,    0.00,2,    0.83,2,-999.000,9,-999.000,9,-999.000,9,-999.000000000,9,  -999.0,9, -999.00,9,-999.0000,9,  -999.00,  11.0947, -999.00,9,  -999.0,9,  -999.0, -999.00,9,-999.000,9,  -999.0,9, -999.00,9,     -999.0,9, -999.00,9, 20160308,     1429, -35.4980,  94.9909,     -999.0,9,     -999.0,9,     -999.0,9,-999.0000,9,-999.0000,9,-999.0000,9,-999.0000,9,-999.0000,9,-999.0000,9,-999.0000,9,     -999.0,9,     -999.0,9,     -999.0,9,     -999.0,9,     -999.0,9