BOTTLE,20220706CCHSIOAMB
EXPOCODE,SECT_ID,STNNBR,CASTNO,SAMPNO,BTLNBR,BTLNBR_FLAG_W,DATE,TIME,LATITUDE,LONGITUDE,DEPTH,CTDPRS,CTDTMP,CTDSAL,CTDSAL_FLAG_W,SALNTY,SALNTY_FLAG_W,CTDOXY,CTDOXY_FLAG_W,OXYGEN,OXYGEN_FLAG_W,SILCAT,SILCAT_FLAG_W,NH4,NH4_FLAG_W,NITRAT,NITRAT_FLAG_W,NITRIT,NITRIT_FLAG_W,PHSPHT,PHSPHT_FLAG_W,CFC-11,CFC-11_FLAG_W,CFC-12,CFC-12_FLAG_W,CFC113,CFC113_FLAG_W,SF6,SF6_FLAG_W,TCARBN,TCARBN_FLAG_W,ALKALI,ALKALI_FLAG_W,PH_TOT,PH_TOT_FLAG_W,PH_TMP,REFTMP,DELC13,DELC13_FLAG_W,DELC14,DELC14_FLAG_W,C14ERR,DELO18,DELO18_FLAG_W,POC,POC_FLAG_W,DOC,DOC_FLAG_W,TDN,TDN_FLAG_W,TON,TON_FLAG_W,D15N_NO3,D15N_NO3_FLAG_W,BTL_DATE,BTL_TIME,BTL_LAT,BTL_LON,14C-DOC,14C-DOC_FLAG_W,CHLORA,CHLORA_FLAG_W,HPLC,HPLC_FLAG_W,CDOM325,CDOM325_FLAG_W,CDOM340,CDOM340_FLAG_W,CDOM380,CDOM380_FLAG_W,CDOM412,CDOM412_FLAG_W,CDOM443,CDOM443_FLAG_W,CDOM490,CDOM490_FLAG_W,CDOM555,CDOM555_FLAG_W,CDOMSL,CDOMSL_FLAG_W,CDOMSN,CDOMSN_FLAG_W,D18O_NO3,D18O_NO3_FLAG_W,D15N_NO2+NO3,D15N_NO2+NO3_FLAG_W,D18O_NO2+NO3,D18O_NO2+NO3_FLAG_W
,,,,,,,,,,,METERS,DBAR,ITS-90,PSS-78,,PSS-78,,UMOL/KG,,UMOL/KG,,UMOL/KG,,UMOL/KG,,UMOL/KG,,UMOL/KG,,UMOL/KG,,PMOL/KG,,PMOL/KG,,PMOL/KG,,FMOL/KG,,UMOL/KG,,UMOL/KG,,,,DEG C,DEG C,/MILLE,,/MILLE,,/MILLE,/MILLE,,UG/KG,,UMOL/KG,,UMOL/KG,,UMOL/KG,,/MILLE,,,,,,/MILLE,,MG/M3,,,,1/M,,1/M,,1/M,,1/M,,1/M,,1/M,,1/M,,1/NM,,1/NM,,/MILLE,,/MILLE,,/MILLE,
33RR20160208,       I08S,      42,          2,         28,         28,2,20160301,       1014,   -50.0409,    90.2813,       4128,   267.4,   4.8129,  34.1357,2,  34.1382,2,    265.7,2,   258.5,2,    14.2,2,    0.00,2,   26.17,2,    0.00,2,    1.79,2,   3.914,2,   2.188,2,   0.314,2,         1.844,2,  2164.0,2, 2280.70,2,   7.6636,6,    25.02,   4.8130,    1.09,2,   -35.5,2,     2.6, -999.00,9,-999.000,9,    43.4,2,   29.00,2,     -999.0,1, -999.00,9, 20160301,     1153, -50.0409,  90.2813,     -999.0,9,     -999.0,9,     -999.0,9,   0.0793,2,   0.0483,2,   0.0234,2,   0.0173,2,   0.0095,2,   0.0028,2,  -0.0000,4,     0.0191,2,     0.0236,2,     -999.0,9,     -999.0,9,     -999.0,9
33RR20160208,       I08S,      42,          2,         29,         29,2,20160301,       1014,   -50.0409,    90.2813,       4128,   216.3,   5.1017,  34.0739,2,  34.0765,2,    268.4,2,   271.8,2,    10.3,2,    0.00,2,   24.43,2,    0.00,2,    1.70,2,   4.053,2,   2.312,2,   0.356,2,         2.128,2,  2152.1,2, 2278.73,2,   7.6901,6,    24.99,   5.1069,    1.18,2,   -39.4,2,     2.0, -999.00,9,-999.000,9,    43.2,2,   27.30,2,     -999.0,1, -999.00,9, 20160301,     1155, -50.0409,  90.2813,     -999.0,9,     -999.0,9,     -999.0,9,-999.0000,9,-999.0000,9,-999.0000,9,-999.0000,9,-999.0000,9,-999.0000,9,-999.0000,9,     -999.0,9,     -999.0,9,     -999.0,9,     -999.0,9,     -999.0,9
33RR20160208,       I08S,      42,          2,         30,         30,2,20160301,       1014,   -50.0409,    90.2813,       4128,   166.3,   5.3132,  34.0087,2,  34.0076,2,    278.7,2,   280.9,2,     7.5,2,    0.00,2,   23.49,2,    0.00,2,    1.64,2,   4.212,2,   2.387,2,   0.368,2,          2.24,2,  2144.6,2, 2277.49,2,   7.7062,2,    24.98,   5.3114,   -0.09,2,   -82.1,3,     3.0, -999.00,9,-999.000,9,    43.0,2,   25.70,2,     -999.0,1, -999.00,9, 20160301,     1157, -50.0409,  90.2813,     -999.0,9,     -999.0,9,     -999.0,9,   0.0835,2,   0.0525,2,   0.0275,2,   0.0196,2,   0.0111,2,   0.0035,2,   0.0003,4,     0.0175,2,     0.0212,2,     -999.0,9,     -999.0,9,     -999.0,9
33RR20160208,       I08S,      42,          2,         31,         31,2,20160301,       1014,   -50.0409,    90.2813,       4128,   138.5,   6.0756,  34.0613,2,  34.0571,2,    277.9,2,   275.9,2,     6.1,2,    0.00,2,   22.19,2,    0.00,2,    1.54,2,   4.187,2,   2.307,2,   0.349,2,         1.987,2,  2141.8,2, 2277.34,2,   7.7194,6,    24.98,   6.0788,    1.32,2,   -30.5,2,     1.9, -999.00,9,-999.000,9,    41.8,2,   25.40,2,     -999.0,1, -999.00,9, 20160301,     1158, -50.0409,  90.2813,     -999.0,9, 0.01528462,2,     -999.0,9,   0.0801,2,   0.0510,2,   0.0294,2,   0.0191,2,   0.0106,2,   0.0033,2,   0.0002,4,     0.0161,2,     0.0191,2,     -999.0,9,     -999.0,9,     -999.0,9
33RR20160208,       I08S,      42,          2,         32,         32,2,20160301,       1014,   -50.0409,    90.2813,       4128,   112.8,   6.0513,  33.9404,2,  33.9353,2,    290.1,2,   286.2,2,     4.3,2,    0.06,2,   21.64,2,    0.22,2,    1.51,2,   4.131,2,   2.324,2,   0.374,2,         2.204,2,  2132.6,2, 2275.86,2,   7.7360,2,    24.99,   6.0492,    1.43,2,   -44.6,2,     2.2, -999.00,9,-999.000,9,    44.2,2,   24.90,2,     -999.0,1, -999.00,9, 20160301,     1200, -50.0409,  90.2813,     -999.0,9,0.081917319,2,     -999.0,9,   0.1176,2,   0.0820,2,   0.0464,2,   0.0304,2,   0.0181,2,   0.0074,2,   0.0019,2,     0.0156,2,     0.0171,2,     -999.0,9,     -999.0,9,     -999.0,9
33RR20160208,       I08S,      42,          2,         33,         33,2,20160301,       1014,   -50.0409,    90.2813,       4128,    88.0,   6.6474,  33.8526,2,  33.8483,2,    297.1,2,   293.9,2,     2.5,2,    0.54,2,   19.64,2,    0.27,2,    1.41,2,   3.978,2,   2.274,2,   0.372,2,         2.229,2,  2121.4,2, 2275.85,6,   7.7664,2,    24.99,   6.6391, -999.00,9,  -999.0,9,  -999.0, -999.00,9,-999.000,9,    44.5,2,   23.00,2,     -999.0,1, -999.00,9, 20160301,     1203, -50.0409,  90.2813,     -999.0,9,0.281424082,2,     -999.0,9,   0.1005,2,   0.0684,2,   0.0337,2,   0.0235,2,   0.0141,2,   0.0050,2,   0.0007,3,     0.0180,2,     0.0201,2,     -999.0,9,     -999.0,9,     -999.0,9
33RR20160208,       I08S,      42,          2,         34,         34,2,20160301,       1014,   -50.0409,    90.2813,       4128,    62.5,   6.6589,  33.7914,2,  33.7925,2,    298.8,2,   298.9,2,     2.2,2,    0.60,2,   19.39,2,    0.26,2,    1.39,2,   3.980,2,   2.267,2,   0.384,2,         2.271,2,  2118.1,2, 2274.99,2,   7.7765,2,    25.01,   6.6596, -999.00,9,  -999.0,9,  -999.0, -999.00,9,-999.000,9,    45.7,2,   23.60,2,     -999.0,1, -999.00,9, 20160301,     1205, -50.0409,  90.2813,     -999.0,9,0.397860729,2,     -999.0,9,   0.1109,2,   0.0771,2,   0.0427,2,   0.0319,2,   0.0220,2,   0.0110,2,   0.0031,2,     0.0154,2,     0.0174,2,     -999.0,9,     -999.0,9,     -999.0,9
33RR20160208,       I08S,      42,          2,         35,         35,2,20160301,       1014,   -50.0409,    90.2813,       4128,    39.2,   6.6663,  33.7914,2,  33.7902,2,    299.3,2,   299.1,2,     2.2,2,    0.64,2,   19.38,2,    0.26,2,    1.39,2,   3.973,2,   2.279,2,   0.384,2,         2.333,2,  2117.8,2, 2275.41,2,   7.7772,2,    24.99,   6.6660, -999.00,9,  -999.0,9,  -999.0, -999.00,9,-999.000,9,    44.1,2,   22.60,2,     -999.0,1, -999.00,9, 20160301,     1207, -50.0409,  90.2814,     -999.0,9,0.378536945,2,     -999.0,9,   0.0959,2,   0.0644,2,   0.0355,2,   0.0257,2,   0.0165,2,   0.0071,2,   0.0020,2,     0.0160,2,     0.0184,2,     -999.0,9,     -999.0,9,     -999.0,9
33RR20160208,       I08S,      42,          2,         36,         36,2,20160301,       1014,   -50.0409,    90.2813,       4128,     8.0,   6.7138,  33.7977,2,  33.7974,2,    299.7,2,   299.0,2,     2.2,2,    0.57,2,   19.28,2,    0.26,2,    1.37,2,   3.957,2,   2.260,2,   0.381,2,         2.369,2,  2116.7,6, 2276.08,2,   7.7779,2,    25.01,   6.7141,    1.72,2,   -55.7,2,     2.2, -999.00,9,-999.000,9,    45.4,2,   23.90,2,     -999.0,1, -999.00,9, 20160301,     1210, -50.0409,  90.2813,     -999.0,9,0.383792048,2,     -999.0,9,   0.1137,2,   0.0785,2,   0.0415,2,   0.0268,2,   0.0160,2,   0.0065,2,   0.0013,2,     0.0169,2,     0.0187,2,     -999.0,9,     -999.0,9,     -999.0,9