BOTTLE,20220706CCHSIOAMB
EXPOCODE,SECT_ID,STNNBR,CASTNO,SAMPNO,BTLNBR,BTLNBR_FLAG_W,DATE,TIME,LATITUDE,LONGITUDE,DEPTH,CTDPRS,CTDTMP,CTDSAL,CTDSAL_FLAG_W,SALNTY,SALNTY_FLAG_W,CTDOXY,CTDOXY_FLAG_W,OXYGEN,OXYGEN_FLAG_W,SILCAT,SILCAT_FLAG_W,NH4,NH4_FLAG_W,NITRAT,NITRAT_FLAG_W,NITRIT,NITRIT_FLAG_W,PHSPHT,PHSPHT_FLAG_W,CFC-11,CFC-11_FLAG_W,CFC-12,CFC-12_FLAG_W,CFC113,CFC113_FLAG_W,SF6,SF6_FLAG_W,TCARBN,TCARBN_FLAG_W,ALKALI,ALKALI_FLAG_W,PH_TOT,PH_TOT_FLAG_W,PH_TMP,REFTMP,DELC13,DELC13_FLAG_W,DELC14,DELC14_FLAG_W,C14ERR,DELO18,DELO18_FLAG_W,POC,POC_FLAG_W,DOC,DOC_FLAG_W,TDN,TDN_FLAG_W,TON,TON_FLAG_W,D15N_NO3,D15N_NO3_FLAG_W,BTL_DATE,BTL_TIME,BTL_LAT,BTL_LON,14C-DOC,14C-DOC_FLAG_W,CHLORA,CHLORA_FLAG_W,HPLC,HPLC_FLAG_W,CDOM325,CDOM325_FLAG_W,CDOM340,CDOM340_FLAG_W,CDOM380,CDOM380_FLAG_W,CDOM412,CDOM412_FLAG_W,CDOM443,CDOM443_FLAG_W,CDOM490,CDOM490_FLAG_W,CDOM555,CDOM555_FLAG_W,CDOMSL,CDOMSL_FLAG_W,CDOMSN,CDOMSN_FLAG_W,D18O_NO3,D18O_NO3_FLAG_W,D15N_NO2+NO3,D15N_NO2+NO3_FLAG_W,D18O_NO2+NO3,D18O_NO2+NO3_FLAG_W
,,,,,,,,,,,METERS,DBAR,ITS-90,PSS-78,,PSS-78,,UMOL/KG,,UMOL/KG,,UMOL/KG,,UMOL/KG,,UMOL/KG,,UMOL/KG,,UMOL/KG,,PMOL/KG,,PMOL/KG,,PMOL/KG,,FMOL/KG,,UMOL/KG,,UMOL/KG,,,,DEG C,DEG C,/MILLE,,/MILLE,,/MILLE,/MILLE,,UG/KG,,UMOL/KG,,UMOL/KG,,UMOL/KG,,/MILLE,,,,,,/MILLE,,MG/M3,,,,1/M,,1/M,,1/M,,1/M,,1/M,,1/M,,1/M,,1/NM,,1/NM,,/MILLE,,/MILLE,,/MILLE,
33RR20160208,       I08S,      25,          1,         28,         28,2,20160224,       1803,   -57.5131,    82.5226,       4438,   184.8,   1.0298,  34.5576,2,  34.5566,2,    195.2,2,   202.1,2,    79.5,2,    0.00,2,   33.41,2,    0.07,2,    2.31,2,   1.539,2,   0.818,2,   0.135,2,   0.648293333,2,  2251.1,2, 2335.44,2,   7.7686,6,     9.79,   1.0236, -999.00,9,  -999.0,9,  -999.0, -999.00,1,-999.000,9,  -999.0,9, -999.00,9,     -999.0,9,    4.84,2, 20160224,     1949, -57.5132,  82.5226,     -999.0,9,     -999.0,9,     -999.0,9,-999.0000,9,-999.0000,9,-999.0000,9,-999.0000,9,-999.0000,9,-999.0000,9,-999.0000,9,     -999.0,9,     -999.0,9,       1.92,2,       4.85,2,        2.2,2
33RR20160208,       I08S,      25,          1,         29,         29,2,20160224,       1803,   -57.5131,    82.5226,       4438,   132.5,   0.7909,  34.4908,2,  34.4901,2,    213.4,2,   208.6,2,    76.3,2,    0.09,2,   33.37,2,    0.16,2,    2.34,2,   1.927,2,   1.016,2,   0.169,2,       0.78822,2,  -999.0,9, -999.00,9,-999.0000,9,  -999.00,   0.7933, -999.00,9,  -999.0,9,  -999.0, -999.00,1,-999.000,9,  -999.0,9, -999.00,9,     -999.0,9,    4.83,2, 20160224,     1952, -57.5132,  82.5226,     -999.0,9,     -999.0,9,     -999.0,9,-999.0000,9,-999.0000,9,-999.0000,9,-999.0000,9,-999.0000,9,-999.0000,9,-999.0000,9,     -999.0,9,     -999.0,9,       1.94,2,       4.83,2,       2.14,2
33RR20160208,       I08S,      25,          1,         30,         30,2,20160224,       1803,   -57.5131,    82.5226,       4438,    87.3,   0.4644,  34.4113,2,  34.4083,2,    220.8,2,   222.6,2,    72.6,2,    0.38,2,   32.76,2,    0.21,2,    2.33,2,   2.426,2,   1.269,2,   0.222,2,    1.12444667,2,  2243.6,2, 2324.34,2,   7.7708,2,     9.79,   0.4696, -999.00,9,  -999.0,9,  -999.0, -999.00,1,-999.000,9,  -999.0,9, -999.00,9,     -999.0,9,    4.85,2, 20160224,     1954, -57.5131,  82.5226,     -999.0,9,     -999.0,9,     -999.0,9,-999.0000,9,-999.0000,9,-999.0000,9,-999.0000,9,-999.0000,9,-999.0000,9,-999.0000,9,     -999.0,9,     -999.0,9,       2.04,2,       4.81,2,       2.24,2
33RR20160208,       I08S,      25,          1,         31,         31,2,20160224,       1803,   -57.5131,    82.5226,       4438,    63.6,   0.4485,  34.1538,2,  34.1218,2,    287.9,2,   278.2,2,    52.8,2,    1.15,2,   28.70,2,    0.19,2,    2.11,2,   3.946,2,   2.106,2,   0.379,2,       2.02642,2,  2206.5,2, 2309.97,2,   7.8407,2,     9.78,   0.4403, -999.00,9,  -999.0,9,  -999.0, -999.00,1,-999.000,9,  -999.0,9, -999.00,9,     -999.0,9,    4.97,2, 20160224,     1957, -57.5132,  82.5226,     -999.0,9,     -999.0,9,     -999.0,9,-999.0000,9,-999.0000,9,-999.0000,9,-999.0000,9,-999.0000,9,-999.0000,9,-999.0000,9,     -999.0,9,     -999.0,9,       2.38,2,       4.81,2,       2.36,2
33RR20160208,       I08S,      25,          1,         32,         32,2,20160224,       1803,   -57.5131,    82.5226,       4438,    38.1,   1.5765,  33.7640,2,  33.7563,2,    338.9,2,   333.9,2,    25.7,2,    0.65,2,   23.23,2,    0.22,2,    1.56,2,   5.230,6,   2.826,6,   0.516,6,    2.80809667,6,  2151.3,2, 2288.13,2,   7.9472,2,     9.83,   1.5830, -999.00,9,  -999.0,9,  -999.0, -999.00,1,-999.000,9,  -999.0,9, -999.00,9,     -999.0,9,    5.84,2, 20160224,     1959, -57.5131,  82.5226,     -999.0,9,     -999.0,9,     -999.0,9,-999.0000,9,-999.0000,9,-999.0000,9,-999.0000,9,-999.0000,9,-999.0000,9,-999.0000,9,     -999.0,9,     -999.0,9,       2.92,2,       5.54,2,       3.04,2
33RR20160208,       I08S,      25,          1,         33,         33,2,20160224,       1803,   -57.5131,    82.5226,       4438,    20.2,   1.5596,  33.7037,2,  33.7042,2,    341.0,2,   339.0,2,    24.6,2,    0.29,2,   22.99,2,    0.23,2,    1.48,2,   5.197,2,   2.815,2,   0.514,2,       2.73914,2,  2144.6,2, 2284.80,2,   7.9572,2,     9.78,   1.5590, -999.00,9,  -999.0,9,  -999.0, -999.00,1,-999.000,9,  -999.0,9, -999.00,9,     -999.0,9, -999.00,9, 20160224,     2001, -57.5132,  82.5226,     -999.0,9,     -999.0,9,     -999.0,9,-999.0000,9,-999.0000,9,-999.0000,9,-999.0000,9,-999.0000,9,-999.0000,9,-999.0000,9,     -999.0,9,     -999.0,9,     -999.0,9,        6.6,2,       3.72,2
33RR20160208,       I08S,      25,          1,         34,         34,2,20160224,       1803,   -57.5131,    82.5226,       4438,    13.7,   1.5634,  33.7038,2,-999.0000,9,    341.4,2,   338.3,2,  -999.0,9, -999.00,9, -999.00,9, -999.00,9, -999.00,9,   5.265,2,   2.818,2,   0.504,2,        2.7935,2,  2142.8,2, 2285.25,2,   7.9573,6,     9.80,   1.5629, -999.00,9,  -999.0,9,  -999.0, -999.00,1,-999.000,1,  -999.0,9, -999.00,9,     -999.0,9, -999.00,9, 20160224,     2003, -57.5132,  82.5226,     -999.0,9,     -999.0,9,     -999.0,1,-999.0000,9,-999.0000,9,-999.0000,9,-999.0000,9,-999.0000,9,-999.0000,9,-999.0000,9,     -999.0,9,     -999.0,9,     -999.0,9,       6.59,2,       3.79,2
33RR20160208,       I08S,      25,          1,         36,         36,2,20160224,       1803,   -57.5131,    82.5226,       4438,     8.3,   1.5589,  33.7041,2,  33.7042,2,    341.5,2,   340.3,2,    24.6,2,    0.47,2,   23.09,2,    0.23,2,    1.48,2,   5.260,2,   2.821,2,   0.504,2,         2.718,2,  2143.0,6, 2285.31,2,   7.9572,2,     9.83,   1.5595, -999.00,9,  -999.0,9,  -999.0, -999.00,1,-999.000,9,  -999.0,9, -999.00,9,     -999.0,9,    7.41,2, 20160224,     2006, -57.5132,  82.5226,     -999.0,9,     -999.0,9,     -999.0,9,-999.0000,9,-999.0000,9,-999.0000,9,-999.0000,9,-999.0000,9,-999.0000,9,-999.0000,9,     -999.0,9,     -999.0,9,       3.76,2,       6.65,2,       3.81,2
33RR20160208,       I08S,      25,          1,         35,         35,2,20160224,       1803,   -57.5131,    82.5226,       4438,     7.5,   1.5627,  33.7043,2,-999.0000,9,    341.5,2,  -999.0,9,  -999.0,9, -999.00,9, -999.00,9, -999.00,9, -999.00,9,-999.000,9,-999.000,9,-999.000,9,-999.000000000,9,  -999.0,9, -999.00,9,-999.0000,9,     9.00,   1.5603, -999.00,9,  -999.0,9,  -999.0, -999.00,9,-999.000,1,  -999.0,9, -999.00,9,     -999.0,9,    7.46,2, 20160224,     2005, -57.5132,  82.5226,     -999.0,9,     -999.0,9,     -999.0,1,-999.0000,9,-999.0000,9,-999.0000,9,-999.0000,9,-999.0000,9,-999.0000,9,-999.0000,9,     -999.0,9,     -999.0,9,       3.84,2,       6.74,2,        4.0,2