BOTTLE,20220706CCHSIOAMB
EXPOCODE,SECT_ID,STNNBR,CASTNO,SAMPNO,BTLNBR,BTLNBR_FLAG_W,DATE,TIME,LATITUDE,LONGITUDE,DEPTH,CTDPRS,CTDTMP,CTDSAL,CTDSAL_FLAG_W,SALNTY,SALNTY_FLAG_W,CTDOXY,CTDOXY_FLAG_W,OXYGEN,OXYGEN_FLAG_W,SILCAT,SILCAT_FLAG_W,NH4,NH4_FLAG_W,NITRAT,NITRAT_FLAG_W,NITRIT,NITRIT_FLAG_W,PHSPHT,PHSPHT_FLAG_W,CFC-11,CFC-11_FLAG_W,CFC-12,CFC-12_FLAG_W,CFC113,CFC113_FLAG_W,SF6,SF6_FLAG_W,TCARBN,TCARBN_FLAG_W,ALKALI,ALKALI_FLAG_W,PH_TOT,PH_TOT_FLAG_W,PH_TMP,REFTMP,DELC13,DELC13_FLAG_W,DELC14,DELC14_FLAG_W,C14ERR,DELO18,DELO18_FLAG_W,POC,POC_FLAG_W,DOC,DOC_FLAG_W,TDN,TDN_FLAG_W,TON,TON_FLAG_W,D15N_NO3,D15N_NO3_FLAG_W,BTL_DATE,BTL_TIME,BTL_LAT,BTL_LON,14C-DOC,14C-DOC_FLAG_W,CHLORA,CHLORA_FLAG_W,HPLC,HPLC_FLAG_W,CDOM325,CDOM325_FLAG_W,CDOM340,CDOM340_FLAG_W,CDOM380,CDOM380_FLAG_W,CDOM412,CDOM412_FLAG_W,CDOM443,CDOM443_FLAG_W,CDOM490,CDOM490_FLAG_W,CDOM555,CDOM555_FLAG_W,CDOMSL,CDOMSL_FLAG_W,CDOMSN,CDOMSN_FLAG_W,D18O_NO3,D18O_NO3_FLAG_W,D15N_NO2+NO3,D15N_NO2+NO3_FLAG_W,D18O_NO2+NO3,D18O_NO2+NO3_FLAG_W
,,,,,,,,,,,METERS,DBAR,ITS-90,PSS-78,,PSS-78,,UMOL/KG,,UMOL/KG,,UMOL/KG,,UMOL/KG,,UMOL/KG,,UMOL/KG,,UMOL/KG,,PMOL/KG,,PMOL/KG,,PMOL/KG,,FMOL/KG,,UMOL/KG,,UMOL/KG,,,,DEG C,DEG C,/MILLE,,/MILLE,,/MILLE,/MILLE,,UG/KG,,UMOL/KG,,UMOL/KG,,UMOL/KG,,/MILLE,,,,,,/MILLE,,MG/M3,,,,1/M,,1/M,,1/M,,1/M,,1/M,,1/M,,1/M,,1/NM,,1/NM,,/MILLE,,/MILLE,,/MILLE,
33RR20160208,       I08S,      18,          1,          1,          1,2,20160223,       1047,   -59.9999,    82.0010,        988,   983.6,   1.0624,  34.7244,2,  34.7244,2,    203.6,2,   203.9,2,   107.8,2,    0.00,2,   31.54,2,    0.00,2,    2.19,2,   0.239,2,   0.125,2,   0.006,2,         0.199,2,  2255.0,6, 2356.14,2,   7.5994,2,    25.00,   1.0621, -999.00,9,  -999.0,9,  -999.0, -999.00,9,-999.000,9,    39.2,2, -999.00,9,     -999.0,1, -999.00,9, 20160223,     1047, -60.0000,  82.0010,     -999.0,9,     -999.0,9,     -999.0,9,-999.0000,9,-999.0000,9,-999.0000,9,-999.0000,9,-999.0000,9,-999.0000,9,-999.0000,9,     -999.0,9,     -999.0,9,     -999.0,9,     -999.0,9,     -999.0,9
33RR20160208,       I08S,      18,          1,          2,          2,2,20160223,       1047,   -59.9999,    82.0010,        988,   863.6,   1.2236,  34.7315,2,  34.7313,2,    202.6,2,   201.7,2,   101.8,2,    0.00,2,   31.26,2,    0.00,2,    2.15,2,-999.000,9,-999.000,9,-999.000,9,-999.000000000,9,  2253.7,2, 2352.96,2,   7.6024,2,    24.99,   1.2232, -999.00,9,  -999.0,9,  -999.0, -999.00,9,-999.000,9,    42.0,2, -999.00,9,     -999.0,1, -999.00,9, 20160223,     1051, -60.0000,  82.0011,     -999.0,9,     -999.0,9,     -999.0,9,-999.0000,9,-999.0000,9,-999.0000,9,-999.0000,9,-999.0000,9,-999.0000,9,-999.0000,9,     -999.0,9,     -999.0,9,     -999.0,9,     -999.0,9,     -999.0,9
33RR20160208,       I08S,      18,          1,          3,          3,2,20160223,       1047,   -59.9999,    82.0010,        988,   737.6,   1.5028,  34.7411,2,  34.7409,2,    198.6,2,   199.2,2,    92.2,2,    0.00,2,   30.86,2,    0.00,2,    2.14,2,   0.251,2,   0.136,2,   0.008,2,          0.23,2,  2249.3,2, 2351.69,2,   7.6034,6,    24.99,   1.5017, -999.00,9,  -999.0,9,  -999.0, -999.00,9,-999.000,9,    40.8,2, -999.00,9,     -999.0,1, -999.00,9, 20160223,     1055, -60.0000,  82.0011,     -999.0,9,     -999.0,9,     -999.0,9,-999.0000,9,-999.0000,9,-999.0000,9,-999.0000,9,-999.0000,9,-999.0000,9,-999.0000,9,     -999.0,9,     -999.0,9,     -999.0,9,     -999.0,9,     -999.0,9
33RR20160208,       I08S,      18,          1,          4,          4,2,20160223,       1047,   -59.9999,    82.0010,        988,   632.4,   1.6078,  34.7420,2,  34.7422,2,    196.1,2,   195.8,2,    89.8,2,    0.00,2,   30.89,2,    0.00,2,    2.14,2,-999.000,9,-999.000,9,-999.000,9,-999.000000000,9,  2250.1,2, 2350.17,2,   7.6007,6,    24.95,   1.6079, -999.00,9,  -999.0,9,  -999.0, -999.00,9,-999.000,9,    40.5,2, -999.00,9,     -999.0,1, -999.00,9, 20160223,     1058, -60.0000,  82.0011,     -999.0,9,     -999.0,9,     -999.0,9,-999.0000,9,-999.0000,9,-999.0000,9,-999.0000,9,-999.0000,9,-999.0000,9,-999.0000,9,     -999.0,9,     -999.0,9,     -999.0,9,     -999.0,9,     -999.0,9
33RR20160208,       I08S,      18,          1,          5,          5,2,20160223,       1047,   -59.9999,    82.0010,        988,   537.3,   1.7083,  34.7386,2,  34.7385,2,    192.9,2,   194.3,2,    88.3,2,    0.00,2,   31.20,2,    0.00,2,    2.15,2,   0.280,2,   0.158,2,   0.013,2,         0.217,2,  -999.0,9, -999.00,9,-999.0000,9,  -999.00,   1.7084, -999.00,9,  -999.0,9,  -999.0, -999.00,9,-999.000,9,    40.6,2, -999.00,9,     -999.0,1, -999.00,9, 20160223,     1101, -60.0000,  82.0010,     -999.0,9,     -999.0,9,     -999.0,9,-999.0000,9,-999.0000,9,-999.0000,9,-999.0000,9,-999.0000,9,-999.0000,9,-999.0000,9,     -999.0,9,     -999.0,9,     -999.0,9,     -999.0,9,     -999.0,9
33RR20160208,       I08S,      18,          1,          6,          6,2,20160223,       1047,   -59.9999,    82.0010,        988,   467.6,   1.7530,  34.7356,2,  34.7354,2,    191.0,2,   189.6,2,    87.0,2,    0.00,2,   31.35,2,    0.00,2,    2.17,2,-999.000,9,-999.000,9,-999.000,9,-999.000000000,9,  2249.7,2, 2348.96,6,   7.5904,2,    24.98,   1.7526, -999.00,9,  -999.0,9,  -999.0, -999.00,9,-999.000,9,    40.7,2, -999.00,9,     -999.0,1, -999.00,9, 20160223,     1104, -60.0000,  82.0010,     -999.0,9,     -999.0,9,     -999.0,9,-999.0000,9,-999.0000,9,-999.0000,9,-999.0000,9,-999.0000,9,-999.0000,9,-999.0000,9,     -999.0,9,     -999.0,9,     -999.0,9,     -999.0,9,     -999.0,9
33RR20160208,       I08S,      18,          1,          7,          7,2,20160223,       1047,   -59.9999,    82.0010,        988,   418.9,   1.7814,  34.7321,2,  34.7321,2,    188.7,2,   188.3,2,    86.6,2,    0.00,2,   31.61,2,    0.00,2,    2.19,2,   0.305,2,   0.170,2,   0.014,2,         0.296,2,  2252.3,2, 2348.14,2,   7.5864,2,    24.99,   1.7818, -999.00,9,  -999.0,9,  -999.0, -999.00,9,-999.000,9,    38.9,2, -999.00,9,     -999.0,1, -999.00,9, 20160223,     1106, -60.0000,  82.0010,     -999.0,9,     -999.0,9,     -999.0,9,-999.0000,9,-999.0000,9,-999.0000,9,-999.0000,9,-999.0000,9,-999.0000,9,-999.0000,9,     -999.0,9,     -999.0,9,     -999.0,9,     -999.0,9,     -999.0,9
33RR20160208,       I08S,      18,          1,          8,          8,2,20160223,       1047,   -59.9999,    82.0010,        988,   364.6,   1.8218,  34.7253,2,  34.7252,2,    185.5,2,   185.7,2,    86.1,2,    0.00,2,   31.92,2,    0.00,2,    2.20,2,-999.000,9,-999.000,9,-999.000,9,-999.000000000,9,  2253.5,2, 2347.68,2,   7.5794,2,    24.98,   1.8219, -999.00,9,  -999.0,9,  -999.0, -999.00,9,-999.000,9,    39.2,2, -999.00,9,     -999.0,1, -999.00,9, 20160223,     1109, -60.0000,  82.0011,     -999.0,9,     -999.0,9,     -999.0,9,-999.0000,9,-999.0000,9,-999.0000,9,-999.0000,9,-999.0000,9,-999.0000,9,-999.0000,9,     -999.0,9,     -999.0,9,     -999.0,9,     -999.0,9,     -999.0,9
33RR20160208,       I08S,      18,          1,          9,          9,2,20160223,       1047,   -59.9999,    82.0010,        988,   318.9,   1.8442,  34.7173,2,  34.7171,2,    182.6,2,   182.9,2,    86.1,2,    0.00,2,   32.21,2,    0.00,2,    2.23,2,   0.365,2,   0.198,2,   0.019,2,         0.305,2,  2257.9,2, 2345.85,2,   7.5730,2,    24.99,   1.8440, -999.00,9,  -999.0,9,  -999.0, -999.00,9,-999.000,9,    39.1,2,   33.80,2,     -999.0,1, -999.00,9, 20160223,     1111, -60.0000,  82.0010,     -999.0,9,     -999.0,9,     -999.0,9,-999.0000,9,-999.0000,9,-999.0000,9,-999.0000,9,-999.0000,9,-999.0000,9,-999.0000,9,     -999.0,9,     -999.0,9,     -999.0,9,     -999.0,9,     -999.0,9
33RR20160208,       I08S,      18,          1,         11,         11,2,20160223,       1047,   -59.9999,    82.0010,        988,   272.4,   1.8545,  34.7077,2,  34.7079,2,    181.9,2,  -999.0,9,    85.6,2,    0.00,2,   32.48,2,    0.00,2,    2.25,2,-999.000,9,-999.000,9,-999.000,9,-999.000000000,9,  -999.0,9, -999.00,9,-999.0000,9,     9.00,   1.8542, -999.00,9,  -999.0,9,  -999.0, -999.00,9,-999.000,9,  -999.0,9, -999.00,9,     -999.0,9, -999.00,9, 20160223,     1114, -60.0000,  82.0010,     -999.0,9,     -999.0,9,     -999.0,9,-999.0000,9,-999.0000,9,-999.0000,9,-999.0000,9,-999.0000,9,-999.0000,9,-999.0000,9,     -999.0,9,     -999.0,9,     -999.0,9,     -999.0,9,     -999.0,9
33RR20160208,       I08S,      18,          1,         10,         10,2,20160223,       1047,   -59.9999,    82.0010,        988,   268.1,   1.8539,  34.7073,2,  34.7063,2,    182.1,2,   181.3,2,    85.9,2,    0.00,2,   32.48,2,    0.00,2,    2.26,2,-999.000,9,-999.000,9,-999.000,9,-999.000000000,9,  2256.1,2, 2346.55,2,   7.5677,2,    24.96,   1.8533, -999.00,9,  -999.0,9,  -999.0, -999.00,9,-999.000,9,    39.3,2,   34.00,2,     -999.0,1, -999.00,9, 20160223,     1113, -60.0000,  82.0010,     -999.0,9,     -999.0,9,     -999.0,9,-999.0000,9,-999.0000,9,-999.0000,9,-999.0000,9,-999.0000,9,-999.0000,9,-999.0000,9,     -999.0,9,     -999.0,9,     -999.0,9,     -999.0,9,     -999.0,9
33RR20160208,       I08S,      18,          1,         12,         12,2,20160223,       1047,   -59.9999,    82.0010,        988,   233.4,   1.8346,  34.6927,2,  34.6918,2,    178.0,2,   177.5,2,    85.9,2,    0.00,2,   33.08,2,    0.00,2,    2.30,2,   0.479,6,   0.262,6,   0.029,6,        0.3325,6,  2261.6,2, 2344.20,2,   7.5564,6,    24.98,   1.8339, -999.00,9,  -999.0,9,  -999.0, -999.00,9,-999.000,9,    42.0,2,   38.00,3,     -999.0,1, -999.00,9, 20160223,     1116, -60.0000,  82.0011,     -999.0,9,     -999.0,9,     -999.0,9,-999.0000,9,-999.0000,9,-999.0000,9,-999.0000,9,-999.0000,9,-999.0000,9,-999.0000,9,     -999.0,9,     -999.0,9,     -999.0,9,     -999.0,9,     -999.0,9
33RR20160208,       I08S,      18,          1,         13,         13,2,20160223,       1047,   -59.9999,    82.0010,        988,   209.3,   1.7964,  34.6795,2,  34.6792,2,    177.1,2,   176.5,2,    85.7,2,    0.00,2,   33.39,2,    0.02,2,    2.30,2,-999.000,9,-999.000,9,-999.000,9,-999.000000000,9,  -999.0,9, -999.00,9,-999.0000,9,     9.00,   1.7941, -999.00,9,  -999.0,9,  -999.0, -999.00,9,-999.000,9,    41.4,2,   34.90,2,     -999.0,1, -999.00,9, 20160223,     1117, -60.0000,  82.0010,     -999.0,9,     -999.0,9,     -999.0,9,-999.0000,9,-999.0000,9,-999.0000,9,-999.0000,9,-999.0000,9,-999.0000,9,-999.0000,9,     -999.0,9,     -999.0,9,     -999.0,9,     -999.0,9,     -999.0,9
33RR20160208,       I08S,      18,          1,         14,         14,2,20160223,       1047,   -59.9999,    82.0010,        988,   184.2,   1.5516,  34.6271,2,  34.6257,2,    180.4,2,   180.8,2,    83.7,2,    0.00,2,   33.94,2,    0.04,2,    2.35,2,-999.000,9,-999.000,9,-999.000,9,-999.000000000,9,  2260.8,2, 2338.15,2,   7.5412,6,    24.99,   1.5516, -999.00,9,  -999.0,9,  -999.0, -999.00,9,-999.000,9,  -999.0,5, -999.00,5,     -999.0,1, -999.00,9, 20160223,     1119, -60.0000,  82.0011,     -999.0,9,     -999.0,9,     -999.0,9,-999.0000,9,-999.0000,9,-999.0000,9,-999.0000,9,-999.0000,9,-999.0000,9,-999.0000,9,     -999.0,9,     -999.0,9,     -999.0,9,     -999.0,9,     -999.0,9
33RR20160208,       I08S,      18,          1,         15,         15,2,20160223,       1047,   -59.9999,    82.0010,        988,   159.8,   1.4148,  34.5967,2,  34.5978,2,    185.6,2,   186.3,2,    82.3,2,    0.00,2,   34.06,2,    0.05,2,    2.36,2,-999.000,9,-999.000,9,-999.000,9,-999.000000000,9,  2257.2,2, 2335.26,2,   7.5401,2,    24.97,   1.4151, -999.00,9,  -999.0,9,  -999.0, -999.00,9,-999.000,9,    39.0,2,   36.20,2,     -999.0,1, -999.00,9, 20160223,     1121, -60.0000,  82.0011,     -999.0,9,     -999.0,9,     -999.0,9,-999.0000,9,-999.0000,9,-999.0000,9,-999.0000,9,-999.0000,9,-999.0000,9,-999.0000,9,     -999.0,9,     -999.0,9,     -999.0,9,     -999.0,9,     -999.0,9
33RR20160208,       I08S,      18,          1,         16,         16,2,20160223,       1047,   -59.9999,    82.0010,        988,   134.0,   1.2279,  34.5607,2,  34.5572,2,    191.0,2,   190.9,2,    80.8,2,    0.00,2,   34.09,2,    0.10,2,    2.35,2,   1.342,2,   0.699,2,   0.112,2,         0.829,2,  -999.0,9, -999.00,9,-999.0000,9,     9.00,   1.2284, -999.00,9,  -999.0,9,  -999.0, -999.00,9,-999.000,9,    39.8,2,   36.60,2,     -999.0,1, -999.00,9, 20160223,     1122, -60.0000,  82.0010,     -999.0,9,     -999.0,9,     -999.0,9,-999.0000,9,-999.0000,9,-999.0000,9,-999.0000,9,-999.0000,9,-999.0000,9,-999.0000,9,     -999.0,9,     -999.0,9,     -999.0,9,     -999.0,9,     -999.0,9
33RR20160208,       I08S,      18,          1,         17,         17,2,20160223,       1047,   -59.9999,    82.0010,        988,   109.2,   1.1691,  34.5259,2,  34.5260,2,    201.7,2,   190.1,2,    79.2,2,    0.02,2,   34.31,2,    0.24,2,    2.38,2,-999.000,9,-999.000,9,-999.000,9,-999.000000000,9,  2254.5,2, 2330.76,2,   7.5312,6,    24.98,   1.1680, -999.00,9,  -999.0,9,  -999.0, -999.00,9,-999.000,9,    41.1,2,   36.60,2,     -999.0,1, -999.00,9, 20160223,     1124, -60.0000,  82.0010,     -999.0,9,     -999.0,9,     -999.0,9,-999.0000,9,-999.0000,9,-999.0000,9,-999.0000,9,-999.0000,9,-999.0000,9,-999.0000,9,     -999.0,9,     -999.0,9,     -999.0,9,     -999.0,9,     -999.0,9
33RR20160208,       I08S,      18,          1,         18,         37,2,20160223,       1047,   -59.9999,    82.0010,        988,    84.9,  -0.0153,  34.2909,2,  34.2687,2,    256.0,2,   244.8,2,    68.2,2,    0.96,2,   32.34,2,    0.19,2,    2.35,2,   3.003,2,   1.602,2,   0.277,2,         1.668,2,  2234.0,2, 2315.12,2,   7.5556,2,    24.99,  -0.0440, -999.00,9,  -999.0,9,  -999.0, -999.00,9,-999.000,9,    41.3,2,   35.30,2,     -999.0,1, -999.00,9, 20160223,     1126, -60.0000,  82.0010,     -999.0,9,     -999.0,9,     -999.0,9,-999.0000,9,-999.0000,9,-999.0000,9,-999.0000,9,-999.0000,9,-999.0000,9,-999.0000,9,     -999.0,9,     -999.0,9,     -999.0,9,     -999.0,9,     -999.0,9
33RR20160208,       I08S,      18,          1,         19,         19,2,20160223,       1047,   -59.9999,    82.0010,        988,    60.6,  -0.0500,  34.0711,2,  34.0389,2,    337.1,2,   294.5,2,    52.5,2,    1.27,2,   28.73,2,    0.19,2,    2.13,2,-999.000,9,-999.000,9,-999.000,9,-999.000000000,9,  2201.6,2, 2303.80,6,   7.6232,6,    24.99,  -0.0363, -999.00,9,  -999.0,9,  -999.0, -999.00,9,-999.000,9,    44.3,2,   32.80,2,     -999.0,1, -999.00,9, 20160223,     1128, -60.0000,  82.0010,     -999.0,9,     -999.0,9,     -999.0,9,-999.0000,9,-999.0000,9,-999.0000,9,-999.0000,9,-999.0000,9,-999.0000,9,-999.0000,9,     -999.0,9,     -999.0,9,     -999.0,9,     -999.0,9,     -999.0,9
33RR20160208,       I08S,      18,          1,         20,         20,2,20160223,       1047,   -59.9999,    82.0010,        988,    34.8,   1.3799,  33.8579,2,  33.8584,2,    336.6,2,   335.6,2,    33.2,2,    0.35,2,   24.80,2,    0.21,2,    1.68,2,   5.214,2,   2.857,2,   0.514,2,         3.033,2,  2162.0,2, 2292.83,2,   7.7140,2,    24.66,   1.3821, -999.00,9,  -999.0,9,  -999.0, -999.00,9,-999.000,9,    45.6,2,   27.70,2,     -999.0,1, -999.00,9, 20160223,     1130, -60.0000,  82.0010,     -999.0,9,     -999.0,9,     -999.0,9,-999.0000,9,-999.0000,9,-999.0000,9,-999.0000,9,-999.0000,9,-999.0000,9,-999.0000,9,     -999.0,9,     -999.0,9,     -999.0,9,     -999.0,9,     -999.0,9
33RR20160208,       I08S,      18,          1,         21,         21,2,20160223,       1047,   -59.9999,    82.0010,        988,     5.3,   1.4515,  33.8577,2,  33.8594,2,    335.8,2,   335.7,2,    33.2,2,    0.35,2,   24.83,2,    0.21,2,    1.68,2,   5.251,2,   2.866,2,   0.511,2,         3.061,2,  2160.0,6, 2296.18,2,   7.7109,2,    25.05,   1.4523, -999.00,9,  -999.0,9,  -999.0, -999.00,9,-999.000,9,    46.0,2,   27.70,2,     -999.0,1, -999.00,9, 20160223,     1133, -60.0000,  82.0010,     -999.0,9,     -999.0,9,     -999.0,9,-999.0000,9,-999.0000,9,-999.0000,9,-999.0000,9,-999.0000,9,-999.0000,9,-999.0000,9,     -999.0,9,     -999.0,9,     -999.0,9,     -999.0,9,     -999.0,9
33RR20160208,       I08S,      18,          1,         22,         22,2,20160223,       1047,   -59.9999,    82.0010,        988,     4.9,   1.4511,  33.8579,2,  34.9874,4,    335.7,2,  -999.0,9,    33.5,2,    0.35,2,   24.94,2,    0.21,2,    1.70,2,-999.000,9,-999.000,9,-999.000,9,-999.000000000,9,  -999.0,9, -999.00,9,-999.0000,9,     9.00,   1.4485, -999.00,9,  -999.0,9,  -999.0, -999.00,9,-999.000,9,  -999.0,9, -999.00,9,     -999.0,9, -999.00,9, 20160223,     1133, -60.0000,  82.0010,     -999.0,9,     -999.0,9,     -999.0,9,-999.0000,9,-999.0000,9,-999.0000,9,-999.0000,9,-999.0000,9,-999.0000,9,-999.0000,9,     -999.0,9,     -999.0,9,     -999.0,9,     -999.0,9,     -999.0,9