BOTTLE,20220706CCHSIOAMB
EXPOCODE,SECT_ID,STNNBR,CASTNO,SAMPNO,BTLNBR,BTLNBR_FLAG_W,DATE,TIME,LATITUDE,LONGITUDE,DEPTH,CTDPRS,CTDTMP,CTDSAL,CTDSAL_FLAG_W,SALNTY,SALNTY_FLAG_W,CTDOXY,CTDOXY_FLAG_W,OXYGEN,OXYGEN_FLAG_W,SILCAT,SILCAT_FLAG_W,NH4,NH4_FLAG_W,NITRAT,NITRAT_FLAG_W,NITRIT,NITRIT_FLAG_W,PHSPHT,PHSPHT_FLAG_W,CFC-11,CFC-11_FLAG_W,CFC-12,CFC-12_FLAG_W,CFC113,CFC113_FLAG_W,SF6,SF6_FLAG_W,TCARBN,TCARBN_FLAG_W,ALKALI,ALKALI_FLAG_W,PH_TOT,PH_TOT_FLAG_W,PH_TMP,REFTMP,DELC13,DELC13_FLAG_W,DELC14,DELC14_FLAG_W,C14ERR,DELO18,DELO18_FLAG_W,POC,POC_FLAG_W,DOC,DOC_FLAG_W,TDN,TDN_FLAG_W,TON,TON_FLAG_W,D15N_NO3,D15N_NO3_FLAG_W,BTL_DATE,BTL_TIME,BTL_LAT,BTL_LON,14C-DOC,14C-DOC_FLAG_W,CHLORA,CHLORA_FLAG_W,HPLC,HPLC_FLAG_W,CDOM325,CDOM325_FLAG_W,CDOM340,CDOM340_FLAG_W,CDOM380,CDOM380_FLAG_W,CDOM412,CDOM412_FLAG_W,CDOM443,CDOM443_FLAG_W,CDOM490,CDOM490_FLAG_W,CDOM555,CDOM555_FLAG_W,CDOMSL,CDOMSL_FLAG_W,CDOMSN,CDOMSN_FLAG_W,D18O_NO3,D18O_NO3_FLAG_W,D15N_NO2+NO3,D15N_NO2+NO3_FLAG_W,D18O_NO2+NO3,D18O_NO2+NO3_FLAG_W
,,,,,,,,,,,METERS,DBAR,ITS-90,PSS-78,,PSS-78,,UMOL/KG,,UMOL/KG,,UMOL/KG,,UMOL/KG,,UMOL/KG,,UMOL/KG,,UMOL/KG,,PMOL/KG,,PMOL/KG,,PMOL/KG,,FMOL/KG,,UMOL/KG,,UMOL/KG,,,,DEG C,DEG C,/MILLE,,/MILLE,,/MILLE,/MILLE,,UG/KG,,UMOL/KG,,UMOL/KG,,UMOL/KG,,/MILLE,,,,,,/MILLE,,MG/M3,,,,1/M,,1/M,,1/M,,1/M,,1/M,,1/M,,1/M,,1/NM,,1/NM,,/MILLE,,/MILLE,,/MILLE,
33RR20160208,       I08S,      21,          1,          1,          1,2,20160223,       2349,   -58.6101,    82.0101,       1549,  1553.5,   0.7973,  34.7091,2,  34.7102,2,    202.8,2,   202.9,2,   130.8,2,    0.00,2,   32.33,2,    0.01,2,    2.21,2,   0.221,2,   0.121,2,   0.004,2,   0.114067837,2,  2264.1,2, 2360.46,2,   7.5900,6,    25.00,   0.7967, -999.00,9,  -999.0,9,  -999.0, -999.00,1,-999.000,9,  -999.0,9, -999.00,9,     -999.0,9, -999.00,9, 20160223,     2349, -58.6101,  82.0101,     -999.0,9,     -999.0,9,     -999.0,9,-999.0000,9,-999.0000,9,-999.0000,9,-999.0000,9,-999.0000,9,-999.0000,9,-999.0000,9,     -999.0,9,     -999.0,9,     -999.0,9,     -999.0,9,     -999.0,9
33RR20160208,       I08S,      21,          1,          2,          2,2,20160223,       2349,   -58.6101,    82.0101,       1549,  1444.7,   0.8383,  34.7117,2,  34.7121,2,    202.7,2,   203.0,2,   123.1,2,    0.00,2,   32.10,2,    0.00,2,    2.20,2,-999.000,9,-999.000,9,-999.000,9,-999.000000000,9,  -999.0,9, -999.00,9,-999.0000,9,     9.00,   0.8379, -999.00,9,  -999.0,9,  -999.0, -999.00,1,-999.000,9,  -999.0,9, -999.00,9,     -999.0,9, -999.00,9, 20160223,     2352, -58.6101,  82.0101,     -999.0,9,     -999.0,9,     -999.0,9,-999.0000,9,-999.0000,9,-999.0000,9,-999.0000,9,-999.0000,9,-999.0000,9,-999.0000,9,     -999.0,9,     -999.0,9,     -999.0,9,     -999.0,9,     -999.0,9
33RR20160208,       I08S,      21,          1,          3,          3,2,20160223,       2349,   -58.6101,    82.0101,       1549,  1334.0,   0.9214,  34.7163,2,  34.7172,2,    203.3,2,   203.4,2,   115.3,2,    0.00,2,   31.75,2,    0.00,2,    2.18,2,   0.229,2,   0.122,2,   0.003,2,   0.150408032,2,  2259.2,2, 2357.41,6,   7.5966,6,    24.99,   0.9209, -999.00,9,  -999.0,9,  -999.0, -999.00,1,-999.000,9,  -999.0,9, -999.00,9,     -999.0,9, -999.00,9, 20160223,     2355, -58.6101,  82.0100,     -999.0,9,     -999.0,9,     -999.0,9,-999.0000,9,-999.0000,9,-999.0000,9,-999.0000,9,-999.0000,9,-999.0000,9,-999.0000,9,     -999.0,9,     -999.0,9,     -999.0,9,     -999.0,9,     -999.0,9
33RR20160208,       I08S,      21,          1,          4,          4,2,20160223,       2349,   -58.6101,    82.0101,       1549,  1235.0,   0.9923,  34.7203,2,  34.7210,2,    203.2,2,   202.8,2,   111.3,2,    0.00,2,   31.55,2,    0.00,2,    2.17,2,-999.000,9,-999.000,9,-999.000,9,-999.000000000,9,  -999.0,9, -999.00,9,-999.0000,9,  -999.00,   0.9922, -999.00,9,  -999.0,9,  -999.0, -999.00,1,-999.000,9,  -999.0,9, -999.00,9,     -999.0,9, -999.00,9, 20160223,     2358, -58.6101,  82.0101,     -999.0,9,     -999.0,9,     -999.0,9,-999.0000,9,-999.0000,9,-999.0000,9,-999.0000,9,-999.0000,9,-999.0000,9,-999.0000,9,     -999.0,9,     -999.0,9,     -999.0,9,     -999.0,9,     -999.0,9
33RR20160208,       I08S,      21,          1,          5,          5,2,20160223,       2349,   -58.6101,    82.0101,       1549,  1134.8,   1.0775,  34.7249,2,  34.7257,2,    202.0,2,   202.6,2,   107.9,2,    0.00,2,   31.41,2,    0.00,2,    2.15,2,   0.237,2,   0.134,2,   0.003,2,   0.127190685,2,  -999.0,9, -999.00,9,-999.0000,9,     9.00,   1.0771, -999.00,9,  -999.0,9,  -999.0, -999.00,1,-999.000,9,  -999.0,9, -999.00,9,     -999.0,9, -999.00,9, 20160224,        1, -58.6101,  82.0101,     -999.0,9,     -999.0,9,     -999.0,9,-999.0000,9,-999.0000,9,-999.0000,9,-999.0000,9,-999.0000,9,-999.0000,9,-999.0000,9,     -999.0,9,     -999.0,9,     -999.0,9,     -999.0,9,     -999.0,9
33RR20160208,       I08S,      21,          1,          6,          6,2,20160223,       2349,   -58.6101,    82.0101,       1549,  1035.1,   1.1647,  34.7293,2,  34.7306,2,    201.9,2,   201.5,2,   103.2,2,    0.00,2,   31.20,2,    0.00,2,    2.13,2,-999.000,9,-999.000,9,-999.000,9,-999.000000000,9,  -999.0,9, -999.00,9,-999.0000,9,  -999.00,   1.1644, -999.00,9,  -999.0,9,  -999.0, -999.00,1,-999.000,9,  -999.0,9, -999.00,9,     -999.0,9, -999.00,9, 20160224,        4, -58.6100,  82.0101,     -999.0,9,     -999.0,9,     -999.0,9,-999.0000,9,-999.0000,9,-999.0000,9,-999.0000,9,-999.0000,9,-999.0000,9,-999.0000,9,     -999.0,9,     -999.0,9,     -999.0,9,     -999.0,9,     -999.0,9
33RR20160208,       I08S,      21,          1,          7,          7,2,20160223,       2349,   -58.6101,    82.0101,       1549,   935.0,   1.2849,  34.7346,2,  34.7355,2,    200.7,2,   200.7,2,    99.3,2,    0.00,2,   30.96,2,    0.00,2,    2.13,2,   0.244,2,   0.132,2,   0.014,2,   0.070661492,2,  2254.5,2, 2355.58,2,   7.6040,2,    24.98,   1.2853, -999.00,9,  -999.0,9,  -999.0, -999.00,1,-999.000,9,  -999.0,9, -999.00,9,     -999.0,9, -999.00,9, 20160224,        6, -58.6101,  82.0101,     -999.0,9,     -999.0,9,     -999.0,9,-999.0000,9,-999.0000,9,-999.0000,9,-999.0000,9,-999.0000,9,-999.0000,9,-999.0000,9,     -999.0,9,     -999.0,9,     -999.0,9,     -999.0,9,     -999.0,9
33RR20160208,       I08S,      21,          1,          8,          8,2,20160223,       2349,   -58.6101,    82.0101,       1549,   834.1,   1.3833,  34.7380,2,  34.7385,2,    199.3,2,   199.4,2,    96.2,2,    0.00,2,   30.86,2,    0.00,2,    2.12,2,-999.000,9,-999.000,9,-999.000,9,-999.000000000,9,  -999.0,9, -999.00,9,-999.0000,9,     9.00,   1.3832, -999.00,9,  -999.0,9,  -999.0, -999.00,1,-999.000,9,  -999.0,9, -999.00,9,     -999.0,9, -999.00,9, 20160224,        9, -58.6101,  82.0101,     -999.0,9,     -999.0,9,     -999.0,9,-999.0000,9,-999.0000,9,-999.0000,9,-999.0000,9,-999.0000,9,-999.0000,9,-999.0000,9,     -999.0,9,     -999.0,9,     -999.0,9,     -999.0,9,     -999.0,9
33RR20160208,       I08S,      21,          1,          9,          9,2,20160223,       2349,   -58.6101,    82.0101,       1549,   734.3,   1.4856,  34.7406,2,  34.7410,2,    198.2,2,   198.7,2,    93.2,2,    0.00,2,   30.72,2,    0.00,2,    2.11,2,   0.257,2,   0.149,2,   0.011,2,   0.137285184,2,  -999.0,9, -999.00,9,-999.0000,9,  -999.00,   1.4873, -999.00,9,  -999.0,9,  -999.0, -999.00,1,-999.000,9,  -999.0,9, -999.00,9,     -999.0,9, -999.00,9, 20160224,       12, -58.6101,  82.0101,     -999.0,9,     -999.0,9,     -999.0,9,-999.0000,9,-999.0000,9,-999.0000,9,-999.0000,9,-999.0000,9,-999.0000,9,-999.0000,9,     -999.0,9,     -999.0,9,     -999.0,9,     -999.0,9,     -999.0,9
33RR20160208,       I08S,      21,          1,         10,         10,2,20160223,       2349,   -58.6101,    82.0101,       1549,   635.5,   1.5989,  34.7416,2,  34.7418,2,    196.4,2,   196.7,2,    90.5,2,    0.00,2,   30.61,2,    0.00,2,    2.10,2,-999.000,9,-999.000,9,-999.000,9,-999.000000000,9,  -999.0,9, -999.00,9,-999.0000,9,  -999.00,   1.5971, -999.00,9,  -999.0,9,  -999.0, -999.00,1,-999.000,9,  -999.0,9, -999.00,9,     -999.0,9, -999.00,9, 20160224,       14, -58.6101,  82.0100,     -999.0,9,     -999.0,9,     -999.0,9,-999.0000,9,-999.0000,9,-999.0000,9,-999.0000,9,-999.0000,9,-999.0000,9,-999.0000,9,     -999.0,9,     -999.0,9,     -999.0,9,     -999.0,9,     -999.0,9
33RR20160208,       I08S,      21,          1,         11,         11,2,20160223,       2349,   -58.6101,    82.0101,       1549,   535.0,   1.6642,  34.7354,2,  34.7354,2,    193.5,2,   192.7,2,    89.2,2,    0.00,2,   30.97,2,    0.00,2,    2.12,2,   0.308,2,   0.177,2,   0.014,2,   0.179682079,2,  2253.4,2, 2348.27,2,   7.5949,2,    25.00,   1.6634, -999.00,9,  -999.0,9,  -999.0, -999.00,1,-999.000,9,  -999.0,9, -999.00,9,     -999.0,9, -999.00,9, 20160224,       17, -58.6101,  82.0100,     -999.0,9,     -999.0,9,     -999.0,9,-999.0000,9,-999.0000,9,-999.0000,9,-999.0000,9,-999.0000,9,-999.0000,9,-999.0000,9,     -999.0,9,     -999.0,9,     -999.0,9,     -999.0,9,     -999.0,9
33RR20160208,       I08S,      21,          1,         12,         12,2,20160223,       2349,   -58.6101,    82.0101,       1549,   435.1,   1.7180,  34.7295,2,  34.7297,2,    190.9,2,   190.7,2,    87.9,2,    0.00,2,   31.28,2,    0.00,2,    2.13,2,   0.340,2,   0.201,2,   0.017,2,   0.201889976,2,  -999.0,9, -999.00,9,-999.0000,9,  -999.00,   1.7174, -999.00,9,  -999.0,9,  -999.0, -999.00,1,-999.000,9,  -999.0,9, -999.00,9,     -999.0,9, -999.00,9, 20160224,       20, -58.6101,  82.0102,     -999.0,9,     -999.0,9,     -999.0,9,-999.0000,9,-999.0000,9,-999.0000,9,-999.0000,9,-999.0000,9,-999.0000,9,-999.0000,9,     -999.0,9,     -999.0,9,     -999.0,9,     -999.0,9,     -999.0,9
33RR20160208,       I08S,      21,          1,         13,         13,2,20160223,       2349,   -58.6101,    82.0101,       1549,   364.4,   1.7716,  34.7210,2,  34.7212,2,    187.7,2,   188.6,2,    87.0,2,    0.00,2,   31.62,2,    0.00,2,    2.15,2,   0.365,2,   0.210,2,   0.019,2,   0.233182923,2,  2256.1,2, 2348.03,2,   7.5817,6,    25.00,   1.7710, -999.00,9,  -999.0,9,  -999.0, -999.00,1,-999.000,9,  -999.0,9, -999.00,9,     -999.0,9, -999.00,9, 20160224,       22, -58.6101,  82.0101,     -999.0,9,     -999.0,9,     -999.0,9,-999.0000,9,-999.0000,9,-999.0000,9,-999.0000,9,-999.0000,9,-999.0000,9,-999.0000,9,     -999.0,9,     -999.0,9,     -999.0,9,     -999.0,9,     -999.0,9
33RR20160208,       I08S,      21,          1,         14,         14,2,20160223,       2349,   -58.6101,    82.0101,       1549,   314.2,   1.8079,  34.7129,2,  34.7122,2,    184.8,2,   184.4,2,    86.2,2,    0.00,2,   31.93,2,    0.00,2,    2.18,2,   0.397,2,   0.226,2,   0.023,2,   0.292740466,2,  -999.0,9, -999.00,9,-999.0000,9,     9.00,   1.8077, -999.00,9,  -999.0,9,  -999.0, -999.00,1,-999.000,9,  -999.0,9, -999.00,9,     -999.0,9, -999.00,9, 20160224,       24, -58.6100,  82.0099,     -999.0,9,     -999.0,9,     -999.0,9,-999.0000,9,-999.0000,9,-999.0000,9,-999.0000,9,-999.0000,9,-999.0000,9,-999.0000,9,     -999.0,9,     -999.0,9,     -999.0,9,     -999.0,9,     -999.0,9
33RR20160208,       I08S,      21,          1,         15,         15,2,20160223,       2349,   -58.6101,    82.0101,       1549,   263.5,   1.7910,  34.6986,2,  34.6999,2,    183.2,2,   184.2,2,    85.4,2,    0.00,2,   32.18,2,    0.00,2,    2.21,2,   0.473,2,   0.266,2,   0.028,2,   0.314948363,2,  -999.0,9, -999.00,9,-999.0000,9,  -999.00,   1.7902, -999.00,9,  -999.0,9,  -999.0, -999.00,1,-999.000,9,  -999.0,9, -999.00,9,     -999.0,9, -999.00,9, 20160224,       26, -58.6101,  82.0101,     -999.0,9,     -999.0,9,     -999.0,9,-999.0000,9,-999.0000,9,-999.0000,9,-999.0000,9,-999.0000,9,-999.0000,9,-999.0000,9,     -999.0,9,     -999.0,9,     -999.0,9,     -999.0,9,     -999.0,9
33RR20160208,       I08S,      21,          1,         16,         16,2,20160223,       2349,   -58.6101,    82.0101,       1549,   215.1,   1.8125,  34.6824,2,  34.6830,2,    178.2,2,   178.6,2,    85.5,2,    0.00,2,   32.86,2,    0.00,2,    2.26,2,   0.531,2,   0.302,2,   0.038,2,   0.335137361,2,  2260.7,2, 2340.72,2,   7.5574,6,    24.99,   1.8119, -999.00,9,  -999.0,9,  -999.0, -999.00,1,-999.000,9,  -999.0,9, -999.00,9,     -999.0,9, -999.00,9, 20160224,       28, -58.6101,  82.0101,     -999.0,9,     -999.0,9,     -999.0,9,-999.0000,9,-999.0000,9,-999.0000,9,-999.0000,9,-999.0000,9,-999.0000,9,-999.0000,9,     -999.0,9,     -999.0,9,     -999.0,9,     -999.0,9,     -999.0,9
33RR20160208,       I08S,      21,          1,         17,         17,2,20160223,       2349,   -58.6101,    82.0101,       1549,   165.7,   1.7220,  34.6508,2,  34.6518,2,    177.7,2,   178.5,2,    84.2,2,    0.00,2,   33.54,2,    0.02,2,    2.31,2,   0.739,2,   0.423,2,   0.056,2,   0.308891664,2,  -999.0,9, -999.00,9,-999.0000,9,     9.00,   1.7220, -999.00,9,  -999.0,9,  -999.0, -999.00,1,-999.000,9,  -999.0,9, -999.00,9,     -999.0,9, -999.00,9, 20160224,       30, -58.6101,  82.0101,     -999.0,9,     -999.0,9,     -999.0,9,-999.0000,9,-999.0000,9,-999.0000,9,-999.0000,9,-999.0000,9,-999.0000,9,-999.0000,9,     -999.0,9,     -999.0,9,     -999.0,9,     -999.0,9,     -999.0,9
33RR20160208,       I08S,      21,          1,         18,         37,2,20160223,       2349,   -58.6101,    82.0101,       1549,   114.4,   0.1609,  34.4036,2,  34.4044,2,    240.3,2,   239.2,2,    72.5,2,    0.00,2,   33.24,2,    0.06,2,    2.27,2,   2.714,2,   1.496,2,   0.264,2,    1.44553223,2,  2242.0,2, 2321.94,2,   7.5580,2,    25.00,   0.1543, -999.00,9,  -999.0,9,  -999.0, -999.00,1,-999.000,9,  -999.0,9, -999.00,9,     -999.0,9, -999.00,9, 20160224,       32, -58.6101,  82.0100,     -999.0,9,     -999.0,9,     -999.0,9,-999.0000,9,-999.0000,9,-999.0000,9,-999.0000,9,-999.0000,9,-999.0000,9,-999.0000,9,     -999.0,9,     -999.0,9,     -999.0,9,     -999.0,9,     -999.0,9
33RR20160208,       I08S,      21,          1,         19,         19,2,20160223,       2349,   -58.6101,    82.0101,       1549,    85.5,  -1.1510,  34.1860,2,  34.1950,2,    290.3,2,   290.5,2,    62.9,2,    0.63,2,   31.53,2,    0.32,2,    2.24,2,   4.263,2,   2.340,2,   0.419,2,    2.20665744,2,  2222.4,2, 2309.59,2,   7.5816,2,    24.99,  -1.1651, -999.00,9,  -999.0,9,  -999.0, -999.00,1,-999.000,9,  -999.0,9, -999.00,9,     -999.0,9, -999.00,9, 20160224,       34, -58.6100,  82.0100,     -999.0,9,     -999.0,9,     -999.0,9,-999.0000,9,-999.0000,9,-999.0000,9,-999.0000,9,-999.0000,9,-999.0000,9,-999.0000,9,     -999.0,9,     -999.0,9,     -999.0,9,     -999.0,9,     -999.0,9
33RR20160208,       I08S,      21,          1,         20,         20,2,20160223,       2349,   -58.6101,    82.0101,       1549,    57.5,   1.3199,  33.8810,2,  33.8937,2,    335.8,2,   335.6,2,    36.0,2,    0.54,2,   25.57,2,    0.24,2,    1.78,2,   5.653,2,   2.911,2,   0.529,2,     2.9990756,2,  2169.1,2, -999.00,5,   7.6961,2,    24.99,   1.3162, -999.00,9,  -999.0,9,  -999.0, -999.00,1,-999.000,9,  -999.0,9, -999.00,9,     -999.0,9, -999.00,9, 20160224,       36, -58.6100,  82.0101,     -999.0,9,     -999.0,9,     -999.0,9,-999.0000,9,-999.0000,9,-999.0000,9,-999.0000,9,-999.0000,9,-999.0000,9,-999.0000,9,     -999.0,9,     -999.0,9,     -999.0,9,     -999.0,9,     -999.0,9
33RR20160208,       I08S,      21,          1,         21,         21,2,20160223,       2349,   -58.6101,    82.0101,       1549,    35.3,   1.3952,  33.8763,2,  33.8765,2,    336.1,2,   337.0,2,    33.2,2,    0.37,2,   25.11,2,    0.24,2,    1.73,2,   5.228,2,   2.793,2,   0.515,2,    2.83857307,2,  2162.5,2, 2298.19,2,   7.7081,2,    24.98,   1.3947, -999.00,9,  -999.0,9,  -999.0, -999.00,1,-999.000,9,  -999.0,9, -999.00,9,     -999.0,9, -999.00,9, 20160224,       38, -58.6101,  82.0100,     -999.0,9,     -999.0,9,     -999.0,9,-999.0000,9,-999.0000,9,-999.0000,9,-999.0000,9,-999.0000,9,-999.0000,9,-999.0000,9,     -999.0,9,     -999.0,9,     -999.0,9,     -999.0,9,     -999.0,9
33RR20160208,       I08S,      21,          1,         22,         22,2,20160223,       2349,   -58.6101,    82.0101,       1549,     4.9,   1.5133,  33.8666,2,  33.8667,2,    336.8,2,   336.7,2,    32.5,2,    0.42,2,   24.86,2,    0.23,2,    1.68,2,   5.304,2,   2.909,2,   0.535,2,         2.991,2,  2162.4,6, 2293.98,2,   7.7091,6,    25.00,   1.5128, -999.00,9,  -999.0,9,  -999.0, -999.00,1,-999.000,9,  -999.0,9, -999.00,9,     -999.0,9, -999.00,9, 20160224,       40, -58.6101,  82.0100,     -999.0,9,     -999.0,9,     -999.0,9,-999.0000,9,-999.0000,9,-999.0000,9,-999.0000,9,-999.0000,9,-999.0000,9,-999.0000,9,     -999.0,9,     -999.0,9,     -999.0,9,     -999.0,9,     -999.0,9