BOTTLE,20220706CCHSIOAMB
EXPOCODE,SECT_ID,STNNBR,CASTNO,SAMPNO,BTLNBR,BTLNBR_FLAG_W,DATE,TIME,LATITUDE,LONGITUDE,DEPTH,CTDPRS,CTDTMP,CTDSAL,CTDSAL_FLAG_W,SALNTY,SALNTY_FLAG_W,CTDOXY,CTDOXY_FLAG_W,OXYGEN,OXYGEN_FLAG_W,SILCAT,SILCAT_FLAG_W,NH4,NH4_FLAG_W,NITRAT,NITRAT_FLAG_W,NITRIT,NITRIT_FLAG_W,PHSPHT,PHSPHT_FLAG_W,CFC-11,CFC-11_FLAG_W,CFC-12,CFC-12_FLAG_W,CFC113,CFC113_FLAG_W,SF6,SF6_FLAG_W,TCARBN,TCARBN_FLAG_W,ALKALI,ALKALI_FLAG_W,PH_TOT,PH_TOT_FLAG_W,PH_TMP,REFTMP,DELC13,DELC13_FLAG_W,DELC14,DELC14_FLAG_W,C14ERR,DELO18,DELO18_FLAG_W,POC,POC_FLAG_W,DOC,DOC_FLAG_W,TDN,TDN_FLAG_W,TON,TON_FLAG_W,D15N_NO3,D15N_NO3_FLAG_W,BTL_DATE,BTL_TIME,BTL_LAT,BTL_LON,14C-DOC,14C-DOC_FLAG_W,CHLORA,CHLORA_FLAG_W,HPLC,HPLC_FLAG_W,CDOM325,CDOM325_FLAG_W,CDOM340,CDOM340_FLAG_W,CDOM380,CDOM380_FLAG_W,CDOM412,CDOM412_FLAG_W,CDOM443,CDOM443_FLAG_W,CDOM490,CDOM490_FLAG_W,CDOM555,CDOM555_FLAG_W,CDOMSL,CDOMSL_FLAG_W,CDOMSN,CDOMSN_FLAG_W,D18O_NO3,D18O_NO3_FLAG_W,D15N_NO2+NO3,D15N_NO2+NO3_FLAG_W,D18O_NO2+NO3,D18O_NO2+NO3_FLAG_W
,,,,,,,,,,,METERS,DBAR,ITS-90,PSS-78,,PSS-78,,UMOL/KG,,UMOL/KG,,UMOL/KG,,UMOL/KG,,UMOL/KG,,UMOL/KG,,UMOL/KG,,PMOL/KG,,PMOL/KG,,PMOL/KG,,FMOL/KG,,UMOL/KG,,UMOL/KG,,,,DEG C,DEG C,/MILLE,,/MILLE,,/MILLE,/MILLE,,UG/KG,,UMOL/KG,,UMOL/KG,,UMOL/KG,,/MILLE,,,,,,/MILLE,,MG/M3,,,,1/M,,1/M,,1/M,,1/M,,1/M,,1/M,,1/M,,1/NM,,1/NM,,/MILLE,,/MILLE,,/MILLE,
33RR20160208,       I08S,      22,          1,          1,          1,2,20160224,       0337,   -58.2391,    82.0016,       1789,  1801.2,   0.6447,  34.7004,2,  34.7011,2,    207.3,2,   207.3,2,   124.5,2,    0.00,2,   32.31,2,    0.00,2,    2.25,2,   0.276,2,   0.142,2,   0.008,2,   0.261620082,2,  2260.8,2, 2359.05,6,   7.5921,2,    24.98,   0.6443, -999.00,9,  -999.0,9,  -999.0, -999.00,9,-999.000,9,    40.2,2, -999.00,9,     -999.0,1, -999.00,9, 20160224,      337, -58.2391,  82.0017,     -999.0,9,     -999.0,9,     -999.0,9,-999.0000,9,-999.0000,9,-999.0000,9,-999.0000,9,-999.0000,9,-999.0000,9,-999.0000,9,     -999.0,9,     -999.0,9,     -999.0,9,     -999.0,9,     -999.0,9
33RR20160208,       I08S,      22,          1,          2,          2,2,20160224,       0337,   -58.2391,    82.0016,       1789,  1559.5,   0.7973,  34.7090,2,  34.7091,2,    206.5,2,   206.4,2,   116.8,2,    0.00,2,   31.98,2,    0.00,2,    2.22,2,   0.256,2,   0.136,2,   0.004,2,   0.297984264,2,  2259.3,2, 2357.23,2,   7.5964,2,    25.00,   0.7969, -999.00,9,  -999.0,9,  -999.0, -999.00,9,-999.000,9,    38.5,2, -999.00,9,     -999.0,1, -999.00,9, 20160224,      343, -58.2391,  82.0016,     -999.0,9,     -999.0,9,     -999.0,9,-999.0000,9,-999.0000,9,-999.0000,9,-999.0000,9,-999.0000,9,-999.0000,9,-999.0000,9,     -999.0,9,     -999.0,9,     -999.0,9,     -999.0,9,     -999.0,9
33RR20160208,       I08S,      22,          1,          3,          3,3,20160224,       0337,   -58.2391,    82.0016,       1789,  1361.4,   0.9512,  34.7180,3,  34.7189,3,    204.2,3,   204.6,3,   113.4,3,    0.00,3,   31.70,3,    0.00,3,    2.21,3,-999.000,9,-999.000,9,-999.000,9,-999.000000000,9,  -999.0,9, -999.00,9,-999.0000,9,  -999.00,   0.9510, -999.00,9,  -999.0,9,  -999.0, -999.00,9,-999.000,9,    39.5,2, -999.00,9,     -999.0,1, -999.00,9, 20160224,      347, -58.2391,  82.0018,     -999.0,9,     -999.0,9,     -999.0,9,-999.0000,9,-999.0000,9,-999.0000,9,-999.0000,9,-999.0000,9,-999.0000,9,-999.0000,9,     -999.0,9,     -999.0,9,     -999.0,9,     -999.0,9,     -999.0,9
33RR20160208,       I08S,      22,          1,          4,          4,2,20160224,       0337,   -58.2391,    82.0016,       1789,  1263.6,   1.0153,  34.7206,2,  34.7207,2,    205.8,2,   206.0,2,   106.4,2,    0.00,2,   31.42,2,    0.00,2,    2.18,2,   0.271,2,   0.141,2,   0.005,2,   0.270711128,2,  -999.0,9, -999.00,9,-999.0000,9,     9.00,   1.0152, -999.00,9,  -999.0,9,  -999.0, -999.00,9,-999.000,9,    39.4,2, -999.00,9,     -999.0,1, -999.00,9, 20160224,      350, -58.2391,  82.0016,     -999.0,9,     -999.0,9,     -999.0,9,-999.0000,9,-999.0000,9,-999.0000,9,-999.0000,9,-999.0000,9,-999.0000,9,-999.0000,9,     -999.0,9,     -999.0,9,     -999.0,9,     -999.0,9,     -999.0,9
33RR20160208,       I08S,      22,          1,          5,          5,2,20160224,       0337,   -58.2391,    82.0016,       1789,  1164.0,   1.1250,  34.7274,2,  34.7274,2,    205.6,2,   206.9,2,   102.7,2,    0.00,2,   31.10,2,    0.00,2,    2.14,2,-999.000,9,-999.000,9,-999.000,9,-999.000000000,9,  2255.2,2, 2355.23,2,   7.6064,6,    24.99,   1.1245, -999.00,9,  -999.0,9,  -999.0, -999.00,9,-999.000,9,    39.8,2, -999.00,9,     -999.0,1, -999.00,9, 20160224,      352, -58.2390,  82.0015,     -999.0,9,     -999.0,9,     -999.0,9,-999.0000,9,-999.0000,9,-999.0000,9,-999.0000,9,-999.0000,9,-999.0000,9,-999.0000,9,     -999.0,9,     -999.0,9,     -999.0,9,     -999.0,9,     -999.0,9
33RR20160208,       I08S,      22,          1,          6,          6,2,20160224,       0337,   -58.2391,    82.0016,       1789,  1065.4,   1.2109,  34.7319,2,  34.7323,2,    205.0,2,   204.0,2,    99.9,2,    0.00,2,   30.92,2,    0.00,2,    2.14,2,   0.249,2,   0.135,2,   0.003,2,   0.252529037,2,  -999.0,9, -999.00,9,-999.0000,9,  -999.00,   1.2102, -999.00,9,  -999.0,9,  -999.0, -999.00,9,-999.000,9,    38.9,2, -999.00,9,     -999.0,1, -999.00,9, 20160224,      355, -58.2390,  82.0016,     -999.0,9,     -999.0,9,     -999.0,9,-999.0000,9,-999.0000,9,-999.0000,9,-999.0000,9,-999.0000,9,-999.0000,9,-999.0000,9,     -999.0,9,     -999.0,9,     -999.0,9,     -999.0,9,     -999.0,9
33RR20160208,       I08S,      22,          1,          7,          7,2,20160224,       0337,   -58.2391,    82.0016,       1789,   963.2,   1.2477,  34.7287,2,  34.7301,2,    204.4,2,   203.3,2,    98.0,2,    0.00,2,   30.96,2,    0.00,2,    2.15,2,-999.000,9,-999.000,9,-999.000,9,-999.000000000,9,  2252.3,2, 2353.89,2,   7.6060,2,    24.98,   1.2488, -999.00,9,  -999.0,9,  -999.0, -999.00,9,-999.000,9,    39.9,2, -999.00,9,     -999.0,1, -999.00,9, 20160224,      358, -58.2390,  82.0015,     -999.0,9,     -999.0,9,     -999.0,9,-999.0000,9,-999.0000,9,-999.0000,9,-999.0000,9,-999.0000,9,-999.0000,9,-999.0000,9,     -999.0,9,     -999.0,9,     -999.0,9,     -999.0,9,     -999.0,9
33RR20160208,       I08S,      22,          1,          8,          8,2,20160224,       0337,   -58.2391,    82.0016,       1789,   863.7,   1.2876,  34.7233,2,  34.7236,2,    203.3,2,   202.7,2,    94.9,2,    0.00,2,   31.01,2,    0.00,2,    2.13,2,   0.427,2,   0.234,2,   0.021,2,   0.305055077,2,  -999.0,9, -999.00,9,-999.0000,9,  -999.00,   1.2869, -999.00,9,  -999.0,9,  -999.0, -999.00,9,-999.000,9,    39.8,2, -999.00,9,     -999.0,1, -999.00,9, 20160224,      400, -58.2391,  82.0016,     -999.0,9,     -999.0,9,     -999.0,9,-999.0000,9,-999.0000,9,-999.0000,9,-999.0000,9,-999.0000,9,-999.0000,9,-999.0000,9,     -999.0,9,     -999.0,9,     -999.0,9,     -999.0,9,     -999.0,9
33RR20160208,       I08S,      22,          1,          9,          9,2,20160224,       0337,   -58.2391,    82.0016,       1789,   764.8,   1.5471,  34.7427,2,  34.7428,2,    199.0,2,   200.1,2,    90.6,2,    0.00,2,   30.48,2,    0.00,2,    2.10,2,-999.000,9,-999.000,9,-999.000,9,-999.000000000,9,  2249.5,2, 2349.95,2,   7.6080,2,    25.00,   1.5470, -999.00,9,  -999.0,9,  -999.0, -999.00,9,-999.000,9,    39.9,2, -999.00,9,     -999.0,1, -999.00,9, 20160224,      403, -58.2390,  82.0015,     -999.0,9,     -999.0,9,     -999.0,9,-999.0000,9,-999.0000,9,-999.0000,9,-999.0000,9,-999.0000,9,-999.0000,9,-999.0000,9,     -999.0,9,     -999.0,9,     -999.0,9,     -999.0,9,     -999.0,9
33RR20160208,       I08S,      22,          1,         10,         10,2,20160224,       0337,   -58.2391,    82.0016,       1789,   663.5,   1.6339,  34.7404,2,  34.7415,2,    196.3,2,   195.9,2,    89.1,2,    0.00,2,   30.70,2,    0.00,2,    2.12,2,   0.277,2,   0.155,2,   0.009,2,   0.378793556,2,  -999.0,9, -999.00,9,-999.0000,9,     9.00,   1.6336, -999.00,9,  -999.0,9,  -999.0, -999.00,9,-999.000,9,    39.5,2, -999.00,9,     -999.0,1, -999.00,9, 20160224,      406, -58.2390,  82.0015,     -999.0,9,     -999.0,9,     -999.0,9,-999.0000,9,-999.0000,9,-999.0000,9,-999.0000,9,-999.0000,9,-999.0000,9,-999.0000,9,     -999.0,9,     -999.0,9,     -999.0,9,     -999.0,9,     -999.0,9
33RR20160208,       I08S,      22,          1,         11,         11,2,20160224,       0337,   -58.2391,    82.0016,       1789,   564.4,   1.7122,  34.7359,2,  34.7350,2,    193.5,2,   192.9,2,    87.5,2,    0.00,2,   30.93,2,    0.00,2,    2.14,2,-999.000,9,-999.000,9,-999.000,9,-999.000000000,9,  2251.2,2, 2347.45,2,   7.5952,2,    24.99,   1.7119, -999.00,9,  -999.0,9,  -999.0, -999.00,9,-999.000,9,    39.4,2, -999.00,9,     -999.0,1, -999.00,9, 20160224,      408, -58.2390,  82.0015,     -999.0,9,     -999.0,9,     -999.0,9,-999.0000,9,-999.0000,9,-999.0000,9,-999.0000,9,-999.0000,9,-999.0000,9,-999.0000,9,     -999.0,9,     -999.0,9,     -999.0,9,     -999.0,9,     -999.0,9
33RR20160208,       I08S,      22,          1,         12,         12,2,20160224,       0337,   -58.2391,    82.0016,       1789,   462.6,   1.7940,  34.7287,2,  34.7291,2,    188.8,2,   190.1,2,    86.6,2,    0.00,2,   31.34,2,    0.00,2,    2.16,2,   0.337,6,   0.184,6,   0.014,6,   0.316166354,6,  -999.0,9, -999.00,9,-999.0000,9,  -999.00,   1.7943, -999.00,9,  -999.0,9,  -999.0, -999.00,9,-999.000,9,    38.5,2, -999.00,9,     -999.0,1, -999.00,9, 20160224,      411, -58.2390,  82.0015,     -999.0,9,     -999.0,9,     -999.0,9,-999.0000,9,-999.0000,9,-999.0000,9,-999.0000,9,-999.0000,9,-999.0000,9,-999.0000,9,     -999.0,9,     -999.0,9,     -999.0,9,     -999.0,9,     -999.0,9
33RR20160208,       I08S,      22,          1,         13,         13,2,20160224,       0337,   -58.2391,    82.0016,       1789,   385.9,   1.8431,  34.7183,2,  34.7178,2,    185.0,2,   186.0,2,    85.8,2,    0.00,2,   31.84,2,    0.00,2,    2.19,2,   0.378,2,   0.210,2,   0.017,2,   0.329297864,2,  2257.3,2, 2345.67,2,   7.5790,2,    24.98,   1.8428, -999.00,9,  -999.0,9,  -999.0, -999.00,9,-999.000,9,    39.3,2, -999.00,9,     -999.0,1, -999.00,9, 20160224,      413, -58.2390,  82.0015,     -999.0,9,     -999.0,9,     -999.0,9,-999.0000,9,-999.0000,9,-999.0000,9,-999.0000,9,-999.0000,9,-999.0000,9,-999.0000,9,     -999.0,9,     -999.0,9,     -999.0,9,     -999.0,9,     -999.0,9
33RR20160208,       I08S,      22,          1,         14,         14,2,20160224,       0337,   -58.2391,    82.0016,       1789,   334.2,   1.8698,  34.7085,2,  34.7077,2,    182.9,2,   183.2,2,    85.4,2,    0.00,2,   32.17,2,    0.00,2,    2.21,2,   0.405,2,   0.225,2,   0.020,2,   0.357581117,2,  -999.0,9, -999.00,9,-999.0000,9,  -999.00,   1.8697, -999.00,9,  -999.0,9,  -999.0, -999.00,9,-999.000,9,    38.1,2,   34.30,2,     -999.0,1, -999.00,9, 20160224,      415, -58.2390,  82.0015,     -999.0,9,     -999.0,9,     -999.0,9,-999.0000,9,-999.0000,9,-999.0000,9,-999.0000,9,-999.0000,9,-999.0000,9,-999.0000,9,     -999.0,9,     -999.0,9,     -999.0,9,     -999.0,9,     -999.0,9
33RR20160208,       I08S,      22,          1,         15,         15,2,20160224,       0337,   -58.2391,    82.0016,       1789,   286.4,   1.8842,  34.6939,2,  34.6940,2,    180.3,2,   180.1,2,    84.9,2,    0.00,2,   32.65,2,    0.00,2,    2.24,2,   0.460,2,   0.252,2,   0.023,2,   0.327277632,2,  2259.7,2, 2343.12,2,   7.5650,2,    24.99,   1.8837, -999.00,9,  -999.0,9,  -999.0, -999.00,9,-999.000,9,    39.4,2,   35.30,2,     -999.0,1, -999.00,9, 20160224,      417, -58.2390,  82.0015,     -999.0,9,     -999.0,9,     -999.0,9,-999.0000,9,-999.0000,9,-999.0000,9,-999.0000,9,-999.0000,9,-999.0000,9,-999.0000,9,     -999.0,9,     -999.0,9,     -999.0,9,     -999.0,9,     -999.0,9
33RR20160208,       I08S,      22,          1,         16,         16,2,20160224,       0337,   -58.2391,    82.0016,       1789,   234.6,   1.8039,  34.6703,2,  34.6691,2,    179.4,2,   178.9,2,    84.5,2,    0.00,2,   33.08,2,    0.01,2,    2.26,2,   0.622,2,   0.333,2,   0.041,2,   0.358591233,2,  -999.0,9, -999.00,9,-999.0000,9,     9.00,   1.8041, -999.00,9,  -999.0,9,  -999.0, -999.00,9,-999.000,9,    39.6,2,   34.90,2,     -999.0,1, -999.00,9, 20160224,      419, -58.2390,  82.0015,     -999.0,9,     -999.0,9,     -999.0,9,-999.0000,9,-999.0000,9,-999.0000,9,-999.0000,9,-999.0000,9,-999.0000,9,-999.0000,9,     -999.0,9,     -999.0,9,     -999.0,9,     -999.0,9,     -999.0,9
33RR20160208,       I08S,      22,          1,         17,         17,2,20160224,       0337,   -58.2391,    82.0016,       1789,   184.3,   1.8308,  34.6511,2,  34.6507,2,    177.4,2,   176.5,2,    83.8,2,    0.00,2,   33.53,2,    0.01,2,    2.31,2,   0.676,2,   0.359,2,   0.045,2,   0.357581117,2,  2262.9,2, 2340.36,2,   7.5451,6,    24.99,   1.8309, -999.00,9,  -999.0,9,  -999.0, -999.00,9,-999.000,9,    38.6,2,   37.30,2,     -999.0,1, -999.00,9, 20160224,      421, -58.2390,  82.0015,     -999.0,9,     -999.0,9,     -999.0,9,-999.0000,9,-999.0000,9,-999.0000,9,-999.0000,9,-999.0000,9,-999.0000,9,-999.0000,9,     -999.0,9,     -999.0,9,     -999.0,9,     -999.0,9,     -999.0,9
33RR20160208,       I08S,      22,          1,         18,         37,2,20160224,       0337,   -58.2391,    82.0016,       1789,   134.7,   1.6797,  34.6038,2,  34.6034,2,    175.9,2,   176.4,2,    82.2,2,    0.00,2,   34.22,2,    0.03,2,    2.34,2,   0.910,2,   0.480,2,   0.068,2,   0.387884601,2,  -999.0,9, -999.00,9,-999.0000,9,  -999.00,   1.6820, -999.00,9,  -999.0,9,  -999.0, -999.00,9,-999.000,9,    39.5,2,   39.10,3,     -999.0,1, -999.00,9, 20160224,      423, -58.2390,  82.0015,     -999.0,9,     -999.0,9,     -999.0,9,-999.0000,9,-999.0000,9,-999.0000,9,-999.0000,9,-999.0000,9,-999.0000,9,-999.0000,9,     -999.0,9,     -999.0,9,     -999.0,9,     -999.0,9,     -999.0,9
33RR20160208,       I08S,      22,          1,         19,         19,2,20160224,       0337,   -58.2391,    82.0016,       1789,    91.2,   1.0491,  34.4948,2,  34.4930,2,    193.6,2,   194.4,2,    77.4,2,    0.00,2,   34.20,2,    0.28,2,    2.37,2,   1.681,2,   0.880,2,   0.139,2,   0.739405021,2,  2256.8,2, 2328.10,2,   7.5284,6,    25.00,   1.0446, -999.00,9,  -999.0,9,  -999.0, -999.00,9,-999.000,9,    41.9,2,   36.70,2,     -999.0,1, -999.00,9, 20160224,      428, -58.2390,  82.0015,     -999.0,9,     -999.0,9,     -999.0,9,-999.0000,9,-999.0000,9,-999.0000,9,-999.0000,9,-999.0000,9,-999.0000,9,-999.0000,9,     -999.0,9,     -999.0,9,     -999.0,9,     -999.0,9,     -999.0,9
33RR20160208,       I08S,      22,          1,         20,         20,2,20160224,       0337,   -58.2391,    82.0016,       1789,    65.0,   0.3910,  34.3706,2,  34.3778,2,    219.5,2,   219.1,2,    72.1,2,    0.70,2,   33.29,2,    0.23,2,    2.41,2,   2.352,2,   1.248,2,   0.210,2,    1.01920719,2,  2247.8,2, 2321.33,2,   7.5401,6,    24.99,   0.3929, -999.00,9,  -999.0,9,  -999.0, -999.00,9,-999.000,9,    40.4,2,   35.80,2,     -999.0,1, -999.00,9, 20160224,      430, -58.2390,  82.0016,     -999.0,9,     -999.0,9,     -999.0,9,-999.0000,9,-999.0000,9,-999.0000,9,-999.0000,9,-999.0000,9,-999.0000,9,-999.0000,9,     -999.0,9,     -999.0,9,     -999.0,9,     -999.0,9,     -999.0,9
33RR20160208,       I08S,      22,          1,         21,         21,2,20160224,       0337,   -58.2391,    82.0016,       1789,    39.9,   1.4426,  33.8956,2,  33.8969,2,    334.6,2,   334.7,2,    34.4,2,    0.33,2,   25.58,2,    0.24,2,    1.78,2,   5.149,2,   2.800,2,   0.493,2,    2.84953766,2,  2166.6,2, 2294.71,2,   7.7026,2,    24.98,   1.4451, -999.00,9,  -999.0,9,  -999.0, -999.00,9,-999.000,9,    43.0,2,   30.50,3,     -999.0,1, -999.00,9, 20160224,      431, -58.2390,  82.0015,     -999.0,9,     -999.0,9,     -999.0,9,-999.0000,9,-999.0000,9,-999.0000,9,-999.0000,9,-999.0000,9,-999.0000,9,-999.0000,9,     -999.0,9,     -999.0,9,     -999.0,9,     -999.0,9,     -999.0,9
33RR20160208,       I08S,      22,          1,         22,         22,2,20160224,       0337,   -58.2391,    82.0016,       1789,    20.3,   1.5191,  33.8938,2,  33.8957,2,    334.6,2,   335.1,2,    34.2,2,    0.31,2,   25.53,2,    0.24,2,    1.74,2,   5.135,2,   2.787,2,   0.508,2,    2.86872986,2,  2165.9,2, 2294.41,2,   7.7026,6,    24.99,   1.5190, -999.00,9,  -999.0,9,  -999.0, -999.00,9,-999.000,9,    43.5,2,   28.10,2,     -999.0,1, -999.00,9, 20160224,      433, -58.2390,  82.0015,     -999.0,9,     -999.0,9,     -999.0,9,-999.0000,9,-999.0000,9,-999.0000,9,-999.0000,9,-999.0000,9,-999.0000,9,-999.0000,9,     -999.0,9,     -999.0,9,     -999.0,9,     -999.0,9,     -999.0,9
33RR20160208,       I08S,      22,          1,         23,         23,2,20160224,       0337,   -58.2391,    82.0016,       1789,     5.0,   1.5249,  33.8937,2,  33.8951,2,    335.0,2,   334.8,2,    34.3,2,    0.32,2,   25.46,2,    0.24,2,    1.76,2,   5.048,2,   2.737,2,   0.494,2,         2.696,2,  2164.4,6, 2294.62,2,   7.7028,6,    24.99,   1.5245, -999.00,9,  -999.0,9,  -999.0, -999.00,9,-999.000,9,    43.7,2,   27.20,2,     -999.0,1, -999.00,9, 20160224,      435, -58.2390,  82.0015,     -999.0,9,     -999.0,9,     -999.0,9,-999.0000,9,-999.0000,9,-999.0000,9,-999.0000,9,-999.0000,9,-999.0000,9,-999.0000,9,     -999.0,9,     -999.0,9,     -999.0,9,     -999.0,9,     -999.0,9