BOTTLE,20220706CCHSIOAMB
EXPOCODE,SECT_ID,STNNBR,CASTNO,SAMPNO,BTLNBR,BTLNBR_FLAG_W,DATE,TIME,LATITUDE,LONGITUDE,DEPTH,CTDPRS,CTDTMP,CTDSAL,CTDSAL_FLAG_W,SALNTY,SALNTY_FLAG_W,CTDOXY,CTDOXY_FLAG_W,OXYGEN,OXYGEN_FLAG_W,SILCAT,SILCAT_FLAG_W,NH4,NH4_FLAG_W,NITRAT,NITRAT_FLAG_W,NITRIT,NITRIT_FLAG_W,PHSPHT,PHSPHT_FLAG_W,CFC-11,CFC-11_FLAG_W,CFC-12,CFC-12_FLAG_W,CFC113,CFC113_FLAG_W,SF6,SF6_FLAG_W,TCARBN,TCARBN_FLAG_W,ALKALI,ALKALI_FLAG_W,PH_TOT,PH_TOT_FLAG_W,PH_TMP,REFTMP,DELC13,DELC13_FLAG_W,DELC14,DELC14_FLAG_W,C14ERR,DELO18,DELO18_FLAG_W,POC,POC_FLAG_W,DOC,DOC_FLAG_W,TDN,TDN_FLAG_W,TON,TON_FLAG_W,D15N_NO3,D15N_NO3_FLAG_W,BTL_DATE,BTL_TIME,BTL_LAT,BTL_LON,14C-DOC,14C-DOC_FLAG_W,CHLORA,CHLORA_FLAG_W,HPLC,HPLC_FLAG_W,CDOM325,CDOM325_FLAG_W,CDOM340,CDOM340_FLAG_W,CDOM380,CDOM380_FLAG_W,CDOM412,CDOM412_FLAG_W,CDOM443,CDOM443_FLAG_W,CDOM490,CDOM490_FLAG_W,CDOM555,CDOM555_FLAG_W,CDOMSL,CDOMSL_FLAG_W,CDOMSN,CDOMSN_FLAG_W,D18O_NO3,D18O_NO3_FLAG_W,D15N_NO2+NO3,D15N_NO2+NO3_FLAG_W,D18O_NO2+NO3,D18O_NO2+NO3_FLAG_W
,,,,,,,,,,,METERS,DBAR,ITS-90,PSS-78,,PSS-78,,UMOL/KG,,UMOL/KG,,UMOL/KG,,UMOL/KG,,UMOL/KG,,UMOL/KG,,UMOL/KG,,PMOL/KG,,PMOL/KG,,PMOL/KG,,FMOL/KG,,UMOL/KG,,UMOL/KG,,,,DEG C,DEG C,/MILLE,,/MILLE,,/MILLE,/MILLE,,UG/KG,,UMOL/KG,,UMOL/KG,,UMOL/KG,,/MILLE,,,,,,/MILLE,,MG/M3,,,,1/M,,1/M,,1/M,,1/M,,1/M,,1/M,,1/M,,1/NM,,1/NM,,/MILLE,,/MILLE,,/MILLE,
33RR20160208,       I08S,      58,          1,         28,         28,2,20160305,       1435,   -41.1441,    95.0003,       3564,   235.2,  11.3530,  34.9480,2,  34.9461,2,    253.4,2,   253.4,2,     3.1,2,    0.00,2,   10.08,2,    0.00,2,    0.77,2,-999.000,9,-999.000,9,-999.000,9,-999.000000000,9,  2117.5,2, 2305.35,2,   7.8347,2,    25.05,  11.3515, -999.00,9,  -999.0,9,  -999.0, -999.00,1,-999.000,9,    46.6,2,   13.10,2,     -999.0,1,    7.13,2, 20160305,     1603, -41.1439,  95.0004,     -999.0,9,     -999.0,9,     -999.0,9,-999.0000,9,-999.0000,9,-999.0000,9,-999.0000,9,-999.0000,9,-999.0000,9,-999.0000,9,     -999.0,9,     -999.0,9,       5.06,2,       7.13,2,       5.06,2
33RR20160208,       I08S,      58,          1,         29,         29,2,20160305,       1435,   -41.1441,    95.0003,       3564,   185.9,  11.4627,  34.9599,2,  34.9594,2,    252.6,2,   253.4,2,     3.0,2,    0.00,2,    9.81,2,    0.00,2,    0.73,2,   3.014,2,   1.746,2,   0.215,2,    1.80847608,2,  2116.4,2, 2306.42,2,   7.8369,2,    25.05,  11.4539, -999.00,9,  -999.0,9,  -999.0, -999.00,1,-999.000,9,    46.2,2,   12.60,2,     -999.0,1,    7.13,2, 20160305,     1605, -41.1439,  95.0004,     -999.0,9,     -999.0,9,     -999.0,9,-999.0000,9,-999.0000,9,-999.0000,9,-999.0000,9,-999.0000,9,-999.0000,9,-999.0000,9,     -999.0,9,     -999.0,9,       5.14,2,       7.13,2,       5.14,2
33RR20160208,       I08S,      58,          1,         30,         30,2,20160305,       1435,   -41.1441,    95.0003,       3564,   139.6,  11.5945,  34.9634,2,  34.9577,2,    253.6,2,   253.1,2,     2.7,2,    0.00,2,    9.36,2,    0.00,2,    0.71,2,-999.000,9,-999.000,9,-999.000,9,-999.000000000,9,  2115.5,2, 2306.10,2,   7.8402,2,    24.96,  11.5918, -999.00,9,  -999.0,9,  -999.0, -999.00,1,-999.000,9,    47.7,2,   11.70,2,     -999.0,1,    7.33,2, 20160305,     1607, -41.1439,  95.0004,     -999.0,9,     -999.0,9,     -999.0,9,-999.0000,9,-999.0000,9,-999.0000,9,-999.0000,9,-999.0000,9,-999.0000,9,-999.0000,9,     -999.0,9,     -999.0,9,       5.34,2,       7.33,2,       5.34,2
33RR20160208,       I08S,      58,          1,         31,         31,2,20160305,       1435,   -41.1441,    95.0003,       3564,   116.0,  11.5297,  34.9103,2,  34.9156,2,    252.7,2,   254.9,2,     2.7,2,    0.00,2,    9.24,2,    0.24,2,    0.75,2,   3.034,2,   1.743,2,   0.241,2,     1.8699683,2,  -999.0,9, -999.00,9,-999.0000,9,     9.00,  11.5207, -999.00,9,  -999.0,9,  -999.0, -999.00,1,-999.000,9,    48.5,2,   13.40,2,     -999.0,1,    8.12,2, 20160305,     1608, -41.1439,  95.0004,     -999.0,9,     -999.0,9,     -999.0,9,-999.0000,9,-999.0000,9,-999.0000,9,-999.0000,9,-999.0000,9,-999.0000,9,-999.0000,9,     -999.0,9,     -999.0,9,       6.32,2,       7.72,2,       6.45,2
33RR20160208,       I08S,      58,          1,         32,         32,2,20160305,       1435,   -41.1441,    95.0003,       3564,    90.5,  12.0232,  34.9206,2,  34.9237,2,    257.5,2,   257.0,2,     2.3,2,    0.45,2,    7.21,2,    0.91,2,    0.69,2,-999.000,9,-999.000,9,-999.000,9,-999.000000000,9,  2109.7,2, 2306.82,2,   7.8534,2,    24.92,  12.0226, -999.00,9,  -999.0,9,  -999.0, -999.00,1,-999.000,9,    50.2,2,   11.80,2,     -999.0,1,   10.54,2, 20160305,     1611, -41.1440,  95.0004,     -999.0,9,     -999.0,9,     -999.0,9,-999.0000,9,-999.0000,9,-999.0000,9,-999.0000,9,-999.0000,9,-999.0000,9,-999.0000,9,     -999.0,9,     -999.0,9,       8.49,2,       7.99,2,       8.65,2
33RR20160208,       I08S,      58,          1,         33,         33,2,20160305,       1435,   -41.1441,    95.0003,       3564,    65.7,  13.8201,  34.8900,2,  34.8873,2,    255.1,2,   254.3,2,     0.6,2,    0.92,2,    4.78,2,    0.13,2,    0.55,2,   2.781,2,   1.617,2,   0.218,2,    1.84275043,2,  2089.9,2, 2307.72,2,   7.8988,2,    24.91,  13.8172, -999.00,9,  -999.0,9,  -999.0, -999.00,1,-999.000,9,    54.7,2,    8.90,2,     -999.0,1,   15.41,2, 20160305,     1613, -41.1440,  95.0004,     -999.0,9,     -999.0,9,     -999.0,9,-999.0000,9,-999.0000,9,-999.0000,9,-999.0000,9,-999.0000,9,-999.0000,9,-999.0000,9,     -999.0,9,     -999.0,9,      12.41,2,      13.86,2,      12.28,2
33RR20160208,       I08S,      58,          1,         34,         34,2,20160305,       1435,   -41.1441,    95.0003,       3564,    40.9,  14.9701,  34.8982,2,  34.8974,2,    256.3,2,   254.6,2,     0.1,2,    0.09,2,    3.47,2,    0.07,2,    0.38,2,   2.587,2,   1.517,2,   0.207,2,     1.6411366,2,  2073.3,2, 2309.53,6,   7.9337,2,    24.91,  14.9688, -999.00,9,  -999.0,9,  -999.0, -999.00,1,-999.000,9,    57.8,2,    7.30,2,     -999.0,1,   18.34,2, 20160305,     1614, -41.1439,  95.0004,     -999.0,9,     -999.0,9,     -999.0,9,-999.0000,9,-999.0000,9,-999.0000,9,-999.0000,9,-999.0000,9,-999.0000,9,-999.0000,9,     -999.0,9,     -999.0,9,      15.33,2,       16.8,2,       15.1,2
33RR20160208,       I08S,      58,          1,         35,         35,2,20160305,       1435,   -41.1441,    95.0003,       3564,    20.4,  15.0378,  34.9031,2,  34.9021,2,    257.3,2,   255.7,2,     0.1,2,    0.05,2,    3.39,2,    0.07,2,    0.35,2,   2.567,2,   1.518,2,   0.207,2,     1.6411366,2,  2072.1,2, 2310.46,2,   7.9363,2,    24.94,  15.0372, -999.00,9,  -999.0,9,  -999.0, -999.00,1,-999.000,9,    59.5,2,    8.00,2,     -999.0,1,   18.63,2, 20160305,     1616, -41.1439,  95.0005,     -999.0,9,     -999.0,9,     -999.0,9,-999.0000,9,-999.0000,9,-999.0000,9,-999.0000,9,-999.0000,9,-999.0000,9,-999.0000,9,     -999.0,9,     -999.0,9,      15.29,2,      16.96,2,      15.25,2
33RR20160208,       I08S,      58,          1,         36,         36,2,20160305,       1435,   -41.1441,    95.0003,       3564,     5.3,  15.2922,  34.9040,2,  34.9029,2,    255.7,2,   255.0,2,     0.2,2,    0.06,2,    3.39,2,    0.07,2,    0.39,2,   2.577,2,   1.504,2,   0.208,2,    1.70766916,2,  2071.7,6, 2310.84,2,   7.9354,6,    24.94,  15.2911, -999.00,9,  -999.0,9,  -999.0, -999.00,1,-999.000,9,    56.6,2,    7.00,2,     -999.0,1,    18.6,2, 20160305,     1618, -41.1440,  95.0004,     -999.0,9,     -999.0,9,     -999.0,9,-999.0000,9,-999.0000,9,-999.0000,9,-999.0000,9,-999.0000,9,-999.0000,9,-999.0000,9,     -999.0,9,     -999.0,9,      15.06,2,      16.89,2,      15.51,2