BOTTLE,20220706CCHSIOAMB
EXPOCODE,SECT_ID,STNNBR,CASTNO,SAMPNO,BTLNBR,BTLNBR_FLAG_W,DATE,TIME,LATITUDE,LONGITUDE,DEPTH,CTDPRS,CTDTMP,CTDSAL,CTDSAL_FLAG_W,SALNTY,SALNTY_FLAG_W,CTDOXY,CTDOXY_FLAG_W,OXYGEN,OXYGEN_FLAG_W,SILCAT,SILCAT_FLAG_W,NH4,NH4_FLAG_W,NITRAT,NITRAT_FLAG_W,NITRIT,NITRIT_FLAG_W,PHSPHT,PHSPHT_FLAG_W,CFC-11,CFC-11_FLAG_W,CFC-12,CFC-12_FLAG_W,CFC113,CFC113_FLAG_W,SF6,SF6_FLAG_W,TCARBN,TCARBN_FLAG_W,ALKALI,ALKALI_FLAG_W,PH_TOT,PH_TOT_FLAG_W,PH_TMP,REFTMP,DELC13,DELC13_FLAG_W,DELC14,DELC14_FLAG_W,C14ERR,DELO18,DELO18_FLAG_W,POC,POC_FLAG_W,DOC,DOC_FLAG_W,TDN,TDN_FLAG_W,TON,TON_FLAG_W,D15N_NO3,D15N_NO3_FLAG_W,BTL_DATE,BTL_TIME,BTL_LAT,BTL_LON,14C-DOC,14C-DOC_FLAG_W,CHLORA,CHLORA_FLAG_W,HPLC,HPLC_FLAG_W,CDOM325,CDOM325_FLAG_W,CDOM340,CDOM340_FLAG_W,CDOM380,CDOM380_FLAG_W,CDOM412,CDOM412_FLAG_W,CDOM443,CDOM443_FLAG_W,CDOM490,CDOM490_FLAG_W,CDOM555,CDOM555_FLAG_W,CDOMSL,CDOMSL_FLAG_W,CDOMSN,CDOMSN_FLAG_W,D18O_NO3,D18O_NO3_FLAG_W,D15N_NO2+NO3,D15N_NO2+NO3_FLAG_W,D18O_NO2+NO3,D18O_NO2+NO3_FLAG_W
,,,,,,,,,,,METERS,DBAR,ITS-90,PSS-78,,PSS-78,,UMOL/KG,,UMOL/KG,,UMOL/KG,,UMOL/KG,,UMOL/KG,,UMOL/KG,,UMOL/KG,,PMOL/KG,,PMOL/KG,,PMOL/KG,,FMOL/KG,,UMOL/KG,,UMOL/KG,,,,DEG C,DEG C,/MILLE,,/MILLE,,/MILLE,/MILLE,,UG/KG,,UMOL/KG,,UMOL/KG,,UMOL/KG,,/MILLE,,,,,,/MILLE,,MG/M3,,,,1/M,,1/M,,1/M,,1/M,,1/M,,1/M,,1/M,,1/NM,,1/NM,,/MILLE,,/MILLE,,/MILLE,
33RR20160208,       I08S,      54,          1,         28,         28,2,20160304,       1258,   -43.7089,    95.0001,       3250,   167.0,   8.4477,  34.3812,2,  34.3846,2,    266.2,2,   265.2,2,     3.9,2,    0.00,2,   16.85,2,    0.00,2,    1.17,2,   3.543,2,   2.013,2,   0.279,2,         2.075,2,  2125.7,2, 2286.79,2,   7.7741,2,    24.96,   8.4496, -999.00,9,  -999.0,9,  -999.0, -999.00,9,-999.000,9,    44.8,2,   18.60,2,     -999.0,1, -999.00,9, 20160304,     1425, -43.7089,  95.0001,     -999.0,9,     -999.0,9,     -999.0,9,-999.0000,9,-999.0000,9,-999.0000,9,-999.0000,9,-999.0000,9,-999.0000,9,-999.0000,9,     -999.0,9,     -999.0,9,     -999.0,9,     -999.0,9,     -999.0,9
33RR20160208,       I08S,      54,          1,         29,         29,2,20160304,       1258,   -43.7089,    95.0001,       3250,   137.1,   8.0296,  34.2204,2,  34.2310,2,    276.2,2,   273.5,2,     3.2,2,    0.00,2,   17.57,2,    0.00,2,    1.24,2,-999.000,9,-999.000,9,-999.000,9,-999.000000000,9,  -999.0,9, -999.00,9,-999.0000,9,     9.00,   8.0432, -999.00,9,  -999.0,9,  -999.0, -999.00,9,-999.000,9,    44.4,2,   19.60,2,     -999.0,1, -999.00,9, 20160304,     1426, -43.7089,  95.0001,     -999.0,9,     -999.0,9,     -999.0,9,-999.0000,9,-999.0000,9,-999.0000,9,-999.0000,9,-999.0000,9,-999.0000,9,-999.0000,9,     -999.0,9,     -999.0,9,     -999.0,9,     -999.0,9,     -999.0,9
33RR20160208,       I08S,      54,          1,         30,         30,2,20160304,       1258,   -43.7089,    95.0001,       3250,   112.0,   8.5931,  34.2111,2,  34.2009,2,    278.0,2,   276.8,2,     2.2,2,    0.08,2,   15.84,2,    0.61,2,    1.18,2,   3.602,2,   2.046,2,   0.296,2,         2.206,2,  2114.1,2, 2279.23,6,   7.7877,2,    24.96,   8.5888, -999.00,9,  -999.0,9,  -999.0, -999.00,9,-999.000,9,    45.2,2,   18.70,2,     -999.0,1, -999.00,9, 20160304,     1428, -43.7089,  95.0001,     -999.0,9,     -999.0,9,     -999.0,9,-999.0000,9,-999.0000,9,-999.0000,9,-999.0000,9,-999.0000,9,-999.0000,9,-999.0000,9,     -999.0,9,     -999.0,9,     -999.0,9,     -999.0,9,     -999.0,9
33RR20160208,       I08S,      54,          1,         31,         31,2,20160304,       1258,   -43.7089,    95.0001,       3250,    87.8,   8.6839,  34.0411,2,  34.0504,2,    290.5,2,   285.6,2,     1.6,2,    0.56,2,   15.97,2,    0.26,2,    1.19,2,-999.000,9,-999.000,9,-999.000,9,-999.000000000,9,  2108.9,2, 2276.69,2,   7.7994,2,    24.96,   8.6836, -999.00,9,  -999.0,9,  -999.0, -999.00,9,-999.000,9,    45.9,2,   19.00,2,     -999.0,1, -999.00,9, 20160304,     1431, -43.7089,  95.0001,     -999.0,9,     -999.0,9,     -999.0,9,-999.0000,9,-999.0000,9,-999.0000,9,-999.0000,9,-999.0000,9,-999.0000,9,-999.0000,9,     -999.0,9,     -999.0,9,     -999.0,9,     -999.0,9,     -999.0,9
33RR20160208,       I08S,      54,          1,         32,         32,2,20160304,       1258,   -43.7089,    95.0001,       3250,    60.9,   9.2494,  34.0135,2,  34.0144,2,    286.1,2,   286.5,2,     1.4,2,    0.26,2,   15.73,2,    0.19,2,    1.16,2,   3.435,2,   1.980,2,   0.300,2,         2.049,2,  2100.2,2, 2276.20,2,   7.8128,2,    24.94,   9.2505, -999.00,9,  -999.0,9,  -999.0, -999.00,9,-999.000,9,    46.4,2,   18.90,2,     -999.0,1, -999.00,9, 20160304,     1433, -43.7089,  95.0001,     -999.0,9,     -999.0,9,     -999.0,9,-999.0000,9,-999.0000,9,-999.0000,9,-999.0000,9,-999.0000,9,-999.0000,9,-999.0000,9,     -999.0,9,     -999.0,9,     -999.0,9,     -999.0,9,     -999.0,9
33RR20160208,       I08S,      54,          1,         33,         33,2,20160304,       1258,   -43.7089,    95.0001,       3250,    36.3,   9.7551,  34.0644,2,  34.0641,2,    285.4,2,   283.9,2,     1.2,2,    0.21,2,   14.57,2,    0.20,2,    1.06,2,   3.308,2,   1.916,2,   0.333,2,         2.016,2,  2098.7,2, 2277.47,2,   7.8240,2,    24.95,   9.7490, -999.00,9,  -999.0,9,  -999.0, -999.00,9,-999.000,9,    47.7,2,   17.20,2,     -999.0,1, -999.00,9, 20160304,     1435, -43.7089,  95.0001,     -999.0,9,     -999.0,9,     -999.0,9,-999.0000,9,-999.0000,9,-999.0000,9,-999.0000,9,-999.0000,9,-999.0000,9,-999.0000,9,     -999.0,9,     -999.0,9,     -999.0,9,     -999.0,9,     -999.0,9
33RR20160208,       I08S,      54,          1,         34,         34,2,20160304,       1258,   -43.7089,    95.0001,       3250,     5.6,  10.0492,  34.0374,2,  34.0369,2,    276.7,2,   282.8,2,     1.2,2,    0.22,2,   14.69,2,    0.21,2,    1.09,2,   3.308,2,   1.934,2,   0.292,2,         2.093,2,  2096.5,6, 2275.49,2,   7.8237,6,    24.96,  10.0494, -999.00,9,  -999.0,9,  -999.0, -999.00,9,-999.000,9,    47.2,2,   17.50,2,     -999.0,1, -999.00,9, 20160304,     1438, -43.7089,  95.0001,     -999.0,9,     -999.0,9,     -999.0,9,-999.0000,9,-999.0000,9,-999.0000,9,-999.0000,9,-999.0000,9,-999.0000,9,-999.0000,9,     -999.0,9,     -999.0,9,     -999.0,9,     -999.0,9,     -999.0,9