BOTTLE,20220706CCHSIOAMB
EXPOCODE,SECT_ID,STNNBR,CASTNO,SAMPNO,BTLNBR,BTLNBR_FLAG_W,DATE,TIME,LATITUDE,LONGITUDE,DEPTH,CTDPRS,CTDTMP,CTDSAL,CTDSAL_FLAG_W,SALNTY,SALNTY_FLAG_W,CTDOXY,CTDOXY_FLAG_W,OXYGEN,OXYGEN_FLAG_W,SILCAT,SILCAT_FLAG_W,NH4,NH4_FLAG_W,NITRAT,NITRAT_FLAG_W,NITRIT,NITRIT_FLAG_W,PHSPHT,PHSPHT_FLAG_W,CFC-11,CFC-11_FLAG_W,CFC-12,CFC-12_FLAG_W,CFC113,CFC113_FLAG_W,SF6,SF6_FLAG_W,TCARBN,TCARBN_FLAG_W,ALKALI,ALKALI_FLAG_W,PH_TOT,PH_TOT_FLAG_W,PH_TMP,REFTMP,DELC13,DELC13_FLAG_W,DELC14,DELC14_FLAG_W,C14ERR,DELO18,DELO18_FLAG_W,POC,POC_FLAG_W,DOC,DOC_FLAG_W,TDN,TDN_FLAG_W,TON,TON_FLAG_W,D15N_NO3,D15N_NO3_FLAG_W,BTL_DATE,BTL_TIME,BTL_LAT,BTL_LON,14C-DOC,14C-DOC_FLAG_W,CHLORA,CHLORA_FLAG_W,HPLC,HPLC_FLAG_W,CDOM325,CDOM325_FLAG_W,CDOM340,CDOM340_FLAG_W,CDOM380,CDOM380_FLAG_W,CDOM412,CDOM412_FLAG_W,CDOM443,CDOM443_FLAG_W,CDOM490,CDOM490_FLAG_W,CDOM555,CDOM555_FLAG_W,CDOMSL,CDOMSL_FLAG_W,CDOMSN,CDOMSN_FLAG_W,D18O_NO3,D18O_NO3_FLAG_W,D15N_NO2+NO3,D15N_NO2+NO3_FLAG_W,D18O_NO2+NO3,D18O_NO2+NO3_FLAG_W
,,,,,,,,,,,METERS,DBAR,ITS-90,PSS-78,,PSS-78,,UMOL/KG,,UMOL/KG,,UMOL/KG,,UMOL/KG,,UMOL/KG,,UMOL/KG,,UMOL/KG,,PMOL/KG,,PMOL/KG,,PMOL/KG,,FMOL/KG,,UMOL/KG,,UMOL/KG,,,,DEG C,DEG C,/MILLE,,/MILLE,,/MILLE,/MILLE,,UG/KG,,UMOL/KG,,UMOL/KG,,UMOL/KG,,/MILLE,,,,,,/MILLE,,MG/M3,,,,1/M,,1/M,,1/M,,1/M,,1/M,,1/M,,1/M,,1/NM,,1/NM,,/MILLE,,/MILLE,,/MILLE,
33RR20160208,       I08S,      36,          1,          1,          1,2,20160228,       0541,   -53.0281,    87.4892,       4565,  4670.7,   0.2010,  34.6689,2,  34.6705,2,    227.8,2,   228.0,2,   128.0,2,    0.00,2,   32.09,2,    0.00,2,    2.23,2,   1.096,2,   0.544,2,   0.081,2,   0.238784903,2,  2259.9,6, 2357.24,2,   7.5928,2,    25.02,   0.2011,    0.48,2,  -159.9,2,     2.0, -999.00,9,-999.000,9,    38.8,2, -999.00,9,     -999.0,1, -999.00,9, 20160228,      541, -53.0281,  87.4892,     -999.0,9,     -999.0,9,     -999.0,9,   0.1094,2,   0.0724,2,   0.0382,2,   0.0230,2,   0.0127,2,   0.0039,2,   0.0006,3,     0.0178,2,     0.0198,2,     -999.0,9,     -999.0,9,     -999.0,9
33RR20160208,       I08S,      36,          1,          2,          2,2,20160228,       0541,   -53.0281,    87.4892,       4565,  4331.5,   0.2107,  34.6712,2,  34.6713,2,    226.8,2,   226.8,2,   127.1,2,    0.00,2,   32.10,2,    0.00,2,    2.23,2,   0.974,2,   0.492,2,   0.064,2,   0.234771711,2,  2257.4,2, 2356.96,6,   7.5935,2,    24.95,   0.2116,    0.46,2,  -156.4,2,     1.9, -999.00,9,-999.000,9,    39.0,2, -999.00,9,     -999.0,1, -999.00,9, 20160228,      547, -53.0281,  87.4892,     -999.0,9,     -999.0,9,     -999.0,9,-999.0000,9,-999.0000,9,-999.0000,9,-999.0000,9,-999.0000,9,-999.0000,9,-999.0000,9,     -999.0,9,     -999.0,9,     -999.0,9,     -999.0,9,     -999.0,9
33RR20160208,       I08S,      36,          1,          3,          3,2,20160228,       0541,   -53.0281,    87.4892,       4565,  3997.5,   0.2241,  34.6733,2,  34.6752,2,    225.7,2,   225.8,2,   126.6,2,    0.00,2,   32.10,2,    0.00,2,    2.23,2,   0.893,2,   0.450,2,   0.057,2,   0.214705753,2,  2255.8,2, 2356.32,2,   7.5946,2,    24.96,   0.2237,    0.55,2,  -149.8,2,     3.0, -999.00,9,-999.000,9,    38.4,2, -999.00,9,     -999.0,1, -999.00,9, 20160228,      553, -53.0281,  87.4892,     -999.0,9,     -999.0,9,     -999.0,9,   0.1104,2,   0.0727,2,   0.0379,2,   0.0230,2,   0.0127,2,   0.0037,2,   0.0005,4,     0.0181,2,     0.0202,2,     -999.0,9,     -999.0,9,     -999.0,9
33RR20160208,       I08S,      36,          1,          4,          4,2,20160228,       0541,   -53.0281,    87.4892,       4565,  3697.1,   0.2932,  34.6778,2,  34.6790,2,    222.9,2,   222.6,2,   125.7,2,    0.00,2,   32.09,2,    0.00,2,    2.22,2,   0.759,2,   0.386,2,   0.044,2,   0.166547453,2,  2257.7,2, 2357.43,2,   7.5944,2,    24.99,   0.2916,    0.35,2,  -153.9,2,     2.2, -999.00,9,-999.000,9,    38.9,2, -999.00,9,     -999.0,1, -999.00,9, 20160228,      557, -53.0281,  87.4892,     -999.0,9,     -999.0,9,     -999.0,9,-999.0000,9,-999.0000,9,-999.0000,9,-999.0000,9,-999.0000,9,-999.0000,9,-999.0000,9,     -999.0,9,     -999.0,9,     -999.0,9,     -999.0,9,     -999.0,9
33RR20160208,       I08S,      36,          1,          5,          5,2,20160228,       0541,   -53.0281,    87.4892,       4565,  3396.8,   0.4266,  34.6846,2,  34.6856,2,    219.5,2,   218.9,2,   124.3,2,    0.00,2,   32.10,2,    0.00,2,    2.23,2,   0.559,2,   0.291,2,   0.028,2,   0.124408941,2,  2260.3,2, 2358.48,2,   7.5952,2,    24.94,   0.4265,    0.53,2,  -159.0,2,     1.8, -999.00,9,-999.000,9,    39.1,2, -999.00,9,     -999.0,1, -999.00,9, 20160228,      602, -53.0281,  87.4892,     -999.0,9,     -999.0,9,     -999.0,9,-999.0000,9,-999.0000,9,-999.0000,9,-999.0000,9,-999.0000,9,-999.0000,9,-999.0000,9,     -999.0,9,     -999.0,9,     -999.0,9,     -999.0,9,     -999.0,9
33RR20160208,       I08S,      36,          1,          6,         38,2,20160228,       0541,   -53.0281,    87.4892,       4565,  3097.2,   0.5470,  34.6913,2,  34.6931,2,    216.1,2,   215.3,2,   122.4,2,    0.00,2,   32.01,2,    0.00,2,    2.23,2,   0.438,2,   0.228,2,   0.017,2,   0.116382558,2,  2259.5,2, 2358.37,2,   7.5951,2,    24.97,   0.5468,    0.51,2,  -157.3,2,     2.0, -999.00,9,-999.000,9,    39.0,2, -999.00,9,     -999.0,1, -999.00,9, 20160228,      607, -53.0280,  87.4892,     -999.0,9,     -999.0,9,     -999.0,9,   0.1144,2,   0.0748,2,   0.0388,2,   0.0242,2,   0.0133,2,   0.0038,2,   0.0006,3,     0.0182,2,     0.0204,2,     -999.0,9,     -999.0,9,     -999.0,9
33RR20160208,       I08S,      36,          1,          7,          7,2,20160228,       0541,   -53.0281,    87.4892,       4565,  2831.4,   0.6864,  34.6990,2,  34.7000,2,    212.5,2,   211.8,2,   119.1,2,    0.00,2,   31.91,2,    0.00,2,    2.21,2,   0.333,2,   0.177,2,   0.009,2,   0.105346281,2,  2259.6,2, 2358.83,2,   7.5978,2,    24.96,   0.6852,    0.48,2,  -161.4,2,     1.9, -999.00,9,-999.000,9,    38.5,2, -999.00,9,     -999.0,1, -999.00,9, 20160228,      611, -53.0281,  87.4892,     -999.0,9,     -999.0,9,     -999.0,9,-999.0000,9,-999.0000,9,-999.0000,9,-999.0000,9,-999.0000,9,-999.0000,9,-999.0000,9,     -999.0,9,     -999.0,9,     -999.0,9,     -999.0,9,     -999.0,9
33RR20160208,       I08S,      36,          1,          8,          8,2,20160228,       0541,   -53.0281,    87.4892,       4565,  2580.9,   0.8231,  34.7068,2,  34.7088,2,    210.5,2,   209.9,2,   115.2,2,    0.00,2,   31.59,2,    0.00,2,    2.19,2,   0.285,2,   0.151,2,   0.006,2,   0.026085746,2,  2258.4,2, 2359.79,2,   7.6001,2,    24.94,   0.8226,    0.52,2,  -155.9,2,     3.2, -999.00,9,-999.000,9,    38.8,2, -999.00,9,     -999.0,1, -999.00,9, 20160228,      615, -53.0281,  87.4892,     -999.0,9,     -999.0,9,     -999.0,9,-999.0000,9,-999.0000,9,-999.0000,9,-999.0000,9,-999.0000,9,-999.0000,9,-999.0000,9,     -999.0,9,     -999.0,9,     -999.0,9,     -999.0,9,     -999.0,9
33RR20160208,       I08S,      36,          1,          9,          9,2,20160228,       0541,   -53.0281,    87.4892,       4565,  2332.9,   0.9606,  34.7150,2,  34.7168,2,    209.2,2,   208.3,2,   110.2,2,    0.00,2,   31.27,2,    0.00,2,    2.17,2,   0.255,2,   0.137,2,   0.004,2,   0.011036277,2,  2255.0,2, 2358.91,2,   7.6030,2,    24.99,   0.9610,    0.48,2,  -156.7,2,     2.0, -999.00,9,-999.000,9,    38.6,2, -999.00,9,     -999.0,1, -999.00,9, 20160228,      619, -53.0280,  87.4892,     -999.0,9,     -999.0,9,     -999.0,9,-999.0000,9,-999.0000,9,-999.0000,9,-999.0000,9,-999.0000,9,-999.0000,9,-999.0000,9,     -999.0,9,     -999.0,9,     -999.0,9,     -999.0,9,     -999.0,9
33RR20160208,       I08S,      36,          1,         10,         10,2,20160228,       0541,   -53.0281,    87.4892,       4565,  2081.8,   1.1525,  34.7252,2,  34.7278,2,    207.2,2,   206.6,2,   105.0,2,    0.00,2,   30.91,2,    0.00,2,    2.14,2,-999.000,9,-999.000,9,-999.000,9,-999.000000000,9,  2256.3,2, 2358.47,2,   7.6081,2,    24.98,   1.1522,    0.51,2,  -154.8,2,     2.3, -999.00,9,-999.000,9,    39.2,2, -999.00,9,     -999.0,1, -999.00,9, 20160228,      623, -53.0281,  87.4892,     -999.0,9,     -999.0,9,     -999.0,9,   0.1158,2,   0.0781,2,   0.0425,2,   0.0257,2,   0.0148,2,   0.0052,2,   0.0013,2,     0.0171,2,     0.0188,2,     -999.0,9,     -999.0,9,     -999.0,9
33RR20160208,       I08S,      36,          1,         11,         11,2,20160228,       0541,   -53.0281,    87.4892,       4565,  1859.5,   1.2831,  34.7315,2,  34.7343,2,    204.9,2,   204.6,2,   100.7,2,    0.00,2,   30.66,2,    0.00,2,    2.11,2,   0.233,2,   0.126,2,   0.005,2,   0.035115427,2,  2253.0,2, 2356.41,2,   7.6084,6,    24.99,   1.2832,    0.53,2,  -151.6,2,     3.3, -999.00,9,-999.000,9,    39.5,2, -999.00,9,     -999.0,1, -999.00,9, 20160228,      627, -53.0281,  87.4892,     -999.0,9,     -999.0,9,     -999.0,9,-999.0000,9,-999.0000,9,-999.0000,9,-999.0000,9,-999.0000,9,-999.0000,9,-999.0000,9,     -999.0,9,     -999.0,9,     -999.0,9,     -999.0,9,     -999.0,9
33RR20160208,       I08S,      36,          1,         12,         12,2,20160228,       0541,   -53.0281,    87.4892,       4565,  1663.5,   1.4901,  34.7411,2,  34.7431,2,    202.6,2,   203.1,2,    94.3,2,    0.00,2,   30.26,2,    0.00,2,    2.10,2,-999.000,9,-999.000,9,-999.000,9,-999.000000000,9,  2252.1,6, 2354.84,2,   7.6112,2,    25.00,   1.4873,    0.53,2,  -153.0,2,     2.0, -999.00,9,-999.000,9,    38.2,2, -999.00,9,     -999.0,1, -999.00,9, 20160228,      630, -53.0281,  87.4892,     -999.0,9,     -999.0,9,     -999.0,9,-999.0000,9,-999.0000,9,-999.0000,9,-999.0000,9,-999.0000,9,-999.0000,9,-999.0000,9,     -999.0,9,     -999.0,9,     -999.0,9,     -999.0,9,     -999.0,9
33RR20160208,       I08S,      36,          1,         13,         13,2,20160228,       0541,   -53.0281,    87.4892,       4565,  1532.2,   1.6185,  34.7449,2,  34.7461,2,    200.8,2,   200.9,2,    91.4,2,    0.00,2,   30.17,2,    0.00,2,    2.09,2,   0.203,2,   0.112,2,   0.004,2,   0.021069256,2,  2248.3,2, 2353.61,2,   7.6117,2,    24.97,   1.6190,    0.55,2,  -154.3,2,     1.7, -999.00,9,-999.000,9,    39.4,2, -999.00,9,     -999.0,1, -999.00,9, 20160228,      632, -53.0281,  87.4896,     -999.0,9,     -999.0,9,     -999.0,9,-999.0000,9,-999.0000,9,-999.0000,9,-999.0000,9,-999.0000,9,-999.0000,9,-999.0000,9,     -999.0,9,     -999.0,9,     -999.0,9,     -999.0,9,     -999.0,9
33RR20160208,       I08S,      36,          1,         14,         14,2,20160228,       0541,   -53.0281,    87.4892,       4565,  1435.1,   1.6739,  34.7433,2,  34.7447,2,    198.5,2,   200.2,2,    89.4,2,    0.00,2,   30.17,2,    0.00,2,    2.08,2,-999.000,9,-999.000,9,-999.000,9,-999.000000000,9,  2248.8,2, 2351.91,2,   7.6084,2,    25.02,   1.6758,    0.52,2,  -158.6,2,     1.7, -999.00,9,-999.000,9,    38.6,2, -999.00,9,     -999.0,1, -999.00,9, 20160228,      634, -53.0281,  87.4892,     -999.0,9,     -999.0,9,     -999.0,9,-999.0000,9,-999.0000,9,-999.0000,9,-999.0000,9,-999.0000,9,-999.0000,9,-999.0000,9,     -999.0,9,     -999.0,9,     -999.0,9,     -999.0,9,     -999.0,9
33RR20160208,       I08S,      36,          1,         15,         15,2,20160228,       0541,   -53.0281,    87.4892,       4565,  1332.8,   1.7901,  34.7444,2,  34.7455,2,    196.9,2,   198.1,2,    86.6,2,    0.00,2,   30.09,2,    0.00,2,    2.09,2,   0.217,2,   0.122,2,   0.006,2,    0.09130011,2,  2245.4,2, 2351.14,2,   7.6078,2,    25.00,   1.7908,    0.54,2,  -154.0,2,     1.7, -999.00,9,-999.000,9,    39.5,2, -999.00,9,     -999.0,1, -999.00,9, 20160228,      635, -53.0281,  87.4892,     -999.0,9,     -999.0,9,     -999.0,9,-999.0000,9,-999.0000,9,-999.0000,9,-999.0000,9,-999.0000,9,-999.0000,9,-999.0000,9,     -999.0,9,     -999.0,9,     -999.0,9,     -999.0,9,     -999.0,9
33RR20160208,       I08S,      36,          1,         16,         16,2,20160228,       0541,   -53.0281,    87.4892,       4565,  1233.9,   1.8720,  34.7439,2,  34.7461,2,    195.0,2,   196.1,2,    84.0,2,    0.00,2,   30.12,2,    0.00,2,    2.09,2,-999.000,9,-999.000,9,-999.000,9,-999.000000000,9,  2248.4,2, 2349.32,2,   7.6070,6,    24.98,   1.8726,    0.56,2,  -146.2,2,     1.8, -999.00,9,-999.000,9,    39.6,2, -999.00,9,     -999.0,1, -999.00,9, 20160228,      637, -53.0281,  87.4892,     -999.0,9,     -999.0,9,     -999.0,9,-999.0000,9,-999.0000,9,-999.0000,9,-999.0000,9,-999.0000,9,-999.0000,9,-999.0000,9,     -999.0,9,     -999.0,9,     -999.0,9,     -999.0,9,     -999.0,9
33RR20160208,       I08S,      36,          1,         17,         17,2,20160228,       0541,   -53.0281,    87.4892,       4565,  1132.5,   1.9128,  34.7385,2,  34.7414,2,    192.9,2,   194.2,2,    83.4,2,    0.00,2,   30.39,2,    0.00,2,    2.10,2,   0.240,2,   0.133,2,   0.007,2,   0.060197875,2,  2249.9,2, 2348.51,2,   7.6023,2,    24.99,   1.9126,    0.54,2,  -147.3,2,     2.0, -999.00,9,-999.000,9,    41.0,2, -999.00,9,     -999.0,1, -999.00,9, 20160228,      639, -53.0281,  87.4892,     -999.0,9,     -999.0,9,     -999.0,9,-999.0000,9,-999.0000,9,-999.0000,9,-999.0000,9,-999.0000,9,-999.0000,9,-999.0000,9,     -999.0,9,     -999.0,9,     -999.0,9,     -999.0,9,     -999.0,9
33RR20160208,       I08S,      36,          1,         18,         37,2,20160228,       0541,   -53.0281,    87.4892,       4565,  1034.7,   1.9562,  34.7316,2,  34.7327,2,    191.1,2,   192.0,2,    82.4,2,    0.00,2,   30.56,2,    0.00,2,    2.11,2,-999.000,9,-999.000,9,-999.000,9,-999.000000000,9,  2251.4,2, 2347.72,2,   7.5980,2,    24.99,   1.9579,    0.50,2,  -150.3,2,     2.0, -999.00,9,-999.000,9,    40.0,2, -999.00,9,     -999.0,1, -999.00,9, 20160228,      640, -53.0281,  87.4892,     -999.0,9,     -999.0,9,     -999.0,9,   0.1152,2,   0.0768,2,   0.0394,2,   0.0237,2,   0.0132,2,   0.0040,2,   0.0006,3,     0.0183,2,     0.0202,2,     -999.0,9,     -999.0,9,     -999.0,9
33RR20160208,       I08S,      36,          1,         19,         19,2,20160228,       0541,   -53.0281,    87.4892,       4565,   930.0,   2.0273,  34.7205,2,  34.7239,2,    187.6,2,   188.6,2,    80.8,2,    0.00,2,   30.93,2,    0.00,2,    2.13,2,   0.302,2,   0.165,2,   0.012,2,   0.069227556,2,  2249.6,2, 2345.56,2,   7.5915,2,    24.97,   2.0266,    0.52,2,  -149.6,2,     1.7, -999.00,9,-999.000,9,    39.0,2, -999.00,9,     -999.0,1, -999.00,9, 20160228,      642, -53.0281,  87.4892,     -999.0,9,     -999.0,9,     -999.0,9,-999.0000,9,-999.0000,9,-999.0000,9,-999.0000,9,-999.0000,9,-999.0000,9,-999.0000,9,     -999.0,9,     -999.0,9,     -999.0,9,     -999.0,9,     -999.0,9
33RR20160208,       I08S,      36,          1,         20,         20,2,20160228,       0541,   -53.0281,    87.4892,       4565,   831.9,   2.0818,  34.7022,2,  34.7047,2,    185.3,2,   186.1,2,    79.3,2,    0.00,2,   31.40,2,    0.00,2,    2.17,2,-999.000,9,-999.000,9,-999.000,9,-999.000000000,9,  2253.8,2, 2344.26,2,   7.5834,2,    24.98,   2.0815,    0.49,2,  -149.4,2,     1.8, -999.00,9,-999.000,9,    39.8,2, -999.00,9,     -999.0,1, -999.00,9, 20160228,      643, -53.0281,  87.4891,     -999.0,9,     -999.0,9,     -999.0,9,-999.0000,9,-999.0000,9,-999.0000,9,-999.0000,9,-999.0000,9,-999.0000,9,-999.0000,9,     -999.0,9,     -999.0,9,     -999.0,9,     -999.0,9,     -999.0,9
33RR20160208,       I08S,      36,          1,         21,         21,2,20160228,       0541,   -53.0281,    87.4892,       4565,   730.1,   2.1279,  34.6728,2,  34.6741,2,    183.2,2,   183.6,2,    77.0,2,    0.00,2,   32.03,2,    0.00,2,    2.23,2,   0.466,2,   0.253,2,   0.029,2,   0.149491389,2,  2255.6,2, 2342.03,2,   7.5727,2,    24.97,   2.1285,    0.49,2,  -148.6,2,     1.7, -999.00,9,-999.000,9,    40.0,2, -999.00,9,     -999.0,1, -999.00,9, 20160228,      645, -53.0281,  87.4892,     -999.0,9,     -999.0,9,     -999.0,9,   0.1227,2,   0.0818,2,   0.0457,2,   0.0273,2,   0.0151,2,   0.0041,2,   0.0006,3,     0.0168,2,     0.0186,2,     -999.0,9,     -999.0,9,     -999.0,9
33RR20160208,       I08S,      36,          1,         22,         22,2,20160228,       0541,   -53.0281,    87.4892,       4565,   623.1,   1.9634,  34.5987,2,  34.6019,2,    181.6,2,   185.3,3,    75.4,2,    0.00,2,   33.24,2,    0.00,2,    2.30,2,-999.000,9,-999.000,9,-999.000,9,-999.000000000,9,  2256.1,2, 2336.88,2,   7.5531,2,    24.98,   1.9622,    0.44,2,  -147.3,2,     1.8, -999.00,9,-999.000,9,    40.7,2, -999.00,9,     -999.0,1, -999.00,9, 20160228,      647, -53.0281,  87.4892,     -999.0,9,     -999.0,9,     -999.0,9,-999.0000,9,-999.0000,9,-999.0000,9,-999.0000,9,-999.0000,9,-999.0000,9,-999.0000,9,     -999.0,9,     -999.0,9,     -999.0,9,     -999.0,9,     -999.0,9
33RR20160208,       I08S,      36,          1,         23,         23,2,20160228,       0541,   -53.0281,    87.4892,       4565,   531.8,   1.9897,  34.5496,2,  34.5515,2,    185.5,2,   187.6,2,    72.4,2,    0.00,2,   33.70,2,    0.00,2,    2.33,2,   1.131,3,   0.587,3,   0.086,3,    0.45650055,3,  2254.5,2, 2332.75,2,   7.5481,2,    24.98,   1.9947,    0.37,2,  -137.8,2,     1.9, -999.00,9,-999.000,9,    39.2,2, -999.00,9,     -999.0,1, -999.00,9, 20160228,      648, -53.0281,  87.4892,     -999.0,9,     -999.0,9,     -999.0,9,   0.1125,2,   0.0756,2,   0.0450,2,   0.0240,2,   0.0128,2,   0.0036,2,   0.0003,4,     0.0160,2,     0.0174,2,     -999.0,9,     -999.0,9,     -999.0,9
33RR20160208,       I08S,      36,          1,         24,         24,2,20160228,       0541,   -53.0281,    87.4892,       4565,   465.0,   2.3630,  34.5565,2,  34.5564,2,    181.8,2,   178.2,3,    69.4,2,    0.00,2,   33.76,2,    0.00,2,    2.33,2,   0.832,2,   0.440,2,   0.057,2,   0.330085013,2,  2250.4,2, 2331.36,2,   7.5498,2,    24.98,   2.3540,    0.44,2,  -135.8,2,     2.0, -999.00,9,-999.000,9,    39.7,2, -999.00,9,     -999.0,1, -999.00,9, 20160228,      649, -53.0281,  87.4892,     -999.0,9,     -999.0,9,     -999.0,9,-999.0000,9,-999.0000,9,-999.0000,9,-999.0000,9,-999.0000,9,-999.0000,9,-999.0000,9,     -999.0,9,     -999.0,9,     -999.0,9,     -999.0,9,     -999.0,9
33RR20160208,       I08S,      36,          1,         25,         25,2,20160228,       0541,   -53.0281,    87.4892,       4565,   416.7,   2.3496,  34.5199,2,  34.5197,2,    184.1,2,   181.2,2,    67.7,2,    0.00,2,   33.95,2,    0.00,2,    2.34,2,   1.048,2,   0.545,2,   0.074,2,   0.398309271,2,  2246.7,2, 2328.98,2,   7.5480,2,    24.98,   2.3563,    0.39,2,  -135.6,2,     1.9, -999.00,9,-999.000,9,    41.2,2, -999.00,9,     -999.0,1, -999.00,9, 20160228,      650, -53.0281,  87.4893,     -999.0,9,     -999.0,9,     -999.0,9,-999.0000,9,-999.0000,9,-999.0000,9,-999.0000,9,-999.0000,9,-999.0000,9,-999.0000,9,     -999.0,9,     -999.0,9,     -999.0,9,     -999.0,9,     -999.0,9
33RR20160208,       I08S,      36,          1,         26,         26,2,20160228,       0541,   -53.0281,    87.4892,       4565,   364.4,   2.1057,  34.4599,2,  34.4605,2,    190.7,2,   191.5,2,    65.4,2,    0.00,2,   34.17,2,    0.00,2,    2.35,2,   1.538,2,   0.785,2,   0.119,2,    0.58592598,2,  2242.8,2, 2322.77,2,   7.5450,2,    24.96,   2.0761,    0.47,2,  -133.0,2,     2.1, -999.00,9,-999.000,9,    39.9,2, -999.00,9,     -999.0,1, -999.00,9, 20160228,      651, -53.0281,  87.4893,     -999.0,9,     -999.0,9,     -999.0,9,   0.1134,2,   0.0750,2,   0.0425,2,   0.0256,2,   0.0144,2,   0.0044,2,   0.0008,3,     0.0166,2,     0.0186,2,     -999.0,9,     -999.0,9,     -999.0,9
33RR20160208,       I08S,      36,          1,         27,         27,2,20160228,       0541,   -53.0281,    87.4892,       4565,   312.0,   1.2664,  34.2999,2,  34.2998,2,    240.0,2,   242.2,4,    56.8,2,    0.00,2,   33.06,2,    0.02,2,    2.30,2,   3.155,2,   1.626,2,   0.273,2,    1.48287431,2,  2227.3,2, 2313.41,2,   7.5678,6,    24.98,   1.2653,    0.66,2,  -114.7,2,     2.2, -999.00,9,-999.000,9,    40.0,2,   36.60,2,     -999.0,1, -999.00,9, 20160228,      652, -53.0281,  87.4892,     -999.0,9,     -999.0,9,     -999.0,9,-999.0000,9,-999.0000,9,-999.0000,9,-999.0000,9,-999.0000,9,-999.0000,9,-999.0000,9,     -999.0,9,     -999.0,9,     -999.0,9,     -999.0,9,     -999.0,9