BOTTLE,20220706CCHSIOAMB
EXPOCODE,SECT_ID,STNNBR,CASTNO,SAMPNO,BTLNBR,BTLNBR_FLAG_W,DATE,TIME,LATITUDE,LONGITUDE,DEPTH,CTDPRS,CTDTMP,CTDSAL,CTDSAL_FLAG_W,SALNTY,SALNTY_FLAG_W,CTDOXY,CTDOXY_FLAG_W,OXYGEN,OXYGEN_FLAG_W,SILCAT,SILCAT_FLAG_W,NH4,NH4_FLAG_W,NITRAT,NITRAT_FLAG_W,NITRIT,NITRIT_FLAG_W,PHSPHT,PHSPHT_FLAG_W,CFC-11,CFC-11_FLAG_W,CFC-12,CFC-12_FLAG_W,CFC113,CFC113_FLAG_W,SF6,SF6_FLAG_W,TCARBN,TCARBN_FLAG_W,ALKALI,ALKALI_FLAG_W,PH_TOT,PH_TOT_FLAG_W,PH_TMP,REFTMP,DELC13,DELC13_FLAG_W,DELC14,DELC14_FLAG_W,C14ERR,DELO18,DELO18_FLAG_W,POC,POC_FLAG_W,DOC,DOC_FLAG_W,TDN,TDN_FLAG_W,TON,TON_FLAG_W,D15N_NO3,D15N_NO3_FLAG_W,BTL_DATE,BTL_TIME,BTL_LAT,BTL_LON,14C-DOC,14C-DOC_FLAG_W,CHLORA,CHLORA_FLAG_W,HPLC,HPLC_FLAG_W,CDOM325,CDOM325_FLAG_W,CDOM340,CDOM340_FLAG_W,CDOM380,CDOM380_FLAG_W,CDOM412,CDOM412_FLAG_W,CDOM443,CDOM443_FLAG_W,CDOM490,CDOM490_FLAG_W,CDOM555,CDOM555_FLAG_W,CDOMSL,CDOMSL_FLAG_W,CDOMSN,CDOMSN_FLAG_W,D18O_NO3,D18O_NO3_FLAG_W,D15N_NO2+NO3,D15N_NO2+NO3_FLAG_W,D18O_NO2+NO3,D18O_NO2+NO3_FLAG_W
,,,,,,,,,,,METERS,DBAR,ITS-90,PSS-78,,PSS-78,,UMOL/KG,,UMOL/KG,,UMOL/KG,,UMOL/KG,,UMOL/KG,,UMOL/KG,,UMOL/KG,,PMOL/KG,,PMOL/KG,,PMOL/KG,,FMOL/KG,,UMOL/KG,,UMOL/KG,,,,DEG C,DEG C,/MILLE,,/MILLE,,/MILLE,/MILLE,,UG/KG,,UMOL/KG,,UMOL/KG,,UMOL/KG,,/MILLE,,,,,,/MILLE,,MG/M3,,,,1/M,,1/M,,1/M,,1/M,,1/M,,1/M,,1/M,,1/NM,,1/NM,,/MILLE,,/MILLE,,/MILLE,
33RR20160208,       I08S,      60,          1,         28,         28,2,20160306,       0446,   -39.9970,    94.9950,       3698,   265.4,  11.2544,  34.9414,2,  34.9395,2,    251.2,2,   250.5,2,     3.0,2,    0.00,2,   10.40,2,    0.00,2,    0.76,2,   2.988,2,   1.768,2,   0.178,2,    1.87939962,2,  2117.8,2, 2305.32,2,   7.8268,2,    25.02,  11.2523,    1.05,2,    23.8,2,     2.1, -999.00,9,-999.000,9,    47.4,2,   13.80,2,     -999.0,1, -999.00,9, 20160306,      613, -39.9971,  94.9950,     -999.0,9,     -999.0,9,     -999.0,9,   0.0713,2,   0.0494,2,   0.0329,2,   0.0147,2,   0.0067,2,   0.0011,3,  -0.0006,4,     0.0142,2,     0.0148,2,     -999.0,9,     -999.0,9,     -999.0,9
33RR20160208,       I08S,      60,          1,         29,         29,2,20160306,       0446,   -39.9970,    94.9950,       3698,   215.1,  11.3409,  34.9377,2,  34.9361,2,    252.7,2,   252.7,2,     2.9,2,    0.00,2,    9.89,2,    0.02,2,    0.73,2,-999.000,9,-999.000,9,-999.000,9,-999.000000000,9,  -999.0,9, -999.00,9,-999.0000,9,     9.00,  11.3397, -999.00,9,  -999.0,9,  -999.0, -999.00,9,-999.000,9,    47.8,2,   12.70,2,     -999.0,1, -999.00,9, 20160306,      615, -39.9971,  94.9950,     -999.0,9,     -999.0,9,     -999.0,9,-999.0000,9,-999.0000,9,-999.0000,9,-999.0000,9,-999.0000,9,-999.0000,9,-999.0000,9,     -999.0,9,     -999.0,9,     -999.0,9,     -999.0,9,     -999.0,9
33RR20160208,       I08S,      60,          1,         30,         30,2,20160306,       0446,   -39.9970,    94.9950,       3698,   163.9,  11.5092,  34.9455,2,  34.9456,2,    252.6,2,   253.9,2,     2.6,2,    0.00,2,    9.14,2,    0.02,2,    0.67,2,   2.942,2,   1.740,2,   0.223,2,    1.88145698,2,  2113.8,2, 2306.00,6,   7.8390,6,    24.97,  11.5096,    1.12,2,    28.7,2,     2.1, -999.00,9,-999.000,9,    49.1,2,   11.80,2,     -999.0,1, -999.00,9, 20160306,      617, -39.9971,  94.9950,     -999.0,9,     -999.0,9,     -999.0,9,   0.0695,2,   0.0453,2,   0.0230,2,   0.0129,2,   0.0063,2,   0.0012,3,  -0.0006,4,     0.0188,2,     0.0210,2,     -999.0,9,     -999.0,9,     -999.0,9
33RR20160208,       I08S,      60,          1,         31,         31,2,20160306,       0446,   -39.9970,    94.9950,       3698,   134.6,  11.8053,  34.9875,2,  34.9906,2,    250.3,2,   251.4,2,     2.2,2,    0.00,2,    8.40,2,    0.02,2,    0.64,2,-999.000,9,-999.000,9,-999.000,9,-999.000000000,9,  -999.0,9, -999.00,9,-999.0000,9,  -999.00,  11.8027, -999.00,9,  -999.0,9,  -999.0, -999.00,9,-999.000,9,    49.2,2,   13.20,2,     -999.0,1, -999.00,9, 20160306,      619, -39.9971,  94.9950,     -999.0,9,0.025825738,2,     -999.0,9,   0.0688,2,   0.0465,2,   0.0278,2,   0.0138,2,   0.0065,2,   0.0012,3,  -0.0005,4,     0.0161,2,     0.0174,2,     -999.0,9,     -999.0,9,     -999.0,9
33RR20160208,       I08S,      60,          1,         32,         32,2,20160306,       0446,   -39.9970,    94.9950,       3698,   109.2,  12.2383,  35.0525,2,  35.0615,2,    249.4,2,   249.6,2,     2.1,2,    0.00,2,    7.27,2,    0.18,2,    0.58,2,   2.878,2,   1.706,2,   0.218,2,     1.9709522,2,  2108.6,2, 2313.07,2,   7.8539,2,    25.02,  12.2263,    1.08,2,    31.5,6,     1.5, -999.00,9,-999.000,9,    50.0,2,   10.10,2,     -999.0,1, -999.00,9, 20160306,      621, -39.9971,  94.9950,     -999.0,9,0.107647758,2,     -999.0,9,   0.0740,2,   0.0533,2,   0.0380,2,   0.0161,2,   0.0072,2,   0.0013,2,  -0.0004,4,     0.0129,2,     0.0130,2,     -999.0,9,     -999.0,9,     -999.0,9
33RR20160208,       I08S,      60,          1,         33,         33,2,20160306,       0446,   -39.9970,    94.9950,       3698,    85.4,  12.9482,  35.1589,2,  35.1360,2,    250.6,2,   250.2,2,     1.8,2,    0.10,2,    5.11,2,    0.77,2,    0.49,2,-999.000,9,-999.000,9,-999.000,9,-999.000000000,9,  2105.9,2, 2316.99,2,   7.8705,6,    25.02,  12.9411,    1.11,2,    27.5,2,     2.2, -999.00,9,-999.000,9,    51.5,2,    9.30,2,     -999.0,1, -999.00,9, 20160306,      623, -39.9971,  94.9950,     -999.0,9,0.245330659,2,     -999.0,9,   0.0910,2,   0.0657,2,   0.0335,2,   0.0190,2,   0.0099,2,   0.0027,2,   0.0001,4,     0.0179,2,     0.0184,2,     -999.0,9,     -999.0,9,     -999.0,9
33RR20160208,       I08S,      60,          1,         34,         34,2,20160306,       0446,   -39.9970,    94.9950,       3698,    60.9,  14.1336,  34.8726,2,  34.8723,2,    255.9,2,   255.6,2,     0.4,2,    0.73,2,    4.44,2,    0.11,2,    0.46,2,   2.692,2,   1.594,2,   0.219,2,    1.71686807,2,  2084.4,2, 2307.33,2,   7.9046,2,    25.00,  14.1346,    1.44,2,    25.1,2,     2.6, -999.00,9,-999.000,9,    55.2,2,    9.80,2,     -999.0,1, -999.00,9, 20160306,      625, -39.9971,  94.9950,     -999.0,9,0.297209869,2,     -999.0,9,   0.1010,2,   0.0718,2,   0.0426,2,   0.0201,2,   0.0104,2,   0.0031,2,   0.0002,4,     0.0159,2,     0.0164,2,     -999.0,9,     -999.0,9,     -999.0,9
33RR20160208,       I08S,      60,          1,         35,         35,2,20160306,       0446,   -39.9970,    94.9950,       3698,    35.6,  15.1619,  34.9043,2,  34.9033,2,    255.9,2,   255.7,2,     0.2,2,    0.10,2,    3.17,2,    0.08,2,    0.33,2,   2.559,2,   1.509,2,   0.204,2,     1.6777782,2,  2070.6,2, 2310.81,2,   7.9354,2,    24.98,  15.1607, -999.00,9,  -999.0,9,  -999.0, -999.00,9,-999.000,9,    57.6,2,    8.10,2,     -999.0,1, -999.00,9, 20160306,      626, -39.9971,  94.9950,     -999.0,9,0.395959147,2,     -999.0,9,   0.1116,2,   0.0834,2,   0.0574,2,   0.0228,2,   0.0113,2,   0.0034,2,   0.0004,4,     0.0134,2,     0.0130,2,     -999.0,9,     -999.0,9,     -999.0,9
33RR20160208,       I08S,      60,          1,         36,         36,2,20160306,       0446,   -39.9970,    94.9950,       3698,     5.0,  15.5398,  34.9104,2,  34.9098,2,    254.1,2,   255.0,2,     0.3,2,    0.05,2,    3.05,2,    0.08,2,    0.35,2,   2.492,6,   1.479,6,   0.200,6,     1.6088566,6,  2068.1,6, 2310.67,2,   7.9409,6,    25.00,  15.5273,    1.60,2,    18.0,2,     2.0, -999.00,9,-999.000,9,    59.2,2,    7.30,2,     -999.0,1, -999.00,9, 20160306,      629, -39.9971,  94.9950,     -999.0,9, 0.33338981,2,     -999.0,9,   0.1099,2,   0.0751,2,   0.0362,2,   0.0193,2,   0.0107,2,   0.0038,2,   0.0006,3,     0.0195,2,     0.0209,2,     -999.0,9,     -999.0,9,     -999.0,9