BOTTLE,20220706CCHSIOAMB
EXPOCODE,SECT_ID,STNNBR,CASTNO,SAMPNO,BTLNBR,BTLNBR_FLAG_W,DATE,TIME,LATITUDE,LONGITUDE,DEPTH,CTDPRS,CTDTMP,CTDSAL,CTDSAL_FLAG_W,SALNTY,SALNTY_FLAG_W,CTDOXY,CTDOXY_FLAG_W,OXYGEN,OXYGEN_FLAG_W,SILCAT,SILCAT_FLAG_W,NH4,NH4_FLAG_W,NITRAT,NITRAT_FLAG_W,NITRIT,NITRIT_FLAG_W,PHSPHT,PHSPHT_FLAG_W,CFC-11,CFC-11_FLAG_W,CFC-12,CFC-12_FLAG_W,CFC113,CFC113_FLAG_W,SF6,SF6_FLAG_W,TCARBN,TCARBN_FLAG_W,ALKALI,ALKALI_FLAG_W,PH_TOT,PH_TOT_FLAG_W,PH_TMP,REFTMP,DELC13,DELC13_FLAG_W,DELC14,DELC14_FLAG_W,C14ERR,DELO18,DELO18_FLAG_W,POC,POC_FLAG_W,DOC,DOC_FLAG_W,TDN,TDN_FLAG_W,TON,TON_FLAG_W,D15N_NO3,D15N_NO3_FLAG_W,BTL_DATE,BTL_TIME,BTL_LAT,BTL_LON,14C-DOC,14C-DOC_FLAG_W,CHLORA,CHLORA_FLAG_W,HPLC,HPLC_FLAG_W,CDOM325,CDOM325_FLAG_W,CDOM340,CDOM340_FLAG_W,CDOM380,CDOM380_FLAG_W,CDOM412,CDOM412_FLAG_W,CDOM443,CDOM443_FLAG_W,CDOM490,CDOM490_FLAG_W,CDOM555,CDOM555_FLAG_W,CDOMSL,CDOMSL_FLAG_W,CDOMSN,CDOMSN_FLAG_W,D18O_NO3,D18O_NO3_FLAG_W,D15N_NO2+NO3,D15N_NO2+NO3_FLAG_W,D18O_NO2+NO3,D18O_NO2+NO3_FLAG_W
,,,,,,,,,,,METERS,DBAR,ITS-90,PSS-78,,PSS-78,,UMOL/KG,,UMOL/KG,,UMOL/KG,,UMOL/KG,,UMOL/KG,,UMOL/KG,,UMOL/KG,,PMOL/KG,,PMOL/KG,,PMOL/KG,,FMOL/KG,,UMOL/KG,,UMOL/KG,,,,DEG C,DEG C,/MILLE,,/MILLE,,/MILLE,/MILLE,,UG/KG,,UMOL/KG,,UMOL/KG,,UMOL/KG,,/MILLE,,,,,,/MILLE,,MG/M3,,,,1/M,,1/M,,1/M,,1/M,,1/M,,1/M,,1/M,,1/NM,,1/NM,,/MILLE,,/MILLE,,/MILLE,
33RR20160208,       I08S,       8,          1,          1,          1,2,20160220,       1751,   -65.1000,    79.6066,       3525,  3551.3,  -0.1295,  34.6599,2,  34.6590,2,    231.7,2,   232.1,2,   141.6,2,    0.06,2,   32.79,2,    0.00,2,    2.30,2,   0.912,2,   0.457,2,   0.054,2,         0.299,2,  2260.4,6, 2356.81,2,   7.5938,2,    24.98,  -0.1293, -999.00,9,  -999.0,9,  -999.0, -999.00,1,-999.000,9,    40.0,2, -999.00,9,     -999.0,1,    4.63,2, 20160220,     1751, -65.1000,  79.6066,     -999.0,9,     -999.0,9,     -999.0,9,-999.0000,9,-999.0000,9,-999.0000,9,-999.0000,9,-999.0000,9,-999.0000,9,-999.0000,9,     -999.0,9,     -999.0,9,       2.07,2,       4.63,2,       2.07,2
33RR20160208,       I08S,       8,          1,          2,          2,2,20160220,       1751,   -65.1000,    79.6066,       3525,  3390.0,  -0.0953,  34.6614,2,  34.6604,2,    232.4,2,   232.5,2,   129.6,2,    0.28,2,   32.44,2,    0.00,2,    2.27,2,   1.148,2,   0.600,2,   0.074,2,         0.447,2,  2256.0,2, 2355.03,2,   7.5940,6,    24.96,  -0.0955, -999.00,9,  -999.0,9,  -999.0, -999.00,1,-999.000,9,    39.6,2, -999.00,9,     -999.0,1,     4.7,2, 20160220,     1756, -65.1000,  79.6066,     -999.0,9,     -999.0,9,     -999.0,9,-999.0000,9,-999.0000,9,-999.0000,9,-999.0000,9,-999.0000,9,-999.0000,9,-999.0000,9,     -999.0,9,     -999.0,9,       2.03,2,        4.7,2,       2.03,2
33RR20160208,       I08S,       8,          1,          3,          3,2,20160220,       1751,   -65.1000,    79.6066,       3525,  3297.1,  -0.0735,  34.6623,2,  34.6594,4,    232.0,2,   232.4,2,   127.1,2,    0.72,2,   32.40,2,    0.00,2,    2.27,2,   1.176,2,   0.603,2,   0.079,2,         0.456,2,  2255.6,2, 2354.59,6,   7.5941,6,    24.98,  -0.0735, -999.00,9,  -999.0,9,  -999.0, -999.00,1,-999.000,9,    39.1,2, -999.00,9,     -999.0,1,    4.73,2, 20160220,     1759, -65.1000,  79.6067,     -999.0,9,     -999.0,9,     -999.0,9,-999.0000,9,-999.0000,9,-999.0000,9,-999.0000,9,-999.0000,9,-999.0000,9,-999.0000,9,     -999.0,9,     -999.0,9,        2.1,2,       4.73,2,        2.1,2
33RR20160208,       I08S,       8,          1,          4,          4,2,20160220,       1751,   -65.1000,    79.6066,       3525,  2995.1,  -0.0149,  34.6657,2,  34.6634,3,    229.3,2,   229.2,2,   125.1,2,    0.39,2,   32.42,2,    0.00,2,    2.27,2,   0.980,2,   0.501,2,   0.063,2,         0.326,2,  -999.0,9, -999.00,9,-999.0000,9,  -999.00,  -0.0152, -999.00,9,  -999.0,9,  -999.0, -999.00,1,-999.000,9,    39.2,2, -999.00,9,     -999.0,1,    4.76,2, 20160220,     1805, -65.1000,  79.6066,     -999.0,9,     -999.0,9,     -999.0,9,-999.0000,9,-999.0000,9,-999.0000,9,-999.0000,9,-999.0000,9,-999.0000,9,-999.0000,9,     -999.0,9,     -999.0,9,        2.1,2,       4.76,2,        2.1,2
33RR20160208,       I08S,       8,          1,          5,          5,2,20160220,       1751,   -65.1000,    79.6066,       3525,  2796.4,   0.0292,  34.6681,2,  34.6675,2,    227.2,2,   227.1,2,   125.9,2,    0.71,2,   32.45,2,    0.00,2,    2.29,2,   0.804,2,   0.425,2,   0.048,2,         0.309,2,  2257.0,2, 2355.76,2,   7.5943,2,    24.97,   0.0291, -999.00,9,  -999.0,9,  -999.0, -999.00,1,-999.000,9,    42.1,2, -999.00,9,     -999.0,1,    5.12,2, 20160220,     1810, -65.1000,  79.6067,     -999.0,9,     -999.0,9,     -999.0,9,-999.0000,9,-999.0000,9,-999.0000,9,-999.0000,9,-999.0000,9,-999.0000,9,-999.0000,9,     -999.0,9,     -999.0,9,        2.2,2,       5.12,2,        2.2,2
33RR20160208,       I08S,       8,          1,          6,          6,2,20160220,       1751,   -65.1000,    79.6066,       3525,  2591.7,   0.0835,  34.6710,2,  34.6702,2,    224.8,2,   224.1,2,   126.5,2,    0.24,2,   32.55,2,    0.00,2,    2.30,2,   0.673,2,   0.361,2,   0.037,2,         0.326,2,  -999.0,9, -999.00,9,-999.0000,9,     9.00,   0.0837, -999.00,9,  -999.0,9,  -999.0, -999.00,1,-999.000,9,    40.2,2, -999.00,9,     -999.0,1,    4.76,2, 20160220,     1814, -65.0999,  79.6066,     -999.0,9,     -999.0,9,     -999.0,9,-999.0000,9,-999.0000,9,-999.0000,9,-999.0000,9,-999.0000,9,-999.0000,9,-999.0000,9,     -999.0,9,     -999.0,9,       2.05,2,       4.76,2,       2.05,2
33RR20160208,       I08S,       8,          1,          7,          7,2,20160220,       1751,   -65.1000,    79.6066,       3525,  2392.5,   0.1391,  34.6726,2,  34.6718,2,    222.9,2,   222.5,2,   124.0,2,    0.33,2,   32.55,2,    0.00,2,    2.28,2,   0.687,2,   0.360,2,   0.036,2,         0.329,2,  -999.0,9, -999.00,9,-999.0000,9,  -999.00,   0.1389, -999.00,9,  -999.0,9,  -999.0, -999.00,1,-999.000,9,    39.7,2, -999.00,9,     -999.0,1,    4.75,2, 20160220,     1819, -65.0999,  79.6066,     -999.0,9,     -999.0,9,     -999.0,9,-999.0000,9,-999.0000,9,-999.0000,9,-999.0000,9,-999.0000,9,-999.0000,9,-999.0000,9,     -999.0,9,     -999.0,9,       2.04,2,       4.75,2,       2.04,2
33RR20160208,       I08S,       8,          1,          8,          8,2,20160220,       1751,   -65.1000,    79.6066,       3525,  2194.1,   0.2093,  34.6761,2,  34.6765,2,    219.6,2,   220.2,2,   123.6,2,    0.74,2,   32.55,2,    0.00,2,    2.28,2,   0.558,2,   0.302,2,   0.027,2,         0.245,2,  2258.1,2, 2357.19,2,   7.5924,2,    24.97,   0.2094, -999.00,9,  -999.0,9,  -999.0, -999.00,1,-999.000,9,    39.2,2, -999.00,9,     -999.0,1,    4.69,2, 20160220,     1824, -65.0999,  79.6066,     -999.0,9,     -999.0,9,     -999.0,9,-999.0000,9,-999.0000,9,-999.0000,9,-999.0000,9,-999.0000,9,-999.0000,9,-999.0000,9,     -999.0,9,     -999.0,9,       1.89,2,       4.69,2,       1.89,2
33RR20160208,       I08S,       8,          1,          9,          9,2,20160220,       1751,   -65.1000,    79.6066,       3525,  2001.7,   0.2858,  34.6791,2,  34.6765,4,    217.5,2,   217.4,2,   122.7,2,    0.04,2,   32.54,2,    0.00,2,    2.29,2,   0.574,2,   0.305,2,   0.027,2,         0.247,2,  -999.0,9, -999.00,9,-999.0000,9,     9.00,   0.2853, -999.00,9,  -999.0,9,  -999.0, -999.00,1,-999.000,9,    39.3,2, -999.00,9,     -999.0,1,    4.69,2, 20160220,     1828, -65.1000,  79.6065,     -999.0,9,     -999.0,9,     -999.0,9,-999.0000,9,-999.0000,9,-999.0000,9,-999.0000,9,-999.0000,9,-999.0000,9,-999.0000,9,     -999.0,9,     -999.0,9,       1.94,2,       4.69,2,       1.94,2
33RR20160208,       I08S,       8,          1,         10,         10,2,20160220,       1751,   -65.1000,    79.6066,       3525,  1797.7,   0.3808,  34.6834,2,  34.6788,4,    215.2,2,   215.2,2,   120.8,2,    0.00,2,   32.45,2,    0.00,2,    2.28,2,   0.507,2,   0.275,2,   0.023,2,         0.232,2,  -999.0,9, -999.00,9,-999.0000,9,  -999.00,   0.3807, -999.00,9,  -999.0,9,  -999.0, -999.00,1,-999.000,9,    41.0,2, -999.00,9,     -999.0,1,    4.69,2, 20160220,     1833, -65.0999,  79.6066,     -999.0,9,     -999.0,9,     -999.0,9,-999.0000,9,-999.0000,9,-999.0000,9,-999.0000,9,-999.0000,9,-999.0000,9,-999.0000,9,     -999.0,9,     -999.0,9,       2.02,2,       4.69,2,       2.02,2
33RR20160208,       I08S,       8,          1,         11,         11,2,20160220,       1751,   -65.1000,    79.6066,       3525,  1700.8,   0.4332,  34.6868,2,  34.6867,2,    213.4,2,   214.4,2,   120.1,2,    0.11,2,   32.48,2,    0.00,2,    2.29,2,   0.454,2,   0.241,2,   0.016,2,         0.192,2,  2257.7,2, 2358.00,2,   7.5920,2,    24.96,   0.4334, -999.00,9,  -999.0,9,  -999.0, -999.00,1,-999.000,9,    39.9,2, -999.00,9,     -999.0,1,     4.7,2, 20160220,     1836, -65.0999,  79.6065,     -999.0,9,     -999.0,9,     -999.0,9,-999.0000,9,-999.0000,9,-999.0000,9,-999.0000,9,-999.0000,9,-999.0000,9,-999.0000,9,     -999.0,9,     -999.0,9,        2.0,2,        4.7,2,        2.0,2
33RR20160208,       I08S,       8,          1,         12,         12,2,20160220,       1751,   -65.1000,    79.6066,       3525,  1600.1,   0.4869,  34.6888,2,  34.6884,2,    212.6,2,   212.8,2,   118.0,2,    0.00,2,   32.38,2,    0.00,2,    2.26,2,   0.464,2,   0.256,2,   0.018,2,         0.216,2,  -999.0,9, -999.00,9,-999.0000,9,     9.00,   0.4872, -999.00,9,  -999.0,9,  -999.0, -999.00,1,-999.000,9,    40.2,2, -999.00,9,     -999.0,1,    4.69,2, 20160220,     1838, -65.1000,  79.6067,     -999.0,9,     -999.0,9,     -999.0,9,-999.0000,9,-999.0000,9,-999.0000,9,-999.0000,9,-999.0000,9,-999.0000,9,-999.0000,9,     -999.0,9,     -999.0,9,       1.99,2,       4.69,2,       1.99,2
33RR20160208,       I08S,       8,          1,         13,         13,2,20160220,       1751,   -65.1000,    79.6066,       3525,  1499.8,   0.5600,  34.6932,2,  34.6908,2,    211.1,2,   210.4,2,   116.8,2,    0.11,2,   32.30,2,    0.00,2,    2.27,2,-999.000,9,-999.000,9,-999.000,9,-999.000000000,9,  -999.0,9, -999.00,9,-999.0000,9,  -999.00,   0.5604, -999.00,9,  -999.0,9,  -999.0, -999.00,1,-999.000,9,    40.0,2, -999.00,9,     -999.0,1,    4.75,2, 20160220,     1841, -65.0999,  79.6066,     -999.0,9,     -999.0,9,     -999.0,9,-999.0000,9,-999.0000,9,-999.0000,9,-999.0000,9,-999.0000,9,-999.0000,9,-999.0000,9,     -999.0,9,     -999.0,9,       2.09,2,       4.75,2,       2.09,2
33RR20160208,       I08S,       8,          1,         14,         14,2,20160220,       1751,   -65.1000,    79.6066,       3525,  1398.8,   0.6184,  34.6954,2,  34.6908,2,    209.8,2,   210.9,2,   114.2,2,    0.65,2,   32.11,2,    0.00,2,    2.25,2,   0.456,2,   0.251,2,   0.019,2,         0.196,2,  2257.4,2, 2357.21,2,   7.5947,2,    24.98,   0.6185, -999.00,9,  -999.0,9,  -999.0, -999.00,1,-999.000,9,    41.4,2, -999.00,9,     -999.0,1,    4.76,2, 20160220,     1844, -65.0999,  79.6066,     -999.0,9,     -999.0,9,     -999.0,9,-999.0000,9,-999.0000,9,-999.0000,9,-999.0000,9,-999.0000,9,-999.0000,9,-999.0000,9,     -999.0,9,     -999.0,9,       1.96,2,       4.76,2,       1.96,2
33RR20160208,       I08S,       8,          1,         15,         15,2,20160220,       1751,   -65.1000,    79.6066,       3525,  1299.0,   0.6763,  34.6974,2,  34.6980,2,    211.3,2,   210.0,2,   111.8,2,    0.10,2,   31.97,2,    0.00,2,    2.25,2,-999.000,9,-999.000,9,-999.000,9,-999.000000000,9,  -999.0,9, -999.00,9,-999.0000,9,     9.00,   0.6780, -999.00,9,  -999.0,9,  -999.0, -999.00,1,-999.000,9,    40.0,2, -999.00,9,     -999.0,1,    4.77,2, 20160220,     1847, -65.0999,  79.6066,     -999.0,9,     -999.0,9,     -999.0,9,-999.0000,9,-999.0000,9,-999.0000,9,-999.0000,9,-999.0000,9,-999.0000,9,-999.0000,9,     -999.0,9,     -999.0,9,       2.03,2,       4.77,2,       2.03,2
33RR20160208,       I08S,       8,          1,         16,         16,2,20160220,       1751,   -65.1000,    79.6066,       3525,  1197.7,   0.5898,  34.6822,2,  34.6822,2,    213.6,2,   216.5,2,   104.9,2,    0.13,2,   31.73,2,    0.00,2,    2.24,2,   0.866,2,   0.474,4,   0.062,4,         0.411,4,  2254.0,2, 2353.93,3,   7.5954,6,    24.98,   0.5883, -999.00,9,  -999.0,9,  -999.0, -999.00,1,-999.000,9,    41.4,2, -999.00,9,     -999.0,1,    4.78,2, 20160220,     1850, -65.0999,  79.6066,     -999.0,9,     -999.0,9,     -999.0,9,-999.0000,9,-999.0000,9,-999.0000,9,-999.0000,9,-999.0000,9,-999.0000,9,-999.0000,9,     -999.0,9,     -999.0,9,       1.91,2,       4.78,2,       1.91,2
33RR20160208,       I08S,       8,          1,         17,         17,2,20160220,       1751,   -65.1000,    79.6066,       3525,  1099.6,   0.8569,  34.7074,2,  34.7079,2,    207.6,2,   208.3,2,   107.3,2,    0.02,2,   31.65,2,    0.00,2,    2.22,2,-999.000,9,-999.000,9,-999.000,9,-999.000000000,9,  -999.0,9, -999.00,9,-999.0000,9,  -999.00,   0.8572, -999.00,9,  -999.0,9,  -999.0, -999.00,1,-999.000,9,    41.1,2, -999.00,9,     -999.0,1,    4.75,2, 20160220,     1853, -65.0999,  79.6067,     -999.0,9,     -999.0,9,     -999.0,9,-999.0000,9,-999.0000,9,-999.0000,9,-999.0000,9,-999.0000,9,-999.0000,9,-999.0000,9,     -999.0,9,     -999.0,9,       1.98,2,       4.75,2,       1.98,2
33RR20160208,       I08S,       8,          1,         18,         18,2,20160220,       1751,   -65.1000,    79.6066,       3525,  1001.9,   0.9546,  34.7124,2,  34.7122,2,    206.4,2,   207.1,2,   104.3,2,    0.00,2,   31.47,2,    0.00,2,    2.21,2,   0.438,2,   0.243,2,   0.023,2,         0.198,2,  2253.9,2, 2356.91,2,   7.6011,2,    24.98,   0.9551, -999.00,9,  -999.0,9,  -999.0, -999.00,1,-999.000,9,    39.8,2, -999.00,9,     -999.0,1,    4.75,2, 20160220,     1856, -65.0999,  79.6067,     -999.0,9,     -999.0,9,     -999.0,9,-999.0000,9,-999.0000,9,-999.0000,9,-999.0000,9,-999.0000,9,-999.0000,9,-999.0000,9,     -999.0,9,     -999.0,9,       2.01,2,       4.75,2,       2.01,2
33RR20160208,       I08S,       8,          1,         19,         19,2,20160220,       1751,   -65.1000,    79.6066,       3525,   899.6,   1.0073,  34.7118,2,  34.7102,2,    206.6,2,   206.6,2,   101.2,2,    0.04,2,   31.36,2,    0.00,2,    2.21,2,-999.000,9,-999.000,9,-999.000,9,-999.000000000,9,  -999.0,9, -999.00,9,-999.0000,9,  -999.00,   1.0104, -999.00,9,  -999.0,9,  -999.0, -999.00,1,-999.000,9,    40.5,2, -999.00,9,     -999.0,1,    4.79,2, 20160220,     1859, -65.0999,  79.6067,     -999.0,9,     -999.0,9,     -999.0,9,-999.0000,9,-999.0000,9,-999.0000,9,-999.0000,9,-999.0000,9,-999.0000,9,-999.0000,9,     -999.0,9,     -999.0,9,       1.97,2,       4.79,2,       1.97,2
33RR20160208,       I08S,       8,          1,         20,         20,2,20160220,       1751,   -65.1000,    79.6066,       3525,   798.7,   1.0905,  34.7126,2,  34.7122,2,    204.2,2,   206.5,2,    98.1,2,    0.08,2,   31.28,2,    0.00,2,    2.20,2,   0.539,2,   0.306,2,   0.034,2,         0.261,2,  2254.7,2, 2352.72,2,   7.5997,2,    24.96,   1.0906, -999.00,9,  -999.0,9,  -999.0, -999.00,1,-999.000,9,    38.6,3, -999.00,9,     -999.0,1,    4.77,2, 20160220,     1902, -65.0999,  79.6066,     -999.0,9,     -999.0,9,     -999.0,9,-999.0000,9,-999.0000,9,-999.0000,9,-999.0000,9,-999.0000,9,-999.0000,9,-999.0000,9,     -999.0,9,     -999.0,9,        1.9,2,       4.77,2,        1.9,2
33RR20160208,       I08S,       8,          1,         21,         21,2,20160220,       1751,   -65.1000,    79.6066,       3525,   697.2,   1.1390,  34.7099,2,  34.7067,2,    203.0,2,   204.7,2,    95.5,2,    0.07,2,   31.21,2,    0.00,2,    2.20,2,-999.000,9,-999.000,9,-999.000,9,-999.000000000,9,  -999.0,9, -999.00,9,-999.0000,9,     9.00,   1.1392, -999.00,9,  -999.0,9,  -999.0, -999.00,1,-999.000,9,    40.3,2, -999.00,9,     -999.0,1,    4.77,2, 20160220,     1905, -65.0999,  79.6067,     -999.0,9,     -999.0,9,     -999.0,9,-999.0000,9,-999.0000,9,-999.0000,9,-999.0000,9,-999.0000,9,-999.0000,9,-999.0000,9,     -999.0,9,     -999.0,9,       2.07,2,       4.77,2,       2.07,2
33RR20160208,       I08S,       8,          1,         22,         22,2,20160220,       1751,   -65.1000,    79.6066,       3525,   597.7,   1.3020,  34.7162,2,  34.7159,2,    202.4,2,   202.8,4,    92.6,2,    0.14,2,   31.06,2,    0.00,2,    2.18,2,   0.559,2,   0.324,2,   0.038,2,         0.262,2,  2250.8,2, 2350.36,2,   7.5991,2,    24.96,   1.3022, -999.00,9,  -999.0,9,  -999.0, -999.00,1,-999.000,9,    39.7,2, -999.00,9,     -999.0,1,    4.73,2, 20160220,     1908, -65.0999,  79.6065,     -999.0,9,     -999.0,9,     -999.0,9,-999.0000,9,-999.0000,9,-999.0000,9,-999.0000,9,-999.0000,9,-999.0000,9,-999.0000,9,     -999.0,9,     -999.0,9,       1.85,2,       4.73,2,       1.85,2
33RR20160208,       I08S,       8,          1,         23,         23,2,20160220,       1751,   -65.1000,    79.6066,       3525,   501.1,   1.1811,  34.6902,2,  34.6898,2,    202.1,2,   205.4,2,    89.2,2,    0.01,2,   31.29,2,    0.00,2,    2.20,2,-999.000,9,-999.000,9,-999.000,9,-999.000000000,9,  -999.0,9, -999.00,9,-999.0000,9,  -999.00,   1.1833, -999.00,9,  -999.0,9,  -999.0, -999.00,1,-999.000,9,    39.2,2, -999.00,9,     -999.0,1,    4.73,2, 20160220,     1911, -65.0999,  79.6069,     -999.0,9,     -999.0,9,     -999.0,9,-999.0000,9,-999.0000,9,-999.0000,9,-999.0000,9,-999.0000,9,-999.0000,9,-999.0000,9,     -999.0,9,     -999.0,9,       1.78,2,       4.73,2,       1.78,2
33RR20160208,       I08S,       8,          1,         24,         24,2,20160220,       1751,   -65.1000,    79.6066,       3525,   449.8,   1.1715,  34.6810,2,  34.6743,2,    201.0,2,   205.3,2,    87.4,2,    0.04,2,   31.45,2,    0.00,2,    2.20,2,   0.931,2,   0.500,2,   0.076,2,         0.474,2,  2252.9,2, 2346.37,2,   7.5877,2,    24.97,   1.1722, -999.00,9,  -999.0,9,  -999.0, -999.00,1,-999.000,9,    39.3,2, -999.00,9,     -999.0,1,    4.72,2, 20160220,     1913, -65.0999,  79.6067,     -999.0,9,     -999.0,9,     -999.0,9,-999.0000,9,-999.0000,9,-999.0000,9,-999.0000,9,-999.0000,9,-999.0000,9,-999.0000,9,     -999.0,9,     -999.0,9,       1.93,2,       4.72,2,       1.93,2
33RR20160208,       I08S,       8,          1,         25,         25,2,20160220,       1751,   -65.1000,    79.6066,       3525,   402.1,   1.1147,  34.6653,2,  34.6660,2,    204.0,2,   206.2,2,    85.8,2,    0.00,2,   31.63,2,    0.00,2,    2.22,2,-999.000,9,-999.000,9,-999.000,9,-999.000000000,9,  -999.0,9, -999.00,9,-999.0000,9,  -999.00,   1.1160, -999.00,9,  -999.0,9,  -999.0, -999.00,1,-999.000,9,    43.6,3, -999.00,9,     -999.0,1,    4.79,2, 20160220,     1915, -65.0999,  79.6069,     -999.0,9,     -999.0,9,     -999.0,9,-999.0000,9,-999.0000,9,-999.0000,9,-999.0000,9,-999.0000,9,-999.0000,9,-999.0000,9,     -999.0,9,     -999.0,9,       1.82,2,       4.79,2,       1.82,2
33RR20160208,       I08S,       8,          1,         26,         26,2,20160220,       1751,   -65.1000,    79.6066,       3525,   350.1,   0.9945,  34.6462,2,  34.6460,2,    209.5,2,   209.8,2,    84.4,2,    0.00,2,   31.80,2,    0.00,2,    2.24,2,   1.354,2,   0.691,4,   0.106,2,         0.514,2,  2250.1,2, 2342.36,2,   7.5814,2,    24.97,   0.9940, -999.00,9,  -999.0,9,  -999.0, -999.00,1,-999.000,9,    39.4,2, -999.00,9,     -999.0,1,    4.82,2, 20160220,     1917, -65.0999,  79.6067,     -999.0,9,     -999.0,9,     -999.0,9,-999.0000,9,-999.0000,9,-999.0000,9,-999.0000,9,-999.0000,9,-999.0000,9,-999.0000,9,     -999.0,9,     -999.0,9,       1.94,2,       4.82,2,       1.94,2
33RR20160208,       I08S,       8,          1,         27,         27,2,20160220,       1751,   -65.1000,    79.6066,       3525,   300.7,   0.7335,  34.6090,2,  34.6080,2,    222.2,2,   219.1,2,    81.6,2,    0.02,2,   32.01,2,    0.00,2,    2.26,2,-999.000,9,-999.000,9,-999.000,9,-999.000000000,9,  -999.0,9, -999.00,9,-999.0000,9,     9.00,   0.7330, -999.00,9,  -999.0,9,  -999.0, -999.00,1,-999.000,9,    40.9,2,   34.70,2,     -999.0,1,    4.82,2, 20160220,     1920, -65.0999,  79.6066,     -999.0,9,     -999.0,9,     -999.0,9,-999.0000,9,-999.0000,9,-999.0000,9,-999.0000,9,-999.0000,9,-999.0000,9,-999.0000,9,     -999.0,9,     -999.0,9,       2.08,2,       4.82,2,       2.08,2