BOTTLE,20220706CCHSIOAMB
EXPOCODE,SECT_ID,STNNBR,CASTNO,SAMPNO,BTLNBR,BTLNBR_FLAG_W,DATE,TIME,LATITUDE,LONGITUDE,DEPTH,CTDPRS,CTDTMP,CTDSAL,CTDSAL_FLAG_W,SALNTY,SALNTY_FLAG_W,CTDOXY,CTDOXY_FLAG_W,OXYGEN,OXYGEN_FLAG_W,SILCAT,SILCAT_FLAG_W,NH4,NH4_FLAG_W,NITRAT,NITRAT_FLAG_W,NITRIT,NITRIT_FLAG_W,PHSPHT,PHSPHT_FLAG_W,CFC-11,CFC-11_FLAG_W,CFC-12,CFC-12_FLAG_W,CFC113,CFC113_FLAG_W,SF6,SF6_FLAG_W,TCARBN,TCARBN_FLAG_W,ALKALI,ALKALI_FLAG_W,PH_TOT,PH_TOT_FLAG_W,PH_TMP,REFTMP,DELC13,DELC13_FLAG_W,DELC14,DELC14_FLAG_W,C14ERR,DELO18,DELO18_FLAG_W,POC,POC_FLAG_W,DOC,DOC_FLAG_W,TDN,TDN_FLAG_W,TON,TON_FLAG_W,D15N_NO3,D15N_NO3_FLAG_W,BTL_DATE,BTL_TIME,BTL_LAT,BTL_LON,14C-DOC,14C-DOC_FLAG_W,CHLORA,CHLORA_FLAG_W,HPLC,HPLC_FLAG_W,CDOM325,CDOM325_FLAG_W,CDOM340,CDOM340_FLAG_W,CDOM380,CDOM380_FLAG_W,CDOM412,CDOM412_FLAG_W,CDOM443,CDOM443_FLAG_W,CDOM490,CDOM490_FLAG_W,CDOM555,CDOM555_FLAG_W,CDOMSL,CDOMSL_FLAG_W,CDOMSN,CDOMSN_FLAG_W,D18O_NO3,D18O_NO3_FLAG_W,D15N_NO2+NO3,D15N_NO2+NO3_FLAG_W,D18O_NO2+NO3,D18O_NO2+NO3_FLAG_W
,,,,,,,,,,,METERS,DBAR,ITS-90,PSS-78,,PSS-78,,UMOL/KG,,UMOL/KG,,UMOL/KG,,UMOL/KG,,UMOL/KG,,UMOL/KG,,UMOL/KG,,PMOL/KG,,PMOL/KG,,PMOL/KG,,FMOL/KG,,UMOL/KG,,UMOL/KG,,,,DEG C,DEG C,/MILLE,,/MILLE,,/MILLE,/MILLE,,UG/KG,,UMOL/KG,,UMOL/KG,,UMOL/KG,,/MILLE,,,,,,/MILLE,,MG/M3,,,,1/M,,1/M,,1/M,,1/M,,1/M,,1/M,,1/M,,1/NM,,1/NM,,/MILLE,,/MILLE,,/MILLE,
33RR20160208,       I08S,      10,          1,         28,         28,2,20160221,       0658,   -64.0500,    81.2022,       3700,   236.2,   0.5286,  34.5689,2,  34.5685,2,    218.4,2,   223.3,2,    78.6,2,    0.00,2,   32.19,2,    0.01,2,    2.25,2,   2.040,2,   1.097,3,   0.182,2,         4.894,4,  2250.2,2, 2334.48,2,   7.5722,2,    25.00,   0.5301, -999.00,9,  -999.0,9,  -999.0, -999.00,1,-999.000,9,    40.0,2,   34.10,2,     -999.0,1, -999.00,9, 20160221,      828, -64.0501,  81.2023,     -999.0,9,     -999.0,9,     -999.0,9,   0.1179,2,   0.0847,2,   0.0585,2,   0.0301,2,   0.0169,2,   0.0062,2,   0.0020,2,     0.0128,2,     0.0133,2,     -999.0,9,     -999.0,9,     -999.0,9
33RR20160208,       I08S,      10,          1,         29,         29,2,20160221,       0658,   -64.0500,    81.2022,       3700,   186.1,   0.5686,  34.5498,2,  34.5495,2,    214.4,2,   220.0,2,    78.4,2,    0.01,2,   32.54,2,    0.01,2,    2.25,2,   1.859,2,   0.978,2,   0.168,2,         1.873,2,  -999.0,9, -999.00,9,-999.0000,9,  -999.00,   0.5663, -999.00,9,  -999.0,9,  -999.0, -999.00,1,-999.000,9,    40.8,2,   34.90,2,     -999.0,1, -999.00,9, 20160221,      830, -64.0501,  81.2022,     -999.0,9,     -999.0,9,     -999.0,9,   0.1182,2,   0.0832,2,   0.0539,2,   0.0297,2,   0.0171,2,   0.0065,2,   0.0023,2,     0.0139,2,     0.0148,2,     -999.0,9,     -999.0,9,     -999.0,9
33RR20160208,       I08S,      10,          1,         30,         30,2,20160221,       0658,   -64.0500,    81.2022,       3700,   140.4,   0.4259,  34.5016,2,  34.5016,2,    226.1,2,   222.8,2,    75.7,2,    0.00,2,   32.82,2,    0.02,2,    2.29,2,   2.285,2,   1.236,2,   0.211,2,         4.004,4,  2250.3,2, 2331.85,2,   7.5605,6,    24.99,   0.4254, -999.00,9,  -999.0,9,  -999.0, -999.00,1,-999.000,9,    40.8,2,   35.50,2,     -999.0,1, -999.00,9, 20160221,      832, -64.0501,  81.2022,     -999.0,9,0.032150408,2,     -999.0,9,   0.1159,2,   0.0837,2,   0.0604,2,   0.0298,2,   0.0164,2,   0.0058,2,   0.0019,2,     0.0122,2,     0.0125,2,     -999.0,9,     -999.0,9,     -999.0,9
33RR20160208,       I08S,      10,          1,         31,         31,2,20160221,       0658,   -64.0500,    81.2022,       3700,   114.7,  -0.1850,  34.4229,2,  34.4274,2,    259.0,2,   242.0,2,    70.8,2,    0.00,2,   32.36,2,    0.04,2,    2.26,2,   2.825,2,   1.447,2,   0.244,2,         1.531,2,  -999.0,9, -999.00,9,-999.0000,9,  -999.00,  -0.1758, -999.00,9,  -999.0,9,  -999.0, -999.00,1,-999.000,9,    40.2,2,   35.40,2,     -999.0,1, -999.00,9, 20160221,      834, -64.0501,  81.2022,     -999.0,9,     -999.0,9,     -999.0,9,-999.0000,9,-999.0000,9,-999.0000,9,-999.0000,9,-999.0000,9,-999.0000,9,-999.0000,9,     -999.0,9,     -999.0,9,     -999.0,9,     -999.0,9,     -999.0,9
33RR20160208,       I08S,      10,          1,         32,         32,2,20160221,       0658,   -64.0500,    81.2022,       3700,    88.9,  -1.0102,  34.3035,2,  34.3061,2,    275.3,2,   270.1,2,    62.9,2,    0.00,2,   31.37,2,    0.12,2,    2.20,2,   3.609,2,   1.959,2,   0.346,2,         1.771,2,  2230.3,2, 2317.77,2,   7.5847,6,    24.99,  -1.0123, -999.00,9,  -999.0,9,  -999.0, -999.00,1,-999.000,9,    40.7,2,   33.90,2,     -999.0,1, -999.00,9, 20160221,      837, -64.0501,  81.2022,     -999.0,9,0.164359748,2,     -999.0,9,   0.1037,2,   0.0718,2,   0.0480,2,   0.0255,2,   0.0142,2,   0.0049,2,   0.0015,2,     0.0137,2,     0.0146,2,     -999.0,9,     -999.0,9,     -999.0,9
33RR20160208,       I08S,      10,          1,         33,         33,2,20160221,       0658,   -64.0500,    81.2022,       3700,    63.2,  -1.4833,  34.1974,2,  34.1962,2,    284.5,2,   288.6,2,    57.3,2,    0.31,2,   30.29,2,    0.12,2,    2.12,2,   3.996,2,   2.090,2,   0.373,2,         1.748,2,  2219.3,2, 2311.86,2,   7.6022,2,    25.00,  -1.4859, -999.00,9,  -999.0,9,  -999.0, -999.00,1,-999.000,9,    40.2,2,   33.20,2,     -999.0,1, -999.00,9, 20160221,      839, -64.0501,  81.2023,     -999.0,9, 0.29293213,2,     -999.0,9,   0.1117,2,   0.0792,2,   0.0573,2,   0.0314,2,   0.0186,2,   0.0073,2,   0.0025,2,     0.0119,2,     0.0126,2,     -999.0,9,     -999.0,9,     -999.0,9
33RR20160208,       I08S,      10,          1,         34,         34,2,20160221,       0658,   -64.0500,    81.2022,       3700,    40.6,  -0.7841,  33.8880,2,  33.9022,2,    335.7,2,   323.9,2,    42.3,2,    0.64,2,   27.05,2,    0.15,2,    1.93,2,   4.624,2,   2.464,2,   0.443,2,         2.679,2,  -999.0,9, -999.00,9,-999.0000,9,  -999.00,  -0.7883, -999.00,9,  -999.0,9,  -999.0, -999.00,1,-999.000,9,    40.4,2,   30.30,2,     -999.0,1, -999.00,9, 20160221,      841, -64.0501,  81.2022,     -999.0,9,1.963587225,3,     -999.0,9,   0.1207,2,   0.0858,2,   0.0552,2,   0.0334,2,   0.0213,2,   0.0095,2,   0.0035,2,     0.0135,2,     0.0146,2,     -999.0,9,     -999.0,9,     -999.0,9
33RR20160208,       I08S,      10,          1,         35,         35,2,20160221,       0658,   -64.0500,    81.2022,       3700,    20.3,   0.8941,  33.2692,2,  33.2719,2,    353.1,2,   353.5,2,    21.4,2,    0.81,2,   20.67,2,    0.23,2,    1.34,2,   5.261,2,   2.843,2,   0.520,2,         2.938,2,  2111.9,2, 2258.68,2,   7.7680,2,    25.00,   0.8794, -999.00,9,  -999.0,9,  -999.0, -999.00,1,-999.000,9,    42.8,2,   24.90,2,     -999.0,1, -999.00,9, 20160221,      842, -64.0501,  81.2022,     -999.0,9,0.758833708,2,     -999.0,9,   0.0911,2,   0.0630,2,   0.0397,2,   0.0221,2,   0.0133,2,   0.0043,2,   0.0008,2,     0.0145,2,     0.0157,2,     -999.0,9,     -999.0,9,     -999.0,9
33RR20160208,       I08S,      10,          1,         36,         36,2,20160221,       0658,   -64.0500,    81.2022,       3700,     5.6,   0.9827,  33.2300,2,  33.2316,2,    352.4,2,   352.7,2,    20.9,2,    0.88,2,   20.36,2,    0.24,2,    1.30,2,   5.387,2,   2.875,2,   0.525,2,         4.409,4,  2105.0,6, 2256.99,2,   7.7702,6,    25.00,   0.9825, -999.00,9,  -999.0,9,  -999.0, -999.00,1,-999.000,9,    48.6,3,   23.90,2,     -999.0,1, -999.00,9, 20160221,      844, -64.0501,  81.2022,     -999.0,9, 0.70744701,2,     -999.0,9,   0.0935,2,   0.0700,2,   0.0559,2,   0.0244,2,   0.0135,2,   0.0043,2,   0.0009,2,     0.0105,2,     0.0102,2,     -999.0,9,     -999.0,9,     -999.0,9