BOTTLE,20220706CCHSIOAMB
EXPOCODE,SECT_ID,STNNBR,CASTNO,SAMPNO,BTLNBR,BTLNBR_FLAG_W,DATE,TIME,LATITUDE,LONGITUDE,DEPTH,CTDPRS,CTDTMP,CTDSAL,CTDSAL_FLAG_W,SALNTY,SALNTY_FLAG_W,CTDOXY,CTDOXY_FLAG_W,OXYGEN,OXYGEN_FLAG_W,SILCAT,SILCAT_FLAG_W,NH4,NH4_FLAG_W,NITRAT,NITRAT_FLAG_W,NITRIT,NITRIT_FLAG_W,PHSPHT,PHSPHT_FLAG_W,CFC-11,CFC-11_FLAG_W,CFC-12,CFC-12_FLAG_W,CFC113,CFC113_FLAG_W,SF6,SF6_FLAG_W,TCARBN,TCARBN_FLAG_W,ALKALI,ALKALI_FLAG_W,PH_TOT,PH_TOT_FLAG_W,PH_TMP,REFTMP,DELC13,DELC13_FLAG_W,DELC14,DELC14_FLAG_W,C14ERR,DELO18,DELO18_FLAG_W,POC,POC_FLAG_W,DOC,DOC_FLAG_W,TDN,TDN_FLAG_W,TON,TON_FLAG_W,D15N_NO3,D15N_NO3_FLAG_W,BTL_DATE,BTL_TIME,BTL_LAT,BTL_LON,14C-DOC,14C-DOC_FLAG_W,CHLORA,CHLORA_FLAG_W,HPLC,HPLC_FLAG_W,CDOM325,CDOM325_FLAG_W,CDOM340,CDOM340_FLAG_W,CDOM380,CDOM380_FLAG_W,CDOM412,CDOM412_FLAG_W,CDOM443,CDOM443_FLAG_W,CDOM490,CDOM490_FLAG_W,CDOM555,CDOM555_FLAG_W,CDOMSL,CDOMSL_FLAG_W,CDOMSN,CDOMSN_FLAG_W,D18O_NO3,D18O_NO3_FLAG_W,D15N_NO2+NO3,D15N_NO2+NO3_FLAG_W,D18O_NO2+NO3,D18O_NO2+NO3_FLAG_W
,,,,,,,,,,,METERS,DBAR,ITS-90,PSS-78,,PSS-78,,UMOL/KG,,UMOL/KG,,UMOL/KG,,UMOL/KG,,UMOL/KG,,UMOL/KG,,UMOL/KG,,PMOL/KG,,PMOL/KG,,PMOL/KG,,FMOL/KG,,UMOL/KG,,UMOL/KG,,,,DEG C,DEG C,/MILLE,,/MILLE,,/MILLE,/MILLE,,UG/KG,,UMOL/KG,,UMOL/KG,,UMOL/KG,,/MILLE,,,,,,/MILLE,,MG/M3,,,,1/M,,1/M,,1/M,,1/M,,1/M,,1/M,,1/M,,1/NM,,1/NM,,/MILLE,,/MILLE,,/MILLE,
33RR20160208,       I08S,      35,          1,          1,          1,2,20160227,       2318,   -53.5264,    87.0235,       4602,  4754.1,   0.1621,  34.6663,2,  34.6668,2,    229.4,2,   230.2,2,   130.3,2,    0.00,2,   32.07,2,    0.00,2,    2.21,2,   1.141,2,   0.567,2,   0.080,2,         0.226,2,  2256.7,6, 2355.23,2,   7.5935,6,    24.97,   0.1619, -999.00,9,  -999.0,9,  -999.0, -999.00,1,-999.000,9,  -999.0,9, -999.00,9,     -999.0,9,     4.7,2, 20160227,     2318, -53.5264,  87.0236,     -999.0,9,     -999.0,9,     -999.0,9,-999.0000,9,-999.0000,9,-999.0000,9,-999.0000,9,-999.0000,9,-999.0000,9,-999.0000,9,     -999.0,9,     -999.0,9,       1.95,2,        4.7,2,       1.95,2
33RR20160208,       I08S,      35,          1,          2,          2,2,20160227,       2318,   -53.5264,    87.0235,       4602,  4472.4,   0.1355,  34.6667,2,  34.6670,2,    229.0,2,   229.7,2,   129.9,2,    0.00,2,   32.09,2,    0.00,2,    2.22,2,   1.126,2,   0.573,2,   0.080,2,         0.236,2,  2256.4,2, 2355.28,2,   7.5932,2,    24.97,   0.1351, -999.00,9,  -999.0,9,  -999.0, -999.00,1,-999.000,9,  -999.0,9, -999.00,9,     -999.0,9,    4.75,2, 20160227,     2323, -53.5263,  87.0233,     -999.0,9,     -999.0,9,     -999.0,9,-999.0000,9,-999.0000,9,-999.0000,9,-999.0000,9,-999.0000,9,-999.0000,9,-999.0000,9,     -999.0,9,     -999.0,9,       1.97,2,       4.75,2,       1.97,2
33RR20160208,       I08S,      35,          1,          3,          3,2,20160227,       2318,   -53.5264,    87.0235,       4602,  4201.5,   0.1843,  34.6706,2,  34.6705,2,    226.9,2,   227.0,2,   128.7,2,    0.00,2,   32.13,2,    0.00,2,    2.23,2,   0.987,2,   0.501,2,   0.066,2,         0.161,2,  2256.6,2, 2355.80,2,   7.5943,2,    24.97,   0.1847, -999.00,9,  -999.0,9,  -999.0, -999.00,1,-999.000,9,  -999.0,9, -999.00,9,     -999.0,9,    4.74,2, 20160227,     2326, -53.5266,  87.0226,     -999.0,9,     -999.0,9,     -999.0,9,-999.0000,9,-999.0000,9,-999.0000,9,-999.0000,9,-999.0000,9,-999.0000,9,-999.0000,9,     -999.0,9,     -999.0,9,       2.02,2,       4.74,2,       2.02,2
33RR20160208,       I08S,      35,          1,          4,          4,2,20160227,       2318,   -53.5264,    87.0235,       4602,  3896.4,   0.2311,  34.6740,2,  34.6735,2,    224.8,2,   224.8,2,   128.3,2,    0.00,2,   32.11,2,    0.00,2,    2.23,2,   0.873,2,   0.443,2,   0.055,2,          0.19,2,  -999.0,9, -999.00,9,-999.0000,9,  -999.00,   0.2309, -999.00,9,  -999.0,9,  -999.0, -999.00,1,-999.000,9,  -999.0,9, -999.00,9,     -999.0,9,    4.76,2, 20160227,     2331, -53.5269,  87.0224,     -999.0,9,     -999.0,9,     -999.0,9,-999.0000,9,-999.0000,9,-999.0000,9,-999.0000,9,-999.0000,9,-999.0000,9,-999.0000,9,     -999.0,9,     -999.0,9,       2.16,2,       4.76,2,       2.16,2
33RR20160208,       I08S,      35,          1,          5,          5,2,20160227,       2318,   -53.5264,    87.0235,       4602,  3597.7,   0.3265,  34.6794,2,  34.6796,2,    221.2,2,   222.1,2,   126.6,2,    0.00,2,   32.08,2,    0.00,2,    2.23,2,   0.683,2,   0.354,2,   0.040,2,         0.147,2,  -999.0,9, -999.00,9,-999.0000,9,  -999.00,   0.3253, -999.00,9,  -999.0,9,  -999.0, -999.00,1,-999.000,9,  -999.0,9, -999.00,9,     -999.0,9,    4.71,2, 20160227,     2336, -53.5269,  87.0223,     -999.0,9,     -999.0,9,     -999.0,9,-999.0000,9,-999.0000,9,-999.0000,9,-999.0000,9,-999.0000,9,-999.0000,9,-999.0000,9,     -999.0,9,     -999.0,9,       2.13,2,       4.71,2,       2.13,2
33RR20160208,       I08S,      35,          1,          6,         38,2,20160227,       2318,   -53.5264,    87.0235,       4602,  3295.0,   0.4685,  34.6869,2,  34.6867,2,    216.9,2,   216.5,2,   124.6,2,    0.00,2,   32.11,2,    0.00,2,    2.23,2,   0.514,2,   0.272,2,   0.024,2,         0.127,2,  -999.0,9, -999.00,9,-999.0000,9,     9.00,   0.4686, -999.00,9,  -999.0,9,  -999.0, -999.00,1,-999.000,9,  -999.0,9, -999.00,9,     -999.0,9,    4.78,2, 20160227,     2341, -53.5269,  87.0222,     -999.0,9,     -999.0,9,     -999.0,9,-999.0000,9,-999.0000,9,-999.0000,9,-999.0000,9,-999.0000,9,-999.0000,9,-999.0000,9,     -999.0,9,     -999.0,9,       1.96,2,       4.78,2,       1.96,2
33RR20160208,       I08S,      35,          1,          7,          7,2,20160227,       2318,   -53.5264,    87.0235,       4602,  3000.8,   0.5810,  34.6927,2,  34.6930,2,    213.9,2,   213.2,2,   121.8,2,    0.00,2,   32.00,2,    0.00,2,    2.23,2,   0.405,2,   0.213,2,   0.016,2,         0.107,2,  -999.0,9, -999.00,9,-999.0000,9,  -999.00,   0.5814, -999.00,9,  -999.0,9,  -999.0, -999.00,1,-999.000,9,  -999.0,9, -999.00,9,     -999.0,9,    4.75,2, 20160227,     2346, -53.5269,  87.0226,     -999.0,9,     -999.0,9,     -999.0,9,-999.0000,9,-999.0000,9,-999.0000,9,-999.0000,9,-999.0000,9,-999.0000,9,-999.0000,9,     -999.0,9,     -999.0,9,       1.88,2,       4.75,2,       1.88,2
33RR20160208,       I08S,      35,          1,          8,          8,2,20160227,       2318,   -53.5264,    87.0235,       4602,  2768.8,   0.7273,  34.7012,2,  34.7016,2,    210.6,2,   211.4,2,   118.1,2,    0.00,2,   31.81,2,    0.00,2,    2.20,2,   0.345,2,   0.183,2,   0.012,2,         0.047,2,  -999.0,9, -999.00,9,-999.0000,9,  -999.00,   0.7298, -999.00,9,  -999.0,9,  -999.0, -999.00,1,-999.000,9,  -999.0,9, -999.00,9,     -999.0,9,    4.64,2, 20160227,     2350, -53.5268,  87.0228,     -999.0,9,     -999.0,9,     -999.0,9,-999.0000,9,-999.0000,9,-999.0000,9,-999.0000,9,-999.0000,9,-999.0000,9,-999.0000,9,     -999.0,9,     -999.0,9,       2.12,2,       4.64,2,       2.12,2
33RR20160208,       I08S,      35,          1,          9,          9,2,20160227,       2318,   -53.5264,    87.0235,       4602,  2497.4,   0.9202,  34.7118,2,  34.7128,2,    207.8,2,   208.5,2,   113.1,2,    0.00,2,   31.47,2,    0.00,2,    2.17,2,   0.288,2,   0.152,2,   0.007,2,         0.089,2,  -999.0,9, -999.00,9,-999.0000,9,     9.00,   0.9186, -999.00,9,  -999.0,9,  -999.0, -999.00,1,-999.000,9,  -999.0,9, -999.00,9,     -999.0,9,    4.62,2, 20160227,     2354, -53.5269,  87.0227,     -999.0,9,     -999.0,9,     -999.0,9,-999.0000,9,-999.0000,9,-999.0000,9,-999.0000,9,-999.0000,9,-999.0000,9,-999.0000,9,     -999.0,9,     -999.0,9,       2.02,2,       4.62,2,       2.02,2
33RR20160208,       I08S,      35,          1,         10,         10,2,20160227,       2318,   -53.5264,    87.0235,       4602,  2247.6,   1.0927,  34.7216,2,  34.7224,2,    206.0,2,   207.5,2,   107.7,2,    0.00,2,   31.06,2,    0.00,2,    2.15,2,   0.245,2,   0.132,2,   0.006,2,         0.023,2,  -999.0,9, -999.00,9,-999.0000,9,  -999.00,   1.0915, -999.00,9,  -999.0,9,  -999.0, -999.00,1,-999.000,9,  -999.0,9, -999.00,9,     -999.0,9,     4.8,2, 20160227,     2358, -53.5268,  87.0228,     -999.0,9,     -999.0,9,     -999.0,9,-999.0000,9,-999.0000,9,-999.0000,9,-999.0000,9,-999.0000,9,-999.0000,9,-999.0000,9,     -999.0,9,     -999.0,9,       2.03,2,        4.8,2,       2.03,2
33RR20160208,       I08S,      35,          1,         11,         11,2,20160227,       2318,   -53.5264,    87.0235,       4602,  1999.0,   1.2738,  34.7308,2,  34.7320,2,    204.3,2,   205.1,2,   102.0,2,    0.00,2,   30.68,2,    0.00,2,    2.13,2,   0.224,2,   0.122,2,   0.005,2,         0.006,2,  2251.0,2, 2355.92,2,   7.6097,6,    24.98,   1.2745, -999.00,9,  -999.0,9,  -999.0, -999.00,1,-999.000,9,  -999.0,9, -999.00,9,     -999.0,9,     4.8,2, 20160228,        2, -53.5268,  87.0228,     -999.0,9,     -999.0,9,     -999.0,9,-999.0000,9,-999.0000,9,-999.0000,9,-999.0000,9,-999.0000,9,-999.0000,9,-999.0000,9,     -999.0,9,     -999.0,9,       1.86,2,        4.8,2,       1.86,2
33RR20160208,       I08S,      35,          1,         12,         12,2,20160227,       2318,   -53.5264,    87.0235,       4602,  1796.8,   1.4322,  34.7376,2,  34.7395,2,    202.6,2,   203.1,2,    97.2,2,    0.00,2,   30.54,2,    0.00,2,    2.09,2,-999.000,9,-999.000,9,-999.000,9,-999.000000000,9,  -999.0,9, -999.00,9,-999.0000,9,     9.00,   1.4294, -999.00,9,  -999.0,9,  -999.0, -999.00,1,-999.000,9,  -999.0,9, -999.00,9,     -999.0,9,    4.85,2, 20160228,        6, -53.5269,  87.0228,     -999.0,9,     -999.0,9,     -999.0,9,-999.0000,9,-999.0000,9,-999.0000,9,-999.0000,9,-999.0000,9,-999.0000,9,-999.0000,9,     -999.0,9,     -999.0,9,       1.76,2,       4.85,2,       1.76,2
33RR20160208,       I08S,      35,          1,         13,         13,2,20160227,       2318,   -53.5264,    87.0235,       4602,  1599.6,   1.6201,  34.7434,2,  34.7450,2,    200.1,2,   201.1,2,    91.9,2,    0.00,2,   30.25,2,    0.00,2,    2.09,2,   0.216,2,   0.120,2,   0.005,2,         0.023,2,  -999.0,9, -999.00,9,-999.0000,9,  -999.00,   1.6190, -999.00,9,  -999.0,9,  -999.0, -999.00,1,-999.000,9,  -999.0,9, -999.00,9,     -999.0,9,    4.88,2, 20160228,        9, -53.5270,  87.0226,     -999.0,9,     -999.0,9,     -999.0,9,-999.0000,9,-999.0000,9,-999.0000,9,-999.0000,9,-999.0000,9,-999.0000,9,-999.0000,9,     -999.0,9,     -999.0,9,       2.14,2,       4.88,2,       2.14,2
33RR20160208,       I08S,      35,          1,         14,         14,2,20160227,       2318,   -53.5264,    87.0235,       4602,  1501.3,   1.6903,  34.7429,2,  34.7439,2,    197.9,2,   198.8,2,    89.7,2,    0.00,2,   30.25,2,    0.00,2,    2.09,2,-999.000,9,-999.000,9,-999.000,9,-999.000000000,9,  -999.0,9, -999.00,9,-999.0000,9,  -999.00,   1.6920, -999.00,9,  -999.0,9,  -999.0, -999.00,1,-999.000,9,  -999.0,9, -999.00,9,     -999.0,9,    4.91,2, 20160228,       10, -53.5270,  87.0226,     -999.0,9,     -999.0,9,     -999.0,9,-999.0000,9,-999.0000,9,-999.0000,9,-999.0000,9,-999.0000,9,-999.0000,9,-999.0000,9,     -999.0,9,     -999.0,9,       2.08,2,       4.91,2,       2.08,2
33RR20160208,       I08S,      35,          1,         15,         15,2,20160227,       2318,   -53.5264,    87.0235,       4602,  1398.1,   1.7858,  34.7436,2,  34.7450,2,    197.0,2,   197.4,2,    87.2,2,    0.00,2,   30.33,2,    0.00,2,    2.08,2,   0.224,2,   0.125,2,   0.007,2,         0.025,2,  -999.0,9, -999.00,9,-999.0000,9,     9.00,   1.7846, -999.00,9,  -999.0,9,  -999.0, -999.00,1,-999.000,9,  -999.0,9, -999.00,9,     -999.0,9,    4.96,2, 20160228,       12, -53.5270,  87.0226,     -999.0,9,     -999.0,9,     -999.0,9,-999.0000,9,-999.0000,9,-999.0000,9,-999.0000,9,-999.0000,9,-999.0000,9,-999.0000,9,     -999.0,9,     -999.0,9,        2.1,2,       4.96,2,        2.1,2
33RR20160208,       I08S,      35,          1,         16,         16,2,20160227,       2318,   -53.5264,    87.0235,       4602,  1299.0,   1.8696,  34.7435,2,  34.7448,2,    195.4,2,   196.0,2,    84.8,2,    0.00,2,   29.93,2,    0.00,2,    2.09,2,-999.000,9,-999.000,9,-999.000,9,-999.000000000,9,  -999.0,9, -999.00,9,-999.0000,9,  -999.00,   1.8710, -999.00,9,  -999.0,9,  -999.0, -999.00,1,-999.000,9,  -999.0,9, -999.00,9,     -999.0,9,    4.93,2, 20160228,       13, -53.5270,  87.0226,     -999.0,9,     -999.0,9,     -999.0,9,-999.0000,9,-999.0000,9,-999.0000,9,-999.0000,9,-999.0000,9,-999.0000,9,-999.0000,9,     -999.0,9,     -999.0,9,       1.96,2,       4.93,2,       1.96,2
33RR20160208,       I08S,      35,          1,         17,         17,2,20160227,       2318,   -53.5264,    87.0235,       4602,  1200.5,   1.9513,  34.7394,2,  34.7411,2,    192.6,2,   193.5,2,    83.2,2,    0.00,2,   30.02,2,    0.00,2,    2.10,2,   0.230,2,   0.127,2,   0.007,2,         0.005,2,  -999.0,9, -999.00,9,-999.0000,9,  -999.00,   1.9517, -999.00,9,  -999.0,9,  -999.0, -999.00,1,-999.000,9,  -999.0,9, -999.00,9,     -999.0,9,    4.99,2, 20160228,       15, -53.5270,  87.0226,     -999.0,9,     -999.0,9,     -999.0,9,-999.0000,9,-999.0000,9,-999.0000,9,-999.0000,9,-999.0000,9,-999.0000,9,-999.0000,9,     -999.0,9,     -999.0,9,       2.05,2,       4.99,2,       2.05,2
33RR20160208,       I08S,      35,          1,         18,         37,2,20160227,       2318,   -53.5264,    87.0235,       4602,  1100.0,   2.0063,  34.7303,2,  34.7315,2,    189.9,2,   190.6,2,    82.1,2,    0.00,2,   30.36,2,    0.00,2,    2.11,2,-999.000,9,-999.000,9,-999.000,9,-999.000000000,9,  -999.0,9, -999.00,9,-999.0000,9,     9.00,   2.0057, -999.00,9,  -999.0,9,  -999.0, -999.00,1,-999.000,9,  -999.0,9, -999.00,9,     -999.0,9,     5.0,2, 20160228,       16, -53.5270,  87.0226,     -999.0,9,     -999.0,9,     -999.0,9,-999.0000,9,-999.0000,9,-999.0000,9,-999.0000,9,-999.0000,9,-999.0000,9,-999.0000,9,     -999.0,9,     -999.0,9,       2.12,2,        5.0,2,       2.12,2
33RR20160208,       I08S,      35,          1,         19,         19,2,20160227,       2318,   -53.5264,    87.0235,       4602,  1000.7,   2.0583,  34.7180,2,  34.7190,2,    187.3,2,   187.9,2,    81.6,2,    0.00,2,   30.83,2,    0.00,2,    2.14,2,   0.303,2,   0.167,2,   0.013,2,         0.043,2,  2246.7,2, 2344.18,6,   7.5905,6,    24.99,   2.0581, -999.00,9,  -999.0,9,  -999.0, -999.00,1,-999.000,9,  -999.0,9, -999.00,9,     -999.0,9,     5.0,2, 20160228,       18, -53.5269,  87.0227,     -999.0,9,     -999.0,9,     -999.0,9,-999.0000,9,-999.0000,9,-999.0000,9,-999.0000,9,-999.0000,9,-999.0000,9,-999.0000,9,     -999.0,9,     -999.0,9,       2.13,2,        5.0,2,       2.13,2
33RR20160208,       I08S,      35,          1,         20,         20,2,20160227,       2318,   -53.5264,    87.0235,       4602,   904.1,   2.1280,  34.7059,2,  34.7070,2,    184.8,2,   185.7,2,    79.1,2,    0.00,2,   31.11,2,    0.00,2,    2.17,2,-999.000,9,-999.000,9,-999.000,9,-999.000000000,9,  -999.0,9, -999.00,9,-999.0000,9,  -999.00,   2.1290, -999.00,9,  -999.0,9,  -999.0, -999.00,1,-999.000,9,  -999.0,9, -999.00,9,     -999.0,9,     5.0,2, 20160228,       19, -53.5270,  87.0226,     -999.0,9,     -999.0,9,     -999.0,9,-999.0000,9,-999.0000,9,-999.0000,9,-999.0000,9,-999.0000,9,-999.0000,9,-999.0000,9,     -999.0,9,     -999.0,9,        2.1,2,        5.0,2,        2.1,2
33RR20160208,       I08S,      35,          1,         21,         21,2,20160227,       2318,   -53.5264,    87.0235,       4602,   797.7,   2.1725,  34.6841,2,  34.6842,2,    182.7,2,   183.2,2,    77.4,2,    0.00,2,   31.64,2,    0.00,2,    2.20,2,   0.399,2,   0.220,2,   0.022,2,         0.131,2,  -999.0,9, -999.00,9,-999.0000,9,     9.00,   2.1722, -999.00,9,  -999.0,9,  -999.0, -999.00,1,-999.000,9,  -999.0,9, -999.00,9,     -999.0,9,    4.99,2, 20160228,       21, -53.5270,  87.0226,     -999.0,9,     -999.0,9,     -999.0,9,-999.0000,9,-999.0000,9,-999.0000,9,-999.0000,9,-999.0000,9,-999.0000,9,-999.0000,9,     -999.0,9,     -999.0,9,       2.05,2,       4.99,2,       2.05,2
33RR20160208,       I08S,      35,          1,         22,         22,2,20160227,       2318,   -53.5264,    87.0235,       4602,   696.1,   2.1836,  34.6440,2,  34.6458,2,    180.3,2,   180.2,2,    76.6,2,    0.00,2,   32.49,2,    0.00,2,    2.25,2,-999.000,9,-999.000,9,-999.000,9,-999.000000000,9,  -999.0,9, -999.00,9,-999.0000,9,  -999.00,   2.1849, -999.00,9,  -999.0,9,  -999.0, -999.00,1,-999.000,9,  -999.0,9, -999.00,9,     -999.0,9,     5.0,2, 20160228,       22, -53.5270,  87.0226,     -999.0,9,     -999.0,9,     -999.0,9,-999.0000,9,-999.0000,9,-999.0000,9,-999.0000,9,-999.0000,9,-999.0000,9,-999.0000,9,     -999.0,9,     -999.0,9,       2.04,2,        5.0,2,       2.04,2
33RR20160208,       I08S,      35,          1,         23,         23,2,20160227,       2318,   -53.5264,    87.0235,       4602,   603.1,   2.1348,  34.5939,2,  34.5789,2,    182.8,2,   185.1,2,    73.5,2,    0.00,2,   33.31,2,    0.00,2,    2.31,2,   0.963,6,   0.503,6,   0.073,6,        0.3515,6,  -999.0,9, -999.00,9,-999.0000,9,  -999.00,   2.0937, -999.00,9,  -999.0,9,  -999.0, -999.00,1,-999.000,9,  -999.0,9, -999.00,9,     -999.0,9,    4.98,2, 20160228,       24, -53.5270,  87.0226,     -999.0,9,     -999.0,9,     -999.0,9,-999.0000,9,-999.0000,9,-999.0000,9,-999.0000,9,-999.0000,9,-999.0000,9,-999.0000,9,     -999.0,9,     -999.0,9,       2.13,2,       4.98,2,       2.13,2
33RR20160208,       I08S,      35,          1,         24,         24,2,20160227,       2318,   -53.5264,    87.0235,       4602,   501.9,   1.7605,  34.4690,2,  34.4680,2,    203.7,2,   200.5,2,    68.1,2,    0.00,2,   33.83,2,    0.00,2,    2.33,2,-999.000,9,-999.000,9,-999.000,9,-999.000000000,9,  -999.0,9, -999.00,9,-999.0000,9,     9.00,   1.7232, -999.00,9,  -999.0,9,  -999.0, -999.00,1,-999.000,9,  -999.0,9, -999.00,9,     -999.0,9,    4.98,2, 20160228,       25, -53.5270,  87.0228,     -999.0,9,     -999.0,9,     -999.0,9,-999.0000,9,-999.0000,9,-999.0000,9,-999.0000,9,-999.0000,9,-999.0000,9,-999.0000,9,     -999.0,9,     -999.0,9,        2.2,2,       4.98,2,        2.2,2
33RR20160208,       I08S,      35,          1,         25,         25,2,20160227,       2318,   -53.5264,    87.0235,       4602,   447.6,   1.7893,  34.4239,2,  34.4251,2,    210.9,2,   205.2,2,    65.3,2,    0.00,2,   33.77,2,    0.00,2,    2.34,2,   1.968,2,   1.018,2,   0.162,2,         0.722,2,  -999.0,9, -999.00,9,-999.0000,9,  -999.00,   1.8008, -999.00,9,  -999.0,9,  -999.0, -999.00,1,-999.000,9,  -999.0,9, -999.00,9,     -999.0,9,    5.06,2, 20160228,       26, -53.5271,  87.0226,     -999.0,9,     -999.0,9,     -999.0,9,-999.0000,9,-999.0000,9,-999.0000,9,-999.0000,9,-999.0000,9,-999.0000,9,-999.0000,9,     -999.0,9,     -999.0,9,        2.1,2,       5.06,2,        2.1,2
33RR20160208,       I08S,      35,          1,         26,         26,2,20160227,       2318,   -53.5264,    87.0235,       4602,   400.3,   2.0451,  34.4203,2,  34.4174,2,    199.1,2,   197.0,2,    63.7,2,    0.00,2,   34.08,2,    0.00,2,    2.36,2,   1.770,2,   0.914,2,   0.142,2,         0.644,2,  2241.2,2, 2319.89,2,   7.5453,2,    24.97,   2.0435, -999.00,9,  -999.0,9,  -999.0, -999.00,1,-999.000,9,  -999.0,9, -999.00,9,     -999.0,9,     5.1,2, 20160228,       27, -53.5270,  87.0226,     -999.0,9,     -999.0,9,     -999.0,9,-999.0000,9,-999.0000,9,-999.0000,9,-999.0000,9,-999.0000,9,-999.0000,9,-999.0000,9,     -999.0,9,     -999.0,9,        2.2,2,        5.1,2,        2.2,2
33RR20160208,       I08S,      35,          1,         27,         27,2,20160227,       2318,   -53.5264,    87.0235,       4602,   349.0,   2.0116,  34.3790,2,  34.3785,2,    210.2,2,   205.9,2,    59.8,2,    0.00,2,   33.81,2,    0.00,2,    2.34,2,   2.079,2,   1.069,2,   0.172,2,         0.824,2,  -999.0,9, -999.00,9,-999.0000,9,     9.00,   2.0041, -999.00,9,  -999.0,9,  -999.0, -999.00,1,-999.000,9,  -999.0,9, -999.00,9,     -999.0,9,    5.11,2, 20160228,       28, -53.5270,  87.0227,     -999.0,9,     -999.0,9,     -999.0,9,-999.0000,9,-999.0000,9,-999.0000,9,-999.0000,9,-999.0000,9,-999.0000,9,-999.0000,9,     -999.0,9,     -999.0,9,       2.08,2,       5.11,2,       2.08,2