BOTTLE,20220706CCHSIOAMB
EXPOCODE,SECT_ID,STNNBR,CASTNO,SAMPNO,BTLNBR,BTLNBR_FLAG_W,DATE,TIME,LATITUDE,LONGITUDE,DEPTH,CTDPRS,CTDTMP,CTDSAL,CTDSAL_FLAG_W,SALNTY,SALNTY_FLAG_W,CTDOXY,CTDOXY_FLAG_W,OXYGEN,OXYGEN_FLAG_W,SILCAT,SILCAT_FLAG_W,NH4,NH4_FLAG_W,NITRAT,NITRAT_FLAG_W,NITRIT,NITRIT_FLAG_W,PHSPHT,PHSPHT_FLAG_W,CFC-11,CFC-11_FLAG_W,CFC-12,CFC-12_FLAG_W,CFC113,CFC113_FLAG_W,SF6,SF6_FLAG_W,TCARBN,TCARBN_FLAG_W,ALKALI,ALKALI_FLAG_W,PH_TOT,PH_TOT_FLAG_W,PH_TMP,REFTMP,DELC13,DELC13_FLAG_W,DELC14,DELC14_FLAG_W,C14ERR,DELO18,DELO18_FLAG_W,POC,POC_FLAG_W,DOC,DOC_FLAG_W,TDN,TDN_FLAG_W,TON,TON_FLAG_W,D15N_NO3,D15N_NO3_FLAG_W,BTL_DATE,BTL_TIME,BTL_LAT,BTL_LON,14C-DOC,14C-DOC_FLAG_W,CHLORA,CHLORA_FLAG_W,HPLC,HPLC_FLAG_W,CDOM325,CDOM325_FLAG_W,CDOM340,CDOM340_FLAG_W,CDOM380,CDOM380_FLAG_W,CDOM412,CDOM412_FLAG_W,CDOM443,CDOM443_FLAG_W,CDOM490,CDOM490_FLAG_W,CDOM555,CDOM555_FLAG_W,CDOMSL,CDOMSL_FLAG_W,CDOMSN,CDOMSN_FLAG_W,D18O_NO3,D18O_NO3_FLAG_W,D15N_NO2+NO3,D15N_NO2+NO3_FLAG_W,D18O_NO2+NO3,D18O_NO2+NO3_FLAG_W
,,,,,,,,,,,METERS,DBAR,ITS-90,PSS-78,,PSS-78,,UMOL/KG,,UMOL/KG,,UMOL/KG,,UMOL/KG,,UMOL/KG,,UMOL/KG,,UMOL/KG,,PMOL/KG,,PMOL/KG,,PMOL/KG,,FMOL/KG,,UMOL/KG,,UMOL/KG,,,,DEG C,DEG C,/MILLE,,/MILLE,,/MILLE,/MILLE,,UG/KG,,UMOL/KG,,UMOL/KG,,UMOL/KG,,/MILLE,,,,,,/MILLE,,MG/M3,,,,1/M,,1/M,,1/M,,1/M,,1/M,,1/M,,1/M,,1/NM,,1/NM,,/MILLE,,/MILLE,,/MILLE,
33RR20160208,       I08S,      69,          1,         28,         28,2,20160308,       1252,   -35.4981,    94.9909,       4097,   264.3,  11.4180,  34.9556,2,  34.9496,2,    243.7,2,   248.8,2,     2.1,2,    0.00,2,    9.71,2,    0.00,2,    0.75,2,   3.014,2,   1.781,2,   0.172,2,         1.808,2,  2120.4,2, 2306.52,2,   7.8304,2,    25.02,  11.4211, -999.00,9,  -999.0,9,  -999.0, -999.00,9,-999.000,9,  -999.0,9, -999.00,9,     -999.0,9, -999.00,9, 20160308,     1431, -35.4981,  94.9910,     -999.0,9,     -999.0,9,     -999.0,9,-999.0000,9,-999.0000,9,-999.0000,9,-999.0000,9,-999.0000,9,-999.0000,9,-999.0000,9,     -999.0,9,     -999.0,9,     -999.0,9,     -999.0,9,     -999.0,9
33RR20160208,       I08S,      69,          1,         29,         29,2,20160308,       1252,   -35.4981,    94.9909,       4097,   216.6,  11.6296,  34.9576,2,  34.9576,2,    252.4,2,   254.6,2,     1.9,2,    0.00,2,    8.52,2,    0.00,2,    0.67,2,-999.000,9,-999.000,9,-999.000,9,-999.000000000,9,  -999.0,9, -999.00,9,-999.0000,9,     9.00,  11.6229, -999.00,9,  -999.0,9,  -999.0, -999.00,9,-999.000,9,  -999.0,9, -999.00,9,     -999.0,9, -999.00,9, 20160308,     1434, -35.4980,  94.9909,     -999.0,9,     -999.0,9,     -999.0,9,-999.0000,9,-999.0000,9,-999.0000,9,-999.0000,9,-999.0000,9,-999.0000,9,-999.0000,9,     -999.0,9,     -999.0,9,     -999.0,9,     -999.0,9,     -999.0,9
33RR20160208,       I08S,      69,          1,         30,         30,2,20160308,       1252,   -35.4981,    94.9909,       4097,   165.4,  12.7272,  35.1622,2,  35.1656,2,    248.4,2,   247.0,2,     1.2,2,    0.00,2,    6.19,2,    0.00,2,    0.55,2,   2.815,2,   1.676,2,   0.204,2,         1.871,2,  2114.6,2, 2318.97,2,   7.8670,6,    25.01,  12.7197, -999.00,9,  -999.0,9,  -999.0, -999.00,9,-999.000,9,  -999.0,9, -999.00,9,     -999.0,9, -999.00,9, 20160308,     1436, -35.4980,  94.9910,     -999.0,9,     -999.0,9,     -999.0,9,-999.0000,9,-999.0000,9,-999.0000,9,-999.0000,9,-999.0000,9,-999.0000,9,-999.0000,9,     -999.0,9,     -999.0,9,     -999.0,9,     -999.0,9,     -999.0,9
33RR20160208,       I08S,      69,          1,         31,         31,2,20160308,       1252,   -35.4981,    94.9909,       4097,   135.7,  12.9605,  35.2020,2,  35.2016,2,    246.5,2,   246.3,2,     1.0,2,    0.00,2,    5.80,2,    0.00,2,    0.50,2,-999.000,9,-999.000,9,-999.000,9,-999.000000000,9,  -999.0,9, -999.00,9,-999.0000,9,  -999.00,  12.9597, -999.00,9,  -999.0,9,  -999.0, -999.00,9,-999.000,9,  -999.0,9, -999.00,9,     -999.0,9, -999.00,9, 20160308,     1437, -35.4980,  94.9910,     -999.0,9,     -999.0,9,     -999.0,9,-999.0000,9,-999.0000,9,-999.0000,9,-999.0000,9,-999.0000,9,-999.0000,9,-999.0000,9,     -999.0,9,     -999.0,9,     -999.0,9,     -999.0,9,     -999.0,9
33RR20160208,       I08S,      69,          1,         32,         32,2,20160308,       1252,   -35.4981,    94.9909,       4097,   111.0,  13.2001,  35.2389,2,  35.2421,2,    246.6,2,   246.4,2,     1.0,2,    0.00,2,    3.92,2,    1.16,2,    0.48,2,   2.798,2,   1.681,2,   0.210,2,         1.693,2,  2113.6,2, 2323.86,2,   7.8775,2,    25.02,  13.2051, -999.00,9,  -999.0,9,  -999.0, -999.00,9,-999.000,9,  -999.0,9, -999.00,9,     -999.0,9, -999.00,9, 20160308,     1439, -35.4980,  94.9910,     -999.0,9,     -999.0,9,     -999.0,9,-999.0000,9,-999.0000,9,-999.0000,9,-999.0000,9,-999.0000,9,-999.0000,9,-999.0000,9,     -999.0,9,     -999.0,9,     -999.0,9,     -999.0,9,     -999.0,9
33RR20160208,       I08S,      69,          1,         33,         33,2,20160308,       1252,   -35.4981,    94.9909,       4097,    87.3,  13.5389,  35.2483,2,  35.2472,2,    247.0,2,   246.6,2,     1.1,2,    0.00,2,    3.74,2,    0.92,2,    0.45,2,-999.000,9,-999.000,9,-999.000,9,-999.000000000,9,  -999.0,9, -999.00,9,-999.0000,9,  -999.00,  13.5340, -999.00,9,  -999.0,9,  -999.0, -999.00,9,-999.000,9,  -999.0,9, -999.00,9,     -999.0,9, -999.00,9, 20160308,     1441, -35.4980,  94.9909,     -999.0,9,     -999.0,9,     -999.0,9,-999.0000,9,-999.0000,9,-999.0000,9,-999.0000,9,-999.0000,9,-999.0000,9,-999.0000,9,     -999.0,9,     -999.0,9,     -999.0,9,     -999.0,9,     -999.0,9
33RR20160208,       I08S,      69,          1,         34,         34,2,20160308,       1252,   -35.4981,    94.9909,       4097,    61.7,  14.5467,  35.2335,2,  35.2321,2,    267.0,2,   265.2,2,     0.7,2,    0.21,2,    1.77,2,    0.05,2,    0.28,2,   2.731,2,   1.637,2,   0.209,2,         1.717,2,  2092.3,2, 2325.05,2,   7.9208,2,    25.01,  14.5405, -999.00,9,  -999.0,9,  -999.0, -999.00,9,-999.000,9,  -999.0,9, -999.00,9,     -999.0,9, -999.00,9, 20160308,     1443, -35.4980,  94.9910,     -999.0,9,     -999.0,9,     -999.0,9,-999.0000,9,-999.0000,9,-999.0000,9,-999.0000,9,-999.0000,9,-999.0000,9,-999.0000,9,     -999.0,9,     -999.0,9,     -999.0,9,     -999.0,9,     -999.0,9
33RR20160208,       I08S,      69,          1,         35,         35,2,20160308,       1252,   -35.4981,    94.9909,       4097,    36.3,  17.9764,  35.2087,2,  35.2063,2,    243.9,2,   247.7,2,     0.0,2,    0.03,2,    0.31,2,    0.02,2,    0.19,2,-999.000,9,-999.000,9,-999.000,9,-999.000000000,9,  2069.4,2, 2327.03,2,   7.9688,6,    25.02,  17.9700, -999.00,9,  -999.0,9,  -999.0, -999.00,9,-999.000,9,  -999.0,9, -999.00,9,     -999.0,9, -999.00,9, 20160308,     1446, -35.4980,  94.9910,     -999.0,9,     -999.0,9,     -999.0,9,-999.0000,9,-999.0000,9,-999.0000,9,-999.0000,9,-999.0000,9,-999.0000,9,-999.0000,9,     -999.0,9,     -999.0,9,     -999.0,9,     -999.0,9,     -999.0,9
33RR20160208,       I08S,      69,          1,         36,         36,2,20160308,       1252,   -35.4981,    94.9909,       4097,     6.5,  19.4353,  35.2548,2,  35.2504,2,    238.2,2,   238.0,2,     0.0,2,    0.00,2,   -0.03,2,    0.00,2,    0.15,2,   2.168,2,   1.328,2,   0.154,2,         1.511,2,  2064.2,6, 2329.63,2,   7.9834,2,    25.04,  19.4097, -999.00,9,  -999.0,9,  -999.0, -999.00,9,-999.000,9,  -999.0,9, -999.00,9,     -999.0,9, -999.00,9, 20160308,     1449, -35.4980,  94.9910,     -999.0,9,     -999.0,9,     -999.0,9,-999.0000,9,-999.0000,9,-999.0000,9,-999.0000,9,-999.0000,9,-999.0000,9,-999.0000,9,     -999.0,9,     -999.0,9,     -999.0,9,     -999.0,9,     -999.0,9