BOTTLE,20220706CCHSIOAMB
EXPOCODE,SECT_ID,STNNBR,CASTNO,SAMPNO,BTLNBR,BTLNBR_FLAG_W,DATE,TIME,LATITUDE,LONGITUDE,DEPTH,CTDPRS,CTDTMP,CTDSAL,CTDSAL_FLAG_W,SALNTY,SALNTY_FLAG_W,CTDOXY,CTDOXY_FLAG_W,OXYGEN,OXYGEN_FLAG_W,SILCAT,SILCAT_FLAG_W,NH4,NH4_FLAG_W,NITRAT,NITRAT_FLAG_W,NITRIT,NITRIT_FLAG_W,PHSPHT,PHSPHT_FLAG_W,CFC-11,CFC-11_FLAG_W,CFC-12,CFC-12_FLAG_W,CFC113,CFC113_FLAG_W,SF6,SF6_FLAG_W,TCARBN,TCARBN_FLAG_W,ALKALI,ALKALI_FLAG_W,PH_TOT,PH_TOT_FLAG_W,PH_TMP,REFTMP,DELC13,DELC13_FLAG_W,DELC14,DELC14_FLAG_W,C14ERR,DELO18,DELO18_FLAG_W,POC,POC_FLAG_W,DOC,DOC_FLAG_W,TDN,TDN_FLAG_W,TON,TON_FLAG_W,D15N_NO3,D15N_NO3_FLAG_W,BTL_DATE,BTL_TIME,BTL_LAT,BTL_LON,14C-DOC,14C-DOC_FLAG_W,CHLORA,CHLORA_FLAG_W,HPLC,HPLC_FLAG_W,CDOM325,CDOM325_FLAG_W,CDOM340,CDOM340_FLAG_W,CDOM380,CDOM380_FLAG_W,CDOM412,CDOM412_FLAG_W,CDOM443,CDOM443_FLAG_W,CDOM490,CDOM490_FLAG_W,CDOM555,CDOM555_FLAG_W,CDOMSL,CDOMSL_FLAG_W,CDOMSN,CDOMSN_FLAG_W,D18O_NO3,D18O_NO3_FLAG_W,D15N_NO2+NO3,D15N_NO2+NO3_FLAG_W,D18O_NO2+NO3,D18O_NO2+NO3_FLAG_W
,,,,,,,,,,,METERS,DBAR,ITS-90,PSS-78,,PSS-78,,UMOL/KG,,UMOL/KG,,UMOL/KG,,UMOL/KG,,UMOL/KG,,UMOL/KG,,UMOL/KG,,PMOL/KG,,PMOL/KG,,PMOL/KG,,FMOL/KG,,UMOL/KG,,UMOL/KG,,,,DEG C,DEG C,/MILLE,,/MILLE,,/MILLE,/MILLE,,UG/KG,,UMOL/KG,,UMOL/KG,,UMOL/KG,,/MILLE,,,,,,/MILLE,,MG/M3,,,,1/M,,1/M,,1/M,,1/M,,1/M,,1/M,,1/M,,1/NM,,1/NM,,/MILLE,,/MILLE,,/MILLE,
33RR20160208,       I08S,      57,          1,         28,         28,2,20160305,       0801,   -41.7851,    95.0002,       3512,   215.4,  11.1919,  34.9221,2,  34.9177,2,    254.6,2,   254.2,2,     3.1,2,    0.00,2,   10.30,2,    0.00,2,    0.77,2,-999.000,9,-999.000,9,-999.000,9,-999.000000000,9,  2116.6,2, 2304.75,2,   7.8321,6,    25.00,  11.1922, -999.00,9,  -999.0,9,  -999.0, -999.00,9,-999.000,9,  -999.0,9, -999.00,9,     -999.0,9, -999.00,9, 20160305,      928, -41.7851,  95.0002,     -999.0,9,     -999.0,9,     -999.0,9,-999.0000,9,-999.0000,9,-999.0000,9,-999.0000,9,-999.0000,9,-999.0000,9,-999.0000,9,     -999.0,9,     -999.0,9,     -999.0,9,     -999.0,9,     -999.0,9
33RR20160208,       I08S,      57,          1,         29,         29,2,20160305,       0801,   -41.7851,    95.0002,       3512,   165.7,  11.2318,  34.9169,2,  34.9177,2,    254.8,2,   255.2,2,     2.9,2,    0.00,2,   10.04,2,    0.00,2,    0.75,2,   3.072,2,   1.752,2,   0.227,2,    1.84678271,2,  -999.0,9, -999.00,9,-999.0000,9,  -999.00,  11.2335, -999.00,9,  -999.0,9,  -999.0, -999.00,9,-999.000,9,  -999.0,9, -999.00,9,     -999.0,9, -999.00,9, 20160305,      930, -41.7851,  95.0002,     -999.0,9,     -999.0,9,     -999.0,9,   0.0670,2,   0.0434,2,   0.0226,2,   0.0125,2,   0.0061,2,   0.0012,2,  -0.0004,4,     0.0185,2,     0.0209,2,     -999.0,9,     -999.0,9,     -999.0,9
33RR20160208,       I08S,      57,          1,         30,         30,2,20160305,       0801,   -41.7851,    95.0002,       3512,   135.1,  11.2476,  34.9045,2,  34.9045,2,    255.7,2,   255.9,2,     2.7,2,    0.00,2,    9.87,2,    0.01,2,    0.74,2,-999.000,9,-999.000,9,-999.000,9,-999.000000000,9,  2114.2,2, 2304.02,2,   7.8338,2,    24.98,  11.2474, -999.00,9,  -999.0,9,  -999.0, -999.00,9,-999.000,9,  -999.0,9, -999.00,9,     -999.0,9, -999.00,9, 20160305,      931, -41.7851,  95.0002,     -999.0,9,0.034785688,2,     -999.0,9,   0.0676,2,   0.0429,2,   0.0188,2,   0.0116,2,   0.0058,2,   0.0011,3,  -0.0005,4,     0.0213,2,     0.0243,2,     -999.0,9,     -999.0,9,     -999.0,9
33RR20160208,       I08S,      57,          1,         31,         31,2,20160305,       0801,   -41.7851,    95.0002,       3512,   111.5,  11.3411,  34.8979,2,  34.8969,2,    256.5,2,   256.8,2,     2.7,2,    0.02,2,    9.60,2,    0.08,2,    0.73,2,   3.150,2,   1.761,2,   0.242,2,    1.89819424,2,  -999.0,9, -999.00,9,-999.0000,9,  -999.00,  11.3372, -999.00,9,  -999.0,9,  -999.0, -999.00,9,-999.000,9,  -999.0,9, -999.00,9,     -999.0,9, -999.00,9, 20160305,      933, -41.7851,  95.0002,     -999.0,9,0.089793984,2,     -999.0,9,   0.0868,2,   0.0531,2,   0.0229,2,   0.0146,2,   0.0076,2,   0.0020,2,  -0.0000,4,     0.0219,2,     0.0256,2,     -999.0,9,     -999.0,9,     -999.0,9
33RR20160208,       I08S,      57,          1,         32,         32,2,20160305,       0801,   -41.7851,    95.0002,       3512,    86.6,  12.1773,  34.9479,2,  34.9363,2,    258.5,2,   256.5,2,     2.2,2,    0.51,2,    6.85,2,    0.82,2,    0.67,2,-999.000,9,-999.000,9,-999.000,9,-999.000000000,9,  2106.5,2, 2307.28,6,   7.8555,2,    25.00,  12.1374, -999.00,9,  -999.0,9,  -999.0, -999.00,9,-999.000,9,  -999.0,9, -999.00,9,     -999.0,9, -999.00,9, 20160305,      935, -41.7851,  95.0002,     -999.0,9,0.266254382,2,     -999.0,9,   0.0940,2,   0.0674,2,   0.0340,2,   0.0193,2,   0.0109,2,   0.0041,2,   0.0018,2,     0.0181,2,     0.0187,2,     -999.0,9,     -999.0,9,     -999.0,9
33RR20160208,       I08S,      57,          1,         33,         33,2,20160305,       0801,   -41.7851,    95.0002,       3512,    61.6,  13.6920,  34.8788,2,  34.8796,2,    255.5,2,   255.5,2,     0.6,2,    0.79,2,    4.91,2,    0.13,2,    0.51,2,   2.844,2,   1.621,2,   0.229,2,    1.99799308,2,  2087.9,2, 2308.37,2,   7.8966,6,    25.01,  13.6841, -999.00,9,  -999.0,9,  -999.0, -999.00,9,-999.000,9,  -999.0,9, -999.00,9,     -999.0,9, -999.00,9, 20160305,      937, -41.7851,  95.0002,     -999.0,9,0.275077219,2,     -999.0,9,   0.0951,2,   0.0659,2,   0.0369,2,   0.0183,2,   0.0096,2,   0.0031,2,   0.0005,3,     0.0170,2,     0.0179,2,     -999.0,9,     -999.0,9,     -999.0,9
33RR20160208,       I08S,      57,          1,         34,         34,2,20160305,       0801,   -41.7851,    95.0002,       3512,    36.3,  14.2505,  34.8822,2,  34.8819,2,    257.4,2,   257.1,2,     0.3,2,    0.20,2,    4.25,2,    0.08,2,    0.42,2,   2.697,2,   1.558,2,   0.219,2,    1.75908069,2,  2078.8,2, 2308.84,2,   7.9170,2,    25.01,  14.2498, -999.00,9,  -999.0,9,  -999.0, -999.00,9,-999.000,9,  -999.0,9, -999.00,9,     -999.0,9, -999.00,9, 20160305,      939, -41.7851,  95.0002,     -999.0,9,0.374841326,2,     -999.0,9,   0.1002,2,   0.0699,2,   0.0375,2,   0.0178,2,   0.0093,2,   0.0029,2,   0.0003,3,     0.0178,2,     0.0186,2,     -999.0,9,     -999.0,9,     -999.0,9
33RR20160208,       I08S,      57,          1,         35,         35,2,20160305,       0801,   -41.7851,    95.0002,       3512,     5.1,  14.5476,  34.8827,2,  34.8819,2,    256.0,2,   257.2,2,     0.3,2,    0.10,2,    4.10,2,    0.08,2,    0.42,2,   2.717,2,   1.565,2,   0.218,2,         1.749,2,  2075.8,6, 2309.34,2,   7.9222,2,    25.02,  14.5311, -999.00,9,  -999.0,9,  -999.0, -999.00,9,-999.000,9,  -999.0,9, -999.00,9,     -999.0,9, -999.00,9, 20160305,      941, -41.7851,  95.0002,     -999.0,9,0.347565439,2,     -999.0,9,   0.1098,2,   0.0760,2,   0.0312,2,   0.0149,2,   0.0077,2,   0.0021,2,   0.0000,4,     0.0225,2,     0.0238,2,     -999.0,9,     -999.0,9,     -999.0,9