BOTTLE,20220706CCHSIOAMB
EXPOCODE,SECT_ID,STNNBR,CASTNO,SAMPNO,BTLNBR,BTLNBR_FLAG_W,DATE,TIME,LATITUDE,LONGITUDE,DEPTH,CTDPRS,CTDTMP,CTDSAL,CTDSAL_FLAG_W,SALNTY,SALNTY_FLAG_W,CTDOXY,CTDOXY_FLAG_W,OXYGEN,OXYGEN_FLAG_W,SILCAT,SILCAT_FLAG_W,NH4,NH4_FLAG_W,NITRAT,NITRAT_FLAG_W,NITRIT,NITRIT_FLAG_W,PHSPHT,PHSPHT_FLAG_W,CFC-11,CFC-11_FLAG_W,CFC-12,CFC-12_FLAG_W,CFC113,CFC113_FLAG_W,SF6,SF6_FLAG_W,TCARBN,TCARBN_FLAG_W,ALKALI,ALKALI_FLAG_W,PH_TOT,PH_TOT_FLAG_W,PH_TMP,REFTMP,DELC13,DELC13_FLAG_W,DELC14,DELC14_FLAG_W,C14ERR,DELO18,DELO18_FLAG_W,POC,POC_FLAG_W,DOC,DOC_FLAG_W,TDN,TDN_FLAG_W,TON,TON_FLAG_W,D15N_NO3,D15N_NO3_FLAG_W,BTL_DATE,BTL_TIME,BTL_LAT,BTL_LON,14C-DOC,14C-DOC_FLAG_W,CHLORA,CHLORA_FLAG_W,HPLC,HPLC_FLAG_W,CDOM325,CDOM325_FLAG_W,CDOM340,CDOM340_FLAG_W,CDOM380,CDOM380_FLAG_W,CDOM412,CDOM412_FLAG_W,CDOM443,CDOM443_FLAG_W,CDOM490,CDOM490_FLAG_W,CDOM555,CDOM555_FLAG_W,CDOMSL,CDOMSL_FLAG_W,CDOMSN,CDOMSN_FLAG_W,D18O_NO3,D18O_NO3_FLAG_W,D15N_NO2+NO3,D15N_NO2+NO3_FLAG_W,D18O_NO2+NO3,D18O_NO2+NO3_FLAG_W
,,,,,,,,,,,METERS,DBAR,ITS-90,PSS-78,,PSS-78,,UMOL/KG,,UMOL/KG,,UMOL/KG,,UMOL/KG,,UMOL/KG,,UMOL/KG,,UMOL/KG,,PMOL/KG,,PMOL/KG,,PMOL/KG,,FMOL/KG,,UMOL/KG,,UMOL/KG,,,,DEG C,DEG C,/MILLE,,/MILLE,,/MILLE,/MILLE,,UG/KG,,UMOL/KG,,UMOL/KG,,UMOL/KG,,/MILLE,,,,,,/MILLE,,MG/M3,,,,1/M,,1/M,,1/M,,1/M,,1/M,,1/M,,1/M,,1/NM,,1/NM,,/MILLE,,/MILLE,,/MILLE,
33RR20160208,       I08S,      59,          1,          1,          1,2,20160305,       2113,   -40.4971,    95.0001,       3540,  3571.1,   1.2232,  34.7228,2,  34.7232,2,    205.1,2,   204.4,2,   112.8,2,    0.00,2,   31.58,2,    0.00,2,    2.17,2,   0.165,2,   0.083,2,   0.005,2,   0.031889101,2,  2259.1,6, 2366.27,2,   7.6125,2,    25.04,   1.2226, -999.00,9,  -999.0,9,  -999.0, -999.00,9,-999.000,9,  -999.0,9, -999.00,9,     -999.0,9, -999.00,9, 20160305,     2113, -40.4970,  95.0001,     -999.0,9,     -999.0,9,     -999.0,9,-999.0000,9,-999.0000,9,-999.0000,9,-999.0000,9,-999.0000,9,-999.0000,9,-999.0000,9,     -999.0,9,     -999.0,9,     -999.0,9,     -999.0,9,     -999.0,9
33RR20160208,       I08S,      59,          1,          2,          2,2,20160305,       2113,   -40.4971,    95.0001,       3540,  3278.2,   1.2960,  34.7274,2,  34.7275,2,    204.3,2,   204.3,2,   108.9,2,    0.00,2,   31.35,2,    0.00,2,    2.16,2,   0.147,2,   0.078,2,   0.000,2,  -0.006172084,2,  2256.2,2, 2363.86,6,   7.6130,2,    25.01,   1.2955, -999.00,9,  -999.0,9,  -999.0, -999.00,9,-999.000,9,  -999.0,9, -999.00,9,     -999.0,9, -999.00,9, 20160305,     2119, -40.4970,  95.0001,     -999.0,9,     -999.0,9,     -999.0,9,-999.0000,9,-999.0000,9,-999.0000,9,-999.0000,9,-999.0000,9,-999.0000,9,-999.0000,9,     -999.0,9,     -999.0,9,     -999.0,9,     -999.0,9,     -999.0,9
33RR20160208,       I08S,      59,          1,          3,          3,2,20160305,       2113,   -40.4971,    95.0001,       3540,  2995.6,   1.5074,  34.7374,2,  34.7373,2,    202.1,2,   202.1,2,   101.6,2,    0.00,2,   30.95,2,    0.00,2,    2.14,2,-999.000,9,-999.000,9,-999.000,9,-999.000000000,9,  -999.0,9, -999.00,9,-999.0000,9,  -999.00,   1.5073, -999.00,9,  -999.0,9,  -999.0, -999.00,9,-999.000,9,  -999.0,9, -999.00,9,     -999.0,9, -999.00,9, 20160305,     2125, -40.4971,  95.0001,     -999.0,9,     -999.0,9,     -999.0,9,-999.0000,9,-999.0000,9,-999.0000,9,-999.0000,9,-999.0000,9,-999.0000,9,-999.0000,9,     -999.0,9,     -999.0,9,     -999.0,9,     -999.0,9,     -999.0,9
33RR20160208,       I08S,      59,          1,          4,          4,2,20160305,       2113,   -40.4971,    95.0001,       3540,  2801.1,   1.7709,  34.7469,2,  34.7473,2,    199.8,2,   199.2,2,    92.4,2,    0.00,2,   30.53,2,    0.00,2,    2.08,2,   0.088,2,   0.051,2,   0.000,2,    0.02983174,2,  2247.6,2, 2356.91,2,   7.6167,2,    25.03,   1.7712, -999.00,9,  -999.0,9,  -999.0, -999.00,9,-999.000,9,  -999.0,9, -999.00,9,     -999.0,9, -999.00,9, 20160305,     2130, -40.4968,  95.0002,     -999.0,9,     -999.0,9,     -999.0,9,-999.0000,9,-999.0000,9,-999.0000,9,-999.0000,9,-999.0000,9,-999.0000,9,-999.0000,9,     -999.0,9,     -999.0,9,     -999.0,9,     -999.0,9,     -999.0,9
33RR20160208,       I08S,      59,          1,          5,          5,2,20160305,       2113,   -40.4971,    95.0001,       3540,  2602.1,   2.0146,  34.7505,2,  34.7509,2,    197.1,2,   196.9,2,    84.6,2,    0.00,2,   30.23,2,    0.00,2,    2.09,2,-999.000,9,-999.000,9,-999.000,9,-999.000000000,9,  -999.0,9, -999.00,9,-999.0000,9,  -999.00,   2.0144, -999.00,9,  -999.0,9,  -999.0, -999.00,9,-999.000,9,  -999.0,9, -999.00,9,     -999.0,9, -999.00,9, 20160305,     2134, -40.4969,  95.0002,     -999.0,9,     -999.0,9,     -999.0,9,-999.0000,9,-999.0000,9,-999.0000,9,-999.0000,9,-999.0000,9,-999.0000,9,-999.0000,9,     -999.0,9,     -999.0,9,     -999.0,9,     -999.0,9,     -999.0,9
33RR20160208,       I08S,      59,          1,          6,         38,2,20160305,       2113,   -40.4971,    95.0001,       3540,  2398.1,   2.2038,  34.7418,2,  34.7418,2,    191.6,2,   191.8,2,    80.3,2,    0.00,2,   30.38,2,    0.00,2,    2.06,2,   0.114,2,   0.063,2,   0.000,2,   0.026745698,2,  2243.4,2, 2349.19,2,   7.6090,2,    25.04,   2.2032, -999.00,9,  -999.0,9,  -999.0, -999.00,9,-999.000,9,  -999.0,9, -999.00,9,     -999.0,9, -999.00,9, 20160305,     2138, -40.4969,  95.0002,     -999.0,9,     -999.0,9,     -999.0,9,-999.0000,9,-999.0000,9,-999.0000,9,-999.0000,9,-999.0000,9,-999.0000,9,-999.0000,9,     -999.0,9,     -999.0,9,     -999.0,9,     -999.0,9,     -999.0,9
33RR20160208,       I08S,      59,          1,          7,          7,2,20160305,       2113,   -40.4971,    95.0001,       3540,  2199.7,   2.3676,  34.7157,2,  34.7163,2,    184.4,2,   184.1,2,    79.2,2,    0.00,2,   31.29,2,    0.00,2,    2.14,2,-999.000,9,-999.000,9,-999.000,9,-999.000000000,9,  -999.0,9, -999.00,9,-999.0000,9,     9.00,   2.3682, -999.00,9,  -999.0,9,  -999.0, -999.00,9,-999.000,9,  -999.0,9, -999.00,9,     -999.0,9, -999.00,9, 20160305,     2143, -40.4969,  95.0002,     -999.0,9,     -999.0,9,     -999.0,9,-999.0000,9,-999.0000,9,-999.0000,9,-999.0000,9,-999.0000,9,-999.0000,9,-999.0000,9,     -999.0,9,     -999.0,9,     -999.0,9,     -999.0,9,     -999.0,9
33RR20160208,       I08S,      59,          1,          8,          8,2,20160305,       2113,   -40.4971,    95.0001,       3540,  1998.9,   2.5218,  34.6733,2,  34.6733,2,    177.5,2,   176.7,2,    75.7,2,    0.00,2,   32.23,2,    0.00,2,    2.21,2,   0.208,2,   0.113,2,   0.003,2,  -0.010286807,2,  2249.0,2, 2343.70,2,   7.5808,2,    25.03,   2.5216, -999.00,9,  -999.0,9,  -999.0, -999.00,9,-999.000,9,  -999.0,9, -999.00,9,     -999.0,9, -999.00,9, 20160305,     2147, -40.4969,  95.0002,     -999.0,9,     -999.0,9,     -999.0,9,-999.0000,9,-999.0000,9,-999.0000,9,-999.0000,9,-999.0000,9,-999.0000,9,-999.0000,9,     -999.0,9,     -999.0,9,     -999.0,9,     -999.0,9,     -999.0,9
33RR20160208,       I08S,      59,          1,          9,          9,2,20160305,       2113,   -40.4971,    95.0001,       3540,  1799.5,   2.6875,  34.6104,2,  34.6104,2,    172.6,2,   171.2,2,    72.6,2,    0.00,2,   33.47,2,    0.00,2,    2.28,2,-999.000,9,-999.000,9,-999.000,9,-999.000000000,9,  -999.0,9, -999.00,9,-999.0000,9,  -999.00,   2.6873, -999.00,9,  -999.0,9,  -999.0, -999.00,9,-999.000,9,  -999.0,9, -999.00,9,     -999.0,9, -999.00,9, 20160305,     2152, -40.4969,  95.0001,     -999.0,9,     -999.0,9,     -999.0,9,-999.0000,9,-999.0000,9,-999.0000,9,-999.0000,9,-999.0000,9,-999.0000,9,-999.0000,9,     -999.0,9,     -999.0,9,     -999.0,9,     -999.0,9,     -999.0,9
33RR20160208,       I08S,      59,          1,         10,         10,2,20160305,       2113,   -40.4971,    95.0001,       3540,  1698.0,   2.7666,  34.5691,2,  34.5688,2,    173.6,2,   172.3,2,    68.6,2,    0.00,2,   33.83,2,    0.00,2,    2.32,2,   0.461,2,   0.239,2,   0.016,2,   0.088466539,2,  -999.0,9, -999.00,9,-999.0000,9,     9.00,   2.7680, -999.00,9,  -999.0,9,  -999.0, -999.00,9,-999.000,9,  -999.0,9, -999.00,9,     -999.0,9, -999.00,9, 20160305,     2155, -40.4969,  95.0001,     -999.0,9,     -999.0,9,     -999.0,9,-999.0000,9,-999.0000,9,-999.0000,9,-999.0000,9,-999.0000,9,-999.0000,9,-999.0000,9,     -999.0,9,     -999.0,9,     -999.0,9,     -999.0,9,     -999.0,9
33RR20160208,       I08S,      59,          1,         11,         11,2,20160305,       2113,   -40.4971,    95.0001,       3540,  1600.3,   2.8814,  34.5284,2,  34.5280,2,    175.0,2,   173.6,2,    65.0,2,    0.00,2,   34.04,2,    0.00,2,    2.33,2,   0.604,2,   0.308,2,   0.026,2,   0.132699809,2,  -999.0,9, -999.00,9,-999.0000,9,  -999.00,   2.8814, -999.00,9,  -999.0,9,  -999.0, -999.00,9,-999.000,9,  -999.0,9, -999.00,9,     -999.0,9, -999.00,9, 20160305,     2157, -40.4969,  95.0001,     -999.0,9,     -999.0,9,     -999.0,9,-999.0000,9,-999.0000,9,-999.0000,9,-999.0000,9,-999.0000,9,-999.0000,9,-999.0000,9,     -999.0,9,     -999.0,9,     -999.0,9,     -999.0,9,     -999.0,9
33RR20160208,       I08S,      59,          1,         12,         12,2,20160305,       2113,   -40.4971,    95.0001,       3540,  1500.2,   3.0977,  34.4777,2,  34.4780,2,    176.8,2,   176.1,2,    60.0,2,    0.00,2,   34.02,2,    0.00,2,    2.34,2,   0.816,2,   0.412,2,   0.039,2,   0.127556405,2,  2238.1,2, 2326.00,2,   7.5622,6,    25.02,   3.0979, -999.00,9,  -999.0,9,  -999.0, -999.00,9,-999.000,9,  -999.0,9, -999.00,9,     -999.0,9, -999.00,9, 20160305,     2200, -40.4969,  95.0001,     -999.0,9,     -999.0,9,     -999.0,9,-999.0000,9,-999.0000,9,-999.0000,9,-999.0000,9,-999.0000,9,-999.0000,9,-999.0000,9,     -999.0,9,     -999.0,9,     -999.0,9,     -999.0,9,     -999.0,9
33RR20160208,       I08S,      59,          1,         13,         13,2,20160305,       2113,   -40.4971,    95.0001,       3540,  1401.2,   3.2536,  34.4304,2,  34.4302,2,    185.3,2,   182.9,2,    53.4,2,    0.00,2,   33.63,2,    0.00,2,    2.32,2,   1.167,2,   0.575,2,   0.065,2,   0.289059273,2,  -999.0,9, -999.00,9,-999.0000,9,     9.00,   3.2537, -999.00,9,  -999.0,9,  -999.0, -999.00,9,-999.000,9,  -999.0,9, -999.00,9,     -999.0,9, -999.00,9, 20160305,     2203, -40.4969,  95.0001,     -999.0,9,     -999.0,9,     -999.0,9,-999.0000,9,-999.0000,9,-999.0000,9,-999.0000,9,-999.0000,9,-999.0000,9,-999.0000,9,     -999.0,9,     -999.0,9,     -999.0,9,     -999.0,9,     -999.0,9
33RR20160208,       I08S,      59,          1,         14,         14,2,20160305,       2113,   -40.4971,    95.0001,       3540,  1301.1,   3.5745,  34.3894,2,  34.3890,2,    192.1,2,   189.7,2,    46.5,2,    0.00,2,   32.95,2,    0.00,2,    2.25,2,   1.424,2,   0.700,2,   0.078,2,   0.326091778,2,  2220.5,2, 2313.41,2,   7.5816,2,    25.04,   3.5741, -999.00,9,  -999.0,9,  -999.0, -999.00,9,-999.000,9,  -999.0,9, -999.00,9,     -999.0,9, -999.00,9, 20160305,     2206, -40.4969,  95.0001,     -999.0,9,     -999.0,9,     -999.0,9,-999.0000,9,-999.0000,9,-999.0000,9,-999.0000,9,-999.0000,9,-999.0000,9,-999.0000,9,     -999.0,9,     -999.0,9,     -999.0,9,     -999.0,9,     -999.0,9
33RR20160208,       I08S,      59,          1,         15,         15,2,20160305,       2113,   -40.4971,    95.0001,       3540,  1200.2,   3.9995,  34.3536,2,  34.3533,2,    200.2,2,   198.4,2,    37.7,2,    0.00,2,   31.73,2,    0.00,2,    2.18,2,   1.855,2,   0.909,2,   0.107,2,   0.420730402,2,  2207.8,2, 2304.47,2,   7.5981,2,    25.03,   4.0069, -999.00,9,  -999.0,9,  -999.0, -999.00,9,-999.000,9,  -999.0,9, -999.00,9,     -999.0,9, -999.00,9, 20160305,     2209, -40.4969,  95.0001,     -999.0,9,     -999.0,9,     -999.0,9,-999.0000,9,-999.0000,9,-999.0000,9,-999.0000,9,-999.0000,9,-999.0000,9,-999.0000,9,     -999.0,9,     -999.0,9,     -999.0,9,     -999.0,9,     -999.0,9
33RR20160208,       I08S,      59,          1,         16,         16,2,20160305,       2113,   -40.4971,    95.0001,       3540,  1101.1,   4.6109,  34.3415,2,  34.3410,2,    205.3,2,   204.4,2,    29.3,2,    0.00,2,   30.29,2,    0.00,2,    2.05,2,   2.232,2,   1.101,2,   0.126,2,   0.487594646,2,  2192.9,2, 2296.86,2,   7.6166,2,    25.02,   4.6117, -999.00,9,  -999.0,9,  -999.0, -999.00,9,-999.000,9,  -999.0,9, -999.00,9,     -999.0,9, -999.00,9, 20160305,     2211, -40.4969,  95.0001,     -999.0,9,     -999.0,9,     -999.0,9,-999.0000,9,-999.0000,9,-999.0000,9,-999.0000,9,-999.0000,9,-999.0000,9,-999.0000,9,     -999.0,9,     -999.0,9,     -999.0,9,     -999.0,9,     -999.0,9
33RR20160208,       I08S,      59,          1,         17,         17,2,20160305,       2113,   -40.4971,    95.0001,       3540,   999.1,   5.4836,  34.3630,2,  34.3633,2,    208.0,2,   207.3,2,    21.9,2,    0.00,2,   28.34,2,    0.00,2,    1.90,2,   2.581,2,   1.289,2,   0.134,2,    0.55240153,2,  2181.2,2, 2291.92,2,   7.6359,2,    25.03,   5.4846, -999.00,9,  -999.0,9,  -999.0, -999.00,9,-999.000,9,  -999.0,9, -999.00,9,     -999.0,9, -999.00,9, 20160305,     2215, -40.4968,  95.0001,     -999.0,9,     -999.0,9,     -999.0,9,-999.0000,9,-999.0000,9,-999.0000,9,-999.0000,9,-999.0000,9,-999.0000,9,-999.0000,9,     -999.0,9,     -999.0,9,     -999.0,9,     -999.0,9,     -999.0,9
33RR20160208,       I08S,      59,          1,         18,         37,2,20160305,       2113,   -40.4971,    95.0001,       3540,   898.9,   6.6392,  34.4344,2,  34.4317,2,    208.0,2,   206.1,2,    17.2,2,    0.00,2,   25.92,2,    0.00,2,    1.75,2,   2.722,2,   1.393,2,   0.120,2,   0.723162524,2,  2171.2,2, 2289.02,2,   7.6605,2,    25.03,   6.6573, -999.00,9,  -999.0,9,  -999.0, -999.00,9,-999.000,9,  -999.0,9, -999.00,9,     -999.0,9, -999.00,9, 20160305,     2217, -40.4969,  95.0001,     -999.0,9,     -999.0,9,     -999.0,9,-999.0000,9,-999.0000,9,-999.0000,9,-999.0000,9,-999.0000,9,-999.0000,9,-999.0000,9,     -999.0,9,     -999.0,9,     -999.0,9,     -999.0,9,     -999.0,9
33RR20160208,       I08S,      59,          1,         19,         19,2,20160305,       2113,   -40.4971,    95.0001,       3540,   798.7,   7.9345,  34.5338,2,  34.5301,2,    213.5,2,   212.6,2,    11.3,2,    0.00,2,   22.43,2,    0.00,2,    1.49,2,   2.951,2,   1.547,2,   0.116,2,   0.869235182,2,  -999.0,9, -999.00,9,-999.0000,9,     9.00,   7.9400, -999.00,9,  -999.0,9,  -999.0, -999.00,9,-999.000,9,  -999.0,9, -999.00,9,     -999.0,9, -999.00,9, 20160305,     2220, -40.4969,  95.0001,     -999.0,9,     -999.0,9,     -999.0,9,-999.0000,9,-999.0000,9,-999.0000,9,-999.0000,9,-999.0000,9,-999.0000,9,-999.0000,9,     -999.0,9,     -999.0,9,     -999.0,9,     -999.0,9,     -999.0,9
33RR20160208,       I08S,      59,          1,         20,         20,2,20160305,       2113,   -40.4971,    95.0001,       3540,   699.1,   9.0064,  34.6310,2,  34.6307,2,    233.4,2,   232.0,2,     6.0,2,    0.00,2,   17.95,2,    0.00,2,    1.22,2,   3.257,2,   1.799,2,   0.137,2,     1.2837935,2,  -999.0,9, -999.00,9,-999.0000,9,  -999.00,   9.0054, -999.00,9,  -999.0,9,  -999.0, -999.00,9,-999.000,9,  -999.0,9, -999.00,9,     -999.0,9, -999.00,9, 20160305,     2223, -40.4968,  95.0001,     -999.0,9,     -999.0,9,     -999.0,9,-999.0000,9,-999.0000,9,-999.0000,9,-999.0000,9,-999.0000,9,-999.0000,9,-999.0000,9,     -999.0,9,     -999.0,9,     -999.0,9,     -999.0,9,     -999.0,9
33RR20160208,       I08S,      59,          1,         21,         21,2,20160305,       2113,   -40.4971,    95.0001,       3540,   601.0,   9.7064,  34.7205,2,  34.7194,2,    241.4,2,   241.4,2,     4.4,2,    0.00,2,   15.26,2,    0.00,2,    1.04,2,   3.182,2,   1.788,2,   0.141,2,    1.45146845,2,  2129.4,2, 2295.74,2,   7.7774,6,    25.04,   9.7057, -999.00,9,  -999.0,9,  -999.0, -999.00,9,-999.000,9,  -999.0,9, -999.00,9,     -999.0,9, -999.00,9, 20160305,     2226, -40.4969,  95.0001,     -999.0,9,     -999.0,9,     -999.0,9,-999.0000,9,-999.0000,9,-999.0000,9,-999.0000,9,-999.0000,9,-999.0000,9,-999.0000,9,     -999.0,9,     -999.0,9,     -999.0,9,     -999.0,9,     -999.0,9
33RR20160208,       I08S,      59,          1,         22,         22,2,20160305,       2113,   -40.4971,    95.0001,       3540,   501.2,  10.1735,  34.7833,2,  34.7830,2,    249.2,2,   249.2,2,     3.6,2,    0.00,2,   13.10,2,    0.00,2,    0.91,2,   3.120,2,   1.791,2,   0.158,2,    1.63148757,2,  -999.0,9, -999.00,9,-999.0000,9,     9.00,  10.1727, -999.00,9,  -999.0,9,  -999.0, -999.00,9,-999.000,9,  -999.0,9, -999.00,9,     -999.0,9, -999.00,9, 20160305,     2228, -40.4969,  95.0001,     -999.0,9,     -999.0,9,     -999.0,9,-999.0000,9,-999.0000,9,-999.0000,9,-999.0000,9,-999.0000,9,-999.0000,9,-999.0000,9,     -999.0,9,     -999.0,9,     -999.0,9,     -999.0,9,     -999.0,9
33RR20160208,       I08S,      59,          1,         23,         23,2,20160305,       2113,   -40.4971,    95.0001,       3540,   451.0,  10.4078,  34.8202,2,  34.8199,2,    249.2,2,   248.7,2,     3.4,2,    0.00,2,   12.60,2,    0.00,2,    0.91,2,-999.000,9,-999.000,9,-999.000,9,-999.000000000,9,  -999.0,9, -999.00,9,-999.0000,9,  -999.00,  10.4064, -999.00,9,  -999.0,9,  -999.0, -999.00,9,-999.000,9,  -999.0,9, -999.00,9,     -999.0,9, -999.00,9, 20160305,     2231, -40.4968,  95.0001,     -999.0,9,     -999.0,9,     -999.0,9,-999.0000,9,-999.0000,9,-999.0000,9,-999.0000,9,-999.0000,9,-999.0000,9,-999.0000,9,     -999.0,9,     -999.0,9,     -999.0,9,     -999.0,9,     -999.0,9
33RR20160208,       I08S,      59,          1,         24,         24,2,20160305,       2113,   -40.4971,    95.0001,       3540,   400.6,  10.5635,  34.8417,2,  34.8413,2,    251.3,2,   254.5,2,     3.0,2,    0.00,2,   11.54,2,    0.00,2,    0.84,2,   3.061,2,   1.765,2,   0.187,2,    1.77756023,2,  2118.4,2, 2300.45,2,   7.8150,6,    25.04,  10.5620, -999.00,9,  -999.0,9,  -999.0, -999.00,9,-999.000,9,  -999.0,9, -999.00,9,     -999.0,9, -999.00,9, 20160305,     2233, -40.4968,  95.0001,     -999.0,9,     -999.0,9,     -999.0,9,-999.0000,9,-999.0000,9,-999.0000,9,-999.0000,9,-999.0000,9,-999.0000,9,-999.0000,9,     -999.0,9,     -999.0,9,     -999.0,9,     -999.0,9,     -999.0,9
33RR20160208,       I08S,      59,          1,         25,         25,2,20160305,       2113,   -40.4971,    95.0001,       3540,   351.6,  10.7042,  34.8630,2,  34.8604,2,    250.3,2,   255.2,2,     2.9,2,    0.00,2,   11.15,2,    0.00,2,    0.81,2,-999.000,9,-999.000,9,-999.000,9,-999.000000000,9,  -999.0,9, -999.00,9,-999.0000,9,     9.00,  10.7010, -999.00,9,  -999.0,9,  -999.0, -999.00,9,-999.000,9,  -999.0,9, -999.00,9,     -999.0,9, -999.00,9, 20160305,     2235, -40.4969,  95.0001,     -999.0,9,     -999.0,9,     -999.0,9,-999.0000,9,-999.0000,9,-999.0000,9,-999.0000,9,-999.0000,9,-999.0000,9,-999.0000,9,     -999.0,9,     -999.0,9,     -999.0,9,     -999.0,9,     -999.0,9
33RR20160208,       I08S,      59,          1,         26,         26,2,20160305,       2113,   -40.4971,    95.0001,       3540,   300.6,  10.8954,  34.8940,2,  34.8939,2,    248.5,2,   251.0,2,     3.1,2,    0.00,2,   11.20,2,    0.00,2,    0.81,2,   3.035,2,   1.757,2,   0.177,2,    1.68189292,2,  2118.2,2, 2303.24,2,   7.8176,6,    25.08,  10.8943, -999.00,9,  -999.0,9,  -999.0, -999.00,9,-999.000,9,  -999.0,9, -999.00,9,     -999.0,9, -999.00,9, 20160305,     2237, -40.4969,  95.0001,     -999.0,9,     -999.0,9,     -999.0,9,-999.0000,9,-999.0000,9,-999.0000,9,-999.0000,9,-999.0000,9,-999.0000,9,-999.0000,9,     -999.0,9,     -999.0,9,     -999.0,9,     -999.0,9,     -999.0,9
33RR20160208,       I08S,      59,          1,         27,         27,2,20160305,       2113,   -40.4971,    95.0001,       3540,   250.2,  11.0233,  34.9076,2,  34.9065,2,    247.0,2,   252.6,2,     2.9,2,    0.00,2,   10.64,2,    0.01,2,    0.78,2,-999.000,9,-999.000,9,-999.000,9,-999.000000000,9,  -999.0,9, -999.00,9,-999.0000,9,  -999.00,  11.0217, -999.00,9,  -999.0,9,  -999.0, -999.00,9,-999.000,9,  -999.0,9, -999.00,9,     -999.0,9, -999.00,9, 20160305,     2240, -40.4969,  95.0002,     -999.0,9,     -999.0,9,     -999.0,9,-999.0000,9,-999.0000,9,-999.0000,9,-999.0000,9,-999.0000,9,-999.0000,9,-999.0000,9,     -999.0,9,     -999.0,9,     -999.0,9,     -999.0,9,     -999.0,9