BOTTLE,20220706CCHSIOAMB
EXPOCODE,SECT_ID,STNNBR,CASTNO,SAMPNO,BTLNBR,BTLNBR_FLAG_W,DATE,TIME,LATITUDE,LONGITUDE,DEPTH,CTDPRS,CTDTMP,CTDSAL,CTDSAL_FLAG_W,SALNTY,SALNTY_FLAG_W,CTDOXY,CTDOXY_FLAG_W,OXYGEN,OXYGEN_FLAG_W,SILCAT,SILCAT_FLAG_W,NH4,NH4_FLAG_W,NITRAT,NITRAT_FLAG_W,NITRIT,NITRIT_FLAG_W,PHSPHT,PHSPHT_FLAG_W,CFC-11,CFC-11_FLAG_W,CFC-12,CFC-12_FLAG_W,CFC113,CFC113_FLAG_W,SF6,SF6_FLAG_W,TCARBN,TCARBN_FLAG_W,ALKALI,ALKALI_FLAG_W,PH_TOT,PH_TOT_FLAG_W,PH_TMP,REFTMP,DELC13,DELC13_FLAG_W,DELC14,DELC14_FLAG_W,C14ERR,DELO18,DELO18_FLAG_W,POC,POC_FLAG_W,DOC,DOC_FLAG_W,TDN,TDN_FLAG_W,TON,TON_FLAG_W,D15N_NO3,D15N_NO3_FLAG_W,BTL_DATE,BTL_TIME,BTL_LAT,BTL_LON,14C-DOC,14C-DOC_FLAG_W,CHLORA,CHLORA_FLAG_W,HPLC,HPLC_FLAG_W,CDOM325,CDOM325_FLAG_W,CDOM340,CDOM340_FLAG_W,CDOM380,CDOM380_FLAG_W,CDOM412,CDOM412_FLAG_W,CDOM443,CDOM443_FLAG_W,CDOM490,CDOM490_FLAG_W,CDOM555,CDOM555_FLAG_W,CDOMSL,CDOMSL_FLAG_W,CDOMSN,CDOMSN_FLAG_W,D18O_NO3,D18O_NO3_FLAG_W,D15N_NO2+NO3,D15N_NO2+NO3_FLAG_W,D18O_NO2+NO3,D18O_NO2+NO3_FLAG_W
,,,,,,,,,,,METERS,DBAR,ITS-90,PSS-78,,PSS-78,,UMOL/KG,,UMOL/KG,,UMOL/KG,,UMOL/KG,,UMOL/KG,,UMOL/KG,,UMOL/KG,,PMOL/KG,,PMOL/KG,,PMOL/KG,,FMOL/KG,,UMOL/KG,,UMOL/KG,,,,DEG C,DEG C,/MILLE,,/MILLE,,/MILLE,/MILLE,,UG/KG,,UMOL/KG,,UMOL/KG,,UMOL/KG,,/MILLE,,,,,,/MILLE,,MG/M3,,,,1/M,,1/M,,1/M,,1/M,,1/M,,1/M,,1/M,,1/NM,,1/NM,,/MILLE,,/MILLE,,/MILLE,
33RR20160208,       I08S,      54,          1,          1,          1,2,20160304,       1258,   -43.7089,    95.0001,       3250,  3218.2,   1.5034,  34.7355,2,  34.7357,2,    201.2,2,   201.7,2,   104.2,2,    0.00,2,   31.18,2,    0.00,2,    2.17,2,   0.135,2,   0.067,2,   0.006,2,             0,2,  2258.6,6, 2361.93,2,   7.6137,2,    25.01,   1.5031, -999.00,9,  -999.0,9,  -999.0, -999.00,9,-999.000,9,    38.8,2, -999.00,9,     -999.0,1, -999.00,9, 20160304,     1258, -43.7089,  95.0001,     -999.0,9,     -999.0,9,     -999.0,9,-999.0000,9,-999.0000,9,-999.0000,9,-999.0000,9,-999.0000,9,-999.0000,9,-999.0000,9,     -999.0,9,     -999.0,9,     -999.0,9,     -999.0,9,     -999.0,9
33RR20160208,       I08S,      54,          1,          2,          2,2,20160304,       1258,   -43.7089,    95.0001,       3250,  3041.2,   1.5056,  34.7363,2,  34.7369,2,    200.7,2,   202.2,2,   103.5,2,    0.00,2,   31.13,2,    0.00,2,    2.15,2,-999.000,9,-999.000,9,-999.000,9,-999.000000000,9,  2256.1,2, 2361.32,2,   7.6151,2,    24.99,   1.5054, -999.00,9,  -999.0,9,  -999.0, -999.00,9,-999.000,9,    37.8,2, -999.00,9,     -999.0,1, -999.00,9, 20160304,     1303, -43.7089,  95.0001,     -999.0,9,     -999.0,9,     -999.0,9,-999.0000,9,-999.0000,9,-999.0000,9,-999.0000,9,-999.0000,9,-999.0000,9,-999.0000,9,     -999.0,9,     -999.0,9,     -999.0,9,     -999.0,9,     -999.0,9
33RR20160208,       I08S,      54,          1,          3,          3,3,20160304,       1258,   -43.7089,    95.0001,       3250,  2867.4,   1.5355,  34.7381,3,  34.7386,3,    201.0,3,   202.1,3,   102.7,3,    0.00,3,   31.03,3,    0.00,3,    2.15,3,   0.122,2,   0.062,2,   0.004,2,             0,2,  -999.0,9, -999.00,9,-999.0000,9,  -999.00,   1.5352, -999.00,9,  -999.0,9,  -999.0, -999.00,9,-999.000,9,    37.9,2, -999.00,9,     -999.0,1, -999.00,9, 20160304,     1307, -43.7089,  95.0001,     -999.0,9,     -999.0,9,     -999.0,9,-999.0000,9,-999.0000,9,-999.0000,9,-999.0000,9,-999.0000,9,-999.0000,9,-999.0000,9,     -999.0,9,     -999.0,9,     -999.0,9,     -999.0,9,     -999.0,9
33RR20160208,       I08S,      54,          1,          4,          4,2,20160304,       1258,   -43.7089,    95.0001,       3250,  2668.8,   1.6569,  34.7430,2,  34.7433,2,    200.5,2,   200.5,2,    97.3,2,    0.00,2,   30.81,2,    0.00,2,    2.11,2,-999.000,9,-999.000,9,-999.000,9,-999.000000000,9,  2251.9,2, 2360.27,6,   7.6167,2,    24.98,   1.6563, -999.00,9,  -999.0,9,  -999.0, -999.00,9,-999.000,9,    38.5,2, -999.00,9,     -999.0,1, -999.00,9, 20160304,     1311, -43.7089,  95.0001,     -999.0,9,     -999.0,9,     -999.0,9,-999.0000,9,-999.0000,9,-999.0000,9,-999.0000,9,-999.0000,9,-999.0000,9,-999.0000,9,     -999.0,9,     -999.0,9,     -999.0,9,     -999.0,9,     -999.0,9
33RR20160208,       I08S,      54,          1,          5,          5,2,20160304,       1258,   -43.7089,    95.0001,       3250,  2466.1,   1.9178,  34.7534,2,  34.7540,2,    200.1,2,   201.6,3,    87.5,2,    0.00,2,   30.23,2,    0.00,2,    2.07,2,   0.116,2,   0.061,2,   0.005,2,         0.002,2,  2245.8,2, 2354.43,2,   7.6206,2,    24.98,   1.9178, -999.00,9,  -999.0,9,  -999.0, -999.00,9,-999.000,9,    38.1,2, -999.00,9,     -999.0,1, -999.00,9, 20160304,     1316, -43.7089,  95.0001,     -999.0,9,     -999.0,9,     -999.0,9,-999.0000,9,-999.0000,9,-999.0000,9,-999.0000,9,-999.0000,9,-999.0000,9,-999.0000,9,     -999.0,9,     -999.0,9,     -999.0,9,     -999.0,9,     -999.0,9
33RR20160208,       I08S,      54,          1,          6,         38,2,20160304,       1258,   -43.7089,    95.0001,       3250,  2261.1,   2.1149,  34.7531,2,  34.7547,2,    198.4,2,   197.5,2,    80.8,2,    0.00,2,   30.03,2,    0.00,2,    2.06,2,-999.000,9,-999.000,9,-999.000,9,-999.000000000,9,  -999.0,9, -999.00,9,-999.0000,9,  -999.00,   2.1148, -999.00,9,  -999.0,9,  -999.0, -999.00,9,-999.000,9,    37.3,2, -999.00,9,     -999.0,1, -999.00,9, 20160304,     1321, -43.7089,  95.0001,     -999.0,9,     -999.0,9,     -999.0,9,-999.0000,9,-999.0000,9,-999.0000,9,-999.0000,9,-999.0000,9,-999.0000,9,-999.0000,9,     -999.0,9,     -999.0,9,     -999.0,9,     -999.0,9,     -999.0,9
33RR20160208,       I08S,      54,          1,          7,          7,2,20160304,       1258,   -43.7089,    95.0001,       3250,  2065.0,   2.2755,  34.7414,2,  34.7424,2,    194.1,2,   194.1,2,    76.8,2,    0.00,2,   30.28,2,    0.00,2,    2.08,2,   0.158,2,   0.081,2,   0.007,2,          0.05,2,  2243.1,2, 2348.35,2,   7.6120,6,    25.00,   2.2759, -999.00,9,  -999.0,9,  -999.0, -999.00,9,-999.000,9,    38.1,2, -999.00,9,     -999.0,1, -999.00,9, 20160304,     1326, -43.7089,  95.0001,     -999.0,9,     -999.0,9,     -999.0,9,-999.0000,9,-999.0000,9,-999.0000,9,-999.0000,9,-999.0000,9,-999.0000,9,-999.0000,9,     -999.0,9,     -999.0,9,     -999.0,9,     -999.0,9,     -999.0,9
33RR20160208,       I08S,      54,          1,          8,          8,2,20160304,       1258,   -43.7089,    95.0001,       3250,  1864.7,   2.4325,  34.7135,2,  34.7139,2,    187.9,2,   188.2,2,    73.5,2,    0.00,2,   30.99,2,    0.00,2,    2.15,2,   0.199,2,   0.104,2,   0.008,2,         0.008,2,  -999.0,9, -999.00,9,-999.0000,9,     9.00,   2.4323, -999.00,9,  -999.0,9,  -999.0, -999.00,9,-999.000,9,    38.0,2, -999.00,9,     -999.0,1, -999.00,9, 20160304,     1331, -43.7089,  95.0001,     -999.0,9,     -999.0,9,     -999.0,9,-999.0000,9,-999.0000,9,-999.0000,9,-999.0000,9,-999.0000,9,-999.0000,9,-999.0000,9,     -999.0,9,     -999.0,9,     -999.0,9,     -999.0,9,     -999.0,9
33RR20160208,       I08S,      54,          1,          9,          9,2,20160304,       1258,   -43.7089,    95.0001,       3250,  1733.5,   2.4869,  34.6795,2,  34.6820,2,    182.9,2,   183.5,2,    72.8,2,    0.00,2,   31.86,2,    0.00,2,    2.18,2,   0.302,2,   0.157,2,   0.017,2,           0.1,2,  2246.6,2, 2339.97,2,   7.5855,2,    24.97,   2.4870,    0.45,6,  -142.7,6,     1.5, -999.00,9,-999.000,9,    37.9,2, -999.00,9,     -999.0,1, -999.00,9, 20160304,     1334, -43.7089,  95.0001,     -999.0,9,     -999.0,9,     -999.0,9,-999.0000,9,-999.0000,9,-999.0000,9,-999.0000,9,-999.0000,9,-999.0000,9,-999.0000,9,     -999.0,9,     -999.0,9,     -999.0,9,     -999.0,9,     -999.0,9
33RR20160208,       I08S,      54,          1,         10,         10,2,20160304,       1258,   -43.7089,    95.0001,       3250,  1633.9,   2.5441,  34.6464,2,  34.6463,2,    179.6,2,   179.4,2,    71.8,2,    0.00,2,   32.64,2,    0.00,2,    2.26,2,   0.398,2,   0.203,2,   0.023,2,         0.088,2,  -999.0,9, -999.00,9,-999.0000,9,  -999.00,   2.5442, -999.00,9,  -999.0,9,  -999.0, -999.00,9,-999.000,9,    39.2,2, -999.00,9,     -999.0,1, -999.00,9, 20160304,     1337, -43.7089,  95.0001,     -999.0,9,     -999.0,9,     -999.0,9,-999.0000,9,-999.0000,9,-999.0000,9,-999.0000,9,-999.0000,9,-999.0000,9,-999.0000,9,     -999.0,9,     -999.0,9,     -999.0,9,     -999.0,9,     -999.0,9
33RR20160208,       I08S,      54,          1,         11,         11,2,20160304,       1258,   -43.7089,    95.0001,       3250,  1533.8,   2.6367,  34.6092,2,  34.6092,2,    177.3,2,   176.7,2,    69.7,2,    0.00,2,   33.21,2,    0.00,2,    2.28,2,   0.486,2,   0.244,2,   0.026,2,         0.111,2,  2246.7,2, 2335.53,2,   7.5688,2,    24.98,   2.6365, -999.00,9,  -999.0,9,  -999.0, -999.00,9,-999.000,9,    38.8,2, -999.00,9,     -999.0,1, -999.00,9, 20160304,     1340, -43.7089,  95.0001,     -999.0,9,     -999.0,9,     -999.0,9,-999.0000,9,-999.0000,9,-999.0000,9,-999.0000,9,-999.0000,9,-999.0000,9,-999.0000,9,     -999.0,9,     -999.0,9,     -999.0,9,     -999.0,9,     -999.0,9
33RR20160208,       I08S,      54,          1,         12,         12,2,20160304,       1258,   -43.7089,    95.0001,       3250,  1432.9,   2.7274,  34.5749,2,  34.5751,2,    176.3,2,   176.4,2,    67.6,2,    0.00,2,   33.63,2,    0.00,2,    2.33,2,   0.578,2,   0.292,2,   0.032,2,          0.14,2,  2247.6,2, 2332.98,2,   7.5631,6,    25.00,   2.7278, -999.00,9,  -999.0,9,  -999.0, -999.00,9,-999.000,9,    38.1,2, -999.00,9,     -999.0,1, -999.00,9, 20160304,     1343, -43.7089,  95.0001,     -999.0,9,     -999.0,9,     -999.0,9,-999.0000,9,-999.0000,9,-999.0000,9,-999.0000,9,-999.0000,9,-999.0000,9,-999.0000,9,     -999.0,9,     -999.0,9,     -999.0,9,     -999.0,9,     -999.0,9
33RR20160208,       I08S,      54,          1,         13,         13,2,20160304,       1258,   -43.7089,    95.0001,       3250,  1335.0,   2.8183,  34.5419,2,  34.5415,2,    176.7,2,   176.0,2,    64.9,2,    0.00,2,   33.83,2,    0.00,2,    2.33,2,   0.702,2,   0.352,2,   0.043,2,         0.141,2,  -999.0,9, -999.00,9,-999.0000,9,  -999.00,   2.8181, -999.00,9,  -999.0,9,  -999.0, -999.00,9,-999.000,9,    38.6,2, -999.00,9,     -999.0,1, -999.00,9, 20160304,     1346, -43.7089,  95.0001,     -999.0,9,     -999.0,9,     -999.0,9,-999.0000,9,-999.0000,9,-999.0000,9,-999.0000,9,-999.0000,9,-999.0000,9,-999.0000,9,     -999.0,9,     -999.0,9,     -999.0,9,     -999.0,9,     -999.0,9
33RR20160208,       I08S,      54,          1,         14,         14,2,20160304,       1258,   -43.7089,    95.0001,       3250,  1236.5,   2.9299,  34.4938,2,  34.4919,2,    179.3,2,   179.0,2,    60.4,2,    0.00,2,   34.00,2,    0.00,2,    2.38,2,   0.986,2,   0.462,2,   0.060,2,         0.209,2,  2241.7,6, 2325.25,2,   7.5597,2,    24.98,   2.9295, -999.00,9,  -999.0,9,  -999.0, -999.00,9,-999.000,9,    38.0,2, -999.00,9,     -999.0,1, -999.00,9, 20160304,     1349, -43.7089,  95.0000,     -999.0,9,     -999.0,9,     -999.0,9,-999.0000,9,-999.0000,9,-999.0000,9,-999.0000,9,-999.0000,9,-999.0000,9,-999.0000,9,     -999.0,9,     -999.0,9,     -999.0,9,     -999.0,9,     -999.0,9
33RR20160208,       I08S,      54,          1,         15,         15,4,20160304,       1258,   -43.7089,    95.0001,       3250,  1137.9,   3.0316,  34.4364,3,  34.3928,3,    185.3,3,   191.7,3,    49.2,3,    0.00,3,   33.39,3,    0.00,3,    2.32,3,   1.663,4,   0.803,4,   0.111,4,         0.372,4,  -999.0,9, -999.00,9,-999.0000,9,  -999.00,   3.0313, -999.00,9,  -999.0,9,  -999.0, -999.00,9,-999.000,9,    39.0,2, -999.00,9,     -999.0,1, -999.00,9, 20160304,     1352, -43.7089,  95.0000,     -999.0,9,     -999.0,9,     -999.0,9,-999.0000,9,-999.0000,9,-999.0000,9,-999.0000,9,-999.0000,9,-999.0000,9,-999.0000,9,     -999.0,9,     -999.0,9,     -999.0,9,     -999.0,9,     -999.0,9
33RR20160208,       I08S,      54,          1,         16,         16,2,20160304,       1258,   -43.7089,    95.0001,       3250,  1037.1,   3.2713,  34.3936,2,  34.3928,2,    191.9,2,   191.0,2,    49.0,2,    0.00,2,   33.40,2,    0.00,2,    2.32,2,   1.677,2,   0.809,2,   0.111,2,         0.384,2,  2227.6,2, 2313.09,2,   7.5718,2,    24.98,   3.2716, -999.00,9,  -999.0,9,  -999.0, -999.00,9,-999.000,9,    37.8,2, -999.00,9,     -999.0,1, -999.00,9, 20160304,     1355, -43.7089,  95.0001,     -999.0,9,     -999.0,9,     -999.0,9,-999.0000,9,-999.0000,9,-999.0000,9,-999.0000,9,-999.0000,9,-999.0000,9,-999.0000,9,     -999.0,9,     -999.0,9,     -999.0,9,     -999.0,9,     -999.0,9
33RR20160208,       I08S,      54,          1,         17,         17,2,20160304,       1258,   -43.7089,    95.0001,       3250,   936.0,   3.5399,  34.3532,2,  34.3532,2,    200.7,2,   199.9,2,    42.3,2,    0.00,2,   32.57,2,    0.00,2,    2.24,2,   2.086,2,   0.998,2,   0.139,2,         0.412,2,  -999.0,9, -999.00,9,-999.0000,9,     9.00,   3.5391, -999.00,9,  -999.0,9,  -999.0, -999.00,9,-999.000,9,    38.7,2, -999.00,9,     -999.0,1, -999.00,9, 20160304,     1358, -43.7089,  95.0001,     -999.0,9,     -999.0,9,     -999.0,9,-999.0000,9,-999.0000,9,-999.0000,9,-999.0000,9,-999.0000,9,-999.0000,9,-999.0000,9,     -999.0,9,     -999.0,9,     -999.0,9,     -999.0,9,     -999.0,9
33RR20160208,       I08S,      54,          1,         18,         37,2,20160304,       1258,   -43.7089,    95.0001,       3250,   833.9,   3.8518,  34.3127,2,  34.3124,2,    211.7,2,   210.5,2,    34.6,2,    0.00,2,   31.45,2,    0.00,2,    2.17,2,   2.549,2,   1.256,2,   0.175,2,         0.619,2,  2202.0,2, 2300.56,2,   7.6010,6,    24.98,   3.8473, -999.00,9,  -999.0,9,  -999.0, -999.00,9,-999.000,9,    39.0,2, -999.00,9,     -999.0,1, -999.00,9, 20160304,     1400, -43.7089,  95.0001,     -999.0,9,     -999.0,9,     -999.0,9,-999.0000,9,-999.0000,9,-999.0000,9,-999.0000,9,-999.0000,9,-999.0000,9,-999.0000,9,     -999.0,9,     -999.0,9,     -999.0,9,     -999.0,9,     -999.0,9
33RR20160208,       I08S,      54,          1,         19,         19,2,20160304,       1258,   -43.7089,    95.0001,       3250,   734.6,   4.2001,  34.2834,2,  34.2823,2,    223.4,2,   221.0,2,    28.0,2,    0.00,2,   30.22,2,    0.00,2,    2.08,2,   2.967,2,   1.493,2,   0.207,2,         0.847,2,  -999.0,9, -999.00,9,-999.0000,9,  -999.00,   4.1948, -999.00,9,  -999.0,9,  -999.0, -999.00,9,-999.000,9,    38.6,2, -999.00,9,     -999.0,1, -999.00,9, 20160304,     1403, -43.7089,  95.0001,     -999.0,9,     -999.0,9,     -999.0,9,-999.0000,9,-999.0000,9,-999.0000,9,-999.0000,9,-999.0000,9,-999.0000,9,-999.0000,9,     -999.0,9,     -999.0,9,     -999.0,9,     -999.0,9,     -999.0,9
33RR20160208,       I08S,      54,          1,         20,         20,2,20160304,       1258,   -43.7089,    95.0001,       3250,   633.5,   4.8281,  34.2773,2,  34.2776,2,    226.4,2,   227.1,2,    20.8,2,    0.00,2,   28.48,2,    0.00,2,    1.96,2,   3.314,2,   1.692,2,   0.232,2,         1.038,2,  2182.4,2, 2289.05,2,   7.6352,6,    24.98,   4.8279, -999.00,9,  -999.0,9,  -999.0, -999.00,9,-999.000,9,    39.2,2, -999.00,9,     -999.0,1, -999.00,9, 20160304,     1406, -43.7089,  95.0001,     -999.0,9,     -999.0,9,     -999.0,9,-999.0000,9,-999.0000,9,-999.0000,9,-999.0000,9,-999.0000,9,-999.0000,9,-999.0000,9,     -999.0,9,     -999.0,9,     -999.0,9,     -999.0,9,     -999.0,9
33RR20160208,       I08S,      54,          1,         21,         21,2,20160304,       1258,   -43.7089,    95.0001,       3250,   535.5,   5.8206,  34.3300,2,  34.3201,2,    228.1,2,   226.4,2,    17.0,2,    0.00,2,   26.52,2,    0.00,2,    1.81,2,   3.395,2,   1.746,2,   0.221,2,         1.099,2,  -999.0,9, -999.00,9,-999.0000,9,  -999.00,   5.8160, -999.00,9,  -999.0,9,  -999.0, -999.00,9,-999.000,9,    40.3,2, -999.00,9,     -999.0,1, -999.00,9, 20160304,     1409, -43.7089,  95.0001,     -999.0,9,     -999.0,9,     -999.0,9,-999.0000,9,-999.0000,9,-999.0000,9,-999.0000,9,-999.0000,9,-999.0000,9,-999.0000,9,     -999.0,9,     -999.0,9,     -999.0,9,     -999.0,9,     -999.0,9
33RR20160208,       I08S,      54,          1,         22,         22,2,20160304,       1258,   -43.7089,    95.0001,       3250,   465.4,   6.2516,  34.3142,2,  34.3119,2,    233.9,2,   234.6,2,    13.4,2,    0.00,2,   24.72,2,    0.00,2,    1.70,2,   3.626,2,   1.904,2,   0.236,2,         1.297,2,  2164.3,2, 2284.97,2,   7.6753,6,    24.95,   6.2538, -999.00,9,  -999.0,9,  -999.0, -999.00,9,-999.000,9,    40.7,2, -999.00,9,     -999.0,1, -999.00,9, 20160304,     1412, -43.7089,  95.0001,     -999.0,9,     -999.0,9,     -999.0,9,-999.0000,9,-999.0000,9,-999.0000,9,-999.0000,9,-999.0000,9,-999.0000,9,-999.0000,9,     -999.0,9,     -999.0,9,     -999.0,9,     -999.0,9,     -999.0,9
33RR20160208,       I08S,      54,          1,         23,         23,2,20160304,       1258,   -43.7089,    95.0001,       3250,   417.2,   6.7908,  34.3361,2,  34.3377,2,    245.9,2,   242.8,2,    10.5,2,    0.00,2,   22.59,2,    0.00,2,    1.57,2,-999.000,9,-999.000,9,-999.000,9,-999.000000000,9,  -999.0,9, -999.00,9,-999.0000,9,     9.00,   6.7926, -999.00,9,  -999.0,9,  -999.0, -999.00,9,-999.000,9,    41.7,2, -999.00,9,     -999.0,1, -999.00,9, 20160304,     1414, -43.7089,  95.0001,     -999.0,9,     -999.0,9,     -999.0,9,-999.0000,9,-999.0000,9,-999.0000,9,-999.0000,9,-999.0000,9,-999.0000,9,-999.0000,9,     -999.0,9,     -999.0,9,     -999.0,9,     -999.0,9,     -999.0,9
33RR20160208,       I08S,      54,          1,         24,         24,2,20160304,       1258,   -43.7089,    95.0001,       3250,   367.5,   7.0182,  34.3219,2,  34.3235,2,    254.5,2,   254.4,2,     8.0,2,    0.00,2,   20.98,2,    0.00,2,    1.45,2,   3.798,6,   2.018,6,   0.265,6,        1.5865,6,  2144.9,2, 2284.82,2,   7.7227,2,    24.99,   7.0110, -999.00,9,  -999.0,9,  -999.0, -999.00,9,-999.000,9,    42.2,2, -999.00,9,     -999.0,1, -999.00,9, 20160304,     1416, -43.7089,  95.0001,     -999.0,9,     -999.0,9,     -999.0,9,-999.0000,9,-999.0000,9,-999.0000,9,-999.0000,9,-999.0000,9,-999.0000,9,-999.0000,9,     -999.0,9,     -999.0,9,     -999.0,9,     -999.0,9,     -999.0,9
33RR20160208,       I08S,      54,          1,         25,         25,2,20160304,       1258,   -43.7089,    95.0001,       3250,   316.6,   7.4192,  34.3419,2,  34.3426,2,    252.8,2,   255.3,2,     6.7,2,    0.00,2,   20.06,2,    0.00,2,    1.40,2,-999.000,9,-999.000,9,-999.000,9,-999.000000000,9,  -999.0,9, -999.00,9,-999.0000,9,  -999.00,   7.4218, -999.00,9,  -999.0,9,  -999.0, -999.00,9,-999.000,9,    43.0,2,   22.70,2,     -999.0,1, -999.00,9, 20160304,     1418, -43.7089,  95.0001,     -999.0,9,     -999.0,9,     -999.0,9,-999.0000,9,-999.0000,9,-999.0000,9,-999.0000,9,-999.0000,9,-999.0000,9,-999.0000,9,     -999.0,9,     -999.0,9,     -999.0,9,     -999.0,9,     -999.0,9
33RR20160208,       I08S,      54,          1,         26,         26,2,20160304,       1258,   -43.7089,    95.0001,       3250,   266.3,   8.3212,  34.4576,2,  34.4444,2,    247.9,2,   250.0,2,     5.8,2,    0.00,2,   18.46,2,    0.00,2,    1.28,2,   3.629,2,   1.982,2,   0.232,2,         1.769,2,  2137.9,2, 2288.21,2,   7.7488,2,    24.99,   8.3109, -999.00,9,  -999.0,9,  -999.0, -999.00,9,-999.000,9,    42.4,2,   20.50,2,     -999.0,1, -999.00,9, 20160304,     1420, -43.7089,  95.0001,     -999.0,9,     -999.0,9,     -999.0,9,-999.0000,9,-999.0000,9,-999.0000,9,-999.0000,9,-999.0000,9,-999.0000,9,-999.0000,9,     -999.0,9,     -999.0,9,     -999.0,9,     -999.0,9,     -999.0,9
33RR20160208,       I08S,      54,          1,         27,         27,2,20160304,       1258,   -43.7089,    95.0001,       3250,   217.0,   8.3770,  34.4070,2,  34.4059,2,    259.8,2,   260.5,2,     4.5,2,    0.00,2,   17.41,2,    0.00,2,    1.22,2,-999.000,9,-999.000,9,-999.000,9,-999.000000000,9,  -999.0,9, -999.00,9,-999.0000,9,  -999.00,   8.3762, -999.00,9,  -999.0,9,  -999.0, -999.00,9,-999.000,9,    44.3,2,   20.20,2,     -999.0,1, -999.00,9, 20160304,     1422, -43.7089,  95.0001,     -999.0,9,     -999.0,9,     -999.0,9,-999.0000,9,-999.0000,9,-999.0000,9,-999.0000,9,-999.0000,9,-999.0000,9,-999.0000,9,     -999.0,9,     -999.0,9,     -999.0,9,     -999.0,9,     -999.0,9