BOTTLE,20220706CCHSIOAMB
EXPOCODE,SECT_ID,STNNBR,CASTNO,SAMPNO,BTLNBR,BTLNBR_FLAG_W,DATE,TIME,LATITUDE,LONGITUDE,DEPTH,CTDPRS,CTDTMP,CTDSAL,CTDSAL_FLAG_W,SALNTY,SALNTY_FLAG_W,CTDOXY,CTDOXY_FLAG_W,OXYGEN,OXYGEN_FLAG_W,SILCAT,SILCAT_FLAG_W,NH4,NH4_FLAG_W,NITRAT,NITRAT_FLAG_W,NITRIT,NITRIT_FLAG_W,PHSPHT,PHSPHT_FLAG_W,CFC-11,CFC-11_FLAG_W,CFC-12,CFC-12_FLAG_W,CFC113,CFC113_FLAG_W,SF6,SF6_FLAG_W,TCARBN,TCARBN_FLAG_W,ALKALI,ALKALI_FLAG_W,PH_TOT,PH_TOT_FLAG_W,PH_TMP,REFTMP,DELC13,DELC13_FLAG_W,DELC14,DELC14_FLAG_W,C14ERR,DELO18,DELO18_FLAG_W,POC,POC_FLAG_W,DOC,DOC_FLAG_W,TDN,TDN_FLAG_W,TON,TON_FLAG_W,D15N_NO3,D15N_NO3_FLAG_W,BTL_DATE,BTL_TIME,BTL_LAT,BTL_LON,14C-DOC,14C-DOC_FLAG_W,CHLORA,CHLORA_FLAG_W,HPLC,HPLC_FLAG_W,CDOM325,CDOM325_FLAG_W,CDOM340,CDOM340_FLAG_W,CDOM380,CDOM380_FLAG_W,CDOM412,CDOM412_FLAG_W,CDOM443,CDOM443_FLAG_W,CDOM490,CDOM490_FLAG_W,CDOM555,CDOM555_FLAG_W,CDOMSL,CDOMSL_FLAG_W,CDOMSN,CDOMSN_FLAG_W,D18O_NO3,D18O_NO3_FLAG_W,D15N_NO2+NO3,D15N_NO2+NO3_FLAG_W,D18O_NO2+NO3,D18O_NO2+NO3_FLAG_W
,,,,,,,,,,,METERS,DBAR,ITS-90,PSS-78,,PSS-78,,UMOL/KG,,UMOL/KG,,UMOL/KG,,UMOL/KG,,UMOL/KG,,UMOL/KG,,UMOL/KG,,PMOL/KG,,PMOL/KG,,PMOL/KG,,FMOL/KG,,UMOL/KG,,UMOL/KG,,,,DEG C,DEG C,/MILLE,,/MILLE,,/MILLE,/MILLE,,UG/KG,,UMOL/KG,,UMOL/KG,,UMOL/KG,,/MILLE,,,,,,/MILLE,,MG/M3,,,,1/M,,1/M,,1/M,,1/M,,1/M,,1/M,,1/M,,1/NM,,1/NM,,/MILLE,,/MILLE,,/MILLE,
33RR20160208,       I08S,      47,          1,          1,          1,2,20160302,       1758,   -47.5510,    92.6087,       3616,  3601.9,   0.9926,  34.7123,2,  34.7133,2,    209.0,2,   208.8,2,   116.9,2,    0.00,2,   31.76,2,    0.00,2,    2.20,2,   0.331,2,   0.170,2,   0.013,2,   0.083544858,2,  2259.3,6, 2363.18,2,   7.6063,2,    24.98,   0.9925, -999.00,9,  -999.0,9,  -999.0, -999.00,1,-999.000,9,  -999.0,9, -999.00,9,     -999.0,9,    4.83,2, 20160302,     1758, -47.5510,  92.6087,     -999.0,9,     -999.0,9,     -999.0,9,-999.0000,9,-999.0000,9,-999.0000,9,-999.0000,9,-999.0000,9,-999.0000,9,-999.0000,9,     -999.0,9,     -999.0,9,       1.83,2,       4.83,2,       1.83,2
33RR20160208,       I08S,      47,          1,          2,          2,2,20160302,       1758,   -47.5510,    92.6087,       3616,  3402.8,   1.0456,  34.7160,2,  34.7160,2,    207.9,2,   208.7,2,   115.5,2,    0.00,2,   31.64,2,    0.00,2,    2.19,2,   0.273,2,   0.148,2,   0.007,2,         0.022,2,  2258.1,2, 2362.73,6,   7.6080,6,    24.99,   1.0455, -999.00,9,  -999.0,9,  -999.0, -999.00,1,-999.000,9,  -999.0,9, -999.00,9,     -999.0,9,    4.83,2, 20160302,     1802, -47.5510,  92.6087,     -999.0,9,     -999.0,9,     -999.0,9,-999.0000,9,-999.0000,9,-999.0000,9,-999.0000,9,-999.0000,9,-999.0000,9,-999.0000,9,     -999.0,9,     -999.0,9,       1.95,2,       4.83,2,       1.95,2
33RR20160208,       I08S,      47,          1,          3,          3,2,20160302,       1758,   -47.5510,    92.6087,       3616,  3201.5,   1.1236,  34.7206,2,  34.7213,2,    206.9,2,   206.7,2,   111.7,2,    0.00,2,   31.48,2,    0.00,2,    2.19,2,-999.000,9,-999.000,9,-999.000,9,-999.000000000,9,  -999.0,9, -999.00,9,-999.0000,9,  -999.00,   1.1239, -999.00,9,  -999.0,9,  -999.0, -999.00,1,-999.000,9,  -999.0,9, -999.00,9,     -999.0,9,    4.79,2, 20160302,     1806, -47.5510,  92.6088,     -999.0,9,     -999.0,9,     -999.0,9,-999.0000,9,-999.0000,9,-999.0000,9,-999.0000,9,-999.0000,9,-999.0000,9,-999.0000,9,     -999.0,9,     -999.0,9,       1.96,2,       4.79,2,       1.96,2
33RR20160208,       I08S,      47,          1,          4,          4,2,20160302,       1758,   -47.5510,    92.6087,       3616,  2998.1,   1.2538,  34.7277,2,  34.7295,2,    205.4,2,   205.3,2,   108.2,2,    0.00,2,   31.29,2,    0.00,2,    2.18,2,   0.178,2,   0.101,2,   0.002,2,          0.01,2,  -999.0,9, -999.00,9,-999.0000,9,  -999.00,   1.2538, -999.00,9,  -999.0,9,  -999.0, -999.00,1,-999.000,9,  -999.0,9, -999.00,9,     -999.0,9,     4.9,2, 20160302,     1811, -47.5510,  92.6087,     -999.0,9,     -999.0,9,     -999.0,9,-999.0000,9,-999.0000,9,-999.0000,9,-999.0000,9,-999.0000,9,-999.0000,9,-999.0000,9,     -999.0,9,     -999.0,9,       1.92,2,        4.9,2,       1.92,2
33RR20160208,       I08S,      47,          1,          5,          5,2,20160302,       1758,   -47.5510,    92.6087,       3616,  2793.5,   1.4253,  34.7361,2,  34.7379,2,    203.6,2,   204.2,2,   102.2,2,    0.00,2,   30.93,2,    0.00,2,    2.15,2,-999.000,9,-999.000,9,-999.000,9,-999.000000000,9,  -999.0,9, -999.00,9,-999.0000,9,     9.00,   1.4262, -999.00,9,  -999.0,9,  -999.0, -999.00,1,-999.000,9,  -999.0,9, -999.00,9,     -999.0,9,    4.81,2, 20160302,     1815, -47.5510,  92.6087,     -999.0,9,     -999.0,9,     -999.0,9,-999.0000,9,-999.0000,9,-999.0000,9,-999.0000,9,-999.0000,9,-999.0000,9,-999.0000,9,     -999.0,9,     -999.0,9,       1.96,2,       4.81,2,       1.96,2
33RR20160208,       I08S,      47,          1,          6,         38,2,20160302,       1758,   -47.5510,    92.6087,       3616,  2600.4,   1.6541,  34.7463,2,  34.7555,4,    201.6,2,   201.3,2,    94.2,2,    0.00,2,   30.45,2,    0.00,2,    2.11,2,   0.117,2,   0.068,2,   0.000,2,         0.036,2,  2250.2,2, 2357.91,2,   7.6186,6,    25.00,   1.6543, -999.00,9,  -999.0,9,  -999.0, -999.00,1,-999.000,9,  -999.0,9, -999.00,9,     -999.0,9,    4.91,2, 20160302,     1820, -47.5510,  92.6087,     -999.0,9,     -999.0,9,     -999.0,9,-999.0000,9,-999.0000,9,-999.0000,9,-999.0000,9,-999.0000,9,-999.0000,9,-999.0000,9,     -999.0,9,     -999.0,9,       1.96,2,       4.91,2,       1.96,2
33RR20160208,       I08S,      47,          1,          7,          7,2,20160302,       1758,   -47.5510,    92.6087,       3616,  2402.4,   1.8669,  34.7529,2,  34.7549,2,    199.9,2,   199.6,2,    87.8,2,    0.00,2,   30.12,2,    0.00,2,    2.09,2,-999.000,9,-999.000,9,-999.000,9,-999.000000000,9,  -999.0,9, -999.00,9,-999.0000,9,  -999.00,   1.8668, -999.00,9,  -999.0,9,  -999.0, -999.00,1,-999.000,9,  -999.0,9, -999.00,9,     -999.0,9,    4.93,2, 20160302,     1824, -47.5510,  92.6087,     -999.0,9,     -999.0,9,     -999.0,9,-999.0000,9,-999.0000,9,-999.0000,9,-999.0000,9,-999.0000,9,-999.0000,9,-999.0000,9,     -999.0,9,     -999.0,9,        2.0,2,       4.93,2,        2.0,2
33RR20160208,       I08S,      47,          1,          8,          8,2,20160302,       1758,   -47.5510,    92.6087,       3616,  2198.0,   2.0567,  34.7545,2,  34.7560,2,    198.1,2,   201.3,4,    82.1,2,    0.00,2,   29.89,2,    0.00,2,    2.06,2,   0.147,2,   0.097,2,   0.003,2,             0,2,  -999.0,9, -999.00,9,-999.0000,9,     9.00,   2.0569, -999.00,9,  -999.0,9,  -999.0, -999.00,1,-999.000,9,  -999.0,9, -999.00,9,     -999.0,9,    4.98,2, 20160302,     1828, -47.5510,  92.6087,     -999.0,9,     -999.0,9,     -999.0,9,-999.0000,9,-999.0000,9,-999.0000,9,-999.0000,9,-999.0000,9,-999.0000,9,-999.0000,9,     -999.0,9,     -999.0,9,        2.0,2,       4.98,2,        2.0,2
33RR20160208,       I08S,      47,          1,          9,          9,2,20160302,       1758,   -47.5510,    92.6087,       3616,  2000.6,   2.2247,  34.7457,2,  34.7472,2,    194.6,2,   194.9,2,    77.3,2,    0.00,2,   30.13,2,    0.00,2,    2.07,2,   0.152,2,   0.084,2,   0.001,2,         0.013,2,  2240.5,2, 2346.56,2,   7.6131,6,    25.00,   2.2254, -999.00,9,  -999.0,9,  -999.0, -999.00,1,-999.000,9,  -999.0,9, -999.00,9,     -999.0,9,    5.03,2, 20160302,     1833, -47.5510,  92.6087,     -999.0,9,     -999.0,9,     -999.0,9,-999.0000,9,-999.0000,9,-999.0000,9,-999.0000,9,-999.0000,9,-999.0000,9,-999.0000,9,     -999.0,9,     -999.0,9,        2.0,2,       5.03,2,        2.0,2
33RR20160208,       I08S,      47,          1,         10,         10,2,20160302,       1758,   -47.5510,    92.6087,       3616,  1800.8,   2.3610,  34.7271,2,  34.7293,2,    189.9,2,   190.8,2,    74.4,2,    0.00,2,   30.53,2,    0.00,2,    2.10,2,   0.182,2,   0.104,2,   0.003,2,         0.003,2,  -999.0,9, -999.00,9,-999.0000,9,  -999.00,   2.3610, -999.00,9,  -999.0,9,  -999.0, -999.00,1,-999.000,9,  -999.0,9, -999.00,9,     -999.0,9,    5.06,2, 20160302,     1837, -47.5510,  92.6087,     -999.0,9,     -999.0,9,     -999.0,9,-999.0000,9,-999.0000,9,-999.0000,9,-999.0000,9,-999.0000,9,-999.0000,9,-999.0000,9,     -999.0,9,     -999.0,9,       2.02,2,       5.06,2,       2.02,2
33RR20160208,       I08S,      47,          1,         11,         11,2,20160302,       1758,   -47.5510,    92.6087,       3616,  1699.4,   2.4330,  34.7117,2,  34.7124,2,    186.9,2,   186.8,2,    72.4,2,    0.00,2,   30.91,2,    0.00,2,    2.14,2,   0.204,2,   0.112,2,   0.003,2,         0.078,2,  -999.0,9, -999.00,9,-999.0000,9,     9.00,   2.4330, -999.00,9,  -999.0,9,  -999.0, -999.00,1,-999.000,9,  -999.0,9, -999.00,9,     -999.0,9,    5.07,2, 20160302,     1840, -47.5510,  92.6087,     -999.0,9,     -999.0,9,     -999.0,9,-999.0000,9,-999.0000,9,-999.0000,9,-999.0000,9,-999.0000,9,-999.0000,9,-999.0000,9,     -999.0,9,     -999.0,9,       2.04,2,       5.07,2,       2.04,2
33RR20160208,       I08S,      47,          1,         12,         12,2,20160302,       1758,   -47.5510,    92.6087,       3616,  1601.7,   2.4881,  34.6932,2,  34.6929,2,    183.7,2,   184.1,2,    71.6,2,    0.00,2,   31.34,2,    0.00,2,    2.15,2,   0.240,2,   0.131,2,   0.005,2,         0.122,2,  2243.6,2, 2339.38,2,   7.5914,2,    25.00,   2.4887, -999.00,9,  -999.0,9,  -999.0, -999.00,1,-999.000,9,  -999.0,9, -999.00,9,     -999.0,9,     5.1,2, 20160302,     1843, -47.5510,  92.6087,     -999.0,9,     -999.0,9,     -999.0,9,-999.0000,9,-999.0000,9,-999.0000,9,-999.0000,9,-999.0000,9,-999.0000,9,-999.0000,9,     -999.0,9,     -999.0,9,       2.12,2,        5.1,2,       2.12,2
33RR20160208,       I08S,      47,          1,         13,         13,2,20160302,       1758,   -47.5510,    92.6087,       3616,  1502.4,   2.5472,  34.6688,2,  34.6695,2,    180.6,2,   181.0,2,    70.5,2,    0.00,2,   31.88,2,    0.00,2,    2.21,2,   0.293,2,   0.156,2,   0.007,2,         0.136,2,  -999.0,9, -999.00,9,-999.0000,9,  -999.00,   2.5472, -999.00,9,  -999.0,9,  -999.0, -999.00,1,-999.000,9,  -999.0,9, -999.00,9,     -999.0,9,    5.14,2, 20160302,     1845, -47.5510,  92.6087,     -999.0,9,     -999.0,9,     -999.0,9,-999.0000,9,-999.0000,9,-999.0000,9,-999.0000,9,-999.0000,9,-999.0000,9,-999.0000,9,     -999.0,9,     -999.0,9,        2.1,2,       5.14,2,        2.1,2
33RR20160208,       I08S,      47,          1,         14,         14,2,20160302,       1758,   -47.5510,    92.6087,       3616,  1398.7,   2.6045,  34.6412,2,  34.6401,2,    176.6,2,   177.8,2,    70.4,2,    0.00,2,   32.52,2,    0.00,2,    2.25,2,   0.323,2,   0.171,2,   0.009,2,         0.106,2,  -999.0,9, -999.00,9,-999.0000,9,     9.00,   2.6046, -999.00,9,  -999.0,9,  -999.0, -999.00,1,-999.000,9,  -999.0,9, -999.00,9,     -999.0,9,    5.19,2, 20160302,     1848, -47.5510,  92.6087,     -999.0,9,     -999.0,9,     -999.0,9,-999.0000,9,-999.0000,9,-999.0000,9,-999.0000,9,-999.0000,9,-999.0000,9,-999.0000,9,     -999.0,9,     -999.0,9,        2.1,2,       5.19,2,        2.1,2
33RR20160208,       I08S,      47,          1,         15,         15,2,20160302,       1758,   -47.5510,    92.6087,       3616,  1297.5,   2.6907,  34.6076,2,  34.6149,4,    175.4,2,   176.2,2,    68.3,2,    0.00,2,   33.01,2,    0.00,2,    2.29,2,   0.421,2,   0.220,2,   0.014,2,         0.119,2,  -999.0,9, -999.00,9,-999.0000,9,  -999.00,   2.6902, -999.00,9,  -999.0,9,  -999.0, -999.00,1,-999.000,9,  -999.0,9, -999.00,9,     -999.0,9,    4.97,2, 20160302,     1851, -47.5510,  92.6088,     -999.0,9,     -999.0,9,     -999.0,9,-999.0000,9,-999.0000,9,-999.0000,9,-999.0000,9,-999.0000,9,-999.0000,9,-999.0000,9,     -999.0,9,     -999.0,9,       1.95,2,       4.97,2,       1.95,2
33RR20160208,       I08S,      47,          1,         16,         16,2,20160302,       1758,   -47.5510,    92.6087,       3616,  1199.7,   2.7866,  34.5666,2,  34.5664,2,    174.8,2,   174.8,2,    65.7,2,    0.00,2,   33.42,2,    0.00,2,    2.29,2,   0.562,2,   0.292,2,   0.026,2,         0.175,2,  2244.4,2, 2332.76,2,   7.5650,6,    24.99,   2.7863, -999.00,9,  -999.0,9,  -999.0, -999.00,1,-999.000,9,  -999.0,9, -999.00,9,     -999.0,9,    5.21,2, 20160302,     1854, -47.5510,  92.6087,     -999.0,9,     -999.0,9,     -999.0,9,-999.0000,9,-999.0000,9,-999.0000,9,-999.0000,9,-999.0000,9,-999.0000,9,-999.0000,9,     -999.0,9,     -999.0,9,       2.11,2,       5.21,2,       2.11,2
33RR20160208,       I08S,      47,          1,         17,         17,2,20160302,       1758,   -47.5510,    92.6087,       3616,  1100.1,   2.8873,  34.5274,2,  34.5288,2,    175.7,2,   175.9,2,    62.6,2,    0.00,2,   33.69,2,    0.00,2,    2.31,2,   0.759,2,   0.381,2,   0.038,2,         0.221,2,  2243.1,2, 2327.89,6,   7.5616,2,    24.99,   2.8875, -999.00,9,  -999.0,9,  -999.0, -999.00,1,-999.000,9,  -999.0,9, -999.00,9,     -999.0,9,    5.26,2, 20160302,     1857, -47.5510,  92.6087,     -999.0,9,     -999.0,9,     -999.0,9,-999.0000,9,-999.0000,9,-999.0000,9,-999.0000,9,-999.0000,9,-999.0000,9,-999.0000,9,     -999.0,9,     -999.0,9,        2.2,2,       5.26,2,        2.2,2
33RR20160208,       I08S,      47,          1,         18,         37,2,20160302,       1758,   -47.5510,    92.6087,       3616,  1001.0,   2.9383,  34.4815,2,  34.4823,2,    179.0,2,   178.6,2,    59.4,2,    0.00,2,   33.97,2,    0.00,2,    2.35,2,   1.026,2,   0.509,2,   0.057,2,         0.252,2,  2240.6,2, 2323.92,2,   7.5589,2,    24.99,   2.9383, -999.00,9,  -999.0,9,  -999.0, -999.00,1,-999.000,9,  -999.0,9, -999.00,9,     -999.0,9,    5.32,2, 20160302,     1900, -47.5510,  92.6087,     -999.0,9,     -999.0,9,     -999.0,9,-999.0000,9,-999.0000,9,-999.0000,9,-999.0000,9,-999.0000,9,-999.0000,9,-999.0000,9,     -999.0,9,     -999.0,9,       2.19,2,       5.32,2,       2.19,2
33RR20160208,       I08S,      47,          1,         19,         19,2,20160302,       1758,   -47.5510,    92.6087,       3616,   901.7,   3.0051,  34.4252,2,  34.4250,2,    186.0,2,   185.1,2,    54.2,2,    0.00,2,   33.85,2,    0.00,2,    2.34,2,   1.412,2,   0.703,2,   0.086,2,         0.316,2,  -999.0,9, -999.00,9,-999.0000,9,  -999.00,   3.0059, -999.00,9,  -999.0,9,  -999.0, -999.00,1,-999.000,9,  -999.0,9, -999.00,9,     -999.0,9,    5.36,2, 20160302,     1903, -47.5511,  92.6087,     -999.0,9,     -999.0,9,     -999.0,9,-999.0000,9,-999.0000,9,-999.0000,9,-999.0000,9,-999.0000,9,-999.0000,9,-999.0000,9,     -999.0,9,     -999.0,9,       2.34,2,       5.36,2,       2.34,2
33RR20160208,       I08S,      47,          1,         20,         20,2,20160302,       1758,   -47.5510,    92.6087,       3616,   800.3,   3.1921,  34.3695,2,  34.3695,2,    196.4,2,   194.9,2,    47.0,2,    0.00,2,   33.28,2,    0.00,2,    2.30,2,   1.831,2,   0.916,2,   0.117,2,          0.46,2,  -999.0,9, -999.00,9,-999.0000,9,     9.00,   3.1917, -999.00,9,  -999.0,9,  -999.0, -999.00,1,-999.000,9,  -999.0,9, -999.00,9,     -999.0,9,    5.45,2, 20160302,     1906, -47.5510,  92.6087,     -999.0,9,     -999.0,9,     -999.0,9,-999.0000,9,-999.0000,9,-999.0000,9,-999.0000,9,-999.0000,9,-999.0000,9,-999.0000,9,     -999.0,9,     -999.0,9,       2.34,2,       5.45,2,       2.34,2
33RR20160208,       I08S,      47,          1,         21,         21,2,20160302,       1758,   -47.5510,    92.6087,       3616,   698.5,   3.3639,  34.3153,2,  34.3142,2,    207.3,2,   207.1,2,    39.7,2,    0.00,2,   32.44,2,    0.00,2,    2.23,2,   2.313,2,   1.178,2,   0.154,2,         0.668,2,  2209.9,2, 2303.36,2,   7.5846,6,    25.01,   3.3643, -999.00,9,  -999.0,9,  -999.0, -999.00,1,-999.000,9,  -999.0,9, -999.00,9,     -999.0,9,     5.4,2, 20160302,     1908, -47.5511,  92.6088,     -999.0,9,     -999.0,9,     -999.0,9,-999.0000,9,-999.0000,9,-999.0000,9,-999.0000,9,-999.0000,9,-999.0000,9,-999.0000,9,     -999.0,9,     -999.0,9,       2.49,2,        5.4,2,       2.49,2
33RR20160208,       I08S,      47,          1,         22,         22,2,20160302,       1758,   -47.5510,    92.6087,       3616,   600.2,   3.8296,  34.2985,2,  34.3017,2,    214.2,2,   212.6,2,    32.9,2,    0.00,2,   31.19,2,    0.00,2,    2.14,2,   2.572,2,   1.309,2,   0.169,2,         0.781,2,  -999.0,9, -999.00,9,-999.0000,9,  -999.00,   3.8268, -999.00,9,  -999.0,9,  -999.0, -999.00,1,-999.000,9,  -999.0,9, -999.00,9,     -999.0,9,    5.55,2, 20160302,     1911, -47.5511,  92.6087,     -999.0,9,     -999.0,9,     -999.0,9,-999.0000,9,-999.0000,9,-999.0000,9,-999.0000,9,-999.0000,9,-999.0000,9,-999.0000,9,     -999.0,9,     -999.0,9,       2.65,2,       5.55,2,       2.65,2
33RR20160208,       I08S,      47,          1,         23,         23,2,20160302,       1758,   -47.5510,    92.6087,       3616,   500.7,   3.8494,  34.2099,2,  34.2084,2,    236.3,2,   235.4,2,    24.4,2,    0.00,2,   29.87,2,    0.00,2,    2.04,2,   3.368,2,   1.781,2,   0.244,2,         1.292,2,  2186.2,2, 2284.22,2,   7.6189,2,    25.00,   3.8453, -999.00,9,  -999.0,9,  -999.0, -999.00,1,-999.000,9,  -999.0,9, -999.00,9,     -999.0,9,    5.57,2, 20160302,     1914, -47.5510,  92.6087,     -999.0,9,     -999.0,9,     -999.0,9,-999.0000,9,-999.0000,9,-999.0000,9,-999.0000,9,-999.0000,9,-999.0000,9,-999.0000,9,     -999.0,9,     -999.0,9,        2.8,2,       5.57,2,        2.8,2
33RR20160208,       I08S,      47,          1,         24,         24,2,20160302,       1758,   -47.5510,    92.6087,       3616,   450.8,   4.0922,  34.1964,2,  34.1937,2,    239.8,2,   240.4,2,    21.4,2,    0.00,2,   29.03,2,    0.00,2,    1.99,2,-999.000,9,-999.000,9,-999.000,9,-999.000000000,9,  -999.0,9, -999.00,9,-999.0000,9,  -999.00,   4.0958, -999.00,9,  -999.0,9,  -999.0, -999.00,1,-999.000,9,  -999.0,9, -999.00,9,     -999.0,9,    5.57,2, 20160302,     1916, -47.5510,  92.6087,     -999.0,9,     -999.0,9,     -999.0,9,-999.0000,9,-999.0000,9,-999.0000,9,-999.0000,9,-999.0000,9,-999.0000,9,-999.0000,9,     -999.0,9,     -999.0,9,       2.83,2,       5.57,2,       2.83,2
33RR20160208,       I08S,      47,          1,         25,         25,2,20160302,       1758,   -47.5510,    92.6087,       3616,   402.2,   4.3206,  34.1684,2,  34.1692,2,    247.4,2,   247.9,2,    19.0,2,    0.00,2,   27.94,2,    0.00,2,    1.91,2,   3.752,2,   2.016,2,   0.273,2,         1.438,2,  2176.5,2, 2282.72,2,   7.6406,2,    25.00,   4.3216, -999.00,9,  -999.0,9,  -999.0, -999.00,1,-999.000,9,  -999.0,9, -999.00,9,     -999.0,9,     5.6,2, 20160302,     1918, -47.5511,  92.6087,     -999.0,9,     -999.0,9,     -999.0,9,-999.0000,9,-999.0000,9,-999.0000,9,-999.0000,9,-999.0000,9,-999.0000,9,-999.0000,9,     -999.0,9,     -999.0,9,       2.91,2,        5.6,2,       2.91,2
33RR20160208,       I08S,      47,          1,         26,         26,2,20160302,       1758,   -47.5510,    92.6087,       3616,   351.3,   4.5365,  34.1311,2,  34.1312,2,    255.6,2,   256.8,2,    15.9,2,    0.00,2,   26.85,2,    0.00,2,    1.83,2,-999.000,9,-999.000,9,-999.000,9,-999.000000000,9,  2165.7,2, 2279.66,2,   7.6545,2,    24.98,   4.5359, -999.00,9,  -999.0,9,  -999.0, -999.00,1,-999.000,9,  -999.0,9, -999.00,9,     -999.0,9,    5.54,2, 20160302,     1920, -47.5510,  92.6088,     -999.0,9,     -999.0,9,     -999.0,9,-999.0000,9,-999.0000,9,-999.0000,9,-999.0000,9,-999.0000,9,-999.0000,9,-999.0000,9,     -999.0,9,     -999.0,9,        3.1,2,       5.54,2,        3.1,2
33RR20160208,       I08S,      47,          1,         27,         27,2,20160302,       1758,   -47.5510,    92.6087,       3616,   301.0,   5.1586,  34.1451,2,  34.1506,2,    260.5,2,   258.1,2,    12.7,2,    0.00,2,   25.35,2,    0.00,2,    1.71,2,   3.917,2,   2.144,2,   0.297,2,         1.554,2,  2158.7,2, 2279.33,2,   7.6716,6,    25.00,   5.1555, -999.00,9,  -999.0,9,  -999.0, -999.00,1,-999.000,9,  -999.0,9, -999.00,9,     -999.0,9,    5.85,2, 20160302,     1922, -47.5510,  92.6087,     -999.0,9,     -999.0,9,     -999.0,9,-999.0000,9,-999.0000,9,-999.0000,9,-999.0000,9,-999.0000,9,-999.0000,9,-999.0000,9,     -999.0,9,     -999.0,9,       3.29,2,       5.85,2,       3.29,2