BOTTLE,20220706CCHSIOAMB
EXPOCODE,SECT_ID,STNNBR,CASTNO,SAMPNO,BTLNBR,BTLNBR_FLAG_W,DATE,TIME,LATITUDE,LONGITUDE,DEPTH,CTDPRS,CTDTMP,CTDSAL,CTDSAL_FLAG_W,SALNTY,SALNTY_FLAG_W,CTDOXY,CTDOXY_FLAG_W,OXYGEN,OXYGEN_FLAG_W,SILCAT,SILCAT_FLAG_W,NH4,NH4_FLAG_W,NITRAT,NITRAT_FLAG_W,NITRIT,NITRIT_FLAG_W,PHSPHT,PHSPHT_FLAG_W,CFC-11,CFC-11_FLAG_W,CFC-12,CFC-12_FLAG_W,CFC113,CFC113_FLAG_W,SF6,SF6_FLAG_W,TCARBN,TCARBN_FLAG_W,ALKALI,ALKALI_FLAG_W,PH_TOT,PH_TOT_FLAG_W,PH_TMP,REFTMP,DELC13,DELC13_FLAG_W,DELC14,DELC14_FLAG_W,C14ERR,DELO18,DELO18_FLAG_W,POC,POC_FLAG_W,DOC,DOC_FLAG_W,TDN,TDN_FLAG_W,TON,TON_FLAG_W,D15N_NO3,D15N_NO3_FLAG_W,BTL_DATE,BTL_TIME,BTL_LAT,BTL_LON,14C-DOC,14C-DOC_FLAG_W,CHLORA,CHLORA_FLAG_W,HPLC,HPLC_FLAG_W,CDOM325,CDOM325_FLAG_W,CDOM340,CDOM340_FLAG_W,CDOM380,CDOM380_FLAG_W,CDOM412,CDOM412_FLAG_W,CDOM443,CDOM443_FLAG_W,CDOM490,CDOM490_FLAG_W,CDOM555,CDOM555_FLAG_W,CDOMSL,CDOMSL_FLAG_W,CDOMSN,CDOMSN_FLAG_W,D18O_NO3,D18O_NO3_FLAG_W,D15N_NO2+NO3,D15N_NO2+NO3_FLAG_W,D18O_NO2+NO3,D18O_NO2+NO3_FLAG_W
,,,,,,,,,,,METERS,DBAR,ITS-90,PSS-78,,PSS-78,,UMOL/KG,,UMOL/KG,,UMOL/KG,,UMOL/KG,,UMOL/KG,,UMOL/KG,,UMOL/KG,,PMOL/KG,,PMOL/KG,,PMOL/KG,,FMOL/KG,,UMOL/KG,,UMOL/KG,,,,DEG C,DEG C,/MILLE,,/MILLE,,/MILLE,/MILLE,,UG/KG,,UMOL/KG,,UMOL/KG,,UMOL/KG,,/MILLE,,,,,,/MILLE,,MG/M3,,,,1/M,,1/M,,1/M,,1/M,,1/M,,1/M,,1/M,,1/NM,,1/NM,,/MILLE,,/MILLE,,/MILLE,
33RR20160208,       I08S,       5,          1,          1,          1,2,20160219,       2235,   -66.2999,    78.1253,       2731,  2741.2,  -0.0935,  34.6604,2,  34.6628,2,    231.8,2,   232.8,2,   123.0,2,    0.45,2,   32.20,2,    0.00,2,    2.23,2,   1.470,2,   0.705,2,   0.121,2,          0.53,2,  2256.3,6, 2353.71,2,   7.5920,2,    25.05,  -0.0940, -999.00,9,  -999.0,9,  -999.0, -999.00,1,-999.000,9,  -999.0,9, -999.00,9,     -999.0,9,    4.81,2, 20160219,     2235, -66.2999,  78.1252,     -999.0,9,     -999.0,9,     -999.0,9,-999.0000,9,-999.0000,9,-999.0000,9,-999.0000,9,-999.0000,9,-999.0000,9,-999.0000,9,     -999.0,9,     -999.0,9,       2.13,2,       4.81,2,       2.13,2
33RR20160208,       I08S,       5,          1,          2,          2,2,20160219,       2235,   -66.2999,    78.1253,       2731,  2565.7,  -0.0621,  34.6606,2,  34.6614,2,    231.9,2,   231.9,2,   120.2,2,    0.40,2,   32.16,2,    0.00,2,    2.24,2,   1.391,2,   0.698,2,   0.112,2,         0.545,2,  -999.0,9, -999.00,9,-999.0000,9,  -999.00,  -0.0625, -999.00,9,  -999.0,9,  -999.0, -999.00,1,-999.000,9,  -999.0,9, -999.00,9,     -999.0,9,    4.82,2, 20160219,     2240, -66.2999,  78.1251,     -999.0,9,     -999.0,9,     -999.0,9,-999.0000,9,-999.0000,9,-999.0000,9,-999.0000,9,-999.0000,9,-999.0000,9,-999.0000,9,     -999.0,9,     -999.0,9,       2.08,2,       4.82,2,       2.08,2
33RR20160208,       I08S,       5,          1,          3,          3,2,20160219,       2235,   -66.2999,    78.1253,       2731,  2396.7,  -0.0311,  34.6604,2,  34.6610,2,    231.9,2,   231.1,2,   117.1,2,    0.21,2,   32.10,2,    0.00,2,    2.23,2,   1.379,2,   0.710,2,   0.110,2,         0.609,2,  -999.0,9, -999.00,9,-999.0000,9,     9.00,  -0.0312, -999.00,9,  -999.0,9,  -999.0, -999.00,1,-999.000,9,  -999.0,9, -999.00,9,     -999.0,9,    4.82,2, 20160219,     2244, -66.2999,  78.1252,     -999.0,9,     -999.0,9,     -999.0,9,-999.0000,9,-999.0000,9,-999.0000,9,-999.0000,9,-999.0000,9,-999.0000,9,-999.0000,9,     -999.0,9,     -999.0,9,       2.23,2,       4.82,2,       2.23,2
33RR20160208,       I08S,       5,          1,          4,          4,2,20160219,       2235,   -66.2999,    78.1253,       2731,  2197.8,  -0.0019,  34.6599,2,  34.6619,2,    231.5,2,   230.6,2,   115.9,2,    0.66,2,   32.09,2,    0.00,2,    2.21,2,   1.324,2,   0.677,2,   0.106,2,         0.568,2,  2254.1,2, 2353.13,2,   7.5926,6,    25.04,  -0.0022, -999.00,9,  -999.0,9,  -999.0, -999.00,1,-999.000,9,  -999.0,9, -999.00,9,     -999.0,9,    4.78,2, 20160219,     2249, -66.2999,  78.1252,     -999.0,9,     -999.0,9,     -999.0,9,-999.0000,9,-999.0000,9,-999.0000,9,-999.0000,9,-999.0000,9,-999.0000,9,-999.0000,9,     -999.0,9,     -999.0,9,       1.97,2,       4.78,2,       1.97,2
33RR20160208,       I08S,       5,          1,          5,          5,2,20160219,       2235,   -66.2999,    78.1253,       2731,  1994.3,   0.0440,  34.6620,2,  34.6625,2,    230.6,2,   228.4,2,   116.2,2,    0.31,2,   32.12,2,    0.00,2,    2.21,2,   1.190,6,   0.608,6,   0.096,6,        0.5075,6,  -999.0,9, -999.00,9,-999.0000,9,  -999.00,   0.0437, -999.00,9,  -999.0,9,  -999.0, -999.00,1,-999.000,9,  -999.0,9, -999.00,9,     -999.0,9,    4.76,2, 20160219,     2253, -66.2999,  78.1252,     -999.0,9,     -999.0,9,     -999.0,9,-999.0000,9,-999.0000,9,-999.0000,9,-999.0000,9,-999.0000,9,-999.0000,9,-999.0000,9,     -999.0,9,     -999.0,9,       2.22,2,       4.76,2,       2.22,2
33RR20160208,       I08S,       5,          1,          6,          6,2,20160219,       2235,   -66.2999,    78.1253,       2731,  1796.9,   0.0990,  34.6634,2,  34.6656,2,    227.6,2,   226.6,2,   115.1,2,    0.04,2,   32.05,2,    0.00,2,    2.20,2,   1.099,2,   0.571,2,   0.079,2,         0.511,2,  -999.0,9, -999.00,9,-999.0000,9,     9.00,   0.0988, -999.00,9,  -999.0,9,  -999.0, -999.00,1,-999.000,9,  -999.0,9, -999.00,9,     -999.0,9,    4.68,2, 20160219,     2258, -66.2999,  78.1252,     -999.0,9,     -999.0,9,     -999.0,9,-999.0000,9,-999.0000,9,-999.0000,9,-999.0000,9,-999.0000,9,-999.0000,9,-999.0000,9,     -999.0,9,     -999.0,9,       2.21,2,       4.68,2,       2.21,2
33RR20160208,       I08S,       5,          1,          7,          7,2,20160219,       2235,   -66.2999,    78.1253,       2731,  1698.3,   0.1095,  34.6626,2,  34.6635,2,    227.1,2,   226.9,2,   114.1,2,    0.39,2,   32.04,2,    0.00,2,    2.20,2,   1.139,2,   0.591,2,   0.097,2,         0.535,2,  2254.4,2, 2352.82,2,   7.5923,6,    25.04,   0.1094, -999.00,9,  -999.0,9,  -999.0, -999.00,1,-999.000,9,  -999.0,9, -999.00,9,     -999.0,9,    4.71,2, 20160219,     2301, -66.2999,  78.1252,     -999.0,9,     -999.0,9,     -999.0,9,-999.0000,9,-999.0000,9,-999.0000,9,-999.0000,9,-999.0000,9,-999.0000,9,-999.0000,9,     -999.0,9,     -999.0,9,       2.21,2,       4.71,2,       2.21,2
33RR20160208,       I08S,       5,          1,          8,          8,2,20160219,       2235,   -66.2999,    78.1253,       2731,  1592.4,   0.1487,  34.6639,2,  34.6647,2,    225.5,2,   225.9,2,   113.7,2,    0.05,2,   32.03,2,    0.00,2,    2.21,2,   1.107,2,   0.569,2,   0.086,2,         0.499,2,  -999.0,9, -999.00,9,-999.0000,9,  -999.00,   0.1487, -999.00,9,  -999.0,9,  -999.0, -999.00,1,-999.000,9,  -999.0,9, -999.00,9,     -999.0,9,    4.81,2, 20160219,     2304, -66.2999,  78.1252,     -999.0,9,     -999.0,9,     -999.0,9,-999.0000,9,-999.0000,9,-999.0000,9,-999.0000,9,-999.0000,9,-999.0000,9,-999.0000,9,     -999.0,9,     -999.0,9,        2.2,2,       4.81,2,        2.2,2
33RR20160208,       I08S,       5,          1,          9,          9,2,20160219,       2235,   -66.2999,    78.1253,       2731,  1498.5,   0.1819,  34.6649,2,  34.6654,2,    225.0,2,   225.3,2,   112.5,2,    0.04,2,   31.97,2,    0.00,2,    2.19,2,   1.079,2,   0.558,2,   0.086,2,         0.545,2,  -999.0,9, -999.00,9,-999.0000,9,     9.00,   0.1819, -999.00,9,  -999.0,9,  -999.0, -999.00,1,-999.000,9,  -999.0,9, -999.00,9,     -999.0,9,    4.88,2, 20160219,     2306, -66.2999,  78.1251,     -999.0,9,     -999.0,9,     -999.0,9,-999.0000,9,-999.0000,9,-999.0000,9,-999.0000,9,-999.0000,9,-999.0000,9,-999.0000,9,     -999.0,9,     -999.0,9,       2.26,2,       4.88,2,       2.26,2
33RR20160208,       I08S,       5,          1,         10,         10,2,20160219,       2235,   -66.2999,    78.1253,       2731,  1396.2,   0.2013,  34.6632,2,  34.6633,2,    225.2,2,   226.8,2,   110.3,2,    0.20,2,   31.93,2,    0.00,2,    2.22,2,   1.170,2,   0.629,2,   0.096,2,         0.608,2,  2251.0,2, 2352.75,2,   7.5926,6,    25.05,   0.2011, -999.00,9,  -999.0,9,  -999.0, -999.00,1,-999.000,9,  -999.0,9, -999.00,9,     -999.0,9,    4.73,2, 20160219,     2309, -66.2999,  78.1252,     -999.0,9,     -999.0,9,     -999.0,9,-999.0000,9,-999.0000,9,-999.0000,9,-999.0000,9,-999.0000,9,-999.0000,9,-999.0000,9,     -999.0,9,     -999.0,9,       2.26,2,       4.73,2,       2.26,2
33RR20160208,       I08S,       5,          1,         11,         11,2,20160219,       2235,   -66.2999,    78.1253,       2731,  1298.5,   0.2705,  34.6654,2,  34.6662,2,    223.0,2,   223.7,2,   108.7,2,    0.23,2,   31.82,2,    0.00,2,    2.20,2,   1.098,2,   0.579,2,   0.087,2,         0.504,2,  -999.0,9, -999.00,9,-999.0000,9,  -999.00,   0.2705, -999.00,9,  -999.0,9,  -999.0, -999.00,1,-999.000,9,  -999.0,9, -999.00,9,     -999.0,9,    4.86,2, 20160219,     2324, -66.2998,  78.1250,     -999.0,9,     -999.0,9,     -999.0,9,-999.0000,9,-999.0000,9,-999.0000,9,-999.0000,9,-999.0000,9,-999.0000,9,-999.0000,9,     -999.0,9,     -999.0,9,       2.01,2,       4.86,2,       2.01,2
33RR20160208,       I08S,       5,          1,         12,         12,2,20160219,       2235,   -66.2999,    78.1253,       2731,  1196.8,   0.3132,  34.6651,2,  34.6665,2,    222.9,2,   223.0,2,   106.4,2,    0.25,2,   31.76,2,    0.00,2,    2.21,2,   1.136,2,   0.611,2,   0.092,2,         0.517,2,  -999.0,9, -999.00,9,-999.0000,9,     9.00,   0.3130, -999.00,9,  -999.0,9,  -999.0, -999.00,1,-999.000,9,  -999.0,9, -999.00,9,     -999.0,9,    4.91,2, 20160219,     2327, -66.2999,  78.1250,     -999.0,9,     -999.0,9,     -999.0,9,-999.0000,9,-999.0000,9,-999.0000,9,-999.0000,9,-999.0000,9,-999.0000,9,-999.0000,9,     -999.0,9,     -999.0,9,       2.14,2,       4.91,2,       2.14,2
33RR20160208,       I08S,       5,          1,         13,         13,2,20160219,       2235,   -66.2999,    78.1253,       2731,  1100.3,   0.4099,  34.6711,2,  34.6712,2,    219.4,2,   219.7,2,   105.9,2,    0.98,2,   31.78,2,    0.00,2,    2.20,2,   1.021,2,   0.556,2,   0.081,2,         0.503,2,  2250.1,2, 2352.38,2,   7.5941,6,    25.05,   0.4094, -999.00,9,  -999.0,9,  -999.0, -999.00,1,-999.000,9,  -999.0,9, -999.00,9,     -999.0,9,    4.89,2, 20160219,     2329, -66.2999,  78.1251,     -999.0,9,     -999.0,9,     -999.0,9,-999.0000,9,-999.0000,9,-999.0000,9,-999.0000,9,-999.0000,9,-999.0000,9,-999.0000,9,     -999.0,9,     -999.0,9,       2.13,2,       4.89,2,       2.13,2
33RR20160208,       I08S,       5,          1,         14,         14,2,20160219,       2235,   -66.2999,    78.1253,       2731,   999.7,   0.4566,  34.6705,2,  34.6708,2,    219.3,2,   220.9,2,   103.2,2,    0.08,2,   31.70,2,    0.00,2,    2.21,2,   1.076,2,   0.567,2,   0.088,2,         0.524,2,  -999.0,9, -999.00,9,-999.0000,9,  -999.00,   0.4568, -999.00,9,  -999.0,9,  -999.0, -999.00,1,-999.000,9,  -999.0,9, -999.00,9,     -999.0,9,    4.87,2, 20160219,     2332, -66.2999,  78.1251,     -999.0,9,     -999.0,9,     -999.0,9,-999.0000,9,-999.0000,9,-999.0000,9,-999.0000,9,-999.0000,9,-999.0000,9,-999.0000,9,     -999.0,9,     -999.0,9,       2.02,2,       4.87,2,       2.02,2
33RR20160208,       I08S,       5,          1,         15,         15,2,20160219,       2235,   -66.2999,    78.1253,       2731,   898.8,   0.4730,  34.6652,2,  34.6668,2,    221.3,2,   221.4,2,    98.9,2,    0.05,2,   31.51,2,    0.00,2,    2.19,2,   1.247,2,   0.642,2,   0.101,2,         0.587,2,  -999.0,9, -999.00,9,-999.0000,9,     9.00,   0.4729, -999.00,9,  -999.0,9,  -999.0, -999.00,1,-999.000,9,  -999.0,9, -999.00,9,     -999.0,9,    4.93,2, 20160219,     2335, -66.2999,  78.1250,     -999.0,9,     -999.0,9,     -999.0,9,-999.0000,9,-999.0000,9,-999.0000,9,-999.0000,9,-999.0000,9,-999.0000,9,-999.0000,9,     -999.0,9,     -999.0,9,       2.11,2,       4.93,2,       2.11,2
33RR20160208,       I08S,       5,          1,         16,         16,2,20160219,       2235,   -66.2999,    78.1253,       2731,   789.9,   0.4793,  34.6574,2,  34.6580,2,    223.2,2,   223.3,2,    94.6,2,    0.02,2,   31.38,2,    0.00,2,    2.18,2,   1.389,2,   0.721,2,   0.118,2,         0.711,2,  2246.9,2, 2346.96,2,   7.5938,2,    25.04,   0.4794, -999.00,9,  -999.0,9,  -999.0, -999.00,1,-999.000,9,  -999.0,9, -999.00,9,     -999.0,9,     4.9,2, 20160219,     2338, -66.2999,  78.1251,     -999.0,9,     -999.0,9,     -999.0,9,-999.0000,9,-999.0000,9,-999.0000,9,-999.0000,9,-999.0000,9,-999.0000,9,-999.0000,9,     -999.0,9,     -999.0,9,       2.09,2,        4.9,2,       2.09,2
33RR20160208,       I08S,       5,          1,         17,         17,2,20160219,       2235,   -66.2999,    78.1253,       2731,   697.8,   0.3847,  34.6390,2,  34.6420,2,    241.0,2,   228.6,2,    89.5,2,    0.32,2,   31.27,2,    0.00,2,    2.17,2,   1.676,2,   0.897,2,   0.149,2,         0.913,2,  -999.0,9, -999.00,9,-999.0000,9,  -999.00,   0.3858, -999.00,9,  -999.0,9,  -999.0, -999.00,1,-999.000,9,  -999.0,9, -999.00,9,     -999.0,9,    4.98,2, 20160219,     2341, -66.2999,  78.1251,     -999.0,9,     -999.0,9,     -999.0,9,-999.0000,9,-999.0000,9,-999.0000,9,-999.0000,9,-999.0000,9,-999.0000,9,-999.0000,9,     -999.0,9,     -999.0,9,        2.2,2,       4.98,2,        2.2,2
33RR20160208,       I08S,       5,          1,         18,         18,2,20160219,       2235,   -66.2999,    78.1253,       2731,   596.2,  -0.1281,  34.5786,2,  34.5808,2,    248.4,2,   248.3,2,    81.5,2,    0.14,2,   31.05,2,    0.00,2,    2.16,2,   2.618,2,   1.417,2,   0.229,2,         1.291,2,  -999.0,9, -999.00,9,-999.0000,9,     9.00,  -0.1308, -999.00,9,  -999.0,9,  -999.0, -999.00,1,-999.000,9,  -999.0,9, -999.00,9,     -999.0,9,    5.05,2, 20160219,     2344, -66.2999,  78.1250,     -999.0,9,     -999.0,9,     -999.0,9,-999.0000,9,-999.0000,9,-999.0000,9,-999.0000,9,-999.0000,9,-999.0000,9,-999.0000,9,     -999.0,9,     -999.0,9,       2.24,2,       5.05,2,       2.24,2
33RR20160208,       I08S,       5,          1,         19,         19,2,20160219,       2235,   -66.2999,    78.1253,       2731,   501.7,  -0.8219,  34.5099,2,  34.5131,2,    271.5,2,   274.4,2,    73.4,2,    1.30,2,   30.76,2,    0.00,2,    2.13,2,   3.515,2,   1.971,2,   0.330,2,         1.839,2,  2233.9,2, 2332.64,2,   7.5995,2,    25.05,  -0.8076, -999.00,9,  -999.0,9,  -999.0, -999.00,1,-999.000,9,  -999.0,9, -999.00,9,     -999.0,9,     5.1,2, 20160219,     2347, -66.2999,  78.1250,     -999.0,9,     -999.0,9,     -999.0,9,-999.0000,9,-999.0000,9,-999.0000,9,-999.0000,9,-999.0000,9,-999.0000,9,-999.0000,9,     -999.0,9,     -999.0,9,       2.33,2,        5.1,2,       2.33,2
33RR20160208,       I08S,       5,          1,         20,         20,2,20160219,       2235,   -66.2999,    78.1253,       2731,   450.5,  -0.9395,  34.4923,2,  34.4913,2,    283.3,2,   281.1,2,    70.3,2,    1.50,2,   30.76,2,    0.00,2,    2.14,2,   3.733,2,   2.136,2,   0.359,2,         1.915,2,  -999.0,9, -999.00,9,-999.0000,9,  -999.00,  -0.9353, -999.00,9,  -999.0,9,  -999.0, -999.00,1,-999.000,9,  -999.0,9, -999.00,9,     -999.0,9,    5.16,2, 20160219,     2349, -66.2999,  78.1250,     -999.0,9,     -999.0,9,     -999.0,9,-999.0000,9,-999.0000,9,-999.0000,9,-999.0000,9,-999.0000,9,-999.0000,9,-999.0000,9,     -999.0,9,     -999.0,9,       2.48,2,       5.16,2,       2.48,2
33RR20160208,       I08S,       5,          1,         21,         21,2,20160219,       2235,   -66.2999,    78.1253,       2731,   400.1,  -1.3569,  34.4503,2,  34.4501,2,    297.3,2,   297.2,2,    65.5,2,    0.00,2,   30.39,2,    0.00,2,    2.11,2,   4.288,2,   2.492,2,   0.420,2,          2.42,2,  2231.2,2, 2327.90,2,   7.6056,2,    25.07,  -1.3540, -999.00,9,  -999.0,9,  -999.0, -999.00,1,-999.000,9,  -999.0,9, -999.00,9,     -999.0,9,    5.23,2, 20160219,     2351, -66.2998,  78.1252,     -999.0,9,     -999.0,9,     -999.0,9,-999.0000,9,-999.0000,9,-999.0000,9,-999.0000,9,-999.0000,9,-999.0000,9,-999.0000,9,     -999.0,9,     -999.0,9,       2.54,2,       5.23,2,       2.54,2
33RR20160208,       I08S,       5,          1,         22,         22,2,20160219,       2235,   -66.2999,    78.1253,       2731,   350.6,  -1.6870,  34.4199,2,  34.4205,2,    305.5,2,   309.2,2,    62.7,2,    0.00,2,   30.00,2,    0.00,2,    2.10,2,   4.711,2,   2.737,2,   0.461,2,           2.4,2,  -999.0,9, -999.00,9,-999.0000,9,  -999.00,  -1.6868, -999.00,9,  -999.0,9,  -999.0, -999.00,1,-999.000,9,  -999.0,9, -999.00,9,     -999.0,9,    5.23,2, 20160219,     2353, -66.2998,  78.1251,     -999.0,9,     -999.0,9,     -999.0,9,-999.0000,9,-999.0000,9,-999.0000,9,-999.0000,9,-999.0000,9,-999.0000,9,-999.0000,9,     -999.0,9,     -999.0,9,       2.48,2,       5.23,2,       2.48,2
33RR20160208,       I08S,       5,          1,         23,         23,2,20160219,       2235,   -66.2999,    78.1253,       2731,   299.6,  -1.7043,  34.4091,2,  34.4087,2,    311.3,2,   310.0,2,    62.0,2,    0.12,2,   29.92,2,    0.00,2,    2.09,2,   4.709,2,   2.748,2,   0.472,2,         2.573,2,  -999.0,9, -999.00,9,-999.0000,9,  -999.00,  -1.7038, -999.00,9,  -999.0,9,  -999.0, -999.00,1,-999.000,9,  -999.0,9, -999.00,9,     -999.0,9,    5.28,2, 20160219,     2355, -66.2999,  78.1251,     -999.0,9,     -999.0,9,     -999.0,9,-999.0000,9,-999.0000,9,-999.0000,9,-999.0000,9,-999.0000,9,-999.0000,9,-999.0000,9,     -999.0,9,     -999.0,9,       2.55,2,       5.28,2,       2.55,2
33RR20160208,       I08S,       5,          1,         24,         24,2,20160219,       2235,   -66.2999,    78.1253,       2731,   250.5,  -1.7581,  34.3921,2,  34.3962,2,    308.7,2,   311.5,2,    60.8,2,    0.13,2,   29.79,2,    0.00,2,    2.07,2,   4.666,2,   2.656,2,   0.460,2,         2.059,2,  2222.8,2, 2324.09,2,   7.6161,2,    25.06,  -1.7533, -999.00,9,  -999.0,9,  -999.0, -999.00,1,-999.000,9,  -999.0,9, -999.00,9,     -999.0,9,    5.17,2, 20160219,     2357, -66.2999,  78.1250,     -999.0,9,     -999.0,9,     -999.0,9,-999.0000,9,-999.0000,9,-999.0000,9,-999.0000,9,-999.0000,9,-999.0000,9,-999.0000,9,     -999.0,9,     -999.0,9,       2.48,2,       5.17,2,       2.48,2
33RR20160208,       I08S,       5,          1,         25,         25,2,20160219,       2235,   -66.2999,    78.1253,       2731,   225.6,  -1.7702,  34.3845,2,  34.3875,2,    311.9,2,   311.7,2,    60.5,2,    0.21,2,   29.73,2,    0.00,2,    2.08,2,   4.703,2,   2.729,2,   0.474,2,         2.554,2,  -999.0,9, -999.00,9,-999.0000,9,  -999.00,  -1.7696, -999.00,9,  -999.0,9,  -999.0, -999.00,1,-999.000,9,  -999.0,9, -999.00,9,     -999.0,9,    5.21,2, 20160219,     2358, -66.2999,  78.1251,     -999.0,9,     -999.0,9,     -999.0,9,-999.0000,9,-999.0000,9,-999.0000,9,-999.0000,9,-999.0000,9,-999.0000,9,-999.0000,9,     -999.0,9,     -999.0,9,       2.52,2,       5.21,2,       2.52,2
33RR20160208,       I08S,       5,          1,         26,         26,2,20160219,       2235,   -66.2999,    78.1253,       2731,   199.8,  -1.7429,  34.3785,2,  34.3818,2,    308.4,2,   310.7,2,    60.2,2,    0.76,2,   29.80,2,    0.00,2,    2.07,2,   4.686,2,   2.709,2,   0.463,2,         2.657,2,  -999.0,9, -999.00,9,-999.0000,9,  -999.00,  -1.7404, -999.00,9,  -999.0,9,  -999.0, -999.00,1,-999.000,9,  -999.0,9, -999.00,9,     -999.0,9,    5.23,2, 20160220,     0000, -66.2999,  78.1251,     -999.0,9,     -999.0,9,     -999.0,9,-999.0000,9,-999.0000,9,-999.0000,9,-999.0000,9,-999.0000,9,-999.0000,9,-999.0000,9,     -999.0,9,     -999.0,9,       2.59,2,       5.23,2,       2.59,2
33RR20160208,       I08S,       5,          1,         27,         27,2,20160219,       2235,   -66.2999,    78.1253,       2731,   174.4,  -1.7366,  34.3692,2,  34.3702,2,    308.7,2,   309.4,2,    59.9,2,    0.13,2,   29.82,2,    0.01,2,    2.07,2,   4.609,2,   2.675,2,   0.464,2,         2.449,2,  2220.1,2, 2322.15,2,   7.6158,6,    25.03,  -1.7361, -999.00,9,  -999.0,9,  -999.0, -999.00,1,-999.000,9,  -999.0,9, -999.00,9,     -999.0,9,     5.2,2, 20160220,        1, -66.2999,  78.1251,     -999.0,9,     -999.0,9,     -999.0,9,-999.0000,9,-999.0000,9,-999.0000,9,-999.0000,9,-999.0000,9,-999.0000,9,-999.0000,9,     -999.0,9,     -999.0,9,       2.68,2,       5.22,2,       2.53,2