BOTTLE,20220706CCHSIOAMB
EXPOCODE,SECT_ID,STNNBR,CASTNO,SAMPNO,BTLNBR,BTLNBR_FLAG_W,DATE,TIME,LATITUDE,LONGITUDE,DEPTH,CTDPRS,CTDTMP,CTDSAL,CTDSAL_FLAG_W,SALNTY,SALNTY_FLAG_W,CTDOXY,CTDOXY_FLAG_W,OXYGEN,OXYGEN_FLAG_W,SILCAT,SILCAT_FLAG_W,NH4,NH4_FLAG_W,NITRAT,NITRAT_FLAG_W,NITRIT,NITRIT_FLAG_W,PHSPHT,PHSPHT_FLAG_W,CFC-11,CFC-11_FLAG_W,CFC-12,CFC-12_FLAG_W,CFC113,CFC113_FLAG_W,SF6,SF6_FLAG_W,TCARBN,TCARBN_FLAG_W,ALKALI,ALKALI_FLAG_W,PH_TOT,PH_TOT_FLAG_W,PH_TMP,REFTMP,DELC13,DELC13_FLAG_W,DELC14,DELC14_FLAG_W,C14ERR,DELO18,DELO18_FLAG_W,POC,POC_FLAG_W,DOC,DOC_FLAG_W,TDN,TDN_FLAG_W,TON,TON_FLAG_W,D15N_NO3,D15N_NO3_FLAG_W,BTL_DATE,BTL_TIME,BTL_LAT,BTL_LON,14C-DOC,14C-DOC_FLAG_W,CHLORA,CHLORA_FLAG_W,HPLC,HPLC_FLAG_W,CDOM325,CDOM325_FLAG_W,CDOM340,CDOM340_FLAG_W,CDOM380,CDOM380_FLAG_W,CDOM412,CDOM412_FLAG_W,CDOM443,CDOM443_FLAG_W,CDOM490,CDOM490_FLAG_W,CDOM555,CDOM555_FLAG_W,CDOMSL,CDOMSL_FLAG_W,CDOMSN,CDOMSN_FLAG_W,D18O_NO3,D18O_NO3_FLAG_W,D15N_NO2+NO3,D15N_NO2+NO3_FLAG_W,D18O_NO2+NO3,D18O_NO2+NO3_FLAG_W
,,,,,,,,,,,METERS,DBAR,ITS-90,PSS-78,,PSS-78,,UMOL/KG,,UMOL/KG,,UMOL/KG,,UMOL/KG,,UMOL/KG,,UMOL/KG,,UMOL/KG,,PMOL/KG,,PMOL/KG,,PMOL/KG,,FMOL/KG,,UMOL/KG,,UMOL/KG,,,,DEG C,DEG C,/MILLE,,/MILLE,,/MILLE,/MILLE,,UG/KG,,UMOL/KG,,UMOL/KG,,UMOL/KG,,/MILLE,,,,,,/MILLE,,MG/M3,,,,1/M,,1/M,,1/M,,1/M,,1/M,,1/M,,1/M,,1/NM,,1/NM,,/MILLE,,/MILLE,,/MILLE,
33RR20160208,       I08S,      79,          1,          1,          1,2,20160310,       2348,   -30.6989,    95.0039,       1607,  1610.2,   2.9849,  34.6209,2,  34.6215,2,    151.4,2,   152.1,2,    85.0,2,    0.00,2,   34.65,2,    0.00,2,    2.43,2,-999.000,9,-999.000,9,-999.000,9,-999.000000000,9,  2273.9,6, 2356.80,2,   7.5602,2,    24.96,   2.9840, -999.00,9,  -999.0,9,  -999.0, -999.00,9,-999.000,9,  -999.0,9, -999.00,9,     -999.0,9,    5.51,2, 20160310,     2348, -30.6989,  95.0039,     -999.0,9,     -999.0,9,     -999.0,9,-999.0000,9,-999.0000,9,-999.0000,9,-999.0000,9,-999.0000,9,-999.0000,9,-999.0000,9,     -999.0,9,     -999.0,9,       2.28,2,       5.51,2,       2.28,2
33RR20160208,       I08S,      79,          1,          2,          2,2,20160310,       2348,   -30.6989,    95.0039,       1607,  1535.9,   3.1484,  34.5990,2,  34.5992,2,    148.3,2,   149.3,2,    82.6,2,    0.00,2,   34.90,2,    0.00,2,    2.48,2,-999.000,9,-999.000,9,-999.000,9,-999.000000000,9,  2270.8,2, 2354.36,6,   7.5553,2,    24.95,   3.1481, -999.00,9,  -999.0,9,  -999.0, -999.00,9,-999.000,9,  -999.0,9, -999.00,9,     -999.0,9,     5.6,2, 20160310,     2351, -30.6989,  95.0039,     -999.0,9,     -999.0,9,     -999.0,9,-999.0000,9,-999.0000,9,-999.0000,9,-999.0000,9,-999.0000,9,-999.0000,9,-999.0000,9,     -999.0,9,     -999.0,9,       2.38,2,        5.6,2,       2.38,2
33RR20160208,       I08S,      79,          1,          3,          3,2,20160310,       2348,   -30.6989,    95.0039,       1607,  1467.1,   3.2733,  34.5791,2,  34.5613,4,    148.4,2,   148.7,2,    79.9,2,    0.00,2,   34.98,2,    0.00,2,    2.45,2,-999.000,9,-999.000,9,-999.000,9,-999.000000000,9,  2267.1,2, 2349.65,2,   7.5547,2,    24.93,   3.2736, -999.00,9,  -999.0,9,  -999.0, -999.00,9,-999.000,9,  -999.0,9, -999.00,9,     -999.0,9,    5.66,2, 20160310,     2353, -30.6989,  95.0039,     -999.0,9,     -999.0,9,     -999.0,9,-999.0000,9,-999.0000,9,-999.0000,9,-999.0000,9,-999.0000,9,-999.0000,9,-999.0000,9,     -999.0,9,     -999.0,9,       2.24,2,       5.66,2,       2.24,2
33RR20160208,       I08S,      79,          1,          4,          4,2,20160310,       2348,   -30.6989,    95.0039,       1607,  1364.0,   3.5760,  34.5613,2,  34.5627,2,    145.5,2,   144.7,2,    77.3,2,    0.00,2,   35.14,2,    0.00,2,    2.48,2,-999.000,9,-999.000,9,-999.000,9,-999.000000000,9,  2266.0,2, 2347.32,2,   7.5524,6,    24.96,   3.5758, -999.00,9,  -999.0,9,  -999.0, -999.00,9,-999.000,9,  -999.0,9, -999.00,9,     -999.0,9,    5.74,2, 20160310,     2356, -30.6989,  95.0039,     -999.0,9,     -999.0,9,     -999.0,9,-999.0000,9,-999.0000,9,-999.0000,9,-999.0000,9,-999.0000,9,-999.0000,9,-999.0000,9,     -999.0,9,     -999.0,9,        2.4,2,       5.74,2,        2.4,2
33RR20160208,       I08S,      79,          1,          5,          5,2,20160310,       2348,   -30.6989,    95.0039,       1607,  1266.4,   3.7827,  34.5158,2,  34.5809,4,    151.5,2,   151.3,2,    67.9,2,    0.00,2,   34.67,2,    0.00,2,    2.44,2,-999.000,9,-999.000,9,-999.000,9,-999.000000000,9,  2254.2,2, 2339.30,2,   7.5579,2,    24.96,   3.7827, -999.00,9,  -999.0,9,  -999.0, -999.00,9,-999.000,9,  -999.0,9, -999.00,9,     -999.0,9,    5.79,2, 20160310,     2358, -30.6989,  95.0039,     -999.0,9,     -999.0,9,     -999.0,9,-999.0000,9,-999.0000,9,-999.0000,9,-999.0000,9,-999.0000,9,-999.0000,9,-999.0000,9,     -999.0,9,     -999.0,9,       2.47,2,       5.79,2,       2.47,2
33RR20160208,       I08S,      79,          1,          6,         38,2,20160310,       2348,   -30.6989,    95.0039,       1607,  1162.5,   4.0664,  34.4509,2,  34.4513,2,    167.7,2,   168.1,2,    54.5,2,    0.00,2,   33.46,2,    0.00,2,    2.32,2,-999.000,9,-999.000,9,-999.000,9,-999.000000000,9,  2234.6,2, 2323.48,2,   7.5773,2,    24.93,   4.0657, -999.00,9,  -999.0,9,  -999.0, -999.00,9,-999.000,9,  -999.0,9, -999.00,9,     -999.0,9,    5.81,2, 20160311,        1, -30.6989,  95.0039,     -999.0,9,     -999.0,9,     -999.0,9,-999.0000,9,-999.0000,9,-999.0000,9,-999.0000,9,-999.0000,9,-999.0000,9,-999.0000,9,     -999.0,9,     -999.0,9,       2.53,2,       5.81,2,       2.53,2
33RR20160208,       I08S,      79,          1,          7,          7,2,20160310,       2348,   -30.6989,    95.0039,       1607,  1065.8,   4.3518,  34.4115,2,  34.4113,2,    181.9,2,   179.9,2,    44.5,2,    0.00,2,   32.30,2,    0.00,2,    2.24,2,-999.000,9,-999.000,9,-999.000,9,-999.000000000,9,  2219.4,2, 2313.48,2,   7.5930,2,    24.96,   4.3517, -999.00,9,  -999.0,9,  -999.0, -999.00,9,-999.000,9,  -999.0,9, -999.00,9,     -999.0,9,    5.87,2, 20160311,        4, -30.6989,  95.0039,     -999.0,9,     -999.0,9,     -999.0,9,-999.0000,9,-999.0000,9,-999.0000,9,-999.0000,9,-999.0000,9,-999.0000,9,-999.0000,9,     -999.0,9,     -999.0,9,       2.48,2,       5.87,2,       2.48,2
33RR20160208,       I08S,      79,          1,          8,          8,2,20160310,       2348,   -30.6989,    95.0039,       1607,   966.2,   5.3427,  34.4073,2,  34.4088,2,    187.9,2,   187.9,2,    31.0,2,    0.00,2,   29.93,2,    0.00,2,    2.06,2,-999.000,9,-999.000,9,-999.000,9,-999.000000000,9,  2198.7,2, 2299.25,2,   7.6205,2,    24.95,   5.3473, -999.00,9,  -999.0,9,  -999.0, -999.00,9,-999.000,9,  -999.0,9, -999.00,9,     -999.0,9,    5.98,2, 20160311,        7, -30.6989,  95.0039,     -999.0,9,     -999.0,9,     -999.0,9,-999.0000,9,-999.0000,9,-999.0000,9,-999.0000,9,-999.0000,9,-999.0000,9,-999.0000,9,     -999.0,9,     -999.0,9,       2.59,2,       5.98,2,       2.59,2
33RR20160208,       I08S,      79,          1,          9,          9,2,20160310,       2348,   -30.6989,    95.0039,       1607,   866.2,   6.6767,  34.4467,2,  34.4474,2,    200.2,2,   201.0,2,    18.3,2,    0.00,2,   26.20,2,    0.00,2,    1.80,2,-999.000,9,-999.000,9,-999.000,9,-999.000000000,9,  2174.4,2, 2291.54,2,   7.6622,6,    24.94,   6.6773, -999.00,9,  -999.0,9,  -999.0, -999.00,9,-999.000,9,  -999.0,9, -999.00,9,     -999.0,9,    6.12,2, 20160311,        9, -30.6989,  95.0039,     -999.0,9,     -999.0,9,     -999.0,9,-999.0000,9,-999.0000,9,-999.0000,9,-999.0000,9,-999.0000,9,-999.0000,9,-999.0000,9,     -999.0,9,     -999.0,9,       2.73,2,       6.12,2,       2.73,2
33RR20160208,       I08S,      79,          1,         10,         10,2,20160310,       2348,   -30.6989,    95.0039,       1607,   766.4,   8.2580,  34.5580,2,  34.5599,2,    217.4,2,   219.5,2,     8.7,2,    0.00,2,   20.93,2,    0.00,2,    1.43,2,-999.000,9,-999.000,9,-999.000,9,-999.000000000,9,  2152.3,2, 2288.95,2,   7.7194,6,    24.95,   8.2669, -999.00,9,  -999.0,9,  -999.0, -999.00,9,-999.000,9,  -999.0,9, -999.00,9,     -999.0,9,    6.38,2, 20160311,       12, -30.6989,  95.0039,     -999.0,9,     -999.0,9,     -999.0,9,-999.0000,9,-999.0000,9,-999.0000,9,-999.0000,9,-999.0000,9,-999.0000,9,-999.0000,9,     -999.0,9,     -999.0,9,       3.34,2,       6.38,2,       3.34,2
33RR20160208,       I08S,      79,          1,         11,         11,2,20160310,       2348,   -30.6989,    95.0039,       1607,   664.7,   9.2374,  34.6614,2,  34.6617,2,    234.0,2,   234.1,2,     4.8,2,    0.00,2,   17.06,2,    0.00,2,    1.19,2,-999.000,9,-999.000,9,-999.000,9,-999.000000000,9,  2136.3,2, 2291.63,2,   7.7595,2,    24.95,   9.2386, -999.00,9,  -999.0,9,  -999.0, -999.00,9,-999.000,9,  -999.0,9, -999.00,9,     -999.0,9,    6.68,2, 20160311,       15, -30.6989,  95.0039,     -999.0,9,     -999.0,9,     -999.0,9,-999.0000,9,-999.0000,9,-999.0000,9,-999.0000,9,-999.0000,9,-999.0000,9,-999.0000,9,     -999.0,9,     -999.0,9,        3.8,2,       6.68,2,        3.8,2
33RR20160208,       I08S,      79,          1,         12,         12,2,20160310,       2348,   -30.6989,    95.0039,       1607,   564.4,   9.9700,  34.7610,2,  34.7610,2,    240.7,2,   241.2,2,     3.6,2,    0.00,2,   14.37,2,    0.00,2,    1.02,2,-999.000,9,-999.000,9,-999.000,9,-999.000000000,9,  2129.1,6, 2295.83,2,   7.7866,2,    24.95,   9.9700, -999.00,9,  -999.0,9,  -999.0, -999.00,9,-999.000,9,  -999.0,9, -999.00,9,     -999.0,9,    6.95,2, 20160311,       18, -30.6989,  95.0039,     -999.0,9,     -999.0,9,     -999.0,9,-999.0000,9,-999.0000,9,-999.0000,9,-999.0000,9,-999.0000,9,-999.0000,9,-999.0000,9,     -999.0,9,     -999.0,9,       4.24,2,       6.95,2,       4.24,2
33RR20160208,       I08S,      79,          1,         13,         13,2,20160310,       2348,   -30.6989,    95.0039,       1607,   464.1,  10.7351,  34.8761,2,  34.8761,2,    243.5,2,   244.1,2,     3.2,2,    0.00,2,   12.08,2,    0.00,2,    0.90,2,-999.000,9,-999.000,9,-999.000,9,-999.000000000,9,  2123.1,2, 2302.88,2,   7.8100,2,    24.96,  10.7335, -999.00,9,  -999.0,9,  -999.0, -999.00,9,-999.000,9,  -999.0,9, -999.00,9,     -999.0,9,    7.16,2, 20160311,       20, -30.6989,  95.0039,     -999.0,9,     -999.0,9,     -999.0,9,-999.0000,9,-999.0000,9,-999.0000,9,-999.0000,9,-999.0000,9,-999.0000,9,-999.0000,9,     -999.0,9,     -999.0,9,       4.55,2,       7.16,2,       4.55,2
33RR20160208,       I08S,      79,          1,         14,         14,2,20160310,       2348,   -30.6989,    95.0039,       1607,   384.9,  11.2255,  34.9495,2,  34.9495,2,    244.8,2,   243.7,2,     3.0,2,    0.00,2,   10.92,2,    0.00,2,    0.79,2,-999.000,9,-999.000,9,-999.000,9,-999.000000000,9,  2122.4,2, 2305.49,2,   7.8204,2,    24.95,  11.2248, -999.00,9,  -999.0,9,  -999.0, -999.00,9,-999.000,9,  -999.0,9, -999.00,9,     -999.0,9,     7.2,2, 20160311,       23, -30.6989,  95.0039,     -999.0,9,     -999.0,9,     -999.0,9,-999.0000,9,-999.0000,9,-999.0000,9,-999.0000,9,-999.0000,9,-999.0000,9,-999.0000,9,     -999.0,9,     -999.0,9,       4.77,2,        7.2,2,       4.77,2
33RR20160208,       I08S,      79,          1,         15,         15,2,20160310,       2348,   -30.6989,    95.0039,       1607,   334.4,  11.5964,  35.0036,2,  35.0038,2,    239.8,2,   240.3,2,     2.4,2,    0.00,2,   10.03,2,    0.00,2,    0.74,2,-999.000,9,-999.000,9,-999.000,9,-999.000000000,9,  2120.7,2, 2307.76,2,   7.8267,2,    24.96,  11.5959, -999.00,9,  -999.0,9,  -999.0, -999.00,9,-999.000,9,  -999.0,9, -999.00,9,     -999.0,9,    7.45,2, 20160311,       25, -30.6989,  95.0039,     -999.0,9,     -999.0,9,     -999.0,9,-999.0000,9,-999.0000,9,-999.0000,9,-999.0000,9,-999.0000,9,-999.0000,9,-999.0000,9,     -999.0,9,     -999.0,9,       4.97,2,       7.45,2,       4.97,2
33RR20160208,       I08S,      79,          1,         16,         16,2,20160310,       2348,   -30.6989,    95.0039,       1607,   284.6,  12.2620,  35.1060,2,  35.1054,2,    234.6,2,   234.8,2,     1.8,2,    0.00,2,    8.43,2,    0.00,2,    0.64,2,-999.000,9,-999.000,9,-999.000,9,-999.000000000,9,  2118.2,2, 2313.86,2,   7.8414,2,    24.96,  12.2626, -999.00,9,  -999.0,9,  -999.0, -999.00,9,-999.000,9,  -999.0,9, -999.00,9,     -999.0,9,    7.66,2, 20160311,       27, -30.6989,  95.0039,     -999.0,9,     -999.0,9,     -999.0,9,-999.0000,9,-999.0000,9,-999.0000,9,-999.0000,9,-999.0000,9,-999.0000,9,-999.0000,9,     -999.0,9,     -999.0,9,       4.86,2,       7.66,2,       4.86,2
33RR20160208,       I08S,      79,          1,         17,         17,2,20160310,       2348,   -30.6989,    95.0039,       1607,   235.1,  13.1601,  35.2095,2,  35.2114,2,    236.8,2,   233.3,2,     1.4,2,    0.00,2,    6.54,2,    0.01,2,    0.56,2,-999.000,9,-999.000,9,-999.000,9,-999.000000000,9,  2114.5,2, 2320.37,2,   7.8618,2,    24.96,  13.1717, -999.00,9,  -999.0,9,  -999.0, -999.00,9,-999.000,9,  -999.0,9, -999.00,9,     -999.0,9,    8.38,2, 20160311,       29, -30.6989,  95.0039,     -999.0,9,     -999.0,9,     -999.0,9,-999.0000,9,-999.0000,9,-999.0000,9,-999.0000,9,-999.0000,9,-999.0000,9,-999.0000,9,     -999.0,9,     -999.0,9,       5.54,2,       8.38,2,       5.54,2
33RR20160208,       I08S,      79,          1,         18,         37,2,20160310,       2348,   -30.6989,    95.0039,       1607,   183.2,  14.2912,  35.3616,2,  35.3642,2,    240.0,2,   238.0,2,     0.9,2,    0.00,2,    3.19,2,    0.35,2,    0.38,2,-999.000,9,-999.000,9,-999.000,9,-999.000000000,9,  2104.2,2, 2328.61,2,   7.8996,2,    24.95,  14.2976, -999.00,9,  -999.0,9,  -999.0, -999.00,9,-999.000,9,  -999.0,9, -999.00,9,     -999.0,9,    10.6,2, 20160311,       31, -30.6989,  95.0039,     -999.0,9,     -999.0,9,     -999.0,9,-999.0000,9,-999.0000,9,-999.0000,9,-999.0000,9,-999.0000,9,-999.0000,9,-999.0000,9,     -999.0,9,     -999.0,9,       7.39,2,       9.71,2,       8.66,2
33RR20160208,       I08S,      79,          1,         19,         19,2,20160310,       2348,   -30.6989,    95.0039,       1607,   135.4,  15.6994,  35.5253,2,  35.5235,2,    253.6,2,   253.2,2,     0.4,2,    0.04,2,    0.00,2,    0.00,2,    0.16,2,-999.000,9,-999.000,9,-999.000,9,-999.000000000,9,  2086.1,2, 2339.40,6,   7.9513,2,    24.96,  15.6855, -999.00,9,  -999.0,9,  -999.0, -999.00,9,-999.000,9,  -999.0,9, -999.00,9,     -999.0,9, -999.00,9, 20160311,       33, -30.6989,  95.0039,     -999.0,9,     -999.0,9,     -999.0,9,-999.0000,9,-999.0000,9,-999.0000,9,-999.0000,9,-999.0000,9,-999.0000,9,-999.0000,9,     -999.0,9,     -999.0,9,     -999.0,9,     -999.0,9,     -999.0,9
33RR20160208,       I08S,      79,          1,         20,         20,2,20160310,       2348,   -30.6989,    95.0039,       1607,    87.3,  19.7491,  35.8339,2,  35.8336,2,    240.7,2,   237.9,2,     1.1,2,    0.00,2,    0.00,2,    0.00,2,    0.06,2,-999.000,9,-999.000,9,-999.000,9,-999.000000000,9,  2065.2,2, 2352.85,2,   8.0067,2,    24.96,  19.7546, -999.00,9,  -999.0,9,  -999.0, -999.00,9,-999.000,9,  -999.0,9, -999.00,9,     -999.0,9, -999.00,9, 20160311,       35, -30.6989,  95.0039,     -999.0,9,     -999.0,9,     -999.0,9,-999.0000,9,-999.0000,9,-999.0000,9,-999.0000,9,-999.0000,9,-999.0000,9,-999.0000,9,     -999.0,9,     -999.0,9,     -999.0,9,     -999.0,9,     -999.0,9
33RR20160208,       I08S,      79,          1,         21,         21,2,20160310,       2348,   -30.6989,    95.0039,       1607,    64.6,  21.3496,  35.8830,2,  35.8858,2,    229.9,2,   232.4,2,     1.2,2,    0.00,2,    0.00,2,    0.00,2,    0.05,2,-999.000,9,-999.000,9,-999.000,9,-999.000000000,9,  2060.7,2, 2356.50,2,   8.0168,6,    24.96,  21.3009, -999.00,9,  -999.0,9,  -999.0, -999.00,9,-999.000,9,  -999.0,9, -999.00,9,     -999.0,9, -999.00,9, 20160311,       37, -30.6989,  95.0039,     -999.0,9,     -999.0,9,     -999.0,9,-999.0000,9,-999.0000,9,-999.0000,9,-999.0000,9,-999.0000,9,-999.0000,9,-999.0000,9,     -999.0,9,     -999.0,9,     -999.0,9,     -999.0,9,     -999.0,9
33RR20160208,       I08S,      79,          1,         22,         22,2,20160310,       2348,   -30.6989,    95.0039,       1607,    41.2,  22.9599,  35.9762,2,  35.9750,2,    217.5,2,   216.0,2,     1.4,2,    0.00,2,    0.00,2,    0.00,2,    0.04,2,-999.000,9,-999.000,9,-999.000,9,-999.000000000,9,  2058.3,2, 2360.15,2,   8.0280,6,    24.96,  22.9563, -999.00,9,  -999.0,9,  -999.0, -999.00,9,-999.000,9,  -999.0,9, -999.00,9,     -999.0,9, -999.00,9, 20160311,       39, -30.6989,  95.0039,     -999.0,9,     -999.0,9,     -999.0,9,-999.0000,9,-999.0000,9,-999.0000,9,-999.0000,9,-999.0000,9,-999.0000,9,-999.0000,9,     -999.0,9,     -999.0,9,     -999.0,9,     -999.0,9,     -999.0,9
33RR20160208,       I08S,      79,          1,         23,         23,2,20160310,       2348,   -30.6989,    95.0039,       1607,    21.1,  22.9685,  35.9760,2,  35.9748,2,    217.7,2,   215.7,2,     1.4,2,    0.00,2,    0.00,2,    0.00,2,    0.03,2,-999.000,9,-999.000,9,-999.000,9,-999.000000000,9,  2058.0,2, 2360.56,2,   8.0281,2,    24.97,  22.9697, -999.00,9,  -999.0,9,  -999.0, -999.00,9,-999.000,9,  -999.0,9, -999.00,9,     -999.0,9, -999.00,9, 20160311,       41, -30.6989,  95.0039,     -999.0,9,     -999.0,9,     -999.0,9,-999.0000,9,-999.0000,9,-999.0000,9,-999.0000,9,-999.0000,9,-999.0000,9,-999.0000,9,     -999.0,9,     -999.0,9,     -999.0,9,     -999.0,9,     -999.0,9
33RR20160208,       I08S,      79,          1,         24,         24,2,20160310,       2348,   -30.6989,    95.0039,       1607,     4.3,  22.9797,  35.9752,2,  35.9716,2,    217.4,2,   215.9,2,     1.4,2,    0.02,2,    0.00,2,    0.00,2,    0.07,2,-999.000,9,-999.000,9,-999.000,9,-999.000000000,9,  2059.9,6, 2360.28,2,   8.0279,2,    24.97,  22.9785, -999.00,9,  -999.0,9,  -999.0, -999.00,9,-999.000,9,  -999.0,9, -999.00,9,     -999.0,9, -999.00,9, 20160311,       42, -30.6989,  95.0039,     -999.0,9,     -999.0,9,     -999.0,9,-999.0000,9,-999.0000,9,-999.0000,9,-999.0000,9,-999.0000,9,-999.0000,9,-999.0000,9,     -999.0,9,     -999.0,9,     -999.0,9,     -999.0,9,     -999.0,9