BOTTLE,20220706CCHSIOAMB
EXPOCODE,SECT_ID,STNNBR,CASTNO,SAMPNO,BTLNBR,BTLNBR_FLAG_W,DATE,TIME,LATITUDE,LONGITUDE,DEPTH,CTDPRS,CTDTMP,CTDSAL,CTDSAL_FLAG_W,SALNTY,SALNTY_FLAG_W,CTDOXY,CTDOXY_FLAG_W,OXYGEN,OXYGEN_FLAG_W,SILCAT,SILCAT_FLAG_W,NH4,NH4_FLAG_W,NITRAT,NITRAT_FLAG_W,NITRIT,NITRIT_FLAG_W,PHSPHT,PHSPHT_FLAG_W,CFC-11,CFC-11_FLAG_W,CFC-12,CFC-12_FLAG_W,CFC113,CFC113_FLAG_W,SF6,SF6_FLAG_W,TCARBN,TCARBN_FLAG_W,ALKALI,ALKALI_FLAG_W,PH_TOT,PH_TOT_FLAG_W,PH_TMP,REFTMP,DELC13,DELC13_FLAG_W,DELC14,DELC14_FLAG_W,C14ERR,DELO18,DELO18_FLAG_W,POC,POC_FLAG_W,DOC,DOC_FLAG_W,TDN,TDN_FLAG_W,TON,TON_FLAG_W,D15N_NO3,D15N_NO3_FLAG_W,BTL_DATE,BTL_TIME,BTL_LAT,BTL_LON,14C-DOC,14C-DOC_FLAG_W,CHLORA,CHLORA_FLAG_W,HPLC,HPLC_FLAG_W,CDOM325,CDOM325_FLAG_W,CDOM340,CDOM340_FLAG_W,CDOM380,CDOM380_FLAG_W,CDOM412,CDOM412_FLAG_W,CDOM443,CDOM443_FLAG_W,CDOM490,CDOM490_FLAG_W,CDOM555,CDOM555_FLAG_W,CDOMSL,CDOMSL_FLAG_W,CDOMSN,CDOMSN_FLAG_W,D18O_NO3,D18O_NO3_FLAG_W,D15N_NO2+NO3,D15N_NO2+NO3_FLAG_W,D18O_NO2+NO3,D18O_NO2+NO3_FLAG_W
,,,,,,,,,,,METERS,DBAR,ITS-90,PSS-78,,PSS-78,,UMOL/KG,,UMOL/KG,,UMOL/KG,,UMOL/KG,,UMOL/KG,,UMOL/KG,,UMOL/KG,,PMOL/KG,,PMOL/KG,,PMOL/KG,,FMOL/KG,,UMOL/KG,,UMOL/KG,,,,DEG C,DEG C,/MILLE,,/MILLE,,/MILLE,/MILLE,,UG/KG,,UMOL/KG,,UMOL/KG,,UMOL/KG,,/MILLE,,,,,,/MILLE,,MG/M3,,,,1/M,,1/M,,1/M,,1/M,,1/M,,1/M,,1/M,,1/NM,,1/NM,,/MILLE,,/MILLE,,/MILLE,
33RR20160208,       I08S,      37,          1,          1,          1,2,20160228,       1145,   -52.5310,    87.9540,       4405,  2044.1,   1.2616,  34.7300,2,  34.7317,2,    205.6,2,   206.0,2,   101.8,2,    0.00,2,   30.81,2,    0.00,2,    2.13,2,   0.220,2,   0.125,2,   0.006,2,         0.017,2,  2255.1,6, 2358.29,3,   7.6069,2,    24.99,   1.2611, -999.00,9,  -999.0,9,  -999.0, -999.00,1,-999.000,9,  -999.0,9, -999.00,9,     -999.0,9,    4.81,2, 20160228,     1145, -52.5310,  87.9541,     -999.0,9,     -999.0,9,     -999.0,9,-999.0000,9,-999.0000,9,-999.0000,9,-999.0000,9,-999.0000,9,-999.0000,9,-999.0000,9,     -999.0,9,     -999.0,9,       1.96,2,       4.81,2,       1.96,2
33RR20160208,       I08S,      37,          1,          2,          2,2,20160228,       1145,   -52.5310,    87.9540,       4405,  1936.1,   1.3461,  34.7338,2,  34.7335,2,    204.9,2,   204.9,2,    99.3,2,    0.00,2,   30.68,2,    0.00,2,    2.11,2,   0.213,2,   0.120,2,   0.005,2,         0.035,2,  2252.2,2, 2355.19,2,   7.6094,2,    24.98,   1.3460, -999.00,9,  -999.0,9,  -999.0, -999.00,1,-999.000,9,  -999.0,9, -999.00,9,     -999.0,9,    4.81,2, 20160228,     1236, -52.5310,  87.9540,     -999.0,9,     -999.0,9,     -999.0,9,-999.0000,9,-999.0000,9,-999.0000,9,-999.0000,9,-999.0000,9,-999.0000,9,-999.0000,9,     -999.0,9,     -999.0,9,       1.94,2,       4.81,2,       1.94,2
33RR20160208,       I08S,      37,          1,          3,          3,2,20160228,       1145,   -52.5310,    87.9540,       4405,  1735.5,   1.5634,  34.7414,2,  34.7410,2,    202.6,2,   202.8,2,    93.0,2,    0.00,2,   30.32,2,    0.00,2,    2.10,2,   0.213,2,   0.121,2,   0.005,2,         0.016,2,  2249.2,2, 2353.16,6,   7.6105,2,    24.96,   1.5634, -999.00,9,  -999.0,9,  -999.0, -999.00,1,-999.000,9,  -999.0,9, -999.00,9,     -999.0,9,    4.86,2, 20160228,     1302, -52.5310,  87.9541,     -999.0,9,     -999.0,9,     -999.0,9,-999.0000,9,-999.0000,9,-999.0000,9,-999.0000,9,-999.0000,9,-999.0000,9,-999.0000,9,     -999.0,9,     -999.0,9,        1.9,2,       4.86,2,        1.9,2
33RR20160208,       I08S,      37,          1,          4,          4,2,20160228,       1145,   -52.5310,    87.9540,       4405,  1534.7,   1.7583,  34.7444,2,  34.7449,2,    199.3,2,   199.0,2,    87.3,2,    0.00,2,   30.19,2,    0.00,2,    2.09,2,   0.215,2,   0.123,2,   0.006,2,         0.047,2,  2245.6,2, 2351.14,2,   7.6083,2,    25.00,   1.7653, -999.00,9,  -999.0,9,  -999.0, -999.00,1,-999.000,9,  -999.0,9, -999.00,9,     -999.0,9,    4.88,2, 20160228,     1324, -52.5310,  87.9540,     -999.0,9,     -999.0,9,     -999.0,9,-999.0000,9,-999.0000,9,-999.0000,9,-999.0000,9,-999.0000,9,-999.0000,9,-999.0000,9,     -999.0,9,     -999.0,9,       1.86,2,       4.88,2,       1.86,2
33RR20160208,       I08S,      37,          1,          5,          5,2,20160228,       1145,   -52.5310,    87.9540,       4405,  1462.8,   1.8530,  34.7416,2,  34.7420,2,    198.2,2,   198.1,2,    84.8,2,    0.00,2,   30.34,2,    0.00,2,    2.10,2,   0.227,2,   0.129,2,   0.006,2,         0.046,2,  -999.0,9, -999.00,9,-999.0000,9,  -999.00,   1.8525, -999.00,9,  -999.0,9,  -999.0, -999.00,1,-999.000,9,  -999.0,9, -999.00,9,     -999.0,9,    4.93,2, 20160228,     1332, -52.5310,  87.9540,     -999.0,9,     -999.0,9,     -999.0,9,-999.0000,9,-999.0000,9,-999.0000,9,-999.0000,9,-999.0000,9,-999.0000,9,-999.0000,9,     -999.0,9,     -999.0,9,       1.89,2,       4.93,2,       1.89,2
33RR20160208,       I08S,      37,          1,          6,         38,2,20160228,       1145,   -52.5310,    87.9540,       4405,  1366.2,   1.8892,  34.7369,2,  34.7372,2,    195.9,2,   195.4,2,    83.9,2,    0.00,2,   30.49,2,    0.00,2,    2.11,2,   0.251,2,   0.142,2,   0.008,2,         0.078,2,  2248.4,2, 2348.65,2,   7.6012,2,    24.98,   1.8893, -999.00,9,  -999.0,9,  -999.0, -999.00,1,-999.000,9,  -999.0,9, -999.00,9,     -999.0,9,    4.92,2, 20160228,     1343, -52.5310,  87.9541,     -999.0,9,     -999.0,9,     -999.0,9,-999.0000,9,-999.0000,9,-999.0000,9,-999.0000,9,-999.0000,9,-999.0000,9,-999.0000,9,     -999.0,9,     -999.0,9,       1.97,2,       4.92,2,       1.97,2
33RR20160208,       I08S,      37,          1,          7,          7,2,20160228,       1145,   -52.5310,    87.9540,       4405,  1264.4,   1.9379,  34.7312,2,  34.7321,2,    191.9,2,   193.8,2,    83.0,2,    0.00,2,   30.77,2,    0.00,2,    2.10,2,   0.270,2,   0.154,2,   0.011,2,         0.089,2,  -999.0,9, -999.00,9,-999.0000,9,  -999.00,   1.9376, -999.00,9,  -999.0,9,  -999.0, -999.00,1,-999.000,9,  -999.0,9, -999.00,9,     -999.0,9,    4.94,2, 20160228,     1355, -52.5310,  87.9540,     -999.0,9,     -999.0,9,     -999.0,9,-999.0000,9,-999.0000,9,-999.0000,9,-999.0000,9,-999.0000,9,-999.0000,9,-999.0000,9,     -999.0,9,     -999.0,9,       1.93,2,       4.94,2,       1.93,2
33RR20160208,       I08S,      37,          1,          8,          8,2,20160228,       1145,   -52.5310,    87.9540,       4405,  1166.6,   1.9975,  34.7202,2,  34.7210,2,    190.0,2,   190.4,2,    81.8,2,    0.00,2,   31.15,2,    0.00,2,    2.15,2,   0.315,2,   0.179,2,   0.013,2,         0.098,2,  2248.8,6, 2345.97,2,   7.5901,2,    24.98,   1.9973, -999.00,9,  -999.0,9,  -999.0, -999.00,1,-999.000,9,  -999.0,9, -999.00,9,     -999.0,9,    4.93,2, 20160228,     1406, -52.5310,  87.9541,     -999.0,9,     -999.0,9,     -999.0,9,-999.0000,9,-999.0000,9,-999.0000,9,-999.0000,9,-999.0000,9,-999.0000,9,-999.0000,9,     -999.0,9,     -999.0,9,       1.91,2,       4.93,2,       1.91,2
33RR20160208,       I08S,      37,          1,          9,          9,2,20160228,       1145,   -52.5310,    87.9540,       4405,  1065.4,   2.0986,  34.6995,2,  34.7000,2,    187.3,2,   186.7,2,    79.1,2,    0.10,2,   31.60,2,    0.00,2,    2.16,2,   0.364,2,   0.204,2,   0.019,2,         0.093,2,  -999.0,9, -999.00,9,-999.0000,9,     9.00,   2.0986, -999.00,9,  -999.0,9,  -999.0, -999.00,1,-999.000,9,  -999.0,9, -999.00,9,     -999.0,9,    4.94,2, 20160228,     1418, -52.5310,  87.9541,     -999.0,9,     -999.0,9,     -999.0,9,-999.0000,9,-999.0000,9,-999.0000,9,-999.0000,9,-999.0000,9,-999.0000,9,-999.0000,9,     -999.0,9,     -999.0,9,       2.04,2,       4.94,2,       2.04,2
33RR20160208,       I08S,      37,          1,         10,         10,2,20160228,       1145,   -52.5310,    87.9540,       4405,   965.9,   2.1488,  34.6857,2,  34.6848,2,    184.7,2,   186.2,2,    77.7,2,    0.00,2,   31.79,2,    0.00,2,    2.20,2,   0.406,2,   0.230,2,   0.021,2,         0.129,2,  2251.8,2, 2343.01,2,   7.5781,2,    24.99,   2.1493, -999.00,9,  -999.0,9,  -999.0, -999.00,1,-999.000,9,  -999.0,9, -999.00,9,     -999.0,9,    4.98,2, 20160228,     1428, -52.5310,  87.9540,     -999.0,9,     -999.0,9,     -999.0,9,-999.0000,9,-999.0000,9,-999.0000,9,-999.0000,9,-999.0000,9,-999.0000,9,-999.0000,9,     -999.0,9,     -999.0,9,       1.84,2,       4.98,2,       1.84,2
33RR20160208,       I08S,      37,          1,         11,         11,2,20160228,       1145,   -52.5310,    87.9540,       4405,   866.1,   2.2994,  34.6667,2,  34.6672,2,    182.3,2,   182.4,2,    74.4,2,    0.00,2,   32.01,2,    0.00,2,    2.21,2,   0.401,2,   0.223,2,   0.019,2,         0.145,2,  2250.7,2, 2340.13,2,   7.5759,6,    24.99,   2.2984, -999.00,9,  -999.0,9,  -999.0, -999.00,1,-999.000,9,  -999.0,9, -999.00,9,     -999.0,9,     5.0,2, 20160228,     1437, -52.5310,  87.9541,     -999.0,9,     -999.0,9,     -999.0,9,-999.0000,9,-999.0000,9,-999.0000,9,-999.0000,9,-999.0000,9,-999.0000,9,-999.0000,9,     -999.0,9,     -999.0,9,       2.04,2,        5.0,2,       2.04,2
33RR20160208,       I08S,      37,          1,         12,         12,2,20160228,       1145,   -52.5310,    87.9540,       4405,   764.5,   2.3156,  34.6169,2,  34.6166,2,    178.9,2,   178.7,2,    72.7,2,    0.00,2,   33.05,2,    0.00,2,    2.29,2,   0.595,2,   0.324,2,   0.037,2,         0.187,2,  2251.5,2, 2336.62,2,   7.5592,2,    25.00,   2.3178, -999.00,9,  -999.0,9,  -999.0, -999.00,1,-999.000,9,  -999.0,9, -999.00,9,     -999.0,9,     5.0,2, 20160228,     1446, -52.5310,  87.9540,     -999.0,9,     -999.0,9,     -999.0,9,-999.0000,9,-999.0000,9,-999.0000,9,-999.0000,9,-999.0000,9,-999.0000,9,-999.0000,9,     -999.0,9,     -999.0,9,       2.06,2,        5.0,2,       2.06,2
33RR20160208,       I08S,      37,          1,         13,         13,2,20160228,       1145,   -52.5310,    87.9540,       4405,   665.0,   2.1644,  34.5452,2,  34.5468,2,    184.1,2,   183.9,2,    70.5,2,    0.00,2,   33.83,2,    0.00,2,    2.36,2,   1.011,2,   0.543,2,   0.077,2,          0.36,2,  2252.4,2, 2331.19,2,   7.5466,2,    24.98,   2.1620, -999.00,9,  -999.0,9,  -999.0, -999.00,1,-999.000,9,  -999.0,9, -999.00,9,     -999.0,9,    4.97,2, 20160228,     1456, -52.5311,  87.9540,     -999.0,9,     -999.0,9,     -999.0,9,-999.0000,9,-999.0000,9,-999.0000,9,-999.0000,9,-999.0000,9,-999.0000,9,-999.0000,9,     -999.0,9,     -999.0,9,        2.0,2,       4.97,2,        2.0,2
33RR20160208,       I08S,      37,          1,         14,         14,2,20160228,       1145,   -52.5310,    87.9540,       4405,   563.9,   2.1371,  34.4634,2,  34.4648,2,    193.0,2,   191.1,2,    65.3,2,    0.00,2,   34.15,2,    0.00,2,    2.35,2,   1.496,2,   0.772,2,   0.115,2,         0.508,2,  2247.0,2, 2323.88,2,   7.5448,2,    24.99,   2.1394, -999.00,9,  -999.0,9,  -999.0, -999.00,1,-999.000,9,  -999.0,9, -999.00,9,     -999.0,9,    5.03,2, 20160228,     1505, -52.5311,  87.9540,     -999.0,9,     -999.0,9,     -999.0,9,-999.0000,9,-999.0000,9,-999.0000,9,-999.0000,9,-999.0000,9,-999.0000,9,-999.0000,9,     -999.0,9,     -999.0,9,       2.21,2,       5.03,2,       2.21,2
33RR20160208,       I08S,      37,          1,         15,         15,2,20160228,       1145,   -52.5310,    87.9540,       4405,   483.9,   2.0042,  34.3505,2,  34.3523,2,    215.5,2,   211.5,2,    56.9,2,    0.00,2,   33.72,2,    0.00,2,    2.35,2,   2.258,2,   1.186,2,   0.181,2,         0.923,2,  2235.0,2, 2314.95,2,   7.5545,2,    25.00,   2.0021, -999.00,9,  -999.0,9,  -999.0, -999.00,1,-999.000,9,  -999.0,9, -999.00,9,     -999.0,9,    5.13,2, 20160228,     1513, -52.5311,  87.9541,     -999.0,9,     -999.0,9,     -999.0,9,-999.0000,9,-999.0000,9,-999.0000,9,-999.0000,9,-999.0000,9,-999.0000,9,-999.0000,9,     -999.0,9,     -999.0,9,       2.21,2,       5.13,2,       2.21,2
33RR20160208,       I08S,      37,          1,         16,         16,2,20160228,       1145,   -52.5310,    87.9540,       4405,   434.6,   2.3279,  34.3514,2,  34.3482,2,    204.6,2,   206.1,2,    54.1,2,    0.00,2,   33.73,2,    0.00,2,    2.33,2,   2.121,2,   1.087,2,   0.169,2,         0.753,2,  2233.6,2, 2313.39,2,   7.5566,6,    24.99,   2.3272, -999.00,9,  -999.0,9,  -999.0, -999.00,1,-999.000,9,  -999.0,9, -999.00,9,     -999.0,9,    5.02,2, 20160228,     1518, -52.5311,  87.9540,     -999.0,9,     -999.0,9,     -999.0,9,-999.0000,9,-999.0000,9,-999.0000,9,-999.0000,9,-999.0000,9,-999.0000,9,-999.0000,9,     -999.0,9,     -999.0,9,       2.12,2,       5.02,2,       2.12,2
33RR20160208,       I08S,      37,          1,         17,         17,2,20160228,       1145,   -52.5310,    87.9540,       4405,   386.1,   2.3477,  34.2922,2,  34.2912,2,    217.6,2,   215.0,2,    48.6,2,    0.00,2,   33.16,2,    0.00,2,    2.30,2,   2.535,2,   1.318,2,   0.203,2,         0.927,2,  -999.0,9, -999.00,9,-999.0000,9,  -999.00,   2.3520, -999.00,9,  -999.0,9,  -999.0, -999.00,1,-999.000,9,  -999.0,9, -999.00,9,     -999.0,9,    5.27,2, 20160228,     1522, -52.5311,  87.9540,     -999.0,9,     -999.0,9,     -999.0,9,-999.0000,9,-999.0000,9,-999.0000,9,-999.0000,9,-999.0000,9,-999.0000,9,-999.0000,9,     -999.0,9,     -999.0,9,       2.37,2,       5.27,2,       2.37,2
33RR20160208,       I08S,      37,          1,         18,         37,2,20160228,       1145,   -52.5310,    87.9540,       4405,   334.1,   2.3778,  34.2187,2,  34.2162,2,    233.3,2,   233.4,2,    40.5,2,    0.00,2,   32.13,2,    0.00,2,    2.21,2,   3.151,2,   1.643,2,   0.257,2,         1.189,2,  2212.3,2, 2301.35,2,   7.5841,6,    25.00,   2.3662, -999.00,9,  -999.0,9,  -999.0, -999.00,1,-999.000,9,  -999.0,9, -999.00,9,     -999.0,9,    5.36,2, 20160228,     1527, -52.5311,  87.9540,     -999.0,9,     -999.0,9,     -999.0,9,-999.0000,9,-999.0000,9,-999.0000,9,-999.0000,9,-999.0000,9,-999.0000,9,-999.0000,9,     -999.0,9,     -999.0,9,        2.5,2,       5.36,2,        2.5,2
33RR20160208,       I08S,      37,          1,         19,         19,2,20160228,       1145,   -52.5310,    87.9540,       4405,   283.2,   2.2898,  34.1364,2,  34.1369,2,    254.0,2,   256.3,2,    33.8,2,    0.00,2,   30.85,2,    0.00,2,    2.12,2,   3.945,2,   1.961,2,   0.297,2,         1.615,2,  2196.8,2, 2294.24,2,   7.6032,2,    24.98,   2.2991, -999.00,9,  -999.0,9,  -999.0, -999.00,1,-999.000,9,  -999.0,9, -999.00,9,     -999.0,9,    5.41,2, 20160228,     1532, -52.5312,  87.9541,     -999.0,9,     -999.0,9,     -999.0,9,-999.0000,9,-999.0000,9,-999.0000,9,-999.0000,9,-999.0000,9,-999.0000,9,-999.0000,9,     -999.0,9,     -999.0,9,        2.6,2,       5.41,2,        2.6,2
33RR20160208,       I08S,      37,          1,         20,         20,2,20160228,       1145,   -52.5310,    87.9540,       4405,   236.2,   2.3631,  34.0932,2,  34.0948,2,    269.7,2,   265.7,3,    29.8,2,    0.00,2,   30.14,2,    0.00,2,    2.09,2,   4.059,2,   2.156,2,   0.346,2,         1.913,2,  2192.0,2, 2291.00,2,   7.6145,2,    24.99,   2.3630, -999.00,9,  -999.0,9,  -999.0, -999.00,1,-999.000,9,  -999.0,9, -999.00,9,     -999.0,9,    5.45,2, 20160228,     1537, -52.5311,  87.9540,     -999.0,9,     -999.0,9,     -999.0,9,-999.0000,9,-999.0000,9,-999.0000,9,-999.0000,9,-999.0000,9,-999.0000,9,-999.0000,9,     -999.0,9,     -999.0,9,        2.8,2,       5.45,2,        2.8,2
33RR20160208,       I08S,      37,          1,         21,         21,2,20160228,       1145,   -52.5310,    87.9540,       4405,   186.0,   2.5385,  34.0125,2,  34.0091,2,    285.9,2,   287.0,2,    23.2,2,    0.00,2,   28.73,2,    0.00,2,    1.98,2,   4.535,2,   2.496,2,   0.407,2,         2.422,2,  2174.9,2, 2285.35,2,   7.6401,2,    24.98,   2.5392, -999.00,9,  -999.0,9,  -999.0, -999.00,1,-999.000,9,  -999.0,9, -999.00,9,     -999.0,9,    5.58,2, 20160228,     1542, -52.5311,  87.9540,     -999.0,9,     -999.0,9,     -999.0,9,-999.0000,9,-999.0000,9,-999.0000,9,-999.0000,9,-999.0000,9,-999.0000,9,-999.0000,9,     -999.0,9,     -999.0,9,       3.02,2,       5.58,2,       3.02,2
33RR20160208,       I08S,      37,          1,         22,         22,2,20160228,       1145,   -52.5310,    87.9540,       4405,   140.4,   3.0457,  33.9618,2,  33.9620,2,    294.3,2,   295.8,2,    18.5,2,    0.00,2,   27.22,2,    0.09,2,    1.89,2,   4.635,2,   2.550,2,   0.419,2,         2.637,2,  2165.7,2, 2282.68,2,   7.6624,2,    24.97,   3.0450, -999.00,9,  -999.0,9,  -999.0, -999.00,1,-999.000,9,  -999.0,9, -999.00,9,     -999.0,9,    5.76,2, 20160228,     1547, -52.5311,  87.9540,     -999.0,9,     -999.0,9,     -999.0,9,-999.0000,9,-999.0000,9,-999.0000,9,-999.0000,9,-999.0000,9,-999.0000,9,-999.0000,9,     -999.0,9,     -999.0,9,       3.12,2,       5.69,2,       3.17,2
33RR20160208,       I08S,      37,          1,         23,         23,2,20160228,       1145,   -52.5310,    87.9540,       4405,   113.9,   3.3240,  33.8935,2,  33.8924,2,    303.6,2,   308.0,2,    15.3,2,    0.21,2,   25.37,2,    0.21,2,    1.78,2,   4.853,2,   2.670,2,   0.451,2,         2.858,2,  2154.7,2, 2280.16,2,   7.6896,2,    24.99,   3.2813, -999.00,9,  -999.0,9,  -999.0, -999.00,1,-999.000,9,  -999.0,9, -999.00,9,     -999.0,9,     6.3,2, 20160228,     1549, -52.5311,  87.9540,     -999.0,9,     -999.0,9,     -999.0,9,-999.0000,9,-999.0000,9,-999.0000,9,-999.0000,9,-999.0000,9,-999.0000,9,-999.0000,9,     -999.0,9,     -999.0,9,       3.43,2,        6.0,2,       3.61,2
33RR20160208,       I08S,      37,          1,         24,         24,2,20160228,       1145,   -52.5310,    87.9540,       4405,    89.5,   3.9534,  33.8724,2,  33.8754,2,    308.5,2,   309.7,2,    11.1,2,    0.36,2,   23.75,2,    0.23,2,    1.67,2,   4.626,2,   2.544,2,   0.432,2,         2.797,2,  2146.8,2, 2279.94,2,   7.7119,2,    24.99,   4.0229, -999.00,9,  -999.0,9,  -999.0, -999.00,1,-999.000,9,  -999.0,9, -999.00,9,     -999.0,9,    6.68,2, 20160228,     1554, -52.5311,  87.9540,     -999.0,9,     -999.0,9,     -999.0,9,-999.0000,9,-999.0000,9,-999.0000,9,-999.0000,9,-999.0000,9,-999.0000,9,-999.0000,9,     -999.0,9,     -999.0,9,       3.65,2,        6.3,2,       3.91,2
33RR20160208,       I08S,      37,          1,         25,         25,2,20160228,       1145,   -52.5310,    87.9540,       4405,    66.9,   4.5661,  33.8719,2,  33.8732,2,    309.9,2,   311.5,2,     7.3,2,    0.33,2,   22.30,2,    0.22,2,    1.56,2,   4.582,2,   2.535,2,   0.428,2,         2.687,2,  2135.1,2, 2277.88,2,   7.7363,2,    25.01,   4.5636, -999.00,9,  -999.0,9,  -999.0, -999.00,1,-999.000,9,  -999.0,9, -999.00,9,     -999.0,9,    7.23,2, 20160228,     1556, -52.5311,  87.9540,     -999.0,9,     -999.0,9,     -999.0,9,-999.0000,9,-999.0000,9,-999.0000,9,-999.0000,9,-999.0000,9,-999.0000,9,-999.0000,9,     -999.0,9,     -999.0,9,       3.97,2,       6.76,2,       4.16,2
33RR20160208,       I08S,      37,          1,         26,         26,2,20160228,       1145,   -52.5310,    87.9540,       4405,    41.2,   4.5669,  33.8714,2,  33.8717,2,    309.7,2,   310.9,2,     7.3,2,    0.34,2,   22.26,2,    0.22,2,    1.57,2,   4.445,2,   2.464,2,   0.417,2,         2.584,2,  2137.2,2, 2277.66,6,   7.7365,6,    24.98,   4.5671, -999.00,9,  -999.0,9,  -999.0, -999.00,1,-999.000,9,  -999.0,9, -999.00,9,     -999.0,9,    7.17,2, 20160228,     1559, -52.5311,  87.9540,     -999.0,9,     -999.0,9,     -999.0,9,-999.0000,9,-999.0000,9,-999.0000,9,-999.0000,9,-999.0000,9,-999.0000,9,-999.0000,9,     -999.0,9,     -999.0,9,       3.82,2,       6.72,2,       4.16,2
33RR20160208,       I08S,      37,          1,         27,         27,2,20160228,       1145,   -52.5310,    87.9540,       4405,    20.7,   4.5695,  33.8709,2,  33.8717,2,    310.0,2,   310.6,2,     7.2,2,    0.34,2,   22.35,2,    0.22,2,    1.57,2,   4.562,6,   2.531,6,   0.429,6,        2.6845,6,  2137.0,2, 2277.70,2,   7.7373,6,    25.00,   4.5716, -999.00,9,  -999.0,9,  -999.0, -999.00,1,-999.000,9,  -999.0,9, -999.00,9,     -999.0,9,    7.24,2, 20160228,     1601, -52.5311,  87.9540,     -999.0,9,     -999.0,9,     -999.0,9,-999.0000,9,-999.0000,9,-999.0000,9,-999.0000,9,-999.0000,9,-999.0000,9,-999.0000,9,     -999.0,9,     -999.0,9,       4.03,2,       6.75,2,       4.22,2