BOTTLE,20220706CCHSIOAMB
EXPOCODE,SECT_ID,STNNBR,CASTNO,SAMPNO,BTLNBR,BTLNBR_FLAG_W,DATE,TIME,LATITUDE,LONGITUDE,DEPTH,CTDPRS,CTDTMP,CTDSAL,CTDSAL_FLAG_W,SALNTY,SALNTY_FLAG_W,CTDOXY,CTDOXY_FLAG_W,OXYGEN,OXYGEN_FLAG_W,SILCAT,SILCAT_FLAG_W,NH4,NH4_FLAG_W,NITRAT,NITRAT_FLAG_W,NITRIT,NITRIT_FLAG_W,PHSPHT,PHSPHT_FLAG_W,CFC-11,CFC-11_FLAG_W,CFC-12,CFC-12_FLAG_W,CFC113,CFC113_FLAG_W,SF6,SF6_FLAG_W,TCARBN,TCARBN_FLAG_W,ALKALI,ALKALI_FLAG_W,PH_TOT,PH_TOT_FLAG_W,PH_TMP,REFTMP,DELC13,DELC13_FLAG_W,DELC14,DELC14_FLAG_W,C14ERR,DELO18,DELO18_FLAG_W,POC,POC_FLAG_W,DOC,DOC_FLAG_W,TDN,TDN_FLAG_W,TON,TON_FLAG_W,D15N_NO3,D15N_NO3_FLAG_W,BTL_DATE,BTL_TIME,BTL_LAT,BTL_LON,14C-DOC,14C-DOC_FLAG_W,CHLORA,CHLORA_FLAG_W,HPLC,HPLC_FLAG_W,CDOM325,CDOM325_FLAG_W,CDOM340,CDOM340_FLAG_W,CDOM380,CDOM380_FLAG_W,CDOM412,CDOM412_FLAG_W,CDOM443,CDOM443_FLAG_W,CDOM490,CDOM490_FLAG_W,CDOM555,CDOM555_FLAG_W,CDOMSL,CDOMSL_FLAG_W,CDOMSN,CDOMSN_FLAG_W,D18O_NO3,D18O_NO3_FLAG_W,D15N_NO2+NO3,D15N_NO2+NO3_FLAG_W,D18O_NO2+NO3,D18O_NO2+NO3_FLAG_W
,,,,,,,,,,,METERS,DBAR,ITS-90,PSS-78,,PSS-78,,UMOL/KG,,UMOL/KG,,UMOL/KG,,UMOL/KG,,UMOL/KG,,UMOL/KG,,UMOL/KG,,PMOL/KG,,PMOL/KG,,PMOL/KG,,FMOL/KG,,UMOL/KG,,UMOL/KG,,,,DEG C,DEG C,/MILLE,,/MILLE,,/MILLE,/MILLE,,UG/KG,,UMOL/KG,,UMOL/KG,,UMOL/KG,,/MILLE,,,,,,/MILLE,,MG/M3,,,,1/M,,1/M,,1/M,,1/M,,1/M,,1/M,,1/M,,1/NM,,1/NM,,/MILLE,,/MILLE,,/MILLE,
33RR20160208,       I08S,      23,          2,          1,          1,2,20160224,       0821,   -57.9160,    82.2281,       1969,  1982.3,   0.5397,  34.6941,2,  34.6945,2,    210.5,2,   209.1,2,   128.5,2,    0.00,2,   32.34,2,    0.00,2,    2.29,2,   0.271,2,   0.142,2,   0.001,2,   0.100080393,2,  2259.6,2, 2360.36,2,   7.5912,2,    24.99,   0.5393, -999.00,9,  -999.0,9,  -999.0, -999.00,9,-999.000,9,  -999.0,9, -999.00,9,     -999.0,9, -999.00,9, 20160224,      821, -57.9160,  82.2281,     -999.0,9,     -999.0,9,     -999.0,9,   0.1173,2,   0.0814,2,   0.0544,2,   0.0273,2,   0.0151,2,   0.0049,2,   0.0008,2,     0.0139,2,     0.0146,2,     -999.0,9,     -999.0,9,     -999.0,9
33RR20160208,       I08S,      23,          2,          2,          2,2,20160224,       0821,   -57.9160,    82.2281,       1969,  1790.2,   0.6195,  34.6974,2,  34.6978,2,    209.4,2,   209.4,2,   119.3,2,    0.00,2,   32.21,2,    0.00,2,    2.30,2,   0.324,2,   0.176,2,   0.005,2,   0.098058567,2,  2258.8,2, 2357.73,2,   7.5945,2,    24.98,   0.6190, -999.00,9,  -999.0,9,  -999.0, -999.00,9,-999.000,9,  -999.0,9, -999.00,9,     -999.0,9, -999.00,9, 20160224,      825, -57.9160,  82.2281,     -999.0,9,     -999.0,9,     -999.0,9,-999.0000,9,-999.0000,9,-999.0000,9,-999.0000,9,-999.0000,9,-999.0000,9,-999.0000,9,     -999.0,9,     -999.0,9,     -999.0,9,     -999.0,9,     -999.0,9
33RR20160208,       I08S,      23,          2,          3,          3,2,20160224,       0821,   -57.9160,    82.2281,       1969,  1587.6,   0.7567,  34.7054,2,  34.7062,2,    207.5,2,   208.2,2,   115.9,2,    0.00,2,   31.90,2,    0.00,2,    2.26,2,   0.301,2,   0.167,2,   0.003,2,    0.09906948,2,  2255.8,2, 2359.42,2,   7.5960,2,    25.00,   0.7562, -999.00,9,  -999.0,9,  -999.0, -999.00,9,-999.000,9,  -999.0,9, -999.00,9,     -999.0,9, -999.00,9, 20160224,      830, -57.9160,  82.2282,     -999.0,9,     -999.0,9,     -999.0,9,-999.0000,9,-999.0000,9,-999.0000,9,-999.0000,9,-999.0000,9,-999.0000,9,-999.0000,9,     -999.0,9,     -999.0,9,     -999.0,9,     -999.0,9,     -999.0,9
33RR20160208,       I08S,      23,          2,          4,          4,2,20160224,       0821,   -57.9160,    82.2281,       1969,  1398.2,   0.9006,  34.7145,2,  34.7146,2,    205.6,2,   205.7,2,   112.8,2,    0.00,2,   31.90,2,    0.00,2,    2.24,2,-999.000,9,-999.000,9,-999.000,9,-999.000000000,9,  2259.5,2, 2358.12,6,   7.5983,6,    24.98,   0.9016, -999.00,9,  -999.0,9,  -999.0, -999.00,9,-999.000,9,  -999.0,9, -999.00,9,     -999.0,9, -999.00,9, 20160224,      834, -57.9160,  82.2281,     -999.0,9,     -999.0,9,     -999.0,9,   0.1235,2,   0.0962,2,   0.0904,2,   0.0337,2,   0.0166,2,   0.0047,2,   0.0007,2,     0.0077,3,     0.0070,3,     -999.0,9,     -999.0,9,     -999.0,9
33RR20160208,       I08S,      23,          2,          5,          5,2,20160224,       0821,   -57.9160,    82.2281,       1969,  1297.6,   0.9720,  34.7174,2,  34.7176,2,    205.7,2,   208.0,3,   108.1,2,    0.00,2,   31.69,2,    0.00,2,    2.22,2,-999.000,9,-999.000,9,-999.000,9,-999.000000000,9,  -999.0,9, -999.00,9,-999.0000,9,     9.00,   0.9719, -999.00,9,  -999.0,9,  -999.0, -999.00,9,-999.000,9,  -999.0,9, -999.00,9,     -999.0,9, -999.00,9, 20160224,      837, -57.9160,  82.2281,     -999.0,9,     -999.0,9,     -999.0,9,-999.0000,9,-999.0000,9,-999.0000,9,-999.0000,9,-999.0000,9,-999.0000,9,-999.0000,9,     -999.0,9,     -999.0,9,     -999.0,9,     -999.0,9,     -999.0,9
33RR20160208,       I08S,      23,          2,          6,          6,2,20160224,       0821,   -57.9160,    82.2281,       1969,  1200.5,   1.0759,  34.7244,2,  34.7240,2,    204.4,2,   204.5,2,   105.7,2,    0.00,2,   31.47,2,    0.00,2,    2.20,2,-999.000,9,-999.000,9,-999.000,9,-999.000000000,9,  2256.5,6, 2357.17,2,   7.6029,6,    25.01,   1.0758, -999.00,9,  -999.0,9,  -999.0, -999.00,9,-999.000,9,  -999.0,9, -999.00,9,     -999.0,9, -999.00,9, 20160224,      840, -57.9160,  82.2282,     -999.0,9,     -999.0,9,     -999.0,9,   0.1131,2,   0.0856,2,   0.0755,2,   0.0288,2,   0.0141,2,   0.0040,2,   0.0005,4,     0.0090,3,     0.0085,3,     -999.0,9,     -999.0,9,     -999.0,9
33RR20160208,       I08S,      23,          2,          7,          7,2,20160224,       0821,   -57.9160,    82.2281,       1969,  1099.1,   1.1966,  34.7302,2,  34.7303,2,    203.6,2,   203.5,2,   101.9,2,    0.00,2,   31.23,2,    0.00,2,    2.17,2,-999.000,9,-999.000,9,-999.000,9,-999.000000000,9,  -999.0,9, -999.00,9,-999.0000,9,  -999.00,   1.1962, -999.00,9,  -999.0,9,  -999.0, -999.00,9,-999.000,9,  -999.0,9, -999.00,9,     -999.0,9, -999.00,9, 20160224,      843, -57.9160,  82.2281,     -999.0,9,     -999.0,9,     -999.0,9,-999.0000,9,-999.0000,9,-999.0000,9,-999.0000,9,-999.0000,9,-999.0000,9,-999.0000,9,     -999.0,9,     -999.0,9,     -999.0,9,     -999.0,9,     -999.0,9
33RR20160208,       I08S,      23,          2,          8,          8,2,20160224,       0821,   -57.9160,    82.2281,       1969,   999.2,   1.3179,  34.7356,2,  34.7356,2,    202.3,2,   203.2,2,    97.9,2,    0.00,2,   30.90,2,    0.00,2,    2.14,2,-999.000,9,-999.000,9,-999.000,9,-999.000000000,9,  2250.9,2, 2355.10,2,   7.6076,2,    25.00,   1.3178, -999.00,9,  -999.0,9,  -999.0, -999.00,9,-999.000,9,  -999.0,9, -999.00,9,     -999.0,9, -999.00,9, 20160224,      845, -57.9160,  82.2283,     -999.0,9,     -999.0,9,     -999.0,9,   0.1130,2,   0.0762,2,   0.0440,2,   0.0243,2,   0.0135,2,   0.0042,2,   0.0006,3,     0.0164,2,     0.0179,2,     -999.0,9,     -999.0,9,     -999.0,9
33RR20160208,       I08S,      23,          2,          9,          9,2,20160224,       0821,   -57.9160,    82.2281,       1969,   901.7,   1.4017,  34.7383,2,  34.7385,2,    202.4,2,   202.0,2,    96.1,2,    0.00,2,   30.87,2,    0.00,2,    2.12,2,-999.000,9,-999.000,9,-999.000,9,-999.000000000,9,  2251.1,2, 2353.74,2,   7.6070,6,    25.00,   1.4017, -999.00,9,  -999.0,9,  -999.0, -999.00,9,-999.000,9,  -999.0,9, -999.00,9,     -999.0,9, -999.00,9, 20160224,      848, -57.9160,  82.2283,     -999.0,9,     -999.0,9,     -999.0,9,-999.0000,9,-999.0000,9,-999.0000,9,-999.0000,9,-999.0000,9,-999.0000,9,-999.0000,9,     -999.0,9,     -999.0,9,     -999.0,9,     -999.0,9,     -999.0,9
33RR20160208,       I08S,      23,          2,         10,         10,2,20160224,       0821,   -57.9160,    82.2281,       1969,   797.9,   1.5289,  34.7418,2,  34.7417,2,    199.1,2,   199.3,2,    93.1,2,    0.00,2,   30.90,2,    0.00,2,    2.11,2,-999.000,9,-999.000,9,-999.000,9,-999.000000000,9,  2251.2,2, 2351.44,2,   7.6035,2,    24.99,   1.5284, -999.00,9,  -999.0,9,  -999.0, -999.00,9,-999.000,9,  -999.0,9, -999.00,9,     -999.0,9, -999.00,9, 20160224,      851, -57.9160,  82.2282,     -999.0,9,     -999.0,9,     -999.0,9,-999.0000,9,-999.0000,9,-999.0000,9,-999.0000,9,-999.0000,9,-999.0000,9,-999.0000,9,     -999.0,9,     -999.0,9,     -999.0,9,     -999.0,9,     -999.0,9
33RR20160208,       I08S,      23,          2,         11,         11,2,20160224,       0821,   -57.9160,    82.2281,       1969,   699.3,   1.6084,  34.7410,2,  34.7409,2,    198.5,2,   196.8,2,    90.6,2,    0.00,2,   30.88,2,    0.00,2,    2.12,2,-999.000,9,-999.000,9,-999.000,9,-999.000000000,9,  2251.1,2, 2351.00,2,   7.6023,2,    24.99,   1.6082, -999.00,9,  -999.0,9,  -999.0, -999.00,9,-999.000,9,  -999.0,9, -999.00,9,     -999.0,9, -999.00,9, 20160224,      854, -57.9161,  82.2283,     -999.0,9,     -999.0,9,     -999.0,9,   0.1151,2,   0.0776,2,   0.0433,2,   0.0247,2,   0.0138,2,   0.0046,2,   0.0009,2,     0.0169,2,     0.0185,2,     -999.0,9,     -999.0,9,     -999.0,9
33RR20160208,       I08S,      23,          2,         12,         12,2,20160224,       0821,   -57.9160,    82.2281,       1969,   599.6,   1.7249,  34.7382,2,  34.7383,2,    194.9,2,   194.1,2,    87.9,2,    0.00,2,   31.06,2,    0.00,2,    2.12,2,-999.000,9,-999.000,9,-999.000,9,-999.000000000,9,  2249.3,2, 2349.98,2,   7.5974,2,    24.98,   1.7248, -999.00,9,  -999.0,9,  -999.0, -999.00,9,-999.000,9,  -999.0,9, -999.00,9,     -999.0,9, -999.00,9, 20160224,      856, -57.9160,  82.2283,     -999.0,9,     -999.0,9,     -999.0,9,-999.0000,9,-999.0000,9,-999.0000,9,-999.0000,9,-999.0000,9,-999.0000,9,-999.0000,9,     -999.0,9,     -999.0,9,     -999.0,9,     -999.0,9,     -999.0,9
33RR20160208,       I08S,      23,          2,         13,         13,2,20160224,       0821,   -57.9160,    82.2281,       1969,   499.5,   1.8198,  34.7310,2,  34.7312,2,    191.6,2,   190.2,2,    86.4,2,    0.00,2,   31.40,2,    0.00,2,    2.14,2,-999.000,9,-999.000,9,-999.000,9,-999.000000000,9,  2251.6,2, 2347.72,2,   7.5914,2,    24.99,   1.8196, -999.00,9,  -999.0,9,  -999.0, -999.00,9,-999.000,9,  -999.0,9, -999.00,9,     -999.0,9, -999.00,9, 20160224,      859, -57.9160,  82.2282,     -999.0,9,     -999.0,9,     -999.0,9,   0.1195,2,   0.0871,2,   0.0688,2,   0.0281,2,   0.0142,2,   0.0042,2,   0.0006,3,     0.0111,2,     0.0109,3,     -999.0,9,     -999.0,9,     -999.0,9
33RR20160208,       I08S,      23,          2,         14,         14,2,20160224,       0821,   -57.9160,    82.2281,       1969,   400.0,   1.8505,  34.7193,2,  34.7185,2,    185.2,2,   185.3,2,    86.5,2,    0.00,2,   32.02,2,    0.00,2,    2.18,2,-999.000,9,-999.000,9,-999.000,9,-999.000000000,9,  2254.3,2, 2346.51,2,   7.5801,2,    24.99,   1.8503, -999.00,9,  -999.0,9,  -999.0, -999.00,9,-999.000,9,  -999.0,9, -999.00,9,     -999.0,9, -999.00,9, 20160224,      902, -57.9160,  82.2282,     -999.0,9,     -999.0,9,     -999.0,9,   0.1196,2,   0.0833,2,   0.0546,2,   0.0277,2,   0.0154,2,   0.0052,2,   0.0011,2,     0.0141,2,     0.0149,2,     -999.0,9,     -999.0,9,     -999.0,9
33RR20160208,       I08S,      23,          2,         15,         15,2,20160224,       0821,   -57.9160,    82.2281,       1969,   350.0,   1.8904,  34.7085,2,  34.7081,2,    183.1,2,   182.5,2,    85.9,2,    0.00,2,   32.40,2,    0.00,2,    2.20,2,-999.000,9,-999.000,9,-999.000,9,-999.000000000,9,  -999.0,9, -999.00,9,-999.0000,9,  -999.00,   1.8902, -999.00,9,  -999.0,9,  -999.0, -999.00,9,-999.000,9,  -999.0,9, -999.00,9,     -999.0,9, -999.00,9, 20160224,      904, -57.9160,  82.2283,     -999.0,9,     -999.0,9,     -999.0,9,-999.0000,9,-999.0000,9,-999.0000,9,-999.0000,9,-999.0000,9,-999.0000,9,-999.0000,9,     -999.0,9,     -999.0,9,     -999.0,9,     -999.0,9,     -999.0,9
33RR20160208,       I08S,      23,          2,         16,         16,2,20160224,       0821,   -57.9160,    82.2281,       1969,   301.9,   1.9057,  34.6952,2,  34.6949,2,    180.6,2,   179.5,2,    85.7,2,    0.00,2,   32.87,2,    0.00,2,    2.23,2,-999.000,9,-999.000,9,-999.000,9,-999.000000000,9,  2259.1,6, 2345.14,2,   7.5656,2,    24.98,   1.9057, -999.00,9,  -999.0,9,  -999.0, -999.00,9,-999.000,9,  -999.0,9, -999.00,9,     -999.0,9, -999.00,9, 20160224,      906, -57.9160,  82.2282,     -999.0,9,     -999.0,9,     -999.0,9,   0.1177,2,   0.0875,2,   0.0715,2,   0.0284,2,   0.0140,2,   0.0039,2,   0.0005,4,     0.0105,3,     0.0101,3,     -999.0,9,     -999.0,9,     -999.0,9
33RR20160208,       I08S,      23,          2,         17,         17,2,20160224,       0821,   -57.9160,    82.2281,       1969,   250.1,   1.9019,  34.6760,2,  34.6757,2,    178.0,2,   176.8,2,    85.2,2,    0.00,2,   33.41,2,    0.02,2,    2.27,2,-999.000,9,-999.000,9,-999.000,9,-999.000000000,9,  2261.5,2, 2343.91,2,   7.5551,2,    24.97,   1.9015, -999.00,9,  -999.0,9,  -999.0, -999.00,9,-999.000,9,  -999.0,9, -999.00,9,     -999.0,9, -999.00,9, 20160224,      908, -57.9160,  82.2282,     -999.0,9,     -999.0,9,     -999.0,9,   0.1219,2,   0.0861,2,   0.0594,2,   0.0290,2,   0.0158,2,   0.0054,2,   0.0012,2,     0.0132,2,     0.0137,2,     -999.0,9,     -999.0,9,     -999.0,9
33RR20160208,       I08S,      23,          2,         18,         37,2,20160224,       0821,   -57.9160,    82.2281,       1969,   200.2,   1.9060,  34.6547,2,  34.6535,2,    174.3,2,   173.0,2,    84.2,2,    0.00,2,   34.03,2,    0.02,2,    2.32,2,   0.613,2,   0.334,2,   0.036,2,   0.149615133,2,  2263.4,2, 2339.66,2,   7.5442,2,    24.98,   1.9045, -999.00,9,  -999.0,9,  -999.0, -999.00,9,-999.000,9,  -999.0,9, -999.00,9,     -999.0,9, -999.00,9, 20160224,      909, -57.9160,  82.2282,     -999.0,9,     -999.0,9,     -999.0,9,   0.1212,2,   0.0816,2,   0.0465,2,   0.0267,2,   0.0151,2,   0.0052,2,   0.0011,2,     0.0164,2,     0.0181,2,     -999.0,9,     -999.0,9,     -999.0,9
33RR20160208,       I08S,      23,          2,         19,         19,2,20160224,       0821,   -57.9160,    82.2281,       1969,   149.8,   1.8476,  34.6208,2,  34.6193,2,    174.5,2,   172.0,2,    83.2,2,    0.00,2,   34.61,2,    0.03,2,    2.35,2,   0.784,2,   0.522,2,   0.054,2,    0.24464096,2,  2263.2,2, 2338.63,2,   7.5322,2,    24.99,   1.8475, -999.00,9,  -999.0,9,  -999.0, -999.00,9,-999.000,9,  -999.0,9, -999.00,9,     -999.0,9, -999.00,9, 20160224,      911, -57.9160,  82.2282,     -999.0,9,0.014757564,2,     -999.0,9,   0.1218,2,   0.0839,2,   0.0527,2,   0.0285,2,   0.0162,2,   0.0059,2,   0.0013,2,     0.0147,2,     0.0158,2,     -999.0,9,     -999.0,9,     -999.0,9
33RR20160208,       I08S,      23,          2,         20,         20,2,20160224,       0821,   -57.9160,    82.2281,       1969,   101.5,   1.6290,  34.5522,2,  34.5517,2,    176.4,2,   174.3,2,    80.6,2,    0.00,2,   35.31,2,    0.08,2,    2.39,2,   1.220,2,   0.618,2,   0.082,2,   0.353819571,2,  2263.1,2, 2331.92,2,   7.5191,2,    24.99,   1.6288, -999.00,9,  -999.0,9,  -999.0, -999.00,9,-999.000,9,  -999.0,9, -999.00,9,     -999.0,9, -999.00,9, 20160224,      914, -57.9160,  82.2282,     -999.0,9,0.068264432,2,     -999.0,9,   0.1293,2,   0.0917,2,   0.0477,2,   0.0301,2,   0.0182,2,   0.0056,2,   0.0009,2,     0.0173,2,     0.0183,2,     -999.0,9,     -999.0,9,     -999.0,9
33RR20160208,       I08S,      23,          2,         21,         21,2,20160224,       0821,   -57.9160,    82.2281,       1969,    74.6,   1.3783,  34.4953,2,  34.4907,2,    183.2,2,   183.4,3,    77.5,2,    0.00,2,   35.18,2,    0.33,2,    2.42,2,   1.524,2,   0.793,2,   0.125,2,   0.572176792,2,  2261.0,2, 2327.46,6,   7.5148,6,    24.99,   1.3669, -999.00,9,  -999.0,9,  -999.0, -999.00,9,-999.000,9,  -999.0,9, -999.00,9,     -999.0,9, -999.00,9, 20160224,      916, -57.9161,  82.2283,     -999.0,9,0.213945074,2,     -999.0,9,   0.1206,2,   0.0827,2,   0.0527,2,   0.0286,2,   0.0160,2,   0.0056,2,   0.0014,2,     0.0145,2,     0.0157,2,     -999.0,9,     -999.0,9,     -999.0,9
33RR20160208,       I08S,      23,          2,         22,         22,2,20160224,       0821,   -57.9160,    82.2281,       1969,    50.5,   0.8607,  34.1389,2,  34.0987,2,    319.6,2,   282.1,2,    50.5,2,    0.80,2,   28.84,2,    0.22,2,    2.04,2,   4.051,2,   2.209,2,   0.371,2,    2.07742634,2,  2204.2,2, 2307.16,2,   7.6280,2,    24.98,   0.8931, -999.00,9,  -999.0,9,  -999.0, -999.00,9,-999.000,9,  -999.0,9, -999.00,9,     -999.0,9, -999.00,9, 20160224,      918, -57.9159,  82.2282,     -999.0,9,0.563855603,2,     -999.0,9,   0.1144,2,   0.0803,2,   0.0553,2,   0.0287,2,   0.0165,2,   0.0065,2,   0.0019,2,     0.0130,2,     0.0137,2,     -999.0,9,     -999.0,9,     -999.0,9
33RR20160208,       I08S,      23,          2,         23,         23,2,20160224,       0821,   -57.9160,    82.2281,       1969,    24.9,   1.5736,  33.9227,2,  33.9232,2,    333.0,2,   331.9,2,    36.2,2,    0.31,2,   25.91,2,    0.25,2,    1.72,2,   5.324,2,   2.916,2,   0.517,2,    2.97410622,2,  2172.1,2, 2298.31,2,   7.6961,6,    24.99,   1.5732, -999.00,9,  -999.0,9,  -999.0, -999.00,9,-999.000,9,  -999.0,9, -999.00,9,     -999.0,9, -999.00,9, 20160224,      920, -57.9160,  82.2282,     -999.0,9,0.344220485,2,     -999.0,9,   0.0957,2,   0.0636,2,   0.0370,2,   0.0205,2,   0.0118,2,   0.0034,2,   0.0001,4,     0.0164,2,     0.0180,2,     -999.0,9,     -999.0,9,     -999.0,9
33RR20160208,       I08S,      23,          2,         24,         24,2,20160224,       0821,   -57.9160,    82.2281,       1969,     4.8,   1.6110,  33.9222,2,  33.9219,2,    332.3,2,   332.3,2,    36.1,2,    0.30,2,   26.21,2,    0.25,2,    1.75,2,   5.139,2,   2.831,2,   0.510,2,         2.779,2,  2169.8,2, 2297.48,2,   7.6959,6,    24.99,   1.6124, -999.00,9,  -999.0,9,  -999.0, -999.00,9,-999.000,9,  -999.0,9, -999.00,9,     -999.0,9, -999.00,9, 20160224,      922, -57.9160,  82.2281,     -999.0,9,0.371716512,2,     -999.0,9,   0.0928,2,   0.0581,2,   0.0313,2,   0.0188,2,   0.0107,2,   0.0029,2,  -0.0002,4,     0.0178,2,     0.0209,2,     -999.0,9,     -999.0,9,     -999.0,9