BOTTLE,20220706CCHSIOAMB
EXPOCODE,SECT_ID,STNNBR,CASTNO,SAMPNO,BTLNBR,BTLNBR_FLAG_W,DATE,TIME,LATITUDE,LONGITUDE,DEPTH,CTDPRS,CTDTMP,CTDSAL,CTDSAL_FLAG_W,SALNTY,SALNTY_FLAG_W,CTDOXY,CTDOXY_FLAG_W,OXYGEN,OXYGEN_FLAG_W,SILCAT,SILCAT_FLAG_W,NH4,NH4_FLAG_W,NITRAT,NITRAT_FLAG_W,NITRIT,NITRIT_FLAG_W,PHSPHT,PHSPHT_FLAG_W,CFC-11,CFC-11_FLAG_W,CFC-12,CFC-12_FLAG_W,CFC113,CFC113_FLAG_W,SF6,SF6_FLAG_W,TCARBN,TCARBN_FLAG_W,ALKALI,ALKALI_FLAG_W,PH_TOT,PH_TOT_FLAG_W,PH_TMP,REFTMP,DELC13,DELC13_FLAG_W,DELC14,DELC14_FLAG_W,C14ERR,DELO18,DELO18_FLAG_W,POC,POC_FLAG_W,DOC,DOC_FLAG_W,TDN,TDN_FLAG_W,TON,TON_FLAG_W,D15N_NO3,D15N_NO3_FLAG_W,BTL_DATE,BTL_TIME,BTL_LAT,BTL_LON,14C-DOC,14C-DOC_FLAG_W,CHLORA,CHLORA_FLAG_W,HPLC,HPLC_FLAG_W,CDOM325,CDOM325_FLAG_W,CDOM340,CDOM340_FLAG_W,CDOM380,CDOM380_FLAG_W,CDOM412,CDOM412_FLAG_W,CDOM443,CDOM443_FLAG_W,CDOM490,CDOM490_FLAG_W,CDOM555,CDOM555_FLAG_W,CDOMSL,CDOMSL_FLAG_W,CDOMSN,CDOMSN_FLAG_W,D18O_NO3,D18O_NO3_FLAG_W,D15N_NO2+NO3,D15N_NO2+NO3_FLAG_W,D18O_NO2+NO3,D18O_NO2+NO3_FLAG_W
,,,,,,,,,,,METERS,DBAR,ITS-90,PSS-78,,PSS-78,,UMOL/KG,,UMOL/KG,,UMOL/KG,,UMOL/KG,,UMOL/KG,,UMOL/KG,,UMOL/KG,,PMOL/KG,,PMOL/KG,,PMOL/KG,,FMOL/KG,,UMOL/KG,,UMOL/KG,,,,DEG C,DEG C,/MILLE,,/MILLE,,/MILLE,/MILLE,,UG/KG,,UMOL/KG,,UMOL/KG,,UMOL/KG,,/MILLE,,,,,,/MILLE,,MG/M3,,,,1/M,,1/M,,1/M,,1/M,,1/M,,1/M,,1/M,,1/NM,,1/NM,,/MILLE,,/MILLE,,/MILLE,
33RR20160208,       I08S,      63,          1,         28,         28,2,20160306,       2216,   -38.4901,    95.0040,       3917,   250.0,  11.4154,  34.9434,2,  34.9420,2,    249.3,2,   252.3,2,     2.6,2,    0.00,2,    9.45,2,    0.00,2,    0.71,2,   2.974,2,   1.748,2,   0.207,2,    1.93197539,2,  -999.0,9, -999.00,9,-999.0000,9,  -999.00,  11.4153, -999.00,9,  -999.0,9,  -999.0, -999.00,9,-999.000,9,  -999.0,9, -999.00,9,     -999.0,9, -999.00,9, 20160306,     2346, -38.4901,  95.0040,     -999.0,9,     -999.0,9,     -999.0,9,-999.0000,9,-999.0000,9,-999.0000,9,-999.0000,9,-999.0000,9,-999.0000,9,-999.0000,9,     -999.0,9,     -999.0,9,     -999.0,9,     -999.0,9,     -999.0,9
33RR20160208,       I08S,      63,          1,         29,         29,2,20160306,       2216,   -38.4901,    95.0040,       3917,   215.9,  11.5281,  34.9457,2,  34.9447,2,    252.7,2,   254.0,2,     2.4,2,    0.00,2,    8.93,2,    0.01,2,    0.68,2,-999.000,9,-999.000,9,-999.000,9,-999.000000000,9,  2114.4,2, 2306.11,2,   7.8397,6,    25.01,  11.5256, -999.00,9,  -999.0,9,  -999.0, -999.00,9,-999.000,9,  -999.0,9, -999.00,9,     -999.0,9, -999.00,9, 20160306,     2348, -38.4901,  95.0040,     -999.0,9,     -999.0,9,     -999.0,9,-999.0000,9,-999.0000,9,-999.0000,9,-999.0000,9,-999.0000,9,-999.0000,9,-999.0000,9,     -999.0,9,     -999.0,9,     -999.0,9,     -999.0,9,     -999.0,9
33RR20160208,       I08S,      63,          1,         30,         30,2,20160306,       2216,   -38.4901,    95.0040,       3917,   164.4,  12.0004,  35.0103,2,  35.0044,2,    250.3,2,   250.6,2,     2.1,2,    0.00,2,    7.99,2,    0.15,2,    0.64,2,   2.871,2,   1.681,2,   0.237,2,    1.84266516,2,  -999.0,9, -999.00,9,-999.0000,9,  -999.00,  12.0094, -999.00,9,  -999.0,9,  -999.0, -999.00,9,-999.000,9,  -999.0,9, -999.00,9,     -999.0,9, -999.00,9, 20160306,     2350, -38.4901,  95.0040,     -999.0,9,     -999.0,9,     -999.0,9,-999.0000,9,-999.0000,9,-999.0000,9,-999.0000,9,-999.0000,9,-999.0000,9,-999.0000,9,     -999.0,9,     -999.0,9,     -999.0,9,     -999.0,9,     -999.0,9
33RR20160208,       I08S,      63,          1,         31,         31,2,20160306,       2216,   -38.4901,    95.0040,       3917,   136.0,  12.9605,  35.1947,2,  35.1923,2,    245.0,2,   244.5,2,     1.6,2,    0.01,2,    5.94,2,    0.02,2,    0.52,2,-999.000,9,-999.000,9,-999.000,9,-999.000000000,9,  2110.3,2, 2319.48,2,   7.8691,2,    25.00,  12.9583, -999.00,9,  -999.0,9,  -999.0, -999.00,9,-999.000,9,  -999.0,9, -999.00,9,     -999.0,9, -999.00,9, 20160306,     2352, -38.4901,  95.0040,     -999.0,9,     -999.0,9,     -999.0,9,-999.0000,9,-999.0000,9,-999.0000,9,-999.0000,9,-999.0000,9,-999.0000,9,-999.0000,9,     -999.0,9,     -999.0,9,     -999.0,9,     -999.0,9,     -999.0,9
33RR20160208,       I08S,      63,          1,         32,         32,2,20160306,       2216,   -38.4901,    95.0040,       3917,   109.6,  13.4227,  35.2636,2,  35.2655,2,    242.1,2,   242.2,2,     1.5,2,    0.01,2,    4.74,2,    0.28,2,    0.46,2,   2.635,2,   1.555,2,   0.202,2,    1.69689443,2,  -999.0,9, -999.00,9,-999.0000,9,     9.00,  13.4199, -999.00,9,  -999.0,9,  -999.0, -999.00,9,-999.000,9,  -999.0,9, -999.00,9,     -999.0,9, -999.00,9, 20160306,     2354, -38.4901,  95.0040,     -999.0,9,     -999.0,9,     -999.0,9,-999.0000,9,-999.0000,9,-999.0000,9,-999.0000,9,-999.0000,9,-999.0000,9,-999.0000,9,     -999.0,9,     -999.0,9,     -999.0,9,     -999.0,9,     -999.0,9
33RR20160208,       I08S,      63,          1,         33,         33,2,20160306,       2216,   -38.4901,    95.0040,       3917,    84.7,  14.1449,  35.3630,2,  35.3613,2,    243.5,2,   240.0,2,     1.4,2,    0.04,2,    2.57,2,    1.26,2,    0.39,2,-999.000,9,-999.000,9,-999.000,9,-999.000000000,9,  2108.2,2, 2328.75,6,   7.8925,2,    25.00,  14.1491, -999.00,9,  -999.0,9,  -999.0, -999.00,9,-999.000,9,  -999.0,9, -999.00,9,     -999.0,9, -999.00,9, 20160306,     2356, -38.4901,  95.0040,     -999.0,9,     -999.0,9,     -999.0,9,-999.0000,9,-999.0000,9,-999.0000,9,-999.0000,9,-999.0000,9,-999.0000,9,-999.0000,9,     -999.0,9,     -999.0,9,     -999.0,9,     -999.0,9,     -999.0,9
33RR20160208,       I08S,      63,          1,         34,         34,2,20160306,       2216,   -38.4901,    95.0040,       3917,    59.3,  14.9843,  35.2348,2,  35.2287,2,    247.5,2,   247.2,2,     1.0,2,    0.80,2,    1.94,2,    0.10,2,    0.35,2,   2.566,2,   1.511,2,   0.203,2,    1.66507124,2,  -999.0,9, -999.00,9,-999.0000,9,  -999.00,  14.9615, -999.00,9,  -999.0,9,  -999.0, -999.00,9,-999.000,9,  -999.0,9, -999.00,9,     -999.0,9, -999.00,9, 20160306,     2358, -38.4901,  95.0040,     -999.0,9,     -999.0,9,     -999.0,9,-999.0000,9,-999.0000,9,-999.0000,9,-999.0000,9,-999.0000,9,-999.0000,9,-999.0000,9,     -999.0,9,     -999.0,9,     -999.0,9,     -999.0,9,     -999.0,9
33RR20160208,       I08S,      63,          1,         35,         35,2,20160306,       2216,   -38.4901,    95.0040,       3917,    34.8,  17.0333,  35.1694,2,  35.1681,2,    244.9,2,   244.7,2,     0.0,2,    0.07,2,    0.29,2,    0.03,2,    0.18,2,   2.304,2,   1.369,2,   0.178,2,    1.60039832,2,  2064.1,2, 2325.53,2,   7.9677,2,    25.00,  17.0321, -999.00,9,  -999.0,9,  -999.0, -999.00,9,-999.000,9,  -999.0,9, -999.00,9,     -999.0,9, -999.00,9, 20160307,     0000, -38.4901,  95.0040,     -999.0,9,     -999.0,9,     -999.0,9,-999.0000,9,-999.0000,9,-999.0000,9,-999.0000,9,-999.0000,9,-999.0000,9,-999.0000,9,     -999.0,9,     -999.0,9,     -999.0,9,     -999.0,9,     -999.0,9
33RR20160208,       I08S,      63,          1,         36,         36,2,20160306,       2216,   -38.4901,    95.0040,       3917,     4.7,  17.2664,  35.1301,2,  35.1284,2,    243.4,2,   246.7,2,     0.0,2,    0.03,2,    0.52,2,    0.04,2,    0.21,2,   2.314,2,   1.384,2,   0.179,2,         1.585,2,  2062.7,6, 2322.96,2,   7.9671,2,    25.01,  17.2624, -999.00,9,  -999.0,9,  -999.0, -999.00,9,-999.000,9,  -999.0,9, -999.00,9,     -999.0,9, -999.00,9, 20160307,        2, -38.4901,  95.0040,     -999.0,9,     -999.0,9,     -999.0,9,-999.0000,9,-999.0000,9,-999.0000,9,-999.0000,9,-999.0000,9,-999.0000,9,-999.0000,9,     -999.0,9,     -999.0,9,     -999.0,9,     -999.0,9,     -999.0,9