BOTTLE,20220706CCHSIOAMB
EXPOCODE,SECT_ID,STNNBR,CASTNO,SAMPNO,BTLNBR,BTLNBR_FLAG_W,DATE,TIME,LATITUDE,LONGITUDE,DEPTH,CTDPRS,CTDTMP,CTDSAL,CTDSAL_FLAG_W,SALNTY,SALNTY_FLAG_W,CTDOXY,CTDOXY_FLAG_W,OXYGEN,OXYGEN_FLAG_W,SILCAT,SILCAT_FLAG_W,NH4,NH4_FLAG_W,NITRAT,NITRAT_FLAG_W,NITRIT,NITRIT_FLAG_W,PHSPHT,PHSPHT_FLAG_W,CFC-11,CFC-11_FLAG_W,CFC-12,CFC-12_FLAG_W,CFC113,CFC113_FLAG_W,SF6,SF6_FLAG_W,TCARBN,TCARBN_FLAG_W,ALKALI,ALKALI_FLAG_W,PH_TOT,PH_TOT_FLAG_W,PH_TMP,REFTMP,DELC13,DELC13_FLAG_W,DELC14,DELC14_FLAG_W,C14ERR,DELO18,DELO18_FLAG_W,POC,POC_FLAG_W,DOC,DOC_FLAG_W,TDN,TDN_FLAG_W,TON,TON_FLAG_W,D15N_NO3,D15N_NO3_FLAG_W,BTL_DATE,BTL_TIME,BTL_LAT,BTL_LON,14C-DOC,14C-DOC_FLAG_W,CHLORA,CHLORA_FLAG_W,HPLC,HPLC_FLAG_W,CDOM325,CDOM325_FLAG_W,CDOM340,CDOM340_FLAG_W,CDOM380,CDOM380_FLAG_W,CDOM412,CDOM412_FLAG_W,CDOM443,CDOM443_FLAG_W,CDOM490,CDOM490_FLAG_W,CDOM555,CDOM555_FLAG_W,CDOMSL,CDOMSL_FLAG_W,CDOMSN,CDOMSN_FLAG_W,D18O_NO3,D18O_NO3_FLAG_W,D15N_NO2+NO3,D15N_NO2+NO3_FLAG_W,D18O_NO2+NO3,D18O_NO2+NO3_FLAG_W
,,,,,,,,,,,METERS,DBAR,ITS-90,PSS-78,,PSS-78,,UMOL/KG,,UMOL/KG,,UMOL/KG,,UMOL/KG,,UMOL/KG,,UMOL/KG,,UMOL/KG,,PMOL/KG,,PMOL/KG,,PMOL/KG,,FMOL/KG,,UMOL/KG,,UMOL/KG,,,,DEG C,DEG C,/MILLE,,/MILLE,,/MILLE,/MILLE,,UG/KG,,UMOL/KG,,UMOL/KG,,UMOL/KG,,/MILLE,,,,,,/MILLE,,MG/M3,,,,1/M,,1/M,,1/M,,1/M,,1/M,,1/M,,1/M,,1/NM,,1/NM,,/MILLE,,/MILLE,,/MILLE,
33RR20160208,       I08S,       1,          1,         15,         15,2,20160219,       0557,   -66.6027,    78.3815,        468,    89.9,  -1.7678,  34.3160,2,  34.3189,2,    305.2,2,   305.8,2,    57.9,2,    0.01,2,   30.20,2,    0.10,2,    2.10,2,   4.568,2,   2.536,2,   0.433,2,         2.844,2,  -999.0,9, -999.00,9,-999.0000,9,  -999.00,  -1.7663, -999.00,9,  -999.0,9,  -999.0, -999.00,1,-999.000,9,    41.9,2,   32.80,2,     -999.0,1, -999.00,9, 20160219,      620, -66.6027,  78.3815,     -999.0,9,     -999.0,9,     -999.0,9,-999.0000,9,-999.0000,9,-999.0000,9,-999.0000,9,-999.0000,9,-999.0000,9,-999.0000,9,     -999.0,9,     -999.0,9,     -999.0,9,     -999.0,9,     -999.0,9
33RR20160208,       I08S,       1,          1,         16,         16,2,20160219,       0557,   -66.6027,    78.3815,        468,    65.8,  -1.7408,  34.2722,2,  34.2728,2,    304.9,2,   303.9,2,    57.5,2,    0.19,2,   29.98,2,    0.13,2,    2.09,2,   4.494,2,   2.500,2,   0.428,2,         2.765,2,  -999.0,9, -999.00,9,-999.0000,9,     9.00,  -1.7397, -999.00,9,  -999.0,9,  -999.0, -999.00,1,-999.000,9,    41.4,2,   32.30,2,     -999.0,1, -999.00,9, 20160219,      622, -66.6027,  78.3815,     -999.0,9,     -999.0,9,     -999.0,9,-999.0000,9,-999.0000,9,-999.0000,9,-999.0000,9,-999.0000,9,-999.0000,9,-999.0000,9,     -999.0,9,     -999.0,9,     -999.0,9,     -999.0,9,     -999.0,9
33RR20160208,       I08S,       1,          1,         17,         17,2,20160219,       0557,   -66.6027,    78.3815,        468,    40.3,  -1.6873,  34.0809,2,  34.0832,2,    314.0,2,   313.7,2,    53.7,2,    0.69,2,   28.41,2,    0.08,2,    2.03,2,   4.525,2,   2.447,2,   0.421,2,           2.6,2,  2195.9,2, 2306.71,2,   7.6389,6,    25.07,  -1.6871, -999.00,9,  -999.0,9,  -999.0, -999.00,1,-999.000,9,    43.2,2,   31.90,2,     -999.0,1, -999.00,9, 20160219,      624, -66.6027,  78.3815,     -999.0,9,     -999.0,9,     -999.0,9,-999.0000,9,-999.0000,9,-999.0000,9,-999.0000,9,-999.0000,9,-999.0000,9,-999.0000,9,     -999.0,9,     -999.0,9,     -999.0,9,     -999.0,9,     -999.0,9
33RR20160208,       I08S,       1,          1,         18,         18,2,20160219,       0557,   -66.6027,    78.3815,        468,    19.8,  -1.5443,  33.0377,2,  33.0462,2,    348.8,2,   349.0,2,    45.4,2,    0.80,2,   24.01,2,    0.15,2,    1.68,2,   5.351,2,   2.895,2,   0.461,2,         3.143,2,  2111.9,2, 2239.01,2,   7.7023,2,    25.05,  -1.5439, -999.00,9,  -999.0,9,  -999.0, -999.00,1,-999.000,9,    43.2,2,   27.30,2,     -999.0,1, -999.00,9, 20160219,      625, -66.6027,  78.3815,     -999.0,9,     -999.0,9,     -999.0,9,-999.0000,9,-999.0000,9,-999.0000,9,-999.0000,9,-999.0000,9,-999.0000,9,-999.0000,9,     -999.0,9,     -999.0,9,     -999.0,9,     -999.0,9,     -999.0,9
33RR20160208,       I08S,       1,          1,         19,         19,2,20160219,       0557,   -66.6027,    78.3815,        468,    10.9,  -1.5221,  33.0276,2,  33.0310,2,    349.9,2,   348.2,2,    45.2,2,    0.78,2,   23.97,2,    0.15,2,    1.66,2,   5.380,2,   2.951,2,   0.462,2,         3.419,2,  2110.2,2, 2238.30,2,   7.7019,2,    25.06,  -1.5230, -999.00,9,  -999.0,9,  -999.0, -999.00,1,-999.000,9,    43.5,2,   26.60,2,     -999.0,1, -999.00,9, 20160219,      627, -66.6027,  78.3815,     -999.0,9,     -999.0,9,     -999.0,9,-999.0000,9,-999.0000,9,-999.0000,9,-999.0000,9,-999.0000,9,-999.0000,9,-999.0000,9,     -999.0,9,     -999.0,9,     -999.0,9,     -999.0,9,     -999.0,9
33RR20160208,       I08S,       1,          1,         20,         20,2,20160219,       0557,   -66.6027,    78.3815,        468,     5.5,  -1.5255,  33.0281,2,  33.0303,2,    349.6,2,   348.7,2,    45.4,2,    0.79,2,   24.07,2,    0.15,2,    1.66,2,   5.320,2,   2.938,2,   0.461,2,         3.221,2,  2111.2,2, 2237.63,2,   7.7017,6,    25.06,  -1.5236, -999.00,9,  -999.0,9,  -999.0, -999.00,1,-999.000,9,    42.7,2,   30.70,3,     -999.0,1, -999.00,9, 20160219,      628, -66.6027,  78.3815,     -999.0,9,     -999.0,9,     -999.0,9,-999.0000,9,-999.0000,9,-999.0000,9,-999.0000,9,-999.0000,9,-999.0000,9,-999.0000,9,     -999.0,9,     -999.0,9,     -999.0,9,     -999.0,9,     -999.0,9