BOTTLE,20220706CCHSIOAMB
EXPOCODE,SECT_ID,STNNBR,CASTNO,SAMPNO,BTLNBR,BTLNBR_FLAG_W,DATE,TIME,LATITUDE,LONGITUDE,DEPTH,CTDPRS,CTDTMP,CTDSAL,CTDSAL_FLAG_W,SALNTY,SALNTY_FLAG_W,CTDOXY,CTDOXY_FLAG_W,OXYGEN,OXYGEN_FLAG_W,SILCAT,SILCAT_FLAG_W,NH4,NH4_FLAG_W,NITRAT,NITRAT_FLAG_W,NITRIT,NITRIT_FLAG_W,PHSPHT,PHSPHT_FLAG_W,CFC-11,CFC-11_FLAG_W,CFC-12,CFC-12_FLAG_W,CFC113,CFC113_FLAG_W,SF6,SF6_FLAG_W,TCARBN,TCARBN_FLAG_W,ALKALI,ALKALI_FLAG_W,PH_TOT,PH_TOT_FLAG_W,PH_TMP,REFTMP,DELC13,DELC13_FLAG_W,DELC14,DELC14_FLAG_W,C14ERR,DELO18,DELO18_FLAG_W,POC,POC_FLAG_W,DOC,DOC_FLAG_W,TDN,TDN_FLAG_W,TON,TON_FLAG_W,D15N_NO3,D15N_NO3_FLAG_W,BTL_DATE,BTL_TIME,BTL_LAT,BTL_LON,14C-DOC,14C-DOC_FLAG_W,CHLORA,CHLORA_FLAG_W,HPLC,HPLC_FLAG_W,CDOM325,CDOM325_FLAG_W,CDOM340,CDOM340_FLAG_W,CDOM380,CDOM380_FLAG_W,CDOM412,CDOM412_FLAG_W,CDOM443,CDOM443_FLAG_W,CDOM490,CDOM490_FLAG_W,CDOM555,CDOM555_FLAG_W,CDOMSL,CDOMSL_FLAG_W,CDOMSN,CDOMSN_FLAG_W,D18O_NO3,D18O_NO3_FLAG_W,D15N_NO2+NO3,D15N_NO2+NO3_FLAG_W,D18O_NO2+NO3,D18O_NO2+NO3_FLAG_W
,,,,,,,,,,,METERS,DBAR,ITS-90,PSS-78,,PSS-78,,UMOL/KG,,UMOL/KG,,UMOL/KG,,UMOL/KG,,UMOL/KG,,UMOL/KG,,UMOL/KG,,PMOL/KG,,PMOL/KG,,PMOL/KG,,FMOL/KG,,UMOL/KG,,UMOL/KG,,,,DEG C,DEG C,/MILLE,,/MILLE,,/MILLE,/MILLE,,UG/KG,,UMOL/KG,,UMOL/KG,,UMOL/KG,,/MILLE,,,,,,/MILLE,,MG/M3,,,,1/M,,1/M,,1/M,,1/M,,1/M,,1/M,,1/M,,1/NM,,1/NM,,/MILLE,,/MILLE,,/MILLE,
33RR20160208,       I08S,      70,          1,         28,         28,2,20160308,       1910,   -35.0010,    95.0019,       4416,   234.6,  11.7925,  35.0207,2,  35.0181,2,    239.4,2,   241.7,2,     2.4,2,    0.00,2,    9.45,2,    0.00,2,    0.72,2,   3.190,6,   1.833,6,   0.152,6,         1.655,6,  2123.1,2, 2310.18,2,   7.8314,2,    25.01,  11.7949, -999.00,9,  -999.0,9,  -999.0, -999.00,9,-999.000,9,    46.6,2,   12.00,2,     -999.0,1, -999.00,9, 20160308,     2052, -35.0009,  95.0017,     -999.0,9,     -999.0,9,     -999.0,9,-999.0000,9,-999.0000,9,-999.0000,9,-999.0000,9,-999.0000,9,-999.0000,9,-999.0000,9,     -999.0,9,     -999.0,9,     -999.0,9,     -999.0,9,     -999.0,9
33RR20160208,       I08S,      70,          1,         29,         29,2,20160308,       1910,   -35.0010,    95.0019,       4416,   185.6,  12.2087,  35.0709,2,  35.0697,2,    243.4,2,   243.3,2,     2.1,2,    0.00,2,    8.04,2,    0.00,2,    0.65,2,   3.053,2,   1.741,2,   0.177,2,         1.436,3,  2118.4,2, 2314.17,2,   7.8464,2,    25.02,  12.2054, -999.00,9,  -999.0,9,  -999.0, -999.00,9,-999.000,9,    48.4,2,   11.20,2,     -999.0,1, -999.00,9, 20160308,     2054, -35.0009,  95.0017,     -999.0,9,     -999.0,9,     -999.0,9,-999.0000,9,-999.0000,9,-999.0000,9,-999.0000,9,-999.0000,9,-999.0000,9,-999.0000,9,     -999.0,9,     -999.0,9,     -999.0,9,     -999.0,9,     -999.0,9
33RR20160208,       I08S,      70,          1,         30,         30,2,20160308,       1910,   -35.0010,    95.0019,       4416,   141.1,  12.7489,  35.1400,2,  35.1421,2,    243.6,2,   243.5,2,     1.7,2,    0.00,2,    6.65,2,    0.02,2,    0.57,2,   3.011,2,   1.728,2,   0.206,2,         1.587,2,  2115.7,2, 2317.59,2,   7.8615,2,    25.02,  12.7491, -999.00,9,  -999.0,9,  -999.0, -999.00,9,-999.000,9,    48.7,2,   10.10,2,     -999.0,1, -999.00,9, 20160308,     2056, -35.0009,  95.0018,     -999.0,9,     -999.0,9,     -999.0,9,-999.0000,9,-999.0000,9,-999.0000,9,-999.0000,9,-999.0000,9,-999.0000,9,-999.0000,9,     -999.0,9,     -999.0,9,     -999.0,9,     -999.0,9,     -999.0,9
33RR20160208,       I08S,      70,          1,         31,         31,2,20160308,       1910,   -35.0010,    95.0019,       4416,   114.6,  13.1789,  35.1979,2,  35.2003,2,    243.6,2,   243.5,2,     1.5,2,    0.00,2,    5.45,2,    0.17,2,    0.50,2,   2.961,2,   1.699,2,   0.212,2,         1.547,2,  2112.6,2, 2320.85,2,   7.8732,2,    25.03,  13.1851, -999.00,9,  -999.0,9,  -999.0, -999.00,9,-999.000,9,    51.2,2,    9.30,2,     -999.0,1, -999.00,9, 20160308,     2058, -35.0010,  95.0017,     -999.0,9,     -999.0,9,     -999.0,9,-999.0000,9,-999.0000,9,-999.0000,9,-999.0000,9,-999.0000,9,-999.0000,9,-999.0000,9,     -999.0,9,     -999.0,9,     -999.0,9,     -999.0,9,     -999.0,9
33RR20160208,       I08S,      70,          1,         32,         32,2,20160308,       1910,   -35.0010,    95.0019,       4416,    89.5,  13.8240,  35.2830,2,  35.2843,2,    248.2,2,   244.2,2,     1.4,2,    0.00,2,    3.34,2,    0.88,2,    0.42,2,   2.965,2,   1.689,2,   0.219,2,         1.608,2,  2108.7,2, 2324.95,6,   7.8888,2,    25.03,  13.8129, -999.00,9,  -999.0,9,  -999.0, -999.00,9,-999.000,9,    52.0,2,    7.60,2,     -999.0,1, -999.00,9, 20160308,     2100, -35.0009,  95.0018,     -999.0,9,     -999.0,9,     -999.0,9,-999.0000,9,-999.0000,9,-999.0000,9,-999.0000,9,-999.0000,9,-999.0000,9,-999.0000,9,     -999.0,9,     -999.0,9,     -999.0,9,     -999.0,9,     -999.0,9
33RR20160208,       I08S,      70,          1,         33,         33,2,20160308,       1910,   -35.0010,    95.0019,       4416,    63.8,  14.7540,  35.2466,2,  35.2387,2,    260.5,2,   259.2,2,     1.1,2,    0.25,2,    1.59,2,    0.06,2,    0.30,2,   2.830,2,   1.623,2,   0.212,2,         1.651,2,  2092.6,2, 2326.43,2,   7.9220,2,    25.03,  14.7757, -999.00,9,  -999.0,9,  -999.0, -999.00,9,-999.000,9,    56.4,2,    6.00,2,     -999.0,1, -999.00,9, 20160308,     2102, -35.0009,  95.0018,     -999.0,9,     -999.0,9,     -999.0,9,-999.0000,9,-999.0000,9,-999.0000,9,-999.0000,9,-999.0000,9,-999.0000,9,-999.0000,9,     -999.0,9,     -999.0,9,     -999.0,9,     -999.0,9,     -999.0,9
33RR20160208,       I08S,      70,          1,         34,         34,2,20160308,       1910,   -35.0010,    95.0019,       4416,    39.7,  19.8244,  35.5960,2,  35.6303,2,    234.7,2,   233.7,2,     0.7,2,    0.00,2,    0.00,2,    0.01,2,    0.13,2,   2.211,2,   1.305,2,   0.165,2,         1.145,2,  2081.6,2, 2346.99,2,   7.9789,6,    25.03,  19.8426, -999.00,9,  -999.0,9,  -999.0, -999.00,9,-999.000,9,    65.2,2,    5.10,2,     -999.0,1, -999.00,9, 20160308,     2103, -35.0010,  95.0018,     -999.0,9,     -999.0,9,     -999.0,9,-999.0000,9,-999.0000,9,-999.0000,9,-999.0000,9,-999.0000,9,-999.0000,9,-999.0000,9,     -999.0,9,     -999.0,9,     -999.0,9,     -999.0,9,     -999.0,9
33RR20160208,       I08S,      70,          1,         35,         35,2,20160308,       1910,   -35.0010,    95.0019,       4416,    18.9,  20.0891,  35.5119,2,  35.5093,2,    230.5,2,   230.0,2,     0.5,2,    0.00,2,    0.00,2,    0.01,2,    0.13,2,   2.193,2,   1.291,2,   0.158,2,         1.286,2,  2076.3,2, 2343.77,2,   7.9790,6,    25.03,  20.0879, -999.00,9,  -999.0,9,  -999.0, -999.00,9,-999.000,9,    64.0,2,    4.00,2,     -999.0,1, -999.00,9, 20160308,     2105, -35.0009,  95.0017,     -999.0,9,     -999.0,9,     -999.0,9,-999.0000,9,-999.0000,9,-999.0000,9,-999.0000,9,-999.0000,9,-999.0000,9,-999.0000,9,     -999.0,9,     -999.0,9,     -999.0,9,     -999.0,9,     -999.0,9
33RR20160208,       I08S,      70,          1,         36,         36,2,20160308,       1910,   -35.0010,    95.0019,       4416,     4.4,  20.0856,  35.4818,2,  35.4792,2,    230.3,2,   229.8,2,     0.5,2,    0.00,2,    0.00,2,    0.01,2,    0.14,2,   2.166,2,   1.277,2,   0.155,2,         1.292,2,  2073.5,6, 2338.27,2,   7.9783,2,    25.04,  20.0850, -999.00,9,  -999.0,9,  -999.0, -999.00,9,-999.000,9,    65.3,2,    4.90,2,     -999.0,1, -999.00,9, 20160308,     2107, -35.0009,  95.0018,     -999.0,9,     -999.0,9,     -999.0,9,-999.0000,9,-999.0000,9,-999.0000,9,-999.0000,9,-999.0000,9,-999.0000,9,-999.0000,9,     -999.0,9,     -999.0,9,     -999.0,9,     -999.0,9,     -999.0,9