BOTTLE,20220706CCHSIOAMB
EXPOCODE,SECT_ID,STNNBR,CASTNO,SAMPNO,BTLNBR,BTLNBR_FLAG_W,DATE,TIME,LATITUDE,LONGITUDE,DEPTH,CTDPRS,CTDTMP,CTDSAL,CTDSAL_FLAG_W,SALNTY,SALNTY_FLAG_W,CTDOXY,CTDOXY_FLAG_W,OXYGEN,OXYGEN_FLAG_W,SILCAT,SILCAT_FLAG_W,NH4,NH4_FLAG_W,NITRAT,NITRAT_FLAG_W,NITRIT,NITRIT_FLAG_W,PHSPHT,PHSPHT_FLAG_W,CFC-11,CFC-11_FLAG_W,CFC-12,CFC-12_FLAG_W,CFC113,CFC113_FLAG_W,SF6,SF6_FLAG_W,TCARBN,TCARBN_FLAG_W,ALKALI,ALKALI_FLAG_W,PH_TOT,PH_TOT_FLAG_W,PH_TMP,REFTMP,DELC13,DELC13_FLAG_W,DELC14,DELC14_FLAG_W,C14ERR,DELO18,DELO18_FLAG_W,POC,POC_FLAG_W,DOC,DOC_FLAG_W,TDN,TDN_FLAG_W,TON,TON_FLAG_W,D15N_NO3,D15N_NO3_FLAG_W,BTL_DATE,BTL_TIME,BTL_LAT,BTL_LON,14C-DOC,14C-DOC_FLAG_W,CHLORA,CHLORA_FLAG_W,HPLC,HPLC_FLAG_W,CDOM325,CDOM325_FLAG_W,CDOM340,CDOM340_FLAG_W,CDOM380,CDOM380_FLAG_W,CDOM412,CDOM412_FLAG_W,CDOM443,CDOM443_FLAG_W,CDOM490,CDOM490_FLAG_W,CDOM555,CDOM555_FLAG_W,CDOMSL,CDOMSL_FLAG_W,CDOMSN,CDOMSN_FLAG_W,D18O_NO3,D18O_NO3_FLAG_W,D15N_NO2+NO3,D15N_NO2+NO3_FLAG_W,D18O_NO2+NO3,D18O_NO2+NO3_FLAG_W
,,,,,,,,,,,METERS,DBAR,ITS-90,PSS-78,,PSS-78,,UMOL/KG,,UMOL/KG,,UMOL/KG,,UMOL/KG,,UMOL/KG,,UMOL/KG,,UMOL/KG,,PMOL/KG,,PMOL/KG,,PMOL/KG,,FMOL/KG,,UMOL/KG,,UMOL/KG,,,,DEG C,DEG C,/MILLE,,/MILLE,,/MILLE,/MILLE,,UG/KG,,UMOL/KG,,UMOL/KG,,UMOL/KG,,/MILLE,,,,,,/MILLE,,MG/M3,,,,1/M,,1/M,,1/M,,1/M,,1/M,,1/M,,1/M,,1/NM,,1/NM,,/MILLE,,/MILLE,,/MILLE,
33RR20160208,       I08S,      51,          1,          1,          1,2,20160303,       1825,   -45.5590,    94.4702,       3219,  3254.1,   1.4184,  34.7327,2,  34.7312,2,    203.2,2,   202.9,2,   105.6,2,    0.00,2,   31.13,2,    0.00,2,    2.13,2,   0.079,2,   0.079,2,   0.007,2,   0.066506653,2,  2260.1,6, 2362.10,2,   7.6144,2,    25.02,   1.4179, -999.00,9,  -999.0,9,  -999.0, -999.00,1,-999.000,9,  -999.0,9, -999.00,9,     -999.0,9,    4.89,2, 20160303,     1825, -45.5590,  94.4702,     -999.0,9,     -999.0,9,     -999.0,9,-999.0000,9,-999.0000,9,-999.0000,9,-999.0000,9,-999.0000,9,-999.0000,9,-999.0000,9,     -999.0,9,     -999.0,9,       1.88,2,       4.89,2,       1.88,2
33RR20160208,       I08S,      51,          1,          2,          2,2,20160303,       1825,   -45.5590,    94.4702,       3219,  3057.7,   1.4072,  34.7331,2,  34.7314,2,    202.5,2,   202.7,2,   106.2,2,    0.00,2,   31.11,2,    0.00,2,    2.14,2,-999.000,9,-999.000,9,-999.000,9,-999.000000000,9,  2258.5,2, 2362.88,2,   7.6150,2,    25.02,   1.4070, -999.00,9,  -999.0,9,  -999.0, -999.00,1,-999.000,9,  -999.0,9, -999.00,9,     -999.0,9,    4.95,2, 20160303,     1830, -45.5590,  94.4702,     -999.0,9,     -999.0,9,     -999.0,9,-999.0000,9,-999.0000,9,-999.0000,9,-999.0000,9,-999.0000,9,-999.0000,9,-999.0000,9,     -999.0,9,     -999.0,9,        1.9,2,       4.95,2,        1.9,2
33RR20160208,       I08S,      51,          1,          3,          3,2,20160303,       1825,   -45.5590,    94.4702,       3219,  2864.9,   1.4666,  34.7362,2,  34.7344,2,    202.1,2,   202.1,2,   103.1,2,    0.00,2,   31.01,2,    0.00,2,    2.13,2,   0.072,2,   0.072,2,   0.002,2,   0.030230297,2,  -999.0,9, -999.00,9,-999.0000,9,  -999.00,   1.4664, -999.00,9,  -999.0,9,  -999.0, -999.00,1,-999.000,9,  -999.0,9, -999.00,9,     -999.0,9,    4.94,2, 20160303,     1835, -45.5590,  94.4701,     -999.0,9,     -999.0,9,     -999.0,9,-999.0000,9,-999.0000,9,-999.0000,9,-999.0000,9,-999.0000,9,-999.0000,9,-999.0000,9,     -999.0,9,     -999.0,9,       1.87,2,       4.94,2,       1.87,2
33RR20160208,       I08S,      51,          1,          4,          4,2,20160303,       1825,   -45.5590,    94.4702,       3219,  2665.9,   1.7238,  34.7473,2,  34.7464,2,    200.0,2,   200.4,2,    94.6,2,    0.00,2,   30.47,2,    0.00,2,    2.08,2,-999.000,9,-999.000,9,-999.000,9,-999.000000000,9,  -999.0,9, -999.00,9,-999.0000,9,  -999.00,   1.7263, -999.00,9,  -999.0,9,  -999.0, -999.00,1,-999.000,9,  -999.0,9, -999.00,9,     -999.0,9,    4.98,2, 20160303,     1839, -45.5590,  94.4701,     -999.0,9,     -999.0,9,     -999.0,9,-999.0000,9,-999.0000,9,-999.0000,9,-999.0000,9,-999.0000,9,-999.0000,9,-999.0000,9,     -999.0,9,     -999.0,9,       1.91,2,       4.98,2,       1.91,2
33RR20160208,       I08S,      51,          1,          5,          5,2,20160303,       1825,   -45.5590,    94.4702,       3219,  2467.1,   1.9592,  34.7550,2,  34.7533,2,    198.8,2,   200.3,2,    85.8,2,    0.00,2,   30.06,2,    0.00,2,    2.05,2,   0.065,2,   0.065,2,   0.002,2,   0.050383828,2,  2248.6,2, 2353.46,6,   7.6199,2,    25.00,   1.9590, -999.00,9,  -999.0,9,  -999.0, -999.00,1,-999.000,9,  -999.0,9, -999.00,9,     -999.0,9,     5.0,2, 20160303,     1844, -45.5590,  94.4702,     -999.0,9,     -999.0,9,     -999.0,9,-999.0000,9,-999.0000,9,-999.0000,9,-999.0000,9,-999.0000,9,-999.0000,9,-999.0000,9,     -999.0,9,     -999.0,9,       1.86,2,        5.0,2,       1.86,2
33RR20160208,       I08S,      51,          1,          6,         38,2,20160303,       1825,   -45.5590,    94.4702,       3219,  2263.6,   2.1291,  34.7540,2,  34.7531,2,    196.4,2,   197.2,2,    80.5,2,    0.00,2,   29.91,2,    0.00,2,    2.03,2,-999.000,9,-999.000,9,-999.000,9,-999.000000000,9,  -999.0,9, -999.00,9,-999.0000,9,  -999.00,   2.1287, -999.00,9,  -999.0,9,  -999.0, -999.00,1,-999.000,9,  -999.0,9, -999.00,9,     -999.0,9,    5.02,2, 20160303,     1848, -45.5590,  94.4702,     -999.0,9,     -999.0,9,     -999.0,9,-999.0000,9,-999.0000,9,-999.0000,9,-999.0000,9,-999.0000,9,-999.0000,9,-999.0000,9,     -999.0,9,     -999.0,9,       1.87,2,       5.02,2,       1.87,2
33RR20160208,       I08S,      51,          1,          7,          7,2,20160303,       1825,   -45.5590,    94.4702,       3219,  2064.6,   2.3045,  34.7402,2,  34.7390,2,    192.5,2,   193.3,2,    76.0,2,    0.00,2,   30.20,2,    0.00,2,    2.05,2,   0.077,2,   0.077,2,   0.002,2,             0,2,  -999.0,9, -999.00,9,-999.0000,9,  -999.00,   2.3048, -999.00,9,  -999.0,9,  -999.0, -999.00,1,-999.000,9,  -999.0,9, -999.00,9,     -999.0,9,    5.06,2, 20160303,     1853, -45.5590,  94.4702,     -999.0,9,     -999.0,9,     -999.0,9,-999.0000,9,-999.0000,9,-999.0000,9,-999.0000,9,-999.0000,9,-999.0000,9,-999.0000,9,     -999.0,9,     -999.0,9,       1.88,2,       5.06,2,       1.88,2
33RR20160208,       I08S,      51,          1,          8,          8,2,20160303,       1825,   -45.5590,    94.4702,       3219,  1864.7,   2.4401,  34.7108,2,  34.7090,2,    187.3,2,   186.8,2,    73.8,2,    0.00,2,   30.97,2,    0.00,2,    2.14,2,   0.099,2,   0.099,2,   0.004,2,   0.119913511,2,  2246.2,2, 2343.59,2,   7.5976,2,    25.01,   2.4400, -999.00,9,  -999.0,9,  -999.0, -999.00,1,-999.000,9,  -999.0,9, -999.00,9,     -999.0,9,    5.09,2, 20160303,     1857, -45.5590,  94.4702,     -999.0,9,     -999.0,9,     -999.0,9,-999.0000,9,-999.0000,9,-999.0000,9,-999.0000,9,-999.0000,9,-999.0000,9,-999.0000,9,     -999.0,9,     -999.0,9,       1.94,2,       5.09,2,       1.94,2
33RR20160208,       I08S,      51,          1,          9,          9,2,20160303,       1825,   -45.5590,    94.4702,       3219,  1735.9,   2.5323,  34.6813,2,  34.6801,2,    183.4,2,   182.7,2,    71.9,2,    0.00,2,   31.64,2,    0.00,2,    2.18,2,   0.133,2,   0.133,2,   0.007,2,   0.083637155,2,  -999.0,9, -999.00,9,-999.0000,9,  -999.00,   2.5325, -999.00,9,  -999.0,9,  -999.0, -999.00,1,-999.000,9,  -999.0,9, -999.00,9,     -999.0,9,    5.14,2, 20160303,     1901, -45.5590,  94.4702,     -999.0,9,     -999.0,9,     -999.0,9,-999.0000,9,-999.0000,9,-999.0000,9,-999.0000,9,-999.0000,9,-999.0000,9,-999.0000,9,     -999.0,9,     -999.0,9,       1.95,2,       5.14,2,       1.95,2
33RR20160208,       I08S,      51,          1,         10,         10,2,20160303,       1825,   -45.5590,    94.4702,       3219,  1635.2,   2.5977,  34.6544,2,  34.6534,2,    180.1,2,   179.4,2,    70.9,2,    0.00,2,   32.16,2,    0.00,2,    2.22,2,   0.160,2,   0.160,2,   0.010,2,   0.076583419,2,  -999.0,9, -999.00,9,-999.0000,9,  -999.00,   2.5977, -999.00,9,  -999.0,9,  -999.0, -999.00,1,-999.000,9,  -999.0,9, -999.00,9,     -999.0,9,    5.16,2, 20160303,     1904, -45.5590,  94.4702,     -999.0,9,     -999.0,9,     -999.0,9,-999.0000,9,-999.0000,9,-999.0000,9,-999.0000,9,-999.0000,9,-999.0000,9,-999.0000,9,     -999.0,9,     -999.0,9,       2.04,2,       5.16,2,       2.04,2
33RR20160208,       I08S,      51,          1,         11,         11,2,20160303,       1825,   -45.5590,    94.4702,       3219,  1536.1,   2.6594,  34.6201,2,  34.6194,2,    177.8,2,   176.9,2,    69.3,2,    0.00,2,   32.77,2,    0.00,2,    2.24,2,   0.221,2,   0.221,2,   0.018,2,   0.073560389,2,  2248.1,2, 2338.82,2,   7.5712,6,    25.01,   2.6592, -999.00,9,  -999.0,9,  -999.0, -999.00,1,-999.000,9,  -999.0,9, -999.00,9,     -999.0,9,     5.2,2, 20160303,     1907, -45.5590,  94.4702,     -999.0,9,     -999.0,9,     -999.0,9,-999.0000,9,-999.0000,9,-999.0000,9,-999.0000,9,-999.0000,9,-999.0000,9,-999.0000,9,     -999.0,9,     -999.0,9,       1.99,2,        5.2,2,       1.99,2
33RR20160208,       I08S,      51,          1,         12,         12,2,20160303,       1825,   -45.5590,    94.4702,       3219,  1435.2,   2.7745,  34.5849,2,  34.5841,2,    176.2,2,   175.6,2,    66.8,2,    0.00,2,   33.21,2,    0.00,2,    2.29,2,   0.261,2,   0.261,2,   0.022,2,   0.141074719,2,  2248.8,2, 2335.00,2,   7.5671,2,    25.02,   2.7745, -999.00,9,  -999.0,9,  -999.0, -999.00,1,-999.000,9,  -999.0,9, -999.00,9,     -999.0,9,    5.28,2, 20160303,     1909, -45.5590,  94.4702,     -999.0,9,     -999.0,9,     -999.0,9,-999.0000,9,-999.0000,9,-999.0000,9,-999.0000,9,-999.0000,9,-999.0000,9,-999.0000,9,     -999.0,9,     -999.0,9,       2.08,2,       5.28,2,       2.08,2
33RR20160208,       I08S,      51,          1,         13,         13,2,20160303,       1825,   -45.5590,    94.4702,       3219,  1335.5,   2.8742,  34.5412,2,  34.5403,2,    175.8,2,   175.4,2,    64.3,2,    0.00,2,   33.65,2,    0.00,2,    2.30,2,   0.344,2,   0.344,2,   0.034,2,   0.145105425,2,  2246.9,6, 2330.32,2,   7.5623,2,    25.03,   2.8761, -999.00,9,  -999.0,9,  -999.0, -999.00,1,-999.000,9,  -999.0,9, -999.00,9,     -999.0,9,    5.31,2, 20160303,     1912, -45.5590,  94.4702,     -999.0,9,     -999.0,9,     -999.0,9,-999.0000,9,-999.0000,9,-999.0000,9,-999.0000,9,-999.0000,9,-999.0000,9,-999.0000,9,     -999.0,9,     -999.0,9,       2.08,2,       5.31,2,       2.08,2
33RR20160208,       I08S,      51,          1,         14,         14,2,20160303,       1825,   -45.5590,    94.4702,       3219,  1237.4,   2.9434,  34.4968,2,  34.4979,2,    176.9,2,   177.6,2,    61.1,2,    0.00,2,   33.86,2,    0.00,2,    2.32,2,   0.459,2,   0.459,2,   0.054,2,   0.175335722,2,  2242.3,2, 2325.69,2,   7.5602,2,    25.02,   2.9443, -999.00,9,  -999.0,9,  -999.0, -999.00,1,-999.000,9,  -999.0,9, -999.00,9,     -999.0,9,    5.35,2, 20160303,     1915, -45.5590,  94.4702,     -999.0,9,     -999.0,9,     -999.0,9,-999.0000,9,-999.0000,9,-999.0000,9,-999.0000,9,-999.0000,9,-999.0000,9,-999.0000,9,     -999.0,9,     -999.0,9,       2.17,2,       5.35,2,       2.17,2
33RR20160208,       I08S,      51,          1,         15,         15,2,20160303,       1825,   -45.5590,    94.4702,       3219,  1137.0,   3.0795,  34.4390,2,  34.4378,2,    182.9,2,   183.5,2,    55.6,2,    0.00,2,   33.81,2,    0.00,2,    2.31,2,   0.650,2,   0.650,2,   0.081,2,   0.210604401,2,  -999.0,9, -999.00,9,-999.0000,9,  -999.00,   3.0780, -999.00,9,  -999.0,9,  -999.0, -999.00,1,-999.000,9,  -999.0,9, -999.00,9,     -999.0,9,    5.39,2, 20160303,     1918, -45.5590,  94.4702,     -999.0,9,     -999.0,9,     -999.0,9,-999.0000,9,-999.0000,9,-999.0000,9,-999.0000,9,-999.0000,9,-999.0000,9,-999.0000,9,     -999.0,9,     -999.0,9,       2.26,2,       5.39,2,       2.26,2
33RR20160208,       I08S,      51,          1,         16,         16,2,20160303,       1825,   -45.5590,    94.4702,       3219,  1035.3,   3.2761,  34.3975,2,  34.3972,2,    188.0,2,   190.0,2,    49.6,2,    0.00,2,   33.32,2,    0.00,2,    2.29,2,   0.786,2,   0.786,2,   0.102,2,   0.320441146,2,  2230.2,2, 2314.20,2,   7.5704,2,    24.99,   3.2743, -999.00,9,  -999.0,9,  -999.0, -999.00,1,-999.000,9,  -999.0,9, -999.00,9,     -999.0,9,    5.53,2, 20160303,     1921, -45.5590,  94.4702,     -999.0,9,     -999.0,9,     -999.0,9,-999.0000,9,-999.0000,9,-999.0000,9,-999.0000,9,-999.0000,9,-999.0000,9,-999.0000,9,     -999.0,9,     -999.0,9,       2.23,2,       5.53,2,       2.23,2
33RR20160208,       I08S,      51,          1,         17,         17,2,20160303,       1825,   -45.5590,    94.4702,       3219,   935.9,   3.5639,  34.3566,2,  34.3557,2,    196.4,2,   199.6,2,    42.3,2,    0.00,2,   32.50,2,    0.00,2,    2.23,2,   0.986,2,   0.986,2,   0.131,2,   0.479654043,2,  -999.0,9, -999.00,9,-999.0000,9,     9.00,   3.5636, -999.00,9,  -999.0,9,  -999.0, -999.00,1,-999.000,9,  -999.0,9, -999.00,9,     -999.0,9,    5.63,2, 20160303,     1923, -45.5590,  94.4702,     -999.0,9,     -999.0,9,     -999.0,9,-999.0000,9,-999.0000,9,-999.0000,9,-999.0000,9,-999.0000,9,-999.0000,9,-999.0000,9,     -999.0,9,     -999.0,9,       2.47,2,       5.63,2,       2.47,2
33RR20160208,       I08S,      51,          1,         18,         37,2,20160303,       1825,   -45.5590,    94.4702,       3219,   833.8,   3.9228,  34.3340,2,  34.3335,2,    207.4,2,   205.7,2,    36.0,2,    0.00,2,   31.47,2,    0.00,2,    2.14,2,   1.152,2,   1.152,2,   0.151,2,   0.578406346,2,  2207.4,2, 2301.65,2,   7.5996,2,    25.02,   3.9252, -999.00,9,  -999.0,9,  -999.0, -999.00,1,-999.000,9,  -999.0,9, -999.00,9,     -999.0,9,    5.67,2, 20160303,     1926, -45.5590,  94.4702,     -999.0,9,     -999.0,9,     -999.0,9,-999.0000,9,-999.0000,9,-999.0000,9,-999.0000,9,-999.0000,9,-999.0000,9,-999.0000,9,     -999.0,9,     -999.0,9,        2.5,2,       5.67,2,        2.5,2
33RR20160208,       I08S,      51,          1,         19,         19,2,20160303,       1825,   -45.5590,    94.4702,       3219,   735.1,   4.2534,  34.2967,2,  34.2957,2,    217.7,2,   217.1,2,    28.3,2,    0.00,2,   30.21,2,    0.00,2,    2.05,2,   1.419,2,   1.419,2,   0.184,2,   0.845440635,2,  -999.0,9, -999.00,9,-999.0000,9,  -999.00,   4.2534, -999.00,9,  -999.0,9,  -999.0, -999.00,1,-999.000,9,  -999.0,9, -999.00,9,     -999.0,9,    5.59,2, 20160303,     1929, -45.5590,  94.4702,     -999.0,9,     -999.0,9,     -999.0,9,-999.0000,9,-999.0000,9,-999.0000,9,-999.0000,9,-999.0000,9,-999.0000,9,-999.0000,9,     -999.0,9,     -999.0,9,       2.43,2,       5.59,2,       2.43,2
33RR20160208,       I08S,      51,          1,         20,         20,2,20160303,       1825,   -45.5590,    94.4702,       3219,   633.5,   4.9054,  34.3021,2,  34.3016,2,    219.3,2,   221.4,2,    22.1,2,    0.00,2,   28.61,2,    0.00,2,    1.93,2,   1.597,2,   1.597,2,   0.207,2,   0.954269703,2,  2185.4,2, 2293.24,2,   7.6329,2,    25.03,   4.9049, -999.00,9,  -999.0,9,  -999.0, -999.00,1,-999.000,9,  -999.0,9, -999.00,9,     -999.0,9,    5.71,2, 20160303,     1932, -45.5590,  94.4702,     -999.0,9,     -999.0,9,     -999.0,9,-999.0000,9,-999.0000,9,-999.0000,9,-999.0000,9,-999.0000,9,-999.0000,9,-999.0000,9,     -999.0,9,     -999.0,9,       2.59,2,       5.71,2,       2.59,2
33RR20160208,       I08S,      51,          1,         21,         21,2,20160303,       1825,   -45.5590,    94.4702,       3219,   533.5,   6.0503,  34.3751,2,  34.3716,2,    216.4,2,   216.8,2,    18.0,2,    0.00,2,   26.42,2,    0.00,2,    1.79,2,   1.615,2,   1.615,2,   0.183,2,   0.977446264,2,  2173.9,2, 2288.86,2,   7.6539,2,    25.00,   6.0481, -999.00,9,  -999.0,9,  -999.0, -999.00,1,-999.000,9,  -999.0,9, -999.00,9,     -999.0,9,    5.77,2, 20160303,     1935, -45.5590,  94.4702,     -999.0,9,     -999.0,9,     -999.0,9,-999.0000,9,-999.0000,9,-999.0000,9,-999.0000,9,-999.0000,9,-999.0000,9,-999.0000,9,     -999.0,9,     -999.0,9,        2.7,2,       5.77,2,        2.7,2
33RR20160208,       I08S,      51,          1,         22,         22,2,20160303,       1825,   -45.5590,    94.4702,       3219,   466.6,   6.7082,  34.4018,2,  34.4011,2,    217.9,2,   219.0,2,    14.3,2,    0.00,2,   24.65,2,    0.00,2,    1.67,2,-999.000,9,-999.000,9,-999.000,9,-999.000000000,9,  -999.0,9, -999.00,9,-999.0000,9,  -999.00,   6.7162, -999.00,9,  -999.0,9,  -999.0, -999.00,1,-999.000,9,  -999.0,9, -999.00,9,     -999.0,9,    5.84,2, 20160303,     1937, -45.5590,  94.4702,     -999.0,9,     -999.0,9,     -999.0,9,-999.0000,9,-999.0000,9,-999.0000,9,-999.0000,9,-999.0000,9,-999.0000,9,-999.0000,9,     -999.0,9,     -999.0,9,       2.95,2,       5.84,2,       2.95,2
33RR20160208,       I08S,      51,          1,         23,         23,2,20160303,       1825,   -45.5590,    94.4702,       3219,   415.6,   7.4183,  34.4551,2,  34.4525,2,    222.5,2,   220.5,2,    11.7,2,    0.03,2,   22.85,2,    0.00,2,    1.54,2,   1.735,2,   1.735,2,   0.173,2,    1.07619857,2,  2161.9,2, 2287.83,2,   7.6910,6,    24.98,   7.4172, -999.00,9,  -999.0,9,  -999.0, -999.00,1,-999.000,9,  -999.0,9, -999.00,9,     -999.0,9,     6.0,2, 20160303,     1939, -45.5590,  94.4702,     -999.0,9,     -999.0,9,     -999.0,9,-999.0000,9,-999.0000,9,-999.0000,9,-999.0000,9,-999.0000,9,-999.0000,9,-999.0000,9,     -999.0,9,     -999.0,9,       3.27,2,        6.0,2,       3.27,2
33RR20160208,       I08S,      51,          1,         24,         24,2,20160303,       1825,   -45.5590,    94.4702,       3219,   367.0,   7.8428,  34.4654,2,  34.4667,2,    227.6,2,   228.1,2,     9.2,2,    0.00,2,   21.15,2,    0.00,2,    1.44,2,-999.000,9,-999.000,9,-999.000,9,-999.000000000,9,  -999.0,9, -999.00,9,-999.0000,9,  -999.00,   7.8471, -999.00,9,  -999.0,9,  -999.0, -999.00,1,-999.000,9,  -999.0,9, -999.00,9,     -999.0,9,    6.12,2, 20160303,     1942, -45.5590,  94.4702,     -999.0,9,     -999.0,9,     -999.0,9,-999.0000,9,-999.0000,9,-999.0000,9,-999.0000,9,-999.0000,9,-999.0000,9,-999.0000,9,     -999.0,9,     -999.0,9,       3.41,2,       6.12,2,       3.41,2
33RR20160208,       I08S,      51,          1,         25,         25,2,20160303,       1825,   -45.5590,    94.4702,       3219,   315.6,   8.3604,  34.4995,2,  34.4975,2,    234.5,2,   235.4,2,     7.0,2,    0.00,2,   19.29,2,    0.00,2,    1.32,2,   1.874,2,   1.874,2,   0.185,2,    1.56592938,2,  2146.0,2, 2288.17,2,   7.7348,6,    25.00,   8.3491, -999.00,9,  -999.0,9,  -999.0, -999.00,1,-999.000,9,  -999.0,9, -999.00,9,     -999.0,9,    6.44,2, 20160303,     1944, -45.5590,  94.4702,     -999.0,9,     -999.0,9,     -999.0,9,-999.0000,9,-999.0000,9,-999.0000,9,-999.0000,9,-999.0000,9,-999.0000,9,-999.0000,9,     -999.0,9,     -999.0,9,       3.65,2,       6.44,2,       3.65,2
33RR20160208,       I08S,      51,          1,         26,         26,2,20160303,       1825,   -45.5590,    94.4702,       3219,   265.6,   8.7290,  34.5120,2,  34.5135,2,    243.8,2,   246.3,2,     5.5,2,    0.00,2,   17.59,2,    0.00,2,    1.22,2,-999.000,9,-999.000,9,-999.000,9,-999.000000000,9,  -999.0,9, -999.00,9,-999.0000,9,     9.00,   8.7310, -999.00,9,  -999.0,9,  -999.0, -999.00,1,-999.000,9,  -999.0,9, -999.00,9,     -999.0,9,    6.56,2, 20160303,     1946, -45.5590,  94.4702,     -999.0,9,     -999.0,9,     -999.0,9,-999.0000,9,-999.0000,9,-999.0000,9,-999.0000,9,-999.0000,9,-999.0000,9,-999.0000,9,     -999.0,9,     -999.0,9,       3.93,2,       6.56,2,       3.93,2
33RR20160208,       I08S,      51,          1,         27,         27,2,20160303,       1825,   -45.5590,    94.4702,       3219,   216.0,   9.6560,  34.6636,2,  34.6451,2,    248.0,2,   241.8,2,     5.0,2,    0.00,2,   15.87,2,    0.00,2,    1.12,2,   1.849,2,   1.849,2,   0.185,2,     1.5689524,2,  2132.8,2, 2294.89,2,   7.7727,6,    25.02,   9.6505, -999.00,9,  -999.0,9,  -999.0, -999.00,1,-999.000,9,  -999.0,9, -999.00,9,     -999.0,9,    6.63,2, 20160303,     1949, -45.5590,  94.4702,     -999.0,9,     -999.0,9,     -999.0,9,-999.0000,9,-999.0000,9,-999.0000,9,-999.0000,9,-999.0000,9,-999.0000,9,-999.0000,9,     -999.0,9,     -999.0,9,       3.91,2,       6.63,2,       3.91,2