BOTTLE,20220706CCHSIOAMB
EXPOCODE,SECT_ID,STNNBR,CASTNO,SAMPNO,BTLNBR,BTLNBR_FLAG_W,DATE,TIME,LATITUDE,LONGITUDE,DEPTH,CTDPRS,CTDTMP,CTDSAL,CTDSAL_FLAG_W,SALNTY,SALNTY_FLAG_W,CTDOXY,CTDOXY_FLAG_W,OXYGEN,OXYGEN_FLAG_W,SILCAT,SILCAT_FLAG_W,NITRAT,NITRAT_FLAG_W,NITRIT,NITRIT_FLAG_W,PHSPHT,PHSPHT_FLAG_W,CFC-11,CFC-11_FLAG_W,CFC-12,CFC-12_FLAG_W,CFC113,CFC113_FLAG_W,TCARBN,TCARBN_FLAG_W,ALKALI,ALKALI_FLAG_W,PH_SWS,PH_SWS_FLAG_W,PH_TMP,TRITUM,TRITUM_FLAG_W,HELIUM,HELIUM_FLAG_W,DELHE3,DELHE3_FLAG_W,REFTMP,REFTMP_FLAG_W,DELC13,DELC13_FLAG_W,DELC14,DELC14_FLAG_W,C14ERR,NEON,NEON_FLAG_W,NEONER,CCL4,CCL4_FLAG_W,ALUMIN,ALUMIN_FLAG_W,DELO18,DELO18_FLAG_W,DOC,DOC_FLAG_W,TDN,TDN_FLAG_W,BTL_DATE,BTL_TIME,BTL_LAT,BTL_LON,TRITER,DELSI30,DELSI30_FLAG_W,CDOM380,CDOM380_FLAG_W,CDOM325,CDOM325_FLAG_W,CDOMSL,CDOMSL_FLAG_W,CDOM340,CDOM340_FLAG_W,CDOM443,CDOM443_FLAG_W,CDOMSN,CDOMSN_FLAG_W,BLACKC,BLACKC_FLAG_W,CDOM490,CDOM490_FLAG_W,CDOM412,CDOM412_FLAG_W,CDOM555,CDOM555_FLAG_W,DELHER,HELIER
,,,,,,,,,,,METERS,DBAR,ITS-90,PSS-78,,PSS-78,,UMOL/KG,,UMOL/KG,,UMOL/KG,,UMOL/KG,,UMOL/KG,,UMOL/KG,,PMOL/KG,,PMOL/KG,,PMOL/KG,,UMOL/KG,,UMOL/KG,,,,DEG C,TU,,NMOL/KG,,PERCNT,,DEG C,,/MILLE,,/MILLE,,/MILLE,NMOL/KG,,NMOL/KG,PMOL/KG,,NMOL/L,,/MILLE,,UMOL/KG,,UMOL/KG,,,,,,TU,/MILLE,,1/M,,1/M,,1/NM,,1/M,,1/M,,1/NM,,,,1/M,,1/M,,1/M,,PERCNT,NMOL/KG
33RR20080204,       I06S,      92,          3,         26,         26,2,20080305,       0722,   -68.6154,    31.6365,        321,     3.3,  -1.6661,  33.6113,2,  33.6097,2,    338.4,2,   338.9,2,   47.79,2,   24.67,2,    0.13,2,    1.77,2,   6.117,2,   3.368,2,   0.543,2,  2147.0,2,  2278.6,2,   7.8988,2,    13.00,    -999,9,    -999,9,    -999,9,-1.6656,2,-999,9,-999,9,-999,    -999,9,    -999,-999,9,-999,9,-999,9,    -999,9,-999,9, 20080305,     0744, -68.6171,  31.6368,    -999,-999,9,     -999,9,     -999,9,     -999,9,     -999,9,     -999,9,     -999,9,-999,9,     -999,9,     -999,9,     -999,9,    -999,    -999
33RR20080204,       I06S,      92,          3,         24,         24,2,20080305,       0722,   -68.6154,    31.6365,        321,    12.3,  -1.6252,  33.6874,2,  33.6823,2,    339.2,2,   340.4,2,   48.77,2,   25.18,2,    0.13,2,    1.80,2,   6.146,2,   3.381,2,   0.549,2,  2153.8,2,  2284.1,2,   7.8918,2,    13.00,    -999,9,    -999,9,    -999,9,-1.6283,2,-999,9,-999,9,-999,    -999,9,    -999,-999,9,-999,9,-999,9,    -999,9,-999,9, 20080305,     0743, -68.6170,  31.6368,    -999,-999,9,     -999,9,     -999,9,     -999,9,     -999,9,     -999,9,     -999,9,-999,9,     -999,9,     -999,9,     -999,9,    -999,    -999
33RR20080204,       I06S,      92,          3,         22,         22,2,20080305,       0722,   -68.6154,    31.6365,        321,    22.0,  -1.5876,  33.7660,2,  33.7691,2,    341.6,2,   340.4,2,   50.54,2,   25.89,2,    0.14,2,    1.83,2,   6.134,2,   3.406,2,   0.564,2,  2160.9,2,  2291.2,2,   7.8834,2,    13.00,    -999,9,    -999,9,    -999,9,-1.5908,2,-999,9,-999,9,-999,    -999,9,    -999,-999,9,-999,9,-999,9,    -999,9,-999,9, 20080305,     0741, -68.6169,  31.6368,    -999,-999,9,     -999,9,     -999,9,     -999,9,     -999,9,     -999,9,     -999,9,-999,9,     -999,9,     -999,9,     -999,9,    -999,    -999
33RR20080204,       I06S,      92,          3,         20,         20,2,20080305,       0722,   -68.6154,    31.6365,        321,    32.9,  -1.5773,  33.7891,2,  33.7929,2,    340.7,2,   339.4,2,   50.93,2,   26.14,2,    0.13,2,    1.84,2,   6.095,2,   3.411,2,   0.547,2,  2162.8,2,  2289.5,2,   7.8809,2,    13.00,    -999,9,    -999,9,    -999,9,-1.5778,2,-999,9,-999,9,-999,    -999,9,    -999,7.673,2,-999,9,-999,9,    -999,9,-999,9, 20080305,     0740, -68.6168,  31.6368,    -999,-999,9,     -999,9,     -999,9,     -999,9,     -999,9,     -999,9,     -999,9,-999,9,     -999,9,     -999,9,     -999,9,    -999,    -999
33RR20080204,       I06S,      92,          3,         18,         18,2,20080305,       0722,   -68.6154,    31.6365,        321,    52.3,  -1.6952,  34.0000,2,  34.0064,2,    329.5,2,   327.3,2,   55.89,2,   28.40,2,    0.13,2,    2.00,2,   5.861,2,   3.252,2,   0.511,2,  2186.0,2,  2303.3,2,   7.8446,2,    13.00,    -999,9,    -999,9,    -999,9,-1.6973,2,-999,9,-999,9,-999,    -999,9,    -999,6.894,2,-999,9,-999,9,    -999,9,-999,9, 20080305,     0738, -68.6167,  31.6368,    -999,-999,9,     -999,9,     -999,9,     -999,9,     -999,9,     -999,9,     -999,9,-999,9,     -999,9,     -999,9,     -999,9,    -999,    -999
33RR20080204,       I06S,      92,          3,         16,         16,2,20080305,       0722,   -68.6154,    31.6365,        321,    72.7,  -1.7631,  34.1490,2,  34.1352,2,    322.0,2,   321.2,2,   58.66,2,   29.64,2,    0.12,2,    2.08,2,   5.743,2,   3.173,2,   0.517,2,  2201.4,2,  2309.9,2,   7.8243,2,    13.00,    -999,9,    -999,9,    -999,9,-1.7633,2,-999,9,-999,9,-999,    -999,9,    -999,6.678,2,-999,9,-999,9,    -999,9,-999,9, 20080305,     0736, -68.6166,  31.6368,    -999,-999,9,     -999,9,     -999,9,     -999,9,     -999,9,     -999,9,     -999,9,-999,9,     -999,9,     -999,9,     -999,9,    -999,    -999
33RR20080204,       I06S,      92,          3,         14,         14,2,20080305,       0722,   -68.6154,    31.6365,        321,    92.0,  -1.7634,  34.1765,2,  34.1790,2,    316.1,2,   315.2,2,   59.45,2,   30.15,2,    0.11,2,    2.10,2,   5.513,6,   3.038,6,   0.502,6,  2204.9,2,  2311.9,2,   7.8177,2,    13.00,    -999,9,    -999,9,    -999,9,-1.7644,2,-999,9,-999,9,-999,    -999,9,    -999,6.443,6,-999,9,-999,9,    -999,9,-999,9, 20080305,     0734, -68.6164,  31.6367,    -999,-999,9,     -999,9,     -999,9,     -999,9,     -999,9,     -999,9,     -999,9,-999,9,     -999,9,     -999,9,     -999,9,    -999,    -999
33RR20080204,       I06S,      92,          3,         12,         12,2,20080305,       0722,   -68.6154,    31.6365,        321,   121.9,  -1.5802,  34.2316,2,  34.2311,2,    310.8,2,   308.7,2,   63.62,2,   30.17,2,    0.09,2,    2.10,2,   5.264,2,   2.847,2,   0.472,2,  2210.5,2,  2315.8,2,   7.8158,2,    13.00,    -999,9,    -999,9,    -999,9,-1.5778,2,-999,9,-999,9,-999,    -999,9,    -999,6.066,2,-999,9,-999,9,    -999,9,-999,9, 20080305,     0732, -68.6163,  31.6367,    -999,-999,9,     -999,9,     -999,9,     -999,9,     -999,9,     -999,9,     -999,9,-999,9,     -999,9,     -999,9,     -999,9,    -999,    -999
33RR20080204,       I06S,      92,          3,         10,         10,2,20080305,       0722,   -68.6154,    31.6365,        321,   162.9,  -1.6506,  34.2702,2,  34.2693,2,    307.1,2,   308.6,2,   63.40,2,   30.45,2,    0.06,2,    2.11,2,   5.194,2,   2.856,2,   0.484,2,  2213.7,2,  2318.6,2,   7.8131,2,    13.00,    -999,9,    -999,9,    -999,9,-1.6502,2,-999,9,-999,9,-999,    -999,9,    -999,6.25,2,-999,9,-999,9,    -999,9,-999,9, 20080305,     0730, -68.6162,  31.6367,    -999,-999,9,     -999,9,     -999,9,     -999,9,     -999,9,     -999,9,     -999,9,-999,9,     -999,9,     -999,9,     -999,9,    -999,    -999
33RR20080204,       I06S,      92,          3,          8,          8,2,20080305,       0722,   -68.6154,    31.6365,        321,   202.3,  -1.4192,  34.3142,2,  34.3134,2,    297.7,2,   298.0,2,   67.19,2,   30.66,2,    0.07,2,    2.12,2,   4.769,2,   2.628,2,   0.442,2,  2218.1,2,  2321.1,2,   7.8096,2,    13.00,    -999,9,    -999,9,    -999,9,-1.4197,2,-999,9,-999,9,-999,    -999,9,    -999,5.555,2,-999,9,-999,9,    -999,9,-999,9, 20080305,     0729, -68.6160,  31.6366,    -999,-999,9,     -999,9,     -999,9,     -999,9,     -999,9,     -999,9,     -999,9,-999,9,     -999,9,     -999,9,     -999,9,    -999,    -999
33RR20080204,       I06S,      92,          3,          6,          6,2,20080305,       0722,   -68.6154,    31.6365,        321,   242.0,  -1.1263,  34.3643,2,  34.3622,2,    285.7,2,   286.4,2,   72.18,2,   30.80,2,    0.07,2,    2.14,2,   4.132,2,   2.242,2,   0.388,2,  2224.0,2,  2325.2,2,   7.8036,2,    13.00,    -999,9,    -999,9,    -999,9,-1.1372,2,-999,9,-999,9,-999,    -999,9,    -999,4.705,2,-999,9,-999,9,    -999,9,-999,9, 20080305,     0727, -68.6159,  31.6367,    -999,-999,9,     -999,9,     -999,9,     -999,9,     -999,9,     -999,9,     -999,9,-999,9,     -999,9,     -999,9,     -999,9,    -999,    -999
33RR20080204,       I06S,      92,          3,          4,          4,2,20080305,       0722,   -68.6154,    31.6365,        321,   282.3,  -0.6139,  34.4638,2,  34.4629,2,    264.6,2,   263.6,2,   80.58,2,   31.22,2,    0.05,2,    2.17,2,   3.316,2,   1.780,2,   0.375,2,  2235.0,2,  2332.4,2,   7.7949,2,    13.00,    -999,9,    -999,9,    -999,9,-0.6116,2,-999,9,-999,9,-999,    -999,9,    -999,3.785,2,-999,9,-999,9,    -999,9,-999,9, 20080305,     0724, -68.6155,  31.6365,    -999,-999,9,     -999,9,     -999,9,     -999,9,     -999,9,     -999,9,     -999,9,-999,9,     -999,9,     -999,9,     -999,9,    -999,    -999
33RR20080204,       I06S,      92,          3,          2,          2,2,20080305,       0722,   -68.6154,    31.6365,        321,   302.1,  -0.4141,  34.5001,2,  34.5007,2,    255.1,2,   255.5,2,   84.78,2,   31.33,2,    0.05,2,    2.18,2,   2.955,2,   1.538,2,   0.240,2,  2237.2,6,  2337.3,2,   7.7924,2,    13.00,    -999,9,    -999,9,    -999,9,-0.4157,2,-999,9,-999,9,-999,    -999,9,    -999,2.867,2,-999,9,-999,9,    -999,9,-999,9, 20080305,     0723, -68.6154,  31.6365,    -999,-999,9,     -999,9,     -999,9,     -999,9,     -999,9,     -999,9,     -999,9,-999,9,     -999,9,     -999,9,     -999,9,    -999,    -999