BOTTLE,20220706CCHSIOAMB
EXPOCODE,SECT_ID,STNNBR,CASTNO,SAMPNO,BTLNBR,BTLNBR_FLAG_W,DATE,TIME,LATITUDE,LONGITUDE,DEPTH,CTDPRS,CTDTMP,CTDSAL,CTDSAL_FLAG_W,SALNTY,SALNTY_FLAG_W,CTDOXY,CTDOXY_FLAG_W,OXYGEN,OXYGEN_FLAG_W,SILCAT,SILCAT_FLAG_W,NITRAT,NITRAT_FLAG_W,NITRIT,NITRIT_FLAG_W,PHSPHT,PHSPHT_FLAG_W,CFC-11,CFC-11_FLAG_W,CFC-12,CFC-12_FLAG_W,CFC113,CFC113_FLAG_W,TCARBN,TCARBN_FLAG_W,ALKALI,ALKALI_FLAG_W,PH_SWS,PH_SWS_FLAG_W,PH_TMP,TRITUM,TRITUM_FLAG_W,HELIUM,HELIUM_FLAG_W,DELHE3,DELHE3_FLAG_W,REFTMP,REFTMP_FLAG_W,DELC13,DELC13_FLAG_W,DELC14,DELC14_FLAG_W,C14ERR,NEON,NEON_FLAG_W,NEONER,CCL4,CCL4_FLAG_W,ALUMIN,ALUMIN_FLAG_W,DELO18,DELO18_FLAG_W,DOC,DOC_FLAG_W,TDN,TDN_FLAG_W,BTL_DATE,BTL_TIME,BTL_LAT,BTL_LON,TRITER,DELSI30,DELSI30_FLAG_W,CDOM380,CDOM380_FLAG_W,CDOM325,CDOM325_FLAG_W,CDOMSL,CDOMSL_FLAG_W,CDOM340,CDOM340_FLAG_W,CDOM443,CDOM443_FLAG_W,CDOMSN,CDOMSN_FLAG_W,BLACKC,BLACKC_FLAG_W,CDOM490,CDOM490_FLAG_W,CDOM412,CDOM412_FLAG_W,CDOM555,CDOM555_FLAG_W,DELHER,HELIER
,,,,,,,,,,,METERS,DBAR,ITS-90,PSS-78,,PSS-78,,UMOL/KG,,UMOL/KG,,UMOL/KG,,UMOL/KG,,UMOL/KG,,UMOL/KG,,PMOL/KG,,PMOL/KG,,PMOL/KG,,UMOL/KG,,UMOL/KG,,,,DEG C,TU,,NMOL/KG,,PERCNT,,DEG C,,/MILLE,,/MILLE,,/MILLE,NMOL/KG,,NMOL/KG,PMOL/KG,,NMOL/L,,/MILLE,,UMOL/KG,,UMOL/KG,,,,,,TU,/MILLE,,1/M,,1/M,,1/NM,,1/M,,1/M,,1/NM,,,,1/M,,1/M,,1/M,,PERCNT,NMOL/KG
33RR20080204,       I06S,      80,          3,         33,         33,2,20080301,       1920,   -65.6755,    32.6262,       2927,     7.8,   0.1130,  34.0120,2,  34.0131,2,    337.7,2,   337.6,2,   54.16,2,   26.60,2,    0.24,2,    1.84,2,   5.824,2,   3.335,2,   0.449,2,  2177.6,6,  2305.6,2,     -999,9,     -999,    -999,9,    -999,9,    -999,9,0.1107,2,-999,9,-999,9,-999,    -999,9,    -999,8.612,2,-999,9,-999,9,    -999,9,-999,9, 20080301,     2106, -65.6754,  32.6262,    -999,-999,9,     -999,9,     -999,9,     -999,9,     -999,9,     -999,9,     -999,9,-999,9,     -999,9,     -999,9,     -999,9,    -999,    -999
33RR20080204,       I06S,      80,          3,         32,         32,2,20080301,       1920,   -65.6755,    32.6262,       2927,    20.4,   0.1131,  34.0116,2,  34.0127,2,    337.8,2,   337.6,2,   54.15,2,   26.70,2,    0.24,2,    1.84,2,   5.876,2,   3.251,2,   0.465,2,    -999,9,  2305.4,2,     -999,9,     -999,    -999,9,    -999,9,    -999,9,0.1129,2,-999,9,-999,9,-999,    -999,9,    -999,8.872,2,-999,9,-999,9,    -999,9,-999,9, 20080301,     2104, -65.6754,  32.6262,    -999,-999,9,     -999,9,     -999,9,     -999,9,     -999,9,     -999,9,     -999,9,-999,9,     -999,9,     -999,9,     -999,9,    -999,    -999
33RR20080204,       I06S,      80,          3,         31,         31,2,20080301,       1920,   -65.6755,    32.6262,       2927,    35.2,   0.1036,  34.0135,2,  34.0157,2,    337.6,2,   338.8,2,   54.14,2,   26.70,2,    0.24,2,    1.84,2,   5.861,2,   3.241,2,   0.461,2,    -999,9,  2305.6,2,     -999,9,     -999,    -999,9,    -999,9,    -999,9,0.1071,2,-999,9,-999,9,-999,    -999,9,    -999,7.904,2,-999,9,-999,9,    -999,9,-999,9, 20080301,     2102, -65.6754,  32.6262,    -999,-999,9,     -999,9,     -999,9,     -999,9,     -999,9,     -999,9,     -999,9,-999,9,     -999,9,     -999,9,     -999,9,    -999,    -999
33RR20080204,       I06S,      80,          3,         30,         30,2,20080301,       1920,   -65.6755,    32.6262,       2927,    65.4,  -1.6840,  34.3141,2,  34.3146,2,    311.8,2,   308.5,2,   64.42,2,   30.06,2,    0.14,2,    2.10,2,   4.896,2,   2.686,2,   0.392,2,    -999,9,  2323.0,2,     -999,9,     -999,    -999,9,    -999,9,    -999,9,-1.685,2,-999,9,-999,9,-999,    -999,9,    -999,5.466,2,-999,9,-999,9,    -999,9,-999,9, 20080301,     2059, -65.6755,  32.6263,    -999,-999,9,     -999,9,     -999,9,     -999,9,     -999,9,     -999,9,     -999,9,-999,9,     -999,9,     -999,9,     -999,9,    -999,    -999
33RR20080204,       I06S,      80,          3,         29,         29,2,20080301,       1920,   -65.6755,    32.6262,       2927,    91.8,  -1.6056,  34.3334,2,  34.3333,2,    300.0,2,   303.7,2,   65.83,2,   30.27,2,    0.12,2,    2.10,2,   4.808,2,   3.047,2,   0.281,2,    -999,9,    -999,9,     -999,9,     -999,    -999,9,    -999,9,    -999,9,-1.6067,2,-999,9,-999,9,-999,    -999,9,    -999,7.701,2,-999,9,-999,9,    -999,9,-999,9, 20080301,     2057, -65.6755,  32.6263,    -999,-999,9,     -999,9,     -999,9,     -999,9,     -999,9,     -999,9,     -999,9,-999,9,     -999,9,     -999,9,     -999,9,    -999,    -999
33RR20080204,       I06S,      80,          3,         28,         28,2,20080301,       1920,   -65.6755,    32.6262,       2927,   142.1,  -0.7938,  34.4372,2,  34.4326,2,    270.1,2,   272.1,2,   72.90,2,   31.32,2,    0.02,2,    2.16,2,   3.791,2,   2.189,2,   0.238,2,    -999,9,  2328.6,2,     -999,9,     -999,    -999,9,    -999,9,    -999,9,-0.7661,3,-999,9,-999,9,-999,    -999,9,    -999,4.161,2,-999,9,-999,9,    -999,9,-999,9, 20080301,     2054, -65.6755,  32.6263,    -999,-999,9,     -999,9,     -999,9,     -999,9,     -999,9,     -999,9,     -999,9,-999,9,     -999,9,     -999,9,     -999,9,    -999,    -999
33RR20080204,       I06S,      80,          3,         27,         27,9,20080301,       1920,   -65.6755,    32.6262,       2927,   192.3,   0.6753,  34.5955,2,     -999,9,     -999,9,    -999,9,    -999,9,    -999,9,    -999,9,    -999,9,    -999,9,    -999,9,    -999,9,    -999,9,    -999,9,     -999,9,     -999,    -999,9,    -999,9,    -999,9,0.6757,2,-999,9,-999,9,-999,    -999,9,    -999,-999,9,-999,9,-999,9,    -999,9,-999,9, 20080301,     2051, -65.6754,  32.6262,    -999,-999,9,     -999,9,     -999,9,     -999,9,     -999,9,     -999,9,     -999,9,-999,9,     -999,9,     -999,9,     -999,9,    -999,    -999
33RR20080204,       I06S,      80,          3,         26,         26,2,20080301,       1920,   -65.6755,    32.6262,       2927,   233.1,   0.9635,  34.6500,3,  34.6414,2,    212.9,2,   205.6,2,   87.12,2,   32.18,2,    0.00,2,    2.23,2,   0.004,4,   0.001,4,   0.004,4,    -999,9,  2344.8,2,     -999,9,     -999,    -999,9,    -999,9,    -999,9,0.9641,2,-999,9,-999,9,-999,    -999,9,    -999,0.012,4,-999,9,-999,9,    -999,9,-999,9, 20080301,     2049, -65.6755,  32.6262,    -999,-999,9,     -999,9,     -999,9,     -999,9,     -999,9,     -999,9,     -999,9,-999,9,     -999,9,     -999,9,     -999,9,    -999,    -999
33RR20080204,       I06S,      80,          3,         25,         25,2,20080301,       1920,   -65.6755,    32.6262,       2927,   283.4,   0.9205,  34.6500,3,  34.6494,2,    208.6,2,   209.4,2,   88.95,2,   31.93,2,    0.00,2,    2.20,2,   1.182,2,   0.696,2,   0.091,2,    -999,9,    -999,9,     -999,9,     -999,    -999,9,    -999,9,    -999,9,0.9211,2,-999,9,-999,9,-999,    -999,9,    -999,1.354,2,-999,9,-999,9,    -999,9,-999,9, 20080301,     2046, -65.6754,  32.6262,    -999,-999,9,     -999,9,     -999,9,     -999,9,     -999,9,     -999,9,     -999,9,-999,9,     -999,9,     -999,9,     -999,9,    -999,    -999
33RR20080204,       I06S,      80,          3,         24,         24,2,20080301,       1920,   -65.6755,    32.6262,       2927,   333.5,   0.8425,  34.6542,3,  34.6571,2,    206.4,2,   212.7,2,   89.55,2,   31.63,2,    0.00,2,    2.20,2,   1.186,2,   0.779,2,   0.084,2,    -999,9,  2346.3,2,     -999,9,     -999,    -999,9,    -999,9,    -999,9,0.8445,2,-999,9,-999,9,-999,    -999,9,    -999,1.409,2,-999,9,-999,9,    -999,9,-999,9, 20080301,     2043, -65.6754,  32.6262,    -999,-999,9,     -999,9,     -999,9,     -999,9,     -999,9,     -999,9,     -999,9,-999,9,     -999,9,     -999,9,     -999,9,    -999,    -999
33RR20080204,       I06S,      80,          3,         23,         23,2,20080301,       1920,   -65.6755,    32.6262,       2927,   384.6,   1.0285,  34.6732,3,  34.6865,2,    207.9,2,   205.6,2,   93.40,2,   31.53,2,    0.00,2,    2.19,2,   0.818,2,   0.516,2,   0.043,2,    -999,9,    -999,9,     -999,9,     -999,    -999,9,    -999,9,    -999,9,1.0289,2,-999,9,-999,9,-999,    -999,9,    -999,1.01,2,-999,9,-999,9,    -999,9,-999,9, 20080301,     2040, -65.6754,  32.6262,    -999,-999,9,     -999,9,     -999,9,     -999,9,     -999,9,     -999,9,     -999,9,-999,9,     -999,9,     -999,9,     -999,9,    -999,    -999
33RR20080204,       I06S,      80,          3,         22,         22,2,20080301,       1920,   -65.6755,    32.6262,       2927,   437.1,   0.8110,  34.6650,3,  34.6706,2,    207.9,2,   213.0,2,   92.58,2,   31.34,2,    0.00,2,    2.19,2,   1.060,2,   0.643,2,   0.084,2,    -999,9,  2347.9,2,     -999,9,     -999,    -999,9,    -999,9,    -999,9,0.8129,2,-999,9,-999,9,-999,    -999,9,    -999,1.382,2,-999,9,-999,9,    -999,9,-999,9, 20080301,     2037, -65.6755,  32.6262,    -999,-999,9,     -999,9,     -999,9,     -999,9,     -999,9,     -999,9,     -999,9,-999,9,     -999,9,     -999,9,     -999,9,    -999,    -999
33RR20080204,       I06S,      80,          3,         21,         21,2,20080301,       1920,   -65.6755,    32.6262,       2927,   487.5,   0.8875,  34.6689,3,  34.6809,2,    208.2,2,   210.6,2,   94.41,2,   31.44,2,    0.00,2,    2.18,2,   0.896,2,   0.552,2,   0.062,2,    -999,9,    -999,9,     -999,9,     -999,    -999,9,    -999,9,    -999,9,0.8884,2,-999,9,-999,9,-999,    -999,9,    -999,1.138,2,-999,9,-999,9,    -999,9,-999,9, 20080301,     2035, -65.6755,  32.6263,    -999,-999,9,     -999,9,     -999,9,     -999,9,     -999,9,     -999,9,     -999,9,-999,9,     -999,9,     -999,9,     -999,9,    -999,    -999
33RR20080204,       I06S,      80,          3,         20,         20,2,20080301,       1920,   -65.6755,    32.6262,       2927,   545.9,   0.7083,  34.6831,3,  34.6712,2,    215.6,2,   214.6,2,   94.40,2,   31.40,2,    0.00,2,    2.18,2,   1.055,2,   0.632,2,   0.082,2,    -999,9,  2355.8,2,     -999,9,     -999,    -999,9,    -999,9,    -999,9,0.7097,2,-999,9,-999,9,-999,    -999,9,    -999,1.336,2,-999,9,-999,9,    -999,9,-999,9, 20080301,     2032, -65.6754,  32.6263,    -999,-999,9,     -999,9,     -999,9,     -999,9,     -999,9,     -999,9,     -999,9,-999,9,     -999,9,     -999,9,     -999,9,    -999,    -999
33RR20080204,       I06S,      80,          3,         19,         19,2,20080301,       1920,   -65.6755,    32.6262,       2927,   668.7,   0.7990,  34.6918,2,  34.6937,2,    210.4,2,   207.9,2,  101.75,2,   31.59,2,    0.00,2,    2.19,2,   0.654,2,   0.371,2,   0.047,2,    -999,9,    -999,9,     -999,9,     -999,    -999,9,    -999,9,    -999,9,0.8002,2,-999,9,-999,9,-999,    -999,9,    -999,1.036,2,-999,9,-999,9,    -999,9,-999,9, 20080301,     2028, -65.6754,  32.6263,    -999,-999,9,     -999,9,     -999,9,     -999,9,     -999,9,     -999,9,     -999,9,-999,9,     -999,9,     -999,9,     -999,9,    -999,    -999
33RR20080204,       I06S,      80,          3,         18,         18,2,20080301,       1920,   -65.6755,    32.6262,       2927,   768.9,   0.7285,  34.6848,3,  34.6919,2,    210.1,2,   208.8,2,  104.61,2,   31.74,2,    0.00,2,    2.20,2,   0.667,2,   0.389,2,   0.028,2,    -999,9,  2355.4,2,     -999,9,     -999,    -999,9,    -999,9,    -999,9,0.7287,2,-999,9,-999,9,-999,    -999,9,    -999,0.819,2,-999,9,-999,9,    -999,9,-999,9, 20080301,     2025, -65.6754,  32.6262,    -999,-999,9,     -999,9,     -999,9,     -999,9,     -999,9,     -999,9,     -999,9,-999,9,     -999,9,     -999,9,     -999,9,    -999,    -999
33RR20080204,       I06S,      80,          3,         17,         17,2,20080301,       1920,   -65.6755,    32.6262,       2927,   869.2,   0.6905,  34.6898,2,  34.6925,2,    210.5,2,   208.6,2,  106.24,2,   31.80,2,    0.00,2,    2.21,2,   0.586,2,   0.313,2,   0.025,2,    -999,9,    -999,9,     -999,9,     -999,    -999,9,    -999,9,    -999,9,0.6912,2,-999,9,-999,9,-999,    -999,9,    -999,0.812,2,-999,9,-999,9,    -999,9,-999,9, 20080301,     2021, -65.6754,  32.6263,    -999,-999,9,     -999,9,     -999,9,     -999,9,     -999,9,     -999,9,     -999,9,-999,9,     -999,9,     -999,9,     -999,9,    -999,    -999
33RR20080204,       I06S,      80,          3,         15,         15,2,20080301,       1920,   -65.6755,    32.6262,       2927,   974.7,   0.5713,  34.6862,2,  34.6892,2,    208.4,2,   209.4,2,  110.54,2,   32.10,2,    0.00,2,    2.22,2,   0.513,2,   0.308,2,   0.026,2,    -999,9,  2353.5,2,     -999,9,     -999,    -999,9,    -999,9,    -999,9,0.572,2,-999,9,-999,9,-999,    -999,9,    -999,0.793,2,-999,9,-999,9,    -999,9,-999,9, 20080301,     2017, -65.6754,  32.6263,    -999,-999,9,     -999,9,     -999,9,     -999,9,     -999,9,     -999,9,     -999,9,-999,9,     -999,9,     -999,9,     -999,9,    -999,    -999
33RR20080204,       I06S,      80,          3,         14,         14,2,20080301,       1920,   -65.6755,    32.6262,       2927,  1075.1,   0.5206,  34.6868,2,  34.6884,2,    209.1,2,   209.4,2,  113.21,2,   32.20,2,    0.00,2,    2.23,2,   0.485,2,   0.288,2,   0.024,2,    -999,9,    -999,9,     -999,9,     -999,    -999,9,    -999,9,    -999,9,0.5213,2,-999,9,-999,9,-999,    -999,9,    -999,0.726,2,-999,9,-999,9,    -999,9,-999,9, 20080301,     2014, -65.6754,  32.6262,    -999,-999,9,     -999,9,     -999,9,     -999,9,     -999,9,     -999,9,     -999,9,-999,9,     -999,9,     -999,9,     -999,9,    -999,    -999
33RR20080204,       I06S,      80,          3,         13,         13,2,20080301,       1920,   -65.6755,    32.6262,       2927,  1175.8,   0.4596,  34.6850,2,  34.6860,2,    209.6,2,   210.6,2,  113.81,2,   32.20,2,    0.00,2,    2.24,2,   0.453,2,   0.281,2,   0.010,2,    -999,9,    -999,9,     -999,9,     -999,    -999,9,    -999,9,    -999,9,0.4604,2,-999,9,-999,9,-999,    -999,9,    -999,0.761,2,-999,9,-999,9,    -999,9,-999,9, 20080301,     2010, -65.6755,  32.6263,    -999,-999,9,     -999,9,     -999,9,     -999,9,     -999,9,     -999,9,     -999,9,-999,9,     -999,9,     -999,9,     -999,9,    -999,    -999
33RR20080204,       I06S,      80,          3,         12,         12,2,20080301,       1920,   -65.6755,    32.6262,       2927,  1277.6,   0.4088,  34.6813,2,  34.6825,2,    210.5,2,   212.1,2,  115.66,2,   32.25,2,    0.00,2,    2.24,2,   0.479,2,   0.288,2,   0.015,2,    -999,9,  2353.7,2,     -999,9,     -999,    -999,9,    -999,9,    -999,9,0.4094,2,-999,9,-999,9,-999,    -999,9,    -999,0.852,2,-999,9,-999,9,    -999,9,-999,9, 20080301,     2006, -65.6755,  32.6263,    -999,-999,9,     -999,9,     -999,9,     -999,9,     -999,9,     -999,9,     -999,9,-999,9,     -999,9,     -999,9,     -999,9,    -999,    -999
33RR20080204,       I06S,      80,          3,         11,         11,2,20080301,       1920,   -65.6755,    32.6262,       2927,  1382.6,   0.3375,  34.6776,2,  34.6772,2,    214.0,2,   214.2,2,  116.47,2,   32.35,2,    0.00,2,    2.25,2,   0.533,2,   0.321,2,   0.019,2,    -999,9,    -999,9,     -999,9,     -999,    -999,9,    -999,9,    -999,9,0.3383,2,-999,9,-999,9,-999,    -999,9,    -999,0.853,2,-999,9,-999,9,    -999,9,-999,9, 20080301,     2002, -65.6754,  32.6262,    -999,-999,9,     -999,9,     -999,9,     -999,9,     -999,9,     -999,9,     -999,9,-999,9,     -999,9,     -999,9,     -999,9,    -999,    -999
33RR20080204,       I06S,      80,          3,         10,         10,2,20080301,       1920,   -65.6755,    32.6262,       2927,  1483.8,   0.2862,  34.6767,2,  34.6780,2,    216.3,2,   215.2,2,  118.52,2,   32.40,2,    0.00,2,    2.24,2,   0.486,2,   0.293,2,   0.022,2,    -999,9,    -999,9,     -999,9,     -999,    -999,9,    -999,9,    -999,9,0.2875,2,-999,9,-999,9,-999,    -999,9,    -999,0.822,2,-999,9,-999,9,    -999,9,-999,9, 20080301,     1959, -65.6754,  32.6262,    -999,-999,9,     -999,9,     -999,9,     -999,9,     -999,9,     -999,9,     -999,9,-999,9,     -999,9,     -999,9,     -999,9,    -999,    -999
33RR20080204,       I06S,      80,          3,          9,          9,2,20080301,       1920,   -65.6755,    32.6262,       2927,  1584.4,   0.2462,  34.6729,2,  34.6748,2,    216.8,2,   216.8,2,  118.30,2,   32.40,2,    0.00,2,    2.24,2,   0.557,2,   0.341,2,   0.026,2,    -999,9,  2353.5,2,     -999,9,     -999,    -999,9,    -999,9,    -999,9,0.2468,2,-999,9,-999,9,-999,    -999,9,    -999,0.979,2,-999,9,-999,9,    -999,9,-999,9, 20080301,     1956, -65.6755,  32.6263,    -999,-999,9,     -999,9,     -999,9,     -999,9,     -999,9,     -999,9,     -999,9,-999,9,     -999,9,     -999,9,     -999,9,    -999,    -999
33RR20080204,       I06S,      80,          3,          8,          8,2,20080301,       1920,   -65.6755,    32.6262,       2927,  1684.1,   0.1937,  34.6701,2,  34.6707,2,    218.7,2,   219.5,2,  117.88,2,   32.31,2,    0.00,2,    2.24,2,   0.633,2,   0.385,2,   0.028,2,    -999,9,    -999,9,     -999,9,     -999,    -999,9,    -999,9,    -999,9,0.1945,2,-999,9,-999,9,-999,    -999,9,    -999,1.05,2,-999,9,-999,9,    -999,9,-999,9, 20080301,     1952, -65.6754,  32.6262,    -999,-999,9,     -999,9,     -999,9,     -999,9,     -999,9,     -999,9,     -999,9,-999,9,     -999,9,     -999,9,     -999,9,    -999,    -999
33RR20080204,       I06S,      80,          3,          7,          7,2,20080301,       1920,   -65.6755,    32.6262,       2927,  1790.0,   0.1444,  34.6680,2,  34.6699,2,    221.0,2,   221.2,2,  119.12,2,   32.16,2,    0.00,2,    2.25,2,   0.632,2,   0.371,2,   0.018,2,    -999,9,    -999,9,     -999,9,     -999,    -999,9,    -999,9,    -999,9,0.1451,2,-999,9,-999,9,-999,    -999,9,    -999,1.006,2,-999,9,-999,9,    -999,9,-999,9, 20080301,     1949, -65.6754,  32.6262,    -999,-999,9,     -999,9,     -999,9,     -999,9,     -999,9,     -999,9,     -999,9,-999,9,     -999,9,     -999,9,     -999,9,    -999,    -999
33RR20080204,       I06S,      80,          3,          6,          6,2,20080301,       1920,   -65.6755,    32.6262,       2927,  1992.4,   0.0878,  34.6661,2,  34.6684,2,    223.0,2,   223.2,2,  119.92,2,   32.26,2,    0.00,2,    2.24,2,   0.648,2,   0.370,2,   0.032,2,    -999,9,  2355.0,2,     -999,9,     -999,    -999,9,    -999,9,    -999,9,0.0881,2,-999,9,-999,9,-999,    -999,9,    -999,1.028,2,-999,9,-999,9,    -999,9,-999,9, 20080301,     1944, -65.6754,  32.6262,    -999,-999,9,     -999,9,     -999,9,     -999,9,     -999,9,     -999,9,     -999,9,-999,9,     -999,9,     -999,9,     -999,9,    -999,    -999
33RR20080204,       I06S,      80,          3,          5,          5,2,20080301,       1920,   -65.6755,    32.6262,       2927,  2290.8,   0.0502,  34.6657,2,  34.6676,2,    225.1,2,   225.5,2,  121.56,2,   32.32,2,    0.00,2,    2.24,2,   0.629,2,   0.364,2,   0.037,2,    -999,9,    -999,9,     -999,9,     -999,    -999,9,    -999,9,    -999,9,0.0508,2,-999,9,-999,9,-999,    -999,9,    -999,1.147,2,-999,9,-999,9,    -999,9,-999,9, 20080301,     1937, -65.6754,  32.6262,    -999,-999,9,     -999,9,     -999,9,     -999,9,     -999,9,     -999,9,     -999,9,-999,9,     -999,9,     -999,9,     -999,9,    -999,    -999
33RR20080204,       I06S,      80,          3,          4,          4,2,20080301,       1920,   -65.6755,    32.6262,       2927,  2594.8,  -0.0147,  34.6624,2,  34.6635,2,    229.4,2,   228.7,2,  120.33,2,   32.22,2,    0.00,2,    2.23,2,   0.803,2,   0.442,2,   0.042,2,    -999,9,    -999,9,     -999,9,     -999,    -999,9,    -999,9,    -999,9,-0.0145,2,-999,9,-999,9,-999,    -999,9,    -999,1.356,2,-999,9,-999,9,    -999,9,-999,9, 20080301,     1931, -65.6754,  32.6262,    -999,-999,9,     -999,9,     -999,9,     -999,9,     -999,9,     -999,9,     -999,9,-999,9,     -999,9,     -999,9,     -999,9,    -999,    -999