BOTTLE,20220706CCHSIOAMB
EXPOCODE,SECT_ID,STNNBR,CASTNO,SAMPNO,BTLNBR,BTLNBR_FLAG_W,DATE,TIME,LATITUDE,LONGITUDE,DEPTH,CTDPRS,CTDTMP,CTDSAL,CTDSAL_FLAG_W,SALNTY,SALNTY_FLAG_W,CTDOXY,CTDOXY_FLAG_W,OXYGEN,OXYGEN_FLAG_W,SILCAT,SILCAT_FLAG_W,NITRAT,NITRAT_FLAG_W,NITRIT,NITRIT_FLAG_W,PHSPHT,PHSPHT_FLAG_W,CFC-11,CFC-11_FLAG_W,CFC-12,CFC-12_FLAG_W,CFC113,CFC113_FLAG_W,TCARBN,TCARBN_FLAG_W,ALKALI,ALKALI_FLAG_W,PH_SWS,PH_SWS_FLAG_W,PH_TMP,TRITUM,TRITUM_FLAG_W,HELIUM,HELIUM_FLAG_W,DELHE3,DELHE3_FLAG_W,REFTMP,REFTMP_FLAG_W,DELC13,DELC13_FLAG_W,DELC14,DELC14_FLAG_W,C14ERR,NEON,NEON_FLAG_W,NEONER,CCL4,CCL4_FLAG_W,ALUMIN,ALUMIN_FLAG_W,DELO18,DELO18_FLAG_W,DOC,DOC_FLAG_W,TDN,TDN_FLAG_W,BTL_DATE,BTL_TIME,BTL_LAT,BTL_LON,TRITER,DELSI30,DELSI30_FLAG_W,CDOM380,CDOM380_FLAG_W,CDOM325,CDOM325_FLAG_W,CDOMSL,CDOMSL_FLAG_W,CDOM340,CDOM340_FLAG_W,CDOM443,CDOM443_FLAG_W,CDOMSN,CDOMSN_FLAG_W,BLACKC,BLACKC_FLAG_W,CDOM490,CDOM490_FLAG_W,CDOM412,CDOM412_FLAG_W,CDOM555,CDOM555_FLAG_W,DELHER,HELIER
,,,,,,,,,,,METERS,DBAR,ITS-90,PSS-78,,PSS-78,,UMOL/KG,,UMOL/KG,,UMOL/KG,,UMOL/KG,,UMOL/KG,,UMOL/KG,,PMOL/KG,,PMOL/KG,,PMOL/KG,,UMOL/KG,,UMOL/KG,,,,DEG C,TU,,NMOL/KG,,PERCNT,,DEG C,,/MILLE,,/MILLE,,/MILLE,NMOL/KG,,NMOL/KG,PMOL/KG,,NMOL/L,,/MILLE,,UMOL/KG,,UMOL/KG,,,,,,TU,/MILLE,,1/M,,1/M,,1/NM,,1/M,,1/M,,1/NM,,,,1/M,,1/M,,1/M,,PERCNT,NMOL/KG
33RR20080204,       I06S,      96,          2,         23,         23,2,20080305,       2112,   -68.3196,    31.2575,       1480,     3.6,  -0.7074,  34.0399,2,  34.0415,2,    337.2,2,   337.3,2,   55.43,2,   26.89,2,    0.15,2,    1.89,2,   6.041,6,   3.292,6,   0.517,6,  2179.0,6,  2307.1,2,     -999,9,     -999,    -999,9,    -999,9,    -999,9,-0.708,2,-999,9,-999,9,-999,    -999,9,    -999,8.36,6,-999,9,-0.3,2,    -999,9,-999,9, 20080305,     2206, -68.3196,  31.2574,    -999,-999,9,     -999,9,     -999,9,     -999,9,     -999,9,     -999,9,     -999,9,-999,9,     -999,9,     -999,9,     -999,9,    -999,    -999
33RR20080204,       I06S,      96,          2,         22,         22,2,20080305,       2112,   -68.3196,    31.2575,       1480,    25.1,  -0.7024,  34.0397,2,  34.0415,2,    337.3,2,   337.1,2,   55.43,2,   26.84,2,    0.15,2,    1.89,2,   6.007,2,   3.292,2,   0.501,2,    -999,9,  2307.8,2,     -999,9,     -999,    -999,9,    -999,9,    -999,9,-0.703,2,-999,9,-999,9,-999,    -999,9,    -999,7.964,2,-999,9,-0.32,2,    -999,9,-999,9, 20080305,     2204, -68.3196,  31.2575,    -999,-999,9,     -999,9,     -999,9,     -999,9,     -999,9,     -999,9,     -999,9,-999,9,     -999,9,     -999,9,     -999,9,    -999,    -999
33RR20080204,       I06S,      96,          2,         21,         21,2,20080305,       2112,   -68.3196,    31.2575,       1480,    50.3,  -0.7044,  34.0472,2,  34.0472,2,    336.8,2,   336.6,2,   55.62,2,   26.94,2,    0.15,2,    1.89,2,   5.992,2,   3.255,2,   0.511,2,    -999,9,  2307.1,2,     -999,9,     -999,    -999,9,    -999,9,    -999,9,-0.7052,2,-999,9,-999,9,-999,    -999,9,    -999,7.449,2,-999,9,-0.28,2,    -999,9,-999,9, 20080305,     2202, -68.3196,  31.2575,    -999,-999,9,     -999,9,     -999,9,     -999,9,     -999,9,     -999,9,     -999,9,-999,9,     -999,9,     -999,9,     -999,9,    -999,    -999
33RR20080204,       I06S,      96,          2,         20,         20,2,20080305,       2112,   -68.3196,    31.2575,       1480,    88.6,  -1.6335,  34.2184,2,  34.2195,2,    321.3,2,   315.3,2,   60.59,2,   29.64,2,    0.12,2,    2.10,2,   5.428,2,   2.932,2,   0.477,2,    -999,9,  2314.8,2,     -999,9,     -999,    -999,9,    -999,9,    -999,9,-1.62,2,-999,9,-999,9,-999,    -999,9,    -999,6.083,2,-999,9,-0.25,2,    -999,9,-999,9, 20080305,     2159, -68.3196,  31.2575,    -999,-999,9,     -999,9,     -999,9,     -999,9,     -999,9,     -999,9,     -999,9,-999,9,     -999,9,     -999,9,     -999,9,    -999,    -999
33RR20080204,       I06S,      96,          2,         19,         19,2,20080305,       2112,   -68.3196,    31.2575,       1480,   112.2,  -1.7553,  34.2575,2,  34.2592,2,    313.0,2,   312.2,2,   61.58,2,   30.28,2,    0.09,2,    2.11,2,   5.320,2,   2.851,2,   0.460,2,    -999,9,  2317.5,2,     -999,9,     -999,    -999,9,    -999,9,    -999,9,-1.7555,2,-999,9,-999,9,-999,    -999,9,    -999,5.396,2,-999,9,-0.24,2,    -999,9,-999,9, 20080305,     2157, -68.3195,  31.2575,    -999,-999,9,     -999,9,     -999,9,     -999,9,     -999,9,     -999,9,     -999,9,-999,9,     -999,9,     -999,9,     -999,9,    -999,    -999
33RR20080204,       I06S,      96,          2,         18,         18,2,20080305,       2112,   -68.3196,    31.2575,       1480,   161.2,  -1.6894,  34.2854,2,  34.2856,2,    308.2,2,   308.0,2,   62.57,2,   30.41,2,    0.07,2,    2.12,2,   5.210,2,   2.812,2,   0.474,2,    -999,9,  2318.2,2,     -999,9,     -999,    -999,9,    -999,9,    -999,9,-1.6864,2,-999,9,-999,9,-999,    -999,9,    -999,6.132,2,-999,9,-0.31,2,    -999,9,-999,9, 20080305,     2155, -68.3196,  31.2575,    -999,-999,9,     -999,9,     -999,9,     -999,9,     -999,9,     -999,9,     -999,9,-999,9,     -999,9,     -999,9,     -999,9,    -999,    -999
33RR20080204,       I06S,      96,          2,         17,         17,2,20080305,       2112,   -68.3196,    31.2575,       1480,   213.6,  -1.4573,  34.3690,2,  34.3687,2,    295.8,2,   297.2,2,   67.16,2,   30.71,2,    0.02,2,    2.13,2,   4.842,2,   2.584,2,   0.520,2,    -999,9,  2324.7,2,     -999,9,     -999,    -999,9,    -999,9,    -999,9,-1.4575,2,-999,9,-999,9,-999,    -999,9,    -999,5.567,2,-999,9,-0.33,2,    -999,9,-999,9, 20080305,     2152, -68.3196,  31.2575,    -999,-999,9,     -999,9,     -999,9,     -999,9,     -999,9,     -999,9,     -999,9,-999,9,     -999,9,     -999,9,     -999,9,    -999,    -999
33RR20080204,       I06S,      96,          2,         15,         15,2,20080305,       2112,   -68.3196,    31.2575,       1480,   275.3,  -0.7009,  34.4755,2,  34.4763,2,    278.6,2,   269.8,2,   74.34,2,   31.08,2,    0.01,2,    2.15,2,   3.830,2,   2.030,2,   0.339,2,    -999,9,  2331.2,2,     -999,9,     -999,    -999,9,    -999,9,    -999,9,-0.6994,2,-999,9,-999,9,-999,    -999,9,    -999,4.194,2,-999,9,-999,9,    -999,9,-999,9, 20080305,     2150, -68.3196,  31.2575,    -999,-999,9,     -999,9,     -999,9,     -999,9,     -999,9,     -999,9,     -999,9,-999,9,     -999,9,     -999,9,     -999,9,    -999,    -999
33RR20080204,       I06S,      96,          2,         14,         14,2,20080305,       2112,   -68.3196,    31.2575,       1480,   325.2,  -0.3610,  34.5318,2,  34.5328,2,    260.0,2,   257.4,2,   78.34,2,   31.08,2,    0.01,2,    2.16,2,   3.296,2,   1.726,2,   0.264,2,    -999,9,  2334.8,2,     -999,9,     -999,    -999,9,    -999,9,    -999,9,-0.365,2,-999,9,-999,9,-999,    -999,9,    -999,3.53,2,-999,9,-0.15,2,    -999,9,-999,9, 20080305,     2147, -68.3196,  31.2575,    -999,-999,9,     -999,9,     -999,9,     -999,9,     -999,9,     -999,9,     -999,9,-999,9,     -999,9,     -999,9,     -999,9,    -999,    -999
33RR20080204,       I06S,      96,          2,         13,         13,2,20080305,       2112,   -68.3196,    31.2575,       1480,   374.7,  -0.2562,  34.5528,2,  34.5542,2,    253.9,2,   253.6,2,   80.14,2,   31.23,2,    0.01,2,    2.16,2,   3.083,2,   1.603,2,   0.269,2,    -999,9,  2337.3,2,     -999,9,     -999,    -999,9,    -999,9,    -999,9,-0.2559,2,-999,9,-999,9,-999,    -999,9,    -999,3.193,2,-999,9,-999,9,    -999,9,-999,9, 20080305,     2145, -68.3196,  31.2575,    -999,-999,9,     -999,9,     -999,9,     -999,9,     -999,9,     -999,9,     -999,9,-999,9,     -999,9,     -999,9,     -999,9,    -999,    -999
33RR20080204,       I06S,      96,          2,         12,         12,2,20080305,       2112,   -68.3196,    31.2575,       1480,   423.9,  -0.1805,  34.5696,2,  34.5705,2,    247.1,2,   250.4,2,   82.14,2,   31.24,2,    0.01,2,    2.17,2,   2.929,2,   1.500,2,   0.252,2,    -999,9,  2339.1,2,     -999,9,     -999,    -999,9,    -999,9,    -999,9,-0.1807,2,-999,9,-999,9,-999,    -999,9,    -999,3.014,2,-999,9,-999,9,    -999,9,-999,9, 20080305,     2142, -68.3196,  31.2575,    -999,-999,9,     -999,9,     -999,9,     -999,9,     -999,9,     -999,9,     -999,9,-999,9,     -999,9,     -999,9,     -999,9,    -999,    -999
33RR20080204,       I06S,      96,          2,         11,         11,2,20080305,       2112,   -68.3196,    31.2575,       1480,   477.7,   0.0216,  34.6046,2,  34.6050,2,    241.2,2,   241.1,2,   87.35,2,   31.29,2,    0.00,2,    2.17,2,   2.347,2,   1.244,2,   0.194,2,    -999,9,  2342.7,2,     -999,9,     -999,    -999,9,    -999,9,    -999,9,0.0199,2,-999,9,-999,9,-999,    -999,9,    -999,2.353,2,-999,9,-0.13,2,    -999,9,-999,9, 20080305,     2140, -68.3196,  31.2575,    -999,-999,9,     -999,9,     -999,9,     -999,9,     -999,9,     -999,9,     -999,9,-999,9,     -999,9,     -999,9,     -999,9,    -999,    -999
33RR20080204,       I06S,      96,          2,         10,         10,2,20080305,       2112,   -68.3196,    31.2575,       1480,   528.4,   0.1058,  34.6183,2,  34.6203,2,    236.7,2,   236.3,2,   90.16,2,   31.34,2,    0.00,2,    2.18,2,   2.081,2,   1.127,2,   0.154,2,    -999,9,  2344.7,2,     -999,9,     -999,    -999,9,    -999,9,    -999,9,0.1055,2,-999,9,-999,9,-999,    -999,9,    -999,2.167,2,-999,9,-999,9,    -999,9,-999,9, 20080305,     2138, -68.3196,  31.2575,    -999,-999,9,     -999,9,     -999,9,     -999,9,     -999,9,     -999,9,     -999,9,-999,9,     -999,9,     -999,9,     -999,9,    -999,    -999
33RR20080204,       I06S,      96,          2,          9,          9,2,20080305,       2112,   -68.3196,    31.2575,       1480,   649.2,   0.1995,  34.6348,2,  34.6362,2,    232.0,2,   231.4,2,   93.97,2,   31.45,2,    0.00,2,    2.18,2,   1.781,2,   0.962,2,   0.142,2,    -999,9,  2348.3,2,     -999,9,     -999,    -999,9,    -999,9,    -999,9,0.1989,2,-999,9,-999,9,-999,    -999,9,    -999,1.998,2,-999,9,-0.1,2,    -999,9,-999,9, 20080305,     2135, -68.3196,  31.2575,    -999,-999,9,     -999,9,     -999,9,     -999,9,     -999,9,     -999,9,     -999,9,-999,9,     -999,9,     -999,9,     -999,9,    -999,    -999
33RR20080204,       I06S,      96,          2,          8,          8,2,20080305,       2112,   -68.3196,    31.2575,       1480,   749.3,   0.2299,  34.6451,2,  34.6462,2,    228.9,2,   228.2,2,   97.60,2,   31.60,2,    0.00,2,    2.19,2,   1.573,2,   0.840,2,   0.108,2,    -999,9,  2348.3,2,     -999,9,     -999,    -999,9,    -999,9,    -999,9,0.2295,2,-999,9,-999,9,-999,    -999,9,    -999,1.831,2,-999,9,-999,9,    -999,9,-999,9, 20080305,     2132, -68.3196,  31.2575,    -999,-999,9,     -999,9,     -999,9,     -999,9,     -999,9,     -999,9,     -999,9,-999,9,     -999,9,     -999,9,     -999,9,    -999,    -999
33RR20080204,       I06S,      96,          2,          7,          7,2,20080305,       2112,   -68.3196,    31.2575,       1480,   852.1,   0.2412,  34.6487,2,  34.6501,2,    227.8,2,   227.8,2,   98.80,2,   31.65,2,    0.00,2,    2.19,2,   1.498,2,   0.790,2,   0.114,2,    -999,9,  2348.8,2,     -999,9,     -999,    -999,9,    -999,9,    -999,9,0.2398,2,-999,9,-999,9,-999,    -999,9,    -999,1.874,2,-999,9,-999,9,    -999,9,-999,9, 20080305,     2130, -68.3196,  31.2575,    -999,-999,9,     -999,9,     -999,9,     -999,9,     -999,9,     -999,9,     -999,9,-999,9,     -999,9,     -999,9,     -999,9,    -999,    -999
33RR20080204,       I06S,      96,          2,          6,          6,2,20080305,       2112,   -68.3196,    31.2575,       1480,   954.9,   0.2300,  34.6521,2,  34.6540,2,    226.5,2,   226.9,2,  101.82,2,   31.76,2,    0.00,2,    2.20,2,   1.398,2,   0.738,2,   0.111,2,    -999,9,  2349.1,2,     -999,9,     -999,    -999,9,    -999,9,    -999,9,0.2322,2,-999,9,-999,9,-999,    -999,9,    -999,1.698,2,-999,9,-0.14,2,    -999,9,-999,9, 20080305,     2127, -68.3196,  31.2576,    -999,-999,9,     -999,9,     -999,9,     -999,9,     -999,9,     -999,9,     -999,9,-999,9,     -999,9,     -999,9,     -999,9,    -999,    -999
33RR20080204,       I06S,      96,          2,          5,          5,2,20080305,       2112,   -68.3196,    31.2575,       1480,  1056.4,   0.1715,  34.6556,2,  34.6576,2,    226.5,2,   225.8,2,  106.26,2,   31.95,2,    0.01,2,    2.21,2,   1.270,2,   0.685,2,   0.107,2,    -999,9,  2351.9,2,     -999,9,     -999,    -999,9,    -999,9,    -999,9,0.1735,2,-999,9,-999,9,-999,    -999,9,    -999,1.527,2,-999,9,-999,9,    -999,9,-999,9, 20080305,     2124, -68.3196,  31.2575,    -999,-999,9,     -999,9,     -999,9,     -999,9,     -999,9,     -999,9,     -999,9,-999,9,     -999,9,     -999,9,     -999,9,    -999,    -999
33RR20080204,       I06S,      96,          2,          4,          4,2,20080305,       2112,   -68.3196,    31.2575,       1480,  1155.2,   0.1368,  34.6571,2,  34.6599,2,    226.5,2,   226.5,2,  109.09,2,   31.99,2,    0.02,2,    2.22,2,   1.191,2,   0.660,2,   0.087,2,    -999,9,  2352.1,2,     -999,9,     -999,    -999,9,    -999,9,    -999,9,0.1365,2,-999,9,-999,9,-999,    -999,9,    -999,1.508,2,-999,9,-999,9,    -999,9,-999,9, 20080305,     2121, -68.3196,  31.2575,    -999,-999,9,     -999,9,     -999,9,     -999,9,     -999,9,     -999,9,     -999,9,-999,9,     -999,9,     -999,9,     -999,9,    -999,    -999
33RR20080204,       I06S,      96,          2,          3,          3,2,20080305,       2112,   -68.3196,    31.2575,       1480,  1255.7,   0.1263,  34.6576,2,  34.6615,2,    226.3,2,   226.6,2,  110.30,2,   31.99,2,    0.02,2,    2.22,2,   1.188,2,   0.653,2,   0.087,2,    -999,9,  2352.8,2,     -999,9,     -999,    -999,9,    -999,9,    -999,9,0.126,2,-999,9,-999,9,-999,    -999,9,    -999,1.556,2,-999,9,-0.1,2,    -999,9,-999,9, 20080305,     2118, -68.3196,  31.2575,    -999,-999,9,     -999,9,     -999,9,     -999,9,     -999,9,     -999,9,     -999,9,-999,9,     -999,9,     -999,9,     -999,9,    -999,    -999
33RR20080204,       I06S,      96,          2,          2,          2,2,20080305,       2112,   -68.3196,    31.2575,       1480,  1356.2,   0.1301,  34.6580,2,  34.6601,2,    226.4,2,   225.9,2,  110.30,2,   32.04,2,    0.02,2,    2.22,2,   1.168,2,   0.638,2,   0.100,2,    -999,9,  2352.5,2,     -999,9,     -999,    -999,9,    -999,9,    -999,9,0.1299,2,-999,9,-999,9,-999,    -999,9,    -999,1.467,2,-999,9,-999,9,    -999,9,-999,9, 20080305,     2115, -68.3196,  31.2575,    -999,-999,9,     -999,9,     -999,9,     -999,9,     -999,9,     -999,9,     -999,9,-999,9,     -999,9,     -999,9,     -999,9,    -999,    -999
33RR20080204,       I06S,      96,          2,          1,          1,2,20080305,       2112,   -68.3196,    31.2575,       1480,  1480.2,   0.1371,  34.6576,2,  34.6603,2,    226.3,2,   226.2,2,  110.10,2,   31.99,2,    0.03,2,    2.22,2,   1.208,2,   0.641,2,   0.076,2,    -999,9,  2352.1,2,     -999,9,     -999,    -999,9,    -999,9,    -999,9,0.1364,2,-999,9,-999,9,-999,    -999,9,    -999,1.337,2,-999,9,-0.14,2,    -999,9,-999,9, 20080305,     2112, -68.3196,  31.2575,    -999,-999,9,     -999,9,     -999,9,     -999,9,     -999,9,     -999,9,     -999,9,-999,9,     -999,9,     -999,9,     -999,9,    -999,    -999