BOTTLE,20220706CCHSIOAMB
EXPOCODE,SECT_ID,STNNBR,CASTNO,SAMPNO,BTLNBR,BTLNBR_FLAG_W,DATE,TIME,LATITUDE,LONGITUDE,DEPTH,CTDPRS,CTDTMP,CTDSAL,CTDSAL_FLAG_W,SALNTY,SALNTY_FLAG_W,CTDOXY,CTDOXY_FLAG_W,OXYGEN,OXYGEN_FLAG_W,SILCAT,SILCAT_FLAG_W,NITRAT,NITRAT_FLAG_W,NITRIT,NITRIT_FLAG_W,PHSPHT,PHSPHT_FLAG_W,CFC-11,CFC-11_FLAG_W,CFC-12,CFC-12_FLAG_W,CFC113,CFC113_FLAG_W,TCARBN,TCARBN_FLAG_W,ALKALI,ALKALI_FLAG_W,PH_SWS,PH_SWS_FLAG_W,PH_TMP,TRITUM,TRITUM_FLAG_W,HELIUM,HELIUM_FLAG_W,DELHE3,DELHE3_FLAG_W,REFTMP,REFTMP_FLAG_W,DELC13,DELC13_FLAG_W,DELC14,DELC14_FLAG_W,C14ERR,NEON,NEON_FLAG_W,NEONER,CCL4,CCL4_FLAG_W,ALUMIN,ALUMIN_FLAG_W,DELO18,DELO18_FLAG_W,DOC,DOC_FLAG_W,TDN,TDN_FLAG_W,BTL_DATE,BTL_TIME,BTL_LAT,BTL_LON,TRITER,DELSI30,DELSI30_FLAG_W,CDOM380,CDOM380_FLAG_W,CDOM325,CDOM325_FLAG_W,CDOMSL,CDOMSL_FLAG_W,CDOM340,CDOM340_FLAG_W,CDOM443,CDOM443_FLAG_W,CDOMSN,CDOMSN_FLAG_W,BLACKC,BLACKC_FLAG_W,CDOM490,CDOM490_FLAG_W,CDOM412,CDOM412_FLAG_W,CDOM555,CDOM555_FLAG_W,DELHER,HELIER
,,,,,,,,,,,METERS,DBAR,ITS-90,PSS-78,,PSS-78,,UMOL/KG,,UMOL/KG,,UMOL/KG,,UMOL/KG,,UMOL/KG,,UMOL/KG,,PMOL/KG,,PMOL/KG,,PMOL/KG,,UMOL/KG,,UMOL/KG,,,,DEG C,TU,,NMOL/KG,,PERCNT,,DEG C,,/MILLE,,/MILLE,,/MILLE,NMOL/KG,,NMOL/KG,PMOL/KG,,NMOL/L,,/MILLE,,UMOL/KG,,UMOL/KG,,,,,,TU,/MILLE,,1/M,,1/M,,1/NM,,1/M,,1/M,,1/NM,,,,1/M,,1/M,,1/M,,PERCNT,NMOL/KG
33RR20080204,       I06S,      88,          1,         26,         26,2,20080304,       0617,   -68.1081,    32.5117,        514,     3.4,  -1.4847,  33.7280,2,  33.7233,2,    339.9,2,   340.3,2,   49.79,2,   25.49,2,    0.14,2,    1.81,2,    -999,5,    -999,5,    -999,5,  2155.0,2,  2286.6,2,   7.8887,3,    13.00,   0.104,2,   1.819,2,   -1.47,2,-1.4851,2,-999,9,-999,9,-999,   8.145,2,   0.031,-999,5,-999,9,-999,9,   50.83,3,-999,1, 20080304,     0643, -68.1079,  32.5118,   0.009,-999,9,   0.0575,2,   0.1416,2,   0.0122,3,   0.1027,2,   0.0297,2,   0.0122,3,-999,1,   0.0166,2,   0.0421,2,   0.0074,2,    0.15,   0.007
33RR20080204,       I06S,      88,          1,         28,         28,2,20080304,       0617,   -68.1081,    32.5117,        514,     4.6,  -1.4847,  33.7277,2,  33.7237,2,    339.9,2,   340.0,2,   49.78,2,   25.49,2,    0.14,2,    1.81,2,    -999,9,    -999,9,    -999,9,    -999,9,  2286.8,2,     -999,1,     -999,    -999,9,    -999,9,    -999,9,-999,9,-999,9,-999,9,-999,    -999,9,    -999,-999,9,-999,9,-0.24,2,    -999,9,-999,9, 20080304,     0643, -68.1079,  32.5118,    -999,-999,9,     -999,9,     -999,9,     -999,9,     -999,9,     -999,9,     -999,9,-999,9,     -999,9,     -999,9,     -999,9,    -999,    -999
33RR20080204,       I06S,      88,          1,         24,         24,2,20080304,       0617,   -68.1081,    32.5117,        514,    22.9,  -1.4837,  33.7296,2,  33.7237,2,    339.8,2,   339.5,2,   49.78,2,   25.49,2,    0.14,2,    1.81,2,   5.961,2,   3.379,2,   0.488,2,  2156.2,2,    -999,9,   7.8883,2,    13.00,    -999,9,    -999,9,    -999,9,-1.4841,2,-999,9,-999,9,-999,    -999,9,    -999,7.105,2,-999,9,-0.27,2,   45.76,2,-999,1, 20080304,     0642, -68.1080,  32.5117,    -999,-999,9,   0.0375,2,   0.1121,2,   0.0151,3,   0.0764,2,   0.0163,2,   0.0152,3,-999,1,   0.0069,2,   0.0263,2,   0.0015,2,    -999,    -999
33RR20080204,       I06S,      88,          1,         22,         22,2,20080304,       0617,   -68.1081,    32.5117,        514,    37.7,  -1.4864,  33.7258,2,  33.7194,2,    339.8,2,   339.8,2,   49.58,2,   25.44,2,    0.14,2,    1.80,2,   5.990,2,   3.392,2,   0.465,2,  2156.5,2,    -999,9,   7.8894,3,    13.00,   0.106,2,   1.819,2,   -1.40,2,-1.4869,2,-999,9,-999,9,-999,   8.168,2,   0.031,7.019,2,-999,9,-0.32,2,   39.41,2,-999,1, 20080304,     0641, -68.1080,  32.5117,   0.009,-999,9,   0.0457,2,   0.1247,2,   0.0133,3,   0.0870,2,   0.0224,2,   0.0133,3,-999,9,   0.0115,2,   0.0335,2,   0.0041,2,    0.15,   0.007
33RR20080204,       I06S,      88,          1,         20,         20,2,20080304,       0617,   -68.1081,    32.5117,        514,    68.5,  -1.7455,  34.1679,2,  34.1711,2,    320.2,2,   316.9,2,   59.54,2,   29.87,2,    0.12,2,    2.10,2,   5.487,2,   3.083,2,   0.459,2,  2202.2,2,  2311.8,2,   7.8183,3,    13.00,    -999,9,    -999,9,    -999,9,-1.7464,2,-999,9,-999,9,-999,    -999,9,    -999,6.671,2,-999,9,-0.29,2,    -999,9,-999,1, 20080304,     0639, -68.1080,  32.5117,    -999,-999,9,   0.0301,2,   0.0973,2,   0.0172,3,   0.0616,2,   0.0103,2,   0.0175,3,-999,9,   0.0023,2,   0.0196,2,  -0.0003,4,    -999,    -999
33RR20080204,       I06S,      88,          1,         18,         18,2,20080304,       0617,   -68.1081,    32.5117,        514,    94.1,  -1.7671,  34.2071,2,  34.2015,2,    315.3,2,   315.4,2,   60.34,2,   30.18,2,    0.11,2,    2.10,2,   5.397,2,   3.027,2,   0.446,2,  2205.1,2,  2313.0,2,   7.8163,2,    13.00,   0.080,2,   1.861,2,   -0.05,2,-1.766,2,-999,9,-999,9,-999,   8.303,2,   0.032,6.466,2,-999,9,-0.29,2,    -999,9,-999,1, 20080304,     0637, -68.1081,  32.5117,   0.009,-999,9,   0.0334,2,   0.1014,2,   0.0160,3,   0.0655,2,   0.0129,2,   0.0161,3,-999,9,   0.0044,2,   0.0225,2,   0.0004,4,    0.15,   0.007
33RR20080204,       I06S,      88,          1,         16,         16,2,20080304,       0617,   -68.1081,    32.5117,        514,   142.6,  -1.7933,  34.2581,2,  34.2549,2,    311.6,2,   313.5,2,   60.93,2,   30.50,2,    0.04,2,    2.11,2,   5.284,2,   2.956,2,   0.430,2,  2211.1,2,  2316.3,2,   7.8124,2,    13.00,    -999,9,    -999,9,    -999,9,-1.7951,2,-999,9,-999,9,-999,    -999,9,    -999,6.624,2,-999,9,-0.3,2,    -999,9,-999,1, 20080304,     0635, -68.1080,  32.5117,    -999,-999,9,   0.0271,2,   0.0930,2,   0.0178,3,   0.0573,2,   0.0088,2,   0.0185,3,-999,9,   0.0014,2,   0.0175,2,  -0.0015,4,    -999,    -999
33RR20080204,       I06S,      88,          1,         14,         14,2,20080304,       0617,   -68.1081,    32.5117,        514,   194.1,  -1.5902,  34.3070,2,  34.3025,2,    302.2,2,   302.4,2,   64.53,2,   30.56,2,    0.09,2,    2.12,2,   4.987,2,   2.742,2,   0.416,2,  2213.5,2,  2321.4,2,   7.8087,2,    13.00,   0.076,2,   1.859,2,    0.95,2,-1.5875,2,-999,9,-999,9,-999,   8.279,2,   0.031,6.185,2,-999,9,-999,9,   40.39,2,-999,1, 20080304,     0632, -68.1080,  32.5118,   0.009,-999,9,   0.0265,2,   0.0927,2,   0.0173,3,   0.0576,2,   0.0093,2,   0.0189,3,-999,1,   0.0017,2,   0.0183,2,  -0.0012,4,    0.15,   0.007
33RR20080204,       I06S,      88,          1,         12,         12,2,20080304,       0617,   -68.1081,    32.5117,        514,   234.7,  -1.0910,  34.3845,2,  34.3835,2,    282.6,2,   283.6,2,   69.72,2,   31.04,2,    0.02,2,    2.14,2,   4.302,2,   2.387,2,   0.346,2,  2221.6,2,  2326.9,2,   7.7993,2,    13.00,    -999,9,    -999,9,    -999,9,-1.0738,2,-999,9,-999,9,-999,    -999,9,    -999,4.975,2,-999,9,-0.15,2,    -999,9,-999,1, 20080304,     0631, -68.1079,  32.5117,    -999,-999,9,   0.0361,2,   0.1093,2,   0.0163,3,   0.0728,2,   0.0139,2,   0.0164,3,-999,9,   0.0050,2,   0.0241,2,   0.0013,4,    -999,    -999
33RR20080204,       I06S,      88,          1,         10,         10,2,20080304,       0617,   -68.1081,    32.5117,        514,   283.5,  -0.2751,  34.5171,2,  34.5152,2,    255.9,2,   253.0,2,   79.36,2,   31.35,2,    0.02,2,    2.17,2,   3.058,2,   1.669,2,   0.248,2,  2234.9,2,  2336.1,2,   7.7895,2,    13.00,   0.038,2,    -999,1,    -999,9,-0.2646,2,-999,9,-999,9,-999,    -999,9,    -999,3.495,2,-999,9,-999,9,    -999,9,-999,1, 20080304,     0629, -68.1079,  32.5117,   0.009,-999,9,   0.0366,2,   0.1126,2,   0.0173,3,   0.0731,2,   0.0127,2,   0.0174,3,-999,9,   0.0031,2,   0.0229,2,  -0.0005,4,    -999,    -999
33RR20080204,       I06S,      88,          1,          8,          8,2,20080304,       0617,   -68.1081,    32.5117,        514,   334.7,  -0.0371,  34.5527,2,  34.5520,2,    244.0,2,   243.9,2,   82.77,2,   31.46,2,    0.01,2,    2.18,2,   2.655,2,   1.433,2,   0.232,2,  2238.9,2,  2339.6,2,   7.7879,3,    13.00,    -999,9,   1.859,2,    4.32,2,-0.0394,2,-999,9,-999,9,-999,   8.208,2,   0.031,3.15,2,-999,9,-999,9,   37.37,2,-999,1, 20080304,     0626, -68.1078,  32.5117,    -999,-999,9,   0.0366,2,   0.1136,2,   0.0166,3,   0.0750,2,   0.0139,2,   0.0171,3,-999,9,   0.0037,2,   0.0243,2,   0.0005,4,    0.15,   0.007
33RR20080204,       I06S,      88,          1,          6,          6,2,20080304,       0617,   -68.1081,    32.5117,        514,   384.3,   0.3243,  34.6175,2,  34.6164,2,    228.1,2,   229.3,2,   91.24,2,   31.56,2,    0.02,2,    2.20,2,   1.847,2,   1.010,2,   0.142,2,  2244.8,2,  2344.3,2,   7.7858,2,    13.00,   0.019,6,   1.864,2,    6.69,2,0.3259,2,-999,9,-999,9,-999,   8.204,2,   0.031,2.307,2,-999,9,-0.01,2,   40.39,2,-999,1, 20080304,     0623, -68.1079,  32.5117,   0.006,-999,9,   0.0381,2,   0.1160,2,   0.0164,3,   0.0773,2,   0.0147,2,   0.0167,3,-999,9,   0.0048,2,   0.0252,2,   0.0006,3,    0.15,   0.007
33RR20080204,       I06S,      88,          1,          4,          4,2,20080304,       0617,   -68.1081,    32.5117,        514,   436.6,   0.4084,  34.6597,2,  34.6589,2,    220.8,2,   221.0,2,  100.94,2,   31.71,2,    0.01,2,    2.19,2,   1.224,6,   0.659,6,   0.081,6,  2254.2,2,  2350.2,2,   7.7867,2,    13.00,    -999,9,    -999,9,    -999,9,0.4123,2,-999,9,-999,9,-999,    -999,9,    -999,1.6875,6,-999,9,-999,9,   41.56,2,-999,1, 20080304,     0621, -68.1080,  32.5117,    -999,-999,9,   0.0348,2,   0.1162,2,   0.0173,3,   0.0768,2,   0.0132,2,   0.0189,3,-999,9,   0.0038,2,   0.0230,2,   0.0007,4,    -999,    -999
33RR20080204,       I06S,      88,          1,          2,          2,2,20080304,       0617,   -68.1081,    32.5117,        514,   496.9,   0.3390,  34.6619,2,  34.6613,2,    220.9,2,   220.4,2,  104.98,2,   31.87,2,    0.01,2,    2.21,2,   1.148,2,   0.621,2,   0.104,2,  2256.6,2,  2352.1,2,   7.7848,2,    13.00,   0.011,2,   1.825,2,    6.83,2,0.3394,2,-999,9,-999,9,-999,   7.988,2,   0.030,1.601,2,-999,9,-0.04,2,    -999,9,-999,1, 20080304,     0617, -68.1081,  32.5117,   0.009,-999,9,   0.0377,2,   0.1170,2,   0.0171,3,   0.0780,2,   0.0138,2,   0.0175,3,-999,9,   0.0040,2,   0.0240,2,   0.0003,4,    0.15,   0.007
33RR20080204,       I06S,      89,          1,         24,         24,2,20080304,       0835,   -68.2996,    32.4035,        395,     2.7,  -1.4903,  33.7086,2,  33.7052,2,    339.6,2,   339.8,2,   49.55,2,   25.41,2,    0.14,2,    1.81,2,   6.066,2,   3.410,2,   0.539,2,  2155.6,2,  2285.3,2,   7.8907,2,    13.00,    -999,9,    -999,9,    -999,9,-1.4905,2,-999,9,-999,9,-999,    -999,9,    -999,8.291,2,-999,9,-999,9,   46.05,2,-999,1, 20080304,     0900, -68.2992,  32.4031,    -999,-999,1,     -999,9,     -999,9,     -999,9,     -999,9,     -999,9,     -999,9,-999,1,     -999,9,     -999,9,     -999,9,    -999,    -999
33RR20080204,       I06S,      89,          1,         22,         22,2,20080304,       0835,   -68.2996,    32.4035,        395,    21.9,  -1.4912,  33.7092,2,  33.7060,2,    339.3,2,   339.4,2,   49.35,2,   25.36,2,    0.14,2,    1.81,2,   6.067,6,   3.397,6,   0.535,6,  2155.5,2,  2285.3,2,   7.8904,3,    13.00,    -999,9,    -999,9,    -999,9,-1.4915,2,-999,9,-999,9,-999,    -999,9,    -999,8.2475,6,-999,9,-999,9,   42.54,2,-999,1, 20080304,     0858, -68.2994,  32.4032,    -999,-999,1,     -999,9,     -999,9,     -999,9,     -999,9,     -999,9,     -999,9,-999,1,     -999,9,     -999,9,     -999,9,    -999,    -999
33RR20080204,       I06S,      89,          1,         20,         20,2,20080304,       0835,   -68.2996,    32.4035,        395,    37.9,  -1.4947,  33.7085,2,  33.7054,2,    339.0,2,   339.4,2,   49.54,2,   25.36,2,    0.14,2,    1.80,2,   6.105,2,   3.383,2,   0.522,2,  2155.7,2,  2285.6,2,   7.8884,2,    13.00,    -999,9,    -999,9,    -999,9,-1.4945,2,-999,9,-999,9,-999,    -999,9,    -999,8.158,2,-999,9,-999,9,   43.90,2,-999,1, 20080304,     0856, -68.2995,  32.4033,    -999,-999,1,     -999,9,     -999,9,     -999,9,     -999,9,     -999,9,     -999,9,-999,9,     -999,9,     -999,9,     -999,9,    -999,    -999
33RR20080204,       I06S,      89,          1,         18,         18,2,20080304,       0835,   -68.2996,    32.4035,        395,    68.7,  -1.6170,  33.8325,2,  33.8274,2,    333.4,2,   332.5,2,   52.52,2,   26.75,2,    0.13,2,    1.91,2,   5.866,2,   3.312,2,   0.520,2,  2170.1,2,  2293.0,2,   7.8677,4,    13.00,    -999,9,    -999,9,    -999,9,-1.6154,2,-999,9,-999,9,-999,    -999,9,    -999,7.456,2,-999,9,-999,9,   44.88,2,-999,1, 20080304,     0854, -68.2995,  32.4034,    -999,-999,1,     -999,9,     -999,9,     -999,9,     -999,9,     -999,9,     -999,9,-999,9,     -999,9,     -999,9,     -999,9,    -999,    -999
33RR20080204,       I06S,      89,          1,         16,         16,2,20080304,       0835,   -68.2996,    32.4035,        395,    93.3,  -1.7394,  34.0836,2,  34.0750,3,    325.1,2,   324.3,2,   57.91,2,   29.13,2,    0.12,2,    2.05,2,   5.684,2,   3.204,2,   0.501,2,  2194.5,2,  2307.3,2,   7.8310,2,    13.00,    -999,9,    -999,9,    -999,9,-1.7394,2,-999,9,-999,9,-999,    -999,9,    -999,6.73,2,-999,9,-999,9,   41.56,2,-999,1, 20080304,     0852, -68.2996,  32.4035,    -999,-999,1,     -999,9,     -999,9,     -999,9,     -999,9,     -999,9,     -999,9,-999,9,     -999,9,     -999,9,     -999,9,    -999,    -999
33RR20080204,       I06S,      89,          1,         14,         14,2,20080304,       0835,   -68.2996,    32.4035,        395,   143.6,  -1.7715,  34.1896,2,  34.1854,2,    317.8,2,   316.5,2,   60.70,2,   30.09,2,    0.09,2,    2.09,2,   5.462,2,   3.056,2,   0.436,2,  2203.7,2,  2312.0,2,   7.8184,2,    13.00,    -999,9,    -999,9,    -999,9,-1.7717,2,-999,9,-999,9,-999,    -999,9,    -999,5.986,2,-999,9,-999,9,   41.46,2,-999,1, 20080304,     0850, -68.2997,  32.4035,    -999,-999,1,     -999,9,     -999,9,     -999,9,     -999,9,     -999,9,     -999,9,-999,9,     -999,9,     -999,9,     -999,9,    -999,    -999
33RR20080204,       I06S,      89,          1,         12,         12,2,20080304,       0835,   -68.2996,    32.4035,        395,   193.6,  -1.8189,  34.2480,2,  34.2410,3,    315.4,2,   315.3,2,   61.10,2,   30.45,2,    0.04,2,    2.10,2,   5.407,2,   3.029,2,   0.454,2,  2207.7,2,  2318.3,2,   7.8141,2,    13.00,    -999,9,    -999,9,    -999,9,-1.8177,2,-999,9,-999,9,-999,    -999,9,    -999,5.784,2,-999,9,-999,9,    -999,9,-999,1, 20080304,     0847, -68.2996,  32.4034,    -999,-999,1,     -999,9,     -999,9,     -999,9,     -999,9,     -999,9,     -999,9,-999,1,     -999,9,     -999,9,     -999,9,    -999,    -999
33RR20080204,       I06S,      89,          1,         10,         10,2,20080304,       0835,   -68.2996,    32.4035,        395,   233.8,  -1.8399,  34.2563,2,  34.2531,2,    315.2,2,   317.3,2,   60.49,2,   30.42,2,    0.02,2,    2.10,2,   5.442,2,   3.061,2,   0.461,2,  2208.8,2,  2315.2,2,   7.8163,2,    13.00,    -999,9,    -999,9,    -999,9,-1.8399,2,-999,9,-999,9,-999,    -999,9,    -999,6.532,2,-999,9,-999,9,   39.12,2,-999,1, 20080304,     0845, -68.2995,  32.4034,    -999,-999,1,     -999,9,     -999,9,     -999,9,     -999,9,     -999,9,     -999,9,-999,9,     -999,9,     -999,9,     -999,9,    -999,    -999
33RR20080204,       I06S,      89,          1,          8,          8,2,20080304,       0835,   -68.2996,    32.4035,        395,   283.1,  -1.8279,  34.2635,2,  34.2606,2,    312.6,2,   315.6,2,   61.29,2,   30.51,2,    0.02,2,    2.10,2,   5.379,2,   3.031,2,   0.451,2,  2209.2,2,  2318.4,2,   7.8142,3,    13.00,    -999,9,    -999,9,    -999,9,-1.8297,2,-999,9,-999,9,-999,    -999,9,    -999,6.271,2,-999,9,-999,9,   39.51,2,-999,1, 20080304,     0843, -68.2994,  32.4033,    -999,-999,1,     -999,9,     -999,9,     -999,9,     -999,9,     -999,9,     -999,9,-999,9,     -999,9,     -999,9,     -999,9,    -999,    -999
33RR20080204,       I06S,      89,          1,          6,          6,2,20080304,       0835,   -68.2996,    32.4035,        395,   332.9,  -1.4840,  34.3172,2,  34.3143,2,    301.5,2,   300.5,2,   65.89,2,   30.65,2,    0.05,2,    2.12,2,   4.824,2,   2.687,2,   0.423,2,  2214.7,2,  2321.5,2,   7.8074,2,    13.00,    -999,9,    -999,9,    -999,9,-1.481,2,-999,9,-999,9,-999,    -999,9,    -999,5.672,2,-999,9,-999,9,   39.12,2,-999,1, 20080304,     0840, -68.2993,  32.4032,    -999,-999,1,     -999,9,     -999,9,     -999,9,     -999,9,     -999,9,     -999,9,-999,9,     -999,9,     -999,9,     -999,9,    -999,    -999
33RR20080204,       I06S,      89,          1,          4,          4,2,20080304,       0835,   -68.2996,    32.4035,        395,   363.5,  -0.8177,  34.4256,2,  34.4232,2,    272.4,2,   273.0,2,   76.32,2,   30.95,2,    0.05,2,    2.16,2,   3.742,2,   2.049,2,   0.327,2,  2226.0,2,  2330.0,2,   7.7981,2,    13.00,    -999,9,    -999,9,    -999,9,-0.8152,2,-999,9,-999,9,-999,    -999,9,    -999,4.481,2,-999,9,-999,9,   40.39,2,-999,1, 20080304,     0838, -68.2994,  32.4033,    -999,-999,1,     -999,9,     -999,9,     -999,9,     -999,9,     -999,9,     -999,9,-999,9,     -999,9,     -999,9,     -999,9,    -999,    -999
33RR20080204,       I06S,      89,          1,          2,          2,2,20080304,       0835,   -68.2996,    32.4035,        395,   382.9,  -0.7971,  34.4288,2,  34.4269,2,    272.3,2,   272.4,2,   76.72,2,   31.06,2,    0.05,2,    2.17,2,   3.723,2,   2.035,2,   0.337,2,  2227.2,6,  2329.3,2,   7.7975,2,    13.00,    -999,9,    -999,9,    -999,9,-0.797,2,-999,9,-999,9,-999,    -999,9,    -999,4.795,2,-999,9,-999,9,   41.27,2,-999,1, 20080304,     0836, -68.2996,  32.4034,    -999,-999,1,     -999,9,     -999,9,     -999,9,     -999,9,     -999,9,     -999,9,-999,9,     -999,9,     -999,9,     -999,9,    -999,    -999