BOTTLE,20220706CCHSIOAMB
EXPOCODE,SECT_ID,STNNBR,CASTNO,SAMPNO,BTLNBR,BTLNBR_FLAG_W,DATE,TIME,LATITUDE,LONGITUDE,DEPTH,CTDPRS,CTDTMP,CTDSAL,CTDSAL_FLAG_W,SALNTY,SALNTY_FLAG_W,CTDOXY,CTDOXY_FLAG_W,OXYGEN,OXYGEN_FLAG_W,SILCAT,SILCAT_FLAG_W,NITRAT,NITRAT_FLAG_W,NITRIT,NITRIT_FLAG_W,PHSPHT,PHSPHT_FLAG_W,CFC-11,CFC-11_FLAG_W,CFC-12,CFC-12_FLAG_W,CFC113,CFC113_FLAG_W,TCARBN,TCARBN_FLAG_W,ALKALI,ALKALI_FLAG_W,PH_SWS,PH_SWS_FLAG_W,PH_TMP,TRITUM,TRITUM_FLAG_W,HELIUM,HELIUM_FLAG_W,DELHE3,DELHE3_FLAG_W,REFTMP,REFTMP_FLAG_W,DELC13,DELC13_FLAG_W,DELC14,DELC14_FLAG_W,C14ERR,NEON,NEON_FLAG_W,NEONER,CCL4,CCL4_FLAG_W,ALUMIN,ALUMIN_FLAG_W,DELO18,DELO18_FLAG_W,DOC,DOC_FLAG_W,TDN,TDN_FLAG_W,BTL_DATE,BTL_TIME,BTL_LAT,BTL_LON,TRITER,DELSI30,DELSI30_FLAG_W,CDOM380,CDOM380_FLAG_W,CDOM325,CDOM325_FLAG_W,CDOMSL,CDOMSL_FLAG_W,CDOM340,CDOM340_FLAG_W,CDOM443,CDOM443_FLAG_W,CDOMSN,CDOMSN_FLAG_W,BLACKC,BLACKC_FLAG_W,CDOM490,CDOM490_FLAG_W,CDOM412,CDOM412_FLAG_W,CDOM555,CDOM555_FLAG_W,DELHER,HELIER
,,,,,,,,,,,METERS,DBAR,ITS-90,PSS-78,,PSS-78,,UMOL/KG,,UMOL/KG,,UMOL/KG,,UMOL/KG,,UMOL/KG,,UMOL/KG,,PMOL/KG,,PMOL/KG,,PMOL/KG,,UMOL/KG,,UMOL/KG,,,,DEG C,TU,,NMOL/KG,,PERCNT,,DEG C,,/MILLE,,/MILLE,,/MILLE,NMOL/KG,,NMOL/KG,PMOL/KG,,NMOL/L,,/MILLE,,UMOL/KG,,UMOL/KG,,,,,,TU,/MILLE,,1/M,,1/M,,1/NM,,1/M,,1/M,,1/NM,,,,1/M,,1/M,,1/M,,PERCNT,NMOL/KG
33RR20080204,       I06S,     104,          3,          7,          7,2,20080307,       1623,   -66.4946,    29.9975,       4276,  2643.7,  -0.0415,  34.6648,2,  34.6635,2,    229.2,2,   228.9,2,  122.47,2,   32.42,2,    0.00,2,    2.24,2,   0.720,2,   0.402,2,   0.059,2,  2254.5,2,  2354.8,2,   7.7860,2,    13.00,    -999,9,    -999,1,    -999,9,-0.0412,2,-999,9,-999,9,-999,    -999,9,    -999,1.37,2,-999,9,-999,9,    -999,9,-999,9, 20080307,     1701, -66.4946,  29.9975,    -999,-999,9,     -999,9,     -999,9,     -999,9,     -999,9,     -999,9,     -999,9,-999,9,     -999,9,     -999,9,     -999,9,    -999,    -999
33RR20080204,       I06S,     104,          3,          6,          6,2,20080307,       1623,   -66.4946,    29.9975,       4276,  2951.8,  -0.0850,  34.6638,2,  34.6625,2,    231.7,2,   230.6,2,  124.30,2,   32.47,2,    0.00,2,    2.24,2,   0.667,2,   0.359,2,   0.058,2,  2253.9,2,  2353.5,2,   7.7867,2,    13.00,    -999,9,    -999,1,    -999,9,-0.0847,2,-999,9,-999,9,-999,    -999,9,    -999,1.495,2,-999,9,-999,9,   38.93,2,-999,1, 20080307,     1654, -66.4946,  29.9975,    -999,-999,9,     -999,9,     -999,9,     -999,9,     -999,9,     -999,9,     -999,9,-999,9,     -999,9,     -999,9,     -999,9,    -999,    -999
33RR20080204,       I06S,     104,          3,          5,          5,2,20080307,       1623,   -66.4946,    29.9975,       4276,  3257.5,  -0.1355,  34.6594,2,  34.6596,2,    235.2,2,   234.9,2,  122.05,2,   32.31,2,    0.00,2,    2.23,2,   0.954,2,   0.518,2,   0.076,2,  2252.7,2,  2354.5,2,   7.7895,2,    13.00,    -999,9,    -999,1,    -999,9,-0.1355,2,-999,9,-999,9,-999,    -999,9,    -999,1.749,2,-999,9,-999,9,    -999,9,-999,9, 20080307,     1647, -66.4946,  29.9976,    -999,-999,9,     -999,9,     -999,9,     -999,9,     -999,9,     -999,9,     -999,9,-999,9,     -999,9,     -999,9,     -999,9,    -999,    -999
33RR20080204,       I06S,     104,          3,          4,          4,2,20080307,       1623,   -66.4946,    29.9975,       4276,  3566.9,  -0.1600,  34.6576,2,  34.6568,2,    237.6,2,   237.2,2,  122.66,2,   32.26,2,    0.00,2,    2.23,2,   0.995,2,   0.529,2,   0.081,2,  2254.8,2,  2353.2,2,   7.7884,2,    13.00,    -999,9,    -999,1,    -999,9,-0.1598,2,-999,9,-999,9,-999,    -999,9,    -999,1.737,2,-999,9,-999,9,    -999,9,-999,1, 20080307,     1641, -66.4946,  29.9975,    -999,-999,9,     -999,9,     -999,9,     -999,9,     -999,9,     -999,9,     -999,9,-999,9,     -999,9,     -999,9,     -999,9,    -999,    -999
33RR20080204,       I06S,     104,          3,          3,          3,2,20080307,       1623,   -66.4946,    29.9975,       4276,  3872.5,  -0.1851,  34.6555,2,  34.6552,2,    239.6,2,   239.6,2,  123.06,2,   32.26,2,    0.00,2,    2.23,2,   1.028,2,   0.550,2,   0.093,2,  2250.8,2,  2353.4,2,   7.7927,4,    13.00,    -999,9,    -999,1,    -999,9,-0.185,2,-999,9,-999,9,-999,    -999,9,    -999,1.708,2,-999,9,-999,9,   37.27,2,-999,1, 20080307,     1635, -66.4946,  29.9975,    -999,-999,9,     -999,9,     -999,9,     -999,9,     -999,9,     -999,9,     -999,9,-999,9,     -999,9,     -999,9,     -999,9,    -999,    -999
33RR20080204,       I06S,     104,          3,          2,          2,2,20080307,       1623,   -66.4946,    29.9975,       4276,  4184.4,  -0.2256,  34.6535,2,  34.6533,2,    241.7,2,   241.8,2,  125.94,2,   32.26,2,    0.00,2,    2.23,2,   0.915,2,   0.501,2,   0.089,2,  2250.8,2,  2353.7,2,   7.7929,2,    13.00,    -999,9,    -999,1,    -999,9,-0.2256,2,-999,9,-999,9,-999,    -999,9,    -999,1.655,2,-999,9,-999,9,   39.22,2,-999,1, 20080307,     1628, -66.4946,  29.9975,    -999,-999,9,     -999,9,     -999,9,     -999,9,     -999,9,     -999,9,     -999,9,-999,9,     -999,9,     -999,9,     -999,9,    -999,    -999
33RR20080204,       I06S,     104,          3,          1,          1,2,20080307,       1623,   -66.4946,    29.9975,       4276,  4337.5,  -0.2589,  34.6527,2,  34.6527,2,    242.0,2,   242.8,2,  129.62,2,   32.36,2,    0.00,2,    2.24,2,   0.757,2,   0.422,2,   0.082,2,  2251.3,6,  2355.1,2,   7.7944,2,    13.00,    -999,9,    -999,1,    -999,9,-0.2593,2,-999,9,-999,9,-999,    -999,9,    -999,1.553,2,-999,9,-999,9,    -999,9,-999,1, 20080307,     1625, -66.4946,  29.9975,    -999,-999,9,     -999,9,     -999,9,     -999,9,     -999,9,     -999,9,     -999,9,-999,9,     -999,9,     -999,9,     -999,9,    -999,    -999