BOTTLE,20220706CCHSIOAMB
EXPOCODE,SECT_ID,STNNBR,CASTNO,SAMPNO,BTLNBR,BTLNBR_FLAG_W,DATE,TIME,LATITUDE,LONGITUDE,DEPTH,CTDPRS,CTDTMP,CTDSAL,CTDSAL_FLAG_W,SALNTY,SALNTY_FLAG_W,CTDOXY,CTDOXY_FLAG_W,OXYGEN,OXYGEN_FLAG_W,SILCAT,SILCAT_FLAG_W,NITRAT,NITRAT_FLAG_W,NITRIT,NITRIT_FLAG_W,PHSPHT,PHSPHT_FLAG_W,CFC-11,CFC-11_FLAG_W,CFC-12,CFC-12_FLAG_W,CFC113,CFC113_FLAG_W,TCARBN,TCARBN_FLAG_W,ALKALI,ALKALI_FLAG_W,PH_SWS,PH_SWS_FLAG_W,PH_TMP,TRITUM,TRITUM_FLAG_W,HELIUM,HELIUM_FLAG_W,DELHE3,DELHE3_FLAG_W,REFTMP,REFTMP_FLAG_W,DELC13,DELC13_FLAG_W,DELC14,DELC14_FLAG_W,C14ERR,NEON,NEON_FLAG_W,NEONER,CCL4,CCL4_FLAG_W,ALUMIN,ALUMIN_FLAG_W,DELO18,DELO18_FLAG_W,DOC,DOC_FLAG_W,TDN,TDN_FLAG_W,BTL_DATE,BTL_TIME,BTL_LAT,BTL_LON,TRITER,DELSI30,DELSI30_FLAG_W,CDOM380,CDOM380_FLAG_W,CDOM325,CDOM325_FLAG_W,CDOMSL,CDOMSL_FLAG_W,CDOM340,CDOM340_FLAG_W,CDOM443,CDOM443_FLAG_W,CDOMSN,CDOMSN_FLAG_W,BLACKC,BLACKC_FLAG_W,CDOM490,CDOM490_FLAG_W,CDOM412,CDOM412_FLAG_W,CDOM555,CDOM555_FLAG_W,DELHER,HELIER
,,,,,,,,,,,METERS,DBAR,ITS-90,PSS-78,,PSS-78,,UMOL/KG,,UMOL/KG,,UMOL/KG,,UMOL/KG,,UMOL/KG,,UMOL/KG,,PMOL/KG,,PMOL/KG,,PMOL/KG,,UMOL/KG,,UMOL/KG,,,,DEG C,TU,,NMOL/KG,,PERCNT,,DEG C,,/MILLE,,/MILLE,,/MILLE,NMOL/KG,,NMOL/KG,PMOL/KG,,NMOL/L,,/MILLE,,UMOL/KG,,UMOL/KG,,,,,,TU,/MILLE,,1/M,,1/M,,1/NM,,1/M,,1/M,,1/NM,,,,1/M,,1/M,,1/M,,PERCNT,NMOL/KG
33RR20080204,       I06S,      69,          1,          7,          7,2,20080227,       0625,   -61.5000,    30.0000,       5221,  3929.7,  -0.2093,  34.6577,2,  34.6572,2,    237.9,2,   238.7,2,  127.26,2,   32.43,2,    0.00,2,    2.25,2,   0.435,2,   0.248,2,   0.019,2,  2252.6,2,  2353.0,2,   7.8021,4,    13.00,    -999,9,    -999,9,    -999,9,-0.2095,2,-999,9,-999,9,-999,    -999,9,    -999,1.033,2,-999,9,-999,9,    -999,9,-999,9, 20080227,     0654, -61.5000,  30.0000,    -999,-999,9,   0.0312,2,   0.1042,2,   0.0171,3,   0.0672,2,   0.0115,2,   0.0183,3,-999,9,   0.0030,2,   0.0210,2,  -0.0003,4,    -999,    -999
33RR20080204,       I06S,      69,          1,          6,          6,2,20080227,       0625,   -61.5000,    30.0000,       5221,  4235.0,  -0.2410,  34.6558,2,  34.6561,2,    240.4,2,   240.0,2,  128.59,2,   32.43,2,    0.00,2,    2.28,2,   0.431,2,   0.233,2,   0.017,2,    -999,9,  2354.2,2,   7.7979,2,    13.00,    -999,9,    -999,9,    -999,9,-0.2412,2,-999,9,-999,9,-999,    -999,9,    -999,1.051,2,-999,9,-999,9,    -999,9,-999,1, 20080227,     0648, -61.5000,  30.0001,    -999,-999,1,     -999,9,     -999,9,     -999,9,     -999,9,     -999,9,     -999,9,-999,1,     -999,9,     -999,9,     -999,9,    -999,    -999
33RR20080204,       I06S,      69,          1,          5,          5,2,20080227,       0625,   -61.5000,    30.0000,       5221,  4541.4,  -0.2595,  34.6543,2,  34.6537,2,    242.1,2,   242.8,2,  129.34,2,   32.33,2,    0.00,2,    2.24,2,   0.431,2,   0.235,2,   0.020,2,  2253.4,2,  2354.1,2,   7.7978,2,    13.00,    -999,9,    -999,9,    -999,9,-0.2597,2,-999,9,-999,9,-999,    -999,9,    -999,1.042,2,-999,9,-999,9,    -999,9,-999,9, 20080227,     0642, -61.5000,  30.0000,    -999,-999,9,   0.0312,2,   0.1032,2,   0.0173,3,   0.0663,2,   0.0112,2,   0.0182,3,-999,9,   0.0028,2,   0.0205,2,  -0.0001,4,    -999,    -999
33RR20080204,       I06S,      69,          1,          4,          4,2,20080227,       0625,   -61.5000,    30.0000,       5221,  4745.7,  -0.2681,  34.6534,2,  34.6531,2,    243.3,2,   243.2,2,  130.47,2,   32.33,2,    0.00,2,    2.25,2,   0.426,2,   0.229,2,   0.024,2,    -999,9,  2354.1,2,   7.7990,2,    13.00,    -999,9,    -999,9,    -999,9,-0.268,2,-999,9,-999,9,-999,    -999,9,    -999,1.042,2,-999,9,-999,9,    -999,9,-999,9, 20080227,     0637, -61.5000,  30.0000,    -999,-999,1,     -999,9,     -999,9,     -999,9,     -999,9,     -999,9,     -999,9,-999,9,     -999,9,     -999,9,     -999,9,    -999,    -999
33RR20080204,       I06S,      69,          1,          3,          3,2,20080227,       0625,   -61.5000,    30.0000,       5221,  4950.3,  -0.2765,  34.6519,2,  34.6525,2,    244.4,2,   244.2,2,  131.61,2,   32.33,2,    0.00,2,    2.25,2,   0.458,2,   0.253,2,   0.022,2,  2253.1,2,  2353.4,2,   7.7998,2,    13.00,    -999,9,    -999,9,    -999,9,-0.2769,2,-999,9,-999,9,-999,    -999,9,    -999,1.073,2,-999,9,-999,9,    -999,9,-999,1, 20080227,     0633, -61.4999,  29.9999,    -999,-999,9,   0.0327,2,   0.1066,2,   0.0170,3,   0.0690,2,   0.0121,2,   0.0179,3,-999,9,   0.0031,2,   0.0218,2,   0.0000,4,    -999,    -999
33RR20080204,       I06S,      69,          1,          2,          2,2,20080227,       0625,   -61.5000,    30.0000,       5221,  5166.6,  -0.2830,  34.6505,2,  34.6508,2,    245.4,2,   245.0,2,  133.89,2,   32.38,2,    0.00,2,    2.25,2,   0.377,4,   0.227,4,   0.026,4,  2251.0,2,  2353.7,2,   7.8001,2,    13.00,    -999,9,    -999,9,    -999,9,-0.2832,2,-999,9,-999,9,-999,    -999,9,    -999,1.038,4,-999,9,-999,9,    -999,9,-999,9, 20080227,     0628, -61.5000,  30.0000,    -999,-999,9,     -999,9,     -999,9,     -999,9,     -999,9,     -999,9,     -999,9,-999,9,     -999,9,     -999,9,     -999,9,    -999,    -999
33RR20080204,       I06S,      69,          1,          1,          1,2,20080227,       0625,   -61.5000,    30.0000,       5221,  5293.6,  -0.2881,  34.6498,2,  34.6508,2,    245.6,2,   245.3,2,  133.68,2,   32.38,2,    0.00,2,    2.25,2,   0.521,2,   0.278,2,   0.037,2,  2252.7,2,  2353.6,2,   7.7995,2,    13.00,    -999,9,    -999,9,    -999,9,-0.2881,2,-999,9,-999,9,-999,    -999,9,    -999,1.404,2,-999,9,-999,9,   37.56,2,-999,1, 20080227,     0625, -61.5000,  30.0000,    -999,-999,1,   0.0318,2,   0.1081,2,   0.0175,3,   0.0694,2,   0.0115,2,   0.0188,3,-999,1,   0.0029,2,   0.0210,2,  -0.0004,4,    -999,    -999