BOTTLE,20220706CCHSIOAMB
EXPOCODE,SECT_ID,STNNBR,CASTNO,SAMPNO,BTLNBR,BTLNBR_FLAG_W,DATE,TIME,LATITUDE,LONGITUDE,DEPTH,CTDPRS,CTDTMP,CTDSAL,CTDSAL_FLAG_W,SALNTY,SALNTY_FLAG_W,CTDOXY,CTDOXY_FLAG_W,OXYGEN,OXYGEN_FLAG_W,SILCAT,SILCAT_FLAG_W,NITRAT,NITRAT_FLAG_W,NITRIT,NITRIT_FLAG_W,PHSPHT,PHSPHT_FLAG_W,CFC-11,CFC-11_FLAG_W,CFC-12,CFC-12_FLAG_W,CFC113,CFC113_FLAG_W,TCARBN,TCARBN_FLAG_W,ALKALI,ALKALI_FLAG_W,PH_SWS,PH_SWS_FLAG_W,PH_TMP,TRITUM,TRITUM_FLAG_W,HELIUM,HELIUM_FLAG_W,DELHE3,DELHE3_FLAG_W,REFTMP,REFTMP_FLAG_W,DELC13,DELC13_FLAG_W,DELC14,DELC14_FLAG_W,C14ERR,NEON,NEON_FLAG_W,NEONER,CCL4,CCL4_FLAG_W,ALUMIN,ALUMIN_FLAG_W,DELO18,DELO18_FLAG_W,DOC,DOC_FLAG_W,TDN,TDN_FLAG_W,BTL_DATE,BTL_TIME,BTL_LAT,BTL_LON,TRITER,DELSI30,DELSI30_FLAG_W,CDOM380,CDOM380_FLAG_W,CDOM325,CDOM325_FLAG_W,CDOMSL,CDOMSL_FLAG_W,CDOM340,CDOM340_FLAG_W,CDOM443,CDOM443_FLAG_W,CDOMSN,CDOMSN_FLAG_W,BLACKC,BLACKC_FLAG_W,CDOM490,CDOM490_FLAG_W,CDOM412,CDOM412_FLAG_W,CDOM555,CDOM555_FLAG_W,DELHER,HELIER
,,,,,,,,,,,METERS,DBAR,ITS-90,PSS-78,,PSS-78,,UMOL/KG,,UMOL/KG,,UMOL/KG,,UMOL/KG,,UMOL/KG,,UMOL/KG,,PMOL/KG,,PMOL/KG,,PMOL/KG,,UMOL/KG,,UMOL/KG,,,,DEG C,TU,,NMOL/KG,,PERCNT,,DEG C,,/MILLE,,/MILLE,,/MILLE,NMOL/KG,,NMOL/KG,PMOL/KG,,NMOL/L,,/MILLE,,UMOL/KG,,UMOL/KG,,,,,,TU,/MILLE,,1/M,,1/M,,1/NM,,1/M,,1/M,,1/NM,,,,1/M,,1/M,,1/M,,PERCNT,NMOL/KG
33RR20080204,       I06S,      68,          2,          7,          7,2,20080226,       2337,   -60.9973,    29.9954,       5271,  4133.0,  -0.2140,  34.6569,2,  34.6563,2,    238.6,2,   238.9,2,  128.75,2,   32.45,2,    0.00,2,    2.25,2,   0.438,2,   0.237,2,   0.029,2,    -999,9,  2354.0,2,     -999,9,     -999,   0.001,2,   1.925,2,    5.65,2,-0.2144,2,-999,9,-999,9,-999,   8.442,2,   0.032,0.997,2,-999,9,-999,9,    -999,9,-999,9, 20080227,     0008, -60.9970,  29.9953,   0.009,-999,9,     -999,9,     -999,9,     -999,9,     -999,9,     -999,9,     -999,9,-999,9,     -999,9,     -999,9,     -999,9,    0.15,   0.007
33RR20080204,       I06S,      68,          2,          6,          6,2,20080226,       2337,   -60.9973,    29.9954,       5271,  4437.9,  -0.2391,  34.6557,2,  34.6638,3,    240.8,2,   240.9,2,  128.92,2,   32.40,2,    0.00,2,    2.24,2,   0.219,4,   0.152,4,   0.017,4,    -999,9,    -999,9,     -999,9,     -999,    -999,9,    -999,9,    -999,9,-0.2384,2,-999,9,-999,9,-999,    -999,9,    -999,0.479,4,-999,9,-0.23,2,    -999,9,-999,9, 20080227,     0001, -60.9972,  29.9954,    -999,-999,9,     -999,9,     -999,9,     -999,9,     -999,9,     -999,9,     -999,9,-999,9,     -999,9,     -999,9,     -999,9,    -999,    -999
33RR20080204,       I06S,      68,          2,          5,          5,2,20080226,       2337,   -60.9973,    29.9954,       5271,  4644.1,  -0.2502,  34.6542,2,  34.6536,2,    242.1,2,   241.7,2,  129.68,2,   32.36,2,    0.00,2,    2.24,2,   0.442,2,   0.247,2,   0.023,2,    -999,9,  2352.5,2,     -999,9,     -999,    -999,9,   1.891,2,    5.54,2,-0.2502,2,-999,9,-999,9,-999,   8.303,2,   0.032,1.086,2,-999,9,-999,9,    -999,9,-999,9, 20080226,     2356, -60.9972,  29.9954,    -999,-999,9,     -999,9,     -999,9,     -999,9,     -999,9,     -999,9,     -999,9,-999,9,     -999,9,     -999,9,     -999,9,    0.15,   0.007
33RR20080204,       I06S,      68,          2,          4,          4,2,20080226,       2337,   -60.9973,    29.9954,       5271,  4849.2,  -0.2593,  34.6528,2,  34.6523,2,    243.3,2,   243.1,2,  131.39,2,   32.37,2,    0.00,2,    2.24,2,   0.442,2,   0.256,2,   0.022,2,    -999,9,    -999,9,     -999,9,     -999,   0.010,2,   1.891,2,    5.12,2,-0.2598,2,-999,9,-999,9,-999,   8.336,2,   0.032,1.264,2,-999,9,-999,9,    -999,9,-999,9, 20080226,     2352, -60.9972,  29.9954,   0.009,-999,9,     -999,9,     -999,9,     -999,9,     -999,9,     -999,9,     -999,9,-999,9,     -999,9,     -999,9,     -999,9,    0.15,   0.007
33RR20080204,       I06S,      68,          2,          3,          3,2,20080226,       2337,   -60.9973,    29.9954,       5271,  5051.9,  -0.2714,  34.6517,2,  34.6515,2,    244.7,2,   244.0,2,  132.16,2,   32.32,2,    0.00,2,    2.24,2,   0.455,2,   0.229,2,   0.020,2,    -999,9,  2353.2,2,     -999,9,     -999,    -999,9,   1.898,2,    5.07,2,-0.2717,2,-999,9,-999,9,-999,   8.336,2,   0.032,1.268,2,-999,9,-999,9,    -999,9,-999,9, 20080226,     2347, -60.9973,  29.9954,    -999,-999,9,     -999,9,     -999,9,     -999,9,     -999,9,     -999,9,     -999,9,-999,9,     -999,9,     -999,9,     -999,9,    0.15,   0.007
33RR20080204,       I06S,      68,          2,          2,          2,2,20080226,       2337,   -60.9973,    29.9954,       5271,  5257.8,  -0.2769,  34.6507,2,  34.6499,2,    245.3,2,   245.1,2,  134.64,2,   32.37,2,    0.00,2,    2.24,2,   0.480,2,   0.302,2,   0.025,2,    -999,9,  2353.7,2,     -999,9,     -999,    -999,9,   1.896,2,    4.89,2,-0.2768,2,-999,9,-999,9,-999,   8.320,2,   0.032,1.365,2,-999,9,-999,9,    -999,9,-999,9, 20080226,     2341, -60.9973,  29.9955,    -999,-999,9,     -999,9,     -999,9,     -999,9,     -999,9,     -999,9,     -999,9,-999,9,     -999,9,     -999,9,     -999,9,    0.15,   0.007
33RR20080204,       I06S,      68,          2,          1,          1,2,20080226,       2337,   -60.9973,    29.9954,       5271,  5336.8,  -0.2805,  34.6496,2,  34.6495,2,    245.3,2,   245.4,2,  135.78,2,   32.41,2,    0.00,2,    2.24,2,   0.532,2,   0.273,2,   0.042,2,    -999,9,  2353.3,2,     -999,9,     -999,   0.008,2,   1.879,2,    4.62,2,-0.2807,2,-999,9,-999,9,-999,   8.269,2,   0.031,1.317,2,-999,9,-0.27,2,    -999,9,-999,9, 20080226,     2337, -60.9973,  29.9955,   0.009,-999,9,     -999,9,     -999,9,     -999,9,     -999,9,     -999,9,     -999,9,-999,9,     -999,9,     -999,9,     -999,9,    0.15,   0.007