BOTTLE,20220706CCHSIOAMB
EXPOCODE,SECT_ID,STNNBR,CASTNO,SAMPNO,BTLNBR,BTLNBR_FLAG_W,DATE,TIME,LATITUDE,LONGITUDE,DEPTH,CTDPRS,CTDTMP,CTDSAL,CTDSAL_FLAG_W,SALNTY,SALNTY_FLAG_W,CTDOXY,CTDOXY_FLAG_W,OXYGEN,OXYGEN_FLAG_W,SILCAT,SILCAT_FLAG_W,NITRAT,NITRAT_FLAG_W,NITRIT,NITRIT_FLAG_W,PHSPHT,PHSPHT_FLAG_W,CFC-11,CFC-11_FLAG_W,CFC-12,CFC-12_FLAG_W,CFC113,CFC113_FLAG_W,TCARBN,TCARBN_FLAG_W,ALKALI,ALKALI_FLAG_W,PH_SWS,PH_SWS_FLAG_W,PH_TMP,TRITUM,TRITUM_FLAG_W,HELIUM,HELIUM_FLAG_W,DELHE3,DELHE3_FLAG_W,REFTMP,REFTMP_FLAG_W,DELC13,DELC13_FLAG_W,DELC14,DELC14_FLAG_W,C14ERR,NEON,NEON_FLAG_W,NEONER,CCL4,CCL4_FLAG_W,ALUMIN,ALUMIN_FLAG_W,DELO18,DELO18_FLAG_W,DOC,DOC_FLAG_W,TDN,TDN_FLAG_W,BTL_DATE,BTL_TIME,BTL_LAT,BTL_LON,TRITER,DELSI30,DELSI30_FLAG_W,CDOM380,CDOM380_FLAG_W,CDOM325,CDOM325_FLAG_W,CDOMSL,CDOMSL_FLAG_W,CDOM340,CDOM340_FLAG_W,CDOM443,CDOM443_FLAG_W,CDOMSN,CDOMSN_FLAG_W,BLACKC,BLACKC_FLAG_W,CDOM490,CDOM490_FLAG_W,CDOM412,CDOM412_FLAG_W,CDOM555,CDOM555_FLAG_W,DELHER,HELIER
,,,,,,,,,,,METERS,DBAR,ITS-90,PSS-78,,PSS-78,,UMOL/KG,,UMOL/KG,,UMOL/KG,,UMOL/KG,,UMOL/KG,,UMOL/KG,,PMOL/KG,,PMOL/KG,,PMOL/KG,,UMOL/KG,,UMOL/KG,,,,DEG C,TU,,NMOL/KG,,PERCNT,,DEG C,,/MILLE,,/MILLE,,/MILLE,NMOL/KG,,NMOL/KG,PMOL/KG,,NMOL/L,,/MILLE,,UMOL/KG,,UMOL/KG,,,,,,TU,/MILLE,,1/M,,1/M,,1/NM,,1/M,,1/M,,1/NM,,,,1/M,,1/M,,1/M,,PERCNT,NMOL/KG
33RR20080204,       I06S,      69,          1,         36,         36,2,20080227,       0625,   -61.5000,    30.0000,       5221,     0.7,   0.7073,  33.7442,7,  33.7529,2,    337.7,2,   337.9,2,   50.02,2,   25.63,2,    0.34,2,    1.79,2,   6.254,2,   3.532,2,   0.481,2,  2163.9,2,  2288.7,2,   7.8909,2,    13.00,    -999,9,    -999,9,    -999,9,0.7089,2,1.39,2,-106.4,2,2.8,    -999,9,    -999,8.459,2,-999,9,-999,9,   42.83,2,-999,1, 20080227,     0836, -61.4999,  30.0000,    -999,-999,9,   0.0206,2,   0.0684,2,   0.0063,4,   0.0425,2,   0.0061,2,   0.0187,3,-999,9,   0.0003,4,   0.0133,2,  -0.0023,4,    -999,    -999
33RR20080204,       I06S,      69,          1,         35,         35,2,20080227,       0625,   -61.5000,    30.0000,       5221,    27.2,   0.6984,  33.7462,2,  33.7482,2,    338.8,2,   338.3,2,   50.01,2,   25.63,2,    0.34,2,    1.79,2,   6.263,2,   3.528,2,   0.498,2,    -999,9,  2288.4,2,   7.8905,3,    13.00,    -999,9,    -999,9,    -999,9,0.6978,2,-999,9,-999,9,-999,    -999,9,    -999,9.087,2,-999,9,-999,9,   40.98,2,-999,1, 20080227,     0833, -61.5000,  30.0000,    -999,-999,9,   0.0205,2,   0.0835,2,   0.0075,4,   0.0548,2,   0.0061,2,   0.0265,3,-999,1,   0.0002,4,   0.0132,2,  -0.0025,4,    -999,    -999
33RR20080204,       I06S,      69,          1,         34,         34,2,20080227,       0625,   -61.5000,    30.0000,       5221,    53.0,   0.6812,  33.7496,2,  33.7525,2,    339.1,2,   338.9,2,   50.00,2,   25.68,2,    0.34,2,    1.79,2,   6.286,2,   3.546,2,   0.494,2,  2162.2,2,  2289.4,2,   7.8903,2,    13.00,    -999,9,    -999,9,    -999,9,0.6789,2,-999,9,-999,9,-999,    -999,9,    -999,9.028,2,-999,9,-999,9,   41.66,2,-999,1, 20080227,     0831, -61.5000,  30.0001,    -999,-999,1,   0.0212,2,   0.0863,2,   0.0077,4,   0.0580,2,   0.0060,2,   0.0259,3,-999,9,   0.0001,4,   0.0130,2,  -0.0026,4,    -999,    -999
33RR20080204,       I06S,      69,          1,         33,         33,2,20080227,       0625,   -61.5000,    30.0000,       5221,    86.7,  -1.3636,  34.0861,2,  34.0848,2,    347.0,2,   346.7,2,   55.71,2,   27.52,2,    0.25,2,    1.91,2,   6.408,6,   3.582,6,   0.506,6,  2190.7,2,  2309.5,2,   7.8654,2,    13.00,    -999,9,    -999,9,    -999,9,-1.3678,2,-999,9,-999,9,-999,    -999,9,    -999,8.7755,6,-999,9,-999,9,   42.83,2,-999,1, 20080227,     0830, -61.5000,  30.0001,    -999,-999,1,   0.0265,2,   0.0915,2,   0.0083,4,   0.0588,2,   0.0088,2,   0.0191,3,-999,1,   0.0017,2,   0.0182,2,  -0.0016,4,    -999,    -999
33RR20080204,       I06S,      69,          1,         32,         32,2,20080227,       0625,   -61.5000,    30.0000,       5221,   111.2,  -1.1874,  34.1695,2,  34.1656,2,    330.4,2,   330.3,2,   60.14,2,   28.58,2,    0.28,2,    1.98,2,   5.978,2,   3.319,2,   0.496,2,    -999,9,  2314.7,2,   7.8446,2,    13.00,    -999,9,    -999,9,    -999,9,-1.2399,3,1.13,2,-112.7,2,2.9,    -999,9,    -999,7.919,2,-999,9,-999,9,   45.37,2,-999,1, 20080227,     0828, -61.5000,  30.0000,    -999,-999,1,   0.0274,2,   0.0899,2,   0.0104,4,   0.0579,2,   0.0094,2,   0.0179,3,-999,9,   0.0019,2,   0.0191,2,  -0.0014,4,    -999,    -999
33RR20080204,       I06S,      69,          1,         31,         31,2,20080227,       0625,   -61.5000,    30.0000,       5221,   162.1,   0.3656,  34.3959,2,  34.3906,2,    246.2,2,   249.8,2,   75.35,2,   32.35,2,    0.03,2,    2.25,2,   3.540,2,   1.924,2,   0.305,2,  2239.3,2,  2325.2,2,   7.7705,2,    13.00,    -999,9,    -999,9,    -999,9,0.391,3,0.67,2,-135.8,2,2.7,    -999,9,    -999,4.589,2,-999,9,-999,9,   40.20,2,-999,1, 20080227,     0826, -61.5000,  30.0000,    -999,-999,1,   0.0321,2,   0.1044,2,   0.0115,4,   0.0676,2,   0.0111,2,   0.0179,3,-999,9,   0.0027,2,   0.0221,2,  -0.0010,4,    -999,    -999
33RR20080204,       I06S,      69,          1,         30,         30,2,20080227,       0625,   -61.5000,    30.0000,       5221,   211.9,   1.2811,  34.5780,2,  34.5761,2,    200.1,2,   199.0,2,   85.22,2,   33.47,2,    0.01,2,    2.31,2,   1.573,2,   0.847,2,   0.115,2,    -999,9,  2339.0,2,   7.7465,2,    13.00,    -999,9,    -999,9,    -999,9,1.2843,2,-999,9,-999,9,-999,    -999,9,    -999,2.371,2,-999,9,-999,9,   48.29,3,-999,1, 20080227,     0824, -61.5000,  30.0001,    -999,-999,1,   0.0354,2,   0.1143,2,   0.0121,4,   0.0752,2,   0.0119,2,   0.0182,3,-999,1,   0.0032,2,   0.0236,2,  -0.0009,4,    -999,    -999
33RR20080204,       I06S,      69,          1,         29,         29,2,20080227,       0625,   -61.5000,    30.0000,       5221,   279.5,   1.4067,  34.6420,2,  34.6427,2,    192.9,2,   191.9,2,   88.95,2,   32.91,2,    0.00,2,    2.27,2,   1.015,2,   0.538,2,   0.083,2,  2257.5,2,  2343.2,2,   7.7560,3,    13.00,    -999,9,    -999,9,    -999,9,1.4067,2,0.48,2,-151.6,2,2.4,    -999,9,    -999,1.604,2,-999,9,-999,9,    -999,9,-999,9, 20080227,     0822, -61.5000,  30.0000,    -999,-999,1,     -999,9,     -999,9,     -999,9,     -999,9,     -999,9,     -999,9,-999,9,     -999,9,     -999,9,     -999,9,    -999,    -999
33RR20080204,       I06S,      69,          1,         28,         28,2,20080227,       0625,   -61.5000,    30.0000,       5221,   327.0,   1.4268,  34.6698,2,  34.6700,2,    192.2,2,   192.2,2,   90.81,2,   32.52,2,    0.00,2,    2.25,2,   0.795,2,   0.429,2,   0.060,2,    -999,9,  2346.4,2,   7.7644,2,    13.00,    -999,9,    -999,9,    -999,9,1.4261,2,0.48,2,-156.4,2,2.6,    -999,9,    -999,1.263,2,-999,9,-999,9,   38.63,2,-999,1, 20080227,     0820, -61.5000,  30.0000,    -999,-999,1,   0.0341,2,   0.1114,2,   0.0121,4,   0.0732,2,   0.0107,2,   0.0187,3,-999,9,   0.0024,2,   0.0220,2,  -0.0002,4,    -999,    -999
33RR20080204,       I06S,      69,          1,         27,         27,2,20080227,       0625,   -61.5000,    30.0000,       5221,   377.1,   1.4119,  34.6830,2,  34.6834,2,    192.5,2,   193.0,2,   92.12,2,   32.23,2,    0.00,2,    2.23,2,   0.696,2,   0.383,2,   0.050,2,  2255.9,2,  2348.1,2,   7.7690,2,    13.00,    -999,9,    -999,9,    -999,9,1.4125,2,0.47,2,-151.8,2,2.5,    -999,9,    -999,1.085,2,-999,9,-999,9,    -999,9,-999,9, 20080227,     0818, -61.4999,  30.0000,    -999,-999,9,     -999,9,     -999,9,     -999,9,     -999,9,     -999,9,     -999,9,-999,9,     -999,9,     -999,9,     -999,9,    -999,    -999
33RR20080204,       I06S,      69,          1,         26,         26,2,20080227,       0625,   -61.5000,    30.0000,       5221,   427.4,   1.3790,  34.6951,2,  34.6958,2,    194.3,2,   194.3,2,   93.42,2,   31.95,2,    0.00,2,    2.21,2,   0.592,2,   0.338,2,   0.039,2,    -999,9,  2348.5,2,   7.7840,4,    13.00,    -999,9,    -999,9,    -999,9,1.3779,2,0.51,2,-153.2,2,2.6,    -999,9,    -999,0.997,2,-999,9,-999,9,   38.15,2,-999,1, 20080227,     0816, -61.5000,  30.0000,    -999,-999,1,   0.0357,2,   0.1141,2,   0.0122,4,   0.0754,2,   0.0118,2,   0.0183,3,-999,9,   0.0029,2,   0.0232,2,  -0.0011,4,    -999,    -999
33RR20080204,       I06S,      69,          1,         25,         25,2,20080227,       0625,   -61.5000,    30.0000,       5221,   477.2,   1.3340,  34.7014,2,  34.7022,2,    196.0,2,   195.6,2,   94.53,2,   31.80,2,    0.00,2,    2.20,2,   0.552,2,   0.322,2,   0.042,2,  2256.2,2,  2350.5,2,   7.7785,4,    13.00,    -999,9,    -999,9,    -999,9,1.3327,2,0.48,2,-154.4,2,2.4,    -999,9,    -999,0.978,2,-999,9,-999,9,    -999,9,-999,9, 20080227,     0814, -61.5000,  30.0001,    -999,-999,9,     -999,9,     -999,9,     -999,9,     -999,9,     -999,9,     -999,9,-999,9,     -999,9,     -999,9,     -999,9,    -999,    -999
33RR20080204,       I06S,      69,          1,         24,         24,2,20080227,       0625,   -61.5000,    30.0000,       5221,   530.1,   1.2720,  34.7058,2,  34.7064,2,    197.3,2,   197.3,2,   96.21,2,   31.66,2,    0.00,2,    2.19,2,   0.571,2,   0.327,2,   0.034,2,    -999,9,  2351.3,2,   7.7821,2,    13.00,    -999,9,    -999,9,    -999,9,1.2716,2,0.52,2,-154.6,2,2.6,    -999,9,    -999,0.999,2,-999,9,-999,9,   37.85,2,-999,1, 20080227,     0812, -61.4999,  29.9999,    -999,-999,9,   0.0355,2,   0.1136,2,   0.0122,4,   0.0752,2,   0.0117,2,   0.0183,3,-999,9,   0.0029,2,   0.0232,2,  -0.0011,4,    -999,    -999
33RR20080204,       I06S,      69,          1,         23,         23,2,20080227,       0625,   -61.5000,    30.0000,       5221,   649.6,   1.1504,  34.7090,2,  34.7101,2,    199.7,2,   200.6,2,  100.15,2,   31.62,2,    0.00,2,    2.19,2,   0.449,2,   0.264,2,   0.038,2,  2258.2,2,  2351.4,2,   7.7870,2,    13.00,    -999,9,    -999,9,    -999,9,1.1498,2,0.57,2,-155.2,2,2.5,    -999,9,    -999,0.771,2,-999,9,-999,9,   38.83,2,-999,1, 20080227,     0809, -61.5000,  30.0001,    -999,-999,1,   0.0357,2,   0.1136,2,   0.0122,4,   0.0750,2,   0.0118,2,   0.0182,3,-999,9,   0.0030,2,   0.0232,2,  -0.0011,4,    -999,    -999
33RR20080204,       I06S,      69,          1,         22,         22,2,20080227,       0625,   -61.5000,    30.0000,       5221,   750.1,   1.0421,  34.7101,2,  34.7105,2,    201.5,2,   201.5,2,  103.16,2,   31.67,2,    0.00,2,    2.19,2,   0.404,2,   0.229,2,   0.026,2,    -999,9,  2353.8,2,   7.7877,2,    13.00,    -999,9,    -999,9,    -999,9,1.042,2,-999,9,-999,9,-999,    -999,9,    -999,0.754,2,-999,9,-999,9,   39.22,2,-999,1, 20080227,     0806, -61.5000,  30.0000,    -999,-999,9,   0.0347,2,   0.1118,2,   0.0121,4,   0.0737,2,   0.0112,2,   0.0184,3,-999,1,   0.0029,2,   0.0222,2,  -0.0011,4,    -999,    -999
33RR20080204,       I06S,      69,          1,         21,         21,2,20080227,       0625,   -61.5000,    30.0000,       5221,   851.6,   0.9461,  34.7075,2,  34.7083,2,    202.4,2,   202.5,2,  105.78,2,   31.80,2,    0.00,2,    2.20,2,   0.388,2,   0.219,2,   0.020,2,  2260.8,2,  2355.3,2,   7.7872,2,    13.00,    -999,9,    -999,9,    -999,9,0.946,2,0.58,2,-150.5,2,2.9,    -999,9,    -999,0.76,2,-999,9,-999,9,   38.93,2,-999,1, 20080227,     0803, -61.5000,  30.0001,    -999,-999,1,   0.0379,2,   0.1194,2,   0.0125,4,   0.0796,2,   0.0130,2,   0.0179,3,-999,9,   0.0034,2,   0.0248,2,  -0.0009,4,    -999,    -999
33RR20080204,       I06S,      69,          1,         20,         20,2,20080227,       0625,   -61.5000,    30.0000,       5221,   953.2,   0.8535,  34.7057,2,  34.7062,2,    204.0,2,   204.1,2,  108.98,2,   31.90,2,    0.00,2,    2.21,2,   0.365,2,   0.198,2,   0.018,2,    -999,9,  2357.4,2,   7.7871,2,    13.00,    -999,9,    -999,9,    -999,9,0.853,2,0.56,2,-155.8,2,2.8,    -999,9,    -999,0.76,2,-999,9,-999,9,   38.73,2,-999,1, 20080227,     0800, -61.5000,  29.9999,    -999,-999,1,   0.0348,2,   0.1106,2,   0.0178,3,   0.0727,2,   0.0112,2,   0.0182,3,-999,9,   0.0027,2,   0.0222,2,  -0.0009,4,    -999,    -999
33RR20080204,       I06S,      69,          1,         19,         19,2,20080227,       0625,   -61.5000,    30.0000,       5221,  1052.6,   0.7599,  34.7010,2,  34.7019,2,    205.0,2,   204.2,2,  111.81,2,   32.14,2,    0.00,2,    2.22,2,   0.367,2,   0.202,2,   0.020,2,  2260.9,6,  2357.4,2,   7.7851,2,    13.00,    -999,9,    -999,9,    -999,9,0.7594,2,0.57,2,-158.8,2,3.0,    -999,9,    -999,0.834,2,-999,9,-999,9,   38.54,2,-999,1, 20080227,     0758, -61.5000,  30.0000,    -999,-999,9,   0.0330,2,   0.1095,2,   0.0179,3,   0.0711,2,   0.0108,2,   0.0186,3,-999,9,   0.0027,2,   0.0214,2,  -0.0007,4,    -999,    -999
33RR20080204,       I06S,      69,          1,         18,         18,2,20080227,       0625,   -61.5000,    30.0000,       5221,  1153.3,   0.6861,  34.6979,2,  34.6981,2,    205.7,2,   204.9,2,  113.50,2,   32.28,2,    0.00,2,    2.24,2,   0.354,2,   0.199,2,   0.012,2,    -999,9,  2357.6,2,   7.7826,2,    13.00,    -999,9,    -999,9,    -999,9,0.6855,2,0.49,2,-158.6,2,2.6,    -999,9,    -999,0.734,2,-999,9,-999,9,    -999,9,-999,9, 20080227,     0755, -61.5000,  30.0000,    -999,-999,1,     -999,9,     -999,9,     -999,9,     -999,9,     -999,9,     -999,9,-999,9,     -999,9,     -999,9,     -999,9,    -999,    -999
33RR20080204,       I06S,      69,          1,         17,         17,2,20080227,       0625,   -61.5000,    30.0000,       5221,  1255.1,   0.6278,  34.6959,2,  34.6960,2,    206.0,2,   206.0,2,  115.58,2,   32.43,2,    0.00,2,    2.25,2,   0.370,2,   0.188,2,   0.008,2,  2261.9,2,  2356.9,2,   7.7808,2,    13.00,    -999,9,    -999,9,    -999,9,0.628,2,0.47,2,-159.7,2,2.8,    -999,9,    -999,0.663,2,-999,9,-999,9,    -999,9,-999,1, 20080227,     0752, -61.5000,  30.0001,    -999,-999,9,   0.0327,2,   0.1090,2,   0.0180,3,   0.0707,2,   0.0107,2,   0.0189,3,-999,9,   0.0026,2,   0.0211,2,  -0.0007,4,    -999,    -999
33RR20080204,       I06S,      69,          1,         16,         16,2,20080227,       0625,   -61.5000,    30.0000,       5221,  1463.9,   0.5124,  34.6913,2,  34.6960,2,    207.2,2,   207.0,2,  119.93,2,   32.66,2,    0.00,2,    2.26,2,   0.311,2,   0.175,2,   0.011,2,    -999,9,  2357.4,2,   7.7775,2,    13.00,    -999,9,    -999,9,    -999,9,0.5123,2,0.5,2,-161.8,2,2.3,    -999,9,    -999,0.668,2,-999,9,-999,9,   38.05,2,-999,1, 20080227,     0748, -61.5000,  30.0000,    -999,-999,9,     -999,9,     -999,9,     -999,9,     -999,9,     -999,9,     -999,9,-999,9,     -999,9,     -999,9,     -999,9,    -999,    -999
33RR20080204,       I06S,      69,          1,         15,         15,2,20080227,       0625,   -61.5000,    30.0000,       5221,  1665.1,   0.4245,  34.6872,2,  34.6924,2,    208.8,2,   208.9,2,  122.38,2,   32.76,2,    0.00,2,    2.27,2,   0.298,2,   0.166,2,   0.008,2,  2262.9,2,  2359.7,3,     -999,5,    13.00,    -999,9,    -999,9,    -999,9,0.424,2,-999,9,-999,9,-999,    -999,9,    -999,0.67,2,-999,9,-999,9,    -999,9,-999,9, 20080227,     0743, -61.5000,  30.0000,    -999,-999,9,   0.0333,2,   0.1100,2,   0.0177,3,   0.0712,2,   0.0114,2,   0.0183,3,-999,9,   0.0027,2,   0.0219,2,  -0.0007,4,    -999,    -999
33RR20080204,       I06S,      69,          1,         14,         14,2,20080227,       0625,   -61.5000,    30.0000,       5221,  1869.6,   0.3367,  34.6836,2,  34.6830,2,    211.1,2,   210.3,2,  124.66,2,   32.86,2,    0.00,2,    2.27,2,   0.278,2,   0.146,2,   0.007,2,    -999,9,  2357.1,2,   7.7778,2,    13.00,    -999,9,    -999,9,    -999,9,0.337,2,-999,9,-999,9,-999,    -999,9,    -999,0.626,2,-999,9,-999,9,   39.61,2,-999,1, 20080227,     0738, -61.5000,  30.0000,    -999,-999,1,     -999,9,     -999,9,     -999,9,     -999,9,     -999,9,     -999,9,-999,1,     -999,9,     -999,9,     -999,9,    -999,    -999
33RR20080204,       I06S,      69,          1,         13,         13,2,20080227,       0625,   -61.5000,    30.0000,       5221,  2070.3,   0.2569,  34.6794,2,  34.6800,2,    213.4,2,   214.3,2,  125.78,2,   32.86,2,    0.00,2,    2.27,2,   0.290,2,   0.162,2,   0.011,2,  2262.9,2,  2356.5,2,   7.7787,3,    13.00,    -999,9,    -999,9,    -999,9,0.2567,2,-999,9,-999,9,-999,    -999,9,    -999,0.709,2,-999,9,-999,9,    -999,9,-999,9, 20080227,     0733, -61.5000,  30.0000,    -999,-999,9,   0.0320,2,   0.1079,2,   0.0179,3,   0.0695,2,   0.0108,2,   0.0190,3,-999,9,   0.0026,2,   0.0207,2,  -0.0006,4,    -999,    -999
33RR20080204,       I06S,      69,          1,         12,         12,2,20080227,       0625,   -61.5000,    30.0000,       5221,  2385.3,   0.1250,  34.6733,2,  34.6735,2,    218.3,2,   218.8,2,  127.29,2,   32.86,2,    0.00,2,    2.27,2,   0.299,2,   0.161,2,   0.017,2,    -999,9,  2357.0,2,   7.7814,2,    13.00,    -999,9,    -999,9,    -999,9,0.1247,2,-999,9,-999,9,-999,    -999,9,    -999,0.748,2,-999,9,-999,9,   38.83,2,-999,1, 20080227,     0726, -61.5000,  30.0001,    -999,-999,1,     -999,9,     -999,9,     -999,9,     -999,9,     -999,9,     -999,9,-999,9,     -999,9,     -999,9,     -999,9,    -999,    -999
33RR20080204,       I06S,      69,          1,         11,         11,2,20080227,       0625,   -61.5000,    30.0000,       5221,  2697.1,   0.0251,  34.6688,2,  34.6684,2,    222.8,2,   223.1,2,  127.66,2,   32.76,2,    0.00,2,    2.27,2,   0.315,2,   0.176,2,   0.019,2,  2258.9,2,  2356.1,2,   7.7819,3,    13.00,    -999,9,    -999,9,    -999,9,0.0248,2,-999,9,-999,9,-999,    -999,9,    -999,0.844,2,-999,9,-999,9,    -999,9,-999,9, 20080227,     0720, -61.5000,  30.0000,    -999,-999,9,   0.0312,2,   0.1051,2,   0.0178,3,   0.0673,2,   0.0106,2,   0.0189,3,-999,9,   0.0025,2,   0.0203,2,  -0.0007,4,    -999,    -999
33RR20080204,       I06S,      69,          1,         10,         10,2,20080227,       0625,   -61.5000,    30.0000,       5221,  3002.5,  -0.0544,  34.6659,2,  34.6653,2,    227.4,2,   227.4,2,  126.91,2,   32.61,2,    0.00,2,    2.26,2,   0.322,2,   0.182,2,   0.014,2,    -999,9,  2355.4,2,   7.7872,2,    13.00,    -999,9,    -999,9,    -999,9,-0.0541,2,-999,9,-999,9,-999,    -999,9,    -999,0.86,2,-999,9,-999,9,   38.83,2,-999,1, 20080227,     0713, -61.5000,  30.0000,    -999,-999,1,     -999,9,     -999,9,     -999,9,     -999,9,     -999,9,     -999,9,-999,1,     -999,9,     -999,9,     -999,9,    -999,    -999
33RR20080204,       I06S,      69,          1,          9,          9,2,20080227,       0625,   -61.5000,    30.0000,       5221,  3305.2,  -0.1210,  34.6626,2,  34.6620,2,    231.6,2,   231.2,2,  127.28,2,   32.57,2,    0.00,2,    2.26,2,   0.374,2,   0.204,2,   0.023,2,  2256.7,2,  2354.9,2,   7.7880,3,    13.00,    -999,9,    -999,9,    -999,9,-0.121,2,-999,9,-999,9,-999,    -999,9,    -999,0.912,2,-999,9,-999,9,    -999,9,-999,9, 20080227,     0707, -61.5000,  30.0000,    -999,-999,9,   0.0302,2,   0.1038,2,   0.0179,3,   0.0664,2,   0.0103,2,   0.0192,3,-999,9,   0.0025,2,   0.0198,2,  -0.0005,4,    -999,    -999
33RR20080204,       I06S,      69,          1,          8,          8,2,20080227,       0625,   -61.5000,    30.0000,       5221,  3611.4,  -0.1686,  34.6602,2,  34.6594,2,    234.8,2,   235.1,2,  126.50,2,   32.53,2,    0.00,2,    2.26,2,   0.415,2,   0.220,2,   0.021,2,    -999,9,  2354.3,2,   7.7924,2,    13.00,    -999,9,    -999,9,    -999,9,-0.1685,2,-999,9,-999,9,-999,    -999,9,    -999,1.009,2,-999,9,-999,9,   39.22,2,-999,1, 20080227,     0701, -61.5000,  30.0000,    -999,-999,1,     -999,9,     -999,9,     -999,9,     -999,9,     -999,9,     -999,9,-999,9,     -999,9,     -999,9,     -999,9,    -999,    -999