BOTTLE,20220706CCHSIOAMB
EXPOCODE,SECT_ID,STNNBR,CASTNO,SAMPNO,BTLNBR,BTLNBR_FLAG_W,DATE,TIME,LATITUDE,LONGITUDE,DEPTH,CTDPRS,CTDTMP,CTDSAL,CTDSAL_FLAG_W,SALNTY,SALNTY_FLAG_W,CTDOXY,CTDOXY_FLAG_W,OXYGEN,OXYGEN_FLAG_W,SILCAT,SILCAT_FLAG_W,NITRAT,NITRAT_FLAG_W,NITRIT,NITRIT_FLAG_W,PHSPHT,PHSPHT_FLAG_W,CFC-11,CFC-11_FLAG_W,CFC-12,CFC-12_FLAG_W,CFC113,CFC113_FLAG_W,TCARBN,TCARBN_FLAG_W,ALKALI,ALKALI_FLAG_W,PH_SWS,PH_SWS_FLAG_W,PH_TMP,TRITUM,TRITUM_FLAG_W,HELIUM,HELIUM_FLAG_W,DELHE3,DELHE3_FLAG_W,REFTMP,REFTMP_FLAG_W,DELC13,DELC13_FLAG_W,DELC14,DELC14_FLAG_W,C14ERR,NEON,NEON_FLAG_W,NEONER,CCL4,CCL4_FLAG_W,ALUMIN,ALUMIN_FLAG_W,DELO18,DELO18_FLAG_W,DOC,DOC_FLAG_W,TDN,TDN_FLAG_W,BTL_DATE,BTL_TIME,BTL_LAT,BTL_LON,TRITER,DELSI30,DELSI30_FLAG_W,CDOM380,CDOM380_FLAG_W,CDOM325,CDOM325_FLAG_W,CDOMSL,CDOMSL_FLAG_W,CDOM340,CDOM340_FLAG_W,CDOM443,CDOM443_FLAG_W,CDOMSN,CDOMSN_FLAG_W,BLACKC,BLACKC_FLAG_W,CDOM490,CDOM490_FLAG_W,CDOM412,CDOM412_FLAG_W,CDOM555,CDOM555_FLAG_W,DELHER,HELIER
,,,,,,,,,,,METERS,DBAR,ITS-90,PSS-78,,PSS-78,,UMOL/KG,,UMOL/KG,,UMOL/KG,,UMOL/KG,,UMOL/KG,,UMOL/KG,,PMOL/KG,,PMOL/KG,,PMOL/KG,,UMOL/KG,,UMOL/KG,,,,DEG C,TU,,NMOL/KG,,PERCNT,,DEG C,,/MILLE,,/MILLE,,/MILLE,NMOL/KG,,NMOL/KG,PMOL/KG,,NMOL/L,,/MILLE,,UMOL/KG,,UMOL/KG,,,,,,TU,/MILLE,,1/M,,1/M,,1/NM,,1/M,,1/M,,1/NM,,,,1/M,,1/M,,1/M,,PERCNT,NMOL/KG
33RR20080204,       I06S,      13,          1,          5,          5,2,20080209,       0633,   -34.3248,    29.2871,       4070,  2941.2,   2.1364,  34.8127,3,  34.8186,2,    211.3,3,   219.9,2,   68.31,2,   26.60,2,    0.00,2,    1.82,2,   0.034,2,   0.010,2,   0.033,2,  2217.6,2,  2346.3,2,   7.7510,2,    20.00,    -999,9,    -999,9,    -999,9,2.1373,2,0.74,2,-137.2,2,2.7,    -999,9,    -999,0.295,2,-999,9,-999,9,    -999,9,-999,9, 20080209,     0658, -34.3247,  29.2871,    -999,-999,9,     -999,9,     -999,9,     -999,9,     -999,9,     -999,9,     -999,9,-999,9,     -999,9,     -999,9,     -999,9,    -999,    -999
33RR20080204,       I06S,      13,          1,          4,          4,2,20080209,       0633,   -34.3248,    29.2871,       4070,  3247.2,   2.0265,  34.8034,3,  34.8098,2,    219.7,3,   218.9,2,   72.78,2,   27.04,2,    0.00,2,    1.84,2,   0.038,2,   0.008,2,   0.024,2,  2221.6,2,  2348.9,2,   7.7470,2,    20.00,    -999,9,    -999,9,    -999,9,2.028,2,1.01,2,-136.3,2,2.6,    -999,9,    -999,0.123,2,-999,9,-999,9,   41.37,2,-999,1, 20080209,     0652, -34.3246,  29.2871,    -999,-999,9,   0.0314,2,   0.1133,2,   0.0206,2,   0.0757,2,   0.0087,2,   0.0228,2,-999,9,   0.0014,2,   0.0179,2,  -0.0013,4,    -999,    -999
33RR20080204,       I06S,      13,          1,          3,          3,2,20080209,       0633,   -34.3248,    29.2871,       4070,  3556.0,   1.6054,  34.7660,3,  34.7766,2,    221.2,3,   216.8,2,   87.88,2,   28.61,2,    0.00,2,    1.96,2,   0.053,2,   0.015,2,   0.018,2,  2233.9,2,  2355.6,2,   7.7320,2,    20.00,    -999,9,    -999,9,    -999,9,1.6064,2,0.67,2,-142.7,2,3.3,    -999,9,    -999,0.406,2,-999,9,-999,9,    -999,9,-999,9, 20080209,     0646, -34.3245,  29.2872,    -999,-999,9,     -999,9,     -999,9,     -999,9,     -999,9,     -999,9,     -999,9,-999,9,     -999,9,     -999,9,     -999,9,    -999,    -999
33RR20080204,       I06S,      13,          1,          2,          2,2,20080209,       0633,   -34.3248,    29.2871,       4070,  3860.3,   1.2776,  34.7466,2,  34.7509,2,    219.3,3,   217.0,2,   99.32,2,   29.77,2,    0.00,2,    2.05,2,   0.071,2,   0.029,2,   0.015,2,  2242.5,2,  2360.2,2,   7.7220,2,    20.00,    -999,9,    -999,9,    -999,9,1.279,2,0.63,2,-152.0,2,2.8,    -999,9,    -999,0.297,2,-999,9,-999,9,   39.51,2,-999,1, 20080209,     0639, -34.3247,  29.2871,    -999,-999,9,   0.0341,2,   0.1168,2,   0.0189,2,   0.0784,2,   0.0112,2,   0.0214,2,-999,9,   0.0029,2,   0.0207,2,  -0.0006,4,    -999,    -999
33RR20080204,       I06S,      13,          1,          1,          1,2,20080209,       0633,   -34.3248,    29.2871,       4070,  4107.9,   1.0640,  34.7359,7,  34.7340,2,    214.2,4,   216.6,2,  107.68,2,   30.57,2,    0.00,2,    2.11,2,   0.093,2,   0.059,2,   0.008,2,  2249.6,6,  2365.5,2,   7.7160,2,    20.00,    -999,9,    -999,9,    -999,9,1.0662,2,0.6,2,-151.4,2,3.0,    -999,9,    -999,0.287,2,-999,9,-999,9,   40.39,2,-999,1, 20080209,     0634, -34.3248,  29.2871,    -999,-999,9,   0.0348,2,   0.1189,2,   0.0192,2,   0.0802,2,   0.0111,2,   0.0215,2,-999,9,   0.0029,2,   0.0208,2,  -0.0006,4,    -999,    -999