BOTTLE,20220706CCHSIOAMB
EXPOCODE,SECT_ID,STNNBR,CASTNO,SAMPNO,BTLNBR,BTLNBR_FLAG_W,DATE,TIME,LATITUDE,LONGITUDE,DEPTH,CTDPRS,CTDTMP,CTDSAL,CTDSAL_FLAG_W,SALNTY,SALNTY_FLAG_W,CTDOXY,CTDOXY_FLAG_W,OXYGEN,OXYGEN_FLAG_W,SILCAT,SILCAT_FLAG_W,NITRAT,NITRAT_FLAG_W,NITRIT,NITRIT_FLAG_W,PHSPHT,PHSPHT_FLAG_W,CFC-11,CFC-11_FLAG_W,CFC-12,CFC-12_FLAG_W,CFC113,CFC113_FLAG_W,TCARBN,TCARBN_FLAG_W,ALKALI,ALKALI_FLAG_W,PH_SWS,PH_SWS_FLAG_W,PH_TMP,TRITUM,TRITUM_FLAG_W,HELIUM,HELIUM_FLAG_W,DELHE3,DELHE3_FLAG_W,REFTMP,REFTMP_FLAG_W,DELC13,DELC13_FLAG_W,DELC14,DELC14_FLAG_W,C14ERR,NEON,NEON_FLAG_W,NEONER,CCL4,CCL4_FLAG_W,ALUMIN,ALUMIN_FLAG_W,DELO18,DELO18_FLAG_W,DOC,DOC_FLAG_W,TDN,TDN_FLAG_W,BTL_DATE,BTL_TIME,BTL_LAT,BTL_LON,TRITER,DELSI30,DELSI30_FLAG_W,CDOM380,CDOM380_FLAG_W,CDOM325,CDOM325_FLAG_W,CDOMSL,CDOMSL_FLAG_W,CDOM340,CDOM340_FLAG_W,CDOM443,CDOM443_FLAG_W,CDOMSN,CDOMSN_FLAG_W,BLACKC,BLACKC_FLAG_W,CDOM490,CDOM490_FLAG_W,CDOM412,CDOM412_FLAG_W,CDOM555,CDOM555_FLAG_W,DELHER,HELIER
,,,,,,,,,,,METERS,DBAR,ITS-90,PSS-78,,PSS-78,,UMOL/KG,,UMOL/KG,,UMOL/KG,,UMOL/KG,,UMOL/KG,,UMOL/KG,,PMOL/KG,,PMOL/KG,,PMOL/KG,,UMOL/KG,,UMOL/KG,,,,DEG C,TU,,NMOL/KG,,PERCNT,,DEG C,,/MILLE,,/MILLE,,/MILLE,NMOL/KG,,NMOL/KG,PMOL/KG,,NMOL/L,,/MILLE,,UMOL/KG,,UMOL/KG,,,,,,TU,/MILLE,,1/M,,1/M,,1/NM,,1/M,,1/M,,1/NM,,,,1/M,,1/M,,1/M,,PERCNT,NMOL/KG
33RR20080204,       I06S,      74,          1,         36,         36,2,20080229,       0220,   -64.0001,    29.9966,       5101,     3.7,   0.5464,  33.8525,2,  33.8536,2,    338.4,2,   337.9,2,   54.67,2,   26.40,2,    0.35,2,    1.85,2,   6.094,2,   3.501,2,   0.444,2,  2016.5,4,  2296.9,2,   7.8784,2,    13.00,    -999,9,    -999,9,    -999,9,0.5457,2,-999,9,-999,9,-999,    -999,9,    -999,9.357,2,-999,9,-0.39,2,    -999,9,-999,9, 20080229,     0431, -64.0001,  29.9966,    -999,-999,9,     -999,9,     -999,9,     -999,9,     -999,9,     -999,9,     -999,9,-999,9,     -999,9,     -999,9,     -999,9,    -999,    -999
33RR20080204,       I06S,      74,          1,         35,         35,2,20080229,       0220,   -64.0001,    29.9966,       5101,    20.4,   0.5466,  33.8523,2,  33.8538,2,    338.2,2,   337.0,2,   54.67,2,   26.35,2,    0.35,2,    1.85,2,   6.079,2,   3.513,2,   0.445,2,  2015.1,4,  2296.4,2,   7.8766,3,    13.00,    -999,9,    -999,9,    -999,9,0.5463,2,-999,9,-999,9,-999,    -999,9,    -999,9.545,2,-999,9,-0.39,2,    -999,9,-999,9, 20080229,     0429, -64.0001,  29.9966,    -999,-999,9,     -999,9,     -999,9,     -999,9,     -999,9,     -999,9,     -999,9,-999,9,     -999,9,     -999,9,     -999,9,    -999,    -999
33RR20080204,       I06S,      74,          1,         34,         34,2,20080229,       0220,   -64.0001,    29.9966,       5101,    37.3,   0.5421,  33.8521,2,  33.8555,2,    337.6,2,   336.9,2,   54.67,2,   26.41,2,    0.34,2,    1.85,2,   6.036,2,   3.512,2,   0.455,2,  2012.4,4,  2296.0,2,   7.8754,3,    13.00,    -999,9,    -999,9,    -999,9,0.5301,2,-999,9,-999,9,-999,    -999,9,    -999,9.024,2,-999,9,-0.28,2,    -999,9,-999,9, 20080229,     0428, -64.0001,  29.9966,    -999,-999,9,     -999,9,     -999,9,     -999,9,     -999,9,     -999,9,     -999,9,-999,9,     -999,9,     -999,9,     -999,9,    -999,    -999
33RR20080204,       I06S,      74,          1,         33,         33,2,20080229,       0220,   -64.0001,    29.9966,       5101,    67.8,  -1.5699,  34.1610,2,  34.1559,2,    337.1,2,   334.5,2,   58.29,2,   27.79,2,    0.20,2,    1.94,2,   5.869,2,   3.336,2,   0.424,2,  2037.6,4,  2314.8,2,   7.8515,2,    13.00,    -999,9,    -999,9,    -999,9,-1.5592,2,-999,9,-999,9,-999,    -999,9,    -999,7.013,2,-999,9,-999,1,    -999,9,-999,9, 20080229,     0426, -64.0001,  29.9966,    -999,-999,9,     -999,9,     -999,9,     -999,9,     -999,9,     -999,9,     -999,9,-999,9,     -999,9,     -999,9,     -999,9,    -999,    -999
33RR20080204,       I06S,      74,          1,         32,         32,2,20080229,       0220,   -64.0001,    29.9966,       5101,    92.7,  -1.5813,  34.2018,2,  34.2009,2,    327.7,2,   324.7,2,   60.12,2,   28.28,2,    0.21,2,    1.98,2,   5.632,2,   3.210,2,   0.423,2,  2046.2,4,  2316.7,2,   7.8403,2,    13.00,    -999,9,    -999,9,    -999,9,-1.5739,2,-999,9,-999,9,-999,    -999,9,    -999,6.466,2,-999,9,-0.34,2,    -999,9,-999,9, 20080229,     0424, -64.0001,  29.9966,    -999,-999,9,     -999,9,     -999,9,     -999,9,     -999,9,     -999,9,     -999,9,-999,9,     -999,9,     -999,9,     -999,9,    -999,    -999
33RR20080204,       I06S,      74,          1,         31,         31,2,20080229,       0220,   -64.0001,    29.9966,       5101,   141.5,   0.6752,  34.5348,2,  34.5292,2,    221.8,2,   219.5,2,   84.89,2,   33.07,2,    0.04,2,    2.28,2,   2.236,2,   1.254,2,   0.168,2,  2248.8,2,  2336.9,2,   7.7530,2,    13.00,    -999,9,    -999,9,    -999,9,0.6884,2,-999,9,-999,9,-999,    -999,9,    -999,2.841,2,-999,9,-0.05,2,    -999,9,-999,9, 20080229,     0422, -64.0001,  29.9966,    -999,-999,9,     -999,9,     -999,9,     -999,9,     -999,9,     -999,9,     -999,9,-999,9,     -999,9,     -999,9,     -999,9,    -999,    -999
33RR20080204,       I06S,      74,          1,         30,         30,2,20080229,       0220,   -64.0001,    29.9966,       5101,   192.3,   1.1515,  34.6314,2,  34.6345,2,    200.4,2,   196.3,2,   90.80,2,   33.16,2,    0.01,2,    2.28,2,   1.164,2,   0.638,2,   0.088,2,  2255.3,2,  2344.4,2,   7.7528,3,    13.00,    -999,9,    -999,9,    -999,9,1.1516,2,-999,9,-999,9,-999,    -999,9,    -999,1.742,2,-999,9,-0.01,2,    -999,9,-999,9, 20080229,     0420, -64.0001,  29.9966,    -999,-999,9,     -999,9,     -999,9,     -999,9,     -999,9,     -999,9,     -999,9,-999,9,     -999,9,     -999,9,     -999,9,    -999,    -999
33RR20080204,       I06S,      74,          1,         29,         29,2,20080229,       0220,   -64.0001,    29.9966,       5101,   231.7,   1.2110,  34.6564,2,  34.6553,2,    196.6,2,   195.0,2,   92.65,2,   32.96,2,    0.00,2,    2.27,2,   0.967,2,   0.533,2,   0.067,2,  2254.7,2,  2346.2,2,   7.7573,2,    13.00,    -999,9,    -999,9,    -999,9,1.213,2,-999,9,-999,9,-999,    -999,9,    -999,1.463,2,-999,9,-999,9,    -999,9,-999,9, 20080229,     0418, -64.0001,  29.9966,    -999,-999,9,     -999,9,     -999,9,     -999,9,     -999,9,     -999,9,     -999,9,-999,9,     -999,9,     -999,9,     -999,9,    -999,    -999
33RR20080204,       I06S,      74,          1,         28,         28,2,20080229,       0220,   -64.0001,    29.9966,       5101,   284.5,   1.2135,  34.6760,2,  34.6771,2,    196.1,2,   195.7,2,   94.70,2,   32.56,2,    0.00,2,    2.25,2,   0.780,2,   0.417,2,   0.053,2,  2255.4,2,  2347.9,2,   7.7635,2,    13.00,    -999,9,    -999,9,    -999,9,1.2155,2,-999,9,-999,9,-999,    -999,9,    -999,1.195,2,-999,9,-0.07,2,    -999,9,-999,9, 20080229,     0416, -64.0001,  29.9965,    -999,-999,9,     -999,9,     -999,9,     -999,9,     -999,9,     -999,9,     -999,9,-999,9,     -999,9,     -999,9,     -999,9,    -999,    -999
33RR20080204,       I06S,      74,          1,         27,         27,2,20080229,       0220,   -64.0001,    29.9966,       5101,   333.1,   1.2211,  34.6895,2,  34.6911,2,    195.9,2,   195.2,2,   95.93,2,   32.32,2,    0.00,2,    2.23,2,   0.678,2,   0.379,2,   0.040,2,  2255.3,2,  2349.2,2,   7.7684,2,    13.00,    -999,9,    -999,9,    -999,9,1.2211,2,-999,9,-999,9,-999,    -999,9,    -999,1.065,2,-999,9,-999,9,    -999,9,-999,9, 20080229,     0413, -64.0001,  29.9966,    -999,-999,9,     -999,9,     -999,9,     -999,9,     -999,9,     -999,9,     -999,9,-999,9,     -999,9,     -999,9,     -999,9,    -999,    -999
33RR20080204,       I06S,      74,          1,         25,         25,2,20080229,       0220,   -64.0001,    29.9966,       5101,   432.7,   1.1473,  34.7038,2,  34.7050,2,    198.1,2,   198.9,2,   99.21,2,   32.02,2,    0.00,2,    2.21,2,   0.489,2,   0.265,2,   0.028,2,  2254.9,2,  2352.5,2,   7.7797,2,    13.00,    -999,9,    -999,9,    -999,9,1.148,2,-999,9,-999,9,-999,    -999,9,    -999,0.932,2,-999,9,0.02,2,    -999,9,-999,9, 20080229,     0409, -64.0001,  29.9965,    -999,-999,9,     -999,9,     -999,9,     -999,9,     -999,9,     -999,9,     -999,9,-999,9,     -999,9,     -999,9,     -999,9,    -999,    -999
33RR20080204,       I06S,      74,          1,         24,         24,2,20080229,       0220,   -64.0001,    29.9966,       5101,   488.8,   1.1098,  34.7082,2,  34.7094,2,    199.4,2,   199.3,2,  100.86,2,   31.87,2,    0.00,2,    2.21,2,   0.446,2,   0.241,2,   0.031,2,  2254.8,2,  2354.5,2,   7.7820,2,    13.00,    -999,9,    -999,9,    -999,9,1.1094,2,-999,9,-999,9,-999,    -999,9,    -999,0.872,2,-999,9,-999,9,    -999,9,-999,9, 20080229,     0407, -64.0001,  29.9966,    -999,-999,9,     -999,9,     -999,9,     -999,9,     -999,9,     -999,9,     -999,9,-999,9,     -999,9,     -999,9,     -999,9,    -999,    -999
33RR20080204,       I06S,      74,          1,         23,         23,2,20080229,       0220,   -64.0001,    29.9966,       5101,   568.8,   0.9881,  34.7048,2,  34.7058,2,    200.2,2,   199.9,2,  103.94,2,   32.07,2,    0.00,2,    2.21,2,   0.428,2,   0.228,2,   0.033,2,  2255.8,2,  2355.0,2,   7.7803,2,    13.00,    -999,9,    -999,9,    -999,9,0.9883,2,-999,9,-999,9,-999,    -999,9,    -999,0.838,2,-999,9,-999,9,    -999,9,-999,9, 20080229,     0405, -64.0001,  29.9966,    -999,-999,9,     -999,9,     -999,9,     -999,9,     -999,9,     -999,9,     -999,9,-999,9,     -999,9,     -999,9,     -999,9,    -999,    -999
33RR20080204,       I06S,      74,          1,         22,         22,2,20080229,       0220,   -64.0001,    29.9966,       5101,   669.9,   0.8821,  34.7020,2,  34.7033,2,    201.6,2,   201.1,2,  107.44,2,   32.17,2,    0.00,2,    2.22,2,   0.420,2,   0.227,2,   0.031,2,  2257.1,2,  2356.6,2,   7.7796,2,    13.00,    -999,9,    -999,9,    -999,9,0.882,2,-999,9,-999,9,-999,    -999,9,    -999,0.78,2,-999,9,-0.06,2,    -999,9,-999,9, 20080229,     0402, -64.0001,  29.9966,    -999,-999,9,     -999,9,     -999,9,     -999,9,     -999,9,     -999,9,     -999,9,-999,9,     -999,9,     -999,9,     -999,9,    -999,    -999
33RR20080204,       I06S,      74,          1,         21,         21,2,20080229,       0220,   -64.0001,    29.9966,       5101,   770.5,   0.7762,  34.6992,2,  34.6997,2,    202.4,2,   201.6,2,  110.13,2,   32.42,2,    0.00,2,    2.24,2,   0.413,2,   0.219,2,   0.027,2,  2258.0,2,  2356.8,2,   7.7768,2,    13.00,    -999,9,    -999,9,    -999,9,0.776,2,-999,9,-999,9,-999,    -999,9,    -999,0.904,2,-999,9,-999,9,    -999,9,-999,9, 20080229,     0359, -64.0001,  29.9966,    -999,-999,9,     -999,9,     -999,9,     -999,9,     -999,9,     -999,9,     -999,9,-999,9,     -999,9,     -999,9,     -999,9,    -999,    -999
33RR20080204,       I06S,      74,          1,         20,         20,2,20080229,       0220,   -64.0001,    29.9966,       5101,   870.7,   0.6947,  34.6965,2,  34.6980,2,    203.2,2,   202.4,2,  113.01,2,   32.53,2,    0.00,2,    2.25,2,   0.386,2,   0.204,2,   0.025,2,  2257.6,2,  2357.2,2,   7.7761,2,    13.00,    -999,9,    -999,9,    -999,9,0.6945,2,-999,9,-999,9,-999,    -999,9,    -999,0.745,2,-999,9,-999,9,    -999,9,-999,9, 20080229,     0356, -64.0001,  29.9966,    -999,-999,9,     -999,9,     -999,9,     -999,9,     -999,9,     -999,9,     -999,9,-999,9,     -999,9,     -999,9,     -999,9,    -999,    -999
33RR20080204,       I06S,      74,          1,         19,         19,2,20080229,       0220,   -64.0001,    29.9966,       5101,   971.9,   0.6301,  34.6950,2,  34.6956,2,    204.1,2,   203.4,2,  114.46,2,   32.63,2,    0.00,2,    2.26,2,   0.357,6,   0.190,6,   0.017,6,  2259.5,2,  2356.4,2,   7.7746,2,    13.00,    -999,9,    -999,9,    -999,9,0.6297,2,-999,9,-999,9,-999,    -999,9,    -999,0.666,2,-999,9,-999,9,    -999,9,-999,9, 20080229,     0353, -64.0001,  29.9966,    -999,-999,9,     -999,9,     -999,9,     -999,9,     -999,9,     -999,9,     -999,9,-999,9,     -999,9,     -999,9,     -999,9,    -999,    -999
33RR20080204,       I06S,      74,          1,         18,         18,2,20080229,       0220,   -64.0001,    29.9966,       5101,  1071.9,   0.5808,  34.6939,2,  34.6942,2,    205.1,2,   203.8,2,  116.95,2,   32.68,2,    0.00,2,    2.26,2,   0.319,2,   0.167,2,   0.014,2,    -999,9,  2357.6,2,     -999,9,     -999,    -999,9,    -999,9,    -999,9,0.5802,2,-999,9,-999,9,-999,    -999,9,    -999,0.643,2,-999,9,-0.09,2,    -999,9,-999,9, 20080229,     0351, -64.0001,  29.9966,    -999,-999,9,     -999,9,     -999,9,     -999,9,     -999,9,     -999,9,     -999,9,-999,9,     -999,9,     -999,9,     -999,9,    -999,    -999
33RR20080204,       I06S,      74,          1,         17,         17,2,20080229,       0220,   -64.0001,    29.9966,       5101,  1171.0,   0.5268,  34.6922,2,  34.6930,2,    205.9,2,   205.2,2,  118.81,2,   32.78,2,    0.00,2,    2.26,2,   0.301,2,   0.159,2,   0.009,2,    -999,9,    -999,9,     -999,9,     -999,    -999,9,    -999,9,    -999,9,0.5269,2,-999,9,-999,9,-999,    -999,9,    -999,0.637,2,-999,9,-999,9,    -999,9,-999,9, 20080229,     0347, -64.0001,  29.9966,    -999,-999,9,     -999,9,     -999,9,     -999,9,     -999,9,     -999,9,     -999,9,-999,9,     -999,9,     -999,9,     -999,9,    -999,    -999
33RR20080204,       I06S,      74,          1,         16,         16,2,20080229,       0220,   -64.0001,    29.9966,       5101,  1383.6,   0.4204,  34.6873,2,  34.6879,2,    207.0,2,   206.7,2,  122.34,2,   33.04,2,    0.00,2,    2.28,2,   0.279,2,   0.153,2,   0.009,2,    -999,9,  2357.7,2,   7.7723,2,    13.00,    -999,9,    -999,9,    -999,9,0.4205,2,-999,9,-999,9,-999,    -999,9,    -999,0.594,2,-999,9,-999,9,    -999,9,-999,9, 20080229,     0342, -64.0001,  29.9966,    -999,-999,9,     -999,9,     -999,9,     -999,9,     -999,9,     -999,9,     -999,9,-999,9,     -999,9,     -999,9,     -999,9,    -999,    -999
33RR20080204,       I06S,      74,          1,         15,         15,2,20080229,       0220,   -64.0001,    29.9966,       5101,  1586.2,   0.3348,  34.6836,2,  34.6842,2,    209.6,2,   209.1,2,  124.20,2,   32.99,2,    0.00,2,    2.28,2,   0.267,2,   0.141,2,   0.013,2,    -999,9,    -999,9,     -999,9,     -999,    -999,9,    -999,9,    -999,9,0.3347,2,-999,9,-999,9,-999,    -999,9,    -999,0.612,2,-999,9,-999,9,    -999,9,-999,9, 20080229,     0338, -64.0001,  29.9966,    -999,-999,9,     -999,9,     -999,9,     -999,9,     -999,9,     -999,9,     -999,9,-999,9,     -999,9,     -999,9,     -999,9,    -999,    -999
33RR20080204,       I06S,      74,          1,         14,         14,2,20080229,       0220,   -64.0001,    29.9966,       5101,  1789.2,   0.2555,  34.6799,2,  34.6805,2,    212.4,2,   212.3,2,  125.45,2,   33.04,2,    0.00,2,    2.28,2,   0.267,2,   0.158,2,   0.011,2,    -999,9,    -999,9,     -999,9,     -999,    -999,9,    -999,9,    -999,9,0.2552,2,-999,9,-999,9,-999,    -999,9,    -999,0.649,2,-999,9,-0.07,2,    -999,9,-999,9, 20080229,     0333, -64.0001,  29.9966,    -999,-999,9,     -999,9,     -999,9,     -999,9,     -999,9,     -999,9,     -999,9,-999,9,     -999,9,     -999,9,     -999,9,    -999,    -999
33RR20080204,       I06S,      74,          1,         13,         13,2,20080229,       0220,   -64.0001,    29.9966,       5101,  1990.4,   0.1773,  34.6759,2,  34.6765,2,    215.3,2,   215.4,2,  126.50,2,   32.99,2,    0.00,2,    2.28,2,   0.266,2,   0.134,2,   0.013,2,    -999,9,  2357.3,2,     -999,9,     -999,    -999,9,    -999,9,    -999,9,0.1765,2,-999,9,-999,9,-999,    -999,9,    -999,0.74,2,-999,9,-999,9,    -999,9,-999,9, 20080229,     0329, -64.0001,  29.9966,    -999,-999,9,     -999,9,     -999,9,     -999,9,     -999,9,     -999,9,     -999,9,-999,9,     -999,9,     -999,9,     -999,9,    -999,    -999
33RR20080204,       I06S,      74,          1,         12,         12,2,20080229,       0220,   -64.0001,    29.9966,       5101,  2284.0,   0.0709,  34.6717,2,  34.6714,2,    219.4,2,   220.8,2,  126.92,2,   32.89,2,    0.00,2,    2.28,2,   0.301,2,   0.162,2,   0.017,2,    -999,9,    -999,9,     -999,9,     -999,    -999,9,    -999,9,    -999,9,0.0711,2,-999,9,-999,9,-999,    -999,9,    -999,0.778,2,-999,9,-999,9,    -999,9,-999,9, 20080229,     0323, -64.0001,  29.9966,    -999,-999,9,     -999,9,     -999,9,     -999,9,     -999,9,     -999,9,     -999,9,-999,9,     -999,9,     -999,9,     -999,9,    -999,    -999
33RR20080204,       I06S,      74,          1,         11,         11,2,20080229,       0220,   -64.0001,    29.9966,       5101,  2599.2,  -0.0170,  34.6677,2,  34.6679,2,    223.6,2,   224.3,2,  127.35,2,   32.89,2,    0.00,2,    2.27,2,   0.313,2,   0.179,2,   0.014,2,    -999,9,    -999,9,     -999,9,     -999,    -999,9,    -999,9,    -999,9,-0.0173,2,-999,9,-999,9,-999,    -999,9,    -999,0.812,2,-999,9,-999,9,    -999,9,-999,9, 20080229,     0316, -64.0001,  29.9966,    -999,-999,9,     -999,9,     -999,9,     -999,9,     -999,9,     -999,9,     -999,9,-999,9,     -999,9,     -999,9,     -999,9,    -999,    -999
33RR20080204,       I06S,      74,          1,         10,         10,2,20080229,       0220,   -64.0001,    29.9966,       5101,  2901.8,  -0.0931,  34.6649,2,  34.6643,2,    227.3,2,   228.8,2,  127.35,2,   32.70,2,    0.00,2,    2.27,2,   0.336,2,   0.181,2,   0.012,2,    -999,9,  2354.8,2,   7.7852,2,    13.00,    -999,9,    -999,9,    -999,9,-0.0928,2,-999,9,-999,9,-999,    -999,9,    -999,0.915,2,-999,9,-0.18,2,    -999,9,-999,9, 20080229,     0310, -64.0001,  29.9966,    -999,-999,9,     -999,9,     -999,9,     -999,9,     -999,9,     -999,9,     -999,9,-999,9,     -999,9,     -999,9,     -999,9,    -999,    -999
33RR20080204,       I06S,      74,          1,          9,          9,2,20080229,       0220,   -64.0001,    29.9966,       5101,  3207.6,  -0.1492,  34.6622,2,  34.6618,2,    230.8,2,   232.5,2,  126.95,2,   32.65,2,    0.00,2,    2.26,2,   0.384,2,   0.211,2,   0.017,2,    -999,9,    -999,9,     -999,9,     -999,    -999,9,    -999,9,    -999,9,-0.1491,2,-999,9,-999,9,-999,    -999,9,    -999,1.032,2,-999,9,-999,9,    -999,9,-999,9, 20080229,     0304, -64.0001,  29.9966,    -999,-999,9,     -999,9,     -999,9,     -999,9,     -999,9,     -999,9,     -999,9,-999,9,     -999,9,     -999,9,     -999,9,    -999,    -999
33RR20080204,       I06S,      74,          1,          8,          8,2,20080229,       0220,   -64.0001,    29.9966,       5101,  3513.5,  -0.1941,  34.6592,2,  34.6594,2,    234.1,2,   236.0,2,  126.96,2,   32.60,2,    0.00,2,    2.25,2,   0.441,2,   0.238,2,   0.019,2,    -999,9,    -999,9,     -999,9,     -999,    -999,9,    -999,9,    -999,9,-0.1945,2,-999,9,-999,9,-999,    -999,9,    -999,1.06,2,-999,9,-999,9,    -999,9,-999,9, 20080229,     0258, -64.0001,  29.9966,    -999,-999,9,     -999,9,     -999,9,     -999,9,     -999,9,     -999,9,     -999,9,-999,9,     -999,9,     -999,9,     -999,9,    -999,    -999
33RR20080204,       I06S,      74,          1,          7,          7,2,20080229,       0220,   -64.0001,    29.9966,       5101,  3818.4,  -0.2273,  34.6573,2,  34.6571,2,    236.8,2,   238.4,2,  127.17,2,   32.50,2,    0.00,2,    2.25,2,   0.465,2,   0.247,2,   0.026,2,    -999,9,    -999,9,     -999,9,     -999,    -999,9,    -999,9,    -999,9,-0.2279,2,-999,9,-999,9,-999,    -999,9,    -999,1.157,2,-999,9,-999,9,    -999,9,-999,9, 20080229,     0252, -64.0001,  29.9966,    -999,-999,9,     -999,9,     -999,9,     -999,9,     -999,9,     -999,9,     -999,9,-999,9,     -999,9,     -999,9,     -999,9,    -999,    -999