BOTTLE,20220706CCHSIOAMB
EXPOCODE,SECT_ID,STNNBR,CASTNO,SAMPNO,BTLNBR,BTLNBR_FLAG_W,DATE,TIME,LATITUDE,LONGITUDE,DEPTH,CTDPRS,CTDTMP,CTDSAL,CTDSAL_FLAG_W,SALNTY,SALNTY_FLAG_W,CTDOXY,CTDOXY_FLAG_W,OXYGEN,OXYGEN_FLAG_W,SILCAT,SILCAT_FLAG_W,NITRAT,NITRAT_FLAG_W,NITRIT,NITRIT_FLAG_W,PHSPHT,PHSPHT_FLAG_W,CFC-11,CFC-11_FLAG_W,CFC-12,CFC-12_FLAG_W,CFC113,CFC113_FLAG_W,TCARBN,TCARBN_FLAG_W,ALKALI,ALKALI_FLAG_W,PH_SWS,PH_SWS_FLAG_W,PH_TMP,TRITUM,TRITUM_FLAG_W,HELIUM,HELIUM_FLAG_W,DELHE3,DELHE3_FLAG_W,REFTMP,REFTMP_FLAG_W,DELC13,DELC13_FLAG_W,DELC14,DELC14_FLAG_W,C14ERR,NEON,NEON_FLAG_W,NEONER,CCL4,CCL4_FLAG_W,ALUMIN,ALUMIN_FLAG_W,DELO18,DELO18_FLAG_W,DOC,DOC_FLAG_W,TDN,TDN_FLAG_W,BTL_DATE,BTL_TIME,BTL_LAT,BTL_LON,TRITER,DELSI30,DELSI30_FLAG_W,CDOM380,CDOM380_FLAG_W,CDOM325,CDOM325_FLAG_W,CDOMSL,CDOMSL_FLAG_W,CDOM340,CDOM340_FLAG_W,CDOM443,CDOM443_FLAG_W,CDOMSN,CDOMSN_FLAG_W,BLACKC,BLACKC_FLAG_W,CDOM490,CDOM490_FLAG_W,CDOM412,CDOM412_FLAG_W,CDOM555,CDOM555_FLAG_W,DELHER,HELIER
,,,,,,,,,,,METERS,DBAR,ITS-90,PSS-78,,PSS-78,,UMOL/KG,,UMOL/KG,,UMOL/KG,,UMOL/KG,,UMOL/KG,,UMOL/KG,,PMOL/KG,,PMOL/KG,,PMOL/KG,,UMOL/KG,,UMOL/KG,,,,DEG C,TU,,NMOL/KG,,PERCNT,,DEG C,,/MILLE,,/MILLE,,/MILLE,NMOL/KG,,NMOL/KG,PMOL/KG,,NMOL/L,,/MILLE,,UMOL/KG,,UMOL/KG,,,,,,TU,/MILLE,,1/M,,1/M,,1/NM,,1/M,,1/M,,1/NM,,,,1/M,,1/M,,1/M,,PERCNT,NMOL/KG
33RR20080204,       I06S,     103,          2,         35,         35,2,20080307,       0835,   -67.0000,    30.0000,       4089,     5.3,  -0.5814,  34.0345,2,  34.0344,2,    339.4,2,   339.6,2,   52.23,2,   26.67,2,    0.18,2,    1.84,2,   6.074,2,   3.319,2,   0.562,2,  2171.7,6,  2307.7,2,     -999,9,     -999,    -999,9,    -999,9,    -999,9,-0.5808,2,-999,9,-999,9,-999,    -999,9,    -999,8.214,2,-999,9,-0.34,2,    -999,9,-999,9, 20080307,     1022, -67.0000,  30.0000,    -999,-999,9,     -999,9,     -999,9,     -999,9,     -999,9,     -999,9,     -999,9,-999,9,     -999,9,     -999,9,     -999,9,    -999,    -999
33RR20080204,       I06S,     103,          2,         34,         34,2,20080307,       0835,   -67.0000,    30.0000,       4089,    26.8,  -0.6153,  34.0387,2,  34.0391,2,    338.8,2,   339.2,2,   52.42,2,   26.67,2,    0.17,2,    1.85,2,   6.042,2,   3.291,2,   0.558,2,    -999,9,  2307.7,2,     -999,9,     -999,    -999,9,    -999,9,    -999,9,-0.6141,2,-999,9,-999,9,-999,    -999,9,    -999,8.102,2,-999,9,-0.39,2,    -999,9,-999,9, 20080307,     1020, -67.0000,  30.0000,    -999,-999,9,     -999,9,     -999,9,     -999,9,     -999,9,     -999,9,     -999,9,-999,9,     -999,9,     -999,9,     -999,9,    -999,    -999
33RR20080204,       I06S,     103,          2,         33,         33,2,20080307,       0835,   -67.0000,    30.0000,       4089,    53.4,  -1.4388,  34.2696,2,  34.2720,2,    330.6,2,   321.0,3,   60.01,2,   28.79,2,    0.11,2,    2.02,2,   5.511,2,   2.943,2,   0.470,2,    -999,9,  2319.1,2,     -999,9,     -999,    -999,9,    -999,9,    -999,9,-1.4035,2,-999,9,-999,9,-999,    -999,9,    -999,6.904,2,-999,9,-0.41,2,    -999,9,-999,9, 20080307,     1018, -67.0000,  29.9999,    -999,-999,9,     -999,9,     -999,9,     -999,9,     -999,9,     -999,9,     -999,9,-999,9,     -999,9,     -999,9,     -999,9,    -999,    -999
33RR20080204,       I06S,     103,          2,         32,         32,2,20080307,       0835,   -67.0000,    30.0000,       4089,    86.8,  -1.7379,  34.3687,2,  34.3674,2,    311.7,2,   310.5,2,   64.61,2,   30.40,2,    0.11,2,    2.10,2,    -999,9,    -999,9,    -999,9,    -999,9,  2323.5,2,     -999,9,     -999,    -999,9,    -999,9,    -999,9,-1.7375,2,-999,9,-999,9,-999,    -999,9,    -999,-999,9,-999,9,-0.38,2,    -999,9,-999,9, 20080307,     1016, -67.0000,  30.0000,    -999,-999,9,     -999,9,     -999,9,     -999,9,     -999,9,     -999,9,     -999,9,-999,9,     -999,9,     -999,9,     -999,9,    -999,    -999
33RR20080204,       I06S,     103,          2,         31,         31,2,20080307,       0835,   -67.0000,    30.0000,       4089,   112.5,  -1.7008,  34.3792,2,  34.3790,2,    305.8,2,   308.8,2,   65.80,2,   30.57,2,    0.08,2,    2.11,2,   5.186,2,   2.792,2,   0.461,2,    -999,9,  2325.1,2,     -999,9,     -999,    -999,9,    -999,9,    -999,9,-1.7007,2,-999,9,-999,9,-999,    -999,9,    -999,6.34,2,-999,9,-0.37,2,    -999,9,-999,9, 20080307,     1015, -67.0000,  29.9999,    -999,-999,9,     -999,9,     -999,9,     -999,9,     -999,9,     -999,9,     -999,9,-999,9,     -999,9,     -999,9,     -999,9,    -999,    -999
33RR20080204,       I06S,     103,          2,         30,         30,2,20080307,       0835,   -67.0000,    30.0000,       4089,   162.2,  -1.2350,  34.4338,2,  34.4302,2,    291.0,2,   290.1,2,   69.61,2,   31.05,2,    0.01,2,    2.13,2,   4.561,2,   2.438,2,   0.406,2,    -999,9,    -999,9,     -999,9,     -999,    -999,9,    -999,9,    -999,9,-1.2422,2,-999,9,-999,9,-999,    -999,9,    -999,5.423,2,-999,9,-0.29,2,    -999,9,-999,9, 20080307,     1013, -67.0000,  29.9999,    -999,-999,9,     -999,9,     -999,9,     -999,9,     -999,9,     -999,9,     -999,9,-999,9,     -999,9,     -999,9,     -999,9,    -999,    -999
33RR20080204,       I06S,     103,          2,         29,         29,2,20080307,       0835,   -67.0000,    30.0000,       4089,   212.4,  -0.2676,  34.5275,2,  34.5303,2,    253.1,2,   250.5,2,   78.86,2,   31.80,2,    0.01,2,    2.19,2,   3.135,2,   1.659,2,   0.275,2,    -999,9,  2336.4,2,     -999,9,     -999,    -999,9,    -999,9,    -999,9,-0.2865,2,-999,9,-999,9,-999,    -999,9,    -999,3.861,2,-999,9,-999,9,    -999,9,-999,9, 20080307,     1011, -67.0000,  30.0000,    -999,-999,9,     -999,9,     -999,9,     -999,9,     -999,9,     -999,9,     -999,9,-999,9,     -999,9,     -999,9,     -999,9,    -999,    -999
33RR20080204,       I06S,     103,          2,         28,         28,2,20080307,       0835,   -67.0000,    30.0000,       4089,   273.6,   0.6885,  34.6343,2,  34.6331,2,    213.9,2,   215.1,2,   88.14,2,   32.05,2,    0.01,2,    2.21,2,   1.627,2,   0.868,2,   0.153,2,    -999,9,    -999,9,     -999,9,     -999,    -999,9,    -999,9,    -999,9,0.6877,2,-999,9,-999,9,-999,    -999,9,    -999,2.387,2,-999,9,-0.09,2,    -999,9,-999,9, 20080307,     1009, -67.0000,  29.9999,    -999,-999,9,     -999,9,     -999,9,     -999,9,     -999,9,     -999,9,     -999,9,-999,9,     -999,9,     -999,9,     -999,9,    -999,    -999
33RR20080204,       I06S,     103,          2,         27,         27,2,20080307,       0835,   -67.0000,    30.0000,       4089,   324.9,   0.7220,  34.6453,2,  34.6437,2,    209.2,2,   213.6,2,   89.14,2,   31.95,2,    0.01,2,    2.20,2,   1.497,2,   0.810,2,   0.143,2,    -999,9,  2344.6,2,     -999,9,     -999,    -999,9,    -999,9,    -999,9,0.7199,2,-999,9,-999,9,-999,    -999,9,    -999,2.215,2,-999,9,-999,9,    -999,9,-999,9, 20080307,     1008, -67.0000,  29.9999,    -999,-999,9,     -999,9,     -999,9,     -999,9,     -999,9,     -999,9,     -999,9,-999,9,     -999,9,     -999,9,     -999,9,    -999,    -999
33RR20080204,       I06S,     103,          2,         26,         26,2,20080307,       0835,   -67.0000,    30.0000,       4089,   373.7,   0.9261,  34.6764,2,  34.6753,2,    206.6,2,   207.5,2,   92.97,2,   31.79,2,    0.00,2,    2.19,2,    -999,9,    -999,9,    -999,9,    -999,9,    -999,9,     -999,9,     -999,    -999,9,    -999,9,    -999,9,0.9278,2,-999,9,-999,9,-999,    -999,9,    -999,-999,9,-999,9,-0.1,2,    -999,9,-999,9, 20080307,     1006, -67.0000,  29.9999,    -999,-999,9,     -999,9,     -999,9,     -999,9,     -999,9,     -999,9,     -999,9,-999,9,     -999,9,     -999,9,     -999,9,    -999,    -999
33RR20080204,       I06S,     103,          2,         25,         25,2,20080307,       0835,   -67.0000,    30.0000,       4089,   425.7,   0.9873,  34.6895,2,  34.6879,2,    204.5,2,   205.6,2,   95.60,2,   31.75,2,    0.00,2,    2.19,2,   0.856,2,   0.475,2,   0.083,2,    -999,9,  2349.9,2,     -999,9,     -999,    -999,9,    -999,9,    -999,9,0.9865,2,-999,9,-999,9,-999,    -999,9,    -999,1.564,2,-999,9,-999,9,    -999,9,-999,9, 20080307,     1004, -67.0000,  29.9999,    -999,-999,9,     -999,9,     -999,9,     -999,9,     -999,9,     -999,9,     -999,9,-999,9,     -999,9,     -999,9,     -999,9,    -999,    -999
33RR20080204,       I06S,     103,          2,         24,         24,2,20080307,       0835,   -67.0000,    30.0000,       4089,   477.3,   0.9896,  34.6947,2,  34.6940,2,    206.5,2,   204.4,2,   97.22,2,   31.70,2,    0.00,2,    2.19,2,   0.713,2,   0.398,2,   0.070,2,    -999,9,    -999,9,     -999,9,     -999,    -999,9,    -999,9,    -999,9,0.9896,2,-999,9,-999,9,-999,    -999,9,    -999,1.446,2,-999,9,-0.1,2,    -999,9,-999,9, 20080307,     1002, -67.0000,  30.0000,    -999,-999,9,     -999,9,     -999,9,     -999,9,     -999,9,     -999,9,     -999,9,-999,9,     -999,9,     -999,9,     -999,9,    -999,    -999
33RR20080204,       I06S,     103,          2,         23,         23,9,20080307,       0835,   -67.0000,    30.0000,       4089,   526.3,   0.9177,  34.6927,2,     -999,9,     -999,9,    -999,9,    -999,9,    -999,9,    -999,9,    -999,9,    -999,9,    -999,9,    -999,9,    -999,9,    -999,9,     -999,9,     -999,    -999,9,    -999,9,    -999,9,0.9167,2,-999,9,-999,9,-999,    -999,9,    -999,-999,9,-999,9,-999,9,    -999,9,-999,9, 20080307,     1000, -67.0000,  29.9999,    -999,-999,9,     -999,9,     -999,9,     -999,9,     -999,9,     -999,9,     -999,9,-999,9,     -999,9,     -999,9,     -999,9,    -999,    -999
33RR20080204,       I06S,     103,          2,         22,         22,2,20080307,       0835,   -67.0000,    30.0000,       4089,   647.0,   0.7900,  34.6906,2,  34.6897,2,    207.6,2,   209.7,2,  100.87,2,   31.75,2,    0.00,2,    2.19,2,   0.760,2,   0.427,2,   0.066,2,    -999,9,    -999,9,     -999,9,     -999,    -999,9,    -999,9,    -999,9,0.7873,2,-999,9,-999,9,-999,    -999,9,    -999,1.417,2,-999,9,-0.05,2,    -999,9,-999,9, 20080307,     0957, -67.0000,  30.0000,    -999,-999,9,     -999,9,     -999,9,     -999,9,     -999,9,     -999,9,     -999,9,-999,9,     -999,9,     -999,9,     -999,9,    -999,    -999
33RR20080204,       I06S,     103,          2,         21,         21,2,20080307,       0835,   -67.0000,    30.0000,       4089,   749.0,   0.7570,  34.6926,2,  34.6930,2,    210.1,2,   208.4,2,  103.90,2,   31.89,2,    0.00,2,    2.20,2,   0.662,2,   0.368,2,   0.054,2,    -999,9,  2353.7,2,     -999,9,     -999,    -999,9,    -999,9,    -999,9,0.7565,2,-999,9,-999,9,-999,    -999,9,    -999,1.282,2,-999,9,-999,9,    -999,9,-999,9, 20080307,     0954, -67.0000,  29.9999,    -999,-999,9,     -999,9,     -999,9,     -999,9,     -999,9,     -999,9,     -999,9,-999,9,     -999,9,     -999,9,     -999,9,    -999,    -999
33RR20080204,       I06S,     103,          2,         20,         20,2,20080307,       0835,   -67.0000,    30.0000,       4089,   852.8,   0.6444,  34.6895,2,  34.6895,2,    210.0,2,   209.6,2,  106.95,2,   32.05,2,    0.00,2,    2.21,2,   0.648,2,   0.351,2,   0.052,2,    -999,9,    -999,9,     -999,9,     -999,    -999,9,    -999,9,    -999,9,0.6456,2,-999,9,-999,9,-999,    -999,9,    -999,1.279,2,-999,9,-0.14,2,    -999,9,-999,9, 20080307,     0952, -67.0000,  30.0000,    -999,-999,9,     -999,9,     -999,9,     -999,9,     -999,9,     -999,9,     -999,9,-999,9,     -999,9,     -999,9,     -999,9,    -999,    -999
33RR20080204,       I06S,     103,          2,         19,         19,2,20080307,       0835,   -67.0000,    30.0000,       4089,   954.9,   0.6576,  34.6954,2,  34.6960,2,    209.2,2,   206.5,2,  111.02,2,   32.19,2,    0.00,2,    2.22,2,   0.438,2,   0.241,2,   0.030,2,    -999,9,  2358.1,2,     -999,9,     -999,    -999,9,    -999,9,    -999,9,0.6573,2,-999,9,-999,9,-999,    -999,9,    -999,1.075,2,-999,9,-999,1,    -999,9,-999,9, 20080307,     0949, -67.0000,  30.0000,    -999,-999,9,     -999,9,     -999,9,     -999,9,     -999,9,     -999,9,     -999,9,-999,9,     -999,9,     -999,9,     -999,9,    -999,    -999
33RR20080204,       I06S,     103,          2,         18,         18,2,20080307,       0835,   -67.0000,    30.0000,       4089,  1055.9,   0.5654,  34.6899,2,  34.6899,2,    210.0,2,   209.0,2,  112.24,2,   32.34,2,    0.00,2,    2.23,2,   0.508,2,   0.285,2,   0.041,2,    -999,9,    -999,9,     -999,9,     -999,    -999,9,    -999,9,    -999,9,0.5645,2,-999,9,-999,9,-999,    -999,9,    -999,1.25,2,-999,9,-999,9,    -999,9,-999,9, 20080307,     0946, -67.0000,  29.9999,    -999,-999,9,     -999,9,     -999,9,     -999,9,     -999,9,     -999,9,     -999,9,-999,9,     -999,9,     -999,9,     -999,9,    -999,    -999
33RR20080204,       I06S,     103,          2,         17,         17,2,20080307,       0835,   -67.0000,    30.0000,       4089,  1155.1,   0.4950,  34.6862,2,  34.6862,2,    210.7,2,   210.4,2,  113.05,2,   32.34,2,    0.00,2,    2.23,2,   0.531,2,   0.293,2,   0.040,2,    -999,9,  2356.1,2,     -999,9,     -999,    -999,9,    -999,9,    -999,9,0.4957,2,-999,9,-999,9,-999,    -999,9,    -999,1.108,2,-999,9,-999,9,    -999,9,-999,9, 20080307,     0943, -67.0000,  29.9999,    -999,-999,9,     -999,9,     -999,9,     -999,9,     -999,9,     -999,9,     -999,9,-999,9,     -999,9,     -999,9,     -999,9,    -999,    -999
33RR20080204,       I06S,     103,          2,         15,         15,2,20080307,       0835,   -67.0000,    30.0000,       4089,  1262.0,   0.4293,  34.6834,2,  34.6832,2,    211.8,2,   211.6,2,  115.08,2,   32.45,2,    0.00,2,    2.23,2,   0.529,2,   0.295,2,   0.042,2,    -999,9,  2356.3,2,     -999,9,     -999,    -999,9,    -999,9,    -999,9,0.4294,2,-999,9,-999,9,-999,    -999,9,    -999,1.185,2,-999,9,-999,9,    -999,9,-999,9, 20080307,     0940, -67.0000,  29.9999,    -999,-999,9,     -999,9,     -999,9,     -999,9,     -999,9,     -999,9,     -999,9,-999,9,     -999,9,     -999,9,     -999,9,    -999,    -999
33RR20080204,       I06S,     103,          2,         14,         14,2,20080307,       0835,   -67.0000,    30.0000,       4089,  1362.3,   0.3752,  34.6818,2,  34.6819,2,    212.0,2,   211.6,2,  117.32,2,   32.59,2,    0.00,2,    2.24,2,   0.495,2,   0.272,2,   0.036,2,    -999,9,    -999,9,     -999,9,     -999,    -999,9,    -999,9,    -999,9,0.3755,2,-999,9,-999,9,-999,    -999,9,    -999,1.217,2,-999,9,-0.04,2,    -999,9,-999,9, 20080307,     0938, -67.0000,  29.9999,    -999,-999,9,     -999,9,     -999,9,     -999,9,     -999,9,     -999,9,     -999,9,-999,9,     -999,9,     -999,9,     -999,9,    -999,    -999
33RR20080204,       I06S,     103,          2,         13,         13,2,20080307,       0835,   -67.0000,    30.0000,       4089,  1464.5,   0.3156,  34.6791,2,  34.6791,2,    213.5,2,   214.0,2,  118.34,2,   32.60,2,    0.00,2,    2.24,2,   0.510,2,   0.287,2,   0.045,2,    -999,9,  2356.0,2,     -999,9,     -999,    -999,9,    -999,9,    -999,9,0.3167,2,-999,9,-999,9,-999,    -999,9,    -999,1.209,2,-999,9,-999,9,    -999,9,-999,9, 20080307,     0935, -67.0000,  29.9999,    -999,-999,9,     -999,9,     -999,9,     -999,9,     -999,9,     -999,9,     -999,9,-999,9,     -999,9,     -999,9,     -999,9,    -999,    -999
33RR20080204,       I06S,     103,          2,         12,         12,2,20080307,       0835,   -67.0000,    30.0000,       4089,  1564.0,   0.2705,  34.6775,2,  34.6774,2,    214.6,2,   215.4,2,  119.15,2,   32.64,2,    0.00,2,    2.24,2,   0.515,2,   0.292,2,   0.052,2,    -999,9,    -999,9,     -999,9,     -999,    -999,9,    -999,9,    -999,9,0.2712,2,-999,9,-999,9,-999,    -999,9,    -999,1.235,2,-999,9,-999,9,    -999,9,-999,9, 20080307,     0932, -67.0000,  30.0000,    -999,-999,9,     -999,9,     -999,9,     -999,9,     -999,9,     -999,9,     -999,9,-999,9,     -999,9,     -999,9,     -999,9,    -999,    -999
33RR20080204,       I06S,     103,          2,         11,         11,2,20080307,       0835,   -67.0000,    30.0000,       4089,  1664.2,   0.2130,  34.6740,2,  34.6740,2,    217.1,2,   217.8,2,  119.35,2,   32.60,2,    0.00,2,    2.24,2,   0.616,2,   0.338,2,   0.047,2,    -999,9,  2356.8,2,     -999,9,     -999,    -999,9,    -999,9,    -999,9,0.2139,2,-999,9,-999,9,-999,    -999,9,    -999,1.279,2,-999,9,-999,9,    -999,9,-999,9, 20080307,     0929, -67.0000,  29.9999,    -999,-999,9,     -999,9,     -999,9,     -999,9,     -999,9,     -999,9,     -999,9,-999,9,     -999,9,     -999,9,     -999,9,    -999,    -999
33RR20080204,       I06S,     103,          2,         10,         10,2,20080307,       0835,   -67.0000,    30.0000,       4089,  1767.6,   0.1878,  34.6735,2,  34.6740,2,    217.4,2,   218.5,2,  120.37,2,   32.64,2,    0.00,2,    2.24,2,   0.551,2,   0.310,2,   0.042,2,    -999,9,    -999,9,     -999,9,     -999,    -999,9,    -999,9,    -999,9,0.1881,2,-999,9,-999,9,-999,    -999,9,    -999,1.248,2,-999,9,-999,9,    -999,9,-999,9, 20080307,     0926, -67.0000,  29.9999,    -999,-999,9,     -999,9,     -999,9,     -999,9,     -999,9,     -999,9,     -999,9,-999,9,     -999,9,     -999,9,     -999,9,    -999,    -999
33RR20080204,       I06S,     103,          2,          9,          9,2,20080307,       0835,   -67.0000,    30.0000,       4089,  1865.7,   0.1434,  34.6717,2,  34.6713,2,    219.6,2,   220.2,2,  120.16,2,   32.54,2,    0.00,2,    2.24,2,   0.598,2,   0.332,2,   0.043,2,    -999,9,  2356.6,2,     -999,9,     -999,    -999,9,    -999,9,    -999,9,0.1445,2,-999,9,-999,9,-999,    -999,9,    -999,1.407,2,-999,9,-999,9,    -999,9,-999,9, 20080307,     0923, -67.0000,  30.0000,    -999,-999,9,     -999,9,     -999,9,     -999,9,     -999,9,     -999,9,     -999,9,-999,9,     -999,9,     -999,9,     -999,9,    -999,    -999
33RR20080204,       I06S,     103,          2,          8,          8,2,20080307,       0835,   -67.0000,    30.0000,       4089,  2070.5,   0.0733,  34.6679,2,  34.6678,2,    222.9,2,   223.8,2,  120.56,2,   32.54,2,    0.00,2,    2.23,2,   0.699,2,   0.387,2,   0.054,2,    -999,9,    -999,9,     -999,9,     -999,    -999,9,    -999,9,    -999,9,0.0742,2,-999,9,-999,9,-999,    -999,9,    -999,1.505,2,-999,9,-0.12,2,    -999,9,-999,9, 20080307,     0919, -67.0000,  29.9999,    -999,-999,9,     -999,9,     -999,9,     -999,9,     -999,9,     -999,9,     -999,9,-999,9,     -999,9,     -999,9,     -999,9,    -999,    -999
33RR20080204,       I06S,     103,          2,          7,          7,2,20080307,       0835,   -67.0000,    30.0000,       4089,  2392.6,  -0.0186,  34.6647,2,  34.6641,2,    228.0,2,   228.1,2,  121.16,2,   32.49,2,    0.00,2,    2.23,2,   0.812,2,   0.441,2,   0.059,2,    -999,9,  2354.5,2,     -999,9,     -999,    -999,9,    -999,9,    -999,9,-0.018,2,-999,9,-999,9,-999,    -999,9,    -999,1.642,2,-999,9,-999,9,    -999,9,-999,9, 20080307,     0913, -67.0000,  30.0000,    -999,-999,9,     -999,9,     -999,9,     -999,9,     -999,9,     -999,9,     -999,9,-999,9,     -999,9,     -999,9,     -999,9,    -999,    -999
33RR20080204,       I06S,     103,          2,          6,          6,2,20080307,       0835,   -67.0000,    30.0000,       4089,  2698.3,  -0.0571,  34.6640,2,  34.6641,2,    230.7,2,   229.8,2,  122.80,2,   32.49,2,    0.00,2,    2.24,2,   0.795,2,   0.434,2,   0.068,2,    -999,9,    -999,9,     -999,9,     -999,    -999,9,    -999,9,    -999,9,-0.0575,2,-999,9,-999,9,-999,    -999,9,    -999,1.598,2,-999,9,-999,9,    -999,9,-999,9, 20080307,     0907, -67.0000,  29.9999,    -999,-999,9,     -999,9,     -999,9,     -999,9,     -999,9,     -999,9,     -999,9,-999,9,     -999,9,     -999,9,     -999,9,    -999,    -999