BOTTLE,20220706CCHSIOAMB
EXPOCODE,SECT_ID,STNNBR,CASTNO,SAMPNO,BTLNBR,BTLNBR_FLAG_W,DATE,TIME,LATITUDE,LONGITUDE,DEPTH,CTDPRS,CTDTMP,CTDSAL,CTDSAL_FLAG_W,SALNTY,SALNTY_FLAG_W,CTDOXY,CTDOXY_FLAG_W,OXYGEN,OXYGEN_FLAG_W,SILCAT,SILCAT_FLAG_W,NITRAT,NITRAT_FLAG_W,NITRIT,NITRIT_FLAG_W,PHSPHT,PHSPHT_FLAG_W,CFC-11,CFC-11_FLAG_W,CFC-12,CFC-12_FLAG_W,CFC113,CFC113_FLAG_W,TCARBN,TCARBN_FLAG_W,ALKALI,ALKALI_FLAG_W,PH_SWS,PH_SWS_FLAG_W,PH_TMP,TRITUM,TRITUM_FLAG_W,HELIUM,HELIUM_FLAG_W,DELHE3,DELHE3_FLAG_W,REFTMP,REFTMP_FLAG_W,DELC13,DELC13_FLAG_W,DELC14,DELC14_FLAG_W,C14ERR,NEON,NEON_FLAG_W,NEONER,CCL4,CCL4_FLAG_W,ALUMIN,ALUMIN_FLAG_W,DELO18,DELO18_FLAG_W,DOC,DOC_FLAG_W,TDN,TDN_FLAG_W,BTL_DATE,BTL_TIME,BTL_LAT,BTL_LON,TRITER,DELSI30,DELSI30_FLAG_W,CDOM380,CDOM380_FLAG_W,CDOM325,CDOM325_FLAG_W,CDOMSL,CDOMSL_FLAG_W,CDOM340,CDOM340_FLAG_W,CDOM443,CDOM443_FLAG_W,CDOMSN,CDOMSN_FLAG_W,BLACKC,BLACKC_FLAG_W,CDOM490,CDOM490_FLAG_W,CDOM412,CDOM412_FLAG_W,CDOM555,CDOM555_FLAG_W,DELHER,HELIER
,,,,,,,,,,,METERS,DBAR,ITS-90,PSS-78,,PSS-78,,UMOL/KG,,UMOL/KG,,UMOL/KG,,UMOL/KG,,UMOL/KG,,UMOL/KG,,PMOL/KG,,PMOL/KG,,PMOL/KG,,UMOL/KG,,UMOL/KG,,,,DEG C,TU,,NMOL/KG,,PERCNT,,DEG C,,/MILLE,,/MILLE,,/MILLE,NMOL/KG,,NMOL/KG,PMOL/KG,,NMOL/L,,/MILLE,,UMOL/KG,,UMOL/KG,,,,,,TU,/MILLE,,1/M,,1/M,,1/NM,,1/M,,1/M,,1/NM,,,,1/M,,1/M,,1/M,,PERCNT,NMOL/KG
33RR20080204,       I06S,      99,          3,          4,          4,2,20080306,       0956,   -68.2242,    30.8847,       3002,  2388.8,  -0.0144,  34.6632,2,  34.6619,2,    228.5,2,   228.4,2,  120.51,2,   32.30,2,    0.00,2,    2.24,2,   0.847,2,   0.469,2,   0.061,2,  2255.3,2,  2353.6,2,   7.7853,2,    13.00,    -999,9,    -999,9,    -999,9,-0.0148,2,-999,9,-999,9,-999,    -999,9,    -999,1.429,2,-999,9,-999,9,   38.24,2,-999,1, 20080306,     1011, -68.2243,  30.8847,    -999,-999,9,   0.0326,2,   0.1083,2,   0.0176,3,   0.0700,2,   0.0117,2,   0.0186,3,-999,9,   0.0031,2,   0.0209,2,  -0.0001,4,    -999,    -999
33RR20080204,       I06S,      99,          3,          3,          3,2,20080306,       0956,   -68.2242,    30.8847,       3002,  2693.2,  -0.0567,  34.6615,2,  34.6611,2,    231.2,2,   230.8,2,  120.70,2,   32.29,2,    0.00,2,    2.24,2,   0.924,2,   0.493,2,   0.071,2,  2255.6,2,  2353.2,2,   7.7866,4,    13.00,    -999,9,    -999,9,    -999,9,-0.0572,2,-999,9,-999,9,-999,    -999,9,    -999,1.385,2,-999,9,-999,9,   38.44,2,-999,1, 20080306,     1005, -68.2243,  30.8847,    -999,-999,9,   0.0377,2,   0.1152,2,   0.0177,3,   0.0756,2,   0.0126,2,   0.0178,3,-999,9,   0.0029,2,   0.0226,2,  -0.0003,4,    -999,    -999
33RR20080204,       I06S,      99,          3,          2,          2,2,20080306,       0956,   -68.2242,    30.8847,       3002,  2850.1,  -0.0775,  34.6606,2,  34.6603,2,    232.5,2,   232.2,2,  120.91,2,   32.24,2,    0.00,2,    2.24,2,   0.953,2,   0.512,2,   0.073,2,  2253.7,2,  2353.1,2,   7.7890,4,    13.00,    -999,9,    -999,9,    -999,9,-0.0776,2,-999,9,-999,9,-999,    -999,9,    -999,1.425,2,-999,9,-999,9,    -999,9,-999,9, 20080306,     1001, -68.2243,  30.8847,    -999,-999,9,     -999,9,     -999,9,     -999,9,     -999,9,     -999,9,     -999,9,-999,9,     -999,9,     -999,9,     -999,9,    -999,    -999
33RR20080204,       I06S,      99,          3,          1,          1,2,20080306,       0956,   -68.2242,    30.8847,       3002,  3031.1,  -0.0772,  34.6600,2,  34.6597,2,    232.4,2,   233.2,2,  121.11,2,   32.23,2,    0.00,2,    2.24,2,   0.987,2,   0.524,2,   0.109,2,  2253.6,6,  2354.7,2,   7.7888,2,    13.00,    -999,9,    -999,9,    -999,9,-0.0774,2,-999,9,-999,9,-999,    -999,9,    -999,1.579,2,-999,9,-999,9,   40.10,2,-999,1, 20080306,     0957, -68.2242,  30.8847,    -999,-999,9,   0.0350,2,   0.1125,2,   0.0168,3,   0.0737,2,   0.0134,2,   0.0177,3,-999,9,   0.0038,2,   0.0233,2,   0.0004,3,    -999,    -999