BOTTLE,20220706CCHSIOAMB
EXPOCODE,SECT_ID,STNNBR,CASTNO,SAMPNO,BTLNBR,BTLNBR_FLAG_W,DATE,TIME,LATITUDE,LONGITUDE,DEPTH,CTDPRS,CTDTMP,CTDSAL,CTDSAL_FLAG_W,SALNTY,SALNTY_FLAG_W,CTDOXY,CTDOXY_FLAG_W,OXYGEN,OXYGEN_FLAG_W,SILCAT,SILCAT_FLAG_W,NITRAT,NITRAT_FLAG_W,NITRIT,NITRIT_FLAG_W,PHSPHT,PHSPHT_FLAG_W,CFC-11,CFC-11_FLAG_W,CFC-12,CFC-12_FLAG_W,CFC113,CFC113_FLAG_W,TCARBN,TCARBN_FLAG_W,ALKALI,ALKALI_FLAG_W,PH_SWS,PH_SWS_FLAG_W,PH_TMP,TRITUM,TRITUM_FLAG_W,HELIUM,HELIUM_FLAG_W,DELHE3,DELHE3_FLAG_W,REFTMP,REFTMP_FLAG_W,DELC13,DELC13_FLAG_W,DELC14,DELC14_FLAG_W,C14ERR,NEON,NEON_FLAG_W,NEONER,CCL4,CCL4_FLAG_W,ALUMIN,ALUMIN_FLAG_W,DELO18,DELO18_FLAG_W,DOC,DOC_FLAG_W,TDN,TDN_FLAG_W,BTL_DATE,BTL_TIME,BTL_LAT,BTL_LON,TRITER,DELSI30,DELSI30_FLAG_W,CDOM380,CDOM380_FLAG_W,CDOM325,CDOM325_FLAG_W,CDOMSL,CDOMSL_FLAG_W,CDOM340,CDOM340_FLAG_W,CDOM443,CDOM443_FLAG_W,CDOMSN,CDOMSN_FLAG_W,BLACKC,BLACKC_FLAG_W,CDOM490,CDOM490_FLAG_W,CDOM412,CDOM412_FLAG_W,CDOM555,CDOM555_FLAG_W,DELHER,HELIER
,,,,,,,,,,,METERS,DBAR,ITS-90,PSS-78,,PSS-78,,UMOL/KG,,UMOL/KG,,UMOL/KG,,UMOL/KG,,UMOL/KG,,UMOL/KG,,PMOL/KG,,PMOL/KG,,PMOL/KG,,UMOL/KG,,UMOL/KG,,,,DEG C,TU,,NMOL/KG,,PERCNT,,DEG C,,/MILLE,,/MILLE,,/MILLE,NMOL/KG,,NMOL/KG,PMOL/KG,,NMOL/L,,/MILLE,,UMOL/KG,,UMOL/KG,,,,,,TU,/MILLE,,1/M,,1/M,,1/NM,,1/M,,1/M,,1/NM,,,,1/M,,1/M,,1/M,,PERCNT,NMOL/KG
33RR20080204,       I06S,      75,          1,          7,          7,2,20080229,       0848,   -64.4997,    30.0014,       5030,  3622.9,  -0.1892,  34.6556,2,  34.6554,2,    238.3,2,   239.5,2,  120.85,2,   32.32,2,    0.00,2,    2.24,2,   1.108,2,   0.603,2,   0.084,2,  2253.5,2,  2353.1,2,   7.7901,2,    13.00,    -999,9,    -999,9,    -999,9,-0.1895,2,-999,9,-999,9,-999,    -999,9,    -999,1.663,2,-999,9,-999,9,   38.54,2,-999,1, 20080229,     0920, -64.4997,  30.0013,    -999,-999,9,   0.0305,2,   0.1044,2,   0.0190,2,   0.0669,2,   0.0094,2,   0.0219,2,-999,9,   0.0018,2,   0.0182,2,  -0.0007,4,    -999,    -999
33RR20080204,       I06S,      75,          1,          6,          6,2,20080229,       0848,   -64.4997,    30.0014,       5030,  3929.2,  -0.1983,  34.6559,2,  34.6569,2,    237.3,2,   239.2,2,  124.57,2,   32.47,2,    0.00,2,    2.25,2,   0.753,2,   0.431,2,   0.047,2,  2251.8,2,  2352.9,2,   7.7911,2,    13.00,    -999,9,    -999,9,    -999,9,-0.1985,2,-999,9,-999,9,-999,    -999,9,    -999,1.239,2,-999,9,-999,9,   37.85,2,-999,1, 20080229,     0914, -64.4997,  30.0014,    -999,-999,9,   0.0368,2,   0.1185,2,   0.0173,2,   0.0779,2,   0.0135,2,   0.0200,3,-999,1,   0.0041,2,   0.0235,2,   0.0005,4,    -999,    -999
33RR20080204,       I06S,      75,          1,          5,          5,2,20080229,       0848,   -64.4997,    30.0014,       5030,  4234.9,  -0.2287,  34.6557,2,  34.6562,2,    239.4,2,   240.0,2,  127.46,2,   32.47,2,    0.00,2,    2.24,2,   0.540,2,   0.295,2,   0.033,2,  2251.9,2,  2354.3,2,   7.7949,2,    13.00,    -999,9,    -999,9,    -999,9,-0.2289,2,-999,9,-999,9,-999,    -999,9,    -999,1.116,2,-999,9,-999,9,   36.88,2,-999,1, 20080229,     0908, -64.4997,  30.0014,    -999,-999,9,   0.0388,2,   0.1223,2,   0.0177,2,   0.0809,2,   0.0135,2,   0.0200,2,-999,9,   0.0040,2,   0.0239,2,   0.0003,4,    -999,    -999
33RR20080204,       I06S,      75,          1,          4,          4,2,20080229,       0848,   -64.4997,    30.0014,       5030,  4541.2,  -0.2539,  34.6541,2,  34.6544,2,    241.5,2,   241.7,2,  129.95,2,   32.48,2,    0.00,2,    2.24,2,   0.483,2,   0.273,2,   0.031,2,  2100.8,4,  2354.1,2,   7.7952,2,    13.00,    -999,9,    -999,9,    -999,9,-0.2541,2,-999,9,-999,9,-999,    -999,9,    -999,1.118,2,-999,9,-999,9,    -999,9,-999,9, 20080229,     0901, -64.4997,  30.0014,    -999,-999,9,     -999,9,     -999,9,     -999,9,     -999,9,     -999,9,     -999,9,-999,9,     -999,9,     -999,9,     -999,9,    -999,    -999
33RR20080204,       I06S,      75,          1,          3,          3,2,20080229,       0848,   -64.4997,    30.0014,       5030,  4747.5,  -0.2634,  34.6531,2,  34.6538,2,    242.6,2,   242.4,2,  132.43,2,   32.48,2,    0.00,2,    2.24,2,   0.430,2,   0.255,2,   0.027,2,  2101.5,4,  2354.6,2,   7.7951,2,    13.00,    -999,9,    -999,9,    -999,9,-0.2634,2,-999,9,-999,9,-999,    -999,9,    -999,1.135,2,-999,9,-999,9,   38.24,2,-999,1, 20080229,     0857, -64.4997,  30.0013,    -999,-999,9,   0.0376,2,   0.1156,2,   0.0170,2,   0.0767,2,   0.0137,2,   0.0193,2,-999,9,   0.0044,2,   0.0235,2,   0.0007,3,    -999,    -999
33RR20080204,       I06S,      75,          1,          2,          2,2,20080229,       0848,   -64.4997,    30.0014,       5030,  4950.7,  -0.2700,  34.6526,2,  34.6526,2,    243.8,2,   243.1,2,  133.68,2,   32.53,2,    0.00,2,    2.25,2,   0.419,2,   0.233,2,   0.017,2,  2100.2,4,  2353.0,2,   7.7974,2,    13.00,    -999,9,    -999,9,    -999,9,-0.2698,2,-999,9,-999,9,-999,    -999,9,    -999,1.08,2,-999,9,-999,9,    -999,9,-999,9, 20080229,     0852, -64.4997,  30.0014,    -999,-999,9,     -999,9,     -999,9,     -999,9,     -999,9,     -999,9,     -999,9,-999,9,     -999,9,     -999,9,     -999,9,    -999,    -999
33RR20080204,       I06S,      75,          1,          1,          1,2,20080229,       0848,   -64.4997,    30.0014,       5030,  5105.4,  -0.2869,  34.6506,2,  34.6516,2,    245.1,2,   243.7,2,  135.96,2,   32.58,2,    0.00,2,    2.25,2,   0.446,2,   0.243,2,   0.036,2,  2097.9,4,  2353.7,2,   7.7961,2,    13.00,    -999,9,    -999,9,    -999,9,-0.2865,2,-999,9,-999,9,-999,    -999,9,    -999,1.052,2,-999,9,-999,9,   39.22,2,-999,1, 20080229,     0848, -64.4997,  30.0014,    -999,-999,9,     -999,9,     -999,9,     -999,9,     -999,9,     -999,9,     -999,9,-999,1,     -999,9,     -999,9,     -999,9,    -999,    -999