BOTTLE,20220706CCHSIOAMB
EXPOCODE,SECT_ID,STNNBR,CASTNO,SAMPNO,BTLNBR,BTLNBR_FLAG_W,DATE,TIME,LATITUDE,LONGITUDE,DEPTH,CTDPRS,CTDTMP,CTDSAL,CTDSAL_FLAG_W,SALNTY,SALNTY_FLAG_W,CTDOXY,CTDOXY_FLAG_W,OXYGEN,OXYGEN_FLAG_W,SILCAT,SILCAT_FLAG_W,NITRAT,NITRAT_FLAG_W,NITRIT,NITRIT_FLAG_W,PHSPHT,PHSPHT_FLAG_W,CFC-11,CFC-11_FLAG_W,CFC-12,CFC-12_FLAG_W,CFC113,CFC113_FLAG_W,TCARBN,TCARBN_FLAG_W,ALKALI,ALKALI_FLAG_W,PH_SWS,PH_SWS_FLAG_W,PH_TMP,TRITUM,TRITUM_FLAG_W,HELIUM,HELIUM_FLAG_W,DELHE3,DELHE3_FLAG_W,REFTMP,REFTMP_FLAG_W,DELC13,DELC13_FLAG_W,DELC14,DELC14_FLAG_W,C14ERR,NEON,NEON_FLAG_W,NEONER,CCL4,CCL4_FLAG_W,ALUMIN,ALUMIN_FLAG_W,DELO18,DELO18_FLAG_W,DOC,DOC_FLAG_W,TDN,TDN_FLAG_W,BTL_DATE,BTL_TIME,BTL_LAT,BTL_LON,TRITER,DELSI30,DELSI30_FLAG_W,CDOM380,CDOM380_FLAG_W,CDOM325,CDOM325_FLAG_W,CDOMSL,CDOMSL_FLAG_W,CDOM340,CDOM340_FLAG_W,CDOM443,CDOM443_FLAG_W,CDOMSN,CDOMSN_FLAG_W,BLACKC,BLACKC_FLAG_W,CDOM490,CDOM490_FLAG_W,CDOM412,CDOM412_FLAG_W,CDOM555,CDOM555_FLAG_W,DELHER,HELIER
,,,,,,,,,,,METERS,DBAR,ITS-90,PSS-78,,PSS-78,,UMOL/KG,,UMOL/KG,,UMOL/KG,,UMOL/KG,,UMOL/KG,,UMOL/KG,,PMOL/KG,,PMOL/KG,,PMOL/KG,,UMOL/KG,,UMOL/KG,,,,DEG C,TU,,NMOL/KG,,PERCNT,,DEG C,,/MILLE,,/MILLE,,/MILLE,NMOL/KG,,NMOL/KG,PMOL/KG,,NMOL/L,,/MILLE,,UMOL/KG,,UMOL/KG,,,,,,TU,/MILLE,,1/M,,1/M,,1/NM,,1/M,,1/M,,1/NM,,,,1/M,,1/M,,1/M,,PERCNT,NMOL/KG
33RR20080204,       I06S,      71,          2,         36,         36,2,20080227,       2109,   -62.4992,    29.9950,       5180,     3.5,   0.7675,  33.8012,2,  33.8018,2,    335.9,2,   336.0,2,   52.30,2,   25.67,2,    0.35,2,    1.81,2,   6.154,2,   3.433,2,   0.494,2,  2165.2,6,  2293.9,2,   7.8895,2,    13.00,    -999,9,    -999,9,    -999,9,0.7667,2,-999,9,-999,9,-999,    -999,9,    -999,9.225,2,-999,9,-999,9,   45.76,2,-999,1, 20080227,     2330, -62.4992,  29.9951,    -999,-999,9,     -999,9,     -999,9,     -999,9,     -999,9,     -999,9,     -999,9,-999,9,     -999,9,     -999,9,     -999,9,    -999,    -999
33RR20080204,       I06S,      71,          2,         35,         35,2,20080227,       2109,   -62.4992,    29.9950,       5180,    20.6,   0.7403,  33.8013,2,  33.8028,2,    336.3,2,   335.9,2,   52.11,2,   25.67,2,    0.35,2,    1.80,2,   6.157,2,   3.432,2,   0.484,2,  2166.0,2,  2293.7,2,   7.8883,2,    13.00,    -999,9,    -999,9,    -999,9,0.7386,2,-999,9,-999,9,-999,    -999,9,    -999,9.042,2,-999,9,-999,9,   42.44,2,-999,1, 20080227,     2328, -62.4992,  29.9951,    -999,-999,1,     -999,9,     -999,9,     -999,9,     -999,9,     -999,9,     -999,9,-999,1,     -999,9,     -999,9,     -999,9,    -999,    -999
33RR20080204,       I06S,      71,          2,         34,         34,2,20080227,       2109,   -62.4992,    29.9950,       5180,    35.9,   0.7100,  33.8023,2,  33.8110,2,    336.3,2,   335.7,2,   52.29,2,   25.67,2,    0.34,2,    1.80,2,   6.224,2,   3.468,2,   0.501,2,  2166.9,2,  2293.6,2,   7.8890,3,    13.00,    -999,9,    -999,9,    -999,9,0.7066,2,-999,9,-999,9,-999,    -999,9,    -999,9.562,2,-999,9,-999,9,   43.80,2,-999,1, 20080227,     2326, -62.4992,  29.9951,    -999,-999,1,     -999,9,     -999,9,     -999,9,     -999,9,     -999,9,     -999,9,-999,9,     -999,9,     -999,9,     -999,9,    -999,    -999
33RR20080204,       I06S,      71,          2,         33,         33,2,20080227,       2109,   -62.4992,    29.9950,       5180,    65.5,  -1.6016,  34.1362,2,  34.1340,2,    342.0,2,   341.5,2,   57.09,2,   27.51,2,    0.23,2,    1.92,2,   6.251,2,   3.483,2,   0.481,2,  2195.7,2,  2314.0,2,   7.8635,4,    13.00,    -999,9,    -999,9,    -999,9,-1.6015,2,-999,9,-999,9,-999,    -999,9,    -999,8.465,2,-999,9,-999,9,   43.90,2,-999,1, 20080227,     2323, -62.4992,  29.9950,    -999,-999,1,     -999,9,     -999,9,     -999,9,     -999,9,     -999,9,     -999,9,-999,9,     -999,9,     -999,9,     -999,9,    -999,    -999
33RR20080204,       I06S,      71,          2,         32,         32,2,20080227,       2109,   -62.4992,    29.9950,       5180,    91.9,  -1.6684,  34.1584,2,  34.1595,2,    335.3,2,   333.8,2,   59.12,2,   27.88,2,    0.25,2,    1.95,2,   6.112,2,   3.410,2,   0.506,2,  2199.7,2,  2313.7,2,   7.8604,4,    13.00,    -999,9,    -999,9,    -999,9,-1.6674,2,-999,9,-999,9,-999,    -999,9,    -999,8.397,2,-999,9,-999,9,   41.85,2,-999,1, 20080227,     2321, -62.4992,  29.9951,    -999,-999,1,     -999,9,     -999,9,     -999,9,     -999,9,     -999,9,     -999,9,-999,9,     -999,9,     -999,9,     -999,9,    -999,    -999
33RR20080204,       I06S,      71,          2,         31,         31,2,20080227,       2109,   -62.4992,    29.9950,       5180,   142.7,   0.2619,  34.4286,2,  34.4139,2,    246.6,2,   248.3,2,   77.89,2,   32.54,2,    0.06,2,    2.25,2,   3.471,6,   1.925,6,   0.309,6,  2236.9,2,  2327.6,2,   7.7697,2,    13.00,    -999,9,    -999,9,    -999,9,0.2407,2,-999,9,-999,9,-999,    -999,9,    -999,4.739,6,-999,9,-999,9,   40.29,2,-999,1, 20080227,     2318, -62.4992,  29.9950,    -999,-999,1,     -999,9,     -999,9,     -999,9,     -999,9,     -999,9,     -999,9,-999,9,     -999,9,     -999,9,     -999,9,    -999,    -999
33RR20080204,       I06S,      71,          2,         30,         30,2,20080227,       2109,   -62.4992,    29.9950,       5180,   192.9,   1.0593,  34.6001,2,  34.5977,2,    206.2,2,   202.3,2,   88.91,2,   33.34,2,    0.01,2,    2.30,2,   1.559,2,   0.847,2,   0.133,2,  2252.9,2,  2341.5,2,   7.7524,2,    13.00,    -999,9,    -999,9,    -999,9,1.0541,2,-999,9,-999,9,-999,    -999,9,    -999,2.362,2,-999,9,-999,9,   41.85,2,-999,1, 20080227,     2315, -62.4992,  29.9950,    -999,-999,1,     -999,9,     -999,9,     -999,9,     -999,9,     -999,9,     -999,9,-999,1,     -999,9,     -999,9,     -999,9,    -999,    -999
33RR20080204,       I06S,      71,          2,         29,         29,2,20080227,       2109,   -62.4992,    29.9950,       5180,   234.2,   1.2457,  34.6462,2,  34.6441,2,    196.9,2,   194.8,2,   91.34,2,   33.10,2,    0.01,2,    2.28,2,   1.077,2,   0.574,2,   0.100,2,  2255.4,2,  2346.5,2,   7.7652,4,    13.00,    -999,9,    -999,9,    -999,9,1.2415,2,-999,9,-999,9,-999,    -999,9,    -999,1.75,2,-999,9,-999,9,   41.46,2,-999,1, 20080227,     2313, -62.4992,  29.9950,    -999,-999,1,     -999,9,     -999,9,     -999,9,     -999,9,     -999,9,     -999,9,-999,9,     -999,9,     -999,9,     -999,9,    -999,    -999
33RR20080204,       I06S,      71,          2,         28,         28,2,20080227,       2109,   -62.4992,    29.9950,       5180,   284.5,   1.2421,  34.6681,2,  34.6677,2,    194.9,2,   195.2,2,   93.40,2,   32.75,2,    0.00,2,    2.25,2,   0.865,2,   0.469,2,   0.076,2,  2258.9,2,  2347.2,2,   7.7651,3,    13.00,    -999,9,    -999,9,    -999,9,1.2416,2,-999,9,-999,9,-999,    -999,9,    -999,1.445,2,-999,9,-999,9,   38.24,2,-999,1, 20080227,     2310, -62.4992,  29.9950,    -999,-999,1,     -999,9,     -999,9,     -999,9,     -999,9,     -999,9,     -999,9,-999,9,     -999,9,     -999,9,     -999,9,    -999,    -999
33RR20080204,       I06S,      71,          2,         27,         27,2,20080227,       2109,   -62.4992,    29.9950,       5180,   333.1,   1.2639,  34.6881,2,  34.6877,2,    195.1,2,   195.3,2,   95.29,2,   32.41,2,    0.00,2,    2.24,2,   0.675,2,   0.393,2,   0.063,2,  2265.5,2,  2350.2,2,   7.7708,2,    13.00,    -999,9,    -999,9,    -999,9,1.263,2,-999,9,-999,9,-999,    -999,9,    -999,1.271,2,-999,9,-999,9,   38.93,2,-999,1, 20080227,     2308, -62.4992,  29.9950,    -999,-999,9,     -999,9,     -999,9,     -999,9,     -999,9,     -999,9,     -999,9,-999,9,     -999,9,     -999,9,     -999,9,    -999,    -999
33RR20080204,       I06S,      71,          2,         26,         26,2,20080227,       2109,   -62.4992,    29.9950,       5180,   383.6,   1.2223,  34.6932,2,  34.6950,2,    195.9,2,   195.5,2,   96.60,2,   32.31,2,    0.00,2,    2.22,2,   0.659,2,   0.352,2,   0.059,2,  2259.5,2,  2350.4,2,   7.7741,3,    13.00,    -999,9,    -999,9,    -999,9,1.2225,2,-999,9,-999,9,-999,    -999,9,    -999,1.14,2,-999,9,-999,9,   41.37,2,-999,1, 20080227,     2305, -62.4992,  29.9951,    -999,-999,1,     -999,9,     -999,9,     -999,9,     -999,9,     -999,9,     -999,9,-999,9,     -999,9,     -999,9,     -999,9,    -999,    -999
33RR20080204,       I06S,      71,          2,         25,         25,2,20080227,       2109,   -62.4992,    29.9950,       5180,   438.7,   1.1569,  34.6983,2,  34.6981,2,    197.1,2,   197.3,2,   98.86,2,   32.21,2,    0.00,2,    2.22,2,   0.577,2,   0.312,2,   0.033,2,  2260.8,2,  2352.0,2,   7.7775,2,    13.00,    -999,9,    -999,9,    -999,9,1.1561,2,-999,9,-999,9,-999,    -999,9,    -999,1.06,2,-999,9,-999,9,    -999,9,-999,9, 20080227,     2302, -62.4992,  29.9950,    -999,-999,9,     -999,9,     -999,9,     -999,9,     -999,9,     -999,9,     -999,9,-999,9,     -999,9,     -999,9,     -999,9,    -999,    -999
33RR20080204,       I06S,      71,          2,         24,         24,2,20080227,       2109,   -62.4992,    29.9950,       5180,   488.9,   1.1035,  34.7008,2,  34.6997,2,    198.1,2,   198.2,2,  100.36,2,   32.16,2,    0.00,2,    2.21,2,   0.536,2,   0.293,2,   0.050,2,  2261.9,2,  2353.2,2,   7.7800,2,    13.00,    -999,9,    -999,9,    -999,9,1.1031,2,-999,9,-999,9,-999,    -999,9,    -999,0.964,2,-999,9,-999,9,   40.68,2,-999,1, 20080227,     2259, -62.4992,  29.9951,    -999,-999,9,     -999,9,     -999,9,     -999,9,     -999,9,     -999,9,     -999,9,-999,9,     -999,9,     -999,9,     -999,9,    -999,    -999
33RR20080204,       I06S,      71,          2,         23,         23,2,20080227,       2109,   -62.4992,    29.9950,       5180,   569.9,   1.0143,  34.7036,2,  34.7030,2,    199.8,2,   199.8,2,  103.19,2,   32.10,2,    0.00,2,    2.22,2,   0.472,2,   0.250,2,   0.038,2,  2260.8,2,  2353.9,2,   7.7821,3,    13.00,    -999,9,    -999,9,    -999,9,1.0141,2,-999,9,-999,9,-999,    -999,9,    -999,0.899,2,-999,9,-999,9,    -999,9,-999,9, 20080227,     2256, -62.4992,  29.9950,    -999,-999,1,     -999,9,     -999,9,     -999,9,     -999,9,     -999,9,     -999,9,-999,9,     -999,9,     -999,9,     -999,9,    -999,    -999
33RR20080204,       I06S,      71,          2,         22,         22,2,20080227,       2109,   -62.4992,    29.9950,       5180,   670.7,   0.9511,  34.7062,2,  34.7058,2,    201.5,2,   201.2,2,  105.65,2,   32.04,2,    0.00,2,    2.21,2,   0.416,2,   0.218,2,   0.042,2,  2261.6,2,  2355.7,2,   7.7750,4,    13.00,    -999,9,    -999,9,    -999,9,0.9511,2,-999,9,-999,9,-999,    -999,9,    -999,0.804,2,-999,9,-999,9,   38.63,2,-999,1, 20080227,     2253, -62.4992,  29.9951,    -999,-999,9,     -999,9,     -999,9,     -999,9,     -999,9,     -999,9,     -999,9,-999,9,     -999,9,     -999,9,     -999,9,    -999,    -999
33RR20080204,       I06S,      71,          2,         21,         21,2,20080227,       2109,   -62.4992,    29.9950,       5180,   770.4,   0.8558,  34.7039,2,  34.7032,2,    203.0,2,   202.6,2,  108.29,2,   32.18,2,    0.00,2,    2.22,2,   0.400,2,   0.203,2,   0.032,2,  2260.6,2,  2356.2,2,   7.7839,2,    13.00,    -999,9,    -999,9,    -999,9,0.8557,2,-999,9,-999,9,-999,    -999,9,    -999,0.821,2,-999,9,-999,9,    -999,9,-999,9, 20080227,     2250, -62.4992,  29.9951,    -999,-999,1,     -999,9,     -999,9,     -999,9,     -999,9,     -999,9,     -999,9,-999,9,     -999,9,     -999,9,     -999,9,    -999,    -999
33RR20080204,       I06S,      71,          2,         20,         20,2,20080227,       2109,   -62.4992,    29.9950,       5180,   871.0,   0.7386,  34.6983,2,  34.6979,2,    203.5,2,   202.7,2,  111.89,2,   32.51,2,    0.00,2,    2.23,2,   0.408,2,   0.218,2,   0.033,2,  2265.4,2,  2356.1,2,   7.7797,2,    13.00,    -999,9,    -999,9,    -999,9,0.7396,2,-999,9,-999,9,-999,    -999,9,    -999,0.785,2,-999,9,-999,9,   39.61,2,-999,1, 20080227,     2247, -62.4992,  29.9951,    -999,-999,9,     -999,9,     -999,9,     -999,9,     -999,9,     -999,9,     -999,9,-999,9,     -999,9,     -999,9,     -999,9,    -999,    -999
33RR20080204,       I06S,      71,          2,         19,         19,2,20080227,       2109,   -62.4992,    29.9950,       5180,   971.3,   0.6634,  34.6962,2,  34.6958,2,    204.4,2,   203.5,2,  116.05,2,   32.74,2,    0.00,2,    2.25,2,   0.374,2,   0.215,2,   0.037,2,  2265.5,2,  2356.6,2,   7.7799,2,    13.00,    -999,9,    -999,9,    -999,9,0.6635,2,-999,9,-999,9,-999,    -999,9,    -999,0.905,2,-999,9,-999,9,    -999,9,-999,9, 20080227,     2244, -62.4992,  29.9950,    -999,-999,1,     -999,9,     -999,9,     -999,9,     -999,9,     -999,9,     -999,9,-999,9,     -999,9,     -999,9,     -999,9,    -999,    -999
33RR20080204,       I06S,      71,          2,         18,         18,2,20080227,       2109,   -62.4992,    29.9950,       5180,  1072.0,   0.6066,  34.6946,2,  34.6942,2,    204.7,2,   203.7,2,  114.16,2,   32.59,2,    0.00,2,    2.24,2,   0.347,2,   0.193,2,   0.026,2,  2265.7,6,  2356.8,2,     -999,9,     -999,    -999,9,    -999,9,    -999,9,0.6063,2,-999,9,-999,9,-999,    -999,9,    -999,0.723,2,-999,9,-999,9,   38.24,2,-999,1, 20080227,     2241, -62.4992,  29.9951,    -999,-999,9,     -999,9,     -999,9,     -999,9,     -999,9,     -999,9,     -999,9,-999,9,     -999,9,     -999,9,     -999,9,    -999,    -999
33RR20080204,       I06S,      71,          2,         17,         17,2,20080227,       2109,   -62.4992,    29.9950,       5180,  1172.3,   0.5457,  34.6919,2,  34.6944,2,    205.3,2,   204.1,2,  118.15,2,   32.92,2,    0.00,2,    2.27,2,   0.338,2,   0.187,2,   0.029,2,  2265.1,2,  2356.6,2,   7.7753,2,    13.00,    -999,9,    -999,9,    -999,9,0.5465,2,-999,9,-999,9,-999,    -999,9,    -999,0.734,2,-999,9,-999,9,    -999,9,-999,9, 20080227,     2238, -62.4992,  29.9951,    -999,-999,9,     -999,9,     -999,9,     -999,9,     -999,9,     -999,9,     -999,9,-999,9,     -999,9,     -999,9,     -999,9,    -999,    -999
33RR20080204,       I06S,      71,          2,         16,         16,2,20080227,       2109,   -62.4992,    29.9950,       5180,  1376.0,   0.4417,  34.6877,2,  34.6926,2,    206.3,2,   205.9,2,  121.38,2,   33.10,2,    0.00,2,    2.28,2,   0.304,2,   0.166,2,   0.025,2,  2265.3,2,  2357.2,2,     -999,9,     -999,    -999,9,    -999,9,    -999,9,0.4411,2,-999,9,-999,9,-999,    -999,9,    -999,0.697,2,-999,9,-999,9,   40.29,2,-999,1, 20080227,     2233, -62.4992,  29.9950,    -999,-999,9,     -999,9,     -999,9,     -999,9,     -999,9,     -999,9,     -999,9,-999,9,     -999,9,     -999,9,     -999,9,    -999,    -999
33RR20080204,       I06S,      71,          2,         15,         15,2,20080227,       2109,   -62.4992,    29.9950,       5180,  1587.6,   0.3538,  34.6841,2,  34.6836,2,    208.5,2,   208.3,2,  123.85,2,   33.10,2,    0.00,2,    2.28,2,   0.278,2,   0.153,2,   0.018,2,  2266.5,2,  2358.0,2,   7.7747,2,    13.00,    -999,9,    -999,9,    -999,9,0.3537,2,-999,9,-999,9,-999,    -999,9,    -999,0.663,2,-999,9,-999,9,    -999,9,-999,9, 20080227,     2228, -62.4992,  29.9951,    -999,-999,9,     -999,9,     -999,9,     -999,9,     -999,9,     -999,9,     -999,9,-999,9,     -999,9,     -999,9,     -999,9,    -999,    -999
33RR20080204,       I06S,      71,          2,         14,         14,2,20080227,       2109,   -62.4992,    29.9950,       5180,  1787.5,   0.2703,  34.6808,2,  34.6795,2,    211.3,2,   212.3,2,  124.81,2,   33.13,2,    0.00,2,    2.28,2,   0.276,2,   0.150,2,   0.019,2,  2264.4,2,  2358.4,2,     -999,9,     -999,    -999,9,    -999,9,    -999,9,0.2708,2,-999,9,-999,9,-999,    -999,9,    -999,0.689,2,-999,9,-999,9,   38.83,2,-999,1, 20080227,     2224, -62.4992,  29.9950,    -999,-999,9,     -999,9,     -999,9,     -999,9,     -999,9,     -999,9,     -999,9,-999,9,     -999,9,     -999,9,     -999,9,    -999,    -999
33RR20080204,       I06S,      71,          2,         13,         13,2,20080227,       2109,   -62.4992,    29.9950,       5180,  1991.3,   0.1920,  34.6769,2,  34.6804,2,    214.2,2,   215.0,2,  125.96,2,   33.08,2,    0.00,2,    2.28,2,   0.282,2,   0.160,2,   0.015,2,  2263.7,2,  2357.6,2,   7.7784,2,    13.00,    -999,9,    -999,9,    -999,9,0.1918,2,-999,9,-999,9,-999,    -999,9,    -999,0.73,2,-999,9,-999,9,    -999,9,-999,9, 20080227,     2219, -62.4992,  29.9951,    -999,-999,9,     -999,9,     -999,9,     -999,9,     -999,9,     -999,9,     -999,9,-999,9,     -999,9,     -999,9,     -999,9,    -999,    -999
33RR20080204,       I06S,      71,          2,         12,         12,2,20080227,       2109,   -62.4992,    29.9950,       5180,  2284.8,   0.0883,  34.6725,2,  34.6718,2,    218.2,2,   220.0,2,  126.92,2,   33.03,2,    0.00,2,    2.27,2,   0.293,2,   0.161,2,   0.018,2,  2262.8,2,  2355.8,2,     -999,9,     -999,    -999,9,    -999,9,    -999,9,0.0885,2,-999,9,-999,9,-999,    -999,9,    -999,0.73,2,-999,9,-999,9,   38.05,2,-999,1, 20080227,     2213, -62.4992,  29.9951,    -999,-999,9,     -999,9,     -999,9,     -999,9,     -999,9,     -999,9,     -999,9,-999,9,     -999,9,     -999,9,     -999,9,    -999,    -999
33RR20080204,       I06S,      71,          2,         11,         11,2,20080227,       2109,   -62.4992,    29.9950,       5180,  2598.4,  -0.0075,  34.6680,2,  34.6673,2,    223.4,2,   224.1,2,  127.12,2,   32.92,2,    0.00,2,    2.27,2,   0.332,2,   0.181,2,   0.017,2,  2259.4,2,  2356.3,2,   7.7835,2,    13.00,    -999,9,    -999,9,    -999,9,-0.0076,2,-999,9,-999,9,-999,    -999,9,    -999,0.716,2,-999,9,-999,9,    -999,9,-999,9, 20080227,     2206, -62.4992,  29.9950,    -999,-999,9,     -999,9,     -999,9,     -999,9,     -999,9,     -999,9,     -999,9,-999,9,     -999,9,     -999,9,     -999,9,    -999,    -999
33RR20080204,       I06S,      71,          2,         10,         10,2,20080227,       2109,   -62.4992,    29.9950,       5180,  2903.2,  -0.0897,  34.6644,2,  34.6628,2,    228.0,2,   228.7,2,  127.11,2,   32.77,2,    0.00,2,    2.26,2,   0.375,2,   0.209,2,   0.040,2,  2258.5,2,  2354.4,2,     -999,9,     -999,    -999,9,    -999,9,    -999,9,-0.0896,2,-999,9,-999,9,-999,    -999,9,    -999,1.051,2,-999,9,-999,9,    -999,9,-999,1, 20080227,     2200, -62.4992,  29.9951,    -999,-999,9,     -999,9,     -999,9,     -999,9,     -999,9,     -999,9,     -999,9,-999,9,     -999,9,     -999,9,     -999,9,    -999,    -999
33RR20080204,       I06S,      71,          2,          9,          9,2,20080227,       2109,   -62.4992,    29.9950,       5180,  3207.3,  -0.1471,  34.6615,2,  34.6616,2,    232.2,2,   232.9,2,  126.17,2,   32.72,2,    0.00,2,    2.25,2,   0.473,2,   0.262,2,   0.035,2,  2257.1,2,  2353.9,2,   7.7894,2,    13.00,    -999,9,    -999,9,    -999,9,-0.1469,2,-999,9,-999,9,-999,    -999,9,    -999,1.156,2,-999,9,-999,9,    -999,9,-999,9, 20080227,     2153, -62.4992,  29.9950,    -999,-999,9,     -999,9,     -999,9,     -999,9,     -999,9,     -999,9,     -999,9,-999,9,     -999,9,     -999,9,     -999,9,    -999,    -999
33RR20080204,       I06S,      71,          2,          8,          8,2,20080227,       2109,   -62.4992,    29.9950,       5180,  3513.0,  -0.1862,  34.6593,2,  34.6608,2,    235.0,2,   235.3,2,  126.36,2,   32.62,2,    0.00,2,    2.25,2,   0.482,2,   0.263,2,   0.040,2,  2255.8,2,  2354.5,2,     -999,9,     -999,    -999,9,    -999,9,    -999,9,-0.1867,2,-999,9,-999,9,-999,    -999,9,    -999,1.188,2,-999,9,-999,9,   38.73,2,-999,1, 20080227,     2147, -62.4992,  29.9951,    -999,-999,9,     -999,9,     -999,9,     -999,9,     -999,9,     -999,9,     -999,9,-999,9,     -999,9,     -999,9,     -999,9,    -999,    -999