BOTTLE,20220706CCHSIOAMB
EXPOCODE,SECT_ID,STNNBR,CASTNO,SAMPNO,BTLNBR,BTLNBR_FLAG_W,DATE,TIME,LATITUDE,LONGITUDE,DEPTH,CTDPRS,CTDTMP,CTDSAL,CTDSAL_FLAG_W,SALNTY,SALNTY_FLAG_W,CTDOXY,CTDOXY_FLAG_W,OXYGEN,OXYGEN_FLAG_W,SILCAT,SILCAT_FLAG_W,NITRAT,NITRAT_FLAG_W,NITRIT,NITRIT_FLAG_W,PHSPHT,PHSPHT_FLAG_W,CFC-11,CFC-11_FLAG_W,CFC-12,CFC-12_FLAG_W,CFC113,CFC113_FLAG_W,TCARBN,TCARBN_FLAG_W,ALKALI,ALKALI_FLAG_W,PH_SWS,PH_SWS_FLAG_W,PH_TMP,TRITUM,TRITUM_FLAG_W,HELIUM,HELIUM_FLAG_W,DELHE3,DELHE3_FLAG_W,REFTMP,REFTMP_FLAG_W,DELC13,DELC13_FLAG_W,DELC14,DELC14_FLAG_W,C14ERR,NEON,NEON_FLAG_W,NEONER,CCL4,CCL4_FLAG_W,ALUMIN,ALUMIN_FLAG_W,DELO18,DELO18_FLAG_W,DOC,DOC_FLAG_W,TDN,TDN_FLAG_W,BTL_DATE,BTL_TIME,BTL_LAT,BTL_LON,TRITER,DELSI30,DELSI30_FLAG_W,CDOM380,CDOM380_FLAG_W,CDOM325,CDOM325_FLAG_W,CDOMSL,CDOMSL_FLAG_W,CDOM340,CDOM340_FLAG_W,CDOM443,CDOM443_FLAG_W,CDOMSN,CDOMSN_FLAG_W,BLACKC,BLACKC_FLAG_W,CDOM490,CDOM490_FLAG_W,CDOM412,CDOM412_FLAG_W,CDOM555,CDOM555_FLAG_W,DELHER,HELIER
,,,,,,,,,,,METERS,DBAR,ITS-90,PSS-78,,PSS-78,,UMOL/KG,,UMOL/KG,,UMOL/KG,,UMOL/KG,,UMOL/KG,,UMOL/KG,,PMOL/KG,,PMOL/KG,,PMOL/KG,,UMOL/KG,,UMOL/KG,,,,DEG C,TU,,NMOL/KG,,PERCNT,,DEG C,,/MILLE,,/MILLE,,/MILLE,NMOL/KG,,NMOL/KG,PMOL/KG,,NMOL/L,,/MILLE,,UMOL/KG,,UMOL/KG,,,,,,TU,/MILLE,,1/M,,1/M,,1/NM,,1/M,,1/M,,1/NM,,,,1/M,,1/M,,1/M,,PERCNT,NMOL/KG
33RR20080204,       I06S,      36,          1,         36,         36,2,20080216,       1415,   -44.9984,    29.9993,       5411,     4.5,  11.0232,  34.3055,2,  34.3034,2,    278.3,2,   279.6,2,    0.44,2,   11.35,2,    0.20,2,    0.87,2,   3.436,2,   2.093,2,   0.366,2,  2086.5,6,  2284.5,2,     -999,9,     -999,   0.325,2,   1.785,2,   -1.61,2,11.0287,2,-999,9,-999,9,-999,   7.458,2,   0.028,7.589,2,-999,9,-999,9,    -999,9,-999,9, 20080216,     1636, -44.9985,  29.9993,   0.009,-999,9,     -999,9,     -999,9,     -999,9,     -999,9,     -999,9,     -999,9,-999,9,     -999,9,     -999,9,     -999,9,    0.15,   0.007
33RR20080204,       I06S,      36,          1,         35,         35,2,20080216,       1415,   -44.9984,    29.9993,       5411,    27.4,  10.6287,  34.2699,2,  34.2694,2,    280.1,2,   280.9,2,    0.43,2,   11.99,2,    0.21,2,    0.91,2,   3.495,2,   2.129,2,   0.360,2,    -999,9,  2284.5,2,     -999,9,     -999,    -999,9,    -999,9,    -999,9,10.6279,2,-999,9,-999,9,-999,    -999,9,    -999,7.031,2,-999,9,-999,9,    -999,9,-999,9, 20080216,     1634, -44.9984,  29.9993,    -999,-999,9,     -999,9,     -999,9,     -999,9,     -999,9,     -999,9,     -999,9,-999,9,     -999,9,     -999,9,     -999,9,    -999,    -999
33RR20080204,       I06S,      36,          1,         34,         34,2,20080216,       1415,   -44.9984,    29.9993,       5411,    50.3,  10.3389,  34.2939,2,  34.3013,2,    280.7,2,   279.9,2,    0.61,2,   12.15,2,    0.25,2,    0.92,2,   3.541,2,   2.143,2,   0.340,2,    -999,9,  2285.0,2,     -999,9,     -999,    -999,9,    -999,9,    -999,9,10.3383,2,-999,9,-999,9,-999,    -999,9,    -999,6.321,2,-999,9,-999,9,    -999,9,-999,9, 20080216,     1632, -44.9984,  29.9993,    -999,-999,9,     -999,9,     -999,9,     -999,9,     -999,9,     -999,9,     -999,9,-999,9,     -999,9,     -999,9,     -999,9,    -999,    -999
33RR20080204,       I06S,      36,          1,         33,         33,2,20080216,       1415,   -44.9984,    29.9993,       5411,    86.4,   9.5460,  34.5763,2,  34.5800,2,    264.2,2,   259.2,2,    3.91,2,   14.41,2,    0.14,2,    1.07,2,   3.607,2,   2.162,2,   0.320,2,    -999,9,  2290.3,2,     -999,9,     -999,    -999,9,    -999,9,    -999,9,9.5508,2,-999,9,-999,9,-999,    -999,9,    -999,5.507,2,-999,9,-999,9,    -999,9,-999,9, 20080216,     1630, -44.9985,  29.9992,    -999,-999,9,     -999,9,     -999,9,     -999,9,     -999,9,     -999,9,     -999,9,-999,9,     -999,9,     -999,9,     -999,9,    -999,    -999
33RR20080204,       I06S,      36,          1,         32,         32,2,20080216,       1415,   -44.9984,    29.9993,       5411,   111.7,   9.0347,  34.5294,2,  34.5312,2,    249.3,2,   259.2,2,    4.46,2,   15.61,2,    0.04,2,    1.14,2,   3.701,2,   2.197,2,   0.326,2,    -999,9,    -999,9,     -999,9,     -999,   0.306,2,   1.766,2,   -1.20,2,9.03,2,-999,9,-999,9,-999,   7.551,2,   0.029,5.299,2,-999,9,-999,9,    -999,9,-999,9, 20080216,     1629, -44.9984,  29.9993,   0.009,-999,9,     -999,9,     -999,9,     -999,9,     -999,9,     -999,9,     -999,9,-999,9,     -999,9,     -999,9,     -999,9,    0.15,   0.007
33RR20080204,       I06S,      36,          1,         31,         31,2,20080216,       1415,   -44.9984,    29.9993,       5411,   163.2,   8.5288,  34.4781,2,  34.4792,2,    251.6,2,   259.3,2,    5.01,2,   16.65,2,    0.01,2,    1.20,2,   3.759,2,   2.212,2,   0.337,2,    -999,9,  2287.1,2,     -999,9,     -999,    -999,9,    -999,9,    -999,9,8.528,2,-999,9,-999,9,-999,    -999,9,    -999,5.311,2,-999,9,-999,9,    -999,9,-999,9, 20080216,     1627, -44.9984,  29.9993,    -999,-999,9,     -999,9,     -999,9,     -999,9,     -999,9,     -999,9,     -999,9,-999,9,     -999,9,     -999,9,     -999,9,    -999,    -999
33RR20080204,       I06S,      36,          1,         30,         30,2,20080216,       1415,   -44.9984,    29.9993,       5411,   212.6,   8.4640,  34.4957,2,  34.4970,2,    253.5,2,   252.6,2,    5.91,2,   17.30,2,    0.01,2,    1.24,2,   3.684,2,   2.147,2,   0.312,2,    -999,9,    -999,9,     -999,9,     -999,   0.307,2,   1.812,2,   -0.70,2,8.4635,2,-999,9,-999,9,-999,   7.687,2,   0.029,4.589,2,-999,9,-999,9,    -999,9,-999,9, 20080216,     1625, -44.9984,  29.9993,   0.009,-999,9,     -999,9,     -999,9,     -999,9,     -999,9,     -999,9,     -999,9,-999,9,     -999,9,     -999,9,     -999,9,    0.15,   0.007
33RR20080204,       I06S,      36,          1,         29,         29,2,20080216,       1415,   -44.9984,    29.9993,       5411,   273.2,   7.2012,  34.3240,2,  34.3310,2,    256.1,2,   265.2,2,    5.91,2,   19.01,2,    0.01,2,    1.35,2,   3.994,2,   2.338,2,   0.330,2,    -999,9,  2280.8,2,     -999,9,     -999,    -999,9,    -999,9,    -999,9,7.19,2,-999,9,-999,9,-999,    -999,9,    -999,4.71,2,-999,9,-999,9,    -999,9,-999,9, 20080216,     1623, -44.9984,  29.9993,    -999,-999,9,     -999,9,     -999,9,     -999,9,     -999,9,     -999,9,     -999,9,-999,9,     -999,9,     -999,9,     -999,9,    -999,    -999
33RR20080204,       I06S,      36,          1,         28,         28,2,20080216,       1415,   -44.9984,    29.9993,       5411,   323.2,   7.9836,  34.5502,2,  34.5558,2,    217.8,2,   212.2,2,   11.99,2,   21.79,2,    0.01,2,    1.51,2,   3.119,2,   1.733,2,   0.223,2,    -999,9,    -999,9,     -999,9,     -999,   0.223,2,   1.796,2,    0.91,2,7.9908,2,-999,9,-999,9,-999,   7.653,2,   0.029,3.64,2,-999,9,-999,9,    -999,9,-999,9, 20080216,     1621, -44.9984,  29.9993,   0.009,-999,9,     -999,9,     -999,9,     -999,9,     -999,9,     -999,9,     -999,9,-999,9,     -999,9,     -999,9,     -999,9,    0.15,   0.007
33RR20080204,       I06S,      36,          1,         27,         27,2,20080216,       1415,   -44.9984,    29.9993,       5411,   374.7,   6.7688,  34.4111,2,  34.4188,2,    238.3,2,   221.8,2,   13.46,2,   23.97,2,    0.01,2,    1.66,2,   3.344,2,   1.847,2,   0.282,2,    -999,9,  2287.3,2,     -999,9,     -999,    -999,9,    -999,9,    -999,9,6.7806,2,-999,9,-999,9,-999,    -999,9,    -999,4.157,2,-999,9,-999,9,    -999,9,-999,9, 20080216,     1619, -44.9984,  29.9993,    -999,-999,9,     -999,9,     -999,9,     -999,9,     -999,9,     -999,9,     -999,9,-999,9,     -999,9,     -999,9,     -999,9,    -999,    -999
33RR20080204,       I06S,      36,          1,         26,         26,2,20080216,       1415,   -44.9984,    29.9993,       5411,   422.4,   5.7513,  34.2982,2,  34.2920,2,    232.9,2,   238.2,2,   12.53,2,   25.34,2,    0.01,2,    1.74,2,   3.956,2,   2.159,2,   0.360,2,    -999,9,    -999,9,     -999,9,     -999,   0.179,2,   1.783,2,    0.12,2,5.7714,2,-999,9,-999,9,-999,   7.656,2,   0.029,4.396,2,-999,9,-999,9,    -999,9,-999,9, 20080216,     1616, -44.9984,  29.9993,   0.009,-999,9,     -999,9,     -999,9,     -999,9,     -999,9,     -999,9,     -999,9,-999,9,     -999,9,     -999,9,     -999,9,    0.15,   0.007
33RR20080204,       I06S,      36,          1,         25,         25,2,20080216,       1415,   -44.9984,    29.9993,       5411,   474.8,   5.6388,  34.3214,2,  34.3256,2,    225.2,2,   225.6,2,   16.03,2,   26.61,2,    0.01,2,    1.82,2,   3.453,2,   1.889,2,   0.294,2,    -999,9,  2286.0,2,     -999,9,     -999,    -999,9,    -999,9,    -999,9,5.6383,2,-999,9,-999,9,-999,    -999,9,    -999,3.169,2,-999,9,-999,9,    -999,9,-999,9, 20080216,     1614, -44.9984,  29.9993,    -999,-999,9,     -999,9,     -999,9,     -999,9,     -999,9,     -999,9,     -999,9,-999,9,     -999,9,     -999,9,     -999,9,    -999,    -999
33RR20080204,       I06S,      36,          1,         24,         24,2,20080216,       1415,   -44.9984,    29.9993,       5411,   521.5,   5.1905,  34.2887,2,  34.2880,2,    233.4,2,   230.8,2,   17.51,2,   27.18,2,    0.00,2,    1.87,2,   3.585,2,   1.902,2,   0.310,2,    -999,9,    -999,9,     -999,9,     -999,   0.146,2,   1.791,2,    0.73,2,5.1849,2,-999,9,-999,9,-999,   7.735,2,   0.029,4.006,2,-999,9,-999,9,    -999,9,-999,9, 20080216,     1612, -44.9984,  29.9993,   0.009,-999,9,     -999,9,     -999,9,     -999,9,     -999,9,     -999,9,     -999,9,-999,9,     -999,9,     -999,9,     -999,9,    0.15,   0.007
33RR20080204,       I06S,      36,          1,         23,         23,2,20080216,       1415,   -44.9984,    29.9993,       5411,   649.0,   3.8148,  34.2041,2,  34.2058,2,    238.7,2,   242.9,2,   22.69,2,   29.18,2,    0.00,2,    2.00,2,   3.555,2,   1.894,2,   0.309,2,    -999,9,  2286.1,2,     -999,9,     -999,   0.119,2,    -999,1,    -999,9,3.8064,2,-999,9,-999,9,-999,    -999,9,    -999,3.944,2,-999,9,-999,9,    -999,9,-999,9, 20080216,     1608, -44.9984,  29.9993,   0.009,-999,9,     -999,9,     -999,9,     -999,9,     -999,9,     -999,9,     -999,9,-999,9,     -999,9,     -999,9,     -999,9,    -999,    -999
33RR20080204,       I06S,      36,          1,         22,         22,2,20080216,       1415,   -44.9984,    29.9993,       5411,   749.4,   3.9385,  34.2952,2,  34.2955,2,    222.7,2,   219.9,2,   31.03,2,   30.46,2,    0.00,2,    2.10,2,   2.738,2,   1.389,2,   0.223,2,    -999,9,    -999,9,     -999,9,     -999,    -999,9,    -999,9,    -999,9,3.9385,2,-999,9,-999,9,-999,    -999,9,    -999,3.12,2,-999,9,-999,9,    -999,9,-999,9, 20080216,     1605, -44.9983,  29.9994,    -999,-999,9,     -999,9,     -999,9,     -999,9,     -999,9,     -999,9,     -999,9,-999,9,     -999,9,     -999,9,     -999,9,    -999,    -999
33RR20080204,       I06S,      36,          1,         21,         21,2,20080216,       1415,   -44.9984,    29.9993,       5411,   850.5,   3.5445,  34.3166,2,  34.3186,2,    211.9,2,   211.5,2,   37.73,2,   31.69,2,    0.00,2,    2.19,2,   2.233,2,   1.149,2,   0.162,2,    -999,9,  2302.7,2,     -999,9,     -999,   0.043,2,    -999,1,    -999,9,3.5397,2,-999,9,-999,9,-999,    -999,9,    -999,2.408,2,-999,9,-999,9,    -999,9,-999,9, 20080216,     1602, -44.9983,  29.9993,   0.009,-999,9,     -999,9,     -999,9,     -999,9,     -999,9,     -999,9,     -999,9,-999,9,     -999,9,     -999,9,     -999,9,    -999,    -999
33RR20080204,       I06S,      36,          1,         20,         20,2,20080216,       1415,   -44.9984,    29.9993,       5411,   951.4,   3.3087,  34.3763,2,  34.3740,2,    197.1,2,   196.9,2,   46.30,2,   32.86,2,    0.00,2,    2.26,2,   1.648,2,   0.833,2,   0.105,2,    -999,9,    -999,9,     -999,9,     -999,    -999,9,    -999,9,    -999,9,3.3077,2,-999,9,-999,9,-999,    -999,9,    -999,1.848,2,-999,9,-999,9,    -999,9,-999,9, 20080216,     1559, -44.9983,  29.9994,    -999,-999,9,     -999,9,     -999,9,     -999,9,     -999,9,     -999,9,     -999,9,-999,9,     -999,9,     -999,9,     -999,9,    -999,    -999
33RR20080204,       I06S,      36,          1,         19,         19,2,20080216,       1415,   -44.9984,    29.9993,       5411,  1051.3,   3.1146,  34.4240,2,  34.4246,2,    188.0,2,   187.7,2,   53.40,2,   33.48,2,    0.00,2,    2.31,2,   1.206,2,   0.605,2,   0.086,2,    -999,9,  2315.0,2,     -999,9,     -999,   0.039,2,   1.855,2,    5.80,2,3.1174,2,-999,9,-999,9,-999,   7.960,2,   0.030,1.381,2,-999,9,-999,9,    -999,9,-999,9, 20080216,     1556, -44.9983,  29.9994,   0.009,-999,9,     -999,9,     -999,9,     -999,9,     -999,9,     -999,9,     -999,9,-999,9,     -999,9,     -999,9,     -999,9,    0.15,   0.007
33RR20080204,       I06S,      36,          1,         18,         18,2,20080216,       1415,   -44.9984,    29.9993,       5411,  1257.2,   2.8942,  34.5462,2,  34.5470,2,    175.5,2,   175.6,2,   63.70,2,   33.43,2,    0.00,2,    2.32,2,   0.491,2,   0.265,2,   0.028,2,    -999,9,    -999,9,     -999,9,     -999,   0.013,2,   1.844,2,    7.56,2,2.894,2,-999,9,-999,9,-999,   7.973,2,   0.030,0.809,2,-999,9,-999,9,    -999,9,-999,9, 20080216,     1551, -44.9986,  29.9992,   0.009,-999,9,     -999,9,     -999,9,     -999,9,     -999,9,     -999,9,     -999,9,-999,9,     -999,9,     -999,9,     -999,9,    0.15,   0.007
33RR20080204,       I06S,      36,          1,         17,         17,2,20080216,       1415,   -44.9984,    29.9993,       5411,  1459.5,   2.7927,  34.6352,2,  34.6365,2,    176.5,2,   177.6,2,   66.51,2,   32.20,2,    0.00,2,    2.23,2,   0.240,2,   0.136,2,   0.015,2,    -999,9,  2335.0,2,     -999,9,     -999,   0.004,2,   1.861,2,    8.33,2,2.793,2,-999,9,-999,9,-999,   8.031,2,   0.031,0.605,2,-999,9,-999,9,    -999,9,-999,9, 20080216,     1546, -44.9985,  29.9993,   0.009,-999,9,     -999,9,     -999,9,     -999,9,     -999,9,     -999,9,     -999,9,-999,9,     -999,9,     -999,9,     -999,9,    0.15,   0.007
33RR20080204,       I06S,      36,          1,         16,         16,2,20080216,       1415,   -44.9984,    29.9993,       5411,  1661.4,   2.6742,  34.6951,2,  34.6967,2,    183.6,2,   184.6,2,   66.87,2,   30.98,2,    0.00,2,    2.13,2,   0.161,2,   0.090,2,   0.012,2,    -999,9,    -999,9,     -999,9,     -999,   0.011,2,   1.867,2,    8.43,2,2.6741,2,-999,9,-999,9,-999,   8.042,2,   0.031,0.511,2,-999,9,-999,9,    -999,9,-999,9, 20080216,     1542, -44.9984,  29.9993,   0.009,-999,9,     -999,9,     -999,9,     -999,9,     -999,9,     -999,9,     -999,9,-999,9,     -999,9,     -999,9,     -999,9,    0.15,   0.007
33RR20080204,       I06S,      36,          1,         15,         15,2,20080216,       1415,   -44.9984,    29.9993,       5411,  1867.1,   2.6158,  34.7502,2,  34.7488,2,    194.2,2,   193.9,2,   65.36,2,   29.44,2,    0.00,2,    2.02,2,   0.101,2,   0.058,2,   0.016,2,    -999,9,  2339.6,2,     -999,9,     -999,  -0.014,2,   1.848,2,    8.41,2,2.6121,2,-999,9,-999,9,-999,   7.952,2,   0.030,0.467,2,-999,9,-999,9,    -999,9,-999,9, 20080216,     1536, -44.9983,  29.9993,   0.009,-999,9,     -999,9,     -999,9,     -999,9,     -999,9,     -999,9,     -999,9,-999,9,     -999,9,     -999,9,     -999,9,    0.15,   0.007
33RR20080204,       I06S,      36,          1,         14,         14,2,20080216,       1415,   -44.9984,    29.9993,       5411,  2068.9,   2.4115,  34.7592,2,  34.7598,2,    195.8,2,   195.3,2,   71.37,2,   29.49,2,    0.00,2,    2.02,2,   0.121,2,   0.073,2,   0.020,2,    -999,9,    -999,9,     -999,9,     -999,   0.002,6,   1.855,2,    9.02,2,2.4118,2,-999,9,-999,9,-999,   8.074,2,   0.031,0.448,2,-999,9,-999,9,    -999,9,-999,9, 20080216,     1532, -44.9984,  29.9993,   0.006,-999,9,     -999,9,     -999,9,     -999,9,     -999,9,     -999,9,     -999,9,-999,9,     -999,9,     -999,9,     -999,9,    0.15,   0.007
33RR20080204,       I06S,      36,          1,         13,         13,2,20080216,       1415,   -44.9984,    29.9993,       5411,  2384.8,   2.2130,  34.7807,2,  34.7799,2,    203.6,2,   204.5,2,   73.62,2,   28.62,2,    0.00,2,    1.96,2,   0.091,2,   0.052,2,   0.040,2,    -999,9,  2345.8,2,     -999,9,     -999,   0.001,2,   1.893,2,    8.74,2,2.2135,2,-999,9,-999,9,-999,   8.159,2,   0.031,0.341,2,-999,9,-999,9,    -999,9,-999,9, 20080216,     1525, -44.9983,  29.9993,   0.009,-999,9,     -999,9,     -999,9,     -999,9,     -999,9,     -999,9,     -999,9,-999,9,     -999,9,     -999,9,     -999,9,    0.15,   0.007
33RR20080204,       I06S,      36,          1,         12,         12,2,20080216,       1415,   -44.9984,    29.9993,       5411,  2693.1,   1.9867,  34.7832,2,  34.7837,2,    209.5,2,   209.0,2,   78.50,2,   28.48,2,    0.00,2,    1.95,2,   0.079,2,   0.048,2,   0.007,2,    -999,9,    -999,9,     -999,9,     -999,    -999,9,    -999,9,    -999,9,1.9868,2,-999,9,-999,9,-999,    -999,9,    -999,0.326,2,-999,9,-999,9,    -999,9,-999,9, 20080216,     1519, -44.9984,  29.9993,    -999,-999,9,     -999,9,     -999,9,     -999,9,     -999,9,     -999,9,     -999,9,-999,9,     -999,9,     -999,9,     -999,9,    -999,    -999
33RR20080204,       I06S,      36,          1,         11,         11,2,20080216,       1415,   -44.9984,    29.9993,       5411,  2796.3,   1.9524,  34.7912,2,  34.7920,2,    213.4,2,   212.9,2,   77.36,2,   28.02,2,    0.00,2,    1.91,2,   0.067,2,   0.038,2,   0.000,2,    -999,9,  2349.4,2,     -999,9,     -999,    -999,9,   1.867,2,    7.80,2,1.9538,2,-999,9,-999,9,-999,   8.108,2,   0.031,0.326,2,-999,9,-999,9,    -999,9,-999,9, 20080216,     1516, -44.9983,  29.9993,    -999,-999,9,     -999,9,     -999,9,     -999,9,     -999,9,     -999,9,     -999,9,-999,9,     -999,9,     -999,9,     -999,9,    0.15,   0.007
33RR20080204,       I06S,      36,          1,         10,         10,2,20080216,       1415,   -44.9984,    29.9993,       5411,  3000.0,   1.6915,  34.7685,2,  34.7676,2,    210.5,2,   210.0,2,   87.55,2,   29.20,2,    0.00,2,    2.00,2,   0.094,2,   0.052,2,   0.007,2,    -999,9,    -999,9,     -999,9,     -999,    -999,9,    -999,9,    -999,9,1.6895,2,-999,9,-999,9,-999,    -999,9,    -999,0.406,2,-999,9,-999,9,    -999,9,-999,9, 20080216,     1511, -44.9984,  29.9993,    -999,-999,9,     -999,9,     -999,9,     -999,9,     -999,9,     -999,9,     -999,9,-999,9,     -999,9,     -999,9,     -999,9,    -999,    -999
33RR20080204,       I06S,      36,          1,          9,          9,2,20080216,       1415,   -44.9984,    29.9993,       5411,  3306.8,   1.4129,  34.7485,2,  34.7486,2,    209.8,2,   209.6,2,   97.19,2,   30.07,2,    0.00,2,    2.07,2,   0.116,2,   0.065,2,   0.004,2,    -999,9,  2358.3,2,     -999,9,     -999,  -0.001,2,   1.859,2,    8.42,2,1.4126,2,-999,9,-999,9,-999,   8.114,2,   0.031,0.454,2,-999,9,-999,9,    -999,9,-999,9, 20080216,     1505, -44.9983,  29.9993,   0.009,-999,9,     -999,9,     -999,9,     -999,9,     -999,9,     -999,9,     -999,9,-999,9,     -999,9,     -999,9,     -999,9,    0.15,   0.007
33RR20080204,       I06S,      36,          1,          8,          8,2,20080216,       1415,   -44.9984,    29.9993,       5411,  3612.9,   1.1692,  34.7345,2,  34.7339,2,    212.1,2,   212.0,2,  104.38,2,   30.68,2,    0.00,2,    2.11,2,   0.122,2,   0.067,2,   0.011,2,    -999,9,    -999,9,     -999,9,     -999,  -0.007,2,   1.886,2,    8.03,2,1.1709,2,-999,9,-999,9,-999,   8.179,2,   0.031,0.549,2,-999,9,-999,9,    -999,9,-999,9, 20080216,     1458, -44.9985,  29.9993,   0.009,-999,9,     -999,9,     -999,9,     -999,9,     -999,9,     -999,9,     -999,9,-999,9,     -999,9,     -999,9,     -999,9,    0.15,   0.007