BOTTLE,20220706CCHSIOAMB
EXPOCODE,SECT_ID,STNNBR,CASTNO,SAMPNO,BTLNBR,BTLNBR_FLAG_W,DATE,TIME,LATITUDE,LONGITUDE,DEPTH,CTDPRS,CTDTMP,CTDSAL,CTDSAL_FLAG_W,SALNTY,SALNTY_FLAG_W,CTDOXY,CTDOXY_FLAG_W,OXYGEN,OXYGEN_FLAG_W,SILCAT,SILCAT_FLAG_W,NITRAT,NITRAT_FLAG_W,NITRIT,NITRIT_FLAG_W,PHSPHT,PHSPHT_FLAG_W,CFC-11,CFC-11_FLAG_W,CFC-12,CFC-12_FLAG_W,CFC113,CFC113_FLAG_W,TCARBN,TCARBN_FLAG_W,ALKALI,ALKALI_FLAG_W,PH_SWS,PH_SWS_FLAG_W,PH_TMP,TRITUM,TRITUM_FLAG_W,HELIUM,HELIUM_FLAG_W,DELHE3,DELHE3_FLAG_W,REFTMP,REFTMP_FLAG_W,DELC13,DELC13_FLAG_W,DELC14,DELC14_FLAG_W,C14ERR,NEON,NEON_FLAG_W,NEONER,CCL4,CCL4_FLAG_W,ALUMIN,ALUMIN_FLAG_W,DELO18,DELO18_FLAG_W,DOC,DOC_FLAG_W,TDN,TDN_FLAG_W,BTL_DATE,BTL_TIME,BTL_LAT,BTL_LON,TRITER,DELSI30,DELSI30_FLAG_W,CDOM380,CDOM380_FLAG_W,CDOM325,CDOM325_FLAG_W,CDOMSL,CDOMSL_FLAG_W,CDOM340,CDOM340_FLAG_W,CDOM443,CDOM443_FLAG_W,CDOMSN,CDOMSN_FLAG_W,BLACKC,BLACKC_FLAG_W,CDOM490,CDOM490_FLAG_W,CDOM412,CDOM412_FLAG_W,CDOM555,CDOM555_FLAG_W,DELHER,HELIER
,,,,,,,,,,,METERS,DBAR,ITS-90,PSS-78,,PSS-78,,UMOL/KG,,UMOL/KG,,UMOL/KG,,UMOL/KG,,UMOL/KG,,UMOL/KG,,PMOL/KG,,PMOL/KG,,PMOL/KG,,UMOL/KG,,UMOL/KG,,,,DEG C,TU,,NMOL/KG,,PERCNT,,DEG C,,/MILLE,,/MILLE,,/MILLE,NMOL/KG,,NMOL/KG,PMOL/KG,,NMOL/L,,/MILLE,,UMOL/KG,,UMOL/KG,,,,,,TU,/MILLE,,1/M,,1/M,,1/NM,,1/M,,1/M,,1/NM,,,,1/M,,1/M,,1/M,,PERCNT,NMOL/KG
33RR20080204,       I06S,     101,          2,          4,          4,2,20080306,       2033,   -68.0001,    29.9981,       3724,  2952.7,  -0.1208,  34.6587,2,  34.6587,2,    234.8,2,   232.6,3,  119.75,2,   32.21,2,    0.00,2,    2.23,2,   1.110,2,   0.567,2,   0.077,2,    -999,9,    -999,9,     -999,9,     -999,    -999,9,    -999,9,    -999,9,-0.1209,2,-999,9,-999,9,-999,    -999,9,    -999,1.191,2,-999,9,-0.23,2,    -999,9,-999,9, 20080306,     2052, -68.0001,  29.9980,    -999,-999,9,     -999,9,     -999,9,     -999,9,     -999,9,     -999,9,     -999,9,-999,9,     -999,9,     -999,9,     -999,9,    -999,    -999
33RR20080204,       I06S,     101,          2,          3,          3,2,20080306,       2033,   -68.0001,    29.9981,       3724,  3260.4,  -0.1466,  34.6572,2,  34.6574,2,    237.0,2,   236.7,2,  119.96,2,   32.16,2,    0.00,2,    2.22,2,   0.614,4,   0.388,4,   0.078,4,    -999,9,  2353.8,2,   7.7898,3,    13.00,    -999,9,    -999,9,    -999,9,-0.1466,2,-999,9,-999,9,-999,    -999,9,    -999,1.027,4,-999,9,-999,9,    -999,9,-999,9, 20080306,     2045, -68.0001,  29.9980,    -999,-999,9,     -999,9,     -999,9,     -999,9,     -999,9,     -999,9,     -999,9,-999,9,     -999,9,     -999,9,     -999,9,    -999,    -999
33RR20080204,       I06S,     101,          2,          2,          2,2,20080306,       2033,   -68.0001,    29.9981,       3724,  3564.1,  -0.1741,  34.6557,2,  34.6570,2,    236.7,3,   238.4,2,  120.99,2,   32.21,2,    0.00,2,    2.22,2,   1.037,2,   0.601,2,   0.124,2,    -999,9,  2354.5,2,   7.7919,3,    13.00,    -999,9,    -999,9,    -999,9,-0.174,2,-999,9,-999,9,-999,    -999,9,    -999,1.6,2,-999,9,-999,9,    -999,9,-999,9, 20080306,     2039, -68.0001,  29.9981,    -999,-999,9,     -999,9,     -999,9,     -999,9,     -999,9,     -999,9,     -999,9,-999,9,     -999,9,     -999,9,     -999,9,    -999,    -999
33RR20080204,       I06S,     101,          2,          1,          1,2,20080306,       2033,   -68.0001,    29.9981,       3724,  3763.2,  -0.2286,  34.6535,3,  34.6536,2,    237.7,3,   240.5,2,  125.28,2,   32.26,2,    0.00,2,    2.23,2,   1.033,2,   0.548,2,   0.123,2,    -999,9,  2353.5,2,   7.7910,2,    13.00,    -999,9,    -999,9,    -999,9,-0.2286,2,-999,9,-999,9,-999,    -999,9,    -999,1.87,2,-999,9,-0.23,2,    -999,9,-999,9, 20080306,     2034, -68.0001,  29.9981,    -999,-999,9,     -999,9,     -999,9,     -999,9,     -999,9,     -999,9,     -999,9,-999,9,     -999,9,     -999,9,     -999,9,    -999,    -999