BOTTLE,20220706CCHSIOAMB
EXPOCODE,SECT_ID,STNNBR,CASTNO,SAMPNO,BTLNBR,BTLNBR_FLAG_W,DATE,TIME,LATITUDE,LONGITUDE,DEPTH,CTDPRS,CTDTMP,CTDSAL,CTDSAL_FLAG_W,SALNTY,SALNTY_FLAG_W,CTDOXY,CTDOXY_FLAG_W,OXYGEN,OXYGEN_FLAG_W,SILCAT,SILCAT_FLAG_W,NITRAT,NITRAT_FLAG_W,NITRIT,NITRIT_FLAG_W,PHSPHT,PHSPHT_FLAG_W,CFC-11,CFC-11_FLAG_W,CFC-12,CFC-12_FLAG_W,CFC113,CFC113_FLAG_W,TCARBN,TCARBN_FLAG_W,ALKALI,ALKALI_FLAG_W,PH_SWS,PH_SWS_FLAG_W,PH_TMP,TRITUM,TRITUM_FLAG_W,HELIUM,HELIUM_FLAG_W,DELHE3,DELHE3_FLAG_W,REFTMP,REFTMP_FLAG_W,DELC13,DELC13_FLAG_W,DELC14,DELC14_FLAG_W,C14ERR,NEON,NEON_FLAG_W,NEONER,CCL4,CCL4_FLAG_W,ALUMIN,ALUMIN_FLAG_W,DELO18,DELO18_FLAG_W,DOC,DOC_FLAG_W,TDN,TDN_FLAG_W,BTL_DATE,BTL_TIME,BTL_LAT,BTL_LON,TRITER,DELSI30,DELSI30_FLAG_W,CDOM380,CDOM380_FLAG_W,CDOM325,CDOM325_FLAG_W,CDOMSL,CDOMSL_FLAG_W,CDOM340,CDOM340_FLAG_W,CDOM443,CDOM443_FLAG_W,CDOMSN,CDOMSN_FLAG_W,BLACKC,BLACKC_FLAG_W,CDOM490,CDOM490_FLAG_W,CDOM412,CDOM412_FLAG_W,CDOM555,CDOM555_FLAG_W,DELHER,HELIER
,,,,,,,,,,,METERS,DBAR,ITS-90,PSS-78,,PSS-78,,UMOL/KG,,UMOL/KG,,UMOL/KG,,UMOL/KG,,UMOL/KG,,UMOL/KG,,PMOL/KG,,PMOL/KG,,PMOL/KG,,UMOL/KG,,UMOL/KG,,,,DEG C,TU,,NMOL/KG,,PERCNT,,DEG C,,/MILLE,,/MILLE,,/MILLE,NMOL/KG,,NMOL/KG,PMOL/KG,,NMOL/L,,/MILLE,,UMOL/KG,,UMOL/KG,,,,,,TU,/MILLE,,1/M,,1/M,,1/NM,,1/M,,1/M,,1/NM,,,,1/M,,1/M,,1/M,,PERCNT,NMOL/KG
33RR20080204,       I06S,      16,          1,          7,          7,2,20080210,       0154,   -35.0015,    29.9819,       4462,  2627.9,   2.4422,  34.8145,3,  34.8203,2,    214.0,3,   216.1,2,   60.80,2,   26.59,2,    0.00,2,    1.81,2,   0.039,2,   0.026,2,   0.000,2,    -999,9,  2340.0,2,     -999,9,     -999,    -999,9,   1.862,2,    6.71,2,-999,9,-999,9,-999,9,-999,   8.039,2,   0.031,0.032,2,-999,9,-999,9,    -999,9,-999,9, 20080210,     0235, -34.9991,  29.9772,    -999,-999,9,     -999,9,     -999,9,     -999,9,     -999,9,     -999,9,     -999,9,-999,9,     -999,9,     -999,9,     -999,9,    0.15,   0.007
33RR20080204,       I06S,      16,          1,          6,          6,2,20080210,       0154,   -35.0015,    29.9819,       4462,  2939.1,   2.2444,  34.8151,3,  34.8203,2,    218.3,3,   219.2,2,   65.31,2,   26.54,2,    0.00,2,    1.81,2,   0.037,2,   0.022,2,   0.000,2,    -999,9,    -999,9,     -999,9,     -999,  -0.011,2,   1.863,2,    6.54,2,-999,9,-999,9,-999,9,-999,   8.081,2,   0.031,0.157,2,-999,9,-999,9,    -999,9,-999,9, 20080210,     0228, -34.9995,  29.9780,   0.009,-999,9,     -999,9,     -999,9,     -999,9,     -999,9,     -999,9,     -999,9,-999,9,     -999,9,     -999,9,     -999,9,    0.15,   0.007
33RR20080204,       I06S,      16,          1,          5,          5,2,20080210,       0154,   -35.0015,    29.9819,       4462,  3250.8,   2.0053,  34.8029,3,  34.8054,2,    219.5,3,   218.6,2,   73.93,2,   27.16,2,    0.00,2,    1.86,2,   0.048,2,   0.033,2,   0.000,2,    -999,9,  2349.9,2,     -999,9,     -999,  -0.011,2,   1.876,2,    6.73,2,-999,9,-999,9,-999,9,-999,   8.104,2,   0.031,0.226,2,-999,9,-999,9,    -999,9,-999,9, 20080210,     0222, -34.9999,  29.9787,   0.009,-999,9,     -999,9,     -999,9,     -999,9,     -999,9,     -999,9,     -999,9,-999,9,     -999,9,     -999,9,     -999,9,    0.15,   0.007
33RR20080204,       I06S,      16,          1,          4,          4,2,20080210,       0154,   -35.0015,    29.9819,       4462,  3562.9,   1.7027,  34.7768,3,  34.7830,2,    216.7,3,   217.2,2,   84.82,2,   28.42,2,    0.00,2,    1.95,2,   0.052,2,   0.030,2,   0.000,2,    -999,9,  2353.9,2,     -999,9,     -999,  -0.011,2,   1.875,2,    7.08,2,-999,9,-999,9,-999,9,-999,   8.145,2,   0.031,0.331,2,-999,9,-999,9,    -999,9,-999,9, 20080210,     0215, -35.0003,  29.9795,   0.009,-999,9,     -999,9,     -999,9,     -999,9,     -999,9,     -999,9,     -999,9,-999,9,     -999,9,     -999,9,     -999,9,    0.15,   0.007
33RR20080204,       I06S,      16,          1,          3,          3,2,20080210,       0154,   -35.0015,    29.9819,       4462,  3863.2,   1.3894,  34.7533,3,  34.7563,2,    217.1,3,   216.6,2,   96.16,2,   29.49,2,    0.00,2,    2.03,2,   0.072,2,   0.046,2,   0.000,2,    -999,9,  2359.6,2,     -999,9,     -999,  -0.014,2,   1.868,2,    7.17,2,-999,9,-999,9,-999,9,-999,   8.107,2,   0.031,0.423,2,-999,9,-999,9,    -999,9,-999,9, 20080210,     0209, -35.0007,  29.9802,   0.009,-999,9,     -999,9,     -999,9,     -999,9,     -999,9,     -999,9,     -999,9,-999,9,     -999,9,     -999,9,     -999,9,    0.15,   0.007
33RR20080204,       I06S,      16,          1,          2,          2,2,20080210,       0154,   -35.0015,    29.9819,       4462,  4176.8,   1.2290,  34.7399,3,  34.7439,2,    216.9,3,   217.0,2,  102.12,2,   30.11,2,    0.00,2,    2.08,2,   0.088,2,   0.058,2,   0.000,2,    -999,9,  2362.1,2,     -999,9,     -999,  -0.003,2,   1.863,2,    7.24,2,-999,9,-999,9,-999,9,-999,   8.074,2,   0.031,0.542,2,-999,9,-999,9,    -999,9,-999,9, 20080210,     0202, -35.0011,  29.9810,   0.009,-999,9,     -999,9,     -999,9,     -999,9,     -999,9,     -999,9,     -999,9,-999,9,     -999,9,     -999,9,     -999,9,    0.15,   0.007
33RR20080204,       I06S,      16,          1,          1,          1,2,20080210,       0154,   -35.0015,    29.9819,       4462,  4504.2,   1.0787,  34.7315,2,  34.7294,2,    207.5,4,   216.6,2,  108.91,2,   30.77,2,    0.00,2,    2.12,2,   0.118,2,   0.088,2,   0.000,2,    -999,9,  2368.4,2,     -999,9,     -999,  -0.004,2,    -999,1,    -999,9,-999,9,-999,9,-999,9,-999,    -999,9,    -999,0.75,2,-999,9,-999,9,    -999,9,-999,9, 20080210,     0155, -35.0015,  29.9818,   0.009,-999,9,     -999,9,     -999,9,     -999,9,     -999,9,     -999,9,     -999,9,-999,9,     -999,9,     -999,9,     -999,9,    -999,    -999