BOTTLE,20220706CCHSIOAMB
EXPOCODE,SECT_ID,STNNBR,CASTNO,SAMPNO,BTLNBR,BTLNBR_FLAG_W,DATE,TIME,LATITUDE,LONGITUDE,DEPTH,CTDPRS,CTDTMP,CTDSAL,CTDSAL_FLAG_W,SALNTY,SALNTY_FLAG_W,CTDOXY,CTDOXY_FLAG_W,OXYGEN,OXYGEN_FLAG_W,SILCAT,SILCAT_FLAG_W,NITRAT,NITRAT_FLAG_W,NITRIT,NITRIT_FLAG_W,PHSPHT,PHSPHT_FLAG_W,CFC-11,CFC-11_FLAG_W,CFC-12,CFC-12_FLAG_W,CFC113,CFC113_FLAG_W,TCARBN,TCARBN_FLAG_W,ALKALI,ALKALI_FLAG_W,PH_SWS,PH_SWS_FLAG_W,PH_TMP,TRITUM,TRITUM_FLAG_W,HELIUM,HELIUM_FLAG_W,DELHE3,DELHE3_FLAG_W,REFTMP,REFTMP_FLAG_W,DELC13,DELC13_FLAG_W,DELC14,DELC14_FLAG_W,C14ERR,NEON,NEON_FLAG_W,NEONER,CCL4,CCL4_FLAG_W,ALUMIN,ALUMIN_FLAG_W,DELO18,DELO18_FLAG_W,DOC,DOC_FLAG_W,TDN,TDN_FLAG_W,BTL_DATE,BTL_TIME,BTL_LAT,BTL_LON,TRITER,DELSI30,DELSI30_FLAG_W,CDOM380,CDOM380_FLAG_W,CDOM325,CDOM325_FLAG_W,CDOMSL,CDOMSL_FLAG_W,CDOM340,CDOM340_FLAG_W,CDOM443,CDOM443_FLAG_W,CDOMSN,CDOMSN_FLAG_W,BLACKC,BLACKC_FLAG_W,CDOM490,CDOM490_FLAG_W,CDOM412,CDOM412_FLAG_W,CDOM555,CDOM555_FLAG_W,DELHER,HELIER
,,,,,,,,,,,METERS,DBAR,ITS-90,PSS-78,,PSS-78,,UMOL/KG,,UMOL/KG,,UMOL/KG,,UMOL/KG,,UMOL/KG,,UMOL/KG,,PMOL/KG,,PMOL/KG,,PMOL/KG,,UMOL/KG,,UMOL/KG,,,,DEG C,TU,,NMOL/KG,,PERCNT,,DEG C,,/MILLE,,/MILLE,,/MILLE,NMOL/KG,,NMOL/KG,PMOL/KG,,NMOL/L,,/MILLE,,UMOL/KG,,UMOL/KG,,,,,,TU,/MILLE,,1/M,,1/M,,1/NM,,1/M,,1/M,,1/NM,,,,1/M,,1/M,,1/M,,PERCNT,NMOL/KG
33RR20080204,       I06S,      75,          1,         36,         36,2,20080229,       0848,   -64.4997,    30.0014,       5030,     3.6,   0.1753,  33.9276,2,  33.9279,2,    337.8,2,   338.6,2,   55.30,2,   26.97,2,    0.30,2,    1.88,2,   6.141,2,   3.464,2,   0.476,2,  2174.3,6,  2300.1,2,   7.8734,2,    13.00,    -999,9,    -999,9,    -999,9,0.1741,2,-999,9,-999,9,-999,    -999,9,    -999,8.829,2,-999,9,-999,9,   42.54,2,-999,1, 20080229,     1054, -64.4997,  30.0013,    -999,-999,9,   0.0155,2,   0.0703,2,   0.0241,2,   0.0423,2,   0.0042,2,   0.0292,2,-999,9,  -0.0008,4,   0.0093,2,  -0.0024,4,    -999,    -999
33RR20080204,       I06S,      75,          1,         35,         35,2,20080229,       0848,   -64.4997,    30.0014,       5030,    25.8,   0.1054,  33.9320,2,  33.9324,2,    338.5,2,   338.8,2,   55.90,2,   26.97,2,    0.30,2,    1.88,2,   6.183,2,   3.450,2,   0.439,2,    -999,5,  2300.8,2,   7.8698,2,    13.00,    -999,9,    -999,9,    -999,9,0.1055,2,-999,9,-999,9,-999,    -999,9,    -999,9.196,2,-999,9,-999,9,   39.32,2,-999,1, 20080229,     1052, -64.4997,  30.0013,    -999,-999,1,   0.0172,2,   0.0662,2,   0.0213,2,   0.0394,2,   0.0051,2,   0.0252,2,-999,1,  -0.0001,4,   0.0103,2,  -0.0020,4,    -999,    -999
33RR20080204,       I06S,      75,          1,         34,         34,2,20080229,       0848,   -64.4997,    30.0014,       5030,    46.0,   0.0381,  33.9416,2,  33.9516,2,    339.4,2,   337.9,2,   56.30,2,   27.07,2,    0.29,2,    1.88,2,   6.231,2,   3.354,2,   0.437,2,  2177.4,2,  2301.0,2,   7.8690,2,    13.00,    -999,9,    -999,9,    -999,9,0.0376,2,-999,9,-999,9,-999,    -999,9,    -999,8.741,2,-999,9,-999,9,   39.51,2,-999,1, 20080229,     1051, -64.4997,  30.0013,    -999,-999,1,   0.0158,2,   0.0664,2,   0.0230,2,   0.0392,2,   0.0043,2,   0.0274,2,-999,9,  -0.0010,4,   0.0094,2,  -0.0025,4,    -999,    -999
33RR20080204,       I06S,      75,          1,         33,         33,2,20080229,       0848,   -64.4997,    30.0014,       5030,    86.7,  -1.3391,  34.3296,2,  34.3176,2,    333.6,2,   312.4,2,   62.94,2,   29.23,2,    0.20,2,    2.04,2,   5.080,2,   2.872,2,   0.403,2,  2209.6,2,  2322.9,2,   7.8286,2,    13.00,    -999,9,    -999,9,    -999,9,-1.3462,2,-999,9,-999,9,-999,    -999,9,    -999,6.464,2,-999,9,-999,9,   38.63,2,-999,1, 20080229,     1049, -64.4997,  30.0013,    -999,-999,1,   0.0288,2,   0.0982,2,   0.0180,2,   0.0624,2,   0.0095,2,   0.0215,3,-999,9,   0.0017,2,   0.0184,2,  -0.0009,4,    -999,    -999
33RR20080204,       I06S,      75,          1,         32,         32,2,20080229,       0848,   -64.4997,    30.0014,       5030,   112.0,  -0.7937,  34.3990,2,  34.4076,2,    297.9,2,   275.1,2,   72.04,2,   31.29,2,    0.17,2,    2.18,2,   4.024,2,   2.199,2,   0.317,2,  2227.5,2,  2328.6,2,   7.7938,2,    13.00,    -999,9,    -999,9,    -999,9,-0.8178,2,-999,9,-999,9,-999,    -999,9,    -999,4.85,2,-999,9,-999,9,   38.83,2,-999,1, 20080229,     1047, -64.4997,  30.0013,    -999,-999,1,   0.0297,2,   0.0991,2,   0.0182,2,   0.0626,2,   0.0091,2,   0.0214,2,-999,1,   0.0013,2,   0.0184,2,  -0.0006,4,    -999,    -999
33RR20080204,       I06S,      75,          1,         31,         31,2,20080229,       0848,   -64.4997,    30.0014,       5030,   161.5,   0.6485,  34.5712,2,  34.5659,2,    214.3,2,   214.4,2,   84.62,2,   33.06,2,    0.04,2,    2.28,2,   1.974,2,   1.068,2,   0.174,2,  2247.1,2,  2341.1,2,   7.7558,2,    13.00,    -999,9,    -999,9,    -999,9,0.6391,2,-999,9,-999,9,-999,    -999,9,    -999,2.673,2,-999,9,-999,9,   40.00,2,-999,1, 20080229,     1045, -64.4997,  30.0012,    -999,-999,1,   0.0337,2,   0.1123,2,   0.0179,2,   0.0725,2,   0.0113,2,   0.0208,3,-999,9,   0.0028,2,   0.0218,2,  -0.0005,4,    -999,    -999
33RR20080204,       I06S,      75,          1,         30,         30,2,20080229,       0848,   -64.4997,    30.0014,       5030,   212.3,   1.2146,  34.6532,2,  34.6521,2,    194.5,2,   193.0,2,   90.92,2,   32.99,2,    0.00,2,    2.27,2,   0.983,2,   0.520,2,   0.071,2,  2254.3,2,  2346.3,2,   7.7540,2,    13.00,    -999,9,    -999,9,    -999,9,1.2149,2,-999,9,-999,9,-999,    -999,9,    -999,1.463,2,-999,9,-999,9,   38.93,2,-999,1, 20080229,     1043, -64.4997,  30.0011,    -999,-999,1,   0.0353,2,   0.1168,2,   0.0185,2,   0.0762,2,   0.0111,2,   0.0210,2,-999,1,   0.0024,2,   0.0219,2,  -0.0007,4,    -999,    -999
33RR20080204,       I06S,      75,          1,         29,         29,2,20080229,       0848,   -64.4997,    30.0014,       5030,   273.1,   1.3158,  34.6814,2,  34.6796,2,    192.7,2,   191.8,2,   93.16,2,   32.60,2,    0.00,2,    2.25,2,   0.733,2,   0.397,2,   0.057,2,  2254.9,2,  2347.5,2,   7.7629,2,    13.00,    -999,9,    -999,9,    -999,9,1.3164,2,-999,9,-999,9,-999,    -999,9,    -999,1.203,2,-999,9,-999,9,   39.41,2,-999,1, 20080229,     1041, -64.4997,  30.0012,    -999,-999,1,   0.0343,2,   0.1165,2,   0.0187,2,   0.0760,2,   0.0110,2,   0.0214,2,-999,1,   0.0024,2,   0.0214,2,  -0.0007,4,    -999,    -999
33RR20080204,       I06S,      75,          1,         28,         28,2,20080229,       0848,   -64.4997,    30.0014,       5030,   322.2,   1.2932,  34.6925,2,  34.6922,2,    193.8,2,   193.9,2,   94.79,2,   32.20,2,    0.00,2,    2.22,2,   0.642,2,   0.368,2,   0.047,2,  2253.5,2,  2350.2,2,   7.7691,2,    13.00,    -999,9,    -999,9,    -999,9,1.2934,2,-999,9,-999,9,-999,    -999,9,    -999,1.105,2,-999,9,-999,9,    -999,9,-999,9, 20080229,     1039, -64.4997,  30.0013,    -999,-999,1,     -999,9,     -999,9,     -999,9,     -999,9,     -999,9,     -999,9,-999,9,     -999,9,     -999,9,     -999,9,    -999,    -999
33RR20080204,       I06S,      75,          1,         27,         27,2,20080229,       0848,   -64.4997,    30.0014,       5030,   373.1,   1.2682,  34.7026,2,  34.7026,2,    194.8,2,   195.3,2,   96.02,2,   32.01,2,    0.00,2,    2.22,2,   0.518,2,   0.290,2,   0.033,2,  2253.3,2,  2351.4,2,   7.7750,2,    13.00,    -999,9,    -999,9,    -999,9,1.2679,2,-999,9,-999,9,-999,    -999,9,    -999,0.91,2,-999,9,-999,9,   38.24,2,-999,1, 20080229,     1037, -64.4997,  30.0013,    -999,-999,9,   0.0329,2,   0.1112,2,   0.0186,2,   0.0719,2,   0.0103,2,   0.0215,2,-999,9,   0.0020,2,   0.0201,2,  -0.0005,4,    -999,    -999
33RR20080204,       I06S,      75,          1,         26,         26,2,20080229,       0848,   -64.4997,    30.0014,       5030,   423.2,   1.2277,  34.7069,2,  34.7073,2,    195.7,2,   196.5,2,   97.65,2,   31.86,2,    0.00,2,    2.21,2,   0.471,2,   0.269,2,   0.031,2,  2252.2,2,  2352.1,2,   7.7797,2,    13.00,    -999,9,    -999,9,    -999,9,1.2274,2,-999,9,-999,9,-999,    -999,9,    -999,0.846,2,-999,9,-999,9,    -999,9,-999,9, 20080229,     1035, -64.4997,  30.0013,    -999,-999,1,     -999,9,     -999,9,     -999,9,     -999,9,     -999,9,     -999,9,-999,9,     -999,9,     -999,9,     -999,9,    -999,    -999
33RR20080204,       I06S,      75,          1,         25,         25,2,20080229,       0848,   -64.4997,    30.0014,       5030,   473.3,   1.1891,  34.7099,2,  34.7105,2,    196.4,2,   197.4,2,   98.88,2,   31.86,2,    0.00,2,    2.20,2,   0.437,2,   0.255,2,   0.029,2,  2252.2,2,  2352.0,2,   7.7802,2,    13.00,    -999,9,    -999,9,    -999,9,1.1893,2,-999,9,-999,9,-999,    -999,9,    -999,0.811,2,-999,9,-999,9,   37.17,2,-999,1, 20080229,     1033, -64.4997,  30.0013,    -999,-999,9,   0.0327,2,   0.1122,2,   0.0189,2,   0.0727,2,   0.0101,2,   0.0217,2,-999,9,   0.0020,2,   0.0200,2,  -0.0009,4,    -999,    -999
33RR20080204,       I06S,      75,          1,         24,         24,2,20080229,       0848,   -64.4997,    30.0014,       5030,   528.2,   1.0949,  34.7062,2,  34.7063,2,    198.7,2,   199.7,2,  100.10,2,   31.91,2,    0.00,2,    2.21,2,   0.487,2,   0.270,2,   0.039,2,  2250.5,2,  2353.1,2,   7.7814,2,    13.00,    -999,9,    -999,9,    -999,9,1.0954,2,-999,9,-999,9,-999,    -999,9,    -999,0.864,2,-999,9,-999,9,    -999,9,-999,9, 20080229,     1031, -64.4997,  30.0013,    -999,-999,9,     -999,9,     -999,9,     -999,9,     -999,9,     -999,9,     -999,9,-999,9,     -999,9,     -999,9,     -999,9,    -999,    -999
33RR20080204,       I06S,      75,          1,         23,         23,2,20080229,       0848,   -64.4997,    30.0014,       5030,   648.7,   0.9671,  34.7062,2,  34.7067,2,    200.5,2,   201.1,2,  104.40,2,   31.96,2,    0.00,2,    2.22,2,   0.415,2,   0.238,2,   0.033,2,  2254.2,2,  2354.8,2,   7.7821,2,    13.00,    -999,9,    -999,9,    -999,9,0.9674,2,-999,9,-999,9,-999,    -999,9,    -999,0.786,2,-999,9,-999,9,   39.71,2,-999,1, 20080229,     1028, -64.4997,  30.0014,    -999,-999,1,   0.0322,2,   0.1124,2,   0.0196,2,   0.0726,2,   0.0093,2,   0.0223,2,-999,9,   0.0016,2,   0.0191,2,  -0.0004,4,    -999,    -999
33RR20080204,       I06S,      75,          1,         22,         22,2,20080229,       0848,   -64.4997,    30.0014,       5030,   749.5,   0.8907,  34.7054,2,  34.7057,2,    201.7,2,   202.0,2,  107.06,2,   32.01,2,    0.00,2,    2.22,2,   0.381,2,   0.214,2,   0.026,2,  2257.2,2,  2355.4,2,   7.7820,2,    13.00,    -999,9,    -999,9,    -999,9,0.8905,2,-999,9,-999,9,-999,    -999,9,    -999,0.737,2,-999,9,-999,9,   36.20,2,-999,1, 20080229,     1025, -64.4997,  30.0013,    -999,-999,9,     -999,9,     -999,9,     -999,9,     -999,9,     -999,9,     -999,9,-999,9,     -999,9,     -999,9,     -999,9,    -999,    -999
33RR20080204,       I06S,      75,          1,         21,         21,2,20080229,       0848,   -64.4997,    30.0014,       5030,   850.5,   0.8052,  34.7022,2,  34.7030,2,    203.0,2,   202.9,2,  109.11,2,   32.16,2,    0.00,2,    2.22,2,   0.376,2,   0.205,2,   0.031,2,  2259.8,2,  2356.2,2,   7.7801,2,    13.00,    -999,9,    -999,9,    -999,9,0.8046,2,-999,9,-999,9,-999,    -999,9,    -999,0.772,2,-999,9,-999,9,   37.66,2,-999,1, 20080229,     1022, -64.4997,  30.0014,    -999,-999,1,   0.0338,2,   0.1109,2,   0.0186,2,   0.0718,2,   0.0105,2,   0.0211,2,-999,9,   0.0023,2,   0.0202,2,   0.0019,4,    -999,    -999
33RR20080204,       I06S,      75,          1,         20,         20,2,20080229,       0848,   -64.4997,    30.0014,       5030,   950.9,   0.7417,  34.7006,2,  34.7010,2,    203.7,2,   203.3,2,  111.57,2,   32.31,2,    0.00,2,    2.23,2,   0.338,2,   0.192,2,   0.027,2,  2259.5,2,  2359.1,2,   7.7805,2,    13.00,    -999,9,    -999,9,    -999,9,0.7415,2,-999,9,-999,9,-999,    -999,9,    -999,0.734,2,-999,9,-999,9,   37.56,2,-999,1, 20080229,     1019, -64.4997,  30.0013,    -999,-999,9,   0.0324,2,   0.1112,2,   0.0195,2,   0.0723,2,   0.0095,2,   0.0221,2,-999,9,   0.0020,2,   0.0189,2,   0.0000,4,    -999,    -999
33RR20080204,       I06S,      75,          1,         19,         19,2,20080229,       0848,   -64.4997,    30.0014,       5030,  1057.3,   0.6606,  34.6966,2,  34.6971,2,    205.0,2,   204.6,2,  113.63,2,   32.50,2,    0.00,2,    2.24,2,   0.358,2,   0.186,2,   0.026,2,  2261.2,2,  2357.2,2,   7.7782,2,    13.00,    -999,9,    -999,9,    -999,9,0.6601,2,-999,9,-999,9,-999,    -999,9,    -999,0.87,2,-999,9,-999,9,   38.93,2,-999,1, 20080229,     1017, -64.4997,  30.0013,    -999,-999,1,   0.0330,2,   0.1118,2,   0.0185,2,   0.0724,2,   0.0108,2,   0.0214,2,-999,1,   0.0023,2,   0.0205,2,  -0.0006,4,    -999,    -999
33RR20080204,       I06S,      75,          1,         18,         18,2,20080229,       0848,   -64.4997,    30.0014,       5030,  1158.0,   0.5863,  34.6935,2,  34.6935,2,    206.2,2,   205.6,2,  115.48,2,   32.56,2,    0.00,2,    2.25,2,   0.345,2,   0.195,2,   0.018,2,  2262.1,6,  2355.5,2,   7.7772,2,    13.00,    -999,9,    -999,9,    -999,9,0.5862,2,-999,9,-999,9,-999,    -999,9,    -999,0.683,2,-999,9,-999,9,    -999,9,-999,9, 20080229,     1014, -64.4997,  30.0014,    -999,-999,9,     -999,9,     -999,9,     -999,9,     -999,9,     -999,9,     -999,9,-999,9,     -999,9,     -999,9,     -999,9,    -999,    -999
33RR20080204,       I06S,      75,          1,         17,         17,2,20080229,       0848,   -64.4997,    30.0014,       5030,  1258.9,   0.5219,  34.6910,2,  34.7059,3,    207.1,2,   206.2,2,  117.95,2,   32.71,2,    0.00,2,    2.26,2,   0.318,2,   0.183,2,   0.016,2,  2261.7,2,  2356.9,2,   7.7749,2,    13.00,    -999,9,    -999,9,    -999,9,0.5215,2,-999,9,-999,9,-999,    -999,9,    -999,0.608,2,-999,9,-999,9,   40.10,2,-999,1, 20080229,     1012, -64.4997,  30.0013,    -999,-999,9,     -999,9,     -999,9,     -999,9,     -999,9,     -999,9,     -999,9,-999,9,     -999,9,     -999,9,     -999,9,    -999,    -999
33RR20080204,       I06S,      75,          1,         16,         16,2,20080229,       0848,   -64.4997,    30.0014,       5030,  1359.1,   0.4798,  34.6897,2,  34.6896,2,    207.7,2,   206.6,2,  119.81,2,   32.81,2,    0.00,2,    2.27,2,   0.299,2,   0.175,2,   0.013,2,  2263.4,2,  2357.1,2,   7.7742,2,    13.00,    -999,9,    -999,9,    -999,9,0.4797,2,-999,9,-999,9,-999,    -999,9,    -999,0.583,2,-999,9,-999,9,    -999,9,-999,9, 20080229,     1009, -64.4997,  30.0013,    -999,-999,9,     -999,9,     -999,9,     -999,9,     -999,9,     -999,9,     -999,9,-999,9,     -999,9,     -999,9,     -999,9,    -999,    -999
33RR20080204,       I06S,      75,          1,         15,         15,2,20080229,       0848,   -64.4997,    30.0014,       5030,  1460.3,   0.4394,  34.6876,2,  34.6886,2,    208.8,2,   207.6,2,  120.43,2,   32.86,2,    0.00,2,    2.27,2,   0.282,2,   0.157,2,   0.009,2,  2264.8,2,  2357.7,2,   7.7747,2,    13.00,    -999,9,    -999,9,    -999,9,0.4388,2,-999,9,-999,9,-999,    -999,9,    -999,0.595,2,-999,9,-999,9,   37.46,2,-999,1, 20080229,     1006, -64.4997,  30.0014,    -999,-999,9,   0.0335,2,   0.1111,2,   0.0179,2,   0.0721,2,   0.0115,2,   0.0209,3,-999,9,   0.0027,2,   0.0211,2,  -0.0004,4,    -999,    -999
33RR20080204,       I06S,      75,          1,         14,         14,2,20080229,       0848,   -64.4997,    30.0014,       5030,  1660.9,   0.3097,  34.6800,2,  34.6800,2,    214.1,2,   212.9,2,  121.04,2,   32.71,2,    0.00,2,    2.26,2,   0.394,2,   0.237,2,   0.023,2,  2262.2,2,  2356.6,2,   7.7780,2,    13.00,    -999,9,    -999,9,    -999,9,0.3097,2,-999,9,-999,9,-999,    -999,9,    -999,0.719,2,-999,9,-999,9,    -999,9,-999,9, 20080229,     1002, -64.4997,  30.0013,    -999,-999,9,     -999,9,     -999,9,     -999,9,     -999,9,     -999,9,     -999,9,-999,9,     -999,9,     -999,9,     -999,9,    -999,    -999
33RR20080204,       I06S,      75,          1,         13,         13,2,20080229,       0848,   -64.4997,    30.0014,       5030,  1869.8,   0.2466,  34.6787,2,  34.6798,2,    214.6,2,   213.9,2,  124.76,2,   32.96,2,    0.00,2,    2.28,2,   0.286,2,   0.167,2,   0.017,2,  2262.8,2,  2356.7,2,   7.7766,2,    13.00,    -999,9,    -999,9,    -999,9,0.2458,2,-999,9,-999,9,-999,    -999,9,    -999,0.635,2,-999,9,-999,9,   38.73,2,-999,1, 20080229,     0957, -64.4997,  30.0014,    -999,-999,9,   0.0324,2,   0.1089,2,   0.0183,2,   0.0702,2,   0.0107,2,   0.0213,2,-999,9,   0.0023,2,   0.0200,2,  -0.0006,4,    -999,    -999
33RR20080204,       I06S,      75,          1,         12,         12,2,20080229,       0848,   -64.4997,    30.0014,       5030,  2071.3,   0.1677,  34.6757,2,  34.6754,2,    217.5,2,   216.6,2,  125.38,2,   32.96,2,    0.00,2,    2.28,2,   0.298,2,   0.176,2,   0.014,2,  2262.4,2,  2356.7,2,   7.7787,2,    13.00,    -999,9,    -999,9,    -999,9,0.1675,2,-999,9,-999,9,-999,    -999,9,    -999,0.693,2,-999,9,-999,9,    -999,9,-999,9, 20080229,     0952, -64.4997,  30.0014,    -999,-999,9,     -999,9,     -999,9,     -999,9,     -999,9,     -999,9,     -999,9,-999,9,     -999,9,     -999,9,     -999,9,    -999,    -999
33RR20080204,       I06S,      75,          1,         11,         11,2,20080229,       0848,   -64.4997,    30.0014,       5030,  2395.7,   0.0527,  34.6709,2,  34.6705,2,    222.1,2,   221.1,2,  126.63,2,   32.87,2,    0.00,2,    2.28,2,   0.294,2,   0.147,2,   0.007,2,  2259.9,2,  2357.1,2,   7.7803,2,    13.00,    -999,9,    -999,9,    -999,9,0.0529,2,-999,9,-999,9,-999,    -999,9,    -999,0.777,2,-999,9,-999,9,   38.54,2,-999,1, 20080229,     0946, -64.4997,  30.0014,    -999,-999,9,   0.0332,2,   0.1110,2,   0.0188,2,   0.0719,2,   0.0104,2,   0.0214,2,-999,1,   0.0021,2,   0.0198,2,  -0.0007,4,    -999,    -999
33RR20080204,       I06S,      75,          1,         10,         10,2,20080229,       0848,   -64.4997,    30.0014,       5030,  2699.5,  -0.0536,  34.6646,2,  34.6648,2,    229.1,2,   228.8,2,  123.74,2,   32.66,2,    0.00,2,    2.25,2,   0.626,6,   0.353,6,   0.039,6,  2257.1,2,  2355.0,2,   7.7854,2,    13.00,    -999,9,    -999,9,    -999,9,-0.053,2,-999,9,-999,9,-999,    -999,9,    -999,1.144,6,-999,9,-999,9,    -999,9,-999,9, 20080229,     0939, -64.4997,  30.0013,    -999,-999,9,     -999,9,     -999,9,     -999,9,     -999,9,     -999,9,     -999,9,-999,9,     -999,9,     -999,9,     -999,9,    -999,    -999
33RR20080204,       I06S,      75,          1,          9,          9,2,20080229,       0848,   -64.4997,    30.0014,       5030,  3003.0,  -0.1313,  34.6599,2,  34.6603,2,    233.4,2,   233.3,2,  122.50,2,   32.42,2,    0.00,2,    2.25,2,   0.888,2,   0.493,2,   0.049,2,  2255.8,2,  2354.2,2,   7.7882,2,    13.00,    -999,9,    -999,9,    -999,9,-0.1313,2,-999,9,-999,9,-999,    -999,9,    -999,1.532,2,-999,9,-999,9,   39.80,2,-999,1, 20080229,     0933, -64.4997,  30.0013,    -999,-999,9,   0.0330,2,   0.1087,2,   0.0179,2,   0.0703,2,   0.0113,2,   0.0208,2,-999,9,   0.0027,2,   0.0204,2,  -0.0003,4,    -999,    -999
33RR20080204,       I06S,      75,          1,          8,          8,2,20080229,       0848,   -64.4997,    30.0014,       5030,  3312.2,  -0.1737,  34.6569,2,  34.6575,2,    236.5,2,   237.4,2,  121.46,2,   32.32,2,    0.00,2,    2.24,2,   1.013,2,   0.557,2,   0.074,2,  2254.9,2,  2354.5,2,   7.7885,2,    13.00,    -999,9,    -999,9,    -999,9,-0.1741,2,-999,9,-999,9,-999,    -999,9,    -999,1.68,2,-999,9,-999,9,    -999,9,-999,9, 20080229,     0926, -64.4997,  30.0013,    -999,-999,9,     -999,9,     -999,9,     -999,9,     -999,9,     -999,9,     -999,9,-999,9,     -999,9,     -999,9,     -999,9,    -999,    -999