BOTTLE,20220706CCHSIOAMB
EXPOCODE,SECT_ID,STNNBR,CASTNO,SAMPNO,BTLNBR,BTLNBR_FLAG_W,DATE,TIME,LATITUDE,LONGITUDE,DEPTH,CTDPRS,CTDTMP,CTDSAL,CTDSAL_FLAG_W,SALNTY,SALNTY_FLAG_W,CTDOXY,CTDOXY_FLAG_W,OXYGEN,OXYGEN_FLAG_W,SILCAT,SILCAT_FLAG_W,NITRAT,NITRAT_FLAG_W,NITRIT,NITRIT_FLAG_W,PHSPHT,PHSPHT_FLAG_W,CFC-11,CFC-11_FLAG_W,CFC-12,CFC-12_FLAG_W,CFC113,CFC113_FLAG_W,TCARBN,TCARBN_FLAG_W,ALKALI,ALKALI_FLAG_W,PH_SWS,PH_SWS_FLAG_W,PH_TMP,TRITUM,TRITUM_FLAG_W,HELIUM,HELIUM_FLAG_W,DELHE3,DELHE3_FLAG_W,REFTMP,REFTMP_FLAG_W,DELC13,DELC13_FLAG_W,DELC14,DELC14_FLAG_W,C14ERR,NEON,NEON_FLAG_W,NEONER,CCL4,CCL4_FLAG_W,ALUMIN,ALUMIN_FLAG_W,DELO18,DELO18_FLAG_W,DOC,DOC_FLAG_W,TDN,TDN_FLAG_W,BTL_DATE,BTL_TIME,BTL_LAT,BTL_LON,TRITER,DELSI30,DELSI30_FLAG_W,CDOM380,CDOM380_FLAG_W,CDOM325,CDOM325_FLAG_W,CDOMSL,CDOMSL_FLAG_W,CDOM340,CDOM340_FLAG_W,CDOM443,CDOM443_FLAG_W,CDOMSN,CDOMSN_FLAG_W,BLACKC,BLACKC_FLAG_W,CDOM490,CDOM490_FLAG_W,CDOM412,CDOM412_FLAG_W,CDOM555,CDOM555_FLAG_W,DELHER,HELIER
,,,,,,,,,,,METERS,DBAR,ITS-90,PSS-78,,PSS-78,,UMOL/KG,,UMOL/KG,,UMOL/KG,,UMOL/KG,,UMOL/KG,,UMOL/KG,,PMOL/KG,,PMOL/KG,,PMOL/KG,,UMOL/KG,,UMOL/KG,,,,DEG C,TU,,NMOL/KG,,PERCNT,,DEG C,,/MILLE,,/MILLE,,/MILLE,NMOL/KG,,NMOL/KG,PMOL/KG,,NMOL/L,,/MILLE,,UMOL/KG,,UMOL/KG,,,,,,TU,/MILLE,,1/M,,1/M,,1/NM,,1/M,,1/M,,1/NM,,,,1/M,,1/M,,1/M,,PERCNT,NMOL/KG
33RR20080204,       I06S,      67,          2,          7,          7,2,20080226,       1619,   -60.5001,    30.0000,       5250,  3872.7,  -0.1817,  34.6587,2,  34.6588,2,    234.9,2,   236.0,2,  127.74,2,   32.63,2,    0.00,2,    2.25,2,   0.429,2,   0.231,2,   0.018,2,  2254.5,2,  2354.0,2,   7.7938,4,    13.00,    -999,9,    -999,9,    -999,9,-999,9,-999,9,-999,9,-999,    -999,9,    -999,1.209,2,-999,9,-999,9,   38.83,2,-999,1, 20080226,     1651, -60.5000,  30.0000,    -999,-999,9,     -999,9,     -999,9,     -999,9,     -999,9,     -999,9,     -999,9,-999,9,     -999,9,     -999,9,     -999,9,    -999,    -999
33RR20080204,       I06S,      67,          2,          6,          6,2,20080226,       1619,   -60.5001,    30.0000,       5250,  4179.9,  -0.2171,  34.6566,2,  34.6570,2,    238.3,2,   238.9,2,  128.11,2,   32.52,2,    0.00,2,    2.25,2,   0.449,2,   0.234,2,   0.018,2,  2252.9,2,  2354.3,2,   7.7960,2,    13.00,    -999,9,    -999,9,    -999,9,-999,9,-999,9,-999,9,-999,    -999,9,    -999,1.179,2,-999,9,-999,9,    -999,9,-999,9, 20080226,     1645, -60.5000,  30.0000,    -999,-999,9,     -999,9,     -999,9,     -999,9,     -999,9,     -999,9,     -999,9,-999,9,     -999,9,     -999,9,     -999,9,    -999,    -999
33RR20080204,       I06S,      67,          2,          5,          5,2,20080226,       1619,   -60.5001,    30.0000,       5250,  4490.7,  -0.2452,  34.6547,2,  34.6549,2,    241.2,2,   241.8,2,  129.83,2,   32.47,2,    0.00,2,    2.25,2,   0.449,2,   0.253,2,   0.026,2,  2252.1,2,  2353.4,2,   7.7967,2,    13.00,    -999,9,    -999,9,    -999,9,-999,9,-999,9,-999,9,-999,    -999,9,    -999,1.272,2,-999,9,-999,9,   39.22,2,-999,1, 20080226,     1639, -60.5000,  30.0000,    -999,-999,9,     -999,9,     -999,9,     -999,9,     -999,9,     -999,9,     -999,9,-999,9,     -999,9,     -999,9,     -999,9,    -999,    -999
33RR20080204,       I06S,      67,          2,          4,          4,2,20080226,       1619,   -60.5001,    30.0000,       5250,  4694.4,  -0.2551,  34.6538,2,  34.6535,2,    242.7,2,   242.0,2,  129.82,2,   32.51,2,    0.00,2,    2.25,2,   0.464,2,   0.236,2,   0.017,2,  2250.0,2,  2352.7,2,   7.7995,2,    13.00,    -999,9,    -999,9,    -999,9,-999,9,-999,9,-999,9,-999,    -999,9,    -999,1.173,2,-999,9,-999,9,    -999,9,-999,9, 20080226,     1634, -60.5000,  30.0001,    -999,-999,9,     -999,9,     -999,9,     -999,9,     -999,9,     -999,9,     -999,9,-999,9,     -999,9,     -999,9,     -999,9,    -999,    -999
33RR20080204,       I06S,      67,          2,          3,          3,2,20080226,       1619,   -60.5001,    30.0000,       5250,  4905.6,  -0.2668,  34.6523,2,  34.6523,2,    244.4,2,   243.4,2,  130.01,2,   32.46,2,    0.00,2,    2.25,2,   0.499,2,   0.276,2,   0.029,2,  2248.8,2,  2352.3,2,   7.7997,2,    13.00,    -999,9,    -999,9,    -999,9,-999,9,-999,9,-999,9,-999,    -999,9,    -999,1.204,2,-999,9,-999,9,   37.95,2,-999,1, 20080226,     1630, -60.5000,  30.0000,    -999,-999,9,     -999,9,     -999,9,     -999,9,     -999,9,     -999,9,     -999,9,-999,9,     -999,9,     -999,9,     -999,9,    -999,    -999
33RR20080204,       I06S,      67,          2,          2,          2,2,20080226,       1619,   -60.5001,    30.0000,       5250,  5109.6,  -0.2713,  34.6511,2,  34.6515,2,    245.8,2,   244.5,2,  130.00,2,   32.41,2,    0.00,2,    2.25,2,   0.521,2,   0.276,2,   0.031,2,  2249.2,2,  2353.0,2,   7.7995,2,    13.00,    -999,9,    -999,9,    -999,9,-999,9,-999,9,-999,9,-999,    -999,9,    -999,1.059,2,-999,9,-999,9,    -999,9,-999,9, 20080226,     1625, -60.5000,  30.0000,    -999,-999,9,     -999,9,     -999,9,     -999,9,     -999,9,     -999,9,     -999,9,-999,9,     -999,9,     -999,9,     -999,9,    -999,    -999
33RR20080204,       I06S,      67,          2,          1,          1,2,20080226,       1619,   -60.5001,    30.0000,       5250,  5343.8,  -0.2665,  34.6500,2,  34.6512,2,    246.5,2,   245.0,2,  134.21,2,   32.41,2,    0.00,2,    2.25,2,   0.553,2,   0.282,2,   0.027,2,  2250.0,6,  2353.2,2,   7.8006,2,    13.00,    -999,9,    -999,9,    -999,9,-999,9,-999,9,-999,9,-999,    -999,9,    -999,0.844,2,-999,9,-999,9,   39.32,2,-999,1, 20080226,     1620, -60.5001,  30.0000,    -999,-999,9,     -999,9,     -999,9,     -999,9,     -999,9,     -999,9,     -999,9,-999,9,     -999,9,     -999,9,     -999,9,    -999,    -999