BOTTLE,20220706CCHSIOAMB
EXPOCODE,SECT_ID,STNNBR,CASTNO,SAMPNO,BTLNBR,BTLNBR_FLAG_W,DATE,TIME,LATITUDE,LONGITUDE,DEPTH,CTDPRS,CTDTMP,CTDSAL,CTDSAL_FLAG_W,SALNTY,SALNTY_FLAG_W,CTDOXY,CTDOXY_FLAG_W,OXYGEN,OXYGEN_FLAG_W,SILCAT,SILCAT_FLAG_W,NITRAT,NITRAT_FLAG_W,NITRIT,NITRIT_FLAG_W,PHSPHT,PHSPHT_FLAG_W,CFC-11,CFC-11_FLAG_W,CFC-12,CFC-12_FLAG_W,CFC113,CFC113_FLAG_W,TCARBN,TCARBN_FLAG_W,ALKALI,ALKALI_FLAG_W,PH_SWS,PH_SWS_FLAG_W,PH_TMP,TRITUM,TRITUM_FLAG_W,HELIUM,HELIUM_FLAG_W,DELHE3,DELHE3_FLAG_W,REFTMP,REFTMP_FLAG_W,DELC13,DELC13_FLAG_W,DELC14,DELC14_FLAG_W,C14ERR,NEON,NEON_FLAG_W,NEONER,CCL4,CCL4_FLAG_W,ALUMIN,ALUMIN_FLAG_W,DELO18,DELO18_FLAG_W,DOC,DOC_FLAG_W,TDN,TDN_FLAG_W,BTL_DATE,BTL_TIME,BTL_LAT,BTL_LON,TRITER,DELSI30,DELSI30_FLAG_W,CDOM380,CDOM380_FLAG_W,CDOM325,CDOM325_FLAG_W,CDOMSL,CDOMSL_FLAG_W,CDOM340,CDOM340_FLAG_W,CDOM443,CDOM443_FLAG_W,CDOMSN,CDOMSN_FLAG_W,BLACKC,BLACKC_FLAG_W,CDOM490,CDOM490_FLAG_W,CDOM412,CDOM412_FLAG_W,CDOM555,CDOM555_FLAG_W,DELHER,HELIER
,,,,,,,,,,,METERS,DBAR,ITS-90,PSS-78,,PSS-78,,UMOL/KG,,UMOL/KG,,UMOL/KG,,UMOL/KG,,UMOL/KG,,UMOL/KG,,PMOL/KG,,PMOL/KG,,PMOL/KG,,UMOL/KG,,UMOL/KG,,,,DEG C,TU,,NMOL/KG,,PERCNT,,DEG C,,/MILLE,,/MILLE,,/MILLE,NMOL/KG,,NMOL/KG,PMOL/KG,,NMOL/L,,/MILLE,,UMOL/KG,,UMOL/KG,,,,,,TU,/MILLE,,1/M,,1/M,,1/NM,,1/M,,1/M,,1/NM,,,,1/M,,1/M,,1/M,,PERCNT,NMOL/KG
33RR20080204,       I06S,      95,          2,         20,         20,2,20080305,       1718,   -68.3385,    31.3252,       1027,     3.2,  -0.8755,  34.0027,2,     -999,5,    338.1,2,   337.8,2,   54.03,2,   26.75,2,    0.15,2,    1.87,2,   6.111,2,   3.327,2,   0.475,2,  2179.4,2,  2304.8,2,   7.8734,2,    13.00,    -999,9,    -999,9,    -999,9,-0.8599,2,-999,9,-999,9,-999,    -999,9,    -999,6.726,2,-999,9,-999,9,   47.71,2,-999,1, 20080305,     1812, -68.3384,  31.3250,    -999,-999,9,   0.0479,2,   0.1169,2,   0.0125,2,   0.0821,2,   0.0238,2,   0.0138,3,-999,9,   0.0127,2,   0.0344,2,   0.0051,2,    -999,    -999
33RR20080204,       I06S,      95,          2,         19,         19,2,20080305,       1718,   -68.3385,    31.3252,       1027,    21.4,  -0.8048,  34.0159,2,     -999,5,    337.4,2,   338.1,2,   54.22,2,   26.65,2,    0.15,2,    1.87,2,   6.158,2,   3.297,2,   0.500,2,  2179.9,2,  2305.2,2,   7.8750,2,    13.00,    -999,9,    -999,9,    -999,9,-0.8071,2,-999,9,-999,9,-999,    -999,9,    -999,6.046,2,-999,9,-999,9,   43.51,2,-999,1, 20080305,     1810, -68.3384,  31.3250,    -999,-999,9,   0.0365,2,   0.1077,2,   0.0153,3,   0.0719,2,   0.0154,2,   0.0180,3,-999,9,   0.0065,2,   0.0245,2,   0.0017,2,    -999,    -999
33RR20080204,       I06S,      95,          2,         18,         18,2,20080305,       1718,   -68.3385,    31.3252,       1027,    36.7,  -0.8327,  34.0165,2,     -999,5,    336.9,2,   337.6,2,   54.01,2,   26.71,2,    0.14,2,    1.87,2,   1.276,4,   0.988,4,   0.214,4,  2179.6,2,  2305.8,2,   7.8741,2,    13.00,    -999,9,    -999,9,    -999,9,-0.8332,2,-999,9,-999,9,-999,    -999,9,    -999,1.925,4,-999,9,-999,9,   41.46,2,-999,1, 20080305,     1809, -68.3384,  31.3249,    -999,-999,9,   0.0321,2,   0.0972,2,   0.0155,3,   0.0628,2,   0.0133,2,   0.0184,3,-999,9,   0.0049,2,   0.0217,2,   0.0006,3,    -999,    -999
33RR20080204,       I06S,      95,          2,         17,         17,2,20080305,       1718,   -68.3385,    31.3252,       1027,    66.6,  -1.7329,  34.2002,2,     -999,5,    316.2,2,   315.9,2,   60.36,2,   30.01,2,    0.11,2,    2.09,2,   1.565,4,   1.128,4,   0.238,4,  2204.7,2,  2313.1,2,   7.8188,2,    13.00,    -999,9,    -999,9,    -999,9,-1.7335,2,-999,9,-999,9,-999,    -999,9,    -999,2.365,4,-999,9,-999,9,   42.93,2,-999,1, 20080305,     1807, -68.3384,  31.3250,    -999,-999,9,   0.0346,2,   0.1040,2,   0.0146,3,   0.0676,2,   0.0157,2,   0.0176,3,-999,9,   0.0067,2,   0.0251,2,   0.0020,2,    -999,    -999
33RR20080204,       I06S,      95,          2,         15,         15,2,20080305,       1718,   -68.3385,    31.3252,       1027,    91.8,  -1.7463,  34.2423,2,     -999,5,    313.9,2,   312.8,2,   61.34,2,   30.31,2,    0.09,2,    2.11,2,   3.596,4,   2.271,4,   0.422,4,  2209.5,2,  2316.8,2,   7.8149,2,    13.00,    -999,9,    -999,9,    -999,9,-1.7485,2,-999,9,-999,9,-999,    -999,9,    -999,3.904,4,-999,9,-999,9,   41.37,2,-999,1, 20080305,     1806, -68.3384,  31.3250,    -999,-999,9,   0.0403,2,   0.1102,2,   0.0133,3,   0.0741,2,   0.0198,2,   0.0154,3,-999,9,   0.0095,2,   0.0298,2,   0.0039,2,    -999,    -999
33RR20080204,       I06S,      95,          2,         14,         14,9,20080305,       1718,   -68.3385,    31.3252,       1027,   131.9,  -1.7290,  34.2749,2,     -999,9,     -999,9,    -999,9,    -999,9,    -999,9,    -999,9,    -999,9,    -999,9,    -999,9,    -999,9,    -999,9,    -999,9,     -999,9,     -999,    -999,9,    -999,9,    -999,9,-1.7282,2,-999,9,-999,9,-999,    -999,9,    -999,-999,9,-999,9,-999,9,    -999,9,-999,9, 20080305,     1804, -68.3384,  31.3250,    -999,-999,9,     -999,9,     -999,9,     -999,9,     -999,9,     -999,9,     -999,9,-999,9,     -999,9,     -999,9,     -999,9,    -999,    -999
33RR20080204,       I06S,      95,          2,         13,         13,2,20080305,       1718,   -68.3385,    31.3252,       1027,   181.9,  -1.5431,  34.3343,2,     -999,5,    297.0,2,   300.6,2,   66.51,2,   30.77,2,    0.03,2,    2.12,2,   4.456,4,   2.582,4,   0.474,4,  2217.5,2,  2323.4,2,   7.8074,2,    13.00,    -999,9,    -999,9,    -999,9,-1.5501,2,-999,9,-999,9,-999,    -999,9,    -999,5.055,4,-999,9,-999,9,   41.56,2,-999,1, 20080305,     1801, -68.3384,  31.3250,    -999,-999,9,   0.0302,2,   0.0980,2,   0.0161,3,   0.0623,2,   0.0122,2,   0.0197,3,-999,9,   0.0039,2,   0.0210,2,   0.0027,4,    -999,    -999
33RR20080204,       I06S,      95,          2,         12,         12,2,20080305,       1718,   -68.3385,    31.3252,       1027,   233.6,  -1.2056,  34.3947,2,     -999,5,    289.8,2,   288.3,2,   69.69,2,   30.95,2,    0.01,2,    2.14,2,   4.439,2,   2.446,2,   0.361,2,  2222.3,2,  2325.6,2,   7.8011,2,    13.00,    -999,9,    -999,9,    -999,9,-1.2045,2,-999,9,-999,9,-999,    -999,9,    -999,4.716,2,-999,9,-999,9,   45.46,2,-999,1, 20080305,     1759, -68.3384,  31.3250,    -999,-999,9,   0.0315,2,   0.1018,2,   0.0164,3,   0.0652,2,   0.0126,2,   0.0199,3,-999,9,   0.0045,2,   0.0210,2,   0.0008,3,    -999,    -999
33RR20080204,       I06S,      95,          2,         11,         11,2,20080305,       1718,   -68.3385,    31.3252,       1027,   284.7,  -0.8222,  34.4543,2,     -999,5,    275.4,2,   274.2,2,   73.47,2,   31.16,2,    0.00,2,    2.15,2,   3.934,2,   2.140,2,   0.328,2,  2228.1,2,  2331.3,2,   7.7968,2,    13.00,    -999,9,    -999,9,    -999,9,-0.8233,2,-999,9,-999,9,-999,    -999,9,    -999,4.122,2,-999,9,-999,9,   41.76,2,-999,1, 20080305,     1756, -68.3384,  31.3249,    -999,-999,9,     -999,9,     -999,9,     -999,9,     -999,9,     -999,9,     -999,9,-999,9,     -999,9,     -999,9,     -999,9,    -999,    -999
33RR20080204,       I06S,      95,          2,         10,         10,2,20080305,       1718,   -68.3385,    31.3252,       1027,   334.0,  -0.5691,  34.4940,2,     -999,5,    264.3,2,   264.9,2,   76.06,2,   31.32,2,    0.00,2,    2.16,2,   3.565,2,   1.936,2,   0.313,2,  2232.5,2,  2334.6,2,   7.7952,2,    13.00,    -999,9,    -999,9,    -999,9,-0.5675,2,-999,9,-999,9,-999,    -999,9,    -999,3.623,2,-999,9,-999,9,    -999,9,-999,9, 20080305,     1753, -68.3384,  31.3250,    -999,-999,9,     -999,9,     -999,9,     -999,9,     -999,9,     -999,9,     -999,9,-999,9,     -999,9,     -999,9,     -999,9,    -999,    -999
33RR20080204,       I06S,      95,          2,          9,          9,2,20080305,       1718,   -68.3385,    31.3252,       1027,   385.0,  -0.1134,  34.5647,2,     -999,5,    249.1,2,   247.2,2,   81.85,2,   31.43,2,    0.00,2,    2.16,2,   2.816,2,   1.516,2,   0.189,2,  2240.3,2,  2339.1,2,   7.7885,4,    13.00,    -999,9,    -999,9,    -999,9,-0.1129,2,-999,9,-999,9,-999,    -999,9,    -999,2.861,2,-999,9,-999,9,   43.12,2,-999,1, 20080305,     1750, -68.3384,  31.3250,    -999,-999,9,   0.0356,2,   0.1078,2,   0.0171,2,   0.0705,2,   0.0128,2,   0.0194,2,-999,9,   0.0043,2,   0.0217,2,   0.0007,3,    -999,    -999
33RR20080204,       I06S,      95,          2,          8,          8,2,20080305,       1718,   -68.3385,    31.3252,       1027,   434.6,   0.0614,  34.6007,2,     -999,5,    240.5,2,   239.8,2,   86.45,2,   31.43,2,    0.00,2,    2.17,2,   2.347,2,   1.264,2,   0.157,2,  2243.3,2,  2342.0,2,   7.7901,2,    13.00,    -999,9,    -999,9,    -999,9,0.0604,2,-999,9,-999,9,-999,    -999,9,    -999,2.363,2,-999,9,-999,9,    -999,9,-999,9, 20080305,     1748, -68.3384,  31.3250,    -999,-999,9,     -999,9,     -999,9,     -999,9,     -999,9,     -999,9,     -999,9,-999,9,     -999,9,     -999,9,     -999,9,    -999,    -999
33RR20080204,       I06S,      95,          2,          7,          7,2,20080305,       1718,   -68.3385,    31.3252,       1027,   487.5,   0.0602,  34.6048,2,  34.6036,2,    235.8,2,   239.2,2,   87.25,2,   31.44,2,    0.00,2,    2.17,2,   2.228,2,   1.247,2,   0.178,2,  2242.1,2,  2342.8,2,   7.7896,2,    13.00,    -999,9,    -999,9,    -999,9,0.0566,2,-999,9,-999,9,-999,    -999,9,    -999,2.174,2,-999,9,-999,9,    -999,9,-999,9, 20080305,     1745, -68.3384,  31.3250,    -999,-999,9,     -999,9,     -999,9,     -999,9,     -999,9,     -999,9,     -999,9,-999,9,     -999,9,     -999,9,     -999,9,    -999,    -999
33RR20080204,       I06S,      95,          2,          6,          6,2,20080305,       1718,   -68.3385,    31.3252,       1027,   570.1,   0.0893,  34.6140,2,  34.6127,2,    236.4,2,   237.6,2,   89.25,2,   31.39,2,    0.00,2,    2.17,2,   2.121,2,   1.181,2,   0.149,2,  2242.9,2,  2344.3,2,   7.7899,2,    13.00,    -999,9,    -999,9,    -999,9,0.0887,2,-999,9,-999,9,-999,    -999,9,    -999,2.142,2,-999,9,-999,9,   44.59,2,-999,1, 20080305,     1741, -68.3384,  31.3250,    -999,-999,9,   0.0361,2,   0.1137,2,   0.0163,3,   0.0750,2,   0.0145,2,   0.0192,3,-999,9,   0.0050,2,   0.0245,2,   0.0008,3,    -999,    -999
33RR20080204,       I06S,      95,          2,          5,          5,2,20080305,       1718,   -68.3385,    31.3252,       1027,   671.3,   0.2271,  34.6403,2,  34.6376,2,    232.6,2,   229.8,2,   95.68,2,   31.54,2,    0.00,2,    2.18,2,   1.679,2,   0.920,2,   0.149,2,  2247.0,2,  2347.6,2,   7.7896,4,    13.00,    -999,9,    -999,9,    -999,9,0.227,2,-999,9,-999,9,-999,    -999,9,    -999,1.828,2,-999,9,-999,9,    -999,9,-999,9, 20080305,     1736, -68.3384,  31.3250,    -999,-999,9,     -999,9,     -999,9,     -999,9,     -999,9,     -999,9,     -999,9,-999,9,     -999,9,     -999,9,     -999,9,    -999,    -999
33RR20080204,       I06S,      95,          2,          4,          4,2,20080305,       1718,   -68.3385,    31.3252,       1027,   773.1,   0.2363,  34.6504,2,  34.6491,2,    226.6,2,   226.6,2,  100.50,2,   31.70,2,    0.00,2,    2.19,2,   1.434,2,   0.790,2,   0.097,2,  2250.3,2,  2349.4,2,   7.7880,2,    13.00,    -999,9,    -999,9,    -999,9,0.236,2,-999,9,-999,9,-999,    -999,9,    -999,1.638,2,-999,9,-999,9,   46.44,2,-999,1, 20080305,     1731, -68.3384,  31.3251,    -999,-999,9,   0.0366,2,   0.1163,2,   0.0166,3,   0.0765,2,   0.0145,2,   0.0195,3,-999,9,   0.0052,2,   0.0239,2,   0.0012,2,    -999,    -999
33RR20080204,       I06S,      95,          2,          3,          3,2,20080305,       1718,   -68.3385,    31.3252,       1027,   873.4,   0.2010,  34.6525,2,  34.6521,2,    226.2,2,   226.5,2,  103.53,2,   31.76,2,    0.00,2,    2.20,2,   1.369,2,   0.746,2,   0.087,2,  2250.9,2,  2349.5,2,   7.7871,2,    13.00,    -999,9,    -999,9,    -999,9,0.2008,2,-999,9,-999,9,-999,    -999,9,    -999,1.608,2,-999,9,-999,9,    -999,9,-999,9, 20080305,     1727, -68.3385,  31.3251,    -999,-999,9,     -999,9,     -999,9,     -999,9,     -999,9,     -999,9,     -999,9,-999,9,     -999,9,     -999,9,     -999,9,    -999,    -999
33RR20080204,       I06S,      95,          2,          2,          2,2,20080305,       1718,   -68.3385,    31.3252,       1027,   913.4,   0.1517,  34.6552,2,  34.6550,2,    226.0,2,   226.4,2,  107.16,2,   31.91,2,    0.00,2,    2.21,2,   1.281,2,   0.692,2,   0.089,2,  2250.9,2,  2350.2,2,   7.7856,2,    13.00,    -999,9,    -999,9,    -999,9,0.1514,2,-999,9,-999,9,-999,    -999,9,    -999,1.698,2,-999,9,-999,9,   39.51,2,-999,1, 20080305,     1723, -68.3385,  31.3253,    -999,-999,9,   0.0416,2,   0.1229,2,   0.0153,3,   0.0828,2,   0.0180,2,   0.0177,3,-999,9,   0.0071,2,   0.0288,2,   0.0019,2,    -999,    -999
33RR20080204,       I06S,      95,          2,          1,          1,2,20080305,       1718,   -68.3385,    31.3252,       1027,  1024.7,   0.1364,  34.6591,2,  34.6582,2,    224.7,2,   224.9,2,  110.59,2,   32.06,2,    0.01,2,    2.23,2,   1.103,2,   0.628,2,   0.099,2,  2251.9,6,  2353.1,2,   7.7835,2,    13.00,    -999,9,    -999,9,    -999,9,0.1359,2,-999,9,-999,9,-999,    -999,9,    -999,1.699,2,-999,9,-999,9,   41.46,2,-999,1, 20080305,     1719, -68.3385,  31.3252,    -999,-999,9,   0.0380,2,   0.1174,2,   0.0162,3,   0.0774,2,   0.0153,2,   0.0190,3,-999,9,   0.0056,2,   0.0247,2,   0.0010,3,    -999,    -999