BOTTLE,20220706CCHSIOAMB
EXPOCODE,SECT_ID,STNNBR,CASTNO,SAMPNO,BTLNBR,BTLNBR_FLAG_W,DATE,TIME,LATITUDE,LONGITUDE,DEPTH,CTDPRS,CTDTMP,CTDSAL,CTDSAL_FLAG_W,SALNTY,SALNTY_FLAG_W,CTDOXY,CTDOXY_FLAG_W,OXYGEN,OXYGEN_FLAG_W,SILCAT,SILCAT_FLAG_W,NITRAT,NITRAT_FLAG_W,NITRIT,NITRIT_FLAG_W,PHSPHT,PHSPHT_FLAG_W,CFC-11,CFC-11_FLAG_W,CFC-12,CFC-12_FLAG_W,CFC113,CFC113_FLAG_W,TCARBN,TCARBN_FLAG_W,ALKALI,ALKALI_FLAG_W,PH_SWS,PH_SWS_FLAG_W,PH_TMP,TRITUM,TRITUM_FLAG_W,HELIUM,HELIUM_FLAG_W,DELHE3,DELHE3_FLAG_W,REFTMP,REFTMP_FLAG_W,DELC13,DELC13_FLAG_W,DELC14,DELC14_FLAG_W,C14ERR,NEON,NEON_FLAG_W,NEONER,CCL4,CCL4_FLAG_W,ALUMIN,ALUMIN_FLAG_W,DELO18,DELO18_FLAG_W,DOC,DOC_FLAG_W,TDN,TDN_FLAG_W,BTL_DATE,BTL_TIME,BTL_LAT,BTL_LON,TRITER,DELSI30,DELSI30_FLAG_W,CDOM380,CDOM380_FLAG_W,CDOM325,CDOM325_FLAG_W,CDOMSL,CDOMSL_FLAG_W,CDOM340,CDOM340_FLAG_W,CDOM443,CDOM443_FLAG_W,CDOMSN,CDOMSN_FLAG_W,BLACKC,BLACKC_FLAG_W,CDOM490,CDOM490_FLAG_W,CDOM412,CDOM412_FLAG_W,CDOM555,CDOM555_FLAG_W,DELHER,HELIER
,,,,,,,,,,,METERS,DBAR,ITS-90,PSS-78,,PSS-78,,UMOL/KG,,UMOL/KG,,UMOL/KG,,UMOL/KG,,UMOL/KG,,UMOL/KG,,PMOL/KG,,PMOL/KG,,PMOL/KG,,UMOL/KG,,UMOL/KG,,,,DEG C,TU,,NMOL/KG,,PERCNT,,DEG C,,/MILLE,,/MILLE,,/MILLE,NMOL/KG,,NMOL/KG,PMOL/KG,,NMOL/L,,/MILLE,,UMOL/KG,,UMOL/KG,,,,,,TU,/MILLE,,1/M,,1/M,,1/NM,,1/M,,1/M,,1/NM,,,,1/M,,1/M,,1/M,,PERCNT,NMOL/KG
33RR20080204,       I06S,      19,          1,          7,          7,2,20080210,       2201,   -36.5004,    30.0024,       4676,  2643.3,   2.5678,  34.8055,2,  34.8059,2,    208.6,2,   209.0,2,   61.38,2,   27.23,2,    0.00,2,    1.86,2,   0.045,2,   0.030,2,   0.000,2,    -999,9,  2340.4,2,     -999,9,     -999,    -999,9,    -999,9,    -999,9,2.5677,2,-999,9,-999,9,-999,    -999,9,    -999,0.048,2,-999,9,-999,9,    -999,9,-999,9, 20080210,     2254, -36.5003,  30.0024,    -999,-999,9,     -999,9,     -999,9,     -999,9,     -999,9,     -999,9,     -999,9,-999,9,     -999,9,     -999,9,     -999,9,    -999,    -999
33RR20080204,       I06S,      19,          1,          6,          6,2,20080210,       2201,   -36.5004,    30.0024,       4676,  2946.1,   2.4082,  34.8226,2,  34.8227,2,    217.5,2,   217.9,2,   61.58,2,   26.37,2,    0.00,2,    1.80,2,   0.035,2,   0.029,2,   0.000,2,  2218.8,2,  2340.6,2,     -999,9,     -999,    -999,9,    -999,9,    -999,9,2.4084,2,0.77,2,-126.2,2,2.5,    -999,9,    -999,0.083,2,-999,9,-999,9,   38.93,2,-999,1, 20080210,     2245, -36.5004,  30.0024,    -999,-999,9,     -999,9,     -999,9,     -999,9,     -999,9,     -999,9,     -999,9,-999,9,     -999,9,     -999,9,     -999,9,    -999,    -999
33RR20080204,       I06S,      19,          1,          5,          5,2,20080210,       2201,   -36.5004,    30.0024,       4676,  3556.6,   1.9404,  34.7984,2,  34.7987,2,    218.2,2,   218.2,2,   77.03,2,   27.58,2,    0.00,2,    1.88,2,   0.037,2,   0.019,2,   0.000,2,  2230.1,2,  2350.4,2,     -999,9,     -999,    -999,9,    -999,9,    -999,9,1.9403,2,0.69,2,-140.3,2,3.1,    -999,9,    -999,0.393,2,-999,9,-999,9,   39.51,2,-999,1, 20080210,     2231, -36.5004,  30.0023,    -999,-999,9,     -999,9,     -999,9,     -999,9,     -999,9,     -999,9,     -999,9,-999,9,     -999,9,     -999,9,     -999,9,    -999,    -999
33RR20080204,       I06S,      19,          1,          4,          4,2,20080210,       2201,   -36.5004,    30.0024,       4676,  3859.1,   1.6150,  34.7728,2,  34.7735,2,    216.8,2,   216.9,2,   88.64,2,   28.75,2,    0.00,2,    1.97,2,   0.053,2,   0.031,2,   0.000,2,    -999,9,  2356.7,2,     -999,9,     -999,    -999,9,    -999,9,    -999,9,1.6143,2,-999,9,-999,9,-999,    -999,9,    -999,0.506,2,-999,9,-999,9,    -999,9,-999,9, 20080210,     2224, -36.5004,  30.0025,    -999,-999,9,     -999,9,     -999,9,     -999,9,     -999,9,     -999,9,     -999,9,-999,9,     -999,9,     -999,9,     -999,9,    -999,    -999
33RR20080204,       I06S,      19,          1,          3,          3,2,20080210,       2201,   -36.5004,    30.0024,       4676,  4175.9,   1.3261,  34.7499,2,  34.7503,2,    216.6,2,   216.6,2,   99.05,2,   29.80,2,    0.00,2,    2.05,2,   0.079,2,   0.047,2,   0.000,2,  2248.1,2,  2361.0,2,     -999,9,     -999,    -999,9,    -999,9,    -999,9,1.3259,2,0.14,3,-171.2,2,4.7,    -999,9,    -999,0.92,2,-999,9,-999,9,   39.71,2,-999,1, 20080210,     2216, -36.5003,  30.0023,    -999,-999,9,     -999,9,     -999,9,     -999,9,     -999,9,     -999,9,     -999,9,-999,9,     -999,9,     -999,9,     -999,9,    -999,    -999
33RR20080204,       I06S,      19,          1,          2,          2,2,20080210,       2201,   -36.5004,    30.0024,       4676,  4481.9,   1.1963,  34.7382,2,  34.7392,2,    217.0,2,   216.8,2,  104.36,2,   30.31,2,    0.00,2,    2.09,2,   0.089,2,   0.062,2,   0.001,2,    -999,9,  2362.7,2,     -999,9,     -999,    -999,9,    -999,9,    -999,9,1.1961,2,-999,9,-999,9,-999,    -999,9,    -999,0.992,2,-999,9,-999,9,    -999,9,-999,9, 20080210,     2209, -36.5004,  30.0024,    -999,-999,9,     -999,9,     -999,9,     -999,9,     -999,9,     -999,9,     -999,9,-999,9,     -999,9,     -999,9,     -999,9,    -999,    -999
33RR20080204,       I06S,      19,          1,          1,          1,2,20080210,       2201,   -36.5004,    30.0024,       4676,  4738.1,   1.0868,  34.7278,2,  34.7289,2,    216.0,2,   216.6,2,  109.46,2,   30.77,2,    0.00,2,    2.13,2,   0.114,2,   0.071,2,   0.002,2,  2256.2,6,  2367.2,2,     -999,9,     -999,    -999,9,    -999,9,    -999,9,1.0867,2,0.55,2,-146.5,2,2.4,    -999,9,    -999,1.112,2,-999,9,-999,9,   39.51,2,-999,1, 20080210,     2202, -36.5004,  30.0023,    -999,-999,9,     -999,9,     -999,9,     -999,9,     -999,9,     -999,9,     -999,9,-999,9,     -999,9,     -999,9,     -999,9,    -999,    -999