BOTTLE,20220706CCHSIOAMB
EXPOCODE,SECT_ID,STNNBR,CASTNO,SAMPNO,BTLNBR,BTLNBR_FLAG_W,DATE,TIME,LATITUDE,LONGITUDE,DEPTH,CTDPRS,CTDTMP,CTDSAL,CTDSAL_FLAG_W,SALNTY,SALNTY_FLAG_W,CTDOXY,CTDOXY_FLAG_W,OXYGEN,OXYGEN_FLAG_W,SILCAT,SILCAT_FLAG_W,NITRAT,NITRAT_FLAG_W,NITRIT,NITRIT_FLAG_W,PHSPHT,PHSPHT_FLAG_W,CFC-11,CFC-11_FLAG_W,CFC-12,CFC-12_FLAG_W,CFC113,CFC113_FLAG_W,TCARBN,TCARBN_FLAG_W,ALKALI,ALKALI_FLAG_W,PH_SWS,PH_SWS_FLAG_W,PH_TMP,TRITUM,TRITUM_FLAG_W,HELIUM,HELIUM_FLAG_W,DELHE3,DELHE3_FLAG_W,REFTMP,REFTMP_FLAG_W,DELC13,DELC13_FLAG_W,DELC14,DELC14_FLAG_W,C14ERR,NEON,NEON_FLAG_W,NEONER,CCL4,CCL4_FLAG_W,ALUMIN,ALUMIN_FLAG_W,DELO18,DELO18_FLAG_W,DOC,DOC_FLAG_W,TDN,TDN_FLAG_W,BTL_DATE,BTL_TIME,BTL_LAT,BTL_LON,TRITER,DELSI30,DELSI30_FLAG_W,CDOM380,CDOM380_FLAG_W,CDOM325,CDOM325_FLAG_W,CDOMSL,CDOMSL_FLAG_W,CDOM340,CDOM340_FLAG_W,CDOM443,CDOM443_FLAG_W,CDOMSN,CDOMSN_FLAG_W,BLACKC,BLACKC_FLAG_W,CDOM490,CDOM490_FLAG_W,CDOM412,CDOM412_FLAG_W,CDOM555,CDOM555_FLAG_W,DELHER,HELIER
,,,,,,,,,,,METERS,DBAR,ITS-90,PSS-78,,PSS-78,,UMOL/KG,,UMOL/KG,,UMOL/KG,,UMOL/KG,,UMOL/KG,,UMOL/KG,,PMOL/KG,,PMOL/KG,,PMOL/KG,,UMOL/KG,,UMOL/KG,,,,DEG C,TU,,NMOL/KG,,PERCNT,,DEG C,,/MILLE,,/MILLE,,/MILLE,NMOL/KG,,NMOL/KG,PMOL/KG,,NMOL/L,,/MILLE,,UMOL/KG,,UMOL/KG,,,,,,TU,/MILLE,,1/M,,1/M,,1/NM,,1/M,,1/M,,1/NM,,,,1/M,,1/M,,1/M,,PERCNT,NMOL/KG
33RR20080204,       I06S,     105,          1,         36,         36,2,20080307,       2324,   -66.0003,    30.1562,       4753,     3.3,  -0.4667,  34.0819,2,  34.0819,2,    338.0,2,   338.0,2,   53.50,2,   27.20,2,    0.23,2,    1.85,2,   6.023,2,   3.257,2,   0.519,2,  2181.7,2,  2310.4,2,   7.8736,2,    13.00,    -999,9,    -999,9,    -999,9,-0.4671,2,-999,9,-999,9,-999,    -999,9,    -999,10.716,2,-999,9,-0.4,2,    -999,9,-999,9, 20080308,     0156, -66.0019,  30.1580,    -999,-999,9,     -999,9,     -999,9,     -999,9,     -999,9,     -999,9,     -999,9,-999,9,     -999,9,     -999,9,     -999,9,    -999,    -999
33RR20080204,       I06S,     105,          1,         35,         35,2,20080307,       2324,   -66.0003,    30.1562,       4753,    20.8,  -0.4635,  34.0816,2,  34.0823,2,    337.7,2,   337.7,2,   53.48,2,   27.14,2,    0.23,2,    1.85,2,   6.088,2,   3.273,2,   0.507,2,  2182.9,2,  2310.9,2,   7.8728,2,    13.00,    -999,9,    -999,9,    -999,9,-0.4639,2,-999,9,-999,9,-999,    -999,9,    -999,11.252,2,-999,9,-0.39,2,    -999,9,-999,9, 20080308,     0154, -66.0018,  30.1580,    -999,-999,9,     -999,9,     -999,9,     -999,9,     -999,9,     -999,9,     -999,9,-999,9,     -999,9,     -999,9,     -999,9,    -999,    -999
33RR20080204,       I06S,     105,          1,         34,         34,2,20080307,       2324,   -66.0003,    30.1562,       4753,    35.8,  -0.4670,  34.0816,2,  34.0898,4,    337.4,2,   336.2,2,   53.28,2,   27.14,2,    0.23,2,    1.85,2,   6.021,2,   3.245,2,   0.517,2,  2182.7,2,  2310.1,2,   7.8727,3,    13.00,    -999,9,    -999,9,    -999,9,-0.4676,2,-999,9,-999,9,-999,    -999,9,    -999,10.577,2,-999,9,-0.27,2,    -999,9,-999,9, 20080308,     0153, -66.0018,  30.1580,    -999,-999,9,     -999,9,     -999,9,     -999,9,     -999,9,     -999,9,     -999,9,-999,9,     -999,9,     -999,9,     -999,9,    -999,    -999
33RR20080204,       I06S,     105,          1,         33,         33,2,20080307,       2324,   -66.0003,    30.1562,       4753,    66.6,  -1.1426,  34.2196,2,  34.0821,3,    334.9,2,   338.2,2,   53.27,2,   27.13,2,    0.23,2,    1.85,2,   5.986,2,   3.252,2,   0.492,2,  2182.8,2,  2310.2,2,   7.8827,4,    13.00,    -999,9,    -999,9,    -999,9,-1.1268,2,-999,9,-999,9,-999,    -999,9,    -999,9.533,2,-999,9,-0.32,2,    -999,9,-999,9, 20080308,     0151, -66.0018,  30.1580,    -999,-999,9,     -999,9,     -999,9,     -999,9,     -999,9,     -999,9,     -999,9,-999,9,     -999,9,     -999,9,     -999,9,    -999,    -999
33RR20080204,       I06S,     105,          1,         32,         32,2,20080307,       2324,   -66.0003,    30.1562,       4753,    92.9,  -1.6538,  34.3565,2,  34.3555,2,    313.0,2,   312.1,2,   63.69,2,   29.83,2,    0.13,2,    2.07,2,   5.162,2,   2.771,2,   0.436,2,  2216.5,2,  2325.6,2,   7.8219,3,    13.00,    -999,9,    -999,9,    -999,9,-1.6523,2,-999,9,-999,9,-999,    -999,9,    -999,7.328,2,-999,9,-0.28,2,    -999,9,-999,9, 20080308,     0149, -66.0018,  30.1580,    -999,-999,9,     -999,9,     -999,9,     -999,9,     -999,9,     -999,9,     -999,9,-999,9,     -999,9,     -999,9,     -999,9,    -999,    -999
33RR20080204,       I06S,     105,          1,         31,         31,2,20080307,       2324,   -66.0003,    30.1562,       4753,   143.6,  -1.2468,  34.4197,2,  34.4158,2,    292.4,2,   291.5,2,   69.12,2,   30.99,2,    0.02,2,    2.12,2,   4.666,2,   2.489,2,   0.397,2,  2224.4,2,  2328.6,2,   7.7972,3,    13.00,    -999,9,    -999,9,    -999,9,-1.2874,3,-999,9,-999,9,-999,    -999,9,    -999,6.234,2,-999,9,-0.22,2,    -999,9,-999,9, 20080308,     0147, -66.0019,  30.1580,    -999,-999,9,     -999,9,     -999,9,     -999,9,     -999,9,     -999,9,     -999,9,-999,9,     -999,9,     -999,9,     -999,9,    -999,    -999
33RR20080204,       I06S,     105,          1,         30,         30,2,20080307,       2324,   -66.0003,    30.1562,       4753,   192.4,  -0.1345,  34.5306,2,  34.5305,2,    235.4,2,   246.5,2,   78.99,2,   31.65,2,    0.01,2,    2.18,2,   3.026,2,   1.596,2,   0.261,2,  2238.6,2,  2336.9,2,   7.7798,2,    13.00,    -999,9,    -999,9,    -999,9,-0.1484,2,-999,9,-999,9,-999,    -999,9,    -999,3.886,2,-999,9,-999,9,    -999,9,-999,9, 20080308,     0144, -66.0018,  30.1579,    -999,-999,9,     -999,9,     -999,9,     -999,9,     -999,9,     -999,9,     -999,9,-999,9,     -999,9,     -999,9,     -999,9,    -999,    -999
33RR20080204,       I06S,     105,          1,         29,         29,2,20080307,       2324,   -66.0003,    30.1562,       4753,   233.8,   0.5354,  34.6042,2,  34.6037,2,    218.7,2,   220.0,2,   85.44,2,   32.09,2,    0.01,2,    2.21,2,   1.983,2,   1.024,2,   0.146,2,  2247.9,2,  2342.4,2,   7.7712,2,    13.00,    -999,9,    -999,9,    -999,9,0.5357,2,-999,9,-999,9,-999,    -999,9,    -999,2.789,2,-999,9,-0.18,2,    -999,9,-999,9, 20080308,     0142, -66.0019,  30.1580,    -999,-999,9,     -999,9,     -999,9,     -999,9,     -999,9,     -999,9,     -999,9,-999,9,     -999,9,     -999,9,     -999,9,    -999,    -999
33RR20080204,       I06S,     105,          1,         28,         28,2,20080307,       2324,   -66.0003,    30.1562,       4753,   283.3,   0.7991,  34.6427,2,  34.6433,2,    211.5,2,   211.2,2,   88.68,2,   32.00,2,    0.00,2,    2.21,2,   1.464,2,   0.767,2,   0.110,2,  2250.8,2,  2345.8,2,   7.7715,3,    13.00,    -999,9,    -999,9,    -999,9,0.8003,2,-999,9,-999,9,-999,    -999,9,    -999,2.206,2,-999,9,-999,9,    -999,9,-999,9, 20080308,     0140, -66.0019,  30.1580,    -999,-999,9,     -999,9,     -999,9,     -999,9,     -999,9,     -999,9,     -999,9,-999,9,     -999,9,     -999,9,     -999,9,    -999,    -999
33RR20080204,       I06S,     105,          1,         27,         27,2,20080307,       2324,   -66.0003,    30.1562,       4753,   334.2,   0.9593,  34.6687,2,  34.6688,2,    210.1,2,   207.1,2,   91.52,2,   31.79,2,    0.00,2,    2.20,2,   1.112,2,   0.601,2,   0.090,2,  2250.7,2,  2349.1,2,   7.7764,2,    13.00,    -999,9,    -999,9,    -999,9,0.9587,2,-999,9,-999,9,-999,    -999,9,    -999,1.857,2,-999,9,-0.13,2,    -999,9,-999,9, 20080308,     0138, -66.0018,  30.1580,    -999,-999,9,     -999,9,     -999,9,     -999,9,     -999,9,     -999,9,     -999,9,-999,9,     -999,9,     -999,9,     -999,9,    -999,    -999
33RR20080204,       I06S,     105,          1,         26,         26,2,20080307,       2324,   -66.0003,    30.1562,       4753,   383.4,   0.9202,  34.6737,2,  34.6708,2,    207.0,2,   208.3,2,   92.32,2,   31.69,2,    0.00,2,    2.18,2,   1.083,2,   0.579,2,   0.111,2,  2249.9,2,  2350.9,2,   7.7782,2,    13.00,    -999,9,    -999,9,    -999,9,0.9204,2,-999,9,-999,9,-999,    -999,9,    -999,1.858,2,-999,9,-999,9,    -999,9,-999,9, 20080308,     0136, -66.0019,  30.1580,    -999,-999,9,     -999,9,     -999,9,     -999,9,     -999,9,     -999,9,     -999,9,-999,9,     -999,9,     -999,9,     -999,9,    -999,    -999
33RR20080204,       I06S,     105,          1,         25,         25,2,20080307,       2324,   -66.0003,    30.1562,       4753,   427.5,   0.8390,  34.6718,2,  34.6694,2,    206.6,2,   211.8,2,   92.52,2,   31.54,2,    0.00,2,    2.17,2,   1.178,2,   0.634,2,   0.093,2,  2249.4,2,  2350.2,2,   7.7815,2,    13.00,    -999,9,    -999,9,    -999,9,0.8379,2,-999,9,-999,9,-999,    -999,9,    -999,1.867,2,-999,9,-0.1,2,    -999,9,-999,9, 20080308,     0134, -66.0018,  30.1580,    -999,-999,9,     -999,9,     -999,9,     -999,9,     -999,9,     -999,9,     -999,9,-999,9,     -999,9,     -999,9,     -999,9,    -999,    -999
33RR20080204,       I06S,     105,          1,         24,         24,2,20080307,       2324,   -66.0003,    30.1562,       4753,   487.3,   0.9786,  34.6932,2,  34.6936,2,    207.2,2,   205.7,2,   96.98,2,   31.59,2,    0.00,2,    2.18,2,   0.778,2,   0.420,2,   0.062,2,  2252.1,2,  2352.3,2,   7.7824,2,    13.00,    -999,9,    -999,9,    -999,9,0.9779,2,-999,9,-999,9,-999,    -999,9,    -999,1.384,2,-999,9,-999,9,    -999,9,-999,9, 20080308,     0132, -66.0018,  30.1580,    -999,-999,9,     -999,9,     -999,9,     -999,9,     -999,9,     -999,9,     -999,9,-999,9,     -999,9,     -999,9,     -999,9,    -999,    -999
33RR20080204,       I06S,     105,          1,         23,         23,2,20080307,       2324,   -66.0003,    30.1562,       4753,   567.8,   0.9670,  34.7006,2,  34.7000,2,    206.2,2,   204.3,2,  100.03,2,   31.63,2,    0.00,2,    2.18,2,   0.616,6,   0.332,6,   0.047,6,  2252.3,2,  2352.9,2,   7.7836,3,    13.00,    -999,9,    -999,9,    -999,9,0.9644,2,-999,9,-999,9,-999,    -999,9,    -999,1.185,2,-999,9,-999,9,    -999,9,-999,9, 20080308,     0106, -66.0003,  30.1562,    -999,-999,9,     -999,9,     -999,9,     -999,9,     -999,9,     -999,9,     -999,9,-999,9,     -999,9,     -999,9,     -999,9,    -999,    -999
33RR20080204,       I06S,     105,          1,         22,         22,2,20080307,       2324,   -66.0003,    30.1562,       4753,   669.1,   0.8613,  34.6984,2,  34.6991,2,    207.9,2,   206.5,2,  102.68,2,   31.62,2,    0.00,2,    2.19,2,   0.581,2,   0.323,2,   0.041,2,  2253.5,2,  2353.1,2,   7.7855,2,    13.00,    -999,9,    -999,9,    -999,9,0.8612,2,-999,9,-999,9,-999,    -999,9,    -999,1.099,2,-999,9,-0.16,2,    -999,9,-999,9, 20080308,     0103, -66.0003,  30.1562,    -999,-999,9,     -999,9,     -999,9,     -999,9,     -999,9,     -999,9,     -999,9,-999,9,     -999,9,     -999,9,     -999,9,    -999,    -999
33RR20080204,       I06S,     105,          1,         21,         21,2,20080307,       2324,   -66.0003,    30.1562,       4753,   769.7,   0.7613,  34.6952,2,  34.6951,2,    208.5,2,   207.4,2,  104.91,2,   31.83,2,    0.00,2,    2.20,2,   0.605,2,   0.330,2,   0.041,2,  2254.7,2,  2353.3,2,   7.7865,4,    13.00,    -999,9,    -999,9,    -999,9,0.7608,2,-999,9,-999,9,-999,    -999,9,    -999,1.145,2,-999,9,-999,9,    -999,9,-999,9, 20080308,     0100, -66.0003,  30.1562,    -999,-999,9,     -999,9,     -999,9,     -999,9,     -999,9,     -999,9,     -999,9,-999,9,     -999,9,     -999,9,     -999,9,    -999,    -999
33RR20080204,       I06S,     105,          1,         20,         20,2,20080307,       2324,   -66.0003,    30.1562,       4753,   869.8,   0.6970,  34.6943,2,  34.6942,2,    208.6,2,   207.5,2,  107.37,2,   31.83,2,    0.00,2,    2.20,2,   0.571,2,   0.307,2,   0.041,2,  2255.1,2,  2355.3,2,   7.7847,2,    13.00,    -999,9,    -999,9,    -999,9,0.6975,2,-999,9,-999,9,-999,    -999,9,    -999,1.08,2,-999,9,-999,9,    -999,9,-999,9, 20080308,     0057, -66.0003,  30.1562,    -999,-999,9,     -999,9,     -999,9,     -999,9,     -999,9,     -999,9,     -999,9,-999,9,     -999,9,     -999,9,     -999,9,    -999,    -999
33RR20080204,       I06S,     105,          1,         19,         19,2,20080307,       2324,   -66.0003,    30.1562,       4753,   970.6,   0.6470,  34.6942,2,  34.6940,2,    208.0,2,   206.8,2,  110.42,2,   32.02,2,    0.00,2,    2.21,2,   0.491,2,   0.270,2,   0.037,2,  2257.3,6,  2356.2,2,   7.7819,3,    13.00,    -999,9,    -999,9,    -999,9,0.6471,2,-999,9,-999,9,-999,    -999,9,    -999,1.114,2,-999,9,-999,9,    -999,9,-999,9, 20080308,     0054, -66.0003,  30.1562,    -999,-999,9,     -999,9,     -999,9,     -999,9,     -999,9,     -999,9,     -999,9,-999,9,     -999,9,     -999,9,     -999,9,    -999,    -999
33RR20080204,       I06S,     105,          1,         18,         18,2,20080307,       2324,   -66.0003,    30.1562,       4753,  1071.9,   0.5715,  34.6909,2,  34.6908,2,    208.9,2,   208.7,2,  112.05,2,   32.22,2,    0.00,2,    2.22,2,   0.495,2,   0.265,2,   0.034,2,    -999,9,  2357.1,2,   7.7811,3,    13.00,    -999,9,    -999,9,    -999,9,0.5717,2,-999,9,-999,9,-999,    -999,9,    -999,1.091,2,-999,9,-0.19,2,    -999,9,-999,9, 20080308,     0051, -66.0003,  30.1562,    -999,-999,9,     -999,9,     -999,9,     -999,9,     -999,9,     -999,9,     -999,9,-999,9,     -999,9,     -999,9,     -999,9,    -999,    -999
33RR20080204,       I06S,     105,          1,         17,         17,2,20080307,       2324,   -66.0003,    30.1562,       4753,  1171.8,   0.5016,  34.6870,2,  34.6873,2,    210.2,2,   210.3,2,  113.27,2,   32.22,2,    0.00,2,    2.22,2,   0.525,2,   0.288,2,   0.037,2,    -999,9,  2357.0,2,   7.7794,3,    13.00,    -999,9,    -999,9,    -999,9,0.5015,2,-999,9,-999,9,-999,    -999,9,    -999,1.138,2,-999,9,-999,9,    -999,9,-999,9, 20080308,     0048, -66.0003,  30.1562,    -999,-999,9,     -999,9,     -999,9,     -999,9,     -999,9,     -999,9,     -999,9,-999,9,     -999,9,     -999,9,     -999,9,    -999,    -999
33RR20080204,       I06S,     105,          1,         16,         16,2,20080307,       2324,   -66.0003,    30.1562,       4753,  1272.3,   0.4326,  34.6834,2,  34.6832,2,    210.9,2,   212.6,2,  114.71,2,   32.27,2,    0.00,2,    2.23,2,   0.552,2,   0.307,2,   0.039,2,    -999,9,  2356.6,2,   7.7800,2,    13.00,    -999,9,    -999,9,    -999,9,0.4333,2,-999,9,-999,9,-999,    -999,9,    -999,1.093,2,-999,9,-999,9,    -999,9,-999,9, 20080308,     0045, -66.0003,  30.1562,    -999,-999,9,     -999,9,     -999,9,     -999,9,     -999,9,     -999,9,     -999,9,-999,9,     -999,9,     -999,9,     -999,9,    -999,    -999
33RR20080204,       I06S,     105,          1,         15,         15,2,20080307,       2324,   -66.0003,    30.1562,       4753,  1373.7,   0.3964,  34.6831,2,  34.6824,2,    210.7,2,   211.7,2,  116.75,2,   32.32,2,    0.00,2,    2.24,2,   0.513,2,   0.282,2,   0.033,2,    -999,9,  2356.0,2,   7.7788,2,    13.00,    -999,9,    -999,9,    -999,9,0.3961,2,-999,9,-999,9,-999,    -999,9,    -999,1.028,2,-999,9,-999,9,    -999,9,-999,9, 20080308,     0042, -66.0003,  30.1561,    -999,-999,9,     -999,9,     -999,9,     -999,9,     -999,9,     -999,9,     -999,9,-999,9,     -999,9,     -999,9,     -999,9,    -999,    -999
33RR20080204,       I06S,     105,          1,         14,         14,2,20080307,       2324,   -66.0003,    30.1562,       4753,  1474.4,   0.3650,  34.6834,2,  34.6836,2,    212.5,2,   211.5,2,  119.41,2,   32.41,2,    0.00,2,    2.25,2,   0.403,2,   0.221,2,   0.021,2,    -999,9,  2357.6,2,   7.7784,2,    13.00,    -999,9,    -999,9,    -999,9,0.3659,2,-999,9,-999,9,-999,    -999,9,    -999,0.955,2,-999,9,-999,9,    -999,9,-999,9, 20080308,     0039, -66.0003,  30.1562,    -999,-999,9,     -999,9,     -999,9,     -999,9,     -999,9,     -999,9,     -999,9,-999,9,     -999,9,     -999,9,     -999,9,    -999,    -999
33RR20080204,       I06S,     105,          1,         13,         13,2,20080307,       2324,   -66.0003,    30.1562,       4753,  1585.3,   0.3182,  34.6812,2,  34.6805,2,    213.0,2,   214.1,2,  120.64,2,   32.51,2,    0.00,2,    2.25,2,   0.418,2,   0.236,2,   0.027,2,    -999,9,  2357.1,2,   7.7794,2,    13.00,    -999,9,    -999,9,    -999,9,0.3181,2,-999,9,-999,9,-999,    -999,9,    -999,0.988,2,-999,9,-999,9,    -999,9,-999,9, 20080308,     0036, -66.0003,  30.1561,    -999,-999,9,     -999,9,     -999,9,     -999,9,     -999,9,     -999,9,     -999,9,-999,9,     -999,9,     -999,9,     -999,9,    -999,    -999
33RR20080204,       I06S,     105,          1,         12,         12,2,20080307,       2324,   -66.0003,    30.1562,       4753,  1685.8,   0.2690,  34.6786,2,  34.6785,2,    214.1,2,   214.4,2,  121.05,2,   32.46,2,    0.00,2,    2.25,2,   0.429,2,   0.243,2,   0.030,2,    -999,9,  2357.0,2,   7.7785,2,    13.00,    -999,9,    -999,9,    -999,9,0.2679,2,-999,9,-999,9,-999,    -999,9,    -999,1.091,2,-999,9,-0.17,2,    -999,9,-999,9, 20080308,     0033, -66.0003,  30.1561,    -999,-999,9,     -999,9,     -999,9,     -999,9,     -999,9,     -999,9,     -999,9,-999,9,     -999,9,     -999,9,     -999,9,    -999,    -999
33RR20080204,       I06S,     105,          1,         11,         11,2,20080307,       2324,   -66.0003,    30.1562,       4753,  1787.8,   0.2304,  34.6768,2,  34.6773,2,    215.8,2,   216.5,2,  121.67,2,   32.50,2,    0.00,2,    2.25,2,   0.437,2,   0.249,2,   0.025,2,    -999,9,  2356.7,2,   7.7802,2,    13.00,    -999,9,    -999,9,    -999,9,0.2307,2,-999,9,-999,9,-999,    -999,9,    -999,1.16,2,-999,9,-999,9,    -999,9,-999,9, 20080308,     0030, -66.0003,  30.1561,    -999,-999,9,     -999,9,     -999,9,     -999,9,     -999,9,     -999,9,     -999,9,-999,9,     -999,9,     -999,9,     -999,9,    -999,    -999
33RR20080204,       I06S,     105,          1,         10,         10,2,20080307,       2324,   -66.0003,    30.1562,       4753,  1989.5,   0.1441,  34.6722,2,  34.6722,2,    220.1,2,   220.1,2,  121.26,2,   32.45,2,    0.00,2,    2.23,2,   0.547,2,   0.314,2,   0.036,2,    -999,9,  2355.3,2,   7.7822,2,    13.00,    -999,9,    -999,9,    -999,9,0.1447,2,-999,9,-999,9,-999,    -999,9,    -999,1.217,2,-999,9,-999,9,    -999,9,-999,9, 20080308,     0025, -66.0003,  30.1563,    -999,-999,9,     -999,9,     -999,9,     -999,9,     -999,9,     -999,9,     -999,9,-999,9,     -999,9,     -999,9,     -999,9,    -999,    -999
33RR20080204,       I06S,     105,          1,          9,          9,2,20080307,       2324,   -66.0003,    30.1562,       4753,  2283.9,   0.0559,  34.6691,2,  34.6681,2,    223.5,2,   222.9,2,  122.08,2,   32.41,2,    0.00,2,    2.25,2,   0.586,2,   0.326,2,   0.046,2,    -999,9,  2355.0,2,   7.7833,2,    13.00,    -999,9,    -999,9,    -999,9,0.0566,2,-999,9,-999,9,-999,    -999,9,    -999,1.232,2,-999,9,-999,9,    -999,9,-999,9, 20080308,     0019, -66.0003,  30.1563,    -999,-999,9,     -999,9,     -999,9,     -999,9,     -999,9,     -999,9,     -999,9,-999,9,     -999,9,     -999,9,     -999,9,    -999,    -999
33RR20080204,       I06S,     105,          1,          8,          8,2,20080307,       2324,   -66.0003,    30.1562,       4753,  2596.9,  -0.0243,  34.6655,2,  34.6650,2,    228.0,2,   228.0,2,  122.90,2,   32.30,2,    0.00,2,    2.24,2,   0.666,2,   0.363,2,   0.048,2,    -999,9,  2355.1,2,   7.7851,2,    13.00,    -999,9,    -999,9,    -999,9,-0.024,2,-999,9,-999,9,-999,    -999,9,    -999,1.472,2,-999,9,-999,9,    -999,9,-999,9, 20080308,     0012, -66.0003,  30.1562,    -999,-999,9,     -999,9,     -999,9,     -999,9,     -999,9,     -999,9,     -999,9,-999,9,     -999,9,     -999,9,     -999,9,    -999,    -999