BOTTLE,20220706CCHSIOAMB
EXPOCODE,SECT_ID,STNNBR,CASTNO,SAMPNO,BTLNBR,BTLNBR_FLAG_W,DATE,TIME,LATITUDE,LONGITUDE,DEPTH,CTDPRS,CTDTMP,CTDSAL,CTDSAL_FLAG_W,SALNTY,SALNTY_FLAG_W,CTDOXY,CTDOXY_FLAG_W,OXYGEN,OXYGEN_FLAG_W,SILCAT,SILCAT_FLAG_W,NITRAT,NITRAT_FLAG_W,NITRIT,NITRIT_FLAG_W,PHSPHT,PHSPHT_FLAG_W,CFC-11,CFC-11_FLAG_W,CFC-12,CFC-12_FLAG_W,CFC113,CFC113_FLAG_W,TCARBN,TCARBN_FLAG_W,ALKALI,ALKALI_FLAG_W,PH_SWS,PH_SWS_FLAG_W,PH_TMP,TRITUM,TRITUM_FLAG_W,HELIUM,HELIUM_FLAG_W,DELHE3,DELHE3_FLAG_W,REFTMP,REFTMP_FLAG_W,DELC13,DELC13_FLAG_W,DELC14,DELC14_FLAG_W,C14ERR,NEON,NEON_FLAG_W,NEONER,CCL4,CCL4_FLAG_W,ALUMIN,ALUMIN_FLAG_W,DELO18,DELO18_FLAG_W,DOC,DOC_FLAG_W,TDN,TDN_FLAG_W,BTL_DATE,BTL_TIME,BTL_LAT,BTL_LON,TRITER,DELSI30,DELSI30_FLAG_W,CDOM380,CDOM380_FLAG_W,CDOM325,CDOM325_FLAG_W,CDOMSL,CDOMSL_FLAG_W,CDOM340,CDOM340_FLAG_W,CDOM443,CDOM443_FLAG_W,CDOMSN,CDOMSN_FLAG_W,BLACKC,BLACKC_FLAG_W,CDOM490,CDOM490_FLAG_W,CDOM412,CDOM412_FLAG_W,CDOM555,CDOM555_FLAG_W,DELHER,HELIER
,,,,,,,,,,,METERS,DBAR,ITS-90,PSS-78,,PSS-78,,UMOL/KG,,UMOL/KG,,UMOL/KG,,UMOL/KG,,UMOL/KG,,UMOL/KG,,PMOL/KG,,PMOL/KG,,PMOL/KG,,UMOL/KG,,UMOL/KG,,,,DEG C,TU,,NMOL/KG,,PERCNT,,DEG C,,/MILLE,,/MILLE,,/MILLE,NMOL/KG,,NMOL/KG,PMOL/KG,,NMOL/L,,/MILLE,,UMOL/KG,,UMOL/KG,,,,,,TU,/MILLE,,1/M,,1/M,,1/NM,,1/M,,1/M,,1/NM,,,,1/M,,1/M,,1/M,,PERCNT,NMOL/KG
33RR20080204,       I06S,     106,          1,          7,          7,2,20080308,       0610,   -65.5000,    30.0001,       4709,  3007.4,  -0.0794,  34.6655,2,  34.6632,2,    230.1,2,   229.5,2,  125.95,2,   32.39,2,    0.00,2,    2.25,2,   0.459,2,   0.246,2,   0.032,2,  2253.7,2,  2355.5,2,   7.7858,2,    13.00,    -999,9,    -999,9,    -999,9,-999,9,0.86,3,-161.8,2,3.2,    -999,9,    -999,1.279,2,-999,9,-999,9,   39.41,2,-999,1, 20080308,     0647, -65.5000,  30.0000,    -999,-999,9,     -999,9,     -999,9,     -999,9,     -999,9,     -999,9,     -999,9,-999,9,     -999,9,     -999,9,     -999,9,    -999,    -999
33RR20080204,       I06S,     106,          1,          6,          6,2,20080308,       0610,   -65.5000,    30.0001,       4709,  3312.5,  -0.1363,  34.6620,2,  34.6607,2,    233.4,2,   232.8,2,  125.53,2,   32.29,2,    0.00,2,    2.25,2,   0.525,2,   0.274,2,   0.036,2,  2148.1,4,  2354.1,2,   7.7894,2,    13.00,    -999,9,    -999,9,    -999,9,-999,9,0.63,2,-160.7,2,1.8,    -999,9,    -999,1.411,2,-999,9,-999,9,    -999,9,-999,9, 20080308,     0641, -65.5000,  30.0000,    -999,-999,1,     -999,9,     -999,9,     -999,9,     -999,9,     -999,9,     -999,9,-999,9,     -999,9,     -999,9,     -999,9,    -999,    -999
33RR20080204,       I06S,     106,          1,          5,          5,2,20080308,       0610,   -65.5000,    30.0001,       4709,  3623.1,  -0.1915,  34.6584,2,  34.6576,4,    237.6,2,   237.1,2,  124.50,2,   32.19,2,    0.00,2,    2.24,2,   0.685,2,   0.360,2,   0.045,2,  2252.7,2,  2353.6,2,   7.7901,2,    13.00,    -999,9,    -999,9,    -999,9,-999,9,0.66,2,-156.5,2,2.4,    -999,9,    -999,1.602,2,-999,9,-999,9,   41.17,2,-999,1, 20080308,     0634, -65.5000,  30.0000,    -999,-999,9,     -999,9,     -999,9,     -999,9,     -999,9,     -999,9,     -999,9,-999,9,     -999,9,     -999,9,     -999,9,    -999,    -999
33RR20080204,       I06S,     106,          1,          4,          4,2,20080308,       0610,   -65.5000,    30.0001,       4709,  3927.9,  -0.2224,  34.6563,2,  34.6540,2,    240.0,2,   239.3,2,  125.72,2,   32.14,2,    0.00,2,    2.24,2,   0.694,2,   0.375,2,   0.046,2,  2250.2,2,  2353.4,2,   7.7921,2,    13.00,    -999,9,    -999,9,    -999,9,-999,9,0.64,2,-161.1,2,2.1,    -999,9,    -999,1.587,2,-999,9,-999,9,    -999,9,-999,9, 20080308,     0628, -65.5000,  30.0000,    -999,-999,1,     -999,9,     -999,9,     -999,9,     -999,9,     -999,9,     -999,9,-999,9,     -999,9,     -999,9,     -999,9,    -999,    -999
33RR20080204,       I06S,     106,          1,          3,          3,2,20080308,       0610,   -65.5000,    30.0001,       4709,  4235.4,  -0.2480,  34.6550,2,  34.6534,2,    242.2,2,   241.5,2,  127.34,2,   32.19,2,    0.00,2,    2.24,2,   0.636,2,   0.340,2,   0.050,2,  2249.3,2,  2353.6,2,   7.7973,3,    13.00,    -999,9,    -999,9,    -999,9,-999,9,0.71,2,-159.7,2,1.9,    -999,9,    -999,1.576,2,-999,9,-999,9,   41.37,2,-999,1, 20080308,     0622, -65.5000,  30.0000,    -999,-999,9,     -999,9,     -999,9,     -999,9,     -999,9,     -999,9,     -999,9,-999,9,     -999,9,     -999,9,     -999,9,    -999,    -999
33RR20080204,       I06S,     106,          1,          2,          2,2,20080308,       0610,   -65.5000,    30.0001,       4709,  4540.9,  -0.2653,  34.6539,2,  34.6531,2,    242.9,2,   242.9,2,  130.80,2,   32.18,2,    0.00,2,    2.24,2,   0.568,2,   0.308,2,   0.050,2,  2249.3,2,  2353.3,2,   7.7957,2,    13.00,    -999,9,    -999,9,    -999,9,-999,9,0.68,2,-158.9,2,1.8,    -999,9,    -999,1.538,2,-999,9,-999,9,   39.71,2,-999,1, 20080308,     0616, -65.5000,  30.0000,    -999,-999,9,     -999,9,     -999,9,     -999,9,     -999,9,     -999,9,     -999,9,-999,9,     -999,9,     -999,9,     -999,9,    -999,    -999
33RR20080204,       I06S,     106,          1,          1,          1,2,20080308,       0610,   -65.5000,    30.0001,       4709,  4795.8,  -0.3040,  34.6518,2,  34.6515,2,    242.7,2,   243.6,2,  135.50,2,   32.29,2,    0.00,2,    2.25,2,   0.443,2,   0.236,2,   0.039,2,  2250.3,6,  2353.7,2,   7.7968,2,    13.00,    -999,9,    -999,9,    -999,9,-999,9,0.68,2,-158.1,2,2.7,    -999,9,    -999,1.508,2,-999,9,-999,9,   39.51,2,-999,1, 20080308,     0610, -65.5000,  30.0001,    -999,-999,1,     -999,9,     -999,9,     -999,9,     -999,9,     -999,9,     -999,9,-999,9,     -999,9,     -999,9,     -999,9,    -999,    -999