BOTTLE,20220706CCHSIOAMB
EXPOCODE,SECT_ID,STNNBR,CASTNO,SAMPNO,BTLNBR,BTLNBR_FLAG_W,DATE,TIME,LATITUDE,LONGITUDE,DEPTH,CTDPRS,CTDTMP,CTDSAL,CTDSAL_FLAG_W,SALNTY,SALNTY_FLAG_W,CTDOXY,CTDOXY_FLAG_W,OXYGEN,OXYGEN_FLAG_W,SILCAT,SILCAT_FLAG_W,NITRAT,NITRAT_FLAG_W,NITRIT,NITRIT_FLAG_W,PHSPHT,PHSPHT_FLAG_W,CFC-11,CFC-11_FLAG_W,CFC-12,CFC-12_FLAG_W,CFC113,CFC113_FLAG_W,TCARBN,TCARBN_FLAG_W,ALKALI,ALKALI_FLAG_W,PH_SWS,PH_SWS_FLAG_W,PH_TMP,TRITUM,TRITUM_FLAG_W,HELIUM,HELIUM_FLAG_W,DELHE3,DELHE3_FLAG_W,REFTMP,REFTMP_FLAG_W,DELC13,DELC13_FLAG_W,DELC14,DELC14_FLAG_W,C14ERR,NEON,NEON_FLAG_W,NEONER,CCL4,CCL4_FLAG_W,ALUMIN,ALUMIN_FLAG_W,DELO18,DELO18_FLAG_W,DOC,DOC_FLAG_W,TDN,TDN_FLAG_W,BTL_DATE,BTL_TIME,BTL_LAT,BTL_LON,TRITER,DELSI30,DELSI30_FLAG_W,CDOM380,CDOM380_FLAG_W,CDOM325,CDOM325_FLAG_W,CDOMSL,CDOMSL_FLAG_W,CDOM340,CDOM340_FLAG_W,CDOM443,CDOM443_FLAG_W,CDOMSN,CDOMSN_FLAG_W,BLACKC,BLACKC_FLAG_W,CDOM490,CDOM490_FLAG_W,CDOM412,CDOM412_FLAG_W,CDOM555,CDOM555_FLAG_W,DELHER,HELIER
,,,,,,,,,,,METERS,DBAR,ITS-90,PSS-78,,PSS-78,,UMOL/KG,,UMOL/KG,,UMOL/KG,,UMOL/KG,,UMOL/KG,,UMOL/KG,,PMOL/KG,,PMOL/KG,,PMOL/KG,,UMOL/KG,,UMOL/KG,,,,DEG C,TU,,NMOL/KG,,PERCNT,,DEG C,,/MILLE,,/MILLE,,/MILLE,NMOL/KG,,NMOL/KG,PMOL/KG,,NMOL/L,,/MILLE,,UMOL/KG,,UMOL/KG,,,,,,TU,/MILLE,,1/M,,1/M,,1/NM,,1/M,,1/M,,1/NM,,,,1/M,,1/M,,1/M,,PERCNT,NMOL/KG
33RR20080204,       I06S,      90,          1,         30,         30,2,20080304,       1351,   -68.5413,    31.7309,        344,     6.1,  -1.5929,  33.7346,2,  33.7253,2,    339.4,2,   339.5,2,   49.44,2,   25.63,2,    0.13,2,    1.81,2,   6.059,2,   3.372,2,   0.528,2,  2158.2,2,  2287.5,2,   7.8890,2,    13.00,   0.127,2,    -999,1,    -999,9,-999,9,-999,9,-999,9,-999,    -999,9,    -999,8.025,2,-999,9,-999,9,    -999,9,-999,9, 20080304,     1404, -68.5418,  31.7265,   0.009,-999,9,   0.0363,2,   0.1066,2,   0.0152,3,   0.0718,2,   0.0156,2,   0.0153,3,-999,9,   0.0064,2,   0.0250,2,   0.0014,2,    -999,    -999
33RR20080204,       I06S,      90,          1,         28,         28,2,20080304,       1351,   -68.5413,    31.7309,        344,     7.5,  -1.5925,  33.7349,2,  33.7298,2,    339.4,2,   340.0,2,   49.42,2,   25.62,2,    0.13,2,    1.81,2,    -999,9,    -999,9,    -999,9,    -999,9,    -999,9,     -999,9,     -999,    -999,9,    -999,9,    -999,9,-1.5929,2,-999,9,-999,9,-999,    -999,9,    -999,-999,9,-999,9,-0.27,2,    -999,9,-999,1, 20080304,     1404, -68.5418,  31.7266,    -999,-999,9,     -999,9,     -999,9,     -999,9,     -999,9,     -999,9,     -999,9,-999,9,     -999,9,     -999,9,     -999,9,    -999,    -999
33RR20080204,       I06S,      90,          1,         26,         26,2,20080304,       1351,   -68.5413,    31.7309,        344,    19.4,  -1.5927,  33.7349,2,  33.7318,2,    339.1,2,   339.8,2,   49.41,2,   25.58,2,    0.13,2,    1.81,2,   6.063,2,   3.338,2,   0.485,2,  2157.2,2,  2287.9,2,   7.8887,2,    13.00,    -999,9,    -999,9,    -999,9,-999,9,-999,9,-999,9,-999,    -999,9,    -999,7.369,2,-999,9,-0.36,2,    -999,9,-999,1, 20080304,     1403, -68.5417,  31.7270,    -999,-999,9,   0.0320,2,   0.0984,2,   0.0161,3,   0.0647,2,   0.0128,2,   0.0162,3,-999,9,   0.0046,2,   0.0212,2,   0.0004,4,    -999,    -999
33RR20080204,       I06S,      90,          1,         24,         24,2,20080304,       1351,   -68.5413,    31.7309,        344,    20.1,  -1.5919,  33.7350,2,  33.7308,2,    339.1,2,   340.9,2,   49.40,2,   25.61,2,    0.13,2,    1.80,2,    -999,9,    -999,9,    -999,9,    -999,9,    -999,9,     -999,9,     -999,    -999,9,    -999,9,    -999,9,-1.593,2,-999,9,-999,9,-999,    -999,9,    -999,-999,9,-999,9,-999,9,    -999,9,-999,9, 20080304,     1403, -68.5417,  31.7270,    -999,-999,9,     -999,9,     -999,9,     -999,9,     -999,9,     -999,9,     -999,9,-999,1,     -999,9,     -999,9,     -999,9,    -999,    -999
33RR20080204,       I06S,      90,          1,         22,         22,2,20080304,       1351,   -68.5413,    31.7309,        344,    36.5,  -1.6084,  33.7320,2,  33.7273,2,    339.6,2,   339.3,2,   49.39,2,   25.66,2,    0.13,2,    1.81,2,   6.055,2,   3.364,2,   0.464,2,  2158.4,2,  2286.8,2,   7.8899,2,    13.00,    -999,9,    -999,9,    -999,9,-1.6038,2,-999,9,-999,9,-999,    -999,9,    -999,7.113,2,-999,9,-0.24,2,    -999,9,-999,1, 20080304,     1402, -68.5418,  31.7276,    -999,-999,9,   0.0306,2,   0.1029,2,   0.0166,3,   0.0677,2,   0.0124,2,   0.0181,3,-999,9,   0.0039,2,   0.0211,2,   0.0001,4,    -999,    -999
33RR20080204,       I06S,      90,          1,         20,         20,2,20080304,       1351,   -68.5413,    31.7309,        344,    63.7,  -1.6303,  33.8827,2,  33.8563,4,    333.9,2,   331.0,2,   52.77,2,   26.99,2,    0.13,2,    1.90,2,   5.827,2,   3.225,2,   0.462,2,  2173.1,2,  2294.0,2,   7.8661,2,    13.00,    -999,9,    -999,9,    -999,9,-1.632,2,-999,9,-999,9,-999,    -999,9,    -999,6.764,2,-999,9,-0.26,2,    -999,9,-999,1, 20080304,     1401, -68.5418,  31.7284,    -999,-999,9,   0.0337,2,   0.1034,2,   0.0149,3,   0.0677,2,   0.0152,2,   0.0150,3,-999,9,   0.0063,2,   0.0242,2,   0.0059,4,    -999,    -999
33RR20080204,       I06S,      90,          1,         18,         18,2,20080304,       1351,   -68.5413,    31.7309,        344,    90.5,  -1.7485,  34.1267,2,  34.1324,2,    321.1,2,   319.9,2,   58.95,2,   29.71,2,    0.12,2,    2.08,2,   5.609,2,   3.083,2,   0.429,2,  2201.6,2,  2309.8,2,   7.8214,2,    13.00,   0.083,2,    -999,1,    -999,9,-1.7492,2,-999,9,-999,9,-999,    -999,9,    -999,6.318,2,-999,9,-0.27,2,    -999,9,-999,1, 20080304,     1359, -68.5417,  31.7290,   0.009,-999,9,   0.0426,2,   0.1145,2,   0.0135,3,   0.0787,2,   0.0207,2,   0.0133,3,-999,9,   0.0100,2,   0.0310,2,   0.0039,2,    -999,    -999
33RR20080204,       I06S,      90,          1,         16,         16,2,20080304,       1351,   -68.5413,    31.7309,        344,   141.7,  -1.7700,  34.2407,2,  34.2348,2,    312.4,2,   312.4,2,   60.94,2,   30.50,2,    0.08,2,    2.12,2,   5.300,2,   2.940,2,   0.436,2,  2211.4,2,  2315.9,2,   7.8116,2,    13.00,    -999,9,    -999,9,    -999,9,-1.768,2,-999,9,-999,9,-999,    -999,9,    -999,6.635,2,-999,9,-0.28,2,    -999,9,-999,1, 20080304,     1358, -68.5415,  31.7297,    -999,-999,9,   0.0304,2,   0.0958,2,   0.0161,3,   0.0613,2,   0.0122,2,   0.0162,3,-999,9,   0.0040,2,   0.0206,2,   0.0005,4,    -999,    -999
33RR20080204,       I06S,      90,          1,         12,         12,2,20080304,       1351,   -68.5413,    31.7309,        344,   191.6,  -1.7271,  34.2772,2,  34.2693,2,    309.1,2,   309.9,2,   62.12,2,   30.56,2,    0.06,2,    2.11,2,   5.347,2,   2.880,2,   0.422,2,  2213.2,2,  2318.2,2,   7.8112,2,    13.00,   0.095,2,    -999,1,    -999,9,-1.7356,2,-999,9,-999,9,-999,    -999,9,    -999,6.668,2,-999,9,-0.18,2,    -999,9,-999,1, 20080304,     1356, -68.5413,  31.7300,   0.009,-999,9,   0.0333,2,   0.1004,2,   0.0157,3,   0.0658,2,   0.0137,2,   0.0158,3,-999,9,   0.0046,2,   0.0226,2,   0.0007,2,    -999,    -999
33RR20080204,       I06S,      90,          1,         14,         14,2,20080304,       1351,   -68.5413,    31.7309,        344,   191.8,  -1.7366,  34.2742,2,  34.2719,2,    309.1,2,   309.7,2,   62.13,2,   30.62,2,    0.06,2,    2.12,2,    -999,9,    -999,9,    -999,9,    -999,9,  2317.6,2,   7.8106,2,    13.00,    -999,9,    -999,9,    -999,9,-999,9,-999,9,-999,9,-999,    -999,9,    -999,-999,9,-999,9,-999,9,    -999,9,-999,9, 20080304,     1356, -68.5413,  31.7300,    -999,-999,9,     -999,9,     -999,9,     -999,9,     -999,9,     -999,9,     -999,9,-999,1,     -999,9,     -999,9,     -999,9,    -999,    -999
33RR20080204,       I06S,      90,          1,         10,         10,2,20080304,       1351,   -68.5413,    31.7309,        344,   234.0,  -1.4759,  34.3285,2,  34.3250,2,    298.5,2,   299.0,2,   65.51,2,   30.90,2,    0.03,2,    2.13,2,   4.885,2,   2.642,2,   0.365,2,  2217.8,2,  2321.4,2,   7.8070,2,    13.00,    -999,9,    -999,9,    -999,9,-1.4777,2,-999,9,-999,9,-999,    -999,9,    -999,5.658,2,-999,9,-0.31,2,    -999,9,-999,1, 20080304,     1355, -68.5413,  31.7299,    -999,-999,9,   0.0348,2,   0.1084,2,   0.0158,3,   0.0717,2,   0.0146,2,   0.0161,3,-999,9,   0.0053,2,   0.0240,2,   0.0010,3,    -999,    -999
33RR20080204,       I06S,      90,          1,          8,          8,2,20080304,       1351,   -68.5413,    31.7309,        344,   274.0,  -0.7258,  34.4350,2,  34.4329,2,    269.8,2,   267.9,2,   79.77,2,   31.16,2,    0.07,2,    2.16,2,   3.510,2,   1.881,2,   0.265,2,  2229.3,2,  2331.8,2,   7.7981,2,    13.00,    -999,9,    -999,9,    -999,9,-0.726,2,-999,9,-999,9,-999,    -999,9,    -999,4.326,2,-999,9,-0.17,2,    -999,9,-999,1, 20080304,     1354, -68.5412,  31.7301,    -999,-999,9,   0.0381,2,   0.1127,2,   0.0157,3,   0.0757,2,   0.0159,2,   0.0159,3,-999,9,   0.0059,2,   0.0256,2,   0.0013,2,    -999,    -999
33RR20080204,       I06S,      90,          1,          6,          6,2,20080304,       1351,   -68.5413,    31.7309,        344,   302.9,  -0.6071,  34.4610,2,  34.4611,2,    261.5,2,   262.5,2,   81.97,2,   31.32,2,    0.06,2,    2.16,2,   2.997,2,   1.688,2,   0.306,2,  2231.2,2,  2332.9,2,   7.7951,2,    13.00,    -999,9,    -999,9,    -999,9,-0.6086,2,-999,9,-999,9,-999,    -999,9,    -999,3.979,2,-999,9,-0.19,2,    -999,9,-999,1, 20080304,     1353, -68.5412,  31.7303,    -999,-999,9,   0.0460,2,   0.1258,2,   0.0141,3,   0.0870,2,   0.0216,2,   0.0139,3,-999,9,   0.0102,2,   0.0325,2,   0.0039,2,    -999,    -999
33RR20080204,       I06S,      90,          1,          4,          4,2,20080304,       1351,   -68.5413,    31.7309,        344,   330.4,  -0.2862,  34.5270,2,  34.5266,2,    248.6,2,   248.6,2,   88.62,2,   31.52,2,    0.05,2,    2.19,2,    -999,9,    -999,9,    -999,9,    -999,9,    -999,9,     -999,9,     -999,    -999,9,    -999,9,    -999,9,-999,9,-999,9,-999,9,-999,    -999,9,    -999,-999,9,-999,9,-999,9,    -999,9,-999,9, 20080304,     1351, -68.5412,  31.7312,    -999,-999,9,     -999,9,     -999,9,     -999,9,     -999,9,     -999,9,     -999,9,-999,9,     -999,9,     -999,9,     -999,9,    -999,    -999
33RR20080204,       I06S,      90,          1,          2,          2,2,20080304,       1351,   -68.5413,    31.7309,        344,   330.5,  -0.2862,  34.5269,2,  34.5251,2,    248.6,2,   249.1,2,   88.62,2,   31.47,2,    0.06,2,    2.19,2,   2.523,2,   1.386,2,   0.223,2,  2238.4,6,    -999,9,   7.7908,2,    13.00,   0.018,2,    -999,1,    -999,9,-0.2867,2,-999,9,-999,9,-999,    -999,9,    -999,3.204,2,-999,9,-0.09,2,    -999,9,-999,1, 20080304,     1351, -68.5412,  31.7312,   0.009,-999,9,   0.0549,2,   0.1418,2,   0.0135,3,   0.1009,2,   0.0261,2,   0.0135,3,-999,9,   0.0135,2,   0.0381,2,   0.0058,2,    -999,    -999