BOTTLE,20220706CCHSIOAMB
EXPOCODE,SECT_ID,STNNBR,CASTNO,SAMPNO,BTLNBR,BTLNBR_FLAG_W,DATE,TIME,LATITUDE,LONGITUDE,DEPTH,CTDPRS,CTDTMP,CTDSAL,CTDSAL_FLAG_W,SALNTY,SALNTY_FLAG_W,CTDOXY,CTDOXY_FLAG_W,OXYGEN,OXYGEN_FLAG_W,SILCAT,SILCAT_FLAG_W,NITRAT,NITRAT_FLAG_W,NITRIT,NITRIT_FLAG_W,PHSPHT,PHSPHT_FLAG_W,CFC-11,CFC-11_FLAG_W,CFC-12,CFC-12_FLAG_W,CFC113,CFC113_FLAG_W,TCARBN,TCARBN_FLAG_W,ALKALI,ALKALI_FLAG_W,PH_SWS,PH_SWS_FLAG_W,PH_TMP,TRITUM,TRITUM_FLAG_W,HELIUM,HELIUM_FLAG_W,DELHE3,DELHE3_FLAG_W,REFTMP,REFTMP_FLAG_W,DELC13,DELC13_FLAG_W,DELC14,DELC14_FLAG_W,C14ERR,NEON,NEON_FLAG_W,NEONER,CCL4,CCL4_FLAG_W,ALUMIN,ALUMIN_FLAG_W,DELO18,DELO18_FLAG_W,DOC,DOC_FLAG_W,TDN,TDN_FLAG_W,BTL_DATE,BTL_TIME,BTL_LAT,BTL_LON,TRITER,DELSI30,DELSI30_FLAG_W,CDOM380,CDOM380_FLAG_W,CDOM325,CDOM325_FLAG_W,CDOMSL,CDOMSL_FLAG_W,CDOM340,CDOM340_FLAG_W,CDOM443,CDOM443_FLAG_W,CDOMSN,CDOMSN_FLAG_W,BLACKC,BLACKC_FLAG_W,CDOM490,CDOM490_FLAG_W,CDOM412,CDOM412_FLAG_W,CDOM555,CDOM555_FLAG_W,DELHER,HELIER
,,,,,,,,,,,METERS,DBAR,ITS-90,PSS-78,,PSS-78,,UMOL/KG,,UMOL/KG,,UMOL/KG,,UMOL/KG,,UMOL/KG,,UMOL/KG,,PMOL/KG,,PMOL/KG,,PMOL/KG,,UMOL/KG,,UMOL/KG,,,,DEG C,TU,,NMOL/KG,,PERCNT,,DEG C,,/MILLE,,/MILLE,,/MILLE,NMOL/KG,,NMOL/KG,PMOL/KG,,NMOL/L,,/MILLE,,UMOL/KG,,UMOL/KG,,,,,,TU,/MILLE,,1/M,,1/M,,1/NM,,1/M,,1/M,,1/NM,,,,1/M,,1/M,,1/M,,PERCNT,NMOL/KG
33RR20080204,       I06S,      22,          1,          6,          6,2,20080211,       2134,   -38.0102,    30.0611,       4094,  2948.8,   2.3150,  34.8200,2,  34.8191,2,    215.8,2,   218.2,2,   65.32,2,   26.50,2,    0.00,2,    1.81,2,   0.038,2,   0.018,2,  -0.002,2,    -999,9,    -999,9,     -999,9,     -999,    -999,9,    -999,9,    -999,9,2.3138,2,-999,9,-999,9,-999,    -999,9,    -999,0.556,2,-999,9,-999,9,    -999,9,-999,9, 20080211,     2203, -38.0164,  30.0711,    -999,-999,9,     -999,9,     -999,9,     -999,9,     -999,9,     -999,9,     -999,9,-999,9,     -999,9,     -999,9,     -999,9,    -999,    -999
33RR20080204,       I06S,      22,          1,          5,          5,2,20080211,       2134,   -38.0102,    30.0611,       4094,  3253.8,   2.1003,  34.8088,2,  34.8071,2,    217.0,2,   218.0,2,   71.22,2,   27.10,2,    0.00,2,    1.85,2,   0.079,4,   0.052,4,   0.005,4,    -999,9,  2348.9,2,     -999,9,     -999,    -999,9,    -999,9,    -999,9,2.1002,2,-999,9,-999,9,-999,    -999,9,    -999,0.712,4,-999,9,-999,9,    -999,9,-999,9, 20080211,     2155, -38.0151,  30.0679,    -999,-999,9,     -999,9,     -999,9,     -999,9,     -999,9,     -999,9,     -999,9,-999,9,     -999,9,     -999,9,     -999,9,    -999,    -999
33RR20080204,       I06S,      22,          1,          4,          4,2,20080211,       2134,   -38.0102,    30.0611,       4094,  3550.1,   1.7760,  34.7859,2,  34.7847,2,    217.2,2,   217.0,2,   82.85,2,   28.11,2,    0.00,2,    1.92,2,   0.045,2,   0.025,2,  -0.001,2,    -999,9,  2354.9,2,     -999,9,     -999,    -999,9,    -999,9,    -999,9,1.7761,2,-999,9,-999,9,-999,    -999,9,    -999,0.869,2,-999,9,-999,9,    -999,9,-999,9, 20080211,     2148, -38.0134,  30.0652,    -999,-999,9,     -999,9,     -999,9,     -999,9,     -999,9,     -999,9,     -999,9,-999,9,     -999,9,     -999,9,     -999,9,    -999,    -999
33RR20080204,       I06S,      22,          1,          3,          3,4,20080211,       2134,   -38.0102,    30.0611,       4094,  3854.3,   1.3981,  34.7571,2,  34.7564,4,     -999,9,    -999,9,   96.14,4,   29.48,4,    0.00,4,    2.02,4,    -999,9,    -999,9,    -999,9,    -999,9,  2359.9,2,     -999,9,     -999,    -999,9,    -999,9,    -999,9,1.398,2,-999,9,-999,9,-999,    -999,9,    -999,-999,9,-999,9,-999,9,    -999,9,-999,9, 20080211,     2142, -38.0120,  30.0634,    -999,-999,9,     -999,9,     -999,9,     -999,9,     -999,9,     -999,9,     -999,9,-999,9,     -999,9,     -999,9,     -999,9,    -999,    -999
33RR20080204,       I06S,      22,          1,          2,          2,2,20080211,       2134,   -38.0102,    30.0611,       4094,  3856.6,   1.3961,  34.7571,2,  34.7562,2,    217.1,2,   216.5,2,   95.32,2,   29.53,2,    0.00,2,    2.03,2,   0.061,2,   0.036,2,   0.019,2,    -999,9,  2363.6,2,     -999,9,     -999,    -999,9,    -999,9,    -999,9,1.3958,2,-999,9,-999,9,-999,    -999,9,    -999,1.005,2,-999,9,-999,9,    -999,9,-999,9, 20080211,     2141, -38.0119,  30.0633,    -999,-999,9,     -999,9,     -999,9,     -999,9,     -999,9,     -999,9,     -999,9,-999,9,     -999,9,     -999,9,     -999,9,    -999,    -999
33RR20080204,       I06S,      22,          1,          1,          1,2,20080211,       2134,   -38.0102,    30.0611,       4094,  4126.1,   1.1761,  34.7393,2,  34.7388,2,    217.2,2,   216.9,2,  104.10,2,   30.28,2,    0.00,2,    2.08,2,   0.093,2,   0.054,2,   0.056,2,    -999,9,  2368.1,2,   7.7107,2,    20.00,    -999,9,    -999,9,    -999,9,1.1756,2,-999,9,-999,9,-999,    -999,9,    -999,1.182,2,-999,9,-999,9,    -999,9,-999,9, 20080211,     2135, -38.0105,  30.0614,    -999,-999,9,     -999,9,     -999,9,     -999,9,     -999,9,     -999,9,     -999,9,-999,9,     -999,9,     -999,9,     -999,9,    -999,    -999