BOTTLE,20220706CCHSIOAMB
EXPOCODE,SECT_ID,STNNBR,CASTNO,SAMPNO,BTLNBR,BTLNBR_FLAG_W,DATE,TIME,LATITUDE,LONGITUDE,DEPTH,CTDPRS,CTDTMP,CTDSAL,CTDSAL_FLAG_W,SALNTY,SALNTY_FLAG_W,CTDOXY,CTDOXY_FLAG_W,OXYGEN,OXYGEN_FLAG_W,SILCAT,SILCAT_FLAG_W,NITRAT,NITRAT_FLAG_W,NITRIT,NITRIT_FLAG_W,PHSPHT,PHSPHT_FLAG_W,CFC-11,CFC-11_FLAG_W,CFC-12,CFC-12_FLAG_W,CFC113,CFC113_FLAG_W,TCARBN,TCARBN_FLAG_W,ALKALI,ALKALI_FLAG_W,PH_SWS,PH_SWS_FLAG_W,PH_TMP,TRITUM,TRITUM_FLAG_W,HELIUM,HELIUM_FLAG_W,DELHE3,DELHE3_FLAG_W,REFTMP,REFTMP_FLAG_W,DELC13,DELC13_FLAG_W,DELC14,DELC14_FLAG_W,C14ERR,NEON,NEON_FLAG_W,NEONER,CCL4,CCL4_FLAG_W,ALUMIN,ALUMIN_FLAG_W,DELO18,DELO18_FLAG_W,DOC,DOC_FLAG_W,TDN,TDN_FLAG_W,BTL_DATE,BTL_TIME,BTL_LAT,BTL_LON,TRITER,DELSI30,DELSI30_FLAG_W,CDOM380,CDOM380_FLAG_W,CDOM325,CDOM325_FLAG_W,CDOMSL,CDOMSL_FLAG_W,CDOM340,CDOM340_FLAG_W,CDOM443,CDOM443_FLAG_W,CDOMSN,CDOMSN_FLAG_W,BLACKC,BLACKC_FLAG_W,CDOM490,CDOM490_FLAG_W,CDOM412,CDOM412_FLAG_W,CDOM555,CDOM555_FLAG_W,DELHER,HELIER
,,,,,,,,,,,METERS,DBAR,ITS-90,PSS-78,,PSS-78,,UMOL/KG,,UMOL/KG,,UMOL/KG,,UMOL/KG,,UMOL/KG,,UMOL/KG,,PMOL/KG,,PMOL/KG,,PMOL/KG,,UMOL/KG,,UMOL/KG,,,,DEG C,TU,,NMOL/KG,,PERCNT,,DEG C,,/MILLE,,/MILLE,,/MILLE,NMOL/KG,,NMOL/KG,PMOL/KG,,NMOL/L,,/MILLE,,UMOL/KG,,UMOL/KG,,,,,,TU,/MILLE,,1/M,,1/M,,1/NM,,1/M,,1/M,,1/NM,,,,1/M,,1/M,,1/M,,PERCNT,NMOL/KG
33RR20080204,       I06S,      20,          1,          7,          7,2,20080211,       0516,   -37.0000,    30.0000,       4542,  2895.1,   2.4218,  34.8207,2,  34.8192,2,    216.0,2,   216.7,2,   61.97,2,   26.55,2,    0.00,2,    1.83,2,   0.029,2,   0.021,2,  -0.003,2,    -999,9,  2342.3,2,     -999,9,     -999,   0.006,2,   1.849,2,    6.65,2,2.4223,2,-999,9,-999,9,-999,   7.941,2,   0.030,0.312,2,-999,9,-999,9,    -999,9,-999,9, 20080211,     0552, -37.0000,  30.0001,   0.009,-999,9,     -999,9,     -999,9,     -999,9,     -999,9,     -999,9,     -999,9,-999,9,     -999,9,     -999,9,     -999,9,    0.15,   0.007
33RR20080204,       I06S,      20,          1,          6,          6,2,20080211,       0516,   -37.0000,    30.0000,       4542,  3198.9,   2.2263,  34.8177,2,  34.8192,2,    218.9,2,   218.9,2,   67.06,2,   26.71,2,    0.00,2,    1.83,2,   0.030,2,   0.020,2,  -0.003,2,    -999,9,    -999,9,     -999,9,     -999,   0.003,2,   1.834,2,    6.55,2,2.227,2,-999,9,-999,9,-999,   7.938,2,   0.030,0.421,2,-999,9,-999,9,    -999,9,-999,9, 20080211,     0546, -37.0000,  30.0002,   0.009,-999,9,     -999,9,     -999,9,     -999,9,     -999,9,     -999,9,     -999,9,-999,9,     -999,9,     -999,9,     -999,9,    0.15,   0.007
33RR20080204,       I06S,      20,          1,          5,          5,2,20080211,       0516,   -37.0000,    30.0000,       4542,  3503.4,   1.9659,  34.8012,2,  34.8090,3,    218.5,2,   218.5,2,   76.04,2,   27.52,2,    0.00,2,    1.88,2,   0.039,2,   0.026,2,   0.013,2,    -999,9,  2351.1,2,     -999,9,     -999,   0.009,2,   1.875,2,    6.73,2,1.9661,2,-999,9,-999,9,-999,   8.127,2,   0.031,0.499,2,-999,9,-999,9,    -999,9,-999,9, 20080211,     0540, -36.9999,  29.9998,   0.009,-999,9,     -999,9,     -999,9,     -999,9,     -999,9,     -999,9,     -999,9,-999,9,     -999,9,     -999,9,     -999,9,    0.15,   0.007
33RR20080204,       I06S,      20,          1,          4,          4,2,20080211,       0516,   -37.0000,    30.0000,       4542,  3818.6,   1.6254,  34.7739,2,  34.7737,2,    217.1,2,   216.8,2,   88.52,2,   28.79,2,    0.00,2,    1.98,2,   0.053,2,   0.035,2,  -0.002,2,    -999,9,  2356.1,2,     -999,9,     -999,  -0.014,2,   1.866,2,    6.99,2,1.6266,2,-999,9,-999,9,-999,   8.119,2,   0.031,0.607,2,-999,9,-999,9,    -999,9,-999,9, 20080211,     0533, -37.0000,  30.0000,   0.009,-999,9,     -999,9,     -999,9,     -999,9,     -999,9,     -999,9,     -999,9,-999,9,     -999,9,     -999,9,     -999,9,    0.15,   0.007
33RR20080204,       I06S,      20,          1,          3,          3,2,20080211,       0516,   -37.0000,    30.0000,       4542,  4122.8,   1.3691,  34.7536,2,  34.7534,2,    216.5,2,   216.6,2,   97.93,2,   29.71,2,    0.00,2,    2.05,2,   0.065,2,   0.041,2,   0.004,2,    -999,9,  2362.4,2,     -999,9,     -999,    -999,9,   1.862,2,    7.16,2,1.3691,2,-999,9,-999,9,-999,   8.086,2,   0.031,0.852,2,-999,9,-999,9,    -999,9,-999,9, 20080211,     0527, -37.0000,  29.9999,    -999,-999,9,     -999,9,     -999,9,     -999,9,     -999,9,     -999,9,     -999,9,-999,9,     -999,9,     -999,9,     -999,9,    0.15,   0.007
33RR20080204,       I06S,      20,          1,          2,          2,2,20080211,       0516,   -37.0000,    30.0000,       4542,  4428.5,   1.2097,  34.7399,2,  34.7399,2,    216.5,2,   216.8,2,  104.06,2,   30.31,2,    0.00,2,    2.09,2,   0.083,2,   0.056,2,   0.007,2,    -999,9,  2363.6,2,     -999,9,     -999,   0.002,2,   1.920,2,    7.05,2,1.21,2,-999,9,-999,9,-999,   8.323,2,   0.032,0.929,2,-999,9,-999,9,    -999,9,-999,9, 20080211,     0521, -37.0000,  30.0001,   0.009,-999,9,     -999,9,     -999,9,     -999,9,     -999,9,     -999,9,     -999,9,-999,9,     -999,9,     -999,9,     -999,9,    0.15,   0.007
33RR20080204,       I06S,      20,          1,          1,          1,2,20080211,       0516,   -37.0000,    30.0000,       4542,  4598.8,   1.1493,  34.7343,2,  34.7336,2,     -999,9,    -999,5,  106.93,2,   30.62,2,    0.00,2,    2.12,2,   0.097,2,   0.063,2,   0.034,2,    -999,9,  2367.9,2,     -999,9,     -999,  -0.006,2,   1.867,2,    7.02,2,1.1496,2,-999,9,-999,9,-999,   8.155,2,   0.031,1.126,2,-999,9,-999,9,    -999,9,-999,9, 20080211,     0518, -37.0000,  30.0000,   0.009,-999,9,     -999,9,     -999,9,     -999,9,     -999,9,     -999,9,     -999,9,-999,9,     -999,9,     -999,9,     -999,9,    0.15,   0.007