BOTTLE,20220706CCHSIOAMB
EXPOCODE,SECT_ID,STNNBR,CASTNO,SAMPNO,BTLNBR,BTLNBR_FLAG_W,DATE,TIME,LATITUDE,LONGITUDE,DEPTH,CTDPRS,CTDTMP,CTDSAL,CTDSAL_FLAG_W,SALNTY,SALNTY_FLAG_W,CTDOXY,CTDOXY_FLAG_W,OXYGEN,OXYGEN_FLAG_W,SILCAT,SILCAT_FLAG_W,NITRAT,NITRAT_FLAG_W,NITRIT,NITRIT_FLAG_W,PHSPHT,PHSPHT_FLAG_W,CFC-11,CFC-11_FLAG_W,CFC-12,CFC-12_FLAG_W,CFC113,CFC113_FLAG_W,TCARBN,TCARBN_FLAG_W,ALKALI,ALKALI_FLAG_W,PH_SWS,PH_SWS_FLAG_W,PH_TMP,TRITUM,TRITUM_FLAG_W,HELIUM,HELIUM_FLAG_W,DELHE3,DELHE3_FLAG_W,REFTMP,REFTMP_FLAG_W,DELC13,DELC13_FLAG_W,DELC14,DELC14_FLAG_W,C14ERR,NEON,NEON_FLAG_W,NEONER,CCL4,CCL4_FLAG_W,ALUMIN,ALUMIN_FLAG_W,DELO18,DELO18_FLAG_W,DOC,DOC_FLAG_W,TDN,TDN_FLAG_W,BTL_DATE,BTL_TIME,BTL_LAT,BTL_LON,TRITER,DELSI30,DELSI30_FLAG_W,CDOM380,CDOM380_FLAG_W,CDOM325,CDOM325_FLAG_W,CDOMSL,CDOMSL_FLAG_W,CDOM340,CDOM340_FLAG_W,CDOM443,CDOM443_FLAG_W,CDOMSN,CDOMSN_FLAG_W,BLACKC,BLACKC_FLAG_W,CDOM490,CDOM490_FLAG_W,CDOM412,CDOM412_FLAG_W,CDOM555,CDOM555_FLAG_W,DELHER,HELIER
,,,,,,,,,,,METERS,DBAR,ITS-90,PSS-78,,PSS-78,,UMOL/KG,,UMOL/KG,,UMOL/KG,,UMOL/KG,,UMOL/KG,,UMOL/KG,,PMOL/KG,,PMOL/KG,,PMOL/KG,,UMOL/KG,,UMOL/KG,,,,DEG C,TU,,NMOL/KG,,PERCNT,,DEG C,,/MILLE,,/MILLE,,/MILLE,NMOL/KG,,NMOL/KG,PMOL/KG,,NMOL/L,,/MILLE,,UMOL/KG,,UMOL/KG,,,,,,TU,/MILLE,,1/M,,1/M,,1/NM,,1/M,,1/M,,1/NM,,,,1/M,,1/M,,1/M,,PERCNT,NMOL/KG
33RR20080204,       I06S,      87,          1,         36,         36,2,20080304,       0204,   -67.5827,    32.9152,        856,     6.5,  -0.7411,  33.9611,2,  33.9599,2,    340.1,2,   340.2,2,   51.47,2,   26.04,2,    0.14,2,    1.84,2,   6.053,2,   3.418,2,   0.514,2,  2175.2,2,  2303.0,2,   7.8844,2,    13.00,    -999,9,    -999,9,    -999,9,-0.7418,2,-999,9,-999,9,-999,    -999,9,    -999,8.861,2,-999,9,-999,9,    -999,9,-999,9, 20080304,     0238, -67.5832,  32.9157,    -999,-999,9,     -999,9,     -999,9,     -999,9,     -999,9,     -999,9,     -999,9,-999,9,     -999,9,     -999,9,     -999,9,    -999,    -999
33RR20080204,       I06S,      87,          1,         34,         34,2,20080304,       0204,   -67.5827,    32.9152,        856,    25.9,  -0.7400,  33.9618,2,  33.9600,2,    339.8,2,   338.9,2,   51.46,2,   26.04,2,    0.14,2,    1.84,2,   5.977,2,   3.333,2,   0.527,2,  2173.9,2,  2302.1,2,   7.8856,3,    13.00,    -999,9,    -999,9,    -999,9,-0.7399,2,-999,9,-999,9,-999,    -999,9,    -999,8.589,2,-999,9,-999,9,    -999,9,-999,9, 20080304,     0237, -67.5831,  32.9156,    -999,-999,9,     -999,9,     -999,9,     -999,9,     -999,9,     -999,9,     -999,9,-999,9,     -999,9,     -999,9,     -999,9,    -999,    -999
33RR20080204,       I06S,      87,          1,         32,         32,2,20080304,       0204,   -67.5827,    32.9152,        856,    46.5,  -0.7383,  33.9624,2,  33.9610,2,    338.6,2,   339.5,2,   51.45,2,   25.94,2,    0.14,2,    1.84,2,   6.012,2,   3.337,2,   0.519,2,  2174.9,2,  2303.1,2,   7.8864,3,    13.00,    -999,9,    -999,9,    -999,9,-0.7386,2,-999,9,-999,9,-999,    -999,9,    -999,8.252,2,-999,9,-999,9,    -999,9,-999,9, 20080304,     0236, -67.5831,  32.9157,    -999,-999,9,     -999,9,     -999,9,     -999,9,     -999,9,     -999,9,     -999,9,-999,9,     -999,9,     -999,9,     -999,9,    -999,    -999
33RR20080204,       I06S,      87,          1,         30,         30,2,20080304,       0204,   -67.5827,    32.9152,        856,    75.9,  -1.6863,  34.2456,2,  34.2387,2,    318.0,2,   315.0,2,   60.62,2,   29.78,2,    0.11,2,    2.09,2,   5.246,2,   2.908,2,   0.463,2,  2210.2,2,  2315.6,2,   7.8225,2,    13.00,    -999,9,    -999,9,    -999,9,-1.6738,2,-999,9,-999,9,-999,    -999,9,    -999,6.626,2,-999,9,-999,9,    -999,9,-999,9, 20080304,     0234, -67.5830,  32.9157,    -999,-999,9,     -999,9,     -999,9,     -999,9,     -999,9,     -999,9,     -999,9,-999,9,     -999,9,     -999,9,     -999,9,    -999,    -999
33RR20080204,       I06S,      87,          1,         28,         28,2,20080304,       0204,   -67.5827,    32.9152,        856,   101.5,  -1.7357,  34.2855,2,  34.2828,2,    307.8,2,   310.6,2,   63.80,2,   30.38,2,    0.11,2,    2.12,2,   5.198,2,   2.817,2,   0.430,2,  2216.3,2,  2318.7,2,   7.8064,4,    13.00,    -999,9,    -999,9,    -999,9,-1.7379,2,-999,9,-999,9,-999,    -999,9,    -999,6.029,2,-999,9,-999,9,    -999,9,-999,9, 20080304,     0233, -67.5829,  32.9156,    -999,-999,9,     -999,9,     -999,9,     -999,9,     -999,9,     -999,9,     -999,9,-999,9,     -999,9,     -999,9,     -999,9,    -999,    -999
33RR20080204,       I06S,      87,          1,         26,         26,2,20080304,       0204,   -67.5827,    32.9152,        856,   152.9,  -1.6431,  34.3306,2,  34.3257,2,    301.6,2,   302.4,2,   66.19,2,   30.77,2,    0.03,2,    2.13,2,   4.910,2,   2.725,2,   0.444,2,  2218.8,2,  2322.8,2,   7.8070,3,    13.00,    -999,9,    -999,9,    -999,9,-1.6475,2,-999,9,-999,9,-999,    -999,9,    -999,6.529,2,-999,9,-999,9,    -999,9,-999,9, 20080304,     0230, -67.5829,  32.9156,    -999,-999,9,     -999,9,     -999,9,     -999,9,     -999,9,     -999,9,     -999,9,-999,9,     -999,9,     -999,9,     -999,9,    -999,    -999
33RR20080204,       I06S,      87,          1,         24,         24,2,20080304,       0204,   -67.5827,    32.9152,        856,   203.2,  -1.3292,  34.3855,2,  34.3844,2,    293.1,2,   293.5,2,   68.59,2,   30.79,2,    0.01,2,    2.14,2,   4.586,2,   2.521,2,   0.408,2,  2222.9,2,  2325.9,2,   7.8046,2,    13.00,    -999,9,    -999,9,    -999,9,-1.3341,2,-999,9,-999,9,-999,    -999,9,    -999,5.812,2,-999,9,-999,9,    -999,9,-999,9, 20080304,     0228, -67.5830,  32.9155,    -999,-999,9,     -999,9,     -999,9,     -999,9,     -999,9,     -999,9,     -999,9,-999,9,     -999,9,     -999,9,     -999,9,    -999,    -999
33RR20080204,       I06S,      87,          1,         22,         22,2,20080304,       0204,   -67.5827,    32.9152,        856,   254.3,  -0.8495,  34.4464,2,  34.4436,2,    279.2,2,   276.4,2,   72.59,2,   31.09,2,    0.01,2,    2.16,2,   3.985,2,   2.195,2,   0.371,2,  2229.4,2,  2330.1,2,   7.7974,2,    13.00,    -999,9,    -999,9,    -999,9,-0.8595,2,-999,9,-999,9,-999,    -999,9,    -999,5.039,2,-999,9,-999,9,    -999,9,-999,9, 20080304,     0226, -67.5830,  32.9156,    -999,-999,9,     -999,9,     -999,9,     -999,9,     -999,9,     -999,9,     -999,9,-999,9,     -999,9,     -999,9,     -999,9,    -999,    -999
33RR20080204,       I06S,      87,          1,         20,         20,2,20080304,       0204,   -67.5827,    32.9152,        856,   303.3,  -0.4696,  34.5020,2,  34.4997,2,    265.9,2,   265.3,4,   76.39,2,   31.29,2,    0.01,2,    2.17,2,   3.449,2,   1.885,2,   0.312,2,    -999,9,  2335.5,2,   7.7941,2,    13.00,    -999,9,    -999,9,    -999,9,-0.4707,2,-999,9,-999,9,-999,    -999,9,    -999,4.385,2,-999,9,-999,9,    -999,9,-999,9, 20080304,     0224, -67.5829,  32.9156,    -999,-999,9,     -999,9,     -999,9,     -999,9,     -999,9,     -999,9,     -999,9,-999,9,     -999,9,     -999,9,     -999,9,    -999,    -999
33RR20080204,       I06S,      87,          1,         18,         18,2,20080304,       0204,   -67.5827,    32.9152,        856,   356.1,  -0.3408,  34.5277,2,  34.5266,2,    255.6,2,   256.5,2,   78.19,2,   31.29,2,    0.01,2,    2.17,2,   3.204,2,   1.748,2,   0.285,2,    -999,9,  2335.9,2,   7.7913,2,    13.00,    -999,9,    -999,9,    -999,9,-0.3397,2,-999,9,-999,9,-999,    -999,9,    -999,3.935,2,-999,9,-999,9,    -999,9,-999,9, 20080304,     0222, -67.5828,  32.9156,    -999,-999,9,     -999,9,     -999,9,     -999,9,     -999,9,     -999,9,     -999,9,-999,9,     -999,9,     -999,9,     -999,9,    -999,    -999
33RR20080204,       I06S,      87,          1,         16,         16,2,20080304,       0204,   -67.5827,    32.9152,        856,   406.1,  -0.0970,  34.5665,2,  34.5666,2,    246.5,2,   246.7,2,   81.61,2,   31.34,2,    0.01,2,    2.18,2,   2.758,2,   1.495,2,   0.254,2,    -999,9,  2338.1,2,   7.7887,2,    13.00,    -999,9,    -999,9,    -999,9,-0.0983,2,-999,9,-999,9,-999,    -999,9,    -999,3.316,2,-999,9,-999,9,    -999,9,-999,9, 20080304,     0220, -67.5826,  32.9155,    -999,-999,9,     -999,9,     -999,9,     -999,9,     -999,9,     -999,9,     -999,9,-999,9,     -999,9,     -999,9,     -999,9,    -999,    -999
33RR20080204,       I06S,      87,          1,         14,         14,2,20080304,       0204,   -67.5827,    32.9152,        856,   455.9,   0.0162,  34.5905,2,  34.5903,2,    242.8,2,   242.1,2,   85.83,2,   31.44,2,    0.01,2,    2.18,2,   2.462,6,   1.334,6,   0.210,6,    -999,9,  2340.9,2,   7.7886,2,    13.00,    -999,9,    -999,9,    -999,9,0.0103,2,-999,9,-999,9,-999,    -999,9,    -999,3.0155,6,-999,9,-999,9,    -999,9,-999,9, 20080304,     0218, -67.5825,  32.9154,    -999,-999,9,     -999,9,     -999,9,     -999,9,     -999,9,     -999,9,     -999,9,-999,9,     -999,9,     -999,9,     -999,9,    -999,    -999
33RR20080204,       I06S,      87,          1,         12,         12,2,20080304,       0204,   -67.5827,    32.9152,        856,   506.3,   0.2143,  34.6195,2,  34.6204,2,    235.9,2,   234.3,2,   89.05,2,   31.44,2,    0.00,2,    2.18,2,   2.032,2,   1.097,2,   0.177,2,    -999,9,  2344.3,2,   7.7886,2,    13.00,    -999,9,    -999,9,    -999,9,0.2136,2,-999,9,-999,9,-999,    -999,9,    -999,2.598,2,-999,9,-999,9,    -999,9,-999,9, 20080304,     0216, -67.5826,  32.9155,    -999,-999,9,     -999,9,     -999,9,     -999,9,     -999,9,     -999,9,     -999,9,-999,9,     -999,9,     -999,9,     -999,9,    -999,    -999
33RR20080204,       I06S,      87,          1,         10,         10,2,20080304,       0204,   -67.5827,    32.9152,        856,   558.2,   0.1087,  34.6195,2,  34.6183,2,    234.9,2,   236.6,2,   91.06,2,   31.48,2,    0.01,2,    2.19,2,   2.081,2,   1.112,2,   0.177,2,    -999,9,  2347.0,2,   7.7822,4,    13.00,    -999,9,    -999,9,    -999,9,0.1065,2,-999,9,-999,9,-999,    -999,9,    -999,2.577,2,-999,9,-999,9,    -999,9,-999,9, 20080304,     0215, -67.5827,  32.9155,    -999,-999,9,     -999,9,     -999,9,     -999,9,     -999,9,     -999,9,     -999,9,-999,9,     -999,9,     -999,9,     -999,9,    -999,    -999
33RR20080204,       I06S,      87,          1,          8,          8,2,20080304,       0204,   -67.5827,    32.9152,        856,   606.9,   0.1351,  34.6295,2,  34.6304,2,    233.4,2,   233.1,2,   94.69,2,   31.58,2,    0.00,2,    2.19,2,   1.844,2,   0.995,2,   0.110,2,    -999,9,  2346.6,2,   7.7891,2,    13.00,    -999,9,    -999,9,    -999,9,0.1351,2,-999,9,-999,9,-999,    -999,9,    -999,2.217,2,-999,9,-999,9,    -999,9,-999,9, 20080304,     0212, -67.5826,  32.9155,    -999,-999,9,     -999,9,     -999,9,     -999,9,     -999,9,     -999,9,     -999,9,-999,9,     -999,9,     -999,9,     -999,9,    -999,    -999
33RR20080204,       I06S,      87,          1,          6,          6,2,20080304,       0204,   -67.5827,    32.9152,        856,   707.3,   0.1749,  34.6496,2,  34.6505,2,    227.0,2,   227.5,2,  103.39,2,   31.88,2,    0.01,2,    2.21,2,   1.373,2,   0.763,2,   0.106,2,    -999,9,  2353.4,2,   7.7860,2,    13.00,    -999,9,    -999,9,    -999,9,0.1747,2,-999,9,-999,9,-999,    -999,9,    -999,1.873,2,-999,9,-999,9,    -999,9,-999,9, 20080304,     0210, -67.5826,  32.9154,    -999,-999,9,     -999,9,     -999,9,     -999,9,     -999,9,     -999,9,     -999,9,-999,9,     -999,9,     -999,9,     -999,9,    -999,    -999
33RR20080204,       I06S,      87,          1,          4,          4,2,20080304,       0204,   -67.5827,    32.9152,        856,   804.4,   0.1893,  34.6661,2,  34.6670,2,    221.1,2,   222.0,2,  112.52,2,   32.13,2,    0.02,2,    2.23,2,   0.921,2,   0.521,2,   0.036,2,    -999,9,  2354.6,2,   7.7833,2,    13.00,    -999,9,    -999,9,    -999,9,0.1893,2,-999,9,-999,9,-999,    -999,9,    -999,1.451,2,-999,9,-999,9,    -999,9,-999,9, 20080304,     0206, -67.5825,  32.9152,    -999,-999,9,     -999,9,     -999,9,     -999,9,     -999,9,     -999,9,     -999,9,-999,9,     -999,9,     -999,9,     -999,9,    -999,    -999
33RR20080204,       I06S,      87,          1,          2,          2,2,20080304,       0204,   -67.5827,    32.9152,        856,   842.8,   0.1867,  34.6661,2,  34.6674,2,    221.3,2,   221.5,2,  112.51,2,   32.13,2,    0.02,2,    2.23,2,   0.913,2,   0.522,2,   0.056,2,  2256.4,6,  2354.6,2,   7.7833,2,    13.00,    -999,9,    -999,9,    -999,9,0.1866,2,-999,9,-999,9,-999,    -999,9,    -999,1.574,2,-999,9,-999,9,    -999,9,-999,9, 20080304,     0204, -67.5827,  32.9152,    -999,-999,9,     -999,9,     -999,9,     -999,9,     -999,9,     -999,9,     -999,9,-999,9,     -999,9,     -999,9,     -999,9,    -999,    -999