BOTTLE,20220706CCHSIOAMB
EXPOCODE,SECT_ID,STNNBR,CASTNO,SAMPNO,BTLNBR,BTLNBR_FLAG_W,DATE,TIME,LATITUDE,LONGITUDE,DEPTH,CTDPRS,CTDTMP,CTDSAL,CTDSAL_FLAG_W,SALNTY,SALNTY_FLAG_W,CTDOXY,CTDOXY_FLAG_W,OXYGEN,OXYGEN_FLAG_W,SILCAT,SILCAT_FLAG_W,NITRAT,NITRAT_FLAG_W,NITRIT,NITRIT_FLAG_W,PHSPHT,PHSPHT_FLAG_W,CFC-11,CFC-11_FLAG_W,CFC-12,CFC-12_FLAG_W,CFC113,CFC113_FLAG_W,TCARBN,TCARBN_FLAG_W,ALKALI,ALKALI_FLAG_W,PH_SWS,PH_SWS_FLAG_W,PH_TMP,TRITUM,TRITUM_FLAG_W,HELIUM,HELIUM_FLAG_W,DELHE3,DELHE3_FLAG_W,REFTMP,REFTMP_FLAG_W,DELC13,DELC13_FLAG_W,DELC14,DELC14_FLAG_W,C14ERR,NEON,NEON_FLAG_W,NEONER,CCL4,CCL4_FLAG_W,ALUMIN,ALUMIN_FLAG_W,DELO18,DELO18_FLAG_W,DOC,DOC_FLAG_W,TDN,TDN_FLAG_W,BTL_DATE,BTL_TIME,BTL_LAT,BTL_LON,TRITER,DELSI30,DELSI30_FLAG_W,CDOM380,CDOM380_FLAG_W,CDOM325,CDOM325_FLAG_W,CDOMSL,CDOMSL_FLAG_W,CDOM340,CDOM340_FLAG_W,CDOM443,CDOM443_FLAG_W,CDOMSN,CDOMSN_FLAG_W,BLACKC,BLACKC_FLAG_W,CDOM490,CDOM490_FLAG_W,CDOM412,CDOM412_FLAG_W,CDOM555,CDOM555_FLAG_W,DELHER,HELIER
,,,,,,,,,,,METERS,DBAR,ITS-90,PSS-78,,PSS-78,,UMOL/KG,,UMOL/KG,,UMOL/KG,,UMOL/KG,,UMOL/KG,,UMOL/KG,,PMOL/KG,,PMOL/KG,,PMOL/KG,,UMOL/KG,,UMOL/KG,,,,DEG C,TU,,NMOL/KG,,PERCNT,,DEG C,,/MILLE,,/MILLE,,/MILLE,NMOL/KG,,NMOL/KG,PMOL/KG,,NMOL/L,,/MILLE,,UMOL/KG,,UMOL/KG,,,,,,TU,/MILLE,,1/M,,1/M,,1/NM,,1/M,,1/M,,1/NM,,,,1/M,,1/M,,1/M,,PERCNT,NMOL/KG
33RR20080204,       I06S,      67,          2,         36,         36,2,20080226,       1619,   -60.5001,    30.0000,       5250,     3.0,   1.0541,  33.7571,2,  33.7588,2,    336.3,2,   337.5,2,   47.03,2,   25.87,2,    0.34,2,    1.76,2,   6.355,2,   3.447,2,   0.428,2,  2158.5,6,  2288.8,2,   7.8977,2,    13.00,    -999,9,    -999,9,    -999,9,-999,9,-999,9,-999,9,-999,    -999,9,    -999,10.563,2,-999,9,-999,9,   47.80,2,-999,1, 20080226,     1837, -60.5000,  30.0000,    -999,-999,9,     -999,9,     -999,9,     -999,9,     -999,9,     -999,9,     -999,9,-999,9,     -999,9,     -999,9,     -999,9,    -999,    -999
33RR20080204,       I06S,      67,          2,         35,         35,2,20080226,       1619,   -60.5001,    30.0000,       5250,    25.7,   1.0363,  33.7603,2,  33.7613,2,    337.8,2,   337.8,2,   46.83,2,   25.87,2,    0.34,2,    1.76,2,   6.347,2,   3.420,2,   0.431,2,  2159.4,2,  2288.4,2,   7.8969,2,    13.00,    -999,9,    -999,9,    -999,9,-999,9,-999,9,-999,9,-999,    -999,9,    -999,11.438,2,-999,9,-999,9,   46.44,2,-999,1, 20080226,     1835, -60.5000,  29.9999,    -999,-999,1,     -999,9,     -999,9,     -999,9,     -999,9,     -999,9,     -999,9,-999,9,     -999,9,     -999,9,     -999,9,    -999,    -999
33RR20080204,       I06S,      67,          2,         34,         34,2,20080226,       1619,   -60.5001,    30.0000,       5250,    46.1,   1.0046,  33.7608,2,  33.7623,2,    338.0,2,   337.5,2,   46.83,2,   25.86,2,    0.34,2,    1.76,2,   6.384,2,   3.421,2,   0.427,2,  2158.9,2,  2289.4,2,   7.8940,4,    13.00,    -999,9,    -999,9,    -999,9,-999,9,-999,9,-999,9,-999,    -999,9,    -999,10.501,2,-999,9,-999,9,   51.80,3,-999,1, 20080226,     1834, -60.5000,  30.0000,    -999,-999,1,     -999,9,     -999,9,     -999,9,     -999,9,     -999,9,     -999,9,-999,9,     -999,9,     -999,9,     -999,9,    -999,    -999
33RR20080204,       I06S,      67,          2,         33,         33,2,20080226,       1619,   -60.5001,    30.0000,       5250,    75.1,  -0.7663,  34.0599,2,  34.0506,2,    354.4,2,   346.4,2,   54.42,2,   27.71,2,    0.26,2,    1.94,2,   6.585,2,   3.675,2,   0.453,2,  2185.3,2,  2306.6,2,   7.8680,4,    13.00,    -999,9,    -999,9,    -999,9,-999,9,-999,9,-999,9,-999,    -999,9,    -999,10.156,2,-999,9,-999,9,   46.93,2,-999,1, 20080226,     1832, -60.5000,  29.9999,    -999,-999,1,     -999,9,     -999,9,     -999,9,     -999,9,     -999,9,     -999,9,-999,9,     -999,9,     -999,9,     -999,9,    -999,    -999
33RR20080204,       I06S,      67,          2,         32,         32,2,20080226,       1619,   -60.5001,    30.0000,       5250,   102.1,  -0.7210,  34.1319,2,  34.1352,2,    331.2,2,   330.3,2,   58.88,2,   28.95,2,    0.29,2,    2.02,2,   6.179,2,   3.443,2,   0.406,2,  2197.5,2,  2311.7,2,   7.8453,3,    13.00,    -999,9,    -999,9,    -999,9,-999,9,-999,9,-999,9,-999,    -999,9,    -999,8.586,2,-999,9,-999,9,   43.80,2,-999,1, 20080226,     1830, -60.5000,  29.9999,    -999,-999,1,     -999,9,     -999,9,     -999,9,     -999,9,     -999,9,     -999,9,-999,9,     -999,9,     -999,9,     -999,9,    -999,    -999
33RR20080204,       I06S,      67,          2,         31,         31,2,20080226,       1619,   -60.5001,    30.0000,       5250,   152.4,   0.5440,  34.3856,2,  34.3837,2,    260.1,2,   250.8,2,   74.37,2,   32.51,2,    0.01,2,    2.26,2,   3.580,2,   1.944,2,   0.264,2,  2234.0,2,  2325.6,2,   7.7744,2,    13.00,    -999,9,    -999,9,    -999,9,-999,9,-999,9,-999,9,-999,    -999,9,    -999,4.728,2,-999,9,-999,9,   42.15,2,-999,1, 20080226,     1828, -60.5000,  30.0000,    -999,-999,1,     -999,9,     -999,9,     -999,9,     -999,9,     -999,9,     -999,9,-999,9,     -999,9,     -999,9,     -999,9,    -999,    -999
33RR20080204,       I06S,      67,          2,         30,         30,2,20080226,       1619,   -60.5001,    30.0000,       5250,   201.9,   1.3337,  34.5501,2,  34.5492,2,    205.2,2,   199.1,2,   82.80,2,   33.78,2,    0.00,2,    2.34,2,   1.699,2,   0.942,2,   0.119,2,  2252.1,2,  2336.0,2,   7.7432,2,    13.00,    -999,9,    -999,9,    -999,9,-999,9,-999,9,-999,9,-999,    -999,9,    -999,2.514,2,-999,9,-999,9,   43.51,2,-999,1, 20080226,     1826, -60.5000,  30.0000,    -999,-999,1,     -999,9,     -999,9,     -999,9,     -999,9,     -999,9,     -999,9,-999,9,     -999,9,     -999,9,     -999,9,    -999,    -999
33RR20080204,       I06S,      67,          2,         29,         29,2,20080226,       1619,   -60.5001,    30.0000,       5250,   253.0,   1.4942,  34.6212,2,  34.6221,2,    189.0,2,   190.5,2,   85.99,2,   33.26,2,    0.00,2,    2.31,2,   1.086,2,   0.619,2,   0.079,2,  2255.6,2,  2342.0,2,   7.7502,3,    13.00,    -999,9,    -999,9,    -999,9,-999,9,-999,9,-999,9,-999,    -999,9,    -999,1.831,2,-999,9,-999,9,    -999,9,-999,9, 20080226,     1824, -60.5000,  30.0000,    -999,-999,1,     -999,9,     -999,9,     -999,9,     -999,9,     -999,9,     -999,9,-999,9,     -999,9,     -999,9,     -999,9,    -999,    -999
33RR20080204,       I06S,      67,          2,         28,         28,2,20080226,       1619,   -60.5001,    30.0000,       5250,   302.6,   1.5297,  34.6489,2,  34.6489,2,    190.4,2,   189.4,2,   88.23,2,   32.92,2,    0.00,2,    2.28,2,   0.896,2,   0.518,2,   0.058,2,  2257.0,2,  2343.9,2,   7.7575,2,    13.00,    -999,9,    -999,9,    -999,9,-999,9,-999,9,-999,9,-999,    -999,9,    -999,1.522,2,-999,9,-999,9,   38.15,2,-999,1, 20080226,     1822, -60.5000,  30.0000,    -999,-999,1,     -999,9,     -999,9,     -999,9,     -999,9,     -999,9,     -999,9,-999,9,     -999,9,     -999,9,     -999,9,    -999,    -999
33RR20080204,       I06S,      67,          2,         27,         27,2,20080226,       1619,   -60.5001,    30.0000,       5250,   351.3,   1.5520,  34.6726,2,  34.6738,2,    192.3,2,   189.1,2,   89.35,2,   32.45,2,    0.00,2,    2.25,2,   0.709,2,   0.412,2,   0.035,2,  2256.5,2,  2346.0,2,   7.7634,3,    13.00,    -999,9,    -999,9,    -999,9,-999,9,-999,9,-999,9,-999,    -999,9,    -999,1.299,2,-999,9,-999,9,    -999,9,-999,9, 20080226,     1820, -60.5000,  29.9999,    -999,-999,9,     -999,9,     -999,9,     -999,9,     -999,9,     -999,9,     -999,9,-999,9,     -999,9,     -999,9,     -999,9,    -999,    -999
33RR20080204,       I06S,      67,          2,         26,         26,2,20080226,       1619,   -60.5001,    30.0000,       5250,   403.1,   1.5323,  34.6882,2,  34.6893,2,    192.9,2,   190.7,2,   89.91,2,   32.06,2,    0.00,2,    2.23,2,   0.606,2,   0.356,2,   0.042,2,  2254.6,2,  2347.4,2,   7.7729,2,    13.00,    -999,9,    -999,9,    -999,9,-999,9,-999,9,-999,9,-999,    -999,9,    -999,1.099,2,-999,9,-999,9,   45.07,3,-999,1, 20080226,     1818, -60.5000,  29.9999,    -999,-999,1,     -999,9,     -999,9,     -999,9,     -999,9,     -999,9,     -999,9,-999,9,     -999,9,     -999,9,     -999,9,    -999,    -999
33RR20080204,       I06S,      67,          2,         25,         25,2,20080226,       1619,   -60.5001,    30.0000,       5250,   458.0,   1.4843,  34.6982,2,  34.6998,2,    194.9,2,   192.7,2,   91.41,2,   31.77,2,    0.00,2,    2.21,2,   0.549,2,   0.320,2,   0.035,2,  2256.3,2,  2349.7,2,   7.7784,2,    13.00,    -999,9,    -999,9,    -999,9,-999,9,-999,9,-999,9,-999,    -999,9,    -999,1.016,2,-999,9,-999,9,    -999,9,-999,9, 20080226,     1816, -60.5000,  29.9999,    -999,-999,9,     -999,9,     -999,9,     -999,9,     -999,9,     -999,9,     -999,9,-999,9,     -999,9,     -999,9,     -999,9,    -999,    -999
33RR20080204,       I06S,      67,          2,         24,         24,2,20080226,       1619,   -60.5001,    30.0000,       5250,   506.9,   1.4625,  34.7049,2,  34.7051,2,    197.0,2,   194.8,2,   92.71,2,   31.67,2,    0.00,2,    2.20,2,   0.497,2,   0.280,2,   0.022,2,  2256.0,2,  2349.2,2,   7.7801,4,    13.00,    -999,9,    -999,9,    -999,9,-999,9,-999,9,-999,9,-999,    -999,9,    -999,0.932,2,-999,9,-999,9,   38.93,2,-999,1, 20080226,     1813, -60.5001,  29.9999,    -999,-999,9,     -999,9,     -999,9,     -999,9,     -999,9,     -999,9,     -999,9,-999,9,     -999,9,     -999,9,     -999,9,    -999,    -999
33RR20080204,       I06S,      67,          2,         23,         23,2,20080226,       1619,   -60.5001,    30.0000,       5250,   607.8,   1.2960,  34.7064,2,  34.7062,2,    199.4,2,   197.7,2,   96.48,2,   31.86,2,    0.00,2,    2.20,2,   0.503,2,   0.293,2,   0.024,2,  2255.4,2,  2351.9,2,   7.7836,2,    13.00,    -999,9,    -999,9,    -999,9,-999,9,-999,9,-999,9,-999,    -999,9,    -999,0.927,2,-999,9,-999,9,   42.05,2,-999,1, 20080226,     1810, -60.5001,  29.9999,    -999,-999,1,     -999,9,     -999,9,     -999,9,     -999,9,     -999,9,     -999,9,-999,9,     -999,9,     -999,9,     -999,9,    -999,    -999
33RR20080204,       I06S,      67,          2,         22,         22,2,20080226,       1619,   -60.5001,    30.0000,       5250,   709.5,   1.2264,  34.7124,2,  34.7131,2,    201.1,2,   199.4,2,   99.12,2,   31.76,2,    0.00,2,    2.18,2,   0.445,2,   0.281,2,   0.023,2,  2254.7,2,  2353.2,2,   7.7917,4,    13.00,    -999,9,    -999,9,    -999,9,-999,9,-999,9,-999,9,-999,    -999,9,    -999,0.784,2,-999,9,-999,9,   40.49,2,-999,1, 20080226,     1807, -60.5000,  30.0000,    -999,-999,9,     -999,9,     -999,9,     -999,9,     -999,9,     -999,9,     -999,9,-999,9,     -999,9,     -999,9,     -999,9,    -999,    -999
33RR20080204,       I06S,      67,          2,         21,         21,2,20080226,       1619,   -60.5001,    30.0000,       5250,   811.7,   1.1663,  34.7159,2,  34.7169,2,    202.3,2,   201.6,2,  100.63,2,   31.61,2,    0.00,2,    2.17,2,   0.366,2,   0.220,2,   0.013,2,  2255.3,2,  2353.0,2,   7.7949,4,    13.00,    -999,9,    -999,9,    -999,9,-999,9,-999,9,-999,9,-999,    -999,9,    -999,0.755,2,-999,9,-999,9,   37.46,2,-999,1, 20080226,     1804, -60.4999,  30.0002,    -999,-999,1,     -999,9,     -999,9,     -999,9,     -999,9,     -999,9,     -999,9,-999,9,     -999,9,     -999,9,     -999,9,    -999,    -999
33RR20080204,       I06S,      67,          2,         20,         20,2,20080226,       1619,   -60.5001,    30.0000,       5250,   910.9,   1.0791,  34.7152,2,  34.7157,2,    203.3,2,   202.9,2,  103.08,2,   31.70,2,    0.00,2,    2.18,2,   0.340,2,   0.211,2,   0.018,2,  2256.3,2,  2355.6,2,   7.7933,2,    13.00,    -999,9,    -999,9,    -999,9,-999,9,-999,9,-999,9,-999,    -999,9,    -999,0.801,2,-999,9,-999,9,   41.37,2,-999,1, 20080226,     1801, -60.4999,  30.0002,    -999,-999,9,     -999,9,     -999,9,     -999,9,     -999,9,     -999,9,     -999,9,-999,9,     -999,9,     -999,9,     -999,9,    -999,    -999
33RR20080204,       I06S,      67,          2,         19,         19,2,20080226,       1619,   -60.5001,    30.0000,       5250,  1010.5,   0.9496,  34.7093,2,  34.7092,2,    203.9,2,   203.3,2,  106.48,2,   31.93,2,    0.00,2,    2.20,2,   0.371,2,   0.212,2,   0.022,2,  2261.0,2,  2355.9,2,   7.7908,2,    13.00,    -999,9,    -999,9,    -999,9,-999,9,-999,9,-999,9,-999,    -999,9,    -999,0.925,2,-999,9,-999,9,   37.56,2,-999,1, 20080226,     1758, -60.5000,  30.0001,    -999,-999,1,     -999,9,     -999,9,     -999,9,     -999,9,     -999,9,     -999,9,-999,9,     -999,9,     -999,9,     -999,9,    -999,    -999
33RR20080204,       I06S,      67,          2,         18,         18,2,20080226,       1619,   -60.5001,    30.0000,       5250,  1112.5,   0.8567,  34.7049,2,  34.7055,2,    203.7,2,   203.8,2,  109.51,2,   32.16,2,    0.00,2,    2.22,2,   0.349,2,   0.212,2,   0.022,2,  2256.6,2,  2357.0,2,   7.7885,2,    13.00,    -999,9,    -999,9,    -999,9,-999,9,-999,9,-999,9,-999,    -999,9,    -999,0.739,2,-999,9,-999,9,    -999,9,-999,9, 20080226,     1755, -60.5000,  30.0000,    -999,-999,9,     -999,9,     -999,9,     -999,9,     -999,9,     -999,9,     -999,9,-999,9,     -999,9,     -999,9,     -999,9,    -999,    -999
33RR20080204,       I06S,      67,          2,         17,         17,2,20080226,       1619,   -60.5001,    30.0000,       5250,  1217.7,   0.7619,  34.7013,2,  34.7020,2,    203.6,2,   204.8,2,  111.78,2,   32.35,2,    0.00,2,    2.23,2,   0.346,2,   0.191,2,   0.026,2,  2257.8,2,  2357.1,2,   7.7870,2,    13.00,    -999,9,    -999,9,    -999,9,-999,9,-999,9,-999,9,-999,    -999,9,    -999,0.847,2,-999,9,-999,9,   37.46,2,-999,1, 20080226,     1752, -60.5000,  30.0000,    -999,-999,9,     -999,9,     -999,9,     -999,9,     -999,9,     -999,9,     -999,9,-999,9,     -999,9,     -999,9,     -999,9,    -999,    -999
33RR20080204,       I06S,      67,          2,         16,         16,2,20080226,       1619,   -60.5001,    30.0000,       5250,  1419.5,   0.5986,  34.6930,2,  34.6935,2,    204.5,2,   205.1,2,  116.54,2,   32.72,2,    0.00,2,    2.25,2,   0.783,4,   0.212,4,   0.021,4,  2260.6,2,  2358.6,2,   7.7795,4,    13.00,    -999,9,    -999,9,    -999,9,-999,9,-999,9,-999,9,-999,    -999,9,    -999,0.901,4,-999,9,-999,9,    -999,9,-999,9, 20080226,     1747, -60.5000,  30.0000,    -999,-999,9,     -999,9,     -999,9,     -999,9,     -999,9,     -999,9,     -999,9,-999,9,     -999,9,     -999,9,     -999,9,    -999,    -999
33RR20080204,       I06S,      67,          2,         15,         15,2,20080226,       1619,   -60.5001,    30.0000,       5250,  1619.8,   0.4987,  34.6899,2,  34.6900,2,    204.9,2,   206.7,2,  120.15,2,   32.90,2,    0.00,2,    2.26,2,   0.343,2,   0.195,2,   0.017,2,  2262.8,2,  2358.0,2,   7.7789,2,    13.00,    -999,9,    -999,9,    -999,9,-999,9,-999,9,-999,9,-999,    -999,9,    -999,0.857,2,-999,9,-999,9,   39.61,2,-999,1, 20080226,     1743, -60.5000,  30.0000,    -999,-999,9,     -999,9,     -999,9,     -999,9,     -999,9,     -999,9,     -999,9,-999,9,     -999,9,     -999,9,     -999,9,    -999,    -999
33RR20080204,       I06S,      67,          2,         14,         14,2,20080226,       1619,   -60.5001,    30.0000,       5250,  1828.1,   0.4230,  34.6876,2,  34.6872,2,    207.4,2,   209.2,2,  122.43,2,   32.85,2,    0.00,2,    2.27,2,   0.304,2,   0.159,2,   0.009,2,  2260.4,2,  2358.1,2,   7.7828,3,    13.00,    -999,9,    -999,9,    -999,9,-999,9,-999,9,-999,9,-999,    -999,9,    -999,0.834,2,-999,9,-999,9,    -999,9,-999,9, 20080226,     1738, -60.5000,  30.0000,    -999,-999,9,     -999,9,     -999,9,     -999,9,     -999,9,     -999,9,     -999,9,-999,9,     -999,9,     -999,9,     -999,9,    -999,    -999
33RR20080204,       I06S,      67,          2,         13,         13,2,20080226,       1619,   -60.5001,    30.0000,       5250,  2035.9,   0.3330,  34.6824,2,  34.6833,2,    209.2,2,   211.3,2,  124.91,2,   32.94,2,    0.00,2,    2.27,2,   0.298,2,   0.154,2,   0.014,2,  2261.9,2,  2357.5,2,   7.7793,2,    13.00,    -999,9,    -999,9,    -999,9,-999,9,-999,9,-999,9,-999,    -999,9,    -999,0.888,2,-999,9,-999,9,   38.15,2,-999,1, 20080226,     1733, -60.5000,  30.0000,    -999,-999,9,     -999,9,     -999,9,     -999,9,     -999,9,     -999,9,     -999,9,-999,9,     -999,9,     -999,9,     -999,9,    -999,    -999
33RR20080204,       I06S,      67,          2,         12,         12,2,20080226,       1619,   -60.5001,    30.0000,       5250,  2339.6,   0.2127,  34.6774,2,  34.6774,2,    213.5,2,   215.5,2,  126.62,2,   33.03,2,    0.00,2,    2.28,2,   0.308,2,   0.181,2,   0.018,2,  2260.5,2,  2357.4,2,   7.7802,3,    13.00,    -999,9,    -999,9,    -999,9,-999,9,-999,9,-999,9,-999,    -999,9,    -999,0.866,2,-999,9,-999,9,    -999,9,-999,9, 20080226,     1726, -60.5000,  30.0000,    -999,-999,9,     -999,9,     -999,9,     -999,9,     -999,9,     -999,9,     -999,9,-999,9,     -999,9,     -999,9,     -999,9,    -999,    -999
33RR20080204,       I06S,      67,          2,         11,         11,2,20080226,       1619,   -60.5001,    30.0000,       5250,  2643.1,   0.1027,  34.6719,2,  34.6721,2,    218.1,2,   220.4,2,  126.23,2,   32.93,2,    0.00,2,    2.28,2,   0.332,2,   0.190,2,   0.013,2,  2261.3,2,  2356.8,2,   7.7782,4,    13.00,    -999,9,    -999,9,    -999,9,-999,9,-999,9,-999,9,-999,    -999,9,    -999,1.025,2,-999,9,-999,9,   39.02,2,-999,1, 20080226,     1717, -60.5000,  30.0000,    -999,-999,9,     -999,9,     -999,9,     -999,9,     -999,9,     -999,9,     -999,9,-999,9,     -999,9,     -999,9,     -999,9,    -999,    -999
33RR20080204,       I06S,      67,          2,         10,         10,2,20080226,       1619,   -60.5001,    30.0000,       5250,  2951.3,  -0.0016,  34.6680,2,  34.6672,2,    222.9,2,   225.0,2,  127.57,2,   32.83,2,    0.00,2,    2.27,2,   0.350,2,   0.206,2,   0.012,2,  2258.8,2,  2355.4,2,   7.7864,2,    13.00,    -999,9,    -999,9,    -999,9,-999,9,-999,9,-999,9,-999,    -999,9,    -999,1.107,2,-999,9,-999,9,    -999,9,-999,9, 20080226,     1711, -60.5000,  30.0001,    -999,-999,9,     -999,9,     -999,9,     -999,9,     -999,9,     -999,9,     -999,9,-999,9,     -999,9,     -999,9,     -999,9,    -999,    -999
33RR20080204,       I06S,      67,          2,          9,          9,2,20080226,       1619,   -60.5001,    30.0000,       5250,  3257.4,  -0.0771,  34.6639,2,  34.6639,2,    227.5,2,   229.2,2,  128.13,2,   32.78,2,    0.00,2,    2.27,2,   0.366,2,   0.198,2,   0.010,2,  2257.3,2,  2355.6,2,   7.7892,2,    13.00,    -999,9,    -999,9,    -999,9,-999,9,-999,9,-999,9,-999,    -999,9,    -999,1.118,2,-999,9,-999,9,   38.05,2,-999,1, 20080226,     1704, -60.5000,  30.0000,    -999,-999,9,     -999,9,     -999,9,     -999,9,     -999,9,     -999,9,     -999,9,-999,9,     -999,9,     -999,9,     -999,9,    -999,    -999
33RR20080204,       I06S,      67,          2,          8,          8,2,20080226,       1619,   -60.5001,    30.0000,       5250,  3562.6,  -0.1391,  34.6614,2,  34.6611,2,    231.6,2,   233.0,2,  127.74,2,   32.68,2,    0.00,2,    2.26,2,   0.412,2,   0.233,2,   0.019,2,  2255.1,2,  2355.0,2,   7.7912,2,    13.00,    -999,9,    -999,9,    -999,9,-999,9,-999,9,-999,9,-999,    -999,9,    -999,1.171,2,-999,9,-999,9,    -999,9,-999,9, 20080226,     1658, -60.5000,  30.0000,    -999,-999,9,     -999,9,     -999,9,     -999,9,     -999,9,     -999,9,     -999,9,-999,9,     -999,9,     -999,9,     -999,9,    -999,    -999