BOTTLE,20220706CCHSIOAMB
EXPOCODE,SECT_ID,STNNBR,CASTNO,SAMPNO,BTLNBR,BTLNBR_FLAG_W,DATE,TIME,LATITUDE,LONGITUDE,DEPTH,CTDPRS,CTDTMP,CTDSAL,CTDSAL_FLAG_W,SALNTY,SALNTY_FLAG_W,CTDOXY,CTDOXY_FLAG_W,OXYGEN,OXYGEN_FLAG_W,SILCAT,SILCAT_FLAG_W,NITRAT,NITRAT_FLAG_W,NITRIT,NITRIT_FLAG_W,PHSPHT,PHSPHT_FLAG_W,CFC-11,CFC-11_FLAG_W,CFC-12,CFC-12_FLAG_W,CFC113,CFC113_FLAG_W,TCARBN,TCARBN_FLAG_W,ALKALI,ALKALI_FLAG_W,PH_SWS,PH_SWS_FLAG_W,PH_TMP,TRITUM,TRITUM_FLAG_W,HELIUM,HELIUM_FLAG_W,DELHE3,DELHE3_FLAG_W,REFTMP,REFTMP_FLAG_W,DELC13,DELC13_FLAG_W,DELC14,DELC14_FLAG_W,C14ERR,NEON,NEON_FLAG_W,NEONER,CCL4,CCL4_FLAG_W,ALUMIN,ALUMIN_FLAG_W,DELO18,DELO18_FLAG_W,DOC,DOC_FLAG_W,TDN,TDN_FLAG_W,BTL_DATE,BTL_TIME,BTL_LAT,BTL_LON,TRITER,DELSI30,DELSI30_FLAG_W,CDOM380,CDOM380_FLAG_W,CDOM325,CDOM325_FLAG_W,CDOMSL,CDOMSL_FLAG_W,CDOM340,CDOM340_FLAG_W,CDOM443,CDOM443_FLAG_W,CDOMSN,CDOMSN_FLAG_W,BLACKC,BLACKC_FLAG_W,CDOM490,CDOM490_FLAG_W,CDOM412,CDOM412_FLAG_W,CDOM555,CDOM555_FLAG_W,DELHER,HELIER
,,,,,,,,,,,METERS,DBAR,ITS-90,PSS-78,,PSS-78,,UMOL/KG,,UMOL/KG,,UMOL/KG,,UMOL/KG,,UMOL/KG,,UMOL/KG,,PMOL/KG,,PMOL/KG,,PMOL/KG,,UMOL/KG,,UMOL/KG,,,,DEG C,TU,,NMOL/KG,,PERCNT,,DEG C,,/MILLE,,/MILLE,,/MILLE,NMOL/KG,,NMOL/KG,PMOL/KG,,NMOL/L,,/MILLE,,UMOL/KG,,UMOL/KG,,,,,,TU,/MILLE,,1/M,,1/M,,1/NM,,1/M,,1/M,,1/NM,,,,1/M,,1/M,,1/M,,PERCNT,NMOL/KG
33RR20080204,       I06S,      34,          1,          7,          7,2,20080215,       2323,   -44.0007,    29.9986,       5482,  4180.8,   0.8849,  34.7112,2,  34.7111,2,    213.6,2,   213.9,2,  114.97,2,   31.56,2,    0.00,2,    2.19,2,   0.163,2,   0.098,2,   0.018,2,    -999,9,    -999,9,     -999,9,     -999,    -999,9,    -999,9,    -999,9,0.8848,2,-999,9,-999,9,-999,    -999,9,    -999,1.18,2,-999,9,-999,9,    -999,9,-999,9, 20080215,     2358, -44.0006,  29.9986,    -999,-999,9,     -999,9,     -999,9,     -999,9,     -999,9,     -999,9,     -999,9,-999,9,     -999,9,     -999,9,     -999,9,    -999,    -999
33RR20080204,       I06S,      34,          1,          6,          6,2,20080215,       2323,   -44.0007,    29.9986,       5482,  4486.9,   0.6643,  34.6941,2,  34.6940,2,    215.0,2,   215.7,2,  122.80,2,   32.18,2,    0.00,2,    2.23,2,   0.195,2,   0.107,2,   0.012,2,    -999,9,    -999,9,     -999,9,     -999,    -999,9,    -999,9,    -999,9,0.6643,2,-999,9,-999,9,-999,    -999,9,    -999,1.441,2,-999,9,-999,9,    -999,9,-999,9, 20080215,     2351, -44.0007,  29.9986,    -999,-999,9,     -999,9,     -999,9,     -999,9,     -999,9,     -999,9,     -999,9,-999,9,     -999,9,     -999,9,     -999,9,    -999,    -999
33RR20080204,       I06S,      34,          1,          5,          5,2,20080215,       2323,   -44.0007,    29.9986,       5482,  4690.8,   0.5335,  34.6863,2,  34.6858,2,    217.8,2,   218.7,2,  126.05,2,   32.34,2,    0.00,2,    2.24,2,   0.223,2,   0.121,2,   0.013,2,    -999,9,  2362.3,2,   7.7980,2,    13.00,    -999,9,    -999,9,    -999,9,0.534,2,-999,9,-999,9,-999,    -999,9,    -999,1.47,2,-999,9,-999,9,    -999,9,-999,9, 20080215,     2347, -44.0007,  29.9985,    -999,-999,9,     -999,9,     -999,9,     -999,9,     -999,9,     -999,9,     -999,9,-999,9,     -999,9,     -999,9,     -999,9,    -999,    -999
33RR20080204,       I06S,      34,          1,          4,          4,2,20080215,       2323,   -44.0007,    29.9986,       5482,  4895.4,   0.4070,  34.6779,2,  34.6778,2,    220.2,2,   220.4,2,  128.73,2,   32.55,2,    0.00,2,    2.26,2,   0.277,2,   0.160,2,   0.029,2,    -999,9,  2362.6,2,     -999,9,     -999,    -999,9,    -999,9,    -999,9,0.4084,2,-999,9,-999,9,-999,    -999,9,    -999,1.506,2,-999,9,-999,9,    -999,9,-999,9, 20080215,     2342, -44.0007,  29.9984,    -999,-999,9,     -999,9,     -999,9,     -999,9,     -999,9,     -999,9,     -999,9,-999,9,     -999,9,     -999,9,     -999,9,    -999,    -999
33RR20080204,       I06S,      34,          1,          3,          3,2,20080215,       2323,   -44.0007,    29.9986,       5482,  5100.1,   0.3178,  34.6727,2,  34.6717,2,    223.4,2,   223.7,2,  129.69,2,   32.51,2,    0.00,2,    2.26,2,   0.318,2,   0.174,2,   0.029,2,    -999,9,  2360.0,2,   7.7924,2,    13.00,    -999,9,    -999,9,    -999,9,0.3176,2,-999,9,-999,9,-999,    -999,9,    -999,1.381,2,-999,9,-999,9,    -999,9,-999,9, 20080215,     2337, -44.0006,  29.9988,    -999,-999,9,     -999,9,     -999,9,     -999,9,     -999,9,     -999,9,     -999,9,-999,9,     -999,9,     -999,9,     -999,9,    -999,    -999
33RR20080204,       I06S,      34,          1,          2,          2,2,20080215,       2323,   -44.0007,    29.9986,       5482,  5306.4,   0.2737,  34.6691,2,  34.6690,2,    225.5,2,   225.4,2,  130.65,2,   32.57,2,    0.00,2,    2.27,2,   0.356,2,   0.192,2,   0.021,2,    -999,9,  2360.0,2,     -999,9,     -999,    -999,9,    -999,9,    -999,9,0.274,2,-999,9,-999,9,-999,    -999,9,    -999,1.21,2,-999,9,-999,9,    -999,9,-999,9, 20080215,     2331, -44.0007,  29.9986,    -999,-999,9,     -999,9,     -999,9,     -999,9,     -999,9,     -999,9,     -999,9,-999,9,     -999,9,     -999,9,     -999,9,    -999,    -999
33RR20080204,       I06S,      34,          1,          1,          1,2,20080215,       2323,   -44.0007,    29.9986,       5482,  5560.6,   0.2506,  34.6665,2,  34.6664,2,    227.6,2,   227.1,2,  130.45,2,   32.57,2,    0.00,2,    2.26,2,   0.402,2,   0.222,2,   0.019,2,    -999,9,  2359.4,2,   7.7924,2,    13.00,    -999,9,    -999,9,    -999,9,0.2506,2,-999,9,-999,9,-999,    -999,9,    -999,0.845,2,-999,9,-999,9,    -999,9,-999,9, 20080215,     2325, -44.0007,  29.9986,    -999,-999,9,     -999,9,     -999,9,     -999,9,     -999,9,     -999,9,     -999,9,-999,9,     -999,9,     -999,9,     -999,9,    -999,    -999