BOTTLE,20220706CCHSIOAMB
EXPOCODE,SECT_ID,STNNBR,CASTNO,SAMPNO,BTLNBR,BTLNBR_FLAG_W,DATE,TIME,LATITUDE,LONGITUDE,DEPTH,CTDPRS,CTDTMP,CTDSAL,CTDSAL_FLAG_W,SALNTY,SALNTY_FLAG_W,CTDOXY,CTDOXY_FLAG_W,OXYGEN,OXYGEN_FLAG_W,SILCAT,SILCAT_FLAG_W,NITRAT,NITRAT_FLAG_W,NITRIT,NITRIT_FLAG_W,PHSPHT,PHSPHT_FLAG_W,CFC-11,CFC-11_FLAG_W,CFC-12,CFC-12_FLAG_W,CFC113,CFC113_FLAG_W,TCARBN,TCARBN_FLAG_W,ALKALI,ALKALI_FLAG_W,PH_SWS,PH_SWS_FLAG_W,PH_TMP,TRITUM,TRITUM_FLAG_W,HELIUM,HELIUM_FLAG_W,DELHE3,DELHE3_FLAG_W,REFTMP,REFTMP_FLAG_W,DELC13,DELC13_FLAG_W,DELC14,DELC14_FLAG_W,C14ERR,NEON,NEON_FLAG_W,NEONER,CCL4,CCL4_FLAG_W,ALUMIN,ALUMIN_FLAG_W,DELO18,DELO18_FLAG_W,DOC,DOC_FLAG_W,TDN,TDN_FLAG_W,BTL_DATE,BTL_TIME,BTL_LAT,BTL_LON,TRITER,DELSI30,DELSI30_FLAG_W,CDOM380,CDOM380_FLAG_W,CDOM325,CDOM325_FLAG_W,CDOMSL,CDOMSL_FLAG_W,CDOM340,CDOM340_FLAG_W,CDOM443,CDOM443_FLAG_W,CDOMSN,CDOMSN_FLAG_W,BLACKC,BLACKC_FLAG_W,CDOM490,CDOM490_FLAG_W,CDOM412,CDOM412_FLAG_W,CDOM555,CDOM555_FLAG_W,DELHER,HELIER
,,,,,,,,,,,METERS,DBAR,ITS-90,PSS-78,,PSS-78,,UMOL/KG,,UMOL/KG,,UMOL/KG,,UMOL/KG,,UMOL/KG,,UMOL/KG,,PMOL/KG,,PMOL/KG,,PMOL/KG,,UMOL/KG,,UMOL/KG,,,,DEG C,TU,,NMOL/KG,,PERCNT,,DEG C,,/MILLE,,/MILLE,,/MILLE,NMOL/KG,,NMOL/KG,PMOL/KG,,NMOL/L,,/MILLE,,UMOL/KG,,UMOL/KG,,,,,,TU,/MILLE,,1/M,,1/M,,1/NM,,1/M,,1/M,,1/NM,,,,1/M,,1/M,,1/M,,PERCNT,NMOL/KG
33RR20080204,       I06S,      93,          2,         23,         23,2,20080305,       1211,   -68.3642,    31.4370,        598,     3.2,  -0.9870,  33.9713,2,  33.9702,2,    337.8,2,   337.7,2,   55.18,2,   26.82,2,    0.14,2,    1.88,2,   6.068,2,   3.335,2,   0.513,2,  2189.1,4,  2302.1,2,   7.8709,2,    13.00,    -999,9,    -999,1,    -999,9,-0.9878,2,-999,9,-999,9,-999,    -999,9,    -999,9.053,2,-999,9,-0.41,2,   49.17,2,-999,1, 20080305,     1242, -68.3642,  31.4370,    -999,-999,9,   0.0595,2,   0.1353,2,   0.0108,3,   0.0981,2,   0.0332,2,   0.0118,3,-999,9,   0.0198,2,   0.0450,2,   0.0097,2,    -999,    -999
33RR20080204,       I06S,      93,          2,         21,         21,2,20080305,       1211,   -68.3642,    31.4370,        598,    20.2,  -1.0160,  33.9733,2,  33.9734,2,    337.5,2,   337.5,2,   55.32,2,   26.82,2,    0.14,2,    1.88,2,   6.057,2,   3.354,2,   0.503,2,  2175.4,2,  2302.6,2,   7.8706,4,    13.00,    -999,9,    -999,9,    -999,9,-1.0174,2,-999,9,-999,9,-999,    -999,9,    -999,8.973,2,-999,9,-0.36,2,   44.00,2,-999,1, 20080305,     1240, -68.3642,  31.4370,    -999,-999,9,   0.0291,2,   0.0917,2,   0.0145,3,   0.0581,2,   0.0137,2,   0.0183,3,-999,9,   0.0055,2,   0.0213,2,   0.0013,3,    -999,    -999
33RR20080204,       I06S,      93,          2,         22,         22,2,20080305,       1211,   -68.3642,    31.4370,        598,    21.4,  -1.0239,  33.9736,2,  33.9732,2,    337.5,2,   337.7,2,   55.25,2,   26.87,2,    0.13,2,    1.88,2,    -999,9,    -999,9,    -999,9,    -999,9,  2302.8,2,   7.8704,2,    13.00,    -999,9,    -999,9,    -999,9,-1.0201,2,-999,9,-999,9,-999,    -999,9,    -999,-999,9,-999,9,-999,9,    -999,9,-999,9, 20080305,     1240, -68.3642,  31.4370,    -999,-999,9,     -999,9,     -999,9,     -999,9,     -999,9,     -999,9,     -999,9,-999,1,     -999,9,     -999,9,     -999,9,    -999,    -999
33RR20080204,       I06S,      93,          2,         20,         20,2,20080305,       1211,   -68.3642,    31.4370,        598,    36.6,  -1.0138,  33.9740,2,  33.9744,2,    337.4,2,   337.5,2,   55.20,2,   26.82,2,    0.13,2,    1.88,2,   6.049,2,   3.328,2,   0.505,2,  2176.3,2,  2303.3,2,   7.8716,2,    13.00,    -999,9,    -999,9,    -999,9,-1.0137,2,-999,9,-999,9,-999,    -999,9,    -999,8.627,2,-999,9,-0.28,2,   45.56,2,-999,1, 20080305,     1239, -68.3642,  31.4370,    -999,-999,9,   0.0232,2,   0.0887,2,   0.0186,3,   0.0553,2,   0.0086,2,   0.0236,3,-999,9,   0.0018,2,   0.0152,2,   0.0004,4,    -999,    -999
33RR20080204,       I06S,      93,          2,         19,         19,2,20080305,       1211,   -68.3642,    31.4370,        598,    51.0,  -1.1755,  34.0086,2,  34.0242,2,    335.6,2,   330.8,2,   56.67,2,   27.59,2,    0.13,2,    1.94,2,   5.889,2,   3.238,2,   0.495,2,  2182.4,2,  2305.2,2,   7.8589,2,    13.00,    -999,9,    -999,9,    -999,9,-1.209,3,-999,9,-999,9,-999,    -999,9,    -999,8.08,2,-999,9,-0.27,2,   41.46,2,-999,1, 20080305,     1237, -68.3642,  31.4370,    -999,-999,9,   0.0318,2,   0.0981,2,   0.0154,3,   0.0639,2,   0.0137,2,   0.0186,3,-999,9,   0.0052,2,   0.0218,2,   0.0014,3,    -999,    -999
33RR20080204,       I06S,      93,          2,         18,         18,2,20080305,       1211,   -68.3642,    31.4370,        598,    81.8,  -1.7293,  34.1880,2,  34.1912,2,    319.2,2,   316.4,2,   61.32,2,   30.00,2,    0.11,2,    2.10,2,   5.558,2,   3.009,2,   0.497,2,  2200.4,2,  2314.1,2,   7.8206,4,    13.00,    -999,9,    -999,1,    -999,9,-1.7296,2,-999,9,-999,9,-999,    -999,9,    -999,7.718,2,-999,9,-0.44,2,   42.34,2,-999,1, 20080305,     1236, -68.3642,  31.4370,    -999,-999,9,   0.0265,2,   0.0948,2,   0.0173,3,   0.0588,2,   0.0104,2,   0.0219,3,-999,9,   0.0027,2,   0.0177,2,  -0.0001,4,    -999,    -999
33RR20080204,       I06S,      93,          2,         17,         17,2,20080305,       1211,   -68.3642,    31.4370,        598,   112.3,  -1.7600,  34.2094,2,  34.2117,2,    316.5,2,   315.4,2,   62.19,2,   30.12,2,    0.10,2,    2.10,2,   5.516,2,   3.004,2,   0.511,2,  2204.4,2,  2314.1,2,   7.8160,2,    13.00,    -999,9,    -999,9,    -999,9,-1.76,2,-999,9,-999,9,-999,    -999,9,    -999,8.168,2,-999,9,-999,9,   40.68,2,-999,1, 20080305,     1235, -68.3642,  31.4370,    -999,-999,9,   0.0265,2,   0.0910,2,   0.0167,3,   0.0571,2,   0.0107,2,   0.0209,3,-999,9,   0.0027,2,   0.0182,2,  -0.0001,4,    -999,    -999
33RR20080204,       I06S,      93,          2,         15,         15,2,20080305,       1211,   -68.3642,    31.4370,        598,   142.8,  -1.7916,  34.2474,2,  34.2474,2,    314.2,2,   313.9,2,   62.26,2,   30.47,2,    0.06,2,    2.11,2,   5.436,2,   2.981,2,   0.488,2,  2210.0,2,  2315.9,2,   7.8138,2,    13.00,    -999,9,    -999,9,    -999,9,-1.7926,2,-999,9,-999,9,-999,    -999,9,    -999,8.002,2,-999,9,-0.22,2,   38.34,2,-999,1, 20080305,     1233, -68.3642,  31.4370,    -999,-999,9,   0.0261,2,   0.0894,2,   0.0168,3,   0.0557,2,   0.0101,2,   0.0211,3,-999,9,   0.0026,2,   0.0177,2,   0.0000,4,    -999,    -999
33RR20080204,       I06S,      93,          2,         14,         14,2,20080305,       1211,   -68.3642,    31.4370,        598,   174.0,  -1.7259,  34.2688,2,  34.2687,2,    310.2,2,   310.3,2,   64.13,2,   30.50,2,    0.06,2,    2.11,2,   5.279,2,   2.857,2,   0.463,2,  2212.2,2,  2317.4,2,   7.8129,2,    13.00,    -999,9,    -999,9,    -999,9,-1.7252,2,-999,9,-999,9,-999,    -999,9,    -999,7.639,2,-999,9,-999,9,    -999,9,-999,9, 20080305,     1231, -68.3642,  31.4370,    -999,-999,9,     -999,9,     -999,9,     -999,9,     -999,9,     -999,9,     -999,9,-999,9,     -999,9,     -999,9,     -999,9,    -999,    -999
33RR20080204,       I06S,      93,          2,         12,         12,2,20080305,       1211,   -68.3642,    31.4370,        598,   203.6,  -1.6693,  34.2864,2,  34.2858,2,    304.4,2,   308.0,2,   65.48,2,   30.49,2,    0.07,2,    2.12,2,   5.159,2,   2.796,2,   0.463,2,    -999,9,    -999,9,     -999,9,     -999,    -999,9,    -999,9,    -999,9,-1.6699,2,-999,9,-999,9,-999,    -999,9,    -999,7.279,2,-999,9,-999,9,    -999,9,-999,9, 20080305,     1230, -68.3642,  31.4370,    -999,-999,9,     -999,9,     -999,9,     -999,9,     -999,9,     -999,9,     -999,9,-999,1,     -999,9,     -999,9,     -999,9,    -999,    -999
33RR20080204,       I06S,      93,          2,         13,         13,2,20080305,       1211,   -68.3642,    31.4370,        598,   203.9,  -1.6703,  34.2869,2,  34.2683,3,    304.4,2,   307.0,2,   65.60,2,   30.60,2,    0.07,2,    2.12,2,   5.141,2,   2.790,2,   0.452,2,  2212.4,2,  2317.5,2,   7.8100,2,    13.00,    -999,9,    -999,1,    -999,9,-999,9,-999,9,-999,9,-999,    -999,9,    -999,7.282,2,-999,9,-0.23,2,   43.32,2,-999,1, 20080305,     1230, -68.3642,  31.4370,    -999,-999,9,   0.0268,2,   0.0924,2,   0.0175,3,   0.0575,2,   0.0099,2,   0.0215,3,-999,9,   0.0023,2,   0.0173,2,  -0.0002,4,    -999,    -999
33RR20080204,       I06S,      93,          2,         11,         11,2,20080305,       1211,   -68.3642,    31.4370,        598,   233.6,  -1.5431,  34.3147,2,  34.3150,2,    300.1,2,   301.5,2,   67.75,2,   30.67,2,    0.05,2,    2.12,2,   4.953,2,   2.686,2,   0.457,2,  2216.3,2,  2320.6,2,   7.8087,2,    13.00,    -999,9,    -999,9,    -999,9,-1.5426,2,-999,9,-999,9,-999,    -999,9,    -999,7.126,2,-999,9,-999,9,   40.10,2,-999,1, 20080305,     1228, -68.3642,  31.4369,    -999,-999,9,     -999,9,     -999,9,     -999,9,     -999,9,     -999,9,     -999,9,-999,9,     -999,9,     -999,9,     -999,9,    -999,    -999
33RR20080204,       I06S,      93,          2,         10,         10,2,20080305,       1211,   -68.3642,    31.4370,        598,   264.1,  -1.2594,  34.3644,2,  34.3643,2,    294.1,2,   290.4,2,   70.63,2,   30.89,2,    0.03,2,    2.13,2,   4.601,2,   2.507,2,   0.413,2,  2219.0,2,  2324.1,2,   7.8046,2,    13.00,    -999,9,    -999,9,    -999,9,-1.2737,2,-999,9,-999,9,-999,    -999,9,    -999,6.409,2,-999,9,-999,9,    -999,9,-999,9, 20080305,     1227, -68.3642,  31.4370,    -999,-999,9,     -999,9,     -999,9,     -999,9,     -999,9,     -999,9,     -999,9,-999,9,     -999,9,     -999,9,     -999,9,    -999,    -999
33RR20080204,       I06S,      93,          2,          9,          9,2,20080305,       1211,   -68.3642,    31.4370,        598,   293.9,  -1.0498,  34.3960,2,  34.3953,2,    283.4,2,   282.8,2,   72.70,2,   31.00,2,    0.02,2,    2.15,2,   4.301,2,   2.315,2,   0.384,2,  2223.4,2,  2327.1,2,   7.8071,4,    13.00,    -999,9,    -999,1,    -999,9,-1.0518,2,-999,9,-999,9,-999,    -999,9,    -999,5.806,2,-999,9,-0.27,2,   37.95,2,-999,1, 20080305,     1225, -68.3642,  31.4370,    -999,-999,9,   0.0290,2,   0.0989,2,   0.0171,3,   0.0626,2,   0.0112,2,   0.0210,3,-999,9,   0.0029,2,   0.0191,2,  -0.0001,4,    -999,    -999
33RR20080204,       I06S,      93,          2,          8,          8,2,20080305,       1211,   -68.3642,    31.4370,        598,   334.8,  -0.6204,  34.4640,2,  34.4629,2,    267.4,2,   265.7,2,   78.58,2,   31.21,2,    0.01,2,    2.17,2,   3.611,2,   1.928,2,   0.319,2,  2229.5,2,  2331.2,2,   7.7932,2,    13.00,    -999,9,    -999,9,    -999,9,-0.6249,2,-999,9,-999,9,-999,    -999,9,    -999,4.677,2,-999,9,-999,9,    -999,9,-999,9, 20080305,     1223, -68.3642,  31.4370,    -999,-999,9,     -999,9,     -999,9,     -999,9,     -999,9,     -999,9,     -999,9,-999,9,     -999,9,     -999,9,     -999,9,    -999,    -999
33RR20080204,       I06S,      93,          2,          7,          7,2,20080305,       1211,   -68.3642,    31.4370,        598,   375.3,  -0.0372,  34.5807,2,  34.5743,2,    242.5,2,   240.6,2,   93.73,2,   31.62,2,    0.01,2,    2.19,2,   2.265,2,   1.204,2,   0.155,2,  2242.5,2,  2342.3,2,   7.7879,2,    13.00,    -999,9,    -999,9,    -999,9,-0.0518,2,-999,9,-999,9,-999,    -999,9,    -999,3.118,2,-999,9,-999,9,   39.90,2,-999,1, 20080305,     1221, -68.3642,  31.4370,    -999,-999,9,   0.0409,2,   0.1194,2,   0.0157,2,   0.0810,2,   0.0170,2,   0.0177,3,-999,9,   0.0067,2,   0.0273,2,   0.0020,2,    -999,    -999
33RR20080204,       I06S,      93,          2,          6,          6,2,20080305,       1211,   -68.3642,    31.4370,        598,   415.9,   0.3455,  34.6492,2,  34.6508,2,    221.9,2,   223.4,2,  101.68,2,   31.67,2,    0.01,2,    2.19,2,   1.400,2,   0.739,2,   0.100,2,  2252.8,2,  2349.3,2,   7.7860,2,    13.00,    -999,9,    -999,1,    -999,9,0.346,2,-999,9,-999,9,-999,    -999,9,    -999,2.184,2,-999,9,-0.15,2,    -999,9,-999,9, 20080305,     1220, -68.3642,  31.4370,    -999,-999,9,     -999,9,     -999,9,     -999,9,     -999,9,     -999,9,     -999,9,-999,9,     -999,9,     -999,9,     -999,9,    -999,    -999
33RR20080204,       I06S,      93,          2,          5,          5,2,20080305,       1211,   -68.3642,    31.4370,        598,   456.5,   0.2927,  34.6561,2,  34.6583,2,    225.7,2,   222.6,2,  106.61,2,   31.87,2,    0.01,2,    2.20,2,   1.237,2,   0.661,2,   0.088,2,  2254.5,2,  2351.1,2,   7.7861,2,    13.00,    -999,9,    -999,9,    -999,9,0.2936,2,-999,9,-999,9,-999,    -999,9,    -999,1.989,2,-999,9,-999,9,    -999,9,-999,9, 20080305,     1218, -68.3642,  31.4370,    -999,-999,9,     -999,9,     -999,9,     -999,9,     -999,9,     -999,9,     -999,9,-999,9,     -999,9,     -999,9,     -999,9,    -999,    -999
33RR20080204,       I06S,      93,          2,          4,          4,2,20080305,       1211,   -68.3642,    31.4370,        598,   497.2,   0.2330,  34.6629,2,  34.6628,2,    221.0,2,   221.8,2,  111.35,2,   32.07,2,    0.02,2,    2.22,2,   1.072,2,   0.564,2,   0.076,2,  2255.7,2,  2352.1,2,   7.7837,2,    13.00,    -999,9,    -999,1,    -999,9,0.2326,2,-999,9,-999,9,-999,    -999,9,    -999,1.736,2,-999,9,-999,9,   42.44,3,-999,1, 20080305,     1216, -68.3642,  31.4370,    -999,-999,9,     -999,9,     -999,9,     -999,9,     -999,9,     -999,9,     -999,9,-999,9,     -999,9,     -999,9,     -999,9,    -999,    -999
33RR20080204,       I06S,      93,          2,          3,          3,2,20080305,       1211,   -68.3642,    31.4370,        598,   536.5,   0.1552,  34.6652,2,  34.6662,2,    222.0,2,   222.4,2,  115.68,2,   32.12,2,    0.02,2,    2.22,2,   0.974,2,   0.521,2,   0.067,2,  2256.8,2,  2353.4,2,     -999,5,    13.00,    -999,9,    -999,9,    -999,9,0.1545,2,-999,9,-999,9,-999,    -999,9,    -999,1.757,2,-999,9,-0.19,2,    -999,9,-999,9, 20080305,     1214, -68.3642,  31.4370,    -999,-999,9,     -999,9,     -999,9,     -999,9,     -999,9,     -999,9,     -999,9,-999,9,     -999,9,     -999,9,     -999,9,    -999,    -999
33RR20080204,       I06S,      93,          2,          2,          2,2,20080305,       1211,   -68.3642,    31.4370,        598,   557.1,   0.1562,  34.6652,2,  34.6666,2,    222.4,2,   222.6,2,  115.76,2,   32.17,2,    0.02,2,    2.23,2,   0.971,2,   0.525,2,   0.068,2,  2257.0,2,  2354.7,2,   7.7830,2,    13.00,    -999,9,    -999,9,    -999,9,0.1551,2,-999,9,-999,9,-999,    -999,9,    -999,1.765,2,-999,9,-999,9,    -999,9,-999,9, 20080305,     1213, -68.3642,  31.4370,    -999,-999,9,     -999,9,     -999,9,     -999,9,     -999,9,     -999,9,     -999,9,-999,9,     -999,9,     -999,9,     -999,9,    -999,    -999
33RR20080204,       I06S,      93,          2,          1,          1,2,20080305,       1211,   -68.3642,    31.4370,        598,   586.0,   0.1562,  34.6651,2,  34.6654,2,    222.7,2,   222.6,2,  115.64,2,   32.07,2,    0.02,2,    2.23,2,   0.991,2,   0.527,2,   0.077,2,  2256.9,6,  2357.9,2,   7.7842,2,    13.00,    -999,9,    -999,1,    -999,9,0.1558,2,-999,9,-999,9,-999,    -999,9,    -999,1.763,2,-999,9,-0.19,2,   39.22,2,-999,1, 20080305,     1211, -68.3642,  31.4370,    -999,-999,9,   0.0336,2,   0.1114,2,   0.0173,2,   0.0725,2,   0.0125,2,   0.0204,3,-999,9,   0.0032,2,   0.0221,2,   0.0022,4,    -999,    -999