BOTTLE,20220706CCHSIOAMB
EXPOCODE,SECT_ID,STNNBR,CASTNO,SAMPNO,BTLNBR,BTLNBR_FLAG_W,DATE,TIME,LATITUDE,LONGITUDE,DEPTH,CTDPRS,CTDTMP,CTDSAL,CTDSAL_FLAG_W,SALNTY,SALNTY_FLAG_W,CTDOXY,CTDOXY_FLAG_W,OXYGEN,OXYGEN_FLAG_W,SILCAT,SILCAT_FLAG_W,NITRAT,NITRAT_FLAG_W,NITRIT,NITRIT_FLAG_W,PHSPHT,PHSPHT_FLAG_W,CFC-11,CFC-11_FLAG_W,CFC-12,CFC-12_FLAG_W,CFC113,CFC113_FLAG_W,TCARBN,TCARBN_FLAG_W,ALKALI,ALKALI_FLAG_W,PH_SWS,PH_SWS_FLAG_W,PH_TMP,TRITUM,TRITUM_FLAG_W,HELIUM,HELIUM_FLAG_W,DELHE3,DELHE3_FLAG_W,REFTMP,REFTMP_FLAG_W,DELC13,DELC13_FLAG_W,DELC14,DELC14_FLAG_W,C14ERR,NEON,NEON_FLAG_W,NEONER,CCL4,CCL4_FLAG_W,ALUMIN,ALUMIN_FLAG_W,DELO18,DELO18_FLAG_W,DOC,DOC_FLAG_W,TDN,TDN_FLAG_W,BTL_DATE,BTL_TIME,BTL_LAT,BTL_LON,TRITER,DELSI30,DELSI30_FLAG_W,CDOM380,CDOM380_FLAG_W,CDOM325,CDOM325_FLAG_W,CDOMSL,CDOMSL_FLAG_W,CDOM340,CDOM340_FLAG_W,CDOM443,CDOM443_FLAG_W,CDOMSN,CDOMSN_FLAG_W,BLACKC,BLACKC_FLAG_W,CDOM490,CDOM490_FLAG_W,CDOM412,CDOM412_FLAG_W,CDOM555,CDOM555_FLAG_W,DELHER,HELIER
,,,,,,,,,,,METERS,DBAR,ITS-90,PSS-78,,PSS-78,,UMOL/KG,,UMOL/KG,,UMOL/KG,,UMOL/KG,,UMOL/KG,,UMOL/KG,,PMOL/KG,,PMOL/KG,,PMOL/KG,,UMOL/KG,,UMOL/KG,,,,DEG C,TU,,NMOL/KG,,PERCNT,,DEG C,,/MILLE,,/MILLE,,/MILLE,NMOL/KG,,NMOL/KG,PMOL/KG,,NMOL/L,,/MILLE,,UMOL/KG,,UMOL/KG,,,,,,TU,/MILLE,,1/M,,1/M,,1/NM,,1/M,,1/M,,1/NM,,,,1/M,,1/M,,1/M,,PERCNT,NMOL/KG
33RR20080204,       I06S,      11,          1,         34,         34,2,20080208,       0631,   -33.9173,    28.8472,       3819,     4.5,  26.2396,  35.4113,2,  35.4132,2,    205.1,2,   205.0,2,    1.96,2,    0.12,2,    0.00,2,    0.08,2,   1.724,2,   1.061,2,   0.123,2,  1984.4,6,  2320.2,2,   8.1750,2,    20.00,    -999,9,    -999,9,    -999,9,-999,9,-999,9,-999,9,-999,    -999,9,    -999,2.313,2,-999,9,-999,9,   67.51,2,-999,1, 20080208,     0841, -33.9173,  28.8472,    -999,-999,9,   0.0187,2,   0.0830,2,   0.0067,3,   0.0574,2,   0.0010,3,   0.0270,2,-999,9,  -0.0020,4,   0.0079,2,  -0.0032,4,    -999,    -999
33RR20080204,       I06S,      11,          1,         33,         33,2,20080208,       0631,   -33.9173,    28.8472,       3819,    26.1,  26.2475,  35.4108,2,  35.4140,2,    206.3,2,   205.1,2,    1.96,2,    0.07,2,    0.00,2,    0.08,2,   1.708,2,   1.055,2,   0.108,2,  1981.6,2,  2319.7,2,   8.1740,2,    20.00,    -999,9,    -999,9,    -999,9,-999,9,-999,9,-999,9,-999,    -999,9,    -999,2.255,2,-999,9,-999,9,   72.00,2,-999,1, 20080208,     0838, -33.9173,  28.8472,    -999,-999,9,   0.0236,2,   0.0980,2,   0.0111,3,   0.0668,2,   0.0045,2,   0.0257,2,-999,9,   0.0004,4,   0.0121,2,  -0.0024,4,    -999,    -999
33RR20080204,       I06S,      11,          1,         32,         32,2,20080208,       0631,   -33.9173,    28.8472,       3819,    42.5,  25.2353,  35.4007,2,  35.4184,2,    208.6,2,   209.5,2,    1.95,2,    0.08,2,    0.00,2,    0.09,2,    -999,9,    -999,9,    -999,9,    -999,9,  2320.1,2,   8.1590,2,    20.00,    -999,9,    -999,9,    -999,9,-999,9,-999,9,-999,9,-999,    -999,9,    -999,-999,9,-999,9,-999,9,   69.17,2,-999,1, 20080208,     0836, -33.9173,  28.8472,    -999,-999,9,   0.0270,2,   0.1054,2,   0.0117,3,   0.0720,2,   0.0049,2,   0.0246,2,-999,9,   0.0000,4,   0.0140,2,  -0.0022,4,    -999,    -999
33RR20080204,       I06S,      11,          1,         31,         31,2,20080208,       0631,   -33.9173,    28.8472,       3819,    72.4,  23.3578,  35.4765,2,  35.4699,2,    214.8,2,   214.7,2,    1.94,2,    0.08,2,    0.00,2,    0.10,2,    -999,9,    -999,9,    -999,9,  2008.0,2,  2324.8,2,   8.1380,2,    20.00,    -999,9,    -999,9,    -999,9,-999,9,-999,9,-999,9,-999,    -999,9,    -999,-999,9,-999,9,-999,9,   58.44,2,-999,1, 20080208,     0833, -33.9173,  28.8472,    -999,-999,9,   0.0278,2,   0.1061,2,   0.0119,3,   0.0724,2,   0.0054,2,   0.0239,2,-999,9,   0.0001,4,   0.0152,2,  -0.0020,4,    -999,    -999
33RR20080204,       I06S,      11,          1,         30,         30,2,20080208,       0631,   -33.9173,    28.8472,       3819,    97.7,  21.1120,  35.4429,2,  35.4405,2,    208.3,2,   190.8,2,    3.52,2,    2.84,2,    0.12,2,    0.30,2,   2.143,2,   1.269,2,   0.121,2,    -999,9,  2320.2,2,   8.0780,2,    20.00,    -999,9,    -999,9,    -999,9,-999,9,-999,9,-999,9,-999,    -999,9,    -999,1.377,2,-999,9,-999,9,   59.22,2,-999,1, 20080208,     0831, -33.9173,  28.8471,    -999,-999,9,   0.0292,2,   0.1021,2,   0.0117,3,   0.0712,2,   0.0070,2,   0.0218,2,-999,9,   0.0005,4,   0.0189,2,  -0.0016,4,    -999,    -999
33RR20080204,       I06S,      11,          1,         29,         29,2,20080208,       0631,   -33.9173,    28.8472,       3819,   147.9,  18.4899,  35.5252,2,  35.5251,2,    206.4,2,   204.4,2,    3.71,2,    3.21,2,    0.04,2,    0.33,2,   2.434,2,   1.395,2,   0.147,2,  2060.1,2,  2327.6,2,   8.0550,2,    20.00,    -999,9,    -999,9,    -999,9,-999,9,-999,9,-999,9,-999,    -999,9,    -999,1.409,2,-999,9,-999,9,   56.88,2,-999,1, 20080208,     0827, -33.9173,  28.8472,    -999,-999,9,   0.0262,2,   0.0973,2,   0.0115,3,   0.0676,2,   0.0047,2,   0.0232,2,-999,9,  -0.0005,4,   0.0149,2,  -0.0023,4,    -999,    -999
33RR20080204,       I06S,      11,          1,         28,         28,2,20080208,       0631,   -33.9173,    28.8472,       3819,   196.8,  17.5952,  35.5334,2,  35.5344,2,    199.4,2,   203.2,2,    4.30,2,    4.58,2,    0.02,2,    0.41,2,   2.527,2,   1.441,2,   0.113,2,    -999,9,  2327.1,2,   8.0330,2,    20.00,    -999,9,    -999,9,    -999,9,-999,9,-999,9,-999,9,-999,    -999,9,    -999,1.358,2,-999,9,-999,9,   52.10,2,-999,1, 20080208,     0824, -33.9173,  28.8472,    -999,-999,9,   0.0229,2,   0.0853,2,   0.0105,3,   0.0576,2,   0.0045,2,   0.0234,2,-999,9,  -0.0005,4,   0.0138,2,  -0.0022,4,    -999,    -999
33RR20080204,       I06S,      11,          1,         27,         27,2,20080208,       0631,   -33.9173,    28.8472,       3819,   237.6,  17.1491,  35.5413,2,  35.5417,2,    197.0,2,   215.0,2,    3.89,2,    4.15,2,    0.01,2,    0.38,2,   2.562,6,   1.495,6,   0.164,6,  2069.1,2,  2327.2,2,   8.0370,2,    20.00,    -999,9,    -999,9,    -999,9,-999,9,-999,9,-999,9,-999,    -999,9,    -999,1.534,6,-999,9,-999,9,   55.32,2,-999,1, 20080208,     0821, -33.9173,  28.8472,    -999,-999,9,   0.0245,2,   0.0895,2,   0.0109,3,   0.0623,2,   0.0045,2,   0.0231,2,-999,9,  -0.0006,4,   0.0136,2,  -0.0024,4,    -999,    -999
33RR20080204,       I06S,      11,          1,         26,         26,2,20080208,       0631,   -33.9173,    28.8472,       3819,   284.4,  16.4718,  35.4750,3,  35.5029,2,    195.0,2,   192.8,2,    5.47,2,    6.83,2,    0.01,2,    0.56,2,   2.583,2,   1.489,2,   0.051,2,    -999,9,  2327.8,2,   7.9900,2,    20.00,    -999,9,    -999,9,    -999,9,-999,9,-999,9,-999,9,-999,    -999,9,    -999,0.885,2,-999,9,-999,9,   51.02,2,-999,1, 20080208,     0817, -33.9173,  28.8472,    -999,-999,9,   0.0224,2,   0.0846,2,   0.0105,3,   0.0566,2,   0.0045,2,   0.0237,2,-999,9,  -0.0005,4,   0.0134,2,  -0.0023,4,    -999,    -999
33RR20080204,       I06S,      11,          1,         25,         25,2,20080208,       0631,   -33.9173,    28.8472,       3819,   336.6,  15.7741,  35.4455,3,  35.4904,2,    197.2,2,   197.4,2,    5.08,2,    7.13,2,    0.00,2,    0.58,2,   2.675,2,   1.530,2,   0.041,2,  2099.4,2,  2327.8,2,   7.9790,2,    20.00,    -999,9,    -999,9,    -999,9,-999,9,-999,9,-999,9,-999,    -999,9,    -999,0.96,2,-999,9,-999,9,    -999,9,-999,9, 20080208,     0814, -33.9173,  28.8472,    -999,-999,9,     -999,9,     -999,9,     -999,9,     -999,9,     -999,9,     -999,9,-999,9,     -999,9,     -999,9,     -999,9,    -999,    -999
33RR20080204,       I06S,      11,          1,         24,         24,2,20080208,       0631,   -33.9173,    28.8472,       3819,   386.7,  14.9521,  35.3878,3,  35.4266,2,    201.6,2,   202.5,2,    4.86,2,    7.98,2,    0.00,2,    0.63,2,   2.742,2,   1.582,2,   0.040,2,    -999,9,  2324.5,2,   7.9670,2,    20.00,    -999,9,    -999,9,    -999,9,-999,9,-999,9,-999,9,-999,    -999,9,    -999,0.866,2,-999,9,-999,9,   48.59,2,-999,1, 20080208,     0810, -33.9173,  28.8471,    -999,-999,9,   0.0184,2,   0.0766,2,   0.0097,3,   0.0502,2,   0.0030,3,   0.0259,2,-999,9,  -0.0011,4,   0.0102,2,  -0.0026,4,    -999,    -999
33RR20080204,       I06S,      11,          1,         23,         23,2,20080208,       0631,   -33.9173,    28.8472,       3819,   437.6,  14.0466,  35.2475,3,  35.3485,2,    206.4,2,   205.3,2,    5.25,2,    9.22,2,    0.00,2,    0.71,2,   2.975,2,   1.635,2,   0.051,2,  2111.1,2,  2320.8,2,   7.9490,2,    20.00,    -999,9,    -999,9,    -999,9,-999,9,-999,9,-999,9,-999,    -999,9,    -999,1.081,2,-999,9,-999,9,    -999,9,-999,9, 20080208,     0807, -33.9173,  28.8472,    -999,-999,9,     -999,9,     -999,9,     -999,9,     -999,9,     -999,9,     -999,9,-999,9,     -999,9,     -999,9,     -999,9,    -999,    -999
33RR20080204,       I06S,      11,          1,         22,         22,2,20080208,       0631,   -33.9173,    28.8472,       3819,   488.9,  13.3589,  35.2272,3,  35.2657,2,    211.3,2,   211.9,2,    5.05,2,   10.03,2,    0.00,2,    0.76,2,   3.111,2,   1.689,2,   0.073,2,    -999,9,  2317.4,2,   7.9390,2,    20.00,    -999,9,    -999,9,    -999,9,-999,9,-999,9,-999,9,-999,    -999,9,    -999,1.3,2,-999,9,-999,9,   47.61,2,-999,1, 20080208,     0804, -33.9173,  28.8472,    -999,-999,9,   0.0143,2,   0.0674,2,   0.0079,3,   0.0419,2,   0.0012,3,   0.0292,2,-999,9,  -0.0023,4,   0.0074,2,  -0.0034,4,    -999,    -999
33RR20080204,       I06S,      11,          1,         21,         21,2,20080208,       0631,   -33.9173,    28.8472,       3819,   566.8,  12.6814,  35.0765,3,  35.1850,2,    202.3,4,   215.7,2,    5.05,2,   10.97,2,    0.00,2,    0.82,2,   3.219,2,   1.697,2,   0.108,2,  2114.0,2,  2313.8,2,   7.9280,2,    20.00,    -999,9,    -999,9,    -999,9,-999,9,-999,9,-999,9,-999,    -999,9,    -999,1.464,2,-999,9,-999,9,    -999,9,-999,9, 20080208,     0800, -33.9173,  28.8472,    -999,-999,1,     -999,9,     -999,9,     -999,9,     -999,9,     -999,9,     -999,9,-999,9,     -999,9,     -999,9,     -999,9,    -999,    -999
33RR20080204,       I06S,      11,          1,         20,         20,2,20080208,       0631,   -33.9173,    28.8472,       3819,   667.6,  11.5194,  34.9783,3,  35.0149,2,    196.8,4,   216.1,2,    5.83,2,   13.36,2,    0.00,2,    0.98,2,   3.272,2,   1.690,2,   0.100,2,    -999,9,  2306.4,2,   7.9000,2,    20.00,    -999,9,    -999,9,    -999,9,-999,9,-999,9,-999,9,-999,    -999,9,    -999,1.658,2,-999,9,-999,9,   45.85,2,-999,1, 20080208,     0756, -33.9173,  28.8472,    -999,-999,9,   0.0148,2,   0.0697,2,   0.0279,2,   0.0438,2,   0.0010,3,   0.0288,2,-999,9,  -0.0025,4,   0.0062,2,  -0.0032,4,    -999,    -999
33RR20080204,       I06S,      11,          1,         19,         19,2,20080208,       0631,   -33.9173,    28.8472,       3819,   769.4,  10.3083,  34.8316,3,  34.8484,2,    194.5,4,   213.5,2,    7.82,2,   16.35,2,    0.00,2,    1.16,2,   3.182,2,   1.603,2,   0.121,2,  2135.3,2,  2299.8,2,   7.8660,2,    20.00,    -999,9,    -999,9,    -999,9,-999,9,-999,9,-999,9,-999,    -999,9,    -999,1.791,2,-999,9,-999,9,    -999,9,-999,9, 20080208,     0751, -33.9173,  28.8472,    -999,-999,1,     -999,9,     -999,9,     -999,9,     -999,9,     -999,9,     -999,9,-999,9,     -999,9,     -999,9,     -999,9,    -999,    -999
33RR20080204,       I06S,      11,          1,         18,         18,2,20080208,       0631,   -33.9173,    28.8472,       3819,   865.5,   9.1904,  34.7104,3,  34.7236,2,    187.3,4,   203.0,2,   12.00,2,   19.95,2,    0.00,2,    1.39,2,   2.859,2,   1.408,2,   0.126,2,    -999,9,  2298.7,2,   7.8230,2,    20.00,    -999,9,    -999,9,    -999,9,-999,9,-999,9,-999,9,-999,    -999,9,    -999,1.969,2,-999,9,-999,9,   43.90,2,-999,1, 20080208,     0747, -33.9173,  28.8472,    -999,-999,9,   0.0148,2,   0.0682,2,   0.0263,2,   0.0418,2,   0.0023,3,   0.0288,2,-999,9,  -0.0019,4,   0.0081,2,  -0.0028,4,    -999,    -999
33RR20080204,       I06S,      11,          1,         17,         17,2,20080208,       0631,   -33.9173,    28.8472,       3819,   969.3,   7.6219,  34.5486,3,  34.5700,2,    180.8,4,   195.4,2,   18.41,2,   24.46,2,    0.00,2,    1.69,2,   2.576,2,   1.257,2,   0.141,2,  2168.9,2,  2295.4,2,   7.7690,2,    20.00,    -999,9,    -999,9,    -999,9,-999,9,-999,9,-999,9,-999,    -999,9,    -999,2.595,2,-999,9,-999,9,   43.71,2,-999,1, 20080208,     0743, -33.9173,  28.8472,    -999,-999,1,   0.0177,2,   0.0778,2,   0.0238,2,   0.0480,2,   0.0039,2,   0.0273,2,-999,9,  -0.0012,4,   0.0102,2,  -0.0025,4,    -999,    -999
33RR20080204,       I06S,      11,          1,         16,         16,2,20080208,       0631,   -33.9173,    28.8472,       3819,   969.6,   7.6116,  34.5310,3,  34.5672,2,     -999,9,    -999,9,    -999,9,    -999,9,    -999,9,    -999,9,    -999,9,    -999,9,    -999,9,    -999,9,    -999,5,     -999,5,     -999,    -999,9,    -999,9,    -999,9,-999,9,-999,9,-999,9,-999,    -999,9,    -999,-999,9,-999,9,-999,9,    -999,9,-999,9, 20080208,     0742, -33.9173,  28.8472,    -999,-999,9,     -999,9,     -999,9,     -999,9,     -999,9,     -999,9,     -999,9,-999,9,     -999,9,     -999,9,     -999,9,    -999,    -999
33RR20080204,       I06S,      11,          1,         15,         15,2,20080208,       0631,   -33.9173,    28.8472,       3819,  1071.2,   6.0892,  34.4301,3,  34.4677,2,    183.0,4,   193.8,2,   27.07,2,   28.08,2,    0.00,2,    1.94,2,   2.145,2,   1.051,2,   0.131,2,  2187.2,2,  2300.2,2,   7.7320,2,    20.00,    -999,9,    -999,9,    -999,9,-999,9,-999,9,-999,9,-999,    -999,9,    -999,2.88,2,-999,9,-999,9,    -999,9,-999,9, 20080208,     0739, -33.9173,  28.8472,    -999,-999,9,     -999,9,     -999,9,     -999,9,     -999,9,     -999,9,     -999,9,-999,9,     -999,9,     -999,9,     -999,9,    -999,    -999
33RR20080204,       I06S,      11,          1,         14,         14,2,20080208,       0631,   -33.9173,    28.8472,       3819,  1174.8,   5.1331,  34.4283,3,  34.4359,2,    183.2,4,   190.8,2,   35.16,2,   30.20,2,    0.00,2,    2.10,2,   1.912,2,   0.923,2,   0.132,2,    -999,9,  2304.9,2,   7.7060,2,    20.00,    -999,9,    -999,9,    -999,9,-999,9,-999,9,-999,9,-999,    -999,9,    -999,3.09,2,-999,9,-999,9,   41.37,2,-999,1, 20080208,     0736, -33.9173,  28.8472,    -999,-999,9,   0.0196,2,   0.0813,2,   0.0221,2,   0.0493,2,   0.0050,2,   0.0263,2,-999,9,  -0.0009,4,   0.0115,2,  -0.0024,4,    -999,    -999
33RR20080204,       I06S,      11,          1,         13,         13,2,20080208,       0631,   -33.9173,    28.8472,       3819,  1270.4,   4.5664,  34.4321,3,  34.4565,2,    182.5,4,   182.3,2,   44.09,2,   31.76,2,    0.00,2,    2.22,2,   1.406,2,   0.683,2,   0.099,2,  2215.4,2,  2313.3,2,   7.6840,2,    20.00,    -999,9,    -999,9,    -999,9,-999,9,-999,9,-999,9,-999,    -999,9,    -999,2.448,2,-999,9,-999,9,    -999,9,-999,9, 20080208,     0733, -33.9173,  28.8472,    -999,-999,9,     -999,9,     -999,9,     -999,9,     -999,9,     -999,9,     -999,9,-999,9,     -999,9,     -999,9,     -999,9,    -999,    -999
33RR20080204,       I06S,      11,          1,         12,         12,2,20080208,       0631,   -33.9173,    28.8472,       3819,  1373.0,   3.9540,  34.4619,2,  34.4673,2,    178.3,4,   178.2,2,   51.01,2,   32.82,2,    0.00,2,    2.29,2,   1.120,2,   0.546,2,   0.079,2,    -999,9,  2318.4,2,   7.6680,2,    20.00,    -999,9,    -999,9,    -999,9,-999,9,-999,9,-999,9,-999,    -999,9,    -999,2.117,2,-999,9,-999,9,   40.10,2,-999,1, 20080208,     0730, -33.9173,  28.8472,    -999,-999,9,   0.0295,2,   0.0988,2,   0.0188,2,   0.0634,2,   0.0086,2,   0.0216,2,-999,9,   0.0003,3,   0.0176,2,  -0.0020,4,    -999,    -999
33RR20080204,       I06S,      11,          1,         11,         11,2,20080208,       0631,   -33.9173,    28.8472,       3819,  1473.2,   3.7142,  34.5155,2,  34.5156,2,    170.7,4,   170.6,2,   58.36,2,   33.37,2,    0.00,2,    2.33,2,   0.743,2,   0.382,2,   0.052,2,  2237.3,2,  2327.1,2,   7.6520,2,    20.00,    -999,9,    -999,9,    -999,9,-999,9,-999,9,-999,9,-999,    -999,9,    -999,1.504,2,-999,9,-999,9,    -999,9,-999,9, 20080208,     0727, -33.9173,  28.8472,    -999,-999,9,     -999,9,     -999,9,     -999,9,     -999,9,     -999,9,     -999,9,-999,9,     -999,9,     -999,9,     -999,9,    -999,    -999
33RR20080204,       I06S,      11,          1,         10,         10,2,20080208,       0631,   -33.9173,    28.8472,       3819,  1573.5,   3.5260,  34.5643,3,  34.5822,2,    164.4,4,   162.8,2,   66.33,2,   33.51,2,    0.00,2,    2.34,2,   0.403,2,   0.218,2,   0.018,2,    -999,9,  2336.1,2,   7.6530,2,    20.00,    -999,9,    -999,9,    -999,9,-999,9,-999,9,-999,9,-999,    -999,9,    -999,1.045,2,-999,9,-999,9,   41.85,2,-999,1, 20080208,     0724, -33.9173,  28.8471,    -999,-999,9,   0.0314,2,   0.1065,2,   0.0180,2,   0.0693,2,   0.0106,2,   0.0211,3,-999,9,   0.0013,2,   0.0203,2,  -0.0015,4,    -999,    -999
33RR20080204,       I06S,      11,          1,          9,          9,2,20080208,       0631,   -33.9173,    28.8472,       3819,  1675.9,   3.1352,  34.5995,2,  34.5997,2,    169.4,4,   169.7,2,   66.95,2,   33.12,2,    0.00,2,    2.30,2,   0.320,2,   0.174,2,   0.018,2,  2246.5,2,  2336.5,2,   7.6570,2,    20.00,    -999,9,    -999,9,    -999,9,-999,9,-999,9,-999,9,-999,    -999,9,    -999,0.831,2,-999,9,-999,9,    -999,9,-999,9, 20080208,     0721, -33.9173,  28.8472,    -999,-999,9,     -999,9,     -999,9,     -999,9,     -999,9,     -999,9,     -999,9,-999,9,     -999,9,     -999,9,     -999,9,    -999,    -999
33RR20080204,       I06S,      11,          1,          8,          8,2,20080208,       0631,   -33.9173,    28.8472,       3819,  1775.2,   3.1125,  34.6534,3,  34.6658,2,    167.1,3,   165.8,2,   74.32,2,   32.70,2,    0.00,2,    2.29,2,   0.149,2,   0.082,2,   0.000,2,    -999,9,  2346.0,2,   7.6640,2,    20.00,    -999,9,    -999,9,    -999,9,-999,9,-999,9,-999,9,-999,    -999,9,    -999,0.434,2,-999,9,-999,9,   41.46,2,-999,1, 20080208,     0717, -33.9174,  28.8472,    -999,-999,9,   0.0289,2,   0.1063,2,   0.0203,2,   0.0685,2,   0.0081,2,   0.0233,2,-999,9,   0.0003,4,   0.0169,2,  -0.0019,4,    -999,    -999
33RR20080204,       I06S,      11,          1,          7,          7,2,20080208,       0631,   -33.9173,    28.8472,       3819,  1979.3,   2.8361,  34.7130,3,  34.7202,2,    178.2,3,   175.9,2,   75.76,2,   31.34,2,    0.00,2,    2.19,2,   0.072,2,   0.041,2,   0.005,2,  2249.3,2,  2349.7,2,   7.6820,2,    20.00,    -999,9,    -999,9,    -999,9,-999,9,-999,9,-999,9,-999,    -999,9,    -999,0.091,2,-999,9,-999,9,   39.61,2,-999,1, 20080208,     0713, -33.9173,  28.8471,    -999,-999,9,   0.0298,2,   0.1089,2,   0.0197,2,   0.0713,2,   0.0090,2,   0.0228,2,-999,9,   0.0009,2,   0.0182,2,  -0.0016,4,    -999,    -999
33RR20080204,       I06S,      11,          1,          6,          6,2,20080208,       0631,   -33.9173,    28.8472,       3819,  2284.2,   2.6061,  34.7711,2,  34.7739,2,    194.4,3,   194.5,2,   70.01,2,   29.06,2,    0.00,2,    2.01,2,   0.046,2,   0.027,2,   0.010,2,    -999,9,  2346.3,2,   7.7130,2,    20.00,    -999,9,    -999,9,    -999,9,-999,9,-999,9,-999,9,-999,    -999,9,    -999,0.129,2,-999,9,-999,9,    -999,9,-999,9, 20080208,     0706, -33.9173,  28.8472,    -999,-999,9,     -999,9,     -999,9,     -999,9,     -999,9,     -999,9,     -999,9,-999,9,     -999,9,     -999,9,     -999,9,    -999,    -999