BOTTLE,20220706CCHSIOAMB
EXPOCODE,SECT_ID,STNNBR,CASTNO,SAMPNO,BTLNBR,BTLNBR_FLAG_W,DATE,TIME,LATITUDE,LONGITUDE,DEPTH,CTDPRS,CTDTMP,CTDSAL,CTDSAL_FLAG_W,SALNTY,SALNTY_FLAG_W,CTDOXY,CTDOXY_FLAG_W,OXYGEN,OXYGEN_FLAG_W,SILCAT,SILCAT_FLAG_W,NITRAT,NITRAT_FLAG_W,NITRIT,NITRIT_FLAG_W,PHSPHT,PHSPHT_FLAG_W,CFC-11,CFC-11_FLAG_W,CFC-12,CFC-12_FLAG_W,CFC113,CFC113_FLAG_W,TCARBN,TCARBN_FLAG_W,ALKALI,ALKALI_FLAG_W,PH_SWS,PH_SWS_FLAG_W,PH_TMP,TRITUM,TRITUM_FLAG_W,HELIUM,HELIUM_FLAG_W,DELHE3,DELHE3_FLAG_W,REFTMP,REFTMP_FLAG_W,DELC13,DELC13_FLAG_W,DELC14,DELC14_FLAG_W,C14ERR,NEON,NEON_FLAG_W,NEONER,CCL4,CCL4_FLAG_W,ALUMIN,ALUMIN_FLAG_W,DELO18,DELO18_FLAG_W,DOC,DOC_FLAG_W,TDN,TDN_FLAG_W,BTL_DATE,BTL_TIME,BTL_LAT,BTL_LON,TRITER,DELSI30,DELSI30_FLAG_W,CDOM380,CDOM380_FLAG_W,CDOM325,CDOM325_FLAG_W,CDOMSL,CDOMSL_FLAG_W,CDOM340,CDOM340_FLAG_W,CDOM443,CDOM443_FLAG_W,CDOMSN,CDOMSN_FLAG_W,BLACKC,BLACKC_FLAG_W,CDOM490,CDOM490_FLAG_W,CDOM412,CDOM412_FLAG_W,CDOM555,CDOM555_FLAG_W,DELHER,HELIER
,,,,,,,,,,,METERS,DBAR,ITS-90,PSS-78,,PSS-78,,UMOL/KG,,UMOL/KG,,UMOL/KG,,UMOL/KG,,UMOL/KG,,UMOL/KG,,PMOL/KG,,PMOL/KG,,PMOL/KG,,UMOL/KG,,UMOL/KG,,,,DEG C,TU,,NMOL/KG,,PERCNT,,DEG C,,/MILLE,,/MILLE,,/MILLE,NMOL/KG,,NMOL/KG,PMOL/KG,,NMOL/L,,/MILLE,,UMOL/KG,,UMOL/KG,,,,,,TU,/MILLE,,1/M,,1/M,,1/NM,,1/M,,1/M,,1/NM,,,,1/M,,1/M,,1/M,,PERCNT,NMOL/KG
33RR20080204,       I06S,     105,          1,          7,          7,2,20080307,       2324,   -66.0003,    30.1562,       4753,  2901.8,  -0.0774,  34.6629,2,  34.6622,2,    231.7,2,   231.7,2,  122.29,2,   32.20,2,    0.00,2,    2.23,2,   0.819,2,   0.444,2,   0.057,2,    -999,9,  2353.6,2,   7.7870,2,    13.00,    -999,9,    -999,9,    -999,9,-0.0773,2,-999,9,-999,9,-999,    -999,9,    -999,1.707,2,-999,9,-999,9,    -999,9,-999,9, 20080308,     0005, -66.0003,  30.1562,    -999,-999,9,     -999,9,     -999,9,     -999,9,     -999,9,     -999,9,     -999,9,-999,9,     -999,9,     -999,9,     -999,9,    -999,    -999
33RR20080204,       I06S,     105,          1,          6,          6,2,20080307,       2324,   -66.0003,    30.1562,       4753,  3205.6,  -0.1217,  34.6613,2,  34.6607,2,    234.5,2,   234.2,2,  122.49,2,   32.19,2,    0.00,2,    2.23,2,   0.851,2,   0.467,2,   0.062,2,    -999,9,  2353.9,2,   7.7893,2,    13.00,    -999,9,    -999,9,    -999,9,-0.1214,2,-999,9,-999,9,-999,    -999,9,    -999,1.693,2,-999,9,-0.24,2,    -999,9,-999,9, 20080307,     2359, -66.0003,  30.1562,    -999,-999,9,     -999,9,     -999,9,     -999,9,     -999,9,     -999,9,     -999,9,-999,9,     -999,9,     -999,9,     -999,9,    -999,    -999
33RR20080204,       I06S,     105,          1,          5,          5,2,20080307,       2324,   -66.0003,    30.1562,       4753,  3511.3,  -0.1511,  34.6585,2,  34.6581,2,    237.4,2,   236.9,2,  122.08,2,   32.19,2,    0.00,2,    2.22,2,   0.984,2,   0.536,2,   0.077,2,    -999,9,  2354.3,2,   7.7897,2,    13.00,    -999,9,    -999,9,    -999,9,-0.1511,2,-999,9,-999,9,-999,    -999,9,    -999,1.807,2,-999,9,-999,9,    -999,9,-999,9, 20080307,     2352, -66.0003,  30.1563,    -999,-999,9,     -999,9,     -999,9,     -999,9,     -999,9,     -999,9,     -999,9,-999,9,     -999,9,     -999,9,     -999,9,    -999,    -999
33RR20080204,       I06S,     105,          1,          4,          4,2,20080307,       2324,   -66.0003,    30.1562,       4753,  3828.0,  -0.1682,  34.6564,2,  34.6562,2,    239.9,2,   239.7,2,  122.08,2,   32.09,2,    0.00,2,    2.22,2,   1.090,2,   0.595,2,   0.067,2,    -999,9,  2352.7,2,   7.7908,3,    13.00,    -999,9,    -999,9,    -999,9,-0.1678,2,-999,9,-999,9,-999,    -999,9,    -999,1.724,2,-999,9,-999,9,    -999,9,-999,9, 20080307,     2345, -66.0003,  30.1562,    -999,-999,9,     -999,9,     -999,9,     -999,9,     -999,9,     -999,9,     -999,9,-999,9,     -999,9,     -999,9,     -999,9,    -999,    -999
33RR20080204,       I06S,     105,          1,          3,          3,2,20080307,       2324,   -66.0003,    30.1562,       4753,  4133.0,  -0.1889,  34.6552,2,  34.6554,2,    240.9,2,   240.5,2,  124.54,2,   32.14,2,    0.00,2,    2.22,2,   0.914,2,   0.500,2,   0.072,2,    -999,9,  2352.7,2,   7.7940,2,    13.00,    -999,9,    -999,9,    -999,9,-0.1888,2,-999,9,-999,9,-999,    -999,9,    -999,1.659,2,-999,9,-999,9,    -999,9,-999,9, 20080307,     2339, -66.0003,  30.1562,    -999,-999,9,     -999,9,     -999,9,     -999,9,     -999,9,     -999,9,     -999,9,-999,9,     -999,9,     -999,9,     -999,9,    -999,    -999
33RR20080204,       I06S,     105,          1,          2,          2,2,20080307,       2324,   -66.0003,    30.1562,       4753,  4439.4,  -0.2145,  34.6532,2,  34.6529,2,    242.4,2,   242.7,2,  126.81,2,   32.18,2,    0.00,2,    2.22,2,   0.852,2,   0.465,2,   0.071,2,    -999,9,  2352.9,2,   7.7956,2,    13.00,    -999,9,    -999,9,    -999,9,-0.2144,2,-999,9,-999,9,-999,    -999,9,    -999,1.634,2,-999,9,-999,9,    -999,9,-999,9, 20080307,     2332, -66.0003,  30.1562,    -999,-999,9,     -999,9,     -999,9,     -999,9,     -999,9,     -999,9,     -999,9,-999,9,     -999,9,     -999,9,     -999,9,    -999,    -999
33RR20080204,       I06S,     105,          1,          1,          1,2,20080307,       2324,   -66.0003,    30.1562,       4753,  4839.6,  -0.2664,  34.6523,2,  34.6534,2,    242.7,2,   243.1,2,  134.64,2,   32.28,2,    0.00,2,    2.23,2,   0.485,2,   0.273,2,   0.039,2,    -999,9,  2353.4,2,   7.7952,2,    13.00,    -999,9,    -999,9,    -999,9,-0.2682,2,-999,9,-999,9,-999,    -999,9,    -999,1.446,2,-999,9,-0.31,2,    -999,9,-999,9, 20080307,     2324, -66.0003,  30.1562,    -999,-999,9,     -999,9,     -999,9,     -999,9,     -999,9,     -999,9,     -999,9,-999,9,     -999,9,     -999,9,     -999,9,    -999,    -999