BOTTLE,20220706CCHSIOAMB
EXPOCODE,SECT_ID,STNNBR,CASTNO,SAMPNO,BTLNBR,BTLNBR_FLAG_W,DATE,TIME,LATITUDE,LONGITUDE,DEPTH,CTDPRS,CTDTMP,CTDSAL,CTDSAL_FLAG_W,SALNTY,SALNTY_FLAG_W,CTDOXY,CTDOXY_FLAG_W,OXYGEN,OXYGEN_FLAG_W,SILCAT,SILCAT_FLAG_W,NITRAT,NITRAT_FLAG_W,NITRIT,NITRIT_FLAG_W,PHSPHT,PHSPHT_FLAG_W,CFC-11,CFC-11_FLAG_W,CFC-12,CFC-12_FLAG_W,CFC113,CFC113_FLAG_W,TCARBN,TCARBN_FLAG_W,ALKALI,ALKALI_FLAG_W,PH_SWS,PH_SWS_FLAG_W,PH_TMP,TRITUM,TRITUM_FLAG_W,HELIUM,HELIUM_FLAG_W,DELHE3,DELHE3_FLAG_W,REFTMP,REFTMP_FLAG_W,DELC13,DELC13_FLAG_W,DELC14,DELC14_FLAG_W,C14ERR,NEON,NEON_FLAG_W,NEONER,CCL4,CCL4_FLAG_W,ALUMIN,ALUMIN_FLAG_W,DELO18,DELO18_FLAG_W,DOC,DOC_FLAG_W,TDN,TDN_FLAG_W,BTL_DATE,BTL_TIME,BTL_LAT,BTL_LON,TRITER,DELSI30,DELSI30_FLAG_W,CDOM380,CDOM380_FLAG_W,CDOM325,CDOM325_FLAG_W,CDOMSL,CDOMSL_FLAG_W,CDOM340,CDOM340_FLAG_W,CDOM443,CDOM443_FLAG_W,CDOMSN,CDOMSN_FLAG_W,BLACKC,BLACKC_FLAG_W,CDOM490,CDOM490_FLAG_W,CDOM412,CDOM412_FLAG_W,CDOM555,CDOM555_FLAG_W,DELHER,HELIER
,,,,,,,,,,,METERS,DBAR,ITS-90,PSS-78,,PSS-78,,UMOL/KG,,UMOL/KG,,UMOL/KG,,UMOL/KG,,UMOL/KG,,UMOL/KG,,PMOL/KG,,PMOL/KG,,PMOL/KG,,UMOL/KG,,UMOL/KG,,,,DEG C,TU,,NMOL/KG,,PERCNT,,DEG C,,/MILLE,,/MILLE,,/MILLE,NMOL/KG,,NMOL/KG,PMOL/KG,,NMOL/L,,/MILLE,,UMOL/KG,,UMOL/KG,,,,,,TU,/MILLE,,1/M,,1/M,,1/NM,,1/M,,1/M,,1/NM,,,,1/M,,1/M,,1/M,,PERCNT,NMOL/KG
33RR20080204,       I06S,      44,          1,         35,         35,2,20080219,       0112,   -48.9986,    30.0021,       4109,     5.6,   4.3005,  33.7818,2,  33.7800,2,    317.2,2,   317.9,2,    1.81,2,   21.66,2,    0.24,2,    1.48,2,    -999,9,    -999,9,    -999,9,  2131.3,6,  2274.3,2,     -999,9,     -999,    -999,9,    -999,9,    -999,9,-999,9,-999,9,-999,9,-999,    -999,9,    -999,-999,9,-999,9,-999,9,    -999,9,-999,9, 20080219,     0258, -48.9988,  30.0020,    -999,-999,9,     -999,9,     -999,9,     -999,9,     -999,9,     -999,9,     -999,9,-999,9,     -999,9,     -999,9,     -999,9,    -999,    -999
33RR20080204,       I06S,      44,          1,         34,         34,2,20080219,       0112,   -48.9986,    30.0021,       4109,     6.5,   4.3005,  33.7818,2,  33.7800,2,    317.2,2,   317.5,2,    1.62,2,   21.66,2,    0.25,2,    1.48,2,   5.155,2,   2.900,2,   0.436,2,    -999,9,  2274.8,2,     -999,9,     -999,   0.126,2,   1.808,2,   -1.49,2,4.2996,2,-999,9,-999,9,-999,   7.824,2,   0.030,7.348,2,-999,9,-999,9,    -999,9,-999,9, 20080219,     0258, -48.9988,  30.0019,   0.009,-999,9,     -999,9,     -999,9,     -999,9,     -999,9,     -999,9,     -999,9,-999,9,     -999,9,     -999,9,     -999,9,    0.15,   0.007
33RR20080204,       I06S,      44,          1,         33,         33,2,20080219,       0112,   -48.9986,    30.0021,       4109,    25.7,   4.3031,  33.7819,2,  33.7804,2,    318.8,2,   317.9,2,    1.62,2,   21.72,2,    0.25,2,    1.48,2,   5.093,2,   2.894,2,   0.425,2,    -999,9,  2274.7,2,     -999,9,     -999,    -999,9,    -999,9,    -999,9,4.302,2,-999,9,-999,9,-999,    -999,9,    -999,6.899,2,-999,9,-999,9,    -999,9,-999,9, 20080219,     0257, -48.9989,  30.0020,    -999,-999,9,     -999,9,     -999,9,     -999,9,     -999,9,     -999,9,     -999,9,-999,9,     -999,9,     -999,9,     -999,9,    -999,    -999
33RR20080204,       I06S,      44,          1,         32,         32,2,20080219,       0112,   -48.9986,    30.0021,       4109,    36.2,   4.3014,  33.7815,2,  33.7805,2,    319.0,2,   317.8,2,    1.61,2,   21.72,2,    0.25,2,    1.48,2,   5.215,2,   2.963,2,   0.447,2,    -999,9,  2274.6,2,     -999,9,     -999,    -999,9,    -999,9,    -999,9,4.3017,2,-999,9,-999,9,-999,    -999,9,    -999,7.496,2,-999,9,-999,9,    -999,9,-999,9, 20080219,     0256, -48.9989,  30.0020,    -999,-999,9,     -999,9,     -999,9,     -999,9,     -999,9,     -999,9,     -999,9,-999,9,     -999,9,     -999,9,     -999,9,    -999,    -999
33RR20080204,       I06S,      44,          1,         31,         31,2,20080219,       0112,   -48.9986,    30.0021,       4109,    66.3,   4.2960,  33.7815,2,  33.7809,2,    319.1,2,   316.1,2,    1.61,2,   21.67,2,    0.25,2,    1.48,2,   5.193,2,   2.919,2,   0.449,2,    -999,9,  2274.3,2,     -999,9,     -999,    -999,9,    -999,9,    -999,9,4.294,2,-999,9,-999,9,-999,    -999,9,    -999,7.426,2,-999,9,-999,9,    -999,9,-999,9, 20080219,     0255, -48.9989,  30.0020,    -999,-999,9,     -999,9,     -999,9,     -999,9,     -999,9,     -999,9,     -999,9,-999,9,     -999,9,     -999,9,     -999,9,    -999,    -999
33RR20080204,       I06S,      44,          1,         30,         30,2,20080219,       0112,   -48.9986,    30.0021,       4109,    97.9,   4.0285,  33.7751,2,  33.7764,2,    318.6,2,   319.7,2,    1.60,2,   21.86,2,    0.25,2,    1.49,2,   5.330,2,   3.018,2,   0.441,2,    -999,9,  2275.7,2,     -999,9,     -999,   0.131,2,   1.784,2,   -1.48,2,4.0589,3,-999,9,-999,9,-999,   7.764,2,   0.030,7.46,2,-999,9,-999,9,    -999,9,-999,9, 20080219,     0253, -48.9988,  30.0020,   0.009,-999,9,     -999,9,     -999,9,     -999,9,     -999,9,     -999,9,     -999,9,-999,9,     -999,9,     -999,9,     -999,9,    0.15,   0.007
33RR20080204,       I06S,      44,          1,         29,         29,2,20080219,       0112,   -48.9986,    30.0021,       4109,   141.6,   2.8831,  33.8691,2,  33.8691,2,    313.2,2,   312.4,2,   10.79,2,   24.33,2,    0.23,2,    1.75,2,   5.380,2,   3.044,2,   0.453,2,    -999,9,    -999,5,     -999,9,     -999,    -999,9,    -999,9,    -999,9,2.8786,2,-999,9,-999,9,-999,    -999,9,    -999,7.355,2,-999,9,-999,9,    -999,9,-999,9, 20080219,     0251, -48.9988,  30.0020,    -999,-999,9,     -999,9,     -999,9,     -999,9,     -999,9,     -999,9,     -999,9,-999,9,     -999,9,     -999,9,     -999,9,    -999,    -999
33RR20080204,       I06S,      44,          1,         28,         28,2,20080219,       0112,   -48.9986,    30.0021,       4109,   193.8,   2.4627,  33.9235,7,  33.9189,2,    300.9,2,   305.2,2,   16.32,2,   26.34,2,    0.20,2,    1.85,2,   5.300,2,   2.973,2,   0.442,2,    -999,9,    -999,9,     -999,9,     -999,   0.111,2,   1.808,2,   -1.14,2,2.4595,2,-999,9,-999,9,-999,   7.967,2,   0.030,6.908,2,-999,9,-999,9,    -999,9,-999,9, 20080219,     0250, -48.9988,  30.0020,   0.009,-999,1,     -999,9,     -999,9,     -999,9,     -999,9,     -999,9,     -999,9,-999,9,     -999,9,     -999,9,     -999,9,    0.15,   0.007
33RR20080204,       I06S,      44,          1,         27,         27,2,20080219,       0112,   -48.9986,    30.0021,       4109,   236.6,   2.9307,  34.0755,2,  34.0717,2,    268.4,2,   268.5,2,   20.76,2,   28.75,2,    0.01,2,    1.99,2,   4.454,2,   2.474,2,   0.363,2,    -999,9,  2280.5,2,     -999,9,     -999,    -999,9,    -999,9,    -999,9,2.9263,2,-999,9,-999,9,-999,    -999,9,    -999,5.951,2,-999,9,-999,9,    -999,9,-999,9, 20080219,     0248, -48.9988,  30.0020,    -999,-999,9,     -999,9,     -999,9,     -999,9,     -999,9,     -999,9,     -999,9,-999,9,     -999,9,     -999,9,     -999,9,    -999,    -999
33RR20080204,       I06S,      44,          1,         26,         26,2,20080219,       0112,   -48.9986,    30.0021,       4109,   287.1,   2.8782,  34.1191,2,  34.1185,2,    256.4,2,   257.1,2,   24.82,2,   29.74,2,    0.01,2,    2.05,2,   4.107,2,   2.254,2,   0.325,2,    -999,9,    -999,9,     -999,9,     -999,   0.090,2,   1.828,2,    0.70,2,2.8787,2,-999,9,-999,9,-999,   7.854,2,   0.030,5.591,2,-999,9,-999,9,    -999,9,-999,9, 20080219,     0246, -48.9988,  30.0020,   0.009,-999,9,     -999,9,     -999,9,     -999,9,     -999,9,     -999,9,     -999,9,-999,9,     -999,9,     -999,9,     -999,9,    0.15,   0.007
33RR20080204,       I06S,      44,          1,         25,         25,2,20080219,       0112,   -48.9986,    30.0021,       4109,   337.7,   2.7844,  34.1577,2,  34.1565,2,    247.7,2,   245.1,2,   28.71,2,   30.49,2,    0.01,2,    2.11,2,   3.768,2,   2.034,2,   0.302,2,    -999,9,  2288.1,2,     -999,9,     -999,    -999,9,    -999,9,    -999,9,2.7802,2,-999,9,-999,9,-999,    -999,9,    -999,5.429,2,-999,9,-999,9,    -999,9,-999,9, 20080219,     0244, -48.9988,  30.0020,    -999,-999,9,     -999,9,     -999,9,     -999,9,     -999,9,     -999,9,     -999,9,-999,9,     -999,9,     -999,9,     -999,9,    -999,    -999
33RR20080204,       I06S,      44,          1,         24,         24,2,20080219,       0112,   -48.9986,    30.0021,       4109,   386.3,   2.6843,  34.1912,2,  34.1896,2,    237.5,2,   237.2,2,   33.16,2,   31.33,2,    0.01,2,    2.16,2,   3.402,2,   1.828,2,   0.259,2,    -999,9,    -999,9,     -999,9,     -999,   0.056,2,   1.799,2,    1.67,2,2.6835,2,-999,9,-999,9,-999,   7.838,2,   0.030,4.872,2,-999,9,-999,9,    -999,9,-999,9, 20080219,     0242, -48.9988,  30.0019,   0.009,-999,1,     -999,9,     -999,9,     -999,9,     -999,9,     -999,9,     -999,9,-999,9,     -999,9,     -999,9,     -999,9,    0.15,   0.007
33RR20080204,       I06S,      44,          1,         23,         23,2,20080219,       0112,   -48.9986,    30.0021,       4109,   436.8,   2.5805,  34.2306,2,  34.2286,2,    224.8,2,   227.1,2,   38.93,2,   32.28,2,    0.01,2,    2.22,2,   3.037,2,   1.618,2,   0.237,2,    -999,9,  2296.4,2,     -999,9,     -999,    -999,9,    -999,9,    -999,9,2.5801,2,-999,9,-999,9,-999,    -999,9,    -999,4.405,2,-999,9,-999,9,    -999,9,-999,9, 20080219,     0240, -48.9988,  30.0020,    -999,-999,9,     -999,9,     -999,9,     -999,9,     -999,9,     -999,9,     -999,9,-999,9,     -999,9,     -999,9,     -999,9,    -999,    -999
33RR20080204,       I06S,      44,          1,         22,         22,2,20080219,       0112,   -48.9986,    30.0021,       4109,   486.9,   2.6294,  34.2772,2,  34.2762,2,    217.1,2,   215.5,2,   43.40,2,   32.83,2,    0.01,2,    2.27,2,   2.518,2,   1.326,2,   0.209,2,    -999,9,    -999,9,     -999,9,     -999,  -0.031,3,   1.803,2,    3.43,2,2.6287,2,-999,9,-999,9,-999,   7.868,2,   0.030,3.922,2,-999,9,-999,9,    -999,9,-999,9, 20080219,     0238, -48.9988,  30.0020,   0.009,-999,9,     -999,9,     -999,9,     -999,9,     -999,9,     -999,9,     -999,9,-999,9,     -999,9,     -999,9,     -999,9,    0.15,   0.007
33RR20080204,       I06S,      44,          1,         21,         21,2,20080219,       0112,   -48.9986,    30.0021,       4109,   567.5,   2.6196,  34.3356,2,  34.3346,2,    203.2,2,   201.7,2,   49.94,2,   33.64,2,    0.01,2,    2.32,2,   1.983,2,   1.033,2,   0.138,2,    -999,9,  2307.5,2,     -999,9,     -999,   0.029,2,   1.806,2,    4.81,2,2.6185,2,-999,9,-999,9,-999,   7.900,2,   0.030,3.127,2,-999,9,-999,9,    -999,9,-999,9, 20080219,     0236, -48.9989,  30.0019,   0.009,-999,9,     -999,9,     -999,9,     -999,9,     -999,9,     -999,9,     -999,9,-999,9,     -999,9,     -999,9,     -999,9,    0.15,   0.007
33RR20080204,       I06S,      44,          1,         20,         20,2,20080219,       0112,   -48.9986,    30.0021,       4109,   668.3,   2.5967,  34.3986,2,  34.3975,2,    188.8,2,   187.9,2,   56.87,2,   34.13,2,    0.00,2,    2.36,2,   1.490,2,   0.761,2,   0.120,2,    -999,9,    -999,9,     -999,9,     -999,   0.005,2,   1.840,2,    5.99,2,2.5963,2,-999,9,-999,9,-999,   8.068,2,   0.031,2.633,2,-999,9,-999,9,    -999,9,-999,9, 20080219,     0233, -48.9988,  30.0020,   0.009,-999,1,     -999,9,     -999,9,     -999,9,     -999,9,     -999,9,     -999,9,-999,9,     -999,9,     -999,9,     -999,9,    0.15,   0.007
33RR20080204,       I06S,      44,          1,         19,         19,2,20080219,       0112,   -48.9986,    30.0021,       4109,   767.5,   2.5537,  34.4731,2,  34.4730,2,    180.2,2,   180.3,2,   63.63,2,   34.19,2,    0.00,2,    2.37,2,   1.010,2,   0.523,2,   0.078,2,    -999,9,  2308.1,2,     -999,9,     -999,   0.003,2,   1.831,2,    7.28,2,2.5528,2,-999,9,-999,9,-999,   7.922,2,   0.030,2.0,2,-999,9,-999,9,    -999,9,-999,9, 20080219,     0230, -48.9987,  30.0020,   0.009,-999,9,     -999,9,     -999,9,     -999,9,     -999,9,     -999,9,     -999,9,-999,9,     -999,9,     -999,9,     -999,9,    0.15,   0.007
33RR20080204,       I06S,      44,          1,         18,         18,2,20080219,       0112,   -48.9986,    30.0021,       4109,   868.5,   2.5035,  34.5339,2,  34.5352,2,    176.2,2,   175.7,2,   68.52,2,   33.94,2,    0.00,2,    2.35,2,   0.683,2,   0.358,2,   0.043,2,    -999,9,    -999,9,     -999,9,     -999,   0.021,2,   1.872,2,    8.29,2,2.503,2,-999,9,-999,9,-999,   8.090,2,   0.031,1.335,2,-999,9,-999,9,    -999,9,-999,9, 20080219,     0227, -48.9987,  30.0020,   0.009,-999,1,     -999,9,     -999,9,     -999,9,     -999,9,     -999,9,     -999,9,-999,9,     -999,9,     -999,9,     -999,9,    0.15,   0.007
33RR20080204,       I06S,      44,          1,         17,         17,2,20080219,       0112,   -48.9986,    30.0021,       4109,   968.2,   2.4865,  34.5733,2,  34.5736,2,    174.9,2,   175.1,2,   70.77,2,   33.59,2,    0.00,2,    2.32,2,   0.527,2,   0.287,2,   0.034,2,    -999,9,  2330.9,2,     -999,9,     -999,    -999,9,    -999,9,    -999,9,2.4855,2,-999,9,-999,9,-999,    -999,9,    -999,1.125,2,-999,9,-999,9,    -999,9,-999,9, 20080219,     0225, -48.9987,  30.0020,    -999,-999,9,     -999,9,     -999,9,     -999,9,     -999,9,     -999,9,     -999,9,-999,9,     -999,9,     -999,9,     -999,9,    -999,    -999
33RR20080204,       I06S,      44,          1,         16,         16,2,20080219,       0112,   -48.9986,    30.0021,       4109,  1068.3,   2.4785,  34.6195,2,  34.6191,2,    175.5,2,   175.3,2,   72.10,2,   32.90,2,    0.00,2,    2.28,2,   0.382,6,   0.214,6,   0.034,6,    -999,9,    -999,9,     -999,9,     -999,   0.011,2,   1.874,2,    8.95,2,2.4762,2,-999,9,-999,9,-999,   8.112,2,   0.031,0.888,6,-999,9,-999,9,    -999,9,-999,9, 20080219,     0222, -48.9988,  30.0019,   0.009,-999,1,     -999,9,     -999,9,     -999,9,     -999,9,     -999,9,     -999,9,-999,9,     -999,9,     -999,9,     -999,9,    0.15,   0.007
33RR20080204,       I06S,      44,          1,         15,         15,2,20080219,       0112,   -48.9986,    30.0021,       4109,  1171.3,   2.3691,  34.6514,2,  34.6513,2,    176.1,2,   176.1,2,   75.67,2,   32.60,2,    0.00,2,    2.26,2,   0.352,2,   0.198,2,   0.034,2,    -999,9,  2338.7,2,     -999,9,     -999,    -999,9,    -999,9,    -999,9,2.3692,2,-999,9,-999,9,-999,    -999,9,    -999,0.727,2,-999,9,-999,9,    -999,9,-999,9, 20080219,     0219, -48.9990,  30.0020,    -999,-999,9,     -999,9,     -999,9,     -999,9,     -999,9,     -999,9,     -999,9,-999,9,     -999,9,     -999,9,     -999,9,    -999,    -999
33RR20080204,       I06S,      44,          1,         14,         14,2,20080219,       0112,   -48.9986,    30.0021,       4109,  1279.8,   2.3574,  34.6869,2,  34.6859,2,    179.1,2,   180.3,2,   76.24,2,   31.81,2,    0.00,2,    2.19,2,   0.257,2,   0.147,2,   0.029,2,    -999,9,    -999,9,     -999,9,     -999,    -999,9,   1.866,2,    9.71,2,2.3578,2,-999,9,-999,9,-999,   8.069,2,   0.031,0.592,2,-999,9,-999,9,    -999,9,-999,9, 20080219,     0216, -48.9989,  30.0020,    -999,-999,9,     -999,9,     -999,9,     -999,9,     -999,9,     -999,9,     -999,9,-999,9,     -999,9,     -999,9,     -999,9,    0.15,   0.007
33RR20080204,       I06S,      44,          1,         13,         13,2,20080219,       0112,   -48.9986,    30.0021,       4109,  1384.8,   2.3717,  34.7166,2,  34.7159,2,    184.4,2,   185.5,2,   74.92,2,   30.87,2,    0.00,2,    2.14,2,   0.195,2,   0.112,2,   0.022,2,    -999,9,  2342.4,2,     -999,9,     -999,    -999,9,    -999,9,    -999,9,2.3713,2,-999,9,-999,9,-999,    -999,9,    -999,0.496,2,-999,9,-999,9,    -999,9,-999,9, 20080219,     0213, -48.9989,  30.0020,    -999,-999,9,     -999,9,     -999,9,     -999,9,     -999,9,     -999,9,     -999,9,-999,9,     -999,9,     -999,9,     -999,9,    -999,    -999
33RR20080204,       I06S,      44,          1,         12,         12,2,20080219,       0112,   -48.9986,    30.0021,       4109,  1480.6,   2.2749,  34.7269,2,  34.7270,2,    187.4,2,   187.8,2,   77.38,2,   30.62,2,    0.00,2,    2.13,2,   0.186,2,   0.103,2,   0.018,2,    -999,9,    -999,9,     -999,9,     -999,    -999,9,   1.863,2,   10.07,2,2.2753,2,-999,9,-999,9,-999,   8.027,2,   0.031,0.503,2,-999,9,-999,9,    -999,9,-999,9, 20080219,     0210, -48.9988,  30.0020,    -999,-999,9,     -999,9,     -999,9,     -999,9,     -999,9,     -999,9,     -999,9,-999,9,     -999,9,     -999,9,     -999,9,    0.15,   0.007
33RR20080204,       I06S,      44,          1,         11,         11,2,20080219,       0112,   -48.9986,    30.0021,       4109,  1583.9,   2.2095,  34.7396,2,  34.7384,2,    189.0,2,   190.0,2,   78.51,2,   30.27,2,    0.00,2,    2.10,2,   0.166,2,   0.097,2,   0.013,2,    -999,9,  2345.2,2,     -999,9,     -999,    -999,9,    -999,9,    -999,9,2.2092,2,-999,9,-999,9,-999,    -999,9,    -999,0.493,2,-999,9,-999,9,    -999,9,-999,9, 20080219,     0208, -48.9988,  30.0019,    -999,-999,9,     -999,9,     -999,9,     -999,9,     -999,9,     -999,9,     -999,9,-999,9,     -999,9,     -999,9,     -999,9,    -999,    -999
33RR20080204,       I06S,      44,          1,         10,         10,2,20080219,       0112,   -48.9986,    30.0021,       4109,  1684.5,   2.1743,  34.7540,2,  34.7541,2,    194.6,2,   194.4,2,   77.94,2,   29.38,2,    0.00,2,    2.05,2,   0.139,2,   0.078,2,   0.016,2,    -999,9,    -999,9,     -999,9,     -999,   0.003,2,   1.853,2,    9.99,2,2.174,2,-999,9,-999,9,-999,   7.912,2,   0.030,0.398,2,-999,9,-999,9,    -999,9,-999,9, 20080219,     0205, -48.9987,  30.0020,   0.009,-999,9,     -999,9,     -999,9,     -999,9,     -999,9,     -999,9,     -999,9,-999,9,     -999,9,     -999,9,     -999,9,    0.15,   0.007
33RR20080204,       I06S,      44,          1,          9,          9,2,20080219,       0112,   -48.9986,    30.0021,       4109,  1787.1,   2.0973,  34.7617,2,  34.7614,2,    198.6,2,   197.9,2,   78.51,2,   29.35,2,    0.00,2,    2.03,2,   0.132,2,   0.078,2,   0.016,2,    -999,9,  2347.8,2,     -999,9,     -999,  -0.002,2,   1.853,2,    9.53,2,2.098,2,-999,9,-999,9,-999,   8.003,2,   0.030,0.387,2,-999,9,-999,9,    -999,9,-999,9, 20080219,     0202, -48.9985,  30.0020,   0.009,-999,9,     -999,9,     -999,9,     -999,9,     -999,9,     -999,9,     -999,9,-999,9,     -999,9,     -999,9,     -999,9,    0.15,   0.007
33RR20080204,       I06S,      44,          1,          8,          8,2,20080219,       0112,   -48.9986,    30.0021,       4109,  1987.0,   1.9257,  34.7648,2,  34.7644,2,    202.6,2,   202.3,2,   82.29,2,   29.14,2,    0.00,2,    2.02,2,   0.132,2,   0.082,2,   0.018,2,    -999,9,    -999,9,     -999,9,     -999,    -999,9,   1.874,2,    9.47,2,1.9255,2,-999,9,-999,9,-999,   7.992,2,   0.030,0.406,2,-999,9,-999,9,    -999,9,-999,9, 20080219,     0158, -48.9984,  30.0020,    -999,-999,9,     -999,9,     -999,9,     -999,9,     -999,9,     -999,9,     -999,9,-999,9,     -999,9,     -999,9,     -999,9,    0.15,   0.007
33RR20080204,       I06S,      44,          1,          7,          7,2,20080219,       0112,   -48.9986,    30.0021,       4109,  2281.1,   1.6599,  34.7562,2,  34.7552,2,    205.5,2,   204.1,2,   89.68,2,   29.54,2,    0.00,2,    2.04,2,   0.136,2,   0.075,2,   0.024,2,    -999,9,  2352.3,2,     -999,9,     -999,  -0.005,2,   1.913,2,    9.04,2,1.6601,2,-999,9,-999,9,-999,   8.167,2,   0.031,0.384,2,-999,9,-999,9,    -999,9,-999,9, 20080219,     0152, -48.9986,  30.0020,   0.009,-999,9,     -999,9,     -999,9,     -999,9,     -999,9,     -999,9,     -999,9,-999,9,     -999,9,     -999,9,     -999,9,    0.15,   0.007