BOTTLE,20220706CCHSIOAMB
EXPOCODE,SECT_ID,STNNBR,CASTNO,SAMPNO,BTLNBR,BTLNBR_FLAG_W,DATE,TIME,LATITUDE,LONGITUDE,DEPTH,CTDPRS,CTDTMP,CTDSAL,CTDSAL_FLAG_W,SALNTY,SALNTY_FLAG_W,CTDOXY,CTDOXY_FLAG_W,OXYGEN,OXYGEN_FLAG_W,SILCAT,SILCAT_FLAG_W,NITRAT,NITRAT_FLAG_W,NITRIT,NITRIT_FLAG_W,PHSPHT,PHSPHT_FLAG_W,CFC-11,CFC-11_FLAG_W,CFC-12,CFC-12_FLAG_W,CFC113,CFC113_FLAG_W,TCARBN,TCARBN_FLAG_W,ALKALI,ALKALI_FLAG_W,PH_SWS,PH_SWS_FLAG_W,PH_TMP,TRITUM,TRITUM_FLAG_W,HELIUM,HELIUM_FLAG_W,DELHE3,DELHE3_FLAG_W,REFTMP,REFTMP_FLAG_W,DELC13,DELC13_FLAG_W,DELC14,DELC14_FLAG_W,C14ERR,NEON,NEON_FLAG_W,NEONER,CCL4,CCL4_FLAG_W,ALUMIN,ALUMIN_FLAG_W,DELO18,DELO18_FLAG_W,DOC,DOC_FLAG_W,TDN,TDN_FLAG_W,BTL_DATE,BTL_TIME,BTL_LAT,BTL_LON,TRITER,DELSI30,DELSI30_FLAG_W,CDOM380,CDOM380_FLAG_W,CDOM325,CDOM325_FLAG_W,CDOMSL,CDOMSL_FLAG_W,CDOM340,CDOM340_FLAG_W,CDOM443,CDOM443_FLAG_W,CDOMSN,CDOMSN_FLAG_W,BLACKC,BLACKC_FLAG_W,CDOM490,CDOM490_FLAG_W,CDOM412,CDOM412_FLAG_W,CDOM555,CDOM555_FLAG_W,DELHER,HELIER
,,,,,,,,,,,METERS,DBAR,ITS-90,PSS-78,,PSS-78,,UMOL/KG,,UMOL/KG,,UMOL/KG,,UMOL/KG,,UMOL/KG,,UMOL/KG,,PMOL/KG,,PMOL/KG,,PMOL/KG,,UMOL/KG,,UMOL/KG,,,,DEG C,TU,,NMOL/KG,,PERCNT,,DEG C,,/MILLE,,/MILLE,,/MILLE,NMOL/KG,,NMOL/KG,PMOL/KG,,NMOL/L,,/MILLE,,UMOL/KG,,UMOL/KG,,,,,,TU,/MILLE,,1/M,,1/M,,1/NM,,1/M,,1/M,,1/NM,,,,1/M,,1/M,,1/M,,PERCNT,NMOL/KG
33RR20080204,       I06S,      12,          4,         33,         33,2,20080208,       1731,   -34.1286,    29.0717,       3827,     3.0,  22.3538,  35.5906,2,  35.5885,2,    221.1,2,   221.3,2,    2.10,2,    0.06,2,    0.00,2,    0.07,2,   2.043,2,   1.218,2,   0.122,2,  2018.8,6,  2328.6,2,     -999,9,     -999,    -999,9,    -999,1,    -999,9,-999,9,-999,9,-999,9,-999,    -999,9,    -999,2.622,2,-999,9,-999,9,    -999,9,-999,9, 20080208,     1951, -34.1272,  29.0691,    -999,-999,9,     -999,9,     -999,9,     -999,9,     -999,9,     -999,9,     -999,9,-999,9,     -999,9,     -999,9,     -999,9,    -999,    -999
33RR20080204,       I06S,      12,          4,         32,         32,2,20080208,       1731,   -34.1286,    29.0717,       3827,    23.5,  22.3665,  35.5913,2,  35.5909,2,    221.9,2,   221.5,2,    2.09,2,    0.06,2,    0.00,2,    0.07,2,   2.052,2,   1.214,2,   0.126,2,    -999,9,  2330.4,2,     -999,9,     -999,    -999,9,    -999,9,    -999,9,-999,9,-999,9,-999,9,-999,    -999,9,    -999,2.637,2,-999,9,-999,9,    -999,9,-999,9, 20080208,     1950, -34.1274,  29.0693,    -999,-999,9,     -999,9,     -999,9,     -999,9,     -999,9,     -999,9,     -999,9,-999,9,     -999,9,     -999,9,     -999,9,    -999,    -999
33RR20080204,       I06S,      12,          4,         31,         31,2,20080208,       1731,   -34.1286,    29.0717,       3827,    52.1,  20.9247,  35.5539,2,  35.5547,2,    229.0,2,   232.6,2,    2.07,2,    0.06,2,    0.00,2,    0.08,2,   2.202,2,   1.307,2,   0.133,2,    -999,9,  2329.0,2,     -999,9,     -999,    -999,9,    -999,9,    -999,9,-999,9,-999,9,-999,9,-999,    -999,9,    -999,2.707,2,-999,9,-999,9,    -999,9,-999,9, 20080208,     1948, -34.1276,  29.0694,    -999,-999,9,     -999,9,     -999,9,     -999,9,     -999,9,     -999,9,     -999,9,-999,9,     -999,9,     -999,9,     -999,9,    -999,    -999
33RR20080204,       I06S,      12,          4,         30,         30,2,20080208,       1731,   -34.1286,    29.0717,       3827,    86.9,  18.9100,  35.5218,2,  35.5220,2,    223.0,2,   220.7,2,    2.65,2,    0.28,2,    0.12,2,    0.19,2,   2.333,2,   1.390,2,   0.155,2,    -999,9,  2327.8,2,     -999,9,     -999,    -999,9,    -999,1,    -999,9,-999,9,-999,9,-999,9,-999,    -999,9,    -999,1.867,2,-999,9,-999,9,    -999,9,-999,9, 20080208,     1946, -34.1278,  29.0696,    -999,-999,9,     -999,9,     -999,9,     -999,9,     -999,9,     -999,9,     -999,9,-999,9,     -999,9,     -999,9,     -999,9,    -999,    -999
33RR20080204,       I06S,      12,          4,         29,         29,2,20080208,       1731,   -34.1286,    29.0717,       3827,   110.4,  18.3107,  35.5194,2,  35.5189,2,    209.8,2,   210.6,2,    3.43,2,    2.59,2,    0.07,2,    0.30,2,   2.392,2,   1.429,2,   0.154,2,    -999,9,  2325.8,2,     -999,9,     -999,    -999,9,    -999,9,    -999,9,-999,9,-999,9,-999,9,-999,    -999,9,    -999,1.592,2,-999,9,-999,9,    -999,9,-999,9, 20080208,     1944, -34.1279,  29.0697,    -999,-999,9,     -999,9,     -999,9,     -999,9,     -999,9,     -999,9,     -999,9,-999,9,     -999,9,     -999,9,     -999,9,    -999,    -999
33RR20080204,       I06S,      12,          4,         28,         28,2,20080208,       1731,   -34.1286,    29.0717,       3827,   151.9,  17.6766,  35.5372,2,  35.5362,2,    207.4,2,   208.8,2,    3.81,2,    3.86,2,    0.02,2,    0.36,2,   2.416,2,   1.448,2,   0.115,2,    -999,9,  2326.9,2,     -999,9,     -999,    -999,9,    -999,1,    -999,9,-999,9,-999,9,-999,9,-999,    -999,9,    -999,1.447,2,-999,9,-999,9,    -999,9,-999,9, 20080208,     1942, -34.1280,  29.0699,    -999,-999,9,     -999,9,     -999,9,     -999,9,     -999,9,     -999,9,     -999,9,-999,9,     -999,9,     -999,9,     -999,9,    -999,    -999
33RR20080204,       I06S,      12,          4,         27,         27,2,20080208,       1731,   -34.1286,    29.0717,       3827,   215.4,  17.1362,  35.5261,2,  35.5246,2,    208.8,2,   207.3,2,    4.20,2,    4.74,2,    0.02,2,    0.42,2,   2.470,2,   1.470,2,   0.101,2,    -999,9,  2327.4,2,     -999,9,     -999,    -999,9,    -999,9,    -999,9,-999,9,-999,9,-999,9,-999,    -999,9,    -999,1.322,2,-999,9,-999,9,    -999,9,-999,9, 20080208,     1938, -34.1282,  29.0703,    -999,-999,9,     -999,9,     -999,9,     -999,9,     -999,9,     -999,9,     -999,9,-999,9,     -999,9,     -999,9,     -999,9,    -999,    -999
33RR20080204,       I06S,      12,          4,         26,         26,2,20080208,       1731,   -34.1286,    29.0717,       3827,   274.7,  16.4622,  35.4999,2,  35.5098,2,    207.8,2,   205.3,2,    4.58,2,    5.63,2,    0.01,2,    0.48,2,   2.528,2,   1.497,2,   0.086,2,    -999,9,  2326.4,2,     -999,9,     -999,    -999,9,    -999,1,    -999,9,-999,9,-999,9,-999,9,-999,    -999,9,    -999,1.163,2,-999,9,-999,9,    -999,9,-999,9, 20080208,     1936, -34.1283,  29.0705,    -999,-999,9,     -999,9,     -999,9,     -999,9,     -999,9,     -999,9,     -999,9,-999,9,     -999,9,     -999,9,     -999,9,    -999,    -999
33RR20080204,       I06S,      12,          4,         25,         25,2,20080208,       1731,   -34.1286,    29.0717,       3827,   322.0,  15.8327,  35.4788,2,  35.4806,2,    206.8,2,   203.7,2,    4.76,2,    6.71,2,    0.01,2,    0.55,2,   2.591,2,   1.538,2,   0.100,2,    -999,9,  2324.8,2,     -999,9,     -999,    -999,9,    -999,9,    -999,9,-999,9,-999,9,-999,9,-999,    -999,9,    -999,1.269,2,-999,9,-999,9,    -999,9,-999,9, 20080208,     1934, -34.1285,  29.0708,    -999,-999,9,     -999,9,     -999,9,     -999,9,     -999,9,     -999,9,     -999,9,-999,9,     -999,9,     -999,9,     -999,9,    -999,    -999
33RR20080204,       I06S,      12,          4,         24,         24,2,20080208,       1731,   -34.1286,    29.0717,       3827,   376.9,  14.9107,  35.3939,3,  35.4012,2,    208.0,2,   206.6,2,    4.75,2,    7.65,2,    0.01,2,    0.61,2,   2.766,2,   1.599,2,   0.079,2,    -999,9,  2322.9,2,     -999,9,     -999,    -999,9,    -999,1,    -999,9,-999,9,-999,9,-999,9,-999,    -999,9,    -999,1.03,2,-999,9,-999,9,    -999,9,-999,9, 20080208,     1932, -34.1285,  29.0714,    -999,-999,9,     -999,9,     -999,9,     -999,9,     -999,9,     -999,9,     -999,9,-999,9,     -999,9,     -999,9,     -999,9,    -999,    -999
33RR20080204,       I06S,      12,          4,         23,         23,2,20080208,       1731,   -34.1286,    29.0717,       3827,   427.3,  14.1377,  35.3396,2,  35.3421,2,    205.3,2,   203.2,2,    5.73,2,    9.32,2,    0.01,2,    0.72,2,   2.844,2,   1.618,2,   0.042,2,    -999,9,  2321.5,2,     -999,9,     -999,    -999,9,    -999,9,    -999,9,-999,9,-999,9,-999,9,-999,    -999,9,    -999,0.9,2,-999,9,-999,9,    -999,9,-999,9, 20080208,     1930, -34.1285,  29.0717,    -999,-999,9,     -999,9,     -999,9,     -999,9,     -999,9,     -999,9,     -999,9,-999,9,     -999,9,     -999,9,     -999,9,    -999,    -999
33RR20080204,       I06S,      12,          4,         22,         22,2,20080208,       1731,   -34.1286,    29.0717,       3827,   475.3,  13.4058,  35.2642,3,  35.2717,2,    212.1,2,   210.6,2,    5.32,2,    9.91,2,    0.00,2,    0.76,2,   2.982,2,   1.676,2,   0.059,2,    -999,9,  2317.6,2,     -999,9,     -999,    -999,9,    -999,1,    -999,9,-999,9,-999,9,-999,9,-999,    -999,9,    -999,1.054,2,-999,9,-999,9,    -999,9,-999,9, 20080208,     1927, -34.1286,  29.0717,    -999,-999,9,     -999,9,     -999,9,     -999,9,     -999,9,     -999,9,     -999,9,-999,9,     -999,9,     -999,9,     -999,9,    -999,    -999
33RR20080204,       I06S,      12,          4,         21,         21,2,20080208,       1731,   -34.1286,    29.0717,       3827,   528.3,  12.7619,  35.1824,3,  35.1789,2,    216.7,2,   215.2,2,    5.10,2,   10.71,2,    0.00,2,    0.81,2,   3.073,2,   1.704,2,   0.089,2,    -999,9,  2313.4,2,     -999,9,     -999,    -999,9,    -999,1,    -999,9,-999,9,-999,9,-999,9,-999,    -999,9,    -999,1.256,2,-999,9,-999,9,    -999,9,-999,9, 20080208,     1925, -34.1285,  29.0717,    -999,-999,9,     -999,9,     -999,9,     -999,9,     -999,9,     -999,9,     -999,9,-999,9,     -999,9,     -999,9,     -999,9,    -999,    -999
33RR20080204,       I06S,      12,          4,         20,         20,2,20080208,       1731,   -34.1286,    29.0717,       3827,   646.8,  11.4968,  34.9988,3,  35.0049,2,    188.4,4,   215.9,2,    6.08,2,   13.37,2,    0.00,2,    0.98,2,   3.294,2,   1.690,2,   0.102,2,    -999,9,  2305.9,2,     -999,9,     -999,    -999,9,    -999,1,    -999,9,-999,9,-999,9,-999,9,-999,    -999,9,    -999,1.432,2,-999,9,-999,9,    -999,9,-999,9, 20080208,     1922, -34.1285,  29.0717,    -999,-999,9,     -999,9,     -999,9,     -999,9,     -999,9,     -999,9,     -999,9,-999,9,     -999,9,     -999,9,     -999,9,    -999,    -999
33RR20080204,       I06S,      12,          4,         19,         19,2,20080208,       1731,   -34.1286,    29.0717,       3827,   746.3,  10.1557,  34.7734,3,  34.8104,2,    202.1,4,   219.7,3,    7.66,2,   15.99,2,    0.00,2,    1.14,2,   3.227,2,   1.718,2,   0.158,2,    -999,9,  2299.0,2,     -999,9,     -999,    -999,9,    -999,1,    -999,9,-999,9,-999,9,-999,9,-999,    -999,9,    -999,2.968,2,-999,9,-999,9,    -999,9,-999,9, 20080208,     1918, -34.1285,  29.0717,    -999,-999,9,     -999,9,     -999,9,     -999,9,     -999,9,     -999,9,     -999,9,-999,9,     -999,9,     -999,9,     -999,9,    -999,    -999
33RR20080204,       I06S,      12,          4,         18,         18,2,20080208,       1731,   -34.1286,    29.0717,       3827,   847.0,   8.9914,  34.6850,3,  34.6954,2,    191.2,4,   205.5,2,   11.66,2,   20.06,2,    0.00,2,    1.40,2,   2.780,2,   1.406,2,   0.093,2,    -999,9,  2296.1,2,     -999,9,     -999,    -999,9,    -999,1,    -999,9,-999,9,-999,9,-999,9,-999,    -999,9,    -999,2.504,2,-999,9,-999,9,    -999,9,-999,9, 20080208,     1915, -34.1285,  29.0717,    -999,-999,9,     -999,9,     -999,9,     -999,9,     -999,9,     -999,9,     -999,9,-999,9,     -999,9,     -999,9,     -999,9,    -999,    -999
33RR20080204,       I06S,      12,          4,         17,         17,2,20080208,       1731,   -34.1286,    29.0717,       3827,   947.5,   7.5625,  34.5431,3,  34.5669,2,    178.8,4,   195.0,2,   19.09,2,   24.50,2,    0.00,2,    1.70,2,   2.382,2,   1.202,2,   0.158,2,    -999,9,  2295.3,2,     -999,9,     -999,    -999,9,    -999,1,    -999,9,-999,9,-999,9,-999,9,-999,    -999,9,    -999,2.751,2,-999,9,-999,9,    -999,9,-999,9, 20080208,     1910, -34.1285,  29.0717,    -999,-999,9,     -999,9,     -999,9,     -999,9,     -999,9,     -999,9,     -999,9,-999,9,     -999,9,     -999,9,     -999,9,    -999,    -999
33RR20080204,       I06S,      12,          4,         16,         16,2,20080208,       1731,   -34.1286,    29.0717,       3827,  1049.6,   6.1553,  34.4666,3,  34.4670,2,    185.3,4,   194.8,2,   26.55,2,   27.75,2,    0.00,2,    1.92,2,   2.121,2,   1.043,2,   0.153,2,    -999,9,  2297.6,2,     -999,9,     -999,    -999,9,    -999,9,    -999,9,-999,9,-999,9,-999,9,-999,    -999,9,    -999,2.874,2,-999,9,-999,9,    -999,9,-999,9, 20080208,     1904, -34.1286,  29.0717,    -999,-999,1,     -999,9,     -999,9,     -999,9,     -999,9,     -999,9,     -999,9,-999,9,     -999,9,     -999,9,     -999,9,    -999,    -999
33RR20080204,       I06S,      12,          4,         15,         15,2,20080208,       1731,   -34.1286,    29.0717,       3827,  1152.5,   5.3311,  34.4577,3,  34.4626,2,    181.3,4,   185.6,2,   36.07,2,   30.01,2,    0.00,2,    2.09,2,   1.589,2,   0.786,2,   0.099,2,    -999,9,  2304.9,2,     -999,9,     -999,    -999,9,    -999,1,    -999,9,-999,9,-999,9,-999,9,-999,    -999,9,    -999,2.323,2,-999,9,-999,9,    -999,9,-999,9, 20080208,     1900, -34.1285,  29.0717,    -999,-999,9,     -999,9,     -999,9,     -999,9,     -999,9,     -999,9,     -999,9,-999,9,     -999,9,     -999,9,     -999,9,    -999,    -999
33RR20080204,       I06S,      12,          4,         14,         14,2,20080208,       1731,   -34.1286,    29.0717,       3827,  1253.1,   4.7638,  34.4765,2,  34.4770,2,    175.2,4,   176.1,2,   44.82,2,   31.61,2,    0.00,2,    2.21,2,   1.261,2,   0.624,2,   0.074,2,    -999,9,  2313.6,2,     -999,9,     -999,    -999,9,    -999,9,    -999,9,-999,9,-999,9,-999,9,-999,    -999,9,    -999,1.999,2,-999,9,-999,9,    -999,9,-999,9, 20080208,     1856, -34.1285,  29.0717,    -999,-999,9,     -999,9,     -999,9,     -999,9,     -999,9,     -999,9,     -999,9,-999,9,     -999,9,     -999,9,     -999,9,    -999,    -999
33RR20080204,       I06S,      12,          4,         13,         13,2,20080208,       1731,   -34.1286,    29.0717,       3827,  1354.8,   4.2670,  34.5065,3,  34.5151,2,    173.0,4,   166.9,2,   54.63,2,   32.87,2,    0.00,2,    2.30,2,   0.843,2,   0.431,2,   0.047,2,    -999,9,  2322.6,2,     -999,9,     -999,    -999,9,    -999,1,    -999,9,-999,9,-999,9,-999,9,-999,    -999,9,    -999,1.552,2,-999,9,-999,9,    -999,9,-999,9, 20080208,     1852, -34.1286,  29.0717,    -999,-999,9,     -999,9,     -999,9,     -999,9,     -999,9,     -999,9,     -999,9,-999,9,     -999,9,     -999,9,     -999,9,    -999,    -999
33RR20080204,       I06S,      12,          4,         12,         12,2,20080208,       1731,   -34.1286,    29.0717,       3827,  1457.6,   3.7506,  34.5201,2,  34.5230,2,    173.0,4,   168.6,2,   59.13,2,   33.33,2,    0.00,2,    2.33,2,   0.709,2,   0.366,2,   0.053,2,    -999,9,  2326.1,2,     -999,9,     -999,    -999,9,    -999,9,    -999,9,-999,9,-999,9,-999,9,-999,    -999,9,    -999,1.367,2,-999,9,-999,9,    -999,9,-999,9, 20080208,     1849, -34.1286,  29.0717,    -999,-999,9,     -999,9,     -999,9,     -999,9,     -999,9,     -999,9,     -999,9,-999,9,     -999,9,     -999,9,     -999,9,    -999,    -999
33RR20080204,       I06S,      12,          4,         11,         11,2,20080208,       1731,   -34.1286,    29.0717,       3827,  1557.3,   3.4865,  34.5660,2,  34.5638,2,    168.4,4,   165.9,2,   64.65,2,   33.49,2,    0.00,2,    2.33,2,   0.484,2,   0.248,2,   0.029,2,    -999,9,  2333.0,2,     -999,9,     -999,    -999,9,    -999,9,    -999,9,-999,9,-999,9,-999,9,-999,    -999,9,    -999,0.866,2,-999,9,-999,9,    -999,9,-999,9, 20080208,     1844, -34.1286,  29.0717,    -999,-999,1,     -999,9,     -999,9,     -999,9,     -999,9,     -999,9,     -999,9,-999,9,     -999,9,     -999,9,     -999,9,    -999,    -999
33RR20080204,       I06S,      12,          4,         10,         10,2,20080208,       1731,   -34.1286,    29.0717,       3827,  1662.5,   3.3740,  34.6353,2,  34.6338,2,    157.3,4,   160.5,2,   72.45,2,   33.33,2,    0.00,2,    2.33,2,   0.228,2,   0.122,2,   0.012,2,    -999,9,  2341.2,2,     -999,9,     -999,    -999,9,    -999,1,    -999,9,-999,9,-999,9,-999,9,-999,    -999,9,    -999,0.466,2,-999,9,-999,9,    -999,9,-999,9, 20080208,     1840, -34.1285,  29.0717,    -999,-999,9,     -999,9,     -999,9,     -999,9,     -999,9,     -999,9,     -999,9,-999,9,     -999,9,     -999,9,     -999,9,    -999,    -999
33RR20080204,       I06S,      12,          4,          9,          9,2,20080208,       1731,   -34.1286,    29.0717,       3827,  1759.3,   3.1110,  34.6520,2,  34.6538,2,    170.8,4,   166.9,2,   72.22,2,   32.77,2,    0.00,2,    2.28,2,   0.184,2,   0.097,2,   0.016,2,    -999,9,  2341.9,2,     -999,9,     -999,    -999,9,    -999,1,    -999,9,-999,9,-999,9,-999,9,-999,    -999,9,    -999,0.361,2,-999,9,-999,9,    -999,9,-999,9, 20080208,     1836, -34.1285,  29.0717,    -999,-999,9,     -999,9,     -999,9,     -999,9,     -999,9,     -999,9,     -999,9,-999,9,     -999,9,     -999,9,     -999,9,    -999,    -999
33RR20080204,       I06S,      12,          4,          8,          8,2,20080208,       1731,   -34.1286,    29.0717,       3827,  1862.3,   2.9035,  34.6766,2,  34.6778,2,    182.7,4,   177.3,2,   68.30,2,   31.67,2,    0.00,2,    2.19,2,   0.146,2,   0.089,2,   0.011,2,    -999,9,  2338.3,2,     -999,9,     -999,    -999,9,    -999,1,    -999,9,-999,9,-999,9,-999,9,-999,    -999,9,    -999,0.3,2,-999,9,-999,9,    -999,9,-999,9, 20080208,     1831, -34.1286,  29.0717,    -999,-999,9,     -999,9,     -999,9,     -999,9,     -999,9,     -999,9,     -999,9,-999,9,     -999,9,     -999,9,     -999,9,    -999,    -999
33RR20080204,       I06S,      12,          4,          7,          7,2,20080208,       1731,   -34.1286,    29.0717,       3827,  2064.6,   2.7748,  34.7479,2,  34.7476,2,    192.8,3,   191.6,2,   63.96,2,   29.50,2,    0.00,2,    2.02,2,   0.081,6,   0.041,6,   0.005,6,    -999,9,  2338.6,2,     -999,9,     -999,    -999,9,    -999,1,    -999,9,-999,9,-999,9,-999,9,-999,    -999,9,    -999,0.079,6,-999,9,-999,9,    -999,9,-999,9, 20080208,     1825, -34.1286,  29.0717,    -999,-999,1,     -999,9,     -999,9,     -999,9,     -999,9,     -999,9,     -999,9,-999,9,     -999,9,     -999,9,     -999,9,    -999,    -999
33RR20080204,       I06S,      12,          4,          6,          6,2,20080208,       1731,   -34.1286,    29.0717,       3827,  2384.5,   2.6193,  34.8068,2,  34.8174,3,    206.8,3,   209.1,2,   59.01,2,   27.15,2,    0.00,2,    1.84,2,   0.044,2,   0.021,2,   0.005,2,    -999,9,  2336.9,2,     -999,9,     -999,    -999,9,    -999,1,    -999,9,-999,9,-999,9,-999,9,-999,    -999,9,    -999,0.077,2,-999,9,-999,9,    -999,9,-999,9, 20080208,     1816, -34.1286,  29.0717,    -999,-999,1,     -999,9,     -999,9,     -999,9,     -999,9,     -999,9,     -999,9,-999,9,     -999,9,     -999,9,     -999,9,    -999,    -999
33RR20080204,       I06S,      12,          4,          5,          5,2,20080208,       1731,   -34.1286,    29.0717,       3827,  2687.6,   2.3724,  34.8078,2,  34.8094,2,    211.1,3,   212.1,2,   66.19,2,   27.24,2,    0.00,2,    1.85,2,   0.033,2,   0.014,2,   0.005,2,    -999,9,  2343.1,2,     -999,9,     -999,    -999,9,    -999,1,    -999,9,-999,9,-999,9,-999,9,-999,    -999,9,    -999,-0.022,2,-999,9,-999,9,    -999,9,-999,9, 20080208,     1806, -34.1286,  29.0717,    -999,-999,9,     -999,9,     -999,9,     -999,9,     -999,9,     -999,9,     -999,9,-999,9,     -999,9,     -999,9,     -999,9,    -999,    -999