BOTTLE,20220706CCHSIOAMB
EXPOCODE,SECT_ID,STNNBR,CASTNO,SAMPNO,BTLNBR,BTLNBR_FLAG_W,DATE,TIME,LATITUDE,LONGITUDE,DEPTH,CTDPRS,CTDTMP,CTDSAL,CTDSAL_FLAG_W,SALNTY,SALNTY_FLAG_W,CTDOXY,CTDOXY_FLAG_W,OXYGEN,OXYGEN_FLAG_W,SILCAT,SILCAT_FLAG_W,NITRAT,NITRAT_FLAG_W,NITRIT,NITRIT_FLAG_W,PHSPHT,PHSPHT_FLAG_W,CFC-11,CFC-11_FLAG_W,CFC-12,CFC-12_FLAG_W,CFC113,CFC113_FLAG_W,TCARBN,TCARBN_FLAG_W,ALKALI,ALKALI_FLAG_W,PH_SWS,PH_SWS_FLAG_W,PH_TMP,TRITUM,TRITUM_FLAG_W,HELIUM,HELIUM_FLAG_W,DELHE3,DELHE3_FLAG_W,REFTMP,REFTMP_FLAG_W,DELC13,DELC13_FLAG_W,DELC14,DELC14_FLAG_W,C14ERR,NEON,NEON_FLAG_W,NEONER,CCL4,CCL4_FLAG_W,ALUMIN,ALUMIN_FLAG_W,DELO18,DELO18_FLAG_W,DOC,DOC_FLAG_W,TDN,TDN_FLAG_W,BTL_DATE,BTL_TIME,BTL_LAT,BTL_LON,TRITER,DELSI30,DELSI30_FLAG_W,CDOM380,CDOM380_FLAG_W,CDOM325,CDOM325_FLAG_W,CDOMSL,CDOMSL_FLAG_W,CDOM340,CDOM340_FLAG_W,CDOM443,CDOM443_FLAG_W,CDOMSN,CDOMSN_FLAG_W,BLACKC,BLACKC_FLAG_W,CDOM490,CDOM490_FLAG_W,CDOM412,CDOM412_FLAG_W,CDOM555,CDOM555_FLAG_W,DELHER,HELIER
,,,,,,,,,,,METERS,DBAR,ITS-90,PSS-78,,PSS-78,,UMOL/KG,,UMOL/KG,,UMOL/KG,,UMOL/KG,,UMOL/KG,,UMOL/KG,,PMOL/KG,,PMOL/KG,,PMOL/KG,,UMOL/KG,,UMOL/KG,,,,DEG C,TU,,NMOL/KG,,PERCNT,,DEG C,,/MILLE,,/MILLE,,/MILLE,NMOL/KG,,NMOL/KG,PMOL/KG,,NMOL/L,,/MILLE,,UMOL/KG,,UMOL/KG,,,,,,TU,/MILLE,,1/M,,1/M,,1/NM,,1/M,,1/M,,1/NM,,,,1/M,,1/M,,1/M,,PERCNT,NMOL/KG
33RR20080204,       I06S,      27,          2,          7,          7,2,20080213,       1920,   -40.5042,    29.9963,       4639,  2993.3,   2.1732,  34.8177,2,  34.8184,2,    219.3,2,   219.5,2,   67.37,2,   26.65,2,    0.00,2,    1.82,2,   0.030,2,   0.014,2,  -0.003,2,  2222.0,2,  2348.2,2,   7.8645,2,    13.00,    -999,9,    -999,9,    -999,9,2.1727,2,-999,9,-999,9,-999,    -999,9,    -999,0.374,2,-999,9,-999,9,   44.20,3,-999,1, 20080213,     1959, -40.5042,  29.9963,    -999,-999,9,     -999,9,     -999,9,     -999,9,     -999,9,     -999,9,     -999,9,-999,1,     -999,9,     -999,9,     -999,9,    -999,    -999
33RR20080204,       I06S,      27,          2,          6,          6,2,20080213,       1920,   -40.5042,    29.9963,       4639,  3305.5,   1.8821,  34.7956,2,  34.7968,2,    217.8,2,   217.7,2,   78.02,2,   27.71,2,    0.00,2,    1.89,2,   0.044,2,   0.025,2,  -0.003,2,    -999,5,  2350.4,2,   7.8551,2,    13.00,    -999,9,    -999,9,    -999,9,1.8822,2,-999,9,-999,9,-999,    -999,9,    -999,0.495,2,-999,9,-999,9,   40.20,2,-999,1, 20080213,     1952, -40.5042,  29.9963,    -999,-999,9,     -999,9,     -999,9,     -999,9,     -999,9,     -999,9,     -999,9,-999,9,     -999,9,     -999,9,     -999,9,    -999,    -999
33RR20080204,       I06S,      27,          2,          5,          5,2,20080213,       1920,   -40.5042,    29.9963,       4639,  3611.4,   1.5482,  34.7688,2,  34.7693,2,    216.1,2,   216.3,2,   90.11,2,   29.08,2,    0.00,2,    1.99,2,   0.055,2,   0.031,2,   0.012,2,  2239.7,2,  2357.2,2,   7.8423,2,    13.00,    -999,9,    -999,9,    -999,9,1.5467,2,-999,9,-999,9,-999,    -999,9,    -999,0.613,2,-999,9,-999,9,    -999,9,-999,9, 20080213,     1945, -40.5042,  29.9963,    -999,-999,9,     -999,9,     -999,9,     -999,9,     -999,9,     -999,9,     -999,9,-999,9,     -999,9,     -999,9,     -999,9,    -999,    -999
33RR20080204,       I06S,      27,          2,          4,          4,2,20080213,       1920,   -40.5042,    29.9963,       4639,  3914.1,   1.2606,  34.7462,2,  34.7467,2,    216.4,2,   215.7,2,  100.00,2,   30.11,2,    0.00,2,    2.07,2,   0.071,2,   0.041,2,   0.011,2,  2245.5,2,  2363.4,2,   7.8319,2,    13.00,    -999,9,    -999,9,    -999,9,1.2608,2,-999,9,-999,9,-999,    -999,9,    -999,0.754,2,-999,9,-999,9,   40.68,2,-999,1, 20080213,     1939, -40.5042,  29.9963,    -999,-999,9,     -999,9,     -999,9,     -999,9,     -999,9,     -999,9,     -999,9,-999,1,     -999,9,     -999,9,     -999,9,    -999,    -999
33RR20080204,       I06S,      27,          2,          3,          3,2,20080213,       1920,   -40.5042,    29.9963,       4639,  4231.5,   1.0269,  34.7276,2,  34.7280,2,    217.2,2,   216.7,2,  108.50,2,   30.87,2,    0.00,2,    2.13,2,   0.102,2,   0.056,2,   0.011,2,  2251.7,2,  2364.5,2,   7.8239,2,    13.00,    -999,9,    -999,9,    -999,9,1.0275,2,-999,9,-999,9,-999,    -999,9,    -999,0.997,2,-999,9,-999,9,    -999,9,-999,9, 20080213,     1932, -40.5042,  29.9963,    -999,-999,9,     -999,9,     -999,9,     -999,9,     -999,9,     -999,9,     -999,9,-999,9,     -999,9,     -999,9,     -999,9,    -999,    -999
33RR20080204,       I06S,      27,          2,          2,          2,2,20080213,       1920,   -40.5042,    29.9963,       4639,  4541.5,   0.4497,  34.6858,2,  34.6857,2,    221.0,2,   221.6,2,  125.14,2,   32.34,2,    0.00,2,    2.24,2,   0.239,2,   0.134,2,   0.012,2,  2258.3,6,  2363.4,2,   7.8042,2,    13.00,    -999,9,    -999,9,    -999,9,0.45,2,-999,9,-999,9,-999,    -999,9,    -999,1.276,2,-999,9,-999,9,    -999,9,-999,9, 20080213,     1925, -40.5042,  29.9963,    -999,-999,9,     -999,9,     -999,9,     -999,9,     -999,9,     -999,9,     -999,9,-999,9,     -999,9,     -999,9,     -999,9,    -999,    -999
33RR20080204,       I06S,      27,          2,          1,          1,2,20080213,       1920,   -40.5042,    29.9963,       4639,  4674.7,   0.3011,  34.6750,2,  34.6757,2,    222.4,2,   222.9,2,  129.41,2,   32.75,2,    0.00,2,    2.26,2,   0.307,2,   0.162,2,   0.063,2,  2259.1,2,  2363.0,2,   7.7980,2,    13.00,    -999,9,    -999,9,    -999,9,0.3004,2,-999,9,-999,9,-999,    -999,9,    -999,1.472,2,-999,9,-999,9,   41.27,2,-999,1, 20080213,     1921, -40.5042,  29.9963,    -999,-999,9,     -999,9,     -999,9,     -999,9,     -999,9,     -999,9,     -999,9,-999,1,     -999,9,     -999,9,     -999,9,    -999,    -999