BOTTLE,20220706CCHSIOAMB
EXPOCODE,SECT_ID,STNNBR,CASTNO,SAMPNO,BTLNBR,BTLNBR_FLAG_W,DATE,TIME,LATITUDE,LONGITUDE,DEPTH,CTDPRS,CTDTMP,CTDSAL,CTDSAL_FLAG_W,SALNTY,SALNTY_FLAG_W,CTDOXY,CTDOXY_FLAG_W,OXYGEN,OXYGEN_FLAG_W,SILCAT,SILCAT_FLAG_W,NITRAT,NITRAT_FLAG_W,NITRIT,NITRIT_FLAG_W,PHSPHT,PHSPHT_FLAG_W,CFC-11,CFC-11_FLAG_W,CFC-12,CFC-12_FLAG_W,CFC113,CFC113_FLAG_W,TCARBN,TCARBN_FLAG_W,ALKALI,ALKALI_FLAG_W,PH_SWS,PH_SWS_FLAG_W,PH_TMP,TRITUM,TRITUM_FLAG_W,HELIUM,HELIUM_FLAG_W,DELHE3,DELHE3_FLAG_W,REFTMP,REFTMP_FLAG_W,DELC13,DELC13_FLAG_W,DELC14,DELC14_FLAG_W,C14ERR,NEON,NEON_FLAG_W,NEONER,CCL4,CCL4_FLAG_W,ALUMIN,ALUMIN_FLAG_W,DELO18,DELO18_FLAG_W,DOC,DOC_FLAG_W,TDN,TDN_FLAG_W,BTL_DATE,BTL_TIME,BTL_LAT,BTL_LON,TRITER,DELSI30,DELSI30_FLAG_W,CDOM380,CDOM380_FLAG_W,CDOM325,CDOM325_FLAG_W,CDOMSL,CDOMSL_FLAG_W,CDOM340,CDOM340_FLAG_W,CDOM443,CDOM443_FLAG_W,CDOMSN,CDOMSN_FLAG_W,BLACKC,BLACKC_FLAG_W,CDOM490,CDOM490_FLAG_W,CDOM412,CDOM412_FLAG_W,CDOM555,CDOM555_FLAG_W,DELHER,HELIER
,,,,,,,,,,,METERS,DBAR,ITS-90,PSS-78,,PSS-78,,UMOL/KG,,UMOL/KG,,UMOL/KG,,UMOL/KG,,UMOL/KG,,UMOL/KG,,PMOL/KG,,PMOL/KG,,PMOL/KG,,UMOL/KG,,UMOL/KG,,,,DEG C,TU,,NMOL/KG,,PERCNT,,DEG C,,/MILLE,,/MILLE,,/MILLE,NMOL/KG,,NMOL/KG,PMOL/KG,,NMOL/L,,/MILLE,,UMOL/KG,,UMOL/KG,,,,,,TU,/MILLE,,1/M,,1/M,,1/NM,,1/M,,1/M,,1/NM,,,,1/M,,1/M,,1/M,,PERCNT,NMOL/KG
33RR20080204,       I06S,      83,          1,         36,         36,2,20080303,       0918,   -65.8333,    33.2500,       1217,     8.0,  -0.2417,  34.0494,2,  34.0470,2,    333.6,2,   334.2,2,   54.95,2,   26.90,2,    0.21,2,    1.87,2,   5.939,6,   3.244,6,   0.503,6,  2176.2,2,  2307.9,2,   7.8767,2,    13.00,    -999,9,    -999,9,    -999,9,-0.242,2,-999,9,-999,9,-999,    -999,9,    -999,8.9225,6,-999,9,-999,9,    -999,9,-999,9, 20080303,     1003, -65.8334,  33.2501,    -999,-999,9,     -999,9,     -999,9,     -999,9,     -999,9,     -999,9,     -999,9,-999,9,     -999,9,     -999,9,     -999,9,    -999,    -999
33RR20080204,       I06S,      83,          1,         34,         34,2,20080303,       0918,   -65.8333,    33.2500,       1217,    19.0,  -0.2391,  34.0490,2,  34.0470,2,    334.3,2,   334.1,2,   55.16,2,   26.90,2,    0.21,2,    1.86,2,   5.924,2,   3.243,2,   0.478,2,  2176.2,2,  2307.8,2,   7.8756,2,    13.00,    -999,9,    -999,9,    -999,9,-0.2399,2,-999,9,-999,9,-999,    -999,9,    -999,8.624,2,-999,9,-999,9,    -999,9,-999,9, 20080303,     1002, -65.8334,  33.2501,    -999,-999,9,     -999,9,     -999,9,     -999,9,     -999,9,     -999,9,     -999,9,-999,9,     -999,9,     -999,9,     -999,9,    -999,    -999
33RR20080204,       I06S,      83,          1,         32,         32,2,20080303,       0918,   -65.8333,    33.2500,       1217,    35.3,  -0.3336,  34.0625,2,  34.0555,2,    334.3,2,   333.2,2,   55.36,2,   27.01,2,    0.20,2,    1.87,2,   5.889,2,   3.184,2,   0.492,2,  2176.5,2,  2307.7,2,   7.8748,2,    13.00,    -999,9,    -999,9,    -999,9,-0.2822,3,-999,9,-999,9,-999,    -999,9,    -999,8.735,2,-999,9,-999,9,    -999,9,-999,9, 20080303,     1001, -65.8334,  33.2501,    -999,-999,9,     -999,9,     -999,9,     -999,9,     -999,9,     -999,9,     -999,9,-999,9,     -999,9,     -999,9,     -999,9,    -999,    -999
33RR20080204,       I06S,      83,          1,         30,         30,2,20080303,       0918,   -65.8333,    33.2500,       1217,    63.3,  -1.6699,  34.3119,2,  34.3094,2,    306.7,2,   308.7,2,   63.80,2,   30.10,2,    0.15,2,    2.09,2,   5.067,2,   2.740,2,   0.418,2,  2216.5,2,  2321.7,2,   7.8207,2,    13.00,    -999,9,    -999,9,    -999,9,-1.6668,2,-999,9,-999,9,-999,    -999,9,    -999,6.742,2,-999,9,-999,9,    -999,9,-999,9, 20080303,     0959, -65.8334,  33.2501,    -999,-999,9,     -999,9,     -999,9,     -999,9,     -999,9,     -999,9,     -999,9,-999,9,     -999,9,     -999,9,     -999,9,    -999,    -999
33RR20080204,       I06S,      83,          1,         28,         28,2,20080303,       0918,   -65.8333,    33.2500,       1217,    91.7,  -1.4240,  34.3592,2,  34.3527,2,    295.0,2,   294.5,2,   68.02,2,   30.79,2,    0.06,2,    2.13,2,   4.774,2,   2.584,2,   0.380,2,  2223.2,2,  2324.0,2,   7.8046,3,    13.00,    -999,9,    -999,9,    -999,9,-1.4313,2,-999,9,-999,9,-999,    -999,9,    -999,6.458,2,-999,9,-999,9,    -999,9,-999,9, 20080303,     0957, -65.8334,  33.2503,    -999,-999,9,     -999,9,     -999,9,     -999,9,     -999,9,     -999,9,     -999,9,-999,9,     -999,9,     -999,9,     -999,9,    -999,    -999
33RR20080204,       I06S,      83,          1,         26,         26,2,20080303,       0918,   -65.8333,    33.2500,       1217,   144.5,  -1.1152,  34.4189,2,  34.4173,2,    282.4,2,   282.9,2,   70.85,2,   31.10,2,    0.01,2,    2.15,2,   2.977,2,   1.336,2,   0.222,2,  2229.0,2,  2328.0,2,   7.7990,2,    13.00,    -999,9,    -999,9,    -999,9,-1.1134,2,-999,9,-999,9,-999,    -999,9,    -999,4.62,2,-999,9,-999,9,    -999,9,-999,9, 20080303,     0955, -65.8334,  33.2501,    -999,-999,9,     -999,9,     -999,9,     -999,9,     -999,9,     -999,9,     -999,9,-999,9,     -999,9,     -999,9,     -999,9,    -999,    -999
33RR20080204,       I06S,      83,          1,         24,         24,4,20080303,       0918,   -65.8333,    33.2500,       1217,   197.9,   0.5154,  34.5833,2,  34.5895,4,    237.6,2,   220.1,4,   84.99,4,   32.11,4,    0.01,4,    2.22,4,   2.015,4,   1.070,4,   0.169,4,  2248.5,2,  2340.9,2,   7.7703,2,    13.00,    -999,9,    -999,9,    -999,9,0.5094,2,-999,9,-999,9,-999,    -999,9,    -999,3.017,4,-999,9,-999,9,    -999,9,-999,9, 20080303,     0953, -65.8334,  33.2500,    -999,-999,9,     -999,9,     -999,9,     -999,9,     -999,9,     -999,9,     -999,9,-999,9,     -999,9,     -999,9,     -999,9,    -999,    -999
33RR20080204,       I06S,      83,          1,         22,         22,2,20080303,       0918,   -65.8333,    33.2500,       1217,   230.9,   0.0758,  34.5714,2,  34.5691,2,    217.3,2,   240.0,2,   81.96,2,   31.56,2,    0.00,2,    2.18,2,   2.678,2,   1.416,2,   0.205,2,  2242.4,2,  2339.3,2,   7.7837,2,    13.00,    -999,9,    -999,9,    -999,9,0.0712,2,-999,9,-999,9,-999,    -999,9,    -999,3.352,2,-999,9,-999,9,    -999,9,-999,9, 20080303,     0952, -65.8333,  33.2501,    -999,-999,9,     -999,9,     -999,9,     -999,9,     -999,9,     -999,9,     -999,9,-999,9,     -999,9,     -999,9,     -999,9,    -999,    -999
33RR20080204,       I06S,      83,          1,         20,         20,2,20080303,       0918,   -65.8333,    33.2500,       1217,   280.9,   0.0930,  34.5848,2,  34.5836,2,    240.3,2,   239.7,2,   82.97,2,   31.60,2,    0.00,2,    2.16,2,   2.631,2,   1.358,2,   0.215,2,  2242.0,2,  2340.5,2,   7.7867,2,    13.00,    -999,9,    -999,9,    -999,9,0.1007,2,-999,9,-999,9,-999,    -999,9,    -999,3.276,2,-999,9,-999,9,    -999,9,-999,9, 20080303,     0950, -65.8333,  33.2499,    -999,-999,9,     -999,9,     -999,9,     -999,9,     -999,9,     -999,9,     -999,9,-999,9,     -999,9,     -999,9,     -999,9,    -999,    -999
33RR20080204,       I06S,      83,          1,         18,         18,2,20080303,       0918,   -65.8333,    33.2500,       1217,   384.3,   0.2119,  34.6189,2,  34.6173,2,    234.9,2,   234.1,2,   87.83,2,   31.40,2,    0.00,2,    2.17,2,   2.184,2,   1.157,2,   0.172,2,    -999,9,  2342.9,2,   7.7898,3,    13.00,    -999,9,    -999,9,    -999,9,0.2115,2,-999,9,-999,9,-999,    -999,9,    -999,2.815,2,-999,9,-999,9,    -999,9,-999,9, 20080303,     0947, -65.8333,  33.2499,    -999,-999,9,     -999,9,     -999,9,     -999,9,     -999,9,     -999,9,     -999,9,-999,9,     -999,9,     -999,9,     -999,9,    -999,    -999
33RR20080204,       I06S,      83,          1,         16,         16,2,20080303,       0918,   -65.8333,    33.2500,       1217,   484.3,   0.2700,  34.6374,2,  34.6375,2,    228.5,2,   230.2,2,   92.70,2,   31.50,2,    0.00,2,    2.19,2,   1.858,2,   0.979,2,   0.129,2,    -999,9,  2348.2,2,   7.7907,2,    13.00,    -999,9,    -999,9,    -999,9,0.2716,2,-999,9,-999,9,-999,    -999,9,    -999,2.442,2,-999,9,-999,9,    -999,9,-999,9, 20080303,     0944, -65.8334,  33.2501,    -999,-999,9,     -999,9,     -999,9,     -999,9,     -999,9,     -999,9,     -999,9,-999,9,     -999,9,     -999,9,     -999,9,    -999,    -999
33RR20080204,       I06S,      83,          1,         14,         14,2,20080303,       0918,   -65.8333,    33.2500,       1217,   666.7,   0.3459,  34.6612,2,  34.6615,2,    222.7,2,   222.4,2,  102.27,2,   31.70,2,    0.00,2,    2.20,2,   1.278,2,   0.678,2,   0.079,2,    -999,9,  2350.3,2,   7.7873,3,    13.00,    -999,9,    -999,9,    -999,9,0.3452,2,-999,9,-999,9,-999,    -999,9,    -999,1.88,2,-999,9,-999,9,    -999,9,-999,9, 20080303,     0938, -65.8333,  33.2501,    -999,-999,9,     -999,9,     -999,9,     -999,9,     -999,9,     -999,9,     -999,9,-999,9,     -999,9,     -999,9,     -999,9,    -999,    -999
33RR20080204,       I06S,      83,          1,         12,         12,2,20080303,       0918,   -65.8333,    33.2500,       1217,   767.9,   0.3589,  34.6675,2,  34.6664,2,    219.9,2,   220.0,3,  104.92,2,   31.91,2,    0.00,2,    2.22,2,   1.094,2,   0.585,2,   0.070,2,    -999,9,  2353.7,2,   7.7873,2,    13.00,    -999,9,    -999,9,    -999,9,0.3589,2,-999,9,-999,9,-999,    -999,9,    -999,1.755,2,-999,9,-999,9,    -999,9,-999,9, 20080303,     0935, -65.8334,  33.2502,    -999,-999,9,     -999,9,     -999,9,     -999,9,     -999,9,     -999,9,     -999,9,-999,9,     -999,9,     -999,9,     -999,9,    -999,    -999
33RR20080204,       I06S,      83,          1,         10,         10,2,20080303,       0918,   -65.8333,    33.2500,       1217,   869.1,   0.3154,  34.6686,2,  34.6678,2,    220.0,2,   220.3,2,  108.59,2,   32.10,2,    0.00,2,    2.22,2,   1.002,2,   0.541,2,   0.060,2,    -999,9,  2353.5,2,   7.7855,2,    13.00,    -999,9,    -999,9,    -999,9,0.3158,2,-999,9,-999,9,-999,    -999,9,    -999,1.642,2,-999,9,-999,9,    -999,9,-999,9, 20080303,     0932, -65.8333,  33.2500,    -999,-999,9,     -999,9,     -999,9,     -999,9,     -999,9,     -999,9,     -999,9,-999,9,     -999,9,     -999,9,     -999,9,    -999,    -999
33RR20080204,       I06S,      83,          1,          8,          8,2,20080303,       0918,   -65.8333,    33.2500,       1217,   971.9,   0.2324,  34.6653,2,  34.6634,2,    222.0,2,   221.3,2,  110.23,2,   31.94,2,    0.00,2,    2.22,2,   1.042,2,   0.560,2,   0.057,2,    -999,9,  2355.0,2,   7.7846,2,    13.00,    -999,9,    -999,9,    -999,9,0.2336,2,-999,9,-999,9,-999,    -999,9,    -999,1.666,2,-999,9,-999,9,    -999,9,-999,9, 20080303,     0927, -65.8333,  33.2500,    -999,-999,9,     -999,9,     -999,9,     -999,9,     -999,9,     -999,9,     -999,9,-999,9,     -999,9,     -999,9,     -999,9,    -999,    -999
33RR20080204,       I06S,      83,          1,          6,          6,2,20080303,       0918,   -65.8333,    33.2500,       1217,  1075.4,   0.1292,  34.6611,2,  34.6601,2,    224.7,2,   224.3,2,  112.68,2,   32.15,2,    0.00,2,    2.23,2,   1.099,2,   0.579,2,   0.079,2,    -999,9,  2353.1,2,   7.7841,2,    13.00,    -999,9,    -999,9,    -999,9,0.1349,2,-999,9,-999,9,-999,    -999,9,    -999,1.795,2,-999,9,-999,9,    -999,9,-999,9, 20080303,     0924, -65.8334,  33.2501,    -999,-999,9,     -999,9,     -999,9,     -999,9,     -999,9,     -999,9,     -999,9,-999,9,     -999,9,     -999,9,     -999,9,    -999,    -999
33RR20080204,       I06S,      83,          1,          4,          4,2,20080303,       0918,   -65.8333,    33.2500,       1217,  1178.2,   0.0834,  34.6599,2,  34.6593,2,    225.6,2,   225.4,2,  113.91,2,   32.25,2,    0.01,2,    2.24,2,   1.122,2,   0.600,2,   0.081,2,    -999,9,  2354.5,2,   7.7842,2,    13.00,    -999,9,    -999,9,    -999,9,0.0837,2,-999,9,-999,9,-999,    -999,9,    -999,1.809,2,-999,9,-999,9,    -999,9,-999,9, 20080303,     0920, -65.8333,  33.2499,    -999,-999,9,     -999,9,     -999,9,     -999,9,     -999,9,     -999,9,     -999,9,-999,9,     -999,9,     -999,9,     -999,9,    -999,    -999
33RR20080204,       I06S,      83,          1,          2,          2,2,20080303,       0918,   -65.8333,    33.2500,       1217,  1209.0,   0.0857,  34.6599,2,  34.6589,2,    225.4,2,   225.7,2,  114.12,2,   32.25,2,    0.01,2,    2.24,2,   1.143,2,   0.589,2,   0.089,2,  2255.0,6,  2354.5,2,   7.7849,2,    13.00,    -999,9,    -999,9,    -999,9,0.0854,2,-999,9,-999,9,-999,    -999,9,    -999,1.691,2,-999,9,-999,9,    -999,9,-999,9, 20080303,     0918, -65.8333,  33.2501,    -999,-999,9,     -999,9,     -999,9,     -999,9,     -999,9,     -999,9,     -999,9,-999,9,     -999,9,     -999,9,     -999,9,    -999,    -999