BOTTLE,20220706CCHSIOAMB
EXPOCODE,SECT_ID,STNNBR,CASTNO,SAMPNO,BTLNBR,BTLNBR_FLAG_W,DATE,TIME,LATITUDE,LONGITUDE,DEPTH,CTDPRS,CTDTMP,CTDSAL,CTDSAL_FLAG_W,SALNTY,SALNTY_FLAG_W,CTDOXY,CTDOXY_FLAG_W,OXYGEN,OXYGEN_FLAG_W,SILCAT,SILCAT_FLAG_W,NITRAT,NITRAT_FLAG_W,NITRIT,NITRIT_FLAG_W,PHSPHT,PHSPHT_FLAG_W,CFC-11,CFC-11_FLAG_W,CFC-12,CFC-12_FLAG_W,CFC113,CFC113_FLAG_W,TCARBN,TCARBN_FLAG_W,ALKALI,ALKALI_FLAG_W,PH_SWS,PH_SWS_FLAG_W,PH_TMP,TRITUM,TRITUM_FLAG_W,HELIUM,HELIUM_FLAG_W,DELHE3,DELHE3_FLAG_W,REFTMP,REFTMP_FLAG_W,DELC13,DELC13_FLAG_W,DELC14,DELC14_FLAG_W,C14ERR,NEON,NEON_FLAG_W,NEONER,CCL4,CCL4_FLAG_W,ALUMIN,ALUMIN_FLAG_W,DELO18,DELO18_FLAG_W,DOC,DOC_FLAG_W,TDN,TDN_FLAG_W,BTL_DATE,BTL_TIME,BTL_LAT,BTL_LON,TRITER,DELSI30,DELSI30_FLAG_W,CDOM380,CDOM380_FLAG_W,CDOM325,CDOM325_FLAG_W,CDOMSL,CDOMSL_FLAG_W,CDOM340,CDOM340_FLAG_W,CDOM443,CDOM443_FLAG_W,CDOMSN,CDOMSN_FLAG_W,BLACKC,BLACKC_FLAG_W,CDOM490,CDOM490_FLAG_W,CDOM412,CDOM412_FLAG_W,CDOM555,CDOM555_FLAG_W,DELHER,HELIER
,,,,,,,,,,,METERS,DBAR,ITS-90,PSS-78,,PSS-78,,UMOL/KG,,UMOL/KG,,UMOL/KG,,UMOL/KG,,UMOL/KG,,UMOL/KG,,PMOL/KG,,PMOL/KG,,PMOL/KG,,UMOL/KG,,UMOL/KG,,,,DEG C,TU,,NMOL/KG,,PERCNT,,DEG C,,/MILLE,,/MILLE,,/MILLE,NMOL/KG,,NMOL/KG,PMOL/KG,,NMOL/L,,/MILLE,,UMOL/KG,,UMOL/KG,,,,,,TU,/MILLE,,1/M,,1/M,,1/NM,,1/M,,1/M,,1/NM,,,,1/M,,1/M,,1/M,,PERCNT,NMOL/KG
33RR20080204,       I06S,     101,          2,         34,         34,2,20080306,       2033,   -68.0001,    29.9981,       3724,     3.1,  -0.9473,  34.0446,2,  34.0446,2,    338.6,2,   338.7,2,   53.86,2,   26.81,2,    0.14,2,    1.87,2,   6.228,2,   3.376,2,   0.525,2,  2179.0,6,  2307.8,2,   7.8715,2,    13.00,    -999,9,    -999,9,    -999,9,-0.9477,2,-999,9,-999,9,-999,    -999,9,    -999,7.056,2,-999,9,-0.39,2,    -999,9,-999,9, 20080306,     2222, -68.0001,  29.9981,    -999,-999,9,     -999,9,     -999,9,     -999,9,     -999,9,     -999,9,     -999,9,-999,9,     -999,9,     -999,9,     -999,9,    -999,    -999
33RR20080204,       I06S,     101,          2,         33,         33,2,20080306,       2033,   -68.0001,    29.9981,       3724,    26.3,  -0.9523,  34.0449,2,  34.0442,2,    337.6,2,   339.0,2,   53.66,2,   26.76,2,    0.14,2,    1.87,2,   6.181,2,   3.334,2,   0.517,2,  2181.5,2,  2308.0,2,   7.8719,2,    13.00,    -999,9,    -999,9,    -999,9,-0.9526,2,-999,9,-999,9,-999,    -999,9,    -999,6.961,2,-999,9,-0.4,2,    -999,9,-999,9, 20080306,     2221, -68.0001,  29.9981,    -999,-999,1,     -999,9,     -999,9,     -999,9,     -999,9,     -999,9,     -999,9,-999,9,     -999,9,     -999,9,     -999,9,    -999,    -999
33RR20080204,       I06S,     101,          2,         32,         32,2,20080306,       2033,   -68.0001,    29.9981,       3724,    46.1,  -1.0539,  34.0515,2,  34.0510,2,    336.5,2,   337.7,2,   54.26,2,   27.02,2,    0.13,2,    1.88,2,   6.121,2,   3.299,2,   0.506,2,  2187.5,2,  2307.2,2,   7.8698,2,    13.00,    -999,9,    -999,9,    -999,9,-1.0578,2,-999,9,-999,9,-999,    -999,9,    -999,6.445,2,-999,9,-0.42,2,    -999,9,-999,9, 20080306,     2219, -68.0001,  29.9981,    -999,-999,1,     -999,9,     -999,9,     -999,9,     -999,9,     -999,9,     -999,9,-999,9,     -999,9,     -999,9,     -999,9,    -999,    -999
33RR20080204,       I06S,     101,          2,         31,         31,2,20080306,       2033,   -68.0001,    29.9981,       3724,    76.2,  -1.3607,  34.1379,2,  34.1393,2,    327.9,2,   324.4,2,   57.45,2,   28.43,2,    0.12,2,    1.99,2,    -999,9,    -999,9,    -999,9,  2193.3,2,  2312.4,2,   7.8425,2,    13.00,    -999,9,    -999,9,    -999,9,-1.364,2,-999,9,-999,9,-999,    -999,9,    -999,-999,9,-999,9,-0.35,2,    -999,9,-999,9, 20080306,     2217, -68.0001,  29.9980,    -999,-999,1,     -999,9,     -999,9,     -999,9,     -999,9,     -999,9,     -999,9,-999,9,     -999,9,     -999,9,     -999,9,    -999,    -999
33RR20080204,       I06S,     101,          2,         30,         30,2,20080306,       2033,   -68.0001,    29.9981,       3724,   100.8,  -1.7160,  34.2758,2,  34.2787,2,    309.2,2,   310.4,2,   62.83,2,   30.30,2,    0.11,2,    2.11,2,   5.327,2,   2.830,2,   0.473,2,  2228.9,4,  2319.5,2,   7.8115,2,    13.00,    -999,9,    -999,9,    -999,9,-1.7172,2,-999,9,-999,9,-999,    -999,9,    -999,5.761,2,-999,9,-0.25,2,    -999,9,-999,9, 20080306,     2215, -68.0001,  29.9981,    -999,-999,1,     -999,9,     -999,9,     -999,9,     -999,9,     -999,9,     -999,9,-999,9,     -999,9,     -999,9,     -999,9,    -999,    -999
33RR20080204,       I06S,     101,          2,         29,         29,2,20080306,       2033,   -68.0001,    29.9981,       3724,   151.3,  -1.6829,  34.3362,2,  34.3365,2,    303.8,2,   305.6,2,   65.22,2,   30.49,2,    0.07,2,    2.12,2,   5.199,2,   2.754,2,   0.452,2,  2208.9,2,  2321.7,2,   7.8091,2,    13.00,    -999,9,    -999,9,    -999,9,-1.6832,2,-999,9,-999,9,-999,    -999,9,    -999,5.47,2,-999,9,-0.32,2,    -999,9,-999,9, 20080306,     2213, -68.0001,  29.9981,    -999,-999,1,     -999,9,     -999,9,     -999,9,     -999,9,     -999,9,     -999,9,-999,9,     -999,9,     -999,9,     -999,9,    -999,    -999
33RR20080204,       I06S,     101,          2,         28,         28,2,20080306,       2033,   -68.0001,    29.9981,       3724,   201.1,  -1.4907,  34.3786,2,  34.3785,2,    302.0,2,   300.8,2,   66.62,2,   30.67,2,    0.03,2,    2.12,2,   5.006,2,   2.646,2,   0.423,2,  2215.3,2,  2324.1,2,   7.8069,2,    13.00,    -999,9,    -999,9,    -999,9,-1.4903,2,-999,9,-999,9,-999,    -999,9,    -999,4.95,2,-999,9,-999,9,    -999,9,-999,9, 20080306,     2211, -68.0001,  29.9981,    -999,-999,1,     -999,9,     -999,9,     -999,9,     -999,9,     -999,9,     -999,9,-999,9,     -999,9,     -999,9,     -999,9,    -999,    -999
33RR20080204,       I06S,     101,          2,         27,         27,2,20080306,       2033,   -68.0001,    29.9981,       3724,   251.5,  -1.1179,  34.4327,2,  34.4316,2,    286.7,2,   285.9,2,   70.42,2,   30.99,2,    0.02,2,    2.14,2,   4.520,2,   2.371,2,   0.393,2,  2219.2,2,  2328.9,2,   7.8007,2,    13.00,    -999,9,    -999,9,    -999,9,-1.1195,2,-999,9,-999,9,-999,    -999,9,    -999,4.293,2,-999,9,-0.29,2,    -999,9,-999,9, 20080306,     2208, -68.0001,  29.9982,    -999,-999,9,     -999,9,     -999,9,     -999,9,     -999,9,     -999,9,     -999,9,-999,9,     -999,9,     -999,9,     -999,9,    -999,    -999
33RR20080204,       I06S,     101,          2,         26,         26,2,20080306,       2033,   -68.0001,    29.9981,       3724,   302.1,  -0.4064,  34.5163,2,  34.5106,2,    262.7,2,   260.2,2,   76.62,2,   31.30,2,    0.01,2,    2.17,2,   3.535,2,   1.825,2,   0.287,2,  2229.0,2,  2335.2,2,   7.7917,2,    13.00,    -999,9,    -999,9,    -999,9,-0.4048,2,-999,9,-999,9,-999,    -999,9,    -999,3.125,2,-999,9,-999,9,    -999,9,-999,9, 20080306,     2206, -68.0001,  29.9982,    -999,-999,1,     -999,9,     -999,9,     -999,9,     -999,9,     -999,9,     -999,9,-999,9,     -999,9,     -999,9,     -999,9,    -999,    -999
33RR20080204,       I06S,     101,          2,         25,         25,2,20080306,       2033,   -68.0001,    29.9981,       3724,   357.1,   0.3286,  34.5970,2,  34.5937,2,    226.9,2,   230.2,2,   83.85,2,   31.69,2,    0.01,2,    2.20,2,   2.316,2,   1.207,2,   0.192,2,  2239.2,2,  2342.3,2,   7.7791,2,    13.00,    -999,9,    -999,9,    -999,9,0.3248,2,-999,9,-999,9,-999,    -999,9,    -999,2.343,2,-999,9,-999,9,    -999,9,-999,9, 20080306,     2204, -68.0001,  29.9982,    -999,-999,9,     -999,9,     -999,9,     -999,9,     -999,9,     -999,9,     -999,9,-999,9,     -999,9,     -999,9,     -999,9,    -999,    -999
33RR20080204,       I06S,     101,          2,         24,         24,2,20080306,       2033,   -68.0001,    29.9981,       3724,   407.4,   0.6460,  34.6380,2,  34.6390,2,    217.1,2,   218.4,2,   88.07,2,   31.69,2,    0.01,2,    2.20,2,   1.687,2,   0.874,2,   0.147,2,  2243.1,2,  2344.4,2,   7.7792,2,    13.00,    -999,9,    -999,9,    -999,9,0.6449,2,-999,9,-999,9,-999,    -999,9,    -999,1.871,2,-999,9,-999,9,    -999,9,-999,9, 20080306,     2202, -68.0001,  29.9982,    -999,-999,1,     -999,9,     -999,9,     -999,9,     -999,9,     -999,9,     -999,9,-999,9,     -999,9,     -999,9,     -999,9,    -999,    -999
33RR20080204,       I06S,     101,          2,         23,         23,2,20080306,       2033,   -68.0001,    29.9981,       3724,   457.6,   0.7635,  34.6572,2,  34.6573,2,    215.9,2,   214.0,2,   90.30,2,   31.60,2,    0.01,2,    2.19,2,    -999,9,    -999,9,    -999,9,  2249.2,2,  2346.8,2,   7.7807,2,    13.00,    -999,9,    -999,9,    -999,9,0.7625,2,-999,9,-999,9,-999,    -999,9,    -999,-999,9,-999,9,-0.1,2,    -999,9,-999,9, 20080306,     2159, -68.0001,  29.9982,    -999,-999,9,     -999,9,     -999,9,     -999,9,     -999,9,     -999,9,     -999,9,-999,9,     -999,9,     -999,9,     -999,9,    -999,    -999
33RR20080204,       I06S,     101,          2,         22,         22,2,20080306,       2033,   -68.0001,    29.9981,       3724,   507.0,   0.7243,  34.6614,2,  34.6620,2,    217.2,2,   215.4,2,   91.51,2,   31.55,2,    0.01,2,    2.19,2,   1.360,2,   0.711,2,   0.105,2,  2249.5,2,  2347.8,2,   7.7836,2,    13.00,    -999,9,    -999,9,    -999,9,0.7244,2,-999,9,-999,9,-999,    -999,9,    -999,1.636,2,-999,9,-999,9,    -999,9,-999,9, 20080306,     2157, -68.0001,  29.9982,    -999,-999,1,     -999,9,     -999,9,     -999,9,     -999,9,     -999,9,     -999,9,-999,9,     -999,9,     -999,9,     -999,9,    -999,    -999
33RR20080204,       I06S,     101,          2,         21,         21,2,20080306,       2033,   -68.0001,    29.9981,       3724,   608.0,   0.6661,  34.6680,2,  34.6659,2,    216.1,2,   216.2,2,   94.53,2,   31.50,2,    0.00,2,    2.18,2,   1.263,2,   0.658,2,   0.094,2,  2247.9,2,  2349.3,2,   7.7851,2,    13.00,    -999,9,    -999,9,    -999,9,0.6648,2,-999,9,-999,9,-999,    -999,9,    -999,1.439,2,-999,9,-999,9,    -999,9,-999,9, 20080306,     2154, -68.0001,  29.9983,    -999,-999,1,     -999,9,     -999,9,     -999,9,     -999,9,     -999,9,     -999,9,-999,9,     -999,9,     -999,9,     -999,9,    -999,    -999
33RR20080204,       I06S,     101,          2,         20,         20,2,20080306,       2033,   -68.0001,    29.9981,       3724,   710.8,   0.6632,  34.6772,2,  34.6771,2,    214.2,2,   215.0,2,   98.38,2,   31.50,2,    0.00,2,    2.19,2,   1.052,2,   0.556,2,   0.081,2,  2250.7,2,  2350.6,2,   7.7863,2,    13.00,    -999,9,    -999,9,    -999,9,0.6629,2,-999,9,-999,9,-999,    -999,9,    -999,1.338,2,-999,9,-0.19,2,    -999,9,-999,9, 20080306,     2151, -68.0001,  29.9983,    -999,-999,9,     -999,9,     -999,9,     -999,9,     -999,9,     -999,9,     -999,9,-999,9,     -999,9,     -999,9,     -999,9,    -999,    -999
33RR20080204,       I06S,     101,          2,         19,         19,2,20080306,       2033,   -68.0001,    29.9981,       3724,   811.8,   0.6165,  34.6797,2,  34.6814,2,    214.0,2,   214.5,2,  101.41,2,   31.65,2,    0.00,2,    2.20,2,   0.940,2,   0.502,2,   0.081,2,  2251.9,2,  2351.9,2,   7.7873,2,    13.00,    -999,9,    -999,9,    -999,9,0.6162,2,-999,9,-999,9,-999,    -999,9,    -999,1.22,2,-999,9,-999,9,    -999,9,-999,9, 20080306,     2147, -68.0001,  29.9982,    -999,-999,1,     -999,9,     -999,9,     -999,9,     -999,9,     -999,9,     -999,9,-999,9,     -999,9,     -999,9,     -999,9,    -999,    -999
33RR20080204,       I06S,     101,          2,         18,         18,2,20080306,       2033,   -68.0001,    29.9981,       3724,   911.7,   0.5559,  34.6804,2,  34.6808,2,    214.2,2,   214.3,2,  105.06,2,   31.80,2,    0.00,2,    2.21,2,   0.881,2,   0.475,2,   0.076,2,  2252.5,2,  2353.1,2,   7.7860,2,    13.00,    -999,9,    -999,9,    -999,9,0.5563,2,-999,9,-999,9,-999,    -999,9,    -999,1.192,2,-999,9,-999,9,    -999,9,-999,9, 20080306,     2144, -68.0001,  29.9979,    -999,-999,9,     -999,9,     -999,9,     -999,9,     -999,9,     -999,9,     -999,9,-999,9,     -999,9,     -999,9,     -999,9,    -999,    -999
33RR20080204,       I06S,     101,          2,         17,         17,2,20080306,       2033,   -68.0001,    29.9981,       3724,  1013.7,   0.4878,  34.6788,2,  34.6795,2,    215.1,2,   215.3,2,  107.30,2,   31.91,2,    0.00,2,    2.22,2,   0.835,2,   0.444,2,   0.064,2,  2254.4,2,  2353.3,2,   7.7851,2,    13.00,    -999,9,    -999,9,    -999,9,0.4874,2,-999,9,-999,9,-999,    -999,9,    -999,1.175,2,-999,9,-0.11,2,    -999,9,-999,9, 20080306,     2141, -68.0001,  29.9978,    -999,-999,1,     -999,9,     -999,9,     -999,9,     -999,9,     -999,9,     -999,9,-999,9,     -999,9,     -999,9,     -999,9,    -999,    -999
33RR20080204,       I06S,     101,          2,         15,         15,2,20080306,       2033,   -68.0001,    29.9981,       3724,  1115.7,   0.4413,  34.6791,2,  34.6799,2,    214.3,2,   214.3,2,  110.55,2,   32.05,2,    0.00,2,    2.22,2,   0.753,2,   0.407,2,   0.051,2,  2255.4,6,  2353.3,2,   7.7825,2,    13.00,    -999,9,    -999,9,    -999,9,0.4411,2,-999,9,-999,9,-999,    -999,9,    -999,1.072,2,-999,9,-999,9,    -999,9,-999,9, 20080306,     2138, -68.0001,  29.9977,    -999,-999,9,     -999,9,     -999,9,     -999,9,     -999,9,     -999,9,     -999,9,-999,9,     -999,9,     -999,9,     -999,9,    -999,    -999
33RR20080204,       I06S,     101,          2,         14,         14,2,20080306,       2033,   -68.0001,    29.9981,       3724,  1217.3,   0.3747,  34.6758,2,  34.6765,2,    215.3,2,   216.1,2,  111.36,2,   32.15,2,    0.00,2,    2.22,2,   0.751,2,   0.410,2,   0.057,2,    -999,9,    -999,9,     -999,9,     -999,    -999,9,    -999,9,    -999,9,0.3751,2,-999,9,-999,9,-999,    -999,9,    -999,1.107,2,-999,9,-999,9,    -999,9,-999,9, 20080306,     2135, -68.0001,  29.9976,    -999,-999,9,     -999,9,     -999,9,     -999,9,     -999,9,     -999,9,     -999,9,-999,9,     -999,9,     -999,9,     -999,9,    -999,    -999
33RR20080204,       I06S,     101,          2,         13,         13,2,20080306,       2033,   -68.0001,    29.9981,       3724,  1318.4,   0.3403,  34.6761,2,  34.6777,2,    215.7,2,   215.9,2,  113.81,2,   32.26,2,    0.00,2,    2.23,2,   0.687,2,   0.371,2,   0.054,2,    -999,9,  2355.1,2,   7.7814,2,    13.00,    -999,9,    -999,9,    -999,9,0.3404,2,-999,9,-999,9,-999,    -999,9,    -999,1.077,2,-999,9,-999,9,    -999,9,-999,9, 20080306,     2132, -68.0001,  29.9975,    -999,-999,9,     -999,9,     -999,9,     -999,9,     -999,9,     -999,9,     -999,9,-999,9,     -999,9,     -999,9,     -999,9,    -999,    -999
33RR20080204,       I06S,     101,          2,         12,         12,2,20080306,       2033,   -68.0001,    29.9981,       3724,  1419.5,   0.2789,  34.6732,2,  34.6728,2,    217.1,2,   217.5,2,  114.82,2,   32.26,2,    0.00,2,    2.23,2,   0.730,2,   0.391,2,   0.054,2,    -999,9,    -999,9,     -999,9,     -999,    -999,9,    -999,9,    -999,9,0.279,2,-999,9,-999,9,-999,    -999,9,    -999,1.13,2,-999,9,-0.24,2,    -999,9,-999,9, 20080306,     2129, -68.0001,  29.9975,    -999,-999,9,     -999,9,     -999,9,     -999,9,     -999,9,     -999,9,     -999,9,-999,9,     -999,9,     -999,9,     -999,9,    -999,    -999
33RR20080204,       I06S,     101,          2,         11,         11,2,20080306,       2033,   -68.0001,    29.9981,       3724,  1521.2,   0.2462,  34.6734,2,  34.6724,2,    217.8,2,   217.0,2,  116.66,2,   32.36,2,    0.00,2,    2.24,2,   0.656,2,   0.358,2,   0.055,2,    -999,9,  2355.3,2,   7.7812,2,    13.00,    -999,9,    -999,9,    -999,9,0.246,2,-999,9,-999,9,-999,    -999,9,    -999,1.05,2,-999,9,-999,9,    -999,9,-999,9, 20080306,     2126, -68.0001,  29.9973,    -999,-999,9,     -999,9,     -999,9,     -999,9,     -999,9,     -999,9,     -999,9,-999,9,     -999,9,     -999,9,     -999,9,    -999,    -999
33RR20080204,       I06S,     101,          2,         10,         10,2,20080306,       2033,   -68.0001,    29.9981,       3724,  1621.4,   0.1949,  34.6711,2,  34.6713,2,    219.5,2,   219.8,2,  116.87,2,   32.36,2,    0.00,2,    2.24,2,   0.688,2,   0.377,2,   0.051,2,    -999,9,    -999,9,     -999,9,     -999,    -999,9,    -999,9,    -999,9,0.1955,2,-999,9,-999,9,-999,    -999,9,    -999,1.088,2,-999,9,-999,9,    -999,9,-999,9, 20080306,     2123, -68.0002,  29.9972,    -999,-999,9,     -999,9,     -999,9,     -999,9,     -999,9,     -999,9,     -999,9,-999,9,     -999,9,     -999,9,     -999,9,    -999,    -999
33RR20080204,       I06S,     101,          2,          9,          9,2,20080306,       2033,   -68.0001,    29.9981,       3724,  1727.2,   0.1531,  34.6700,2,  34.6699,2,    220.6,2,   221.1,2,  118.29,2,   32.36,2,    0.00,2,    2.24,2,   0.705,2,   0.375,2,   0.054,2,    -999,9,    -999,9,     -999,9,     -999,    -999,9,    -999,9,    -999,9,0.153,2,-999,9,-999,9,-999,    -999,9,    -999,1.152,2,-999,9,-999,9,    -999,9,-999,9, 20080306,     2119, -68.0002,  29.9973,    -999,-999,9,     -999,9,     -999,9,     -999,9,     -999,9,     -999,9,     -999,9,-999,9,     -999,9,     -999,9,     -999,9,    -999,    -999
33RR20080204,       I06S,     101,          2,          8,          8,2,20080306,       2033,   -68.0001,    29.9981,       3724,  1828.6,   0.1186,  34.6690,2,  34.6693,2,    221.9,2,   221.3,2,  118.91,2,   32.36,2,    0.00,2,    2.24,2,   0.698,2,   0.382,2,   0.056,2,    -999,9,  2354.9,2,   7.7832,2,    13.00,    -999,9,    -999,9,    -999,9,0.1186,2,-999,9,-999,9,-999,    -999,9,    -999,1.16,2,-999,9,-0.24,2,    -999,9,-999,9, 20080306,     2116, -68.0002,  29.9974,    -999,-999,9,     -999,9,     -999,9,     -999,9,     -999,9,     -999,9,     -999,9,-999,9,     -999,9,     -999,9,     -999,9,    -999,    -999
33RR20080204,       I06S,     101,          2,          7,          7,2,20080306,       2033,   -68.0001,    29.9981,       3724,  2030.1,   0.0547,  34.6671,2,  34.6670,2,    224.5,2,   224.1,2,  120.14,2,   32.31,2,    0.00,2,    2.24,2,   0.715,2,   0.396,2,   0.051,2,    -999,9,    -999,9,     -999,9,     -999,    -999,9,    -999,9,    -999,9,0.0548,2,-999,9,-999,9,-999,    -999,9,    -999,1.182,2,-999,9,-999,9,    -999,9,-999,9, 20080306,     2112, -68.0002,  29.9975,    -999,-999,9,     -999,9,     -999,9,     -999,9,     -999,9,     -999,9,     -999,9,-999,9,     -999,9,     -999,9,     -999,9,    -999,    -999
33RR20080204,       I06S,     101,          2,          6,          6,2,20080306,       2033,   -68.0001,    29.9981,       3724,  2339.6,  -0.0176,  34.6643,2,  34.6640,2,    228.0,2,   227.8,2,  120.76,2,   32.26,2,    0.00,2,    2.24,2,   0.780,2,   0.421,2,   0.054,2,    -999,9,    -999,9,     -999,9,     -999,    -999,9,    -999,9,    -999,9,-0.0175,2,-999,9,-999,9,-999,    -999,9,    -999,1.283,2,-999,9,-999,9,    -999,9,-999,9, 20080306,     2105, -68.0002,  29.9977,    -999,-999,9,     -999,9,     -999,9,     -999,9,     -999,9,     -999,9,     -999,9,-999,9,     -999,9,     -999,9,     -999,9,    -999,    -999
33RR20080204,       I06S,     101,          2,          5,          5,2,20080306,       2033,   -68.0001,    29.9981,       3724,  2648.2,  -0.0809,  34.6609,2,  34.6607,2,    232.0,2,   231.4,2,  119.74,2,   32.26,2,    0.00,2,    2.23,2,   0.940,2,   0.497,2,   0.077,2,    -999,9,  2354.0,2,   7.7865,2,    13.00,    -999,9,    -999,9,    -999,9,-0.0814,2,-999,9,-999,9,-999,    -999,9,    -999,1.328,2,-999,9,-999,9,    -999,9,-999,9, 20080306,     2058, -68.0001,  29.9979,    -999,-999,9,     -999,9,     -999,9,     -999,9,     -999,9,     -999,9,     -999,9,-999,9,     -999,9,     -999,9,     -999,9,    -999,    -999