BOTTLE,20220706CCHSIOAMB
EXPOCODE,SECT_ID,STNNBR,CASTNO,SAMPNO,BTLNBR,BTLNBR_FLAG_W,DATE,TIME,LATITUDE,LONGITUDE,DEPTH,CTDPRS,CTDTMP,CTDSAL,CTDSAL_FLAG_W,SALNTY,SALNTY_FLAG_W,CTDOXY,CTDOXY_FLAG_W,OXYGEN,OXYGEN_FLAG_W,SILCAT,SILCAT_FLAG_W,NITRAT,NITRAT_FLAG_W,NITRIT,NITRIT_FLAG_W,PHSPHT,PHSPHT_FLAG_W,CFC-11,CFC-11_FLAG_W,CFC-12,CFC-12_FLAG_W,CFC113,CFC113_FLAG_W,TCARBN,TCARBN_FLAG_W,ALKALI,ALKALI_FLAG_W,PH_SWS,PH_SWS_FLAG_W,PH_TMP,TRITUM,TRITUM_FLAG_W,HELIUM,HELIUM_FLAG_W,DELHE3,DELHE3_FLAG_W,REFTMP,REFTMP_FLAG_W,DELC13,DELC13_FLAG_W,DELC14,DELC14_FLAG_W,C14ERR,NEON,NEON_FLAG_W,NEONER,CCL4,CCL4_FLAG_W,ALUMIN,ALUMIN_FLAG_W,DELO18,DELO18_FLAG_W,DOC,DOC_FLAG_W,TDN,TDN_FLAG_W,BTL_DATE,BTL_TIME,BTL_LAT,BTL_LON,TRITER,DELSI30,DELSI30_FLAG_W,CDOM380,CDOM380_FLAG_W,CDOM325,CDOM325_FLAG_W,CDOMSL,CDOMSL_FLAG_W,CDOM340,CDOM340_FLAG_W,CDOM443,CDOM443_FLAG_W,CDOMSN,CDOMSN_FLAG_W,BLACKC,BLACKC_FLAG_W,CDOM490,CDOM490_FLAG_W,CDOM412,CDOM412_FLAG_W,CDOM555,CDOM555_FLAG_W,DELHER,HELIER
,,,,,,,,,,,METERS,DBAR,ITS-90,PSS-78,,PSS-78,,UMOL/KG,,UMOL/KG,,UMOL/KG,,UMOL/KG,,UMOL/KG,,UMOL/KG,,PMOL/KG,,PMOL/KG,,PMOL/KG,,UMOL/KG,,UMOL/KG,,,,DEG C,TU,,NMOL/KG,,PERCNT,,DEG C,,/MILLE,,/MILLE,,/MILLE,NMOL/KG,,NMOL/KG,PMOL/KG,,NMOL/L,,/MILLE,,UMOL/KG,,UMOL/KG,,,,,,TU,/MILLE,,1/M,,1/M,,1/NM,,1/M,,1/M,,1/NM,,,,1/M,,1/M,,1/M,,PERCNT,NMOL/KG
33RR20080204,       I06S,       7,          1,         35,         35,2,20080207,       0546,   -33.3627,    28.1865,       2033,     4.5,  27.2684,  35.3855,2,  35.3865,2,    200.7,2,   201.4,2,    1.91,2,    0.00,2,    0.00,2,    0.09,2,   1.639,2,   1.033,2,   0.106,2,  1984.0,6,  2318.2,2,   8.1760,2,    20.00,    -999,9,    -999,9,    -999,9,-999,9,-999,9,-999,9,-999,    -999,9,    -999,1.797,2,-999,9,-999,9,   70.73,2,-999,1, 20080207,     0720, -33.3891,  28.1458,    -999,-999,1,   0.0147,2,   0.0665,2,   0.0273,2,   0.0447,2,   0.0027,2,   0.0262,2,-999,9,  -0.0005,4,   0.0069,2,  -0.0018,4,    -999,    -999
33RR20080204,       I06S,       7,          1,         34,         34,2,20080207,       0546,   -33.3627,    28.1865,       2033,    29.9,  27.2738,  35.3842,2,  35.3865,2,    202.7,2,   201.8,2,    1.91,2,    0.00,2,    0.00,2,    0.09,2,   1.658,2,   1.033,2,   0.114,2,  1982.5,2,  2317.6,2,   8.1770,2,    20.00,    -999,9,    -999,9,    -999,9,-999,9,-999,9,-999,9,-999,    -999,9,    -999,2.063,2,-999,9,-999,9,   69.56,2,-999,1, 20080207,     0718, -33.3882,  28.1474,    -999,-999,1,   0.0152,2,   0.0876,2,   0.0324,2,   0.0576,2,   0.0022,2,   0.0311,2,-999,9,  -0.0008,4,   0.0066,2,  -0.0017,4,    -999,    -999
33RR20080204,       I06S,       7,          1,         33,         33,2,20080207,       0546,   -33.3627,    28.1865,       2033,    48.2,  24.3331,  35.3529,2,  35.3537,2,    206.0,2,   219.2,2,    2.10,2,    0.00,2,    0.00,2,    0.10,2,   1.944,2,   1.187,2,   0.108,2,  1996.4,2,  2316.4,2,   8.1570,2,    20.00,    -999,9,    -999,9,    -999,9,-999,9,-999,9,-999,9,-999,    -999,9,    -999,1.404,2,-999,9,-999,9,   65.85,2,-999,1, 20080207,     0716, -33.3875,  28.1487,    -999,-999,1,   0.0291,2,   0.1175,2,   0.0221,2,   0.0781,2,   0.0084,2,   0.0246,2,-999,9,   0.0039,2,   0.0164,2,  -0.0007,4,    -999,    -999
33RR20080204,       I06S,       7,          1,         32,         32,2,20080207,       0546,   -33.3627,    28.1865,       2033,    78.3,  21.2642,  35.3355,2,  35.3366,2,    174.8,2,   170.1,2,    4.88,2,    4.97,2,    0.08,2,    0.45,2,   2.013,2,   1.235,2,   0.084,2,  2055.2,2,  2314.4,2,   8.0490,2,    20.00,    -999,9,    -999,9,    -999,9,-999,9,-999,9,-999,9,-999,    -999,9,    -999,0.86,2,-999,9,-999,9,   59.22,2,-999,1, 20080207,     0714, -33.3866,  28.1502,    -999,-999,1,   0.0342,2,   0.1152,2,   0.0183,2,   0.0797,2,   0.0105,2,   0.0205,2,-999,9,   0.0022,2,   0.0240,2,   0.0000,4,    -999,    -999
33RR20080204,       I06S,       7,          1,         31,         31,2,20080207,       0546,   -33.3627,    28.1865,       2033,   103.7,  18.9606,  35.3712,2,  35.3719,2,    152.7,2,   152.1,2,    7.86,2,    9.10,2,    0.02,2,    0.70,2,   2.137,2,   1.268,2,   0.037,2,  2093.3,2,  2320.5,2,   7.9940,2,    20.00,    -999,9,    -999,9,    -999,9,-999,9,-999,9,-999,9,-999,    -999,9,    -999,0.492,2,-999,9,-999,9,   55.41,2,-999,1, 20080207,     0712, -33.3858,  28.1518,    -999,-999,1,   0.0302,2,   0.1043,2,   0.0196,2,   0.0714,2,   0.0078,2,   0.0216,2,-999,9,   0.0013,2,   0.0190,2,  -0.0007,4,    -999,    -999
33RR20080204,       I06S,       7,          1,         30,         30,2,20080207,       0546,   -33.3627,    28.1865,       2033,   154.4,  17.2672,  35.5322,2,  35.5296,2,    182.8,2,   187.4,2,    5.26,2,    5.97,2,    0.01,2,    0.52,2,   2.440,2,   1.438,2,   0.040,2,  2093.3,2,  2330.6,2,   8.0010,2,    20.00,    -999,9,    -999,9,    -999,9,-999,9,-999,9,-999,9,-999,    -999,9,    -999,0.537,2,-999,9,-999,9,   52.88,2,-999,1, 20080207,     0709, -33.3849,  28.1535,    -999,-999,9,   0.0213,2,   0.0864,2,   0.0246,2,   0.0598,2,   0.0029,3,   0.0249,2,-999,9,  -0.0011,4,   0.0108,2,  -0.0021,4,    -999,    -999
33RR20080204,       I06S,       7,          1,         29,         29,2,20080207,       0546,   -33.3627,    28.1865,       2033,   203.9,  15.6856,  35.4734,3,  35.4849,2,    186.3,2,   193.3,2,    5.65,2,    7.48,2,    0.01,2,    0.62,2,   2.636,2,   1.521,2,   0.034,2,  2106.9,2,  2330.0,2,   7.9720,2,    20.00,    -999,9,    -999,9,    -999,9,-999,9,-999,9,-999,9,-999,    -999,9,    -999,0.686,2,-999,9,-999,9,   53.56,2,-999,1, 20080207,     0707, -33.3840,  28.1550,    -999,-999,1,   0.0155,2,   0.0732,2,   0.0270,2,   0.0471,2,   0.0014,3,   0.0285,2,-999,9,  -0.0019,4,   0.0081,2,  -0.0026,4,    -999,    -999
33RR20080204,       I06S,       7,          1,         28,         28,2,20080207,       0546,   -33.3627,    28.1865,       2033,   254.1,  13.9294,  35.2636,3,  35.2932,2,    185.5,2,   184.8,2,    8.04,2,   11.52,2,    0.01,2,    0.87,2,   2.714,2,   1.519,2,   0.039,2,  2121.0,2,  2323.3,2,   7.9190,2,    20.00,    -999,9,    -999,9,    -999,9,-999,9,-999,9,-999,9,-999,    -999,9,    -999,0.714,2,-999,9,-999,9,   53.95,2,-999,1, 20080207,     0705, -33.3832,  28.1566,    -999,-999,1,   0.0164,2,   0.0733,2,   0.0254,2,   0.0472,2,   0.0020,3,   0.0277,2,-999,9,  -0.0018,4,   0.0089,2,  -0.0027,4,    -999,    -999
33RR20080204,       I06S,       7,          1,         27,         27,2,20080207,       0546,   -33.3627,    28.1865,       2033,   305.2,  13.7212,  35.2152,3,  35.2782,2,    191.2,2,   187.4,2,    8.03,2,   11.62,2,    0.01,2,    0.88,2,   2.739,2,   1.547,2,   0.038,2,  2126.6,2,  2320.0,2,   7.9170,2,    20.00,    -999,9,    -999,9,    -999,9,-999,9,-999,9,-999,9,-999,    -999,9,    -999,0.697,2,-999,9,-999,9,   46.83,2,-999,1, 20080207,     0703, -33.3825,  28.1580,    -999,-999,1,   0.0187,2,   0.0761,2,   0.0234,2,   0.0498,2,   0.0027,3,   0.0258,2,-999,9,  -0.0015,4,   0.0103,2,  -0.0027,4,    -999,    -999
33RR20080204,       I06S,       7,          1,         26,         26,2,20080207,       0546,   -33.3627,    28.1865,       2033,   352.9,  12.8745,  35.0754,3,  35.1980,2,    189.2,2,   194.4,2,    7.63,2,   12.37,2,    0.00,2,    0.93,2,   2.879,2,   1.579,2,   0.049,2,  2128.8,2,  2317.3,2,   7.9070,2,    20.00,    -999,9,    -999,9,    -999,9,-999,9,-999,9,-999,9,-999,    -999,9,    -999,0.913,2,-999,9,-999,9,    -999,9,-999,9, 20080207,     0700, -33.3817,  28.1594,    -999,-999,9,     -999,9,     -999,9,     -999,9,     -999,9,     -999,9,     -999,9,-999,9,     -999,9,     -999,9,     -999,9,    -999,    -999
33RR20080204,       I06S,       7,          1,         25,         25,2,20080207,       0546,   -33.3627,    28.1865,       2033,   403.4,  12.0183,  34.9265,3,  35.0988,2,    199.7,2,   216.6,2,    5.23,2,   12.02,2,    0.00,2,    0.91,2,   3.198,2,   1.742,2,   0.071,2,  2120.9,2,  2311.2,2,   7.9130,2,    20.00,    -999,9,    -999,9,    -999,9,-999,9,-999,9,-999,9,-999,    -999,9,    -999,1.175,2,-999,9,-999,9,   50.93,2,-999,1, 20080207,     0658, -33.3810,  28.1608,    -999,-999,1,   0.0147,2,   0.0633,2,   0.0260,2,   0.0400,2,   0.0015,3,   0.0275,2,-999,9,  -0.0020,4,   0.0070,2,  -0.0026,4,    -999,    -999
33RR20080204,       I06S,       7,          1,         24,         24,2,20080207,       0546,   -33.3627,    28.1865,       2033,   451.9,  11.4324,  34.9691,3,  35.0131,2,    201.7,2,   211.5,2,    6.82,2,   13.72,2,    0.00,2,    1.02,2,   3.173,2,   1.687,2,   0.084,2,  2128.4,2,  2309.2,2,   7.8930,2,    20.00,    -999,9,    -999,9,    -999,9,-999,9,-999,9,-999,9,-999,    -999,9,    -999,1.147,2,-999,9,-999,9,    -999,9,-999,9, 20080207,     0656, -33.3802,  28.1621,    -999,-999,9,     -999,9,     -999,9,     -999,9,     -999,9,     -999,9,     -999,9,-999,9,     -999,9,     -999,9,     -999,9,    -999,    -999
33RR20080204,       I06S,       7,          1,         23,         23,2,20080207,       0546,   -33.3627,    28.1865,       2033,   503.5,  10.6031,  34.8575,3,  34.8996,2,    221.0,2,   215.5,2,    7.22,2,   15.16,2,    0.00,2,    1.09,2,   3.188,2,   1.664,2,   0.089,2,  2130.4,2,  2304.0,2,   7.8670,2,    20.00,    -999,9,    -999,9,    -999,9,-999,9,-999,9,-999,9,-999,    -999,9,    -999,1.314,2,-999,9,-999,9,   44.49,2,-999,1, 20080207,     0654, -33.3795,  28.1632,    -999,-999,9,   0.0134,2,   0.0609,2,   0.0271,2,   0.0369,2,   0.0008,3,   0.0301,2,-999,9,  -0.0027,4,   0.0064,2,  -0.0033,4,    -999,    -999
33RR20080204,       I06S,       7,          1,         22,         22,2,20080207,       0546,   -33.3627,    28.1865,       2033,   603.2,   9.7159,  34.7216,3,  34.8066,2,    171.5,3,   187.0,2,   14.41,2,   19.94,2,    0.00,2,    1.42,2,   2.535,2,   1.296,2,   0.070,2,  2155.7,2,  2303.8,2,   7.8200,2,    20.00,    -999,9,    -999,9,    -999,9,-999,9,-999,9,-999,9,-999,    -999,9,    -999,1.289,2,-999,9,-999,9,    -999,9,-999,9, 20080207,     0650, -33.3787,  28.1648,    -999,-999,1,     -999,9,     -999,9,     -999,9,     -999,9,     -999,9,     -999,9,-999,9,     -999,9,     -999,9,     -999,9,    -999,    -999
33RR20080204,       I06S,       7,          1,         21,         21,2,20080207,       0546,   -33.3627,    28.1865,       2033,   704.5,   8.4567,  34.6448,3,  34.6772,2,    147.0,3,   190.9,2,   18.23,2,   22.51,2,    0.00,2,    1.58,2,   2.324,2,   1.123,2,   0.063,2,  2162.6,2,  2302.1,2,   7.7940,2,    20.00,    -999,9,    -999,9,    -999,9,-999,9,-999,9,-999,9,-999,    -999,9,    -999,1.448,2,-999,9,-999,9,   44.00,2,-999,1, 20080207,     0647, -33.3777,  28.1665,    -999,-999,9,   0.0161,2,   0.0740,2,   0.0250,2,   0.0449,2,   0.0025,3,   0.0289,2,-999,9,  -0.0019,4,   0.0091,2,  -0.0031,4,    -999,    -999
33RR20080204,       I06S,       7,          1,         20,         20,2,20080207,       0546,   -33.3627,    28.1865,       2033,   800.1,   6.6479,  34.5732,3,  34.6135,2,    149.6,3,   160.5,2,   38.27,2,   29.05,2,    0.00,2,    2.06,2,   1.199,6,   0.613,6,   0.043,6,  2205.3,2,  2315.2,2,   7.7100,2,    20.00,    -999,9,    -999,9,    -999,9,-999,9,-999,9,-999,9,-999,    -999,9,    -999,1.082,6,-999,9,-999,9,    -999,9,-999,9, 20080207,     0644, -33.3767,  28.1682,    -999,-999,1,     -999,9,     -999,9,     -999,9,     -999,9,     -999,9,     -999,9,-999,9,     -999,9,     -999,9,     -999,9,    -999,    -999
33RR20080204,       I06S,       7,          1,         12,         12,2,20080207,       0546,   -33.3627,    28.1865,       2033,   911.8,   5.5617,  34.5808,3,  34.5841,2,    146.1,3,   154.4,2,   48.88,2,   31.43,2,    0.00,2,    2.24,2,   0.830,2,   0.436,2,   0.032,2,  2223.8,2,  2322.7,2,   7.6800,2,    20.00,    -999,9,    -999,9,    -999,9,-999,9,-999,9,-999,9,-999,    -999,9,    -999,0.997,2,-999,9,-999,9,   38.93,2,-999,1, 20080207,     0640, -33.3758,  28.1695,    -999,-999,9,   0.0313,2,   0.1025,2,   0.0188,2,   0.0666,2,   0.0087,2,   0.0213,2,-999,9,   0.0007,2,   0.0187,2,  -0.0019,4,    -999,    -999
33RR20080204,       I06S,       7,          1,         11,         11,2,20080207,       0546,   -33.3627,    28.1865,       2033,  1012.7,   4.4086,  34.5443,3,  34.5621,2,    155.1,3,   157.2,3,   59.11,2,   33.06,2,    0.00,2,    2.34,2,   0.600,2,   0.296,2,   0.028,2,  2238.4,2,  2330.3,2,   7.6620,2,    20.00,    -999,9,    -999,9,    -999,9,-999,9,-999,9,-999,9,-999,    -999,9,    -999,1.007,2,-999,9,-999,9,   39.41,2,-999,1, 20080207,     0636, -33.3749,  28.1709,    -999,-999,1,   0.0282,2,   0.1053,2,   0.0202,2,   0.0671,2,   0.0074,2,   0.0236,2,-999,9,  -0.0002,4,   0.0169,2,  -0.0024,4,    -999,    -999
33RR20080204,       I06S,       7,          1,         10,         10,2,20080207,       0546,   -33.3627,    28.1865,       2033,  1115.8,   3.8401,  34.6193,2,  34.6186,2,    156.3,3,   152.2,2,   69.79,2,   33.63,2,    0.00,2,    2.39,2,   0.305,2,   0.162,2,   0.019,2,  2251.3,2,  2341.2,2,   7.6540,2,    20.00,    -999,9,    -999,9,    -999,9,-999,9,-999,9,-999,9,-999,    -999,9,    -999,0.656,2,-999,9,-999,9,    -999,9,-999,9, 20080207,     0633, -33.3741,  28.1720,    -999,-999,9,     -999,9,     -999,9,     -999,9,     -999,9,     -999,9,     -999,9,-999,9,     -999,9,     -999,9,     -999,9,    -999,    -999
33RR20080204,       I06S,       7,          1,          9,          9,2,20080207,       0546,   -33.3627,    28.1865,       2033,  1217.4,   3.3509,  34.6533,2,  34.6546,2,    164.2,3,   158.1,2,   75.13,2,   33.27,2,    0.00,2,    2.36,2,   0.178,2,   0.095,2,   0.009,2,  2255.5,2,  2345.8,2,   7.6590,2,    20.00,    -999,9,    -999,9,    -999,9,-999,9,-999,9,-999,9,-999,    -999,9,    -999,0.436,2,-999,9,-999,9,   39.02,2,-999,1, 20080207,     0629, -33.3730,  28.1735,    -999,-999,9,   0.0324,2,   0.1128,2,   0.0198,2,   0.0730,2,   0.0085,2,   0.0224,2,-999,9,   0.0001,4,   0.0191,2,  -0.0022,4,    -999,    -999
33RR20080204,       I06S,       7,          1,          8,          8,2,20080207,       0546,   -33.3627,    28.1865,       2033,  1319.2,   3.1325,  34.6775,2,  34.6793,2,    164.4,3,   162.2,2,   76.77,2,   32.80,2,    0.00,2,    2.32,2,   0.122,2,   0.070,2,   0.006,2,  2255.4,2,  2348.2,2,   7.6650,2,    20.00,    -999,9,    -999,9,    -999,9,-999,9,-999,9,-999,9,-999,    -999,9,    -999,0.206,2,-999,9,-999,9,    -999,9,-999,9, 20080207,     0625, -33.3721,  28.1749,    -999,-999,9,     -999,9,     -999,9,     -999,9,     -999,9,     -999,9,     -999,9,-999,9,     -999,9,     -999,9,     -999,9,    -999,    -999
33RR20080204,       I06S,       7,          1,          7,          7,2,20080207,       0546,   -33.3627,    28.1865,       2033,  1419.7,   2.9520,  34.6984,2,  34.6990,2,    166.7,3,   170.7,2,   75.35,2,   31.94,2,    0.00,2,    2.26,2,   0.100,2,   0.059,2,   0.010,2,  2250.2,2,  2347.6,2,   7.6750,2,    20.00,    -999,9,    -999,9,    -999,9,-999,9,-999,9,-999,9,-999,    -999,9,    -999,0.26,2,-999,9,-999,9,   39.32,2,-999,1, 20080207,     0620, -33.3710,  28.1762,    -999,-999,9,   0.0324,2,   0.1184,2,   0.0202,2,   0.0781,2,   0.0091,2,   0.0229,2,-999,9,   0.0004,3,   0.0193,2,  -0.0021,4,    -999,    -999
33RR20080204,       I06S,       7,          1,          6,          6,2,20080207,       0546,   -33.3627,    28.1865,       2033,  1522.1,   2.8736,  34.7132,2,  34.7129,2,    174.3,3,   173.7,2,   74.92,2,   31.48,2,    0.00,2,    2.22,2,   0.079,2,   0.041,2,   0.004,2,  2248.6,2,  2348.3,2,   7.6820,2,    20.00,    -999,9,    -999,9,    -999,9,-999,9,-999,9,-999,9,-999,    -999,9,    -999,0.239,2,-999,9,-999,9,    -999,9,-999,9, 20080207,     0616, -33.3701,  28.1774,    -999,-999,1,     -999,9,     -999,9,     -999,9,     -999,9,     -999,9,     -999,9,-999,9,     -999,9,     -999,9,     -999,9,    -999,    -999
33RR20080204,       I06S,       7,          1,          5,          5,2,20080207,       0546,   -33.3627,    28.1865,       2033,  1621.1,   2.8284,  34.7210,2,  34.7219,2,    175.7,3,   177.4,2,   74.10,2,   31.16,2,    0.00,2,    2.20,2,   0.074,2,   0.038,2,   0.004,2,  2246.7,2,  2349.8,2,   7.6870,2,    20.00,    -999,9,    -999,9,    -999,9,-999,9,-999,9,-999,9,-999,    -999,9,    -999,0.232,2,-999,9,-999,9,   39.22,2,-999,1, 20080207,     0612, -33.3691,  28.1789,    -999,-999,9,   0.0351,2,   0.1178,2,   0.0201,2,   0.0777,2,   0.0089,2,   0.0219,2,-999,9,   0.0005,3,   0.0196,2,  -0.0020,4,    -999,    -999
33RR20080204,       I06S,       7,          1,          4,          4,2,20080207,       0546,   -33.3627,    28.1865,       2033,  1722.6,   2.7461,  34.7375,2,  34.7388,2,    180.9,3,   182.3,2,   71.61,2,   30.34,2,    0.00,2,    2.13,2,   0.064,2,   0.036,2,   0.002,2,  2241.1,2,  2347.5,2,   7.6970,2,    20.00,    -999,9,    -999,9,    -999,9,-999,9,-999,9,-999,9,-999,    -999,9,    -999,0.176,2,-999,9,-999,9,    -999,9,-999,9, 20080207,     0608, -33.3681,  28.1801,    -999,-999,9,     -999,9,     -999,9,     -999,9,     -999,9,     -999,9,     -999,9,-999,9,     -999,9,     -999,9,     -999,9,    -999,    -999
33RR20080204,       I06S,       7,          1,          3,          3,2,20080207,       0546,   -33.3627,    28.1865,       2033,  1822.7,   2.6673,  34.7560,2,  34.7571,2,    188.8,3,   189.5,2,   69.75,2,   29.67,2,    0.00,2,    2.08,2,   0.048,2,   0.023,2,   0.000,2,  2237.1,2,  2345.9,2,   7.7070,2,    20.00,    -999,9,    -999,9,    -999,9,-999,9,-999,9,-999,9,-999,    -999,9,    -999,0.137,2,-999,9,-999,9,   53.27,4,-999,1, 20080207,     0602, -33.3667,  28.1818,    -999,-999,9,   0.0309,2,   0.1191,2,   0.0218,2,   0.0789,2,   0.0075,2,   0.0241,2,-999,9,  -0.0003,4,   0.0173,2,  -0.0024,4,    -999,    -999
33RR20080204,       I06S,       7,          1,          2,          2,2,20080207,       0546,   -33.3627,    28.1865,       2033,  2030.8,   2.6029,  34.7751,2,  34.7758,2,    194.7,3,   197.7,2,   67.30,2,   28.71,2,    0.00,2,    2.00,2,   0.046,2,   0.025,2,   0.007,2,  2231.1,2,  2341.7,2,   7.7180,2,    20.00,    -999,9,    -999,9,    -999,9,-999,9,-999,9,-999,9,-999,    -999,9,    -999,0.217,2,-999,9,-999,9,    -999,9,-999,9, 20080207,     0556, -33.3650,  28.1838,    -999,-999,9,     -999,9,     -999,9,     -999,9,     -999,9,     -999,9,     -999,9,-999,9,     -999,9,     -999,9,     -999,9,    -999,    -999
33RR20080204,       I06S,       7,          1,          1,          1,2,20080207,       0546,   -33.3627,    28.1865,       2033,  2340.1,   2.5083,  34.7941,2,  34.7972,2,    205.8,3,   205.9,2,   65.03,2,   27.74,2,    0.00,2,    1.92,2,    -999,5,    -999,5,    -999,5,  2225.9,6,  2339.1,2,   7.7350,2,    20.00,    -999,9,    -999,9,    -999,9,-999,9,-999,9,-999,9,-999,    -999,9,    -999,-999,5,-999,9,-999,9,   40.29,2,-999,1, 20080207,     0546, -33.3627,  28.1865,    -999,-999,9,   0.0328,2,   0.1248,2,   0.0221,2,   0.0832,2,   0.0077,2,   0.0239,2,-999,9,  -0.0004,4,   0.0178,2,  -0.0025,4,    -999,    -999