BOTTLE,20220706CCHSIOAMB
EXPOCODE,SECT_ID,STNNBR,CASTNO,SAMPNO,BTLNBR,BTLNBR_FLAG_W,DATE,TIME,LATITUDE,LONGITUDE,DEPTH,CTDPRS,CTDTMP,CTDSAL,CTDSAL_FLAG_W,SALNTY,SALNTY_FLAG_W,CTDOXY,CTDOXY_FLAG_W,OXYGEN,OXYGEN_FLAG_W,SILCAT,SILCAT_FLAG_W,NITRAT,NITRAT_FLAG_W,NITRIT,NITRIT_FLAG_W,PHSPHT,PHSPHT_FLAG_W,CFC-11,CFC-11_FLAG_W,CFC-12,CFC-12_FLAG_W,CFC113,CFC113_FLAG_W,TCARBN,TCARBN_FLAG_W,ALKALI,ALKALI_FLAG_W,PH_SWS,PH_SWS_FLAG_W,PH_TMP,TRITUM,TRITUM_FLAG_W,HELIUM,HELIUM_FLAG_W,DELHE3,DELHE3_FLAG_W,REFTMP,REFTMP_FLAG_W,DELC13,DELC13_FLAG_W,DELC14,DELC14_FLAG_W,C14ERR,NEON,NEON_FLAG_W,NEONER,CCL4,CCL4_FLAG_W,ALUMIN,ALUMIN_FLAG_W,DELO18,DELO18_FLAG_W,DOC,DOC_FLAG_W,TDN,TDN_FLAG_W,BTL_DATE,BTL_TIME,BTL_LAT,BTL_LON,TRITER,DELSI30,DELSI30_FLAG_W,CDOM380,CDOM380_FLAG_W,CDOM325,CDOM325_FLAG_W,CDOMSL,CDOMSL_FLAG_W,CDOM340,CDOM340_FLAG_W,CDOM443,CDOM443_FLAG_W,CDOMSN,CDOMSN_FLAG_W,BLACKC,BLACKC_FLAG_W,CDOM490,CDOM490_FLAG_W,CDOM412,CDOM412_FLAG_W,CDOM555,CDOM555_FLAG_W,DELHER,HELIER
,,,,,,,,,,,METERS,DBAR,ITS-90,PSS-78,,PSS-78,,UMOL/KG,,UMOL/KG,,UMOL/KG,,UMOL/KG,,UMOL/KG,,UMOL/KG,,PMOL/KG,,PMOL/KG,,PMOL/KG,,UMOL/KG,,UMOL/KG,,,,DEG C,TU,,NMOL/KG,,PERCNT,,DEG C,,/MILLE,,/MILLE,,/MILLE,NMOL/KG,,NMOL/KG,PMOL/KG,,NMOL/L,,/MILLE,,UMOL/KG,,UMOL/KG,,,,,,TU,/MILLE,,1/M,,1/M,,1/NM,,1/M,,1/M,,1/NM,,,,1/M,,1/M,,1/M,,PERCNT,NMOL/KG
33RR20080204,       I06S,      51,          1,          7,          7,2,20080221,       1652,   -52.5026,    30.0003,       4545,  2693.6,   0.4823,  34.6891,2,  34.6896,2,    211.4,2,   211.8,2,  123.65,2,   32.47,2,    0.00,2,    2.25,2,   0.284,2,   0.155,2,   0.025,2,  2266.7,2,  2357.2,2,   7.7864,3,    13.00,    -999,9,    -999,9,    -999,9,0.4824,2,-999,9,-999,9,-999,    -999,9,    -999,0.752,2,-999,9,-999,9,   40.49,2,-999,1, 20080221,     1735, -52.5026,  30.0002,    -999,-999,9,     -999,9,     -999,9,     -999,9,     -999,9,     -999,9,     -999,9,-999,9,     -999,9,     -999,9,     -999,9,    -999,    -999
33RR20080204,       I06S,      51,          1,          6,          6,2,20080221,       1652,   -52.5026,    30.0003,       4545,  2997.4,   0.3260,  34.6808,2,  34.6816,2,    215.3,2,   215.7,2,  126.90,2,   32.76,2,    0.00,2,    2.26,2,   0.299,2,   0.167,2,   0.027,2,  2264.2,2,  2357.3,2,   7.7878,3,    13.00,    -999,9,    -999,9,    -999,9,0.3269,2,-999,9,-999,9,-999,    -999,9,    -999,0.808,2,-999,9,-999,9,    -999,9,-999,9, 20080221,     1728, -52.5026,  30.0003,    -999,-999,9,     -999,9,     -999,9,     -999,9,     -999,9,     -999,9,     -999,9,-999,9,     -999,9,     -999,9,     -999,9,    -999,    -999
33RR20080204,       I06S,      51,          1,          5,          5,2,20080221,       1652,   -52.5026,    30.0003,       4545,  3308.5,   0.1633,  34.6733,2,  34.6724,2,    221.2,2,   221.6,2,  128.22,2,   32.67,2,    0.00,2,    2.27,2,   0.331,2,   0.182,2,   0.025,2,  2263.5,2,  2359.6,2,   7.7911,3,    13.00,    -999,9,    -999,9,    -999,9,0.1635,2,-999,9,-999,9,-999,    -999,9,    -999,0.908,2,-999,9,-999,9,   40.59,2,-999,1, 20080221,     1721, -52.5026,  30.0003,    -999,-999,9,     -999,9,     -999,9,     -999,9,     -999,9,     -999,9,     -999,9,-999,9,     -999,9,     -999,9,     -999,9,    -999,    -999
33RR20080204,       I06S,      51,          1,          4,          4,2,20080221,       1652,   -52.5026,    30.0003,       4545,  3613.4,   0.0384,  34.6674,2,  34.6661,2,    226.9,2,   226.6,2,  128.98,2,   32.67,2,    0.00,2,    2.27,2,   0.350,2,   0.191,2,   0.027,2,  2262.6,2,  2356.0,2,   7.7977,4,    13.00,    -999,9,    -999,9,    -999,9,0.0388,2,-999,9,-999,9,-999,    -999,9,    -999,0.989,2,-999,9,-999,9,    -999,9,-999,1, 20080221,     1715, -52.5026,  30.0003,    -999,-999,9,     -999,9,     -999,9,     -999,9,     -999,9,     -999,9,     -999,9,-999,1,     -999,9,     -999,9,     -999,9,    -999,    -999
33RR20080204,       I06S,      51,          1,          3,          3,2,20080221,       1652,   -52.5026,    30.0003,       4545,  3924.0,  -0.0739,  34.6621,2,  34.6608,2,    232.0,2,   232.1,2,  128.97,2,   32.58,2,    0.00,2,    2.27,2,   0.374,2,   0.206,2,   0.033,2,  2259.8,2,  2354.3,2,     -999,5,    13.00,    -999,9,    -999,9,    -999,9,-0.0741,2,-999,9,-999,9,-999,    -999,9,    -999,1.04,2,-999,9,-999,9,   41.85,2,-999,1, 20080221,     1708, -52.5025,  30.0002,    -999,-999,9,     -999,9,     -999,9,     -999,9,     -999,9,     -999,9,     -999,9,-999,9,     -999,9,     -999,9,     -999,9,    -999,    -999
33RR20080204,       I06S,      51,          1,          2,          2,2,20080221,       1652,   -52.5026,    30.0003,       4545,  4234.6,  -0.1393,  34.6593,2,  34.6578,2,    236.2,2,   235.8,2,  130.68,2,   32.48,2,    0.00,2,    2.27,2,   0.420,2,   0.232,2,   0.035,2,  2259.3,2,  2353.9,2,   7.7947,2,    13.00,    -999,9,    -999,9,    -999,9,-0.1392,2,-999,9,-999,9,-999,    -999,9,    -999,1.142,2,-999,9,-999,9,    -999,9,-999,9, 20080221,     1701, -52.5026,  30.0004,    -999,-999,9,     -999,9,     -999,9,     -999,9,     -999,9,     -999,9,     -999,9,-999,9,     -999,9,     -999,9,     -999,9,    -999,    -999
33RR20080204,       I06S,      51,          1,          1,          1,2,20080221,       1652,   -52.5026,    30.0003,       4545,  4553.4,  -0.1387,  34.6574,2,  34.6568,2,    237.6,2,   237.1,2,  130.86,2,   32.48,2,    0.00,2,    2.27,2,   0.433,2,   0.237,2,   0.058,2,  2258.2,6,  2352.3,2,   7.7971,2,    13.00,    -999,9,    -999,9,    -999,9,-0.1392,2,-999,9,-999,9,-999,    -999,9,    -999,1.269,2,-999,9,-999,9,   40.00,2,-999,1, 20080221,     1653, -52.5025,  30.0003,    -999,-999,9,     -999,9,     -999,9,     -999,9,     -999,9,     -999,9,     -999,9,-999,1,     -999,9,     -999,9,     -999,9,    -999,    -999