BOTTLE,20220706CCHSIOAMB
EXPOCODE,SECT_ID,STNNBR,CASTNO,SAMPNO,BTLNBR,BTLNBR_FLAG_W,DATE,TIME,LATITUDE,LONGITUDE,DEPTH,CTDPRS,CTDTMP,CTDSAL,CTDSAL_FLAG_W,SALNTY,SALNTY_FLAG_W,CTDOXY,CTDOXY_FLAG_W,OXYGEN,OXYGEN_FLAG_W,SILCAT,SILCAT_FLAG_W,NITRAT,NITRAT_FLAG_W,NITRIT,NITRIT_FLAG_W,PHSPHT,PHSPHT_FLAG_W,CFC-11,CFC-11_FLAG_W,CFC-12,CFC-12_FLAG_W,CFC113,CFC113_FLAG_W,TCARBN,TCARBN_FLAG_W,ALKALI,ALKALI_FLAG_W,PH_SWS,PH_SWS_FLAG_W,PH_TMP,TRITUM,TRITUM_FLAG_W,HELIUM,HELIUM_FLAG_W,DELHE3,DELHE3_FLAG_W,REFTMP,REFTMP_FLAG_W,DELC13,DELC13_FLAG_W,DELC14,DELC14_FLAG_W,C14ERR,NEON,NEON_FLAG_W,NEONER,CCL4,CCL4_FLAG_W,ALUMIN,ALUMIN_FLAG_W,DELO18,DELO18_FLAG_W,DOC,DOC_FLAG_W,TDN,TDN_FLAG_W,BTL_DATE,BTL_TIME,BTL_LAT,BTL_LON,TRITER,DELSI30,DELSI30_FLAG_W,CDOM380,CDOM380_FLAG_W,CDOM325,CDOM325_FLAG_W,CDOMSL,CDOMSL_FLAG_W,CDOM340,CDOM340_FLAG_W,CDOM443,CDOM443_FLAG_W,CDOMSN,CDOMSN_FLAG_W,BLACKC,BLACKC_FLAG_W,CDOM490,CDOM490_FLAG_W,CDOM412,CDOM412_FLAG_W,CDOM555,CDOM555_FLAG_W,DELHER,HELIER
,,,,,,,,,,,METERS,DBAR,ITS-90,PSS-78,,PSS-78,,UMOL/KG,,UMOL/KG,,UMOL/KG,,UMOL/KG,,UMOL/KG,,UMOL/KG,,PMOL/KG,,PMOL/KG,,PMOL/KG,,UMOL/KG,,UMOL/KG,,,,DEG C,TU,,NMOL/KG,,PERCNT,,DEG C,,/MILLE,,/MILLE,,/MILLE,NMOL/KG,,NMOL/KG,PMOL/KG,,NMOL/L,,/MILLE,,UMOL/KG,,UMOL/KG,,,,,,TU,/MILLE,,1/M,,1/M,,1/NM,,1/M,,1/M,,1/NM,,,,1/M,,1/M,,1/M,,PERCNT,NMOL/KG
33RR20080204,       I06S,      64,          2,          7,          7,2,20080225,       1831,   -58.9947,    29.9988,       5448,  4175.4,  -0.1874,  34.6575,2,  34.6570,2,    236.9,2,   237.4,2,  128.77,2,   32.64,2,    0.00,2,    2.25,2,   0.442,2,   0.233,2,   0.027,2,    -999,9,  2354.0,2,     -999,9,     -999,  -0.002,2,   1.885,2,    5.89,2,-999,9,-999,9,-999,9,-999,   8.287,2,   0.031,-999,9,-999,9,-999,9,    -999,9,-999,9, 20080225,     1903, -58.9948,  29.9987,   0.009,-999,9,     -999,9,     -999,9,     -999,9,     -999,9,     -999,9,     -999,9,-999,9,     -999,9,     -999,9,     -999,9,    0.15,   0.007
33RR20080204,       I06S,      64,          2,          6,          6,2,20080225,       1831,   -58.9947,    29.9988,       5448,  4492.4,  -0.2331,  34.6555,2,  34.6549,2,    239.5,2,   240.3,2,  130.12,2,   32.59,2,    0.00,2,    2.25,2,   0.456,2,   0.239,2,   0.022,2,    -999,9,    -999,9,     -999,9,     -999,    -999,9,    -999,9,    -999,9,-999,9,-999,9,-999,9,-999,    -999,9,    -999,-999,9,-999,9,-0.2,2,    -999,9,-999,9, 20080225,     1856, -58.9948,  29.9987,    -999,-999,9,     -999,9,     -999,9,     -999,9,     -999,9,     -999,9,     -999,9,-999,9,     -999,9,     -999,9,     -999,9,    -999,    -999
33RR20080204,       I06S,      64,          2,          5,          5,2,20080225,       1831,   -58.9947,    29.9988,       5448,  4698.1,  -0.2351,  34.6545,2,  34.6539,2,    241.5,2,   242.0,2,  130.50,2,   32.60,2,    0.00,2,    2.26,2,   0.472,2,   0.247,2,   0.029,2,    -999,9,  2354.5,2,     -999,9,     -999,   0.006,2,   1.886,2,    5.65,2,-999,9,-999,9,-999,9,-999,   8.297,2,   0.032,-999,9,-999,9,-999,9,    -999,9,-999,9, 20080225,     1851, -58.9948,  29.9987,   0.009,-999,9,     -999,9,     -999,9,     -999,9,     -999,9,     -999,9,     -999,9,-999,9,     -999,9,     -999,9,     -999,9,    0.15,   0.007
33RR20080204,       I06S,      64,          2,          4,          4,2,20080225,       1831,   -58.9947,    29.9988,       5448,  4902.6,  -0.2327,  34.6536,2,  34.6531,2,    242.2,2,   242.0,2,  131.07,2,   32.55,2,    0.00,2,    2.25,2,   0.467,2,   0.248,2,   0.029,2,    -999,9,    -999,9,     -999,9,     -999,    -999,9,    -999,9,    -999,9,-999,9,-999,9,-999,9,-999,    -999,9,    -999,-999,9,-999,9,-999,9,    -999,9,-999,9, 20080225,     1847, -58.9948,  29.9987,    -999,-999,9,     -999,9,     -999,9,     -999,9,     -999,9,     -999,9,     -999,9,-999,9,     -999,9,     -999,9,     -999,9,    -999,    -999
33RR20080204,       I06S,      64,          2,          3,          3,2,20080225,       1831,   -58.9947,    29.9988,       5448,  5108.8,  -0.2533,  34.6521,2,  34.6517,2,    243.9,2,   243.4,2,  132.42,2,   32.55,2,    0.00,2,    2.25,2,   0.486,2,   0.263,2,   0.031,2,    -999,9,  2354.5,2,     -999,9,     -999,    -999,9,    -999,1,    -999,9,-999,9,-999,9,-999,9,-999,    -999,9,    -999,-999,9,-999,9,-999,9,    -999,9,-999,9, 20080225,     1842, -58.9947,  29.9987,    -999,-999,9,     -999,9,     -999,9,     -999,9,     -999,9,     -999,9,     -999,9,-999,9,     -999,9,     -999,9,     -999,9,    -999,    -999
33RR20080204,       I06S,      64,          2,          2,          2,2,20080225,       1831,   -58.9947,    29.9988,       5448,  5318.0,  -0.2385,  34.6514,2,  34.6512,2,    244.3,2,   243.7,2,  132.81,2,   32.56,2,    0.00,2,    2.26,2,   0.504,2,   0.265,2,   0.030,2,    -999,9,  2353.8,2,     -999,9,     -999,   0.001,2,   1.889,2,    5.03,2,-999,9,-999,9,-999,9,-999,   8.306,2,   0.032,-999,9,-999,9,-999,9,    -999,9,-999,9, 20080225,     1837, -58.9949,  29.9987,   0.009,-999,9,     -999,9,     -999,9,     -999,9,     -999,9,     -999,9,     -999,9,-999,9,     -999,9,     -999,9,     -999,9,    0.15,   0.007
33RR20080204,       I06S,      64,          2,          1,          1,2,20080225,       1831,   -58.9947,    29.9988,       5448,  5533.7,  -0.2206,  34.6511,2,  34.6514,2,    244.3,2,   243.8,2,  134.35,2,   32.56,2,    0.00,2,    2.26,2,   0.494,2,   0.268,2,   0.055,2,    -999,9,  2353.3,2,     -999,9,     -999,   0.007,2,   1.819,2,    4.56,2,-999,9,-999,9,-999,9,-999,   8.016,2,   0.030,-999,9,-999,9,-0.25,2,    -999,9,-999,9, 20080225,     1832, -58.9947,  29.9987,   0.009,-999,9,     -999,9,     -999,9,     -999,9,     -999,9,     -999,9,     -999,9,-999,9,     -999,9,     -999,9,     -999,9,    0.15,   0.007