BOTTLE,20220706CCHSIOAMB
EXPOCODE,SECT_ID,STNNBR,CASTNO,SAMPNO,BTLNBR,BTLNBR_FLAG_W,DATE,TIME,LATITUDE,LONGITUDE,DEPTH,CTDPRS,CTDTMP,CTDSAL,CTDSAL_FLAG_W,SALNTY,SALNTY_FLAG_W,CTDOXY,CTDOXY_FLAG_W,OXYGEN,OXYGEN_FLAG_W,SILCAT,SILCAT_FLAG_W,NITRAT,NITRAT_FLAG_W,NITRIT,NITRIT_FLAG_W,PHSPHT,PHSPHT_FLAG_W,CFC-11,CFC-11_FLAG_W,CFC-12,CFC-12_FLAG_W,CFC113,CFC113_FLAG_W,TCARBN,TCARBN_FLAG_W,ALKALI,ALKALI_FLAG_W,PH_SWS,PH_SWS_FLAG_W,PH_TMP,TRITUM,TRITUM_FLAG_W,HELIUM,HELIUM_FLAG_W,DELHE3,DELHE3_FLAG_W,REFTMP,REFTMP_FLAG_W,DELC13,DELC13_FLAG_W,DELC14,DELC14_FLAG_W,C14ERR,NEON,NEON_FLAG_W,NEONER,CCL4,CCL4_FLAG_W,ALUMIN,ALUMIN_FLAG_W,DELO18,DELO18_FLAG_W,DOC,DOC_FLAG_W,TDN,TDN_FLAG_W,BTL_DATE,BTL_TIME,BTL_LAT,BTL_LON,TRITER,DELSI30,DELSI30_FLAG_W,CDOM380,CDOM380_FLAG_W,CDOM325,CDOM325_FLAG_W,CDOMSL,CDOMSL_FLAG_W,CDOM340,CDOM340_FLAG_W,CDOM443,CDOM443_FLAG_W,CDOMSN,CDOMSN_FLAG_W,BLACKC,BLACKC_FLAG_W,CDOM490,CDOM490_FLAG_W,CDOM412,CDOM412_FLAG_W,CDOM555,CDOM555_FLAG_W,DELHER,HELIER
,,,,,,,,,,,METERS,DBAR,ITS-90,PSS-78,,PSS-78,,UMOL/KG,,UMOL/KG,,UMOL/KG,,UMOL/KG,,UMOL/KG,,UMOL/KG,,PMOL/KG,,PMOL/KG,,PMOL/KG,,UMOL/KG,,UMOL/KG,,,,DEG C,TU,,NMOL/KG,,PERCNT,,DEG C,,/MILLE,,/MILLE,,/MILLE,NMOL/KG,,NMOL/KG,PMOL/KG,,NMOL/L,,/MILLE,,UMOL/KG,,UMOL/KG,,,,,,TU,/MILLE,,1/M,,1/M,,1/NM,,1/M,,1/M,,1/NM,,,,1/M,,1/M,,1/M,,PERCNT,NMOL/KG
33RR20080204,       I06S,      14,          2,         35,         35,2,20080209,       1305,   -34.5289,    29.5346,       4281,     5.2,  23.0753,  35.7078,2,  35.7063,2,    217.8,2,   218.7,2,    1.80,2,    0.04,2,    0.00,2,    0.06,2,   1.964,2,   1.217,2,   0.166,2,  2023.8,6,  2338.5,2,   8.1350,2,    20.00,    -999,9,    -999,9,    -999,9,23.076,2,-999,9,-999,9,-999,    -999,9,    -999,2.561,4,-999,9,-999,9,    -999,9,-999,9, 20080209,     1530, -34.5017,  29.5473,    -999,-999,9,     -999,9,     -999,9,     -999,9,     -999,9,     -999,9,     -999,9,-999,9,     -999,9,     -999,9,     -999,9,    -999,    -999
33RR20080204,       I06S,      14,          2,         34,         34,2,20080209,       1305,   -34.5289,    29.5346,       4281,    27.5,  23.0778,  35.7061,2,  35.7065,2,    219.9,2,   218.7,2,    1.80,2,    0.04,2,    0.00,2,    0.05,2,    -999,5,    -999,5,    -999,5,  2023.4,2,  2338.6,2,   8.1370,2,    20.00,    -999,9,    -999,9,    -999,9,23.0764,2,-999,9,-999,9,-999,    -999,9,    -999,-999,5,-999,9,-999,9,    -999,9,-999,9, 20080209,     1526, -34.5026,  29.5456,    -999,-999,9,     -999,9,     -999,9,     -999,9,     -999,9,     -999,9,     -999,9,-999,9,     -999,9,     -999,9,     -999,9,    -999,    -999
33RR20080204,       I06S,      14,          2,         33,         33,2,20080209,       1305,   -34.5289,    29.5346,       4281,    37.7,  23.0656,  35.7036,2,  35.7025,2,    220.6,2,   218.7,2,    1.79,2,    0.04,2,    0.00,2,    0.04,2,   1.977,2,   1.205,2,   0.149,2,  2024.9,2,  2339.6,2,   8.1370,2,    20.00,    -999,9,    -999,9,    -999,9,23.0641,2,-999,9,-999,9,-999,    -999,9,    -999,2.686,2,-999,9,-999,9,    -999,9,-999,9, 20080209,     1524, -34.5029,  29.5448,    -999,-999,9,     -999,9,     -999,9,     -999,9,     -999,9,     -999,9,     -999,9,-999,9,     -999,9,     -999,9,     -999,9,    -999,    -999
33RR20080204,       I06S,      14,          2,         32,         32,2,20080209,       1305,   -34.5289,    29.5346,       4281,    67.5,  21.9179,  35.6272,2,  35.6260,2,    228.8,2,   224.3,2,    1.79,2,    0.05,2,    0.00,2,    0.05,2,   2.071,2,   1.280,2,   0.145,2,  2023.8,2,  2333.1,2,   8.1300,2,    20.00,    -999,9,    -999,9,    -999,9,21.9182,2,-999,9,-999,9,-999,    -999,9,    -999,2.55,2,-999,9,-999,9,    -999,9,-999,9, 20080209,     1522, -34.5032,  29.5440,    -999,-999,9,     -999,9,     -999,9,     -999,9,     -999,9,     -999,9,     -999,9,-999,9,     -999,9,     -999,9,     -999,9,    -999,    -999
33RR20080204,       I06S,      14,          2,         31,         31,2,20080209,       1305,   -34.5289,    29.5346,       4281,    92.0,  21.0369,  35.5719,2,  35.5727,2,    231.3,2,   225.7,2,    1.99,2,    0.00,2,    0.00,2,    0.07,2,   2.151,2,   1.323,2,   0.142,2,  2028.1,2,  2329.4,2,   8.1200,2,    20.00,    -999,9,    -999,9,    -999,9,21.0364,2,-999,9,-999,9,-999,    -999,9,    -999,2.226,2,-999,9,-999,9,    -999,9,-999,9, 20080209,     1520, -34.5038,  29.5433,    -999,-999,9,     -999,9,     -999,9,     -999,9,     -999,9,     -999,9,     -999,9,-999,9,     -999,9,     -999,9,     -999,9,    -999,    -999
33RR20080204,       I06S,      14,          2,         30,         30,2,20080209,       1305,   -34.5289,    29.5346,       4281,   141.5,  19.0584,  35.5318,2,  35.5314,2,    207.6,2,   201.1,2,    3.18,2,    2.45,2,    0.02,2,    0.29,2,   2.285,2,   1.388,2,   0.149,2,  2061.1,2,  2328.0,2,   8.0590,4,    20.00,    -999,9,    -999,9,    -999,9,19.0535,2,-999,9,-999,9,-999,    -999,9,    -999,1.49,2,-999,9,-999,9,    -999,9,-999,9, 20080209,     1518, -34.5044,  29.5426,    -999,-999,9,     -999,9,     -999,9,     -999,9,     -999,9,     -999,9,     -999,9,-999,9,     -999,9,     -999,9,     -999,9,    -999,    -999
33RR20080204,       I06S,      14,          2,         29,         29,2,20080209,       1305,   -34.5289,    29.5346,       4281,   194.1,  17.6251,  35.5173,2,  35.5163,2,    188.7,2,   190.7,2,    4.76,2,    5.58,2,    0.01,2,    0.48,2,   2.376,2,   1.439,2,   0.075,2,  2084.8,2,  2328.0,2,   8.0120,2,    20.00,    -999,9,    -999,9,    -999,9,-999,9,-999,9,-999,9,-999,    -999,9,    -999,1.228,2,-999,9,-999,9,    -999,9,-999,9, 20080209,     1516, -34.5051,  29.5417,    -999,-999,9,     -999,9,     -999,9,     -999,9,     -999,9,     -999,9,     -999,9,-999,9,     -999,9,     -999,9,     -999,9,    -999,    -999
33RR20080204,       I06S,      14,          2,         28,         28,2,20080209,       1305,   -34.5289,    29.5346,       4281,   233.1,  16.2663,  35.4651,2,  35.4650,2,    184.8,2,   183.6,2,    5.95,2,    7.96,2,    0.01,2,    0.63,2,   2.555,2,   1.491,2,   0.034,2,  2105.5,2,  2325.8,2,   7.9720,2,    20.00,    -999,9,    -999,9,    -999,9,-999,9,-999,9,-999,9,-999,    -999,9,    -999,0.984,2,-999,9,-999,9,    -999,9,-999,9, 20080209,     1514, -34.5057,  29.5411,    -999,-999,9,     -999,9,     -999,9,     -999,9,     -999,9,     -999,9,     -999,9,-999,9,     -999,9,     -999,9,     -999,9,    -999,    -999
33RR20080204,       I06S,      14,          2,         27,         27,2,20080209,       1305,   -34.5289,    29.5346,       4281,   280.6,  14.7037,  35.3479,3,  35.3733,2,    190.5,2,   192.0,2,    6.15,2,    9.33,2,    0.01,2,    0.73,2,   2.735,2,   1.560,2,   0.039,2,  2116.7,2,  2324.4,2,   7.9470,2,    20.00,    -999,9,    -999,9,    -999,9,-999,9,-999,9,-999,9,-999,    -999,9,    -999,1.1,2,-999,9,-999,9,    -999,9,-999,9, 20080209,     1512, -34.5061,  29.5404,    -999,-999,9,     -999,9,     -999,9,     -999,9,     -999,9,     -999,9,     -999,9,-999,9,     -999,9,     -999,9,     -999,9,    -999,    -999
33RR20080204,       I06S,      14,          2,         26,         26,2,20080209,       1305,   -34.5289,    29.5346,       4281,   331.5,  13.1268,  34.9937,3,  35.2231,2,    200.1,2,   206.2,2,    5.75,2,   10.75,2,    0.01,2,    0.82,2,   2.994,2,   1.674,2,   0.055,2,  2120.4,2,  2316.9,2,   7.9270,2,    20.00,    -999,9,    -999,9,    -999,9,-999,9,-999,9,-999,9,-999,    -999,9,    -999,1.278,2,-999,9,-999,9,    -999,9,-999,9, 20080209,     1510, -34.5068,  29.5400,    -999,-999,9,     -999,9,     -999,9,     -999,9,     -999,9,     -999,9,     -999,9,-999,9,     -999,9,     -999,9,     -999,9,    -999,    -999
33RR20080204,       I06S,      14,          2,         25,         25,2,20080209,       1305,   -34.5289,    29.5346,       4281,   393.6,  11.7551,  34.8254,3,  35.0579,2,    212.5,2,   217.4,2,    5.35,2,   12.43,2,    0.00,2,    0.92,2,   3.157,2,   1.738,2,   0.088,2,  2121.8,2,  2309.2,2,   7.9090,2,    20.00,    -999,9,    -999,9,    -999,9,-999,9,-999,9,-999,9,-999,    -999,9,    -999,1.604,2,-999,9,-999,9,    -999,9,-999,9, 20080209,     1507, -34.5075,  29.5398,    -999,-999,9,     -999,9,     -999,9,     -999,9,     -999,9,     -999,9,     -999,9,-999,9,     -999,9,     -999,9,     -999,9,    -999,    -999
33RR20080204,       I06S,      14,          2,         24,         24,2,20080209,       1305,   -34.5289,    29.5346,       4281,   439.8,  11.0695,  34.9460,3,  34.9633,2,    218.2,2,   219.6,2,    5.75,2,   13.70,2,    0.00,2,    1.00,2,   3.279,2,   1.764,2,   0.135,2,  2124.6,2,  2304.5,2,   7.8950,2,    20.00,    -999,9,    -999,9,    -999,9,-999,9,-999,9,-999,9,-999,    -999,9,    -999,1.87,2,-999,9,-999,9,    -999,9,-999,9, 20080209,     1504, -34.5081,  29.5390,    -999,-999,9,     -999,9,     -999,9,     -999,9,     -999,9,     -999,9,     -999,9,-999,9,     -999,9,     -999,9,     -999,9,    -999,    -999
33RR20080204,       I06S,      14,          2,         23,         23,2,20080209,       1305,   -34.5289,    29.5346,       4281,   485.6,  10.5613,  34.8707,3,  34.8918,2,    219.0,2,   219.6,2,    6.14,2,   14.87,2,    0.00,2,    1.07,2,   3.231,2,   1.720,2,   0.082,2,  2127.6,2,  2303.5,2,   7.8820,2,    20.00,    -999,9,    -999,9,    -999,9,-999,9,-999,9,-999,9,-999,    -999,9,    -999,1.787,2,-999,9,-999,9,    -999,9,-999,9, 20080209,     1502, -34.5087,  29.5383,    -999,-999,9,     -999,9,     -999,9,     -999,9,     -999,9,     -999,9,     -999,9,-999,9,     -999,9,     -999,9,     -999,9,    -999,    -999
33RR20080204,       I06S,      14,          2,         22,         22,2,20080209,       1305,   -34.5289,    29.5346,       4281,   558.7,   9.6564,  34.7670,3,  34.7743,2,    217.2,4,   216.4,2,    8.13,2,   17.32,2,    0.00,2,    1.22,2,   3.035,2,   1.599,2,   0.085,2,  2134.9,2,  2295.4,2,   7.8560,2,    20.00,    -999,9,    -999,9,    -999,9,-999,9,-999,9,-999,9,-999,    -999,9,    -999,2.076,2,-999,9,-999,9,    -999,9,-999,9, 20080209,     1459, -34.5095,  29.5383,    -999,-999,9,     -999,9,     -999,9,     -999,9,     -999,9,     -999,9,     -999,9,-999,9,     -999,9,     -999,9,     -999,9,    -999,    -999
33RR20080204,       I06S,      14,          2,         21,         21,2,20080209,       1305,   -34.5289,    29.5346,       4281,   659.5,   8.4684,  34.6324,3,  34.5571,2,    181.8,4,   204.7,2,   13.33,2,   21.35,2,    0.00,2,    1.49,2,   2.587,2,   1.338,2,   0.093,2,  2151.0,2,  2295.6,2,   7.8110,2,    20.00,    -999,9,    -999,9,    -999,9,-999,9,-999,9,-999,9,-999,    -999,9,    -999,2.221,2,-999,9,-999,9,    -999,9,-999,9, 20080209,     1455, -34.5100,  29.5387,    -999,-999,9,     -999,9,     -999,9,     -999,9,     -999,9,     -999,9,     -999,9,-999,9,     -999,9,     -999,9,     -999,9,    -999,    -999
33RR20080204,       I06S,      14,          2,         20,         20,2,20080209,       1305,   -34.5289,    29.5346,       4281,   764.2,   7.3275,  34.4196,3,  34.5534,2,    182.5,4,   195.7,2,   20.36,2,   24.78,2,    0.00,2,    1.72,2,   2.085,2,   1.057,2,   0.076,2,  2166.7,2,  2296.6,2,   7.7720,2,    20.00,    -999,9,    -999,9,    -999,9,-999,9,-999,9,-999,9,-999,    -999,9,    -999,2.257,2,-999,9,-999,9,    -999,9,-999,9, 20080209,     1452, -34.5101,  29.5389,    -999,-999,9,     -999,9,     -999,9,     -999,9,     -999,9,     -999,9,     -999,9,-999,9,     -999,9,     -999,9,     -999,9,    -999,    -999
33RR20080204,       I06S,      14,          2,         19,         19,2,20080209,       1305,   -34.5289,    29.5346,       4281,   867.1,   6.2694,  34.4736,3,  34.4798,2,    171.9,4,   193.8,2,   26.21,2,   27.41,2,    0.00,2,    1.89,2,   1.935,2,   0.986,2,   0.100,2,  2180.3,2,  2298.7,2,   7.7400,2,    20.00,    -999,9,    -999,9,    -999,9,-999,9,-999,9,-999,9,-999,    -999,9,    -999,2.436,2,-999,9,-999,9,    -999,9,-999,9, 20080209,     1449, -34.5102,  29.5388,    -999,-999,9,     -999,9,     -999,9,     -999,9,     -999,9,     -999,9,     -999,9,-999,9,     -999,9,     -999,9,     -999,9,    -999,    -999
33RR20080204,       I06S,      14,          2,         18,         18,2,20080209,       1305,   -34.5289,    29.5346,       4281,   968.4,   5.6045,  34.4340,3,  34.4566,2,    173.7,4,   189.8,2,   32.28,2,   29.11,2,    0.00,2,    2.02,2,   1.669,2,   0.841,2,   0.070,2,  2191.9,6,  2303.1,2,   7.7200,2,    20.00,    -999,9,    -999,9,    -999,9,-999,9,-999,9,-999,9,-999,    -999,9,    -999,2.338,2,-999,9,-999,9,    -999,9,-999,9, 20080209,     1446, -34.5104,  29.5388,    -999,-999,9,     -999,9,     -999,9,     -999,9,     -999,9,     -999,9,     -999,9,-999,9,     -999,9,     -999,9,     -999,9,    -999,    -999
33RR20080204,       I06S,      14,          2,         17,         17,2,20080209,       1305,   -34.5289,    29.5346,       4281,  1074.8,   4.9362,  34.4461,3,  34.4576,2,    181.6,4,   183.0,2,   40.61,2,   30.76,2,    0.00,2,    2.15,2,   1.318,2,   0.678,2,   0.070,2,    -999,9,    -999,9,     -999,9,     -999,    -999,9,    -999,9,    -999,9,-999,9,-999,9,-999,9,-999,    -999,9,    -999,2.097,2,-999,9,-999,9,    -999,9,-999,9, 20080209,     1442, -34.5106,  29.5388,    -999,-999,9,     -999,9,     -999,9,     -999,9,     -999,9,     -999,9,     -999,9,-999,9,     -999,9,     -999,9,     -999,9,    -999,    -999
33RR20080204,       I06S,      14,          2,         16,         16,2,20080209,       1305,   -34.5289,    29.5346,       4281,  1174.3,   4.2875,  34.4372,2,  34.4391,2,    175.1,4,   184.3,2,   45.09,2,   31.89,2,    0.00,2,    2.23,2,   1.339,2,   0.677,2,   0.073,2,    -999,9,    -999,9,     -999,9,     -999,    -999,9,    -999,9,    -999,9,-999,9,-999,9,-999,9,-999,    -999,9,    -999,1.99,2,-999,9,-999,9,    -999,9,-999,9, 20080209,     1438, -34.5112,  29.5385,    -999,-999,9,     -999,9,     -999,9,     -999,9,     -999,9,     -999,9,     -999,9,-999,9,     -999,9,     -999,9,     -999,9,    -999,    -999
33RR20080204,       I06S,      14,          2,         15,         15,2,20080209,       1305,   -34.5289,    29.5346,       4281,  1275.2,   3.9706,  34.5199,2,  34.5202,2,    176.8,4,   169.3,2,   57.34,2,   32.83,2,    0.00,2,    2.29,2,   0.661,2,   0.353,2,   0.040,2,    -999,9,  2321.6,2,   7.6690,2,    20.00,    -999,9,    -999,9,    -999,9,-999,9,-999,9,-999,9,-999,    -999,9,    -999,1.499,2,-999,9,-999,9,    -999,9,-999,9, 20080209,     1434, -34.5118,  29.5383,    -999,-999,9,     -999,9,     -999,9,     -999,9,     -999,9,     -999,9,     -999,9,-999,9,     -999,9,     -999,9,     -999,9,    -999,    -999
33RR20080204,       I06S,      14,          2,         14,         14,2,20080209,       1305,   -34.5289,    29.5346,       4281,  1379.0,   3.5807,  34.5427,2,  34.5458,2,    168.6,4,   166.1,2,   62.67,2,   33.50,2,    0.00,2,    2.35,2,   0.550,2,   0.293,2,   0.027,2,    -999,9,    -999,9,     -999,9,     -999,    -999,9,    -999,9,    -999,9,-999,9,-999,9,-999,9,-999,    -999,9,    -999,1.334,2,-999,9,-999,9,    -999,9,-999,9, 20080209,     1431, -34.5124,  29.5383,    -999,-999,9,     -999,9,     -999,9,     -999,9,     -999,9,     -999,9,     -999,9,-999,9,     -999,9,     -999,9,     -999,9,    -999,    -999
33RR20080204,       I06S,      14,          2,         13,         13,2,20080209,       1305,   -34.5289,    29.5346,       4281,  1473.2,   3.4736,  34.5920,2,  34.5951,2,    164.2,4,   162.0,2,   68.22,2,   33.55,2,    0.00,2,    2.35,2,   0.338,2,   0.193,2,   0.039,2,    -999,9,  2336.0,2,     -999,9,     -999,    -999,9,    -999,9,    -999,9,-999,9,-999,9,-999,9,-999,    -999,9,    -999,1.138,2,-999,9,-999,9,    -999,9,-999,9, 20080209,     1427, -34.5130,  29.5383,    -999,-999,9,     -999,9,     -999,9,     -999,9,     -999,9,     -999,9,     -999,9,-999,9,     -999,9,     -999,9,     -999,9,    -999,    -999
33RR20080204,       I06S,      14,          2,         12,         12,2,20080209,       1305,   -34.5289,    29.5346,       4281,  1578.4,   3.2602,  34.6296,3,  34.6344,2,    167.4,4,   163.6,2,   71.92,2,   33.19,2,    0.00,2,    2.32,2,   0.217,2,   0.125,2,   0.011,2,    -999,9,    -999,9,     -999,9,     -999,    -999,9,    -999,9,    -999,9,-999,9,-999,9,-999,9,-999,    -999,9,    -999,0.622,2,-999,9,-999,9,    -999,9,-999,9, 20080209,     1423, -34.5136,  29.5384,    -999,-999,9,     -999,9,     -999,9,     -999,9,     -999,9,     -999,9,     -999,9,-999,9,     -999,9,     -999,9,     -999,9,    -999,    -999
33RR20080204,       I06S,      14,          2,         11,         11,2,20080209,       1305,   -34.5289,    29.5346,       4281,  1683.2,   3.0176,  34.6569,3,  34.6629,2,    165.1,4,   170.5,2,   71.10,2,   32.46,2,    0.00,2,    2.27,2,   0.168,2,   0.098,2,   0.000,2,    -999,9,    -999,9,     -999,9,     -999,    -999,9,    -999,9,    -999,9,-999,9,-999,9,-999,9,-999,    -999,9,    -999,0.399,2,-999,9,-999,9,    -999,9,-999,9, 20080209,     1420, -34.5142,  29.5384,    -999,-999,9,     -999,9,     -999,9,     -999,9,     -999,9,     -999,9,     -999,9,-999,9,     -999,9,     -999,9,     -999,9,    -999,    -999
33RR20080204,       I06S,      14,          2,         10,         10,2,20080209,       1305,   -34.5289,    29.5346,       4281,  1783.7,   2.8527,  34.6907,2,  34.6894,2,    181.8,4,   180.2,2,   67.60,2,   31.22,2,    0.00,2,    2.17,2,   0.127,2,   0.072,2,   0.000,2,    -999,9,  2338.7,2,     -999,9,     -999,    -999,9,    -999,9,    -999,9,-999,9,-999,9,-999,9,-999,    -999,9,    -999,0.373,2,-999,9,-999,9,    -999,9,-999,9, 20080209,     1416, -34.5149,  29.5387,    -999,-999,9,     -999,9,     -999,9,     -999,9,     -999,9,     -999,9,     -999,9,-999,9,     -999,9,     -999,9,     -999,9,    -999,    -999
33RR20080204,       I06S,      14,          2,          9,          9,2,20080209,       1305,   -34.5289,    29.5346,       4281,  1989.1,   2.7256,  34.7523,2,  34.7519,2,    193.1,4,   191.4,2,   65.75,2,   29.46,2,    0.00,2,    2.03,2,   0.068,2,   0.038,2,   0.000,2,    -999,9,    -999,9,     -999,9,     -999,    -999,9,    -999,9,    -999,9,-999,9,-999,9,-999,9,-999,    -999,9,    -999,0.243,2,-999,9,-999,9,    -999,9,-999,9, 20080209,     1410, -34.5159,  29.5392,    -999,-999,9,     -999,9,     -999,9,     -999,9,     -999,9,     -999,9,     -999,9,-999,9,     -999,9,     -999,9,     -999,9,    -999,    -999
33RR20080204,       I06S,      14,          2,          8,          8,2,20080209,       1305,   -34.5289,    29.5346,       4281,  2286.4,   2.5951,  34.8026,2,  34.8032,2,    206.2,4,   208.3,2,   60.22,2,   27.26,2,    0.00,2,    1.86,2,   0.040,2,   0.019,2,   0.000,2,    -999,9,    -999,9,     -999,9,     -999,    -999,9,    -999,9,    -999,9,-999,9,-999,9,-999,9,-999,    -999,9,    -999,0.054,2,-999,9,-999,9,    -999,9,-999,9, 20080209,     1403, -34.5170,  29.5398,    -999,-999,9,     -999,9,     -999,9,     -999,9,     -999,9,     -999,9,     -999,9,-999,9,     -999,9,     -999,9,     -999,9,    -999,    -999
33RR20080204,       I06S,      14,          2,          7,          7,2,20080209,       1305,   -34.5289,    29.5346,       4281,  2593.2,   2.3952,  34.8151,2,  34.8152,2,    221.2,4,   214.3,2,   63.09,2,   26.85,2,    0.00,2,    1.84,2,   0.031,2,   0.013,2,   0.000,2,    -999,9,  2340.9,2,     -999,9,     -999,    -999,9,    -999,9,    -999,9,-999,9,-999,9,-999,9,-999,    -999,9,    -999,0.063,2,-999,9,-999,9,    -999,9,-999,9, 20080209,     1355, -34.5183,  29.5408,    -999,-999,9,     -999,9,     -999,9,     -999,9,     -999,9,     -999,9,     -999,9,-999,9,     -999,9,     -999,9,     -999,9,    -999,    -999