BOTTLE,20220706CCHSIOAMB
EXPOCODE,SECT_ID,STNNBR,CASTNO,SAMPNO,BTLNBR,BTLNBR_FLAG_W,DATE,TIME,LATITUDE,LONGITUDE,DEPTH,CTDPRS,CTDTMP,CTDSAL,CTDSAL_FLAG_W,SALNTY,SALNTY_FLAG_W,CTDOXY,CTDOXY_FLAG_W,OXYGEN,OXYGEN_FLAG_W,SILCAT,SILCAT_FLAG_W,NITRAT,NITRAT_FLAG_W,NITRIT,NITRIT_FLAG_W,PHSPHT,PHSPHT_FLAG_W,CFC-11,CFC-11_FLAG_W,CFC-12,CFC-12_FLAG_W,CFC113,CFC113_FLAG_W,TCARBN,TCARBN_FLAG_W,ALKALI,ALKALI_FLAG_W,PH_SWS,PH_SWS_FLAG_W,PH_TMP,TRITUM,TRITUM_FLAG_W,HELIUM,HELIUM_FLAG_W,DELHE3,DELHE3_FLAG_W,REFTMP,REFTMP_FLAG_W,DELC13,DELC13_FLAG_W,DELC14,DELC14_FLAG_W,C14ERR,NEON,NEON_FLAG_W,NEONER,CCL4,CCL4_FLAG_W,ALUMIN,ALUMIN_FLAG_W,DELO18,DELO18_FLAG_W,DOC,DOC_FLAG_W,TDN,TDN_FLAG_W,BTL_DATE,BTL_TIME,BTL_LAT,BTL_LON,TRITER,DELSI30,DELSI30_FLAG_W,CDOM380,CDOM380_FLAG_W,CDOM325,CDOM325_FLAG_W,CDOMSL,CDOMSL_FLAG_W,CDOM340,CDOM340_FLAG_W,CDOM443,CDOM443_FLAG_W,CDOMSN,CDOMSN_FLAG_W,BLACKC,BLACKC_FLAG_W,CDOM490,CDOM490_FLAG_W,CDOM412,CDOM412_FLAG_W,CDOM555,CDOM555_FLAG_W,DELHER,HELIER
,,,,,,,,,,,METERS,DBAR,ITS-90,PSS-78,,PSS-78,,UMOL/KG,,UMOL/KG,,UMOL/KG,,UMOL/KG,,UMOL/KG,,UMOL/KG,,PMOL/KG,,PMOL/KG,,PMOL/KG,,UMOL/KG,,UMOL/KG,,,,DEG C,TU,,NMOL/KG,,PERCNT,,DEG C,,/MILLE,,/MILLE,,/MILLE,NMOL/KG,,NMOL/KG,PMOL/KG,,NMOL/L,,/MILLE,,UMOL/KG,,UMOL/KG,,,,,,TU,/MILLE,,1/M,,1/M,,1/NM,,1/M,,1/M,,1/NM,,,,1/M,,1/M,,1/M,,PERCNT,NMOL/KG
33RR20080204,       I06S,     106,          1,         36,         36,2,20080308,       0610,   -65.5000,    30.0001,       4709,     4.3,  -0.1236,  33.9951,2,  33.9933,2,    336.2,2,   336.9,2,   53.69,2,   26.83,2,    0.26,2,    1.84,2,   5.950,2,   3.279,2,   0.500,2,  2177.4,6,  2302.6,2,   7.8757,2,    13.00,    -999,9,    -999,9,    -999,9,-999,9,1.27,2,-120.7,2,2.7,    -999,9,    -999,10.255,2,-999,9,-999,9,   41.17,2,-999,1, 20080308,     0811, -65.5000,  30.0000,    -999,-999,9,     -999,9,     -999,9,     -999,9,     -999,9,     -999,9,     -999,9,-999,9,     -999,9,     -999,9,     -999,9,    -999,    -999
33RR20080204,       I06S,     106,          1,         35,         35,2,20080308,       0610,   -65.5000,    30.0001,       4709,    26.0,  -0.1323,  33.9965,2,  33.9951,2,    336.0,2,   336.2,2,   53.68,2,   26.83,2,    0.26,2,    1.84,2,   5.965,2,   3.284,2,   0.507,2,  2177.2,2,  2304.1,2,   7.8775,2,    13.00,    -999,9,    -999,9,    -999,9,-999,9,-999,9,-999,9,-999,    -999,9,    -999,10.378,2,-999,9,-999,9,   41.17,2,-999,1, 20080308,     0809, -65.5000,  30.0000,    -999,-999,1,     -999,9,     -999,9,     -999,9,     -999,9,     -999,9,     -999,9,-999,1,     -999,9,     -999,9,     -999,9,    -999,    -999
33RR20080204,       I06S,     106,          1,         34,         34,2,20080308,       0610,   -65.5000,    30.0001,       4709,    50.8,  -0.1477,  33.9963,2,  33.9984,2,    336.1,2,   334.2,2,   53.67,2,   26.83,2,    0.26,2,    1.84,2,   5.917,2,   3.236,2,   0.492,2,  2176.0,2,  2304.1,2,   7.8765,2,    13.00,    -999,9,    -999,9,    -999,9,-999,9,-999,9,-999,9,-999,    -999,9,    -999,9.308,2,-999,9,-999,9,   41.17,2,-999,1, 20080308,     0808, -65.5000,  30.0000,    -999,-999,1,     -999,9,     -999,9,     -999,9,     -999,9,     -999,9,     -999,9,-999,9,     -999,9,     -999,9,     -999,9,    -999,    -999
33RR20080204,       I06S,     106,          1,         33,         33,2,20080308,       0610,   -65.5000,    30.0001,       4709,    85.6,  -1.6698,  34.3316,2,  34.3312,2,    316.5,2,   315.2,2,   62.63,2,   29.30,2,    0.22,2,    2.04,2,   5.220,2,   2.821,2,   0.467,2,  2211.3,2,  2324.2,2,   7.8290,2,    13.00,    -999,9,    -999,9,    -999,9,-999,9,-999,9,-999,9,-999,    -999,9,    -999,7.762,2,-999,9,-999,9,   40.98,2,-999,1, 20080308,     0806, -65.5000,  30.0000,    -999,-999,1,     -999,9,     -999,9,     -999,9,     -999,9,     -999,9,     -999,9,-999,9,     -999,9,     -999,9,     -999,9,    -999,    -999
33RR20080204,       I06S,     106,          1,         32,         32,2,20080308,       0610,   -65.5000,    30.0001,       4709,   110.9,  -1.2955,  34.3806,2,  34.3737,2,    293.4,2,   294.6,2,   67.82,2,   30.59,2,    0.13,2,    2.12,2,   4.750,2,   2.553,2,   0.419,2,  2220.9,2,  2327.7,2,   7.8059,3,    13.00,    -999,9,    -999,9,    -999,9,-999,9,0.91,2,-123.2,2,2.4,    -999,9,    -999,6.431,2,-999,9,-999,9,   45.46,2,-999,1, 20080308,     0804, -65.5000,  30.0000,    -999,-999,1,     -999,9,     -999,9,     -999,9,     -999,9,     -999,9,     -999,9,-999,9,     -999,9,     -999,9,     -999,9,    -999,    -999
33RR20080204,       I06S,     106,          1,         31,         31,2,20080308,       0610,   -65.5000,    30.0001,       4709,   160.8,   0.8174,  34.6024,2,  34.6039,2,    202.4,2,   203.1,2,   87.08,2,   32.80,2,    0.01,2,    2.26,2,   1.550,2,   0.813,2,   0.119,2,  2250.3,2,  2343.2,2,   7.7528,2,    13.00,    -999,9,    -999,9,    -999,9,-999,9,-999,9,-999,9,-999,    -999,9,    -999,2.492,2,-999,9,-999,9,   41.76,2,-999,1, 20080308,     0802, -65.5000,  30.0001,    -999,-999,1,     -999,9,     -999,9,     -999,9,     -999,9,     -999,9,     -999,9,-999,9,     -999,9,     -999,9,     -999,9,    -999,    -999
33RR20080204,       I06S,     106,          1,         30,         30,2,20080308,       0610,   -65.5000,    30.0001,       4709,   210.6,   1.2675,  34.6668,2,  34.6641,2,    193.6,2,   192.6,2,   91.90,2,   32.50,2,    0.00,2,    2.24,2,   0.928,2,   0.492,2,   0.080,2,  2254.6,2,  2346.6,2,   7.7593,2,    13.00,    -999,9,    -999,9,    -999,9,-999,9,0.44,2,-151.9,2,2.4,    -999,9,    -999,1.655,2,-999,9,-999,9,   39.61,2,-999,1, 20080308,     0800, -65.5000,  30.0001,    -999,-999,1,     -999,9,     -999,9,     -999,9,     -999,9,     -999,9,     -999,9,-999,1,     -999,9,     -999,9,     -999,9,    -999,    -999
33RR20080204,       I06S,     106,          1,         29,         29,2,20080308,       0610,   -65.5000,    30.0001,       4709,   276.2,   1.3167,  34.6875,2,  34.6849,2,    192.8,2,   193.0,2,   93.10,2,   32.00,2,    0.00,2,    2.23,2,   0.724,2,   0.382,2,   0.048,2,  2252.9,2,  2348.7,2,   7.7676,2,    13.00,    -999,9,    -999,9,    -999,9,-999,9,0.51,2,-150.3,2,2.6,    -999,9,    -999,1.388,2,-999,9,-999,9,   38.15,2,-999,1, 20080308,     0758, -65.5000,  30.0000,    -999,-999,1,     -999,9,     -999,9,     -999,9,     -999,9,     -999,9,     -999,9,-999,9,     -999,9,     -999,9,     -999,9,    -999,    -999
33RR20080204,       I06S,     106,          1,         28,         28,2,20080308,       0610,   -65.5000,    30.0001,       4709,   326.9,   1.2830,  34.6955,2,  34.6935,2,    194.6,2,   195.5,2,   94.09,2,   31.89,2,    0.00,2,    2.21,2,   0.660,2,   0.356,2,   0.049,2,  2256.7,2,  2349.5,2,   7.7720,2,    13.00,    -999,9,    -999,9,    -999,9,-999,9,0.5,2,-155.6,2,2.6,    -999,9,    -999,1.309,2,-999,9,-999,9,    -999,9,-999,9, 20080308,     0756, -65.5000,  30.0001,    -999,-999,1,     -999,9,     -999,9,     -999,9,     -999,9,     -999,9,     -999,9,-999,9,     -999,9,     -999,9,     -999,9,    -999,    -999
33RR20080204,       I06S,     106,          1,         27,         27,2,20080308,       0610,   -65.5000,    30.0001,       4709,   376.7,   1.2784,  34.7058,2,  34.7045,2,    195.7,2,   195.9,2,   95.69,2,   31.60,2,    0.00,2,    2.20,2,   0.524,2,   0.280,2,   0.040,2,  2254.5,2,  2350.7,2,   7.7764,2,    13.00,    -999,9,    -999,9,    -999,9,-999,9,0.5,2,-157.9,2,3.0,    -999,9,    -999,1.114,2,-999,9,-999,9,   39.61,2,-999,1, 20080308,     0754, -65.5000,  30.0001,    -999,-999,9,     -999,9,     -999,9,     -999,9,     -999,9,     -999,9,     -999,9,-999,9,     -999,9,     -999,9,     -999,9,    -999,    -999
33RR20080204,       I06S,     106,          1,         26,         26,2,20080308,       0610,   -65.5000,    30.0001,       4709,   426.4,   1.2396,  34.7094,2,  34.7083,2,    196.3,2,   195.9,2,   97.31,2,   31.60,2,    0.00,2,    2.20,2,   0.494,2,   0.264,2,   0.044,2,  2254.6,2,  2350.0,2,   7.7793,2,    13.00,    -999,9,    -999,9,    -999,9,-999,9,0.52,2,-154.6,2,2.3,    -999,9,    -999,1.059,2,-999,9,-999,9,    -999,9,-999,9, 20080308,     0752, -65.5000,  30.0000,    -999,-999,1,     -999,9,     -999,9,     -999,9,     -999,9,     -999,9,     -999,9,-999,9,     -999,9,     -999,9,     -999,9,    -999,    -999
33RR20080204,       I06S,     106,          1,         25,         25,2,20080308,       0610,   -65.5000,    30.0001,       4709,   477.4,   1.1910,  34.7103,2,  34.7092,2,    197.1,2,   197.1,2,   98.30,2,   31.50,2,    0.00,2,    2.19,2,   0.475,2,   0.250,2,   0.039,2,  2255.0,2,  2350.9,2,   7.7805,2,    13.00,    -999,9,    -999,9,    -999,9,-999,9,0.48,2,-155.7,2,2.3,    -999,9,    -999,1.056,2,-999,9,-999,9,   40.20,2,-999,1, 20080308,     0750, -65.5000,  30.0000,    -999,-999,9,     -999,9,     -999,9,     -999,9,     -999,9,     -999,9,     -999,9,-999,9,     -999,9,     -999,9,     -999,9,    -999,    -999
33RR20080204,       I06S,     106,          1,         24,         24,2,20080308,       0610,   -65.5000,    30.0001,       4709,   528.0,   1.1461,  34.7118,2,  34.7104,2,    198.3,2,   198.0,2,   99.71,2,   31.55,2,    0.00,2,    2.19,2,   0.437,2,   0.231,2,   0.026,2,  2254.6,2,  2352.6,2,   7.7830,2,    13.00,    -999,9,    -999,9,    -999,9,-999,9,0.51,2,-154.2,2,2.8,    -999,9,    -999,0.975,2,-999,9,-999,9,    -999,9,-999,9, 20080308,     0748, -65.5000,  30.0000,    -999,-999,1,     -999,9,     -999,9,     -999,9,     -999,9,     -999,9,     -999,9,-999,9,     -999,9,     -999,9,     -999,9,    -999,    -999
33RR20080204,       I06S,     106,          1,         23,         23,2,20080308,       0610,   -65.5000,    30.0001,       4709,   648.5,   1.0018,  34.7080,2,  34.7104,4,    200.5,2,   200.6,2,  102.53,2,   31.59,2,    0.00,2,    2.18,2,   0.462,6,   0.248,6,   0.040,6,  2256.4,2,    -999,9,   7.7838,2,    13.00,    -999,9,    -999,9,    -999,9,-999,9,0.83,3,-159.4,2,2.4,    -999,9,    -999,1.025,6,-999,9,-999,9,   41.17,2,-999,1, 20080308,     0744, -65.5000,  30.0000,    -999,-999,9,     -999,9,     -999,9,     -999,9,     -999,9,     -999,9,     -999,9,-999,9,     -999,9,     -999,9,     -999,9,    -999,    -999
33RR20080204,       I06S,     106,          1,         22,         22,2,20080308,       0610,   -65.5000,    30.0001,       4709,   749.0,   0.9193,  34.7078,2,  34.7063,2,    201.7,2,   201.3,2,  105.36,2,   31.70,2,    0.00,2,    2.20,2,   0.382,2,   0.207,2,   0.030,2,  2257.4,2,  2354.7,2,   7.7827,4,    13.00,    -999,9,    -999,9,    -999,9,-999,9,0.51,2,-164.7,2,2.7,    -999,9,    -999,0.913,2,-999,9,-999,9,    -999,9,-999,9, 20080308,     0741, -65.5000,  30.0001,    -999,-999,1,     -999,9,     -999,9,     -999,9,     -999,9,     -999,9,     -999,9,-999,9,     -999,9,     -999,9,     -999,9,    -999,    -999
33RR20080204,       I06S,     106,          1,         21,         21,2,20080308,       0610,   -65.5000,    30.0001,       4709,   850.1,   0.8399,  34.7054,2,  34.7040,2,    202.6,2,   202.7,2,  108.59,2,   31.85,2,    0.00,2,    2.22,2,   0.356,2,   0.193,2,   0.031,2,  2257.5,2,  2356.6,2,   7.7704,4,    13.00,    -999,9,    -999,9,    -999,9,-999,9,0.51,2,-161.7,2,3.2,    -999,9,    -999,0.894,2,-999,9,-999,9,   39.02,2,-999,1, 20080308,     0739, -65.5000,  30.0000,    -999,-999,9,     -999,9,     -999,9,     -999,9,     -999,9,     -999,9,     -999,9,-999,9,     -999,9,     -999,9,     -999,9,    -999,    -999
33RR20080204,       I06S,     106,          1,         20,         20,2,20080308,       0610,   -65.5000,    30.0001,       4709,   954.4,   0.7764,  34.7043,2,  34.7038,2,    203.3,2,   203.7,2,  110.61,2,   31.94,2,    0.00,2,    2.22,2,   0.337,2,   0.177,2,   0.034,2,  2258.3,2,  2356.3,2,   7.7842,4,    13.00,    -999,9,    -999,9,    -999,9,-999,9,0.54,2,-161.6,2,3.0,    -999,9,    -999,0.924,2,-999,9,-999,9,    -999,9,-999,9, 20080308,     0736, -65.5000,  30.0001,    -999,-999,9,     -999,9,     -999,9,     -999,9,     -999,9,     -999,9,     -999,9,-999,9,     -999,9,     -999,9,     -999,9,    -999,    -999
33RR20080204,       I06S,     106,          1,         19,         19,2,20080308,       0610,   -65.5000,    30.0001,       4709,  1055.4,   0.6682,  34.6989,2,  34.6977,2,    204.3,2,   203.8,2,  113.64,2,   32.20,2,    0.00,2,    2.24,2,   0.348,2,   0.177,2,   0.028,2,  2259.7,6,  2355.7,2,   7.7791,2,    13.00,    -999,9,    -999,9,    -999,9,-999,9,0.52,2,-166.8,2,2.9,    -999,9,    -999,1.149,2,-999,9,-999,9,   39.90,2,-999,1, 20080308,     0733, -65.5000,  30.0001,    -999,-999,1,     -999,9,     -999,9,     -999,9,     -999,9,     -999,9,     -999,9,-999,9,     -999,9,     -999,9,     -999,9,    -999,    -999
33RR20080204,       I06S,     106,          1,         18,         18,2,20080308,       0610,   -65.5000,    30.0001,       4709,  1156.8,   0.6061,  34.6962,2,  34.6955,2,    204.8,2,   205.2,2,  115.46,2,   32.30,2,    0.00,2,    2.24,2,   0.344,2,   0.182,2,   0.047,2,  2260.8,2,  2356.8,2,   7.7784,3,    13.00,    -999,9,    -999,9,    -999,9,-999,9,0.52,2,-166.9,2,2.6,    -999,9,    -999,0.867,2,-999,9,-999,9,    -999,9,-999,9, 20080308,     0731, -65.5000,  30.0001,    -999,-999,9,     -999,9,     -999,9,     -999,9,     -999,9,     -999,9,     -999,9,-999,9,     -999,9,     -999,9,     -999,9,    -999,    -999
33RR20080204,       I06S,     106,          1,         17,         17,2,20080308,       0610,   -65.5000,    30.0001,       4709,  1257.3,   0.5510,  34.6941,2,  34.6934,2,    205.6,2,   205.6,2,  117.29,2,   32.39,2,    0.00,2,    2.24,2,   0.324,2,   0.164,2,   0.018,2,  2260.1,2,  2358.0,2,   7.7830,4,    13.00,    -999,9,    -999,9,    -999,9,-999,9,0.51,2,-159.8,2,3.0,    -999,9,    -999,0.906,2,-999,9,-999,9,   39.80,2,-999,1, 20080308,     0728, -65.5000,  30.0001,    -999,-999,9,     -999,9,     -999,9,     -999,9,     -999,9,     -999,9,     -999,9,-999,9,     -999,9,     -999,9,     -999,9,    -999,    -999
33RR20080204,       I06S,     106,          1,         16,         16,2,20080308,       0610,   -65.5000,    30.0001,       4709,  1363.3,   0.4763,  34.6903,2,  34.6901,2,    207.2,2,   207.2,2,  118.91,2,   32.49,2,    0.00,2,    2.25,2,   0.325,2,   0.172,2,   0.015,2,  2261.1,2,  2356.8,2,   7.7771,4,    13.00,    -999,9,    -999,9,    -999,9,-999,9,0.51,2,-168.0,2,2.4,    -999,9,    -999,0.918,2,-999,9,-999,9,    -999,9,-999,9, 20080308,     0725, -65.5000,  30.0000,    -999,-999,9,     -999,9,     -999,9,     -999,9,     -999,9,     -999,9,     -999,9,-999,9,     -999,9,     -999,9,     -999,9,    -999,    -999
33RR20080204,       I06S,     106,          1,         15,         15,2,20080308,       0610,   -65.5000,    30.0001,       4709,  1464.0,   0.4462,  34.6897,2,  34.6881,2,    207.4,2,   206.9,2,  120.32,2,   32.54,2,    0.00,2,    2.25,2,   0.286,2,   0.157,2,   0.007,2,  2261.4,2,  2357.9,2,   7.7763,3,    13.00,    -999,9,    -999,9,    -999,9,-999,9,0.49,2,-153.5,2,2.5,    -999,9,    -999,0.822,2,-999,9,-999,9,   38.15,2,-999,1, 20080308,     0722, -65.5000,  30.0000,    -999,-999,9,     -999,9,     -999,9,     -999,9,     -999,9,     -999,9,     -999,9,-999,9,     -999,9,     -999,9,     -999,9,    -999,    -999
33RR20080204,       I06S,     106,          1,         14,         14,2,20080308,       0610,   -65.5000,    30.0001,       4709,  1564.9,   0.4106,  34.6873,2,  34.6861,2,    208.0,2,   208.3,2,  121.94,2,   32.59,2,    0.00,2,    2.26,2,   0.270,2,   0.142,2,   0.018,2,  2261.7,2,  2356.9,2,   7.7767,3,    13.00,    -999,9,    -999,9,    -999,9,-999,9,0.51,2,-156.1,2,2.5,    -999,9,    -999,0.812,2,-999,9,-999,9,    -999,9,-999,9, 20080308,     0720, -65.5000,  30.0001,    -999,-999,1,     -999,9,     -999,9,     -999,9,     -999,9,     -999,9,     -999,9,-999,9,     -999,9,     -999,9,     -999,9,    -999,    -999
33RR20080204,       I06S,     106,          1,         13,         13,2,20080308,       0610,   -65.5000,    30.0001,       4709,  1666.1,   0.3635,  34.6862,2,  34.6844,2,    209.0,2,   209.4,2,  122.75,2,   32.59,2,    0.00,2,    2.26,2,   0.271,2,   0.143,2,   0.015,2,  2261.7,2,  2358.1,2,   7.7750,2,    13.00,    -999,9,    -999,9,    -999,9,-999,9,0.54,2,-149.4,2,2.5,    -999,9,    -999,0.821,2,-999,9,-999,9,   37.66,2,-999,1, 20080308,     0717, -65.5000,  30.0001,    -999,-999,9,     -999,9,     -999,9,     -999,9,     -999,9,     -999,9,     -999,9,-999,9,     -999,9,     -999,9,     -999,9,    -999,    -999
33RR20080204,       I06S,     106,          1,         12,         12,2,20080308,       0610,   -65.5000,    30.0001,       4709,  1767.9,   0.3262,  34.6840,2,  34.6832,2,    210.0,2,   211.6,2,  123.75,2,   32.64,2,    0.00,2,    2.26,2,   0.260,2,   0.144,2,   0.022,2,  2260.7,2,  2357.1,2,   7.7765,2,    13.00,    -999,9,    -999,9,    -999,9,-999,9,0.51,2,-151.9,2,2.7,    -999,9,    -999,0.848,2,-999,9,-999,9,    -999,9,-999,9, 20080308,     0714, -65.5000,  30.0000,    -999,-999,9,     -999,9,     -999,9,     -999,9,     -999,9,     -999,9,     -999,9,-999,9,     -999,9,     -999,9,     -999,9,    -999,    -999
33RR20080204,       I06S,     106,          1,         11,         11,2,20080308,       0610,   -65.5000,    30.0001,       4709,  1867.5,   0.2833,  34.6820,2,  34.6812,2,    212.1,2,   212.2,2,  123.95,2,   32.64,2,    0.00,2,    2.26,2,   0.266,2,   0.144,2,   0.012,2,  2260.5,2,  2357.9,2,   7.7765,2,    13.00,    -999,9,    -999,9,    -999,9,-999,9,0.48,2,-157.8,2,2.8,    -999,9,    -999,0.872,2,-999,9,-999,9,   40.00,2,-999,1, 20080308,     0711, -65.5000,  30.0000,    -999,-999,9,     -999,9,     -999,9,     -999,9,     -999,9,     -999,9,     -999,9,-999,9,     -999,9,     -999,9,     -999,9,    -999,    -999
33RR20080204,       I06S,     106,          1,         10,         10,2,20080308,       0610,   -65.5000,    30.0001,       4709,  2070.6,   0.1957,  34.6777,2,  34.6760,2,    215.8,2,   215.5,2,  124.96,2,   32.64,2,    0.00,2,    2.26,2,   0.290,2,   0.165,2,   0.014,2,  2259.1,2,  2356.2,2,   7.7774,2,    13.00,    -999,9,    -999,9,    -999,9,-999,9,0.51,2,-158.3,2,2.4,    -999,9,    -999,0.922,2,-999,9,-999,9,   40.59,2,-999,1, 20080308,     0706, -65.5000,  30.0001,    -999,-999,1,     -999,9,     -999,9,     -999,9,     -999,9,     -999,9,     -999,9,-999,9,     -999,9,     -999,9,     -999,9,    -999,    -999
33RR20080204,       I06S,     106,          1,          9,          9,2,20080308,       0610,   -65.5000,    30.0001,       4709,  2388.2,   0.1044,  34.6738,2,  34.6711,2,    219.1,2,   219.0,2,  126.58,2,   32.59,2,    0.00,2,    2.26,2,   0.276,2,   0.150,2,   0.019,2,  2259.5,2,  2356.0,2,   7.7800,2,    13.00,    -999,9,    -999,9,    -999,9,-999,9,0.54,2,-157.5,2,2.8,    -999,9,    -999,0.919,2,-999,9,-999,9,   40.98,2,-999,1, 20080308,     0659, -65.5000,  30.0000,    -999,-999,9,     -999,9,     -999,9,     -999,9,     -999,9,     -999,9,     -999,9,-999,9,     -999,9,     -999,9,     -999,9,    -999,    -999
33RR20080204,       I06S,     106,          1,          8,          8,2,20080308,       0610,   -65.5000,    30.0001,       4709,  2697.9,   0.0085,  34.6692,2,  34.6664,2,    224.1,2,   224.2,2,  125.76,2,   32.49,2,    0.00,2,    2.26,2,   0.358,2,   0.197,2,   0.013,2,  2255.5,2,  2356.6,2,   7.7829,2,    13.00,    -999,9,    -999,9,    -999,9,-999,9,0.54,2,-164.6,2,2.6,    -999,9,    -999,1.103,2,-999,9,-999,9,    -999,9,-999,9, 20080308,     0653, -65.5000,  30.0001,    -999,-999,1,     -999,9,     -999,9,     -999,9,     -999,9,     -999,9,     -999,9,-999,9,     -999,9,     -999,9,     -999,9,    -999,    -999