BOTTLE,20220706CCHSIOAMB
EXPOCODE,SECT_ID,STNNBR,CASTNO,SAMPNO,BTLNBR,BTLNBR_FLAG_W,DATE,TIME,LATITUDE,LONGITUDE,DEPTH,CTDPRS,CTDTMP,CTDSAL,CTDSAL_FLAG_W,SALNTY,SALNTY_FLAG_W,CTDOXY,CTDOXY_FLAG_W,OXYGEN,OXYGEN_FLAG_W,SILCAT,SILCAT_FLAG_W,NITRAT,NITRAT_FLAG_W,NITRIT,NITRIT_FLAG_W,PHSPHT,PHSPHT_FLAG_W,CFC-11,CFC-11_FLAG_W,CFC-12,CFC-12_FLAG_W,CFC113,CFC113_FLAG_W,TCARBN,TCARBN_FLAG_W,ALKALI,ALKALI_FLAG_W,PH_SWS,PH_SWS_FLAG_W,PH_TMP,TRITUM,TRITUM_FLAG_W,HELIUM,HELIUM_FLAG_W,DELHE3,DELHE3_FLAG_W,REFTMP,REFTMP_FLAG_W,DELC13,DELC13_FLAG_W,DELC14,DELC14_FLAG_W,C14ERR,NEON,NEON_FLAG_W,NEONER,CCL4,CCL4_FLAG_W,ALUMIN,ALUMIN_FLAG_W,DELO18,DELO18_FLAG_W,DOC,DOC_FLAG_W,TDN,TDN_FLAG_W,BTL_DATE,BTL_TIME,BTL_LAT,BTL_LON,TRITER,DELSI30,DELSI30_FLAG_W,CDOM380,CDOM380_FLAG_W,CDOM325,CDOM325_FLAG_W,CDOMSL,CDOMSL_FLAG_W,CDOM340,CDOM340_FLAG_W,CDOM443,CDOM443_FLAG_W,CDOMSN,CDOMSN_FLAG_W,BLACKC,BLACKC_FLAG_W,CDOM490,CDOM490_FLAG_W,CDOM412,CDOM412_FLAG_W,CDOM555,CDOM555_FLAG_W,DELHER,HELIER
,,,,,,,,,,,METERS,DBAR,ITS-90,PSS-78,,PSS-78,,UMOL/KG,,UMOL/KG,,UMOL/KG,,UMOL/KG,,UMOL/KG,,UMOL/KG,,PMOL/KG,,PMOL/KG,,PMOL/KG,,UMOL/KG,,UMOL/KG,,,,DEG C,TU,,NMOL/KG,,PERCNT,,DEG C,,/MILLE,,/MILLE,,/MILLE,NMOL/KG,,NMOL/KG,PMOL/KG,,NMOL/L,,/MILLE,,UMOL/KG,,UMOL/KG,,,,,,TU,/MILLE,,1/M,,1/M,,1/NM,,1/M,,1/M,,1/NM,,,,1/M,,1/M,,1/M,,PERCNT,NMOL/KG
33RR20080204,       I06S,     104,          3,         36,         36,2,20080307,       1623,   -66.4946,    29.9975,       4276,     4.3,  -0.5035,  34.0836,2,  34.0839,2,    338.3,2,   338.9,2,   54.43,2,   27.14,2,    0.22,2,    1.87,2,   6.035,2,   3.269,2,   0.502,2,  2184.0,6,  2310.9,2,   7.8727,3,    13.00,    -999,9,    -999,1,    -999,9,-0.5014,2,-999,9,-999,9,-999,    -999,9,    -999,8.023,2,-999,9,-999,9,   43.51,2,-999,1, 20080307,     1821, -66.4946,  29.9975,    -999,-999,9,     -999,9,     -999,9,     -999,9,     -999,9,     -999,9,     -999,9,-999,9,     -999,9,     -999,9,     -999,9,    -999,    -999
33RR20080204,       I06S,     104,          3,         35,         35,2,20080307,       1623,   -66.4946,    29.9975,       4276,    25.7,  -0.5592,  34.0906,2,  34.0907,2,    338.1,2,   337.2,2,   54.43,2,   27.20,2,    0.22,2,    1.88,2,   6.009,2,   3.246,2,   0.517,2,    -999,9,  2310.7,2,   7.8709,2,    13.00,    -999,9,    -999,9,    -999,9,-999,9,-999,9,-999,9,-999,    -999,9,    -999,7.883,2,-999,9,-999,9,    -999,9,-999,9, 20080307,     1819, -66.4946,  29.9975,    -999,-999,1,     -999,9,     -999,9,     -999,9,     -999,9,     -999,9,     -999,9,-999,9,     -999,9,     -999,9,     -999,9,    -999,    -999
33RR20080204,       I06S,     104,          3,         34,         34,2,20080307,       1623,   -66.4946,    29.9975,       4276,    26.0,  -0.5599,  34.0909,2,  34.0905,2,    338.1,2,   336.8,2,   54.62,2,   27.20,2,    0.22,2,    1.88,2,    -999,9,    -999,9,    -999,9,  2185.3,2,    -999,5,   7.8712,2,    13.00,    -999,9,    -999,9,    -999,9,-0.56,2,-999,9,-999,9,-999,    -999,9,    -999,-999,9,-999,9,-999,9,   42.83,2,-999,1, 20080307,     1819, -66.4946,  29.9975,    -999,-999,9,     -999,9,     -999,9,     -999,9,     -999,9,     -999,9,     -999,9,-999,1,     -999,9,     -999,9,     -999,9,    -999,    -999
33RR20080204,       I06S,     104,          3,         33,         33,2,20080307,       1623,   -66.4946,    29.9975,       4276,    45.5,  -0.6426,  34.1129,2,  34.0991,2,    337.5,2,   336.2,2,   54.42,2,   27.35,2,    0.22,2,    1.88,2,   5.983,2,   3.234,2,   0.506,2,  2185.2,2,  2311.1,2,   7.8688,2,    13.00,    -999,9,    -999,9,    -999,9,-0.6197,2,-999,9,-999,9,-999,    -999,9,    -999,7.17,2,-999,9,-999,9,   41.85,2,-999,1, 20080307,     1817, -66.4946,  29.9975,    -999,-999,1,     -999,9,     -999,9,     -999,9,     -999,9,     -999,9,     -999,9,-999,9,     -999,9,     -999,9,     -999,9,    -999,    -999
33RR20080204,       I06S,     104,          3,         32,         32,2,20080307,       1623,   -66.4946,    29.9975,       4276,    76.5,  -1.6624,  34.3516,2,  34.3470,2,    316.8,2,   314.0,2,   63.22,2,   29.72,2,    0.14,2,    2.07,2,   5.407,2,   2.818,2,   0.443,2,  2213.2,2,  2324.6,2,   7.8250,2,    13.00,    -999,9,    -999,1,    -999,9,-1.6624,2,-999,9,-999,9,-999,    -999,9,    -999,5.523,2,-999,9,-999,9,    -999,9,-999,1, 20080307,     1816, -66.4946,  29.9975,    -999,-999,1,     -999,9,     -999,9,     -999,9,     -999,9,     -999,9,     -999,9,-999,9,     -999,9,     -999,9,     -999,9,    -999,    -999
33RR20080204,       I06S,     104,          3,         31,         31,2,20080307,       1623,   -66.4946,    29.9975,       4276,   101.6,  -1.7042,  34.3717,2,  34.3709,2,    304.7,2,   308.1,2,   65.82,2,   30.44,2,    0.12,2,    2.11,2,   5.004,2,   2.751,2,   0.428,2,  2215.3,2,  2325.0,2,   7.8128,2,    13.00,    -999,9,    -999,9,    -999,9,-1.7028,2,-999,9,-999,9,-999,    -999,9,    -999,5.15,2,-999,9,-999,9,    -999,9,-999,1, 20080307,     1814, -66.4946,  29.9975,    -999,-999,1,     -999,9,     -999,9,     -999,9,     -999,9,     -999,9,     -999,9,-999,9,     -999,9,     -999,9,     -999,9,    -999,    -999
33RR20080204,       I06S,     104,          3,         30,         30,2,20080307,       1623,   -66.4946,    29.9975,       4276,   153.5,  -0.8777,  34.4547,2,  34.4489,2,    274.3,2,   277.0,2,   72.64,2,   31.35,2,    0.02,2,    2.16,2,   4.201,2,   2.208,2,   0.362,2,  2228.0,2,  2330.5,2,   7.7938,2,    13.00,    -999,9,    -999,1,    -999,9,-0.893,2,-999,9,-999,9,-999,    -999,9,    -999,4.747,2,-999,9,-999,9,   41.66,2,-999,1, 20080307,     1812, -66.4946,  29.9975,    -999,-999,1,     -999,9,     -999,9,     -999,9,     -999,9,     -999,9,     -999,9,-999,9,     -999,9,     -999,9,     -999,9,    -999,    -999
33RR20080204,       I06S,     104,          3,         29,         29,2,20080307,       1623,   -66.4946,    29.9975,       4276,   203.4,   0.5111,  34.5995,2,  34.5926,2,    222.1,2,   222.3,2,   84.93,2,   32.20,2,    0.01,2,    2.22,2,   2.116,2,   1.099,2,   0.160,2,  2245.3,2,  2340.4,2,   7.7694,2,    13.00,    -999,9,    -999,9,    -999,9,0.5223,2,-999,9,-999,9,-999,    -999,9,    -999,2.547,2,-999,9,-999,9,   40.20,2,-999,1, 20080307,     1810, -66.4946,  29.9976,    -999,-999,1,     -999,9,     -999,9,     -999,9,     -999,9,     -999,9,     -999,9,-999,1,     -999,9,     -999,9,     -999,9,    -999,    -999
33RR20080204,       I06S,     104,          3,         28,         28,2,20080307,       1623,   -66.4946,    29.9975,       4276,   253.1,   0.7789,  34.6384,2,  34.6375,2,    212.3,2,   213.0,2,   88.57,2,   32.06,2,    0.00,2,    2.22,2,   1.566,2,   0.810,2,   0.115,2,  2247.8,2,  2344.7,2,   7.7726,2,    13.00,    -999,9,    -999,1,    -999,9,0.78,2,-999,9,-999,9,-999,    -999,9,    -999,1.982,2,-999,9,-999,9,    -999,9,-999,9, 20080307,     1808, -66.4946,  29.9975,    -999,-999,9,     -999,9,     -999,9,     -999,9,     -999,9,     -999,9,     -999,9,-999,9,     -999,9,     -999,9,     -999,9,    -999,    -999
33RR20080204,       I06S,     104,          3,         27,         27,2,20080307,       1623,   -66.4946,    29.9975,       4276,   305.1,   0.8468,  34.6548,2,  34.6544,2,    211.8,2,   209.9,2,   90.58,2,   31.95,2,    0.00,2,    2.21,2,   1.361,2,   0.699,2,   0.112,2,  2249.1,2,  2346.1,2,   7.7754,2,    13.00,    -999,9,    -999,9,    -999,9,0.8492,2,-999,9,-999,9,-999,    -999,9,    -999,1.857,2,-999,9,-999,9,    -999,9,-999,1, 20080307,     1806, -66.4946,  29.9975,    -999,-999,1,     -999,9,     -999,9,     -999,9,     -999,9,     -999,9,     -999,9,-999,9,     -999,9,     -999,9,     -999,9,    -999,    -999
33RR20080204,       I06S,     104,          3,         26,         26,2,20080307,       1623,   -66.4946,    29.9975,       4276,   354.5,   0.8742,  34.6677,2,  34.6668,2,    209.8,2,   208.6,2,   92.40,2,   31.74,2,    0.00,2,    2.19,2,   1.197,2,   0.622,2,   0.100,2,  2249.9,2,  2348.9,2,   7.7783,2,    13.00,    -999,9,    -999,1,    -999,9,0.8741,2,-999,9,-999,9,-999,    -999,9,    -999,1.778,2,-999,9,-999,9,    -999,9,-999,9, 20080307,     1804, -66.4946,  29.9975,    -999,-999,9,     -999,9,     -999,9,     -999,9,     -999,9,     -999,9,     -999,9,-999,9,     -999,9,     -999,9,     -999,9,    -999,    -999
33RR20080204,       I06S,     104,          3,         25,         25,2,20080307,       1623,   -66.4946,    29.9975,       4276,   407.1,   0.8988,  34.6783,2,  34.6773,2,    205.5,2,   208.3,2,   94.22,2,   31.70,2,    0.00,2,    2.19,2,   1.050,2,   0.545,2,   0.083,2,  2247.1,2,  2349.2,2,   7.7801,2,    13.00,    -999,9,    -999,9,    -999,9,0.8975,2,-999,9,-999,9,-999,    -999,9,    -999,1.569,2,-999,9,-999,9,    -999,9,-999,1, 20080307,     1801, -66.4946,  29.9975,    -999,-999,1,     -999,9,     -999,9,     -999,9,     -999,9,     -999,9,     -999,9,-999,9,     -999,9,     -999,9,     -999,9,    -999,    -999
33RR20080204,       I06S,     104,          3,         24,         24,2,20080307,       1623,   -66.4946,    29.9975,       4276,   457.6,   0.8864,  34.6845,2,  34.6824,2,    209.5,2,   213.8,2,  104.77,2,   31.90,2,    0.00,2,    2.21,2,   0.804,2,   0.433,2,   0.071,2,  2249.8,2,  2352.5,2,   7.7850,2,    13.00,    -999,9,    -999,1,    -999,9,0.8868,2,-999,9,-999,9,-999,    -999,9,    -999,1.431,2,-999,9,-999,9,    -999,9,-999,9, 20080307,     1759, -66.4946,  29.9975,    -999,-999,9,     -999,9,     -999,9,     -999,9,     -999,9,     -999,9,     -999,9,-999,9,     -999,9,     -999,9,     -999,9,    -999,    -999
33RR20080204,       I06S,     104,          3,         23,         23,2,20080307,       1623,   -66.4946,    29.9975,       4276,   507.9,   0.8743,  34.6892,2,  34.6873,2,    209.9,2,   207.6,2,   98.06,2,   31.69,2,    0.00,2,    2.19,2,   0.823,6,   0.450,6,   0.078,6,  2249.8,2,  2351.4,2,   7.7827,2,    13.00,    -999,9,    -999,1,    -999,9,0.8743,2,-999,9,-999,9,-999,    -999,9,    -999,1.396,2,-999,9,-999,9,   39.80,2,-999,1, 20080307,     1757, -66.4946,  29.9975,    -999,-999,1,     -999,9,     -999,9,     -999,9,     -999,9,     -999,9,     -999,9,-999,9,     -999,9,     -999,9,     -999,9,    -999,    -999
33RR20080204,       I06S,     104,          3,         22,         22,2,20080307,       1623,   -66.4946,    29.9975,       4276,   608.2,   0.7927,  34.6908,2,  34.6905,2,    209.9,2,   209.1,2,  101.30,2,   31.74,2,    0.00,2,    2.20,2,   0.755,2,   0.409,2,   0.069,2,  2252.6,2,  2352.8,2,   7.7838,2,    13.00,    -999,9,    -999,1,    -999,9,0.7925,2,-999,9,-999,9,-999,    -999,9,    -999,1.344,2,-999,9,-999,9,    -999,9,-999,9, 20080307,     1755, -66.4946,  29.9975,    -999,-999,1,     -999,9,     -999,9,     -999,9,     -999,9,     -999,9,     -999,9,-999,9,     -999,9,     -999,9,     -999,9,    -999,    -999
33RR20080204,       I06S,     104,          3,         21,         21,2,20080307,       1623,   -66.4946,    29.9975,       4276,   709.2,   0.7383,  34.6923,2,  34.6916,2,    208.8,2,   208.2,2,  104.34,2,   31.84,2,    0.00,2,    2.20,2,   0.665,2,   0.364,2,   0.055,2,  2253.6,2,  2355.3,2,   7.7855,2,    13.00,    -999,9,    -999,1,    -999,9,0.7382,2,-999,9,-999,9,-999,    -999,9,    -999,1.208,2,-999,9,-999,9,    -999,9,-999,1, 20080307,     1752, -66.4946,  29.9975,    -999,-999,9,     -999,9,     -999,9,     -999,9,     -999,9,     -999,9,     -999,9,-999,9,     -999,9,     -999,9,     -999,9,    -999,    -999
33RR20080204,       I06S,     104,          3,         20,         20,2,20080307,       1623,   -66.4946,    29.9975,       4276,   811.9,   0.7112,  34.6960,2,  34.6952,2,    207.1,2,   206.9,2,  108.20,2,   32.03,2,    0.00,2,    2.22,2,    -999,9,    -999,9,    -999,9,  2256.5,2,  2355.7,2,     -999,5,     -999,    -999,9,    -999,9,    -999,9,0.7116,2,-999,9,-999,9,-999,    -999,9,    -999,-999,9,-999,9,-999,9,    -999,9,-999,9, 20080307,     1749, -66.4946,  29.9975,    -999,-999,1,     -999,9,     -999,9,     -999,9,     -999,9,     -999,9,     -999,9,-999,9,     -999,9,     -999,9,     -999,9,    -999,    -999
33RR20080204,       I06S,     104,          3,         19,         19,2,20080307,       1623,   -66.4946,    29.9975,       4276,   912.3,   0.6363,  34.6930,2,  34.6930,2,    208.1,2,   208.0,2,  110.04,2,   32.13,2,    0.00,2,    2.22,2,   0.511,2,   0.272,2,   0.052,2,  2257.4,2,  2356.2,2,   7.7819,2,    13.00,    -999,9,    -999,9,    -999,9,0.6365,2,-999,9,-999,9,-999,    -999,9,    -999,1.174,2,-999,9,-999,9,   38.63,2,-999,1, 20080307,     1746, -66.4946,  29.9975,    -999,-999,9,     -999,9,     -999,9,     -999,9,     -999,9,     -999,9,     -999,9,-999,9,     -999,9,     -999,9,     -999,9,    -999,    -999
33RR20080204,       I06S,     104,          3,         18,         18,2,20080307,       1623,   -66.4946,    29.9975,       4276,  1014.3,   0.5690,  34.6903,2,  34.6895,2,    209.0,2,   208.5,2,  112.07,2,   32.24,2,    0.00,2,    2.22,2,   0.502,2,   0.275,2,   0.043,2,  2258.0,6,  2356.9,2,   7.7816,2,    13.00,    -999,9,    -999,1,    -999,9,0.5688,2,-999,9,-999,9,-999,    -999,9,    -999,1.056,2,-999,9,-999,9,   40.00,2,-999,1, 20080307,     1743, -66.4946,  29.9975,    -999,-999,1,     -999,9,     -999,9,     -999,9,     -999,9,     -999,9,     -999,9,-999,9,     -999,9,     -999,9,     -999,9,    -999,    -999
33RR20080204,       I06S,     104,          3,         17,         17,2,20080307,       1623,   -66.4946,    29.9975,       4276,  1116.6,   0.5110,  34.6881,2,  34.6881,2,    210.3,2,   209.2,2,  113.70,2,   32.34,2,    0.00,2,    2.23,2,   0.478,2,   0.272,2,   0.040,2,  2258.9,2,  2357.2,2,   7.7794,2,    13.00,    -999,9,    -999,9,    -999,9,0.511,2,-999,9,-999,9,-999,    -999,9,    -999,1.086,2,-999,9,-999,9,    -999,9,-999,9, 20080307,     1740, -66.4946,  29.9975,    -999,-999,9,     -999,9,     -999,9,     -999,9,     -999,9,     -999,9,     -999,9,-999,9,     -999,9,     -999,9,     -999,9,    -999,    -999
33RR20080204,       I06S,     104,          3,         16,         16,2,20080307,       1623,   -66.4946,    29.9975,       4276,  1215.0,   0.4637,  34.6869,2,  34.6865,2,    209.9,2,   209.6,2,  115.94,2,   32.48,2,    0.00,2,    2.24,2,   0.461,2,   0.255,2,   0.044,2,  2261.7,2,  2356.5,2,   7.7793,2,    13.00,    -999,9,    -999,1,    -999,9,0.4641,2,-999,9,-999,9,-999,    -999,9,    -999,1.09,2,-999,9,-999,9,   40.20,2,-999,1, 20080307,     1737, -66.4946,  29.9975,    -999,-999,9,     -999,9,     -999,9,     -999,9,     -999,9,     -999,9,     -999,9,-999,9,     -999,9,     -999,9,     -999,9,    -999,    -999
33RR20080204,       I06S,     104,          3,         15,         15,2,20080307,       1623,   -66.4946,    29.9975,       4276,  1319.2,   0.3944,  34.6835,2,  34.6829,2,    211.5,2,   211.1,2,  117.37,2,   32.53,2,    0.00,2,    2.24,2,   0.471,2,   0.260,2,   0.038,2,  2258.1,2,  2356.9,2,   7.7785,2,    13.00,    -999,9,    -999,9,    -999,9,0.3944,2,-999,9,-999,9,-999,    -999,9,    -999,1.082,2,-999,9,-999,9,    -999,9,-999,9, 20080307,     1734, -66.4946,  29.9975,    -999,-999,9,     -999,9,     -999,9,     -999,9,     -999,9,     -999,9,     -999,9,-999,9,     -999,9,     -999,9,     -999,9,    -999,    -999
33RR20080204,       I06S,     104,          3,         14,         14,2,20080307,       1623,   -66.4946,    29.9975,       4276,  1420.5,   0.3471,  34.6812,2,  34.6808,2,    213.2,2,   213.1,2,  118.39,2,   32.53,2,    0.00,2,    2.25,2,   0.479,2,   0.266,2,   0.040,2,  2259.0,2,  2357.2,2,   7.7799,2,    13.00,    -999,9,    -999,1,    -999,9,0.3469,2,-999,9,-999,9,-999,    -999,9,    -999,1.077,2,-999,9,-999,9,    -999,9,-999,1, 20080307,     1731, -66.4946,  29.9975,    -999,-999,9,     -999,9,     -999,9,     -999,9,     -999,9,     -999,9,     -999,9,-999,9,     -999,9,     -999,9,     -999,9,    -999,    -999
33RR20080204,       I06S,     104,          3,         13,         13,2,20080307,       1623,   -66.4946,    29.9975,       4276,  1522.6,   0.3000,  34.6793,2,  34.6790,2,    214.1,2,   214.1,2,  119.61,2,   32.48,2,    0.00,2,    2.25,2,   0.501,2,   0.282,2,   0.047,2,  2258.5,2,  2356.9,2,   7.7791,2,    13.00,    -999,9,    -999,9,    -999,9,0.3002,2,-999,9,-999,9,-999,    -999,9,    -999,1.126,2,-999,9,-999,9,    -999,9,-999,9, 20080307,     1728, -66.4946,  29.9975,    -999,-999,9,     -999,9,     -999,9,     -999,9,     -999,9,     -999,9,     -999,9,-999,9,     -999,9,     -999,9,     -999,9,    -999,    -999
33RR20080204,       I06S,     104,          3,         12,         12,2,20080307,       1623,   -66.4946,    29.9975,       4276,  1623.0,   0.2571,  34.6774,2,  34.6767,2,    213.6,2,   216.4,2,  120.02,2,   32.58,2,    0.00,2,    2.25,2,   0.500,2,   0.275,2,   0.045,2,  2257.7,2,  2356.7,2,   7.7799,2,    13.00,    -999,9,    -999,1,    -999,9,0.2576,2,-999,9,-999,9,-999,    -999,9,    -999,1.065,2,-999,9,-999,9,   40.49,2,-999,1, 20080307,     1725, -66.4946,  29.9975,    -999,-999,9,     -999,9,     -999,9,     -999,9,     -999,9,     -999,9,     -999,9,-999,9,     -999,9,     -999,9,     -999,9,    -999,    -999
33RR20080204,       I06S,     104,          3,         11,         11,2,20080307,       1623,   -66.4946,    29.9975,       4276,  1725.1,   0.2423,  34.6789,2,  34.6782,2,    214.6,2,   214.2,2,  123.09,2,   32.68,2,    0.00,2,    2.26,2,   0.359,2,   0.198,2,   0.021,2,  2258.9,2,  2357.9,2,   7.7770,2,    13.00,    -999,9,    -999,9,    -999,9,0.2428,2,-999,9,-999,9,-999,    -999,9,    -999,0.869,2,-999,9,-999,9,    -999,9,-999,9, 20080307,     1722, -66.4946,  29.9975,    -999,-999,9,     -999,9,     -999,9,     -999,9,     -999,9,     -999,9,     -999,9,-999,9,     -999,9,     -999,9,     -999,9,    -999,    -999
33RR20080204,       I06S,     104,          3,         10,         10,2,20080307,       1623,   -66.4946,    29.9975,       4276,  1827.6,   0.2053,  34.6775,2,  34.6772,2,    215.2,2,   215.3,2,  124.11,2,   32.83,2,    0.00,2,    2.27,2,   0.338,2,   0.189,2,   0.032,2,  2259.2,2,  2356.5,2,   7.7789,2,    13.00,    -999,9,    -999,1,    -999,9,0.2055,2,-999,9,-999,9,-999,    -999,9,    -999,0.826,2,-999,9,-999,9,   38.73,2,-999,1, 20080307,     1719, -66.4946,  29.9975,    -999,-999,9,     -999,9,     -999,9,     -999,9,     -999,9,     -999,9,     -999,9,-999,9,     -999,9,     -999,9,     -999,9,    -999,    -999
33RR20080204,       I06S,     104,          3,          9,          9,2,20080307,       1623,   -66.4946,    29.9975,       4276,  2029.1,   0.1098,  34.6719,2,  34.6709,2,    220.3,2,   220.7,2,  122.67,2,   32.62,2,    0.00,2,    2.26,2,   0.554,2,   0.302,2,   0.048,2,  2257.3,2,  2355.7,2,   7.7823,3,    13.00,    -999,9,    -999,1,    -999,9,0.1099,2,-999,9,-999,9,-999,    -999,9,    -999,0.904,2,-999,9,-999,9,   40.98,2,-999,1, 20080307,     1714, -66.4946,  29.9975,    -999,-999,9,     -999,9,     -999,9,     -999,9,     -999,9,     -999,9,     -999,9,-999,9,     -999,9,     -999,9,     -999,9,    -999,    -999
33RR20080204,       I06S,     104,          3,          8,          8,2,20080307,       1623,   -66.4946,    29.9975,       4276,  2339.3,   0.0055,  34.6663,2,  34.6651,2,    226.2,2,   226.4,2,  121.65,2,   32.42,2,    0.00,2,    2.24,2,   0.655,2,   0.392,2,   0.070,2,  2255.6,2,  2355.5,2,   7.7847,2,    13.00,    -999,9,    -999,1,    -999,9,0.0062,2,-999,9,-999,9,-999,    -999,9,    -999,1.316,2,-999,9,-999,9,   37.37,2,-999,1, 20080307,     1707, -66.4946,  29.9975,    -999,-999,9,     -999,9,     -999,9,     -999,9,     -999,9,     -999,9,     -999,9,-999,9,     -999,9,     -999,9,     -999,9,    -999,    -999