BOTTLE,20220706CCHSIOAMB
EXPOCODE,SECT_ID,STNNBR,CASTNO,SAMPNO,BTLNBR,BTLNBR_FLAG_W,DATE,TIME,LATITUDE,LONGITUDE,DEPTH,CTDPRS,CTDTMP,CTDSAL,CTDSAL_FLAG_W,SALNTY,SALNTY_FLAG_W,CTDOXY,CTDOXY_FLAG_W,OXYGEN,OXYGEN_FLAG_W,SILCAT,SILCAT_FLAG_W,NITRAT,NITRAT_FLAG_W,NITRIT,NITRIT_FLAG_W,PHSPHT,PHSPHT_FLAG_W,CFC-11,CFC-11_FLAG_W,CFC-12,CFC-12_FLAG_W,CFC113,CFC113_FLAG_W,TCARBN,TCARBN_FLAG_W,ALKALI,ALKALI_FLAG_W,PH_SWS,PH_SWS_FLAG_W,PH_TMP,TRITUM,TRITUM_FLAG_W,HELIUM,HELIUM_FLAG_W,DELHE3,DELHE3_FLAG_W,REFTMP,REFTMP_FLAG_W,DELC13,DELC13_FLAG_W,DELC14,DELC14_FLAG_W,C14ERR,NEON,NEON_FLAG_W,NEONER,CCL4,CCL4_FLAG_W,ALUMIN,ALUMIN_FLAG_W,DELO18,DELO18_FLAG_W,DOC,DOC_FLAG_W,TDN,TDN_FLAG_W,BTL_DATE,BTL_TIME,BTL_LAT,BTL_LON,TRITER,DELSI30,DELSI30_FLAG_W,CDOM380,CDOM380_FLAG_W,CDOM325,CDOM325_FLAG_W,CDOMSL,CDOMSL_FLAG_W,CDOM340,CDOM340_FLAG_W,CDOM443,CDOM443_FLAG_W,CDOMSN,CDOMSN_FLAG_W,BLACKC,BLACKC_FLAG_W,CDOM490,CDOM490_FLAG_W,CDOM412,CDOM412_FLAG_W,CDOM555,CDOM555_FLAG_W,DELHER,HELIER
,,,,,,,,,,,METERS,DBAR,ITS-90,PSS-78,,PSS-78,,UMOL/KG,,UMOL/KG,,UMOL/KG,,UMOL/KG,,UMOL/KG,,UMOL/KG,,PMOL/KG,,PMOL/KG,,PMOL/KG,,UMOL/KG,,UMOL/KG,,,,DEG C,TU,,NMOL/KG,,PERCNT,,DEG C,,/MILLE,,/MILLE,,/MILLE,NMOL/KG,,NMOL/KG,PMOL/KG,,NMOL/L,,/MILLE,,UMOL/KG,,UMOL/KG,,,,,,TU,/MILLE,,1/M,,1/M,,1/NM,,1/M,,1/M,,1/NM,,,,1/M,,1/M,,1/M,,PERCNT,NMOL/KG
33RR20080204,       I06S,      65,          1,          7,          7,2,20080226,       0217,   -59.4996,    29.9987,       5261,  4135.8,  -0.1783,  34.6580,2,  34.6581,2,    236.8,2,   237.5,2,  128.92,2,   32.51,2,    0.00,2,    2.25,2,   0.369,2,   0.207,2,   0.036,2,  2252.3,2,  2355.5,2,   7.7958,2,    13.00,    -999,9,    -999,9,    -999,9,-0.179,2,0.63,2,-159.2,2,2.3,    -999,9,    -999,0.804,2,-999,9,-999,9,   38.24,2,-999,1, 20080226,     0247, -59.5000,  30.0000,    -999,-999,9,   0.0272,2,   0.1007,2,   0.0198,3,   0.0636,2,   0.0081,2,   0.0214,3,-999,9,   0.0012,2,   0.0164,2,  -0.0011,4,    -999,    -999
33RR20080204,       I06S,      65,          1,          6,          6,2,20080226,       0217,   -59.4996,    29.9987,       5261,  4441.4,  -0.2167,  34.6559,2,  34.6566,2,    239.7,2,   240.2,2,  129.50,2,   32.42,2,    0.00,2,    2.25,2,   0.400,2,   0.225,2,   0.042,2,  2253.1,2,  2353.4,2,   7.7979,2,    13.00,    -999,9,    -999,9,    -999,9,-0.2169,2,0.63,2,-162.1,2,2.7,    -999,9,    -999,0.929,2,-999,9,-999,9,    -999,9,-999,9, 20080226,     0241, -59.5000,  30.0000,    -999,-999,1,     -999,9,     -999,9,     -999,9,     -999,9,     -999,9,     -999,9,-999,9,     -999,9,     -999,9,     -999,9,    -999,    -999
33RR20080204,       I06S,      65,          1,          5,          5,2,20080226,       0217,   -59.4996,    29.9987,       5261,  4645.2,  -0.2299,  34.6550,2,  34.6548,2,    241.3,2,   240.7,2,  129.88,2,   32.42,2,    0.00,2,    2.25,2,   0.424,2,   0.227,2,   0.026,2,  2253.3,2,  2353.5,2,   7.7982,2,    13.00,    -999,9,    -999,9,    -999,9,-0.2296,2,0.64,2,-159.6,2,2.6,    -999,9,    -999,0.961,2,-999,9,-999,9,   38.34,2,-999,1, 20080226,     0236, -59.5000,  30.0000,    -999,-999,9,     -999,9,     -999,9,     -999,9,     -999,9,     -999,9,     -999,9,-999,9,     -999,9,     -999,9,     -999,9,    -999,    -999
33RR20080204,       I06S,      65,          1,          4,          4,2,20080226,       0217,   -59.4996,    29.9987,       5261,  4847.3,  -0.2390,  34.6537,2,  34.6538,2,    242.6,2,   242.3,2,  130.84,2,   32.42,2,    0.00,2,    2.25,2,   0.443,2,   0.235,2,   0.036,2,  2253.2,2,  2353.3,2,   7.7967,3,    13.00,    -999,9,    -999,9,    -999,9,-0.2393,2,0.67,2,-163.7,2,2.4,    -999,9,    -999,0.951,2,-999,9,-999,9,    -999,9,-999,9, 20080226,     0231, -59.4999,  30.0000,    -999,-999,9,   0.0289,2,   0.1029,2,   0.0182,3,   0.0652,2,   0.0099,2,   0.0200,3,-999,9,   0.0019,2,   0.0188,2,  -0.0008,4,    -999,    -999
33RR20080204,       I06S,      65,          1,          3,          3,2,20080226,       0217,   -59.4996,    29.9987,       5261,  5053.6,  -0.2454,  34.6523,2,  34.6525,2,    244.0,2,   243.4,2,  131.79,2,   32.42,2,    0.00,2,    2.25,2,   0.451,2,   0.237,2,   0.028,2,  2251.1,2,  2353.2,2,   7.8070,4,    13.00,    -999,9,    -999,9,    -999,9,-0.2459,2,0.67,2,-166.2,2,2.8,    -999,9,    -999,0.882,2,-999,9,-999,9,   38.63,2,-999,1, 20080226,     0226, -59.4998,  29.9995,    -999,-999,1,     -999,9,     -999,9,     -999,9,     -999,9,     -999,9,     -999,9,-999,9,     -999,9,     -999,9,     -999,9,    -999,    -999
33RR20080204,       I06S,      65,          1,          2,          2,2,20080226,       0217,   -59.4996,    29.9987,       5261,  5259.0,  -0.2531,  34.6511,2,  34.6517,2,    245.1,2,   244.0,2,  136.21,2,   32.47,2,    0.00,2,    2.25,2,   0.481,2,   0.246,2,   0.039,2,  2251.9,2,  2354.1,2,   7.7979,3,    13.00,    -999,9,    -999,9,    -999,9,-0.2534,2,0.68,2,-158.3,2,2.4,    -999,9,    -999,0.801,2,-999,9,-999,9,    -999,9,-999,9, 20080226,     0221, -59.4997,  29.9991,    -999,-999,9,   0.0274,2,   0.1012,2,   0.0197,3,   0.0637,2,   0.0083,2,   0.0212,3,-999,9,   0.0013,2,   0.0165,2,  -0.0011,4,    -999,    -999
33RR20080204,       I06S,      65,          1,          1,          1,2,20080226,       0217,   -59.4996,    29.9987,       5261,  5339.4,  -0.2565,  34.6504,2,  34.6513,2,    245.3,2,   244.8,2,  137.37,2,   32.47,2,    0.00,2,    2.25,2,   0.536,2,   0.293,2,   0.331,4,  2252.8,6,  2353.0,2,   7.8001,3,    13.00,    -999,9,    -999,9,    -999,9,-0.2569,2,0.65,2,-169.6,2,2.6,    -999,9,    -999,0.69,2,-999,9,-999,9,   38.63,2,-999,1, 20080226,     0218, -59.4996,  29.9988,    -999,-999,1,   0.0289,2,   0.1040,2,   0.0186,3,   0.0659,2,   0.0096,2,   0.0206,3,-999,9,   0.0017,2,   0.0185,2,  -0.0009,4,    -999,    -999