BOTTLE,20220706CCHSIOAMB
EXPOCODE,SECT_ID,STNNBR,CASTNO,SAMPNO,BTLNBR,BTLNBR_FLAG_W,DATE,TIME,LATITUDE,LONGITUDE,DEPTH,CTDPRS,CTDTMP,CTDSAL,CTDSAL_FLAG_W,SALNTY,SALNTY_FLAG_W,CTDOXY,CTDOXY_FLAG_W,OXYGEN,OXYGEN_FLAG_W,SILCAT,SILCAT_FLAG_W,NITRAT,NITRAT_FLAG_W,NITRIT,NITRIT_FLAG_W,PHSPHT,PHSPHT_FLAG_W,CFC-11,CFC-11_FLAG_W,CFC-12,CFC-12_FLAG_W,CFC113,CFC113_FLAG_W,TCARBN,TCARBN_FLAG_W,ALKALI,ALKALI_FLAG_W,PH_SWS,PH_SWS_FLAG_W,PH_TMP,TRITUM,TRITUM_FLAG_W,HELIUM,HELIUM_FLAG_W,DELHE3,DELHE3_FLAG_W,REFTMP,REFTMP_FLAG_W,DELC13,DELC13_FLAG_W,DELC14,DELC14_FLAG_W,C14ERR,NEON,NEON_FLAG_W,NEONER,CCL4,CCL4_FLAG_W,ALUMIN,ALUMIN_FLAG_W,DELO18,DELO18_FLAG_W,DOC,DOC_FLAG_W,TDN,TDN_FLAG_W,BTL_DATE,BTL_TIME,BTL_LAT,BTL_LON,TRITER,DELSI30,DELSI30_FLAG_W,CDOM380,CDOM380_FLAG_W,CDOM325,CDOM325_FLAG_W,CDOMSL,CDOMSL_FLAG_W,CDOM340,CDOM340_FLAG_W,CDOM443,CDOM443_FLAG_W,CDOMSN,CDOMSN_FLAG_W,BLACKC,BLACKC_FLAG_W,CDOM490,CDOM490_FLAG_W,CDOM412,CDOM412_FLAG_W,CDOM555,CDOM555_FLAG_W,DELHER,HELIER
,,,,,,,,,,,METERS,DBAR,ITS-90,PSS-78,,PSS-78,,UMOL/KG,,UMOL/KG,,UMOL/KG,,UMOL/KG,,UMOL/KG,,UMOL/KG,,PMOL/KG,,PMOL/KG,,PMOL/KG,,UMOL/KG,,UMOL/KG,,,,DEG C,TU,,NMOL/KG,,PERCNT,,DEG C,,/MILLE,,/MILLE,,/MILLE,NMOL/KG,,NMOL/KG,PMOL/KG,,NMOL/L,,/MILLE,,UMOL/KG,,UMOL/KG,,,,,,TU,/MILLE,,1/M,,1/M,,1/NM,,1/M,,1/M,,1/NM,,,,1/M,,1/M,,1/M,,PERCNT,NMOL/KG
33RR20080204,       I06S,      32,          1,          7,          7,2,20080215,       0759,   -43.0039,    30.0078,       5607,  4423.7,   0.8617,  34.7083,2,  34.7073,2,    214.1,2,   213.8,2,  116.34,2,   31.63,2,    0.00,2,    2.18,2,   0.155,2,   0.089,2,   0.000,2,    -999,9,  2361.6,2,     -999,9,     -999,  -0.010,2,   1.876,2,    7.97,2,0.8612,2,-999,9,-999,9,-999,   8.144,2,   0.031,0.498,2,-999,9,-999,9,    -999,9,-999,9, 20080215,     0829, -43.0057,  30.0123,   0.009,-999,9,     -999,9,     -999,9,     -999,9,     -999,9,     -999,9,     -999,9,-999,9,     -999,9,     -999,9,     -999,9,    0.15,   0.007
33RR20080204,       I06S,      32,          1,          6,          6,2,20080215,       0759,   -43.0039,    30.0078,       5607,  4639.1,   0.7034,  34.6957,2,  34.6945,2,    215.3,2,   214.9,2,  122.20,2,   32.08,2,    0.00,2,    2.23,2,   0.190,2,   0.102,2,   0.012,2,    -999,9,  2363.5,2,     -999,9,     -999,  -0.003,2,   1.873,2,    7.96,2,0.7031,2,-999,9,-999,9,-999,   8.152,2,   0.031,0.694,2,-999,9,-999,9,    -999,9,-999,9, 20080215,     0824, -43.0054,  30.0115,   0.009,-999,9,     -999,9,     -999,9,     -999,9,     -999,9,     -999,9,     -999,9,-999,9,     -999,9,     -999,9,     -999,9,    0.15,   0.007
33RR20080204,       I06S,      32,          1,          5,          5,2,20080215,       0759,   -43.0039,    30.0078,       5607,  4841.6,   0.5447,  34.6872,2,  34.6863,2,    219.3,2,   218.8,2,  125.42,2,   32.22,2,    0.00,2,    2.24,2,   0.221,2,   0.119,2,   0.013,2,    -999,9,  2363.3,2,     -999,9,     -999,    -999,9,    -999,9,    -999,9,0.5434,2,-999,9,-999,9,-999,    -999,9,    -999,0.776,2,-999,9,-999,9,    -999,9,-999,9, 20080215,     0819, -43.0052,  30.0109,    -999,-999,9,     -999,9,     -999,9,     -999,9,     -999,9,     -999,9,     -999,9,-999,9,     -999,9,     -999,9,     -999,9,    -999,    -999
33RR20080204,       I06S,      32,          1,          4,          4,2,20080215,       0759,   -43.0039,    30.0078,       5607,  5045.8,   0.3551,  34.6748,2,  34.6735,2,    222.0,2,   222.5,2,  129.46,2,   32.58,2,    0.00,2,    2.26,2,   0.305,2,   0.162,2,   0.017,2,    -999,9,  2359.5,2,     -999,9,     -999,   0.010,2,   1.881,2,    7.28,2,0.3551,2,-999,9,-999,9,-999,   8.217,2,   0.031,0.819,2,-999,9,-999,9,    -999,9,-999,9, 20080215,     0814, -43.0048,  30.0102,   0.009,-999,9,     -999,9,     -999,9,     -999,9,     -999,9,     -999,9,     -999,9,-999,9,     -999,9,     -999,9,     -999,9,    0.15,   0.007
33RR20080204,       I06S,      32,          1,          3,          3,2,20080215,       0759,   -43.0039,    30.0078,       5607,  5252.3,   0.2871,  34.6703,2,  34.6693,2,    224.8,2,   224.7,2,  130.68,2,   32.63,2,    0.00,2,    2.26,2,   0.347,2,   0.181,2,   0.023,2,    -999,9,  2358.8,2,     -999,9,     -999,    -999,9,    -999,9,    -999,9,0.2876,2,-999,9,-999,9,-999,    -999,9,    -999,0.83,2,-999,9,-999,9,    -999,9,-999,9, 20080215,     0810, -43.0046,  30.0094,    -999,-999,9,     -999,9,     -999,9,     -999,9,     -999,9,     -999,9,     -999,9,-999,9,     -999,9,     -999,9,     -999,9,    -999,    -999
33RR20080204,       I06S,      32,          1,          2,          2,2,20080215,       0759,   -43.0039,    30.0078,       5607,  5455.7,   0.2690,  34.6680,2,  34.6665,2,    226.4,2,   226.0,2,  130.89,2,   32.68,2,    0.00,2,    2.27,2,   0.372,2,   0.189,2,   0.026,2,    -999,9,  2357.5,2,     -999,9,     -999,    -999,9,    -999,9,    -999,9,0.269,2,-999,9,-999,9,-999,    -999,9,    -999,0.795,2,-999,9,-999,9,    -999,9,-999,9, 20080215,     0805, -43.0045,  30.0086,    -999,-999,9,     -999,9,     -999,9,     -999,9,     -999,9,     -999,9,     -999,9,-999,9,     -999,9,     -999,9,     -999,9,    -999,    -999
33RR20080204,       I06S,      32,          1,          1,          1,2,20080215,       0759,   -43.0039,    30.0078,       5607,  5670.9,   0.2295,  34.6650,2,  34.6647,2,    228.1,2,   228.7,2,  130.67,2,   32.63,2,    0.00,2,    2.26,2,   0.411,2,   0.225,2,   0.000,2,    -999,9,  2358.2,2,     -999,9,     -999,   0.003,2,   1.879,2,    7.08,2,0.2299,2,-999,9,-999,9,-999,   8.199,2,   0.031,0.765,2,-999,9,-999,9,    -999,9,-999,9, 20080215,     0800, -43.0039,  30.0078,   0.009,-999,9,     -999,9,     -999,9,     -999,9,     -999,9,     -999,9,     -999,9,-999,9,     -999,9,     -999,9,     -999,9,    0.15,   0.007