BOTTLE,20220706CCHSIOAMB
EXPOCODE,SECT_ID,STNNBR,CASTNO,SAMPNO,BTLNBR,BTLNBR_FLAG_W,DATE,TIME,LATITUDE,LONGITUDE,DEPTH,CTDPRS,CTDTMP,CTDSAL,CTDSAL_FLAG_W,SALNTY,SALNTY_FLAG_W,CTDOXY,CTDOXY_FLAG_W,OXYGEN,OXYGEN_FLAG_W,SILCAT,SILCAT_FLAG_W,NITRAT,NITRAT_FLAG_W,NITRIT,NITRIT_FLAG_W,PHSPHT,PHSPHT_FLAG_W,CFC-11,CFC-11_FLAG_W,CFC-12,CFC-12_FLAG_W,CFC113,CFC113_FLAG_W,TCARBN,TCARBN_FLAG_W,ALKALI,ALKALI_FLAG_W,PH_SWS,PH_SWS_FLAG_W,PH_TMP,TRITUM,TRITUM_FLAG_W,HELIUM,HELIUM_FLAG_W,DELHE3,DELHE3_FLAG_W,REFTMP,REFTMP_FLAG_W,DELC13,DELC13_FLAG_W,DELC14,DELC14_FLAG_W,C14ERR,NEON,NEON_FLAG_W,NEONER,CCL4,CCL4_FLAG_W,ALUMIN,ALUMIN_FLAG_W,DELO18,DELO18_FLAG_W,DOC,DOC_FLAG_W,TDN,TDN_FLAG_W,BTL_DATE,BTL_TIME,BTL_LAT,BTL_LON,TRITER,DELSI30,DELSI30_FLAG_W,CDOM380,CDOM380_FLAG_W,CDOM325,CDOM325_FLAG_W,CDOMSL,CDOMSL_FLAG_W,CDOM340,CDOM340_FLAG_W,CDOM443,CDOM443_FLAG_W,CDOMSN,CDOMSN_FLAG_W,BLACKC,BLACKC_FLAG_W,CDOM490,CDOM490_FLAG_W,CDOM412,CDOM412_FLAG_W,CDOM555,CDOM555_FLAG_W,DELHER,HELIER
,,,,,,,,,,,METERS,DBAR,ITS-90,PSS-78,,PSS-78,,UMOL/KG,,UMOL/KG,,UMOL/KG,,UMOL/KG,,UMOL/KG,,UMOL/KG,,PMOL/KG,,PMOL/KG,,PMOL/KG,,UMOL/KG,,UMOL/KG,,,,DEG C,TU,,NMOL/KG,,PERCNT,,DEG C,,/MILLE,,/MILLE,,/MILLE,NMOL/KG,,NMOL/KG,PMOL/KG,,NMOL/L,,/MILLE,,UMOL/KG,,UMOL/KG,,,,,,TU,/MILLE,,1/M,,1/M,,1/NM,,1/M,,1/M,,1/NM,,,,1/M,,1/M,,1/M,,PERCNT,NMOL/KG
33RR20080204,       I06S,      99,          3,         34,         34,2,20080306,       0956,   -68.2242,    30.8847,       3002,     4.6,  -0.9159,  34.0769,2,     -999,5,    337.9,2,   338.1,2,   55.74,2,   27.43,2,    0.14,2,    1.90,2,   6.089,2,   3.242,2,   0.506,2,  2185.3,6,  2309.3,2,   7.8666,2,    13.00,    -999,9,    -999,9,    -999,9,-0.9163,2,-999,9,-999,9,-999,    -999,9,    -999,7.237,2,-999,9,-999,9,   41.76,2,-999,1, 20080306,     1120, -68.2243,  30.8847,    -999,-999,9,   0.0304,2,   0.0987,2,   0.0162,3,   0.0620,2,   0.0122,2,   0.0167,3,-999,9,   0.0042,2,   0.0202,2,   0.0005,3,    -999,    -999
33RR20080204,       I06S,      99,          3,         32,         32,2,20080306,       0956,   -68.2242,    30.8847,       3002,    26.1,  -0.9178,  34.0778,2,  34.0786,2,    337.5,2,   337.6,2,   55.52,2,   27.47,2,    0.14,2,    1.90,2,   6.058,2,   3.226,2,   0.531,2,  2187.1,2,  2309.1,2,   7.8688,4,    13.00,    -999,9,    -999,9,    -999,9,-0.9179,2,-999,9,-999,9,-999,    -999,9,    -999,7.255,2,-999,9,-999,9,   39.71,2,-999,1, 20080306,     1118, -68.2242,  30.8847,    -999,-999,9,   0.0330,2,   0.1048,2,   0.0153,3,   0.0695,2,   0.0147,2,   0.0164,3,-999,9,   0.0065,2,   0.0225,2,   0.0021,2,    -999,    -999
33RR20080204,       I06S,      99,          3,         33,         33,2,20080306,       0956,   -68.2242,    30.8847,       3002,    26.1,  -0.9179,  34.0774,2,  34.0782,2,    337.5,2,   337.7,2,   55.73,2,   27.42,2,    0.14,2,    1.90,2,    -999,9,    -999,9,    -999,9,    -999,9,  2308.9,2,     -999,9,     -999,    -999,9,    -999,9,    -999,9,-999,9,-999,9,-999,9,-999,    -999,9,    -999,-999,9,-999,9,-999,9,    -999,9,-999,9, 20080306,     1118, -68.2242,  30.8847,    -999,-999,9,     -999,9,     -999,9,     -999,9,     -999,9,     -999,9,     -999,9,-999,1,     -999,9,     -999,9,     -999,9,    -999,    -999
33RR20080204,       I06S,      99,          3,         31,         31,2,20080306,       0956,   -68.2242,    30.8847,       3002,    51.0,  -0.9275,  34.0816,2,  34.0827,2,    337.3,2,   337.2,2,   55.72,2,   27.47,2,    0.14,2,    1.90,2,   6.025,2,   3.219,2,   0.540,2,  2186.1,2,  2309.4,2,   7.8662,2,    13.00,    -999,9,    -999,9,    -999,9,-0.928,2,-999,9,-999,9,-999,    -999,9,    -999,7.073,2,-999,9,-999,9,   39.12,2,-999,1, 20080306,     1117, -68.2243,  30.8847,    -999,-999,9,   0.0269,2,   0.0919,2,   0.0196,3,   0.0564,2,   0.0076,2,   0.0195,3,-999,9,   0.0009,2,   0.0148,2,  -0.0012,4,    -999,    -999
33RR20080204,       I06S,      99,          3,         30,         30,2,20080306,       0956,   -68.2242,    30.8847,       3002,    87.2,  -1.6737,  34.3116,2,  34.3153,2,    316.2,2,   309.9,2,   64.13,2,   30.18,2,    0.09,2,    2.10,2,   5.237,2,   2.726,2,   0.474,2,  2214.0,2,  2321.3,2,   7.8191,4,    13.00,    -999,9,    -999,9,    -999,9,-1.674,2,-999,9,-999,9,-999,    -999,9,    -999,5.862,2,-999,9,-999,9,   37.76,2,-999,1, 20080306,     1115, -68.2243,  30.8847,    -999,-999,9,   0.0277,2,   0.0981,2,   0.0181,3,   0.0603,2,   0.0095,2,   0.0195,3,-999,9,   0.0020,2,   0.0178,2,  -0.0005,4,    -999,    -999
33RR20080204,       I06S,      99,          3,         29,         29,2,20080306,       0956,   -68.2242,    30.8847,       3002,   111.8,  -1.7157,  34.3407,2,  34.3392,2,    304.7,2,   307.8,2,   65.32,2,   30.61,2,    0.06,2,    2.11,2,   5.208,2,   2.739,2,   0.475,2,  2218.1,2,  2322.2,2,   7.8120,2,    13.00,    -999,9,    -999,9,    -999,9,-1.7161,2,-999,9,-999,9,-999,    -999,9,    -999,5.767,2,-999,9,-999,9,   38.34,2,-999,1, 20080306,     1113, -68.2243,  30.8848,    -999,-999,9,   0.0286,2,   0.0987,2,   0.0170,3,   0.0613,2,   0.0109,2,   0.0184,3,-999,9,   0.0030,2,   0.0192,2,  -0.0001,4,    -999,    -999
33RR20080204,       I06S,      99,          3,         28,         28,2,20080306,       0956,   -68.2242,    30.8847,       3002,   161.7,  -1.6242,  34.3687,2,  34.3690,2,    301.8,2,   304.5,2,   65.72,2,   30.76,2,    0.02,2,    2.11,2,   5.156,2,   2.698,2,   0.445,2,  2220.3,2,  2324.7,2,   7.8099,3,    13.00,    -999,9,    -999,9,    -999,9,-1.6272,2,-999,9,-999,9,-999,    -999,9,    -999,5.206,2,-999,9,-999,9,    -999,9,-999,1, 20080306,     1111, -68.2243,  30.8846,    -999,-999,9,   0.0261,2,   0.0943,2,   0.0193,3,   0.0593,2,   0.0083,2,   0.0208,3,-999,9,   0.0015,2,   0.0158,2,  -0.0007,4,    -999,    -999
33RR20080204,       I06S,      99,          3,         27,         27,4,20080306,       0956,   -68.2242,    30.8847,       3002,   211.5,  -1.2864,  34.4122,2,  34.3394,4,    293.3,2,   305.9,4,   65.51,4,   30.60,4,    0.07,4,    2.11,4,    -999,9,    -999,9,    -999,9,    -999,9,    -999,9,     -999,9,     -999,    -999,9,    -999,9,    -999,9,-999,9,-999,9,-999,9,-999,    -999,9,    -999,-999,9,-999,9,-999,9,    -999,9,-999,9, 20080306,     1109, -68.2242,  30.8848,    -999,-999,9,     -999,9,     -999,9,     -999,9,     -999,9,     -999,9,     -999,9,-999,1,     -999,9,     -999,9,     -999,9,    -999,    -999
33RR20080204,       I06S,      99,          3,         26,         26,2,20080306,       0956,   -68.2242,    30.8847,       3002,   212.9,  -1.2910,  34.4117,2,  34.4117,2,    293.3,2,   291.9,2,   68.91,2,   30.90,2,    0.01,2,    2.13,2,   4.691,2,   2.458,2,   0.424,2,  2225.0,2,  2327.4,2,   7.8047,2,    13.00,    -999,9,    -999,9,    -999,9,-1.2884,2,-999,9,-999,9,-999,    -999,9,    -999,4.512,2,-999,9,-999,9,   38.44,2,-999,1, 20080306,     1109, -68.2242,  30.8847,    -999,-999,9,   0.0252,2,   0.0936,2,   0.0191,3,   0.0582,2,   0.0084,2,   0.0211,3,-999,9,   0.0016,2,   0.0158,2,  -0.0006,4,    -999,    -999
33RR20080204,       I06S,      99,          3,         25,         25,2,20080306,       0956,   -68.2242,    30.8847,       3002,   272.2,  -0.3371,  34.5187,2,  34.5150,2,    274.1,2,   257.0,2,   77.16,2,   31.50,2,    0.01,2,    2.18,2,   3.419,2,   1.759,2,   0.302,2,  2236.2,2,  2335.8,2,   7.7883,2,    13.00,    -999,9,    -999,9,    -999,9,-0.3399,2,-999,9,-999,9,-999,    -999,9,    -999,3.467,2,-999,9,-999,9,   40.10,2,-999,1, 20080306,     1107, -68.2242,  30.8846,    -999,-999,9,   0.0294,2,   0.1039,2,   0.0177,3,   0.0655,2,   0.0106,2,   0.0197,3,-999,9,   0.0024,2,   0.0195,2,  -0.0003,4,    -999,    -999
33RR20080204,       I06S,      99,          3,         24,         24,2,20080306,       0956,   -68.2242,    30.8847,       3002,   325.5,   0.4564,  34.6101,2,  34.6089,2,    242.2,2,   225.5,2,   85.43,2,   31.85,2,    0.01,2,    2.20,2,   2.058,2,   1.066,2,   0.158,2,  2246.1,2,  2342.6,2,   7.7793,2,    13.00,    -999,9,    -999,9,    -999,9,0.4351,2,-999,9,-999,9,-999,    -999,9,    -999,2.316,2,-999,9,-999,9,    -999,9,-999,9, 20080306,     1104, -68.2243,  30.8847,    -999,-999,9,     -999,9,     -999,9,     -999,9,     -999,9,     -999,9,     -999,9,-999,9,     -999,9,     -999,9,     -999,9,    -999,    -999
33RR20080204,       I06S,      99,          3,         23,         23,2,20080306,       0956,   -68.2242,    30.8847,       3002,   376.4,   0.6489,  34.6376,2,  34.6382,2,    220.9,2,   218.5,2,   88.26,2,   31.74,2,    0.01,2,    2.19,2,   1.684,2,   0.855,2,   0.152,2,  2249.8,2,  2343.5,2,   7.7795,2,    13.00,    -999,9,    -999,9,    -999,9,0.6484,2,-999,9,-999,9,-999,    -999,9,    -999,1.892,2,-999,9,-999,9,   36.68,2,-999,1, 20080306,     1102, -68.2242,  30.8847,    -999,-999,9,   0.0313,2,   0.1091,2,   0.0192,3,   0.0703,2,   0.0099,2,   0.0205,3,-999,9,   0.0024,2,   0.0185,2,  -0.0003,4,    -999,    -999
33RR20080204,       I06S,      99,          3,         22,         22,2,20080306,       0956,   -68.2242,    30.8847,       3002,   426.2,   0.6942,  34.6497,2,  34.6507,2,    216.4,2,   216.9,2,   89.87,2,   31.59,2,    0.01,2,    2.19,2,   1.517,2,   0.790,2,   0.125,2,  2249.2,2,  2345.2,2,   7.7820,4,    13.00,    -999,9,    -999,9,    -999,9,0.6926,2,-999,9,-999,9,-999,    -999,9,    -999,1.74,2,-999,9,-999,9,    -999,9,-999,9, 20080306,     1100, -68.2242,  30.8847,    -999,-999,9,     -999,9,     -999,9,     -999,9,     -999,9,     -999,9,     -999,9,-999,9,     -999,9,     -999,9,     -999,9,    -999,    -999
33RR20080204,       I06S,      99,          3,         21,         21,2,20080306,       0956,   -68.2242,    30.8847,       3002,   477.0,   0.6566,  34.6554,2,  34.6554,2,    214.9,2,   217.8,2,   91.49,2,   31.58,2,    0.00,2,    2.19,2,   1.450,2,   0.745,2,   0.113,2,  2250.5,2,  2347.4,2,   7.7840,2,    13.00,    -999,9,    -999,9,    -999,9,0.6517,2,-999,9,-999,9,-999,    -999,9,    -999,1.693,2,-999,9,-999,9,   39.22,2,-999,1, 20080306,     1059, -68.2242,  30.8848,    -999,-999,9,   0.0354,2,   0.1169,2,   0.0179,3,   0.0756,2,   0.0122,2,   0.0187,3,-999,9,   0.0032,2,   0.0219,2,  -0.0001,4,    -999,    -999
33RR20080204,       I06S,      99,          3,         20,         20,2,20080306,       0956,   -68.2242,    30.8847,       3002,   527.5,   0.5960,  34.6562,2,  34.6574,2,    220.6,2,   218.8,2,   92.70,2,   31.53,2,    0.00,2,    2.19,2,   1.416,2,   0.742,2,   0.121,2,  2248.7,2,  2348.5,2,   7.7854,2,    13.00,    -999,9,    -999,9,    -999,9,0.5952,2,-999,9,-999,9,-999,    -999,9,    -999,1.623,2,-999,9,-999,9,    -999,9,-999,9, 20080306,     1057, -68.2243,  30.8846,    -999,-999,9,     -999,9,     -999,9,     -999,9,     -999,9,     -999,9,     -999,9,-999,9,     -999,9,     -999,9,     -999,9,    -999,    -999
33RR20080204,       I06S,      99,          3,         19,         19,2,20080306,       0956,   -68.2242,    30.8847,       3002,   647.4,   0.5471,  34.6650,2,  34.6648,2,    218.0,2,   218.4,2,   97.14,2,   31.57,2,    0.00,2,    2.19,2,   1.251,2,   0.653,2,   0.086,2,  2250.1,2,  2349.6,2,   7.7851,2,    13.00,    -999,9,    -999,9,    -999,9,0.5494,2,-999,9,-999,9,-999,    -999,9,    -999,1.538,2,-999,9,-999,9,   40.68,2,-999,1, 20080306,     1054, -68.2242,  30.8847,    -999,-999,9,   0.0327,2,   0.1112,2,   0.0186,3,   0.0715,2,   0.0108,2,   0.0196,3,-999,9,   0.0025,2,   0.0198,2,  -0.0004,4,    -999,    -999
33RR20080204,       I06S,      99,          3,         18,         18,2,20080306,       0956,   -68.2242,    30.8847,       3002,   748.5,   0.5240,  34.6684,2,  34.6688,2,    217.8,2,   218.4,2,   99.78,2,   31.57,2,    0.00,2,    2.19,2,   1.184,2,   0.616,2,   0.095,2,  2251.9,2,  2350.7,2,   7.7873,2,    13.00,    -999,9,    -999,9,    -999,9,0.5231,2,-999,9,-999,9,-999,    -999,9,    -999,1.461,2,-999,9,-999,9,    -999,9,-999,9, 20080306,     1051, -68.2242,  30.8846,    -999,-999,9,     -999,9,     -999,9,     -999,9,     -999,9,     -999,9,     -999,9,-999,9,     -999,9,     -999,9,     -999,9,    -999,    -999
33RR20080204,       I06S,      99,          3,         17,         17,2,20080306,       0956,   -68.2242,    30.8847,       3002,   853.6,   0.5864,  34.6821,2,  34.6817,2,    213.4,2,   213.2,2,  104.66,2,   31.76,2,    0.00,2,    2.19,2,   0.837,2,   0.447,2,   0.079,2,  2254.4,2,  2353.0,2,   7.7852,2,    13.00,    -999,9,    -999,9,    -999,9,0.5864,2,-999,9,-999,9,-999,    -999,9,    -999,1.148,2,-999,9,-999,9,   39.41,2,-999,1, 20080306,     1048, -68.2242,  30.8847,    -999,-999,9,   0.0329,2,   0.1126,2,   0.0182,3,   0.0727,2,   0.0113,2,   0.0196,3,-999,9,   0.0028,2,   0.0205,2,  -0.0002,4,    -999,    -999
33RR20080204,       I06S,      99,          3,         15,         15,2,20080306,       0956,   -68.2242,    30.8847,       3002,   954.7,   0.5153,  34.6801,2,  34.6795,2,    213.4,2,   213.9,2,  107.10,2,   31.91,2,    0.00,2,    2.20,2,   0.831,2,   0.432,2,   0.064,2,  2254.8,2,  2353.6,2,   7.7846,2,    13.00,    -999,9,    -999,9,    -999,9,0.5154,2,-999,9,-999,9,-999,    -999,9,    -999,1.157,2,-999,9,-999,9,    -999,9,-999,9, 20080306,     1046, -68.2243,  30.8848,    -999,-999,9,     -999,9,     -999,9,     -999,9,     -999,9,     -999,9,     -999,9,-999,9,     -999,9,     -999,9,     -999,9,    -999,    -999
33RR20080204,       I06S,      99,          3,         14,         14,2,20080306,       0956,   -68.2242,    30.8847,       3002,  1054.7,   0.5010,  34.6824,2,  34.6827,2,    213.4,2,   213.1,2,  110.14,2,   32.06,2,    0.00,2,    2.22,2,   0.700,2,   0.373,2,   0.055,2,  2256.0,2,  2355.5,2,   7.7830,2,    13.00,    -999,9,    -999,9,    -999,9,0.5005,2,-999,9,-999,9,-999,    -999,9,    -999,1.075,2,-999,9,-999,9,   37.27,2,-999,1, 20080306,     1043, -68.2243,  30.8847,    -999,-999,9,   0.0347,2,   0.1149,2,   0.0175,3,   0.0747,2,   0.0126,2,   0.0185,3,-999,9,   0.0035,2,   0.0222,2,   0.0001,4,    -999,    -999
33RR20080204,       I06S,      99,          3,         13,         13,2,20080306,       0956,   -68.2242,    30.8847,       3002,  1156.3,   0.3646,  34.6721,2,  34.6717,2,    218.2,2,   217.7,2,  109.94,2,   32.00,2,    0.00,2,    2.22,2,   0.880,2,   0.471,2,   0.067,2,  2255.9,2,  2354.7,2,   7.7841,2,    13.00,    -999,9,    -999,9,    -999,9,0.3655,2,-999,9,-999,9,-999,    -999,9,    -999,1.164,2,-999,9,-999,9,    -999,9,-999,9, 20080306,     1041, -68.2243,  30.8847,    -999,-999,9,     -999,9,     -999,9,     -999,9,     -999,9,     -999,9,     -999,9,-999,9,     -999,9,     -999,9,     -999,9,    -999,    -999
33RR20080204,       I06S,      99,          3,         12,         12,2,20080306,       0956,   -68.2242,    30.8847,       3002,  1257.5,   0.3660,  34.6770,2,  34.6827,4,    216.4,2,   216.4,2,  113.81,2,   32.19,2,    0.00,2,    2.23,2,   0.699,2,   0.380,2,   0.046,2,  2256.6,2,  2355.9,2,   7.7825,4,    13.00,    -999,9,    -999,9,    -999,9,0.3655,2,-999,9,-999,9,-999,    -999,9,    -999,1.049,2,-999,9,-999,9,   38.93,2,-999,1, 20080306,     1038, -68.2243,  30.8847,    -999,-999,9,   0.0349,2,   0.1158,2,   0.0175,3,   0.0753,2,   0.0128,2,   0.0186,3,-999,9,   0.0035,2,   0.0225,2,   0.0001,4,    -999,    -999
33RR20080204,       I06S,      99,          3,         11,         11,2,20080306,       0956,   -68.2242,    30.8847,       3002,  1359.8,   0.3112,  34.6743,2,  34.6739,2,    216.5,2,   216.7,2,  114.62,2,   32.19,2,    0.00,2,    2.23,2,   0.715,2,   0.384,2,   0.058,2,  2256.4,2,  2356.1,2,   7.7812,2,    13.00,    -999,9,    -999,9,    -999,9,0.311,2,-999,9,-999,9,-999,    -999,9,    -999,1.046,2,-999,9,-999,9,    -999,9,-999,9, 20080306,     1035, -68.2243,  30.8848,    -999,-999,9,     -999,9,     -999,9,     -999,9,     -999,9,     -999,9,     -999,9,-999,9,     -999,9,     -999,9,     -999,9,    -999,    -999
33RR20080204,       I06S,      99,          3,         10,         10,2,20080306,       0956,   -68.2242,    30.8847,       3002,  1460.5,   0.2749,  34.6739,2,  34.6735,2,    217.4,2,   217.2,2,  116.65,2,   32.29,2,    0.00,2,    2.24,2,   0.649,2,   0.360,2,   0.049,2,  2257.2,2,  2355.4,2,   7.7806,2,    13.00,    -999,9,    -999,9,    -999,9,0.2747,2,-999,9,-999,9,-999,    -999,9,    -999,0.999,2,-999,9,-999,9,   38.34,2,-999,1, 20080306,     1033, -68.2243,  30.8847,    -999,-999,9,   0.0375,2,   0.1187,2,   0.0191,3,   0.0757,2,   0.0107,2,   0.0190,3,-999,9,   0.0020,2,   0.0205,2,  -0.0008,4,    -999,    -999
33RR20080204,       I06S,      99,          3,          9,          9,2,20080306,       0956,   -68.2242,    30.8847,       3002,  1564.6,   0.2199,  34.6713,2,  34.6711,2,    218.7,2,   218.8,2,  117.67,2,   32.33,2,    0.00,2,    2.24,2,   0.675,2,   0.382,2,   0.039,2,  2256.8,2,  2355.1,2,   7.7825,2,    13.00,    -999,9,    -999,9,    -999,9,0.2205,2,-999,9,-999,9,-999,    -999,9,    -999,0.993,2,-999,9,-999,9,    -999,9,-999,9, 20080306,     1030, -68.2243,  30.8848,    -999,-999,9,     -999,9,     -999,9,     -999,9,     -999,9,     -999,9,     -999,9,-999,9,     -999,9,     -999,9,     -999,9,    -999,    -999
33RR20080204,       I06S,      99,          3,          8,          8,2,20080306,       0956,   -68.2242,    30.8847,       3002,  1665.1,   0.1664,  34.6687,2,  34.6694,2,    221.2,2,   221.0,2,  117.87,2,   32.32,2,    0.00,2,    2.23,2,   0.723,2,   0.402,2,   0.042,2,  2257.1,2,  2355.2,2,   7.7812,2,    13.00,    -999,9,    -999,9,    -999,9,0.1664,2,-999,9,-999,9,-999,    -999,9,    -999,0.965,2,-999,9,-999,9,   39.32,2,-999,1, 20080306,     1027, -68.2242,  30.8848,    -999,-999,9,   0.0310,2,   0.1070,2,   0.0187,3,   0.0687,2,   0.0100,2,   0.0199,3,-999,9,   0.0022,2,   0.0188,2,  -0.0005,4,    -999,    -999
33RR20080204,       I06S,      99,          3,          7,          7,2,20080306,       0956,   -68.2242,    30.8847,       3002,  1766.6,   0.1430,  34.6689,2,  34.6684,2,    221.3,2,   221.4,2,  119.09,2,   32.37,2,    0.00,2,    2.24,2,   0.684,2,   0.376,2,   0.053,2,  2256.5,2,  2354.4,2,   7.7829,2,    13.00,    -999,9,    -999,9,    -999,9,0.1428,2,-999,9,-999,9,-999,    -999,9,    -999,1.022,2,-999,9,-999,9,    -999,9,-999,9, 20080306,     1025, -68.2242,  30.8846,    -999,-999,9,     -999,9,     -999,9,     -999,9,     -999,9,     -999,9,     -999,9,-999,9,     -999,9,     -999,9,     -999,9,    -999,    -999
33RR20080204,       I06S,      99,          3,          6,          6,2,20080306,       0956,   -68.2242,    30.8847,       3002,  1866.6,   0.1119,  34.6692,2,  34.6694,2,    221.9,2,   221.7,2,  121.13,2,   32.42,2,    0.00,2,    2.25,2,   0.641,2,   0.351,2,   0.047,2,  2256.1,2,  2355.9,2,   7.7826,4,    13.00,    -999,9,    -999,9,    -999,9,0.1118,2,-999,9,-999,9,-999,    -999,9,    -999,1.076,2,-999,9,-999,9,   40.78,2,-999,1, 20080306,     1022, -68.2242,  30.8846,    -999,-999,9,   0.0333,2,   0.1105,2,   0.0175,3,   0.0714,2,   0.0120,2,   0.0186,3,-999,9,   0.0032,2,   0.0214,2,   0.0000,4,    -999,    -999
33RR20080204,       I06S,      99,          3,          5,          5,2,20080306,       0956,   -68.2242,    30.8847,       3002,  2073.7,   0.0433,  34.6660,2,  34.6670,2,    225.2,2,   225.0,2,  120.72,2,   32.36,2,    0.00,2,    2.25,2,   0.738,2,   0.397,2,   0.058,2,  2255.4,2,  2354.6,2,   7.7852,2,    13.00,    -999,9,    -999,9,    -999,9,0.0428,2,-999,9,-999,9,-999,    -999,9,    -999,1.239,2,-999,9,-999,9,   37.95,2,-999,1, 20080306,     1018, -68.2243,  30.8847,    -999,-999,9,   0.0341,2,   0.1109,2,   0.0172,3,   0.0720,2,   0.0126,2,   0.0181,3,-999,9,   0.0033,2,   0.0220,2,   0.0001,4,    -999,    -999