BOTTLE,20220706CCHSIOAMB
EXPOCODE,SECT_ID,STNNBR,CASTNO,SAMPNO,BTLNBR,BTLNBR_FLAG_W,DATE,TIME,LATITUDE,LONGITUDE,DEPTH,CTDPRS,CTDTMP,CTDSAL,CTDSAL_FLAG_W,SALNTY,SALNTY_FLAG_W,CTDOXY,CTDOXY_FLAG_W,OXYGEN,OXYGEN_FLAG_W,SILCAT,SILCAT_FLAG_W,NITRAT,NITRAT_FLAG_W,NITRIT,NITRIT_FLAG_W,PHSPHT,PHSPHT_FLAG_W,CFC-11,CFC-11_FLAG_W,CFC-12,CFC-12_FLAG_W,CFC113,CFC113_FLAG_W,TCARBN,TCARBN_FLAG_W,ALKALI,ALKALI_FLAG_W,PH_SWS,PH_SWS_FLAG_W,PH_TMP,TRITUM,TRITUM_FLAG_W,HELIUM,HELIUM_FLAG_W,DELHE3,DELHE3_FLAG_W,REFTMP,REFTMP_FLAG_W,DELC13,DELC13_FLAG_W,DELC14,DELC14_FLAG_W,C14ERR,NEON,NEON_FLAG_W,NEONER,CCL4,CCL4_FLAG_W,ALUMIN,ALUMIN_FLAG_W,DELO18,DELO18_FLAG_W,DOC,DOC_FLAG_W,TDN,TDN_FLAG_W,BTL_DATE,BTL_TIME,BTL_LAT,BTL_LON,TRITER,DELSI30,DELSI30_FLAG_W,CDOM380,CDOM380_FLAG_W,CDOM325,CDOM325_FLAG_W,CDOMSL,CDOMSL_FLAG_W,CDOM340,CDOM340_FLAG_W,CDOM443,CDOM443_FLAG_W,CDOMSN,CDOMSN_FLAG_W,BLACKC,BLACKC_FLAG_W,CDOM490,CDOM490_FLAG_W,CDOM412,CDOM412_FLAG_W,CDOM555,CDOM555_FLAG_W,DELHER,HELIER
,,,,,,,,,,,METERS,DBAR,ITS-90,PSS-78,,PSS-78,,UMOL/KG,,UMOL/KG,,UMOL/KG,,UMOL/KG,,UMOL/KG,,UMOL/KG,,PMOL/KG,,PMOL/KG,,PMOL/KG,,UMOL/KG,,UMOL/KG,,,,DEG C,TU,,NMOL/KG,,PERCNT,,DEG C,,/MILLE,,/MILLE,,/MILLE,NMOL/KG,,NMOL/KG,PMOL/KG,,NMOL/L,,/MILLE,,UMOL/KG,,UMOL/KG,,,,,,TU,/MILLE,,1/M,,1/M,,1/NM,,1/M,,1/M,,1/NM,,,,1/M,,1/M,,1/M,,PERCNT,NMOL/KG
33RR20080204,       I06S,      36,          1,          7,          7,2,20080216,       1415,   -44.9984,    29.9993,       5411,  3916.7,   0.9413,  34.7178,2,  34.7176,2,    213.8,2,   213.6,2,  112.34,2,   31.30,2,    0.00,2,    2.17,2,   0.140,2,   0.087,2,   0.011,2,    -999,9,  2361.3,2,     -999,9,     -999,   0.000,2,   1.872,2,    8.17,2,0.9408,2,-999,9,-999,9,-999,   8.115,2,   0.031,0.646,2,-999,9,-999,9,    -999,9,-999,9, 20080216,     1452, -44.9984,  29.9993,   0.009,-999,9,     -999,9,     -999,9,     -999,9,     -999,9,     -999,9,     -999,9,-999,9,     -999,9,     -999,9,     -999,9,    0.15,   0.007
33RR20080204,       I06S,      36,          1,          6,          6,2,20080216,       1415,   -44.9984,    29.9993,       5411,  4226.9,   0.7248,  34.7004,2,  34.7013,2,    214.5,2,   214.7,2,  120.31,2,   32.02,2,    0.00,2,    2.21,2,   0.171,2,   0.095,2,   0.018,2,    -999,9,    -999,9,     -999,9,     -999,    -999,9,   1.880,2,    8.24,2,0.7229,2,-999,9,-999,9,-999,   8.159,2,   0.031,0.754,2,-999,9,-999,9,    -999,9,-999,9, 20080216,     1443, -44.9984,  29.9993,    -999,-999,9,     -999,9,     -999,9,     -999,9,     -999,9,     -999,9,     -999,9,-999,9,     -999,9,     -999,9,     -999,9,    0.15,   0.007
33RR20080204,       I06S,      36,          1,          5,          5,2,20080216,       1415,   -44.9984,    29.9993,       5411,  4535.0,   0.5275,  34.6851,2,  34.6852,2,    216.1,2,   216.5,2,  127.34,2,   32.54,2,    0.00,2,    2.25,2,   0.286,2,   0.156,2,   0.021,2,    -999,9,  2361.1,2,     -999,9,     -999,  -0.004,2,   1.893,2,    8.04,2,0.5273,2,-999,9,-999,9,-999,   8.132,2,   0.031,1.013,2,-999,9,-999,9,    -999,9,-999,9, 20080216,     1437, -44.9984,  29.9993,   0.009,-999,9,     -999,9,     -999,9,     -999,9,     -999,9,     -999,9,     -999,9,-999,9,     -999,9,     -999,9,     -999,9,    0.15,   0.007
33RR20080204,       I06S,      36,          1,          4,          4,2,20080216,       1415,   -44.9984,    29.9993,       5411,  4743.1,   0.4014,  34.6789,2,  34.6780,2,    219.9,2,   220.2,2,  129.24,2,   32.64,2,    0.00,2,    2.25,2,   0.280,2,   0.157,2,   0.024,2,    -999,9,  2361.4,2,     -999,9,     -999,    -999,9,    -999,9,    -999,9,0.4008,2,-999,9,-999,9,-999,    -999,9,    -999,1.206,2,-999,9,-999,9,    -999,9,-999,9, 20080216,     1432, -44.9983,  29.9993,    -999,-999,9,     -999,9,     -999,9,     -999,9,     -999,9,     -999,9,     -999,9,-999,9,     -999,9,     -999,9,     -999,9,    -999,    -999
33RR20080204,       I06S,      36,          1,          3,          3,2,20080216,       1415,   -44.9984,    29.9993,       5411,  4948.2,   0.3200,  34.6739,2,  34.6733,2,    222.9,2,   223.1,2,  129.82,2,   32.64,2,    0.00,2,    2.26,2,   0.311,2,   0.169,2,   0.031,2,    -999,9,  2359.8,2,     -999,9,     -999,  -0.001,2,   1.897,2,    7.40,2,0.3204,2,-999,9,-999,9,-999,   8.184,2,   0.031,1.51,2,-999,9,-999,9,    -999,9,-999,9, 20080216,     1428, -44.9983,  29.9993,   0.009,-999,9,     -999,9,     -999,9,     -999,9,     -999,9,     -999,9,     -999,9,-999,9,     -999,9,     -999,9,     -999,9,    0.15,   0.007
33RR20080204,       I06S,      36,          1,          2,          2,2,20080216,       1415,   -44.9984,    29.9993,       5411,  5361.6,   0.2244,  34.6666,2,  34.6662,2,    227.8,2,   227.3,2,  130.57,2,   32.64,2,    0.00,2,    2.26,2,   0.399,2,   0.210,2,   0.045,2,    -999,9,  2357.0,2,     -999,9,     -999,    -999,9,    -999,9,    -999,9,0.2242,2,-999,9,-999,9,-999,    -999,9,    -999,1.711,2,-999,9,-999,9,    -999,9,-999,9, 20080216,     1419, -44.9984,  29.9993,    -999,-999,9,     -999,9,     -999,9,     -999,9,     -999,9,     -999,9,     -999,9,-999,9,     -999,9,     -999,9,     -999,9,    -999,    -999
33RR20080204,       I06S,      36,          1,          1,          1,2,20080216,       1415,   -44.9984,    29.9993,       5411,  5491.9,   0.2307,  34.6662,2,  34.6662,2,    227.3,2,   227.5,2,  130.74,2,   32.75,2,    0.00,2,    2.26,2,   0.405,2,   0.214,2,   0.068,2,    -999,9,  2359.1,2,     -999,9,     -999,    -999,9,   1.870,2,    6.71,2,0.2314,2,-999,9,-999,9,-999,   8.188,2,   0.031,1.68,2,-999,9,-999,9,    -999,9,-999,9, 20080216,     1415, -44.9984,  29.9993,    -999,-999,9,     -999,9,     -999,9,     -999,9,     -999,9,     -999,9,     -999,9,-999,9,     -999,9,     -999,9,     -999,9,    0.15,   0.007