BOTTLE,20220706CCHSIOAMB
EXPOCODE,SECT_ID,STNNBR,CASTNO,SAMPNO,BTLNBR,BTLNBR_FLAG_W,DATE,TIME,LATITUDE,LONGITUDE,DEPTH,CTDPRS,CTDTMP,CTDSAL,CTDSAL_FLAG_W,SALNTY,SALNTY_FLAG_W,CTDOXY,CTDOXY_FLAG_W,OXYGEN,OXYGEN_FLAG_W,SILCAT,SILCAT_FLAG_W,NITRAT,NITRAT_FLAG_W,NITRIT,NITRIT_FLAG_W,PHSPHT,PHSPHT_FLAG_W,CFC-11,CFC-11_FLAG_W,CFC-12,CFC-12_FLAG_W,CFC113,CFC113_FLAG_W,TCARBN,TCARBN_FLAG_W,ALKALI,ALKALI_FLAG_W,PH_SWS,PH_SWS_FLAG_W,PH_TMP,TRITUM,TRITUM_FLAG_W,HELIUM,HELIUM_FLAG_W,DELHE3,DELHE3_FLAG_W,REFTMP,REFTMP_FLAG_W,DELC13,DELC13_FLAG_W,DELC14,DELC14_FLAG_W,C14ERR,NEON,NEON_FLAG_W,NEONER,CCL4,CCL4_FLAG_W,ALUMIN,ALUMIN_FLAG_W,DELO18,DELO18_FLAG_W,DOC,DOC_FLAG_W,TDN,TDN_FLAG_W,BTL_DATE,BTL_TIME,BTL_LAT,BTL_LON,TRITER,DELSI30,DELSI30_FLAG_W,CDOM380,CDOM380_FLAG_W,CDOM325,CDOM325_FLAG_W,CDOMSL,CDOMSL_FLAG_W,CDOM340,CDOM340_FLAG_W,CDOM443,CDOM443_FLAG_W,CDOMSN,CDOMSN_FLAG_W,BLACKC,BLACKC_FLAG_W,CDOM490,CDOM490_FLAG_W,CDOM412,CDOM412_FLAG_W,CDOM555,CDOM555_FLAG_W,DELHER,HELIER
,,,,,,,,,,,METERS,DBAR,ITS-90,PSS-78,,PSS-78,,UMOL/KG,,UMOL/KG,,UMOL/KG,,UMOL/KG,,UMOL/KG,,UMOL/KG,,PMOL/KG,,PMOL/KG,,PMOL/KG,,UMOL/KG,,UMOL/KG,,,,DEG C,TU,,NMOL/KG,,PERCNT,,DEG C,,/MILLE,,/MILLE,,/MILLE,NMOL/KG,,NMOL/KG,PMOL/KG,,NMOL/L,,/MILLE,,UMOL/KG,,UMOL/KG,,,,,,TU,/MILLE,,1/M,,1/M,,1/NM,,1/M,,1/M,,1/NM,,,,1/M,,1/M,,1/M,,PERCNT,NMOL/KG
33RR20080204,       I06S,      21,          3,          7,          7,2,20080211,       1334,   -37.4915,    30.0153,       4493,  2998.6,   2.3274,  34.8195,2,  34.8200,2,    217.5,2,   217.6,2,   64.26,2,   26.60,2,    0.00,2,    1.81,2,   0.014,2,   0.018,2,  -0.017,2,  2218.9,2,  2345.1,2,     -999,5,     -999,    -999,9,    -999,9,    -999,9,2.3273,2,-999,9,-999,9,-999,    -999,9,    -999,0.34,2,-999,9,-999,9,   37.76,2,-999,1, 20080211,     1411, -37.4915,  30.0157,    -999,-999,9,   0.0277,2,   0.1055,2,   0.0227,2,   0.0678,2,   0.0061,2,   0.0246,2,-999,1,  -0.0007,4,   0.0141,2,  -0.0023,4,    -999,    -999
33RR20080204,       I06S,      21,          3,          6,          6,2,20080211,       1334,   -37.4915,    30.0153,       4493,  3305.3,   2.1422,  34.8135,2,  34.8152,2,    219.0,2,   219.6,2,   69.52,2,   26.85,2,    0.00,2,    1.83,2,   0.019,2,   0.011,2,  -0.018,2,  2222.8,2,  2346.7,2,   7.7500,2,    20.00,    -999,9,    -999,9,    -999,9,2.1421,2,-999,9,-999,9,-999,    -999,9,    -999,0.449,2,-999,9,-999,9,    -999,9,-999,1, 20080211,     1404, -37.4915,  30.0156,    -999,-999,9,   0.0296,2,   0.1108,2,   0.0222,2,   0.0732,2,   0.0071,2,   0.0238,2,-999,9,  -0.0002,4,   0.0155,2,  -0.0021,4,    -999,    -999
33RR20080204,       I06S,      21,          3,          5,          5,2,20080211,       1334,   -37.4915,    30.0153,       4493,  3613.0,   1.8326,  34.7895,2,  34.7902,2,    217.6,2,   217.0,2,   81.27,2,   28.01,2,    0.00,2,    1.92,2,   0.028,2,   0.019,2,  -0.019,2,  2231.4,2,  2352.4,2,   7.7380,2,    20.00,    -999,9,    -999,9,    -999,9,1.833,2,-999,9,-999,9,-999,    -999,9,    -999,0.619,2,-999,9,-999,9,    -999,9,-999,9, 20080211,     1358, -37.4915,  30.0156,    -999,-999,1,     -999,9,     -999,9,     -999,9,     -999,9,     -999,9,     -999,9,-999,9,     -999,9,     -999,9,     -999,9,    -999,    -999
33RR20080204,       I06S,      21,          3,          4,          4,2,20080211,       1334,   -37.4915,    30.0153,       4493,  3921.7,   1.4994,  34.7636,2,  34.7638,2,    216.7,2,   216.5,2,   93.04,2,   29.23,2,    0.00,2,    2.01,2,   0.045,2,   0.027,2,  -0.018,2,  2241.6,2,  2358.5,2,   7.7280,2,    20.00,    -999,9,    -999,9,    -999,9,1.4993,2,-999,9,-999,9,-999,    -999,9,    -999,0.803,2,-999,9,-999,9,   39.41,2,-999,1, 20080211,     1351, -37.4915,  30.0155,    -999,-999,1,   0.0292,2,   0.1094,2,   0.0228,2,   0.0720,2,   0.0064,2,   0.0242,2,-999,9,  -0.0004,4,   0.0147,2,  -0.0022,4,    -999,    -999
33RR20080204,       I06S,      21,          3,          3,          3,2,20080211,       1334,   -37.4915,    30.0153,       4493,  4227.0,   1.2741,  34.7461,2,  34.7457,2,    216.9,2,   216.8,2,  101.15,2,   29.99,2,    0.00,2,    2.06,2,   0.057,2,   0.037,2,  -0.018,2,  2247.6,2,  2360.5,2,   7.7210,2,    20.00,    -999,9,    -999,9,    -999,9,1.2742,2,-999,9,-999,9,-999,    -999,9,    -999,0.961,2,-999,9,-999,9,    -999,9,-999,9, 20080211,     1344, -37.4915,  30.0151,    -999,-999,9,     -999,9,     -999,9,     -999,9,     -999,9,     -999,9,     -999,9,-999,9,     -999,9,     -999,9,     -999,9,    -999,    -999
33RR20080204,       I06S,      21,          3,          1,          1,2,20080211,       1334,   -37.4915,    30.0153,       4493,  4541.7,   1.1276,  34.7329,2,  34.7327,2,     -999,9,    -999,9,  106.83,2,   30.60,2,    0.00,2,    2.11,2,    -999,9,    -999,9,    -999,9,    -999,9,  2363.8,2,     -999,9,     -999,    -999,9,    -999,9,    -999,9,1.1273,2,-999,9,-999,9,-999,    -999,9,    -999,-999,9,-999,9,-999,9,    -999,9,-999,9, 20080211,     1336, -37.4915,  30.0152,    -999,-999,9,     -999,9,     -999,9,     -999,9,     -999,9,     -999,9,     -999,9,-999,1,     -999,9,     -999,9,     -999,9,    -999,    -999
33RR20080204,       I06S,      21,          3,          2,          2,2,20080211,       1334,   -37.4915,    30.0153,       4493,  4542.8,   1.1277,  34.7325,2,  34.7326,2,    216.3,2,   216.3,2,  107.23,2,   30.55,2,    0.00,2,    2.11,2,   0.088,2,   0.051,2,  -0.019,2,  2251.7,6,  2365.0,2,   7.7170,2,    20.00,    -999,9,    -999,9,    -999,9,1.1275,2,-999,9,-999,9,-999,    -999,9,    -999,1.064,2,-999,9,-999,9,   40.00,2,-999,1, 20080211,     1336, -37.4915,  30.0152,    -999,-999,1,   0.0315,2,   0.1128,2,   0.0206,2,   0.0735,2,   0.0085,2,   0.0229,2,-999,9,   0.0006,3,   0.0175,2,  -0.0017,4,    -999,    -999