BOTTLE,20220706CCHSIOAMB
EXPOCODE,SECT_ID,STNNBR,CASTNO,SAMPNO,BTLNBR,BTLNBR_FLAG_W,DATE,TIME,LATITUDE,LONGITUDE,DEPTH,CTDPRS,CTDTMP,CTDSAL,CTDSAL_FLAG_W,SALNTY,SALNTY_FLAG_W,CTDOXY,CTDOXY_FLAG_W,OXYGEN,OXYGEN_FLAG_W,SILCAT,SILCAT_FLAG_W,NITRAT,NITRAT_FLAG_W,NITRIT,NITRIT_FLAG_W,PHSPHT,PHSPHT_FLAG_W,CFC-11,CFC-11_FLAG_W,CFC-12,CFC-12_FLAG_W,CFC113,CFC113_FLAG_W,TCARBN,TCARBN_FLAG_W,ALKALI,ALKALI_FLAG_W,PH_SWS,PH_SWS_FLAG_W,PH_TMP,TRITUM,TRITUM_FLAG_W,HELIUM,HELIUM_FLAG_W,DELHE3,DELHE3_FLAG_W,REFTMP,REFTMP_FLAG_W,DELC13,DELC13_FLAG_W,DELC14,DELC14_FLAG_W,C14ERR,NEON,NEON_FLAG_W,NEONER,CCL4,CCL4_FLAG_W,ALUMIN,ALUMIN_FLAG_W,DELO18,DELO18_FLAG_W,DOC,DOC_FLAG_W,TDN,TDN_FLAG_W,BTL_DATE,BTL_TIME,BTL_LAT,BTL_LON,TRITER,DELSI30,DELSI30_FLAG_W,CDOM380,CDOM380_FLAG_W,CDOM325,CDOM325_FLAG_W,CDOMSL,CDOMSL_FLAG_W,CDOM340,CDOM340_FLAG_W,CDOM443,CDOM443_FLAG_W,CDOMSN,CDOMSN_FLAG_W,BLACKC,BLACKC_FLAG_W,CDOM490,CDOM490_FLAG_W,CDOM412,CDOM412_FLAG_W,CDOM555,CDOM555_FLAG_W,DELHER,HELIER
,,,,,,,,,,,METERS,DBAR,ITS-90,PSS-78,,PSS-78,,UMOL/KG,,UMOL/KG,,UMOL/KG,,UMOL/KG,,UMOL/KG,,UMOL/KG,,PMOL/KG,,PMOL/KG,,PMOL/KG,,UMOL/KG,,UMOL/KG,,,,DEG C,TU,,NMOL/KG,,PERCNT,,DEG C,,/MILLE,,/MILLE,,/MILLE,NMOL/KG,,NMOL/KG,PMOL/KG,,NMOL/L,,/MILLE,,UMOL/KG,,UMOL/KG,,,,,,TU,/MILLE,,1/M,,1/M,,1/NM,,1/M,,1/M,,1/NM,,,,1/M,,1/M,,1/M,,PERCNT,NMOL/KG
33RR20080204,       I06S,      50,          1,         36,         36,2,20080221,       0920,   -51.9992,    30.0001,       4532,     4.6,   2.5790,  33.7975,2,  33.7992,2,    329.0,2,   330.6,2,   14.05,2,   23.12,2,    0.28,2,    1.48,2,   5.753,2,   3.173,2,   0.480,2,  2143.4,6,  2285.0,2,   7.9295,2,    13.00,    -999,9,    -999,9,    -999,9,2.5783,2,-999,9,-999,9,-999,    -999,9,    -999,7.797,2,-999,9,-999,9,    -999,9,-999,9, 20080221,     1114, -51.9993,  30.0001,    -999,-999,9,     -999,9,     -999,9,     -999,9,     -999,9,     -999,9,     -999,9,-999,9,     -999,9,     -999,9,     -999,9,    -999,    -999
33RR20080204,       I06S,      50,          1,         35,         35,2,20080221,       0920,   -51.9992,    30.0001,       4532,    21.3,   2.5710,  33.7962,2,  33.7975,2,    330.1,2,   329.7,2,   14.04,2,   23.08,2,    0.28,2,    1.48,2,   5.790,2,   3.166,2,   0.516,2,  2141.5,2,  2283.2,2,   7.9307,2,    13.00,    -999,9,    -999,9,    -999,9,2.5707,2,-999,9,-999,9,-999,    -999,9,    -999,8.193,2,-999,9,-999,9,    -999,9,-999,9, 20080221,     1113, -51.9993,  30.0001,    -999,-999,9,     -999,9,     -999,9,     -999,9,     -999,9,     -999,9,     -999,9,-999,9,     -999,9,     -999,9,     -999,9,    -999,    -999
33RR20080204,       I06S,      50,          1,         34,         34,2,20080221,       0920,   -51.9992,    30.0001,       4532,    37.7,   2.5609,  33.7958,2,  33.7969,2,    329.9,2,   329.0,2,   14.03,2,   23.03,2,    0.28,2,    1.48,2,   5.776,2,   3.170,2,   0.506,2,  2140.7,2,  2283.0,2,   7.9312,2,    13.00,    -999,9,    -999,9,    -999,9,2.56,2,-999,9,-999,9,-999,    -999,9,    -999,8.169,2,-999,9,-999,9,    -999,9,-999,9, 20080221,     1111, -51.9993,  30.0001,    -999,-999,9,     -999,9,     -999,9,     -999,9,     -999,9,     -999,9,     -999,9,-999,9,     -999,9,     -999,9,     -999,9,    -999,    -999
33RR20080204,       I06S,      50,          1,         33,         33,2,20080221,       0920,   -51.9992,    30.0001,       4532,    67.8,   2.5943,  33.8053,2,  33.8065,2,    329.9,2,   328.2,2,   14.03,2,   22.98,2,    0.28,2,    1.48,2,   5.775,2,   3.150,2,   0.494,2,  2141.1,2,  2282.7,2,   7.9278,2,    13.00,    -999,9,    -999,9,    -999,9,2.5937,2,-999,9,-999,9,-999,    -999,9,    -999,8.235,2,-999,9,-999,9,    -999,9,-999,9, 20080221,     1109, -51.9993,  30.0001,    -999,-999,9,     -999,9,     -999,9,     -999,9,     -999,9,     -999,9,     -999,9,-999,9,     -999,9,     -999,9,     -999,9,    -999,    -999
33RR20080204,       I06S,      50,          1,         32,         32,2,20080221,       0920,   -51.9992,    30.0001,       4532,    92.0,   2.5850,  33.8084,2,  33.8095,2,    329.1,2,   327.6,2,   14.39,2,   22.93,2,    0.28,2,    1.49,2,   5.880,2,   3.159,2,   0.509,2,  2142.9,2,  2283.1,2,   7.9270,2,    13.00,    -999,9,    -999,9,    -999,9,2.5839,2,-999,9,-999,9,-999,    -999,9,    -999,7.844,2,-999,9,-999,9,    -999,9,-999,9, 20080221,     1108, -51.9993,  30.0001,    -999,-999,9,     -999,9,     -999,9,     -999,9,     -999,9,     -999,9,     -999,9,-999,9,     -999,9,     -999,9,     -999,9,    -999,    -999
33RR20080204,       I06S,      50,          1,         31,         31,2,20080221,       0920,   -51.9992,    30.0001,       4532,   144.7,   1.0755,  33.9738,2,  33.9699,2,    314.2,2,   305.4,2,   38.21,2,   27.86,2,    0.16,2,    1.96,2,   5.469,2,   2.976,2,   0.460,2,  2181.0,2,  2290.6,2,   7.8401,2,    13.00,    -999,9,    -999,9,    -999,9,1.0743,2,-999,9,-999,9,-999,    -999,9,    -999,6.694,2,-999,9,-999,9,    -999,9,-999,9, 20080221,     1106, -51.9993,  30.0002,    -999,-999,9,     -999,9,     -999,9,     -999,9,     -999,9,     -999,9,     -999,9,-999,9,     -999,9,     -999,9,     -999,9,    -999,    -999
33RR20080204,       I06S,      50,          1,         30,         30,2,20080221,       0920,   -51.9992,    30.0001,       4532,   193.3,   1.9408,  34.2128,2,  34.2060,2,    265.4,2,   235.6,2,   44.89,2,   32.26,2,    0.03,2,    2.24,2,   3.356,2,   1.823,2,   0.286,2,  2208.2,2,  2299.0,2,   7.7763,2,    13.00,    -999,9,    -999,9,    -999,9,1.94,2,-999,9,-999,9,-999,    -999,9,    -999,4.807,2,-999,9,-999,9,    -999,9,-999,9, 20080221,     1104, -51.9993,  30.0002,    -999,-999,1,     -999,9,     -999,9,     -999,9,     -999,9,     -999,9,     -999,9,-999,9,     -999,9,     -999,9,     -999,9,    -999,    -999
33RR20080204,       I06S,      50,          1,         29,         29,2,20080221,       0920,   -51.9992,    30.0001,       4532,   231.0,   1.8256,  34.2867,2,  34.2871,2,    223.1,2,   219.0,2,   54.57,2,   33.49,2,    0.01,2,    2.32,2,   2.810,2,   1.506,2,   0.242,2,  2224.9,2,  2307.3,2,   7.7528,2,    13.00,    -999,9,    -999,9,    -999,9,1.8237,2,-999,9,-999,9,-999,    -999,9,    -999,4.393,2,-999,9,-999,9,    -999,9,-999,9, 20080221,     1102, -51.9993,  30.0001,    -999,-999,9,     -999,9,     -999,9,     -999,9,     -999,9,     -999,9,     -999,9,-999,9,     -999,9,     -999,9,     -999,9,    -999,    -999
33RR20080204,       I06S,      50,          1,         28,         28,2,20080221,       0920,   -51.9992,    30.0001,       4532,   286.6,   1.5389,  34.3367,2,  34.3359,2,    218.6,2,   218.4,2,   62.62,2,   33.68,2,    0.01,2,    2.35,2,   2.720,2,   1.452,2,   0.238,2,  2233.8,2,  2313.8,2,   7.7467,2,    13.00,    -999,9,    -999,9,    -999,9,1.5394,2,-999,9,-999,9,-999,    -999,9,    -999,4.442,2,-999,9,-999,9,    -999,9,-999,9, 20080221,     1100, -51.9993,  30.0001,    -999,-999,9,     -999,9,     -999,9,     -999,9,     -999,9,     -999,9,     -999,9,-999,9,     -999,9,     -999,9,     -999,9,    -999,    -999
33RR20080204,       I06S,      50,          1,         27,         27,2,20080221,       0920,   -51.9992,    30.0001,       4532,   336.4,   1.4625,  34.3737,2,  34.3794,2,    216.9,2,   218.9,2,   67.49,2,   33.58,2,    0.01,2,    2.34,2,   2.639,2,   1.423,2,   0.233,2,  2239.5,2,  2319.0,2,   7.7502,2,    13.00,    -999,9,    -999,9,    -999,9,1.4604,2,-999,9,-999,9,-999,    -999,9,    -999,4.217,2,-999,9,-999,9,    -999,9,-999,9, 20080221,     1058, -51.9993,  30.0001,    -999,-999,9,     -999,9,     -999,9,     -999,9,     -999,9,     -999,9,     -999,9,-999,9,     -999,9,     -999,9,     -999,9,    -999,    -999
33RR20080204,       I06S,      50,          1,         26,         26,2,20080221,       0920,   -51.9992,    30.0001,       4532,   386.9,   1.5041,  34.4385,2,  34.4357,2,    219.8,2,   210.7,2,   71.61,2,   33.39,2,    0.01,2,    2.33,2,   2.263,2,   1.227,2,   0.204,2,  2242.0,2,  2323.6,2,   7.7484,2,    13.00,    -999,9,    -999,9,    -999,9,1.4823,2,-999,9,-999,9,-999,    -999,9,    -999,3.567,2,-999,9,-999,9,    -999,9,-999,9, 20080221,     1057, -51.9993,  30.0001,    -999,-999,1,     -999,9,     -999,9,     -999,9,     -999,9,     -999,9,     -999,9,-999,9,     -999,9,     -999,9,     -999,9,    -999,    -999
33RR20080204,       I06S,      50,          1,         25,         25,2,20080221,       0920,   -51.9992,    30.0001,       4532,   435.4,   1.7792,  34.5046,2,  34.5048,2,    195.4,2,   191.1,2,   74.42,2,   33.82,2,    0.01,2,    2.36,2,   1.546,2,   0.830,2,   0.150,2,  2250.9,2,  2327.7,2,   7.7368,2,    13.00,    -999,9,    -999,9,    -999,9,1.7699,2,-999,9,-999,9,-999,    -999,9,    -999,2.587,2,-999,9,-999,9,    -999,9,-999,9, 20080221,     1055, -51.9993,  30.0001,    -999,-999,9,     -999,9,     -999,9,     -999,9,     -999,9,     -999,9,     -999,9,-999,9,     -999,9,     -999,9,     -999,9,    -999,    -999
33RR20080204,       I06S,      50,          1,         24,         24,2,20080221,       0920,   -51.9992,    30.0001,       4532,   487.4,   2.2377,  34.5966,2,  34.5968,2,    174.9,2,   173.4,2,   75.16,2,   33.28,2,    0.01,2,    2.34,2,   0.599,2,   0.327,2,   0.048,2,  2253.2,2,  2334.2,2,   7.7432,2,    13.00,    -999,9,    -999,9,    -999,9,2.2373,2,-999,9,-999,9,-999,    -999,9,    -999,1.344,2,-999,9,-999,9,    -999,9,-999,9, 20080221,     1053, -51.9992,  30.0001,    -999,-999,9,     -999,9,     -999,9,     -999,9,     -999,9,     -999,9,     -999,9,-999,9,     -999,9,     -999,9,     -999,9,    -999,    -999
33RR20080204,       I06S,      50,          1,         23,         23,2,20080221,       0920,   -51.9992,    30.0001,       4532,   557.7,   2.1012,  34.6160,2,  34.6174,2,    174.5,2,   173.7,2,   78.55,2,   33.04,2,    0.01,2,    2.31,2,   0.580,2,   0.319,2,   0.047,2,  2255.9,2,  2338.6,2,   7.7429,2,    13.00,    -999,9,    -999,9,    -999,9,2.0987,2,-999,9,-999,9,-999,    -999,9,    -999,1.273,2,-999,9,-999,9,    -999,9,-999,9, 20080221,     1051, -51.9993,  30.0001,    -999,-999,1,     -999,9,     -999,9,     -999,9,     -999,9,     -999,9,     -999,9,-999,9,     -999,9,     -999,9,     -999,9,    -999,    -999
33RR20080204,       I06S,      50,          1,         22,         22,2,20080221,       0920,   -51.9992,    30.0001,       4532,   656.6,   2.1114,  34.6682,2,  34.6680,2,    177.0,2,   178.2,2,   79.67,2,   31.97,2,    0.01,2,    2.25,2,   0.404,2,   0.228,2,   0.034,2,  2254.8,2,  2340.4,2,   7.7615,2,    13.00,    -999,9,    -999,9,    -999,9,2.1101,2,-999,9,-999,9,-999,    -999,9,    -999,0.948,2,-999,9,-999,9,    -999,9,-999,9, 20080221,     1048, -51.9993,  30.0001,    -999,-999,9,     -999,9,     -999,9,     -999,9,     -999,9,     -999,9,     -999,9,-999,9,     -999,9,     -999,9,     -999,9,    -999,    -999
33RR20080204,       I06S,      50,          1,         21,         21,2,20080221,       0920,   -51.9992,    30.0001,       4532,   767.3,   2.0239,  34.6987,2,  34.6992,2,    182.1,2,   183.5,2,   81.55,2,   31.38,2,    0.01,2,    2.20,2,   0.353,2,   0.202,2,   0.029,2,  2250.2,2,  2343.0,2,   7.7756,3,    13.00,    -999,9,    -999,9,    -999,9,2.0234,2,-999,9,-999,9,-999,    -999,9,    -999,0.818,2,-999,9,-999,9,    -999,9,-999,9, 20080221,     1045, -51.9993,  30.0001,    -999,-999,1,     -999,9,     -999,9,     -999,9,     -999,9,     -999,9,     -999,9,-999,9,     -999,9,     -999,9,     -999,9,    -999,    -999
33RR20080204,       I06S,      50,          1,         20,         20,2,20080221,       0920,   -51.9992,    30.0001,       4532,   872.0,   1.9914,  34.7186,2,  34.7199,2,    186.3,2,   187.8,2,   81.74,2,   30.85,2,    0.00,2,    2.15,2,   0.280,2,   0.162,2,   0.025,2,  2245.0,2,  2345.4,2,   7.7862,3,    13.00,    -999,9,    -999,9,    -999,9,1.9908,2,-999,9,-999,9,-999,    -999,9,    -999,0.697,2,-999,9,-999,9,    -999,9,-999,9, 20080221,     1042, -51.9993,  30.0001,    -999,-999,9,     -999,9,     -999,9,     -999,9,     -999,9,     -999,9,     -999,9,-999,9,     -999,9,     -999,9,     -999,9,    -999,    -999
33RR20080204,       I06S,      50,          1,         19,         19,2,20080221,       0920,   -51.9992,    30.0001,       4532,   973.1,   1.9449,  34.7332,2,  34.7229,4,    190.8,2,   191.6,2,   82.30,2,   30.17,2,    0.01,2,    2.11,2,   0.248,2,   0.140,2,   0.019,2,  2245.6,6,  2346.2,2,   7.7953,3,    13.00,    -999,9,    -999,9,    -999,9,1.9447,2,-999,9,-999,9,-999,    -999,9,    -999,0.654,2,-999,9,-999,9,    -999,9,-999,9, 20080221,     1040, -51.9993,  30.0001,    -999,-999,1,     -999,9,     -999,9,     -999,9,     -999,9,     -999,9,     -999,9,-999,9,     -999,9,     -999,9,     -999,9,    -999,    -999
33RR20080204,       I06S,      50,          1,         18,         18,2,20080221,       0920,   -51.9992,    30.0001,       4532,  1074.0,   1.8632,  34.7408,2,  34.7414,2,    197.4,2,   194.8,2,   83.61,2,   30.02,2,    0.00,2,    2.09,2,   0.225,2,   0.134,2,   0.020,2,    -999,9,    -999,9,   7.8027,2,    13.00,    -999,9,    -999,9,    -999,9,1.8629,2,-999,9,-999,9,-999,    -999,9,    -999,0.59,2,-999,9,-999,9,    -999,9,-999,9, 20080221,     1037, -51.9993,  30.0001,    -999,-999,9,     -999,9,     -999,9,     -999,9,     -999,9,     -999,9,     -999,9,-999,9,     -999,9,     -999,9,     -999,9,    -999,    -999
33RR20080204,       I06S,      50,          1,         17,         17,2,20080221,       0920,   -51.9992,    30.0001,       4532,  1174.8,   1.7434,  34.7420,2,  34.7428,2,    197.2,2,   197.2,2,   86.07,2,   29.97,2,    0.00,2,    2.09,2,   0.226,2,   0.131,2,   0.024,2,    -999,9,    -999,9,     -999,9,     -999,    -999,9,    -999,9,    -999,9,1.7425,2,-999,9,-999,9,-999,    -999,9,    -999,0.555,2,-999,9,-999,9,    -999,9,-999,9, 20080221,     1034, -51.9993,  30.0002,    -999,-999,9,     -999,9,     -999,9,     -999,9,     -999,9,     -999,9,     -999,9,-999,9,     -999,9,     -999,9,     -999,9,    -999,    -999
33RR20080204,       I06S,      50,          1,         16,         16,2,20080221,       0920,   -51.9992,    30.0001,       4532,  1277.0,   1.6531,  34.7410,2,  34.7416,2,    199.2,2,   198.7,2,   88.14,2,   30.02,2,    0.00,2,    2.09,2,   0.222,2,   0.127,2,   0.020,2,    -999,9,  2348.8,2,     -999,9,     -999,    -999,9,    -999,9,    -999,9,1.6527,2,-999,9,-999,9,-999,    -999,9,    -999,0.597,2,-999,9,-999,9,    -999,9,-999,9, 20080221,     1032, -51.9993,  30.0001,    -999,-999,9,     -999,9,     -999,9,     -999,9,     -999,9,     -999,9,     -999,9,-999,9,     -999,9,     -999,9,     -999,9,    -999,    -999
33RR20080204,       I06S,      50,          1,         15,         15,2,20080221,       0920,   -51.9992,    30.0001,       4532,  1376.7,   1.5013,  34.7333,2,  34.7344,2,    199.1,2,   199.7,2,   92.30,2,   30.17,2,    0.01,2,    2.11,2,   0.262,6,   0.147,6,   0.021,6,    -999,9,    -999,9,     -999,9,     -999,    -999,9,    -999,9,    -999,9,1.5027,2,-999,9,-999,9,-999,    -999,9,    -999,0.702,2,-999,9,-999,9,    -999,9,-999,9, 20080221,     1029, -51.9993,  30.0002,    -999,-999,9,     -999,9,     -999,9,     -999,9,     -999,9,     -999,9,     -999,9,-999,9,     -999,9,     -999,9,     -999,9,    -999,    -999
33RR20080204,       I06S,      50,          1,         14,         14,2,20080221,       0920,   -51.9992,    30.0001,       4532,  1478.8,   1.2150,  34.7075,2,  34.7075,2,    199.3,2,   199.7,2,   99.50,2,   30.89,2,    0.01,2,    2.18,2,   0.443,2,   0.250,2,   0.039,2,    -999,9,  2352.1,2,     -999,9,     -999,    -999,9,    -999,9,    -999,9,1.2153,2,-999,9,-999,9,-999,    -999,9,    -999,0.946,2,-999,9,-999,9,    -999,9,-999,9, 20080221,     1027, -51.9993,  30.0001,    -999,-999,9,     -999,9,     -999,9,     -999,9,     -999,9,     -999,9,     -999,9,-999,9,     -999,9,     -999,9,     -999,9,    -999,    -999
33RR20080204,       I06S,      50,          1,         13,         13,2,20080221,       0920,   -51.9992,    30.0001,       4532,  1580.4,   1.1601,  34.7133,2,  34.7134,2,    200.6,2,   201.5,2,  101.96,2,   30.90,2,    0.00,2,    2.17,2,   0.367,2,   0.204,2,   0.051,2,    -999,9,    -999,9,     -999,9,     -999,    -999,9,    -999,9,    -999,9,1.1602,2,-999,9,-999,9,-999,    -999,9,    -999,0.943,2,-999,9,-999,9,    -999,9,-999,9, 20080221,     1024, -51.9993,  30.0002,    -999,-999,9,     -999,9,     -999,9,     -999,9,     -999,9,     -999,9,     -999,9,-999,9,     -999,9,     -999,9,     -999,9,    -999,    -999
33RR20080204,       I06S,      50,          1,         12,         12,2,20080221,       0920,   -51.9992,    30.0001,       4532,  1686.4,   1.0212,  34.7052,2,  34.7054,2,    201.9,2,   203.1,2,  105.20,2,   31.53,2,    0.00,2,    2.20,2,   0.431,2,   0.235,2,   0.039,2,    -999,9,    -999,9,     -999,9,     -999,    -999,9,    -999,9,    -999,9,1.0207,2,-999,9,-999,9,-999,    -999,9,    -999,0.797,2,-999,9,-999,9,    -999,9,-999,9, 20080221,     1021, -51.9993,  30.0001,    -999,-999,9,     -999,9,     -999,9,     -999,9,     -999,9,     -999,9,     -999,9,-999,9,     -999,9,     -999,9,     -999,9,    -999,    -999
33RR20080204,       I06S,      50,          1,         11,         11,2,20080221,       0920,   -51.9992,    30.0001,       4532,  1788.2,   0.9664,  34.7058,2,  34.7058,2,    203.8,2,   203.8,2,  106.91,2,   31.57,2,    0.00,2,    2.19,2,   0.392,2,   0.214,2,   0.026,2,    -999,9,    -999,9,     -999,9,     -999,    -999,9,    -999,9,    -999,9,0.9663,2,-999,9,-999,9,-999,    -999,9,    -999,0.738,2,-999,9,-999,9,    -999,9,-999,9, 20080221,     1018, -51.9993,  30.0001,    -999,-999,9,     -999,9,     -999,9,     -999,9,     -999,9,     -999,9,     -999,9,-999,9,     -999,9,     -999,9,     -999,9,    -999,    -999
33RR20080204,       I06S,      50,          1,         10,         10,2,20080221,       0920,   -51.9992,    30.0001,       4532,  1991.6,   0.8565,  34.7072,2,  34.7072,2,    205.8,2,   206.1,2,  110.52,2,   31.53,2,    0.00,2,    2.20,2,   0.316,2,   0.176,2,   0.032,2,    -999,9,  2355.3,2,     -999,9,     -999,    -999,9,    -999,9,    -999,9,0.8569,2,-999,9,-999,9,-999,    -999,9,    -999,0.662,2,-999,9,-999,9,    -999,9,-999,9, 20080221,     1013, -51.9993,  30.0002,    -999,-999,9,     -999,9,     -999,9,     -999,9,     -999,9,     -999,9,     -999,9,-999,9,     -999,9,     -999,9,     -999,9,    -999,    -999
33RR20080204,       I06S,      50,          1,          9,          9,2,20080221,       0920,   -51.9992,    30.0001,       4532,  2285.5,   0.7244,  34.7052,2,  34.7055,2,    209.5,2,   210.2,2,  115.66,2,   31.72,2,    0.00,2,    2.21,2,   0.232,2,   0.129,2,   0.018,2,    -999,9,    -999,9,     -999,9,     -999,    -999,9,    -999,9,    -999,9,0.7241,2,-999,9,-999,9,-999,    -999,9,    -999,0.574,2,-999,9,-999,9,    -999,9,-999,9, 20080221,     1007, -51.9993,  30.0002,    -999,-999,9,     -999,9,     -999,9,     -999,9,     -999,9,     -999,9,     -999,9,-999,9,     -999,9,     -999,9,     -999,9,    -999,    -999
33RR20080204,       I06S,      50,          1,          8,          8,2,20080221,       0920,   -51.9992,    30.0001,       4532,  2589.8,   0.5083,  34.6896,2,  34.6902,2,    210.7,2,   210.7,2,  122.55,2,   32.41,2,    0.00,2,    2.25,2,   0.293,2,   0.162,2,   0.021,2,    -999,9,    -999,9,     -999,9,     -999,    -999,9,    -999,9,    -999,9,0.5082,2,-999,9,-999,9,-999,    -999,9,    -999,0.679,2,-999,9,-999,9,    -999,9,-999,9, 20080221,     1001, -51.9993,  30.0001,    -999,-999,9,     -999,9,     -999,9,     -999,9,     -999,9,     -999,9,     -999,9,-999,9,     -999,9,     -999,9,     -999,9,    -999,    -999