BOTTLE,20220706CCHSIOAMB
EXPOCODE,SECT_ID,STNNBR,CASTNO,SAMPNO,BTLNBR,BTLNBR_FLAG_W,DATE,TIME,LATITUDE,LONGITUDE,DEPTH,CTDPRS,CTDTMP,CTDSAL,CTDSAL_FLAG_W,SALNTY,SALNTY_FLAG_W,CTDOXY,CTDOXY_FLAG_W,OXYGEN,OXYGEN_FLAG_W,SILCAT,SILCAT_FLAG_W,NITRAT,NITRAT_FLAG_W,NITRIT,NITRIT_FLAG_W,PHSPHT,PHSPHT_FLAG_W,CFC-11,CFC-11_FLAG_W,CFC-12,CFC-12_FLAG_W,CFC113,CFC113_FLAG_W,TCARBN,TCARBN_FLAG_W,ALKALI,ALKALI_FLAG_W,PH_SWS,PH_SWS_FLAG_W,PH_TMP,TRITUM,TRITUM_FLAG_W,HELIUM,HELIUM_FLAG_W,DELHE3,DELHE3_FLAG_W,REFTMP,REFTMP_FLAG_W,DELC13,DELC13_FLAG_W,DELC14,DELC14_FLAG_W,C14ERR,NEON,NEON_FLAG_W,NEONER,CCL4,CCL4_FLAG_W,ALUMIN,ALUMIN_FLAG_W,DELO18,DELO18_FLAG_W,DOC,DOC_FLAG_W,TDN,TDN_FLAG_W,BTL_DATE,BTL_TIME,BTL_LAT,BTL_LON,TRITER,DELSI30,DELSI30_FLAG_W,CDOM380,CDOM380_FLAG_W,CDOM325,CDOM325_FLAG_W,CDOMSL,CDOMSL_FLAG_W,CDOM340,CDOM340_FLAG_W,CDOM443,CDOM443_FLAG_W,CDOMSN,CDOMSN_FLAG_W,BLACKC,BLACKC_FLAG_W,CDOM490,CDOM490_FLAG_W,CDOM412,CDOM412_FLAG_W,CDOM555,CDOM555_FLAG_W,DELHER,HELIER
,,,,,,,,,,,METERS,DBAR,ITS-90,PSS-78,,PSS-78,,UMOL/KG,,UMOL/KG,,UMOL/KG,,UMOL/KG,,UMOL/KG,,UMOL/KG,,PMOL/KG,,PMOL/KG,,PMOL/KG,,UMOL/KG,,UMOL/KG,,,,DEG C,TU,,NMOL/KG,,PERCNT,,DEG C,,/MILLE,,/MILLE,,/MILLE,NMOL/KG,,NMOL/KG,PMOL/KG,,NMOL/L,,/MILLE,,UMOL/KG,,UMOL/KG,,,,,,TU,/MILLE,,1/M,,1/M,,1/NM,,1/M,,1/M,,1/NM,,,,1/M,,1/M,,1/M,,PERCNT,NMOL/KG
33RR20080204,       I06S,      34,          1,         36,         36,2,20080215,       2323,   -44.0007,    29.9986,       5482,     4.4,   9.4141,  33.9100,2,  33.9099,2,    287.4,2,   288.7,2,    1.21,2,   16.49,2,    0.24,2,    1.19,2,   4.100,2,   2.325,2,   0.376,2,  2093.1,6,  2268.1,2,   8.0199,2,    13.00,    -999,9,    -999,9,    -999,9,9.4132,2,-999,9,-999,9,-999,    -999,9,    -999,4.931,2,-999,9,-999,9,    -999,9,-999,9, 20080216,     0147, -43.9999,  29.9994,    -999,-999,9,     -999,9,     -999,9,     -999,9,     -999,9,     -999,9,     -999,9,-999,9,     -999,9,     -999,9,     -999,9,    -999,    -999
33RR20080204,       I06S,      34,          1,         35,         35,2,20080215,       2323,   -44.0007,    29.9986,       5482,    28.9,   9.6816,  34.0848,2,  34.0767,2,    290.5,2,   288.1,2,    1.20,2,   14.62,2,    0.20,2,    1.06,2,   3.982,2,   2.267,2,   0.349,2,  2090.0,2,  2275.0,2,   8.0411,2,    13.00,    -999,9,    -999,9,    -999,9,9.6753,2,-999,9,-999,9,-999,    -999,9,    -999,4.815,2,-999,9,-999,9,    -999,9,-999,9, 20080216,     0145, -44.0000,  29.9993,    -999,-999,9,     -999,9,     -999,9,     -999,9,     -999,9,     -999,9,     -999,9,-999,9,     -999,9,     -999,9,     -999,9,    -999,    -999
33RR20080204,       I06S,      34,          1,         34,         34,2,20080215,       2323,   -44.0007,    29.9986,       5482,    48.1,   9.5589,  34.1688,2,  34.1660,2,    291.0,2,   286.6,2,    1.20,2,   14.22,2,    0.20,2,    1.03,2,   3.947,2,   2.257,2,   0.347,2,  2090.3,2,  2280.2,2,   8.0427,2,    13.00,    -999,9,    -999,9,    -999,9,9.5584,2,-999,9,-999,9,-999,    -999,9,    -999,4.438,2,-999,9,-999,9,    -999,9,-999,9, 20080216,     0143, -44.0000,  29.9994,    -999,-999,9,     -999,9,     -999,9,     -999,9,     -999,9,     -999,9,     -999,9,-999,9,     -999,9,     -999,9,     -999,9,    -999,    -999
33RR20080204,       I06S,      34,          1,         33,         33,2,20080215,       2323,   -44.0007,    29.9986,       5482,    78.3,  10.4621,  34.7498,2,  34.7468,2,    249.9,2,   250.9,2,    4.34,2,   12.78,2,    0.08,2,    0.98,2,   3.573,2,   2.052,2,   0.289,2,  2115.6,2,  2299.1,2,   8.0255,2,    13.00,    -999,9,    -999,9,    -999,9,10.4597,2,-999,9,-999,9,-999,    -999,9,    -999,3.568,2,-999,9,-999,9,    -999,9,-999,9, 20080216,     0141, -43.9999,  29.9993,    -999,-999,9,     -999,9,     -999,9,     -999,9,     -999,9,     -999,9,     -999,9,-999,9,     -999,9,     -999,9,     -999,9,    -999,    -999
33RR20080204,       I06S,      34,          1,         32,         32,2,20080215,       2323,   -44.0007,    29.9986,       5482,    97.6,  10.3895,  34.7704,2,  34.7686,2,    247.2,2,   243.5,2,    5.07,2,   13.52,2,    0.05,2,    1.00,2,   3.513,2,   2.011,2,   0.256,2,  2120.2,2,  2298.9,2,   8.0120,2,    13.00,    -999,9,    -999,9,    -999,9,10.3926,2,-999,9,-999,9,-999,    -999,9,    -999,3.384,2,-999,9,-999,9,    -999,9,-999,9, 20080216,     0140, -44.0000,  29.9993,    -999,-999,9,     -999,9,     -999,9,     -999,9,     -999,9,     -999,9,     -999,9,-999,9,     -999,9,     -999,9,     -999,9,    -999,    -999
33RR20080204,       I06S,      34,          1,         31,         31,2,20080215,       2323,   -44.0007,    29.9986,       5482,   159.0,   9.5541,  34.6617,2,  34.6635,2,    252.1,2,   247.7,2,    5.44,2,   14.97,2,    0.02,2,    1.09,2,   3.608,2,   2.044,2,   0.269,2,  2122.4,2,  2293.7,2,   7.9984,2,    13.00,    -999,9,    -999,9,    -999,9,9.5523,2,-999,9,-999,9,-999,    -999,9,    -999,3.625,2,-999,9,-999,9,    -999,9,-999,9, 20080216,     0138, -44.0000,  29.9993,    -999,-999,9,     -999,9,     -999,9,     -999,9,     -999,9,     -999,9,     -999,9,-999,9,     -999,9,     -999,9,     -999,9,    -999,    -999
33RR20080204,       I06S,      34,          1,         30,         30,2,20080215,       2323,   -44.0007,    29.9986,       5482,   207.5,   8.7628,  34.5637,2,  34.5637,2,    246.3,2,   243.3,2,    6.73,2,   17.08,2,    0.01,2,    1.23,2,   3.660,2,   2.059,2,   0.283,2,  2132.3,2,  2291.0,2,   7.9686,4,    13.00,    -999,9,    -999,9,    -999,9,8.7683,2,-999,9,-999,9,-999,    -999,9,    -999,3.778,2,-999,9,-999,9,    -999,9,-999,9, 20080216,     0136, -44.0000,  29.9993,    -999,-999,9,     -999,9,     -999,9,     -999,9,     -999,9,     -999,9,     -999,9,-999,9,     -999,9,     -999,9,     -999,9,    -999,    -999
33RR20080204,       I06S,      34,          1,         29,         29,2,20080215,       2323,   -44.0007,    29.9986,       5482,   257.5,   7.6848,  34.4281,2,  34.4265,2,    248.5,2,   249.7,2,    7.47,2,   19.22,2,    0.01,2,    1.37,2,   3.774,2,   2.131,2,   0.281,2,  2134.6,2,  2284.6,2,   7.9453,2,    13.00,    -999,9,    -999,9,    -999,9,7.6844,2,-999,9,-999,9,-999,    -999,9,    -999,3.724,2,-999,9,-999,9,    -999,9,-999,9, 20080216,     0134, -44.0000,  29.9993,    -999,-999,9,     -999,9,     -999,9,     -999,9,     -999,9,     -999,9,     -999,9,-999,9,     -999,9,     -999,9,     -999,9,    -999,    -999
33RR20080204,       I06S,      34,          1,         28,         28,2,20080215,       2323,   -44.0007,    29.9986,       5482,   308.9,   7.6690,  34.5066,2,  34.5084,2,    218.8,2,   215.0,2,   11.74,2,   22.41,2,    0.01,2,    1.56,2,   3.357,2,   1.817,2,   0.245,2,  2156.4,2,  2290.1,2,   7.9092,4,    13.00,    -999,9,    -999,9,    -999,9,7.669,2,-999,9,-999,9,-999,    -999,9,    -999,3.329,2,-999,9,-999,9,    -999,9,-999,9, 20080216,     0132, -43.9999,  29.9993,    -999,-999,9,     -999,9,     -999,9,     -999,9,     -999,9,     -999,9,     -999,9,-999,9,     -999,9,     -999,9,     -999,9,    -999,    -999
33RR20080204,       I06S,      34,          1,         27,         27,2,20080215,       2323,   -44.0007,    29.9986,       5482,   359.3,   6.4694,  34.3756,2,  34.3806,2,    222.7,2,   227.6,2,   12.66,2,   24.15,2,    0.01,2,    1.67,2,   3.664,2,   1.982,2,   0.296,2,  2156.5,2,  2285.6,2,   7.8857,3,    13.00,    -999,9,    -999,9,    -999,9,6.472,2,-999,9,-999,9,-999,    -999,9,    -999,3.729,2,-999,9,-999,9,    -999,9,-999,9, 20080216,     0130, -43.9999,  29.9993,    -999,-999,9,     -999,9,     -999,9,     -999,9,     -999,9,     -999,9,     -999,9,-999,9,     -999,9,     -999,9,     -999,9,    -999,    -999
33RR20080204,       I06S,      34,          1,         26,         26,2,20080215,       2323,   -44.0007,    29.9986,       5482,   409.0,   6.1509,  34.3812,2,  34.3822,2,    216.5,2,   218.6,2,   16.56,2,   25.94,2,    0.01,2,    1.79,2,   3.389,2,   1.809,2,   0.280,2,  2164.6,2,  2288.9,2,   7.8640,2,    13.00,    -999,9,    -999,9,    -999,9,6.16,2,-999,9,-999,9,-999,    -999,9,    -999,3.536,2,-999,9,-999,9,    -999,9,-999,9, 20080216,     0128, -44.0000,  29.9994,    -999,-999,9,     -999,9,     -999,9,     -999,9,     -999,9,     -999,9,     -999,9,-999,9,     -999,9,     -999,9,     -999,9,    -999,    -999
33RR20080204,       I06S,      34,          1,         25,         25,2,20080215,       2323,   -44.0007,    29.9986,       5482,   459.6,   5.2773,  34.2933,2,  34.2982,2,    234.2,2,   230.2,2,   17.67,2,   27.02,2,    0.01,2,    1.86,2,   3.555,2,   1.904,2,   0.305,2,  2167.8,2,  2285.4,2,   7.8557,2,    13.00,    -999,9,    -999,9,    -999,9,5.2847,2,-999,9,-999,9,-999,    -999,9,    -999,3.387,2,-999,9,-999,9,    -999,9,-999,9, 20080216,     0126, -44.0000,  29.9993,    -999,-999,9,     -999,9,     -999,9,     -999,9,     -999,9,     -999,9,     -999,9,-999,9,     -999,9,     -999,9,     -999,9,    -999,    -999
33RR20080204,       I06S,      34,          1,         24,         24,2,20080215,       2323,   -44.0007,    29.9986,       5482,   509.6,   4.4871,  34.2060,2,  34.2075,2,    242.1,2,   248.2,2,   16.55,2,   27.44,2,    0.01,2,    1.88,2,   4.009,2,   2.115,2,   0.330,2,  2166.3,2,  2282.3,2,   7.8578,2,    13.00,    -999,9,    -999,9,    -999,9,4.4982,2,-999,9,-999,9,-999,    -999,9,    -999,4.085,2,-999,9,-999,9,    -999,9,-999,9, 20080216,     0124, -44.0000,  29.9993,    -999,-999,9,     -999,9,     -999,9,     -999,9,     -999,9,     -999,9,     -999,9,-999,9,     -999,9,     -999,9,     -999,9,    -999,    -999
33RR20080204,       I06S,      34,          1,         23,         23,2,20080215,       2323,   -44.0007,    29.9986,       5482,   608.8,   4.3101,  34.2719,2,  34.2732,2,    238.2,2,   230.5,2,   24.75,2,   29.04,2,    0.00,2,    2.00,2,   3.216,2,   1.673,2,   0.256,2,  2181.3,2,  2292.7,2,   7.8370,2,    13.00,    -999,9,    -999,9,    -999,9,4.3106,2,-999,9,-999,9,-999,    -999,9,    -999,3.322,2,-999,9,-999,9,    -999,9,-999,9, 20080216,     0121, -43.9999,  29.9993,    -999,-999,9,     -999,9,     -999,9,     -999,9,     -999,9,     -999,9,     -999,9,-999,9,     -999,9,     -999,9,     -999,9,    -999,    -999
33RR20080204,       I06S,      34,          1,         22,         22,2,20080215,       2323,   -44.0007,    29.9986,       5482,   709.6,   3.9136,  34.2913,2,  34.2914,2,    219.2,2,   221.2,2,   31.09,2,   30.33,2,    0.00,2,    2.10,2,   2.781,2,   1.420,2,   0.175,2,  2191.7,2,  2296.0,2,   7.8211,3,    13.00,    -999,9,    -999,9,    -999,9,3.9112,2,-999,9,-999,9,-999,    -999,9,    -999,2.38,2,-999,9,-999,9,    -999,9,-999,9, 20080216,     0118, -43.9999,  29.9993,    -999,-999,9,     -999,9,     -999,9,     -999,9,     -999,9,     -999,9,     -999,9,-999,9,     -999,9,     -999,9,     -999,9,    -999,    -999
33RR20080204,       I06S,      34,          1,         21,         21,2,20080215,       2323,   -44.0007,    29.9986,       5482,   810.5,   3.6885,  34.3369,2,  34.3384,2,    202.1,2,   207.5,2,   38.37,2,   31.51,2,    0.00,2,    2.19,2,   2.186,2,   1.087,2,   0.167,2,  2203.0,2,  2304.4,2,   7.7887,4,    13.00,    -999,9,    -999,9,    -999,9,3.6889,2,-999,9,-999,9,-999,    -999,9,    -999,2.585,2,-999,9,-999,9,    -999,9,-999,9, 20080216,     0115, -43.9999,  29.9993,    -999,-999,9,     -999,9,     -999,9,     -999,9,     -999,9,     -999,9,     -999,9,-999,9,     -999,9,     -999,9,     -999,9,    -999,    -999
33RR20080204,       I06S,      34,          1,         20,         20,2,20080215,       2323,   -44.0007,    29.9986,       5482,  1013.4,   3.2617,  34.4544,2,  34.4552,2,    184.1,2,   182.6,2,   55.08,2,   33.27,2,    0.00,2,    2.32,2,   1.030,2,   0.518,2,   0.058,2,  2230.3,2,  2320.5,2,   7.7690,2,    13.00,    -999,9,    -999,9,    -999,9,3.2623,2,-999,9,-999,9,-999,    -999,9,    -999,1.672,2,-999,9,-999,9,    -999,9,-999,9, 20080216,     0110, -44.0000,  29.9993,    -999,-999,9,     -999,9,     -999,9,     -999,9,     -999,9,     -999,9,     -999,9,-999,9,     -999,9,     -999,9,     -999,9,    -999,    -999
33RR20080204,       I06S,      34,          1,         19,         19,2,20080215,       2323,   -44.0007,    29.9986,       5482,  1213.1,   2.9297,  34.5369,2,  34.5367,2,    175.3,2,   175.2,2,   63.74,2,   33.54,2,    0.00,2,    2.32,2,   0.591,2,   0.299,2,   0.034,2,  2241.3,2,  2329.4,2,   7.7674,4,    13.00,    -999,9,    -999,9,    -999,9,2.9307,2,-999,9,-999,9,-999,    -999,9,    -999,1.246,2,-999,9,-999,9,    -999,9,-999,9, 20080216,     0105, -43.9999,  29.9993,    -999,-999,9,     -999,9,     -999,9,     -999,9,     -999,9,     -999,9,     -999,9,-999,9,     -999,9,     -999,9,     -999,9,    -999,    -999
33RR20080204,       I06S,      34,          1,         18,         18,2,20080215,       2323,   -44.0007,    29.9986,       5482,  1413.8,   2.7914,  34.6247,2,  34.6261,2,    175.9,2,   176.2,2,   66.95,2,   32.45,2,    0.00,2,    2.24,2,   0.280,2,   0.156,2,   0.012,2,  2242.6,6,  2335.8,2,   7.7728,2,    13.00,    -999,9,    -999,9,    -999,9,2.7906,2,-999,9,-999,9,-999,    -999,9,    -999,0.934,2,-999,9,-999,9,    -999,9,-999,9, 20080216,     0100, -44.0000,  29.9994,    -999,-999,9,     -999,9,     -999,9,     -999,9,     -999,9,     -999,9,     -999,9,-999,9,     -999,9,     -999,9,     -999,9,    -999,    -999
33RR20080204,       I06S,      34,          1,         17,         17,2,20080215,       2323,   -44.0007,    29.9986,       5482,  1616.0,   2.6911,  34.6961,2,  34.6965,2,    184.5,2,   183.9,2,   66.75,2,   30.92,2,    0.00,2,    2.14,2,   0.168,6,   0.095,6,   0.009,6,    -999,9,  2338.6,2,   7.7928,2,    13.00,    -999,9,    -999,9,    -999,9,2.6913,2,-999,9,-999,9,-999,    -999,9,    -999,0.523,6,-999,9,-999,9,    -999,9,-999,9, 20080216,     0055, -43.9999,  29.9993,    -999,-999,9,     -999,9,     -999,9,     -999,9,     -999,9,     -999,9,     -999,9,-999,9,     -999,9,     -999,9,     -999,9,    -999,    -999
33RR20080204,       I06S,      34,          1,         16,         16,2,20080215,       2323,   -44.0007,    29.9986,       5482,  1727.7,   2.6576,  34.7271,2,  34.7278,2,    189.4,2,   189.6,2,   65.62,2,   29.99,2,    0.00,2,    2.07,2,   0.131,2,   0.074,2,   0.007,2,    -999,9,    -999,9,     -999,9,     -999,    -999,9,    -999,9,    -999,9,2.6572,2,-999,9,-999,9,-999,    -999,9,    -999,0.282,2,-999,9,-999,9,    -999,9,-999,9, 20080216,     0051, -44.0000,  29.9994,    -999,-999,9,     -999,9,     -999,9,     -999,9,     -999,9,     -999,9,     -999,9,-999,9,     -999,9,     -999,9,     -999,9,    -999,    -999
33RR20080204,       I06S,      34,          1,         15,         15,2,20080215,       2323,   -44.0007,    29.9986,       5482,  1825.9,   2.6231,  34.7509,2,  34.7518,2,    194.5,2,   195.2,2,   64.67,2,   29.24,2,    0.00,2,    2.01,2,   0.106,2,   0.054,2,   0.000,2,    -999,9,    -999,9,     -999,9,     -999,    -999,9,    -999,9,    -999,9,2.6242,2,-999,9,-999,9,-999,    -999,9,    -999,0.169,2,-999,9,-999,9,    -999,9,-999,9, 20080216,     0048, -44.0000,  29.9994,    -999,-999,9,     -999,9,     -999,9,     -999,9,     -999,9,     -999,9,     -999,9,-999,9,     -999,9,     -999,9,     -999,9,    -999,    -999
33RR20080204,       I06S,      34,          1,         14,         14,2,20080215,       2323,   -44.0007,    29.9986,       5482,  2030.2,   2.5530,  34.7844,2,  34.7856,2,    203.1,2,   202.5,2,   63.15,2,   28.00,2,    0.00,2,    1.93,2,   0.071,2,   0.038,2,   0.019,2,    -999,9,  2342.2,2,   7.8336,2,    13.00,    -999,9,    -999,9,    -999,9,2.5534,2,-999,9,-999,9,-999,    -999,9,    -999,0.605,2,-999,9,-999,9,    -999,9,-999,9, 20080216,     0043, -44.0000,  29.9994,    -999,-999,9,     -999,9,     -999,9,     -999,9,     -999,9,     -999,9,     -999,9,-999,9,     -999,9,     -999,9,     -999,9,    -999,    -999
33RR20080204,       I06S,      34,          1,         13,         13,2,20080215,       2323,   -44.0007,    29.9986,       5482,  2331.9,   2.4042,  34.8078,2,  34.8081,2,    212.0,2,   211.7,2,   63.53,2,   26.99,2,    0.00,2,    1.85,2,   0.058,2,   0.033,2,   0.035,2,    -999,9,    -999,9,     -999,9,     -999,    -999,9,    -999,9,    -999,9,2.4045,2,-999,9,-999,9,-999,    -999,9,    -999,0.741,2,-999,9,-999,9,    -999,9,-999,9, 20080216,     0036, -44.0000,  29.9995,    -999,-999,9,     -999,9,     -999,9,     -999,9,     -999,9,     -999,9,     -999,9,-999,9,     -999,9,     -999,9,     -999,9,    -999,    -999
33RR20080204,       I06S,      34,          1,         12,         12,2,20080215,       2323,   -44.0007,    29.9986,       5482,  2646.3,   2.2499,  34.8130,2,  34.8116,2,    216.1,2,   216.1,2,   66.35,2,   26.73,2,    0.00,2,    1.83,2,   0.051,2,   0.025,2,   0.000,2,    -999,9,    -999,9,     -999,9,     -999,    -999,9,    -999,9,    -999,9,2.2503,2,-999,9,-999,9,-999,    -999,9,    -999,0.395,2,-999,9,-999,9,    -999,9,-999,9, 20080216,     0030, -43.9999,  29.9994,    -999,-999,9,     -999,9,     -999,9,     -999,9,     -999,9,     -999,9,     -999,9,-999,9,     -999,9,     -999,9,     -999,9,    -999,    -999
33RR20080204,       I06S,      34,          1,         11,         11,2,20080215,       2323,   -44.0007,    29.9986,       5482,  2949.6,   2.0755,  34.8089,2,  34.8089,2,    217.4,2,   217.7,2,   71.07,2,   26.90,2,    0.00,2,    1.84,2,   0.052,2,   0.024,2,   0.000,2,    -999,9,  2347.3,2,   7.8566,2,    13.00,    -999,9,    -999,9,    -999,9,2.0766,2,-999,9,-999,9,-999,    -999,9,    -999,0.494,2,-999,9,-999,9,    -999,9,-999,9, 20080216,     0023, -43.9999,  29.9993,    -999,-999,9,     -999,9,     -999,9,     -999,9,     -999,9,     -999,9,     -999,9,-999,9,     -999,9,     -999,9,     -999,9,    -999,    -999
33RR20080204,       I06S,      34,          1,         10,         10,2,20080215,       2323,   -44.0007,    29.9986,       5482,  3253.4,   1.7408,  34.7807,2,  34.7800,2,    215.0,2,   214.4,2,   83.94,2,   28.34,2,    0.00,2,    1.95,2,   0.073,2,   0.039,2,   0.000,2,    -999,9,    -999,9,     -999,9,     -999,    -999,9,    -999,9,    -999,9,1.7403,2,-999,9,-999,9,-999,    -999,9,    -999,0.659,2,-999,9,-999,9,    -999,9,-999,9, 20080216,     0017, -43.9997,  29.9993,    -999,-999,9,     -999,9,     -999,9,     -999,9,     -999,9,     -999,9,     -999,9,-999,9,     -999,9,     -999,9,     -999,9,    -999,    -999
33RR20080204,       I06S,      34,          1,          9,          9,2,20080215,       2323,   -44.0007,    29.9986,       5482,  3559.1,   1.4482,  34.7612,2,  34.7608,2,    215.4,2,   215.2,2,   93.63,2,   29.27,2,    0.00,2,    2.02,2,   0.076,2,   0.039,2,   0.011,2,    -999,9,    -999,9,     -999,9,     -999,    -999,9,    -999,9,    -999,9,1.448,2,-999,9,-999,9,-999,    -999,9,    -999,0.728,2,-999,9,-999,9,    -999,9,-999,9, 20080216,     0011, -43.9999,  29.9993,    -999,-999,9,     -999,9,     -999,9,     -999,9,     -999,9,     -999,9,     -999,9,-999,9,     -999,9,     -999,9,     -999,9,    -999,    -999
33RR20080204,       I06S,      34,          1,          8,          8,2,20080215,       2323,   -44.0007,    29.9986,       5482,  3860.6,   1.1317,  34.7336,2,  34.7325,2,    214.1,2,   214.2,2,  105.43,2,   30.57,2,    0.00,2,    2.11,2,   0.116,2,   0.065,2,   0.009,2,    -999,9,  2362.6,2,   7.8224,2,    13.00,    -999,9,    -999,9,    -999,9,1.1319,2,-999,9,-999,9,-999,    -999,9,    -999,0.912,2,-999,9,-999,9,    -999,9,-999,9, 20080216,     0004, -43.9998,  29.9994,    -999,-999,9,     -999,9,     -999,9,     -999,9,     -999,9,     -999,9,     -999,9,-999,9,     -999,9,     -999,9,     -999,9,    -999,    -999