BOTTLE,20220706CCHSIOAMB
EXPOCODE,SECT_ID,STNNBR,CASTNO,SAMPNO,BTLNBR,BTLNBR_FLAG_W,DATE,TIME,LATITUDE,LONGITUDE,DEPTH,CTDPRS,CTDTMP,CTDSAL,CTDSAL_FLAG_W,SALNTY,SALNTY_FLAG_W,CTDOXY,CTDOXY_FLAG_W,OXYGEN,OXYGEN_FLAG_W,SILCAT,SILCAT_FLAG_W,NITRAT,NITRAT_FLAG_W,NITRIT,NITRIT_FLAG_W,PHSPHT,PHSPHT_FLAG_W,CFC-11,CFC-11_FLAG_W,CFC-12,CFC-12_FLAG_W,CFC113,CFC113_FLAG_W,TCARBN,TCARBN_FLAG_W,ALKALI,ALKALI_FLAG_W,PH_SWS,PH_SWS_FLAG_W,PH_TMP,TRITUM,TRITUM_FLAG_W,HELIUM,HELIUM_FLAG_W,DELHE3,DELHE3_FLAG_W,REFTMP,REFTMP_FLAG_W,DELC13,DELC13_FLAG_W,DELC14,DELC14_FLAG_W,C14ERR,NEON,NEON_FLAG_W,NEONER,CCL4,CCL4_FLAG_W,ALUMIN,ALUMIN_FLAG_W,DELO18,DELO18_FLAG_W,DOC,DOC_FLAG_W,TDN,TDN_FLAG_W,BTL_DATE,BTL_TIME,BTL_LAT,BTL_LON,TRITER,DELSI30,DELSI30_FLAG_W,CDOM380,CDOM380_FLAG_W,CDOM325,CDOM325_FLAG_W,CDOMSL,CDOMSL_FLAG_W,CDOM340,CDOM340_FLAG_W,CDOM443,CDOM443_FLAG_W,CDOMSN,CDOMSN_FLAG_W,BLACKC,BLACKC_FLAG_W,CDOM490,CDOM490_FLAG_W,CDOM412,CDOM412_FLAG_W,CDOM555,CDOM555_FLAG_W,DELHER,HELIER
,,,,,,,,,,,METERS,DBAR,ITS-90,PSS-78,,PSS-78,,UMOL/KG,,UMOL/KG,,UMOL/KG,,UMOL/KG,,UMOL/KG,,UMOL/KG,,PMOL/KG,,PMOL/KG,,PMOL/KG,,UMOL/KG,,UMOL/KG,,,,DEG C,TU,,NMOL/KG,,PERCNT,,DEG C,,/MILLE,,/MILLE,,/MILLE,NMOL/KG,,NMOL/KG,PMOL/KG,,NMOL/L,,/MILLE,,UMOL/KG,,UMOL/KG,,,,,,TU,/MILLE,,1/M,,1/M,,1/NM,,1/M,,1/M,,1/NM,,,,1/M,,1/M,,1/M,,PERCNT,NMOL/KG
33RR20080204,       I06S,      33,          3,         36,         36,2,20080215,       1637,   -43.4980,    29.9977,       5168,     7.0,   9.3162,  33.8718,2,  33.8719,2,    290.2,2,   290.0,2,    0.62,2,   16.65,2,    0.25,2,    1.21,2,   3.934,2,   2.324,2,   0.355,2,  2089.5,6,  2266.9,2,   8.0206,2,    13.00,    -999,9,    -999,9,    -999,9,9.3077,2,-999,9,-999,9,-999,    -999,9,    -999,5.647,2,-999,9,-999,9,   42.24,2,-999,1, 20080215,     1859, -43.4981,  29.9977,    -999,-999,9,     -999,9,     -999,9,     -999,9,     -999,9,     -999,9,     -999,9,-999,9,     -999,9,     -999,9,     -999,9,    -999,    -999
33RR20080204,       I06S,      33,          3,         35,         35,2,20080215,       1637,   -43.4980,    29.9977,       5168,    27.3,   8.7772,  33.9027,2,  33.9006,2,    293.2,2,   292.5,2,    0.62,2,   16.27,2,    0.21,2,    1.17,2,   3.973,2,   2.354,2,   0.358,2,  2086.8,2,  2269.1,2,   8.0258,2,    13.00,    -999,9,    -999,9,    -999,9,8.7798,2,-999,9,-999,9,-999,    -999,9,    -999,5.447,2,-999,9,-999,9,   44.59,2,-999,1, 20080215,     1857, -43.4981,  29.9977,    -999,-999,9,     -999,9,     -999,9,     -999,9,     -999,9,     -999,9,     -999,9,-999,9,     -999,9,     -999,9,     -999,9,    -999,    -999
33RR20080204,       I06S,      33,          3,         34,         34,2,20080215,       1637,   -43.4980,    29.9977,       5168,    51.9,   8.5536,  33.9226,2,  33.9261,2,    293.4,2,   292.6,2,    0.61,2,   16.22,2,    0.21,2,    1.17,2,   3.942,2,   2.350,2,   0.345,2,  2087.1,2,  2268.9,2,   8.0264,2,    13.00,    -999,9,    -999,9,    -999,9,8.5535,2,-999,9,-999,9,-999,    -999,9,    -999,4.969,2,-999,9,-999,9,   44.78,2,-999,1, 20080215,     1855, -43.4981,  29.9977,    -999,-999,9,     -999,9,     -999,9,     -999,9,     -999,9,     -999,9,     -999,9,-999,9,     -999,9,     -999,9,     -999,9,    -999,    -999
33RR20080204,       I06S,      33,          3,         33,         33,2,20080215,       1637,   -43.4980,    29.9977,       5168,    88.9,   8.2501,  34.3483,2,  34.3532,2,    264.9,2,   275.8,2,    3.34,2,   15.69,2,    0.69,2,    1.20,2,   3.934,2,   2.342,2,   0.342,2,    -999,9,  2281.8,2,   7.9901,2,    13.00,    -999,9,    -999,9,    -999,9,8.2639,2,-999,9,-999,9,-999,    -999,9,    -999,4.585,2,-999,9,-999,9,   45.76,2,-999,1, 20080215,     1853, -43.4981,  29.9977,    -999,-999,9,     -999,9,     -999,9,     -999,9,     -999,9,     -999,9,     -999,9,-999,9,     -999,9,     -999,9,     -999,9,    -999,    -999
33RR20080204,       I06S,      33,          3,         32,         32,2,20080215,       1637,   -43.4980,    29.9977,       5168,   112.7,   7.7983,  34.2949,2,  34.2887,2,    252.2,2,   276.9,2,    3.72,2,   16.85,2,    0.52,2,    1.27,2,   4.090,2,   2.440,2,   0.322,2,  2114.0,2,  2280.0,2,   7.9790,2,    13.00,    -999,9,    -999,9,    -999,9,7.7926,2,-999,9,-999,9,-999,    -999,9,    -999,4.219,2,-999,9,-999,9,   45.17,2,-999,1, 20080215,     1852, -43.4981,  29.9977,    -999,-999,9,     -999,9,     -999,9,     -999,9,     -999,9,     -999,9,     -999,9,-999,9,     -999,9,     -999,9,     -999,9,    -999,    -999
33RR20080204,       I06S,      33,          3,         31,         31,2,20080215,       1637,   -43.4980,    29.9977,       5168,   163.2,   8.8006,  34.5550,2,  34.5596,2,    247.5,2,   248.4,2,    5.86,2,   16.74,2,    0.02,2,    1.20,2,   3.526,2,   2.089,2,   0.248,2,  2124.4,2,  2291.0,2,   7.9773,2,    13.00,    -999,9,    -999,9,    -999,9,8.8166,2,-999,9,-999,9,-999,    -999,9,    -999,3.099,2,-999,9,-999,9,   45.37,2,-999,1, 20080215,     1849, -43.4981,  29.9977,    -999,-999,9,     -999,9,     -999,9,     -999,9,     -999,9,     -999,9,     -999,9,-999,9,     -999,9,     -999,9,     -999,9,    -999,    -999
33RR20080204,       I06S,      33,          3,         30,         30,2,20080215,       1637,   -43.4980,    29.9977,       5168,   213.4,   8.5695,  34.5460,2,  34.5474,2,    241.4,2,   240.8,2,    6.83,2,   17.87,2,    0.02,2,    1.28,2,   3.485,2,   2.040,2,   0.252,2,  2130.8,2,  2289.1,2,   7.9628,2,    13.00,    -999,9,    -999,9,    -999,9,8.5693,2,-999,9,-999,9,-999,    -999,9,    -999,2.957,2,-999,9,-999,9,   45.07,2,-999,1, 20080215,     1847, -43.4981,  29.9977,    -999,-999,9,     -999,9,     -999,9,     -999,9,     -999,9,     -999,9,     -999,9,-999,9,     -999,9,     -999,9,     -999,9,    -999,    -999
33RR20080204,       I06S,      33,          3,         29,         29,2,20080215,       1637,   -43.4980,    29.9977,       5168,   273.3,   6.8972,  34.3086,2,  34.2891,2,    266.8,2,   263.9,2,    6.62,2,   20.09,2,    0.01,2,    1.42,2,   4.043,2,   2.299,2,   0.284,2,  2131.8,2,  2278.1,2,   7.9416,2,    13.00,    -999,9,    -999,9,    -999,9,6.8752,2,-999,9,-999,9,-999,    -999,9,    -999,2.861,2,-999,9,-999,9,   42.63,2,-999,1, 20080215,     1845, -43.4980,  29.9977,    -999,-999,9,     -999,9,     -999,9,     -999,9,     -999,9,     -999,9,     -999,9,-999,9,     -999,9,     -999,9,     -999,9,    -999,    -999
33RR20080204,       I06S,      33,          3,         28,         28,2,20080215,       1637,   -43.4980,    29.9977,       5168,   322.7,   7.4735,  34.4922,2,  34.4922,2,    219.8,2,   215.8,2,   12.10,2,   22.83,2,    0.01,2,    1.58,2,   0.614,4,   1.409,4,   0.176,4,  2156.3,2,  2288.1,2,   7.8983,2,    13.00,    -999,9,    -999,9,    -999,9,7.4729,2,-999,9,-999,9,-999,    -999,9,    -999,0.366,4,-999,9,-999,9,   43.41,2,-999,1, 20080215,     1843, -43.4981,  29.9977,    -999,-999,9,     -999,9,     -999,9,     -999,9,     -999,9,     -999,9,     -999,9,-999,9,     -999,9,     -999,9,     -999,9,    -999,    -999
33RR20080204,       I06S,      33,          3,         27,         27,2,20080215,       1637,   -43.4980,    29.9977,       5168,   373.3,   6.3338,  34.3627,2,  34.3648,2,    216.4,2,   226.9,2,   12.88,2,   24.77,2,    0.01,2,    1.71,2,   3.637,2,   1.984,2,   0.271,2,  2159.4,2,  2283.8,2,   7.8790,2,    13.00,    -999,9,    -999,9,    -999,9,6.3278,2,-999,9,-999,9,-999,    -999,9,    -999,3.348,2,-999,9,-999,9,    -999,9,-999,9, 20080215,     1841, -43.4980,  29.9977,    -999,-999,9,     -999,9,     -999,9,     -999,9,     -999,9,     -999,9,     -999,9,-999,9,     -999,9,     -999,9,     -999,9,    -999,    -999
33RR20080204,       I06S,      33,          3,         26,         26,2,20080215,       1637,   -43.4980,    29.9977,       5168,   423.1,   5.0328,  34.2046,2,  34.2016,2,    249.9,2,   252.7,2,   11.50,2,   25.88,2,    0.01,2,    1.78,2,   4.260,2,   2.351,2,   0.349,2,  2156.1,2,  2275.4,2,   7.8733,2,    13.00,    -999,9,    -999,9,    -999,9,5.027,2,-999,9,-999,9,-999,    -999,9,    -999,4.174,2,-999,9,-999,9,   43.32,2,-999,1, 20080215,     1838, -43.4980,  29.9977,    -999,-999,9,     -999,9,     -999,9,     -999,9,     -999,9,     -999,9,     -999,9,-999,9,     -999,9,     -999,9,     -999,9,    -999,    -999
33RR20080204,       I06S,      33,          3,         25,         25,2,20080215,       1637,   -43.4980,    29.9977,       5168,   472.7,   5.3319,  34.3046,2,  34.3085,2,    225.7,2,   227.7,2,   17.38,2,   27.12,2,    0.01,2,    1.87,2,   3.515,2,   1.867,2,   0.287,2,  2166.0,2,  2286.4,2,   7.8574,2,    13.00,    -999,9,    -999,9,    -999,9,5.3365,2,-999,9,-999,9,-999,    -999,9,    -999,3.322,2,-999,9,-999,9,    -999,9,-999,9, 20080215,     1836, -43.4980,  29.9977,    -999,-999,9,     -999,9,     -999,9,     -999,9,     -999,9,     -999,9,     -999,9,-999,9,     -999,9,     -999,9,     -999,9,    -999,    -999
33RR20080204,       I06S,      33,          3,         24,         24,2,20080215,       1637,   -43.4980,    29.9977,       5168,   528.2,   4.8934,  34.2674,2,  34.2694,2,    230.2,2,   234.0,2,   18.36,2,   27.64,2,    0.00,2,    1.90,2,   3.516,2,   1.884,2,   0.278,2,  2168.7,2,  2285.1,2,   7.8534,2,    13.00,    -999,9,    -999,9,    -999,9,4.8933,2,-999,9,-999,9,-999,    -999,9,    -999,3.489,2,-999,9,-999,9,   43.02,2,-999,1, 20080215,     1834, -43.4981,  29.9977,    -999,-999,9,     -999,9,     -999,9,     -999,9,     -999,9,     -999,9,     -999,9,-999,1,     -999,9,     -999,9,     -999,9,    -999,    -999
33RR20080204,       I06S,      33,          3,         23,         23,2,20080215,       1637,   -43.4980,    29.9977,       5168,   649.4,   4.5655,  34.3299,2,  34.3306,2,    218.7,2,   215.8,2,   28.21,2,   29.51,2,    0.00,2,    2.04,2,   2.709,2,   1.411,2,   0.194,2,  2186.3,2,  2295.6,2,   7.8253,4,    13.00,    -999,9,    -999,9,    -999,9,4.5613,2,-999,9,-999,9,-999,    -999,9,    -999,2.85,2,-999,9,-999,9,    -999,9,-999,9, 20080215,     1830, -43.4981,  29.9977,    -999,-999,9,     -999,9,     -999,9,     -999,9,     -999,9,     -999,9,     -999,9,-999,9,     -999,9,     -999,9,     -999,9,    -999,    -999
33RR20080204,       I06S,      33,          3,         22,         22,2,20080215,       1637,   -43.4980,    29.9977,       5168,   748.6,   3.9506,  34.3239,2,  34.3253,2,    212.6,2,   211.5,2,   34.51,2,   30.90,2,    0.00,2,    2.14,2,   2.348,2,   1.202,2,   0.180,2,  2196.5,2,  2299.4,2,   7.8125,2,    13.00,    -999,9,    -999,9,    -999,9,3.9501,2,-999,9,-999,9,-999,    -999,9,    -999,2.623,2,-999,9,-999,9,   40.20,2,-999,1, 20080215,     1827, -43.4981,  29.9977,    -999,-999,9,     -999,9,     -999,9,     -999,9,     -999,9,     -999,9,     -999,9,-999,9,     -999,9,     -999,9,     -999,9,    -999,    -999
33RR20080204,       I06S,      33,          3,         21,         21,2,20080215,       1637,   -43.4980,    29.9977,       5168,   849.8,   3.5280,  34.3409,2,  34.3414,2,    204.9,2,   205.4,2,   40.45,2,   31.96,2,    0.00,2,    2.22,2,   2.014,2,   1.021,2,   0.134,2,  2206.8,2,  2305.2,2,   7.7956,3,    13.00,    -999,9,    -999,9,    -999,9,3.5253,2,-999,9,-999,9,-999,    -999,9,    -999,2.129,2,-999,9,-999,9,    -999,9,-999,9, 20080215,     1824, -43.4980,  29.9977,    -999,-999,9,     -999,9,     -999,9,     -999,9,     -999,9,     -999,9,     -999,9,-999,9,     -999,9,     -999,9,     -999,9,    -999,    -999
33RR20080204,       I06S,      33,          3,         20,         20,2,20080215,       1637,   -43.4980,    29.9977,       5168,  1050.1,   3.2397,  34.4581,2,  34.4584,2,    183.0,2,   181.7,2,   55.33,2,   33.40,2,    0.00,2,    2.32,2,   0.972,2,   0.497,2,   0.064,2,  2230.7,6,  2319.2,2,   7.7660,4,    13.00,    -999,9,    -999,9,    -999,9,3.2408,2,-999,9,-999,9,-999,    -999,9,    -999,1.287,2,-999,9,-999,9,   38.83,2,-999,1, 20080215,     1819, -43.4981,  29.9977,    -999,-999,1,     -999,9,     -999,9,     -999,9,     -999,9,     -999,9,     -999,9,-999,9,     -999,9,     -999,9,     -999,9,    -999,    -999
33RR20080204,       I06S,      33,          3,         19,         19,2,20080215,       1637,   -43.4980,    29.9977,       5168,  1256.6,   3.0067,  34.5558,2,  34.5564,2,    172.6,2,   173.2,2,   64.08,2,   33.40,2,    0.00,2,    2.32,2,   0.455,2,   0.244,2,   0.027,2,  2242.0,2,  2330.8,2,   7.7649,2,    13.00,    -999,9,    -999,9,    -999,9,3.0057,2,-999,9,-999,9,-999,    -999,9,    -999,0.773,2,-999,9,-999,9,   39.02,2,-999,1, 20080215,     1814, -43.4981,  29.9977,    -999,-999,9,     -999,9,     -999,9,     -999,9,     -999,9,     -999,9,     -999,9,-999,1,     -999,9,     -999,9,     -999,9,    -999,    -999
33RR20080204,       I06S,      33,          3,         18,         18,2,20080215,       1637,   -43.4980,    29.9977,       5168,  1417.1,   2.8431,  34.6247,2,  34.6251,2,    174.8,2,   175.0,2,   67.06,2,   32.53,2,    0.00,2,    2.26,2,   0.255,2,   0.142,2,   0.015,2,  2243.1,2,  2335.2,2,   7.7745,2,    13.00,    -999,9,    -999,9,    -999,9,2.8429,2,-999,9,-999,9,-999,    -999,9,    -999,0.53,2,-999,9,-999,9,    -999,9,-999,9, 20080215,     1810, -43.4981,  29.9977,    -999,-999,9,     -999,9,     -999,9,     -999,9,     -999,9,     -999,9,     -999,9,-999,9,     -999,9,     -999,9,     -999,9,    -999,    -999
33RR20080204,       I06S,      33,          3,         17,         17,2,20080215,       1637,   -43.4980,    29.9977,       5168,  1619.6,   2.7182,  34.6996,2,  34.7021,2,    184.1,2,   184.2,2,   66.05,2,   30.90,2,    0.00,2,    2.13,2,   0.143,2,   0.078,2,   0.010,2,  2238.5,2,  2337.7,2,   7.7958,2,    13.00,    -999,9,    -999,9,    -999,9,2.718,2,-999,9,-999,9,-999,    -999,9,    -999,0.4,2,-999,9,-999,9,   39.02,2,-999,1, 20080215,     1805, -43.4981,  29.9977,    -999,-999,1,     -999,9,     -999,9,     -999,9,     -999,9,     -999,9,     -999,9,-999,9,     -999,9,     -999,9,     -999,9,    -999,    -999
33RR20080204,       I06S,      33,          3,         16,         16,2,20080215,       1637,   -43.4980,    29.9977,       5168,  1826.2,   2.6692,  34.7528,2,  34.7534,2,    194.8,2,   195.0,2,   63.04,2,   29.18,2,    0.00,2,    2.00,2,   0.084,2,   0.044,2,   0.011,2,  2229.4,2,  2338.2,2,   7.8263,4,    13.00,    -999,9,    -999,9,    -999,9,2.6692,2,-999,9,-999,9,-999,    -999,9,    -999,0.351,2,-999,9,-999,9,    -999,9,-999,9, 20080215,     1800, -43.4980,  29.9977,    -999,-999,9,     -999,9,     -999,9,     -999,9,     -999,9,     -999,9,     -999,9,-999,9,     -999,9,     -999,9,     -999,9,    -999,    -999
33RR20080204,       I06S,      33,          3,         15,         15,2,20080215,       1637,   -43.4980,    29.9977,       5168,  2069.4,   2.5977,  34.7991,2,  34.8006,2,    206.7,2,   207.3,2,   59.24,2,   27.32,2,    0.00,2,    1.87,2,   0.049,2,   0.025,2,   0.007,2,  2219.8,2,  2338.5,2,   7.8459,2,    13.00,    -999,9,    -999,9,    -999,9,2.5976,2,-999,9,-999,9,-999,    -999,9,    -999,0.336,2,-999,9,-999,9,   42.34,2,-999,1, 20080215,     1754, -43.4980,  29.9977,    -999,-999,1,     -999,9,     -999,9,     -999,9,     -999,9,     -999,9,     -999,9,-999,9,     -999,9,     -999,9,     -999,9,    -999,    -999
33RR20080204,       I06S,      33,          3,         14,         14,2,20080215,       1637,   -43.4980,    29.9977,       5168,  2386.6,   2.4235,  34.8178,2,  34.8183,2,    213.4,2,   214.8,2,   60.63,2,   26.57,2,    0.00,2,    1.81,2,   0.040,2,   0.020,2,   0.022,2,  2216.1,2,  2341.1,2,   7.8607,2,    13.00,    -999,9,    -999,9,    -999,9,2.4239,2,-999,9,-999,9,-999,    -999,9,    -999,0.376,2,-999,9,-999,9,    -999,9,-999,9, 20080215,     1747, -43.4980,  29.9977,    -999,-999,9,     -999,9,     -999,9,     -999,9,     -999,9,     -999,9,     -999,9,-999,9,     -999,9,     -999,9,     -999,9,    -999,    -999
33RR20080204,       I06S,      33,          3,         13,         13,2,20080215,       1637,   -43.4980,    29.9977,       5168,  2640.6,   2.2896,  34.8202,2,  34.8210,2,    217.9,2,   218.6,2,   63.41,2,   26.42,2,    0.00,2,    1.81,2,   0.044,2,   0.029,2,   0.043,2,  2218.0,2,  2342.3,2,   7.8644,2,    13.00,    -999,9,    -999,9,    -999,9,2.2894,2,-999,9,-999,9,-999,    -999,9,    -999,0.518,2,-999,9,-999,9,   40.29,2,-999,1, 20080215,     1742, -43.4981,  29.9977,    -999,-999,1,     -999,9,     -999,9,     -999,9,     -999,9,     -999,9,     -999,9,-999,1,     -999,9,     -999,9,     -999,9,    -999,    -999
33RR20080204,       I06S,      33,          3,         12,         12,2,20080215,       1637,   -43.4980,    29.9977,       5168,  2949.1,   2.0565,  34.8059,2,  34.8067,2,    217.0,2,   216.6,2,   71.98,2,   27.19,2,    0.00,2,    1.86,2,   0.049,2,   0.026,2,   0.000,2,  2225.0,2,  2348.3,2,   7.8476,4,    13.00,    -999,9,    -999,9,    -999,9,2.0565,2,-999,9,-999,9,-999,    -999,9,    -999,0.271,2,-999,9,-999,9,    -999,9,-999,9, 20080215,     1735, -43.4981,  29.9977,    -999,-999,9,     -999,9,     -999,9,     -999,9,     -999,9,     -999,9,     -999,9,-999,9,     -999,9,     -999,9,     -999,9,    -999,    -999
33RR20080204,       I06S,      33,          3,         11,         11,2,20080215,       1637,   -43.4980,    29.9977,       5168,  3254.3,   1.7744,  34.7873,2,  34.7892,2,    218.2,2,   216.1,2,   81.58,2,   28.05,2,    0.00,2,    1.92,2,   0.061,2,   0.037,2,   0.000,2,  2232.9,2,  2352.5,2,   7.8485,2,    13.00,    -999,9,    -999,9,    -999,9,1.7749,2,-999,9,-999,9,-999,    -999,9,    -999,0.321,2,-999,9,-999,9,   38.83,2,-999,1, 20080215,     1728, -43.4981,  29.9977,    -999,-999,1,     -999,9,     -999,9,     -999,9,     -999,9,     -999,9,     -999,9,-999,9,     -999,9,     -999,9,     -999,9,    -999,    -999
33RR20080204,       I06S,      33,          3,         10,         10,2,20080215,       1637,   -43.4980,    29.9977,       5168,  3456.8,   1.5337,  34.7620,2,  34.7634,2,    212.7,2,   212.5,2,   91.99,2,   29.29,2,    0.00,2,    2.02,2,   0.083,2,   0.041,2,   0.009,2,  2241.3,2,  2354.9,2,   7.8413,4,    13.00,    -999,9,    -999,9,    -999,9,1.5339,2,-999,9,-999,9,-999,    -999,9,    -999,0.426,2,-999,9,-999,9,    -999,9,-999,9, 20080215,     1723, -43.4981,  29.9977,    -999,-999,9,     -999,9,     -999,9,     -999,9,     -999,9,     -999,9,     -999,9,-999,9,     -999,9,     -999,9,     -999,9,    -999,    -999
33RR20080204,       I06S,      33,          3,          9,          9,2,20080215,       1637,   -43.4980,    29.9977,       5168,  3660.0,   1.3234,  34.7456,2,  34.7461,2,    211.6,2,   212.0,2,   99.21,2,   30.11,2,    0.00,2,    2.07,2,   0.101,2,   0.051,2,   0.009,2,  2247.4,2,  2356.6,2,   7.8232,3,    13.00,    -999,9,    -999,9,    -999,9,1.324,2,-999,9,-999,9,-999,    -999,9,    -999,0.477,2,-999,9,-999,9,   36.78,2,-999,1, 20080215,     1718, -43.4980,  29.9977,    -999,-999,9,     -999,9,     -999,9,     -999,9,     -999,9,     -999,9,     -999,9,-999,9,     -999,9,     -999,9,     -999,9,    -999,    -999
33RR20080204,       I06S,      33,          3,          8,          8,2,20080215,       1637,   -43.4980,    29.9977,       5168,  3864.2,   1.1296,  34.7318,2,  34.7310,2,    213.3,2,   213.1,2,  105.64,2,   30.64,2,    0.00,2,    2.12,2,   0.114,2,   0.065,2,   0.011,2,  2251.2,2,  2359.9,2,   7.8199,2,    13.00,    -999,9,    -999,9,    -999,9,1.13,2,-999,9,-999,9,-999,    -999,9,    -999,0.555,2,-999,9,-999,9,    -999,9,-999,9, 20080215,     1713, -43.4981,  29.9977,    -999,-999,1,     -999,9,     -999,9,     -999,9,     -999,9,     -999,9,     -999,9,-999,9,     -999,9,     -999,9,     -999,9,    -999,    -999