BOTTLE,20220706CCHSIOAMB
EXPOCODE,SECT_ID,STNNBR,CASTNO,SAMPNO,BTLNBR,BTLNBR_FLAG_W,DATE,TIME,LATITUDE,LONGITUDE,DEPTH,CTDPRS,CTDTMP,CTDSAL,CTDSAL_FLAG_W,SALNTY,SALNTY_FLAG_W,CTDOXY,CTDOXY_FLAG_W,OXYGEN,OXYGEN_FLAG_W,SILCAT,SILCAT_FLAG_W,NITRAT,NITRAT_FLAG_W,NITRIT,NITRIT_FLAG_W,PHSPHT,PHSPHT_FLAG_W,CFC-11,CFC-11_FLAG_W,CFC-12,CFC-12_FLAG_W,CFC113,CFC113_FLAG_W,TCARBN,TCARBN_FLAG_W,ALKALI,ALKALI_FLAG_W,PH_SWS,PH_SWS_FLAG_W,PH_TMP,TRITUM,TRITUM_FLAG_W,HELIUM,HELIUM_FLAG_W,DELHE3,DELHE3_FLAG_W,REFTMP,REFTMP_FLAG_W,DELC13,DELC13_FLAG_W,DELC14,DELC14_FLAG_W,C14ERR,NEON,NEON_FLAG_W,NEONER,CCL4,CCL4_FLAG_W,ALUMIN,ALUMIN_FLAG_W,DELO18,DELO18_FLAG_W,DOC,DOC_FLAG_W,TDN,TDN_FLAG_W,BTL_DATE,BTL_TIME,BTL_LAT,BTL_LON,TRITER,DELSI30,DELSI30_FLAG_W,CDOM380,CDOM380_FLAG_W,CDOM325,CDOM325_FLAG_W,CDOMSL,CDOMSL_FLAG_W,CDOM340,CDOM340_FLAG_W,CDOM443,CDOM443_FLAG_W,CDOMSN,CDOMSN_FLAG_W,BLACKC,BLACKC_FLAG_W,CDOM490,CDOM490_FLAG_W,CDOM412,CDOM412_FLAG_W,CDOM555,CDOM555_FLAG_W,DELHER,HELIER
,,,,,,,,,,,METERS,DBAR,ITS-90,PSS-78,,PSS-78,,UMOL/KG,,UMOL/KG,,UMOL/KG,,UMOL/KG,,UMOL/KG,,UMOL/KG,,PMOL/KG,,PMOL/KG,,PMOL/KG,,UMOL/KG,,UMOL/KG,,,,DEG C,TU,,NMOL/KG,,PERCNT,,DEG C,,/MILLE,,/MILLE,,/MILLE,NMOL/KG,,NMOL/KG,PMOL/KG,,NMOL/L,,/MILLE,,UMOL/KG,,UMOL/KG,,,,,,TU,/MILLE,,1/M,,1/M,,1/NM,,1/M,,1/M,,1/NM,,,,1/M,,1/M,,1/M,,PERCNT,NMOL/KG
33RR20080204,       I06S,      70,          2,         36,         36,2,20080227,       1418,   -61.9994,    29.9966,       5188,     3.5,   0.8608,  33.7468,2,  33.7472,2,    337.0,2,   337.4,2,   49.42,2,   25.53,2,    0.35,2,    1.80,2,   6.219,2,   3.514,2,   0.489,2,  2158.8,6,  2288.8,2,   7.8930,2,    13.00,    -999,9,    -999,9,    -999,9,0.8606,2,-999,9,-999,9,-999,    -999,9,    -999,8.687,2,-999,9,-0.34,2,    -999,9,-999,9, 20080227,     1623, -61.9994,  29.9965,    -999,-999,9,     -999,9,     -999,9,     -999,9,     -999,9,     -999,9,     -999,9,-999,9,     -999,9,     -999,9,     -999,9,    -999,    -999
33RR20080204,       I06S,      70,          2,         35,         35,2,20080227,       1418,   -61.9994,    29.9966,       5188,    26.1,   0.7451,  33.7471,2,  33.7478,2,    337.9,2,   337.3,2,   49.41,2,   25.49,2,    0.34,2,    1.79,2,   6.258,2,   3.542,2,   0.477,2,    -999,9,  2289.3,2,   7.8894,4,    13.00,    -999,9,    -999,9,    -999,9,0.7444,2,-999,9,-999,9,-999,    -999,9,    -999,8.391,2,-999,9,-0.4,2,    -999,9,-999,9, 20080227,     1621, -61.9994,  29.9965,    -999,-999,9,     -999,9,     -999,9,     -999,9,     -999,9,     -999,9,     -999,9,-999,9,     -999,9,     -999,9,     -999,9,    -999,    -999
33RR20080204,       I06S,      70,          2,         34,         34,2,20080227,       1418,   -61.9994,    29.9966,       5188,    46.5,   0.7125,  33.7737,2,  33.7801,2,    337.9,2,   337.1,2,   49.95,2,   25.42,2,    0.33,2,    1.79,2,   6.251,2,   3.545,2,   0.480,2,    -999,9,  2291.1,2,   7.8919,2,    13.00,    -999,9,    -999,9,    -999,9,0.7027,2,-999,9,-999,9,-999,    -999,9,    -999,8.215,2,-999,9,-0.39,2,    -999,9,-999,9, 20080227,     1620, -61.9994,  29.9966,    -999,-999,9,     -999,9,     -999,9,     -999,9,     -999,9,     -999,9,     -999,9,-999,9,     -999,9,     -999,9,     -999,9,    -999,    -999
33RR20080204,       I06S,      70,          2,         33,         33,2,20080227,       1418,   -61.9994,    29.9966,       5188,    76.7,  -1.2882,  34.1131,2,  34.1207,2,    337.8,2,   335.8,2,   56.79,2,   28.14,2,    0.24,2,    1.97,2,   6.053,2,   3.416,2,   0.468,2,    -999,9,  2309.7,2,   7.8530,2,    13.00,    -999,9,    -999,9,    -999,9,-1.2884,2,-999,9,-999,9,-999,    -999,9,    -999,7.595,2,-999,9,-0.19,2,    -999,9,-999,9, 20080227,     1618, -61.9993,  29.9965,    -999,-999,9,     -999,9,     -999,9,     -999,9,     -999,9,     -999,9,     -999,9,-999,9,     -999,9,     -999,9,     -999,9,    -999,    -999
33RR20080204,       I06S,      70,          2,         32,         32,2,20080227,       1418,   -61.9994,    29.9966,       5188,   101.3,  -0.6093,  34.2329,2,  34.2254,2,    322.4,2,   304.6,2,   64.02,2,   29.94,2,    0.25,2,    2.09,2,   5.156,2,   2.920,2,   0.421,2,    -999,9,  2316.7,2,   7.8185,2,    13.00,    -999,9,    -999,9,    -999,9,-0.6282,2,-999,9,-999,9,-999,    -999,9,    -999,6.258,2,-999,9,-0.28,2,    -999,9,-999,9, 20080227,     1617, -61.9994,  29.9965,    -999,-999,9,     -999,9,     -999,9,     -999,9,     -999,9,     -999,9,     -999,9,-999,9,     -999,9,     -999,9,     -999,9,    -999,    -999
33RR20080204,       I06S,      70,          2,         31,         31,2,20080227,       1418,   -61.9994,    29.9966,       5188,   151.7,   1.0528,  34.4966,2,  34.4942,2,    242.2,2,   213.7,2,   80.02,2,   33.49,2,    0.02,2,    2.33,2,   2.317,2,   1.233,2,   0.182,2,    -999,9,  2331.6,2,   7.7540,4,    13.00,    -999,9,    -999,9,    -999,9,1.0382,2,-999,9,-999,9,-999,    -999,9,    -999,3.175,2,-999,9,-0.09,2,    -999,9,-999,9, 20080227,     1615, -61.9994,  29.9966,    -999,-999,9,     -999,9,     -999,9,     -999,9,     -999,9,     -999,9,     -999,9,-999,9,     -999,9,     -999,9,     -999,9,    -999,    -999
33RR20080204,       I06S,      70,          2,         30,         30,2,20080227,       1418,   -61.9994,    29.9966,       5188,   202.8,   1.2715,  34.5849,2,  34.5806,2,    203.2,2,   198.5,2,   85.44,2,   33.37,2,    0.01,2,    2.31,2,   1.546,2,   0.840,2,   0.144,2,    -999,9,  2338.6,2,   7.7472,3,    13.00,    -999,9,    -999,9,    -999,9,1.2693,2,-999,9,-999,9,-999,    -999,9,    -999,2.281,2,-999,9,-0.1,2,    -999,9,-999,9, 20080227,     1613, -61.9994,  29.9965,    -999,-999,9,     -999,9,     -999,9,     -999,9,     -999,9,     -999,9,     -999,9,-999,9,     -999,9,     -999,9,     -999,9,    -999,    -999
33RR20080204,       I06S,      70,          2,         29,         29,2,20080227,       1418,   -61.9994,    29.9966,       5188,   253.0,   1.4474,  34.6406,2,  34.6398,2,    193.4,2,   191.4,2,   87.86,2,   32.93,2,    0.00,2,    2.28,2,   0.998,2,   0.541,2,   0.092,2,    -999,9,  2343.2,2,   7.7540,2,    13.00,    -999,9,    -999,9,    -999,9,1.4457,2,-999,9,-999,9,-999,    -999,9,    -999,1.582,2,-999,9,-999,9,    -999,9,-999,9, 20080227,     1611, -61.9994,  29.9965,    -999,-999,9,     -999,9,     -999,9,     -999,9,     -999,9,     -999,9,     -999,9,-999,9,     -999,9,     -999,9,     -999,9,    -999,    -999
33RR20080204,       I06S,      70,          2,         28,         28,2,20080227,       1418,   -61.9994,    29.9966,       5188,   302.9,   1.4558,  34.6678,2,  34.6683,2,    191.1,2,   190.9,2,   89.73,2,   32.50,2,    0.00,2,    2.25,2,   0.794,2,   0.443,2,   0.091,2,    -999,9,  2345.8,2,   7.7627,2,    13.00,    -999,9,    -999,9,    -999,9,1.4553,2,-999,9,-999,9,-999,    -999,9,    -999,1.329,2,-999,9,-0.07,2,    -999,9,-999,9, 20080227,     1610, -61.9994,  29.9966,    -999,-999,9,     -999,9,     -999,9,     -999,9,     -999,9,     -999,9,     -999,9,-999,9,     -999,9,     -999,9,     -999,9,    -999,    -999
33RR20080204,       I06S,      70,          2,         27,         27,2,20080227,       1418,   -61.9994,    29.9966,       5188,   353.0,   1.4418,  34.6869,2,  34.6871,2,    191.8,2,   192.4,2,   91.41,2,   32.13,2,    0.00,2,    2.23,2,   0.661,2,   0.381,2,   0.069,2,    -999,9,  2348.2,2,   7.7710,2,    13.00,    -999,9,    -999,9,    -999,9,1.444,2,-999,9,-999,9,-999,    -999,9,    -999,1.205,2,-999,9,-999,9,    -999,9,-999,9, 20080227,     1608, -61.9993,  29.9965,    -999,-999,9,     -999,9,     -999,9,     -999,9,     -999,9,     -999,9,     -999,9,-999,9,     -999,9,     -999,9,     -999,9,    -999,    -999
33RR20080204,       I06S,      70,          2,         26,         26,2,20080227,       1418,   -61.9994,    29.9966,       5188,   403.9,   1.4211,  34.6961,2,  34.6967,2,    193.3,2,   193.3,2,   91.97,2,   31.85,2,    0.00,2,    2.21,2,   0.589,2,   0.329,2,   0.035,2,    -999,9,  2348.8,2,   7.7762,2,    13.00,    -999,9,    -999,9,    -999,9,1.4195,2,-999,9,-999,9,-999,    -999,9,    -999,1.007,2,-999,9,-0.03,2,    -999,9,-999,9, 20080227,     1606, -61.9994,  29.9965,    -999,-999,9,     -999,9,     -999,9,     -999,9,     -999,9,     -999,9,     -999,9,-999,9,     -999,9,     -999,9,     -999,9,    -999,    -999
33RR20080204,       I06S,      70,          2,         25,         25,2,20080227,       1418,   -61.9994,    29.9966,       5188,   453.7,   1.3727,  34.7040,2,  34.7050,2,    195.0,2,   195.3,2,   93.47,2,   31.62,2,    0.00,2,    2.19,2,   0.524,2,   0.295,2,   0.049,2,    -999,9,  2350.9,2,   7.7805,2,    13.00,    -999,9,    -999,9,    -999,9,1.373,2,-999,9,-999,9,-999,    -999,9,    -999,0.899,2,-999,9,-999,9,    -999,9,-999,9, 20080227,     1604, -61.9994,  29.9965,    -999,-999,9,     -999,9,     -999,9,     -999,9,     -999,9,     -999,9,     -999,9,-999,9,     -999,9,     -999,9,     -999,9,    -999,    -999
33RR20080204,       I06S,      70,          2,         24,         24,2,20080227,       1418,   -61.9994,    29.9966,       5188,   509.3,   1.2841,  34.7049,2,  34.7048,2,    196.1,2,   197.0,2,   95.91,2,   31.66,2,    0.00,2,    2.20,2,   0.517,2,   0.302,2,   0.044,2,    -999,9,  2350.3,2,   7.7806,2,    13.00,    -999,9,    -999,9,    -999,9,1.2832,2,-999,9,-999,9,-999,    -999,9,    -999,0.893,2,-999,9,-999,9,    -999,9,-999,9, 20080227,     1602, -61.9994,  29.9965,    -999,-999,9,     -999,9,     -999,9,     -999,9,     -999,9,     -999,9,     -999,9,-999,9,     -999,9,     -999,9,     -999,9,    -999,    -999
33RR20080204,       I06S,      70,          2,         23,         23,2,20080227,       1418,   -61.9994,    29.9966,       5188,   609.2,   1.1942,  34.7122,2,  34.7129,2,    198.5,2,   199.8,2,   98.92,2,   31.47,2,    0.00,2,    2.18,2,   0.431,2,   0.233,2,   0.046,2,    -999,9,  2351.0,2,   7.7867,2,    13.00,    -999,9,    -999,9,    -999,9,1.1941,2,-999,9,-999,9,-999,    -999,9,    -999,0.776,2,-999,9,-999,9,    -999,9,-999,9, 20080227,     1559, -61.9994,  29.9965,    -999,-999,9,     -999,9,     -999,9,     -999,9,     -999,9,     -999,9,     -999,9,-999,9,     -999,9,     -999,9,     -999,9,    -999,    -999
33RR20080204,       I06S,      70,          2,         22,         22,2,20080227,       1418,   -61.9994,    29.9966,       5188,   709.5,   1.0725,  34.7113,2,  34.7115,2,    200.8,2,   201.0,2,  102.30,2,   31.43,2,    0.00,2,    2.19,2,   0.406,2,   0.223,2,   0.031,2,    -999,9,  2353.4,2,   7.7881,2,    13.00,    -999,9,    -999,9,    -999,9,1.0735,2,-999,9,-999,9,-999,    -999,9,    -999,0.763,2,-999,9,-0.02,2,    -999,9,-999,9, 20080227,     1556, -61.9994,  29.9966,    -999,-999,9,     -999,9,     -999,9,     -999,9,     -999,9,     -999,9,     -999,9,-999,9,     -999,9,     -999,9,     -999,9,    -999,    -999
33RR20080204,       I06S,      70,          2,         21,         21,2,20080227,       1418,   -61.9994,    29.9966,       5188,   810.9,   0.9650,  34.7069,2,  34.7073,2,    202.0,2,   202.4,2,  105.50,2,   31.71,2,    0.00,2,    2.20,2,   0.396,2,   0.217,2,   0.035,2,    -999,9,  2355.4,2,   7.7865,2,    13.00,    -999,9,    -999,9,    -999,9,0.9641,2,-999,9,-999,9,-999,    -999,9,    -999,0.772,2,-999,9,-999,9,    -999,9,-999,9, 20080227,     1554, -61.9994,  29.9965,    -999,-999,9,     -999,9,     -999,9,     -999,9,     -999,9,     -999,9,     -999,9,-999,9,     -999,9,     -999,9,     -999,9,    -999,    -999
33RR20080204,       I06S,      70,          2,         20,         20,2,20080227,       1418,   -61.9994,    29.9966,       5188,   911.6,   0.8501,  34.7021,2,  34.7026,2,    203.2,2,   202.5,2,  108.71,2,   32.01,2,    0.00,2,    2.22,2,   0.426,2,   0.235,2,   0.042,2,    -999,9,  2355.4,2,   7.7820,2,    13.00,    -999,9,    -999,9,    -999,9,0.85,2,-999,9,-999,9,-999,    -999,9,    -999,0.843,2,-999,9,-999,9,    -999,9,-999,9, 20080227,     1551, -61.9994,  29.9965,    -999,-999,9,     -999,9,     -999,9,     -999,9,     -999,9,     -999,9,     -999,9,-999,9,     -999,9,     -999,9,     -999,9,    -999,    -999
33RR20080204,       I06S,      70,          2,         19,         19,2,20080227,       1418,   -61.9994,    29.9966,       5188,  1014.2,   0.7710,  34.7008,2,  34.7020,2,    204.1,2,   203.4,2,  111.17,2,   32.09,2,    0.00,2,    2.23,2,   0.381,2,   0.210,2,   0.033,2,    -999,9,  2357.2,2,   7.7826,2,    13.00,    -999,9,    -999,9,    -999,9,0.7703,2,-999,9,-999,9,-999,    -999,9,    -999,0.853,2,-999,9,-999,9,    -999,9,-999,9, 20080227,     1548, -61.9994,  29.9965,    -999,-999,9,     -999,9,     -999,9,     -999,9,     -999,9,     -999,9,     -999,9,-999,9,     -999,9,     -999,9,     -999,9,    -999,    -999
33RR20080204,       I06S,      70,          2,         18,         18,2,20080227,       1418,   -61.9994,    29.9966,       5188,  1116.5,   0.7023,  34.6984,2,  34.6995,2,    204.6,2,   203.8,2,  113.05,2,   32.24,2,    0.00,2,    2.24,2,   0.353,2,   0.196,2,   0.028,2,    -999,9,  2356.9,2,   7.7824,3,    13.00,    -999,9,    -999,9,    -999,9,0.7016,2,-999,9,-999,9,-999,    -999,9,    -999,0.695,2,-999,9,-0.14,2,    -999,9,-999,9, 20080227,     1546, -61.9994,  29.9965,    -999,-999,9,     -999,9,     -999,9,     -999,9,     -999,9,     -999,9,     -999,9,-999,9,     -999,9,     -999,9,     -999,9,    -999,    -999
33RR20080204,       I06S,      70,          2,         17,         17,2,20080227,       1418,   -61.9994,    29.9966,       5188,  1218.1,   0.6460,  34.6961,2,  34.6962,2,    205.0,2,   204.4,2,  115.13,2,   32.39,2,    0.00,2,    2.25,2,   0.347,2,   0.182,2,   0.025,2,    -999,9,    -999,9,     -999,9,     -999,    -999,9,    -999,9,    -999,9,0.6456,2,-999,9,-999,9,-999,    -999,9,    -999,0.687,2,-999,9,-999,9,    -999,9,-999,9, 20080227,     1543, -61.9994,  29.9966,    -999,-999,9,     -999,9,     -999,9,     -999,9,     -999,9,     -999,9,     -999,9,-999,9,     -999,9,     -999,9,     -999,9,    -999,    -999
33RR20080204,       I06S,      70,          2,         16,         16,2,20080227,       1418,   -61.9994,    29.9966,       5188,  1420.6,   0.5291,  34.6916,2,  34.6922,2,    205.8,2,   205.5,2,  118.92,2,   32.48,2,    0.00,2,    2.25,2,   0.320,2,   0.168,2,   0.022,2,    -999,9,    -999,9,     -999,9,     -999,    -999,9,    -999,9,    -999,9,0.5287,2,-999,9,-999,9,-999,    -999,9,    -999,0.666,2,-999,9,-999,9,    -999,9,-999,9, 20080227,     1538, -61.9994,  29.9965,    -999,-999,9,     -999,9,     -999,9,     -999,9,     -999,9,     -999,9,     -999,9,-999,9,     -999,9,     -999,9,     -999,9,    -999,    -999
33RR20080204,       I06S,      70,          2,         15,         15,2,20080227,       1418,   -61.9994,    29.9966,       5188,  1624.5,   0.4283,  34.6876,2,  34.6883,2,    207.4,2,   207.7,2,  122.33,2,   32.73,2,    0.00,2,    2.26,2,   0.288,2,   0.156,2,   0.017,2,    -999,9,    -999,9,     -999,9,     -999,    -999,9,    -999,9,    -999,9,0.4282,2,-999,9,-999,9,-999,    -999,9,    -999,0.647,2,-999,9,-999,9,    -999,9,-999,9, 20080227,     1534, -61.9994,  29.9965,    -999,-999,9,     -999,9,     -999,9,     -999,9,     -999,9,     -999,9,     -999,9,-999,9,     -999,9,     -999,9,     -999,9,    -999,    -999
33RR20080204,       I06S,      70,          2,         14,         14,2,20080227,       1418,   -61.9994,    29.9966,       5188,  1826.9,   0.3413,  34.6840,2,  34.6830,2,    209.6,2,   209.5,2,  124.24,2,   32.78,2,    0.00,2,    2.27,2,   0.289,2,   0.151,2,   0.015,2,    -999,9,    -999,9,     -999,9,     -999,    -999,9,    -999,9,    -999,9,0.3419,2,-999,9,-999,9,-999,    -999,9,    -999,0.684,2,-999,9,-0.19,2,    -999,9,-999,9, 20080227,     1529, -61.9994,  29.9965,    -999,-999,9,     -999,9,     -999,9,     -999,9,     -999,9,     -999,9,     -999,9,-999,9,     -999,9,     -999,9,     -999,9,    -999,    -999
33RR20080204,       I06S,      70,          2,         13,         13,2,20080227,       1418,   -61.9994,    29.9966,       5188,  2031.1,   0.2517,  34.6796,2,  34.6785,2,    212.1,2,   213.0,2,  125.37,2,   32.83,2,    0.00,2,    2.27,2,   0.313,2,   0.164,2,   0.017,2,    -999,9,    -999,9,     -999,9,     -999,    -999,9,    -999,9,    -999,9,0.2521,2,-999,9,-999,9,-999,    -999,9,    -999,0.746,2,-999,9,-999,9,    -999,9,-999,9, 20080227,     1525, -61.9994,  29.9965,    -999,-999,9,     -999,9,     -999,9,     -999,9,     -999,9,     -999,9,     -999,9,-999,9,     -999,9,     -999,9,     -999,9,    -999,    -999
33RR20080204,       I06S,      70,          2,         12,         12,2,20080227,       1418,   -61.9994,    29.9966,       5188,  2333.5,   0.1416,  34.6742,2,  34.6737,2,    216.8,2,   217.5,2,  127.09,2,   32.78,2,    0.00,2,    2.27,2,   0.299,2,   0.170,2,   0.018,2,    -999,9,    -999,9,     -999,9,     -999,    -999,9,    -999,9,    -999,9,0.1414,2,-999,9,-999,9,-999,    -999,9,    -999,0.724,2,-999,9,-999,9,    -999,9,-999,9, 20080227,     1519, -61.9994,  29.9965,    -999,-999,9,     -999,9,     -999,9,     -999,9,     -999,9,     -999,9,     -999,9,-999,9,     -999,9,     -999,9,     -999,9,    -999,    -999
33RR20080204,       I06S,      70,          2,         11,         11,2,20080227,       1418,   -61.9994,    29.9966,       5188,  2643.9,   0.0324,  34.6695,2,  34.6702,2,    221.7,2,   222.5,2,  127.28,2,   32.69,2,    0.00,2,    2.27,2,   0.321,2,   0.178,2,   0.024,2,    -999,9,    -999,9,     -999,9,     -999,    -999,9,    -999,9,    -999,9,0.0325,2,-999,9,-999,9,-999,    -999,9,    -999,0.837,2,-999,9,-999,9,    -999,9,-999,9, 20080227,     1513, -61.9994,  29.9966,    -999,-999,9,     -999,9,     -999,9,     -999,9,     -999,9,     -999,9,     -999,9,-999,9,     -999,9,     -999,9,     -999,9,    -999,    -999
33RR20080204,       I06S,      70,          2,         10,         10,2,20080227,       1418,   -61.9994,    29.9966,       5188,  2948.3,  -0.0490,  34.6660,2,  34.6661,2,    226.1,2,   227.0,2,  127.65,2,   32.59,2,    0.00,2,    2.27,2,   0.339,2,   0.190,2,   0.022,2,    -999,9,    -999,9,     -999,9,     -999,    -999,9,    -999,9,    -999,9,-0.0489,2,-999,9,-999,9,-999,    -999,9,    -999,0.884,2,-999,9,-0.18,2,    -999,9,-999,9, 20080227,     1506, -61.9994,  29.9965,    -999,-999,9,     -999,9,     -999,9,     -999,9,     -999,9,     -999,9,     -999,9,-999,9,     -999,9,     -999,9,     -999,9,    -999,    -999
33RR20080204,       I06S,      70,          2,          9,          9,2,20080227,       1418,   -61.9994,    29.9966,       5188,  3258.6,  -0.1164,  34.6631,2,  34.6631,2,    230.3,2,   230.8,2,  127.84,2,   32.55,2,    0.00,2,    2.26,2,   0.360,6,   0.197,6,   0.017,6,    -999,9,    -999,9,     -999,9,     -999,    -999,9,    -999,9,    -999,9,-0.1162,2,-999,9,-999,9,-999,    -999,9,    -999,0.965,2,-999,9,-999,9,    -999,9,-999,9, 20080227,     1500, -61.9994,  29.9966,    -999,-999,9,     -999,9,     -999,9,     -999,9,     -999,9,     -999,9,     -999,9,-999,9,     -999,9,     -999,9,     -999,9,    -999,    -999
33RR20080204,       I06S,      70,          2,          8,          8,2,20080227,       1418,   -61.9994,    29.9966,       5188,  3567.2,  -0.1676,  34.6604,2,  34.6604,2,    233.8,2,   234.8,2,  127.64,2,   32.41,2,    0.00,2,    2.25,2,   0.399,2,   0.229,2,   0.020,2,    -999,9,    -999,9,     -999,9,     -999,    -999,9,    -999,9,    -999,9,-0.1675,2,-999,9,-999,9,-999,    -999,9,    -999,1.008,2,-999,9,-999,9,    -999,9,-999,9, 20080227,     1454, -61.9993,  29.9965,    -999,-999,9,     -999,9,     -999,9,     -999,9,     -999,9,     -999,9,     -999,9,-999,9,     -999,9,     -999,9,     -999,9,    -999,    -999