BOTTLE,20220706CCHSIOAMB
EXPOCODE,SECT_ID,STNNBR,CASTNO,SAMPNO,BTLNBR,BTLNBR_FLAG_W,DATE,TIME,LATITUDE,LONGITUDE,DEPTH,CTDPRS,CTDTMP,CTDSAL,CTDSAL_FLAG_W,SALNTY,SALNTY_FLAG_W,CTDOXY,CTDOXY_FLAG_W,OXYGEN,OXYGEN_FLAG_W,SILCAT,SILCAT_FLAG_W,NITRAT,NITRAT_FLAG_W,NITRIT,NITRIT_FLAG_W,PHSPHT,PHSPHT_FLAG_W,CFC-11,CFC-11_FLAG_W,CFC-12,CFC-12_FLAG_W,CFC113,CFC113_FLAG_W,TCARBN,TCARBN_FLAG_W,ALKALI,ALKALI_FLAG_W,PH_SWS,PH_SWS_FLAG_W,PH_TMP,TRITUM,TRITUM_FLAG_W,HELIUM,HELIUM_FLAG_W,DELHE3,DELHE3_FLAG_W,REFTMP,REFTMP_FLAG_W,DELC13,DELC13_FLAG_W,DELC14,DELC14_FLAG_W,C14ERR,NEON,NEON_FLAG_W,NEONER,CCL4,CCL4_FLAG_W,ALUMIN,ALUMIN_FLAG_W,DELO18,DELO18_FLAG_W,DOC,DOC_FLAG_W,TDN,TDN_FLAG_W,BTL_DATE,BTL_TIME,BTL_LAT,BTL_LON,TRITER,DELSI30,DELSI30_FLAG_W,CDOM380,CDOM380_FLAG_W,CDOM325,CDOM325_FLAG_W,CDOMSL,CDOMSL_FLAG_W,CDOM340,CDOM340_FLAG_W,CDOM443,CDOM443_FLAG_W,CDOMSN,CDOMSN_FLAG_W,BLACKC,BLACKC_FLAG_W,CDOM490,CDOM490_FLAG_W,CDOM412,CDOM412_FLAG_W,CDOM555,CDOM555_FLAG_W,DELHER,HELIER
,,,,,,,,,,,METERS,DBAR,ITS-90,PSS-78,,PSS-78,,UMOL/KG,,UMOL/KG,,UMOL/KG,,UMOL/KG,,UMOL/KG,,UMOL/KG,,PMOL/KG,,PMOL/KG,,PMOL/KG,,UMOL/KG,,UMOL/KG,,,,DEG C,TU,,NMOL/KG,,PERCNT,,DEG C,,/MILLE,,/MILLE,,/MILLE,NMOL/KG,,NMOL/KG,PMOL/KG,,NMOL/L,,/MILLE,,UMOL/KG,,UMOL/KG,,,,,,TU,/MILLE,,1/M,,1/M,,1/NM,,1/M,,1/M,,1/NM,,,,1/M,,1/M,,1/M,,PERCNT,NMOL/KG
33RR20080204,       I06S,      18,          1,          7,          7,2,20080210,       1520,   -36.0031,    29.9987,       4680,  2995.1,   2.4172,  34.8128,3,  34.8207,2,    213.6,3,   216.8,2,   62.09,2,   26.55,2,    0.00,2,    1.81,2,   0.027,2,   0.017,2,   0.000,2,    -999,9,    -999,9,     -999,9,     -999,    -999,9,    -999,9,    -999,9,-999,9,-999,9,-999,9,-999,    -999,9,    -999,0.215,2,-999,9,-999,9,    -999,9,-999,9, 20080210,     1558, -36.0031,  29.9987,    -999,-999,9,     -999,9,     -999,9,     -999,9,     -999,9,     -999,9,     -999,9,-999,9,     -999,9,     -999,9,     -999,9,    -999,    -999
33RR20080204,       I06S,      18,          1,          6,          6,2,20080210,       1520,   -36.0031,    29.9987,       4680,  3303.4,   2.2071,  34.8086,3,  34.8158,2,    218.4,3,   218.6,2,   68.00,2,   26.85,2,    0.00,2,    1.83,2,   0.033,2,   0.023,2,   0.000,2,    -999,9,    -999,9,     -999,9,     -999,    -999,9,    -999,9,    -999,9,-999,9,-999,9,-999,9,-999,    -999,9,    -999,0.306,2,-999,9,-999,9,    -999,9,-999,9, 20080210,     1551, -36.0031,  29.9987,    -999,-999,9,     -999,9,     -999,9,     -999,9,     -999,9,     -999,9,     -999,9,-999,9,     -999,9,     -999,9,     -999,9,    -999,    -999
33RR20080204,       I06S,      18,          1,          5,          5,2,20080210,       1520,   -36.0031,    29.9987,       4680,  3610.1,   1.9476,  34.7868,3,  34.7986,2,    216.4,3,   218.8,2,   77.17,2,   27.61,2,    0.00,2,    1.88,2,   0.037,2,   0.026,2,   0.000,2,    -999,9,    -999,5,     -999,9,     -999,    -999,9,    -999,9,    -999,9,-999,9,-999,9,-999,9,-999,    -999,9,    -999,0.383,2,-999,9,-999,9,    -999,9,-999,9, 20080210,     1545, -36.0031,  29.9987,    -999,-999,9,     -999,9,     -999,9,     -999,9,     -999,9,     -999,9,     -999,9,-999,9,     -999,9,     -999,9,     -999,9,    -999,    -999
33RR20080204,       I06S,      18,          1,          4,          4,2,20080210,       1520,   -36.0031,    29.9987,       4680,  3920.7,   1.5879,  34.7586,3,  34.7711,2,    217.5,3,   216.6,2,   90.03,2,   28.93,2,    0.00,2,    1.98,2,   0.059,2,   0.038,2,   0.000,2,    -999,9,    -999,9,     -999,9,     -999,    -999,9,    -999,9,    -999,9,-999,9,-999,9,-999,9,-999,    -999,9,    -999,0.525,2,-999,9,-999,9,    -999,9,-999,9, 20080210,     1538, -36.0031,  29.9987,    -999,-999,9,     -999,9,     -999,9,     -999,9,     -999,9,     -999,9,     -999,9,-999,9,     -999,9,     -999,9,     -999,9,    -999,    -999
33RR20080204,       I06S,      18,          1,          3,          3,2,20080210,       1520,   -36.0031,    29.9987,       4680,  4225.8,   1.3502,  34.7364,3,  34.7524,2,    216.6,3,   216.5,2,   98.60,2,   29.75,2,    0.00,2,    2.05,2,   0.066,2,   0.041,2,   0.000,2,    -999,9,  2357.5,2,     -999,9,     -999,    -999,9,    -999,9,    -999,9,-999,9,-999,9,-999,9,-999,    -999,9,    -999,0.695,2,-999,9,-999,9,    -999,9,-999,9, 20080210,     1532, -36.0031,  29.9987,    -999,-999,9,     -999,9,     -999,9,     -999,9,     -999,9,     -999,9,     -999,9,-999,9,     -999,9,     -999,9,     -999,9,    -999,    -999
33RR20080204,       I06S,      18,          1,          2,          2,2,20080210,       1520,   -36.0031,    29.9987,       4680,  4531.3,   1.1887,  34.7260,3,  34.7390,2,    217.0,3,   216.7,2,  104.92,2,   30.41,2,    0.00,2,    2.09,2,   0.090,2,   0.057,2,   0.000,2,    -999,9,  2363.2,2,     -999,9,     -999,    -999,9,    -999,9,    -999,9,-999,9,-999,9,-999,9,-999,    -999,9,    -999,0.88,2,-999,9,-999,9,    -999,9,-999,9, 20080210,     1526, -36.0031,  29.9987,    -999,-999,9,     -999,9,     -999,9,     -999,9,     -999,9,     -999,9,     -999,9,-999,9,     -999,9,     -999,9,     -999,9,    -999,    -999
33RR20080204,       I06S,      18,          1,          1,          1,2,20080210,       1520,   -36.0031,    29.9987,       4680,  4737.9,   1.0985,  34.7290,2,  34.7302,2,    200.6,4,   215.8,2,  109.21,2,   30.77,2,    0.00,2,    2.13,2,   0.105,2,   0.064,2,   0.004,2,    -999,9,  2367.8,2,   7.7140,2,    20.00,    -999,9,    -999,9,    -999,9,-999,9,-999,9,-999,9,-999,    -999,9,    -999,1.134,2,-999,9,-999,9,    -999,9,-999,9, 20080210,     1521, -36.0031,  29.9987,    -999,-999,9,     -999,9,     -999,9,     -999,9,     -999,9,     -999,9,     -999,9,-999,9,     -999,9,     -999,9,     -999,9,    -999,    -999