BOTTLE,20220706CCHSIOAMB
EXPOCODE,SECT_ID,STNNBR,CASTNO,SAMPNO,BTLNBR,BTLNBR_FLAG_W,DATE,TIME,LATITUDE,LONGITUDE,DEPTH,CTDPRS,CTDTMP,CTDSAL,CTDSAL_FLAG_W,SALNTY,SALNTY_FLAG_W,CTDOXY,CTDOXY_FLAG_W,OXYGEN,OXYGEN_FLAG_W,SILCAT,SILCAT_FLAG_W,NITRAT,NITRAT_FLAG_W,NITRIT,NITRIT_FLAG_W,PHSPHT,PHSPHT_FLAG_W,CFC-11,CFC-11_FLAG_W,CFC-12,CFC-12_FLAG_W,CFC113,CFC113_FLAG_W,TCARBN,TCARBN_FLAG_W,ALKALI,ALKALI_FLAG_W,PH_SWS,PH_SWS_FLAG_W,PH_TMP,TRITUM,TRITUM_FLAG_W,HELIUM,HELIUM_FLAG_W,DELHE3,DELHE3_FLAG_W,REFTMP,REFTMP_FLAG_W,DELC13,DELC13_FLAG_W,DELC14,DELC14_FLAG_W,C14ERR,NEON,NEON_FLAG_W,NEONER,CCL4,CCL4_FLAG_W,ALUMIN,ALUMIN_FLAG_W,DELO18,DELO18_FLAG_W,DOC,DOC_FLAG_W,TDN,TDN_FLAG_W,BTL_DATE,BTL_TIME,BTL_LAT,BTL_LON,TRITER,DELSI30,DELSI30_FLAG_W,CDOM380,CDOM380_FLAG_W,CDOM325,CDOM325_FLAG_W,CDOMSL,CDOMSL_FLAG_W,CDOM340,CDOM340_FLAG_W,CDOM443,CDOM443_FLAG_W,CDOMSN,CDOMSN_FLAG_W,BLACKC,BLACKC_FLAG_W,CDOM490,CDOM490_FLAG_W,CDOM412,CDOM412_FLAG_W,CDOM555,CDOM555_FLAG_W,DELHER,HELIER
,,,,,,,,,,,METERS,DBAR,ITS-90,PSS-78,,PSS-78,,UMOL/KG,,UMOL/KG,,UMOL/KG,,UMOL/KG,,UMOL/KG,,UMOL/KG,,PMOL/KG,,PMOL/KG,,PMOL/KG,,UMOL/KG,,UMOL/KG,,,,DEG C,TU,,NMOL/KG,,PERCNT,,DEG C,,/MILLE,,/MILLE,,/MILLE,NMOL/KG,,NMOL/KG,PMOL/KG,,NMOL/L,,/MILLE,,UMOL/KG,,UMOL/KG,,,,,,TU,/MILLE,,1/M,,1/M,,1/NM,,1/M,,1/M,,1/NM,,,,1/M,,1/M,,1/M,,PERCNT,NMOL/KG
33RR20080204,       I06S,      60,          1,          7,          7,2,20080224,       1121,   -56.9991,    29.9959,       5454,  4233.9,  -0.1994,  34.6572,2,  34.6573,2,    238.2,2,   238.3,2,  127.99,2,   32.57,2,    0.00,2,    2.26,2,   0.473,2,   0.241,2,   0.026,2,    -999,9,  2352.0,2,     -999,9,     -999,  -0.001,2,   1.896,2,    5.62,2,-0.1991,2,-999,9,-999,9,-999,   8.323,2,   0.032,1.234,2,-999,9,-999,9,    -999,9,-999,9, 20080224,     1152, -56.9990,  29.9959,   0.009,-999,9,     -999,9,     -999,9,     -999,9,     -999,9,     -999,9,     -999,9,-999,9,     -999,9,     -999,9,     -999,9,    0.15,   0.007
33RR20080204,       I06S,      60,          1,          6,          6,2,20080224,       1121,   -56.9991,    29.9959,       5454,  4539.6,  -0.2454,  34.6548,2,  34.6553,2,    241.3,2,   241.2,2,  128.95,2,   32.52,2,    0.00,2,    2.26,2,   0.504,2,   0.263,2,   0.025,2,    -999,9,    -999,9,     -999,9,     -999,    -999,9,    -999,9,    -999,9,-0.245,2,-999,9,-999,9,-999,    -999,9,    -999,1.267,2,-999,9,-0.28,2,    -999,9,-999,9, 20080224,     1146, -56.9989,  29.9960,    -999,-999,9,     -999,9,     -999,9,     -999,9,     -999,9,     -999,9,     -999,9,-999,9,     -999,9,     -999,9,     -999,9,    -999,    -999
33RR20080204,       I06S,      60,          1,          5,          5,2,20080224,       1121,   -56.9991,    29.9959,       5454,  4743.4,  -0.2638,  34.6531,2,  34.6533,2,    243.0,2,   242.8,2,  129.33,2,   32.52,2,    0.00,2,    2.25,2,   0.536,2,   0.267,2,   0.027,2,    -999,9,  2352.8,2,     -999,9,     -999,   0.002,2,   1.895,2,    5.24,2,-0.2639,2,-999,9,-999,9,-999,   8.313,2,   0.032,1.257,2,-999,9,-999,9,    -999,9,-999,9, 20080224,     1141, -56.9991,  29.9959,   0.009,-999,9,     -999,9,     -999,9,     -999,9,     -999,9,     -999,9,     -999,9,-999,9,     -999,9,     -999,9,     -999,9,    0.15,   0.007
33RR20080204,       I06S,      60,          1,          4,          4,2,20080224,       1121,   -56.9991,    29.9959,       5454,  4954.5,  -0.2723,  34.6517,2,  34.6518,2,    244.1,2,   243.8,2,  129.92,2,   32.46,2,    0.00,2,    2.25,2,   0.540,2,   0.274,2,   0.028,2,    -999,9,    -999,9,     -999,9,     -999,    -999,9,    -999,9,    -999,9,-0.2725,2,-999,9,-999,9,-999,    -999,9,    -999,1.301,2,-999,9,-999,9,    -999,9,-999,9, 20080224,     1136, -56.9992,  29.9959,    -999,-999,9,     -999,9,     -999,9,     -999,9,     -999,9,     -999,9,     -999,9,-999,9,     -999,9,     -999,9,     -999,9,    -999,    -999
33RR20080204,       I06S,      60,          1,          3,          3,2,20080224,       1121,   -56.9991,    29.9959,       5454,  5158.4,  -0.2743,  34.6510,2,  34.6516,2,    245.0,2,   244.7,2,  130.11,2,   32.46,2,    0.00,2,    2.25,2,   0.533,2,   0.273,2,   0.024,2,    -999,9,  2353.1,2,     -999,9,     -999,   0.012,2,   1.901,2,    4.49,2,-0.2744,2,-999,9,-999,9,-999,   8.368,2,   0.032,1.413,2,-999,9,-999,9,    -999,9,-999,9, 20080224,     1131, -56.9992,  29.9959,   0.009,-999,9,     -999,9,     -999,9,     -999,9,     -999,9,     -999,9,     -999,9,-999,9,     -999,9,     -999,9,     -999,9,    0.15,   0.007
33RR20080204,       I06S,      60,          1,          2,          2,2,20080224,       1121,   -56.9991,    29.9959,       5454,  5364.8,  -0.2707,  34.6497,2,  34.6504,2,    246.1,2,   245.6,2,  130.12,2,   32.51,2,    0.00,2,    2.25,2,   0.578,2,   0.295,2,   0.040,2,    -999,9,  2351.5,2,     -999,9,     -999,   0.006,2,   1.888,2,    4.77,2,-0.2709,2,-999,9,-999,9,-999,   8.302,2,   0.032,1.459,2,-999,9,-999,9,    -999,9,-999,9, 20080224,     1126, -56.9991,  29.9959,   0.009,-999,9,     -999,9,     -999,9,     -999,9,     -999,9,     -999,9,     -999,9,-999,9,     -999,9,     -999,9,     -999,9,    0.15,   0.007
33RR20080204,       I06S,      60,          1,          1,          1,2,20080224,       1121,   -56.9991,    29.9959,       5454,  5544.6,  -0.2660,  34.6491,2,  34.6500,2,    246.0,2,   246.2,2,  129.93,2,   32.45,2,    0.00,2,    2.25,2,   0.622,2,   0.318,2,   0.062,2,    -999,9,  2353.3,2,     -999,9,     -999,   0.005,2,   1.802,2,    4.74,2,-0.2657,2,-999,9,-999,9,-999,   7.983,2,   0.030,1.492,2,-999,9,-0.23,2,    -999,9,-999,9, 20080224,     1121, -56.9991,  29.9959,   0.009,-999,9,     -999,9,     -999,9,     -999,9,     -999,9,     -999,9,     -999,9,-999,9,     -999,9,     -999,9,     -999,9,    0.15,   0.007