BOTTLE,20220706CCHSIOAMB
EXPOCODE,SECT_ID,STNNBR,CASTNO,SAMPNO,BTLNBR,BTLNBR_FLAG_W,DATE,TIME,LATITUDE,LONGITUDE,DEPTH,CTDPRS,CTDTMP,CTDSAL,CTDSAL_FLAG_W,SALNTY,SALNTY_FLAG_W,CTDOXY,CTDOXY_FLAG_W,OXYGEN,OXYGEN_FLAG_W,SILCAT,SILCAT_FLAG_W,NITRAT,NITRAT_FLAG_W,NITRIT,NITRIT_FLAG_W,PHSPHT,PHSPHT_FLAG_W,CFC-11,CFC-11_FLAG_W,CFC-12,CFC-12_FLAG_W,CFC113,CFC113_FLAG_W,TCARBN,TCARBN_FLAG_W,ALKALI,ALKALI_FLAG_W,PH_SWS,PH_SWS_FLAG_W,PH_TMP,TRITUM,TRITUM_FLAG_W,HELIUM,HELIUM_FLAG_W,DELHE3,DELHE3_FLAG_W,REFTMP,REFTMP_FLAG_W,DELC13,DELC13_FLAG_W,DELC14,DELC14_FLAG_W,C14ERR,NEON,NEON_FLAG_W,NEONER,CCL4,CCL4_FLAG_W,ALUMIN,ALUMIN_FLAG_W,DELO18,DELO18_FLAG_W,DOC,DOC_FLAG_W,TDN,TDN_FLAG_W,BTL_DATE,BTL_TIME,BTL_LAT,BTL_LON,TRITER,DELSI30,DELSI30_FLAG_W,CDOM380,CDOM380_FLAG_W,CDOM325,CDOM325_FLAG_W,CDOMSL,CDOMSL_FLAG_W,CDOM340,CDOM340_FLAG_W,CDOM443,CDOM443_FLAG_W,CDOMSN,CDOMSN_FLAG_W,BLACKC,BLACKC_FLAG_W,CDOM490,CDOM490_FLAG_W,CDOM412,CDOM412_FLAG_W,CDOM555,CDOM555_FLAG_W,DELHER,HELIER
,,,,,,,,,,,METERS,DBAR,ITS-90,PSS-78,,PSS-78,,UMOL/KG,,UMOL/KG,,UMOL/KG,,UMOL/KG,,UMOL/KG,,UMOL/KG,,PMOL/KG,,PMOL/KG,,PMOL/KG,,UMOL/KG,,UMOL/KG,,,,DEG C,TU,,NMOL/KG,,PERCNT,,DEG C,,/MILLE,,/MILLE,,/MILLE,NMOL/KG,,NMOL/KG,PMOL/KG,,NMOL/L,,/MILLE,,UMOL/KG,,UMOL/KG,,,,,,TU,/MILLE,,1/M,,1/M,,1/NM,,1/M,,1/M,,1/NM,,,,1/M,,1/M,,1/M,,PERCNT,NMOL/KG
33RR20080204,       I06S,      15,          2,          6,          6,2,20080209,       1929,   -34.7804,    29.7654,       4396,  2993.1,   2.1688,  34.8086,3,  34.8161,2,    217.5,3,   219.0,2,   67.59,2,   26.74,2,    0.00,2,    1.82,2,   0.033,2,   0.014,2,   0.000,2,  2199.6,4,  2346.4,2,   7.7490,2,    20.00,    -999,9,    -999,9,    -999,9,2.1706,2,-999,9,-999,9,-999,    -999,9,    -999,0.201,2,-999,9,-999,9,    -999,9,-999,9, 20080209,     2004, -34.7804,  29.7654,    -999,-999,9,     -999,9,     -999,9,     -999,9,     -999,9,     -999,9,     -999,9,-999,9,     -999,9,     -999,9,     -999,9,    -999,    -999
33RR20080204,       I06S,      15,          2,          5,          5,2,20080209,       1929,   -34.7804,    29.7654,       4396,  3297.1,   1.9051,  34.7894,3,  34.7978,2,    215.1,3,   218.7,2,   76.81,2,   27.63,2,    0.00,2,    1.87,2,   0.044,2,   0.022,2,   0.000,2,  2227.7,2,  2351.2,2,   7.7410,2,    20.00,    -999,9,    -999,9,    -999,9,1.9061,2,-999,9,-999,9,-999,    -999,9,    -999,0.285,2,-999,9,-999,9,   39.80,2,-999,1, 20080209,     1957, -34.7804,  29.7654,    -999,-999,9,     -999,9,     -999,9,     -999,9,     -999,9,     -999,9,     -999,9,-999,9,     -999,9,     -999,9,     -999,9,    -999,    -999
33RR20080204,       I06S,      15,          2,          4,          4,2,20080209,       1929,   -34.7804,    29.7654,       4396,  3601.7,   1.5212,  34.7566,3,  34.7687,2,    216.7,3,   216.6,2,   90.99,2,   29.08,2,    0.00,2,    1.97,2,   0.057,2,   0.030,2,   0.000,2,  2240.9,2,  2356.9,2,   7.7280,2,    20.00,    -999,9,    -999,9,    -999,9,1.5224,2,-999,9,-999,9,-999,    -999,9,    -999,0.245,2,-999,9,-999,9,    -999,9,-999,9, 20080209,     1951, -34.7804,  29.7654,    -999,-999,9,     -999,9,     -999,9,     -999,9,     -999,9,     -999,9,     -999,9,-999,9,     -999,9,     -999,9,     -999,9,    -999,    -999
33RR20080204,       I06S,      15,          2,          3,          3,2,20080209,       1929,   -34.7804,    29.7654,       4396,  3913.3,   1.2931,  34.7428,3,  34.7496,2,    216.8,3,   216.7,2,   98.58,2,   29.88,2,    0.00,2,    2.04,2,   0.075,2,   0.042,2,   0.000,2,  2248.3,2,  2361.3,2,   7.7160,2,    20.00,    -999,9,    -999,9,    -999,9,1.2941,2,-999,9,-999,9,-999,    -999,9,    -999,0.497,2,-999,9,-999,9,   38.63,2,-999,1, 20080209,     1943, -34.7805,  29.7654,    -999,-999,9,     -999,9,     -999,9,     -999,9,     -999,9,     -999,9,     -999,9,-999,9,     -999,9,     -999,9,     -999,9,    -999,    -999
33RR20080204,       I06S,      15,          2,          2,          2,2,20080209,       1929,   -34.7804,    29.7654,       4396,  4216.8,   1.1520,  34.7349,2,  34.7368,2,    218.5,3,   216.8,2,  104.53,2,   30.28,2,    0.00,2,    2.08,2,   0.090,2,   0.049,2,   0.000,2,  2251.3,2,  2363.8,2,   7.7160,2,    20.00,    -999,9,    -999,9,    -999,9,1.1533,2,-999,9,-999,9,-999,    -999,9,    -999,0.649,2,-999,9,-999,9,    -999,9,-999,9, 20080209,     1936, -34.7804,  29.7654,    -999,-999,9,     -999,9,     -999,9,     -999,9,     -999,9,     -999,9,     -999,9,-999,9,     -999,9,     -999,9,     -999,9,    -999,    -999
33RR20080204,       I06S,      15,          2,          1,          1,2,20080209,       1929,   -34.7804,    29.7654,       4396,  4430.7,   1.0779,  34.7296,2,  34.7309,2,    207.2,4,   216.3,2,  107.81,2,   30.73,2,    0.00,2,    2.11,2,   0.109,2,   0.067,2,   0.002,2,  2254.4,6,  2367.0,2,   7.7140,2,    20.00,    -999,9,    -999,9,    -999,9,1.0786,2,-999,9,-999,9,-999,    -999,9,    -999,0.912,2,-999,9,-999,9,   43.61,3,-999,1, 20080209,     1930, -34.7804,  29.7654,    -999,-999,9,     -999,9,     -999,9,     -999,9,     -999,9,     -999,9,     -999,9,-999,1,     -999,9,     -999,9,     -999,9,    -999,    -999