BOTTLE,20220706CCHSIOAMB
EXPOCODE,SECT_ID,STNNBR,CASTNO,SAMPNO,BTLNBR,BTLNBR_FLAG_W,DATE,TIME,LATITUDE,LONGITUDE,DEPTH,CTDPRS,CTDTMP,CTDSAL,CTDSAL_FLAG_W,SALNTY,SALNTY_FLAG_W,CTDOXY,CTDOXY_FLAG_W,OXYGEN,OXYGEN_FLAG_W,SILCAT,SILCAT_FLAG_W,NITRAT,NITRAT_FLAG_W,NITRIT,NITRIT_FLAG_W,PHSPHT,PHSPHT_FLAG_W,CFC-11,CFC-11_FLAG_W,CFC-12,CFC-12_FLAG_W,CFC113,CFC113_FLAG_W,TCARBN,TCARBN_FLAG_W,ALKALI,ALKALI_FLAG_W,PH_SWS,PH_SWS_FLAG_W,PH_TMP,TRITUM,TRITUM_FLAG_W,HELIUM,HELIUM_FLAG_W,DELHE3,DELHE3_FLAG_W,REFTMP,REFTMP_FLAG_W,DELC13,DELC13_FLAG_W,DELC14,DELC14_FLAG_W,C14ERR,NEON,NEON_FLAG_W,NEONER,CCL4,CCL4_FLAG_W,ALUMIN,ALUMIN_FLAG_W,DELO18,DELO18_FLAG_W,DOC,DOC_FLAG_W,TDN,TDN_FLAG_W,BTL_DATE,BTL_TIME,BTL_LAT,BTL_LON,TRITER,DELSI30,DELSI30_FLAG_W,CDOM380,CDOM380_FLAG_W,CDOM325,CDOM325_FLAG_W,CDOMSL,CDOMSL_FLAG_W,CDOM340,CDOM340_FLAG_W,CDOM443,CDOM443_FLAG_W,CDOMSN,CDOMSN_FLAG_W,BLACKC,BLACKC_FLAG_W,CDOM490,CDOM490_FLAG_W,CDOM412,CDOM412_FLAG_W,CDOM555,CDOM555_FLAG_W,DELHER,HELIER
,,,,,,,,,,,METERS,DBAR,ITS-90,PSS-78,,PSS-78,,UMOL/KG,,UMOL/KG,,UMOL/KG,,UMOL/KG,,UMOL/KG,,UMOL/KG,,PMOL/KG,,PMOL/KG,,PMOL/KG,,UMOL/KG,,UMOL/KG,,,,DEG C,TU,,NMOL/KG,,PERCNT,,DEG C,,/MILLE,,/MILLE,,/MILLE,NMOL/KG,,NMOL/KG,PMOL/KG,,NMOL/L,,/MILLE,,UMOL/KG,,UMOL/KG,,,,,,TU,/MILLE,,1/M,,1/M,,1/NM,,1/M,,1/M,,1/NM,,,,1/M,,1/M,,1/M,,PERCNT,NMOL/KG
33RR20080204,       I06S,      32,          1,         36,         36,2,20080215,       0759,   -43.0039,    30.0078,       5607,     5.6,  10.8241,  34.2145,2,  34.2179,2,    282.2,2,   280.9,2,    1.45,2,   13.04,2,    0.21,2,    0.99,2,   3.772,2,   2.166,2,   0.346,2,  2084.1,6,  2283.0,2,     -999,9,     -999,   0.277,2,   1.780,2,   -1.46,2,10.8294,2,-999,9,-999,9,-999,   7.490,2,   0.028,4.597,2,-999,9,-999,9,    -999,9,-999,9, 20080215,     1018, -43.0108,  30.0333,   0.009,-999,9,     -999,9,     -999,9,     -999,9,     -999,9,     -999,9,     -999,9,-999,9,     -999,9,     -999,9,     -999,9,    0.15,   0.007
33RR20080204,       I06S,      32,          1,         35,         35,2,20080215,       0759,   -43.0039,    30.0078,       5607,    19.3,   9.2868,  34.0007,2,  34.0003,2,    285.5,2,   288.0,2,    0.85,2,   15.37,2,    0.19,2,    1.10,2,   4.002,2,   2.288,2,   0.369,2,    -999,9,  2273.1,2,     -999,9,     -999,    -999,9,    -999,9,    -999,9,9.2891,2,-999,9,-999,9,-999,    -999,9,    -999,4.672,2,-999,9,-999,9,    -999,9,-999,9, 20080215,     1016, -43.0106,  30.0330,    -999,-999,9,     -999,9,     -999,9,     -999,9,     -999,9,     -999,9,     -999,9,-999,9,     -999,9,     -999,9,     -999,9,    -999,    -999
33RR20080204,       I06S,      32,          1,         34,         34,2,20080215,       0759,   -43.0039,    30.0078,       5607,    34.7,   9.1858,  33.9985,2,  33.9993,2,    286.8,2,   287.9,2,    0.84,2,   15.32,2,    0.19,2,    1.10,2,   4.021,2,   2.287,2,   0.364,2,    -999,9,  2271.3,2,     -999,9,     -999,    -999,9,    -999,9,    -999,9,9.1945,2,-999,9,-999,9,-999,    -999,9,    -999,4.597,2,-999,9,-999,9,    -999,9,-999,9, 20080215,     1015, -43.0104,  30.0327,    -999,-999,9,     -999,9,     -999,9,     -999,9,     -999,9,     -999,9,     -999,9,-999,9,     -999,9,     -999,9,     -999,9,    -999,    -999
33RR20080204,       I06S,      32,          1,         33,         33,2,20080215,       0759,   -43.0039,    30.0078,       5607,    67.1,   9.6593,  34.2073,2,  34.2016,2,    281.9,2,   282.6,2,    1.23,2,   13.87,2,    0.17,2,    1.02,2,   3.849,2,   2.205,2,   0.355,2,    -999,9,  2279.5,2,     -999,9,     -999,    -999,9,    -999,9,    -999,9,9.652,2,-999,9,-999,9,-999,    -999,9,    -999,4.312,2,-999,9,-999,9,    -999,9,-999,9, 20080215,     1013, -43.0101,  30.0322,    -999,-999,9,     -999,9,     -999,9,     -999,9,     -999,9,     -999,9,     -999,9,-999,9,     -999,9,     -999,9,     -999,9,    -999,    -999
33RR20080204,       I06S,      32,          1,         32,         32,2,20080215,       0759,   -43.0039,    30.0078,       5607,    90.0,  10.7229,  34.7275,2,  34.7200,2,    259.5,2,   246.9,2,    3.77,2,   12.74,2,    0.16,2,    0.97,2,   3.565,2,   2.016,2,   0.268,2,    -999,9,    -999,9,     -999,9,     -999,   0.291,2,   1.765,2,   -1.08,2,10.7257,2,-999,9,-999,9,-999,   7.444,2,   0.028,3.59,2,-999,9,-999,9,    -999,9,-999,9, 20080215,     1012, -43.0099,  30.0320,   0.009,-999,9,     -999,9,     -999,9,     -999,9,     -999,9,     -999,9,     -999,9,-999,9,     -999,9,     -999,9,     -999,9,    0.15,   0.007
33RR20080204,       I06S,      32,          1,         31,         31,2,20080215,       0759,   -43.0039,    30.0078,       5607,   141.4,   9.9197,  34.6930,2,  34.6931,2,    247.1,2,   252.1,2,    4.34,2,   13.81,2,    0.02,2,    1.02,2,   3.628,2,   2.075,2,   0.282,2,    -999,9,    -999,9,     -999,9,     -999,    -999,9,    -999,9,    -999,9,9.9251,2,-999,9,-999,9,-999,    -999,9,    -999,3.475,2,-999,9,-999,9,    -999,9,-999,9, 20080215,     1010, -43.0097,  30.0316,    -999,-999,9,     -999,9,     -999,9,     -999,9,     -999,9,     -999,9,     -999,9,-999,9,     -999,9,     -999,9,     -999,9,    -999,    -999
33RR20080204,       I06S,      32,          1,         30,         30,2,20080215,       0759,   -43.0039,    30.0078,       5607,   191.9,   9.4481,  34.6363,2,  34.6365,2,    247.6,2,   253.4,2,    4.93,2,   14.75,2,    0.01,2,    1.08,2,   3.702,2,   2.098,2,   0.279,2,    -999,9,  2295.8,2,     -999,9,     -999,   0.335,2,   1.763,2,   -0.82,2,9.4665,3,-999,9,-999,9,-999,   7.501,2,   0.029,3.546,2,-999,9,-999,9,    -999,9,-999,9, 20080215,     1008, -43.0095,  30.0313,   0.009,-999,9,     -999,9,     -999,9,     -999,9,     -999,9,     -999,9,     -999,9,-999,9,     -999,9,     -999,9,     -999,9,    0.15,   0.007
33RR20080204,       I06S,      32,          1,         29,         29,2,20080215,       0759,   -43.0039,    30.0078,       5607,   233.1,   9.2276,  34.6288,2,  34.6286,2,    245.4,2,   244.6,2,    5.90,2,   15.98,2,    0.01,2,    1.15,2,   3.578,2,   2.024,2,   0.267,2,    -999,9,    -999,9,     -999,9,     -999,    -999,9,    -999,9,    -999,9,9.2345,2,-999,9,-999,9,-999,    -999,9,    -999,3.404,2,-999,9,-999,9,    -999,9,-999,9, 20080215,     1007, -43.0093,  30.0309,    -999,-999,9,     -999,9,     -999,9,     -999,9,     -999,9,     -999,9,     -999,9,-999,9,     -999,9,     -999,9,     -999,9,    -999,    -999
33RR20080204,       I06S,      32,          1,         28,         28,2,20080215,       0759,   -43.0039,    30.0078,       5607,   284.2,   8.5119,  34.5346,2,  34.5365,2,    252.5,2,   243.1,2,    6.87,2,   17.81,2,    0.01,2,    1.27,2,   3.656,2,   2.027,2,   0.279,2,    -999,9,  2294.0,2,     -999,9,     -999,   0.285,2,   1.787,2,   -0.41,2,8.5586,3,-999,9,-999,9,-999,   7.641,2,   0.029,3.63,2,-999,9,-999,9,    -999,9,-999,9, 20080215,     1005, -43.0091,  30.0305,   0.009,-999,9,     -999,9,     -999,9,     -999,9,     -999,9,     -999,9,     -999,9,-999,9,     -999,9,     -999,9,     -999,9,    0.15,   0.007
33RR20080204,       I06S,      32,          1,         27,         27,2,20080215,       0759,   -43.0039,    30.0078,       5607,   332.8,   7.7486,  34.4364,2,  34.4452,2,    246.7,2,   245.1,2,    7.65,2,   19.34,2,    0.01,2,    1.37,2,   3.757,2,   2.082,2,   0.282,2,    -999,9,    -999,9,     -999,9,     -999,    -999,9,    -999,9,    -999,9,7.7157,3,-999,9,-999,9,-999,    -999,9,    -999,3.593,2,-999,9,-999,9,    -999,9,-999,9, 20080215,     1003, -43.0089,  30.0301,    -999,-999,9,     -999,9,     -999,9,     -999,9,     -999,9,     -999,9,     -999,9,-999,9,     -999,9,     -999,9,     -999,9,    -999,    -999
33RR20080204,       I06S,      32,          1,         26,         26,2,20080215,       0759,   -43.0039,    30.0078,       5607,   382.6,   7.7667,  34.5145,2,  34.5127,2,    222.8,2,   216.8,2,   11.37,2,   21.91,2,    0.01,2,    1.52,2,   3.370,2,   1.805,2,   0.230,2,    -999,9,    -999,9,     -999,9,     -999,   0.214,2,   1.734,2,    0.31,2,7.7708,2,-999,9,-999,9,-999,   7.469,2,   0.028,3.058,2,-999,9,-999,9,    -999,9,-999,9, 20080215,     1001, -43.0087,  30.0298,   0.009,-999,9,     -999,9,     -999,9,     -999,9,     -999,9,     -999,9,     -999,9,-999,9,     -999,9,     -999,9,     -999,9,    0.15,   0.007
33RR20080204,       I06S,      32,          1,         25,         25,2,20080215,       0759,   -43.0039,    30.0078,       5607,   432.9,   7.0291,  34.4477,2,  34.4455,2,    213.5,2,   215.2,2,   13.34,2,   24.10,2,    0.01,2,    1.66,2,   3.370,2,   1.814,2,   0.259,2,    -999,9,  2288.5,2,     -999,9,     -999,    -999,9,    -999,9,    -999,9,7.0339,2,-999,9,-999,9,-999,    -999,9,    -999,2.819,2,-999,9,-999,9,    -999,9,-999,9, 20080215,     1000, -43.0085,  30.0295,    -999,-999,9,     -999,9,     -999,9,     -999,9,     -999,9,     -999,9,     -999,9,-999,9,     -999,9,     -999,9,     -999,9,    -999,    -999
33RR20080204,       I06S,      32,          1,         24,         24,2,20080215,       0759,   -43.0039,    30.0078,       5607,   486.5,   6.2464,  34.3739,2,  34.3723,2,    217.0,2,   220.7,2,   14.90,2,   25.59,2,    0.01,2,    1.76,2,   3.489,2,   1.845,2,   0.286,2,    -999,9,    -999,9,     -999,9,     -999,   0.153,2,   1.783,2,    0.79,2,6.2315,3,-999,9,-999,9,-999,   7.695,2,   0.029,3.546,2,-999,9,-999,9,    -999,9,-999,9, 20080215,     0957, -43.0082,  30.0290,   0.009,-999,9,     -999,9,     -999,9,     -999,9,     -999,9,     -999,9,     -999,9,-999,9,     -999,9,     -999,9,     -999,9,    0.15,   0.007
33RR20080204,       I06S,      32,          1,         23,         23,2,20080215,       0759,   -43.0039,    30.0078,       5607,   588.2,   4.6378,  34.2196,2,  34.2228,2,    227.2,2,   244.3,2,   16.07,2,   27.30,2,    0.00,2,    1.87,2,   3.951,2,   2.098,2,   0.335,2,    -999,9,  2283.3,2,     -999,9,     -999,   0.132,2,   1.810,2,    0.28,2,4.6585,3,-999,9,-999,9,-999,   7.841,2,   0.030,3.963,2,-999,9,-999,9,    -999,9,-999,9, 20080215,     0954, -43.0080,  30.0285,   0.009,-999,9,     -999,9,     -999,9,     -999,9,     -999,9,     -999,9,     -999,9,-999,9,     -999,9,     -999,9,     -999,9,    0.15,   0.007
33RR20080204,       I06S,      32,          1,         22,         22,2,20080215,       0759,   -43.0039,    30.0078,       5607,   688.3,   4.5823,  34.2995,2,  34.3026,2,    218.7,2,   222.7,2,   25.13,2,   28.94,2,    0.00,2,    1.99,2,   3.007,2,   1.570,2,   0.227,2,    -999,9,    -999,9,     -999,9,     -999,    -999,9,    -999,9,    -999,9,4.5936,3,-999,9,-999,9,-999,    -999,9,    -999,3.072,2,-999,9,-999,9,    -999,9,-999,9, 20080215,     0951, -43.0077,  30.0279,    -999,-999,9,     -999,9,     -999,9,     -999,9,     -999,9,     -999,9,     -999,9,-999,9,     -999,9,     -999,9,     -999,9,    -999,    -999
33RR20080204,       I06S,      32,          1,         21,         21,2,20080215,       0759,   -43.0039,    30.0078,       5607,   785.2,   4.1737,  34.3258,2,  34.3261,2,    210.7,2,   213.2,2,   32.24,2,   30.35,2,    0.00,2,    2.09,2,   2.526,2,   1.291,2,   0.188,2,    -999,9,  2298.8,2,     -999,9,     -999,    -999,9,   1.813,2,    2.82,2,4.1714,2,-999,9,-999,9,-999,   7.871,2,   0.030,2.521,2,-999,9,-999,9,    -999,9,-999,9, 20080215,     0948, -43.0076,  30.0275,    -999,-999,9,     -999,9,     -999,9,     -999,9,     -999,9,     -999,9,     -999,9,-999,9,     -999,9,     -999,9,     -999,9,    0.15,   0.007
33RR20080204,       I06S,      32,          1,         20,         20,2,20080215,       0759,   -43.0039,    30.0078,       5607,   983.6,   3.7215,  34.4236,2,  34.4216,2,    187.0,2,   187.0,2,   48.10,2,   32.55,2,    0.00,2,    2.27,2,   1.356,2,   0.694,2,   0.120,2,    -999,9,    -999,9,     -999,9,     -999,   0.030,2,   1.816,2,    5.39,2,3.7282,2,-999,9,-999,9,-999,   7.891,2,   0.030,1.565,2,-999,9,-999,9,    -999,9,-999,9, 20080215,     0944, -43.0072,  30.0267,   0.009,-999,9,     -999,9,     -999,9,     -999,9,     -999,9,     -999,9,     -999,9,-999,9,     -999,9,     -999,9,     -999,9,    0.15,   0.007
33RR20080204,       I06S,      32,          1,         19,         19,2,20080215,       0759,   -43.0039,    30.0078,       5607,  1180.3,   3.3250,  34.5330,2,  34.5314,2,    172.3,2,   171.0,2,   61.82,2,   33.41,2,    0.00,2,    2.32,2,   0.565,2,   0.299,2,   0.029,2,    -999,9,    -999,9,     -999,9,     -999,   0.003,2,   1.854,2,    7.16,2,3.3249,2,-999,9,-999,9,-999,   8.056,2,   0.031,0.908,2,-999,9,-999,9,    -999,9,-999,9, 20080215,     0939, -43.0069,  30.0259,   0.009,-999,9,     -999,9,     -999,9,     -999,9,     -999,9,     -999,9,     -999,9,-999,9,     -999,9,     -999,9,     -999,9,    0.15,   0.007
33RR20080204,       I06S,      32,          1,         18,         18,2,20080215,       0759,   -43.0039,    30.0078,       5607,  1386.2,   2.9250,  34.6016,2,  34.6005,2,    173.7,2,   173.0,2,   66.60,2,   32.90,2,    0.00,2,    2.28,2,   0.305,2,   0.168,2,   0.016,2,    -999,9,  2335.2,2,     -999,9,     -999,   0.029,2,   1.839,2,    7.98,2,2.9242,2,-999,9,-999,9,-999,   7.994,2,   0.030,0.617,2,-999,9,-999,9,    -999,9,-999,9, 20080215,     0934, -43.0067,  30.0250,   0.009,-999,9,     -999,9,     -999,9,     -999,9,     -999,9,     -999,9,     -999,9,-999,9,     -999,9,     -999,9,     -999,9,    0.15,   0.007
33RR20080204,       I06S,      32,          1,         17,         17,2,20080215,       0759,   -43.0039,    30.0078,       5607,  1583.5,   2.7754,  34.6792,2,  34.6775,2,    180.9,2,   180.7,2,   66.39,2,   31.34,2,    0.00,2,    2.17,2,   0.157,2,   0.091,2,   0.008,2,    -999,9,    -999,9,     -999,9,     -999,  -0.008,2,   1.843,2,    8.16,2,2.7745,2,-999,9,-999,9,-999,   8.044,2,   0.031,0.401,2,-999,9,-999,9,    -999,9,-999,9, 20080215,     0929, -43.0065,  30.0242,   0.009,-999,9,     -999,9,     -999,9,     -999,9,     -999,9,     -999,9,     -999,9,-999,9,     -999,9,     -999,9,     -999,9,    0.15,   0.007
33RR20080204,       I06S,      32,          1,         16,         16,2,20080215,       0759,   -43.0039,    30.0078,       5607,  1777.2,   2.6289,  34.7278,2,  34.7258,2,    188.8,2,   189.0,2,   66.58,2,   30.08,2,    0.00,2,    2.07,2,   0.122,2,   0.071,2,   0.010,2,    -999,9,    -999,9,     -999,9,     -999,   0.001,2,   1.847,2,    8.44,2,2.6293,2,-999,9,-999,9,-999,   8.048,2,   0.031,0.416,2,-999,9,-999,9,    -999,9,-999,9, 20080215,     0924, -43.0062,  30.0234,   0.009,-999,9,     -999,9,     -999,9,     -999,9,     -999,9,     -999,9,     -999,9,-999,9,     -999,9,     -999,9,     -999,9,    0.15,   0.007
33RR20080204,       I06S,      32,          1,         15,         15,2,20080215,       0759,   -43.0039,    30.0078,       5607,  1980.5,   2.5597,  34.7679,2,  34.7651,2,    198.2,2,   197.8,2,   65.17,2,   28.73,2,    0.00,2,    1.97,2,   0.080,2,   0.044,2,   0.006,2,    -999,9,  2338.3,2,     -999,9,     -999,  -0.007,2,   1.848,2,    8.22,2,2.5613,2,-999,9,-999,9,-999,   8.006,2,   0.030,0.383,2,-999,9,-999,9,    -999,9,-999,9, 20080215,     0920, -43.0058,  30.0224,   0.009,-999,9,     -999,9,     -999,9,     -999,9,     -999,9,     -999,9,     -999,9,-999,9,     -999,9,     -999,9,     -999,9,    0.15,   0.007
33RR20080204,       I06S,      32,          1,         14,         14,2,20080215,       0759,   -43.0039,    30.0078,       5607,  2283.9,   2.4763,  34.8105,2,  34.8081,2,    209.7,2,   212.0,2,   60.98,2,   26.82,2,    0.00,2,    1.84,2,   0.209,4,   0.135,4,   0.027,4,    -999,9,    -999,9,     -999,9,     -999,  -0.011,2,   1.844,2,    7.08,2,2.4752,2,-999,9,-999,9,-999,   7.996,2,   0.030,0.468,4,-999,9,-999,9,    -999,9,-999,9, 20080215,     0914, -43.0051,  30.0210,   0.009,-999,9,     -999,9,     -999,9,     -999,9,     -999,9,     -999,9,     -999,9,-999,9,     -999,9,     -999,9,     -999,9,    0.15,   0.007
33RR20080204,       I06S,      32,          1,         13,         13,2,20080215,       0759,   -43.0039,    30.0078,       5607,  2591.4,   2.3060,  34.8170,2,  34.8152,2,    219.1,2,   216.3,2,   63.96,2,   26.58,2,    0.00,2,    1.82,2,   0.035,6,   0.018,6,   0.012,6,    -999,9,    -999,9,     -999,9,     -999,  -0.010,2,   1.837,2,    7.11,2,2.3054,2,-999,9,-999,9,-999,   7.999,2,   0.030,0.342,6,-999,9,-999,9,    -999,9,-999,9, 20080215,     0907, -43.0044,  30.0194,   0.009,-999,9,     -999,9,     -999,9,     -999,9,     -999,9,     -999,9,     -999,9,-999,9,     -999,9,     -999,9,     -999,9,    0.15,   0.007
33RR20080204,       I06S,      32,          1,         12,         12,2,20080215,       0759,   -43.0039,    30.0078,       5607,  2896.4,   2.1553,  34.8199,2,  34.8193,2,    221.9,2,   221.0,2,   66.75,2,   26.37,2,    0.00,2,    1.81,2,   0.031,2,   0.013,2,   0.000,2,    -999,9,  2347.0,2,     -999,9,     -999,    -999,9,    -999,9,    -999,9,2.1561,2,-999,9,-999,9,-999,    -999,9,    -999,0.227,2,-999,9,-999,9,    -999,9,-999,9, 20080215,     0901, -43.0040,  30.0181,    -999,-999,9,     -999,9,     -999,9,     -999,9,     -999,9,     -999,9,     -999,9,-999,9,     -999,9,     -999,9,     -999,9,    -999,    -999
33RR20080204,       I06S,      32,          1,         11,         11,2,20080215,       0759,   -43.0039,    30.0078,       5607,  3200.9,   1.9206,  34.8018,2,  34.7998,2,    216.7,2,   218.3,2,   76.15,2,   27.27,2,    0.00,2,    1.87,2,   0.042,2,   0.026,2,   0.000,2,    -999,9,    -999,9,     -999,9,     -999,  -0.008,2,   1.858,2,    6.87,2,1.9189,2,-999,9,-999,9,-999,   8.052,2,   0.031,0.284,2,-999,9,-999,9,    -999,9,-999,9, 20080215,     0854, -43.0039,  30.0169,   0.009,-999,9,     -999,9,     -999,9,     -999,9,     -999,9,     -999,9,     -999,9,-999,9,     -999,9,     -999,9,     -999,9,    0.15,   0.007
33RR20080204,       I06S,      32,          1,         10,         10,2,20080215,       0759,   -43.0039,    30.0078,       5607,  3503.6,   1.5167,  34.7638,2,  34.7628,2,    213.8,2,   214.1,2,   91.58,2,   29.12,2,    0.00,2,    2.00,2,   0.075,2,   0.042,2,   0.016,2,    -999,9,    -999,9,     -999,9,     -999,    -999,9,    -999,9,    -999,9,1.516,2,-999,9,-999,9,-999,    -999,9,    -999,0.354,2,-999,9,-999,9,    -999,9,-999,9, 20080215,     0848, -43.0046,  30.0160,    -999,-999,9,     -999,9,     -999,9,     -999,9,     -999,9,     -999,9,     -999,9,-999,9,     -999,9,     -999,9,     -999,9,    -999,    -999
33RR20080204,       I06S,      32,          1,          9,          9,2,20080215,       0759,   -43.0039,    30.0078,       5607,  3811.7,   1.1368,  34.7351,2,  34.7327,2,    213.6,2,   214.2,2,  104.86,2,   30.48,2,    0.00,2,    2.10,2,   0.169,2,   0.105,2,   0.014,2,    -999,9,  2362.1,2,     -999,9,     -999,  -0.010,2,   1.864,2,    7.77,2,1.1366,2,-999,9,-999,9,-999,   8.086,2,   0.031,0.418,2,-999,9,-999,9,    -999,9,-999,9, 20080215,     0841, -43.0039,  30.0145,   0.009,-999,9,     -999,9,     -999,9,     -999,9,     -999,9,     -999,9,     -999,9,-999,9,     -999,9,     -999,9,     -999,9,    0.15,   0.007
33RR20080204,       I06S,      32,          1,          8,          8,2,20080215,       0759,   -43.0039,    30.0078,       5607,  4118.7,   1.0496,  34.7297,2,  34.7284,2,    216.3,2,   215.9,2,  107.47,2,   30.62,2,    0.00,2,    2.12,2,   0.087,2,   0.054,2,   0.000,2,    -999,9,    -999,9,     -999,9,     -999,  -0.007,2,   1.874,2,    7.41,2,1.0498,2,-999,9,-999,9,-999,   8.178,2,   0.031,0.418,2,-999,9,-999,9,    -999,9,-999,9, 20080215,     0835, -43.0057,  30.0137,   0.009,-999,9,     -999,9,     -999,9,     -999,9,     -999,9,     -999,9,     -999,9,-999,9,     -999,9,     -999,9,     -999,9,    0.15,   0.007