BOTTLE,20220706CCHSIOAMB
EXPOCODE,SECT_ID,STNNBR,CASTNO,SAMPNO,BTLNBR,BTLNBR_FLAG_W,DATE,TIME,LATITUDE,LONGITUDE,DEPTH,CTDPRS,CTDTMP,CTDSAL,CTDSAL_FLAG_W,SALNTY,SALNTY_FLAG_W,CTDOXY,CTDOXY_FLAG_W,OXYGEN,OXYGEN_FLAG_W,SILCAT,SILCAT_FLAG_W,NITRAT,NITRAT_FLAG_W,NITRIT,NITRIT_FLAG_W,PHSPHT,PHSPHT_FLAG_W,CFC-11,CFC-11_FLAG_W,CFC-12,CFC-12_FLAG_W,CFC113,CFC113_FLAG_W,TCARBN,TCARBN_FLAG_W,ALKALI,ALKALI_FLAG_W,PH_SWS,PH_SWS_FLAG_W,PH_TMP,TRITUM,TRITUM_FLAG_W,HELIUM,HELIUM_FLAG_W,DELHE3,DELHE3_FLAG_W,REFTMP,REFTMP_FLAG_W,DELC13,DELC13_FLAG_W,DELC14,DELC14_FLAG_W,C14ERR,NEON,NEON_FLAG_W,NEONER,CCL4,CCL4_FLAG_W,ALUMIN,ALUMIN_FLAG_W,DELO18,DELO18_FLAG_W,DOC,DOC_FLAG_W,TDN,TDN_FLAG_W,BTL_DATE,BTL_TIME,BTL_LAT,BTL_LON,TRITER,DELSI30,DELSI30_FLAG_W,CDOM380,CDOM380_FLAG_W,CDOM325,CDOM325_FLAG_W,CDOMSL,CDOMSL_FLAG_W,CDOM340,CDOM340_FLAG_W,CDOM443,CDOM443_FLAG_W,CDOMSN,CDOMSN_FLAG_W,BLACKC,BLACKC_FLAG_W,CDOM490,CDOM490_FLAG_W,CDOM412,CDOM412_FLAG_W,CDOM555,CDOM555_FLAG_W,DELHER,HELIER
,,,,,,,,,,,METERS,DBAR,ITS-90,PSS-78,,PSS-78,,UMOL/KG,,UMOL/KG,,UMOL/KG,,UMOL/KG,,UMOL/KG,,UMOL/KG,,PMOL/KG,,PMOL/KG,,PMOL/KG,,UMOL/KG,,UMOL/KG,,,,DEG C,TU,,NMOL/KG,,PERCNT,,DEG C,,/MILLE,,/MILLE,,/MILLE,NMOL/KG,,NMOL/KG,PMOL/KG,,NMOL/L,,/MILLE,,UMOL/KG,,UMOL/KG,,,,,,TU,/MILLE,,1/M,,1/M,,1/NM,,1/M,,1/M,,1/NM,,,,1/M,,1/M,,1/M,,PERCNT,NMOL/KG
33RR20080204,       I06S,      38,          1,          6,          6,2,20080217,       0615,   -46.0000,    30.0000,       5022,  3812.8,   1.0151,  34.7232,2,  34.7219,2,    213.2,2,   213.3,2,  120.54,2,   32.09,2,    0.00,2,    2.22,2,   0.139,2,   0.076,2,   0.020,2,    -999,9,    -999,9,     -999,9,     -999,    -999,9,    -999,9,    -999,9,-999,9,-999,9,-999,9,-999,    -999,9,    -999,1.049,2,-999,9,-999,9,    -999,9,-999,9, 20080217,     0642, -46.0000,  30.0000,    -999,-999,9,     -999,9,     -999,9,     -999,9,     -999,9,     -999,9,     -999,9,-999,9,     -999,9,     -999,9,     -999,9,    -999,    -999
33RR20080204,       I06S,      38,          1,          5,          5,2,20080217,       0615,   -46.0000,    30.0000,       5022,  4129.6,   0.7596,  34.6975,2,  34.6961,2,    211.3,2,   211.5,2,  120.56,2,   32.38,2,    0.00,2,    2.23,2,   0.239,2,   0.125,2,   0.010,2,    -999,9,  2359.6,2,     -999,9,     -999,    -999,9,    -999,9,    -999,9,-999,9,-999,9,-999,9,-999,    -999,9,    -999,1.331,2,-999,9,-999,9,    -999,9,-999,9, 20080217,     0636, -45.9999,  30.0000,    -999,-999,9,     -999,9,     -999,9,     -999,9,     -999,9,     -999,9,     -999,9,-999,9,     -999,9,     -999,9,     -999,9,    -999,    -999
33RR20080204,       I06S,      38,          1,          4,          4,2,20080217,       0615,   -46.0000,    30.0000,       5022,  4435.1,   0.6124,  34.6879,2,  34.6866,2,    213.5,2,   213.5,2,  125.88,2,   32.59,2,    0.00,2,    2.24,2,   0.283,2,   0.156,2,   0.013,2,    -999,9,    -999,9,     -999,9,     -999,    -999,9,    -999,9,    -999,9,-999,9,-999,9,-999,9,-999,    -999,9,    -999,1.352,2,-999,9,-999,9,    -999,9,-999,9, 20080217,     0630, -46.0000,  29.9999,    -999,-999,9,     -999,9,     -999,9,     -999,9,     -999,9,     -999,9,     -999,9,-999,9,     -999,9,     -999,9,     -999,9,    -999,    -999
33RR20080204,       I06S,      38,          1,          3,          3,2,20080217,       0615,   -46.0000,    30.0000,       5022,  4641.3,   0.5441,  34.6835,2,  34.6821,2,    215.6,2,   215.2,2,  127.59,2,   32.68,2,    0.00,2,    2.25,2,   0.282,2,   0.157,2,   0.022,2,    -999,9,  2356.6,2,     -999,9,     -999,    -999,9,    -999,9,    -999,9,-999,9,-999,9,-999,9,-999,    -999,9,    -999,1.457,2,-999,9,-999,9,    -999,9,-999,9, 20080217,     0625, -45.9999,  30.0000,    -999,-999,9,     -999,9,     -999,9,     -999,9,     -999,9,     -999,9,     -999,9,-999,9,     -999,9,     -999,9,     -999,9,    -999,    -999
33RR20080204,       I06S,      38,          1,          2,          2,2,20080217,       0615,   -46.0000,    30.0000,       5022,  4845.6,   0.4639,  34.6793,2,  34.6779,2,    218.2,2,   218.3,2,  129.12,2,   32.67,2,    0.00,2,    2.26,2,   0.299,2,   0.163,2,   0.040,2,    -999,9,  2358.4,2,     -999,9,     -999,    -999,9,    -999,9,    -999,9,-999,9,-999,9,-999,9,-999,    -999,9,    -999,1.583,2,-999,9,-999,9,    -999,9,-999,9, 20080217,     0621, -45.9999,  29.9999,    -999,-999,9,     -999,9,     -999,9,     -999,9,     -999,9,     -999,9,     -999,9,-999,9,     -999,9,     -999,9,     -999,9,    -999,    -999
33RR20080204,       I06S,      38,          1,          1,          1,2,20080217,       0615,   -46.0000,    30.0000,       5022,  5085.2,   0.4129,  34.6761,2,  34.6756,2,    220.7,2,   220.9,2,  129.69,2,   32.67,2,    0.00,2,    2.26,2,   0.322,2,   0.177,2,   0.058,2,    -999,9,  2358.3,2,     -999,9,     -999,    -999,9,    -999,9,    -999,9,-999,9,-999,9,-999,9,-999,    -999,9,    -999,1.562,2,-999,9,-999,9,    -999,9,-999,9, 20080217,     0616, -46.0000,  30.0000,    -999,-999,9,     -999,9,     -999,9,     -999,9,     -999,9,     -999,9,     -999,9,-999,9,     -999,9,     -999,9,     -999,9,    -999,    -999