BOTTLE,20220706CCHSIOAMB
EXPOCODE,SECT_ID,STNNBR,CASTNO,SAMPNO,BTLNBR,BTLNBR_FLAG_W,DATE,TIME,LATITUDE,LONGITUDE,DEPTH,CTDPRS,CTDTMP,CTDSAL,CTDSAL_FLAG_W,SALNTY,SALNTY_FLAG_W,CTDOXY,CTDOXY_FLAG_W,OXYGEN,OXYGEN_FLAG_W,SILCAT,SILCAT_FLAG_W,NITRAT,NITRAT_FLAG_W,NITRIT,NITRIT_FLAG_W,PHSPHT,PHSPHT_FLAG_W,CFC-11,CFC-11_FLAG_W,CFC-12,CFC-12_FLAG_W,CFC113,CFC113_FLAG_W,TCARBN,TCARBN_FLAG_W,ALKALI,ALKALI_FLAG_W,PH_SWS,PH_SWS_FLAG_W,PH_TMP,TRITUM,TRITUM_FLAG_W,HELIUM,HELIUM_FLAG_W,DELHE3,DELHE3_FLAG_W,REFTMP,REFTMP_FLAG_W,DELC13,DELC13_FLAG_W,DELC14,DELC14_FLAG_W,C14ERR,NEON,NEON_FLAG_W,NEONER,CCL4,CCL4_FLAG_W,ALUMIN,ALUMIN_FLAG_W,DELO18,DELO18_FLAG_W,DOC,DOC_FLAG_W,TDN,TDN_FLAG_W,BTL_DATE,BTL_TIME,BTL_LAT,BTL_LON,TRITER,DELSI30,DELSI30_FLAG_W,CDOM380,CDOM380_FLAG_W,CDOM325,CDOM325_FLAG_W,CDOMSL,CDOMSL_FLAG_W,CDOM340,CDOM340_FLAG_W,CDOM443,CDOM443_FLAG_W,CDOMSN,CDOMSN_FLAG_W,BLACKC,BLACKC_FLAG_W,CDOM490,CDOM490_FLAG_W,CDOM412,CDOM412_FLAG_W,CDOM555,CDOM555_FLAG_W,DELHER,HELIER
,,,,,,,,,,,METERS,DBAR,ITS-90,PSS-78,,PSS-78,,UMOL/KG,,UMOL/KG,,UMOL/KG,,UMOL/KG,,UMOL/KG,,UMOL/KG,,PMOL/KG,,PMOL/KG,,PMOL/KG,,UMOL/KG,,UMOL/KG,,,,DEG C,TU,,NMOL/KG,,PERCNT,,DEG C,,/MILLE,,/MILLE,,/MILLE,NMOL/KG,,NMOL/KG,PMOL/KG,,NMOL/L,,/MILLE,,UMOL/KG,,UMOL/KG,,,,,,TU,/MILLE,,1/M,,1/M,,1/NM,,1/M,,1/M,,1/NM,,,,1/M,,1/M,,1/M,,PERCNT,NMOL/KG
33RR20080204,       I06S,      18,          1,         36,         36,2,20080210,       1520,   -36.0031,    29.9987,       4680,     5.2,  21.5258,  35.6208,2,  35.6206,2,    222.6,2,   224.5,2,    1.96,2,    0.10,2,    0.00,2,    0.08,2,   2.141,2,   1.290,2,   0.161,2,  2022.3,2,  2332.7,2,   8.1280,2,    20.00,    -999,9,    -999,9,    -999,9,-999,9,-999,9,-999,9,-999,    -999,9,    -999,3.502,2,-999,9,-999,9,    -999,9,-999,9, 20080210,     1735, -36.0031,  29.9988,    -999,-999,9,     -999,9,     -999,9,     -999,9,     -999,9,     -999,9,     -999,9,-999,9,     -999,9,     -999,9,     -999,9,    -999,    -999
33RR20080204,       I06S,      18,          1,         35,         35,2,20080210,       1520,   -36.0031,    29.9987,       4680,    28.4,  21.5273,  35.6199,2,  35.6192,2,    223.1,2,   224.0,2,    1.95,2,    0.10,2,    0.00,2,    0.08,2,   2.173,2,   1.285,2,   0.162,2,  2022.5,2,  2332.9,2,   8.1270,2,    20.00,    -999,9,    -999,9,    -999,9,-999,9,-999,9,-999,9,-999,    -999,9,    -999,3.458,2,-999,9,-999,9,    -999,9,-999,9, 20080210,     1733, -36.0031,  29.9987,    -999,-999,9,     -999,9,     -999,9,     -999,9,     -999,9,     -999,9,     -999,9,-999,9,     -999,9,     -999,9,     -999,9,    -999,    -999
33RR20080204,       I06S,      18,          1,         34,         34,2,20080210,       1520,   -36.0031,    29.9987,       4680,    57.6,  19.7285,  35.4983,2,  35.4953,2,    223.7,2,   206.6,2,    3.92,2,    1.77,2,    0.08,2,    0.24,2,    -999,9,    -999,9,    -999,9,  2045.0,2,  2328.6,2,   8.0780,2,    20.00,    -999,9,    -999,9,    -999,9,-999,9,-999,9,-999,9,-999,    -999,9,    -999,-999,9,-999,9,-999,9,    -999,9,-999,9, 20080210,     1731, -36.0031,  29.9987,    -999,-999,9,     -999,9,     -999,9,     -999,9,     -999,9,     -999,9,     -999,9,-999,9,     -999,9,     -999,9,     -999,9,    -999,    -999
33RR20080204,       I06S,      18,          1,         33,         33,2,20080210,       1520,   -36.0031,    29.9987,       4680,    86.8,  18.5478,  35.5239,2,  35.5233,2,    208.9,2,   217.3,2,    2.73,2,    1.36,2,    0.14,2,    0.23,2,   2.418,6,   1.433,6,   0.188,6,  2047.4,2,  2327.6,2,   8.0770,2,    20.00,    -999,9,    -999,9,    -999,9,-999,9,-999,9,-999,9,-999,    -999,9,    -999,2.5095,6,-999,9,-999,9,    -999,9,-999,9, 20080210,     1729, -36.0030,  29.9986,    -999,-999,9,     -999,9,     -999,9,     -999,9,     -999,9,     -999,9,     -999,9,-999,9,     -999,9,     -999,9,     -999,9,    -999,    -999
33RR20080204,       I06S,      18,          1,         32,         32,2,20080210,       1520,   -36.0031,    29.9987,       4680,   112.1,  18.2091,  35.5202,2,  35.5197,2,    207.3,2,   215.0,2,    3.12,2,    2.56,2,    0.03,2,    0.28,2,   2.458,2,   1.441,2,   0.182,2,  2052.3,2,  2326.1,2,   8.0660,2,    20.00,    -999,9,    -999,9,    -999,9,-999,9,-999,9,-999,9,-999,    -999,9,    -999,2.258,2,-999,9,-999,9,    -999,9,-999,9, 20080210,     1726, -36.0030,  29.9986,    -999,-999,9,     -999,9,     -999,9,     -999,9,     -999,9,     -999,9,     -999,9,-999,9,     -999,9,     -999,9,     -999,9,    -999,    -999
33RR20080204,       I06S,      18,          1,         31,         31,2,20080210,       1520,   -36.0031,    29.9987,       4680,   167.1,  17.6478,  35.5414,2,  35.5392,2,    211.7,2,   210.3,2,    3.71,2,    3.86,2,    0.02,2,    0.36,2,   2.436,2,   1.458,2,   0.126,2,    -999,5,  2327.5,2,   8.0440,2,    20.00,    -999,9,    -999,9,    -999,9,-999,9,-999,9,-999,9,-999,    -999,9,    -999,2.007,2,-999,9,-999,9,    -999,9,-999,9, 20080210,     1724, -36.0031,  29.9987,    -999,-999,9,     -999,9,     -999,9,     -999,9,     -999,9,     -999,9,     -999,9,-999,9,     -999,9,     -999,9,     -999,9,    -999,    -999
33RR20080204,       I06S,      18,          1,         30,         30,2,20080210,       1520,   -36.0031,    29.9987,       4680,   216.6,  17.0578,  35.5290,2,  35.5282,2,    213.0,2,   208.0,2,    4.09,2,    4.71,2,    0.02,2,    0.42,2,   2.564,2,   1.486,2,   0.120,2,  2075.0,2,  2328.9,2,   8.0280,2,    20.00,    -999,9,    -999,9,    -999,9,-999,9,-999,9,-999,9,-999,    -999,9,    -999,2.096,2,-999,9,-999,9,    -999,9,-999,9, 20080210,     1721, -36.0031,  29.9987,    -999,-999,9,     -999,9,     -999,9,     -999,9,     -999,9,     -999,9,     -999,9,-999,9,     -999,9,     -999,9,     -999,9,    -999,    -999
33RR20080204,       I06S,      18,          1,         29,         29,2,20080210,       1520,   -36.0031,    29.9987,       4680,   275.6,  16.5344,  35.5435,2,  35.5432,2,    208.1,2,   226.9,2,    3.30,2,    3.28,2,    0.01,2,    0.33,2,   2.640,2,   1.565,2,   0.187,2,  2069.2,2,  2329.7,2,   8.0390,2,    20.00,    -999,9,    -999,9,    -999,9,-999,9,-999,9,-999,9,-999,    -999,9,    -999,2.352,2,-999,9,-999,9,    -999,9,-999,9, 20080210,     1718, -36.0031,  29.9987,    -999,-999,9,     -999,9,     -999,9,     -999,9,     -999,9,     -999,9,     -999,9,-999,9,     -999,9,     -999,9,     -999,9,    -999,    -999
33RR20080204,       I06S,      18,          1,         28,         28,2,20080210,       1520,   -36.0031,    29.9987,       4680,   324.9,  15.9270,  35.4812,3,  35.4846,2,    218.5,2,   205.0,2,    4.87,2,    6.52,2,    0.01,2,    0.54,2,   2.666,2,   1.571,2,   0.079,2,  2091.1,2,  2326.6,2,   7.9950,2,    20.00,    -999,9,    -999,9,    -999,9,-999,9,-999,9,-999,9,-999,    -999,9,    -999,1.71,2,-999,9,-999,9,    -999,9,-999,9, 20080210,     1716, -36.0031,  29.9987,    -999,-999,9,     -999,9,     -999,9,     -999,9,     -999,9,     -999,9,     -999,9,-999,9,     -999,9,     -999,9,     -999,9,    -999,    -999
33RR20080204,       I06S,      18,          1,         27,         27,2,20080210,       1520,   -36.0031,    29.9987,       4680,   374.9,  15.2428,  35.4536,3,  35.4593,2,    213.3,2,   210.4,2,    4.26,2,    6.72,2,    0.01,2,    0.55,2,   2.819,2,   1.642,2,   0.071,2,  2096.8,2,  2325.3,2,   7.9840,2,    20.00,    -999,9,    -999,9,    -999,9,-999,9,-999,9,-999,9,-999,    -999,9,    -999,1.742,2,-999,9,-999,9,    -999,9,-999,9, 20080210,     1713, -36.0031,  29.9986,    -999,-999,9,     -999,9,     -999,9,     -999,9,     -999,9,     -999,9,     -999,9,-999,9,     -999,9,     -999,9,     -999,9,    -999,    -999
33RR20080204,       I06S,      18,          1,         26,         26,2,20080210,       1520,   -36.0031,    29.9987,       4680,   424.1,  14.7043,  35.4133,3,  35.4344,2,    220.3,2,   220.4,2,    3.86,2,    6.57,2,    0.01,2,    0.55,2,   2.889,2,   1.681,2,   0.089,2,  2095.2,2,  2324.5,2,   7.9840,2,    20.00,    -999,9,    -999,9,    -999,9,-999,9,-999,9,-999,9,-999,    -999,9,    -999,1.823,2,-999,9,-999,9,    -999,9,-999,9, 20080210,     1710, -36.0031,  29.9986,    -999,-999,9,     -999,9,     -999,9,     -999,9,     -999,9,     -999,9,     -999,9,-999,9,     -999,9,     -999,9,     -999,9,    -999,    -999
33RR20080204,       I06S,      18,          1,         25,         25,2,20080210,       1520,   -36.0031,    29.9987,       4680,   479.2,  14.3341,  35.3955,3,  35.4016,2,    226.2,2,   222.1,2,    4.06,2,    7.06,2,    0.01,2,    0.59,2,   2.993,2,   1.715,2,   0.100,2,  2096.9,2,  2323.1,2,   7.9770,2,    20.00,    -999,9,    -999,9,    -999,9,-999,9,-999,9,-999,9,-999,    -999,9,    -999,1.897,2,-999,9,-999,9,    -999,9,-999,9, 20080210,     1708, -36.0030,  29.9986,    -999,-999,9,     -999,9,     -999,9,     -999,9,     -999,9,     -999,9,     -999,9,-999,9,     -999,9,     -999,9,     -999,9,    -999,    -999
33RR20080204,       I06S,      18,          1,         24,         24,2,20080210,       1520,   -36.0031,    29.9987,       4680,   527.8,  13.8642,  35.3398,3,  35.3468,2,    228.0,2,   222.9,2,    4.05,2,    8.02,2,    0.01,2,    0.64,2,   3.020,2,   1.728,2,   0.074,2,  2101.9,2,  2321.0,2,   7.9650,2,    20.00,    -999,9,    -999,9,    -999,9,-999,9,-999,9,-999,9,-999,    -999,9,    -999,1.954,2,-999,9,-999,9,    -999,9,-999,9, 20080210,     1705, -36.0031,  29.9987,    -999,-999,9,     -999,9,     -999,9,     -999,9,     -999,9,     -999,9,     -999,9,-999,9,     -999,9,     -999,9,     -999,9,    -999,    -999
33RR20080204,       I06S,      18,          1,         23,         23,2,20080210,       1520,   -36.0031,    29.9987,       4680,   642.6,  13.0558,  35.2396,3,  35.2407,2,    183.4,4,   222.6,2,    4.44,2,    9.72,2,    0.00,2,    0.74,2,   3.193,2,   1.765,2,   0.084,2,  2107.5,2,  2317.2,2,   7.9340,4,    20.00,    -999,9,    -999,9,    -999,9,-999,9,-999,9,-999,9,-999,    -999,9,    -999,2.024,2,-999,9,-999,9,    -999,9,-999,9, 20080210,     1702, -36.0031,  29.9986,    -999,-999,9,     -999,9,     -999,9,     -999,9,     -999,9,     -999,9,     -999,9,-999,9,     -999,9,     -999,9,     -999,9,    -999,    -999
33RR20080204,       I06S,      18,          1,         22,         22,2,20080210,       1520,   -36.0031,    29.9987,       4680,   747.0,  12.0495,  35.0761,3,  35.0865,2,    189.0,4,   219.9,2,    5.03,2,   12.02,2,    0.00,2,    0.89,2,   3.221,2,   1.749,2,   0.095,2,  2114.6,2,  2310.7,2,   7.9170,2,    20.00,    -999,9,    -999,9,    -999,9,-999,9,-999,9,-999,9,-999,    -999,9,    -999,2.093,2,-999,9,-999,9,    -999,9,-999,9, 20080210,     1658, -36.0031,  29.9987,    -999,-999,9,     -999,9,     -999,9,     -999,9,     -999,9,     -999,9,     -999,9,-999,9,     -999,9,     -999,9,     -999,9,    -999,    -999
33RR20080204,       I06S,      18,          1,         21,         21,2,20080210,       1520,   -36.0031,    29.9987,       4680,   847.1,  10.9150,  34.8761,3,  34.9233,2,    184.3,4,   217.6,2,    6.40,2,   14.69,2,    0.00,2,    1.05,2,   3.174,2,   1.682,2,   0.102,2,  2121.5,2,  2303.3,2,   7.8880,2,    20.00,    -999,9,    -999,9,    -999,9,-999,9,-999,9,-999,9,-999,    -999,9,    -999,2.244,2,-999,9,-999,9,    -999,9,-999,9, 20080210,     1654, -36.0031,  29.9987,    -999,-999,9,     -999,9,     -999,9,     -999,9,     -999,9,     -999,9,     -999,9,-999,9,     -999,9,     -999,9,     -999,9,    -999,    -999
33RR20080204,       I06S,      18,          1,         20,         20,2,20080210,       1520,   -36.0031,    29.9987,       4680,   947.9,   9.6742,  34.7539,3,  34.7638,2,    191.9,4,   212.6,2,    9.18,2,   18.01,2,    0.00,2,    1.27,2,   2.988,2,   1.559,2,   0.105,2,  2133.2,2,  2298.6,2,   7.8500,2,    20.00,    -999,9,    -999,9,    -999,9,-999,9,-999,9,-999,9,-999,    -999,9,    -999,2.492,2,-999,9,-999,9,    -999,9,-999,9, 20080210,     1651, -36.0030,  29.9986,    -999,-999,9,     -999,9,     -999,9,     -999,9,     -999,9,     -999,9,     -999,9,-999,9,     -999,9,     -999,9,     -999,9,    -999,    -999
33RR20080204,       I06S,      18,          1,         19,         19,2,20080210,       1520,   -36.0031,    29.9987,       4680,  1048.8,   8.2834,  34.5903,3,  34.6192,2,    176.8,4,   205.5,2,   14.34,2,   21.96,2,    0.00,2,    1.52,2,   2.681,2,   1.358,2,   0.107,2,  2150.4,6,  2295.1,2,   7.8050,2,    20.00,    -999,9,    -999,9,    -999,9,-999,9,-999,9,-999,9,-999,    -999,9,    -999,2.673,2,-999,9,-999,9,    -999,9,-999,9, 20080210,     1647, -36.0030,  29.9986,    -999,-999,9,     -999,9,     -999,9,     -999,9,     -999,9,     -999,9,     -999,9,-999,9,     -999,9,     -999,9,     -999,9,    -999,    -999
33RR20080204,       I06S,      18,          1,         18,         18,2,20080210,       1520,   -36.0031,    29.9987,       4680,  1150.3,   6.9368,  34.4592,3,  34.5045,2,    182.4,4,   202.3,2,   19.93,2,   25.45,2,    0.00,2,    1.76,2,   2.433,2,   1.210,2,   0.121,2,    -999,9,    -999,9,     -999,9,     -999,    -999,9,    -999,9,    -999,9,-999,9,-999,9,-999,9,-999,    -999,9,    -999,2.964,2,-999,9,-999,9,    -999,9,-999,9, 20080210,     1644, -36.0030,  29.9986,    -999,-999,9,     -999,9,     -999,9,     -999,9,     -999,9,     -999,9,     -999,9,-999,9,     -999,9,     -999,9,     -999,9,    -999,    -999
33RR20080204,       I06S,      18,          1,         17,         17,2,20080210,       1520,   -36.0031,    29.9987,       4680,  1256.2,   5.6436,  34.3888,3,  34.4393,2,    184.4,4,   195.9,2,   29.56,2,   28.77,2,    0.00,2,    1.99,2,   1.969,2,   1.006,2,   0.114,2,    -999,9,    -999,9,     -999,9,     -999,    -999,9,    -999,9,    -999,9,-999,9,-999,9,-999,9,-999,    -999,9,    -999,2.79,2,-999,9,-999,9,    -999,9,-999,9, 20080210,     1640, -36.0031,  29.9987,    -999,-999,9,     -999,9,     -999,9,     -999,9,     -999,9,     -999,9,     -999,9,-999,9,     -999,9,     -999,9,     -999,9,    -999,    -999
33RR20080204,       I06S,      18,          1,         16,         16,2,20080210,       1520,   -36.0031,    29.9987,       4680,  1355.7,   4.7938,  34.4110,3,  34.4179,2,    182.5,4,   192.9,2,   37.22,2,   30.65,2,    0.00,2,    2.13,2,   1.712,2,   0.842,2,   0.107,2,    -999,9,    -999,9,     -999,9,     -999,    -999,9,    -999,9,    -999,9,-999,9,-999,9,-999,9,-999,    -999,9,    -999,2.648,2,-999,9,-999,9,    -999,9,-999,9, 20080210,     1637, -36.0031,  29.9988,    -999,-999,9,     -999,9,     -999,9,     -999,9,     -999,9,     -999,9,     -999,9,-999,9,     -999,9,     -999,9,     -999,9,    -999,    -999
33RR20080204,       I06S,      18,          1,         15,         15,2,20080210,       1520,   -36.0031,    29.9987,       4680,  1455.7,   4.5128,  34.4454,3,  34.4793,2,    177.1,3,   176.1,2,   48.34,2,   32.14,2,    0.00,2,    2.24,2,   1.046,2,   0.529,2,   0.062,2,    -999,9,  2316.5,2,     -999,9,     -999,    -999,9,    -999,9,    -999,9,-999,9,-999,9,-999,9,-999,    -999,9,    -999,2.14,2,-999,9,-999,9,    -999,9,-999,9, 20080210,     1634, -36.0032,  29.9989,    -999,-999,9,     -999,9,     -999,9,     -999,9,     -999,9,     -999,9,     -999,9,-999,9,     -999,9,     -999,9,     -999,9,    -999,    -999
33RR20080204,       I06S,      18,          1,         14,         14,2,20080210,       1520,   -36.0031,    29.9987,       4680,  1556.1,   4.0361,  34.4919,3,  34.5256,2,    169.5,3,   167.0,2,   58.10,2,   33.16,2,    0.00,2,    2.32,2,   0.670,2,   0.333,2,   0.084,2,    -999,9,    -999,9,     -999,9,     -999,    -999,9,    -999,9,    -999,9,-999,9,-999,9,-999,9,-999,    -999,9,    -999,1.86,2,-999,9,-999,9,    -999,9,-999,9, 20080210,     1631, -36.0032,  29.9990,    -999,-999,9,     -999,9,     -999,9,     -999,9,     -999,9,     -999,9,     -999,9,-999,9,     -999,9,     -999,9,     -999,9,    -999,    -999
33RR20080204,       I06S,      18,          1,         13,         13,2,20080210,       1520,   -36.0031,    29.9987,       4680,  1657.2,   3.7463,  34.5329,3,  34.5659,2,    165.4,3,   163.1,2,   64.40,2,   33.51,2,    0.00,2,    2.34,2,   0.473,2,   0.245,2,   0.144,2,    -999,9,    -999,9,     -999,9,     -999,    -999,9,    -999,9,    -999,9,-999,9,-999,9,-999,9,-999,    -999,9,    -999,0.756,2,-999,9,-999,9,    -999,9,-999,9, 20080210,     1628, -36.0032,  29.9989,    -999,-999,9,     -999,9,     -999,9,     -999,9,     -999,9,     -999,9,     -999,9,-999,9,     -999,9,     -999,9,     -999,9,    -999,    -999
33RR20080204,       I06S,      18,          1,         12,         12,2,20080210,       1520,   -36.0031,    29.9987,       4680,  1759.0,   3.4381,  34.5601,3,  34.5826,2,    165.7,3,   165.4,2,   67.45,2,   33.56,2,    0.00,2,    2.33,2,   0.354,2,   0.190,2,   0.018,2,    -999,9,    -999,9,     -999,9,     -999,    -999,9,    -999,9,    -999,9,-999,9,-999,9,-999,9,-999,    -999,9,    -999,0.848,2,-999,9,-999,9,    -999,9,-999,9, 20080210,     1625, -36.0031,  29.9987,    -999,-999,9,     -999,9,     -999,9,     -999,9,     -999,9,     -999,9,     -999,9,-999,9,     -999,9,     -999,9,     -999,9,    -999,    -999
33RR20080204,       I06S,      18,          1,         11,         11,2,20080210,       1520,   -36.0031,    29.9987,       4680,  1862.9,   3.1862,  34.6046,3,  34.6215,2,    166.7,3,   166.7,2,   70.91,2,   33.25,2,    0.00,2,    2.31,2,   0.240,2,   0.140,2,   0.007,2,    -999,9,  2339.4,2,     -999,9,     -999,    -999,9,    -999,9,    -999,9,-999,9,-999,9,-999,9,-999,    -999,9,    -999,0.553,2,-999,9,-999,9,    -999,9,-999,9, 20080210,     1622, -36.0029,  29.9983,    -999,-999,9,     -999,9,     -999,9,     -999,9,     -999,9,     -999,9,     -999,9,-999,9,     -999,9,     -999,9,     -999,9,    -999,    -999
33RR20080204,       I06S,      18,          1,         10,         10,2,20080210,       1520,   -36.0031,    29.9987,       4680,  2068.1,   2.9137,  34.6913,3,  34.6957,2,    174.8,3,   173.7,2,   74.36,2,   31.96,2,    0.00,2,    2.23,2,   0.095,2,   0.060,2,   0.026,2,    -999,9,    -999,9,     -999,9,     -999,    -999,9,    -999,9,    -999,9,-999,9,-999,9,-999,9,-999,    -999,9,    -999,0.273,2,-999,9,-999,9,    -999,9,-999,9, 20080210,     1617, -36.0031,  29.9987,    -999,-999,9,     -999,9,     -999,9,     -999,9,     -999,9,     -999,9,     -999,9,-999,9,     -999,9,     -999,9,     -999,9,    -999,    -999
33RR20080204,       I06S,      18,          1,          9,          9,2,20080210,       1520,   -36.0031,    29.9987,       4680,  2381.2,   2.6786,  34.7524,3,  34.7574,2,    189.8,3,   189.2,2,   71.69,2,   29.92,2,    0.00,2,    2.07,2,   0.041,2,   0.025,2,   0.000,2,    -999,9,    -999,9,     -999,9,     -999,    -999,9,    -999,9,    -999,9,-999,9,-999,9,-999,9,-999,    -999,9,    -999,0.211,2,-999,9,-999,9,    -999,9,-999,9, 20080210,     1610, -36.0032,  29.9988,    -999,-999,9,     -999,9,     -999,9,     -999,9,     -999,9,     -999,9,     -999,9,-999,9,     -999,9,     -999,9,     -999,9,    -999,    -999
33RR20080204,       I06S,      18,          1,          8,          8,2,20080210,       1520,   -36.0031,    29.9987,       4680,  2691.3,   2.5772,  34.7952,3,  34.8068,2,    211.3,3,   209.4,2,   61.28,2,   27.26,2,    0.00,2,    1.86,2,   0.034,2,   0.023,2,   0.000,2,    -999,9,  2339.3,2,     -999,9,     -999,    -999,9,    -999,9,    -999,9,-999,9,-999,9,-999,9,-999,    -999,9,    -999,0.217,2,-999,9,-999,9,    -999,9,-999,9, 20080210,     1604, -36.0031,  29.9987,    -999,-999,9,     -999,9,     -999,9,     -999,9,     -999,9,     -999,9,     -999,9,-999,9,     -999,9,     -999,9,     -999,9,    -999,    -999