BOTTLE,20220706CCHSIOAMB
EXPOCODE,SECT_ID,STNNBR,CASTNO,SAMPNO,BTLNBR,BTLNBR_FLAG_W,DATE,TIME,LATITUDE,LONGITUDE,DEPTH,CTDPRS,CTDTMP,CTDSAL,CTDSAL_FLAG_W,SALNTY,SALNTY_FLAG_W,CTDOXY,CTDOXY_FLAG_W,OXYGEN,OXYGEN_FLAG_W,SILCAT,SILCAT_FLAG_W,NITRAT,NITRAT_FLAG_W,NITRIT,NITRIT_FLAG_W,PHSPHT,PHSPHT_FLAG_W,CFC-11,CFC-11_FLAG_W,CFC-12,CFC-12_FLAG_W,CFC113,CFC113_FLAG_W,TCARBN,TCARBN_FLAG_W,ALKALI,ALKALI_FLAG_W,PH_SWS,PH_SWS_FLAG_W,PH_TMP,TRITUM,TRITUM_FLAG_W,HELIUM,HELIUM_FLAG_W,DELHE3,DELHE3_FLAG_W,REFTMP,REFTMP_FLAG_W,DELC13,DELC13_FLAG_W,DELC14,DELC14_FLAG_W,C14ERR,NEON,NEON_FLAG_W,NEONER,CCL4,CCL4_FLAG_W,ALUMIN,ALUMIN_FLAG_W,DELO18,DELO18_FLAG_W,DOC,DOC_FLAG_W,TDN,TDN_FLAG_W,BTL_DATE,BTL_TIME,BTL_LAT,BTL_LON,TRITER,DELSI30,DELSI30_FLAG_W,CDOM380,CDOM380_FLAG_W,CDOM325,CDOM325_FLAG_W,CDOMSL,CDOMSL_FLAG_W,CDOM340,CDOM340_FLAG_W,CDOM443,CDOM443_FLAG_W,CDOMSN,CDOMSN_FLAG_W,BLACKC,BLACKC_FLAG_W,CDOM490,CDOM490_FLAG_W,CDOM412,CDOM412_FLAG_W,CDOM555,CDOM555_FLAG_W,DELHER,HELIER
,,,,,,,,,,,METERS,DBAR,ITS-90,PSS-78,,PSS-78,,UMOL/KG,,UMOL/KG,,UMOL/KG,,UMOL/KG,,UMOL/KG,,UMOL/KG,,PMOL/KG,,PMOL/KG,,PMOL/KG,,UMOL/KG,,UMOL/KG,,,,DEG C,TU,,NMOL/KG,,PERCNT,,DEG C,,/MILLE,,/MILLE,,/MILLE,NMOL/KG,,NMOL/KG,PMOL/KG,,NMOL/L,,/MILLE,,UMOL/KG,,UMOL/KG,,,,,,TU,/MILLE,,1/M,,1/M,,1/NM,,1/M,,1/M,,1/NM,,,,1/M,,1/M,,1/M,,PERCNT,NMOL/KG
33RR20080204,       I06S,     100,          1,         33,         33,2,20080306,       1542,   -68.0809,    30.3403,       3002,     4.0,  -1.1124,  33.9842,2,  33.9835,2,    341.3,2,   342.1,2,   51.51,2,   25.92,2,    0.12,2,    1.84,2,   6.196,2,   3.331,2,   0.553,2,  2176.4,6,  2303.8,2,     -999,9,     -999,   0.095,2,   1.799,2,   -1.56,2,-1.1124,2,-999,9,-999,9,-999,   8.104,2,   0.031,7.417,2,-999,9,-999,9,    -999,9,-999,9, 20080306,     1727, -68.0809,  30.3403,   0.009,-999,9,     -999,9,     -999,9,     -999,9,     -999,9,     -999,9,     -999,9,-999,9,     -999,9,     -999,9,     -999,9,    0.15,   0.007
33RR20080204,       I06S,     100,          1,         32,         32,2,20080306,       1542,   -68.0809,    30.3403,       3002,    21.8,  -1.1144,  34.0307,2,  34.0283,2,    340.0,2,   339.0,2,   53.51,2,   26.68,2,    0.12,2,    1.87,2,    -999,9,    -999,9,    -999,9,    -999,9,  2306.4,2,     -999,9,     -999,    -999,9,    -999,9,    -999,9,-1.1202,2,-999,9,-999,9,-999,    -999,9,    -999,-999,9,-999,9,-999,9,    -999,9,-999,9, 20080306,     1726, -68.0809,  30.3402,    -999,-999,9,     -999,9,     -999,9,     -999,9,     -999,9,     -999,9,     -999,9,-999,9,     -999,9,     -999,9,     -999,9,    -999,    -999
33RR20080204,       I06S,     100,          1,         31,         31,2,20080306,       1542,   -68.0809,    30.3403,       3002,    44.8,  -1.0854,  34.0460,2,  34.0459,2,    339.8,2,   337.2,2,   54.10,2,   26.97,2,    0.13,2,    1.90,2,   6.051,2,   3.242,2,   0.507,2,    -999,9,  2306.7,2,     -999,9,     -999,    -999,9,    -999,9,    -999,9,-1.0866,2,-999,9,-999,9,-999,    -999,9,    -999,6.749,2,-999,9,-999,9,    -999,9,-999,9, 20080306,     1723, -68.0809,  30.3402,    -999,-999,9,     -999,9,     -999,9,     -999,9,     -999,9,     -999,9,     -999,9,-999,9,     -999,9,     -999,9,     -999,9,    -999,    -999
33RR20080204,       I06S,     100,          1,         30,         30,2,20080306,       1542,   -68.0809,    30.3403,       3002,    86.3,  -1.7426,  34.2610,2,  34.2626,2,    313.8,2,   312.4,2,   62.11,2,   30.41,2,    0.11,2,    2.11,2,    -999,9,    -999,9,    -999,9,    -999,9,  2317.2,2,     -999,9,     -999,    -999,9,    -999,9,    -999,9,-1.7429,2,-999,9,-999,9,-999,    -999,9,    -999,-999,9,-999,9,-999,9,    -999,9,-999,9, 20080306,     1720, -68.0809,  30.3402,    -999,-999,9,     -999,9,     -999,9,     -999,9,     -999,9,     -999,9,     -999,9,-999,9,     -999,9,     -999,9,     -999,9,    -999,    -999
33RR20080204,       I06S,     100,          1,         29,         29,2,20080306,       1542,   -68.0809,    30.3403,       3002,   112.4,  -1.7067,  34.2919,2,  34.2898,2,    310.0,2,   308.6,2,   63.71,2,   30.48,2,    0.09,2,    2.12,2,   5.154,2,   2.768,2,   0.430,2,    -999,9,    -999,9,     -999,9,     -999,   0.056,2,   1.856,2,    0.57,2,-1.7062,2,-999,9,-999,9,-999,   8.282,2,   0.031,5.313,2,-999,9,-999,9,    -999,9,-999,9, 20080306,     1718, -68.0809,  30.3402,   0.009,-999,9,     -999,9,     -999,9,     -999,9,     -999,9,     -999,9,     -999,9,-999,9,     -999,9,     -999,9,     -999,9,    0.15,   0.007
33RR20080204,       I06S,     100,          1,         28,         28,2,20080306,       1542,   -68.0809,    30.3403,       3002,   163.3,  -1.6768,  34.3305,2,  34.3300,2,    305.9,2,   306.6,2,   64.90,2,   30.49,2,    0.07,2,    2.12,2,   5.196,2,   2.749,2,   0.457,2,    -999,9,  2320.7,2,     -999,9,     -999,    -999,9,    -999,9,    -999,9,-1.6769,2,-999,9,-999,9,-999,    -999,9,    -999,5.842,2,-999,9,-999,9,    -999,9,-999,9, 20080306,     1716, -68.0809,  30.3403,    -999,-999,9,     -999,9,     -999,9,     -999,9,     -999,9,     -999,9,     -999,9,-999,9,     -999,9,     -999,9,     -999,9,    -999,    -999
33RR20080204,       I06S,     100,          1,         27,         27,2,20080306,       1542,   -68.0809,    30.3403,       3002,   212.5,  -1.6292,  34.3642,2,  34.3668,2,    303.7,2,   305.1,2,   65.30,2,   30.62,2,    0.03,2,    2.12,2,   5.144,2,   2.743,2,   0.460,2,    -999,9,    -999,9,     -999,9,     -999,    -999,9,   1.847,2,    0.83,2,-1.6294,2,-999,9,-999,9,-999,   8.216,2,   0.031,5.532,2,-999,9,-999,9,    -999,9,-999,9, 20080306,     1713, -68.0809,  30.3402,    -999,-999,9,     -999,9,     -999,9,     -999,9,     -999,9,     -999,9,     -999,9,-999,9,     -999,9,     -999,9,     -999,9,    0.15,   0.007
33RR20080204,       I06S,     100,          1,         26,         26,2,20080306,       1542,   -68.0809,    30.3403,       3002,   274.1,  -1.1358,  34.4309,2,  34.4295,2,    282.9,2,   286.3,2,   70.52,2,   30.95,2,    0.01,2,    2.14,2,   4.456,2,   2.338,2,   0.400,2,    -999,9,  2328.7,2,     -999,9,     -999,    -999,9,    -999,9,    -999,9,-1.1374,2,-999,9,-999,9,-999,    -999,9,    -999,4.443,2,-999,9,-999,9,    -999,9,-999,9, 20080306,     1710, -68.0809,  30.3403,    -999,-999,9,     -999,9,     -999,9,     -999,9,     -999,9,     -999,9,     -999,9,-999,9,     -999,9,     -999,9,     -999,9,    -999,    -999
33RR20080204,       I06S,     100,          1,         25,         25,2,20080306,       1542,   -68.0809,    30.3403,       3002,   324.4,  -0.5299,  34.5064,2,  34.5140,2,    262.7,2,   260.8,2,   77.37,2,   31.35,2,    0.01,2,    2.17,2,   3.500,2,   1.807,2,   0.316,2,    -999,9,    -999,9,     -999,9,     -999,   0.024,6,   1.858,2,    3.87,2,-0.5412,2,-999,9,-999,9,-999,   8.136,2,   0.031,3.301,2,-999,9,-999,9,    -999,9,-999,9, 20080306,     1708, -68.0809,  30.3403,   0.006,-999,9,     -999,9,     -999,9,     -999,9,     -999,9,     -999,9,     -999,9,-999,9,     -999,9,     -999,9,     -999,9,    0.15,   0.007
33RR20080204,       I06S,     100,          1,         24,         24,2,20080306,       1542,   -68.0809,    30.3403,       3002,   374.3,   0.2325,  34.5928,2,  34.5924,2,    237.4,2,   234.8,2,   83.41,2,   31.60,2,    0.00,2,    2.19,2,    -999,9,    -999,9,    -999,9,    -999,9,  2340.6,2,     -999,9,     -999,    -999,9,    -999,9,    -999,9,0.228,2,-999,9,-999,9,-999,    -999,9,    -999,-999,9,-999,9,-999,9,    -999,9,-999,9, 20080306,     1705, -68.0809,  30.3402,    -999,-999,9,     -999,9,     -999,9,     -999,9,     -999,9,     -999,9,     -999,9,-999,9,     -999,9,     -999,9,     -999,9,    -999,    -999
33RR20080204,       I06S,     100,          1,         23,         23,2,20080306,       1542,   -68.0809,    30.3403,       3002,   426.1,   0.5490,  34.6319,2,  34.6315,2,    223.8,2,   222.0,2,   87.45,2,   31.65,2,    0.00,2,    2.20,2,   1.791,2,   0.928,2,   0.146,2,    -999,9,    -999,9,     -999,9,     -999,    -999,9,   1.875,2,    7.08,2,0.547,2,-999,9,-999,9,-999,   8.039,2,   0.031,1.976,2,-999,9,-999,9,    -999,9,-999,9, 20080306,     1703, -68.0809,  30.3403,    -999,-999,9,     -999,9,     -999,9,     -999,9,     -999,9,     -999,9,     -999,9,-999,9,     -999,9,     -999,9,     -999,9,    0.15,   0.007
33RR20080204,       I06S,     100,          1,         22,         22,2,20080306,       1542,   -68.0809,    30.3403,       3002,   476.1,   0.6381,  34.6494,2,  34.6489,2,    214.0,2,   219.5,2,   89.87,2,   31.49,2,    0.00,2,    2.19,2,    -999,9,    -999,9,    -999,9,    -999,9,  2346.8,2,     -999,9,     -999,    -999,9,    -999,9,    -999,9,0.6412,2,-999,9,-999,9,-999,    -999,9,    -999,-999,9,-999,9,-999,9,    -999,9,-999,9, 20080306,     1700, -68.0809,  30.3403,    -999,-999,9,     -999,9,     -999,9,     -999,9,     -999,9,     -999,9,     -999,9,-999,9,     -999,9,     -999,9,     -999,9,    -999,    -999
33RR20080204,       I06S,     100,          1,         21,         21,2,20080306,       1542,   -68.0809,    30.3403,       3002,   528.2,   0.7574,  34.6695,2,  34.6682,2,    214.7,2,   214.4,2,   92.90,2,   31.49,2,    0.00,2,    2.19,2,   1.248,2,   0.652,2,   0.108,2,    -999,9,    -999,9,     -999,9,     -999,    -999,9,    -999,9,    -999,9,0.7581,2,-999,9,-999,9,-999,    -999,9,    -999,1.567,2,-999,9,-999,9,    -999,9,-999,9, 20080306,     1657, -68.0809,  30.3403,    -999,-999,9,     -999,9,     -999,9,     -999,9,     -999,9,     -999,9,     -999,9,-999,9,     -999,9,     -999,9,     -999,9,    -999,    -999
33RR20080204,       I06S,     100,          1,         20,         20,2,20080306,       1542,   -68.0809,    30.3403,       3002,   650.1,   0.6688,  34.6734,2,  34.6745,2,    215.0,2,   214.8,2,   96.95,2,   31.49,2,    0.00,2,    2.19,2,   1.122,2,   0.594,2,   0.088,2,    -999,9,  2350.4,2,     -999,9,     -999,   0.004,2,   1.872,2,    7.84,2,0.6679,2,-999,9,-999,9,-999,   8.076,2,   0.031,1.437,2,-999,9,-999,9,    -999,9,-999,9, 20080306,     1654, -68.0809,  30.3403,   0.009,-999,9,     -999,9,     -999,9,     -999,9,     -999,9,     -999,9,     -999,9,-999,9,     -999,9,     -999,9,     -999,9,    0.15,   0.007
33RR20080204,       I06S,     100,          1,         19,         19,2,20080306,       1542,   -68.0809,    30.3403,       3002,   749.6,   0.6228,  34.6773,2,  34.6776,2,    214.8,2,   214.2,2,  100.20,2,   31.65,2,    0.00,2,    2.20,2,   1.010,2,   0.534,2,   0.079,2,    -999,9,    -999,9,     -999,9,     -999,    -999,9,    -999,9,    -999,9,0.6223,2,-999,9,-999,9,-999,    -999,9,    -999,1.35,2,-999,9,-999,9,    -999,9,-999,9, 20080306,     1651, -68.0809,  30.3403,    -999,-999,9,     -999,9,     -999,9,     -999,9,     -999,9,     -999,9,     -999,9,-999,9,     -999,9,     -999,9,     -999,9,    -999,    -999
33RR20080204,       I06S,     100,          1,         18,         18,2,20080306,       1542,   -68.0809,    30.3403,       3002,   850.7,   0.4546,  34.6670,2,  34.6668,2,    217.2,2,   219.1,2,  101.01,2,   31.75,2,    0.00,2,    2.20,2,   1.178,2,   0.615,2,   0.112,2,    -999,9,  2351.4,2,     -999,9,     -999,   0.008,2,   1.876,2,    7.61,2,0.4548,2,-999,9,-999,9,-999,   8.075,2,   0.031,1.542,2,-999,9,-999,9,    -999,9,-999,9, 20080306,     1648, -68.0809,  30.3403,   0.009,-999,9,     -999,9,     -999,9,     -999,9,     -999,9,     -999,9,     -999,9,-999,9,     -999,9,     -999,9,     -999,9,    0.15,   0.007
33RR20080204,       I06S,     100,          1,         17,         17,2,20080306,       1542,   -68.0809,    30.3403,       3002,   953.5,   0.4046,  34.6675,2,  34.6682,2,    222.4,2,   219.6,2,  103.24,2,   31.80,2,    0.00,2,    2.20,2,   1.116,2,   0.594,2,   0.090,2,    -999,9,    -999,9,     -999,9,     -999,    -999,9,    -999,9,    -999,9,0.4041,2,-999,9,-999,9,-999,    -999,9,    -999,1.404,2,-999,9,-999,9,    -999,9,-999,9, 20080306,     1645, -68.0809,  30.3402,    -999,-999,9,     -999,9,     -999,9,     -999,9,     -999,9,     -999,9,     -999,9,-999,9,     -999,9,     -999,9,     -999,9,    -999,    -999
33RR20080204,       I06S,     100,          1,         15,         15,2,20080306,       1542,   -68.0809,    30.3403,       3002,  1053.8,   0.3643,  34.6687,2,  34.6695,2,    219.2,2,   219.2,2,  106.30,2,   31.94,2,    0.00,2,    2.21,2,   1.010,2,   0.543,2,   0.083,2,    -999,9,  2353.5,2,     -999,9,     -999,   0.005,2,   1.856,2,    7.42,2,0.3639,2,-999,9,-999,9,-999,   8.021,2,   0.030,1.311,2,-999,9,-999,9,    -999,9,-999,9, 20080306,     1642, -68.0809,  30.3403,   0.009,-999,9,     -999,9,     -999,9,     -999,9,     -999,9,     -999,9,     -999,9,-999,9,     -999,9,     -999,9,     -999,9,    0.15,   0.007
33RR20080204,       I06S,     100,          1,         14,         14,2,20080306,       1542,   -68.0809,    30.3403,       3002,  1157.1,   0.2939,  34.6664,2,  34.6666,2,    221.2,2,   220.2,2,  108.12,2,   32.04,2,    0.00,2,    2.22,2,   1.011,2,   0.547,2,   0.088,2,    -999,9,    -999,9,     -999,9,     -999,    -999,9,    -999,9,    -999,9,0.294,2,-999,9,-999,9,-999,    -999,9,    -999,1.324,2,-999,9,-999,9,    -999,9,-999,9, 20080306,     1639, -68.0809,  30.3403,    -999,-999,9,     -999,9,     -999,9,     -999,9,     -999,9,     -999,9,     -999,9,-999,9,     -999,9,     -999,9,     -999,9,    -999,    -999
33RR20080204,       I06S,     100,          1,         13,         13,2,20080306,       1542,   -68.0809,    30.3403,       3002,  1257.5,   0.3373,  34.6764,2,  34.6762,2,    215.4,2,   215.8,2,  113.83,2,   32.29,2,    0.00,2,    2.24,2,   0.700,2,   0.374,2,   0.057,2,    -999,9,    -999,9,     -999,9,     -999,   0.005,2,   1.871,2,    7.76,2,0.3373,2,-999,9,-999,9,-999,   8.118,2,   0.031,1.16,2,-999,9,-999,9,    -999,9,-999,9, 20080306,     1636, -68.0809,  30.3403,   0.009,-999,9,     -999,9,     -999,9,     -999,9,     -999,9,     -999,9,     -999,9,-999,9,     -999,9,     -999,9,     -999,9,    0.15,   0.007
33RR20080204,       I06S,     100,          1,         12,         12,2,20080306,       1542,   -68.0809,    30.3403,       3002,  1357.9,   0.2829,  34.6735,2,  34.6741,2,    216.7,2,   217.1,2,  115.06,2,   32.29,2,    0.00,2,    2.24,2,   0.733,2,   0.390,2,   0.052,2,    -999,9,  2355.8,2,     -999,9,     -999,    -999,9,    -999,9,    -999,9,0.2834,2,-999,9,-999,9,-999,    -999,9,    -999,1.155,2,-999,9,-999,9,    -999,9,-999,9, 20080306,     1633, -68.0809,  30.3403,    -999,-999,9,     -999,9,     -999,9,     -999,9,     -999,9,     -999,9,     -999,9,-999,9,     -999,9,     -999,9,     -999,9,    -999,    -999
33RR20080204,       I06S,     100,          1,         11,         11,2,20080306,       1542,   -68.0809,    30.3403,       3002,  1461.8,   0.2275,  34.6715,2,  34.6717,2,    218.6,2,   218.9,2,  116.07,2,   32.34,2,    0.00,2,    2.24,2,   0.719,2,   0.395,2,   0.058,2,    -999,9,    -999,9,     -999,9,     -999,   0.010,2,   1.864,2,    7.43,2,0.2267,2,-999,9,-999,9,-999,   8.160,2,   0.031,1.142,2,-999,9,-999,9,    -999,9,-999,9, 20080306,     1630, -68.0809,  30.3403,   0.009,-999,9,     -999,9,     -999,9,     -999,9,     -999,9,     -999,9,     -999,9,-999,9,     -999,9,     -999,9,     -999,9,    0.15,   0.007
33RR20080204,       I06S,     100,          1,         10,         10,2,20080306,       1542,   -68.0809,    30.3403,       3002,  1561.7,   0.1957,  34.6714,2,  34.6717,2,    218.5,2,   219.2,2,  118.11,2,   32.39,2,    0.00,2,    2.24,2,   0.682,2,   0.375,2,   0.047,2,    -999,9,    -999,9,     -999,9,     -999,    -999,9,    -999,9,    -999,9,0.1964,2,-999,9,-999,9,-999,    -999,9,    -999,1.127,2,-999,9,-999,9,    -999,9,-999,9, 20080306,     1628, -68.0809,  30.3403,    -999,-999,9,     -999,9,     -999,9,     -999,9,     -999,9,     -999,9,     -999,9,-999,9,     -999,9,     -999,9,     -999,9,    -999,    -999
33RR20080204,       I06S,     100,          1,          9,          9,2,20080306,       1542,   -68.0809,    30.3403,       3002,  1665.5,   0.1202,  34.6657,2,  34.6656,2,    223.5,2,   223.1,2,  116.48,2,   32.28,2,    0.00,2,    2.23,2,   0.861,2,   0.458,2,   0.068,2,    -999,9,  2355.0,2,     -999,9,     -999,   0.009,2,   1.858,2,    7.15,2,0.12,2,-999,9,-999,9,-999,   8.138,2,   0.031,1.341,2,-999,9,-999,9,    -999,9,-999,9, 20080306,     1625, -68.0809,  30.3403,   0.009,-999,9,     -999,9,     -999,9,     -999,9,     -999,9,     -999,9,     -999,9,-999,9,     -999,9,     -999,9,     -999,9,    0.15,   0.007
33RR20080204,       I06S,     100,          1,          8,          8,2,20080306,       1542,   -68.0809,    30.3403,       3002,  1767.8,   0.0991,  34.6658,2,  34.6660,2,    223.1,2,   223.5,2,  117.50,2,   32.28,2,    0.00,2,    2.24,2,   0.836,2,   0.441,2,   0.064,2,    -999,9,    -999,9,     -999,9,     -999,    -999,9,    -999,9,    -999,9,0.0985,2,-999,9,-999,9,-999,    -999,9,    -999,1.264,2,-999,9,-999,9,    -999,9,-999,9, 20080306,     1622, -68.0809,  30.3403,    -999,-999,9,     -999,9,     -999,9,     -999,9,     -999,9,     -999,9,     -999,9,-999,9,     -999,9,     -999,9,     -999,9,    -999,    -999
33RR20080204,       I06S,     100,          1,          7,          7,2,20080306,       1542,   -68.0809,    30.3403,       3002,  1868.3,   0.0854,  34.6671,2,  34.6668,2,    224.2,2,   223.5,2,  119.14,2,   32.33,2,    0.00,2,    2.24,2,   0.759,2,   0.404,2,   0.052,2,    -999,9,    -999,9,     -999,9,     -999,    -999,9,    -999,9,    -999,9,0.0858,2,-999,9,-999,9,-999,    -999,9,    -999,1.199,2,-999,9,-999,9,    -999,9,-999,9, 20080306,     1618, -68.0809,  30.3402,    -999,-999,9,     -999,9,     -999,9,     -999,9,     -999,9,     -999,9,     -999,9,-999,9,     -999,9,     -999,9,     -999,9,    -999,    -999
33RR20080204,       I06S,     100,          1,          6,          6,2,20080306,       1542,   -68.0809,    30.3403,       3002,  2071.8,   0.0302,  34.6657,2,  34.6662,2,    226.0,2,   225.8,2,  119.96,2,   32.38,2,    0.00,2,    2.24,2,   0.780,2,   0.423,2,   0.061,2,    -999,9,  2355.7,2,     -999,9,     -999,   0.007,2,   1.875,2,    6.91,2,0.0302,2,-999,9,-999,9,-999,   8.191,2,   0.031,1.226,2,-999,9,-999,9,    -999,9,-999,9, 20080306,     1614, -68.0809,  30.3403,   0.009,-999,9,     -999,9,     -999,9,     -999,9,     -999,9,     -999,9,     -999,9,-999,9,     -999,9,     -999,9,     -999,9,    0.15,   0.007
33RR20080204,       I06S,     100,          1,          5,          5,2,20080306,       1542,   -68.0809,    30.3403,       3002,  2389.8,  -0.0307,  34.6633,2,  34.6631,2,    228.8,2,   229.2,2,  120.78,2,   32.33,2,    0.00,2,    2.24,2,   0.851,2,   0.441,2,   0.059,2,    -999,9,    -999,9,     -999,9,     -999,    -999,9,    -999,9,    -999,9,-0.0303,2,-999,9,-999,9,-999,    -999,9,    -999,1.289,2,-999,9,-999,9,    -999,9,-999,9, 20080306,     1607, -68.0809,  30.3403,    -999,-999,9,     -999,9,     -999,9,     -999,9,     -999,9,     -999,9,     -999,9,-999,9,     -999,9,     -999,9,     -999,9,    -999,    -999
33RR20080204,       I06S,     100,          1,          4,          4,2,20080306,       1542,   -68.0809,    30.3403,       3002,  2695.1,  -0.0777,  34.6610,2,  34.6611,2,    232.0,2,   231.4,2,  119.96,2,   32.28,2,    0.00,2,    2.23,2,   0.988,2,   0.500,2,   0.071,2,    -999,9,    -999,9,     -999,9,     -999,   0.008,2,   1.873,2,    6.49,2,-0.0777,2,-999,9,-999,9,-999,   8.133,2,   0.031,1.451,2,-999,9,-999,9,    -999,9,-999,9, 20080306,     1601, -68.0809,  30.3403,   0.009,-999,9,     -999,9,     -999,9,     -999,9,     -999,9,     -999,9,     -999,9,-999,9,     -999,9,     -999,9,     -999,9,    0.15,   0.007