BOTTLE,20220706CCHSIOAMB
EXPOCODE,SECT_ID,STNNBR,CASTNO,SAMPNO,BTLNBR,BTLNBR_FLAG_W,DATE,TIME,LATITUDE,LONGITUDE,DEPTH,CTDPRS,CTDTMP,CTDSAL,CTDSAL_FLAG_W,SALNTY,SALNTY_FLAG_W,CTDOXY,CTDOXY_FLAG_W,OXYGEN,OXYGEN_FLAG_W,SILCAT,SILCAT_FLAG_W,NITRAT,NITRAT_FLAG_W,NITRIT,NITRIT_FLAG_W,PHSPHT,PHSPHT_FLAG_W,CFC-11,CFC-11_FLAG_W,CFC-12,CFC-12_FLAG_W,CFC113,CFC113_FLAG_W,TCARBN,TCARBN_FLAG_W,ALKALI,ALKALI_FLAG_W,PH_SWS,PH_SWS_FLAG_W,PH_TMP,TRITUM,TRITUM_FLAG_W,HELIUM,HELIUM_FLAG_W,DELHE3,DELHE3_FLAG_W,REFTMP,REFTMP_FLAG_W,DELC13,DELC13_FLAG_W,DELC14,DELC14_FLAG_W,C14ERR,NEON,NEON_FLAG_W,NEONER,CCL4,CCL4_FLAG_W,ALUMIN,ALUMIN_FLAG_W,DELO18,DELO18_FLAG_W,DOC,DOC_FLAG_W,TDN,TDN_FLAG_W,BTL_DATE,BTL_TIME,BTL_LAT,BTL_LON,TRITER,DELSI30,DELSI30_FLAG_W,CDOM380,CDOM380_FLAG_W,CDOM325,CDOM325_FLAG_W,CDOMSL,CDOMSL_FLAG_W,CDOM340,CDOM340_FLAG_W,CDOM443,CDOM443_FLAG_W,CDOMSN,CDOMSN_FLAG_W,BLACKC,BLACKC_FLAG_W,CDOM490,CDOM490_FLAG_W,CDOM412,CDOM412_FLAG_W,CDOM555,CDOM555_FLAG_W,DELHER,HELIER
,,,,,,,,,,,METERS,DBAR,ITS-90,PSS-78,,PSS-78,,UMOL/KG,,UMOL/KG,,UMOL/KG,,UMOL/KG,,UMOL/KG,,UMOL/KG,,PMOL/KG,,PMOL/KG,,PMOL/KG,,UMOL/KG,,UMOL/KG,,,,DEG C,TU,,NMOL/KG,,PERCNT,,DEG C,,/MILLE,,/MILLE,,/MILLE,NMOL/KG,,NMOL/KG,PMOL/KG,,NMOL/L,,/MILLE,,UMOL/KG,,UMOL/KG,,,,,,TU,/MILLE,,1/M,,1/M,,1/NM,,1/M,,1/M,,1/NM,,,,1/M,,1/M,,1/M,,PERCNT,NMOL/KG
33RR20080204,       I06S,      53,          1,         36,         36,2,20080222,       0752,   -53.4984,    29.9988,       5401,     5.2,   3.0655,  33.8659,2,  33.8672,2,    322.0,2,   322.8,2,    7.66,2,   22.71,2,    0.25,2,    1.54,2,   5.465,2,   3.020,2,   0.477,2,  2135.7,6,  2277.9,2,   7.9338,2,    13.00,    -999,9,    -999,9,    -999,9,3.0669,2,1.63,2,-53.5,2,2.7,    -999,9,    -999,7.651,2,-999,9,-999,9,   40.68,2,-999,1, 20080222,     1014, -53.4970,  29.9965,    -999,-999,9,   0.0224,2,   0.0764,2,   0.0181,2,   0.0488,2,   0.0075,2,   0.0215,2,-999,9,   0.0011,2,   0.0144,2,  -0.0016,4,    -999,    -999
33RR20080204,       I06S,      53,          1,         35,         35,2,20080222,       0752,   -53.4984,    29.9988,       5401,    31.4,   3.0628,  33.8655,2,  33.8666,2,    323.2,2,   321.8,2,    7.83,2,   22.67,2,    0.25,2,    1.55,2,   5.413,2,   3.016,2,   0.467,2,  2134.3,2,  2277.1,2,   7.9343,2,    13.00,    -999,9,    -999,9,    -999,9,3.0617,2,-999,9,-999,9,-999,    -999,9,    -999,7.471,2,-999,9,-999,9,   41.17,2,-999,1, 20080222,     1011, -53.4974,  29.9972,    -999,-999,1,   0.0195,2,   0.0720,2,   0.0176,3,   0.0436,2,   0.0069,2,   0.0230,3,-999,1,   0.0008,2,   0.0137,2,  -0.0017,4,    -999,    -999
33RR20080204,       I06S,      53,          1,         34,         34,2,20080222,       0752,   -53.4984,    29.9988,       5401,    36.1,   3.0658,  33.8657,2,  33.8660,2,    323.3,2,   321.5,2,    7.64,2,   22.66,2,    0.25,2,    1.55,2,   5.446,2,   3.021,2,   0.449,2,  2135.9,2,  2275.7,2,   7.9335,2,    13.00,    -999,9,    -999,9,    -999,9,3.0656,2,-999,9,-999,9,-999,    -999,9,    -999,7.651,2,-999,9,-999,9,   42.63,2,-999,1, 20080222,     1010, -53.4975,  29.9972,    -999,-999,1,   0.0205,2,   0.0745,2,   0.0178,3,   0.0454,2,   0.0072,2,   0.0228,3,-999,9,   0.0011,2,   0.0139,2,  -0.0016,4,    -999,    -999
33RR20080204,       I06S,      53,          1,         33,         33,2,20080222,       0752,   -53.4984,    29.9988,       5401,    67.0,   3.0632,  33.8658,2,  33.8670,2,    323.1,2,   321.9,2,    7.63,2,   22.63,2,    0.25,2,    1.55,2,   5.371,2,   3.018,2,   0.474,2,  2136.5,2,  2276.9,2,   7.9346,2,    13.00,    -999,9,    -999,9,    -999,9,3.0632,2,-999,9,-999,9,-999,    -999,9,    -999,8.143,2,-999,9,-999,9,   40.68,2,-999,1, 20080222,     1008, -53.4978,  29.9976,    -999,-999,1,   0.0196,2,   0.0725,2,   0.0177,3,   0.0440,2,   0.0071,2,   0.0230,3,-999,9,   0.0011,2,   0.0137,2,  -0.0012,4,    -999,    -999
33RR20080204,       I06S,      53,          1,         32,         32,2,20080222,       0752,   -53.4984,    29.9988,       5401,    94.5,   3.0660,  33.8654,2,  33.8668,2,    322.7,2,   321.6,2,    7.63,2,   22.63,2,    0.25,2,    1.55,2,   5.484,2,   3.033,2,   0.465,2,  2136.6,2,  2275.8,2,   7.9338,2,    13.00,    -999,9,    -999,9,    -999,9,3.0648,2,-999,9,-999,9,-999,    -999,9,    -999,8.049,2,-999,9,-999,9,   40.88,2,-999,1, 20080222,     1006, -53.4980,  29.9981,    -999,-999,1,   0.0238,2,   0.0841,2,   0.0171,3,   0.0515,2,   0.0089,2,   0.0218,3,-999,9,   0.0018,2,   0.0164,2,   0.0013,4,    -999,    -999
33RR20080204,       I06S,      53,          1,         31,         31,2,20080222,       0752,   -53.4984,    29.9988,       5401,   150.2,   2.4841,  33.8570,2,  33.8613,2,    317.7,2,   322.5,2,   15.91,2,   23.61,2,    0.26,2,    1.62,2,   5.597,2,   3.085,2,   0.507,2,  2145.1,2,  2282.8,2,   7.9176,2,    13.00,    -999,9,    -999,9,    -999,9,2.4831,2,1.6,2,-65.2,2,2.8,    -999,9,    -999,8.229,2,-999,9,-999,9,   39.02,2,-999,1, 20080222,     1004, -53.4982,  29.9983,    -999,-999,1,   0.0194,2,   0.0763,2,   0.0191,3,   0.0451,2,   0.0059,2,   0.0249,3,-999,9,  -0.0001,4,   0.0130,2,  -0.0021,4,    -999,    -999
33RR20080204,       I06S,      53,          1,         30,         30,2,20080222,       0752,   -53.4984,    29.9988,       5401,   200.6,   1.0653,  33.9452,2,  33.9441,2,    271.1,2,   308.7,2,   36.12,2,   28.10,2,    0.16,2,    1.95,2,   5.622,2,   3.031,2,   0.459,2,  2176.9,2,  2288.0,2,   7.8451,2,    13.00,    -999,9,    -999,9,    -999,9,1.0642,2,-999,9,-999,9,-999,    -999,9,    -999,7.746,2,-999,9,-999,9,   38.93,2,-999,1, 20080222,     1001, -53.4983,  29.9985,    -999,-999,1,   0.0251,2,   0.0904,2,   0.0179,3,   0.0558,2,   0.0086,2,   0.0224,3,-999,1,   0.0014,2,   0.0167,2,  -0.0013,4,    -999,    -999
33RR20080204,       I06S,      53,          1,         29,         29,2,20080222,       0752,   -53.4984,    29.9988,       5401,   235.0,   1.0931,  34.0226,2,  34.0242,2,    248.7,2,   296.8,2,   41.15,2,   29.32,2,    0.13,2,    2.06,2,   5.225,2,   2.861,2,   0.459,2,  2186.6,2,  2292.0,2,   7.8306,2,    13.00,    -999,9,    -999,9,    -999,9,1.0988,2,1.11,2,-92.1,2,2.8,    -999,9,    -999,7.475,2,-999,9,-999,9,    -999,9,-999,1, 20080222,     0958, -53.4983,  29.9985,    -999,-999,1,   0.0231,2,   0.0868,2,   0.0188,3,   0.0533,2,   0.0072,2,   0.0236,3,-999,9,   0.0003,4,   0.0152,2,  -0.0019,4,    -999,    -999
33RR20080204,       I06S,      53,          1,         28,         28,2,20080222,       0752,   -53.4984,    29.9988,       5401,   289.7,   0.6182,  34.1257,2,  34.1236,2,    219.7,2,   303.7,2,   52.55,2,   30.05,2,    0.17,2,    2.11,2,   5.300,2,   2.906,2,   0.456,2,  2198.3,2,  2302.2,2,   7.8251,2,    13.00,    -999,9,    -999,9,    -999,9,0.6125,2,1.02,2,-104.7,2,2.4,    -999,9,    -999,7.16,2,-999,9,-999,9,    -999,9,-999,1, 20080222,     0956, -53.4983,  29.9986,    -999,-999,1,   0.0263,2,   0.0929,2,   0.0175,3,   0.0573,2,   0.0093,2,   0.0219,3,-999,9,   0.0019,2,   0.0178,2,  -0.0010,4,    -999,    -999
33RR20080204,       I06S,      53,          1,         27,         27,2,20080222,       0752,   -53.4984,    29.9988,       5401,   336.2,   1.5007,  34.2620,2,  34.2553,2,    204.8,2,   240.5,2,   56.10,2,   33.02,2,    0.05,2,    2.29,2,   3.455,2,   1.857,2,   0.281,2,  2219.9,2,  2306.1,2,   7.7715,2,    13.00,    -999,9,    -999,9,    -999,9,1.4829,2,0.78,2,-107.8,2,2.7,    -999,9,    -999,4.951,2,-999,9,-999,9,    -999,9,-999,9, 20080222,     0954, -53.4983,  29.9986,    -999,-999,9,     -999,9,     -999,9,     -999,9,     -999,9,     -999,9,     -999,9,-999,9,     -999,9,     -999,9,     -999,9,    -999,    -999
33RR20080204,       I06S,      53,          1,         26,         26,2,20080222,       0752,   -53.4984,    29.9988,       5401,   390.8,   2.1466,  34.3902,2,  34.3895,2,    204.4,2,   195.9,2,   61.53,2,   34.47,2,    0.01,2,    2.38,2,   1.884,2,   0.988,2,   0.150,2,  2235.4,2,  2315.2,2,   7.7440,2,    13.00,    -999,9,    -999,9,    -999,9,2.1483,2,0.62,2,-124.1,2,2.7,    -999,9,    -999,2.939,2,-999,9,-999,9,   36.10,2,-999,1, 20080222,     0952, -53.4983,  29.9986,    -999,-999,1,   0.0312,2,   0.1066,2,   0.0179,3,   0.0675,2,   0.0104,2,   0.0213,3,-999,9,   0.0021,2,   0.0203,2,  -0.0010,4,    -999,    -999
33RR20080204,       I06S,      53,          1,         25,         25,2,20080222,       0752,   -53.4984,    29.9988,       5401,   438.0,   2.2936,  34.4442,2,  34.4437,2,    192.8,2,   185.1,2,   64.91,2,   34.71,2,    0.00,2,    2.40,2,   1.392,6,   0.733,6,   0.097,6,  2243.3,2,  2320.1,2,   7.7375,2,    13.00,    -999,9,    -999,9,    -999,9,2.2931,2,0.57,2,-136.1,2,2.6,    -999,9,    -999,2.577,2,-999,9,-999,9,    -999,9,-999,9, 20080222,     0950, -53.4983,  29.9985,    -999,-999,9,     -999,9,     -999,9,     -999,9,     -999,9,     -999,9,     -999,9,-999,9,     -999,9,     -999,9,     -999,9,    -999,    -999
33RR20080204,       I06S,      53,          1,         24,         24,2,20080222,       0752,   -53.4984,    29.9988,       5401,   481.5,   2.1268,  34.4708,2,  34.4704,2,    192.0,2,   187.1,2,   68.66,2,   34.52,2,    0.00,2,    2.39,2,   1.398,2,   0.739,2,   0.112,2,  2243.1,2,  2322.4,2,   7.7397,2,    13.00,    -999,9,    -999,9,    -999,9,2.1287,2,0.61,2,-131.7,2,2.4,    -999,9,    -999,2.565,2,-999,9,-999,9,   36.39,2,-999,1, 20080222,     0948, -53.4983,  29.9986,    -999,-999,9,   0.0355,2,   0.1157,2,   0.0174,2,   0.0751,2,   0.0126,2,   0.0202,3,-999,9,   0.0033,2,   0.0234,2,  -0.0005,4,    -999,    -999
33RR20080204,       I06S,      53,          1,         23,         23,2,20080222,       0752,   -53.4984,    29.9988,       5401,   575.4,   1.9411,  34.5120,2,  34.5120,2,    182.9,2,   185.3,2,   74.32,2,   34.47,2,    0.00,2,    2.39,2,   1.325,2,   0.705,2,   0.115,2,  2249.1,2,  2328.5,2,   7.7371,2,    13.00,    -999,9,    -999,9,    -999,9,1.9407,2,0.48,2,-144.2,2,2.6,    -999,9,    -999,2.259,2,-999,9,-999,9,    -999,9,-999,9, 20080222,     0945, -53.4983,  29.9984,    -999,-999,1,     -999,9,     -999,9,     -999,9,     -999,9,     -999,9,     -999,9,-999,9,     -999,9,     -999,9,     -999,9,    -999,    -999
33RR20080204,       I06S,      53,          1,         22,         22,2,20080222,       0752,   -53.4984,    29.9988,       5401,   673.4,   2.1223,  34.6084,2,  34.6080,2,    178.2,2,   176.1,2,   78.27,2,   33.78,2,    0.00,2,    2.34,2,   0.667,2,   0.358,2,   0.052,2,  2252.7,2,  2335.7,2,   7.7472,2,    13.00,    -999,9,    -999,9,    -999,9,2.1217,2,0.46,2,-144.8,2,2.6,    -999,9,    -999,1.22,2,-999,9,-999,9,   36.20,2,-999,1, 20080222,     0942, -53.4983,  29.9986,    -999,-999,9,   0.0348,2,   0.1162,2,   0.0183,2,   0.0759,2,   0.0113,2,   0.0210,2,-999,9,   0.0023,2,   0.0221,2,  -0.0010,4,    -999,    -999
33RR20080204,       I06S,      53,          1,         21,         21,2,20080222,       0752,   -53.4984,    29.9988,       5401,   769.6,   2.4234,  34.6932,2,  34.6933,2,    176.5,2,   182.2,2,   72.77,2,   31.55,2,    0.00,2,    2.18,2,   0.212,2,   0.124,2,   0.015,2,  2243.5,3,  2338.6,2,   7.7826,3,    13.00,    -999,9,    -999,9,    -999,9,2.4227,2,0.47,2,-145.6,2,2.4,    -999,9,    -999,0.6,2,-999,9,-999,9,    -999,9,-999,9, 20080222,     0939, -53.4984,  29.9988,    -999,-999,1,     -999,9,     -999,9,     -999,9,     -999,9,     -999,9,     -999,9,-999,9,     -999,9,     -999,9,     -999,9,    -999,    -999
33RR20080204,       I06S,      53,          1,         20,         20,2,20080222,       0752,   -53.4984,    29.9988,       5401,   869.8,   2.3175,  34.7132,2,  34.7133,2,    187.6,2,   184.9,2,   75.41,2,   31.17,2,    0.00,2,    2.16,2,   0.201,2,   0.120,2,   0.017,2,  2242.6,3,  2341.5,2,   7.7870,2,    13.00,    -999,9,    -999,9,    -999,9,2.3137,2,0.58,2,-153.9,2,2.6,    -999,9,    -999,0.611,2,-999,9,-999,9,   37.27,2,-999,1, 20080222,     0936, -53.4984,  29.9988,    -999,-999,9,   0.0376,2,   0.1203,2,   0.0177,2,   0.0804,2,   0.0131,2,   0.0200,2,-999,9,   0.0036,2,   0.0240,2,  -0.0003,4,    -999,    -999
33RR20080204,       I06S,      53,          1,         19,         19,2,20080222,       0752,   -53.4984,    29.9988,       5401,   959.8,   2.0573,  34.7001,2,  34.7004,2,    186.5,2,   183.0,2,   82.78,2,   31.94,2,    0.00,2,    2.22,2,   0.320,2,   0.184,2,   0.018,2,  2251.0,6,  2343.0,2,   7.7750,3,    13.00,    -999,9,    -999,9,    -999,9,2.0602,2,0.51,2,-153.3,2,2.6,    -999,9,    -999,0.76,2,-999,9,-999,9,   36.00,2,-999,1, 20080222,     0933, -53.4984,  29.9987,    -999,-999,1,   0.0366,2,   0.1185,2,   0.0178,2,   0.0783,2,   0.0126,2,   0.0203,2,-999,9,   0.0031,2,   0.0233,2,  -0.0006,4,    -999,    -999
33RR20080204,       I06S,      53,          1,         18,         18,2,20080222,       0752,   -53.4984,    29.9988,       5401,  1163.2,   1.9861,  34.7324,2,  34.7336,2,    190.3,2,   191.0,2,   83.34,2,   30.83,2,    0.00,2,    2.14,2,   0.231,2,   0.136,2,   0.016,2,  2260.1,3,  2346.1,2,   7.7945,2,    13.00,    -999,9,    -999,9,    -999,9,1.9829,2,0.58,2,-147.7,2,2.6,    -999,9,    -999,0.663,2,-999,9,-999,9,   36.59,2,-999,1, 20080222,     0928, -53.4985,  29.9989,    -999,-999,9,   0.0339,2,   0.1158,2,   0.0188,2,   0.0757,2,   0.0108,2,   0.0215,2,-999,9,   0.0022,2,   0.0208,2,  -0.0010,4,    -999,    -999
33RR20080204,       I06S,      53,          1,         17,         17,2,20080222,       0752,   -53.4984,    29.9988,       5401,  1371.1,   1.5641,  34.7138,2,  34.7145,2,    191.5,2,   194.0,2,   93.38,2,   31.51,2,    0.00,2,    2.20,2,   0.397,2,   0.231,2,   0.028,2,  2253.5,3,  2351.1,2,   7.7871,3,    13.00,    -999,9,    -999,9,    -999,9,1.5636,2,0.5,2,-159.7,2,2.4,    -999,9,    -999,0.841,2,-999,9,-999,9,   36.98,2,-999,1, 20080222,     0923, -53.4984,  29.9987,    -999,-999,9,   0.0339,2,   0.1158,2,   0.0188,2,   0.0758,2,   0.0109,2,   0.0215,2,-999,9,   0.0023,2,   0.0209,2,  -0.0009,4,    -999,    -999
33RR20080204,       I06S,      53,          1,         16,         16,2,20080222,       0752,   -53.4984,    29.9988,       5401,  1575.7,   1.5209,  34.7370,2,  34.7389,2,    197.7,2,   200.8,2,   93.00,2,   30.60,2,    0.00,2,    2.12,2,   0.232,2,   0.133,2,   0.016,2,  2247.7,2,  2351.1,2,   7.8072,3,    13.00,    -999,9,    -999,9,    -999,9,1.5293,2,0.59,2,-156.3,2,3.2,    -999,9,    -999,0.596,2,-999,9,-999,9,    -999,9,-999,9, 20080222,     0918, -53.4984,  29.9988,    -999,-999,1,     -999,9,     -999,9,     -999,9,     -999,9,     -999,9,     -999,9,-999,9,     -999,9,     -999,9,     -999,9,    -999,    -999
33RR20080204,       I06S,      53,          1,         15,         15,2,20080222,       0752,   -53.4984,    29.9988,       5401,  1781.6,   1.1105,  34.7050,2,  34.7061,2,    202.6,2,   200.9,2,  104.04,2,   31.90,2,    0.00,2,    2.22,2,   0.428,4,   0.239,4,   0.027,4,  2253.8,2,  2353.5,2,   7.7883,3,    13.00,    -999,9,    -999,9,    -999,9,1.1145,2,-999,9,-999,9,-999,    -999,9,    -999,0.884,4,-999,9,-999,9,   37.95,2,-999,1, 20080222,     0913, -53.4984,  29.9988,    -999,-999,9,   0.0329,2,   0.1131,2,   0.0188,2,   0.0733,2,   0.0105,2,   0.0217,2,-999,9,   0.0020,2,   0.0202,2,  -0.0010,4,    -999,    -999
33RR20080204,       I06S,      53,          1,         14,         14,2,20080222,       0752,   -53.4984,    29.9988,       5401,  1984.1,   1.1471,  34.7278,2,  34.7283,2,    199.3,2,   206.6,2,  103.45,2,   30.98,2,    0.00,2,    2.15,2,   0.201,2,   0.122,2,   0.018,2,  2249.5,3,  2355.0,2,   7.8076,3,    13.00,    -999,9,    -999,9,    -999,9,1.1468,2,-999,9,-999,9,-999,    -999,9,    -999,0.627,2,-999,9,-999,9,    -999,9,-999,9, 20080222,     0908, -53.4985,  29.9989,    -999,-999,1,     -999,9,     -999,9,     -999,9,     -999,9,     -999,9,     -999,9,-999,9,     -999,9,     -999,9,     -999,9,    -999,    -999
33RR20080204,       I06S,      53,          1,         13,         13,2,20080222,       0752,   -53.4984,    29.9988,       5401,  2282.7,   0.9049,  34.7122,2,  34.7123,2,    206.8,2,   207.8,2,  110.89,2,   31.65,2,    0.00,2,    2.20,2,   0.260,2,   0.144,2,   0.034,2,  2250.9,3,  2355.5,2,   7.7996,3,    13.00,    -999,9,    -999,9,    -999,9,0.904,2,-999,9,-999,9,-999,    -999,9,    -999,0.834,2,-999,9,-999,9,   36.78,2,-999,1, 20080222,     0902, -53.4984,  29.9987,    -999,-999,9,   0.0330,2,   0.1137,2,   0.0188,2,   0.0736,2,   0.0106,2,   0.0217,2,-999,9,   0.0021,2,   0.0204,2,  -0.0010,4,    -999,    -999
33RR20080204,       I06S,      53,          1,         12,         12,2,20080222,       0752,   -53.4984,    29.9988,       5401,  2586.5,   0.6930,  34.6984,2,  34.6984,2,    208.3,2,   209.5,2,  117.58,2,   32.24,2,    0.00,2,    2.24,2,   0.297,2,   0.157,2,   0.016,2,  2259.8,2,  2355.6,2,   7.7916,2,    13.00,    -999,9,    -999,9,    -999,9,0.6933,2,-999,9,-999,9,-999,    -999,9,    -999,0.797,2,-999,9,-999,9,    -999,9,-999,9, 20080222,     0856, -53.4985,  29.9990,    -999,-999,1,     -999,9,     -999,9,     -999,9,     -999,9,     -999,9,     -999,9,-999,9,     -999,9,     -999,9,     -999,9,    -999,    -999
33RR20080204,       I06S,      53,          1,         11,         11,2,20080222,       0752,   -53.4984,    29.9988,       5401,  2893.2,   0.5401,  34.6900,2,  34.6899,2,    210.6,2,   210.9,2,  122.94,2,   32.57,2,    0.00,2,    2.26,2,   0.293,2,   0.161,2,   0.023,2,  2261.0,2,  2357.2,2,   7.7881,2,    13.00,    -999,9,    -999,9,    -999,9,0.5399,2,-999,9,-999,9,-999,    -999,9,    -999,0.824,2,-999,9,-999,9,   36.88,2,-999,1, 20080222,     0850, -53.4984,  29.9988,    -999,-999,9,   0.0329,2,   0.1127,2,   0.0186,2,   0.0729,2,   0.0107,2,   0.0216,2,-999,9,   0.0023,2,   0.0203,2,  -0.0008,4,    -999,    -999
33RR20080204,       I06S,      53,          1,         10,         10,2,20080222,       0752,   -53.4984,    29.9988,       5401,  3202.4,   0.4455,  34.6854,2,  34.6850,2,    213.8,2,   213.7,2,  125.44,2,   32.72,2,    0.00,2,    2.27,2,   0.287,2,   0.159,2,   0.015,2,  2261.7,2,  2357.0,2,   7.7884,3,    13.00,    -999,9,    -999,9,    -999,9,0.4453,2,-999,9,-999,9,-999,    -999,9,    -999,0.859,2,-999,9,-999,9,    -999,9,-999,9, 20080222,     0843, -53.4984,  29.9986,    -999,-999,1,     -999,9,     -999,9,     -999,9,     -999,9,     -999,9,     -999,9,-999,9,     -999,9,     -999,9,     -999,9,    -999,    -999
33RR20080204,       I06S,      53,          1,          9,          9,2,20080222,       0752,   -53.4984,    29.9988,       5401,  3509.6,   0.3184,  34.6776,2,  34.6775,2,    216.7,2,   217.1,2,  127.34,2,   32.86,2,    0.00,2,    2.28,2,   0.331,2,   0.178,2,   0.019,2,  2262.1,2,  2356.6,2,   7.7857,3,    13.00,    -999,9,    -999,9,    -999,9,0.318,2,-999,9,-999,9,-999,    -999,9,    -999,0.989,2,-999,9,-999,9,   36.49,2,-999,1, 20080222,     0837, -53.4984,  29.9986,    -999,-999,9,   0.0309,2,   0.1092,2,   0.0188,2,   0.0697,2,   0.0098,2,   0.0221,3,-999,9,   0.0015,2,   0.0194,2,  -0.0012,4,    -999,    -999
33RR20080204,       I06S,      53,          1,          8,          8,2,20080222,       0752,   -53.4984,    29.9988,       5401,  3816.5,   0.2173,  34.6727,2,  34.6728,2,    221.4,2,   220.9,2,  128.29,2,   32.86,2,    0.00,2,    2.28,2,   0.331,2,   0.180,2,   0.015,2,  2260.5,2,  2354.0,2,   7.7855,4,    13.00,    -999,9,    -999,9,    -999,9,0.2168,2,-999,9,-999,9,-999,    -999,9,    -999,1.036,2,-999,9,-999,9,    -999,9,-999,9, 20080222,     0831, -53.4984,  29.9987,    -999,-999,1,     -999,9,     -999,9,     -999,9,     -999,9,     -999,9,     -999,9,-999,9,     -999,9,     -999,9,     -999,9,    -999,    -999