BOTTLE,20220706CCHSIOAMB
EXPOCODE,SECT_ID,STNNBR,CASTNO,SAMPNO,BTLNBR,BTLNBR_FLAG_W,DATE,TIME,LATITUDE,LONGITUDE,DEPTH,CTDPRS,CTDTMP,CTDSAL,CTDSAL_FLAG_W,SALNTY,SALNTY_FLAG_W,CTDOXY,CTDOXY_FLAG_W,OXYGEN,OXYGEN_FLAG_W,SILCAT,SILCAT_FLAG_W,NITRAT,NITRAT_FLAG_W,NITRIT,NITRIT_FLAG_W,PHSPHT,PHSPHT_FLAG_W,CFC-11,CFC-11_FLAG_W,CFC-12,CFC-12_FLAG_W,CFC113,CFC113_FLAG_W,TCARBN,TCARBN_FLAG_W,ALKALI,ALKALI_FLAG_W,PH_SWS,PH_SWS_FLAG_W,PH_TMP,TRITUM,TRITUM_FLAG_W,HELIUM,HELIUM_FLAG_W,DELHE3,DELHE3_FLAG_W,REFTMP,REFTMP_FLAG_W,DELC13,DELC13_FLAG_W,DELC14,DELC14_FLAG_W,C14ERR,NEON,NEON_FLAG_W,NEONER,CCL4,CCL4_FLAG_W,ALUMIN,ALUMIN_FLAG_W,DELO18,DELO18_FLAG_W,DOC,DOC_FLAG_W,TDN,TDN_FLAG_W,BTL_DATE,BTL_TIME,BTL_LAT,BTL_LON,TRITER,DELSI30,DELSI30_FLAG_W,CDOM380,CDOM380_FLAG_W,CDOM325,CDOM325_FLAG_W,CDOMSL,CDOMSL_FLAG_W,CDOM340,CDOM340_FLAG_W,CDOM443,CDOM443_FLAG_W,CDOMSN,CDOMSN_FLAG_W,BLACKC,BLACKC_FLAG_W,CDOM490,CDOM490_FLAG_W,CDOM412,CDOM412_FLAG_W,CDOM555,CDOM555_FLAG_W,DELHER,HELIER
,,,,,,,,,,,METERS,DBAR,ITS-90,PSS-78,,PSS-78,,UMOL/KG,,UMOL/KG,,UMOL/KG,,UMOL/KG,,UMOL/KG,,UMOL/KG,,PMOL/KG,,PMOL/KG,,PMOL/KG,,UMOL/KG,,UMOL/KG,,,,DEG C,TU,,NMOL/KG,,PERCNT,,DEG C,,/MILLE,,/MILLE,,/MILLE,NMOL/KG,,NMOL/KG,PMOL/KG,,NMOL/L,,/MILLE,,UMOL/KG,,UMOL/KG,,,,,,TU,/MILLE,,1/M,,1/M,,1/NM,,1/M,,1/M,,1/NM,,,,1/M,,1/M,,1/M,,PERCNT,NMOL/KG
33RR20080204,       I06S,      10,          1,         36,         36,2,20080208,       0047,   -33.7155,    28.6031,       3760,     6.0,  25.5039,  35.4392,2,  35.4371,2,    207.6,2,   207.6,2,    1.80,2,    0.06,2,    0.00,2,    0.09,2,   1.818,2,   1.082,2,   0.126,2,  1992.2,6,  2320.7,2,   8.1440,2,    20.00,    -999,9,    -999,9,    -999,9,-999,9,-999,9,-999,9,-999,    -999,9,    -999,2.722,2,-999,9,-999,9,    -999,9,-999,9, 20080208,     0241, -33.7278,  28.5855,    -999,-999,9,     -999,9,     -999,9,     -999,9,     -999,9,     -999,9,     -999,9,-999,9,     -999,9,     -999,9,     -999,9,    -999,    -999
33RR20080204,       I06S,      10,          1,         35,         35,2,20080208,       0047,   -33.7155,    28.6031,       3760,    32.1,  25.5152,  35.4381,2,  35.4383,2,    208.1,2,   207.1,2,    1.80,2,    0.01,2,    0.00,2,    0.08,2,   1.800,2,   1.079,2,   0.110,2,  1990.1,2,  2320.3,2,   8.1690,2,    20.00,    -999,9,    -999,9,    -999,9,-999,9,-999,9,-999,9,-999,    -999,9,    -999,2.336,2,-999,9,-999,9,    -999,9,-999,9, 20080208,     0239, -33.7276,  28.5862,    -999,-999,9,     -999,9,     -999,9,     -999,9,     -999,9,     -999,9,     -999,9,-999,9,     -999,9,     -999,9,     -999,9,    -999,    -999
33RR20080204,       I06S,      10,          1,         34,         34,2,20080208,       0047,   -33.7155,    28.6031,       3760,    51.9,  25.2840,  35.4766,2,  35.4793,2,    208.4,2,   209.0,2,    1.79,2,    0.01,2,    0.00,2,    0.08,2,    -999,9,    -999,9,    -999,9,  1993.3,2,  2322.6,2,   8.1640,2,    20.00,    -999,9,    -999,9,    -999,9,-999,9,-999,9,-999,9,-999,    -999,9,    -999,-999,9,-999,9,-999,9,    -999,9,-999,9, 20080208,     0237, -33.7275,  28.5867,    -999,-999,9,     -999,9,     -999,9,     -999,9,     -999,9,     -999,9,     -999,9,-999,9,     -999,9,     -999,9,     -999,9,    -999,    -999
33RR20080204,       I06S,      10,          1,         33,         33,2,20080208,       0047,   -33.7155,    28.6031,       3760,    80.6,  23.2819,  35.3346,2,  35.3424,2,    202.7,2,   200.8,2,    2.19,2,    0.67,2,    0.12,2,    0.18,2,   0.000,4,  -0.006,4,   0.000,4,  2010.0,2,  2314.9,2,   8.1290,2,    20.00,    -999,9,    -999,9,    -999,9,-999,9,-999,9,-999,9,-999,    -999,9,    -999,-0.118,4,-999,9,-999,9,    -999,9,-999,9, 20080208,     0235, -33.7275,  28.5874,    -999,-999,9,     -999,9,     -999,9,     -999,9,     -999,9,     -999,9,     -999,9,-999,9,     -999,9,     -999,9,     -999,9,    -999,    -999
33RR20080204,       I06S,      10,          1,         32,         32,2,20080208,       0047,   -33.7155,    28.6031,       3760,   106.8,  21.3360,  35.3312,2,  35.3513,2,    179.9,2,   175.5,2,    4.16,2,    4.53,2,    0.05,2,    0.40,2,    -999,9,    -999,9,    -999,9,  2047.6,2,  2315.6,2,   8.0650,2,    20.00,    -999,9,    -999,9,    -999,9,-999,9,-999,9,-999,9,-999,    -999,9,    -999,-999,9,-999,9,-999,9,    -999,9,-999,9, 20080208,     0233, -33.7267,  28.5872,    -999,-999,9,     -999,9,     -999,9,     -999,9,     -999,9,     -999,9,     -999,9,-999,9,     -999,9,     -999,9,     -999,9,    -999,    -999
33RR20080204,       I06S,      10,          1,         31,         31,2,20080208,       0047,   -33.7155,    28.6031,       3760,   155.3,  19.1682,  35.4918,2,  35.4919,2,    177.5,2,   181.0,2,    4.95,2,    5.14,2,    0.02,2,    0.45,2,   2.238,2,   1.348,2,   0.060,2,  2072.7,2,  2325.0,2,   8.0460,2,    20.00,    -999,9,    -999,9,    -999,9,-999,9,-999,9,-999,9,-999,    -999,9,    -999,0.788,2,-999,9,-999,9,    -999,9,-999,9, 20080208,     0231, -33.7267,  28.5877,    -999,-999,9,     -999,9,     -999,9,     -999,9,     -999,9,     -999,9,     -999,9,-999,9,     -999,9,     -999,9,     -999,9,    -999,    -999
33RR20080204,       I06S,      10,          1,         30,         30,2,20080208,       0047,   -33.7155,    28.6031,       3760,   206.2,  17.5353,  35.5383,2,  35.5387,2,    201.3,2,   204.5,2,    3.95,2,    4.27,2,    0.01,2,    0.39,2,   2.471,2,   1.474,2,   0.095,2,  2075.4,2,  2327.4,2,   8.0340,2,    20.00,    -999,9,    -999,9,    -999,9,-999,9,-999,9,-999,9,-999,    -999,9,    -999,1.352,2,-999,9,-999,9,    -999,9,-999,9, 20080208,     0229, -33.7263,  28.5878,    -999,-999,9,     -999,9,     -999,9,     -999,9,     -999,9,     -999,9,     -999,9,-999,9,     -999,9,     -999,9,     -999,9,    -999,    -999
33RR20080204,       I06S,      10,          1,         29,         29,2,20080208,       0047,   -33.7155,    28.6031,       3760,   258.0,  16.6620,  35.5256,2,  35.5255,2,    200.4,2,   200.9,2,    4.55,2,    5.60,2,    0.01,2,    0.49,2,   2.595,2,   1.509,2,   0.071,2,  2090.9,2,  2328.3,2,   8.0000,2,    20.00,    -999,9,    -999,9,    -999,9,-999,9,-999,9,-999,9,-999,    -999,9,    -999,1.218,2,-999,9,-999,9,    -999,9,-999,9, 20080208,     0226, -33.7261,  28.5883,    -999,-999,9,     -999,9,     -999,9,     -999,9,     -999,9,     -999,9,     -999,9,-999,9,     -999,9,     -999,9,     -999,9,    -999,    -999
33RR20080204,       I06S,      10,          1,         28,         28,2,20080208,       0047,   -33.7155,    28.6031,       3760,   307.1,  15.5939,  35.4414,3,  35.4758,2,    194.5,2,   196.5,2,    5.13,2,    7.23,2,    0.01,2,    0.60,2,   2.672,2,   1.549,2,   0.041,2,  2106.6,2,  2328.1,2,   7.9760,2,    20.00,    -999,9,    -999,9,    -999,9,-999,9,-999,9,-999,9,-999,    -999,9,    -999,0.714,2,-999,9,-999,9,    -999,9,-999,9, 20080208,     0224, -33.7259,  28.5887,    -999,-999,9,     -999,9,     -999,9,     -999,9,     -999,9,     -999,9,     -999,9,-999,9,     -999,9,     -999,9,     -999,9,    -999,    -999
33RR20080204,       I06S,      10,          1,         27,         27,2,20080208,       0047,   -33.7155,    28.6031,       3760,   357.4,  14.8178,  35.3247,3,  35.4343,2,    208.5,2,   205.7,2,    4.73,2,    7.52,2,    0.01,2,    0.60,2,   2.805,2,   1.622,2,   0.043,2,  2107.4,2,  2325.5,2,   7.9710,2,    20.00,    -999,9,    -999,9,    -999,9,-999,9,-999,9,-999,9,-999,    -999,9,    -999,0.646,2,-999,9,-999,9,    -999,9,-999,9, 20080208,     0222, -33.7256,  28.5888,    -999,-999,9,     -999,9,     -999,9,     -999,9,     -999,9,     -999,9,     -999,9,-999,9,     -999,9,     -999,9,     -999,9,    -999,    -999
33RR20080204,       I06S,      10,          1,         26,         26,2,20080208,       0047,   -33.7155,    28.6031,       3760,   408.4,  14.1481,  35.3454,3,  35.3797,2,    214.6,2,   211.8,2,    4.33,2,    8.22,2,    0.01,2,    0.64,2,   2.926,2,   1.698,2,   0.044,2,  2110.0,2,  2322.2,2,   7.9610,2,    20.00,    -999,9,    -999,9,    -999,9,-999,9,-999,9,-999,9,-999,    -999,9,    -999,0.84,2,-999,9,-999,9,    -999,9,-999,9, 20080208,     0220, -33.7253,  28.5891,    -999,-999,9,     -999,9,     -999,9,     -999,9,     -999,9,     -999,9,     -999,9,-999,9,     -999,9,     -999,9,     -999,9,    -999,    -999
33RR20080204,       I06S,      10,          1,         25,         25,2,20080208,       0047,   -33.7155,    28.6031,       3760,   457.7,  13.5577,  35.1599,3,  35.3196,2,    217.9,2,   214.9,2,    4.32,2,    9.01,2,    0.01,2,    0.69,2,   2.936,2,   1.732,2,   0.038,2,  2113.2,2,  2319.9,2,   7.9490,2,    20.00,    -999,9,    -999,9,    -999,9,-999,9,-999,9,-999,9,-999,    -999,9,    -999,0.751,2,-999,9,-999,9,    -999,9,-999,9, 20080208,     0218, -33.7252,  28.5895,    -999,-999,9,     -999,9,     -999,9,     -999,9,     -999,9,     -999,9,     -999,9,-999,9,     -999,9,     -999,9,     -999,9,    -999,    -999
33RR20080204,       I06S,      10,          1,         24,         24,2,20080208,       0047,   -33.7155,    28.6031,       3760,   507.6,  12.9479,  35.1056,3,  35.2203,2,    218.0,2,   211.3,2,    5.32,2,   10.74,2,    0.01,2,    0.81,2,   3.108,2,   1.707,2,   0.058,2,  2119.0,2,  2317.5,2,   7.9280,2,    20.00,    -999,9,    -999,9,    -999,9,-999,9,-999,9,-999,9,-999,    -999,9,    -999,1.153,2,-999,9,-999,9,    -999,9,-999,9, 20080208,     0216, -33.7249,  28.5898,    -999,-999,9,     -999,9,     -999,9,     -999,9,     -999,9,     -999,9,     -999,9,-999,9,     -999,9,     -999,9,     -999,9,    -999,    -999
33RR20080204,       I06S,      10,          1,         23,         23,2,20080208,       0047,   -33.7155,    28.6031,       3760,   608.9,  11.7313,  35.0251,3,  35.0528,2,    205.8,4,   218.2,2,    5.11,2,   12.51,2,    0.00,2,    0.92,2,   3.269,2,   1.767,2,   0.084,2,  2122.8,2,  2308.7,2,   7.9090,2,    20.00,    -999,9,    -999,9,    -999,9,-999,9,-999,9,-999,9,-999,    -999,9,    -999,1.452,2,-999,9,-999,9,    -999,9,-999,9, 20080208,     0213, -33.7245,  28.5901,    -999,-999,9,     -999,9,     -999,9,     -999,9,     -999,9,     -999,9,     -999,9,-999,9,     -999,9,     -999,9,     -999,9,    -999,    -999
33RR20080204,       I06S,      10,          1,         22,         22,2,20080208,       0047,   -33.7155,    28.6031,       3760,   709.3,  10.5214,  34.8200,3,  34.8879,2,    201.3,4,   218.9,2,    6.50,2,   15.15,2,    0.00,2,    1.08,2,   3.294,2,   1.714,2,   0.096,2,  2129.0,2,  2301.2,2,   7.8800,2,    20.00,    -999,9,    -999,9,    -999,9,-999,9,-999,9,-999,9,-999,    -999,9,    -999,1.657,2,-999,9,-999,9,    -999,9,-999,9, 20080208,     0210, -33.7243,  28.5906,    -999,-999,9,     -999,9,     -999,9,     -999,9,     -999,9,     -999,9,     -999,9,-999,9,     -999,9,     -999,9,     -999,9,    -999,    -999
33RR20080204,       I06S,      10,          1,         21,         21,2,20080208,       0047,   -33.7155,    28.6031,       3760,   807.5,   9.4917,  34.6488,3,  34.6147,2,    194.5,4,   214.7,2,    8.88,2,   17.98,2,    0.00,2,    1.26,2,   3.069,2,   1.572,2,   0.096,2,  2139.5,2,  2297.8,2,   7.8500,2,    20.00,    -999,9,    -999,9,    -999,9,-999,9,-999,9,-999,9,-999,    -999,9,    -999,1.626,2,-999,9,-999,9,    -999,9,-999,9, 20080208,     0207, -33.7239,  28.5910,    -999,-999,9,     -999,9,     -999,9,     -999,9,     -999,9,     -999,9,     -999,9,-999,9,     -999,9,     -999,9,     -999,9,    -999,    -999
33RR20080204,       I06S,      10,          1,         20,         20,2,20080208,       0047,   -33.7155,    28.6031,       3760,   907.9,   8.0874,  34.5378,3,     -999,9,    192.0,4,   202.3,2,   15.88,2,   22.56,2,    0.00,2,    1.56,2,   2.339,2,   1.194,2,   0.077,2,  2158.3,2,  2297.0,2,   7.7990,2,    20.00,    -999,9,    -999,9,    -999,9,-999,9,-999,9,-999,9,-999,    -999,9,    -999,1.892,2,-999,9,-999,9,    -999,9,-999,9, 20080208,     0203, -33.7236,  28.5915,    -999,-999,9,     -999,9,     -999,9,     -999,9,     -999,9,     -999,9,     -999,9,-999,9,     -999,9,     -999,9,     -999,9,    -999,    -999
33RR20080204,       I06S,      10,          1,         12,         12,2,20080208,       0047,   -33.7155,    28.6031,       3760,  1006.4,   6.8084,  34.5082,3,  34.5207,2,    183.4,4,   192.9,2,   23.70,2,   26.27,2,    0.00,2,    1.83,2,   1.905,2,   0.955,2,   0.067,2,  2177.3,6,  2299.6,2,   7.7540,2,    20.00,    -999,9,    -999,9,    -999,9,-999,9,-999,9,-999,9,-999,    -999,9,    -999,1.871,2,-999,9,-999,9,    -999,9,-999,9, 20080208,     0200, -33.7231,  28.5919,    -999,-999,9,     -999,9,     -999,9,     -999,9,     -999,9,     -999,9,     -999,9,-999,9,     -999,9,     -999,9,     -999,9,    -999,    -999
33RR20080204,       I06S,      10,          1,         11,         11,2,20080208,       0047,   -33.7155,    28.6031,       3760,  1219.3,   5.0783,  34.5307,3,  34.5402,2,    169.6,4,   160.4,2,   49.81,2,   32.06,2,    0.00,2,    2.26,2,   0.846,6,   0.444,6,   0.048,6,    -999,9,  2321.4,2,     -999,9,     -999,    -999,9,    -999,9,    -999,9,-999,9,-999,9,-999,9,-999,    -999,9,    -999,1.3375,6,-999,9,-999,9,    -999,9,-999,9, 20080208,     0155, -33.7224,  28.5925,    -999,-999,9,     -999,9,     -999,9,     -999,9,     -999,9,     -999,9,     -999,9,-999,9,     -999,9,     -999,9,     -999,9,    -999,    -999
33RR20080204,       I06S,      10,          1,         10,         10,2,20080208,       0047,   -33.7155,    28.6031,       3760,  1409.8,   3.9632,  34.5658,3,  34.5673,2,    176.9,4,   158.7,2,   63.07,2,   33.43,2,    0.00,2,    2.35,2,   0.468,2,   0.259,2,   0.028,2,    -999,9,    -999,9,     -999,9,     -999,    -999,9,    -999,9,    -999,9,-999,9,-999,9,-999,9,-999,    -999,9,    -999,0.866,2,-999,9,-999,9,    -999,9,-999,9, 20080208,     0149, -33.7219,  28.5934,    -999,-999,9,     -999,9,     -999,9,     -999,9,     -999,9,     -999,9,     -999,9,-999,9,     -999,9,     -999,9,     -999,9,    -999,    -999
33RR20080204,       I06S,      10,          1,          9,          9,2,20080208,       0047,   -33.7155,    28.6031,       3760,  1626.5,   3.4405,  34.6493,3,  34.6577,2,    165.1,4,   156.7,2,   75.13,2,   33.33,2,    0.00,2,    2.34,2,   0.174,2,   0.107,2,   0.014,2,    -999,9,  2346.3,2,     -999,9,     -999,    -999,9,    -999,9,    -999,9,-999,9,-999,9,-999,9,-999,    -999,9,    -999,0.418,2,-999,9,-999,9,    -999,9,-999,9, 20080208,     0144, -33.7213,  28.5943,    -999,-999,9,     -999,9,     -999,9,     -999,9,     -999,9,     -999,9,     -999,9,-999,9,     -999,9,     -999,9,     -999,9,    -999,    -999
33RR20080204,       I06S,      10,          1,          8,          8,2,20080208,       0047,   -33.7155,    28.6031,       3760,  1822.7,   2.9446,  34.6941,3,  34.6960,2,    171.8,4,   170.8,2,    -999,5,    -999,5,    -999,5,    -999,5,   0.102,2,   0.063,2,   0.000,2,    -999,9,    -999,9,     -999,9,     -999,    -999,9,    -999,9,    -999,9,-999,9,-999,9,-999,9,-999,    -999,9,    -999,0.272,2,-999,9,-999,9,    -999,9,-999,9, 20080208,     0138, -33.7207,  28.5953,    -999,-999,9,     -999,9,     -999,9,     -999,9,     -999,9,     -999,9,     -999,9,-999,9,     -999,9,     -999,9,     -999,9,    -999,    -999
33RR20080204,       I06S,      10,          1,          7,          7,2,20080208,       0047,   -33.7155,    28.6031,       3760,  2032.6,   2.7470,  34.7442,3,  34.7466,2,    191.7,3,   189.3,2,   66.54,2,   29.75,2,    0.00,2,    2.05,2,   0.072,2,   0.040,2,   0.007,2,    -999,9,  2340.8,2,     -999,9,     -999,    -999,9,    -999,9,    -999,9,-999,9,-999,9,-999,9,-999,    -999,9,    -999,0.165,2,-999,9,-999,9,    -999,9,-999,9, 20080208,     0131, -33.7200,  28.5963,    -999,-999,9,     -999,9,     -999,9,     -999,9,     -999,9,     -999,9,     -999,9,-999,9,     -999,9,     -999,9,     -999,9,    -999,    -999
33RR20080204,       I06S,      10,          1,          6,          6,2,20080208,       0047,   -33.7155,    28.6031,       3760,  2332.5,   2.5868,  34.7848,3,  34.8031,3,    197.2,3,   200.8,2,   65.69,2,   28.18,2,    0.00,2,    1.94,2,   0.048,2,   0.029,2,   0.009,2,    -999,9,    -999,9,     -999,9,     -999,    -999,9,    -999,9,    -999,9,-999,9,-999,9,-999,9,-999,    -999,9,    -999,0.078,2,-999,9,-999,9,    -999,9,-999,9, 20080208,     0124, -33.7193,  28.5976,    -999,-999,9,     -999,9,     -999,9,     -999,9,     -999,9,     -999,9,     -999,9,-999,9,     -999,9,     -999,9,     -999,9,    -999,    -999
33RR20080204,       I06S,      10,          1,          5,          5,2,20080208,       0047,   -33.7155,    28.6031,       3760,  2638.2,   2.4357,  34.8087,3,  34.8118,2,    211.7,3,   210.5,2,   63.85,2,   27.03,2,    0.00,2,    1.85,2,   0.052,2,   0.022,2,   0.000,2,    -999,9,  2343.6,2,     -999,9,     -999,    -999,9,    -999,9,    -999,9,-999,9,-999,9,-999,9,-999,    -999,9,    -999,0.0,2,-999,9,-999,9,    -999,9,-999,9, 20080208,     0116, -33.7185,  28.5987,    -999,-999,9,     -999,9,     -999,9,     -999,9,     -999,9,     -999,9,     -999,9,-999,9,     -999,9,     -999,9,     -999,9,    -999,    -999
33RR20080204,       I06S,      10,          1,          4,          4,2,20080208,       0047,   -33.7155,    28.6031,       3760,  2940.3,   2.2744,  34.8157,3,  34.8187,2,    212.4,3,   215.8,2,   65.68,2,   26.63,2,    0.00,2,    1.83,2,   0.034,2,   0.019,2,   0.001,2,    -999,9,    -999,9,     -999,9,     -999,    -999,9,    -999,9,    -999,9,-999,9,-999,9,-999,9,-999,    -999,9,    -999,0.0,2,-999,9,-999,9,    -999,9,-999,9, 20080208,     0109, -33.7178,  28.5998,    -999,-999,9,     -999,9,     -999,9,     -999,9,     -999,9,     -999,9,     -999,9,-999,9,     -999,9,     -999,9,     -999,9,    -999,    -999
33RR20080204,       I06S,      10,          1,          3,          3,2,20080208,       0047,   -33.7155,    28.6031,       3760,  3243.8,   2.0539,  34.8030,3,  34.8085,2,    215.2,3,   218.2,2,   72.22,2,   27.08,2,    0.00,2,    1.85,2,   0.039,2,   0.020,2,   0.003,2,    -999,9,  2353.4,2,     -999,9,     -999,    -999,9,    -999,9,    -999,9,-999,9,-999,9,-999,9,-999,    -999,9,    -999,0.024,2,-999,9,-999,9,    -999,9,-999,9, 20080208,     0102, -33.7171,  28.6009,    -999,-999,9,     -999,9,     -999,9,     -999,9,     -999,9,     -999,9,     -999,9,-999,9,     -999,9,     -999,9,     -999,9,    -999,    -999
33RR20080204,       I06S,      10,          1,          2,          2,2,20080208,       0047,   -33.7155,    28.6031,       3760,  3550.0,   1.7820,  34.7853,3,  34.7957,2,    222.4,3,   218.0,2,   81.85,2,   28.04,2,    0.00,2,    1.92,2,   0.050,2,   0.028,2,   0.004,2,    -999,9,  2353.6,2,   7.7390,2,    20.00,    -999,9,    -999,9,    -999,9,-999,9,-999,9,-999,9,-999,    -999,9,    -999,0.003,2,-999,9,-999,9,    -999,9,-999,9, 20080208,     0054, -33.7162,  28.6020,    -999,-999,9,     -999,9,     -999,9,     -999,9,     -999,9,     -999,9,     -999,9,-999,9,     -999,9,     -999,9,     -999,9,    -999,    -999
33RR20080204,       I06S,      10,          1,          1,          1,2,20080208,       0047,   -33.7155,    28.6031,       3760,  3793.2,   1.4572,  34.7628,2,  34.7639,2,    218.7,3,   217.0,2,   93.33,2,   29.15,2,    0.00,2,    2.01,2,   0.077,2,   0.043,2,   0.015,2,    -999,9,  2360.7,2,   7.7280,2,    20.00,    -999,9,    -999,9,    -999,9,-999,9,-999,9,-999,9,-999,    -999,9,    -999,0.211,2,-999,9,-999,9,    -999,9,-999,9, 20080208,     0048, -33.7156,  28.6031,    -999,-999,9,     -999,9,     -999,9,     -999,9,     -999,9,     -999,9,     -999,9,-999,9,     -999,9,     -999,9,     -999,9,    -999,    -999