BOTTLE,20220706CCHSIOAMB
EXPOCODE,SECT_ID,STNNBR,CASTNO,SAMPNO,BTLNBR,BTLNBR_FLAG_W,DATE,TIME,LATITUDE,LONGITUDE,DEPTH,CTDPRS,CTDTMP,CTDSAL,CTDSAL_FLAG_W,SALNTY,SALNTY_FLAG_W,CTDOXY,CTDOXY_FLAG_W,OXYGEN,OXYGEN_FLAG_W,SILCAT,SILCAT_FLAG_W,NITRAT,NITRAT_FLAG_W,NITRIT,NITRIT_FLAG_W,PHSPHT,PHSPHT_FLAG_W,CFC-11,CFC-11_FLAG_W,CFC-12,CFC-12_FLAG_W,CFC113,CFC113_FLAG_W,TCARBN,TCARBN_FLAG_W,ALKALI,ALKALI_FLAG_W,PH_SWS,PH_SWS_FLAG_W,PH_TMP,TRITUM,TRITUM_FLAG_W,HELIUM,HELIUM_FLAG_W,DELHE3,DELHE3_FLAG_W,REFTMP,REFTMP_FLAG_W,DELC13,DELC13_FLAG_W,DELC14,DELC14_FLAG_W,C14ERR,NEON,NEON_FLAG_W,NEONER,CCL4,CCL4_FLAG_W,ALUMIN,ALUMIN_FLAG_W,DELO18,DELO18_FLAG_W,DOC,DOC_FLAG_W,TDN,TDN_FLAG_W,BTL_DATE,BTL_TIME,BTL_LAT,BTL_LON,TRITER,DELSI30,DELSI30_FLAG_W,CDOM380,CDOM380_FLAG_W,CDOM325,CDOM325_FLAG_W,CDOMSL,CDOMSL_FLAG_W,CDOM340,CDOM340_FLAG_W,CDOM443,CDOM443_FLAG_W,CDOMSN,CDOMSN_FLAG_W,BLACKC,BLACKC_FLAG_W,CDOM490,CDOM490_FLAG_W,CDOM412,CDOM412_FLAG_W,CDOM555,CDOM555_FLAG_W,DELHER,HELIER
,,,,,,,,,,,METERS,DBAR,ITS-90,PSS-78,,PSS-78,,UMOL/KG,,UMOL/KG,,UMOL/KG,,UMOL/KG,,UMOL/KG,,UMOL/KG,,PMOL/KG,,PMOL/KG,,PMOL/KG,,UMOL/KG,,UMOL/KG,,,,DEG C,TU,,NMOL/KG,,PERCNT,,DEG C,,/MILLE,,/MILLE,,/MILLE,NMOL/KG,,NMOL/KG,PMOL/KG,,NMOL/L,,/MILLE,,UMOL/KG,,UMOL/KG,,,,,,TU,/MILLE,,1/M,,1/M,,1/NM,,1/M,,1/M,,1/NM,,,,1/M,,1/M,,1/M,,PERCNT,NMOL/KG
33RR20080204,       I06S,      30,          1,         36,         36,2,20080214,       1653,   -41.9933,    30.0043,       5245,     8.5,  18.7410,  35.5363,2,  35.5358,2,    234.0,2,   233.0,2,    2.29,2,    0.80,2,    0.06,2,    0.20,2,   2.368,2,   1.476,2,   0.182,2,  2044.0,6,  2330.4,2,   8.2131,2,    13.00,    -999,9,    -999,9,    -999,9,18.7404,2,-999,9,-999,9,-999,    -999,9,    -999,3.207,2,-999,9,-999,9,    -999,9,-999,9, 20080214,     1921, -41.9811,  30.0160,    -999,-999,9,     -999,9,     -999,9,     -999,9,     -999,9,     -999,9,     -999,9,-999,9,     -999,9,     -999,9,     -999,9,    -999,    -999
33RR20080204,       I06S,      30,          1,         35,         35,2,20080214,       1653,   -41.9933,    30.0043,       5245,    27.6,  18.7387,  35.5351,2,  35.5352,2,    234.0,2,   232.9,2,    2.29,2,    0.79,2,    0.06,2,    0.19,2,   2.347,2,   1.447,2,   0.184,2,  2042.5,2,  2330.5,2,   8.2138,2,    13.00,    -999,9,    -999,9,    -999,9,18.7406,2,-999,9,-999,9,-999,    -999,9,    -999,3.324,2,-999,9,-999,9,    -999,9,-999,9, 20080214,     1919, -41.9811,  30.0159,    -999,-999,9,     -999,9,     -999,9,     -999,9,     -999,9,     -999,9,     -999,9,-999,9,     -999,9,     -999,9,     -999,9,    -999,    -999
33RR20080204,       I06S,      30,          1,         34,         34,2,20080214,       1653,   -41.9933,    30.0043,       5245,    51.6,  18.6063,  35.5230,2,  35.5224,2,    227.6,2,   225.8,2,    2.29,2,    1.39,2,    0.14,2,    0.23,2,   2.418,2,   1.456,2,   0.187,2,  2048.5,2,  2330.1,2,   8.1998,2,    13.00,    -999,9,    -999,9,    -999,9,18.6063,2,-999,9,-999,9,-999,    -999,9,    -999,3.299,2,-999,9,-999,9,    -999,9,-999,9, 20080214,     1917, -41.9811,  30.0158,    -999,-999,9,     -999,9,     -999,9,     -999,9,     -999,9,     -999,9,     -999,9,-999,9,     -999,9,     -999,9,     -999,9,    -999,    -999
33RR20080204,       I06S,      30,          1,         33,         33,2,20080214,       1653,   -41.9933,    30.0043,       5245,    87.7,  17.7195,  35.4699,2,  35.4946,2,    202.1,2,   213.2,2,    3.07,2,    2.83,2,    0.19,2,    0.33,2,   2.430,2,   1.458,2,   0.162,2,  2060.7,2,  2328.5,2,   8.1781,2,    13.00,    -999,9,    -999,9,    -999,9,17.9512,3,-999,9,-999,9,-999,    -999,9,    -999,2.742,2,-999,9,-999,9,    -999,9,-999,9, 20080214,     1916, -41.9812,  30.0158,    -999,-999,9,     -999,9,     -999,9,     -999,9,     -999,9,     -999,9,     -999,9,-999,9,     -999,9,     -999,9,     -999,9,    -999,    -999
33RR20080204,       I06S,      30,          1,         32,         32,2,20080214,       1653,   -41.9933,    30.0043,       5245,   112.6,  16.4824,  35.4784,2,  35.4772,2,    186.0,2,   185.5,2,    6.00,2,    7.60,2,    0.06,2,    0.61,2,   2.578,2,   1.495,2,   0.100,2,  2099.9,2,  2327.1,2,   8.0984,3,    13.00,    -999,9,    -999,9,    -999,9,16.4804,2,-999,9,-999,9,-999,    -999,9,    -999,1.787,2,-999,9,-999,9,    -999,9,-999,9, 20080214,     1914, -41.9814,  30.0157,    -999,-999,9,     -999,9,     -999,9,     -999,9,     -999,9,     -999,9,     -999,9,-999,9,     -999,9,     -999,9,     -999,9,    -999,    -999
33RR20080204,       I06S,      30,          1,         31,         31,2,20080214,       1653,   -41.9933,    30.0043,       5245,   163.3,  15.4147,  35.3984,2,  35.3997,2,    217.1,2,   213.7,2,    3.85,2,    5.70,2,    0.03,2,    0.52,2,   2.800,2,   1.640,2,   0.154,2,  2095.2,2,  2326.4,2,   8.1088,2,    13.00,    -999,9,    -999,9,    -999,9,15.4129,2,-999,9,-999,9,-999,    -999,9,    -999,2.319,2,-999,9,-999,9,    -999,9,-999,9, 20080214,     1912, -41.9815,  30.0157,    -999,-999,9,     -999,9,     -999,9,     -999,9,     -999,9,     -999,9,     -999,9,-999,9,     -999,9,     -999,9,     -999,9,    -999,    -999
33RR20080204,       I06S,      30,          1,         30,         30,2,20080214,       1653,   -41.9933,    30.0043,       5245,   215.9,  14.4913,  35.3652,2,  35.3670,2,    207.5,2,   207.5,2,    4.44,2,    8.08,2,    0.02,2,    0.65,2,   2.858,2,   1.674,2,   0.104,2,  2107.7,2,  2322.5,2,   8.0820,4,    13.00,    -999,9,    -999,9,    -999,9,14.4881,2,-999,9,-999,9,-999,    -999,9,    -999,2.092,2,-999,9,-999,9,    -999,9,-999,9, 20080214,     1909, -41.9818,  30.0157,    -999,-999,9,     -999,9,     -999,9,     -999,9,     -999,9,     -999,9,     -999,9,-999,9,     -999,9,     -999,9,     -999,9,    -999,    -999
33RR20080204,       I06S,      30,          1,         29,         29,2,20080214,       1653,   -41.9933,    30.0043,       5245,   276.4,  13.1720,  35.1900,2,  35.1934,2,    218.5,2,   218.8,2,    4.44,2,    9.54,2,    0.01,2,    0.75,2,   3.096,2,   1.786,2,   0.155,2,  2110.6,2,  2316.1,2,   8.0595,2,    13.00,    -999,9,    -999,9,    -999,9,13.1648,2,-999,9,-999,9,-999,    -999,9,    -999,2.481,2,-999,9,-999,9,    -999,9,-999,9, 20080214,     1907, -41.9820,  30.0156,    -999,-999,9,     -999,9,     -999,9,     -999,9,     -999,9,     -999,9,     -999,9,-999,9,     -999,9,     -999,9,     -999,9,    -999,    -999
33RR20080204,       I06S,      30,          1,         28,         28,2,20080214,       1653,   -41.9933,    30.0043,       5245,   327.9,  12.1936,  35.0722,2,  35.0751,2,    218.6,2,   222.7,2,    4.44,2,   11.10,2,    0.01,2,    0.85,2,   3.224,2,   1.825,2,   0.161,2,  2115.6,2,  2311.4,2,   8.0401,2,    13.00,    -999,9,    -999,9,    -999,9,12.1906,2,-999,9,-999,9,-999,    -999,9,    -999,2.716,2,-999,9,-999,9,    -999,9,-999,9, 20080214,     1905, -41.9821,  30.0156,    -999,-999,9,     -999,9,     -999,9,     -999,9,     -999,9,     -999,9,     -999,9,-999,9,     -999,9,     -999,9,     -999,9,    -999,    -999
33RR20080204,       I06S,      30,          1,         27,         27,2,20080214,       1653,   -41.9933,    30.0043,       5245,   376.9,  11.6307,  34.9975,2,  35.0047,2,    233.8,2,   223.5,2,    4.83,2,   12.32,2,    0.01,2,    0.93,2,   3.281,2,   1.828,2,   0.172,2,  2119.4,2,  2306.1,2,   8.0265,2,    13.00,    -999,9,    -999,9,    -999,9,11.6292,2,-999,9,-999,9,-999,    -999,9,    -999,2.856,2,-999,9,-999,9,    -999,9,-999,9, 20080214,     1902, -41.9823,  30.0156,    -999,-999,9,     -999,9,     -999,9,     -999,9,     -999,9,     -999,9,     -999,9,-999,9,     -999,9,     -999,9,     -999,9,    -999,    -999
33RR20080204,       I06S,      30,          1,         26,         26,2,20080214,       1653,   -41.9933,    30.0043,       5245,   428.1,  10.6145,  34.8177,2,  34.8186,2,    236.7,2,   242.3,2,    4.64,2,   13.10,2,    0.01,2,    0.99,2,   3.471,2,   1.980,2,   0.255,2,  2117.0,2,  2300.0,2,   8.0190,2,    13.00,    -999,9,    -999,9,    -999,9,10.6144,2,-999,9,-999,9,-999,    -999,9,    -999,3.253,2,-999,9,-999,9,    -999,9,-999,9, 20080214,     1900, -41.9826,  30.0154,    -999,-999,9,     -999,9,     -999,9,     -999,9,     -999,9,     -999,9,     -999,9,-999,9,     -999,9,     -999,9,     -999,9,    -999,    -999
33RR20080204,       I06S,      30,          1,         25,         25,2,20080214,       1653,   -41.9933,    30.0043,       5245,   478.0,  10.1401,  34.7478,2,  34.7522,2,    240.0,2,   243.1,2,    4.83,2,   14.08,2,    0.01,2,    1.03,2,   3.591,2,   2.008,2,   0.259,2,  2119.1,2,  2298.5,2,   8.0064,3,    13.00,    -999,9,    -999,9,    -999,9,10.1391,2,-999,9,-999,9,-999,    -999,9,    -999,2.968,2,-999,9,-999,9,    -999,9,-999,9, 20080214,     1857, -41.9828,  30.0153,    -999,-999,9,     -999,9,     -999,9,     -999,9,     -999,9,     -999,9,     -999,9,-999,9,     -999,9,     -999,9,     -999,9,    -999,    -999
33RR20080204,       I06S,      30,          1,         24,         24,2,20080214,       1653,   -41.9933,    30.0043,       5245,   529.3,   9.3011,  34.6211,2,  34.6229,2,    245.2,2,   247.3,2,    5.22,2,   15.75,2,    0.01,2,    1.14,2,   3.633,2,   2.024,2,   0.243,2,  2122.9,2,  2293.2,2,   7.9888,2,    13.00,    -999,9,    -999,9,    -999,9,9.3012,2,-999,9,-999,9,-999,    -999,9,    -999,3.282,2,-999,9,-999,9,    -999,9,-999,9, 20080214,     1855, -41.9829,  30.0152,    -999,-999,9,     -999,9,     -999,9,     -999,9,     -999,9,     -999,9,     -999,9,-999,9,     -999,9,     -999,9,     -999,9,    -999,    -999
33RR20080204,       I06S,      30,          1,         23,         23,2,20080214,       1653,   -41.9933,    30.0043,       5245,   649.7,   8.5108,  34.6345,2,  34.6378,2,    207.0,2,   202.2,2,   12.87,2,   21.51,2,    0.00,2,    1.50,2,   2.903,2,   1.516,2,   0.151,2,  2154.6,2,  2297.1,2,   7.9152,3,    13.00,    -999,9,    -999,9,    -999,9,8.5192,2,-999,9,-999,9,-999,    -999,9,    -999,2.514,2,-999,9,-999,9,    -999,9,-999,9, 20080214,     1852, -41.9832,  30.0150,    -999,-999,9,     -999,9,     -999,9,     -999,9,     -999,9,     -999,9,     -999,9,-999,9,     -999,9,     -999,9,     -999,9,    -999,    -999
33RR20080204,       I06S,      30,          1,         22,         22,2,20080214,       1653,   -41.9933,    30.0043,       5245,   748.6,   7.0288,  34.4897,2,  34.4897,2,    202.9,2,   203.4,2,   17.39,2,   25.17,2,    0.00,2,    1.75,2,   2.886,2,   1.496,2,   0.173,2,  2167.5,2,  2293.4,2,   7.8731,2,    13.00,    -999,9,    -999,9,    -999,9,7.0363,2,-999,9,-999,9,-999,    -999,9,    -999,2.847,2,-999,9,-999,9,    -999,9,-999,9, 20080214,     1849, -41.9835,  30.0148,    -999,-999,9,     -999,9,     -999,9,     -999,9,     -999,9,     -999,9,     -999,9,-999,9,     -999,9,     -999,9,     -999,9,    -999,    -999
33RR20080204,       I06S,      30,          1,         21,         21,2,20080214,       1653,   -41.9933,    30.0043,       5245,   849.8,   5.8228,  34.4147,2,  34.4157,2,    203.7,2,   204.6,2,   24.08,2,   27.76,2,    0.00,2,    1.92,2,   2.697,2,   1.370,2,   0.176,2,  2178.7,2,  2295.7,2,   7.8545,4,    13.00,    -999,9,    -999,9,    -999,9,5.8243,2,-999,9,-999,9,-999,    -999,9,    -999,2.801,2,-999,9,-999,9,    -999,9,-999,9, 20080214,     1845, -41.9838,  30.0146,    -999,-999,9,     -999,9,     -999,9,     -999,9,     -999,9,     -999,9,     -999,9,-999,9,     -999,9,     -999,9,     -999,9,    -999,    -999
33RR20080204,       I06S,      30,          1,         20,         20,2,20080214,       1653,   -41.9933,    30.0043,       5245,  1051.1,   4.4741,  34.4139,2,  34.4138,2,    192.0,2,   191.9,2,   39.08,2,   31.20,2,    0.00,2,    2.18,2,   1.843,2,   0.914,2,   0.124,2,  2205.6,2,  2308.1,2,   7.8059,2,    13.00,    -999,9,    -999,9,    -999,9,4.4643,2,-999,9,-999,9,-999,    -999,9,    -999,2.237,2,-999,9,-999,9,    -999,9,-999,9, 20080214,     1840, -41.9842,  30.0146,    -999,-999,9,     -999,9,     -999,9,     -999,9,     -999,9,     -999,9,     -999,9,-999,9,     -999,9,     -999,9,     -999,9,    -999,    -999
33RR20080204,       I06S,      30,          1,         19,         19,2,20080214,       1653,   -41.9933,    30.0043,       5245,  1251.4,   3.7654,  34.4913,2,  34.4923,2,    173.8,2,   173.8,2,   54.95,2,   33.16,2,    0.00,2,    2.32,2,   0.971,6,   0.505,6,   0.061,6,  2228.9,6,  2325.0,2,   7.7775,2,    13.00,    -999,9,    -999,9,    -999,9,3.7704,2,-999,9,-999,9,-999,    -999,9,    -999,1.557,6,-999,9,-999,9,    -999,9,-999,9, 20080214,     1836, -41.9845,  30.0145,    -999,-999,9,     -999,9,     -999,9,     -999,9,     -999,9,     -999,9,     -999,9,-999,9,     -999,9,     -999,9,     -999,9,    -999,    -999
33RR20080204,       I06S,      30,          1,         18,         18,3,20080214,       1653,   -41.9933,    30.0043,       5245,  1353.5,   3.4689,  34.5281,2,  34.5756,4,    172.0,2,   176.2,4,   55.14,4,   31.36,4,    0.00,4,    2.20,4,    -999,9,    -999,9,    -999,9,    -999,9,    -999,9,     -999,9,     -999,    -999,9,    -999,9,    -999,9,3.4697,2,-999,9,-999,9,-999,    -999,9,    -999,-999,9,-999,9,-999,9,    -999,9,-999,9, 20080214,     1833, -41.9848,  30.0145,    -999,-999,9,     -999,9,     -999,9,     -999,9,     -999,9,     -999,9,     -999,9,-999,9,     -999,9,     -999,9,     -999,9,    -999,    -999
33RR20080204,       I06S,      30,          1,         17,         17,2,20080214,       1653,   -41.9933,    30.0043,       5245,  1458.0,   3.2087,  34.5653,2,  34.5660,2,    170.6,2,   170.1,2,   64.50,2,   33.42,2,    0.00,2,    2.33,2,   0.434,2,   0.223,2,   0.022,2,    -999,9,    -999,9,     -999,9,     -999,    -999,9,    -999,9,    -999,9,3.2087,2,-999,9,-999,9,-999,    -999,9,    -999,0.974,2,-999,9,-999,9,    -999,9,-999,9, 20080214,     1829, -41.9851,  30.0144,    -999,-999,9,     -999,9,     -999,9,     -999,9,     -999,9,     -999,9,     -999,9,-999,9,     -999,9,     -999,9,     -999,9,    -999,    -999
33RR20080204,       I06S,      30,          1,         16,         16,2,20080214,       1653,   -41.9933,    30.0043,       5245,  1563.4,   2.9531,  34.5908,2,  34.5915,2,    174.7,2,   173.1,2,   66.29,2,   33.16,2,    0.00,2,    2.30,2,   0.352,2,   0.190,2,   0.026,2,    -999,9,    -999,9,     -999,9,     -999,    -999,9,    -999,9,    -999,9,2.9544,2,-999,9,-999,9,-999,    -999,9,    -999,0.855,2,-999,9,-999,9,    -999,9,-999,9, 20080214,     1826, -41.9853,  30.0141,    -999,-999,9,     -999,9,     -999,9,     -999,9,     -999,9,     -999,9,     -999,9,-999,9,     -999,9,     -999,9,     -999,9,    -999,    -999
33RR20080204,       I06S,      30,          1,         15,         15,2,20080214,       1653,   -41.9933,    30.0043,       5245,  1662.1,   2.7989,  34.6247,2,  34.6248,2,    177.2,2,   175.6,2,   67.28,2,   32.66,2,    0.00,2,    2.26,2,   0.265,2,   0.148,2,   0.019,2,    -999,9,    -999,9,     -999,9,     -999,    -999,9,    -999,9,    -999,9,2.7992,2,-999,9,-999,9,-999,    -999,9,    -999,0.713,2,-999,9,-999,9,    -999,9,-999,9, 20080214,     1822, -41.9856,  30.0140,    -999,-999,9,     -999,9,     -999,9,     -999,9,     -999,9,     -999,9,     -999,9,-999,9,     -999,9,     -999,9,     -999,9,    -999,    -999
33RR20080204,       I06S,      30,          1,         14,         14,2,20080214,       1653,   -41.9933,    30.0043,       5245,  1866.1,   2.7203,  34.7061,2,  34.7059,2,    185.4,2,   184.5,2,   66.28,2,   30.81,2,    0.00,2,    2.13,2,   0.129,2,   0.072,2,   0.021,2,    -999,9,  2339.7,2,     -999,9,     -999,    -999,9,    -999,9,    -999,9,2.7197,2,-999,9,-999,9,-999,    -999,9,    -999,0.538,2,-999,9,-999,9,    -999,9,-999,9, 20080214,     1817, -41.9861,  30.0137,    -999,-999,9,     -999,9,     -999,9,     -999,9,     -999,9,     -999,9,     -999,9,-999,9,     -999,9,     -999,9,     -999,9,    -999,    -999
33RR20080204,       I06S,      30,          1,         13,         13,2,20080214,       1653,   -41.9933,    30.0043,       5245,  2067.8,   2.6546,  34.7616,2,  34.7639,2,    196.6,2,   197.2,2,   62.90,2,   28.81,2,    0.00,2,    1.98,2,   0.084,2,   0.051,2,   0.039,2,    -999,9,    -999,9,     -999,9,     -999,    -999,9,    -999,9,    -999,9,2.654,2,-999,9,-999,9,-999,    -999,9,    -999,0.617,2,-999,9,-999,9,    -999,9,-999,9, 20080214,     1812, -41.9866,  30.0131,    -999,-999,9,     -999,9,     -999,9,     -999,9,     -999,9,     -999,9,     -999,9,-999,9,     -999,9,     -999,9,     -999,9,    -999,    -999
33RR20080204,       I06S,      30,          1,         12,         12,2,20080214,       1653,   -41.9933,    30.0043,       5245,  2386.1,   2.4776,  34.7982,2,  34.7989,2,    207.1,2,   207.6,2,   63.49,2,   27.56,2,    0.00,2,    1.89,2,   0.057,2,   0.035,2,   0.000,2,    -999,9,    -999,9,     -999,9,     -999,    -999,9,    -999,9,    -999,9,2.4777,2,-999,9,-999,9,-999,    -999,9,    -999,0.245,2,-999,9,-999,9,    -999,9,-999,9, 20080214,     1805, -41.9871,  30.0122,    -999,-999,9,     -999,9,     -999,9,     -999,9,     -999,9,     -999,9,     -999,9,-999,9,     -999,9,     -999,9,     -999,9,    -999,    -999
33RR20080204,       I06S,      30,          1,         11,         11,2,20080214,       1653,   -41.9933,    30.0043,       5245,  2691.1,   2.3585,  34.8151,2,  34.8159,2,    214.9,2,   215.2,2,   63.49,2,   26.77,2,    0.00,2,    1.83,2,   0.040,2,   0.023,2,   0.000,2,    -999,9,    -999,9,     -999,9,     -999,    -999,9,    -999,9,    -999,9,2.3581,2,-999,9,-999,9,-999,    -999,9,    -999,0.258,2,-999,9,-999,9,    -999,9,-999,9, 20080214,     1758, -41.9877,  30.0114,    -999,-999,9,     -999,9,     -999,9,     -999,9,     -999,9,     -999,9,     -999,9,-999,9,     -999,9,     -999,9,     -999,9,    -999,    -999
33RR20080204,       I06S,      30,          1,         10,         10,2,20080214,       1653,   -41.9933,    30.0043,       5245,  2998.8,   2.1698,  34.8138,2,  34.8132,2,    217.0,2,   218.0,2,   68.28,2,   26.82,2,    0.00,2,    1.84,2,   0.040,2,   0.027,2,   0.000,2,    -999,9,  2348.9,2,     -999,9,     -999,    -999,9,    -999,9,    -999,9,2.1695,2,-999,9,-999,9,-999,    -999,9,    -999,0.262,2,-999,9,-999,9,    -999,9,-999,9, 20080214,     1751, -41.9882,  30.0107,    -999,-999,9,     -999,9,     -999,9,     -999,9,     -999,9,     -999,9,     -999,9,-999,9,     -999,9,     -999,9,     -999,9,    -999,    -999
33RR20080204,       I06S,      30,          1,          9,          9,2,20080214,       1653,   -41.9933,    30.0043,       5245,  3302.7,   1.9200,  34.7979,2,  34.7980,2,    216.7,2,   216.8,2,   76.85,2,   27.56,2,    0.00,2,    1.89,2,   0.041,2,   0.025,2,   0.000,2,    -999,9,    -999,9,     -999,9,     -999,    -999,9,    -999,9,    -999,9,1.9207,2,-999,9,-999,9,-999,    -999,9,    -999,0.353,2,-999,9,-999,9,    -999,9,-999,9, 20080214,     1744, -41.9888,  30.0099,    -999,-999,9,     -999,9,     -999,9,     -999,9,     -999,9,     -999,9,     -999,9,-999,9,     -999,9,     -999,9,     -999,9,    -999,    -999
33RR20080204,       I06S,      30,          1,          8,          8,2,20080214,       1653,   -41.9933,    30.0043,       5245,  3611.7,   1.5366,  34.7668,2,  34.7668,2,    215.2,2,   215.0,2,   90.87,2,   29.12,2,    0.00,2,    2.00,2,   0.062,2,   0.036,2,   0.006,2,    -999,9,    -999,9,     -999,9,     -999,    -999,9,    -999,9,    -999,9,1.5373,2,-999,9,-999,9,-999,    -999,9,    -999,0.451,2,-999,9,-999,9,    -999,9,-999,9, 20080214,     1736, -41.9894,  30.0089,    -999,-999,9,     -999,9,     -999,9,     -999,9,     -999,9,     -999,9,     -999,9,-999,9,     -999,9,     -999,9,     -999,9,    -999,    -999