BOTTLE,20220706CCHSIOAMB
EXPOCODE,SECT_ID,STNNBR,CASTNO,SAMPNO,BTLNBR,BTLNBR_FLAG_W,DATE,TIME,LATITUDE,LONGITUDE,DEPTH,CTDPRS,CTDTMP,CTDSAL,CTDSAL_FLAG_W,SALNTY,SALNTY_FLAG_W,CTDOXY,CTDOXY_FLAG_W,OXYGEN,OXYGEN_FLAG_W,SILCAT,SILCAT_FLAG_W,NITRAT,NITRAT_FLAG_W,NITRIT,NITRIT_FLAG_W,PHSPHT,PHSPHT_FLAG_W,CFC-11,CFC-11_FLAG_W,CFC-12,CFC-12_FLAG_W,CFC113,CFC113_FLAG_W,TCARBN,TCARBN_FLAG_W,ALKALI,ALKALI_FLAG_W,PH_SWS,PH_SWS_FLAG_W,PH_TMP,TRITUM,TRITUM_FLAG_W,HELIUM,HELIUM_FLAG_W,DELHE3,DELHE3_FLAG_W,REFTMP,REFTMP_FLAG_W,DELC13,DELC13_FLAG_W,DELC14,DELC14_FLAG_W,C14ERR,NEON,NEON_FLAG_W,NEONER,CCL4,CCL4_FLAG_W,ALUMIN,ALUMIN_FLAG_W,DELO18,DELO18_FLAG_W,DOC,DOC_FLAG_W,TDN,TDN_FLAG_W,BTL_DATE,BTL_TIME,BTL_LAT,BTL_LON,TRITER,DELSI30,DELSI30_FLAG_W,CDOM380,CDOM380_FLAG_W,CDOM325,CDOM325_FLAG_W,CDOMSL,CDOMSL_FLAG_W,CDOM340,CDOM340_FLAG_W,CDOM443,CDOM443_FLAG_W,CDOMSN,CDOMSN_FLAG_W,BLACKC,BLACKC_FLAG_W,CDOM490,CDOM490_FLAG_W,CDOM412,CDOM412_FLAG_W,CDOM555,CDOM555_FLAG_W,DELHER,HELIER
,,,,,,,,,,,METERS,DBAR,ITS-90,PSS-78,,PSS-78,,UMOL/KG,,UMOL/KG,,UMOL/KG,,UMOL/KG,,UMOL/KG,,UMOL/KG,,PMOL/KG,,PMOL/KG,,PMOL/KG,,UMOL/KG,,UMOL/KG,,,,DEG C,TU,,NMOL/KG,,PERCNT,,DEG C,,/MILLE,,/MILLE,,/MILLE,NMOL/KG,,NMOL/KG,PMOL/KG,,NMOL/L,,/MILLE,,UMOL/KG,,UMOL/KG,,,,,,TU,/MILLE,,1/M,,1/M,,1/NM,,1/M,,1/M,,1/NM,,,,1/M,,1/M,,1/M,,PERCNT,NMOL/KG
33RR20080204,       I06S,      66,          1,         36,         36,2,20080226,       0849,   -59.9988,    29.9983,       5206,     4.7,   1.1634,  33.7815,2,  33.7836,2,    337.2,2,   338.5,2,   47.58,2,   25.82,2,    0.33,2,    1.75,2,   6.464,2,   3.555,2,   0.441,2,  2160.4,6,  2290.6,2,   7.9031,2,    13.00,    -999,9,    -999,9,    -999,9,1.1641,2,-999,9,-999,9,-999,    -999,9,    -999,11.281,2,-999,9,-0.41,2,    -999,9,-999,9, 20080226,     1054, -59.9988,  29.9984,    -999,-999,9,     -999,9,     -999,9,     -999,9,     -999,9,     -999,9,     -999,9,-999,9,     -999,9,     -999,9,     -999,9,    -999,    -999
33RR20080204,       I06S,      66,          1,         35,         35,2,20080226,       0849,   -59.9988,    29.9983,       5206,    25.5,   1.1493,  33.7849,2,  33.7861,2,    338.6,2,   338.5,2,   47.39,2,   25.82,2,    0.33,2,    1.75,2,   6.418,2,   3.546,2,   0.449,2,    -999,9,  2290.1,2,   7.9016,2,    13.00,    -999,9,    -999,9,    -999,9,1.1491,2,-999,9,-999,9,-999,    -999,9,    -999,11.72,2,-999,9,-0.39,2,    -999,9,-999,9, 20080226,     1053, -59.9987,  29.9983,    -999,-999,9,     -999,9,     -999,9,     -999,9,     -999,9,     -999,9,     -999,9,-999,9,     -999,9,     -999,9,     -999,9,    -999,    -999
33RR20080204,       I06S,      66,          1,         34,         34,2,20080226,       0849,   -59.9988,    29.9983,       5206,    52.0,   1.0516,  33.8110,2,  33.8084,2,    338.5,2,   338.5,2,   48.11,2,   25.96,2,    0.32,2,    1.76,2,   6.380,2,   3.572,2,   0.445,2,    -999,9,  2292.7,2,   7.8997,2,    13.00,    -999,9,    -999,9,    -999,9,1.0665,2,-999,9,-999,9,-999,    -999,9,    -999,11.971,2,-999,9,-0.48,2,    -999,9,-999,9, 20080226,     1051, -59.9988,  29.9983,    -999,-999,9,     -999,9,     -999,9,     -999,9,     -999,9,     -999,9,     -999,9,-999,9,     -999,9,     -999,9,     -999,9,    -999,    -999
33RR20080204,       I06S,      66,          1,         33,         33,2,20080226,       0849,   -59.9988,    29.9983,       5206,    88.0,  -0.5995,  34.1053,2,  34.1059,2,    340.5,2,   338.5,2,   55.55,2,   28.66,2,    0.29,2,    2.01,2,   6.445,2,   3.590,2,   0.457,2,    -999,9,  2309.0,2,   7.8514,4,    13.00,    -999,9,    -999,9,    -999,9,-0.6046,2,-999,9,-999,9,-999,    -999,9,    -999,11.329,2,-999,9,-0.34,2,    -999,9,-999,9, 20080226,     1050, -59.9988,  29.9984,    -999,-999,9,     -999,9,     -999,9,     -999,9,     -999,9,     -999,9,     -999,9,-999,9,     -999,9,     -999,9,     -999,9,    -999,    -999
33RR20080204,       I06S,      66,          1,         32,         32,2,20080226,       0849,   -59.9988,    29.9983,       5206,   111.8,  -0.4775,  34.1616,2,  34.1661,2,    326.1,2,   323.2,2,   61.70,2,   29.79,2,    0.25,2,    2.06,2,   5.925,2,   3.209,2,   0.435,2,    -999,9,  2312.2,2,   7.8343,2,    13.00,    -999,9,    -999,9,    -999,9,-0.4799,2,-999,9,-999,9,-999,    -999,9,    -999,8.649,2,-999,9,-0.16,2,    -999,9,-999,9, 20080226,     1049, -59.9988,  29.9984,    -999,-999,9,     -999,9,     -999,9,     -999,9,     -999,9,     -999,9,     -999,9,-999,9,     -999,9,     -999,9,     -999,9,    -999,    -999
33RR20080204,       I06S,      66,          1,         31,         31,2,20080226,       0849,   -59.9988,    29.9983,       5206,   162.1,   0.5553,  34.3685,2,  34.3579,2,    267.2,2,   258.6,2,   72.92,2,   32.49,2,    0.01,2,    2.22,2,   3.724,2,   2.084,2,   0.302,2,    -999,9,  2323.5,2,   7.7787,2,    13.00,    -999,9,    -999,9,    -999,9,0.5466,2,-999,9,-999,9,-999,    -999,9,    -999,4.441,2,-999,9,-0.15,2,    -999,9,-999,9, 20080226,     1047, -59.9988,  29.9984,    -999,-999,9,     -999,9,     -999,9,     -999,9,     -999,9,     -999,9,     -999,9,-999,9,     -999,9,     -999,9,     -999,9,    -999,    -999
33RR20080204,       I06S,      66,          1,         30,         30,2,20080226,       0849,   -59.9988,    29.9983,       5206,   213.1,   1.3196,  34.5093,2,  34.5108,2,    205.8,2,   203.3,2,   80.62,2,   34.10,2,    0.00,2,    2.36,2,   1.884,2,   1.042,2,   0.160,2,    -999,9,  2332.1,2,   7.7424,2,    13.00,    -999,9,    -999,9,    -999,9,1.3242,2,-999,9,-999,9,-999,    -999,9,    -999,2.533,2,-999,9,-0.17,2,    -999,9,-999,9, 20080226,     1045, -59.9988,  29.9983,    -999,-999,9,     -999,9,     -999,9,     -999,9,     -999,9,     -999,9,     -999,9,-999,9,     -999,9,     -999,9,     -999,9,    -999,    -999
33RR20080204,       I06S,      66,          1,         29,         29,2,20080226,       0849,   -59.9988,    29.9983,       5206,   272.8,   1.7095,  34.6110,2,  34.6082,2,    192.5,2,   184.0,2,   84.18,2,   33.91,2,    0.00,2,    2.34,2,   0.725,2,   0.421,2,   0.058,2,    -999,9,  2339.4,2,   7.7429,2,    13.00,    -999,9,    -999,9,    -999,9,1.7039,2,-999,9,-999,9,-999,    -999,9,    -999,1.258,2,-999,9,-999,9,    -999,9,-999,9, 20080226,     1043, -59.9988,  29.9984,    -999,-999,9,     -999,9,     -999,9,     -999,9,     -999,9,     -999,9,     -999,9,-999,9,     -999,9,     -999,9,     -999,9,    -999,    -999
33RR20080204,       I06S,      66,          1,         28,         28,2,20080226,       0849,   -59.9988,    29.9983,       5206,   323.2,   1.5698,  34.6261,2,  34.6282,2,    185.2,2,   187.5,2,   87.00,2,   33.53,2,    0.00,2,    2.31,2,   0.994,2,   0.561,2,   0.068,2,    -999,9,  2341.7,2,   7.7498,2,    13.00,    -999,9,    -999,9,    -999,9,1.5707,2,-999,9,-999,9,-999,    -999,9,    -999,1.649,2,-999,9,0.0,2,    -999,9,-999,9, 20080226,     1041, -59.9987,  29.9983,    -999,-999,9,     -999,9,     -999,9,     -999,9,     -999,9,     -999,9,     -999,9,-999,9,     -999,9,     -999,9,     -999,9,    -999,    -999
33RR20080204,       I06S,      66,          1,         27,         27,2,20080226,       0849,   -59.9988,    29.9983,       5206,   372.9,   1.6419,  34.6630,2,  34.6634,2,    187.9,2,   186.2,2,   88.11,2,   33.05,2,    0.00,2,    2.28,2,   0.967,2,   0.553,2,   0.065,2,    -999,9,  2344.8,2,   7.7582,2,    13.00,    -999,9,    -999,9,    -999,9,1.642,2,-999,9,-999,9,-999,    -999,9,    -999,1.567,2,-999,9,-999,9,    -999,9,-999,9, 20080226,     1040, -59.9988,  29.9984,    -999,-999,9,     -999,9,     -999,9,     -999,9,     -999,9,     -999,9,     -999,9,-999,9,     -999,9,     -999,9,     -999,9,    -999,    -999
33RR20080204,       I06S,      66,          1,         26,         26,2,20080226,       0849,   -59.9988,    29.9983,       5206,   423.7,   1.6288,  34.6806,2,  34.6803,2,    190.1,2,   187.9,2,   89.23,2,   32.57,2,    0.00,2,    2.26,2,   0.620,2,   0.363,2,   0.047,2,    -999,9,  2346.5,2,   7.7657,2,    13.00,    -999,9,    -999,9,    -999,9,1.6289,2,-999,9,-999,9,-999,    -999,9,    -999,1.068,2,-999,9,0.02,2,    -999,9,-999,9, 20080226,     1038, -59.9988,  29.9984,    -999,-999,9,     -999,9,     -999,9,     -999,9,     -999,9,     -999,9,     -999,9,-999,9,     -999,9,     -999,9,     -999,9,    -999,    -999
33RR20080204,       I06S,      66,          1,         25,         25,2,20080226,       0849,   -59.9988,    29.9983,       5206,   474.0,   1.5485,  34.6861,2,  34.6858,2,    191.9,2,   190.4,2,   90.73,2,   32.38,2,    0.00,2,    2.24,2,   0.615,6,   0.368,6,   0.040,6,    -999,9,  2346.1,2,   7.7710,2,    13.00,    -999,9,    -999,9,    -999,9,1.5471,2,-999,9,-999,9,-999,    -999,9,    -999,1.067,6,-999,9,-999,9,    -999,9,-999,9, 20080226,     1036, -59.9988,  29.9983,    -999,-999,9,     -999,9,     -999,9,     -999,9,     -999,9,     -999,9,     -999,9,-999,9,     -999,9,     -999,9,     -999,9,    -999,    -999
33RR20080204,       I06S,      66,          1,         24,         24,2,20080226,       0849,   -59.9988,    29.9983,       5206,   527.7,   1.5085,  34.6951,2,  34.6954,2,    194.0,2,   192.3,2,   91.66,2,   32.14,2,    0.00,2,    2.22,2,   0.563,2,   0.324,2,   0.037,2,    -999,9,  2348.5,2,   7.7755,2,    13.00,    -999,9,    -999,9,    -999,9,1.5082,2,-999,9,-999,9,-999,    -999,9,    -999,0.999,2,-999,9,-999,9,    -999,9,-999,9, 20080226,     1034, -59.9988,  29.9984,    -999,-999,9,     -999,9,     -999,9,     -999,9,     -999,9,     -999,9,     -999,9,-999,9,     -999,9,     -999,9,     -999,9,    -999,    -999
33RR20080204,       I06S,      66,          1,         23,         23,2,20080226,       0849,   -59.9988,    29.9983,       5206,   650.4,   1.4098,  34.7094,2,  34.7097,2,    197.0,2,   195.6,2,   94.29,2,   31.76,2,    0.00,2,    2.19,2,   0.466,2,   0.275,2,   0.022,2,    -999,9,  2349.4,2,   7.7844,2,    13.00,    -999,9,    -999,9,    -999,9,1.4108,2,-999,9,-999,9,-999,    -999,9,    -999,0.806,2,-999,9,-999,9,    -999,9,-999,9, 20080226,     1031, -59.9988,  29.9983,    -999,-999,9,     -999,9,     -999,9,     -999,9,     -999,9,     -999,9,     -999,9,-999,9,     -999,9,     -999,9,     -999,9,    -999,    -999
33RR20080204,       I06S,      66,          1,         22,         22,2,20080226,       0849,   -59.9988,    29.9983,       5206,   750.5,   1.3196,  34.7144,2,  34.7152,2,    198.9,2,   198.2,2,   96.74,2,   31.62,2,    0.00,2,    2.18,2,   0.411,2,   0.230,2,   0.024,2,    -999,9,  2352.7,2,   7.7813,4,    13.00,    -999,9,    -999,9,    -999,9,1.3189,2,-999,9,-999,9,-999,    -999,9,    -999,0.784,2,-999,9,0.01,2,    -999,9,-999,9, 20080226,     1028, -59.9988,  29.9984,    -999,-999,9,     -999,9,     -999,9,     -999,9,     -999,9,     -999,9,     -999,9,-999,9,     -999,9,     -999,9,     -999,9,    -999,    -999
33RR20080204,       I06S,      66,          1,         21,         21,2,20080226,       0849,   -59.9988,    29.9983,       5206,   849.4,   1.2052,  34.7156,2,  34.7154,2,    200.6,2,   200.1,2,   99.94,2,   31.62,2,    0.00,2,    2.19,2,   0.381,2,   0.218,2,   0.023,2,    -999,9,  2354.2,2,   7.7907,2,    13.00,    -999,9,    -999,9,    -999,9,1.2062,2,-999,9,-999,9,-999,    -999,9,    -999,0.758,2,-999,9,-999,9,    -999,9,-999,9, 20080226,     1026, -59.9988,  29.9983,    -999,-999,9,     -999,9,     -999,9,     -999,9,     -999,9,     -999,9,     -999,9,-999,9,     -999,9,     -999,9,     -999,9,    -999,    -999
33RR20080204,       I06S,      66,          1,         20,         20,2,20080226,       0849,   -59.9988,    29.9983,       5206,   952.3,   1.0963,  34.7127,2,  34.7126,2,    202.1,2,   201.5,2,  102.97,2,   31.76,2,    0.00,2,    2.19,2,   0.373,2,   0.218,2,   0.023,2,    -999,9,  2353.5,2,   7.7914,2,    13.00,    -999,9,    -999,9,    -999,9,1.0966,2,-999,9,-999,9,-999,    -999,9,    -999,0.779,2,-999,9,-999,9,    -999,9,-999,9, 20080226,     1023, -59.9988,  29.9984,    -999,-999,9,     -999,9,     -999,9,     -999,9,     -999,9,     -999,9,     -999,9,-999,9,     -999,9,     -999,9,     -999,9,    -999,    -999
33RR20080204,       I06S,      66,          1,         19,         19,2,20080226,       0849,   -59.9988,    29.9983,       5206,  1053.2,   0.9914,  34.7102,2,  34.7103,2,    202.9,2,   202.8,2,  106.00,2,   31.85,2,    0.00,2,    2.20,2,   0.368,2,   0.206,2,   0.032,2,    -999,9,  2356.2,2,   7.7907,2,    13.00,    -999,9,    -999,9,    -999,9,0.9911,2,-999,9,-999,9,-999,    -999,9,    -999,0.849,2,-999,9,-999,9,    -999,9,-999,9, 20080226,     1020, -59.9987,  29.9984,    -999,-999,9,     -999,9,     -999,9,     -999,9,     -999,9,     -999,9,     -999,9,-999,9,     -999,9,     -999,9,     -999,9,    -999,    -999
33RR20080204,       I06S,      66,          1,         18,         18,2,20080226,       0849,   -59.9988,    29.9983,       5206,  1158.9,   0.9145,  34.7093,2,  34.7105,2,    203.6,2,   204.1,2,  108.08,2,   31.94,2,    0.00,2,    2.21,2,   0.314,2,   0.167,2,   0.017,2,    -999,9,  2356.0,2,     -999,9,     -999,    -999,9,    -999,9,    -999,9,0.9155,2,-999,9,-999,9,-999,    -999,9,    -999,0.639,2,-999,9,-999,9,    -999,9,-999,9, 20080226,     1017, -59.9988,  29.9983,    -999,-999,9,     -999,9,     -999,9,     -999,9,     -999,9,     -999,9,     -999,9,-999,9,     -999,9,     -999,9,     -999,9,    -999,    -999
33RR20080204,       I06S,      66,          1,         17,         17,2,20080226,       0849,   -59.9988,    29.9983,       5206,  1256.2,   0.8272,  34.7063,2,  34.7061,2,    204.1,2,   204.6,2,  110.72,2,   32.13,2,    0.00,2,    2.22,2,   0.321,2,   0.180,2,   0.013,2,    -999,9,    -999,9,     -999,9,     -999,    -999,9,    -999,9,    -999,9,0.8285,2,-999,9,-999,9,-999,    -999,9,    -999,0.678,2,-999,9,-0.04,2,    -999,9,-999,9, 20080226,     1015, -59.9988,  29.9984,    -999,-999,9,     -999,9,     -999,9,     -999,9,     -999,9,     -999,9,     -999,9,-999,9,     -999,9,     -999,9,     -999,9,    -999,    -999
33RR20080204,       I06S,      66,          1,         16,         16,2,20080226,       0849,   -59.9988,    29.9983,       5206,  1458.7,   0.6757,  34.6999,2,  34.6998,2,    204.7,2,   206.1,2,  115.86,2,   32.46,2,    0.00,2,    2.24,2,   0.301,2,   0.000,4,   0.013,2,    -999,9,  2358.5,2,     -999,9,     -999,    -999,9,    -999,9,    -999,9,0.6763,2,-999,9,-999,9,-999,    -999,9,    -999,0.648,2,-999,9,-999,9,    -999,9,-999,9, 20080226,     1010, -59.9988,  29.9984,    -999,-999,9,     -999,9,     -999,9,     -999,9,     -999,9,     -999,9,     -999,9,-999,9,     -999,9,     -999,9,     -999,9,    -999,    -999
33RR20080204,       I06S,      66,          1,         15,         15,2,20080226,       0849,   -59.9988,    29.9983,       5206,  1665.0,   0.5416,  34.6924,2,  34.6926,2,    205.2,2,   206.7,2,  119.85,2,   32.79,2,    0.00,2,    2.26,2,   0.298,2,   0.158,2,   0.020,2,    -999,9,    -999,9,     -999,9,     -999,    -999,9,    -999,9,    -999,9,0.5422,2,-999,9,-999,9,-999,    -999,9,    -999,0.661,2,-999,9,-999,9,    -999,9,-999,9, 20080226,     1005, -59.9988,  29.9984,    -999,-999,9,     -999,9,     -999,9,     -999,9,     -999,9,     -999,9,     -999,9,-999,9,     -999,9,     -999,9,     -999,9,    -999,    -999
33RR20080204,       I06S,      66,          1,         14,         14,2,20080226,       0849,   -59.9988,    29.9983,       5206,  1868.4,   0.4549,  34.6887,2,  34.6890,2,    207.2,2,   208.6,2,  122.70,2,   32.84,2,    0.00,2,    2.27,2,   0.274,2,   0.147,2,   0.006,2,    -999,9,    -999,9,     -999,9,     -999,    -999,9,    -999,9,    -999,9,0.4542,2,-999,9,-999,9,-999,    -999,9,    -999,0.625,2,-999,9,-0.07,2,    -999,9,-999,9, 20080226,     1001, -59.9988,  29.9984,    -999,-999,9,     -999,9,     -999,9,     -999,9,     -999,9,     -999,9,     -999,9,-999,9,     -999,9,     -999,9,     -999,9,    -999,    -999
33RR20080204,       I06S,      66,          1,         13,         13,2,20080226,       0849,   -59.9988,    29.9983,       5206,  2070.9,   0.3734,  34.6852,2,  34.6853,2,    209.5,2,   211.9,2,  125.21,2,   32.92,2,    0.00,2,    2.27,2,   0.257,2,   0.141,2,   0.010,2,    -999,9,    -999,9,     -999,9,     -999,    -999,9,    -999,9,    -999,9,0.3734,2,-999,9,-999,9,-999,    -999,9,    -999,0.714,2,-999,9,-999,9,    -999,9,-999,9, 20080226,     0956, -59.9988,  29.9984,    -999,-999,9,     -999,9,     -999,9,     -999,9,     -999,9,     -999,9,     -999,9,-999,9,     -999,9,     -999,9,     -999,9,    -999,    -999
33RR20080204,       I06S,      66,          1,         12,         12,2,20080226,       0849,   -59.9988,    29.9983,       5206,  2386.1,   0.2370,  34.6777,2,  34.6780,2,    212.8,2,   214.8,2,  126.34,2,   33.01,2,    0.00,2,    2.29,2,   0.289,2,   0.159,2,   0.010,2,    -999,9,  2358.0,2,   7.7813,2,    13.00,    -999,9,    -999,9,    -999,9,0.2369,2,-999,9,-999,9,-999,    -999,9,    -999,0.7,2,-999,9,-999,9,    -999,9,-999,9, 20080226,     0950, -59.9988,  29.9984,    -999,-999,9,     -999,9,     -999,9,     -999,9,     -999,9,     -999,9,     -999,9,-999,9,     -999,9,     -999,9,     -999,9,    -999,    -999
33RR20080204,       I06S,      66,          1,         11,         11,2,20080226,       0849,   -59.9988,    29.9983,       5206,  2700.1,   0.1194,  34.6723,2,  34.6746,2,    217.5,2,   219.7,2,  128.05,2,   33.03,2,    0.00,2,    2.28,2,   0.317,2,   0.186,2,   0.007,2,    -999,9,    -999,9,     -999,9,     -999,    -999,9,    -999,9,    -999,9,0.1194,2,-999,9,-999,9,-999,    -999,9,    -999,0.73,2,-999,9,-999,9,    -999,9,-999,9, 20080226,     0943, -59.9987,  29.9984,    -999,-999,9,     -999,9,     -999,9,     -999,9,     -999,9,     -999,9,     -999,9,-999,9,     -999,9,     -999,9,     -999,9,    -999,    -999
33RR20080204,       I06S,      66,          1,         10,         10,2,20080226,       0849,   -59.9988,    29.9983,       5206,  3004.7,   0.0225,  34.6682,2,  34.6683,2,    222.3,2,   224.2,2,  128.04,2,   32.93,2,    0.00,2,    2.28,2,   0.327,2,   0.180,2,   0.011,2,    -999,9,    -999,9,     -999,9,     -999,    -999,9,    -999,9,    -999,9,0.0228,2,-999,9,-999,9,-999,    -999,9,    -999,0.774,2,-999,9,-0.21,2,    -999,9,-999,9, 20080226,     0937, -59.9988,  29.9984,    -999,-999,9,     -999,9,     -999,9,     -999,9,     -999,9,     -999,9,     -999,9,-999,9,     -999,9,     -999,9,     -999,9,    -999,    -999
33RR20080204,       I06S,      66,          1,          9,          9,2,20080226,       0849,   -59.9988,    29.9983,       5206,  3308.0,  -0.0607,  34.6650,2,  34.6642,2,    227.3,2,   228.4,2,  128.79,2,   32.88,2,    0.00,2,    2.27,2,   0.321,2,   0.177,2,   0.019,2,    -999,9,    -999,9,     -999,9,     -999,    -999,9,    -999,9,    -999,9,-0.0604,2,-999,9,-999,9,-999,    -999,9,    -999,0.755,2,-999,9,-999,9,    -999,9,-999,9, 20080226,     0931, -59.9987,  29.9984,    -999,-999,9,     -999,9,     -999,9,     -999,9,     -999,9,     -999,9,     -999,9,-999,9,     -999,9,     -999,9,     -999,9,    -999,    -999
33RR20080204,       I06S,      66,          1,          8,          8,2,20080226,       0849,   -59.9988,    29.9983,       5206,  3613.8,  -0.1206,  34.6619,2,  34.6611,2,    231.3,2,   232.7,2,  128.77,2,   32.78,2,    0.00,2,    2.27,2,   0.352,2,   0.184,2,   0.011,2,    -999,9,  2353.5,2,     -999,9,     -999,    -999,9,    -999,9,    -999,9,-0.1203,2,-999,9,-999,9,-999,    -999,9,    -999,0.843,2,-999,9,-999,9,    -999,9,-999,9, 20080226,     0925, -59.9988,  29.9984,    -999,-999,9,     -999,9,     -999,9,     -999,9,     -999,9,     -999,9,     -999,9,-999,9,     -999,9,     -999,9,     -999,9,    -999,    -999