BOTTLE,20220706CCHSIOAMB
EXPOCODE,SECT_ID,STNNBR,CASTNO,SAMPNO,BTLNBR,BTLNBR_FLAG_W,DATE,TIME,LATITUDE,LONGITUDE,DEPTH,CTDPRS,CTDTMP,CTDSAL,CTDSAL_FLAG_W,SALNTY,SALNTY_FLAG_W,CTDOXY,CTDOXY_FLAG_W,OXYGEN,OXYGEN_FLAG_W,SILCAT,SILCAT_FLAG_W,NITRAT,NITRAT_FLAG_W,NITRIT,NITRIT_FLAG_W,PHSPHT,PHSPHT_FLAG_W,CFC-11,CFC-11_FLAG_W,CFC-12,CFC-12_FLAG_W,CFC113,CFC113_FLAG_W,TCARBN,TCARBN_FLAG_W,ALKALI,ALKALI_FLAG_W,PH_SWS,PH_SWS_FLAG_W,PH_TMP,TRITUM,TRITUM_FLAG_W,HELIUM,HELIUM_FLAG_W,DELHE3,DELHE3_FLAG_W,REFTMP,REFTMP_FLAG_W,DELC13,DELC13_FLAG_W,DELC14,DELC14_FLAG_W,C14ERR,NEON,NEON_FLAG_W,NEONER,CCL4,CCL4_FLAG_W,ALUMIN,ALUMIN_FLAG_W,DELO18,DELO18_FLAG_W,DOC,DOC_FLAG_W,TDN,TDN_FLAG_W,BTL_DATE,BTL_TIME,BTL_LAT,BTL_LON,TRITER,DELSI30,DELSI30_FLAG_W,CDOM380,CDOM380_FLAG_W,CDOM325,CDOM325_FLAG_W,CDOMSL,CDOMSL_FLAG_W,CDOM340,CDOM340_FLAG_W,CDOM443,CDOM443_FLAG_W,CDOMSN,CDOMSN_FLAG_W,BLACKC,BLACKC_FLAG_W,CDOM490,CDOM490_FLAG_W,CDOM412,CDOM412_FLAG_W,CDOM555,CDOM555_FLAG_W,DELHER,HELIER
,,,,,,,,,,,METERS,DBAR,ITS-90,PSS-78,,PSS-78,,UMOL/KG,,UMOL/KG,,UMOL/KG,,UMOL/KG,,UMOL/KG,,UMOL/KG,,PMOL/KG,,PMOL/KG,,PMOL/KG,,UMOL/KG,,UMOL/KG,,,,DEG C,TU,,NMOL/KG,,PERCNT,,DEG C,,/MILLE,,/MILLE,,/MILLE,NMOL/KG,,NMOL/KG,PMOL/KG,,NMOL/L,,/MILLE,,UMOL/KG,,UMOL/KG,,,,,,TU,/MILLE,,1/M,,1/M,,1/NM,,1/M,,1/M,,1/NM,,,,1/M,,1/M,,1/M,,PERCNT,NMOL/KG
33RR20080204,       I06S,     103,          2,          5,          5,2,20080307,       0835,   -67.0000,    30.0000,       4089,  3003.4,  -0.1100,  34.6603,2,  34.6604,2,    233.9,2,   234.6,2,  121.36,2,   32.38,2,    0.00,2,    2.23,2,   0.984,2,   0.525,2,   0.081,2,    -999,9,  2355.2,2,     -999,9,     -999,    -999,9,    -999,9,    -999,9,-0.1099,2,-999,9,-999,9,-999,    -999,9,    -999,1.717,2,-999,9,-999,9,    -999,9,-999,9, 20080307,     0900, -67.0000,  29.9999,    -999,-999,9,     -999,9,     -999,9,     -999,9,     -999,9,     -999,9,     -999,9,-999,9,     -999,9,     -999,9,     -999,9,    -999,    -999
33RR20080204,       I06S,     103,          2,          4,          4,2,20080307,       0835,   -67.0000,    30.0000,       4089,  3312.4,  -0.1501,  34.6582,2,  34.6584,2,    237.0,2,   236.4,2,  121.35,2,   32.33,2,    0.00,2,    2.23,2,   1.086,2,   0.588,2,   0.085,2,    -999,9,    -999,9,     -999,9,     -999,    -999,9,    -999,9,    -999,9,-0.1497,2,-999,9,-999,9,-999,    -999,9,    -999,1.811,2,-999,9,-999,9,    -999,9,-999,9, 20080307,     0854, -66.9999,  30.0000,    -999,-999,9,     -999,9,     -999,9,     -999,9,     -999,9,     -999,9,     -999,9,-999,9,     -999,9,     -999,9,     -999,9,    -999,    -999
33RR20080204,       I06S,     103,          2,          3,          3,2,20080307,       0835,   -67.0000,    30.0000,       4089,  3617.6,  -0.1754,  34.6564,2,  34.6561,2,    239.5,2,   238.7,2,  121.76,2,   32.23,2,    0.00,2,    2.23,2,   1.149,2,   0.610,2,   0.088,2,    -999,9,  2353.7,2,     -999,9,     -999,    -999,9,    -999,9,    -999,9,-0.1751,2,-999,9,-999,9,-999,    -999,9,    -999,1.821,2,-999,9,-999,9,    -999,9,-999,9, 20080307,     0847, -67.0000,  29.9999,    -999,-999,9,     -999,9,     -999,9,     -999,9,     -999,9,     -999,9,     -999,9,-999,9,     -999,9,     -999,9,     -999,9,    -999,    -999
33RR20080204,       I06S,     103,          2,          2,          2,2,20080307,       0835,   -67.0000,    30.0000,       4089,  3928.1,  -0.2021,  34.6540,2,  34.6547,2,    241.5,2,   241.0,2,  123.39,2,   32.27,2,    0.00,2,    2.23,2,   1.093,2,   0.588,2,   0.090,2,    -999,9,  2352.8,2,     -999,9,     -999,    -999,9,    -999,9,    -999,9,-0.2019,2,-999,9,-999,9,-999,    -999,9,    -999,1.761,2,-999,9,-999,9,    -999,9,-999,9, 20080307,     0841, -67.0000,  30.0000,    -999,-999,9,     -999,9,     -999,9,     -999,9,     -999,9,     -999,9,     -999,9,-999,9,     -999,9,     -999,9,     -999,9,    -999,    -999
33RR20080204,       I06S,     103,          2,          1,          1,2,20080307,       0835,   -67.0000,    30.0000,       4089,  4153.3,  -0.2976,  34.6526,2,  34.6527,2,    241.1,2,   241.7,2,  134.49,2,   32.47,2,    0.01,2,    2.23,2,   0.690,2,   0.379,2,   0.054,2,    -999,9,  2355.5,2,     -999,9,     -999,    -999,9,    -999,9,    -999,9,-0.2973,2,-999,9,-999,9,-999,    -999,9,    -999,1.563,2,-999,9,-0.29,2,    -999,9,-999,9, 20080307,     0836, -67.0000,  30.0000,    -999,-999,9,     -999,9,     -999,9,     -999,9,     -999,9,     -999,9,     -999,9,-999,9,     -999,9,     -999,9,     -999,9,    -999,    -999