BOTTLE,20220706CCHSIOAMB
EXPOCODE,SECT_ID,STNNBR,CASTNO,SAMPNO,BTLNBR,BTLNBR_FLAG_W,DATE,TIME,LATITUDE,LONGITUDE,DEPTH,CTDPRS,CTDTMP,CTDSAL,CTDSAL_FLAG_W,SALNTY,SALNTY_FLAG_W,CTDOXY,CTDOXY_FLAG_W,OXYGEN,OXYGEN_FLAG_W,SILCAT,SILCAT_FLAG_W,NITRAT,NITRAT_FLAG_W,NITRIT,NITRIT_FLAG_W,PHSPHT,PHSPHT_FLAG_W,CFC-11,CFC-11_FLAG_W,CFC-12,CFC-12_FLAG_W,CFC113,CFC113_FLAG_W,TCARBN,TCARBN_FLAG_W,ALKALI,ALKALI_FLAG_W,PH_SWS,PH_SWS_FLAG_W,PH_TMP,TRITUM,TRITUM_FLAG_W,HELIUM,HELIUM_FLAG_W,DELHE3,DELHE3_FLAG_W,REFTMP,REFTMP_FLAG_W,DELC13,DELC13_FLAG_W,DELC14,DELC14_FLAG_W,C14ERR,NEON,NEON_FLAG_W,NEONER,CCL4,CCL4_FLAG_W,ALUMIN,ALUMIN_FLAG_W,DELO18,DELO18_FLAG_W,DOC,DOC_FLAG_W,TDN,TDN_FLAG_W,BTL_DATE,BTL_TIME,BTL_LAT,BTL_LON,TRITER,DELSI30,DELSI30_FLAG_W,CDOM380,CDOM380_FLAG_W,CDOM325,CDOM325_FLAG_W,CDOMSL,CDOMSL_FLAG_W,CDOM340,CDOM340_FLAG_W,CDOM443,CDOM443_FLAG_W,CDOMSN,CDOMSN_FLAG_W,BLACKC,BLACKC_FLAG_W,CDOM490,CDOM490_FLAG_W,CDOM412,CDOM412_FLAG_W,CDOM555,CDOM555_FLAG_W,DELHER,HELIER
,,,,,,,,,,,METERS,DBAR,ITS-90,PSS-78,,PSS-78,,UMOL/KG,,UMOL/KG,,UMOL/KG,,UMOL/KG,,UMOL/KG,,UMOL/KG,,PMOL/KG,,PMOL/KG,,PMOL/KG,,UMOL/KG,,UMOL/KG,,,,DEG C,TU,,NMOL/KG,,PERCNT,,DEG C,,/MILLE,,/MILLE,,/MILLE,NMOL/KG,,NMOL/KG,PMOL/KG,,NMOL/L,,/MILLE,,UMOL/KG,,UMOL/KG,,,,,,TU,/MILLE,,1/M,,1/M,,1/NM,,1/M,,1/M,,1/NM,,,,1/M,,1/M,,1/M,,PERCNT,NMOL/KG
33RR20080204,       I06S,      16,          1,         36,         36,2,20080210,       0154,   -35.0015,    29.9819,       4462,     5.4,  22.8496,  35.6874,2,  35.6877,2,    220.1,2,   220.0,2,    2.01,2,    0.06,2,    0.00,2,    0.04,2,   2.016,2,   1.222,2,   0.166,2,  2025.3,6,  2336.6,2,     -999,9,     -999,   0.612,2,   1.720,2,   -1.24,2,-999,9,-999,9,-999,9,-999,   6.872,2,   0.026,3.39,2,-999,9,-999,9,    -999,9,-999,9, 20080210,     0350, -34.9986,  29.9624,   0.009,-999,9,     -999,9,     -999,9,     -999,9,     -999,9,     -999,9,     -999,9,-999,9,     -999,9,     -999,9,     -999,9,    0.15,   0.007
33RR20080204,       I06S,      16,          1,         35,         35,2,20080210,       0154,   -35.0015,    29.9819,       4462,    32.3,  22.8504,  35.6858,2,  35.6846,2,    220.1,2,   219.5,2,    1.80,2,    0.06,2,    0.00,2,    0.04,2,   2.010,2,   1.237,2,   0.160,2,    -999,9,  2338.1,2,     -999,9,     -999,    -999,9,    -999,9,    -999,9,-999,9,-999,9,-999,9,-999,    -999,9,    -999,3.266,2,-999,9,-999,9,    -999,9,-999,9, 20080210,     0348, -34.9986,  29.9631,    -999,-999,9,     -999,9,     -999,9,     -999,9,     -999,9,     -999,9,     -999,9,-999,9,     -999,9,     -999,9,     -999,9,    -999,    -999
33RR20080204,       I06S,      16,          1,         34,         34,2,20080210,       0154,   -35.0015,    29.9819,       4462,    51.5,  22.7826,  35.6778,2,  35.6785,2,    220.7,2,   219.9,2,    1.80,2,    0.01,2,    0.00,2,    0.04,2,   2.022,2,   1.237,2,   0.163,2,    -999,9,  2337.8,2,     -999,9,     -999,    -999,9,    -999,9,    -999,9,-999,9,-999,9,-999,9,-999,    -999,9,    -999,3.154,2,-999,9,-999,9,    -999,9,-999,9, 20080210,     0346, -34.9986,  29.9635,    -999,-999,9,     -999,9,     -999,9,     -999,9,     -999,9,     -999,9,     -999,9,-999,9,     -999,9,     -999,9,     -999,9,    -999,    -999
33RR20080204,       I06S,      16,          1,         33,         33,2,20080210,       0154,   -35.0015,    29.9819,       4462,    81.2,  21.3136,  35.5778,2,  35.5767,2,    228.8,2,   228.5,2,    2.00,2,    0.01,2,    0.00,2,    0.09,2,   2.164,2,   1.326,2,   0.162,2,    -999,9,  2331.1,2,     -999,9,     -999,    -999,9,    -999,9,    -999,9,-999,9,-999,9,-999,9,-999,    -999,9,    -999,2.87,2,-999,9,-999,9,    -999,9,-999,9, 20080210,     0345, -34.9985,  29.9639,    -999,-999,9,     -999,9,     -999,9,     -999,9,     -999,9,     -999,9,     -999,9,-999,9,     -999,9,     -999,9,     -999,9,    -999,    -999
33RR20080204,       I06S,      16,          1,         32,         32,2,20080210,       0154,   -35.0015,    29.9819,       4462,   106.8,  20.3986,  35.5463,2,  35.5447,2,    230.1,2,   230.6,2,    1.99,2,    0.01,2,    0.00,2,    0.09,2,   2.257,2,   1.369,2,   0.169,2,    -999,9,    -999,9,     -999,9,     -999,   0.569,2,   1.755,2,   -1.33,2,-999,9,-999,9,-999,9,-999,   7.133,2,   0.027,2.477,2,-999,9,-999,9,    -999,9,-999,9, 20080210,     0344, -34.9984,  29.9643,   0.009,-999,9,     -999,9,     -999,9,     -999,9,     -999,9,     -999,9,     -999,9,-999,9,     -999,9,     -999,9,     -999,9,    0.15,   0.007
33RR20080204,       I06S,      16,          1,         31,         31,2,20080210,       0154,   -35.0015,    29.9819,       4462,   155.4,  18.4205,  35.5330,2,  35.5323,2,    195.8,2,   198.0,2,    3.78,2,    3.67,2,    0.02,2,    0.36,2,   2.373,2,   1.422,2,   0.105,2,    -999,9,  2327.1,2,     -999,9,     -999,    -999,9,    -999,9,    -999,9,-999,9,-999,9,-999,9,-999,    -999,9,    -999,1.539,2,-999,9,-999,9,    -999,9,-999,9, 20080210,     0342, -34.9984,  29.9648,    -999,-999,9,     -999,9,     -999,9,     -999,9,     -999,9,     -999,9,     -999,9,-999,9,     -999,9,     -999,9,     -999,9,    -999,    -999
33RR20080204,       I06S,      16,          1,         30,         30,2,20080210,       0154,   -35.0015,    29.9819,       4462,   205.0,  17.2041,  35.5037,2,  35.5055,2,    192.9,2,   188.8,2,    5.16,2,    6.21,2,    0.01,2,    0.52,2,   2.431,2,   1.456,2,   0.055,2,    -999,9,    -999,9,     -999,9,     -999,   0.551,2,   1.744,2,   -0.17,2,-999,9,-999,9,-999,9,-999,   7.152,2,   0.027,1.167,2,-999,9,-999,9,    -999,9,-999,9, 20080210,     0340, -34.9983,  29.9653,   0.009,-999,9,     -999,9,     -999,9,     -999,9,     -999,9,     -999,9,     -999,9,-999,9,     -999,9,     -999,9,     -999,9,    0.15,   0.007
33RR20080204,       I06S,      16,          1,         29,         29,2,20080210,       0154,   -35.0015,    29.9819,       4462,   253.4,  15.7862,  35.4370,2,  35.4370,2,    185.7,2,   184.3,2,    6.35,2,    8.61,2,    0.01,2,    0.68,2,   2.627,2,   1.500,2,   0.033,2,    -999,9,  2332.0,2,     -999,9,     -999,    -999,9,    -999,9,    -999,9,-999,9,-999,9,-999,9,-999,    -999,9,    -999,1.128,2,-999,9,-999,9,    -999,9,-999,9, 20080210,     0338, -34.9983,  29.9659,    -999,-999,9,     -999,9,     -999,9,     -999,9,     -999,9,     -999,9,     -999,9,-999,9,     -999,9,     -999,9,     -999,9,    -999,    -999
33RR20080204,       I06S,      16,          1,         28,         28,2,20080210,       0154,   -35.0015,    29.9819,       4462,   301.7,  14.1370,  35.2953,3,  35.3349,2,    196.5,2,   198.5,2,    5.95,2,    9.61,2,    0.01,2,    0.75,2,   2.848,2,   1.611,2,   0.042,2,    -999,9,    -999,9,     -999,9,     -999,   0.432,2,   1.771,2,    0.28,2,-999,9,-999,9,-999,9,-999,   7.338,2,   0.028,1.337,2,-999,9,-999,9,    -999,9,-999,9, 20080210,     0337, -34.9982,  29.9664,   0.009,-999,9,     -999,9,     -999,9,     -999,9,     -999,9,     -999,9,     -999,9,-999,9,     -999,9,     -999,9,     -999,9,    0.15,   0.007
33RR20080204,       I06S,      16,          1,         27,         27,2,20080210,       0154,   -35.0015,    29.9819,       4462,   351.0,  13.0514,  35.2145,3,  35.2328,2,    209.5,2,   209.1,2,    5.36,2,   10.51,2,    0.00,2,    0.80,2,   3.025,2,   1.677,2,   0.052,2,    -999,9,  2317.1,2,     -999,9,     -999,    -999,9,    -999,9,    -999,9,-999,9,-999,9,-999,9,-999,    -999,9,    -999,1.532,2,-999,9,-999,9,    -999,9,-999,9, 20080210,     0335, -34.9982,  29.9668,    -999,-999,9,     -999,9,     -999,9,     -999,9,     -999,9,     -999,9,     -999,9,-999,9,     -999,9,     -999,9,     -999,9,    -999,    -999
33RR20080204,       I06S,      16,          1,         26,         26,2,20080210,       0154,   -35.0015,    29.9819,       4462,   397.0,  12.1156,  35.0904,3,  35.1101,2,    214.7,2,   215.9,2,    5.35,2,   11.76,2,    0.00,2,    0.88,2,   3.131,2,   1.721,2,   0.078,2,    -999,9,    -999,9,     -999,9,     -999,   0.373,2,   1.777,2,    0.17,2,-999,9,-999,9,-999,9,-999,   7.404,2,   0.028,1.86,2,-999,9,-999,9,    -999,9,-999,9, 20080210,     0333, -34.9981,  29.9673,   0.009,-999,9,     -999,9,     -999,9,     -999,9,     -999,9,     -999,9,     -999,9,-999,9,     -999,9,     -999,9,     -999,9,    0.15,   0.007
33RR20080204,       I06S,      16,          1,         25,         25,2,20080210,       0154,   -35.0015,    29.9819,       4462,   445.5,  11.4917,  34.9843,3,  35.0220,2,    219.0,2,   219.1,2,    5.35,2,   12.86,2,    0.00,2,    0.95,2,   3.247,6,   1.756,6,   0.092,6,    -999,9,  2308.1,2,     -999,9,     -999,    -999,9,    -999,9,    -999,9,-999,9,-999,9,-999,9,-999,    -999,9,    -999,1.8875,6,-999,9,-999,9,    -999,9,-999,9, 20080210,     0331, -34.9980,  29.9677,    -999,-999,9,     -999,9,     -999,9,     -999,9,     -999,9,     -999,9,     -999,9,-999,9,     -999,9,     -999,9,     -999,9,    -999,    -999
33RR20080204,       I06S,      16,          1,         24,         24,2,20080210,       0154,   -35.0015,    29.9819,       4462,   509.1,  10.7057,  34.8542,3,  34.9118,2,    221.7,2,   220.1,2,    6.14,2,   14.48,2,    0.00,2,    1.05,2,   3.240,2,   1.716,2,   0.086,2,    -999,9,    -999,9,     -999,9,     -999,   0.298,2,   1.798,2,    0.39,2,-999,9,-999,9,-999,9,-999,   7.534,2,   0.029,2.085,2,-999,9,-999,9,    -999,9,-999,9, 20080210,     0329, -34.9980,  29.9681,   0.009,-999,9,     -999,9,     -999,9,     -999,9,     -999,9,     -999,9,     -999,9,-999,9,     -999,9,     -999,9,     -999,9,    0.15,   0.007
33RR20080204,       I06S,      16,          1,         23,         23,2,20080210,       0154,   -35.0015,    29.9819,       4462,   611.9,   9.5311,  34.6879,3,  34.7575,2,    206.2,4,   214.9,2,    8.74,2,   17.78,2,    0.00,2,    1.25,2,   3.013,2,   1.567,2,   0.091,2,    -999,9,  2298.1,2,     -999,9,     -999,   0.247,2,   1.769,2,    0.99,2,-999,9,-999,9,-999,9,-999,   7.543,2,   0.029,2.227,2,-999,9,-999,9,    -999,9,-999,9, 20080210,     0327, -34.9980,  29.9685,   0.009,-999,9,     -999,9,     -999,9,     -999,9,     -999,9,     -999,9,     -999,9,-999,9,     -999,9,     -999,9,     -999,9,    0.15,   0.007
33RR20080204,       I06S,      16,          1,         22,         22,2,20080210,       0154,   -35.0015,    29.9819,       4462,   707.9,   8.6452,  34.5920,3,  34.6625,2,    201.6,4,   207.3,2,   12.54,2,   20.66,2,    0.00,2,    1.44,2,   2.621,2,   1.337,2,   0.071,2,    -999,9,    -999,9,     -999,9,     -999,    -999,9,   1.786,2,    1.60,2,-999,9,-999,9,-999,9,-999,   7.605,2,   0.029,2.222,2,-999,9,-999,9,    -999,9,-999,9, 20080210,     0324, -34.9979,  29.9692,    -999,-999,9,     -999,9,     -999,9,     -999,9,     -999,9,     -999,9,     -999,9,-999,9,     -999,9,     -999,9,     -999,9,    0.15,   0.007
33RR20080204,       I06S,      16,          1,         21,         21,2,20080210,       0154,   -35.0015,    29.9819,       4462,   809.6,   7.4064,  34.5095,3,  34.5608,2,    191.2,4,   196.1,2,   19.95,2,   24.55,2,    0.00,2,    1.71,2,   2.072,2,   1.062,2,   0.073,2,    -999,9,  2298.0,2,     -999,9,     -999,   0.131,2,   1.811,2,    2.56,2,-999,9,-999,9,-999,9,-999,   7.766,2,   0.030,2.439,2,-999,9,-999,9,    -999,9,-999,9, 20080210,     0322, -34.9979,  29.9697,   0.009,-999,9,     -999,9,     -999,9,     -999,9,     -999,9,     -999,9,     -999,9,-999,9,     -999,9,     -999,9,     -999,9,    0.15,   0.007
33RR20080204,       I06S,      16,          1,         20,         20,2,20080210,       0154,   -35.0015,    29.9819,       4462,   909.2,   6.2599,  34.2684,3,  34.4658,2,    187.1,4,   197.4,2,   25.00,2,   27.25,2,    0.00,2,    1.88,2,   2.178,2,   1.102,2,   0.111,2,    -999,9,    -999,9,     -999,9,     -999,    -999,9,    -999,9,    -999,9,-999,9,-999,9,-999,9,-999,    -999,9,    -999,2.772,2,-999,9,-999,9,    -999,9,-999,9, 20080210,     0319, -34.9980,  29.9701,    -999,-999,9,     -999,9,     -999,9,     -999,9,     -999,9,     -999,9,     -999,9,-999,9,     -999,9,     -999,9,     -999,9,    -999,    -999
33RR20080204,       I06S,      16,          1,         19,         19,2,20080210,       0154,   -35.0015,    29.9819,       4462,  1010.2,   5.3249,  34.4012,3,  34.4216,2,    185.2,4,   197.1,2,   31.06,2,   29.24,2,    0.00,2,    2.03,2,   2.037,2,   1.042,2,   0.111,2,    -999,9,  2300.7,2,     -999,9,     -999,   0.064,2,   1.836,2,    3.36,2,-999,9,-999,9,-999,9,-999,   7.925,2,   0.030,2.583,2,-999,9,-999,9,    -999,9,-999,9, 20080210,     0317, -34.9981,  29.9707,   0.009,-999,9,     -999,9,     -999,9,     -999,9,     -999,9,     -999,9,     -999,9,-999,9,     -999,9,     -999,9,     -999,9,    0.15,   0.007
33RR20080204,       I06S,      16,          1,         18,         18,2,20080210,       0154,   -35.0015,    29.9819,       4462,  1112.3,   4.9042,  34.4342,3,  34.4723,2,    184.2,4,   182.7,2,   41.42,2,   30.82,2,    0.00,2,    2.15,2,   1.263,2,   0.642,2,   0.066,2,    -999,9,    -999,9,     -999,9,     -999,    -999,9,    -999,9,    -999,9,-999,9,-999,9,-999,9,-999,    -999,9,    -999,2.19,2,-999,9,-999,9,    -999,9,-999,9, 20080210,     0314, -34.9982,  29.9712,    -999,-999,9,     -999,9,     -999,9,     -999,9,     -999,9,     -999,9,     -999,9,-999,9,     -999,9,     -999,9,     -999,9,    -999,    -999
33RR20080204,       I06S,      16,          1,         17,         17,2,20080210,       0154,   -35.0015,    29.9819,       4462,  1210.3,   4.3713,  34.4601,3,  34.4689,2,    178.9,4,   177.9,2,   48.36,2,   31.94,2,    0.00,2,    2.24,2,   1.058,2,   0.542,2,   0.061,2,    -999,9,  2316.5,2,     -999,9,     -999,    -999,9,   1.862,2,    5.73,2,-999,9,-999,9,-999,9,-999,   7.975,2,   0.030,2.057,2,-999,9,-999,9,    -999,9,-999,9, 20080210,     0311, -34.9983,  29.9718,    -999,-999,9,     -999,9,     -999,9,     -999,9,     -999,9,     -999,9,     -999,9,-999,9,     -999,9,     -999,9,     -999,9,    0.15,   0.007
33RR20080204,       I06S,      16,          1,         16,         16,2,20080210,       0154,   -35.0015,    29.9819,       4462,  1211.7,   4.3675,  34.4563,3,  34.4695,2,    178.8,4,   177.7,2,   48.55,2,   31.99,2,    0.00,2,    2.24,2,   1.049,2,   0.535,2,   0.055,2,    -999,9,    -999,9,     -999,9,     -999,   0.028,2,    -999,9,    -999,9,-999,9,-999,9,-999,9,-999,    -999,9,    -999,1.927,2,-999,9,-999,9,    -999,9,-999,9, 20080210,     0311, -34.9983,  29.9718,   0.009,-999,9,     -999,9,     -999,9,     -999,9,     -999,9,     -999,9,     -999,9,-999,9,     -999,9,     -999,9,     -999,9,    -999,    -999
33RR20080204,       I06S,      16,          1,         15,         15,2,20080210,       0154,   -35.0015,    29.9819,       4462,  1311.7,   3.9056,  34.4757,3,  34.4886,2,    172.8,4,   174.2,2,   54.48,2,   32.92,2,    0.00,2,    2.30,2,   0.893,2,   0.443,2,   0.035,2,    -999,9,  2322.2,2,     -999,9,     -999,    -999,9,    -999,9,    -999,9,-999,9,-999,9,-999,9,-999,    -999,9,    -999,1.452,2,-999,9,-999,9,    -999,9,-999,9, 20080210,     0307, -34.9984,  29.9723,    -999,-999,9,     -999,9,     -999,9,     -999,9,     -999,9,     -999,9,     -999,9,-999,9,     -999,9,     -999,9,     -999,9,    -999,    -999
33RR20080204,       I06S,      16,          1,         14,         14,2,20080210,       0154,   -35.0015,    29.9819,       4462,  1414.1,   3.5260,  34.5065,3,  34.5247,2,    171.9,3,   170.6,2,   60.83,2,   33.43,2,    0.00,2,    2.33,2,   0.624,2,   0.322,2,   0.027,2,    -999,9,    -999,9,     -999,9,     -999,   0.008,2,   1.875,2,    7.31,2,-999,9,-999,9,-999,9,-999,   8.099,2,   0.031,0.764,2,-999,9,-999,9,    -999,9,-999,9, 20080210,     0304, -34.9985,  29.9728,   0.009,-999,9,     -999,9,     -999,9,     -999,9,     -999,9,     -999,9,     -999,9,-999,9,     -999,9,     -999,9,     -999,9,    0.15,   0.007
33RR20080204,       I06S,      16,          1,         13,         13,2,20080210,       0154,   -35.0015,    29.9819,       4462,  1515.9,   3.2852,  34.5575,2,  34.5593,2,    167.6,3,   169.5,2,   65.14,2,   33.43,2,    0.00,2,    2.33,2,   0.439,2,   0.255,2,   0.051,2,    -999,9,  2333.6,2,     -999,9,     -999,    -999,9,    -999,9,    -999,9,-999,9,-999,9,-999,9,-999,    -999,9,    -999,0.494,2,-999,9,-999,9,    -999,9,-999,9, 20080210,     0301, -34.9986,  29.9732,    -999,-999,9,     -999,9,     -999,9,     -999,9,     -999,9,     -999,9,     -999,9,-999,9,     -999,9,     -999,9,     -999,9,    -999,    -999
33RR20080204,       I06S,      16,          1,         12,         12,2,20080210,       0154,   -35.0015,    29.9819,       4462,  1615.5,   3.2169,  34.6108,3,  34.6184,2,    166.6,3,   166.9,2,   70.06,2,   33.22,2,    0.00,2,    2.32,2,   0.260,2,   0.151,2,   0.014,2,    -999,9,    -999,9,     -999,9,     -999,  -0.009,2,   1.896,2,    8.23,2,-999,9,-999,9,-999,9,-999,   8.178,2,   0.031,0.441,2,-999,9,-999,9,    -999,9,-999,9, 20080210,     0258, -34.9986,  29.9737,   0.009,-999,9,     -999,9,     -999,9,     -999,9,     -999,9,     -999,9,     -999,9,-999,9,     -999,9,     -999,9,     -999,9,    0.15,   0.007
33RR20080204,       I06S,      16,          1,         11,         11,2,20080210,       0154,   -35.0015,    29.9819,       4462,  1715.2,   3.0570,  34.6513,3,  34.6701,2,    171.0,3,   169.3,2,   72.12,2,   32.71,2,    0.00,2,    2.28,2,   0.176,2,   0.106,2,   0.005,2,    -999,9,  2342.1,2,     -999,9,     -999,    -999,9,    -999,9,    -999,9,-999,9,-999,9,-999,9,-999,    -999,9,    -999,0.419,2,-999,9,-999,9,    -999,9,-999,9, 20080210,     0255, -34.9985,  29.9741,    -999,-999,9,     -999,9,     -999,9,     -999,9,     -999,9,     -999,9,     -999,9,-999,9,     -999,9,     -999,9,     -999,9,    -999,    -999
33RR20080204,       I06S,      16,          1,         10,         10,2,20080210,       0154,   -35.0015,    29.9819,       4462,  1814.1,   2.9083,  34.6834,2,  34.6849,2,    178.6,3,   175.2,2,   71.29,2,   31.89,2,    0.00,2,    2.21,2,   0.122,2,   0.072,2,   0.009,2,    -999,9,    -999,5,     -999,9,     -999,  -0.008,2,   1.793,2,    8.39,2,-999,9,-999,9,-999,9,-999,   7.835,2,   0.030,0.286,2,-999,9,-999,9,    -999,9,-999,9, 20080210,     0252, -34.9985,  29.9745,   0.009,-999,9,     -999,9,     -999,9,     -999,9,     -999,9,     -999,9,     -999,9,-999,9,     -999,9,     -999,9,     -999,9,    0.15,   0.007
33RR20080204,       I06S,      16,          1,          9,          9,2,20080210,       0154,   -35.0015,    29.9819,       4462,  2029.0,   2.7609,  34.7430,2,  34.7438,2,    191.6,3,   191.3,2,   64.91,2,   29.75,2,    0.00,2,    2.04,2,   0.076,2,   0.045,2,   0.000,2,    -999,9,  2340.7,2,     -999,9,     -999,  -0.004,2,   1.843,2,    8.55,2,-999,9,-999,9,-999,9,-999,   8.008,2,   0.030,0.232,2,-999,9,-999,9,    -999,9,-999,9, 20080210,     0247, -34.9988,  29.9753,   0.009,-999,9,     -999,9,     -999,9,     -999,9,     -999,9,     -999,9,     -999,9,-999,9,     -999,9,     -999,9,     -999,9,    0.15,   0.007
33RR20080204,       I06S,      16,          1,          8,          8,2,20080210,       0154,   -35.0015,    29.9819,       4462,  2324.1,   2.5909,  34.7899,3,  34.7959,2,    206.0,3,   205.2,2,   62.65,2,   27.86,2,    0.00,2,    1.90,2,   0.088,2,   0.076,2,   0.000,2,    -999,9,    -999,5,     -999,9,     -999,  -0.011,2,   1.869,2,    7.18,2,-999,9,-999,9,-999,9,-999,   8.053,2,   0.031,0.201,2,-999,9,-999,9,    -999,9,-999,9, 20080210,     0241, -34.9986,  29.9764,   0.009,-999,9,     -999,9,     -999,9,     -999,9,     -999,9,     -999,9,     -999,9,-999,9,     -999,9,     -999,9,     -999,9,    0.15,   0.007