BOTTLE,20220706CCHSIOAMB
EXPOCODE,SECT_ID,STNNBR,CASTNO,SAMPNO,BTLNBR,BTLNBR_FLAG_W,DATE,TIME,LATITUDE,LONGITUDE,DEPTH,CTDPRS,CTDTMP,CTDSAL,CTDSAL_FLAG_W,SALNTY,SALNTY_FLAG_W,CTDOXY,CTDOXY_FLAG_W,OXYGEN,OXYGEN_FLAG_W,SILCAT,SILCAT_FLAG_W,NITRAT,NITRAT_FLAG_W,NITRIT,NITRIT_FLAG_W,PHSPHT,PHSPHT_FLAG_W,CFC-11,CFC-11_FLAG_W,CFC-12,CFC-12_FLAG_W,CFC113,CFC113_FLAG_W,TCARBN,TCARBN_FLAG_W,ALKALI,ALKALI_FLAG_W,PH_SWS,PH_SWS_FLAG_W,PH_TMP,TRITUM,TRITUM_FLAG_W,HELIUM,HELIUM_FLAG_W,DELHE3,DELHE3_FLAG_W,REFTMP,REFTMP_FLAG_W,DELC13,DELC13_FLAG_W,DELC14,DELC14_FLAG_W,C14ERR,NEON,NEON_FLAG_W,NEONER,CCL4,CCL4_FLAG_W,ALUMIN,ALUMIN_FLAG_W,DELO18,DELO18_FLAG_W,DOC,DOC_FLAG_W,TDN,TDN_FLAG_W,BTL_DATE,BTL_TIME,BTL_LAT,BTL_LON,TRITER,DELSI30,DELSI30_FLAG_W,CDOM380,CDOM380_FLAG_W,CDOM325,CDOM325_FLAG_W,CDOMSL,CDOMSL_FLAG_W,CDOM340,CDOM340_FLAG_W,CDOM443,CDOM443_FLAG_W,CDOMSN,CDOMSN_FLAG_W,BLACKC,BLACKC_FLAG_W,CDOM490,CDOM490_FLAG_W,CDOM412,CDOM412_FLAG_W,CDOM555,CDOM555_FLAG_W,DELHER,HELIER
,,,,,,,,,,,METERS,DBAR,ITS-90,PSS-78,,PSS-78,,UMOL/KG,,UMOL/KG,,UMOL/KG,,UMOL/KG,,UMOL/KG,,UMOL/KG,,PMOL/KG,,PMOL/KG,,PMOL/KG,,UMOL/KG,,UMOL/KG,,,,DEG C,TU,,NMOL/KG,,PERCNT,,DEG C,,/MILLE,,/MILLE,,/MILLE,NMOL/KG,,NMOL/KG,PMOL/KG,,NMOL/L,,/MILLE,,UMOL/KG,,UMOL/KG,,,,,,TU,/MILLE,,1/M,,1/M,,1/NM,,1/M,,1/M,,1/NM,,,,1/M,,1/M,,1/M,,PERCNT,NMOL/KG
33RR20080204,       I06S,      57,          1,          7,          7,2,20080223,       1309,   -55.5062,    29.9943,       5455,  4235.4,  -0.0835,  34.6612,2,  34.6608,2,    233.2,2,   233.5,2,  129.08,2,   32.51,2,    0.00,2,    2.27,2,   0.404,2,   0.208,2,   0.012,2,  2246.8,2,  2354.5,2,   7.7927,3,    13.00,    -999,9,    -999,9,    -999,9,-999,9,-999,9,-999,9,-999,    -999,9,    -999,1.054,2,-999,9,-999,9,   37.95,2,-999,1, 20080223,     1339, -55.5072,  29.9938,    -999,-999,9,     -999,9,     -999,9,     -999,9,     -999,9,     -999,9,     -999,9,-999,1,     -999,9,     -999,9,     -999,9,    -999,    -999
33RR20080204,       I06S,      57,          1,          6,          6,2,20080223,       1309,   -55.5062,    29.9943,       5455,  4542.4,  -0.1256,  34.6587,2,  34.6576,2,    236.5,2,   236.3,2,  129.47,2,   32.46,2,    0.00,2,    2.26,2,   0.443,2,   0.230,2,   0.022,2,  1771.9,4,  2354.9,2,   7.7958,4,    13.00,    -999,9,    -999,9,    -999,9,-999,9,0.6,2,-162.1,2,3.3,    -999,9,    -999,0.919,2,-999,9,-999,9,    -999,9,-999,9, 20080223,     1333, -55.5070,  29.9940,    -999,-999,1,     -999,9,     -999,9,     -999,9,     -999,9,     -999,9,     -999,9,-999,9,     -999,9,     -999,9,     -999,9,    -999,    -999
33RR20080204,       I06S,      57,          1,          5,          5,2,20080223,       1309,   -55.5062,    29.9943,       5455,  4745.8,  -0.1483,  34.6568,2,  34.6566,2,    238.3,2,   238.1,2,  130.04,2,   32.45,2,    0.00,2,    2.26,2,   0.439,2,   0.234,2,   0.026,2,  1759.8,4,  2353.9,2,   7.7975,3,    13.00,    -999,9,    -999,9,    -999,9,-999,9,0.55,2,-153.6,2,2.3,    -999,9,    -999,1.545,2,-999,9,-999,9,   38.24,2,-999,1, 20080223,     1329, -55.5068,  29.9938,    -999,-999,9,     -999,9,     -999,9,     -999,9,     -999,9,     -999,9,     -999,9,-999,9,     -999,9,     -999,9,     -999,9,    -999,    -999
33RR20080204,       I06S,      57,          1,          4,          4,2,20080223,       1309,   -55.5062,    29.9943,       5455,  4951.7,  -0.1694,  34.6550,2,  34.6553,2,    240.3,2,   239.8,2,  130.82,2,   32.40,2,    0.00,2,    2.26,2,   0.457,2,   0.235,2,   0.028,2,  1893.0,4,  2354.1,2,   7.7986,2,    13.00,    -999,9,    -999,9,    -999,9,-999,9,0.57,2,-153.8,2,2.3,    -999,9,    -999,1.696,2,-999,9,-999,9,    -999,9,-999,9, 20080223,     1324, -55.5066,  29.9942,    -999,-999,1,     -999,9,     -999,9,     -999,9,     -999,9,     -999,9,     -999,9,-999,9,     -999,9,     -999,9,     -999,9,    -999,    -999
33RR20080204,       I06S,      57,          1,          3,          3,2,20080223,       1309,   -55.5062,    29.9943,       5455,  5157.9,  -0.1765,  34.6538,2,  34.6541,2,    241.7,2,   241.1,2,  130.63,2,   32.35,2,    0.00,2,    2.26,2,   0.474,2,   0.240,2,   0.027,2,  1980.0,4,  2354.6,2,   7.7996,3,    13.00,    -999,9,    -999,9,    -999,9,-999,9,0.61,2,-153.8,2,2.3,    -999,9,    -999,1.816,2,-999,9,-999,9,    -999,9,-999,9, 20080223,     1319, -55.5065,  29.9941,    -999,-999,9,     -999,9,     -999,9,     -999,9,     -999,9,     -999,9,     -999,9,-999,9,     -999,9,     -999,9,     -999,9,    -999,    -999
33RR20080204,       I06S,      57,          1,          2,          2,2,20080223,       1309,   -55.5062,    29.9943,       5455,  5366.6,  -0.1788,  34.6527,2,  34.6533,2,    242.6,2,   242.0,2,  131.60,2,   32.40,2,    0.00,2,    2.26,2,   0.494,2,   0.266,2,   0.034,2,  2022.7,4,  2354.3,2,   7.7997,2,    13.00,    -999,9,    -999,9,    -999,9,-999,9,0.63,2,-151.6,2,2.6,    -999,9,    -999,1.903,2,-999,9,-999,9,   39.02,2,-999,1, 20080223,     1314, -55.5065,  29.9941,    -999,-999,9,     -999,9,     -999,9,     -999,9,     -999,9,     -999,9,     -999,9,-999,9,     -999,9,     -999,9,     -999,9,    -999,    -999
33RR20080204,       I06S,      57,          1,          1,          1,2,20080223,       1309,   -55.5062,    29.9943,       5455,  5552.6,  -0.1674,  34.6520,2,  34.6527,2,    242.9,2,   242.5,2,  132.37,2,   32.44,2,    0.00,2,    2.26,2,   0.516,2,   0.271,2,   0.060,2,  2243.6,6,  2356.9,2,   7.8014,2,    13.00,    -999,9,    -999,9,    -999,9,-999,9,-999,9,-999,9,-999,    -999,9,    -999,2.052,2,-999,9,-999,9,   40.59,2,-999,1, 20080223,     1309, -55.5061,  29.9943,    -999,-999,1,     -999,9,     -999,9,     -999,9,     -999,9,     -999,9,     -999,9,-999,1,     -999,9,     -999,9,     -999,9,    -999,    -999