BOTTLE,20220706CCHSIOAMB
EXPOCODE,SECT_ID,STNNBR,CASTNO,SAMPNO,BTLNBR,BTLNBR_FLAG_W,DATE,TIME,LATITUDE,LONGITUDE,DEPTH,CTDPRS,CTDTMP,CTDSAL,CTDSAL_FLAG_W,SALNTY,SALNTY_FLAG_W,CTDOXY,CTDOXY_FLAG_W,OXYGEN,OXYGEN_FLAG_W,SILCAT,SILCAT_FLAG_W,NITRAT,NITRAT_FLAG_W,NITRIT,NITRIT_FLAG_W,PHSPHT,PHSPHT_FLAG_W,CFC-11,CFC-11_FLAG_W,CFC-12,CFC-12_FLAG_W,CFC113,CFC113_FLAG_W,TCARBN,TCARBN_FLAG_W,ALKALI,ALKALI_FLAG_W,PH_SWS,PH_SWS_FLAG_W,PH_TMP,TRITUM,TRITUM_FLAG_W,HELIUM,HELIUM_FLAG_W,DELHE3,DELHE3_FLAG_W,REFTMP,REFTMP_FLAG_W,DELC13,DELC13_FLAG_W,DELC14,DELC14_FLAG_W,C14ERR,NEON,NEON_FLAG_W,NEONER,CCL4,CCL4_FLAG_W,ALUMIN,ALUMIN_FLAG_W,DELO18,DELO18_FLAG_W,DOC,DOC_FLAG_W,TDN,TDN_FLAG_W,BTL_DATE,BTL_TIME,BTL_LAT,BTL_LON,TRITER,DELSI30,DELSI30_FLAG_W,CDOM380,CDOM380_FLAG_W,CDOM325,CDOM325_FLAG_W,CDOMSL,CDOMSL_FLAG_W,CDOM340,CDOM340_FLAG_W,CDOM443,CDOM443_FLAG_W,CDOMSN,CDOMSN_FLAG_W,BLACKC,BLACKC_FLAG_W,CDOM490,CDOM490_FLAG_W,CDOM412,CDOM412_FLAG_W,CDOM555,CDOM555_FLAG_W,DELHER,HELIER
,,,,,,,,,,,METERS,DBAR,ITS-90,PSS-78,,PSS-78,,UMOL/KG,,UMOL/KG,,UMOL/KG,,UMOL/KG,,UMOL/KG,,UMOL/KG,,PMOL/KG,,PMOL/KG,,PMOL/KG,,UMOL/KG,,UMOL/KG,,,,DEG C,TU,,NMOL/KG,,PERCNT,,DEG C,,/MILLE,,/MILLE,,/MILLE,NMOL/KG,,NMOL/KG,PMOL/KG,,NMOL/L,,/MILLE,,UMOL/KG,,UMOL/KG,,,,,,TU,/MILLE,,1/M,,1/M,,1/NM,,1/M,,1/M,,1/NM,,,,1/M,,1/M,,1/M,,PERCNT,NMOL/KG
33RR20080204,       I06S,      43,          2,         36,         36,2,20080218,       1819,   -48.4980,    30.0019,       4793,     4.1,   4.8656,  33.7826,2,  33.7798,2,    313.1,2,   314.1,2,    1.78,2,   21.20,2,    0.24,2,    1.46,2,   5.041,2,   2.837,2,   0.463,2,  2168.1,2,  2272.6,2,   7.9559,2,    13.00,    -999,9,    -999,9,    -999,9,4.8651,2,-999,9,-999,9,-999,    -999,9,    -999,8.794,2,-999,1,-999,9,   42.05,2,-999,1, 20080218,     2036, -48.4978,  30.0019,    -999,-999,1,     -999,9,     -999,9,     -999,9,     -999,9,     -999,9,     -999,9,-999,9,     -999,9,     -999,9,     -999,9,    -999,    -999
33RR20080204,       I06S,      43,          2,         35,         35,2,20080218,       1819,   -48.4980,    30.0019,       4793,    24.5,   4.8635,  33.7825,2,  33.7802,2,    315.4,2,   314.1,2,    1.77,2,   21.20,2,    0.24,2,    1.46,2,   5.073,2,   2.856,2,   0.430,2,  2157.2,2,  2273.0,2,   7.9548,2,    13.00,    -999,9,    -999,9,    -999,9,4.863,2,-999,9,-999,9,-999,    -999,9,    -999,8.249,2,-999,9,-999,9,   42.24,2,-999,1, 20080218,     2033, -48.4979,  30.0019,    -999,-999,9,     -999,9,     -999,9,     -999,9,     -999,9,     -999,9,     -999,9,-999,9,     -999,9,     -999,9,     -999,9,    -999,    -999
33RR20080204,       I06S,      43,          2,         34,         34,2,20080218,       1819,   -48.4980,    30.0019,       4793,    45.4,   4.8349,  33.7826,2,  33.7798,2,    315.8,2,   314.5,2,    1.77,2,   21.20,2,    0.24,2,    1.46,2,    -999,9,    -999,9,    -999,9,  2092.6,2,  2271.5,2,   7.9547,2,    13.00,    -999,9,    -999,9,    -999,9,4.8386,2,-999,9,-999,9,-999,    -999,9,    -999,-999,9,-999,1,-999,9,   41.07,2,-999,1, 20080218,     2032, -48.4980,  30.0018,    -999,-999,1,     -999,9,     -999,9,     -999,9,     -999,9,     -999,9,     -999,9,-999,9,     -999,9,     -999,9,     -999,9,    -999,    -999
33RR20080204,       I06S,      43,          2,         33,         33,2,20080218,       1819,   -48.4980,    30.0019,       4793,    74.7,   4.5437,  33.7802,2,  33.7779,2,    318.7,2,   317.1,2,    1.57,2,   21.40,2,    0.25,2,    1.46,2,    -999,9,    -999,9,    -999,9,  2090.7,2,  2273.0,2,   7.9524,2,    13.00,    -999,9,    -999,9,    -999,9,4.5438,2,-999,9,-999,9,-999,    -999,9,    -999,-999,9,-999,1,-999,9,   46.63,3,-999,1, 20080218,     2029, -48.4982,  30.0018,    -999,-999,1,     -999,9,     -999,9,     -999,9,     -999,9,     -999,9,     -999,9,-999,9,     -999,9,     -999,9,     -999,9,    -999,    -999
33RR20080204,       I06S,      43,          2,         32,         32,2,20080218,       1819,   -48.4980,    30.0019,       4793,   100.8,   4.1072,  33.7775,2,  33.7730,2,    322.1,2,   320.4,2,    1.39,2,   21.70,2,    0.25,2,    1.45,2,   5.347,2,   2.951,2,   0.454,2,  2070.9,2,  2275.6,2,   7.9467,2,    13.00,    -999,9,    -999,9,    -999,9,4.109,2,-999,9,-999,9,-999,    -999,9,    -999,8.254,2,-999,1,-999,9,   44.59,2,-999,1, 20080218,     2027, -48.4983,  30.0018,    -999,-999,1,     -999,9,     -999,9,     -999,9,     -999,9,     -999,9,     -999,9,-999,9,     -999,9,     -999,9,     -999,9,    -999,    -999
33RR20080204,       I06S,      43,          2,         31,         31,2,20080218,       1819,   -48.4980,    30.0019,       4793,   153.6,   3.4660,  33.8773,2,  33.8740,2,    309.1,2,   307.8,2,    8.00,2,   23.77,2,    0.10,2,    1.66,2,    -999,9,    -999,9,    -999,9,  2074.1,2,  2266.4,2,   7.9106,2,    13.00,    -999,9,    -999,9,    -999,9,3.465,2,-999,9,-999,9,-999,    -999,9,    -999,-999,9,-999,9,-999,9,   41.76,2,-999,1, 20080218,     2023, -48.4985,  30.0017,    -999,-999,9,     -999,9,     -999,9,     -999,9,     -999,9,     -999,9,     -999,9,-999,9,     -999,9,     -999,9,     -999,9,    -999,    -999
33RR20080204,       I06S,      43,          2,         30,         30,2,20080218,       1819,   -48.4980,    30.0019,       4793,   203.3,   3.1207,  33.9302,2,  33.9268,2,    298.7,2,   301.0,2,   11.50,2,   25.21,2,    0.01,2,    1.75,2,   5.189,2,   2.876,2,   0.417,2,  2085.2,2,  2270.8,2,   7.8900,2,    13.00,    -999,9,    -999,9,    -999,9,3.1191,2,-999,9,-999,9,-999,    -999,9,    -999,7.108,2,-999,1,-999,9,   42.15,2,-999,1, 20080218,     2020, -48.4985,  30.0018,    -999,-999,1,     -999,9,     -999,9,     -999,9,     -999,9,     -999,9,     -999,9,-999,1,     -999,9,     -999,9,     -999,9,    -999,    -999
33RR20080204,       I06S,      43,          2,         29,         29,2,20080218,       1819,   -48.4980,    30.0019,       4793,   254.0,   3.3460,  34.0997,2,  34.0966,2,    267.9,2,   266.5,2,   18.53,2,   28.16,2,    0.01,2,    1.95,2,   4.418,2,   2.396,2,   0.335,2,  2113.0,2,  2280.1,2,   7.8478,2,    13.00,    -999,9,    -999,9,    -999,9,3.3531,2,-999,9,-999,9,-999,    -999,9,    -999,5.687,2,-999,9,-999,9,   41.56,2,-999,1, 20080218,     2016, -48.4985,  30.0018,    -999,-999,9,     -999,9,     -999,9,     -999,9,     -999,9,     -999,9,     -999,9,-999,9,     -999,9,     -999,9,     -999,9,    -999,    -999
33RR20080204,       I06S,      43,          2,         28,         28,2,20080218,       1819,   -48.4980,    30.0019,       4793,   289.1,   3.1904,  34.1196,2,  34.1168,2,    261.8,2,   260.6,2,   21.30,2,   28.87,2,    0.01,2,    2.00,2,   4.489,2,   2.360,2,   0.313,2,  2207.8,3,  2279.8,2,   7.8373,2,    13.00,    -999,9,    -999,9,    -999,9,3.1922,2,-999,9,-999,9,-999,    -999,9,    -999,5.248,2,-999,1,-999,9,   39.41,2,-999,1, 20080218,     2015, -48.4984,  30.0018,    -999,-999,1,     -999,9,     -999,9,     -999,9,     -999,9,     -999,9,     -999,9,-999,9,     -999,9,     -999,9,     -999,9,    -999,    -999
33RR20080204,       I06S,      43,          2,         27,         27,2,20080218,       1819,   -48.4980,    30.0019,       4793,   356.7,   2.9038,  34.1396,2,  34.1368,2,    254.7,2,   254.0,2,   25.76,2,   29.89,2,    0.01,2,    2.07,2,   0.000,4,   0.000,4,   0.000,4,  2163.4,2,  2283.5,2,   7.8242,2,    13.00,    -999,9,    -999,9,    -999,9,2.904,2,-999,9,-999,9,-999,    -999,9,    -999,0.0,4,-999,9,-999,9,   39.02,2,-999,1, 20080218,     2010, -48.4985,  30.0018,    -999,-999,9,     -999,9,     -999,9,     -999,9,     -999,9,     -999,9,     -999,9,-999,9,     -999,9,     -999,9,     -999,9,    -999,    -999
33RR20080204,       I06S,      43,          2,         26,         26,2,20080218,       1819,   -48.4980,    30.0019,       4793,   399.5,   2.7503,  34.1595,2,  34.1546,2,    246.6,2,   248.5,2,   28.72,2,   30.46,2,    0.01,2,    2.11,2,   3.789,2,   2.017,2,   0.288,2,  1873.8,4,  2286.8,2,   7.8134,2,    13.00,    -999,9,    -999,9,    -999,9,2.7514,2,-999,9,-999,9,-999,    -999,9,    -999,5.478,2,-999,1,-999,9,   40.00,2,-999,1, 20080218,     2008, -48.4984,  30.0018,    -999,-999,1,     -999,9,     -999,9,     -999,9,     -999,9,     -999,9,     -999,9,-999,9,     -999,9,     -999,9,     -999,9,    -999,    -999
33RR20080204,       I06S,      43,          2,         25,         25,2,20080218,       1819,   -48.4980,    30.0019,       4793,   456.4,   2.6829,  34.1953,2,  34.1928,2,    236.9,2,   237.6,2,   33.56,2,   31.37,2,    0.01,2,    2.17,2,   3.436,2,   1.788,2,   0.272,2,  2195.0,2,  2292.2,2,   7.8011,2,    13.00,    -999,9,    -999,9,    -999,9,2.6822,2,-999,9,-999,9,-999,    -999,9,    -999,4.732,2,-999,9,-999,9,    -999,9,-999,9, 20080218,     2006, -48.4984,  30.0018,    -999,-999,9,     -999,9,     -999,9,     -999,9,     -999,9,     -999,9,     -999,9,-999,9,     -999,9,     -999,9,     -999,9,    -999,    -999
33RR20080204,       I06S,      43,          2,         24,         24,2,20080218,       1819,   -48.4980,    30.0019,       4793,   506.6,   2.7151,  34.2428,2,  34.2419,2,    223.2,2,   225.0,2,   38.41,2,   32.09,2,    0.01,2,    2.21,2,   2.889,6,   1.486,6,   0.212,6,  2204.5,2,  2297.9,2,   7.7877,2,    13.00,    -999,9,    -999,9,    -999,9,2.7121,2,-999,9,-999,9,-999,    -999,9,    -999,4.373,2,-999,1,-999,9,   38.05,2,-999,1, 20080218,     2003, -48.4983,  30.0019,    -999,-999,1,     -999,9,     -999,9,     -999,9,     -999,9,     -999,9,     -999,9,-999,9,     -999,9,     -999,9,     -999,9,    -999,    -999
33RR20080204,       I06S,      43,          2,         23,         23,9,20080218,       1819,   -48.4980,    30.0019,       4793,   606.5,   2.6483,  34.3215,2,     -999,9,     -999,9,    -999,9,    -999,9,    -999,9,    -999,9,    -999,9,    -999,9,    -999,9,    -999,9,    -999,9,    -999,9,     -999,9,     -999,    -999,9,    -999,9,    -999,9,2.6484,2,-999,9,-999,9,-999,    -999,9,    -999,-999,9,-999,9,-999,9,    -999,9,-999,9, 20080218,     2001, -48.4982,  30.0019,    -999,-999,9,     -999,9,     -999,9,     -999,9,     -999,9,     -999,9,     -999,9,-999,9,     -999,9,     -999,9,     -999,9,    -999,    -999
33RR20080204,       I06S,      43,          2,         22,         22,2,20080218,       1819,   -48.4980,    30.0019,       4793,   707.3,   2.6081,  34.3949,2,  34.3924,2,    192.1,2,   190.6,2,   55.83,2,   33.94,2,    0.01,2,    2.35,2,   1.542,2,   0.770,2,   0.101,2,  2233.2,2,  2313.7,2,   7.7525,2,    13.00,    -999,9,    -999,9,    -999,9,2.6069,2,-999,9,-999,9,-999,    -999,9,    -999,2.725,2,-999,1,-999,9,   39.12,2,-999,1, 20080218,     1958, -48.4982,  30.0018,    -999,-999,1,     -999,9,     -999,9,     -999,9,     -999,9,     -999,9,     -999,9,-999,9,     -999,9,     -999,9,     -999,9,    -999,    -999
33RR20080204,       I06S,      43,          2,         21,         21,2,20080218,       1819,   -48.4980,    30.0019,       4793,   808.4,   2.5875,  34.4773,2,  34.4761,2,    182.3,2,   180.9,2,   62.79,2,   33.94,2,    0.01,2,    2.35,2,   0.949,2,   0.479,2,   0.072,2,  2241.8,2,  2322.5,2,   7.7503,2,    13.00,    -999,9,    -999,9,    -999,9,2.5871,2,-999,9,-999,9,-999,    -999,9,    -999,1.834,2,-999,1,-999,9,    -999,9,-999,9, 20080218,     1955, -48.4981,  30.0018,    -999,-999,1,     -999,9,     -999,9,     -999,9,     -999,9,     -999,9,     -999,9,-999,9,     -999,9,     -999,9,     -999,9,    -999,    -999
33RR20080204,       I06S,      43,          2,         20,         20,2,20080218,       1819,   -48.4980,    30.0019,       4793,   910.0,   2.5480,  34.5136,2,  34.5125,2,    177.2,2,   177.9,2,   66.00,2,   33.85,2,    0.00,2,    2.35,2,   0.783,2,   0.395,2,   0.044,2,  2245.4,2,  2325.3,2,   7.7482,2,    13.00,    -999,9,    -999,9,    -999,9,2.5473,2,-999,9,-999,9,-999,    -999,9,    -999,1.582,2,-999,1,-999,9,   38.63,2,-999,1, 20080218,     1953, -48.4980,  30.0018,    -999,-999,1,     -999,9,     -999,9,     -999,9,     -999,9,     -999,9,     -999,9,-999,9,     -999,9,     -999,9,     -999,9,    -999,    -999
33RR20080204,       I06S,      43,          2,         19,         19,2,20080218,       1819,   -48.4980,    30.0019,       4793,  1010.3,   2.5081,  34.5704,2,  34.5680,2,    175.4,2,   175.2,2,   69.77,2,   33.44,2,    0.00,2,    2.32,2,   0.554,2,   0.277,2,   0.038,2,  2248.0,6,  2330.6,2,   7.7521,2,    13.00,    -999,9,    -999,9,    -999,9,2.509,2,-999,9,-999,9,-999,    -999,9,    -999,1.208,2,-999,1,-999,9,    -999,9,-999,9, 20080218,     1950, -48.4980,  30.0018,    -999,-999,1,     -999,9,     -999,9,     -999,9,     -999,9,     -999,9,     -999,9,-999,9,     -999,9,     -999,9,     -999,9,    -999,    -999
33RR20080204,       I06S,      43,          2,         18,         18,2,20080218,       1819,   -48.4980,    30.0019,       4793,  1109.3,   2.5376,  34.6183,2,  34.6163,2,    176.7,2,   176.4,2,   70.34,2,   32.67,2,    0.01,2,    2.27,2,   0.363,2,   0.194,2,   0.023,2,  2246.7,2,  2334.3,2,   7.7627,2,    13.00,    -999,9,    -999,9,    -999,9,2.537,2,-999,9,-999,9,-999,    -999,9,    -999,0.925,2,-999,9,-999,9,   39.41,2,-999,1, 20080218,     1947, -48.4980,  30.0018,    -999,-999,9,     -999,9,     -999,9,     -999,9,     -999,9,     -999,9,     -999,9,-999,9,     -999,9,     -999,9,     -999,9,    -999,    -999
33RR20080204,       I06S,      43,          2,         17,         17,2,20080218,       1819,   -48.4980,    30.0019,       4793,  1215.4,   2.4944,  34.6495,2,  34.6475,2,    178.7,2,   177.5,2,   72.04,2,   32.23,2,    0.00,2,    2.23,2,   0.294,2,   0.163,2,   0.021,2,  2249.5,2,  2336.7,2,     -999,5,    13.00,    -999,9,    -999,9,    -999,9,2.4945,2,-999,9,-999,9,-999,    -999,9,    -999,0.802,2,-999,9,-999,9,   37.07,2,-999,1, 20080218,     1942, -48.4980,  30.0019,    -999,-999,9,     -999,9,     -999,9,     -999,9,     -999,9,     -999,9,     -999,9,-999,9,     -999,9,     -999,9,     -999,9,    -999,    -999
33RR20080204,       I06S,      43,          2,         16,         16,2,20080218,       1819,   -48.4980,    30.0019,       4793,  1318.0,   2.4570,  34.6806,2,  34.6787,2,    179.7,2,   180.2,2,   73.18,2,   31.62,2,    0.00,2,    2.18,2,   0.240,2,   0.133,2,   0.017,2,  2247.8,2,  2340.3,2,   7.7770,2,    13.00,    -999,9,    -999,9,    -999,9,2.4566,2,-999,9,-999,9,-999,    -999,9,    -999,0.695,2,-999,9,-999,9,    -999,9,-999,9, 20080218,     1939, -48.4980,  30.0018,    -999,-999,9,     -999,9,     -999,9,     -999,9,     -999,9,     -999,9,     -999,9,-999,9,     -999,9,     -999,9,     -999,9,    -999,    -999
33RR20080204,       I06S,      43,          2,         15,         15,2,20080218,       1819,   -48.4980,    30.0019,       4793,  1417.5,   2.3774,  34.6961,2,  34.6942,2,    182.8,2,   182.3,2,   75.25,2,   31.42,2,    0.00,2,    2.17,2,   0.234,2,   0.130,2,   0.022,2,  2247.1,2,  2341.0,2,   7.7810,3,    13.00,    -999,9,    -999,9,    -999,9,2.3775,2,-999,9,-999,9,-999,    -999,9,    -999,0.676,2,-999,9,-999,9,   38.05,2,-999,1, 20080218,     1936, -48.4979,  30.0018,    -999,-999,9,     -999,9,     -999,9,     -999,9,     -999,9,     -999,9,     -999,9,-999,9,     -999,9,     -999,9,     -999,9,    -999,    -999
33RR20080204,       I06S,      43,          2,         14,         14,2,20080218,       1819,   -48.4980,    30.0019,       4793,  1523.3,   2.3291,  34.7164,2,  34.7148,2,    184.0,2,   184.5,2,   76.39,2,   30.91,2,    0.00,2,    2.15,2,   0.193,2,   0.108,2,   0.023,2,  2245.1,2,  2343.5,2,   7.7870,2,    13.00,    -999,9,    -999,9,    -999,9,2.3292,2,-999,9,-999,9,-999,    -999,9,    -999,0.607,2,-999,9,-999,9,    -999,9,-999,9, 20080218,     1932, -48.4979,  30.0019,    -999,-999,9,     -999,9,     -999,9,     -999,9,     -999,9,     -999,9,     -999,9,-999,9,     -999,9,     -999,9,     -999,9,    -999,    -999
33RR20080204,       I06S,      43,          2,         13,         13,2,20080218,       1819,   -48.4980,    30.0019,       4793,  1624.0,   2.3524,  34.7434,2,  34.7415,2,    190.3,2,   191.1,2,   73.55,2,   29.75,2,    0.00,2,    2.07,2,   0.150,2,   0.090,2,   0.027,2,  2239.0,2,  2342.6,2,   7.8009,4,    13.00,    -999,9,    -999,9,    -999,9,2.3524,2,-999,9,-999,9,-999,    -999,9,    -999,0.717,2,-999,9,-999,9,   38.54,2,-999,1, 20080218,     1929, -48.4979,  30.0018,    -999,-999,9,     -999,9,     -999,9,     -999,9,     -999,9,     -999,9,     -999,9,-999,9,     -999,9,     -999,9,     -999,9,    -999,    -999
33RR20080204,       I06S,      43,          2,         12,         12,2,20080218,       1819,   -48.4980,    30.0019,       4793,  1831.0,   2.1153,  34.7492,2,  34.7478,2,    192.6,2,   194.0,2,   79.81,2,   29.91,2,    0.00,2,    2.06,2,   0.164,2,   0.099,2,   0.021,2,  2241.9,2,  2346.3,2,   7.8051,3,    13.00,    -999,9,    -999,9,    -999,9,2.1154,2,-999,9,-999,9,-999,    -999,9,    -999,0.451,2,-999,9,-999,9,   38.05,2,-999,1, 20080218,     1925, -48.4980,  30.0019,    -999,-999,9,     -999,9,     -999,9,     -999,9,     -999,9,     -999,9,     -999,9,-999,9,     -999,9,     -999,9,     -999,9,    -999,    -999
33RR20080204,       I06S,      43,          2,         11,         11,2,20080218,       1819,   -48.4980,    30.0019,       4793,  2031.7,   1.9716,  34.7610,2,  34.7592,2,    198.9,2,   199.8,2,   81.90,2,   29.46,2,    0.00,2,    2.04,2,   0.139,2,   0.085,2,   0.018,2,  2238.7,2,  2347.5,2,   7.8144,2,    13.00,    -999,9,    -999,9,    -999,9,1.9712,2,-999,9,-999,9,-999,    -999,9,    -999,0.394,2,-999,9,-999,9,   40.10,2,-999,1, 20080218,     1920, -48.4979,  30.0019,    -999,-999,9,     -999,9,     -999,9,     -999,9,     -999,9,     -999,9,     -999,9,-999,9,     -999,9,     -999,9,     -999,9,    -999,    -999
33RR20080204,       I06S,      43,          2,         10,         10,2,20080218,       1819,   -48.4980,    30.0019,       4793,  2336.9,   1.6675,  34.7553,2,  34.7537,2,    204.1,2,   204.0,2,   89.51,2,   29.66,2,    0.00,2,    2.04,2,   0.135,2,   0.081,2,   0.011,2,  2243.2,2,  2351.8,2,   7.8170,2,    13.00,    -999,9,    -999,9,    -999,9,1.6694,2,-999,9,-999,9,-999,    -999,9,    -999,0.416,2,-999,9,-999,9,    -999,9,-999,9, 20080218,     1913, -48.4979,  30.0018,    -999,-999,9,     -999,9,     -999,9,     -999,9,     -999,9,     -999,9,     -999,9,-999,9,     -999,9,     -999,9,     -999,9,    -999,    -999
33RR20080204,       I06S,      43,          2,          9,          9,2,20080218,       1819,   -48.4980,    30.0019,       4793,  2646.7,   1.3605,  34.7370,2,  34.7356,2,    205.0,2,   205.2,2,   98.68,2,   30.48,2,    0.00,2,    2.11,2,   0.167,2,   0.096,2,   0.016,2,  2248.2,2,  2354.0,2,   7.8093,2,    13.00,    -999,9,    -999,9,    -999,9,1.3603,2,-999,9,-999,9,-999,    -999,9,    -999,0.464,2,-999,9,-999,9,   40.68,2,-999,1, 20080218,     1907, -48.4980,  30.0019,    -999,-999,9,     -999,9,     -999,9,     -999,9,     -999,9,     -999,9,     -999,9,-999,9,     -999,9,     -999,9,     -999,9,    -999,    -999
33RR20080204,       I06S,      43,          2,          8,          8,2,20080218,       1819,   -48.4980,    30.0019,       4793,  2950.5,   1.1390,  34.7258,2,  34.7236,2,    207.1,2,   207.4,2,  105.76,2,   31.00,2,    0.00,2,    2.15,2,   0.183,2,   0.109,2,   0.016,2,  2252.6,2,  2355.0,2,   7.8058,2,    13.00,    -999,9,    -999,9,    -999,9,1.1393,2,-999,9,-999,9,-999,    -999,9,    -999,0.426,2,-999,9,-999,9,    -999,9,-999,9, 20080218,     1901, -48.4979,  30.0018,    -999,-999,9,     -999,9,     -999,9,     -999,9,     -999,9,     -999,9,     -999,9,-999,9,     -999,9,     -999,9,     -999,9,    -999,    -999