BOTTLE,20220706CCHSIOAMB
EXPOCODE,SECT_ID,STNNBR,CASTNO,SAMPNO,BTLNBR,BTLNBR_FLAG_W,DATE,TIME,LATITUDE,LONGITUDE,DEPTH,CTDPRS,CTDTMP,CTDSAL,CTDSAL_FLAG_W,SALNTY,SALNTY_FLAG_W,CTDOXY,CTDOXY_FLAG_W,OXYGEN,OXYGEN_FLAG_W,SILCAT,SILCAT_FLAG_W,NITRAT,NITRAT_FLAG_W,NITRIT,NITRIT_FLAG_W,PHSPHT,PHSPHT_FLAG_W,CFC-11,CFC-11_FLAG_W,CFC-12,CFC-12_FLAG_W,CFC113,CFC113_FLAG_W,TCARBN,TCARBN_FLAG_W,ALKALI,ALKALI_FLAG_W,PH_SWS,PH_SWS_FLAG_W,PH_TMP,TRITUM,TRITUM_FLAG_W,HELIUM,HELIUM_FLAG_W,DELHE3,DELHE3_FLAG_W,REFTMP,REFTMP_FLAG_W,DELC13,DELC13_FLAG_W,DELC14,DELC14_FLAG_W,C14ERR,NEON,NEON_FLAG_W,NEONER,CCL4,CCL4_FLAG_W,ALUMIN,ALUMIN_FLAG_W,DELO18,DELO18_FLAG_W,DOC,DOC_FLAG_W,TDN,TDN_FLAG_W,BTL_DATE,BTL_TIME,BTL_LAT,BTL_LON,TRITER,DELSI30,DELSI30_FLAG_W,CDOM380,CDOM380_FLAG_W,CDOM325,CDOM325_FLAG_W,CDOMSL,CDOMSL_FLAG_W,CDOM340,CDOM340_FLAG_W,CDOM443,CDOM443_FLAG_W,CDOMSN,CDOMSN_FLAG_W,BLACKC,BLACKC_FLAG_W,CDOM490,CDOM490_FLAG_W,CDOM412,CDOM412_FLAG_W,CDOM555,CDOM555_FLAG_W,DELHER,HELIER
,,,,,,,,,,,METERS,DBAR,ITS-90,PSS-78,,PSS-78,,UMOL/KG,,UMOL/KG,,UMOL/KG,,UMOL/KG,,UMOL/KG,,UMOL/KG,,PMOL/KG,,PMOL/KG,,PMOL/KG,,UMOL/KG,,UMOL/KG,,,,DEG C,TU,,NMOL/KG,,PERCNT,,DEG C,,/MILLE,,/MILLE,,/MILLE,NMOL/KG,,NMOL/KG,PMOL/KG,,NMOL/L,,/MILLE,,UMOL/KG,,UMOL/KG,,,,,,TU,/MILLE,,1/M,,1/M,,1/NM,,1/M,,1/M,,1/NM,,,,1/M,,1/M,,1/M,,PERCNT,NMOL/KG
33RR20080204,       I06S,      41,          1,          7,          7,2,20080218,       0222,   -47.5013,    29.9984,       4922,  3519.3,   0.8994,  34.7102,2,  34.7077,2,    210.1,2,   210.5,2,  114.24,2,   31.69,2,    0.00,2,    2.19,2,   0.206,2,   0.109,2,   0.014,2,  2256.8,2,  2358.5,2,   7.8010,2,    13.00,    -999,9,    -999,9,    -999,9,0.8993,2,0.56,2,-158.2,2,2.3,    -999,9,    -999,1.351,2,-999,9,-999,9,   40.39,2,-999,1, 20080218,     0253, -47.5032,  29.9979,    -999,-999,9,   0.0342,2,   0.1146,2,   0.0097,4,   0.0749,2,   0.0117,2,   0.0193,3,-999,9,   0.0032,2,   0.0212,2,   0.0010,4,    -999,    -999
33RR20080204,       I06S,      41,          1,          6,          6,2,20080218,       0222,   -47.5013,    29.9984,       4922,  3819.2,   0.7236,  34.6972,2,  34.6961,2,    211.5,2,   211.3,2,  120.73,2,   32.19,2,    0.00,2,    2.22,2,   0.243,2,   0.131,2,   0.021,2,  2259.2,2,  2360.1,2,   7.7946,2,    13.00,    -999,9,    -999,9,    -999,9,0.7235,2,0.55,2,-160.2,2,2.6,    -999,9,    -999,1.653,2,-999,9,-999,9,    -999,9,-999,9, 20080218,     0247, -47.5032,  29.9984,    -999,-999,1,     -999,9,     -999,9,     -999,9,     -999,9,     -999,9,     -999,9,-999,9,     -999,9,     -999,9,     -999,9,    -999,    -999
33RR20080204,       I06S,      41,          1,          5,          5,2,20080218,       0222,   -47.5013,    29.9984,       4922,  4126.8,   0.6133,  34.6910,2,  34.6897,2,    213.8,2,   213.8,2,  124.36,2,   32.35,2,    0.00,2,    2.23,2,   0.254,2,   0.139,2,   0.024,2,  2259.0,2,  2361.3,2,   7.7941,2,    13.00,    -999,9,    -999,9,    -999,9,0.6132,2,0.54,2,-165.6,2,2.5,    -999,9,    -999,1.785,2,-999,9,-999,9,   36.88,2,-999,1, 20080218,     0241, -47.5027,  29.9982,    -999,-999,9,   0.0338,2,   0.1137,2,   0.0180,3,   0.0745,2,   0.0118,2,   0.0194,3,-999,9,   0.0030,2,   0.0215,2,  -0.0002,4,    -999,    -999
33RR20080204,       I06S,      41,          1,          4,          4,2,20080218,       0222,   -47.5013,    29.9984,       4922,  4431.0,   0.5336,  34.6849,2,  34.6838,2,    216.1,2,   215.8,2,  127.04,2,   32.55,2,    0.00,2,    2.25,2,   0.271,2,   0.149,2,   0.018,2,  2259.3,2,  2358.9,2,   7.7918,2,    13.00,    -999,9,    -999,9,    -999,9,0.533,2,0.54,2,-160.6,2,2.5,    -999,9,    -999,1.999,2,-999,9,-999,9,    -999,9,-999,9, 20080218,     0234, -47.5022,  29.9980,    -999,-999,1,     -999,9,     -999,9,     -999,9,     -999,9,     -999,9,     -999,9,-999,9,     -999,9,     -999,9,     -999,9,    -999,    -999
33RR20080204,       I06S,      41,          1,          3,          3,2,20080218,       0222,   -47.5013,    29.9984,       4922,  4645.9,   0.5042,  34.6829,2,  34.6815,2,    217.5,2,   217.7,2,  127.41,2,   32.56,2,    0.00,2,    2.25,2,   0.278,2,   0.154,2,   0.034,2,  2258.0,2,  2357.4,2,   7.7912,2,    13.00,    -999,9,    -999,9,    -999,9,0.5041,2,0.55,2,-155.8,2,2.8,    -999,9,    -999,2.363,2,-999,9,-999,9,    -999,9,-999,1, 20080218,     0230, -47.5019,  29.9981,    -999,-999,9,   0.0351,2,   0.1160,2,   0.0098,4,   0.0764,2,   0.0119,2,   0.0193,3,-999,9,   0.0030,2,   0.0217,2,  -0.0004,4,    -999,    -999
33RR20080204,       I06S,      41,          1,          2,          2,2,20080218,       0222,   -47.5013,    29.9984,       4922,  4851.7,   0.3345,  34.6743,2,  34.6730,2,    221.7,2,   222.5,2,  129.32,2,   32.71,2,    0.00,2,    2.26,2,   0.338,2,   0.189,2,   0.056,2,  2256.4,2,  2358.6,2,   7.7916,2,    13.00,    -999,9,    -999,9,    -999,9,0.3349,2,-999,9,-999,9,-999,    -999,9,    -999,2.994,2,-999,9,-999,9,    -999,9,-999,9, 20080218,     0225, -47.5016,  29.9985,    -999,-999,9,     -999,9,     -999,9,     -999,9,     -999,9,     -999,9,     -999,9,-999,9,     -999,9,     -999,9,     -999,9,    -999,    -999
33RR20080204,       I06S,      41,          1,          1,          1,2,20080218,       0222,   -47.5013,    29.9984,       4922,  4973.5,   0.1835,  34.6676,2,  34.6666,2,    227.4,2,   227.7,2,  130.86,2,   32.66,2,    0.00,2,    2.25,2,   0.413,2,   0.217,2,   0.086,2,  2254.7,6,  2356.4,2,   7.7926,2,    13.00,    -999,9,    -999,9,    -999,9,0.1847,2,-999,9,-999,9,-999,    -999,9,    -999,3.197,2,-999,9,-999,9,   38.83,2,-999,1, 20080218,     0222, -47.5014,  29.9985,    -999,-999,1,   0.0326,2,   0.1145,2,   0.0190,3,   0.0752,2,   0.0109,2,   0.0206,3,-999,9,   0.0026,2,   0.0198,2,   0.0021,4,    -999,    -999