BOTTLE,20220706CCHSIOAMB
EXPOCODE,SECT_ID,STNNBR,CASTNO,SAMPNO,BTLNBR,BTLNBR_FLAG_W,DATE,TIME,LATITUDE,LONGITUDE,DEPTH,CTDPRS,CTDTMP,CTDSAL,CTDSAL_FLAG_W,SALNTY,SALNTY_FLAG_W,CTDOXY,CTDOXY_FLAG_W,OXYGEN,OXYGEN_FLAG_W,SILCAT,SILCAT_FLAG_W,NITRAT,NITRAT_FLAG_W,NITRIT,NITRIT_FLAG_W,PHSPHT,PHSPHT_FLAG_W,CFC-11,CFC-11_FLAG_W,CFC-12,CFC-12_FLAG_W,CFC113,CFC113_FLAG_W,TCARBN,TCARBN_FLAG_W,ALKALI,ALKALI_FLAG_W,PH_SWS,PH_SWS_FLAG_W,PH_TMP,TRITUM,TRITUM_FLAG_W,HELIUM,HELIUM_FLAG_W,DELHE3,DELHE3_FLAG_W,REFTMP,REFTMP_FLAG_W,DELC13,DELC13_FLAG_W,DELC14,DELC14_FLAG_W,C14ERR,NEON,NEON_FLAG_W,NEONER,CCL4,CCL4_FLAG_W,ALUMIN,ALUMIN_FLAG_W,DELO18,DELO18_FLAG_W,DOC,DOC_FLAG_W,TDN,TDN_FLAG_W,BTL_DATE,BTL_TIME,BTL_LAT,BTL_LON,TRITER,DELSI30,DELSI30_FLAG_W,CDOM380,CDOM380_FLAG_W,CDOM325,CDOM325_FLAG_W,CDOMSL,CDOMSL_FLAG_W,CDOM340,CDOM340_FLAG_W,CDOM443,CDOM443_FLAG_W,CDOMSN,CDOMSN_FLAG_W,BLACKC,BLACKC_FLAG_W,CDOM490,CDOM490_FLAG_W,CDOM412,CDOM412_FLAG_W,CDOM555,CDOM555_FLAG_W,DELHER,HELIER
,,,,,,,,,,,METERS,DBAR,ITS-90,PSS-78,,PSS-78,,UMOL/KG,,UMOL/KG,,UMOL/KG,,UMOL/KG,,UMOL/KG,,UMOL/KG,,PMOL/KG,,PMOL/KG,,PMOL/KG,,UMOL/KG,,UMOL/KG,,,,DEG C,TU,,NMOL/KG,,PERCNT,,DEG C,,/MILLE,,/MILLE,,/MILLE,NMOL/KG,,NMOL/KG,PMOL/KG,,NMOL/L,,/MILLE,,UMOL/KG,,UMOL/KG,,,,,,TU,/MILLE,,1/M,,1/M,,1/NM,,1/M,,1/M,,1/NM,,,,1/M,,1/M,,1/M,,PERCNT,NMOL/KG
33RR20080204,       I06S,     102,          1,         36,         36,2,20080307,       0220,   -67.4987,    29.9998,       3598,     2.6,  -0.7915,  34.0698,2,  34.0695,2,    338.4,2,   338.3,2,   53.14,2,   26.91,2,    0.15,2,    1.86,2,   6.155,2,   3.328,2,   0.501,2,  2182.0,6,  2310.6,2,   7.8736,2,    13.00,    -999,9,    -999,9,    -999,9,-0.7916,2,1.25,2,-111.4,2,3.0,    -999,9,    -999,7.592,2,-999,9,-999,9,   37.76,2,-999,1, 20080307,     0358, -67.4987,  29.9998,    -999,-999,9,   0.0298,2,   0.1081,2,   0.0172,3,   0.0726,2,   0.0121,2,   0.0206,3,-999,9,   0.0042,2,   0.0204,2,   0.0015,4,    -999,    -999
33RR20080204,       I06S,     102,          1,         35,         35,2,20080307,       0220,   -67.4987,    29.9998,       3598,    20.4,  -0.7927,  34.0698,2,  34.0697,2,    338.3,2,   338.9,2,   53.33,2,   26.91,2,    0.15,2,    1.86,2,   6.144,2,   3.324,2,   0.526,2,  2181.8,2,  2310.2,2,   7.8730,2,    13.00,    -999,9,    -999,9,    -999,9,-0.793,2,-999,9,-999,9,-999,    -999,9,    -999,8.156,2,-999,9,-999,9,   36.98,2,-999,1, 20080307,     0357, -67.4987,  29.9998,    -999,-999,1,   0.0309,2,   0.1127,2,   0.0189,3,   0.0766,2,   0.0109,2,   0.0222,3,-999,9,   0.0032,2,   0.0189,2,   0.0010,4,    -999,    -999
33RR20080204,       I06S,     102,          1,         34,         34,2,20080307,       0220,   -67.4987,    29.9998,       3598,    20.7,  -0.7926,  34.0698,2,  34.0695,2,     -999,9,    -999,9,   53.33,2,   26.86,2,    0.15,2,    1.85,2,    -999,9,    -999,9,    -999,9,    -999,9,    -999,9,     -999,9,     -999,    -999,9,    -999,9,    -999,9,-0.7927,2,-999,9,-999,9,-999,    -999,9,    -999,-999,9,-999,9,-999,9,    -999,9,-999,9, 20080307,     0356, -67.4987,  29.9998,    -999,-999,9,     -999,9,     -999,9,     -999,9,     -999,9,     -999,9,     -999,9,-999,1,     -999,9,     -999,9,     -999,9,    -999,    -999
33RR20080204,       I06S,     102,          1,         33,         33,2,20080307,       0220,   -67.4987,    29.9998,       3598,    35.9,  -0.7939,  34.0696,2,  34.0699,2,    338.3,2,   338.6,2,   53.34,2,   26.91,2,    0.15,2,    1.85,2,   6.108,2,   3.302,2,   0.517,2,  2180.9,2,  2314.4,2,   7.8735,3,    13.00,    -999,9,    -999,9,    -999,9,-0.7947,2,-999,9,-999,9,-999,    -999,9,    -999,7.825,2,-999,9,-999,9,   40.10,2,-999,1, 20080307,     0355, -67.4987,  29.9998,    -999,-999,1,   0.0306,2,   0.0917,2,   0.0161,3,   0.0594,2,   0.0116,2,   0.0160,3,-999,9,   0.0040,2,   0.0199,2,   0.0025,4,    -999,    -999
33RR20080204,       I06S,     102,          1,         32,         32,2,20080307,       0220,   -67.4987,    29.9998,       3598,    65.3,  -1.5412,  34.2966,2,  34.2964,2,    318.2,2,   315.2,2,   61.95,2,   29.50,2,    0.11,2,    2.06,2,   5.393,2,   2.888,2,   0.473,2,  2209.7,2,  2323.2,2,   7.8291,2,    13.00,    -999,9,    -999,9,    -999,9,-1.5449,2,1.09,2,-111.8,2,2.8,    -999,9,    -999,6.9,2,-999,9,-999,9,   47.32,2,-999,1, 20080307,     0353, -67.4987,  29.9998,    -999,-999,1,   0.0325,2,   0.1013,2,   0.0159,3,   0.0660,2,   0.0131,2,   0.0162,3,-999,9,   0.0046,2,   0.0226,2,   0.0006,2,    -999,    -999
33RR20080204,       I06S,     102,          1,         31,         31,2,20080307,       0220,   -67.4987,    29.9998,       3598,    90.9,  -1.6894,  34.3593,2,  34.3586,2,    307.5,2,   308.3,2,   64.97,2,   30.46,2,    0.10,2,    2.10,2,   5.277,2,   2.852,2,   0.462,2,  2216.7,2,  2326.7,2,   7.8137,2,    13.00,    -999,9,    -999,9,    -999,9,-1.6887,2,0.95,2,-114.9,2,2.8,    -999,9,    -999,6.803,2,-999,9,-999,9,   44.10,2,-999,1, 20080307,     0351, -67.4987,  29.9999,    -999,-999,1,   0.0289,2,   0.0958,2,   0.0172,3,   0.0612,2,   0.0104,2,   0.0181,3,-999,1,   0.0028,2,   0.0192,2,  -0.0002,4,    -999,    -999
33RR20080204,       I06S,     102,          1,         30,         30,2,20080307,       0220,   -67.4987,    29.9998,       3598,   145.3,  -1.6075,  34.3909,2,  34.3897,2,    302.4,2,   303.4,2,   66.58,2,   30.74,2,    0.03,2,    2.11,2,   5.138,2,   2.752,2,   0.524,2,  2220.5,2,  2327.5,2,   7.8079,2,    13.00,    -999,9,    -999,9,    -999,9,-1.6056,2,0.91,2,-108.4,2,3.3,    -999,9,    -999,6.162,2,-999,9,-999,9,   39.71,2,-999,1, 20080307,     0349, -67.4987,  29.9998,    -999,-999,1,   0.0274,2,   0.0939,2,   0.0171,3,   0.0592,2,   0.0101,2,   0.0186,3,-999,9,   0.0029,2,   0.0185,2,  -0.0001,4,    -999,    -999
33RR20080204,       I06S,     102,          1,         28,         28,2,20080307,       0220,   -67.4987,    29.9998,       3598,   195.3,  -1.0218,  34.4502,2,     -999,9,     -999,9,    -999,9,   71.41,2,   31.05,2,    0.01,2,    2.14,2,    -999,9,    -999,9,    -999,9,    -999,9,  2330.7,2,     -999,9,     -999,    -999,9,    -999,9,    -999,9,-1.0266,2,-999,9,-999,9,-999,    -999,9,    -999,-999,9,-999,9,-999,9,   39.02,2,-999,9, 20080307,     0346, -67.4987,  29.9999,    -999,-999,9,     -999,9,     -999,9,     -999,9,     -999,9,     -999,9,     -999,9,-999,1,     -999,9,     -999,9,     -999,9,    -999,    -999
33RR20080204,       I06S,     102,          1,         29,         29,2,20080307,       0220,   -67.4987,    29.9998,       3598,   196.5,  -1.0374,  34.4483,2,  34.4471,2,    287.9,2,   282.0,2,   71.21,2,   31.15,2,    0.01,2,    2.14,2,   4.385,2,   2.328,2,   0.380,2,  2228.0,2,  2331.4,2,   7.7936,4,    13.00,    -999,9,    -999,9,    -999,9,-1.0384,2,0.91,2,-121.0,2,2.4,    -999,9,    -999,5.191,2,-999,9,-999,9,    -999,9,-999,1, 20080307,     0347, -67.4987,  29.9999,    -999,-999,1,   0.0287,2,   0.0979,2,   0.0179,3,   0.0617,2,   0.0097,2,   0.0187,3,-999,9,   0.0021,2,   0.0184,2,  -0.0006,4,    -999,    -999
33RR20080204,       I06S,     102,          1,         27,         27,2,20080307,       0220,   -67.4987,    29.9998,       3598,   235.6,  -0.3521,  34.5171,2,  34.5236,2,    256.9,2,   253.1,2,   77.86,2,   31.55,2,    0.01,2,    2.18,2,   3.244,2,   1.702,2,   0.291,2,  2236.1,2,  2336.7,2,   7.7841,4,    13.00,    -999,9,    -999,9,    -999,9,-0.3399,2,0.73,2,-133.7,2,2.4,    -999,9,    -999,3.959,2,-999,9,-999,9,    -999,9,-999,1, 20080307,     0345, -67.4987,  29.9998,    -999,-999,1,   0.0342,2,   0.1076,2,   0.0175,3,   0.0706,2,   0.0118,2,   0.0177,3,-999,9,   0.0038,2,   0.0215,2,   0.0004,3,    -999,    -999
33RR20080204,       I06S,     102,          1,         26,         26,2,20080307,       0220,   -67.4987,    29.9998,       3598,   286.5,   0.4003,  34.6007,2,  34.6001,2,    226.5,2,   226.7,2,   84.74,2,   31.90,2,    0.01,2,    2.21,2,   2.277,2,   1.181,2,   0.201,2,  2244.9,2,  2341.8,2,   7.7779,3,    13.00,    -999,9,    -999,9,    -999,9,0.4043,2,-0.65,4,-136.1,2,2.4,    -999,9,    -999,3.005,2,-999,9,-999,9,    -999,9,-999,9, 20080307,     0343, -67.4987,  29.9998,    -999,-999,9,     -999,9,     -999,9,     -999,9,     -999,9,     -999,9,     -999,9,-999,9,     -999,9,     -999,9,     -999,9,    -999,    -999
33RR20080204,       I06S,     102,          1,         25,         25,2,20080307,       0220,   -67.4987,    29.9998,       3598,   336.2,   0.6536,  34.6395,2,  34.6370,2,    221.1,2,   219.2,2,   88.18,2,   31.75,2,    0.01,2,    2.19,2,   1.707,2,   0.895,2,   0.129,2,  2245.1,2,  2344.4,2,   7.7794,2,    13.00,    -999,9,    -999,9,    -999,9,0.6585,2,0.56,2,-139.2,2,2.5,    -999,9,    -999,2.306,2,-999,9,-999,9,   38.63,2,-999,1, 20080307,     0341, -67.4987,  29.9999,    -999,-999,1,   0.0446,2,   0.1275,2,   0.0155,3,   0.0864,2,   0.0182,2,   0.0155,3,-999,9,   0.0077,2,   0.0298,2,   0.0025,2,    -999,    -999
33RR20080204,       I06S,     102,          1,         24,         24,2,20080307,       0220,   -67.4987,    29.9998,       3598,   387.0,   0.7330,  34.6589,2,  34.6582,2,    216.9,2,   215.9,2,   90.01,2,   31.65,2,    0.01,2,    2.19,2,   1.414,2,   0.743,2,   0.117,2,  2247.4,2,  2347.5,2,   7.7815,3,    13.00,    -999,9,    -999,9,    -999,9,0.7341,2,0.6,2,-146.4,2,2.8,    -999,9,    -999,2.15,2,-999,9,-999,9,    -999,9,-999,9, 20080307,     0339, -67.4987,  29.9998,    -999,-999,9,     -999,9,     -999,9,     -999,9,     -999,9,     -999,9,     -999,9,-999,1,     -999,9,     -999,9,     -999,9,    -999,    -999
33RR20080204,       I06S,     102,          1,         23,         23,9,20080307,       0220,   -67.4987,    29.9998,       3598,   436.1,   0.6689,  34.6598,2,     -999,9,     -999,9,    -999,9,    -999,9,    -999,9,    -999,9,    -999,9,    -999,9,    -999,9,    -999,9,    -999,9,    -999,9,     -999,9,     -999,    -999,9,    -999,9,    -999,9,0.6689,2,-999,9,-999,9,-999,    -999,9,    -999,-999,9,-999,9,-999,9,    -999,9,-999,9, 20080307,     0338, -67.4987,  29.9998,    -999,-999,9,     -999,9,     -999,9,     -999,9,     -999,9,     -999,9,     -999,9,-999,9,     -999,9,     -999,9,     -999,9,    -999,    -999
33RR20080204,       I06S,     102,          1,         22,         22,2,20080307,       0220,   -67.4987,    29.9998,       3598,   487.9,   0.6931,  34.6691,2,  34.6680,2,    213.5,2,   216.1,2,   93.87,2,   31.45,2,    0.00,2,    2.18,2,   1.259,2,   0.657,2,   0.089,2,  2247.3,2,  2349.4,2,     -999,5,    13.00,    -999,9,    -999,9,    -999,9,0.6924,2,0.61,2,-148.7,2,2.6,    -999,9,    -999,1.925,2,-999,9,-999,9,    -999,9,-999,9, 20080307,     0336, -67.4987,  29.9999,    -999,-999,1,     -999,9,     -999,9,     -999,9,     -999,9,     -999,9,     -999,9,-999,9,     -999,9,     -999,9,     -999,9,    -999,    -999
33RR20080204,       I06S,     102,          1,         21,         21,2,20080307,       0220,   -67.4987,    29.9998,       3598,   566.9,   0.6730,  34.6774,2,  34.6768,2,    214.3,2,   214.7,2,   97.53,2,   31.50,2,    0.00,2,    2.19,2,   1.060,2,   0.561,2,   0.092,2,  2248.2,2,  2351.0,2,   7.7882,2,    13.00,    -999,9,    -999,9,    -999,9,0.6731,2,0.59,2,-149.9,2,2.6,    -999,9,    -999,1.797,2,-999,9,-999,9,   38.83,2,-999,1, 20080307,     0333, -67.4987,  29.9998,    -999,-999,9,   0.0435,2,   0.1264,2,   0.0157,3,   0.0862,2,   0.0177,2,   0.0157,3,-999,9,   0.0077,2,   0.0289,2,   0.0025,2,    -999,    -999
33RR20080204,       I06S,     102,          1,         20,         20,2,20080307,       0220,   -67.4987,    29.9998,       3598,   668.1,   0.6500,  34.6817,2,  34.6815,2,    214.3,2,   213.6,2,  100.59,2,   31.66,2,    0.00,2,    2.19,2,   0.925,2,   0.501,2,   0.075,2,  2249.5,2,  2352.8,2,   7.7865,4,    13.00,    -999,9,    -999,9,    -999,9,0.65,2,0.59,2,-153.6,2,2.6,    -999,9,    -999,1.615,2,-999,9,-999,9,    -999,9,-999,9, 20080307,     0330, -67.4987,  29.9998,    -999,-999,1,     -999,9,     -999,9,     -999,9,     -999,9,     -999,9,     -999,9,-999,9,     -999,9,     -999,9,     -999,9,    -999,    -999
33RR20080204,       I06S,     102,          1,         19,         19,2,20080307,       0220,   -67.4987,    29.9998,       3598,   768.3,   0.5915,  34.6821,2,  34.6818,2,    214.2,2,   213.5,2,  103.86,2,   31.80,2,    0.00,2,    2.21,2,   0.870,2,   0.473,2,   0.076,2,  2252.0,2,  2352.5,2,   7.7857,2,    13.00,    -999,9,    -999,9,    -999,9,0.5914,2,0.58,2,-154.0,2,2.6,    -999,9,    -999,1.595,2,-999,9,-999,9,   41.66,2,-999,1, 20080307,     0327, -67.4987,  29.9998,    -999,-999,9,   0.0345,2,   0.1124,2,   0.0177,3,   0.0735,2,   0.0119,2,   0.0182,3,-999,9,   0.0033,2,   0.0222,2,  -0.0002,4,    -999,    -999
33RR20080204,       I06S,     102,          1,         18,         18,2,20080307,       0220,   -67.4987,    29.9998,       3598,   869.2,   0.5232,  34.6806,2,  34.6794,2,    214.6,2,   214.7,2,  105.90,2,   31.85,2,    0.00,2,    2.21,2,   0.840,2,   0.459,2,   0.077,2,  2254.2,2,  2355.1,2,   7.7874,2,    13.00,    -999,9,    -999,9,    -999,9,0.523,2,0.59,2,-156.0,2,3.2,    -999,9,    -999,1.634,2,-999,9,-999,9,    -999,9,-999,9, 20080307,     0324, -67.4987,  29.9999,    -999,-999,1,     -999,9,     -999,9,     -999,9,     -999,9,     -999,9,     -999,9,-999,9,     -999,9,     -999,9,     -999,9,    -999,    -999
33RR20080204,       I06S,     102,          1,         17,         17,2,20080307,       0220,   -67.4987,    29.9998,       3598,   974.7,   0.4734,  34.6805,2,  34.6806,2,    215.0,2,   214.7,2,  109.18,2,   32.11,2,    0.00,2,    2.22,2,   0.774,2,   0.411,2,   0.066,2,  2257.3,2,  2355.0,2,   7.7847,2,    13.00,    -999,9,    -999,9,    -999,9,0.4732,2,0.51,2,-156.6,2,2.6,    -999,9,    -999,1.45,2,-999,9,-999,9,   39.41,2,-999,1, 20080307,     0322, -67.4987,  29.9998,    -999,-999,9,   0.0382,2,   0.1162,2,   0.0173,3,   0.0774,2,   0.0135,2,   0.0173,3,-999,9,   0.0047,2,   0.0237,2,   0.0008,2,    -999,    -999
33RR20080204,       I06S,     102,          1,         16,         16,2,20080307,       0220,   -67.4987,    29.9998,       3598,  1076.4,   0.4178,  34.6790,2,  34.6790,2,    214.1,2,   215.5,2,  111.23,2,   32.20,2,    0.00,2,    2.22,2,   0.728,2,   0.396,2,   0.053,2,  2256.7,2,  2356.0,2,   7.7835,2,    13.00,    -999,9,    -999,9,    -999,9,0.4176,2,0.56,2,-166.8,2,2.6,    -999,9,    -999,1.339,2,-999,9,-999,9,   39.32,2,-999,1, 20080307,     0319, -67.4987,  29.9998,    -999,-999,1,   0.0405,2,   0.1231,2,   0.0161,3,   0.0833,2,   0.0162,2,   0.0163,3,-999,9,   0.0072,2,   0.0266,2,   0.0023,2,    -999,    -999
33RR20080204,       I06S,     102,          1,         15,         15,2,20080307,       0220,   -67.4987,    29.9998,       3598,  1177.5,   0.3904,  34.6762,3,  34.6802,2,    213.3,2,   214.3,2,  114.30,2,   32.30,2,    0.00,2,    2.23,2,   0.610,2,   0.336,2,   0.040,2,  2257.7,2,  2357.4,2,   7.7817,2,    13.00,    -999,9,    -999,9,    -999,9,0.3904,2,0.53,2,-169.1,2,3.4,    -999,9,    -999,1.207,2,-999,9,-999,9,    -999,9,-999,9, 20080307,     0316, -67.4987,  29.9999,    -999,-999,9,     -999,9,     -999,9,     -999,9,     -999,9,     -999,9,     -999,9,-999,9,     -999,9,     -999,9,     -999,9,    -999,    -999
33RR20080204,       I06S,     102,          1,         14,         14,2,20080307,       0220,   -67.4987,    29.9998,       3598,  1277.4,   0.3536,  34.6721,3,  34.6800,2,    214.9,2,   214.1,2,  115.95,2,   32.36,2,    0.00,2,    2.23,2,   0.580,2,   0.316,2,   0.045,2,  2257.2,2,  2356.9,2,   7.7825,2,    13.00,    -999,9,    -999,9,    -999,9,0.3546,2,0.52,2,-169.3,2,3.5,    -999,9,    -999,1.156,2,-999,9,-999,9,   38.54,2,-999,1, 20080307,     0313, -67.4987,  29.9998,    -999,-999,9,   0.0349,2,   0.1142,2,   0.0177,3,   0.0749,2,   0.0124,2,   0.0185,3,-999,9,   0.0042,2,   0.0220,2,   0.0007,2,    -999,    -999
33RR20080204,       I06S,     102,          1,         13,         13,2,20080307,       0220,   -67.4987,    29.9998,       3598,  1383.2,   0.2973,  34.6749,3,  34.6775,2,    216.3,2,   216.7,2,  117.19,2,   32.41,2,    0.00,2,    2.24,2,   0.582,2,   0.320,2,   0.035,2,  2257.2,2,  2356.4,2,   7.7806,3,    13.00,    -999,9,    -999,9,    -999,9,0.2982,2,0.6,2,-152.9,2,2.6,    -999,9,    -999,1.204,2,-999,9,-999,9,    -999,9,-999,9, 20080307,     0311, -67.4987,  29.9999,    -999,-999,9,     -999,9,     -999,9,     -999,9,     -999,9,     -999,9,     -999,9,-999,9,     -999,9,     -999,9,     -999,9,    -999,    -999
33RR20080204,       I06S,     102,          1,         12,         12,2,20080307,       0220,   -67.4987,    29.9998,       3598,  1483.1,   0.2503,  34.6731,3,  34.6738,2,    217.6,2,   217.7,2,  117.82,2,   32.46,2,    0.00,2,    2.24,2,   0.626,2,   0.342,2,   0.045,2,  2257.8,2,  2357.3,2,   7.7707,3,    13.00,    -999,9,    -999,9,    -999,9,0.2516,2,-0.15,3,-151.4,2,2.4,    -999,9,    -999,1.27,2,-999,9,-999,9,   38.54,2,-999,1, 20080307,     0308, -67.4987,  29.9999,    -999,-999,9,   0.0324,2,   0.1086,2,   0.0184,3,   0.0702,2,   0.0106,2,   0.0193,3,-999,9,   0.0027,2,   0.0199,2,  -0.0003,4,    -999,    -999
33RR20080204,       I06S,     102,          1,         11,         11,2,20080307,       0220,   -67.4987,    29.9998,       3598,  1585.3,   0.2135,  34.6658,3,  34.6736,2,    218.2,2,   218.6,2,  119.05,2,   32.51,2,    0.00,2,    2.24,2,   0.599,2,   0.332,2,   0.041,2,  2257.3,2,  2355.6,2,   7.7820,4,    13.00,    -999,9,    -999,9,    -999,9,0.2142,2,0.62,2,-166.9,2,2.7,    -999,9,    -999,1.258,2,-999,9,-999,9,    -999,9,-999,9, 20080307,     0305, -67.4987,  29.9998,    -999,-999,1,     -999,9,     -999,9,     -999,9,     -999,9,     -999,9,     -999,9,-999,9,     -999,9,     -999,9,     -999,9,    -999,    -999
33RR20080204,       I06S,     102,          1,         10,         10,2,20080307,       0220,   -67.4987,    29.9998,       3598,  1685.2,   0.1529,  34.6672,3,  34.6698,2,    221.1,2,   221.2,2,  119.27,2,   32.41,2,    0.00,2,    2.24,2,   0.697,2,   0.379,2,   0.051,2,  2257.0,2,  2356.9,2,   7.7836,2,    13.00,    -999,9,    -999,9,    -999,9,0.1543,2,0.64,2,-162.0,2,2.6,    -999,9,    -999,1.314,2,-999,9,-999,9,   40.68,2,-999,1, 20080307,     0302, -67.4987,  29.9999,    -999,-999,9,   0.0355,2,   0.1129,2,   0.0178,3,   0.0734,2,   0.0118,2,   0.0181,3,-999,9,   0.0031,2,   0.0220,2,  -0.0001,4,    -999,    -999
33RR20080204,       I06S,     102,          1,          9,          9,2,20080307,       0220,   -67.4987,    29.9998,       3598,  1786.4,   0.1319,  34.6670,3,  34.6701,2,    222.1,2,   220.7,2,  120.30,2,   32.51,2,    0.00,2,    2.25,2,   0.640,2,   0.353,2,   0.048,2,  2256.3,2,  2355.4,2,   7.7829,2,    13.00,    -999,9,    -999,9,    -999,9,0.133,2,0.56,2,-162.2,2,2.6,    -999,9,    -999,1.23,2,-999,9,-999,9,    -999,9,-999,9, 20080307,     0259, -67.4987,  29.9998,    -999,-999,9,     -999,9,     -999,9,     -999,9,     -999,9,     -999,9,     -999,9,-999,9,     -999,9,     -999,9,     -999,9,    -999,    -999
33RR20080204,       I06S,     102,          1,          8,          8,2,20080307,       0220,   -67.4987,    29.9998,       3598,  1989.0,   0.0631,  34.6643,3,  34.6677,2,    224.7,2,   224.0,2,  120.52,2,   32.46,2,    0.00,2,    2.24,2,   0.686,2,   0.377,2,   0.052,2,  2254.9,2,  2355.4,2,   7.7835,2,    13.00,    -999,9,    -999,9,    -999,9,0.0643,2,0.63,2,-158.8,2,2.6,    -999,9,    -999,1.37,2,-999,9,-999,9,   39.02,2,-999,1, 20080307,     0255, -67.4987,  29.9999,    -999,-999,9,   0.0400,2,   0.1204,2,   0.0157,3,   0.0808,2,   0.0165,2,   0.0158,3,-999,1,   0.0068,2,   0.0273,2,   0.0022,2,    -999,    -999