BOTTLE,20220706CCHSIOAMB
EXPOCODE,SECT_ID,STNNBR,CASTNO,SAMPNO,BTLNBR,BTLNBR_FLAG_W,DATE,TIME,LATITUDE,LONGITUDE,DEPTH,CTDPRS,CTDTMP,CTDSAL,CTDSAL_FLAG_W,SALNTY,SALNTY_FLAG_W,CTDOXY,CTDOXY_FLAG_W,OXYGEN,OXYGEN_FLAG_W,SILCAT,SILCAT_FLAG_W,NITRAT,NITRAT_FLAG_W,NITRIT,NITRIT_FLAG_W,PHSPHT,PHSPHT_FLAG_W,CFC-11,CFC-11_FLAG_W,CFC-12,CFC-12_FLAG_W,CFC113,CFC113_FLAG_W,TCARBN,TCARBN_FLAG_W,ALKALI,ALKALI_FLAG_W,PH_SWS,PH_SWS_FLAG_W,PH_TMP,TRITUM,TRITUM_FLAG_W,HELIUM,HELIUM_FLAG_W,DELHE3,DELHE3_FLAG_W,REFTMP,REFTMP_FLAG_W,DELC13,DELC13_FLAG_W,DELC14,DELC14_FLAG_W,C14ERR,NEON,NEON_FLAG_W,NEONER,CCL4,CCL4_FLAG_W,ALUMIN,ALUMIN_FLAG_W,DELO18,DELO18_FLAG_W,DOC,DOC_FLAG_W,TDN,TDN_FLAG_W,BTL_DATE,BTL_TIME,BTL_LAT,BTL_LON,TRITER,DELSI30,DELSI30_FLAG_W,CDOM380,CDOM380_FLAG_W,CDOM325,CDOM325_FLAG_W,CDOMSL,CDOMSL_FLAG_W,CDOM340,CDOM340_FLAG_W,CDOM443,CDOM443_FLAG_W,CDOMSN,CDOMSN_FLAG_W,BLACKC,BLACKC_FLAG_W,CDOM490,CDOM490_FLAG_W,CDOM412,CDOM412_FLAG_W,CDOM555,CDOM555_FLAG_W,DELHER,HELIER
,,,,,,,,,,,METERS,DBAR,ITS-90,PSS-78,,PSS-78,,UMOL/KG,,UMOL/KG,,UMOL/KG,,UMOL/KG,,UMOL/KG,,UMOL/KG,,PMOL/KG,,PMOL/KG,,PMOL/KG,,UMOL/KG,,UMOL/KG,,,,DEG C,TU,,NMOL/KG,,PERCNT,,DEG C,,/MILLE,,/MILLE,,/MILLE,NMOL/KG,,NMOL/KG,PMOL/KG,,NMOL/L,,/MILLE,,UMOL/KG,,UMOL/KG,,,,,,TU,/MILLE,,1/M,,1/M,,1/NM,,1/M,,1/M,,1/NM,,,,1/M,,1/M,,1/M,,PERCNT,NMOL/KG
33RR20080204,       I06S,      61,          2,         36,         36,2,20080224,       1901,   -57.4982,    30.0001,       5449,     7.2,   1.4463,  33.9350,2,  33.9358,2,    337.0,2,   336.7,2,   46.39,2,   25.38,2,    0.30,2,    1.68,2,   5.288,6,   3.271,6,   0.510,6,  2160.8,6,  2301.2,2,   7.9142,3,    13.00,    -999,9,    -999,9,    -999,9,1.4455,2,1.45,2,-99.5,2,3.3,    -999,9,    -999,11.343,6,-999,9,-999,9,    -999,9,-999,1, 20080224,     2129, -57.4984,  30.0001,    -999,-999,9,     -999,9,     -999,9,     -999,9,     -999,9,     -999,9,     -999,9,-999,9,     -999,9,     -999,9,     -999,9,    -999,    -999
33RR20080204,       I06S,      61,          2,         35,         35,2,20080224,       1901,   -57.4982,    30.0001,       5449,    24.8,   1.4481,  33.9364,2,  33.9375,2,    337.4,2,   336.5,2,   46.39,2,   25.38,2,    0.30,2,    1.68,2,   5.450,2,   3.297,2,   0.518,2,    -999,9,  2302.8,2,   7.9138,3,    13.00,    -999,9,    -999,9,    -999,9,1.4477,2,-999,9,-999,9,-999,    -999,9,    -999,11.258,2,-999,9,-999,9,    -999,9,-999,1, 20080224,     2127, -57.4983,  30.0001,    -999,-999,1,     -999,9,     -999,9,     -999,9,     -999,9,     -999,9,     -999,9,-999,9,     -999,9,     -999,9,     -999,9,    -999,    -999
33RR20080204,       I06S,      61,          2,         34,         34,2,20080224,       1901,   -57.4982,    30.0001,       5449,    47.2,   1.4681,  33.9567,2,  33.9526,2,    333.3,2,   334.9,2,   45.09,2,   25.64,2,    0.29,2,    1.69,2,   5.443,2,   3.308,2,   0.527,2,    -999,9,  2302.7,2,   7.9110,2,    13.00,    -999,9,    -999,9,    -999,9,1.468,2,-999,9,-999,9,-999,    -999,9,    -999,10.575,2,-999,9,-999,9,    -999,9,-999,1, 20080224,     2125, -57.4983,  30.0000,    -999,-999,1,     -999,9,     -999,9,     -999,9,     -999,9,     -999,9,     -999,9,-999,9,     -999,9,     -999,9,     -999,9,    -999,    -999
33RR20080204,       I06S,      61,          2,         33,         33,2,20080224,       1901,   -57.4982,    30.0001,       5449,    76.1,   1.4701,  33.9738,2,  33.9746,2,    333.0,2,   333.9,2,   43.24,2,   25.93,2,    0.28,2,    1.73,2,   5.493,2,   3.310,2,   0.511,2,  2163.8,2,  2304.7,2,   7.9046,3,    13.00,    -999,9,    -999,9,    -999,9,1.4719,2,1.42,2,-96.5,2,2.8,    -999,9,    -999,10.146,2,-999,9,-999,9,    -999,9,-999,1, 20080224,     2123, -57.4983,  30.0000,    -999,-999,1,     -999,9,     -999,9,     -999,9,     -999,9,     -999,9,     -999,9,-999,9,     -999,9,     -999,9,     -999,9,    -999,    -999
33RR20080204,       I06S,      61,          2,         32,         32,2,20080224,       1901,   -57.4982,    30.0001,       5449,   103.0,   1.0146,  34.0112,2,  34.0134,2,    335.2,2,   330.1,2,   46.39,2,   26.90,2,    0.26,2,    1.87,2,   5.492,2,   3.265,2,   0.496,2,    -999,9,  2303.4,2,   7.8830,2,    13.00,    -999,9,    -999,9,    -999,9,1.1029,3,-999,9,-999,9,-999,    -999,9,    -999,9.249,2,-999,9,-999,9,    -999,9,-999,1, 20080224,     2121, -57.4982,  30.0000,    -999,-999,1,     -999,9,     -999,9,     -999,9,     -999,9,     -999,9,     -999,9,-999,9,     -999,9,     -999,9,     -999,9,    -999,    -999
33RR20080204,       I06S,      61,          2,         31,         31,2,20080224,       1901,   -57.4982,    30.0001,       5449,   151.0,   0.3516,  34.2247,2,  34.2206,2,    271.2,2,   288.2,2,   63.91,2,   31.44,2,    0.06,2,    2.20,2,   4.533,2,   2.608,2,   0.397,2,  2211.2,2,  2314.2,2,   7.8005,2,    13.00,    -999,9,    -999,9,    -999,9,0.3493,2,0.92,2,-109.6,2,2.9,    -999,9,    -999,7.0,2,-999,9,-999,9,    -999,9,-999,1, 20080224,     2119, -57.4982,  30.0001,    -999,-999,1,     -999,9,     -999,9,     -999,9,     -999,9,     -999,9,     -999,9,-999,9,     -999,9,     -999,9,     -999,9,    -999,    -999
33RR20080204,       I06S,      61,          2,         30,         30,2,20080224,       1901,   -57.4982,    30.0001,       5449,   203.4,   1.6476,  34.4729,2,  34.4739,2,    202.2,2,   196.7,2,   74.20,2,   34.34,2,    0.01,2,    2.39,2,   1.905,2,   1.009,2,   0.142,2,    -999,9,  2328.0,2,   7.7378,2,    13.00,    -999,9,    -999,9,    -999,9,1.6548,2,-999,9,-999,9,-999,    -999,9,    -999,2.825,2,-999,9,-999,9,    -999,9,-999,1, 20080224,     2117, -57.4982,  30.0000,    -999,-999,1,     -999,9,     -999,9,     -999,9,     -999,9,     -999,9,     -999,9,-999,9,     -999,9,     -999,9,     -999,9,    -999,    -999
33RR20080204,       I06S,      61,          2,         29,         29,2,20080224,       1901,   -57.4982,    30.0001,       5449,   254.1,   1.8738,  34.5553,2,  34.5513,2,    179.9,2,   183.2,2,   78.14,2,   34.39,2,    0.01,2,    2.39,2,    -999,5,    -999,5,    -999,5,  2251.2,2,  2333.7,2,   7.7363,3,    13.00,    -999,9,    -999,9,    -999,9,1.8634,2,0.5,2,-137.1,2,3.6,    -999,9,    -999,-999,5,-999,9,-999,9,    -999,9,-999,1, 20080224,     2114, -57.4982,  30.0000,    -999,-999,1,     -999,9,     -999,9,     -999,9,     -999,9,     -999,9,     -999,9,-999,9,     -999,9,     -999,9,     -999,9,    -999,    -999
33RR20080204,       I06S,      61,          2,         28,         28,2,20080224,       1901,   -57.4982,    30.0001,       5449,   305.2,   1.8846,  34.6025,2,  34.6027,2,    180.8,2,   180.1,2,   81.72,2,   33.97,2,    0.00,2,    2.36,2,   0.875,2,   0.483,2,   0.068,2,    -999,9,  2340.7,2,   7.7370,4,    13.00,    -999,9,    -999,9,    -999,9,1.8816,2,0.5,2,-144.5,2,2.9,    -999,9,    -999,1.802,2,-999,9,-999,9,    -999,9,-999,1, 20080224,     2112, -57.4982,  30.0000,    -999,-999,1,     -999,9,     -999,9,     -999,9,     -999,9,     -999,9,     -999,9,-999,9,     -999,9,     -999,9,     -999,9,    -999,    -999
33RR20080204,       I06S,      61,          2,         27,         27,2,20080224,       1901,   -57.4982,    30.0001,       5449,   356.4,   1.9423,  34.6501,2,  34.6505,2,    180.6,2,   178.8,2,   83.22,2,   33.31,2,    0.00,2,    2.32,2,   0.578,2,   0.347,2,   0.064,2,  2253.8,2,  2342.4,2,   7.7526,2,    13.00,    -999,9,    -999,9,    -999,9,1.9439,2,0.5,2,-153.2,2,3.4,    -999,9,    -999,1.387,2,-999,9,-999,9,    -999,9,-999,9, 20080224,     2110, -57.4982,  30.0000,    -999,-999,9,     -999,9,     -999,9,     -999,9,     -999,9,     -999,9,     -999,9,-999,9,     -999,9,     -999,9,     -999,9,    -999,    -999
33RR20080204,       I06S,      61,          2,         26,         26,2,20080224,       1901,   -57.4982,    30.0001,       5449,   405.0,   1.8289,  34.6630,2,  34.6633,2,    182.1,2,   181.5,2,   86.04,2,   33.03,2,    0.00,2,    2.30,2,   0.600,2,   0.334,2,   0.046,2,    -999,9,  2345.8,2,   7.7555,3,    13.00,    -999,9,    -999,9,    -999,9,1.8289,2,0.51,2,-139.2,2,2.8,    -999,9,    -999,0.948,2,-999,9,-999,9,    -999,9,-999,1, 20080224,     2107, -57.4982,  30.0000,    -999,-999,1,     -999,9,     -999,9,     -999,9,     -999,9,     -999,9,     -999,9,-999,9,     -999,9,     -999,9,     -999,9,    -999,    -999
33RR20080204,       I06S,      61,          2,         25,         25,2,20080224,       1901,   -57.4982,    30.0001,       5449,   454.1,   1.8251,  34.6839,2,  34.6853,2,    184.7,2,   185.1,2,   86.42,2,   32.52,2,    0.00,2,    2.26,2,   0.499,2,   0.278,2,   0.034,2,  2250.9,2,  2346.3,2,   7.7665,2,    13.00,    -999,9,    -999,9,    -999,9,1.8244,2,0.49,2,-149.2,2,3.1,    -999,9,    -999,1.192,2,-999,9,-999,9,    -999,9,-999,9, 20080224,     2104, -57.4982,  30.0000,    -999,-999,9,     -999,9,     -999,9,     -999,9,     -999,9,     -999,9,     -999,9,-999,9,     -999,9,     -999,9,     -999,9,    -999,    -999
33RR20080204,       I06S,      61,          2,         24,         24,2,20080224,       1901,   -57.4982,    30.0001,       5449,   504.1,   1.7675,  34.6973,2,  34.6979,2,    187.9,2,   187.9,2,   86.80,2,   32.00,2,    0.00,2,    2.23,2,   0.468,2,   0.269,2,   0.033,2,    -999,9,  2347.9,2,   7.7747,2,    13.00,    -999,9,    -999,9,    -999,9,1.7625,2,0.49,2,-154.7,2,3.6,    -999,9,    -999,1.129,2,-999,9,-999,9,    -999,9,-999,1, 20080224,     2102, -57.4981,  30.0000,    -999,-999,9,     -999,9,     -999,9,     -999,9,     -999,9,     -999,9,     -999,9,-999,9,     -999,9,     -999,9,     -999,9,    -999,    -999
33RR20080204,       I06S,      61,          2,         23,         23,2,20080224,       1901,   -57.4982,    30.0001,       5449,   605.0,   1.4809,  34.6975,2,  34.6989,2,    194.2,2,   193.9,2,   92.64,2,   31.96,2,    0.00,2,    2.23,2,   0.544,2,   0.306,2,   0.041,2,  2250.4,2,  2348.8,2,   7.7786,3,    13.00,    -999,9,    -999,9,    -999,9,1.4802,2,0.48,2,-154.9,2,5.3,    -999,9,    -999,1.161,2,-999,9,-999,9,    -999,9,-999,1, 20080224,     2058, -57.4980,  30.0001,    -999,-999,1,     -999,9,     -999,9,     -999,9,     -999,9,     -999,9,     -999,9,-999,9,     -999,9,     -999,9,     -999,9,    -999,    -999
33RR20080204,       I06S,      61,          2,         22,         22,2,20080224,       1901,   -57.4982,    30.0001,       5449,   710.2,   1.4789,  34.7147,2,  34.7162,2,    195.3,2,   196.1,2,   93.02,2,   31.44,2,    0.00,2,    2.19,2,   0.418,2,   0.242,2,   0.034,2,    -999,9,  2352.5,2,   7.7886,3,    13.00,    -999,9,    -999,9,    -999,9,1.4787,2,0.5,2,-154.0,2,2.7,    -999,9,    -999,0.97,2,-999,9,-999,9,    -999,9,-999,1, 20080224,     2054, -57.4980,  30.0001,    -999,-999,9,     -999,9,     -999,9,     -999,9,     -999,9,     -999,9,     -999,9,-999,9,     -999,9,     -999,9,     -999,9,    -999,    -999
33RR20080204,       I06S,      61,          2,         21,         21,2,20080224,       1901,   -57.4982,    30.0001,       5449,   810.9,   1.4462,  34.7279,2,  34.7286,2,    198.2,2,   199.0,2,   94.34,2,   31.02,2,    0.00,2,    2.16,2,   0.315,2,   0.185,2,   0.025,2,  2246.5,2,  2352.0,2,   7.7979,2,    13.00,    -999,9,    -999,9,    -999,9,1.4441,2,0.55,2,-152.1,2,2.9,    -999,9,    -999,0.862,2,-999,9,-999,9,    -999,9,-999,1, 20080224,     2051, -57.4981,  30.0000,    -999,-999,1,     -999,9,     -999,9,     -999,9,     -999,9,     -999,9,     -999,9,-999,9,     -999,9,     -999,9,     -999,9,    -999,    -999
33RR20080204,       I06S,      61,          2,         20,         20,2,20080224,       1901,   -57.4982,    30.0001,       5449,   914.2,   1.3354,  34.7292,2,  34.7292,2,    200.3,2,   201.4,2,   97.18,2,   31.03,2,    0.00,2,    2.16,2,   0.294,2,   0.161,2,   0.017,2,    -999,9,  2353.6,2,   7.7996,2,    13.00,    -999,9,    -999,9,    -999,9,1.338,2,0.55,2,-151.6,2,2.8,    -999,9,    -999,0.783,2,-999,9,-999,9,    -999,9,-999,9, 20080224,     2047, -57.4982,  30.0001,    -999,-999,9,     -999,9,     -999,9,     -999,9,     -999,9,     -999,9,     -999,9,-999,9,     -999,9,     -999,9,     -999,9,    -999,    -999
33RR20080204,       I06S,      61,          2,         19,         19,2,20080224,       1901,   -57.4982,    30.0001,       5449,  1015.1,   1.1892,  34.7225,2,  34.7235,2,    201.9,2,   202.4,2,  100.59,2,   31.27,2,    0.00,2,    2.17,2,   0.313,2,   0.181,2,   0.023,2,  2248.6,6,  2355.7,2,   7.7980,2,    13.00,    -999,9,    -999,9,    -999,9,1.1886,2,0.54,2,-150.2,2,2.7,    -999,9,    -999,0.825,2,-999,9,-999,9,    -999,9,-999,1, 20080224,     2044, -57.4982,  30.0001,    -999,-999,1,     -999,9,     -999,9,     -999,9,     -999,9,     -999,9,     -999,9,-999,9,     -999,9,     -999,9,     -999,9,    -999,    -999
33RR20080204,       I06S,      61,          2,         18,         18,2,20080224,       1901,   -57.4982,    30.0001,       5449,  1219.1,   0.9360,  34.7091,2,  34.7095,2,    204.0,2,   202.6,2,  107.80,2,   31.81,2,    0.00,2,    2.20,2,   0.355,2,   0.196,2,   0.026,2,    -999,9,  2358.0,2,   7.7929,2,    13.00,    -999,9,    -999,9,    -999,9,0.9356,2,0.65,2,-149.5,2,2.8,    -999,9,    -999,0.861,2,-999,9,-999,9,    -999,9,-999,9, 20080224,     2039, -57.4982,  30.0000,    -999,-999,9,     -999,9,     -999,9,     -999,9,     -999,9,     -999,9,     -999,9,-999,9,     -999,9,     -999,9,     -999,9,    -999,    -999
33RR20080204,       I06S,      61,          2,         17,         17,2,20080224,       1901,   -57.4982,    30.0001,       5449,  1425.9,   0.7908,  34.7063,2,  34.7076,2,    205.9,2,   204.7,2,  112.17,2,   31.97,2,    0.00,2,    2.22,2,   0.300,2,   0.160,2,   0.020,2,  2252.8,2,  2356.9,2,   7.7928,2,    13.00,    -999,9,    -999,9,    -999,9,0.7904,2,0.52,2,-154.4,2,2.5,    -999,9,    -999,0.829,2,-999,9,-999,9,    -999,9,-999,1, 20080224,     2034, -57.4982,  30.0001,    -999,-999,9,     -999,9,     -999,9,     -999,9,     -999,9,     -999,9,     -999,9,-999,9,     -999,9,     -999,9,     -999,9,    -999,    -999
33RR20080204,       I06S,      61,          2,         16,         16,2,20080224,       1901,   -57.4982,    30.0001,       5449,  1625.4,   0.6511,  34.6991,2,  34.6995,2,    206.5,2,   207.9,2,  116.74,2,   32.31,2,    0.00,2,    2.25,2,   0.310,2,   0.169,2,   0.020,2,    -999,9,  2357.8,2,   7.7893,2,    13.00,    -999,9,    -999,9,    -999,9,0.6506,2,0.52,2,-152.8,2,2.4,    -999,9,    -999,0.918,2,-999,9,-999,9,    -999,9,-999,9, 20080224,     2029, -57.4983,  30.0000,    -999,-999,1,     -999,9,     -999,9,     -999,9,     -999,9,     -999,9,     -999,9,-999,9,     -999,9,     -999,9,     -999,9,    -999,    -999
33RR20080204,       I06S,      61,          2,         15,         15,2,20080224,       1901,   -57.4982,    30.0001,       5449,  1831.9,   0.5344,  34.6923,2,  34.6930,2,    208.2,2,   203.0,4,  120.55,2,   32.32,2,    0.00,2,    2.26,2,   0.314,2,   0.173,2,   0.016,2,  2256.6,2,  2360.0,2,   7.7845,2,    13.00,    -999,9,    -999,9,    -999,9,0.534,2,0.48,2,-160.1,2,2.5,    -999,9,    -999,0.901,2,-999,9,-999,9,    -999,9,-999,1, 20080224,     2024, -57.4983,  30.0000,    -999,-999,9,     -999,9,     -999,9,     -999,9,     -999,9,     -999,9,     -999,9,-999,9,     -999,9,     -999,9,     -999,9,    -999,    -999
33RR20080204,       I06S,      61,          2,         14,         14,2,20080224,       1901,   -57.4982,    30.0001,       5449,  2032.2,   0.4277,  34.6878,2,  34.6882,2,    209.9,2,   210.5,2,  123.61,2,   32.42,2,    0.00,2,    2.27,2,   0.314,2,   0.172,2,   0.016,2,    -999,9,  2358.3,2,   7.7829,2,    13.00,    -999,9,    -999,9,    -999,9,0.4268,2,0.52,2,-153.5,2,2.7,    -999,9,    -999,0.926,2,-999,9,-999,9,    -999,9,-999,9, 20080224,     2020, -57.4984,  30.0001,    -999,-999,1,     -999,9,     -999,9,     -999,9,     -999,9,     -999,9,     -999,9,-999,9,     -999,9,     -999,9,     -999,9,    -999,    -999
33RR20080204,       I06S,      61,          2,         13,         13,2,20080224,       1901,   -57.4982,    30.0001,       5449,  2338.2,   0.2832,  34.6797,2,  34.6801,2,    212.9,2,   213.2,2,  126.09,2,   32.67,2,    0.00,2,    2.28,2,   0.339,2,   0.184,2,   0.036,2,  2261.0,2,  2356.9,2,   7.7808,2,    13.00,    -999,9,    -999,9,    -999,9,0.2828,2,0.5,2,-159.5,2,2.7,    -999,9,    -999,1.065,2,-999,9,-999,9,    -999,9,-999,1, 20080224,     2013, -57.4983,  30.0001,    -999,-999,9,     -999,9,     -999,9,     -999,9,     -999,9,     -999,9,     -999,9,-999,9,     -999,9,     -999,9,     -999,9,    -999,    -999
33RR20080204,       I06S,      61,          2,         12,         12,2,20080224,       1901,   -57.4982,    30.0001,       5449,  2642.1,   0.1534,  34.6732,2,  34.6730,2,    218.0,2,   218.3,2,  126.85,2,   32.68,2,    0.00,2,    2.29,2,   0.371,2,   0.196,2,   0.027,2,    -999,9,  2357.0,2,   7.7805,2,    13.00,    -999,9,    -999,9,    -999,9,0.1525,2,0.49,2,-164.4,6,2.4,    -999,9,    -999,1.09,2,-999,9,-999,9,    -999,9,-999,9, 20080224,     2007, -57.4982,  30.0000,    -999,-999,1,     -999,9,     -999,9,     -999,9,     -999,9,     -999,9,     -999,9,-999,9,     -999,9,     -999,9,     -999,9,    -999,    -999
33RR20080204,       I06S,      61,          2,         11,         11,2,20080224,       1901,   -57.4982,    30.0001,       5449,  2951.9,   0.0399,  34.6684,2,  34.6681,2,    222.4,2,   223.2,2,  127.43,2,   32.69,2,    0.00,2,    2.29,2,   0.392,2,   0.206,2,   0.023,2,  2257.2,2,  2356.9,2,   7.7848,2,    13.00,    -999,9,    -999,9,    -999,9,0.0396,2,0.53,2,-170.9,2,2.9,    -999,9,    -999,1.121,2,-999,9,-999,9,    -999,9,-999,1, 20080224,     2000, -57.4982,  30.0001,    -999,-999,9,     -999,9,     -999,9,     -999,9,     -999,9,     -999,9,     -999,9,-999,9,     -999,9,     -999,9,     -999,9,    -999,    -999
33RR20080204,       I06S,      61,          2,         10,         10,2,20080224,       1901,   -57.4982,    30.0001,       5449,  3256.1,  -0.0375,  34.6651,2,  34.6656,2,    227.6,2,   227.9,2,  128.01,2,   32.60,2,    0.00,2,    2.28,2,   0.411,2,   0.219,2,   0.026,2,    -999,9,  2355.5,2,   7.7864,2,    13.00,    -999,9,    -999,9,    -999,9,-0.0376,2,0.78,3,-166.1,2,2.7,    -999,9,    -999,1.209,2,-999,9,-999,9,    -999,9,-999,9, 20080224,     1954, -57.4981,  30.0000,    -999,-999,1,     -999,9,     -999,9,     -999,9,     -999,9,     -999,9,     -999,9,-999,9,     -999,9,     -999,9,     -999,9,    -999,    -999
33RR20080204,       I06S,      61,          2,          9,          9,2,20080224,       1901,   -57.4982,    30.0001,       5449,  3568.2,  -0.1011,  34.6621,2,  34.6623,2,    231.4,2,   230.8,2,  128.01,2,   32.52,2,    0.00,2,    2.27,2,   0.431,2,   0.225,2,   0.024,2,  2253.3,2,  2354.9,2,   7.7897,2,    13.00,    -999,9,    -999,9,    -999,9,-0.1011,2,0.59,2,-169.0,2,2.8,    -999,9,    -999,1.239,2,-999,9,-999,9,    -999,9,-999,1, 20080224,     1947, -57.4983,  30.0001,    -999,-999,9,     -999,9,     -999,9,     -999,9,     -999,9,     -999,9,     -999,9,-999,9,     -999,9,     -999,9,     -999,9,    -999,    -999
33RR20080204,       I06S,      61,          2,          8,          8,2,20080224,       1901,   -57.4982,    30.0001,       5449,  3872.5,  -0.1504,  34.6601,2,  34.6597,2,    234.7,2,   234.4,2,  127.81,2,   32.43,2,    0.00,2,    2.27,2,   0.464,2,   0.237,2,   0.024,2,    -999,9,  2353.0,2,   7.7920,2,    13.00,    -999,9,    -999,9,    -999,9,-0.1499,2,0.64,2,-141.9,2,3.3,    -999,9,    -999,1.266,2,-999,9,-999,9,    -999,9,-999,9, 20080224,     1941, -57.4984,  30.0001,    -999,-999,1,     -999,9,     -999,9,     -999,9,     -999,9,     -999,9,     -999,9,-999,9,     -999,9,     -999,9,     -999,9,    -999,    -999