BOTTLE,20220706CCHSIOAMB
EXPOCODE,SECT_ID,STNNBR,CASTNO,SAMPNO,BTLNBR,BTLNBR_FLAG_W,DATE,TIME,LATITUDE,LONGITUDE,DEPTH,CTDPRS,CTDTMP,CTDSAL,CTDSAL_FLAG_W,SALNTY,SALNTY_FLAG_W,CTDOXY,CTDOXY_FLAG_W,OXYGEN,OXYGEN_FLAG_W,SILCAT,SILCAT_FLAG_W,NITRAT,NITRAT_FLAG_W,NITRIT,NITRIT_FLAG_W,PHSPHT,PHSPHT_FLAG_W,CFC-11,CFC-11_FLAG_W,CFC-12,CFC-12_FLAG_W,CFC113,CFC113_FLAG_W,TCARBN,TCARBN_FLAG_W,ALKALI,ALKALI_FLAG_W,PH_SWS,PH_SWS_FLAG_W,PH_TMP,TRITUM,TRITUM_FLAG_W,HELIUM,HELIUM_FLAG_W,DELHE3,DELHE3_FLAG_W,REFTMP,REFTMP_FLAG_W,DELC13,DELC13_FLAG_W,DELC14,DELC14_FLAG_W,C14ERR,NEON,NEON_FLAG_W,NEONER,CCL4,CCL4_FLAG_W,ALUMIN,ALUMIN_FLAG_W,DELO18,DELO18_FLAG_W,DOC,DOC_FLAG_W,TDN,TDN_FLAG_W,BTL_DATE,BTL_TIME,BTL_LAT,BTL_LON,TRITER,DELSI30,DELSI30_FLAG_W,CDOM380,CDOM380_FLAG_W,CDOM325,CDOM325_FLAG_W,CDOMSL,CDOMSL_FLAG_W,CDOM340,CDOM340_FLAG_W,CDOM443,CDOM443_FLAG_W,CDOMSN,CDOMSN_FLAG_W,BLACKC,BLACKC_FLAG_W,CDOM490,CDOM490_FLAG_W,CDOM412,CDOM412_FLAG_W,CDOM555,CDOM555_FLAG_W,DELHER,HELIER
,,,,,,,,,,,METERS,DBAR,ITS-90,PSS-78,,PSS-78,,UMOL/KG,,UMOL/KG,,UMOL/KG,,UMOL/KG,,UMOL/KG,,UMOL/KG,,PMOL/KG,,PMOL/KG,,PMOL/KG,,UMOL/KG,,UMOL/KG,,,,DEG C,TU,,NMOL/KG,,PERCNT,,DEG C,,/MILLE,,/MILLE,,/MILLE,NMOL/KG,,NMOL/KG,PMOL/KG,,NMOL/L,,/MILLE,,UMOL/KG,,UMOL/KG,,,,,,TU,/MILLE,,1/M,,1/M,,1/NM,,1/M,,1/M,,1/NM,,,,1/M,,1/M,,1/M,,PERCNT,NMOL/KG
33RR20080204,       I06S,      60,          1,         36,         36,2,20080224,       1121,   -56.9991,    29.9959,       5454,     6.2,   1.4422,  33.9895,2,  33.9917,2,    332.3,2,   334.6,2,   44.59,2,   25.92,2,    0.28,2,    1.73,2,   6.033,2,   3.282,2,   0.537,2,  2162.5,6,  2305.0,2,     -999,9,     -999,   0.091,2,   1.789,2,   -1.81,2,1.4408,2,-999,9,-999,9,-999,   7.990,2,   0.030,6.959,2,-999,9,-0.32,2,    -999,9,-999,9, 20080224,     1337, -57.0001,  29.9957,   0.009,-999,9,     -999,9,     -999,9,     -999,9,     -999,9,     -999,9,     -999,9,-999,9,     -999,9,     -999,9,     -999,9,    0.15,   0.007
33RR20080204,       I06S,      60,          1,         35,         35,2,20080224,       1121,   -56.9991,    29.9959,       5454,    25.3,   1.4405,  33.9906,2,  33.9929,2,    333.9,2,   334.5,2,   44.60,2,   25.91,2,    0.28,2,    1.72,2,   6.049,2,   3.267,2,   0.503,2,    -999,9,  2303.5,2,     -999,9,     -999,    -999,9,    -999,9,    -999,9,1.4397,2,-999,9,-999,9,-999,    -999,9,    -999,6.955,2,-999,9,-0.36,2,    -999,9,-999,9, 20080224,     1336, -57.0001,  29.9958,    -999,-999,9,     -999,9,     -999,9,     -999,9,     -999,9,     -999,9,     -999,9,-999,9,     -999,9,     -999,9,     -999,9,    -999,    -999
33RR20080204,       I06S,      60,          1,         34,         34,2,20080224,       1121,   -56.9991,    29.9959,       5454,    50.7,   1.4404,  33.9909,2,  33.9929,2,    334.1,2,   334.5,2,   44.56,2,   25.91,2,    0.28,2,    1.73,2,   5.992,2,   3.267,2,   0.530,2,    -999,9,  2304.0,2,     -999,9,     -999,    -999,9,    -999,9,    -999,9,1.44,2,-999,9,-999,9,-999,    -999,9,    -999,6.868,2,-999,9,-0.33,2,    -999,9,-999,9, 20080224,     1334, -57.0001,  29.9957,    -999,-999,9,     -999,9,     -999,9,     -999,9,     -999,9,     -999,9,     -999,9,-999,9,     -999,9,     -999,9,     -999,9,    -999,    -999
33RR20080204,       I06S,      60,          1,         33,         33,2,20080224,       1121,   -56.9991,    29.9959,       5454,    82.6,   1.4312,  33.9909,2,  33.9935,2,    334.1,2,   333.9,2,   44.60,2,   25.87,2,    0.27,2,    1.73,2,   5.985,2,   3.265,2,   0.505,2,    -999,9,  2302.3,2,     -999,9,     -999,    -999,9,    -999,9,    -999,9,1.4302,2,-999,9,-999,9,-999,    -999,9,    -999,6.597,2,-999,9,-0.36,2,    -999,9,-999,9, 20080224,     1333, -57.0001,  29.9957,    -999,-999,9,     -999,9,     -999,9,     -999,9,     -999,9,     -999,9,     -999,9,-999,9,     -999,9,     -999,9,     -999,9,    -999,    -999
33RR20080204,       I06S,      60,          1,         32,         32,2,20080224,       1121,   -56.9991,    29.9959,       5454,   110.2,   0.6470,  34.0575,2,  34.0515,2,    333.4,2,   325.2,2,   51.28,2,   27.61,2,    0.25,2,    1.93,2,   5.934,2,   3.184,2,   0.502,2,    -999,9,    -999,9,     -999,9,     -999,   0.090,2,   1.801,2,   -1.18,2,0.6586,2,-999,9,-999,9,-999,   8.033,2,   0.031,6.185,2,-999,9,-0.26,2,    -999,9,-999,9, 20080224,     1332, -57.0003,  29.9957,   0.009,-999,9,     -999,9,     -999,9,     -999,9,     -999,9,     -999,9,     -999,9,-999,9,     -999,9,     -999,9,     -999,9,    0.15,   0.007
33RR20080204,       I06S,      60,          1,         31,         31,2,20080224,       1121,   -56.9991,    29.9959,       5454,   162.9,   0.5155,  34.2728,2,  34.2546,3,    283.5,2,   282.0,2,   65.98,2,   31.57,2,    0.02,2,    2.20,2,   4.573,2,   2.521,2,   0.387,2,    -999,9,  2315.7,2,     -999,9,     -999,    -999,9,    -999,9,    -999,9,0.485,2,-999,9,-999,9,-999,    -999,9,    -999,4.899,2,-999,9,-0.25,2,    -999,9,-999,9, 20080224,     1330, -57.0004,  29.9956,    -999,-999,9,     -999,9,     -999,9,     -999,9,     -999,9,     -999,9,     -999,9,-999,9,     -999,9,     -999,9,     -999,9,    -999,    -999
33RR20080204,       I06S,      60,          1,         30,         30,2,20080224,       1121,   -56.9991,    29.9959,       5454,   212.4,   1.1111,  34.4027,2,  34.3970,2,    233.8,2,   227.9,2,    -999,9,    -999,9,    -999,9,    -999,9,   2.874,2,   1.557,2,   0.261,2,    -999,9,    -999,9,     -999,9,     -999,   0.031,2,   1.843,2,    4.83,2,1.1054,2,-999,9,-999,9,-999,   8.082,2,   0.031,3.414,2,-999,9,-0.07,2,    -999,9,-999,9, 20080224,     1329, -57.0003,  29.9957,   0.009,-999,1,     -999,9,     -999,9,     -999,9,     -999,9,     -999,9,     -999,9,-999,9,     -999,9,     -999,9,     -999,9,    0.15,   0.007
33RR20080204,       I06S,      60,          1,         29,         29,2,20080224,       1121,   -56.9991,    29.9959,       5454,   271.9,   1.7043,  34.5405,2,  34.5338,2,    193.7,2,   189.5,2,   78.71,2,   34.04,2,    0.00,2,    2.37,2,   1.442,2,   0.761,2,   0.139,2,    -999,9,  2332.4,2,     -999,9,     -999,    -999,9,    -999,9,    -999,9,1.7099,2,-999,9,-999,9,-999,    -999,9,    -999,2.017,2,-999,9,-999,9,    -999,9,-999,9, 20080224,     1327, -57.0002,  29.9956,    -999,-999,9,     -999,9,     -999,9,     -999,9,     -999,9,     -999,9,     -999,9,-999,9,     -999,9,     -999,9,     -999,9,    -999,    -999
33RR20080204,       I06S,      60,          1,         28,         28,2,20080224,       1121,   -56.9991,    29.9959,       5454,   322.6,   1.8500,  34.6003,2,  34.6006,2,    180.9,2,   180.5,2,   82.08,2,   33.85,2,    0.00,2,    2.35,2,   0.902,2,   0.485,2,   0.081,2,    -999,9,    -999,9,     -999,9,     -999,   0.003,6,   1.852,2,    8.90,2,1.8507,2,-999,9,-999,9,-999,   8.063,2,   0.031,1.515,2,-999,9,-0.03,2,    -999,9,-999,9, 20080224,     1324, -57.0001,  29.9957,   0.006,-999,9,     -999,9,     -999,9,     -999,9,     -999,9,     -999,9,     -999,9,-999,9,     -999,9,     -999,9,     -999,9,    0.15,   0.007
33RR20080204,       I06S,      60,          1,         27,         27,2,20080224,       1121,   -56.9991,    29.9959,       5454,   374.2,   1.8532,  34.6306,2,  34.6326,2,    180.1,2,   179.5,2,   84.15,2,   33.50,2,    0.00,2,    2.33,2,   0.763,2,   0.407,2,   0.069,2,    -999,9,  2340.9,2,     -999,9,     -999,    -999,9,    -999,9,    -999,9,1.8499,2,-999,9,-999,9,-999,    -999,9,    -999,1.321,2,-999,9,-999,9,    -999,9,-999,9, 20080224,     1322, -57.0001,  29.9957,    -999,-999,9,     -999,9,     -999,9,     -999,9,     -999,9,     -999,9,     -999,9,-999,9,     -999,9,     -999,9,     -999,9,    -999,    -999
33RR20080204,       I06S,      60,          1,         26,         26,2,20080224,       1121,   -56.9991,    29.9959,       5454,   422.6,   1.7810,  34.6470,2,  34.6481,2,    181.3,2,   181.8,2,   86.03,2,   33.21,2,    0.00,2,    2.30,2,   0.695,2,   0.383,2,   0.060,2,    -999,9,    -999,9,     -999,9,     -999,  -0.002,2,   1.864,2,    9.71,2,1.7816,2,-999,9,-999,9,-999,   8.083,2,   0.031,1.199,2,-999,9,0.04,2,    -999,9,-999,9, 20080224,     1320, -57.0000,  29.9957,   0.009,-999,1,     -999,9,     -999,9,     -999,9,     -999,9,     -999,9,     -999,9,-999,9,     -999,9,     -999,9,     -999,9,    0.15,   0.007
33RR20080204,       I06S,      60,          1,         25,         25,2,20080224,       1121,   -56.9991,    29.9959,       5454,   473.9,   1.8421,  34.6755,2,  34.6766,2,    182.4,2,   183.1,2,   85.85,2,   32.67,2,    0.00,2,    2.26,2,   0.516,2,   0.290,2,   0.040,2,    -999,9,  2344.7,2,     -999,9,     -999,    -999,9,    -999,9,    -999,9,1.8409,2,-999,9,-999,9,-999,    -999,9,    -999,1.015,2,-999,9,-999,9,    -999,9,-999,9, 20080224,     1318, -56.9999,  29.9958,    -999,-999,9,     -999,9,     -999,9,     -999,9,     -999,9,     -999,9,     -999,9,-999,9,     -999,9,     -999,9,     -999,9,    -999,    -999
33RR20080204,       I06S,      60,          1,         24,         24,2,20080224,       1121,   -56.9991,    29.9959,       5454,   528.5,   1.7047,  34.6800,2,  34.6815,2,    185.2,2,   186.2,2,   89.05,2,   32.53,2,    0.00,2,    2.26,2,   0.567,2,   0.308,2,   0.051,2,    -999,9,    -999,9,     -999,9,     -999,   0.002,2,   1.862,2,    9.92,2,1.7063,2,-999,9,-999,9,-999,   8.093,2,   0.031,1.072,2,-999,9,-999,9,    -999,9,-999,9, 20080224,     1316, -57.0000,  29.9958,   0.009,-999,9,     -999,9,     -999,9,     -999,9,     -999,9,     -999,9,     -999,9,-999,9,     -999,9,     -999,9,     -999,9,    0.15,   0.007
33RR20080204,       I06S,      60,          1,         23,         23,2,20080224,       1121,   -56.9991,    29.9959,       5454,   648.3,   1.6691,  34.7097,2,  34.7112,2,    190.8,2,   190.4,2,   89.99,2,   31.76,2,    0.00,2,    2.20,2,   0.400,2,   0.231,2,   0.031,2,    -999,9,  2348.9,2,     -999,9,     -999,   0.004,2,   1.869,2,   10.16,2,1.6694,2,-999,9,-999,9,-999,   8.128,2,   0.031,0.887,2,-999,9,-999,9,    -999,9,-999,9, 20080224,     1313, -57.0001,  29.9957,   0.009,-999,1,     -999,9,     -999,9,     -999,9,     -999,9,     -999,9,     -999,9,-999,9,     -999,9,     -999,9,     -999,9,    0.15,   0.007
33RR20080204,       I06S,      60,          1,         22,         22,2,20080224,       1121,   -56.9991,    29.9959,       5454,   749.2,   1.4976,  34.7101,2,  34.7112,2,    194.5,2,   194.5,2,   93.58,2,   31.71,2,    0.00,2,    2.20,2,   0.437,2,   0.250,2,   0.039,2,    -999,9,    -999,9,     -999,9,     -999,  -0.004,2,   1.872,2,   10.09,2,1.4975,2,-999,9,-999,9,-999,   8.125,2,   0.031,0.906,2,-999,9,-0.01,2,    -999,9,-999,9, 20080224,     1310, -57.0001,  29.9958,   0.009,-999,9,     -999,9,     -999,9,     -999,9,     -999,9,     -999,9,     -999,9,-999,9,     -999,9,     -999,9,     -999,9,    0.15,   0.007
33RR20080204,       I06S,      60,          1,         21,         21,2,20080224,       1121,   -56.9991,    29.9959,       5454,   850.1,   1.4821,  34.7254,2,  34.7263,2,    197.0,2,   197.6,2,   93.95,2,   31.17,2,    0.00,2,    2.15,2,   0.331,2,   0.185,2,   0.032,2,    -999,9,  2351.2,2,     -999,9,     -999,  -0.007,2,   1.872,2,    9.80,2,1.4819,2,-999,9,-999,9,-999,   8.135,2,   0.031,0.863,2,-999,9,-999,9,    -999,9,-999,9, 20080224,     1307, -56.9999,  29.9958,   0.009,-999,1,     -999,9,     -999,9,     -999,9,     -999,9,     -999,9,     -999,9,-999,9,     -999,9,     -999,9,     -999,9,    0.15,   0.007
33RR20080204,       I06S,      60,          1,         20,         20,2,20080224,       1121,   -56.9991,    29.9959,       5454,   956.3,   1.3242,  34.7221,2,  34.7240,2,    199.8,2,   199.8,2,   97.92,2,   31.26,2,    0.00,2,    2.16,2,   0.337,2,   0.192,2,   0.034,2,    -999,9,    -999,9,     -999,9,     -999,    -999,9,    -999,9,    -999,9,1.324,2,-999,9,-999,9,-999,    -999,9,    -999,0.847,2,-999,9,-999,9,    -999,9,-999,9, 20080224,     1304, -56.9998,  29.9958,    -999,-999,9,     -999,9,     -999,9,     -999,9,     -999,9,     -999,9,     -999,9,-999,9,     -999,9,     -999,9,     -999,9,    -999,    -999
33RR20080204,       I06S,      60,          1,         19,         19,2,20080224,       1121,   -56.9991,    29.9959,       5454,  1057.0,   1.2770,  34.7263,2,  34.7275,2,    201.6,2,   201.5,2,   99.06,2,   31.11,2,    0.00,2,    2.15,2,   0.300,2,   0.173,2,   0.045,2,    -999,9,  2354.3,2,     -999,9,     -999,   0.001,2,   1.877,2,    9.38,2,1.2771,2,-999,9,-999,9,-999,   8.163,2,   0.031,0.944,2,-999,9,-999,9,    -999,9,-999,9, 20080224,     1301, -56.9998,  29.9958,   0.009,-999,1,     -999,9,     -999,9,     -999,9,     -999,9,     -999,9,     -999,9,-999,9,     -999,9,     -999,9,     -999,9,    0.15,   0.007
33RR20080204,       I06S,      60,          1,         18,         18,2,20080224,       1121,   -56.9991,    29.9959,       5454,  1257.7,   1.0702,  34.7187,2,  34.7204,2,    204.1,2,   204.1,2,  105.12,2,   31.45,2,    0.00,2,    2.17,2,   0.286,2,   0.160,2,   0.018,2,    -999,9,    -999,9,     -999,9,     -999,   0.000,2,   1.885,2,    9.43,2,1.0697,2,-999,9,-999,9,-999,   8.169,2,   0.031,0.812,2,-999,9,0.0,2,    -999,9,-999,9, 20080224,     1257, -56.9999,  29.9958,   0.009,-999,9,     -999,9,     -999,9,     -999,9,     -999,9,     -999,9,     -999,9,-999,9,     -999,9,     -999,9,     -999,9,    0.15,   0.007
33RR20080204,       I06S,      60,          1,         17,         17,2,20080224,       1121,   -56.9991,    29.9959,       5454,  1464.5,   0.8563,  34.7087,2,  34.7104,2,    206.3,2,   205.9,2,  111.20,2,   31.83,2,    0.00,2,    2.20,2,   0.293,2,   0.162,2,   0.012,2,    -999,9,  2357.4,2,     -999,9,     -999,  -0.010,2,   1.870,2,    9.03,2,0.8559,2,-999,9,-999,9,-999,   8.134,2,   0.031,0.88,2,-999,9,-999,9,    -999,9,-999,9, 20080224,     1252, -56.9997,  29.9958,   0.009,-999,9,     -999,9,     -999,9,     -999,9,     -999,9,     -999,9,     -999,9,-999,9,     -999,9,     -999,9,     -999,9,    0.15,   0.007
33RR20080204,       I06S,      60,          1,         16,         16,2,20080224,       1121,   -56.9991,    29.9959,       5454,  1666.2,   0.6840,  34.6995,2,  34.7006,2,    207.2,2,   206.6,2,  116.14,2,   32.31,2,    0.00,2,    2.24,2,   0.316,2,   0.179,2,   0.021,2,    -999,9,    -999,9,     -999,9,     -999,  -0.007,2,    -999,1,    -999,9,0.684,2,-999,9,-999,9,-999,    -999,9,    -999,0.916,2,-999,9,-999,9,    -999,9,-999,9, 20080224,     1247, -56.9997,  29.9958,   0.009,-999,9,     -999,9,     -999,9,     -999,9,     -999,9,     -999,9,     -999,9,-999,9,     -999,9,     -999,9,     -999,9,    -999,    -999
33RR20080204,       I06S,      60,          1,         15,         15,2,20080224,       1121,   -56.9991,    29.9959,       5454,  1868.2,   0.5603,  34.6939,2,  34.6943,2,    208.4,2,   208.6,2,  120.14,2,   32.45,2,    0.00,2,    2.25,2,   0.299,2,   0.161,2,   0.010,2,    -999,9,  2358.8,2,     -999,9,     -999,  -0.011,2,   1.877,2,    8.85,2,0.5594,2,-999,9,-999,9,-999,   8.182,2,   0.031,0.918,2,-999,9,-999,9,    -999,9,-999,9, 20080224,     1243, -56.9996,  29.9959,   0.009,-999,9,     -999,9,     -999,9,     -999,9,     -999,9,     -999,9,     -999,9,-999,9,     -999,9,     -999,9,     -999,9,    0.15,   0.007
33RR20080204,       I06S,      60,          1,         14,         14,2,20080224,       1121,   -56.9991,    29.9959,       5454,  2070.8,   0.4721,  34.6892,2,  34.6905,2,    209.2,2,   209.5,2,  122.62,2,   32.68,2,    0.00,2,    2.26,2,   0.295,2,   0.163,2,   0.014,2,    -999,9,    -999,9,     -999,9,     -999,    -999,9,    -999,9,    -999,9,0.4719,2,-999,9,-999,9,-999,    -999,9,    -999,0.903,2,-999,9,-0.09,2,    -999,9,-999,9, 20080224,     1238, -56.9994,  29.9959,    -999,-999,9,     -999,9,     -999,9,     -999,9,     -999,9,     -999,9,     -999,9,-999,9,     -999,9,     -999,9,     -999,9,    -999,    -999
33RR20080204,       I06S,      60,          1,         13,         13,2,20080224,       1121,   -56.9991,    29.9959,       5454,  2389.6,   0.3235,  34.6816,2,  34.6823,2,    212.8,2,   213.4,2,  126.25,2,   32.88,2,    0.00,2,    2.27,2,   0.318,6,   0.166,6,   0.016,6,    -999,9,  2356.7,2,     -999,9,     -999,  -0.001,2,   1.882,2,    8.44,2,0.3238,2,-999,9,-999,9,-999,   8.226,2,   0.031,0.9895,6,-999,9,-999,9,    -999,9,-999,9, 20080224,     1231, -56.9993,  29.9959,   0.009,-999,9,     -999,9,     -999,9,     -999,9,     -999,9,     -999,9,     -999,9,-999,9,     -999,9,     -999,9,     -999,9,    0.15,   0.007
33RR20080204,       I06S,      60,          1,         12,         12,2,20080224,       1121,   -56.9991,    29.9959,       5454,  2692.8,   0.1918,  34.6753,2,  34.6762,2,    217.3,2,   217.4,2,  127.40,2,   32.92,2,    0.00,2,    2.28,2,   0.320,2,   0.173,2,   0.014,2,    -999,9,    -999,9,     -999,9,     -999,    -999,9,    -999,9,    -999,9,0.1917,2,-999,9,-999,9,-999,    -999,9,    -999,1.05,2,-999,9,-999,9,    -999,9,-999,9, 20080224,     1225, -56.9991,  29.9959,    -999,-999,9,     -999,9,     -999,9,     -999,9,     -999,9,     -999,9,     -999,9,-999,9,     -999,9,     -999,9,     -999,9,    -999,    -999
33RR20080204,       I06S,      60,          1,         11,         11,2,20080224,       1121,   -56.9991,    29.9959,       5454,  3003.8,   0.0670,  34.6691,2,  34.6701,2,    222.3,2,   222.3,2,  127.59,2,   32.82,2,    0.00,2,    2.28,2,   0.382,2,   0.200,2,   0.020,2,    -999,9,  2354.1,2,     -999,9,     -999,  -0.006,2,   1.881,2,    7.43,2,0.0671,2,-999,9,-999,9,-999,   8.225,2,   0.031,1.227,2,-999,9,-999,9,    -999,9,-999,9, 20080224,     1218, -56.9991,  29.9959,   0.009,-999,9,     -999,9,     -999,9,     -999,9,     -999,9,     -999,9,     -999,9,-999,9,     -999,9,     -999,9,     -999,9,    0.15,   0.007
33RR20080204,       I06S,      60,          1,         10,         10,2,20080224,       1121,   -56.9991,    29.9959,       5454,  3308.4,  -0.0233,  34.6656,2,  34.6659,2,    226.9,2,   227.1,2,  128.94,2,   32.87,2,    0.00,2,    2.27,2,   0.391,2,   0.196,2,   0.017,2,    -999,9,    -999,9,     -999,9,     -999,    -999,9,    -999,9,    -999,9,-0.0232,2,-999,9,-999,9,-999,    -999,9,    -999,1.148,2,-999,9,-0.14,2,    -999,9,-999,9, 20080224,     1211, -56.9990,  29.9959,    -999,-999,9,     -999,9,     -999,9,     -999,9,     -999,9,     -999,9,     -999,9,-999,9,     -999,9,     -999,9,     -999,9,    -999,    -999
33RR20080204,       I06S,      60,          1,          9,          9,2,20080224,       1121,   -56.9991,    29.9959,       5454,  3617.0,  -0.0989,  34.6625,2,  34.6626,2,    231.1,2,   231.1,2,  128.94,2,   32.77,2,    0.00,2,    2.26,2,   0.409,2,   0.216,2,   0.024,2,    -999,9,  2354.8,2,     -999,9,     -999,  -0.001,2,   1.897,2,    6.39,2,-0.0984,2,-999,9,-999,9,-999,   8.309,2,   0.032,1.128,2,-999,9,-999,9,    -999,9,-999,9, 20080224,     1205, -56.9992,  29.9959,   0.009,-999,9,     -999,9,     -999,9,     -999,9,     -999,9,     -999,9,     -999,9,-999,9,     -999,9,     -999,9,     -999,9,    0.15,   0.007
33RR20080204,       I06S,      60,          1,          8,          8,2,20080224,       1121,   -56.9991,    29.9959,       5454,  3922.1,  -0.1503,  34.6597,2,  34.6598,2,    234.7,2,   234.7,2,  128.18,2,   32.66,2,    0.00,2,    2.26,2,   0.468,2,   0.245,2,   0.025,2,    -999,9,    -999,9,     -999,9,     -999,   0.006,2,   1.887,2,    6.19,2,-0.1501,2,-999,9,-999,9,-999,   8.303,2,   0.032,1.203,2,-999,9,-999,9,    -999,9,-999,9, 20080224,     1159, -56.9990,  29.9959,   0.009,-999,9,     -999,9,     -999,9,     -999,9,     -999,9,     -999,9,     -999,9,-999,9,     -999,9,     -999,9,     -999,9,    0.15,   0.007