BOTTLE,20220706CCHSIOAMB
EXPOCODE,SECT_ID,STNNBR,CASTNO,SAMPNO,BTLNBR,BTLNBR_FLAG_W,DATE,TIME,LATITUDE,LONGITUDE,DEPTH,CTDPRS,CTDTMP,CTDSAL,CTDSAL_FLAG_W,SALNTY,SALNTY_FLAG_W,CTDOXY,CTDOXY_FLAG_W,OXYGEN,OXYGEN_FLAG_W,SILCAT,SILCAT_FLAG_W,NITRAT,NITRAT_FLAG_W,NITRIT,NITRIT_FLAG_W,PHSPHT,PHSPHT_FLAG_W,CFC-11,CFC-11_FLAG_W,CFC-12,CFC-12_FLAG_W,CFC113,CFC113_FLAG_W,TCARBN,TCARBN_FLAG_W,ALKALI,ALKALI_FLAG_W,PH_SWS,PH_SWS_FLAG_W,PH_TMP,TRITUM,TRITUM_FLAG_W,HELIUM,HELIUM_FLAG_W,DELHE3,DELHE3_FLAG_W,REFTMP,REFTMP_FLAG_W,DELC13,DELC13_FLAG_W,DELC14,DELC14_FLAG_W,C14ERR,NEON,NEON_FLAG_W,NEONER,CCL4,CCL4_FLAG_W,ALUMIN,ALUMIN_FLAG_W,DELO18,DELO18_FLAG_W,DOC,DOC_FLAG_W,TDN,TDN_FLAG_W,BTL_DATE,BTL_TIME,BTL_LAT,BTL_LON,TRITER,DELSI30,DELSI30_FLAG_W,CDOM380,CDOM380_FLAG_W,CDOM325,CDOM325_FLAG_W,CDOMSL,CDOMSL_FLAG_W,CDOM340,CDOM340_FLAG_W,CDOM443,CDOM443_FLAG_W,CDOMSN,CDOMSN_FLAG_W,BLACKC,BLACKC_FLAG_W,CDOM490,CDOM490_FLAG_W,CDOM412,CDOM412_FLAG_W,CDOM555,CDOM555_FLAG_W,DELHER,HELIER
,,,,,,,,,,,METERS,DBAR,ITS-90,PSS-78,,PSS-78,,UMOL/KG,,UMOL/KG,,UMOL/KG,,UMOL/KG,,UMOL/KG,,UMOL/KG,,PMOL/KG,,PMOL/KG,,PMOL/KG,,UMOL/KG,,UMOL/KG,,,,DEG C,TU,,NMOL/KG,,PERCNT,,DEG C,,/MILLE,,/MILLE,,/MILLE,NMOL/KG,,NMOL/KG,PMOL/KG,,NMOL/L,,/MILLE,,UMOL/KG,,UMOL/KG,,,,,,TU,/MILLE,,1/M,,1/M,,1/NM,,1/M,,1/M,,1/NM,,,,1/M,,1/M,,1/M,,PERCNT,NMOL/KG
33RR20080204,       I06S,      81,          3,         36,         36,2,20080303,       0037,   -65.7211,    32.7510,       2425,    18.4,  -0.3301,  34.0831,2,  34.0833,2,    332.5,2,   332.0,2,   55.78,2,   27.26,2,    0.21,2,    1.87,2,   5.754,2,   3.168,2,   0.494,2,    -999,9,  2309.8,2,   7.8704,2,    13.00,    -999,9,    -999,9,    -999,9,-0.3323,2,-999,9,-999,9,-999,    -999,9,    -999,8.448,2,-999,9,-999,9,    -999,9,-999,9, 20080303,     0210, -65.7259,  32.7602,    -999,-999,9,     -999,9,     -999,9,     -999,9,     -999,9,     -999,9,     -999,9,-999,9,     -999,9,     -999,9,     -999,9,    -999,    -999
33RR20080204,       I06S,      81,          3,         34,         34,2,20080303,       0037,   -65.7211,    32.7510,       2425,   111.7,  -1.2800,  34.3715,2,  34.3693,2,    288.3,2,   288.2,2,   69.13,2,   30.91,2,    0.05,2,    2.14,2,   4.508,2,   2.457,2,   0.361,2,    -999,9,  2323.9,2,   7.8011,2,    13.00,    -999,9,    -999,9,    -999,9,-1.2786,2,-999,9,-999,9,-999,    -999,9,    -999,5.426,2,-999,9,-999,9,    -999,9,-999,9, 20080303,     0205, -65.7247,  32.7602,    -999,-999,9,     -999,9,     -999,9,     -999,9,     -999,9,     -999,9,     -999,9,-999,9,     -999,9,     -999,9,     -999,9,    -999,    -999
33RR20080204,       I06S,      81,          3,         32,         32,2,20080303,       0037,   -65.7211,    32.7510,       2425,   212.1,   0.6983,  34.6082,2,  34.6065,2,    216.3,2,   216.5,2,   85.75,2,   32.23,2,    0.00,2,    2.21,2,   1.799,2,   0.989,2,   0.133,2,    -999,9,  2341.5,2,   7.7692,2,    13.00,    -999,9,    -999,9,    -999,9,0.6971,2,-999,9,-999,9,-999,    -999,9,    -999,2.296,2,-999,9,-999,9,    -999,9,-999,9, 20080303,     0200, -65.7238,  32.7578,    -999,-999,9,     -999,9,     -999,9,     -999,9,     -999,9,     -999,9,     -999,9,-999,9,     -999,9,     -999,9,     -999,9,    -999,    -999
33RR20080204,       I06S,      81,          3,         30,         30,2,20080303,       0037,   -65.7211,    32.7510,       2425,   320.8,   1.1017,  34.6825,2,  34.6827,2,    202.9,2,   202.6,2,   92.19,2,   31.77,2,    0.00,2,    2.20,2,   0.925,2,   0.517,2,   0.076,2,    -999,9,  2348.2,2,   7.7769,2,    13.00,    -999,9,    -999,9,    -999,9,1.1023,2,-999,9,-999,9,-999,    -999,9,    -999,1.268,2,-999,9,-999,9,    -999,9,-999,9, 20080303,     0154, -65.7225,  32.7571,    -999,-999,9,     -999,9,     -999,9,     -999,9,     -999,9,     -999,9,     -999,9,-999,9,     -999,9,     -999,9,     -999,9,    -999,    -999
33RR20080204,       I06S,      81,          3,         28,         28,2,20080303,       0037,   -65.7211,    32.7510,       2425,  1051.3,   0.5516,  34.6895,2,  34.6900,2,    212.2,2,   210.9,2,  112.81,2,   32.18,2,    0.00,2,    2.23,2,   0.500,2,   0.291,2,   0.021,2,    -999,9,  2356.9,2,   7.7805,2,    13.00,    -999,9,    -999,9,    -999,9,0.5515,2,-999,9,-999,9,-999,    -999,9,    -999,0.894,2,-999,9,-999,9,    -999,9,-999,9, 20080303,     0125, -65.7218,  32.7556,    -999,-999,9,     -999,9,     -999,9,     -999,9,     -999,9,     -999,9,     -999,9,-999,9,     -999,9,     -999,9,     -999,9,    -999,    -999
33RR20080204,       I06S,      81,          3,         26,         26,2,20080303,       0037,   -65.7211,    32.7510,       2425,  1157.5,   0.4725,  34.6848,2,  34.6863,2,    212.0,2,   211.2,2,  113.63,2,   32.33,2,    0.00,2,    2.23,2,   0.564,2,   0.315,2,   0.025,2,  2257.3,2,  2356.4,2,   7.7818,2,    13.00,    -999,9,    -999,9,    -999,9,0.475,2,-999,9,-999,9,-999,    -999,9,    -999,0.964,2,-999,9,-999,9,    -999,9,-999,9, 20080303,     0121, -65.7218,  32.7557,    -999,-999,9,     -999,9,     -999,9,     -999,9,     -999,9,     -999,9,     -999,9,-999,9,     -999,9,     -999,9,     -999,9,    -999,    -999
33RR20080204,       I06S,      81,          3,         24,         24,2,20080303,       0037,   -65.7211,    32.7510,       2425,  1259.0,   0.3925,  34.6796,2,  34.6804,2,    213.4,2,   214.5,2,  114.46,2,   32.23,2,    0.00,2,    2.24,2,   0.624,2,   0.350,2,   0.031,2,    -999,9,  2355.9,2,   7.7810,2,    13.00,    -999,9,    -999,9,    -999,9,0.3954,2,-999,9,-999,9,-999,    -999,9,    -999,1.013,2,-999,9,-999,9,    -999,9,-999,9, 20080303,     0117, -65.7217,  32.7557,    -999,-999,9,     -999,9,     -999,9,     -999,9,     -999,9,     -999,9,     -999,9,-999,9,     -999,9,     -999,9,     -999,9,    -999,    -999
33RR20080204,       I06S,      81,          3,         22,         22,2,20080303,       0037,   -65.7211,    32.7510,       2425,  1355.6,   0.3181,  34.6747,2,  34.6740,2,    215.6,2,   217.4,2,  114.47,2,   32.28,2,    0.00,2,    2.23,2,   0.733,2,   0.425,2,   0.041,2,  2257.3,2,  2353.9,2,   7.7808,2,    13.00,    -999,9,    -999,9,    -999,9,0.3195,2,-999,9,-999,9,-999,    -999,9,    -999,1.136,2,-999,9,-999,9,    -999,9,-999,9, 20080303,     0113, -65.7218,  32.7558,    -999,-999,9,     -999,9,     -999,9,     -999,9,     -999,9,     -999,9,     -999,9,-999,9,     -999,9,     -999,9,     -999,9,    -999,    -999
33RR20080204,       I06S,      81,          3,         20,         20,2,20080303,       0037,   -65.7211,    32.7510,       2425,  1459.7,   0.2928,  34.6761,2,  34.6756,2,    217.6,2,   216.8,2,  117.33,2,   32.38,2,    0.00,2,    2.24,2,   0.623,2,   0.361,2,   0.032,2,    -999,9,  2351.6,2,   7.7795,2,    13.00,    -999,9,    -999,9,    -999,9,0.2933,2,-999,9,-999,9,-999,    -999,9,    -999,1.002,2,-999,9,-999,9,    -999,9,-999,9, 20080303,     0110, -65.7218,  32.7558,    -999,-999,9,     -999,9,     -999,9,     -999,9,     -999,9,     -999,9,     -999,9,-999,9,     -999,9,     -999,9,     -999,9,    -999,    -999
33RR20080204,       I06S,      81,          3,         18,         18,2,20080303,       0037,   -65.7211,    32.7510,       2425,  1556.3,   0.2802,  34.6767,2,  34.6771,2,    216.5,2,   215.7,2,  118.97,2,   32.53,2,    0.00,2,    2.24,2,   0.542,2,   0.305,2,   0.030,2,  2258.2,2,  2356.3,2,   7.7804,2,    13.00,    -999,9,    -999,9,    -999,9,0.2807,2,-999,9,-999,9,-999,    -999,9,    -999,0.929,2,-999,9,-999,9,    -999,9,-999,9, 20080303,     0106, -65.7218,  32.7557,    -999,-999,9,     -999,9,     -999,9,     -999,9,     -999,9,     -999,9,     -999,9,-999,9,     -999,9,     -999,9,     -999,9,    -999,    -999
33RR20080204,       I06S,      81,          3,         16,         16,2,20080303,       0037,   -65.7211,    32.7510,       2425,  1663.2,   0.2496,  34.6751,2,  34.6746,2,    217.3,2,   216.8,2,  119.39,2,   32.53,2,    0.00,2,    2.24,2,   0.566,2,   0.311,2,   0.024,2,    -999,9,  2355.8,2,   7.7805,3,    13.00,    -999,9,    -999,9,    -999,9,0.2497,2,-999,9,-999,9,-999,    -999,9,    -999,0.939,2,-999,9,-999,9,    -999,9,-999,9, 20080303,     0102, -65.7218,  32.7557,    -999,-999,9,     -999,9,     -999,9,     -999,9,     -999,9,     -999,9,     -999,9,-999,9,     -999,9,     -999,9,     -999,9,    -999,    -999
33RR20080204,       I06S,      81,          3,         14,         14,2,20080303,       0037,   -65.7211,    32.7510,       2425,  1762.6,   0.2069,  34.6732,2,  34.6733,2,    218.2,2,   218.5,2,  120.02,2,   32.53,2,    0.00,2,    2.25,2,   0.568,2,   0.304,2,   0.030,2,  2258.2,2,  2355.2,2,   7.7799,2,    13.00,    -999,9,    -999,9,    -999,9,0.207,2,-999,9,-999,9,-999,    -999,9,    -999,0.963,2,-999,9,-999,9,    -999,9,-999,9, 20080303,     0058, -65.7217,  32.7552,    -999,-999,9,     -999,9,     -999,9,     -999,9,     -999,9,     -999,9,     -999,9,-999,9,     -999,9,     -999,9,     -999,9,    -999,    -999
33RR20080204,       I06S,      81,          3,         12,         12,2,20080303,       0037,   -65.7211,    32.7510,       2425,  1867.7,   0.1720,  34.6721,2,  34.6719,2,    220.6,2,   220.8,2,  120.64,2,   32.53,2,    0.00,2,    2.25,2,   0.587,2,   0.330,2,   0.039,2,    -999,9,  2355.8,2,   7.7815,2,    13.00,    -999,9,    -999,9,    -999,9,0.1729,2,-999,9,-999,9,-999,    -999,9,    -999,0.99,2,-999,9,-999,9,    -999,9,-999,9, 20080303,     0054, -65.7217,  32.7547,    -999,-999,9,     -999,9,     -999,9,     -999,9,     -999,9,     -999,9,     -999,9,-999,9,     -999,9,     -999,9,     -999,9,    -999,    -999
33RR20080204,       I06S,      81,          3,         10,         10,2,20080303,       0037,   -65.7211,    32.7510,       2425,  2075.4,   0.0923,  34.6678,2,  34.6678,2,    224.2,2,   223.9,2,  119.84,2,   32.37,2,    0.00,2,    2.24,2,   0.732,2,   0.401,2,   0.072,2,  2256.1,2,  2356.1,2,   7.7834,2,    13.00,    -999,9,    -999,9,    -999,9,0.093,2,-999,9,-999,9,-999,    -999,9,    -999,1.167,2,-999,9,-999,9,    -999,9,-999,9, 20080303,     0049, -65.7216,  32.7544,    -999,-999,9,     -999,9,     -999,9,     -999,9,     -999,9,     -999,9,     -999,9,-999,9,     -999,9,     -999,9,     -999,9,    -999,    -999
33RR20080204,       I06S,      81,          3,          8,          8,2,20080303,       0037,   -65.7211,    32.7510,       2425,  2215.0,   0.0851,  34.6669,2,  34.6670,2,    224.7,2,   224.1,2,  120.06,2,   32.36,2,    0.00,2,    2.24,2,   0.747,2,   0.410,2,   0.051,2,    -999,9,  2354.0,2,   7.7829,2,    13.00,    -999,9,    -999,9,    -999,9,0.0855,2,-999,9,-999,9,-999,    -999,9,    -999,1.179,2,-999,9,-999,9,    -999,9,-999,9, 20080303,     0045, -65.7216,  32.7531,    -999,-999,9,     -999,9,     -999,9,     -999,9,     -999,9,     -999,9,     -999,9,-999,9,     -999,9,     -999,9,     -999,9,    -999,    -999
33RR20080204,       I06S,      81,          3,          6,          6,9,20080303,       0037,   -65.7211,    32.7510,       2425,  2339.9,   0.0822,  34.6664,2,     -999,9,     -999,9,    -999,9,    -999,9,    -999,9,    -999,9,    -999,9,    -999,9,    -999,9,    -999,9,    -999,9,    -999,5,     -999,9,     -999,    -999,9,    -999,9,    -999,9,0.0818,2,-999,9,-999,9,-999,    -999,9,    -999,-999,9,-999,9,-999,9,    -999,9,-999,9, 20080303,     0040, -65.7213,  32.7518,    -999,-999,9,     -999,9,     -999,9,     -999,9,     -999,9,     -999,9,     -999,9,-999,9,     -999,9,     -999,9,     -999,9,    -999,    -999
33RR20080204,       I06S,      81,          3,          4,          4,2,20080303,       0037,   -65.7211,    32.7510,       2425,  2371.0,   0.0787,  34.6665,2,  34.6670,2,    225.2,2,   225.1,2,  120.48,2,   32.31,2,    0.00,2,    2.24,2,   0.756,2,   0.411,2,   0.079,2,  2256.6,2,  2354.9,2,   7.7829,2,    13.00,    -999,9,    -999,9,    -999,9,0.0794,2,-999,9,-999,9,-999,    -999,9,    -999,1.224,2,-999,9,-999,9,    -999,9,-999,9, 20080303,     0038, -65.7211,  32.7511,    -999,-999,9,     -999,9,     -999,9,     -999,9,     -999,9,     -999,9,     -999,9,-999,9,     -999,9,     -999,9,     -999,9,    -999,    -999
33RR20080204,       I06S,      81,          3,          2,          2,2,20080303,       0037,   -65.7211,    32.7510,       2425,  2385.4,   0.0622,  34.6655,2,  34.6663,2,    225.4,2,   225.9,2,  120.49,2,   32.46,2,    0.00,2,    2.24,2,   0.784,2,   0.397,2,   0.044,2,  2256.3,6,  2355.4,2,   7.7850,2,    13.00,    -999,9,    -999,9,    -999,9,0.0621,2,-999,9,-999,9,-999,    -999,9,    -999,1.138,2,-999,9,-999,9,    -999,9,-999,9, 20080303,     0037, -65.7211,  32.7510,    -999,-999,9,     -999,9,     -999,9,     -999,9,     -999,9,     -999,9,     -999,9,-999,9,     -999,9,     -999,9,     -999,9,    -999,    -999