BOTTLE,20220706CCHSIOAMB
EXPOCODE,SECT_ID,STNNBR,CASTNO,SAMPNO,BTLNBR,BTLNBR_FLAG_W,DATE,TIME,LATITUDE,LONGITUDE,DEPTH,CTDPRS,CTDTMP,CTDSAL,CTDSAL_FLAG_W,SALNTY,SALNTY_FLAG_W,CTDOXY,CTDOXY_FLAG_W,OXYGEN,OXYGEN_FLAG_W,SILCAT,SILCAT_FLAG_W,NITRAT,NITRAT_FLAG_W,NITRIT,NITRIT_FLAG_W,PHSPHT,PHSPHT_FLAG_W,CFC-11,CFC-11_FLAG_W,CFC-12,CFC-12_FLAG_W,CFC113,CFC113_FLAG_W,TCARBN,TCARBN_FLAG_W,ALKALI,ALKALI_FLAG_W,PH_SWS,PH_SWS_FLAG_W,PH_TMP,TRITUM,TRITUM_FLAG_W,HELIUM,HELIUM_FLAG_W,DELHE3,DELHE3_FLAG_W,REFTMP,REFTMP_FLAG_W,DELC13,DELC13_FLAG_W,DELC14,DELC14_FLAG_W,C14ERR,NEON,NEON_FLAG_W,NEONER,CCL4,CCL4_FLAG_W,ALUMIN,ALUMIN_FLAG_W,DELO18,DELO18_FLAG_W,DOC,DOC_FLAG_W,TDN,TDN_FLAG_W,BTL_DATE,BTL_TIME,BTL_LAT,BTL_LON,TRITER,DELSI30,DELSI30_FLAG_W,CDOM380,CDOM380_FLAG_W,CDOM325,CDOM325_FLAG_W,CDOMSL,CDOMSL_FLAG_W,CDOM340,CDOM340_FLAG_W,CDOM443,CDOM443_FLAG_W,CDOMSN,CDOMSN_FLAG_W,BLACKC,BLACKC_FLAG_W,CDOM490,CDOM490_FLAG_W,CDOM412,CDOM412_FLAG_W,CDOM555,CDOM555_FLAG_W,DELHER,HELIER
,,,,,,,,,,,METERS,DBAR,ITS-90,PSS-78,,PSS-78,,UMOL/KG,,UMOL/KG,,UMOL/KG,,UMOL/KG,,UMOL/KG,,UMOL/KG,,PMOL/KG,,PMOL/KG,,PMOL/KG,,UMOL/KG,,UMOL/KG,,,,DEG C,TU,,NMOL/KG,,PERCNT,,DEG C,,/MILLE,,/MILLE,,/MILLE,NMOL/KG,,NMOL/KG,PMOL/KG,,NMOL/L,,/MILLE,,UMOL/KG,,UMOL/KG,,,,,,TU,/MILLE,,1/M,,1/M,,1/NM,,1/M,,1/M,,1/NM,,,,1/M,,1/M,,1/M,,PERCNT,NMOL/KG
33RR20080204,       I06S,      29,          1,          7,          7,2,20080214,       0810,   -41.4825,    29.9854,       4481,  2897.8,   2.2490,  34.8153,2,  34.8148,2,    217.2,2,   217.1,2,   66.36,2,   26.70,2,    0.00,2,    1.83,2,   0.038,2,   0.021,2,   0.000,2,  2204.6,4,  2345.8,2,   7.8619,2,    13.00,    -999,9,    -999,9,    -999,9,2.2488,2,-999,9,-999,9,-999,    -999,9,    -999,0.348,2,-999,9,-999,9,    -999,9,-999,9, 20080214,     0851, -41.4782,  29.9827,    -999,-999,1,     -999,9,     -999,9,     -999,9,     -999,9,     -999,9,     -999,9,-999,9,     -999,9,     -999,9,     -999,9,    -999,    -999
33RR20080204,       I06S,      29,          1,          6,          6,2,20080214,       0810,   -41.4825,    29.9854,       4481,  3217.4,   2.0136,  34.8039,2,  34.8034,2,    218.1,2,   217.2,2,   74.37,2,   27.29,2,    0.00,2,    1.86,2,   0.044,2,   0.030,2,   0.000,2,  2243.4,4,  2349.3,2,   7.8578,2,    13.00,    -999,9,    -999,9,    -999,9,2.0138,2,-999,9,-999,9,-999,    -999,9,    -999,0.427,2,-999,9,-999,9,   39.12,2,-999,1, 20080214,     0845, -41.4789,  29.9836,    -999,-999,9,   0.0346,2,   0.1205,2,   0.0197,3,   0.0807,2,   0.0107,2,   0.0211,3,-999,9,   0.0018,2,   0.0200,2,  -0.0014,4,    -999,    -999
33RR20080204,       I06S,      29,          1,          5,          5,2,20080214,       0810,   -41.4825,    29.9854,       4481,  3519.8,   1.7389,  34.7815,2,  34.7826,2,    216.2,2,   215.8,2,   84.81,2,   28.34,2,    0.00,2,    1.94,2,   0.050,2,   0.025,2,   0.000,2,  2233.8,2,  2355.0,2,   7.8476,2,    13.00,    -999,9,    -999,9,    -999,9,1.739,2,-999,9,-999,9,-999,    -999,9,    -999,0.617,2,-999,9,-999,9,    -999,9,-999,9, 20080214,     0838, -41.4796,  29.9841,    -999,-999,1,     -999,9,     -999,9,     -999,9,     -999,9,     -999,9,     -999,9,-999,9,     -999,9,     -999,9,     -999,9,    -999,    -999
33RR20080204,       I06S,      29,          1,          4,          4,2,20080214,       0810,   -41.4825,    29.9854,       4481,  3820.0,   1.4016,  34.7564,2,  34.7560,2,    215.5,2,   215.5,2,   96.29,2,   29.48,2,    0.00,2,    2.04,2,   0.066,2,   0.039,2,   0.006,2,  2243.4,2,  2359.4,2,   7.8363,2,    13.00,    -999,9,    -999,9,    -999,9,1.4001,2,-999,9,-999,9,-999,    -999,9,    -999,0.728,2,-999,9,-999,9,   39.80,2,-999,1, 20080214,     0832, -41.4803,  29.9845,    -999,-999,9,   0.0312,2,   0.1124,2,   0.0203,3,   0.0744,2,   0.0091,2,   0.0218,2,-999,9,   0.0012,2,   0.0178,2,   0.0020,4,    -999,    -999
33RR20080204,       I06S,      29,          1,          3,          3,2,20080214,       0810,   -41.4825,    29.9854,       4481,  4129.8,   1.1515,  34.7366,2,  34.7368,2,    216.5,2,   215.7,2,  105.37,2,   30.38,2,    0.00,2,    2.10,2,   0.086,2,   0.048,2,   0.013,2,  2249.7,2,  2362.8,2,   7.8288,2,    13.00,    -999,9,    -999,9,    -999,9,1.1514,2,-999,9,-999,9,-999,    -999,9,    -999,0.85,2,-999,9,-999,9,    -999,9,-999,9, 20080214,     0825, -41.4811,  29.9845,    -999,-999,1,     -999,9,     -999,9,     -999,9,     -999,9,     -999,9,     -999,9,-999,9,     -999,9,     -999,9,     -999,9,    -999,    -999
33RR20080204,       I06S,      29,          1,          2,          2,2,20080214,       0810,   -41.4825,    29.9854,       4481,  4430.8,   0.8604,  34.7139,2,  34.7146,2,    217.6,2,   217.4,2,  114.66,2,   31.23,2,    0.00,2,    2.17,2,   0.130,2,   0.081,2,   0.018,2,  2254.2,2,  2363.2,2,   7.8176,2,    13.00,    -999,9,    -999,9,    -999,9,0.8602,2,-999,9,-999,9,-999,    -999,9,    -999,1.059,2,-999,9,-999,9,   39.90,2,-999,1, 20080214,     0818, -41.4819,  29.9847,    -999,-999,9,   0.0297,2,   0.1069,2,   0.0197,3,   0.0698,2,   0.0092,2,   0.0214,3,-999,9,   0.0009,2,   0.0177,2,  -0.0017,4,    -999,    -999
33RR20080204,       I06S,      29,          1,          1,          1,2,20080214,       0810,   -41.4825,    29.9854,       4481,  4733.0,   0.1974,  34.6688,2,  34.6690,2,    224.4,2,   225.5,2,  131.70,2,   32.68,2,    0.00,2,    2.27,2,   0.381,2,   0.207,2,   0.054,2,  2257.1,6,  2363.1,2,   7.7961,2,    13.00,    -999,9,    -999,9,    -999,9,0.1968,2,-999,9,-999,9,-999,    -999,9,    -999,1.506,2,-999,9,-999,9,   38.93,2,-999,1, 20080214,     0811, -41.4825,  29.9854,    -999,-999,1,   0.0294,2,   0.1061,2,   0.0202,3,   0.0697,2,   0.0084,2,   0.0217,3,-999,9,   0.0005,3,   0.0171,2,  -0.0019,4,    -999,    -999