BOTTLE,20220706CCHSIOAMB
EXPOCODE,SECT_ID,STNNBR,CASTNO,SAMPNO,BTLNBR,BTLNBR_FLAG_W,DATE,TIME,LATITUDE,LONGITUDE,DEPTH,CTDPRS,CTDTMP,CTDSAL,CTDSAL_FLAG_W,SALNTY,SALNTY_FLAG_W,CTDOXY,CTDOXY_FLAG_W,OXYGEN,OXYGEN_FLAG_W,SILCAT,SILCAT_FLAG_W,NITRAT,NITRAT_FLAG_W,NITRIT,NITRIT_FLAG_W,PHSPHT,PHSPHT_FLAG_W,CFC-11,CFC-11_FLAG_W,CFC-12,CFC-12_FLAG_W,CFC113,CFC113_FLAG_W,TCARBN,TCARBN_FLAG_W,ALKALI,ALKALI_FLAG_W,PH_SWS,PH_SWS_FLAG_W,PH_TMP,TRITUM,TRITUM_FLAG_W,HELIUM,HELIUM_FLAG_W,DELHE3,DELHE3_FLAG_W,REFTMP,REFTMP_FLAG_W,DELC13,DELC13_FLAG_W,DELC14,DELC14_FLAG_W,C14ERR,NEON,NEON_FLAG_W,NEONER,CCL4,CCL4_FLAG_W,ALUMIN,ALUMIN_FLAG_W,DELO18,DELO18_FLAG_W,DOC,DOC_FLAG_W,TDN,TDN_FLAG_W,BTL_DATE,BTL_TIME,BTL_LAT,BTL_LON,TRITER,DELSI30,DELSI30_FLAG_W,CDOM380,CDOM380_FLAG_W,CDOM325,CDOM325_FLAG_W,CDOMSL,CDOMSL_FLAG_W,CDOM340,CDOM340_FLAG_W,CDOM443,CDOM443_FLAG_W,CDOMSN,CDOMSN_FLAG_W,BLACKC,BLACKC_FLAG_W,CDOM490,CDOM490_FLAG_W,CDOM412,CDOM412_FLAG_W,CDOM555,CDOM555_FLAG_W,DELHER,HELIER
,,,,,,,,,,,METERS,DBAR,ITS-90,PSS-78,,PSS-78,,UMOL/KG,,UMOL/KG,,UMOL/KG,,UMOL/KG,,UMOL/KG,,UMOL/KG,,PMOL/KG,,PMOL/KG,,PMOL/KG,,UMOL/KG,,UMOL/KG,,,,DEG C,TU,,NMOL/KG,,PERCNT,,DEG C,,/MILLE,,/MILLE,,/MILLE,NMOL/KG,,NMOL/KG,PMOL/KG,,NMOL/L,,/MILLE,,UMOL/KG,,UMOL/KG,,,,,,TU,/MILLE,,1/M,,1/M,,1/NM,,1/M,,1/M,,1/NM,,,,1/M,,1/M,,1/M,,PERCNT,NMOL/KG
33RR20080204,       I06S,      78,          1,          6,          6,2,20080301,       0817,   -65.6334,    32.4636,       3976,  3001.8,  -0.1120,  34.6603,3,  34.6637,2,    230.8,3,   232.8,2,  122.86,2,   32.27,2,    0.00,2,    2.23,2,   0.828,2,   0.439,2,   0.058,2,    -999,9,    -999,9,     -999,9,     -999,    -999,9,    -999,9,    -999,9,-0.111,2,-999,9,-999,9,-999,    -999,9,    -999,1.348,2,-999,9,-999,9,    -999,9,-999,9, 20080301,     0842, -65.6334,  32.4637,    -999,-999,9,     -999,9,     -999,9,     -999,9,     -999,9,     -999,9,     -999,9,-999,9,     -999,9,     -999,9,     -999,9,    -999,    -999
33RR20080204,       I06S,      78,          1,          5,          5,2,20080301,       0817,   -65.6334,    32.4636,       3976,  3311.3,  -0.1484,  34.6579,2,  34.6595,2,    234.7,3,   235.7,2,  122.86,2,   32.22,2,    0.00,2,    2.23,2,   0.944,2,   0.509,2,   0.068,2,    -999,9,    -999,9,     -999,9,     -999,    -999,9,    -999,9,    -999,9,-0.1475,2,-999,9,-999,9,-999,    -999,9,    -999,1.425,2,-999,9,-999,9,    -999,9,-999,9, 20080301,     0835, -65.6334,  32.4636,    -999,-999,9,     -999,9,     -999,9,     -999,9,     -999,9,     -999,9,     -999,9,-999,9,     -999,9,     -999,9,     -999,9,    -999,    -999
33RR20080204,       I06S,      78,          1,          4,          4,2,20080301,       0817,   -65.6334,    32.4636,       3976,  3617.1,  -0.1612,  34.6552,3,  34.6587,2,    238.5,3,   237.6,2,  123.07,2,   32.11,2,    0.00,2,    2.23,2,   1.055,2,   0.566,2,   0.069,2,    -999,9,  2352.5,2,   7.7886,2,    13.00,    -999,9,    -999,9,    -999,9,-0.1606,2,-999,9,-999,9,-999,    -999,9,    -999,1.541,2,-999,9,-999,9,    -999,9,-999,9, 20080301,     0829, -65.6334,  32.4636,    -999,-999,9,     -999,9,     -999,9,     -999,9,     -999,9,     -999,9,     -999,9,-999,9,     -999,9,     -999,9,     -999,9,    -999,    -999
33RR20080204,       I06S,      78,          1,          3,          3,2,20080301,       0817,   -65.6334,    32.4636,       3976,  3922.3,  -0.2105,  34.6522,3,  34.6562,2,    240.7,3,   240.4,2,  125.75,2,   32.21,2,    0.00,2,    2.24,2,   0.951,2,   0.524,2,   0.077,2,    -999,9,  2354.5,2,     -999,5,     -999,    -999,9,    -999,9,    -999,9,-0.21,2,-999,9,-999,9,-999,    -999,9,    -999,1.48,2,-999,9,-999,9,    -999,9,-999,9, 20080301,     0822, -65.6334,  32.4637,    -999,-999,9,     -999,9,     -999,9,     -999,9,     -999,9,     -999,9,     -999,9,-999,9,     -999,9,     -999,9,     -999,9,    -999,    -999
33RR20080204,       I06S,      78,          1,          2,          2,2,20080301,       0817,   -65.6334,    32.4636,       3976,  4016.2,  -0.2152,  34.6531,2,  34.6552,2,    241.9,3,   240.6,2,  125.34,2,   32.21,2,    0.00,2,    2.24,2,   0.937,2,   0.517,2,   0.066,2,    -999,9,    -999,9,     -999,9,     -999,    -999,9,    -999,9,    -999,9,-0.2141,2,-999,9,-999,9,-999,    -999,9,    -999,1.475,2,-999,9,-999,9,    -999,9,-999,9, 20080301,     0819, -65.6334,  32.4636,    -999,-999,9,     -999,9,     -999,9,     -999,9,     -999,9,     -999,9,     -999,9,-999,9,     -999,9,     -999,9,     -999,9,    -999,    -999
33RR20080204,       I06S,      78,          1,          1,          1,2,20080301,       0817,   -65.6334,    32.4636,       3976,  4018.6,  -0.2148,  34.6532,2,  34.6550,2,    241.3,3,   240.7,2,  126.17,2,   32.26,2,    0.00,2,    2.24,2,   0.944,2,   0.519,2,   0.083,2,    -999,9,  2354.3,2,   7.7922,2,    13.00,    -999,9,    -999,9,    -999,9,-0.2138,2,-999,9,-999,9,-999,    -999,9,    -999,1.481,2,-999,9,-999,9,    -999,9,-999,9, 20080301,     0819, -65.6334,  32.4636,    -999,-999,9,     -999,9,     -999,9,     -999,9,     -999,9,     -999,9,     -999,9,-999,9,     -999,9,     -999,9,     -999,9,    -999,    -999