BOTTLE,20220706CCHSIOAMB
EXPOCODE,SECT_ID,STNNBR,CASTNO,SAMPNO,BTLNBR,BTLNBR_FLAG_W,DATE,TIME,LATITUDE,LONGITUDE,DEPTH,CTDPRS,CTDTMP,CTDSAL,CTDSAL_FLAG_W,SALNTY,SALNTY_FLAG_W,CTDOXY,CTDOXY_FLAG_W,OXYGEN,OXYGEN_FLAG_W,SILCAT,SILCAT_FLAG_W,NITRAT,NITRAT_FLAG_W,NITRIT,NITRIT_FLAG_W,PHSPHT,PHSPHT_FLAG_W,CFC-11,CFC-11_FLAG_W,CFC-12,CFC-12_FLAG_W,CFC113,CFC113_FLAG_W,TCARBN,TCARBN_FLAG_W,ALKALI,ALKALI_FLAG_W,PH_SWS,PH_SWS_FLAG_W,PH_TMP,TRITUM,TRITUM_FLAG_W,HELIUM,HELIUM_FLAG_W,DELHE3,DELHE3_FLAG_W,REFTMP,REFTMP_FLAG_W,DELC13,DELC13_FLAG_W,DELC14,DELC14_FLAG_W,C14ERR,NEON,NEON_FLAG_W,NEONER,CCL4,CCL4_FLAG_W,ALUMIN,ALUMIN_FLAG_W,DELO18,DELO18_FLAG_W,DOC,DOC_FLAG_W,TDN,TDN_FLAG_W,BTL_DATE,BTL_TIME,BTL_LAT,BTL_LON,TRITER,DELSI30,DELSI30_FLAG_W,CDOM380,CDOM380_FLAG_W,CDOM325,CDOM325_FLAG_W,CDOMSL,CDOMSL_FLAG_W,CDOM340,CDOM340_FLAG_W,CDOM443,CDOM443_FLAG_W,CDOMSN,CDOMSN_FLAG_W,BLACKC,BLACKC_FLAG_W,CDOM490,CDOM490_FLAG_W,CDOM412,CDOM412_FLAG_W,CDOM555,CDOM555_FLAG_W,DELHER,HELIER
,,,,,,,,,,,METERS,DBAR,ITS-90,PSS-78,,PSS-78,,UMOL/KG,,UMOL/KG,,UMOL/KG,,UMOL/KG,,UMOL/KG,,UMOL/KG,,PMOL/KG,,PMOL/KG,,PMOL/KG,,UMOL/KG,,UMOL/KG,,,,DEG C,TU,,NMOL/KG,,PERCNT,,DEG C,,/MILLE,,/MILLE,,/MILLE,NMOL/KG,,NMOL/KG,PMOL/KG,,NMOL/L,,/MILLE,,UMOL/KG,,UMOL/KG,,,,,,TU,/MILLE,,1/M,,1/M,,1/NM,,1/M,,1/M,,1/NM,,,,1/M,,1/M,,1/M,,PERCNT,NMOL/KG
33RR20080204,       I06S,      37,          3,         36,         36,2,20080216,       2251,   -45.4990,    29.9984,       5863,     4.7,   9.4566,  34.0153,2,  34.0149,2,    285.2,2,   285.6,2,    1.01,2,   15.30,2,    0.23,2,    1.11,2,   3.961,2,   2.266,2,   0.372,2,  2090.4,6,  2274.5,2,   8.0291,2,    13.00,    -999,9,    -999,9,    -999,9,9.4554,2,1.65,2,-3.6,2,2.8,    -999,9,    -999,4.072,2,-999,9,-999,9,   45.46,2,-999,1, 20080217,     0125, -45.4984,  29.9991,    -999,-999,9,     -999,9,     -999,9,     -999,9,     -999,9,     -999,9,     -999,9,-999,9,     -999,9,     -999,9,     -999,9,    -999,    -999
33RR20080204,       I06S,      37,          3,         35,         35,2,20080216,       2251,   -45.4990,    29.9984,       5863,    29.7,   9.4309,  34.0124,2,  34.0124,2,    287.3,2,   286.0,2,    0.82,2,   15.31,2,    0.23,2,    1.11,2,   3.961,2,   2.268,2,   0.374,2,  2090.6,2,  2274.0,2,   8.0304,2,    13.00,    -999,9,    -999,9,    -999,9,9.4275,2,-999,9,-999,9,-999,    -999,9,    -999,4.194,2,-999,9,-999,9,   46.34,2,-999,1, 20080217,     0123, -45.4983,  29.9992,    -999,-999,9,     -999,9,     -999,9,     -999,9,     -999,9,     -999,9,     -999,9,-999,9,     -999,9,     -999,9,     -999,9,    -999,    -999
33RR20080204,       I06S,      37,          3,         34,         34,2,20080216,       2251,   -45.4990,    29.9984,       5863,    49.4,   9.3792,  34.0104,2,  34.0120,2,    287.4,2,   286.6,2,    0.82,2,   15.31,2,    0.23,2,    1.11,2,   3.989,2,   2.290,2,   0.375,2,  2090.5,2,  2273.5,2,   8.0311,2,    13.00,    -999,9,    -999,9,    -999,9,9.3789,2,-999,9,-999,9,-999,    -999,9,    -999,4.3,2,-999,9,-999,9,   48.10,2,-999,1, 20080217,     0122, -45.4983,  29.9992,    -999,-999,9,     -999,9,     -999,9,     -999,9,     -999,9,     -999,9,     -999,9,-999,9,     -999,9,     -999,9,     -999,9,    -999,    -999
33RR20080204,       I06S,      37,          3,         33,         33,2,20080216,       2251,   -45.4990,    29.9984,       5863,    79.8,   7.8918,  34.0491,2,  34.0587,2,    293.5,2,   293.8,2,    1.18,2,   15.93,2,    0.25,2,    1.21,2,   4.292,2,   2.447,2,   0.387,2,  2098.9,2,  2274.0,2,   8.0096,2,    13.00,    -999,9,    -999,9,    -999,9,7.9811,3,1.7,2,-0.8,2,2.7,    -999,9,    -999,4.499,2,-999,9,-999,9,   46.54,2,-999,1, 20080217,     0120, -45.4983,  29.9992,    -999,-999,9,     -999,9,     -999,9,     -999,9,     -999,9,     -999,9,     -999,9,-999,9,     -999,9,     -999,9,     -999,9,    -999,    -999
33RR20080204,       I06S,      37,          3,         32,         32,2,20080216,       2251,   -45.4990,    29.9984,       5863,   109.7,   6.0512,  33.9832,2,  33.9809,2,    295.0,2,   299.7,2,    3.37,2,   18.60,2,    0.31,2,    1.44,2,   4.772,2,   2.659,2,   0.423,2,  2117.2,2,  2270.4,2,   7.9585,2,    13.00,    -999,9,    -999,9,    -999,9,6.0518,2,-999,9,-999,9,-999,    -999,9,    -999,4.714,2,-999,9,-999,9,   47.32,2,-999,1, 20080217,     0119, -45.4983,  29.9991,    -999,-999,9,     -999,9,     -999,9,     -999,9,     -999,9,     -999,9,     -999,9,-999,9,     -999,9,     -999,9,     -999,9,    -999,    -999
33RR20080204,       I06S,      37,          3,         31,         31,2,20080216,       2251,   -45.4990,    29.9984,       5863,   155.9,   6.2272,  34.0749,2,  34.0726,2,    287.2,2,   291.1,2,    4.46,2,   18.67,2,    0.69,2,    1.41,2,   4.572,2,   2.587,2,   0.435,2,  2119.0,2,  2272.5,2,   7.9531,3,    13.00,    -999,9,    -999,9,    -999,9,6.2242,2,1.49,2,5.3,2,3.0,    -999,9,    -999,4.675,2,-999,9,-999,9,   45.76,2,-999,1, 20080217,     0117, -45.4984,  29.9991,    -999,-999,9,     -999,9,     -999,9,     -999,9,     -999,9,     -999,9,     -999,9,-999,9,     -999,9,     -999,9,     -999,9,    -999,    -999
33RR20080204,       I06S,      37,          3,         30,         30,2,20080216,       2251,   -45.4990,    29.9984,       5863,   209.5,   5.7578,  34.1115,2,  34.1214,2,    284.7,2,   282.5,2,    5.74,2,   20.67,2,    0.03,2,    1.46,2,   4.533,2,   2.557,2,   0.410,2,    -999,9,  2272.6,2,   7.9377,2,    13.00,    -999,9,    -999,9,    -999,9,5.7751,2,-999,9,-999,9,-999,    -999,9,    -999,4.486,2,-999,9,-999,9,   45.76,2,-999,1, 20080217,     0115, -45.4983,  29.9992,    -999,-999,9,     -999,9,     -999,9,     -999,9,     -999,9,     -999,9,     -999,9,-999,9,     -999,9,     -999,9,     -999,9,    -999,    -999
33RR20080204,       I06S,      37,          3,         29,         29,2,20080216,       2251,   -45.4990,    29.9984,       5863,   258.9,   6.2123,  34.3003,2,  34.2981,2,    242.2,2,   245.7,2,   10.12,2,   23.03,2,    0.02,2,    1.60,2,   3.958,2,   2.193,2,   0.340,2,  2146.5,2,  2281.8,2,   7.8996,3,    13.00,    -999,9,    -999,9,    -999,9,6.22,2,1.14,2,4.1,2,3.6,    -999,9,    -999,3.858,2,-999,9,-999,9,   45.37,2,-999,1, 20080217,     0112, -45.4983,  29.9992,    -999,-999,9,     -999,9,     -999,9,     -999,9,     -999,9,     -999,9,     -999,9,-999,9,     -999,9,     -999,9,     -999,9,    -999,    -999
33RR20080204,       I06S,      37,          3,         28,         28,2,20080216,       2251,   -45.4990,    29.9984,       5863,   309.2,   5.4328,  34.2370,2,  34.2342,2,    250.1,2,   250.3,2,   10.49,2,   24.74,2,    0.02,2,    1.70,2,   4.243,2,   2.324,2,   0.381,2,    -999,9,  2278.2,2,   7.8792,3,    13.00,    -999,9,    -999,9,    -999,9,5.4343,2,-999,9,-999,9,-999,    -999,9,    -999,4.098,2,-999,9,-999,9,   44.29,2,-999,1, 20080217,     0110, -45.4983,  29.9992,    -999,-999,9,     -999,9,     -999,9,     -999,9,     -999,9,     -999,9,     -999,9,-999,9,     -999,9,     -999,9,     -999,9,    -999,    -999
33RR20080204,       I06S,      37,          3,         27,         27,2,20080216,       2251,   -45.4990,    29.9984,       5863,   359.4,   4.8483,  34.1860,2,  34.1842,2,    230.5,2,   255.3,2,   11.58,2,   25.89,2,    0.01,2,    1.78,2,   4.385,2,   2.393,2,   0.387,2,  2154.4,2,  2275.6,2,   7.8714,2,    13.00,    -999,9,    -999,9,    -999,9,4.8477,2,1.14,2,-11.3,2,3.2,    -999,9,    -999,4.102,2,-999,9,-999,9,   42.73,2,-999,1, 20080217,     0108, -45.4983,  29.9992,    -999,-999,9,     -999,9,     -999,9,     -999,9,     -999,9,     -999,9,     -999,9,-999,9,     -999,9,     -999,9,     -999,9,    -999,    -999
33RR20080204,       I06S,      37,          3,         26,         26,2,20080216,       2251,   -45.4990,    29.9984,       5863,   409.5,   5.3957,  34.3174,2,  34.3180,2,    254.1,2,   226.1,2,   18.18,2,   26.85,2,    0.01,2,    1.85,2,   3.380,2,   1.806,2,   0.280,2,    -999,9,  2288.3,2,   7.8556,3,    13.00,    -999,9,    -999,9,    -999,9,5.3866,2,1.03,2,-15.5,2,3.0,    -999,9,    -999,3.56,2,-999,9,-999,9,    -999,9,-999,9, 20080217,     0106, -45.4983,  29.9991,    -999,-999,9,     -999,9,     -999,9,     -999,9,     -999,9,     -999,9,     -999,9,-999,9,     -999,9,     -999,9,     -999,9,    -999,    -999
33RR20080204,       I06S,      37,          3,         25,         25,2,20080216,       2251,   -45.4990,    29.9984,       5863,   460.0,   4.3933,  34.1852,2,  34.1953,2,    251.7,2,   250.1,2,   15.60,2,   27.10,2,    0.01,2,    1.86,2,   4.063,2,   2.201,2,   0.366,2,  2161.0,2,  2280.7,2,   7.8593,2,    13.00,    -999,9,    -999,9,    -999,9,4.403,2,1.15,2,-20.6,2,2.9,    -999,9,    -999,3.735,2,-999,9,-999,9,   41.56,2,-999,1, 20080217,     0103, -45.4983,  29.9992,    -999,-999,9,     -999,9,     -999,9,     -999,9,     -999,9,     -999,9,     -999,9,-999,9,     -999,9,     -999,9,     -999,9,    -999,    -999
33RR20080204,       I06S,      37,          3,         24,         24,2,20080216,       2251,   -45.4990,    29.9984,       5863,   509.9,   4.5974,  34.2570,2,  34.2572,2,    248.6,2,   235.4,2,   20.38,2,   27.91,2,    0.01,2,    1.92,2,   3.461,2,   1.849,2,   0.268,2,    -999,9,  2287.6,2,   7.8461,2,    13.00,    -999,9,    -999,9,    -999,9,4.6045,2,1.09,2,-39.6,2,2.8,    -999,9,    -999,3.709,2,-999,9,-999,9,    -999,9,-999,9, 20080217,     0101, -45.4983,  29.9991,    -999,-999,9,     -999,9,     -999,9,     -999,9,     -999,9,     -999,9,     -999,9,-999,9,     -999,9,     -999,9,     -999,9,    -999,    -999
33RR20080204,       I06S,      37,          3,         23,         23,2,20080216,       2251,   -45.4990,    29.9984,       5863,   610.6,   4.0415,  34.2517,2,  34.2502,2,    233.8,2,   233.5,2,   25.34,2,   29.22,2,    0.01,2,    2.01,2,   3.182,2,   1.683,2,   0.237,2,  2180.0,2,  2291.4,2,   7.8336,3,    13.00,    -999,9,    -999,9,    -999,9,4.0423,2,1.06,2,-52.1,2,3.2,    -999,9,    -999,3.239,2,-999,9,-999,9,   42.34,2,-999,1, 20080217,     0058, -45.4984,  29.9991,    -999,-999,9,     -999,9,     -999,9,     -999,9,     -999,9,     -999,9,     -999,9,-999,9,     -999,9,     -999,9,     -999,9,    -999,    -999
33RR20080204,       I06S,      37,          3,         22,         22,2,20080216,       2251,   -45.4990,    29.9984,       5863,   811.9,   3.4991,  34.3296,2,  34.3279,2,    207.6,2,   208.1,2,   39.36,2,   31.65,2,    0.00,2,    2.19,2,   2.128,2,   1.070,2,   0.152,2,    -999,9,  2304.1,2,   7.7961,2,    13.00,    -999,9,    -999,9,    -999,9,3.5039,2,0.87,2,-83.8,2,3.2,    -999,9,    -999,2.5,2,-999,9,-999,9,   33.95,4,-999,1, 20080217,     0053, -45.4982,  29.9992,    -999,-999,9,     -999,9,     -999,9,     -999,9,     -999,9,     -999,9,     -999,9,-999,9,     -999,9,     -999,9,     -999,9,    -999,    -999
33RR20080204,       I06S,      37,          3,         21,         21,2,20080216,       2251,   -45.4990,    29.9984,       5863,  1010.9,   3.0713,  34.4193,2,  34.4127,3,    188.1,2,   190.1,2,   52.71,2,   33.17,2,    0.00,2,    2.30,2,   1.277,2,   0.643,2,   0.075,2,  2233.3,6,  2315.6,2,   7.7674,2,    13.00,    -999,9,    -999,9,    -999,9,3.0646,2,0.67,2,-91.8,2,3.1,    -999,9,    -999,1.688,2,-999,9,-999,9,   39.32,2,-999,1, 20080217,     0048, -45.4983,  29.9991,    -999,-999,1,     -999,9,     -999,9,     -999,9,     -999,9,     -999,9,     -999,9,-999,9,     -999,9,     -999,9,     -999,9,    -999,    -999
33RR20080204,       I06S,      37,          3,         20,         20,2,20080216,       2251,   -45.4990,    29.9984,       5863,  1212.7,   2.8961,  34.5386,2,  34.5366,2,    176.8,2,   176.5,2,   63.11,2,   33.21,2,    0.00,2,    2.31,2,   0.526,2,   0.287,2,   0.027,2,    -999,9,  2329.3,2,   7.7616,2,    13.00,    -999,9,    -999,9,    -999,9,2.8965,2,0.57,2,-106.2,2,3.5,    -999,9,    -999,1.019,2,-999,9,-999,9,   38.44,2,-999,1, 20080217,     0044, -45.4983,  29.9992,    -999,-999,9,     -999,9,     -999,9,     -999,9,     -999,9,     -999,9,     -999,9,-999,9,     -999,9,     -999,9,     -999,9,    -999,    -999
33RR20080204,       I06S,      37,          3,         19,         19,2,20080216,       2251,   -45.4990,    29.9984,       5863,  1423.6,   2.7491,  34.6293,2,  34.6280,2,    177.6,2,   177.3,2,   67.02,2,   32.20,2,    0.00,2,    2.22,2,   0.264,2,   0.151,2,   0.008,2,    -999,9,  2337.0,2,   7.7732,2,    13.00,    -999,9,    -999,9,    -999,9,2.7476,2,0.55,2,-139.1,2,2.7,    -999,9,    -999,0.675,2,-999,9,-999,9,    -999,9,-999,9, 20080217,     0039, -45.4983,  29.9992,    -999,-999,9,     -999,9,     -999,9,     -999,9,     -999,9,     -999,9,     -999,9,-999,9,     -999,9,     -999,9,     -999,9,    -999,    -999
33RR20080204,       I06S,      37,          3,         18,         18,2,20080216,       2251,   -45.4990,    29.9984,       5863,  1625.6,   2.6593,  34.7004,2,  34.6991,2,    184.9,2,   185.2,2,   66.64,2,   30.57,2,    0.00,2,    2.11,2,   0.154,2,   0.088,2,   0.012,2,  2243.3,2,  2338.9,2,   7.7923,2,    13.00,    -999,9,    -999,9,    -999,9,2.6594,2,0.57,2,-142.3,2,2.6,    -999,9,    -999,0.586,2,-999,9,-999,9,   43.61,3,-999,1, 20080217,     0034, -45.4983,  29.9992,    -999,-999,1,     -999,9,     -999,9,     -999,9,     -999,9,     -999,9,     -999,9,-999,9,     -999,9,     -999,9,     -999,9,    -999,    -999
33RR20080204,       I06S,      37,          3,         17,         17,2,20080216,       2251,   -45.4990,    29.9984,       5863,  1828.3,   2.5778,  34.7458,2,  34.7441,2,    193.1,2,   193.4,2,   66.64,2,   29.41,2,    0.00,2,    2.02,2,   0.108,2,   0.064,2,   0.010,2,    -999,9,  2340.9,2,   7.8044,4,    13.00,    -999,9,    -999,9,    -999,9,2.5778,2,0.58,2,-142.8,2,2.3,    -999,9,    -999,0.535,2,-999,9,-999,9,    -999,9,-999,9, 20080217,     0030, -45.4983,  29.9992,    -999,-999,9,     -999,9,     -999,9,     -999,9,     -999,9,     -999,9,     -999,9,-999,9,     -999,9,     -999,9,     -999,9,    -999,    -999
33RR20080204,       I06S,      37,          3,         16,         16,2,20080216,       2251,   -45.4990,    29.9984,       5863,  2018.6,   2.5176,  34.7810,2,  34.7790,2,    202.6,2,   202.3,2,   64.39,2,   28.06,2,    0.00,2,    1.92,2,   0.075,2,   0.044,2,   0.000,2,  2234.5,2,  2339.9,2,   7.8308,2,    13.00,    -999,9,    -999,9,    -999,9,2.5189,2,0.66,2,-137.4,2,2.7,    -999,9,    -999,0.486,2,-999,9,-999,9,   38.54,2,-999,1, 20080217,     0025, -45.4983,  29.9991,    -999,-999,1,     -999,9,     -999,9,     -999,9,     -999,9,     -999,9,     -999,9,-999,9,     -999,9,     -999,9,     -999,9,    -999,    -999
33RR20080204,       I06S,      37,          3,         15,         15,2,20080216,       2251,   -45.4990,    29.9984,       5863,  2332.8,   2.3313,  34.8030,2,  34.8014,2,    211.4,2,   211.5,2,   65.89,2,   27.10,2,    0.00,2,    1.85,2,   0.055,2,   0.033,2,   0.003,2,    -999,9,  2342.8,2,   7.8474,2,    13.00,    -999,9,    -999,9,    -999,9,2.3315,2,-999,9,-999,9,-999,    -999,9,    -999,0.501,2,-999,9,-999,9,    -999,9,-999,9, 20080217,     0019, -45.4983,  29.9991,    -999,-999,9,     -999,9,     -999,9,     -999,9,     -999,9,     -999,9,     -999,9,-999,9,     -999,9,     -999,9,     -999,9,    -999,    -999
33RR20080204,       I06S,      37,          3,         14,         14,2,20080216,       2251,   -45.4990,    29.9984,       5863,  2636.8,   2.1351,  34.8068,2,  34.8051,2,    215.9,2,   214.9,2,   69.61,2,   26.89,2,    0.00,2,    1.84,2,   0.052,2,   0.031,2,   0.009,2,  2230.9,2,  2347.1,2,   7.8531,2,    13.00,    -999,9,    -999,9,    -999,9,2.1349,2,-999,9,-999,9,-999,    -999,9,    -999,0.563,2,-999,9,-999,9,   41.17,2,-999,1, 20080217,     0012, -45.4984,  29.9992,    -999,-999,1,     -999,9,     -999,9,     -999,9,     -999,9,     -999,9,     -999,9,-999,9,     -999,9,     -999,9,     -999,9,    -999,    -999
33RR20080204,       I06S,      37,          3,         13,         13,2,20080216,       2251,   -45.4990,    29.9984,       5863,  2950.7,   1.8398,  34.7857,2,  34.7859,2,    214.8,2,   213.7,2,   80.26,2,   27.95,2,    0.00,2,    1.92,2,   0.070,2,   0.037,2,   0.021,2,    -999,9,  2351.9,2,   7.8422,3,    13.00,    -999,9,    -999,9,    -999,9,1.8392,2,-999,9,-999,9,-999,    -999,9,    -999,0.688,2,-999,9,-999,9,    -999,9,-999,9, 20080217,     0005, -45.4983,  29.9992,    -999,-999,9,     -999,9,     -999,9,     -999,9,     -999,9,     -999,9,     -999,9,-999,9,     -999,9,     -999,9,     -999,9,    -999,    -999
33RR20080204,       I06S,      37,          3,         12,         12,2,20080216,       2251,   -45.4990,    29.9984,       5863,  3254.2,   1.5336,  34.7659,2,  34.7653,2,    214.0,2,   214.1,2,   90.57,2,   28.90,2,    0.00,2,    1.99,2,   0.081,2,   0.048,2,   0.040,2,  2244.8,2,  2356.3,2,   7.8349,2,    13.00,    -999,9,    -999,9,    -999,9,1.5329,2,-999,9,-999,9,-999,    -999,9,    -999,0.866,2,-999,9,-999,9,   39.80,2,-999,1, 20080216,     2358, -45.4983,  29.9992,    -999,-999,1,     -999,9,     -999,9,     -999,9,     -999,9,     -999,9,     -999,9,-999,9,     -999,9,     -999,9,     -999,9,    -999,    -999
33RR20080204,       I06S,      37,          3,         11,         11,2,20080216,       2251,   -45.4990,    29.9984,       5863,  3557.8,   1.1652,  34.7301,2,  34.7303,2,    210.3,2,   210.8,2,  104.85,2,   30.47,2,    0.00,2,    2.11,2,   0.154,2,   0.084,2,   0.008,2,    -999,9,  2360.2,2,   7.8133,3,    13.00,    -999,9,    -999,9,    -999,9,1.1659,2,-999,9,-999,9,-999,    -999,9,    -999,0.867,2,-999,9,-999,9,    -999,9,-999,9, 20080216,     2352, -45.4983,  29.9993,    -999,-999,9,     -999,9,     -999,9,     -999,9,     -999,9,     -999,9,     -999,9,-999,9,     -999,9,     -999,9,     -999,9,    -999,    -999
33RR20080204,       I06S,      37,          3,         10,         10,2,20080216,       2251,   -45.4990,    29.9984,       5863,  3866.1,   0.8916,  34.7073,2,  34.7071,2,    210.3,2,   210.8,2,  114.83,2,   31.53,2,    0.00,2,    2.18,2,   0.220,2,   0.119,2,   0.016,2,    -999,9,  2361.4,2,   7.7994,2,    13.00,    -999,9,    -999,9,    -999,9,0.8915,2,-999,9,-999,9,-999,    -999,9,    -999,0.923,2,-999,9,-999,9,   39.80,2,-999,1, 20080216,     2345, -45.4989,  29.9985,    -999,-999,1,     -999,9,     -999,9,     -999,9,     -999,9,     -999,9,     -999,9,-999,9,     -999,9,     -999,9,     -999,9,    -999,    -999
33RR20080204,       I06S,      37,          3,          9,          9,2,20080216,       2251,   -45.4990,    29.9984,       5863,  4172.1,   0.7119,  34.6956,2,  34.6957,2,    212.1,2,   212.0,2,  121.26,2,   31.99,2,    0.00,2,    2.20,2,   0.232,2,   0.132,2,   0.013,2,    -999,9,  2360.6,2,   7.7946,2,    13.00,    -999,9,    -999,9,    -999,9,0.7118,2,-999,9,-999,9,-999,    -999,9,    -999,0.961,2,-999,9,-999,9,    -999,9,-999,9, 20080216,     2338, -45.4990,  29.9983,    -999,-999,9,     -999,9,     -999,9,     -999,9,     -999,9,     -999,9,     -999,9,-999,9,     -999,9,     -999,9,     -999,9,    -999,    -999
33RR20080204,       I06S,      37,          3,          8,          8,2,20080216,       2251,   -45.4990,    29.9984,       5863,  4488.3,   0.5662,  34.6876,2,  34.6875,2,    215.2,2,   216.0,2,  125.41,2,   32.18,2,    0.00,2,    2.22,2,   0.234,2,   0.130,2,   0.008,2,  2266.9,2,  2361.3,2,   7.7936,2,    13.00,    -999,9,    -999,9,    -999,9,0.566,2,-999,9,-999,9,-999,    -999,9,    -999,0.912,2,-999,9,-999,9,   42.05,2,-999,1, 20080216,     2330, -45.4990,  29.9983,    -999,-999,1,     -999,9,     -999,9,     -999,9,     -999,9,     -999,9,     -999,9,-999,9,     -999,9,     -999,9,     -999,9,    -999,    -999