BOTTLE,20220706CCHSIOAMB
EXPOCODE,SECT_ID,STNNBR,CASTNO,SAMPNO,BTLNBR,BTLNBR_FLAG_W,DATE,TIME,LATITUDE,LONGITUDE,DEPTH,CTDPRS,CTDTMP,CTDSAL,CTDSAL_FLAG_W,SALNTY,SALNTY_FLAG_W,CTDOXY,CTDOXY_FLAG_W,OXYGEN,OXYGEN_FLAG_W,SILCAT,SILCAT_FLAG_W,NITRAT,NITRAT_FLAG_W,NITRIT,NITRIT_FLAG_W,PHSPHT,PHSPHT_FLAG_W,CFC-11,CFC-11_FLAG_W,CFC-12,CFC-12_FLAG_W,CFC113,CFC113_FLAG_W,TCARBN,TCARBN_FLAG_W,ALKALI,ALKALI_FLAG_W,PH_SWS,PH_SWS_FLAG_W,PH_TMP,TRITUM,TRITUM_FLAG_W,HELIUM,HELIUM_FLAG_W,DELHE3,DELHE3_FLAG_W,REFTMP,REFTMP_FLAG_W,DELC13,DELC13_FLAG_W,DELC14,DELC14_FLAG_W,C14ERR,NEON,NEON_FLAG_W,NEONER,CCL4,CCL4_FLAG_W,ALUMIN,ALUMIN_FLAG_W,DELO18,DELO18_FLAG_W,DOC,DOC_FLAG_W,TDN,TDN_FLAG_W,BTL_DATE,BTL_TIME,BTL_LAT,BTL_LON,TRITER,DELSI30,DELSI30_FLAG_W,CDOM380,CDOM380_FLAG_W,CDOM325,CDOM325_FLAG_W,CDOMSL,CDOMSL_FLAG_W,CDOM340,CDOM340_FLAG_W,CDOM443,CDOM443_FLAG_W,CDOMSN,CDOMSN_FLAG_W,BLACKC,BLACKC_FLAG_W,CDOM490,CDOM490_FLAG_W,CDOM412,CDOM412_FLAG_W,CDOM555,CDOM555_FLAG_W,DELHER,HELIER
,,,,,,,,,,,METERS,DBAR,ITS-90,PSS-78,,PSS-78,,UMOL/KG,,UMOL/KG,,UMOL/KG,,UMOL/KG,,UMOL/KG,,UMOL/KG,,PMOL/KG,,PMOL/KG,,PMOL/KG,,UMOL/KG,,UMOL/KG,,,,DEG C,TU,,NMOL/KG,,PERCNT,,DEG C,,/MILLE,,/MILLE,,/MILLE,NMOL/KG,,NMOL/KG,PMOL/KG,,NMOL/L,,/MILLE,,UMOL/KG,,UMOL/KG,,,,,,TU,/MILLE,,1/M,,1/M,,1/NM,,1/M,,1/M,,1/NM,,,,1/M,,1/M,,1/M,,PERCNT,NMOL/KG
33RR20080204,       I06S,      53,          1,          7,          7,2,20080222,       0752,   -53.4984,    29.9988,       5401,  4122.1,   0.1229,  34.6678,2,  34.6685,2,    225.8,2,   225.5,2,  129.06,2,   32.77,2,    0.00,2,    2.28,2,   0.389,2,   0.207,2,   0.022,2,  2259.1,2,  2353.9,2,   7.7901,3,    13.00,    -999,9,    -999,9,    -999,9,0.1238,2,-999,9,-999,9,-999,    -999,9,    -999,1.149,2,-999,9,-999,9,   37.27,2,-999,1, 20080222,     0825, -53.4984,  29.9986,    -999,-999,9,   0.0323,2,   0.1103,2,   0.0181,2,   0.0716,2,   0.0110,2,   0.0211,3,-999,9,   0.0021,2,   0.0208,2,  -0.0009,4,    -999,    -999
33RR20080204,       I06S,      53,          1,          6,          6,2,20080222,       0752,   -53.4984,    29.9988,       5401,  4439.8,   0.0271,  34.6636,2,  34.6628,2,    230.4,2,   230.3,2,  129.81,2,   32.72,2,    0.00,2,    2.28,2,   0.384,2,   0.210,2,   0.022,2,  2258.5,2,  2352.3,2,   7.7932,3,    13.00,    -999,9,    -999,9,    -999,9,0.0273,2,-999,9,-999,9,-999,    -999,9,    -999,1.147,2,-999,9,-999,9,    -999,9,-999,9, 20080222,     0818, -53.4984,  29.9987,    -999,-999,1,     -999,9,     -999,9,     -999,9,     -999,9,     -999,9,     -999,9,-999,9,     -999,9,     -999,9,     -999,9,    -999,    -999
33RR20080204,       I06S,      53,          1,          5,          5,2,20080222,       0752,   -53.4984,    29.9988,       5401,  4642.2,  -0.0430,  34.6608,2,  34.6600,2,    233.9,2,   233.7,2,  130.77,2,   32.57,2,    0.00,2,    2.27,2,   0.438,2,   0.227,2,   0.022,2,  2256.1,2,  2352.5,2,   7.7938,4,    13.00,    -999,9,    -999,9,    -999,9,-0.0425,2,-999,9,-999,9,-999,    -999,9,    -999,1.241,2,-999,9,-999,9,   39.41,2,-999,1, 20080222,     0814, -53.4984,  29.9987,    -999,-999,9,   0.0313,2,   0.1080,2,   0.0182,2,   0.0702,2,   0.0107,2,   0.0214,3,-999,9,   0.0020,2,   0.0202,2,  -0.0010,4,    -999,    -999
33RR20080204,       I06S,      53,          1,          4,          4,2,20080222,       0752,   -53.4984,    29.9988,       5401,  4846.1,  -0.0862,  34.6581,2,  34.6586,2,    236.6,2,   236.1,2,  130.37,2,   32.57,2,    0.00,2,    2.27,2,   0.445,2,   0.236,2,   0.022,2,  2255.5,2,  2352.4,2,   7.7956,2,    13.00,    -999,9,    -999,9,    -999,9,-0.0859,2,-999,9,-999,9,-999,    -999,9,    -999,1.337,2,-999,9,-999,9,    -999,9,-999,9, 20080222,     0809, -53.4984,  29.9987,    -999,-999,1,     -999,9,     -999,9,     -999,9,     -999,9,     -999,9,     -999,9,-999,9,     -999,9,     -999,9,     -999,9,    -999,    -999
33RR20080204,       I06S,      53,          1,          3,          3,2,20080222,       0752,   -53.4984,    29.9988,       5401,  5050.5,  -0.0983,  34.6564,2,  34.6565,2,    238.1,2,   237.7,2,  130.56,2,   32.57,2,    0.00,2,    2.27,2,   0.465,2,   0.243,2,   0.027,2,  2255.1,2,  2350.7,2,   7.7972,2,    13.00,    -999,9,    -999,9,    -999,9,-0.0986,2,-999,9,-999,9,-999,    -999,9,    -999,1.351,2,-999,9,-999,9,   38.73,2,-999,1, 20080222,     0804, -53.4984,  29.9986,    -999,-999,9,   0.0323,2,   0.1103,2,   0.0179,2,   0.0715,2,   0.0114,2,   0.0210,3,-999,9,   0.0024,2,   0.0210,2,  -0.0007,4,    -999,    -999
33RR20080204,       I06S,      53,          1,          2,          2,2,20080222,       0752,   -53.4984,    29.9988,       5401,  5265.3,  -0.1051,  34.6551,2,  34.6559,2,    239.2,2,   238.9,2,  131.12,2,   32.62,2,    0.00,2,    2.27,2,   0.461,2,   0.245,2,   0.025,2,  2254.4,2,  2351.7,2,   7.7980,2,    13.00,    -999,9,    -999,9,    -999,9,-0.1054,2,-999,9,-999,9,-999,    -999,9,    -999,1.199,2,-999,9,-999,9,    -999,9,-999,9, 20080222,     0759, -53.4984,  29.9986,    -999,-999,9,     -999,9,     -999,9,     -999,9,     -999,9,     -999,9,     -999,9,-999,9,     -999,9,     -999,9,     -999,9,    -999,    -999
33RR20080204,       I06S,      53,          1,          1,          1,2,20080222,       0752,   -53.4984,    29.9988,       5401,  5506.3,  -0.0966,  34.6544,2,  34.6553,2,    239.6,2,   240.1,2,  131.50,2,   32.57,2,    0.00,2,    2.28,2,   0.475,2,   0.255,2,   0.048,2,  2252.5,6,  2351.1,2,   7.7983,2,    13.00,    -999,9,    -999,9,    -999,9,-0.0967,2,-999,9,-999,9,-999,    -999,9,    -999,1.321,2,-999,9,-999,9,   36.10,2,-999,1, 20080222,     0754, -53.4984,  29.9988,    -999,-999,1,     -999,9,     -999,9,     -999,9,     -999,9,     -999,9,     -999,9,-999,9,     -999,9,     -999,9,     -999,9,    -999,    -999