BOTTLE,20220706CCHSIOAMB
EXPOCODE,SECT_ID,STNNBR,CASTNO,SAMPNO,BTLNBR,BTLNBR_FLAG_W,DATE,TIME,LATITUDE,LONGITUDE,DEPTH,CTDPRS,CTDTMP,CTDSAL,CTDSAL_FLAG_W,SALNTY,SALNTY_FLAG_W,CTDOXY,CTDOXY_FLAG_W,OXYGEN,OXYGEN_FLAG_W,SILCAT,SILCAT_FLAG_W,NITRAT,NITRAT_FLAG_W,NITRIT,NITRIT_FLAG_W,PHSPHT,PHSPHT_FLAG_W,CFC-11,CFC-11_FLAG_W,CFC-12,CFC-12_FLAG_W,CFC113,CFC113_FLAG_W,TCARBN,TCARBN_FLAG_W,ALKALI,ALKALI_FLAG_W,PH_SWS,PH_SWS_FLAG_W,PH_TMP,TRITUM,TRITUM_FLAG_W,HELIUM,HELIUM_FLAG_W,DELHE3,DELHE3_FLAG_W,REFTMP,REFTMP_FLAG_W,DELC13,DELC13_FLAG_W,DELC14,DELC14_FLAG_W,C14ERR,NEON,NEON_FLAG_W,NEONER,CCL4,CCL4_FLAG_W,ALUMIN,ALUMIN_FLAG_W,DELO18,DELO18_FLAG_W,DOC,DOC_FLAG_W,TDN,TDN_FLAG_W,BTL_DATE,BTL_TIME,BTL_LAT,BTL_LON,TRITER,DELSI30,DELSI30_FLAG_W,CDOM380,CDOM380_FLAG_W,CDOM325,CDOM325_FLAG_W,CDOMSL,CDOMSL_FLAG_W,CDOM340,CDOM340_FLAG_W,CDOM443,CDOM443_FLAG_W,CDOMSN,CDOMSN_FLAG_W,BLACKC,BLACKC_FLAG_W,CDOM490,CDOM490_FLAG_W,CDOM412,CDOM412_FLAG_W,CDOM555,CDOM555_FLAG_W,DELHER,HELIER
,,,,,,,,,,,METERS,DBAR,ITS-90,PSS-78,,PSS-78,,UMOL/KG,,UMOL/KG,,UMOL/KG,,UMOL/KG,,UMOL/KG,,UMOL/KG,,PMOL/KG,,PMOL/KG,,PMOL/KG,,UMOL/KG,,UMOL/KG,,,,DEG C,TU,,NMOL/KG,,PERCNT,,DEG C,,/MILLE,,/MILLE,,/MILLE,NMOL/KG,,NMOL/KG,PMOL/KG,,NMOL/L,,/MILLE,,UMOL/KG,,UMOL/KG,,,,,,TU,/MILLE,,1/M,,1/M,,1/NM,,1/M,,1/M,,1/NM,,,,1/M,,1/M,,1/M,,PERCNT,NMOL/KG
33RR20080204,       I06S,      46,          2,         36,         36,2,20080219,       1636,   -50.2011,    29.9997,       4825,     6.3,   4.4235,  33.7660,2,  33.7644,2,    314.9,2,   315.3,2,    1.07,2,   21.21,2,    0.25,2,    1.43,2,   5.140,2,   2.894,2,   0.454,2,  2106.6,4,  2276.9,2,   7.9557,2,    13.00,    -999,9,    -999,9,    -999,9,4.4225,2,-999,9,-999,9,-999,    -999,9,    -999,7.732,2,-999,9,-999,9,    -999,9,-999,9, 20080219,     1849, -50.2001,  29.9999,    -999,-999,9,     -999,9,     -999,9,     -999,9,     -999,9,     -999,9,     -999,9,-999,9,     -999,9,     -999,9,     -999,9,    -999,    -999
33RR20080204,       I06S,      46,          2,         35,         35,2,20080219,       1636,   -50.2011,    29.9997,       4825,    25.4,   4.4254,  33.7660,2,  33.7646,2,    316.3,2,   315.4,2,    0.89,2,   21.16,2,    0.25,2,    1.42,2,   5.130,2,   2.882,2,   0.443,2,    -999,9,  2276.0,2,   7.9566,2,    13.00,    -999,9,    -999,9,    -999,9,4.4248,2,-999,9,-999,9,-999,    -999,9,    -999,7.754,2,-999,9,-999,9,    -999,9,-999,9, 20080219,     1847, -50.2004,  29.9998,    -999,-999,9,     -999,9,     -999,9,     -999,9,     -999,9,     -999,9,     -999,9,-999,9,     -999,9,     -999,9,     -999,9,    -999,    -999
33RR20080204,       I06S,      46,          2,         34,         34,2,20080219,       1636,   -50.2011,    29.9997,       4825,    46.6,   4.4279,  33.7661,2,  33.7642,2,    316.5,2,   315.3,2,    0.89,2,   21.22,2,    0.25,2,    1.42,2,   5.151,2,   2.905,2,   0.465,2,    -999,9,  2276.3,2,   7.9557,2,    13.00,    -999,9,    -999,9,    -999,9,4.4276,2,-999,9,-999,9,-999,    -999,9,    -999,7.818,2,-999,9,-999,9,    -999,9,-999,9, 20080219,     1846, -50.2004,  29.9998,    -999,-999,9,     -999,9,     -999,9,     -999,9,     -999,9,     -999,9,     -999,9,-999,9,     -999,9,     -999,9,     -999,9,    -999,    -999
33RR20080204,       I06S,      46,          2,         33,         33,2,20080219,       1636,   -50.2011,    29.9997,       4825,    73.7,   3.7967,  33.7572,2,  33.7624,2,    317.3,2,   318.9,2,    2.72,2,   21.75,2,    0.27,2,    1.47,2,   5.401,2,   3.033,2,   0.474,2,    -999,9,  2275.8,2,   7.9437,2,    13.00,    -999,9,    -999,9,    -999,9,3.8011,2,-999,9,-999,9,-999,    -999,9,    -999,8.065,2,-999,9,-999,9,    -999,9,-999,9, 20080219,     1844, -50.2002,  29.9999,    -999,-999,9,     -999,9,     -999,9,     -999,9,     -999,9,     -999,9,     -999,9,-999,9,     -999,9,     -999,9,     -999,9,    -999,    -999
33RR20080204,       I06S,      46,          2,         32,         32,2,20080219,       1636,   -50.2011,    29.9997,       4825,   100.7,   2.7108,  33.8232,2,  33.8189,2,    319.1,2,   319.0,2,   10.67,2,   23.47,2,    0.29,2,    1.72,2,   5.704,2,   3.152,2,   0.500,2,    -999,9,  2277.2,2,   7.9016,3,    13.00,    -999,9,    -999,9,    -999,9,2.7233,2,-999,9,-999,9,-999,    -999,9,    -999,8.33,2,-999,9,-999,9,    -999,9,-999,9, 20080219,     1843, -50.2002,  29.9998,    -999,-999,9,     -999,9,     -999,9,     -999,9,     -999,9,     -999,9,     -999,9,-999,9,     -999,9,     -999,9,     -999,9,    -999,    -999
33RR20080204,       I06S,      46,          2,         31,         31,2,20080219,       1636,   -50.2011,    29.9997,       4825,   151.4,   2.6684,  33.9810,2,  33.9726,2,    294.5,2,   288.5,2,   17.52,2,   27.31,2,    0.10,2,    1.91,2,   5.089,2,   2.811,2,   0.431,2,    -999,9,  2274.9,2,   7.8589,2,    13.00,    -999,9,    -999,9,    -999,9,2.6795,2,-999,9,-999,9,-999,    -999,9,    -999,7.081,2,-999,9,-999,9,    -999,9,-999,9, 20080219,     1841, -50.2002,  29.9998,    -999,-999,9,     -999,9,     -999,9,     -999,9,     -999,9,     -999,9,     -999,9,-999,9,     -999,9,     -999,9,     -999,9,    -999,    -999
33RR20080204,       I06S,      46,          2,         30,         30,2,20080219,       1636,   -50.2011,    29.9997,       4825,   203.1,   2.7253,  34.0884,2,  34.0829,2,    266.4,2,   264.9,2,   23.66,2,   29.24,2,    0.03,2,    2.02,2,   4.409,2,   2.402,2,   0.364,2,    -999,9,  2282.1,2,   7.8301,2,    13.00,    -999,9,    -999,9,    -999,9,2.6997,3,-999,9,-999,9,-999,    -999,9,    -999,6.02,2,-999,9,-999,9,    -999,9,-999,9, 20080219,     1839, -50.2002,  29.9998,    -999,-999,1,     -999,9,     -999,9,     -999,9,     -999,9,     -999,9,     -999,9,-999,9,     -999,9,     -999,9,     -999,9,    -999,    -999
33RR20080204,       I06S,      46,          2,         29,         29,2,20080219,       1636,   -50.2011,    29.9997,       4825,   252.7,   2.6162,  34.1421,2,  34.1381,2,    252.2,2,   252.0,2,   28.88,2,   30.41,2,    0.02,2,    2.10,2,   3.924,2,   2.136,2,   0.304,2,    -999,9,  2287.0,2,   7.8135,2,    13.00,    -999,9,    -999,9,    -999,9,2.6148,2,-999,9,-999,9,-999,    -999,9,    -999,5.472,2,-999,9,-999,9,    -999,9,-999,9, 20080219,     1837, -50.2001,  29.9999,    -999,-999,9,     -999,9,     -999,9,     -999,9,     -999,9,     -999,9,     -999,9,-999,9,     -999,9,     -999,9,     -999,9,    -999,    -999
33RR20080204,       I06S,      46,          2,         28,         28,2,20080219,       1636,   -50.2011,    29.9997,       4825,   304.8,   2.5038,  34.1822,2,  34.1777,2,    241.2,2,   240.2,2,   34.30,2,   31.53,2,    0.01,2,    2.17,2,   3.575,2,   1.914,2,   0.292,2,    -999,9,  2292.1,2,   7.7965,2,    13.00,    -999,9,    -999,9,    -999,9,2.5013,2,-999,9,-999,9,-999,    -999,9,    -999,5.206,2,-999,9,-999,9,    -999,9,-999,9, 20080219,     1835, -50.2001,  29.9999,    -999,-999,9,     -999,9,     -999,9,     -999,9,     -999,9,     -999,9,     -999,9,-999,9,     -999,9,     -999,9,     -999,9,    -999,    -999
33RR20080204,       I06S,      46,          2,         27,         27,2,20080219,       1636,   -50.2011,    29.9997,       4825,   355.1,   2.4695,  34.2217,2,  34.2219,2,    227.3,2,   229.1,2,   38.62,2,   32.24,2,    0.02,2,    2.22,2,   3.166,6,   1.685,6,   0.246,6,    -999,9,  2295.6,2,   7.7835,2,    13.00,    -999,9,    -999,9,    -999,9,2.4696,2,-999,9,-999,9,-999,    -999,9,    -999,4.734,6,-999,9,-999,9,    -999,9,-999,9, 20080219,     1833, -50.2002,  29.9998,    -999,-999,9,     -999,9,     -999,9,     -999,9,     -999,9,     -999,9,     -999,9,-999,9,     -999,9,     -999,9,     -999,9,    -999,    -999
33RR20080204,       I06S,      46,          2,         26,         26,2,20080219,       1636,   -50.2011,    29.9997,       4825,   405.4,   2.5145,  34.2802,2,  34.2791,2,    214.6,2,   213.6,2,   45.19,2,   33.11,2,    0.02,2,    2.27,2,   2.591,2,   1.361,2,   0.205,2,    -999,9,  2301.6,2,   7.7685,2,    13.00,    -999,9,    -999,9,    -999,9,2.5139,2,-999,9,-999,9,-999,    -999,9,    -999,4.092,2,-999,9,-999,9,    -999,9,-999,9, 20080219,     1830, -50.2003,  29.9998,    -999,-999,1,     -999,9,     -999,9,     -999,9,     -999,9,     -999,9,     -999,9,-999,9,     -999,9,     -999,9,     -999,9,    -999,    -999
33RR20080204,       I06S,      46,          2,         25,         25,2,20080219,       1636,   -50.2011,    29.9997,       4825,   454.2,   2.5115,  34.3166,2,  34.3375,3,    206.1,2,   205.2,2,   48.97,2,   33.53,2,    0.02,2,    2.30,2,   2.265,2,   1.188,2,   0.171,2,    -999,9,  2306.4,2,   7.7592,2,    13.00,    -999,9,    -999,9,    -999,9,2.5101,2,-999,9,-999,9,-999,    -999,9,    -999,3.38,2,-999,9,-999,9,    -999,9,-999,9, 20080219,     1828, -50.2004,  29.9998,    -999,-999,9,     -999,9,     -999,9,     -999,9,     -999,9,     -999,9,     -999,9,-999,9,     -999,9,     -999,9,     -999,9,    -999,    -999
33RR20080204,       I06S,      46,          2,         24,         24,2,20080219,       1636,   -50.2011,    29.9997,       4825,   504.8,   2.5452,  34.3656,2,  34.3651,2,    198.5,2,   194.8,2,   54.07,2,   33.93,2,    0.02,2,    2.34,2,   1.769,2,   0.934,2,   0.128,2,    -999,9,  2310.1,2,   7.7508,2,    13.00,    -999,9,    -999,9,    -999,9,2.5472,2,-999,9,-999,9,-999,    -999,9,    -999,2.981,2,-999,9,-999,9,    -999,9,-999,9, 20080219,     1826, -50.2004,  29.9999,    -999,-999,9,     -999,9,     -999,9,     -999,9,     -999,9,     -999,9,     -999,9,-999,9,     -999,9,     -999,9,     -999,9,    -999,    -999
33RR20080204,       I06S,      46,          2,         23,         23,2,20080219,       1636,   -50.2011,    29.9997,       4825,   605.4,   2.5508,  34.4365,2,  34.4345,2,    183.9,2,   184.4,2,   60.50,2,   34.15,2,    0.01,2,    2.36,2,   1.220,2,   0.647,2,   0.079,2,    -999,9,  2318.8,2,   7.7459,2,    13.00,    -999,9,    -999,9,    -999,9,2.5507,2,-999,9,-999,9,-999,    -999,9,    -999,2.217,2,-999,9,-999,9,    -999,9,-999,9, 20080219,     1822, -50.2001,  29.9999,    -999,-999,1,     -999,9,     -999,9,     -999,9,     -999,9,     -999,9,     -999,9,-999,9,     -999,9,     -999,9,     -999,9,    -999,    -999
33RR20080204,       I06S,      46,          2,         22,         22,2,20080219,       1636,   -50.2011,    29.9997,       4825,   712.3,   2.4096,  34.4905,2,  34.4886,2,    177.8,2,   177.0,2,   67.14,2,   34.41,2,    0.01,2,    2.38,2,   0.975,2,   0.506,2,   0.071,2,    -999,9,  2324.7,2,   7.7380,2,    13.00,    -999,9,    -999,9,    -999,9,2.4138,2,-999,9,-999,9,-999,    -999,9,    -999,1.759,2,-999,9,-999,9,    -999,9,-999,9, 20080219,     1819, -50.2000,  29.9999,    -999,-999,9,     -999,9,     -999,9,     -999,9,     -999,9,     -999,9,     -999,9,-999,9,     -999,9,     -999,9,     -999,9,    -999,    -999
33RR20080204,       I06S,      46,          2,         21,         21,2,20080219,       1636,   -50.2011,    29.9997,       4825,   811.1,   2.4528,  34.5619,2,  34.5606,2,    174.9,2,   174.5,2,   70.57,2,   33.70,2,    0.01,2,    2.33,2,   0.583,2,   0.321,2,   0.037,2,    -999,9,  2329.7,2,   7.7487,3,    13.00,    -999,9,    -999,9,    -999,9,2.4526,2,-999,9,-999,9,-999,    -999,9,    -999,1.236,2,-999,9,-999,9,    -999,9,-999,9, 20080219,     1816, -50.1998,  30.0000,    -999,-999,1,     -999,9,     -999,9,     -999,9,     -999,9,     -999,9,     -999,9,-999,9,     -999,9,     -999,9,     -999,9,    -999,    -999
33RR20080204,       I06S,      46,          2,         20,         20,2,20080219,       1636,   -50.2011,    29.9997,       4825,   912.7,   2.5080,  34.6203,2,  34.6190,2,    175.7,2,   176.6,2,   70.78,2,   32.81,2,    0.01,2,    2.26,2,   0.360,2,   0.195,2,   0.017,2,    -999,9,  2334.8,2,   7.7627,2,    13.00,    -999,9,    -999,9,    -999,9,2.5065,2,-999,9,-999,9,-999,    -999,9,    -999,0.867,2,-999,9,-999,9,    -999,9,-999,9, 20080219,     1813, -50.1997,  30.0002,    -999,-999,9,     -999,9,     -999,9,     -999,9,     -999,9,     -999,9,     -999,9,-999,9,     -999,9,     -999,9,     -999,9,    -999,    -999
33RR20080204,       I06S,      46,          2,         19,         19,2,20080219,       1636,   -50.2011,    29.9997,       4825,  1012.3,   2.5282,  34.6542,2,  34.6532,2,    179.0,2,   178.7,2,   70.41,2,   32.10,2,    0.01,2,    2.21,2,   0.266,2,   0.145,2,   0.008,2,    -999,9,  2336.8,2,   7.7731,2,    13.00,    -999,9,    -999,9,    -999,9,2.5272,2,-999,9,-999,9,-999,    -999,9,    -999,0.707,2,-999,9,-999,9,    -999,9,-999,9, 20080219,     1809, -50.1997,  30.0003,    -999,-999,1,     -999,9,     -999,9,     -999,9,     -999,9,     -999,9,     -999,9,-999,9,     -999,9,     -999,9,     -999,9,    -999,    -999
33RR20080204,       I06S,      46,          2,         18,         18,2,20080219,       1636,   -50.2011,    29.9997,       4825,  1112.0,   2.3903,  34.6704,2,  34.6700,2,    179.2,2,   178.3,2,   75.18,2,   32.16,2,    0.01,2,    2.22,2,   0.272,2,   0.157,2,   0.016,2,    -999,9,  2339.4,2,     -999,9,     -999,    -999,9,    -999,9,    -999,9,2.3905,2,-999,9,-999,9,-999,    -999,9,    -999,0.674,2,-999,9,-999,9,    -999,9,-999,9, 20080219,     1806, -50.1996,  30.0003,    -999,-999,9,     -999,9,     -999,9,     -999,9,     -999,9,     -999,9,     -999,9,-999,9,     -999,9,     -999,9,     -999,9,    -999,    -999
33RR20080204,       I06S,      46,          2,         17,         17,2,20080219,       1636,   -50.2011,    29.9997,       4825,  1213.2,   2.3328,  34.6915,2,  34.6914,2,    181.6,2,   180.7,2,   76.54,2,   31.71,2,    0.01,2,    2.19,2,   0.242,2,   0.139,2,   0.012,2,    -999,9,    -999,9,     -999,9,     -999,    -999,9,    -999,9,    -999,9,2.3324,2,-999,9,-999,9,-999,    -999,9,    -999,0.651,2,-999,9,-999,9,    -999,9,-999,9, 20080219,     1803, -50.2000,  30.0001,    -999,-999,9,     -999,9,     -999,9,     -999,9,     -999,9,     -999,9,     -999,9,-999,9,     -999,9,     -999,9,     -999,9,    -999,    -999
33RR20080204,       I06S,      46,          2,         16,         16,2,20080219,       1636,   -50.2011,    29.9997,       4825,  1316.1,   2.3291,  34.7198,2,  34.7195,2,    185.0,2,   186.0,2,   75.98,2,   30.86,2,    0.01,2,    2.14,2,   0.181,2,   0.105,2,   0.015,2,    -999,9,  2342.4,2,   7.7908,2,    13.00,    -999,9,    -999,9,    -999,9,2.3298,2,-999,9,-999,9,-999,    -999,9,    -999,0.567,2,-999,9,-999,9,    -999,9,-999,9, 20080219,     1800, -50.2002,  30.0000,    -999,-999,9,     -999,9,     -999,9,     -999,9,     -999,9,     -999,9,     -999,9,-999,9,     -999,9,     -999,9,     -999,9,    -999,    -999
33RR20080204,       I06S,      46,          2,         15,         15,2,20080219,       1636,   -50.2011,    29.9997,       4825,  1415.4,   2.2918,  34.7389,2,  34.7381,2,    191.0,2,   191.0,2,   75.43,2,   30.26,2,    0.01,2,    2.09,2,   0.158,2,   0.100,2,   0.010,2,    -999,9,    -999,9,   7.8008,3,    13.00,    -999,9,    -999,9,    -999,9,2.2913,2,-999,9,-999,9,-999,    -999,9,    -999,0.423,2,-999,9,-999,9,    -999,9,-999,9, 20080219,     1757, -50.2001,  29.9999,    -999,-999,9,     -999,9,     -999,9,     -999,9,     -999,9,     -999,9,     -999,9,-999,9,     -999,9,     -999,9,     -999,9,    -999,    -999
33RR20080204,       I06S,      46,          2,         14,         14,2,20080219,       1636,   -50.2011,    29.9997,       4825,  1516.7,   2.2026,  34.7431,2,  34.7421,2,    191.2,2,   191.4,2,   77.93,2,   30.22,2,    0.01,2,    2.08,2,   0.159,2,   0.090,2,   0.010,2,    -999,9,    -999,9,     -999,9,     -999,    -999,9,    -999,9,    -999,9,2.2024,2,-999,9,-999,9,-999,    -999,9,    -999,0.475,2,-999,9,-999,9,    -999,9,-999,9, 20080219,     1754, -50.2002,  29.9999,    -999,-999,9,     -999,9,     -999,9,     -999,9,     -999,9,     -999,9,     -999,9,-999,9,     -999,9,     -999,9,     -999,9,    -999,    -999
33RR20080204,       I06S,      46,          2,         13,         13,2,20080219,       1636,   -50.2011,    29.9997,       4825,  1619.1,   2.1207,  34.7560,2,  34.7539,2,    195.8,2,   195.8,2,   78.33,2,   29.67,2,    0.01,2,    2.04,2,   0.150,2,   0.089,2,   0.028,2,    -999,9,    -999,9,   7.8117,3,    13.00,    -999,9,    -999,9,    -999,9,2.1209,2,-999,9,-999,9,-999,    -999,9,    -999,0.547,2,-999,9,-999,9,    -999,9,-999,9, 20080219,     1750, -50.2003,  29.9999,    -999,-999,9,     -999,9,     -999,9,     -999,9,     -999,9,     -999,9,     -999,9,-999,9,     -999,9,     -999,9,     -999,9,    -999,    -999
33RR20080204,       I06S,      46,          2,         12,         12,2,20080219,       1636,   -50.2011,    29.9997,       4825,  1823.2,   1.9963,  34.7660,2,  34.7651,2,    201.4,2,   202.1,2,   80.06,2,   29.22,2,    0.00,2,    2.01,2,   0.123,2,   0.073,2,   0.014,2,    -999,9,  2346.8,2,     -999,9,     -999,    -999,9,    -999,9,    -999,9,1.9963,2,-999,9,-999,9,-999,    -999,9,    -999,0.331,2,-999,9,-999,9,    -999,9,-999,9, 20080219,     1745, -50.2005,  29.9997,    -999,-999,9,     -999,9,     -999,9,     -999,9,     -999,9,     -999,9,     -999,9,-999,9,     -999,9,     -999,9,     -999,9,    -999,    -999
33RR20080204,       I06S,      46,          2,         11,         11,2,20080219,       1636,   -50.2011,    29.9997,       4825,  2036.8,   1.7959,  34.7618,2,  34.7613,2,    203.2,2,   203.3,2,   85.64,2,   29.49,2,    0.00,2,    2.03,2,   0.121,2,   0.070,2,   0.022,2,    -999,9,    -999,9,     -999,9,     -999,    -999,9,    -999,9,    -999,9,1.7963,2,-999,9,-999,9,-999,    -999,9,    -999,0.284,2,-999,9,-999,9,    -999,9,-999,9, 20080219,     1740, -50.2003,  29.9999,    -999,-999,9,     -999,9,     -999,9,     -999,9,     -999,9,     -999,9,     -999,9,-999,9,     -999,9,     -999,9,     -999,9,    -999,    -999
33RR20080204,       I06S,      46,          2,         10,         10,2,20080219,       1636,   -50.2011,    29.9997,       4825,  2338.2,   1.3461,  34.7239,2,  34.7217,2,     -999,9,    -999,5,  101.22,2,   31.21,2,    0.00,2,    2.16,2,   0.256,4,   0.145,4,   0.027,4,    -999,9,    -999,9,     -999,9,     -999,    -999,9,    -999,9,    -999,9,1.346,2,-999,9,-999,9,-999,    -999,9,    -999,0.53,4,-999,9,-999,9,    -999,9,-999,9, 20080219,     1733, -50.2004,  29.9998,    -999,-999,9,     -999,9,     -999,9,     -999,9,     -999,9,     -999,9,     -999,9,-999,9,     -999,9,     -999,9,     -999,9,    -999,    -999
33RR20080204,       I06S,      46,          2,          9,          9,2,20080219,       1636,   -50.2011,    29.9997,       4825,  2650.0,   1.1871,  34.7292,2,  34.7284,2,    206.5,2,   206.8,2,  104.13,2,   30.87,2,    0.00,2,    2.14,2,   0.175,2,   0.101,2,   0.017,2,    -999,9,    -999,9,     -999,9,     -999,    -999,9,    -999,9,    -999,9,1.187,2,-999,9,-999,9,-999,    -999,9,    -999,0.417,2,-999,9,-999,9,    -999,9,-999,9, 20080219,     1726, -50.2008,  29.9996,    -999,-999,9,     -999,9,     -999,9,     -999,9,     -999,9,     -999,9,     -999,9,-999,9,     -999,9,     -999,9,     -999,9,    -999,    -999
33RR20080204,       I06S,      46,          2,          8,          8,2,20080219,       1636,   -50.2011,    29.9997,       4825,  2955.0,   0.9975,  34.7193,2,  34.7180,2,    209.1,2,   209.0,2,  109.76,2,   31.28,2,    0.00,2,    2.16,2,   0.187,2,   0.103,2,   0.017,2,    -999,9,  2357.2,2,     -999,9,     -999,    -999,9,    -999,9,    -999,9,0.999,2,-999,9,-999,9,-999,    -999,9,    -999,0.406,2,-999,9,-999,9,    -999,9,-999,9, 20080219,     1720, -50.2003,  29.9999,    -999,-999,9,     -999,9,     -999,9,     -999,9,     -999,9,     -999,9,     -999,9,-999,9,     -999,9,     -999,9,     -999,9,    -999,    -999