BOTTLE,20220706CCHSIOAMB
EXPOCODE,SECT_ID,STNNBR,CASTNO,SAMPNO,BTLNBR,BTLNBR_FLAG_W,DATE,TIME,LATITUDE,LONGITUDE,DEPTH,CTDPRS,CTDTMP,CTDSAL,CTDSAL_FLAG_W,SALNTY,SALNTY_FLAG_W,CTDOXY,CTDOXY_FLAG_W,OXYGEN,OXYGEN_FLAG_W,SILCAT,SILCAT_FLAG_W,NITRAT,NITRAT_FLAG_W,NITRIT,NITRIT_FLAG_W,PHSPHT,PHSPHT_FLAG_W,CFC-11,CFC-11_FLAG_W,CFC-12,CFC-12_FLAG_W,CFC113,CFC113_FLAG_W,TCARBN,TCARBN_FLAG_W,ALKALI,ALKALI_FLAG_W,PH_SWS,PH_SWS_FLAG_W,PH_TMP,TRITUM,TRITUM_FLAG_W,HELIUM,HELIUM_FLAG_W,DELHE3,DELHE3_FLAG_W,REFTMP,REFTMP_FLAG_W,DELC13,DELC13_FLAG_W,DELC14,DELC14_FLAG_W,C14ERR,NEON,NEON_FLAG_W,NEONER,CCL4,CCL4_FLAG_W,ALUMIN,ALUMIN_FLAG_W,DELO18,DELO18_FLAG_W,DOC,DOC_FLAG_W,TDN,TDN_FLAG_W,BTL_DATE,BTL_TIME,BTL_LAT,BTL_LON,TRITER,DELSI30,DELSI30_FLAG_W,CDOM380,CDOM380_FLAG_W,CDOM325,CDOM325_FLAG_W,CDOMSL,CDOMSL_FLAG_W,CDOM340,CDOM340_FLAG_W,CDOM443,CDOM443_FLAG_W,CDOMSN,CDOMSN_FLAG_W,BLACKC,BLACKC_FLAG_W,CDOM490,CDOM490_FLAG_W,CDOM412,CDOM412_FLAG_W,CDOM555,CDOM555_FLAG_W,DELHER,HELIER
,,,,,,,,,,,METERS,DBAR,ITS-90,PSS-78,,PSS-78,,UMOL/KG,,UMOL/KG,,UMOL/KG,,UMOL/KG,,UMOL/KG,,UMOL/KG,,PMOL/KG,,PMOL/KG,,PMOL/KG,,UMOL/KG,,UMOL/KG,,,,DEG C,TU,,NMOL/KG,,PERCNT,,DEG C,,/MILLE,,/MILLE,,/MILLE,NMOL/KG,,NMOL/KG,PMOL/KG,,NMOL/L,,/MILLE,,UMOL/KG,,UMOL/KG,,,,,,TU,/MILLE,,1/M,,1/M,,1/NM,,1/M,,1/M,,1/NM,,,,1/M,,1/M,,1/M,,PERCNT,NMOL/KG
33RR20080204,       I06S,      49,          1,          7,          7,2,20080221,       0233,   -51.4918,    29.9934,       4004,  2333.6,   0.8435,  34.7081,2,  34.7092,2,    205.5,2,   208.5,2,  112.53,2,   31.80,2,    0.00,2,    2.20,2,   0.271,2,   0.146,2,   0.021,2,  2245.2,2,  2357.2,2,   7.7973,3,    13.00,    -999,9,    -999,9,    -999,9,0.8432,2,0.5,2,-159.5,2,2.7,    -999,9,    -999,0.513,2,-999,9,-999,9,    -999,9,-999,9, 20080221,     0311, -51.4894,  29.9916,    -999,-999,9,     -999,9,     -999,9,     -999,9,     -999,9,     -999,9,     -999,9,-999,9,     -999,9,     -999,9,     -999,9,    -999,    -999
33RR20080204,       I06S,      49,          1,          6,          6,2,20080221,       0233,   -51.4918,    29.9934,       4004,  2648.3,   0.5516,  34.6900,2,  34.6854,3,    206.8,2,   209.3,2,  121.14,2,   32.63,2,    0.00,2,    2.26,2,   0.338,2,   0.182,2,   0.029,2,  2247.8,2,  2356.7,2,   7.7840,3,    13.00,    -999,9,    -999,9,    -999,9,0.5515,2,0.48,2,-161.9,2,2.7,    -999,9,    -999,0.75,2,-999,9,-999,9,   40.59,2,-999,1, 20080221,     0305, -51.4898,  29.9920,    -999,-999,1,   0.0341,2,   0.1158,2,   0.0180,2,   0.0755,2,   0.0121,2,   0.0210,3,-999,9,   0.0029,2,   0.0219,2,  -0.0004,4,    -999,    -999
33RR20080204,       I06S,      49,          1,          5,          5,2,20080221,       0233,   -51.4918,    29.9934,       4004,  2951.7,   0.4155,  34.6851,2,  34.6854,2,    212.1,2,   212.3,2,  125.75,2,   32.58,2,    0.00,2,    2.26,2,   0.299,2,   0.160,2,   0.024,2,  2246.0,2,  2357.1,2,   7.7883,2,    13.00,    -999,9,    -999,9,    -999,9,0.4153,2,0.51,2,-161.1,2,2.5,    -999,9,    -999,0.807,2,-999,9,-999,9,    -999,9,-999,9, 20080221,     0259, -51.4904,  29.9923,    -999,-999,9,     -999,9,     -999,9,     -999,9,     -999,9,     -999,9,     -999,9,-999,9,     -999,9,     -999,9,     -999,9,    -999,    -999
33RR20080204,       I06S,      49,          1,          4,          4,2,20080221,       0233,   -51.4918,    29.9934,       4004,  3255.2,   0.2799,  34.6779,2,  34.6781,2,    216.2,2,   217.6,2,  128.25,2,   32.77,2,    0.00,2,    2.26,2,   0.330,2,   0.177,2,   0.024,2,  2246.5,2,  2356.0,2,   7.7854,3,    13.00,    -999,9,    -999,9,    -999,9,0.2803,2,0.54,2,-165.2,2,2.6,    -999,9,    -999,0.833,2,-999,9,-999,9,   37.76,2,-999,1, 20080221,     0253, -51.4908,  29.9930,    -999,-999,1,   0.0326,2,   0.1129,2,   0.0182,2,   0.0728,2,   0.0112,2,   0.0214,3,-999,9,   0.0024,2,   0.0209,2,  -0.0006,4,    -999,    -999
33RR20080204,       I06S,      49,          1,          3,          3,2,20080221,       0233,   -51.4918,    29.9934,       4004,  3560.2,   0.1259,  34.6711,2,  34.6718,2,    224.6,2,   224.5,2,  128.83,2,   32.63,2,    0.00,2,    2.26,2,   0.362,2,   0.192,2,   0.030,2,  2244.7,2,  2354.4,2,   7.7897,2,    13.00,    -999,9,    -999,9,    -999,9,0.1259,2,0.55,2,-161.7,2,2.9,    -999,9,    -999,0.938,2,-999,9,-999,9,    -999,9,-999,9, 20080221,     0246, -51.4913,  29.9930,    -999,-999,9,     -999,9,     -999,9,     -999,9,     -999,9,     -999,9,     -999,9,-999,9,     -999,9,     -999,9,     -999,9,    -999,    -999
33RR20080204,       I06S,      49,          1,          2,          2,2,20080221,       0233,   -51.4918,    29.9934,       4004,  3866.3,  -0.0715,  34.6625,2,  34.6631,2,    232.7,2,   232.4,2,  130.38,2,   32.48,2,    0.00,2,    2.26,2,   0.417,2,   0.224,2,   0.038,2,  2246.9,2,  2353.2,2,   7.7912,3,    13.00,    -999,9,    -999,9,    -999,9,-0.0717,2,0.61,2,-167.4,2,2.9,    -999,9,    -999,1.039,2,-999,9,-999,9,    -999,9,-999,9, 20080221,     0239, -51.4915,  29.9933,    -999,-999,9,     -999,9,     -999,9,     -999,9,     -999,9,     -999,9,     -999,9,-999,9,     -999,9,     -999,9,     -999,9,    -999,    -999
33RR20080204,       I06S,      49,          1,          1,          1,2,20080221,       0233,   -51.4918,    29.9934,       4004,  4041.3,  -0.0922,  34.6613,2,  34.6625,2,    234.4,2,   233.4,2,  130.75,2,   32.53,2,    0.00,2,    2.26,2,   0.439,6,   0.228,6,   0.027,6,  2242.3,6,  2352.0,2,   7.7932,3,    13.00,    -999,9,    -999,9,    -999,9,-0.0922,2,0.59,2,-160.4,2,2.4,    -999,9,    -999,0.876,2,-999,9,-999,9,   38.24,2,-999,1, 20080221,     0235, -51.4918,  29.9933,    -999,-999,1,   0.0312,2,   0.1077,2,   0.0182,2,   0.0685,2,   0.0106,2,   0.0216,3,-999,9,   0.0021,2,   0.0197,2,  -0.0007,4,    -999,    -999