BOTTLE,20220706CCHSIOAMB
EXPOCODE,SECT_ID,STNNBR,CASTNO,SAMPNO,BTLNBR,BTLNBR_FLAG_W,DATE,TIME,LATITUDE,LONGITUDE,DEPTH,CTDPRS,CTDTMP,CTDSAL,CTDSAL_FLAG_W,SALNTY,SALNTY_FLAG_W,CTDOXY,CTDOXY_FLAG_W,OXYGEN,OXYGEN_FLAG_W,SILCAT,SILCAT_FLAG_W,NITRAT,NITRAT_FLAG_W,NITRIT,NITRIT_FLAG_W,PHSPHT,PHSPHT_FLAG_W,CFC-11,CFC-11_FLAG_W,CFC-12,CFC-12_FLAG_W,CFC113,CFC113_FLAG_W,TCARBN,TCARBN_FLAG_W,ALKALI,ALKALI_FLAG_W,PH_SWS,PH_SWS_FLAG_W,PH_TMP,TRITUM,TRITUM_FLAG_W,HELIUM,HELIUM_FLAG_W,DELHE3,DELHE3_FLAG_W,REFTMP,REFTMP_FLAG_W,DELC13,DELC13_FLAG_W,DELC14,DELC14_FLAG_W,C14ERR,NEON,NEON_FLAG_W,NEONER,CCL4,CCL4_FLAG_W,ALUMIN,ALUMIN_FLAG_W,DELO18,DELO18_FLAG_W,DOC,DOC_FLAG_W,TDN,TDN_FLAG_W,BTL_DATE,BTL_TIME,BTL_LAT,BTL_LON,TRITER,DELSI30,DELSI30_FLAG_W,CDOM380,CDOM380_FLAG_W,CDOM325,CDOM325_FLAG_W,CDOMSL,CDOMSL_FLAG_W,CDOM340,CDOM340_FLAG_W,CDOM443,CDOM443_FLAG_W,CDOMSN,CDOMSN_FLAG_W,BLACKC,BLACKC_FLAG_W,CDOM490,CDOM490_FLAG_W,CDOM412,CDOM412_FLAG_W,CDOM555,CDOM555_FLAG_W,DELHER,HELIER
,,,,,,,,,,,METERS,DBAR,ITS-90,PSS-78,,PSS-78,,UMOL/KG,,UMOL/KG,,UMOL/KG,,UMOL/KG,,UMOL/KG,,UMOL/KG,,PMOL/KG,,PMOL/KG,,PMOL/KG,,UMOL/KG,,UMOL/KG,,,,DEG C,TU,,NMOL/KG,,PERCNT,,DEG C,,/MILLE,,/MILLE,,/MILLE,NMOL/KG,,NMOL/KG,PMOL/KG,,NMOL/L,,/MILLE,,UMOL/KG,,UMOL/KG,,,,,,TU,/MILLE,,1/M,,1/M,,1/NM,,1/M,,1/M,,1/NM,,,,1/M,,1/M,,1/M,,PERCNT,NMOL/KG
33RR20080204,       I06S,      74,          1,          6,          6,2,20080229,       0220,   -64.0001,    29.9966,       5101,  4134.5,  -0.2557,  34.6556,2,  34.6551,2,    239.2,2,   240.7,2,  128.23,2,   32.50,2,    0.00,2,    2.24,2,   0.482,2,   0.263,2,   0.027,2,    -999,9,  2353.3,2,   7.7948,2,    13.00,    -999,9,    -999,9,    -999,9,-0.2554,2,-999,9,-999,9,-999,    -999,9,    -999,1.194,2,-999,9,-0.29,2,    -999,9,-999,9, 20080229,     0245, -64.0001,  29.9966,    -999,-999,9,     -999,9,     -999,9,     -999,9,     -999,9,     -999,9,     -999,9,-999,9,     -999,9,     -999,9,     -999,9,    -999,    -999
33RR20080204,       I06S,      74,          1,          5,          5,2,20080229,       0220,   -64.0001,    29.9966,       5101,  4442.3,  -0.2734,  34.6541,2,  34.6549,2,    241.2,2,   241.9,2,  129.68,2,   32.51,2,    0.00,2,    2.24,2,   0.441,2,   0.246,2,   0.028,2,    -999,9,    -999,9,     -999,9,     -999,    -999,9,    -999,9,    -999,9,-0.2735,2,-999,9,-999,9,-999,    -999,9,    -999,1.145,2,-999,9,-999,9,    -999,9,-999,9, 20080229,     0239, -64.0001,  29.9966,    -999,-999,9,     -999,9,     -999,9,     -999,9,     -999,9,     -999,9,     -999,9,-999,9,     -999,9,     -999,9,     -999,9,    -999,    -999
33RR20080204,       I06S,      74,          1,          4,          4,2,20080229,       0220,   -64.0001,    29.9966,       5101,  4645.7,  -0.2827,  34.6532,2,  34.6535,2,    242.6,2,   242.8,2,  131.36,2,   32.51,2,    0.00,2,    2.24,2,   0.420,2,   0.228,2,   0.020,2,    -999,9,  2352.8,2,     -999,9,     -999,    -999,9,    -999,9,    -999,9,-0.2828,2,-999,9,-999,9,-999,    -999,9,    -999,1.128,2,-999,9,-999,9,    -999,9,-999,9, 20080229,     0234, -64.0001,  29.9966,    -999,-999,9,     -999,9,     -999,9,     -999,9,     -999,9,     -999,9,     -999,9,-999,9,     -999,9,     -999,9,     -999,9,    -999,    -999
33RR20080204,       I06S,      74,          1,          3,          3,2,20080229,       0220,   -64.0001,    29.9966,       5101,  4849.5,  -0.2928,  34.6517,2,  34.6521,2,    244.2,2,   243.2,2,  131.79,2,   32.47,2,    0.00,2,    2.24,2,   0.426,2,   0.230,2,   0.029,2,    -999,9,    -999,9,     -999,9,     -999,    -999,9,    -999,9,    -999,9,-0.2934,2,-999,9,-999,9,-999,    -999,9,    -999,1.152,2,-999,9,-999,9,    -999,9,-999,9, 20080229,     0229, -64.0001,  29.9966,    -999,-999,9,     -999,9,     -999,9,     -999,9,     -999,9,     -999,9,     -999,9,-999,9,     -999,9,     -999,9,     -999,9,    -999,    -999
33RR20080204,       I06S,      74,          1,          2,          2,2,20080229,       0220,   -64.0001,    29.9966,       5101,  5054.8,  -0.3004,  34.6507,2,  34.6517,2,    245.8,2,   244.7,2,  132.83,2,   32.52,2,    0.00,2,    2.23,2,   0.461,2,   0.242,2,   0.059,2,    -999,9,  2353.9,2,     -999,9,     -999,    -999,9,    -999,9,    -999,9,-0.3007,2,-999,9,-999,9,-999,    -999,9,    -999,1.178,2,-999,9,-999,9,    -999,9,-999,9, 20080229,     0224, -64.0001,  29.9966,    -999,-999,9,     -999,9,     -999,9,     -999,9,     -999,9,     -999,9,     -999,9,-999,9,     -999,9,     -999,9,     -999,9,    -999,    -999
33RR20080204,       I06S,      74,          1,          1,          1,2,20080229,       0220,   -64.0001,    29.9966,       5101,  5173.6,  -0.3024,  34.6500,2,  34.6506,2,    246.7,2,   245.1,2,  133.89,2,   32.56,2,    0.00,2,    2.24,2,   0.108,4,   0.076,4,   0.106,4,    -999,9,  2355.7,2,   7.7972,2,    13.00,    -999,9,    -999,9,    -999,9,-0.3027,2,-999,9,-999,9,-999,    -999,9,    -999,0.524,4,-999,9,-0.23,2,    -999,9,-999,9, 20080229,     0221, -64.0001,  29.9966,    -999,-999,9,     -999,9,     -999,9,     -999,9,     -999,9,     -999,9,     -999,9,-999,9,     -999,9,     -999,9,     -999,9,    -999,    -999