BOTTLE,20220706CCHSIOAMB
EXPOCODE,SECT_ID,STNNBR,CASTNO,SAMPNO,BTLNBR,BTLNBR_FLAG_W,DATE,TIME,LATITUDE,LONGITUDE,DEPTH,CTDPRS,CTDTMP,CTDSAL,CTDSAL_FLAG_W,SALNTY,SALNTY_FLAG_W,CTDOXY,CTDOXY_FLAG_W,OXYGEN,OXYGEN_FLAG_W,SILCAT,SILCAT_FLAG_W,NITRAT,NITRAT_FLAG_W,NITRIT,NITRIT_FLAG_W,PHSPHT,PHSPHT_FLAG_W,CFC-11,CFC-11_FLAG_W,CFC-12,CFC-12_FLAG_W,CFC113,CFC113_FLAG_W,TCARBN,TCARBN_FLAG_W,ALKALI,ALKALI_FLAG_W,PH_SWS,PH_SWS_FLAG_W,PH_TMP,TRITUM,TRITUM_FLAG_W,HELIUM,HELIUM_FLAG_W,DELHE3,DELHE3_FLAG_W,REFTMP,REFTMP_FLAG_W,DELC13,DELC13_FLAG_W,DELC14,DELC14_FLAG_W,C14ERR,NEON,NEON_FLAG_W,NEONER,CCL4,CCL4_FLAG_W,ALUMIN,ALUMIN_FLAG_W,DELO18,DELO18_FLAG_W,DOC,DOC_FLAG_W,TDN,TDN_FLAG_W,BTL_DATE,BTL_TIME,BTL_LAT,BTL_LON,TRITER,DELSI30,DELSI30_FLAG_W,CDOM380,CDOM380_FLAG_W,CDOM325,CDOM325_FLAG_W,CDOMSL,CDOMSL_FLAG_W,CDOM340,CDOM340_FLAG_W,CDOM443,CDOM443_FLAG_W,CDOMSN,CDOMSN_FLAG_W,BLACKC,BLACKC_FLAG_W,CDOM490,CDOM490_FLAG_W,CDOM412,CDOM412_FLAG_W,CDOM555,CDOM555_FLAG_W,DELHER,HELIER
,,,,,,,,,,,METERS,DBAR,ITS-90,PSS-78,,PSS-78,,UMOL/KG,,UMOL/KG,,UMOL/KG,,UMOL/KG,,UMOL/KG,,UMOL/KG,,PMOL/KG,,PMOL/KG,,PMOL/KG,,UMOL/KG,,UMOL/KG,,,,DEG C,TU,,NMOL/KG,,PERCNT,,DEG C,,/MILLE,,/MILLE,,/MILLE,NMOL/KG,,NMOL/KG,PMOL/KG,,NMOL/L,,/MILLE,,UMOL/KG,,UMOL/KG,,,,,,TU,/MILLE,,1/M,,1/M,,1/NM,,1/M,,1/M,,1/NM,,,,1/M,,1/M,,1/M,,PERCNT,NMOL/KG
33RR20080204,       I06S,      84,          1,         36,         36,2,20080303,       1332,   -66.2478,    33.6674,       1175,     7.3,  -0.4107,  34.0664,2,  34.0640,2,    334.1,2,   334.4,2,   56.11,2,   27.11,2,    0.19,2,    1.89,2,   5.804,2,   3.294,2,   0.491,2,  2184.4,2,  2308.3,2,   7.8722,3,    13.00,    -999,9,    -999,9,    -999,9,-0.4109,2,-999,9,-999,9,-999,    -999,9,    -999,8.622,2,-999,9,-999,9,    -999,9,-999,9, 20080303,     1410, -66.2475,  33.6664,    -999,-999,9,     -999,9,     -999,9,     -999,9,     -999,9,     -999,9,     -999,9,-999,9,     -999,9,     -999,9,     -999,9,    -999,    -999
33RR20080204,       I06S,      84,          1,         34,         34,2,20080303,       1332,   -66.2478,    33.6674,       1175,    25.8,  -0.4175,  34.0674,2,  34.0649,2,    335.1,2,   334.3,2,   56.11,2,   27.17,2,    0.19,2,    1.89,2,   5.756,2,   3.254,2,   0.503,2,  2184.7,2,  2309.7,2,   7.8719,2,    13.00,    -999,9,    -999,9,    -999,9,-0.4174,2,-999,9,-999,9,-999,    -999,9,    -999,8.514,2,-999,9,-999,9,    -999,9,-999,9, 20080303,     1409, -66.2476,  33.6666,    -999,-999,9,     -999,9,     -999,9,     -999,9,     -999,9,     -999,9,     -999,9,-999,9,     -999,9,     -999,9,     -999,9,    -999,    -999
33RR20080204,       I06S,      84,          1,         32,         32,2,20080303,       1332,   -66.2478,    33.6674,       1175,    52.6,  -0.4637,  34.0759,2,  34.0759,2,    335.7,2,   333.3,2,   56.32,2,   27.28,2,    0.18,2,    1.89,2,   5.739,2,   3.303,2,   0.493,2,  2184.8,2,  2309.7,2,   7.8703,2,    13.00,    -999,9,    -999,9,    -999,9,-0.4616,2,-999,9,-999,9,-999,    -999,9,    -999,8.154,2,-999,9,-999,9,    -999,9,-999,9, 20080303,     1408, -66.2475,  33.6667,    -999,-999,9,     -999,9,     -999,9,     -999,9,     -999,9,     -999,9,     -999,9,-999,9,     -999,9,     -999,9,     -999,9,    -999,    -999
33RR20080204,       I06S,      84,          1,         30,         30,2,20080303,       1332,   -66.2478,    33.6674,       1175,    85.1,  -1.7063,  34.3303,2,  34.3263,2,    305.3,2,   305.9,2,   65.56,2,   30.27,2,    0.12,2,    2.12,2,   4.912,2,   2.760,2,   0.433,2,  2217.5,2,  2324.1,2,   7.8146,2,    13.00,    -999,9,    -999,9,    -999,9,-1.7049,2,-999,9,-999,9,-999,    -999,9,    -999,6.703,2,-999,9,-999,9,    -999,9,-999,9, 20080303,     1407, -66.2475,  33.6666,    -999,-999,9,     -999,9,     -999,9,     -999,9,     -999,9,     -999,9,     -999,9,-999,9,     -999,9,     -999,9,     -999,9,    -999,    -999
33RR20080204,       I06S,      84,          1,         28,         28,2,20080303,       1332,   -66.2478,    33.6674,       1175,   110.4,  -1.6988,  34.3417,2,  34.3389,2,    303.6,2,   303.1,2,   66.16,2,   30.60,2,    0.09,2,    2.13,2,   4.907,2,   2.767,2,   0.424,2,  2219.9,2,  2324.5,2,   7.8097,2,    13.00,    -999,9,    -999,9,    -999,9,-1.7025,2,-999,9,-999,9,-999,    -999,9,    -999,6.53,2,-999,9,-999,9,    -999,9,-999,9, 20080303,     1406, -66.2476,  33.6666,    -999,-999,9,     -999,9,     -999,9,     -999,9,     -999,9,     -999,9,     -999,9,-999,9,     -999,9,     -999,9,     -999,9,    -999,    -999
33RR20080204,       I06S,      84,          1,         26,         26,2,20080303,       1332,   -66.2478,    33.6674,       1175,   162.3,  -1.5793,  34.3677,2,  34.3634,2,    301.5,2,   301.2,2,   67.36,2,   30.78,2,    0.02,2,    2.13,2,   4.823,2,   2.744,2,   0.430,2,  2221.7,2,  2324.2,2,   7.8069,2,    13.00,    -999,9,    -999,9,    -999,9,-1.581,2,-999,9,-999,9,-999,    -999,9,    -999,6.219,2,-999,9,-999,9,    -999,9,-999,9, 20080303,     1404, -66.2475,  33.6665,    -999,-999,9,     -999,9,     -999,9,     -999,9,     -999,9,     -999,9,     -999,9,-999,9,     -999,9,     -999,9,     -999,9,    -999,    -999
33RR20080204,       I06S,      84,          1,         24,         24,2,20080303,       1332,   -66.2478,    33.6674,       1175,   214.3,  -1.0355,  34.4345,2,  34.4280,2,    281.9,2,   282.0,2,   71.40,2,   31.05,2,    0.00,2,    2.15,2,   4.191,2,   2.360,2,   0.352,2,  2227.1,2,  2327.2,2,   7.7996,2,    13.00,    -999,9,    -999,9,    -999,9,-1.0618,2,-999,9,-999,9,-999,    -999,9,    -999,5.202,2,-999,9,-999,9,    -999,9,-999,9, 20080303,     1402, -66.2475,  33.6665,    -999,-999,9,     -999,9,     -999,9,     -999,9,     -999,9,     -999,9,     -999,9,-999,9,     -999,9,     -999,9,     -999,9,    -999,    -999
33RR20080204,       I06S,      84,          1,         22,         22,2,20080303,       1332,   -66.2478,    33.6674,       1175,   273.2,  -0.0574,  34.5486,2,  34.5480,2,    243.8,2,   244.0,2,   80.29,2,   31.60,2,    0.00,2,    2.19,2,   2.787,2,   1.523,2,   0.256,2,  2239.9,2,  2337.9,2,   7.7843,2,    13.00,    -999,9,    -999,9,    -999,9,-0.0773,2,-999,9,-999,9,-999,    -999,9,    -999,3.43,2,-999,9,-999,9,    -999,9,-999,9, 20080303,     1400, -66.2474,  33.6662,    -999,-999,9,     -999,9,     -999,9,     -999,9,     -999,9,     -999,9,     -999,9,-999,9,     -999,9,     -999,9,     -999,9,    -999,    -999
33RR20080204,       I06S,      84,          1,         20,         20,2,20080303,       1332,   -66.2478,    33.6674,       1175,   327.2,   0.0852,  34.5827,2,  34.5806,2,    239.0,2,   239.8,2,   82.92,2,   31.41,2,    0.00,2,    2.18,2,   2.500,2,   1.404,2,   0.221,2,    -999,9,  2340.9,2,   7.7854,2,    13.00,    -999,9,    -999,9,    -999,9,0.0785,2,-999,9,-999,9,-999,    -999,9,    -999,2.889,2,-999,9,-999,9,    -999,9,-999,9, 20080303,     1359, -66.2474,  33.6663,    -999,-999,9,     -999,9,     -999,9,     -999,9,     -999,9,     -999,9,     -999,9,-999,9,     -999,9,     -999,9,     -999,9,    -999,    -999
33RR20080204,       I06S,      84,          1,         18,         18,2,20080303,       1332,   -66.2478,    33.6674,       1175,   385.5,   0.1968,  34.6058,2,  34.6035,2,    237.6,2,   235.3,2,   85.96,2,   31.41,2,    0.00,2,    2.18,2,   2.221,2,   1.243,2,   0.170,2,    -999,9,  2343.1,2,   7.7882,2,    13.00,    -999,9,    -999,9,    -999,9,0.1988,2,-999,9,-999,9,-999,    -999,9,    -999,2.619,2,-999,9,-999,9,    -999,9,-999,9, 20080303,     1357, -66.2474,  33.6663,    -999,-999,9,     -999,9,     -999,9,     -999,9,     -999,9,     -999,9,     -999,9,-999,9,     -999,9,     -999,9,     -999,9,    -999,    -999
33RR20080204,       I06S,      84,          1,         16,         16,2,20080303,       1332,   -66.2478,    33.6674,       1175,   445.6,   0.1773,  34.6190,2,  34.6167,2,    234.7,2,   235.1,2,   88.80,2,   31.36,2,    0.00,2,    2.18,2,   2.078,2,   1.147,2,   0.163,2,    -999,9,  2345.2,2,   7.7897,2,    13.00,    -999,9,    -999,9,    -999,9,0.1602,2,-999,9,-999,9,-999,    -999,9,    -999,2.568,2,-999,9,-999,9,    -999,9,-999,9, 20080303,     1355, -66.2474,  33.6662,    -999,-999,9,     -999,9,     -999,9,     -999,9,     -999,9,     -999,9,     -999,9,-999,9,     -999,9,     -999,9,     -999,9,    -999,    -999
33RR20080204,       I06S,      84,          1,         14,         14,2,20080303,       1332,   -66.2478,    33.6674,       1175,   549.2,   0.1244,  34.6268,2,  34.6241,2,    234.3,2,   235.4,2,   92.05,2,   31.42,2,    0.00,2,    2.18,2,   1.962,2,   1.094,2,   0.175,2,    -999,9,  2346.0,2,   7.7913,2,    13.00,    -999,9,    -999,9,    -999,9,0.1199,2,-999,9,-999,9,-999,    -999,9,    -999,2.54,2,-999,9,-999,9,    -999,9,-999,9, 20080303,     1352, -66.2475,  33.6664,    -999,-999,9,     -999,9,     -999,9,     -999,9,     -999,9,     -999,9,     -999,9,-999,9,     -999,9,     -999,9,     -999,9,    -999,    -999
33RR20080204,       I06S,      84,          1,         12,         12,2,20080303,       1332,   -66.2478,    33.6674,       1175,   650.1,   0.2143,  34.6445,2,  34.6406,2,    229.5,2,   229.7,2,   96.93,2,   31.51,2,    0.00,2,    2.19,2,   1.647,2,   0.889,2,   0.114,2,    -999,9,  2349.2,2,   7.7894,2,    13.00,    -999,9,    -999,9,    -999,9,0.2145,2,-999,9,-999,9,-999,    -999,9,    -999,2.127,2,-999,9,-999,9,    -999,9,-999,9, 20080303,     1349, -66.2474,  33.6664,    -999,-999,9,     -999,9,     -999,9,     -999,9,     -999,9,     -999,9,     -999,9,-999,9,     -999,9,     -999,9,     -999,9,    -999,    -999
33RR20080204,       I06S,      84,          1,         10,         10,2,20080303,       1332,   -66.2478,    33.6674,       1175,   746.7,   0.2613,  34.6562,2,  34.6544,2,    226.5,2,   225.3,2,  102.23,2,   31.72,2,    0.00,2,    2.21,2,   1.330,2,   0.739,2,   0.104,2,    -999,9,  2351.0,2,   7.7880,3,    13.00,    -999,9,    -999,9,    -999,9,0.2612,2,-999,9,-999,9,-999,    -999,9,    -999,1.728,2,-999,9,-999,9,    -999,9,-999,9, 20080303,     1346, -66.2475,  33.6666,    -999,-999,9,     -999,9,     -999,9,     -999,9,     -999,9,     -999,9,     -999,9,-999,9,     -999,9,     -999,9,     -999,9,    -999,    -999
33RR20080204,       I06S,      84,          1,          8,          8,2,20080303,       1332,   -66.2478,    33.6674,       1175,   850.0,   0.2753,  34.6636,2,  34.6618,2,    222.9,2,   222.2,2,  106.72,2,   31.88,2,    0.00,2,    2.22,2,   1.112,2,   0.618,2,   0.060,2,    -999,9,  2351.8,2,   7.7864,3,    13.00,    -999,9,    -999,9,    -999,9,0.2755,2,-999,9,-999,9,-999,    -999,9,    -999,1.485,2,-999,9,-999,9,    -999,9,-999,9, 20080303,     1343, -66.2475,  33.6667,    -999,-999,9,     -999,9,     -999,9,     -999,9,     -999,9,     -999,9,     -999,9,-999,9,     -999,9,     -999,9,     -999,9,    -999,    -999
33RR20080204,       I06S,      84,          1,          6,          6,2,20080303,       1332,   -66.2478,    33.6674,       1175,   972.3,   0.1917,  34.6617,2,  34.6605,2,    223.8,2,   223.6,2,  108.77,2,   31.98,2,    0.00,2,    2.22,2,   1.092,2,   0.621,2,   0.050,2,    -999,9,  2352.0,2,   7.7862,3,    13.00,    -999,9,    -999,9,    -999,9,0.1931,2,-999,9,-999,9,-999,    -999,9,    -999,1.423,2,-999,9,-999,9,    -999,9,-999,9, 20080303,     1340, -66.2476,  33.6669,    -999,-999,9,     -999,9,     -999,9,     -999,9,     -999,9,     -999,9,     -999,9,-999,9,     -999,9,     -999,9,     -999,9,    -999,    -999
33RR20080204,       I06S,      84,          1,          4,          4,2,20080303,       1332,   -66.2478,    33.6674,       1175,  1094.4,   0.0873,  34.6590,2,  34.6564,2,    226.2,2,   225.6,2,  113.07,2,   32.18,2,    0.00,2,    2.23,2,   1.118,2,   0.632,2,   0.054,2,    -999,9,  2353.7,2,   7.7854,4,    13.00,    -999,9,    -999,9,    -999,9,0.0878,2,-999,9,-999,9,-999,    -999,9,    -999,1.332,2,-999,9,-999,9,    -999,9,-999,9, 20080303,     1335, -66.2478,  33.6672,    -999,-999,9,     -999,9,     -999,9,     -999,9,     -999,9,     -999,9,     -999,9,-999,9,     -999,9,     -999,9,     -999,9,    -999,    -999
33RR20080204,       I06S,      84,          1,          2,          2,2,20080303,       1332,   -66.2478,    33.6674,       1175,  1159.6,   0.0918,  34.6592,2,  34.6577,2,    225.7,2,   225.4,2,  112.86,2,   32.13,2,    0.01,2,    2.23,2,   1.138,2,   0.641,2,   0.081,2,  2254.3,6,  2353.9,2,   7.7837,2,    13.00,    -999,9,    -999,9,    -999,9,0.0928,2,-999,9,-999,9,-999,    -999,9,    -999,1.61,2,-999,9,-999,9,    -999,9,-999,9, 20080303,     1333, -66.2478,  33.6674,    -999,-999,9,     -999,9,     -999,9,     -999,9,     -999,9,     -999,9,     -999,9,-999,9,     -999,9,     -999,9,     -999,9,    -999,    -999