BOTTLE,20220706CCHSIOAMB
EXPOCODE,SECT_ID,STNNBR,CASTNO,SAMPNO,BTLNBR,BTLNBR_FLAG_W,DATE,TIME,LATITUDE,LONGITUDE,DEPTH,CTDPRS,CTDTMP,CTDSAL,CTDSAL_FLAG_W,SALNTY,SALNTY_FLAG_W,CTDOXY,CTDOXY_FLAG_W,OXYGEN,OXYGEN_FLAG_W,SILCAT,SILCAT_FLAG_W,NITRAT,NITRAT_FLAG_W,NITRIT,NITRIT_FLAG_W,PHSPHT,PHSPHT_FLAG_W,CFC-11,CFC-11_FLAG_W,CFC-12,CFC-12_FLAG_W,CFC113,CFC113_FLAG_W,TCARBN,TCARBN_FLAG_W,ALKALI,ALKALI_FLAG_W,PH_SWS,PH_SWS_FLAG_W,PH_TMP,TRITUM,TRITUM_FLAG_W,HELIUM,HELIUM_FLAG_W,DELHE3,DELHE3_FLAG_W,REFTMP,REFTMP_FLAG_W,DELC13,DELC13_FLAG_W,DELC14,DELC14_FLAG_W,C14ERR,NEON,NEON_FLAG_W,NEONER,CCL4,CCL4_FLAG_W,ALUMIN,ALUMIN_FLAG_W,DELO18,DELO18_FLAG_W,DOC,DOC_FLAG_W,TDN,TDN_FLAG_W,BTL_DATE,BTL_TIME,BTL_LAT,BTL_LON,TRITER,DELSI30,DELSI30_FLAG_W,CDOM380,CDOM380_FLAG_W,CDOM325,CDOM325_FLAG_W,CDOMSL,CDOMSL_FLAG_W,CDOM340,CDOM340_FLAG_W,CDOM443,CDOM443_FLAG_W,CDOMSN,CDOMSN_FLAG_W,BLACKC,BLACKC_FLAG_W,CDOM490,CDOM490_FLAG_W,CDOM412,CDOM412_FLAG_W,CDOM555,CDOM555_FLAG_W,DELHER,HELIER
,,,,,,,,,,,METERS,DBAR,ITS-90,PSS-78,,PSS-78,,UMOL/KG,,UMOL/KG,,UMOL/KG,,UMOL/KG,,UMOL/KG,,UMOL/KG,,PMOL/KG,,PMOL/KG,,PMOL/KG,,UMOL/KG,,UMOL/KG,,,,DEG C,TU,,NMOL/KG,,PERCNT,,DEG C,,/MILLE,,/MILLE,,/MILLE,NMOL/KG,,NMOL/KG,PMOL/KG,,NMOL/L,,/MILLE,,UMOL/KG,,UMOL/KG,,,,,,TU,/MILLE,,1/M,,1/M,,1/NM,,1/M,,1/M,,1/NM,,,,1/M,,1/M,,1/M,,PERCNT,NMOL/KG
33RR20080204,       I06S,      42,          1,          7,          7,2,20080218,       1045,   -47.9998,    30.0000,       5110,  3608.7,   0.7393,  34.6999,2,  34.6982,2,    210.4,2,   211.3,2,  119.31,2,   31.96,2,    0.00,2,    2.21,2,   0.233,2,   0.132,2,   0.016,2,    -999,9,    -999,9,     -999,9,     -999,    -999,9,    -999,9,    -999,9,-999,9,-999,9,-999,9,-999,    -999,9,    -999,0.56,2,-999,9,-999,9,    -999,9,-999,9, 20080218,     1120, -47.9997,  29.9999,    -999,-999,9,     -999,9,     -999,9,     -999,9,     -999,9,     -999,9,     -999,9,-999,9,     -999,9,     -999,9,     -999,9,    -999,    -999
33RR20080204,       I06S,      42,          1,          6,          6,2,20080218,       1045,   -47.9998,    30.0000,       5110,  3919.3,   0.6239,  34.6924,2,  34.6909,2,    212.4,2,   213.0,2,  123.59,2,   32.17,2,    0.00,2,    2.23,2,   0.250,2,   0.137,2,   0.014,2,    -999,9,    -999,9,     -999,9,     -999,    -999,9,    -999,9,    -999,9,-999,9,-999,9,-999,9,-999,    -999,9,    -999,0.581,2,-999,9,-999,9,    -999,9,-999,9, 20080218,     1114, -47.9997,  30.0000,    -999,-999,9,     -999,9,     -999,9,     -999,9,     -999,9,     -999,9,     -999,9,-999,9,     -999,9,     -999,9,     -999,9,    -999,    -999
33RR20080204,       I06S,      42,          1,          5,          5,2,20080218,       1045,   -47.9998,    30.0000,       5110,  4230.7,   0.5472,  34.6874,2,  34.6860,2,    215.2,2,   215.2,2,  126.12,2,   32.38,2,    0.00,2,    2.24,2,   0.264,2,   0.146,2,   0.015,2,    -999,9,  2359.6,2,     -999,9,     -999,    -999,9,    -999,9,    -999,9,-999,9,-999,9,-999,9,-999,    -999,9,    -999,0.664,2,-999,9,-999,9,    -999,9,-999,9, 20080218,     1107, -47.9997,  29.9999,    -999,-999,9,     -999,9,     -999,9,     -999,9,     -999,9,     -999,9,     -999,9,-999,9,     -999,9,     -999,9,     -999,9,    -999,    -999
33RR20080204,       I06S,      42,          1,          4,          4,2,20080218,       1045,   -47.9998,    30.0000,       5110,  4536.4,   0.4675,  34.6818,2,  34.6803,2,    218.1,2,   217.6,2,  127.87,2,   32.43,2,    0.00,2,    2.25,2,   0.288,2,   0.153,2,   0.017,2,    -999,9,    -999,9,     -999,9,     -999,    -999,9,    -999,9,    -999,9,-999,9,-999,9,-999,9,-999,    -999,9,    -999,0.72,2,-999,9,-999,9,    -999,9,-999,9, 20080218,     1101, -48.0001,  30.0001,    -999,-999,9,     -999,9,     -999,9,     -999,9,     -999,9,     -999,9,     -999,9,-999,9,     -999,9,     -999,9,     -999,9,    -999,    -999
33RR20080204,       I06S,      42,          1,          3,          3,2,20080218,       1045,   -47.9998,    30.0000,       5110,  4740.3,   0.3351,  34.6753,2,  34.6745,2,    222.3,2,   222.2,2,  128.84,2,   32.44,2,    0.00,2,    2.25,2,   0.337,2,   0.182,2,   0.022,2,    -999,9,  2357.3,2,     -999,9,     -999,    -999,9,    -999,9,    -999,9,-999,9,-999,9,-999,9,-999,    -999,9,    -999,0.767,2,-999,9,-999,9,    -999,9,-999,9, 20080218,     1056, -48.0002,  30.0000,    -999,-999,9,     -999,9,     -999,9,     -999,9,     -999,9,     -999,9,     -999,9,-999,9,     -999,9,     -999,9,     -999,9,    -999,    -999
33RR20080204,       I06S,      42,          1,          2,          2,2,20080218,       1045,   -47.9998,    30.0000,       5110,  4952.5,   0.2848,  34.6720,2,  34.6705,2,    224.7,2,   224.6,2,  129.43,2,   32.50,2,    0.00,2,    2.25,2,   0.572,2,   0.319,2,   0.051,2,    -999,9,  2356.6,2,     -999,9,     -999,    -999,9,    -999,9,    -999,9,-999,9,-999,9,-999,9,-999,    -999,9,    -999,0.973,2,-999,9,-999,9,    -999,9,-999,9, 20080218,     1051, -47.9997,  29.9999,    -999,-999,9,     -999,9,     -999,9,     -999,9,     -999,9,     -999,9,     -999,9,-999,9,     -999,9,     -999,9,     -999,9,    -999,    -999
33RR20080204,       I06S,      42,          1,          1,          1,2,20080218,       1045,   -47.9998,    30.0000,       5110,  5177.4,   0.2195,  34.6676,2,  34.6668,2,    227.4,2,   227.2,2,  130.21,2,   32.56,2,    0.00,2,    2.25,2,   0.000,4,   0.000,4,   0.000,4,    -999,9,  2356.8,2,     -999,9,     -999,    -999,9,    -999,9,    -999,9,-999,9,-999,9,-999,9,-999,    -999,9,    -999,0.0,4,-999,9,-999,9,    -999,9,-999,9, 20080218,     1046, -47.9998,  30.0000,    -999,-999,9,     -999,9,     -999,9,     -999,9,     -999,9,     -999,9,     -999,9,-999,9,     -999,9,     -999,9,     -999,9,    -999,    -999