BOTTLE,20220706CCHSIOAMB
EXPOCODE,SECT_ID,STNNBR,CASTNO,SAMPNO,BTLNBR,BTLNBR_FLAG_W,DATE,TIME,LATITUDE,LONGITUDE,DEPTH,CTDPRS,CTDTMP,CTDSAL,CTDSAL_FLAG_W,SALNTY,SALNTY_FLAG_W,CTDOXY,CTDOXY_FLAG_W,OXYGEN,OXYGEN_FLAG_W,SILCAT,SILCAT_FLAG_W,NITRAT,NITRAT_FLAG_W,NITRIT,NITRIT_FLAG_W,PHSPHT,PHSPHT_FLAG_W,CFC-11,CFC-11_FLAG_W,CFC-12,CFC-12_FLAG_W,CFC113,CFC113_FLAG_W,TCARBN,TCARBN_FLAG_W,ALKALI,ALKALI_FLAG_W,PH_SWS,PH_SWS_FLAG_W,PH_TMP,TRITUM,TRITUM_FLAG_W,HELIUM,HELIUM_FLAG_W,DELHE3,DELHE3_FLAG_W,REFTMP,REFTMP_FLAG_W,DELC13,DELC13_FLAG_W,DELC14,DELC14_FLAG_W,C14ERR,NEON,NEON_FLAG_W,NEONER,CCL4,CCL4_FLAG_W,ALUMIN,ALUMIN_FLAG_W,DELO18,DELO18_FLAG_W,DOC,DOC_FLAG_W,TDN,TDN_FLAG_W,BTL_DATE,BTL_TIME,BTL_LAT,BTL_LON,TRITER,DELSI30,DELSI30_FLAG_W,CDOM380,CDOM380_FLAG_W,CDOM325,CDOM325_FLAG_W,CDOMSL,CDOMSL_FLAG_W,CDOM340,CDOM340_FLAG_W,CDOM443,CDOM443_FLAG_W,CDOMSN,CDOMSN_FLAG_W,BLACKC,BLACKC_FLAG_W,CDOM490,CDOM490_FLAG_W,CDOM412,CDOM412_FLAG_W,CDOM555,CDOM555_FLAG_W,DELHER,HELIER
,,,,,,,,,,,METERS,DBAR,ITS-90,PSS-78,,PSS-78,,UMOL/KG,,UMOL/KG,,UMOL/KG,,UMOL/KG,,UMOL/KG,,UMOL/KG,,PMOL/KG,,PMOL/KG,,PMOL/KG,,UMOL/KG,,UMOL/KG,,,,DEG C,TU,,NMOL/KG,,PERCNT,,DEG C,,/MILLE,,/MILLE,,/MILLE,NMOL/KG,,NMOL/KG,PMOL/KG,,NMOL/L,,/MILLE,,UMOL/KG,,UMOL/KG,,,,,,TU,/MILLE,,1/M,,1/M,,1/NM,,1/M,,1/M,,1/NM,,,,1/M,,1/M,,1/M,,PERCNT,NMOL/KG
33RR20080204,       I06S,      64,          2,         36,         36,2,20080225,       1831,   -58.9947,    29.9988,       5448,     7.5,   1.2521,  33.8204,2,  33.8214,2,    334.6,2,   335.7,2,   46.69,2,   26.13,2,    0.33,2,    1.78,2,   6.042,2,   3.343,2,   0.502,2,  2161.8,6,  2291.6,2,     -999,9,     -999,    -999,9,    -999,1,    -999,9,-999,9,-999,9,-999,9,-999,    -999,9,    -999,-999,9,-999,9,-0.34,2,    -999,9,-999,9, 20080225,     2101, -58.9948,  29.9987,    -999,-999,9,     -999,9,     -999,9,     -999,9,     -999,9,     -999,9,     -999,9,-999,9,     -999,9,     -999,9,     -999,9,    -999,    -999
33RR20080204,       I06S,      64,          2,         35,         35,2,20080225,       1831,   -58.9947,    29.9988,       5448,    26.9,   1.2553,  33.8202,2,  33.8216,2,    336.1,2,   334.0,2,   46.69,2,   26.14,2,    0.33,2,    1.78,2,   6.127,2,   3.328,2,   0.497,2,    -999,9,  2293.2,2,     -999,9,     -999,    -999,9,    -999,9,    -999,9,-999,9,-999,9,-999,9,-999,    -999,9,    -999,-999,9,-999,9,-0.35,2,    -999,9,-999,9, 20080225,     2059, -58.9948,  29.9987,    -999,-999,9,     -999,9,     -999,9,     -999,9,     -999,9,     -999,9,     -999,9,-999,9,     -999,9,     -999,9,     -999,9,    -999,    -999
33RR20080204,       I06S,      64,          2,         34,         34,2,20080225,       1831,   -58.9947,    29.9988,       5448,    46.2,   1.2534,  33.8205,2,  33.8216,2,    336.1,2,   333.8,2,   46.50,2,   26.13,2,    0.33,2,    1.79,2,   6.015,2,   3.336,2,   0.496,2,    -999,9,  2292.5,2,     -999,9,     -999,    -999,9,    -999,9,    -999,9,-999,9,-999,9,-999,9,-999,    -999,9,    -999,-999,9,-999,9,-0.38,2,    -999,9,-999,9, 20080225,     2057, -58.9948,  29.9987,    -999,-999,9,     -999,9,     -999,9,     -999,9,     -999,9,     -999,9,     -999,9,-999,9,     -999,9,     -999,9,     -999,9,    -999,    -999
33RR20080204,       I06S,      64,          2,         33,         33,2,20080225,       1831,   -58.9947,    29.9988,       5448,    77.0,  -0.5094,  34.0394,2,  34.0280,2,    336.2,2,   345.3,2,   55.65,2,   27.68,2,    0.25,2,    1.93,2,   6.297,2,   3.481,2,   0.520,2,    -999,9,  2304.5,2,     -999,9,     -999,    -999,9,    -999,9,    -999,9,-999,9,-999,9,-999,9,-999,    -999,9,    -999,-999,9,-999,9,-0.28,2,    -999,9,-999,9, 20080225,     2056, -58.9948,  29.9987,    -999,-999,9,     -999,9,     -999,9,     -999,9,     -999,9,     -999,9,     -999,9,-999,9,     -999,9,     -999,9,     -999,9,    -999,    -999
33RR20080204,       I06S,      64,          2,         32,         32,2,20080225,       1831,   -58.9947,    29.9988,       5448,   101.2,  -0.6374,  34.1355,2,  34.1321,2,    330.0,2,   329.9,2,   60.13,2,   29.20,2,    0.31,2,    2.04,2,   5.937,2,   3.268,2,   0.476,2,    -999,9,    -999,9,     -999,9,     -999,   0.083,2,    -999,1,    -999,9,-999,9,-999,9,-999,9,-999,    -999,9,    -999,-999,9,-999,9,-0.22,2,    -999,9,-999,9, 20080225,     2054, -58.9948,  29.9988,   0.009,-999,9,     -999,9,     -999,9,     -999,9,     -999,9,     -999,9,     -999,9,-999,9,     -999,9,     -999,9,     -999,9,    -999,    -999
33RR20080204,       I06S,      64,          2,         31,         31,2,20080225,       1831,   -58.9947,    29.9988,       5448,   155.4,   0.1907,  34.3071,2,  34.2983,2,    289.5,2,   284.1,2,   70.26,2,   31.68,2,    0.02,2,    2.18,2,   4.567,2,   2.525,2,   0.372,2,    -999,9,  2319.7,2,     -999,9,     -999,    -999,9,    -999,9,    -999,9,-999,9,-999,9,-999,9,-999,    -999,9,    -999,-999,9,-999,9,-0.15,2,    -999,9,-999,9, 20080225,     2051, -58.9949,  29.9988,    -999,-999,9,     -999,9,     -999,9,     -999,9,     -999,9,     -999,9,     -999,9,-999,9,     -999,9,     -999,9,     -999,9,    -999,    -999
33RR20080204,       I06S,      64,          2,         30,         30,2,20080225,       1831,   -58.9947,    29.9988,       5448,   204.2,   1.2952,  34.5035,2,  34.5007,2,    219.3,2,   206.6,2,   80.04,2,   34.00,2,    0.01,2,    2.35,2,   2.030,2,   1.086,2,   0.174,2,    -999,9,    -999,9,     -999,9,     -999,    -999,9,    -999,1,    -999,9,-999,9,-999,9,-999,9,-999,    -999,9,    -999,-999,9,-999,9,-0.05,2,    -999,9,-999,9, 20080225,     2048, -58.9948,  29.9987,    -999,-999,9,     -999,9,     -999,9,     -999,9,     -999,9,     -999,9,     -999,9,-999,9,     -999,9,     -999,9,     -999,9,    -999,    -999
33RR20080204,       I06S,      64,          2,         29,         29,2,20080225,       1831,   -58.9947,    29.9988,       5448,   253.2,   1.4598,  34.5700,2,  34.5682,2,    191.5,2,   193.8,2,   83.45,2,   34.00,2,    0.00,2,    2.35,2,   1.440,6,   0.763,6,   0.120,6,    -999,9,  2337.8,2,     -999,9,     -999,    -999,9,    -999,9,    -999,9,-999,9,-999,9,-999,9,-999,    -999,9,    -999,-999,9,-999,9,-999,9,    -999,9,-999,9, 20080225,     2046, -58.9948,  29.9987,    -999,-999,9,     -999,9,     -999,9,     -999,9,     -999,9,     -999,9,     -999,9,-999,9,     -999,9,     -999,9,     -999,9,    -999,    -999
33RR20080204,       I06S,      64,          2,         28,         28,2,20080225,       1831,   -58.9947,    29.9988,       5448,   304.5,   1.5735,  34.6197,2,  34.6193,2,    190.7,2,   188.8,2,   86.46,2,   33.57,2,    0.00,2,    2.32,2,   1.052,2,   0.561,2,   0.091,2,    -999,9,    -999,9,     -999,9,     -999,    -999,9,    -999,1,    -999,9,-999,9,-999,9,-999,9,-999,    -999,9,    -999,-999,9,-999,9,0.0,2,    -999,9,-999,9, 20080225,     2044, -58.9948,  29.9987,    -999,-999,9,     -999,9,     -999,9,     -999,9,     -999,9,     -999,9,     -999,9,-999,9,     -999,9,     -999,9,     -999,9,    -999,    -999
33RR20080204,       I06S,      64,          2,         27,         27,2,20080225,       1831,   -58.9947,    29.9988,       5448,   353.6,   1.6191,  34.6512,2,  34.6492,2,    190.1,2,   187.1,2,   87.41,2,   33.19,2,    0.00,2,    2.29,2,   0.841,2,   0.441,2,   0.068,2,    -999,9,  2344.6,2,     -999,9,     -999,    -999,9,    -999,9,    -999,9,-999,9,-999,9,-999,9,-999,    -999,9,    -999,-999,9,-999,9,-999,9,    -999,9,-999,9, 20080225,     2041, -58.9948,  29.9988,    -999,-999,9,     -999,9,     -999,9,     -999,9,     -999,9,     -999,9,     -999,9,-999,9,     -999,9,     -999,9,     -999,9,    -999,    -999
33RR20080204,       I06S,      64,          2,         26,         26,2,20080225,       1831,   -58.9947,    29.9988,       5448,   399.0,   1.5911,  34.6703,2,  34.6690,2,    191.2,2,   189.1,2,   89.30,2,   32.76,2,    0.00,2,    2.26,2,   0.721,2,   0.397,2,   0.061,2,    -999,9,    -999,9,     -999,9,     -999,   0.023,2,    -999,1,    -999,9,-999,9,-999,9,-999,9,-999,    -999,9,    -999,-999,9,-999,9,0.07,2,    -999,9,-999,9, 20080225,     2039, -58.9948,  29.9987,   0.009,-999,9,     -999,9,     -999,9,     -999,9,     -999,9,     -999,9,     -999,9,-999,9,     -999,9,     -999,9,     -999,9,    -999,    -999
33RR20080204,       I06S,      64,          2,         25,         25,2,20080225,       1831,   -58.9947,    29.9988,       5448,   455.9,   1.5374,  34.6808,2,  34.6814,2,    192.4,2,   190.8,2,   90.63,2,   32.52,2,    0.00,2,    2.25,2,   0.660,2,   0.366,2,   0.056,2,    -999,9,  2346.9,2,     -999,9,     -999,    -999,9,    -999,9,    -999,9,-999,9,-999,9,-999,9,-999,    -999,9,    -999,-999,9,-999,9,-999,9,    -999,9,-999,9, 20080225,     2037, -58.9948,  29.9987,    -999,-999,9,     -999,9,     -999,9,     -999,9,     -999,9,     -999,9,     -999,9,-999,9,     -999,9,     -999,9,     -999,9,    -999,    -999
33RR20080204,       I06S,      64,          2,         24,         24,2,20080225,       1831,   -58.9947,    29.9988,       5448,   510.1,   1.5170,  34.6912,2,  34.6914,2,    193.4,2,   193.0,2,   91.38,2,   32.23,2,    0.00,2,    2.23,2,   0.601,2,   0.333,2,   0.047,2,    -999,9,    -999,9,     -999,9,     -999,    -999,9,    -999,1,    -999,9,-999,9,-999,9,-999,9,-999,    -999,9,    -999,-999,9,-999,9,-999,9,    -999,9,-999,9, 20080225,     2035, -58.9949,  29.9987,    -999,-999,9,     -999,9,     -999,9,     -999,9,     -999,9,     -999,9,     -999,9,-999,9,     -999,9,     -999,9,     -999,9,    -999,    -999
33RR20080204,       I06S,      64,          2,         23,         23,2,20080225,       1831,   -58.9947,    29.9988,       5448,   609.0,   1.5164,  34.7128,2,  34.7138,2,    196.1,2,   195.4,2,   92.32,2,   31.70,2,    0.00,2,    2.19,2,   0.443,2,   0.253,2,   0.051,2,    -999,9,  2349.6,2,     -999,9,     -999,   0.022,2,    -999,1,    -999,9,-999,9,-999,9,-999,9,-999,    -999,9,    -999,-999,9,-999,9,-999,9,    -999,9,-999,9, 20080225,     2032, -58.9948,  29.9987,   0.009,-999,9,     -999,9,     -999,9,     -999,9,     -999,9,     -999,9,     -999,9,-999,9,     -999,9,     -999,9,     -999,9,    -999,    -999
33RR20080204,       I06S,      64,          2,         22,         22,2,20080225,       1831,   -58.9947,    29.9988,       5448,   709.0,   1.4479,  34.7215,2,  34.7221,2,    197.5,2,   198.0,2,   94.03,2,   31.37,2,    0.00,2,    2.17,2,   0.375,2,   0.218,2,   0.035,2,    -999,9,    -999,9,     -999,9,     -999,    -999,9,    -999,9,    -999,9,-999,9,-999,9,-999,9,-999,    -999,9,    -999,-999,9,-999,9,-0.03,2,    -999,9,-999,9, 20080225,     2028, -58.9949,  29.9987,    -999,-999,9,     -999,9,     -999,9,     -999,9,     -999,9,     -999,9,     -999,9,-999,9,     -999,9,     -999,9,     -999,9,    -999,    -999
33RR20080204,       I06S,      64,          2,         21,         21,2,20080225,       1831,   -58.9947,    29.9988,       5448,   811.1,   1.2875,  34.7174,2,  34.7174,2,    200.2,2,   200.6,2,   97.83,2,   31.47,2,    0.00,2,    2.17,2,   0.399,2,   0.223,2,   0.040,2,    -999,9,  2353.2,2,     -999,9,     -999,   0.010,2,    -999,1,    -999,9,-999,9,-999,9,-999,9,-999,    -999,9,    -999,-999,9,-999,9,-999,9,    -999,9,-999,9, 20080225,     2025, -58.9948,  29.9988,   0.009,-999,9,     -999,9,     -999,9,     -999,9,     -999,9,     -999,9,     -999,9,-999,9,     -999,9,     -999,9,     -999,9,    -999,    -999
33RR20080204,       I06S,      64,          2,         20,         20,2,20080225,       1831,   -58.9947,    29.9988,       5448,   915.3,   1.1581,  34.7142,2,  34.7142,2,    201.0,2,   201.5,2,  101.44,2,   31.70,2,    0.00,2,    2.18,2,   0.399,2,   0.214,2,   0.041,2,    -999,9,    -999,9,     -999,9,     -999,    -999,9,    -999,9,    -999,9,-999,9,-999,9,-999,9,-999,    -999,9,    -999,-999,9,-999,9,-999,9,    -999,9,-999,9, 20080225,     2021, -58.9949,  29.9987,    -999,-999,9,     -999,9,     -999,9,     -999,9,     -999,9,     -999,9,     -999,9,-999,9,     -999,9,     -999,9,     -999,9,    -999,    -999
33RR20080204,       I06S,      64,          2,         19,         19,2,20080225,       1831,   -58.9947,    29.9988,       5448,  1014.4,   1.0683,  34.7140,2,  34.7148,2,    201.8,2,   202.3,2,  103.91,2,   31.71,2,    0.00,2,    2.18,2,   0.356,2,   0.201,2,   0.048,2,    -999,9,  2354.9,2,     -999,9,     -999,  -0.012,2,    -999,1,    -999,9,-999,9,-999,9,-999,9,-999,    -999,9,    -999,-999,9,-999,9,-999,9,    -999,9,-999,9, 20080225,     2017, -58.9948,  29.9987,   0.009,-999,9,     -999,9,     -999,9,     -999,9,     -999,9,     -999,9,     -999,9,-999,9,     -999,9,     -999,9,     -999,9,    -999,    -999
33RR20080204,       I06S,      64,          2,         18,         18,2,20080225,       1831,   -58.9947,    29.9988,       5448,  1216.4,   0.9022,  34.7088,2,  34.7085,2,    203.5,2,   204.4,2,  108.87,2,   32.00,2,    0.00,2,    2.21,2,   0.341,2,   0.181,2,   0.020,2,    -999,9,    -999,9,     -999,9,     -999,  -0.003,2,    -999,1,    -999,9,-999,9,-999,9,-999,9,-999,    -999,9,    -999,-999,9,-999,9,0.0,2,    -999,9,-999,9, 20080225,     2011, -58.9948,  29.9988,   0.009,-999,9,     -999,9,     -999,9,     -999,9,     -999,9,     -999,9,     -999,9,-999,9,     -999,9,     -999,9,     -999,9,    -999,    -999
33RR20080204,       I06S,      64,          2,         17,         17,2,20080225,       1831,   -58.9947,    29.9988,       5448,  1417.9,   0.7372,  34.7005,2,  34.7011,2,    204.1,2,   203.3,2,  113.63,2,   32.34,2,    0.00,2,    2.24,2,   0.342,2,   0.191,2,   0.020,2,    -999,9,  2358.0,2,     -999,9,     -999,  -0.003,2,    -999,1,    -999,9,-999,9,-999,9,-999,9,-999,    -999,9,    -999,-999,9,-999,9,-999,9,    -999,9,-999,9, 20080225,     2006, -58.9948,  29.9988,   0.009,-999,9,     -999,9,     -999,9,     -999,9,     -999,9,     -999,9,     -999,9,-999,9,     -999,9,     -999,9,     -999,9,    -999,    -999
33RR20080204,       I06S,      64,          2,         16,         16,2,20080225,       1831,   -58.9947,    29.9988,       5448,  1621.8,   0.5879,  34.6939,2,  34.6936,2,    204.3,2,   206.0,2,  118.41,2,   32.77,2,    0.00,2,    2.25,2,   0.331,2,   0.180,2,   0.024,2,    -999,9,    -999,9,     -999,9,     -999,   0.004,2,    -999,1,    -999,9,-999,9,-999,9,-999,9,-999,    -999,9,    -999,-999,9,-999,9,-999,9,    -999,9,-999,9, 20080225,     2000, -58.9948,  29.9987,   0.009,-999,9,     -999,9,     -999,9,     -999,9,     -999,9,     -999,9,     -999,9,-999,9,     -999,9,     -999,9,     -999,9,    -999,    -999
33RR20080204,       I06S,      64,          2,         15,         15,2,20080225,       1831,   -58.9947,    29.9988,       5448,  1828.0,   0.4826,  34.6890,2,  34.6887,2,    205.9,2,   206.9,2,  122.04,2,   32.96,2,    0.00,2,    2.28,2,   0.313,2,   0.168,2,   0.016,2,    -999,9,  2358.2,2,     -999,9,     -999,   0.000,2,    -999,1,    -999,9,-999,9,-999,9,-999,9,-999,    -999,9,    -999,-999,9,-999,9,-999,9,    -999,9,-999,9, 20080225,     1955, -58.9948,  29.9987,   0.009,-999,9,     -999,9,     -999,9,     -999,9,     -999,9,     -999,9,     -999,9,-999,9,     -999,9,     -999,9,     -999,9,    -999,    -999
33RR20080204,       I06S,      64,          2,         14,         14,2,20080225,       1831,   -58.9947,    29.9988,       5448,  2033.5,   0.4015,  34.6856,2,  34.6850,2,    208.3,2,   209.0,2,  124.16,2,   33.01,2,    0.00,2,    2.28,2,   0.313,2,   0.170,2,   0.016,2,    -999,9,    -999,9,     -999,9,     -999,  -0.015,2,    -999,1,    -999,9,-999,9,-999,9,-999,9,-999,    -999,9,    -999,-999,9,-999,9,-0.07,2,    -999,9,-999,9, 20080225,     1950, -58.9948,  29.9987,   0.009,-999,9,     -999,9,     -999,9,     -999,9,     -999,9,     -999,9,     -999,9,-999,9,     -999,9,     -999,9,     -999,9,    -999,    -999
33RR20080204,       I06S,      64,          2,         13,         13,2,20080225,       1831,   -58.9947,    29.9988,       5448,  2341.1,   0.3168,  34.6823,2,  34.6818,2,    212.3,2,   213.1,2,  126.46,2,   32.96,2,    0.00,2,    2.27,2,   0.286,2,   0.157,2,   0.015,2,    -999,9,  2358.1,2,     -999,9,     -999,    -999,9,    -999,1,    -999,9,-999,9,-999,9,-999,9,-999,    -999,9,    -999,-999,9,-999,9,-999,9,    -999,9,-999,9, 20080225,     1943, -58.9948,  29.9987,    -999,-999,9,     -999,9,     -999,9,     -999,9,     -999,9,     -999,9,     -999,9,-999,9,     -999,9,     -999,9,     -999,9,    -999,    -999
33RR20080204,       I06S,      64,          2,         12,         12,2,20080225,       1831,   -58.9947,    29.9988,       5448,  2644.9,   0.1871,  34.6754,2,  34.6753,2,    216.5,2,   216.9,2,  127.61,2,   33.06,2,    0.00,2,    2.28,2,   0.306,2,   0.162,2,   0.016,2,    -999,9,    -999,9,     -999,9,     -999,    -999,9,    -999,1,    -999,9,-999,9,-999,9,-999,9,-999,    -999,9,    -999,-999,9,-999,9,-999,9,    -999,9,-999,9, 20080225,     1936, -58.9948,  29.9987,    -999,-999,9,     -999,9,     -999,9,     -999,9,     -999,9,     -999,9,     -999,9,-999,9,     -999,9,     -999,9,     -999,9,    -999,    -999
33RR20080204,       I06S,      64,          2,         11,         11,2,20080225,       1831,   -58.9947,    29.9988,       5448,  2952.3,   0.0695,  34.6703,2,  34.6700,2,    221.6,2,   222.0,2,  128.57,2,   33.02,2,    0.00,2,    2.27,2,   0.332,2,   0.179,2,   0.013,2,    -999,9,  2355.9,2,     -999,9,     -999,    -999,9,   1.878,2,    7.23,2,-999,9,-999,9,-999,9,-999,   8.217,2,   0.031,-999,9,-999,9,-999,9,    -999,9,-999,9, 20080225,     1929, -58.9948,  29.9987,    -999,-999,9,     -999,9,     -999,9,     -999,9,     -999,9,     -999,9,     -999,9,-999,9,     -999,9,     -999,9,     -999,9,    0.15,   0.007
33RR20080204,       I06S,      64,          2,         10,         10,2,20080225,       1831,   -58.9947,    29.9988,       5448,  3259.3,  -0.0116,  34.6660,2,  34.6659,2,    225.8,2,   226.5,2,  128.00,2,   32.93,2,    0.00,2,    2.27,2,   0.338,2,   0.180,2,   0.023,2,    -999,9,    -999,9,     -999,9,     -999,    -999,9,    -999,9,    -999,9,-999,9,-999,9,-999,9,-999,    -999,9,    -999,-999,9,-999,9,-0.1,2,    -999,9,-999,9, 20080225,     1922, -58.9948,  29.9988,    -999,-999,9,     -999,9,     -999,9,     -999,9,     -999,9,     -999,9,     -999,9,-999,9,     -999,9,     -999,9,     -999,9,    -999,    -999
33RR20080204,       I06S,      64,          2,          9,          9,2,20080225,       1831,   -58.9947,    29.9988,       5448,  3564.6,  -0.0825,  34.6628,2,  34.6628,2,    229.9,2,   230.5,2,  128.77,2,   32.83,2,    0.00,2,    2.27,2,   0.364,2,   0.198,2,   0.018,2,    -999,9,  2354.6,2,     -999,9,     -999,   0.003,2,   1.879,2,    6.75,2,-999,9,-999,9,-999,9,-999,   8.234,2,   0.031,-999,9,-999,9,-999,9,    -999,9,-999,9, 20080225,     1916, -58.9948,  29.9987,   0.009,-999,9,     -999,9,     -999,9,     -999,9,     -999,9,     -999,9,     -999,9,-999,9,     -999,9,     -999,9,     -999,9,    0.15,   0.007
33RR20080204,       I06S,      64,          2,          8,          8,2,20080225,       1831,   -58.9947,    29.9988,       5448,  3871.2,  -0.1326,  34.6601,2,  34.6602,2,    233.5,2,   234.0,2,  128.57,2,   32.69,2,    0.00,2,    2.26,2,   0.427,2,   0.226,2,   0.029,2,    -999,9,    -999,9,     -999,9,     -999,    -999,9,    -999,9,    -999,9,-999,9,-999,9,-999,9,-999,    -999,9,    -999,-999,9,-999,9,-999,9,    -999,9,-999,9, 20080225,     1909, -58.9948,  29.9988,    -999,-999,9,     -999,9,     -999,9,     -999,9,     -999,9,     -999,9,     -999,9,-999,9,     -999,9,     -999,9,     -999,9,    -999,    -999