BOTTLE,20220706CCHSIOAMB
EXPOCODE,SECT_ID,STNNBR,CASTNO,SAMPNO,BTLNBR,BTLNBR_FLAG_W,DATE,TIME,LATITUDE,LONGITUDE,DEPTH,CTDPRS,CTDTMP,CTDSAL,CTDSAL_FLAG_W,SALNTY,SALNTY_FLAG_W,CTDOXY,CTDOXY_FLAG_W,OXYGEN,OXYGEN_FLAG_W,SILCAT,SILCAT_FLAG_W,NITRAT,NITRAT_FLAG_W,NITRIT,NITRIT_FLAG_W,PHSPHT,PHSPHT_FLAG_W,CFC-11,CFC-11_FLAG_W,CFC-12,CFC-12_FLAG_W,CFC113,CFC113_FLAG_W,TCARBN,TCARBN_FLAG_W,ALKALI,ALKALI_FLAG_W,PH_SWS,PH_SWS_FLAG_W,PH_TMP,TRITUM,TRITUM_FLAG_W,HELIUM,HELIUM_FLAG_W,DELHE3,DELHE3_FLAG_W,REFTMP,REFTMP_FLAG_W,DELC13,DELC13_FLAG_W,DELC14,DELC14_FLAG_W,C14ERR,NEON,NEON_FLAG_W,NEONER,CCL4,CCL4_FLAG_W,ALUMIN,ALUMIN_FLAG_W,DELO18,DELO18_FLAG_W,DOC,DOC_FLAG_W,TDN,TDN_FLAG_W,BTL_DATE,BTL_TIME,BTL_LAT,BTL_LON,TRITER,DELSI30,DELSI30_FLAG_W,CDOM380,CDOM380_FLAG_W,CDOM325,CDOM325_FLAG_W,CDOMSL,CDOMSL_FLAG_W,CDOM340,CDOM340_FLAG_W,CDOM443,CDOM443_FLAG_W,CDOMSN,CDOMSN_FLAG_W,BLACKC,BLACKC_FLAG_W,CDOM490,CDOM490_FLAG_W,CDOM412,CDOM412_FLAG_W,CDOM555,CDOM555_FLAG_W,DELHER,HELIER
,,,,,,,,,,,METERS,DBAR,ITS-90,PSS-78,,PSS-78,,UMOL/KG,,UMOL/KG,,UMOL/KG,,UMOL/KG,,UMOL/KG,,UMOL/KG,,PMOL/KG,,PMOL/KG,,PMOL/KG,,UMOL/KG,,UMOL/KG,,,,DEG C,TU,,NMOL/KG,,PERCNT,,DEG C,,/MILLE,,/MILLE,,/MILLE,NMOL/KG,,NMOL/KG,PMOL/KG,,NMOL/L,,/MILLE,,UMOL/KG,,UMOL/KG,,,,,,TU,/MILLE,,1/M,,1/M,,1/NM,,1/M,,1/M,,1/NM,,,,1/M,,1/M,,1/M,,PERCNT,NMOL/KG
33RR20080204,       I06S,      97,          1,         29,         29,2,20080306,       0024,   -68.2939,    31.1577,       1975,     3.3,  -0.7459,  34.0513,2,  34.0530,2,    337.8,2,   338.2,2,   55.87,2,   27.12,2,    0.15,2,    1.89,2,   5.945,2,   3.349,2,   0.487,2,  2182.8,2,  2307.0,2,   7.8692,2,    13.00,    -999,9,    -999,9,    -999,9,-0.7458,2,-999,9,-999,9,-999,    -999,9,    -999,6.103,2,-999,9,-999,9,   43.22,2,-999,1, 20080306,     0136, -68.2939,  31.1577,    -999,-999,9,     -999,9,     -999,9,     -999,9,     -999,9,     -999,9,     -999,9,-999,9,     -999,9,     -999,9,     -999,9,    -999,    -999
33RR20080204,       I06S,      97,          1,         28,         28,2,20080306,       0024,   -68.2939,    31.1577,       1975,    24.2,  -0.7420,  34.0522,2,  34.0536,2,    338.5,2,   336.9,2,   56.07,2,   27.18,2,    0.15,2,    1.89,2,   5.902,2,   3.354,2,   0.463,2,  2183.7,2,  2307.4,2,   7.8700,2,    13.00,    -999,9,    -999,9,    -999,9,-0.7421,2,1.2,2,-108.6,2,4.1,    -999,9,    -999,5.868,2,-999,9,-999,9,   45.07,2,-999,1, 20080306,     0134, -68.2938,  31.1576,    -999,-999,1,     -999,9,     -999,9,     -999,9,     -999,9,     -999,9,     -999,9,-999,9,     -999,9,     -999,9,     -999,9,    -999,    -999
33RR20080204,       I06S,      97,          1,         27,         27,2,20080306,       0024,   -68.2939,    31.1577,       1975,    44.8,  -0.7397,  34.0512,2,  34.0534,2,    339.9,2,   337.3,2,   56.26,2,   27.13,2,    0.15,2,    1.89,2,   5.977,2,   3.357,2,   0.495,2,  2181.0,2,  2308.5,2,   7.8688,2,    13.00,    -999,9,    -999,9,    -999,9,-0.7404,2,-999,9,-999,9,-999,    -999,9,    -999,6.631,2,-999,9,-999,9,   40.98,2,-999,1, 20080306,     0132, -68.2939,  31.1577,    -999,-999,1,     -999,9,     -999,9,     -999,9,     -999,9,     -999,9,     -999,9,-999,9,     -999,9,     -999,9,     -999,9,    -999,    -999
33RR20080204,       I06S,      97,          1,         26,         26,2,20080306,       0024,   -68.2939,    31.1577,       1975,    74.7,  -1.0439,  34.1419,2,  34.1337,2,     -999,9,    -999,5,   58.25,2,   28.00,2,    0.14,2,    1.96,2,   5.625,2,   3.146,2,   0.509,2,   876.2,4,  2312.3,2,   7.8513,2,    13.00,    -999,9,    -999,9,    -999,9,-1.0535,2,1.1,2,-117.6,2,2.5,    -999,9,    -999,6.427,2,-999,9,-999,9,   43.71,2,-999,1, 20080306,     0131, -68.2939,  31.1577,    -999,-999,1,     -999,9,     -999,9,     -999,9,     -999,9,     -999,9,     -999,9,-999,9,     -999,9,     -999,9,     -999,9,    -999,    -999
33RR20080204,       I06S,      97,          1,         25,         25,2,20080306,       0024,   -68.2939,    31.1577,       1975,   104.5,  -1.6030,  34.2831,2,  34.2844,2,    308.9,2,   310.3,2,   63.21,2,   29.76,2,    0.13,2,    2.09,2,   5.147,2,   2.824,2,   0.455,2,   517.3,4,  2319.7,2,   7.8180,2,    13.00,    -999,9,    -999,9,    -999,9,-1.6057,2,0.76,2,-118.6,2,3.9,    -999,9,    -999,5.824,2,-999,9,-999,9,   39.71,2,-999,1, 20080306,     0129, -68.2939,  31.1577,    -999,-999,1,     -999,9,     -999,9,     -999,9,     -999,9,     -999,9,     -999,9,-999,9,     -999,9,     -999,9,     -999,9,    -999,    -999
33RR20080204,       I06S,      97,          1,         24,         24,2,20080306,       0024,   -68.2939,    31.1577,       1975,   154.5,  -1.6182,  34.3419,2,  34.3428,2,    304.6,2,   303.4,2,   65.79,2,   30.48,2,    0.07,2,    2.11,2,   4.949,2,   2.734,2,   0.514,2,  1656.8,4,  2323.5,2,   7.8092,2,    13.00,    -999,9,    -999,9,    -999,9,-1.6196,2,0.89,2,-125.6,2,2.8,    -999,9,    -999,5.567,2,-999,9,-999,9,   39.02,2,-999,1, 20080306,     0127, -68.2939,  31.1577,    -999,-999,1,     -999,9,     -999,9,     -999,9,     -999,9,     -999,9,     -999,9,-999,9,     -999,9,     -999,9,     -999,9,    -999,    -999
33RR20080204,       I06S,      97,          1,         23,         23,2,20080306,       0024,   -68.2939,    31.1577,       1975,   204.7,  -1.4499,  34.3800,2,  34.3790,2,    298.6,2,   298.3,2,   67.18,2,   30.72,2,    0.03,2,    2.12,2,   4.809,2,   2.658,2,   0.439,2,  2221.0,2,  2325.9,2,   7.8060,2,    13.00,    -999,9,    -999,9,    -999,9,-1.4511,2,0.85,2,-123.7,2,2.9,    -999,9,    -999,5.45,2,-999,9,-999,9,   41.56,2,-999,1, 20080306,     0125, -68.2938,  31.1576,    -999,-999,1,     -999,9,     -999,9,     -999,9,     -999,9,     -999,9,     -999,9,-999,9,     -999,9,     -999,9,     -999,9,    -999,    -999
33RR20080204,       I06S,      97,          1,         22,         22,2,20080306,       0024,   -68.2939,    31.1577,       1975,   255.3,  -1.1534,  34.4177,2,  34.4196,2,    286.7,2,   286.5,2,   69.97,2,   30.89,2,    0.02,2,    2.13,2,   4.414,2,   2.407,2,   0.374,2,  2223.7,2,  2328.0,2,   7.8008,2,    13.00,    -999,9,    -999,9,    -999,9,-1.1533,2,0.84,2,-120.2,2,2.8,    -999,9,    -999,4.601,2,-999,9,-999,9,    -999,9,-999,9, 20080306,     0123, -68.2939,  31.1577,    -999,-999,1,     -999,9,     -999,9,     -999,9,     -999,9,     -999,9,     -999,9,-999,9,     -999,9,     -999,9,     -999,9,    -999,    -999
33RR20080204,       I06S,      97,          1,         21,         21,2,20080306,       0024,   -68.2939,    31.1577,       1975,   305.5,  -0.7380,  34.4737,2,  34.4804,2,    268.1,2,   270.9,2,   74.16,2,   31.16,2,    0.01,2,    2.15,2,   3.841,2,   2.063,2,   0.344,2,  2229.6,2,  2333.0,2,   7.7967,2,    13.00,    -999,9,    -999,9,    -999,9,-0.7296,2,-999,9,-999,9,-999,    -999,9,    -999,4.156,2,-999,9,-999,9,   40.59,2,-999,1, 20080306,     0121, -68.2939,  31.1577,    -999,-999,1,     -999,9,     -999,9,     -999,9,     -999,9,     -999,9,     -999,9,-999,9,     -999,9,     -999,9,     -999,9,    -999,    -999
33RR20080204,       I06S,      97,          1,         20,         20,2,20080306,       0024,   -68.2939,    31.1577,       1975,   354.6,  -0.4127,  34.5258,2,  34.5272,2,    260.4,2,   259.4,2,   77.76,2,   31.20,2,    0.01,2,    2.16,2,   3.394,2,   1.807,2,   0.320,2,  2231.4,2,  2336.3,2,   7.7931,2,    13.00,    -999,9,    -999,9,    -999,9,-0.4159,2,0.74,2,-140.5,2,2.7,    -999,9,    -999,3.751,2,-999,9,-999,9,    -999,9,-999,9, 20080306,     0119, -68.2939,  31.1577,    -999,-999,9,     -999,9,     -999,9,     -999,9,     -999,9,     -999,9,     -999,9,-999,9,     -999,9,     -999,9,     -999,9,    -999,    -999
33RR20080204,       I06S,      97,          1,         19,         19,2,20080306,       0024,   -68.2939,    31.1577,       1975,   400.6,  -0.3117,  34.5446,2,  34.5463,2,    254.9,2,   254.4,2,   79.36,2,   31.20,2,    0.01,2,    2.16,2,   3.187,2,   1.700,2,   0.298,2,  2236.0,2,  2337.8,2,   7.7916,2,    13.00,    -999,9,    -999,9,    -999,9,-0.3127,2,0.69,2,-144.1,2,3.4,    -999,9,    -999,3.39,2,-999,9,-999,9,   38.05,2,-999,1, 20080306,     0117, -68.2939,  31.1577,    -999,-999,1,     -999,9,     -999,9,     -999,9,     -999,9,     -999,9,     -999,9,-999,9,     -999,9,     -999,9,     -999,9,    -999,    -999
33RR20080204,       I06S,      97,          1,         18,         18,2,20080306,       0024,   -68.2939,    31.1577,       1975,   461.3,  -0.1511,  34.5773,2,  34.5770,2,    247.6,2,   246.4,2,   83.36,2,   31.26,2,    0.01,2,    2.17,2,   2.809,2,   1.495,2,   0.257,2,  2239.5,2,  2340.3,2,   7.7920,2,    13.00,    -999,9,    -999,9,    -999,9,-0.1514,2,0.63,2,-137.5,2,3.0,    -999,9,    -999,3.142,2,-999,9,-999,9,    -999,9,-999,9, 20080306,     0115, -68.2939,  31.1578,    -999,-999,9,     -999,9,     -999,9,     -999,9,     -999,9,     -999,9,     -999,9,-999,9,     -999,9,     -999,9,     -999,9,    -999,    -999
33RR20080204,       I06S,      97,          1,         17,         17,2,20080306,       0024,   -68.2939,    31.1577,       1975,   510.4,  -0.0604,  34.5931,2,  34.5931,2,    243.8,2,   243.9,2,   85.76,2,   31.26,2,    0.00,2,    2.17,2,   2.593,2,   1.360,2,   0.225,2,  2240.4,2,  2342.2,2,   7.7905,2,    13.00,    -999,9,    -999,9,    -999,9,-0.0602,2,0.65,2,-141.4,2,2.8,    -999,9,    -999,3.011,2,-999,9,-999,9,   37.37,2,-999,1, 20080306,     0112, -68.2939,  31.1579,    -999,-999,1,     -999,9,     -999,9,     -999,9,     -999,9,     -999,9,     -999,9,-999,9,     -999,9,     -999,9,     -999,9,    -999,    -999
33RR20080204,       I06S,      97,          1,         15,         15,2,20080306,       0024,   -68.2939,    31.1577,       1975,   611.8,   0.1228,  34.6225,2,  34.6235,2,    235.3,2,   234.5,2,   90.98,2,   31.42,2,    0.00,2,    2.18,2,   2.079,2,   1.090,2,   0.176,2,  2237.0,3,  2345.3,2,   7.7881,2,    13.00,    -999,9,    -999,9,    -999,9,0.1212,2,0.62,2,-149.7,2,4.2,    -999,9,    -999,2.694,2,-999,9,-999,9,   38.44,2,-999,1, 20080306,     0110, -68.2938,  31.1577,    -999,-999,9,     -999,9,     -999,9,     -999,9,     -999,9,     -999,9,     -999,9,-999,9,     -999,9,     -999,9,     -999,9,    -999,    -999
33RR20080204,       I06S,      97,          1,         14,         14,2,20080306,       0024,   -68.2939,    31.1577,       1975,   710.6,   0.1841,  34.6329,2,  34.6349,2,    231.4,2,   231.5,2,   93.79,2,   31.47,2,    0.00,2,    2.18,2,   1.880,2,   0.996,2,   0.167,2,  2242.3,2,  2347.0,2,   7.7890,2,    13.00,    -999,9,    -999,9,    -999,9,0.1836,2,0.62,2,-150.7,2,2.7,    -999,9,    -999,2.538,2,-999,9,-999,9,    -999,9,-999,9, 20080306,     0106, -68.2938,  31.1576,    -999,-999,1,     -999,9,     -999,9,     -999,9,     -999,9,     -999,9,     -999,9,-999,9,     -999,9,     -999,9,     -999,9,    -999,    -999
33RR20080204,       I06S,      97,          1,         13,         13,2,20080306,       0024,   -68.2939,    31.1577,       1975,   811.6,   0.2555,  34.6448,2,  34.6469,2,    226.3,2,   228.1,2,   96.81,2,   31.52,2,    0.00,2,    2.18,2,   1.644,6,   0.865,6,   0.145,6,  2243.0,2,  2348.6,2,   7.7881,2,    13.00,    -999,9,    -999,9,    -999,9,0.2543,2,0.6,2,-135.0,2,3.1,    -999,9,    -999,2.169,6,-999,9,-999,9,   38.63,2,-999,1, 20080306,     0103, -68.2939,  31.1577,    -999,-999,9,     -999,9,     -999,9,     -999,9,     -999,9,     -999,9,     -999,9,-999,9,     -999,9,     -999,9,     -999,9,    -999,    -999
33RR20080204,       I06S,      97,          1,         12,         12,2,20080306,       0024,   -68.2939,    31.1577,       1975,   911.3,   0.4168,  34.6703,2,  34.6715,2,    219.1,2,   218.6,2,  104.66,2,   31.73,2,    0.00,2,    2.20,2,   1.029,2,   0.575,2,   0.093,2,  2249.1,2,  2352.6,2,   7.7868,2,    13.00,    -999,9,    -999,9,    -999,9,0.4163,2,0.55,2,-140.3,2,2.7,    -999,9,    -999,1.738,2,-999,9,-999,9,    -999,9,-999,9, 20080306,     0100, -68.2939,  31.1577,    -999,-999,1,     -999,9,     -999,9,     -999,9,     -999,9,     -999,9,     -999,9,-999,9,     -999,9,     -999,9,     -999,9,    -999,    -999
33RR20080204,       I06S,      97,          1,         11,         11,2,20080306,       0024,   -68.2939,    31.1577,       1975,  1011.4,   0.4087,  34.6728,2,  34.6746,2,    217.7,2,   218.1,2,  107.49,2,   31.83,2,    0.00,2,    2.20,2,   0.942,2,   0.493,2,   0.071,2,  2245.6,3,  2352.7,2,   7.7854,2,    13.00,    -999,9,    -999,9,    -999,9,0.409,2,0.54,2,-148.2,2,3.0,    -999,9,    -999,1.359,2,-999,9,-999,9,    -999,9,-999,1, 20080306,     0057, -68.2939,  31.1577,    -999,-999,9,     -999,9,     -999,9,     -999,9,     -999,9,     -999,9,     -999,9,-999,9,     -999,9,     -999,9,     -999,9,    -999,    -999
33RR20080204,       I06S,      97,          1,         10,         10,2,20080306,       0024,   -68.2939,    31.1577,       1975,  1121.0,   0.3465,  34.6718,2,  34.6734,2,    218.4,2,   219.0,2,  109.92,2,   31.99,2,    0.00,2,    2.22,2,   0.866,2,   0.467,2,   0.068,2,  2247.7,3,  2353.5,2,   7.7845,2,    13.00,    -999,9,    -999,9,    -999,9,0.3461,2,-999,9,-999,9,-999,    -999,9,    -999,1.542,2,-999,9,-999,9,    -999,9,-999,9, 20080306,     0054, -68.2938,  31.1576,    -999,-999,9,     -999,9,     -999,9,     -999,9,     -999,9,     -999,9,     -999,9,-999,9,     -999,9,     -999,9,     -999,9,    -999,    -999
33RR20080204,       I06S,      97,          1,          9,          9,2,20080306,       0024,   -68.2939,    31.1577,       1975,  1221.0,   0.2954,  34.6701,2,  34.6719,2,    219.4,2,   218.8,2,  111.54,2,   32.04,2,    0.00,2,    2.22,2,   0.858,2,   0.471,2,   0.062,2,  2248.5,3,  2354.1,2,   7.7829,2,    13.00,    -999,9,    -999,9,    -999,9,0.2946,2,-999,9,-999,9,-999,    -999,9,    -999,1.556,2,-999,9,-999,9,    -999,9,-999,1, 20080306,     0050, -68.2939,  31.1577,    -999,-999,9,     -999,9,     -999,9,     -999,9,     -999,9,     -999,9,     -999,9,-999,9,     -999,9,     -999,9,     -999,9,    -999,    -999
33RR20080204,       I06S,      97,          1,          8,          8,2,20080306,       0024,   -68.2939,    31.1577,       1975,  1322.1,   0.2666,  34.6711,2,  34.6727,2,    219.3,2,   218.8,2,  113.97,2,   32.20,2,    0.00,2,    2.23,2,   0.779,2,   0.427,2,   0.081,2,  2249.6,3,  2354.8,2,   7.7841,2,    13.00,    -999,9,    -999,9,    -999,9,0.2663,2,-999,9,-999,9,-999,    -999,9,    -999,1.429,2,-999,9,-999,9,    -999,9,-999,9, 20080306,     0047, -68.2939,  31.1577,    -999,-999,9,     -999,9,     -999,9,     -999,9,     -999,9,     -999,9,     -999,9,-999,9,     -999,9,     -999,9,     -999,9,    -999,    -999
33RR20080204,       I06S,      97,          1,          7,          7,2,20080306,       0024,   -68.2939,    31.1577,       1975,  1421.9,   0.2434,  34.6712,2,  34.6735,2,    219.1,2,   218.9,2,  115.58,2,   32.15,2,    0.00,2,    2.23,2,   0.735,2,   0.392,2,   0.069,2,  2250.1,3,  2356.5,2,   7.7806,4,    13.00,    -999,9,    -999,9,    -999,9,0.2428,2,-999,9,-999,9,-999,    -999,9,    -999,1.508,2,-999,9,-999,9,    -999,9,-999,1, 20080306,     0044, -68.2939,  31.1577,    -999,-999,1,     -999,9,     -999,9,     -999,9,     -999,9,     -999,9,     -999,9,-999,9,     -999,9,     -999,9,     -999,9,    -999,    -999
33RR20080204,       I06S,      97,          1,          6,          6,2,20080306,       0024,   -68.2939,    31.1577,       1975,  1520.8,   0.2335,  34.6712,2,  34.6731,2,    219.9,2,   219.3,2,  115.99,2,   32.25,2,    0.00,2,    2.24,2,   0.723,2,   0.398,2,   0.068,2,  2250.2,3,  2356.1,2,   7.7826,2,    13.00,    -999,9,    -999,9,    -999,9,0.2334,2,-999,9,-999,9,-999,    -999,9,    -999,1.416,2,-999,9,-999,9,    -999,9,-999,9, 20080306,     0041, -68.2939,  31.1577,    -999,-999,9,     -999,9,     -999,9,     -999,9,     -999,9,     -999,9,     -999,9,-999,9,     -999,9,     -999,9,     -999,9,    -999,    -999
33RR20080204,       I06S,      97,          1,          5,          5,2,20080306,       0024,   -68.2939,    31.1577,       1975,  1623.0,   0.1494,  34.6659,2,  34.6675,2,    222.6,2,   224.0,2,  116.00,2,   32.21,2,    0.00,2,    2.23,2,   0.843,2,   0.455,2,   0.088,2,  2247.7,3,  2355.2,2,   7.7841,2,    13.00,    -999,9,    -999,9,    -999,9,0.1478,2,-999,9,-999,9,-999,    -999,9,    -999,1.539,2,-999,9,-999,9,    -999,9,-999,1, 20080306,     0038, -68.2939,  31.1577,    -999,-999,9,     -999,9,     -999,9,     -999,9,     -999,9,     -999,9,     -999,9,-999,9,     -999,9,     -999,9,     -999,9,    -999,    -999
33RR20080204,       I06S,      97,          1,          4,          4,2,20080306,       0024,   -68.2939,    31.1577,       1975,  1714.3,   0.1164,  34.6648,2,  34.6669,2,    223.8,2,   223.7,2,  115.79,2,   32.15,2,    0.00,2,    2.23,2,   0.882,2,   0.475,2,   0.081,2,  2248.5,3,  2354.8,2,   7.7846,2,    13.00,    -999,9,    -999,9,    -999,9,0.1165,2,-999,9,-999,9,-999,    -999,9,    -999,1.417,2,-999,9,-999,9,    -999,9,-999,9, 20080306,     0035, -68.2939,  31.1577,    -999,-999,9,     -999,9,     -999,9,     -999,9,     -999,9,     -999,9,     -999,9,-999,9,     -999,9,     -999,9,     -999,9,    -999,    -999
33RR20080204,       I06S,      97,          1,          3,          3,2,20080306,       0024,   -68.2939,    31.1577,       1975,  1814.6,   0.1041,  34.6650,2,  34.6665,2,    224.5,2,   224.4,2,  117.01,2,   32.15,2,    0.00,2,    2.23,2,   0.877,2,   0.469,2,   0.090,2,  2251.6,2,  2354.4,2,   7.7840,2,    13.00,    -999,9,    -999,9,    -999,9,0.1038,2,-999,9,-999,9,-999,    -999,9,    -999,1.453,2,-999,9,-999,9,   39.22,2,-999,1, 20080306,     0031, -68.2939,  31.1577,    -999,-999,9,     -999,9,     -999,9,     -999,9,     -999,9,     -999,9,     -999,9,-999,9,     -999,9,     -999,9,     -999,9,    -999,    -999
33RR20080204,       I06S,      97,          1,          2,          2,2,20080306,       0024,   -68.2939,    31.1577,       1975,  1865.8,   0.1021,  34.6652,2,  34.6671,2,    224.7,2,   224.6,2,  117.22,2,   32.21,2,    0.00,2,    2.23,2,   0.863,2,   0.458,2,   0.075,2,    -999,5,  2355.9,2,   7.7839,2,    13.00,    -999,9,    -999,9,    -999,9,0.102,2,-999,9,-999,9,-999,    -999,9,    -999,1.369,2,-999,9,-999,9,    -999,9,-999,9, 20080306,     0029, -68.2939,  31.1577,    -999,-999,9,     -999,9,     -999,9,     -999,9,     -999,9,     -999,9,     -999,9,-999,9,     -999,9,     -999,9,     -999,9,    -999,    -999
33RR20080204,       I06S,      97,          1,          1,          1,2,20080306,       0024,   -68.2939,    31.1577,       1975,  1964.0,   0.1041,  34.6649,2,  34.6671,2,    224.4,2,   224.6,2,  117.42,2,   32.21,2,    0.00,2,    2.23,2,   0.879,2,   0.497,2,   0.043,2,  2249.4,3,  2355.3,2,   7.7847,2,    13.00,    -999,9,    -999,9,    -999,9,0.1033,2,-999,9,-999,9,-999,    -999,9,    -999,1.329,2,-999,9,-999,9,    -999,9,-999,1, 20080306,     0025, -68.2939,  31.1577,    -999,-999,1,     -999,9,     -999,9,     -999,9,     -999,9,     -999,9,     -999,9,-999,9,     -999,9,     -999,9,     -999,9,    -999,    -999