BOTTLE,20220706CCHSIOAMB
EXPOCODE,SECT_ID,STNNBR,CASTNO,SAMPNO,BTLNBR,BTLNBR_FLAG_W,DATE,TIME,LATITUDE,LONGITUDE,DEPTH,CTDPRS,CTDTMP,CTDSAL,CTDSAL_FLAG_W,SALNTY,SALNTY_FLAG_W,CTDOXY,CTDOXY_FLAG_W,OXYGEN,OXYGEN_FLAG_W,SILCAT,SILCAT_FLAG_W,NITRAT,NITRAT_FLAG_W,NITRIT,NITRIT_FLAG_W,PHSPHT,PHSPHT_FLAG_W,CFC-11,CFC-11_FLAG_W,CFC-12,CFC-12_FLAG_W,CFC113,CFC113_FLAG_W,TCARBN,TCARBN_FLAG_W,ALKALI,ALKALI_FLAG_W,PH_SWS,PH_SWS_FLAG_W,PH_TMP,TRITUM,TRITUM_FLAG_W,HELIUM,HELIUM_FLAG_W,DELHE3,DELHE3_FLAG_W,REFTMP,REFTMP_FLAG_W,DELC13,DELC13_FLAG_W,DELC14,DELC14_FLAG_W,C14ERR,NEON,NEON_FLAG_W,NEONER,CCL4,CCL4_FLAG_W,ALUMIN,ALUMIN_FLAG_W,DELO18,DELO18_FLAG_W,DOC,DOC_FLAG_W,TDN,TDN_FLAG_W,BTL_DATE,BTL_TIME,BTL_LAT,BTL_LON,TRITER,DELSI30,DELSI30_FLAG_W,CDOM380,CDOM380_FLAG_W,CDOM325,CDOM325_FLAG_W,CDOMSL,CDOMSL_FLAG_W,CDOM340,CDOM340_FLAG_W,CDOM443,CDOM443_FLAG_W,CDOMSN,CDOMSN_FLAG_W,BLACKC,BLACKC_FLAG_W,CDOM490,CDOM490_FLAG_W,CDOM412,CDOM412_FLAG_W,CDOM555,CDOM555_FLAG_W,DELHER,HELIER
,,,,,,,,,,,METERS,DBAR,ITS-90,PSS-78,,PSS-78,,UMOL/KG,,UMOL/KG,,UMOL/KG,,UMOL/KG,,UMOL/KG,,UMOL/KG,,PMOL/KG,,PMOL/KG,,PMOL/KG,,UMOL/KG,,UMOL/KG,,,,DEG C,TU,,NMOL/KG,,PERCNT,,DEG C,,/MILLE,,/MILLE,,/MILLE,NMOL/KG,,NMOL/KG,PMOL/KG,,NMOL/L,,/MILLE,,UMOL/KG,,UMOL/KG,,,,,,TU,/MILLE,,1/M,,1/M,,1/NM,,1/M,,1/M,,1/NM,,,,1/M,,1/M,,1/M,,PERCNT,NMOL/KG
33RR20080204,       I06S,      39,          3,          7,          7,2,20080217,       1352,   -46.5094,    29.9927,       4846,  3308.5,   1.1492,  34.7258,2,  34.7285,2,    208.5,2,   208.5,2,  106.12,2,   30.91,2,    0.00,2,    2.13,2,   0.173,2,   0.101,2,   0.026,2,  2253.5,2,  2357.0,2,   7.8077,2,    13.00,    -999,9,    -999,9,    -999,9,1.151,2,-999,9,-999,9,-999,    -999,9,    -999,0.94,2,-999,9,-999,9,   43.22,2,-999,1, 20080217,     1429, -46.5106,  29.9928,    -999,-999,9,   0.0299,2,   0.1094,2,   0.0201,3,   0.0703,2,   0.0087,2,   0.0217,3,-999,9,   0.0009,2,   0.0175,2,  -0.0013,4,    -999,    -999
33RR20080204,       I06S,      39,          3,          6,          6,2,20080217,       1352,   -46.5094,    29.9927,       4846,  3613.9,   0.9119,  34.7090,2,  34.7103,2,    209.5,2,   209.5,2,  113.52,2,   31.56,2,    0.00,2,    2.18,2,   0.221,2,   0.133,2,   0.033,2,  2257.0,2,  2359.0,2,   7.7994,2,    13.00,    -999,9,    -999,9,    -999,9,0.9136,2,-999,9,-999,9,-999,    -999,9,    -999,1.133,2,-999,9,-999,9,   38.24,2,-999,1, 20080217,     1422, -46.5104,  29.9928,    -999,-999,9,     -999,9,     -999,9,     -999,9,     -999,9,     -999,9,     -999,9,-999,1,     -999,9,     -999,9,     -999,9,    -999,    -999
33RR20080204,       I06S,      39,          3,          5,          5,2,20080217,       1352,   -46.5094,    29.9927,       4846,  3924.5,   0.7331,  34.6976,2,  34.6987,2,    211.6,2,   211.6,2,  120.54,2,   31.97,2,    0.00,2,    2.21,2,   0.220,2,   0.124,2,   0.026,2,  2259.5,2,  2359.2,2,   7.7951,2,    13.00,    -999,9,    -999,9,    -999,9,0.7331,2,-999,9,-999,9,-999,    -999,9,    -999,1.268,2,-999,9,-999,9,   39.80,2,-999,1, 20080217,     1416, -46.5102,  29.9928,    -999,-999,9,   0.0309,2,   0.1104,2,   0.0194,3,   0.0717,2,   0.0097,2,   0.0211,3,-999,9,   0.0012,2,   0.0187,2,  -0.0013,4,    -999,    -999
33RR20080204,       I06S,      39,          3,          4,          4,2,20080217,       1352,   -46.5094,    29.9927,       4846,  4228.1,   0.5832,  34.6870,2,  34.6877,2,    213.3,2,   213.2,2,  125.11,2,   32.37,2,    0.00,2,    2.24,2,   0.276,2,   0.157,2,   0.028,2,  2260.7,2,  2359.2,2,   7.7879,2,    13.00,    -999,9,    -999,9,    -999,9,0.5834,2,-999,9,-999,9,-999,    -999,9,    -999,1.494,2,-999,9,-999,9,    -999,9,-999,9, 20080217,     1409, -46.5099,  29.9930,    -999,-999,9,     -999,9,     -999,9,     -999,9,     -999,9,     -999,9,     -999,9,-999,9,     -999,9,     -999,9,     -999,9,    -999,    -999
33RR20080204,       I06S,      39,          3,          3,          3,2,20080217,       1352,   -46.5094,    29.9927,       4846,  4536.1,   0.4992,  34.6819,2,  34.6832,2,    216.5,2,   216.0,2,  128.15,2,   32.48,2,    0.00,2,    2.24,2,   0.281,2,   0.157,2,   0.040,2,  2261.9,2,  2358.7,2,   7.7897,2,    13.00,    -999,9,    -999,9,    -999,9,0.4986,2,-999,9,-999,9,-999,    -999,9,    -999,1.594,2,-999,9,-999,9,   38.05,2,-999,1, 20080217,     1403, -46.5096,  29.9928,    -999,-999,9,   0.0280,2,   0.1034,2,   0.0201,3,   0.0657,2,   0.0081,2,   0.0219,3,-999,9,   0.0004,4,   0.0166,2,  -0.0017,4,    -999,    -999
33RR20080204,       I06S,      39,          3,          2,          2,2,20080217,       1352,   -46.5094,    29.9927,       4846,  4738.6,   0.4330,  34.6789,2,  34.6798,2,    218.8,2,   218.7,2,  128.92,2,   32.48,2,    0.00,2,    2.24,2,   0.298,2,   0.162,2,   0.052,2,  2260.0,2,  2357.9,2,   7.7900,3,    13.00,    -999,9,    -999,9,    -999,9,0.4331,2,-999,9,-999,9,-999,    -999,9,    -999,1.58,2,-999,9,-999,9,    -999,9,-999,9, 20080217,     1358, -46.5094,  29.9927,    -999,-999,9,     -999,9,     -999,9,     -999,9,     -999,9,     -999,9,     -999,9,-999,9,     -999,9,     -999,9,     -999,9,    -999,    -999
33RR20080204,       I06S,      39,          3,          1,          1,2,20080217,       1352,   -46.5094,    29.9927,       4846,  4892.8,   0.3962,  34.6763,2,  34.6781,2,    220.2,2,   220.5,2,  129.31,2,   32.48,2,    0.00,2,    2.25,2,   0.314,2,   0.174,2,   0.076,2,  2259.4,6,  2360.1,2,   7.7899,2,    13.00,    -999,9,    -999,9,    -999,9,0.3967,2,-999,9,-999,9,-999,    -999,9,    -999,1.55,2,-999,9,-999,9,   34.54,4,-999,1, 20080217,     1353, -46.5094,  29.9927,    -999,-999,9,   0.0301,2,   0.1088,2,   0.0199,3,   0.0701,2,   0.0091,2,   0.0214,3,-999,1,   0.0012,2,   0.0176,2,   0.0001,4,    -999,    -999