BOTTLE,20220706CCHSIOAMB
EXPOCODE,SECT_ID,STNNBR,CASTNO,SAMPNO,BTLNBR,BTLNBR_FLAG_W,DATE,TIME,LATITUDE,LONGITUDE,DEPTH,CTDPRS,CTDTMP,CTDSAL,CTDSAL_FLAG_W,SALNTY,SALNTY_FLAG_W,CTDOXY,CTDOXY_FLAG_W,OXYGEN,OXYGEN_FLAG_W,SILCAT,SILCAT_FLAG_W,NITRAT,NITRAT_FLAG_W,NITRIT,NITRIT_FLAG_W,PHSPHT,PHSPHT_FLAG_W,CFC-11,CFC-11_FLAG_W,CFC-12,CFC-12_FLAG_W,CFC113,CFC113_FLAG_W,TCARBN,TCARBN_FLAG_W,ALKALI,ALKALI_FLAG_W,PH_SWS,PH_SWS_FLAG_W,PH_TMP,TRITUM,TRITUM_FLAG_W,HELIUM,HELIUM_FLAG_W,DELHE3,DELHE3_FLAG_W,REFTMP,REFTMP_FLAG_W,DELC13,DELC13_FLAG_W,DELC14,DELC14_FLAG_W,C14ERR,NEON,NEON_FLAG_W,NEONER,CCL4,CCL4_FLAG_W,ALUMIN,ALUMIN_FLAG_W,DELO18,DELO18_FLAG_W,DOC,DOC_FLAG_W,TDN,TDN_FLAG_W,BTL_DATE,BTL_TIME,BTL_LAT,BTL_LON,TRITER,DELSI30,DELSI30_FLAG_W,CDOM380,CDOM380_FLAG_W,CDOM325,CDOM325_FLAG_W,CDOMSL,CDOMSL_FLAG_W,CDOM340,CDOM340_FLAG_W,CDOM443,CDOM443_FLAG_W,CDOMSN,CDOMSN_FLAG_W,BLACKC,BLACKC_FLAG_W,CDOM490,CDOM490_FLAG_W,CDOM412,CDOM412_FLAG_W,CDOM555,CDOM555_FLAG_W,DELHER,HELIER
,,,,,,,,,,,METERS,DBAR,ITS-90,PSS-78,,PSS-78,,UMOL/KG,,UMOL/KG,,UMOL/KG,,UMOL/KG,,UMOL/KG,,UMOL/KG,,PMOL/KG,,PMOL/KG,,PMOL/KG,,UMOL/KG,,UMOL/KG,,,,DEG C,TU,,NMOL/KG,,PERCNT,,DEG C,,/MILLE,,/MILLE,,/MILLE,NMOL/KG,,NMOL/KG,PMOL/KG,,NMOL/L,,/MILLE,,UMOL/KG,,UMOL/KG,,,,,,TU,/MILLE,,1/M,,1/M,,1/NM,,1/M,,1/M,,1/NM,,,,1/M,,1/M,,1/M,,PERCNT,NMOL/KG
33RR20080204,       I06S,      45,          1,          7,          7,2,20080219,       0842,   -49.7000,    29.9994,       5536,  4235.4,   0.0844,  34.6681,2,  34.6668,2,    228.4,2,   228.5,2,  128.92,2,   32.51,2,    0.00,2,    2.25,2,   0.395,2,   0.207,2,   0.016,2,  2258.9,2,  2354.0,2,   7.7942,4,    13.00,    -999,9,    -999,9,    -999,9,-999,9,-999,9,-999,9,-999,    -999,9,    -999,0.994,2,-999,9,-999,9,   40.78,2,-999,9, 20080219,     0913, -49.7000,  29.9994,    -999,-999,9,     -999,9,     -999,9,     -999,9,     -999,9,     -999,9,     -999,9,-999,9,     -999,9,     -999,9,     -999,9,    -999,    -999
33RR20080204,       I06S,      45,          1,          6,          6,2,20080219,       0842,   -49.7000,    29.9994,       5536,  4542.2,  -0.0883,  34.6599,2,  34.6598,2,    235.3,2,   235.4,2,  130.47,2,   32.52,2,    0.00,2,    2.25,2,   0.448,2,   0.237,2,   0.025,2,  2257.4,2,  2353.1,2,   7.7942,3,    13.00,    -999,9,    -999,9,    -999,9,-999,9,-999,9,-999,9,-999,    -999,9,    -999,1.095,2,-999,9,-999,9,    -999,9,-999,1, 20080219,     0906, -49.7000,  29.9994,    -999,-999,1,   0.0312,2,   0.1103,2,   0.0189,3,   0.0716,2,   0.0101,2,   0.0206,3,-999,9,   0.0016,2,   0.0196,2,  -0.0012,4,    -999,    -999
33RR20080204,       I06S,      45,          1,          5,          5,2,20080219,       0842,   -49.7000,    29.9994,       5536,  4746.3,  -0.1153,  34.6580,2,  34.6571,2,    236.9,2,   237.3,2,  130.86,2,   32.52,2,    0.00,2,    2.25,2,   0.484,2,   0.243,2,   0.026,2,  2256.2,2,  2354.0,2,   7.7948,3,    13.00,    -999,9,    -999,9,    -999,9,-999,9,-999,9,-999,9,-999,    -999,9,    -999,1.151,2,-999,9,-999,9,   37.37,2,-999,1, 20080219,     0902, -49.7000,  29.9994,    -999,-999,9,   0.0357,2,   0.1172,2,   0.0177,3,   0.0778,2,   0.0129,2,   0.0189,3,-999,1,   0.0034,2,   0.0229,2,  -0.0001,4,    -999,    -999
33RR20080204,       I06S,      45,          1,          4,          4,2,20080219,       0842,   -49.7000,    29.9994,       5536,  4951.1,  -0.1216,  34.6572,2,  34.6569,2,    238.2,2,   237.7,2,  131.24,2,   32.47,2,    0.00,2,    2.25,2,   0.480,2,   0.250,2,   0.029,2,  2255.6,2,  2351.0,2,   7.7968,2,    13.00,    -999,9,    -999,9,    -999,9,-999,9,-999,9,-999,9,-999,    -999,9,    -999,1.107,2,-999,9,-999,9,    -999,9,-999,9, 20080219,     0857, -49.7001,  29.9995,    -999,-999,9,     -999,9,     -999,9,     -999,9,     -999,9,     -999,9,     -999,9,-999,9,     -999,9,     -999,9,     -999,9,    -999,    -999
33RR20080204,       I06S,      45,          1,          3,          3,2,20080219,       0842,   -49.7000,    29.9994,       5536,  5155.5,  -0.1120,  34.6562,2,  34.6557,2,    238.9,2,   238.6,2,  131.06,2,   32.43,2,    0.00,2,    2.25,2,   0.480,2,   0.252,2,   0.022,2,  2255.6,2,  2353.6,2,   7.7973,3,    13.00,    -999,9,    -999,9,    -999,9,-999,9,-999,9,-999,9,-999,    -999,9,    -999,1.084,2,-999,9,-999,9,   43.80,2,-999,1, 20080219,     0852, -49.6999,  29.9994,    -999,-999,1,   0.0324,2,   0.1080,2,   0.0177,3,   0.0706,2,   0.0116,2,   0.0190,3,-999,9,   0.0023,2,   0.0210,2,  -0.0009,4,    -999,    -999
33RR20080204,       I06S,      45,          1,          2,          2,2,20080219,       0842,   -49.7000,    29.9994,       5536,  5361.5,  -0.0947,  34.6556,2,  34.6565,2,    239.3,2,   238.8,2,  132.41,2,   32.43,2,    0.00,2,    2.25,2,   0.475,2,   0.253,2,   0.029,2,  2256.7,2,  2352.6,2,   7.7963,2,    13.00,    -999,9,    -999,9,    -999,9,-999,9,-999,9,-999,9,-999,    -999,9,    -999,1.094,2,-999,9,-999,9,    -999,9,-999,9, 20080219,     0848, -49.7000,  29.9994,    -999,-999,9,     -999,9,     -999,9,     -999,9,     -999,9,     -999,9,     -999,9,-999,9,     -999,9,     -999,9,     -999,9,    -999,    -999
33RR20080204,       I06S,      45,          1,          1,          1,2,20080219,       0842,   -49.7000,    29.9994,       5536,  5572.4,  -0.0749,  34.6551,2,  34.6550,2,    239.5,2,   239.0,2,  132.41,2,   32.48,2,    0.00,2,    2.25,2,   0.491,2,   0.265,2,   0.040,2,  2255.0,6,  2359.0,2,   7.7970,2,    13.00,    -999,9,    -999,9,    -999,9,-999,9,-999,9,-999,9,-999,    -999,9,    -999,1.205,2,-999,9,-999,9,   40.68,2,-999,1, 20080219,     0843, -49.7000,  29.9994,    -999,-999,1,   0.0307,2,   0.1103,2,   0.0194,3,   0.0725,2,   0.0100,2,   0.0214,3,-999,1,   0.0017,2,   0.0187,2,  -0.0011,4,    -999,    -999