BOTTLE,20220706CCHSIOAMB
EXPOCODE,SECT_ID,STNNBR,CASTNO,SAMPNO,BTLNBR,BTLNBR_FLAG_W,DATE,TIME,LATITUDE,LONGITUDE,DEPTH,CTDPRS,CTDTMP,CTDSAL,CTDSAL_FLAG_W,SALNTY,SALNTY_FLAG_W,CTDOXY,CTDOXY_FLAG_W,OXYGEN,OXYGEN_FLAG_W,SILCAT,SILCAT_FLAG_W,NITRAT,NITRAT_FLAG_W,NITRIT,NITRIT_FLAG_W,PHSPHT,PHSPHT_FLAG_W,CFC-11,CFC-11_FLAG_W,CFC-12,CFC-12_FLAG_W,CFC113,CFC113_FLAG_W,TCARBN,TCARBN_FLAG_W,ALKALI,ALKALI_FLAG_W,PH_SWS,PH_SWS_FLAG_W,PH_TMP,TRITUM,TRITUM_FLAG_W,HELIUM,HELIUM_FLAG_W,DELHE3,DELHE3_FLAG_W,REFTMP,REFTMP_FLAG_W,DELC13,DELC13_FLAG_W,DELC14,DELC14_FLAG_W,C14ERR,NEON,NEON_FLAG_W,NEONER,CCL4,CCL4_FLAG_W,ALUMIN,ALUMIN_FLAG_W,DELO18,DELO18_FLAG_W,DOC,DOC_FLAG_W,TDN,TDN_FLAG_W,BTL_DATE,BTL_TIME,BTL_LAT,BTL_LON,TRITER,DELSI30,DELSI30_FLAG_W,CDOM380,CDOM380_FLAG_W,CDOM325,CDOM325_FLAG_W,CDOMSL,CDOMSL_FLAG_W,CDOM340,CDOM340_FLAG_W,CDOM443,CDOM443_FLAG_W,CDOMSN,CDOMSN_FLAG_W,BLACKC,BLACKC_FLAG_W,CDOM490,CDOM490_FLAG_W,CDOM412,CDOM412_FLAG_W,CDOM555,CDOM555_FLAG_W,DELHER,HELIER
,,,,,,,,,,,METERS,DBAR,ITS-90,PSS-78,,PSS-78,,UMOL/KG,,UMOL/KG,,UMOL/KG,,UMOL/KG,,UMOL/KG,,UMOL/KG,,PMOL/KG,,PMOL/KG,,PMOL/KG,,UMOL/KG,,UMOL/KG,,,,DEG C,TU,,NMOL/KG,,PERCNT,,DEG C,,/MILLE,,/MILLE,,/MILLE,NMOL/KG,,NMOL/KG,PMOL/KG,,NMOL/L,,/MILLE,,UMOL/KG,,UMOL/KG,,,,,,TU,/MILLE,,1/M,,1/M,,1/NM,,1/M,,1/M,,1/NM,,,,1/M,,1/M,,1/M,,PERCNT,NMOL/KG
33RR20080204,       I06S,      70,          2,          7,          7,2,20080227,       1418,   -61.9994,    29.9966,       5188,  3873.9,  -0.2089,  34.6583,2,  34.6576,2,    237.1,2,   237.8,2,  127.06,2,   32.32,2,    0.00,2,    2.25,2,   0.464,2,   0.254,2,   0.030,2,    -999,9,    -999,9,     -999,9,     -999,    -999,9,    -999,9,    -999,9,-0.2085,2,-999,9,-999,9,-999,    -999,9,    -999,1.113,2,-999,9,-999,9,    -999,9,-999,9, 20080227,     1448, -61.9994,  29.9966,    -999,-999,9,     -999,9,     -999,9,     -999,9,     -999,9,     -999,9,     -999,9,-999,9,     -999,9,     -999,9,     -999,9,    -999,    -999
33RR20080204,       I06S,      70,          2,          6,          6,2,20080227,       1418,   -61.9994,    29.9966,       5188,  4179.6,  -0.2433,  34.6557,2,  34.6557,2,    240.0,2,   240.1,2,  127.64,2,   32.27,2,    0.00,2,    2.25,2,   0.465,2,   0.258,2,   0.034,2,    -999,9,    -999,9,     -999,9,     -999,    -999,9,    -999,9,    -999,9,-0.2437,2,-999,9,-999,9,-999,    -999,9,    -999,1.123,2,-999,9,-0.23,2,    -999,9,-999,9, 20080227,     1441, -61.9994,  29.9965,    -999,-999,9,     -999,9,     -999,9,     -999,9,     -999,9,     -999,9,     -999,9,-999,9,     -999,9,     -999,9,     -999,9,    -999,    -999
33RR20080204,       I06S,      70,          2,          5,          5,2,20080227,       1418,   -61.9994,    29.9966,       5188,  4491.9,  -0.2733,  34.6542,2,  34.6541,2,    242.4,2,   243.0,2,  129.35,2,   32.32,2,    0.00,2,    2.25,2,   0.450,2,   0.246,2,   0.028,2,    -999,9,    -999,9,     -999,9,     -999,    -999,9,    -999,9,    -999,9,-0.2732,2,-999,9,-999,9,-999,    -999,9,    -999,1.127,2,-999,9,-999,9,    -999,9,-999,9, 20080227,     1435, -61.9994,  29.9965,    -999,-999,9,     -999,9,     -999,9,     -999,9,     -999,9,     -999,9,     -999,9,-999,9,     -999,9,     -999,9,     -999,9,    -999,    -999
33RR20080204,       I06S,      70,          2,          4,          4,2,20080227,       1418,   -61.9994,    29.9966,       5188,  4697.0,  -0.2810,  34.6530,2,  34.6531,2,    243.6,2,   242.9,2,  130.11,2,   32.27,2,    0.00,2,    2.25,2,   0.462,2,   0.250,2,   0.024,2,    -999,9,    -999,9,     -999,9,     -999,    -999,9,    -999,9,    -999,9,-0.2811,2,-999,9,-999,9,-999,    -999,9,    -999,1.199,2,-999,9,-999,9,    -999,9,-999,9, 20080227,     1431, -61.9994,  29.9965,    -999,-999,9,     -999,9,     -999,9,     -999,9,     -999,9,     -999,9,     -999,9,-999,9,     -999,9,     -999,9,     -999,9,    -999,    -999
33RR20080204,       I06S,      70,          2,          3,          3,2,20080227,       1418,   -61.9994,    29.9966,       5188,  4904.8,  -0.2790,  34.6523,2,  34.6521,2,    244.5,2,   243.7,2,  129.91,2,   32.28,2,    0.00,2,    2.25,2,   0.486,2,   0.253,2,   0.026,2,    -999,9,  2353.9,2,     -999,9,     -999,    -999,9,    -999,9,    -999,9,-0.2789,2,-999,9,-999,9,-999,    -999,9,    -999,1.226,2,-999,9,-999,9,    -999,9,-999,9, 20080227,     1426, -61.9994,  29.9965,    -999,-999,9,     -999,9,     -999,9,     -999,9,     -999,9,     -999,9,     -999,9,-999,9,     -999,9,     -999,9,     -999,9,    -999,    -999
33RR20080204,       I06S,      70,          2,          2,          2,2,20080227,       1418,   -61.9994,    29.9966,       5188,  5109.9,  -0.2719,  34.6515,2,  34.6517,2,    245.3,2,   244.2,2,  132.00,2,   32.33,2,    0.00,2,    2.24,2,   0.463,2,   0.247,2,   0.026,2,    -999,9,  2353.8,2,     -999,9,     -999,    -999,9,    -999,9,    -999,9,-0.2718,2,-999,9,-999,9,-999,    -999,9,    -999,1.223,2,-999,9,-999,9,    -999,9,-999,9, 20080227,     1422, -61.9994,  29.9965,    -999,-999,9,     -999,9,     -999,9,     -999,9,     -999,9,     -999,9,     -999,9,-999,9,     -999,9,     -999,9,     -999,9,    -999,    -999
33RR20080204,       I06S,      70,          2,          1,          1,2,20080227,       1418,   -61.9994,    29.9966,       5188,  5267.4,  -0.2855,  34.6502,2,  34.6510,2,    245.5,2,   244.7,2,  134.68,2,   32.38,2,    0.00,2,    2.25,2,   0.507,2,   0.261,2,   0.060,2,    -999,9,  2353.6,2,   7.8006,2,    13.00,    -999,9,    -999,9,    -999,9,-0.2851,2,-999,9,-999,9,-999,    -999,9,    -999,1.268,2,-999,9,-0.18,2,    -999,9,-999,9, 20080227,     1418, -61.9994,  29.9966,    -999,-999,9,     -999,9,     -999,9,     -999,9,     -999,9,     -999,9,     -999,9,-999,9,     -999,9,     -999,9,     -999,9,    -999,    -999