BOTTLE,20220706CCHSIOAMB
EXPOCODE,SECT_ID,STNNBR,CASTNO,SAMPNO,BTLNBR,BTLNBR_FLAG_W,DATE,TIME,LATITUDE,LONGITUDE,DEPTH,CTDPRS,CTDTMP,CTDSAL,CTDSAL_FLAG_W,SALNTY,SALNTY_FLAG_W,CTDOXY,CTDOXY_FLAG_W,OXYGEN,OXYGEN_FLAG_W,SILCAT,SILCAT_FLAG_W,NITRAT,NITRAT_FLAG_W,NITRIT,NITRIT_FLAG_W,PHSPHT,PHSPHT_FLAG_W,CFC-11,CFC-11_FLAG_W,CFC-12,CFC-12_FLAG_W,CFC113,CFC113_FLAG_W,TCARBN,TCARBN_FLAG_W,ALKALI,ALKALI_FLAG_W,PH_SWS,PH_SWS_FLAG_W,PH_TMP,TRITUM,TRITUM_FLAG_W,HELIUM,HELIUM_FLAG_W,DELHE3,DELHE3_FLAG_W,REFTMP,REFTMP_FLAG_W,DELC13,DELC13_FLAG_W,DELC14,DELC14_FLAG_W,C14ERR,NEON,NEON_FLAG_W,NEONER,CCL4,CCL4_FLAG_W,ALUMIN,ALUMIN_FLAG_W,DELO18,DELO18_FLAG_W,DOC,DOC_FLAG_W,TDN,TDN_FLAG_W,BTL_DATE,BTL_TIME,BTL_LAT,BTL_LON,TRITER,DELSI30,DELSI30_FLAG_W,CDOM380,CDOM380_FLAG_W,CDOM325,CDOM325_FLAG_W,CDOMSL,CDOMSL_FLAG_W,CDOM340,CDOM340_FLAG_W,CDOM443,CDOM443_FLAG_W,CDOMSN,CDOMSN_FLAG_W,BLACKC,BLACKC_FLAG_W,CDOM490,CDOM490_FLAG_W,CDOM412,CDOM412_FLAG_W,CDOM555,CDOM555_FLAG_W,DELHER,HELIER
,,,,,,,,,,,METERS,DBAR,ITS-90,PSS-78,,PSS-78,,UMOL/KG,,UMOL/KG,,UMOL/KG,,UMOL/KG,,UMOL/KG,,UMOL/KG,,PMOL/KG,,PMOL/KG,,PMOL/KG,,UMOL/KG,,UMOL/KG,,,,DEG C,TU,,NMOL/KG,,PERCNT,,DEG C,,/MILLE,,/MILLE,,/MILLE,NMOL/KG,,NMOL/KG,PMOL/KG,,NMOL/L,,/MILLE,,UMOL/KG,,UMOL/KG,,,,,,TU,/MILLE,,1/M,,1/M,,1/NM,,1/M,,1/M,,1/NM,,,,1/M,,1/M,,1/M,,PERCNT,NMOL/KG
33RR20080204,       I06S,      66,          1,          7,          7,2,20080226,       0849,   -59.9988,    29.9983,       5206,  3918.2,  -0.1660,  34.6596,2,  34.6593,2,    234.8,2,   235.7,2,  128.76,2,   32.65,2,    0.00,2,    2.26,2,   0.396,2,   0.208,2,   0.011,2,    -999,9,    -999,9,     -999,9,     -999,    -999,9,    -999,9,    -999,9,-0.1656,2,-999,9,-999,9,-999,    -999,9,    -999,0.969,2,-999,9,-999,9,    -999,9,-999,9, 20080226,     0919, -59.9988,  29.9984,    -999,-999,9,     -999,9,     -999,9,     -999,9,     -999,9,     -999,9,     -999,9,-999,9,     -999,9,     -999,9,     -999,9,    -999,    -999
33RR20080204,       I06S,      66,          1,          6,          6,2,20080226,       0849,   -59.9988,    29.9983,       5206,  4234.7,  -0.2005,  34.6572,2,  34.6573,2,    238.2,2,   238.3,2,  129.32,2,   32.60,2,    0.00,2,    2.26,2,   0.424,2,   0.224,2,   0.017,2,    -999,9,    -999,9,     -999,9,     -999,    -999,9,    -999,9,    -999,9,-0.2007,2,-999,9,-999,9,-999,    -999,9,    -999,0.972,2,-999,9,-0.23,2,    -999,9,-999,9, 20080226,     0912, -59.9988,  29.9983,    -999,-999,9,     -999,9,     -999,9,     -999,9,     -999,9,     -999,9,     -999,9,-999,9,     -999,9,     -999,9,     -999,9,    -999,    -999
33RR20080204,       I06S,      66,          1,          5,          5,2,20080226,       0849,   -59.9988,    29.9983,       5206,  4542.4,  -0.2275,  34.6554,2,  34.6549,2,    240.7,2,   240.4,2,  131.22,2,   32.59,2,    0.00,2,    2.26,2,   0.394,2,   0.208,2,   0.012,2,    -999,9,  2354.4,2,   7.7979,2,    13.00,    -999,9,    -999,9,    -999,9,-0.2276,2,-999,9,-999,9,-999,    -999,9,    -999,0.954,2,-999,9,-999,9,    -999,9,-999,9, 20080226,     0906, -59.9988,  29.9984,    -999,-999,9,     -999,9,     -999,9,     -999,9,     -999,9,     -999,9,     -999,9,-999,9,     -999,9,     -999,9,     -999,9,    -999,    -999
33RR20080204,       I06S,      66,          1,          4,          4,2,20080226,       0849,   -59.9988,    29.9983,       5206,  4747.5,  -0.2366,  34.6539,2,  34.6540,2,    242.1,2,   241.4,2,  132.36,2,   32.54,2,    0.00,2,    2.26,2,   0.412,2,   0.226,2,   0.021,2,    -999,9,    -999,9,     -999,9,     -999,    -999,9,    -999,9,    -999,9,-0.237,2,-999,9,-999,9,-999,    -999,9,    -999,0.988,2,-999,9,-999,9,    -999,9,-999,9, 20080226,     0902, -59.9988,  29.9984,    -999,-999,9,     -999,9,     -999,9,     -999,9,     -999,9,     -999,9,     -999,9,-999,9,     -999,9,     -999,9,     -999,9,    -999,    -999
33RR20080204,       I06S,      66,          1,          3,          3,2,20080226,       0849,   -59.9988,    29.9983,       5206,  4951.3,  -0.2438,  34.6533,2,  34.6537,2,    243.4,2,   242.4,2,  134.27,2,   32.54,2,    0.00,2,    2.26,2,   0.419,2,   0.227,2,   0.014,2,    -999,9,  2355.3,2,     -999,9,     -999,    -999,9,    -999,9,    -999,9,-0.2439,2,-999,9,-999,9,-999,    -999,9,    -999,1.014,2,-999,9,-999,9,    -999,9,-999,9, 20080226,     0857, -59.9988,  29.9983,    -999,-999,9,     -999,9,     -999,9,     -999,9,     -999,9,     -999,9,     -999,9,-999,9,     -999,9,     -999,9,     -999,9,    -999,    -999
33RR20080204,       I06S,      66,          1,          2,          2,2,20080226,       0849,   -59.9988,    29.9983,       5206,  5156.7,  -0.2534,  34.6519,2,  34.6522,2,    244.6,2,   243.3,2,  137.32,2,   32.54,2,    0.00,2,    2.26,2,   0.449,2,   0.246,2,   0.027,2,    -999,9,  2354.7,2,     -999,9,     -999,    -999,9,    -999,9,    -999,9,-0.2532,2,-999,9,-999,9,-999,    -999,9,    -999,1.102,2,-999,9,-999,9,    -999,9,-999,9, 20080226,     0852, -59.9988,  29.9984,    -999,-999,9,     -999,9,     -999,9,     -999,9,     -999,9,     -999,9,     -999,9,-999,9,     -999,9,     -999,9,     -999,9,    -999,    -999
33RR20080204,       I06S,      66,          1,          1,          1,2,20080226,       0849,   -59.9988,    29.9983,       5206,  5282.2,  -0.2601,  34.6511,2,  34.6516,2,    244.9,2,   243.6,2,  141.34,2,   32.63,2,    0.00,2,    2.26,2,   0.483,2,   0.264,2,   0.031,2,    -999,9,  2355.3,2,   7.7988,2,    13.00,    -999,9,    -999,9,    -999,9,-0.26,2,-999,9,-999,9,-999,    -999,9,    -999,1.19,2,-999,9,-0.19,2,    -999,9,-999,9, 20080226,     0849, -59.9988,  29.9984,    -999,-999,9,     -999,9,     -999,9,     -999,9,     -999,9,     -999,9,     -999,9,-999,9,     -999,9,     -999,9,     -999,9,    -999,    -999