BOTTLE,20220706CCHSIOAMB
EXPOCODE,SECT_ID,STNNBR,CASTNO,SAMPNO,BTLNBR,BTLNBR_FLAG_W,DATE,TIME,LATITUDE,LONGITUDE,DEPTH,CTDPRS,CTDTMP,CTDSAL,CTDSAL_FLAG_W,SALNTY,SALNTY_FLAG_W,CTDOXY,CTDOXY_FLAG_W,OXYGEN,OXYGEN_FLAG_W,SILCAT,SILCAT_FLAG_W,NITRAT,NITRAT_FLAG_W,NITRIT,NITRIT_FLAG_W,PHSPHT,PHSPHT_FLAG_W,CFC-11,CFC-11_FLAG_W,CFC-12,CFC-12_FLAG_W,CFC113,CFC113_FLAG_W,TCARBN,TCARBN_FLAG_W,ALKALI,ALKALI_FLAG_W,PH_SWS,PH_SWS_FLAG_W,PH_TMP,TRITUM,TRITUM_FLAG_W,HELIUM,HELIUM_FLAG_W,DELHE3,DELHE3_FLAG_W,REFTMP,REFTMP_FLAG_W,DELC13,DELC13_FLAG_W,DELC14,DELC14_FLAG_W,C14ERR,NEON,NEON_FLAG_W,NEONER,CCL4,CCL4_FLAG_W,ALUMIN,ALUMIN_FLAG_W,DELO18,DELO18_FLAG_W,DOC,DOC_FLAG_W,TDN,TDN_FLAG_W,BTL_DATE,BTL_TIME,BTL_LAT,BTL_LON,TRITER,DELSI30,DELSI30_FLAG_W,CDOM380,CDOM380_FLAG_W,CDOM325,CDOM325_FLAG_W,CDOMSL,CDOMSL_FLAG_W,CDOM340,CDOM340_FLAG_W,CDOM443,CDOM443_FLAG_W,CDOMSN,CDOMSN_FLAG_W,BLACKC,BLACKC_FLAG_W,CDOM490,CDOM490_FLAG_W,CDOM412,CDOM412_FLAG_W,CDOM555,CDOM555_FLAG_W,DELHER,HELIER
,,,,,,,,,,,METERS,DBAR,ITS-90,PSS-78,,PSS-78,,UMOL/KG,,UMOL/KG,,UMOL/KG,,UMOL/KG,,UMOL/KG,,UMOL/KG,,PMOL/KG,,PMOL/KG,,PMOL/KG,,UMOL/KG,,UMOL/KG,,,,DEG C,TU,,NMOL/KG,,PERCNT,,DEG C,,/MILLE,,/MILLE,,/MILLE,NMOL/KG,,NMOL/KG,PMOL/KG,,NMOL/L,,/MILLE,,UMOL/KG,,UMOL/KG,,,,,,TU,/MILLE,,1/M,,1/M,,1/NM,,1/M,,1/M,,1/NM,,,,1/M,,1/M,,1/M,,PERCNT,NMOL/KG
33RR20080204,       I06S,      31,          2,         36,         36,2,20080215,       0046,   -42.4977,    30.0118,       5260,     4.7,  17.3394,  35.3539,2,  35.3535,2,    242.7,2,   242.8,2,    1.60,2,    0.14,2,    0.02,2,    0.19,2,   2.611,4,   3.723,4,   0.357,4,  2043.6,6,  2326.6,2,   8.2076,2,    13.00,    -999,9,    -999,9,    -999,9,17.3387,2,1.53,2,50.5,2,3.2,    -999,9,    -999,2.566,4,-999,9,-999,9,   63.71,2,-999,1, 20080215,     0255, -42.4969,  30.0154,    -999,-999,9,   0.0348,2,   0.1262,2,   0.0134,4,   0.0888,2,   0.0085,2,   0.0231,2,-999,9,   0.0022,2,   0.0184,2,  -0.0009,4,    -999,    -999
33RR20080204,       I06S,      31,          2,         35,         35,2,20080215,       0046,   -42.4977,    30.0118,       5260,    25.9,  17.2041,  35.3463,2,  35.3484,2,    243.0,2,   243.9,2,    1.61,2,    0.19,2,    0.02,2,    0.18,2,    -999,5,    -999,5,    -999,5,  2062.7,3,  2326.0,2,   8.2078,2,    13.00,    -999,9,    -999,9,    -999,9,17.2228,2,-999,9,-999,9,-999,    -999,9,    -999,-999,5,-999,9,-999,9,   60.00,2,-999,1, 20080215,     0254, -42.4969,  30.0153,    -999,-999,9,   0.0326,2,   0.1149,2,   0.0127,4,   0.0821,2,   0.0065,2,   0.0229,2,-999,9,   0.0008,3,   0.0159,2,  -0.0013,4,    -999,    -999
33RR20080204,       I06S,      31,          2,         34,         34,2,20080215,       0046,   -42.4977,    30.0118,       5260,    46.8,  15.8717,  35.3097,2,  35.3090,2,    238.5,2,   241.0,2,    1.62,2,    1.59,2,    0.15,2,    0.30,2,   1.963,2,   1.635,2,   0.214,2,  2096.6,3,  2326.2,2,   8.1727,2,    13.00,    -999,9,    -999,9,    -999,9,15.8917,2,1.28,2,49.4,2,3.3,    -999,9,    -999,3.1,2,-999,9,-999,9,   56.59,2,-999,1, 20080215,     0253, -42.4969,  30.0153,    -999,-999,9,   0.0313,2,   0.1129,2,   0.0127,4,   0.0798,2,   0.0074,2,   0.0231,2,-999,9,   0.0012,2,   0.0172,2,  -0.0014,4,    -999,    -999
33RR20080204,       I06S,      31,          2,         33,         33,2,20080215,       0046,   -42.4977,    30.0118,       5260,    80.1,  14.3631,  35.2573,2,  35.2586,2,    235.5,2,   223.2,2,    3.97,2,    6.76,2,    0.08,2,    0.59,2,   2.231,2,   1.699,2,   0.178,2,  2101.4,2,  2320.7,2,   8.0980,2,    13.00,    -999,9,    -999,9,    -999,9,14.3641,2,-999,9,-999,9,-999,    -999,9,    -999,2.61,2,-999,9,-999,9,   54.73,2,-999,1, 20080215,     0251, -42.4969,  30.0152,    -999,-999,9,   0.0265,2,   0.0988,2,   0.0116,4,   0.0665,2,   0.0068,2,   0.0234,2,-999,9,   0.0008,2,   0.0159,2,  -0.0015,4,    -999,    -999
33RR20080204,       I06S,      31,          2,         32,         32,2,20080215,       0046,   -42.4977,    30.0118,       5260,   103.8,  13.6543,  35.2141,2,  35.2178,2,    225.2,2,   235.9,2,    4.18,2,    7.88,2,    0.02,2,    0.65,2,   2.408,2,   1.753,2,   0.185,2,  2108.3,2,  2318.8,2,   8.0696,4,    13.00,    -999,9,    -999,9,    -999,9,13.6655,2,1.05,2,52.2,2,2.9,    -999,9,    -999,2.73,2,-999,9,-999,9,   55.22,2,-999,1, 20080215,     0250, -42.4969,  30.0152,    -999,-999,9,   0.0203,2,   0.0825,2,   0.0228,2,   0.0543,2,   0.0037,3,   0.0173,4,-999,9,  -0.0010,4,   0.0113,2,  -0.0019,4,    -999,    -999
33RR20080204,       I06S,      31,          2,         31,         31,2,20080215,       0046,   -42.4977,    30.0118,       5260,   153.4,  12.3888,  35.0482,2,  35.0483,2,    230.1,2,   232.0,2,    4.39,2,    9.98,2,    0.02,2,    0.79,2,   2.726,2,   1.858,2,   0.189,2,  2115.8,2,  2310.7,2,   8.0556,2,    13.00,    -999,9,    -999,9,    -999,9,12.4009,2,-999,9,-999,9,-999,    -999,9,    -999,2.755,2,-999,9,-999,9,   49.95,2,-999,1, 20080215,     0248, -42.4969,  30.0153,    -999,-999,9,   0.0218,2,   0.0833,2,   0.0223,2,   0.0554,2,   0.0043,2,   0.0242,2,-999,9,  -0.0008,4,   0.0118,2,  -0.0022,4,    -999,    -999
33RR20080204,       I06S,      31,          2,         30,         30,2,20080215,       0046,   -42.4977,    30.0118,       5260,   206.1,  11.6652,  34.9604,2,  34.9613,2,    232.1,2,   233.9,2,    4.60,2,   11.40,2,    0.02,2,    0.87,2,   2.905,2,   1.878,2,   0.216,2,  2116.7,2,  2306.0,2,   8.0512,4,    13.00,    -999,9,    -999,9,    -999,9,11.661,2,1.13,2,29.4,2,3.1,    -999,9,    -999,2.856,2,-999,9,-999,9,   51.61,2,-999,1, 20080215,     0246, -42.4970,  30.0152,    -999,-999,9,   0.0187,2,   0.0780,2,   0.0229,2,   0.0504,2,   0.0037,2,   0.0261,2,-999,9,  -0.0011,4,   0.0108,2,  -0.0026,4,    -999,    -999
33RR20080204,       I06S,      31,          2,         29,         29,2,20080215,       0046,   -42.4977,    30.0118,       5260,   247.6,  11.0707,  34.8771,2,  34.8775,2,    237.5,2,   239.0,2,    4.80,2,   12.34,2,    0.02,2,    0.93,2,   3.155,6,   1.927,6,   0.215,6,  2120.5,2,  2302.2,2,   8.0284,2,    13.00,    -999,9,    -999,9,    -999,9,11.0745,2,-999,9,-999,9,-999,    -999,9,    -999,2.534,2,-999,9,-999,9,   49.66,2,-999,1, 20080215,     0245, -42.4971,  30.0150,    -999,-999,9,   0.0195,2,   0.0785,2,   0.0222,2,   0.0503,2,   0.0042,2,   0.0252,2,-999,9,  -0.0006,4,   0.0113,2,  -0.0023,4,    -999,    -999
33RR20080204,       I06S,      31,          2,         28,         28,2,20080215,       0046,   -42.4977,    30.0118,       5260,   305.9,  10.6094,  34.8230,2,  34.8226,2,    239.8,2,   237.2,2,    5.20,2,   13.51,2,    0.02,2,    1.00,2,   3.453,2,   1.919,2,   0.247,2,  2124.4,2,  2301.8,2,   8.0128,2,    13.00,    -999,9,    -999,9,    -999,9,10.6068,2,-999,9,-999,9,-999,    -999,9,    -999,3.239,2,-999,9,-999,9,   45.85,2,-999,1, 20080215,     0243, -42.4971,  30.0149,    -999,-999,9,   0.0178,2,   0.0764,2,   0.0242,2,   0.0483,2,   0.0031,3,   0.0268,2,-999,9,  -0.0013,4,   0.0096,2,  -0.0028,4,    -999,    -999
33RR20080204,       I06S,      31,          2,         27,         27,2,20080215,       0046,   -42.4977,    30.0118,       5260,   355.6,   9.9044,  34.7166,2,  34.7172,2,    241.0,2,   242.1,2,    5.60,2,   14.79,2,    0.02,2,    1.08,2,   3.608,2,   1.971,2,   0.258,2,  2126.9,2,  2296.4,2,   7.9993,3,    13.00,    -999,9,    -999,9,    -999,9,9.9058,2,1.15,2,32.1,2,3.3,    -999,9,    -999,3.761,2,-999,9,-999,9,    -999,9,-999,9, 20080215,     0241, -42.4971,  30.0148,    -999,-999,9,     -999,9,     -999,9,     -999,9,     -999,9,     -999,9,     -999,9,-999,9,     -999,9,     -999,9,     -999,9,    -999,    -999
33RR20080204,       I06S,      31,          2,         26,         26,2,20080215,       0046,   -42.4977,    30.0118,       5260,   404.8,   9.3396,  34.6467,2,  34.6475,2,    241.7,2,   240.5,2,    6.21,2,   16.13,2,    0.01,2,    1.17,2,   3.627,2,   1.956,2,   0.261,2,  2137.3,2,  2294.4,2,   7.9837,3,    13.00,    -999,9,    -999,9,    -999,9,9.3421,2,1.18,2,34.1,2,3.2,    -999,9,    -999,3.674,2,-999,9,-999,9,   45.17,2,-999,1, 20080215,     0239, -42.4971,  30.0147,    -999,-999,1,   0.0163,2,   0.0730,2,   0.0248,2,   0.0453,2,   0.0026,3,   0.0279,2,-999,9,  -0.0018,4,   0.0089,2,  -0.0031,4,    -999,    -999
33RR20080204,       I06S,      31,          2,         25,         25,2,20080215,       0046,   -42.4977,    30.0118,       5260,   454.4,   8.8814,  34.6031,2,  34.6041,2,    228.5,2,   230.5,2,    7.78,2,   18.20,2,    0.01,2,    1.30,2,   3.436,2,   1.871,2,   0.235,2,  2146.0,2,  2293.5,2,   7.9567,2,    13.00,    -999,9,    -999,9,    -999,9,8.8911,2,1.12,2,22.9,2,2.9,    -999,9,    -999,3.406,2,-999,9,-999,9,    -999,9,-999,9, 20080215,     0238, -42.4971,  30.0147,    -999,-999,9,     -999,9,     -999,9,     -999,9,     -999,9,     -999,9,     -999,9,-999,9,     -999,9,     -999,9,     -999,9,    -999,    -999
33RR20080204,       I06S,      31,          2,         24,         24,2,20080215,       0046,   -42.4977,    30.0118,       5260,   507.1,   8.5021,  34.5895,2,  34.5917,2,    215.7,2,   218.3,2,    9.95,2,   20.22,2,    0.00,2,    1.42,2,   3.290,2,   1.745,2,   0.215,2,  2166.6,2,  2293.5,2,   7.9321,4,    13.00,    -999,9,    -999,9,    -999,9,8.4968,2,1.14,2,17.5,2,3.2,    -999,9,    -999,3.32,2,-999,9,-999,9,   44.68,2,-999,1, 20080215,     0236, -42.4971,  30.0146,    -999,-999,9,   0.0196,2,   0.0824,2,   0.0228,2,   0.0515,2,   0.0042,2,   0.0257,2,-999,9,  -0.0009,4,   0.0113,2,  -0.0026,4,    -999,    -999
33RR20080204,       I06S,      31,          2,         23,         23,2,20080215,       0046,   -42.4977,    30.0118,       5260,   608.1,   7.6648,  34.5584,2,  34.5618,2,    198.4,2,   200.5,2,   16.42,2,   23.84,2,    0.00,2,    1.66,2,   2.756,2,   1.423,2,   0.164,2,  2178.6,2,  2295.1,2,   7.8889,3,    13.00,    -999,9,    -999,9,    -999,9,7.6683,2,1.0,2,-4.8,2,3.2,    -999,9,    -999,3.136,2,-999,9,-999,9,    -999,9,-999,9, 20080215,     0233, -42.4971,  30.0146,    -999,-999,1,     -999,9,     -999,9,     -999,9,     -999,9,     -999,9,     -999,9,-999,9,     -999,9,     -999,9,     -999,9,    -999,    -999
33RR20080204,       I06S,      31,          2,         22,         22,2,20080215,       0046,   -42.4977,    30.0118,       5260,   709.0,   6.2284,  34.4484,2,  34.4495,2,    199.8,2,   201.6,2,   22.92,2,   27.07,2,    0.00,2,    1.88,2,   2.592,2,   1.320,2,   0.184,2,  2188.5,2,  2297.6,2,   7.8531,2,    13.00,    -999,9,    -999,9,    -999,9,6.2276,2,1.0,2,-35.4,2,2.9,    -999,9,    -999,3.431,2,-999,9,-999,9,   40.20,2,-999,1, 20080215,     0230, -42.4971,  30.0145,    -999,-999,9,   0.0237,2,   0.0893,2,   0.0202,3,   0.0566,2,   0.0065,2,   0.0223,3,-999,9,  -0.0001,4,   0.0144,2,  -0.0024,4,    -999,    -999
33RR20080204,       I06S,      31,          2,         21,         21,2,20080215,       0046,   -42.4977,    30.0118,       5260,   809.9,   5.2297,  34.3917,2,  34.3897,2,    205.7,2,   205.8,2,   28.45,2,   28.97,2,    0.00,2,    2.02,2,   2.489,2,   1.255,2,   0.179,2,  2188.5,2,  2299.4,2,   7.8332,2,    13.00,    -999,9,    -999,9,    -999,9,5.2217,2,0.98,2,-54.2,6,1.7,    -999,9,    -999,3.499,2,-999,9,-999,9,    -999,9,-999,9, 20080215,     0228, -42.4972,  30.0144,    -999,-999,1,     -999,9,     -999,9,     -999,9,     -999,9,     -999,9,     -999,9,-999,9,     -999,9,     -999,9,     -999,9,    -999,    -999
33RR20080204,       I06S,      31,          2,         20,         20,2,20080215,       0046,   -42.4977,    30.0118,       5260,  1009.7,   4.1700,  34.4399,2,  34.4415,2,    184.3,2,   184.6,2,   45.64,2,   32.13,2,    0.00,2,    2.25,2,   1.421,2,   0.693,2,   0.094,2,  2218.0,6,  2314.0,2,   7.7915,3,    13.00,    -999,9,    -999,9,    -999,9,4.1756,2,-0.17,3,-93.8,2,3.2,    -999,9,    -999,2.504,2,-999,9,-999,9,   38.83,2,-999,1, 20080215,     0224, -42.4973,  30.0144,    -999,-999,1,   0.0269,2,   0.0995,2,   0.0203,3,   0.0642,2,   0.0074,2,   0.0218,2,-999,9,   0.0004,4,   0.0160,2,  -0.0019,4,    -999,    -999
33RR20080204,       I06S,      31,          2,         19,         19,2,20080215,       0046,   -42.4977,    30.0118,       5260,  1210.4,   3.1996,  34.4578,2,  34.4576,2,    184.6,2,   182.2,2,   55.78,2,   33.58,2,    0.00,2,    2.33,2,   0.988,2,   0.499,2,   0.073,2,  2230.1,2,  2321.2,2,   7.7677,3,    13.00,    -999,9,    -999,9,    -999,9,3.1998,2,0.68,2,-121.4,2,2.7,    -999,9,    -999,2.047,2,-999,9,-999,9,   38.05,2,-999,1, 20080215,     0219, -42.4973,  30.0141,    -999,-999,9,   0.0272,2,   0.0999,2,   0.0197,3,   0.0629,2,   0.0078,2,   0.0211,3,-999,9,   0.0004,3,   0.0163,2,  -0.0019,4,    -999,    -999
33RR20080204,       I06S,      31,          2,         18,         18,2,20080215,       0046,   -42.4977,    30.0118,       5260,  1422.3,   2.9673,  34.5730,2,  34.5731,2,    174.0,2,   173.2,2,   65.33,2,   33.33,2,    0.00,2,    2.31,2,   0.406,2,   0.211,2,   0.039,2,  2241.4,2,  2331.3,2,   7.7657,3,    13.00,    -999,9,    -999,9,    -999,9,2.9676,2,0.61,2,-143.5,2,3.3,    -999,9,    -999,1.343,2,-999,9,-999,9,    -999,9,-999,9, 20080215,     0215, -42.4974,  30.0139,    -999,-999,9,     -999,9,     -999,9,     -999,9,     -999,9,     -999,9,     -999,9,-999,9,     -999,9,     -999,9,     -999,9,    -999,    -999
33RR20080204,       I06S,      31,          2,         17,         17,2,20080215,       0046,   -42.4977,    30.0118,       5260,  1523.3,   2.7844,  34.5986,2,  34.5994,2,    175.4,2,   175.6,2,   66.94,2,   32.97,2,    0.00,2,    2.28,2,   0.360,2,   0.187,2,   0.061,2,  2242.6,2,  2334.7,2,   7.7671,2,    13.00,    -999,9,    -999,9,    -999,9,2.7835,2,0.58,2,-141.8,2,2.9,    -999,9,    -999,1.357,2,-999,9,-999,9,   41.07,2,-999,1, 20080215,     0212, -42.4974,  30.0138,    -999,-999,9,   0.0336,2,   0.1140,2,   0.0185,3,   0.0747,2,   0.0110,2,   0.0196,3,-999,9,   0.0023,2,   0.0209,2,  -0.0009,4,    -999,    -999
33RR20080204,       I06S,      31,          2,         16,         16,2,20080215,       0046,   -42.4977,    30.0118,       5260,  1623.0,   2.7598,  34.6449,2,  34.6448,2,    177.5,2,   177.9,2,   67.37,2,   32.22,2,    0.00,2,    2.23,2,   0.235,2,   0.131,2,   0.018,2,  2239.4,2,  2337.5,2,   7.7771,2,    13.00,    -999,9,    -999,9,    -999,9,2.7598,2,0.59,2,-143.4,2,3.3,    -999,9,    -999,0.72,2,-999,9,-999,9,    -999,9,-999,9, 20080215,     0210, -42.4974,  30.0137,    -999,-999,9,     -999,9,     -999,9,     -999,9,     -999,9,     -999,9,     -999,9,-999,9,     -999,9,     -999,9,     -999,9,    -999,    -999
33RR20080204,       I06S,      31,          2,         15,         15,2,20080215,       0046,   -42.4977,    30.0118,       5260,  1724.6,   2.7768,  34.6942,2,  34.6939,2,    181.8,2,   184.0,2,   65.99,2,   31.01,2,    0.00,2,    2.15,2,   0.141,2,   0.078,2,   0.012,2,  2237.7,2,  2337.9,2,   7.7941,2,    13.00,    -999,9,    -999,9,    -999,9,2.7765,2,0.63,2,-146.8,2,2.6,    -999,9,    -999,0.477,2,-999,9,-999,9,   37.95,2,-999,1, 20080215,     0207, -42.4974,  30.0137,    -999,-999,9,   0.0316,2,   0.1089,2,   0.0197,3,   0.0712,2,   0.0091,2,   0.0204,3,-999,9,   0.0011,2,   0.0182,2,  -0.0014,4,    -999,    -999
33RR20080204,       I06S,      31,          2,         14,         14,2,20080215,       0046,   -42.4977,    30.0118,       5260,  1826.9,   2.7505,  34.7229,2,  34.7228,2,    188.0,2,   188.6,2,   63.82,2,   30.11,2,    0.00,2,    2.07,2,   0.108,2,   0.060,2,   0.020,2,  2231.9,2,  2338.6,2,   7.8063,2,    13.00,    -999,9,    -999,9,    -999,9,2.7506,2,0.65,2,-140.6,2,2.3,    -999,9,    -999,0.393,2,-999,9,-999,9,    -999,9,-999,9, 20080215,     0204, -42.4975,  30.0135,    -999,-999,9,     -999,9,     -999,9,     -999,9,     -999,9,     -999,9,     -999,9,-999,9,     -999,9,     -999,9,     -999,9,    -999,    -999
33RR20080204,       I06S,      31,          2,         13,         13,2,20080215,       0046,   -42.4977,    30.0118,       5260,  2028.0,   2.6845,  34.7753,2,  34.7751,2,    199.3,2,   200.6,2,   60.45,2,   28.26,2,    0.00,2,    1.94,2,   0.064,2,   0.036,2,   0.013,2,  2223.6,2,  2338.8,2,   7.8321,2,    13.00,    -999,9,    -999,9,    -999,9,2.6853,2,0.79,2,-131.6,2,2.7,    -999,9,    -999,0.215,2,-999,9,-999,9,   38.15,2,-999,1, 20080215,     0200, -42.4975,  30.0134,    -999,-999,9,   0.0290,2,   0.1062,2,   0.0204,3,   0.0694,2,   0.0083,2,   0.0220,2,-999,9,   0.0007,2,   0.0167,2,  -0.0015,4,    -999,    -999
33RR20080204,       I06S,      31,          2,         12,         12,2,20080215,       0046,   -42.4977,    30.0118,       5260,  2332.2,   2.4963,  34.7997,2,  34.7995,2,    207.6,2,   208.5,2,   62.67,2,   27.41,2,    0.00,2,    1.87,2,   0.060,2,   0.033,2,   0.000,2,  2220.4,2,  2341.4,2,   7.8445,2,    13.00,    -999,9,    -999,9,    -999,9,2.4963,2,0.77,2,-133.3,2,2.7,    -999,9,    -999,0.166,2,-999,9,-999,9,    -999,9,-999,9, 20080215,     0154, -42.4975,  30.0131,    -999,-999,9,     -999,9,     -999,9,     -999,9,     -999,9,     -999,9,     -999,9,-999,9,     -999,9,     -999,9,     -999,9,    -999,    -999
33RR20080204,       I06S,      31,          2,         11,         11,2,20080215,       0046,   -42.4977,    30.0118,       5260,  2645.2,   2.3250,  34.8108,2,  34.8105,2,    214.1,2,   214.8,2,   65.07,2,   26.91,2,    0.00,2,    1.84,2,   0.046,2,   0.028,2,   0.000,2,  2218.9,2,  2343.9,2,   7.8558,2,    13.00,    -999,9,    -999,9,    -999,9,2.3251,2,0.79,2,-144.9,2,2.7,    -999,9,    -999,0.065,2,-999,9,-999,9,   40.29,2,-999,1, 20080215,     0147, -42.4976,  30.0130,    -999,-999,9,   0.0303,2,   0.1097,2,   0.0204,3,   0.0729,2,   0.0088,2,   0.0221,2,-999,9,   0.0009,2,   0.0175,2,  -0.0013,4,    -999,    -999
33RR20080204,       I06S,      31,          2,         10,         10,2,20080215,       0046,   -42.4977,    30.0118,       5260,  2950.2,   2.1266,  34.8062,2,  34.8064,2,     -999,9,    -999,5,   70.68,2,   27.17,2,    0.00,2,    1.85,2,   0.000,4,   0.000,4,   0.000,4,  2223.0,2,  2348.2,2,   7.8562,2,    13.00,    -999,9,    -999,9,    -999,9,2.1265,2,0.78,2,-135.5,2,2.6,    -999,9,    -999,0.0,4,-999,9,-999,9,   39.51,2,-999,1, 20080215,     0140, -42.4977,  30.0128,    -999,-999,9,   0.0303,2,   0.1069,2,   0.0201,3,   0.0708,2,   0.0090,2,   0.0214,2,-999,9,   0.0016,2,   0.0172,2,  -0.0008,4,    -999,    -999
33RR20080204,       I06S,      31,          2,          9,          9,2,20080215,       0046,   -42.4977,    30.0118,       5260,  3252.8,   1.8465,  34.7878,2,  34.7883,2,    215.1,2,   215.2,2,   80.50,2,   28.12,2,    0.00,2,    1.92,2,   0.058,2,   0.032,2,   0.011,2,  2230.6,2,  2353.2,2,   7.8470,2,    13.00,    -999,9,    -999,9,    -999,9,1.8485,2,0.84,2,-142.8,2,2.5,    -999,9,    -999,0.34,2,-999,9,-999,9,    -999,9,-999,9, 20080215,     0133, -42.4977,  30.0124,    -999,-999,9,     -999,9,     -999,9,     -999,9,     -999,9,     -999,9,     -999,9,-999,9,     -999,9,     -999,9,     -999,9,    -999,    -999
33RR20080204,       I06S,      31,          2,          8,          8,2,20080215,       0046,   -42.4977,    30.0118,       5260,  3559.3,   1.5001,  34.7592,2,  34.7596,2,    213.1,2,   213.6,2,   93.35,2,   29.46,2,    0.00,2,    2.03,2,   0.083,2,   0.049,2,   0.008,2,  2242.0,2,  2358.1,2,   7.8322,2,    13.00,    -999,9,    -999,9,    -999,9,1.5,2,0.66,2,-132.4,2,3.0,    -999,9,    -999,0.383,2,-999,9,-999,9,   40.00,2,-999,1, 20080215,     0127, -42.4978,  30.0123,    -999,-999,9,   0.0295,2,   0.1055,2,   0.0201,3,   0.0697,2,   0.0086,2,   0.0215,2,-999,9,   0.0009,2,   0.0172,2,  -0.0014,4,    -999,    -999