BOTTLE,20220706CCHSIOAMB
EXPOCODE,SECT_ID,STNNBR,CASTNO,SAMPNO,BTLNBR,BTLNBR_FLAG_W,DATE,TIME,LATITUDE,LONGITUDE,DEPTH,CTDPRS,CTDTMP,CTDSAL,CTDSAL_FLAG_W,SALNTY,SALNTY_FLAG_W,CTDOXY,CTDOXY_FLAG_W,OXYGEN,OXYGEN_FLAG_W,SILCAT,SILCAT_FLAG_W,NITRAT,NITRAT_FLAG_W,NITRIT,NITRIT_FLAG_W,PHSPHT,PHSPHT_FLAG_W,CFC-11,CFC-11_FLAG_W,CFC-12,CFC-12_FLAG_W,CFC113,CFC113_FLAG_W,TCARBN,TCARBN_FLAG_W,ALKALI,ALKALI_FLAG_W,PH_SWS,PH_SWS_FLAG_W,PH_TMP,TRITUM,TRITUM_FLAG_W,HELIUM,HELIUM_FLAG_W,DELHE3,DELHE3_FLAG_W,REFTMP,REFTMP_FLAG_W,DELC13,DELC13_FLAG_W,DELC14,DELC14_FLAG_W,C14ERR,NEON,NEON_FLAG_W,NEONER,CCL4,CCL4_FLAG_W,ALUMIN,ALUMIN_FLAG_W,DELO18,DELO18_FLAG_W,DOC,DOC_FLAG_W,TDN,TDN_FLAG_W,BTL_DATE,BTL_TIME,BTL_LAT,BTL_LON,TRITER,DELSI30,DELSI30_FLAG_W,CDOM380,CDOM380_FLAG_W,CDOM325,CDOM325_FLAG_W,CDOMSL,CDOMSL_FLAG_W,CDOM340,CDOM340_FLAG_W,CDOM443,CDOM443_FLAG_W,CDOMSN,CDOMSN_FLAG_W,BLACKC,BLACKC_FLAG_W,CDOM490,CDOM490_FLAG_W,CDOM412,CDOM412_FLAG_W,CDOM555,CDOM555_FLAG_W,DELHER,HELIER
,,,,,,,,,,,METERS,DBAR,ITS-90,PSS-78,,PSS-78,,UMOL/KG,,UMOL/KG,,UMOL/KG,,UMOL/KG,,UMOL/KG,,UMOL/KG,,PMOL/KG,,PMOL/KG,,PMOL/KG,,UMOL/KG,,UMOL/KG,,,,DEG C,TU,,NMOL/KG,,PERCNT,,DEG C,,/MILLE,,/MILLE,,/MILLE,NMOL/KG,,NMOL/KG,PMOL/KG,,NMOL/L,,/MILLE,,UMOL/KG,,UMOL/KG,,,,,,TU,/MILLE,,1/M,,1/M,,1/NM,,1/M,,1/M,,1/NM,,,,1/M,,1/M,,1/M,,PERCNT,NMOL/KG
33RR20080204,       I06S,     102,          1,          7,          7,2,20080307,       0220,   -67.4987,    29.9998,       3598,  2283.7,  -0.0269,  34.6628,3,  34.6642,2,    228.4,2,   228.1,2,  120.94,2,   32.36,2,    0.00,2,    2.24,2,   0.780,2,   0.428,2,   0.058,2,  2255.1,2,  2355.8,2,   7.7857,2,    13.00,    -999,9,    -999,9,    -999,9,-0.0259,2,0.62,2,-161.6,2,2.6,    -999,9,    -999,1.448,2,-999,9,-999,9,   38.15,2,-999,1, 20080307,     0248, -67.4987,  29.9998,    -999,-999,1,   0.0322,2,   0.1075,2,   0.0176,3,   0.0699,2,   0.0115,2,   0.0189,3,-999,9,   0.0031,2,   0.0210,2,   0.0001,4,    -999,    -999
33RR20080204,       I06S,     102,          1,          6,          6,2,20080307,       0220,   -67.4987,    29.9998,       3598,  2597.4,  -0.0975,  34.6597,3,  34.6616,2,    230.3,3,   232.3,2,  120.54,2,   32.20,2,    0.00,2,    2.23,2,   0.969,2,   0.514,2,   0.073,2,  2253.0,2,  2355.0,2,   7.7876,2,    13.00,    -999,9,    -999,9,    -999,9,-0.0965,2,0.66,2,-160.6,2,2.3,    -999,9,    -999,1.632,2,-999,9,-999,9,    -999,9,-999,9, 20080307,     0242, -67.4987,  29.9999,    -999,-999,9,     -999,9,     -999,9,     -999,9,     -999,9,     -999,9,     -999,9,-999,9,     -999,9,     -999,9,     -999,9,    -999,    -999
33RR20080204,       I06S,     102,          1,          5,          5,2,20080307,       0220,   -67.4987,    29.9998,       3598,  2900.6,  -0.1192,  34.6578,3,  34.6597,2,    234.2,3,   234.0,2,  120.35,2,   32.20,2,    0.00,2,    2.23,2,   1.050,2,   0.557,2,   0.075,2,  2251.7,2,  2353.5,2,   7.7882,2,    13.00,    -999,9,    -999,9,    -999,9,-0.1184,2,0.69,2,-160.5,2,2.7,    -999,9,    -999,1.637,2,-999,9,-999,9,    -999,9,-999,1, 20080307,     0236, -67.4987,  29.9999,    -999,-999,1,   0.0333,2,   0.1075,2,   0.0174,3,   0.0697,2,   0.0118,2,   0.0181,3,-999,9,   0.0033,2,   0.0215,2,   0.0002,4,    -999,    -999
33RR20080204,       I06S,     102,          1,          4,          4,2,20080307,       0220,   -67.4987,    29.9998,       3598,  3206.3,  -0.1475,  34.6552,3,  34.6581,2,    238.0,3,   236.3,2,  120.15,2,   32.16,2,    0.00,2,    2.23,2,   1.111,2,   0.593,2,   0.093,2,  2251.5,2,  2352.6,2,   7.7840,4,    13.00,    -999,9,    -999,9,    -999,9,-0.1467,2,0.79,2,-164.4,2,3.0,    -999,9,    -999,1.647,2,-999,9,-999,9,    -999,9,-999,9, 20080307,     0230, -67.4987,  29.9999,    -999,-999,9,     -999,9,     -999,9,     -999,9,     -999,9,     -999,9,     -999,9,-999,9,     -999,9,     -999,9,     -999,9,    -999,    -999
33RR20080204,       I06S,     102,          1,          3,          3,2,20080307,       0220,   -67.4987,    29.9998,       3598,  3516.6,  -0.1895,  34.6500,3,  34.6552,2,    239.3,3,   239.3,2,  120.78,2,   32.11,2,    0.00,2,    2.23,2,   1.169,2,   0.631,2,   0.081,2,  2252.2,2,  2353.5,2,   7.7902,2,    13.00,    -999,9,    -999,9,    -999,9,-0.1888,2,0.7,2,-163.1,2,2.6,    -999,9,    -999,1.713,2,-999,9,-999,9,   40.39,2,-999,1, 20080307,     0223, -67.4987,  29.9998,    -999,-999,9,   0.0335,2,   0.1098,2,   0.0173,3,   0.0710,2,   0.0123,2,   0.0182,3,-999,9,   0.0034,2,   0.0221,2,   0.0001,3,    -999,    -999
33RR20080204,       I06S,     102,          1,          2,          2,2,20080307,       0220,   -67.4987,    29.9998,       3598,  3632.2,  -0.2377,  34.6540,3,  34.6544,2,     -999,9,    -999,9,  124.91,2,   32.20,2,    0.00,2,    2.23,2,    -999,9,    -999,9,    -999,9,    -999,9,  2354.2,2,     -999,9,     -999,    -999,9,    -999,9,    -999,9,-0.237,2,-999,9,-999,9,-999,    -999,9,    -999,-999,9,-999,9,-999,9,    -999,9,-999,9, 20080307,     0220, -67.4987,  29.9999,    -999,-999,9,     -999,9,     -999,9,     -999,9,     -999,9,     -999,9,     -999,9,-999,1,     -999,9,     -999,9,     -999,9,    -999,    -999
33RR20080204,       I06S,     102,          1,          1,          1,2,20080307,       0220,   -67.4987,    29.9998,       3598,  3632.8,  -0.2374,  34.6551,3,  34.6542,2,    240.7,3,   240.4,2,  124.91,2,   32.20,2,    0.00,2,    2.23,2,   1.179,2,   0.626,2,   0.092,2,  2251.4,6,  2355.1,2,   7.7914,2,    13.00,    -999,9,    -999,9,    -999,9,-0.2367,2,0.72,2,-162.5,2,2.3,    -999,9,    -999,1.938,2,-999,9,-999,9,   38.93,2,-999,1, 20080307,     0220, -67.4987,  29.9998,    -999,-999,1,   0.0390,2,   0.1196,2,   0.0160,3,   0.0797,2,   0.0160,2,   0.0162,3,-999,9,   0.0067,2,   0.0260,2,   0.0023,2,    -999,    -999