BOTTLE,20220706CCHSIOAMB
EXPOCODE,SECT_ID,STNNBR,CASTNO,SAMPNO,BTLNBR,BTLNBR_FLAG_W,DATE,TIME,LATITUDE,LONGITUDE,DEPTH,CTDPRS,CTDTMP,CTDSAL,CTDSAL_FLAG_W,SALNTY,SALNTY_FLAG_W,CTDOXY,CTDOXY_FLAG_W,OXYGEN,OXYGEN_FLAG_W,SILCAT,SILCAT_FLAG_W,NITRAT,NITRAT_FLAG_W,NITRIT,NITRIT_FLAG_W,PHSPHT,PHSPHT_FLAG_W,CFC-11,CFC-11_FLAG_W,CFC-12,CFC-12_FLAG_W,CFC113,CFC113_FLAG_W,TCARBN,TCARBN_FLAG_W,ALKALI,ALKALI_FLAG_W,PH_SWS,PH_SWS_FLAG_W,PH_TMP,TRITUM,TRITUM_FLAG_W,HELIUM,HELIUM_FLAG_W,DELHE3,DELHE3_FLAG_W,REFTMP,REFTMP_FLAG_W,DELC13,DELC13_FLAG_W,DELC14,DELC14_FLAG_W,C14ERR,NEON,NEON_FLAG_W,NEONER,CCL4,CCL4_FLAG_W,ALUMIN,ALUMIN_FLAG_W,DELO18,DELO18_FLAG_W,DOC,DOC_FLAG_W,TDN,TDN_FLAG_W,BTL_DATE,BTL_TIME,BTL_LAT,BTL_LON,TRITER,DELSI30,DELSI30_FLAG_W,CDOM380,CDOM380_FLAG_W,CDOM325,CDOM325_FLAG_W,CDOMSL,CDOMSL_FLAG_W,CDOM340,CDOM340_FLAG_W,CDOM443,CDOM443_FLAG_W,CDOMSN,CDOMSN_FLAG_W,BLACKC,BLACKC_FLAG_W,CDOM490,CDOM490_FLAG_W,CDOM412,CDOM412_FLAG_W,CDOM555,CDOM555_FLAG_W,DELHER,HELIER
,,,,,,,,,,,METERS,DBAR,ITS-90,PSS-78,,PSS-78,,UMOL/KG,,UMOL/KG,,UMOL/KG,,UMOL/KG,,UMOL/KG,,UMOL/KG,,PMOL/KG,,PMOL/KG,,PMOL/KG,,UMOL/KG,,UMOL/KG,,,,DEG C,TU,,NMOL/KG,,PERCNT,,DEG C,,/MILLE,,/MILLE,,/MILLE,NMOL/KG,,NMOL/KG,PMOL/KG,,NMOL/L,,/MILLE,,UMOL/KG,,UMOL/KG,,,,,,TU,/MILLE,,1/M,,1/M,,1/NM,,1/M,,1/M,,1/NM,,,,1/M,,1/M,,1/M,,PERCNT,NMOL/KG
33RR20080204,       I06S,      13,          1,         34,         34,2,20080209,       0633,   -34.3248,    29.2871,       4070,     3.5,  22.8265,  35.6833,2,  35.6824,2,    218.3,2,   219.6,2,    1.98,2,    0.05,2,    0.00,2,    0.05,2,   2.020,2,   1.233,2,   0.160,2,  2023.4,6,  2336.5,2,   8.1330,2,    20.00,    -999,9,    -999,9,    -999,9,22.8268,2,1.13,2,56.2,2,3.3,    -999,9,    -999,2.991,2,-999,9,-999,9,   67.12,2,-999,1, 20080209,     0829, -34.3215,  29.2894,    -999,-999,9,   0.0182,2,   0.0755,2,   0.0053,3,   0.0524,2,   0.0035,2,   0.0257,3,-999,9,   0.0000,4,   0.0107,2,  -0.0026,4,    -999,    -999
33RR20080204,       I06S,      13,          1,         33,         33,2,20080209,       0633,   -34.3248,    29.2871,       4070,    32.1,  22.8092,  35.6806,2,  35.6807,2,    220.0,2,   219.7,2,    2.74,2,    0.05,2,    0.01,2,    0.16,2,   1.986,2,   1.232,2,   0.176,2,  2023.5,2,  2337.8,2,   8.1340,2,    20.00,    -999,9,    -999,9,    -999,9,22.8029,2,-999,9,-999,9,-999,    -999,9,    -999,2.917,2,-999,9,-999,9,   68.98,2,-999,1, 20080209,     0827, -34.3217,  29.2893,    -999,-999,9,   0.0188,2,   0.0700,2,   0.0052,3,   0.0494,2,   0.0037,2,   0.0235,3,-999,9,   0.0001,4,   0.0112,2,  -0.0026,4,    -999,    -999
33RR20080204,       I06S,      13,          1,         32,         32,2,20080209,       0633,   -34.3248,    29.2871,       4070,    82.3,  18.9296,  35.5324,2,  35.5311,2,    233.1,2,   223.6,2,    2.71,2,    0.05,2,    0.01,2,    0.15,2,   2.345,2,   1.435,2,   0.206,2,  2043.3,2,  2329.0,2,   8.0880,2,    20.00,    -999,9,    -999,9,    -999,9,18.9448,2,0.95,2,55.2,2,3.3,    -999,9,    -999,2.119,2,-999,9,-999,9,   60.00,2,-999,1, 20080209,     0823, -34.3218,  29.2892,    -999,-999,9,   0.0495,2,   0.1375,2,   0.0110,3,   0.1026,2,   0.0156,2,   0.0179,2,-999,9,   0.0055,2,   0.0326,2,   0.0004,3,    -999,    -999
33RR20080204,       I06S,      13,          1,         31,         31,2,20080209,       0633,   -34.3248,    29.2871,       4070,   106.2,  18.1265,  35.5366,2,  35.5377,2,    217.5,2,   210.9,2,    3.47,2,    2.18,2,    0.08,2,    0.29,2,   2.420,2,   1.480,2,   0.171,2,  2062.8,2,  2328.5,2,   8.0530,2,    20.00,    -999,9,    -999,9,    -999,9,18.0949,3,0.82,2,53.2,2,3.2,    -999,9,    -999,1.767,2,-999,9,-999,9,   60.39,2,-999,1, 20080209,     0821, -34.3220,  29.2890,    -999,-999,9,   0.0364,2,   0.1060,2,   0.0092,3,   0.0780,2,   0.0110,2,   0.0183,2,-999,9,   0.0029,2,   0.0252,2,  -0.0010,4,    -999,    -999
33RR20080204,       I06S,      13,          1,         30,         30,2,20080209,       0633,   -34.3248,    29.2871,       4070,   155.3,  17.4638,  35.5441,2,  35.5433,2,    206.8,2,   209.6,2,    3.84,2,    3.96,2,    0.02,2,    0.38,2,   2.497,2,   1.509,2,   0.132,2,  2070.8,2,  2328.9,2,   8.0510,4,    20.00,    -999,9,    -999,9,    -999,9,17.4628,2,-999,9,-999,9,-999,    -999,9,    -999,1.513,2,-999,9,-999,9,   56.39,2,-999,1, 20080209,     0819, -34.3222,  29.2889,    -999,-999,9,   0.0274,2,   0.0888,2,   0.0077,3,   0.0635,2,   0.0068,2,   0.0205,2,-999,9,   0.0010,3,   0.0180,2,  -0.0022,4,    -999,    -999
33RR20080204,       I06S,      13,          1,         29,         29,2,20080209,       0633,   -34.3248,    29.2871,       4070,   205.1,  16.6655,  35.5271,2,  35.5251,2,    206.7,2,   205.1,2,    4.41,2,    5.25,2,    0.01,2,    0.46,2,   2.563,2,   1.530,2,   0.111,2,  2084.3,2,  2328.3,2,   8.0120,2,    20.00,    -999,9,    -999,9,    -999,9,16.6784,2,0.82,2,52.7,2,3.2,    -999,9,    -999,1.183,2,-999,9,-999,9,   50.83,2,-999,1, 20080209,     0816, -34.3223,  29.2888,    -999,-999,9,   0.0271,2,   0.0864,2,   0.0077,3,   0.0613,2,   0.0068,2,   0.0202,2,-999,9,   0.0010,3,   0.0178,2,  -0.0020,4,    -999,    -999
33RR20080204,       I06S,      13,          1,         28,         28,2,20080209,       0633,   -34.3248,    29.2871,       4070,   256.6,  16.0205,  35.5012,2,  35.5025,2,    206.3,2,   206.9,2,    4.57,2,    5.89,2,    0.01,2,    0.50,2,   2.679,2,   1.540,2,   0.082,2,  2091.6,2,  2327.5,2,   8.0010,2,    20.00,    -999,9,    -999,9,    -999,9,16.0341,2,-999,9,-999,9,-999,    -999,9,    -999,0.704,2,-999,9,-999,9,   50.34,2,-999,1, 20080209,     0814, -34.3223,  29.2887,    -999,-999,9,   0.0248,2,   0.0824,2,   0.0073,3,   0.0569,2,   0.0058,2,   0.0211,2,-999,9,   0.0004,4,   0.0161,2,  -0.0025,4,    -999,    -999
33RR20080204,       I06S,      13,          1,         27,         27,2,20080209,       0633,   -34.3248,    29.2871,       4070,   304.0,  15.2837,  35.4091,3,  35.4562,2,    206.3,2,   203.8,2,    4.75,2,    7.22,2,    0.01,2,    0.59,2,   2.620,2,   1.525,2,   0.096,2,  2101.3,2,  2326.7,2,   7.9770,2,    20.00,    -999,9,    -999,9,    -999,9,15.2834,2,0.85,2,58.6,2,3.6,    -999,9,    -999,1.084,2,-999,9,-999,9,   49.56,2,-999,1, 20080209,     0812, -34.3226,  29.2886,    -999,-999,9,   0.0254,2,   0.0813,2,   0.0072,3,   0.0569,2,   0.0058,2,   0.0206,2,-999,9,   0.0004,4,   0.0161,2,  -0.0024,4,    -999,    -999
33RR20080204,       I06S,      13,          1,         26,         26,2,20080209,       0633,   -34.3248,    29.2871,       4070,   353.4,  14.5255,  35.3850,3,  35.4000,2,    209.1,2,   205.4,2,    4.92,2,    8.20,2,    0.01,2,    0.64,2,   2.760,2,   1.567,2,   0.096,2,  2107.3,2,  2324.4,2,   7.9600,2,    20.00,    -999,9,    -999,9,    -999,9,14.5247,2,0.91,2,60.6,2,3.3,    -999,9,    -999,1.01,2,-999,9,-999,9,    -999,9,-999,9, 20080209,     0809, -34.3227,  29.2885,    -999,-999,9,     -999,9,     -999,9,     -999,9,     -999,9,     -999,9,     -999,9,-999,9,     -999,9,     -999,9,     -999,9,    -999,    -999
33RR20080204,       I06S,      13,          1,         25,         25,2,20080209,       0633,   -34.3248,    29.2871,       4070,   403.2,  13.8856,  35.2974,3,  35.3415,2,    210.6,2,   210.7,2,    4.89,2,    8.85,2,    0.01,2,    0.69,2,   2.954,2,   1.605,2,   0.136,2,  2109.8,2,  2322.6,2,   7.9510,2,    20.00,    -999,9,    -999,9,    -999,9,13.8803,2,0.95,2,59.9,2,3.1,    -999,9,    -999,1.378,2,-999,9,-999,9,   48.00,2,-999,1, 20080209,     0807, -34.3228,  29.2884,    -999,-999,1,   0.0229,2,   0.0786,2,   0.0069,3,   0.0538,2,   0.0051,2,   0.0220,2,-999,9,   0.0001,4,   0.0142,2,  -0.0026,4,    -999,    -999
33RR20080204,       I06S,      13,          1,         24,         24,2,20080209,       0633,   -34.3248,    29.2871,       4070,   454.2,  13.3140,  35.2055,3,  35.2749,2,    213.4,2,   216.2,2,    4.66,2,    9.54,2,    0.00,2,    0.73,2,   3.044,2,   1.661,2,   0.055,2,  2111.5,2,  2314.3,2,   7.9430,2,    20.00,    -999,9,    -999,9,    -999,9,13.3141,2,0.99,2,62.1,2,3.3,    -999,9,    -999,1.518,2,-999,9,-999,9,    -999,9,-999,9, 20080209,     0804, -34.3229,  29.2884,    -999,-999,9,     -999,9,     -999,9,     -999,9,     -999,9,     -999,9,     -999,9,-999,9,     -999,9,     -999,9,     -999,9,    -999,    -999
33RR20080204,       I06S,      13,          1,         23,         23,2,20080209,       0633,   -34.3248,    29.2871,       4070,   505.5,  12.7544,  35.1502,3,  35.2007,2,    216.3,2,   217.6,2,    4.84,2,   10.53,2,    0.00,2,    0.80,2,   3.163,2,   1.670,2,   0.077,2,  2114.3,2,  2307.7,2,   7.9320,2,    20.00,    -999,9,    -999,9,    -999,9,12.7538,2,1.03,2,57.3,2,3.3,    -999,9,    -999,1.688,2,-999,9,-999,9,   47.51,2,-999,1, 20080209,     0802, -34.3229,  29.2883,    -999,-999,9,   0.0149,2,   0.0641,2,   0.0044,3,   0.0418,2,   0.0008,3,   0.0274,2,-999,9,  -0.0021,4,   0.0079,2,  -0.0037,4,    -999,    -999
33RR20080204,       I06S,      13,          1,         22,         22,2,20080209,       0633,   -34.3248,    29.2871,       4070,   604.6,  11.6290,  34.9378,3,  35.0241,2,    188.7,4,   216.5,2,    6.00,2,   13.00,2,    0.00,2,    0.96,2,   3.183,2,   1.688,2,   0.102,2,  2122.9,2,  2308.5,2,   7.9030,2,    20.00,    -999,9,    -999,9,    -999,9,11.6283,2,1.06,2,55.5,2,2.8,    -999,9,    -999,1.92,2,-999,9,-999,9,    -999,9,-999,9, 20080209,     0758, -34.3234,  29.2881,    -999,-999,1,     -999,9,     -999,9,     -999,9,     -999,9,     -999,9,     -999,9,-999,9,     -999,9,     -999,9,     -999,9,    -999,    -999
33RR20080204,       I06S,      13,          1,         21,         21,2,20080209,       0633,   -34.3248,    29.2871,       4070,   703.1,  10.2548,  34.7837,3,  34.8363,2,    183.2,4,   214.4,2,    7.95,2,   16.23,2,    0.00,2,    1.16,2,   3.122,2,   1.606,2,   0.126,2,  2131.3,2,  2301.1,2,   7.8650,2,    20.00,    -999,9,    -999,9,    -999,9,10.2512,2,1.15,2,32.8,2,2.8,    -999,9,    -999,2.122,2,-999,9,-999,9,   42.73,2,-999,1, 20080209,     0755, -34.3237,  29.2879,    -999,-999,9,   0.0179,2,   0.0714,2,   0.0049,3,   0.0456,2,   0.0025,3,   0.0258,3,-999,9,  -0.0017,4,   0.0103,2,  -0.0036,4,    -999,    -999
33RR20080204,       I06S,      13,          1,         20,         20,2,20080209,       0633,   -34.3248,    29.2871,       4070,   814.5,   8.7950,  34.5150,3,  34.6787,2,    179.8,4,   207.4,2,   12.10,2,   20.31,2,    0.00,2,    1.43,2,   2.733,2,   1.369,2,   0.113,2,  2145.2,2,  2295.4,2,   7.8230,2,    20.00,    -999,9,    -999,9,    -999,9,8.8059,2,1.2,2,25.2,2,3.7,    -999,9,    -999,2.126,2,-999,9,-999,9,    -999,9,-999,9, 20080209,     0751, -34.3237,  29.2878,    -999,-999,1,     -999,9,     -999,9,     -999,9,     -999,9,     -999,9,     -999,9,-999,9,     -999,9,     -999,9,     -999,9,    -999,    -999
33RR20080204,       I06S,      13,          1,         19,         19,2,20080209,       0633,   -34.3248,    29.2871,       4070,   914.2,   7.5182,  34.5272,3,  34.5646,2,    181.7,4,   200.1,2,   18.07,2,   24.01,2,    0.00,2,    1.67,2,   2.284,2,   1.134,2,   0.097,2,  2162.3,2,  2295.7,2,   7.7800,2,    20.00,    -999,9,    -999,9,    -999,9,7.5186,2,1.12,2,-12.2,2,2.8,    -999,9,    -999,2.043,2,-999,9,-999,9,   40.39,2,-999,1, 20080209,     0748, -34.3238,  29.2877,    -999,-999,9,   0.0221,2,   0.0812,2,   0.0073,3,   0.0521,2,   0.0052,2,   0.0235,3,-999,9,  -0.0004,4,   0.0139,2,  -0.0029,4,    -999,    -999
33RR20080204,       I06S,      13,          1,         18,         18,2,20080209,       0633,   -34.3248,    29.2871,       4070,  1013.5,   6.2463,  34.3530,3,  34.4637,2,    190.2,4,   198.0,2,   24.86,2,   27.23,2,    0.00,2,    1.89,2,   2.219,2,   1.097,2,   0.126,2,  2175.8,6,  2297.3,2,   7.7400,2,    20.00,    -999,9,    -999,9,    -999,9,6.247,2,1.03,2,-35.8,2,4.2,    -999,9,    -999,2.111,2,-999,9,-999,9,   40.39,2,-999,1, 20080209,     0744, -34.3239,  29.2876,    -999,-999,1,   0.0232,2,   0.0858,2,   0.0198,2,   0.0546,2,   0.0061,2,   0.0235,2,-999,9,   0.0001,4,   0.0144,2,  -0.0024,4,    -999,    -999
33RR20080204,       I06S,      13,          1,         17,         17,2,20080209,       0633,   -34.3248,    29.2871,       4070,  1116.2,   5.3061,  34.3693,3,  34.4386,2,    189.1,4,   192.2,2,   33.08,2,   29.54,2,    0.00,2,    2.06,2,   1.846,2,   0.923,2,   0.112,2,  2186.9,2,  2303.4,2,   7.7090,2,    20.00,    -999,9,    -999,9,    -999,9,5.3118,2,0.94,2,-45.9,2,3.6,    -999,9,    -999,2.893,2,-999,9,-999,9,    -999,9,-999,9, 20080209,     0742, -34.3238,  29.2876,    -999,-999,9,     -999,9,     -999,9,     -999,9,     -999,9,     -999,9,     -999,9,-999,9,     -999,9,     -999,9,     -999,9,    -999,    -999
33RR20080204,       I06S,      13,          1,         16,         16,2,20080209,       0633,   -34.3248,    29.2871,       4070,  1213.2,   4.4510,  34.3890,3,  34.4156,2,     -999,9,    -999,9,    -999,9,    -999,9,    -999,9,    -999,9,    -999,9,    -999,9,    -999,9,    -999,9,    -999,9,     -999,9,     -999,    -999,9,    -999,9,    -999,9,4.4663,3,-999,9,-999,9,-999,    -999,9,    -999,-999,9,-999,9,-999,9,    -999,9,-999,9, 20080209,     0739, -34.3238,  29.2876,    -999,-999,9,     -999,9,     -999,9,     -999,9,     -999,9,     -999,9,     -999,9,-999,9,     -999,9,     -999,9,     -999,9,    -999,    -999
33RR20080204,       I06S,      13,          1,         15,         15,2,20080209,       0633,   -34.3248,    29.2871,       4070,  1218.0,   4.4133,  34.3752,3,  34.4151,2,    182.5,4,   192.1,2,   40.52,2,   31.31,2,    0.00,2,    2.18,2,   1.731,6,   0.854,6,   0.104,6,  2210.7,2,  2308.3,2,   7.6910,2,    20.00,    -999,9,    -999,9,    -999,9,4.4188,2,0.88,2,-88.0,2,3.5,    -999,9,    -999,2.558,6,-999,9,-999,9,   40.78,2,-999,1, 20080209,     0739, -34.3239,  29.2876,    -999,-999,9,   0.0285,2,   0.0910,2,   0.0182,2,   0.0588,2,   0.0082,2,   0.0208,2,-999,9,   0.0009,3,   0.0174,2,  -0.0020,4,    -999,    -999
33RR20080204,       I06S,      13,          1,         14,         14,2,20080209,       0633,   -34.3248,    29.2871,       4070,  1319.2,   3.8704,  34.4372,3,  34.4454,2,    182.1,4,   182.8,2,   49.62,2,   32.62,2,    0.00,2,    2.27,2,   1.263,2,   0.627,2,   0.074,2,  2218.9,2,  2315.6,2,   7.6710,2,    20.00,    -999,9,    -999,9,    -999,9,3.8721,2,0.81,2,-106.6,2,2.5,    -999,9,    -999,2.083,2,-999,9,-999,9,    -999,9,-999,9, 20080209,     0736, -34.3239,  29.2876,    -999,-999,9,     -999,9,     -999,9,     -999,9,     -999,9,     -999,9,     -999,9,-999,9,     -999,9,     -999,9,     -999,9,    -999,    -999
33RR20080204,       I06S,      13,          1,         13,         13,2,20080209,       0633,   -34.3248,    29.2871,       4070,  1419.1,   3.7319,  34.4847,3,  34.5269,2,    176.8,4,   167.6,2,   59.76,2,   33.33,2,    0.00,2,    2.34,2,   0.678,2,   0.342,2,   0.065,2,  2234.1,2,  2329.0,2,   7.6580,2,    20.00,    -999,9,    -999,9,    -999,9,3.7361,2,0.62,2,-126.2,2,2.9,    -999,9,    -999,1.557,2,-999,9,-999,9,   42.63,2,-999,1, 20080209,     0733, -34.3243,  29.2876,    -999,-999,9,   0.0325,2,   0.1040,2,   0.0183,2,   0.0681,2,   0.0097,2,   0.0206,2,-999,9,   0.0015,2,   0.0200,2,  -0.0016,4,    -999,    -999
33RR20080204,       I06S,      13,          1,         12,         12,2,20080209,       0633,   -34.3248,    29.2871,       4070,  1518.6,   3.3712,  34.5320,3,  34.5639,2,    172.3,4,   167.6,2,   65.24,2,   33.47,2,    0.00,2,    2.33,2,   0.458,2,   0.233,2,   0.035,2,  2240.3,2,  2332.4,2,   7.6550,2,    20.00,    -999,9,    -999,9,    -999,9,3.3777,2,0.59,2,-134.8,2,2.5,    -999,9,    -999,1.154,2,-999,9,-999,9,    -999,9,-999,9, 20080209,     0730, -34.3244,  29.2873,    -999,-999,9,     -999,9,     -999,9,     -999,9,     -999,9,     -999,9,     -999,9,-999,9,     -999,9,     -999,9,     -999,9,    -999,    -999
33RR20080204,       I06S,      13,          1,         11,         11,2,20080209,       0633,   -34.3248,    29.2871,       4070,  1619.2,   3.1577,  34.5719,3,  34.6108,2,    171.1,4,   168.4,2,   68.47,2,   33.11,2,    0.00,2,    2.30,2,   0.067,4,  -0.011,4,  -0.146,4,  2243.2,2,  2336.4,2,   7.6580,2,    20.00,    -999,9,    -999,9,    -999,9,3.1651,2,0.55,2,-141.4,2,2.8,    -999,9,    -999,-0.093,4,-999,9,-999,9,   39.02,2,-999,1, 20080209,     0728, -34.3244,  29.2873,    -999,-999,9,   0.0343,2,   0.1087,2,   0.0181,2,   0.0720,2,   0.0107,2,   0.0203,2,-999,9,   0.0021,2,   0.0214,2,  -0.0013,4,    -999,    -999
33RR20080204,       I06S,      13,          1,         10,         10,2,20080209,       0633,   -34.3248,    29.2871,       4070,  1720.9,   2.9966,  34.6425,3,  34.6543,2,    170.9,3,   172.1,2,   70.29,2,   32.40,2,    0.00,2,    2.25,2,   0.170,2,   0.089,2,   0.015,2,  2243.5,2,  2340.7,2,   7.6680,2,    20.00,    -999,9,    -999,9,    -999,9,2.9968,2,0.55,2,-150.1,2,2.8,    -999,9,    -999,0.367,2,-999,9,-999,9,    -999,9,-999,9, 20080209,     0725, -34.3245,  29.2872,    -999,-999,9,     -999,9,     -999,9,     -999,9,     -999,9,     -999,9,     -999,9,-999,9,     -999,9,     -999,9,     -999,9,    -999,    -999
33RR20080204,       I06S,      13,          1,          9,          9,2,20080209,       0633,   -34.3248,    29.2871,       4070,  1821.3,   2.8799,  34.6956,2,  34.6986,2,    183.5,3,   176.4,2,   71.28,2,   31.44,2,    0.00,2,    2.19,2,   0.102,2,   0.048,2,   0.035,2,  2241.7,2,  2343.7,2,   7.6740,2,    20.00,    -999,9,    -999,9,    -999,9,2.8806,2,0.55,2,-146.9,2,2.5,    -999,9,    -999,0.241,2,-999,9,-999,9,   42.54,2,-999,1, 20080209,     0722, -34.3244,  29.2873,    -999,-999,9,   0.0374,2,   0.1195,2,   0.0178,2,   0.0803,2,   0.0130,2,   0.0199,2,-999,9,   0.0034,2,   0.0241,2,  -0.0004,4,    -999,    -999
33RR20080204,       I06S,      13,          1,          8,          8,2,20080209,       0633,   -34.3248,    29.2871,       4070,  2032.8,   2.6908,  34.7358,3,  34.7511,2,    185.7,3,   185.5,2,   72.88,2,   30.13,2,    0.00,2,    2.09,2,   0.047,2,   0.018,2,   0.067,2,  2238.8,2,  2347.5,2,   7.7000,2,    20.00,    -999,9,    -999,9,    -999,9,2.6921,2,0.59,2,-150.7,2,3.0,    -999,9,    -999,0.062,2,-999,9,-999,9,   39.12,2,-999,1, 20080209,     0717, -34.3248,  29.2872,    -999,-999,9,   0.0338,2,   0.1124,2,   0.0188,2,   0.0743,2,   0.0104,2,   0.0212,2,-999,9,   0.0021,2,   0.0203,2,  -0.0012,4,    -999,    -999
33RR20080204,       I06S,      13,          1,          7,          7,2,20080209,       0633,   -34.3248,    29.2871,       4070,  2334.6,   2.5960,  34.7968,3,  34.8089,2,    210.5,3,   209.7,2,   59.59,2,   27.01,2,    0.00,2,    1.84,2,   0.034,2,   0.005,2,   0.044,2,  2214.9,3,  2337.5,2,   7.7460,2,    20.00,    -999,9,    -999,9,    -999,9,2.5967,2,0.71,2,-137.6,2,3.0,    -999,9,    -999,0.954,2,-999,9,-999,9,    -999,9,-999,9, 20080209,     0711, -34.3248,  29.2871,    -999,-999,9,     -999,9,     -999,9,     -999,9,     -999,9,     -999,9,     -999,9,-999,9,     -999,9,     -999,9,     -999,9,    -999,    -999
33RR20080204,       I06S,      13,          1,          6,          6,2,20080209,       0633,   -34.3248,    29.2871,       4070,  2640.1,   2.3196,  34.8087,3,  34.8137,2,    214.3,3,   213.6,2,   66.10,2,   26.95,2,    0.00,2,    1.84,2,   0.029,2,   0.007,2,   0.035,2,  2219.6,2,  2344.6,2,   7.7440,2,    20.00,    -999,9,    -999,9,    -999,9,2.3207,2,0.46,2,-135.5,2,2.6,    -999,9,    -999,0.023,2,-999,9,-999,9,   41.46,2,-999,1, 20080209,     0704, -34.3247,  29.2871,    -999,-999,9,   0.0350,2,   0.1170,2,   0.0192,2,   0.0795,2,   0.0109,2,   0.0212,2,-999,9,   0.0024,2,   0.0209,2,  -0.0009,4,    -999,    -999