BOTTLE,20220706CCHSIOAMB
EXPOCODE,SECT_ID,STNNBR,CASTNO,SAMPNO,BTLNBR,BTLNBR_FLAG_W,DATE,TIME,LATITUDE,LONGITUDE,DEPTH,CTDPRS,CTDTMP,CTDSAL,CTDSAL_FLAG_W,SALNTY,SALNTY_FLAG_W,CTDOXY,CTDOXY_FLAG_W,OXYGEN,OXYGEN_FLAG_W,SILCAT,SILCAT_FLAG_W,NITRAT,NITRAT_FLAG_W,NITRIT,NITRIT_FLAG_W,PHSPHT,PHSPHT_FLAG_W,CFC-11,CFC-11_FLAG_W,CFC-12,CFC-12_FLAG_W,CFC113,CFC113_FLAG_W,TCARBN,TCARBN_FLAG_W,ALKALI,ALKALI_FLAG_W,PH_SWS,PH_SWS_FLAG_W,PH_TMP,TRITUM,TRITUM_FLAG_W,HELIUM,HELIUM_FLAG_W,DELHE3,DELHE3_FLAG_W,REFTMP,REFTMP_FLAG_W,DELC13,DELC13_FLAG_W,DELC14,DELC14_FLAG_W,C14ERR,NEON,NEON_FLAG_W,NEONER,CCL4,CCL4_FLAG_W,ALUMIN,ALUMIN_FLAG_W,DELO18,DELO18_FLAG_W,DOC,DOC_FLAG_W,TDN,TDN_FLAG_W,BTL_DATE,BTL_TIME,BTL_LAT,BTL_LON,TRITER,DELSI30,DELSI30_FLAG_W,CDOM380,CDOM380_FLAG_W,CDOM325,CDOM325_FLAG_W,CDOMSL,CDOMSL_FLAG_W,CDOM340,CDOM340_FLAG_W,CDOM443,CDOM443_FLAG_W,CDOMSN,CDOMSN_FLAG_W,BLACKC,BLACKC_FLAG_W,CDOM490,CDOM490_FLAG_W,CDOM412,CDOM412_FLAG_W,CDOM555,CDOM555_FLAG_W,DELHER,HELIER
,,,,,,,,,,,METERS,DBAR,ITS-90,PSS-78,,PSS-78,,UMOL/KG,,UMOL/KG,,UMOL/KG,,UMOL/KG,,UMOL/KG,,UMOL/KG,,PMOL/KG,,PMOL/KG,,PMOL/KG,,UMOL/KG,,UMOL/KG,,,,DEG C,TU,,NMOL/KG,,PERCNT,,DEG C,,/MILLE,,/MILLE,,/MILLE,NMOL/KG,,NMOL/KG,PMOL/KG,,NMOL/L,,/MILLE,,UMOL/KG,,UMOL/KG,,,,,,TU,/MILLE,,1/M,,1/M,,1/NM,,1/M,,1/M,,1/NM,,,,1/M,,1/M,,1/M,,PERCNT,NMOL/KG
33RR20080204,       I06S,      62,          1,         36,         36,2,20080225,       0235,   -57.9998,    30.0003,       5438,     3.5,   1.4118,  33.8833,2,  33.8850,2,    334.7,2,   336.3,2,   42.85,2,   25.85,2,    0.30,2,    1.75,2,   6.042,2,   3.343,2,   0.482,2,  2164.3,6,  2296.6,2,   7.9050,2,    13.00,    -999,9,    -999,9,    -999,9,1.4114,2,-999,9,-999,9,-999,    -999,9,    -999,6.402,2,-999,9,-0.33,2,    -999,9,-999,9, 20080225,     0448, -57.9999,  30.0000,    -999,-999,9,     -999,9,     -999,9,     -999,9,     -999,9,     -999,9,     -999,9,-999,9,     -999,9,     -999,9,     -999,9,    -999,    -999
33RR20080204,       I06S,      62,          1,         35,         35,9,20080225,       0235,   -57.9998,    30.0003,       5438,    18.9,   1.4116,  33.8831,2,     -999,9,     -999,9,    -999,9,    -999,9,    -999,9,    -999,9,    -999,9,    -999,9,    -999,9,    -999,9,    -999,9,    -999,9,     -999,9,     -999,    -999,9,    -999,9,    -999,9,1.4108,2,-999,9,-999,9,-999,    -999,9,    -999,-999,9,-999,9,-999,9,    -999,9,-999,9, 20080225,     0447, -57.9999,  30.0000,    -999,-999,9,     -999,9,     -999,9,     -999,9,     -999,9,     -999,9,     -999,9,-999,9,     -999,9,     -999,9,     -999,9,    -999,    -999
33RR20080204,       I06S,      62,          1,         34,         34,2,20080225,       0235,   -57.9998,    30.0003,       5438,    38.3,   1.4234,  33.8854,2,  33.8872,2,    336.5,2,   334.9,2,   42.65,2,   25.84,2,    0.30,2,    1.75,2,   6.053,2,   3.346,2,   0.478,2,  2163.8,2,  2296.6,2,   7.9050,2,    13.00,    -999,9,    -999,9,    -999,9,1.4281,2,-999,9,-999,9,-999,    -999,9,    -999,6.414,2,-999,9,-0.32,2,    -999,9,-999,9, 20080225,     0446, -58.0000,  30.0000,    -999,-999,9,     -999,9,     -999,9,     -999,9,     -999,9,     -999,9,     -999,9,-999,9,     -999,9,     -999,9,     -999,9,    -999,    -999
33RR20080204,       I06S,      62,          1,         33,         33,2,20080225,       0235,   -57.9998,    30.0003,       5438,    63.1,   1.4415,  33.8894,2,  33.8906,2,    336.1,2,   335.1,2,   42.28,2,   25.85,2,    0.30,2,    1.75,2,   5.971,2,   3.302,2,   0.498,2,  2164.4,2,  2296.1,2,   7.9060,2,    13.00,    -999,9,    -999,9,    -999,9,1.4389,2,-999,9,-999,9,-999,    -999,9,    -999,6.315,2,-999,9,-0.32,2,    -999,9,-999,9, 20080225,     0445, -58.0001,  30.0000,    -999,-999,9,     -999,9,     -999,9,     -999,9,     -999,9,     -999,9,     -999,9,-999,9,     -999,9,     -999,9,     -999,9,    -999,    -999
33RR20080204,       I06S,      62,          1,         32,         32,2,20080225,       0235,   -57.9998,    30.0003,       5438,    97.1,  -0.0922,  34.0900,2,  34.0939,2,    331.1,2,   330.3,2,   58.55,2,   28.79,2,    0.26,2,    2.04,2,   6.020,2,   3.327,2,   0.470,2,  2199.2,2,  2307.4,2,   7.8442,3,    13.00,    -999,9,    -999,9,    -999,9,-0.0909,2,-999,9,-999,9,-999,    -999,9,    -999,5.533,2,-999,9,-0.28,2,    -999,9,-999,9, 20080225,     0443, -58.0001,  30.0000,    -999,-999,9,     -999,9,     -999,9,     -999,9,     -999,9,     -999,9,     -999,9,-999,9,     -999,9,     -999,9,     -999,9,    -999,    -999
33RR20080204,       I06S,      62,          1,         31,         31,2,20080225,       0235,   -57.9998,    30.0003,       5438,   146.0,   0.3523,  34.2889,2,  34.2851,2,    282.7,2,   274.4,2,   69.44,2,   32.16,2,    0.02,2,    2.23,2,   4.382,2,   2.400,2,   0.345,2,  2226.5,2,  2318.3,2,   7.7830,4,    13.00,    -999,9,    -999,9,    -999,9,0.2835,3,-999,9,-999,9,-999,    -999,9,    -999,4.106,2,-999,9,-0.14,2,    -999,9,-999,9, 20080225,     0442, -58.0000,  30.0000,    -999,-999,9,     -999,9,     -999,9,     -999,9,     -999,9,     -999,9,     -999,9,-999,9,     -999,9,     -999,9,     -999,9,    -999,    -999
33RR20080204,       I06S,      62,          1,         30,         30,2,20080225,       0235,   -57.9998,    30.0003,       5438,   195.6,   1.5418,  34.4979,2,  34.4951,2,    219.4,2,   199.2,2,   77.34,2,   34.29,2,    0.01,2,    2.37,2,   1.887,2,   0.984,2,   0.141,2,  2254.1,2,  2330.1,2,   7.7408,3,    13.00,    -999,9,    -999,9,    -999,9,1.5407,2,-999,9,-999,9,-999,    -999,9,    -999,2.34,2,-999,9,-0.08,2,    -999,9,-999,9, 20080225,     0440, -58.0001,  30.0001,    -999,-999,1,     -999,9,     -999,9,     -999,9,     -999,9,     -999,9,     -999,9,-999,9,     -999,9,     -999,9,     -999,9,    -999,    -999
33RR20080204,       I06S,      62,          1,         29,         29,2,20080225,       0235,   -57.9998,    30.0003,       5438,   238.2,   1.5742,  34.5500,2,  34.5470,2,    198.0,2,   193.1,2,   81.50,2,   34.13,2,    0.01,2,    2.36,2,   1.491,2,   0.807,2,   0.116,2,  2255.2,2,  2334.0,2,   7.7419,3,    13.00,    -999,9,    -999,9,    -999,9,1.5729,2,-999,9,-999,9,-999,    -999,9,    -999,1.884,2,-999,9,-999,9,    -999,9,-999,9, 20080225,     0439, -58.0001,  30.0000,    -999,-999,9,     -999,9,     -999,9,     -999,9,     -999,9,     -999,9,     -999,9,-999,9,     -999,9,     -999,9,     -999,9,    -999,    -999
33RR20080204,       I06S,      62,          1,         28,         28,2,20080225,       0235,   -57.9998,    30.0003,       5438,   286.7,   1.4401,  34.5813,2,  34.5824,2,    192.7,2,   193.8,2,   85.66,2,   33.84,2,    0.01,2,    2.34,2,   1.379,2,   0.739,2,   0.107,2,  2260.3,2,  2339.5,2,   7.7455,2,    13.00,    -999,9,    -999,9,    -999,9,1.4374,2,-999,9,-999,9,-999,    -999,9,    -999,1.894,2,-999,9,0.01,2,    -999,9,-999,9, 20080225,     0437, -58.0001,  30.0000,    -999,-999,9,     -999,9,     -999,9,     -999,9,     -999,9,     -999,9,     -999,9,-999,9,     -999,9,     -999,9,     -999,9,    -999,    -999
33RR20080204,       I06S,      62,          1,         27,         27,2,20080225,       0235,   -57.9998,    30.0003,       5438,   335.9,   1.4504,  34.6206,2,  34.6197,2,    192.7,2,   192.2,2,   87.74,2,   33.41,2,    0.00,2,    2.31,2,   1.158,2,   0.612,2,   0.089,2,  2207.0,4,  2342.3,2,   7.7526,2,    13.00,    -999,9,    -999,9,    -999,9,1.4489,2,-999,9,-999,9,-999,    -999,9,    -999,1.531,2,-999,9,-999,9,    -999,9,-999,9, 20080225,     0435, -58.0000,  30.0000,    -999,-999,9,     -999,9,     -999,9,     -999,9,     -999,9,     -999,9,     -999,9,-999,9,     -999,9,     -999,9,     -999,9,    -999,    -999
33RR20080204,       I06S,      62,          1,         26,         26,2,20080225,       0235,   -57.9998,    30.0003,       5438,   388.2,   1.4632,  34.6478,2,  34.6441,2,    194.9,2,   191.6,2,   89.45,2,   33.06,2,    0.00,2,    2.28,2,   0.977,2,   0.522,2,   0.076,2,  2261.8,2,  2344.9,2,   7.7588,2,    13.00,    -999,9,    -999,9,    -999,9,1.4514,2,-999,9,-999,9,-999,    -999,9,    -999,1.388,2,-999,9,-0.08,2,    -999,9,-999,9, 20080225,     0434, -57.9999,  30.0000,    -999,-999,1,     -999,9,     -999,9,     -999,9,     -999,9,     -999,9,     -999,9,-999,9,     -999,9,     -999,9,     -999,9,    -999,    -999
33RR20080204,       I06S,      62,          1,         25,         25,2,20080225,       0235,   -57.9998,    30.0003,       5438,   435.9,   1.4832,  34.6686,2,  34.6702,2,    195.6,2,   190.8,2,   91.15,2,   32.77,2,    0.00,2,    2.26,2,   0.765,2,   0.419,2,   0.052,2,  2109.0,4,  2348.0,2,   7.7649,2,    13.00,    -999,9,    -999,9,    -999,9,1.4828,2,-999,9,-999,9,-999,    -999,9,    -999,1.161,2,-999,9,-999,9,    -999,9,-999,9, 20080225,     0432, -57.9999,  30.0001,    -999,-999,9,     -999,9,     -999,9,     -999,9,     -999,9,     -999,9,     -999,9,-999,9,     -999,9,     -999,9,     -999,9,    -999,    -999
33RR20080204,       I06S,      62,          1,         24,         24,2,20080225,       0235,   -57.9998,    30.0003,       5438,   468.2,   1.4487,  34.6795,2,  34.6810,2,    197.0,2,   193.7,2,   91.91,2,   32.38,2,    0.00,2,    2.25,2,   0.718,2,   0.381,2,   0.048,2,  1966.0,4,  2347.9,2,   7.7783,4,    13.00,    -999,9,    -999,9,    -999,9,1.4441,2,-999,9,-999,9,-999,    -999,9,    -999,1.202,2,-999,9,-999,9,    -999,9,-999,9, 20080225,     0431, -57.9998,  29.9999,    -999,-999,9,     -999,9,     -999,9,     -999,9,     -999,9,     -999,9,     -999,9,-999,9,     -999,9,     -999,9,     -999,9,    -999,    -999
33RR20080204,       I06S,      62,          1,         23,         23,2,20080225,       0235,   -57.9998,    30.0003,       5438,   568.1,   1.4555,  34.7047,2,  34.7088,2,    197.3,2,   194.8,2,   92.48,2,   31.75,2,    0.00,2,    2.20,2,   0.506,2,   0.273,2,   0.037,2,   779.0,4,  2350.0,2,   7.7854,3,    13.00,    -999,9,    -999,9,    -999,9,1.4588,2,-999,9,-999,9,-999,    -999,9,    -999,0.985,2,-999,9,-999,9,    -999,9,-999,9, 20080225,     0428, -57.9997,  30.0001,    -999,-999,1,     -999,9,     -999,9,     -999,9,     -999,9,     -999,9,     -999,9,-999,9,     -999,9,     -999,9,     -999,9,    -999,    -999
33RR20080204,       I06S,      62,          1,         22,         22,2,20080225,       0235,   -57.9998,    30.0003,       5438,   667.0,   1.2958,  34.7063,2,  34.7074,2,    198.1,2,   198.0,2,   97.04,2,   31.71,2,    0.00,2,    2.20,2,   0.496,2,   0.274,2,   0.024,2,  2257.7,2,  2351.1,2,   7.7849,3,    13.00,    -999,9,    -999,9,    -999,9,1.2959,2,-999,9,-999,9,-999,    -999,9,    -999,0.944,2,-999,9,-0.03,2,    -999,9,-999,9, 20080225,     0426, -57.9999,  30.0000,    -999,-999,9,     -999,9,     -999,9,     -999,9,     -999,9,     -999,9,     -999,9,-999,9,     -999,9,     -999,9,     -999,9,    -999,    -999
33RR20080204,       I06S,      62,          1,         21,         21,2,20080225,       0235,   -57.9998,    30.0003,       5438,   770.3,   1.3211,  34.7255,2,  34.7267,2,    200.3,2,   200.6,2,   97.22,2,   31.12,2,    0.00,2,    2.15,2,   0.334,2,   0.198,2,   0.021,2,  2253.8,2,  2353.1,2,   7.7979,3,    13.00,    -999,9,    -999,9,    -999,9,1.3211,2,-999,9,-999,9,-999,    -999,9,    -999,0.652,2,-999,9,-999,9,    -999,9,-999,9, 20080225,     0423, -58.0001,  30.0001,    -999,-999,1,     -999,9,     -999,9,     -999,9,     -999,9,     -999,9,     -999,9,-999,9,     -999,9,     -999,9,     -999,9,    -999,    -999
33RR20080204,       I06S,      62,          1,         20,         20,2,20080225,       0235,   -57.9998,    30.0003,       5438,   970.0,   1.1143,  34.7190,2,  34.7200,2,    202.2,2,   203.2,2,  102.55,2,   31.41,2,    0.00,2,    2.18,2,   0.320,2,   0.177,2,   0.024,2,  2256.3,2,  2354.8,2,   7.7961,2,    13.00,    -999,9,    -999,9,    -999,9,1.1141,2,-999,9,-999,9,-999,    -999,9,    -999,0.7,2,-999,9,-999,9,    -999,9,-999,9, 20080225,     0418, -58.0001,  30.0000,    -999,-999,1,     -999,9,     -999,9,     -999,9,     -999,9,     -999,9,     -999,9,-999,9,     -999,9,     -999,9,     -999,9,    -999,    -999
33RR20080204,       I06S,      62,          1,         19,         19,2,20080225,       0235,   -57.9998,    30.0003,       5438,  1169.6,   0.9154,  34.7107,2,  34.7118,2,    202.7,2,   204.9,2,  108.09,2,   31.84,2,    0.00,2,    2.21,2,   0.325,2,   0.191,2,   0.032,2,  2260.6,6,  2356.5,2,   7.7843,4,    13.00,    -999,9,    -999,9,    -999,9,0.9146,2,-999,9,-999,9,-999,    -999,9,    -999,0.985,2,-999,9,-999,9,    -999,9,-999,9, 20080225,     0413, -58.0003,  30.0001,    -999,-999,9,     -999,9,     -999,9,     -999,9,     -999,9,     -999,9,     -999,9,-999,9,     -999,9,     -999,9,     -999,9,    -999,    -999
33RR20080204,       I06S,      62,          1,         18,         18,2,20080225,       0235,   -57.9998,    30.0003,       5438,  1381.4,   0.7648,  34.7049,2,  34.7053,2,    204.3,2,   206.6,2,  113.06,2,   32.08,2,    0.00,2,    2.22,2,   0.299,2,   0.174,2,   0.022,2,    -999,9,  2356.3,2,     -999,9,     -999,    -999,9,    -999,9,    -999,9,0.7643,2,-999,9,-999,9,-999,    -999,9,    -999,0.947,2,-999,9,-0.03,2,    -999,9,-999,9, 20080225,     0408, -58.0000,  30.0000,    -999,-999,9,     -999,9,     -999,9,     -999,9,     -999,9,     -999,9,     -999,9,-999,9,     -999,9,     -999,9,     -999,9,    -999,    -999
33RR20080204,       I06S,      62,          1,         17,         17,2,20080225,       0235,   -57.9998,    30.0003,       5438,  1584.0,   0.6453,  34.7001,2,  34.7006,2,     -999,9,    -999,5,  116.89,2,   32.22,2,    0.00,2,    2.24,2,   0.274,2,   0.157,2,   0.015,2,    -999,9,    -999,9,     -999,9,     -999,    -999,9,    -999,9,    -999,9,0.645,2,-999,9,-999,9,-999,    -999,9,    -999,0.922,2,-999,9,-999,9,    -999,9,-999,9, 20080225,     0403, -57.9999,  30.0001,    -999,-999,9,     -999,9,     -999,9,     -999,9,     -999,9,     -999,9,     -999,9,-999,9,     -999,9,     -999,9,     -999,9,    -999,    -999
33RR20080204,       I06S,      62,          1,         16,         16,2,20080225,       0235,   -57.9998,    30.0003,       5438,  1786.4,   0.5464,  34.6943,2,  34.6947,2,    207.1,2,   209.4,2,  120.53,2,   32.46,2,    0.00,2,    2.26,2,   0.268,2,   0.149,2,   0.016,2,    -999,9,  2359.7,2,   7.7887,2,    13.00,    -999,9,    -999,9,    -999,9,0.546,2,-999,9,-999,9,-999,    -999,9,    -999,1.006,2,-999,9,-999,9,    -999,9,-999,9, 20080225,     0358, -57.9999,  30.0000,    -999,-999,9,     -999,9,     -999,9,     -999,9,     -999,9,     -999,9,     -999,9,-999,9,     -999,9,     -999,9,     -999,9,    -999,    -999
33RR20080204,       I06S,      62,          1,         15,         15,2,20080225,       0235,   -57.9998,    30.0003,       5438,  1986.6,   0.4330,  34.6883,2,  34.6881,2,    208.9,2,   210.5,2,  123.02,2,   32.75,2,    0.00,2,    2.27,2,   0.287,2,   0.171,2,   0.004,2,    -999,9,    -999,9,     -999,9,     -999,    -999,9,    -999,9,    -999,9,0.4327,2,-999,9,-999,9,-999,    -999,9,    -999,1.152,2,-999,9,-999,9,    -999,9,-999,9, 20080225,     0353, -58.0001,  30.0001,    -999,-999,9,     -999,9,     -999,9,     -999,9,     -999,9,     -999,9,     -999,9,-999,9,     -999,9,     -999,9,     -999,9,    -999,    -999
33RR20080204,       I06S,      62,          1,         14,         14,2,20080225,       0235,   -57.9998,    30.0003,       5438,  2279.7,   0.3000,  34.6812,2,  34.6814,2,    211.7,2,   214.0,2,  126.29,2,   32.89,2,    0.00,2,    2.29,2,   0.269,2,   0.156,2,   0.016,2,    -999,9,    -999,9,     -999,9,     -999,    -999,9,    -999,9,    -999,9,0.2996,2,-999,9,-999,9,-999,    -999,9,    -999,1.082,2,-999,9,-0.14,2,    -999,9,-999,9, 20080225,     0347, -58.0000,  29.9999,    -999,-999,9,     -999,9,     -999,9,     -999,9,     -999,9,     -999,9,     -999,9,-999,9,     -999,9,     -999,9,     -999,9,    -999,    -999
33RR20080204,       I06S,      62,          1,         13,         13,2,20080225,       0235,   -57.9998,    30.0003,       5438,  2597.6,   0.1795,  34.6760,2,  34.6757,2,    216.9,2,   218.4,2,  128.21,2,   32.84,2,    0.00,2,    2.28,2,   0.298,2,   0.164,2,   0.016,2,    -999,9,  2355.3,2,     -999,9,     -999,    -999,9,    -999,9,    -999,9,0.1803,2,-999,9,-999,9,-999,    -999,9,    -999,1.388,2,-999,9,-999,9,    -999,9,-999,9, 20080225,     0340, -57.9998,  30.0004,    -999,-999,9,     -999,9,     -999,9,     -999,9,     -999,9,     -999,9,     -999,9,-999,9,     -999,9,     -999,9,     -999,9,    -999,    -999
33RR20080204,       I06S,      62,          1,         12,         12,2,20080225,       0235,   -57.9998,    30.0003,       5438,  2898.6,   0.0660,  34.6703,2,  34.6704,2,    221.3,2,   223.7,2,  128.60,2,   32.79,2,    0.00,2,    2.28,2,   0.329,2,   0.193,2,   0.017,2,    -999,9,    -999,9,     -999,9,     -999,    -999,9,    -999,9,    -999,9,0.0661,2,-999,9,-999,9,-999,    -999,9,    -999,1.502,2,-999,9,-999,9,    -999,9,-999,9, 20080225,     0334, -58.0001,  30.0003,    -999,-999,9,     -999,9,     -999,9,     -999,9,     -999,9,     -999,9,     -999,9,-999,9,     -999,9,     -999,9,     -999,9,    -999,    -999
33RR20080204,       I06S,      62,          1,         11,         11,2,20080225,       0235,   -57.9998,    30.0003,       5438,  3202.0,  -0.0254,  34.6662,2,  34.6659,2,    225.9,2,   227.0,2,  128.21,2,   32.79,2,    0.00,2,    2.27,2,   0.342,2,   0.198,2,   0.015,2,    -999,9,    -999,9,     -999,9,     -999,    -999,9,    -999,9,    -999,9,-0.0252,2,-999,9,-999,9,-999,    -999,9,    -999,1.643,2,-999,9,-999,9,    -999,9,-999,9, 20080225,     0328, -57.9999,  30.0003,    -999,-999,9,     -999,9,     -999,9,     -999,9,     -999,9,     -999,9,     -999,9,-999,9,     -999,9,     -999,9,     -999,9,    -999,    -999
33RR20080204,       I06S,      62,          1,         10,         10,2,20080225,       0235,   -57.9998,    30.0003,       5438,  3518.3,  -0.0966,  34.6625,2,  34.6620,2,    230.5,2,   231.1,2,  128.22,2,   32.74,2,    0.00,2,    2.27,2,   0.359,2,   0.212,2,   0.013,2,    -999,9,  2355.3,2,   7.7891,2,    13.00,    -999,9,    -999,9,    -999,9,-0.0968,2,-999,9,-999,9,-999,    -999,9,    -999,1.64,2,-999,9,-0.26,2,    -999,9,-999,9, 20080225,     0322, -58.0000,  30.0003,    -999,-999,9,     -999,9,     -999,9,     -999,9,     -999,9,     -999,9,     -999,9,-999,9,     -999,9,     -999,9,     -999,9,    -999,    -999
33RR20080204,       I06S,      62,          1,          9,          9,2,20080225,       0235,   -57.9998,    30.0003,       5438,  3822.0,  -0.1388,  34.6603,2,  34.6600,2,    234.1,2,   234.6,2,  128.03,2,   32.60,2,    0.00,2,    2.26,2,   0.451,2,   0.266,2,   0.036,2,    -999,9,    -999,9,     -999,9,     -999,    -999,9,    -999,9,    -999,9,-0.139,2,-999,9,-999,9,-999,    -999,9,    -999,1.977,2,-999,9,-999,9,    -999,9,-999,9, 20080225,     0315, -58.0001,  30.0004,    -999,-999,9,     -999,9,     -999,9,     -999,9,     -999,9,     -999,9,     -999,9,-999,9,     -999,9,     -999,9,     -999,9,    -999,    -999
33RR20080204,       I06S,      62,          1,          8,          8,2,20080225,       0235,   -57.9998,    30.0003,       5438,  4129.4,  -0.1743,  34.6581,2,  34.6581,2,    237.2,2,   237.2,2,  128.41,2,   32.60,2,    0.00,2,    2.26,2,   0.412,2,   0.236,2,   0.023,2,    -999,9,    -999,9,     -999,9,     -999,    -999,9,    -999,9,    -999,9,-0.1749,2,-999,9,-999,9,-999,    -999,9,    -999,1.93,2,-999,9,-999,9,    -999,9,-999,9, 20080225,     0308, -57.9997,  30.0003,    -999,-999,9,     -999,9,     -999,9,     -999,9,     -999,9,     -999,9,     -999,9,-999,9,     -999,9,     -999,9,     -999,9,    -999,    -999