BOTTLE,20220706CCHSIOAMB
EXPOCODE,SECT_ID,STNNBR,CASTNO,SAMPNO,BTLNBR,BTLNBR_FLAG_W,DATE,TIME,LATITUDE,LONGITUDE,DEPTH,CTDPRS,CTDTMP,CTDSAL,CTDSAL_FLAG_W,SALNTY,SALNTY_FLAG_W,CTDOXY,CTDOXY_FLAG_W,OXYGEN,OXYGEN_FLAG_W,SILCAT,SILCAT_FLAG_W,NITRAT,NITRAT_FLAG_W,NITRIT,NITRIT_FLAG_W,PHSPHT,PHSPHT_FLAG_W,CFC-11,CFC-11_FLAG_W,CFC-12,CFC-12_FLAG_W,CFC113,CFC113_FLAG_W,TCARBN,TCARBN_FLAG_W,ALKALI,ALKALI_FLAG_W,PH_SWS,PH_SWS_FLAG_W,PH_TMP,TRITUM,TRITUM_FLAG_W,HELIUM,HELIUM_FLAG_W,DELHE3,DELHE3_FLAG_W,REFTMP,REFTMP_FLAG_W,DELC13,DELC13_FLAG_W,DELC14,DELC14_FLAG_W,C14ERR,NEON,NEON_FLAG_W,NEONER,CCL4,CCL4_FLAG_W,ALUMIN,ALUMIN_FLAG_W,DELO18,DELO18_FLAG_W,DOC,DOC_FLAG_W,TDN,TDN_FLAG_W,BTL_DATE,BTL_TIME,BTL_LAT,BTL_LON,TRITER,DELSI30,DELSI30_FLAG_W,CDOM380,CDOM380_FLAG_W,CDOM325,CDOM325_FLAG_W,CDOMSL,CDOMSL_FLAG_W,CDOM340,CDOM340_FLAG_W,CDOM443,CDOM443_FLAG_W,CDOMSN,CDOMSN_FLAG_W,BLACKC,BLACKC_FLAG_W,CDOM490,CDOM490_FLAG_W,CDOM412,CDOM412_FLAG_W,CDOM555,CDOM555_FLAG_W,DELHER,HELIER
,,,,,,,,,,,METERS,DBAR,ITS-90,PSS-78,,PSS-78,,UMOL/KG,,UMOL/KG,,UMOL/KG,,UMOL/KG,,UMOL/KG,,UMOL/KG,,PMOL/KG,,PMOL/KG,,PMOL/KG,,UMOL/KG,,UMOL/KG,,,,DEG C,TU,,NMOL/KG,,PERCNT,,DEG C,,/MILLE,,/MILLE,,/MILLE,NMOL/KG,,NMOL/KG,PMOL/KG,,NMOL/L,,/MILLE,,UMOL/KG,,UMOL/KG,,,,,,TU,/MILLE,,1/M,,1/M,,1/NM,,1/M,,1/M,,1/NM,,,,1/M,,1/M,,1/M,,PERCNT,NMOL/KG
33RR20080204,       I06S,       4,          1,         29,         29,2,20080206,       1457,   -33.2868,    28.1169,       1741,     9.5,  27.2462,  35.2987,2,  35.2982,2,    203.0,2,   202.7,2,    1.97,2,    0.03,2,    0.00,2,    0.09,2,   1.607,2,   1.013,2,   0.098,2,  1979.2,6,  2312.4,2,   8.1750,2,    20.00,   0.574,2,    -999,1,    -999,9,-999,9,-999,9,-999,9,-999,    -999,9,    -999,-999,5,-999,9,-999,9,    -999,9,-999,9, 20080206,     1641, -33.3171,  28.0680,   0.009,-999,9,     -999,9,     -999,9,     -999,9,     -999,9,     -999,9,     -999,9,-999,9,     -999,9,     -999,9,     -999,9,    -999,    -999
33RR20080204,       I06S,       4,          1,         28,         28,2,20080206,       1457,   -33.2868,    28.1169,       1741,    27.9,  27.0559,  35.2986,2,  35.2976,2,    204.2,2,   203.1,2,    1.96,2,    0.03,2,    0.00,2,    0.09,2,   1.607,2,   1.010,2,   0.088,2,  1980.4,2,  2312.3,2,   8.1740,2,    20.00,    -999,9,    -999,9,    -999,9,-999,9,-999,9,-999,9,-999,    -999,9,    -999,-999,5,-999,9,-999,9,    -999,9,-999,9, 20080206,     1639, -33.3159,  28.0702,    -999,-999,9,     -999,9,     -999,9,     -999,9,     -999,9,     -999,9,     -999,9,-999,9,     -999,9,     -999,9,     -999,9,    -999,    -999
33RR20080204,       I06S,       4,          1,         27,         27,2,20080206,       1457,   -33.2868,    28.1169,       1741,    50.2,  22.0306,  35.3591,2,  35.3593,2,    184.9,2,   194.5,2,    3.16,2,    1.35,2,    0.24,2,    0.25,2,   1.959,2,   1.209,2,   0.109,2,  2032.7,2,  2318.0,2,   8.1110,2,    20.00,    -999,9,    -999,9,    -999,9,-999,9,-999,9,-999,9,-999,    -999,9,    -999,-999,5,-999,9,-999,9,    -999,9,-999,9, 20080206,     1636, -33.3144,  28.0728,    -999,-999,9,     -999,9,     -999,9,     -999,9,     -999,9,     -999,9,     -999,9,-999,9,     -999,9,     -999,9,     -999,9,    -999,    -999
33RR20080204,       I06S,       4,          1,         26,         26,2,20080206,       1457,   -33.2868,    28.1169,       1741,    79.6,  19.5080,  35.3796,2,  35.3748,2,    154.8,2,   154.8,2,    7.15,2,    8.34,2,    0.03,2,    0.64,2,   2.050,2,   1.239,2,   0.043,2,  2086.3,2,  2318.9,2,   7.9870,2,    20.00,    -999,9,    -999,9,    -999,9,-999,9,-999,9,-999,9,-999,    -999,9,    -999,-999,5,-999,9,-999,9,    -999,9,-999,9, 20080206,     1633, -33.3126,  28.0761,    -999,-999,9,     -999,9,     -999,9,     -999,9,     -999,9,     -999,9,     -999,9,-999,9,     -999,9,     -999,9,     -999,9,    -999,    -999
33RR20080204,       I06S,       4,          1,         25,         25,2,20080206,       1457,   -33.2868,    28.1169,       1741,   100.5,  17.8036,  35.3708,2,  35.3867,2,    154.1,2,   154.4,2,    8.55,2,    9.77,2,    0.02,2,    0.74,2,   2.163,2,   1.260,2,   0.035,2,  2104.4,2,  2322.7,2,   7.9660,2,    20.00,   0.547,2,    -999,1,    -999,9,-999,9,-999,9,-999,9,-999,    -999,9,    -999,-999,5,-999,9,-999,9,    -999,9,-999,9, 20080206,     1631, -33.3115,  28.0779,   0.009,-999,9,     -999,9,     -999,9,     -999,9,     -999,9,     -999,9,     -999,9,-999,9,     -999,9,     -999,9,     -999,9,    -999,    -999
33RR20080204,       I06S,       4,          1,         24,         24,2,20080206,       1457,   -33.2868,    28.1169,       1741,   151.4,  15.2929,  35.3841,2,  35.3803,2,    175.1,2,   174.5,2,    8.55,2,   10.43,2,    0.01,2,    0.80,2,   2.464,2,   1.403,2,   0.038,2,  2121.2,2,  2323.5,2,   7.9380,2,    20.00,    -999,9,    -999,9,    -999,9,-999,9,-999,9,-999,9,-999,    -999,9,    -999,-999,5,-999,9,-999,9,    -999,9,-999,9, 20080206,     1628, -33.3104,  28.0798,    -999,-999,9,     -999,9,     -999,9,     -999,9,     -999,9,     -999,9,     -999,9,-999,9,     -999,9,     -999,9,     -999,9,    -999,    -999
33RR20080204,       I06S,       4,          1,         23,         23,2,20080206,       1457,   -33.2868,    28.1169,       1741,   201.3,  14.4969,  35.3606,2,  35.3610,2,    181.8,2,   188.4,2,    7.15,2,   10.03,2,    0.00,2,    0.77,2,   2.694,2,   1.505,2,   0.049,2,  2120.2,2,  2324.7,2,   7.9370,2,    20.00,    -999,9,    -999,1,    -999,9,-999,9,-999,9,-999,9,-999,    -999,9,    -999,-999,5,-999,9,-999,9,    -999,9,-999,9, 20080206,     1625, -33.3092,  28.0816,    -999,-999,9,     -999,9,     -999,9,     -999,9,     -999,9,     -999,9,     -999,9,-999,9,     -999,9,     -999,9,     -999,9,    -999,    -999
33RR20080204,       I06S,       4,          1,         22,         22,2,20080206,       1457,   -33.2868,    28.1169,       1741,   254.5,  13.2005,  35.2135,2,  35.2140,2,    187.2,2,   188.3,2,    8.54,2,   12.61,2,    0.01,2,    0.93,2,   2.766,2,   1.518,2,   0.052,2,  2129.5,2,  2317.0,2,   7.9050,2,    20.00,    -999,9,    -999,9,    -999,9,-999,9,-999,9,-999,9,-999,    -999,9,    -999,-999,5,-999,9,-999,9,    -999,9,-999,9, 20080206,     1621, -33.3076,  28.0843,    -999,-999,9,     -999,9,     -999,9,     -999,9,     -999,9,     -999,9,     -999,9,-999,9,     -999,9,     -999,9,     -999,9,    -999,    -999
33RR20080204,       I06S,       4,          1,         21,         21,2,20080206,       1457,   -33.2868,    28.1169,       1741,   305.1,  11.8374,  35.0679,2,  35.0693,2,    201.1,2,   200.0,2,    8.35,2,   14.14,2,    0.00,2,    1.03,2,   2.958,2,   1.589,2,   0.069,2,  2132.4,2,  2311.5,2,   7.8870,2,    20.00,   0.272,2,    -999,1,    -999,9,-999,9,-999,9,-999,9,-999,    -999,9,    -999,-999,5,-999,9,-999,9,    -999,9,-999,9, 20080206,     1617, -33.3060,  28.0868,   0.009,-999,9,     -999,9,     -999,9,     -999,9,     -999,9,     -999,9,     -999,9,-999,9,     -999,9,     -999,9,     -999,9,    -999,    -999
33RR20080204,       I06S,       4,          1,         20,         20,2,20080206,       1457,   -33.2868,    28.1169,       1741,   357.1,  11.1646,  34.9751,2,  34.9725,2,     -999,9,    -999,5,    6.34,2,   14.08,2,    0.01,2,    1.02,2,   3.196,2,   1.682,2,   0.091,2,  2126.1,2,  2305.9,2,   7.8940,2,    20.00,    -999,9,    -999,9,    -999,9,-999,9,-999,9,-999,9,-999,    -999,9,    -999,-999,5,-999,9,-999,9,    -999,9,-999,9, 20080206,     1613, -33.3045,  28.0892,    -999,-999,9,     -999,9,     -999,9,     -999,9,     -999,9,     -999,9,     -999,9,-999,9,     -999,9,     -999,9,     -999,9,    -999,    -999
33RR20080204,       I06S,       4,          1,         12,         12,2,20080206,       1457,   -33.2868,    28.1169,       1741,   406.2,  10.4535,  34.8806,2,  34.8812,2,    214.0,2,   212.5,2,    7.94,2,   15.90,2,    0.01,2,    1.13,2,   3.109,2,   1.618,2,   0.105,2,  2133.1,2,  2302.6,2,   7.8710,2,    20.00,   0.312,2,    -999,1,    -999,9,-999,9,-999,9,-999,9,-999,    -999,9,    -999,-999,5,-999,9,-999,9,    -999,9,-999,9, 20080206,     1610, -33.3033,  28.0911,   0.009,-999,9,     -999,9,     -999,9,     -999,9,     -999,9,     -999,9,     -999,9,-999,9,     -999,9,     -999,9,     -999,9,    -999,    -999
33RR20080204,       I06S,       4,          1,         11,         11,2,20080206,       1457,   -33.2868,    28.1169,       1741,   454.5,   9.5094,  34.7873,2,  34.7872,2,    205.4,2,   191.1,4,   14.57,2,   20.12,2,    0.01,2,    1.42,2,   2.566,2,   1.317,2,   0.083,2,    -999,9,  2302.6,2,   7.8200,2,    20.00,    -999,9,    -999,9,    -999,9,-999,9,-999,9,-999,9,-999,    -999,9,    -999,-999,5,-999,9,-999,9,    -999,9,-999,9, 20080206,     1605, -33.3016,  28.0939,    -999,-999,9,     -999,9,     -999,9,     -999,9,     -999,9,     -999,9,     -999,9,-999,9,     -999,9,     -999,9,     -999,9,    -999,    -999
33RR20080204,       I06S,       4,          1,         10,         10,2,20080206,       1457,   -33.2868,    28.1169,       1741,   455.9,   9.5096,  34.7875,2,  34.7876,2,    204.1,2,   203.1,2,   14.76,2,   20.02,2,    0.00,2,    1.42,2,   2.572,2,   1.320,2,   0.083,2,  2154.1,2,  2302.5,2,   7.8200,2,    20.00,   0.230,2,   1.796,2,    2.19,2,-999,9,-999,9,-999,9,-999,   7.547,2,   0.029,-999,5,-999,9,-999,9,    -999,9,-999,9, 20080206,     1604, -33.3015,  28.0941,   0.009,-999,9,     -999,9,     -999,9,     -999,9,     -999,9,     -999,9,     -999,9,-999,9,     -999,9,     -999,9,     -999,9,    0.15,   0.007
33RR20080204,       I06S,       4,          1,          9,          9,2,20080206,       1457,   -33.2868,    28.1169,       1741,   607.2,   7.7892,  34.6269,2,  34.6268,2,    185.4,2,   187.0,2,   22.45,2,   24.41,2,    0.00,2,    1.70,2,   2.011,2,   1.014,2,   0.078,2,  2172.7,2,  2301.7,2,   7.7740,2,    20.00,   0.158,2,   1.786,2,    3.09,2,-999,9,-999,9,-999,9,-999,   7.524,2,   0.029,-999,5,-999,9,-999,9,    -999,9,-999,9, 20080206,     1556, -33.2991,  28.0980,   0.009,-999,9,     -999,9,     -999,9,     -999,9,     -999,9,     -999,9,     -999,9,-999,9,     -999,9,     -999,9,     -999,9,    0.15,   0.007
33RR20080204,       I06S,       4,          1,          7,          7,2,20080206,       1457,   -33.2868,    28.1169,       1741,   706.9,   6.5994,  34.5924,2,  34.5922,2,    166.1,2,   166.1,2,   36.27,2,   28.77,2,    0.00,2,    2.02,2,   1.311,2,   0.690,2,   0.064,2,  2202.1,2,  2311.6,2,   7.7180,2,    20.00,   0.098,2,   1.806,2,    4.90,2,-999,9,-999,9,-999,9,-999,   7.632,2,   0.029,-999,5,-999,9,-999,9,    -999,9,-999,9, 20080206,     1551, -33.2974,  28.1006,   0.009,-999,9,     -999,9,     -999,9,     -999,9,     -999,9,     -999,9,     -999,9,-999,9,     -999,9,     -999,9,     -999,9,    0.15,   0.007
33RR20080204,       I06S,       4,          1,          8,          8,2,20080206,       1457,   -33.2868,    28.1169,       1741,   707.2,   6.5925,  34.5923,2,  34.5922,2,    166.1,2,   166.0,2,   36.27,2,   28.78,2,    0.00,2,    2.02,2,   1.303,2,   0.670,2,   0.065,2,    -999,9,  2311.5,2,   7.7170,2,    20.00,    -999,9,    -999,9,    -999,9,-999,9,-999,9,-999,9,-999,    -999,9,    -999,-999,5,-999,9,-999,9,    -999,9,-999,9, 20080206,     1552, -33.2978,  28.1000,    -999,-999,9,     -999,9,     -999,9,     -999,9,     -999,9,     -999,9,     -999,9,-999,9,     -999,9,     -999,9,     -999,9,    -999,    -999
33RR20080204,       I06S,       4,          1,          6,          6,2,20080206,       1457,   -33.2868,    28.1169,       1741,   904.8,   5.0967,  34.5845,2,  34.5836,2,    154.6,2,   152.9,2,   54.29,2,   32.42,2,    0.00,2,    2.29,2,   0.721,2,   0.381,2,   0.043,2,  2233.3,2,  2326.2,2,   7.6690,2,    20.00,    -999,9,    -999,9,    -999,9,-999,9,-999,9,-999,9,-999,    -999,9,    -999,-999,5,-999,9,-999,9,    -999,9,-999,9, 20080206,     1539, -33.2940,  28.1058,    -999,-999,9,     -999,9,     -999,9,     -999,9,     -999,9,     -999,9,     -999,9,-999,9,     -999,9,     -999,9,     -999,9,    -999,    -999
33RR20080204,       I06S,       4,          1,          5,          5,2,20080206,       1457,   -33.2868,    28.1169,       1741,  1162.2,   3.4229,  34.6479,2,  34.6476,2,    158.3,2,   158.0,2,   74.08,2,   33.46,2,    0.00,2,    2.35,2,   0.205,6,   0.115,6,   0.011,6,  2254.9,2,  2344.5,2,   7.6580,2,    20.00,  -0.002,6,    -999,1,    -999,9,-999,9,-999,9,-999,9,-999,    -999,9,    -999,-999,5,-999,9,-999,9,    -999,9,-999,9, 20080206,     1530, -33.2926,  28.1077,   0.006,-999,9,     -999,9,     -999,9,     -999,9,     -999,9,     -999,9,     -999,9,-999,9,     -999,9,     -999,9,     -999,9,    -999,    -999
33RR20080204,       I06S,       4,          1,          4,          4,2,20080206,       1457,   -33.2868,    28.1169,       1741,  1223.3,   3.1549,  34.6788,2,  34.6791,2,    163.2,2,   163.8,2,   75.73,2,   32.67,2,    0.00,2,    2.29,2,   0.132,2,   0.075,2,   0.007,2,    -999,9,  2347.1,2,   7.6670,2,    20.00,    -999,9,    -999,9,    -999,9,-999,9,-999,9,-999,9,-999,    -999,9,    -999,-999,5,-999,9,-999,9,    -999,9,-999,9, 20080206,     1524, -33.2917,  28.1091,    -999,-999,9,     -999,9,     -999,9,     -999,9,     -999,9,     -999,9,     -999,9,-999,9,     -999,9,     -999,9,     -999,9,    -999,    -999
33RR20080204,       I06S,       4,          1,          3,          3,2,20080206,       1457,   -33.2868,    28.1169,       1741,  1223.5,   3.1542,  34.6788,2,  34.6785,2,    163.2,2,   163.9,2,   75.93,2,   32.67,2,    0.00,2,    2.30,2,   0.132,2,   0.074,2,   0.008,2,  2254.4,2,  2344.7,2,   7.6660,2,    20.00,  -0.012,2,   1.873,2,    8.83,2,-999,9,-999,9,-999,9,-999,   8.010,2,   0.030,-999,5,-999,9,-999,9,    -999,9,-999,9, 20080206,     1524, -33.2916,  28.1091,   0.009,-999,9,     -999,9,     -999,9,     -999,9,     -999,9,     -999,9,     -999,9,-999,9,     -999,9,     -999,9,     -999,9,    0.15,   0.007
33RR20080204,       I06S,       4,          1,          2,          2,2,20080206,       1457,   -33.2868,    28.1169,       1741,  1401.5,   2.9272,  34.7056,2,  34.7121,2,    171.7,2,   175.1,2,   74.07,2,   31.48,2,    0.00,2,    2.21,2,   0.093,2,   0.051,2,   0.007,2,  2247.9,2,  2347.6,2,   7.6830,2,    20.00,  -0.006,2,   1.904,2,    8.50,2,-999,9,-999,9,-999,9,-999,   8.150,2,   0.031,-999,5,-999,9,-999,9,    -999,9,-999,9, 20080206,     1517, -33.2908,  28.1105,   0.009,-999,9,     -999,9,     -999,9,     -999,9,     -999,9,     -999,9,     -999,9,-999,9,     -999,9,     -999,9,     -999,9,    0.15,   0.007
33RR20080204,       I06S,       4,          1,          1,          1,2,20080206,       1457,   -33.2868,    28.1169,       1741,  1529.3,   2.8220,  34.7219,2,  34.7207,2,    178.4,2,   178.2,2,   73.46,2,   31.22,2,    0.00,2,    2.17,2,   0.074,2,   0.033,2,   0.000,2,  2246.2,6,  2348.0,2,   7.6860,2,    20.00,  -0.006,2,   1.821,2,    8.55,2,-999,9,-999,9,-999,9,-999,   7.785,2,   0.030,-999,5,-999,9,-999,9,    -999,9,-999,9, 20080206,     1511, -33.2899,  28.1118,   0.009,-999,9,     -999,9,     -999,9,     -999,9,     -999,9,     -999,9,     -999,9,-999,9,     -999,9,     -999,9,     -999,9,    0.15,   0.007