BOTTLE,20220706CCHSIOAMB
EXPOCODE,SECT_ID,STNNBR,CASTNO,SAMPNO,BTLNBR,BTLNBR_FLAG_W,DATE,TIME,LATITUDE,LONGITUDE,DEPTH,CTDPRS,CTDTMP,CTDSAL,CTDSAL_FLAG_W,SALNTY,SALNTY_FLAG_W,CTDOXY,CTDOXY_FLAG_W,OXYGEN,OXYGEN_FLAG_W,SILCAT,SILCAT_FLAG_W,NITRAT,NITRAT_FLAG_W,NITRIT,NITRIT_FLAG_W,PHSPHT,PHSPHT_FLAG_W,CFC-11,CFC-11_FLAG_W,CFC-12,CFC-12_FLAG_W,CFC113,CFC113_FLAG_W,TCARBN,TCARBN_FLAG_W,ALKALI,ALKALI_FLAG_W,PH_SWS,PH_SWS_FLAG_W,PH_TMP,TRITUM,TRITUM_FLAG_W,HELIUM,HELIUM_FLAG_W,DELHE3,DELHE3_FLAG_W,REFTMP,REFTMP_FLAG_W,DELC13,DELC13_FLAG_W,DELC14,DELC14_FLAG_W,C14ERR,NEON,NEON_FLAG_W,NEONER,CCL4,CCL4_FLAG_W,ALUMIN,ALUMIN_FLAG_W,DELO18,DELO18_FLAG_W,DOC,DOC_FLAG_W,TDN,TDN_FLAG_W,BTL_DATE,BTL_TIME,BTL_LAT,BTL_LON,TRITER,DELSI30,DELSI30_FLAG_W,CDOM380,CDOM380_FLAG_W,CDOM325,CDOM325_FLAG_W,CDOMSL,CDOMSL_FLAG_W,CDOM340,CDOM340_FLAG_W,CDOM443,CDOM443_FLAG_W,CDOMSN,CDOMSN_FLAG_W,BLACKC,BLACKC_FLAG_W,CDOM490,CDOM490_FLAG_W,CDOM412,CDOM412_FLAG_W,CDOM555,CDOM555_FLAG_W,DELHER,HELIER
,,,,,,,,,,,METERS,DBAR,ITS-90,PSS-78,,PSS-78,,UMOL/KG,,UMOL/KG,,UMOL/KG,,UMOL/KG,,UMOL/KG,,UMOL/KG,,PMOL/KG,,PMOL/KG,,PMOL/KG,,UMOL/KG,,UMOL/KG,,,,DEG C,TU,,NMOL/KG,,PERCNT,,DEG C,,/MILLE,,/MILLE,,/MILLE,NMOL/KG,,NMOL/KG,PMOL/KG,,NMOL/L,,/MILLE,,UMOL/KG,,UMOL/KG,,,,,,TU,/MILLE,,1/M,,1/M,,1/NM,,1/M,,1/M,,1/NM,,,,1/M,,1/M,,1/M,,PERCNT,NMOL/KG
33RR20080204,       I06S,      44,          1,          6,          6,2,20080219,       0112,   -48.9986,    30.0021,       4109,  2594.0,   1.3599,  34.7428,2,  34.7693,4,    208.0,2,   207.1,2,   98.25,2,   30.10,2,    0.00,2,    2.09,2,   0.143,2,   0.079,2,   0.021,2,    -999,9,    -999,9,     -999,9,     -999,    -999,9,   1.852,2,    8.83,2,1.3601,2,-999,9,-999,9,-999,   7.984,2,   0.030,0.455,2,-999,9,-999,9,    -999,9,-999,9, 20080219,     0146, -48.9985,  30.0020,    -999,-999,9,     -999,9,     -999,9,     -999,9,     -999,9,     -999,9,     -999,9,-999,9,     -999,9,     -999,9,     -999,9,    0.15,   0.007
33RR20080204,       I06S,      44,          1,          5,          5,2,20080219,       0112,   -48.9986,    30.0021,       4109,  2899.7,   1.0875,  34.7246,2,  34.7246,2,    209.1,2,   208.6,2,  107.01,2,   30.84,2,    0.00,2,    2.14,2,   0.180,2,   0.104,2,   0.030,2,    -999,9,  2356.8,2,     -999,9,     -999,  -0.008,6,   1.876,2,    8.86,2,1.0873,2,-999,9,-999,9,-999,   8.026,2,   0.030,0.65,2,-999,9,-999,9,    -999,9,-999,9, 20080219,     0139, -48.9985,  30.0020,   0.006,-999,9,     -999,9,     -999,9,     -999,9,     -999,9,     -999,9,     -999,9,-999,9,     -999,9,     -999,9,     -999,9,    0.15,   0.007
33RR20080204,       I06S,      44,          1,          4,          4,2,20080219,       0112,   -48.9986,    30.0021,       4109,  3202.4,   0.8914,  34.7132,2,  34.7120,2,    210.9,2,   210.9,2,  112.95,2,   31.30,2,    0.00,2,    2.17,2,   0.191,2,   0.102,2,   0.017,2,    -999,9,    -999,9,     -999,9,     -999,   0.002,2,   1.877,2,    8.36,2,0.8912,2,-999,9,-999,9,-999,   8.080,2,   0.031,0.587,2,-999,9,-999,9,    -999,9,-999,9, 20080219,     0133, -48.9986,  30.0020,   0.009,-999,9,     -999,9,     -999,9,     -999,9,     -999,9,     -999,9,     -999,9,-999,9,     -999,9,     -999,9,     -999,9,    0.15,   0.007
33RR20080204,       I06S,      44,          1,          3,          3,2,20080219,       0112,   -48.9986,    30.0021,       4109,  3508.8,   0.7060,  34.6984,2,  34.6983,2,    211.8,2,   211.2,2,  119.85,2,   31.89,2,    0.00,2,    2.21,2,   0.237,2,   0.127,2,   0.017,2,    -999,9,  2359.0,2,     -999,9,     -999,   0.004,2,   1.891,2,    8.30,2,0.7052,2,-999,9,-999,9,-999,   8.083,2,   0.031,0.63,2,-999,9,-999,9,    -999,9,-999,9, 20080219,     0127, -48.9988,  30.0019,   0.009,-999,9,     -999,9,     -999,9,     -999,9,     -999,9,     -999,9,     -999,9,-999,9,     -999,9,     -999,9,     -999,9,    0.15,   0.007
33RR20080204,       I06S,      44,          1,          2,          2,2,20080219,       0112,   -48.9986,    30.0021,       4109,  3813.9,   0.5736,  34.6919,2,  34.6915,2,    215.1,2,   215.2,2,  123.31,2,   32.05,2,    0.00,2,    2.23,2,   0.243,2,   0.133,2,   0.014,2,    -999,9,  2360.3,2,     -999,9,     -999,  -0.003,2,   1.896,2,    7.77,2,0.5736,2,-999,9,-999,9,-999,   8.185,2,   0.031,0.687,2,-999,9,-999,9,    -999,9,-999,9, 20080219,     0120, -48.9988,  30.0020,   0.009,-999,9,     -999,9,     -999,9,     -999,9,     -999,9,     -999,9,     -999,9,-999,9,     -999,9,     -999,9,     -999,9,    0.15,   0.007
33RR20080204,       I06S,      44,          1,          1,          1,2,20080219,       0112,   -48.9986,    30.0021,       4109,  4136.8,   0.4771,  34.6858,2,  34.6850,2,    218.1,2,   218.5,2,  125.23,2,   32.19,2,    0.00,2,    2.23,2,   0.272,2,   0.139,2,   0.022,2,    -999,9,  2359.1,2,     -999,9,     -999,  -0.001,2,   1.882,2,    7.08,2,0.4775,2,-999,9,-999,9,-999,   8.118,2,   0.031,0.692,2,-999,9,-999,9,    -999,9,-999,9, 20080219,     0113, -48.9986,  30.0021,   0.009,-999,9,     -999,9,     -999,9,     -999,9,     -999,9,     -999,9,     -999,9,-999,9,     -999,9,     -999,9,     -999,9,    0.15,   0.007