BOTTLE,20220706CCHSIOAMB
EXPOCODE,SECT_ID,STNNBR,CASTNO,SAMPNO,BTLNBR,BTLNBR_FLAG_W,DATE,TIME,LATITUDE,LONGITUDE,DEPTH,CTDPRS,CTDTMP,CTDSAL,CTDSAL_FLAG_W,SALNTY,SALNTY_FLAG_W,CTDOXY,CTDOXY_FLAG_W,OXYGEN,OXYGEN_FLAG_W,SILCAT,SILCAT_FLAG_W,NITRAT,NITRAT_FLAG_W,NITRIT,NITRIT_FLAG_W,PHSPHT,PHSPHT_FLAG_W,CFC-11,CFC-11_FLAG_W,CFC-12,CFC-12_FLAG_W,CFC113,CFC113_FLAG_W,TCARBN,TCARBN_FLAG_W,ALKALI,ALKALI_FLAG_W,PH_SWS,PH_SWS_FLAG_W,PH_TMP,TRITUM,TRITUM_FLAG_W,HELIUM,HELIUM_FLAG_W,DELHE3,DELHE3_FLAG_W,REFTMP,REFTMP_FLAG_W,DELC13,DELC13_FLAG_W,DELC14,DELC14_FLAG_W,C14ERR,NEON,NEON_FLAG_W,NEONER,CCL4,CCL4_FLAG_W,ALUMIN,ALUMIN_FLAG_W,DELO18,DELO18_FLAG_W,DOC,DOC_FLAG_W,TDN,TDN_FLAG_W,BTL_DATE,BTL_TIME,BTL_LAT,BTL_LON,TRITER,DELSI30,DELSI30_FLAG_W,CDOM380,CDOM380_FLAG_W,CDOM325,CDOM325_FLAG_W,CDOMSL,CDOMSL_FLAG_W,CDOM340,CDOM340_FLAG_W,CDOM443,CDOM443_FLAG_W,CDOMSN,CDOMSN_FLAG_W,BLACKC,BLACKC_FLAG_W,CDOM490,CDOM490_FLAG_W,CDOM412,CDOM412_FLAG_W,CDOM555,CDOM555_FLAG_W,DELHER,HELIER
,,,,,,,,,,,METERS,DBAR,ITS-90,PSS-78,,PSS-78,,UMOL/KG,,UMOL/KG,,UMOL/KG,,UMOL/KG,,UMOL/KG,,UMOL/KG,,PMOL/KG,,PMOL/KG,,PMOL/KG,,UMOL/KG,,UMOL/KG,,,,DEG C,TU,,NMOL/KG,,PERCNT,,DEG C,,/MILLE,,/MILLE,,/MILLE,NMOL/KG,,NMOL/KG,PMOL/KG,,NMOL/L,,/MILLE,,UMOL/KG,,UMOL/KG,,,,,,TU,/MILLE,,1/M,,1/M,,1/NM,,1/M,,1/M,,1/NM,,,,1/M,,1/M,,1/M,,PERCNT,NMOL/KG
33RR20080204,       I06S,      35,          1,          7,          7,2,20080216,       0623,   -44.5000,    30.0000,       5338,  4130.3,   0.8402,  34.7048,2,     -999,5,    212.4,2,   212.1,2,  117.63,2,   31.90,2,    0.00,2,    2.20,2,   0.210,2,   0.111,2,   0.015,2,    -999,9,  2362.7,2,   7.8002,2,    13.00,    -999,9,    -999,9,    -999,9,0.8406,2,-999,9,-999,9,-999,    -999,9,    -999,0.895,2,-999,9,-999,9,    -999,9,-999,9, 20080216,     0653, -44.5000,  30.0000,    -999,-999,9,     -999,9,     -999,9,     -999,9,     -999,9,     -999,9,     -999,9,-999,9,     -999,9,     -999,9,     -999,9,    -999,    -999
33RR20080204,       I06S,      35,          1,          6,          6,2,20080216,       0623,   -44.5000,    30.0000,       5338,  4433.4,   0.6242,  34.6886,2,     -999,5,    213.8,2,   213.9,2,  125.83,2,   32.57,2,    0.00,2,    2.25,2,   0.270,2,   0.145,2,   0.019,2,    -999,9,  2360.2,2,   7.7918,2,    13.00,    -999,9,    -999,9,    -999,9,0.6242,2,-999,9,-999,9,-999,    -999,9,    -999,1.104,2,-999,9,-999,9,   50.54,4,-999,1, 20080216,     0646, -44.5000,  30.0000,    -999,-999,9,   0.0307,2,   0.1094,2,   0.0191,2,   0.0705,2,   0.0098,2,   0.0222,2,-999,9,   0.0014,2,   0.0191,2,  -0.0014,4,    -999,    -999
33RR20080204,       I06S,      35,          1,          5,          5,2,20080216,       0623,   -44.5000,    30.0000,       5338,  4638.4,   0.5446,  34.6851,2,     -999,5,    215.8,2,   216.4,2,  127.73,2,   32.58,2,    0.00,2,    2.25,2,   0.256,2,   0.136,2,   0.012,2,    -999,9,  2362.6,2,   7.7924,2,    13.00,    -999,9,    -999,9,    -999,9,0.5449,2,-999,9,-999,9,-999,    -999,9,    -999,1.196,2,-999,9,-999,9,    -999,9,-999,9, 20080216,     0641, -44.5000,  30.0000,    -999,-999,9,     -999,9,     -999,9,     -999,9,     -999,9,     -999,9,     -999,9,-999,9,     -999,9,     -999,9,     -999,9,    -999,    -999
33RR20080204,       I06S,      35,          1,          4,          4,2,20080216,       0623,   -44.5000,    30.0000,       5338,  4847.3,   0.4396,  34.6807,2,     -999,5,    220.3,2,   220.4,2,  128.29,2,   32.48,2,    0.00,2,    2.25,2,   0.267,2,   0.145,2,   0.012,2,    -999,9,  2359.9,2,   7.7954,2,    13.00,    -999,9,    -999,9,    -999,9,0.4385,2,-999,9,-999,9,-999,    -999,9,    -999,1.288,2,-999,9,-999,9,    -999,9,-999,9, 20080216,     0637, -44.4999,  30.0000,    -999,-999,9,     -999,9,     -999,9,     -999,9,     -999,9,     -999,9,     -999,9,-999,9,     -999,9,     -999,9,     -999,9,    -999,    -999
33RR20080204,       I06S,      35,          1,          3,          3,2,20080216,       0623,   -44.5000,    30.0000,       5338,  5053.2,   0.3240,  34.6736,2,     -999,5,    223.4,2,   223.3,2,  130.39,2,   32.64,2,    0.00,2,    2.26,2,   0.329,2,   0.175,2,   0.031,2,  2260.9,2,  2359.2,2,   7.7933,4,    13.00,    -999,9,    -999,9,    -999,9,0.325,2,-999,9,-999,9,-999,    -999,9,    -999,1.52,2,-999,9,-999,9,   38.54,2,-999,1, 20080216,     0632, -44.5000,  30.0000,    -999,-999,9,   0.0317,2,   0.1065,2,   0.0179,2,   0.0690,2,   0.0110,2,   0.0209,3,-999,9,   0.0021,2,   0.0204,2,  -0.0010,4,    -999,    -999
33RR20080204,       I06S,      35,          1,          2,          2,2,20080216,       0623,   -44.5000,    30.0000,       5338,  5256.1,   0.2652,  34.6692,2,     -999,5,    225.5,2,   225.7,2,  130.93,2,   32.63,2,    0.00,2,    2.26,2,   0.371,2,   0.199,2,   0.031,2,    -999,9,  2356.2,2,   7.7910,3,    13.00,    -999,9,    -999,9,    -999,9,0.2654,2,-999,9,-999,9,-999,    -999,9,    -999,1.616,2,-999,9,-999,9,    -999,9,-999,9, 20080216,     0628, -44.5000,  30.0000,    -999,-999,9,     -999,9,     -999,9,     -999,9,     -999,9,     -999,9,     -999,9,-999,9,     -999,9,     -999,9,     -999,9,    -999,    -999
33RR20080204,       I06S,      35,          1,          1,          1,2,20080216,       0623,   -44.5000,    30.0000,       5338,  5413.7,   0.2049,  34.6657,2,     -999,5,    227.7,2,   228.2,2,  131.50,2,   32.69,2,    0.00,2,    2.26,2,   0.424,2,   0.223,2,   0.075,2,  2259.7,2,  2358.6,2,   7.7938,2,    13.00,    -999,9,    -999,9,    -999,9,0.2033,2,-999,9,-999,9,-999,    -999,9,    -999,1.7,2,-999,9,-999,9,   38.44,2,-999,1, 20080216,     0624, -44.5000,  30.0000,    -999,-999,9,   0.0315,2,   0.1070,2,   0.0183,2,   0.0696,2,   0.0104,2,   0.0212,2,-999,9,   0.0013,2,   0.0201,2,  -0.0015,4,    -999,    -999