BOTTLE,20220706CCHSIOAMB
EXPOCODE,SECT_ID,STNNBR,CASTNO,SAMPNO,BTLNBR,BTLNBR_FLAG_W,DATE,TIME,LATITUDE,LONGITUDE,DEPTH,CTDPRS,CTDTMP,CTDSAL,CTDSAL_FLAG_W,SALNTY,SALNTY_FLAG_W,CTDOXY,CTDOXY_FLAG_W,OXYGEN,OXYGEN_FLAG_W,SILCAT,SILCAT_FLAG_W,NITRAT,NITRAT_FLAG_W,NITRIT,NITRIT_FLAG_W,PHSPHT,PHSPHT_FLAG_W,CFC-11,CFC-11_FLAG_W,CFC-12,CFC-12_FLAG_W,CFC113,CFC113_FLAG_W,TCARBN,TCARBN_FLAG_W,ALKALI,ALKALI_FLAG_W,PH_SWS,PH_SWS_FLAG_W,PH_TMP,TRITUM,TRITUM_FLAG_W,HELIUM,HELIUM_FLAG_W,DELHE3,DELHE3_FLAG_W,REFTMP,REFTMP_FLAG_W,DELC13,DELC13_FLAG_W,DELC14,DELC14_FLAG_W,C14ERR,NEON,NEON_FLAG_W,NEONER,CCL4,CCL4_FLAG_W,ALUMIN,ALUMIN_FLAG_W,DELO18,DELO18_FLAG_W,DOC,DOC_FLAG_W,TDN,TDN_FLAG_W,BTL_DATE,BTL_TIME,BTL_LAT,BTL_LON,TRITER,DELSI30,DELSI30_FLAG_W,CDOM380,CDOM380_FLAG_W,CDOM325,CDOM325_FLAG_W,CDOMSL,CDOMSL_FLAG_W,CDOM340,CDOM340_FLAG_W,CDOM443,CDOM443_FLAG_W,CDOMSN,CDOMSN_FLAG_W,BLACKC,BLACKC_FLAG_W,CDOM490,CDOM490_FLAG_W,CDOM412,CDOM412_FLAG_W,CDOM555,CDOM555_FLAG_W,DELHER,HELIER
,,,,,,,,,,,METERS,DBAR,ITS-90,PSS-78,,PSS-78,,UMOL/KG,,UMOL/KG,,UMOL/KG,,UMOL/KG,,UMOL/KG,,UMOL/KG,,PMOL/KG,,PMOL/KG,,PMOL/KG,,UMOL/KG,,UMOL/KG,,,,DEG C,TU,,NMOL/KG,,PERCNT,,DEG C,,/MILLE,,/MILLE,,/MILLE,NMOL/KG,,NMOL/KG,PMOL/KG,,NMOL/L,,/MILLE,,UMOL/KG,,UMOL/KG,,,,,,TU,/MILLE,,1/M,,1/M,,1/NM,,1/M,,1/M,,1/NM,,,,1/M,,1/M,,1/M,,PERCNT,NMOL/KG
33RR20080204,       I06S,      38,          1,         36,         36,2,20080217,       0615,   -46.0000,    30.0000,       5022,     3.8,   8.3601,  33.9068,2,  33.9072,2,    293.3,2,   293.7,2,    0.98,2,   17.28,2,    0.24,2,    1.26,2,   4.216,2,   2.379,2,   0.446,2,  2097.8,6,  2268.9,2,   8.0071,2,    13.00,    -999,9,    -999,9,    -999,9,-999,9,-999,9,-999,9,-999,    -999,9,    -999,4.62,2,-999,9,-999,9,    -999,9,-999,9, 20080217,     0818, -46.0001,  29.9999,    -999,-999,9,     -999,9,     -999,9,     -999,9,     -999,9,     -999,9,     -999,9,-999,9,     -999,9,     -999,9,     -999,9,    -999,    -999
33RR20080204,       I06S,      38,          1,         35,         35,2,20080217,       0615,   -46.0000,    30.0000,       5022,    21.7,   8.3441,  33.9060,2,  33.9070,2,    294.7,2,   293.0,2,    0.98,2,   17.28,2,    0.24,2,    1.26,2,   4.200,2,   2.373,2,   0.418,2,  2097.2,2,  2269.9,2,   8.0069,2,    13.00,    -999,9,    -999,9,    -999,9,-999,9,-999,9,-999,9,-999,    -999,9,    -999,4.501,2,-999,9,-999,9,    -999,9,-999,9, 20080217,     0817, -46.0002,  29.9999,    -999,-999,9,     -999,9,     -999,9,     -999,9,     -999,9,     -999,9,     -999,9,-999,9,     -999,9,     -999,9,     -999,9,    -999,    -999
33RR20080204,       I06S,      38,          1,         34,         34,2,20080217,       0615,   -46.0000,    30.0000,       5022,    38.1,   7.9872,  33.9194,2,  33.9195,2,    295.6,2,   295.4,2,    0.97,2,   17.23,2,    0.24,2,    1.25,2,   4.278,2,   2.401,2,   0.417,2,  2098.3,2,  2269.4,2,   8.0066,2,    13.00,    -999,9,    -999,9,    -999,9,-999,9,-999,9,-999,9,-999,    -999,9,    -999,4.475,2,-999,9,-999,9,    -999,9,-999,9, 20080217,     0816, -46.0002,  29.9999,    -999,-999,9,     -999,9,     -999,9,     -999,9,     -999,9,     -999,9,     -999,9,-999,9,     -999,9,     -999,9,     -999,9,    -999,    -999
33RR20080204,       I06S,      38,          1,         33,         33,2,20080217,       0615,   -46.0000,    30.0000,       5022,    68.3,   7.7604,  34.0444,2,  34.0419,2,    294.8,2,   290.8,2,    1.87,2,   17.14,2,    0.32,2,    1.26,2,   4.254,6,   2.433,6,   0.400,6,  2106.0,2,  2274.1,2,   7.9980,2,    13.00,    -999,9,    -999,9,    -999,9,-999,9,-999,9,-999,9,-999,    -999,9,    -999,4.285,6,-999,9,-999,9,    -999,9,-999,9, 20080217,     0814, -46.0002,  29.9999,    -999,-999,9,     -999,9,     -999,9,     -999,9,     -999,9,     -999,9,     -999,9,-999,9,     -999,9,     -999,9,     -999,9,    -999,    -999
33RR20080204,       I06S,      38,          1,         32,         32,2,20080217,       0615,   -46.0000,    30.0000,       5022,    88.2,   7.2322,  34.2143,2,  34.2130,2,    280.6,2,   270.7,2,    4.25,2,   17.84,2,    0.37,2,    1.33,2,   4.334,2,   2.443,2,   0.407,2,  2119.6,2,  2276.0,2,   7.9683,2,    13.00,    -999,9,    -999,9,    -999,9,-999,9,-999,9,-999,9,-999,    -999,9,    -999,4.332,2,-999,9,-999,9,    -999,9,-999,9, 20080217,     0813, -46.0002,  29.9999,    -999,-999,9,     -999,9,     -999,9,     -999,9,     -999,9,     -999,9,     -999,9,-999,9,     -999,9,     -999,9,     -999,9,    -999,    -999
33RR20080204,       I06S,      38,          1,         31,         31,2,20080217,       0615,   -46.0000,    30.0000,       5022,   149.0,   7.7038,  34.3594,2,  34.3596,2,    262.7,2,   265.1,2,    5.52,2,   18.04,2,    0.03,2,    1.30,2,   4.000,2,   2.290,2,   0.361,2,  2125.3,2,  2281.9,2,   7.9644,2,    13.00,    -999,9,    -999,9,    -999,9,-999,9,-999,9,-999,9,-999,    -999,9,    -999,3.761,2,-999,9,-999,9,    -999,9,-999,9, 20080217,     0811, -46.0002,  29.9999,    -999,-999,9,     -999,9,     -999,9,     -999,9,     -999,9,     -999,9,     -999,9,-999,9,     -999,9,     -999,9,     -999,9,    -999,    -999
33RR20080204,       I06S,      38,          1,         30,         30,2,20080217,       0615,   -46.0000,    30.0000,       5022,   197.8,   6.9049,  34.2728,2,  34.3590,4,    266.8,2,   265.2,2,    5.52,2,   18.09,2,    0.02,2,    1.30,2,   3.999,2,   2.287,2,   0.373,2,  2125.9,2,  2280.7,2,   7.9649,2,    13.00,    -999,9,    -999,9,    -999,9,-999,9,-999,9,-999,9,-999,    -999,9,    -999,3.865,2,-999,9,-999,9,    -999,9,-999,9, 20080217,     0808, -46.0001,  29.9999,    -999,-999,9,     -999,9,     -999,9,     -999,9,     -999,9,     -999,9,     -999,9,-999,9,     -999,9,     -999,9,     -999,9,    -999,    -999
33RR20080204,       I06S,      38,          1,         29,         29,2,20080217,       0615,   -46.0000,    30.0000,       5022,   238.5,   6.0493,  34.2130,2,  34.2095,2,    260.4,2,   264.6,2,    7.72,2,   21.78,2,    0.02,2,    1.52,2,   4.210,2,   2.357,2,   0.388,2,  2138.8,2,  2277.0,2,   7.9215,2,    13.00,    -999,9,    -999,9,    -999,9,-999,9,-999,9,-999,9,-999,    -999,9,    -999,3.887,2,-999,9,-999,9,    -999,9,-999,9, 20080217,     0807, -46.0000,  29.9999,    -999,-999,9,     -999,9,     -999,9,     -999,9,     -999,9,     -999,9,     -999,9,-999,9,     -999,9,     -999,9,     -999,9,    -999,    -999
33RR20080204,       I06S,      38,          1,         28,         28,2,20080217,       0615,   -46.0000,    30.0000,       5022,   286.9,   5.5366,  34.2429,2,  34.2434,2,    248.1,2,   250.7,2,    9.92,2,   24.74,2,    0.01,2,    1.70,2,   4.207,2,   2.323,2,   0.368,2,  2153.2,2,  2276.4,2,   7.8807,2,    13.00,    -999,9,    -999,9,    -999,9,-999,9,-999,9,-999,9,-999,    -999,9,    -999,3.589,2,-999,9,-999,9,    -999,9,-999,9, 20080217,     0804, -45.9999,  30.0000,    -999,-999,9,     -999,9,     -999,9,     -999,9,     -999,9,     -999,9,     -999,9,-999,9,     -999,9,     -999,9,     -999,9,    -999,    -999
33RR20080204,       I06S,      38,          1,         27,         27,2,20080217,       0615,   -46.0000,    30.0000,       5022,   337.8,   5.5566,  34.2973,2,  34.2971,2,    230.1,2,   232.1,2,   14.70,2,   26.34,2,    0.00,2,    1.81,2,   3.720,2,   1.984,2,   0.327,2,  2165.1,2,  2283.2,2,   7.8642,2,    13.00,    -999,9,    -999,9,    -999,9,-999,9,-999,9,-999,9,-999,    -999,9,    -999,3.369,2,-999,9,-999,9,    -999,9,-999,9, 20080217,     0801, -45.9999,  30.0000,    -999,-999,9,     -999,9,     -999,9,     -999,9,     -999,9,     -999,9,     -999,9,-999,9,     -999,9,     -999,9,     -999,9,    -999,    -999
33RR20080204,       I06S,      38,          1,         26,         26,2,20080217,       0615,   -46.0000,    30.0000,       5022,   387.0,   5.0618,  34.2660,2,  34.2675,2,    239.9,2,   234.7,2,   16.53,2,   27.19,2,    0.00,2,    1.86,2,   3.693,2,   2.000,2,   0.350,2,  2167.5,2,  2283.3,2,   7.8555,2,    13.00,    -999,9,    -999,9,    -999,9,-999,9,-999,9,-999,9,-999,    -999,9,    -999,3.085,2,-999,9,-999,9,    -999,9,-999,9, 20080217,     0759, -46.0000,  29.9999,    -999,-999,9,     -999,9,     -999,9,     -999,9,     -999,9,     -999,9,     -999,9,-999,9,     -999,9,     -999,9,     -999,9,    -999,    -999
33RR20080204,       I06S,      38,          1,         25,         25,2,20080217,       0615,   -46.0000,    30.0000,       5022,   438.8,   4.3757,  34.2085,2,  34.2071,2,    248.2,2,   246.3,2,   18.01,2,   27.85,2,    0.00,2,    1.91,2,   3.897,2,   2.094,2,   0.348,2,  2168.0,2,  2282.0,2,   7.8531,2,    13.00,    -999,9,    -999,9,    -999,9,-999,9,-999,9,-999,9,-999,    -999,9,    -999,4.125,2,-999,9,-999,9,    -999,9,-999,9, 20080217,     0757, -46.0000,  29.9999,    -999,-999,9,     -999,9,     -999,9,     -999,9,     -999,9,     -999,9,     -999,9,-999,9,     -999,9,     -999,9,     -999,9,    -999,    -999
33RR20080204,       I06S,      38,          1,         24,         24,2,20080217,       0615,   -46.0000,    30.0000,       5022,   489.5,   4.1405,  34.2136,2,  34.2135,2,    246.1,2,   243.2,2,   20.59,2,   28.55,2,    0.00,2,    1.96,2,   3.658,2,   1.929,2,   0.317,2,  2173.1,2,  2284.2,2,   7.8447,2,    13.00,    -999,9,    -999,9,    -999,9,-999,9,-999,9,-999,9,-999,    -999,9,    -999,3.99,2,-999,9,-999,9,    -999,9,-999,9, 20080217,     0755, -46.0000,  30.0000,    -999,-999,9,     -999,9,     -999,9,     -999,9,     -999,9,     -999,9,     -999,9,-999,9,     -999,9,     -999,9,     -999,9,    -999,    -999
33RR20080204,       I06S,      38,          1,         23,         23,2,20080217,       0615,   -46.0000,    30.0000,       5022,   568.4,   3.6571,  34.2067,2,  34.2073,2,    236.2,2,   241.3,2,   24.65,2,   29.61,2,    0.00,2,    2.03,2,   3.474,2,   1.839,2,   0.295,2,  2180.3,2,  2287.4,2,   7.8318,2,    13.00,    -999,9,    -999,9,    -999,9,-999,9,-999,9,-999,9,-999,    -999,9,    -999,3.943,2,-999,9,-999,9,    -999,9,-999,9, 20080217,     0752, -45.9999,  30.0000,    -999,-999,9,     -999,9,     -999,9,     -999,9,     -999,9,     -999,9,     -999,9,-999,9,     -999,9,     -999,9,     -999,9,    -999,    -999
33RR20080204,       I06S,      38,          1,         22,         22,2,20080217,       0615,   -46.0000,    30.0000,       5022,   669.6,   3.3679,  34.2363,2,  34.2364,2,    230.3,2,   232.1,2,   30.93,2,   30.77,2,    0.00,2,    2.12,2,   3.076,2,   1.607,2,   0.262,2,  2191.0,2,  2291.5,2,   7.8146,2,    13.00,    -999,9,    -999,9,    -999,9,-999,9,-999,9,-999,9,-999,    -999,9,    -999,3.698,2,-999,9,-999,9,    -999,9,-999,9, 20080217,     0749, -46.0000,  29.9999,    -999,-999,9,     -999,9,     -999,9,     -999,9,     -999,9,     -999,9,     -999,9,-999,9,     -999,9,     -999,9,     -999,9,    -999,    -999
33RR20080204,       I06S,      38,          1,         21,         21,2,20080217,       0615,   -46.0000,    30.0000,       5022,   770.1,   3.0146,  34.2646,2,  34.2636,2,    220.8,2,   221.4,2,   37.81,2,   32.03,2,    0.00,2,    2.21,2,   2.649,2,   1.383,2,   0.220,2,  2205.4,2,  2297.2,2,   7.7932,2,    13.00,    -999,9,    -999,9,    -999,9,-999,9,-999,9,-999,9,-999,    -999,9,    -999,3.332,2,-999,9,-999,9,    -999,9,-999,9, 20080217,     0746, -46.0000,  30.0000,    -999,-999,9,     -999,9,     -999,9,     -999,9,     -999,9,     -999,9,     -999,9,-999,9,     -999,9,     -999,9,     -999,9,    -999,    -999
33RR20080204,       I06S,      38,          1,         20,         20,2,20080217,       0615,   -46.0000,    30.0000,       5022,   870.6,   3.2443,  34.3811,2,  34.3807,2,    196.7,2,   195.7,2,   47.84,2,   32.98,2,    0.00,2,    2.28,2,   1.577,2,   0.785,2,   0.107,2,  2218.6,2,  2309.6,2,   7.7781,2,    13.00,    -999,9,    -999,9,    -999,9,-999,9,-999,9,-999,9,-999,    -999,9,    -999,2.488,2,-999,9,-999,9,    -999,9,-999,9, 20080217,     0744, -45.9999,  30.0000,    -999,-999,9,     -999,9,     -999,9,     -999,9,     -999,9,     -999,9,     -999,9,-999,9,     -999,9,     -999,9,     -999,9,    -999,    -999
33RR20080204,       I06S,      38,          1,         19,         19,2,20080217,       0615,   -46.0000,    30.0000,       5022,   969.9,   3.0979,  34.4361,2,  34.4382,2,    187.6,2,   186.0,2,   54.74,2,   33.48,2,    0.00,2,    2.31,2,   1.117,2,   0.562,2,   0.068,2,  2229.0,6,  2317.4,2,   7.7666,2,    13.00,    -999,9,    -999,9,    -999,9,-999,9,-999,9,-999,9,-999,    -999,9,    -999,2.237,2,-999,9,-999,9,    -999,9,-999,9, 20080217,     0741, -45.9999,  30.0000,    -999,-999,9,     -999,9,     -999,9,     -999,9,     -999,9,     -999,9,     -999,9,-999,9,     -999,9,     -999,9,     -999,9,    -999,    -999
33RR20080204,       I06S,      38,          1,         18,         18,2,20080217,       0615,   -46.0000,    30.0000,       5022,  1070.2,   2.8028,  34.4628,2,  34.4617,2,    182.8,2,   183.0,2,   59.60,2,   33.89,2,    0.00,2,    2.34,2,   1.001,2,   0.504,2,   0.099,2,    -999,9,  2320.9,2,     -999,9,     -999,    -999,9,    -999,9,    -999,9,-999,9,-999,9,-999,9,-999,    -999,9,    -999,2.243,2,-999,9,-999,9,    -999,9,-999,9, 20080217,     0738, -45.9999,  30.0000,    -999,-999,9,     -999,9,     -999,9,     -999,9,     -999,9,     -999,9,     -999,9,-999,9,     -999,9,     -999,9,     -999,9,    -999,    -999
33RR20080204,       I06S,      38,          1,         17,         17,2,20080217,       0615,   -46.0000,    30.0000,       5022,  1183.0,   2.7603,  34.5301,2,  34.5300,2,    178.6,2,   177.6,2,   63.91,2,   33.73,2,    0.00,2,    2.32,2,   0.821,2,   0.435,2,   0.079,2,    -999,9,    -999,9,     -999,9,     -999,    -999,9,    -999,9,    -999,9,-999,9,-999,9,-999,9,-999,    -999,9,    -999,1.716,2,-999,9,-999,9,    -999,9,-999,9, 20080217,     0735, -46.0001,  29.9999,    -999,-999,9,     -999,9,     -999,9,     -999,9,     -999,9,     -999,9,     -999,9,-999,9,     -999,9,     -999,9,     -999,9,    -999,    -999
33RR20080204,       I06S,      38,          1,         15,         15,2,20080217,       0615,   -46.0000,    30.0000,       5022,  1382.4,   2.6559,  34.6232,2,  34.6223,2,    177.5,2,   177.3,2,   68.22,2,   32.71,2,    0.00,2,    2.25,2,   0.486,2,   0.278,2,   0.039,2,    -999,9,  2335.5,2,     -999,9,     -999,    -999,9,    -999,9,    -999,9,-999,9,-999,9,-999,9,-999,    -999,9,    -999,1.234,2,-999,9,-999,9,    -999,9,-999,9, 20080217,     0730, -46.0000,  30.0000,    -999,-999,9,     -999,9,     -999,9,     -999,9,     -999,9,     -999,9,     -999,9,-999,9,     -999,9,     -999,9,     -999,9,    -999,    -999
33RR20080204,       I06S,      38,          1,         14,         14,2,20080217,       0615,   -46.0000,    30.0000,       5022,  1584.7,   2.6567,  34.7038,2,  34.7032,2,    185.4,2,   186.2,2,   66.90,2,   30.79,2,    0.00,2,    2.12,2,   0.144,2,   0.088,2,   0.025,2,    -999,9,    -999,9,     -999,9,     -999,    -999,9,    -999,9,    -999,9,-999,9,-999,9,-999,9,-999,    -999,9,    -999,0.792,2,-999,9,-999,9,    -999,9,-999,9, 20080217,     0726, -45.9999,  30.0001,    -999,-999,9,     -999,9,     -999,9,     -999,9,     -999,9,     -999,9,     -999,9,-999,9,     -999,9,     -999,9,     -999,9,    -999,    -999
33RR20080204,       I06S,      38,          1,         13,         13,2,20080217,       0615,   -46.0000,    30.0000,       5022,  1785.7,   2.5976,  34.7500,2,  34.7492,2,    193.9,2,   194.4,2,   65.77,2,   29.42,2,    0.00,2,    2.02,2,   0.098,2,   0.060,2,   0.053,2,    -999,9,  2338.4,2,     -999,9,     -999,    -999,9,    -999,9,    -999,9,-999,9,-999,9,-999,9,-999,    -999,9,    -999,0.936,2,-999,9,-999,9,    -999,9,-999,9, 20080217,     0722, -45.9999,  30.0000,    -999,-999,9,     -999,9,     -999,9,     -999,9,     -999,9,     -999,9,     -999,9,-999,9,     -999,9,     -999,9,     -999,9,    -999,    -999
33RR20080204,       I06S,      38,          1,         12,         12,2,20080217,       0615,   -46.0000,    30.0000,       5022,  1989.0,   2.5122,  34.7792,2,  34.7782,2,    201.8,2,   202.4,2,   65.20,2,   28.42,2,    0.00,2,    1.94,2,   0.069,2,   0.043,2,   0.007,2,    -999,9,    -999,9,     -999,9,     -999,    -999,9,    -999,9,    -999,9,-999,9,-999,9,-999,9,-999,    -999,9,    -999,0.585,2,-999,9,-999,9,    -999,9,-999,9, 20080217,     0717, -46.0000,  29.9999,    -999,-999,9,     -999,9,     -999,9,     -999,9,     -999,9,     -999,9,     -999,9,-999,9,     -999,9,     -999,9,     -999,9,    -999,    -999
33RR20080204,       I06S,      38,          1,         11,         11,2,20080217,       0615,   -46.0000,    30.0000,       5022,  2281.8,   2.3285,  34.7960,2,  34.7947,2,    208.4,2,   208.5,2,   67.64,2,   27.76,2,    0.00,2,    1.89,2,   0.067,2,   0.039,2,   0.000,2,    -999,9,    -999,9,     -999,9,     -999,    -999,9,    -999,9,    -999,9,-999,9,-999,9,-999,9,-999,    -999,9,    -999,0.658,2,-999,9,-999,9,    -999,9,-999,9, 20080217,     0712, -45.9999,  30.0000,    -999,-999,9,     -999,9,     -999,9,     -999,9,     -999,9,     -999,9,     -999,9,-999,9,     -999,9,     -999,9,     -999,9,    -999,    -999
33RR20080204,       I06S,      38,          1,         10,         10,2,20080217,       0615,   -46.0000,    30.0000,       5022,  2585.6,   2.1046,  34.7961,2,  34.7959,2,    212.4,2,   212.0,2,   72.90,2,   27.75,2,    0.00,2,    1.89,2,   0.060,2,   0.032,2,   0.009,2,    -999,9,  2347.2,2,     -999,9,     -999,    -999,9,    -999,9,    -999,9,-999,9,-999,9,-999,9,-999,    -999,9,    -999,0.664,2,-999,9,-999,9,    -999,9,-999,9, 20080217,     0706, -45.9999,  30.0000,    -999,-999,9,     -999,9,     -999,9,     -999,9,     -999,9,     -999,9,     -999,9,-999,9,     -999,9,     -999,9,     -999,9,    -999,    -999
33RR20080204,       I06S,      38,          1,          9,          9,2,20080217,       0615,   -46.0000,    30.0000,       5022,  2896.6,   1.8586,  34.7843,2,  34.7833,2,    212.7,2,   212.7,2,   80.80,2,   28.41,2,    0.00,2,    1.94,2,   0.072,2,   0.044,2,   0.024,2,    -999,9,    -999,9,     -999,9,     -999,    -999,9,    -999,9,    -999,9,-999,9,-999,9,-999,9,-999,    -999,9,    -999,0.719,2,-999,9,-999,9,    -999,9,-999,9, 20080217,     0700, -46.0002,  29.9999,    -999,-999,9,     -999,9,     -999,9,     -999,9,     -999,9,     -999,9,     -999,9,-999,9,     -999,9,     -999,9,     -999,9,    -999,    -999
33RR20080204,       I06S,      38,          1,          8,          8,2,20080217,       0615,   -46.0000,    30.0000,       5022,  3202.2,   1.5656,  34.7690,2,  34.7685,2,    214.4,2,   214.3,2,   89.66,2,   29.01,2,    0.00,2,    1.99,2,   0.073,2,   0.042,2,   0.000,2,    -999,9,    -999,9,     -999,9,     -999,    -999,9,    -999,9,    -999,9,-999,9,-999,9,-999,9,-999,    -999,9,    -999,0.791,2,-999,9,-999,9,    -999,9,-999,9, 20080217,     0653, -45.9999,  30.0000,    -999,-999,9,     -999,9,     -999,9,     -999,9,     -999,9,     -999,9,     -999,9,-999,9,     -999,9,     -999,9,     -999,9,    -999,    -999
33RR20080204,       I06S,      38,          1,          7,          7,2,20080217,       0615,   -46.0000,    30.0000,       5022,  3508.1,   1.2436,  34.7409,2,  34.7394,2,    212.4,2,   213.0,2,  101.38,2,   30.27,2,    0.00,2,    2.09,2,   0.109,2,   0.062,2,   0.015,2,    -999,9,  2358.5,2,     -999,9,     -999,    -999,9,    -999,9,    -999,9,-999,9,-999,9,-999,9,-999,    -999,9,    -999,0.979,2,-999,9,-999,9,    -999,9,-999,9, 20080217,     0648, -46.0000,  30.0000,    -999,-999,9,     -999,9,     -999,9,     -999,9,     -999,9,     -999,9,     -999,9,-999,9,     -999,9,     -999,9,     -999,9,    -999,    -999