BOTTLE,20220706CCHSIOAMB
EXPOCODE,SECT_ID,STNNBR,CASTNO,SAMPNO,BTLNBR,BTLNBR_FLAG_W,DATE,TIME,LATITUDE,LONGITUDE,DEPTH,CTDPRS,CTDTMP,CTDSAL,CTDSAL_FLAG_W,SALNTY,SALNTY_FLAG_W,CTDOXY,CTDOXY_FLAG_W,OXYGEN,OXYGEN_FLAG_W,SILCAT,SILCAT_FLAG_W,NITRAT,NITRAT_FLAG_W,NITRIT,NITRIT_FLAG_W,PHSPHT,PHSPHT_FLAG_W,CFC-11,CFC-11_FLAG_W,CFC-12,CFC-12_FLAG_W,CFC113,CFC113_FLAG_W,TCARBN,TCARBN_FLAG_W,ALKALI,ALKALI_FLAG_W,PH_SWS,PH_SWS_FLAG_W,PH_TMP,TRITUM,TRITUM_FLAG_W,HELIUM,HELIUM_FLAG_W,DELHE3,DELHE3_FLAG_W,REFTMP,REFTMP_FLAG_W,DELC13,DELC13_FLAG_W,DELC14,DELC14_FLAG_W,C14ERR,NEON,NEON_FLAG_W,NEONER,CCL4,CCL4_FLAG_W,ALUMIN,ALUMIN_FLAG_W,DELO18,DELO18_FLAG_W,DOC,DOC_FLAG_W,TDN,TDN_FLAG_W,BTL_DATE,BTL_TIME,BTL_LAT,BTL_LON,TRITER,DELSI30,DELSI30_FLAG_W,CDOM380,CDOM380_FLAG_W,CDOM325,CDOM325_FLAG_W,CDOMSL,CDOMSL_FLAG_W,CDOM340,CDOM340_FLAG_W,CDOM443,CDOM443_FLAG_W,CDOMSN,CDOMSN_FLAG_W,BLACKC,BLACKC_FLAG_W,CDOM490,CDOM490_FLAG_W,CDOM412,CDOM412_FLAG_W,CDOM555,CDOM555_FLAG_W,DELHER,HELIER
,,,,,,,,,,,METERS,DBAR,ITS-90,PSS-78,,PSS-78,,UMOL/KG,,UMOL/KG,,UMOL/KG,,UMOL/KG,,UMOL/KG,,UMOL/KG,,PMOL/KG,,PMOL/KG,,PMOL/KG,,UMOL/KG,,UMOL/KG,,,,DEG C,TU,,NMOL/KG,,PERCNT,,DEG C,,/MILLE,,/MILLE,,/MILLE,NMOL/KG,,NMOL/KG,PMOL/KG,,NMOL/L,,/MILLE,,UMOL/KG,,UMOL/KG,,,,,,TU,/MILLE,,1/M,,1/M,,1/NM,,1/M,,1/M,,1/NM,,,,1/M,,1/M,,1/M,,PERCNT,NMOL/KG
33RR20080204,       I06S,      62,          1,          7,          7,2,20080225,       0235,   -57.9998,    30.0003,       5438,  4433.6,  -0.2048,  34.6563,2,  34.6563,2,    239.8,2,   239.6,2,  128.61,2,   32.54,2,    0.00,2,    2.26,2,   0.432,2,   0.247,2,   0.026,2,    -999,9,  2353.2,2,     -999,9,     -999,    -999,9,    -999,9,    -999,9,-0.205,2,-999,9,-999,9,-999,    -999,9,    -999,2.077,2,-999,9,-999,9,    -999,9,-999,9, 20080225,     0302, -57.9999,  30.0003,    -999,-999,9,     -999,9,     -999,9,     -999,9,     -999,9,     -999,9,     -999,9,-999,9,     -999,9,     -999,9,     -999,9,    -999,    -999
33RR20080204,       I06S,      62,          1,          6,          6,2,20080225,       0235,   -57.9998,    30.0003,       5438,  4649.1,  -0.2251,  34.6551,2,  34.6550,2,    241.4,2,   241.1,2,  130.34,2,   32.49,2,    0.00,2,    2.26,2,   0.426,2,   0.254,2,   0.035,2,    -999,9,    -999,9,     -999,9,     -999,    -999,9,    -999,9,    -999,9,-0.2247,2,-999,9,-999,9,-999,    -999,9,    -999,2.115,2,-999,9,-0.23,2,    -999,9,-999,9, 20080225,     0258, -58.0000,  30.0004,    -999,-999,9,     -999,9,     -999,9,     -999,9,     -999,9,     -999,9,     -999,9,-999,9,     -999,9,     -999,9,     -999,9,    -999,    -999
33RR20080204,       I06S,      62,          1,          5,          5,2,20080225,       0235,   -57.9998,    30.0003,       5438,  4853.1,  -0.2304,  34.6539,2,  34.6544,2,    242.8,2,   242.4,2,  130.53,2,   32.54,2,    0.00,2,    2.26,2,   0.427,2,   0.260,2,   0.031,2,    -999,9,  2359.9,2,   7.7997,2,    13.00,    -999,9,    -999,9,    -999,9,-0.2305,2,-999,9,-999,9,-999,    -999,9,    -999,2.059,2,-999,9,-999,9,    -999,9,-999,9, 20080225,     0253, -58.0000,  30.0003,    -999,-999,9,     -999,9,     -999,9,     -999,9,     -999,9,     -999,9,     -999,9,-999,9,     -999,9,     -999,9,     -999,9,    -999,    -999
33RR20080204,       I06S,      62,          1,          4,          4,2,20080225,       0235,   -57.9998,    30.0003,       5438,  5057.2,  -0.2374,  34.6524,2,  34.6532,2,    243.9,2,   243.7,2,  131.12,2,   32.49,2,    0.00,2,    2.26,2,   0.441,2,   0.265,2,   0.029,2,    -999,9,    -999,9,     -999,9,     -999,    -999,9,    -999,9,    -999,9,-0.2376,2,-999,9,-999,9,-999,    -999,9,    -999,2.259,2,-999,9,-999,9,    -999,9,-999,9, 20080225,     0248, -57.9999,  30.0003,    -999,-999,9,     -999,9,     -999,9,     -999,9,     -999,9,     -999,9,     -999,9,-999,9,     -999,9,     -999,9,     -999,9,    -999,    -999
33RR20080204,       I06S,      62,          1,          3,          3,2,20080225,       0235,   -57.9998,    30.0003,       5438,  5262.9,  -0.2412,  34.6515,2,  34.6523,2,    244.9,2,   243.9,2,  131.70,2,   32.44,2,    0.00,2,    2.26,2,   0.467,2,   0.273,2,   0.029,2,    -999,9,  2353.4,2,     -999,9,     -999,    -999,9,    -999,9,    -999,9,-0.241,2,-999,9,-999,9,-999,    -999,9,    -999,2.531,2,-999,9,-999,9,    -999,9,-999,9, 20080225,     0243, -58.0000,  30.0003,    -999,-999,9,     -999,9,     -999,9,     -999,9,     -999,9,     -999,9,     -999,9,-999,9,     -999,9,     -999,9,     -999,9,    -999,    -999
33RR20080204,       I06S,      62,          1,          2,          2,2,20080225,       0235,   -57.9998,    30.0003,       5438,  5325.1,  -0.2407,  34.6515,2,  34.6517,2,    245.3,2,   244.4,2,  131.70,2,   32.48,2,    0.00,2,    2.26,2,   0.473,2,   0.270,2,   0.041,2,    -999,9,  2351.7,2,     -999,9,     -999,    -999,9,    -999,9,    -999,9,-0.2403,2,-999,9,-999,9,-999,    -999,9,    -999,2.627,2,-999,9,-999,9,    -999,9,-999,9, 20080225,     0240, -57.9999,  30.0003,    -999,-999,9,     -999,9,     -999,9,     -999,9,     -999,9,     -999,9,     -999,9,-999,9,     -999,9,     -999,9,     -999,9,    -999,    -999
33RR20080204,       I06S,      62,          1,          1,          1,2,20080225,       0235,   -57.9998,    30.0003,       5438,  5526.9,  -0.2474,  34.6499,2,  34.6507,2,    245.9,2,   245.9,2,  134.02,2,   32.48,2,    0.00,2,    2.26,2,   0.495,6,   0.294,6,   0.050,6,    -999,9,  2353.3,2,   7.8006,2,    13.00,    -999,9,    -999,9,    -999,9,-0.2474,2,-999,9,-999,9,-999,    -999,9,    -999,2.6605,6,-999,9,-0.26,2,    -999,9,-999,9, 20080225,     0235, -57.9998,  30.0003,    -999,-999,9,     -999,9,     -999,9,     -999,9,     -999,9,     -999,9,     -999,9,-999,9,     -999,9,     -999,9,     -999,9,    -999,    -999