BOTTLE,20220706CCHSIOAMB
EXPOCODE,SECT_ID,STNNBR,CASTNO,SAMPNO,BTLNBR,BTLNBR_FLAG_W,DATE,TIME,LATITUDE,LONGITUDE,DEPTH,CTDPRS,CTDTMP,CTDSAL,CTDSAL_FLAG_W,SALNTY,SALNTY_FLAG_W,CTDOXY,CTDOXY_FLAG_W,OXYGEN,OXYGEN_FLAG_W,SILCAT,SILCAT_FLAG_W,NITRAT,NITRAT_FLAG_W,NITRIT,NITRIT_FLAG_W,PHSPHT,PHSPHT_FLAG_W,CFC-11,CFC-11_FLAG_W,CFC-12,CFC-12_FLAG_W,CFC113,CFC113_FLAG_W,TCARBN,TCARBN_FLAG_W,ALKALI,ALKALI_FLAG_W,PH_SWS,PH_SWS_FLAG_W,PH_TMP,TRITUM,TRITUM_FLAG_W,HELIUM,HELIUM_FLAG_W,DELHE3,DELHE3_FLAG_W,REFTMP,REFTMP_FLAG_W,DELC13,DELC13_FLAG_W,DELC14,DELC14_FLAG_W,C14ERR,NEON,NEON_FLAG_W,NEONER,CCL4,CCL4_FLAG_W,ALUMIN,ALUMIN_FLAG_W,DELO18,DELO18_FLAG_W,DOC,DOC_FLAG_W,TDN,TDN_FLAG_W,BTL_DATE,BTL_TIME,BTL_LAT,BTL_LON,TRITER,DELSI30,DELSI30_FLAG_W,CDOM380,CDOM380_FLAG_W,CDOM325,CDOM325_FLAG_W,CDOMSL,CDOMSL_FLAG_W,CDOM340,CDOM340_FLAG_W,CDOM443,CDOM443_FLAG_W,CDOMSN,CDOMSN_FLAG_W,BLACKC,BLACKC_FLAG_W,CDOM490,CDOM490_FLAG_W,CDOM412,CDOM412_FLAG_W,CDOM555,CDOM555_FLAG_W,DELHER,HELIER
,,,,,,,,,,,METERS,DBAR,ITS-90,PSS-78,,PSS-78,,UMOL/KG,,UMOL/KG,,UMOL/KG,,UMOL/KG,,UMOL/KG,,UMOL/KG,,PMOL/KG,,PMOL/KG,,PMOL/KG,,UMOL/KG,,UMOL/KG,,,,DEG C,TU,,NMOL/KG,,PERCNT,,DEG C,,/MILLE,,/MILLE,,/MILLE,NMOL/KG,,NMOL/KG,PMOL/KG,,NMOL/L,,/MILLE,,UMOL/KG,,UMOL/KG,,,,,,TU,/MILLE,,1/M,,1/M,,1/NM,,1/M,,1/M,,1/NM,,,,1/M,,1/M,,1/M,,PERCNT,NMOL/KG
33RR20080204,       I06S,      73,          2,          7,          7,2,20080228,       1947,   -63.4988,    29.9976,       5136,  3879.3,  -0.2200,  34.6577,2,  34.6578,2,    237.7,2,   238.2,2,  127.13,2,   32.41,2,    0.00,2,    2.24,2,   0.441,2,   0.251,2,   0.023,2,  2257.0,2,  2352.2,2,   7.7975,2,    13.00,   0.003,2,   1.884,2,    5.84,2,-0.2199,2,-0.06,3,-150.8,2,2.6,   8.278,2,   0.031,1.122,2,-999,9,-999,9,    -999,9,-999,1, 20080228,     2018, -63.4988,  29.9976,   0.009,-999,9,     -999,9,     -999,9,     -999,9,     -999,9,     -999,9,     -999,9,-999,9,     -999,9,     -999,9,     -999,9,    0.15,   0.007
33RR20080204,       I06S,      73,          2,          6,          6,2,20080228,       1947,   -63.4988,    29.9976,       5136,  4186.3,  -0.2476,  34.6560,2,  34.6566,2,    240.1,2,   240.2,2,  127.96,2,   32.41,2,    0.00,2,    2.24,2,   0.451,2,   0.248,2,   0.023,2,  2254.2,2,  2353.4,2,   7.7951,2,    13.00,   0.011,2,   1.883,2,    5.63,2,-0.2473,2,0.34,3,-154.2,2,2.4,   8.294,2,   0.032,1.126,2,-999,9,-999,9,    -999,9,-999,9, 20080228,     2011, -63.4988,  29.9975,   0.009,-999,1,     -999,9,     -999,9,     -999,9,     -999,9,     -999,9,     -999,9,-999,9,     -999,9,     -999,9,     -999,9,    0.15,   0.007
33RR20080204,       I06S,      73,          2,          5,          5,2,20080228,       1947,   -63.4988,    29.9976,       5136,  4492.9,  -0.2677,  34.6541,2,  34.6560,2,    242.3,2,   241.8,2,  129.63,2,   32.21,2,    0.00,2,    2.24,2,   0.456,2,   0.259,2,   0.025,2,  2253.8,2,  2354.0,2,   7.7977,2,    13.00,  -0.002,2,   1.887,2,    5.18,2,-0.2678,2,0.63,2,-155.0,2,2.6,   8.313,2,   0.032,1.176,2,-999,9,-999,9,    -999,9,-999,1, 20080228,     2005, -63.4988,  29.9976,   0.009,-999,9,     -999,9,     -999,9,     -999,9,     -999,9,     -999,9,     -999,9,-999,9,     -999,9,     -999,9,     -999,9,    0.15,   0.007
33RR20080204,       I06S,      73,          2,          4,          4,2,20080228,       1947,   -63.4988,    29.9976,       5136,  4697.2,  -0.2733,  34.6531,2,  34.6543,2,    243.3,2,   242.7,2,  131.07,2,   32.37,2,    0.00,2,    2.24,2,   0.445,2,   0.242,2,   0.023,2,  2254.2,2,  2353.8,2,   7.7987,3,    13.00,   0.011,2,    -999,1,    -999,9,-0.2735,2,0.63,2,-154.0,2,2.7,    -999,9,    -999,1.128,2,-999,9,-999,9,    -999,9,-999,9, 20080228,     2000, -63.4988,  29.9976,   0.009,-999,1,     -999,9,     -999,9,     -999,9,     -999,9,     -999,9,     -999,9,-999,9,     -999,9,     -999,9,     -999,9,    -999,    -999
33RR20080204,       I06S,      73,          2,          3,          3,2,20080228,       1947,   -63.4988,    29.9976,       5136,  4901.8,  -0.2790,  34.6526,2,  34.6525,2,    244.3,2,   243.4,2,  132.52,2,   32.36,2,    0.00,2,    2.24,2,   0.427,2,   0.223,2,   0.024,2,  2254.3,2,  2352.5,2,   7.7984,2,    13.00,   0.011,2,    -999,1,    -999,9,-0.2786,2,0.65,2,-155.0,2,2.6,    -999,9,    -999,1.178,2,-999,9,-999,9,   37.56,2,-999,1, 20080228,     1955, -63.4988,  29.9976,   0.009,-999,9,     -999,9,     -999,9,     -999,9,     -999,9,     -999,9,     -999,9,-999,9,     -999,9,     -999,9,     -999,9,    -999,    -999
33RR20080204,       I06S,      73,          2,          2,          2,2,20080228,       1947,   -63.4988,    29.9976,       5136,  5111.9,  -0.2862,  34.6508,2,  34.6517,2,    245.2,2,   244.2,2,  135.02,2,   32.32,2,    0.00,2,    2.24,2,   0.449,2,   0.237,2,   0.025,2,  2254.4,2,  2354.4,2,   7.7988,2,    13.00,    -999,9,    -999,9,    -999,9,-0.2862,2,0.73,2,-155.6,2,2.7,    -999,9,    -999,1.209,2,-999,9,-999,9,    -999,9,-999,9, 20080228,     1950, -63.4988,  29.9976,    -999,-999,9,     -999,9,     -999,9,     -999,9,     -999,9,     -999,9,     -999,9,-999,9,     -999,9,     -999,9,     -999,9,    -999,    -999
33RR20080204,       I06S,      73,          2,          1,          1,2,20080228,       1947,   -63.4988,    29.9976,       5136,  5217.4,  -0.2870,  34.6501,2,  34.6513,2,    244.6,2,   245.7,2,  135.22,2,   32.32,2,    0.00,2,    2.23,2,   0.489,2,   0.258,2,   0.025,2,  2252.7,2,  2353.5,2,   7.7912,4,    13.00,   0.009,2,   1.879,2,    4.85,2,-0.2864,2,0.7,2,-159.5,2,3.8,   8.266,2,   0.031,1.235,2,-999,9,-999,9,   35.12,3,-999,1, 20080228,     1947, -63.4988,  29.9976,   0.009,-999,1,     -999,9,     -999,9,     -999,9,     -999,9,     -999,9,     -999,9,-999,9,     -999,9,     -999,9,     -999,9,    0.15,   0.007