BOTTLE,20220706CCHSIOAMB
EXPOCODE,SECT_ID,STNNBR,CASTNO,SAMPNO,BTLNBR,BTLNBR_FLAG_W,DATE,TIME,LATITUDE,LONGITUDE,DEPTH,CTDPRS,CTDTMP,CTDSAL,CTDSAL_FLAG_W,SALNTY,SALNTY_FLAG_W,CTDOXY,CTDOXY_FLAG_W,OXYGEN,OXYGEN_FLAG_W,SILCAT,SILCAT_FLAG_W,NITRAT,NITRAT_FLAG_W,NITRIT,NITRIT_FLAG_W,PHSPHT,PHSPHT_FLAG_W,CFC-11,CFC-11_FLAG_W,CFC-12,CFC-12_FLAG_W,CFC113,CFC113_FLAG_W,TCARBN,TCARBN_FLAG_W,ALKALI,ALKALI_FLAG_W,PH_SWS,PH_SWS_FLAG_W,PH_TMP,TRITUM,TRITUM_FLAG_W,HELIUM,HELIUM_FLAG_W,DELHE3,DELHE3_FLAG_W,REFTMP,REFTMP_FLAG_W,DELC13,DELC13_FLAG_W,DELC14,DELC14_FLAG_W,C14ERR,NEON,NEON_FLAG_W,NEONER,CCL4,CCL4_FLAG_W,ALUMIN,ALUMIN_FLAG_W,DELO18,DELO18_FLAG_W,DOC,DOC_FLAG_W,TDN,TDN_FLAG_W,BTL_DATE,BTL_TIME,BTL_LAT,BTL_LON,TRITER,DELSI30,DELSI30_FLAG_W,CDOM380,CDOM380_FLAG_W,CDOM325,CDOM325_FLAG_W,CDOMSL,CDOMSL_FLAG_W,CDOM340,CDOM340_FLAG_W,CDOM443,CDOM443_FLAG_W,CDOMSN,CDOMSN_FLAG_W,BLACKC,BLACKC_FLAG_W,CDOM490,CDOM490_FLAG_W,CDOM412,CDOM412_FLAG_W,CDOM555,CDOM555_FLAG_W,DELHER,HELIER
,,,,,,,,,,,METERS,DBAR,ITS-90,PSS-78,,PSS-78,,UMOL/KG,,UMOL/KG,,UMOL/KG,,UMOL/KG,,UMOL/KG,,UMOL/KG,,PMOL/KG,,PMOL/KG,,PMOL/KG,,UMOL/KG,,UMOL/KG,,,,DEG C,TU,,NMOL/KG,,PERCNT,,DEG C,,/MILLE,,/MILLE,,/MILLE,NMOL/KG,,NMOL/KG,PMOL/KG,,NMOL/L,,/MILLE,,UMOL/KG,,UMOL/KG,,,,,,TU,/MILLE,,1/M,,1/M,,1/NM,,1/M,,1/M,,1/NM,,,,1/M,,1/M,,1/M,,PERCNT,NMOL/KG
33RR20080204,       I06S,      58,          1,         36,         36,2,20080223,       2020,   -56.0088,    29.9968,       5460,     6.1,   1.6077,  33.9408,2,  33.9430,2,    330.4,2,   332.1,2,   36.61,2,   25.66,2,    0.26,2,    1.70,2,   5.855,2,   3.213,2,   0.548,2,  2165.7,6,  2299.6,2,   7.9048,2,    13.00,    -999,9,    -999,9,    -999,9,1.6067,2,-999,9,-999,9,-999,    -999,9,    -999,8.073,2,-999,9,-0.29,2,    -999,9,-999,9, 20080223,     2244, -56.0204,  29.9940,    -999,-999,9,     -999,9,     -999,9,     -999,9,     -999,9,     -999,9,     -999,9,-999,9,     -999,9,     -999,9,     -999,9,    -999,    -999
33RR20080204,       I06S,      58,          1,         35,         35,2,20080223,       2020,   -56.0088,    29.9968,       5460,    27.3,   1.6047,  33.9418,2,  33.9440,2,    332.3,2,   332.1,2,   36.61,2,   25.84,2,    0.26,2,    1.69,2,   5.871,2,   3.221,2,   0.535,2,  2165.3,2,  2298.2,2,   7.9064,2,    13.00,    -999,9,    -999,9,    -999,9,1.6035,2,-999,9,-999,9,-999,    -999,9,    -999,8.012,2,-999,9,-0.32,2,    -999,9,-999,9, 20080223,     2243, -56.0203,  29.9940,    -999,-999,9,     -999,9,     -999,9,     -999,9,     -999,9,     -999,9,     -999,9,-999,9,     -999,9,     -999,9,     -999,9,    -999,    -999
33RR20080204,       I06S,      58,          1,         34,         34,2,20080223,       2020,   -56.0088,    29.9968,       5460,    47.5,   1.6073,  33.9413,2,  33.9436,2,    332.2,2,   329.8,2,   36.43,2,   25.84,2,    0.26,2,    1.69,2,   5.891,2,   3.243,2,   0.535,2,  2166.6,2,  2298.5,2,   7.9054,2,    13.00,    -999,9,    -999,9,    -999,9,1.6066,2,-999,9,-999,9,-999,    -999,9,    -999,8.157,2,-999,9,-0.27,2,    -999,9,-999,9, 20080223,     2241, -56.0201,  29.9941,    -999,-999,9,     -999,9,     -999,9,     -999,9,     -999,9,     -999,9,     -999,9,-999,9,     -999,9,     -999,9,     -999,9,    -999,    -999
33RR20080204,       I06S,      58,          1,         33,         33,2,20080223,       2020,   -56.0088,    29.9968,       5460,    78.1,   1.5316,  33.9521,2,  33.9533,2,    332.5,2,   331.7,2,   37.92,2,   25.93,2,    0.26,2,    1.72,2,   5.865,2,   3.230,2,   0.522,2,  2168.7,2,  2298.9,2,   7.9013,2,    13.00,    -999,9,    -999,9,    -999,9,1.5352,2,-999,9,-999,9,-999,    -999,9,    -999,7.877,2,-999,9,-0.34,2,    -999,9,-999,9, 20080223,     2239, -56.0200,  29.9941,    -999,-999,9,     -999,9,     -999,9,     -999,9,     -999,9,     -999,9,     -999,9,-999,9,     -999,9,     -999,9,     -999,9,    -999,    -999
33RR20080204,       I06S,      58,          1,         32,         32,2,20080223,       2020,   -56.0088,    29.9968,       5460,   102.9,   1.4137,  33.9637,2,  33.9655,2,    332.2,2,   328.9,2,   40.34,2,   26.12,2,    0.25,2,    1.75,2,   5.848,6,   3.221,6,   0.526,6,  2170.6,2,  2299.7,2,   7.8932,3,    13.00,    -999,9,    -999,9,    -999,9,1.3954,2,-999,9,-999,9,-999,    -999,9,    -999,7.435,2,-999,9,-0.3,2,    -999,9,-999,9, 20080223,     2238, -56.0199,  29.9942,    -999,-999,9,     -999,9,     -999,9,     -999,9,     -999,9,     -999,9,     -999,9,-999,9,     -999,9,     -999,9,     -999,9,    -999,    -999
33RR20080204,       I06S,      58,          1,         31,         31,2,20080223,       2020,   -56.0088,    29.9968,       5460,   149.1,   0.9451,  34.1437,2,  34.1381,2,    317.0,2,   270.2,3,   51.19,2,   31.48,2,    0.10,2,    2.17,2,   4.423,2,   2.430,2,   0.404,2,  2208.1,2,  2302.2,2,   7.7909,4,    13.00,    -999,9,    -999,9,    -999,9,0.9346,2,-999,9,-999,9,-999,    -999,9,    -999,5.859,2,-999,9,-0.22,2,    -999,9,-999,9, 20080223,     2236, -56.0198,  29.9943,    -999,-999,9,     -999,9,     -999,9,     -999,9,     -999,9,     -999,9,     -999,9,-999,9,     -999,9,     -999,9,     -999,9,    -999,    -999
33RR20080204,       I06S,      58,          1,         30,         30,2,20080223,       2020,   -56.0088,    29.9968,       5460,   204.5,   0.9846,  34.2682,2,  34.2638,2,    261.0,2,   256.6,2,   60.75,2,   32.67,2,    0.02,2,    2.24,2,   3.850,2,   2.116,2,   0.336,2,  2220.9,2,  2313.2,2,   7.7756,4,    13.00,    -999,9,    -999,9,    -999,9,0.9788,2,-999,9,-999,9,-999,    -999,9,    -999,5.235,2,-999,9,-0.2,2,    -999,9,-999,9, 20080223,     2234, -56.0196,  29.9943,    -999,-999,9,     -999,9,     -999,9,     -999,9,     -999,9,     -999,9,     -999,9,-999,9,     -999,9,     -999,9,     -999,9,    -999,    -999
33RR20080204,       I06S,      58,          1,         29,         29,2,20080223,       2020,   -56.0088,    29.9968,       5460,   251.0,   1.2387,  34.3544,2,  34.3556,2,    232.3,2,   232.6,2,   67.15,2,   33.55,2,    0.01,2,    2.31,2,   3.029,2,   1.649,2,   0.264,2,  2234.1,2,  2320.1,2,   7.7594,4,    13.00,    -999,9,    -999,9,    -999,9,1.2366,2,-999,9,-999,9,-999,    -999,9,    -999,4.264,2,-999,9,-999,9,    -999,9,-999,9, 20080223,     2232, -56.0194,  29.9944,    -999,-999,9,     -999,9,     -999,9,     -999,9,     -999,9,     -999,9,     -999,9,-999,9,     -999,9,     -999,9,     -999,9,    -999,    -999
33RR20080204,       I06S,      58,          1,         28,         28,2,20080223,       2020,   -56.0088,    29.9968,       5460,   302.1,   1.6512,  34.4596,2,  34.4610,2,    208.8,2,   199.9,2,   72.80,2,   34.66,2,    0.01,2,    2.37,2,   1.946,2,   1.034,2,   0.176,2,  2245.7,2,  2325.9,2,   7.7419,3,    13.00,    -999,9,    -999,9,    -999,9,1.6505,2,-999,9,-999,9,-999,    -999,9,    -999,3.002,2,-999,9,-0.12,2,    -999,9,-999,9, 20080223,     2230, -56.0193,  29.9945,    -999,-999,9,     -999,9,     -999,9,     -999,9,     -999,9,     -999,9,     -999,9,-999,9,     -999,9,     -999,9,     -999,9,    -999,    -999
33RR20080204,       I06S,      58,          1,         27,         27,2,20080223,       2020,   -56.0088,    29.9968,       5460,   357.9,   1.6827,  34.5176,7,  34.5085,2,    183.8,2,   193.9,3,   77.34,2,   34.89,2,    0.01,2,    2.37,2,   1.660,2,   0.876,2,   0.144,2,  2251.8,2,  2329.8,2,   7.7393,3,    13.00,    -999,9,    -999,9,    -999,9,1.6588,2,-999,9,-999,9,-999,    -999,9,    -999,2.578,2,-999,9,-999,9,    -999,9,-999,9, 20080223,     2228, -56.0192,  29.9946,    -999,-999,9,     -999,9,     -999,9,     -999,9,     -999,9,     -999,9,     -999,9,-999,9,     -999,9,     -999,9,     -999,9,    -999,    -999
33RR20080204,       I06S,      58,          1,         26,         26,2,20080223,       2020,   -56.0088,    29.9968,       5460,   406.3,   1.8942,  34.5808,2,  34.5825,2,    178.1,2,   176.9,2,   81.12,2,   35.42,2,    0.01,2,    2.38,2,   0.932,2,   0.501,2,   0.096,2,  2258.6,2,  2337.3,2,   7.7308,2,    13.00,    -999,9,    -999,9,    -999,9,1.8932,2,-999,9,-999,9,-999,    -999,9,    -999,1.829,2,-999,9,0.03,2,    -999,9,-999,9, 20080223,     2225, -56.0190,  29.9947,    -999,-999,9,     -999,9,     -999,9,     -999,9,     -999,9,     -999,9,     -999,9,-999,9,     -999,9,     -999,9,     -999,9,    -999,    -999
33RR20080204,       I06S,      58,          1,         25,         25,2,20080223,       2020,   -56.0088,    29.9968,       5460,   460.3,   1.9548,  34.6183,2,  34.6181,2,    176.3,2,   174.6,2,   82.82,2,   35.36,2,    0.01,2,    2.35,2,   0.738,2,   0.407,2,   0.074,2,  2257.7,2,  2340.2,2,   7.7449,4,    13.00,    -999,9,    -999,9,    -999,9,1.952,2,-999,9,-999,9,-999,    -999,9,    -999,1.48,2,-999,9,-999,9,    -999,9,-999,9, 20080223,     2222, -56.0186,  29.9948,    -999,-999,9,     -999,9,     -999,9,     -999,9,     -999,9,     -999,9,     -999,9,-999,9,     -999,9,     -999,9,     -999,9,    -999,    -999
33RR20080204,       I06S,      58,          1,         24,         24,2,20080223,       2020,   -56.0088,    29.9968,       5460,   508.5,   1.9507,  34.6374,2,  34.6397,2,    178.1,2,   178.2,2,   83.39,2,   34.67,2,    0.01,2,    2.31,2,   0.630,2,   0.340,2,   0.049,2,  2255.2,2,  2346.7,2,   7.7471,2,    13.00,    -999,9,    -999,9,    -999,9,1.9497,2,-999,9,-999,9,-999,    -999,9,    -999,1.352,2,-999,9,-999,9,    -999,9,-999,9, 20080223,     2219, -56.0184,  29.9949,    -999,-999,9,     -999,9,     -999,9,     -999,9,     -999,9,     -999,9,     -999,9,-999,9,     -999,9,     -999,9,     -999,9,    -999,    -999
33RR20080204,       I06S,      58,          1,         23,         23,2,20080223,       2020,   -56.0088,    29.9968,       5460,   609.6,   1.9248,  34.6729,2,  34.6735,2,    180.3,2,   179.4,2,   85.28,2,   33.55,2,    0.01,2,    2.26,2,   0.479,2,   0.269,2,   0.037,2,  2254.5,2,  2345.0,2,   7.7588,3,    13.00,    -999,9,    -999,9,    -999,9,1.9245,2,-999,9,-999,9,-999,    -999,9,    -999,1.095,2,-999,9,-999,9,    -999,9,-999,9, 20080223,     2217, -56.0181,  29.9950,    -999,-999,9,     -999,9,     -999,9,     -999,9,     -999,9,     -999,9,     -999,9,-999,9,     -999,9,     -999,9,     -999,9,    -999,    -999
33RR20080204,       I06S,      58,          1,         22,         22,2,20080223,       2020,   -56.0088,    29.9968,       5460,   711.5,   1.8959,  34.7002,2,  34.7014,2,    185.9,2,   185.3,2,   85.09,2,   32.18,2,    0.01,2,    2.20,2,   0.393,2,   0.217,2,   0.031,2,  2249.5,2,  2347.4,2,   7.7752,4,    13.00,    -999,9,    -999,9,    -999,9,1.8958,2,-999,9,-999,9,-999,    -999,9,    -999,0.939,2,-999,9,-0.01,2,    -999,9,-999,9, 20080223,     2214, -56.0179,  29.9951,    -999,-999,9,     -999,9,     -999,9,     -999,9,     -999,9,     -999,9,     -999,9,-999,9,     -999,9,     -999,9,     -999,9,    -999,    -999
33RR20080204,       I06S,      58,          1,         21,         21,2,20080223,       2020,   -56.0088,    29.9968,       5460,   811.4,   1.7643,  34.7054,2,  34.7061,2,    189.5,2,   187.8,2,   87.94,2,   31.84,2,    0.00,2,    2.20,2,   0.415,2,   0.235,2,   0.032,2,  2251.1,2,  2348.8,2,   7.7800,2,    13.00,    -999,9,    -999,9,    -999,9,1.7642,2,-999,9,-999,9,-999,    -999,9,    -999,0.885,2,-999,9,-999,9,    -999,9,-999,9, 20080223,     2211, -56.0177,  29.9951,    -999,-999,9,     -999,9,     -999,9,     -999,9,     -999,9,     -999,9,     -999,9,-999,9,     -999,9,     -999,9,     -999,9,    -999,    -999
33RR20080204,       I06S,      58,          1,         20,         20,2,20080223,       2020,   -56.0088,    29.9968,       5460,   911.6,   1.7508,  34.7240,2,  34.7253,2,    193.1,2,   193.3,2,   88.13,2,   31.11,2,    0.00,2,    2.16,2,   0.327,2,   0.181,2,   0.027,2,  2252.3,2,  2350.0,2,   7.7912,2,    13.00,    -999,9,    -999,9,    -999,9,1.7501,2,-999,9,-999,9,-999,    -999,9,    -999,0.79,2,-999,9,-999,9,    -999,9,-999,9, 20080223,     2208, -56.0175,  29.9952,    -999,-999,9,     -999,9,     -999,9,     -999,9,     -999,9,     -999,9,     -999,9,-999,9,     -999,9,     -999,9,     -999,9,    -999,    -999
33RR20080204,       I06S,      58,          1,         19,         19,2,20080223,       2020,   -56.0088,    29.9968,       5460,  1012.5,   1.7450,  34.7398,2,  34.7403,2,    198.6,2,   197.3,2,   86.98,2,   30.47,2,    0.00,2,    2.10,2,   0.255,2,   0.151,2,   0.028,2,  2245.5,2,  2349.3,2,   7.8022,2,    13.00,    -999,9,    -999,9,    -999,9,1.7499,2,-999,9,-999,9,-999,    -999,9,    -999,0.707,2,-999,9,-999,9,    -999,9,-999,9, 20080223,     2204, -56.0173,  29.9953,    -999,-999,9,     -999,9,     -999,9,     -999,9,     -999,9,     -999,9,     -999,9,-999,9,     -999,9,     -999,9,     -999,9,    -999,    -999
33RR20080204,       I06S,      58,          1,         18,         18,2,20080223,       2020,   -56.0088,    29.9968,       5460,  1213.0,   1.6088,  34.7443,2,  34.7462,2,    201.6,2,   200.9,2,   89.83,2,   30.23,2,    0.00,2,    2.08,2,   0.219,2,   0.126,2,   0.022,2,  2245.7,6,  2351.5,2,     -999,9,     -999,    -999,9,    -999,9,    -999,9,1.6065,2,-999,9,-999,9,-999,    -999,9,    -999,0.63,2,-999,9,0.07,2,    -999,9,-999,9, 20080223,     2200, -56.0168,  29.9954,    -999,-999,9,     -999,9,     -999,9,     -999,9,     -999,9,     -999,9,     -999,9,-999,9,     -999,9,     -999,9,     -999,9,    -999,    -999
33RR20080204,       I06S,      58,          1,         17,         17,2,20080223,       2020,   -56.0088,    29.9968,       5460,  1422.0,   1.3263,  34.7286,2,  34.7296,2,    201.3,2,   200.7,2,   98.02,2,   30.89,2,    0.00,2,    2.14,2,   0.277,2,   0.155,2,   0.018,2,    -999,9,    -999,9,     -999,9,     -999,    -999,9,    -999,9,    -999,9,1.3266,2,-999,9,-999,9,-999,    -999,9,    -999,0.788,2,-999,9,-999,9,    -999,9,-999,9, 20080223,     2155, -56.0165,  29.9956,    -999,-999,9,     -999,9,     -999,9,     -999,9,     -999,9,     -999,9,     -999,9,-999,9,     -999,9,     -999,9,     -999,9,    -999,    -999
33RR20080204,       I06S,      58,          1,         16,         16,2,20080223,       2020,   -56.0088,    29.9968,       5460,  1621.1,   1.1036,  34.7177,2,  34.7188,2,    202.6,2,   204.4,2,  104.32,2,   31.27,2,    0.00,2,    2.16,2,   0.302,2,   0.175,2,   0.025,2,    -999,9,    -999,9,     -999,9,     -999,    -999,9,    -999,9,    -999,9,1.1033,2,-999,9,-999,9,-999,    -999,9,    -999,0.802,2,-999,9,-999,9,    -999,9,-999,9, 20080223,     2150, -56.0161,  29.9957,    -999,-999,9,     -999,9,     -999,9,     -999,9,     -999,9,     -999,9,     -999,9,-999,9,     -999,9,     -999,9,     -999,9,    -999,    -999
33RR20080204,       I06S,      58,          1,         15,         15,2,20080223,       2020,   -56.0088,    29.9968,       5460,  1824.8,   0.9384,  34.7095,2,  34.7108,2,    203.7,2,   205.2,2,  109.09,2,   31.61,2,    0.00,2,    2.18,2,   0.324,2,   0.169,2,   0.029,2,    -999,9,  2358.3,2,   7.7939,2,    13.00,    -999,9,    -999,9,    -999,9,0.938,2,-999,9,-999,9,-999,    -999,9,    -999,0.922,2,-999,9,-999,9,    -999,9,-999,9, 20080223,     2145, -56.0156,  29.9957,    -999,-999,9,     -999,9,     -999,9,     -999,9,     -999,9,     -999,9,     -999,9,-999,9,     -999,9,     -999,9,     -999,9,    -999,    -999
33RR20080204,       I06S,      58,          1,         14,         14,2,20080223,       2020,   -56.0088,    29.9968,       5460,  2032.8,   0.8042,  34.7046,2,  34.7057,2,    205.7,2,   205.6,2,  112.91,2,   31.80,2,    0.00,2,    2.21,2,   0.308,2,   0.166,2,   0.026,2,    -999,9,    -999,9,     -999,9,     -999,    -999,9,    -999,9,    -999,9,0.8047,2,-999,9,-999,9,-999,    -999,9,    -999,0.982,2,-999,9,-0.09,2,    -999,9,-999,9, 20080223,     2140, -56.0152,  29.9959,    -999,-999,9,     -999,9,     -999,9,     -999,9,     -999,9,     -999,9,     -999,9,-999,9,     -999,9,     -999,9,     -999,9,    -999,    -999
33RR20080204,       I06S,      58,          1,         13,         13,2,20080223,       2020,   -56.0088,    29.9968,       5460,  2334.7,   0.6605,  34.6976,2,  34.6988,2,    207.9,2,   208.3,2,  117.71,2,   32.08,2,    0.00,2,    2.23,2,   0.307,2,   0.171,2,   0.042,2,    -999,9,    -999,9,     -999,9,     -999,    -999,9,    -999,9,    -999,9,0.6602,2,-999,9,-999,9,-999,    -999,9,    -999,1.042,2,-999,9,-999,9,    -999,9,-999,9, 20080223,     2134, -56.0149,  29.9959,    -999,-999,9,     -999,9,     -999,9,     -999,9,     -999,9,     -999,9,     -999,9,-999,9,     -999,9,     -999,9,     -999,9,    -999,    -999
33RR20080204,       I06S,      58,          1,         12,         12,2,20080223,       2020,   -56.0088,    29.9968,       5460,  2643.8,   0.5248,  34.6913,2,  34.6923,2,    209.5,2,   210.0,2,  122.31,2,   32.27,2,    0.00,2,    2.24,2,   0.295,2,   0.149,2,   0.018,2,    -999,9,  2359.1,2,     -999,9,     -999,    -999,9,    -999,9,    -999,9,0.5249,2,-999,9,-999,9,-999,    -999,9,    -999,0.886,2,-999,9,-999,9,    -999,9,-999,9, 20080223,     2127, -56.0141,  29.9960,    -999,-999,9,     -999,9,     -999,9,     -999,9,     -999,9,     -999,9,     -999,9,-999,9,     -999,9,     -999,9,     -999,9,    -999,    -999
33RR20080204,       I06S,      58,          1,         11,         11,2,20080223,       2020,   -56.0088,    29.9968,       5460,  2952.3,   0.4004,  34.6845,2,  34.6856,2,    213.7,2,   213.7,2,  125.00,2,   32.31,2,    0.00,2,    2.25,2,   0.307,2,   0.161,2,   0.018,2,    -999,9,    -999,9,     -999,9,     -999,    -999,9,    -999,9,    -999,9,0.4,2,-999,9,-999,9,-999,    -999,9,    -999,0.972,2,-999,9,-999,9,    -999,9,-999,9, 20080223,     2121, -56.0138,  29.9960,    -999,-999,9,     -999,9,     -999,9,     -999,9,     -999,9,     -999,9,     -999,9,-999,9,     -999,9,     -999,9,     -999,9,    -999,    -999
33RR20080204,       I06S,      58,          1,         10,         10,2,20080223,       2020,   -56.0088,    29.9968,       5460,  3261.7,   0.2542,  34.6772,2,  34.6773,2,    217.4,2,   218.7,2,  127.31,2,   32.41,2,    0.00,2,    2.25,2,   0.328,2,   0.175,2,   0.017,2,    -999,9,    -999,9,     -999,9,     -999,    -999,9,    -999,9,    -999,9,0.2542,2,-999,9,-999,9,-999,    -999,9,    -999,0.982,2,-999,9,-0.18,2,    -999,9,-999,9, 20080223,     2114, -56.0132,  29.9960,    -999,-999,9,     -999,9,     -999,9,     -999,9,     -999,9,     -999,9,     -999,9,-999,9,     -999,9,     -999,9,     -999,9,    -999,    -999
33RR20080204,       I06S,      58,          1,          9,          9,2,20080223,       2020,   -56.0088,    29.9968,       5460,  3569.4,   0.1341,  34.6704,2,  34.6705,2,    222.1,2,   222.3,2,  127.89,2,   32.49,2,    0.00,2,    2.26,2,   0.356,2,   0.184,2,   0.017,2,    -999,9,  2355.7,2,   7.7867,2,    13.00,    -999,9,    -999,9,    -999,9,0.1343,2,-999,9,-999,9,-999,    -999,9,    -999,1.029,2,-999,9,-999,9,    -999,9,-999,9, 20080223,     2108, -56.0127,  29.9962,    -999,-999,9,     -999,9,     -999,9,     -999,9,     -999,9,     -999,9,     -999,9,-999,9,     -999,9,     -999,9,     -999,9,    -999,    -999
33RR20080204,       I06S,      58,          1,          8,          8,2,20080223,       2020,   -56.0088,    29.9968,       5460,  3877.8,   0.0342,  34.6658,2,  34.6665,2,    227.3,2,   227.3,2,  128.09,2,   32.49,2,    0.00,2,    2.26,2,   0.384,2,   0.200,2,   0.022,2,    -999,9,    -999,9,     -999,9,     -999,    -999,9,    -999,9,    -999,9,0.0338,2,-999,9,-999,9,-999,    -999,9,    -999,1.081,2,-999,9,-999,9,    -999,9,-999,9, 20080223,     2101, -56.0121,  29.9964,    -999,-999,9,     -999,9,     -999,9,     -999,9,     -999,9,     -999,9,     -999,9,-999,9,     -999,9,     -999,9,     -999,9,    -999,    -999