BOTTLE,20220706CCHSIOAMB
EXPOCODE,SECT_ID,STNNBR,CASTNO,SAMPNO,BTLNBR,BTLNBR_FLAG_W,DATE,TIME,LATITUDE,LONGITUDE,DEPTH,CTDPRS,CTDTMP,CTDSAL,CTDSAL_FLAG_W,SALNTY,SALNTY_FLAG_W,CTDOXY,CTDOXY_FLAG_W,OXYGEN,OXYGEN_FLAG_W,SILCAT,SILCAT_FLAG_W,NITRAT,NITRAT_FLAG_W,NITRIT,NITRIT_FLAG_W,PHSPHT,PHSPHT_FLAG_W,CFC-11,CFC-11_FLAG_W,CFC-12,CFC-12_FLAG_W,CFC113,CFC113_FLAG_W,TCARBN,TCARBN_FLAG_W,ALKALI,ALKALI_FLAG_W,PH_SWS,PH_SWS_FLAG_W,PH_TMP,TRITUM,TRITUM_FLAG_W,HELIUM,HELIUM_FLAG_W,DELHE3,DELHE3_FLAG_W,REFTMP,REFTMP_FLAG_W,DELC13,DELC13_FLAG_W,DELC14,DELC14_FLAG_W,C14ERR,NEON,NEON_FLAG_W,NEONER,CCL4,CCL4_FLAG_W,ALUMIN,ALUMIN_FLAG_W,DELO18,DELO18_FLAG_W,DOC,DOC_FLAG_W,TDN,TDN_FLAG_W,BTL_DATE,BTL_TIME,BTL_LAT,BTL_LON,TRITER,DELSI30,DELSI30_FLAG_W,CDOM380,CDOM380_FLAG_W,CDOM325,CDOM325_FLAG_W,CDOMSL,CDOMSL_FLAG_W,CDOM340,CDOM340_FLAG_W,CDOM443,CDOM443_FLAG_W,CDOMSN,CDOMSN_FLAG_W,BLACKC,BLACKC_FLAG_W,CDOM490,CDOM490_FLAG_W,CDOM412,CDOM412_FLAG_W,CDOM555,CDOM555_FLAG_W,DELHER,HELIER
,,,,,,,,,,,METERS,DBAR,ITS-90,PSS-78,,PSS-78,,UMOL/KG,,UMOL/KG,,UMOL/KG,,UMOL/KG,,UMOL/KG,,UMOL/KG,,PMOL/KG,,PMOL/KG,,PMOL/KG,,UMOL/KG,,UMOL/KG,,,,DEG C,TU,,NMOL/KG,,PERCNT,,DEG C,,/MILLE,,/MILLE,,/MILLE,NMOL/KG,,NMOL/KG,PMOL/KG,,NMOL/L,,/MILLE,,UMOL/KG,,UMOL/KG,,,,,,TU,/MILLE,,1/M,,1/M,,1/NM,,1/M,,1/M,,1/NM,,,,1/M,,1/M,,1/M,,PERCNT,NMOL/KG
33RR20080204,       I06S,      11,          1,          5,          5,2,20080208,       0631,   -33.9173,    28.8472,       3819,  2586.3,   2.4619,  34.7858,3,  34.8022,2,    207.7,3,   207.2,2,   66.53,2,   27.61,2,    0.00,2,    1.90,2,   0.031,2,   0.012,2,   0.000,2,  2227.1,2,  2345.2,2,   7.7330,2,    20.00,    -999,9,    -999,9,    -999,9,-999,9,-999,9,-999,9,-999,    -999,9,    -999,-0.058,2,-999,9,-999,9,   40.29,2,-999,1, 20080208,     0659, -33.9173,  28.8472,    -999,-999,9,   0.0306,2,   0.1091,2,   0.0205,2,   0.0734,2,   0.0084,2,   0.0225,2,-999,9,   0.0007,2,   0.0176,2,  -0.0017,4,    -999,    -999
33RR20080204,       I06S,      11,          1,          4,          4,2,20080208,       0631,   -33.9173,    28.8472,       3819,  2891.6,   2.2796,  34.8102,2,  34.8146,2,    214.1,3,   215.3,2,   66.94,2,   26.91,2,    0.00,2,    1.85,2,   0.030,2,   0.010,2,   0.000,2,    -999,9,  2344.9,2,   7.7450,2,    20.00,    -999,9,    -999,9,    -999,9,-999,9,-999,9,-999,9,-999,    -999,9,    -999,0.056,2,-999,9,-999,9,    -999,9,-999,9, 20080208,     0653, -33.9173,  28.8472,    -999,-999,9,     -999,9,     -999,9,     -999,9,     -999,9,     -999,9,     -999,9,-999,9,     -999,9,     -999,9,     -999,9,    -999,    -999
33RR20080204,       I06S,      11,          1,          3,          3,2,20080208,       0631,   -33.9173,    28.8472,       3819,  3195.1,   2.0745,  34.8032,3,  34.8103,2,    217.7,3,   218.2,2,   71.87,2,   27.06,2,    0.00,2,    1.85,2,   0.038,2,   0.017,2,   0.005,2,  2225.8,2,  2348.8,2,   7.7460,2,    20.00,    -999,9,    -999,9,    -999,9,-999,9,-999,9,-999,9,-999,    -999,9,    -999,0.101,2,-999,9,-999,9,   42.73,3,-999,1, 20080208,     0646, -33.9173,  28.8472,    -999,-999,9,   0.0303,2,   0.1069,2,   0.0204,2,   0.0710,2,   0.0082,2,   0.0225,2,-999,9,   0.0005,3,   0.0173,2,  -0.0017,4,    -999,    -999
33RR20080204,       I06S,      11,          1,          2,          2,2,20080208,       0631,   -33.9173,    28.8472,       3819,  3504.5,   1.6649,  34.7669,3,  34.7805,2,    219.5,3,   217.2,2,   86.04,2,   28.51,2,    0.00,2,    1.95,2,   0.051,2,   0.024,2,   0.003,2,    -999,9,  2353.5,2,   7.7340,2,    20.00,    -999,9,    -999,9,    -999,9,-999,9,-999,9,-999,9,-999,    -999,9,    -999,0.034,2,-999,9,-999,9,    -999,9,-999,9, 20080208,     0639, -33.9173,  28.8472,    -999,-999,9,     -999,9,     -999,9,     -999,9,     -999,9,     -999,9,     -999,9,-999,9,     -999,9,     -999,9,     -999,9,    -999,    -999
33RR20080204,       I06S,      11,          1,          1,          1,2,20080208,       0631,   -33.9173,    28.8472,       3819,  3840.8,   1.1835,  34.7445,2,  34.7460,2,    209.5,4,   216.4,2,  102.90,2,   30.12,2,    0.00,2,    2.07,2,   0.081,2,   0.044,2,   0.002,2,  2251.5,6,  2365.4,2,   7.7190,2,    20.00,    -999,9,    -999,9,    -999,9,-999,9,-999,9,-999,9,-999,    -999,9,    -999,0.12,2,-999,9,-999,9,   39.61,2,-999,1, 20080208,     0631, -33.9173,  28.8472,    -999,-999,9,   0.0286,2,   0.1076,2,   0.0221,2,   0.0712,2,   0.0068,2,   0.0240,2,-999,9,  -0.0002,4,   0.0154,2,  -0.0022,4,    -999,    -999