BOTTLE,20220706CCHSIOAMB
EXPOCODE,SECT_ID,STNNBR,CASTNO,SAMPNO,BTLNBR,BTLNBR_FLAG_W,DATE,TIME,LATITUDE,LONGITUDE,DEPTH,CTDPRS,CTDTMP,CTDSAL,CTDSAL_FLAG_W,SALNTY,SALNTY_FLAG_W,CTDOXY,CTDOXY_FLAG_W,OXYGEN,OXYGEN_FLAG_W,SILCAT,SILCAT_FLAG_W,NITRAT,NITRAT_FLAG_W,NITRIT,NITRIT_FLAG_W,PHSPHT,PHSPHT_FLAG_W,CFC-11,CFC-11_FLAG_W,CFC-12,CFC-12_FLAG_W,CFC113,CFC113_FLAG_W,TCARBN,TCARBN_FLAG_W,ALKALI,ALKALI_FLAG_W,PH_SWS,PH_SWS_FLAG_W,PH_TMP,TRITUM,TRITUM_FLAG_W,HELIUM,HELIUM_FLAG_W,DELHE3,DELHE3_FLAG_W,REFTMP,REFTMP_FLAG_W,DELC13,DELC13_FLAG_W,DELC14,DELC14_FLAG_W,C14ERR,NEON,NEON_FLAG_W,NEONER,CCL4,CCL4_FLAG_W,ALUMIN,ALUMIN_FLAG_W,DELO18,DELO18_FLAG_W,DOC,DOC_FLAG_W,TDN,TDN_FLAG_W,BTL_DATE,BTL_TIME,BTL_LAT,BTL_LON,TRITER,DELSI30,DELSI30_FLAG_W,CDOM380,CDOM380_FLAG_W,CDOM325,CDOM325_FLAG_W,CDOMSL,CDOMSL_FLAG_W,CDOM340,CDOM340_FLAG_W,CDOM443,CDOM443_FLAG_W,CDOMSN,CDOMSN_FLAG_W,BLACKC,BLACKC_FLAG_W,CDOM490,CDOM490_FLAG_W,CDOM412,CDOM412_FLAG_W,CDOM555,CDOM555_FLAG_W,DELHER,HELIER
,,,,,,,,,,,METERS,DBAR,ITS-90,PSS-78,,PSS-78,,UMOL/KG,,UMOL/KG,,UMOL/KG,,UMOL/KG,,UMOL/KG,,UMOL/KG,,PMOL/KG,,PMOL/KG,,PMOL/KG,,UMOL/KG,,UMOL/KG,,,,DEG C,TU,,NMOL/KG,,PERCNT,,DEG C,,/MILLE,,/MILLE,,/MILLE,NMOL/KG,,NMOL/KG,PMOL/KG,,NMOL/L,,/MILLE,,UMOL/KG,,UMOL/KG,,,,,,TU,/MILLE,,1/M,,1/M,,1/NM,,1/M,,1/M,,1/NM,,,,1/M,,1/M,,1/M,,PERCNT,NMOL/KG
33RR20080204,       I06S,      45,          1,         36,         36,2,20080219,       0842,   -49.7000,    29.9994,       5536,     4.1,   4.5428,  33.7638,2,  33.7623,2,    315.0,2,   315.1,2,    2.03,2,   21.21,2,    0.24,2,    1.43,2,   5.176,2,   2.890,2,   0.436,2,  2129.5,6,  2277.4,2,   7.9560,2,    13.00,    -999,9,    -999,9,    -999,9,-999,9,1.78,2,-66.8,2,3.0,    -999,9,    -999,7.383,2,-999,9,-999,9,   44.68,2,-999,1, 20080219,     1058, -49.7010,  29.9997,    -999,-999,9,   0.0224,2,   0.0834,2,   0.0188,3,   0.0515,2,   0.0070,2,   0.0214,3,-999,9,   0.0009,2,   0.0148,2,  -0.0020,4,    -999,    -999
33RR20080204,       I06S,      45,          1,         35,         35,2,20080219,       0842,   -49.7000,    29.9994,       5536,    27.0,   4.5347,  33.7634,2,  33.7634,2,    315.6,2,   315.3,2,    2.03,2,   21.21,2,    0.24,2,    1.43,2,   5.230,2,   2.933,2,   0.437,2,  2130.0,2,  2276.7,2,   7.9574,3,    13.00,    -999,9,    -999,9,    -999,9,-999,9,-999,9,-999,9,-999,    -999,9,    -999,7.573,2,-999,9,-999,9,   64.98,4,-999,1, 20080219,     1056, -49.7008,  29.9997,    -999,-999,1,   0.0184,2,   0.0805,2,   0.0227,3,   0.0492,2,   0.0043,2,   0.0274,2,-999,1,  -0.0014,4,   0.0111,2,  -0.0033,4,    -999,    -999
33RR20080204,       I06S,      45,          1,         34,         34,2,20080219,       0842,   -49.7000,    29.9994,       5536,    51.5,   4.4163,  33.7612,2,  33.7632,2,    316.3,2,   316.5,2,    2.03,2,   21.35,2,    0.25,2,    1.43,2,   5.233,2,   2.917,2,   0.448,2,  2128.5,2,  2277.0,2,   7.9532,2,    13.00,    -999,9,    -999,9,    -999,9,-999,9,-999,9,-999,9,-999,    -999,9,    -999,7.639,2,-999,9,-999,9,   40.49,2,-999,1, 20080219,     1055, -49.7007,  29.9995,    -999,-999,1,   0.0254,2,   0.0865,2,   0.0193,2,   0.0570,2,   0.0076,2,   0.0205,2,-999,9,   0.0007,2,   0.0153,2,  -0.0022,4,    -999,    -999
33RR20080204,       I06S,      45,          1,         33,         33,2,20080219,       0842,   -49.7000,    29.9994,       5536,    86.2,   2.8015,  33.8416,2,  33.8440,2,    318.3,2,   317.0,2,    9.78,2,   23.58,2,    0.26,2,    1.74,2,   5.603,2,   3.112,2,   0.458,2,  2146.6,2,  2273.8,2,   7.9015,2,    13.00,    -999,9,    -999,9,    -999,9,-999,9,-999,9,-999,9,-999,    -999,9,    -999,7.429,2,-999,9,-999,9,   39.51,2,-999,1, 20080219,     1053, -49.7006,  29.9995,    -999,-999,1,   0.0223,2,   0.0852,2,   0.0191,3,   0.0517,2,   0.0068,2,   0.0219,3,-999,1,   0.0004,4,   0.0146,2,  -0.0021,4,    -999,    -999
33RR20080204,       I06S,      45,          1,         32,         32,2,20080219,       0842,   -49.7000,    29.9994,       5536,   110.8,   2.3711,  33.8580,2,  33.8583,2,    318.7,2,   316.9,2,   13.67,2,   24.59,2,    0.33,2,    1.79,2,   5.665,2,   3.130,2,   0.468,2,  2154.3,2,  2276.3,2,   7.8875,2,    13.00,    -999,9,    -999,9,    -999,9,-999,9,1.51,2,-67.4,2,3.1,    -999,9,    -999,7.434,2,-999,9,-999,9,   40.39,2,-999,1, 20080219,     1053, -49.7006,  29.9995,    -999,-999,1,   0.0220,2,   0.0859,2,   0.0206,3,   0.0535,2,   0.0059,2,   0.0232,3,-999,9,  -0.0006,4,   0.0135,2,  -0.0026,4,    -999,    -999
33RR20080204,       I06S,      45,          1,         31,         31,2,20080219,       0842,   -49.7000,    29.9994,       5536,   163.4,   2.3667,  33.9566,2,  33.9507,2,    288.1,2,   296.0,2,   18.31,2,   27.37,2,    0.05,2,    1.89,2,   5.208,2,   2.894,2,   0.414,2,  2164.9,2,  2276.2,2,   7.8591,2,    13.00,    -999,9,    -999,9,    -999,9,-999,9,1.32,2,-62.7,2,2.9,    -999,9,    -999,6.57,2,-999,9,-999,9,   38.63,2,-999,1, 20080219,     1051, -49.7004,  29.9994,    -999,-999,1,   0.0188,2,   0.0788,2,   0.0210,3,   0.0470,2,   0.0048,2,   0.0255,3,-999,9,  -0.0007,4,   0.0120,2,  -0.0027,4,    -999,    -999
33RR20080204,       I06S,      45,          1,         30,         30,2,20080219,       0842,   -49.7000,    29.9994,       5536,   211.9,   2.8229,  34.1043,2,  34.1024,2,    261.1,2,   261.0,2,   24.06,2,   29.61,2,    0.01,2,    2.04,2,   4.252,2,   2.353,2,   0.337,2,  2182.7,2,  2282.8,2,   7.8283,2,    13.00,    -999,9,    -999,9,    -999,9,-999,9,-999,9,-999,9,-999,    -999,9,    -999,5.374,2,-999,9,-999,9,    -999,9,-999,1, 20080219,     1049, -49.7004,  29.9995,    -999,-999,1,   0.0198,2,   0.0799,2,   0.0207,3,   0.0479,2,   0.0051,2,   0.0241,3,-999,1,  -0.0005,4,   0.0124,2,  -0.0026,4,    -999,    -999
33RR20080204,       I06S,      45,          1,         29,         29,2,20080219,       0842,   -49.7000,    29.9994,       5536,   271.4,   2.6766,  34.1597,2,  34.1574,2,    249.3,2,   246.8,2,   30.21,2,   30.86,2,    0.01,2,    2.13,2,   3.814,2,   2.085,2,   0.307,2,  2191.1,2,  2287.4,2,   7.8092,2,    13.00,    -999,9,    -999,9,    -999,9,-999,9,1.05,2,-76.9,2,3.7,    -999,9,    -999,4.926,2,-999,9,-999,9,   37.66,2,-999,1, 20080219,     1047, -49.7003,  29.9995,    -999,-999,1,   0.0224,2,   0.0849,2,   0.0191,3,   0.0517,2,   0.0065,2,   0.0217,3,-999,9,   0.0000,4,   0.0147,2,  -0.0016,4,    -999,    -999
33RR20080204,       I06S,      45,          1,         28,         28,2,20080219,       0842,   -49.7000,    29.9994,       5536,   323.3,   2.5868,  34.1953,2,  34.1923,2,    239.5,2,   237.3,2,   34.87,2,   31.70,2,    0.01,2,    2.19,2,   3.438,2,   1.879,2,   0.253,2,  2199.7,2,  2292.9,2,   7.7942,2,    13.00,    -999,9,    -999,9,    -999,9,-999,9,1.01,2,-87.5,2,3.8,    -999,9,    -999,4.482,2,-999,9,-999,9,   40.59,2,-999,1, 20080219,     1045, -49.7004,  29.9996,    -999,-999,1,   0.0232,2,   0.0865,2,   0.0191,3,   0.0532,2,   0.0065,2,   0.0214,3,-999,9,  -0.0002,4,   0.0150,2,  -0.0024,4,    -999,    -999
33RR20080204,       I06S,      45,          1,         27,         27,2,20080219,       0842,   -49.7000,    29.9994,       5536,   374.1,   2.6167,  34.2492,2,  34.2471,2,    226.4,2,   222.3,2,   40.29,2,   32.54,2,    0.01,2,    2.24,2,   2.843,2,   1.524,2,   0.226,2,  2209.3,2,  2297.2,2,   7.7805,2,    13.00,    -999,9,    -999,9,    -999,9,-999,9,0.95,2,-98.1,2,3.0,    -999,9,    -999,4.036,2,-999,9,-999,9,    -999,9,-999,9, 20080219,     1043, -49.7004,  29.9994,    -999,-999,9,     -999,9,     -999,9,     -999,9,     -999,9,     -999,9,     -999,9,-999,9,     -999,9,     -999,9,     -999,9,    -999,    -999
33RR20080204,       I06S,      45,          1,         26,         26,2,20080219,       0842,   -49.7000,    29.9994,       5536,   426.4,   2.6047,  34.2842,2,  34.2839,2,    216.5,2,   213.1,2,   44.79,2,   33.14,2,    0.01,2,    2.28,2,   2.526,2,   1.318,2,   0.180,2,  2217.4,2,  2301.4,2,   7.7697,2,    13.00,    -999,9,    -999,9,    -999,9,-999,9,-1.44,4,-103.5,2,3.3,    -999,9,    -999,3.623,2,-999,9,-999,9,    -999,9,-999,1, 20080219,     1041, -49.7003,  29.9994,    -999,-999,1,   0.0273,2,   0.0960,2,   0.0182,3,   0.0606,2,   0.0086,2,   0.0195,3,-999,9,   0.0008,2,   0.0179,2,  -0.0020,4,    -999,    -999
33RR20080204,       I06S,      45,          1,         25,         25,2,20080219,       0842,   -49.7000,    29.9994,       5536,   476.9,   2.5950,  34.3266,2,  34.3249,2,    206.1,2,   203.5,2,   49.29,2,   33.59,2,    0.01,2,    2.32,2,   2.125,2,   1.162,2,   0.183,2,  2222.5,2,  2305.6,2,   7.7619,2,    13.00,    -999,9,    -999,9,    -999,9,-999,9,0.75,2,-99.3,2,3.1,    -999,9,    -999,2.961,2,-999,9,-999,9,    -999,9,-999,9, 20080219,     1040, -49.7003,  29.9993,    -999,-999,9,     -999,9,     -999,9,     -999,9,     -999,9,     -999,9,     -999,9,-999,9,     -999,9,     -999,9,     -999,9,    -999,    -999
33RR20080204,       I06S,      45,          1,         24,         24,2,20080219,       0842,   -49.7000,    29.9994,       5536,   524.2,   2.6061,  34.3660,2,  34.3654,2,    198.0,2,   195.2,2,   53.62,2,   33.95,2,    0.01,2,    2.34,2,   1.857,2,   0.924,2,   0.148,2,  1798.0,4,  2314.5,2,   7.7533,2,    13.00,    -999,9,    -999,9,    -999,9,-999,9,0.67,2,-129.6,2,3.0,    -999,9,    -999,3.288,2,-999,9,-999,9,   37.66,2,-999,1, 20080219,     1038, -49.7002,  29.9994,    -999,-999,9,   0.0303,2,   0.1032,2,   0.0180,3,   0.0660,2,   0.0098,2,   0.0190,3,-999,9,   0.0015,2,   0.0198,2,  -0.0017,4,    -999,    -999
33RR20080204,       I06S,      45,          1,         23,         23,2,20080219,       0842,   -49.7000,    29.9994,       5536,   646.1,   2.5304,  34.4488,2,  34.4483,2,    184.2,2,   182.1,2,   62.29,2,   34.45,2,    0.00,2,    2.38,2,   1.155,2,   0.601,2,   0.073,2,  2244.3,2,  2319.0,2,   7.7428,2,    13.00,    -999,9,    -999,9,    -999,9,-999,9,0.55,2,-131.9,2,2.7,    -999,9,    -999,1.927,2,-999,9,-999,9,    -999,9,-999,9, 20080219,     1034, -49.7002,  29.9994,    -999,-999,1,     -999,9,     -999,9,     -999,9,     -999,9,     -999,9,     -999,9,-999,9,     -999,9,     -999,9,     -999,9,    -999,    -999
33RR20080204,       I06S,      45,          1,         22,         22,2,20080219,       0842,   -49.7000,    29.9994,       5536,   750.9,   2.4094,  34.5196,2,  34.5189,2,    176.7,2,   175.0,2,   69.64,2,   34.45,2,    0.00,2,    2.38,2,   0.828,2,   0.438,2,   0.054,2,  2251.4,2,  2328.7,2,   7.7386,2,    13.00,    -999,9,    -999,9,    -999,9,-999,9,0.0,3,-140.0,2,2.6,    -999,9,    -999,1.641,2,-999,9,-999,9,   38.34,2,-999,1, 20080219,     1031, -49.7002,  29.9994,    -999,-999,9,   0.0326,2,   0.1113,2,   0.0190,3,   0.0721,2,   0.0096,2,   0.0196,3,-999,9,   0.0012,2,   0.0199,2,  -0.0013,4,    -999,    -999
33RR20080204,       I06S,      45,          1,         21,         21,2,20080219,       0842,   -49.7000,    29.9994,       5536,   852.3,   2.3832,  34.5615,2,  34.5623,2,    173.3,2,   173.4,2,   72.49,2,   34.10,2,    0.00,2,    2.36,2,   0.653,2,   0.347,2,   0.047,2,  2254.8,2,  2330.6,2,   7.7433,3,    13.00,    -999,9,    -999,9,    -999,9,-999,9,0.55,2,-140.0,2,2.7,    -999,9,    -999,1.227,2,-999,9,-999,9,   37.76,2,-999,1, 20080219,     1028, -49.7002,  29.9994,    -999,-999,1,   0.0299,2,   0.1072,2,   0.0201,3,   0.0683,2,   0.0079,2,   0.0208,3,-999,9,   0.0003,4,   0.0175,2,  -0.0024,4,    -999,    -999
33RR20080204,       I06S,      45,          1,         20,         20,2,20080219,       0842,   -49.7000,    29.9994,       5536,   953.8,   2.3054,  34.6005,2,  34.6003,2,    172.2,2,   173.3,2,   76.65,2,   33.85,2,    0.00,2,    2.34,2,   0.531,2,   0.292,2,   0.035,2,  2257.9,2,  2335.2,2,   7.7441,3,    13.00,    -999,9,    -999,9,    -999,9,-999,9,0.53,2,-138.8,2,2.6,    -999,9,    -999,0.971,2,-999,9,-999,9,   42.83,2,-999,1, 20080219,     1025, -49.7002,  29.9994,    -999,-999,9,   0.0318,2,   0.1139,2,   0.0199,3,   0.0733,2,   0.0090,2,   0.0210,3,-999,1,   0.0010,2,   0.0187,2,  -0.0013,4,    -999,    -999
33RR20080204,       I06S,      45,          1,         19,         19,2,20080219,       0842,   -49.7000,    29.9994,       5536,  1053.2,   2.3165,  34.6401,2,  34.6396,2,    173.4,2,   174.5,2,   77.23,2,   33.06,2,    0.00,2,    2.29,2,   0.380,2,   0.217,2,   0.038,2,  2257.3,6,  2337.2,2,   7.7571,3,    13.00,    -999,9,    -999,9,    -999,9,-999,9,0.49,2,-145.4,2,2.4,    -999,9,    -999,0.739,2,-999,9,-999,9,   39.90,2,-999,1, 20080219,     1022, -49.7002,  29.9994,    -999,-999,1,   0.0316,2,   0.1112,2,   0.0192,3,   0.0717,2,   0.0095,2,   0.0205,3,-999,9,   0.0012,2,   0.0194,2,  -0.0016,4,    -999,    -999
33RR20080204,       I06S,      45,          1,         18,         18,2,20080219,       0842,   -49.7000,    29.9994,       5536,  1259.9,   2.2243,  34.6940,2,  34.6951,2,    179.9,2,   180.5,2,   80.45,2,   31.88,2,    0.00,2,    2.20,2,   0.257,2,   0.144,2,   0.013,2,  2254.8,2,  2343.7,2,   7.7730,3,    13.00,    -999,9,    -999,9,    -999,9,-999,9,0.52,2,-150.1,2,2.8,    -999,9,    -999,0.559,2,-999,9,-999,9,   38.34,2,-999,1, 20080219,     1018, -49.7001,  29.9994,    -999,-999,1,   0.0379,2,   0.1235,2,   0.0178,3,   0.0819,2,   0.0132,2,   0.0184,3,-999,9,   0.0034,2,   0.0243,2,  -0.0005,4,    -999,    -999
33RR20080204,       I06S,      45,          1,         17,         17,2,20080219,       0842,   -49.7000,    29.9994,       5536,  1462.3,   2.2152,  34.7417,2,  34.7411,2,    189.8,2,   191.0,2,   77.79,2,   30.19,2,    0.00,2,    2.09,2,   0.165,2,   0.100,2,   0.011,2,  2245.3,2,  2343.9,2,   7.8014,3,    13.00,    -999,9,    -999,9,    -999,9,-999,9,-999,9,-999,9,-999,    -999,9,    -999,0.0,4,-999,9,-999,9,    -999,9,-999,9, 20080219,     1013, -49.7000,  29.9994,    -999,-999,9,     -999,9,     -999,9,     -999,9,     -999,9,     -999,9,     -999,9,-999,9,     -999,9,     -999,9,     -999,9,    -999,    -999
33RR20080204,       I06S,      45,          1,         16,         16,2,20080219,       0842,   -49.7000,    29.9994,       5536,  1667.2,   2.0716,  34.7575,2,  34.7580,2,    196.1,2,   197.0,2,   80.07,2,   29.66,2,    0.00,2,    2.05,2,   0.000,4,   0.000,4,   0.000,4,  2243.6,2,  2345.4,2,   7.8114,2,    13.00,    -999,9,    -999,9,    -999,9,-999,9,-999,9,-999,9,-999,    -999,9,    -999,0.0,4,-999,9,-999,9,   41.56,2,-999,1, 20080219,     1008, -49.7001,  29.9994,    -999,-999,1,   0.0318,2,   0.1132,2,   0.0197,3,   0.0735,2,   0.0092,2,   0.0210,3,-999,1,   0.0011,2,   0.0190,2,  -0.0017,4,    -999,    -999
33RR20080204,       I06S,      45,          1,         15,         15,2,20080219,       0842,   -49.7000,    29.9994,       5536,  1869.8,   1.9542,  34.7622,2,  34.7623,2,    199.7,2,   200.4,2,   82.16,2,   29.46,2,    0.00,2,    2.03,2,   0.133,2,   0.074,2,   0.020,2,  2245.5,2,  2347.4,2,   7.8162,2,    13.00,    -999,9,    -999,9,    -999,9,-999,9,-999,9,-999,9,-999,    -999,9,    -999,0.379,2,-999,9,-999,9,    -999,9,-999,9, 20080219,     1004, -49.7001,  29.9994,    -999,-999,9,     -999,9,     -999,9,     -999,9,     -999,9,     -999,9,     -999,9,-999,9,     -999,9,     -999,9,     -999,9,    -999,    -999
33RR20080204,       I06S,      45,          1,         14,         14,2,20080219,       0842,   -49.7000,    29.9994,       5536,  2071.5,   1.7593,  34.7596,2,  34.7593,2,    202.4,2,   202.7,2,   87.29,2,   29.57,2,    0.00,2,    2.04,2,   0.127,2,   0.077,2,   0.012,2,  2246.9,2,  2349.8,2,   7.8174,2,    13.00,    -999,9,    -999,9,    -999,9,-999,9,-999,9,-999,9,-999,    -999,9,    -999,0.42,2,-999,9,-999,9,   42.05,2,-999,1, 20080219,     0958, -49.7002,  29.9994,    -999,-999,1,   0.0307,2,   0.1119,2,   0.0206,3,   0.0725,2,   0.0084,2,   0.0219,3,-999,9,   0.0010,2,   0.0174,2,  -0.0009,4,    -999,    -999
33RR20080204,       I06S,      45,          1,         13,         13,2,20080219,       0842,   -49.7000,    29.9994,       5536,  2385.8,   1.4640,  34.7478,2,  34.7470,2,    205.5,2,   206.6,2,   95.31,2,   30.07,2,    0.00,2,    2.08,2,   0.145,2,   0.081,2,   0.029,2,  2252.6,2,  2351.9,2,   7.8152,2,    13.00,    -999,9,    -999,9,    -999,9,-999,9,-999,9,-999,9,-999,    -999,9,    -999,0.504,2,-999,9,-999,9,    -999,9,-999,9, 20080219,     0952, -49.7000,  29.9994,    -999,-999,9,     -999,9,     -999,9,     -999,9,     -999,9,     -999,9,     -999,9,-999,9,     -999,9,     -999,9,     -999,9,    -999,    -999
33RR20080204,       I06S,      45,          1,         12,         12,2,20080219,       0842,   -49.7000,    29.9994,       5536,  2688.3,   1.2134,  34.7349,2,  34.7346,2,    208.0,2,   208.2,2,  102.76,2,   30.61,2,    0.00,2,    2.12,2,   0.152,2,   0.086,2,   0.017,2,  2257.7,2,  2355.8,2,   7.8202,4,    13.00,    -999,9,    -999,9,    -999,9,-999,9,-999,9,-999,9,-999,    -999,9,    -999,0.401,2,-999,9,-999,9,   36.98,2,-999,1, 20080219,     0946, -49.6999,  29.9994,    -999,-999,1,   0.0314,2,   0.1117,2,   0.0197,3,   0.0729,2,   0.0092,2,   0.0211,3,-999,9,   0.0010,2,   0.0187,2,  -0.0009,4,    -999,    -999
33RR20080204,       I06S,      45,          1,         11,         11,2,20080219,       0842,   -49.7000,    29.9994,       5536,  2995.3,   1.0045,  34.7223,2,  34.7221,2,    210.4,2,   210.4,2,  108.70,2,   31.11,2,    0.00,2,    2.15,2,   0.165,2,   0.093,2,   0.014,2,  2273.2,3,  2356.6,2,   7.8082,2,    13.00,    -999,9,    -999,9,    -999,9,-999,9,-999,9,-999,9,-999,    -999,9,    -999,0.492,2,-999,9,-999,9,    -999,9,-999,9, 20080219,     0939, -49.7001,  29.9994,    -999,-999,9,     -999,9,     -999,9,     -999,9,     -999,9,     -999,9,     -999,9,-999,9,     -999,9,     -999,9,     -999,9,    -999,    -999
33RR20080204,       I06S,      45,          1,         10,         10,2,20080219,       0842,   -49.7000,    29.9994,       5536,  3309.4,   0.7465,  34.7032,2,  34.7025,2,    210.8,2,   211.4,2,  118.11,2,   31.90,2,    0.00,2,    2.21,2,   0.215,2,   0.117,2,   0.015,2,  2262.1,2,  2358.1,2,   7.7888,4,    13.00,    -999,9,    -999,9,    -999,9,-999,9,-999,9,-999,9,-999,    -999,9,    -999,0.641,2,-999,9,-999,9,   37.27,2,-999,1, 20080219,     0932, -49.7002,  29.9994,    -999,-999,1,   0.0323,2,   0.1116,2,   0.0187,3,   0.0726,2,   0.0103,2,   0.0199,3,-999,9,   0.0017,2,   0.0202,2,  -0.0003,4,    -999,    -999
33RR20080204,       I06S,      45,          1,          9,          9,2,20080219,       0842,   -49.7000,    29.9994,       5536,  3614.3,   0.6029,  34.6941,2,  34.6943,2,    213.8,2,   213.3,2,  122.36,2,   32.15,2,    0.00,2,    2.22,2,   0.233,2,   0.126,2,   0.020,2,  2262.7,2,  2356.9,2,   7.7938,4,    13.00,    -999,9,    -999,9,    -999,9,-999,9,-999,9,-999,9,-999,    -999,9,    -999,0.625,2,-999,9,-999,9,    -999,9,-999,1, 20080219,     0925, -49.7002,  29.9995,    -999,-999,9,   0.0301,2,   0.1085,2,   0.0194,3,   0.0695,2,   0.0090,2,   0.0211,3,-999,1,   0.0010,2,   0.0183,2,  -0.0008,4,    -999,    -999
33RR20080204,       I06S,      45,          1,          8,          8,2,20080219,       0842,   -49.7000,    29.9994,       5536,  3919.5,   0.4079,  34.6833,2,  34.6829,2,    217.6,2,   218.5,2,  126.60,2,   32.36,2,    0.00,2,    2.24,2,   0.294,2,   0.152,2,   0.015,2,  2261.5,2,  2356.4,2,   7.7939,2,    13.00,    -999,9,    -999,9,    -999,9,-999,9,-999,9,-999,9,-999,    -999,9,    -999,0.788,2,-999,9,-999,9,    -999,9,-999,1, 20080219,     0919, -49.7000,  29.9994,    -999,-999,1,   0.0316,2,   0.1099,2,   0.0189,3,   0.0713,2,   0.0099,2,   0.0203,3,-999,9,   0.0015,2,   0.0195,2,   0.0001,4,    -999,    -999