BOTTLE,20220706CCHSIOAMB
EXPOCODE,SECT_ID,STNNBR,CASTNO,SAMPNO,BTLNBR,BTLNBR_FLAG_W,DATE,TIME,LATITUDE,LONGITUDE,DEPTH,CTDPRS,CTDTMP,CTDSAL,CTDSAL_FLAG_W,SALNTY,SALNTY_FLAG_W,CTDOXY,CTDOXY_FLAG_W,OXYGEN,OXYGEN_FLAG_W,SILCAT,SILCAT_FLAG_W,NITRAT,NITRAT_FLAG_W,NITRIT,NITRIT_FLAG_W,PHSPHT,PHSPHT_FLAG_W,CFC-11,CFC-11_FLAG_W,CFC-12,CFC-12_FLAG_W,CFC113,CFC113_FLAG_W,TCARBN,TCARBN_FLAG_W,ALKALI,ALKALI_FLAG_W,PH_SWS,PH_SWS_FLAG_W,PH_TMP,TRITUM,TRITUM_FLAG_W,HELIUM,HELIUM_FLAG_W,DELHE3,DELHE3_FLAG_W,REFTMP,REFTMP_FLAG_W,DELC13,DELC13_FLAG_W,DELC14,DELC14_FLAG_W,C14ERR,NEON,NEON_FLAG_W,NEONER,CCL4,CCL4_FLAG_W,ALUMIN,ALUMIN_FLAG_W,DELO18,DELO18_FLAG_W,DOC,DOC_FLAG_W,TDN,TDN_FLAG_W,BTL_DATE,BTL_TIME,BTL_LAT,BTL_LON,TRITER,DELSI30,DELSI30_FLAG_W,CDOM380,CDOM380_FLAG_W,CDOM325,CDOM325_FLAG_W,CDOMSL,CDOMSL_FLAG_W,CDOM340,CDOM340_FLAG_W,CDOM443,CDOM443_FLAG_W,CDOMSN,CDOMSN_FLAG_W,BLACKC,BLACKC_FLAG_W,CDOM490,CDOM490_FLAG_W,CDOM412,CDOM412_FLAG_W,CDOM555,CDOM555_FLAG_W,DELHER,HELIER
,,,,,,,,,,,METERS,DBAR,ITS-90,PSS-78,,PSS-78,,UMOL/KG,,UMOL/KG,,UMOL/KG,,UMOL/KG,,UMOL/KG,,UMOL/KG,,PMOL/KG,,PMOL/KG,,PMOL/KG,,UMOL/KG,,UMOL/KG,,,,DEG C,TU,,NMOL/KG,,PERCNT,,DEG C,,/MILLE,,/MILLE,,/MILLE,NMOL/KG,,NMOL/KG,PMOL/KG,,NMOL/L,,/MILLE,,UMOL/KG,,UMOL/KG,,,,,,TU,/MILLE,,1/M,,1/M,,1/NM,,1/M,,1/M,,1/NM,,,,1/M,,1/M,,1/M,,PERCNT,NMOL/KG
33RR20080204,       I06S,      23,          2,         36,         36,2,20080212,       1410,   -38.4962,    29.9991,       4311,    10.8,  20.0456,  35.4420,2,  35.4403,2,    232.0,2,   230.8,2,    1.00,2,    0.11,2,    0.00,2,    0.13,2,   2.306,2,   1.376,2,   0.198,2,  2028.2,6,  2327.6,2,   8.1178,2,    20.00,    -999,9,    -999,9,    -999,9,20.0641,2,-999,9,-999,9,-999,    -999,9,    -999,3.665,2,-999,9,-999,9,    -999,9,-999,1, 20080212,     1600, -38.4840,  29.9838,    -999,-999,9,   0.0341,2,   0.1150,2,   0.0131,3,   0.0839,2,   0.0100,2,   0.0215,2,-999,9,   0.0033,2,   0.0197,2,  -0.0003,4,    -999,    -999
33RR20080204,       I06S,      23,          2,         34,         34,2,20080212,       1410,   -38.4962,    29.9991,       4311,    20.8,  20.0211,  35.4419,2,  35.4391,2,    232.8,2,   230.4,2,    1.00,2,    0.11,2,    0.01,2,    0.15,2,   2.325,2,   1.390,2,   0.196,2,  2028.4,2,  2330.2,2,   8.1162,2,    20.00,    -999,9,    -999,9,    -999,9,20.065,3,-999,9,-999,9,-999,    -999,9,    -999,3.561,2,-999,9,-999,9,   66.34,2,-999,1, 20080212,     1559, -38.4839,  29.9841,    -999,-999,1,   0.0302,2,   0.1076,2,   0.0221,2,   0.0778,2,   0.0067,2,   0.0227,2,-999,1,   0.0006,3,   0.0162,2,  -0.0017,4,    -999,    -999
33RR20080204,       I06S,      23,          2,         33,         33,2,20080212,       1410,   -38.4962,    29.9991,       4311,    36.1,  19.3839,  35.4158,2,  35.4136,2,    236.1,2,   235.1,2,    1.39,2,    2.33,2,    0.15,2,    0.35,2,   2.391,2,   1.419,2,   0.205,2,  2035.2,2,  2326.1,2,   8.1044,2,    20.00,    -999,9,    -999,9,    -999,9,19.3831,2,-999,9,-999,9,-999,    -999,9,    -999,3.552,2,-999,9,-999,9,   61.46,2,-999,1, 20080212,     1558, -38.4839,  29.9845,    -999,-999,1,   0.0292,2,   0.1116,2,   0.0238,2,   0.0779,2,   0.0052,2,   0.0242,2,-999,9,  -0.0002,4,   0.0144,2,  -0.0023,4,    -999,    -999
33RR20080204,       I06S,      23,          2,         32,         32,2,20080212,       1410,   -38.4962,    29.9991,       4311,    66.8,  15.1776,  35.2017,2,  35.2109,2,    247.3,2,   249.7,2,    1.58,2,    2.33,2,    0.16,2,    0.35,2,   2.866,2,   1.679,2,   0.228,2,  2062.9,2,  2321.4,2,   8.0447,2,    20.00,    -999,9,    -999,9,    -999,9,15.4428,3,-999,9,-999,9,-999,    -999,9,    -999,3.272,2,-999,9,-999,9,   60.29,2,-999,1, 20080212,     1556, -38.4842,  29.9848,    -999,-999,1,   0.0430,2,   0.1283,2,   0.0177,2,   0.0934,2,   0.0148,2,   0.0189,2,-999,9,   0.0054,2,   0.0270,2,   0.0005,3,    -999,    -999
33RR20080204,       I06S,      23,          2,         30,         30,2,20080212,       1410,   -38.4962,    29.9991,       4311,    92.6,  14.7283,  35.3437,2,  35.3396,2,    214.8,2,   214.3,2,    4.14,2,    7.06,2,    0.03,2,    0.59,2,   2.829,2,   1.654,2,   0.152,2,    -999,5,  2323.0,2,   7.9797,2,    20.00,    -999,9,    -999,9,    -999,9,14.7215,2,-999,9,-999,9,-999,    -999,9,    -999,2.511,2,-999,9,-999,9,   52.10,2,-999,1, 20080212,     1554, -38.4845,  29.9852,    -999,-999,1,   0.0246,2,   0.0827,2,   0.0197,2,   0.0566,2,   0.0052,2,   0.0218,2,-999,9,  -0.0004,4,   0.0147,2,  -0.0023,4,    -999,    -999
33RR20080204,       I06S,      23,          2,         29,         29,2,20080212,       1410,   -38.4962,    29.9991,       4311,   141.5,  13.8405,  35.1708,2,  35.1652,2,    238.9,2,   238.1,2,    2.35,2,    5.90,2,    0.20,2,    0.54,2,   2.989,2,   1.762,2,   0.196,2,    -999,5,  2317.9,2,   7.9925,3,    20.00,    -999,9,    -999,9,    -999,9,13.8452,2,-999,9,-999,9,-999,    -999,9,    -999,2.903,2,-999,9,-999,9,   52.88,2,-999,1, 20080212,     1552, -38.4849,  29.9858,    -999,-999,1,   0.0262,2,   0.0904,2,   0.0217,2,   0.0642,2,   0.0045,3,   0.0223,2,-999,9,  -0.0011,4,   0.0140,2,  -0.0029,4,    -999,    -999
33RR20080204,       I06S,      23,          2,         28,         28,2,20080212,       1410,   -38.4962,    29.9991,       4311,   197.6,  13.1775,  35.1370,2,  35.1381,2,    227.9,2,   226.9,2,    3.92,2,    8.71,2,    0.02,2,    0.69,2,   3.024,2,   1.773,2,   0.152,2,    -999,5,  2313.1,2,   7.9534,2,    20.00,    -999,9,    -999,9,    -999,9,13.1942,2,-999,9,-999,9,-999,    -999,9,    -999,2.332,2,-999,9,-999,9,   53.66,2,-999,1, 20080212,     1550, -38.4857,  29.9865,    -999,-999,1,   0.0194,2,   0.0779,2,   0.0224,2,   0.0518,2,   0.0032,3,   0.0251,2,-999,1,  -0.0016,4,   0.0113,2,  -0.0032,4,    -999,    -999
33RR20080204,       I06S,      23,          2,         26,         26,2,20080212,       1410,   -38.4962,    29.9991,       4311,   284.7,  12.3172,  35.0552,2,  35.0497,2,    221.1,2,   226.0,2,    4.31,2,   10.61,2,    0.02,2,    0.81,2,   3.204,2,   1.800,2,   0.153,2,  2111.9,2,  2309.5,2,   7.9291,2,    20.00,    -999,9,    -999,9,    -999,9,12.353,2,-999,9,-999,9,-999,    -999,9,    -999,2.66,2,-999,9,-999,9,   45.07,2,-999,1, 20080212,     1548, -38.4858,  29.9867,    -999,-999,1,   0.0178,2,   0.0755,2,   0.0249,2,   0.0504,2,   0.0021,3,   0.0262,2,-999,9,  -0.0022,4,   0.0094,2,  -0.0034,4,    -999,    -999
33RR20080204,       I06S,      23,          2,         25,         25,2,20080212,       1410,   -38.4962,    29.9991,       4311,   385.9,  11.5280,  34.9944,2,  34.9925,2,    222.2,2,   221.6,2,    5.50,2,   12.81,2,    0.01,2,    0.95,2,   3.222,2,   1.755,2,   0.141,2,  2120.4,2,  2306.7,2,   7.9062,3,    20.00,    -999,9,    -999,9,    -999,9,11.5443,2,-999,9,-999,9,-999,    -999,9,    -999,2.638,2,-999,9,-999,9,   44.29,2,-999,1, 20080212,     1545, -38.4862,  29.9874,    -999,-999,1,   0.0163,2,   0.0686,2,   0.0245,2,   0.0444,2,   0.0018,3,   0.0269,2,-999,9,  -0.0022,4,   0.0086,2,  -0.0034,4,    -999,    -999
33RR20080204,       I06S,      23,          2,         24,         24,2,20080212,       1410,   -38.4962,    29.9991,       4311,   479.7,  10.7995,  34.8901,2,  34.8874,2,    227.7,2,   227.9,2,    5.89,2,   13.96,2,    0.01,2,    1.02,2,   3.316,2,   1.778,2,   0.183,2,  2121.8,2,  2302.6,2,   7.8944,3,    20.00,    -999,9,    -999,9,    -999,9,10.782,2,-999,9,-999,9,-999,    -999,9,    -999,3.098,2,-999,9,-999,9,   44.29,2,-999,1, 20080212,     1542, -38.4863,  29.9876,    -999,-999,1,   0.0141,2,   0.0673,2,   0.0278,2,   0.0426,2,   0.0006,3,   0.0291,2,-999,9,  -0.0030,4,   0.0068,2,  -0.0038,4,    -999,    -999
33RR20080204,       I06S,      23,          2,         22,         22,2,20080212,       1410,   -38.4962,    29.9991,       4311,   564.6,   9.5345,  34.6676,2,  34.6645,2,    245.1,2,   247.1,2,    5.69,2,   15.21,2,    0.01,2,    1.09,2,   3.545,2,   1.987,2,   0.245,2,  2120.4,2,  2294.6,2,   7.8789,2,    20.00,    -999,9,    -999,9,    -999,9,9.5288,2,-999,9,-999,9,-999,    -999,9,    -999,3.457,2,-999,9,-999,9,   45.85,2,-999,1, 20080212,     1539, -38.4867,  29.9880,    -999,-999,1,   0.0164,2,   0.0735,2,   0.0256,2,   0.0472,2,   0.0017,3,   0.0276,2,-999,9,  -0.0027,4,   0.0086,2,  -0.0039,4,    -999,    -999
33RR20080204,       I06S,      23,          2,         21,         21,2,20080212,       1410,   -38.4962,    29.9991,       4311,   672.3,   8.6358,  34.6049,2,  34.6018,2,    217.2,2,   217.9,2,    9.84,2,   19.98,2,    0.00,2,    1.40,2,   3.250,2,   1.726,2,   0.183,2,  2143.3,2,  2293.7,2,   7.8218,2,    20.00,    -999,9,    -999,9,    -999,9,8.6345,2,-999,9,-999,9,-999,    -999,9,    -999,2.719,2,-999,9,-999,9,   42.83,2,-999,1, 20080212,     1536, -38.4871,  29.9886,    -999,-999,1,   0.0196,2,   0.0810,2,   0.0232,2,   0.0510,2,   0.0035,3,   0.0263,2,-999,9,  -0.0020,4,   0.0108,2,  -0.0035,4,    -999,    -999
33RR20080204,       I06S,      23,          2,         20,         20,2,20080212,       1410,   -38.4962,    29.9991,       4311,   761.2,   7.8831,  34.5891,2,  34.5858,2,    198.1,2,   196.4,2,   16.99,2,   23.71,2,    0.00,2,    1.64,2,   2.571,2,   1.313,2,   0.128,2,  2164.4,2,  2296.3,2,   7.7796,2,    20.00,    -999,9,    -999,9,    -999,9,7.8847,2,-999,9,-999,9,-999,    -999,9,    -999,2.185,2,-999,9,-999,9,   39.51,2,-999,1, 20080212,     1533, -38.4870,  29.9888,    -999,-999,1,   0.0183,2,   0.0772,2,   0.0235,2,   0.0474,2,   0.0033,3,   0.0270,2,-999,9,  -0.0018,4,   0.0101,2,  -0.0032,4,    -999,    -999
33RR20080204,       I06S,      23,          2,         18,         18,2,20080212,       1410,   -38.4962,    29.9991,       4311,   967.4,   5.5942,  34.4159,2,  34.4137,2,    196.6,2,   201.6,2,   26.99,2,   28.62,2,    0.00,2,    1.97,2,   2.398,2,   1.207,2,   0.139,2,  2184.6,2,  2299.1,2,   7.7285,2,    20.00,    -999,9,    -999,9,    -999,9,5.5942,2,-999,9,-999,9,-999,    -999,9,    -999,2.626,2,-999,9,-999,9,   40.88,2,-999,1, 20080212,     1528, -38.4875,  29.9895,    -999,-999,1,   0.0201,2,   0.0862,2,   0.0246,2,   0.0549,2,   0.0032,3,   0.0267,2,-999,9,  -0.0020,4,   0.0104,2,  -0.0032,4,    -999,    -999
33RR20080204,       I06S,      23,          2,         17,         17,2,20080212,       1410,   -38.4962,    29.9991,       4311,  1182.0,   4.4932,  34.4463,2,  34.4440,2,    183.5,2,   183.4,2,   43.49,2,   31.82,2,    0.00,2,    2.21,2,   1.479,2,   0.725,2,   0.081,2,  2215.4,2,  2313.2,2,   7.6875,2,    20.00,    -999,9,    -999,9,    -999,9,4.4937,2,-999,9,-999,9,-999,    -999,9,    -999,2.631,2,-999,9,-999,9,   39.12,2,-999,1, 20080212,     1523, -38.4882,  29.9906,    -999,-999,9,   0.0230,2,   0.0896,2,   0.0212,2,   0.0555,2,   0.0054,2,   0.0249,2,-999,9,  -0.0012,4,   0.0131,2,  -0.0029,4,    -999,    -999
33RR20080204,       I06S,      23,          2,         16,         16,2,20080212,       1410,   -38.4962,    29.9991,       4311,  1372.6,   3.7116,  34.5087,2,  34.5064,2,    171.2,2,   171.4,2,   57.67,2,   33.50,2,    0.00,2,    2.33,2,   0.752,2,   0.388,2,   0.039,2,  2237.0,2,  2324.4,2,   7.6622,2,    20.00,    -999,9,    -999,9,    -999,9,3.6983,3,-999,9,-999,9,-999,    -999,9,    -999,1.439,2,-999,9,-999,9,   38.15,2,-999,1, 20080212,     1519, -38.4883,  29.9911,    -999,-999,9,   0.0242,2,   0.0973,2,   0.0227,2,   0.0612,2,   0.0051,2,   0.0255,2,-999,9,  -0.0012,4,   0.0129,2,  -0.0028,4,    -999,    -999
33RR20080204,       I06S,      23,          2,         14,         14,2,20080212,       1410,   -38.4962,    29.9991,       4311,  1577.4,   3.3067,  34.6009,2,  34.5982,2,    165.5,2,   164.8,2,   68.44,2,   33.51,2,    0.00,2,    2.33,2,   0.296,2,   0.169,2,   0.009,2,  2251.5,2,  2338.3,2,   7.6564,2,    20.00,    -999,9,    -999,9,    -999,9,3.3072,2,-999,9,-999,9,-999,    -999,9,    -999,0.939,2,-999,9,-999,9,   35.12,3,-999,1, 20080212,     1513, -38.4887,  29.9923,    -999,-999,9,   0.0285,2,   0.1058,2,   0.0210,2,   0.0677,2,   0.0071,2,   0.0237,2,-999,9,  -0.0004,4,   0.0160,2,  -0.0024,4,    -999,    -999
33RR20080204,       I06S,      23,          2,         13,         13,2,20080212,       1410,   -38.4962,    29.9991,       4311,  1781.0,   2.9512,  34.6641,2,  34.6616,2,    174.4,2,   174.1,2,   69.24,2,   32.23,2,    0.00,2,    2.24,2,   0.151,2,   0.091,2,   0.003,2,  2247.5,2,  2343.0,2,   7.6727,2,    20.00,    -999,9,    -999,9,    -999,9,2.9494,2,-999,9,-999,9,-999,    -999,9,    -999,0.673,2,-999,9,-999,9,   38.05,2,-999,1, 20080212,     1508, -38.4894,  29.9933,    -999,-999,9,   0.0261,2,   0.1040,2,   0.0224,2,   0.0658,2,   0.0057,2,   0.0252,2,-999,9,  -0.0009,4,   0.0141,2,  -0.0026,4,    -999,    -999
33RR20080204,       I06S,      23,          2,         12,         12,2,20080212,       1410,   -38.4962,    29.9991,       4311,  1980.9,   2.8008,  34.7267,2,  34.7248,2,    185.6,2,   186.4,2,   66.19,2,   30.40,2,    0.00,2,    2.10,2,   0.075,2,   0.048,2,  -0.002,2,  2238.0,2,  2340.2,2,   7.6961,2,    20.00,    -999,9,    -999,9,    -999,9,2.8002,2,-999,9,-999,9,-999,    -999,9,    -999,0.492,2,-999,9,-999,9,   39.41,2,-999,1, 20080212,     1502, -38.4899,  29.9937,    -999,-999,9,   0.0288,2,   0.1090,2,   0.0213,2,   0.0703,2,   0.0071,2,   0.0240,2,-999,9,  -0.0005,4,   0.0161,2,  -0.0024,4,    -999,    -999
33RR20080204,       I06S,      23,          2,         10,         10,2,20080212,       1410,   -38.4962,    29.9991,       4311,  2280.7,   2.6611,  34.7909,2,  34.7888,2,    203.8,2,   204.6,2,   59.68,2,   27.87,2,    0.00,2,    1.89,2,   0.046,2,   0.027,2,  -0.007,2,  2221.7,2,  2337.6,2,   7.7295,2,    20.00,    -999,9,    -999,9,    -999,9,2.6609,2,-999,9,-999,9,-999,    -999,9,    -999,0.444,2,-999,9,-999,9,    -999,9,-999,9, 20080212,     1456, -38.4906,  29.9949,    -999,-999,9,     -999,9,     -999,9,     -999,9,     -999,9,     -999,9,     -999,9,-999,9,     -999,9,     -999,9,     -999,9,    -999,    -999
33RR20080204,       I06S,      23,          2,          9,          9,2,20080212,       1410,   -38.4962,    29.9991,       4311,  2587.5,   2.5069,  34.8179,2,  34.8162,2,    214.2,2,   214.7,2,   59.26,2,   26.65,2,    0.00,2,    1.82,2,   0.030,2,   0.015,2,  -0.003,2,  2217.2,2,  2339.2,2,   7.7475,2,    20.00,    -999,9,    -999,9,    -999,9,2.5066,2,-999,9,-999,9,-999,    -999,9,    -999,0.384,2,-999,9,-999,9,   37.85,2,-999,1, 20080212,     1450, -38.4913,  29.9956,    -999,-999,9,   0.0280,2,   0.1094,2,   0.0215,2,   0.0711,2,   0.0074,2,   0.0242,2,-999,9,  -0.0001,4,   0.0158,2,  -0.0022,4,    -999,    -999
33RR20080204,       I06S,      23,          2,          8,          8,2,20080212,       1410,   -38.4962,    29.9991,       4311,  2897.1,   2.3403,  34.8247,2,  34.8232,2,    219.2,2,   219.3,2,   62.32,2,   26.35,2,    0.00,2,    1.79,2,   0.025,2,   0.014,2,  -0.007,2,  2217.6,2,  2340.9,2,   7.7551,2,    20.00,    -999,9,    -999,9,    -999,9,2.3403,2,-999,9,-999,9,-999,    -999,9,    -999,0.293,2,-999,9,-999,9,    -999,9,-999,9, 20080212,     1443, -38.4920,  29.9964,    -999,-999,9,     -999,9,     -999,9,     -999,9,     -999,9,     -999,9,     -999,9,-999,9,     -999,9,     -999,9,     -999,9,    -999,    -999
33RR20080204,       I06S,      23,          2,          6,          6,2,20080212,       1410,   -38.4962,    29.9991,       4311,  3204.3,   2.1537,  34.8158,2,  34.8141,2,    220.2,2,   219.4,2,   68.62,2,   26.81,2,    0.00,2,    1.83,2,   0.028,2,   0.017,2,  -0.007,2,  2223.1,2,  2346.3,2,   7.7515,2,    20.00,    -999,9,    -999,9,    -999,9,2.1526,2,-999,9,-999,9,-999,    -999,9,    -999,0.347,2,-999,9,-999,9,   39.32,2,-999,1, 20080212,     1436, -38.4930,  29.9969,    -999,-999,9,   0.0275,2,   0.1070,2,   0.0217,2,   0.0701,2,   0.0069,2,   0.0242,2,-999,9,  -0.0004,4,   0.0156,2,  -0.0024,4,    -999,    -999
33RR20080204,       I06S,      23,          2,          5,          5,2,20080212,       1410,   -38.4962,    29.9991,       4311,  3511.6,   1.8668,  34.7936,2,  34.7930,2,    217.4,2,   217.5,2,   79.22,2,   27.88,2,    0.00,2,    1.90,2,   0.041,2,   0.026,2,  -0.004,2,  2231.7,2,  2351.9,2,   7.7411,2,    20.00,    -999,9,    -999,9,    -999,9,1.867,2,-999,9,-999,9,-999,    -999,9,    -999,0.354,2,-999,9,-999,9,    -999,9,-999,9, 20080212,     1430, -38.4938,  29.9976,    -999,-999,9,     -999,9,     -999,9,     -999,9,     -999,9,     -999,9,     -999,9,-999,9,     -999,9,     -999,9,     -999,9,    -999,    -999
33RR20080204,       I06S,      23,          2,          4,          4,2,20080212,       1410,   -38.4962,    29.9991,       4311,  3816.2,   1.5072,  34.7649,2,  34.7638,2,    216.2,2,   216.5,2,   92.28,2,   29.25,2,    0.00,2,    2.00,2,   0.054,2,   0.034,2,  -0.007,2,  2242.5,2,  2357.0,2,   7.7285,2,    20.00,    -999,9,    -999,9,    -999,9,1.5082,2,-999,9,-999,9,-999,    -999,9,    -999,0.396,2,-999,9,-999,9,   37.56,2,-999,1, 20080212,     1423, -38.4943,  29.9978,    -999,-999,9,   0.0300,2,   0.1095,2,   0.0212,2,   0.0717,2,   0.0074,2,   0.0233,2,-999,9,   0.0000,4,   0.0165,2,  -0.0023,4,    -999,    -999
33RR20080204,       I06S,      23,          2,          2,          2,2,20080212,       1410,   -38.4962,    29.9991,       4311,  4121.6,   1.2492,  34.7445,2,  34.7436,2,    216.4,2,   216.4,2,  101.47,2,   30.17,2,    0.00,2,    2.07,2,   0.072,2,   0.041,2,   0.003,2,  2249.5,2,  2360.9,2,   7.7197,2,    20.00,    -999,9,    -999,9,    -999,9,1.2491,2,-999,9,-999,9,-999,    -999,9,    -999,0.516,2,-999,9,-999,9,    -999,9,-999,9, 20080212,     1417, -38.4953,  29.9984,    -999,-999,9,     -999,9,     -999,9,     -999,9,     -999,9,     -999,9,     -999,9,-999,9,     -999,9,     -999,9,     -999,9,    -999,    -999
33RR20080204,       I06S,      23,          2,          1,          1,2,20080212,       1410,   -38.4962,    29.9991,       4311,  4344.2,   1.0609,  34.7291,2,  34.7288,2,    216.3,2,   217.0,2,  107.99,2,   30.79,2,    0.00,2,    2.12,2,   0.108,2,   0.063,2,   0.021,2,  2253.5,6,  2364.5,2,   7.7133,2,    20.00,    -999,9,    -999,9,    -999,9,1.061,2,-999,9,-999,9,-999,    -999,9,    -999,0.638,2,-999,9,-999,9,   38.73,2,-999,1, 20080212,     1411, -38.4961,  29.9991,    -999,-999,9,   0.0305,2,   0.1105,2,   0.0203,2,   0.0722,2,   0.0084,2,   0.0229,2,-999,9,   0.0002,4,   0.0177,2,  -0.0022,4,    -999,    -999