BOTTLE,20220706CCHSIOAMB
EXPOCODE,SECT_ID,STNNBR,CASTNO,SAMPNO,BTLNBR,BTLNBR_FLAG_W,DATE,TIME,LATITUDE,LONGITUDE,DEPTH,CTDPRS,CTDTMP,CTDSAL,CTDSAL_FLAG_W,SALNTY,SALNTY_FLAG_W,CTDOXY,CTDOXY_FLAG_W,OXYGEN,OXYGEN_FLAG_W,SILCAT,SILCAT_FLAG_W,NITRAT,NITRAT_FLAG_W,NITRIT,NITRIT_FLAG_W,PHSPHT,PHSPHT_FLAG_W,CFC-11,CFC-11_FLAG_W,CFC-12,CFC-12_FLAG_W,CFC113,CFC113_FLAG_W,TCARBN,TCARBN_FLAG_W,ALKALI,ALKALI_FLAG_W,PH_SWS,PH_SWS_FLAG_W,PH_TMP,TRITUM,TRITUM_FLAG_W,HELIUM,HELIUM_FLAG_W,DELHE3,DELHE3_FLAG_W,REFTMP,REFTMP_FLAG_W,DELC13,DELC13_FLAG_W,DELC14,DELC14_FLAG_W,C14ERR,NEON,NEON_FLAG_W,NEONER,CCL4,CCL4_FLAG_W,ALUMIN,ALUMIN_FLAG_W,DELO18,DELO18_FLAG_W,DOC,DOC_FLAG_W,TDN,TDN_FLAG_W,BTL_DATE,BTL_TIME,BTL_LAT,BTL_LON,TRITER,DELSI30,DELSI30_FLAG_W,CDOM380,CDOM380_FLAG_W,CDOM325,CDOM325_FLAG_W,CDOMSL,CDOMSL_FLAG_W,CDOM340,CDOM340_FLAG_W,CDOM443,CDOM443_FLAG_W,CDOMSN,CDOMSN_FLAG_W,BLACKC,BLACKC_FLAG_W,CDOM490,CDOM490_FLAG_W,CDOM412,CDOM412_FLAG_W,CDOM555,CDOM555_FLAG_W,DELHER,HELIER
,,,,,,,,,,,METERS,DBAR,ITS-90,PSS-78,,PSS-78,,UMOL/KG,,UMOL/KG,,UMOL/KG,,UMOL/KG,,UMOL/KG,,UMOL/KG,,PMOL/KG,,PMOL/KG,,PMOL/KG,,UMOL/KG,,UMOL/KG,,,,DEG C,TU,,NMOL/KG,,PERCNT,,DEG C,,/MILLE,,/MILLE,,/MILLE,NMOL/KG,,NMOL/KG,PMOL/KG,,NMOL/L,,/MILLE,,UMOL/KG,,UMOL/KG,,,,,,TU,/MILLE,,1/M,,1/M,,1/NM,,1/M,,1/M,,1/NM,,,,1/M,,1/M,,1/M,,PERCNT,NMOL/KG
33RR20080204,       I06S,      41,          1,         36,         36,2,20080218,       0222,   -47.5013,    29.9984,       4922,    12.4,   6.4086,  33.8003,2,  33.7976,2,    303.7,2,   304.3,2,    2.92,2,   20.16,2,    0.26,2,    1.43,2,   4.837,2,   2.735,2,   0.435,2,  2108.7,6,  2265.1,2,   7.9684,2,    13.00,    -999,9,    -999,9,    -999,9,6.4078,2,1.81,2,-27.3,2,2.9,    -999,9,    -999,6.871,2,-999,9,-999,9,    -999,9,-999,9, 20080218,     0429, -47.5084,  29.9989,    -999,-999,9,   0.0208,2,   0.0749,2,   0.0198,3,   0.0478,2,   0.0058,2,   0.0215,2,-999,9,  -0.0003,4,   0.0127,2,  -0.0033,4,    -999,    -999
33RR20080204,       I06S,      41,          1,         35,         35,2,20080218,       0222,   -47.5013,    29.9984,       4922,    21.6,   6.3910,  33.8015,2,  33.7992,2,    304.3,2,   303.6,2,    2.72,2,   20.15,2,    0.26,2,    1.44,2,   4.880,2,   2.755,2,   0.419,2,  2108.4,2,  2267.7,2,   7.9683,2,    13.00,    -999,9,    -999,9,    -999,9,6.3899,2,-999,9,-999,9,-999,    -999,9,    -999,6.75,2,-999,9,-999,9,    -999,9,-999,9, 20080218,     0428, -47.5083,  29.9989,    -999,-999,9,   0.0170,2,   0.0824,2,   0.0261,3,   0.0488,2,   0.0018,3,   0.0307,2,-999,9,  -0.0033,4,   0.0086,2,  -0.0049,4,    -999,    -999
33RR20080204,       I06S,      41,          1,         34,         34,2,20080218,       0222,   -47.5013,    29.9984,       4922,    37.1,   6.3724,  33.8021,2,  33.7992,2,    304.9,2,   303.0,2,    2.70,2,   20.11,2,    0.26,2,    1.44,2,   4.807,2,   2.725,2,   0.422,2,  2109.1,2,  2265.3,2,   7.9688,2,    13.00,    -999,9,    -999,9,    -999,9,6.373,2,1.75,2,-22.2,2,3.2,    -999,9,    -999,6.688,2,-999,9,-999,9,   47.90,2,-999,1, 20080218,     0427, -47.5080,  29.9985,    -999,-999,9,   0.0133,2,   0.0604,2,   0.0246,3,   0.0347,2,   0.0019,3,   0.0306,2,-999,9,  -0.0028,4,   0.0080,2,  -0.0042,4,    -999,    -999
33RR20080204,       I06S,      41,          1,         33,         33,2,20080218,       0222,   -47.5013,    29.9984,       4922,    61.2,   6.0696,  33.8018,2,  33.7994,2,    306.2,2,   305.5,2,    2.87,2,   20.26,2,    0.25,2,    1.45,2,   4.877,2,   2.753,2,   0.425,2,  2111.7,2,  2266.1,2,   7.9658,2,    13.00,    -999,9,    -999,9,    -999,9,6.0705,2,-999,9,-999,9,-999,    -999,9,    -999,6.874,2,-999,9,-999,9,   42.15,2,-999,1, 20080218,     0425, -47.5081,  29.9988,    -999,-999,9,   0.0150,2,   0.0701,2,   0.0252,2,   0.0422,2,   0.0024,3,   0.0298,2,-999,9,  -0.0028,4,   0.0085,2,  -0.0043,4,    -999,    -999
33RR20080204,       I06S,      41,          1,         32,         32,2,20080218,       0222,   -47.5013,    29.9984,       4922,    96.2,   5.5966,  33.8053,2,  33.8027,2,    309.0,2,   307.7,2,    2.85,2,   20.60,2,    0.26,2,    1.46,2,   5.030,2,   2.813,2,   0.450,2,  2116.9,2,  2266.8,2,   7.9591,2,    13.00,    -999,9,    -999,9,    -999,9,5.5885,2,1.75,2,-29.4,2,3.3,    -999,9,    -999,7.161,2,-999,9,-999,9,   41.66,2,-999,1, 20080218,     0423, -47.5078,  29.9986,    -999,-999,9,   0.0150,2,   0.0667,2,   0.0237,3,   0.0399,2,   0.0028,3,   0.0283,2,-999,9,  -0.0024,4,   0.0090,2,  -0.0041,4,    -999,    -999
33RR20080204,       I06S,      41,          1,         31,         31,2,20080218,       0222,   -47.5013,    29.9984,       4922,   144.4,   4.2123,  33.8325,2,  33.8309,2,    310.6,2,   312.8,2,    5.24,2,   21.41,2,    0.39,2,    1.57,2,   5.376,6,   2.991,6,   0.452,6,  2126.4,2,  2266.9,2,   7.9354,2,    13.00,    -999,9,    -999,9,    -999,9,4.2043,2,-999,9,-999,9,-999,    -999,9,    -999,6.8945,6,-999,9,-999,9,   59.51,4,-999,1, 20080218,     0421, -47.5079,  29.9989,    -999,-999,9,   0.0193,2,   0.0742,2,   0.0207,3,   0.0458,2,   0.0042,2,   0.0233,2,-999,9,  -0.0017,4,   0.0117,2,  -0.0038,4,    -999,    -999
33RR20080204,       I06S,      41,          1,         30,         30,2,20080218,       0222,   -47.5013,    29.9984,       4922,   196.5,   3.7963,  33.9128,2,  33.9179,4,    304.5,2,   304.0,2,    8.00,2,   23.72,2,    0.01,2,    1.64,2,   5.287,2,   2.932,2,   0.443,2,  2132.8,2,  2269.2,2,   7.9123,2,    13.00,    -999,9,    -999,9,    -999,9,3.7942,2,1.49,2,-29.6,2,3.3,    -999,9,    -999,6.484,2,-999,9,-999,9,   37.37,2,-999,1, 20080218,     0418, -47.5075,  29.9983,    -999,-999,9,   0.0179,2,   0.0797,2,   0.0229,3,   0.0466,2,   0.0034,3,   0.0270,3,-999,9,  -0.0022,4,   0.0106,2,  -0.0040,4,    -999,    -999
33RR20080204,       I06S,      41,          1,         29,         29,2,20080218,       0222,   -47.5013,    29.9984,       4922,   235.6,   3.5582,  33.9831,2,  33.9793,2,    291.9,2,   290.6,2,   11.13,2,   25.51,2,    0.01,2,    1.75,2,   5.063,2,   2.773,2,   0.417,2,  2146.4,2,  2270.9,2,   7.8880,2,    13.00,    -999,9,    -999,9,    -999,9,3.5578,2,-999,9,-999,9,-999,    -999,9,    -999,5.826,2,-999,9,-999,9,   40.59,2,-999,1, 20080218,     0417, -47.5078,  29.9987,    -999,-999,9,   0.0214,2,   0.0789,2,   0.0194,3,   0.0489,2,   0.0058,2,   0.0215,3,-999,9,  -0.0005,4,   0.0135,2,  -0.0029,4,    -999,    -999
33RR20080204,       I06S,      41,          1,         28,         28,2,20080218,       0222,   -47.5013,    29.9984,       4922,   286.0,   3.8461,  34.1111,2,  34.1091,2,    267.5,2,   267.2,2,   15.01,2,   27.41,2,    0.01,2,    1.87,2,   4.551,2,   2.471,2,   0.370,2,  2159.3,2,  2277.6,2,   7.8608,2,    13.00,    -999,9,    -999,9,    -999,9,3.8438,2,1.16,2,-28.0,2,3.4,    -999,9,    -999,5.267,2,-999,9,-999,9,   39.12,2,-999,1, 20080218,     0415, -47.5074,  29.9984,    -999,-999,9,     -999,9,     -999,9,     -999,9,     -999,9,     -999,9,     -999,9,-999,9,     -999,9,     -999,9,     -999,9,    -999,    -999
33RR20080204,       I06S,      41,          1,         27,         27,2,20080218,       0222,   -47.5013,    29.9984,       4922,   333.1,   3.5987,  34.1233,2,  34.1222,2,    261.2,2,   262.4,2,   18.14,2,   28.30,2,    0.01,2,    1.93,2,   4.363,2,   2.322,2,   0.380,2,  2165.9,2,  2279.9,2,   7.8495,2,    13.00,    -999,9,    -999,9,    -999,9,3.5926,2,1.13,2,-36.4,2,3.2,    -999,9,    -999,5.148,2,-999,9,-999,9,    -999,9,-999,9, 20080218,     0413, -47.5075,  29.9987,    -999,-999,9,     -999,9,     -999,9,     -999,9,     -999,9,     -999,9,     -999,9,-999,9,     -999,9,     -999,9,     -999,9,    -999,    -999
33RR20080204,       I06S,      41,          1,         26,         26,2,20080218,       0222,   -47.5013,    29.9984,       4922,   386.2,   3.3748,  34.1382,2,  34.1359,2,    255.0,2,   256.4,2,   21.28,2,   29.05,2,    0.01,2,    1.99,2,   4.175,2,   2.210,2,   0.316,2,  2157.4,3,  2282.8,2,   7.8390,2,    13.00,    -999,9,    -999,9,    -999,9,3.373,2,1.08,2,-48.6,2,2.7,    -999,9,    -999,4.501,2,-999,9,-999,9,   40.29,2,-999,1, 20080218,     0411, -47.5072,  29.9983,    -999,-999,9,     -999,9,     -999,9,     -999,9,     -999,9,     -999,9,     -999,9,-999,9,     -999,9,     -999,9,     -999,9,    -999,    -999
33RR20080204,       I06S,      41,          1,         25,         25,2,20080218,       0222,   -47.5013,    29.9984,       4922,   433.9,   3.2776,  34.1673,2,  34.1651,2,    249.7,2,   249.0,2,   27.78,3,   30.40,3,    0.01,3,    2.09,3,   3.799,2,   2.006,2,   0.313,2,  2177.8,2,  2285.5,2,   7.8294,2,    13.00,    -999,9,    -999,9,    -999,9,3.277,2,1.07,2,-50.2,2,2.3,    -999,9,    -999,3.955,2,-999,9,-999,9,    -999,9,-999,9, 20080218,     0409, -47.5073,  29.9985,    -999,-999,9,     -999,9,     -999,9,     -999,9,     -999,9,     -999,9,     -999,9,-999,9,     -999,9,     -999,9,     -999,9,    -999,    -999
33RR20080204,       I06S,      41,          1,         24,         24,2,20080218,       0222,   -47.5013,    29.9984,       4922,   481.8,   3.0680,  34.1773,2,  34.1759,2,    242.7,2,   245.0,2,   27.77,2,   30.41,2,    0.01,2,    2.09,2,   3.635,2,   1.896,2,   0.300,2,  2185.1,2,  2288.2,2,   7.8206,2,    13.00,    -999,9,    -999,9,    -999,9,3.0658,2,1.07,2,-48.9,2,3.3,    -999,9,    -999,4.513,2,-999,9,-999,9,   38.24,2,-999,1, 20080218,     0407, -47.5072,  29.9986,    -999,-999,9,     -999,9,     -999,9,     -999,9,     -999,9,     -999,9,     -999,9,-999,9,     -999,9,     -999,9,     -999,9,    -999,    -999
33RR20080204,       I06S,      41,          1,         23,         23,2,20080218,       0222,   -47.5013,    29.9984,       4922,   562.7,   2.8598,  34.2118,2,  34.2094,2,    234.0,2,   234.0,2,   33.73,2,   31.51,2,    0.01,2,    2.17,2,   3.209,2,   1.673,2,   0.252,2,  2191.9,2,  2294.8,2,   7.8024,2,    13.00,    -999,9,    -999,9,    -999,9,2.8593,2,0.96,2,-69.9,2,2.5,    -999,9,    -999,3.894,2,-999,9,-999,9,   37.17,2,-999,1, 20080218,     0404, -47.5070,  29.9986,    -999,-999,9,     -999,9,     -999,9,     -999,9,     -999,9,     -999,9,     -999,9,-999,9,     -999,9,     -999,9,     -999,9,    -999,    -999
33RR20080204,       I06S,      41,          1,         22,         22,2,20080218,       0222,   -47.5013,    29.9984,       4922,   674.4,   2.8273,  34.2914,2,  34.2899,2,    215.1,2,   213.8,2,   42.69,2,   32.77,2,    0.01,2,    2.25,2,   2.373,2,   1.209,2,   0.189,2,  2208.9,2,  2303.6,2,   7.7809,2,    13.00,    -999,9,    -999,9,    -999,9,2.8268,2,0.77,2,-87.7,2,2.0,    -999,9,    -999,3.15,2,-999,9,-999,9,   37.95,2,-999,1, 20080218,     0401, -47.5068,  29.9983,    -999,-999,9,   0.0260,2,   0.0924,2,   0.0187,3,   0.0579,2,   0.0076,2,   0.0201,3,-999,9,   0.0003,3,   0.0165,2,  -0.0027,4,    -999,    -999
33RR20080204,       I06S,      41,          1,         21,         21,2,20080218,       0222,   -47.5013,    29.9984,       4922,   771.3,   2.7192,  34.3468,2,  34.3463,2,    199.6,2,   200.4,2,   50.17,2,   33.67,2,    0.01,2,    2.31,2,   1.858,2,   0.941,2,   0.123,2,  2224.2,2,  2309.1,2,   7.7645,2,    13.00,    -999,9,    -999,9,    -999,9,2.7173,2,0.68,2,-101.3,2,3.1,    -999,9,    -999,2.634,2,-999,9,-999,9,    -999,9,-999,9, 20080218,     0358, -47.5069,  29.9985,    -999,-999,9,     -999,9,     -999,9,     -999,9,     -999,9,     -999,9,     -999,9,-999,9,     -999,9,     -999,9,     -999,9,    -999,    -999
33RR20080204,       I06S,      41,          1,         20,         20,2,20080218,       0222,   -47.5013,    29.9984,       4922,   873.3,   2.6697,  34.4116,2,  34.4106,2,    189.0,2,   189.5,2,   56.92,2,   34.12,2,    0.00,2,    2.35,2,   1.363,2,   0.677,2,   0.117,2,  2234.1,2,  2316.4,2,   7.7549,2,    13.00,    -999,9,    -999,9,    -999,9,2.6695,2,0.59,2,-116.8,2,2.8,    -999,9,    -999,1.954,2,-999,9,-999,9,    -999,9,-999,1, 20080218,     0355, -47.5067,  29.9985,    -999,-999,9,   0.0305,2,   0.1028,2,   0.0182,3,   0.0658,2,   0.0094,2,   0.0189,3,-999,9,   0.0009,2,   0.0196,2,  -0.0024,4,    -999,    -999
33RR20080204,       I06S,      41,          1,         19,         19,2,20080218,       0222,   -47.5013,    29.9984,       4922,   973.2,   2.6322,  34.4756,2,  34.4725,2,    181.3,2,   182.7,2,   62.18,2,   34.13,2,    0.00,2,    2.34,2,   0.958,2,   0.471,2,   0.061,2,  2240.5,2,  2322.6,2,   7.7526,2,    13.00,    -999,9,    -999,9,    -999,9,2.6305,2,0.48,2,-121.6,2,2.9,    -999,9,    -999,1.48,2,-999,9,-999,9,    -999,9,-999,9, 20080218,     0352, -47.5067,  29.9984,    -999,-999,9,     -999,9,     -999,9,     -999,9,     -999,9,     -999,9,     -999,9,-999,9,     -999,9,     -999,9,     -999,9,    -999,    -999
33RR20080204,       I06S,      41,          1,         18,         18,2,20080218,       0222,   -47.5013,    29.9984,       4922,  1074.5,   2.6061,  34.5363,2,  34.5345,2,    177.9,2,   177.6,2,   65.94,2,   33.88,2,    0.00,2,    2.33,2,   0.642,2,   0.336,2,   0.036,2,  2243.9,6,  2327.5,2,   7.7534,3,    13.00,    -999,9,    -999,9,    -999,9,2.606,2,0.48,2,-133.1,2,2.5,    -999,9,    -999,1.138,2,-999,9,-999,9,   38.63,2,-999,1, 20080218,     0349, -47.5062,  29.9979,    -999,-999,9,   0.0312,2,   0.1107,2,   0.0122,4,   0.0707,2,   0.0093,2,   0.0204,3,-999,9,   0.0014,2,   0.0189,2,   0.0003,4,    -999,    -999
33RR20080204,       I06S,      41,          1,         17,         17,2,20080218,       0222,   -47.5013,    29.9984,       4922,  1173.0,   2.5804,  34.5775,2,  34.5759,2,    175.6,2,   176.4,2,   68.95,2,   33.48,2,    0.00,2,    2.30,2,   0.482,2,   0.247,2,   0.034,2,  2253.2,2,  2335.8,2,   7.7580,2,    13.00,    -999,9,    -999,9,    -999,9,2.5807,2,0.48,2,-130.5,2,2.4,    -999,9,    -999,0.979,2,-999,9,-999,9,   37.76,2,-999,1, 20080218,     0346, -47.5062,  29.9981,    -999,-999,9,   0.0319,2,   0.1089,2,   0.0192,3,   0.0701,2,   0.0094,2,   0.0197,3,-999,9,   0.0015,2,   0.0190,2,  -0.0015,4,    -999,    -999
33RR20080204,       I06S,      41,          1,         16,         16,2,20080218,       0222,   -47.5013,    29.9984,       4922,  1270.2,   2.5179,  34.6028,2,  34.6016,2,    175.1,2,   175.5,2,   71.39,2,   33.33,2,    0.00,2,    2.29,2,   0.422,2,   0.228,2,   0.019,2,  2249.0,2,  2334.6,2,   7.7573,3,    13.00,    -999,9,    -999,9,    -999,9,2.5176,2,0.58,2,-146.9,2,2.6,    -999,9,    -999,0.905,2,-999,9,-999,9,    -999,9,-999,9, 20080218,     0343, -47.5063,  29.9984,    -999,-999,9,     -999,9,     -999,9,     -999,9,     -999,9,     -999,9,     -999,9,-999,9,     -999,9,     -999,9,     -999,9,    -999,    -999
33RR20080204,       I06S,      41,          1,         15,         15,2,20080218,       0222,   -47.5013,    29.9984,       4922,  1369.0,   2.5549,  34.6489,2,  34.6475,2,    178.7,2,   178.4,2,   70.81,2,   32.38,2,    0.00,2,    2.23,2,   0.282,2,   0.158,2,   0.023,2,  2246.0,2,  2339.5,2,   7.7710,2,    13.00,    -999,9,    -999,9,    -999,9,2.5547,2,0.57,2,-147.8,2,2.6,    -999,9,    -999,0.906,2,-999,9,-999,9,   37.17,2,-999,1, 20080218,     0340, -47.5061,  29.9985,    -999,-999,9,   0.0339,2,   0.1126,2,   0.0187,3,   0.0732,2,   0.0104,2,   0.0193,3,-999,9,   0.0020,2,   0.0205,2,  -0.0012,4,    -999,    -999
33RR20080204,       I06S,      41,          1,         14,         14,2,20080218,       0222,   -47.5013,    29.9984,       4922,  1587.2,   2.3777,  34.6943,2,  34.6923,2,    182.7,2,   181.9,2,   76.28,2,   31.72,2,    0.00,2,    2.19,2,   0.250,2,   0.140,2,   0.033,2,  2248.5,2,  2341.4,2,   7.7789,2,    13.00,    -999,9,    -999,9,    -999,9,2.3776,2,0.52,2,-147.6,2,2.6,    -999,9,    -999,1.072,2,-999,9,-999,9,    -999,9,-999,9, 20080218,     0335, -47.5054,  29.9977,    -999,-999,1,     -999,9,     -999,9,     -999,9,     -999,9,     -999,9,     -999,9,-999,9,     -999,9,     -999,9,     -999,9,    -999,    -999
33RR20080204,       I06S,      41,          1,         13,         13,2,20080218,       0222,   -47.5013,    29.9984,       4922,  1786.4,   2.3424,  34.7379,2,  34.7366,2,    191.9,2,   189.9,2,   75.51,2,   30.33,2,    0.00,2,    2.09,2,   0.164,2,   0.096,2,   0.055,2,  2243.0,2,  2344.2,2,   7.7991,3,    13.00,    -999,9,    -999,9,    -999,9,2.341,2,0.62,2,-144.9,2,2.8,    -999,9,    -999,1.034,2,-999,9,-999,9,   37.07,2,-999,1, 20080218,     0330, -47.5054,  29.9979,    -999,-999,9,   0.0338,2,   0.1122,2,   0.0124,4,   0.0731,2,   0.0098,2,   0.0195,3,-999,9,   0.0020,2,   0.0195,2,  -0.0011,4,    -999,    -999
33RR20080204,       I06S,      41,          1,         12,         12,2,20080218,       0222,   -47.5013,    29.9984,       4922,  1986.6,   2.1613,  34.7574,2,  34.7563,2,    196.4,2,   196.8,2,   78.34,2,   29.73,2,    0.00,2,    2.04,2,   0.140,2,   0.081,2,   0.009,2,  2240.9,2,  2344.9,2,   7.8106,2,    13.00,    -999,9,    -999,9,    -999,9,2.1615,2,0.63,2,-150.9,2,2.4,    -999,9,    -999,0.71,2,-999,9,-999,9,    -999,9,-999,9, 20080218,     0326, -47.5053,  29.9983,    -999,-999,1,     -999,9,     -999,9,     -999,9,     -999,9,     -999,9,     -999,9,-999,9,     -999,9,     -999,9,     -999,9,    -999,    -999
33RR20080204,       I06S,      41,          1,         11,         11,2,20080218,       0222,   -47.5013,    29.9984,       4922,  2292.0,   1.9359,  34.7684,2,  34.7683,2,    201.3,2,   204.1,2,   81.93,2,   29.19,2,    0.00,2,    2.00,2,   0.111,2,   0.070,2,   0.006,2,  2238.2,2,  2349.0,2,   7.8234,2,    13.00,    -999,9,    -999,9,    -999,9,1.938,2,0.69,2,-142.6,3,2.6,    -999,9,    -999,0.696,2,-999,9,-999,9,   37.17,2,-999,1, 20080218,     0319, -47.5049,  29.9980,    -999,-999,9,   0.0341,2,   0.1148,2,   0.0123,4,   0.0755,2,   0.0110,2,   0.0196,3,-999,9,   0.0025,2,   0.0212,2,  -0.0006,4,    -999,    -999
33RR20080204,       I06S,      41,          1,         10,         10,2,20080218,       0222,   -47.5013,    29.9984,       4922,  2594.8,   1.6354,  34.7554,2,  34.7542,2,    205.1,2,   205.2,2,   90.84,2,   29.83,2,    0.00,2,    2.05,2,   0.125,2,   0.069,2,   0.014,2,  2244.0,2,  2352.5,2,   7.8177,2,    13.00,    -999,9,    -999,9,    -999,9,1.6367,2,0.68,2,-155.6,2,2.6,    -999,9,    -999,0.774,2,-999,9,-999,9,    -999,9,-999,9, 20080218,     0312, -47.5046,  29.9980,    -999,-999,1,     -999,9,     -999,9,     -999,9,     -999,9,     -999,9,     -999,9,-999,9,     -999,9,     -999,9,     -999,9,    -999,    -999
33RR20080204,       I06S,      41,          1,          9,          9,2,20080218,       0222,   -47.5013,    29.9984,       4922,  2898.2,   1.3997,  34.7437,2,  34.7420,2,    208.3,2,   207.4,2,   98.23,2,   30.34,2,    0.00,2,    2.09,2,   0.145,2,   0.088,2,   0.013,2,  2248.3,2,  2354.9,2,   7.8159,2,    13.00,    -999,9,    -999,9,    -999,9,1.3986,2,0.6,2,-155.2,2,2.8,    -999,9,    -999,0.998,2,-999,9,-999,9,   39.12,2,-999,1, 20080218,     0306, -47.5041,  29.9977,    -999,-999,9,   0.0333,2,   0.1147,2,   0.0124,4,   0.0751,2,   0.0108,2,   0.0200,3,-999,9,   0.0024,2,   0.0207,2,  -0.0007,4,    -999,    -999
33RR20080204,       I06S,      41,          1,          8,          8,2,20080218,       0222,   -47.5013,    29.9984,       4922,  3198.9,   1.1194,  34.7257,2,  34.7236,2,    208.5,2,   208.9,2,  107.00,2,   31.09,2,    0.00,2,    2.15,2,   0.172,2,   0.097,2,   0.009,2,  2253.7,2,  2357.4,2,   7.8081,2,    13.00,    -999,9,    -999,9,    -999,9,1.1189,2,0.54,2,-155.2,2,2.6,    -999,9,    -999,1.161,2,-999,9,-999,9,    -999,9,-999,9, 20080218,     0300, -47.5040,  29.9983,    -999,-999,1,     -999,9,     -999,9,     -999,9,     -999,9,     -999,9,     -999,9,-999,9,     -999,9,     -999,9,     -999,9,    -999,    -999