BOTTLE,20220706CCHSIOAMB
EXPOCODE,SECT_ID,STNNBR,CASTNO,SAMPNO,BTLNBR,BTLNBR_FLAG_W,DATE,TIME,LATITUDE,LONGITUDE,DEPTH,CTDPRS,CTDTMP,CTDSAL,CTDSAL_FLAG_W,SALNTY,SALNTY_FLAG_W,CTDOXY,CTDOXY_FLAG_W,OXYGEN,OXYGEN_FLAG_W,SILCAT,SILCAT_FLAG_W,NITRAT,NITRAT_FLAG_W,NITRIT,NITRIT_FLAG_W,PHSPHT,PHSPHT_FLAG_W,CFC-11,CFC-11_FLAG_W,CFC-12,CFC-12_FLAG_W,CFC113,CFC113_FLAG_W,TCARBN,TCARBN_FLAG_W,ALKALI,ALKALI_FLAG_W,PH_SWS,PH_SWS_FLAG_W,PH_TMP,TRITUM,TRITUM_FLAG_W,HELIUM,HELIUM_FLAG_W,DELHE3,DELHE3_FLAG_W,REFTMP,REFTMP_FLAG_W,DELC13,DELC13_FLAG_W,DELC14,DELC14_FLAG_W,C14ERR,NEON,NEON_FLAG_W,NEONER,CCL4,CCL4_FLAG_W,ALUMIN,ALUMIN_FLAG_W,DELO18,DELO18_FLAG_W,DOC,DOC_FLAG_W,TDN,TDN_FLAG_W,BTL_DATE,BTL_TIME,BTL_LAT,BTL_LON,TRITER,DELSI30,DELSI30_FLAG_W,CDOM380,CDOM380_FLAG_W,CDOM325,CDOM325_FLAG_W,CDOMSL,CDOMSL_FLAG_W,CDOM340,CDOM340_FLAG_W,CDOM443,CDOM443_FLAG_W,CDOMSN,CDOMSN_FLAG_W,BLACKC,BLACKC_FLAG_W,CDOM490,CDOM490_FLAG_W,CDOM412,CDOM412_FLAG_W,CDOM555,CDOM555_FLAG_W,DELHER,HELIER
,,,,,,,,,,,METERS,DBAR,ITS-90,PSS-78,,PSS-78,,UMOL/KG,,UMOL/KG,,UMOL/KG,,UMOL/KG,,UMOL/KG,,UMOL/KG,,PMOL/KG,,PMOL/KG,,PMOL/KG,,UMOL/KG,,UMOL/KG,,,,DEG C,TU,,NMOL/KG,,PERCNT,,DEG C,,/MILLE,,/MILLE,,/MILLE,NMOL/KG,,NMOL/KG,PMOL/KG,,NMOL/L,,/MILLE,,UMOL/KG,,UMOL/KG,,,,,,TU,/MILLE,,1/M,,1/M,,1/NM,,1/M,,1/M,,1/NM,,,,1/M,,1/M,,1/M,,PERCNT,NMOL/KG
33RR20080204,       I06S,      63,          1,          7,          7,2,20080225,       0939,   -58.4994,    29.9961,       5402,  4235.4,  -0.1332,  34.6592,2,  34.6596,2,    235.4,2,   235.8,2,  128.32,2,   32.66,2,    0.00,2,    2.26,2,   0.450,2,   0.238,2,   0.021,2,  2253.4,2,  2357.0,2,   7.7934,2,    13.00,    -999,9,    -999,9,    -999,9,-0.133,2,-999,9,-999,9,-999,    -999,9,    -999,2.294,2,-999,9,-999,9,   39.90,2,-999,1, 20080225,     1009, -58.4993,  29.9961,    -999,-999,9,   0.0328,2,   0.1092,2,   0.0170,3,   0.0705,2,   0.0125,2,   0.0181,3,-999,1,   0.0035,2,   0.0219,2,   0.0006,2,    -999,    -999
33RR20080204,       I06S,      63,          1,          6,          6,2,20080225,       0939,   -58.4994,    29.9961,       5402,  4541.7,  -0.1622,  34.6569,2,  34.6572,2,    237.8,2,   238.1,2,  128.52,2,   32.61,2,    0.00,2,    2.26,2,   0.474,2,   0.252,2,   0.024,2,    -999,9,  2355.6,2,   7.7945,2,    13.00,    -999,9,    -999,9,    -999,9,-0.1625,2,-999,9,-999,9,-999,    -999,9,    -999,2.356,2,-999,9,-999,9,    -999,9,-999,9, 20080225,     1002, -58.4994,  29.9960,    -999,-999,9,     -999,9,     -999,9,     -999,9,     -999,9,     -999,9,     -999,9,-999,9,     -999,9,     -999,9,     -999,9,    -999,    -999
33RR20080204,       I06S,      63,          1,          5,          5,2,20080225,       0939,   -58.4994,    29.9961,       5402,  4745.6,  -0.1798,  34.6561,2,  34.6563,2,    239.1,2,   239.2,2,  131.00,2,   32.61,2,    0.00,2,    2.26,2,   0.451,2,   0.242,2,   0.023,2,  2252.0,2,  2354.3,2,   7.7966,2,    13.00,    -999,9,    -999,9,    -999,9,-0.1795,2,-999,9,-999,9,-999,    -999,9,    -999,2.609,2,-999,9,-999,9,   37.76,2,-999,1, 20080225,     0958, -58.4994,  29.9961,    -999,-999,9,     -999,9,     -999,9,     -999,9,     -999,9,     -999,9,     -999,9,-999,1,     -999,9,     -999,9,     -999,9,    -999,    -999
33RR20080204,       I06S,      63,          1,          4,          4,2,20080225,       0939,   -58.4994,    29.9961,       5402,  4955.0,  -0.1894,  34.6545,2,  34.6555,2,    240.6,2,   240.4,2,  131.76,2,   32.56,2,    0.00,2,    2.26,2,   0.462,2,   0.249,2,   0.019,2,    -999,9,  2354.7,2,   7.7986,2,    13.00,    -999,9,    -999,9,    -999,9,-0.1898,2,-999,9,-999,9,-999,    -999,9,    -999,2.773,2,-999,9,-999,9,   40.20,2,-999,1, 20080225,     0953, -58.4995,  29.9960,    -999,-999,9,   0.0318,2,   0.1072,2,   0.0178,3,   0.0688,2,   0.0111,2,   0.0190,3,-999,1,   0.0023,2,   0.0204,2,  -0.0007,4,    -999,    -999
33RR20080204,       I06S,      63,          1,          3,          3,2,20080225,       0939,   -58.4994,    29.9961,       5402,  5164.6,  -0.1936,  34.6533,2,  34.6570,4,    241.7,2,   241.5,2,  132.91,2,   32.52,2,    0.00,2,    2.26,2,   0.482,2,   0.258,2,   0.027,2,  2251.5,2,  2354.1,2,   7.7968,2,    13.00,    -999,9,    -999,9,    -999,9,-0.1938,2,-999,9,-999,9,-999,    -999,9,    -999,2.913,2,-999,9,-999,9,   39.80,2,-999,1, 20080225,     0948, -58.4997,  29.9960,    -999,-999,9,     -999,9,     -999,9,     -999,9,     -999,9,     -999,9,     -999,9,-999,1,     -999,9,     -999,9,     -999,9,    -999,    -999
33RR20080204,       I06S,      63,          1,          2,          2,2,20080225,       0939,   -58.4994,    29.9961,       5402,  5369.6,  -0.2118,  34.6518,2,  34.6529,2,    243.2,2,   243.0,2,  134.82,2,   32.56,2,    0.00,2,    2.25,2,   0.509,2,   0.259,2,   0.032,2,    -999,9,  2353.6,2,   7.7994,2,    13.00,    -999,9,    -999,9,    -999,9,-0.2117,2,-999,9,-999,9,-999,    -999,9,    -999,2.973,2,-999,9,-999,9,    -999,9,-999,1, 20080225,     0943, -58.4995,  29.9960,    -999,-999,9,     -999,9,     -999,9,     -999,9,     -999,9,     -999,9,     -999,9,-999,1,     -999,9,     -999,9,     -999,9,    -999,    -999
33RR20080204,       I06S,      63,          1,          1,          1,2,20080225,       0939,   -58.4994,    29.9961,       5402,  5492.2,  -0.2253,  34.6505,2,  34.6537,4,    243.8,2,   243.7,2,  136.92,2,   32.56,2,    0.00,2,    2.26,2,   0.544,2,   0.278,2,   0.052,2,  2250.8,6,  2353.8,2,   7.8000,2,    13.00,    -999,9,    -999,9,    -999,9,-0.2254,2,-999,9,-999,9,-999,    -999,9,    -999,3.205,2,-999,9,-999,9,   40.00,2,-999,1, 20080225,     0940, -58.4994,  29.9961,    -999,-999,9,   0.0316,2,   0.1092,2,   0.0179,3,   0.0705,2,   0.0114,2,   0.0197,3,-999,1,   0.0021,2,   0.0205,2,  -0.0009,4,    -999,    -999