BOTTLE,20220706CCHSIOAMB
EXPOCODE,SECT_ID,STNNBR,CASTNO,SAMPNO,BTLNBR,BTLNBR_FLAG_W,DATE,TIME,LATITUDE,LONGITUDE,DEPTH,CTDPRS,CTDTMP,CTDSAL,CTDSAL_FLAG_W,SALNTY,SALNTY_FLAG_W,CTDOXY,CTDOXY_FLAG_W,OXYGEN,OXYGEN_FLAG_W,SILCAT,SILCAT_FLAG_W,NITRAT,NITRAT_FLAG_W,NITRIT,NITRIT_FLAG_W,PHSPHT,PHSPHT_FLAG_W,CFC-11,CFC-11_FLAG_W,CFC-12,CFC-12_FLAG_W,CFC113,CFC113_FLAG_W,TCARBN,TCARBN_FLAG_W,ALKALI,ALKALI_FLAG_W,PH_SWS,PH_SWS_FLAG_W,PH_TMP,TRITUM,TRITUM_FLAG_W,HELIUM,HELIUM_FLAG_W,DELHE3,DELHE3_FLAG_W,REFTMP,REFTMP_FLAG_W,DELC13,DELC13_FLAG_W,DELC14,DELC14_FLAG_W,C14ERR,NEON,NEON_FLAG_W,NEONER,CCL4,CCL4_FLAG_W,ALUMIN,ALUMIN_FLAG_W,DELO18,DELO18_FLAG_W,DOC,DOC_FLAG_W,TDN,TDN_FLAG_W,BTL_DATE,BTL_TIME,BTL_LAT,BTL_LON,TRITER,DELSI30,DELSI30_FLAG_W,CDOM380,CDOM380_FLAG_W,CDOM325,CDOM325_FLAG_W,CDOMSL,CDOMSL_FLAG_W,CDOM340,CDOM340_FLAG_W,CDOM443,CDOM443_FLAG_W,CDOMSN,CDOMSN_FLAG_W,BLACKC,BLACKC_FLAG_W,CDOM490,CDOM490_FLAG_W,CDOM412,CDOM412_FLAG_W,CDOM555,CDOM555_FLAG_W,DELHER,HELIER
,,,,,,,,,,,METERS,DBAR,ITS-90,PSS-78,,PSS-78,,UMOL/KG,,UMOL/KG,,UMOL/KG,,UMOL/KG,,UMOL/KG,,UMOL/KG,,PMOL/KG,,PMOL/KG,,PMOL/KG,,UMOL/KG,,UMOL/KG,,,,DEG C,TU,,NMOL/KG,,PERCNT,,DEG C,,/MILLE,,/MILLE,,/MILLE,NMOL/KG,,NMOL/KG,PMOL/KG,,NMOL/L,,/MILLE,,UMOL/KG,,UMOL/KG,,,,,,TU,/MILLE,,1/M,,1/M,,1/NM,,1/M,,1/M,,1/NM,,,,1/M,,1/M,,1/M,,PERCNT,NMOL/KG
33RR20080204,       I06S,     100,          1,          3,          3,2,20080306,       1542,   -68.0809,    30.3403,       3002,  3004.6,  -0.1128,  34.6590,2,  34.6587,2,    234.8,2,   234.2,2,  119.96,2,   32.23,2,    0.00,2,    2.23,2,   1.090,2,   0.561,2,   0.098,2,    -999,9,  2352.5,2,     -999,9,     -999,    -999,9,    -999,9,    -999,9,-0.1125,2,-999,9,-999,9,-999,    -999,9,    -999,1.613,2,-999,9,-999,9,    -999,9,-999,9, 20080306,     1554, -68.0809,  30.3402,    -999,-999,9,     -999,9,     -999,9,     -999,9,     -999,9,     -999,9,     -999,9,-999,9,     -999,9,     -999,9,     -999,9,    -999,    -999
33RR20080204,       I06S,     100,          1,          2,          2,2,20080306,       1542,   -68.0809,    30.3403,       3002,  3310.4,  -0.1377,  34.6574,2,  34.6562,2,    236.7,2,   236.3,2,  120.56,2,   32.18,2,    0.00,2,    2.23,2,   1.134,2,   0.578,2,   0.076,2,    -999,9,  2353.3,2,     -999,9,     -999,   0.007,2,   1.878,2,    6.04,2,-0.1374,2,-999,9,-999,9,-999,   8.180,2,   0.031,1.663,2,-999,9,-999,9,    -999,9,-999,9, 20080306,     1548, -68.0809,  30.3403,   0.009,-999,9,     -999,9,     -999,9,     -999,9,     -999,9,     -999,9,     -999,9,-999,9,     -999,9,     -999,9,     -999,9,    0.15,   0.007
33RR20080204,       I06S,     100,          1,          1,          1,2,20080306,       1542,   -68.0809,    30.3403,       3002,  3561.8,  -0.2091,  34.6547,2,  34.6546,2,    238.4,2,   238.7,2,  124.66,2,   32.22,2,    0.00,2,    2.24,2,   1.090,2,   0.557,2,   0.076,2,    -999,9,  2353.5,2,     -999,9,     -999,   0.008,2,   1.817,2,    5.46,2,-0.2092,2,-999,9,-999,9,-999,   7.970,2,   0.030,1.702,2,-999,9,-999,9,    -999,9,-999,9, 20080306,     1542, -68.0809,  30.3402,   0.009,-999,9,     -999,9,     -999,9,     -999,9,     -999,9,     -999,9,     -999,9,-999,9,     -999,9,     -999,9,     -999,9,    0.15,   0.007