BOTTLE,20220706CCHSIOAMB
EXPOCODE,SECT_ID,STNNBR,CASTNO,SAMPNO,BTLNBR,BTLNBR_FLAG_W,DATE,TIME,LATITUDE,LONGITUDE,DEPTH,CTDPRS,CTDTMP,CTDSAL,CTDSAL_FLAG_W,SALNTY,SALNTY_FLAG_W,CTDOXY,CTDOXY_FLAG_W,OXYGEN,OXYGEN_FLAG_W,SILCAT,SILCAT_FLAG_W,NITRAT,NITRAT_FLAG_W,NITRIT,NITRIT_FLAG_W,PHSPHT,PHSPHT_FLAG_W,CFC-11,CFC-11_FLAG_W,CFC-12,CFC-12_FLAG_W,CFC113,CFC113_FLAG_W,TCARBN,TCARBN_FLAG_W,ALKALI,ALKALI_FLAG_W,PH_SWS,PH_SWS_FLAG_W,PH_TMP,TRITUM,TRITUM_FLAG_W,HELIUM,HELIUM_FLAG_W,DELHE3,DELHE3_FLAG_W,REFTMP,REFTMP_FLAG_W,DELC13,DELC13_FLAG_W,DELC14,DELC14_FLAG_W,C14ERR,NEON,NEON_FLAG_W,NEONER,CCL4,CCL4_FLAG_W,ALUMIN,ALUMIN_FLAG_W,DELO18,DELO18_FLAG_W,DOC,DOC_FLAG_W,TDN,TDN_FLAG_W,BTL_DATE,BTL_TIME,BTL_LAT,BTL_LON,TRITER,DELSI30,DELSI30_FLAG_W,CDOM380,CDOM380_FLAG_W,CDOM325,CDOM325_FLAG_W,CDOMSL,CDOMSL_FLAG_W,CDOM340,CDOM340_FLAG_W,CDOM443,CDOM443_FLAG_W,CDOMSN,CDOMSN_FLAG_W,BLACKC,BLACKC_FLAG_W,CDOM490,CDOM490_FLAG_W,CDOM412,CDOM412_FLAG_W,CDOM555,CDOM555_FLAG_W,DELHER,HELIER
,,,,,,,,,,,METERS,DBAR,ITS-90,PSS-78,,PSS-78,,UMOL/KG,,UMOL/KG,,UMOL/KG,,UMOL/KG,,UMOL/KG,,UMOL/KG,,PMOL/KG,,PMOL/KG,,PMOL/KG,,UMOL/KG,,UMOL/KG,,,,DEG C,TU,,NMOL/KG,,PERCNT,,DEG C,,/MILLE,,/MILLE,,/MILLE,NMOL/KG,,NMOL/KG,PMOL/KG,,NMOL/L,,/MILLE,,UMOL/KG,,UMOL/KG,,,,,,TU,/MILLE,,1/M,,1/M,,1/NM,,1/M,,1/M,,1/NM,,,,1/M,,1/M,,1/M,,PERCNT,NMOL/KG
33RR20080204,       I06S,      20,          1,         36,         36,2,20080211,       0516,   -37.0000,    30.0000,       4542,     5.7,  21.9932,  35.5445,2,  35.5426,2,    217.5,2,   218.9,2,    2.36,2,    0.05,2,    0.00,2,    0.09,2,   2.008,2,   1.229,2,   0.184,2,  2012.5,6,  2328.7,2,   8.1370,4,    20.00,   0.631,2,   1.714,2,   -1.22,2,21.9928,2,-999,9,-999,9,-999,   6.787,2,   0.026,2.8,2,-999,9,-999,9,    -999,9,-999,9, 20080211,     0709, -36.9999,  30.0000,   0.009,-999,9,     -999,9,     -999,9,     -999,9,     -999,9,     -999,9,     -999,9,-999,9,     -999,9,     -999,9,     -999,9,    0.15,   0.007
33RR20080204,       I06S,      20,          1,         35,         35,2,20080211,       0516,   -37.0000,    30.0000,       4542,    27.1,  21.9994,  35.5441,2,  35.5419,2,    218.3,2,   218.9,2,    2.16,2,    0.05,2,    0.00,2,    0.08,2,   2.015,2,   1.227,2,   0.190,2,    -999,9,  2329.1,2,     -999,9,     -999,    -999,9,    -999,9,    -999,9,21.9982,2,-999,9,-999,9,-999,    -999,9,    -999,2.849,2,-999,9,-999,9,    -999,9,-999,9, 20080211,     0707, -36.9999,  30.0000,    -999,-999,9,     -999,9,     -999,9,     -999,9,     -999,9,     -999,9,     -999,9,-999,9,     -999,9,     -999,9,     -999,9,    -999,    -999
33RR20080204,       I06S,      20,          1,         34,         34,2,20080211,       0516,   -37.0000,    30.0000,       4542,    41.3,  22.0005,  35.5439,2,  35.5425,2,    218.4,2,   218.9,2,    2.15,2,    0.05,2,    0.00,2,    0.08,2,    -999,9,    -999,9,    -999,9,    -999,9,  2328.5,2,     -999,9,     -999,    -999,9,    -999,9,    -999,9,22.001,2,-999,9,-999,9,-999,    -999,9,    -999,-999,9,-999,9,-999,9,    -999,9,-999,9, 20080211,     0706, -36.9999,  29.9999,    -999,-999,9,     -999,9,     -999,9,     -999,9,     -999,9,     -999,9,     -999,9,-999,9,     -999,9,     -999,9,     -999,9,    -999,    -999
33RR20080204,       I06S,      20,          1,         33,         33,2,20080211,       0516,   -37.0000,    30.0000,       4542,    70.8,  21.9031,  35.5460,2,  35.5449,2,    219.5,2,   219.4,2,    2.14,2,    0.05,2,    0.00,2,    0.08,2,    -999,9,    -999,9,    -999,9,    -999,9,  2332.9,2,     -999,9,     -999,    -999,9,    -999,9,    -999,9,21.8959,2,-999,9,-999,9,-999,    -999,9,    -999,-999,9,-999,9,-999,9,    -999,9,-999,9, 20080211,     0704, -36.9999,  30.0000,    -999,-999,9,     -999,9,     -999,9,     -999,9,     -999,9,     -999,9,     -999,9,-999,9,     -999,9,     -999,9,     -999,9,    -999,    -999
33RR20080204,       I06S,      20,          1,         32,         32,2,20080211,       0516,   -37.0000,    30.0000,       4542,    96.2,  19.9717,  35.5291,2,  35.5303,2,    223.6,2,   220.5,2,    2.53,2,    0.15,2,    0.05,2,    0.14,2,   2.244,2,   1.357,2,   0.198,2,    -999,9,    -999,9,     -999,9,     -999,   0.613,6,   1.729,2,   -1.18,2,19.9942,2,-999,9,-999,9,-999,   6.985,2,   0.027,2.45,2,-999,9,-999,9,    -999,9,-999,9, 20080211,     0703, -37.0000,  30.0002,   0.006,-999,9,     -999,9,     -999,9,     -999,9,     -999,9,     -999,9,     -999,9,-999,9,     -999,9,     -999,9,     -999,9,    0.15,   0.007
33RR20080204,       I06S,      20,          1,         31,         31,2,20080211,       0516,   -37.0000,    30.0000,       4542,   147.1,  18.6757,  35.5299,2,  35.5282,2,    212.2,2,   213.4,2,    2.72,2,    2.26,2,    0.02,2,    0.25,2,   2.331,2,   1.421,2,   0.208,2,    -999,9,  2327.4,2,     -999,9,     -999,    -999,9,    -999,9,    -999,9,18.6752,2,-999,9,-999,9,-999,    -999,9,    -999,1.906,2,-999,9,-999,9,    -999,9,-999,9, 20080211,     0701, -37.0000,  30.0003,    -999,-999,9,     -999,9,     -999,9,     -999,9,     -999,9,     -999,9,     -999,9,-999,9,     -999,9,     -999,9,     -999,9,    -999,    -999
33RR20080204,       I06S,      20,          1,         30,         30,2,20080211,       0516,   -37.0000,    30.0000,       4542,   196.9,  18.0464,  35.5357,2,  35.5337,2,    208.9,2,   207.3,2,    3.89,2,    3.81,2,    0.02,2,    0.35,2,   2.411,2,   1.452,2,   0.142,2,    -999,9,    -999,9,     -999,9,     -999,   0.599,2,   1.720,2,   -1.18,2,18.0407,2,-999,9,-999,9,-999,   6.971,2,   0.026,1.875,2,-999,9,-999,9,    -999,9,-999,9, 20080211,     0659, -37.0000,  30.0003,   0.009,-999,9,     -999,9,     -999,9,     -999,9,     -999,9,     -999,9,     -999,9,-999,9,     -999,9,     -999,9,     -999,9,    0.15,   0.007
33RR20080204,       I06S,      20,          1,         29,         29,2,20080211,       0516,   -37.0000,    30.0000,       4542,   236.6,  17.6047,  35.5340,2,  35.5330,2,    213.2,2,   213.3,2,    3.69,2,    3.61,2,    0.01,2,    0.34,2,   2.454,2,   1.493,2,   0.169,2,    -999,9,  2328.5,2,     -999,9,     -999,    -999,9,    -999,9,    -999,9,17.604,2,-999,9,-999,9,-999,    -999,9,    -999,1.855,2,-999,9,-999,9,    -999,9,-999,9, 20080211,     0657, -37.0001,  30.0003,    -999,-999,9,     -999,9,     -999,9,     -999,9,     -999,9,     -999,9,     -999,9,-999,9,     -999,9,     -999,9,     -999,9,    -999,    -999
33RR20080204,       I06S,      20,          1,         28,         28,2,20080211,       0516,   -37.0000,    30.0000,       4542,   285.5,  17.0941,  35.5293,2,  35.5267,2,    211.0,2,   209.4,2,    4.27,2,    4.66,2,    0.01,2,    0.41,2,   2.533,2,   1.499,2,   0.139,2,    -999,9,    -999,9,     -999,9,     -999,   0.558,2,   1.751,2,   -0.98,2,17.1012,2,-999,9,-999,9,-999,   7.112,2,   0.027,1.729,2,-999,9,-999,9,    -999,9,-999,9, 20080211,     0655, -37.0000,  29.9999,   0.009,-999,9,     -999,9,     -999,9,     -999,9,     -999,9,     -999,9,     -999,9,-999,9,     -999,9,     -999,9,     -999,9,    0.15,   0.007
33RR20080204,       I06S,      20,          1,         27,         27,2,20080211,       0516,   -37.0000,    30.0000,       4542,   336.0,  16.4714,  35.5133,2,  35.5169,2,    203.5,2,   203.9,2,    4.66,2,    5.90,2,    0.01,2,    0.49,2,   2.601,2,   1.525,2,   0.101,2,    -999,9,  2328.9,2,     -999,9,     -999,    -999,9,    -999,9,    -999,9,16.4687,2,-999,9,-999,9,-999,    -999,9,    -999,1.552,2,-999,9,-999,9,    -999,9,-999,9, 20080211,     0654, -36.9999,  29.9998,    -999,-999,9,     -999,9,     -999,9,     -999,9,     -999,9,     -999,9,     -999,9,-999,9,     -999,9,     -999,9,     -999,9,    -999,    -999
33RR20080204,       I06S,      20,          1,         26,         26,2,20080211,       0516,   -37.0000,    30.0000,       4542,   385.6,  15.9348,  35.4912,2,  35.4899,2,    207.7,2,   202.1,2,    5.05,2,    6.70,2,    0.01,2,    0.55,2,   2.650,2,   1.538,2,   0.087,2,    -999,9,    -999,9,     -999,9,     -999,   0.531,2,   1.751,2,   -0.45,2,15.9352,2,-999,9,-999,9,-999,   7.181,2,   0.027,1.467,2,-999,9,-999,9,    -999,9,-999,9, 20080211,     0652, -36.9999,  29.9997,   0.009,-999,9,     -999,9,     -999,9,     -999,9,     -999,9,     -999,9,     -999,9,-999,9,     -999,9,     -999,9,     -999,9,    0.15,   0.007
33RR20080204,       I06S,      20,          1,         25,         25,2,20080211,       0516,   -37.0000,    30.0000,       4542,   436.5,  15.1962,  35.4381,2,  35.4335,2,    203.1,2,   202.6,2,    5.04,2,    7.65,2,    0.01,2,    0.60,2,   2.764,2,   1.580,2,   0.110,2,    -999,9,  2327.3,2,     -999,9,     -999,    -999,9,    -999,9,    -999,9,15.2014,2,-999,9,-999,9,-999,    -999,9,    -999,1.555,2,-999,9,-999,9,    -999,9,-999,9, 20080211,     0650, -36.9999,  29.9998,    -999,-999,9,     -999,9,     -999,9,     -999,9,     -999,9,     -999,9,     -999,9,-999,9,     -999,9,     -999,9,     -999,9,    -999,    -999
33RR20080204,       I06S,      20,          1,         24,         24,2,20080211,       0516,   -37.0000,    30.0000,       4542,   484.8,  14.5162,  35.3805,2,  35.3795,2,    207.3,2,   207.2,2,    5.04,2,    8.26,2,    0.00,2,    0.64,2,   2.880,2,   1.648,2,   0.069,2,    -999,9,    -999,9,     -999,9,     -999,   0.493,2,   1.750,2,   -0.32,2,14.5168,2,-999,9,-999,9,-999,   7.257,2,   0.028,1.691,2,-999,9,-999,9,    -999,9,-999,9, 20080211,     0649, -36.9999,  29.9999,   0.009,-999,9,     -999,9,     -999,9,     -999,9,     -999,9,     -999,9,     -999,9,-999,9,     -999,9,     -999,9,     -999,9,    0.15,   0.007
33RR20080204,       I06S,      20,          1,         23,         23,2,20080211,       0516,   -37.0000,    30.0000,       4542,   566.1,  13.4267,  35.2876,2,  35.2897,2,    212.2,2,   213.3,2,    4.83,2,    9.65,2,    0.00,2,    0.76,2,   3.033,2,   1.759,2,   0.073,2,    -999,9,  2320.1,2,     -999,9,     -999,   0.450,2,   1.765,2,   -0.26,2,13.4349,2,-999,9,-999,9,-999,   7.365,2,   0.028,1.871,2,-999,9,-999,9,    -999,9,-999,9, 20080211,     0647, -37.0000,  30.0002,   0.009,-999,9,     -999,9,     -999,9,     -999,9,     -999,9,     -999,9,     -999,9,-999,9,     -999,9,     -999,9,     -999,9,    0.15,   0.007
33RR20080204,       I06S,      20,          1,         22,         22,2,20080211,       0516,   -37.0000,    30.0000,       4542,   667.4,  12.4264,  35.1513,2,  35.1528,2,    217.2,2,   216.7,2,    5.03,2,   11.35,2,    0.00,2,    0.87,2,   3.200,2,   1.748,2,   0.080,2,    -999,9,    -999,9,     -999,9,     -999,    -999,9,    -999,9,    -999,9,12.4275,2,-999,9,-999,9,-999,    -999,9,    -999,2.014,2,-999,9,-999,9,    -999,9,-999,9, 20080211,     0644, -37.0000,  30.0004,    -999,-999,9,     -999,9,     -999,9,     -999,9,     -999,9,     -999,9,     -999,9,-999,9,     -999,9,     -999,9,     -999,9,    -999,    -999
33RR20080204,       I06S,      20,          1,         21,         21,2,20080211,       0516,   -37.0000,    30.0000,       4542,   767.3,  11.4782,  35.0094,2,  35.0099,2,    218.3,2,   216.4,2,    5.81,2,   13.40,2,    0.00,2,    1.01,2,   3.216,2,   1.706,2,   0.099,2,    -999,9,  2308.4,2,     -999,9,     -999,   0.359,2,   1.773,2,    0.33,2,11.4739,2,-999,9,-999,9,-999,   7.424,2,   0.028,2.282,2,-999,9,-999,9,    -999,9,-999,9, 20080211,     0641, -37.0000,  30.0002,   0.009,-999,9,     -999,9,     -999,9,     -999,9,     -999,9,     -999,9,     -999,9,-999,9,     -999,9,     -999,9,     -999,9,    0.15,   0.007
33RR20080204,       I06S,      20,          1,         20,         20,2,20080211,       0516,   -37.0000,    30.0000,       4542,   877.5,  10.2708,  34.8421,2,  34.8409,2,    215.9,2,   213.9,2,    7.59,2,   16.37,2,    0.00,2,    1.18,2,   3.119,2,   1.631,2,   0.105,2,    -999,9,    -999,9,     -999,9,     -999,    -999,9,    -999,9,    -999,9,10.2714,2,-999,9,-999,9,-999,    -999,9,    -999,2.377,2,-999,9,-999,9,    -999,9,-999,9, 20080211,     0638, -36.9999,  29.9999,    -999,-999,9,     -999,9,     -999,9,     -999,9,     -999,9,     -999,9,     -999,9,-999,9,     -999,9,     -999,9,     -999,9,    -999,    -999
33RR20080204,       I06S,      20,          1,         19,         19,2,20080211,       0516,   -37.0000,    30.0000,       4542,   966.9,   9.3717,  34.7354,2,  34.7381,2,    207.5,2,   205.9,2,   10.96,2,   19.18,2,    0.00,2,    1.38,2,   2.862,2,   1.496,2,   0.113,2,    -999,9,  2299.9,2,     -999,9,     -999,   0.247,2,   1.787,2,    1.22,2,9.3892,2,-999,9,-999,9,-999,   7.605,2,   0.029,2.596,2,-999,9,-999,9,    -999,9,-999,9, 20080211,     0636, -36.9999,  29.9998,   0.009,-999,9,     -999,9,     -999,9,     -999,9,     -999,9,     -999,9,     -999,9,-999,9,     -999,9,     -999,9,     -999,9,    0.15,   0.007
33RR20080204,       I06S,      20,          1,         18,         18,2,20080211,       0516,   -37.0000,    30.0000,       4542,  1067.0,   7.8937,  34.5918,2,  34.5969,2,    199.6,2,   197.6,2,   17.35,2,   23.53,2,    0.00,2,    1.66,2,   2.530,2,   1.297,2,   0.133,2,    -999,9,    -999,9,     -999,9,     -999,    -999,9,    -999,9,    -999,9,7.8876,2,-999,9,-999,9,-999,    -999,9,    -999,3.022,2,-999,9,-999,9,    -999,9,-999,9, 20080211,     0633, -37.0000,  30.0001,    -999,-999,9,     -999,9,     -999,9,     -999,9,     -999,9,     -999,9,     -999,9,-999,9,     -999,9,     -999,9,     -999,9,    -999,    -999
33RR20080204,       I06S,      20,          1,         17,         17,2,20080211,       0516,   -37.0000,    30.0000,       4542,  1176.8,   6.0592,  34.4171,2,  34.4173,2,    195.6,2,   208.1,2,   21.95,2,   27.23,2,    0.00,2,    1.90,2,   2.825,2,   1.458,2,   0.192,2,    -999,9,  2295.0,2,     -999,9,     -999,    -999,9,   1.808,2,    2.04,2,6.0411,3,-999,9,-999,9,-999,   7.760,2,   0.029,3.617,2,-999,9,-999,9,    -999,9,-999,9, 20080211,     0631, -37.0000,  30.0000,    -999,-999,9,     -999,9,     -999,9,     -999,9,     -999,9,     -999,9,     -999,9,-999,9,     -999,9,     -999,9,     -999,9,    0.15,   0.007
33RR20080204,       I06S,      20,          1,         16,         16,2,20080211,       0516,   -37.0000,    30.0000,       4542,  1277.9,   5.5720,  34.4530,2,  34.4534,2,    185.4,2,   190.6,2,   32.61,2,   29.37,2,    0.00,2,    2.07,2,   2.045,2,   1.027,2,   0.134,2,    -999,9,    -999,9,     -999,9,     -999,    -999,9,    -999,9,    -999,9,5.575,2,-999,9,-999,9,-999,    -999,9,    -999,3.096,2,-999,9,-999,9,    -999,9,-999,9, 20080211,     0628, -37.0000,  30.0001,    -999,-999,9,     -999,9,     -999,9,     -999,9,     -999,9,     -999,9,     -999,9,-999,9,     -999,9,     -999,9,     -999,9,    -999,    -999
33RR20080204,       I06S,      20,          1,         15,         15,2,20080211,       0516,   -37.0000,    30.0000,       4542,  1379.5,   4.6436,  34.4216,2,  34.4240,2,    195.0,2,   190.5,2,    -999,5,    -999,5,    -999,5,    -999,5,   1.781,2,   0.891,2,   0.126,2,    -999,9,  2307.7,2,     -999,9,     -999,    -999,9,   1.850,2,    4.28,2,4.6417,2,-999,9,-999,9,-999,   7.960,2,   0.030,3.033,2,-999,9,-999,9,    -999,9,-999,9, 20080211,     0625, -37.0001,  30.0003,    -999,-999,9,     -999,9,     -999,9,     -999,9,     -999,9,     -999,9,     -999,9,-999,9,     -999,9,     -999,9,     -999,9,    0.15,   0.007
33RR20080204,       I06S,      20,          1,         14,         14,2,20080211,       0516,   -37.0000,    30.0000,       4542,  1481.3,   4.1070,  34.4488,2,  34.4478,2,    184.4,2,   182.0,2,   47.99,2,   32.43,2,    0.00,2,    2.28,2,   1.306,2,   0.659,2,   0.100,2,    -999,9,    -999,9,     -999,9,     -999,    -999,9,    -999,9,    -999,9,4.109,2,-999,9,-999,9,-999,    -999,9,    -999,2.434,2,-999,9,-999,9,    -999,9,-999,9, 20080211,     0623, -37.0001,  30.0004,    -999,-999,9,     -999,9,     -999,9,     -999,9,     -999,9,     -999,9,     -999,9,-999,9,     -999,9,     -999,9,     -999,9,    -999,    -999
33RR20080204,       I06S,      20,          1,         13,         13,2,20080211,       0516,   -37.0000,    30.0000,       4542,  1580.8,   3.6561,  34.4807,2,  34.4804,2,    177.9,2,   176.9,2,   55.71,2,   33.14,2,    0.00,2,    2.34,2,   0.945,2,   0.472,2,   0.075,2,    -999,9,  2323.0,2,     -999,9,     -999,    -999,9,   1.870,2,    6.31,2,3.6592,2,-999,9,-999,9,-999,   8.040,2,   0.031,1.913,2,-999,9,-999,9,    -999,9,-999,9, 20080211,     0620, -37.0001,  30.0003,    -999,-999,9,     -999,9,     -999,9,     -999,9,     -999,9,     -999,9,     -999,9,-999,9,     -999,9,     -999,9,     -999,9,    0.15,   0.007
33RR20080204,       I06S,      20,          1,         12,         12,2,20080211,       0516,   -37.0000,    30.0000,       4542,  1682.8,   3.4670,  34.5398,2,  34.5399,2,    171.4,2,   169.2,2,   62.63,2,   33.55,2,    0.00,2,    2.35,2,   0.560,2,   0.299,2,   0.021,2,    -999,9,    -999,9,     -999,9,     -999,    -999,9,    -999,9,    -999,9,3.4663,2,-999,9,-999,9,-999,    -999,9,    -999,1.223,2,-999,9,-999,9,    -999,9,-999,9, 20080211,     0618, -37.0001,  30.0003,    -999,-999,9,     -999,9,     -999,9,     -999,9,     -999,9,     -999,9,     -999,9,-999,9,     -999,9,     -999,9,     -999,9,    -999,    -999
33RR20080204,       I06S,      20,          1,         11,         11,2,20080211,       0516,   -37.0000,    30.0000,       4542,  1783.6,   3.3267,  34.5994,2,  34.5999,2,    166.6,2,   165.3,2,   68.75,2,   33.45,2,    0.00,2,    2.35,2,   0.317,2,   0.181,2,   0.016,2,    -999,9,  2337.9,2,     -999,9,     -999,  -0.002,2,   1.890,2,    8.06,2,3.326,2,-999,9,-999,9,-999,   8.147,2,   0.031,0.813,2,-999,9,-999,9,    -999,9,-999,9, 20080211,     0615, -37.0001,  30.0004,   0.009,-999,9,     -999,9,     -999,9,     -999,9,     -999,9,     -999,9,     -999,9,-999,9,     -999,9,     -999,9,     -999,9,    0.15,   0.007
33RR20080204,       I06S,      20,          1,         10,         10,2,20080211,       0516,   -37.0000,    30.0000,       4542,  1984.3,   2.9432,  34.6689,2,  34.6679,2,    175.9,2,   176.8,2,   68.74,2,   31.96,2,    0.00,2,    2.23,2,   0.158,2,   0.094,2,   0.000,2,    -999,9,    -999,9,     -999,9,     -999,    -999,9,   1.883,2,    8.30,2,2.9427,2,-999,9,-999,9,-999,   8.058,2,   0.031,0.54,2,-999,9,-999,9,    -999,9,-999,9, 20080211,     0611, -36.9999,  29.9999,    -999,-999,9,     -999,9,     -999,9,     -999,9,     -999,9,     -999,9,     -999,9,-999,9,     -999,9,     -999,9,     -999,9,    0.15,   0.007
33RR20080204,       I06S,      20,          1,          9,          9,2,20080211,       0516,   -37.0000,    30.0000,       4542,  2287.9,   2.7554,  34.7636,2,  34.7621,2,    194.7,2,   195.5,2,   63.21,2,   28.90,2,    0.00,2,    2.01,2,   0.059,2,   0.038,2,  -0.002,2,    -999,9,  2338.9,2,     -999,9,     -999,    -999,9,   1.849,2,    7.45,2,2.7562,2,-999,9,-999,9,-999,   7.972,2,   0.030,0.316,2,-999,9,-999,9,    -999,9,-999,9, 20080211,     0605, -36.9999,  29.9999,    -999,-999,9,     -999,9,     -999,9,     -999,9,     -999,9,     -999,9,     -999,9,-999,9,     -999,9,     -999,9,     -999,9,    0.15,   0.007
33RR20080204,       I06S,      20,          1,          8,          8,2,20080211,       0516,   -37.0000,    30.0000,       4542,  2592.0,   2.5864,  34.8092,2,  34.8077,2,    209.9,2,   210.4,2,   60.14,2,   27.12,2,    0.00,2,    1.86,2,   0.034,2,   0.017,2,  -0.003,2,    -999,9,    -999,9,     -999,9,     -999,  -0.005,2,   1.866,2,    6.87,2,2.5862,2,-999,9,-999,9,-999,   8.015,2,   0.030,0.292,2,-999,9,-999,9,    -999,9,-999,9, 20080211,     0559, -37.0000,  29.9999,   0.009,-999,9,     -999,9,     -999,9,     -999,9,     -999,9,     -999,9,     -999,9,-999,9,     -999,9,     -999,9,     -999,9,    0.15,   0.007