BOTTLE,20220706CCHSIOAMB
EXPOCODE,SECT_ID,STNNBR,CASTNO,SAMPNO,BTLNBR,BTLNBR_FLAG_W,DATE,TIME,LATITUDE,LONGITUDE,DEPTH,CTDPRS,CTDTMP,CTDSAL,CTDSAL_FLAG_W,SALNTY,SALNTY_FLAG_W,CTDOXY,CTDOXY_FLAG_W,OXYGEN,OXYGEN_FLAG_W,SILCAT,SILCAT_FLAG_W,NITRAT,NITRAT_FLAG_W,NITRIT,NITRIT_FLAG_W,PHSPHT,PHSPHT_FLAG_W,CFC-11,CFC-11_FLAG_W,CFC-12,CFC-12_FLAG_W,CFC113,CFC113_FLAG_W,TCARBN,TCARBN_FLAG_W,ALKALI,ALKALI_FLAG_W,PH_SWS,PH_SWS_FLAG_W,PH_TMP,TRITUM,TRITUM_FLAG_W,HELIUM,HELIUM_FLAG_W,DELHE3,DELHE3_FLAG_W,REFTMP,REFTMP_FLAG_W,DELC13,DELC13_FLAG_W,DELC14,DELC14_FLAG_W,C14ERR,NEON,NEON_FLAG_W,NEONER,CCL4,CCL4_FLAG_W,ALUMIN,ALUMIN_FLAG_W,DELO18,DELO18_FLAG_W,DOC,DOC_FLAG_W,TDN,TDN_FLAG_W,BTL_DATE,BTL_TIME,BTL_LAT,BTL_LON,TRITER,DELSI30,DELSI30_FLAG_W,CDOM380,CDOM380_FLAG_W,CDOM325,CDOM325_FLAG_W,CDOMSL,CDOMSL_FLAG_W,CDOM340,CDOM340_FLAG_W,CDOM443,CDOM443_FLAG_W,CDOMSN,CDOMSN_FLAG_W,BLACKC,BLACKC_FLAG_W,CDOM490,CDOM490_FLAG_W,CDOM412,CDOM412_FLAG_W,CDOM555,CDOM555_FLAG_W,DELHER,HELIER
,,,,,,,,,,,METERS,DBAR,ITS-90,PSS-78,,PSS-78,,UMOL/KG,,UMOL/KG,,UMOL/KG,,UMOL/KG,,UMOL/KG,,UMOL/KG,,PMOL/KG,,PMOL/KG,,PMOL/KG,,UMOL/KG,,UMOL/KG,,,,DEG C,TU,,NMOL/KG,,PERCNT,,DEG C,,/MILLE,,/MILLE,,/MILLE,NMOL/KG,,NMOL/KG,PMOL/KG,,NMOL/L,,/MILLE,,UMOL/KG,,UMOL/KG,,,,,,TU,/MILLE,,1/M,,1/M,,1/NM,,1/M,,1/M,,1/NM,,,,1/M,,1/M,,1/M,,PERCNT,NMOL/KG
33RR20080204,       I06S,      25,          1,         36,         36,2,20080213,       0342,   -39.4933,    30.0098,       4443,     4.7,  20.1992,  35.5649,2,  35.5650,2,    222.2,2,   222.2,2,    2.48,2,    0.22,2,    0.03,2,    0.13,2,   2.237,2,   1.352,2,   0.166,2,  2031.1,6,  2330.2,2,   8.2326,2,    13.00,    -999,9,    -999,9,    -999,9,20.1972,2,1.03,2,48.9,2,3.3,    -999,9,    -999,3.121,2,-999,9,-999,9,   61.95,2,-999,1, 20080213,     0523, -39.4938,  30.0253,    -999,-999,9,   0.0276,2,   0.1051,2,   0.0086,3,   0.0742,2,   0.0057,2,   0.0238,2,-999,9,   0.0006,3,   0.0151,2,  -0.0022,4,    -999,    -999
33RR20080204,       I06S,      25,          1,         34,         34,2,20080213,       0342,   -39.4933,    30.0098,       4443,    27.8,  20.2038,  35.5639,2,  35.5642,2,    223.1,2,   221.9,2,    2.47,2,    0.22,2,    0.03,2,    0.13,2,   2.235,2,   1.360,2,   0.173,2,  2032.3,2,  2329.9,2,   8.2318,4,    13.00,    -999,9,    -999,9,    -999,9,20.2031,2,-999,9,-999,9,-999,    -999,9,    -999,3.089,2,-999,9,-999,9,   61.66,2,-999,1, 20080213,     0522, -39.4937,  30.0249,    -999,-999,9,   0.0290,2,   0.1081,2,   0.0087,3,   0.0763,2,   0.0064,2,   0.0235,2,-999,9,   0.0012,3,   0.0160,2,  -0.0018,4,    -999,    -999
33RR20080204,       I06S,      25,          1,         33,         33,2,20080213,       0342,   -39.4933,    30.0098,       4443,    47.6,  20.1978,  35.5625,2,  35.5636,2,    223.4,2,   221.8,2,    2.46,2,    0.22,2,    0.03,2,    0.13,2,   2.240,2,   1.352,2,   0.166,2,  2032.8,2,  2329.4,2,   8.2314,2,    13.00,    -999,9,    -999,9,    -999,9,20.194,2,1.04,2,54.1,2,3.3,    -999,9,    -999,2.784,2,-999,9,-999,9,   60.88,2,-999,1, 20080213,     0520, -39.4937,  30.0245,    -999,-999,9,   0.0257,2,   0.0988,2,   0.0079,3,   0.0689,2,   0.0043,2,   0.0243,2,-999,9,  -0.0003,4,   0.0135,2,  -0.0027,4,    -999,    -999
33RR20080204,       I06S,      25,          1,         32,         32,2,20080213,       0342,   -39.4933,    30.0098,       4443,    83.0,  18.8361,  35.5351,2,  35.5343,2,    213.6,2,   214.4,2,    2.63,2,    1.70,2,    0.04,2,    0.23,2,   2.364,2,   1.429,2,   0.181,2,  2046.8,2,  2327.8,2,   8.2018,2,    13.00,    -999,9,    -999,9,    -999,9,18.8439,2,-999,9,-999,9,-999,    -999,9,    -999,2.134,2,-999,9,-999,9,   57.17,2,-999,1, 20080213,     0519, -39.4937,  30.0241,    -999,-999,9,   0.0266,2,   0.0974,2,   0.0079,3,   0.0670,2,   0.0053,2,   0.0232,2,-999,9,   0.0000,4,   0.0152,2,  -0.0026,4,    -999,    -999
33RR20080204,       I06S,      25,          1,         30,         30,2,20080213,       0342,   -39.4933,    30.0098,       4443,   105.7,  18.4408,  35.5216,2,  35.5217,2,    207.6,2,   204.9,2,    3.80,2,    3.43,2,    0.03,2,    0.34,2,   2.405,2,   1.441,2,   0.136,2,  2061.9,2,  2325.7,2,   8.1694,4,    13.00,    -999,9,    -999,9,    -999,9,18.4333,2,0.78,2,53.6,2,2.9,    -999,9,    -999,1.965,2,-999,9,-999,9,   54.83,2,-999,1, 20080213,     0518, -39.4938,  30.0237,    -999,-999,9,   0.0273,2,   0.0972,2,   0.0080,3,   0.0683,2,   0.0053,2,   0.0227,2,-999,9,   0.0000,4,   0.0152,2,  -0.0027,4,    -999,    -999
33RR20080204,       I06S,      25,          1,         29,         29,2,20080213,       0342,   -39.4933,    30.0098,       4443,   156.0,  17.8064,  35.5410,2,  35.5412,2,    208.3,2,   207.2,2,    3.98,2,    4.04,2,    0.02,2,    0.37,2,   2.461,2,   1.463,2,   0.115,2,  2069.4,2,  2327.6,2,   8.1620,2,    13.00,    -999,9,    -999,9,    -999,9,17.7906,2,-999,9,-999,9,-999,    -999,9,    -999,2.166,2,-999,9,-999,9,   55.41,2,-999,1, 20080213,     0516, -39.4938,  30.0231,    -999,-999,9,   0.0252,2,   0.0927,2,   0.0078,3,   0.0646,2,   0.0047,2,   0.0233,2,-999,9,  -0.0001,4,   0.0142,2,  -0.0027,4,    -999,    -999
33RR20080204,       I06S,      25,          1,         28,         28,2,20080213,       0342,   -39.4933,    30.0098,       4443,   206.0,  17.2294,  35.5349,2,  35.5351,2,    209.2,2,   209.8,2,    4.17,2,    4.44,2,    0.02,2,    0.40,2,   2.513,2,   1.500,2,   0.111,2,  2074.1,2,  2328.4,2,   8.1486,3,    13.00,    -999,9,    -999,9,    -999,9,17.229,2,0.78,2,45.7,2,3.6,    -999,9,    -999,2.244,2,-999,9,-999,9,   57.95,3,-999,1, 20080213,     0514, -39.4940,  30.0227,    -999,-999,9,   0.0242,2,   0.0886,2,   0.0074,3,   0.0613,2,   0.0038,2,   0.0233,2,-999,9,  -0.0011,4,   0.0135,2,  -0.0033,4,    -999,    -999
33RR20080204,       I06S,      25,          1,         26,         26,2,20080213,       0342,   -39.4933,    30.0098,       4443,   308.3,  15.7334,  35.4753,2,  35.4756,2,    199.9,2,   201.3,2,    5.14,2,    7.02,2,    0.01,2,    0.58,2,   2.805,2,   1.587,2,   0.078,2,  2098.8,2,  2327.1,2,   8.1034,2,    13.00,    -999,9,    -999,9,    -999,9,15.7355,2,0.81,2,54.8,2,3.0,    -999,9,    -999,2.364,2,-999,9,-999,9,   50.63,2,-999,1, 20080213,     0511, -39.4942,  30.0223,    -999,-999,9,   0.0262,2,   0.0903,2,   0.0079,3,   0.0623,2,   0.0062,2,   0.0221,2,-999,9,   0.0006,4,   0.0157,2,  -0.0024,4,    -999,    -999
33RR20080204,       I06S,      25,          1,         25,         25,2,20080213,       0342,   -39.4933,    30.0098,       4443,   407.9,  14.1785,  35.3705,2,  35.3758,2,    205.7,2,   205.8,2,    5.12,2,    8.77,2,    0.00,2,    0.68,2,   2.958,2,   1.679,2,   0.058,2,  2111.7,2,  2323.0,2,   8.0710,2,    13.00,    -999,9,    -999,9,    -999,9,14.2071,3,0.88,2,59.4,2,3.0,    -999,9,    -999,1.805,2,-999,9,-999,9,   47.22,2,-999,1, 20080213,     0509, -39.4945,  30.0218,    -999,-999,9,   0.0181,2,   0.0761,2,   0.0064,3,   0.0503,2,   0.0021,3,   0.0263,2,-999,9,  -0.0019,4,   0.0098,2,  -0.0037,4,    -999,    -999
33RR20080204,       I06S,      25,          1,         24,         24,2,20080213,       0342,   -39.4933,    30.0098,       4443,   506.9,  12.3134,  35.0698,2,  35.0672,2,    229.4,2,   228.7,2,    4.92,2,   10.51,2,    0.01,2,    0.81,2,   3.179,2,   1.821,2,   0.154,2,  2112.1,2,  2309.1,2,   8.0495,2,    13.00,    -999,9,    -999,9,    -999,9,12.3145,2,1.0,2,45.9,2,2.9,    -999,9,    -999,2.643,2,-999,9,-999,9,   68.39,4,-999,1, 20080213,     0506, -39.4947,  30.0214,    -999,-999,9,   0.0198,2,   0.0784,2,   0.0068,3,   0.0513,2,   0.0033,3,   0.0251,2,-999,9,  -0.0017,4,   0.0115,2,  -0.0036,4,    -999,    -999
33RR20080204,       I06S,      25,          1,         22,         22,2,20080213,       0342,   -39.4933,    30.0098,       4443,   607.3,  11.1900,  34.9343,2,  34.9302,2,    223.6,2,   226.2,2,    5.88,2,   13.15,2,    0.00,2,    0.97,2,   3.270,2,   1.820,2,   0.160,2,  2116.8,2,  2303.9,2,   8.0187,2,    13.00,    -999,9,    -999,9,    -999,9,11.184,2,1.14,2,46.9,2,3.5,    -999,9,    -999,2.685,2,-999,9,-999,9,    -999,9,-999,9, 20080213,     0503, -39.4949,  30.0209,    -999,-999,9,     -999,9,     -999,9,     -999,9,     -999,9,     -999,9,     -999,9,-999,9,     -999,9,     -999,9,     -999,9,    -999,    -999
33RR20080204,       I06S,      25,          1,         21,         21,2,20080213,       0342,   -39.4933,    30.0098,       4443,   707.5,  10.1748,  34.8110,2,  34.8073,2,    217.0,2,   218.8,2,    7.65,2,   16.15,2,    0.00,2,    1.15,2,   3.182,2,   1.711,2,   0.139,2,  2132.7,2,  2299.4,2,   7.9830,2,    13.00,    -999,9,    -999,9,    -999,9,10.1741,2,1.2,2,36.9,2,3.2,    -999,9,    -999,2.66,2,-999,9,-999,9,   46.63,2,-999,1, 20080213,     0500, -39.4952,  30.0204,    -999,-999,9,   0.0188,2,   0.0783,2,   0.0067,3,   0.0517,2,   0.0026,3,   0.0259,2,-999,9,  -0.0022,4,   0.0101,2,  -0.0042,4,    -999,    -999
33RR20080204,       I06S,      25,          1,         20,         20,2,20080213,       0342,   -39.4933,    30.0098,       4443,   806.4,   9.0947,  34.7073,2,  34.7069,2,    204.3,2,   204.0,2,   11.99,2,   20.01,2,    0.00,2,    1.41,2,   2.775,2,   1.445,2,   0.110,2,  2147.7,2,  2297.0,2,   7.9376,2,    13.00,    -999,9,    -999,9,    -999,9,9.0895,2,1.13,2,21.8,2,3.5,    -999,9,    -999,2.096,2,-999,9,-999,9,    -999,9,-999,9, 20080213,     0458, -39.4956,  30.0199,    -999,-999,9,     -999,9,     -999,9,     -999,9,     -999,9,     -999,9,     -999,9,-999,9,     -999,9,     -999,9,     -999,9,    -999,    -999
33RR20080204,       I06S,      25,          1,         18,         18,2,20080213,       0342,   -39.4933,    30.0098,       4443,  1024.3,   5.8073,  34.4127,2,  34.4166,2,    204.6,2,   204.5,2,   24.50,2,   27.73,2,    0.00,2,    1.92,2,   2.616,2,   1.351,2,   0.168,2,  2180.8,6,  2294.8,2,   7.8488,2,    13.00,    -999,9,    -999,9,    -999,9,5.8098,2,1.01,2,-34.1,2,2.6,    -999,9,    -999,3.036,2,-999,9,-999,9,   42.34,2,-999,1, 20080213,     0453, -39.4961,  30.0191,    -999,-999,9,   0.0202,2,   0.0811,2,   0.0217,2,   0.0498,2,   0.0045,2,   0.0258,2,-999,9,  -0.0012,4,   0.0118,2,  -0.0031,4,    -999,    -999
33RR20080204,       I06S,      25,          1,         17,         17,2,20080213,       0342,   -39.4933,    30.0098,       4443,  1215.6,   4.5348,  34.4506,2,  34.4510,2,    184.2,2,   182.5,2,   43.95,2,   31.58,2,    0.00,2,    2.21,2,   1.437,6,   0.736,6,   0.106,6,  2213.2,2,  2313.5,2,   7.7975,2,    13.00,    -999,9,    -999,9,    -999,9,4.5347,2,0.87,2,-92.2,2,2.8,    -999,9,    -999,2.1745,6,-999,9,-999,9,   38.54,2,-999,1, 20080213,     0449, -39.4965,  30.0185,    -999,-999,9,   0.0275,2,   0.0975,2,   0.0192,2,   0.0624,2,   0.0080,2,   0.0226,2,-999,9,   0.0004,3,   0.0169,2,  -0.0024,4,    -999,    -999
33RR20080204,       I06S,      25,          1,         16,         16,2,20080213,       0342,   -39.4933,    30.0098,       4443,  1405.3,   3.7756,  34.4928,2,  34.4943,2,    174.6,2,   174.0,2,   55.84,2,   33.12,2,    0.00,2,    2.31,2,   0.883,2,   0.454,2,   0.049,2,  2232.4,2,  2323.0,2,   7.7737,2,    13.00,    -999,9,    -999,9,    -999,9,3.7734,2,0.72,2,-105.0,2,2.8,    -999,9,    -999,1.521,2,-999,9,-999,9,   38.63,2,-999,1, 20080213,     0445, -39.4968,  30.0178,    -999,-999,1,   0.0289,2,   0.1019,2,   0.0194,2,   0.0649,2,   0.0081,2,   0.0226,2,-999,9,   0.0001,4,   0.0174,2,  -0.0026,4,    -999,    -999
33RR20080204,       I06S,      25,          1,         14,         14,2,20080213,       0342,   -39.4933,    30.0098,       4443,  1610.7,   3.3607,  34.5957,2,  34.5964,2,    164.2,2,   164.6,2,    -999,5,    -999,5,    -999,5,    -999,5,   0.328,2,   0.180,2,   0.015,2,  2246.5,2,  2338.1,2,   7.7678,2,    13.00,    -999,9,    -999,9,    -999,9,3.3612,2,0.61,2,-131.9,2,2.7,    -999,9,    -999,0.845,2,-999,9,-999,9,   38.63,2,-999,1, 20080213,     0440, -39.4963,  30.0173,    -999,-999,9,   0.0311,2,   0.1072,2,   0.0196,2,   0.0694,2,   0.0085,2,   0.0222,2,-999,9,   0.0004,3,   0.0182,2,  -0.0024,4,    -999,    -999
33RR20080204,       I06S,      25,          1,         13,         13,2,20080213,       0342,   -39.4933,    30.0098,       4443,  1818.5,   2.9209,  34.6537,2,  34.6546,2,    175.4,2,   175.6,2,   68.19,2,   32.14,2,    0.00,2,    2.23,2,   0.192,2,   0.108,2,   0.007,2,  2242.7,2,  2337.1,2,   7.7830,2,    13.00,    -999,9,    -999,9,    -999,9,2.9211,2,0.59,2,-140.0,2,3.2,    -999,9,    -999,0.614,2,-999,9,-999,9,   38.63,2,-999,1, 20080213,     0436, -39.4959,  30.0164,    -999,-999,9,   0.0281,2,   0.1051,2,   0.0211,2,   0.0675,2,   0.0069,2,   0.0239,2,-999,9,  -0.0004,4,   0.0158,2,  -0.0026,4,    -999,    -999
33RR20080204,       I06S,      25,          1,         12,         12,2,20080213,       0342,   -39.4933,    30.0098,       4443,  2020.1,   2.7759,  34.7311,2,  34.7321,2,    188.1,2,   188.6,2,   65.14,2,   30.00,2,    0.00,2,    2.06,2,   0.090,2,   0.053,2,   0.000,2,  2234.6,2,  2339.7,2,   7.8106,2,    13.00,    -999,9,    -999,9,    -999,9,2.776,2,0.67,2,-143.8,2,2.7,    -999,9,    -999,0.423,2,-999,9,-999,9,   39.51,2,-999,1, 20080213,     0431, -39.4956,  30.0155,    -999,-999,1,   0.0277,2,   0.1055,2,   0.0218,2,   0.0679,2,   0.0064,2,   0.0243,2,-999,9,  -0.0006,4,   0.0152,2,  -0.0026,4,    -999,    -999
33RR20080204,       I06S,      25,          1,         10,         10,2,20080213,       0342,   -39.4933,    30.0098,       4443,  2325.8,   2.6436,  34.7919,2,  34.7932,2,    204.2,2,   204.8,2,   60.87,2,   27.71,2,    0.00,2,    1.89,2,   0.045,2,   0.021,2,   0.000,2,  2222.0,2,  2339.2,2,   7.8423,2,    13.00,    -999,9,    -999,9,    -999,9,2.6435,2,0.74,2,-134.9,2,2.8,    -999,9,    -999,0.342,2,-999,9,-999,9,    -999,9,-999,9, 20080213,     0426, -39.4953,  30.0147,    -999,-999,9,     -999,9,     -999,9,     -999,9,     -999,9,     -999,9,     -999,9,-999,9,     -999,9,     -999,9,     -999,9,    -999,    -999
33RR20080204,       I06S,      25,          1,          9,          9,2,20080213,       0342,   -39.4933,    30.0098,       4443,  2630.2,   2.4902,  34.8203,2,  34.8218,2,    215.2,2,   215.7,2,   59.64,2,   26.34,2,    0.00,2,    1.80,2,   0.035,2,   0.017,2,   0.000,2,  2215.0,2,  2340.3,2,   7.8626,2,    13.00,    -999,9,    -999,9,    -999,9,2.4903,2,0.81,2,-130.8,2,2.4,    -999,9,    -999,0.35,2,-999,9,-999,9,   38.83,2,-999,1, 20080213,     0420, -39.4951,  30.0136,    -999,-999,1,   0.0296,2,   0.1097,2,   0.0213,2,   0.0724,2,   0.0076,2,   0.0235,2,-999,9,   0.0001,4,   0.0165,2,  -0.0022,4,    -999,    -999
33RR20080204,       I06S,      25,          1,          8,          8,2,20080213,       0342,   -39.4933,    30.0098,       4443,  2934.6,   2.3222,  34.8223,2,  34.8228,2,    219.5,2,   218.8,2,   63.49,2,   26.34,2,    0.00,2,    1.80,2,   0.052,2,   0.029,2,   0.000,2,  2216.4,2,  2342.7,2,   7.8669,2,    13.00,    -999,9,    -999,9,    -999,9,2.322,2,0.76,2,-134.5,2,2.7,    -999,9,    -999,0.415,2,-999,9,-999,9,    -999,9,-999,9, 20080213,     0414, -39.4949,  30.0126,    -999,-999,9,     -999,9,     -999,9,     -999,9,     -999,9,     -999,9,     -999,9,-999,9,     -999,9,     -999,9,     -999,9,    -999,    -999
33RR20080204,       I06S,      25,          1,          6,          6,2,20080213,       0342,   -39.4933,    30.0098,       4443,  3242.5,   2.1490,  34.8168,2,  34.8179,2,    220.5,2,   220.8,2,   68.54,2,   26.60,2,    0.00,2,    1.82,2,   0.031,2,   0.016,2,   0.000,2,  2220.8,2,  2346.9,2,   7.8667,2,    13.00,    -999,9,    -999,9,    -999,9,2.1488,2,0.79,2,-139.4,2,2.4,    -999,9,    -999,0.33,2,-999,9,-999,9,   39.12,2,-999,1, 20080213,     0407, -39.4945,  30.0117,    -999,-999,1,   0.0281,2,   0.1050,2,   0.0212,2,   0.0686,2,   0.0071,2,   0.0237,2,-999,9,  -0.0001,4,   0.0159,2,  -0.0022,4,    -999,    -999
33RR20080204,       I06S,      25,          1,          5,          5,2,20080213,       0342,   -39.4933,    30.0098,       4443,  3562.6,   1.9197,  34.7975,2,  34.7988,2,    218.8,2,   218.2,2,   77.68,2,   27.56,2,    0.00,2,    1.88,2,   0.044,2,   0.022,2,   0.000,2,  2228.2,2,  2350.8,2,   7.8577,2,    13.00,    -999,9,    -999,9,    -999,9,1.9209,2,0.76,2,-140.8,2,2.6,    -999,9,    -999,0.233,2,-999,9,-999,9,    -999,9,-999,9, 20080213,     0401, -39.4941,  30.0109,    -999,-999,9,     -999,9,     -999,9,     -999,9,     -999,9,     -999,9,     -999,9,-999,9,     -999,9,     -999,9,     -999,9,    -999,    -999
33RR20080204,       I06S,      25,          1,          4,          4,2,20080213,       0342,   -39.4933,    30.0098,       4443,  3867.9,   1.6566,  34.7753,2,  34.7768,2,    217.2,2,   216.7,2,   87.84,2,   28.67,2,    0.00,2,    1.96,2,   0.057,2,   0.034,2,   0.001,2,  2236.6,2,  2356.6,2,   7.8460,2,    13.00,    -999,9,    -999,9,    -999,9,1.6563,2,0.71,2,-151.5,2,2.4,    -999,9,    -999,0.192,2,-999,9,-999,9,   38.44,2,-999,1, 20080213,     0355, -39.4937,  30.0105,    -999,-999,1,   0.0288,2,   0.1064,2,   0.0210,2,   0.0705,2,   0.0075,2,   0.0233,2,-999,9,  -0.0001,4,   0.0164,2,  -0.0025,4,    -999,    -999
33RR20080204,       I06S,      25,          1,          2,          2,2,20080213,       0342,   -39.4933,    30.0098,       4443,  4170.9,   1.2872,  34.7467,2,  34.7478,2,    216.3,2,   216.3,2,  100.66,2,   29.93,2,    0.00,2,    2.06,2,   0.080,2,   0.049,2,   0.000,2,  2246.1,2,  2361.2,2,   7.8342,2,    13.00,    -999,9,    -999,9,    -999,9,1.2864,2,0.65,2,-150.2,2,3.0,    -999,9,    -999,0.149,2,-999,9,-999,9,    -999,9,-999,9, 20080213,     0349, -39.4936,  30.0103,    -999,-999,9,     -999,9,     -999,9,     -999,9,     -999,9,     -999,9,     -999,9,-999,9,     -999,9,     -999,9,     -999,9,    -999,    -999
33RR20080204,       I06S,      25,          1,          1,          1,2,20080213,       0342,   -39.4933,    30.0098,       4443,  4491.4,   0.7282,  34.7052,2,  34.7057,2,    218.2,2,   218.7,2,  117.72,2,   31.55,2,    0.00,2,    2.18,2,   0.000,4,   0.000,4,   0.000,4,  2256.4,2,  2364.9,2,   7.8141,2,    13.00,    -999,9,    -999,9,    -999,9,0.7307,3,0.61,2,-152.0,2,2.8,    -999,9,    -999,0.0,4,-999,9,-999,9,   39.71,2,-999,1, 20080213,     0342, -39.4932,  30.0097,    -999,-999,1,   0.0309,2,   0.1110,2,   0.0204,2,   0.0737,2,   0.0085,2,   0.0227,2,-999,9,   0.0001,4,   0.0181,2,  -0.0024,4,    -999,    -999