BOTTLE,20220706CCHSIOAMB
EXPOCODE,SECT_ID,STNNBR,CASTNO,SAMPNO,BTLNBR,BTLNBR_FLAG_W,DATE,TIME,LATITUDE,LONGITUDE,DEPTH,CTDPRS,CTDTMP,CTDSAL,CTDSAL_FLAG_W,SALNTY,SALNTY_FLAG_W,CTDOXY,CTDOXY_FLAG_W,OXYGEN,OXYGEN_FLAG_W,SILCAT,SILCAT_FLAG_W,NITRAT,NITRAT_FLAG_W,NITRIT,NITRIT_FLAG_W,PHSPHT,PHSPHT_FLAG_W,CFC-11,CFC-11_FLAG_W,CFC-12,CFC-12_FLAG_W,CFC113,CFC113_FLAG_W,TCARBN,TCARBN_FLAG_W,ALKALI,ALKALI_FLAG_W,PH_SWS,PH_SWS_FLAG_W,PH_TMP,TRITUM,TRITUM_FLAG_W,HELIUM,HELIUM_FLAG_W,DELHE3,DELHE3_FLAG_W,REFTMP,REFTMP_FLAG_W,DELC13,DELC13_FLAG_W,DELC14,DELC14_FLAG_W,C14ERR,NEON,NEON_FLAG_W,NEONER,CCL4,CCL4_FLAG_W,ALUMIN,ALUMIN_FLAG_W,DELO18,DELO18_FLAG_W,DOC,DOC_FLAG_W,TDN,TDN_FLAG_W,BTL_DATE,BTL_TIME,BTL_LAT,BTL_LON,TRITER,DELSI30,DELSI30_FLAG_W,CDOM380,CDOM380_FLAG_W,CDOM325,CDOM325_FLAG_W,CDOMSL,CDOMSL_FLAG_W,CDOM340,CDOM340_FLAG_W,CDOM443,CDOM443_FLAG_W,CDOMSN,CDOMSN_FLAG_W,BLACKC,BLACKC_FLAG_W,CDOM490,CDOM490_FLAG_W,CDOM412,CDOM412_FLAG_W,CDOM555,CDOM555_FLAG_W,DELHER,HELIER
,,,,,,,,,,,METERS,DBAR,ITS-90,PSS-78,,PSS-78,,UMOL/KG,,UMOL/KG,,UMOL/KG,,UMOL/KG,,UMOL/KG,,UMOL/KG,,PMOL/KG,,PMOL/KG,,PMOL/KG,,UMOL/KG,,UMOL/KG,,,,DEG C,TU,,NMOL/KG,,PERCNT,,DEG C,,/MILLE,,/MILLE,,/MILLE,NMOL/KG,,NMOL/KG,PMOL/KG,,NMOL/L,,/MILLE,,UMOL/KG,,UMOL/KG,,,,,,TU,/MILLE,,1/M,,1/M,,1/NM,,1/M,,1/M,,1/NM,,,,1/M,,1/M,,1/M,,PERCNT,NMOL/KG
33RR20080204,       I06S,      14,          2,          6,          6,2,20080209,       1305,   -34.5289,    29.5346,       4281,  2906.2,   2.2142,  34.8177,2,  34.8200,2,    212.5,4,   219.0,2,   66.17,2,   26.59,2,    0.00,2,    1.82,2,   0.033,2,   0.016,2,   0.000,2,    -999,9,    -999,9,     -999,9,     -999,    -999,9,    -999,9,    -999,9,-999,9,-999,9,-999,9,-999,    -999,9,    -999,0.243,2,-999,9,-999,9,    -999,9,-999,9, 20080209,     1346, -34.5199,  29.5409,    -999,-999,9,     -999,9,     -999,9,     -999,9,     -999,9,     -999,9,     -999,9,-999,9,     -999,9,     -999,9,     -999,9,    -999,    -999
33RR20080204,       I06S,      14,          2,          5,          5,2,20080209,       1305,   -34.5289,    29.5346,       4281,  3202.6,   1.9770,  34.8027,2,  34.8046,2,    206.5,4,   218.2,2,   74.60,2,   27.37,2,    0.00,2,    1.87,2,   0.038,2,   0.022,2,   0.000,2,    -999,9,    -999,9,     -999,9,     -999,    -999,9,    -999,9,    -999,9,-999,9,-999,9,-999,9,-999,    -999,9,    -999,0.335,2,-999,9,-999,9,    -999,9,-999,9, 20080209,     1338, -34.5215,  29.5400,    -999,-999,9,     -999,9,     -999,9,     -999,9,     -999,9,     -999,9,     -999,9,-999,9,     -999,9,     -999,9,     -999,9,    -999,    -999
33RR20080204,       I06S,      14,          2,          4,          4,2,20080209,       1305,   -34.5289,    29.5346,       4281,  3527.6,   1.5702,  34.7754,2,  34.7730,2,    191.4,4,   216.8,2,   89.02,2,   28.75,2,    0.00,2,    1.98,2,   0.057,2,   0.037,2,   0.000,2,    -999,9,    -999,9,     -999,9,     -999,    -999,9,    -999,9,    -999,9,-999,9,-999,9,-999,9,-999,    -999,9,    -999,0.464,2,-999,9,-999,9,    -999,9,-999,9, 20080209,     1329, -34.5232,  29.5398,    -999,-999,9,     -999,9,     -999,9,     -999,9,     -999,9,     -999,9,     -999,9,-999,9,     -999,9,     -999,9,     -999,9,    -999,    -999
33RR20080204,       I06S,      14,          2,          3,          3,2,20080209,       1305,   -34.5289,    29.5346,       4281,  3786.6,   1.3549,  34.7544,2,  34.7567,2,    211.4,4,   216.7,2,   96.85,2,   29.57,2,    0.00,2,    2.04,2,   0.065,2,   0.040,2,   0.000,2,    -999,9,  2358.5,2,     -999,9,     -999,    -999,9,    -999,9,    -999,9,-999,9,-999,9,-999,9,-999,    -999,9,    -999,0.649,2,-999,9,-999,9,    -999,9,-999,9, 20080209,     1319, -34.5253,  29.5389,    -999,-999,9,     -999,9,     -999,9,     -999,9,     -999,9,     -999,9,     -999,9,-999,9,     -999,9,     -999,9,     -999,9,    -999,    -999
33RR20080204,       I06S,      14,          2,          2,          2,2,20080209,       1305,   -34.5289,    29.5346,       4281,  4088.9,   1.1943,  34.7375,3,  34.7417,2,    193.8,4,   216.7,2,  103.02,2,   30.20,2,    0.00,2,    2.08,2,   0.081,2,   0.044,2,   0.012,2,    -999,9,  2362.1,2,     -999,9,     -999,    -999,9,    -999,9,    -999,9,-999,9,-999,9,-999,9,-999,    -999,9,    -999,0.748,2,-999,9,-999,9,    -999,9,-999,9, 20080209,     1312, -34.5273,  29.5365,    -999,-999,9,     -999,9,     -999,9,     -999,9,     -999,9,     -999,9,     -999,9,-999,9,     -999,9,     -999,9,     -999,9,    -999,    -999
33RR20080204,       I06S,      14,          2,          1,          1,2,20080209,       1305,   -34.5289,    29.5346,       4281,  4326.0,   1.0712,  34.7301,2,  34.7311,2,    219.2,4,   215.7,2,  108.39,2,   30.72,2,    0.00,2,    2.12,2,   0.103,2,   0.057,2,   0.042,2,    -999,9,  2367.8,2,   7.7130,2,    20.00,    -999,9,    -999,9,    -999,9,-999,9,-999,9,-999,9,-999,    -999,9,    -999,1.0,2,-999,9,-999,9,    -999,9,-999,9, 20080209,     1306, -34.5289,  29.5347,    -999,-999,9,     -999,9,     -999,9,     -999,9,     -999,9,     -999,9,     -999,9,-999,9,     -999,9,     -999,9,     -999,9,    -999,    -999