BOTTLE,20220706CCHSIOAMB
EXPOCODE,SECT_ID,STNNBR,CASTNO,SAMPNO,BTLNBR,BTLNBR_FLAG_W,DATE,TIME,LATITUDE,LONGITUDE,DEPTH,CTDPRS,CTDTMP,CTDSAL,CTDSAL_FLAG_W,SALNTY,SALNTY_FLAG_W,CTDOXY,CTDOXY_FLAG_W,OXYGEN,OXYGEN_FLAG_W,SILCAT,SILCAT_FLAG_W,NITRAT,NITRAT_FLAG_W,NITRIT,NITRIT_FLAG_W,PHSPHT,PHSPHT_FLAG_W,CFC-11,CFC-11_FLAG_W,CFC-12,CFC-12_FLAG_W,CFC113,CFC113_FLAG_W,TCARBN,TCARBN_FLAG_W,ALKALI,ALKALI_FLAG_W,PH_SWS,PH_SWS_FLAG_W,PH_TMP,TRITUM,TRITUM_FLAG_W,HELIUM,HELIUM_FLAG_W,DELHE3,DELHE3_FLAG_W,REFTMP,REFTMP_FLAG_W,DELC13,DELC13_FLAG_W,DELC14,DELC14_FLAG_W,C14ERR,NEON,NEON_FLAG_W,NEONER,CCL4,CCL4_FLAG_W,ALUMIN,ALUMIN_FLAG_W,DELO18,DELO18_FLAG_W,DOC,DOC_FLAG_W,TDN,TDN_FLAG_W,BTL_DATE,BTL_TIME,BTL_LAT,BTL_LON,TRITER,DELSI30,DELSI30_FLAG_W,CDOM380,CDOM380_FLAG_W,CDOM325,CDOM325_FLAG_W,CDOMSL,CDOMSL_FLAG_W,CDOM340,CDOM340_FLAG_W,CDOM443,CDOM443_FLAG_W,CDOMSN,CDOMSN_FLAG_W,BLACKC,BLACKC_FLAG_W,CDOM490,CDOM490_FLAG_W,CDOM412,CDOM412_FLAG_W,CDOM555,CDOM555_FLAG_W,DELHER,HELIER
,,,,,,,,,,,METERS,DBAR,ITS-90,PSS-78,,PSS-78,,UMOL/KG,,UMOL/KG,,UMOL/KG,,UMOL/KG,,UMOL/KG,,UMOL/KG,,PMOL/KG,,PMOL/KG,,PMOL/KG,,UMOL/KG,,UMOL/KG,,,,DEG C,TU,,NMOL/KG,,PERCNT,,DEG C,,/MILLE,,/MILLE,,/MILLE,NMOL/KG,,NMOL/KG,PMOL/KG,,NMOL/L,,/MILLE,,UMOL/KG,,UMOL/KG,,,,,,TU,/MILLE,,1/M,,1/M,,1/NM,,1/M,,1/M,,1/NM,,,,1/M,,1/M,,1/M,,PERCNT,NMOL/KG
33RR20080204,       I06S,      77,          1,          7,          7,2,20080301,       0222,   -65.4337,    31.6790,       4573,  2901.2,  -0.0426,  34.6635,2,  34.6642,2,    228.6,2,   229.8,2,  123.42,2,   32.34,2,    0.00,2,    2.25,2,   0.665,2,   0.394,2,   0.036,2,  2246.3,2,  2354.8,2,   7.7859,2,    13.00,    -999,9,    -999,9,    -999,9,-0.0419,2,-999,9,-999,9,-999,    -999,9,    -999,1.112,2,-999,9,-999,9,    -999,9,-999,9, 20080301,     0302, -65.4341,  31.6772,    -999,-999,9,     -999,9,     -999,9,     -999,9,     -999,9,     -999,9,     -999,9,-999,9,     -999,9,     -999,9,     -999,9,    -999,    -999
33RR20080204,       I06S,      77,          1,          6,          6,4,20080301,       0222,   -65.4337,    31.6790,       4573,  3205.9,  -0.0827,  34.6608,2,  34.6730,4,    230.3,2,   221.1,4,  124.04,4,   32.58,4,    0.00,4,    2.25,4,   0.398,2,   0.236,2,   0.020,2,  2251.9,2,  2356.9,2,   7.7822,2,    13.00,    -999,9,    -999,9,    -999,9,-0.0817,2,-999,9,-999,9,-999,    -999,9,    -999,0.867,2,-999,9,-999,9,    -999,9,-999,9, 20080301,     0252, -65.4341,  31.6772,    -999,-999,9,   0.0322,2,   0.1099,2,   0.0177,3,   0.0707,2,   0.0116,2,   0.0189,3,-999,9,   0.0026,2,   0.0211,2,   0.0001,4,    -999,    -999
33RR20080204,       I06S,      77,          1,          5,          5,2,20080301,       0222,   -65.4337,    31.6790,       4573,  3511.1,  -0.1331,  34.6583,2,  34.6596,2,    233.7,2,   235.8,2,  124.04,2,   32.33,2,    0.00,2,    2.24,2,   0.709,2,   0.395,2,   0.045,2,  2250.2,2,  2354.7,2,   7.7899,2,    13.00,    -999,9,    -999,9,    -999,9,-0.1324,2,-999,9,-999,9,-999,    -999,9,    -999,1.252,2,-999,9,-999,9,    -999,9,-999,9, 20080301,     0246, -65.4341,  31.6772,    -999,-999,9,     -999,9,     -999,9,     -999,9,     -999,9,     -999,9,     -999,9,-999,9,     -999,9,     -999,9,     -999,9,    -999,    -999
33RR20080204,       I06S,      77,          1,          4,          4,2,20080301,       0222,   -65.4337,    31.6790,       4573,  3827.2,  -0.1659,  34.6549,2,  34.6573,2,    237.1,2,   237.5,2,  124.64,2,   32.33,2,    0.00,2,    2.24,2,   0.705,2,   0.428,2,   0.045,2,  2248.0,2,  2354.3,2,   7.7902,2,    13.00,    -999,9,    -999,9,    -999,9,-0.1649,2,-999,9,-999,9,-999,    -999,9,    -999,1.237,2,-999,9,-999,9,    -999,9,-999,9, 20080301,     0240, -65.4341,  31.6773,    -999,-999,9,   0.0327,2,   0.1096,2,   0.0176,3,   0.0707,2,   0.0118,2,   0.0187,3,-999,9,   0.0030,2,   0.0213,2,  -0.0002,4,    -999,    -999
33RR20080204,       I06S,      77,          1,          3,          3,2,20080301,       0222,   -65.4337,    31.6790,       4573,  4131.9,  -0.1966,  34.6533,2,  34.6545,2,    239.3,2,   240.6,2,  125.06,2,   32.28,2,    0.00,2,    2.23,2,   0.859,2,   0.472,2,   0.056,2,  2247.5,2,  2354.0,2,   7.7923,2,    13.00,    -999,9,    -999,9,    -999,9,-0.1962,2,-999,9,-999,9,-999,    -999,9,    -999,1.366,2,-999,9,-999,9,    -999,9,-999,9, 20080301,     0233, -65.4341,  31.6772,    -999,-999,9,     -999,9,     -999,9,     -999,9,     -999,9,     -999,9,     -999,9,-999,9,     -999,9,     -999,9,     -999,9,    -999,    -999
33RR20080204,       I06S,      77,          1,          2,          2,2,20080301,       0222,   -65.4337,    31.6790,       4573,  4439.0,  -0.2228,  34.6522,2,  34.6527,2,    241.8,2,   242.4,2,  126.90,2,   32.28,2,    0.00,2,    2.23,2,   0.830,2,   0.441,2,   0.069,2,  2247.6,2,  2353.7,2,   7.7930,2,    13.00,    -999,9,    -999,9,    -999,9,-0.223,2,-999,9,-999,9,-999,    -999,9,    -999,1.386,2,-999,9,-999,9,    -999,9,-999,9, 20080301,     0227, -65.4339,  31.6778,    -999,-999,9,   0.0333,2,   0.1101,2,   0.0175,3,   0.0709,2,   0.0120,2,   0.0185,3,-999,9,   0.0031,2,   0.0214,2,  -0.0002,4,    -999,    -999
33RR20080204,       I06S,      77,          1,          1,          1,2,20080301,       0222,   -65.4337,    31.6790,       4573,  4635.5,  -0.2561,  34.6527,2,  34.6527,2,    242.7,2,   242.4,2,  132.25,2,   32.38,2,    0.00,2,    2.24,2,   0.605,2,   0.316,2,   0.064,2,  2243.7,3,  2355.1,2,   7.7938,2,    13.00,    -999,9,    -999,9,    -999,9,-0.2562,2,-999,9,-999,9,-999,    -999,9,    -999,1.036,2,-999,9,-999,9,    -999,9,-999,9, 20080301,     0222, -65.4337,  31.6790,    -999,-999,9,   0.0307,2,   0.1060,2,   0.0177,3,   0.0678,2,   0.0111,2,   0.0194,3,-999,9,   0.0023,2,   0.0201,2,   0.0018,4,    -999,    -999