BOTTLE,20220706CCHSIOAMB
EXPOCODE,SECT_ID,STNNBR,CASTNO,SAMPNO,BTLNBR,BTLNBR_FLAG_W,DATE,TIME,LATITUDE,LONGITUDE,DEPTH,CTDPRS,CTDTMP,CTDSAL,CTDSAL_FLAG_W,SALNTY,SALNTY_FLAG_W,CTDOXY,CTDOXY_FLAG_W,OXYGEN,OXYGEN_FLAG_W,SILCAT,SILCAT_FLAG_W,NITRAT,NITRAT_FLAG_W,NITRIT,NITRIT_FLAG_W,PHSPHT,PHSPHT_FLAG_W,CFC-11,CFC-11_FLAG_W,CFC-12,CFC-12_FLAG_W,CFC113,CFC113_FLAG_W,TCARBN,TCARBN_FLAG_W,ALKALI,ALKALI_FLAG_W,PH_SWS,PH_SWS_FLAG_W,PH_TMP,TRITUM,TRITUM_FLAG_W,HELIUM,HELIUM_FLAG_W,DELHE3,DELHE3_FLAG_W,REFTMP,REFTMP_FLAG_W,DELC13,DELC13_FLAG_W,DELC14,DELC14_FLAG_W,C14ERR,NEON,NEON_FLAG_W,NEONER,CCL4,CCL4_FLAG_W,ALUMIN,ALUMIN_FLAG_W,DELO18,DELO18_FLAG_W,DOC,DOC_FLAG_W,TDN,TDN_FLAG_W,BTL_DATE,BTL_TIME,BTL_LAT,BTL_LON,TRITER,DELSI30,DELSI30_FLAG_W,CDOM380,CDOM380_FLAG_W,CDOM325,CDOM325_FLAG_W,CDOMSL,CDOMSL_FLAG_W,CDOM340,CDOM340_FLAG_W,CDOM443,CDOM443_FLAG_W,CDOMSN,CDOMSN_FLAG_W,BLACKC,BLACKC_FLAG_W,CDOM490,CDOM490_FLAG_W,CDOM412,CDOM412_FLAG_W,CDOM555,CDOM555_FLAG_W,DELHER,HELIER
,,,,,,,,,,,METERS,DBAR,ITS-90,PSS-78,,PSS-78,,UMOL/KG,,UMOL/KG,,UMOL/KG,,UMOL/KG,,UMOL/KG,,UMOL/KG,,PMOL/KG,,PMOL/KG,,PMOL/KG,,UMOL/KG,,UMOL/KG,,,,DEG C,TU,,NMOL/KG,,PERCNT,,DEG C,,/MILLE,,/MILLE,,/MILLE,NMOL/KG,,NMOL/KG,PMOL/KG,,NMOL/L,,/MILLE,,UMOL/KG,,UMOL/KG,,,,,,TU,/MILLE,,1/M,,1/M,,1/NM,,1/M,,1/M,,1/NM,,,,1/M,,1/M,,1/M,,PERCNT,NMOL/KG
33RR20080204,       I06S,      54,          2,         36,         36,2,20080222,       1614,   -54.0050,    29.9987,       5308,     5.3,   2.6720,  33.8282,2,  33.8300,2,    325.8,2,   326.2,2,   12.22,2,   22.98,2,    0.27,2,    1.53,2,   5.724,2,   3.116,2,   0.487,2,  2141.4,6,  2280.3,2,   7.9287,2,    13.00,    -999,9,    -999,9,    -999,9,2.6728,2,-999,9,-999,9,-999,    -999,9,    -999,7.783,2,-999,9,-0.24,2,    -999,9,-999,9, 20080222,     1828, -54.0048,  29.9987,    -999,-999,9,     -999,9,     -999,9,     -999,9,     -999,9,     -999,9,     -999,9,-999,9,     -999,9,     -999,9,     -999,9,    -999,    -999
33RR20080204,       I06S,      54,          2,         35,         35,2,20080222,       1614,   -54.0050,    29.9987,       5308,    21.2,   2.6659,  33.8277,2,  33.8291,2,    326.7,2,   326.2,2,   12.21,2,   22.98,2,    0.27,2,    1.53,2,   5.679,2,   3.089,2,   0.475,2,    -999,9,  2280.9,2,   7.9282,2,    13.00,    -999,9,    -999,9,    -999,9,2.6651,2,-999,9,-999,9,-999,    -999,9,    -999,7.71,2,-999,9,-0.24,2,    -999,9,-999,9, 20080222,     1827, -54.0048,  29.9987,    -999,-999,9,     -999,9,     -999,9,     -999,9,     -999,9,     -999,9,     -999,9,-999,9,     -999,9,     -999,9,     -999,9,    -999,    -999
33RR20080204,       I06S,      54,          2,         34,         34,2,20080222,       1614,   -54.0050,    29.9987,       5308,    51.7,   2.6652,  33.8272,2,  33.8289,2,    327.0,2,   326.2,2,   12.20,2,   23.03,2,    0.27,2,    1.53,2,   5.611,2,   3.088,2,   0.486,2,    -999,9,  2279.6,2,   7.9290,2,    13.00,    -999,9,    -999,9,    -999,9,2.6645,2,-999,9,-999,9,-999,    -999,9,    -999,7.92,2,-999,9,-0.33,2,    -999,9,-999,9, 20080222,     1825, -54.0048,  29.9987,    -999,-999,9,     -999,9,     -999,9,     -999,9,     -999,9,     -999,9,     -999,9,-999,9,     -999,9,     -999,9,     -999,9,    -999,    -999
33RR20080204,       I06S,      54,          2,         33,         33,2,20080222,       1614,   -54.0050,    29.9987,       5308,    85.6,   2.8453,  33.8500,7,  33.8494,2,    327.6,2,   323.7,2,   10.35,2,   22.85,2,    0.25,2,    1.54,2,   5.579,2,   3.038,2,   0.487,2,    -999,9,  2279.4,2,   7.9302,2,    13.00,    -999,9,    -999,9,    -999,9,2.8384,2,-999,9,-999,9,-999,    -999,9,    -999,7.846,2,-999,9,-0.26,2,    -999,9,-999,9, 20080222,     1824, -54.0048,  29.9987,    -999,-999,9,     -999,9,     -999,9,     -999,9,     -999,9,     -999,9,     -999,9,-999,9,     -999,9,     -999,9,     -999,9,    -999,    -999
33RR20080204,       I06S,      54,          2,         32,         32,2,20080222,       1614,   -54.0050,    29.9987,       5308,   110.5,   2.8655,  33.8577,2,  33.8592,2,    322.1,2,   322.1,2,   10.15,2,   22.85,2,    0.25,2,    1.56,2,   5.421,2,   2.973,2,   0.495,2,    -999,9,  2278.2,2,   7.9294,2,    13.00,    -999,9,    -999,9,    -999,9,2.8632,2,-999,9,-999,9,-999,    -999,9,    -999,7.837,2,-999,9,-0.26,2,    -999,9,-999,9, 20080222,     1823, -54.0048,  29.9987,    -999,-999,9,     -999,9,     -999,9,     -999,9,     -999,9,     -999,9,     -999,9,-999,9,     -999,9,     -999,9,     -999,9,    -999,    -999
33RR20080204,       I06S,      54,          2,         31,         31,2,20080222,       1614,   -54.0050,    29.9987,       5308,   162.7,   0.9276,  33.9601,2,  33.9622,2,    323.1,2,   321.9,2,   43.17,2,   27.25,2,    0.21,2,    1.96,2,   5.824,2,   3.156,2,   0.498,2,    -999,9,  2295.0,2,   7.8551,3,    13.00,    -999,9,    -999,9,    -999,9,0.9199,2,-999,9,-999,9,-999,    -999,9,    -999,7.493,2,-999,9,-0.27,2,    -999,9,-999,9, 20080222,     1821, -54.0048,  29.9987,    -999,-999,9,     -999,9,     -999,9,     -999,9,     -999,9,     -999,9,     -999,9,-999,9,     -999,9,     -999,9,     -999,9,    -999,    -999
33RR20080204,       I06S,      54,          2,         30,         30,2,20080222,       1614,   -54.0050,    29.9987,       5308,   212.0,   0.8462,  34.1183,2,  34.1333,2,    282.3,2,   282.1,2,   50.82,2,   30.61,2,    0.13,2,    2.15,2,   4.675,2,   2.534,2,   0.419,2,    -999,9,  2301.0,2,   7.8094,2,    13.00,    -999,9,    -999,9,    -999,9,0.8388,2,-999,9,-999,9,-999,    -999,9,    -999,6.209,2,-999,9,-0.19,2,    -999,9,-999,9, 20080222,     1819, -54.0048,  29.9987,    -999,-999,1,     -999,9,     -999,9,     -999,9,     -999,9,     -999,9,     -999,9,-999,9,     -999,9,     -999,9,     -999,9,    -999,    -999
33RR20080204,       I06S,      54,          2,         29,         29,2,20080222,       1614,   -54.0050,    29.9987,       5308,   272.5,   1.9069,  34.2984,2,  34.2898,2,    219.6,2,   219.5,2,   54.37,2,   33.44,2,    0.02,2,    2.31,2,   2.777,2,   1.452,2,   0.225,2,    -999,9,  2306.1,2,   7.7570,3,    13.00,    -999,9,    -999,9,    -999,9,1.9066,2,-999,9,-999,9,-999,    -999,9,    -999,4.08,2,-999,9,-999,9,    -999,9,-999,9, 20080222,     1818, -54.0048,  29.9988,    -999,-999,9,     -999,9,     -999,9,     -999,9,     -999,9,     -999,9,     -999,9,-999,9,     -999,9,     -999,9,     -999,9,    -999,    -999
33RR20080204,       I06S,      54,          2,         28,         28,2,20080222,       1614,   -54.0050,    29.9987,       5308,   323.4,   1.9264,  34.3790,2,  34.3795,2,    207.8,2,   202.3,2,   62.81,2,   34.28,2,    0.01,2,    2.38,2,   2.128,2,   1.116,2,   0.188,2,    -999,9,  2314.8,2,   7.7406,2,    13.00,    -999,9,    -999,9,    -999,9,1.9259,2,-999,9,-999,9,-999,    -999,9,    -999,3.227,2,-999,9,-0.02,2,    -999,9,-999,9, 20080222,     1816, -54.0049,  29.9987,    -999,-999,9,     -999,9,     -999,9,     -999,9,     -999,9,     -999,9,     -999,9,-999,9,     -999,9,     -999,9,     -999,9,    -999,    -999
33RR20080204,       I06S,      54,          2,         27,         27,2,20080222,       1614,   -54.0050,    29.9987,       5308,   371.9,   1.9050,  34.4198,2,  34.4185,2,    196.3,2,   195.8,2,   66.95,2,   34.52,2,    0.01,2,    2.39,2,   1.860,2,   0.970,2,   0.164,2,    -999,9,  2319.7,2,   7.7368,2,    13.00,    -999,9,    -999,9,    -999,9,1.8942,2,-999,9,-999,9,-999,    -999,9,    -999,2.975,2,-999,9,-999,9,    -999,9,-999,9, 20080222,     1814, -54.0049,  29.9987,    -999,-999,9,     -999,9,     -999,9,     -999,9,     -999,9,     -999,9,     -999,9,-999,9,     -999,9,     -999,9,     -999,9,    -999,    -999
33RR20080204,       I06S,      54,          2,         26,         26,2,20080222,       1614,   -54.0050,    29.9987,       5308,   423.3,   1.9728,  34.4737,2,  34.4749,2,    187.5,2,   187.3,2,   71.09,2,   34.42,2,    0.01,2,    2.40,2,   1.499,2,   0.768,2,   0.141,2,    -999,9,  2324.6,2,   7.7335,3,    13.00,    -999,9,    -999,9,    -999,9,1.976,2,-999,9,-999,9,-999,    -999,9,    -999,2.436,2,-999,9,-0.04,2,    -999,9,-999,9, 20080222,     1811, -54.0049,  29.9987,    -999,-999,1,     -999,9,     -999,9,     -999,9,     -999,9,     -999,9,     -999,9,-999,9,     -999,9,     -999,9,     -999,9,    -999,    -999
33RR20080204,       I06S,      54,          2,         25,         25,2,20080222,       1614,   -54.0050,    29.9987,       5308,   477.3,   2.0919,  34.5344,2,  34.5346,2,    181.5,2,   178.8,2,   74.29,2,   34.32,2,    0.01,2,    2.39,2,   1.064,2,   0.556,2,   0.087,2,    -999,9,  2328.7,2,   7.7371,3,    13.00,    -999,9,    -999,9,    -999,9,2.091,2,-999,9,-999,9,-999,    -999,9,    -999,1.851,2,-999,9,-999,9,    -999,9,-999,9, 20080222,     1809, -54.0049,  29.9987,    -999,-999,9,     -999,9,     -999,9,     -999,9,     -999,9,     -999,9,     -999,9,-999,9,     -999,9,     -999,9,     -999,9,    -999,    -999
33RR20080204,       I06S,      54,          2,         24,         24,2,20080222,       1614,   -54.0050,    29.9987,       5308,   528.2,   2.0159,  34.5650,2,  34.5650,2,    179.8,2,   179.7,2,   76.94,2,   33.89,2,    0.00,2,    2.36,2,   0.973,2,   0.509,2,   0.061,2,    -999,9,  2332.8,2,   7.7398,2,    13.00,    -999,9,    -999,9,    -999,9,2.0139,2,-999,9,-999,9,-999,    -999,9,    -999,1.744,2,-999,9,-999,9,    -999,9,-999,9, 20080222,     1807, -54.0049,  29.9987,    -999,-999,9,     -999,9,     -999,9,     -999,9,     -999,9,     -999,9,     -999,9,-999,9,     -999,9,     -999,9,     -999,9,    -999,    -999
33RR20080204,       I06S,      54,          2,         23,         23,2,20080222,       1614,   -54.0050,    29.9987,       5308,   649.8,   2.1771,  34.6598,2,  34.6601,2,    179.4,2,   179.4,2,   77.69,2,   32.38,2,    0.00,2,    2.26,2,   0.455,2,   0.249,2,   0.030,2,    -999,9,  2338.5,2,   7.7702,4,    13.00,    -999,9,    -999,9,    -999,9,2.1732,2,-999,9,-999,9,-999,    -999,9,    -999,0.935,2,-999,9,-999,9,    -999,9,-999,9, 20080222,     1804, -54.0050,  29.9987,    -999,-999,1,     -999,9,     -999,9,     -999,9,     -999,9,     -999,9,     -999,9,-999,9,     -999,9,     -999,9,     -999,9,    -999,    -999
33RR20080204,       I06S,      54,          2,         22,         22,2,20080222,       1614,   -54.0050,    29.9987,       5308,   748.0,   2.1073,  34.6833,2,  34.6837,2,    180.2,2,   181.2,2,   80.34,2,   32.09,2,    0.00,2,    2.23,2,   0.375,2,   0.212,2,   0.029,2,    -999,9,  2342.7,2,   7.7707,2,    13.00,    -999,9,    -999,9,    -999,9,2.1072,2,-999,9,-999,9,-999,    -999,9,    -999,0.808,2,-999,9,0.04,2,    -999,9,-999,9, 20080222,     1801, -54.0050,  29.9987,    -999,-999,9,     -999,9,     -999,9,     -999,9,     -999,9,     -999,9,     -999,9,-999,9,     -999,9,     -999,9,     -999,9,    -999,    -999
33RR20080204,       I06S,      54,          2,         21,         21,2,20080222,       1614,   -54.0050,    29.9987,       5308,   850.6,   2.1788,  34.7192,2,  34.7201,2,    187.0,2,   186.4,2,   78.06,2,   30.98,2,    0.00,2,    2.15,2,   0.230,2,   0.130,2,   0.018,2,    -999,9,  2342.5,2,   7.7879,2,    13.00,    -999,9,    -999,9,    -999,9,2.1775,2,-999,9,-999,9,-999,    -999,9,    -999,0.626,2,-999,9,-999,9,    -999,9,-999,9, 20080222,     1758, -54.0050,  29.9987,    -999,-999,1,     -999,9,     -999,9,     -999,9,     -999,9,     -999,9,     -999,9,-999,9,     -999,9,     -999,9,     -999,9,    -999,    -999
33RR20080204,       I06S,      54,          2,         20,         20,2,20080222,       1614,   -54.0050,    29.9987,       5308,   955.2,   1.8880,  34.7076,2,  34.7089,2,    187.8,2,   188.3,2,   84.50,2,   31.51,2,    0.00,2,    2.19,2,   0.385,2,   0.216,2,   0.035,2,    -999,9,  2343.9,2,   7.7804,3,    13.00,    -999,9,    -999,9,    -999,9,1.888,2,-999,9,-999,9,-999,    -999,9,    -999,0.863,2,-999,9,-999,9,    -999,9,-999,9, 20080222,     1755, -54.0050,  29.9987,    -999,-999,9,     -999,9,     -999,9,     -999,9,     -999,9,     -999,9,     -999,9,-999,9,     -999,9,     -999,9,     -999,9,    -999,    -999
33RR20080204,       I06S,      54,          2,         19,         19,2,20080222,       1614,   -54.0050,    29.9987,       5308,  1057.1,   1.9631,  34.7383,2,  34.7388,2,    191.6,2,   192.8,2,   82.79,2,   30.40,2,    0.00,2,    2.12,2,   0.225,2,   0.127,2,   0.012,2,    -999,9,  2345.0,2,   7.7981,2,    13.00,    -999,9,    -999,9,    -999,9,1.9606,2,-999,9,-999,9,-999,    -999,9,    -999,0.596,2,-999,9,-999,9,    -999,9,-999,9, 20080222,     1752, -54.0050,  29.9987,    -999,-999,1,     -999,9,     -999,9,     -999,9,     -999,9,     -999,9,     -999,9,-999,9,     -999,9,     -999,9,     -999,9,    -999,    -999
33RR20080204,       I06S,      54,          2,         18,         18,2,20080222,       1614,   -54.0050,    29.9987,       5308,  1157.0,   1.8343,  34.7395,2,  34.7412,2,    195.0,2,   195.2,2,   85.25,2,   30.40,2,    0.00,2,    2.12,2,   0.234,2,   0.130,2,   0.019,2,    -999,9,    -999,9,     -999,9,     -999,    -999,9,    -999,9,    -999,9,1.8341,2,-999,9,-999,9,-999,    -999,9,    -999,0.566,2,-999,9,0.04,2,    -999,9,-999,9, 20080222,     1749, -54.0050,  29.9987,    -999,-999,9,     -999,9,     -999,9,     -999,9,     -999,9,     -999,9,     -999,9,-999,9,     -999,9,     -999,9,     -999,9,    -999,    -999
33RR20080204,       I06S,      54,          2,         17,         17,2,20080222,       1614,   -54.0050,    29.9987,       5308,  1258.5,   1.7451,  34.7428,2,  34.7437,2,    196.3,2,   197.5,2,   87.15,2,   30.16,2,    0.00,2,    2.10,2,   0.222,2,   0.127,2,   0.011,2,    -999,9,    -999,9,     -999,9,     -999,    -999,9,    -999,9,    -999,9,1.7429,2,-999,9,-999,9,-999,    -999,9,    -999,0.503,2,-999,9,-999,9,    -999,9,-999,9, 20080222,     1746, -54.0050,  29.9987,    -999,-999,9,     -999,9,     -999,9,     -999,9,     -999,9,     -999,9,     -999,9,-999,9,     -999,9,     -999,9,     -999,9,    -999,    -999
33RR20080204,       I06S,      54,          2,         16,         16,2,20080222,       1614,   -54.0050,    29.9987,       5308,  1464.0,   1.6213,  34.7475,2,  34.7483,2,    202.4,2,   201.8,2,   89.43,2,   29.92,2,    0.00,2,    2.08,2,   0.190,2,   0.100,2,   0.020,2,    -999,9,    -999,9,     -999,9,    13.00,    -999,9,    -999,9,    -999,9,1.622,2,-999,9,-999,9,-999,    -999,9,    -999,0.504,2,-999,9,-999,9,    -999,9,-999,9, 20080222,     1741, -54.0049,  29.9987,    -999,-999,9,     -999,9,     -999,9,     -999,9,     -999,9,     -999,9,     -999,9,-999,9,     -999,9,     -999,9,     -999,9,    -999,    -999
33RR20080204,       I06S,      54,          2,         15,         15,2,20080222,       1614,   -54.0050,    29.9987,       5308,  1666.5,   1.5032,  34.7527,2,  34.7536,2,    205.4,2,   205.7,2,   92.09,2,   29.73,2,    0.00,2,    2.06,2,   0.140,2,   0.080,2,   0.013,2,    -999,9,    -999,9,     -999,9,     -999,    -999,9,    -999,9,    -999,9,1.5035,2,-999,9,-999,9,-999,    -999,9,    -999,0.459,2,-999,9,-999,9,    -999,9,-999,9, 20080222,     1736, -54.0049,  29.9987,    -999,-999,9,     -999,9,     -999,9,     -999,9,     -999,9,     -999,9,     -999,9,-999,9,     -999,9,     -999,9,     -999,9,    -999,    -999
33RR20080204,       I06S,      54,          2,         14,         14,2,20080222,       1614,   -54.0050,    29.9987,       5308,  1868.0,   1.2308,  34.7313,2,  34.7326,2,    205.2,2,   204.9,2,  100.67,2,   30.55,2,    0.00,2,    2.13,2,   0.214,2,   0.117,2,   0.020,2,    -999,9,  2350.3,2,     -999,1,     -999,    -999,9,    -999,9,    -999,9,1.2307,2,-999,9,-999,9,-999,    -999,9,    -999,0.61,2,-999,9,0.02,2,    -999,9,-999,9, 20080222,     1731, -54.0049,  29.9987,    -999,-999,9,     -999,9,     -999,9,     -999,9,     -999,9,     -999,9,     -999,9,-999,9,     -999,9,     -999,9,     -999,9,    -999,    -999
33RR20080204,       I06S,      54,          2,         13,         13,2,20080222,       1614,   -54.0050,    29.9987,       5308,  2071.2,   0.9677,  34.7100,2,  34.7108,2,    205.1,2,   205.7,2,  108.51,2,   31.52,2,    0.00,2,    2.20,2,   0.319,2,   0.176,2,   0.036,2,    -999,9,    -999,9,     -999,9,     -999,    -999,9,    -999,9,    -999,9,0.9676,2,-999,9,-999,9,-999,    -999,9,    -999,0.943,2,-999,9,-999,9,    -999,9,-999,9, 20080222,     1726, -54.0048,  29.9987,    -999,-999,9,     -999,9,     -999,9,     -999,9,     -999,9,     -999,9,     -999,9,-999,9,     -999,9,     -999,9,     -999,9,    -999,    -999
33RR20080204,       I06S,      54,          2,         12,         12,2,20080222,       1614,   -54.0050,    29.9987,       5308,  2385.2,   0.7663,  34.7024,2,  34.7031,2,    207.7,2,   207.7,2,  114.45,2,   31.82,2,    0.00,2,    2.22,2,   0.296,2,   0.161,2,   0.018,2,    -999,9,    -999,9,     -999,9,     -999,    -999,9,    -999,9,    -999,9,0.7662,2,-999,9,-999,9,-999,    -999,9,    -999,0.699,2,-999,9,-999,9,    -999,9,-999,9, 20080222,     1718, -54.0046,  29.9987,    -999,-999,9,     -999,9,     -999,9,     -999,9,     -999,9,     -999,9,     -999,9,-999,9,     -999,9,     -999,9,     -999,9,    -999,    -999
33RR20080204,       I06S,      54,          2,         11,         11,2,20080222,       1614,   -54.0050,    29.9987,       5308,  2693.7,   0.6076,  34.6949,2,  34.6955,2,    209.8,2,   210.4,2,  120.59,2,   32.11,2,    0.00,2,    2.25,2,   0.283,2,   0.152,2,   0.019,2,    -999,9,  2355.9,2,     -999,9,     -999,    -999,9,    -999,9,    -999,9,0.6077,2,-999,9,-999,9,-999,    -999,9,    -999,0.726,2,-999,9,-999,9,    -999,9,-999,9, 20080222,     1712, -54.0048,  29.9987,    -999,-999,9,     -999,9,     -999,9,     -999,9,     -999,9,     -999,9,     -999,9,-999,9,     -999,9,     -999,9,     -999,9,    -999,    -999
33RR20080204,       I06S,      54,          2,         10,         10,2,20080222,       1614,   -54.0050,    29.9987,       5308,  2997.3,   0.4674,  34.6873,2,  34.6882,2,    212.4,2,   213.2,2,  125.40,2,   32.31,2,    0.00,2,    2.26,2,   0.290,2,   0.157,2,   0.024,2,    -999,9,    -999,9,     -999,9,    13.00,    -999,9,    -999,9,    -999,9,0.468,2,-999,9,-999,9,-999,    -999,9,    -999,0.819,2,-999,9,-0.11,2,    -999,9,-999,9, 20080222,     1705, -54.0050,  29.9987,    -999,-999,9,     -999,9,     -999,9,     -999,9,     -999,9,     -999,9,     -999,9,-999,9,     -999,9,     -999,9,     -999,9,    -999,    -999
33RR20080204,       I06S,      54,          2,          9,          9,2,20080222,       1614,   -54.0050,    29.9987,       5308,  3307.5,   0.3338,  34.6781,2,  34.6795,2,    214.6,2,   214.6,2,  125.40,2,   32.70,2,    0.00,2,    2.28,2,   0.340,2,   0.184,2,   0.020,2,    -999,9,  2357.3,2,     -999,1,     -999,    -999,9,    -999,9,    -999,9,0.3347,2,-999,9,-999,9,-999,    -999,9,    -999,0.811,2,-999,9,-999,9,    -999,9,-999,9, 20080222,     1659, -54.0050,  29.9987,    -999,-999,9,     -999,9,     -999,9,     -999,9,     -999,9,     -999,9,     -999,9,-999,9,     -999,9,     -999,9,     -999,9,    -999,    -999
33RR20080204,       I06S,      54,          2,          8,          8,2,20080222,       1614,   -54.0050,    29.9987,       5308,  3612.8,   0.2114,  34.6734,2,  34.6741,2,    219.4,2,   220.3,2,  127.91,2,   32.60,2,    0.00,2,    2.27,2,   0.353,2,   0.191,2,   0.024,2,    -999,9,    -999,9,     -999,9,     -999,    -999,9,    -999,9,    -999,9,0.212,2,-999,9,-999,9,-999,    -999,9,    -999,0.882,2,-999,9,-999,9,    -999,9,-999,9, 20080222,     1652, -54.0049,  29.9988,    -999,-999,9,     -999,9,     -999,9,     -999,9,     -999,9,     -999,9,     -999,9,-999,9,     -999,9,     -999,9,     -999,9,    -999,    -999