BOTTLE,20220706CCHSIOAMB
EXPOCODE,SECT_ID,STNNBR,CASTNO,SAMPNO,BTLNBR,BTLNBR_FLAG_W,DATE,TIME,LATITUDE,LONGITUDE,DEPTH,CTDPRS,CTDTMP,CTDSAL,CTDSAL_FLAG_W,SALNTY,SALNTY_FLAG_W,CTDOXY,CTDOXY_FLAG_W,OXYGEN,OXYGEN_FLAG_W,SILCAT,SILCAT_FLAG_W,NITRAT,NITRAT_FLAG_W,NITRIT,NITRIT_FLAG_W,PHSPHT,PHSPHT_FLAG_W,CFC-11,CFC-11_FLAG_W,CFC-12,CFC-12_FLAG_W,CFC113,CFC113_FLAG_W,TCARBN,TCARBN_FLAG_W,ALKALI,ALKALI_FLAG_W,PH_SWS,PH_SWS_FLAG_W,PH_TMP,TRITUM,TRITUM_FLAG_W,HELIUM,HELIUM_FLAG_W,DELHE3,DELHE3_FLAG_W,REFTMP,REFTMP_FLAG_W,DELC13,DELC13_FLAG_W,DELC14,DELC14_FLAG_W,C14ERR,NEON,NEON_FLAG_W,NEONER,CCL4,CCL4_FLAG_W,ALUMIN,ALUMIN_FLAG_W,DELO18,DELO18_FLAG_W,DOC,DOC_FLAG_W,TDN,TDN_FLAG_W,BTL_DATE,BTL_TIME,BTL_LAT,BTL_LON,TRITER,DELSI30,DELSI30_FLAG_W,CDOM380,CDOM380_FLAG_W,CDOM325,CDOM325_FLAG_W,CDOMSL,CDOMSL_FLAG_W,CDOM340,CDOM340_FLAG_W,CDOM443,CDOM443_FLAG_W,CDOMSN,CDOMSN_FLAG_W,BLACKC,BLACKC_FLAG_W,CDOM490,CDOM490_FLAG_W,CDOM412,CDOM412_FLAG_W,CDOM555,CDOM555_FLAG_W,DELHER,HELIER
,,,,,,,,,,,METERS,DBAR,ITS-90,PSS-78,,PSS-78,,UMOL/KG,,UMOL/KG,,UMOL/KG,,UMOL/KG,,UMOL/KG,,UMOL/KG,,PMOL/KG,,PMOL/KG,,PMOL/KG,,UMOL/KG,,UMOL/KG,,,,DEG C,TU,,NMOL/KG,,PERCNT,,DEG C,,/MILLE,,/MILLE,,/MILLE,NMOL/KG,,NMOL/KG,PMOL/KG,,NMOL/L,,/MILLE,,UMOL/KG,,UMOL/KG,,,,,,TU,/MILLE,,1/M,,1/M,,1/NM,,1/M,,1/M,,1/NM,,,,1/M,,1/M,,1/M,,PERCNT,NMOL/KG
33RR20080204,       I06S,      52,          2,          7,          7,2,20080222,       0014,   -53.0008,    30.0010,       5552,  4180.1,  -0.0642,  34.6618,2,  34.6624,2,    232.7,2,   232.8,2,  130.31,2,   32.61,2,    0.00,2,    2.27,2,   0.389,2,   0.205,2,   0.016,2,    -999,9,  2353.5,2,     -999,9,     -999,    -999,9,   1.906,2,    5.99,2,-0.0646,2,-999,9,-999,9,-999,   8.355,2,   0.032,-999,9,-999,9,-999,9,    -999,9,-999,9, 20080222,     0046, -53.0008,  30.0012,    -999,-999,9,     -999,9,     -999,9,     -999,9,     -999,9,     -999,9,     -999,9,-999,9,     -999,9,     -999,9,     -999,9,    0.15,   0.007
33RR20080204,       I06S,      52,          2,          6,          6,2,20080222,       0014,   -53.0008,    30.0010,       5552,  4485.5,  -0.1307,  34.6583,2,  34.6601,2,    236.1,2,   236.5,2,  129.73,2,   32.51,2,    0.00,2,    2.26,2,   0.424,2,   0.224,2,   0.018,2,    -999,9,    -999,9,     -999,9,     -999,    -999,9,   1.898,2,    5.72,2,-0.1309,2,-999,9,-999,9,-999,   8.320,2,   0.032,-999,9,-999,9,-0.18,2,    -999,9,-999,9, 20080222,     0040, -53.0008,  30.0013,    -999,-999,9,     -999,9,     -999,9,     -999,9,     -999,9,     -999,9,     -999,9,-999,9,     -999,9,     -999,9,     -999,9,    0.15,   0.007
33RR20080204,       I06S,      52,          2,          5,          5,2,20080222,       0014,   -53.0008,    30.0010,       5552,  4700.3,  -0.1449,  34.6571,2,  34.6577,2,    238.1,2,   238.5,2,  131.09,2,   32.46,2,    0.00,2,    2.26,2,   0.434,6,   0.233,6,   0.016,6,    -999,9,  2352.6,2,     -999,9,     -999,    -999,9,    -999,1,    -999,9,-0.1451,2,-999,9,-999,9,-999,    -999,9,    -999,-999,9,-999,9,-999,9,    -999,9,-999,9, 20080222,     0035, -53.0007,  30.0011,    -999,-999,9,     -999,9,     -999,9,     -999,9,     -999,9,     -999,9,     -999,9,-999,9,     -999,9,     -999,9,     -999,9,    -999,    -999
33RR20080204,       I06S,      52,          2,          4,          4,2,20080222,       0014,   -53.0008,    30.0010,       5552,  4903.5,  -0.1402,  34.6566,2,  34.6571,2,    239.2,2,   238.3,2,  131.48,2,   32.51,2,    0.00,2,    2.26,2,   0.444,2,   0.231,2,   0.011,2,    -999,9,  2352.3,2,     -999,9,     -999,    -999,9,    -999,9,    -999,9,-0.1401,2,-999,9,-999,9,-999,    -999,9,    -999,-999,9,-999,9,-999,9,    -999,9,-999,9, 20080222,     0030, -53.0008,  30.0013,    -999,-999,9,     -999,9,     -999,9,     -999,9,     -999,9,     -999,9,     -999,9,-999,9,     -999,9,     -999,9,     -999,9,    -999,    -999
33RR20080204,       I06S,      52,          2,          3,          3,2,20080222,       0014,   -53.0008,    30.0010,       5552,  5108.9,  -0.1347,  34.6557,2,  34.6567,2,    239.9,2,   239.4,2,  131.49,2,   32.51,2,    0.00,2,    2.26,2,   0.450,2,   0.235,2,   0.024,2,    -999,9,  2352.0,2,     -999,9,     -999,    -999,9,   1.907,2,    5.14,2,-0.1345,2,-999,9,-999,9,-999,   8.319,2,   0.032,-999,9,-999,9,-999,9,    -999,9,-999,9, 20080222,     0026, -53.0008,  30.0014,    -999,-999,9,     -999,9,     -999,9,     -999,9,     -999,9,     -999,9,     -999,9,-999,9,     -999,9,     -999,9,     -999,9,    0.15,   0.007
33RR20080204,       I06S,      52,          2,          2,          2,2,20080222,       0014,   -53.0008,    30.0010,       5552,  5311.2,  -0.1297,  34.6547,2,  34.6561,2,    240.6,2,   240.2,2,  132.08,2,   32.51,2,    0.00,2,    2.26,2,   0.458,2,   0.242,2,   0.027,2,    -999,9,  2351.5,2,     -999,9,     -999,    -999,9,    -999,9,    -999,9,-0.1298,2,-999,9,-999,9,-999,    -999,9,    -999,-999,9,-999,9,-999,9,    -999,9,-999,9, 20080222,     0021, -53.0008,  30.0016,    -999,-999,9,     -999,9,     -999,9,     -999,9,     -999,9,     -999,9,     -999,9,-999,9,     -999,9,     -999,9,     -999,9,    -999,    -999
33RR20080204,       I06S,      52,          2,          1,          1,2,20080222,       0014,   -53.0008,    30.0010,       5552,  5591.4,  -0.1131,  34.6539,2,  34.6553,2,    240.9,2,   240.7,2,  132.27,2,   32.56,2,    0.00,2,    2.26,2,   0.473,2,   0.242,2,   0.035,2,    -999,9,  2352.6,2,     -999,9,     -999,    -999,9,   1.880,2,    5.05,2,-0.1131,2,-999,9,-999,9,-999,   8.242,2,   0.031,-999,9,-999,9,-0.18,2,    -999,9,-999,9, 20080222,     0015, -53.0008,  30.0011,    -999,-999,9,     -999,9,     -999,9,     -999,9,     -999,9,     -999,9,     -999,9,-999,9,     -999,9,     -999,9,     -999,9,    0.15,   0.007