BOTTLE,20220706CCHSIOAMB
EXPOCODE,SECT_ID,STNNBR,CASTNO,SAMPNO,BTLNBR,BTLNBR_FLAG_W,DATE,TIME,LATITUDE,LONGITUDE,DEPTH,CTDPRS,CTDTMP,CTDSAL,CTDSAL_FLAG_W,SALNTY,SALNTY_FLAG_W,CTDOXY,CTDOXY_FLAG_W,OXYGEN,OXYGEN_FLAG_W,SILCAT,SILCAT_FLAG_W,NITRAT,NITRAT_FLAG_W,NITRIT,NITRIT_FLAG_W,PHSPHT,PHSPHT_FLAG_W,CFC-11,CFC-11_FLAG_W,CFC-12,CFC-12_FLAG_W,CFC113,CFC113_FLAG_W,TCARBN,TCARBN_FLAG_W,ALKALI,ALKALI_FLAG_W,PH_SWS,PH_SWS_FLAG_W,PH_TMP,TRITUM,TRITUM_FLAG_W,HELIUM,HELIUM_FLAG_W,DELHE3,DELHE3_FLAG_W,REFTMP,REFTMP_FLAG_W,DELC13,DELC13_FLAG_W,DELC14,DELC14_FLAG_W,C14ERR,NEON,NEON_FLAG_W,NEONER,CCL4,CCL4_FLAG_W,ALUMIN,ALUMIN_FLAG_W,DELO18,DELO18_FLAG_W,DOC,DOC_FLAG_W,TDN,TDN_FLAG_W,BTL_DATE,BTL_TIME,BTL_LAT,BTL_LON,TRITER,DELSI30,DELSI30_FLAG_W,CDOM380,CDOM380_FLAG_W,CDOM325,CDOM325_FLAG_W,CDOMSL,CDOMSL_FLAG_W,CDOM340,CDOM340_FLAG_W,CDOM443,CDOM443_FLAG_W,CDOMSN,CDOMSN_FLAG_W,BLACKC,BLACKC_FLAG_W,CDOM490,CDOM490_FLAG_W,CDOM412,CDOM412_FLAG_W,CDOM555,CDOM555_FLAG_W,DELHER,HELIER
,,,,,,,,,,,METERS,DBAR,ITS-90,PSS-78,,PSS-78,,UMOL/KG,,UMOL/KG,,UMOL/KG,,UMOL/KG,,UMOL/KG,,UMOL/KG,,PMOL/KG,,PMOL/KG,,PMOL/KG,,UMOL/KG,,UMOL/KG,,,,DEG C,TU,,NMOL/KG,,PERCNT,,DEG C,,/MILLE,,/MILLE,,/MILLE,NMOL/KG,,NMOL/KG,PMOL/KG,,NMOL/L,,/MILLE,,UMOL/KG,,UMOL/KG,,,,,,TU,/MILLE,,1/M,,1/M,,1/NM,,1/M,,1/M,,1/NM,,,,1/M,,1/M,,1/M,,PERCNT,NMOL/KG
33RR20080204,       I06S,      63,          1,         36,         36,2,20080225,       0939,   -58.4994,    29.9961,       5402,     4.2,   1.8444,  33.9282,2,  33.9303,2,    329.9,2,   330.3,2,   29.65,2,   25.62,2,    0.28,2,    1.72,2,   5.766,2,   3.198,2,   0.502,2,  2160.4,6,  2299.0,2,   7.9092,4,    13.00,    -999,9,    -999,9,    -999,9,1.8441,2,-999,9,-999,9,-999,    -999,9,    -999,5.763,2,-999,9,-999,9,   42.24,2,-999,1, 20080225,     1152, -58.5077,  29.9993,    -999,-999,9,   0.0239,2,   0.0805,2,   0.0103,4,   0.0509,2,   0.0073,2,   0.0190,3,-999,1,   0.0005,3,   0.0154,2,  -0.0025,4,    -999,    -999
33RR20080204,       I06S,      63,          1,         35,         35,2,20080225,       0939,   -58.4994,    29.9961,       5402,    27.1,   1.8501,  33.9295,2,  33.9301,2,    331.4,2,   330.4,2,   29.65,2,   25.62,2,    0.28,2,    1.72,2,   5.849,2,   3.241,2,   0.500,2,    -999,9,  2296.4,2,   7.9118,2,    13.00,    -999,9,    -999,9,    -999,9,1.8482,2,-999,9,-999,9,-999,    -999,9,    -999,5.83,2,-999,9,-999,9,   41.27,2,-999,1, 20080225,     1151, -58.5076,  29.9994,    -999,-999,1,   0.0279,2,   0.0867,2,   0.0158,3,   0.0552,2,   0.0108,2,   0.0160,3,-999,1,   0.0031,2,   0.0195,2,  -0.0012,4,    -999,    -999
33RR20080204,       I06S,      63,          1,         34,         34,2,20080225,       0939,   -58.4994,    29.9961,       5402,    53.2,   1.8552,  33.9306,2,  33.9318,2,    331.3,2,   330.3,2,   29.47,2,   25.62,2,    0.28,2,    1.71,2,   5.842,2,   3.201,2,   0.472,2,  2161.1,2,  2295.8,2,   7.9124,3,    13.00,    -999,9,    -999,9,    -999,9,1.8538,2,-999,9,-999,9,-999,    -999,9,    -999,5.67,2,-999,9,-999,9,   44.68,2,-999,1, 20080225,     1149, -58.5074,  29.9994,    -999,-999,1,   0.0292,2,   0.0907,2,   0.0162,3,   0.0589,2,   0.0110,2,   0.0165,3,-999,1,   0.0028,2,   0.0199,2,  -0.0014,4,    -999,    -999
33RR20080204,       I06S,      63,          1,         33,         33,2,20080225,       0939,   -58.4994,    29.9961,       5402,    87.6,   1.6552,  33.9432,2,  33.9400,2,     -999,9,    -999,9,   30.75,2,   25.77,2,    0.28,2,    1.74,2,    -999,9,    -999,9,    -999,9,    -999,9,    -999,9,     -999,9,     -999,    -999,9,    -999,9,    -999,9,1.7459,3,-999,9,-999,9,-999,    -999,9,    -999,-999,9,-999,9,-999,9,    -999,9,-999,9, 20080225,     1148, -58.5074,  29.9993,    -999,-999,9,     -999,9,     -999,9,     -999,9,     -999,9,     -999,9,     -999,9,-999,9,     -999,9,     -999,9,     -999,9,    -999,    -999
33RR20080204,       I06S,      63,          1,         32,         32,2,20080225,       0939,   -58.4994,    29.9961,       5402,   111.3,   0.4855,  34.1369,2,  34.0160,4,    306.6,2,   305.3,2,   53.91,2,   30.33,2,    0.20,2,    2.12,2,   5.292,6,   2.911,6,   0.463,6,    -999,9,  2306.0,2,   7.8242,2,    13.00,    -999,9,    -999,9,    -999,9,0.4859,2,-999,9,-999,9,-999,    -999,9,    -999,5.069,2,-999,9,-999,9,   42.44,2,-999,1, 20080225,     1147, -58.5074,  29.9993,    -999,-999,1,   0.0312,2,   0.0972,2,   0.0167,3,   0.0630,2,   0.0109,2,   0.0172,3,-999,9,   0.0022,2,   0.0212,2,  -0.0018,4,    -999,    -999
33RR20080204,       I06S,      63,          1,         31,         31,2,20080225,       0939,   -58.4994,    29.9961,       5402,   161.9,   0.7419,  34.2819,2,  34.2789,2,    256.3,2,   265.3,2,   60.98,2,   32.42,2,    0.12,2,    2.25,2,   4.072,2,   2.226,2,   0.331,2,  2221.9,2,  2314.8,2,   7.7882,2,    13.00,    -999,9,    -999,9,    -999,9,0.737,2,-999,9,-999,9,-999,    -999,9,    -999,3.956,2,-999,9,-999,9,   39.02,2,-999,1, 20080225,     1146, -58.5074,  29.9995,    -999,-999,1,   0.0362,2,   0.1182,2,   0.0173,3,   0.0825,2,   0.0140,2,   0.0188,3,-999,1,   0.0028,2,   0.0247,2,  -0.0019,4,    -999,    -999
33RR20080204,       I06S,      63,          1,         30,         30,2,20080225,       0939,   -58.4994,    29.9961,       5402,   213.2,   1.7239,  34.4792,2,  34.4654,2,    202.0,2,   200.2,2,   73.51,2,   34.38,2,    0.01,2,    2.37,2,   1.922,2,   1.003,2,   0.175,2,    -999,9,  2326.9,2,   7.7437,3,    13.00,    -999,9,    -999,9,    -999,9,1.6867,2,-999,9,-999,9,-999,    -999,9,    -999,2.244,2,-999,9,-999,9,   40.78,2,-999,1, 20080225,     1144, -58.5073,  29.9994,    -999,-999,1,   0.0398,2,   0.1208,2,   0.0166,3,   0.0803,2,   0.0148,2,   0.0168,3,-999,1,   0.0045,2,   0.0273,2,  -0.0006,4,    -999,    -999
33RR20080204,       I06S,      63,          1,         29,         29,2,20080225,       0939,   -58.4994,    29.9961,       5402,   271.6,   1.9431,  34.5711,2,  34.5694,2,    181.6,2,   179.9,2,   78.75,2,   34.42,2,    0.01,2,    2.37,2,   1.021,2,   0.549,2,   0.078,2,  2256.1,2,  2336.3,2,   7.7374,2,    13.00,    -999,9,    -999,9,    -999,9,1.9441,2,-999,9,-999,9,-999,    -999,9,    -999,1.434,2,-999,9,-999,9,   39.22,2,-999,1, 20080225,     1142, -58.5071,  29.9995,    -999,-999,1,   0.0384,2,   0.1186,2,   0.0170,3,   0.0787,2,   0.0137,2,   0.0174,3,-999,1,   0.0036,2,   0.0258,2,  -0.0010,4,    -999,    -999
33RR20080204,       I06S,      63,          1,         28,         28,2,20080225,       0939,   -58.4994,    29.9961,       5402,   323.1,   2.0843,  34.6172,2,  34.6136,2,    175.0,2,   176.2,2,   79.68,2,   33.95,2,    0.01,2,    2.34,2,   0.685,2,   0.381,2,   0.039,2,    -999,9,  2338.4,2,   7.7450,2,    13.00,    -999,9,    -999,9,    -999,9,2.0703,2,-999,9,-999,9,-999,    -999,9,    -999,1.13,2,-999,9,-999,9,   39.22,2,-999,1, 20080225,     1140, -58.5069,  29.9995,    -999,-999,1,   0.0439,2,   0.1304,2,   0.0168,3,   0.0883,2,   0.0160,2,   0.0169,3,-999,1,   0.0049,2,   0.0291,2,  -0.0005,4,    -999,    -999
33RR20080204,       I06S,      63,          1,         27,         27,2,20080225,       0939,   -58.4994,    29.9961,       5402,   375.7,   2.1554,  34.6535,2,  34.6535,2,    176.4,2,   175.7,2,   79.50,2,   33.24,2,    0.01,2,    2.29,2,   0.456,2,   0.247,2,   0.042,2,  2254.0,2,  2341.2,2,   7.7540,3,    13.00,    -999,9,    -999,9,    -999,9,2.1558,2,-999,9,-999,9,-999,    -999,9,    -999,0.902,2,-999,9,-999,9,    -999,9,-999,9, 20080225,     1139, -58.5067,  29.9997,    -999,-999,9,     -999,9,     -999,9,     -999,9,     -999,9,     -999,9,     -999,9,-999,9,     -999,9,     -999,9,     -999,9,    -999,    -999
33RR20080204,       I06S,      63,          1,         26,         26,2,20080225,       0939,   -58.4994,    29.9961,       5402,   424.6,   1.9627,  34.6581,2,  34.6584,2,    179.8,2,   179.8,2,   82.69,2,   33.15,2,    0.00,2,    2.28,2,   0.553,2,   0.305,2,   0.039,2,    -999,9,  2342.0,2,   7.7567,2,    13.00,    -999,9,    -999,9,    -999,9,1.9646,2,-999,9,-999,9,-999,    -999,9,    -999,1.038,2,-999,9,-999,9,   38.44,2,-999,1, 20080225,     1136, -58.5065,  29.9997,    -999,-999,1,   0.0398,2,   0.1235,2,   0.0176,3,   0.0822,2,   0.0135,2,   0.0179,3,-999,1,   0.0032,2,   0.0255,2,  -0.0012,4,    -999,    -999
33RR20080204,       I06S,      63,          1,         25,         25,2,20080225,       0939,   -58.4994,    29.9961,       5402,   474.8,   1.9170,  34.6839,2,  34.6846,2,    182.0,2,   182.8,2,   84.19,2,   32.49,2,    0.00,2,    2.25,2,   0.461,2,   0.259,2,   0.034,2,  2254.5,2,  2347.1,2,   7.7667,2,    13.00,    -999,9,    -999,9,    -999,9,1.9202,2,-999,9,-999,9,-999,    -999,9,    -999,0.852,2,-999,9,-999,9,    -999,9,-999,9, 20080225,     1134, -58.5062,  29.9999,    -999,-999,9,     -999,9,     -999,9,     -999,9,     -999,9,     -999,9,     -999,9,-999,9,     -999,9,     -999,9,     -999,9,    -999,    -999
33RR20080204,       I06S,      63,          1,         24,         24,2,20080225,       0939,   -58.4994,    29.9961,       5402,   528.1,   1.9411,  34.7053,2,  34.7068,2,    184.5,2,   185.9,2,   83.62,2,   31.83,2,    0.00,2,    2.20,2,   0.355,2,   0.207,2,   0.028,2,    -999,9,  2344.8,2,   7.7772,2,    13.00,    -999,9,    -999,9,    -999,9,1.9417,2,-999,9,-999,9,-999,    -999,9,    -999,0.799,2,-999,9,-999,9,   46.34,2,-999,1, 20080225,     1132, -58.5061,  30.0000,    -999,-999,9,   0.0416,2,   0.1253,2,   0.0169,3,   0.0849,2,   0.0152,2,   0.0171,3,-999,1,   0.0047,2,   0.0276,2,  -0.0003,4,    -999,    -999
33RR20080204,       I06S,      63,          1,         23,         23,2,20080225,       0939,   -58.4994,    29.9961,       5402,   645.9,   1.9195,  34.7297,2,  34.7306,2,    192.1,2,   190.6,2,   83.61,2,   30.94,2,    0.00,2,    2.14,2,   0.267,2,   0.155,2,   0.028,2,  2246.2,2,  2347.2,2,   7.7906,3,    13.00,    -999,9,    -999,9,    -999,9,1.9227,2,-999,9,-999,9,-999,    -999,9,    -999,0.717,2,-999,9,-999,9,   40.88,2,-999,1, 20080225,     1129, -58.5059,  30.0000,    -999,-999,1,   0.0391,2,   0.1221,2,   0.0170,3,   0.0816,2,   0.0142,2,   0.0175,3,-999,1,   0.0039,2,   0.0261,2,  -0.0008,4,    -999,    -999
33RR20080204,       I06S,      63,          1,         22,         22,2,20080225,       0939,   -58.4994,    29.9961,       5402,   759.8,   1.7922,  34.7402,2,  34.7414,2,    196.1,2,   195.7,2,   85.68,2,   30.56,2,    0.00,2,    2.11,2,   0.245,2,   0.140,2,   0.022,2,    -999,9,  2349.1,2,   7.8006,2,    13.00,    -999,9,    -999,9,    -999,9,1.7919,2,-999,9,-999,9,-999,    -999,9,    -999,0.709,2,-999,9,-999,9,   40.29,2,-999,1, 20080225,     1125, -58.5055,  30.0001,    -999,-999,9,   0.0368,2,   0.1176,2,   0.0179,3,   0.0777,2,   0.0123,2,   0.0183,3,-999,1,   0.0029,2,   0.0233,2,   0.0001,4,    -999,    -999
33RR20080204,       I06S,      63,          1,         21,         21,2,20080225,       0939,   -58.4994,    29.9961,       5402,   856.2,   1.6968,  34.7451,2,  34.7467,2,    198.7,2,   198.7,2,   87.56,2,   30.38,2,    0.00,2,    2.09,2,   0.218,2,   0.127,2,   0.027,2,  2245.8,2,  2348.8,2,   7.8062,3,    13.00,    -999,9,    -999,9,    -999,9,1.6993,2,-999,9,-999,9,-999,    -999,9,    -999,0.717,2,-999,9,-999,9,   39.02,2,-999,1, 20080225,     1121, -58.5053,  30.0003,    -999,-999,1,   0.0339,2,   0.1140,2,   0.0184,3,   0.0744,2,   0.0110,2,   0.0193,3,-999,1,   0.0023,2,   0.0211,2,  -0.0012,4,    -999,    -999
33RR20080204,       I06S,      63,          1,         20,         20,2,20080225,       0939,   -58.4994,    29.9961,       5402,   954.0,   1.5495,  34.7418,2,  34.7427,2,    199.3,2,   200.4,2,   91.14,2,   30.53,2,    0.00,2,    2.10,2,   0.231,2,   0.134,2,   0.028,2,    -999,9,  2351.2,2,   7.8068,2,    13.00,    -999,9,    -999,9,    -999,9,1.5499,2,-999,9,-999,9,-999,    -999,9,    -999,0.804,2,-999,9,-999,9,    -999,9,-999,9, 20080225,     1119, -58.5050,  30.0004,    -999,-999,9,     -999,9,     -999,9,     -999,9,     -999,9,     -999,9,     -999,9,-999,9,     -999,9,     -999,9,     -999,9,    -999,    -999
33RR20080204,       I06S,      63,          1,         19,         19,2,20080225,       0939,   -58.4994,    29.9961,       5402,  1053.1,   1.4898,  34.7475,2,  34.7484,2,    202.6,2,   203.4,2,   92.08,2,   30.24,2,    0.00,2,    2.08,2,   0.180,2,   0.105,2,   0.029,2,  2246.2,6,  2351.9,2,   7.8118,2,    13.00,    -999,9,    -999,9,    -999,9,1.4907,2,-999,9,-999,9,-999,    -999,9,    -999,0.83,2,-999,9,-999,9,   38.73,2,-999,1, 20080225,     1116, -58.5045,  30.0006,    -999,-999,1,   0.0352,2,   0.1151,2,   0.0182,3,   0.0757,2,   0.0117,2,   0.0187,3,-999,1,   0.0029,2,   0.0218,2,  -0.0002,4,    -999,    -999
33RR20080204,       I06S,      63,          1,         18,         18,2,20080225,       0939,   -58.4994,    29.9961,       5402,  1260.5,   1.2466,  34.7360,2,  34.7382,2,    204.9,2,   205.1,2,   99.26,2,   30.76,2,    0.00,2,    2.12,2,   0.195,2,   0.115,2,   0.013,2,    -999,9,  2355.0,2,   7.8083,2,    13.00,    -999,9,    -999,9,    -999,9,1.2476,2,-999,9,-999,9,-999,    -999,9,    -999,0.859,2,-999,9,-999,9,   37.56,2,-999,1, 20080225,     1111, -58.5036,  29.9988,    -999,-999,9,   0.0331,2,   0.1123,2,   0.0189,3,   0.0728,2,   0.0104,2,   0.0197,3,-999,1,   0.0019,2,   0.0200,2,  -0.0003,4,    -999,    -999
33RR20080204,       I06S,      63,          1,         17,         17,2,20080225,       0939,   -58.4994,    29.9961,       5402,  1461.0,   1.0688,  34.7244,2,  34.7262,2,    205.7,2,   205.7,2,  104.95,2,   31.28,2,    0.00,2,    2.15,2,   0.228,2,   0.124,2,   0.012,2,  2250.8,2,  2355.3,2,   7.7916,4,    13.00,    -999,9,    -999,9,    -999,9,1.0694,2,-999,9,-999,9,-999,    -999,9,    -999,0.983,2,-999,9,-999,9,   38.73,2,-999,1, 20080225,     1106, -58.5031,  29.9992,    -999,-999,9,   0.0347,2,   0.1161,2,   0.0185,3,   0.0757,2,   0.0115,2,   0.0193,3,-999,1,   0.0028,2,   0.0213,2,   0.0001,4,    -999,    -999
33RR20080204,       I06S,      63,          1,         16,         16,2,20080225,       0939,   -58.4994,    29.9961,       5402,  1668.7,   0.7986,  34.7059,2,  34.7079,2,    206.0,2,   206.1,2,  112.35,2,   32.03,2,    0.00,2,    2.22,2,   0.291,2,   0.166,2,   0.021,2,    -999,9,  2357.2,2,   7.7907,2,    13.00,    -999,9,    -999,9,    -999,9,0.7984,2,-999,9,-999,9,-999,    -999,9,    -999,1.146,2,-999,9,-999,9,    -999,9,-999,9, 20080225,     1102, -58.5025,  29.9993,    -999,-999,9,     -999,9,     -999,9,     -999,9,     -999,9,     -999,9,     -999,9,-999,9,     -999,9,     -999,9,     -999,9,    -999,    -999
33RR20080204,       I06S,      63,          1,         15,         15,2,20080225,       0939,   -58.4994,    29.9961,       5402,  1882.6,   0.6843,  34.7018,2,  34.7032,2,    207.5,2,   208.1,2,  115.76,2,   32.22,2,    0.00,2,    2.23,2,   0.275,2,   0.157,2,   0.020,2,  2258.6,2,  2358.2,2,   7.7914,2,    13.00,    -999,9,    -999,9,    -999,9,0.6847,2,-999,9,-999,9,-999,    -999,9,    -999,1.179,2,-999,9,-999,9,   39.12,2,-999,1, 20080225,     1057, -58.5020,  29.9995,    -999,-999,9,   0.0325,2,   0.1117,2,   0.0184,3,   0.0718,2,   0.0107,2,   0.0195,3,-999,1,   0.0021,2,   0.0206,2,   0.0004,4,    -999,    -999
33RR20080204,       I06S,      63,          1,         14,         14,2,20080225,       0939,   -58.4994,    29.9961,       5402,  2084.6,   0.5578,  34.6940,2,  34.6954,2,    208.8,2,   208.9,2,  120.90,2,   32.51,2,    0.00,2,    2.25,2,   0.282,2,   0.159,2,   0.011,2,    -999,9,  2358.7,2,   7.7955,4,    13.00,    -999,9,    -999,9,    -999,9,0.5576,2,-999,9,-999,9,-999,    -999,9,    -999,1.261,2,-999,9,-999,9,    -999,9,-999,9, 20080225,     1052, -58.5016,  29.9998,    -999,-999,9,     -999,9,     -999,9,     -999,9,     -999,9,     -999,9,     -999,9,-999,9,     -999,9,     -999,9,     -999,9,    -999,    -999
33RR20080204,       I06S,      63,          1,         13,         13,2,20080225,       0939,   -58.4994,    29.9961,       5402,  2389.6,   0.4107,  34.6860,2,  34.6871,2,    211.2,2,   212.1,2,  124.71,2,   32.79,2,    0.00,2,    2.26,2,   0.287,2,   0.162,2,   0.010,2,  2259.9,2,  2358.3,2,   7.7841,2,    13.00,    -999,9,    -999,9,    -999,9,0.4093,2,-999,9,-999,9,-999,    -999,9,    -999,1.351,2,-999,9,-999,9,   39.22,2,-999,1, 20080225,     1046, -58.5014,  29.9997,    -999,-999,9,   0.0354,2,   0.1151,2,   0.0174,3,   0.0749,2,   0.0127,2,   0.0182,3,-999,1,   0.0031,2,   0.0231,2,  -0.0003,4,    -999,    -999
33RR20080204,       I06S,      63,          1,         12,         12,2,20080225,       0939,   -58.4994,    29.9961,       5402,  2695.1,   0.2642,  34.6778,2,  34.6779,2,    214.4,2,   214.5,2,  126.62,2,   33.03,2,    0.00,2,    2.28,2,   0.316,2,   0.173,2,   0.021,2,    -999,9,  2357.9,2,   7.7802,2,    13.00,    -999,9,    -999,9,    -999,9,0.2651,2,-999,9,-999,9,-999,    -999,9,    -999,1.479,2,-999,9,-999,9,    -999,9,-999,9, 20080225,     1040, -58.5011,  29.9997,    -999,-999,9,     -999,9,     -999,9,     -999,9,     -999,9,     -999,9,     -999,9,-999,9,     -999,9,     -999,9,     -999,9,    -999,    -999
33RR20080204,       I06S,      63,          1,         11,         11,2,20080225,       0939,   -58.4994,    29.9961,       5402,  2999.0,   0.1595,  34.6734,2,  34.6732,2,    219.0,2,   218.8,2,  127.95,2,   33.03,2,    0.00,2,    2.28,2,   0.302,2,   0.164,2,   0.006,2,  2255.0,2,  2355.0,2,   7.7807,3,    13.00,    -999,9,    -999,9,    -999,9,0.1599,2,-999,9,-999,9,-999,    -999,9,    -999,1.582,2,-999,9,-999,9,   40.68,2,-999,1, 20080225,     1034, -58.5007,  29.9984,    -999,-999,9,   0.0328,2,   0.1111,2,   0.0180,3,   0.0718,2,   0.0113,2,   0.0193,3,-999,1,   0.0020,2,   0.0211,2,  -0.0009,4,    -999,    -999
33RR20080204,       I06S,      63,          1,         10,         10,2,20080225,       0939,   -58.4994,    29.9961,       5402,  3311.9,   0.0495,  34.6679,2,  34.6683,2,    223.8,2,   224.0,2,  128.52,2,   32.93,2,    0.00,2,    2.28,2,   0.338,2,   0.184,2,   0.013,2,    -999,9,  2355.6,2,   7.7849,2,    13.00,    -999,9,    -999,9,    -999,9,0.0491,2,-999,9,-999,9,-999,    -999,9,    -999,1.669,2,-999,9,-999,9,    -999,9,-999,9, 20080225,     1028, -58.5002,  29.9969,    -999,-999,9,     -999,9,     -999,9,     -999,9,     -999,9,     -999,9,     -999,9,-999,9,     -999,9,     -999,9,     -999,9,    -999,    -999
33RR20080204,       I06S,      63,          1,          9,          9,2,20080225,       0939,   -58.4994,    29.9961,       5402,  3620.9,  -0.0267,  34.6644,2,  34.6647,2,    228.3,2,   228.1,2,  128.52,2,   32.89,2,    0.00,2,    2.27,2,   0.363,2,   0.196,2,   0.016,2,  2253.6,2,  2354.8,2,   7.7878,2,    13.00,    -999,9,    -999,9,    -999,9,-0.0269,2,-999,9,-999,9,-999,    -999,9,    -999,1.78,2,-999,9,-999,9,   39.32,2,-999,1, 20080225,     1022, -58.5000,  29.9963,    -999,-999,9,   0.0317,2,   0.1084,2,   0.0183,3,   0.0698,2,   0.0107,2,   0.0195,3,-999,1,   0.0022,2,   0.0197,2,  -0.0007,4,    -999,    -999
33RR20080204,       I06S,      63,          1,          8,          8,2,20080225,       0939,   -58.4994,    29.9961,       5402,  3926.4,  -0.0876,  34.6618,2,  34.6616,2,    231.8,2,   232.4,2,  128.14,2,   32.89,2,    0.00,2,    2.27,2,   0.425,2,   0.225,2,   0.014,2,    -999,9,  2351.1,2,   7.7895,2,    13.00,    -999,9,    -999,9,    -999,9,-0.0875,2,-999,9,-999,9,-999,    -999,9,    -999,2.008,2,-999,9,-999,9,    -999,9,-999,9, 20080225,     1015, -58.4999,  29.9959,    -999,-999,9,     -999,9,     -999,9,     -999,9,     -999,9,     -999,9,     -999,9,-999,9,     -999,9,     -999,9,     -999,9,    -999,    -999