BOTTLE,20220706CCHSIOAMB
EXPOCODE,SECT_ID,STNNBR,CASTNO,SAMPNO,BTLNBR,BTLNBR_FLAG_W,DATE,TIME,LATITUDE,LONGITUDE,DEPTH,CTDPRS,CTDTMP,CTDSAL,CTDSAL_FLAG_W,SALNTY,SALNTY_FLAG_W,CTDOXY,CTDOXY_FLAG_W,OXYGEN,OXYGEN_FLAG_W,SILCAT,SILCAT_FLAG_W,NITRAT,NITRAT_FLAG_W,NITRIT,NITRIT_FLAG_W,PHSPHT,PHSPHT_FLAG_W,CFC-11,CFC-11_FLAG_W,CFC-12,CFC-12_FLAG_W,CFC113,CFC113_FLAG_W,TCARBN,TCARBN_FLAG_W,ALKALI,ALKALI_FLAG_W,PH_SWS,PH_SWS_FLAG_W,PH_TMP,TRITUM,TRITUM_FLAG_W,HELIUM,HELIUM_FLAG_W,DELHE3,DELHE3_FLAG_W,REFTMP,REFTMP_FLAG_W,DELC13,DELC13_FLAG_W,DELC14,DELC14_FLAG_W,C14ERR,NEON,NEON_FLAG_W,NEONER,CCL4,CCL4_FLAG_W,ALUMIN,ALUMIN_FLAG_W,DELO18,DELO18_FLAG_W,DOC,DOC_FLAG_W,TDN,TDN_FLAG_W,BTL_DATE,BTL_TIME,BTL_LAT,BTL_LON,TRITER,DELSI30,DELSI30_FLAG_W,CDOM380,CDOM380_FLAG_W,CDOM325,CDOM325_FLAG_W,CDOMSL,CDOMSL_FLAG_W,CDOM340,CDOM340_FLAG_W,CDOM443,CDOM443_FLAG_W,CDOMSN,CDOMSN_FLAG_W,BLACKC,BLACKC_FLAG_W,CDOM490,CDOM490_FLAG_W,CDOM412,CDOM412_FLAG_W,CDOM555,CDOM555_FLAG_W,DELHER,HELIER
,,,,,,,,,,,METERS,DBAR,ITS-90,PSS-78,,PSS-78,,UMOL/KG,,UMOL/KG,,UMOL/KG,,UMOL/KG,,UMOL/KG,,UMOL/KG,,PMOL/KG,,PMOL/KG,,PMOL/KG,,UMOL/KG,,UMOL/KG,,,,DEG C,TU,,NMOL/KG,,PERCNT,,DEG C,,/MILLE,,/MILLE,,/MILLE,NMOL/KG,,NMOL/KG,PMOL/KG,,NMOL/L,,/MILLE,,UMOL/KG,,UMOL/KG,,,,,,TU,/MILLE,,1/M,,1/M,,1/NM,,1/M,,1/M,,1/NM,,,,1/M,,1/M,,1/M,,PERCNT,NMOL/KG
33RR20080204,       I06S,      80,          3,          3,          3,2,20080301,       1920,   -65.6755,    32.6262,       2927,  2899.5,  -0.0485,  34.6599,2,  34.6613,2,    231.8,3,   231.1,2,  120.11,2,   32.07,2,    0.00,2,    2.23,2,   0.878,2,   0.499,2,   0.059,2,    -999,9,  2355.0,2,     -999,9,     -999,    -999,9,    -999,9,    -999,9,-0.048,2,-999,9,-999,9,-999,    -999,9,    -999,1.365,2,-999,9,-999,9,    -999,9,-999,9, 20080301,     1924, -65.6755,  32.6262,    -999,-999,9,     -999,9,     -999,9,     -999,9,     -999,9,     -999,9,     -999,9,-999,9,     -999,9,     -999,9,     -999,9,    -999,    -999
33RR20080204,       I06S,      80,          3,          2,          2,2,20080301,       1920,   -65.6755,    32.6262,       2927,  2955.0,  -0.0589,  34.6609,2,  34.6621,2,    228.1,3,   231.8,2,  120.51,2,   32.17,2,    0.00,2,    2.23,2,   0.898,2,   0.494,2,   0.058,2,    -999,9,  2354.4,2,     -999,9,     -999,    -999,9,    -999,9,    -999,9,-0.0586,2,-999,9,-999,9,-999,    -999,9,    -999,1.477,2,-999,9,-999,9,    -999,9,-999,9, 20080301,     1921, -65.6755,  32.6262,    -999,-999,9,     -999,9,     -999,9,     -999,9,     -999,9,     -999,9,     -999,9,-999,9,     -999,9,     -999,9,     -999,9,    -999,    -999
33RR20080204,       I06S,      80,          3,          1,          1,2,20080301,       1920,   -65.6755,    32.6262,       2927,  2955.7,  -0.0588,  34.6611,2,  34.6615,2,    228.0,3,   283.7,4,  119.68,2,   32.17,2,    0.00,2,    2.24,2,   0.915,2,   0.490,2,   0.053,2,    -999,9,  2354.2,2,     -999,9,     -999,    -999,9,    -999,9,    -999,9,-0.0582,2,-999,9,-999,9,-999,    -999,9,    -999,1.383,2,-999,9,-999,9,    -999,9,-999,9, 20080301,     1921, -65.6755,  32.6262,    -999,-999,9,     -999,9,     -999,9,     -999,9,     -999,9,     -999,9,     -999,9,-999,9,     -999,9,     -999,9,     -999,9,    -999,    -999
33RR20080204,       I06S,      81,          1,         32,         32,2,20080302,       1350,   -65.7031,    32.7259,       2495,     4.2,  -0.4248,  34.0881,2,  34.0899,2,    331.8,2,   332.0,2,   56.17,2,   27.35,2,    0.22,2,    1.89,2,   5.786,2,   3.253,2,   0.473,2,  2185.5,6,    -999,5,   7.8675,2,    13.00,    -999,9,    -999,9,    -999,9,-0.4245,2,-999,9,-999,9,-999,    -999,9,    -999,8.53,2,-999,9,-999,9,    -999,9,-999,9, 20080302,     1435, -65.7031,  32.7258,    -999,-999,9,     -999,9,     -999,9,     -999,9,     -999,9,     -999,9,     -999,9,-999,9,     -999,9,     -999,9,     -999,9,    -999,    -999
33RR20080204,       I06S,      81,          1,         31,         31,2,20080302,       1350,   -65.7031,    32.7259,       2495,    10.1,  -0.4263,  34.0880,2,  34.0896,2,    332.3,2,   332.1,2,   56.16,2,   27.36,2,    0.22,2,    1.89,2,   5.781,2,   3.232,2,   0.507,2,    -999,9,  2329.4,2,   7.8680,2,    13.00,    -999,9,    -999,9,    -999,9,-0.4255,2,-999,9,-999,9,-999,    -999,9,    -999,8.943,2,-999,9,-999,9,    -999,9,-999,9, 20080302,     1434, -65.7031,  32.7258,    -999,-999,9,     -999,9,     -999,9,     -999,9,     -999,9,     -999,9,     -999,9,-999,9,     -999,9,     -999,9,     -999,9,    -999,    -999
33RR20080204,       I06S,      81,          1,         30,         30,2,20080302,       1350,   -65.7031,    32.7259,       2495,    28.1,  -0.4282,  34.0874,2,  34.0909,2,    332.3,2,   332.2,2,   56.16,2,   27.41,2,    0.22,2,    1.90,2,   5.782,2,   3.227,2,   0.501,2,    -999,9,  2310.2,2,     -999,5,    13.00,    -999,9,    -999,9,    -999,9,-0.4331,2,-999,9,-999,9,-999,    -999,9,    -999,8.719,2,-999,9,-999,9,    -999,9,-999,9, 20080302,     1433, -65.7030,  32.7257,    -999,-999,9,     -999,9,     -999,9,     -999,9,     -999,9,     -999,9,     -999,9,-999,9,     -999,9,     -999,9,     -999,9,    -999,    -999
33RR20080204,       I06S,      81,          1,         29,         29,2,20080302,       1350,   -65.7031,    32.7259,       2495,    47.3,  -1.2037,  34.2225,2,  34.1920,3,    322.8,2,   321.4,2,   59.58,2,   28.34,2,    0.18,2,    1.97,2,   5.440,2,   3.005,2,   0.466,2,  2196.8,2,  2314.6,2,   7.8488,2,    13.00,    -999,9,    -999,9,    -999,9,-1.1537,3,-999,9,-999,9,-999,    -999,9,    -999,7.584,2,-999,9,-999,9,    -999,9,-999,9, 20080302,     1432, -65.7030,  32.7258,    -999,-999,9,     -999,9,     -999,9,     -999,9,     -999,9,     -999,9,     -999,9,-999,9,     -999,9,     -999,9,     -999,9,    -999,    -999
33RR20080204,       I06S,      81,          1,         28,         28,2,20080302,       1350,   -65.7031,    32.7259,       2495,    86.6,  -1.5404,  34.3421,2,  34.3429,2,    299.2,2,   298.5,2,   67.23,2,   30.84,2,    0.07,2,    2.13,2,   4.860,2,   2.660,2,   0.432,2,    -999,9,  2324.0,2,   7.8073,2,    13.00,    -999,9,    -999,9,    -999,9,-1.5436,2,-999,9,-999,9,-999,    -999,9,    -999,6.954,2,-999,9,-999,9,    -999,9,-999,9, 20080302,     1430, -65.7031,  32.7259,    -999,-999,9,     -999,9,     -999,9,     -999,9,     -999,9,     -999,9,     -999,9,-999,9,     -999,9,     -999,9,     -999,9,    -999,    -999
33RR20080204,       I06S,      81,          1,         27,         27,2,20080302,       1350,   -65.7031,    32.7259,       2495,   109.7,  -1.3991,  34.3623,2,  34.3470,3,    296.9,2,   297.4,2,   67.83,2,   30.83,2,    0.08,2,    2.13,2,   4.823,2,   2.643,2,   0.430,2,  2219.3,2,  2325.4,2,   7.8045,2,    13.00,    -999,9,    -999,9,    -999,9,-1.3843,3,-999,9,-999,9,-999,    -999,9,    -999,6.655,2,-999,9,-999,9,    -999,9,-999,9, 20080302,     1429, -65.7032,  32.7260,    -999,-999,9,     -999,9,     -999,9,     -999,9,     -999,9,     -999,9,     -999,9,-999,9,     -999,9,     -999,9,     -999,9,    -999,    -999
33RR20080204,       I06S,      81,          1,         26,         26,2,20080302,       1350,   -65.7031,    32.7259,       2495,   162.4,  -0.0373,  34.5094,2,  34.5139,2,    263.8,2,   239.9,2,   79.75,2,   32.04,2,    0.01,2,    2.21,2,   2.851,2,   1.530,2,   0.252,2,    -999,9,  2334.4,2,   7.7772,2,    13.00,    -999,9,    -999,9,    -999,9,-0.0621,3,-999,9,-999,9,-999,    -999,9,    -999,4.063,2,-999,9,-999,9,    -999,9,-999,9, 20080302,     1427, -65.7032,  32.7260,    -999,-999,9,     -999,9,     -999,9,     -999,9,     -999,9,     -999,9,     -999,9,-999,9,     -999,9,     -999,9,     -999,9,    -999,    -999
33RR20080204,       I06S,      81,          1,         25,         25,2,20080302,       1350,   -65.7031,    32.7259,       2495,   216.8,   0.7507,  34.6103,2,  34.6068,2,    215.2,2,   215.1,2,   86.44,2,   32.30,2,    0.01,2,    2.22,2,   1.777,2,   0.960,2,   0.133,2,  2248.9,2,  2341.5,2,   7.7693,2,    13.00,    -999,9,    -999,9,    -999,9,0.7434,2,-999,9,-999,9,-999,    -999,9,    -999,2.584,2,-999,9,-999,9,    -999,9,-999,9, 20080302,     1425, -65.7032,  32.7260,    -999,-999,9,     -999,9,     -999,9,     -999,9,     -999,9,     -999,9,     -999,9,-999,9,     -999,9,     -999,9,     -999,9,    -999,    -999
33RR20080204,       I06S,      81,          1,         24,         24,2,20080302,       1350,   -65.7031,    32.7259,       2495,   274.6,   1.1332,  34.6706,2,  34.6713,2,    201.7,2,   201.0,2,   91.31,2,   32.09,2,    0.01,2,    2.21,2,   1.027,2,   0.549,2,   0.088,2,    -999,9,  2347.6,2,   7.7705,3,    13.00,    -999,9,    -999,9,    -999,9,1.1326,2,-999,9,-999,9,-999,    -999,9,    -999,1.718,2,-999,9,-999,9,    -999,9,-999,9, 20080302,     1423, -65.7031,  32.7259,    -999,-999,9,     -999,9,     -999,9,     -999,9,     -999,9,     -999,9,     -999,9,-999,9,     -999,9,     -999,9,     -999,9,    -999,    -999
33RR20080204,       I06S,      81,          1,         23,         23,2,20080302,       1350,   -65.7031,    32.7259,       2495,   324.5,   1.1813,  34.6869,2,  34.6866,2,    199.5,2,   199.8,2,   92.94,2,   31.80,2,    0.01,2,    2.21,2,   0.842,2,   0.454,2,   0.071,2,  2252.7,2,  2348.9,2,   7.7753,2,    13.00,    -999,9,    -999,9,    -999,9,1.1773,2,-999,9,-999,9,-999,    -999,9,    -999,1.344,2,-999,9,-999,9,    -999,9,-999,9, 20080302,     1421, -65.7030,  32.7258,    -999,-999,9,     -999,9,     -999,9,     -999,9,     -999,9,     -999,9,     -999,9,-999,9,     -999,9,     -999,9,     -999,9,    -999,    -999
33RR20080204,       I06S,      81,          1,         22,         22,2,20080302,       1350,   -65.7031,    32.7259,       2495,   371.5,   1.1721,  34.6922,2,  34.6945,2,    200.3,2,   199.9,2,   93.96,2,   31.80,2,    0.00,2,    2.20,2,   0.751,2,   0.401,2,   0.049,2,    -999,9,  2350.5,2,   7.7777,2,    13.00,    -999,9,    -999,9,    -999,9,1.1752,2,-999,9,-999,9,-999,    -999,9,    -999,1.162,2,-999,9,-999,9,    -999,9,-999,9, 20080302,     1420, -65.7030,  32.7257,    -999,-999,9,     -999,9,     -999,9,     -999,9,     -999,9,     -999,9,     -999,9,-999,9,     -999,9,     -999,9,     -999,9,    -999,    -999
33RR20080204,       I06S,      81,          1,         21,         21,2,20080302,       1350,   -65.7031,    32.7259,       2495,   427.2,   1.0850,  34.6949,2,  34.6975,2,    202.2,2,   202.6,2,   95.79,2,   31.59,2,    0.00,2,    2.20,2,   0.736,2,   0.397,2,   0.048,2,  2251.5,2,  2352.6,2,   7.7818,2,    13.00,    -999,9,    -999,9,    -999,9,1.0829,2,-999,9,-999,9,-999,    -999,9,    -999,1.152,2,-999,9,-999,9,    -999,9,-999,9, 20080302,     1418, -65.7030,  32.7258,    -999,-999,9,     -999,9,     -999,9,     -999,9,     -999,9,     -999,9,     -999,9,-999,9,     -999,9,     -999,9,     -999,9,    -999,    -999
33RR20080204,       I06S,      81,          1,         20,         20,2,20080302,       1350,   -65.7031,    32.7259,       2495,   477.8,   1.0426,  34.7377,3,  34.7003,2,    203.7,2,   203.7,2,   97.83,2,   31.60,2,    0.00,2,    2.19,2,   0.684,2,   0.369,2,   0.057,2,    -999,9,  2351.7,2,   7.7834,2,    13.00,    -999,9,    -999,9,    -999,9,1.0426,2,-999,9,-999,9,-999,    -999,9,    -999,1.05,2,-999,9,-999,9,    -999,9,-999,9, 20080302,     1416, -65.7031,  32.7258,    -999,-999,9,     -999,9,     -999,9,     -999,9,     -999,9,     -999,9,     -999,9,-999,9,     -999,9,     -999,9,     -999,9,    -999,    -999
33RR20080204,       I06S,      81,          1,         19,         19,2,20080302,       1350,   -65.7031,    32.7259,       2495,   530.0,   0.9971,  34.7348,3,  34.7009,2,    204.6,2,   204.5,2,   98.85,2,   31.54,2,    0.00,2,    2.19,2,   0.668,2,   0.364,2,   0.042,2,  2252.1,2,  2352.4,2,   7.7865,2,    13.00,    -999,9,    -999,9,    -999,9,0.9971,2,-999,9,-999,9,-999,    -999,9,    -999,1.024,2,-999,9,-999,9,    -999,9,-999,9, 20080302,     1414, -65.7032,  32.7260,    -999,-999,9,     -999,9,     -999,9,     -999,9,     -999,9,     -999,9,     -999,9,-999,9,     -999,9,     -999,9,     -999,9,    -999,    -999
33RR20080204,       I06S,      81,          1,         18,         18,2,20080302,       1350,   -65.7031,    32.7259,       2495,   648.9,   0.9380,  34.7367,3,  34.7052,2,    205.8,2,   204.1,2,  102.53,2,   31.65,2,    0.00,2,    2.20,2,   0.523,2,   0.279,2,   0.025,2,    -999,9,  2353.6,2,   7.7862,2,    13.00,    -999,9,    -999,9,    -999,9,0.938,2,-999,9,-999,9,-999,    -999,9,    -999,0.854,2,-999,9,-999,9,    -999,9,-999,9, 20080302,     1411, -65.7031,  32.7259,    -999,-999,9,     -999,9,     -999,9,     -999,9,     -999,9,     -999,9,     -999,9,-999,9,     -999,9,     -999,9,     -999,9,    -999,    -999
33RR20080204,       I06S,      81,          1,         17,         17,2,20080302,       1350,   -65.7031,    32.7259,       2495,   751.7,   0.8482,  34.7348,3,  34.7011,2,    205.4,2,   205.6,2,  105.18,2,   31.75,2,    0.00,2,    2.20,2,   0.526,2,   0.274,2,   0.030,2,  2255.0,2,  2355.5,2,   7.7855,2,    13.00,    -999,9,    -999,9,    -999,9,0.8482,2,-999,9,-999,9,-999,    -999,9,    -999,0.899,2,-999,9,-999,9,    -999,9,-999,9, 20080302,     1408, -65.7030,  32.7257,    -999,-999,9,     -999,9,     -999,9,     -999,9,     -999,9,     -999,9,     -999,9,-999,9,     -999,9,     -999,9,     -999,9,    -999,    -999
33RR20080204,       I06S,      81,          1,         15,         15,2,20080302,       1350,   -65.7031,    32.7259,       2495,   852.5,   0.7032,  34.7209,3,  34.6943,2,    209.1,2,   208.7,2,  107.44,2,   31.95,2,    0.00,2,    2.21,2,   0.602,2,   0.303,2,   0.035,2,  2256.4,2,  2356.2,2,   7.7871,4,    13.00,    -999,9,    -999,9,    -999,9,0.7032,2,-999,9,-999,9,-999,    -999,9,    -999,0.946,2,-999,9,-999,9,    -999,9,-999,9, 20080302,     1405, -65.7030,  32.7257,    -999,-999,9,     -999,9,     -999,9,     -999,9,     -999,9,     -999,9,     -999,9,-999,9,     -999,9,     -999,9,     -999,9,    -999,    -999
33RR20080204,       I06S,      81,          1,         14,         14,2,20080302,       1350,   -65.7031,    32.7259,       2495,   948.8,   0.5645,  34.7172,3,  34.6867,2,    211.2,2,   211.5,2,  109.28,2,   32.05,2,    0.00,2,    2.22,2,   0.675,2,   0.349,2,   0.039,2,    -999,9,  2355.8,2,   7.7852,3,    13.00,    -999,9,    -999,9,    -999,9,0.5645,2,-999,9,-999,9,-999,    -999,9,    -999,0.988,2,-999,9,-999,9,    -999,9,-999,9, 20080302,     1402, -65.7032,  32.7259,    -999,-999,9,     -999,9,     -999,9,     -999,9,     -999,9,     -999,9,     -999,9,-999,9,     -999,9,     -999,9,     -999,9,    -999,    -999
33RR20080204,       I06S,      81,          1,         13,         13,2,20080302,       1350,   -65.7031,    32.7259,       2495,  1055.8,   0.5246,  34.7200,3,  34.6894,2,    210.9,2,   210.1,2,  113.38,2,   32.26,2,    0.00,2,    2.24,2,   0.545,2,   0.290,2,   0.022,2,  2259.3,6,  2356.0,2,   7.7816,2,    13.00,    -999,9,    -999,9,    -999,9,0.5246,2,-999,9,-999,9,-999,    -999,9,    -999,0.794,2,-999,9,-999,9,    -999,9,-999,9, 20080302,     1358, -65.7031,  32.7259,    -999,-999,9,     -999,9,     -999,9,     -999,9,     -999,9,     -999,9,     -999,9,-999,9,     -999,9,     -999,9,     -999,9,    -999,    -999