BOTTLE,20220706CCHSIOAMB
EXPOCODE,SECT_ID,STNNBR,CASTNO,SAMPNO,BTLNBR,BTLNBR_FLAG_W,DATE,TIME,LATITUDE,LONGITUDE,DEPTH,CTDPRS,CTDTMP,CTDSAL,CTDSAL_FLAG_W,SALNTY,SALNTY_FLAG_W,CTDOXY,CTDOXY_FLAG_W,OXYGEN,OXYGEN_FLAG_W,SILCAT,SILCAT_FLAG_W,NITRAT,NITRAT_FLAG_W,NITRIT,NITRIT_FLAG_W,PHSPHT,PHSPHT_FLAG_W,CFC-11,CFC-11_FLAG_W,CFC-12,CFC-12_FLAG_W,CFC113,CFC113_FLAG_W,TCARBN,TCARBN_FLAG_W,ALKALI,ALKALI_FLAG_W,PH_SWS,PH_SWS_FLAG_W,PH_TMP,TRITUM,TRITUM_FLAG_W,HELIUM,HELIUM_FLAG_W,DELHE3,DELHE3_FLAG_W,REFTMP,REFTMP_FLAG_W,DELC13,DELC13_FLAG_W,DELC14,DELC14_FLAG_W,C14ERR,NEON,NEON_FLAG_W,NEONER,CCL4,CCL4_FLAG_W,ALUMIN,ALUMIN_FLAG_W,DELO18,DELO18_FLAG_W,DOC,DOC_FLAG_W,TDN,TDN_FLAG_W,BTL_DATE,BTL_TIME,BTL_LAT,BTL_LON,TRITER,DELSI30,DELSI30_FLAG_W,CDOM380,CDOM380_FLAG_W,CDOM325,CDOM325_FLAG_W,CDOMSL,CDOMSL_FLAG_W,CDOM340,CDOM340_FLAG_W,CDOM443,CDOM443_FLAG_W,CDOMSN,CDOMSN_FLAG_W,BLACKC,BLACKC_FLAG_W,CDOM490,CDOM490_FLAG_W,CDOM412,CDOM412_FLAG_W,CDOM555,CDOM555_FLAG_W,DELHER,HELIER
,,,,,,,,,,,METERS,DBAR,ITS-90,PSS-78,,PSS-78,,UMOL/KG,,UMOL/KG,,UMOL/KG,,UMOL/KG,,UMOL/KG,,UMOL/KG,,PMOL/KG,,PMOL/KG,,PMOL/KG,,UMOL/KG,,UMOL/KG,,,,DEG C,TU,,NMOL/KG,,PERCNT,,DEG C,,/MILLE,,/MILLE,,/MILLE,NMOL/KG,,NMOL/KG,PMOL/KG,,NMOL/L,,/MILLE,,UMOL/KG,,UMOL/KG,,,,,,TU,/MILLE,,1/M,,1/M,,1/NM,,1/M,,1/M,,1/NM,,,,1/M,,1/M,,1/M,,PERCNT,NMOL/KG
33RR20080204,       I06S,      55,          2,          7,          7,2,20080222,       2318,   -54.5022,    29.9985,       4595,  2951.2,   0.4078,  34.6834,2,  34.6845,2,    212.1,2,   212.4,2,  126.22,2,   32.68,2,    0.00,2,    2.28,2,   0.303,2,   0.153,2,   0.018,2,  2261.3,2,  2358.5,2,   7.7828,3,    13.00,    -999,9,    -999,9,    -999,9,0.4076,2,-999,9,-999,9,-999,    -999,9,    -999,0.662,2,-999,9,-999,9,    -999,9,-999,9, 20080222,     2356, -54.5037,  29.9980,    -999,-999,9,     -999,9,     -999,9,     -999,9,     -999,9,     -999,9,     -999,9,-999,9,     -999,9,     -999,9,     -999,9,    -999,    -999
33RR20080204,       I06S,      55,          2,          6,          6,2,20080222,       2318,   -54.5022,    29.9985,       4595,  3256.1,   0.3029,  34.6784,2,  34.6792,2,    216.0,2,   216.0,2,  128.34,2,   32.88,2,    0.00,2,    2.29,2,   0.337,2,   0.178,2,   0.014,2,    -999,9,  2358.1,2,   7.7839,3,    13.00,    -999,9,    -999,9,    -999,9,0.3029,2,-999,9,-999,9,-999,    -999,9,    -999,0.59,2,-999,9,-999,9,    -999,9,-999,1, 20080222,     2350, -54.5035,  29.9982,    -999,-999,9,   0.0317,2,   0.1101,2,   0.0187,3,   0.0707,2,   0.0104,2,   0.0199,3,-999,9,   0.0020,2,   0.0196,2,   0.0003,4,    -999,    -999
33RR20080204,       I06S,      55,          2,          5,          5,2,20080222,       2318,   -54.5022,    29.9985,       4595,  3561.3,   0.1899,  34.6726,2,  34.6737,2,    220.5,2,   221.4,2,  128.74,2,   32.88,2,    0.00,2,    2.28,2,   0.332,2,   0.178,2,   0.016,2,  2259.7,2,  2355.8,2,   7.7868,3,    13.00,    -999,9,    -999,9,    -999,9,0.1896,2,-999,9,-999,9,-999,    -999,9,    -999,0.887,2,-999,9,-999,9,    -999,9,-999,9, 20080222,     2343, -54.5031,  29.9983,    -999,-999,9,     -999,9,     -999,9,     -999,9,     -999,9,     -999,9,     -999,9,-999,9,     -999,9,     -999,9,     -999,9,    -999,    -999
33RR20080204,       I06S,      55,          2,          4,          4,2,20080222,       2318,   -54.5022,    29.9985,       4595,  3877.6,   0.0894,  34.6676,2,  34.6686,2,    225.0,2,   225.1,2,  129.51,2,   32.78,2,    0.00,2,    2.28,2,   0.348,2,   0.180,2,   0.021,2,    -999,9,  2356.2,2,   7.7883,2,    13.00,    -999,9,    -999,9,    -999,9,0.0891,2,-999,9,-999,9,-999,    -999,9,    -999,0.945,2,-999,9,-999,9,    -999,9,-999,1, 20080222,     2337, -54.5028,  29.9984,    -999,-999,9,   0.0329,2,   0.1137,2,   0.0189,3,   0.0732,2,   0.0107,2,   0.0199,3,-999,9,   0.0021,2,   0.0199,2,  -0.0008,4,    -999,    -999
33RR20080204,       I06S,      55,          2,          3,          3,2,20080222,       2318,   -54.5022,    29.9985,       4595,  4182.3,   0.0075,  34.6642,2,  34.6645,2,    229.9,2,   229.6,2,  129.71,2,   32.70,2,    0.00,2,    2.27,2,   0.380,2,   0.207,2,   0.026,2,  2254.5,2,  2355.6,2,   7.7922,2,    13.00,    -999,9,    -999,9,    -999,9,0.0075,2,-999,9,-999,9,-999,    -999,9,    -999,1.0,2,-999,9,-999,9,    -999,9,-999,9, 20080222,     2330, -54.5028,  29.9983,    -999,-999,9,     -999,9,     -999,9,     -999,9,     -999,9,     -999,9,     -999,9,-999,9,     -999,9,     -999,9,     -999,9,    -999,    -999
33RR20080204,       I06S,      55,          2,          2,          2,2,20080222,       2318,   -54.5022,    29.9985,       4595,  4488.1,  -0.1170,  34.6588,2,  34.6602,2,    235.9,2,   236.2,2,  130.86,2,   32.55,2,    0.00,2,    2.27,2,   0.425,2,   0.229,2,   0.023,2,    -999,9,  2354.3,2,   7.7954,2,    13.00,    -999,9,    -999,9,    -999,9,-0.1139,3,-999,9,-999,9,-999,    -999,9,    -999,1.135,2,-999,9,-999,9,    -999,9,-999,9, 20080222,     2324, -54.5023,  29.9985,    -999,-999,9,     -999,9,     -999,9,     -999,9,     -999,9,     -999,9,     -999,9,-999,9,     -999,9,     -999,9,     -999,9,    -999,    -999
33RR20080204,       I06S,      55,          2,          1,          1,2,20080222,       2318,   -54.5022,    29.9985,       4595,  4603.1,  -0.1157,  34.6581,2,  34.6594,2,    236.7,2,   236.4,2,  131.06,2,   32.50,2,    0.00,2,    2.27,2,   0.442,2,   0.227,2,   0.042,2,  2252.6,6,  2355.4,2,   7.7965,2,    13.00,    -999,9,    -999,9,    -999,9,-0.1158,2,-999,9,-999,9,-999,    -999,9,    -999,1.218,2,-999,9,-999,9,   40.59,2,-999,1, 20080222,     2320, -54.5022,  29.9986,    -999,-999,9,   0.0299,2,   0.1077,2,   0.0196,3,   0.0686,2,   0.0092,2,   0.0209,3,-999,9,   0.0014,2,   0.0178,2,  -0.0012,4,    -999,    -999