BOTTLE,20220706CCHSIOAMB
EXPOCODE,SECT_ID,STNNBR,CASTNO,SAMPNO,BTLNBR,BTLNBR_FLAG_W,DATE,TIME,LATITUDE,LONGITUDE,DEPTH,CTDPRS,CTDTMP,CTDSAL,CTDSAL_FLAG_W,SALNTY,SALNTY_FLAG_W,CTDOXY,CTDOXY_FLAG_W,OXYGEN,OXYGEN_FLAG_W,SILCAT,SILCAT_FLAG_W,NITRAT,NITRAT_FLAG_W,NITRIT,NITRIT_FLAG_W,PHSPHT,PHSPHT_FLAG_W,CFC-11,CFC-11_FLAG_W,CFC-12,CFC-12_FLAG_W,CFC113,CFC113_FLAG_W,TCARBN,TCARBN_FLAG_W,ALKALI,ALKALI_FLAG_W,PH_SWS,PH_SWS_FLAG_W,PH_TMP,TRITUM,TRITUM_FLAG_W,HELIUM,HELIUM_FLAG_W,DELHE3,DELHE3_FLAG_W,REFTMP,REFTMP_FLAG_W,DELC13,DELC13_FLAG_W,DELC14,DELC14_FLAG_W,C14ERR,NEON,NEON_FLAG_W,NEONER,CCL4,CCL4_FLAG_W,ALUMIN,ALUMIN_FLAG_W,DELO18,DELO18_FLAG_W,DOC,DOC_FLAG_W,TDN,TDN_FLAG_W,BTL_DATE,BTL_TIME,BTL_LAT,BTL_LON,TRITER,DELSI30,DELSI30_FLAG_W,CDOM380,CDOM380_FLAG_W,CDOM325,CDOM325_FLAG_W,CDOMSL,CDOMSL_FLAG_W,CDOM340,CDOM340_FLAG_W,CDOM443,CDOM443_FLAG_W,CDOMSN,CDOMSN_FLAG_W,BLACKC,BLACKC_FLAG_W,CDOM490,CDOM490_FLAG_W,CDOM412,CDOM412_FLAG_W,CDOM555,CDOM555_FLAG_W,DELHER,HELIER
,,,,,,,,,,,METERS,DBAR,ITS-90,PSS-78,,PSS-78,,UMOL/KG,,UMOL/KG,,UMOL/KG,,UMOL/KG,,UMOL/KG,,UMOL/KG,,PMOL/KG,,PMOL/KG,,PMOL/KG,,UMOL/KG,,UMOL/KG,,,,DEG C,TU,,NMOL/KG,,PERCNT,,DEG C,,/MILLE,,/MILLE,,/MILLE,NMOL/KG,,NMOL/KG,PMOL/KG,,NMOL/L,,/MILLE,,UMOL/KG,,UMOL/KG,,,,,,TU,/MILLE,,1/M,,1/M,,1/NM,,1/M,,1/M,,1/NM,,,,1/M,,1/M,,1/M,,PERCNT,NMOL/KG
33RR20080204,       I06S,      76,          3,          7,          7,2,20080229,       1706,   -65.0001,    29.9997,       4874,  3254.7,  -0.1263,  34.6606,2,  34.6604,2,    233.2,2,   234.1,2,  122.38,2,   32.38,2,    0.00,2,    2.24,2,   0.842,2,   0.469,2,   0.057,2,    -999,9,    -999,9,     -999,9,     -999,   0.012,2,    -999,1,    -999,9,-0.1261,2,-999,9,-999,9,-999,    -999,9,    -999,1.395,2,-999,9,-999,9,    -999,9,-999,9, 20080229,     1756, -65.0013,  29.9803,   0.009,-999,9,     -999,9,     -999,9,     -999,9,     -999,9,     -999,9,     -999,9,-999,9,     -999,9,     -999,9,     -999,9,    -999,    -999
33RR20080204,       I06S,      76,          3,          6,          6,2,20080229,       1706,   -65.0001,    29.9997,       4874,  3563.0,  -0.1684,  34.6577,2,  34.6582,2,    236.3,2,   237.1,2,  123.61,2,   32.29,2,    0.00,2,    2.23,2,   0.950,2,   0.510,2,   0.080,2,    -999,9,  2353.6,2,     -999,9,     -999,    -999,9,    -999,1,    -999,9,-0.1686,2,-999,9,-999,9,-999,    -999,9,    -999,1.471,2,-999,9,-0.25,2,    -999,9,-999,9, 20080229,     1749, -65.0021,  29.9826,    -999,-999,9,     -999,9,     -999,9,     -999,9,     -999,9,     -999,9,     -999,9,-999,9,     -999,9,     -999,9,     -999,9,    -999,    -999
33RR20080204,       I06S,      76,          3,          5,          5,2,20080229,       1706,   -65.0001,    29.9997,       4874,  3871.6,  -0.1999,  34.6558,2,  34.6549,2,    238.5,2,   239.5,2,  124.01,2,   32.29,2,    0.00,2,    2.23,2,   0.915,2,   0.503,2,   0.067,2,    -999,9,    -999,9,     -999,9,     -999,    -999,9,    -999,9,    -999,9,-0.1994,2,-999,9,-999,9,-999,    -999,9,    -999,1.481,2,-999,9,-999,9,    -999,9,-999,9, 20080229,     1742, -65.0025,  29.9855,    -999,-999,9,     -999,9,     -999,9,     -999,9,     -999,9,     -999,9,     -999,9,-999,9,     -999,9,     -999,9,     -999,9,    -999,    -999
33RR20080204,       I06S,      76,          3,          4,          4,2,20080229,       1706,   -65.0001,    29.9997,       4874,  4179.3,  -0.2134,  34.6559,2,  34.6557,2,    238.9,2,   239.4,2,  126.28,2,   32.39,2,    0.00,2,    2.24,2,   0.570,2,   0.324,2,   0.043,2,    -999,9,    -999,9,     -999,9,     -999,   0.003,2,    -999,1,    -999,9,-0.2136,2,-999,9,-999,9,-999,    -999,9,    -999,1.154,2,-999,9,-999,9,    -999,9,-999,9, 20080229,     1734, -65.0024,  29.9885,   0.009,-999,9,     -999,9,     -999,9,     -999,9,     -999,9,     -999,9,     -999,9,-999,9,     -999,9,     -999,9,     -999,9,    -999,    -999
33RR20080204,       I06S,      76,          3,          3,          3,2,20080229,       1706,   -65.0001,    29.9997,       4874,  4489.3,  -0.2367,  34.6540,2,  34.6539,2,    241.3,2,   241.4,2,  127.91,2,   32.39,2,    0.00,2,    2.24,2,   0.574,2,   0.318,2,   0.040,2,    -999,9,  2353.3,2,     -999,9,     -999,   0.009,2,    -999,1,    -999,9,-0.2373,2,-999,9,-999,9,-999,    -999,9,    -999,1.192,2,-999,9,-999,9,    -999,9,-999,9, 20080229,     1727, -65.0024,  29.9912,   0.009,-999,9,     -999,9,     -999,9,     -999,9,     -999,9,     -999,9,     -999,9,-999,9,     -999,9,     -999,9,     -999,9,    -999,    -999
33RR20080204,       I06S,      76,          3,          2,          2,2,20080229,       1706,   -65.0001,    29.9997,       4874,  4694.3,  -0.2488,  34.6531,2,  34.6531,2,    242.5,2,   242.3,2,  131.20,2,   32.39,2,    0.00,2,    2.24,2,   0.552,2,   0.296,2,   0.034,2,    -999,9,  2353.3,2,     -999,9,     -999,   0.008,2,    -999,1,    -999,9,-0.2488,2,-999,9,-999,9,-999,    -999,9,    -999,1.145,2,-999,9,-999,9,    -999,9,-999,9, 20080229,     1722, -65.0024,  29.9931,   0.009,-999,9,     -999,9,     -999,9,     -999,9,     -999,9,     -999,9,     -999,9,-999,9,     -999,9,     -999,9,     -999,9,    -999,    -999
33RR20080204,       I06S,      76,          3,          1,          1,2,20080229,       1706,   -65.0001,    29.9997,       4874,  4945.1,  -0.2803,  34.6517,2,  34.6519,2,    244.8,2,   243.3,2,  136.55,2,   32.50,2,    0.00,2,    2.25,2,   0.422,2,   0.215,2,   0.038,2,    -999,9,  2355.1,2,     -999,9,     -999,    -999,9,    -999,1,    -999,9,-0.2806,2,-999,9,-999,9,-999,    -999,9,    -999,1.133,2,-999,9,-0.19,2,    -999,9,-999,9, 20080229,     1708, -65.0001,  29.9999,    -999,-999,9,     -999,9,     -999,9,     -999,9,     -999,9,     -999,9,     -999,9,-999,9,     -999,9,     -999,9,     -999,9,    -999,    -999