BOTTLE,20220706CCHSIOAMB
EXPOCODE,SECT_ID,STNNBR,CASTNO,SAMPNO,BTLNBR,BTLNBR_FLAG_W,DATE,TIME,LATITUDE,LONGITUDE,DEPTH,CTDPRS,CTDTMP,CTDSAL,CTDSAL_FLAG_W,SALNTY,SALNTY_FLAG_W,CTDOXY,CTDOXY_FLAG_W,OXYGEN,OXYGEN_FLAG_W,SILCAT,SILCAT_FLAG_W,NITRAT,NITRAT_FLAG_W,NITRIT,NITRIT_FLAG_W,PHSPHT,PHSPHT_FLAG_W,CFC-11,CFC-11_FLAG_W,CFC-12,CFC-12_FLAG_W,CFC113,CFC113_FLAG_W,TCARBN,TCARBN_FLAG_W,ALKALI,ALKALI_FLAG_W,PH_SWS,PH_SWS_FLAG_W,PH_TMP,TRITUM,TRITUM_FLAG_W,HELIUM,HELIUM_FLAG_W,DELHE3,DELHE3_FLAG_W,REFTMP,REFTMP_FLAG_W,DELC13,DELC13_FLAG_W,DELC14,DELC14_FLAG_W,C14ERR,NEON,NEON_FLAG_W,NEONER,CCL4,CCL4_FLAG_W,ALUMIN,ALUMIN_FLAG_W,DELO18,DELO18_FLAG_W,DOC,DOC_FLAG_W,TDN,TDN_FLAG_W,BTL_DATE,BTL_TIME,BTL_LAT,BTL_LON,TRITER,DELSI30,DELSI30_FLAG_W,CDOM380,CDOM380_FLAG_W,CDOM325,CDOM325_FLAG_W,CDOMSL,CDOMSL_FLAG_W,CDOM340,CDOM340_FLAG_W,CDOM443,CDOM443_FLAG_W,CDOMSN,CDOMSN_FLAG_W,BLACKC,BLACKC_FLAG_W,CDOM490,CDOM490_FLAG_W,CDOM412,CDOM412_FLAG_W,CDOM555,CDOM555_FLAG_W,DELHER,HELIER
,,,,,,,,,,,METERS,DBAR,ITS-90,PSS-78,,PSS-78,,UMOL/KG,,UMOL/KG,,UMOL/KG,,UMOL/KG,,UMOL/KG,,UMOL/KG,,PMOL/KG,,PMOL/KG,,PMOL/KG,,UMOL/KG,,UMOL/KG,,,,DEG C,TU,,NMOL/KG,,PERCNT,,DEG C,,/MILLE,,/MILLE,,/MILLE,NMOL/KG,,NMOL/KG,PMOL/KG,,NMOL/L,,/MILLE,,UMOL/KG,,UMOL/KG,,,,,,TU,/MILLE,,1/M,,1/M,,1/NM,,1/M,,1/M,,1/NM,,,,1/M,,1/M,,1/M,,PERCNT,NMOL/KG
33RR20080204,       I06S,      50,          1,          7,          7,2,20080221,       0920,   -51.9992,    30.0001,       4532,  2894.0,   0.3649,  34.6822,2,  34.6818,2,    214.0,2,   214.0,2,  125.61,2,   32.60,2,    0.00,2,    2.27,2,   0.324,2,   0.172,2,   0.024,2,    -999,9,  2357.1,2,     -999,9,     -999,    -999,9,    -999,9,    -999,9,0.3651,2,-999,9,-999,9,-999,    -999,9,    -999,0.745,2,-999,9,-999,9,    -999,9,-999,9, 20080221,     0955, -51.9993,  30.0001,    -999,-999,9,     -999,9,     -999,9,     -999,9,     -999,9,     -999,9,     -999,9,-999,9,     -999,9,     -999,9,     -999,9,    -999,    -999
33RR20080204,       I06S,      50,          1,          6,          6,2,20080221,       0920,   -51.9992,    30.0001,       4532,  3210.5,   0.2333,  34.6757,2,  34.6767,2,    218.2,2,   218.2,2,  127.32,2,   32.65,2,    0.00,2,    2.27,2,   0.344,2,   0.185,2,   0.019,2,    -999,9,    -999,9,     -999,9,     -999,    -999,9,    -999,9,    -999,9,0.2333,2,-999,9,-999,9,-999,    -999,9,    -999,0.809,2,-999,9,-999,9,    -999,9,-999,9, 20080221,     0948, -51.9993,  30.0001,    -999,-999,9,     -999,9,     -999,9,     -999,9,     -999,9,     -999,9,     -999,9,-999,9,     -999,9,     -999,9,     -999,9,    -999,    -999
33RR20080204,       I06S,      50,          1,          5,          5,2,20080221,       0920,   -51.9992,    30.0001,       4532,  3515.5,   0.0905,  34.6694,2,  34.6692,2,    223.9,2,   224.5,2,  128.28,2,   32.60,2,    0.00,2,    2.27,2,   0.362,2,   0.198,2,   0.030,2,    -999,9,    -999,9,     -999,9,     -999,    -999,9,    -999,9,    -999,9,0.0901,2,-999,9,-999,9,-999,    -999,9,    -999,0.864,2,-999,9,-999,9,    -999,9,-999,9, 20080221,     0942, -51.9992,  30.0001,    -999,-999,9,     -999,9,     -999,9,     -999,9,     -999,9,     -999,9,     -999,9,-999,9,     -999,9,     -999,9,     -999,9,    -999,    -999
33RR20080204,       I06S,      50,          1,          4,          4,2,20080221,       0920,   -51.9992,    30.0001,       4532,  3821.1,  -0.0697,  34.6629,2,  34.6634,2,    231.4,2,   231.6,2,  129.62,2,   32.45,2,    0.00,2,    2.26,2,   0.408,2,   0.214,2,   0.031,2,    -999,9,  2352.7,2,     -999,9,     -999,    -999,9,    -999,9,    -999,9,-0.0702,2,-999,9,-999,9,-999,    -999,9,    -999,0.883,2,-999,9,-999,9,    -999,9,-999,9, 20080221,     0936, -51.9993,  30.0001,    -999,-999,9,     -999,9,     -999,9,     -999,9,     -999,9,     -999,9,     -999,9,-999,9,     -999,9,     -999,9,     -999,9,    -999,    -999
33RR20080204,       I06S,      50,          1,          3,          3,2,20080221,       0920,   -51.9992,    30.0001,       4532,  4125.2,  -0.1429,  34.6592,2,  34.6632,4,    235.4,2,   235.4,2,  130.38,2,   32.41,2,    0.00,2,    2.25,2,   0.437,2,   0.237,2,   0.039,2,    -999,9,    -999,9,     -999,9,     -999,    -999,9,    -999,9,    -999,9,-0.143,2,-999,9,-999,9,-999,    -999,9,    -999,0.811,2,-999,9,-999,9,    -999,9,-999,9, 20080221,     0930, -51.9993,  30.0002,    -999,-999,9,     -999,9,     -999,9,     -999,9,     -999,9,     -999,9,     -999,9,-999,9,     -999,9,     -999,9,     -999,9,    -999,    -999
33RR20080204,       I06S,      50,          1,          2,          2,2,20080221,       0920,   -51.9992,    30.0001,       4532,  4441.1,  -0.1554,  34.6578,2,  34.6574,2,    237.5,2,   237.4,2,  130.59,2,   32.41,2,    0.00,2,    2.25,2,   0.447,2,   0.244,2,   0.045,2,    -999,9,  2352.6,2,     -999,9,     -999,    -999,9,    -999,9,    -999,9,-0.1554,2,-999,9,-999,9,-999,    -999,9,    -999,1.18,2,-999,9,-999,9,    -999,9,-999,9, 20080221,     0924, -51.9993,  30.0001,    -999,-999,9,     -999,9,     -999,9,     -999,9,     -999,9,     -999,9,     -999,9,-999,9,     -999,9,     -999,9,     -999,9,    -999,    -999
33RR20080204,       I06S,      50,          1,          1,          1,2,20080221,       0920,   -51.9992,    30.0001,       4532,  4549.6,  -0.1625,  34.6566,2,  34.6574,2,    238.2,2,   238.4,2,  130.58,2,   32.41,2,    0.00,2,    2.25,2,   0.459,2,   0.251,2,   0.056,2,    -999,9,  2352.8,2,     -999,9,     -999,    -999,9,    -999,9,    -999,9,-0.1633,2,-999,9,-999,9,-999,    -999,9,    -999,1.277,2,-999,9,-999,9,    -999,9,-999,9, 20080221,     0920, -51.9992,  30.0001,    -999,-999,9,     -999,9,     -999,9,     -999,9,     -999,9,     -999,9,     -999,9,-999,9,     -999,9,     -999,9,     -999,9,    -999,    -999