BOTTLE,20220706CCHSIOAMB
EXPOCODE,SECT_ID,STNNBR,CASTNO,SAMPNO,BTLNBR,BTLNBR_FLAG_W,DATE,TIME,LATITUDE,LONGITUDE,DEPTH,CTDPRS,CTDTMP,CTDSAL,CTDSAL_FLAG_W,SALNTY,SALNTY_FLAG_W,CTDOXY,CTDOXY_FLAG_W,OXYGEN,OXYGEN_FLAG_W,SILCAT,SILCAT_FLAG_W,NITRAT,NITRAT_FLAG_W,NITRIT,NITRIT_FLAG_W,PHSPHT,PHSPHT_FLAG_W,CFC-11,CFC-11_FLAG_W,CFC-12,CFC-12_FLAG_W,CFC113,CFC113_FLAG_W,TCARBN,TCARBN_FLAG_W,ALKALI,ALKALI_FLAG_W,PH_SWS,PH_SWS_FLAG_W,PH_TMP,TRITUM,TRITUM_FLAG_W,HELIUM,HELIUM_FLAG_W,DELHE3,DELHE3_FLAG_W,REFTMP,REFTMP_FLAG_W,DELC13,DELC13_FLAG_W,DELC14,DELC14_FLAG_W,C14ERR,NEON,NEON_FLAG_W,NEONER,CCL4,CCL4_FLAG_W,ALUMIN,ALUMIN_FLAG_W,DELO18,DELO18_FLAG_W,DOC,DOC_FLAG_W,TDN,TDN_FLAG_W,BTL_DATE,BTL_TIME,BTL_LAT,BTL_LON,TRITER,DELSI30,DELSI30_FLAG_W,CDOM380,CDOM380_FLAG_W,CDOM325,CDOM325_FLAG_W,CDOMSL,CDOMSL_FLAG_W,CDOM340,CDOM340_FLAG_W,CDOM443,CDOM443_FLAG_W,CDOMSN,CDOMSN_FLAG_W,BLACKC,BLACKC_FLAG_W,CDOM490,CDOM490_FLAG_W,CDOM412,CDOM412_FLAG_W,CDOM555,CDOM555_FLAG_W,DELHER,HELIER
,,,,,,,,,,,METERS,DBAR,ITS-90,PSS-78,,PSS-78,,UMOL/KG,,UMOL/KG,,UMOL/KG,,UMOL/KG,,UMOL/KG,,UMOL/KG,,PMOL/KG,,PMOL/KG,,PMOL/KG,,UMOL/KG,,UMOL/KG,,,,DEG C,TU,,NMOL/KG,,PERCNT,,DEG C,,/MILLE,,/MILLE,,/MILLE,NMOL/KG,,NMOL/KG,PMOL/KG,,NMOL/L,,/MILLE,,UMOL/KG,,UMOL/KG,,,,,,TU,/MILLE,,1/M,,1/M,,1/NM,,1/M,,1/M,,1/NM,,,,1/M,,1/M,,1/M,,PERCNT,NMOL/KG
33RR20080204,       I06S,      40,          1,         34,         34,2,20080217,       2007,   -47.0037,    29.9918,       3743,     5.6,   6.2844,  33.7980,2,  33.7975,2,    304.9,2,   304.9,2,    2.71,2,   20.24,2,    0.26,2,    1.44,2,   4.689,2,   2.674,2,   0.451,2,  2112.0,6,  2266.0,2,     -999,9,     -999,   0.170,2,   1.796,2,   -1.66,2,6.2833,2,-999,9,-999,9,-999,   7.883,2,   0.030,4.244,2,-999,9,-999,9,    -999,9,-999,9, 20080217,     2200, -47.0146,  29.9825,   0.009,-999,9,     -999,9,     -999,9,     -999,9,     -999,9,     -999,9,     -999,9,-999,9,     -999,9,     -999,9,     -999,9,    0.15,   0.007
33RR20080204,       I06S,      40,          1,         33,         33,2,20080217,       2007,   -47.0037,    29.9918,       3743,    24.3,   6.2702,  33.7979,2,  33.7975,2,    305.6,2,   305.0,2,    2.69,2,   20.24,2,    0.26,2,    1.44,2,   4.693,2,   2.669,2,   0.461,2,    -999,9,  2266.6,2,     -999,9,     -999,    -999,9,    -999,9,    -999,9,6.2738,2,-999,9,-999,9,-999,    -999,9,    -999,4.3,2,-999,9,-999,9,    -999,9,-999,9, 20080217,     2158, -47.0145,  29.9830,    -999,-999,9,     -999,9,     -999,9,     -999,9,     -999,9,     -999,9,     -999,9,-999,9,     -999,9,     -999,9,     -999,9,    -999,    -999
33RR20080204,       I06S,      40,          1,         32,         32,2,20080217,       2007,   -47.0037,    29.9918,       3743,    46.2,   6.1502,  33.7972,2,  33.7981,2,    306.4,2,   305.6,2,    2.68,2,   20.24,2,    0.26,2,    1.44,2,   4.744,2,   2.683,2,   0.463,2,    -999,9,  2266.8,2,     -999,9,     -999,   0.154,2,   1.774,2,   -1.65,2,6.1417,2,-999,9,-999,9,-999,   7.695,2,   0.029,4.392,2,-999,9,-999,9,    -999,9,-999,9, 20080217,     2156, -47.0143,  29.9834,   0.009,-999,9,     -999,9,     -999,9,     -999,9,     -999,9,     -999,9,     -999,9,-999,9,     -999,9,     -999,9,     -999,9,    0.15,   0.007
33RR20080204,       I06S,      40,          1,         31,         31,2,20080217,       2007,   -47.0037,    29.9918,       3743,    77.2,   5.3936,  33.8004,2,  33.8014,2,    309.4,2,   310.1,2,    2.66,2,   20.65,2,    0.24,2,    1.46,2,   4.929,2,   2.760,2,   0.466,2,    -999,9,  2268.0,2,     -999,9,     -999,    -999,9,    -999,9,    -999,9,5.3907,2,-999,9,-999,9,-999,    -999,9,    -999,4.244,2,-999,9,-999,9,    -999,9,-999,9, 20080217,     2154, -47.0141,  29.9832,    -999,-999,9,     -999,9,     -999,9,     -999,9,     -999,9,     -999,9,     -999,9,-999,9,     -999,9,     -999,9,     -999,9,    -999,    -999
33RR20080204,       I06S,      40,          1,         30,         30,2,20080217,       2007,   -47.0037,    29.9918,       3743,   102.0,   4.6453,  33.8154,2,  33.8116,2,    311.2,2,   313.2,2,    3.17,2,   21.01,2,    0.27,2,    1.51,2,   5.127,2,   2.859,2,   0.483,2,    -999,9,    -999,9,     -999,9,     -999,   0.145,2,   1.794,2,   -1.56,2,4.6481,2,-999,9,-999,9,-999,   7.789,2,   0.030,4.206,2,-999,9,-999,9,    -999,9,-999,9, 20080217,     2152, -47.0138,  29.9828,   0.009,-999,9,     -999,9,     -999,9,     -999,9,     -999,9,     -999,9,     -999,9,-999,9,     -999,9,     -999,9,     -999,9,    0.15,   0.007
33RR20080204,       I06S,      40,          1,         29,         29,2,20080217,       2007,   -47.0037,    29.9918,       3743,   151.6,   4.1291,  33.8823,2,  33.8829,2,    308.9,2,   307.1,2,    6.43,2,   22.66,2,    0.15,2,    1.59,2,   5.183,2,   2.871,2,   0.473,2,    -999,9,  2266.7,2,     -999,9,     -999,    -999,9,    -999,9,    -999,9,4.1299,2,-999,9,-999,9,-999,    -999,9,    -999,4.023,2,-999,9,-999,9,    -999,9,-999,9, 20080217,     2149, -47.0135,  29.9824,    -999,-999,9,     -999,9,     -999,9,     -999,9,     -999,9,     -999,9,     -999,9,-999,9,     -999,9,     -999,9,     -999,9,    -999,    -999
33RR20080204,       I06S,      40,          1,         28,         28,2,20080217,       2007,   -47.0037,    29.9918,       3743,   202.0,   3.8505,  33.9318,2,  33.9330,2,    301.6,2,   301.6,2,    8.05,2,   23.54,2,    0.01,2,    1.64,2,   5.148,2,   2.874,2,   0.457,2,    -999,9,    -999,9,     -999,9,     -999,   0.174,2,   1.942,2,   -1.14,2,3.8645,2,-999,9,-999,9,-999,   8.313,2,   0.032,3.821,2,-999,9,-999,9,    -999,9,-999,9, 20080217,     2146, -47.0132,  29.9821,   0.009,-999,9,     -999,9,     -999,9,     -999,9,     -999,9,     -999,9,     -999,9,-999,9,     -999,9,     -999,9,     -999,9,    0.15,   0.007
33RR20080204,       I06S,      40,          1,         27,         27,2,20080217,       2007,   -47.0037,    29.9918,       3743,   252.0,   3.7600,  34.0192,2,  34.0184,2,    287.3,2,   284.9,2,   11.50,2,   25.46,2,    0.01,2,    1.77,2,   4.909,2,   2.706,2,   0.437,2,    -999,9,  2272.6,2,     -999,9,     -999,    -999,9,    -999,9,    -999,9,3.7594,2,-999,9,-999,9,-999,    -999,9,    -999,3.374,2,-999,9,-999,9,    -999,9,-999,9, 20080217,     2144, -47.0129,  29.9817,    -999,-999,9,     -999,9,     -999,9,     -999,9,     -999,9,     -999,9,     -999,9,-999,9,     -999,9,     -999,9,     -999,9,    -999,    -999
33RR20080204,       I06S,      40,          1,         26,         26,2,20080217,       2007,   -47.0037,    29.9918,       3743,   301.3,   3.8506,  34.0941,2,  34.0948,2,    268.3,2,   270.2,2,   14.04,2,   26.80,2,    0.01,2,    1.84,2,   4.626,2,   2.526,2,   0.399,2,    -999,9,    -999,9,     -999,9,     -999,   0.122,2,   1.780,2,   -0.54,2,3.8497,2,-999,9,-999,9,-999,   7.736,2,   0.029,3.158,2,-999,9,-999,9,    -999,9,-999,9, 20080217,     2141, -47.0126,  29.9816,   0.009,-999,9,     -999,9,     -999,9,     -999,9,     -999,9,     -999,9,     -999,9,-999,9,     -999,9,     -999,9,     -999,9,    0.15,   0.007
33RR20080204,       I06S,      40,          1,         25,         25,2,20080217,       2007,   -47.0037,    29.9918,       3743,   357.8,   3.7107,  34.1294,2,  34.1319,2,    260.7,2,   261.4,2,   17.49,2,   27.90,2,    0.01,2,    1.93,2,   4.300,2,   2.321,2,   0.352,2,    -999,9,  2279.9,2,     -999,9,     -999,    -999,9,    -999,9,    -999,9,3.7141,2,-999,9,-999,9,-999,    -999,9,    -999,2.583,2,-999,9,-999,9,    -999,9,-999,9, 20080217,     2139, -47.0123,  29.9814,    -999,-999,9,     -999,9,     -999,9,     -999,9,     -999,9,     -999,9,     -999,9,-999,9,     -999,9,     -999,9,     -999,9,    -999,    -999
33RR20080204,       I06S,      40,          1,         24,         24,2,20080217,       2007,   -47.0037,    29.9918,       3743,   406.9,   3.4743,  34.1401,2,  34.1399,2,    253.9,2,   258.0,2,   20.40,2,   28.64,2,    0.01,2,    1.98,2,   4.114,2,   2.220,2,   0.366,2,    -999,9,    -999,9,     -999,9,     -999,   0.094,2,   1.787,2,    0.27,2,3.474,2,-999,9,-999,9,-999,   7.929,2,   0.030,3.385,2,-999,9,-999,9,    -999,9,-999,9, 20080217,     2137, -47.0122,  29.9814,   0.009,-999,9,     -999,9,     -999,9,     -999,9,     -999,9,     -999,9,     -999,9,-999,9,     -999,9,     -999,9,     -999,9,    0.15,   0.007
33RR20080204,       I06S,      40,          1,         23,         23,2,20080217,       2007,   -47.0037,    29.9918,       3743,   455.6,   3.2278,  34.1486,2,  34.1479,2,    251.4,2,   253.7,2,   23.50,2,   29.34,2,    0.01,2,    2.03,2,   3.980,2,   2.122,2,   0.336,2,    -999,9,  2285.3,2,     -999,9,     -999,    -999,9,    -999,9,    -999,9,3.227,2,-999,9,-999,9,-999,    -999,9,    -999,3.246,2,-999,9,-999,9,    -999,9,-999,9, 20080217,     2135, -47.0121,  29.9817,    -999,-999,9,     -999,9,     -999,9,     -999,9,     -999,9,     -999,9,     -999,9,-999,9,     -999,9,     -999,9,     -999,9,    -999,    -999
33RR20080204,       I06S,      40,          1,         22,         22,2,20080217,       2007,   -47.0037,    29.9918,       3743,   509.4,   3.1651,  34.1879,2,  34.1877,2,    243.7,2,   242.2,2,   27.52,2,   30.19,2,    0.01,2,    2.08,2,   3.480,2,   1.854,2,   0.273,2,    -999,9,    -999,9,     -999,9,     -999,   0.075,2,   1.818,2,    1.40,2,3.1631,2,-999,9,-999,9,-999,   7.962,2,   0.030,2.901,2,-999,9,-999,9,    -999,9,-999,9, 20080217,     2133, -47.0119,  29.9819,   0.009,-999,9,     -999,9,     -999,9,     -999,9,     -999,9,     -999,9,     -999,9,-999,9,     -999,9,     -999,9,     -999,9,    0.15,   0.007
33RR20080204,       I06S,      40,          1,         21,         21,2,20080217,       2007,   -47.0037,    29.9918,       3743,   611.9,   2.8926,  34.2260,2,  34.2254,2,    232.8,2,   231.2,2,   34.50,2,   31.44,2,    0.01,2,    2.18,2,   3.047,2,   1.590,2,   0.237,2,    -999,9,  2296.0,2,     -999,9,     -999,   0.053,6,   1.821,2,    2.38,2,2.8899,2,-999,9,-999,9,-999,   7.962,2,   0.030,2.579,2,-999,9,-999,9,    -999,9,-999,9, 20080217,     2129, -47.0117,  29.9822,   0.006,-999,9,     -999,9,     -999,9,     -999,9,     -999,9,     -999,9,     -999,9,-999,9,     -999,9,     -999,9,     -999,9,    0.15,   0.007
33RR20080204,       I06S,      40,          1,         20,         20,9,20080217,       2007,   -47.0037,    29.9918,       3743,   713.6,   2.7792,  34.2891,2,     -999,9,     -999,9,    -999,9,    -999,9,    -999,9,    -999,9,    -999,9,    -999,9,    -999,9,    -999,9,    -999,9,    -999,9,     -999,9,     -999,    -999,9,    -999,9,    -999,9,2.7791,2,-999,9,-999,9,-999,    -999,9,    -999,-999,9,-999,9,-999,9,    -999,9,-999,9, 20080217,     2126, -47.0114,  29.9822,    -999,-999,9,     -999,9,     -999,9,     -999,9,     -999,9,     -999,9,     -999,9,-999,9,     -999,9,     -999,9,     -999,9,    -999,    -999
33RR20080204,       I06S,      40,          1,         19,         19,2,20080217,       2007,   -47.0037,    29.9918,       3743,   812.6,   2.7246,  34.3614,2,  34.3601,2,    199.4,2,   198.1,2,   50.95,2,   33.48,2,    0.01,2,    2.32,2,   1.733,2,   0.868,2,   0.132,2,    -999,9,  2310.1,2,     -999,9,     -999,   0.022,2,   1.831,2,    5.25,2,2.7242,2,-999,9,-999,9,-999,   7.925,2,   0.030,1.97,2,-999,9,-999,9,    -999,9,-999,9, 20080217,     2123, -47.0110,  29.9821,   0.009,-999,9,     -999,9,     -999,9,     -999,9,     -999,9,     -999,9,     -999,9,-999,9,     -999,9,     -999,9,     -999,9,    0.15,   0.007
33RR20080204,       I06S,      40,          1,         18,         18,2,20080217,       2007,   -47.0037,    29.9918,       3743,   919.2,   2.6579,  34.4288,2,  34.4281,2,    188.3,2,   186.5,2,   58.37,2,   33.84,2,    0.00,2,    2.35,2,   1.235,2,   0.614,2,   0.082,2,    -999,9,    -999,9,     -999,9,     -999,    -999,9,   1.825,2,    6.48,2,2.6567,2,-999,9,-999,9,-999,   7.934,2,   0.030,1.652,2,-999,9,-999,9,    -999,9,-999,9, 20080217,     2120, -47.0108,  29.9829,    -999,-999,9,     -999,9,     -999,9,     -999,9,     -999,9,     -999,9,     -999,9,-999,9,     -999,9,     -999,9,     -999,9,    0.15,   0.007
33RR20080204,       I06S,      40,          1,         17,         17,2,20080217,       2007,   -47.0037,    29.9918,       3743,  1022.5,   2.5868,  34.4847,2,  34.4840,2,    181.9,2,   180.2,2,   63.76,2,   33.99,2,    0.00,2,    2.36,2,   1.096,2,   0.569,2,   0.076,2,    -999,9,  2323.5,2,     -999,9,     -999,   0.004,2,   1.851,2,    7.39,2,2.5874,2,-999,9,-999,9,-999,   8.070,2,   0.031,1.452,2,-999,9,-999,9,    -999,9,-999,9, 20080217,     2116, -47.0104,  29.9831,   0.009,-999,9,     -999,9,     -999,9,     -999,9,     -999,9,     -999,9,     -999,9,-999,9,     -999,9,     -999,9,     -999,9,    0.15,   0.007
33RR20080204,       I06S,      40,          1,         16,         16,2,20080217,       2007,   -47.0037,    29.9918,       3743,  1121.9,   2.6063,  34.5296,2,  34.5288,2,    178.3,2,   177.5,2,   65.60,2,   33.59,2,    0.00,2,    2.33,2,   0.705,2,   0.351,2,   0.050,2,    -999,9,    -999,9,     -999,9,     -999,    -999,9,    -999,9,    -999,9,2.6053,2,-999,9,-999,9,-999,    -999,9,    -999,1.209,2,-999,9,-999,9,    -999,9,-999,9, 20080217,     2113, -47.0101,  29.9833,    -999,-999,9,     -999,9,     -999,9,     -999,9,     -999,9,     -999,9,     -999,9,-999,9,     -999,9,     -999,9,     -999,9,    -999,    -999
33RR20080204,       I06S,      40,          1,         15,         15,2,20080217,       2007,   -47.0037,    29.9918,       3743,  1214.9,   2.5880,  34.5763,2,  34.5740,2,    175.8,2,   176.8,2,   68.20,2,   33.23,2,    0.00,2,    2.30,2,   0.511,2,   0.271,2,   0.046,2,    -999,9,  2331.1,2,     -999,9,     -999,    -999,9,   1.850,2,    8.63,2,2.5886,2,-999,9,-999,9,-999,   7.977,2,   0.030,1.132,2,-999,9,-999,9,    -999,9,-999,9, 20080217,     2110, -47.0099,  29.9838,    -999,-999,9,     -999,9,     -999,9,     -999,9,     -999,9,     -999,9,     -999,9,-999,9,     -999,9,     -999,9,     -999,9,    0.15,   0.007
33RR20080204,       I06S,      40,          1,         14,         14,2,20080217,       2007,   -47.0037,    29.9918,       3743,  1316.8,   2.5482,  34.6096,2,  34.6083,2,    175.8,2,   175.8,2,   70.43,2,   32.94,2,    0.00,2,    2.28,2,   0.402,2,   0.225,2,   0.041,2,    -999,9,    -999,9,     -999,9,     -999,    -999,9,    -999,9,    -999,9,2.5476,2,-999,9,-999,9,-999,    -999,9,    -999,1.1,2,-999,9,-999,9,    -999,9,-999,9, 20080217,     2107, -47.0096,  29.9844,    -999,-999,9,     -999,9,     -999,9,     -999,9,     -999,9,     -999,9,     -999,9,-999,9,     -999,9,     -999,9,     -999,9,    -999,    -999
33RR20080204,       I06S,      40,          1,         13,         13,2,20080217,       2007,   -47.0037,    29.9918,       3743,  1417.0,   2.5235,  34.6414,2,  34.6417,2,    178.1,2,   178.0,2,   71.91,2,   32.38,2,    0.00,2,    2.24,2,   0.320,2,   0.172,2,   0.051,2,    -999,9,  2338.2,2,     -999,9,     -999,  -0.013,2,   1.842,2,    9.17,2,2.5246,2,-999,9,-999,9,-999,   7.928,2,   0.030,1.097,2,-999,9,-999,9,    -999,9,-999,9, 20080217,     2104, -47.0093,  29.9849,   0.009,-999,9,     -999,9,     -999,9,     -999,9,     -999,9,     -999,9,     -999,9,-999,9,     -999,9,     -999,9,     -999,9,    0.15,   0.007
33RR20080204,       I06S,      40,          1,         12,         12,2,20080217,       2007,   -47.0037,    29.9918,       3743,  1518.8,   2.4699,  34.6723,2,  34.6724,2,    179.5,2,   179.6,2,   73.39,2,   31.74,2,    0.00,2,    2.21,2,   0.289,2,   0.154,2,   0.063,2,    -999,9,    -999,9,     -999,9,     -999,    -999,9,    -999,9,    -999,9,2.4695,2,-999,9,-999,9,-999,    -999,9,    -999,1.202,2,-999,9,-999,9,    -999,9,-999,9, 20080217,     2101, -47.0089,  29.9855,    -999,-999,9,     -999,9,     -999,9,     -999,9,     -999,9,     -999,9,     -999,9,-999,9,     -999,9,     -999,9,     -999,9,    -999,    -999
33RR20080204,       I06S,      40,          1,         11,         11,2,20080217,       2007,   -47.0037,    29.9918,       3743,  1619.8,   2.3572,  34.6953,2,  34.6934,2,    181.1,2,   181.4,2,   76.93,2,   31.59,2,    0.00,2,    2.19,2,   0.244,6,   0.133,6,   0.015,6,    -999,9,  2344.1,2,     -999,9,     -999,  -0.004,2,   1.861,2,   10.05,2,2.3583,2,-999,9,-999,9,-999,   8.032,2,   0.031,0.507,6,-999,9,-999,9,    -999,9,-999,9, 20080217,     2058, -47.0085,  29.9859,   0.009,-999,9,     -999,9,     -999,9,     -999,9,     -999,9,     -999,9,     -999,9,-999,9,     -999,9,     -999,9,     -999,9,    0.15,   0.007
33RR20080204,       I06S,      40,          1,         10,         10,2,20080217,       2007,   -47.0037,    29.9918,       3743,  1720.4,   2.3770,  34.7262,2,  34.7249,2,    186.4,2,   187.5,2,   75.04,2,   30.54,2,    0.00,2,    2.11,2,   0.180,2,   0.104,2,   0.011,2,    -999,9,    -999,9,     -999,9,     -999,    -999,9,    -999,9,    -999,9,2.3773,2,-999,9,-999,9,-999,    -999,9,    -999,0.248,2,-999,9,-999,9,    -999,9,-999,9, 20080217,     2055, -47.0081,  29.9863,    -999,-999,9,     -999,9,     -999,9,     -999,9,     -999,9,     -999,9,     -999,9,-999,9,     -999,9,     -999,9,     -999,9,    -999,    -999
33RR20080204,       I06S,      40,          1,          9,          9,2,20080217,       2007,   -47.0037,    29.9918,       3743,  1827.8,   2.2434,  34.7266,2,  34.7254,2,    187.1,2,   187.0,2,   78.39,2,   30.74,2,    0.00,2,    2.13,2,   0.192,2,   0.120,2,   0.015,2,    -999,9,  2346.7,2,     -999,9,     -999,  -0.009,2,   1.863,2,   10.21,2,2.2466,2,-999,9,-999,9,-999,   8.003,2,   0.030,0.766,2,-999,9,-999,9,    -999,9,-999,9, 20080217,     2052, -47.0080,  29.9873,   0.009,-999,9,     -999,9,     -999,9,     -999,9,     -999,9,     -999,9,     -999,9,-999,9,     -999,9,     -999,9,     -999,9,    0.15,   0.007
33RR20080204,       I06S,      40,          1,          8,          8,2,20080217,       2007,   -47.0037,    29.9918,       3743,  2028.9,   2.1748,  34.7584,2,  34.7571,2,    196.5,2,   197.1,2,   77.82,2,   29.40,2,    0.00,2,    2.04,2,   0.149,2,   0.089,2,   0.018,2,    -999,9,    -999,9,     -999,9,     -999,   0.009,2,   1.843,2,    9.59,2,2.1753,2,-999,9,-999,9,-999,   7.938,2,   0.030,0.849,2,-999,9,-999,9,    -999,9,-999,9, 20080217,     2047, -47.0073,  29.9882,   0.009,-999,9,     -999,9,     -999,9,     -999,9,     -999,9,     -999,9,     -999,9,-999,9,     -999,9,     -999,9,     -999,9,    0.15,   0.007
33RR20080204,       I06S,      40,          1,          7,          7,2,20080217,       2007,   -47.0037,    29.9918,       3743,  2334.1,   1.8418,  34.7491,2,  34.7486,2,    201.9,2,   198.9,2,   86.82,2,   29.89,2,    0.00,2,    2.08,2,   0.173,2,   0.098,2,   0.018,2,    -999,9,  2350.5,2,     -999,9,     -999,  -0.009,2,   1.872,2,    9.72,2,1.8431,2,-999,9,-999,9,-999,   7.989,2,   0.030,0.847,2,-999,9,-999,9,    -999,9,-999,9, 20080217,     2041, -47.0065,  29.9884,   0.009,-999,9,     -999,9,     -999,9,     -999,9,     -999,9,     -999,9,     -999,9,-999,9,     -999,9,     -999,9,     -999,9,    0.15,   0.007
33RR20080204,       I06S,      40,          1,          6,          6,2,20080217,       2007,   -47.0037,    29.9918,       3743,  2488.1,   1.8409,  34.7723,2,  34.7720,2,    203.5,2,   208.0,2,   82.85,2,   28.70,2,    0.00,2,    1.98,2,   0.107,2,   0.063,2,   0.019,2,    -999,9,    -999,9,     -999,9,     -999,  -0.011,2,   1.871,2,    8.38,2,1.8402,2,-999,9,-999,9,-999,   8.119,2,   0.031,0.889,2,-999,9,-999,9,    -999,9,-999,9, 20080217,     2037, -47.0061,  29.9890,   0.009,-999,9,     -999,9,     -999,9,     -999,9,     -999,9,     -999,9,     -999,9,-999,9,     -999,9,     -999,9,     -999,9,    0.15,   0.007