BOTTLE,20220706CCHSIOAMB
EXPOCODE,SECT_ID,STNNBR,CASTNO,SAMPNO,BTLNBR,BTLNBR_FLAG_W,DATE,TIME,LATITUDE,LONGITUDE,DEPTH,CTDPRS,CTDTMP,CTDSAL,CTDSAL_FLAG_W,SALNTY,SALNTY_FLAG_W,CTDOXY,CTDOXY_FLAG_W,OXYGEN,OXYGEN_FLAG_W,SILCAT,SILCAT_FLAG_W,NITRAT,NITRAT_FLAG_W,NITRIT,NITRIT_FLAG_W,PHSPHT,PHSPHT_FLAG_W,CFC-11,CFC-11_FLAG_W,CFC-12,CFC-12_FLAG_W,CFC113,CFC113_FLAG_W,TCARBN,TCARBN_FLAG_W,ALKALI,ALKALI_FLAG_W,PH_SWS,PH_SWS_FLAG_W,PH_TMP,TRITUM,TRITUM_FLAG_W,HELIUM,HELIUM_FLAG_W,DELHE3,DELHE3_FLAG_W,REFTMP,REFTMP_FLAG_W,DELC13,DELC13_FLAG_W,DELC14,DELC14_FLAG_W,C14ERR,NEON,NEON_FLAG_W,NEONER,CCL4,CCL4_FLAG_W,ALUMIN,ALUMIN_FLAG_W,DELO18,DELO18_FLAG_W,DOC,DOC_FLAG_W,TDN,TDN_FLAG_W,BTL_DATE,BTL_TIME,BTL_LAT,BTL_LON,TRITER,DELSI30,DELSI30_FLAG_W,CDOM380,CDOM380_FLAG_W,CDOM325,CDOM325_FLAG_W,CDOMSL,CDOMSL_FLAG_W,CDOM340,CDOM340_FLAG_W,CDOM443,CDOM443_FLAG_W,CDOMSN,CDOMSN_FLAG_W,BLACKC,BLACKC_FLAG_W,CDOM490,CDOM490_FLAG_W,CDOM412,CDOM412_FLAG_W,CDOM555,CDOM555_FLAG_W,DELHER,HELIER
,,,,,,,,,,,METERS,DBAR,ITS-90,PSS-78,,PSS-78,,UMOL/KG,,UMOL/KG,,UMOL/KG,,UMOL/KG,,UMOL/KG,,UMOL/KG,,PMOL/KG,,PMOL/KG,,PMOL/KG,,UMOL/KG,,UMOL/KG,,,,DEG C,TU,,NMOL/KG,,PERCNT,,DEG C,,/MILLE,,/MILLE,,/MILLE,NMOL/KG,,NMOL/KG,PMOL/KG,,NMOL/L,,/MILLE,,UMOL/KG,,UMOL/KG,,,,,,TU,/MILLE,,1/M,,1/M,,1/NM,,1/M,,1/M,,1/NM,,,,1/M,,1/M,,1/M,,PERCNT,NMOL/KG
33RR20080204,       I06S,      42,          1,         36,         36,2,20080218,       1045,   -47.9998,    30.0000,       5110,     5.3,   6.0019,  33.8031,2,  33.8019,2,    306.0,2,   306.3,2,    3.04,2,   20.41,2,    0.26,2,    1.44,2,   4.674,2,   2.693,2,   0.402,2,  2115.9,6,  2268.2,2,   7.9641,2,    13.00,    -999,9,    -999,9,    -999,9,-999,9,-999,9,-999,9,-999,    -999,9,    -999,6.642,2,-999,9,-999,9,    -999,9,-999,9, 20080218,     1259, -47.9963,  29.9999,    -999,-999,9,     -999,9,     -999,9,     -999,9,     -999,9,     -999,9,     -999,9,-999,9,     -999,9,     -999,9,     -999,9,    -999,    -999
33RR20080204,       I06S,      42,          1,         35,         35,2,20080218,       1045,   -47.9998,    30.0000,       5110,    23.0,   5.9894,  33.8016,2,  33.7999,2,    307.2,2,   306.6,2,    3.02,2,   20.41,2,    0.26,2,    1.44,2,   4.768,6,   2.696,6,   0.393,6,  2116.8,2,  2264.6,2,   7.9633,2,    13.00,    -999,9,    -999,9,    -999,9,-999,9,-999,9,-999,9,-999,    -999,9,    -999,6.9155,6,-999,9,-999,9,    -999,9,-999,9, 20080218,     1257, -47.9967,  29.9996,    -999,-999,9,     -999,9,     -999,9,     -999,9,     -999,9,     -999,9,     -999,9,-999,9,     -999,9,     -999,9,     -999,9,    -999,    -999
33RR20080204,       I06S,      42,          1,         34,         34,2,20080218,       1045,   -47.9998,    30.0000,       5110,    51.7,   5.7328,  33.8003,2,  33.8003,2,    310.8,2,   308.3,2,    3.01,2,   20.57,2,    0.26,2,    1.45,2,   4.898,2,   2.752,2,   0.405,2,  2117.0,2,  2265.1,2,   7.9608,2,    13.00,    -999,9,    -999,9,    -999,9,-999,9,-999,9,-999,9,-999,    -999,9,    -999,7.124,2,-999,9,-999,9,    -999,9,-999,9, 20080218,     1256, -47.9968,  29.9995,    -999,-999,9,     -999,9,     -999,9,     -999,9,     -999,9,     -999,9,     -999,9,-999,9,     -999,9,     -999,9,     -999,9,    -999,    -999
33RR20080204,       I06S,      42,          1,         33,         33,2,20080218,       1045,   -47.9998,    30.0000,       5110,    88.3,   4.7850,  33.8494,2,  33.8509,2,    311.5,2,   310.7,2,    4.48,2,   20.72,2,    0.31,2,    1.52,2,   5.029,2,   2.840,2,   0.403,2,  2123.2,2,  2267.0,2,   7.9440,4,    13.00,    -999,9,    -999,9,    -999,9,-999,9,-999,9,-999,9,-999,    -999,9,    -999,7.132,2,-999,9,-999,9,    -999,9,-999,9, 20080218,     1255, -47.9969,  29.9994,    -999,-999,9,     -999,9,     -999,9,     -999,9,     -999,9,     -999,9,     -999,9,-999,9,     -999,9,     -999,9,     -999,9,    -999,    -999
33RR20080204,       I06S,      42,          1,         32,         32,2,20080218,       1045,   -47.9998,    30.0000,       5110,   110.5,   4.4068,  33.8447,2,  33.8445,2,    311.5,2,   311.7,2,    5.03,2,   21.13,2,    0.41,2,    1.55,2,   5.107,2,   2.885,2,   0.440,2,  2126.8,2,  2266.2,2,   7.9387,2,    13.00,    -999,9,    -999,9,    -999,9,-999,9,-999,9,-999,9,-999,    -999,9,    -999,7.283,2,-999,9,-999,9,    -999,9,-999,9, 20080218,     1254, -47.9970,  29.9995,    -999,-999,9,     -999,9,     -999,9,     -999,9,     -999,9,     -999,9,     -999,9,-999,9,     -999,9,     -999,9,     -999,9,    -999,    -999
33RR20080204,       I06S,      42,          1,         31,         31,2,20080218,       1045,   -47.9998,    30.0000,       5110,   160.4,   3.7071,  33.8773,2,  33.8736,2,    307.8,2,   308.0,2,    7.24,2,   23.37,2,    0.07,2,    1.63,2,   5.179,2,   2.905,2,   0.418,2,  2130.5,2,  2265.4,2,   7.9178,2,    13.00,    -999,9,    -999,9,    -999,9,-999,9,-999,9,-999,9,-999,    -999,9,    -999,7.136,2,-999,9,-999,9,    -999,9,-999,9, 20080218,     1253, -47.9971,  29.9994,    -999,-999,9,     -999,9,     -999,9,     -999,9,     -999,9,     -999,9,     -999,9,-999,9,     -999,9,     -999,9,     -999,9,    -999,    -999
33RR20080204,       I06S,      42,          1,         30,         30,2,20080218,       1045,   -47.9998,    30.0000,       5110,   210.3,   3.5758,  33.9476,2,  33.9422,2,    296.1,2,   298.3,2,   10.02,2,   24.68,2,    0.01,2,    1.72,2,   5.035,2,   2.811,2,   0.433,2,  2136.5,2,  2269.8,2,   7.8985,2,    13.00,    -999,9,    -999,9,    -999,9,-999,9,-999,9,-999,9,-999,    -999,9,    -999,6.765,2,-999,9,-999,9,    -999,9,-999,9, 20080218,     1250, -47.9972,  29.9993,    -999,-999,9,     -999,9,     -999,9,     -999,9,     -999,9,     -999,9,     -999,9,-999,9,     -999,9,     -999,9,     -999,9,    -999,    -999
33RR20080204,       I06S,      42,          1,         29,         29,2,20080218,       1045,   -47.9998,    30.0000,       5110,   274.5,   3.6810,  34.0935,2,  34.0923,2,    267.8,2,   269.3,2,   15.23,2,   27.30,2,    0.01,2,    1.88,2,   4.490,2,   2.453,2,   0.360,2,  2152.3,2,  2274.7,2,   7.8612,2,    13.00,    -999,9,    -999,9,    -999,9,-999,9,-999,9,-999,9,-999,    -999,9,    -999,5.85,2,-999,9,-999,9,    -999,9,-999,9, 20080218,     1248, -47.9973,  29.9994,    -999,-999,9,     -999,9,     -999,9,     -999,9,     -999,9,     -999,9,     -999,9,-999,9,     -999,9,     -999,9,     -999,9,    -999,    -999
33RR20080204,       I06S,      42,          1,         28,         28,2,20080218,       1045,   -47.9998,    30.0000,       5110,   325.7,   3.5138,  34.1254,2,  34.1234,2,    260.2,2,   261.2,2,   18.96,2,   28.36,2,    0.00,2,    1.96,2,   4.274,2,   2.330,2,   0.339,2,  2162.7,2,  2278.1,2,   7.8463,2,    13.00,    -999,9,    -999,9,    -999,9,-999,9,-999,9,-999,9,-999,    -999,9,    -999,5.549,2,-999,9,-999,9,    -999,9,-999,9, 20080218,     1246, -47.9975,  29.9994,    -999,-999,9,     -999,9,     -999,9,     -999,9,     -999,9,     -999,9,     -999,9,-999,9,     -999,9,     -999,9,     -999,9,    -999,    -999
33RR20080204,       I06S,      42,          1,         27,         27,2,20080218,       1045,   -47.9998,    30.0000,       5110,   375.2,   3.3151,  34.1534,2,  34.1531,2,    255.1,2,   252.8,2,   22.87,2,   29.28,2,    0.00,2,    2.02,2,   3.912,2,   2.098,2,   0.301,2,  2179.0,2,  2283.0,2,   7.8349,2,    13.00,    -999,9,    -999,9,    -999,9,-999,9,-999,9,-999,9,-999,    -999,9,    -999,5.358,2,-999,9,-999,9,    -999,9,-999,9, 20080218,     1244, -47.9975,  29.9995,    -999,-999,9,     -999,9,     -999,9,     -999,9,     -999,9,     -999,9,     -999,9,-999,9,     -999,9,     -999,9,     -999,9,    -999,    -999
33RR20080204,       I06S,      42,          1,         26,         26,2,20080218,       1045,   -47.9998,    30.0000,       5110,   428.8,   3.1629,  34.1790,2,  34.1763,2,    246.7,2,   245.6,2,   26.81,2,   30.09,2,    0.00,2,    2.07,2,   3.590,2,   1.914,2,   0.272,2,  2185.7,2,  2287.8,2,   7.8240,2,    13.00,    -999,9,    -999,9,    -999,9,-999,9,-999,9,-999,9,-999,    -999,9,    -999,4.857,2,-999,9,-999,9,    -999,9,-999,9, 20080218,     1239, -47.9978,  29.9995,    -999,-999,9,     -999,9,     -999,9,     -999,9,     -999,9,     -999,9,     -999,9,-999,9,     -999,9,     -999,9,     -999,9,    -999,    -999
33RR20080204,       I06S,      42,          1,         25,         25,2,20080218,       1045,   -47.9998,    30.0000,       5110,   476.8,   3.0639,  34.2011,2,  34.2007,2,    237.9,2,   238.2,2,   30.17,2,   30.75,2,    0.00,2,    2.12,2,   3.297,2,   1.748,2,   0.239,2,  2193.1,2,  2289.2,2,   7.8126,2,    13.00,    -999,9,    -999,9,    -999,9,-999,9,-999,9,-999,9,-999,    -999,9,    -999,4.261,2,-999,9,-999,9,    -999,9,-999,9, 20080218,     1237, -47.9979,  29.9996,    -999,-999,9,     -999,9,     -999,9,     -999,9,     -999,9,     -999,9,     -999,9,-999,9,     -999,9,     -999,9,     -999,9,    -999,    -999
33RR20080204,       I06S,      42,          1,         24,         24,2,20080218,       1045,   -47.9998,    30.0000,       5110,   528.1,   2.8970,  34.2174,2,  34.2174,2,    232.2,2,   232.7,2,   33.55,2,   31.41,2,    0.00,2,    2.17,2,   3.132,2,   1.648,2,   0.241,2,  2198.3,2,  2293.3,2,   7.8030,2,    13.00,    -999,9,    -999,9,    -999,9,-999,9,-999,9,-999,9,-999,    -999,9,    -999,4.605,2,-999,9,-999,9,    -999,9,-999,9, 20080218,     1235, -47.9981,  29.9998,    -999,-999,9,     -999,9,     -999,9,     -999,9,     -999,9,     -999,9,     -999,9,-999,9,     -999,9,     -999,9,     -999,9,    -999,    -999
33RR20080204,       I06S,      42,          1,         23,         23,2,20080218,       1045,   -47.9998,    30.0000,       5110,   648.1,   2.7557,  34.3049,2,  34.3045,2,    213.2,2,   209.6,2,   44.86,2,   33.04,2,    0.00,2,    2.27,2,   2.235,2,   1.141,2,   0.160,2,  2219.4,2,  2303.9,2,   7.7738,2,    13.00,    -999,9,    -999,9,    -999,9,-999,9,-999,9,-999,9,-999,    -999,9,    -999,3.408,2,-999,9,-999,9,    -999,9,-999,9, 20080218,     1232, -47.9984,  29.9997,    -999,-999,9,     -999,9,     -999,9,     -999,9,     -999,9,     -999,9,     -999,9,-999,9,     -999,9,     -999,9,     -999,9,    -999,    -999
33RR20080204,       I06S,      42,          1,         22,         22,2,20080218,       1045,   -47.9998,    30.0000,       5110,   748.8,   2.6575,  34.3708,2,  34.3717,2,    196.5,2,   195.2,2,   53.37,2,   33.91,2,    0.00,2,    2.34,2,   1.656,2,   0.840,2,   0.112,2,  2230.3,2,  2311.5,2,   7.7578,2,    13.00,    -999,9,    -999,9,    -999,9,-999,9,-999,9,-999,9,-999,    -999,9,    -999,2.68,2,-999,9,-999,9,    -999,9,-999,9, 20080218,     1229, -47.9987,  29.9997,    -999,-999,9,     -999,9,     -999,9,     -999,9,     -999,9,     -999,9,     -999,9,-999,9,     -999,9,     -999,9,     -999,9,    -999,    -999
33RR20080204,       I06S,      42,          1,         21,         21,2,20080218,       1045,   -47.9998,    30.0000,       5110,   850.5,   2.6160,  34.4384,2,  34.4366,2,    186.3,2,   185.1,2,   59.82,2,   34.17,2,    0.00,2,    2.36,2,   1.175,2,   0.600,2,   0.076,2,  2238.9,2,  2318.9,2,   7.7508,2,    13.00,    -999,9,    -999,9,    -999,9,-999,9,-999,9,-999,9,-999,    -999,9,    -999,2.045,2,-999,9,-999,9,    -999,9,-999,9, 20080218,     1226, -47.9988,  29.9996,    -999,-999,9,     -999,9,     -999,9,     -999,9,     -999,9,     -999,9,     -999,9,-999,9,     -999,9,     -999,9,     -999,9,    -999,    -999
33RR20080204,       I06S,      42,          1,         20,         20,2,20080218,       1045,   -47.9998,    30.0000,       5110,   951.3,   2.5832,  34.4961,2,  34.4950,2,    179.6,2,   179.3,2,   64.18,2,   34.08,2,    0.00,2,    2.35,2,   0.825,2,   0.436,2,   0.046,2,  2245.3,2,  2323.7,2,   7.7508,2,    13.00,    -999,9,    -999,9,    -999,9,-999,9,-999,9,-999,9,-999,    -999,9,    -999,1.646,2,-999,9,-999,9,    -999,9,-999,9, 20080218,     1224, -47.9991,  29.9996,    -999,-999,9,     -999,9,     -999,9,     -999,9,     -999,9,     -999,9,     -999,9,-999,9,     -999,9,     -999,9,     -999,9,    -999,    -999
33RR20080204,       I06S,      42,          1,         19,         19,2,20080218,       1045,   -47.9998,    30.0000,       5110,  1055.2,   2.5550,  34.5479,2,  34.5458,2,    176.4,2,   176.2,2,   67.79,2,   33.77,2,    0.00,2,    2.33,2,   0.630,2,   0.330,2,   0.038,2,  2249.8,6,  2329.3,2,   7.7511,2,    13.00,    -999,9,    -999,9,    -999,9,-999,9,-999,9,-999,9,-999,    -999,9,    -999,1.329,2,-999,9,-999,9,    -999,9,-999,9, 20080218,     1220, -47.9991,  29.9998,    -999,-999,9,     -999,9,     -999,9,     -999,9,     -999,9,     -999,9,     -999,9,-999,9,     -999,9,     -999,9,     -999,9,    -999,    -999
33RR20080204,       I06S,      42,          1,         18,         18,2,20080218,       1045,   -47.9998,    30.0000,       5110,  1156.3,   2.5504,  34.5944,2,  34.5932,2,    176.2,2,   175.7,2,   69.89,2,   33.27,2,    0.00,2,    2.29,2,   0.426,2,   0.232,2,   0.036,2,    -999,9,    -999,9,     -999,9,     -999,    -999,9,    -999,9,    -999,9,-999,9,-999,9,-999,9,-999,    -999,9,    -999,1.065,2,-999,9,-999,9,    -999,9,-999,9, 20080218,     1217, -47.9993,  29.9997,    -999,-999,9,     -999,9,     -999,9,     -999,9,     -999,9,     -999,9,     -999,9,-999,9,     -999,9,     -999,9,     -999,9,    -999,    -999
33RR20080204,       I06S,      42,          1,         17,         17,2,20080218,       1045,   -47.9998,    30.0000,       5110,  1256.1,   2.5374,  34.6275,2,  34.6272,2,    177.0,2,   176.8,2,   70.64,2,   32.72,2,    0.00,2,    2.25,2,   0.336,2,   0.193,2,   0.018,2,    -999,9,  2335.4,2,     -999,9,     -999,    -999,9,    -999,9,    -999,9,-999,9,-999,9,-999,9,-999,    -999,9,    -999,0.869,2,-999,9,-999,9,    -999,9,-999,9, 20080218,     1215, -47.9992,  29.9999,    -999,-999,9,     -999,9,     -999,9,     -999,9,     -999,9,     -999,9,     -999,9,-999,9,     -999,9,     -999,9,     -999,9,    -999,    -999
33RR20080204,       I06S,      42,          1,         16,         16,2,20080218,       1045,   -47.9998,    30.0000,       5110,  1358.8,   2.5312,  34.6701,2,  34.6694,2,    179.1,2,   180.2,2,   71.20,2,   31.76,2,    0.00,2,    2.19,2,   0.260,2,   0.156,2,   0.020,2,    -999,9,    -999,9,     -999,9,     -999,    -999,9,    -999,9,    -999,9,-999,9,-999,9,-999,9,-999,    -999,9,    -999,0.677,2,-999,9,-999,9,    -999,9,-999,9, 20080218,     1212, -47.9994,  29.9998,    -999,-999,9,     -999,9,     -999,9,     -999,9,     -999,9,     -999,9,     -999,9,-999,9,     -999,9,     -999,9,     -999,9,    -999,    -999
33RR20080204,       I06S,      42,          1,         15,         15,2,20080218,       1045,   -47.9998,    30.0000,       5110,  1459.3,   2.4873,  34.7004,2,  34.6998,2,    183.0,2,   183.3,2,   71.96,2,   31.16,2,    0.00,2,    2.15,2,   0.192,2,   0.112,2,   0.015,2,    -999,9,  2338.6,2,     -999,9,     -999,    -999,9,    -999,9,    -999,9,-999,9,-999,9,-999,9,-999,    -999,9,    -999,0.634,2,-999,9,-999,9,    -999,9,-999,9, 20080218,     1209, -47.9994,  29.9998,    -999,-999,9,     -999,9,     -999,9,     -999,9,     -999,9,     -999,9,     -999,9,-999,9,     -999,9,     -999,9,     -999,9,    -999,    -999
33RR20080204,       I06S,      42,          1,         14,         14,2,20080218,       1045,   -47.9998,    30.0000,       5110,  1658.7,   2.3217,  34.7328,2,  34.7335,2,    188.3,2,   188.3,2,   75.96,2,   30.50,2,    0.00,2,    2.10,2,   0.167,2,   0.101,2,   0.018,2,    -999,9,    -999,9,     -999,9,     -999,    -999,9,    -999,9,    -999,9,-999,9,-999,9,-999,9,-999,    -999,9,    -999,0.595,2,-999,9,-999,9,    -999,9,-999,9, 20080218,     1204, -47.9995,  29.9998,    -999,-999,9,     -999,9,     -999,9,     -999,9,     -999,9,     -999,9,     -999,9,-999,9,     -999,9,     -999,9,     -999,9,    -999,    -999
33RR20080204,       I06S,      42,          1,         13,         13,2,20080218,       1045,   -47.9998,    30.0000,       5110,  1867.5,   2.1633,  34.7511,2,  34.7506,2,    192.9,2,   194.9,2,   78.83,2,   29.90,2,    0.00,2,    2.07,2,   0.154,2,   0.095,2,   0.026,2,    -999,9,    -999,9,     -999,9,     -999,    -999,9,    -999,9,    -999,9,-999,9,-999,9,-999,9,-999,    -999,9,    -999,0.722,2,-999,9,-999,9,    -999,9,-999,9, 20080218,     1159, -47.9997,  29.9999,    -999,-999,9,     -999,9,     -999,9,     -999,9,     -999,9,     -999,9,     -999,9,-999,9,     -999,9,     -999,9,     -999,9,    -999,    -999
33RR20080204,       I06S,      42,          1,         12,         12,2,20080218,       1045,   -47.9998,    30.0000,       5110,  2067.5,   2.0557,  34.7659,2,  34.7639,2,    200.5,2,   200.5,2,   79.78,2,   29.30,2,    0.00,2,    2.02,2,   0.125,2,   0.076,2,   0.007,2,    -999,9,    -999,9,     -999,9,     -999,    -999,9,    -999,9,    -999,9,-999,9,-999,9,-999,9,-999,    -999,9,    -999,0.375,2,-999,9,-999,9,    -999,9,-999,9, 20080218,     1154, -47.9997,  29.9999,    -999,-999,9,     -999,9,     -999,9,     -999,9,     -999,9,     -999,9,     -999,9,-999,9,     -999,9,     -999,9,     -999,9,    -999,    -999
33RR20080204,       I06S,      42,          1,         11,         11,2,20080218,       1045,   -47.9998,    30.0000,       5110,  2382.1,   1.7282,  34.7560,2,  34.7543,2,    203.9,2,   203.1,2,   88.60,2,   29.71,2,    0.00,2,    2.04,2,   0.149,2,   0.085,2,   0.011,2,    -999,9,  2351.3,2,     -999,9,     -999,    -999,9,    -999,9,    -999,9,-999,9,-999,9,-999,9,-999,    -999,9,    -999,0.411,2,-999,9,-999,9,    -999,9,-999,9, 20080218,     1147, -47.9998,  29.9999,    -999,-999,9,     -999,9,     -999,9,     -999,9,     -999,9,     -999,9,     -999,9,-999,9,     -999,9,     -999,9,     -999,9,    -999,    -999
33RR20080204,       I06S,      42,          1,         10,         10,2,20080218,       1045,   -47.9998,    30.0000,       5110,  2691.2,   1.4522,  34.7461,2,  34.7455,2,    205.9,2,   206.5,2,   96.11,2,   30.17,2,    0.00,2,    2.07,2,   0.144,2,   0.079,2,   0.008,2,    -999,9,    -999,9,     -999,9,     -999,    -999,9,    -999,9,    -999,9,-999,9,-999,9,-999,9,-999,    -999,9,    -999,0.402,2,-999,9,-999,9,    -999,9,-999,9, 20080218,     1140, -47.9995,  29.9998,    -999,-999,9,     -999,9,     -999,9,     -999,9,     -999,9,     -999,9,     -999,9,-999,9,     -999,9,     -999,9,     -999,9,    -999,    -999
33RR20080204,       I06S,      42,          1,          9,          9,2,20080218,       1045,   -47.9998,    30.0000,       5110,  3000.5,   1.1729,  34.7295,2,  34.7284,2,    207.2,2,   207.9,2,  104.79,2,   30.88,2,    0.00,2,    2.13,2,   0.177,2,   0.100,2,   0.010,2,    -999,9,    -999,9,     -999,9,     -999,    -999,9,    -999,9,    -999,9,-999,9,-999,9,-999,9,-999,    -999,9,    -999,0.495,2,-999,9,-999,9,    -999,9,-999,9, 20080218,     1134, -47.9997,  29.9999,    -999,-999,9,     -999,9,     -999,9,     -999,9,     -999,9,     -999,9,     -999,9,-999,9,     -999,9,     -999,9,     -999,9,    -999,    -999
33RR20080204,       I06S,      42,          1,          8,          8,2,20080218,       1045,   -47.9998,    30.0000,       5110,  3306.3,   0.9451,  34.7167,2,  34.7151,2,    210.0,2,   210.8,2,  111.75,2,   31.35,2,    0.00,2,    2.17,2,   0.185,2,   0.101,2,   0.007,2,    -999,9,  2358.8,2,     -999,9,     -999,    -999,9,    -999,9,    -999,9,-999,9,-999,9,-999,9,-999,    -999,9,    -999,0.539,2,-999,9,-999,9,    -999,9,-999,9, 20080218,     1127, -47.9997,  29.9999,    -999,-999,9,     -999,9,     -999,9,     -999,9,     -999,9,     -999,9,     -999,9,-999,9,     -999,9,     -999,9,     -999,9,    -999,    -999