BOTTLE,20220706CCHSIOAMB
EXPOCODE,SECT_ID,STNNBR,CASTNO,SAMPNO,BTLNBR,BTLNBR_FLAG_W,DATE,TIME,LATITUDE,LONGITUDE,DEPTH,CTDPRS,CTDTMP,CTDSAL,CTDSAL_FLAG_W,SALNTY,SALNTY_FLAG_W,CTDOXY,CTDOXY_FLAG_W,OXYGEN,OXYGEN_FLAG_W,SILCAT,SILCAT_FLAG_W,NITRAT,NITRAT_FLAG_W,NITRIT,NITRIT_FLAG_W,PHSPHT,PHSPHT_FLAG_W,CFC-11,CFC-11_FLAG_W,CFC-12,CFC-12_FLAG_W,CFC113,CFC113_FLAG_W,TCARBN,TCARBN_FLAG_W,ALKALI,ALKALI_FLAG_W,PH_SWS,PH_SWS_FLAG_W,PH_TMP,TRITUM,TRITUM_FLAG_W,HELIUM,HELIUM_FLAG_W,DELHE3,DELHE3_FLAG_W,REFTMP,REFTMP_FLAG_W,DELC13,DELC13_FLAG_W,DELC14,DELC14_FLAG_W,C14ERR,NEON,NEON_FLAG_W,NEONER,CCL4,CCL4_FLAG_W,ALUMIN,ALUMIN_FLAG_W,DELO18,DELO18_FLAG_W,DOC,DOC_FLAG_W,TDN,TDN_FLAG_W,BTL_DATE,BTL_TIME,BTL_LAT,BTL_LON,TRITER,DELSI30,DELSI30_FLAG_W,CDOM380,CDOM380_FLAG_W,CDOM325,CDOM325_FLAG_W,CDOMSL,CDOMSL_FLAG_W,CDOM340,CDOM340_FLAG_W,CDOM443,CDOM443_FLAG_W,CDOMSN,CDOMSN_FLAG_W,BLACKC,BLACKC_FLAG_W,CDOM490,CDOM490_FLAG_W,CDOM412,CDOM412_FLAG_W,CDOM555,CDOM555_FLAG_W,DELHER,HELIER
,,,,,,,,,,,METERS,DBAR,ITS-90,PSS-78,,PSS-78,,UMOL/KG,,UMOL/KG,,UMOL/KG,,UMOL/KG,,UMOL/KG,,UMOL/KG,,PMOL/KG,,PMOL/KG,,PMOL/KG,,UMOL/KG,,UMOL/KG,,,,DEG C,TU,,NMOL/KG,,PERCNT,,DEG C,,/MILLE,,/MILLE,,/MILLE,NMOL/KG,,NMOL/KG,PMOL/KG,,NMOL/L,,/MILLE,,UMOL/KG,,UMOL/KG,,,,,,TU,/MILLE,,1/M,,1/M,,1/NM,,1/M,,1/M,,1/NM,,,,1/M,,1/M,,1/M,,PERCNT,NMOL/KG
33RR20080204,       I06S,      78,          1,         35,         35,2,20080301,       0817,   -65.6334,    32.4636,       3976,     5.0,   0.0944,  33.9893,2,  33.9900,2,    338.2,2,   338.5,2,   54.08,2,   26.77,2,    0.25,2,    1.84,2,   6.156,2,   3.344,2,   0.446,2,  2173.8,6,  2303.4,2,   7.8801,2,    13.00,    -999,9,    -999,9,    -999,9,0.0938,2,-999,9,-999,9,-999,    -999,9,    -999,9.263,2,-999,9,-999,9,    -999,9,-999,9, 20080301,     1009, -65.6334,  32.4636,    -999,-999,9,     -999,9,     -999,9,     -999,9,     -999,9,     -999,9,     -999,9,-999,9,     -999,9,     -999,9,     -999,9,    -999,    -999
33RR20080204,       I06S,      78,          1,         34,         34,2,20080301,       0817,   -65.6334,    32.4636,       3976,    26.5,   0.0912,  34.0121,2,  34.0115,2,    339.0,2,   338.3,2,   54.28,2,   26.78,2,    0.25,2,    1.83,2,   6.074,2,   3.410,2,   0.452,2,    -999,9,  2305.8,2,   7.8806,2,    13.00,    -999,9,    -999,9,    -999,9,0.0897,2,-999,9,-999,9,-999,    -999,9,    -999,8.905,2,-999,9,-999,9,    -999,9,-999,9, 20080301,     1007, -65.6334,  32.4636,    -999,-999,9,     -999,9,     -999,9,     -999,9,     -999,9,     -999,9,     -999,9,-999,9,     -999,9,     -999,9,     -999,9,    -999,    -999
33RR20080204,       I06S,      78,          1,         33,         33,2,20080301,       0817,   -65.6334,    32.4636,       3976,    50.8,  -0.6287,  34.1308,2,  34.1289,2,    331.2,2,   331.3,2,   56.49,2,   27.43,2,    0.18,2,    1.90,2,   5.480,2,   3.118,2,   0.408,2,    -999,9,  2311.3,2,   7.8671,3,    13.00,    -999,9,    -999,9,    -999,9,-0.6323,2,-999,9,-999,9,-999,    -999,9,    -999,7.003,2,-999,9,-999,9,    -999,9,-999,9, 20080301,     1005, -65.6334,  32.4636,    -999,-999,9,     -999,9,     -999,9,     -999,9,     -999,9,     -999,9,     -999,9,-999,9,     -999,9,     -999,9,     -999,9,    -999,    -999
33RR20080204,       I06S,      78,          1,         32,         32,2,20080301,       0817,   -65.6334,    32.4636,       3976,    87.2,  -1.6327,  34.3276,2,  34.3287,2,    309.9,2,   310.4,2,   63.95,2,   29.67,2,    0.13,2,    2.07,2,   4.923,2,   2.832,2,   0.407,2,    -999,9,  2324.3,2,   7.8225,3,    13.00,    -999,9,    -999,9,    -999,9,-1.6317,2,-999,9,-999,9,-999,    -999,9,    -999,6.697,2,-999,9,-999,9,    -999,9,-999,9, 20080301,     1004, -65.6334,  32.4637,    -999,-999,9,     -999,9,     -999,9,     -999,9,     -999,9,     -999,9,     -999,9,-999,9,     -999,9,     -999,9,     -999,9,    -999,    -999
33RR20080204,       I06S,      78,          1,         31,         31,2,20080301,       0817,   -65.6334,    32.4636,       3976,   112.2,  -1.6367,  34.3491,2,  34.3495,2,    305.5,2,   304.5,2,   66.16,2,   30.37,2,    0.12,2,    2.11,2,   4.883,2,   2.839,2,   0.398,2,    -999,9,  2323.3,2,   7.8127,3,    13.00,    -999,9,    -999,9,    -999,9,-1.6349,2,-999,9,-999,9,-999,    -999,9,    -999,6.077,2,-999,9,-999,9,    -999,9,-999,9, 20080301,     1002, -65.6334,  32.4636,    -999,-999,9,     -999,9,     -999,9,     -999,9,     -999,9,     -999,9,     -999,9,-999,9,     -999,9,     -999,9,     -999,9,    -999,    -999
33RR20080204,       I06S,      78,          1,         30,         30,2,20080301,       0817,   -65.6334,    32.4636,       3976,   161.7,  -1.0023,  34.4215,2,  34.4274,2,    292.7,2,   276.8,2,   72.22,2,   31.23,2,    0.01,2,    2.16,2,   3.966,2,   2.216,2,   0.324,2,    -999,9,    -999,9,     -999,9,     -999,    -999,9,    -999,9,    -999,9,-1.0137,2,-999,9,-999,9,-999,    -999,9,    -999,4.518,2,-999,9,-999,9,    -999,9,-999,9, 20080301,     1000, -65.6334,  32.4636,    -999,-999,9,     -999,9,     -999,9,     -999,9,     -999,9,     -999,9,     -999,9,-999,9,     -999,9,     -999,9,     -999,9,    -999,    -999
33RR20080204,       I06S,      78,          1,         29,         29,2,20080301,       0817,   -65.6334,    32.4636,       3976,   213.4,   0.0863,  34.5465,2,  34.5442,2,    256.0,2,   239.2,2,   79.92,2,   31.83,2,    0.01,2,    2.20,2,   2.548,2,   1.421,2,   0.242,2,    -999,9,  2337.2,2,   7.7791,2,    13.00,    -999,9,    -999,9,    -999,9,0.08,2,-999,9,-999,9,-999,    -999,9,    -999,3.161,2,-999,9,-999,9,    -999,9,-999,9, 20080301,     0958, -65.6334,  32.4636,    -999,-999,9,     -999,9,     -999,9,     -999,9,     -999,9,     -999,9,     -999,9,-999,9,     -999,9,     -999,9,     -999,9,    -999,    -999
33RR20080204,       I06S,      78,          1,         28,         28,2,20080301,       0817,   -65.6334,    32.4636,       3976,   273.7,   0.5525,  34.6106,2,  34.6135,2,    230.9,2,   221.0,2,   86.01,2,   31.93,2,    0.00,2,    2.21,2,   1.795,2,   0.999,2,   0.159,2,    -999,9,    -999,9,     -999,9,     -999,    -999,9,    -999,9,    -999,9,0.5534,2,-999,9,-999,9,-999,    -999,9,    -999,2.363,2,-999,9,-999,9,    -999,9,-999,9, 20080301,     0956, -65.6334,  32.4637,    -999,-999,9,     -999,9,     -999,9,     -999,9,     -999,9,     -999,9,     -999,9,-999,9,     -999,9,     -999,9,     -999,9,    -999,    -999
33RR20080204,       I06S,      78,          1,         27,         27,2,20080301,       0817,   -65.6334,    32.4636,       3976,   323.4,   0.6358,  34.6363,2,  34.6383,2,    223.3,2,   217.9,2,   88.04,2,   31.73,2,    0.00,2,    2.19,2,   1.572,2,   0.877,2,   0.140,2,    -999,9,  2345.0,2,   7.7798,3,    13.00,    -999,9,    -999,9,    -999,9,0.6356,2,-999,9,-999,9,-999,    -999,9,    -999,2.102,2,-999,9,-999,9,    -999,9,-999,9, 20080301,     0954, -65.6334,  32.4636,    -999,-999,9,     -999,9,     -999,9,     -999,9,     -999,9,     -999,9,     -999,9,-999,9,     -999,9,     -999,9,     -999,9,    -999,    -999
33RR20080204,       I06S,      78,          1,         26,         26,2,20080301,       0817,   -65.6334,    32.4636,       3976,   376.0,   0.6415,  34.6455,2,  34.6463,2,    216.2,2,   219.1,2,   89.26,2,   31.58,2,    0.00,2,    2.19,2,   1.528,2,   0.836,2,   0.133,2,    -999,9,    -999,9,     -999,9,     -999,    -999,9,    -999,9,    -999,9,0.642,2,-999,9,-999,9,-999,    -999,9,    -999,2.05,2,-999,9,-999,9,    -999,9,-999,9, 20080301,     0952, -65.6334,  32.4636,    -999,-999,9,     -999,9,     -999,9,     -999,9,     -999,9,     -999,9,     -999,9,-999,9,     -999,9,     -999,9,     -999,9,    -999,    -999
33RR20080204,       I06S,      78,          1,         25,         25,2,20080301,       0817,   -65.6334,    32.4636,       3976,   426.2,   0.6987,  34.6585,2,  34.6587,2,    215.5,2,   216.5,2,   91.50,2,   31.48,2,    0.00,2,    2.18,2,   1.340,2,   0.732,2,   0.108,2,    -999,9,    -999,9,     -999,9,     -999,    -999,9,    -999,9,    -999,9,0.697,2,-999,9,-999,9,-999,    -999,9,    -999,1.818,2,-999,9,-999,9,    -999,9,-999,9, 20080301,     0950, -65.6334,  32.4636,    -999,-999,9,     -999,9,     -999,9,     -999,9,     -999,9,     -999,9,     -999,9,-999,9,     -999,9,     -999,9,     -999,9,    -999,    -999
33RR20080204,       I06S,      78,          1,         24,         24,2,20080301,       0817,   -65.6334,    32.4636,       3976,   476.2,   0.6952,  34.6660,2,  34.6654,2,    214.9,2,   215.7,2,   93.34,2,   31.48,2,    0.00,2,    2.18,2,   1.247,2,   0.679,2,   0.095,2,    -999,9,  2348.8,2,   7.7855,2,    13.00,    -999,9,    -999,9,    -999,9,0.6965,2,-999,9,-999,9,-999,    -999,9,    -999,1.703,2,-999,9,-999,9,    -999,9,-999,9, 20080301,     0948, -65.6334,  32.4637,    -999,-999,9,     -999,9,     -999,9,     -999,9,     -999,9,     -999,9,     -999,9,-999,9,     -999,9,     -999,9,     -999,9,    -999,    -999
33RR20080204,       I06S,      78,          1,         23,         23,2,20080301,       0817,   -65.6334,    32.4636,       3976,   526.5,   0.6889,  34.6718,2,  34.6718,2,    215.2,2,   215.1,2,   95.58,2,   31.48,2,    0.00,2,    2.19,2,   1.156,2,   0.639,2,   0.096,2,    -999,9,    -999,9,     -999,9,     -999,    -999,9,    -999,9,    -999,9,0.6897,2,-999,9,-999,9,-999,    -999,9,    -999,1.565,2,-999,9,-999,9,    -999,9,-999,9, 20080301,     0946, -65.6334,  32.4637,    -999,-999,9,     -999,9,     -999,9,     -999,9,     -999,9,     -999,9,     -999,9,-999,9,     -999,9,     -999,9,     -999,9,    -999,    -999
33RR20080204,       I06S,      78,          1,         22,         22,2,20080301,       0817,   -65.6334,    32.4636,       3976,   646.8,   0.6784,  34.6789,2,  34.6813,2,    212.6,2,   213.9,2,   98.84,2,   31.57,2,    0.00,2,    2.19,2,   0.974,2,   0.515,2,   0.088,2,    -999,9,    -999,9,     -999,9,     -999,    -999,9,    -999,9,    -999,9,0.6785,2,-999,9,-999,9,-999,    -999,9,    -999,1.36,2,-999,9,-999,9,    -999,9,-999,9, 20080301,     0943, -65.6334,  32.4636,    -999,-999,9,     -999,9,     -999,9,     -999,9,     -999,9,     -999,9,     -999,9,-999,9,     -999,9,     -999,9,     -999,9,    -999,    -999
33RR20080204,       I06S,      78,          1,         21,         21,2,20080301,       0817,   -65.6334,    32.4636,       3976,   748.1,   0.6813,  34.6848,2,  34.6866,2,    212.4,2,   212.2,2,  102.31,2,   31.67,2,    0.00,2,    2.19,2,   0.813,2,   0.442,2,   0.062,2,    -999,9,  2352.2,2,   7.7863,2,    13.00,    -999,9,    -999,9,    -999,9,0.6797,2,-999,9,-999,9,-999,    -999,9,    -999,1.279,2,-999,9,-999,9,    -999,9,-999,9, 20080301,     0941, -65.6334,  32.4636,    -999,-999,9,     -999,9,     -999,9,     -999,9,     -999,9,     -999,9,     -999,9,-999,9,     -999,9,     -999,9,     -999,9,    -999,    -999
33RR20080204,       I06S,      78,          1,         20,         20,2,20080301,       0817,   -65.6334,    32.4636,       3976,   853.7,   0.6264,  34.6868,2,  34.6872,2,    213.7,2,   211.9,2,  105.59,2,   31.83,2,    0.00,2,    2.21,2,   0.727,2,   0.399,2,   0.057,2,    -999,9,    -999,9,     -999,9,     -999,    -999,9,    -999,9,    -999,9,0.6236,2,-999,9,-999,9,-999,    -999,9,    -999,1.183,2,-999,9,-999,9,    -999,9,-999,9, 20080301,     0938, -65.6334,  32.4636,    -999,-999,9,     -999,9,     -999,9,     -999,9,     -999,9,     -999,9,     -999,9,-999,9,     -999,9,     -999,9,     -999,9,    -999,    -999
33RR20080204,       I06S,      78,          1,         19,         19,2,20080301,       0817,   -65.6334,    32.4636,       3976,   954.3,   0.5330,  34.6818,2,  34.6828,2,    212.8,2,   213.2,2,  107.43,2,   31.83,2,    0.00,2,    2.21,2,   0.757,2,   0.402,2,   0.053,2,    -999,9,    -999,9,     -999,9,     -999,    -999,9,    -999,9,    -999,9,0.5328,2,-999,9,-999,9,-999,    -999,9,    -999,1.297,2,-999,9,-999,9,    -999,9,-999,9, 20080301,     0934, -65.6334,  32.4637,    -999,-999,9,     -999,9,     -999,9,     -999,9,     -999,9,     -999,9,     -999,9,-999,9,     -999,9,     -999,9,     -999,9,    -999,    -999
33RR20080204,       I06S,      78,          1,         18,         18,2,20080301,       0817,   -65.6334,    32.4636,       3976,  1055.0,   0.4926,  34.6815,2,  34.6824,2,    214.7,2,   213.2,2,  109.69,2,   32.02,2,    0.00,2,    2.22,2,   0.682,2,   0.379,2,   0.048,2,    -999,9,  2354.3,2,   7.7842,4,    13.00,    -999,9,    -999,9,    -999,9,0.4922,2,-999,9,-999,9,-999,    -999,9,    -999,1.109,2,-999,9,-999,9,    -999,9,-999,9, 20080301,     0932, -65.6334,  32.4636,    -999,-999,9,     -999,9,     -999,9,     -999,9,     -999,9,     -999,9,     -999,9,-999,9,     -999,9,     -999,9,     -999,9,    -999,    -999
33RR20080204,       I06S,      78,          1,         17,         17,2,20080301,       0817,   -65.6334,    32.4636,       3976,  1156.0,   0.4164,  34.6775,2,  34.6799,2,    215.9,2,   215.4,2,  111.12,2,   32.12,2,    0.00,2,    2.22,2,   0.722,2,   0.395,2,   0.049,2,    -999,9,    -999,9,     -999,9,     -999,    -999,9,    -999,9,    -999,9,0.4166,2,-999,9,-999,9,-999,    -999,9,    -999,1.182,2,-999,9,-999,9,    -999,9,-999,9, 20080301,     0928, -65.6334,  32.4637,    -999,-999,9,     -999,9,     -999,9,     -999,9,     -999,9,     -999,9,     -999,9,-999,9,     -999,9,     -999,9,     -999,9,    -999,    -999
33RR20080204,       I06S,      78,          1,         16,         16,2,20080301,       0817,   -65.6334,    32.4636,       3976,  1256.0,   0.3952,  34.6771,2,  34.6802,2,    216.3,2,   214.1,2,  113.99,2,   32.28,2,    0.00,2,    2.23,2,   0.614,2,   0.338,2,   0.045,2,    -999,9,    -999,9,     -999,9,     -999,    -999,9,    -999,9,    -999,9,0.3958,2,-999,9,-999,9,-999,    -999,9,    -999,0.996,2,-999,9,-999,9,    -999,9,-999,9, 20080301,     0925, -65.6334,  32.4636,    -999,-999,9,     -999,9,     -999,9,     -999,9,     -999,9,     -999,9,     -999,9,-999,9,     -999,9,     -999,9,     -999,9,    -999,    -999
33RR20080204,       I06S,      78,          1,         15,         15,2,20080301,       0817,   -65.6334,    32.4636,       3976,  1356.7,   0.3320,  34.6744,2,  34.6769,2,    216.5,2,   215.7,2,  114.82,2,   32.32,2,    0.00,2,    2.24,2,   0.637,2,   0.354,2,   0.039,2,    -999,9,  2354.8,2,   7.7812,2,    13.00,    -999,9,    -999,9,    -999,9,0.3325,2,-999,9,-999,9,-999,    -999,9,    -999,1.022,2,-999,9,-999,9,    -999,9,-999,9, 20080301,     0922, -65.6334,  32.4636,    -999,-999,9,     -999,9,     -999,9,     -999,9,     -999,9,     -999,9,     -999,9,-999,9,     -999,9,     -999,9,     -999,9,    -999,    -999
33RR20080204,       I06S,      78,          1,         14,         14,2,20080301,       0817,   -65.6334,    32.4636,       3976,  1458.9,   0.2910,  34.6745,2,  34.6779,2,    216.6,2,   215.6,2,  117.50,2,   32.37,2,    0.00,2,    2.24,2,   0.564,2,   0.312,2,   0.033,2,    -999,9,    -999,9,     -999,9,     -999,    -999,9,    -999,9,    -999,9,0.2915,2,-999,9,-999,9,-999,    -999,9,    -999,0.911,2,-999,9,-999,9,    -999,9,-999,9, 20080301,     0919, -65.6334,  32.4636,    -999,-999,9,     -999,9,     -999,9,     -999,9,     -999,9,     -999,9,     -999,9,-999,9,     -999,9,     -999,9,     -999,9,    -999,    -999
33RR20080204,       I06S,      78,          1,         13,         13,2,20080301,       0817,   -65.6334,    32.4636,       3976,  1559.2,   0.2535,  34.6708,3,  34.6767,2,    216.8,2,   216.8,2,  119.34,2,   32.42,2,    0.00,2,    2.25,2,   0.509,2,   0.280,2,   0.038,2,    -999,9,    -999,9,     -999,9,     -999,    -999,9,    -999,9,    -999,9,0.2532,2,-999,9,-999,9,-999,    -999,9,    -999,0.91,2,-999,9,-999,9,    -999,9,-999,9, 20080301,     0916, -65.6334,  32.4637,    -999,-999,9,     -999,9,     -999,9,     -999,9,     -999,9,     -999,9,     -999,9,-999,9,     -999,9,     -999,9,     -999,9,    -999,    -999
33RR20080204,       I06S,      78,          1,         12,         12,2,20080301,       0817,   -65.6334,    32.4636,       3976,  1664.9,   0.1896,  34.6701,2,  34.6743,2,    216.2,3,   218.7,2,  119.76,2,   32.47,2,    0.00,2,    2.25,2,   0.552,2,   0.300,2,   0.041,2,    -999,9,  2356.8,2,   7.7823,4,    13.00,    -999,9,    -999,9,    -999,9,0.1901,2,-999,9,-999,9,-999,    -999,9,    -999,0.999,2,-999,9,-999,9,    -999,9,-999,9, 20080301,     0913, -65.6334,  32.4636,    -999,-999,9,     -999,9,     -999,9,     -999,9,     -999,9,     -999,9,     -999,9,-999,9,     -999,9,     -999,9,     -999,9,    -999,    -999
33RR20080204,       I06S,      78,          1,         11,         11,2,20080301,       0817,   -65.6334,    32.4636,       3976,  1766.9,   0.1566,  34.6701,2,  34.6731,2,    219.3,3,   219.6,2,  120.38,2,   32.47,2,    0.00,2,    2.25,2,   0.554,2,   0.303,2,   0.029,2,    -999,9,    -999,9,     -999,9,     -999,    -999,9,    -999,9,    -999,9,0.157,2,-999,9,-999,9,-999,    -999,9,    -999,0.98,2,-999,9,-999,9,    -999,9,-999,9, 20080301,     0910, -65.6334,  32.4636,    -999,-999,9,     -999,9,     -999,9,     -999,9,     -999,9,     -999,9,     -999,9,-999,9,     -999,9,     -999,9,     -999,9,    -999,    -999
33RR20080204,       I06S,      78,          1,         10,         10,2,20080301,       0817,   -65.6334,    32.4636,       3976,  1867.4,   0.1332,  34.6698,2,  34.6718,2,    219.5,3,   220.3,2,  121.41,2,   32.47,2,    0.00,2,    2.25,2,   0.551,2,   0.307,2,   0.033,2,    -999,9,    -999,9,     -999,9,     -999,    -999,9,    -999,9,    -999,9,0.134,2,-999,9,-999,9,-999,    -999,9,    -999,1.019,2,-999,9,-999,9,    -999,9,-999,9, 20080301,     0907, -65.6334,  32.4636,    -999,-999,9,     -999,9,     -999,9,     -999,9,     -999,9,     -999,9,     -999,9,-999,9,     -999,9,     -999,9,     -999,9,    -999,    -999
33RR20080204,       I06S,      78,          1,          9,          9,2,20080301,       0817,   -65.6334,    32.4636,       3976,  2069.3,   0.0824,  34.6675,2,  34.6692,2,    221.3,3,   222.2,2,  121.82,2,   32.42,2,    0.00,2,    2.25,2,   0.581,2,   0.325,2,   0.031,2,    -999,9,    -999,9,     -999,9,     -999,    -999,9,    -999,9,    -999,9,0.0829,2,-999,9,-999,9,-999,    -999,9,    -999,1.102,2,-999,9,-999,9,    -999,9,-999,9, 20080301,     0902, -65.6334,  32.4636,    -999,-999,9,     -999,9,     -999,9,     -999,9,     -999,9,     -999,9,     -999,9,-999,9,     -999,9,     -999,9,     -999,9,    -999,    -999
33RR20080204,       I06S,      78,          1,          8,          8,2,20080301,       0817,   -65.6334,    32.4636,       3976,  2393.8,  -0.0001,  34.6644,2,  34.6660,2,    226.5,3,   226.9,2,  121.21,2,   32.36,2,    0.00,2,    2.24,2,   0.710,2,   0.391,2,   0.042,2,    -999,9,  2354.4,2,   7.7852,3,    13.00,    -999,9,    -999,9,    -999,9,0.0011,2,-999,9,-999,9,-999,    -999,9,    -999,1.202,2,-999,9,-999,9,    -999,9,-999,9, 20080301,     0855, -65.6334,  32.4636,    -999,-999,9,     -999,9,     -999,9,     -999,9,     -999,9,     -999,9,     -999,9,-999,9,     -999,9,     -999,9,     -999,9,    -999,    -999
33RR20080204,       I06S,      78,          1,          7,          7,2,20080301,       0817,   -65.6334,    32.4636,       3976,  2697.7,  -0.0598,  34.6619,2,  34.6643,2,    229.1,3,   229.1,2,  123.47,2,   32.37,2,    0.00,2,    2.25,2,   0.661,2,   0.365,2,   0.039,2,    -999,9,    -999,9,     -999,9,     -999,    -999,9,    -999,9,    -999,9,-0.059,2,-999,9,-999,9,-999,    -999,9,    -999,1.2,2,-999,9,-999,9,    -999,9,-999,9, 20080301,     0848, -65.6334,  32.4636,    -999,-999,9,     -999,9,     -999,9,     -999,9,     -999,9,     -999,9,     -999,9,-999,9,     -999,9,     -999,9,     -999,9,    -999,    -999