BOTTLE,20220706CCHSIOAMB
EXPOCODE,SECT_ID,STNNBR,CASTNO,SAMPNO,BTLNBR,BTLNBR_FLAG_W,DATE,TIME,LATITUDE,LONGITUDE,DEPTH,CTDPRS,CTDTMP,CTDSAL,CTDSAL_FLAG_W,SALNTY,SALNTY_FLAG_W,CTDOXY,CTDOXY_FLAG_W,OXYGEN,OXYGEN_FLAG_W,SILCAT,SILCAT_FLAG_W,NITRAT,NITRAT_FLAG_W,NITRIT,NITRIT_FLAG_W,PHSPHT,PHSPHT_FLAG_W,CFC-11,CFC-11_FLAG_W,CFC-12,CFC-12_FLAG_W,CFC113,CFC113_FLAG_W,TCARBN,TCARBN_FLAG_W,ALKALI,ALKALI_FLAG_W,PH_SWS,PH_SWS_FLAG_W,PH_TMP,TRITUM,TRITUM_FLAG_W,HELIUM,HELIUM_FLAG_W,DELHE3,DELHE3_FLAG_W,REFTMP,REFTMP_FLAG_W,DELC13,DELC13_FLAG_W,DELC14,DELC14_FLAG_W,C14ERR,NEON,NEON_FLAG_W,NEONER,CCL4,CCL4_FLAG_W,ALUMIN,ALUMIN_FLAG_W,DELO18,DELO18_FLAG_W,DOC,DOC_FLAG_W,TDN,TDN_FLAG_W,BTL_DATE,BTL_TIME,BTL_LAT,BTL_LON,TRITER,DELSI30,DELSI30_FLAG_W,CDOM380,CDOM380_FLAG_W,CDOM325,CDOM325_FLAG_W,CDOMSL,CDOMSL_FLAG_W,CDOM340,CDOM340_FLAG_W,CDOM443,CDOM443_FLAG_W,CDOMSN,CDOMSN_FLAG_W,BLACKC,BLACKC_FLAG_W,CDOM490,CDOM490_FLAG_W,CDOM412,CDOM412_FLAG_W,CDOM555,CDOM555_FLAG_W,DELHER,HELIER
,,,,,,,,,,,METERS,DBAR,ITS-90,PSS-78,,PSS-78,,UMOL/KG,,UMOL/KG,,UMOL/KG,,UMOL/KG,,UMOL/KG,,UMOL/KG,,PMOL/KG,,PMOL/KG,,PMOL/KG,,UMOL/KG,,UMOL/KG,,,,DEG C,TU,,NMOL/KG,,PERCNT,,DEG C,,/MILLE,,/MILLE,,/MILLE,NMOL/KG,,NMOL/KG,PMOL/KG,,NMOL/L,,/MILLE,,UMOL/KG,,UMOL/KG,,,,,,TU,/MILLE,,1/M,,1/M,,1/NM,,1/M,,1/M,,1/NM,,,,1/M,,1/M,,1/M,,PERCNT,NMOL/KG
33RR20080204,       I06S,      79,          1,          4,          4,2,20080301,       1322,   -65.6569,    32.5526,       3497,  2952.0,  -0.0878,  34.6595,2,  34.6622,2,    233.0,2,   232.5,2,  121.83,2,   32.32,2,    0.00,2,    2.24,2,   0.932,2,   0.540,2,   0.066,2,    -999,9,  2354.5,2,   7.7871,2,    13.00,   0.017,2,   1.884,2,    6.16,2,-0.0873,2,-999,9,-999,9,-999,   8.273,2,   0.031,1.547,2,-999,9,-999,9,    -999,9,-999,9, 20080301,     1335, -65.6569,  32.5526,   0.009,-999,9,     -999,9,     -999,9,     -999,9,     -999,9,     -999,9,     -999,9,-999,9,     -999,9,     -999,9,     -999,9,    0.15,   0.007
33RR20080204,       I06S,      79,          1,          3,          3,2,20080301,       1322,   -65.6569,    32.5526,       3497,  3257.1,  -0.1341,  34.6568,2,  34.6610,2,    236.2,2,   235.7,2,  121.82,2,   32.27,2,    0.00,2,    2.23,2,   1.087,2,   0.603,2,   0.081,2,    -999,9,  2353.4,2,   7.7887,2,    13.00,   0.021,2,   1.892,2,    5.87,2,-0.1333,2,-999,9,-999,9,-999,   8.316,2,   0.032,1.727,2,-999,9,-999,9,    -999,9,-999,9, 20080301,     1328, -65.6568,  32.5526,   0.009,-999,9,     -999,9,     -999,9,     -999,9,     -999,9,     -999,9,     -999,9,-999,9,     -999,9,     -999,9,     -999,9,    0.15,   0.007
33RR20080204,       I06S,      79,          1,          1,          1,2,20080301,       1322,   -65.6569,    32.5526,       3497,  3531.7,  -0.1482,  34.6561,2,  34.6578,2,    234.4,3,   237.7,2,  121.81,2,   32.27,2,    0.00,2,    2.24,2,   1.115,2,   0.588,2,   0.085,2,    -999,9,  2352.7,2,   7.7892,2,    13.00,   0.008,2,   1.881,2,    5.61,2,-0.1472,2,-999,9,-999,9,-999,   8.262,2,   0.031,1.723,2,-999,9,-999,9,    -999,9,-999,9, 20080301,     1322, -65.6569,  32.5526,   0.009,-999,9,     -999,9,     -999,9,     -999,9,     -999,9,     -999,9,     -999,9,-999,9,     -999,9,     -999,9,     -999,9,    0.15,   0.007
33RR20080204,       I06S,      79,          1,          2,          2,2,20080301,       1322,   -65.6569,    32.5526,       3497,  3532.0,  -0.1484,  34.6564,2,  34.6580,2,    234.4,3,   237.4,2,  121.81,2,   32.17,2,    0.00,2,    2.24,2,   1.099,2,   0.612,2,   0.087,2,    -999,9,    -999,9,     -999,9,     -999,    -999,9,    -999,9,    -999,9,-0.1475,2,-999,9,-999,9,-999,    -999,9,    -999,1.75,2,-999,9,-999,9,    -999,9,-999,9, 20080301,     1322, -65.6569,  32.5526,    -999,-999,9,     -999,9,     -999,9,     -999,9,     -999,9,     -999,9,     -999,9,-999,9,     -999,9,     -999,9,     -999,9,    -999,    -999