BOTTLE,20220706CCHSIOAMB
EXPOCODE,SECT_ID,STNNBR,CASTNO,SAMPNO,BTLNBR,BTLNBR_FLAG_W,DATE,TIME,LATITUDE,LONGITUDE,DEPTH,CTDPRS,CTDTMP,CTDSAL,CTDSAL_FLAG_W,SALNTY,SALNTY_FLAG_W,CTDOXY,CTDOXY_FLAG_W,OXYGEN,OXYGEN_FLAG_W,SILCAT,SILCAT_FLAG_W,NITRAT,NITRAT_FLAG_W,NITRIT,NITRIT_FLAG_W,PHSPHT,PHSPHT_FLAG_W,CFC-11,CFC-11_FLAG_W,CFC-12,CFC-12_FLAG_W,CFC113,CFC113_FLAG_W,TCARBN,TCARBN_FLAG_W,ALKALI,ALKALI_FLAG_W,PH_SWS,PH_SWS_FLAG_W,PH_TMP,TRITUM,TRITUM_FLAG_W,HELIUM,HELIUM_FLAG_W,DELHE3,DELHE3_FLAG_W,REFTMP,REFTMP_FLAG_W,DELC13,DELC13_FLAG_W,DELC14,DELC14_FLAG_W,C14ERR,NEON,NEON_FLAG_W,NEONER,CCL4,CCL4_FLAG_W,ALUMIN,ALUMIN_FLAG_W,DELO18,DELO18_FLAG_W,DOC,DOC_FLAG_W,TDN,TDN_FLAG_W,BTL_DATE,BTL_TIME,BTL_LAT,BTL_LON,TRITER,DELSI30,DELSI30_FLAG_W,CDOM380,CDOM380_FLAG_W,CDOM325,CDOM325_FLAG_W,CDOMSL,CDOMSL_FLAG_W,CDOM340,CDOM340_FLAG_W,CDOM443,CDOM443_FLAG_W,CDOMSN,CDOMSN_FLAG_W,BLACKC,BLACKC_FLAG_W,CDOM490,CDOM490_FLAG_W,CDOM412,CDOM412_FLAG_W,CDOM555,CDOM555_FLAG_W,DELHER,HELIER
,,,,,,,,,,,METERS,DBAR,ITS-90,PSS-78,,PSS-78,,UMOL/KG,,UMOL/KG,,UMOL/KG,,UMOL/KG,,UMOL/KG,,UMOL/KG,,PMOL/KG,,PMOL/KG,,PMOL/KG,,UMOL/KG,,UMOL/KG,,,,DEG C,TU,,NMOL/KG,,PERCNT,,DEG C,,/MILLE,,/MILLE,,/MILLE,NMOL/KG,,NMOL/KG,PMOL/KG,,NMOL/L,,/MILLE,,UMOL/KG,,UMOL/KG,,,,,,TU,/MILLE,,1/M,,1/M,,1/NM,,1/M,,1/M,,1/NM,,,,1/M,,1/M,,1/M,,PERCNT,NMOL/KG
33RR20080204,       I06S,      12,          4,          4,          4,2,20080208,       1731,   -34.1286,    29.0717,       3827,  2991.0,   2.1969,  34.8124,2,  34.8142,2,    217.3,3,   217.0,2,   68.23,2,   26.90,2,    0.00,2,    1.84,2,   0.032,2,   0.012,2,   0.006,2,    -999,9,  2345.3,2,     -999,9,     -999,    -999,9,    -999,1,    -999,9,-999,9,-999,9,-999,9,-999,    -999,9,    -999,0.043,2,-999,9,-999,9,    -999,9,-999,9, 20080208,     1758, -34.1285,  29.0717,    -999,-999,1,     -999,9,     -999,9,     -999,9,     -999,9,     -999,9,     -999,9,-999,9,     -999,9,     -999,9,     -999,9,    -999,    -999
33RR20080204,       I06S,      12,          4,          3,          3,2,20080208,       1731,   -34.1286,    29.0717,       3827,  3286.4,   1.9249,  34.7956,3,  34.7992,2,    218.6,3,   217.5,2,   77.07,2,   27.60,2,    0.00,2,    1.88,2,   0.043,2,   0.022,2,   0.002,2,    -999,9,  2350.5,2,     -999,9,     -999,    -999,9,    -999,1,    -999,9,-999,9,-999,9,-999,9,-999,    -999,9,    -999,0.007,2,-999,9,-999,9,    -999,9,-999,9, 20080208,     1750, -34.1285,  29.0717,    -999,-999,9,     -999,9,     -999,9,     -999,9,     -999,9,     -999,9,     -999,9,-999,9,     -999,9,     -999,9,     -999,9,    -999,    -999
33RR20080204,       I06S,      12,          4,          2,          2,2,20080208,       1731,   -34.1286,    29.0717,       3827,  3608.5,   1.4728,  34.7644,2,  34.7664,2,    217.5,3,   216.7,2,   92.51,2,   29.10,2,    0.00,2,    2.00,2,   0.058,2,   0.030,2,   0.007,2,    -999,9,  2357.9,2,     -999,9,     -999,    -999,9,    -999,1,    -999,9,-999,9,-999,9,-999,9,-999,    -999,9,    -999,0.205,2,-999,9,-999,9,    -999,9,-999,9, 20080208,     1739, -34.1286,  29.0717,    -999,-999,1,     -999,9,     -999,9,     -999,9,     -999,9,     -999,9,     -999,9,-999,9,     -999,9,     -999,9,     -999,9,    -999,    -999
33RR20080204,       I06S,      12,          4,          1,          1,2,20080208,       1731,   -34.1286,    29.0717,       3827,  3862.8,   1.0648,  34.7386,2,  34.7358,2,    210.8,4,   215.5,2,  107.12,2,   30.56,2,    0.00,2,    2.11,2,   0.103,2,   0.055,2,   0.000,2,    -999,9,  2366.2,2,     -999,9,     -999,    -999,9,    -999,1,    -999,9,-999,9,-999,9,-999,9,-999,    -999,9,    -999,0.244,2,-999,9,-999,9,    -999,9,-999,9, 20080208,     1730, -34.1286,  29.0717,    -999,-999,1,     -999,9,     -999,9,     -999,9,     -999,9,     -999,9,     -999,9,-999,9,     -999,9,     -999,9,     -999,9,    -999,    -999