BOTTLE,20220706CCHSIOAMB
EXPOCODE,SECT_ID,STNNBR,CASTNO,SAMPNO,BTLNBR,BTLNBR_FLAG_W,DATE,TIME,LATITUDE,LONGITUDE,DEPTH,CTDPRS,CTDTMP,CTDSAL,CTDSAL_FLAG_W,SALNTY,SALNTY_FLAG_W,CTDOXY,CTDOXY_FLAG_W,OXYGEN,OXYGEN_FLAG_W,SILCAT,SILCAT_FLAG_W,NITRAT,NITRAT_FLAG_W,NITRIT,NITRIT_FLAG_W,PHSPHT,PHSPHT_FLAG_W,CFC-11,CFC-11_FLAG_W,CFC-12,CFC-12_FLAG_W,CFC113,CFC113_FLAG_W,TCARBN,TCARBN_FLAG_W,ALKALI,ALKALI_FLAG_W,PH_SWS,PH_SWS_FLAG_W,PH_TMP,TRITUM,TRITUM_FLAG_W,HELIUM,HELIUM_FLAG_W,DELHE3,DELHE3_FLAG_W,REFTMP,REFTMP_FLAG_W,DELC13,DELC13_FLAG_W,DELC14,DELC14_FLAG_W,C14ERR,NEON,NEON_FLAG_W,NEONER,CCL4,CCL4_FLAG_W,ALUMIN,ALUMIN_FLAG_W,DELO18,DELO18_FLAG_W,DOC,DOC_FLAG_W,TDN,TDN_FLAG_W,BTL_DATE,BTL_TIME,BTL_LAT,BTL_LON,TRITER,DELSI30,DELSI30_FLAG_W,CDOM380,CDOM380_FLAG_W,CDOM325,CDOM325_FLAG_W,CDOMSL,CDOMSL_FLAG_W,CDOM340,CDOM340_FLAG_W,CDOM443,CDOM443_FLAG_W,CDOMSN,CDOMSN_FLAG_W,BLACKC,BLACKC_FLAG_W,CDOM490,CDOM490_FLAG_W,CDOM412,CDOM412_FLAG_W,CDOM555,CDOM555_FLAG_W,DELHER,HELIER
,,,,,,,,,,,METERS,DBAR,ITS-90,PSS-78,,PSS-78,,UMOL/KG,,UMOL/KG,,UMOL/KG,,UMOL/KG,,UMOL/KG,,UMOL/KG,,PMOL/KG,,PMOL/KG,,PMOL/KG,,UMOL/KG,,UMOL/KG,,,,DEG C,TU,,NMOL/KG,,PERCNT,,DEG C,,/MILLE,,/MILLE,,/MILLE,NMOL/KG,,NMOL/KG,PMOL/KG,,NMOL/L,,/MILLE,,UMOL/KG,,UMOL/KG,,,,,,TU,/MILLE,,1/M,,1/M,,1/NM,,1/M,,1/M,,1/NM,,,,1/M,,1/M,,1/M,,PERCNT,NMOL/KG
33RR20080204,       I06S,      30,          1,          7,          7,2,20080214,       1653,   -41.9933,    30.0043,       5245,  3918.7,   1.2422,  34.7448,2,  34.7458,2,    215.3,2,   216.0,2,  100.91,2,   30.02,2,    0.00,2,    2.07,2,   0.076,2,   0.044,2,   0.007,2,    -999,9,    -999,9,     -999,9,     -999,    -999,9,    -999,9,    -999,9,1.2418,2,-999,9,-999,9,-999,    -999,9,    -999,0.521,2,-999,9,-999,9,    -999,9,-999,9, 20080214,     1730, -41.9900,  30.0077,    -999,-999,9,     -999,9,     -999,9,     -999,9,     -999,9,     -999,9,     -999,9,-999,9,     -999,9,     -999,9,     -999,9,    -999,    -999
33RR20080204,       I06S,      30,          1,          6,          6,2,20080214,       1653,   -41.9933,    30.0043,       5245,  4227.9,   0.9888,  34.7243,2,  34.7255,2,    216.7,2,   216.6,2,  109.75,2,   30.87,2,    0.00,2,    2.14,2,   0.103,2,   0.060,2,   0.008,2,    -999,9,    -999,9,     -999,9,     -999,    -999,9,    -999,9,    -999,9,0.9885,2,-999,9,-999,9,-999,    -999,9,    -999,0.697,2,-999,9,-999,9,    -999,9,-999,9, 20080214,     1723, -41.9906,  30.0066,    -999,-999,9,     -999,9,     -999,9,     -999,9,     -999,9,     -999,9,     -999,9,-999,9,     -999,9,     -999,9,     -999,9,    -999,    -999
33RR20080204,       I06S,      30,          1,          5,          5,2,20080214,       1653,   -41.9933,    30.0043,       5245,  4534.8,   0.6722,  34.6980,2,  34.6984,2,    217.7,2,   217.1,2,  120.64,2,   31.98,2,    0.00,2,    2.22,2,   0.177,2,   0.098,2,   0.011,2,    -999,9,  2363.4,2,     -999,9,     -999,    -999,9,    -999,9,    -999,9,0.6716,2,-999,9,-999,9,-999,    -999,9,    -999,0.913,2,-999,9,-999,9,    -999,9,-999,9, 20080214,     1716, -41.9911,  30.0058,    -999,-999,9,     -999,9,     -999,9,     -999,9,     -999,9,     -999,9,     -999,9,-999,9,     -999,9,     -999,9,     -999,9,    -999,    -999
33RR20080204,       I06S,      30,          1,          4,          4,2,20080214,       1653,   -41.9933,    30.0043,       5245,  4741.0,   0.4735,  34.6849,2,  34.6864,2,    220.9,2,   220.6,2,  125.48,2,   32.33,2,    0.00,2,    2.24,2,   0.239,2,   0.134,2,   0.020,2,    -999,9,  2364.5,2,     -999,9,     -999,    -999,9,    -999,9,    -999,9,0.4733,2,-999,9,-999,9,-999,    -999,9,    -999,1.148,2,-999,9,-999,9,    -999,9,-999,9, 20080214,     1711, -41.9915,  30.0051,    -999,-999,9,     -999,9,     -999,9,     -999,9,     -999,9,     -999,9,     -999,9,-999,9,     -999,9,     -999,9,     -999,9,    -999,    -999
33RR20080204,       I06S,      30,          1,          3,          3,2,20080214,       1653,   -41.9933,    30.0043,       5245,  4946.8,   0.3281,  34.6744,2,  34.6749,2,    223.3,2,   223.0,2,  129.12,2,   32.58,2,    0.00,2,    2.25,2,   0.314,2,   0.171,2,   0.019,2,    -999,9,  2360.7,2,     -999,9,     -999,    -999,9,    -999,9,    -999,9,0.3279,2,-999,9,-999,9,-999,    -999,9,    -999,1.289,2,-999,9,-999,9,    -999,9,-999,9, 20080214,     1705, -41.9921,  30.0047,    -999,-999,9,     -999,9,     -999,9,     -999,9,     -999,9,     -999,9,     -999,9,-999,9,     -999,9,     -999,9,     -999,9,    -999,    -999
33RR20080204,       I06S,      30,          1,          2,          2,2,20080214,       1653,   -41.9933,    30.0043,       5245,  5153.0,   0.2605,  34.6693,2,  34.6711,2,    225.4,2,   225.0,2,  130.13,2,   32.68,2,    0.00,2,    2.26,2,   0.362,2,   0.192,2,   0.030,2,    -999,9,  2360.4,2,     -999,9,     -999,    -999,9,    -999,9,    -999,9,0.2604,2,-999,9,-999,9,-999,    -999,9,    -999,1.372,2,-999,9,-999,9,    -999,9,-999,9, 20080214,     1700, -41.9927,  30.0044,    -999,-999,9,     -999,9,     -999,9,     -999,9,     -999,9,     -999,9,     -999,9,-999,9,     -999,9,     -999,9,     -999,9,    -999,    -999
33RR20080204,       I06S,      30,          1,          1,          1,2,20080214,       1653,   -41.9933,    30.0043,       5245,  5319.1,   0.2318,  34.6668,2,  34.6706,3,    226.1,2,   226.4,2,  130.32,2,   32.68,2,    0.00,2,    2.27,2,   0.413,2,   0.219,2,   0.065,2,    -999,9,  2358.7,2,     -999,9,     -999,    -999,9,    -999,9,    -999,9,0.2311,2,-999,9,-999,9,-999,    -999,9,    -999,1.554,2,-999,9,-999,9,    -999,9,-999,9, 20080214,     1654, -41.9933,  30.0043,    -999,-999,9,     -999,9,     -999,9,     -999,9,     -999,9,     -999,9,     -999,9,-999,9,     -999,9,     -999,9,     -999,9,    -999,    -999