BOTTLE,20220706CCHSIOAMB
EXPOCODE,SECT_ID,STNNBR,CASTNO,SAMPNO,BTLNBR,BTLNBR_FLAG_W,DATE,TIME,LATITUDE,LONGITUDE,DEPTH,CTDPRS,CTDTMP,CTDSAL,CTDSAL_FLAG_W,SALNTY,SALNTY_FLAG_W,CTDOXY,CTDOXY_FLAG_W,OXYGEN,OXYGEN_FLAG_W,SILCAT,SILCAT_FLAG_W,NITRAT,NITRAT_FLAG_W,NITRIT,NITRIT_FLAG_W,PHSPHT,PHSPHT_FLAG_W,CFC-11,CFC-11_FLAG_W,CFC-12,CFC-12_FLAG_W,CFC113,CFC113_FLAG_W,TCARBN,TCARBN_FLAG_W,ALKALI,ALKALI_FLAG_W,PH_SWS,PH_SWS_FLAG_W,PH_TMP,TRITUM,TRITUM_FLAG_W,HELIUM,HELIUM_FLAG_W,DELHE3,DELHE3_FLAG_W,REFTMP,REFTMP_FLAG_W,DELC13,DELC13_FLAG_W,DELC14,DELC14_FLAG_W,C14ERR,NEON,NEON_FLAG_W,NEONER,CCL4,CCL4_FLAG_W,ALUMIN,ALUMIN_FLAG_W,DELO18,DELO18_FLAG_W,DOC,DOC_FLAG_W,TDN,TDN_FLAG_W,BTL_DATE,BTL_TIME,BTL_LAT,BTL_LON,TRITER,DELSI30,DELSI30_FLAG_W,CDOM380,CDOM380_FLAG_W,CDOM325,CDOM325_FLAG_W,CDOMSL,CDOMSL_FLAG_W,CDOM340,CDOM340_FLAG_W,CDOM443,CDOM443_FLAG_W,CDOMSN,CDOMSN_FLAG_W,BLACKC,BLACKC_FLAG_W,CDOM490,CDOM490_FLAG_W,CDOM412,CDOM412_FLAG_W,CDOM555,CDOM555_FLAG_W,DELHER,HELIER
,,,,,,,,,,,METERS,DBAR,ITS-90,PSS-78,,PSS-78,,UMOL/KG,,UMOL/KG,,UMOL/KG,,UMOL/KG,,UMOL/KG,,UMOL/KG,,PMOL/KG,,PMOL/KG,,PMOL/KG,,UMOL/KG,,UMOL/KG,,,,DEG C,TU,,NMOL/KG,,PERCNT,,DEG C,,/MILLE,,/MILLE,,/MILLE,NMOL/KG,,NMOL/KG,PMOL/KG,,NMOL/L,,/MILLE,,UMOL/KG,,UMOL/KG,,,,,,TU,/MILLE,,1/M,,1/M,,1/NM,,1/M,,1/M,,1/NM,,,,1/M,,1/M,,1/M,,PERCNT,NMOL/KG
33RR20080204,       I06S,       6,          1,         36,         36,2,20080207,       0114,   -33.3304,    28.1755,       2317,     4.2,  27.2187,  35.3635,2,  35.3646,2,    201.5,2,   201.7,2,    2.21,2,   -0.01,2,    0.01,2,    0.10,2,   1.613,2,   1.014,2,   0.094,2,  1985.0,6,  2317.0,2,   8.1740,2,    20.00,    -999,9,    -999,9,    -999,9,-999,9,-999,9,-999,9,-999,    -999,9,    -999,-999,5,-999,9,-999,9,    -999,9,-999,9, 20080207,     0305, -33.3618,  28.1251,    -999,-999,9,     -999,9,     -999,9,     -999,9,     -999,9,     -999,9,     -999,9,-999,9,     -999,9,     -999,9,     -999,9,    -999,    -999
33RR20080204,       I06S,       6,          1,         35,         35,2,20080207,       0114,   -33.3304,    28.1755,       2317,    29.6,  27.2134,  35.3598,2,  35.3622,2,    202.5,2,   201.2,2,    2.00,2,   -0.01,2,    0.00,2,    0.09,2,   1.627,2,   1.004,2,   0.087,2,  1984.6,2,  2315.5,2,     -999,9,     -999,    -999,9,    -999,9,    -999,9,-999,9,-999,9,-999,9,-999,    -999,9,    -999,-999,5,-999,9,-999,9,    -999,9,-999,9, 20080207,     0302, -33.3605,  28.1274,    -999,-999,9,     -999,9,     -999,9,     -999,9,     -999,9,     -999,9,     -999,9,-999,9,     -999,9,     -999,9,     -999,9,    -999,    -999
33RR20080204,       I06S,       6,          1,         34,         34,2,20080207,       0114,   -33.3304,    28.1755,       2317,    52.2,  23.2852,  35.2818,2,  35.2806,2,    199.9,2,   199.8,2,    2.99,2,    0.55,2,    0.11,2,    0.20,2,   1.866,2,   1.168,2,   0.078,2,  2015.1,2,  2311.8,2,     -999,9,     -999,    -999,9,    -999,9,    -999,9,-999,9,-999,9,-999,9,-999,    -999,9,    -999,-999,5,-999,9,-999,9,    -999,9,-999,9, 20080207,     0300, -33.3596,  28.1290,    -999,-999,9,     -999,9,     -999,9,     -999,9,     -999,9,     -999,9,     -999,9,-999,9,     -999,9,     -999,9,     -999,9,    -999,    -999
33RR20080204,       I06S,       6,          1,         33,         33,2,20080207,       0114,   -33.3304,    28.1755,       2317,    87.7,  20.0752,  35.3713,2,  35.3727,2,    158.5,2,   159.3,2,    6.37,2,    7.33,2,    0.04,2,    0.58,2,   1.996,2,   1.234,2,   0.037,2,  2076.7,2,  2316.5,2,     -999,9,     -999,    -999,9,    -999,9,    -999,9,-999,9,-999,9,-999,9,-999,    -999,9,    -999,-999,5,-999,9,-999,9,    -999,9,-999,9, 20080207,     0258, -33.3584,  28.1311,    -999,-999,9,     -999,9,     -999,9,     -999,9,     -999,9,     -999,9,     -999,9,-999,9,     -999,9,     -999,9,     -999,9,    -999,    -999
33RR20080204,       I06S,       6,          1,         32,         32,2,20080207,       0114,   -33.3304,    28.1755,       2317,   113.2,  18.2531,  35.3421,2,  35.3459,2,    153.7,2,   149.2,2,    9.16,2,   10.25,2,    0.02,2,    0.77,2,   2.038,2,   1.237,2,   0.016,2,  2104.8,2,  2319.5,2,     -999,9,     -999,    -999,9,    -999,9,    -999,9,-999,9,-999,9,-999,9,-999,    -999,9,    -999,-999,5,-999,9,-999,9,    -999,9,-999,9, 20080207,     0256, -33.3573,  28.1330,    -999,-999,9,     -999,9,     -999,9,     -999,9,     -999,9,     -999,9,     -999,9,-999,9,     -999,9,     -999,9,     -999,9,    -999,    -999
33RR20080204,       I06S,       6,          1,         31,         31,2,20080207,       0114,   -33.3304,    28.1755,       2317,   163.1,  16.0615,  35.4118,2,  35.4129,2,    173.5,2,   170.6,2,    8.35,2,    9.76,2,    0.01,2,    0.76,2,   2.331,2,   1.394,2,   0.017,2,  2117.0,2,  2324.6,2,     -999,9,     -999,    -999,9,    -999,9,    -999,9,-999,9,-999,9,-999,9,-999,    -999,9,    -999,-999,5,-999,9,-999,9,    -999,9,-999,9, 20080207,     0253, -33.3559,  28.1356,    -999,-999,9,     -999,9,     -999,9,     -999,9,     -999,9,     -999,9,     -999,9,-999,9,     -999,9,     -999,9,     -999,9,    -999,    -999
33RR20080204,       I06S,       6,          1,         30,         30,2,20080207,       0114,   -33.3304,    28.1755,       2317,   214.7,  14.7059,  35.3656,3,  35.3780,2,    181.5,2,   185.0,2,    7.36,2,   10.06,2,    0.01,2,    0.77,2,   2.509,2,   1.492,2,   0.027,2,  2121.0,2,  2324.3,2,     -999,9,     -999,    -999,9,    -999,9,    -999,9,-999,9,-999,9,-999,9,-999,    -999,9,    -999,-999,5,-999,9,-999,9,    -999,9,-999,9, 20080207,     0250, -33.3546,  28.1380,    -999,-999,9,     -999,9,     -999,9,     -999,9,     -999,9,     -999,9,     -999,9,-999,9,     -999,9,     -999,9,     -999,9,    -999,    -999
33RR20080204,       I06S,       6,          1,         29,         29,2,20080207,       0114,   -33.3304,    28.1755,       2317,   274.3,  13.6200,  35.2483,3,  35.2869,2,    190.3,2,   192.5,2,    7.35,2,   11.16,2,    0.01,2,    0.84,2,   2.619,2,   1.553,2,   0.020,2,  2125.8,2,  2319.4,2,     -999,9,     -999,    -999,9,    -999,9,    -999,9,-999,9,-999,9,-999,9,-999,    -999,9,    -999,-999,5,-999,9,-999,9,    -999,9,-999,9, 20080207,     0247, -33.3532,  28.1406,    -999,-999,9,     -999,9,     -999,9,     -999,9,     -999,9,     -999,9,     -999,9,-999,9,     -999,9,     -999,9,     -999,9,    -999,    -999
33RR20080204,       I06S,       6,          1,         28,         28,2,20080207,       0114,   -33.3304,    28.1755,       2317,   323.9,  12.8106,  35.1624,3,  35.1955,2,    192.6,2,   196.5,2,    7.35,2,   12.06,2,    0.01,2,    0.90,2,   2.752,2,   1.594,2,   0.026,2,  2127.3,2,  2316.0,2,     -999,9,     -999,    -999,9,    -999,9,    -999,9,-999,9,-999,9,-999,9,-999,    -999,9,    -999,-999,5,-999,9,-999,9,    -999,9,-999,9, 20080207,     0244, -33.3519,  28.1430,    -999,-999,9,     -999,9,     -999,9,     -999,9,     -999,9,     -999,9,     -999,9,-999,9,     -999,9,     -999,9,     -999,9,    -999,    -999
33RR20080204,       I06S,       6,          1,         27,         27,2,20080207,       0114,   -33.3304,    28.1755,       2317,   374.7,  12.0455,  35.0417,3,  35.0949,2,    197.6,2,   197.0,2,    8.54,2,   13.87,2,    0.01,2,    1.02,2,   2.741,2,   1.543,2,   0.030,2,  2133.9,2,  2312.2,2,     -999,9,     -999,    -999,9,    -999,9,    -999,9,-999,9,-999,9,-999,9,-999,    -999,9,    -999,-999,5,-999,9,-999,9,    -999,9,-999,9, 20080207,     0240, -33.3505,  28.1455,    -999,-999,9,     -999,9,     -999,9,     -999,9,     -999,9,     -999,9,     -999,9,-999,9,     -999,9,     -999,9,     -999,9,    -999,    -999
33RR20080204,       I06S,       6,          1,         26,         26,2,20080207,       0114,   -33.3304,    28.1755,       2317,   427.1,  11.3511,  34.9950,3,  35.0067,2,    200.0,2,   200.5,2,    8.74,2,   14.97,2,    0.01,2,    1.08,2,   2.475,2,   1.523,2,   0.021,2,  2135.4,2,  2309.4,2,     -999,9,     -999,    -999,9,    -999,9,    -999,9,-999,9,-999,9,-999,9,-999,    -999,9,    -999,-999,5,-999,9,-999,9,    -999,9,-999,9, 20080207,     0236, -33.3488,  28.1484,    -999,-999,9,     -999,9,     -999,9,     -999,9,     -999,9,     -999,9,     -999,9,-999,9,     -999,9,     -999,9,     -999,9,    -999,    -999
33RR20080204,       I06S,       6,          1,         25,         25,2,20080207,       0114,   -33.3304,    28.1755,       2317,   474.1,  10.7623,  34.9094,3,  34.9215,2,    217.7,2,   217.6,2,    6.74,2,   14.67,2,    0.01,2,    1.05,2,   3.282,2,   1.641,2,   0.099,2,  2129.3,2,  2304.5,2,     -999,9,     -999,    -999,9,    -999,9,    -999,9,-999,9,-999,9,-999,9,-999,    -999,9,    -999,-999,5,-999,9,-999,9,    -999,9,-999,9, 20080207,     0233, -33.3478,  28.1502,    -999,-999,9,     -999,9,     -999,9,     -999,9,     -999,9,     -999,9,     -999,9,-999,9,     -999,9,     -999,9,     -999,9,    -999,    -999
33RR20080204,       I06S,       6,          1,         24,         24,2,20080207,       0114,   -33.3304,    28.1755,       2317,   521.8,  10.2480,  34.7875,3,  34.8635,2,    199.4,3,   198.3,2,   11.13,2,   17.74,2,    0.01,2,    1.26,2,   2.879,2,   1.434,2,   0.084,2,  1859.0,4,  2304.0,2,     -999,9,     -999,    -999,9,    -999,9,    -999,9,-999,9,-999,9,-999,9,-999,    -999,9,    -999,-999,5,-999,9,-999,9,    -999,9,-999,9, 20080207,     0230, -33.3468,  28.1517,    -999,-999,9,     -999,9,     -999,9,     -999,9,     -999,9,     -999,9,     -999,9,-999,9,     -999,9,     -999,9,     -999,9,    -999,    -999
33RR20080204,       I06S,       6,          1,         23,         23,2,20080207,       0114,   -33.3304,    28.1755,       2317,   642.6,   8.5452,  34.6338,3,  34.6857,2,    158.2,3,   193.9,2,   17.34,2,   22.03,2,    0.01,2,    1.54,2,   2.360,2,   1.181,2,   0.070,2,  2160.8,2,  2300.4,2,     -999,9,     -999,    -999,9,    -999,9,    -999,9,-999,9,-999,9,-999,9,-999,    -999,9,    -999,-999,5,-999,9,-999,9,    -999,9,-999,9, 20080207,     0225, -33.3454,  28.1537,    -999,-999,9,     -999,9,     -999,9,     -999,9,     -999,9,     -999,9,     -999,9,-999,9,     -999,9,     -999,9,     -999,9,    -999,    -999
33RR20080204,       I06S,       6,          1,         22,         22,2,20080207,       0114,   -33.3304,    28.1755,       2317,   741.6,   7.0027,  34.6104,7,  34.6136,2,    155.4,3,   167.8,2,   33.09,2,   27.67,2,    0.00,2,    1.94,2,   1.431,2,   0.713,2,   0.048,2,  2195.8,2,  2309.6,2,     -999,9,     -999,    -999,9,    -999,9,    -999,9,-999,9,-999,9,-999,9,-999,    -999,9,    -999,-999,5,-999,9,-999,9,    -999,9,-999,9, 20080207,     0220, -33.3441,  28.1555,    -999,-999,9,     -999,9,     -999,9,     -999,9,     -999,9,     -999,9,     -999,9,-999,9,     -999,9,     -999,9,     -999,9,    -999,    -999
33RR20080204,       I06S,       6,          1,         21,         21,2,20080207,       0114,   -33.3304,    28.1755,       2317,   848.2,   5.7625,  34.5418,2,  34.5443,2,    146.5,3,   165.7,2,   42.23,2,   30.47,2,    0.00,2,    2.13,2,   1.026,2,   0.520,2,   0.046,2,  2212.1,2,  2314.6,2,     -999,9,     -999,    -999,9,    -999,9,    -999,9,-999,9,-999,9,-999,9,-999,    -999,9,    -999,-999,5,-999,9,-999,9,    -999,9,-999,9, 20080207,     0215, -33.3427,  28.1575,    -999,-999,9,     -999,9,     -999,9,     -999,9,     -999,9,     -999,9,     -999,9,-999,9,     -999,9,     -999,9,     -999,9,    -999,    -999
33RR20080204,       I06S,       6,          1,         20,         20,2,20080207,       0114,   -33.3304,    28.1755,       2317,   948.6,   4.9922,  34.5716,3,  34.5783,2,    147.6,3,   153.7,2,   54.87,2,   32.51,2,    0.00,2,    2.28,2,   0.694,2,   0.354,2,   0.041,2,  2232.5,2,  2326.0,2,     -999,9,     -999,    -999,9,    -999,9,    -999,9,-999,9,-999,9,-999,9,-999,    -999,9,    -999,-999,5,-999,9,-999,9,    -999,9,-999,9, 20080207,     0211, -33.3417,  28.1591,    -999,-999,9,     -999,9,     -999,9,     -999,9,     -999,9,     -999,9,     -999,9,-999,9,     -999,9,     -999,9,     -999,9,    -999,    -999
33RR20080204,       I06S,       6,          1,         12,         12,2,20080207,       0114,   -33.3304,    28.1755,       2317,  1048.0,   4.0637,  34.5870,2,  34.5930,2,    158.2,3,   153.7,2,   65.31,2,   33.59,2,    0.00,2,    2.36,2,   0.416,2,   0.218,2,   0.026,2,  2247.6,2,  2335.8,2,     -999,9,     -999,    -999,9,    -999,9,    -999,9,-999,9,-999,9,-999,9,-999,    -999,9,    -999,-999,5,-999,9,-999,9,    -999,9,-999,9, 20080207,     0208, -33.3408,  28.1606,    -999,-999,9,     -999,9,     -999,9,     -999,9,     -999,9,     -999,9,     -999,9,-999,9,     -999,9,     -999,9,     -999,9,    -999,    -999
33RR20080204,       I06S,       6,          1,         11,         11,2,20080207,       0114,   -33.3304,    28.1755,       2317,  1148.6,   3.5217,  34.6031,2,  34.6069,2,    160.3,3,   159.3,2,   69.82,2,   33.59,2,    0.00,2,    2.35,2,   0.301,2,   0.162,2,   0.025,2,    -999,9,  2339.9,2,     -999,9,     -999,    -999,9,    -999,9,    -999,9,-999,9,-999,9,-999,9,-999,    -999,9,    -999,-999,5,-999,9,-999,9,    -999,9,-999,9, 20080207,     0205, -33.3400,  28.1619,    -999,-999,9,     -999,9,     -999,9,     -999,9,     -999,9,     -999,9,     -999,9,-999,9,     -999,9,     -999,9,     -999,9,    -999,    -999
33RR20080204,       I06S,       6,          1,         10,         10,2,20080207,       0114,   -33.3304,    28.1755,       2317,  1248.1,   3.2630,  34.6598,3,  34.6669,2,    166.8,3,   160.1,2,   75.96,2,   33.02,2,    0.00,2,    2.31,2,   0.155,6,   0.090,6,   0.009,6,    -999,9,    -999,9,     -999,9,     -999,    -999,9,    -999,9,    -999,9,-999,9,-999,9,-999,9,-999,    -999,9,    -999,-999,5,-999,9,-999,9,    -999,9,-999,9, 20080207,     0201, -33.3392,  28.1633,    -999,-999,9,     -999,9,     -999,9,     -999,9,     -999,9,     -999,9,     -999,9,-999,9,     -999,9,     -999,9,     -999,9,    -999,    -999
33RR20080204,       I06S,       6,          1,          9,          9,2,20080207,       0114,   -33.3304,    28.1755,       2317,  1353.8,   3.0336,  34.6926,2,  34.6936,2,    172.2,3,   167.8,2,   75.55,2,   32.24,2,    0.00,2,    2.25,2,   0.107,2,   0.060,2,   0.008,2,    -999,9,    -999,9,     -999,9,     -999,    -999,9,    -999,9,    -999,9,-999,9,-999,9,-999,9,-999,    -999,9,    -999,-999,5,-999,9,-999,9,    -999,9,-999,9, 20080207,     0158, -33.3382,  28.1648,    -999,-999,9,     -999,9,     -999,9,     -999,9,     -999,9,     -999,9,     -999,9,-999,9,     -999,9,     -999,9,     -999,9,    -999,    -999
33RR20080204,       I06S,       6,          1,          8,          8,2,20080207,       0114,   -33.3304,    28.1755,       2317,  1456.0,   2.9408,  34.7045,2,  34.7058,2,    171.7,3,   171.9,2,   75.13,2,   31.78,2,    0.00,2,    2.22,2,   0.094,2,   0.054,2,   0.015,2,    -999,9,  2347.9,2,     -999,9,     -999,    -999,9,    -999,9,    -999,9,-999,9,-999,9,-999,9,-999,    -999,9,    -999,-999,5,-999,9,-999,9,    -999,9,-999,9, 20080207,     0153, -33.3375,  28.1658,    -999,-999,9,     -999,9,     -999,9,     -999,9,     -999,9,     -999,9,     -999,9,-999,9,     -999,9,     -999,9,     -999,9,    -999,    -999
33RR20080204,       I06S,       6,          1,          7,          7,2,20080207,       0114,   -33.3304,    28.1755,       2317,  1562.2,   2.8453,  34.7169,2,  34.7193,2,    168.4,3,   176.8,2,   73.69,2,   31.22,2,    0.00,2,    2.18,2,   0.080,2,   0.048,2,   0.000,2,    -999,9,  2347.9,2,     -999,9,     -999,    -999,9,    -999,9,    -999,9,-999,9,-999,9,-999,9,-999,    -999,9,    -999,-999,5,-999,9,-999,9,    -999,9,-999,9, 20080207,     0149, -33.3370,  28.1665,    -999,-999,9,     -999,9,     -999,9,     -999,9,     -999,9,     -999,9,     -999,9,-999,9,     -999,9,     -999,9,     -999,9,    -999,    -999
33RR20080204,       I06S,       6,          1,          6,          6,2,20080207,       0114,   -33.3304,    28.1755,       2317,  1669.1,   2.7575,  34.7350,2,  34.7366,2,    175.7,3,   183.1,2,   71.84,2,   30.50,2,    0.00,2,    2.12,2,   0.065,2,   0.040,2,   0.003,2,    -999,9,  2347.5,2,     -999,9,     -999,    -999,9,    -999,9,    -999,9,-999,9,-999,9,-999,9,-999,    -999,9,    -999,-999,5,-999,9,-999,9,    -999,9,-999,9, 20080207,     0145, -33.3364,  28.1672,    -999,-999,9,     -999,9,     -999,9,     -999,9,     -999,9,     -999,9,     -999,9,-999,9,     -999,9,     -999,9,     -999,9,    -999,    -999
33RR20080204,       I06S,       6,          1,          5,          5,2,20080207,       0114,   -33.3304,    28.1755,       2317,  1767.5,   2.6981,  34.7484,2,  34.7504,2,    185.0,3,   186.8,2,   71.01,2,   29.99,2,    0.00,2,    2.08,2,   0.052,2,   0.022,2,   0.006,2,    -999,9,  2346.3,2,     -999,9,     -999,    -999,9,    -999,9,    -999,9,-999,9,-999,9,-999,9,-999,    -999,9,    -999,-999,5,-999,9,-999,9,    -999,9,-999,9, 20080207,     0139, -33.3358,  28.1681,    -999,-999,9,     -999,9,     -999,9,     -999,9,     -999,9,     -999,9,     -999,9,-999,9,     -999,9,     -999,9,     -999,9,    -999,    -999
33RR20080204,       I06S,       6,          1,          4,          4,2,20080207,       0114,   -33.3304,    28.1755,       2317,  1863.5,   2.6653,  34.7579,2,  34.7587,2,    182.5,3,   189.2,2,   69.77,2,   29.53,2,    0.00,2,    2.04,2,   0.049,2,   0.025,2,   0.002,2,    -999,9,  2345.9,2,     -999,9,     -999,    -999,9,    -999,9,    -999,9,-999,9,-999,9,-999,9,-999,    -999,9,    -999,-999,5,-999,9,-999,9,    -999,9,-999,9, 20080207,     0133, -33.3348,  28.1697,    -999,-999,9,     -999,9,     -999,9,     -999,9,     -999,9,     -999,9,     -999,9,-999,9,     -999,9,     -999,9,     -999,9,    -999,    -999
33RR20080204,       I06S,       6,          1,          3,          3,2,20080207,       0114,   -33.3304,    28.1755,       2317,  2065.6,   2.5964,  34.7743,2,  34.7766,2,    193.5,3,   197.2,2,   67.72,2,   28.72,2,    0.00,2,    1.98,2,   0.041,2,   0.020,2,   0.003,2,    -999,9,  2345.2,2,     -999,9,     -999,    -999,9,    -999,9,    -999,9,-999,9,-999,9,-999,9,-999,    -999,9,    -999,-999,5,-999,9,-999,9,    -999,9,-999,9, 20080207,     0125, -33.3326,  28.1728,    -999,-999,9,     -999,9,     -999,9,     -999,9,     -999,9,     -999,9,     -999,9,-999,9,     -999,9,     -999,9,     -999,9,    -999,    -999
33RR20080204,       I06S,       6,          1,          2,          2,9,20080207,       0114,   -33.3304,    28.1755,       2317,  2176.5,   2.5232,  34.7876,2,     -999,9,     -999,9,    -999,9,    -999,9,    -999,9,    -999,9,    -999,9,    -999,9,    -999,9,    -999,9,    -999,9,    -999,9,     -999,9,     -999,    -999,9,    -999,9,    -999,9,-999,9,-999,9,-999,9,-999,    -999,9,    -999,-999,9,-999,9,-999,9,    -999,9,-999,9, 20080207,     0121, -33.3315,  28.1742,    -999,-999,9,     -999,9,     -999,9,     -999,9,     -999,9,     -999,9,     -999,9,-999,9,     -999,9,     -999,9,     -999,9,    -999,    -999
33RR20080204,       I06S,       6,          1,          1,          1,2,20080207,       0114,   -33.3304,    28.1755,       2317,  2332.3,   2.4963,  34.7960,3,  34.8027,2,    206.0,3,   206.1,2,   65.05,2,   27.65,2,    0.00,2,    1.90,2,   0.038,2,   0.020,2,   0.011,2,    -999,9,  2343.8,2,     -999,9,     -999,    -999,9,    -999,9,    -999,9,-999,9,-999,9,-999,9,-999,    -999,9,    -999,-999,5,-999,9,-999,9,    -999,9,-999,9, 20080207,     0114, -33.3304,  28.1754,    -999,-999,9,     -999,9,     -999,9,     -999,9,     -999,9,     -999,9,     -999,9,-999,9,     -999,9,     -999,9,     -999,9,    -999,    -999