BOTTLE,20220706CCHSIOAMB
EXPOCODE,SECT_ID,STNNBR,CASTNO,SAMPNO,BTLNBR,BTLNBR_FLAG_W,DATE,TIME,LATITUDE,LONGITUDE,DEPTH,CTDPRS,CTDTMP,CTDSAL,CTDSAL_FLAG_W,SALNTY,SALNTY_FLAG_W,CTDOXY,CTDOXY_FLAG_W,OXYGEN,OXYGEN_FLAG_W,SILCAT,SILCAT_FLAG_W,NITRAT,NITRAT_FLAG_W,NITRIT,NITRIT_FLAG_W,PHSPHT,PHSPHT_FLAG_W,CFC-11,CFC-11_FLAG_W,CFC-12,CFC-12_FLAG_W,CFC113,CFC113_FLAG_W,TCARBN,TCARBN_FLAG_W,ALKALI,ALKALI_FLAG_W,PH_SWS,PH_SWS_FLAG_W,PH_TMP,TRITUM,TRITUM_FLAG_W,HELIUM,HELIUM_FLAG_W,DELHE3,DELHE3_FLAG_W,REFTMP,REFTMP_FLAG_W,DELC13,DELC13_FLAG_W,DELC14,DELC14_FLAG_W,C14ERR,NEON,NEON_FLAG_W,NEONER,CCL4,CCL4_FLAG_W,ALUMIN,ALUMIN_FLAG_W,DELO18,DELO18_FLAG_W,DOC,DOC_FLAG_W,TDN,TDN_FLAG_W,BTL_DATE,BTL_TIME,BTL_LAT,BTL_LON,TRITER,DELSI30,DELSI30_FLAG_W,CDOM380,CDOM380_FLAG_W,CDOM325,CDOM325_FLAG_W,CDOMSL,CDOMSL_FLAG_W,CDOM340,CDOM340_FLAG_W,CDOM443,CDOM443_FLAG_W,CDOMSN,CDOMSN_FLAG_W,BLACKC,BLACKC_FLAG_W,CDOM490,CDOM490_FLAG_W,CDOM412,CDOM412_FLAG_W,CDOM555,CDOM555_FLAG_W,DELHER,HELIER
,,,,,,,,,,,METERS,DBAR,ITS-90,PSS-78,,PSS-78,,UMOL/KG,,UMOL/KG,,UMOL/KG,,UMOL/KG,,UMOL/KG,,UMOL/KG,,PMOL/KG,,PMOL/KG,,PMOL/KG,,UMOL/KG,,UMOL/KG,,,,DEG C,TU,,NMOL/KG,,PERCNT,,DEG C,,/MILLE,,/MILLE,,/MILLE,NMOL/KG,,NMOL/KG,PMOL/KG,,NMOL/L,,/MILLE,,UMOL/KG,,UMOL/KG,,,,,,TU,/MILLE,,1/M,,1/M,,1/NM,,1/M,,1/M,,1/NM,,,,1/M,,1/M,,1/M,,PERCNT,NMOL/KG
33RR20080204,       I06S,      73,          2,         36,         36,2,20080228,       1947,   -63.4988,    29.9976,       5136,     3.3,   0.5406,  33.8412,2,  33.8412,2,    338.1,2,   338.1,2,   53.83,2,   26.27,2,    0.35,2,    1.85,2,   6.170,2,   3.598,2,   0.474,2,  2166.9,2,  2294.9,2,   7.8770,2,    13.00,   0.127,2,    -999,1,    -999,9,0.5398,2,-999,9,-999,9,-999,    -999,9,    -999,9.652,2,-999,9,-999,9,   45.27,2,-999,1, 20080228,     2206, -63.4988,  29.9976,   0.009,-999,9,     -999,9,     -999,9,     -999,9,     -999,9,     -999,9,     -999,9,-999,9,     -999,9,     -999,9,     -999,9,    -999,    -999
33RR20080204,       I06S,      73,          2,         35,         35,2,20080228,       1947,   -63.4988,    29.9976,       5136,    25.7,   0.5400,  33.8492,2,  33.8502,2,    338.8,2,   338.7,2,   53.83,2,   26.33,2,    0.35,2,    1.85,2,   6.262,2,   3.543,2,   0.475,2,  2169.1,2,  2295.5,2,   7.8767,2,    13.00,    -999,9,    -999,9,    -999,9,0.5393,2,-999,9,-999,9,-999,    -999,9,    -999,9.571,2,-999,9,-999,9,   40.78,2,-999,1, 20080228,     2203, -63.4988,  29.9976,    -999,-999,1,     -999,9,     -999,9,     -999,9,     -999,9,     -999,9,     -999,9,-999,1,     -999,9,     -999,9,     -999,9,    -999,    -999
33RR20080204,       I06S,      73,          2,         34,         34,2,20080228,       1947,   -63.4988,    29.9976,       5136,    41.0,   0.4680,  33.8552,2,  33.8561,2,    338.6,2,   338.0,2,   53.63,2,   26.39,2,    0.34,2,    1.85,2,   6.163,2,   3.593,2,   0.462,2,  2167.8,6,  2295.7,2,   7.8764,2,    13.00,    -999,9,    -999,9,    -999,9,0.4947,2,-999,9,-999,9,-999,    -999,9,    -999,8.887,2,-999,9,-999,9,   40.00,2,-999,1, 20080228,     2202, -63.4988,  29.9976,    -999,-999,9,     -999,9,     -999,9,     -999,9,     -999,9,     -999,9,     -999,9,-999,9,     -999,9,     -999,9,     -999,9,    -999,    -999
33RR20080204,       I06S,      73,          2,         33,         33,2,20080228,       1947,   -63.4988,    29.9976,       5136,    77.5,  -1.6405,  34.1467,2,  34.1460,2,    338.9,2,   337.6,2,   58.05,2,   27.66,2,    0.26,2,    1.95,2,   6.129,2,   3.535,2,   0.461,2,  2195.4,2,  2314.1,2,   7.8493,2,    13.00,   0.099,2,   1.839,2,   -1.29,2,-1.6416,2,1.16,2,-105.1,2,3.3,   8.231,2,   0.031,8.181,2,-999,9,-999,9,   51.22,4,-999,1, 20080228,     2159, -63.4988,  29.9976,   0.009,-999,1,     -999,9,     -999,9,     -999,9,     -999,9,     -999,9,     -999,9,-999,9,     -999,9,     -999,9,     -999,9,    0.15,   0.007
33RR20080204,       I06S,      73,          2,         32,         32,2,20080228,       1947,   -63.4988,    29.9976,       5136,   102.6,  -1.2475,  34.2260,2,  34.2131,2,    324.3,2,   317.0,2,   62.08,2,   28.80,2,    0.22,2,    2.01,2,   5.529,2,   3.190,2,   0.426,2,  2206.1,2,  2316.7,2,   7.8299,2,    13.00,    -999,9,    -999,9,    -999,9,-1.241,2,-999,9,-999,9,-999,    -999,9,    -999,6.693,2,-999,9,-999,9,   41.85,2,-999,1, 20080228,     2157, -63.4988,  29.9976,    -999,-999,1,     -999,9,     -999,9,     -999,9,     -999,9,     -999,9,     -999,9,-999,9,     -999,9,     -999,9,     -999,9,    -999,    -999
33RR20080204,       I06S,      73,          2,         31,         31,2,20080228,       1947,   -63.4988,    29.9976,       5136,   152.6,   1.0227,  34.5691,2,  34.5701,2,    218.3,2,   206.7,2,   86.16,2,   33.23,2,    0.01,2,    2.30,2,   1.803,2,   1.012,2,   0.155,2,  2250.2,2,  2338.8,2,   7.7493,2,    13.00,   0.014,2,   1.885,2,    7.21,2,1.0238,2,0.46,2,-141.4,2,2.3,   8.201,2,   0.031,2.723,2,-999,9,-999,9,   37.95,2,-999,1, 20080228,     2155, -63.4988,  29.9976,   0.009,-999,1,     -999,9,     -999,9,     -999,9,     -999,9,     -999,9,     -999,9,-999,9,     -999,9,     -999,9,     -999,9,    0.15,   0.007
33RR20080204,       I06S,      73,          2,         30,         30,2,20080228,       1947,   -63.4988,    29.9976,       5136,   203.3,   1.3099,  34.6397,2,  34.6447,2,    197.0,2,   193.4,2,   89.40,2,   32.94,2,    0.00,2,    2.28,2,   1.020,2,   0.572,2,   0.081,2,  2256.3,2,  2344.6,2,   7.7544,2,    13.00,    -999,9,    -999,9,    -999,9,1.3172,2,-999,9,-999,9,-999,    -999,9,    -999,1.646,2,-999,9,-999,9,   39.12,2,-999,1, 20080228,     2152, -63.4988,  29.9976,    -999,-999,1,     -999,9,     -999,9,     -999,9,     -999,9,     -999,9,     -999,9,-999,1,     -999,9,     -999,9,     -999,9,    -999,    -999
33RR20080204,       I06S,      73,          2,         29,         29,2,20080228,       1947,   -63.4988,    29.9976,       5136,   253.1,   1.2860,  34.6624,2,  34.6646,2,    193.2,2,   193.1,2,   91.84,2,   32.74,2,    0.00,2,    2.25,2,   0.880,2,   0.488,2,   0.077,2,  2254.6,2,  2345.8,2,   7.7604,2,    13.00,  -0.002,2,   1.868,2,    9.09,2,1.2865,2,0.48,2,-145.7,2,2.9,   8.122,2,   0.031,1.427,2,-999,9,-999,9,   44.98,3,-999,1, 20080228,     2150, -63.4988,  29.9976,   0.009,-999,1,     -999,9,     -999,9,     -999,9,     -999,9,     -999,9,     -999,9,-999,9,     -999,9,     -999,9,     -999,9,    0.15,   0.007
33RR20080204,       I06S,      73,          2,         28,         28,2,20080228,       1947,   -63.4988,    29.9976,       5136,   302.8,   1.2515,  34.6761,2,  34.6765,2,    193.7,2,   194.7,2,   93.88,2,   32.54,2,    0.00,2,    2.24,2,   0.792,2,   0.446,2,   0.065,2,  2254.6,2,  2348.6,2,   7.7624,2,    13.00,    -999,9,    -999,9,    -999,9,1.2515,2,0.37,2,-149.7,2,2.3,    -999,9,    -999,1.31,2,-999,9,-999,9,   38.63,2,-999,1, 20080228,     2148, -63.4988,  29.9976,    -999,-999,1,     -999,9,     -999,9,     -999,9,     -999,9,     -999,9,     -999,9,-999,9,     -999,9,     -999,9,     -999,9,    -999,    -999
33RR20080204,       I06S,      73,          2,         27,         27,2,20080228,       1947,   -63.4988,    29.9976,       5136,   353.4,   1.2274,  34.6870,2,  34.6868,2,    194.7,2,   194.7,2,   95.30,2,   32.34,2,    0.00,2,    2.23,2,   0.715,2,   0.405,2,   0.060,2,  2256.7,2,  2349.8,2,   7.7683,2,    13.00,   0.001,2,   1.867,2,    9.28,2,1.2286,2,0.46,2,-150.7,2,2.3,   8.127,2,   0.031,1.234,2,-999,9,-999,9,    -999,9,-999,9, 20080228,     2145, -63.4988,  29.9976,   0.009,-999,9,     -999,9,     -999,9,     -999,9,     -999,9,     -999,9,     -999,9,-999,9,     -999,9,     -999,9,     -999,9,    0.15,   0.007
33RR20080204,       I06S,      73,          2,         26,         26,2,20080228,       1947,   -63.4988,    29.9976,       5136,   403.7,   1.1894,  34.6929,2,  34.6933,2,    196.0,2,   196.4,2,   96.94,2,   32.09,2,    0.00,2,    2.22,2,   0.639,6,   0.367,6,   0.046,6,  2250.0,2,  2350.0,2,   7.7726,2,    13.00,    -999,9,    -999,9,    -999,9,1.189,2,0.44,2,-155.3,2,2.3,    -999,9,    -999,1.107,6,-999,9,-999,9,   41.27,2,-999,1, 20080228,     2143, -63.4988,  29.9975,    -999,-999,1,     -999,9,     -999,9,     -999,9,     -999,9,     -999,9,     -999,9,-999,9,     -999,9,     -999,9,     -999,9,    -999,    -999
33RR20080204,       I06S,      73,          2,         25,         25,2,20080228,       1947,   -63.4988,    29.9976,       5136,   453.3,   1.1554,  34.6988,2,  34.6996,2,    197.9,2,   198.4,2,   98.16,2,   32.04,2,    0.00,2,    2.21,2,   0.588,2,   0.321,2,   0.040,2,  2249.3,2,  2351.3,2,   7.7759,2,    13.00,   0.004,2,   1.860,2,    9.02,2,1.155,2,0.5,2,-155.7,2,2.3,   8.069,2,   0.031,0.986,2,-999,9,-999,9,    -999,9,-999,9, 20080228,     2141, -63.4988,  29.9976,   0.009,-999,9,     -999,9,     -999,9,     -999,9,     -999,9,     -999,9,     -999,9,-999,9,     -999,9,     -999,9,     -999,9,    0.15,   0.007
33RR20080204,       I06S,      73,          2,         24,         24,2,20080228,       1947,   -63.4988,    29.9976,       5136,   504.8,   1.1202,  34.7017,2,  34.7027,2,    198.7,2,   198.9,2,   99.80,2,   31.94,2,    0.00,2,    2.21,2,   0.529,2,   0.288,2,   0.038,2,  2254.5,2,  2353.2,2,   7.7782,2,    13.00,    -999,9,   1.869,2,    9.18,2,1.12,2,0.49,2,-155.3,2,2.6,   8.133,2,   0.031,0.951,2,-999,9,-999,9,   39.51,2,-999,1, 20080228,     2139, -63.4988,  29.9976,    -999,-999,9,     -999,9,     -999,9,     -999,9,     -999,9,     -999,9,     -999,9,-999,9,     -999,9,     -999,9,     -999,9,    0.15,   0.007
33RR20080204,       I06S,      73,          2,         23,         23,2,20080228,       1947,   -63.4988,    29.9976,       5136,   609.5,   1.0161,  34.7050,2,  34.7057,2,    200.3,2,   199.8,2,  103.48,2,   31.93,2,    0.00,2,    2.21,2,   0.451,2,   0.253,2,   0.025,2,  2256.8,2,  2354.2,2,   7.7800,2,    13.00,   0.004,2,   1.877,2,    9.23,2,1.0165,2,0.6,2,-161.0,2,2.4,   8.135,2,   0.031,0.779,2,-999,9,-999,9,   37.46,2,-999,1, 20080228,     2136, -63.4988,  29.9976,   0.009,-999,1,     -999,9,     -999,9,     -999,9,     -999,9,     -999,9,     -999,9,-999,9,     -999,9,     -999,9,     -999,9,    0.15,   0.007
33RR20080204,       I06S,      73,          2,         22,         22,2,20080228,       1947,   -63.4988,    29.9976,       5136,   711.2,   0.9053,  34.7023,2,  34.7033,2,    202.0,2,   201.2,2,  106.76,2,   31.99,2,    0.00,2,    2.21,2,   0.433,2,   0.254,2,   0.037,2,  2255.4,2,  2355.0,2,   7.7797,2,    13.00,    -999,9,    -999,9,    -999,9,0.9041,2,0.42,2,-157.5,2,2.3,    -999,9,    -999,0.799,2,-999,9,-999,9,   39.51,2,-999,1, 20080228,     2133, -63.4988,  29.9976,    -999,-999,9,     -999,9,     -999,9,     -999,9,     -999,9,     -999,9,     -999,9,-999,9,     -999,9,     -999,9,     -999,9,    -999,    -999
33RR20080204,       I06S,      73,          2,         21,         21,2,20080228,       1947,   -63.4988,    29.9976,       5136,   810.9,   0.8184,  34.7009,2,  34.7017,2,    203.1,2,   202.6,2,  109.22,2,   32.14,2,    0.00,2,    2.22,2,   0.427,2,   0.237,2,   0.035,2,  2270.8,3,  2356.6,2,   7.7770,2,    13.00,  -0.006,2,   1.896,2,    8.95,2,0.8183,2,0.51,2,-152.0,2,2.5,   8.224,2,   0.031,0.822,2,-999,9,-999,9,   40.88,2,-999,1, 20080228,     2131, -63.4988,  29.9976,   0.009,-999,1,     -999,9,     -999,9,     -999,9,     -999,9,     -999,9,     -999,9,-999,9,     -999,9,     -999,9,     -999,9,    0.15,   0.007
33RR20080204,       I06S,      73,          2,         20,         20,2,20080228,       1947,   -63.4988,    29.9976,       5136,   911.8,   0.7456,  34.6994,2,  34.7002,2,    203.8,2,   203.2,2,  111.26,2,   32.29,2,    0.00,2,    2.23,2,   0.381,2,   0.219,2,   0.029,2,  2256.3,6,  2354.4,2,   7.7779,2,    13.00,    -999,9,    -999,9,    -999,9,0.7445,2,0.49,2,-155.3,2,2.7,    -999,9,    -999,0.767,2,-999,9,-999,9,    -999,9,-999,9, 20080228,     2128, -63.4988,  29.9976,    -999,-999,9,     -999,9,     -999,9,     -999,9,     -999,9,     -999,9,     -999,9,-999,9,     -999,9,     -999,9,     -999,9,    -999,    -999
33RR20080204,       I06S,      73,          2,         19,         19,2,20080228,       1947,   -63.4988,    29.9976,       5136,  1012.1,   0.6685,  34.6965,2,  34.6978,2,    204.6,2,   203.6,2,  113.72,2,   32.29,2,    0.00,2,    2.23,2,   0.374,2,   0.211,2,   0.032,2,  2256.7,2,  2357.0,2,   7.7770,2,    13.00,    -999,9,   1.897,2,    8.99,2,0.6693,2,0.49,2,-156.0,2,2.7,   8.262,2,   0.031,0.895,2,-999,9,-999,9,   41.76,2,-999,1, 20080228,     2125, -63.4988,  29.9976,    -999,-999,1,     -999,9,     -999,9,     -999,9,     -999,9,     -999,9,     -999,9,-999,9,     -999,9,     -999,9,     -999,9,    0.15,   0.007
33RR20080204,       I06S,      73,          2,         18,         18,2,20080228,       1947,   -63.4988,    29.9976,       5136,  1113.4,   0.6039,  34.6944,2,  34.6957,2,    205.2,2,   204.0,2,  115.99,2,   32.60,2,    0.00,2,    2.25,2,   0.340,2,   0.202,2,   0.014,2,  2257.6,2,  2357.0,2,   7.7754,2,    13.00,    -999,9,    -999,9,    -999,9,0.6036,2,0.47,2,-152.8,2,3.1,    -999,9,    -999,0.728,2,-999,9,-999,9,    -999,9,-999,9, 20080228,     2121, -63.4988,  29.9976,    -999,-999,9,     -999,9,     -999,9,     -999,9,     -999,9,     -999,9,     -999,9,-999,9,     -999,9,     -999,9,     -999,9,    -999,    -999
33RR20080204,       I06S,      73,          2,         17,         17,2,20080228,       1947,   -63.4988,    29.9976,       5136,  1219.1,   0.5374,  34.6914,2,  34.6927,2,    205.2,2,   204.4,2,  118.25,2,   32.66,2,    0.00,2,    2.26,2,   0.327,2,   0.184,2,   0.012,2,  2256.0,2,  2357.2,2,   7.7728,2,    13.00,   0.005,2,   1.890,2,    8.53,2,0.5376,2,0.48,2,-150.1,2,2.7,   8.211,2,   0.031,0.702,2,-999,9,-999,9,   42.83,2,-999,1, 20080228,     2118, -63.4988,  29.9976,   0.009,-999,9,     -999,9,     -999,9,     -999,9,     -999,9,     -999,9,     -999,9,-999,9,     -999,9,     -999,9,     -999,9,    0.15,   0.007
33RR20080204,       I06S,      73,          2,         16,         16,2,20080228,       1947,   -63.4988,    29.9976,       5136,  1421.1,   0.4459,  34.6886,2,  34.6888,2,    206.9,2,   206.9,2,  121.14,2,   32.75,2,    0.00,2,    2.26,2,   0.306,2,   0.173,2,   0.014,2,  2259.1,2,  2358.3,2,   7.7731,2,    13.00,   0.003,2,   1.884,2,    8.67,2,0.446,2,0.49,2,-161.1,2,3.2,   8.200,2,   0.031,0.683,2,-999,9,-999,9,    -999,9,-999,9, 20080228,     2113, -63.4988,  29.9976,   0.009,-999,9,     -999,9,     -999,9,     -999,9,     -999,9,     -999,9,     -999,9,-999,9,     -999,9,     -999,9,     -999,9,    0.15,   0.007
33RR20080204,       I06S,      73,          2,         15,         15,2,20080228,       1947,   -63.4988,    29.9976,       5136,  1621.2,   0.3624,  34.6844,2,  34.6855,2,    209.1,2,   209.2,2,  123.20,2,   32.91,2,    0.00,2,    2.27,2,   0.280,2,   0.154,2,   0.013,2,  2260.2,2,  2358.8,2,   7.7727,3,    13.00,  -0.001,2,   1.884,2,    8.57,2,0.3626,2,0.45,2,-158.1,2,2.3,   8.234,2,   0.031,0.702,2,-999,9,-999,9,   40.68,2,-999,1, 20080228,     2108, -63.4988,  29.9976,   0.009,-999,1,     -999,9,     -999,9,     -999,9,     -999,9,     -999,9,     -999,9,-999,9,     -999,9,     -999,9,     -999,9,    0.15,   0.007
33RR20080204,       I06S,      73,          2,         14,         14,2,20080228,       1947,   -63.4988,    29.9976,       5136,  1824.2,   0.2769,  34.6806,2,  34.6817,2,    211.5,2,   211.4,2,  124.64,2,   32.91,2,    0.00,2,    2.27,2,   0.277,2,   0.163,2,   0.012,2,  2258.8,2,  2356.9,2,   7.7756,2,    13.00,    -999,9,    -999,9,    -999,9,0.2767,2,0.45,2,-161.7,2,2.4,    -999,9,    -999,0.694,2,-999,9,-999,9,    -999,9,-999,9, 20080228,     2103, -63.4988,  29.9976,    -999,-999,9,     -999,9,     -999,9,     -999,9,     -999,9,     -999,9,     -999,9,-999,9,     -999,9,     -999,9,     -999,9,    -999,    -999
33RR20080204,       I06S,      73,          2,         13,         13,2,20080228,       1947,   -63.4988,    29.9976,       5136,  2032.0,   0.2015,  34.6771,2,  34.6778,2,    214.4,2,   215.5,2,  125.88,2,   32.86,2,    0.00,2,    2.27,2,   0.277,2,   0.160,2,   0.009,2,  2260.1,2,  2356.4,2,   7.7812,4,    13.00,    -999,9,    -999,1,    -999,9,0.2009,2,0.49,2,-158.2,2,2.6,    -999,9,    -999,0.699,2,-999,9,-999,9,   42.73,2,-999,1, 20080228,     2057, -63.4988,  29.9976,    -999,-999,9,     -999,9,     -999,9,     -999,9,     -999,9,     -999,9,     -999,9,-999,9,     -999,9,     -999,9,     -999,9,    -999,    -999
33RR20080204,       I06S,      73,          2,         12,         12,2,20080228,       1947,   -63.4988,    29.9976,       5136,  2340.7,   0.0874,  34.6721,2,  34.6727,2,    218.8,2,   219.6,2,  126.51,2,   32.86,2,    0.00,2,    2.28,2,   0.297,2,   0.169,2,   0.005,2,  2257.1,2,  2357.0,2,   7.7796,2,    13.00,  -0.003,2,   1.888,2,    7.57,2,0.0874,2,0.59,2,-159.6,2,2.6,   8.237,2,   0.031,0.811,2,-999,9,-999,9,    -999,9,-999,9, 20080228,     2051, -63.4988,  29.9976,   0.009,-999,1,     -999,9,     -999,9,     -999,9,     -999,9,     -999,9,     -999,9,-999,9,     -999,9,     -999,9,     -999,9,    0.15,   0.007
33RR20080204,       I06S,      73,          2,         11,         11,2,20080228,       1947,   -63.4988,    29.9976,       5136,  2644.4,  -0.0072,  34.6686,2,  34.6686,2,    223.4,2,   224.2,2,  127.32,2,   32.91,2,    0.00,2,    2.27,2,   0.339,2,   0.192,2,   0.013,2,  2258.1,2,  2356.2,2,   7.7825,2,    13.00,  -0.001,2,   1.883,2,    7.17,2,-0.0069,2,0.55,2,-155.3,2,2.6,   8.235,2,   0.031,0.84,2,-999,9,-999,9,   36.68,3,-999,1, 20080228,     2044, -63.4988,  29.9976,   0.009,-999,9,     -999,9,     -999,9,     -999,9,     -999,9,     -999,9,     -999,9,-999,9,     -999,9,     -999,9,     -999,9,    0.15,   0.007
33RR20080204,       I06S,      73,          2,         10,         10,2,20080228,       1947,   -63.4988,    29.9976,       5136,  2954.6,  -0.0819,  34.6652,2,  34.6651,2,    227.9,2,   227.9,2,  127.33,2,   32.66,2,    0.00,2,    2.27,2,   0.334,2,   0.183,2,   0.017,2,  2260.2,2,  2354.9,2,   7.7903,4,    13.00,   0.001,2,   1.890,2,    6.68,2,-0.0816,2,0.57,2,-158.3,2,2.4,   8.286,2,   0.031,0.899,2,-999,9,-999,9,    -999,9,-999,9, 20080228,     2037, -63.4988,  29.9976,   0.009,-999,1,     -999,9,     -999,9,     -999,9,     -999,9,     -999,9,     -999,9,-999,9,     -999,9,     -999,9,     -999,9,    0.15,   0.007
33RR20080204,       I06S,      73,          2,          9,          9,2,20080228,       1947,   -63.4988,    29.9976,       5136,  3264.4,  -0.1391,  34.6621,2,  34.6654,4,    231.6,2,   231.7,2,  127.34,2,   32.56,2,    0.00,2,    2.26,2,   0.377,2,   0.208,2,   0.020,2,  2258.6,2,  2354.5,2,   7.7869,2,    13.00,    -999,9,    -999,9,    -999,9,-0.1397,2,0.59,2,-158.8,2,2.4,    -999,9,    -999,1.025,2,-999,9,-999,9,   38.05,2,-999,1, 20080228,     2031, -63.4988,  29.9976,    -999,-999,9,     -999,9,     -999,9,     -999,9,     -999,9,     -999,9,     -999,9,-999,9,     -999,9,     -999,9,     -999,9,    -999,    -999
33RR20080204,       I06S,      73,          2,          8,          8,2,20080228,       1947,   -63.4988,    29.9976,       5136,  3571.0,  -0.1847,  34.6599,2,  34.6600,2,    234.9,2,   235.4,2,  126.52,2,   32.51,2,    0.00,2,    2.25,2,   0.420,2,   0.237,2,   0.020,2,  2257.8,2,  2353.4,2,   7.7903,2,    13.00,  -0.002,2,   1.885,2,    6.39,2,-0.1844,2,0.64,2,-157.0,2,2.4,   8.273,2,   0.031,1.034,2,-999,9,-999,9,    -999,9,-999,9, 20080228,     2025, -63.4988,  29.9976,   0.009,-999,1,     -999,9,     -999,9,     -999,9,     -999,9,     -999,9,     -999,9,-999,9,     -999,9,     -999,9,     -999,9,    0.15,   0.007