BOTTLE,20220706CCHSIOAMB
EXPOCODE,SECT_ID,STNNBR,CASTNO,SAMPNO,BTLNBR,BTLNBR_FLAG_W,DATE,TIME,LATITUDE,LONGITUDE,DEPTH,CTDPRS,CTDTMP,CTDSAL,CTDSAL_FLAG_W,SALNTY,SALNTY_FLAG_W,CTDOXY,CTDOXY_FLAG_W,OXYGEN,OXYGEN_FLAG_W,SILCAT,SILCAT_FLAG_W,NITRAT,NITRAT_FLAG_W,NITRIT,NITRIT_FLAG_W,PHSPHT,PHSPHT_FLAG_W,CFC-11,CFC-11_FLAG_W,CFC-12,CFC-12_FLAG_W,CFC113,CFC113_FLAG_W,TCARBN,TCARBN_FLAG_W,ALKALI,ALKALI_FLAG_W,PH_SWS,PH_SWS_FLAG_W,PH_TMP,TRITUM,TRITUM_FLAG_W,HELIUM,HELIUM_FLAG_W,DELHE3,DELHE3_FLAG_W,REFTMP,REFTMP_FLAG_W,DELC13,DELC13_FLAG_W,DELC14,DELC14_FLAG_W,C14ERR,NEON,NEON_FLAG_W,NEONER,CCL4,CCL4_FLAG_W,ALUMIN,ALUMIN_FLAG_W,DELO18,DELO18_FLAG_W,DOC,DOC_FLAG_W,TDN,TDN_FLAG_W,BTL_DATE,BTL_TIME,BTL_LAT,BTL_LON,TRITER,DELSI30,DELSI30_FLAG_W,CDOM380,CDOM380_FLAG_W,CDOM325,CDOM325_FLAG_W,CDOMSL,CDOMSL_FLAG_W,CDOM340,CDOM340_FLAG_W,CDOM443,CDOM443_FLAG_W,CDOMSN,CDOMSN_FLAG_W,BLACKC,BLACKC_FLAG_W,CDOM490,CDOM490_FLAG_W,CDOM412,CDOM412_FLAG_W,CDOM555,CDOM555_FLAG_W,DELHER,HELIER
,,,,,,,,,,,METERS,DBAR,ITS-90,PSS-78,,PSS-78,,UMOL/KG,,UMOL/KG,,UMOL/KG,,UMOL/KG,,UMOL/KG,,UMOL/KG,,PMOL/KG,,PMOL/KG,,PMOL/KG,,UMOL/KG,,UMOL/KG,,,,DEG C,TU,,NMOL/KG,,PERCNT,,DEG C,,/MILLE,,/MILLE,,/MILLE,NMOL/KG,,NMOL/KG,PMOL/KG,,NMOL/L,,/MILLE,,UMOL/KG,,UMOL/KG,,,,,,TU,/MILLE,,1/M,,1/M,,1/NM,,1/M,,1/M,,1/NM,,,,1/M,,1/M,,1/M,,PERCNT,NMOL/KG
33RR20080204,       I06S,      55,          2,         36,         36,2,20080222,       2318,   -54.5022,    29.9985,       4595,     5.7,   2.4875,  33.8715,2,  33.8727,2,    326.2,2,   326.8,2,   17.46,2,   23.79,2,    0.28,2,    1.57,2,   5.804,2,   3.099,2,   0.506,2,  2146.8,6,  2290.1,2,   7.9261,4,    13.00,    -999,9,    -999,9,    -999,9,2.4858,2,-999,9,-999,9,-999,    -999,9,    -999,8.034,2,-999,9,-999,9,    -999,9,-999,1, 20080223,     0126, -54.5081,  29.9961,    -999,-999,9,   0.0243,2,   0.0903,2,   0.0110,4,   0.0585,2,   0.0070,2,   0.0225,3,-999,9,   0.0002,4,   0.0150,2,  -0.0019,4,    -999,    -999
33RR20080204,       I06S,      55,          2,         35,         35,2,20080222,       2318,   -54.5022,    29.9985,       4595,    26.2,   2.4901,  33.8710,2,  33.8731,2,    328.7,2,   327.0,4,   17.26,2,   23.84,2,    0.27,2,    1.56,2,   5.830,2,   3.118,2,   0.512,2,  2149.3,2,  2289.0,2,   7.9262,2,    13.00,    -999,9,    -999,9,    -999,9,2.4893,2,-999,9,-999,9,-999,    -999,9,    -999,8.393,2,-999,9,-999,9,   42.63,2,-999,1, 20080223,     0125, -54.5080,  29.9962,    -999,-999,1,   0.0283,2,   0.1048,2,   0.0190,3,   0.0694,2,   0.0097,2,   0.0217,3,-999,1,   0.0018,2,   0.0183,2,  -0.0019,4,    -999,    -999
33RR20080204,       I06S,      55,          2,         34,         34,2,20080222,       2318,   -54.5022,    29.9985,       4595,    47.4,   2.4923,  33.8718,2,  33.8733,2,    328.4,2,   327.3,2,   17.25,2,   23.79,2,    0.28,2,    1.57,2,   5.739,2,   3.105,2,   0.505,2,    -999,9,  2289.2,2,   7.9260,3,    13.00,    -999,9,    -999,9,    -999,9,2.4916,2,-999,9,-999,9,-999,    -999,9,    -999,8.279,2,-999,9,-999,9,   41.56,2,-999,1, 20080223,     0124, -54.5078,  29.9962,    -999,-999,1,   0.0282,2,   0.0882,2,   0.0160,3,   0.0572,2,   0.0111,2,   0.0163,3,-999,9,   0.0033,2,   0.0195,2,  -0.0011,4,    -999,    -999
33RR20080204,       I06S,      55,          2,         33,         33,2,20080222,       2318,   -54.5022,    29.9985,       4595,    77.1,   2.4826,  33.8734,2,  33.8743,2,    328.8,2,   328.0,2,   17.44,2,   23.81,2,    0.26,2,    1.57,2,   5.780,2,   3.111,2,   0.512,2,  2150.8,2,  2289.0,2,   7.9268,3,    13.00,    -999,9,    -999,9,    -999,9,2.4823,2,-999,9,-999,9,-999,    -999,9,    -999,8.513,2,-999,9,-999,9,    -999,9,-999,1, 20080223,     0122, -54.5077,  29.9963,    -999,-999,1,   0.0232,2,   0.0885,2,   0.0198,3,   0.0568,2,   0.0070,2,   0.0231,3,-999,9,   0.0002,4,   0.0147,2,  -0.0024,4,    -999,    -999
33RR20080204,       I06S,      55,          2,         32,         32,2,20080222,       2318,   -54.5022,    29.9985,       4595,   107.3,   1.6768,  33.9184,2,  33.9127,2,    327.7,2,   328.6,2,   31.76,2,   25.28,2,    0.27,2,    1.75,2,   6.015,2,   3.213,2,   0.535,2,    -999,9,  2294.5,2,   7.8995,4,    13.00,    -999,9,    -999,9,    -999,9,1.7554,3,-999,9,-999,9,-999,    -999,9,    -999,8.304,2,-999,9,-999,9,    -999,9,-999,1, 20080223,     0120, -54.5077,  29.9963,    -999,-999,1,   0.0242,2,   0.0854,2,   0.0191,3,   0.0539,2,   0.0071,2,   0.0207,3,-999,9,   0.0003,3,   0.0149,2,  -0.0017,4,    -999,    -999
33RR20080204,       I06S,      55,          2,         31,         31,2,20080222,       2318,   -54.5022,    29.9985,       4595,   158.0,   0.6036,  34.1092,2,  34.1105,2,    296.7,2,   292.4,2,   52.92,2,   30.58,2,    0.15,2,    2.14,2,   5.104,2,   2.732,2,   0.458,2,  2201.5,2,  2303.8,2,   7.8202,4,    13.00,    -999,9,    -999,9,    -999,9,0.6033,2,-999,9,-999,9,-999,    -999,9,    -999,7.206,2,-999,9,-999,9,   39.41,2,-999,1, 20080223,     0117, -54.5078,  29.9963,    -999,-999,1,   0.0264,2,   0.0935,2,   0.0187,3,   0.0591,2,   0.0081,2,   0.0200,3,-999,9,   0.0010,2,   0.0167,2,  -0.0020,4,    -999,    -999
33RR20080204,       I06S,      55,          2,         30,         30,2,20080222,       2318,   -54.5022,    29.9985,       4595,   207.4,   0.5360,  34.2116,2,  34.2113,2,    276.4,2,   283.7,2,   60.44,2,   31.52,2,    0.04,2,    2.18,2,   4.759,2,   2.563,2,   0.426,2,    -999,9,  2313.0,2,   7.8041,3,    13.00,    -999,9,    -999,9,    -999,9,0.5365,2,-999,9,-999,9,-999,    -999,9,    -999,6.516,2,-999,9,-999,9,   39.71,2,-999,1, 20080223,     0115, -54.5073,  29.9965,    -999,-999,1,   0.0273,2,   0.0980,2,   0.0185,3,   0.0616,2,   0.0088,2,   0.0200,3,-999,1,   0.0012,2,   0.0177,2,  -0.0012,4,    -999,    -999
33RR20080204,       I06S,      55,          2,         29,         29,2,20080222,       2318,   -54.5022,    29.9985,       4595,   255.1,   1.3985,  34.3568,2,  34.3522,2,    218.5,2,   223.1,2,   66.86,2,   34.00,2,    0.02,2,    2.35,2,   2.877,2,   1.513,2,   0.252,2,  2233.1,2,  2318.5,2,   7.7511,2,    13.00,    -999,9,    -999,9,    -999,9,1.3918,2,-999,9,-999,9,-999,    -999,9,    -999,4.241,2,-999,9,-999,9,    -999,9,-999,9, 20080223,     0112, -54.5068,  29.9966,    -999,-999,1,     -999,9,     -999,9,     -999,9,     -999,9,     -999,9,     -999,9,-999,9,     -999,9,     -999,9,     -999,9,    -999,    -999
33RR20080204,       I06S,      55,          2,         28,         28,2,20080222,       2318,   -54.5022,    29.9985,       4595,   306.8,   1.9569,  34.4647,2,  34.4631,2,    198.7,2,   187.9,2,   70.82,2,   34.83,2,    0.03,2,    2.41,2,   1.575,2,   0.816,2,   0.113,2,    -999,9,  2326.2,2,   7.7333,2,    13.00,    -999,9,    -999,9,    -999,9,1.9572,2,-999,9,-999,9,-999,    -999,9,    -999,2.597,2,-999,9,-999,9,   40.00,2,-999,1, 20080223,     0110, -54.5065,  29.9966,    -999,-999,1,   0.0329,2,   0.1112,2,   0.0184,3,   0.0720,2,   0.0106,2,   0.0191,3,-999,9,   0.0023,2,   0.0208,2,  -0.0006,4,    -999,    -999
33RR20080204,       I06S,      55,          2,         27,         27,2,20080222,       2318,   -54.5022,    29.9985,       4595,   356.4,   2.0478,  34.5195,2,  34.5182,2,    184.3,2,   181.0,2,   74.04,2,   34.69,2,    0.01,2,    2.40,2,   1.333,2,   0.700,2,   0.105,2,  2253.3,2,  2330.3,2,   7.7325,3,    13.00,    -999,9,    -999,9,    -999,9,2.0463,2,-999,9,-999,9,-999,    -999,9,    -999,2.224,2,-999,9,-999,9,    -999,9,-999,9, 20080223,     0108, -54.5063,  29.9967,    -999,-999,9,     -999,9,     -999,9,     -999,9,     -999,9,     -999,9,     -999,9,-999,9,     -999,9,     -999,9,     -999,9,    -999,    -999
33RR20080204,       I06S,      55,          2,         26,         26,2,20080222,       2318,   -54.5022,    29.9985,       4595,   407.9,   2.1555,  34.5578,2,  34.5573,2,    176.8,2,   175.8,2,   75.55,2,   34.46,2,    0.01,2,    2.38,2,   0.859,2,   0.445,2,   0.079,2,    -999,9,  2335.4,2,   7.7379,2,    13.00,    -999,9,    -999,9,    -999,9,2.1539,2,-999,9,-999,9,-999,    -999,9,    -999,1.641,2,-999,9,-999,9,    -999,9,-999,1, 20080223,     0106, -54.5061,  29.9969,    -999,-999,1,   0.0358,2,   0.1223,2,   0.0190,3,   0.0796,2,   0.0112,2,   0.0195,3,-999,9,   0.0028,2,   0.0219,2,  -0.0012,4,    -999,    -999
33RR20080204,       I06S,      55,          2,         25,         25,2,20080222,       2318,   -54.5022,    29.9985,       4595,   458.8,   2.1811,  34.5933,2,  34.5935,2,    174.0,2,   175.0,2,   77.25,2,   34.02,2,    0.01,2,    2.35,2,   0.695,2,   0.363,2,   0.046,2,  2257.4,2,  2336.5,2,   7.7428,3,    13.00,    -999,9,    -999,9,    -999,9,2.1804,2,-999,9,-999,9,-999,    -999,9,    -999,1.392,2,-999,9,-999,9,    -999,9,-999,9, 20080223,     0104, -54.5058,  29.9969,    -999,-999,9,     -999,9,     -999,9,     -999,9,     -999,9,     -999,9,     -999,9,-999,9,     -999,9,     -999,9,     -999,9,    -999,    -999
33RR20080204,       I06S,      55,          2,         24,         24,2,20080222,       2318,   -54.5022,    29.9985,       4595,   508.5,   2.1535,  34.6076,2,  34.6090,2,    173.8,2,   175.3,2,   78.76,2,   33.87,2,    0.01,2,    2.34,2,   0.620,2,   0.321,2,   0.039,2,    -999,9,  2338.2,2,   7.7450,2,    13.00,    -999,9,    -999,9,    -999,9,2.1536,2,-999,9,-999,9,-999,    -999,9,    -999,1.297,2,-999,9,-999,9,   40.29,2,-999,1, 20080223,     0102, -54.5056,  29.9971,    -999,-999,9,   0.0338,2,   0.1149,2,   0.0189,3,   0.0749,2,   0.0104,2,   0.0196,3,-999,9,   0.0021,2,   0.0207,2,   0.0004,4,    -999,    -999
33RR20080204,       I06S,      55,          2,         23,         23,2,20080222,       2318,   -54.5022,    29.9985,       4595,   608.7,   1.9270,  34.6268,2,  34.6277,2,    177.5,2,   180.8,2,   82.94,2,   33.55,2,    0.00,2,    2.32,2,   0.724,2,   0.383,2,   0.059,2,  2258.7,2,  2341.5,2,   7.7488,2,    13.00,    -999,9,    -999,9,    -999,9,1.9262,2,-999,9,-999,9,-999,    -999,9,    -999,1.327,2,-999,9,-999,9,   39.41,2,-999,1, 20080223,     0058, -54.5057,  29.9971,    -999,-999,1,   0.0325,2,   0.1140,2,   0.0196,3,   0.0738,2,   0.0095,2,   0.0204,3,-999,9,   0.0016,2,   0.0194,2,  -0.0017,4,    -999,    -999
33RR20080204,       I06S,      55,          2,         22,         22,2,20080222,       2318,   -54.5022,    29.9985,       4595,   709.1,   2.0637,  34.6784,2,  34.6807,2,    180.0,2,   181.0,2,   82.17,2,   32.33,2,    0.00,2,    2.25,2,   0.394,2,   0.212,2,   0.025,2,    -999,9,  2344.2,2,   7.7684,2,    13.00,    -999,9,    -999,9,    -999,9,2.0558,2,-999,9,-999,9,-999,    -999,9,    -999,0.863,2,-999,9,-999,9,    -999,9,-999,1, 20080223,     0055, -54.5057,  29.9971,    -999,-999,9,   0.0346,2,   0.1179,2,   0.0194,3,   0.0767,2,   0.0101,2,   0.0197,3,-999,9,   0.0020,2,   0.0205,2,  -0.0015,4,    -999,    -999
33RR20080204,       I06S,      55,          2,         21,         21,2,20080222,       2318,   -54.5022,    29.9985,       4595,   808.8,   2.2012,  34.7256,2,  34.7261,2,    182.4,2,   188.4,2,   77.78,2,   30.84,2,    0.00,2,    2.13,2,   0.214,2,   0.124,2,   0.006,2,  2247.3,2,  2344.9,2,   7.7920,2,    13.00,    -999,9,    -999,9,    -999,9,2.2031,2,-999,9,-999,9,-999,    -999,9,    -999,0.621,2,-999,9,-999,9,   37.56,2,-999,1, 20080223,     0052, -54.5056,  29.9973,    -999,-999,1,   0.0360,2,   0.1181,2,   0.0187,3,   0.0780,2,   0.0116,2,   0.0192,3,-999,9,   0.0030,2,   0.0215,2,  -0.0006,4,    -999,    -999
33RR20080204,       I06S,      55,          2,         20,         20,2,20080222,       2318,   -54.5022,    29.9985,       4595,   910.2,   2.0029,  34.7266,2,  34.7273,2,    186.7,2,   190.2,2,   82.73,2,   30.99,2,    0.00,2,    2.15,2,   0.252,2,   0.147,2,   0.023,2,    -999,9,  2348.1,2,   7.7906,2,    13.00,    -999,9,    -999,9,    -999,9,2.002,2,-999,9,-999,9,-999,    -999,9,    -999,0.585,2,-999,9,-999,9,    -999,9,-999,1, 20080223,     0049, -54.5054,  29.9974,    -999,-999,9,     -999,9,     -999,9,     -999,9,     -999,9,     -999,9,     -999,9,-999,9,     -999,9,     -999,9,     -999,9,    -999,    -999
33RR20080204,       I06S,      55,          2,         19,         19,2,20080222,       2318,   -54.5022,    29.9985,       4595,  1009.2,   1.7130,  34.7093,2,  34.7092,2,    189.5,2,   189.8,2,   89.39,2,   31.67,2,    0.00,2,    2.20,2,   0.398,2,   0.227,2,   0.026,2,  2255.5,6,  2349.3,2,   7.7822,2,    13.00,    -999,9,    -999,9,    -999,9,1.7137,2,-999,9,-999,9,-999,    -999,9,    -999,0.812,2,-999,9,-999,9,   39.22,2,-999,1, 20080223,     0046, -54.5054,  29.9973,    -999,-999,1,   0.0350,2,   0.1153,2,   0.0188,3,   0.0756,2,   0.0110,2,   0.0192,3,-999,9,   0.0025,2,   0.0208,2,  -0.0008,4,    -999,    -999
33RR20080204,       I06S,      55,          2,         18,         18,2,20080222,       2318,   -54.5022,    29.9985,       4595,  1111.2,   1.7521,  34.7369,2,  34.7370,2,    196.0,2,   196.2,2,   88.05,2,   30.60,2,    0.00,2,    2.12,2,   0.264,2,   0.150,2,   0.023,2,    -999,9,  2351.0,2,   7.7996,2,    13.00,    -999,9,    -999,9,    -999,9,1.753,2,-999,9,-999,9,-999,    -999,9,    -999,0.636,2,-999,9,-999,9,    -999,9,-999,9, 20080223,     0042, -54.5053,  29.9975,    -999,-999,9,     -999,9,     -999,9,     -999,9,     -999,9,     -999,9,     -999,9,-999,9,     -999,9,     -999,9,     -999,9,    -999,    -999
33RR20080204,       I06S,      55,          2,         17,         17,2,20080222,       2318,   -54.5022,    29.9985,       4595,  1212.4,   1.5235,  34.7184,2,  34.7175,2,    195.2,2,   196.6,2,   93.58,2,   31.24,2,    0.00,2,    2.17,2,   0.397,2,   0.234,2,   0.027,2,  2251.9,2,  2351.7,2,   7.7915,3,    13.00,    -999,9,    -999,9,    -999,9,1.5229,2,-999,9,-999,9,-999,    -999,9,    -999,0.845,2,-999,9,-999,9,   38.93,2,-999,1, 20080223,     0039, -54.5051,  29.9975,    -999,-999,9,   0.0350,2,   0.1193,2,   0.0192,3,   0.0783,2,   0.0109,2,   0.0201,3,-999,9,   0.0024,2,   0.0207,2,  -0.0009,4,    -999,    -999
33RR20080204,       I06S,      55,          2,         16,         16,2,20080222,       2318,   -54.5022,    29.9985,       4595,  1313.8,   1.4060,  34.7186,2,  34.7179,2,    197.7,2,   195.0,2,   97.98,2,   31.44,2,    0.00,2,    2.18,2,   0.362,2,   0.203,2,   0.026,2,    -999,9,  2354.3,2,   7.7908,2,    13.00,    -999,9,    -999,9,    -999,9,1.4047,2,-999,9,-999,9,-999,    -999,9,    -999,0.759,2,-999,9,-999,9,    -999,9,-999,9, 20080223,     0036, -54.5050,  29.9976,    -999,-999,9,     -999,9,     -999,9,     -999,9,     -999,9,     -999,9,     -999,9,-999,9,     -999,9,     -999,9,     -999,9,    -999,    -999
33RR20080204,       I06S,      55,          2,         15,         15,2,20080222,       2318,   -54.5022,    29.9985,       4595,  1413.0,   1.2134,  34.7069,2,  34.7079,2,    199.8,2,   199.4,2,  102.38,2,   31.78,2,    0.00,2,    2.21,2,   0.434,2,   0.234,2,   0.037,2,  2256.0,2,  2355.9,2,   7.7867,2,    13.00,    -999,9,    -999,9,    -999,9,1.212,2,-999,9,-999,9,-999,    -999,9,    -999,0.857,2,-999,9,-999,9,   39.41,2,-999,1, 20080223,     0033, -54.5050,  29.9976,    -999,-999,9,   0.0330,2,   0.1114,2,   0.0193,3,   0.0725,2,   0.0100,2,   0.0198,3,-999,9,   0.0020,2,   0.0190,2,  -0.0011,4,    -999,    -999
33RR20080204,       I06S,      55,          2,         14,         14,2,20080222,       2318,   -54.5022,    29.9985,       4595,  1524.0,   1.1018,  34.7067,2,  34.7077,2,    202.3,2,   200.7,2,  105.45,2,   31.84,2,    0.00,2,    2.21,2,   0.428,2,   0.229,2,   0.025,2,    -999,9,  2356.4,2,   7.7890,2,    13.00,    -999,9,    -999,9,    -999,9,1.1015,2,-999,9,-999,9,-999,    -999,9,    -999,0.698,2,-999,9,-999,9,    -999,9,-999,9, 20080223,     0029, -54.5047,  29.9977,    -999,-999,9,     -999,9,     -999,9,     -999,9,     -999,9,     -999,9,     -999,9,-999,9,     -999,9,     -999,9,     -999,9,    -999,    -999
33RR20080204,       I06S,      55,          2,         13,         13,2,20080222,       2318,   -54.5022,    29.9985,       4595,  1625.3,   1.1564,  34.7204,2,  34.7214,2,    204.5,2,   203.7,2,  105.06,2,   31.35,2,    0.00,2,    2.18,2,   0.123,4,   0.083,4,   0.032,4,  2255.3,2,  2356.4,2,   7.7976,2,    13.00,    -999,9,    -999,9,    -999,9,1.1562,2,-999,9,-999,9,-999,    -999,9,    -999,0.49,4,-999,9,-999,9,    -999,9,-999,1, 20080223,     0026, -54.5046,  29.9978,    -999,-999,9,   0.0355,2,   0.1189,2,   0.0183,3,   0.0781,2,   0.0121,2,   0.0194,3,-999,9,   0.0030,2,   0.0221,2,  -0.0005,4,    -999,    -999
33RR20080204,       I06S,      55,          2,         12,         12,2,20080222,       2318,   -54.5022,    29.9985,       4595,  1726.0,   1.0857,  34.7170,2,  34.7197,2,    206.1,2,   202.9,2,  105.63,2,   31.45,2,    0.00,2,    2.18,2,   0.309,2,   0.165,2,   0.014,2,    -999,9,  2356.6,2,   7.7981,2,    13.00,    -999,9,    -999,9,    -999,9,1.0863,2,-999,9,-999,9,-999,    -999,9,    -999,0.687,2,-999,9,-999,9,    -999,9,-999,9, 20080223,     0023, -54.5045,  29.9978,    -999,-999,9,     -999,9,     -999,9,     -999,9,     -999,9,     -999,9,     -999,9,-999,9,     -999,9,     -999,9,     -999,9,    -999,    -999
33RR20080204,       I06S,      55,          2,         11,         11,2,20080222,       2318,   -54.5022,    29.9985,       4595,  1825.9,   1.0867,  34.7256,2,  34.7272,2,    206.8,2,   206.5,2,  106.01,2,   31.11,2,    0.00,2,    2.16,2,   0.206,2,   0.111,2,   0.014,2,  2253.0,2,  2359.1,2,   7.8059,2,    13.00,    -999,9,    -999,9,    -999,9,1.0863,2,-999,9,-999,9,-999,    -999,9,    -999,0.531,2,-999,9,-999,9,    -999,9,-999,1, 20080223,     0020, -54.5044,  29.9979,    -999,-999,9,   0.0339,2,   0.1140,2,   0.0190,3,   0.0741,2,   0.0105,2,   0.0196,3,-999,9,   0.0021,2,   0.0200,2,  -0.0009,4,    -999,    -999
33RR20080204,       I06S,      55,          2,         10,         10,2,20080222,       2318,   -54.5022,    29.9985,       4595,  2029.6,   0.8959,  34.7125,2,  34.7142,2,    207.1,2,   206.5,2,  111.39,2,   31.60,2,    0.00,2,    2.20,2,   0.266,2,   0.143,2,   0.016,2,    -999,9,  2359.0,2,   7.7991,2,    13.00,    -999,9,    -999,9,    -999,9,0.8957,2,-999,9,-999,9,-999,    -999,9,    -999,0.681,2,-999,9,-999,9,   38.93,2,-999,1, 20080223,     0016, -54.5042,  29.9979,    -999,-999,9,   0.0350,2,   0.1199,2,   0.0192,3,   0.0778,2,   0.0110,2,   0.0200,3,-999,9,   0.0023,2,   0.0207,2,  -0.0008,4,    -999,    -999
33RR20080204,       I06S,      55,          2,          9,          9,2,20080222,       2318,   -54.5022,    29.9985,       4595,  2334.0,   0.7001,  34.7000,2,  34.7020,2,    208.0,2,   208.1,2,  117.54,2,   32.19,2,    0.00,2,    2.24,2,   0.294,2,   0.154,2,   0.017,2,  2257.8,2,  2359.0,2,   7.7911,2,    13.00,    -999,9,    -999,9,    -999,9,0.6996,2,-999,9,-999,9,-999,    -999,9,    -999,0.634,2,-999,9,-999,9,    -999,9,-999,9, 20080223,     0009, -54.5040,  29.9980,    -999,-999,9,     -999,9,     -999,9,     -999,9,     -999,9,     -999,9,     -999,9,-999,9,     -999,9,     -999,9,     -999,9,    -999,    -999
33RR20080204,       I06S,      55,          2,          8,          8,2,20080222,       2318,   -54.5022,    29.9985,       4595,  2636.7,   0.5484,  34.6909,2,  34.6928,2,    209.2,2,   209.8,2,  122.55,2,   32.53,2,    0.00,2,    2.26,2,   0.296,2,   0.158,2,   0.020,2,    -999,9,  2357.7,2,   7.7860,2,    13.00,    -999,9,    -999,9,    -999,9,0.5486,2,-999,9,-999,9,-999,    -999,9,    -999,0.718,2,-999,9,-999,9,   36.68,2,-999,1, 20080223,     0003, -54.5041,  29.9980,    -999,-999,9,   0.0331,2,   0.1150,2,   0.0188,3,   0.0741,2,   0.0109,2,   0.0199,3,-999,9,   0.0023,2,   0.0203,2,  -0.0002,4,    -999,    -999