BOTTLE,20220706CCHSIOAMB
EXPOCODE,SECT_ID,STNNBR,CASTNO,SAMPNO,BTLNBR,BTLNBR_FLAG_W,DATE,TIME,LATITUDE,LONGITUDE,DEPTH,CTDPRS,CTDTMP,CTDSAL,CTDSAL_FLAG_W,SALNTY,SALNTY_FLAG_W,CTDOXY,CTDOXY_FLAG_W,OXYGEN,OXYGEN_FLAG_W,SILCAT,SILCAT_FLAG_W,NITRAT,NITRAT_FLAG_W,NITRIT,NITRIT_FLAG_W,PHSPHT,PHSPHT_FLAG_W,CFC-11,CFC-11_FLAG_W,CFC-12,CFC-12_FLAG_W,CFC113,CFC113_FLAG_W,TCARBN,TCARBN_FLAG_W,ALKALI,ALKALI_FLAG_W,PH_SWS,PH_SWS_FLAG_W,PH_TMP,TRITUM,TRITUM_FLAG_W,HELIUM,HELIUM_FLAG_W,DELHE3,DELHE3_FLAG_W,REFTMP,REFTMP_FLAG_W,DELC13,DELC13_FLAG_W,DELC14,DELC14_FLAG_W,C14ERR,NEON,NEON_FLAG_W,NEONER,CCL4,CCL4_FLAG_W,ALUMIN,ALUMIN_FLAG_W,DELO18,DELO18_FLAG_W,DOC,DOC_FLAG_W,TDN,TDN_FLAG_W,BTL_DATE,BTL_TIME,BTL_LAT,BTL_LON,TRITER,DELSI30,DELSI30_FLAG_W,CDOM380,CDOM380_FLAG_W,CDOM325,CDOM325_FLAG_W,CDOMSL,CDOMSL_FLAG_W,CDOM340,CDOM340_FLAG_W,CDOM443,CDOM443_FLAG_W,CDOMSN,CDOMSN_FLAG_W,BLACKC,BLACKC_FLAG_W,CDOM490,CDOM490_FLAG_W,CDOM412,CDOM412_FLAG_W,CDOM555,CDOM555_FLAG_W,DELHER,HELIER
,,,,,,,,,,,METERS,DBAR,ITS-90,PSS-78,,PSS-78,,UMOL/KG,,UMOL/KG,,UMOL/KG,,UMOL/KG,,UMOL/KG,,UMOL/KG,,PMOL/KG,,PMOL/KG,,PMOL/KG,,UMOL/KG,,UMOL/KG,,,,DEG C,TU,,NMOL/KG,,PERCNT,,DEG C,,/MILLE,,/MILLE,,/MILLE,NMOL/KG,,NMOL/KG,PMOL/KG,,NMOL/L,,/MILLE,,UMOL/KG,,UMOL/KG,,,,,,TU,/MILLE,,1/M,,1/M,,1/NM,,1/M,,1/M,,1/NM,,,,1/M,,1/M,,1/M,,PERCNT,NMOL/KG
33RR20080204,       I06S,      27,          2,         36,         36,2,20080213,       1920,   -40.5042,    29.9963,       4639,     3.3,  17.4718,  35.4062,2,  35.4058,2,    240.0,2,   240.6,2,    1.81,2,    0.67,2,    0.05,2,    0.21,2,   2.507,2,   1.515,2,   0.237,2,  2047.9,6,  2329.1,2,   8.2026,2,    13.00,    -999,9,    -999,9,    -999,9,17.472,2,-999,9,-999,9,-999,    -999,9,    -999,0.0,4,-999,9,-999,9,   58.24,2,-999,1, 20080213,     2140, -40.5042,  29.9963,    -999,-999,9,     -999,9,     -999,9,     -999,9,     -999,9,     -999,9,     -999,9,-999,9,     -999,9,     -999,9,     -999,9,    -999,    -999
33RR20080204,       I06S,      27,          2,         35,         35,2,20080213,       1920,   -40.5042,    29.9963,       4639,    26.7,  17.3166,  35.4138,2,  35.4131,2,    240.5,2,   240.2,2,    1.81,2,    0.62,2,    0.06,2,    0.20,2,   0.000,4,   0.000,4,   0.000,4,  2047.1,2,  2328.9,2,   8.1912,4,    13.00,    -999,9,    -999,9,    -999,9,17.317,2,-999,9,-999,9,-999,    -999,9,    -999,0.0,4,-999,9,-999,9,   59.51,2,-999,1, 20080213,     2138, -40.5042,  29.9963,    -999,-999,9,     -999,9,     -999,9,     -999,9,     -999,9,     -999,9,     -999,9,-999,9,     -999,9,     -999,9,     -999,9,    -999,    -999
33RR20080204,       I06S,      27,          2,         34,         34,2,20080213,       1920,   -40.5042,    29.9963,       4639,    53.0,  17.1731,  35.4032,2,  35.4046,2,    236.4,2,   235.4,2,    1.80,2,    1.08,2,    0.09,2,    0.23,2,   2.625,2,   1.545,2,   0.216,2,  2051.8,2,  2327.3,2,   8.1936,2,    13.00,    -999,9,    -999,9,    -999,9,17.1654,2,-999,9,-999,9,-999,    -999,9,    -999,3.498,2,-999,9,-999,9,   56.39,2,-999,1, 20080213,     2136, -40.5042,  29.9963,    -999,-999,9,     -999,9,     -999,9,     -999,9,     -999,9,     -999,9,     -999,9,-999,9,     -999,9,     -999,9,     -999,9,    -999,    -999
33RR20080204,       I06S,      27,          2,         33,         33,2,20080213,       1920,   -40.5042,    29.9963,       4639,    87.9,  15.1965,  35.3334,2,  35.3331,2,    221.7,2,   219.9,2,    4.15,2,    5.84,2,    0.06,2,    0.53,2,   2.847,2,   1.650,2,   0.176,2,  2089.2,2,  2322.8,2,   8.1163,2,    13.00,    -999,9,    -999,9,    -999,9,15.1942,2,-999,9,-999,9,-999,    -999,9,    -999,2.534,2,-999,9,-999,9,   50.93,2,-999,1, 20080213,     2134, -40.5042,  29.9963,    -999,-999,9,     -999,9,     -999,9,     -999,9,     -999,9,     -999,9,     -999,9,-999,9,     -999,9,     -999,9,     -999,9,    -999,    -999
33RR20080204,       I06S,      27,          2,         32,         32,2,20080213,       1920,   -40.5042,    29.9963,       4639,   117.7,  14.3162,  35.2941,2,  35.2984,2,    215.9,2,   213.7,2,    4.92,2,    8.00,2,    0.03,2,    0.64,2,   2.870,2,   1.685,2,   0.146,2,  2103.2,2,  2320.4,2,   8.0826,2,    13.00,    -999,9,    -999,9,    -999,9,14.3095,2,-999,9,-999,9,-999,    -999,9,    -999,2.287,2,-999,9,-999,9,    -999,9,-999,1, 20080213,     2132, -40.5042,  29.9963,    -999,-999,9,     -999,9,     -999,9,     -999,9,     -999,9,     -999,9,     -999,9,-999,9,     -999,9,     -999,9,     -999,9,    -999,    -999
33RR20080204,       I06S,      27,          2,         31,         31,2,20080213,       1920,   -40.5042,    29.9963,       4639,   168.0,  13.3758,  35.2102,2,  35.2170,2,    229.1,2,   216.3,2,    5.10,2,    9.35,2,    0.02,2,    0.73,2,   3.160,2,   1.834,2,   0.180,2,  2109.2,2,  2316.9,2,   8.0634,2,    13.00,    -999,9,    -999,9,    -999,9,13.3749,2,-999,9,-999,9,-999,    -999,9,    -999,2.741,2,-999,9,-999,9,   48.00,3,-999,1, 20080213,     2130, -40.5042,  29.9963,    -999,-999,9,     -999,9,     -999,9,     -999,9,     -999,9,     -999,9,     -999,9,-999,9,     -999,9,     -999,9,     -999,9,    -999,    -999
33RR20080204,       I06S,      27,          2,         30,         30,2,20080213,       1920,   -40.5042,    29.9963,       4639,   216.1,  12.0406,  35.0273,2,  35.0250,2,    228.6,2,   228.8,2,    4.70,2,   10.99,2,    0.02,2,    0.84,2,    -999,5,    -999,5,    -999,5,  2111.6,2,  2309.4,2,   8.0425,2,    13.00,    -999,9,    -999,9,    -999,9,12.0414,2,-999,9,-999,9,-999,    -999,9,    -999,-999,5,-999,9,-999,9,   49.85,2,-999,1, 20080213,     2128, -40.5042,  29.9963,    -999,-999,9,     -999,9,     -999,9,     -999,9,     -999,9,     -999,9,     -999,9,-999,9,     -999,9,     -999,9,     -999,9,    -999,    -999
33RR20080204,       I06S,      27,          2,         29,         29,2,20080213,       1920,   -40.5042,    29.9963,       4639,   279.6,  11.1972,  34.9144,2,  34.9115,2,    232.3,2,   231.8,2,    5.28,2,   12.63,2,    0.02,2,    0.94,2,   3.240,2,   1.859,2,   0.206,2,  2116.0,2,  2303.1,2,   8.0240,2,    13.00,    -999,9,    -999,9,    -999,9,11.1913,2,-999,9,-999,9,-999,    -999,9,    -999,2.521,2,-999,9,-999,9,   49.66,2,-999,1, 20080213,     2126, -40.5042,  29.9963,    -999,-999,9,     -999,9,     -999,9,     -999,9,     -999,9,     -999,9,     -999,9,-999,9,     -999,9,     -999,9,     -999,9,    -999,    -999
33RR20080204,       I06S,      27,          2,         28,         28,2,20080213,       1920,   -40.5042,    29.9963,       4639,   329.3,  10.7601,  34.8669,2,  34.8660,2,    228.1,2,   231.0,2,    5.87,2,   13.72,2,    0.02,2,    1.01,2,   3.134,2,   1.827,2,   0.178,2,  2121.2,2,  2302.8,2,   8.0102,2,    13.00,    -999,9,    -999,9,    -999,9,10.755,2,-999,9,-999,9,-999,    -999,9,    -999,2.326,2,-999,9,-999,9,   52.88,3,-999,1, 20080213,     2124, -40.5042,  29.9963,    -999,-999,9,     -999,9,     -999,9,     -999,9,     -999,9,     -999,9,     -999,9,-999,9,     -999,9,     -999,9,     -999,9,    -999,    -999
33RR20080204,       I06S,      27,          2,         27,         27,2,20080213,       1920,   -40.5042,    29.9963,       4639,   377.5,  10.3862,  34.8408,2,  34.8399,2,    218.5,2,   220.9,2,    7.04,2,   15.48,2,    0.02,2,    1.11,2,   2.929,2,   1.680,2,   0.155,2,  2129.0,2,  2301.8,2,   7.9898,2,    13.00,    -999,9,    -999,9,    -999,9,10.3849,2,-999,9,-999,9,-999,    -999,9,    -999,2.058,2,-999,9,-999,9,    -999,9,-999,9, 20080213,     2122, -40.5042,  29.9963,    -999,-999,9,     -999,9,     -999,9,     -999,9,     -999,9,     -999,9,     -999,9,-999,9,     -999,9,     -999,9,     -999,9,    -999,    -999
33RR20080204,       I06S,      27,          2,         26,         26,2,20080213,       1920,   -40.5042,    29.9963,       4639,   427.7,   9.6932,  34.7408,2,  34.7406,2,    215.5,2,   217.6,2,    7.82,2,   17.24,2,    0.01,2,    1.22,2,   2.915,2,   1.707,2,   0.177,2,  2136.1,2,  2297.1,2,   7.9670,2,    13.00,    -999,9,    -999,9,    -999,9,9.6931,2,-999,9,-999,9,-999,    -999,9,    -999,2.385,2,-999,9,-999,9,   43.51,2,-999,1, 20080213,     2119, -40.5042,  29.9963,    -999,-999,1,     -999,9,     -999,9,     -999,9,     -999,9,     -999,9,     -999,9,-999,9,     -999,9,     -999,9,     -999,9,    -999,    -999
33RR20080204,       I06S,      27,          2,         25,         25,2,20080213,       1920,   -40.5042,    29.9963,       4639,   479.0,   9.1135,  34.6777,2,  34.6751,2,    215.4,2,   213.9,2,    9.98,2,   19.14,2,    0.01,2,    1.35,2,   3.143,2,   1.689,2,   0.163,2,  2142.0,2,  2294.7,2,   7.9455,2,    13.00,    -999,9,    -999,9,    -999,9,9.1084,2,-999,9,-999,9,-999,    -999,9,    -999,2.898,2,-999,9,-999,9,    -999,9,-999,9, 20080213,     2117, -40.5042,  29.9963,    -999,-999,9,     -999,9,     -999,9,     -999,9,     -999,9,     -999,9,     -999,9,-999,9,     -999,9,     -999,9,     -999,9,    -999,    -999
33RR20080204,       I06S,      27,          2,         24,         24,2,20080213,       1920,   -40.5042,    29.9963,       4639,   526.0,   8.3862,  34.6180,2,  34.6195,2,    211.6,2,   203.1,2,   13.33,2,   21.87,2,    0.01,2,    1.52,2,   2.976,2,   1.562,2,   0.173,2,  2154.3,2,  2294.9,2,   7.9126,2,    13.00,    -999,9,    -999,9,    -999,9,8.3784,2,-999,9,-999,9,-999,    -999,9,    -999,2.687,2,-999,9,-999,9,   41.46,2,-999,1, 20080213,     2115, -40.5042,  29.9963,    -999,-999,9,     -999,9,     -999,9,     -999,9,     -999,9,     -999,9,     -999,9,-999,9,     -999,9,     -999,9,     -999,9,    -999,    -999
33RR20080204,       I06S,      27,          2,         23,         23,2,20080213,       1920,   -40.5042,    29.9963,       4639,   650.6,   6.7598,  34.4790,2,  34.4801,2,    199.1,2,   202.4,2,   19.85,2,   25.96,2,    0.00,2,    1.80,2,   2.734,2,   1.431,2,   0.184,2,  2172.0,3,  2294.5,2,   7.8676,2,    13.00,    -999,9,    -999,9,    -999,9,6.7594,2,-999,9,-999,9,-999,    -999,9,    -999,3.505,2,-999,9,-999,9,    -999,9,-999,9, 20080213,     2111, -40.5042,  29.9963,    -999,-999,1,     -999,9,     -999,9,     -999,9,     -999,9,     -999,9,     -999,9,-999,9,     -999,9,     -999,9,     -999,9,    -999,    -999
33RR20080204,       I06S,      27,          2,         22,         22,2,20080213,       1920,   -40.5042,    29.9963,       4639,   753.1,   4.7254,  34.2526,2,  34.2530,2,    234.5,2,   237.7,2,   19.25,2,   27.95,2,    0.00,2,    1.91,2,   3.611,4,   1.931,4,   0.296,4,  2168.1,2,  2285.4,2,   7.8599,3,    13.00,    -999,9,    -999,9,    -999,9,4.7193,2,-999,9,-999,9,-999,    -999,9,    -999,4.313,4,-999,9,-999,9,    -999,9,-999,9, 20080213,     2108, -40.5042,  29.9963,    -999,-999,9,     -999,9,     -999,9,     -999,9,     -999,9,     -999,9,     -999,9,-999,1,     -999,9,     -999,9,     -999,9,    -999,    -999
33RR20080204,       I06S,      27,          2,         21,         21,2,20080213,       1920,   -40.5042,    29.9963,       4639,   753.2,   4.7353,  34.2568,2,  34.2519,2,    234.8,2,   237.7,2,   19.24,2,   27.95,2,    0.00,2,    1.90,2,   3.639,4,   1.930,4,   0.297,4,  2167.5,3,  2285.1,2,   7.8516,2,    13.00,    -999,9,    -999,9,    -999,9,4.7255,2,-999,9,-999,9,-999,    -999,9,    -999,4.228,4,-999,9,-999,9,   41.56,2,-999,1, 20080213,     2107, -40.5042,  29.9963,    -999,-999,9,     -999,9,     -999,9,     -999,9,     -999,9,     -999,9,     -999,9,-999,9,     -999,9,     -999,9,     -999,9,    -999,    -999
33RR20080204,       I06S,      27,          2,         20,         20,2,20080213,       1920,   -40.5042,    29.9963,       4639,   851.8,   4.7089,  34.3471,2,  34.3478,2,    217.4,2,   212.1,2,   29.34,2,   29.60,2,    0.00,2,    2.05,2,   2.634,2,   1.356,2,   0.185,2,  2186.7,2,  2296.4,2,   7.8299,3,    13.00,    -999,9,    -999,9,    -999,9,4.709,2,-999,9,-999,9,-999,    -999,9,    -999,3.402,2,-999,9,-999,9,    -999,9,-999,9, 20080213,     2104, -40.5042,  29.9963,    -999,-999,1,     -999,9,     -999,9,     -999,9,     -999,9,     -999,9,     -999,9,-999,9,     -999,9,     -999,9,     -999,9,    -999,    -999
33RR20080204,       I06S,      27,          2,         19,         19,2,20080213,       1920,   -40.5042,    29.9963,       4639,   953.4,   3.9020,  34.3170,2,  34.3164,2,    211.4,2,   213.8,2,   34.51,2,   31.00,2,    0.00,2,    2.17,2,   2.499,2,   1.255,2,   0.180,2,  2194.6,2,  2300.7,2,   7.8171,4,    13.00,    -999,9,    -999,9,    -999,9,3.8998,2,-999,9,-999,9,-999,    -999,9,    -999,3.264,2,-999,9,-999,9,   39.61,2,-999,1, 20080213,     2101, -40.5042,  29.9963,    -999,-999,9,     -999,9,     -999,9,     -999,9,     -999,9,     -999,9,     -999,9,-999,9,     -999,9,     -999,9,     -999,9,    -999,    -999
33RR20080204,       I06S,      27,          2,         18,         18,2,20080213,       1920,   -40.5042,    29.9963,       4639,  1054.8,   3.5583,  34.3558,2,  34.3550,2,    203.2,2,   202.0,2,   42.47,2,   32.32,2,    0.00,2,    2.24,2,   1.925,2,   0.949,2,   0.125,2,  2208.7,6,  2306.8,2,   7.7927,2,    13.00,    -999,9,    -999,9,    -999,9,3.5582,2,-999,9,-999,9,-999,    -999,9,    -999,2.648,2,-999,9,-999,9,   40.20,2,-999,1, 20080213,     2057, -40.5042,  29.9963,    -999,-999,1,     -999,9,     -999,9,     -999,9,     -999,9,     -999,9,     -999,9,-999,9,     -999,9,     -999,9,     -999,9,    -999,    -999
33RR20080204,       I06S,      27,          2,         17,         17,2,20080213,       1920,   -40.5042,    29.9963,       4639,  1154.2,   3.4302,  34.4185,2,  34.4165,2,    189.3,2,   188.4,2,   50.45,2,   33.24,2,    0.00,2,    2.29,2,   1.322,2,   0.670,2,   0.072,2,  2222.1,2,  2315.9,2,   7.7767,2,    13.00,    -999,9,    -999,9,    -999,9,3.4293,2,-999,9,-999,9,-999,    -999,9,    -999,2.001,2,-999,9,-999,9,   40.78,2,-999,1, 20080213,     2054, -40.5042,  29.9963,    -999,-999,9,     -999,9,     -999,9,     -999,9,     -999,9,     -999,9,     -999,9,-999,9,     -999,9,     -999,9,     -999,9,    -999,    -999
33RR20080204,       I06S,      27,          2,         16,         16,2,20080213,       1920,   -40.5042,    29.9963,       4639,  1357.5,   3.0957,  34.5318,2,  34.5311,2,    174.1,2,   174.3,2,   62.85,2,   33.70,2,    0.00,2,    2.33,2,   0.568,2,   0.307,2,   0.028,2,  2239.3,2,  2328.8,2,   7.7637,2,    13.00,    -999,9,    -999,9,    -999,9,3.0997,2,-999,9,-999,9,-999,    -999,9,    -999,1.254,2,-999,9,-999,9,    -999,9,-999,9, 20080213,     2046, -40.5042,  29.9964,    -999,-999,9,     -999,9,     -999,9,     -999,9,     -999,9,     -999,9,     -999,9,-999,9,     -999,9,     -999,9,     -999,9,    -999,    -999
33RR20080204,       I06S,      27,          2,         15,         15,2,20080213,       1920,   -40.5042,    29.9963,       4639,  1458.9,   3.0802,  34.5988,2,  34.5987,2,    171.2,2,   170.7,2,   67.25,2,   33.28,2,    0.00,2,    2.30,2,   0.311,2,   0.174,2,   0.013,2,  2243.2,2,  2336.0,2,   7.7689,2,    13.00,    -999,9,    -999,9,    -999,9,3.08,2,-999,9,-999,9,-999,    -999,9,    -999,0.958,2,-999,9,-999,9,   40.78,2,-999,1, 20080213,     2042, -40.5042,  29.9963,    -999,-999,9,     -999,9,     -999,9,     -999,9,     -999,9,     -999,9,     -999,9,-999,9,     -999,9,     -999,9,     -999,9,    -999,    -999
33RR20080204,       I06S,      27,          2,         14,         14,2,20080213,       1920,   -40.5042,    29.9963,       4639,  1558.6,   2.8321,  34.6258,2,  34.6256,2,    174.1,2,   174.9,2,   67.84,2,   32.77,2,    0.00,2,    2.26,2,   0.260,2,   0.145,2,   0.025,2,  2243.1,2,  2336.5,2,   7.7664,4,    13.00,    -999,9,    -999,9,    -999,9,2.8325,2,-999,9,-999,9,-999,    -999,9,    -999,0.962,2,-999,9,-999,9,   39.02,2,-999,1, 20080213,     2038, -40.5042,  29.9963,    -999,-999,9,     -999,9,     -999,9,     -999,9,     -999,9,     -999,9,     -999,9,-999,1,     -999,9,     -999,9,     -999,9,    -999,    -999
33RR20080204,       I06S,      27,          2,         13,         13,2,20080213,       1920,   -40.5042,    29.9963,       4639,  1658.5,   2.8212,  34.6754,2,  34.6751,2,    179.0,2,   180.7,2,   67.02,2,   31.65,2,    0.00,2,    2.18,2,   0.164,2,   0.100,2,   0.040,2,  2240.7,2,  2338.7,2,   7.7905,4,    13.00,    -999,9,    -999,9,    -999,9,2.8208,2,-999,9,-999,9,-999,    -999,9,    -999,1.009,2,-999,9,-999,9,   40.00,2,-999,1, 20080213,     2034, -40.5042,  29.9963,    -999,-999,9,     -999,9,     -999,9,     -999,9,     -999,9,     -999,9,     -999,9,-999,9,     -999,9,     -999,9,     -999,9,    -999,    -999
33RR20080204,       I06S,      27,          2,         12,         12,2,20080213,       1920,   -40.5042,    29.9963,       4639,  1759.3,   2.7696,  34.7043,2,  34.7042,2,    184.2,2,   184.7,2,   65.62,2,   30.83,2,    0.00,2,    2.12,2,   0.128,2,   0.076,2,   0.002,2,  2236.3,2,  2338.6,2,   7.7994,2,    13.00,    -999,9,    -999,9,    -999,9,2.7703,2,-999,9,-999,9,-999,    -999,9,    -999,0.482,2,-999,9,-999,9,    -999,9,-999,9, 20080213,     2031, -40.5042,  29.9963,    -999,-999,9,     -999,9,     -999,9,     -999,9,     -999,9,     -999,9,     -999,9,-999,9,     -999,9,     -999,9,     -999,9,    -999,    -999
33RR20080204,       I06S,      27,          2,         11,         11,2,20080213,       1920,   -40.5042,    29.9963,       4639,  1866.3,   2.7506,  34.7388,2,  34.7386,2,    191.0,2,   191.3,2,   63.60,2,   29.75,2,    0.00,2,    2.04,2,   0.084,2,   0.049,2,   0.000,2,  2246.1,3,  2338.1,2,   7.8147,2,    13.00,    -999,9,    -999,9,    -999,9,2.7505,2,-999,9,-999,9,-999,    -999,9,    -999,0.377,2,-999,9,-999,9,   40.49,2,-999,1, 20080213,     2027, -40.5042,  29.9963,    -999,-999,9,     -999,9,     -999,9,     -999,9,     -999,9,     -999,9,     -999,9,-999,9,     -999,9,     -999,9,     -999,9,    -999,    -999
33RR20080204,       I06S,      27,          2,         10,         10,2,20080213,       1920,   -40.5042,    29.9963,       4639,  2068.0,   2.6548,  34.7775,2,  34.7777,2,    200.4,2,   200.2,2,   62.18,2,   28.38,2,    0.00,2,    1.94,2,   0.055,2,   0.031,2,   0.006,2,  2227.5,2,  2337.1,2,   7.8327,2,    13.00,    -999,9,    -999,9,    -999,9,2.655,2,-999,9,-999,9,-999,    -999,9,    -999,0.313,2,-999,9,-999,9,   39.12,2,-999,1, 20080213,     2021, -40.5042,  29.9963,    -999,-999,9,     -999,9,     -999,9,     -999,9,     -999,9,     -999,9,     -999,9,-999,9,     -999,9,     -999,9,     -999,9,    -999,    -999
33RR20080204,       I06S,      27,          2,          9,          9,2,20080213,       1920,   -40.5042,    29.9963,       4639,  2387.8,   2.4903,  34.8112,2,  34.8104,2,    211.3,2,   211.3,2,   61.37,2,   27.01,2,    0.00,2,    1.84,2,   0.030,2,   0.016,2,  -0.004,2,  2219.8,2,  2340.8,2,   7.8538,2,    13.00,    -999,9,    -999,9,    -999,9,2.4909,2,-999,9,-999,9,-999,    -999,9,    -999,0.259,2,-999,9,-999,9,    -999,9,-999,9, 20080213,     2013, -40.5042,  29.9963,    -999,-999,9,     -999,9,     -999,9,     -999,9,     -999,9,     -999,9,     -999,9,-999,9,     -999,9,     -999,9,     -999,9,    -999,    -999
33RR20080204,       I06S,      27,          2,          8,          8,2,20080213,       1920,   -40.5042,    29.9963,       4639,  2689.3,   2.3331,  34.8195,2,  34.8192,2,    217.1,2,   217.1,2,   62.96,2,   26.55,2,    0.00,2,    1.81,2,   0.026,2,   0.013,2,  -0.004,2,  2218.5,2,  2344.0,2,   7.8639,2,    13.00,    -999,9,    -999,9,    -999,9,2.3326,2,-999,9,-999,9,-999,    -999,9,    -999,0.322,2,-999,9,-999,9,   40.49,2,-999,1, 20080213,     2007, -40.5042,  29.9963,    -999,-999,9,     -999,9,     -999,9,     -999,9,     -999,9,     -999,9,     -999,9,-999,9,     -999,9,     -999,9,     -999,9,    -999,    -999