BOTTLE,20220706CCHSIOAMB
# Changed units of DELSI30 from nothing to /MILLE
#BOTTLE,20220525CCHSIOCBG
# Merged parameters: CCL4, CCL4_FLAG_W
#20220426CCHSIOCBG
# CFC-11, CFC-12, and CFC113 flag from 2 to 4 at (sta 2, ca 1, btl 4)
# changed DATE and TIME from bottle date and time to cast date and time from BO event in SUM file
#BOTTLE,20160524SIOCCHCBG
# Merged parameters: DELO18, DELO18_FLAG_W
# Merged parameters: TRITUM, TRITER, TRITUM_FLAG_W
#BOTTLE,20160202PRINUNIVRMK
# 2/2/16 contamination corrected data from Jenkins 
# 12/3/15 revised tritium data from Jenkins 
# 6/8/15:Added O18 data and assigned flag of 2 for each datum;RMK 
# Added H3, He, He3, Ne data 
#20140821SIOCCHCBG
# Merged parameters: TRITUM, TRITER, TRITUM_FLAG_W
#20140205SIOCCHSE
# Merged parameters: DELHE3, DELHER, DELHE3_FLAG_W, HELIUM, HELIER, HELIUM_FLAG_W, NEON, NEONER, NEON_FLAG_W
#20140111SIOCCHRJL
# Added instructions for citation use
#BOTTLE,20131203CCHSIOCBG
# CFC-11, CFC-12, and CFC113 flag from 5 to 2 at (sta 2, ca 1, btl 4) (sta 3, ca 2, btl 1)
#BOTTLE,20130918SIOCCHCBG  
# Merged parameters: DELC14, DELC14_FLAG_W, C14ERR, DELC13, DELC13_FLAG_W
#20100913CCHDOSIOCBG
# code: copy_exchange_bot.rb (J. Fields)
# citations added by A. Barna
#BOTTLE,20091124CCHDOSIOJCF
# code : Justin Fields merge_exchange.rb
#
# DATA CITATION
#| CCHDO Citation Information
#|
#| Please cite data downloaded from CCHDO as: 
#| [Data providers of the parameter(s) used]. [Year of file access]. [CTD/Bottle] data from cruise [expocode], 
#| [format version used]. Accessed from CCHDO [url of cruise data page]. Access date [date of download].
#| [Applicable CCHDO cruise DOI if provided].
#|
#| For example: 
#| Swift, J. and Becker, S. 2019. CTD data from Cruise 33RR20160321, exchange version. Accessed from CCHDO 
#| https://cchdo.ucsd.edu/cruise/33RR20160321. Access date 2019-08-21. CCHDO cruise DOI: 10.7942/C2008W
#|
#| Information on the scientists who provided the different parameters can be found in the cruise report. 
#| Additionally, for US GO-SHIP cruises, this information is usually in the comments section in the text headers 
#| of the Exchange bottle files.
#|
#| Users are also encouraged to acknowledge the funding program that supported the data collection in their publication. 
#| For US GO-SHIP data this is the NSF/NOAA funded U.S Repeat Hydrography Program.
#|
#| For data citation, please use the data providers listed below. 
#|
#| Programs and Principal Investigators
#| 
#| PARAMETER/PROGRAM            PI NAME                    EMAIL ADDRESS
#| _________________________________________________________________________
#| CTDO/rosette/S/O2/nutrients  Jim Swift, UCSD/SIO        jswift@ucsd.edu
#| Transmissometer              Wilf Gardner, Texas A&M U  wgardner@ocean.tamu.edu
#| Underway bathymetry,         Frank Delahoyde, UCSD/SIO  frank@odf.ucsd.edu
#|   meteorology, gravimetry,   Shipboard Computer Group
#|   thermosalinograph         
#| Total alkalinity, pH         Andrew Dickson, UCSD/SIO   adickson@ucsd.edu
#| CO2, DIC and underway pCO2   Rik Wanninkhof             Rik.Wanninkhof@noaa.gov
#| DOM                          DOC/DON                    Craig Carlson - lead contact 
#|                              Dennis Hansell, UM RSMS    dhansell@rsmas.miami.edu
#| CDOM                         Norm Nelson, UCSB          norm@icess.ucsb.edu
#| 13C/14C, isotopic content    Ann McNichol, WHOI         amcnichol@whoi.edu
#|   of DIC                     Robert Key, Princeton      401 Sayre Hall
#|                                                         Princeton University
#|                                                         08544 Princeton , NJ
#| CFCs                         Rana Fine                  rfine@rsmas.miami.edu
#| He/Tr/Neon                   Bill Jenkins               wjenkins@whoi.edu
#| ADCP/LADCP                   Eric Firing, U Hawaii      efiring@soest.hawaii.edu
#| Trace elements               Chris Measures, U Hawaii   chrism@soest.hawaii.edu
#|                              Bill Landing, FSU          landing@ocean.fsu.edu
#| ARGO floats                  Stephen Riser, UW          riser@ocean.washington.edu
#|                              Anne Thresher, CSIRO       Ann.Thresher@csiro.au
#| Black Carbon                 Thorsten Dittmar, FSU      dittmar@ocean.fsu.edu
#| O18                          Mike Meredith              mmm@bas.ac.uk
#|
EXPOCODE,SECT_ID,STNNBR,CASTNO,SAMPNO,BTLNBR,BTLNBR_FLAG_W,DATE,TIME,LATITUDE,LONGITUDE,DEPTH,CTDPRS,CTDTMP,CTDSAL,CTDSAL_FLAG_W,SALNTY,SALNTY_FLAG_W,CTDOXY,CTDOXY_FLAG_W,OXYGEN,OXYGEN_FLAG_W,SILCAT,SILCAT_FLAG_W,NITRAT,NITRAT_FLAG_W,NITRIT,NITRIT_FLAG_W,PHSPHT,PHSPHT_FLAG_W,CFC-11,CFC-11_FLAG_W,CFC-12,CFC-12_FLAG_W,CFC113,CFC113_FLAG_W,TCARBN,TCARBN_FLAG_W,ALKALI,ALKALI_FLAG_W,PH_SWS,PH_SWS_FLAG_W,PH_TMP,TRITUM,TRITUM_FLAG_W,HELIUM,HELIUM_FLAG_W,DELHE3,DELHE3_FLAG_W,REFTMP,REFTMP_FLAG_W,DELC13,DELC13_FLAG_W,DELC14,DELC14_FLAG_W,C14ERR,NEON,NEON_FLAG_W,NEONER,CCL4,CCL4_FLAG_W,ALUMIN,ALUMIN_FLAG_W,DELO18,DELO18_FLAG_W,DOC,DOC_FLAG_W,TDN,TDN_FLAG_W,BTL_DATE,BTL_TIME,BTL_LAT,BTL_LON,TRITER,DELSI30,DELSI30_FLAG_W,CDOM380,CDOM380_FLAG_W,CDOM325,CDOM325_FLAG_W,CDOMSL,CDOMSL_FLAG_W,CDOM340,CDOM340_FLAG_W,CDOM443,CDOM443_FLAG_W,CDOMSN,CDOMSN_FLAG_W,BLACKC,BLACKC_FLAG_W,CDOM490,CDOM490_FLAG_W,CDOM412,CDOM412_FLAG_W,CDOM555,CDOM555_FLAG_W,DELHER,HELIER
,,,,,,,,,,,METERS,DBAR,ITS-90,PSS-78,,PSS-78,,UMOL/KG,,UMOL/KG,,UMOL/KG,,UMOL/KG,,UMOL/KG,,UMOL/KG,,PMOL/KG,,PMOL/KG,,PMOL/KG,,UMOL/KG,,UMOL/KG,,,,DEG C,TU,,NMOL/KG,,PERCNT,,DEG C,,/MILLE,,/MILLE,,/MILLE,NMOL/KG,,NMOL/KG,PMOL/KG,,NMOL/L,,/MILLE,,UMOL/KG,,UMOL/KG,,,,,,TU,/MILLE,,1/M,,1/M,,1/NM,,1/M,,1/M,,1/NM,,,,1/M,,1/M,,1/M,,PERCNT,NMOL/KG
33RR20080204,       I06S,       1,          2,         35,         35,2,20080205,       2126,   -33.2152,    28.0528,        180,     9.2,  26.2013,  35.3126,2,  35.3130,2,    210.8,2,   211.4,2,    1.65,2,   -0.01,2,    0.01,2,    0.11,2,   1.716,2,   1.090,2,   0.120,2,  1986.7,3,  2314.3,2,   8.1870,2,    20.00,    -999,9,    -999,9,    -999,9,-999,9,-999,9,-999,9,-999,    -999,9,    -999,-999,9,-999,9,-999,9,   68.20,2,-999,1, 20080205,     2207, -33.2382,  28.0182,    -999,-999,9,   0.0220,2,   0.0811,2,   0.0253,2,   0.0542,2,  -0.0001,4,   0.0245,2,-999,9,  -0.0037,4,   0.0062,2,  -0.0037,4,    -999,    -999
33RR20080204,       I06S,       1,          2,         36,         36,2,20080205,       2126,   -33.2152,    28.0528,        180,     9.5,  26.1664,  35.3121,2,     -999,9,     -999,9,    -999,9,    -999,9,    -999,9,    -999,9,    -999,9,   1.703,2,   1.093,2,   0.123,2,    -999,9,    -999,9,     -999,9,     -999,    -999,9,    -999,9,    -999,9,-999,9,-999,9,-999,9,-999,    -999,9,    -999,-999,9,-999,9,-999,9,    -999,9,-999,9, 20080205,     2208, -33.2389,  28.0171,    -999,-999,9,     -999,9,     -999,9,     -999,9,     -999,9,     -999,9,     -999,9,-999,9,     -999,9,     -999,9,     -999,9,    -999,    -999
33RR20080204,       I06S,       1,          2,         34,         34,2,20080205,       2126,   -33.2152,    28.0528,        180,    26.0,  24.3626,  35.2861,2,     -999,9,     -999,9,    -999,9,    -999,9,    -999,9,    -999,9,    -999,9,    -999,9,    -999,9,    -999,9,    -999,9,  2313.2,2,     -999,9,     -999,    -999,9,    -999,9,    -999,9,-999,9,-999,9,-999,9,-999,    -999,9,    -999,-999,9,-999,9,-999,9,    -999,9,-999,9, 20080205,     2204, -33.2360,  28.0218,    -999,-999,9,     -999,9,     -999,9,     -999,9,     -999,9,     -999,9,     -999,9,-999,9,     -999,9,     -999,9,     -999,9,    -999,    -999
33RR20080204,       I06S,       1,          2,         33,         33,2,20080205,       2126,   -33.2152,    28.0528,        180,    26.2,  24.3912,  35.2873,2,  35.2947,2,    208.8,2,   208.9,2,    2.24,2,    0.02,2,    0.01,2,    0.15,2,   1.811,2,   1.154,2,   0.104,2,  2000.4,2,  2313.5,2,   8.1430,2,    20.00,    -999,9,    -999,9,    -999,9,-999,9,-999,9,-999,9,-999,    -999,9,    -999,-999,9,-999,9,-999,9,   64.29,2,-999,1, 20080205,     2203, -33.2355,  28.0226,    -999,-999,9,   0.0342,2,   0.1210,2,   0.0224,2,   0.0837,2,   0.0062,2,   0.0228,2,-999,9,  -0.0007,4,   0.0176,2,  -0.0020,4,    -999,    -999
33RR20080204,       I06S,       1,          2,         31,         31,2,20080205,       2126,   -33.2152,    28.0528,        180,    45.7,  21.2364,  35.3057,2,  35.3028,2,    183.8,2,   181.2,2,    4.83,2,    3.89,2,    0.26,2,    0.42,2,   2.018,2,   1.235,2,   0.086,2,  2049.1,2,  2315.6,2,   8.0570,2,    20.00,    -999,9,    -999,9,    -999,9,-999,9,-999,9,-999,9,-999,    -999,9,    -999,-999,9,-999,9,-999,9,   57.27,2,-999,1, 20080205,     2159, -33.2330,  28.0264,    -999,-999,9,   0.0518,2,   0.1581,2,   0.0192,2,   0.1153,2,   0.0155,2,   0.0195,2,-999,9,   0.0022,2,   0.0323,2,  -0.0009,4,    -999,    -999
33RR20080204,       I06S,       1,          2,         32,         32,2,20080205,       2126,   -33.2152,    28.0528,        180,    46.2,  21.1601,  35.3066,2,     -999,9,     -999,9,    -999,9,    -999,9,    -999,9,    -999,9,    -999,9,    -999,9,    -999,9,    -999,9,    -999,9,  2315.6,2,     -999,9,     -999,    -999,9,    -999,9,    -999,9,-999,9,-999,9,-999,9,-999,    -999,9,    -999,-999,9,-999,9,-999,9,    -999,9,-999,9, 20080205,     2200, -33.2335,  28.0257,    -999,-999,9,     -999,9,     -999,9,     -999,9,     -999,9,     -999,9,     -999,9,-999,9,     -999,9,     -999,9,     -999,9,    -999,    -999
33RR20080204,       I06S,       1,          2,         29,         29,2,20080205,       2126,   -33.2152,    28.0528,        180,    76.7,  17.0779,  35.3085,2,  35.3269,2,    164.7,2,   161.8,2,    8.82,2,   10.36,2,    0.04,2,    0.78,2,   2.245,2,   1.305,2,   0.038,2,  2105.6,2,  2318.8,2,   7.9570,2,    20.00,    -999,9,    -999,9,    -999,9,-999,9,-999,9,-999,9,-999,    -999,9,    -999,-999,9,-999,9,-999,9,   55.61,2,-999,1, 20080205,     2154, -33.2302,  28.0310,    -999,-999,9,   0.0289,2,   0.1011,2,   0.0201,2,   0.0699,2,   0.0071,2,   0.0220,2,-999,9,  -0.0007,4,   0.0175,2,  -0.0021,4,    -999,    -999
33RR20080204,       I06S,       1,          2,         30,         30,2,20080205,       2126,   -33.2152,    28.0528,        180,    78.1,  17.1795,  35.3128,2,     -999,9,     -999,9,    -999,9,    -999,9,    -999,9,    -999,9,    -999,9,    -999,9,    -999,9,    -999,9,    -999,9,  2318.6,2,     -999,9,     -999,    -999,9,    -999,9,    -999,9,-999,9,-999,9,-999,9,-999,    -999,9,    -999,-999,9,-999,9,-999,9,    -999,9,-999,9, 20080205,     2155, -33.2306,  28.0303,    -999,-999,9,     -999,9,     -999,9,     -999,9,     -999,9,     -999,9,     -999,9,-999,9,     -999,9,     -999,9,     -999,9,    -999,    -999
33RR20080204,       I06S,       1,          2,         28,         28,2,20080205,       2126,   -33.2152,    28.0528,        180,   103.7,  14.1590,  35.2311,2,     -999,9,     -999,9,    -999,9,    -999,9,    -999,9,    -999,9,    -999,9,    -999,9,    -999,9,    -999,9,    -999,9,  2319.0,2,     -999,9,     -999,    -999,9,    -999,9,    -999,9,-999,9,-999,9,-999,9,-999,    -999,9,    -999,-999,9,-999,9,-999,9,    -999,9,-999,9, 20080205,     2150, -33.2273,  28.0353,    -999,-999,9,     -999,9,     -999,9,     -999,9,     -999,9,     -999,9,     -999,9,-999,9,     -999,9,     -999,9,     -999,9,    -999,    -999
33RR20080204,       I06S,       1,          2,         27,         27,2,20080205,       2126,   -33.2152,    28.0528,        180,   104.0,  14.4796,  35.2411,2,  35.2471,2,    173.5,2,   175.5,2,    9.43,2,   12.25,2,    0.02,2,    0.92,2,   2.528,2,   1.395,2,   0.042,2,  2123.5,2,  2318.0,2,   7.9190,2,    20.00,    -999,9,    -999,9,    -999,9,-999,9,-999,9,-999,9,-999,    -999,9,    -999,-999,9,-999,9,-999,9,   50.54,2,-999,1, 20080205,     2149, -33.2267,  28.0361,    -999,-999,9,   0.0330,2,   0.0975,2,   0.0194,2,   0.0722,2,   0.0096,2,   0.0196,2,-999,9,  -0.0014,4,   0.0178,2,  -0.0033,4,    -999,    -999
33RR20080204,       I06S,       1,          2,         25,         25,2,20080205,       2126,   -33.2152,    28.0528,        180,   158.4,  11.2706,  34.9945,2,     -999,9,     -999,9,    -999,9,    -999,9,    -999,9,    -999,9,    -999,9,    -999,9,    -999,9,    -999,9,    -999,9,    -999,9,     -999,9,     -999,    -999,9,    -999,9,    -999,9,-999,9,-999,9,-999,9,-999,    -999,9,    -999,-999,9,-999,9,-999,9,    -999,9,-999,9, 20080205,     2144, -33.2236,  28.0405,    -999,-999,9,     -999,9,     -999,9,     -999,9,     -999,9,     -999,9,     -999,9,-999,9,     -999,9,     -999,9,     -999,9,    -999,    -999
33RR20080204,       I06S,       1,          2,         11,         11,2,20080205,       2126,   -33.2152,    28.0528,        180,   158.6,  11.1632,  34.9812,2,     -999,9,     -999,9,    -999,9,    -999,9,    -999,9,    -999,9,    -999,9,    -999,9,    -999,9,    -999,9,    -999,9,    -999,9,     -999,9,     -999,    -999,9,    -999,9,    -999,9,-999,9,-999,9,-999,9,-999,    -999,9,    -999,-999,9,-999,9,-999,9,    -999,9,-999,9, 20080205,     2135, -33.2196,  28.0464,    -999,-999,9,     -999,9,     -999,9,     -999,9,     -999,9,     -999,9,     -999,9,-999,9,     -999,9,     -999,9,     -999,9,    -999,    -999
33RR20080204,       I06S,       1,          2,          3,          3,2,20080205,       2126,   -33.2152,    28.0528,        180,   158.8,  10.9908,  34.9668,2,     -999,9,     -999,9,    -999,9,    -999,9,    -999,9,    -999,9,    -999,9,    -999,9,    -999,9,    -999,9,    -999,9,    -999,9,     -999,9,     -999,    -999,9,    -999,9,    -999,9,-999,9,-999,9,-999,9,-999,    -999,9,    -999,-999,9,-999,9,-999,9,    -999,9,-999,9, 20080205,     2130, -33.2169,  28.0503,    -999,-999,9,     -999,9,     -999,9,     -999,9,     -999,9,     -999,9,     -999,9,-999,9,     -999,9,     -999,9,     -999,9,    -999,    -999
33RR20080204,       I06S,       1,          2,         26,         26,2,20080205,       2126,   -33.2152,    28.0528,        180,   159.3,  11.2599,  34.9919,2,     -999,9,     -999,9,    -999,9,    -999,9,    -999,9,    -999,9,    -999,9,    -999,9,    -999,9,    -999,9,    -999,9,    -999,9,     -999,9,     -999,    -999,9,    -999,9,    -999,9,-999,9,-999,9,-999,9,-999,    -999,9,    -999,-999,9,-999,9,-999,9,    -999,9,-999,9, 20080205,     2145, -33.2241,  28.0398,    -999,-999,9,     -999,9,     -999,9,     -999,9,     -999,9,     -999,9,     -999,9,-999,9,     -999,9,     -999,9,     -999,9,    -999,    -999
33RR20080204,       I06S,       1,          2,         24,         24,2,20080205,       2126,   -33.2152,    28.0528,        180,   159.8,  11.2397,  34.9912,2,     -999,9,     -999,9,    -999,9,    -999,9,    -999,9,    -999,9,    -999,9,    -999,9,    -999,9,    -999,9,    -999,9,    -999,9,     -999,9,     -999,    -999,9,    -999,9,    -999,9,-999,9,-999,9,-999,9,-999,    -999,9,    -999,-999,9,-999,9,-999,9,    -999,9,-999,9, 20080205,     2143, -33.2234,  28.0409,    -999,-999,9,     -999,9,     -999,9,     -999,9,     -999,9,     -999,9,     -999,9,-999,9,     -999,9,     -999,9,     -999,9,    -999,    -999
33RR20080204,       I06S,       1,          2,         13,         13,2,20080205,       2126,   -33.2152,    28.0528,        180,   159.8,  11.3333,  34.9959,2,     -999,9,     -999,9,    -999,9,    -999,9,    -999,9,    -999,9,    -999,9,    -999,9,    -999,9,    -999,9,    -999,9,    -999,9,     -999,9,     -999,    -999,9,    -999,9,    -999,9,-999,9,-999,9,-999,9,-999,    -999,9,    -999,-999,9,-999,9,-999,9,    -999,9,-999,9, 20080205,     2136, -33.2202,  28.0455,    -999,-999,9,     -999,9,     -999,9,     -999,9,     -999,9,     -999,9,     -999,9,-999,9,     -999,9,     -999,9,     -999,9,    -999,    -999
33RR20080204,       I06S,       1,          2,          7,          7,2,20080205,       2126,   -33.2152,    28.0528,        180,   160.0,  11.1783,  34.9843,2,     -999,9,     -999,9,    -999,9,    -999,9,    -999,9,    -999,9,    -999,9,    -999,9,    -999,9,    -999,9,    -999,9,    -999,9,     -999,9,     -999,    -999,9,    -999,9,    -999,9,-999,9,-999,9,-999,9,-999,    -999,9,    -999,-999,9,-999,9,-999,9,    -999,9,-999,9, 20080205,     2133, -33.2183,  28.0482,    -999,-999,9,     -999,9,     -999,9,     -999,9,     -999,9,     -999,9,     -999,9,-999,9,     -999,9,     -999,9,     -999,9,    -999,    -999
33RR20080204,       I06S,       1,          2,          6,          6,2,20080205,       2126,   -33.2152,    28.0528,        180,   160.1,  11.1506,  34.9819,2,     -999,9,     -999,9,    -999,9,    -999,9,    -999,9,    -999,9,    -999,9,    -999,9,    -999,9,    -999,9,    -999,9,    -999,9,     -999,9,     -999,    -999,9,    -999,9,    -999,9,-999,9,-999,9,-999,9,-999,    -999,9,    -999,-999,9,-999,9,-999,9,    -999,9,-999,9, 20080205,     2132, -33.2181,  28.0486,    -999,-999,9,     -999,9,     -999,9,     -999,9,     -999,9,     -999,9,     -999,9,-999,9,     -999,9,     -999,9,     -999,9,    -999,    -999
33RR20080204,       I06S,       1,          2,         23,         23,2,20080205,       2126,   -33.2152,    28.0528,        180,   160.2,  11.5445,  35.0197,2,     -999,9,     -999,9,    -999,9,    -999,9,    -999,9,    -999,9,    -999,9,   2.671,2,   1.504,2,   0.046,2,    -999,9,    -999,9,     -999,9,     -999,    -999,9,    -999,9,    -999,9,-999,9,-999,9,-999,9,-999,    -999,9,    -999,-999,9,-999,9,-999,9,    -999,9,-999,9, 20080205,     2142, -33.2229,  28.0416,    -999,-999,9,     -999,9,     -999,9,     -999,9,     -999,9,     -999,9,     -999,9,-999,9,     -999,9,     -999,9,     -999,9,    -999,    -999
33RR20080204,       I06S,       1,          2,          5,          5,2,20080205,       2126,   -33.2152,    28.0528,        180,   160.5,  11.1793,  34.9821,2,     -999,9,     -999,9,    -999,9,    -999,9,    -999,9,    -999,9,    -999,9,    -999,9,    -999,9,    -999,9,    -999,9,    -999,9,     -999,9,     -999,    -999,9,    -999,9,    -999,9,-999,9,-999,9,-999,9,-999,    -999,9,    -999,-999,9,-999,9,-999,9,    -999,9,-999,9, 20080205,     2131, -33.2177,  28.0492,    -999,-999,9,     -999,9,     -999,9,     -999,9,     -999,9,     -999,9,     -999,9,-999,9,     -999,9,     -999,9,     -999,9,    -999,    -999
33RR20080204,       I06S,       1,          2,          4,          4,2,20080205,       2126,   -33.2152,    28.0528,        180,   160.6,  11.1208,  34.9763,2,     -999,9,     -999,9,    -999,9,    -999,9,    -999,9,    -999,9,    -999,9,    -999,9,    -999,9,    -999,9,    -999,9,    -999,9,     -999,9,     -999,    -999,9,    -999,9,    -999,9,-999,9,-999,9,-999,9,-999,    -999,9,    -999,-999,9,-999,9,-999,9,    -999,9,-999,9, 20080205,     2131, -33.2173,  28.0497,    -999,-999,9,     -999,9,     -999,9,     -999,9,     -999,9,     -999,9,     -999,9,-999,9,     -999,9,     -999,9,     -999,9,    -999,    -999
33RR20080204,       I06S,       1,          2,          9,          9,2,20080205,       2126,   -33.2152,    28.0528,        180,   160.8,  11.1389,  34.9813,2,     -999,9,     -999,9,    -999,9,    -999,9,    -999,9,    -999,9,    -999,9,    -999,9,    -999,9,    -999,9,    -999,9,    -999,9,     -999,9,     -999,    -999,9,    -999,9,    -999,9,-999,9,-999,9,-999,9,-999,    -999,9,    -999,-999,9,-999,9,-999,9,    -999,9,-999,9, 20080205,     2134, -33.2188,  28.0475,    -999,-999,9,     -999,9,     -999,9,     -999,9,     -999,9,     -999,9,     -999,9,-999,9,     -999,9,     -999,9,     -999,9,    -999,    -999