BOTTLE,20220706CCHSIOAMB
EXPOCODE,SECT_ID,STNNBR,CASTNO,SAMPNO,BTLNBR,BTLNBR_FLAG_W,DATE,TIME,LATITUDE,LONGITUDE,DEPTH,CTDPRS,CTDTMP,CTDSAL,CTDSAL_FLAG_W,SALNTY,SALNTY_FLAG_W,CTDOXY,CTDOXY_FLAG_W,OXYGEN,OXYGEN_FLAG_W,SILCAT,SILCAT_FLAG_W,NITRAT,NITRAT_FLAG_W,NITRIT,NITRIT_FLAG_W,PHSPHT,PHSPHT_FLAG_W,CFC-11,CFC-11_FLAG_W,CFC-12,CFC-12_FLAG_W,CFC113,CFC113_FLAG_W,TCARBN,TCARBN_FLAG_W,ALKALI,ALKALI_FLAG_W,PH_SWS,PH_SWS_FLAG_W,PH_TMP,TRITUM,TRITUM_FLAG_W,HELIUM,HELIUM_FLAG_W,DELHE3,DELHE3_FLAG_W,REFTMP,REFTMP_FLAG_W,DELC13,DELC13_FLAG_W,DELC14,DELC14_FLAG_W,C14ERR,NEON,NEON_FLAG_W,NEONER,CCL4,CCL4_FLAG_W,ALUMIN,ALUMIN_FLAG_W,DELO18,DELO18_FLAG_W,DOC,DOC_FLAG_W,TDN,TDN_FLAG_W,BTL_DATE,BTL_TIME,BTL_LAT,BTL_LON,TRITER,DELSI30,DELSI30_FLAG_W,CDOM380,CDOM380_FLAG_W,CDOM325,CDOM325_FLAG_W,CDOMSL,CDOMSL_FLAG_W,CDOM340,CDOM340_FLAG_W,CDOM443,CDOM443_FLAG_W,CDOMSN,CDOMSN_FLAG_W,BLACKC,BLACKC_FLAG_W,CDOM490,CDOM490_FLAG_W,CDOM412,CDOM412_FLAG_W,CDOM555,CDOM555_FLAG_W,DELHER,HELIER
,,,,,,,,,,,METERS,DBAR,ITS-90,PSS-78,,PSS-78,,UMOL/KG,,UMOL/KG,,UMOL/KG,,UMOL/KG,,UMOL/KG,,UMOL/KG,,PMOL/KG,,PMOL/KG,,PMOL/KG,,UMOL/KG,,UMOL/KG,,,,DEG C,TU,,NMOL/KG,,PERCNT,,DEG C,,/MILLE,,/MILLE,,/MILLE,NMOL/KG,,NMOL/KG,PMOL/KG,,NMOL/L,,/MILLE,,UMOL/KG,,UMOL/KG,,,,,,TU,/MILLE,,1/M,,1/M,,1/NM,,1/M,,1/M,,1/NM,,,,1/M,,1/M,,1/M,,PERCNT,NMOL/KG
33RR20080204,       I06S,      28,          1,         36,         36,2,20080214,       0156,   -40.9960,    29.9922,       4481,     2.2,  16.1155,  35.2971,2,  35.2964,2,    246.5,2,   247.4,2,    1.84,2,    1.58,2,    0.06,2,    0.26,2,    -999,9,    -999,9,    -999,9,  2057.0,2,  2324.7,2,     -999,9,    13.00,   0.525,2,   1.737,2,   -1.25,2,-999,9,-999,9,-999,9,-999,   7.140,2,   0.027,-999,9,-999,9,-999,9,    -999,9,-999,9, 20080214,     0346, -40.9956,  29.9905,   0.009,-999,9,     -999,9,     -999,9,     -999,9,     -999,9,     -999,9,     -999,9,-999,9,     -999,9,     -999,9,     -999,9,    0.15,   0.007
33RR20080204,       I06S,      28,          1,         35,         35,2,20080214,       0156,   -40.9960,    29.9922,       4481,     2.5,  16.1041,  35.2974,2,  35.2961,2,    246.5,2,   248.1,2,    1.64,2,    1.58,2,    0.07,2,    0.26,2,   2.701,2,   1.603,2,   0.201,2,  2057.8,2,  2325.1,2,   8.1811,2,    13.00,    -999,9,    -999,9,    -999,9,16.1171,2,-999,9,-999,9,-999,    -999,9,    -999,3.608,2,-999,9,-999,9,    -999,9,-999,9, 20080214,     0346, -40.9956,  29.9905,    -999,-999,9,     -999,9,     -999,9,     -999,9,     -999,9,     -999,9,     -999,9,-999,9,     -999,9,     -999,9,     -999,9,    -999,    -999
33RR20080204,       I06S,      28,          1,         34,         34,2,20080214,       0156,   -40.9960,    29.9922,       4481,    31.2,  15.3184,  35.2238,2,  35.2229,2,    248.2,2,   248.6,2,    1.24,2,    2.07,2,    0.11,2,    0.31,2,   2.804,2,   1.662,2,   0.215,2,    -999,9,  2321.6,2,     -999,9,     -999,    -999,9,    -999,9,    -999,9,15.3308,2,-999,9,-999,9,-999,    -999,9,    -999,3.589,2,-999,9,-999,9,    -999,9,-999,9, 20080214,     0345, -40.9956,  29.9906,    -999,-999,9,     -999,9,     -999,9,     -999,9,     -999,9,     -999,9,     -999,9,-999,9,     -999,9,     -999,9,     -999,9,    -999,    -999
33RR20080204,       I06S,      28,          1,         33,         33,2,20080214,       0156,   -40.9960,    29.9922,       4481,    50.1,  15.0950,  35.2244,2,  35.2242,2,    249.3,2,   250.2,2,    1.03,2,    1.88,2,    0.10,2,    0.30,2,   2.845,2,   1.673,2,   0.209,2,    -999,9,  2321.7,2,     -999,9,     -999,    -999,9,    -999,9,    -999,9,15.09,2,-999,9,-999,9,-999,    -999,9,    -999,3.481,2,-999,9,-999,9,    -999,9,-999,9, 20080214,     0343, -40.9955,  29.9907,    -999,-999,9,     -999,9,     -999,9,     -999,9,     -999,9,     -999,9,     -999,9,-999,9,     -999,9,     -999,9,     -999,9,    -999,    -999
33RR20080204,       I06S,      28,          1,         32,         32,2,20080214,       0156,   -40.9960,    29.9922,       4481,    81.7,  14.8867,  35.2725,2,  35.2813,2,    241.9,2,   230.2,2,    2.60,2,    4.45,2,    0.13,2,    0.46,2,   2.830,2,   1.670,2,   0.169,2,    -999,9,    -999,9,     -999,9,     -999,   0.487,2,   1.788,2,   -0.94,2,14.8939,2,-999,9,-999,9,-999,   7.340,2,   0.028,2.865,2,-999,9,-999,9,    -999,9,-999,9, 20080214,     0342, -40.9955,  29.9909,   0.009,-999,9,     -999,9,     -999,9,     -999,9,     -999,9,     -999,9,     -999,9,-999,9,     -999,9,     -999,9,     -999,9,    0.15,   0.007
33RR20080204,       I06S,      28,          1,         31,         31,2,20080214,       0156,   -40.9960,    29.9922,       4481,   104.5,  14.0977,  35.2923,2,  35.3008,2,    214.5,2,   212.8,2,    4.77,2,    8.24,2,    0.03,2,    0.67,2,   2.923,2,   1.685,2,   0.114,2,    -999,9,  2321.5,2,     -999,9,     -999,    -999,9,    -999,9,    -999,9,14.0358,3,-999,9,-999,9,-999,    -999,9,    -999,2.36,2,-999,9,-999,9,    -999,9,-999,9, 20080214,     0341, -40.9955,  29.9909,    -999,-999,9,     -999,9,     -999,9,     -999,9,     -999,9,     -999,9,     -999,9,-999,9,     -999,9,     -999,9,     -999,9,    -999,    -999
33RR20080204,       I06S,      28,          1,         30,         30,2,20080214,       0156,   -40.9960,    29.9922,       4481,   158.4,  12.6727,  35.0964,2,  35.0989,2,    224.3,2,   226.5,2,    4.36,2,    9.83,2,    0.02,2,    0.77,2,   3.172,2,   1.807,2,   0.158,2,    -999,9,    -999,9,     -999,9,     -999,   0.424,2,   1.769,2,   -0.64,2,12.6308,3,-999,9,-999,9,-999,   7.390,2,   0.028,2.741,2,-999,9,-999,9,    -999,9,-999,9, 20080214,     0339, -40.9954,  29.9911,   0.009,-999,9,     -999,9,     -999,9,     -999,9,     -999,9,     -999,9,     -999,9,-999,9,     -999,9,     -999,9,     -999,9,    0.15,   0.007
33RR20080204,       I06S,      28,          1,         29,         29,2,20080214,       0156,   -40.9960,    29.9922,       4481,   207.4,  11.8511,  34.9940,2,  34.9918,2,    230.6,2,   232.5,2,    4.56,2,   11.27,2,    0.02,2,    0.86,2,   3.263,2,   1.860,2,   0.179,2,    -999,9,  2308.6,2,     -999,9,     -999,    -999,9,    -999,9,    -999,9,11.8568,2,-999,9,-999,9,-999,    -999,9,    -999,2.86,2,-999,9,-999,9,    -999,9,-999,9, 20080214,     0338, -40.9953,  29.9912,    -999,-999,9,     -999,9,     -999,9,     -999,9,     -999,9,     -999,9,     -999,9,-999,9,     -999,9,     -999,9,     -999,9,    -999,    -999
33RR20080204,       I06S,      28,          1,         28,         28,2,20080214,       0156,   -40.9960,    29.9922,       4481,   258.1,  11.0202,  34.8876,2,  34.8883,2,    232.8,2,   234.7,2,    5.14,2,   12.80,2,    0.02,2,    0.95,2,   3.381,2,   1.899,2,   0.205,2,    -999,9,    -999,9,     -999,9,     -999,   0.363,2,   1.769,2,   -0.51,2,11.0402,2,-999,9,-999,9,-999,   7.430,2,   0.028,3.117,2,-999,9,-999,9,    -999,9,-999,9, 20080214,     0337, -40.9953,  29.9914,   0.009,-999,9,     -999,9,     -999,9,     -999,9,     -999,9,     -999,9,     -999,9,-999,9,     -999,9,     -999,9,     -999,9,    0.15,   0.007
33RR20080204,       I06S,      28,          1,         27,         27,2,20080214,       0156,   -40.9960,    29.9922,       4481,   307.0,  10.5315,  34.8229,2,  34.8287,2,    237.2,2,   236.2,2,    5.33,2,   13.74,2,    0.02,2,    1.01,2,   3.360,2,   1.894,2,   0.215,2,    -999,9,  2301.3,2,     -999,9,     -999,    -999,9,    -999,9,    -999,9,10.5481,2,-999,9,-999,9,-999,    -999,9,    -999,3.046,2,-999,9,-999,9,    -999,9,-999,9, 20080214,     0335, -40.9952,  29.9915,    -999,-999,9,     -999,9,     -999,9,     -999,9,     -999,9,     -999,9,     -999,9,-999,9,     -999,9,     -999,9,     -999,9,    -999,    -999
33RR20080204,       I06S,      28,          1,         26,         26,2,20080214,       0156,   -40.9960,    29.9922,       4481,   354.1,   9.9937,  34.7409,2,  34.7395,2,    234.6,2,   238.8,2,    5.72,2,   14.88,2,    0.02,2,    1.08,2,   3.429,2,   1.942,2,   0.220,2,    -999,9,    -999,9,     -999,9,     -999,   0.316,2,   1.791,2,   -0.38,2,9.9986,2,-999,9,-999,9,-999,   7.570,2,   0.029,3.024,2,-999,9,-999,9,    -999,9,-999,9, 20080214,     0334, -40.9952,  29.9917,   0.009,-999,9,     -999,9,     -999,9,     -999,9,     -999,9,     -999,9,     -999,9,-999,9,     -999,9,     -999,9,     -999,9,    0.15,   0.007
33RR20080204,       I06S,      28,          1,         25,         25,2,20080214,       0156,   -40.9960,    29.9922,       4481,   407.2,   9.7774,  34.7458,2,  34.7481,2,    222.3,2,   221.9,2,    7.29,2,   16.63,2,    0.01,2,    1.19,2,   3.311,2,   1.800,2,   0.171,2,    -999,9,  2298.2,2,     -999,9,     -999,    -999,9,    -999,9,    -999,9,9.788,2,-999,9,-999,9,-999,    -999,9,    -999,2.705,2,-999,9,-999,9,    -999,9,-999,9, 20080214,     0332, -40.9952,  29.9917,    -999,-999,9,     -999,9,     -999,9,     -999,9,     -999,9,     -999,9,     -999,9,-999,9,     -999,9,     -999,9,     -999,9,    -999,    -999
33RR20080204,       I06S,      28,          1,         24,         24,2,20080214,       0156,   -40.9960,    29.9922,       4481,   457.6,   9.2933,  34.6979,2,  34.6984,2,    213.1,2,   214.6,2,    8.86,2,   18.48,2,    0.01,2,    1.30,2,   3.258,2,   1.728,2,   0.151,2,    -999,9,    -999,9,     -999,9,     -999,   0.266,2,   1.768,2,    0.69,2,9.3182,2,-999,9,-999,9,-999,   7.485,2,   0.028,2.312,2,-999,9,-999,9,    -999,9,-999,9, 20080214,     0330, -40.9951,  29.9917,   0.009,-999,9,     -999,9,     -999,9,     -999,9,     -999,9,     -999,9,     -999,9,-999,9,     -999,9,     -999,9,     -999,9,    0.15,   0.007
33RR20080204,       I06S,      28,          1,         23,         23,2,20080214,       0156,   -40.9960,    29.9922,       4481,   505.7,   8.8345,  34.6590,2,  34.6589,2,    207.6,2,   207.5,2,   11.23,2,   20.33,2,    0.01,2,    1.42,2,   3.119,2,   1.622,2,   0.150,2,    -999,9,  2294.0,2,     -999,9,     -999,   0.241,2,   1.785,2,    1.05,2,8.8326,2,-999,9,-999,9,-999,   7.556,2,   0.029,2.662,2,-999,9,-999,9,    -999,9,-999,9, 20080214,     0328, -40.9951,  29.9917,   0.009,-999,9,     -999,9,     -999,9,     -999,9,     -999,9,     -999,9,     -999,9,-999,9,     -999,9,     -999,9,     -999,9,    0.15,   0.007
33RR20080204,       I06S,      28,          1,         22,         22,2,20080214,       0156,   -40.9960,    29.9922,       4481,   606.5,   7.5868,  34.5523,2,  34.5498,2,    199.3,2,   199.5,2,   16.97,2,   24.19,2,    0.00,2,    1.67,2,   2.725,2,   1.411,2,   0.142,2,    -999,9,    -999,9,     -999,9,     -999,   0.177,2,   1.867,2,    1.70,2,7.5844,2,-999,9,-999,9,-999,   8.034,2,   0.031,2.681,2,-999,9,-999,9,    -999,9,-999,9, 20080214,     0325, -40.9950,  29.9916,   0.009,-999,9,     -999,9,     -999,9,     -999,9,     -999,9,     -999,9,     -999,9,-999,9,     -999,9,     -999,9,     -999,9,    0.15,   0.007
33RR20080204,       I06S,      28,          1,         21,         21,2,20080214,       0156,   -40.9960,    29.9922,       4481,   707.7,   6.1908,  34.4415,2,  34.4404,2,    200.9,2,   202.6,2,   22.72,2,   27.17,2,    0.00,2,    1.87,2,   2.665,2,   1.359,2,   0.172,2,    -999,9,  2295.3,2,     -999,9,     -999,   0.117,2,    -999,9,    -999,9,6.1941,2,-999,9,-999,9,-999,    -999,9,    -999,3.129,2,-999,9,-999,9,    -999,9,-999,9, 20080214,     0322, -40.9949,  29.9917,   0.009,-999,9,     -999,9,     -999,9,     -999,9,     -999,9,     -999,9,     -999,9,-999,9,     -999,9,     -999,9,     -999,9,    -999,    -999
33RR20080204,       I06S,      28,          1,         20,         20,2,20080214,       0156,   -40.9960,    29.9922,       4481,   805.8,   5.3122,  34.3984,2,  34.3976,2,    202.9,2,   204.0,2,   28.47,2,   28.93,2,    0.00,2,    2.00,2,   2.485,2,   1.256,2,   0.143,2,    -999,9,    -999,9,     -999,9,     -999,   0.083,2,   1.848,2,    2.60,2,5.3108,2,-999,9,-999,9,-999,   7.928,2,   0.030,2.814,2,-999,9,-999,9,    -999,9,-999,9, 20080214,     0319, -40.9949,  29.9916,   0.009,-999,9,     -999,9,     -999,9,     -999,9,     -999,9,     -999,9,     -999,9,-999,9,     -999,9,     -999,9,     -999,9,    0.15,   0.007
33RR20080204,       I06S,      28,          1,         19,         19,2,20080214,       0156,   -40.9960,    29.9922,       4481,   907.0,   4.7733,  34.4267,2,  34.4249,2,    194.0,2,   190.7,2,   37.83,2,   30.80,2,    0.00,2,    2.14,2,   1.815,6,   0.906,6,   0.095,6,    -999,9,  2308.0,2,     -999,9,     -999,   0.053,2,   1.808,2,    4.12,2,4.7755,2,-999,9,-999,9,-999,   7.791,2,   0.030,2.3505,6,-999,9,-999,9,    -999,9,-999,9, 20080214,     0317, -40.9949,  29.9916,   0.009,-999,9,     -999,9,     -999,9,     -999,9,     -999,9,     -999,9,     -999,9,-999,9,     -999,9,     -999,9,     -999,9,    0.15,   0.007
33RR20080204,       I06S,      28,          1,         18,         18,2,20080214,       0156,   -40.9960,    29.9922,       4481,  1009.9,   4.3794,  34.4617,2,  34.4610,2,    182.3,2,   179.4,2,   46.80,2,   32.01,2,    0.00,2,    2.24,2,   1.297,2,   0.662,2,   0.076,2,    -999,9,    -999,9,     -999,9,     -999,    -999,9,    -999,9,    -999,9,4.3784,2,-999,9,-999,9,-999,    -999,9,    -999,2.426,2,-999,9,-999,9,    -999,9,-999,9, 20080214,     0314, -40.9948,  29.9916,    -999,-999,9,     -999,9,     -999,9,     -999,9,     -999,9,     -999,9,     -999,9,-999,9,     -999,9,     -999,9,     -999,9,    -999,    -999
33RR20080204,       I06S,      28,          1,         17,         17,2,20080214,       0156,   -40.9960,    29.9922,       4481,  1107.4,   3.7705,  34.4445,2,  34.4434,2,    181.6,2,   182.6,2,   50.20,2,   32.93,2,    0.00,2,    2.27,2,   1.222,2,   0.612,2,   0.077,2,    -999,9,  2317.0,2,     -999,9,     -999,   0.022,2,   1.846,2,    5.52,2,3.7614,2,-999,9,-999,9,-999,   7.961,2,   0.030,2.439,2,-999,9,-999,9,    -999,9,-999,9, 20080214,     0311, -40.9948,  29.9916,   0.009,-999,9,     -999,9,     -999,9,     -999,9,     -999,9,     -999,9,     -999,9,-999,9,     -999,9,     -999,9,     -999,9,    0.15,   0.007
33RR20080204,       I06S,      28,          1,         16,         16,2,20080214,       0156,   -40.9960,    29.9922,       4481,  1209.6,   3.1084,  34.4217,2,  34.4196,2,    187.1,2,   188.2,2,   53.40,2,   33.58,2,    0.00,2,    2.31,2,   1.229,2,   0.611,2,   0.083,2,    -999,9,    -999,9,     -999,9,     -999,    -999,9,    -999,9,    -999,9,3.1097,2,-999,9,-999,9,-999,    -999,9,    -999,2.234,2,-999,9,-999,9,    -999,9,-999,9, 20080214,     0309, -40.9948,  29.9915,    -999,-999,9,     -999,9,     -999,9,     -999,9,     -999,9,     -999,9,     -999,9,-999,9,     -999,9,     -999,9,     -999,9,    -999,    -999
33RR20080204,       I06S,      28,          1,         15,         15,2,20080214,       0156,   -40.9960,    29.9922,       4481,  1319.2,   3.0220,  34.5025,2,  34.5010,2,    178.3,2,   178.0,2,   61.21,2,   33.79,2,    0.00,2,    2.33,2,   0.722,2,   0.373,2,   0.044,2,    -999,9,  2325.1,2,     -999,9,     -999,   0.027,2,   1.843,2,    6.98,2,3.0196,2,-999,9,-999,9,-999,   7.921,2,   0.030,1.593,2,-999,9,-999,9,    -999,9,-999,9, 20080214,     0306, -40.9948,  29.9916,   0.009,-999,9,     -999,9,     -999,9,     -999,9,     -999,9,     -999,9,     -999,9,-999,9,     -999,9,     -999,9,     -999,9,    0.15,   0.007
33RR20080204,       I06S,      28,          1,         14,         14,2,20080214,       0156,   -40.9960,    29.9922,       4481,  1422.4,   3.0831,  34.5732,2,  34.5727,2,    171.2,2,   171.3,2,   65.62,2,   33.32,2,    0.00,2,    2.31,2,   0.396,2,   0.209,2,   0.028,2,    -999,9,    -999,9,     -999,9,     -999,    -999,9,    -999,9,    -999,9,3.0796,2,-999,9,-999,9,-999,    -999,9,    -999,1.171,2,-999,9,-999,9,    -999,9,-999,9, 20080214,     0303, -40.9948,  29.9915,    -999,-999,9,     -999,9,     -999,9,     -999,9,     -999,9,     -999,9,     -999,9,-999,9,     -999,9,     -999,9,     -999,9,    -999,    -999
33RR20080204,       I06S,      28,          1,         13,         13,2,20080214,       0156,   -40.9960,    29.9922,       4481,  1521.4,   2.8778,  34.6038,2,  34.6020,2,    173.8,2,   174.3,2,   67.03,2,   33.07,2,    0.00,2,    2.28,2,   0.320,2,   0.174,2,   0.043,2,    -999,9,  2335.2,2,     -999,9,     -999,  -0.006,2,   1.870,2,    8.30,2,2.8773,2,-999,9,-999,9,-999,   8.095,2,   0.031,1.193,2,-999,9,-999,9,    -999,9,-999,9, 20080214,     0300, -40.9948,  29.9916,   0.009,-999,9,     -999,9,     -999,9,     -999,9,     -999,9,     -999,9,     -999,9,-999,9,     -999,9,     -999,9,     -999,9,    0.15,   0.007
33RR20080204,       I06S,      28,          1,         12,         12,2,20080214,       0156,   -40.9960,    29.9922,       4481,  1622.8,   2.8983,  34.6601,2,  34.6597,2,    175.1,2,   175.4,2,   68.62,2,   32.19,2,    0.00,2,    2.23,2,   0.169,2,   0.095,2,   0.004,2,    -999,9,    -999,9,     -999,9,     -999,    -999,9,    -999,9,    -999,9,2.8983,2,-999,9,-999,9,-999,    -999,9,    -999,0.434,2,-999,9,-999,9,    -999,9,-999,9, 20080214,     0257, -40.9948,  29.9916,    -999,-999,9,     -999,9,     -999,9,     -999,9,     -999,9,     -999,9,     -999,9,-999,9,     -999,9,     -999,9,     -999,9,    -999,    -999
33RR20080204,       I06S,      28,          1,         11,         11,2,20080214,       0156,   -40.9960,    29.9922,       4481,  1720.8,   2.8067,  34.6930,2,  34.6919,2,    181.7,2,   182.5,2,   65.80,2,   31.17,2,    0.00,2,    2.14,2,   0.131,2,   0.075,2,   0.009,2,    -999,9,  2337.7,2,     -999,9,     -999,   0.007,2,   1.851,2,    8.00,2,2.8085,2,-999,9,-999,9,-999,   8.066,2,   0.031,0.375,2,-999,9,-999,9,    -999,9,-999,9, 20080214,     0254, -40.9949,  29.9916,   0.009,-999,9,     -999,9,     -999,9,     -999,9,     -999,9,     -999,9,     -999,9,-999,9,     -999,9,     -999,9,     -999,9,    0.15,   0.007
33RR20080204,       I06S,      28,          1,         10,         10,2,20080214,       0156,   -40.9960,    29.9922,       4481,  1825.1,   2.7294,  34.7223,2,  34.7202,2,    188.4,2,   188.0,2,   64.99,2,   30.30,2,    0.00,2,    2.08,2,   0.114,2,   0.065,2,   0.008,2,    -999,9,    -999,9,     -999,9,     -999,   0.018,2,   1.840,2,    8.19,2,2.7295,2,-999,9,-999,9,-999,   7.952,2,   0.030,0.293,2,-999,9,-999,9,    -999,9,-999,9, 20080214,     0252, -40.9950,  29.9916,   0.009,-999,9,     -999,9,     -999,9,     -999,9,     -999,9,     -999,9,     -999,9,-999,9,     -999,9,     -999,9,     -999,9,    0.15,   0.007
33RR20080204,       I06S,      28,          1,          9,          9,2,20080214,       0156,   -40.9960,    29.9922,       4481,  2025.8,   2.6663,  34.7731,2,  34.7735,2,    198.0,2,   198.6,2,   62.77,2,   28.63,2,    0.00,2,    1.96,2,   0.053,2,   0.028,2,   0.000,2,    -999,9,  2339.7,2,     -999,9,     -999,  -0.011,2,   1.856,2,    7.58,2,2.6663,2,-999,9,-999,9,-999,   7.953,2,   0.030,0.16,2,-999,9,-999,9,    -999,9,-999,9, 20080214,     0247, -40.9951,  29.9917,   0.009,-999,9,     -999,9,     -999,9,     -999,9,     -999,9,     -999,9,     -999,9,-999,9,     -999,9,     -999,9,     -999,9,    0.15,   0.007
33RR20080204,       I06S,      28,          1,          8,          8,2,20080214,       0156,   -40.9960,    29.9922,       4481,  2328.2,   2.5148,  34.8053,2,  34.8047,2,    209.1,2,   209.1,2,   62.17,2,   27.36,2,    0.00,2,    1.87,2,   0.037,2,   0.019,2,   0.000,2,    -999,9,    -999,9,     -999,9,     -999,   0.015,2,   1.886,2,    7.07,2,2.5156,2,-999,9,-999,9,-999,   8.070,2,   0.031,0.145,2,-999,9,-999,9,    -999,9,-999,9, 20080214,     0241, -40.9952,  29.9917,   0.009,-999,9,     -999,9,     -999,9,     -999,9,     -999,9,     -999,9,     -999,9,-999,9,     -999,9,     -999,9,     -999,9,    0.15,   0.007