BOTTLE,20220706CCHSIOAMB
EXPOCODE,SECT_ID,STNNBR,CASTNO,SAMPNO,BTLNBR,BTLNBR_FLAG_W,DATE,TIME,LATITUDE,LONGITUDE,DEPTH,CTDPRS,CTDTMP,CTDSAL,CTDSAL_FLAG_W,SALNTY,SALNTY_FLAG_W,CTDOXY,CTDOXY_FLAG_W,OXYGEN,OXYGEN_FLAG_W,SILCAT,SILCAT_FLAG_W,NITRAT,NITRAT_FLAG_W,NITRIT,NITRIT_FLAG_W,PHSPHT,PHSPHT_FLAG_W,CFC-11,CFC-11_FLAG_W,CFC-12,CFC-12_FLAG_W,CFC113,CFC113_FLAG_W,TCARBN,TCARBN_FLAG_W,ALKALI,ALKALI_FLAG_W,PH_SWS,PH_SWS_FLAG_W,PH_TMP,TRITUM,TRITUM_FLAG_W,HELIUM,HELIUM_FLAG_W,DELHE3,DELHE3_FLAG_W,REFTMP,REFTMP_FLAG_W,DELC13,DELC13_FLAG_W,DELC14,DELC14_FLAG_W,C14ERR,NEON,NEON_FLAG_W,NEONER,CCL4,CCL4_FLAG_W,ALUMIN,ALUMIN_FLAG_W,DELO18,DELO18_FLAG_W,DOC,DOC_FLAG_W,TDN,TDN_FLAG_W,BTL_DATE,BTL_TIME,BTL_LAT,BTL_LON,TRITER,DELSI30,DELSI30_FLAG_W,CDOM380,CDOM380_FLAG_W,CDOM325,CDOM325_FLAG_W,CDOMSL,CDOMSL_FLAG_W,CDOM340,CDOM340_FLAG_W,CDOM443,CDOM443_FLAG_W,CDOMSN,CDOMSN_FLAG_W,BLACKC,BLACKC_FLAG_W,CDOM490,CDOM490_FLAG_W,CDOM412,CDOM412_FLAG_W,CDOM555,CDOM555_FLAG_W,DELHER,HELIER
,,,,,,,,,,,METERS,DBAR,ITS-90,PSS-78,,PSS-78,,UMOL/KG,,UMOL/KG,,UMOL/KG,,UMOL/KG,,UMOL/KG,,UMOL/KG,,PMOL/KG,,PMOL/KG,,PMOL/KG,,UMOL/KG,,UMOL/KG,,,,DEG C,TU,,NMOL/KG,,PERCNT,,DEG C,,/MILLE,,/MILLE,,/MILLE,NMOL/KG,,NMOL/KG,PMOL/KG,,NMOL/L,,/MILLE,,UMOL/KG,,UMOL/KG,,,,,,TU,/MILLE,,1/M,,1/M,,1/NM,,1/M,,1/M,,1/NM,,,,1/M,,1/M,,1/M,,PERCNT,NMOL/KG
33RR20080204,       I06S,      43,          2,          7,          7,2,20080218,       1819,   -48.4980,    30.0019,       4793,  3253.9,   0.9224,  34.7133,2,  34.7119,2,    210.2,2,   209.8,2,  112.47,2,   31.47,2,    0.00,2,    2.17,2,   0.193,2,   0.105,2,   0.017,2,  2254.4,2,  2358.1,2,   7.8026,2,    13.00,    -999,9,    -999,9,    -999,9,0.9223,2,-999,9,-999,9,-999,    -999,9,    -999,0.526,2,-999,9,-999,9,   43.32,3,-999,1, 20080218,     1854, -48.4980,  30.0018,    -999,-999,9,     -999,9,     -999,9,     -999,9,     -999,9,     -999,9,     -999,9,-999,9,     -999,9,     -999,9,     -999,9,    -999,    -999
33RR20080204,       I06S,      43,          2,          6,          6,2,20080218,       1819,   -48.4980,    30.0019,       4793,  3564.5,   0.7746,  34.7036,2,  34.7019,2,    211.8,2,   211.5,2,  117.66,2,   31.88,2,    0.00,2,    2.20,2,   0.214,2,   0.120,2,   0.018,2,  2257.6,2,  2358.5,2,   7.7987,2,    13.00,    -999,9,    -999,9,    -999,9,0.7743,2,-999,9,-999,9,-999,    -999,9,    -999,0.577,2,-999,9,-999,9,    -999,9,-999,9, 20080218,     1848, -48.4979,  30.0018,    -999,-999,9,     -999,9,     -999,9,     -999,9,     -999,9,     -999,9,     -999,9,-999,9,     -999,9,     -999,9,     -999,9,    -999,    -999
33RR20080204,       I06S,      43,          2,          5,          5,2,20080218,       1819,   -48.4980,    30.0019,       4793,  3869.4,   0.6163,  34.6933,2,  34.6919,2,    214.0,2,   214.5,2,  122.87,2,   32.30,2,    0.00,2,    2.23,2,   0.219,2,   0.123,2,   0.018,2,  2257.5,2,  2358.8,2,   7.7942,2,    13.00,    -999,9,    -999,9,    -999,9,0.616,2,-999,9,-999,9,-999,    -999,9,    -999,0.619,2,-999,9,-999,9,   39.02,2,-999,1, 20080218,     1841, -48.4980,  30.0018,    -999,-999,9,     -999,9,     -999,9,     -999,9,     -999,9,     -999,9,     -999,9,-999,9,     -999,9,     -999,9,     -999,9,    -999,    -999
33RR20080204,       I06S,      43,          2,          4,          4,2,20080218,       1819,   -48.4980,    30.0019,       4793,  4175.2,   0.4999,  34.6862,2,  34.6846,2,    217.1,2,   216.8,2,  125.77,2,   32.36,2,    0.00,2,    2.24,2,   0.259,2,   0.145,2,   0.015,2,  2256.4,2,  2358.9,2,   7.7948,3,    13.00,    -999,9,    -999,9,    -999,9,0.4995,2,-999,9,-999,9,-999,    -999,9,    -999,0.716,2,-999,9,-999,9,    -999,9,-999,9, 20080218,     1835, -48.4979,  30.0018,    -999,-999,9,     -999,9,     -999,9,     -999,9,     -999,9,     -999,9,     -999,9,-999,9,     -999,9,     -999,9,     -999,9,    -999,    -999
33RR20080204,       I06S,      43,          2,          3,          3,2,20080218,       1819,   -48.4980,    30.0019,       4793,  4486.2,   0.3765,  34.6793,2,  34.6772,2,    221.4,2,   221.0,2,  127.51,2,   32.42,2,    0.00,2,    2.25,2,   0.303,2,   0.168,2,   0.020,2,  2260.8,2,  2358.0,2,   7.7921,3,    13.00,    -999,9,    -999,9,    -999,9,0.3763,2,-999,9,-999,9,-999,    -999,9,    -999,0.831,2,-999,9,-999,9,    -999,9,-999,9, 20080218,     1828, -48.4980,  30.0018,    -999,-999,9,     -999,9,     -999,9,     -999,9,     -999,9,     -999,9,     -999,9,-999,9,     -999,9,     -999,9,     -999,9,    -999,    -999
33RR20080204,       I06S,      43,          2,          2,          2,2,20080218,       1819,   -48.4980,    30.0019,       4793,  4689.8,   0.3231,  34.6762,2,  34.6740,2,    223.2,2,   223.1,2,  127.71,2,   32.47,2,    0.00,2,    2.25,2,   0.329,2,   0.182,2,   0.027,2,  2262.3,2,  2357.0,2,   7.7918,3,    13.00,    -999,9,    -999,9,    -999,9,0.3238,2,-999,9,-999,9,-999,    -999,9,    -999,0.898,2,-999,9,-999,9,    -999,9,-999,9, 20080218,     1823, -48.4978,  30.0019,    -999,-999,9,     -999,9,     -999,9,     -999,9,     -999,9,     -999,9,     -999,9,-999,9,     -999,9,     -999,9,     -999,9,    -999,    -999
33RR20080204,       I06S,      43,          2,          1,          1,2,20080218,       1819,   -48.4980,    30.0019,       4793,  4855.5,   0.2056,  34.6692,2,  34.6674,2,    226.1,2,   226.6,2,  129.26,2,   32.52,2,    0.00,2,    2.26,2,   0.396,2,   0.209,2,   0.036,2,  2259.0,6,  2354.9,2,   7.7910,2,    13.00,    -999,9,    -999,9,    -999,9,0.2041,2,-999,9,-999,9,-999,    -999,9,    -999,1.129,2,-999,9,-999,9,   37.95,2,-999,1, 20080218,     1819, -48.4980,  30.0019,    -999,-999,9,     -999,9,     -999,9,     -999,9,     -999,9,     -999,9,     -999,9,-999,9,     -999,9,     -999,9,     -999,9,    -999,    -999