BOTTLE,20220706CCHSIOAMB
EXPOCODE,SECT_ID,STNNBR,CASTNO,SAMPNO,BTLNBR,BTLNBR_FLAG_W,DATE,TIME,LATITUDE,LONGITUDE,DEPTH,CTDPRS,CTDTMP,CTDSAL,CTDSAL_FLAG_W,SALNTY,SALNTY_FLAG_W,CTDOXY,CTDOXY_FLAG_W,OXYGEN,OXYGEN_FLAG_W,SILCAT,SILCAT_FLAG_W,NITRAT,NITRAT_FLAG_W,NITRIT,NITRIT_FLAG_W,PHSPHT,PHSPHT_FLAG_W,CFC-11,CFC-11_FLAG_W,CFC-12,CFC-12_FLAG_W,CFC113,CFC113_FLAG_W,TCARBN,TCARBN_FLAG_W,ALKALI,ALKALI_FLAG_W,PH_SWS,PH_SWS_FLAG_W,PH_TMP,TRITUM,TRITUM_FLAG_W,HELIUM,HELIUM_FLAG_W,DELHE3,DELHE3_FLAG_W,REFTMP,REFTMP_FLAG_W,DELC13,DELC13_FLAG_W,DELC14,DELC14_FLAG_W,C14ERR,NEON,NEON_FLAG_W,NEONER,CCL4,CCL4_FLAG_W,ALUMIN,ALUMIN_FLAG_W,DELO18,DELO18_FLAG_W,DOC,DOC_FLAG_W,TDN,TDN_FLAG_W,BTL_DATE,BTL_TIME,BTL_LAT,BTL_LON,TRITER,DELSI30,DELSI30_FLAG_W,CDOM380,CDOM380_FLAG_W,CDOM325,CDOM325_FLAG_W,CDOMSL,CDOMSL_FLAG_W,CDOM340,CDOM340_FLAG_W,CDOM443,CDOM443_FLAG_W,CDOMSN,CDOMSN_FLAG_W,BLACKC,BLACKC_FLAG_W,CDOM490,CDOM490_FLAG_W,CDOM412,CDOM412_FLAG_W,CDOM555,CDOM555_FLAG_W,DELHER,HELIER
,,,,,,,,,,,METERS,DBAR,ITS-90,PSS-78,,PSS-78,,UMOL/KG,,UMOL/KG,,UMOL/KG,,UMOL/KG,,UMOL/KG,,UMOL/KG,,PMOL/KG,,PMOL/KG,,PMOL/KG,,UMOL/KG,,UMOL/KG,,,,DEG C,TU,,NMOL/KG,,PERCNT,,DEG C,,/MILLE,,/MILLE,,/MILLE,NMOL/KG,,NMOL/KG,PMOL/KG,,NMOL/L,,/MILLE,,UMOL/KG,,UMOL/KG,,,,,,TU,/MILLE,,1/M,,1/M,,1/NM,,1/M,,1/M,,1/NM,,,,1/M,,1/M,,1/M,,PERCNT,NMOL/KG
33RR20080204,       I06S,      86,          1,         36,         36,2,20080303,       2236,   -67.2468,    33.2554,       1105,     5.2,  -0.8790,  33.9448,2,  33.9439,2,    340.0,2,   340.1,2,   50.81,2,   25.92,2,    0.13,2,    1.83,2,   5.990,2,   3.381,2,   0.544,2,  2173.1,2,  2301.8,2,     -999,9,     -999,    -999,9,    -999,9,    -999,9,-0.8779,2,-999,9,-999,9,-999,    -999,9,    -999,8.304,2,-999,9,-999,9,    -999,9,-999,9, 20080303,     2329, -67.2458,  33.2546,    -999,-999,9,     -999,9,     -999,9,     -999,9,     -999,9,     -999,9,     -999,9,-999,9,     -999,9,     -999,9,     -999,9,    -999,    -999
33RR20080204,       I06S,      86,          1,         34,         34,2,20080303,       2236,   -67.2468,    33.2554,       1105,    23.1,  -0.8820,  33.9451,2,  33.9439,2,    340.4,2,   340.3,2,   50.79,2,   25.92,2,    0.13,2,    1.83,2,   5.941,2,   3.357,2,   0.538,2,  2173.3,2,  2302.1,2,     -999,9,     -999,    -999,9,    -999,9,    -999,9,-0.882,2,-999,9,-999,9,-999,    -999,9,    -999,8.144,2,-999,9,-999,9,    -999,9,-999,9, 20080303,     2328, -67.2459,  33.2546,    -999,-999,9,     -999,9,     -999,9,     -999,9,     -999,9,     -999,9,     -999,9,-999,9,     -999,9,     -999,9,     -999,9,    -999,    -999
33RR20080204,       I06S,      86,          1,         32,         32,2,20080303,       2236,   -67.2468,    33.2554,       1105,    36.1,  -0.8913,  33.9481,2,  33.9468,2,    340.0,2,   339.9,2,   50.78,2,   25.98,2,    0.13,2,    1.84,2,   5.884,2,   3.325,2,   0.524,2,  2173.8,2,  2302.0,2,     -999,9,     -999,    -999,9,    -999,9,    -999,9,-0.8899,2,-999,9,-999,9,-999,    -999,9,    -999,7.88,2,-999,9,-999,9,    -999,9,-999,9, 20080303,     2327, -67.2459,  33.2546,    -999,-999,9,     -999,9,     -999,9,     -999,9,     -999,9,     -999,9,     -999,9,-999,9,     -999,9,     -999,9,     -999,9,    -999,    -999
33RR20080204,       I06S,      86,          1,         30,         30,2,20080303,       2236,   -67.2468,    33.2554,       1105,    70.6,  -1.2452,  34.0997,2,  34.0562,3,    328.6,2,   327.0,2,   54.77,2,   27.30,2,    0.13,2,    1.94,2,   5.491,2,   3.055,2,   0.506,2,  2189.4,2,  2306.4,2,     -999,9,     -999,    -999,9,    -999,9,    -999,9,-1.2108,3,-999,9,-999,9,-999,    -999,9,    -999,7.403,2,-999,9,-999,9,    -999,9,-999,9, 20080303,     2325, -67.2460,  33.2548,    -999,-999,9,     -999,9,     -999,9,     -999,9,     -999,9,     -999,9,     -999,9,-999,9,     -999,9,     -999,9,     -999,9,    -999,    -999
33RR20080204,       I06S,      86,          1,         28,         28,2,20080303,       2236,   -67.2468,    33.2554,       1105,    91.0,  -1.5259,  34.2551,2,  34.2508,2,    307.7,2,   308.3,2,   62.38,2,   29.80,2,    0.12,2,    2.10,2,   5.034,2,   2.760,2,   0.489,2,  2212.8,2,  2318.2,2,     -999,9,     -999,    -999,9,    -999,9,    -999,9,-1.5153,2,-999,9,-999,9,-999,    -999,9,    -999,6.918,2,-999,9,-999,9,    -999,9,-999,9, 20080303,     2323, -67.2460,  33.2548,    -999,-999,9,     -999,9,     -999,9,     -999,9,     -999,9,     -999,9,     -999,9,-999,9,     -999,9,     -999,9,     -999,9,    -999,    -999
33RR20080204,       I06S,      86,          1,         26,         26,2,20080303,       2236,   -67.2468,    33.2554,       1105,   144.1,  -1.5135,  34.3091,2,  34.3067,2,    300.8,2,   301.2,2,   65.17,2,   30.38,2,    0.10,2,    2.13,2,   4.760,2,   2.660,2,   0.427,2,  2218.1,2,  2321.3,2,     -999,9,     -999,    -999,9,    -999,9,    -999,9,-1.5134,2,-999,9,-999,9,-999,    -999,9,    -999,6.049,2,-999,9,-999,9,    -999,9,-999,9, 20080303,     2319, -67.2462,  33.2550,    -999,-999,9,     -999,9,     -999,9,     -999,9,     -999,9,     -999,9,     -999,9,-999,9,     -999,9,     -999,9,     -999,9,    -999,    -999
33RR20080204,       I06S,      86,          1,         24,         24,2,20080303,       2236,   -67.2468,    33.2554,       1105,   192.2,  -1.1545,  34.3811,2,  34.3804,2,    293.7,2,   286.2,2,   69.58,2,   30.95,2,    0.05,2,    2.15,2,   4.199,2,   2.297,2,   0.386,2,  2225.9,2,  2325.6,2,     -999,9,     -999,    -999,9,    -999,9,    -999,9,-1.1461,2,-999,9,-999,9,-999,    -999,9,    -999,5.44,2,-999,9,-999,9,    -999,9,-999,9, 20080303,     2317, -67.2462,  33.2550,    -999,-999,9,     -999,9,     -999,9,     -999,9,     -999,9,     -999,9,     -999,9,-999,9,     -999,9,     -999,9,     -999,9,    -999,    -999
33RR20080204,       I06S,      86,          1,         22,         22,2,20080303,       2236,   -67.2468,    33.2554,       1105,   231.7,  -0.8382,  34.4319,2,  34.4312,2,    275.5,2,   274.3,2,   72.99,2,   31.13,2,    0.02,2,    2.16,2,   3.776,2,   2.045,2,   0.342,2,  2229.1,2,  2328.7,2,     -999,9,     -999,    -999,9,    -999,9,    -999,9,-0.8395,2,-999,9,-999,9,-999,    -999,9,    -999,4.83,2,-999,9,-999,9,    -999,9,-999,9, 20080303,     2315, -67.2461,  33.2550,    -999,-999,9,     -999,9,     -999,9,     -999,9,     -999,9,     -999,9,     -999,9,-999,9,     -999,9,     -999,9,     -999,9,    -999,    -999
33RR20080204,       I06S,      86,          1,         20,         20,2,20080303,       2236,   -67.2468,    33.2554,       1105,   284.5,  -0.4955,  34.4979,2,  34.4973,2,    260.2,2,   261.9,2,   77.61,2,   31.25,2,    0.01,2,    2.17,2,   3.262,2,   1.752,2,   0.308,2,    -999,9,  2332.7,2,     -999,9,     -999,    -999,9,    -999,9,    -999,9,-0.4971,2,-999,9,-999,9,-999,    -999,9,    -999,4.235,2,-999,9,-999,9,    -999,9,-999,9, 20080303,     2312, -67.2461,  33.2549,    -999,-999,9,     -999,9,     -999,9,     -999,9,     -999,9,     -999,9,     -999,9,-999,9,     -999,9,     -999,9,     -999,9,    -999,    -999
33RR20080204,       I06S,      86,          1,         18,         18,2,20080303,       2236,   -67.2468,    33.2554,       1105,   335.1,  -0.2937,  34.5354,2,  34.5347,2,    252.2,2,   253.3,2,   80.42,2,   31.35,2,    0.01,2,    2.18,2,   2.906,2,   1.553,2,   0.255,2,    -999,9,  2338.0,2,     -999,9,     -999,    -999,9,    -999,9,    -999,9,-0.2987,2,-999,9,-999,9,-999,    -999,9,    -999,3.615,2,-999,9,-999,9,    -999,9,-999,9, 20080303,     2309, -67.2461,  33.2549,    -999,-999,9,     -999,9,     -999,9,     -999,9,     -999,9,     -999,9,     -999,9,-999,9,     -999,9,     -999,9,     -999,9,    -999,    -999
33RR20080204,       I06S,      86,          1,         16,         16,2,20080303,       2236,   -67.2468,    33.2554,       1105,   387.1,   0.1413,  34.5947,2,  34.5948,2,    238.2,2,   237.0,2,   85.65,2,   31.46,2,    0.01,2,    2.18,2,   2.235,2,   1.166,2,   0.187,2,    -999,9,  2340.7,2,     -999,9,     -999,    -999,9,    -999,9,    -999,9,0.1427,2,-999,9,-999,9,-999,    -999,9,    -999,2.919,2,-999,9,-999,9,    -999,9,-999,9, 20080303,     2307, -67.2460,  33.2548,    -999,-999,9,     -999,9,     -999,9,     -999,9,     -999,9,     -999,9,     -999,9,-999,9,     -999,9,     -999,9,     -999,9,    -999,    -999
33RR20080204,       I06S,      86,          1,         14,         14,2,20080303,       2236,   -67.2468,    33.2554,       1105,   486.9,   0.3056,  34.6316,2,  34.6319,2,    229.7,2,   228.8,2,   91.50,2,   31.56,2,    0.01,2,    2.19,2,   1.727,2,   0.919,2,   0.130,2,    -999,9,  2343.8,2,     -999,9,     -999,    -999,9,    -999,9,    -999,9,0.3059,2,-999,9,-999,9,-999,    -999,9,    -999,2.307,2,-999,9,-999,9,    -999,9,-999,9, 20080303,     2303, -67.2461,  33.2549,    -999,-999,9,     -999,9,     -999,9,     -999,9,     -999,9,     -999,9,     -999,9,-999,9,     -999,9,     -999,9,     -999,9,    -999,    -999
33RR20080204,       I06S,      86,          1,         12,         12,2,20080303,       2236,   -67.2468,    33.2554,       1105,   566.1,   0.3664,  34.6468,2,  34.6472,2,    224.2,2,   225.8,2,   95.54,2,   31.56,2,    0.01,2,    2.19,2,   1.464,2,   0.793,2,   0.159,2,    -999,9,  2347.2,2,     -999,9,     -999,    -999,9,    -999,9,    -999,9,0.3663,2,-999,9,-999,9,-999,    -999,9,    -999,1.984,2,-999,9,-999,9,    -999,9,-999,9, 20080303,     2300, -67.2463,  33.2550,    -999,-999,9,     -999,9,     -999,9,     -999,9,     -999,9,     -999,9,     -999,9,-999,9,     -999,9,     -999,9,     -999,9,    -999,    -999
33RR20080204,       I06S,      86,          1,         10,         10,2,20080303,       2236,   -67.2468,    33.2554,       1105,   665.7,   0.3916,  34.6596,2,  34.6606,2,    222.3,2,   222.8,2,  100.39,2,   31.66,2,    0.01,2,    2.20,2,   1.191,2,   0.633,2,   0.108,2,    -999,9,  2349.6,2,     -999,9,     -999,    -999,9,    -999,9,    -999,9,0.3911,2,-999,9,-999,9,-999,    -999,9,    -999,1.666,2,-999,9,-999,9,    -999,9,-999,9, 20080303,     2255, -67.2462,  33.2548,    -999,-999,9,     -999,9,     -999,9,     -999,9,     -999,9,     -999,9,     -999,9,-999,9,     -999,9,     -999,9,     -999,9,    -999,    -999
33RR20080204,       I06S,      86,          1,          8,          8,2,20080303,       2236,   -67.2468,    33.2554,       1105,   765.3,   0.3547,  34.6667,2,  34.6671,2,    220.2,2,   220.0,2,  105.46,2,   32.02,2,    0.01,2,    2.21,2,   0.996,2,   0.521,2,   0.080,2,    -999,9,  2351.5,2,     -999,9,     -999,    -999,9,    -999,9,    -999,9,0.3553,2,-999,9,-999,9,-999,    -999,9,    -999,1.413,2,-999,9,-999,9,    -999,9,-999,9, 20080303,     2251, -67.2464,  33.2550,    -999,-999,9,     -999,9,     -999,9,     -999,9,     -999,9,     -999,9,     -999,9,-999,9,     -999,9,     -999,9,     -999,9,    -999,    -999
33RR20080204,       I06S,      86,          1,          6,          6,2,20080303,       2236,   -67.2468,    33.2554,       1105,   868.2,   0.2570,  34.6674,2,  34.6689,2,    221.4,2,   221.4,2,  110.33,2,   32.07,2,    0.01,2,    2.22,2,   0.900,2,   0.482,2,   0.079,2,    -999,9,  2354.0,2,     -999,9,     -999,    -999,9,    -999,9,    -999,9,0.2579,2,-999,9,-999,9,-999,    -999,9,    -999,1.387,2,-999,9,-999,9,    -999,9,-999,9, 20080303,     2247, -67.2465,  33.2550,    -999,-999,9,     -999,9,     -999,9,     -999,9,     -999,9,     -999,9,     -999,9,-999,9,     -999,9,     -999,9,     -999,9,    -999,    -999
33RR20080204,       I06S,      86,          1,          4,          4,2,20080303,       2236,   -67.2468,    33.2554,       1105,   977.2,   0.2025,  34.6668,2,  34.6681,2,    222.4,2,   222.1,2,  113.16,2,   32.08,2,    0.01,2,    2.23,2,  -0.004,4,  -0.004,4,   0.000,4,    -999,9,  2354.0,2,     -999,9,     -999,    -999,9,    -999,9,    -999,9,0.2023,2,-999,9,-999,9,-999,    -999,9,    -999,-999,5,-999,9,-999,9,    -999,9,-999,9, 20080303,     2242, -67.2467,  33.2552,    -999,-999,9,     -999,9,     -999,9,     -999,9,     -999,9,     -999,9,     -999,9,-999,9,     -999,9,     -999,9,     -999,9,    -999,    -999
33RR20080204,       I06S,      86,          1,          2,          2,2,20080303,       2236,   -67.2468,    33.2554,       1105,  1095.0,   0.1703,  34.6666,2,  34.6673,2,    222.1,2,   222.4,2,  114.37,2,   32.24,2,    0.01,2,    2.24,2,    -999,1,    -999,1,    -999,1,  2257.1,6,  2352.7,2,     -999,9,     -999,    -999,9,    -999,9,    -999,9,0.1698,2,-999,9,-999,9,-999,    -999,9,    -999,-999,9,-999,9,-999,9,    -999,9,-999,9, 20080303,     2237, -67.2468,  33.2554,    -999,-999,9,     -999,9,     -999,9,     -999,9,     -999,9,     -999,9,     -999,9,-999,9,     -999,9,     -999,9,     -999,9,    -999,    -999