BOTTLE,20220706CCHSIOAMB
EXPOCODE,SECT_ID,STNNBR,CASTNO,SAMPNO,BTLNBR,BTLNBR_FLAG_W,DATE,TIME,LATITUDE,LONGITUDE,DEPTH,CTDPRS,CTDTMP,CTDSAL,CTDSAL_FLAG_W,SALNTY,SALNTY_FLAG_W,CTDOXY,CTDOXY_FLAG_W,OXYGEN,OXYGEN_FLAG_W,SILCAT,SILCAT_FLAG_W,NITRAT,NITRAT_FLAG_W,NITRIT,NITRIT_FLAG_W,PHSPHT,PHSPHT_FLAG_W,CFC-11,CFC-11_FLAG_W,CFC-12,CFC-12_FLAG_W,CFC113,CFC113_FLAG_W,TCARBN,TCARBN_FLAG_W,ALKALI,ALKALI_FLAG_W,PH_SWS,PH_SWS_FLAG_W,PH_TMP,TRITUM,TRITUM_FLAG_W,HELIUM,HELIUM_FLAG_W,DELHE3,DELHE3_FLAG_W,REFTMP,REFTMP_FLAG_W,DELC13,DELC13_FLAG_W,DELC14,DELC14_FLAG_W,C14ERR,NEON,NEON_FLAG_W,NEONER,CCL4,CCL4_FLAG_W,ALUMIN,ALUMIN_FLAG_W,DELO18,DELO18_FLAG_W,DOC,DOC_FLAG_W,TDN,TDN_FLAG_W,BTL_DATE,BTL_TIME,BTL_LAT,BTL_LON,TRITER,DELSI30,DELSI30_FLAG_W,CDOM380,CDOM380_FLAG_W,CDOM325,CDOM325_FLAG_W,CDOMSL,CDOMSL_FLAG_W,CDOM340,CDOM340_FLAG_W,CDOM443,CDOM443_FLAG_W,CDOMSN,CDOMSN_FLAG_W,BLACKC,BLACKC_FLAG_W,CDOM490,CDOM490_FLAG_W,CDOM412,CDOM412_FLAG_W,CDOM555,CDOM555_FLAG_W,DELHER,HELIER
,,,,,,,,,,,METERS,DBAR,ITS-90,PSS-78,,PSS-78,,UMOL/KG,,UMOL/KG,,UMOL/KG,,UMOL/KG,,UMOL/KG,,UMOL/KG,,PMOL/KG,,PMOL/KG,,PMOL/KG,,UMOL/KG,,UMOL/KG,,,,DEG C,TU,,NMOL/KG,,PERCNT,,DEG C,,/MILLE,,/MILLE,,/MILLE,NMOL/KG,,NMOL/KG,PMOL/KG,,NMOL/L,,/MILLE,,UMOL/KG,,UMOL/KG,,,,,,TU,/MILLE,,1/M,,1/M,,1/NM,,1/M,,1/M,,1/NM,,,,1/M,,1/M,,1/M,,PERCNT,NMOL/KG
33RR20080204,       I06S,       9,          2,         36,         36,2,20080207,       1823,   -33.5667,    28.3637,       3041,     4.4,  25.6504,  35.4593,2,  35.4591,2,    206.8,2,   207.9,2,    1.81,2,    0.06,2,    0.00,2,    0.09,2,   1.762,2,   1.096,2,   0.120,2,  1992.8,6,  2322.0,2,   8.1680,2,    20.00,    -999,9,    -999,9,    -999,9,-999,9,-999,9,-999,9,-999,    -999,9,    -999,2.388,2,-999,9,-999,9,   73.17,2,-999,1, 20080207,     2045, -33.5996,  28.3010,    -999,-999,9,     -999,9,     -999,9,     -999,9,     -999,9,     -999,9,     -999,9,-999,9,     -999,9,     -999,9,     -999,9,    -999,    -999
33RR20080204,       I06S,       9,          2,         35,         35,2,20080207,       1823,   -33.5667,    28.3637,       3041,    25.5,  25.6564,  35.4592,2,  35.4597,2,    209.0,2,   207.2,2,    1.81,2,    0.06,2,    0.00,2,    0.09,2,    -999,9,    -999,9,    -999,9,  1992.7,2,  2321.8,2,   8.1670,2,    20.00,    -999,9,    -999,9,    -999,9,-999,9,-999,9,-999,9,-999,    -999,9,    -999,-999,9,-999,9,-999,9,   69.56,2,-999,1, 20080207,     2042, -33.5988,  28.3025,    -999,-999,9,     -999,9,     -999,9,     -999,9,     -999,9,     -999,9,     -999,9,-999,9,     -999,9,     -999,9,     -999,9,    -999,    -999
33RR20080204,       I06S,       9,          2,         34,         34,2,20080207,       1823,   -33.5667,    28.3637,       3041,    49.4,  25.0763,  35.4552,2,  35.4559,2,    211.1,2,   211.2,2,    1.80,2,    0.06,2,    0.00,2,    0.08,2,   1.807,2,   1.122,2,   0.126,2,  1994.5,2,  2320.9,2,   8.1640,2,    20.00,    -999,9,    -999,9,    -999,9,-999,9,-999,9,-999,9,-999,    -999,9,    -999,2.502,2,-999,9,-999,9,   63.22,2,-999,1, 20080207,     2040, -33.5979,  28.3043,    -999,-999,9,     -999,9,     -999,9,     -999,9,     -999,9,     -999,9,     -999,9,-999,9,     -999,9,     -999,9,     -999,9,    -999,    -999
33RR20080204,       I06S,       9,          2,         33,         33,2,20080207,       1823,   -33.5667,    28.3637,       3041,    84.6,  22.1182,  35.4345,2,  35.4344,2,    204.0,2,   201.5,2,    2.39,2,    0.92,2,    0.22,2,    0.19,2,    -999,9,    -999,9,    -999,9,  2027.7,2,  2319.9,2,   8.0930,2,    20.00,    -999,9,    -999,9,    -999,9,-999,9,-999,9,-999,9,-999,    -999,9,    -999,-999,9,-999,9,-999,9,   63.90,2,-999,1, 20080207,     2037, -33.5973,  28.3065,    -999,-999,9,     -999,9,     -999,9,     -999,9,     -999,9,     -999,9,     -999,9,-999,9,     -999,9,     -999,9,     -999,9,    -999,    -999
33RR20080204,       I06S,       9,          2,         32,         32,2,20080207,       1823,   -33.5667,    28.3637,       3041,   111.3,  20.6923,  35.5100,2,  35.5089,2,    208.5,2,   207.3,2,    2.78,2,    1.57,2,    0.15,2,    0.20,2,    -999,9,    -999,9,    -999,9,    -999,9,  2325.7,2,     -999,9,     -999,    -999,9,    -999,9,    -999,9,-999,9,-999,9,-999,9,-999,    -999,9,    -999,-999,9,-999,9,-999,9,   64.39,2,-999,1, 20080207,     2034, -33.5964,  28.3085,    -999,-999,9,     -999,9,     -999,9,     -999,9,     -999,9,     -999,9,     -999,9,-999,9,     -999,9,     -999,9,     -999,9,    -999,    -999
33RR20080204,       I06S,       9,          2,         31,         31,2,20080207,       1823,   -33.5667,    28.3637,       3041,   113.1,  20.6994,  35.5136,2,  35.5150,2,    208.5,2,   209.8,2,    2.59,2,    1.35,2,    0.13,2,    0.19,2,   2.204,2,   1.335,2,   0.125,2,  2041.9,2,  2326.5,2,   8.0910,2,    20.00,    -999,9,    -999,9,    -999,9,-999,9,-999,9,-999,9,-999,    -999,9,    -999,2.197,2,-999,9,-999,9,    -999,9,-999,9, 20080207,     2033, -33.5959,  28.3091,    -999,-999,9,     -999,9,     -999,9,     -999,9,     -999,9,     -999,9,     -999,9,-999,9,     -999,9,     -999,9,     -999,9,    -999,    -999
33RR20080204,       I06S,       9,          2,         30,         30,2,20080207,       1823,   -33.5667,    28.3637,       3041,   213.3,  17.2108,  35.5396,2,  35.5637,3,    207.8,2,   211.2,2,    3.78,2,    4.39,2,    0.02,2,    0.39,2,   2.503,2,   1.490,2,   0.090,2,  2075.9,2,  2318.4,2,   8.0340,2,    20.00,    -999,9,    -999,9,    -999,9,-999,9,-999,9,-999,9,-999,    -999,9,    -999,1.366,2,-999,9,-999,9,   57.46,2,-999,1, 20080207,     2027, -33.5937,  28.3120,    -999,-999,9,     -999,9,     -999,9,     -999,9,     -999,9,     -999,9,     -999,9,-999,9,     -999,9,     -999,9,     -999,9,    -999,    -999
33RR20080204,       I06S,       9,          2,         29,         29,2,20080207,       1823,   -33.5667,    28.3637,       3041,   273.9,  15.6919,  35.4571,3,  35.4797,2,    200.5,2,   196.0,2,    5.16,2,    7.23,2,    0.01,2,    0.60,2,   2.695,2,   1.535,2,   0.035,2,  2104.3,2,  2325.7,2,   7.9790,2,    20.00,    -999,9,    -999,9,    -999,9,-999,9,-999,9,-999,9,-999,    -999,9,    -999,0.85,2,-999,9,-999,9,   52.68,2,-999,1, 20080207,     2024, -33.5926,  28.3133,    -999,-999,9,     -999,9,     -999,9,     -999,9,     -999,9,     -999,9,     -999,9,-999,9,     -999,9,     -999,9,     -999,9,    -999,    -999
33RR20080204,       I06S,       9,          2,         28,         28,2,20080207,       1823,   -33.5667,    28.3637,       3041,   325.4,  14.5102,  35.4070,3,  35.4134,2,    197.9,3,   210.6,2,    4.17,2,    7.54,2,    0.01,2,    0.61,2,   2.997,2,   1.657,2,   0.056,2,  2107.3,2,  2326.1,2,   7.9680,2,    20.00,    -999,9,    -999,9,    -999,9,-999,9,-999,9,-999,9,-999,    -999,9,    -999,0.985,2,-999,9,-999,9,   50.93,2,-999,1, 20080207,     2021, -33.5916,  28.3152,    -999,-999,9,     -999,9,     -999,9,     -999,9,     -999,9,     -999,9,     -999,9,-999,9,     -999,9,     -999,9,     -999,9,    -999,    -999
33RR20080204,       I06S,       9,          2,         27,         27,2,20080207,       1823,   -33.5667,    28.3637,       3041,   370.1,  13.7891,  35.3099,3,  35.3420,2,    214.5,3,   214.8,2,    4.16,2,    8.46,2,    0.01,2,    0.67,2,   3.010,2,   1.689,2,   0.048,2,  2111.4,2,  2322.5,2,   7.9550,2,    20.00,    -999,9,    -999,9,    -999,9,-999,9,-999,9,-999,9,-999,    -999,9,    -999,0.96,2,-999,9,-999,9,    -999,9,-999,9, 20080207,     2018, -33.5907,  28.3164,    -999,-999,9,     -999,9,     -999,9,     -999,9,     -999,9,     -999,9,     -999,9,-999,9,     -999,9,     -999,9,     -999,9,    -999,    -999
33RR20080204,       I06S,       9,          2,         26,         26,2,20080207,       1823,   -33.5667,    28.3637,       3041,   425.8,  13.0938,  35.2335,3,  35.2527,2,    219.3,3,   217.1,2,    4.56,2,    9.74,2,    0.01,2,    0.75,2,   3.185,2,   1.714,2,   0.056,2,  2115.6,2,  2317.1,2,   7.9410,2,    20.00,    -999,9,    -999,9,    -999,9,-999,9,-999,9,-999,9,-999,    -999,9,    -999,1.135,2,-999,9,-999,9,   46.73,2,-999,1, 20080207,     2015, -33.5900,  28.3183,    -999,-999,9,     -999,9,     -999,9,     -999,9,     -999,9,     -999,9,     -999,9,-999,9,     -999,9,     -999,9,     -999,9,    -999,    -999
33RR20080204,       I06S,       9,          2,         25,         25,2,20080207,       1823,   -33.5667,    28.3637,       3041,   476.4,  12.5837,  35.1730,3,  35.1771,2,    210.9,3,   212.3,2,    5.35,2,   11.26,2,    0.01,2,    0.84,2,   3.124,2,   1.687,2,   0.057,2,  2119.9,2,  2314.4,2,   7.9200,2,    20.00,    -999,9,    -999,9,    -999,9,-999,9,-999,9,-999,9,-999,    -999,9,    -999,1.061,2,-999,9,-999,9,    -999,9,-999,9, 20080207,     2012, -33.5892,  28.3200,    -999,-999,9,     -999,9,     -999,9,     -999,9,     -999,9,     -999,9,     -999,9,-999,9,     -999,9,     -999,9,     -999,9,    -999,    -999
33RR20080204,       I06S,       9,          2,         24,         24,2,20080207,       1823,   -33.5667,    28.3637,       3041,   526.5,  12.0840,  35.0899,3,  35.0985,2,    179.8,3,   200.9,2,    7.55,2,   13.48,2,    0.01,2,    0.99,2,   2.978,2,   1.590,2,   0.076,2,  2130.3,2,  2311.9,2,   7.8970,2,    20.00,    -999,9,    -999,9,    -999,9,-999,9,-999,9,-999,9,-999,    -999,9,    -999,1.107,2,-999,9,-999,9,   46.93,2,-999,1, 20080207,     2008, -33.5883,  28.3222,    -999,-999,9,     -999,9,     -999,9,     -999,9,     -999,9,     -999,9,     -999,9,-999,9,     -999,9,     -999,9,     -999,9,    -999,    -999
33RR20080204,       I06S,       9,          2,         23,         23,2,20080207,       1823,   -33.5667,    28.3637,       3041,   651.4,  10.7675,  34.9156,2,  34.9158,2,    182.7,3,   216.5,2,    6.54,2,   14.87,2,    0.00,2,    1.06,2,   3.206,2,   1.674,2,   0.093,2,  2129.5,2,  2303.4,2,   7.8850,2,    20.00,    -999,9,    -999,9,    -999,9,-999,9,-999,9,-999,9,-999,    -999,9,    -999,1.503,2,-999,9,-999,9,    -999,9,-999,9, 20080207,     2002, -33.5868,  28.3248,    -999,-999,1,     -999,9,     -999,9,     -999,9,     -999,9,     -999,9,     -999,9,-999,9,     -999,9,     -999,9,     -999,9,    -999,    -999
33RR20080204,       I06S,       9,          2,         22,         22,2,20080207,       1823,   -33.5667,    28.3637,       3041,   749.9,   9.6171,  34.7964,3,  34.7874,2,    181.6,3,   196.4,2,   12.55,2,   19.42,2,    0.00,2,    1.37,2,   2.665,2,   1.365,2,   0.071,2,  2149.5,2,  2301.3,2,   7.8290,2,    20.00,    -999,9,    -999,9,    -999,9,-999,9,-999,9,-999,9,-999,    -999,9,    -999,1.33,2,-999,9,-999,9,   43.90,2,-999,1, 20080207,     1957, -33.5855,  28.3273,    -999,-999,9,     -999,9,     -999,9,     -999,9,     -999,9,     -999,9,     -999,9,-999,9,     -999,9,     -999,9,     -999,9,    -999,    -999
33RR20080204,       I06S,       9,          2,         21,         21,2,20080207,       1823,   -33.5667,    28.3637,       3041,   847.9,   8.4195,  34.6149,3,  34.6567,2,    188.0,3,   193.3,2,   16.76,2,   22.56,2,    0.00,2,    1.57,2,   2.257,6,   1.130,6,   0.067,6,  2160.1,2,  2299.2,2,     -999,5,     -999,    -999,9,    -999,9,    -999,9,-999,9,-999,9,-999,9,-999,    -999,9,    -999,1.57,6,-999,9,-999,9,    -999,9,-999,9, 20080207,     1952, -33.5846,  28.3298,    -999,-999,9,     -999,9,     -999,9,     -999,9,     -999,9,     -999,9,     -999,9,-999,9,     -999,9,     -999,9,     -999,9,    -999,    -999
33RR20080204,       I06S,       9,          2,         20,         20,2,20080207,       1823,   -33.5667,    28.3637,       3041,   918.1,   7.5277,  34.4757,3,  34.5728,2,    190.0,3,   194.9,2,   19.98,2,   24.45,2,    0.00,2,    1.69,2,   2.021,2,   1.002,2,   0.064,2,  2166.9,2,  2297.9,2,   7.7760,2,    20.00,    -999,9,    -999,9,    -999,9,-999,9,-999,9,-999,9,-999,    -999,9,    -999,1.543,2,-999,9,-999,9,   42.93,2,-999,1, 20080207,     1946, -33.5833,  28.3323,    -999,-999,1,     -999,9,     -999,9,     -999,9,     -999,9,     -999,9,     -999,9,-999,9,     -999,9,     -999,9,     -999,9,    -999,    -999
33RR20080204,       I06S,       9,          2,         13,         13,9,20080207,       1823,   -33.5667,    28.3637,       3041,   951.5,   7.0795,  34.5524,3,     -999,9,     -999,9,    -999,9,    -999,9,    -999,9,    -999,9,    -999,9,    -999,9,    -999,9,    -999,9,    -999,9,    -999,9,     -999,9,     -999,    -999,9,    -999,9,    -999,9,-999,9,-999,9,-999,9,-999,    -999,9,    -999,-999,9,-999,9,-999,9,    -999,9,-999,9, 20080207,     1944, -33.5829,  28.3333,    -999,-999,9,     -999,9,     -999,9,     -999,9,     -999,9,     -999,9,     -999,9,-999,9,     -999,9,     -999,9,     -999,9,    -999,    -999
33RR20080204,       I06S,       9,          2,         12,         12,2,20080207,       1823,   -33.5667,    28.3637,       3041,  1066.5,   6.0093,  34.6536,3,  34.6337,2,    164.0,3,   144.2,2,   48.63,2,   31.36,2,    0.00,2,    2.22,2,   0.791,2,   0.404,2,   0.048,2,  2226.0,6,  2323.4,2,   7.6770,2,    20.00,    -999,9,    -999,9,    -999,9,-999,9,-999,9,-999,9,-999,    -999,9,    -999,1.059,2,-999,9,-999,9,   41.66,2,-999,1, 20080207,     1940, -33.5820,  28.3350,    -999,-999,1,     -999,9,     -999,9,     -999,9,     -999,9,     -999,9,     -999,9,-999,9,     -999,9,     -999,9,     -999,9,    -999,    -999
33RR20080204,       I06S,       9,          2,         11,         11,2,20080207,       1823,   -33.5667,    28.3637,       3041,  1168.4,   4.5429,  34.5119,3,  34.5103,2,    157.0,3,   167.0,2,   51.70,2,   32.47,2,    0.00,2,    2.27,2,   0.817,2,   0.407,2,   0.044,2,  2226.3,3,  2321.2,2,   7.6730,2,    20.00,    -999,9,    -999,9,    -999,9,-999,9,-999,9,-999,9,-999,    -999,9,    -999,1.247,2,-999,9,-999,9,    -999,9,-999,9, 20080207,     1935, -33.5809,  28.3363,    -999,-999,9,     -999,9,     -999,9,     -999,9,     -999,9,     -999,9,     -999,9,-999,9,     -999,9,     -999,9,     -999,9,    -999,    -999
33RR20080204,       I06S,       9,          2,         10,         10,2,20080207,       1823,   -33.5667,    28.3637,       3041,  1267.5,   4.3449,  34.5992,2,  34.5983,2,    154.1,3,   151.9,2,   63.38,2,   33.32,2,    0.00,2,    2.35,2,   0.457,2,   0.233,2,   0.024,2,  2244.9,2,  2334.4,2,   7.6570,2,    20.00,    -999,9,    -999,9,    -999,9,-999,9,-999,9,-999,9,-999,    -999,9,    -999,0.808,2,-999,9,-999,9,   39.71,2,-999,1, 20080207,     1931, -33.5800,  28.3380,    -999,-999,9,     -999,9,     -999,9,     -999,9,     -999,9,     -999,9,     -999,9,-999,9,     -999,9,     -999,9,     -999,9,    -999,    -999
33RR20080204,       I06S,       9,          2,          9,          9,2,20080207,       1823,   -33.5667,    28.3637,       3041,  1353.0,   3.8066,  34.6223,2,  34.6244,2,    154.8,3,   153.3,2,   70.58,2,   33.68,2,    0.00,2,    2.37,2,   0.278,2,   0.149,2,   0.008,2,  2252.9,2,  2341.1,2,   7.6520,2,    20.00,    -999,9,    -999,9,    -999,9,-999,9,-999,9,-999,9,-999,    -999,9,    -999,0.523,2,-999,9,-999,9,    -999,9,-999,9, 20080207,     1926, -33.5794,  28.3402,    -999,-999,9,     -999,9,     -999,9,     -999,9,     -999,9,     -999,9,     -999,9,-999,9,     -999,9,     -999,9,     -999,9,    -999,    -999
33RR20080204,       I06S,       9,          2,          8,          8,2,20080207,       1823,   -33.5667,    28.3637,       3041,  1472.1,   3.3160,  34.6561,3,  34.6474,2,    162.5,3,   160.0,2,   73.86,2,   33.28,2,    0.00,2,    2.34,2,   0.182,2,   0.097,2,   0.016,2,  2254.5,2,  2344.0,2,   7.6590,2,    20.00,    -999,9,    -999,9,    -999,9,-999,9,-999,9,-999,9,-999,    -999,9,    -999,0.377,2,-999,9,-999,9,   41.46,2,-999,1, 20080207,     1921, -33.5788,  28.3430,    -999,-999,9,     -999,9,     -999,9,     -999,9,     -999,9,     -999,9,     -999,9,-999,9,     -999,9,     -999,9,     -999,9,    -999,    -999
33RR20080204,       I06S,       9,          2,          7,          7,2,20080207,       1823,   -33.5667,    28.3637,       3041,  1686.3,   2.9631,  34.7046,2,  34.7051,2,    175.0,3,   170.4,2,   75.70,2,   31.92,2,    0.00,2,    2.24,2,   0.092,2,   0.049,2,   0.023,2,  2251.4,2,  2349.1,2,   7.6760,2,    20.00,    -999,9,    -999,9,    -999,9,-999,9,-999,9,-999,9,-999,    -999,9,    -999,0.118,2,-999,9,-999,9,   43.12,2,-999,1, 20080207,     1913, -33.5772,  28.3460,    -999,-999,9,     -999,9,     -999,9,     -999,9,     -999,9,     -999,9,     -999,9,-999,9,     -999,9,     -999,9,     -999,9,    -999,    -999
33RR20080204,       I06S,       9,          2,          6,          6,2,20080207,       1823,   -33.5667,    28.3637,       3041,  1877.5,   2.7353,  34.7415,2,  34.7428,2,     -999,9,    -999,5,   71.18,2,   30.26,2,    0.00,2,    2.10,2,   0.059,2,   0.028,2,   0.014,2,  2241.3,2,  2345.4,2,   7.6970,2,    20.00,    -999,9,    -999,9,    -999,9,-999,9,-999,9,-999,9,-999,    -999,9,    -999,0.014,2,-999,9,-999,9,    -999,9,-999,9, 20080207,     1904, -33.5752,  28.3486,    -999,-999,9,     -999,9,     -999,9,     -999,9,     -999,9,     -999,9,     -999,9,-999,9,     -999,9,     -999,9,     -999,9,    -999,    -999
33RR20080204,       I06S,       9,          2,          5,          5,2,20080207,       1823,   -33.5667,    28.3637,       3041,  2078.0,   2.6091,  34.7701,2,  34.7723,2,    195.7,3,   194.4,2,   69.31,2,   29.21,2,    0.00,2,    2.01,2,   0.079,2,   0.019,2,   0.011,2,  2235.8,2,  2345.4,2,   7.7140,2,    20.00,    -999,9,    -999,9,    -999,9,-999,9,-999,9,-999,9,-999,    -999,9,    -999,-0.044,2,-999,9,-999,9,   39.41,2,-999,1, 20080207,     1855, -33.5732,  28.3517,    -999,-999,9,     -999,9,     -999,9,     -999,9,     -999,9,     -999,9,     -999,9,-999,9,     -999,9,     -999,9,     -999,9,    -999,    -999
33RR20080204,       I06S,       9,          2,          4,          4,2,20080207,       1823,   -33.5667,    28.3637,       3041,  2393.0,   2.4700,  34.8047,2,  34.8067,2,    212.2,3,   209.0,2,   63.76,2,   27.36,2,    0.00,2,    1.87,2,   0.035,2,   0.015,2,   0.004,2,  2223.5,2,  2342.2,2,   7.7380,2,    20.00,    -999,9,    -999,9,    -999,9,-999,9,-999,9,-999,9,-999,    -999,9,    -999,-0.106,2,-999,9,-999,9,   39.51,2,-999,1, 20080207,     1846, -33.5714,  28.3553,    -999,-999,9,     -999,9,     -999,9,     -999,9,     -999,9,     -999,9,     -999,9,-999,9,     -999,9,     -999,9,     -999,9,    -999,    -999
33RR20080204,       I06S,       9,          2,          3,          3,2,20080207,       1823,   -33.5667,    28.3637,       3041,  2686.9,   2.3167,  34.8150,2,  34.8173,2,    211.5,3,   216.1,2,   64.37,2,   26.67,2,    0.00,2,    1.82,2,   0.031,2,   0.009,2,   0.002,2,  2220.5,2,  2341.8,2,   7.7490,2,    20.00,    -999,9,    -999,9,    -999,9,-999,9,-999,9,-999,9,-999,    -999,9,    -999,-0.125,2,-999,9,-999,9,    -999,9,-999,9, 20080207,     1839, -33.5699,  28.3583,    -999,-999,9,     -999,9,     -999,9,     -999,9,     -999,9,     -999,9,     -999,9,-999,9,     -999,9,     -999,9,     -999,9,    -999,    -999
33RR20080204,       I06S,       9,          2,          2,          2,2,20080207,       1823,   -33.5667,    28.3637,       3041,  2978.2,   2.1263,  34.8125,2,  34.8137,2,    220.6,3,   218.3,2,   69.09,2,   26.81,2,    0.00,2,    1.84,2,   0.037,2,   0.017,2,   0.006,2,  2223.2,2,  2345.8,2,   7.7490,2,    20.00,    -999,9,    -999,9,    -999,9,-999,9,-999,9,-999,9,-999,    -999,9,    -999,0.051,2,-999,9,-999,9,    -999,9,-999,9, 20080207,     1831, -33.5684,  28.3610,    -999,-999,9,     -999,9,     -999,9,     -999,9,     -999,9,     -999,9,     -999,9,-999,9,     -999,9,     -999,9,     -999,9,    -999,    -999