BOTTLE,20220706CCHSIOAMB
EXPOCODE,SECT_ID,STNNBR,CASTNO,SAMPNO,BTLNBR,BTLNBR_FLAG_W,DATE,TIME,LATITUDE,LONGITUDE,DEPTH,CTDPRS,CTDTMP,CTDSAL,CTDSAL_FLAG_W,SALNTY,SALNTY_FLAG_W,CTDOXY,CTDOXY_FLAG_W,OXYGEN,OXYGEN_FLAG_W,SILCAT,SILCAT_FLAG_W,NITRAT,NITRAT_FLAG_W,NITRIT,NITRIT_FLAG_W,PHSPHT,PHSPHT_FLAG_W,CFC-11,CFC-11_FLAG_W,CFC-12,CFC-12_FLAG_W,CFC113,CFC113_FLAG_W,TCARBN,TCARBN_FLAG_W,ALKALI,ALKALI_FLAG_W,PH_SWS,PH_SWS_FLAG_W,PH_TMP,TRITUM,TRITUM_FLAG_W,HELIUM,HELIUM_FLAG_W,DELHE3,DELHE3_FLAG_W,REFTMP,REFTMP_FLAG_W,DELC13,DELC13_FLAG_W,DELC14,DELC14_FLAG_W,C14ERR,NEON,NEON_FLAG_W,NEONER,CCL4,CCL4_FLAG_W,ALUMIN,ALUMIN_FLAG_W,DELO18,DELO18_FLAG_W,DOC,DOC_FLAG_W,TDN,TDN_FLAG_W,BTL_DATE,BTL_TIME,BTL_LAT,BTL_LON,TRITER,DELSI30,DELSI30_FLAG_W,CDOM380,CDOM380_FLAG_W,CDOM325,CDOM325_FLAG_W,CDOMSL,CDOMSL_FLAG_W,CDOM340,CDOM340_FLAG_W,CDOM443,CDOM443_FLAG_W,CDOMSN,CDOMSN_FLAG_W,BLACKC,BLACKC_FLAG_W,CDOM490,CDOM490_FLAG_W,CDOM412,CDOM412_FLAG_W,CDOM555,CDOM555_FLAG_W,DELHER,HELIER
,,,,,,,,,,,METERS,DBAR,ITS-90,PSS-78,,PSS-78,,UMOL/KG,,UMOL/KG,,UMOL/KG,,UMOL/KG,,UMOL/KG,,UMOL/KG,,PMOL/KG,,PMOL/KG,,PMOL/KG,,UMOL/KG,,UMOL/KG,,,,DEG C,TU,,NMOL/KG,,PERCNT,,DEG C,,/MILLE,,/MILLE,,/MILLE,NMOL/KG,,NMOL/KG,PMOL/KG,,NMOL/L,,/MILLE,,UMOL/KG,,UMOL/KG,,,,,,TU,/MILLE,,1/M,,1/M,,1/NM,,1/M,,1/M,,1/NM,,,,1/M,,1/M,,1/M,,PERCNT,NMOL/KG
33RR20080204,       I06S,      54,          2,          7,          7,2,20080222,       1614,   -54.0050,    29.9987,       5308,  3924.4,   0.0996,  34.6685,2,  34.6690,2,    225.5,2,   226.1,2,  128.88,2,   32.50,2,    0.00,2,    2.26,2,   0.383,2,   0.198,2,   0.020,2,    -999,9,  2354.7,2,     -999,9,     -999,    -999,9,    -999,9,    -999,9,0.0995,2,-999,9,-999,9,-999,    -999,9,    -999,0.951,2,-999,9,-999,9,    -999,9,-999,9, 20080222,     1646, -54.0049,  29.9987,    -999,-999,9,     -999,9,     -999,9,     -999,9,     -999,9,     -999,9,     -999,9,-999,9,     -999,9,     -999,9,     -999,9,    -999,    -999
33RR20080204,       I06S,      54,          2,          6,          6,2,20080222,       1614,   -54.0050,    29.9987,       5308,  4229.8,   0.0262,  34.6643,2,  34.6652,2,    229.9,2,   229.6,2,  129.27,2,   32.50,2,    0.00,2,    2.27,2,   0.412,2,   0.220,2,   0.027,2,    -999,9,    -999,9,     -999,9,     -999,    -999,9,    -999,9,    -999,9,0.026,2,-999,9,-999,9,-999,    -999,9,    -999,1.0,2,-999,9,-0.14,2,    -999,9,-999,9, 20080222,     1639, -54.0049,  29.9987,    -999,-999,9,     -999,9,     -999,9,     -999,9,     -999,9,     -999,9,     -999,9,-999,9,     -999,9,     -999,9,     -999,9,    -999,    -999
33RR20080204,       I06S,      54,          2,          5,          5,2,20080222,       1614,   -54.0050,    29.9987,       5308,  4539.6,  -0.0551,  34.6606,2,  34.6617,2,    233.9,2,   233.6,2,  130.04,2,   32.45,2,    0.00,2,    2.27,2,   0.402,2,   0.219,2,   0.027,2,    -999,9,  2353.5,2,   7.7940,2,    13.00,    -999,9,    -999,9,    -999,9,-0.0551,2,-999,9,-999,9,-999,    -999,9,    -999,1.069,2,-999,9,-999,9,    -999,9,-999,9, 20080222,     1633, -54.0048,  29.9987,    -999,-999,9,     -999,9,     -999,9,     -999,9,     -999,9,     -999,9,     -999,9,-999,9,     -999,9,     -999,9,     -999,9,    -999,    -999
33RR20080204,       I06S,      54,          2,          4,          4,2,20080222,       1614,   -54.0050,    29.9987,       5308,  4744.8,  -0.1011,  34.6582,2,  34.6594,2,    236.2,2,   236.3,2,  130.63,2,   32.46,2,    0.00,2,    2.26,2,   0.425,2,   0.231,2,   0.019,2,    -999,9,    -999,9,     -999,9,     -999,    -999,9,    -999,9,    -999,9,-0.1004,2,-999,9,-999,9,-999,    -999,9,    -999,1.11,2,-999,9,-999,9,    -999,9,-999,9, 20080222,     1628, -54.0048,  29.9987,    -999,-999,9,     -999,9,     -999,9,     -999,9,     -999,9,     -999,9,     -999,9,-999,9,     -999,9,     -999,9,     -999,9,    -999,    -999
33RR20080204,       I06S,      54,          2,          3,          3,2,20080222,       1614,   -54.0050,    29.9987,       5308,  4955.1,  -0.1298,  34.6561,2,  34.6576,2,    238.5,2,   238.4,2,  130.43,2,   32.36,2,    0.00,2,    2.26,2,   0.452,2,   0.235,2,   0.027,2,    -999,9,  2352.6,2,     -999,9,     -999,    -999,9,    -999,9,    -999,9,-0.1299,2,-999,9,-999,9,-999,    -999,9,    -999,1.16,2,-999,9,-999,9,    -999,9,-999,9, 20080222,     1623, -54.0049,  29.9988,    -999,-999,9,     -999,9,     -999,9,     -999,9,     -999,9,     -999,9,     -999,9,-999,9,     -999,9,     -999,9,     -999,9,    -999,    -999
33RR20080204,       I06S,      54,          2,          2,          2,2,20080222,       1614,   -54.0050,    29.9987,       5308,  5160.2,  -0.1344,  34.6551,2,  34.6564,2,    240.2,2,   239.4,2,  131.22,2,   32.36,2,    0.00,2,    2.26,2,   0.468,2,   0.242,2,   0.021,2,    -999,9,  2351.0,2,     -999,9,     -999,    -999,9,    -999,9,    -999,9,-0.1346,2,-999,9,-999,9,-999,    -999,9,    -999,1.218,2,-999,9,-999,9,    -999,9,-999,9, 20080222,     1619, -54.0050,  29.9987,    -999,-999,9,     -999,9,     -999,9,     -999,9,     -999,9,     -999,9,     -999,9,-999,9,     -999,9,     -999,9,     -999,9,    -999,    -999
33RR20080204,       I06S,      54,          2,          1,          1,2,20080222,       1614,   -54.0050,    29.9987,       5308,  5340.5,  -0.1391,  34.6538,2,  34.6562,2,    240.7,2,   240.4,2,  131.41,2,   32.37,2,    0.00,2,    2.26,2,   0.475,2,   0.251,2,   0.041,2,    -999,9,  2352.3,2,   7.7990,2,    13.00,    -999,9,    -999,9,    -999,9,-0.1389,2,-999,9,-999,9,-999,    -999,9,    -999,1.307,2,-999,9,-0.13,2,    -999,9,-999,9, 20080222,     1614, -54.0050,  29.9987,    -999,-999,9,     -999,9,     -999,9,     -999,9,     -999,9,     -999,9,     -999,9,-999,9,     -999,9,     -999,9,     -999,9,    -999,    -999