BOTTLE,20220706CCHSIOAMB
EXPOCODE,SECT_ID,STNNBR,CASTNO,SAMPNO,BTLNBR,BTLNBR_FLAG_W,DATE,TIME,LATITUDE,LONGITUDE,DEPTH,CTDPRS,CTDTMP,CTDSAL,CTDSAL_FLAG_W,SALNTY,SALNTY_FLAG_W,CTDOXY,CTDOXY_FLAG_W,OXYGEN,OXYGEN_FLAG_W,SILCAT,SILCAT_FLAG_W,NITRAT,NITRAT_FLAG_W,NITRIT,NITRIT_FLAG_W,PHSPHT,PHSPHT_FLAG_W,CFC-11,CFC-11_FLAG_W,CFC-12,CFC-12_FLAG_W,CFC113,CFC113_FLAG_W,TCARBN,TCARBN_FLAG_W,ALKALI,ALKALI_FLAG_W,PH_SWS,PH_SWS_FLAG_W,PH_TMP,TRITUM,TRITUM_FLAG_W,HELIUM,HELIUM_FLAG_W,DELHE3,DELHE3_FLAG_W,REFTMP,REFTMP_FLAG_W,DELC13,DELC13_FLAG_W,DELC14,DELC14_FLAG_W,C14ERR,NEON,NEON_FLAG_W,NEONER,CCL4,CCL4_FLAG_W,ALUMIN,ALUMIN_FLAG_W,DELO18,DELO18_FLAG_W,DOC,DOC_FLAG_W,TDN,TDN_FLAG_W,BTL_DATE,BTL_TIME,BTL_LAT,BTL_LON,TRITER,DELSI30,DELSI30_FLAG_W,CDOM380,CDOM380_FLAG_W,CDOM325,CDOM325_FLAG_W,CDOMSL,CDOMSL_FLAG_W,CDOM340,CDOM340_FLAG_W,CDOM443,CDOM443_FLAG_W,CDOMSN,CDOMSN_FLAG_W,BLACKC,BLACKC_FLAG_W,CDOM490,CDOM490_FLAG_W,CDOM412,CDOM412_FLAG_W,CDOM555,CDOM555_FLAG_W,DELHER,HELIER
,,,,,,,,,,,METERS,DBAR,ITS-90,PSS-78,,PSS-78,,UMOL/KG,,UMOL/KG,,UMOL/KG,,UMOL/KG,,UMOL/KG,,UMOL/KG,,PMOL/KG,,PMOL/KG,,PMOL/KG,,UMOL/KG,,UMOL/KG,,,,DEG C,TU,,NMOL/KG,,PERCNT,,DEG C,,/MILLE,,/MILLE,,/MILLE,NMOL/KG,,NMOL/KG,PMOL/KG,,NMOL/L,,/MILLE,,UMOL/KG,,UMOL/KG,,,,,,TU,/MILLE,,1/M,,1/M,,1/NM,,1/M,,1/M,,1/NM,,,,1/M,,1/M,,1/M,,PERCNT,NMOL/KG
33RR20080204,       I06S,      29,          1,         36,         36,2,20080214,       0810,   -41.4825,    29.9854,       4481,     4.3,  18.3210,  35.4571,2,  35.4562,2,    236.7,2,   238.0,2,    1.74,2,    0.48,2,    0.04,2,    0.18,2,   2.396,2,   1.440,2,   0.179,2,  2041.2,6,  2328.3,2,   8.2147,2,    13.00,    -999,9,    -999,9,    -999,9,18.3207,2,-999,9,-999,9,-999,    -999,9,    -999,3.232,2,-999,9,-999,9,   61.76,2,-999,1, 20080214,     1019, -41.4731,  29.9617,    -999,-999,9,   0.0336,2,   0.1191,2,   0.0130,4,   0.0846,2,   0.0088,2,   0.0227,2,-999,9,   0.0023,2,   0.0193,2,  -0.0012,4,    -999,    -999
33RR20080204,       I06S,      29,          1,         35,         35,2,20080214,       0810,   -41.4825,    29.9854,       4481,    20.7,  18.0377,  35.4380,2,  35.4385,2,    233.9,2,   236.9,2,    1.73,2,    0.44,2,    0.04,2,    0.18,2,   2.424,2,   1.464,2,   0.178,2,  2044.4,2,  2329.2,2,   8.2131,2,    13.00,    -999,9,    -999,9,    -999,9,18.0405,2,-999,9,-999,9,-999,    -999,9,    -999,3.269,2,-999,9,-999,9,   63.51,2,-999,1, 20080214,     1017, -41.4731,  29.9630,    -999,-999,9,   0.0321,2,   0.1088,2,   0.0124,4,   0.0764,2,   0.0080,2,   0.0215,2,-999,9,   0.0020,2,   0.0183,2,  -0.0015,4,    -999,    -999
33RR20080204,       I06S,      29,          1,         34,         34,2,20080214,       0810,   -41.4825,    29.9854,       4481,    38.6,  17.8753,  35.4201,2,  35.4192,2,    233.8,2,   235.2,2,    1.50,2,    0.53,2,    0.04,2,    0.19,2,   2.427,2,   1.469,2,   0.178,2,  2047.3,2,  2326.5,2,   8.2104,4,    13.00,    -999,9,    -999,9,    -999,9,17.8735,2,-999,9,-999,9,-999,    -999,9,    -999,3.263,2,-999,9,-999,9,   63.41,2,-999,1, 20080214,     1015, -41.4732,  29.9638,    -999,-999,9,   0.0305,2,   0.1109,2,   0.0219,2,   0.0780,2,   0.0069,2,   0.0234,2,-999,9,   0.0012,2,   0.0167,2,  -0.0018,4,    -999,    -999
33RR20080204,       I06S,      29,          1,         33,         33,2,20080214,       0810,   -41.4825,    29.9854,       4481,    68.0,  17.6785,  35.4146,2,  35.4153,2,    235.7,2,   230.6,2,    1.69,2,    0.97,2,    0.08,2,    0.21,2,   2.442,2,   1.480,2,   0.172,2,  2050.2,2,  2326.8,2,   8.1991,2,    13.00,    -999,9,    -999,9,    -999,9,17.6993,3,-999,9,-999,9,-999,    -999,9,    -999,2.97,2,-999,9,-999,9,   61.27,2,-999,1, 20080214,     1014, -41.4732,  29.9646,    -999,-999,9,   0.0368,2,   0.1227,2,   0.0203,2,   0.0880,2,   0.0103,2,   0.0212,2,-999,9,   0.0032,2,   0.0212,2,  -0.0008,4,    -999,    -999
33RR20080204,       I06S,      29,          1,         32,         32,2,20080214,       0810,   -41.4825,    29.9854,       4481,    93.2,  16.2531,  35.4373,2,  35.4391,2,    196.4,2,   191.4,2,    5.80,2,    7.27,2,    0.03,2,    0.60,2,   2.548,2,   1.500,2,   0.086,2,  2099.8,2,  2323.9,2,   8.1030,3,    13.00,    -999,9,    -999,9,    -999,9,16.257,2,-999,9,-999,9,-999,    -999,9,    -999,2.193,2,-999,9,-999,9,   54.93,2,-999,1, 20080214,     1012, -41.4732,  29.9655,    -999,-999,9,   0.0264,2,   0.0978,2,   0.0210,2,   0.0670,2,   0.0060,2,   0.0235,2,-999,9,   0.0003,4,   0.0158,2,  -0.0022,4,    -999,    -999
33RR20080204,       I06S,      29,          1,         31,         31,2,20080214,       0810,   -41.4825,    29.9854,       4481,   142.9,  14.5952,  35.2233,2,  35.2241,2,    240.3,2,   243.8,2,    1.06,2,    2.36,2,    0.23,2,    0.40,2,   2.870,2,   1.738,2,   0.235,2,  2073.5,2,  2322.7,2,   8.1490,2,    13.00,    -999,9,    -999,9,    -999,9,14.5967,2,-999,9,-999,9,-999,    -999,9,    -999,3.429,2,-999,9,-999,9,   54.63,2,-999,1, 20080214,     1010, -41.4732,  29.9667,    -999,-999,9,   0.0277,2,   0.0985,2,   0.0205,2,   0.0674,2,   0.0072,2,   0.0225,2,-999,9,   0.0014,2,   0.0162,2,  -0.0017,4,    -999,    -999
33RR20080204,       I06S,      29,          1,         30,         30,2,20080214,       0810,   -41.4825,    29.9854,       4481,   189.9,  13.5851,  35.2126,2,  35.2141,2,    233.2,2,   234.8,2,    3.80,2,    7.33,2,    0.02,2,    0.62,2,   3.027,2,   1.780,2,   0.225,2,  2095.8,2,  2316.4,2,   8.0947,2,    13.00,    -999,9,    -999,9,    -999,9,13.5694,2,-999,9,-999,9,-999,    -999,9,    -999,2.927,2,-999,9,-999,9,   51.90,2,-999,1, 20080214,     1009, -41.4732,  29.9677,    -999,-999,9,   0.0248,2,   0.0915,2,   0.0206,2,   0.0625,2,   0.0064,2,   0.0233,2,-999,9,   0.0005,4,   0.0150,2,  -0.0021,4,    -999,    -999
33RR20080204,       I06S,      29,          1,         28,         28,2,20080214,       0810,   -41.4825,    29.9854,       4481,   230.0,  12.7304,  35.0812,2,  35.0827,2,    233.2,2,   231.6,2,    3.95,2,    9.27,2,    0.02,2,    0.74,2,   3.135,2,   1.827,2,   0.184,2,  2107.0,2,    -999,5,   8.0640,2,    13.00,    -999,9,    -999,9,    -999,9,12.7261,2,-999,9,-999,9,-999,    -999,9,    -999,2.742,2,-999,9,-999,9,   53.17,2,-999,1, 20080214,     1006, -41.4733,  29.9694,    -999,-999,9,   0.0233,2,   0.0873,2,   0.0223,2,   0.0590,2,   0.0043,2,   0.0243,2,-999,9,  -0.0009,4,   0.0125,2,  -0.0030,4,    -999,    -999
33RR20080204,       I06S,      29,          1,         29,         29,2,20080214,       0810,   -41.4825,    29.9854,       4481,   230.2,  12.7383,  35.0813,2,  35.0829,2,    233.2,2,   231.7,2,    3.97,2,    9.18,2,    0.02,2,    0.74,2,   3.140,2,   1.841,2,   0.198,2,  2103.8,2,  2311.3,2,   8.0655,2,    13.00,    -999,9,    -999,9,    -999,9,12.7359,2,-999,9,-999,9,-999,    -999,9,    -999,2.779,2,-999,9,-999,9,   49.85,2,-999,1, 20080214,     1007, -41.4733,  29.9689,    -999,-999,9,   0.0230,2,   0.0853,2,   0.0216,2,   0.0573,2,   0.0047,2,   0.0238,2,-999,9,  -0.0006,4,   0.0129,2,  -0.0028,4,    -999,    -999
33RR20080204,       I06S,      29,          1,         27,         27,2,20080214,       0810,   -41.4825,    29.9854,       4481,   333.6,  11.6146,  34.9695,2,  34.9712,2,    228.5,2,   229.6,2,    4.72,2,   11.81,2,    0.02,2,    0.90,2,   3.267,2,   1.888,2,   0.184,2,  2117.6,2,  2305.8,2,   8.0330,2,    13.00,    -999,9,    -999,9,    -999,9,11.6165,2,-999,9,-999,9,-999,    -999,9,    -999,2.579,2,-999,9,-999,9,    -999,9,-999,9, 20080214,     1003, -41.4732,  29.9713,    -999,-999,9,     -999,9,     -999,9,     -999,9,     -999,9,     -999,9,     -999,9,-999,9,     -999,9,     -999,9,     -999,9,    -999,    -999
33RR20080204,       I06S,      29,          1,         26,         26,2,20080214,       0810,   -41.4825,    29.9854,       4481,   385.4,  11.2945,  34.9411,2,  34.9470,2,    229.8,2,   226.4,2,    5.10,2,   12.70,2,    0.02,2,    0.95,2,   3.289,2,   1.865,2,   0.172,2,  2120.4,2,  2305.5,2,   8.0208,2,    13.00,    -999,9,    -999,9,    -999,9,11.3072,2,-999,9,-999,9,-999,    -999,9,    -999,2.509,2,-999,9,-999,9,   48.78,2,-999,1, 20080214,     1001, -41.4733,  29.9718,    -999,-999,9,   0.0183,2,   0.0755,2,   0.0234,2,   0.0481,2,   0.0028,3,   0.0263,2,-999,9,  -0.0015,4,   0.0099,2,  -0.0032,4,    -999,    -999
33RR20080204,       I06S,      29,          1,         25,         25,2,20080214,       0810,   -41.4825,    29.9854,       4481,   434.6,  10.6460,  34.8405,2,  34.8390,2,    227.2,2,   229.5,2,    5.27,2,   13.93,2,    0.01,2,    1.03,2,   3.315,2,   1.903,2,   0.188,2,  2122.5,2,  2300.7,2,   8.0056,2,    13.00,    -999,9,    -999,9,    -999,9,10.6527,2,-999,9,-999,9,-999,    -999,9,    -999,2.443,2,-999,9,-999,9,    -999,9,-999,9, 20080214,     0959, -41.4733,  29.9721,    -999,-999,9,     -999,9,     -999,9,     -999,9,     -999,9,     -999,9,     -999,9,-999,9,     -999,9,     -999,9,     -999,9,    -999,    -999
33RR20080204,       I06S,      29,          1,         24,         24,2,20080214,       0810,   -41.4825,    29.9854,       4481,   486.0,   9.8546,  34.7296,2,  34.7328,2,    230.7,2,   233.5,2,    6.04,2,   15.49,2,    0.01,2,    1.13,2,   3.345,2,   1.910,2,   0.203,2,  2126.9,2,  2296.5,2,   7.9892,2,    13.00,    -999,9,    -999,9,    -999,9,9.8627,2,-999,9,-999,9,-999,    -999,9,    -999,2.944,2,-999,9,-999,9,   46.24,2,-999,1, 20080214,     0957, -41.4734,  29.9724,    -999,-999,9,   0.0188,2,   0.0769,2,   0.0230,2,   0.0491,2,   0.0032,3,   0.0260,2,-999,9,  -0.0016,4,   0.0103,2,  -0.0034,4,    -999,    -999
33RR20080204,       I06S,      29,          1,         23,         23,2,20080214,       0810,   -41.4825,    29.9854,       4481,   564.8,   9.0721,  34.6638,2,  34.6636,2,    213.8,2,   215.3,2,    9.37,2,   19.00,2,    0.00,2,    1.35,2,   3.113,2,   1.712,2,   0.162,2,  2143.7,2,  2294.3,2,   7.9462,2,    13.00,    -999,9,    -999,9,    -999,9,9.0715,2,-999,9,-999,9,-999,    -999,9,    -999,2.751,2,-999,9,-999,9,    -999,9,-999,9, 20080214,     0955, -41.4735,  29.9727,    -999,-999,9,     -999,9,     -999,9,     -999,9,     -999,9,     -999,9,     -999,9,-999,9,     -999,9,     -999,9,     -999,9,    -999,    -999
33RR20080204,       I06S,      29,          1,         22,         22,2,20080214,       0810,   -41.4825,    29.9854,       4481,   669.9,   7.8744,  34.5881,2,  34.5896,2,    195.7,2,   196.7,2,   16.85,2,   23.60,2,    0.00,2,    1.64,2,   2.556,2,   1.340,2,   0.121,2,  2163.9,2,  2294.5,2,   7.8939,2,    13.00,    -999,9,    -999,9,    -999,9,7.876,2,-999,9,-999,9,-999,    -999,9,    -999,2.638,2,-999,9,-999,9,   43.32,2,-999,1, 20080214,     0952, -41.4737,  29.9732,    -999,-999,9,   0.0225,2,   0.0831,2,   0.0206,3,   0.0532,2,   0.0048,2,   0.0226,2,-999,9,  -0.0015,4,   0.0131,2,  -0.0035,4,    -999,    -999
33RR20080204,       I06S,      29,          1,         21,         21,2,20080214,       0810,   -41.4825,    29.9854,       4481,   769.1,   6.5405,  34.4765,2,  34.4779,2,    196.8,2,   198.0,2,   22.38,2,   26.64,2,    0.00,2,    1.86,2,   2.500,2,   1.309,2,   0.155,2,  2177.6,2,  2294.8,2,   7.8586,2,    13.00,    -999,9,    -999,9,    -999,9,6.5362,2,-999,9,-999,9,-999,    -999,9,    -999,3.073,2,-999,9,-999,9,    -999,9,-999,9, 20080214,     0950, -41.4738,  29.9736,    -999,-999,9,     -999,9,     -999,9,     -999,9,     -999,9,     -999,9,     -999,9,-999,9,     -999,9,     -999,9,     -999,9,    -999,    -999
33RR20080204,       I06S,      29,          1,         20,         20,2,20080214,       0810,   -41.4825,    29.9854,       4481,   870.9,   5.5049,  34.4038,2,  34.4046,2,    201.8,2,   204.0,2,   26.72,2,   28.48,2,    0.00,2,    1.98,2,   2.476,2,   1.302,2,   0.161,2,  2184.0,2,  2297.7,2,   7.8402,2,    13.00,    -999,9,    -999,9,    -999,9,5.5038,2,-999,9,-999,9,-999,    -999,9,    -999,3.147,2,-999,9,-999,9,   39.71,2,-999,1, 20080214,     0947, -41.4739,  29.9742,    -999,-999,9,   0.0211,2,   0.0846,2,   0.0216,3,   0.0527,2,   0.0048,2,   0.0243,2,-999,9,  -0.0010,4,   0.0123,2,  -0.0031,4,    -999,    -999
33RR20080204,       I06S,      29,          1,         19,         19,2,20080214,       0810,   -41.4825,    29.9854,       4481,   971.0,   4.8723,  34.3981,2,  34.3968,2,    202.0,2,   199.0,2,   33.44,2,   30.04,2,    0.00,2,    2.10,2,   2.114,2,   1.088,2,   0.126,2,  2195.5,6,  2302.1,2,   7.8212,2,    13.00,    -999,9,    -999,9,    -999,9,4.8731,2,-999,9,-999,9,-999,    -999,9,    -999,2.852,2,-999,9,-999,9,    -999,9,-999,9, 20080214,     0944, -41.4741,  29.9747,    -999,-999,9,     -999,9,     -999,9,     -999,9,     -999,9,     -999,9,     -999,9,-999,9,     -999,9,     -999,9,     -999,9,    -999,    -999
33RR20080204,       I06S,      29,          1,         18,         18,2,20080214,       0810,   -41.4825,    29.9854,       4481,  1071.3,   4.3275,  34.4258,2,  34.4265,2,    187.8,2,   187.7,2,   42.78,2,   31.64,2,    0.00,2,    2.22,2,   1.575,2,   0.804,2,   0.098,2,  2211.7,2,  2309.3,2,   7.7976,2,    13.00,    -999,9,    -999,9,    -999,9,4.3266,2,-999,9,-999,9,-999,    -999,9,    -999,2.357,2,-999,9,-999,9,   40.10,2,-999,1, 20080214,     0941, -41.4743,  29.9752,    -999,-999,9,   0.0284,2,   0.0984,2,   0.0186,3,   0.0628,2,   0.0089,2,   0.0194,3,-999,9,   0.0013,2,   0.0178,2,  -0.0018,4,    -999,    -999
33RR20080204,       I06S,      29,          1,         17,         17,2,20080214,       0810,   -41.4825,    29.9854,       4481,  1172.6,   3.6159,  34.4016,2,  34.4057,2,    190.8,2,   190.5,2,   46.74,2,   32.58,2,    0.00,2,    2.28,2,   1.516,2,   0.758,2,   0.083,2,  2219.7,2,  2313.2,2,   7.7900,4,    13.00,    -999,9,    -999,9,    -999,9,3.6429,3,-999,9,-999,9,-999,    -999,9,    -999,2.073,2,-999,9,-999,9,   38.73,2,-999,1, 20080214,     0938, -41.4746,  29.9757,    -999,-999,9,   0.0266,2,   0.0945,2,   0.0191,3,   0.0595,2,   0.0079,2,   0.0203,3,-999,9,   0.0006,2,   0.0164,2,  -0.0019,4,    -999,    -999
33RR20080204,       I06S,      29,          1,         16,         16,2,20080214,       0810,   -41.4825,    29.9854,       4481,  1270.7,   3.6135,  34.4979,2,  34.4972,2,    175.7,2,   173.3,2,   57.11,2,   33.33,2,    0.00,2,    2.32,2,   0.795,2,   0.409,2,   0.038,2,  2233.4,2,  2323.3,2,   7.7702,2,    13.00,    -999,9,    -999,9,    -999,9,3.6131,2,-999,9,-999,9,-999,    -999,9,    -999,1.229,2,-999,9,-999,9,    -999,9,-999,9, 20080214,     0935, -41.4748,  29.9763,    -999,-999,9,     -999,9,     -999,9,     -999,9,     -999,9,     -999,9,     -999,9,-999,9,     -999,9,     -999,9,     -999,9,    -999,    -999
33RR20080204,       I06S,      29,          1,         15,         15,2,20080214,       0810,   -41.4825,    29.9854,       4481,  1381.4,   3.2940,  34.5240,2,  34.5239,2,    173.0,2,   172.2,2,   61.49,2,   33.43,2,    0.00,2,    2.34,2,   0.623,6,   0.327,6,   0.044,6,  2238.2,2,  2328.4,2,   7.7681,2,    13.00,    -999,9,    -999,9,    -999,9,3.2936,2,-999,9,-999,9,-999,    -999,9,    -999,1.1495,6,-999,9,-999,9,    -999,9,-999,1, 20080214,     0932, -41.4751,  29.9767,    -999,-999,1,   0.0308,2,   0.1066,2,   0.0191,3,   0.0690,2,   0.0093,2,   0.0202,3,-999,9,   0.0011,2,   0.0187,2,  -0.0018,4,    -999,    -999
33RR20080204,       I06S,      29,          1,         14,         14,2,20080214,       0810,   -41.4825,    29.9854,       4481,  1481.0,   3.0971,  34.5654,2,  34.5645,2,    171.4,2,   171.6,2,   64.88,2,   33.43,2,    0.00,2,    2.33,2,   0.441,2,   0.227,2,   0.037,2,  2242.7,2,  2333.8,2,   7.7664,2,    13.00,    -999,9,    -999,9,    -999,9,3.0989,2,-999,9,-999,9,-999,    -999,9,    -999,0.935,2,-999,9,-999,9,    -999,9,-999,9, 20080214,     0929, -41.4753,  29.9772,    -999,-999,9,     -999,9,     -999,9,     -999,9,     -999,9,     -999,9,     -999,9,-999,9,     -999,9,     -999,9,     -999,9,    -999,    -999
33RR20080204,       I06S,      29,          1,         13,         13,2,20080214,       0810,   -41.4825,    29.9854,       4481,  1581.2,   2.9137,  34.6035,2,  34.6034,2,    171.5,2,   173.4,2,   67.06,2,   32.97,2,    0.00,2,    2.29,2,   0.316,2,   0.167,2,   0.020,2,  2243.2,2,  2335.8,2,   7.7703,2,    13.00,    -999,9,    -999,9,    -999,9,2.9122,2,-999,9,-999,9,-999,    -999,9,    -999,0.624,2,-999,9,-999,9,    -999,9,-999,1, 20080214,     0926, -41.4756,  29.9778,    -999,-999,9,   0.0319,2,   0.1090,2,   0.0200,3,   0.0713,2,   0.0086,2,   0.0204,3,-999,9,   0.0007,2,   0.0179,2,  -0.0018,4,    -999,    -999
33RR20080204,       I06S,      29,          1,         12,         12,2,20080214,       0810,   -41.4825,    29.9854,       4481,  1681.4,   2.8022,  34.6406,2,  34.6412,2,    174.9,2,   177.3,2,   67.65,2,   32.31,2,    0.00,2,    2.25,2,   0.240,2,   0.128,2,   0.008,2,  2244.8,2,  2336.4,2,   7.7778,2,    13.00,    -999,9,    -999,9,    -999,9,2.8016,2,-999,9,-999,9,-999,    -999,9,    -999,0.695,2,-999,9,-999,9,    -999,9,-999,9, 20080214,     0919, -41.4761,  29.9789,    -999,-999,9,     -999,9,     -999,9,     -999,9,     -999,9,     -999,9,     -999,9,-999,9,     -999,9,     -999,9,     -999,9,    -999,    -999
33RR20080204,       I06S,      29,          1,         11,         11,2,20080214,       0810,   -41.4825,    29.9854,       4481,  1780.8,   2.7575,  34.6736,2,  34.6738,2,    180.1,2,   180.3,2,   67.43,2,   31.56,2,    0.00,2,    2.19,2,   0.180,2,   0.105,2,   0.009,2,  2242.0,2,  2338.1,2,   7.7876,2,    13.00,    -999,9,    -999,9,    -999,9,2.757,2,-999,9,-999,9,-999,    -999,9,    -999,0.637,2,-999,9,-999,9,   39.41,2,-999,1, 20080214,     0916, -41.4763,  29.9794,    -999,-999,9,   0.0350,2,   0.1153,2,   0.0186,3,   0.0764,2,   0.0113,2,   0.0194,3,-999,9,   0.0024,2,   0.0211,2,   0.0003,4,    -999,    -999
33RR20080204,       I06S,      29,          1,         10,         10,2,20080214,       0810,   -41.4825,    29.9854,       4481,  1981.7,   2.7226,  34.7412,2,  34.7410,2,    191.5,2,   191.7,2,   64.00,2,   29.60,2,    0.00,2,    2.04,2,   0.092,2,   0.055,2,   0.005,2,  2231.3,2,  2338.3,2,   7.8151,2,    13.00,    -999,9,    -999,9,    -999,9,2.7235,2,-999,9,-999,9,-999,    -999,9,    -999,0.402,2,-999,9,-999,9,    -999,9,-999,9, 20080214,     0912, -41.4766,  29.9800,    -999,-999,1,     -999,9,     -999,9,     -999,9,     -999,9,     -999,9,     -999,9,-999,9,     -999,9,     -999,9,     -999,9,    -999,    -999
33RR20080204,       I06S,      29,          1,          9,          9,2,20080214,       0810,   -41.4825,    29.9854,       4481,  2288.7,   2.5908,  34.7925,2,  34.7928,2,    205.6,2,   205.0,2,   61.78,2,   27.74,2,    0.00,2,    1.90,2,   0.050,2,   0.027,2,   0.000,2,  2224.5,2,  2339.8,2,   7.8408,2,    13.00,    -999,9,    -999,9,    -999,9,2.5899,2,-999,9,-999,9,-999,    -999,9,    -999,0.411,2,-999,9,-999,9,   39.80,2,-999,1, 20080214,     0905, -41.4770,  29.9809,    -999,-999,9,   0.0280,2,   0.1055,2,   0.0212,3,   0.0679,2,   0.0072,2,   0.0225,2,-999,9,   0.0002,4,   0.0157,2,  -0.0021,4,    -999,    -999
33RR20080204,       I06S,      29,          1,          8,          8,2,20080214,       0810,   -41.4825,    29.9854,       4481,  2586.3,   2.4135,  34.8085,2,  34.8083,2,    209.8,2,   211.8,2,   63.77,2,   27.05,2,    0.00,2,    1.85,2,   0.043,2,   0.025,2,   0.000,2,  2221.8,2,  2341.3,2,   7.8546,2,    13.00,    -999,9,    -999,9,    -999,9,2.4119,2,-999,9,-999,9,-999,    -999,9,    -999,0.406,2,-999,9,-999,9,   40.29,2,-999,1, 20080214,     0858, -41.4776,  29.9819,    -999,-999,9,   0.0282,2,   0.1080,2,   0.0218,2,   0.0701,2,   0.0070,2,   0.0231,2,-999,9,   0.0001,4,   0.0154,2,  -0.0021,4,    -999,    -999