BOTTLE,20220706CCHSIOAMB
EXPOCODE,SECT_ID,STNNBR,CASTNO,SAMPNO,BTLNBR,BTLNBR_FLAG_W,DATE,TIME,LATITUDE,LONGITUDE,DEPTH,CTDPRS,CTDTMP,CTDSAL,CTDSAL_FLAG_W,SALNTY,SALNTY_FLAG_W,CTDOXY,CTDOXY_FLAG_W,OXYGEN,OXYGEN_FLAG_W,SILCAT,SILCAT_FLAG_W,NITRAT,NITRAT_FLAG_W,NITRIT,NITRIT_FLAG_W,PHSPHT,PHSPHT_FLAG_W,CFC-11,CFC-11_FLAG_W,CFC-12,CFC-12_FLAG_W,CFC113,CFC113_FLAG_W,TCARBN,TCARBN_FLAG_W,ALKALI,ALKALI_FLAG_W,PH_SWS,PH_SWS_FLAG_W,PH_TMP,TRITUM,TRITUM_FLAG_W,HELIUM,HELIUM_FLAG_W,DELHE3,DELHE3_FLAG_W,REFTMP,REFTMP_FLAG_W,DELC13,DELC13_FLAG_W,DELC14,DELC14_FLAG_W,C14ERR,NEON,NEON_FLAG_W,NEONER,CCL4,CCL4_FLAG_W,ALUMIN,ALUMIN_FLAG_W,DELO18,DELO18_FLAG_W,DOC,DOC_FLAG_W,TDN,TDN_FLAG_W,BTL_DATE,BTL_TIME,BTL_LAT,BTL_LON,TRITER,DELSI30,DELSI30_FLAG_W,CDOM380,CDOM380_FLAG_W,CDOM325,CDOM325_FLAG_W,CDOMSL,CDOMSL_FLAG_W,CDOM340,CDOM340_FLAG_W,CDOM443,CDOM443_FLAG_W,CDOMSN,CDOMSN_FLAG_W,BLACKC,BLACKC_FLAG_W,CDOM490,CDOM490_FLAG_W,CDOM412,CDOM412_FLAG_W,CDOM555,CDOM555_FLAG_W,DELHER,HELIER
,,,,,,,,,,,METERS,DBAR,ITS-90,PSS-78,,PSS-78,,UMOL/KG,,UMOL/KG,,UMOL/KG,,UMOL/KG,,UMOL/KG,,UMOL/KG,,PMOL/KG,,PMOL/KG,,PMOL/KG,,UMOL/KG,,UMOL/KG,,,,DEG C,TU,,NMOL/KG,,PERCNT,,DEG C,,/MILLE,,/MILLE,,/MILLE,NMOL/KG,,NMOL/KG,PMOL/KG,,NMOL/L,,/MILLE,,UMOL/KG,,UMOL/KG,,,,,,TU,/MILLE,,1/M,,1/M,,1/NM,,1/M,,1/M,,1/NM,,,,1/M,,1/M,,1/M,,PERCNT,NMOL/KG
33RR20080204,       I06S,      46,          2,          7,          7,2,20080219,       1636,   -50.2011,    29.9997,       4825,  3257.4,   0.8300,  34.7096,2,  34.7084,2,    211.2,2,   211.2,2,  115.21,2,   31.70,2,    0.00,2,    2.19,2,   0.197,2,   0.112,2,   0.016,2,    -999,9,    -999,9,   7.8038,2,    13.00,    -999,9,    -999,9,    -999,9,0.8313,2,-999,9,-999,9,-999,    -999,9,    -999,0.416,2,-999,9,-999,9,    -999,9,-999,9, 20080219,     1713, -50.2005,  29.9997,    -999,-999,9,     -999,9,     -999,9,     -999,9,     -999,9,     -999,9,     -999,9,-999,9,     -999,9,     -999,9,     -999,9,    -999,    -999
33RR20080204,       I06S,      46,          2,          6,          6,2,20080219,       1636,   -50.2011,    29.9997,       4825,  3561.4,   0.7042,  34.7028,2,  34.7021,2,    215.1,2,   214.2,2,  118.92,2,   31.70,2,    0.00,2,    2.20,2,   0.207,2,   0.126,2,   0.036,2,    -999,9,    -999,9,     -999,9,     -999,    -999,9,    -999,9,    -999,9,0.7044,2,-999,9,-999,9,-999,    -999,9,    -999,0.498,2,-999,9,-999,9,    -999,9,-999,9, 20080219,     1706, -50.2003,  29.9998,    -999,-999,9,     -999,9,     -999,9,     -999,9,     -999,9,     -999,9,     -999,9,-999,9,     -999,9,     -999,9,     -999,9,    -999,    -999
33RR20080204,       I06S,      46,          2,          5,          5,2,20080219,       1636,   -50.2011,    29.9997,       4825,  3869.2,   0.4297,  34.6848,2,  34.6835,2,    219.7,2,   219.3,2,  126.14,2,   32.42,2,    0.00,2,    2.24,2,   0.000,4,   0.000,4,   0.000,4,    -999,9,  2358.0,2,     -999,9,     -999,    -999,9,    -999,9,    -999,9,0.4301,2,-999,9,-999,9,-999,    -999,9,    -999,0.0,4,-999,9,-999,9,    -999,9,-999,9, 20080219,     1659, -50.2007,  29.9997,    -999,-999,9,     -999,9,     -999,9,     -999,9,     -999,9,     -999,9,     -999,9,-999,9,     -999,9,     -999,9,     -999,9,    -999,    -999
33RR20080204,       I06S,      46,          2,          4,          4,2,20080219,       1636,   -50.2011,    29.9997,       4825,  4177.5,  -0.0296,  34.6640,2,  34.6623,2,    231.1,2,   231.9,2,  129.88,2,   32.64,2,    0.00,2,    2.26,2,   0.429,2,   0.225,2,   0.035,2,    -999,9,    -999,9,     -999,9,     -999,    -999,9,    -999,9,    -999,9,-0.0293,2,-999,9,-999,9,-999,    -999,9,    -999,1.136,2,-999,9,-999,9,    -999,9,-999,9, 20080219,     1652, -50.2004,  29.9997,    -999,-999,9,     -999,9,     -999,9,     -999,9,     -999,9,     -999,9,     -999,9,-999,9,     -999,9,     -999,9,     -999,9,    -999,    -999
33RR20080204,       I06S,      46,          2,          3,          3,2,20080219,       1636,   -50.2011,    29.9997,       4825,  4485.3,  -0.1096,  34.6593,2,  34.6572,2,    235.1,2,   235.6,2,  131.27,2,   32.60,2,    0.00,2,    2.26,2,   0.470,2,   0.245,2,   0.034,2,    -999,9,  2352.2,2,     -999,9,     -999,    -999,9,    -999,9,    -999,9,-0.1096,2,-999,9,-999,9,-999,    -999,9,    -999,1.191,2,-999,9,-999,9,    -999,9,-999,9, 20080219,     1646, -50.2006,  29.9997,    -999,-999,9,     -999,9,     -999,9,     -999,9,     -999,9,     -999,9,     -999,9,-999,9,     -999,9,     -999,9,     -999,9,    -999,    -999
33RR20080204,       I06S,      46,          2,          2,          2,2,20080219,       1636,   -50.2011,    29.9997,       4825,  4695.2,  -0.1242,  34.6579,2,  34.6564,2,    236.9,2,   237.1,2,  131.31,2,   32.50,2,    0.00,2,    2.25,2,   0.489,2,   0.245,2,   0.047,2,    -999,9,  2352.6,2,     -999,9,     -999,    -999,9,    -999,9,    -999,9,-0.124,2,-999,9,-999,9,-999,    -999,9,    -999,1.26,2,-999,9,-999,9,    -999,9,-999,9, 20080219,     1641, -50.2011,  29.9996,    -999,-999,9,     -999,9,     -999,9,     -999,9,     -999,9,     -999,9,     -999,9,-999,9,     -999,9,     -999,9,     -999,9,    -999,    -999
33RR20080204,       I06S,      46,          2,          1,          1,2,20080219,       1636,   -50.2011,    29.9997,       4825,  4854.7,  -0.1327,  34.6566,2,  34.6548,2,    238.2,2,   238.1,2,  130.76,2,   32.61,2,    0.00,2,    2.26,2,   0.515,2,   0.277,2,   0.128,2,    -999,9,  2352.6,2,     -999,9,     -999,    -999,9,    -999,9,    -999,9,-0.1327,2,-999,9,-999,9,-999,    -999,9,    -999,1.261,2,-999,9,-999,9,    -999,9,-999,9, 20080219,     1637, -50.2011,  29.9997,    -999,-999,9,     -999,9,     -999,9,     -999,9,     -999,9,     -999,9,     -999,9,-999,9,     -999,9,     -999,9,     -999,9,    -999,    -999