BOTTLE,20220706CCHSIOAMB
EXPOCODE,SECT_ID,STNNBR,CASTNO,SAMPNO,BTLNBR,BTLNBR_FLAG_W,DATE,TIME,LATITUDE,LONGITUDE,DEPTH,CTDPRS,CTDTMP,CTDSAL,CTDSAL_FLAG_W,SALNTY,SALNTY_FLAG_W,CTDOXY,CTDOXY_FLAG_W,OXYGEN,OXYGEN_FLAG_W,SILCAT,SILCAT_FLAG_W,NITRAT,NITRAT_FLAG_W,NITRIT,NITRIT_FLAG_W,PHSPHT,PHSPHT_FLAG_W,CFC-11,CFC-11_FLAG_W,CFC-12,CFC-12_FLAG_W,CFC113,CFC113_FLAG_W,TCARBN,TCARBN_FLAG_W,ALKALI,ALKALI_FLAG_W,PH_SWS,PH_SWS_FLAG_W,PH_TMP,TRITUM,TRITUM_FLAG_W,HELIUM,HELIUM_FLAG_W,DELHE3,DELHE3_FLAG_W,REFTMP,REFTMP_FLAG_W,DELC13,DELC13_FLAG_W,DELC14,DELC14_FLAG_W,C14ERR,NEON,NEON_FLAG_W,NEONER,CCL4,CCL4_FLAG_W,ALUMIN,ALUMIN_FLAG_W,DELO18,DELO18_FLAG_W,DOC,DOC_FLAG_W,TDN,TDN_FLAG_W,BTL_DATE,BTL_TIME,BTL_LAT,BTL_LON,TRITER,DELSI30,DELSI30_FLAG_W,CDOM380,CDOM380_FLAG_W,CDOM325,CDOM325_FLAG_W,CDOMSL,CDOMSL_FLAG_W,CDOM340,CDOM340_FLAG_W,CDOM443,CDOM443_FLAG_W,CDOMSN,CDOMSN_FLAG_W,BLACKC,BLACKC_FLAG_W,CDOM490,CDOM490_FLAG_W,CDOM412,CDOM412_FLAG_W,CDOM555,CDOM555_FLAG_W,DELHER,HELIER
,,,,,,,,,,,METERS,DBAR,ITS-90,PSS-78,,PSS-78,,UMOL/KG,,UMOL/KG,,UMOL/KG,,UMOL/KG,,UMOL/KG,,UMOL/KG,,PMOL/KG,,PMOL/KG,,PMOL/KG,,UMOL/KG,,UMOL/KG,,,,DEG C,TU,,NMOL/KG,,PERCNT,,DEG C,,/MILLE,,/MILLE,,/MILLE,NMOL/KG,,NMOL/KG,PMOL/KG,,NMOL/L,,/MILLE,,UMOL/KG,,UMOL/KG,,,,,,TU,/MILLE,,1/M,,1/M,,1/NM,,1/M,,1/M,,1/NM,,,,1/M,,1/M,,1/M,,PERCNT,NMOL/KG
33RR20080204,       I06S,      59,          1,         36,         36,2,20080224,       0325,   -56.4979,    29.9992,       5461,     6.0,   1.3357,  33.9635,2,  33.9636,2,    333.5,2,   335.1,2,   41.66,2,   26.58,2,    0.28,2,    1.81,2,   6.124,2,   3.257,2,   0.527,2,  2169.5,6,  2300.2,2,   7.8981,2,    13.00,    -999,9,    -999,9,    -999,9,1.3347,2,-999,9,-999,9,-999,    -999,9,    -999,7.87,2,-999,9,-999,9,   39.80,2,-999,1, 20080224,     0529, -56.4996,  30.0011,    -999,-999,9,   0.0263,2,   0.0809,2,   0.0160,3,   0.0511,2,   0.0099,2,   0.0161,3,-999,9,   0.0030,2,   0.0176,2,  -0.0009,4,    -999,    -999
33RR20080204,       I06S,      59,          1,         35,         35,2,20080224,       0325,   -56.4979,    29.9992,       5461,    22.2,   1.3355,  33.9632,2,  33.9646,2,    334.7,2,   334.4,2,   41.86,2,   26.58,2,    0.28,2,    1.81,2,   6.154,2,   3.284,2,   0.515,2,  2169.7,2,  2300.7,2,   7.8990,2,    13.00,    -999,9,    -999,9,    -999,9,1.3346,2,-999,9,-999,9,-999,    -999,9,    -999,7.358,2,-999,9,-999,9,   41.37,2,-999,1, 20080224,     0528, -56.4996,  30.0010,    -999,-999,1,   0.0228,2,   0.0848,2,   0.0194,3,   0.0541,2,   0.0067,2,   0.0222,3,-999,1,   0.0003,4,   0.0143,2,  -0.0023,4,    -999,    -999
33RR20080204,       I06S,      59,          1,         34,         34,2,20080224,       0325,   -56.4979,    29.9992,       5461,    35.1,   1.3330,  33.9639,2,  33.9646,2,    334.9,2,   334.1,2,   41.86,2,   26.57,2,    0.28,2,    1.80,2,   6.174,2,   3.310,2,   0.503,2,    -999,9,  2298.5,2,   7.8980,3,    13.00,    -999,9,    -999,9,    -999,9,1.3332,2,-999,9,-999,9,-999,    -999,9,    -999,7.167,2,-999,9,-999,9,   41.95,2,-999,1, 20080224,     0527, -56.4996,  30.0010,    -999,-999,1,   0.0233,2,   0.0854,2,   0.0199,3,   0.0552,2,   0.0065,2,   0.0221,2,-999,9,   0.0001,4,   0.0141,2,  -0.0024,4,    -999,    -999
33RR20080204,       I06S,      59,          1,         33,         33,2,20080224,       0325,   -56.4979,    29.9992,       5461,    65.2,   1.3338,  33.9631,2,  33.9646,2,    334.9,2,   330.5,2,   41.86,2,   26.62,2,    0.28,2,    1.81,2,   6.057,2,   3.289,2,   0.505,2,  2169.7,2,  2299.2,2,   7.8985,2,    13.00,    -999,9,    -999,9,    -999,9,1.3327,2,-999,9,-999,9,-999,    -999,9,    -999,6.559,2,-999,9,-999,9,   39.41,2,-999,1, 20080224,     0526, -56.4995,  30.0009,    -999,-999,1,   0.0272,2,   0.0890,2,   0.0173,3,   0.0575,2,   0.0096,2,   0.0184,3,-999,9,   0.0024,2,   0.0175,2,  -0.0013,4,    -999,    -999
33RR20080204,       I06S,      59,          1,         32,         32,2,20080224,       0325,   -56.4979,    29.9992,       5461,    91.0,   1.3263,  33.9642,2,  33.9654,2,    334.9,2,   333.9,2,   41.86,2,   26.57,2,    0.28,2,    1.81,2,   6.133,2,   3.299,2,   0.491,2,    -999,9,  2299.0,2,   7.8976,2,    13.00,    -999,9,    -999,9,    -999,9,1.3269,2,-999,9,-999,9,-999,    -999,9,    -999,6.49,2,-999,9,-999,9,   42.05,2,-999,1, 20080224,     0525, -56.4995,  30.0008,    -999,-999,1,   0.0260,2,   0.0893,2,   0.0185,3,   0.0558,2,   0.0080,2,   0.0193,3,-999,9,   0.0009,2,   0.0160,2,   0.0000,4,    -999,    -999
33RR20080204,       I06S,      59,          1,         31,         31,2,20080224,       0325,   -56.4979,    29.9992,       5461,   141.6,   0.1719,  34.1969,2,  34.1804,2,    309.5,2,   304.2,2,   60.41,2,   30.79,2,    0.07,2,    2.11,2,   5.355,2,   2.904,2,   0.441,2,  2227.2,3,  2311.0,2,   7.8183,2,    13.00,    -999,9,    -999,9,    -999,9,0.1778,2,-999,9,-999,9,-999,    -999,9,    -999,5.661,2,-999,9,-999,9,   41.85,2,-999,1, 20080224,     0523, -56.4994,  30.0008,    -999,-999,1,   0.0268,2,   0.0923,2,   0.0181,3,   0.0578,2,   0.0084,2,   0.0188,3,-999,9,   0.0011,2,   0.0172,2,  -0.0011,4,    -999,    -999
33RR20080204,       I06S,      59,          1,         30,         30,2,20080224,       0325,   -56.4979,    29.9992,       5461,   189.9,   0.8275,  34.3360,2,  34.3262,2,    268.5,2,   256.1,2,   69.06,2,   32.82,2,    0.01,2,    2.24,2,   3.774,2,   2.064,2,   0.307,2,    -999,9,  2319.6,2,   7.7773,2,    13.00,    -999,9,    -999,9,    -999,9,0.8178,2,-999,9,-999,9,-999,    -999,9,    -999,4.185,2,-999,9,-999,9,   39.12,2,-999,1, 20080224,     0522, -56.4994,  30.0008,    -999,-999,1,   0.0284,2,   0.0986,2,   0.0187,3,   0.0629,2,   0.0087,2,   0.0198,3,-999,1,   0.0013,2,   0.0178,2,  -0.0017,4,    -999,    -999
33RR20080204,       I06S,      59,          1,         29,         29,2,20080224,       0325,   -56.4979,    29.9992,       5461,   234.5,   1.4702,  34.4701,2,  34.4539,2,    220.1,2,   206.7,2,   75.10,2,   34.27,2,    0.00,2,    2.34,2,   2.163,2,   1.145,2,   0.183,2,  2250.2,2,  2327.7,2,   7.7435,2,    13.00,    -999,9,    -999,9,    -999,9,1.4389,3,-999,9,-999,9,-999,    -999,9,    -999,2.859,2,-999,9,-999,9,   38.24,2,-999,1, 20080224,     0521, -56.4994,  30.0008,    -999,-999,1,   0.0307,2,   0.1068,2,   0.0190,3,   0.0685,2,   0.0092,2,   0.0200,3,-999,9,   0.0020,2,   0.0189,2,  -0.0011,4,    -999,    -999
33RR20080204,       I06S,      59,          1,         28,         28,2,20080224,       0325,   -56.4979,    29.9992,       5461,   287.8,   1.7339,  34.5530,2,  34.5500,2,    191.5,2,   186.4,2,   80.21,2,   34.50,2,    0.00,2,    2.36,2,   1.353,2,   0.691,2,   0.106,2,    -999,9,  2335.5,2,   7.7360,2,    13.00,    -999,9,    -999,9,    -999,9,1.7267,2,-999,9,-999,9,-999,    -999,9,    -999,1.958,2,-999,9,-999,9,    -999,9,-999,1, 20080224,     0520, -56.4993,  30.0008,    -999,-999,1,   0.0370,2,   0.1182,2,   0.0179,3,   0.0779,2,   0.0124,2,   0.0182,3,-999,9,   0.0035,2,   0.0231,2,   0.0007,4,    -999,    -999
33RR20080204,       I06S,      59,          1,         27,         27,2,20080224,       0325,   -56.4979,    29.9992,       5461,   337.8,   1.7999,  34.5979,2,  34.5971,2,    183.8,2,   181.9,2,   82.47,2,   34.16,2,    0.00,2,    2.34,2,   1.003,2,   0.524,2,   0.071,2,  2258.8,2,  2339.8,2,   7.7400,2,    13.00,    -999,9,    -999,9,    -999,9,1.7993,2,-999,9,-999,9,-999,    -999,9,    -999,1.526,2,-999,9,-999,9,   37.17,2,-999,1, 20080224,     0518, -56.4993,  30.0007,    -999,-999,9,   0.0333,2,   0.1132,2,   0.0188,3,   0.0736,2,   0.0104,2,   0.0194,3,-999,9,   0.0022,2,   0.0203,2,  -0.0013,4,    -999,    -999
33RR20080204,       I06S,      59,          1,         26,         26,2,20080224,       0325,   -56.4979,    29.9992,       5461,   387.7,   1.8115,  34.6358,2,  34.6351,2,    181.5,2,   181.0,2,   84.56,2,   33.53,2,    0.00,2,    2.30,2,   0.789,2,   0.417,2,   0.062,2,    -999,9,  2342.2,2,   7.7487,2,    13.00,    -999,9,    -999,9,    -999,9,1.8085,2,-999,9,-999,9,-999,    -999,9,    -999,1.273,2,-999,9,-999,9,    -999,9,-999,9, 20080224,     0517, -56.4992,  30.0007,    -999,-999,1,     -999,9,     -999,9,     -999,9,     -999,9,     -999,9,     -999,9,-999,9,     -999,9,     -999,9,     -999,9,    -999,    -999
33RR20080204,       I06S,      59,          1,         25,         25,2,20080224,       0325,   -56.4979,    29.9992,       5461,   438.6,   1.8370,  34.6661,2,  34.6653,2,    181.9,2,   183.3,2,   85.32,2,   32.90,2,    0.00,2,    2.25,2,   0.592,2,   0.321,2,   0.050,2,  2257.0,2,  2344.4,2,   7.7600,2,    13.00,    -999,9,    -999,9,    -999,9,1.8358,2,-999,9,-999,9,-999,    -999,9,    -999,1.077,2,-999,9,-999,9,   37.76,2,-999,1, 20080224,     0515, -56.4992,  30.0006,    -999,-999,9,   0.0330,2,   0.1117,2,   0.0188,3,   0.0728,2,   0.0100,2,   0.0194,3,-999,9,   0.0019,2,   0.0203,2,  -0.0014,4,    -999,    -999
33RR20080204,       I06S,      59,          1,         24,         24,2,20080224,       0325,   -56.4979,    29.9992,       5461,   486.7,   1.8433,  34.6821,2,  34.6811,2,    183.3,2,   184.2,2,   85.69,2,   32.51,2,    0.00,2,    2.24,2,   0.522,2,   0.285,2,   0.046,2,    -999,9,  2344.5,2,   7.7662,2,    13.00,    -999,9,    -999,9,    -999,9,1.8435,2,-999,9,-999,9,-999,    -999,9,    -999,1.008,2,-999,9,-999,9,    -999,9,-999,9, 20080224,     0514, -56.4992,  30.0006,    -999,-999,9,     -999,9,     -999,9,     -999,9,     -999,9,     -999,9,     -999,9,-999,9,     -999,9,     -999,9,     -999,9,    -999,    -999
33RR20080204,       I06S,      59,          1,         23,         23,2,20080224,       0325,   -56.4979,    29.9992,       5461,   566.7,   1.8026,  34.6992,2,  34.6998,2,    186.6,2,   187.0,2,   86.64,2,   31.93,2,    0.00,2,    2.20,2,   0.444,2,   0.253,2,   0.033,2,  2257.2,2,  2347.3,2,   7.7760,2,    13.00,    -999,9,    -999,9,    -999,9,1.8015,2,-999,9,-999,9,-999,    -999,9,    -999,0.879,2,-999,9,-999,9,   37.95,2,-999,1, 20080224,     0512, -56.4991,  30.0006,    -999,-999,1,   0.0361,2,   0.1156,2,   0.0186,3,   0.0756,2,   0.0109,2,   0.0187,3,-999,9,   0.0023,2,   0.0217,2,  -0.0012,4,    -999,    -999
33RR20080204,       I06S,      59,          1,         22,         22,2,20080224,       0325,   -56.4979,    29.9992,       5461,   671.8,   1.7871,  34.7217,2,  34.7234,2,    191.7,2,   192.9,2,   86.45,2,   31.06,2,    0.00,2,    2.14,2,   0.334,2,   0.186,2,   0.025,2,    -999,9,  2348.5,2,   7.7900,2,    13.00,    -999,9,    -999,9,    -999,9,1.7883,2,-999,9,-999,9,-999,    -999,9,    -999,0.797,2,-999,9,-999,9,    -999,9,-999,9, 20080224,     0509, -56.4989,  30.0004,    -999,-999,9,     -999,9,     -999,9,     -999,9,     -999,9,     -999,9,     -999,9,-999,9,     -999,9,     -999,9,     -999,9,    -999,    -999
33RR20080204,       I06S,      59,          1,         21,         21,2,20080224,       0325,   -56.4979,    29.9992,       5461,   767.1,   1.6482,  34.7237,2,  34.7256,2,    194.7,2,   194.2,2,   89.67,2,   31.06,2,    0.00,2,    2.13,2,   0.338,2,   0.201,2,   0.021,2,  2250.7,2,  2350.4,2,   7.7918,2,    13.00,    -999,9,    -999,9,    -999,9,1.6459,2,-999,9,-999,9,-999,    -999,9,    -999,0.852,2,-999,9,-999,9,   40.00,2,-999,1, 20080224,     0506, -56.4988,  30.0002,    -999,-999,1,   0.0360,2,   0.1156,2,   0.0182,3,   0.0765,2,   0.0116,2,   0.0186,3,-999,9,   0.0028,2,   0.0222,2,  -0.0009,4,    -999,    -999
33RR20080204,       I06S,      59,          1,         20,         20,2,20080224,       0325,   -56.4979,    29.9992,       5461,   969.7,   1.4031,  34.7251,2,  34.7258,2,    199.8,2,   199.0,2,   95.38,2,   30.96,2,    0.00,2,    2.13,2,   0.345,2,   0.188,2,   0.030,2,    -999,9,  2352.1,2,   7.7963,2,    13.00,    -999,9,    -999,9,    -999,9,1.4013,2,-999,9,-999,9,-999,    -999,9,    -999,0.86,2,-999,9,-999,9,   38.93,2,-999,1, 20080224,     0502, -56.4987,  30.0004,    -999,-999,1,   0.0326,2,   0.1130,2,   0.0195,3,   0.0736,2,   0.0099,2,   0.0203,3,-999,9,   0.0020,2,   0.0191,2,  -0.0012,4,    -999,    -999
33RR20080204,       I06S,      59,          1,         19,         19,2,20080224,       0325,   -56.4979,    29.9992,       5461,  1171.7,   1.1868,  34.7199,2,  34.7205,2,    202.5,2,   199.4,2,  101.29,2,   31.20,2,    0.00,2,    2.16,2,   0.333,2,   0.185,2,   0.046,2,  2254.4,6,  2356.2,2,   7.7972,2,    13.00,    -999,9,    -999,9,    -999,9,1.1862,2,-999,9,-999,9,-999,    -999,9,    -999,0.965,2,-999,9,-999,9,   40.78,2,-999,1, 20080224,     0457, -56.4984,  30.0002,    -999,-999,9,   0.0345,2,   0.1166,2,   0.0187,3,   0.0771,2,   0.0112,2,   0.0199,3,-999,9,   0.0023,2,   0.0212,2,  -0.0010,4,    -999,    -999
33RR20080204,       I06S,      59,          1,         18,         18,2,20080224,       0325,   -56.4979,    29.9992,       5461,  1373.9,   0.9698,  34.7107,2,  34.7111,2,    204.0,2,   203.9,2,  107.21,2,   31.58,2,    0.00,2,    2.18,2,   0.337,2,   0.185,2,   0.031,2,    -999,9,  2356.4,2,   7.7935,2,    13.00,    -999,9,    -999,9,    -999,9,0.9697,2,-999,9,-999,9,-999,    -999,9,    -999,0.956,2,-999,9,-999,9,    -999,9,-999,9, 20080224,     0453, -56.4984,  30.0000,    -999,-999,9,     -999,9,     -999,9,     -999,9,     -999,9,     -999,9,     -999,9,-999,9,     -999,9,     -999,9,     -999,9,    -999,    -999
33RR20080204,       I06S,      59,          1,         17,         17,2,20080224,       0325,   -56.4979,    29.9992,       5461,  1583.9,   0.8118,  34.7060,2,  34.7068,2,    204.9,2,   205.5,2,  112.18,2,   31.72,2,    0.00,2,    2.20,2,   0.303,2,   0.168,2,   0.024,2,  2257.7,2,  2357.2,2,   7.7926,2,    13.00,    -999,9,    -999,9,    -999,9,0.8114,2,-999,9,-999,9,-999,    -999,9,    -999,0.837,2,-999,9,-999,9,    -999,9,-999,1, 20080224,     0449, -56.4981,  29.9998,    -999,-999,9,   0.0294,2,   0.1068,2,   0.0204,3,   0.0685,2,   0.0082,2,   0.0213,3,-999,9,   0.0013,2,   0.0168,2,  -0.0013,4,    -999,    -999
33RR20080204,       I06S,      59,          1,         16,         16,2,20080224,       0325,   -56.4979,    29.9992,       5461,  1788.6,   0.6706,  34.6983,2,  34.6991,2,    207.4,2,   206.9,2,  116.40,2,   32.10,2,    0.00,2,    2.23,2,   0.313,2,   0.171,2,   0.022,2,    -999,9,  2357.2,2,   7.7872,2,    13.00,    -999,9,    -999,9,    -999,9,0.6722,2,-999,9,-999,9,-999,    -999,9,    -999,0.869,2,-999,9,-999,9,    -999,9,-999,9, 20080224,     0444, -56.4980,  29.9996,    -999,-999,9,     -999,9,     -999,9,     -999,9,     -999,9,     -999,9,     -999,9,-999,9,     -999,9,     -999,9,     -999,9,    -999,    -999
33RR20080204,       I06S,      59,          1,         15,         15,2,20080224,       0325,   -56.4979,    29.9992,       5461,  1987.7,   0.5538,  34.6928,2,  34.6932,2,    207.8,2,   208.3,2,  120.42,2,   32.34,2,    0.00,2,    2.25,2,   0.303,2,   0.175,2,   0.019,2,  2261.3,2,  2358.9,2,   7.7860,2,    13.00,    -999,9,    -999,9,    -999,9,0.5529,2,-999,9,-999,9,-999,    -999,9,    -999,0.808,2,-999,9,-999,9,   38.83,2,-999,1, 20080224,     0440, -56.4978,  29.9996,    -999,-999,9,   0.0362,2,   0.1165,2,   0.0176,3,   0.0764,2,   0.0127,2,   0.0183,3,-999,9,   0.0033,2,   0.0229,2,  -0.0004,4,    -999,    -999
33RR20080204,       I06S,      59,          1,         14,         14,2,20080224,       0325,   -56.4979,    29.9992,       5461,  2281.2,   0.4098,  34.6844,2,  34.6846,2,    209.5,2,   210.4,2,  124.07,2,   32.72,2,    0.00,2,    2.26,2,   0.328,2,   0.175,2,   0.010,2,    -999,9,  2359.0,2,   7.7790,3,    13.00,    -999,9,    -999,9,    -999,9,0.4096,2,-999,9,-999,9,-999,    -999,9,    -999,0.895,2,-999,9,-999,9,    -999,9,-999,9, 20080224,     0434, -56.4977,  29.9994,    -999,-999,9,     -999,9,     -999,9,     -999,9,     -999,9,     -999,9,     -999,9,-999,9,     -999,9,     -999,9,     -999,9,    -999,    -999
33RR20080204,       I06S,      59,          1,         13,         13,2,20080224,       0325,   -56.4979,    29.9992,       5461,  2596.0,   0.2661,  34.6783,2,  34.6789,2,    214.4,2,   214.8,2,  126.57,2,   32.67,2,    0.00,2,    2.26,2,   0.337,2,   0.171,2,   0.014,2,  2259.6,2,  2357.2,2,   7.7803,3,    13.00,    -999,9,    -999,9,    -999,9,0.2661,2,-999,9,-999,9,-999,    -999,9,    -999,0.954,2,-999,9,-999,9,   39.90,2,-999,1, 20080224,     0428, -56.4972,  29.9987,    -999,-999,9,   0.0325,2,   0.1108,2,   0.0182,3,   0.0713,2,   0.0108,2,   0.0194,3,-999,9,   0.0022,2,   0.0206,2,  -0.0007,4,    -999,    -999
33RR20080204,       I06S,      59,          1,         12,         12,2,20080224,       0325,   -56.4979,    29.9992,       5461,  2901.0,   0.1507,  34.6736,2,  34.6733,2,    218.2,2,   220.2,2,  128.12,2,   32.67,2,    0.00,2,    2.26,2,   0.338,2,   0.184,2,   0.008,2,    -999,9,  2356.3,2,   7.7858,2,    13.00,    -999,9,    -999,9,    -999,9,0.1514,2,-999,9,-999,9,-999,    -999,9,    -999,0.948,2,-999,9,-999,9,    -999,9,-999,9, 20080224,     0422, -56.4970,  29.9987,    -999,-999,9,     -999,9,     -999,9,     -999,9,     -999,9,     -999,9,     -999,9,-999,9,     -999,9,     -999,9,     -999,9,    -999,    -999
33RR20080204,       I06S,      59,          1,         11,         11,2,20080224,       0325,   -56.4979,    29.9992,       5461,  3206.2,   0.0544,  34.6691,2,  34.6683,2,    223.9,2,   224.7,2,  129.07,2,   32.67,2,    0.00,2,    2.26,2,   0.348,2,   0.185,2,   0.016,2,  2269.0,3,  2355.5,2,   7.7884,2,    13.00,    -999,9,    -999,9,    -999,9,0.0542,2,-999,9,-999,9,-999,    -999,9,    -999,0.978,2,-999,9,-999,9,   39.51,2,-999,1, 20080224,     0415, -56.4973,  29.9988,    -999,-999,9,   0.0286,2,   0.1031,2,   0.0190,3,   0.0652,2,   0.0090,2,   0.0206,3,-999,9,   0.0014,2,   0.0178,2,  -0.0011,4,    -999,    -999
33RR20080204,       I06S,      59,          1,         10,         10,2,20080224,       0325,   -56.4979,    29.9992,       5461,  3510.3,  -0.0295,  34.6649,2,  34.6644,2,    227.7,2,   228.5,2,  128.70,2,   32.66,2,    0.00,2,    2.25,2,   0.360,2,   0.193,2,   0.015,2,    -999,9,  2355.2,2,   7.7899,2,    13.00,    -999,9,    -999,9,    -999,9,-0.0298,2,-999,9,-999,9,-999,    -999,9,    -999,0.974,2,-999,9,-999,9,    -999,9,-999,9, 20080224,     0409, -56.4972,  29.9987,    -999,-999,9,     -999,9,     -999,9,     -999,9,     -999,9,     -999,9,     -999,9,-999,9,     -999,9,     -999,9,     -999,9,    -999,    -999
33RR20080204,       I06S,      59,          1,          9,          9,2,20080224,       0325,   -56.4979,    29.9992,       5461,  3815.3,  -0.0925,  34.6620,2,  34.6617,2,    231.7,2,   232.1,2,  128.89,2,   32.56,2,    0.00,2,    2.25,2,   0.411,2,   0.215,2,   0.019,2,  2256.6,2,  2354.9,2,   7.7924,2,    13.00,    -999,9,    -999,9,    -999,9,-0.0924,2,-999,9,-999,9,-999,    -999,9,    -999,1.114,2,-999,9,-999,9,   40.59,2,-999,1, 20080224,     0403, -56.4971,  29.9987,    -999,-999,9,   0.0283,2,   0.1023,2,   0.0193,3,   0.0647,2,   0.0088,2,   0.0208,3,-999,9,   0.0014,2,   0.0172,2,  -0.0010,4,    -999,    -999
33RR20080204,       I06S,      59,          1,          8,          8,2,20080224,       0325,   -56.4979,    29.9992,       5461,  4132.9,  -0.1378,  34.6595,2,  34.6594,2,    235.0,2,   234.9,2,  130.24,2,   32.42,2,    0.00,2,    2.25,2,   0.415,2,   0.222,2,   0.021,2,    -999,9,  2354.4,2,   7.7909,4,    13.00,    -999,9,    -999,9,    -999,9,-0.1379,2,-999,9,-999,9,-999,    -999,9,    -999,1.076,2,-999,9,-999,9,    -999,9,-999,9, 20080224,     0357, -56.4972,  29.9988,    -999,-999,9,     -999,9,     -999,9,     -999,9,     -999,9,     -999,9,     -999,9,-999,9,     -999,9,     -999,9,     -999,9,    -999,    -999