BOTTLE,20220706CCHSIOAMB
EXPOCODE,SECT_ID,STNNBR,CASTNO,SAMPNO,BTLNBR,BTLNBR_FLAG_W,DATE,TIME,LATITUDE,LONGITUDE,DEPTH,CTDPRS,CTDTMP,CTDSAL,CTDSAL_FLAG_W,SALNTY,SALNTY_FLAG_W,CTDOXY,CTDOXY_FLAG_W,OXYGEN,OXYGEN_FLAG_W,SILCAT,SILCAT_FLAG_W,NITRAT,NITRAT_FLAG_W,NITRIT,NITRIT_FLAG_W,PHSPHT,PHSPHT_FLAG_W,CFC-11,CFC-11_FLAG_W,CFC-12,CFC-12_FLAG_W,CFC113,CFC113_FLAG_W,TCARBN,TCARBN_FLAG_W,ALKALI,ALKALI_FLAG_W,PH_SWS,PH_SWS_FLAG_W,PH_TMP,TRITUM,TRITUM_FLAG_W,HELIUM,HELIUM_FLAG_W,DELHE3,DELHE3_FLAG_W,REFTMP,REFTMP_FLAG_W,DELC13,DELC13_FLAG_W,DELC14,DELC14_FLAG_W,C14ERR,NEON,NEON_FLAG_W,NEONER,CCL4,CCL4_FLAG_W,ALUMIN,ALUMIN_FLAG_W,DELO18,DELO18_FLAG_W,DOC,DOC_FLAG_W,TDN,TDN_FLAG_W,BTL_DATE,BTL_TIME,BTL_LAT,BTL_LON,TRITER,DELSI30,DELSI30_FLAG_W,CDOM380,CDOM380_FLAG_W,CDOM325,CDOM325_FLAG_W,CDOMSL,CDOMSL_FLAG_W,CDOM340,CDOM340_FLAG_W,CDOM443,CDOM443_FLAG_W,CDOMSN,CDOMSN_FLAG_W,BLACKC,BLACKC_FLAG_W,CDOM490,CDOM490_FLAG_W,CDOM412,CDOM412_FLAG_W,CDOM555,CDOM555_FLAG_W,DELHER,HELIER
,,,,,,,,,,,METERS,DBAR,ITS-90,PSS-78,,PSS-78,,UMOL/KG,,UMOL/KG,,UMOL/KG,,UMOL/KG,,UMOL/KG,,UMOL/KG,,PMOL/KG,,PMOL/KG,,PMOL/KG,,UMOL/KG,,UMOL/KG,,,,DEG C,TU,,NMOL/KG,,PERCNT,,DEG C,,/MILLE,,/MILLE,,/MILLE,NMOL/KG,,NMOL/KG,PMOL/KG,,NMOL/L,,/MILLE,,UMOL/KG,,UMOL/KG,,,,,,TU,/MILLE,,1/M,,1/M,,1/NM,,1/M,,1/M,,1/NM,,,,1/M,,1/M,,1/M,,PERCNT,NMOL/KG
33RR20080204,       I06S,       5,          2,         28,         28,2,20080206,       1954,   -33.3210,    28.1253,       1402,     7.3,  27.2106,  35.3178,2,  35.3192,2,    203.0,2,   202.1,2,    1.98,2,    0.00,2,    0.00,2,    0.09,2,   1.657,2,   1.007,2,   0.110,2,  1978.2,6,  2313.6,2,   8.1750,2,    20.00,    -999,9,    -999,9,    -999,9,-999,9,1.14,2,41.1,2,2.9,    -999,9,    -999,-999,5,-999,9,-999,9,   75.61,2,-999,1, 20080206,     2127, -33.3526,  28.0660,    -999,-999,9,     -999,9,     -999,9,     -999,9,     -999,9,     -999,9,     -999,9,-999,9,     -999,9,     -999,9,     -999,9,    -999,    -999
33RR20080204,       I06S,       5,          2,         27,         27,2,20080206,       1954,   -33.3210,    28.1253,       1402,    21.3,  27.2069,  35.3176,2,  35.3192,2,    203.8,2,   202.3,2,    1.97,2,    0.00,2,    0.00,2,    0.09,2,   1.622,2,   1.016,2,   0.100,2,  1978.0,2,  2313.7,2,   8.1750,2,    20.00,    -999,9,    -999,9,    -999,9,-999,9,-999,9,-999,9,-999,    -999,9,    -999,-999,5,-999,9,-999,9,   76.49,2,-999,1, 20080206,     2124, -33.3513,  28.0688,    -999,-999,9,     -999,9,     -999,9,     -999,9,     -999,9,     -999,9,     -999,9,-999,9,     -999,9,     -999,9,     -999,9,    -999,    -999
33RR20080204,       I06S,       5,          2,         26,         26,2,20080206,       1954,   -33.3210,    28.1253,       1402,    36.0,  25.9425,  35.2919,2,  35.2958,2,    205.9,2,   206.8,2,    2.17,2,    0.00,2,    0.00,2,    0.11,2,   1.703,2,   1.079,2,   0.087,2,  1986.2,2,  2311.7,2,   8.1610,2,    20.00,    -999,9,    -999,9,    -999,9,-999,9,-999,9,-999,9,-999,    -999,9,    -999,-999,5,-999,9,-999,9,   72.10,2,-999,1, 20080206,     2121, -33.3502,  28.0713,    -999,-999,9,     -999,9,     -999,9,     -999,9,     -999,9,     -999,9,     -999,9,-999,9,     -999,9,     -999,9,     -999,9,    -999,    -999
33RR20080204,       I06S,       5,          2,         25,         25,2,20080206,       1954,   -33.3210,    28.1253,       1402,    66.5,  21.4636,  35.3267,2,  35.3301,2,    171.9,2,   172.6,2,    4.56,2,    4.34,2,    0.10,2,    0.42,2,   1.996,2,   1.226,2,   0.080,2,  2046.5,2,  2314.5,2,   8.0560,2,    20.00,    -999,9,    -999,9,    -999,9,-999,9,0.65,2,45.5,2,3.3,    -999,9,    -999,-999,5,-999,9,-999,9,   73.76,2,-999,1, 20080206,     2119, -33.3492,  28.0736,    -999,-999,9,     -999,9,     -999,9,     -999,9,     -999,9,     -999,9,     -999,9,-999,9,     -999,9,     -999,9,     -999,9,    -999,    -999
33RR20080204,       I06S,       5,          2,         24,         24,4,20080206,       1954,   -33.3210,    28.1253,       1402,    92.4,  19.2776,  35.4136,2,  35.1604,4,    153.5,2,   170.2,4,   13.38,4,   13.24,4,    0.02,4,    0.99,4,   2.101,2,   1.200,2,   0.039,2,  2122.9,3,  2317.8,2,   7.9220,4,    20.00,    -999,9,    -999,9,    -999,9,-999,9,-999,9,-999,9,-999,    -999,9,    -999,-999,5,-999,9,-999,9,   51.22,2,-999,1, 20080206,     2116, -33.3481,  28.0759,    -999,-999,9,     -999,9,     -999,9,     -999,9,     -999,9,     -999,9,     -999,9,-999,9,     -999,9,     -999,9,     -999,9,    -999,    -999
33RR20080204,       I06S,       5,          2,         23,         23,2,20080206,       1954,   -33.3210,    28.1253,       1402,   143.8,  16.3106,  35.4411,2,  35.4452,2,    175.1,2,   174.9,2,    7.55,2,    8.68,2,    0.01,2,    0.69,2,   2.423,2,   1.408,2,   0.030,2,  2108.5,2,  2327.1,2,   7.9590,2,    20.00,    -999,9,    -999,9,    -999,9,-999,9,-999,9,-999,9,-999,    -999,9,    -999,-999,5,-999,9,-999,9,   51.41,2,-999,1, 20080206,     2113, -33.3468,  28.0786,    -999,-999,9,     -999,9,     -999,9,     -999,9,     -999,9,     -999,9,     -999,9,-999,9,     -999,9,     -999,9,     -999,9,    -999,    -999
33RR20080204,       I06S,       5,          2,         22,         22,2,20080206,       1954,   -33.3210,    28.1253,       1402,   192.4,  14.9517,  35.3751,2,  35.3733,2,    188.3,2,   178.7,2,    8.15,2,   10.28,2,    0.01,2,    0.79,2,   2.553,2,   1.469,2,   0.033,2,  2119.6,2,  2323.3,2,   7.9280,2,    20.00,    -999,9,    -999,9,    -999,9,-999,9,-999,9,-999,9,-999,    -999,9,    -999,-999,5,-999,9,-999,9,   50.93,2,-999,1, 20080206,     2110, -33.3457,  28.0806,    -999,-999,9,     -999,9,     -999,9,     -999,9,     -999,9,     -999,9,     -999,9,-999,9,     -999,9,     -999,9,     -999,9,    -999,    -999
33RR20080204,       I06S,       5,          2,         21,         21,2,20080206,       1954,   -33.3210,    28.1253,       1402,   234.3,  14.0502,  35.3335,2,  35.3287,2,    183.1,2,   192.5,2,    7.14,2,   10.19,2,    0.01,2,    0.79,2,   2.756,2,   1.583,2,   0.042,2,  2120.1,2,  2322.9,2,   7.9320,2,    20.00,    -999,9,    -999,9,    -999,9,-999,9,0.81,2,48.6,2,3.3,    -999,9,    -999,-999,5,-999,9,-999,9,   49.17,2,-999,1, 20080206,     2106, -33.3441,  28.0837,    -999,-999,9,     -999,9,     -999,9,     -999,9,     -999,9,     -999,9,     -999,9,-999,9,     -999,9,     -999,9,     -999,9,    -999,    -999
33RR20080204,       I06S,       5,          2,         20,         20,2,20080206,       1954,   -33.3210,    28.1253,       1402,   284.4,  13.3055,  35.2500,2,  35.2509,2,    197.7,2,   196.9,2,    7.14,2,   11.46,2,    0.01,2,    0.85,2,   2.835,2,   1.589,2,   0.045,2,  2122.5,2,  2318.4,2,   7.9200,2,    20.00,    -999,9,    -999,9,    -999,9,-999,9,0.87,2,46.8,2,3.2,    -999,9,    -999,-999,5,-999,9,-999,9,   48.68,2,-999,1, 20080206,     2103, -33.3427,  28.0866,    -999,-999,9,     -999,9,     -999,9,     -999,9,     -999,9,     -999,9,     -999,9,-999,9,     -999,9,     -999,9,     -999,9,    -999,    -999
33RR20080204,       I06S,       5,          2,         12,         12,2,20080206,       1954,   -33.3210,    28.1253,       1402,   334.1,  12.3503,  35.1215,2,  35.1219,2,    199.7,2,   197.0,2,    8.35,2,   13.52,2,    0.01,2,    0.98,2,   2.929,2,   1.586,2,   0.066,2,  2128.9,2,  2314.0,2,   7.8970,2,    20.00,    -999,9,    -999,9,    -999,9,-999,9,-999,9,-999,9,-999,    -999,9,    -999,-999,5,-999,9,-999,9,    -999,9,-999,9, 20080206,     2059, -33.3409,  28.0901,    -999,-999,9,     -999,9,     -999,9,     -999,9,     -999,9,     -999,9,     -999,9,-999,9,     -999,9,     -999,9,     -999,9,    -999,    -999
33RR20080204,       I06S,       5,          2,         11,         11,2,20080206,       1954,   -33.3210,    28.1253,       1402,   383.3,  11.2977,  34.9930,2,  34.9933,2,    214.0,2,   213.5,2,    6.54,2,   13.97,2,    0.00,2,    1.01,2,   3.154,2,   1.689,2,   0.089,2,  2124.1,2,  2306.5,2,   7.8930,2,    20.00,    -999,9,    -999,9,    -999,9,-999,9,1.04,2,51.8,2,3.7,    -999,9,    -999,-999,5,-999,9,-999,9,   46.34,2,-999,1, 20080206,     2055, -33.3394,  28.0928,    -999,-999,9,     -999,9,     -999,9,     -999,9,     -999,9,     -999,9,     -999,9,-999,9,     -999,9,     -999,9,     -999,9,    -999,    -999
33RR20080204,       I06S,       5,          2,         10,         10,2,20080206,       1954,   -33.3210,    28.1253,       1402,   433.4,  10.6542,  34.9100,2,  34.9087,2,    199.3,2,   200.6,2,    9.95,2,   16.73,2,    0.00,2,    1.18,2,   2.914,2,   1.515,2,   0.063,2,  2137.7,2,  2304.7,2,   7.8590,2,    20.00,    -999,9,    -999,9,    -999,9,-999,9,1.01,2,39.3,2,3.3,    -999,9,    -999,-999,5,-999,9,-999,9,    -999,9,-999,9, 20080206,     2052, -33.3383,  28.0950,    -999,-999,9,     -999,9,     -999,9,     -999,9,     -999,9,     -999,9,     -999,9,-999,9,     -999,9,     -999,9,     -999,9,    -999,    -999
33RR20080204,       I06S,       5,          2,          9,          9,2,20080206,       1954,   -33.3210,    28.1253,       1402,   488.4,   9.7488,  34.7974,2,  34.7988,2,    205.7,2,   203.7,2,   10.95,2,   18.41,2,    0.01,2,    1.29,2,   2.813,6,   1.473,6,   0.059,6,  2140.4,2,  2300.3,2,   7.8430,2,    20.00,    -999,9,    -999,9,    -999,9,-999,9,1.01,2,33.6,2,3.3,    -999,9,    -999,-999,5,-999,9,-999,9,   47.32,2,-999,1, 20080206,     2049, -33.3371,  28.0970,    -999,-999,9,     -999,9,     -999,9,     -999,9,     -999,9,     -999,9,     -999,9,-999,9,     -999,9,     -999,9,     -999,9,    -999,    -999
33RR20080204,       I06S,       5,          2,          8,          8,2,20080206,       1954,   -33.3210,    28.1253,       1402,   565.6,   8.9761,  34.7319,2,  34.7331,2,    190.3,2,   189.5,2,   16.78,2,   21.54,2,    0.00,2,    1.49,2,   2.333,2,   1.202,2,   0.044,2,  2156.8,2,  2301.7,2,   7.8070,2,    20.00,    -999,9,    -999,9,    -999,9,-999,9,1.0,2,6.6,2,3.4,    -999,9,    -999,-999,5,-999,9,-999,9,    -999,9,-999,9, 20080206,     2044, -33.3357,  28.0994,    -999,-999,9,     -999,9,     -999,9,     -999,9,     -999,9,     -999,9,     -999,9,-999,9,     -999,9,     -999,9,     -999,9,    -999,    -999
33RR20080204,       I06S,       5,          2,          7,          7,2,20080206,       1954,   -33.3210,    28.1253,       1402,   673.8,   7.5662,  34.6212,2,  34.6219,2,    181.5,2,   181.1,2,   25.49,2,   25.42,2,    0.00,2,    1.77,2,   1.758,2,   0.903,2,   0.031,2,  2177.1,2,  2304.2,2,   7.7620,2,    20.00,    -999,9,    -999,9,    -999,9,-999,9,0.89,2,-30.6,2,3.0,    -999,9,    -999,-999,5,-999,9,-999,9,   42.34,2,-999,1, 20080206,     2040, -33.3341,  28.1026,    -999,-999,9,     -999,9,     -999,9,     -999,9,     -999,9,     -999,9,     -999,9,-999,9,     -999,9,     -999,9,     -999,9,    -999,    -999
33RR20080204,       I06S,       5,          2,          6,          6,2,20080206,       1954,   -33.3210,    28.1253,       1402,   777.0,   6.6312,  34.5969,2,  34.5985,2,    166.3,2,   164.1,2,   36.69,2,   28.84,2,    0.00,2,    2.01,2,   1.183,2,   0.627,2,   0.018,2,  2201.5,2,  2312.4,2,   7.7160,2,    20.00,    -999,9,    -999,9,    -999,9,-999,9,0.76,2,-61.6,2,2.9,    -999,9,    -999,-999,5,-999,9,-999,9,    -999,9,-999,9, 20080206,     2031, -33.3315,  28.1070,    -999,-999,9,     -999,9,     -999,9,     -999,9,     -999,9,     -999,9,     -999,9,-999,9,     -999,9,     -999,9,     -999,9,    -999,    -999
33RR20080204,       I06S,       5,          2,          5,          5,2,20080206,       1954,   -33.3210,    28.1253,       1402,   879.9,   5.6539,  34.5836,2,  34.5844,2,    157.5,2,   156.2,2,   47.74,2,   31.29,2,    0.00,2,    2.19,2,   0.816,2,   0.458,2,   0.016,2,  2221.3,2,  2320.5,2,   7.6840,2,    20.00,    -999,9,    -999,9,    -999,9,-999,9,0.68,2,-92.9,2,2.9,    -999,9,    -999,-999,5,-999,9,-999,9,   38.24,2,-999,1, 20080206,     2024, -33.3298,  28.1102,    -999,-999,9,     -999,9,     -999,9,     -999,9,     -999,9,     -999,9,     -999,9,-999,9,     -999,9,     -999,9,     -999,9,    -999,    -999
33RR20080204,       I06S,       5,          2,          4,          4,2,20080206,       1954,   -33.3210,    28.1253,       1402,   910.5,   5.3171,  34.5889,2,  34.5906,2,    155.5,2,   153.6,2,   52.26,2,   31.90,2,    0.00,2,    2.25,2,   0.759,2,   0.394,2,   0.031,2,  2226.0,2,  2324.3,2,   7.6760,2,    20.00,    -999,9,    -999,9,    -999,9,-999,9,0.67,2,-111.4,2,2.4,    -999,9,    -999,-999,5,-999,9,-999,9,   39.61,2,-999,1, 20080206,     2018, -33.3283,  28.1129,    -999,-999,9,     -999,9,     -999,9,     -999,9,     -999,9,     -999,9,     -999,9,-999,9,     -999,9,     -999,9,     -999,9,    -999,    -999
33RR20080204,       I06S,       5,          2,          3,          3,2,20080206,       1954,   -33.3210,    28.1253,       1402,  1080.8,   3.7842,  34.6091,2,  34.6105,2,    155.1,2,   154.4,2,   68.94,2,   33.66,2,    0.00,2,    2.36,2,   0.317,2,   0.179,2,   0.012,2,  2250.4,2,  2339.4,2,   7.6540,2,    20.00,    -999,9,    -999,9,    -999,9,-999,9,0.54,2,-141.4,2,2.3,    -999,9,    -999,-999,5,-999,9,-999,9,    -999,9,-999,9, 20080206,     2010, -33.3260,  28.1170,    -999,-999,9,     -999,9,     -999,9,     -999,9,     -999,9,     -999,9,     -999,9,-999,9,     -999,9,     -999,9,     -999,9,    -999,    -999
33RR20080204,       I06S,       5,          2,          2,          2,2,20080206,       1954,   -33.3210,    28.1253,       1402,  1171.0,   3.4638,  34.6352,2,  34.6345,2,    159.7,2,   157.9,2,   72.66,2,   33.40,2,    0.00,2,    2.34,2,   0.219,2,   0.124,2,   0.002,2,  2252.0,2,  2343.0,2,   7.6580,2,    20.00,    -999,9,    -999,9,    -999,9,-999,9,0.54,2,-143.3,2,2.3,    -999,9,    -999,-999,5,-999,9,-999,9,   39.22,2,-999,1, 20080206,     2005, -33.3245,  28.1195,    -999,-999,9,     -999,9,     -999,9,     -999,9,     -999,9,     -999,9,     -999,9,-999,9,     -999,9,     -999,9,     -999,9,    -999,    -999
33RR20080204,       I06S,       5,          2,          1,          1,2,20080206,       1954,   -33.3210,    28.1253,       1402,  1285.5,   3.1576,  34.6778,2,  34.6781,2,    164.2,2,   163.3,2,   75.75,2,   32.75,2,    0.00,2,    2.29,2,   0.129,2,   0.071,2,   0.004,2,  2253.8,6,  2347.4,2,   7.6700,2,    20.00,    -999,9,    -999,9,    -999,9,-999,9,0.27,2,-150.2,2,2.6,    -999,9,    -999,-999,5,-999,9,-999,9,   46.54,3,-999,1, 20080206,     2000, -33.3229,  28.1222,    -999,-999,9,     -999,9,     -999,9,     -999,9,     -999,9,     -999,9,     -999,9,-999,9,     -999,9,     -999,9,     -999,9,    -999,    -999