BOTTLE,20220706CCHSIOAMB
EXPOCODE,SECT_ID,STNNBR,CASTNO,SAMPNO,BTLNBR,BTLNBR_FLAG_W,DATE,TIME,LATITUDE,LONGITUDE,DEPTH,CTDPRS,CTDTMP,CTDSAL,CTDSAL_FLAG_W,SALNTY,SALNTY_FLAG_W,CTDOXY,CTDOXY_FLAG_W,OXYGEN,OXYGEN_FLAG_W,SILCAT,SILCAT_FLAG_W,NITRAT,NITRAT_FLAG_W,NITRIT,NITRIT_FLAG_W,PHSPHT,PHSPHT_FLAG_W,CFC-11,CFC-11_FLAG_W,CFC-12,CFC-12_FLAG_W,CFC113,CFC113_FLAG_W,TCARBN,TCARBN_FLAG_W,ALKALI,ALKALI_FLAG_W,PH_SWS,PH_SWS_FLAG_W,PH_TMP,TRITUM,TRITUM_FLAG_W,HELIUM,HELIUM_FLAG_W,DELHE3,DELHE3_FLAG_W,REFTMP,REFTMP_FLAG_W,DELC13,DELC13_FLAG_W,DELC14,DELC14_FLAG_W,C14ERR,NEON,NEON_FLAG_W,NEONER,CCL4,CCL4_FLAG_W,ALUMIN,ALUMIN_FLAG_W,DELO18,DELO18_FLAG_W,DOC,DOC_FLAG_W,TDN,TDN_FLAG_W,BTL_DATE,BTL_TIME,BTL_LAT,BTL_LON,TRITER,DELSI30,DELSI30_FLAG_W,CDOM380,CDOM380_FLAG_W,CDOM325,CDOM325_FLAG_W,CDOMSL,CDOMSL_FLAG_W,CDOM340,CDOM340_FLAG_W,CDOM443,CDOM443_FLAG_W,CDOMSN,CDOMSN_FLAG_W,BLACKC,BLACKC_FLAG_W,CDOM490,CDOM490_FLAG_W,CDOM412,CDOM412_FLAG_W,CDOM555,CDOM555_FLAG_W,DELHER,HELIER
,,,,,,,,,,,METERS,DBAR,ITS-90,PSS-78,,PSS-78,,UMOL/KG,,UMOL/KG,,UMOL/KG,,UMOL/KG,,UMOL/KG,,UMOL/KG,,PMOL/KG,,PMOL/KG,,PMOL/KG,,UMOL/KG,,UMOL/KG,,,,DEG C,TU,,NMOL/KG,,PERCNT,,DEG C,,/MILLE,,/MILLE,,/MILLE,NMOL/KG,,NMOL/KG,PMOL/KG,,NMOL/L,,/MILLE,,UMOL/KG,,UMOL/KG,,,,,,TU,/MILLE,,1/M,,1/M,,1/NM,,1/M,,1/M,,1/NM,,,,1/M,,1/M,,1/M,,PERCNT,NMOL/KG
33RR20080204,       I06S,      49,          1,         36,         36,2,20080221,       0233,   -51.4918,    29.9934,       4004,     6.5,   2.8104,  33.8099,2,  33.8115,2,    325.1,2,   326.3,2,   11.02,2,   22.83,2,    0.27,2,    1.48,2,   5.592,2,   3.100,2,   0.539,2,  2145.2,6,  2279.5,2,   7.9305,2,    13.00,    -999,9,    -999,9,    -999,9,2.8098,2,0.02,3,-68.9,2,2.9,    -999,9,    -999,7.922,2,-999,9,-999,9,    -999,9,-999,1, 20080221,     0418, -51.4819,  29.9862,    -999,-999,1,   0.0200,2,   0.0864,2,   0.0214,2,   0.0543,2,   0.0059,2,   0.0265,2,-999,9,  -0.0004,4,   0.0127,2,  -0.0021,4,    -999,    -999
33RR20080204,       I06S,      49,          1,         35,         35,2,20080221,       0233,   -51.4918,    29.9934,       4004,    27.5,   2.8100,  33.8099,2,     -999,9,    325.8,2,   326.2,2,   11.02,2,   22.82,2,    0.27,2,    1.48,2,   5.610,2,   3.100,2,   0.538,2,    -999,9,  2280.4,2,   7.9301,2,    13.00,    -999,9,    -999,9,    -999,9,2.8091,2,-999,9,-999,9,-999,    -999,9,    -999,8.403,2,-999,9,-999,9,   40.98,2,-999,9, 20080221,     0417, -51.4819,  29.9862,    -999,-999,9,     -999,9,     -999,9,     -999,9,     -999,9,     -999,9,     -999,9,-999,1,     -999,9,     -999,9,     -999,9,    -999,    -999
33RR20080204,       I06S,      49,          1,         34,         34,2,20080221,       0233,   -51.4918,    29.9934,       4004,    27.5,   2.8099,  33.8101,2,  33.8120,2,    325.8,2,   326.0,2,   11.02,2,   22.83,2,    0.27,2,    1.48,2,   5.699,2,   3.114,2,   0.558,2,  2146.0,2,  2281.1,2,   7.9292,2,    13.00,    -999,9,    -999,9,    -999,9,2.809,2,-999,9,-999,9,-999,    -999,9,    -999,8.36,2,-999,9,-999,9,   41.46,2,-999,1, 20080221,     0417, -51.4819,  29.9862,    -999,-999,1,   0.0241,2,   0.0882,2,   0.0189,2,   0.0558,2,   0.0080,2,   0.0228,2,-999,9,   0.0009,2,   0.0153,2,  -0.0015,4,    -999,    -999
33RR20080204,       I06S,      49,          1,         33,         33,2,20080221,       0233,   -51.4918,    29.9934,       4004,    47.3,   2.8160,  33.8106,2,  33.8120,2,    325.9,2,   326.1,2,   11.02,2,   22.82,2,    0.27,2,    1.50,2,   5.567,2,   3.108,2,   0.546,2,  2144.3,2,  2280.3,2,   7.9302,2,    13.00,    -999,9,    -999,9,    -999,9,2.8149,2,-999,9,-999,9,-999,    -999,9,    -999,8.581,2,-999,9,-999,9,   42.63,2,-999,1, 20080221,     0415, -51.4820,  29.9863,    -999,-999,1,     -999,9,     -999,9,     -999,9,     -999,9,     -999,9,     -999,9,-999,9,     -999,9,     -999,9,     -999,9,    -999,    -999
33RR20080204,       I06S,      49,          1,         32,         32,2,20080221,       0233,   -51.4918,    29.9934,       4004,    77.8,   2.8135,  33.8111,2,  33.8120,2,    326.0,2,   325.7,2,   11.20,2,   22.83,2,    0.27,2,    1.49,2,   5.684,2,   3.099,2,   0.512,2,  2146.8,2,  2280.3,2,   7.9285,2,    13.00,    -999,9,    -999,9,    -999,9,2.8126,2,1.66,2,-66.8,2,3.2,    -999,9,    -999,8.358,2,-999,9,-999,9,   42.05,2,-999,1, 20080221,     0413, -51.4822,  29.9864,    -999,-999,1,   0.0242,2,   0.0872,2,   0.0197,2,   0.0562,2,   0.0076,2,   0.0228,2,-999,9,   0.0010,2,   0.0145,2,  -0.0013,4,    -999,    -999
33RR20080204,       I06S,      49,          1,         31,         31,2,20080221,       0233,   -51.4918,    29.9934,       4004,   107.1,   2.7845,  33.8106,2,  33.8124,2,    326.5,2,   325.9,2,    -999,5,    -999,5,    -999,5,    -999,5,   5.545,2,   3.115,2,   0.518,2,  2146.0,2,  2280.9,2,   7.9287,2,    13.00,    -999,9,    -999,9,    -999,9,2.7815,2,-999,9,-999,9,-999,    -999,9,    -999,8.177,2,-999,9,-999,9,   41.76,2,-999,1, 20080221,     0412, -51.4823,  29.9865,    -999,-999,1,   0.0204,2,   0.0842,2,   0.0210,2,   0.0524,2,   0.0059,2,   0.0258,2,-999,9,  -0.0004,4,   0.0127,2,  -0.0021,4,    -999,    -999
33RR20080204,       I06S,      49,          1,         30,         30,2,20080221,       0233,   -51.4918,    29.9934,       4004,   156.4,   1.2836,  33.9487,2,  33.9488,2,    294.8,2,   305.4,2,   32.83,2,   28.15,2,    0.16,2,    1.95,2,   5.411,2,   2.969,2,   0.486,2,  2181.7,2,  2285.9,2,   7.8437,3,    13.00,    -999,9,    -999,9,    -999,9,1.2923,2,1.22,2,-75.5,2,2.8,    -999,9,    -999,7.495,2,-999,9,-999,9,   41.27,2,-999,1, 20080221,     0409, -51.4824,  29.9866,    -999,-999,1,   0.0219,2,   0.0856,2,   0.0194,3,   0.0519,2,   0.0070,2,   0.0245,3,-999,9,   0.0002,4,   0.0140,2,  -0.0018,4,    -999,    -999
33RR20080204,       I06S,      49,          1,         28,         28,2,20080221,       0233,   -51.4918,    29.9934,       4004,   204.2,   1.6313,  34.1146,2,     -999,9,    264.1,2,   262.5,2,   40.25,2,   31.35,2,    0.02,2,    2.16,2,   4.233,2,   2.292,2,   0.353,2,  2200.9,2,  2293.0,2,   7.7978,2,    13.00,    -999,9,    -999,9,    -999,9,1.6612,3,-999,9,-999,9,-999,    -999,9,    -999,6.008,2,-999,9,-999,9,    -999,9,-999,1, 20080221,     0407, -51.4825,  29.9867,    -999,-999,9,   0.0236,2,   0.0889,2,   0.0186,3,   0.0542,2,   0.0078,2,   0.0235,3,-999,9,   0.0009,2,   0.0156,2,  -0.0015,4,    -999,    -999
33RR20080204,       I06S,      49,          1,         29,         29,2,20080221,       0233,   -51.4918,    29.9934,       4004,   206.0,   1.6579,  34.1184,2,  34.1167,2,    263.8,2,   263.1,2,   40.25,2,   31.30,2,    0.02,2,    2.16,2,    -999,9,    -999,9,    -999,9,    -999,9,  2293.9,2,   7.7971,2,    13.00,    -999,9,    -999,9,    -999,9,1.6597,2,-999,9,-999,9,-999,    -999,9,    -999,-999,9,-999,9,-999,9,    -999,9,-999,9, 20080221,     0408, -51.4825,  29.9867,    -999,-999,1,     -999,9,     -999,9,     -999,9,     -999,9,     -999,9,     -999,9,-999,1,     -999,9,     -999,9,     -999,9,    -999,    -999
33RR20080204,       I06S,      49,          1,         27,         27,2,20080221,       0233,   -51.4918,    29.9934,       4004,   257.1,   1.8390,  34.2351,2,  34.2562,3,    226.7,2,   226.3,2,   47.90,2,   33.04,2,    0.03,2,    2.28,2,   2.987,2,   1.574,2,   0.249,2,  2216.2,2,  2301.7,2,   7.7713,2,    13.00,    -999,9,    -999,9,    -999,9,1.8457,2,0.8,2,-92.2,2,3.7,    -999,9,    -999,4.502,2,-999,9,-999,9,   41.37,2,-999,1, 20080221,     0406, -51.4826,  29.9868,    -999,-999,1,   0.0282,2,   0.0997,2,   0.0180,3,   0.0626,2,   0.0097,2,   0.0219,3,-999,9,   0.0018,2,   0.0185,2,  -0.0010,4,    -999,    -999
33RR20080204,       I06S,      49,          1,         26,         26,2,20080221,       0233,   -51.4918,    29.9934,       4004,   307.2,   2.0924,  34.3433,2,  34.3443,2,    202.8,2,   198.5,2,   58.18,2,   34.77,2,    0.01,2,    2.40,2,   2.236,2,   1.150,2,   0.190,2,  2231.8,2,  2310.2,2,   7.7353,2,    13.00,    -999,9,    -999,9,    -999,9,2.0922,2,0.52,2,-110.3,2,2.8,    -999,9,    -999,3.57,2,-999,9,-999,9,   37.37,2,-999,1, 20080221,     0404, -51.4828,  29.9869,    -999,-999,1,   0.0298,2,   0.1066,2,   0.0182,3,   0.0672,2,   0.0101,2,   0.0221,3,-999,9,   0.0018,2,   0.0195,2,  -0.0010,4,    -999,    -999
33RR20080204,       I06S,      49,          1,         25,         25,2,20080221,       0233,   -51.4918,    29.9934,       4004,   356.9,   2.0770,  34.3985,2,  34.3990,2,    189.2,2,   188.3,2,   64.38,2,   35.12,2,    0.01,2,    2.43,2,   1.848,2,   0.955,2,   0.178,2,  2240.4,2,  2315.4,2,   7.7243,3,    13.00,    -999,9,    -999,9,    -999,9,2.0764,2,0.53,2,-120.9,2,2.5,    -999,9,    -999,3.009,2,-999,9,-999,9,    -999,9,-999,9, 20080221,     0402, -51.4829,  29.9870,    -999,-999,9,     -999,9,     -999,9,     -999,9,     -999,9,     -999,9,     -999,9,-999,9,     -999,9,     -999,9,     -999,9,    -999,    -999
33RR20080204,       I06S,      49,          1,         24,         24,2,20080221,       0233,   -51.4918,    29.9934,       4004,   406.9,   2.1423,  34.4587,2,  34.4590,2,    180.8,2,   180.0,2,   69.08,2,   35.17,2,    0.01,2,    2.43,2,   1.426,2,   0.735,2,   0.112,2,  2251.0,2,  2321.2,2,   7.7246,2,    13.00,    -999,9,    -999,9,    -999,9,2.1416,2,0.5,2,-129.5,2,2.3,    -999,9,    -999,2.498,2,-999,9,-999,9,   38.93,2,-999,1, 20080221,     0400, -51.4831,  29.9872,    -999,-999,1,   0.0326,2,   0.1114,2,   0.0178,3,   0.0711,2,   0.0113,2,   0.0211,3,-999,9,   0.0022,2,   0.0214,2,  -0.0009,4,    -999,    -999
33RR20080204,       I06S,      49,          1,         23,         23,2,20080221,       0233,   -51.4918,    29.9934,       4004,   458.8,   2.2499,  34.5148,2,  34.5150,2,    175.8,2,   176.5,2,   71.52,2,   34.78,2,    0.01,2,    2.39,2,   1.003,2,   0.526,2,   0.069,2,  2249.5,2,  2326.7,2,   7.7317,2,    13.00,    -999,9,    -999,9,    -999,9,2.2488,2,0.48,2,-140.3,2,2.7,    -999,9,    -999,1.911,2,-999,9,-999,9,    -999,9,-999,9, 20080221,     0358, -51.4834,  29.9873,    -999,-999,9,     -999,9,     -999,9,     -999,9,     -999,9,     -999,9,     -999,9,-999,9,     -999,9,     -999,9,     -999,9,    -999,    -999
33RR20080204,       I06S,      49,          1,         22,         22,2,20080221,       0233,   -51.4918,    29.9934,       4004,   509.0,   2.3029,  34.5640,2,  34.5642,2,    175.2,2,   174.5,2,   73.60,2,   34.23,2,    0.01,2,    2.36,2,   0.693,2,   0.374,2,   0.047,2,  2250.6,2,  2332.5,2,   7.7403,2,    13.00,    -999,9,    -999,9,    -999,9,2.3022,2,0.42,2,-143.8,2,2.3,    -999,9,    -999,1.459,2,-999,9,-999,9,   38.73,2,-999,1, 20080221,     0356, -51.4835,  29.9875,    -999,-999,9,   0.0321,2,   0.1121,2,   0.0184,2,   0.0718,2,   0.0106,2,   0.0218,3,-999,9,   0.0020,2,   0.0205,2,  -0.0010,4,    -999,    -999
33RR20080204,       I06S,      49,          1,         21,         21,2,20080221,       0233,   -51.4918,    29.9934,       4004,   608.3,   2.2663,  34.6166,2,  34.6151,2,    175.7,2,   175.2,2,   76.23,2,   33.49,2,    0.01,2,    2.31,2,   0.509,2,   0.279,2,   0.036,2,    -999,5,  2337.1,2,   7.7506,2,    13.00,    -999,9,    -999,9,    -999,9,2.2662,2,0.41,2,-150.9,2,2.4,    -999,9,    -999,1.108,2,-999,9,-999,9,   38.15,2,-999,1, 20080221,     0354, -51.4840,  29.9872,    -999,-999,1,   0.0346,2,   0.1163,2,   0.0181,2,   0.0751,2,   0.0116,2,   0.0210,3,-999,9,   0.0029,2,   0.0220,2,  -0.0005,4,    -999,    -999
33RR20080204,       I06S,      49,          1,         20,         20,2,20080221,       0233,   -51.4918,    29.9934,       4004,   710.9,   2.3544,  34.6762,2,  34.6765,2,    179.5,2,   180.0,2,   74.73,2,   32.03,2,    0.01,2,    2.22,2,   0.286,2,   0.157,2,   0.018,2,    -999,5,  2340.8,2,   7.7726,2,    13.00,    -999,9,    -999,9,    -999,9,2.3508,2,0.55,2,-145.1,2,2.3,    -999,9,    -999,0.793,2,-999,9,-999,9,   38.05,2,-999,1, 20080221,     0351, -51.4842,  29.9874,    -999,-999,9,     -999,9,     -999,9,     -999,9,     -999,9,     -999,9,     -999,9,-999,9,     -999,9,     -999,9,     -999,9,    -999,    -999
33RR20080204,       I06S,      49,          1,         19,         19,2,20080221,       0233,   -51.4918,    29.9934,       4004,   809.8,   2.1950,  34.6876,2,  34.6879,2,    182.6,2,   181.8,2,   78.69,2,   31.98,2,    0.01,2,    2.22,2,   0.325,2,   0.186,2,   0.023,2,  2204.8,4,  2341.0,2,   7.7734,2,    13.00,    -999,9,    -999,9,    -999,9,2.1945,2,0.46,2,-148.8,2,2.6,    -999,9,    -999,0.833,2,-999,9,-999,9,   38.83,2,-999,1, 20080221,     0349, -51.4845,  29.9876,    -999,-999,1,   0.0347,2,   0.1149,2,   0.0188,2,   0.0749,2,   0.0106,2,   0.0213,2,-999,9,   0.0021,2,   0.0206,2,  -0.0009,4,    -999,    -999
33RR20080204,       I06S,      49,          1,         18,         18,2,20080221,       0233,   -51.4918,    29.9934,       4004,   910.4,   2.1811,  34.7137,2,  34.7130,2,    186.1,2,   184.7,2,   79.26,2,   31.34,2,    0.01,2,    2.17,2,   0.245,2,   0.140,2,   0.022,2,  2237.0,3,  2343.2,2,   7.7851,2,    13.00,    -999,9,    -999,9,    -999,9,2.1811,2,0.44,2,-148.2,2,3.0,    -999,9,    -999,0.652,2,-999,9,-999,9,    -999,9,-999,9, 20080221,     0346, -51.4847,  29.9878,    -999,-999,9,     -999,9,     -999,9,     -999,9,     -999,9,     -999,9,     -999,9,-999,9,     -999,9,     -999,9,     -999,9,    -999,    -999
33RR20080204,       I06S,      49,          1,         17,         17,2,20080221,       0233,   -51.4918,    29.9934,       4004,  1009.6,   2.1402,  34.7331,2,  34.7334,2,    190.3,2,   189.8,2,   79.45,2,   30.61,2,    0.00,2,    2.12,2,   0.196,2,   0.112,2,   0.013,2,  2246.4,2,  2343.8,2,   7.7952,2,    13.00,    -999,9,    -999,9,    -999,9,2.1403,2,0.35,2,-144.6,2,3.2,    -999,9,    -999,0.549,2,-999,9,-999,9,   39.22,2,-999,1, 20080221,     0343, -51.4849,  29.9879,    -999,-999,1,   0.0314,2,   0.1127,2,   0.0193,2,   0.0727,2,   0.0097,2,   0.0225,2,-999,9,   0.0018,2,   0.0191,2,  -0.0009,4,    -999,    -999
33RR20080204,       I06S,      49,          1,         16,         16,2,20080221,       0233,   -51.4918,    29.9934,       4004,  1120.8,   1.8613,  34.7206,2,  34.7212,2,    191.0,2,   189.9,2,   86.45,2,   31.25,2,    0.00,2,    2.16,2,   0.308,2,   0.178,2,   0.026,2,  2240.0,2,  2347.5,2,   7.7878,3,    13.00,    -999,9,    -999,9,    -999,9,1.8614,2,0.52,2,-152.8,2,2.4,    -999,9,    -999,0.646,2,-999,9,-999,9,    -999,9,-999,9, 20080221,     0340, -51.4851,  29.9880,    -999,-999,9,     -999,9,     -999,9,     -999,9,     -999,9,     -999,9,     -999,9,-999,9,     -999,9,     -999,9,     -999,9,    -999,    -999
33RR20080204,       I06S,      49,          1,         15,         15,2,20080221,       0233,   -51.4918,    29.9934,       4004,  1219.8,   1.9166,  34.7457,2,  34.7464,2,    197.8,2,   197.2,2,   83.42,2,   30.18,2,    0.00,2,    2.08,2,   0.205,2,   0.114,2,   0.024,2,  2234.4,2,  2347.4,2,   7.8043,2,    13.00,    -999,9,    -999,9,    -999,9,1.9154,2,0.61,2,-144.9,2,2.7,    -999,9,    -999,0.496,2,-999,9,-999,9,   38.93,2,-999,1, 20080221,     0337, -51.4853,  29.9883,    -999,-999,9,   0.0326,2,   0.1166,2,   0.0195,2,   0.0758,2,   0.0100,2,   0.0225,2,-999,9,   0.0020,2,   0.0197,2,  -0.0008,4,    -999,    -999
33RR20080204,       I06S,      49,          1,         14,         14,2,20080221,       0233,   -51.4918,    29.9934,       4004,  1319.2,   1.8231,  34.7481,2,  34.7471,2,    198.9,2,   197.8,2,   85.31,2,   30.18,2,    0.00,2,    2.08,2,   0.205,2,   0.118,2,   0.017,2,  2234.6,2,  2348.7,2,   7.8068,4,    13.00,    -999,9,    -999,9,    -999,9,1.8211,2,0.6,2,-158.5,2,2.7,    -999,9,    -999,0.465,2,-999,9,-999,9,    -999,9,-999,9, 20080221,     0335, -51.4855,  29.9886,    -999,-999,9,     -999,9,     -999,9,     -999,9,     -999,9,     -999,9,     -999,9,-999,9,     -999,9,     -999,9,     -999,9,    -999,    -999
33RR20080204,       I06S,      49,          1,         13,         13,2,20080221,       0233,   -51.4918,    29.9934,       4004,  1418.4,   1.7720,  34.7565,2,  34.7562,2,    202.1,2,   202.1,2,   85.88,2,   29.74,2,    0.00,2,    2.05,2,   0.161,2,   0.087,2,   0.015,2,  2232.2,2,  2348.4,2,   7.8142,2,    13.00,    -999,9,    -999,9,    -999,9,1.7721,2,0.63,2,-155.1,2,2.4,    -999,9,    -999,0.481,2,-999,9,-999,9,   37.56,2,-999,1, 20080221,     0332, -51.4858,  29.9888,    -999,-999,9,   0.0325,2,   0.1153,2,   0.0193,2,   0.0745,2,   0.0103,2,   0.0223,2,-999,9,   0.0019,2,   0.0195,2,  -0.0009,4,    -999,    -999
33RR20080204,       I06S,      49,          1,         12,         12,2,20080221,       0233,   -51.4918,    29.9934,       4004,  1512.6,   1.7302,  34.7622,2,  34.7616,2,    203.4,2,   201.5,2,   85.50,2,   29.45,2,    0.00,2,    2.02,2,   0.136,2,   0.080,2,   0.033,2,  2229.0,2,  2348.8,2,   7.8208,3,    13.00,    -999,9,    -999,9,    -999,9,1.7299,2,0.66,2,-152.0,2,2.7,    -999,9,    -999,0.561,2,-999,9,-999,9,    -999,9,-999,9, 20080221,     0329, -51.4863,  29.9884,    -999,-999,1,     -999,9,     -999,9,     -999,9,     -999,9,     -999,9,     -999,9,-999,9,     -999,9,     -999,9,     -999,9,    -999,    -999
33RR20080204,       I06S,      49,          1,         11,         11,2,20080221,       0233,   -51.4918,    29.9934,       4004,  1614.4,   1.6167,  34.7535,2,  34.7537,2,    203.3,2,   204.3,2,   89.30,2,   29.84,2,    0.00,2,    2.05,2,   0.164,2,   0.092,2,   0.014,2,  2231.5,2,  2349.5,2,   7.8164,3,    13.00,    -999,9,    -999,9,    -999,9,1.6169,2,0.52,2,-152.6,2,2.8,    -999,9,    -999,0.421,2,-999,9,-999,9,   36.39,2,-999,1, 20080221,     0327, -51.4870,  29.9886,    -999,-999,9,   0.0321,2,   0.1136,2,   0.0192,2,   0.0735,2,   0.0102,2,   0.0223,2,-999,9,   0.0020,2,   0.0193,2,  -0.0008,4,    -999,    -999
33RR20080204,       I06S,      49,          1,         10,         10,2,20080221,       0233,   -51.4918,    29.9934,       4004,  1724.3,   1.4354,  34.7422,2,  34.7419,2,    202.4,2,   204.1,2,   94.99,2,   30.38,2,    0.00,2,    2.09,2,   0.188,2,   0.110,2,   0.026,2,  2236.6,2,  2352.6,2,   7.8092,3,    13.00,    -999,9,    -999,9,    -999,9,1.4366,2,0.77,2,-153.9,2,2.6,    -999,9,    -999,0.42,2,-999,9,-999,9,    -999,9,-999,9, 20080221,     0324, -51.4878,  29.9898,    -999,-999,9,     -999,9,     -999,9,     -999,9,     -999,9,     -999,9,     -999,9,-999,9,     -999,9,     -999,9,     -999,9,    -999,    -999
33RR20080204,       I06S,      49,          1,          9,          9,2,20080221,       0233,   -51.4918,    29.9934,       4004,  1826.9,   1.3198,  34.7354,2,  34.7366,2,    202.8,2,   204.2,2,   98.61,2,   30.57,2,    0.00,2,    2.11,2,   0.205,2,   0.115,2,   0.021,2,  2239.4,2,  2353.2,2,   7.8081,4,    13.00,    -999,9,    -999,9,    -999,9,1.3199,2,0.57,2,-155.5,2,3.1,    -999,9,    -999,0.443,2,-999,9,-999,9,   38.83,2,-999,1, 20080221,     0321, -51.4885,  29.9908,    -999,-999,9,   0.0321,2,   0.1136,2,   0.0191,2,   0.0733,2,   0.0103,2,   0.0223,2,-999,9,   0.0020,2,   0.0194,2,  -0.0008,4,    -999,    -999
33RR20080204,       I06S,      49,          1,          8,          8,2,20080221,       0233,   -51.4918,    29.9934,       4004,  2028.4,   1.1056,  34.7252,2,  34.7263,2,    204.0,2,   206.5,2,  104.89,2,   31.06,2,    0.00,2,    2.15,2,   0.210,2,   0.111,2,   0.021,2,  2240.8,2,  2355.2,2,   7.8071,4,    13.00,    -999,9,    -999,9,    -999,9,1.1043,2,0.55,2,-158.8,2,2.9,    -999,9,    -999,0.442,2,-999,9,-999,9,   41.56,2,-999,1, 20080221,     0317, -51.4890,  29.9911,    -999,-999,1,   0.0346,2,   0.1178,2,   0.0181,2,   0.0776,2,   0.0122,2,   0.0210,3,-999,9,   0.0028,2,   0.0222,2,  -0.0004,4,    -999,    -999