BOTTLE,20220706CCHSIOAMB
EXPOCODE,SECT_ID,STNNBR,CASTNO,SAMPNO,BTLNBR,BTLNBR_FLAG_W,DATE,TIME,LATITUDE,LONGITUDE,DEPTH,CTDPRS,CTDTMP,CTDSAL,CTDSAL_FLAG_W,SALNTY,SALNTY_FLAG_W,CTDOXY,CTDOXY_FLAG_W,OXYGEN,OXYGEN_FLAG_W,SILCAT,SILCAT_FLAG_W,NITRAT,NITRAT_FLAG_W,NITRIT,NITRIT_FLAG_W,PHSPHT,PHSPHT_FLAG_W,CFC-11,CFC-11_FLAG_W,CFC-12,CFC-12_FLAG_W,CFC113,CFC113_FLAG_W,TCARBN,TCARBN_FLAG_W,ALKALI,ALKALI_FLAG_W,PH_SWS,PH_SWS_FLAG_W,PH_TMP,TRITUM,TRITUM_FLAG_W,HELIUM,HELIUM_FLAG_W,DELHE3,DELHE3_FLAG_W,REFTMP,REFTMP_FLAG_W,DELC13,DELC13_FLAG_W,DELC14,DELC14_FLAG_W,C14ERR,NEON,NEON_FLAG_W,NEONER,CCL4,CCL4_FLAG_W,ALUMIN,ALUMIN_FLAG_W,DELO18,DELO18_FLAG_W,DOC,DOC_FLAG_W,TDN,TDN_FLAG_W,BTL_DATE,BTL_TIME,BTL_LAT,BTL_LON,TRITER,DELSI30,DELSI30_FLAG_W,CDOM380,CDOM380_FLAG_W,CDOM325,CDOM325_FLAG_W,CDOMSL,CDOMSL_FLAG_W,CDOM340,CDOM340_FLAG_W,CDOM443,CDOM443_FLAG_W,CDOMSN,CDOMSN_FLAG_W,BLACKC,BLACKC_FLAG_W,CDOM490,CDOM490_FLAG_W,CDOM412,CDOM412_FLAG_W,CDOM555,CDOM555_FLAG_W,DELHER,HELIER
,,,,,,,,,,,METERS,DBAR,ITS-90,PSS-78,,PSS-78,,UMOL/KG,,UMOL/KG,,UMOL/KG,,UMOL/KG,,UMOL/KG,,UMOL/KG,,PMOL/KG,,PMOL/KG,,PMOL/KG,,UMOL/KG,,UMOL/KG,,,,DEG C,TU,,NMOL/KG,,PERCNT,,DEG C,,/MILLE,,/MILLE,,/MILLE,NMOL/KG,,NMOL/KG,PMOL/KG,,NMOL/L,,/MILLE,,UMOL/KG,,UMOL/KG,,,,,,TU,/MILLE,,1/M,,1/M,,1/NM,,1/M,,1/M,,1/NM,,,,1/M,,1/M,,1/M,,PERCNT,NMOL/KG
33RR20080204,       I06S,      77,          1,         36,         36,2,20080301,       0222,   -65.4337,    31.6790,       4573,     3.7,   0.2274,  33.8990,2,  33.9010,2,    338.9,2,   339.3,2,   51.50,2,   26.49,2,    0.30,2,    1.82,2,   6.083,2,   3.492,2,   0.451,2,  2169.6,6,  2297.8,2,   7.8845,2,    13.00,    -999,9,    -999,9,    -999,9,0.2269,2,-999,9,-999,9,-999,    -999,9,    -999,9.216,2,-999,9,-999,9,    -999,9,-999,9, 20080301,     0426, -65.4341,  31.6773,    -999,-999,9,   0.0178,2,   0.0793,2,   0.0099,4,   0.0504,2,   0.0049,2,   0.0293,3,-999,9,  -0.0007,4,   0.0110,2,  -0.0027,4,    -999,    -999
33RR20080204,       I06S,      77,          1,         35,         35,2,20080301,       0222,   -65.4337,    31.6790,       4573,    19.7,   0.2415,  33.9196,2,  33.9188,2,    340.9,2,   339.1,2,   51.50,2,   26.49,2,    0.29,2,    1.81,2,   6.117,2,   3.496,2,   0.451,2,  2169.6,2,  2299.6,2,   7.8844,2,    13.00,    -999,9,    -999,9,    -999,9,0.2407,2,-999,9,-999,9,-999,    -999,9,    -999,8.988,2,-999,9,-999,9,    -999,9,-999,9, 20080301,     0424, -65.4341,  31.6773,    -999,-999,9,   0.0174,2,   0.0794,2,   0.0235,3,   0.0501,2,   0.0041,2,   0.0294,2,-999,9,  -0.0013,4,   0.0104,2,  -0.0028,4,    -999,    -999
33RR20080204,       I06S,      77,          1,         34,         34,2,20080301,       0222,   -65.4337,    31.6790,       4573,    35.7,  -0.6317,  34.0930,2,  34.0837,2,    339.8,2,   338.1,2,   52.48,2,   27.12,2,    0.21,2,    1.85,2,   5.830,2,   3.280,2,   0.428,2,  2183.8,2,  2310.6,2,   7.8759,2,    13.00,    -999,9,    -999,9,    -999,9,-0.6392,2,-999,9,-999,9,-999,    -999,9,    -999,7.809,2,-999,9,-999,9,    -999,9,-999,9, 20080301,     0423, -65.4341,  31.6773,    -999,-999,9,   0.0210,2,   0.0910,2,   0.0107,4,   0.0572,2,   0.0060,2,   0.0271,3,-999,9,  -0.0001,4,   0.0137,2,  -0.0022,4,    -999,    -999
33RR20080204,       I06S,      77,          1,         33,         33,2,20080301,       0222,   -65.4337,    31.6790,       4573,    65.8,  -1.4440,  34.3149,2,  34.3104,2,    312.1,2,   311.1,2,   61.90,2,   29.30,2,    0.18,2,    2.04,2,   4.952,2,   2.817,2,   0.398,2,  2218.0,2,  2323.7,2,   7.8289,2,    13.00,    -999,9,    -999,9,    -999,9,-1.4426,2,-999,9,-999,9,-999,    -999,9,    -999,6.058,2,-999,9,-999,9,    -999,9,-999,9, 20080301,     0421, -65.4341,  31.6772,    -999,-999,9,   0.0263,2,   0.0943,2,   0.0108,4,   0.0595,2,   0.0085,2,   0.0202,3,-999,9,   0.0011,3,   0.0179,2,  -0.0014,4,    -999,    -999
33RR20080204,       I06S,      77,          1,         32,         32,2,20080301,       0222,   -65.4337,    31.6790,       4573,    90.4,  -1.1112,  34.3751,2,  34.3785,2,    283.2,2,   284.3,2,   69.74,2,   30.76,2,    0.13,2,    2.15,2,   4.154,2,   2.378,2,   0.350,2,  2229.3,2,  2325.6,2,   7.8016,2,    13.00,    -999,9,    -999,9,    -999,9,-1.1155,2,-999,9,-999,9,-999,    -999,9,    -999,4.999,2,-999,9,-999,9,    -999,9,-999,9, 20080301,     0419, -65.4341,  31.6772,    -999,-999,9,   0.0266,2,   0.0940,2,   0.0108,4,   0.0584,2,   0.0086,2,   0.0193,3,-999,9,   0.0012,3,   0.0183,2,  -0.0015,4,    -999,    -999
33RR20080204,       I06S,      77,          1,         31,         31,2,20080301,       0222,   -65.4337,    31.6790,       4573,   139.8,  -0.2006,  34.4886,2,  34.4915,2,    243.0,2,   248.4,2,   77.78,2,   31.97,2,    0.02,2,    2.21,2,   2.999,2,   1.704,2,   0.243,2,  2242.3,2,  2334.1,2,   7.7785,2,    13.00,    -999,9,    -999,9,    -999,9,-0.2206,2,-999,9,-999,9,-999,    -999,9,    -999,3.383,2,-999,9,-999,9,    -999,9,-999,9, 20080301,     0417, -65.4341,  31.6773,    -999,-999,9,   0.0292,2,   0.1014,2,   0.0113,4,   0.0642,2,   0.0093,2,   0.0193,3,-999,9,   0.0015,2,   0.0194,2,  -0.0014,4,    -999,    -999
33RR20080204,       I06S,      77,          1,         30,         30,2,20080301,       0222,   -65.4337,    31.6790,       4573,   192.1,   0.8099,  34.6079,2,  34.6074,2,    210.7,2,   209.0,2,   87.07,2,   32.63,2,    0.01,2,    2.25,2,   1.428,2,   0.787,2,   0.163,2,  2256.9,2,  2341.9,2,   7.7621,2,    13.00,    -999,9,    -999,9,    -999,9,0.8124,2,-999,9,-999,9,-999,    -999,9,    -999,2.014,2,-999,9,-999,9,    -999,9,-999,9, 20080301,     0415, -65.4341,  31.6772,    -999,-999,9,   0.0319,2,   0.1097,2,   0.0118,4,   0.0705,2,   0.0101,2,   0.0193,3,-999,9,   0.0018,2,   0.0206,2,  -0.0010,4,    -999,    -999
33RR20080204,       I06S,      77,          1,         29,         29,2,20080301,       0222,   -65.4337,    31.6790,       4573,   231.4,   1.1264,  34.6561,2,  34.6557,2,    199.8,2,   200.1,2,   90.30,2,   32.53,2,    0.00,2,    2.24,2,   1.064,2,   0.573,2,   0.090,2,  2257.4,2,  2345.9,2,   7.7630,2,    13.00,    -999,9,    -999,9,    -999,9,1.1253,2,-999,9,-999,9,-999,    -999,9,    -999,1.351,2,-999,9,-999,9,    -999,9,-999,9, 20080301,     0413, -65.4341,  31.6772,    -999,-999,9,     -999,9,     -999,9,     -999,9,     -999,9,     -999,9,     -999,9,-999,9,     -999,9,     -999,9,     -999,9,    -999,    -999
33RR20080204,       I06S,      77,          1,         28,         28,2,20080301,       0222,   -65.4337,    31.6790,       4573,   281.3,   1.1908,  34.6740,2,  34.6956,3,    198.3,2,   197.7,2,   91.91,2,   32.27,2,    0.00,2,    2.23,2,   0.882,2,   0.475,2,   0.070,2,  2256.2,2,  2346.8,2,   7.7674,2,    13.00,    -999,9,    -999,9,    -999,9,1.19,2,-999,9,-999,9,-999,    -999,9,    -999,1.309,2,-999,9,-999,9,    -999,9,-999,9, 20080301,     0411, -65.4341,  31.6772,    -999,-999,9,   0.0340,2,   0.1132,2,   0.0121,4,   0.0736,2,   0.0111,2,   0.0188,3,-999,9,   0.0025,2,   0.0219,2,  -0.0009,4,    -999,    -999
33RR20080204,       I06S,      77,          1,         27,         27,2,20080301,       0222,   -65.4337,    31.6790,       4573,   331.2,   1.0788,  34.6748,2,  34.6720,2,    202.1,2,   203.3,2,   91.50,2,   31.97,2,    0.00,2,    2.21,2,   1.000,2,   0.541,2,   0.077,2,  2254.5,2,  2347.1,2,   7.7735,4,    13.00,    -999,9,    -999,9,    -999,9,1.0793,2,-999,9,-999,9,-999,    -999,9,    -999,1.352,2,-999,9,-999,9,    -999,9,-999,9, 20080301,     0409, -65.4341,  31.6773,    -999,-999,9,     -999,9,     -999,9,     -999,9,     -999,9,     -999,9,     -999,9,-999,9,     -999,9,     -999,9,     -999,9,    -999,    -999
33RR20080204,       I06S,      77,          1,         26,         26,2,20080301,       0222,   -65.4337,    31.6790,       4573,   386.8,   1.1624,  34.6950,2,  34.7109,3,    199.5,2,   199.2,2,   94.54,2,   31.77,2,    0.00,2,    2.20,2,   0.673,2,   0.379,2,   0.045,2,  2255.1,2,  2351.4,2,   7.7786,2,    13.00,    -999,9,    -999,9,    -999,9,1.1662,2,-999,9,-999,9,-999,    -999,9,    -999,0.988,2,-999,9,-999,9,    -999,9,-999,9, 20080301,     0407, -65.4341,  31.6773,    -999,-999,9,   0.0328,2,   0.1107,2,   0.0120,4,   0.0718,2,   0.0104,2,   0.0191,3,-999,9,   0.0021,2,   0.0209,2,  -0.0010,4,    -999,    -999
33RR20080204,       I06S,      77,          1,         25,         25,2,20080301,       0222,   -65.4337,    31.6790,       4573,   437.9,   1.2267,  34.7079,2,  34.7097,2,    197.2,2,   197.6,2,   96.75,2,   31.76,2,    0.00,2,    2.19,2,   0.473,2,   0.267,2,   0.035,2,  2256.2,2,  2352.1,2,   7.7782,2,    13.00,    -999,9,    -999,9,    -999,9,1.2263,2,-999,9,-999,9,-999,    -999,9,    -999,0.765,2,-999,9,-999,9,    -999,9,-999,9, 20080301,     0405, -65.4341,  31.6772,    -999,-999,9,     -999,9,     -999,9,     -999,9,     -999,9,     -999,9,     -999,9,-999,9,     -999,9,     -999,9,     -999,9,    -999,    -999
33RR20080204,       I06S,      77,          1,         24,         24,2,20080301,       0222,   -65.4337,    31.6790,       4573,   487.5,   1.1980,  34.7109,2,  34.7121,2,    197.9,2,   198.3,2,   98.37,2,   31.67,2,    0.00,2,    2.19,2,   0.422,2,   0.236,2,   0.031,2,  2257.9,2,  2353.1,2,   7.7788,2,    13.00,    -999,9,    -999,9,    -999,9,1.1975,2,-999,9,-999,9,-999,    -999,9,    -999,0.712,2,-999,9,-999,9,    -999,9,-999,9, 20080301,     0402, -65.4341,  31.6772,    -999,-999,9,   0.0326,2,   0.1109,2,   0.0185,3,   0.0720,2,   0.0102,2,   0.0194,3,-999,9,   0.0020,2,   0.0206,2,  -0.0012,4,    -999,    -999
33RR20080204,       I06S,      77,          1,         23,         23,2,20080301,       0222,   -65.4337,    31.6790,       4573,   567.9,   1.0869,  34.7089,2,  34.7103,2,    200.7,2,   201.2,2,  100.20,2,   31.66,2,    0.00,2,    2.19,2,   0.447,2,   0.261,2,   0.036,2,  2256.9,2,  2354.0,2,   7.7842,2,    13.00,    -999,9,    -999,9,    -999,9,1.0877,2,-999,9,-999,9,-999,    -999,9,    -999,0.705,2,-999,9,-999,9,    -999,9,-999,9, 20080301,     0400, -65.4341,  31.6773,    -999,-999,9,     -999,9,     -999,9,     -999,9,     -999,9,     -999,9,     -999,9,-999,9,     -999,9,     -999,9,     -999,9,    -999,    -999
33RR20080204,       I06S,      77,          1,         22,         22,2,20080301,       0222,   -65.4337,    31.6790,       4573,   668.4,   1.0117,  34.7096,2,  34.7107,2,    202.4,2,   201.7,2,  102.43,2,   31.70,2,    0.00,2,    2.19,2,   0.405,6,   0.235,6,   0.030,6,  2256.7,2,  2354.0,2,   7.7854,2,    13.00,    -999,9,    -999,9,    -999,9,1.0123,2,-999,9,-999,9,-999,    -999,9,    -999,0.716,2,-999,9,-999,9,    -999,9,-999,9, 20080301,     0357, -65.4341,  31.6773,    -999,-999,9,   0.0341,2,   0.1113,2,   0.0185,3,   0.0726,2,   0.0104,2,   0.0188,3,-999,9,   0.0020,2,   0.0209,2,  -0.0006,4,    -999,    -999
33RR20080204,       I06S,      77,          1,         21,         21,2,20080301,       0222,   -65.4337,    31.6790,       4573,   768.7,   0.9131,  34.7071,2,  34.7081,2,    204.2,2,   203.6,2,  105.08,2,   31.75,2,    0.00,2,    2.20,2,   0.404,2,   0.214,2,   0.031,2,  2257.6,2,  2355.6,2,   7.7850,2,    13.00,    -999,9,    -999,9,    -999,9,0.9136,2,-999,9,-999,9,-999,    -999,9,    -999,0.708,2,-999,9,-999,9,    -999,9,-999,9, 20080301,     0354, -65.4341,  31.6773,    -999,-999,9,   0.0325,2,   0.1100,2,   0.0187,3,   0.0713,2,   0.0100,2,   0.0193,3,-999,9,   0.0018,2,   0.0202,2,  -0.0007,4,    -999,    -999
33RR20080204,       I06S,      77,          1,         20,         20,2,20080301,       0222,   -65.4337,    31.6790,       4573,   869.1,   0.8257,  34.7042,2,  34.7057,2,    204.8,2,   204.3,2,  108.13,2,   31.86,2,    0.00,2,    2.21,2,   0.365,2,   0.219,2,   0.022,2,  2258.3,2,  2356.1,2,   7.7830,4,    13.00,    -999,9,    -999,9,    -999,9,0.8253,2,-999,9,-999,9,-999,    -999,9,    -999,0.703,2,-999,9,-999,9,    -999,9,-999,9, 20080301,     0352, -65.4341,  31.6772,    -999,-999,9,   0.0343,2,   0.1111,2,   0.0181,3,   0.0725,2,   0.0111,2,   0.0186,3,-999,9,   0.0024,2,   0.0214,2,  -0.0002,4,    -999,    -999
33RR20080204,       I06S,      77,          1,         19,         19,2,20080301,       0222,   -65.4337,    31.6790,       4573,   969.4,   0.7461,  34.7005,2,  34.7020,2,    205.8,2,   204.8,2,  110.37,2,   32.01,2,    0.00,2,    2.22,2,   0.361,2,   0.214,2,   0.025,2,  2259.9,6,  2356.1,2,   7.7822,2,    13.00,    -999,9,    -999,9,    -999,9,0.7484,2,-999,9,-999,9,-999,    -999,9,    -999,0.669,2,-999,9,-999,9,    -999,9,-999,9, 20080301,     0349, -65.4341,  31.6773,    -999,-999,9,   0.0337,2,   0.1125,2,   0.0181,3,   0.0731,2,   0.0112,2,   0.0190,3,-999,9,   0.0025,2,   0.0213,2,  -0.0008,4,    -999,    -999
33RR20080204,       I06S,      77,          1,         18,         18,2,20080301,       0222,   -65.4337,    31.6790,       4573,  1071.4,   0.6224,  34.6921,2,  34.6939,2,    209.6,2,   207.8,2,  111.18,2,   32.10,2,    0.00,2,    2.22,2,   0.469,2,   0.275,2,   0.033,2,  2259.2,2,  2356.5,2,   7.7823,2,    13.00,    -999,9,    -999,9,    -999,9,0.6222,2,-999,9,-999,9,-999,    -999,9,    -999,0.776,2,-999,9,-999,9,    -999,9,-999,9, 20080301,     0346, -65.4341,  31.6772,    -999,-999,9,   0.0323,2,   0.1104,2,   0.0183,3,   0.0710,2,   0.0106,2,   0.0194,3,-999,9,   0.0024,2,   0.0203,2,  -0.0001,4,    -999,    -999
33RR20080204,       I06S,      77,          1,         17,         17,2,20080301,       0222,   -65.4337,    31.6790,       4573,  1172.1,   0.5727,  34.6915,2,  34.6920,2,    209.5,2,   208.3,2,  113.63,2,   32.25,2,    0.00,2,    2.24,2,   0.409,2,   0.227,2,   0.021,2,  2264.2,2,  2357.1,2,   7.7788,3,    13.00,    -999,9,    -999,9,    -999,9,0.5726,2,-999,9,-999,9,-999,    -999,9,    -999,0.709,2,-999,9,-999,9,    -999,9,-999,9, 20080301,     0343, -65.4341,  31.6773,    -999,-999,9,     -999,9,     -999,9,     -999,9,     -999,9,     -999,9,     -999,9,-999,9,     -999,9,     -999,9,     -999,9,    -999,    -999
33RR20080204,       I06S,      77,          1,         16,         16,2,20080301,       0222,   -65.4337,    31.6790,       4573,  1272.1,   0.5058,  34.6883,2,  34.6890,2,    210.2,2,   209.5,2,  114.85,2,   32.35,2,    0.00,2,    2.25,2,   0.411,2,   0.238,2,   0.027,2,  2260.8,2,  2358.1,2,   7.7797,3,    13.00,    -999,9,    -999,9,    -999,9,0.5059,2,-999,9,-999,9,-999,    -999,9,    -999,0.672,2,-999,9,-999,9,    -999,9,-999,9, 20080301,     0340, -65.4341,  31.6772,    -999,-999,9,   0.0313,2,   0.1089,2,   0.0187,3,   0.0701,2,   0.0100,2,   0.0199,3,-999,9,   0.0020,2,   0.0195,2,  -0.0009,4,    -999,    -999
33RR20080204,       I06S,      77,          1,         15,         15,2,20080301,       0222,   -65.4337,    31.6790,       4573,  1383.3,   0.4457,  34.6845,2,  34.6865,2,    210.6,2,   209.9,2,  117.30,2,   32.40,2,    0.00,2,    2.25,2,   0.404,2,   0.227,2,   0.026,2,  2260.9,2,  2357.7,2,   7.7781,2,    13.00,    -999,9,    -999,9,    -999,9,0.4463,2,-999,9,-999,9,-999,    -999,9,    -999,0.713,2,-999,9,-999,9,    -999,9,-999,9, 20080301,     0337, -65.4341,  31.6773,    -999,-999,9,     -999,9,     -999,9,     -999,9,     -999,9,     -999,9,     -999,9,-999,9,     -999,9,     -999,9,     -999,9,    -999,    -999
33RR20080204,       I06S,      77,          1,         14,         14,2,20080301,       0222,   -65.4337,    31.6790,       4573,  1485.2,   0.3886,  34.6807,2,  34.6837,2,    211.8,2,   211.9,2,  118.32,2,   32.45,2,    0.00,2,    2.25,2,   0.419,2,   0.248,2,   0.024,2,  2260.8,2,  2356.5,2,   7.7792,3,    13.00,    -999,9,    -999,9,    -999,9,0.3891,2,-999,9,-999,9,-999,    -999,9,    -999,0.73,2,-999,9,-999,9,    -999,9,-999,9, 20080301,     0334, -65.4341,  31.6773,    -999,-999,9,   0.0325,2,   0.1102,2,   0.0181,3,   0.0710,2,   0.0109,2,   0.0191,3,-999,9,   0.0024,2,   0.0207,2,  -0.0007,4,    -999,    -999
33RR20080204,       I06S,      77,          1,         13,         13,2,20080301,       0222,   -65.4337,    31.6790,       4573,  1585.3,   0.3582,  34.6793,2,  34.6845,2,    210.7,2,   211.9,2,  120.56,2,   32.49,2,    0.00,2,    2.26,2,   0.350,2,   0.207,2,   0.021,2,  2259.5,2,  2357.8,2,   7.7770,2,    13.00,    -999,9,    -999,9,    -999,9,0.3588,2,-999,9,-999,9,-999,    -999,9,    -999,0.693,2,-999,9,-999,9,    -999,9,-999,9, 20080301,     0332, -65.4341,  31.6772,    -999,-999,9,     -999,9,     -999,9,     -999,9,     -999,9,     -999,9,     -999,9,-999,9,     -999,9,     -999,9,     -999,9,    -999,    -999
33RR20080204,       I06S,      77,          1,         12,         12,2,20080301,       0222,   -65.4337,    31.6790,       4573,  1687.3,   0.3310,  34.6808,2,  34.6833,2,    211.0,2,   211.4,2,  122.20,2,   32.70,2,    0.00,2,    2.27,2,   0.295,2,   0.172,2,   0.009,2,  2258.9,2,  2359.1,2,   7.7767,2,    13.00,    -999,9,    -999,9,    -999,9,0.3325,2,-999,9,-999,9,-999,    -999,9,    -999,0.6,2,-999,9,-999,9,    -999,9,-999,9, 20080301,     0329, -65.4341,  31.6772,    -999,-999,9,   0.0326,2,   0.1105,2,   0.0181,3,   0.0711,2,   0.0109,2,   0.0192,3,-999,9,   0.0023,2,   0.0206,2,  -0.0006,4,    -999,    -999
33RR20080204,       I06S,      77,          1,         11,         11,2,20080301,       0222,   -65.4337,    31.6790,       4573,  1788.2,   0.2695,  34.6771,2,  34.6799,2,    212.9,2,   214.2,2,  122.20,2,   32.54,2,    0.00,2,    2.26,2,   0.347,2,   0.209,2,   0.021,2,  2306.0,4,  2358.3,2,   7.7779,3,    13.00,    -999,9,    -999,9,    -999,9,0.2712,2,-999,9,-999,9,-999,    -999,9,    -999,0.734,2,-999,9,-999,9,    -999,9,-999,9, 20080301,     0325, -65.4341,  31.6772,    -999,-999,9,     -999,9,     -999,9,     -999,9,     -999,9,     -999,9,     -999,9,-999,9,     -999,9,     -999,9,     -999,9,    -999,    -999
33RR20080204,       I06S,      77,          1,         10,         10,2,20080301,       0222,   -65.4337,    31.6790,       4573,  1990.2,   0.1964,  34.6727,2,  34.6750,2,    216.4,2,   217.2,2,  122.61,2,   32.54,2,    0.00,2,    2.26,2,   0.409,2,   0.241,2,   0.029,2,  2251.8,2,  2357.2,2,   7.7785,3,    13.00,    -999,9,    -999,9,    -999,9,0.1973,2,-999,9,-999,9,-999,    -999,9,    -999,0.791,2,-999,9,-999,9,    -999,9,-999,9, 20080301,     0321, -65.4341,  31.6773,    -999,-999,9,   0.0310,2,   0.1079,2,   0.0183,3,   0.0689,2,   0.0103,2,   0.0197,3,-999,9,   0.0021,2,   0.0196,2,  -0.0007,4,    -999,    -999
33RR20080204,       I06S,      77,          1,          9,          9,2,20080301,       0222,   -65.4337,    31.6790,       4573,  2284.4,   0.1080,  34.6707,2,  34.6720,2,    219.2,2,   220.2,2,  124.45,2,   32.54,2,    0.00,2,    2.26,2,   0.392,2,   0.227,2,   0.026,2,  2252.9,2,  2355.1,2,   7.7805,2,    13.00,    -999,9,    -999,9,    -999,9,0.1089,2,-999,9,-999,9,-999,    -999,9,    -999,0.796,2,-999,9,-999,9,    -999,9,-999,9, 20080301,     0315, -65.4341,  31.6773,    -999,-999,9,     -999,9,     -999,9,     -999,9,     -999,9,     -999,9,     -999,9,-999,9,     -999,9,     -999,9,     -999,9,    -999,    -999
33RR20080204,       I06S,      77,          1,          8,          8,2,20080301,       0222,   -65.4337,    31.6790,       4573,  2597.1,   0.0178,  34.6648,2,  34.6677,2,    224.6,2,   226.1,2,  123.23,2,   32.44,2,    0.00,2,    2.26,2,   0.562,2,   0.324,2,   0.031,2,  2248.8,2,  2356.1,2,   7.7729,4,    13.00,    -999,9,    -999,9,    -999,9,0.0186,2,-999,9,-999,9,-999,    -999,9,    -999,0.99,2,-999,9,-999,9,    -999,9,-999,9, 20080301,     0308, -65.4341,  31.6773,    -999,-999,9,   0.0309,2,   0.1054,2,   0.0182,3,   0.0670,2,   0.0103,2,   0.0193,3,-999,9,   0.0021,2,   0.0192,2,  -0.0007,4,    -999,    -999