BOTTLE,20220706CCHSIOAMB
EXPOCODE,SECT_ID,STNNBR,CASTNO,SAMPNO,BTLNBR,BTLNBR_FLAG_W,DATE,TIME,LATITUDE,LONGITUDE,DEPTH,CTDPRS,CTDTMP,CTDSAL,CTDSAL_FLAG_W,SALNTY,SALNTY_FLAG_W,CTDOXY,CTDOXY_FLAG_W,OXYGEN,OXYGEN_FLAG_W,SILCAT,SILCAT_FLAG_W,NITRAT,NITRAT_FLAG_W,NITRIT,NITRIT_FLAG_W,PHSPHT,PHSPHT_FLAG_W,CFC-11,CFC-11_FLAG_W,CFC-12,CFC-12_FLAG_W,CFC113,CFC113_FLAG_W,TCARBN,TCARBN_FLAG_W,ALKALI,ALKALI_FLAG_W,PH_SWS,PH_SWS_FLAG_W,PH_TMP,TRITUM,TRITUM_FLAG_W,HELIUM,HELIUM_FLAG_W,DELHE3,DELHE3_FLAG_W,REFTMP,REFTMP_FLAG_W,DELC13,DELC13_FLAG_W,DELC14,DELC14_FLAG_W,C14ERR,NEON,NEON_FLAG_W,NEONER,CCL4,CCL4_FLAG_W,ALUMIN,ALUMIN_FLAG_W,DELO18,DELO18_FLAG_W,DOC,DOC_FLAG_W,TDN,TDN_FLAG_W,BTL_DATE,BTL_TIME,BTL_LAT,BTL_LON,TRITER,DELSI30,DELSI30_FLAG_W,CDOM380,CDOM380_FLAG_W,CDOM325,CDOM325_FLAG_W,CDOMSL,CDOMSL_FLAG_W,CDOM340,CDOM340_FLAG_W,CDOM443,CDOM443_FLAG_W,CDOMSN,CDOMSN_FLAG_W,BLACKC,BLACKC_FLAG_W,CDOM490,CDOM490_FLAG_W,CDOM412,CDOM412_FLAG_W,CDOM555,CDOM555_FLAG_W,DELHER,HELIER
,,,,,,,,,,,METERS,DBAR,ITS-90,PSS-78,,PSS-78,,UMOL/KG,,UMOL/KG,,UMOL/KG,,UMOL/KG,,UMOL/KG,,UMOL/KG,,PMOL/KG,,PMOL/KG,,PMOL/KG,,UMOL/KG,,UMOL/KG,,,,DEG C,TU,,NMOL/KG,,PERCNT,,DEG C,,/MILLE,,/MILLE,,/MILLE,NMOL/KG,,NMOL/KG,PMOL/KG,,NMOL/L,,/MILLE,,UMOL/KG,,UMOL/KG,,,,,,TU,/MILLE,,1/M,,1/M,,1/NM,,1/M,,1/M,,1/NM,,,,1/M,,1/M,,1/M,,PERCNT,NMOL/KG
33RR20080204,       I06S,      35,          1,         36,         36,2,20080216,       0623,   -44.5000,    30.0000,       5338,     4.0,   9.4984,  34.0093,2,     -999,5,    287.1,2,   289.2,2,    1.14,2,   16.01,2,    0.22,2,    1.14,2,   4.026,2,   2.301,2,   0.377,2,  2098.0,6,  2271.3,2,   8.0245,2,    13.00,    -999,9,    -999,9,    -999,9,9.4964,2,-999,9,-999,9,-999,    -999,9,    -999,4.626,2,-999,9,-999,9,   51.02,2,-999,1, 20080216,     0837, -44.5001,  30.0000,    -999,-999,9,   0.0212,2,   0.0665,2,   0.0089,3,   0.0417,2,   0.0075,2,   0.0198,3,-999,9,   0.0011,2,   0.0150,2,  -0.0022,4,    -999,    -999
33RR20080204,       I06S,      35,          1,         35,         35,2,20080216,       0623,   -44.5000,    30.0000,       5338,    22.5,   9.2915,  34.0140,2,     -999,5,    290.1,2,   289.5,2,    1.13,2,   15.92,2,    0.21,2,    1.15,2,   4.064,2,   2.291,2,   0.380,2,    -999,5,  2272.2,2,   8.0261,2,    13.00,    -999,9,    -999,9,    -999,9,9.2788,2,-999,9,-999,9,-999,    -999,9,    -999,4.594,2,-999,9,-999,9,   56.00,2,-999,1, 20080216,     0835, -44.5001,  30.0000,    -999,-999,9,   0.0208,2,   0.0679,2,   0.0090,3,   0.0424,2,   0.0070,2,   0.0209,3,-999,9,   0.0011,2,   0.0143,2,  -0.0021,4,    -999,    -999
33RR20080204,       I06S,      35,          1,         34,         34,2,20080216,       0623,   -44.5000,    30.0000,       5338,    36.5,   8.7333,  34.0254,2,     -999,5,    291.7,2,   291.8,2,    1.31,2,   16.06,2,    0.18,2,    1.15,2,   4.110,2,   2.348,2,   0.368,2,  2099.3,2,  2273.9,2,   8.0257,2,    13.00,    -999,9,    -999,9,    -999,9,8.734,2,-999,9,-999,9,-999,    -999,9,    -999,4.519,2,-999,9,-999,9,   54.15,2,-999,1, 20080216,     0834, -44.5000,  30.0000,    -999,-999,9,   0.0202,2,   0.0706,2,   0.0094,3,   0.0449,2,   0.0059,2,   0.0226,3,-999,9,   0.0000,4,   0.0132,2,  -0.0029,4,    -999,    -999
33RR20080204,       I06S,      35,          1,         33,         33,2,20080216,       0623,   -44.5000,    30.0000,       5338,    73.0,  10.1239,  34.6091,2,     -999,5,    263.3,2,   259.2,2,    3.51,2,   13.43,2,    0.18,2,    1.00,2,   3.648,2,   2.097,2,   0.298,2,  2115.7,2,  2295.6,2,   8.0250,2,    13.00,    -999,9,    -999,9,    -999,9,10.1497,2,-999,9,-999,9,-999,    -999,9,    -999,3.679,2,-999,9,-999,9,   55.51,2,-999,1, 20080216,     0832, -44.5000,  30.0000,    -999,-999,9,   0.0229,2,   0.0898,2,   0.0206,2,   0.0611,2,   0.0063,2,   0.0246,2,-999,9,   0.0006,3,   0.0145,2,  -0.0023,4,    -999,    -999
33RR20080204,       I06S,      35,          1,         32,         32,2,20080216,       0623,   -44.5000,    30.0000,       5338,    98.1,  10.2048,  34.7302,2,     -999,5,    249.3,2,   246.1,2,    4.79,2,   13.83,2,    0.08,2,    1.02,2,   3.567,2,   2.033,2,   0.303,2,  2125.8,2,  2299.0,2,   8.0093,3,    13.00,    -999,9,    -999,9,    -999,9,10.2109,2,-999,9,-999,9,-999,    -999,9,    -999,3.503,2,-999,9,-999,9,   57.07,2,-999,1, 20080216,     0831, -44.5000,  30.0000,    -999,-999,9,   0.0237,2,   0.0824,2,   0.0103,3,   0.0535,2,   0.0069,2,   0.0221,3,-999,9,   0.0012,2,   0.0155,2,  -0.0020,4,    -999,    -999
33RR20080204,       I06S,      35,          1,         31,         31,2,20080216,       0623,   -44.5000,    30.0000,       5338,   147.2,   9.0457,  34.5426,2,     -999,5,    252.6,2,   256.5,2,    4.97,2,   15.79,2,    0.10,2,    1.15,2,   3.797,2,   2.166,2,   0.299,2,  2127.1,2,  2289.5,2,   7.9891,2,    13.00,    -999,9,    -999,9,    -999,9,9.049,2,-999,9,-999,9,-999,    -999,9,    -999,3.7,2,-999,9,-999,9,   48.49,2,-999,1, 20080216,     0829, -44.5000,  30.0000,    -999,-999,9,   0.0335,3,   0.0960,3,   0.0026,4,   0.0601,3,   0.0584,3,   0.0022,4,-999,9,   0.0486,3,   0.0367,3,   0.0498,3,    -999,    -999
33RR20080204,       I06S,      35,          1,         30,         30,2,20080216,       0623,   -44.5000,    30.0000,       5338,   196.6,   8.6457,  34.5179,2,     -999,5,    261.3,2,   254.4,2,    5.69,2,   16.72,2,    0.02,2,    1.20,2,   3.784,2,   2.145,2,   0.299,2,    -999,9,  2288.1,2,   7.9773,3,    13.00,    -999,9,    -999,9,    -999,9,8.6558,2,-999,9,-999,9,-999,    -999,9,    -999,3.661,2,-999,9,-999,9,   52.39,3,-999,1, 20080216,     0826, -44.5000,  30.0000,    -999,-999,9,   0.0210,2,   0.0776,2,   0.0198,2,   0.0498,2,   0.0059,2,   0.0234,2,-999,9,   0.0001,4,   0.0132,2,  -0.0026,4,    -999,    -999
33RR20080204,       I06S,      35,          1,         29,         29,2,20080216,       0623,   -44.5000,    30.0000,       5338,   238.4,   8.5588,  34.5295,2,     -999,5,    244.5,2,   243.6,2,    6.98,2,   17.85,2,    0.01,2,    1.27,2,   3.654,2,   2.033,2,   0.271,2,  2133.9,2,  2290.4,2,   7.9620,2,    13.00,    -999,9,    -999,9,    -999,9,8.5555,2,-999,9,-999,9,-999,    -999,9,    -999,3.464,2,-999,9,-999,9,   48.78,2,-999,1, 20080216,     0824, -44.5000,  30.0000,    -999,-999,9,   0.0192,2,   0.0737,2,   0.0204,2,   0.0460,2,   0.0048,2,   0.0247,2,-999,9,  -0.0002,4,   0.0119,2,  -0.0025,4,    -999,    -999
33RR20080204,       I06S,      35,          1,         28,         28,2,20080216,       0623,   -44.5000,    30.0000,       5338,   288.1,   7.8754,  34.4604,2,     -999,5,    263.9,2,   245.7,2,    7.71,2,   19.22,2,    0.01,2,    1.36,2,   3.696,2,   2.052,2,   0.288,2,    -999,9,  2287.9,2,   7.9478,2,    13.00,    -999,9,    -999,9,    -999,9,7.8772,2,-999,9,-999,9,-999,    -999,9,    -999,3.572,2,-999,9,-999,9,   48.20,2,-999,1, 20080216,     0822, -44.5000,  30.0000,    -999,-999,9,     -999,9,     -999,9,     -999,9,     -999,9,     -999,9,     -999,9,-999,9,     -999,9,     -999,9,     -999,9,    -999,    -999
33RR20080204,       I06S,      35,          1,         27,         27,2,20080216,       0623,   -44.5000,    30.0000,       5338,   337.6,   7.8836,  34.5362,2,     -999,5,    214.9,2,   214.5,2,   11.77,2,   22.01,2,    0.01,2,    1.52,2,   3.239,2,   1.732,2,   0.214,2,  2153.9,2,  2291.9,2,   7.9076,2,    13.00,    -999,9,    -999,9,    -999,9,7.8823,2,-999,9,-999,9,-999,    -999,9,    -999,3.07,2,-999,9,-999,9,   50.63,2,-999,1, 20080216,     0820, -44.5000,  30.0000,    -999,-999,9,   0.0218,2,   0.0805,2,   0.0198,2,   0.0501,2,   0.0055,2,   0.0238,2,-999,9,  -0.0003,4,   0.0134,2,  -0.0028,4,    -999,    -999
33RR20080204,       I06S,      35,          1,         26,         26,2,20080216,       0623,   -44.5000,    30.0000,       5338,   387.0,   7.3126,  34.5198,2,     -999,5,    204.3,2,   201.5,2,   17.50,4,   25.69,4,    0.01,4,    1.78,4,   2.830,2,   1.480,2,   0.186,2,    -999,9,  2294.6,2,   7.8788,2,    13.00,    -999,9,    -999,9,    -999,9,7.3077,2,-999,9,-999,9,-999,    -999,9,    -999,2.817,2,-999,9,-999,9,    -999,9,-999,9, 20080216,     0818, -44.5000,  30.0000,    -999,-999,1,     -999,9,     -999,9,     -999,9,     -999,9,     -999,9,     -999,9,-999,9,     -999,9,     -999,9,     -999,9,    -999,    -999
33RR20080204,       I06S,      35,          1,         25,         25,2,20080216,       0623,   -44.5000,    30.0000,       5338,   437.1,   6.6003,  34.4395,2,     -999,5,    206.8,2,   209.9,2,   17.49,2,   25.69,2,    0.01,2,    1.78,2,   3.027,2,   1.594,2,   0.228,2,  2171.1,2,  2291.2,2,   7.8665,2,    13.00,    -999,9,    -999,9,    -999,9,6.5962,2,-999,9,-999,9,-999,    -999,9,    -999,2.774,2,-999,9,-999,9,   47.41,2,-999,1, 20080216,     0816, -44.5000,  29.9999,    -999,-999,9,   0.0220,2,   0.0786,2,   0.0193,2,   0.0490,2,   0.0056,2,   0.0232,2,-999,9,  -0.0004,4,   0.0137,2,  -0.0029,4,    -999,    -999
33RR20080204,       I06S,      35,          1,         24,         24,2,20080216,       0623,   -44.5000,    30.0000,       5338,   486.8,   6.0689,  34.4109,2,     -999,5,    210.2,2,   209.8,2,   20.64,2,   26.87,2,    0.01,2,    1.86,2,   2.927,2,   1.539,2,   0.218,2,    -999,9,  2292.4,2,   7.8559,2,    13.00,    -999,9,    -999,9,    -999,9,6.0686,2,-999,9,-999,9,-999,    -999,9,    -999,3.544,2,-999,9,-999,9,    -999,9,-999,9, 20080216,     0814, -44.5000,  30.0000,    -999,-999,9,     -999,9,     -999,9,     -999,9,     -999,9,     -999,9,     -999,9,-999,9,     -999,9,     -999,9,     -999,9,    -999,    -999
33RR20080204,       I06S,      35,          1,         23,         23,2,20080216,       0623,   -44.5000,    30.0000,       5338,   566.0,   5.3205,  34.3779,2,     -999,5,    211.3,2,   209.9,2,   25.83,2,   28.52,2,    0.00,2,    1.97,2,   2.657,2,   1.367,2,   0.195,2,  2183.9,2,  2296.7,2,   7.8401,3,    13.00,    -999,9,    -999,9,    -999,9,5.3203,2,-999,9,-999,9,-999,    -999,9,    -999,3.256,2,-999,9,-999,9,   47.61,2,-999,1, 20080216,     0811, -44.5000,  30.0000,    -999,-999,1,   0.0216,2,   0.0792,2,   0.0196,2,   0.0481,2,   0.0052,2,   0.0240,2,-999,9,  -0.0006,4,   0.0133,2,  -0.0030,4,    -999,    -999
33RR20080204,       I06S,      35,          1,         22,         22,2,20080216,       0623,   -44.5000,    30.0000,       5338,   665.9,   4.3246,  34.3108,2,     -999,5,    218.3,2,   219.2,2,   28.98,2,   29.81,2,    0.00,2,    2.06,2,   2.771,2,   1.408,2,   0.210,2,    -999,9,  2296.2,2,   7.8279,2,    13.00,    -999,9,    -999,9,    -999,9,4.3237,2,-999,9,-999,9,-999,    -999,9,    -999,3.271,2,-999,9,-999,9,    -999,9,-999,9, 20080216,     0808, -44.5000,  30.0000,    -999,-999,9,     -999,9,     -999,9,     -999,9,     -999,9,     -999,9,     -999,9,-999,9,     -999,9,     -999,9,     -999,9,    -999,    -999
33RR20080204,       I06S,      35,          1,         21,         21,2,20080216,       0623,   -44.5000,    30.0000,       5338,   768.7,   3.9535,  34.3335,2,     -999,5,    207.1,2,   209.9,2,   35.50,2,   31.10,2,    0.00,2,    2.15,2,   2.354,6,   1.177,6,   0.168,6,    -999,9,  2300.8,2,   7.8095,2,    13.00,    -999,9,    -999,9,    -999,9,3.9542,2,-999,9,-999,9,-999,    -999,9,    -999,2.8615,6,-999,9,-999,9,   48.88,3,-999,1, 20080216,     0805, -44.5000,  30.0000,    -999,-999,1,   0.0246,2,   0.0856,2,   0.0181,2,   0.0532,2,   0.0073,2,   0.0221,3,-999,9,   0.0003,4,   0.0162,2,  -0.0025,4,    -999,    -999
33RR20080204,       I06S,      35,          1,         20,         20,2,20080216,       0623,   -44.5000,    30.0000,       5338,   867.0,   3.6631,  34.3776,2,     -999,5,    198.6,2,   197.4,2,   43.71,2,   32.29,2,    0.00,2,    2.23,2,   1.807,2,   0.891,2,   0.140,2,    -999,9,  2309.2,2,   7.7904,2,    13.00,    -999,9,    -999,9,    -999,9,3.6632,2,-999,9,-999,9,-999,    -999,9,    -999,2.371,2,-999,9,-999,9,    -999,9,-999,9, 20080216,     0802, -44.5000,  30.0000,    -999,-999,9,     -999,9,     -999,9,     -999,9,     -999,9,     -999,9,     -999,9,-999,9,     -999,9,     -999,9,     -999,9,    -999,    -999
33RR20080204,       I06S,      35,          1,         19,         19,2,20080216,       0623,   -44.5000,    30.0000,       5338,   972.5,   3.4819,  34.4253,2,     -999,5,    186.9,2,   187.2,2,   50.63,2,   33.07,2,    0.00,2,    2.29,2,   1.314,2,   0.646,2,   0.084,2,  2223.5,2,  2315.2,2,   7.7766,2,    13.00,    -999,9,    -999,9,    -999,9,3.48,2,-999,9,-999,9,-999,    -999,9,    -999,1.772,2,-999,9,-999,9,   41.95,2,-999,1, 20080216,     0759, -44.5000,  30.0000,    -999,-999,1,   0.0268,2,   0.0922,2,   0.0185,2,   0.0577,2,   0.0078,2,   0.0220,2,-999,9,   0.0006,4,   0.0168,2,  -0.0016,4,    -999,    -999
33RR20080204,       I06S,      35,          1,         18,         18,2,20080216,       0623,   -44.5000,    30.0000,       5338,  1174.0,   2.9274,  34.4977,2,     -999,5,    178.3,2,   178.7,2,   61.14,2,   33.74,2,    0.00,2,    2.33,2,   0.742,2,   0.384,2,   0.045,2,  2242.4,2,  2325.5,2,   7.7605,2,    13.00,    -999,9,    -999,9,    -999,9,2.9276,2,-999,9,-999,9,-999,    -999,9,    -999,1.258,2,-999,9,-999,9,   41.07,2,-999,1, 20080216,     0754, -44.5000,  30.0000,    -999,-999,9,   0.0297,2,   0.1002,2,   0.0180,2,   0.0634,2,   0.0094,2,   0.0214,3,-999,9,   0.0013,2,   0.0190,2,  -0.0017,4,    -999,    -999
33RR20080204,       I06S,      35,          1,         17,         17,2,20080216,       0623,   -44.5000,    30.0000,       5338,  1383.1,   2.8015,  34.6007,2,     -999,5,    175.6,2,   176.2,2,   66.59,2,   32.97,2,    0.00,2,    2.27,2,   0.340,2,   0.180,2,   0.021,2,    -999,9,  2334.5,2,   7.7678,2,    13.00,    -999,9,    -999,9,    -999,9,2.8022,2,-999,9,-999,9,-999,    -999,9,    -999,0.81,2,-999,9,-999,9,   39.02,2,-999,1, 20080216,     0749, -44.5000,  30.0000,    -999,-999,9,   0.0300,2,   0.1029,2,   0.0187,2,   0.0655,2,   0.0091,2,   0.0219,2,-999,9,   0.0013,2,   0.0184,2,  -0.0017,4,    -999,    -999
33RR20080204,       I06S,      35,          1,         16,         16,2,20080216,       0623,   -44.5000,    30.0000,       5338,  1582.4,   2.7050,  34.6762,2,     -999,5,    181.8,2,   182.0,2,   67.13,2,   31.36,2,    0.00,2,    2.17,2,   0.186,2,   0.104,2,   0.013,2,  2243.2,2,  2337.4,2,   7.7866,2,    13.00,    -999,9,    -999,9,    -999,9,2.7054,2,-999,9,-999,9,-999,    -999,9,    -999,0.679,2,-999,9,-999,9,   44.78,2,-999,1, 20080216,     0744, -44.5000,  30.0000,    -999,-999,9,   0.0320,2,   0.1071,2,   0.0183,2,   0.0688,2,   0.0101,2,   0.0213,2,-999,9,   0.0018,2,   0.0200,2,  -0.0007,4,    -999,    -999
33RR20080204,       I06S,      35,          1,         15,         15,2,20080216,       0623,   -44.5000,    30.0000,       5338,  1783.5,   2.6583,  34.7393,2,     -999,5,    192.0,2,   192.0,2,   64.85,2,   29.72,2,    0.00,2,    2.04,2,   0.106,2,   0.061,2,   0.014,2,    -999,9,  2338.5,2,   7.8113,2,    13.00,    -999,9,    -999,9,    -999,9,2.6592,2,-999,9,-999,9,-999,    -999,9,    -999,0.505,2,-999,9,-999,9,    -999,9,-999,9, 20080216,     0740, -44.4999,  30.0000,    -999,-999,9,     -999,9,     -999,9,     -999,9,     -999,9,     -999,9,     -999,9,-999,9,     -999,9,     -999,9,     -999,9,    -999,    -999
33RR20080204,       I06S,      35,          1,         14,         14,2,20080216,       0623,   -44.5000,    30.0000,       5338,  1988.3,   2.5689,  34.7759,2,     -999,5,    200.5,2,   200.7,2,   64.09,2,   28.49,2,    0.00,2,    1.95,2,   0.073,2,   0.040,2,   0.017,2,    -999,9,  2339.6,2,     -999,5,    13.00,    -999,9,    -999,9,    -999,9,2.5687,2,-999,9,-999,9,-999,    -999,9,    -999,0.5,2,-999,9,-999,9,   40.00,2,-999,1, 20080216,     0735, -44.5000,  30.0000,    -999,-999,9,   0.0290,2,   0.1037,2,   0.0198,2,   0.0664,2,   0.0081,2,   0.0228,2,-999,9,   0.0010,2,   0.0171,2,  -0.0017,4,    -999,    -999
33RR20080204,       I06S,      35,          1,         13,         13,2,20080216,       0623,   -44.5000,    30.0000,       5338,  2281.3,   2.4136,  34.8029,2,     -999,5,    209.9,2,   210.1,2,   64.46,2,   27.36,2,    0.00,2,    1.86,2,   0.064,2,   0.044,2,   0.041,2,    -999,9,  2341.9,2,   7.8471,2,    13.00,    -999,9,    -999,9,    -999,9,2.4139,2,-999,9,-999,9,-999,    -999,9,    -999,0.609,2,-999,9,-999,9,    -999,9,-999,9, 20080216,     0729, -44.5000,  30.0000,    -999,-999,9,     -999,9,     -999,9,     -999,9,     -999,9,     -999,9,     -999,9,-999,9,     -999,9,     -999,9,     -999,9,    -999,    -999
33RR20080204,       I06S,      35,          1,         12,         12,2,20080216,       0623,   -44.5000,    30.0000,       5338,  2595.4,   2.2421,  34.8117,2,     -999,5,    216.5,2,   216.7,2,   66.70,2,   26.95,2,    0.00,2,    1.83,2,   0.045,2,   0.024,2,   0.000,2,  2229.3,2,  2344.4,2,   7.8564,2,    13.00,    -999,9,    -999,9,    -999,9,2.2429,2,-999,9,-999,9,-999,    -999,9,    -999,0.344,2,-999,9,-999,9,   40.49,2,-999,1, 20080216,     0723, -44.5000,  30.0000,    -999,-999,9,   0.0291,2,   0.1050,2,   0.0199,2,   0.0675,2,   0.0084,2,   0.0229,2,-999,9,   0.0012,2,   0.0172,2,  -0.0015,4,    -999,    -999
33RR20080204,       I06S,      35,          1,         11,         11,2,20080216,       0623,   -44.5000,    30.0000,       5338,  2898.7,   2.0241,  34.8039,2,     -999,5,    217.6,2,   216.5,2,   73.67,2,   27.41,2,    0.00,2,    1.87,2,   0.053,2,   0.033,2,   0.000,2,    -999,9,  2348.5,2,   7.8529,2,    13.00,    -999,9,    -999,9,    -999,9,2.0246,2,-999,9,-999,9,-999,    -999,9,    -999,0.396,2,-999,9,-999,9,    -999,9,-999,9, 20080216,     0717, -44.5000,  30.0000,    -999,-999,9,     -999,9,     -999,9,     -999,9,     -999,9,     -999,9,     -999,9,-999,9,     -999,9,     -999,9,     -999,9,    -999,    -999
33RR20080204,       I06S,      35,          1,         10,         10,2,20080216,       0623,   -44.5000,    30.0000,       5338,  3201.0,   1.7092,  34.7759,2,     -999,5,    213.9,2,   213.1,2,   85.94,2,   28.81,2,    0.00,2,    1.97,2,   0.076,2,   0.041,2,   0.004,2,    -999,9,  2353.7,2,   7.8387,4,    13.00,    -999,9,    -999,9,    -999,9,1.7083,2,-999,9,-999,9,-999,    -999,9,    -999,0.432,2,-999,9,-999,9,   40.10,2,-999,1, 20080216,     0711, -44.5000,  30.0000,    -999,-999,9,   0.0291,2,   0.1046,2,   0.0198,2,   0.0667,2,   0.0083,2,   0.0229,2,-999,9,   0.0010,2,   0.0172,2,  -0.0017,4,    -999,    -999
33RR20080204,       I06S,      35,          1,          9,          9,2,20080216,       0623,   -44.5000,    30.0000,       5338,  3504.6,   1.4035,  34.7566,2,     -999,5,    214.7,2,   214.8,2,   95.60,2,   29.63,2,    0.00,2,    2.03,2,   0.076,2,   0.041,2,   0.000,2,    -999,9,  2358.7,2,   7.8328,2,    13.00,    -999,9,    -999,9,    -999,9,1.403,2,-999,9,-999,9,-999,    -999,9,    -999,0.524,2,-999,9,-999,9,    -999,9,-999,9, 20080216,     0705, -44.5000,  30.0000,    -999,-999,9,     -999,9,     -999,9,     -999,9,     -999,9,     -999,9,     -999,9,-999,9,     -999,9,     -999,9,     -999,9,    -999,    -999
33RR20080204,       I06S,      35,          1,          8,          8,2,20080216,       0623,   -44.5000,    30.0000,       5338,  3821.1,   1.1504,  34.7382,2,     -999,5,    215.7,2,   215.4,2,  104.13,2,   30.40,2,    0.00,2,    2.09,2,   0.092,2,   0.049,2,   0.007,2,  2256.0,2,  2362.2,2,   7.8259,2,    13.00,    -999,9,    -999,9,    -999,9,1.1507,2,-999,9,-999,9,-999,    -999,9,    -999,0.599,2,-999,9,-999,9,   41.85,3,-999,1, 20080216,     0659, -44.5000,  29.9999,    -999,-999,9,   0.0323,2,   0.1105,2,   0.0186,2,   0.0720,2,   0.0106,2,   0.0215,2,-999,9,   0.0021,2,   0.0200,2,  -0.0011,4,    -999,    -999