BOTTLE,20220706CCHSIOAMB
EXPOCODE,SECT_ID,STNNBR,CASTNO,SAMPNO,BTLNBR,BTLNBR_FLAG_W,DATE,TIME,LATITUDE,LONGITUDE,DEPTH,CTDPRS,CTDTMP,CTDSAL,CTDSAL_FLAG_W,SALNTY,SALNTY_FLAG_W,CTDOXY,CTDOXY_FLAG_W,OXYGEN,OXYGEN_FLAG_W,SILCAT,SILCAT_FLAG_W,NITRAT,NITRAT_FLAG_W,NITRIT,NITRIT_FLAG_W,PHSPHT,PHSPHT_FLAG_W,CFC-11,CFC-11_FLAG_W,CFC-12,CFC-12_FLAG_W,CFC113,CFC113_FLAG_W,TCARBN,TCARBN_FLAG_W,ALKALI,ALKALI_FLAG_W,PH_SWS,PH_SWS_FLAG_W,PH_TMP,TRITUM,TRITUM_FLAG_W,HELIUM,HELIUM_FLAG_W,DELHE3,DELHE3_FLAG_W,REFTMP,REFTMP_FLAG_W,DELC13,DELC13_FLAG_W,DELC14,DELC14_FLAG_W,C14ERR,NEON,NEON_FLAG_W,NEONER,CCL4,CCL4_FLAG_W,ALUMIN,ALUMIN_FLAG_W,DELO18,DELO18_FLAG_W,DOC,DOC_FLAG_W,TDN,TDN_FLAG_W,BTL_DATE,BTL_TIME,BTL_LAT,BTL_LON,TRITER,DELSI30,DELSI30_FLAG_W,CDOM380,CDOM380_FLAG_W,CDOM325,CDOM325_FLAG_W,CDOMSL,CDOMSL_FLAG_W,CDOM340,CDOM340_FLAG_W,CDOM443,CDOM443_FLAG_W,CDOMSN,CDOMSN_FLAG_W,BLACKC,BLACKC_FLAG_W,CDOM490,CDOM490_FLAG_W,CDOM412,CDOM412_FLAG_W,CDOM555,CDOM555_FLAG_W,DELHER,HELIER
,,,,,,,,,,,METERS,DBAR,ITS-90,PSS-78,,PSS-78,,UMOL/KG,,UMOL/KG,,UMOL/KG,,UMOL/KG,,UMOL/KG,,UMOL/KG,,PMOL/KG,,PMOL/KG,,PMOL/KG,,UMOL/KG,,UMOL/KG,,,,DEG C,TU,,NMOL/KG,,PERCNT,,DEG C,,/MILLE,,/MILLE,,/MILLE,NMOL/KG,,NMOL/KG,PMOL/KG,,NMOL/L,,/MILLE,,UMOL/KG,,UMOL/KG,,,,,,TU,/MILLE,,1/M,,1/M,,1/NM,,1/M,,1/M,,1/NM,,,,1/M,,1/M,,1/M,,PERCNT,NMOL/KG
33RR20080204,       I06S,      52,          2,         36,         36,2,20080222,       0014,   -53.0008,    30.0010,       5552,     8.2,   2.8298,  33.8596,2,  33.8611,2,    323.8,2,   323.4,2,    9.04,2,   23.00,2,    0.25,2,    1.55,2,   5.386,2,   2.983,2,   0.485,2,  2144.7,6,  2280.6,2,     -999,9,     -999,    -999,9,   1.801,2,   -1.30,2,2.829,2,-999,9,-999,9,-999,   7.920,2,   0.030,-999,9,-999,9,-0.19,2,    -999,9,-999,9, 20080222,     0236, -53.0009,  30.0022,    -999,-999,9,     -999,9,     -999,9,     -999,9,     -999,9,     -999,9,     -999,9,-999,9,     -999,9,     -999,9,     -999,9,    0.15,   0.007
33RR20080204,       I06S,      52,          2,         35,         35,2,20080222,       0014,   -53.0008,    30.0010,       5552,    25.9,   2.8297,  33.8596,2,  33.8611,2,    324.2,2,   323.7,2,    9.04,2,   23.00,2,    0.25,2,    1.55,2,   5.350,2,   2.967,2,   0.482,2,    -999,9,  2281.5,2,     -999,9,     -999,    -999,9,    -999,9,    -999,9,2.8278,2,-999,9,-999,9,-999,    -999,9,    -999,-999,9,-999,9,-0.24,2,    -999,9,-999,9, 20080222,     0235, -53.0008,  30.0021,    -999,-999,9,     -999,9,     -999,9,     -999,9,     -999,9,     -999,9,     -999,9,-999,9,     -999,9,     -999,9,     -999,9,    -999,    -999
33RR20080204,       I06S,      52,          2,         34,         34,2,20080222,       0014,   -53.0008,    30.0010,       5552,    45.9,   2.8381,  33.8595,2,  33.8609,2,    324.4,2,   323.2,2,    8.84,2,   23.00,2,    0.25,2,    1.55,2,   5.420,2,   2.983,2,   0.495,2,    -999,9,  2281.6,2,     -999,9,     -999,    -999,9,    -999,9,    -999,9,2.8376,2,-999,9,-999,9,-999,    -999,9,    -999,-999,9,-999,9,-0.23,2,    -999,9,-999,9, 20080222,     0234, -53.0007,  30.0018,    -999,-999,9,     -999,9,     -999,9,     -999,9,     -999,9,     -999,9,     -999,9,-999,9,     -999,9,     -999,9,     -999,9,    -999,    -999
33RR20080204,       I06S,      52,          2,         33,         33,2,20080222,       0014,   -53.0008,    30.0010,       5552,    81.5,   2.8411,  33.8595,2,  33.8611,2,    324.5,2,   323.2,2,    9.03,2,   23.05,2,    0.25,2,    1.56,2,   5.371,2,   2.983,2,   0.485,2,    -999,9,  2281.9,2,     -999,9,     -999,    -999,9,    -999,9,    -999,9,2.8379,2,-999,9,-999,9,-999,    -999,9,    -999,-999,9,-999,9,-0.29,2,    -999,9,-999,9, 20080222,     0232, -53.0007,  30.0014,    -999,-999,9,     -999,9,     -999,9,     -999,9,     -999,9,     -999,9,     -999,9,-999,9,     -999,9,     -999,9,     -999,9,    -999,    -999
33RR20080204,       I06S,      52,          2,         32,         32,2,20080222,       0014,   -53.0008,    30.0010,       5552,   107.4,   1.3121,  33.9192,2,  33.9196,2,    316.7,2,   323.0,2,   32.88,2,   26.59,2,    0.25,2,    1.90,2,   5.757,2,   3.158,2,   0.516,2,    -999,9,  2289.1,2,     -999,9,     -999,    -999,9,   1.808,2,   -1.48,2,1.3291,2,-999,9,-999,9,-999,   8.041,2,   0.031,-999,9,-999,9,-0.24,2,    -999,9,-999,9, 20080222,     0230, -53.0007,  30.0014,    -999,-999,9,     -999,9,     -999,9,     -999,9,     -999,9,     -999,9,     -999,9,-999,9,     -999,9,     -999,9,     -999,9,    0.15,   0.007
33RR20080204,       I06S,      52,          2,         31,         31,2,20080222,       0014,   -53.0008,    30.0010,       5552,   155.7,   1.4757,  34.0540,2,  34.0568,2,    286.5,2,   278.1,2,   36.43,2,   30.25,2,    0.06,2,    2.09,2,   4.665,2,   2.549,2,   0.398,2,    -999,9,  2289.4,2,     -999,9,     -999,    -999,9,    -999,9,    -999,9,1.4804,2,-999,9,-999,9,-999,    -999,9,    -999,-999,9,-999,9,-0.14,2,    -999,9,-999,9, 20080222,     0228, -53.0007,  30.0015,    -999,-999,9,     -999,9,     -999,9,     -999,9,     -999,9,     -999,9,     -999,9,-999,9,     -999,9,     -999,9,     -999,9,    -999,    -999
33RR20080204,       I06S,      52,          2,         30,         30,2,20080222,       0014,   -53.0008,    30.0010,       5552,   204.6,   1.8387,  34.1794,2,  34.1800,2,    239.8,2,   246.3,2,   43.56,2,   32.23,2,    0.02,2,    2.23,2,   3.621,2,   1.966,2,   0.325,2,    -999,9,    -999,9,     -999,9,     -999,    -999,9,   1.829,2,    1.92,2,1.8377,2,-999,9,-999,9,-999,   8.028,2,   0.031,-999,9,-999,9,-0.06,2,    -999,9,-999,9, 20080222,     0226, -53.0006,  30.0014,    -999,-999,1,     -999,9,     -999,9,     -999,9,     -999,9,     -999,9,     -999,9,-999,9,     -999,9,     -999,9,     -999,9,    0.15,   0.007
33RR20080204,       I06S,      52,          2,         29,         29,2,20080222,       0014,   -53.0008,    30.0010,       5552,   255.4,   2.1794,  34.2835,2,  34.2847,2,    238.3,2,   217.2,2,   50.90,2,   33.64,2,    0.02,2,    2.32,2,   2.657,2,   1.392,2,   0.224,2,    -999,9,  2304.5,2,     -999,9,     -999,    -999,9,    -999,9,    -999,9,2.176,2,-999,9,-999,9,-999,    -999,9,    -999,-999,9,-999,9,-999,9,    -999,9,-999,9, 20080222,     0225, -53.0006,  30.0011,    -999,-999,9,     -999,9,     -999,9,     -999,9,     -999,9,     -999,9,     -999,9,-999,9,     -999,9,     -999,9,     -999,9,    -999,    -999
33RR20080204,       I06S,      52,          2,         28,         28,2,20080222,       0014,   -53.0008,    30.0010,       5552,   305.8,   1.5483,  34.3049,2,  34.3051,2,    198.7,2,   233.7,2,   59.40,2,   33.20,2,    0.02,2,    2.30,2,   3.032,2,   1.662,2,   0.260,2,    -999,9,    -999,9,     -999,9,     -999,    -999,9,   1.834,2,    4.09,2,1.5503,2,-999,9,-999,9,-999,   8.073,2,   0.031,-999,9,-999,9,-0.06,2,    -999,9,-999,9, 20080222,     0222, -53.0006,  30.0010,    -999,-999,9,     -999,9,     -999,9,     -999,9,     -999,9,     -999,9,     -999,9,-999,9,     -999,9,     -999,9,     -999,9,    0.15,   0.007
33RR20080204,       I06S,      52,          2,         27,         27,2,20080222,       0014,   -53.0008,    30.0010,       5552,   358.0,   2.2881,  34.4448,2,  34.4466,2,    185.3,2,   181.7,2,   65.64,2,   34.96,2,    0.01,2,    2.42,2,   1.365,2,   0.712,2,   0.103,2,    -999,9,  2319.6,2,     -999,9,     -999,    -999,9,    -999,9,    -999,9,2.2863,2,-999,9,-999,9,-999,    -999,9,    -999,-999,9,-999,9,-999,9,    -999,9,-999,9, 20080222,     0219, -53.0005,  30.0009,    -999,-999,9,     -999,9,     -999,9,     -999,9,     -999,9,     -999,9,     -999,9,-999,9,     -999,9,     -999,9,     -999,9,    -999,    -999
33RR20080204,       I06S,      52,          2,         26,         26,2,20080222,       0014,   -53.0008,    30.0010,       5552,   406.4,   2.3290,  34.4829,2,  34.4835,2,    180.9,2,   177.5,2,   68.29,2,   34.81,2,    0.01,2,    2.41,2,   1.085,2,   0.563,2,   0.088,2,    -999,9,    -999,9,     -999,9,     -999,    -999,9,   1.832,2,    7.94,2,2.3284,2,-999,9,-999,9,-999,   7.961,2,   0.030,-999,9,-999,9,0.02,2,    -999,9,-999,9, 20080222,     0216, -53.0006,  30.0012,    -999,-999,1,     -999,9,     -999,9,     -999,9,     -999,9,     -999,9,     -999,9,-999,9,     -999,9,     -999,9,     -999,9,    0.15,   0.007
33RR20080204,       I06S,      52,          2,         25,         25,2,20080222,       0014,   -53.0008,    30.0010,       5552,   456.2,   2.2165,  34.5089,2,  34.5074,2,    183.1,2,   178.0,2,   71.33,2,   34.72,2,    0.00,2,    2.40,2,   1.103,2,   0.571,2,   0.097,2,    -999,9,  2327.0,2,     -999,9,     -999,    -999,9,    -999,9,    -999,9,2.2056,2,-999,9,-999,9,-999,    -999,9,    -999,-999,9,-999,9,-999,9,    -999,9,-999,9, 20080222,     0213, -53.0007,  30.0013,    -999,-999,9,     -999,9,     -999,9,     -999,9,     -999,9,     -999,9,     -999,9,-999,9,     -999,9,     -999,9,     -999,9,    -999,    -999
33RR20080204,       I06S,      52,          2,         24,         24,2,20080222,       0014,   -53.0008,    30.0010,       5552,   506.6,   2.2485,  34.5445,2,  34.5448,2,    186.3,2,   176.3,2,   73.41,2,   34.42,2,    0.00,2,    2.39,2,   0.860,2,   0.440,2,   0.065,2,    -999,9,    -999,9,     -999,9,     -999,    -999,9,   1.846,2,    8.41,2,2.2472,2,-999,9,-999,9,-999,   8.029,2,   0.031,-999,9,-999,9,-999,9,    -999,9,-999,9, 20080222,     0211, -53.0006,  30.0013,    -999,-999,9,     -999,9,     -999,9,     -999,9,     -999,9,     -999,9,     -999,9,-999,9,     -999,9,     -999,9,     -999,9,    0.15,   0.007
33RR20080204,       I06S,      52,          2,         23,         23,2,20080222,       0014,   -53.0008,    30.0010,       5552,   604.5,   1.7792,  34.5534,2,  34.5539,2,    174.5,2,   182.2,2,   80.46,2,   34.52,2,    0.01,2,    2.40,2,   1.174,2,   0.628,2,   0.088,2,    -999,9,  2332.3,2,     -999,9,     -999,    -999,9,   1.846,2,    8.40,2,1.776,2,-999,9,-999,9,-999,   8.030,2,   0.031,-999,9,-999,9,-999,9,    -999,9,-999,9, 20080222,     0207, -53.0007,  30.0013,    -999,-999,1,     -999,9,     -999,9,     -999,9,     -999,9,     -999,9,     -999,9,-999,9,     -999,9,     -999,9,     -999,9,    0.15,   0.007
33RR20080204,       I06S,      52,          2,         22,         22,2,20080222,       0014,   -53.0008,    30.0010,       5552,   701.0,   2.2125,  34.6478,2,  34.6510,2,    175.9,2,   176.1,2,   78.37,2,   32.91,2,    0.00,2,    2.29,2,   0.422,2,   0.230,2,   0.037,2,    -999,9,    -999,9,     -999,9,     -999,    -999,9,    -999,9,    -999,9,2.2121,2,-999,9,-999,9,-999,    -999,9,    -999,-999,9,-999,9,-0.02,2,    -999,9,-999,9, 20080222,     0204, -53.0008,  30.0015,    -999,-999,9,     -999,9,     -999,9,     -999,9,     -999,9,     -999,9,     -999,9,-999,9,     -999,9,     -999,9,     -999,9,    -999,    -999
33RR20080204,       I06S,      52,          2,         21,         21,2,20080222,       0014,   -53.0008,    30.0010,       5552,   801.7,   2.2618,  34.6897,2,  34.6895,2,    181.3,2,   180.8,2,   77.79,2,   31.88,2,    0.00,2,    2.22,2,   0.279,2,   0.154,2,   0.021,2,    -999,9,  2341.0,2,     -999,9,     -999,    -999,9,   1.870,2,    9.93,2,2.2617,2,-999,9,-999,9,-999,   8.094,2,   0.031,-999,9,-999,9,-999,9,    -999,9,-999,9, 20080222,     0200, -53.0007,  30.0014,    -999,-999,1,     -999,9,     -999,9,     -999,9,     -999,9,     -999,9,     -999,9,-999,9,     -999,9,     -999,9,     -999,9,    0.15,   0.007
33RR20080204,       I06S,      52,          2,         20,         20,2,20080222,       0014,   -53.0008,    30.0010,       5552,   879.7,   2.1136,  34.6944,2,  34.6944,2,    181.1,2,   180.1,2,   81.79,2,   32.08,2,    0.00,2,    2.23,2,   0.310,2,   0.176,2,   0.017,2,    -999,9,    -999,9,     -999,9,     -999,    -999,9,    -999,9,    -999,9,2.1136,2,-999,9,-999,9,-999,    -999,9,    -999,-999,9,-999,9,-999,9,    -999,9,-999,9, 20080222,     0157, -53.0005,  30.0014,    -999,-999,9,     -999,9,     -999,9,     -999,9,     -999,9,     -999,9,     -999,9,-999,9,     -999,9,     -999,9,     -999,9,    -999,    -999
33RR20080204,       I06S,      52,          2,         19,         19,2,20080222,       0014,   -53.0008,    30.0010,       5552,  1003.8,   2.0272,  34.7117,2,  34.7119,2,    184.9,2,   186.2,2,   82.94,2,   31.44,2,    0.00,2,    2.19,2,   0.302,2,   0.172,2,   0.030,2,    -999,9,  2344.7,2,     -999,9,     -999,    -999,9,   1.866,2,   10.07,2,2.0302,2,-999,9,-999,9,-999,   8.072,2,   0.031,-999,9,-999,9,-999,9,    -999,9,-999,9, 20080222,     0154, -53.0006,  30.0011,    -999,-999,1,     -999,9,     -999,9,     -999,9,     -999,9,     -999,9,     -999,9,-999,9,     -999,9,     -999,9,     -999,9,    0.15,   0.007
33RR20080204,       I06S,      52,          2,         18,         18,2,20080222,       0014,   -53.0008,    30.0010,       5552,  1207.7,   1.9023,  34.7380,2,  34.7380,2,    192.9,2,   194.2,2,   84.28,2,   30.57,2,    0.00,2,    2.12,2,   0.239,2,   0.143,2,   0.019,2,    -999,9,  2346.5,2,     -999,9,     -999,    -999,9,   1.876,2,    9.78,2,1.9023,2,-999,9,-999,9,-999,   8.106,2,   0.031,-999,9,-999,9,0.07,2,    -999,9,-999,9, 20080222,     0149, -53.0005,  30.0007,    -999,-999,9,     -999,9,     -999,9,     -999,9,     -999,9,     -999,9,     -999,9,-999,9,     -999,9,     -999,9,     -999,9,    0.15,   0.007
33RR20080204,       I06S,      52,          2,         17,         17,2,20080222,       0014,   -53.0008,    30.0010,       5552,  1410.9,   1.6679,  34.7414,2,  34.7415,2,    197.8,2,   198.9,2,   90.01,2,   30.48,2,    0.00,2,    2.11,2,   0.226,2,   0.134,2,   0.008,2,    -999,9,  2349.4,2,     -999,9,     -999,    -999,9,   1.863,2,    9.67,2,1.6681,2,-999,9,-999,9,-999,   8.078,2,   0.031,-999,9,-999,9,-999,9,    -999,9,-999,9, 20080222,     0144, -53.0004,  30.0002,    -999,-999,9,     -999,9,     -999,9,     -999,9,     -999,9,     -999,9,     -999,9,-999,9,     -999,9,     -999,9,     -999,9,    0.15,   0.007
33RR20080204,       I06S,      52,          2,         16,         16,2,20080222,       0014,   -53.0008,    30.0010,       5552,  1624.9,   1.4930,  34.7472,2,  34.7466,2,    203.0,2,   204.4,2,   93.65,2,   30.18,2,    0.00,2,    2.09,2,   0.164,2,   0.097,2,   0.013,2,    -999,9,    -999,9,     -999,9,     -999,    -999,9,   1.884,2,    9.19,2,1.4931,2,-999,9,-999,9,-999,   8.156,2,   0.031,-999,9,-999,9,-999,9,    -999,9,-999,9, 20080222,     0140, -53.0002,  30.0001,    -999,-999,9,     -999,9,     -999,9,     -999,9,     -999,9,     -999,9,     -999,9,-999,9,     -999,9,     -999,9,     -999,9,    0.15,   0.007
33RR20080204,       I06S,      52,          2,         15,         15,2,20080222,       0014,   -53.0008,    30.0010,       5552,  1826.0,   1.2217,  34.7270,2,  34.7270,2,    203.3,2,   204.6,2,  101.52,2,   31.01,2,    0.00,2,    2.15,2,   0.245,2,   0.135,2,   0.020,2,    -999,9,  2354.1,2,     -999,9,     -999,    -999,9,   1.875,2,    9.31,2,1.2216,2,-999,9,-999,9,-999,   8.134,2,   0.031,-999,9,-999,9,-999,9,    -999,9,-999,9, 20080222,     0135, -53.0004,  30.0004,    -999,-999,9,     -999,9,     -999,9,     -999,9,     -999,9,     -999,9,     -999,9,-999,9,     -999,9,     -999,9,     -999,9,    0.15,   0.007
33RR20080204,       I06S,      52,          2,         14,         14,2,20080222,       0014,   -53.0008,    30.0010,       5552,  2028.7,   1.0572,  34.7192,2,  34.7189,2,    204.8,2,   204.3,2,  106.52,2,   31.39,2,    0.00,2,    2.18,2,   0.258,2,   0.137,2,   0.020,2,    -999,9,    -999,9,     -999,9,     -999,    -999,9,   1.880,2,    9.04,2,1.0568,2,-999,9,-999,9,-999,   8.151,2,   0.031,-999,9,-999,9,-0.03,2,    -999,9,-999,9, 20080222,     0131, -53.0004,  30.0006,    -999,-999,9,     -999,9,     -999,9,     -999,9,     -999,9,     -999,9,     -999,9,-999,9,     -999,9,     -999,9,     -999,9,    0.15,   0.007
33RR20080204,       I06S,      52,          2,         13,         13,2,20080222,       0014,   -53.0008,    30.0010,       5552,  2342.9,   0.7782,  34.7045,2,  34.7041,2,    207.1,2,   207.8,2,  114.61,2,   32.03,2,    0.00,2,    2.23,2,   0.284,2,   0.155,2,   0.034,2,    -999,9,  2357.0,2,     -999,9,     -999,    -999,9,    -999,9,    -999,9,0.7785,2,-999,9,-999,9,-999,    -999,9,    -999,-999,9,-999,9,-999,9,    -999,9,-999,9, 20080222,     0124, -53.0004,  30.0003,    -999,-999,9,     -999,9,     -999,9,     -999,9,     -999,9,     -999,9,     -999,9,-999,9,     -999,9,     -999,9,     -999,9,    -999,    -999
33RR20080204,       I06S,      52,          2,         12,         12,2,20080222,       0014,   -53.0008,    30.0010,       5552,  2645.3,   0.6005,  34.6945,2,  34.6939,2,    209.2,2,   209.9,2,  120.60,2,   32.42,2,    0.00,2,    2.25,2,   0.274,2,   0.148,2,   0.013,2,    -999,9,    -999,9,     -999,9,     -999,    -999,9,    -999,1,    -999,9,0.6002,2,-999,9,-999,9,-999,    -999,9,    -999,-999,9,-999,9,-999,9,    -999,9,-999,9, 20080222,     0118, -53.0005,  30.0007,    -999,-999,9,     -999,9,     -999,9,     -999,9,     -999,9,     -999,9,     -999,9,-999,9,     -999,9,     -999,9,     -999,9,    -999,    -999
33RR20080204,       I06S,      52,          2,         11,         11,2,20080222,       0014,   -53.0008,    30.0010,       5552,  2949.3,   0.4485,  34.6865,2,  34.6876,2,    212.5,2,   212.5,2,  125.44,2,   32.65,2,    0.00,2,    2.26,2,   0.281,2,   0.154,2,   0.009,2,    -999,9,  2358.6,2,     -999,9,     -999,    -999,9,    -999,9,    -999,9,0.449,2,-999,9,-999,9,-999,    -999,9,    -999,-999,9,-999,9,-999,9,    -999,9,-999,9, 20080222,     0112, -53.0005,  30.0007,    -999,-999,9,     -999,9,     -999,9,     -999,9,     -999,9,     -999,9,     -999,9,-999,9,     -999,9,     -999,9,     -999,9,    -999,    -999
33RR20080204,       I06S,      52,          2,         10,         10,2,20080222,       0014,   -53.0008,    30.0010,       5552,  3253.7,   0.2922,  34.6783,2,  34.6790,2,    216.4,2,   216.4,2,  127.76,2,   32.75,2,    0.00,2,    2.27,2,   0.303,2,   0.165,2,   0.008,2,    -999,9,    -999,9,     -999,9,     -999,    -999,9,   1.884,2,    7.77,2,0.2929,2,-999,9,-999,9,-999,   8.208,2,   0.031,-999,9,-999,9,-0.14,2,    -999,9,-999,9, 20080222,     0106, -53.0008,  30.0014,    -999,-999,9,     -999,9,     -999,9,     -999,9,     -999,9,     -999,9,     -999,9,-999,9,     -999,9,     -999,9,     -999,9,    0.15,   0.007
33RR20080204,       I06S,      52,          2,          9,          9,2,20080222,       0014,   -53.0008,    30.0010,       5552,  3559.3,   0.1568,  34.6720,2,  34.6726,2,    221.7,2,   221.9,2,  128.55,2,   32.80,2,    0.00,2,    2.28,2,   0.324,2,   0.172,2,   0.012,2,    -999,9,  2355.9,2,     -999,9,     -999,    -999,9,   1.890,2,    7.20,2,0.157,2,-999,9,-999,9,-999,   8.250,2,   0.031,-999,9,-999,9,-999,9,    -999,9,-999,9, 20080222,     0059, -53.0007,  30.0011,    -999,-999,9,     -999,9,     -999,9,     -999,9,     -999,9,     -999,9,     -999,9,-999,9,     -999,9,     -999,9,     -999,9,    0.15,   0.007
33RR20080204,       I06S,      52,          2,          8,          8,2,20080222,       0014,   -53.0008,    30.0010,       5552,  3872.8,   0.0486,  34.6670,2,  34.6675,2,    227.8,2,   227.3,2,  129.52,2,   32.75,2,    0.00,2,    2.27,2,   0.351,2,   0.184,2,   0.016,2,    -999,9,    -999,9,     -999,9,     -999,    -999,9,   1.886,2,    6.69,2,0.0486,2,-999,9,-999,9,-999,   8.249,2,   0.031,-999,9,-999,9,-999,9,    -999,9,-999,9, 20080222,     0053, -53.0008,  30.0012,    -999,-999,9,     -999,9,     -999,9,     -999,9,     -999,9,     -999,9,     -999,9,-999,9,     -999,9,     -999,9,     -999,9,    0.15,   0.007