BOTTLE,20220706CCHSIOAMB
EXPOCODE,SECT_ID,STNNBR,CASTNO,SAMPNO,BTLNBR,BTLNBR_FLAG_W,DATE,TIME,LATITUDE,LONGITUDE,DEPTH,CTDPRS,CTDTMP,CTDSAL,CTDSAL_FLAG_W,SALNTY,SALNTY_FLAG_W,CTDOXY,CTDOXY_FLAG_W,OXYGEN,OXYGEN_FLAG_W,SILCAT,SILCAT_FLAG_W,NITRAT,NITRAT_FLAG_W,NITRIT,NITRIT_FLAG_W,PHSPHT,PHSPHT_FLAG_W,CFC-11,CFC-11_FLAG_W,CFC-12,CFC-12_FLAG_W,CFC113,CFC113_FLAG_W,TCARBN,TCARBN_FLAG_W,ALKALI,ALKALI_FLAG_W,PH_SWS,PH_SWS_FLAG_W,PH_TMP,TRITUM,TRITUM_FLAG_W,HELIUM,HELIUM_FLAG_W,DELHE3,DELHE3_FLAG_W,REFTMP,REFTMP_FLAG_W,DELC13,DELC13_FLAG_W,DELC14,DELC14_FLAG_W,C14ERR,NEON,NEON_FLAG_W,NEONER,CCL4,CCL4_FLAG_W,ALUMIN,ALUMIN_FLAG_W,DELO18,DELO18_FLAG_W,DOC,DOC_FLAG_W,TDN,TDN_FLAG_W,BTL_DATE,BTL_TIME,BTL_LAT,BTL_LON,TRITER,DELSI30,DELSI30_FLAG_W,CDOM380,CDOM380_FLAG_W,CDOM325,CDOM325_FLAG_W,CDOMSL,CDOMSL_FLAG_W,CDOM340,CDOM340_FLAG_W,CDOM443,CDOM443_FLAG_W,CDOMSN,CDOMSN_FLAG_W,BLACKC,BLACKC_FLAG_W,CDOM490,CDOM490_FLAG_W,CDOM412,CDOM412_FLAG_W,CDOM555,CDOM555_FLAG_W,DELHER,HELIER
,,,,,,,,,,,METERS,DBAR,ITS-90,PSS-78,,PSS-78,,UMOL/KG,,UMOL/KG,,UMOL/KG,,UMOL/KG,,UMOL/KG,,UMOL/KG,,PMOL/KG,,PMOL/KG,,PMOL/KG,,UMOL/KG,,UMOL/KG,,,,DEG C,TU,,NMOL/KG,,PERCNT,,DEG C,,/MILLE,,/MILLE,,/MILLE,NMOL/KG,,NMOL/KG,PMOL/KG,,NMOL/L,,/MILLE,,UMOL/KG,,UMOL/KG,,,,,,TU,/MILLE,,1/M,,1/M,,1/NM,,1/M,,1/M,,1/NM,,,,1/M,,1/M,,1/M,,PERCNT,NMOL/KG
33RR20080204,       I06S,      31,          2,          7,          7,2,20080215,       0046,   -42.4977,    30.0118,       5260,  3863.1,   1.2026,  34.7386,2,  34.7389,2,    214.1,2,   214.6,2,  103.02,2,   30.36,2,    0.00,2,    2.10,2,   0.096,2,   0.057,2,   0.009,2,  2248.8,2,  2362.4,2,   7.8264,2,    13.00,    -999,9,    -999,9,    -999,9,1.2026,2,0.65,2,-160.0,2,2.6,    -999,9,    -999,0.392,2,-999,9,-999,9,    -999,9,-999,9, 20080215,     0120, -42.4977,  30.0120,    -999,-999,9,     -999,9,     -999,9,     -999,9,     -999,9,     -999,9,     -999,9,-999,9,     -999,9,     -999,9,     -999,9,    -999,    -999
33RR20080204,       I06S,      31,          2,          6,          6,2,20080215,       0046,   -42.4977,    30.0118,       5260,  4179.1,   0.9577,  34.7193,2,  34.7191,2,    215.1,2,   215.1,2,  111.70,2,   31.16,2,    0.00,2,    2.16,2,   0.123,2,   0.067,2,   0.006,2,  2249.6,2,  2364.8,2,   7.8169,3,    13.00,    -999,9,    -999,9,    -999,9,0.9576,2,0.61,2,-154.5,2,3.4,    -999,9,    -999,0.493,2,-999,9,-999,9,   39.22,2,-999,1, 20080215,     0114, -42.4978,  30.0117,    -999,-999,9,   0.0287,2,   0.1031,2,   0.0201,3,   0.0680,2,   0.0084,2,   0.0217,2,-999,9,   0.0006,2,   0.0167,2,  -0.0015,4,    -999,    -999
33RR20080204,       I06S,      31,          2,          5,          5,2,20080215,       0046,   -42.4977,    30.0118,       5260,  4485.0,   0.6769,  34.6963,2,  34.6959,2,    215.6,2,   216.9,2,  121.81,2,   32.11,2,    0.00,2,    2.23,2,   0.188,2,   0.116,2,   0.000,2,  2256.9,2,  2363.5,2,   7.8107,4,    13.00,    -999,9,    -999,9,    -999,9,0.6769,2,0.53,2,-151.6,2,2.5,    -999,9,    -999,0.462,2,-999,9,-999,9,    -999,9,-999,9, 20080215,     0107, -42.4978,  30.0116,    -999,-999,9,     -999,9,     -999,9,     -999,9,     -999,9,     -999,9,     -999,9,-999,9,     -999,9,     -999,9,     -999,9,    -999,    -999
33RR20080204,       I06S,      31,          2,          4,          4,2,20080215,       0046,   -42.4977,    30.0118,       5260,  4690.5,   0.5510,  34.6891,2,  34.6892,2,    218.7,2,   219.5,2,  124.47,2,   32.27,2,    0.00,2,    2.24,2,    -999,5,    -999,5,    -999,5,  2256.2,2,  2363.8,2,   7.8017,2,    13.00,    -999,9,    -999,9,    -999,9,0.5509,2,0.58,2,-151.0,2,2.4,    -999,9,    -999,-999,5,-999,9,-999,9,   38.05,2,-999,1, 20080215,     0103, -42.4978,  30.0118,    -999,-999,9,   0.0289,2,   0.1024,2,   0.0195,3,   0.0677,2,   0.0089,2,   0.0212,3,-999,9,   0.0008,2,   0.0175,2,  -0.0015,4,    -999,    -999
33RR20080204,       I06S,      31,          2,          3,          3,2,20080215,       0046,   -42.4977,    30.0118,       5260,  4895.1,   0.3907,  34.6789,2,  34.6784,2,    222.2,2,   222.3,2,  128.14,2,   32.51,2,    0.00,2,    2.26,2,   0.000,4,   0.000,4,   0.000,4,  2255.8,2,  2362.0,2,   7.7984,2,    13.00,    -999,9,    -999,9,    -999,9,0.3913,2,0.61,2,-143.0,2,2.8,    -999,9,    -999,0.0,4,-999,9,-999,9,    -999,9,-999,9, 20080215,     0058, -42.4978,  30.0118,    -999,-999,9,     -999,9,     -999,9,     -999,9,     -999,9,     -999,9,     -999,9,-999,9,     -999,9,     -999,9,     -999,9,    -999,    -999
33RR20080204,       I06S,      31,          2,          2,          2,2,20080215,       0046,   -42.4977,    30.0118,       5260,  5101.3,   0.2901,  34.6712,2,  34.6711,2,    224.3,2,   224.8,2,  130.39,2,   32.72,2,    0.00,2,    2.27,2,   0.000,4,   0.000,4,   0.000,4,  2257.1,4,  2360.3,2,   7.7941,2,    13.00,    -999,9,    -999,9,    -999,9,0.2906,2,0.62,2,-151.4,2,3.2,    -999,9,    -999,0.0,4,-999,9,-999,9,    -999,9,-999,9, 20080215,     0053, -42.4978,  30.0118,    -999,-999,9,     -999,9,     -999,9,     -999,9,     -999,9,     -999,9,     -999,9,-999,9,     -999,9,     -999,9,     -999,9,    -999,    -999
33RR20080204,       I06S,      31,          2,          1,          1,2,20080215,       0046,   -42.4977,    30.0118,       5260,  5327.4,   0.2266,  34.6667,2,  34.6670,2,    226.9,2,   227.3,2,  130.82,2,   32.77,2,    0.00,2,    2.27,2,   0.000,4,   0.000,4,   0.000,4,  2254.4,6,  2358.6,2,   7.7924,2,    13.00,    -999,9,    -999,9,    -999,9,0.2261,2,0.62,2,-158.6,2,2.5,    -999,9,    -999,0.0,4,-999,9,-999,9,   41.46,2,-999,1, 20080215,     0047, -42.4977,  30.0117,    -999,-999,9,   0.0340,2,   0.1139,2,   0.0189,3,   0.0786,2,   0.0113,2,   0.0204,2,-999,9,   0.0021,2,   0.0207,2,  -0.0009,4,    -999,    -999