BOTTLE,20220706CCHSIOAMB
EXPOCODE,SECT_ID,STNNBR,CASTNO,SAMPNO,BTLNBR,BTLNBR_FLAG_W,DATE,TIME,LATITUDE,LONGITUDE,DEPTH,CTDPRS,CTDTMP,CTDSAL,CTDSAL_FLAG_W,SALNTY,SALNTY_FLAG_W,CTDOXY,CTDOXY_FLAG_W,OXYGEN,OXYGEN_FLAG_W,SILCAT,SILCAT_FLAG_W,NITRAT,NITRAT_FLAG_W,NITRIT,NITRIT_FLAG_W,PHSPHT,PHSPHT_FLAG_W,CFC-11,CFC-11_FLAG_W,CFC-12,CFC-12_FLAG_W,CFC113,CFC113_FLAG_W,TCARBN,TCARBN_FLAG_W,ALKALI,ALKALI_FLAG_W,PH_SWS,PH_SWS_FLAG_W,PH_TMP,TRITUM,TRITUM_FLAG_W,HELIUM,HELIUM_FLAG_W,DELHE3,DELHE3_FLAG_W,REFTMP,REFTMP_FLAG_W,DELC13,DELC13_FLAG_W,DELC14,DELC14_FLAG_W,C14ERR,NEON,NEON_FLAG_W,NEONER,CCL4,CCL4_FLAG_W,ALUMIN,ALUMIN_FLAG_W,DELO18,DELO18_FLAG_W,DOC,DOC_FLAG_W,TDN,TDN_FLAG_W,BTL_DATE,BTL_TIME,BTL_LAT,BTL_LON,TRITER,DELSI30,DELSI30_FLAG_W,CDOM380,CDOM380_FLAG_W,CDOM325,CDOM325_FLAG_W,CDOMSL,CDOMSL_FLAG_W,CDOM340,CDOM340_FLAG_W,CDOM443,CDOM443_FLAG_W,CDOMSN,CDOMSN_FLAG_W,BLACKC,BLACKC_FLAG_W,CDOM490,CDOM490_FLAG_W,CDOM412,CDOM412_FLAG_W,CDOM555,CDOM555_FLAG_W,DELHER,HELIER
,,,,,,,,,,,METERS,DBAR,ITS-90,PSS-78,,PSS-78,,UMOL/KG,,UMOL/KG,,UMOL/KG,,UMOL/KG,,UMOL/KG,,UMOL/KG,,PMOL/KG,,PMOL/KG,,PMOL/KG,,UMOL/KG,,UMOL/KG,,,,DEG C,TU,,NMOL/KG,,PERCNT,,DEG C,,/MILLE,,/MILLE,,/MILLE,NMOL/KG,,NMOL/KG,PMOL/KG,,NMOL/L,,/MILLE,,UMOL/KG,,UMOL/KG,,,,,,TU,/MILLE,,1/M,,1/M,,1/NM,,1/M,,1/M,,1/NM,,,,1/M,,1/M,,1/M,,PERCNT,NMOL/KG
33RR20080204,       I06S,      22,          1,         35,         35,2,20080211,       2134,   -38.0102,    30.0611,       4094,     3.2,  22.1983,  35.5204,2,  35.5185,2,    216.7,2,   216.2,2,    2.12,2,    0.18,2,    0.02,2,    0.10,2,   2.061,2,   1.240,2,   0.155,2,  2014.3,6,  2329.1,2,   8.1362,2,    20.00,    -999,9,    -999,9,    -999,9,22.1673,3,-999,9,-999,9,-999,    -999,9,    -999,3.023,2,-999,9,-999,9,    -999,9,-999,9, 20080212,     0007, -38.0219,  30.1081,    -999,-999,9,     -999,9,     -999,9,     -999,9,     -999,9,     -999,9,     -999,9,-999,9,     -999,9,     -999,9,     -999,9,    -999,    -999
33RR20080204,       I06S,      22,          1,         34,         34,2,20080211,       2134,   -38.0102,    30.0611,       4094,    26.6,  22.2120,  35.5209,2,  35.5185,2,    216.9,2,   216.7,2,    2.11,2,    0.18,2,    0.02,2,    0.10,2,   2.073,2,   1.246,2,   0.158,2,  2013.1,2,  2327.5,2,   8.1382,2,    20.00,    -999,9,    -999,9,    -999,9,22.2107,2,-999,9,-999,9,-999,    -999,9,    -999,2.748,2,-999,9,-999,9,    -999,9,-999,9, 20080212,     0006, -38.0222,  30.1076,    -999,-999,9,     -999,9,     -999,9,     -999,9,     -999,9,     -999,9,     -999,9,-999,9,     -999,9,     -999,9,     -999,9,    -999,    -999
33RR20080204,       I06S,      22,          1,         33,         33,2,20080211,       2134,   -38.0102,    30.0611,       4094,    56.9,  22.2174,  35.5206,2,  35.5187,2,    216.2,2,   216.3,2,    2.09,2,    0.18,2,    0.02,2,    0.10,2,   2.058,6,   1.249,6,   0.158,6,  2014.5,2,  2327.7,2,   8.1379,2,    20.00,    -999,9,    -999,9,    -999,9,22.2167,2,-999,9,-999,9,-999,    -999,9,    -999,2.597,6,-999,9,-999,9,    -999,9,-999,9, 20080212,     0005, -38.0225,  30.1070,    -999,-999,9,     -999,9,     -999,9,     -999,9,     -999,9,     -999,9,     -999,9,-999,9,     -999,9,     -999,9,     -999,9,    -999,    -999
33RR20080204,       I06S,      22,          1,         32,         32,2,20080211,       2134,   -38.0102,    30.0611,       4094,    77.5,  22.1492,  35.5179,2,  35.4943,3,    212.7,2,   215.9,2,    2.08,2,    0.22,2,    0.03,2,    0.10,2,   2.099,2,   1.249,2,   0.150,2,  2015.1,2,  2327.6,2,   8.1374,3,    20.00,    -999,9,    -999,9,    -999,9,22.1577,2,-999,9,-999,9,-999,    -999,9,    -999,2.546,2,-999,9,-999,9,    -999,9,-999,9, 20080212,     0004, -38.0226,  30.1063,    -999,-999,9,     -999,9,     -999,9,     -999,9,     -999,9,     -999,9,     -999,9,-999,9,     -999,9,     -999,9,     -999,9,    -999,    -999
33RR20080204,       I06S,      22,          1,         31,         31,2,20080211,       2134,   -38.0102,    30.0611,       4094,   103.4,  20.7222,  35.4961,2,  35.4941,2,    205.5,2,   203.1,2,    3.05,2,    1.51,2,    0.27,2,    0.22,2,   2.213,2,   1.312,2,   0.108,2,  2041.5,2,  2326.0,2,   8.0887,3,    20.00,    -999,9,    -999,9,    -999,9,20.7641,3,-999,9,-999,9,-999,    -999,9,    -999,2.037,2,-999,9,-999,9,    -999,9,-999,9, 20080212,     0002, -38.0227,  30.1055,    -999,-999,9,     -999,9,     -999,9,     -999,9,     -999,9,     -999,9,     -999,9,-999,9,     -999,9,     -999,9,     -999,9,    -999,    -999
33RR20080204,       I06S,      22,          1,         30,         30,2,20080211,       2134,   -38.0102,    30.0611,       4094,   154.4,  18.4955,  35.5303,2,  35.5254,2,    205.6,2,   196.8,2,    4.23,2,    4.01,2,    0.03,2,    0.38,2,   2.400,2,   1.398,2,   0.091,2,  2069.6,2,  2328.7,2,   8.0423,2,    20.00,    -999,9,    -999,9,    -999,9,18.5055,2,-999,9,-999,9,-999,    -999,9,    -999,1.711,2,-999,9,-999,9,    -999,9,-999,9, 20080211,     0000, -38.0230,  30.1045,    -999,-999,9,     -999,9,     -999,9,     -999,9,     -999,9,     -999,9,     -999,9,-999,9,     -999,9,     -999,9,     -999,9,    -999,    -999
33RR20080204,       I06S,      22,          1,         29,         29,2,20080211,       2134,   -38.0102,    30.0611,       4094,   202.0,  17.3449,  35.5179,2,  35.5198,2,    178.6,2,   198.7,2,    4.80,2,    5.15,2,    0.03,2,    0.46,2,   2.501,2,   1.456,2,   0.089,2,  2081.0,2,  2329.0,2,   8.0220,2,    20.00,    -999,9,    -999,9,    -999,9,17.3126,2,-999,9,-999,9,-999,    -999,9,    -999,1.753,2,-999,9,-999,9,    -999,9,-999,9, 20080211,     2357, -38.0230,  30.1034,    -999,-999,9,     -999,9,     -999,9,     -999,9,     -999,9,     -999,9,     -999,9,-999,9,     -999,9,     -999,9,     -999,9,    -999,    -999
33RR20080204,       I06S,      22,          1,         28,         28,2,20080211,       2134,   -38.0102,    30.0611,       4094,   252.9,  15.7255,  35.3661,2,  35.3786,2,    189.7,2,   200.2,2,    5.19,2,    6.82,2,    0.13,2,    0.59,2,   2.732,2,   1.542,2,   0.081,2,  2098.4,2,  2326.6,2,   7.9859,2,    20.00,    -999,9,    -999,9,    -999,9,15.733,2,-999,9,-999,9,-999,    -999,9,    -999,2.013,2,-999,9,-999,9,    -999,9,-999,9, 20080211,     2355, -38.0232,  30.1022,    -999,-999,9,     -999,9,     -999,9,     -999,9,     -999,9,     -999,9,     -999,9,-999,9,     -999,9,     -999,9,     -999,9,    -999,    -999
33RR20080204,       I06S,      22,          1,         27,         27,2,20080211,       2134,   -38.0102,    30.0611,       4094,   306.6,  14.6820,  35.4020,2,  35.3965,2,    208.3,2,   199.5,2,    5.77,2,    8.57,2,    0.02,2,    0.68,2,   2.850,2,   1.584,2,   0.064,2,  2112.0,2,  2326.0,2,   7.9573,2,    20.00,    -999,9,    -999,9,    -999,9,14.6809,2,-999,9,-999,9,-999,    -999,9,    -999,1.735,2,-999,9,-999,9,    -999,9,-999,9, 20080211,     2352, -38.0236,  30.1006,    -999,-999,9,     -999,9,     -999,9,     -999,9,     -999,9,     -999,9,     -999,9,-999,9,     -999,9,     -999,9,     -999,9,    -999,    -999
33RR20080204,       I06S,      22,          1,         26,         26,2,20080211,       2134,   -38.0102,    30.0611,       4094,   354.8,  13.6763,  35.2107,2,  35.2121,2,    212.4,2,   227.1,2,    4.18,2,    7.70,2,    0.04,2,    0.63,2,   3.060,2,   1.747,2,   0.173,2,  2100.7,2,  2319.6,2,   7.9684,3,    20.00,    -999,9,    -999,9,    -999,9,13.6838,2,-999,9,-999,9,-999,    -999,9,    -999,2.447,2,-999,9,-999,9,    -999,9,-999,9, 20080211,     2347, -38.0234,  30.0979,    -999,-999,9,     -999,9,     -999,9,     -999,9,     -999,9,     -999,9,     -999,9,-999,9,     -999,9,     -999,9,     -999,9,    -999,    -999
33RR20080204,       I06S,      22,          1,         25,         25,2,20080211,       2134,   -38.0102,    30.0611,       4094,   404.3,  12.4964,  35.0627,2,  35.0636,2,    230.9,2,   229.0,2,    4.76,2,   10.02,2,    0.01,2,    0.78,2,   3.289,2,   1.840,2,   0.180,2,  2108.7,2,  2312.4,2,   7.9363,2,    20.00,    -999,9,    -999,9,    -999,9,12.5064,2,-999,9,-999,9,-999,    -999,9,    -999,2.916,2,-999,9,-999,9,    -999,9,-999,9, 20080211,     2342, -38.0224,  30.0962,    -999,-999,9,     -999,9,     -999,9,     -999,9,     -999,9,     -999,9,     -999,9,-999,9,     -999,9,     -999,9,     -999,9,    -999,    -999
33RR20080204,       I06S,      22,          1,         24,         24,2,20080211,       2134,   -38.0102,    30.0611,       4094,   456.4,  11.9145,  35.0033,2,  35.0085,2,    228.3,2,   226.8,2,    4.95,2,   11.30,2,    0.01,2,    0.85,2,   3.311,2,   1.817,2,   0.163,2,  2114.3,2,  2308.6,2,   7.9207,2,    20.00,    -999,9,    -999,9,    -999,9,11.928,2,-999,9,-999,9,-999,    -999,9,    -999,2.85,2,-999,9,-999,9,    -999,9,-999,9, 20080211,     2338, -38.0219,  30.0945,    -999,-999,9,     -999,9,     -999,9,     -999,9,     -999,9,     -999,9,     -999,9,-999,9,     -999,9,     -999,9,     -999,9,    -999,    -999
33RR20080204,       I06S,      22,          1,         23,         23,2,20080211,       2134,   -38.0102,    30.0611,       4094,   506.3,  11.5301,  34.9734,2,  34.9745,2,    221.3,2,   223.9,2,    5.73,2,   12.59,2,    0.01,2,    0.94,2,   3.303,2,   1.775,2,   0.154,2,  2117.8,2,  2308.2,2,   7.9071,2,    20.00,    -999,9,    -999,9,    -999,9,11.5188,2,-999,9,-999,9,-999,    -999,9,    -999,2.866,2,-999,9,-999,9,    -999,9,-999,9, 20080211,     2335, -38.0215,  30.0935,    -999,-999,9,     -999,9,     -999,9,     -999,9,     -999,9,     -999,9,     -999,9,-999,9,     -999,9,     -999,9,     -999,9,    -999,    -999
33RR20080204,       I06S,      22,          1,         22,         22,2,20080211,       2134,   -38.0102,    30.0611,       4094,   605.3,  10.5020,  34.8359,2,  34.8339,2,    226.6,2,   231.5,2,    6.11,2,   14.23,2,    0.01,2,    1.03,2,   3.403,2,   1.824,2,   0.180,2,  2121.0,2,  2303.0,2,   7.8890,2,    20.00,    -999,9,    -999,9,    -999,9,10.5015,2,-999,9,-999,9,-999,    -999,9,    -999,3.201,2,-999,9,-999,9,    -999,9,-999,9, 20080211,     2332, -38.0214,  30.0918,    -999,-999,9,     -999,9,     -999,9,     -999,9,     -999,9,     -999,9,     -999,9,-999,9,     -999,9,     -999,9,     -999,9,    -999,    -999
33RR20080204,       I06S,      22,          1,         21,         21,2,20080211,       2134,   -38.0102,    30.0611,       4094,   706.5,   9.4228,  34.7069,2,  34.7049,2,    222.5,2,   218.0,2,    9.07,2,   17.88,2,    0.01,2,    1.27,2,   3.238,2,   1.709,2,   0.161,2,  2136.9,2,  2297.7,2,   7.8452,2,    20.00,    -999,9,    -999,9,    -999,9,9.4199,2,-999,9,-999,9,-999,    -999,9,    -999,3.064,2,-999,9,-999,9,    -999,9,-999,9, 20080211,     2328, -38.0209,  30.0903,    -999,-999,9,     -999,9,     -999,9,     -999,9,     -999,9,     -999,9,     -999,9,-999,9,     -999,9,     -999,9,     -999,9,    -999,    -999
33RR20080204,       I06S,      22,          1,         20,         20,2,20080211,       2134,   -38.0102,    30.0611,       4094,   809.4,   8.3359,  34.6152,2,  34.6134,2,    200.8,2,   201.5,2,   14.02,2,   22.13,2,    0.00,2,    1.53,2,   2.930,2,   1.488,2,   0.170,2,  2156.9,2,  2295.5,2,   7.7927,2,    20.00,    -999,9,    -999,9,    -999,9,8.3368,2,-999,9,-999,9,-999,    -999,9,    -999,2.983,2,-999,9,-999,9,    -999,9,-999,9, 20080211,     2325, -38.0205,  30.0889,    -999,-999,9,     -999,9,     -999,9,     -999,9,     -999,9,     -999,9,     -999,9,-999,9,     -999,9,     -999,9,     -999,9,    -999,    -999
33RR20080204,       I06S,      22,          1,         19,         19,2,20080211,       2134,   -38.0102,    30.0611,       4094,   916.1,   7.0715,  34.5326,2,  34.5295,2,    189.8,2,   192.3,2,   22.38,2,   25.91,2,    0.00,2,    1.80,2,   2.360,2,   1.156,2,   0.135,2,  2173.1,2,  2297.6,2,   7.7537,2,    20.00,    -999,9,    -999,9,    -999,9,7.0719,2,-999,9,-999,9,-999,    -999,9,    -999,3.064,2,-999,9,-999,9,    -999,9,-999,9, 20080211,     2321, -38.0206,  30.0878,    -999,-999,9,     -999,9,     -999,9,     -999,9,     -999,9,     -999,9,     -999,9,-999,9,     -999,9,     -999,9,     -999,9,    -999,    -999
33RR20080204,       I06S,      22,          1,         18,         18,2,20080211,       2134,   -38.0102,    30.0611,       4094,  1016.7,   5.5091,  34.3915,2,  34.3912,2,    202.7,2,   207.2,2,   25.77,2,   28.27,2,    0.00,2,    1.95,2,   2.727,2,   1.347,2,   0.170,2,  2179.9,2,  2296.8,2,   7.7286,2,    20.00,    -999,9,    -999,9,    -999,9,5.5097,2,-999,9,-999,9,-999,    -999,9,    -999,3.526,2,-999,9,-999,9,    -999,9,-999,9, 20080211,     2317, -38.0202,  30.0869,    -999,-999,9,     -999,9,     -999,9,     -999,9,     -999,9,     -999,9,     -999,9,-999,9,     -999,9,     -999,9,     -999,9,    -999,    -999
33RR20080204,       I06S,      22,          1,         17,         17,2,20080211,       2134,   -38.0102,    30.0611,       4094,  1114.5,   4.9039,  34.4108,2,  34.4102,2,    196.0,2,   195.8,2,   34.80,2,   30.19,2,    0.00,2,    2.09,2,   2.038,2,   0.986,2,   0.130,2,  2196.5,6,  2304.2,2,   7.7068,2,    20.00,    -999,9,    -999,9,    -999,9,4.9024,2,-999,9,-999,9,-999,    -999,9,    -999,3.158,2,-999,9,-999,9,    -999,9,-999,9, 20080211,     2313, -38.0201,  30.0859,    -999,-999,9,     -999,9,     -999,9,     -999,9,     -999,9,     -999,9,     -999,9,-999,9,     -999,9,     -999,9,     -999,9,    -999,    -999
33RR20080204,       I06S,      22,          1,         16,         16,2,20080211,       2134,   -38.0102,    30.0611,       4094,  1208.7,   4.5016,  34.4272,2,  34.4261,2,    191.5,2,   188.2,2,   41.25,2,   31.36,2,    0.00,2,    2.18,2,   1.665,2,   0.816,2,   0.092,2,    -999,9,    -999,9,     -999,9,     -999,    -999,9,    -999,9,    -999,9,4.5014,2,-999,9,-999,9,-999,    -999,9,    -999,2.767,2,-999,9,-999,9,    -999,9,-999,9, 20080211,     2310, -38.0201,  30.0848,    -999,-999,9,     -999,9,     -999,9,     -999,9,     -999,9,     -999,9,     -999,9,-999,9,     -999,9,     -999,9,     -999,9,    -999,    -999
33RR20080204,       I06S,      22,          1,         15,         15,2,20080211,       2134,   -38.0102,    30.0611,       4094,  1312.6,   4.2417,  34.4813,2,  34.4805,2,    174.0,2,   174.5,2,   50.75,2,   32.52,2,    0.00,2,    2.28,2,   1.082,2,   0.525,2,   0.069,2,    -999,9,  2320.8,2,     -999,9,     -999,    -999,9,    -999,9,    -999,9,4.2397,2,-999,9,-999,9,-999,    -999,9,    -999,2.114,2,-999,9,-999,9,    -999,9,-999,9, 20080211,     2306, -38.0194,  30.0842,    -999,-999,9,     -999,9,     -999,9,     -999,9,     -999,9,     -999,9,     -999,9,-999,9,     -999,9,     -999,9,     -999,9,    -999,    -999
33RR20080204,       I06S,      22,          1,         14,         14,2,20080211,       2134,   -38.0102,    30.0611,       4094,  1429.6,   3.6487,  34.4978,2,  34.4965,2,    173.4,2,   173.8,2,   57.03,2,   33.29,2,    0.00,2,    2.32,2,   0.844,2,   0.407,2,   0.073,2,    -999,9,    -999,9,     -999,9,     -999,    -999,9,    -999,9,    -999,9,3.6502,2,-999,9,-999,9,-999,    -999,9,    -999,1.829,2,-999,9,-999,9,    -999,9,-999,9, 20080211,     2302, -38.0192,  30.0832,    -999,-999,9,     -999,9,     -999,9,     -999,9,     -999,9,     -999,9,     -999,9,-999,9,     -999,9,     -999,9,     -999,9,    -999,    -999
33RR20080204,       I06S,      22,          1,         13,         13,2,20080211,       2134,   -38.0102,    30.0611,       4094,  1518.3,   3.5139,  34.5508,2,  34.5479,2,    168.4,2,   167.7,2,   63.53,2,   33.53,2,    0.00,2,    2.34,2,   0.548,2,   0.278,2,   0.023,2,    -999,9,  2332.2,2,     -999,9,     -999,    -999,9,    -999,9,    -999,9,3.5227,2,-999,9,-999,9,-999,    -999,9,    -999,1.324,2,-999,9,-999,9,    -999,9,-999,9, 20080211,     2259, -38.0191,  30.0825,    -999,-999,9,     -999,9,     -999,9,     -999,9,     -999,9,     -999,9,     -999,9,-999,9,     -999,9,     -999,9,     -999,9,    -999,    -999
33RR20080204,       I06S,      22,          1,         12,         12,2,20080211,       2134,   -38.0102,    30.0611,       4094,  1609.6,   3.2450,  34.5776,2,  34.5754,2,    168.8,2,   168.8,2,   65.96,2,   33.34,2,    0.00,2,    2.32,2,   0.412,2,   0.211,2,   0.023,2,    -999,9,    -999,9,     -999,9,     -999,    -999,9,    -999,9,    -999,9,3.2438,2,-999,9,-999,9,-999,    -999,9,    -999,1.088,2,-999,9,-999,9,    -999,9,-999,9, 20080211,     2255, -38.0188,  30.0820,    -999,-999,9,     -999,9,     -999,9,     -999,9,     -999,9,     -999,9,     -999,9,-999,9,     -999,9,     -999,9,     -999,9,    -999,    -999
33RR20080204,       I06S,      22,          1,         11,         11,2,20080211,       2134,   -38.0102,    30.0611,       4094,  1718.4,   3.0729,  34.6211,2,  34.6191,2,    171.3,2,   171.2,2,   68.20,2,   32.82,2,    0.00,2,    2.28,2,   0.266,2,   0.140,2,   0.007,2,    -999,9,  2337.9,2,     -999,9,     -999,    -999,9,    -999,9,    -999,9,3.0713,2,-999,9,-999,9,-999,    -999,9,    -999,0.797,2,-999,9,-999,9,    -999,9,-999,9, 20080211,     2251, -38.0184,  30.0813,    -999,-999,9,     -999,9,     -999,9,     -999,9,     -999,9,     -999,9,     -999,9,-999,9,     -999,9,     -999,9,     -999,9,    -999,    -999
33RR20080204,       I06S,      22,          1,         10,         10,2,20080211,       2134,   -38.0102,    30.0611,       4094,  1830.3,   2.9403,  34.6632,2,  34.6613,2,    175.5,2,   175.0,2,   68.79,2,   32.00,2,    0.00,2,    2.22,2,   0.180,2,   0.093,2,   0.009,2,    -999,9,    -999,9,     -999,9,     -999,    -999,9,    -999,9,    -999,9,2.9396,2,-999,9,-999,9,-999,    -999,9,    -999,0.645,2,-999,9,-999,9,    -999,9,-999,9, 20080211,     2245, -38.0182,  30.0806,    -999,-999,9,     -999,9,     -999,9,     -999,9,     -999,9,     -999,9,     -999,9,-999,9,     -999,9,     -999,9,     -999,9,    -999,    -999
33RR20080204,       I06S,      22,          1,          9,          9,2,20080211,       2134,   -38.0102,    30.0611,       4094,  2047.4,   2.7739,  34.7339,2,  34.7319,2,    188.1,2,   186.5,2,   68.19,2,   30.18,2,    0.00,2,    2.08,2,   0.083,2,   0.043,2,  -0.002,2,    -999,9,  2343.0,2,     -999,9,     -999,    -999,9,    -999,9,    -999,9,2.7738,2,-999,9,-999,9,-999,    -999,9,    -999,0.477,2,-999,9,-999,9,    -999,9,-999,9, 20080211,     2237, -38.0177,  30.0799,    -999,-999,9,     -999,9,     -999,9,     -999,9,     -999,9,     -999,9,     -999,9,-999,9,     -999,9,     -999,9,     -999,9,    -999,    -999
33RR20080204,       I06S,      22,          1,          8,          8,2,20080211,       2134,   -38.0102,    30.0611,       4094,  2354.3,   2.6139,  34.7870,2,  34.7846,2,    201.5,2,   200.9,2,   65.13,2,   28.27,2,    0.00,2,    1.93,2,   0.045,2,   0.022,2,  -0.002,2,    -999,9,    -999,9,     -999,9,     -999,    -999,9,    -999,9,    -999,9,2.6141,2,-999,9,-999,9,-999,    -999,9,    -999,0.408,2,-999,9,-999,9,    -999,9,-999,9, 20080211,     2225, -38.0171,  30.0782,    -999,-999,9,     -999,9,     -999,9,     -999,9,     -999,9,     -999,9,     -999,9,-999,9,     -999,9,     -999,9,     -999,9,    -999,    -999
33RR20080204,       I06S,      22,          1,          7,          7,2,20080211,       2134,   -38.0102,    30.0611,       4094,  2650.4,   2.4930,  34.8137,2,  34.8122,2,    211.1,2,   212.9,2,   61.66,2,   26.85,2,    0.00,2,    1.83,2,   0.034,2,   0.013,2,  -0.002,2,    -999,9,  2342.0,2,     -999,9,     -999,    -999,9,    -999,9,    -999,9,2.4923,2,-999,9,-999,9,-999,    -999,9,    -999,0.499,2,-999,9,-999,9,    -999,9,-999,9, 20080211,     2213, -38.0171,  30.0750,    -999,-999,9,     -999,9,     -999,9,     -999,9,     -999,9,     -999,9,     -999,9,-999,9,     -999,9,     -999,9,     -999,9,    -999,    -999