BOTTLE,20220706CCHSIOAMB
EXPOCODE,SECT_ID,STNNBR,CASTNO,SAMPNO,BTLNBR,BTLNBR_FLAG_W,DATE,TIME,LATITUDE,LONGITUDE,DEPTH,CTDPRS,CTDTMP,CTDSAL,CTDSAL_FLAG_W,SALNTY,SALNTY_FLAG_W,CTDOXY,CTDOXY_FLAG_W,OXYGEN,OXYGEN_FLAG_W,SILCAT,SILCAT_FLAG_W,NITRAT,NITRAT_FLAG_W,NITRIT,NITRIT_FLAG_W,PHSPHT,PHSPHT_FLAG_W,CFC-11,CFC-11_FLAG_W,CFC-12,CFC-12_FLAG_W,CFC113,CFC113_FLAG_W,TCARBN,TCARBN_FLAG_W,ALKALI,ALKALI_FLAG_W,PH_SWS,PH_SWS_FLAG_W,PH_TMP,TRITUM,TRITUM_FLAG_W,HELIUM,HELIUM_FLAG_W,DELHE3,DELHE3_FLAG_W,REFTMP,REFTMP_FLAG_W,DELC13,DELC13_FLAG_W,DELC14,DELC14_FLAG_W,C14ERR,NEON,NEON_FLAG_W,NEONER,CCL4,CCL4_FLAG_W,ALUMIN,ALUMIN_FLAG_W,DELO18,DELO18_FLAG_W,DOC,DOC_FLAG_W,TDN,TDN_FLAG_W,BTL_DATE,BTL_TIME,BTL_LAT,BTL_LON,TRITER,DELSI30,DELSI30_FLAG_W,CDOM380,CDOM380_FLAG_W,CDOM325,CDOM325_FLAG_W,CDOMSL,CDOMSL_FLAG_W,CDOM340,CDOM340_FLAG_W,CDOM443,CDOM443_FLAG_W,CDOMSN,CDOMSN_FLAG_W,BLACKC,BLACKC_FLAG_W,CDOM490,CDOM490_FLAG_W,CDOM412,CDOM412_FLAG_W,CDOM555,CDOM555_FLAG_W,DELHER,HELIER
,,,,,,,,,,,METERS,DBAR,ITS-90,PSS-78,,PSS-78,,UMOL/KG,,UMOL/KG,,UMOL/KG,,UMOL/KG,,UMOL/KG,,UMOL/KG,,PMOL/KG,,PMOL/KG,,PMOL/KG,,UMOL/KG,,UMOL/KG,,,,DEG C,TU,,NMOL/KG,,PERCNT,,DEG C,,/MILLE,,/MILLE,,/MILLE,NMOL/KG,,NMOL/KG,PMOL/KG,,NMOL/L,,/MILLE,,UMOL/KG,,UMOL/KG,,,,,,TU,/MILLE,,1/M,,1/M,,1/NM,,1/M,,1/M,,1/NM,,,,1/M,,1/M,,1/M,,PERCNT,NMOL/KG
33RR20080204,       I06S,      56,          1,          7,          7,2,20080223,       0606,   -55.0095,    29.9983,       5525,  4433.2,  -0.1020,  34.6596,2,  34.6603,2,    234.4,2,   235.3,2,  130.02,2,   32.55,2,    0.00,2,    2.26,2,   0.412,2,   0.223,2,   0.016,2,    -999,9,  2354.7,2,     -999,9,     -999,   0.002,2,   1.889,2,    6.37,2,-0.1023,2,-999,9,-999,9,-999,   8.301,2,   0.032,1.044,2,-999,9,-999,9,    -999,9,-999,9, 20080223,     0632, -55.0115,  29.9979,   0.009,-999,9,     -999,9,     -999,9,     -999,9,     -999,9,     -999,9,     -999,9,-999,9,     -999,9,     -999,9,     -999,9,    0.15,   0.007
33RR20080204,       I06S,      56,          1,          6,          6,2,20080223,       0606,   -55.0095,    29.9983,       5525,  4638.9,  -0.1264,  34.6578,2,  34.6589,2,    236.5,2,   237.1,2,  130.60,2,   32.50,2,    0.00,2,    2.26,2,   0.428,2,   0.231,2,   0.012,2,    -999,9,    -999,9,     -999,9,     -999,    -999,9,    -999,9,    -999,9,-0.1265,2,-999,9,-999,9,-999,    -999,9,    -999,1.064,2,-999,9,-0.16,2,    -999,9,-999,9, 20080223,     0627, -55.0113,  29.9980,    -999,-999,9,     -999,9,     -999,9,     -999,9,     -999,9,     -999,9,     -999,9,-999,9,     -999,9,     -999,9,     -999,9,    -999,    -999
33RR20080204,       I06S,      56,          1,          5,          5,2,20080223,       0606,   -55.0095,    29.9983,       5525,  4855.4,  -0.1400,  34.6566,2,  34.6576,2,    238.6,2,   238.5,2,  131.96,2,   32.51,2,    0.00,2,    2.27,2,   0.437,2,   0.232,2,   0.022,2,    -999,9,  2354.4,2,     -999,9,     -999,    -999,9,   1.901,2,    5.57,2,-0.1399,2,-999,9,-999,9,-999,   8.339,2,   0.032,1.043,2,-999,9,-999,9,    -999,9,-999,9, 20080223,     0623, -55.0110,  29.9980,    -999,-999,9,     -999,9,     -999,9,     -999,9,     -999,9,     -999,9,     -999,9,-999,9,     -999,9,     -999,9,     -999,9,    0.15,   0.007
33RR20080204,       I06S,      56,          1,          4,          4,2,20080223,       0606,   -55.0095,    29.9983,       5525,  5059.2,  -0.1648,  34.6549,2,  34.6615,3,    240.6,2,   240.0,2,  132.34,2,   32.41,2,    0.00,2,    2.26,2,   0.457,2,   0.247,2,   0.024,2,    -999,9,  2351.8,2,     -999,9,     -999,  -0.003,2,   1.886,2,    5.41,2,-0.1645,2,-999,9,-999,9,-999,   8.280,2,   0.031,1.135,2,-999,9,-999,9,    -999,9,-999,9, 20080223,     0619, -55.0105,  29.9982,   0.009,-999,9,     -999,9,     -999,9,     -999,9,     -999,9,     -999,9,     -999,9,-999,9,     -999,9,     -999,9,     -999,9,    0.15,   0.007
33RR20080204,       I06S,      56,          1,          3,          3,2,20080223,       0606,   -55.0095,    29.9983,       5525,  5262.2,  -0.1719,  34.6537,2,  34.6542,2,    242.1,2,   241.2,2,  132.34,2,   32.38,2,    0.00,2,    2.26,2,   0.472,2,   0.244,2,   0.022,2,    -999,9,  2353.3,2,     -999,9,     -999,   0.016,2,   1.891,2,    5.37,2,-0.1719,2,-999,9,-999,9,-999,   8.304,2,   0.032,1.169,2,-999,9,-999,9,    -999,9,-999,9, 20080223,     0614, -55.0099,  29.9984,   0.009,-999,9,     -999,9,     -999,9,     -999,9,     -999,9,     -999,9,     -999,9,-999,9,     -999,9,     -999,9,     -999,9,    0.15,   0.007
33RR20080204,       I06S,      56,          1,          2,          2,2,20080223,       0606,   -55.0095,    29.9983,       5525,  5355.0,  -0.1730,  34.6530,2,  34.6539,2,    242.6,2,   242.0,2,  132.53,2,   32.42,2,    0.00,2,    2.26,2,   0.482,6,   0.255,6,   0.026,6,    -999,9,  2353.8,2,     -999,9,     -999,    -999,9,    -999,9,    -999,9,-0.1731,2,-999,9,-999,9,-999,    -999,9,    -999,1.205,2,-999,9,-999,9,    -999,9,-999,9, 20080223,     0612, -55.0097,  29.9983,    -999,-999,9,     -999,9,     -999,9,     -999,9,     -999,9,     -999,9,     -999,9,-999,9,     -999,9,     -999,9,     -999,9,    -999,    -999
33RR20080204,       I06S,      56,          1,          1,          1,2,20080223,       0606,   -55.0095,    29.9983,       5525,  5559.8,  -0.1577,  34.6522,2,  34.6535,2,    243.9,2,   242.7,2,  132.53,2,   32.43,2,    0.00,2,    2.26,2,   0.496,2,   0.261,2,   0.045,2,    -999,9,  2353.2,2,     -999,9,     -999,  -0.001,2,   1.881,2,    5.73,2,-0.158,2,-999,9,-999,9,-999,   8.275,2,   0.031,1.346,2,-999,9,-0.23,2,    -999,9,-999,9, 20080223,     0607, -55.0095,  29.9983,   0.009,-999,9,     -999,9,     -999,9,     -999,9,     -999,9,     -999,9,     -999,9,-999,9,     -999,9,     -999,9,     -999,9,    0.15,   0.007