BOTTLE,20220706CCHSIOAMB
EXPOCODE,SECT_ID,STNNBR,CASTNO,SAMPNO,BTLNBR,BTLNBR_FLAG_W,DATE,TIME,LATITUDE,LONGITUDE,DEPTH,CTDPRS,CTDTMP,CTDSAL,CTDSAL_FLAG_W,SALNTY,SALNTY_FLAG_W,CTDOXY,CTDOXY_FLAG_W,OXYGEN,OXYGEN_FLAG_W,SILCAT,SILCAT_FLAG_W,NITRAT,NITRAT_FLAG_W,NITRIT,NITRIT_FLAG_W,PHSPHT,PHSPHT_FLAG_W,CFC-11,CFC-11_FLAG_W,CFC-12,CFC-12_FLAG_W,CFC113,CFC113_FLAG_W,TCARBN,TCARBN_FLAG_W,ALKALI,ALKALI_FLAG_W,PH_SWS,PH_SWS_FLAG_W,PH_TMP,TRITUM,TRITUM_FLAG_W,HELIUM,HELIUM_FLAG_W,DELHE3,DELHE3_FLAG_W,REFTMP,REFTMP_FLAG_W,DELC13,DELC13_FLAG_W,DELC14,DELC14_FLAG_W,C14ERR,NEON,NEON_FLAG_W,NEONER,CCL4,CCL4_FLAG_W,ALUMIN,ALUMIN_FLAG_W,DELO18,DELO18_FLAG_W,DOC,DOC_FLAG_W,TDN,TDN_FLAG_W,BTL_DATE,BTL_TIME,BTL_LAT,BTL_LON,TRITER,DELSI30,DELSI30_FLAG_W,CDOM380,CDOM380_FLAG_W,CDOM325,CDOM325_FLAG_W,CDOMSL,CDOMSL_FLAG_W,CDOM340,CDOM340_FLAG_W,CDOM443,CDOM443_FLAG_W,CDOMSN,CDOMSN_FLAG_W,BLACKC,BLACKC_FLAG_W,CDOM490,CDOM490_FLAG_W,CDOM412,CDOM412_FLAG_W,CDOM555,CDOM555_FLAG_W,DELHER,HELIER
,,,,,,,,,,,METERS,DBAR,ITS-90,PSS-78,,PSS-78,,UMOL/KG,,UMOL/KG,,UMOL/KG,,UMOL/KG,,UMOL/KG,,UMOL/KG,,PMOL/KG,,PMOL/KG,,PMOL/KG,,UMOL/KG,,UMOL/KG,,,,DEG C,TU,,NMOL/KG,,PERCNT,,DEG C,,/MILLE,,/MILLE,,/MILLE,NMOL/KG,,NMOL/KG,PMOL/KG,,NMOL/L,,/MILLE,,UMOL/KG,,UMOL/KG,,,,,,TU,/MILLE,,1/M,,1/M,,1/NM,,1/M,,1/M,,1/NM,,,,1/M,,1/M,,1/M,,PERCNT,NMOL/KG
33RR20080204,       I06S,      76,          3,         36,         36,2,20080229,       1706,   -65.0001,    29.9997,       4874,    28.7,   0.2082,  33.9116,2,  33.9119,2,    338.5,2,   339.3,2,   53.49,2,   26.82,2,    0.30,2,    1.85,2,   6.123,2,   3.457,2,   0.387,2,  2169.6,6,  2299.7,2,     -999,9,     -999,    -999,9,   1.808,2,   -1.53,2,0.2165,2,-999,9,-999,9,-999,   8.086,2,   0.031,9.405,2,-999,9,-0.42,2,    -999,9,-999,9, 20080229,     1934, -64.9937,  29.9577,    -999,-999,9,     -999,9,     -999,9,     -999,9,     -999,9,     -999,9,     -999,9,-999,9,     -999,9,     -999,9,     -999,9,    0.15,   0.007
33RR20080204,       I06S,      76,          3,         35,         35,2,20080229,       1706,   -65.0001,    29.9997,       4874,    43.6,   0.1522,  33.9190,2,  33.9217,2,    338.9,2,   337.7,2,   53.48,2,   26.78,2,    0.29,2,    1.85,2,   6.092,2,   3.479,2,   0.393,2,    -999,9,  2299.7,2,     -999,9,     -999,    -999,9,    -999,9,    -999,9,0.1383,2,-999,9,-999,9,-999,    -999,9,    -999,9.405,2,-999,9,-0.34,2,    -999,9,-999,9, 20080229,     1932, -64.9937,  29.9583,    -999,-999,9,     -999,9,     -999,9,     -999,9,     -999,9,     -999,9,     -999,9,-999,9,     -999,9,     -999,9,     -999,9,    -999,    -999
33RR20080204,       I06S,      76,          3,         34,         34,2,20080229,       1706,   -65.0001,    29.9997,       4874,    78.6,  -1.4980,  34.3194,2,  34.3188,2,    332.0,2,   307.0,2,    -999,5,   29.44,2,    0.15,2,    -999,5,   4.730,2,   2.666,2,   0.320,2,    -999,9,  2323.5,2,     -999,9,     -999,    -999,9,    -999,9,    -999,9,-1.4974,2,-999,9,-999,9,-999,    -999,9,    -999,6.245,2,-999,9,-0.15,2,    -999,9,-999,9, 20080229,     1929, -64.9937,  29.9590,    -999,-999,9,     -999,9,     -999,9,     -999,9,     -999,9,     -999,9,     -999,9,-999,9,     -999,9,     -999,9,     -999,9,    -999,    -999
33RR20080204,       I06S,      76,          3,         33,         33,2,20080229,       1706,   -65.0001,    29.9997,       4874,    79.1,  -1.4828,  34.3247,2,  34.3200,2,    327.7,2,   306.7,2,   63.48,2,   29.50,2,    0.15,2,    2.05,2,   4.728,2,   2.683,2,   0.321,2,    -999,9,  2323.7,2,     -999,9,     -999,    -999,9,    -999,9,    -999,9,-1.4924,2,-999,9,-999,9,-999,    -999,9,    -999,5.814,2,-999,9,-999,9,    -999,9,-999,9, 20080229,     1928, -64.9937,  29.9592,    -999,-999,9,     -999,9,     -999,9,     -999,9,     -999,9,     -999,9,     -999,9,-999,9,     -999,9,     -999,9,     -999,9,    -999,    -999
33RR20080204,       I06S,      76,          3,         32,         32,2,20080229,       1706,   -65.0001,    29.9997,       4874,   103.4,  -0.9775,  34.3902,2,  34.3897,2,    294.3,2,   280.8,2,   70.50,2,   31.01,2,    0.14,2,    2.15,2,   4.177,2,   2.386,2,   0.293,2,    -999,9,  2326.7,2,     -999,9,     -999,   0.029,2,    -999,1,    -999,9,-0.9783,2,-999,9,-999,9,-999,    -999,9,    -999,5.217,2,-999,9,-0.18,2,    -999,9,-999,9, 20080229,     1926, -64.9937,  29.9597,   0.009,-999,9,     -999,9,     -999,9,     -999,9,     -999,9,     -999,9,     -999,9,-999,9,     -999,9,     -999,9,     -999,9,    -999,    -999
33RR20080204,       I06S,      76,          3,         31,         31,2,20080229,       1706,   -65.0001,    29.9997,       4874,   103.7,  -0.9680,  34.3918,2,  34.3897,2,    294.3,2,   280.4,2,   70.50,2,   30.97,2,    0.14,2,    2.16,2,   4.028,2,   2.341,2,   0.279,2,    -999,9,    -999,9,     -999,9,     -999,    -999,9,    -999,9,    -999,9,-0.9722,2,-999,9,-999,9,-999,    -999,9,    -999,4.885,2,-999,9,-0.19,2,    -999,9,-999,9, 20080229,     1926, -64.9937,  29.9599,    -999,-999,9,     -999,9,     -999,9,     -999,9,     -999,9,     -999,9,     -999,9,-999,9,     -999,9,     -999,9,     -999,9,    -999,    -999
33RR20080204,       I06S,      76,          3,         30,         30,2,20080229,       1706,   -65.0001,    29.9997,       4874,   154.2,   0.5269,  34.5743,2,  34.5717,2,    220.2,2,   220.2,2,   84.20,2,   32.45,2,    0.01,2,    2.24,2,   1.936,2,   1.106,2,   0.140,2,    -999,9,  2339.6,2,     -999,9,     -999,  -0.011,2,   1.941,2,    6.94,2,0.5214,2,-999,9,-999,9,-999,   8.357,2,   0.032,2.596,2,-999,9,-0.05,2,    -999,9,-999,9, 20080229,     1924, -64.9938,  29.9605,   0.009,-999,9,     -999,9,     -999,9,     -999,9,     -999,9,     -999,9,     -999,9,-999,9,     -999,9,     -999,9,     -999,9,    0.15,   0.007
33RR20080204,       I06S,      76,          3,         29,         29,2,20080229,       1706,   -65.0001,    29.9997,       4874,   203.7,   1.0808,  34.6463,2,  34.6461,2,    199.6,2,   199.2,2,   90.05,2,   32.56,2,    0.01,2,    2.25,2,   1.110,2,   0.620,2,   0.087,2,    -999,9,    -999,9,     -999,9,     -999,    -999,9,    -999,9,    -999,9,1.0797,2,-999,9,-999,9,-999,    -999,9,    -999,1.626,2,-999,9,-999,9,    -999,9,-999,9, 20080229,     1922, -64.9939,  29.9610,    -999,-999,9,     -999,9,     -999,9,     -999,9,     -999,9,     -999,9,     -999,9,-999,9,     -999,9,     -999,9,     -999,9,    -999,    -999
33RR20080204,       I06S,      76,          3,         28,         28,2,20080229,       1706,   -65.0001,    29.9997,       4874,   254.9,   1.2743,  34.6806,2,  34.6811,2,    195.3,2,   194.7,2,   92.48,2,   32.27,2,    0.00,2,    2.23,2,   0.730,2,   0.420,2,   0.043,2,    -999,9,  2347.6,2,     -999,9,     -999,    -999,9,   1.860,2,    9.53,2,1.275,2,-999,9,-999,9,-999,   8.116,2,   0.031,1.105,2,-999,9,0.03,2,    -999,9,-999,9, 20080229,     1920, -64.9941,  29.9615,    -999,-999,9,     -999,9,     -999,9,     -999,9,     -999,9,     -999,9,     -999,9,-999,9,     -999,9,     -999,9,     -999,9,    0.15,   0.007
33RR20080204,       I06S,      76,          3,         27,         27,2,20080229,       1706,   -65.0001,    29.9997,       4874,   313.8,   1.2897,  34.6946,2,  34.6959,2,    195.3,2,   194.5,2,   94.09,2,   31.96,2,    0.00,2,    2.21,2,   0.583,2,   0.339,2,   0.044,2,    -999,9,    -999,9,     -999,9,     -999,    -999,9,    -999,9,    -999,9,1.2893,2,-999,9,-999,9,-999,    -999,9,    -999,0.985,2,-999,9,-999,9,    -999,9,-999,9, 20080229,     1916, -64.9943,  29.9623,    -999,-999,9,     -999,9,     -999,9,     -999,9,     -999,9,     -999,9,     -999,9,-999,9,     -999,9,     -999,9,     -999,9,    -999,    -999
33RR20080204,       I06S,      76,          3,         26,         26,2,20080229,       1706,   -65.0001,    29.9997,       4874,   404.6,   1.2281,  34.7052,2,  34.7059,2,    196.6,2,   196.2,2,   96.32,2,   31.72,2,    0.00,2,    2.20,2,   0.499,2,   0.284,2,   0.031,2,    -999,9,  2351.8,2,     -999,9,     -999,    -999,9,   1.858,2,    9.28,2,1.2274,2,-999,9,-999,9,-999,   8.058,2,   0.031,0.821,2,-999,9,-0.06,2,    -999,9,-999,9, 20080229,     1913, -64.9945,  29.9629,    -999,-999,9,     -999,9,     -999,9,     -999,9,     -999,9,     -999,9,     -999,9,-999,9,     -999,9,     -999,9,     -999,9,    0.15,   0.007
33RR20080204,       I06S,      76,          3,         25,         25,2,20080229,       1706,   -65.0001,    29.9997,       4874,   464.9,   1.1986,  34.7108,2,  34.7108,2,    196.6,2,   196.6,2,   98.75,2,   31.72,2,    0.00,2,    2.20,2,   0.410,2,   0.228,2,   0.025,2,    -999,9,    -999,9,     -999,9,     -999,    -999,9,    -999,9,    -999,9,1.1977,2,-999,9,-999,9,-999,    -999,9,    -999,0.762,2,-999,9,-999,9,    -999,9,-999,9, 20080229,     1911, -64.9946,  29.9635,    -999,-999,9,     -999,9,     -999,9,     -999,9,     -999,9,     -999,9,     -999,9,-999,9,     -999,9,     -999,9,     -999,9,    -999,    -999
33RR20080204,       I06S,      76,          3,         24,         24,2,20080229,       1706,   -65.0001,    29.9997,       4874,   509.4,   1.1491,  34.7104,2,  34.7106,2,    197.2,2,   197.7,2,  100.17,2,   31.67,2,    0.00,2,    2.20,2,   0.409,2,   0.238,2,   0.026,2,    -999,9,  2353.9,2,     -999,9,     -999,  -0.005,2,   1.878,2,    9.58,2,1.1485,2,-999,9,-999,9,-999,   8.159,2,   0.031,0.729,2,-999,9,-999,9,    -999,9,-999,9, 20080229,     1909, -64.9947,  29.9640,   0.009,-999,9,     -999,9,     -999,9,     -999,9,     -999,9,     -999,9,     -999,9,-999,9,     -999,9,     -999,9,     -999,9,    0.15,   0.007
33RR20080204,       I06S,      76,          3,         23,         23,2,20080229,       1706,   -65.0001,    29.9997,       4874,   609.9,   1.0444,  34.7098,2,  34.7098,2,    199.9,2,   200.3,2,  102.21,2,   31.68,2,    0.00,2,    2.20,2,   0.395,2,   0.232,2,   0.030,2,    -999,9,    -999,9,     -999,9,     -999,  -0.011,2,   1.871,2,    9.17,2,1.0442,2,-999,9,-999,9,-999,   8.156,2,   0.031,0.681,2,-999,9,-999,9,    -999,9,-999,9, 20080229,     1906, -64.9948,  29.9648,   0.009,-999,9,     -999,9,     -999,9,     -999,9,     -999,9,     -999,9,     -999,9,-999,9,     -999,9,     -999,9,     -999,9,    0.15,   0.007
33RR20080204,       I06S,      76,          3,         22,         22,2,20080229,       1706,   -65.0001,    29.9997,       4874,   709.3,   0.9540,  34.7083,2,  34.7090,2,    200.6,2,   201.5,2,  105.05,2,   31.78,2,    0.00,2,    2.20,2,   0.390,2,   0.219,2,   0.030,2,    -999,9,  2354.9,2,     -999,9,     -999,    -999,9,    -999,9,    -999,9,0.9538,2,-999,9,-999,9,-999,    -999,9,    -999,0.724,2,-999,9,-0.06,2,    -999,9,-999,9, 20080229,     1903, -64.9949,  29.9655,    -999,-999,9,     -999,9,     -999,9,     -999,9,     -999,9,     -999,9,     -999,9,-999,9,     -999,9,     -999,9,     -999,9,    -999,    -999
33RR20080204,       I06S,      76,          3,         21,         21,2,20080229,       1706,   -65.0001,    29.9997,       4874,   809.5,   0.8501,  34.7048,2,  34.7057,2,    202.3,2,   202.9,2,  107.49,2,   31.93,2,    0.00,2,    2.20,2,   0.361,2,   0.208,2,   0.025,2,    -999,9,    -999,9,     -999,9,     -999,  -0.001,2,    -999,1,    -999,9,0.8501,2,-999,9,-999,9,-999,    -999,9,    -999,0.745,2,-999,9,-999,9,    -999,9,-999,9, 20080229,     1900, -64.9948,  29.9663,   0.009,-999,9,     -999,9,     -999,9,     -999,9,     -999,9,     -999,9,     -999,9,-999,9,     -999,9,     -999,9,     -999,9,    -999,    -999
33RR20080204,       I06S,      76,          3,         20,         20,2,20080229,       1706,   -65.0001,    29.9997,       4874,   909.5,   0.7718,  34.7019,2,  34.7024,2,    203.8,2,   203.8,2,  109.94,2,   32.04,2,    0.00,2,    2.22,2,   0.359,2,   0.199,2,   0.022,2,    -999,9,  2356.3,2,     -999,9,     -999,    -999,9,    -999,9,    -999,9,0.7717,2,-999,9,-999,9,-999,    -999,9,    -999,0.759,2,-999,9,-999,9,    -999,9,-999,9, 20080229,     1857, -64.9945,  29.9669,    -999,-999,9,     -999,9,     -999,9,     -999,9,     -999,9,     -999,9,     -999,9,-999,9,     -999,9,     -999,9,     -999,9,    -999,    -999
33RR20080204,       I06S,      76,          3,         19,         19,2,20080229,       1706,   -65.0001,    29.9997,       4874,  1021.1,   0.6919,  34.6983,2,  34.6988,2,    205.0,2,   204.6,2,  112.37,2,   32.25,2,    0.00,2,    2.23,2,   0.348,2,   0.195,2,   0.026,2,    -999,9,    -999,9,     -999,9,     -999,  -0.001,6,    -999,1,    -999,9,0.6913,2,-999,9,-999,9,-999,    -999,9,    -999,0.779,2,-999,9,-999,9,    -999,9,-999,9, 20080229,     1853, -64.9942,  29.9678,   0.006,-999,9,     -999,9,     -999,9,     -999,9,     -999,9,     -999,9,     -999,9,-999,9,     -999,9,     -999,9,     -999,9,    -999,    -999
33RR20080204,       I06S,      76,          3,         18,         18,2,20080229,       1706,   -65.0001,    29.9997,       4874,  1120.6,   0.6268,  34.6964,2,  34.6967,2,    205.0,2,   203.9,2,  115.03,2,   32.45,2,    0.00,2,    2.24,2,   0.310,2,   0.177,2,   0.017,2,    -999,9,  2356.7,2,     -999,9,     -999,    -999,9,    -999,9,    -999,9,0.6258,2,-999,9,-999,9,-999,    -999,9,    -999,0.631,2,-999,9,-0.13,2,    -999,9,-999,9, 20080229,     1850, -64.9938,  29.9688,    -999,-999,9,     -999,9,     -999,9,     -999,9,     -999,9,     -999,9,     -999,9,-999,9,     -999,9,     -999,9,     -999,9,    -999,    -999
33RR20080204,       I06S,      76,          3,         17,         17,2,20080229,       1706,   -65.0001,    29.9997,       4874,  1219.2,   0.5726,  34.6940,2,  34.6945,2,    205.6,2,   204.7,2,  117.08,2,   32.55,2,    0.00,2,    2.25,2,   0.291,2,   0.164,2,   0.021,2,    -999,9,    -999,9,     -999,9,     -999,  -0.006,2,    -999,1,    -999,9,0.5719,2,-999,9,-999,9,-999,    -999,9,    -999,0.623,2,-999,9,-999,9,    -999,9,-999,9, 20080229,     1847, -64.9938,  29.9695,   0.009,-999,9,     -999,9,     -999,9,     -999,9,     -999,9,     -999,9,     -999,9,-999,9,     -999,9,     -999,9,     -999,9,    -999,    -999
33RR20080204,       I06S,      76,          3,         16,         16,2,20080229,       1706,   -65.0001,    29.9997,       4874,  1320.7,   0.5172,  34.6914,2,  34.6920,2,    206.6,2,   205.6,2,  118.30,2,   32.65,2,    0.00,2,    2.26,2,   0.276,2,   0.164,2,   0.012,2,    -999,9,    -999,9,     -999,9,     -999,    -999,9,    -999,9,    -999,9,0.5161,2,-999,9,-999,9,-999,    -999,9,    -999,0.627,2,-999,9,-999,9,    -999,9,-999,9, 20080229,     1844, -64.9942,  29.9702,    -999,-999,9,     -999,9,     -999,9,     -999,9,     -999,9,     -999,9,     -999,9,-999,9,     -999,9,     -999,9,     -999,9,    -999,    -999
33RR20080204,       I06S,      76,          3,         15,         15,2,20080229,       1706,   -65.0001,    29.9997,       4874,  1421.1,   0.4708,  34.6897,2,  34.6900,2,    207.0,2,   206.4,2,  120.35,2,   32.70,2,    0.00,2,    2.27,2,   0.260,2,   0.174,2,   0.012,2,    -999,9,  2357.0,2,     -999,9,     -999,  -0.002,2,    -999,1,    -999,9,0.4703,2,-999,9,-999,9,-999,    -999,9,    -999,0.633,2,-999,9,-999,9,    -999,9,-999,9, 20080229,     1840, -64.9948,  29.9707,   0.009,-999,9,     -999,9,     -999,9,     -999,9,     -999,9,     -999,9,     -999,9,-999,9,     -999,9,     -999,9,     -999,9,    -999,    -999
33RR20080204,       I06S,      76,          3,         14,         14,2,20080229,       1706,   -65.0001,    29.9997,       4874,  1522.3,   0.4260,  34.6873,2,  34.6880,2,    208.7,2,   207.7,2,  121.57,2,   32.76,2,    0.00,2,    2.27,2,   0.264,2,   0.150,2,   0.014,2,    -999,9,    -999,9,     -999,9,     -999,    -999,9,    -999,9,    -999,9,0.4253,2,-999,9,-999,9,-999,    -999,9,    -999,0.635,2,-999,9,-0.07,2,    -999,9,-999,9, 20080229,     1837, -64.9954,  29.9712,    -999,-999,9,     -999,9,     -999,9,     -999,9,     -999,9,     -999,9,     -999,9,-999,9,     -999,9,     -999,9,     -999,9,    -999,    -999
33RR20080204,       I06S,      76,          3,         13,         13,2,20080229,       1706,   -65.0001,    29.9997,       4874,  1624.9,   0.3733,  34.6843,2,  34.6857,2,    210.7,2,   209.7,2,  121.98,2,   32.71,2,    0.00,2,    2.27,2,   0.289,2,   0.158,2,   0.006,2,    -999,9,    -999,9,     -999,9,     -999,   0.002,2,    -999,1,    -999,9,0.3732,2,-999,9,-999,9,-999,    -999,9,    -999,0.687,2,-999,9,-999,9,    -999,9,-999,9, 20080229,     1834, -64.9960,  29.9716,   0.009,-999,9,     -999,9,     -999,9,     -999,9,     -999,9,     -999,9,     -999,9,-999,9,     -999,9,     -999,9,     -999,9,    -999,    -999
33RR20080204,       I06S,      76,          3,         12,         12,2,20080229,       1706,   -65.0001,    29.9997,       4874,  1831.2,   0.2833,  34.6804,2,  34.6814,2,    213.7,2,   213.2,2,  123.00,2,   32.71,2,    0.00,2,    2.27,2,   0.303,2,   0.175,2,   0.012,2,    -999,9,  2356.8,2,     -999,9,     -999,  -0.008,2,    -999,1,    -999,9,0.2833,2,-999,9,-999,9,-999,    -999,9,    -999,0.718,2,-999,9,-999,9,    -999,9,-999,9, 20080229,     1829, -64.9970,  29.9723,   0.009,-999,9,     -999,9,     -999,9,     -999,9,     -999,9,     -999,9,     -999,9,-999,9,     -999,9,     -999,9,     -999,9,    -999,    -999
33RR20080204,       I06S,      76,          3,         11,         11,2,20080229,       1706,   -65.0001,    29.9997,       4874,  2037.2,   0.1794,  34.6736,2,  34.6739,2,    218.8,2,   218.2,2,  122.18,2,   32.66,2,    0.00,2,    2.26,2,   0.451,2,   0.277,2,   0.024,2,    -999,9,    -999,9,     -999,9,     -999,   0.003,2,    -999,1,    -999,9,0.1789,2,-999,9,-999,9,-999,    -999,9,    -999,0.894,2,-999,9,-999,9,    -999,9,-999,9, 20080229,     1824, -64.9977,  29.9732,   0.009,-999,9,     -999,9,     -999,9,     -999,9,     -999,9,     -999,9,     -999,9,-999,9,     -999,9,     -999,9,     -999,9,    -999,    -999
33RR20080204,       I06S,      76,          3,         10,         10,2,20080229,       1706,   -65.0001,    29.9997,       4874,  2339.6,   0.0811,  34.6701,2,  34.6700,2,    222.8,2,   222.2,2,  123.40,2,   32.57,2,    0.00,2,    2.26,2,   0.492,2,   0.269,2,   0.031,2,    -999,9,    -999,9,     -999,9,     -999,    -999,9,    -999,1,    -999,9,0.0801,2,-999,9,-999,9,-999,    -999,9,    -999,0.999,2,-999,9,-0.19,2,    -999,9,-999,9, 20080229,     1817, -64.9985,  29.9746,    -999,-999,9,     -999,9,     -999,9,     -999,9,     -999,9,     -999,9,     -999,9,-999,9,     -999,9,     -999,9,     -999,9,    -999,    -999
33RR20080204,       I06S,      76,          3,          9,          9,2,20080229,       1706,   -65.0001,    29.9997,       4874,  2644.6,  -0.0105,  34.6660,2,  34.6662,2,    226.8,2,   226.7,2,  123.81,2,   32.58,2,    0.00,2,    2.25,2,   0.576,2,   0.339,2,   0.036,2,    -999,9,  2354.3,2,     -999,9,     -999,   0.014,2,    -999,1,    -999,9,-0.0105,2,-999,9,-999,9,-999,    -999,9,    -999,1.141,2,-999,9,-999,9,    -999,9,-999,9, 20080229,     1810, -64.9993,  29.9763,   0.009,-999,9,     -999,9,     -999,9,     -999,9,     -999,9,     -999,9,     -999,9,-999,9,     -999,9,     -999,9,     -999,9,    -999,    -999
33RR20080204,       I06S,      76,          3,          8,          8,2,20080229,       1706,   -65.0001,    29.9997,       4874,  2946.1,  -0.0769,  34.6625,2,  34.6627,2,    230.5,2,   230.9,2,  122.79,2,   32.43,2,    0.00,2,    2.24,2,   0.746,2,   0.418,2,   0.050,2,    -999,9,    -999,9,     -999,9,     -999,   0.006,2,    -999,1,    -999,9,-0.0771,2,-999,9,-999,9,-999,    -999,9,    -999,1.302,2,-999,9,-999,9,    -999,9,-999,9, 20080229,     1803, -65.0003,  29.9780,   0.009,-999,9,     -999,9,     -999,9,     -999,9,     -999,9,     -999,9,     -999,9,-999,9,     -999,9,     -999,9,     -999,9,    -999,    -999