BOTTLE,20220706CCHSIOAMB
EXPOCODE,SECT_ID,STNNBR,CASTNO,SAMPNO,BTLNBR,BTLNBR_FLAG_W,DATE,TIME,LATITUDE,LONGITUDE,DEPTH,CTDPRS,CTDTMP,CTDSAL,CTDSAL_FLAG_W,SALNTY,SALNTY_FLAG_W,CTDOXY,CTDOXY_FLAG_W,OXYGEN,OXYGEN_FLAG_W,SILCAT,SILCAT_FLAG_W,NITRAT,NITRAT_FLAG_W,NITRIT,NITRIT_FLAG_W,PHSPHT,PHSPHT_FLAG_W,CFC-11,CFC-11_FLAG_W,CFC-12,CFC-12_FLAG_W,CFC113,CFC113_FLAG_W,TCARBN,TCARBN_FLAG_W,ALKALI,ALKALI_FLAG_W,PH_SWS,PH_SWS_FLAG_W,PH_TMP,TRITUM,TRITUM_FLAG_W,HELIUM,HELIUM_FLAG_W,DELHE3,DELHE3_FLAG_W,REFTMP,REFTMP_FLAG_W,DELC13,DELC13_FLAG_W,DELC14,DELC14_FLAG_W,C14ERR,NEON,NEON_FLAG_W,NEONER,CCL4,CCL4_FLAG_W,ALUMIN,ALUMIN_FLAG_W,DELO18,DELO18_FLAG_W,DOC,DOC_FLAG_W,TDN,TDN_FLAG_W,BTL_DATE,BTL_TIME,BTL_LAT,BTL_LON,TRITER,DELSI30,DELSI30_FLAG_W,CDOM380,CDOM380_FLAG_W,CDOM325,CDOM325_FLAG_W,CDOMSL,CDOMSL_FLAG_W,CDOM340,CDOM340_FLAG_W,CDOM443,CDOM443_FLAG_W,CDOMSN,CDOMSN_FLAG_W,BLACKC,BLACKC_FLAG_W,CDOM490,CDOM490_FLAG_W,CDOM412,CDOM412_FLAG_W,CDOM555,CDOM555_FLAG_W,DELHER,HELIER
,,,,,,,,,,,METERS,DBAR,ITS-90,PSS-78,,PSS-78,,UMOL/KG,,UMOL/KG,,UMOL/KG,,UMOL/KG,,UMOL/KG,,UMOL/KG,,PMOL/KG,,PMOL/KG,,PMOL/KG,,UMOL/KG,,UMOL/KG,,,,DEG C,TU,,NMOL/KG,,PERCNT,,DEG C,,/MILLE,,/MILLE,,/MILLE,NMOL/KG,,NMOL/KG,PMOL/KG,,NMOL/L,,/MILLE,,UMOL/KG,,UMOL/KG,,,,,,TU,/MILLE,,1/M,,1/M,,1/NM,,1/M,,1/M,,1/NM,,,,1/M,,1/M,,1/M,,PERCNT,NMOL/KG
33RR20080204,       I06S,      37,          3,          7,          7,2,20080216,       2251,   -45.4990,    29.9984,       5863,  4691.7,   0.4663,  34.6807,2,  34.6801,2,    217.2,2,   218.1,2,  128.05,2,   32.34,2,    0.00,2,    2.23,2,   0.288,2,   0.156,2,   0.005,2,    -999,9,  2359.2,2,   7.7890,2,    13.00,    -999,9,    -999,9,    -999,9,0.4661,2,-999,9,-999,9,-999,    -999,9,    -999,0.849,2,-999,9,-999,9,    -999,9,-999,9, 20080216,     2325, -45.4990,  29.9984,    -999,-999,9,     -999,9,     -999,9,     -999,9,     -999,9,     -999,9,     -999,9,-999,9,     -999,9,     -999,9,     -999,9,    -999,    -999
33RR20080204,       I06S,      37,          3,          6,          6,2,20080216,       2251,   -45.4990,    29.9984,       5863,  4896.1,   0.3470,  34.6747,2,  34.6736,2,    221.1,2,   222.0,2,  129.18,2,   32.39,2,    0.00,2,    2.24,2,   0.341,2,   0.187,2,   0.020,2,    -999,9,  2360.1,2,   7.7813,4,    13.00,    -999,9,    -999,9,    -999,9,0.3478,2,-999,9,-999,9,-999,    -999,9,    -999,0.649,2,-999,9,-999,9,   39.61,2,-999,1, 20080216,     2320, -45.4991,  29.9982,    -999,-999,9,     -999,9,     -999,9,     -999,9,     -999,9,     -999,9,     -999,9,-999,9,     -999,9,     -999,9,     -999,9,    -999,    -999
33RR20080204,       I06S,      37,          3,          5,          5,2,20080216,       2251,   -45.4990,    29.9984,       5863,  5101.7,   0.2689,  34.6706,2,  34.6703,2,    224.8,2,   225.8,2,  129.18,2,   32.39,2,    0.00,2,    2.24,2,   0.360,6,   0.199,6,   0.024,6,    -999,9,  2357.2,2,   7.7972,4,    13.00,    -999,9,    -999,9,    -999,9,0.2694,2,-999,9,-999,9,-999,    -999,9,    -999,1.661,2,-999,9,-999,9,    -999,9,-999,1, 20080216,     2314, -45.4991,  29.9983,    -999,-999,1,     -999,9,     -999,9,     -999,9,     -999,9,     -999,9,     -999,9,-999,9,     -999,9,     -999,9,     -999,9,    -999,    -999
33RR20080204,       I06S,      37,          3,          4,          4,2,20080216,       2251,   -45.4990,    29.9984,       5863,  5307.2,   0.2598,  34.6690,2,  34.6691,2,    226.3,2,   227.0,2,  129.37,2,   32.39,2,    0.00,2,    2.24,2,   0.371,2,   0.199,2,   0.025,2,    -999,9,  2356.4,2,   7.7925,2,    13.00,    -999,9,    -999,9,    -999,9,0.2603,2,-999,9,-999,9,-999,    -999,9,    -999,1.707,2,-999,9,-999,9,    -999,9,-999,9, 20080216,     2309, -45.4990,  29.9984,    -999,-999,9,     -999,9,     -999,9,     -999,9,     -999,9,     -999,9,     -999,9,-999,9,     -999,9,     -999,9,     -999,9,    -999,    -999
33RR20080204,       I06S,      37,          3,          3,          3,2,20080216,       2251,   -45.4990,    29.9984,       5863,  5510.7,   0.2602,  34.6677,2,  34.6684,2,    227.5,2,   226.7,2,  129.36,2,   32.39,2,    0.00,2,    2.24,2,   0.382,2,   0.210,2,   0.028,2,  2261.9,2,  2357.4,2,   7.7909,2,    13.00,    -999,9,    -999,9,    -999,9,0.2606,2,-999,9,-999,9,-999,    -999,9,    -999,1.683,2,-999,9,-999,9,   39.61,2,-999,1, 20080216,     2304, -45.4990,  29.9984,    -999,-999,9,     -999,9,     -999,9,     -999,9,     -999,9,     -999,9,     -999,9,-999,9,     -999,9,     -999,9,     -999,9,    -999,    -999
33RR20080204,       I06S,      37,          3,          2,          2,2,20080216,       2251,   -45.4990,    29.9984,       5863,  5737.4,   0.2733,  34.6665,2,  34.6672,2,    228.2,2,   227.4,2,  129.75,2,   32.33,2,    0.00,2,    2.24,2,   0.387,2,   0.210,2,   0.034,2,    -999,9,  2358.2,2,   7.7848,4,    13.00,    -999,9,    -999,9,    -999,9,0.2732,2,-999,9,-999,9,-999,    -999,9,    -999,1.544,2,-999,9,-999,9,    -999,9,-999,9, 20080216,     2259, -45.4991,  29.9982,    -999,-999,9,     -999,9,     -999,9,     -999,9,     -999,9,     -999,9,     -999,9,-999,9,     -999,9,     -999,9,     -999,9,    -999,    -999
33RR20080204,       I06S,      37,          3,          1,          1,2,20080216,       2251,   -45.4990,    29.9984,       5863,  5951.4,   0.2975,  34.6660,2,  34.6670,2,    228.1,2,   227.6,2,  129.74,2,   32.33,2,    0.00,2,    2.24,2,   0.396,2,   0.208,2,   0.039,2,  2257.7,6,  2358.0,2,   7.7909,2,    13.00,    -999,9,    -999,9,    -999,9,0.2973,2,-999,9,-999,9,-999,    -999,9,    -999,1.154,2,-999,9,-999,9,   39.90,2,-999,1, 20080216,     2253, -45.4989,  29.9984,    -999,-999,1,     -999,9,     -999,9,     -999,9,     -999,9,     -999,9,     -999,9,-999,9,     -999,9,     -999,9,     -999,9,    -999,    -999