BOTTLE,20220706CCHSIOAMB
EXPOCODE,SECT_ID,STNNBR,CASTNO,SAMPNO,BTLNBR,BTLNBR_FLAG_W,DATE,TIME,LATITUDE,LONGITUDE,DEPTH,CTDPRS,CTDTMP,CTDSAL,CTDSAL_FLAG_W,SALNTY,SALNTY_FLAG_W,CTDOXY,CTDOXY_FLAG_W,OXYGEN,OXYGEN_FLAG_W,SILCAT,SILCAT_FLAG_W,NITRAT,NITRAT_FLAG_W,NITRIT,NITRIT_FLAG_W,PHSPHT,PHSPHT_FLAG_W,CFC-11,CFC-11_FLAG_W,CFC-12,CFC-12_FLAG_W,CFC113,CFC113_FLAG_W,TCARBN,TCARBN_FLAG_W,ALKALI,ALKALI_FLAG_W,PH_SWS,PH_SWS_FLAG_W,PH_TMP,TRITUM,TRITUM_FLAG_W,HELIUM,HELIUM_FLAG_W,DELHE3,DELHE3_FLAG_W,REFTMP,REFTMP_FLAG_W,DELC13,DELC13_FLAG_W,DELC14,DELC14_FLAG_W,C14ERR,NEON,NEON_FLAG_W,NEONER,CCL4,CCL4_FLAG_W,ALUMIN,ALUMIN_FLAG_W,DELO18,DELO18_FLAG_W,DOC,DOC_FLAG_W,TDN,TDN_FLAG_W,BTL_DATE,BTL_TIME,BTL_LAT,BTL_LON,TRITER,DELSI30,DELSI30_FLAG_W,CDOM380,CDOM380_FLAG_W,CDOM325,CDOM325_FLAG_W,CDOMSL,CDOMSL_FLAG_W,CDOM340,CDOM340_FLAG_W,CDOM443,CDOM443_FLAG_W,CDOMSN,CDOMSN_FLAG_W,BLACKC,BLACKC_FLAG_W,CDOM490,CDOM490_FLAG_W,CDOM412,CDOM412_FLAG_W,CDOM555,CDOM555_FLAG_W,DELHER,HELIER
,,,,,,,,,,,METERS,DBAR,ITS-90,PSS-78,,PSS-78,,UMOL/KG,,UMOL/KG,,UMOL/KG,,UMOL/KG,,UMOL/KG,,UMOL/KG,,PMOL/KG,,PMOL/KG,,PMOL/KG,,UMOL/KG,,UMOL/KG,,,,DEG C,TU,,NMOL/KG,,PERCNT,,DEG C,,/MILLE,,/MILLE,,/MILLE,NMOL/KG,,NMOL/KG,PMOL/KG,,NMOL/L,,/MILLE,,UMOL/KG,,UMOL/KG,,,,,,TU,/MILLE,,1/M,,1/M,,1/NM,,1/M,,1/M,,1/NM,,,,1/M,,1/M,,1/M,,PERCNT,NMOL/KG
33RR20080204,       I06S,      15,          2,         35,         35,2,20080209,       1929,   -34.7804,    29.7654,       4396,     3.6,  22.9883,  35.7013,2,  35.7011,2,    218.7,2,   218.6,2,    1.97,2,    0.12,2,    0.00,2,    0.04,2,   1.983,2,   1.211,2,   0.162,2,  2021.6,6,  2337.9,2,   8.1330,2,    20.00,    -999,9,    -999,9,    -999,9,22.987,2,-999,9,-999,9,-999,    -999,9,    -999,2.812,2,-999,9,-999,9,   73.56,2,-999,1, 20080209,     2139, -34.7800,  29.7653,    -999,-999,9,     -999,9,     -999,9,     -999,9,     -999,9,     -999,9,     -999,9,-999,9,     -999,9,     -999,9,     -999,9,    -999,    -999
33RR20080204,       I06S,      15,          2,         34,         34,2,20080209,       1929,   -34.7804,    29.7654,       4396,    27.0,  22.9790,  35.6971,2,  35.6986,2,    220.4,2,   216.9,2,    1.97,2,    0.07,2,    0.00,2,    0.03,2,   0.005,4,  -0.007,4,   0.000,4,  2021.7,2,  2337.6,2,   8.1200,4,    20.00,    -999,9,    -999,9,    -999,9,22.9764,2,-999,9,-999,9,-999,    -999,9,    -999,-0.075,4,-999,9,-999,9,   58.44,4,-999,1, 20080209,     2136, -34.7800,  29.7653,    -999,-999,9,     -999,9,     -999,9,     -999,9,     -999,9,     -999,9,     -999,9,-999,9,     -999,9,     -999,9,     -999,9,    -999,    -999
33RR20080204,       I06S,      15,          2,         33,         33,2,20080209,       1929,   -34.7804,    29.7654,       4396,    61.7,  21.9606,  35.6293,2,  35.6291,2,    226.6,2,   224.2,2,    1.96,2,    0.07,2,    0.00,2,    0.04,2,   2.079,2,   1.287,2,   0.158,2,  2019.4,2,  2333.6,2,   8.1310,2,    20.00,    -999,9,    -999,9,    -999,9,21.9581,2,-999,9,-999,9,-999,    -999,9,    -999,2.572,2,-999,9,-999,9,   68.39,2,-999,1, 20080209,     2133, -34.7800,  29.7653,    -999,-999,9,     -999,9,     -999,9,     -999,9,     -999,9,     -999,9,     -999,9,-999,9,     -999,9,     -999,9,     -999,9,    -999,    -999
33RR20080204,       I06S,      15,          2,         32,         32,2,20080209,       1929,   -34.7804,    29.7654,       4396,    86.8,  21.2503,  35.5822,2,  35.5825,2,    227.7,2,   225.2,2,    1.95,2,    0.07,2,    0.00,2,    0.05,2,   2.154,2,   1.332,2,   0.153,2,  2021.5,2,  2330.2,2,   8.1230,2,    20.00,    -999,9,    -999,9,    -999,9,21.2352,2,-999,9,-999,9,-999,    -999,9,    -999,2.409,2,-999,9,-999,9,   63.80,2,-999,1, 20080209,     2131, -34.7800,  29.7653,    -999,-999,9,     -999,9,     -999,9,     -999,9,     -999,9,     -999,9,     -999,9,-999,9,     -999,9,     -999,9,     -999,9,    -999,    -999
33RR20080204,       I06S,      15,          2,         31,         31,2,20080209,       1929,   -34.7804,    29.7654,       4396,   113.2,  20.4674,  35.5499,2,  35.5504,2,    224.5,2,   237.5,2,    1.94,2,    0.07,2,    0.11,2,    0.11,2,   2.210,2,   1.371,2,   0.177,2,  2031.4,2,  2328.5,2,   8.1060,2,    20.00,    -999,9,    -999,9,    -999,9,20.4773,2,-999,9,-999,9,-999,    -999,9,    -999,2.047,2,-999,9,-999,9,   60.88,2,-999,1, 20080209,     2128, -34.7800,  29.7653,    -999,-999,9,     -999,9,     -999,9,     -999,9,     -999,9,     -999,9,     -999,9,-999,9,     -999,9,     -999,9,     -999,9,    -999,    -999
33RR20080204,       I06S,      15,          2,         30,         30,2,20080209,       1929,   -34.7804,    29.7654,       4396,   162.4,  18.7245,  35.5258,2,  35.5267,2,    200.3,2,   195.7,2,    3.52,2,    3.60,2,    0.02,2,    0.34,2,   2.314,2,   1.401,2,   0.122,2,  2065.2,2,  2327.2,2,   8.0430,2,    20.00,    -999,9,    -999,9,    -999,9,18.6884,3,-999,9,-999,9,-999,    -999,9,    -999,1.233,2,-999,9,-999,9,   55.32,2,-999,1, 20080209,     2126, -34.7800,  29.7653,    -999,-999,9,     -999,9,     -999,9,     -999,9,     -999,9,     -999,9,     -999,9,-999,9,     -999,9,     -999,9,     -999,9,    -999,    -999
33RR20080204,       I06S,      15,          2,         29,         29,2,20080209,       1929,   -34.7804,    29.7654,       4396,   213.0,  16.6758,  35.4649,2,  35.4683,2,    184.9,2,   181.8,2,    5.91,2,    7.75,2,    0.01,2,    0.61,2,   2.449,2,   1.445,2,   0.044,2,  2098.5,2,  2325.6,2,   7.9790,2,    20.00,    -999,9,    -999,9,    -999,9,16.691,2,-999,9,-999,9,-999,    -999,9,    -999,0.955,2,-999,9,-999,9,   52.29,2,-999,1, 20080209,     2124, -34.7800,  29.7653,    -999,-999,9,     -999,9,     -999,9,     -999,9,     -999,9,     -999,9,     -999,9,-999,9,     -999,9,     -999,9,     -999,9,    -999,    -999
33RR20080204,       I06S,      15,          2,         28,         28,2,20080209,       1929,   -34.7804,    29.7654,       4396,   274.1,  14.4650,  34.9365,3,  35.3350,2,    185.5,2,   191.6,2,    6.30,2,    9.94,2,    0.01,2,    0.76,2,   2.745,2,   1.565,2,   0.051,2,  2114.3,2,  2323.0,2,   7.9400,2,    20.00,    -999,9,    -999,9,    -999,9,14.4677,2,-999,9,-999,9,-999,    -999,9,    -999,1.095,2,-999,9,-999,9,   49.07,2,-999,1, 20080209,     2122, -34.7800,  29.7654,    -999,-999,9,     -999,9,     -999,9,     -999,9,     -999,9,     -999,9,     -999,9,-999,9,     -999,9,     -999,9,     -999,9,    -999,    -999
33RR20080204,       I06S,      15,          2,         27,         27,2,20080209,       1929,   -34.7804,    29.7654,       4396,   327.9,  12.3333,  34.8731,3,  35.1252,2,    203.0,2,   210.2,2,    5.90,2,   12.05,2,    0.01,2,    0.89,2,   3.087,2,   1.685,2,   0.073,2,  2121.6,2,  2313.8,2,   7.9120,2,    20.00,    -999,9,    -999,9,    -999,9,12.331,2,-999,9,-999,9,-999,    -999,9,    -999,1.427,2,-999,9,-999,9,   52.39,2,-999,1, 20080209,     2119, -34.7801,  29.7654,    -999,-999,9,     -999,9,     -999,9,     -999,9,     -999,9,     -999,9,     -999,9,-999,9,     -999,9,     -999,9,     -999,9,    -999,    -999
33RR20080204,       I06S,      15,          2,         26,         26,2,20080209,       1929,   -34.7804,    29.7654,       4396,   376.8,  11.0305,  34.8290,3,  34.9616,2,    216.4,2,   217.1,2,    6.29,2,   14.12,2,    0.00,2,    1.02,2,   3.170,2,   1.713,2,   0.097,2,  2127.5,2,  2305.2,2,   7.8900,2,    20.00,    -999,9,    -999,9,    -999,9,11.0327,2,-999,9,-999,9,-999,    -999,9,    -999,1.62,2,-999,9,-999,9,    -999,9,-999,9, 20080209,     2117, -34.7800,  29.7653,    -999,-999,9,     -999,9,     -999,9,     -999,9,     -999,9,     -999,9,     -999,9,-999,9,     -999,9,     -999,9,     -999,9,    -999,    -999
33RR20080204,       I06S,      15,          2,         25,         25,2,20080209,       1929,   -34.7804,    29.7654,       4396,   427.2,  10.0952,  34.7969,3,  34.8375,2,    219.6,2,   218.5,2,    7.08,2,   16.08,2,    0.00,2,    1.13,2,   3.180,2,   1.676,2,   0.121,2,  2130.7,2,  2299.6,2,   7.8690,2,    20.00,    -999,9,    -999,9,    -999,9,10.1062,2,-999,9,-999,9,-999,    -999,9,    -999,1.704,2,-999,9,-999,9,   42.93,2,-999,1, 20080209,     2115, -34.7800,  29.7653,    -999,-999,1,     -999,9,     -999,9,     -999,9,     -999,9,     -999,9,     -999,9,-999,9,     -999,9,     -999,9,     -999,9,    -999,    -999
33RR20080204,       I06S,      15,          2,         24,         24,2,20080209,       1929,   -34.7804,    29.7654,       4396,   477.0,   9.3881,  34.7201,3,  34.7465,2,    217.1,2,   215.5,2,    8.87,2,   18.15,2,    0.00,2,    1.26,2,   2.997,2,   1.535,2,   0.088,2,  2137.3,2,  2297.3,2,   7.8470,2,    20.00,    -999,9,    -999,9,    -999,9,9.3951,2,-999,9,-999,9,-999,    -999,9,    -999,1.864,2,-999,9,-999,9,    -999,9,-999,9, 20080209,     2113, -34.7800,  29.7653,    -999,-999,9,     -999,9,     -999,9,     -999,9,     -999,9,     -999,9,     -999,9,-999,9,     -999,9,     -999,9,     -999,9,    -999,    -999
33RR20080204,       I06S,      15,          2,         23,         23,2,20080209,       1929,   -34.7804,    29.7654,       4396,   525.4,   8.9167,  34.6575,3,  34.6938,2,    214.8,2,   211.2,2,   10.87,2,   19.73,2,    0.00,2,    1.37,2,   2.778,2,   1.428,2,   0.091,2,  2144.1,2,  2295.5,2,   7.8300,2,    20.00,    -999,9,    -999,9,    -999,9,8.911,2,-999,9,-999,9,-999,    -999,9,    -999,1.976,2,-999,9,-999,9,   39.02,2,-999,1, 20080209,     2110, -34.7800,  29.7653,    -999,-999,9,     -999,9,     -999,9,     -999,9,     -999,9,     -999,9,     -999,9,-999,9,     -999,9,     -999,9,     -999,9,    -999,    -999
33RR20080204,       I06S,      15,          2,         22,         22,2,20080209,       1929,   -34.7804,    29.7654,       4396,   646.6,   7.7700,  34.4755,3,  34.5910,2,    178.6,4,   198.5,2,   17.48,2,   23.54,2,    0.00,2,    1.62,2,   2.214,2,   1.130,2,   0.086,2,  2161.9,2,  2295.4,2,   7.7870,2,    20.00,    -999,9,    -999,9,    -999,9,7.7731,2,-999,9,-999,9,-999,    -999,9,    -999,1.936,2,-999,9,-999,9,   41.95,2,-999,1, 20080209,     2107, -34.7802,  29.7654,    -999,-999,1,     -999,9,     -999,9,     -999,9,     -999,9,     -999,9,     -999,9,-999,1,     -999,9,     -999,9,     -999,9,    -999,    -999
33RR20080204,       I06S,      15,          2,         21,         21,2,20080209,       1929,   -34.7804,    29.7654,       4396,   747.1,   6.9110,  34.4603,3,  34.5315,2,    174.4,4,   192.4,2,   23.32,2,   26.07,2,    0.00,2,    1.80,2,   1.890,2,   0.936,2,   0.079,2,  2174.2,2,  2298.5,2,   7.7570,2,    20.00,    -999,9,    -999,9,    -999,9,6.9134,2,-999,9,-999,9,-999,    -999,9,    -999,1.995,2,-999,9,-999,9,   41.85,2,-999,1, 20080209,     2104, -34.7804,  29.7654,    -999,-999,9,     -999,9,     -999,9,     -999,9,     -999,9,     -999,9,     -999,9,-999,9,     -999,9,     -999,9,     -999,9,    -999,    -999
33RR20080204,       I06S,      15,          2,         20,         20,2,20080209,       1929,   -34.7804,    29.7654,       4396,   847.3,   6.0351,  34.4110,3,  34.4879,2,    165.9,4,   187.3,2,   30.38,2,   28.42,2,    0.00,2,    1.95,2,   1.578,2,   0.796,2,   0.073,2,  2189.4,2,  2301.9,2,   7.7280,2,    20.00,    -999,9,    -999,9,    -999,9,6.0357,2,-999,9,-999,9,-999,    -999,9,    -999,1.99,2,-999,9,-999,9,    -999,9,-999,9, 20080209,     2101, -34.7804,  29.7654,    -999,-999,1,     -999,9,     -999,9,     -999,9,     -999,9,     -999,9,     -999,9,-999,9,     -999,9,     -999,9,     -999,9,    -999,    -999
33RR20080204,       I06S,      15,          2,         19,         19,2,20080209,       1929,   -34.7804,    29.7654,       4396,   948.5,   5.2658,  34.3410,3,  34.4675,2,    170.3,4,   183.5,2,   37.48,2,   30.22,2,    0.00,2,    2.08,2,   1.372,2,   0.692,2,   0.068,2,  2200.8,2,  2307.3,2,   7.7050,2,    20.00,    -999,9,    -999,9,    -999,9,5.2675,2,-999,9,-999,9,-999,    -999,9,    -999,2.0,2,-999,9,-999,9,   40.00,2,-999,1, 20080209,     2058, -34.7804,  29.7654,    -999,-999,9,     -999,9,     -999,9,     -999,9,     -999,9,     -999,9,     -999,9,-999,9,     -999,9,     -999,9,     -999,9,    -999,    -999
33RR20080204,       I06S,      15,          2,         18,         18,2,20080209,       1929,   -34.7804,    29.7654,       4396,  1048.6,   4.7566,  34.4404,3,  34.4640,2,    171.3,4,   180.7,2,   43.18,2,   31.31,2,    0.00,2,    2.17,2,   1.201,2,   0.610,2,   0.066,2,  2211.3,6,  2312.0,2,     -999,5,     -999,    -999,9,    -999,9,    -999,9,4.7573,2,-999,9,-999,9,-999,    -999,9,    -999,1.873,2,-999,9,-999,9,   41.27,2,-999,1, 20080209,     2055, -34.7805,  29.7654,    -999,-999,1,     -999,9,     -999,9,     -999,9,     -999,9,     -999,9,     -999,9,-999,9,     -999,9,     -999,9,     -999,9,    -999,    -999
33RR20080204,       I06S,      15,          2,         17,         17,2,20080209,       1929,   -34.7804,    29.7654,       4396,  1148.3,   4.2612,  34.4083,3,  34.4791,2,    173.4,4,   175.5,2,    -999,5,    -999,5,    -999,5,    -999,5,   1.033,2,   0.530,2,   0.060,2,  2223.1,2,  2318.4,2,   7.6730,2,    20.00,    -999,9,    -999,9,    -999,9,4.2696,2,-999,9,-999,9,-999,    -999,9,    -999,1.661,2,-999,9,-999,9,    -999,9,-999,9, 20080209,     2052, -34.7804,  29.7654,    -999,-999,9,     -999,9,     -999,9,     -999,9,     -999,9,     -999,9,     -999,9,-999,1,     -999,9,     -999,9,     -999,9,    -999,    -999
33RR20080204,       I06S,      15,          2,         16,         16,3,20080209,       1929,   -34.7804,    29.7654,       4396,  1248.7,   3.8449,  34.4722,3,  34.6539,4,    170.6,3,   179.1,4,   45.20,4,   28.16,4,    0.00,4,    1.97,4,    -999,5,    -999,5,    -999,5,  2203.2,3,    -999,5,   7.7410,4,    20.00,    -999,9,    -999,9,    -999,9,3.8483,2,-999,9,-999,9,-999,    -999,9,    -999,-999,5,-999,9,-999,9,   43.32,2,-999,1, 20080209,     2049, -34.7804,  29.7654,    -999,-999,9,     -999,9,     -999,9,     -999,9,     -999,9,     -999,9,     -999,9,-999,9,     -999,9,     -999,9,     -999,9,    -999,    -999
33RR20080204,       I06S,      15,          2,         15,         15,2,20080209,       1929,   -34.7804,    29.7654,       4396,  1355.5,   3.5915,  34.5377,3,  34.5502,2,    162.8,3,   166.1,2,   62.57,2,   33.61,2,    0.00,2,    2.33,2,   0.526,2,   0.286,2,   0.026,2,  2241.9,2,  2330.9,2,   7.6540,2,    20.00,    -999,9,    -999,9,    -999,9,3.5938,2,-999,9,-999,9,-999,    -999,9,    -999,1.068,2,-999,9,-999,9,    -999,9,-999,9, 20080209,     2045, -34.7804,  29.7654,    -999,-999,9,     -999,9,     -999,9,     -999,9,     -999,9,     -999,9,     -999,9,-999,9,     -999,9,     -999,9,     -999,9,    -999,    -999
33RR20080204,       I06S,      15,          2,         14,         14,2,20080209,       1929,   -34.7804,    29.7654,       4396,  1456.7,   3.4945,  34.5698,3,  34.6056,2,    163.7,3,   159.7,2,   69.12,2,   33.61,2,    0.00,2,    2.34,2,   0.301,2,   0.169,2,   0.015,2,  2249.4,2,  2339.5,2,   7.6540,2,    20.00,    -999,9,    -999,9,    -999,9,3.4984,2,-999,9,-999,9,-999,    -999,9,    -999,0.811,2,-999,9,-999,9,   38.73,2,-999,1, 20080209,     2042, -34.7804,  29.7654,    -999,-999,9,     -999,9,     -999,9,     -999,9,     -999,9,     -999,9,     -999,9,-999,1,     -999,9,     -999,9,     -999,9,    -999,    -999
33RR20080204,       I06S,      15,          2,         13,         13,2,20080209,       1929,   -34.7804,    29.7654,       4396,  1555.1,   3.2615,  34.6169,3,  34.6360,2,    165.9,3,   162.7,2,   72.40,2,   33.32,2,    0.00,2,    2.32,2,   0.206,2,   0.122,2,   0.011,2,  2247.6,2,  2342.8,2,   7.6580,2,    20.00,    -999,9,    -999,9,    -999,9,3.2623,2,-999,9,-999,9,-999,    -999,9,    -999,0.736,2,-999,9,-999,9,    -999,9,-999,9, 20080209,     2039, -34.7804,  29.7654,    -999,-999,9,     -999,9,     -999,9,     -999,9,     -999,9,     -999,9,     -999,9,-999,9,     -999,9,     -999,9,     -999,9,    -999,    -999
33RR20080204,       I06S,      15,          2,         12,         12,2,20080209,       1929,   -34.7804,    29.7654,       4396,  1657.8,   2.9929,  34.6431,3,  34.6494,2,    175.7,3,   170.8,2,   71.36,2,   32.61,2,    0.00,2,    2.26,2,   0.183,2,   0.115,2,   0.027,2,  2247.5,2,  2341.7,2,   7.6650,2,    20.00,    -999,9,    -999,9,    -999,9,2.9935,2,-999,9,-999,9,-999,    -999,9,    -999,0.902,2,-999,9,-999,9,   40.68,2,-999,1, 20080209,     2036, -34.7804,  29.7654,    -999,-999,9,     -999,9,     -999,9,     -999,9,     -999,9,     -999,9,     -999,9,-999,9,     -999,9,     -999,9,     -999,9,    -999,    -999
33RR20080204,       I06S,      15,          2,         11,         11,2,20080209,       1929,   -34.7804,    29.7654,       4396,  1763.5,   2.9185,  34.6865,3,  34.6916,2,    178.2,3,   172.7,2,   73.40,2,   32.02,2,    0.00,2,    2.22,2,   0.112,6,   0.066,6,   0.000,6,  2248.7,2,  2345.7,2,   7.6750,2,    20.00,    -999,9,    -999,9,    -999,9,2.9189,2,-999,9,-999,9,-999,    -999,9,    -999,0.2245,6,-999,9,-999,9,    -999,9,-999,9, 20080209,     2033, -34.7805,  29.7654,    -999,-999,9,     -999,9,     -999,9,     -999,9,     -999,9,     -999,9,     -999,9,-999,9,     -999,9,     -999,9,     -999,9,    -999,    -999
33RR20080204,       I06S,      15,          2,         10,         10,2,20080209,       1929,   -34.7804,    29.7654,       4396,  1864.7,   2.8021,  34.7124,3,  34.7180,2,    173.8,3,   180.5,2,   70.30,2,   30.86,2,    0.00,2,    2.14,2,   0.090,2,   0.052,2,   0.000,2,  2242.0,2,  2343.3,2,   7.6870,2,    20.00,    -999,9,    -999,9,    -999,9,2.8041,2,-999,9,-999,9,-999,    -999,9,    -999,0.269,2,-999,9,-999,9,   39.80,2,-999,1, 20080209,     2029, -34.7805,  29.7655,    -999,-999,9,     -999,9,     -999,9,     -999,9,     -999,9,     -999,9,     -999,9,-999,9,     -999,9,     -999,9,     -999,9,    -999,    -999
33RR20080204,       I06S,      15,          2,          9,          9,2,20080209,       1929,   -34.7804,    29.7654,       4396,  2066.1,   2.7056,  34.7674,3,  34.7701,2,    198.7,3,   197.8,2,   62.29,2,   28.73,2,    0.00,2,    1.96,2,   0.063,2,   0.039,2,   0.000,2,  2226.8,2,  2338.2,2,   7.7090,2,    20.00,    -999,9,    -999,9,    -999,9,2.7063,2,-999,9,-999,9,-999,    -999,9,    -999,0.113,2,-999,9,-999,9,   41.37,2,-999,1, 20080209,     2024, -34.7804,  29.7654,    -999,-999,9,     -999,9,     -999,9,     -999,9,     -999,9,     -999,9,     -999,9,-999,9,     -999,9,     -999,9,     -999,9,    -999,    -999
33RR20080204,       I06S,      15,          2,          8,          8,2,20080209,       1929,   -34.7804,    29.7654,       4396,  2379.6,   2.5720,  34.8010,3,  34.8111,2,    211.6,3,   211.1,2,   59.00,2,   26.99,2,    0.00,2,    1.83,2,   0.041,2,   0.023,2,   0.000,2,    -999,5,  2338.3,2,   7.7400,2,    20.00,    -999,9,    -999,9,    -999,9,2.5734,2,-999,9,-999,9,-999,    -999,9,    -999,0.159,2,-999,9,-999,9,    -999,9,-999,9, 20080209,     2017, -34.7804,  29.7654,    -999,-999,9,     -999,9,     -999,9,     -999,9,     -999,9,     -999,9,     -999,9,-999,9,     -999,9,     -999,9,     -999,9,    -999,    -999
33RR20080204,       I06S,      15,          2,          7,          7,2,20080209,       1929,   -34.7804,    29.7654,       4396,  2689.7,   2.3562,  34.8096,3,  34.8192,2,    214.4,3,   214.7,2,   62.87,2,   26.63,2,    0.00,2,    1.81,2,   0.034,2,   0.019,2,   0.000,2,  2217.2,2,  2342.4,2,   7.7500,2,    20.00,    -999,9,    -999,9,    -999,9,2.3573,2,-999,9,-999,9,-999,    -999,9,    -999,0.081,2,-999,9,-999,9,   40.88,2,-999,1, 20080209,     2010, -34.7804,  29.7654,    -999,-999,9,     -999,9,     -999,9,     -999,9,     -999,9,     -999,9,     -999,9,-999,1,     -999,9,     -999,9,     -999,9,    -999,    -999