BOTTLE,20220706CCHSIOAMB
EXPOCODE,SECT_ID,STNNBR,CASTNO,SAMPNO,BTLNBR,BTLNBR_FLAG_W,DATE,TIME,LATITUDE,LONGITUDE,DEPTH,CTDPRS,CTDTMP,CTDSAL,CTDSAL_FLAG_W,SALNTY,SALNTY_FLAG_W,CTDOXY,CTDOXY_FLAG_W,OXYGEN,OXYGEN_FLAG_W,SILCAT,SILCAT_FLAG_W,NITRAT,NITRAT_FLAG_W,NITRIT,NITRIT_FLAG_W,PHSPHT,PHSPHT_FLAG_W,CFC-11,CFC-11_FLAG_W,CFC-12,CFC-12_FLAG_W,CFC113,CFC113_FLAG_W,TCARBN,TCARBN_FLAG_W,ALKALI,ALKALI_FLAG_W,PH_SWS,PH_SWS_FLAG_W,PH_TMP,TRITUM,TRITUM_FLAG_W,HELIUM,HELIUM_FLAG_W,DELHE3,DELHE3_FLAG_W,REFTMP,REFTMP_FLAG_W,DELC13,DELC13_FLAG_W,DELC14,DELC14_FLAG_W,C14ERR,NEON,NEON_FLAG_W,NEONER,CCL4,CCL4_FLAG_W,ALUMIN,ALUMIN_FLAG_W,DELO18,DELO18_FLAG_W,DOC,DOC_FLAG_W,TDN,TDN_FLAG_W,BTL_DATE,BTL_TIME,BTL_LAT,BTL_LON,TRITER,DELSI30,DELSI30_FLAG_W,CDOM380,CDOM380_FLAG_W,CDOM325,CDOM325_FLAG_W,CDOMSL,CDOMSL_FLAG_W,CDOM340,CDOM340_FLAG_W,CDOM443,CDOM443_FLAG_W,CDOMSN,CDOMSN_FLAG_W,BLACKC,BLACKC_FLAG_W,CDOM490,CDOM490_FLAG_W,CDOM412,CDOM412_FLAG_W,CDOM555,CDOM555_FLAG_W,DELHER,HELIER
,,,,,,,,,,,METERS,DBAR,ITS-90,PSS-78,,PSS-78,,UMOL/KG,,UMOL/KG,,UMOL/KG,,UMOL/KG,,UMOL/KG,,UMOL/KG,,PMOL/KG,,PMOL/KG,,PMOL/KG,,UMOL/KG,,UMOL/KG,,,,DEG C,TU,,NMOL/KG,,PERCNT,,DEG C,,/MILLE,,/MILLE,,/MILLE,NMOL/KG,,NMOL/KG,PMOL/KG,,NMOL/L,,/MILLE,,UMOL/KG,,UMOL/KG,,,,,,TU,/MILLE,,1/M,,1/M,,1/NM,,1/M,,1/M,,1/NM,,,,1/M,,1/M,,1/M,,PERCNT,NMOL/KG
33RR20080204,       I06S,      59,          1,          7,          7,2,20080224,       0325,   -56.4979,    29.9992,       5461,  4438.9,  -0.1703,  34.6574,2,  34.6574,2,    237.7,2,   237.7,2,  130.62,2,   32.47,2,    0.00,2,    2.25,2,   0.441,2,   0.230,2,   0.022,2,  2254.6,2,  2353.8,2,   7.7969,2,    13.00,    -999,9,    -999,9,    -999,9,-0.1703,2,-999,9,-999,9,-999,    -999,9,    -999,1.061,2,-999,9,-999,9,   41.37,2,-999,1, 20080224,     0351, -56.4974,  29.9989,    -999,-999,9,   0.0331,2,   0.1079,2,   0.0175,3,   0.0703,2,   0.0117,2,   0.0185,3,-999,9,   0.0030,2,   0.0213,2,  -0.0001,4,    -999,    -999
33RR20080204,       I06S,      59,          1,          6,          6,2,20080224,       0325,   -56.4979,    29.9992,       5461,  4644.8,  -0.1861,  34.6561,2,  34.6562,2,    239.2,2,   239.1,2,  130.24,2,   32.41,2,    0.00,2,    2.25,2,   0.445,2,   0.235,2,   0.024,2,    -999,9,  2353.9,2,   7.7998,4,    13.00,    -999,9,    -999,9,    -999,9,-0.1857,2,-999,9,-999,9,-999,    -999,9,    -999,1.07,2,-999,9,-999,9,    -999,9,-999,9, 20080224,     0347, -56.4973,  29.9990,    -999,-999,9,     -999,9,     -999,9,     -999,9,     -999,9,     -999,9,     -999,9,-999,9,     -999,9,     -999,9,     -999,9,    -999,    -999
33RR20080204,       I06S,      59,          1,          5,          5,2,20080224,       0325,   -56.4979,    29.9992,       5461,  4848.2,  -0.1949,  34.6547,2,  34.6551,2,    240.8,2,   240.4,2,  131.21,2,   32.36,2,    0.00,2,    2.25,2,   0.471,2,   0.242,2,   0.026,2,  2253.9,2,  2354.2,2,   7.7968,3,    13.00,    -999,9,    -999,9,    -999,9,-0.1952,2,-999,9,-999,9,-999,    -999,9,    -999,1.318,2,-999,9,-999,9,    -999,9,-999,1, 20080224,     0342, -56.4976,  29.9991,    -999,-999,9,   0.0314,2,   0.1067,2,   0.0188,3,   0.0698,2,   0.0100,2,   0.0200,3,-999,9,   0.0022,2,   0.0190,2,   0.0007,4,    -999,    -999
33RR20080204,       I06S,      59,          1,          4,          4,2,20080224,       0325,   -56.4979,    29.9992,       5461,  5051.8,  -0.2091,  34.6533,2,  34.6537,2,    242.2,2,   242.0,2,  131.21,2,   32.31,2,    0.00,2,    2.25,2,   0.489,2,   0.249,2,   0.031,2,    -999,9,  2353.9,2,   7.7994,2,    13.00,    -999,9,    -999,9,    -999,9,-0.2093,2,-999,9,-999,9,-999,    -999,9,    -999,1.283,2,-999,9,-999,9,    -999,9,-999,9, 20080224,     0338, -56.4975,  29.9990,    -999,-999,9,     -999,9,     -999,9,     -999,9,     -999,9,     -999,9,     -999,9,-999,9,     -999,9,     -999,9,     -999,9,    -999,    -999
33RR20080204,       I06S,      59,          1,          3,          3,2,20080224,       0325,   -56.4979,    29.9992,       5461,  5258.4,  -0.2188,  34.6520,2,  34.6526,2,    243.7,2,   243.1,2,  131.79,2,   32.31,2,    0.00,2,    2.24,2,   0.512,2,   0.265,2,   0.026,2,  2253.1,2,  2352.9,2,   7.8010,2,    13.00,    -999,9,    -999,9,    -999,9,-0.2188,2,-999,9,-999,9,-999,    -999,9,    -999,1.261,2,-999,9,-999,9,   39.90,2,-999,1, 20080224,     0333, -56.4977,  29.9992,    -999,-999,9,   0.0276,2,   0.1012,2,   0.0193,3,   0.0640,2,   0.0087,2,   0.0212,3,-999,9,   0.0015,2,   0.0169,2,  -0.0003,4,    -999,    -999
33RR20080204,       I06S,      59,          1,          2,          2,2,20080224,       0325,   -56.4979,    29.9992,       5461,  5338.9,  -0.2222,  34.6518,2,  34.6519,2,    244.3,2,   243.5,2,  132.56,2,   32.30,2,    0.00,2,    2.24,2,   0.529,6,   0.269,6,   0.033,6,    -999,9,  2353.9,2,   7.8008,2,    13.00,    -999,9,    -999,9,    -999,9,-0.2222,2,-999,9,-999,9,-999,    -999,9,    -999,1.3135,6,-999,9,-999,9,    -999,9,-999,9, 20080224,     0331, -56.4978,  29.9992,    -999,-999,9,     -999,9,     -999,9,     -999,9,     -999,9,     -999,9,     -999,9,-999,9,     -999,9,     -999,9,     -999,9,    -999,    -999
33RR20080204,       I06S,      59,          1,          1,          1,2,20080224,       0325,   -56.4979,    29.9992,       5461,  5551.5,  -0.2382,  34.6498,2,  34.6509,2,    245.5,2,   245.4,2,  133.34,2,   32.30,2,    0.00,2,    2.24,2,   0.582,2,   0.301,2,   0.060,2,  2251.2,6,  2352.3,2,   7.8007,2,    13.00,    -999,9,    -999,9,    -999,9,-0.2388,2,-999,9,-999,9,-999,    -999,9,    -999,1.441,2,-999,9,-999,9,   41.85,2,-999,1, 20080224,     0326, -56.4979,  29.9993,    -999,-999,9,   0.0281,2,   0.1027,2,   0.0194,3,   0.0659,2,   0.0089,2,   0.0214,3,-999,9,   0.0014,2,   0.0172,2,   0.0003,4,    -999,    -999