BOTTLE,20220706CCHSIOAMB
EXPOCODE,SECT_ID,STNNBR,CASTNO,SAMPNO,BTLNBR,BTLNBR_FLAG_W,DATE,TIME,LATITUDE,LONGITUDE,DEPTH,CTDPRS,CTDTMP,CTDSAL,CTDSAL_FLAG_W,SALNTY,SALNTY_FLAG_W,CTDOXY,CTDOXY_FLAG_W,OXYGEN,OXYGEN_FLAG_W,SILCAT,SILCAT_FLAG_W,NITRAT,NITRAT_FLAG_W,NITRIT,NITRIT_FLAG_W,PHSPHT,PHSPHT_FLAG_W,CFC-11,CFC-11_FLAG_W,CFC-12,CFC-12_FLAG_W,CFC113,CFC113_FLAG_W,TCARBN,TCARBN_FLAG_W,ALKALI,ALKALI_FLAG_W,PH_SWS,PH_SWS_FLAG_W,PH_TMP,TRITUM,TRITUM_FLAG_W,HELIUM,HELIUM_FLAG_W,DELHE3,DELHE3_FLAG_W,REFTMP,REFTMP_FLAG_W,DELC13,DELC13_FLAG_W,DELC14,DELC14_FLAG_W,C14ERR,NEON,NEON_FLAG_W,NEONER,CCL4,CCL4_FLAG_W,ALUMIN,ALUMIN_FLAG_W,DELO18,DELO18_FLAG_W,DOC,DOC_FLAG_W,TDN,TDN_FLAG_W,BTL_DATE,BTL_TIME,BTL_LAT,BTL_LON,TRITER,DELSI30,DELSI30_FLAG_W,CDOM380,CDOM380_FLAG_W,CDOM325,CDOM325_FLAG_W,CDOMSL,CDOMSL_FLAG_W,CDOM340,CDOM340_FLAG_W,CDOM443,CDOM443_FLAG_W,CDOMSN,CDOMSN_FLAG_W,BLACKC,BLACKC_FLAG_W,CDOM490,CDOM490_FLAG_W,CDOM412,CDOM412_FLAG_W,CDOM555,CDOM555_FLAG_W,DELHER,HELIER
,,,,,,,,,,,METERS,DBAR,ITS-90,PSS-78,,PSS-78,,UMOL/KG,,UMOL/KG,,UMOL/KG,,UMOL/KG,,UMOL/KG,,UMOL/KG,,PMOL/KG,,PMOL/KG,,PMOL/KG,,UMOL/KG,,UMOL/KG,,,,DEG C,TU,,NMOL/KG,,PERCNT,,DEG C,,/MILLE,,/MILLE,,/MILLE,NMOL/KG,,NMOL/KG,PMOL/KG,,NMOL/L,,/MILLE,,UMOL/KG,,UMOL/KG,,,,,,TU,/MILLE,,1/M,,1/M,,1/NM,,1/M,,1/M,,1/NM,,,,1/M,,1/M,,1/M,,PERCNT,NMOL/KG
33RR20080204,       I06S,      33,          3,          7,          7,2,20080215,       1637,   -43.4980,    29.9977,       5168,  4072.9,   0.9926,  34.7206,2,  34.7194,2,    213.4,2,   212.7,2,  110.88,2,   31.13,2,    0.00,2,    2.15,2,   0.135,2,   0.073,2,   0.015,2,  2252.7,2,  2361.8,2,   7.8141,2,    13.00,    -999,9,    -999,9,    -999,9,0.9928,2,-999,9,-999,9,-999,    -999,9,    -999,0.668,2,-999,9,-999,9,   39.51,2,-999,1, 20080215,     1707, -43.4981,  29.9977,    -999,-999,9,     -999,9,     -999,9,     -999,9,     -999,9,     -999,9,     -999,9,-999,1,     -999,9,     -999,9,     -999,9,    -999,    -999
33RR20080204,       I06S,      33,          3,          6,          6,2,20080215,       1637,   -43.4980,    29.9977,       5168,  4277.6,   0.8110,  34.7042,2,  34.7031,2,    213.2,2,   213.3,2,  117.93,2,   31.80,2,    0.00,2,    2.21,2,   0.179,2,   0.100,2,   0.017,2,  2256.5,2,  2360.4,2,   7.8054,2,    13.00,    -999,9,    -999,9,    -999,9,0.811,2,-999,9,-999,9,-999,    -999,9,    -999,0.814,2,-999,9,-999,9,    -999,9,-999,9, 20080215,     1702, -43.4980,  29.9977,    -999,-999,9,     -999,9,     -999,9,     -999,9,     -999,9,     -999,9,     -999,9,-999,9,     -999,9,     -999,9,     -999,9,    -999,    -999
33RR20080204,       I06S,      33,          3,          5,          5,2,20080215,       1637,   -43.4980,    29.9977,       5168,  4480.6,   0.6854,  34.6951,2,  34.6934,2,    214.1,2,   214.3,2,  122.37,2,   32.19,2,    0.00,2,    2.22,2,   0.203,2,   0.111,2,   0.010,2,  2258.0,2,  2361.8,2,   7.7995,2,    13.00,    -999,9,    -999,9,    -999,9,0.6864,2,-999,9,-999,9,-999,    -999,9,    -999,0.912,2,-999,9,-999,9,   37.95,2,-999,1, 20080215,     1656, -43.4980,  29.9977,    -999,-999,1,     -999,9,     -999,9,     -999,9,     -999,9,     -999,9,     -999,9,-999,9,     -999,9,     -999,9,     -999,9,    -999,    -999
33RR20080204,       I06S,      33,          3,          4,          4,2,20080215,       1637,   -43.4980,    29.9977,       5168,  4691.2,   0.5652,  34.6868,2,  34.6856,2,    216.2,2,   216.4,2,  126.19,2,   32.44,2,    0.00,2,    2.23,2,   0.231,2,   0.125,2,   0.022,2,  2258.8,2,  2360.4,2,   7.7965,2,    13.00,    -999,9,    -999,9,    -999,9,0.5652,2,-999,9,-999,9,-999,    -999,9,    -999,1.088,2,-999,9,-999,9,    -999,9,-999,9, 20080215,     1651, -43.4981,  29.9977,    -999,-999,9,     -999,9,     -999,9,     -999,9,     -999,9,     -999,9,     -999,9,-999,9,     -999,9,     -999,9,     -999,9,    -999,    -999
33RR20080204,       I06S,      33,          3,          3,          3,2,20080215,       1637,   -43.4980,    29.9977,       5168,  4894.9,   0.4324,  34.6800,2,  34.6787,2,    220.2,2,   220.8,2,  127.80,2,   32.49,2,    0.00,2,    2.24,2,   0.269,2,   0.145,2,   0.026,2,  2257.4,2,  2361.1,2,   7.7962,2,    13.00,    -999,9,    -999,9,    -999,9,0.4327,2,-999,9,-999,9,-999,    -999,9,    -999,1.321,2,-999,9,-999,9,   44.29,3,-999,1, 20080215,     1646, -43.4980,  29.9977,    -999,-999,9,     -999,9,     -999,9,     -999,9,     -999,9,     -999,9,     -999,9,-999,9,     -999,9,     -999,9,     -999,9,    -999,    -999
33RR20080204,       I06S,      33,          3,          2,          2,2,20080215,       1637,   -43.4980,    29.9977,       5168,  5150.6,   0.2966,  34.6714,2,  34.6698,2,    224.1,2,   224.2,2,  130.43,2,   32.63,2,    0.00,2,    2.25,2,   0.339,2,   0.176,2,   0.044,2,  2257.9,6,  2357.9,2,   7.7924,2,    13.00,    -999,9,    -999,9,    -999,9,0.2967,2,-999,9,-999,9,-999,    -999,9,    -999,1.402,2,-999,9,-999,9,    -999,9,-999,9, 20080215,     1641, -43.4981,  29.9977,    -999,-999,1,     -999,9,     -999,9,     -999,9,     -999,9,     -999,9,     -999,9,-999,9,     -999,9,     -999,9,     -999,9,    -999,    -999
33RR20080204,       I06S,      33,          3,          1,          1,2,20080215,       1637,   -43.4980,    29.9977,       5168,  5227.5,   0.2706,  34.6695,2,  34.6686,2,    224.3,2,   224.9,2,  130.82,2,   32.68,2,    0.00,2,    2.26,2,   0.364,2,   0.194,2,   0.077,2,  2257.1,2,  2360.2,2,   7.7929,2,    13.00,    -999,9,    -999,9,    -999,9,0.2706,2,-999,9,-999,9,-999,    -999,9,    -999,1.515,2,-999,9,-999,9,   39.12,2,-999,1, 20080215,     1637, -43.4980,  29.9977,    -999,-999,1,     -999,9,     -999,9,     -999,9,     -999,9,     -999,9,     -999,9,-999,1,     -999,9,     -999,9,     -999,9,    -999,    -999