BOTTLE,20220706CCHSIOAMB
EXPOCODE,SECT_ID,STNNBR,CASTNO,SAMPNO,BTLNBR,BTLNBR_FLAG_W,DATE,TIME,LATITUDE,LONGITUDE,DEPTH,CTDPRS,CTDTMP,CTDSAL,CTDSAL_FLAG_W,SALNTY,SALNTY_FLAG_W,CTDOXY,CTDOXY_FLAG_W,OXYGEN,OXYGEN_FLAG_W,SILCAT,SILCAT_FLAG_W,NITRAT,NITRAT_FLAG_W,NITRIT,NITRIT_FLAG_W,PHSPHT,PHSPHT_FLAG_W,CFC-11,CFC-11_FLAG_W,CFC-12,CFC-12_FLAG_W,CFC113,CFC113_FLAG_W,TCARBN,TCARBN_FLAG_W,ALKALI,ALKALI_FLAG_W,PH_SWS,PH_SWS_FLAG_W,PH_TMP,TRITUM,TRITUM_FLAG_W,HELIUM,HELIUM_FLAG_W,DELHE3,DELHE3_FLAG_W,REFTMP,REFTMP_FLAG_W,DELC13,DELC13_FLAG_W,DELC14,DELC14_FLAG_W,C14ERR,NEON,NEON_FLAG_W,NEONER,CCL4,CCL4_FLAG_W,ALUMIN,ALUMIN_FLAG_W,DELO18,DELO18_FLAG_W,DOC,DOC_FLAG_W,TDN,TDN_FLAG_W,BTL_DATE,BTL_TIME,BTL_LAT,BTL_LON,TRITER,DELSI30,DELSI30_FLAG_W,CDOM380,CDOM380_FLAG_W,CDOM325,CDOM325_FLAG_W,CDOMSL,CDOMSL_FLAG_W,CDOM340,CDOM340_FLAG_W,CDOM443,CDOM443_FLAG_W,CDOMSN,CDOMSN_FLAG_W,BLACKC,BLACKC_FLAG_W,CDOM490,CDOM490_FLAG_W,CDOM412,CDOM412_FLAG_W,CDOM555,CDOM555_FLAG_W,DELHER,HELIER
,,,,,,,,,,,METERS,DBAR,ITS-90,PSS-78,,PSS-78,,UMOL/KG,,UMOL/KG,,UMOL/KG,,UMOL/KG,,UMOL/KG,,UMOL/KG,,PMOL/KG,,PMOL/KG,,PMOL/KG,,UMOL/KG,,UMOL/KG,,,,DEG C,TU,,NMOL/KG,,PERCNT,,DEG C,,/MILLE,,/MILLE,,/MILLE,NMOL/KG,,NMOL/KG,PMOL/KG,,NMOL/L,,/MILLE,,UMOL/KG,,UMOL/KG,,,,,,TU,/MILLE,,1/M,,1/M,,1/NM,,1/M,,1/M,,1/NM,,,,1/M,,1/M,,1/M,,PERCNT,NMOL/KG
33RR20080204,       I06S,       2,          3,         12,         12,2,20080206,       1213,   -33.2276,    28.0722,        388,     7.9,  27.3139,  35.2585,2,  35.2611,2,    204.0,3,   202.7,2,    2.01,2,    0.04,2,    0.00,2,    0.09,2,    -999,9,    -999,9,    -999,9,  1985.7,6,  2308.8,2,   8.1760,2,    20.00,    -999,9,    -999,9,    -999,9,-999,9,-999,9,-999,9,-999,    -999,9,    -999,-999,9,-999,9,-999,9,    -999,9,-999,9, 20080206,     1251, -33.2415,  28.0463,    -999,-999,9,     -999,9,     -999,9,     -999,9,     -999,9,     -999,9,     -999,9,-999,9,     -999,9,     -999,9,     -999,9,    -999,    -999
33RR20080204,       I06S,       2,          3,         11,         11,2,20080206,       1213,   -33.2276,    28.0722,        388,    25.7,  26.9975,  35.2522,2,  35.2530,2,    201.5,2,   203.8,2,    2.21,2,    0.04,2,    0.00,2,    0.10,2,    -999,9,    -999,9,    -999,9,  1987.7,2,  2309.2,2,   8.1760,2,    20.00,    -999,9,    -999,9,    -999,9,-999,9,-999,9,-999,9,-999,    -999,9,    -999,-999,9,-999,9,-999,9,    -999,9,-999,9, 20080206,     1248, -33.2400,  28.0492,    -999,-999,9,     -999,9,     -999,9,     -999,9,     -999,9,     -999,9,     -999,9,-999,9,     -999,9,     -999,9,     -999,9,    -999,    -999
33RR20080204,       I06S,       2,          3,         10,         10,2,20080206,       1213,   -33.2276,    28.0722,        388,    46.1,  21.9601,  35.2934,2,  35.2932,2,    187.3,2,   189.3,2,    4.20,2,    2.44,2,    0.21,2,    0.33,2,    -999,9,    -999,9,    -999,9,  2046.8,2,  2313.7,2,   8.0830,2,    20.00,    -999,9,    -999,9,    -999,9,-999,9,-999,9,-999,9,-999,    -999,9,    -999,-999,9,-999,9,-999,9,    -999,9,-999,9, 20080206,     1245, -33.2385,  28.0522,    -999,-999,9,     -999,9,     -999,9,     -999,9,     -999,9,     -999,9,     -999,9,-999,9,     -999,9,     -999,9,     -999,9,    -999,    -999
33RR20080204,       I06S,       2,          3,          9,          9,2,20080206,       1213,   -33.2276,    28.0722,        388,    78.7,  17.4389,  35.3405,2,  35.3370,2,    157.1,2,   151.8,2,    9.60,2,   10.90,2,    0.02,2,    0.81,2,    -999,9,    -999,9,    -999,9,  2119.3,2,  2319.7,2,   7.9500,2,    20.00,    -999,9,    -999,9,    -999,9,-999,9,-999,9,-999,9,-999,    -999,9,    -999,-999,9,-999,9,-999,9,    -999,9,-999,9, 20080206,     1242, -33.2369,  28.0551,    -999,-999,9,     -999,9,     -999,9,     -999,9,     -999,9,     -999,9,     -999,9,-999,9,     -999,9,     -999,9,     -999,9,    -999,    -999
33RR20080204,       I06S,       2,          3,          8,          8,2,20080206,       1213,   -33.2276,    28.0722,        388,   102.2,  15.6120,  35.3136,2,  35.3133,2,    150.4,3,   155.8,2,   10.80,2,   12.42,2,    0.01,2,    0.92,2,    -999,9,    -999,9,    -999,9,  2136.8,2,  2321.5,2,   7.9180,2,    20.00,    -999,9,    -999,9,    -999,9,-999,9,-999,9,-999,9,-999,    -999,9,    -999,-999,9,-999,9,-999,9,    -999,9,-999,9, 20080206,     1239, -33.2353,  28.0578,    -999,-999,9,     -999,9,     -999,9,     -999,9,     -999,9,     -999,9,     -999,9,-999,9,     -999,9,     -999,9,     -999,9,    -999,    -999
33RR20080204,       I06S,       2,          3,          7,          7,2,20080206,       1213,   -33.2276,    28.0722,        388,   153.2,  12.9544,  35.1467,2,  35.1463,2,    184.2,3,   184.1,2,   10.20,2,   13.95,2,    0.02,2,    1.01,2,    -999,9,    -999,9,    -999,9,  2143.7,2,  2316.2,2,   7.8960,2,    20.00,    -999,9,    -999,9,    -999,9,-999,9,-999,9,-999,9,-999,    -999,9,    -999,-999,9,-999,9,-999,9,    -999,9,-999,9, 20080206,     1235, -33.2336,  28.0604,    -999,-999,9,     -999,9,     -999,9,     -999,9,     -999,9,     -999,9,     -999,9,-999,9,     -999,9,     -999,9,     -999,9,    -999,    -999
33RR20080204,       I06S,       2,          3,          6,          6,2,20080206,       1213,   -33.2276,    28.0722,        388,   199.3,  11.1767,  34.9880,2,  34.9876,2,    197.5,3,   198.7,2,   10.39,2,   15.77,2,    0.01,2,    1.13,2,    -999,9,    -999,9,    -999,9,  2147.4,2,  2308.6,2,   7.8720,2,    20.00,    -999,9,    -999,9,    -999,9,-999,9,-999,9,-999,9,-999,    -999,9,    -999,-999,9,-999,9,-999,9,    -999,9,-999,9, 20080206,     1231, -33.2319,  28.0638,    -999,-999,9,     -999,9,     -999,9,     -999,9,     -999,9,     -999,9,     -999,9,-999,9,     -999,9,     -999,9,     -999,9,    -999,    -999
33RR20080204,       I06S,       2,          3,          5,          5,2,20080206,       1213,   -33.2276,    28.0722,        388,   251.3,  10.0487,  34.8491,2,  34.8487,2,    200.6,3,   203.0,2,   11.20,2,   17.76,2,    0.01,2,    1.26,2,    -999,9,    -999,9,    -999,9,  2151.2,2,  2304.2,2,   7.8550,2,    20.00,    -999,9,    -999,9,    -999,9,-999,9,-999,9,-999,9,-999,    -999,9,    -999,-999,9,-999,9,-999,9,    -999,9,-999,9, 20080206,     1227, -33.2304,  28.0667,    -999,-999,9,     -999,9,     -999,9,     -999,9,     -999,9,     -999,9,     -999,9,-999,9,     -999,9,     -999,9,     -999,9,    -999,    -999
33RR20080204,       I06S,       2,          3,          4,          4,2,20080206,       1213,   -33.2276,    28.0722,        388,   305.7,   9.1761,  34.7594,2,  34.7589,2,    197.1,3,   197.0,2,   15.21,2,   20.31,2,    0.01,2,    1.43,2,    -999,9,    -999,9,    -999,9,  2162.3,2,  2302.4,2,   7.8230,2,    20.00,    -999,9,    -999,9,    -999,9,-999,9,-999,9,-999,9,-999,    -999,9,    -999,-999,9,-999,9,-999,9,    -999,9,-999,9, 20080206,     1222, -33.2294,  28.0688,    -999,-999,9,     -999,9,     -999,9,     -999,9,     -999,9,     -999,9,     -999,9,-999,9,     -999,9,     -999,9,     -999,9,    -999,    -999
33RR20080204,       I06S,       2,          3,          3,          3,2,20080206,       1213,   -33.2276,    28.0722,        388,   358.1,   8.1195,  34.6703,2,  34.6710,2,    184.4,3,   185.7,2,   21.67,2,   23.67,2,    0.01,2,    1.66,2,    -999,9,    -999,9,    -999,9,  2180.1,2,  2304.6,2,   7.7810,2,    20.00,    -999,9,    -999,9,    -999,9,-999,9,-999,9,-999,9,-999,    -999,9,    -999,-999,9,-999,9,-999,9,    -999,9,-999,9, 20080206,     1217, -33.2282,  28.0710,    -999,-999,9,     -999,9,     -999,9,     -999,9,     -999,9,     -999,9,     -999,9,-999,9,     -999,9,     -999,9,     -999,9,    -999,    -999
33RR20080204,       I06S,       2,          3,          2,          2,2,20080206,       1213,   -33.2276,    28.0722,        388,   372.3,   8.0868,  34.6737,2,  34.6745,2,    183.5,3,   184.0,2,   22.88,2,   23.93,2,    0.01,2,    1.67,2,    -999,9,    -999,9,    -999,9,    -999,9,    -999,9,   7.7800,2,    20.00,    -999,9,    -999,9,    -999,9,-999,9,-999,9,-999,9,-999,    -999,9,    -999,-999,9,-999,9,-999,9,    -999,9,-999,9, 20080206,     1215, -33.2277,  28.0719,    -999,-999,9,     -999,9,     -999,9,     -999,9,     -999,9,     -999,9,     -999,9,-999,9,     -999,9,     -999,9,     -999,9,    -999,    -999
33RR20080204,       I06S,       2,          3,          1,          1,2,20080206,       1213,   -33.2276,    28.0722,        388,   373.3,   8.0987,  34.6674,2,  34.6679,2,    183.5,3,   185.6,2,   22.07,2,   23.83,2,    0.01,2,    1.67,2,    -999,9,    -999,9,    -999,9,  2181.0,6,  2304.6,2,   7.7810,2,    20.00,    -999,9,    -999,9,    -999,9,-999,9,-999,9,-999,9,-999,    -999,9,    -999,-999,9,-999,9,-999,9,    -999,9,-999,9, 20080206,     1213, -33.2275,  28.0724,    -999,-999,9,     -999,9,     -999,9,     -999,9,     -999,9,     -999,9,     -999,9,-999,9,     -999,9,     -999,9,     -999,9,    -999,    -999
33RR20080204,       I06S,       3,          2,         17,         17,9,20080206,       0455,   -33.2871,    28.0617,        960,     4.5,  27.1648,  35.2793,2,     -999,9,     -999,9,    -999,9,    -999,9,    -999,9,    -999,9,    -999,9,    -999,9,    -999,9,    -999,9,    -999,9,    -999,9,     -999,9,     -999,    -999,9,    -999,9,    -999,9,-999,9,-999,9,-999,9,-999,    -999,9,    -999,-999,9,-999,9,-999,9,    -999,9,-999,9, 20080206,     0548, -33.3081,  28.0303,    -999,-999,9,     -999,9,     -999,9,     -999,9,     -999,9,     -999,9,     -999,9,-999,9,     -999,9,     -999,9,     -999,9,    -999,    -999
33RR20080204,       I06S,       3,          2,         16,         16,2,20080206,       0455,   -33.2871,    28.0617,        960,    28.6,  26.2239,  35.2189,3,  35.2803,2,    166.5,3,   206.7,2,    2.04,2,    0.08,2,    0.00,2,    0.11,2,   1.744,2,   1.070,2,   0.116,2,  1986.6,2,  2311.0,2,   8.1640,2,    20.00,    -999,9,    -999,9,    -999,9,-999,9,-999,9,-999,9,-999,    -999,9,    -999,-999,5,-999,9,-999,9,   68.00,2,-999,1, 20080206,     0544, -33.3059,  28.0342,    -999,-999,9,   0.0220,2,   0.0954,2,   0.0251,2,   0.0632,2,   0.0057,2,   0.0264,2,-999,9,   0.0022,2,   0.0112,2,  -0.0001,4,    -999,    -999
33RR20080204,       I06S,       3,          2,         15,         15,2,20080206,       0455,   -33.2871,    28.0617,        960,    49.8,  21.9989,  35.0633,3,  35.2716,2,    163.9,3,   171.9,2,    5.02,2,    4.61,2,    0.22,2,    0.44,2,   1.947,2,   1.172,2,   0.082,2,  2046.3,2,  2310.9,2,     -999,9,     -999,    -999,9,    -999,9,    -999,9,-999,9,-999,9,-999,9,-999,    -999,9,    -999,-999,5,-999,9,-999,9,   57.66,2,-999,1, 20080206,     0542, -33.3050,  28.0358,    -999,-999,9,   0.0349,2,   0.1181,2,   0.0195,2,   0.0814,2,   0.0090,2,   0.0212,2,-999,9,   0.0007,2,   0.0224,2,  -0.0013,4,    -999,    -999
33RR20080204,       I06S,       3,          2,         14,         14,2,20080206,       0455,   -33.2871,    28.0617,        960,    86.5,  18.0812,  35.2958,3,  35.3246,2,    146.9,3,   147.4,2,    9.62,2,   10.84,2,    0.02,2,    0.81,2,   2.123,2,   1.234,2,   0.032,2,    -999,9,  2318.2,2,     -999,9,     -999,    -999,9,    -999,9,    -999,9,-999,9,-999,9,-999,9,-999,    -999,9,    -999,-999,5,-999,9,-999,9,   52.10,2,-999,1, 20080206,     0540, -33.3040,  28.0374,    -999,-999,9,   0.0260,2,   0.1003,2,   0.0220,2,   0.0672,2,   0.0045,3,   0.0240,2,-999,9,  -0.0011,4,   0.0148,2,  -0.0024,4,    -999,    -999
33RR20080204,       I06S,       3,          2,         13,         13,2,20080206,       0455,   -33.2871,    28.0617,        960,   111.1,  16.5336,  35.2324,3,  35.4199,2,    149.7,3,   167.6,2,    8.21,2,    9.64,2,    0.01,2,    0.74,2,   2.354,2,   1.360,2,   0.030,2,  2112.1,2,  2324.7,2,     -999,9,     -999,    -999,9,    -999,9,    -999,9,-999,9,-999,9,-999,9,-999,    -999,9,    -999,-999,5,-999,9,-999,9,   51.32,2,-999,1, 20080206,     0538, -33.3032,  28.0387,    -999,-999,9,   0.0212,2,   0.0901,2,   0.0234,2,   0.0593,2,   0.0034,3,   0.0258,2,-999,9,  -0.0017,4,   0.0120,2,  -0.0029,4,    -999,    -999
33RR20080204,       I06S,       3,          2,         12,         12,2,20080206,       0455,   -33.2871,    28.0617,        960,   173.7,  13.8175,  35.2371,3,  35.2632,2,    146.0,3,   182.1,2,    8.82,2,   12.11,2,    0.01,2,    0.90,2,   2.667,2,   1.487,2,   0.040,2,  2127.3,2,  2318.9,2,     -999,9,     -999,    -999,9,    -999,9,    -999,9,-999,9,-999,9,-999,9,-999,    -999,9,    -999,-999,5,-999,9,-999,9,   47.32,2,-999,1, 20080206,     0536, -33.3023,  28.0403,    -999,-999,9,   0.0173,2,   0.0798,2,   0.0258,2,   0.0508,2,   0.0019,3,   0.0278,2,-999,9,  -0.0022,4,   0.0091,2,  -0.0031,4,    -999,    -999
33RR20080204,       I06S,       3,          2,         11,         11,2,20080206,       0455,   -33.2871,    28.0617,        960,   224.5,  12.7940,  35.1071,3,  35.1958,2,    164.5,3,   199.3,2,    7.42,2,   12.15,2,    0.00,2,    0.90,2,   2.904,2,   1.602,2,   0.058,2,  2126.1,2,  2315.5,2,     -999,9,     -999,    -999,9,    -999,9,    -999,9,-999,9,-999,9,-999,9,-999,    -999,9,    -999,-999,5,-999,9,-999,9,   44.98,2,-999,1, 20080206,     0534, -33.3012,  28.0420,    -999,-999,9,   0.0146,2,   0.0726,2,   0.0285,2,   0.0458,2,   0.0006,3,   0.0293,2,-999,9,  -0.0031,4,   0.0071,2,  -0.0037,4,    -999,    -999
33RR20080204,       I06S,       3,          2,         10,         10,2,20080206,       0455,   -33.2871,    28.0617,        960,   274.3,  11.8959,  35.0001,3,  35.0759,2,    181.0,3,   199.2,2,    8.42,2,   13.87,2,    0.00,2,    1.00,2,   2.907,2,   1.573,2,   0.065,2,    -999,9,  2311.8,2,     -999,9,     -999,    -999,9,    -999,9,    -999,9,-999,9,-999,9,-999,9,-999,    -999,9,    -999,-999,5,-999,9,-999,9,   43.61,2,-999,1, 20080206,     0531, -33.3002,  28.0437,    -999,-999,9,   0.0136,2,   0.0663,2,   0.0284,2,   0.0409,2,  -0.0010,4,   0.0297,2,-999,9,  -0.0040,4,   0.0049,2,  -0.0044,4,    -999,    -999
33RR20080204,       I06S,       3,          2,          9,          9,2,20080206,       0455,   -33.2871,    28.0617,        960,   320.4,  10.6630,  34.8953,3,  34.9100,2,    179.7,3,   219.6,2,    7.62,2,   15.39,2,    0.00,2,    1.10,2,   3.058,2,   1.625,2,   0.075,2,  2131.4,2,  2303.7,2,     -999,9,     -999,    -999,9,    -999,9,    -999,9,-999,9,-999,9,-999,9,-999,    -999,9,    -999,-999,5,-999,9,-999,9,   40.68,2,-999,1, 20080206,     0529, -33.2991,  28.0453,    -999,-999,9,   0.0107,2,   0.0625,2,   0.0320,2,   0.0368,2,  -0.0012,4,   0.0333,2,-999,9,  -0.0043,4,   0.0040,2,  -0.0044,4,    -999,    -999
33RR20080204,       I06S,       3,          2,          8,          8,2,20080206,       0455,   -33.2871,    28.0617,        960,   368.8,  10.1471,  34.8372,3,  34.8542,2,    185.3,3,   218.1,2,   10.23,2,   17.21,2,    0.00,2,    1.22,2,   2.863,2,   1.502,2,   0.078,2,    -999,9,  2303.3,2,     -999,9,     -999,    -999,9,    -999,9,    -999,9,-999,9,-999,9,-999,9,-999,    -999,9,    -999,-999,5,-999,9,-999,9,    -999,9,-999,9, 20080206,     0526, -33.2979,  28.0474,    -999,-999,9,     -999,9,     -999,9,     -999,9,     -999,9,     -999,9,     -999,9,-999,9,     -999,9,     -999,9,     -999,9,    -999,    -999
33RR20080204,       I06S,       3,          2,          7,          7,2,20080206,       0455,   -33.2871,    28.0617,        960,   416.9,   9.5960,  34.7877,3,  34.7930,2,    185.4,3,   206.8,2,   12.63,2,   18.94,2,    0.00,2,    1.34,2,   2.716,2,   1.395,2,   0.076,2,  2146.8,2,  2302.2,2,     -999,9,     -999,    -999,9,    -999,9,    -999,9,-999,9,-999,9,-999,9,-999,    -999,9,    -999,-999,5,-999,9,-999,9,   42.24,2,-999,1, 20080206,     0524, -33.2967,  28.0493,    -999,-999,9,   0.0153,2,   0.0686,2,   0.0267,2,   0.0416,2,  -0.0006,4,   0.0287,2,-999,9,  -0.0038,4,   0.0051,2,  -0.0042,4,    -999,    -999
33RR20080204,       I06S,       3,          2,          6,          6,2,20080206,       0455,   -33.2871,    28.0617,        960,   477.8,   8.8198,  34.7052,3,  34.7109,2,    183.1,3,   198.1,2,   15.44,2,   20.97,2,    0.00,2,    1.46,2,   2.476,2,   1.264,2,   0.067,2,    -999,9,  2300.9,2,     -999,9,     -999,    -999,9,    -999,9,    -999,9,-999,9,-999,9,-999,9,-999,    -999,9,    -999,-999,5,-999,9,-999,9,    -999,9,-999,9, 20080206,     0521, -33.2954,  28.0512,    -999,-999,9,     -999,9,     -999,9,     -999,9,     -999,9,     -999,9,     -999,9,-999,9,     -999,9,     -999,9,     -999,9,    -999,    -999
33RR20080204,       I06S,       3,          2,          5,          5,2,20080206,       0455,   -33.2871,    28.0617,        960,   538.0,   7.8969,  34.7103,3,  34.6492,2,    183.5,3,   185.8,2,   22.28,2,   24.03,2,    0.00,2,    1.68,2,   1.986,2,   1.021,2,   0.060,2,  2171.3,2,  2303.0,2,     -999,9,     -999,    -999,9,    -999,9,    -999,9,-999,9,-999,9,-999,9,-999,    -999,9,    -999,-999,5,-999,9,-999,9,   41.46,2,-999,1, 20080206,     0517, -33.2942,  28.0526,    -999,-999,9,   0.0195,2,   0.0819,2,   0.0240,2,   0.0519,2,   0.0031,3,   0.0263,2,-999,9,  -0.0024,4,   0.0104,2,  -0.0037,4,    -999,    -999
33RR20080204,       I06S,       3,          2,          4,          4,2,20080206,       0455,   -33.2871,    28.0617,        960,   653.8,   6.8476,  34.5836,3,  34.5979,2,    171.3,3,   173.8,2,   32.60,2,   27.61,2,    0.00,2,    1.93,2,   1.423,2,   0.734,2,   0.044,2,  2193.6,2,  2308.8,2,     -999,9,     -999,    -999,9,    -999,9,    -999,9,-999,9,-999,9,-999,9,-999,    -999,9,    -999,-999,5,-999,9,-999,9,    -999,9,-999,9, 20080206,     0512, -33.2925,  28.0548,    -999,-999,9,     -999,9,     -999,9,     -999,9,     -999,9,     -999,9,     -999,9,-999,9,     -999,9,     -999,9,     -999,9,    -999,    -999
33RR20080204,       I06S,       3,          2,          3,          3,2,20080206,       0455,   -33.2871,    28.0617,        960,   754.6,   6.2116,  34.6235,3,  34.5977,2,    165.0,3,   164.1,2,   41.14,2,   29.77,2,    0.00,2,    2.10,2,   1.116,2,   0.599,2,   0.047,2,  2211.3,2,  2316.2,2,     -999,9,     -999,    -999,9,    -999,9,    -999,9,-999,9,-999,9,-999,9,-999,    -999,9,    -999,-999,5,-999,9,-999,9,   38.24,2,-999,1, 20080206,     0508, -33.2913,  28.0562,    -999,-999,9,   0.0243,2,   0.1006,2,   0.0239,2,   0.0640,2,   0.0038,3,   0.0260,2,-999,9,  -0.0021,4,   0.0124,2,  -0.0036,4,    -999,    -999
33RR20080204,       I06S,       3,          2,          2,          2,2,20080206,       0455,   -33.2871,    28.0617,        960,   854.5,   5.4202,  34.6009,3,  34.5820,2,    159.4,3,   160.8,2,   50.12,2,   31.61,2,    0.00,2,    2.23,2,   0.815,2,   0.422,2,   0.032,2,  2225.8,2,  2323.4,2,     -999,9,     -999,    -999,9,    -999,9,    -999,9,-999,9,-999,9,-999,9,-999,    -999,9,    -999,-999,5,-999,9,-999,9,    -999,9,-999,9, 20080206,     0502, -33.2893,  28.0585,    -999,-999,9,     -999,9,     -999,9,     -999,9,     -999,9,     -999,9,     -999,9,-999,9,     -999,9,     -999,9,     -999,9,    -999,    -999
33RR20080204,       I06S,       3,          2,          1,          1,2,20080206,       0455,   -33.2871,    28.0617,        960,   950.4,   4.6241,  34.5337,3,  34.5809,2,    154.1,3,   158.2,2,   58.92,2,   32.95,2,    0.00,2,    2.32,2,   0.593,2,   0.309,2,   0.034,2,  2235.0,2,  2329.9,2,     -999,9,     -999,    -999,9,    -999,9,    -999,9,-999,9,-999,9,-999,9,-999,    -999,9,    -999,-999,5,-999,9,-999,9,   38.05,2,-999,1, 20080206,     0457, -33.2878,  28.0606,    -999,-999,9,   0.0269,2,   0.1048,2,   0.0216,2,   0.0664,2,   0.0060,2,   0.0245,2,-999,9,  -0.0014,4,   0.0152,2,  -0.0034,4,    -999,    -999