BOTTLE,20220706CCHSIOAMB
EXPOCODE,SECT_ID,STNNBR,CASTNO,SAMPNO,BTLNBR,BTLNBR_FLAG_W,DATE,TIME,LATITUDE,LONGITUDE,DEPTH,CTDPRS,CTDTMP,CTDSAL,CTDSAL_FLAG_W,SALNTY,SALNTY_FLAG_W,CTDOXY,CTDOXY_FLAG_W,OXYGEN,OXYGEN_FLAG_W,SILCAT,SILCAT_FLAG_W,NITRAT,NITRAT_FLAG_W,NITRIT,NITRIT_FLAG_W,PHSPHT,PHSPHT_FLAG_W,CFC-11,CFC-11_FLAG_W,CFC-12,CFC-12_FLAG_W,CFC113,CFC113_FLAG_W,TCARBN,TCARBN_FLAG_W,ALKALI,ALKALI_FLAG_W,PH_SWS,PH_SWS_FLAG_W,PH_TMP,TRITUM,TRITUM_FLAG_W,HELIUM,HELIUM_FLAG_W,DELHE3,DELHE3_FLAG_W,REFTMP,REFTMP_FLAG_W,DELC13,DELC13_FLAG_W,DELC14,DELC14_FLAG_W,C14ERR,NEON,NEON_FLAG_W,NEONER,CCL4,CCL4_FLAG_W,ALUMIN,ALUMIN_FLAG_W,DELO18,DELO18_FLAG_W,DOC,DOC_FLAG_W,TDN,TDN_FLAG_W,BTL_DATE,BTL_TIME,BTL_LAT,BTL_LON,TRITER,DELSI30,DELSI30_FLAG_W,CDOM380,CDOM380_FLAG_W,CDOM325,CDOM325_FLAG_W,CDOMSL,CDOMSL_FLAG_W,CDOM340,CDOM340_FLAG_W,CDOM443,CDOM443_FLAG_W,CDOMSN,CDOMSN_FLAG_W,BLACKC,BLACKC_FLAG_W,CDOM490,CDOM490_FLAG_W,CDOM412,CDOM412_FLAG_W,CDOM555,CDOM555_FLAG_W,DELHER,HELIER
,,,,,,,,,,,METERS,DBAR,ITS-90,PSS-78,,PSS-78,,UMOL/KG,,UMOL/KG,,UMOL/KG,,UMOL/KG,,UMOL/KG,,UMOL/KG,,PMOL/KG,,PMOL/KG,,PMOL/KG,,UMOL/KG,,UMOL/KG,,,,DEG C,TU,,NMOL/KG,,PERCNT,,DEG C,,/MILLE,,/MILLE,,/MILLE,NMOL/KG,,NMOL/KG,PMOL/KG,,NMOL/L,,/MILLE,,UMOL/KG,,UMOL/KG,,,,,,TU,/MILLE,,1/M,,1/M,,1/NM,,1/M,,1/M,,1/NM,,,,1/M,,1/M,,1/M,,PERCNT,NMOL/KG
33RR20080204,       I06S,      71,          2,          7,          7,2,20080227,       2109,   -62.4992,    29.9950,       5180,  3823.6,  -0.2177,  34.6576,2,  34.6580,2,    237.8,2,   238.0,2,  126.74,2,   32.56,2,    0.00,2,    2.25,2,   0.480,2,   0.269,2,   0.036,2,  2254.7,2,  2354.9,2,   7.7953,3,    13.00,    -999,9,    -999,9,    -999,9,-0.218,2,-999,9,-999,9,-999,    -999,9,    -999,1.265,2,-999,9,-999,9,    -999,9,-999,9, 20080227,     2140, -62.4992,  29.9950,    -999,-999,9,     -999,9,     -999,9,     -999,9,     -999,9,     -999,9,     -999,9,-999,9,     -999,9,     -999,9,     -999,9,    -999,    -999
33RR20080204,       I06S,      71,          2,          6,          6,2,20080227,       2109,   -62.4992,    29.9950,       5180,  4134.6,  -0.2499,  34.6558,2,  34.6574,2,    240.4,2,   240.7,2,  127.13,2,   32.50,2,    0.00,2,    2.24,2,   0.479,2,   0.266,2,   0.041,2,  2252.4,2,  2353.1,2,     -999,9,     -999,    -999,9,    -999,9,    -999,9,-0.2502,2,-999,9,-999,9,-999,    -999,9,    -999,1.232,2,-999,9,-999,9,   39.22,2,-999,1, 20080227,     2134, -62.4992,  29.9951,    -999,-999,9,     -999,9,     -999,9,     -999,9,     -999,9,     -999,9,     -999,9,-999,9,     -999,9,     -999,9,     -999,9,    -999,    -999
33RR20080204,       I06S,      71,          2,          5,          5,2,20080227,       2109,   -62.4992,    29.9950,       5180,  4440.4,  -0.2726,  34.6541,2,  34.6535,2,    242.4,2,   242.4,2,  129.23,2,   32.54,2,    0.00,2,    2.24,2,   0.466,2,   0.255,2,   0.042,2,  2250.9,2,  2352.9,2,   7.8064,4,    13.00,    -999,9,    -999,9,    -999,9,-0.2727,2,-999,9,-999,9,-999,    -999,9,    -999,1.244,2,-999,9,-999,9,    -999,9,-999,9, 20080227,     2128, -62.4992,  29.9951,    -999,-999,9,     -999,9,     -999,9,     -999,9,     -999,9,     -999,9,     -999,9,-999,9,     -999,9,     -999,9,     -999,9,    -999,    -999
33RR20080204,       I06S,      71,          2,          4,          4,2,20080227,       2109,   -62.4992,    29.9950,       5180,  4645.4,  -0.2790,  34.6534,2,  34.6535,2,    243.5,2,   242.8,2,  130.39,2,   32.49,2,    0.00,2,    2.24,2,   0.455,2,   0.249,2,   0.038,2,  2249.9,2,  2352.8,2,     -999,9,     -999,    -999,9,    -999,9,    -999,9,-0.2791,2,-999,9,-999,9,-999,    -999,9,    -999,1.223,2,-999,9,-999,9,   39.22,2,-999,1, 20080227,     2123, -62.4992,  29.9950,    -999,-999,9,     -999,9,     -999,9,     -999,9,     -999,9,     -999,9,     -999,9,-999,9,     -999,9,     -999,9,     -999,9,    -999,    -999
33RR20080204,       I06S,      71,          2,          3,          3,2,20080227,       2109,   -62.4992,    29.9950,       5180,  4856.6,  -0.2852,  34.6521,2,  34.6521,2,    244.6,2,   244.0,2,  131.34,2,   32.48,2,    0.00,2,    2.24,2,   0.460,2,   0.247,2,   0.037,2,  2250.0,2,  2354.4,2,   7.7991,3,    13.00,    -999,9,    -999,9,    -999,9,-0.2853,2,-999,9,-999,9,-999,    -999,9,    -999,1.23,2,-999,9,-999,9,    -999,9,-999,9, 20080227,     2119, -62.4992,  29.9951,    -999,-999,9,     -999,9,     -999,9,     -999,9,     -999,9,     -999,9,     -999,9,-999,9,     -999,9,     -999,9,     -999,9,    -999,    -999
33RR20080204,       I06S,      71,          2,          2,          2,2,20080227,       2109,   -62.4992,    29.9950,       5180,  5061.7,  -0.2926,  34.6510,2,  34.6512,2,    245.7,2,   245.2,2,  131.93,2,   32.42,2,    0.00,2,    2.24,2,   0.473,2,   0.252,2,   0.057,2,  2249.7,2,  2354.6,2,     -999,9,     -999,    -999,9,    -999,9,    -999,9,-0.2925,2,-999,9,-999,9,-999,    -999,9,    -999,1.253,2,-999,9,-999,9,   38.93,2,-999,1, 20080227,     2114, -62.4992,  29.9950,    -999,-999,9,     -999,9,     -999,9,     -999,9,     -999,9,     -999,9,     -999,9,-999,9,     -999,9,     -999,9,     -999,9,    -999,    -999
33RR20080204,       I06S,      71,          2,          1,          1,2,20080227,       2109,   -62.4992,    29.9950,       5180,  5249.4,  -0.3009,  34.6497,2,  34.6492,2,    246.4,2,   246.1,2,  132.89,2,   32.56,2,    0.00,2,    2.24,2,   0.536,2,   0.285,2,   0.062,2,  2251.9,6,  2354.9,2,   7.7976,2,    13.00,    -999,9,    -999,9,    -999,9,-0.3008,2,-999,9,-999,9,-999,    -999,9,    -999,1.294,2,-999,9,-999,9,   37.56,2,-999,1, 20080227,     2109, -62.4992,  29.9950,    -999,-999,9,     -999,9,     -999,9,     -999,9,     -999,9,     -999,9,     -999,9,-999,9,     -999,9,     -999,9,     -999,9,    -999,    -999
33RR20080204,       I06S,      72,          3,          1,          1,2,20080228,       1043,   -63.0000,    30.0000,       5171,  5251.1,  -0.2855,  34.6501,2,  34.6504,2,    245.3,2,   244.3,2,  134.60,2,   32.42,2,    0.00,2,    2.25,2,   0.499,2,   0.266,2,   0.018,2,    -999,9,  2354.0,2,     -999,9,     -999,    -999,9,    -999,9,    -999,9,-0.2854,2,-999,9,-999,9,-999,    -999,9,    -999,1.124,2,-999,9,-999,1,    -999,9,-999,9, 20080228,     1044, -63.0000,  30.0000,    -999,-999,9,     -999,9,     -999,9,     -999,9,     -999,9,     -999,9,     -999,9,-999,1,     -999,9,     -999,9,     -999,9,    -999,    -999
33RR20080204,       I06S,      72,          3,          3,          3,2,20080228,       1043,   -63.0000,    30.0000,       5171,  5251.8,  -0.2862,  34.6503,2,  34.6506,2,    245.3,2,   244.5,2,  134.59,2,   32.42,2,    0.00,2,    2.25,2,   0.492,2,   0.254,2,   0.017,2,    -999,9,  2352.9,2,     -999,9,     -999,    -999,9,    -999,9,    -999,9,-0.2861,2,-999,9,-999,9,-999,    -999,9,    -999,1.18,2,-999,9,-999,9,    -999,9,-999,9, 20080228,     1044, -63.0000,  30.0001,    -999,-999,9,     -999,9,     -999,9,     -999,9,     -999,9,     -999,9,     -999,9,-999,1,     -999,9,     -999,9,     -999,9,    -999,    -999
33RR20080204,       I06S,      72,          3,          4,          4,2,20080228,       1043,   -63.0000,    30.0000,       5171,  5252.1,  -0.2864,  34.6500,2,  34.6506,2,    245.3,2,   244.4,2,  134.38,2,   32.42,2,    0.00,2,    2.25,2,   0.495,2,   0.271,2,   0.018,2,    -999,9,  2354.1,2,     -999,9,     -999,    -999,9,    -999,9,    -999,9,-0.2862,2,-999,9,-999,9,-999,    -999,9,    -999,1.256,2,-999,9,-999,1,    -999,9,-999,9, 20080228,     1045, -63.0000,  30.0000,    -999,-999,9,     -999,9,     -999,9,     -999,9,     -999,9,     -999,9,     -999,9,-999,1,     -999,9,     -999,9,     -999,9,    -999,    -999
33RR20080204,       I06S,      72,          3,          2,          2,2,20080228,       1043,   -63.0000,    30.0000,       5171,  5253.5,  -0.2863,  34.6498,2,  34.6498,2,    245.4,2,   244.4,2,  134.39,2,   32.42,2,    0.00,2,    2.25,2,   0.494,2,   0.260,2,   0.018,2,    -999,9,  2355.1,2,     -999,9,     -999,    -999,9,    -999,9,    -999,9,-999,9,-999,9,-999,9,-999,    -999,9,    -999,1.202,2,-999,9,-999,9,    -999,9,-999,9, 20080228,     1044, -63.0000,  30.0001,    -999,-999,9,     -999,9,     -999,9,     -999,9,     -999,9,     -999,9,     -999,9,-999,1,     -999,9,     -999,9,     -999,9,    -999,    -999
33RR20080204,       I06S,      72,          5,         36,         36,2,20080228,       1423,   -63.0011,    29.9980,       5168,     4.0,   0.6782,  33.8115,2,  33.8114,2,    337.0,2,   337.4,2,   52.95,2,   26.09,2,    0.36,2,    1.83,2,   6.192,2,   3.531,2,   0.514,2,  2167.2,6,  2291.6,2,     -999,9,     -999,    -999,9,    -999,9,    -999,9,0.6782,2,-999,9,-999,9,-999,    -999,9,    -999,-999,5,-999,9,-0.39,2,    -999,9,-999,9, 20080228,     1505, -63.0011,  29.9980,    -999,-999,1,     -999,9,     -999,9,     -999,9,     -999,9,     -999,9,     -999,9,-999,9,     -999,9,     -999,9,     -999,9,    -999,    -999
33RR20080204,       I06S,      72,          5,         35,         35,2,20080228,       1423,   -63.0011,    29.9980,       5168,    25.0,   0.6509,  33.8123,2,  33.8126,2,    339.1,2,   337.1,2,   52.95,2,   26.09,2,    0.36,2,    1.84,2,   6.199,2,   3.559,2,   0.482,2,    -999,9,  2292.0,2,     -999,9,     -999,    -999,9,    -999,9,    -999,9,0.6524,2,-999,9,-999,9,-999,    -999,9,    -999,9.175,2,-999,9,-0.32,2,    -999,9,-999,9, 20080228,     1504, -63.0011,  29.9980,    -999,-999,1,     -999,9,     -999,9,     -999,9,     -999,9,     -999,9,     -999,9,-999,9,     -999,9,     -999,9,     -999,9,    -999,    -999
33RR20080204,       I06S,      72,          5,         34,         34,2,20080228,       1423,   -63.0011,    29.9980,       5168,    50.1,   0.2915,  33.8559,2,  33.8451,2,    339.7,2,   337.6,2,   53.14,2,   26.11,2,    0.34,2,    1.85,2,   6.179,2,   3.537,2,   0.506,2,    -999,9,  2294.1,2,     -999,9,     -999,    -999,9,    -999,9,    -999,9,0.2406,3,-999,9,-999,9,-999,    -999,9,    -999,9.523,2,-999,9,-0.49,2,    -999,9,-999,9, 20080228,     1502, -63.0011,  29.9980,    -999,-999,1,     -999,9,     -999,9,     -999,9,     -999,9,     -999,9,     -999,9,-999,9,     -999,9,     -999,9,     -999,9,    -999,    -999
33RR20080204,       I06S,      72,          5,         33,         33,2,20080228,       1423,   -63.0011,    29.9980,       5168,    90.4,  -1.5713,  34.1725,2,  34.1836,2,    323.9,2,   325.8,2,   60.58,2,   28.27,2,    0.24,2,    1.99,2,   5.836,2,   3.363,2,   0.468,2,    -999,9,  2315.5,2,     -999,9,     -999,    -999,9,    -999,9,    -999,9,-1.5309,3,-999,9,-999,9,-999,    -999,9,    -999,8.013,2,-999,9,-0.23,2,    -999,9,-999,9, 20080228,     1458, -63.0011,  29.9980,    -999,-999,1,     -999,9,     -999,9,     -999,9,     -999,9,     -999,9,     -999,9,-999,9,     -999,9,     -999,9,     -999,9,    -999,    -999
33RR20080204,       I06S,      72,          5,         32,         32,2,20080228,       1423,   -63.0011,    29.9980,       5168,   110.7,  -0.9889,  34.2554,2,  34.2517,2,    306.3,2,   303.5,2,   64.80,2,   29.56,2,    0.20,2,    2.07,2,   5.157,2,   2.967,2,   0.399,2,    -999,9,  2320.0,2,     -999,9,     -999,    -999,9,    -999,9,    -999,9,-0.9891,2,-999,9,-999,9,-999,    -999,9,    -999,6.284,2,-999,9,-0.23,2,    -999,9,-999,9, 20080228,     1457, -63.0011,  29.9980,    -999,-999,1,     -999,9,     -999,9,     -999,9,     -999,9,     -999,9,     -999,9,-999,9,     -999,9,     -999,9,     -999,9,    -999,    -999
33RR20080204,       I06S,      72,          5,         31,         31,2,20080228,       1423,   -63.0011,    29.9980,       5168,   160.5,   1.0703,  34.5782,2,  34.5696,2,    205.8,2,   205.8,2,   86.43,2,   33.29,2,    0.01,2,    2.30,2,   1.816,2,   0.999,2,   0.147,2,    -999,9,    -999,9,     -999,9,     -999,    -999,9,    -999,9,    -999,9,1.044,2,-999,9,-999,9,-999,    -999,9,    -999,2.706,2,-999,9,-0.15,2,    -999,9,-999,9, 20080228,     1454, -63.0011,  29.9980,    -999,-999,1,     -999,9,     -999,9,     -999,9,     -999,9,     -999,9,     -999,9,-999,9,     -999,9,     -999,9,     -999,9,    -999,    -999
33RR20080204,       I06S,      72,          5,         30,         30,2,20080228,       1423,   -63.0011,    29.9980,       5168,   214.7,   1.2810,  34.6403,2,  34.6399,2,    192.1,2,   193.7,2,   90.29,2,   32.99,2,    0.00,2,    2.29,2,   1.093,2,   0.638,2,   0.083,2,    -999,9,  2343.7,2,     -999,9,     -999,    -999,9,    -999,9,    -999,9,1.2812,2,-999,9,-999,9,-999,    -999,9,    -999,1.724,2,-999,9,-0.06,2,    -999,9,-999,9, 20080228,     1452, -63.0011,  29.9980,    -999,-999,1,     -999,9,     -999,9,     -999,9,     -999,9,     -999,9,     -999,9,-999,9,     -999,9,     -999,9,     -999,9,    -999,    -999
33RR20080204,       I06S,      72,          5,         29,         29,2,20080228,       1423,   -63.0011,    29.9980,       5168,   274.7,   1.3289,  34.6724,2,  34.6716,2,    192.2,2,   193.0,2,   92.73,2,   32.53,2,    0.00,2,    2.25,2,   0.817,2,   0.452,2,   0.071,2,    -999,9,    -999,9,     -999,9,     -999,    -999,9,    -999,9,    -999,9,1.3287,2,-999,9,-999,9,-999,    -999,9,    -999,1.359,2,-999,9,-0.1,2,    -999,9,-999,9, 20080228,     1449, -63.0011,  29.9980,    -999,-999,1,     -999,9,     -999,9,     -999,9,     -999,9,     -999,9,     -999,9,-999,9,     -999,9,     -999,9,     -999,9,    -999,    -999
33RR20080204,       I06S,      72,          5,         28,         28,2,20080228,       1423,   -63.0011,    29.9980,       5168,   324.5,   1.3071,  34.6852,2,  34.6844,2,    194.1,2,   193.7,2,   93.75,2,   32.33,2,    0.00,2,    2.24,2,   0.708,2,   0.397,2,   0.049,2,    -999,9,  2348.6,2,     -999,9,     -999,    -999,9,    -999,9,    -999,9,1.3066,2,-999,9,-999,9,-999,    -999,9,    -999,-999,9,-999,9,-0.02,2,    -999,9,-999,9, 20080228,     1447, -63.0011,  29.9980,    -999,-999,1,     -999,9,     -999,9,     -999,9,     -999,9,     -999,9,     -999,9,-999,9,     -999,9,     -999,9,     -999,9,    -999,    -999
33RR20080204,       I06S,      72,          5,         27,         27,2,20080228,       1423,   -63.0011,    29.9980,       5168,   375.3,   1.2309,  34.6911,2,  34.6916,2,    196.1,2,   195.2,2,   95.79,2,   32.18,2,    0.00,2,    2.23,2,   0.659,2,   0.359,2,   0.053,2,    -999,9,    -999,9,     -999,9,     -999,    -999,9,    -999,9,    -999,9,1.2292,2,-999,9,-999,9,-999,    -999,9,    -999,1.164,2,-999,9,-0.04,2,    -999,9,-999,9, 20080228,     1445, -63.0011,  29.9980,    -999,-999,1,     -999,9,     -999,9,     -999,9,     -999,9,     -999,9,     -999,9,-999,9,     -999,9,     -999,9,     -999,9,    -999,    -999
33RR20080204,       I06S,      72,          5,         26,         26,2,20080228,       1423,   -63.0011,    29.9980,       5168,   425.0,   1.1924,  34.6962,2,  34.6956,2,    197.1,2,   196.4,2,   97.42,2,   32.13,2,    0.00,2,    2.22,2,   0.602,2,   0.344,2,   0.039,2,    -999,9,  2351.0,2,     -999,9,     -999,    -999,9,    -999,9,    -999,9,1.1911,2,-999,9,-999,9,-999,    -999,9,    -999,1.016,2,-999,9,-999,9,    -999,9,-999,9, 20080228,     1443, -63.0011,  29.9980,    -999,-999,9,     -999,9,     -999,9,     -999,9,     -999,9,     -999,9,     -999,9,-999,9,     -999,9,     -999,9,     -999,9,    -999,    -999
33RR20080204,       I06S,      72,          5,         25,         25,2,20080228,       1423,   -63.0011,    29.9980,       5168,   475.5,   1.1534,  34.7017,2,  34.7017,2,    198.0,2,   197.0,2,   98.85,2,   32.07,2,    0.00,2,    2.22,2,   0.533,2,   0.295,2,   0.038,2,    -999,9,    -999,9,     -999,9,     -999,    -999,9,    -999,9,    -999,9,1.153,2,-999,9,-999,9,-999,    -999,9,    -999,0.929,2,-999,9,-0.05,2,    -999,9,-999,9, 20080228,     1440, -63.0011,  29.9980,    -999,-999,1,     -999,9,     -999,9,     -999,9,     -999,9,     -999,9,     -999,9,-999,9,     -999,9,     -999,9,     -999,9,    -999,    -999
33RR20080204,       I06S,      72,          5,         24,         24,2,20080228,       1423,   -63.0011,    29.9980,       5168,   526.3,   1.1192,  34.7043,2,  34.7048,2,    199.4,2,   199.3,2,  100.28,2,   31.87,2,    0.00,2,    2.21,2,   0.496,2,   0.277,2,   0.030,2,    -999,9,  2353.4,2,     -999,9,     -999,    -999,9,    -999,9,    -999,9,1.1167,2,-999,9,-999,9,-999,    -999,9,    -999,0.832,2,-999,9,-0.09,2,    -999,9,-999,9, 20080228,     1438, -63.0011,  29.9980,    -999,-999,1,     -999,9,     -999,9,     -999,9,     -999,9,     -999,9,     -999,9,-999,9,     -999,9,     -999,9,     -999,9,    -999,    -999
33RR20080204,       I06S,      72,          5,         23,         23,2,20080228,       1423,   -63.0011,    29.9980,       5168,   646.4,   0.9908,  34.7050,2,  34.7058,2,    200.8,2,   200.0,2,  104.16,2,   31.92,2,    0.00,2,    2.22,2,   0.446,2,   0.249,2,   0.033,2,    -999,9,    -999,9,     -999,9,     -999,    -999,9,    -999,9,    -999,9,0.9911,2,-999,9,-999,9,-999,    -999,9,    -999,0.836,2,-999,9,-0.13,2,    -999,9,-999,9, 20080228,     1435, -63.0011,  29.9980,    -999,-999,1,     -999,9,     -999,9,     -999,9,     -999,9,     -999,9,     -999,9,-999,9,     -999,9,     -999,9,     -999,9,    -999,    -999
33RR20080204,       I06S,      72,          5,         22,         22,2,20080228,       1423,   -63.0011,    29.9980,       5168,   746.7,   0.8940,  34.7037,2,  34.7042,2,    201.4,2,   201.3,2,  107.03,2,   32.02,2,    0.00,2,    2.22,2,   0.417,2,   0.232,2,   0.020,2,    -999,9,  2356.0,2,     -999,9,     -999,    -999,9,    -999,9,    -999,9,0.8942,2,-999,9,-999,9,-999,    -999,9,    -999,0.78,2,-999,9,-0.14,2,    -999,9,-999,9, 20080228,     1432, -63.0011,  29.9980,    -999,-999,1,     -999,9,     -999,9,     -999,9,     -999,9,     -999,9,     -999,9,-999,9,     -999,9,     -999,9,     -999,9,    -999,    -999
33RR20080204,       I06S,      72,          5,         21,         21,2,20080228,       1423,   -63.0011,    29.9980,       5168,   847.0,   0.7975,  34.7010,2,  34.7017,2,    202.5,2,   202.3,2,  109.49,2,   32.16,2,    0.00,2,    2.23,2,   0.404,2,   0.225,2,   0.016,2,    -999,9,    -999,9,     -999,9,     -999,    -999,9,    -999,9,    -999,9,0.7966,2,-999,9,-999,9,-999,    -999,9,    -999,0.795,2,-999,9,-999,9,    -999,9,-999,9, 20080228,     1429, -63.0011,  29.9980,    -999,-999,9,     -999,9,     -999,9,     -999,9,     -999,9,     -999,9,     -999,9,-999,9,     -999,9,     -999,9,     -999,9,    -999,    -999
33RR20080204,       I06S,      72,          5,         20,         20,2,20080228,       1423,   -63.0011,    29.9980,       5168,   948.8,   0.7225,  34.6983,2,  34.6983,2,    203.0,2,   203.0,2,  112.15,2,   32.32,2,    0.00,2,    2.24,2,   0.395,2,   0.211,2,   0.019,2,    -999,9,  2356.1,2,     -999,9,     -999,    -999,9,    -999,9,    -999,9,0.7236,2,-999,9,-999,9,-999,    -999,9,    -999,0.8,2,-999,9,-0.23,2,    -999,9,-999,9, 20080228,     1425, -63.0011,  29.9980,    -999,-999,9,     -999,9,     -999,9,     -999,9,     -999,9,     -999,9,     -999,9,-999,9,     -999,9,     -999,9,     -999,9,    -999,    -999