BOTTLE,20220706CCHSIOAMB
EXPOCODE,SECT_ID,STNNBR,CASTNO,SAMPNO,BTLNBR,BTLNBR_FLAG_W,DATE,TIME,LATITUDE,LONGITUDE,DEPTH,CTDPRS,CTDTMP,CTDSAL,CTDSAL_FLAG_W,SALNTY,SALNTY_FLAG_W,CTDOXY,CTDOXY_FLAG_W,OXYGEN,OXYGEN_FLAG_W,SILCAT,SILCAT_FLAG_W,NITRAT,NITRAT_FLAG_W,NITRIT,NITRIT_FLAG_W,PHSPHT,PHSPHT_FLAG_W,CFC-11,CFC-11_FLAG_W,CFC-12,CFC-12_FLAG_W,CFC113,CFC113_FLAG_W,TCARBN,TCARBN_FLAG_W,ALKALI,ALKALI_FLAG_W,PH_SWS,PH_SWS_FLAG_W,PH_TMP,TRITUM,TRITUM_FLAG_W,HELIUM,HELIUM_FLAG_W,DELHE3,DELHE3_FLAG_W,REFTMP,REFTMP_FLAG_W,DELC13,DELC13_FLAG_W,DELC14,DELC14_FLAG_W,C14ERR,NEON,NEON_FLAG_W,NEONER,CCL4,CCL4_FLAG_W,ALUMIN,ALUMIN_FLAG_W,DELO18,DELO18_FLAG_W,DOC,DOC_FLAG_W,TDN,TDN_FLAG_W,BTL_DATE,BTL_TIME,BTL_LAT,BTL_LON,TRITER,DELSI30,DELSI30_FLAG_W,CDOM380,CDOM380_FLAG_W,CDOM325,CDOM325_FLAG_W,CDOMSL,CDOMSL_FLAG_W,CDOM340,CDOM340_FLAG_W,CDOM443,CDOM443_FLAG_W,CDOMSN,CDOMSN_FLAG_W,BLACKC,BLACKC_FLAG_W,CDOM490,CDOM490_FLAG_W,CDOM412,CDOM412_FLAG_W,CDOM555,CDOM555_FLAG_W,DELHER,HELIER
,,,,,,,,,,,METERS,DBAR,ITS-90,PSS-78,,PSS-78,,UMOL/KG,,UMOL/KG,,UMOL/KG,,UMOL/KG,,UMOL/KG,,UMOL/KG,,PMOL/KG,,PMOL/KG,,PMOL/KG,,UMOL/KG,,UMOL/KG,,,,DEG C,TU,,NMOL/KG,,PERCNT,,DEG C,,/MILLE,,/MILLE,,/MILLE,NMOL/KG,,NMOL/KG,PMOL/KG,,NMOL/L,,/MILLE,,UMOL/KG,,UMOL/KG,,,,,,TU,/MILLE,,1/M,,1/M,,1/NM,,1/M,,1/M,,1/NM,,,,1/M,,1/M,,1/M,,PERCNT,NMOL/KG
33RR20080204,       I06S,      17,          1,         36,         36,2,20080210,       0758,   -35.4995,    29.9961,       4487,     4.7,  22.6935,  35.6875,2,  35.6880,2,    219.9,2,   220.3,2,    1.87,2,    0.08,2,    0.00,2,    0.05,2,   2.053,2,   1.225,2,   0.159,2,  2026.1,6,  2337.0,2,   8.1330,2,    20.00,    -999,9,    -999,9,    -999,9,-999,9,-999,9,-999,9,-999,    -999,9,    -999,3.37,2,-999,9,-999,9,   70.15,2,-999,1, 20080210,     0959, -35.4987,  29.9893,    -999,-999,9,   0.0186,2,   0.0676,2,   0.0065,3,   0.0480,2,   0.0036,2,   0.0234,2,-999,9,   0.0003,4,   0.0106,2,  -0.0021,4,    -999,    -999
33RR20080204,       I06S,      17,          1,         35,         35,2,20080210,       0758,   -35.4995,    29.9961,       4487,    22.1,  22.6592,  35.6851,2,  35.6856,2,    221.0,2,   220.5,2,    1.85,2,    0.08,2,    0.00,2,    0.05,2,   2.061,2,   1.221,2,   0.173,2,  2026.0,2,  2337.9,2,   8.1310,2,    20.00,    -999,9,    -999,9,    -999,9,-999,9,-999,9,-999,9,-999,    -999,9,    -999,3.413,2,-999,9,-999,9,   67.61,2,-999,1, 20080210,     0958, -35.4987,  29.9894,    -999,-999,9,   0.0176,2,   0.0762,2,   0.0095,3,   0.0520,2,   0.0031,2,   0.0266,2,-999,9,  -0.0002,4,   0.0096,2,  -0.0023,4,    -999,    -999
33RR20080204,       I06S,      17,          1,         34,         34,2,20080210,       0758,   -35.4995,    29.9961,       4487,    37.0,  22.3180,  35.6694,2,  35.6699,2,    222.9,2,   221.7,2,    1.83,2,    0.08,2,    0.00,2,    0.06,2,   2.095,2,   1.225,2,   0.177,2,  2028.5,2,  2336.0,2,   8.1270,2,    20.00,    -999,9,    -999,9,    -999,9,-999,9,-999,9,-999,9,-999,    -999,9,    -999,3.176,2,-999,9,-999,9,   68.68,2,-999,1, 20080210,     0956, -35.4988,  29.9896,    -999,-999,9,   0.0149,2,   0.0670,2,   0.0082,3,   0.0448,2,   0.0017,3,   0.0279,2,-999,9,  -0.0011,4,   0.0078,2,  -0.0027,4,    -999,    -999
33RR20080204,       I06S,      17,          1,         33,         33,2,20080210,       0758,   -35.4995,    29.9961,       4487,    72.1,  19.6340,  35.5371,2,  35.5377,2,    219.4,2,   221.9,2,    2.21,2,    0.08,2,    0.00,2,    0.14,2,   2.331,2,   1.374,2,   0.169,2,  2044.3,2,  2330.1,2,   8.0900,2,    20.00,    -999,9,    -999,9,    -999,9,-999,9,-999,9,-999,9,-999,    -999,9,    -999,2.307,2,-999,9,-999,9,   63.02,2,-999,1, 20080210,     0954, -35.4988,  29.9897,    -999,-999,9,   0.0487,2,   0.1422,2,   0.0182,2,   0.1061,2,   0.0157,2,   0.0185,2,-999,9,   0.0055,2,   0.0321,2,   0.0009,2,    -999,    -999
33RR20080204,       I06S,      17,          1,         32,         32,2,20080210,       0758,   -35.4995,    29.9961,       4487,    97.0,  18.7910,  35.5265,2,  35.5281,2,    209.7,2,   221.2,2,    2.39,2,    0.27,2,    0.10,2,    0.18,2,   2.389,2,   1.415,2,   0.193,2,  2047.5,2,  2328.7,2,   8.0840,2,    20.00,    -999,9,    -999,9,    -999,9,-999,9,-999,9,-999,9,-999,    -999,9,    -999,2.25,2,-999,9,-999,9,   59.12,2,-999,1, 20080210,     0953, -35.4988,  29.9897,    -999,-999,9,   0.0397,2,   0.1184,2,   0.0179,2,   0.0861,2,   0.0125,2,   0.0188,2,-999,9,   0.0040,2,   0.0268,2,   0.0001,3,    -999,    -999
33RR20080204,       I06S,      17,          1,         31,         31,2,20080210,       0758,   -35.4995,    29.9961,       4487,   145.5,  17.7638,  35.5431,2,  35.5443,2,    205.5,2,   205.5,2,    3.57,2,    3.52,2,    0.02,2,    0.36,2,   2.490,2,   1.470,2,   0.130,2,  2074.8,2,  2329.3,2,   8.0350,2,    20.00,    -999,9,    -999,9,    -999,9,-999,9,-999,9,-999,9,-999,    -999,9,    -999,1.895,2,-999,9,-999,9,   52.49,2,-999,1, 20080210,     0951, -35.4988,  29.9899,    -999,-999,9,   0.0265,2,   0.0926,2,   0.0199,2,   0.0648,2,   0.0064,2,   0.0220,2,-999,9,   0.0009,3,   0.0167,2,  -0.0017,4,    -999,    -999
33RR20080204,       I06S,      17,          1,         30,         30,2,20080210,       0758,   -35.4995,    29.9961,       4487,   195.9,  16.9837,  35.5333,2,  35.5281,2,    206.3,2,   201.5,2,    4.15,2,    5.12,2,    0.01,2,    0.45,2,   2.563,2,   1.495,2,   0.090,2,  2086.3,2,  2328.5,2,   8.0130,2,    20.00,    -999,9,    -999,9,    -999,9,-999,9,-999,9,-999,9,-999,    -999,9,    -999,1.649,2,-999,9,-999,9,   51.51,2,-999,1, 20080210,     0950, -35.4988,  29.9900,    -999,-999,9,   0.0243,2,   0.0828,2,   0.0196,2,   0.0571,2,   0.0055,2,   0.0218,2,-999,9,   0.0003,4,   0.0151,2,  -0.0019,4,    -999,    -999
33RR20080204,       I06S,      17,          1,         29,         29,2,20080210,       0758,   -35.4995,    29.9961,       4487,   235.2,  16.4001,  35.5238,2,  35.5242,2,    207.4,2,   206.6,2,    4.13,2,    5.47,2,    0.01,2,    0.48,2,   2.640,2,   1.531,2,   0.090,2,  2089.8,2,  2329.1,2,   8.0070,2,    20.00,    -999,9,    -999,9,    -999,9,-999,9,-999,9,-999,9,-999,    -999,9,    -999,1.72,2,-999,9,-999,9,   50.73,2,-999,1, 20080210,     0948, -35.4988,  29.9901,    -999,-999,9,   0.0241,2,   0.0799,2,   0.0194,2,   0.0557,2,   0.0052,2,   0.0214,2,-999,9,   0.0001,4,   0.0149,2,  -0.0020,4,    -999,    -999
33RR20080204,       I06S,      17,          1,         28,         28,2,20080210,       0758,   -35.4995,    29.9961,       4487,   284.5,  15.7157,  35.4347,3,  35.4822,2,    208.2,2,   205.5,2,    4.30,2,    6.57,2,    0.01,2,    0.55,2,   2.773,2,   1.572,2,   0.092,2,  2097.4,2,  2326.9,2,   7.9880,2,    20.00,    -999,9,    -999,9,    -999,9,-999,9,-999,9,-999,9,-999,    -999,9,    -999,1.656,2,-999,9,-999,9,   50.15,2,-999,1, 20080210,     0946, -35.4988,  29.9902,    -999,-999,9,   0.0271,2,   0.0878,2,   0.0197,2,   0.0604,2,   0.0061,2,   0.0212,2,-999,9,   0.0004,4,   0.0159,2,  -0.0020,4,    -999,    -999
33RR20080204,       I06S,      17,          1,         27,         27,2,20080210,       0758,   -35.4995,    29.9961,       4487,   333.3,  15.1476,  35.4203,3,  35.4521,2,    202.8,2,   203.6,2,    4.49,2,    7.41,2,    0.01,2,    0.60,2,   2.833,2,   1.597,2,   0.058,2,  2105.6,2,  2326.2,2,   7.9720,2,    20.00,    -999,9,    -999,9,    -999,9,-999,9,-999,9,-999,9,-999,    -999,9,    -999,1.541,2,-999,9,-999,9,    -999,9,-999,9, 20080210,     0944, -35.4988,  29.9903,    -999,-999,9,     -999,9,     -999,9,     -999,9,     -999,9,     -999,9,     -999,9,-999,9,     -999,9,     -999,9,     -999,9,    -999,    -999
33RR20080204,       I06S,      17,          1,         26,         26,2,20080210,       0758,   -35.4995,    29.9961,       4487,   382.9,  14.5652,  35.3729,3,  35.4091,2,    206.9,2,   208.6,2,    4.47,2,    7.90,2,    0.01,2,    0.63,2,   2.946,2,   1.657,2,   0.071,2,  2108.1,2,  2323.6,2,   7.9640,2,    20.00,    -999,9,    -999,9,    -999,9,-999,9,-999,9,-999,9,-999,    -999,9,    -999,1.656,2,-999,9,-999,9,   50.44,2,-999,1, 20080210,     0942, -35.4989,  29.9905,    -999,-999,9,   0.0184,2,   0.0734,2,   0.0223,2,   0.0488,2,   0.0032,2,   0.0251,2,-999,9,  -0.0008,4,   0.0109,2,  -0.0026,4,    -999,    -999
33RR20080204,       I06S,      17,          1,         25,         25,2,20080210,       0758,   -35.4995,    29.9961,       4487,   432.2,  14.0007,  35.3308,3,  35.3544,2,    214.1,2,   210.7,2,    4.64,2,    8.70,2,    0.00,2,    0.68,2,   3.003,2,   1.692,2,   0.085,2,  2112.0,2,  2323.1,2,   7.9530,2,    20.00,    -999,9,    -999,9,    -999,9,-999,9,-999,9,-999,9,-999,    -999,9,    -999,1.657,2,-999,9,-999,9,    -999,9,-999,9, 20080210,     0940, -35.4989,  29.9906,    -999,-999,9,     -999,9,     -999,9,     -999,9,     -999,9,     -999,9,     -999,9,-999,9,     -999,9,     -999,9,     -999,9,    -999,    -999
33RR20080204,       I06S,      17,          1,         24,         24,2,20080210,       0758,   -35.4995,    29.9961,       4487,   482.3,  13.5686,  35.2822,3,  35.3083,2,    215.4,2,   214.8,2,    4.43,2,    9.25,2,    0.00,2,    0.71,2,   3.067,2,   1.702,2,   0.070,2,  2112.7,2,  2320.3,2,   7.9430,2,    20.00,    -999,9,    -999,9,    -999,9,-999,9,-999,9,-999,9,-999,    -999,9,    -999,2.96,2,-999,9,-999,9,   50.93,2,-999,1, 20080210,     0939, -35.4989,  29.9907,    -999,-999,9,   0.0192,2,   0.0732,2,   0.0223,2,   0.0485,2,   0.0032,3,   0.0246,2,-999,9,  -0.0012,4,   0.0106,2,  -0.0028,4,    -999,    -999
33RR20080204,       I06S,      17,          1,         23,         23,2,20080210,       0758,   -35.4995,    29.9961,       4487,   562.4,  12.8714,  35.1836,3,  35.2122,2,    199.8,4,   218.3,2,    4.61,2,   10.40,2,    0.00,2,    0.79,2,   3.160,2,   1.724,2,   0.063,2,  2114.0,2,  2316.7,2,   7.9350,2,    20.00,    -999,9,    -999,9,    -999,9,-999,9,-999,9,-999,9,-999,    -999,9,    -999,1.888,2,-999,9,-999,9,    -999,9,-999,9, 20080210,     0936, -35.4990,  29.9909,    -999,-999,9,     -999,9,     -999,9,     -999,9,     -999,9,     -999,9,     -999,9,-999,9,     -999,9,     -999,9,     -999,9,    -999,    -999
33RR20080204,       I06S,      17,          1,         22,         22,2,20080210,       0758,   -35.4995,    29.9961,       4487,   672.7,  11.6250,  35.0041,3,  35.0299,2,    194.1,4,   217.6,2,    5.39,2,   13.00,2,    0.00,2,    0.96,2,   3.232,2,   1.719,2,   0.092,2,  2122.1,2,  2308.6,2,   7.9040,2,    20.00,    -999,9,    -999,9,    -999,9,-999,9,-999,9,-999,9,-999,    -999,9,    -999,2.262,2,-999,9,-999,9,   44.00,2,-999,1, 20080210,     0933, -35.4990,  29.9911,    -999,-999,9,   0.0160,2,   0.0656,2,   0.0240,2,   0.0420,2,   0.0022,3,   0.0266,2,-999,9,  -0.0012,4,   0.0085,2,  -0.0028,4,    -999,    -999
33RR20080204,       I06S,      17,          1,         21,         21,2,20080210,       0758,   -35.4995,    29.9961,       4487,   771.5,  10.5776,  34.8529,3,  34.8762,2,    197.0,4,   215.2,2,    6.96,2,   15.51,2,    0.00,2,    1.11,2,   3.193,2,   1.661,2,   0.106,2,  2131.7,2,  2302.0,2,   7.8730,2,    20.00,    -999,9,    -999,9,    -999,9,-999,9,-999,9,-999,9,-999,    -999,9,    -999,2.578,2,-999,9,-999,9,    -999,9,-999,9, 20080210,     0930, -35.4990,  29.9913,    -999,-999,9,     -999,9,     -999,9,     -999,9,     -999,9,     -999,9,     -999,9,-999,9,     -999,9,     -999,9,     -999,9,    -999,    -999
33RR20080204,       I06S,      17,          1,         20,         20,2,20080210,       0758,   -35.4995,    29.9961,       4487,   872.9,   9.3800,  34.6769,3,  34.7361,2,    198.6,4,   206.4,2,   10.53,2,   19.12,2,    0.00,2,    1.35,2,   2.918,2,   1.495,2,   0.117,2,  2144.0,2,  2296.8,2,   7.8320,2,    20.00,    -999,9,    -999,9,    -999,9,-999,9,-999,9,-999,9,-999,    -999,9,    -999,2.696,2,-999,9,-999,9,   45.17,2,-999,1, 20080210,     0927, -35.4990,  29.9915,    -999,-999,9,   0.0179,2,   0.0713,2,   0.0226,2,   0.0454,2,   0.0043,2,   0.0256,2,-999,9,  -0.0006,4,   0.0103,2,  -0.0021,4,    -999,    -999
33RR20080204,       I06S,      17,          1,         19,         19,2,20080210,       0758,   -35.4995,    29.9961,       4487,   973.7,   8.0428,  34.5459,3,  34.6054,2,    192.0,4,   200.7,2,   15.72,2,   22.92,2,    0.00,2,    1.59,2,   2.485,2,   1.234,2,   0.087,2,  2159.3,6,  2295.7,2,   7.7920,2,    20.00,    -999,9,    -999,9,    -999,9,-999,9,-999,9,-999,9,-999,    -999,9,    -999,2.724,2,-999,9,-999,9,   42.44,2,-999,1, 20080210,     0924, -35.4990,  29.9917,    -999,-999,9,   0.0173,2,   0.0739,2,   0.0232,2,   0.0461,2,   0.0043,2,   0.0267,2,-999,9,  -0.0007,4,   0.0103,2,  -0.0022,4,    -999,    -999
33RR20080204,       I06S,      17,          1,         18,         18,2,20080210,       0758,   -35.4995,    29.9961,       4487,  1074.2,   6.6776,  34.4793,3,  34.5014,2,    188.5,4,   195.9,2,   22.95,2,   26.46,2,    0.00,2,    1.84,2,   2.129,2,   1.032,2,   0.083,2,  2174.7,2,  2296.8,2,   7.7470,2,    20.00,    -999,9,    -999,9,    -999,9,-999,9,-999,9,-999,9,-999,    -999,9,    -999,2.833,2,-999,9,-999,9,    -999,9,-999,9, 20080210,     0921, -35.4991,  29.9919,    -999,-999,9,     -999,9,     -999,9,     -999,9,     -999,9,     -999,9,     -999,9,-999,9,     -999,9,     -999,9,     -999,9,    -999,    -999
33RR20080204,       I06S,      17,          1,         17,         17,2,20080210,       0758,   -35.4995,    29.9961,       4487,  1165.5,   5.7268,  34.4278,3,  34.4523,2,    188.0,4,   193.1,2,   29.99,2,   28.75,2,    0.00,2,    2.00,2,   1.893,2,   0.927,2,   0.094,2,  2188.6,2,  2300.6,2,   7.7240,2,    20.00,    -999,9,    -999,9,    -999,9,-999,9,-999,9,-999,9,-999,    -999,9,    -999,3.077,2,-999,9,-999,9,   42.63,2,-999,1, 20080210,     0918, -35.4991,  29.9921,    -999,-999,9,   0.0194,2,   0.0780,2,   0.0221,2,   0.0480,2,   0.0048,2,   0.0258,2,-999,9,  -0.0004,4,   0.0112,2,  -0.0019,4,    -999,    -999
33RR20080204,       I06S,      17,          1,         16,         16,2,20080210,       0758,   -35.4995,    29.9961,       4487,  1275.4,   4.7592,  34.3768,3,  34.4194,2,    184.9,4,   193.5,2,   36.86,2,   30.53,2,    0.00,2,    2.13,2,   1.714,2,   0.853,2,   0.089,2,  2199.9,2,  2305.6,2,   7.7090,2,    20.00,    -999,9,    -999,9,    -999,9,-999,9,-999,9,-999,9,-999,    -999,9,    -999,2.821,2,-999,9,-999,9,    -999,9,-999,9, 20080210,     0914, -35.4991,  29.9924,    -999,-999,9,     -999,9,     -999,9,     -999,9,     -999,9,     -999,9,     -999,9,-999,9,     -999,9,     -999,9,     -999,9,    -999,    -999
33RR20080204,       I06S,      17,          1,         15,         15,2,20080210,       0758,   -35.4995,    29.9961,       4487,  1377.0,   4.4709,  34.4805,3,  34.4986,2,    174.7,4,   170.3,2,   50.47,2,   32.53,2,    0.00,2,    2.28,2,   1.009,2,   0.510,2,   0.050,2,  2224.2,2,  2318.4,2,   7.6720,2,    20.00,    -999,9,    -999,9,    -999,9,-999,9,-999,9,-999,9,-999,    -999,9,    -999,2.149,2,-999,9,-999,9,   40.29,2,-999,1, 20080210,     0911, -35.4991,  29.9926,    -999,-999,9,   0.0279,2,   0.0970,2,   0.0187,2,   0.0624,2,   0.0088,2,   0.0219,2,-999,9,   0.0012,2,   0.0174,2,  -0.0013,4,    -999,    -999
33RR20080204,       I06S,      17,          1,         14,         14,2,20080210,       0758,   -35.4995,    29.9961,       4487,  1476.8,   3.9880,  34.5146,3,  34.5235,2,    166.1,3,   167.1,2,   57.81,2,   33.24,2,    0.00,2,    2.33,2,   0.678,2,   0.348,2,   0.041,2,  2235.1,2,  2327.8,2,   7.6630,2,    20.00,    -999,9,    -999,9,    -999,9,-999,9,-999,9,-999,9,-999,    -999,9,    -999,1.776,2,-999,9,-999,9,    -999,9,-999,9, 20080210,     0908, -35.4992,  29.9928,    -999,-999,9,     -999,9,     -999,9,     -999,9,     -999,9,     -999,9,     -999,9,-999,9,     -999,9,     -999,9,     -999,9,    -999,    -999
33RR20080204,       I06S,      17,          1,         13,         13,2,20080210,       0758,   -35.4995,    29.9961,       4487,  1578.3,   3.7118,  34.5276,3,  34.5648,2,    163.0,3,   163.3,2,   64.53,2,   33.64,2,    0.00,2,    2.36,2,   0.460,2,   0.245,2,   0.053,2,  2243.2,2,  2333.9,2,   7.6580,2,    20.00,    -999,9,    -999,9,    -999,9,-999,9,-999,9,-999,9,-999,    -999,9,    -999,1.498,2,-999,9,-999,9,   39.22,2,-999,1, 20080210,     0905, -35.4992,  29.9930,    -999,-999,9,   0.0320,2,   0.1049,2,   0.0181,2,   0.0688,2,   0.0106,2,   0.0207,2,-999,9,   0.0021,2,   0.0200,2,  -0.0008,4,    -999,    -999
33RR20080204,       I06S,      17,          1,         12,         12,2,20080210,       0758,   -35.4995,    29.9961,       4487,  1679.0,   3.4363,  34.6016,3,  34.6141,2,    163.2,3,   161.3,2,   70.46,2,   33.54,2,    0.00,2,    2.36,2,   0.269,2,   0.143,2,   0.011,2,  2251.0,2,  2338.5,2,   7.6580,2,    20.00,    -999,9,    -999,9,    -999,9,-999,9,-999,9,-999,9,-999,    -999,9,    -999,0.764,2,-999,9,-999,9,    -999,9,-999,9, 20080210,     0902, -35.4992,  29.9932,    -999,-999,9,     -999,9,     -999,9,     -999,9,     -999,9,     -999,9,     -999,9,-999,9,     -999,9,     -999,9,     -999,9,    -999,    -999
33RR20080204,       I06S,      17,          1,         11,         11,2,20080210,       0758,   -35.4995,    29.9961,       4487,  1779.0,   3.2410,  34.6342,3,  34.6511,2,    165.0,3,   163.1,2,   73.93,2,   33.19,2,    0.00,2,    2.33,2,   0.180,2,   0.103,2,   0.008,2,  2252.0,2,  2344.3,2,   7.6620,2,    20.00,    -999,9,    -999,9,    -999,9,-999,9,-999,9,-999,9,-999,    -999,9,    -999,0.516,2,-999,9,-999,9,   38.93,2,-999,1, 20080210,     0859, -35.4992,  29.9934,    -999,-999,9,   0.0344,2,   0.1149,2,   0.0183,2,   0.0761,2,   0.0115,2,   0.0209,2,-999,9,   0.0024,2,   0.0218,2,  -0.0007,4,    -999,    -999
33RR20080204,       I06S,      17,          1,         10,         10,2,20080210,       0758,   -35.4995,    29.9961,       4487,  1980.7,   2.8804,  34.6878,3,  34.7011,2,    176.6,3,   178.5,2,   70.21,2,   31.45,2,    0.00,2,    2.19,2,   0.119,2,   0.062,2,   0.009,2,  2244.4,2,  2341.7,2,   7.6830,2,    20.00,    -999,9,    -999,9,    -999,9,-999,9,-999,9,-999,9,-999,    -999,9,    -999,0.361,2,-999,9,-999,9,   39.61,2,-999,1, 20080210,     0854, -35.4992,  29.9937,    -999,-999,9,   0.0334,2,   0.1107,2,   0.0183,2,   0.0736,2,   0.0110,2,   0.0209,2,-999,9,   0.0020,2,   0.0208,2,  -0.0010,4,    -999,    -999
33RR20080204,       I06S,      17,          1,          9,          9,2,20080210,       0758,   -35.4995,    29.9961,       4487,  2283.5,   2.6714,  34.7694,3,  34.7750,2,    199.5,3,   195.6,2,   66.49,2,   29.04,2,    0.00,2,    2.00,2,   0.048,2,   0.024,2,   0.000,2,  2231.2,2,  2343.0,2,   7.7170,2,    20.00,    -999,9,    -999,9,    -999,9,-999,9,-999,9,-999,9,-999,    -999,9,    -999,0.163,2,-999,9,-999,9,    -999,9,-999,9, 20080210,     0848, -35.4993,  29.9942,    -999,-999,9,     -999,9,     -999,9,     -999,9,     -999,9,     -999,9,     -999,9,-999,9,     -999,9,     -999,9,     -999,9,    -999,    -999
33RR20080204,       I06S,      17,          1,          8,          8,2,20080210,       0758,   -35.4995,    29.9961,       4487,  2586.6,   2.5470,  34.7869,3,  34.8083,2,    209.7,3,   209.3,2,   62.16,2,   27.31,2,    0.00,2,    1.87,2,   0.046,2,   0.030,2,   0.000,2,  2222.0,2,  2340.9,2,   7.7390,2,    20.00,    -999,9,    -999,9,    -999,9,-999,9,-999,9,-999,9,-999,    -999,9,    -999,0.165,2,-999,9,-999,9,   38.63,2,-999,1, 20080210,     0841, -35.4994,  29.9947,    -999,-999,9,   0.0338,2,   0.1123,2,   0.0185,2,   0.0753,2,   0.0113,2,   0.0209,2,-999,9,   0.0026,2,   0.0207,2,  -0.0006,4,    -999,    -999