BOTTLE,20220706CCHSIOAMB
EXPOCODE,SECT_ID,STNNBR,CASTNO,SAMPNO,BTLNBR,BTLNBR_FLAG_W,DATE,TIME,LATITUDE,LONGITUDE,DEPTH,CTDPRS,CTDTMP,CTDSAL,CTDSAL_FLAG_W,SALNTY,SALNTY_FLAG_W,CTDOXY,CTDOXY_FLAG_W,OXYGEN,OXYGEN_FLAG_W,SILCAT,SILCAT_FLAG_W,NITRAT,NITRAT_FLAG_W,NITRIT,NITRIT_FLAG_W,PHSPHT,PHSPHT_FLAG_W,CFC-11,CFC-11_FLAG_W,CFC-12,CFC-12_FLAG_W,CFC113,CFC113_FLAG_W,TCARBN,TCARBN_FLAG_W,ALKALI,ALKALI_FLAG_W,PH_SWS,PH_SWS_FLAG_W,PH_TMP,TRITUM,TRITUM_FLAG_W,HELIUM,HELIUM_FLAG_W,DELHE3,DELHE3_FLAG_W,REFTMP,REFTMP_FLAG_W,DELC13,DELC13_FLAG_W,DELC14,DELC14_FLAG_W,C14ERR,NEON,NEON_FLAG_W,NEONER,CCL4,CCL4_FLAG_W,ALUMIN,ALUMIN_FLAG_W,DELO18,DELO18_FLAG_W,DOC,DOC_FLAG_W,TDN,TDN_FLAG_W,BTL_DATE,BTL_TIME,BTL_LAT,BTL_LON,TRITER,DELSI30,DELSI30_FLAG_W,CDOM380,CDOM380_FLAG_W,CDOM325,CDOM325_FLAG_W,CDOMSL,CDOMSL_FLAG_W,CDOM340,CDOM340_FLAG_W,CDOM443,CDOM443_FLAG_W,CDOMSN,CDOMSN_FLAG_W,BLACKC,BLACKC_FLAG_W,CDOM490,CDOM490_FLAG_W,CDOM412,CDOM412_FLAG_W,CDOM555,CDOM555_FLAG_W,DELHER,HELIER
,,,,,,,,,,,METERS,DBAR,ITS-90,PSS-78,,PSS-78,,UMOL/KG,,UMOL/KG,,UMOL/KG,,UMOL/KG,,UMOL/KG,,UMOL/KG,,PMOL/KG,,PMOL/KG,,PMOL/KG,,UMOL/KG,,UMOL/KG,,,,DEG C,TU,,NMOL/KG,,PERCNT,,DEG C,,/MILLE,,/MILLE,,/MILLE,NMOL/KG,,NMOL/KG,PMOL/KG,,NMOL/L,,/MILLE,,UMOL/KG,,UMOL/KG,,,,,,TU,/MILLE,,1/M,,1/M,,1/NM,,1/M,,1/M,,1/NM,,,,1/M,,1/M,,1/M,,PERCNT,NMOL/KG
33RR20080204,       I06S,      47,          1,          7,          7,2,20080220,       0819,   -50.5060,    30.0004,       4550,  2904.5,   0.8977,  34.7145,2,  34.7133,2,    209.6,2,   210.3,2,  112.15,2,   31.33,2,    0.00,2,    2.17,2,   0.194,2,   0.110,2,   0.018,2,  2180.2,4,  2356.1,2,   7.8035,2,    13.00,    -999,9,    -999,9,    -999,9,0.8984,2,-999,9,-999,9,-999,    -999,9,    -999,0.569,2,-999,9,-999,9,    -999,9,-999,9, 20080220,     0857, -50.5089,  30.0006,    -999,-999,9,     -999,9,     -999,9,     -999,9,     -999,9,     -999,9,     -999,9,-999,9,     -999,9,     -999,9,     -999,9,    -999,    -999
33RR20080204,       I06S,      47,          1,          6,          6,2,20080220,       0819,   -50.5060,    30.0004,       4550,  3208.7,   0.6993,  34.6993,2,  34.6999,2,    211.1,2,   211.1,2,  119.02,2,   31.97,2,    0.00,2,    2.21,2,   0.240,2,   0.131,2,   0.019,2,  2341.8,4,  2356.3,2,   7.7896,4,    13.00,    -999,9,    -999,9,    -999,9,0.6991,2,-999,9,-999,9,-999,    -999,9,    -999,0.695,2,-999,9,-999,9,   40.68,2,-999,1, 20080220,     0851, -50.5084,  30.0004,    -999,-999,9,   0.0358,2,   0.1154,2,   0.0176,3,   0.0762,2,   0.0129,2,   0.0183,3,-999,9,   0.0036,2,   0.0226,2,   0.0000,4,    -999,    -999
33RR20080204,       I06S,      47,          1,          5,          5,2,20080220,       0819,   -50.5060,    30.0004,       4550,  3512.4,   0.5767,  34.6936,2,  34.6923,2,    214.3,2,   213.9,2,  122.28,2,   32.12,2,    0.00,2,    2.22,2,   0.244,2,   0.132,2,   0.017,2,  2241.8,3,  2358.2,2,   7.7941,2,    13.00,    -999,9,    -999,9,    -999,9,0.5774,2,-999,9,-999,9,-999,    -999,9,    -999,0.721,2,-999,9,-999,9,    -999,9,-999,9, 20080220,     0845, -50.5079,  30.0003,    -999,-999,9,     -999,9,     -999,9,     -999,9,     -999,9,     -999,9,     -999,9,-999,9,     -999,9,     -999,9,     -999,9,    -999,    -999
33RR20080204,       I06S,      47,          1,          4,          4,2,20080220,       0819,   -50.5060,    30.0004,       4550,  3817.0,   0.4154,  34.6841,2,  34.6824,2,    218.7,2,   217.9,2,  125.16,2,   32.26,2,    0.00,2,    2.24,2,   0.292,2,   0.162,2,   0.016,2,  2202.7,4,  2356.8,2,   7.7920,2,    13.00,    -999,9,    -999,9,    -999,9,0.4162,2,-999,9,-999,9,-999,    -999,9,    -999,0.812,2,-999,9,-999,9,    -999,9,-999,9, 20080220,     0839, -50.5074,  30.0005,    -999,-999,9,     -999,9,     -999,9,     -999,9,     -999,9,     -999,9,     -999,9,-999,9,     -999,9,     -999,9,     -999,9,    -999,    -999
33RR20080204,       I06S,      47,          1,          3,          3,2,20080220,       0819,   -50.5060,    30.0004,       4550,  4122.1,   0.1499,  34.6706,2,  34.6698,2,    226.7,2,   226.3,2,  128.81,2,   32.41,2,    0.00,2,    2.25,2,   0.367,2,   0.196,2,   0.023,2,  2300.3,4,  2354.2,2,   7.7920,2,    13.00,    -999,9,    -999,9,    -999,9,0.1487,2,-999,9,-999,9,-999,    -999,9,    -999,0.992,2,-999,9,-999,9,   41.46,2,-999,1, 20080220,     0832, -50.5072,  30.0007,    -999,-999,9,   0.0340,2,   0.1136,2,   0.0183,3,   0.0747,2,   0.0116,2,   0.0195,3,-999,9,   0.0029,2,   0.0210,2,   0.0003,4,    -999,    -999
33RR20080204,       I06S,      47,          1,          2,          2,2,20080220,       0819,   -50.5060,    30.0004,       4550,  4427.2,  -0.0489,  34.6619,2,  34.6614,2,    233.3,2,   233.8,2,  129.79,2,   32.36,2,    0.00,2,    2.25,2,   0.425,2,   0.233,2,   0.026,2,  2227.2,4,  2351.5,2,   7.7941,3,    13.00,    -999,9,    -999,9,    -999,9,-0.0491,2,-999,9,-999,9,-999,    -999,9,    -999,1.059,2,-999,9,-999,9,    -999,9,-999,9, 20080220,     0826, -50.5067,  30.0006,    -999,-999,9,     -999,9,     -999,9,     -999,9,     -999,9,     -999,9,     -999,9,-999,9,     -999,9,     -999,9,     -999,9,    -999,    -999
33RR20080204,       I06S,      47,          1,          1,          1,2,20080220,       0819,   -50.5060,    30.0004,       4550,  4662.0,  -0.0688,  34.6596,2,  34.6600,2,    235.7,2,   235.5,2,  130.19,2,   32.30,2,    0.00,2,    2.25,2,   0.452,2,   0.233,2,   0.031,2,  2251.8,6,  2352.9,2,   7.7968,2,    13.00,    -999,9,    -999,9,    -999,9,-0.0688,2,-999,9,-999,9,-999,    -999,9,    -999,0.962,2,-999,9,-999,9,   39.51,2,-999,1, 20080220,     0820, -50.5061,  30.0003,    -999,-999,9,   0.0356,2,   0.1173,2,   0.0181,3,   0.0787,2,   0.0125,2,   0.0195,3,-999,9,   0.0032,2,   0.0221,2,  -0.0002,4,    -999,    -999