BOTTLE,20220706CCHSIOAMB
EXPOCODE,SECT_ID,STNNBR,CASTNO,SAMPNO,BTLNBR,BTLNBR_FLAG_W,DATE,TIME,LATITUDE,LONGITUDE,DEPTH,CTDPRS,CTDTMP,CTDSAL,CTDSAL_FLAG_W,SALNTY,SALNTY_FLAG_W,CTDOXY,CTDOXY_FLAG_W,OXYGEN,OXYGEN_FLAG_W,SILCAT,SILCAT_FLAG_W,NITRAT,NITRAT_FLAG_W,NITRIT,NITRIT_FLAG_W,PHSPHT,PHSPHT_FLAG_W,CFC-11,CFC-11_FLAG_W,CFC-12,CFC-12_FLAG_W,CFC113,CFC113_FLAG_W,TCARBN,TCARBN_FLAG_W,ALKALI,ALKALI_FLAG_W,PH_SWS,PH_SWS_FLAG_W,PH_TMP,TRITUM,TRITUM_FLAG_W,HELIUM,HELIUM_FLAG_W,DELHE3,DELHE3_FLAG_W,REFTMP,REFTMP_FLAG_W,DELC13,DELC13_FLAG_W,DELC14,DELC14_FLAG_W,C14ERR,NEON,NEON_FLAG_W,NEONER,CCL4,CCL4_FLAG_W,ALUMIN,ALUMIN_FLAG_W,DELO18,DELO18_FLAG_W,DOC,DOC_FLAG_W,TDN,TDN_FLAG_W,BTL_DATE,BTL_TIME,BTL_LAT,BTL_LON,TRITER,DELSI30,DELSI30_FLAG_W,CDOM380,CDOM380_FLAG_W,CDOM325,CDOM325_FLAG_W,CDOMSL,CDOMSL_FLAG_W,CDOM340,CDOM340_FLAG_W,CDOM443,CDOM443_FLAG_W,CDOMSN,CDOMSN_FLAG_W,BLACKC,BLACKC_FLAG_W,CDOM490,CDOM490_FLAG_W,CDOM412,CDOM412_FLAG_W,CDOM555,CDOM555_FLAG_W,DELHER,HELIER
,,,,,,,,,,,METERS,DBAR,ITS-90,PSS-78,,PSS-78,,UMOL/KG,,UMOL/KG,,UMOL/KG,,UMOL/KG,,UMOL/KG,,UMOL/KG,,PMOL/KG,,PMOL/KG,,PMOL/KG,,UMOL/KG,,UMOL/KG,,,,DEG C,TU,,NMOL/KG,,PERCNT,,DEG C,,/MILLE,,/MILLE,,/MILLE,NMOL/KG,,NMOL/KG,PMOL/KG,,NMOL/L,,/MILLE,,UMOL/KG,,UMOL/KG,,,,,,TU,/MILLE,,1/M,,1/M,,1/NM,,1/M,,1/M,,1/NM,,,,1/M,,1/M,,1/M,,PERCNT,NMOL/KG
33RR20080204,       I06S,      98,          1,         31,         31,2,20080306,       0448,   -68.2674,    31.0482,       2503,     4.5,  -0.8894,  34.0664,2,  34.0665,2,    335.9,2,   336.6,2,   56.58,2,   27.53,2,    0.15,2,    1.92,2,   5.946,2,   3.222,2,   0.545,2,  2189.0,6,  2308.8,2,   7.8638,2,    13.00,    -999,9,    -999,9,    -999,9,-0.8896,2,-999,9,-999,9,-999,    -999,9,    -999,7.021,2,-999,9,-0.33,2,    -999,9,-999,9, 20080306,     0602, -68.2674,  31.0483,    -999,-999,9,     -999,9,     -999,9,     -999,9,     -999,9,     -999,9,     -999,9,-999,9,     -999,9,     -999,9,     -999,9,    -999,    -999
33RR20080204,       I06S,      98,          1,         30,         30,2,20080306,       0448,   -68.2674,    31.0482,       2503,    23.3,  -0.8913,  34.0683,2,  34.0669,2,    336.4,2,   335.7,2,   56.57,2,   27.53,2,    0.15,2,    1.92,2,   6.052,2,   3.226,2,   0.561,2,    -999,9,  2309.3,2,   7.8617,2,    13.00,    -999,9,    -999,9,    -999,9,-0.8921,2,-999,9,-999,9,-999,    -999,9,    -999,7.104,2,-999,9,-0.33,2,    -999,9,-999,9, 20080306,     0600, -68.2674,  31.0482,    -999,-999,9,     -999,9,     -999,9,     -999,9,     -999,9,     -999,9,     -999,9,-999,9,     -999,9,     -999,9,     -999,9,    -999,    -999
33RR20080204,       I06S,      98,          1,         29,         29,2,20080306,       0448,   -68.2674,    31.0482,       2503,    37.9,  -0.9042,  34.0783,2,  34.0776,2,    336.8,2,   333.6,2,   56.56,2,   27.63,2,    0.14,2,    1.93,2,   5.944,2,   3.235,2,   0.531,2,    -999,9,  2309.1,2,   7.8611,2,    13.00,    -999,9,    -999,9,    -999,9,-0.9047,2,-999,9,-999,9,-999,    -999,9,    -999,6.34,2,-999,9,-0.44,2,    -999,9,-999,9, 20080306,     0558, -68.2674,  31.0482,    -999,-999,9,     -999,9,     -999,9,     -999,9,     -999,9,     -999,9,     -999,9,-999,9,     -999,9,     -999,9,     -999,9,    -999,    -999
33RR20080204,       I06S,      98,          1,         28,         28,2,20080306,       0448,   -68.2674,    31.0482,       2503,    68.3,  -1.0344,  34.1098,2,  34.1137,2,    335.5,2,   330.3,2,   57.54,2,   28.04,2,    0.13,2,    1.95,2,   5.785,2,   3.146,2,   0.512,2,    -999,9,  2310.0,2,   7.8526,2,    13.00,    -999,9,    -999,9,    -999,9,-1.0377,2,-999,9,-999,9,-999,    -999,9,    -999,6.223,2,-999,9,-0.36,2,    -999,9,-999,9, 20080306,     0557, -68.2674,  31.0482,    -999,-999,9,     -999,9,     -999,9,     -999,9,     -999,9,     -999,9,     -999,9,-999,9,     -999,9,     -999,9,     -999,9,    -999,    -999
33RR20080204,       I06S,      98,          1,         27,         27,2,20080306,       0448,   -68.2674,    31.0482,       2503,   103.4,  -1.6393,  34.2992,2,  34.3028,2,    311.6,2,   309.7,2,   63.69,2,   29.97,2,    0.10,2,    2.09,2,   5.139,2,   2.759,2,   0.466,2,    -999,9,  2320.9,2,   7.8194,2,    13.00,    -999,9,    -999,9,    -999,9,-1.6397,2,-999,9,-999,9,-999,    -999,9,    -999,5.286,2,-999,9,-0.31,2,    -999,9,-999,9, 20080306,     0555, -68.2674,  31.0482,    -999,-999,9,     -999,9,     -999,9,     -999,9,     -999,9,     -999,9,     -999,9,-999,9,     -999,9,     -999,9,     -999,9,    -999,    -999
33RR20080204,       I06S,      98,          1,         26,         26,2,20080306,       0448,   -68.2674,    31.0482,       2503,   143.8,  -1.6095,  34.3406,2,  34.3414,2,    301.3,2,   302.2,2,   66.27,2,   30.68,2,    0.06,2,    2.12,2,   4.977,2,   2.662,2,   0.459,2,    -999,9,    -999,9,     -999,9,     -999,    -999,9,    -999,9,    -999,9,-1.6079,2,-999,9,-999,9,-999,    -999,9,    -999,5.206,2,-999,9,-0.35,2,    -999,9,-999,9, 20080306,     0553, -68.2674,  31.0483,    -999,-999,9,     -999,9,     -999,9,     -999,9,     -999,9,     -999,9,     -999,9,-999,9,     -999,9,     -999,9,     -999,9,    -999,    -999
33RR20080204,       I06S,      98,          1,         25,         25,2,20080306,       0448,   -68.2674,    31.0482,       2503,   194.1,  -1.4611,  34.3807,2,  34.3802,2,    294.1,2,   296.9,2,   67.26,2,   30.82,2,    0.03,2,    2.12,2,   4.819,2,   2.581,2,   0.453,2,    -999,9,  2325.9,2,   7.8064,2,    13.00,    -999,9,    -999,9,    -999,9,-1.4573,2,-999,9,-999,9,-999,    -999,9,    -999,4.836,2,-999,9,-0.33,2,    -999,9,-999,9, 20080306,     0551, -68.2674,  31.0483,    -999,-999,9,     -999,9,     -999,9,     -999,9,     -999,9,     -999,9,     -999,9,-999,9,     -999,9,     -999,9,     -999,9,    -999,    -999
33RR20080204,       I06S,      98,          1,         24,         24,2,20080306,       0448,   -68.2674,    31.0482,       2503,   233.4,  -1.1538,  34.4164,2,  34.4155,2,    286.7,2,   286.7,2,   70.03,2,   30.92,2,    0.02,2,    2.13,2,   4.463,2,   2.379,2,   0.398,2,    -999,9,    -999,9,     -999,9,     -999,    -999,9,    -999,9,    -999,9,-1.1503,2,-999,9,-999,9,-999,    -999,9,    -999,4.255,2,-999,9,-0.26,2,    -999,9,-999,9, 20080306,     0550, -68.2674,  31.0483,    -999,-999,9,     -999,9,     -999,9,     -999,9,     -999,9,     -999,9,     -999,9,-999,9,     -999,9,     -999,9,     -999,9,    -999,    -999
33RR20080204,       I06S,      98,          1,         23,         23,2,20080306,       0448,   -68.2674,    31.0482,       2503,   284.4,  -0.6028,  34.4877,2,  34.4868,2,    268.2,2,   265.2,2,   75.01,2,   31.19,2,    0.01,2,    2.16,2,   3.713,6,   1.939,6,   0.360,6,    -999,9,  2334.3,2,   7.7941,2,    13.00,   0.049,2,    -999,9,    -999,9,-0.6017,2,-999,9,-999,9,-999,    -999,9,    -999,3.5805,6,-999,9,-999,9,    -999,9,-999,9, 20080306,     0548, -68.2674,  31.0482,   0.009,-999,9,     -999,9,     -999,9,     -999,9,     -999,9,     -999,9,     -999,9,-999,9,     -999,9,     -999,9,     -999,9,    -999,    -999
33RR20080204,       I06S,      98,          1,         22,         22,2,20080306,       0448,   -68.2674,    31.0482,       2503,   334.4,  -0.3416,  34.5298,2,  34.5294,2,    254.9,2,   256.1,2,   77.60,2,   31.34,2,    0.01,2,    2.16,2,   3.295,2,   1.730,2,   0.312,2,    -999,9,    -999,9,     -999,9,     -999,    -999,9,    -999,9,    -999,9,-0.3422,2,-999,9,-999,9,-999,    -999,9,    -999,2.948,2,-999,9,-0.19,2,    -999,9,-999,9, 20080306,     0546, -68.2674,  31.0483,    -999,-999,9,     -999,9,     -999,9,     -999,9,     -999,9,     -999,9,     -999,9,-999,9,     -999,9,     -999,9,     -999,9,    -999,    -999
33RR20080204,       I06S,      98,          1,         21,         21,2,20080306,       0448,   -68.2674,    31.0482,       2503,   390.0,  -0.2355,  34.5571,2,  34.5582,2,    251.1,2,   251.7,2,   80.19,2,   31.28,2,    0.01,2,    2.17,2,   3.073,2,   1.596,2,   0.294,2,    -999,9,  2338.8,2,   7.7916,2,    13.00,    -999,9,    -999,9,    -999,9,-0.237,2,-999,9,-999,9,-999,    -999,9,    -999,2.772,2,-999,9,-999,9,    -999,9,-999,9, 20080306,     0544, -68.2674,  31.0482,    -999,-999,9,     -999,9,     -999,9,     -999,9,     -999,9,     -999,9,     -999,9,-999,9,     -999,9,     -999,9,     -999,9,    -999,    -999
33RR20080204,       I06S,      98,          1,         20,         20,2,20080306,       0448,   -68.2674,    31.0482,       2503,   440.0,  -0.0993,  34.5811,2,  34.5806,2,    246.0,2,   246.1,2,   83.17,2,   31.29,2,    0.01,2,    2.17,2,   2.777,2,   1.432,2,   0.277,2,    -999,9,    -999,9,     -999,9,     -999,    -999,9,    -999,9,    -999,9,-0.1009,2,-999,9,-999,9,-999,    -999,9,    -999,2.512,2,-999,9,-999,9,    -999,9,-999,9, 20080306,     0542, -68.2674,  31.0483,    -999,-999,9,     -999,9,     -999,9,     -999,9,     -999,9,     -999,9,     -999,9,-999,9,     -999,9,     -999,9,     -999,9,    -999,    -999
33RR20080204,       I06S,      98,          1,         19,         19,2,20080306,       0448,   -68.2674,    31.0482,       2503,   490.4,  -0.0046,  34.5953,2,  34.5947,2,    239.7,2,   242.4,2,   84.97,2,   31.28,2,    0.01,2,    2.17,2,   2.547,2,   1.315,2,   0.249,2,    -999,9,  2341.7,2,   7.7911,3,    13.00,    -999,9,    -999,9,    -999,9,-0.0051,2,-999,9,-999,9,-999,    -999,9,    -999,2.273,2,-999,9,-0.11,2,    -999,9,-999,9, 20080306,     0540, -68.2674,  31.0482,    -999,-999,9,     -999,9,     -999,9,     -999,9,     -999,9,     -999,9,     -999,9,-999,9,     -999,9,     -999,9,     -999,9,    -999,    -999
33RR20080204,       I06S,      98,          1,         18,         18,2,20080306,       0448,   -68.2674,    31.0482,       2503,   569.6,   0.1861,  34.6255,2,  34.6259,2,    234.2,2,   234.0,2,   89.97,2,   31.40,2,    0.00,2,    2.18,2,   2.069,2,   1.054,2,   0.184,2,    -999,9,    -999,9,     -999,9,     -999,    -999,9,    -999,9,    -999,9,0.1853,2,-999,9,-999,9,-999,    -999,9,    -999,1.826,2,-999,9,-999,9,    -999,9,-999,9, 20080306,     0538, -68.2674,  31.0482,    -999,-999,9,     -999,9,     -999,9,     -999,9,     -999,9,     -999,9,     -999,9,-999,9,     -999,9,     -999,9,     -999,9,    -999,    -999
33RR20080204,       I06S,      98,          1,         17,         17,2,20080306,       0448,   -68.2674,    31.0482,       2503,   670.5,   0.3315,  34.6461,2,  34.6467,2,    226.8,2,   224.7,2,   94.58,2,   31.45,2,    0.00,2,    2.18,2,   1.666,2,   0.861,2,   0.153,2,    -999,9,  2348.4,2,   7.7893,2,    13.00,    -999,9,    -999,9,    -999,9,0.3316,2,-999,9,-999,9,-999,    -999,9,    -999,1.503,2,-999,9,-999,9,    -999,9,-999,9, 20080306,     0535, -68.2674,  31.0483,    -999,-999,9,     -999,9,     -999,9,     -999,9,     -999,9,     -999,9,     -999,9,-999,9,     -999,9,     -999,9,     -999,9,    -999,    -999
33RR20080204,       I06S,      98,          1,         15,         15,2,20080306,       0448,   -68.2674,    31.0482,       2503,   771.4,   0.4238,  34.6626,2,  34.6628,2,    220.9,2,   221.6,2,   99.80,2,   31.60,2,    0.00,2,    2.18,2,   1.279,2,   0.670,2,   0.112,2,    -999,9,    -999,9,     -999,9,     -999,    -999,9,    -999,9,    -999,9,0.423,2,-999,9,-999,9,-999,    -999,9,    -999,1.335,2,-999,9,-0.19,2,    -999,9,-999,9, 20080306,     0532, -68.2674,  31.0482,    -999,-999,9,     -999,9,     -999,9,     -999,9,     -999,9,     -999,9,     -999,9,-999,9,     -999,9,     -999,9,     -999,9,    -999,    -999
33RR20080204,       I06S,      98,          1,         14,         14,2,20080306,       0448,   -68.2674,    31.0482,       2503,   871.9,   0.3505,  34.6612,2,  34.6615,2,    222.6,2,   221.1,2,  101.41,2,   31.70,2,    0.00,2,    2.19,2,   1.246,2,   0.660,2,   0.096,2,    -999,9,  2351.1,2,   7.7880,2,    13.00,    -999,9,    -999,9,    -999,9,0.3489,2,-999,9,-999,9,-999,    -999,9,    -999,1.227,2,-999,9,-999,9,    -999,9,-999,9, 20080306,     0530, -68.2674,  31.0483,    -999,-999,9,     -999,9,     -999,9,     -999,9,     -999,9,     -999,9,     -999,9,-999,9,     -999,9,     -999,9,     -999,9,    -999,    -999
33RR20080204,       I06S,      98,          1,         13,         13,2,20080306,       0448,   -68.2674,    31.0482,       2503,   972.3,   0.3272,  34.6634,2,  34.6640,2,    222.3,2,   222.7,2,  104.22,2,   31.81,2,    0.00,2,    2.20,2,   1.181,2,   0.637,2,   0.099,2,    -999,9,    -999,9,     -999,9,     -999,    -999,9,    -999,9,    -999,9,0.3265,2,-999,9,-999,9,-999,    -999,9,    -999,1.335,2,-999,9,-999,9,    -999,9,-999,9, 20080306,     0527, -68.2674,  31.0482,    -999,-999,9,     -999,9,     -999,9,     -999,9,     -999,9,     -999,9,     -999,9,-999,9,     -999,9,     -999,9,     -999,9,    -999,    -999
33RR20080204,       I06S,      98,          1,         12,         12,2,20080306,       0448,   -68.2674,    31.0482,       2503,  1078.7,   0.3314,  34.6690,2,  34.6695,2,    218.5,2,   220.0,2,  108.05,2,   32.00,2,    0.00,2,    2.21,2,   0.969,2,   0.523,2,   0.085,2,    -999,9,  2353.2,2,   7.7851,2,    13.00,  -0.020,2,    -999,9,    -999,9,0.3313,2,-999,9,-999,9,-999,    -999,9,    -999,1.181,2,-999,9,-0.21,2,    -999,9,-999,9, 20080306,     0524, -68.2674,  31.0483,   0.009,-999,9,     -999,9,     -999,9,     -999,9,     -999,9,     -999,9,     -999,9,-999,9,     -999,9,     -999,9,     -999,9,    -999,    -999
33RR20080204,       I06S,      98,          1,         11,         11,2,20080306,       0448,   -68.2674,    31.0482,       2503,  1179.2,   0.3164,  34.6715,2,  34.6719,2,    218.3,2,   217.9,2,  111.27,2,   32.11,2,    0.00,2,    2.22,2,   0.842,2,   0.472,2,   0.074,2,    -999,9,    -999,9,     -999,9,     -999,    -999,9,    -999,9,    -999,9,0.3161,2,-999,9,-999,9,-999,    -999,9,    -999,1.083,2,-999,9,-999,9,    -999,9,-999,9, 20080306,     0521, -68.2674,  31.0482,    -999,-999,9,     -999,9,     -999,9,     -999,9,     -999,9,     -999,9,     -999,9,-999,9,     -999,9,     -999,9,     -999,9,    -999,    -999
33RR20080204,       I06S,      98,          1,         10,         10,2,20080306,       0448,   -68.2674,    31.0482,       2503,  1279.4,   0.2869,  34.6710,2,  34.6715,2,    219.9,2,   218.0,2,  112.27,2,   32.16,2,    0.00,2,    2.22,2,   0.809,2,   0.450,2,   0.071,2,    -999,9,  2354.3,2,   7.7841,3,    13.00,    -999,9,    -999,9,    -999,9,0.2862,2,-999,9,-999,9,-999,    -999,9,    -999,1.027,2,-999,9,-999,9,    -999,9,-999,9, 20080306,     0519, -68.2674,  31.0482,    -999,-999,9,     -999,9,     -999,9,     -999,9,     -999,9,     -999,9,     -999,9,-999,9,     -999,9,     -999,9,     -999,9,    -999,    -999
33RR20080204,       I06S,      98,          1,          9,          9,2,20080306,       0448,   -68.2674,    31.0482,       2503,  1380.2,   0.2298,  34.6691,2,  34.6692,2,    218.5,2,   220.4,2,  113.88,2,   32.27,2,    0.00,2,    2.23,2,   0.816,2,   0.455,2,   0.078,2,    -999,9,    -999,9,     -999,9,     -999,    -999,9,    -999,9,    -999,9,0.2293,2,-999,9,-999,9,-999,    -999,9,    -999,1.028,2,-999,9,-999,9,    -999,9,-999,9, 20080306,     0516, -68.2673,  31.0482,    -999,-999,9,     -999,9,     -999,9,     -999,9,     -999,9,     -999,9,     -999,9,-999,9,     -999,9,     -999,9,     -999,9,    -999,    -999
33RR20080204,       I06S,      98,          1,          8,          8,2,20080306,       0448,   -68.2674,    31.0482,       2503,  1480.6,   0.2364,  34.6735,2,  34.6735,2,    217.6,2,   217.4,2,  117.73,2,   32.41,2,    0.00,2,    2.24,2,   0.631,2,   0.348,2,   0.062,2,    -999,9,    -999,9,     -999,9,     -999,    -999,9,    -999,9,    -999,9,0.2362,2,-999,9,-999,9,-999,    -999,9,    -999,0.911,2,-999,9,-0.13,2,    -999,9,-999,9, 20080306,     0513, -68.2674,  31.0482,    -999,-999,9,     -999,9,     -999,9,     -999,9,     -999,9,     -999,9,     -999,9,-999,9,     -999,9,     -999,9,     -999,9,    -999,    -999
33RR20080204,       I06S,      98,          1,          7,          7,2,20080306,       0448,   -68.2674,    31.0482,       2503,  1586.7,   0.2182,  34.6740,2,  34.6745,2,    217.4,2,   217.2,2,  119.95,2,   32.52,2,    0.00,2,    2.25,2,   0.538,2,   0.304,2,   0.057,2,    -999,9,  2356.7,2,   7.7813,2,    13.00,   0.008,2,    -999,9,    -999,9,0.2178,2,-999,9,-999,9,-999,    -999,9,    -999,0.919,2,-999,9,-999,9,    -999,9,-999,9, 20080306,     0510, -68.2674,  31.0482,   0.009,-999,9,     -999,9,     -999,9,     -999,9,     -999,9,     -999,9,     -999,9,-999,9,     -999,9,     -999,9,     -999,9,    -999,    -999
33RR20080204,       I06S,      98,          1,          6,          6,2,20080306,       0448,   -68.2674,    31.0482,       2503,  1687.3,   0.1592,  34.6701,2,  34.6700,2,    220.1,2,   220.9,2,  118.33,2,   32.47,2,    0.00,2,    2.25,2,   0.664,2,   0.367,2,   0.059,2,    -999,9,    -999,9,     -999,9,     -999,    -999,9,    -999,9,    -999,9,0.1591,2,-999,9,-999,9,-999,    -999,9,    -999,1.057,2,-999,9,-999,9,    -999,9,-999,9, 20080306,     0507, -68.2674,  31.0482,    -999,-999,9,     -999,9,     -999,9,     -999,9,     -999,9,     -999,9,     -999,9,-999,9,     -999,9,     -999,9,     -999,9,    -999,    -999
33RR20080204,       I06S,      98,          1,          5,          5,2,20080306,       0448,   -68.2674,    31.0482,       2503,  1788.4,   0.0984,  34.6660,2,  34.6661,2,    224.3,2,   224.0,2,  117.31,2,   32.32,2,    0.00,2,    2.24,2,   0.813,2,   0.449,2,   0.065,2,    -999,9,  2355.7,2,   7.7840,2,    13.00,    -999,9,    -999,9,    -999,9,0.0983,2,-999,9,-999,9,-999,    -999,9,    -999,1.151,2,-999,9,-999,9,    -999,9,-999,9, 20080306,     0505, -68.2674,  31.0482,    -999,-999,9,     -999,9,     -999,9,     -999,9,     -999,9,     -999,9,     -999,9,-999,9,     -999,9,     -999,9,     -999,9,    -999,    -999
33RR20080204,       I06S,      98,          1,          4,          4,2,20080306,       0448,   -68.2674,    31.0482,       2503,  1990.4,   0.0613,  34.6664,2,  34.6669,2,    224.2,2,   224.8,2,  119.54,2,   32.32,2,    0.00,2,    2.24,2,   0.725,2,   0.401,2,   0.061,2,    -999,9,    -999,9,     -999,9,     -999,    -999,9,    -999,9,    -999,9,0.0609,2,-999,9,-999,9,-999,    -999,9,    -999,1.177,2,-999,9,-0.1,2,    -999,9,-999,9, 20080306,     0500, -68.2674,  31.0482,    -999,-999,9,     -999,9,     -999,9,     -999,9,     -999,9,     -999,9,     -999,9,-999,9,     -999,9,     -999,9,     -999,9,    -999,    -999
33RR20080204,       I06S,      98,          1,          3,          3,2,20080306,       0448,   -68.2674,    31.0482,       2503,  2193.0,   0.0188,  34.6639,2,  34.6643,2,    227.7,2,   227.0,2,  119.32,2,   32.26,2,    0.00,2,    2.24,2,   0.837,2,   0.456,2,   0.073,2,    -999,9,  2354.6,2,   7.7851,2,    13.00,  -0.018,2,    -999,9,    -999,9,0.0184,2,-999,9,-999,9,-999,    -999,9,    -999,1.281,2,-999,9,-999,9,    -999,9,-999,9, 20080306,     0456, -68.2674,  31.0482,   0.009,-999,9,     -999,9,     -999,9,     -999,9,     -999,9,     -999,9,     -999,9,-999,9,     -999,9,     -999,9,     -999,9,    -999,    -999
33RR20080204,       I06S,      98,          1,          2,          2,2,20080306,       0448,   -68.2674,    31.0482,       2503,  2334.6,   0.0096,  34.6636,2,  34.6628,2,    228.1,2,   227.9,2,  119.52,2,   32.26,2,    0.00,2,    2.25,2,   0.850,2,   0.471,2,   0.067,2,    -999,9,  2355.0,2,   7.7864,2,    13.00,    -999,9,    -999,9,    -999,9,0.0095,2,-999,9,-999,9,-999,    -999,9,    -999,1.33,2,-999,9,-999,9,    -999,9,-999,9, 20080306,     0453, -68.2674,  31.0482,    -999,-999,9,     -999,9,     -999,9,     -999,9,     -999,9,     -999,9,     -999,9,-999,9,     -999,9,     -999,9,     -999,9,    -999,    -999