BOTTLE,20220706CCHSIOAMB
EXPOCODE,SECT_ID,STNNBR,CASTNO,SAMPNO,BTLNBR,BTLNBR_FLAG_W,DATE,TIME,LATITUDE,LONGITUDE,DEPTH,CTDPRS,CTDTMP,CTDSAL,CTDSAL_FLAG_W,SALNTY,SALNTY_FLAG_W,CTDOXY,CTDOXY_FLAG_W,OXYGEN,OXYGEN_FLAG_W,SILCAT,SILCAT_FLAG_W,NITRAT,NITRAT_FLAG_W,NITRIT,NITRIT_FLAG_W,PHSPHT,PHSPHT_FLAG_W,CFC-11,CFC-11_FLAG_W,CFC-12,CFC-12_FLAG_W,CFC113,CFC113_FLAG_W,TCARBN,TCARBN_FLAG_W,ALKALI,ALKALI_FLAG_W,PH_SWS,PH_SWS_FLAG_W,PH_TMP,TRITUM,TRITUM_FLAG_W,HELIUM,HELIUM_FLAG_W,DELHE3,DELHE3_FLAG_W,REFTMP,REFTMP_FLAG_W,DELC13,DELC13_FLAG_W,DELC14,DELC14_FLAG_W,C14ERR,NEON,NEON_FLAG_W,NEONER,CCL4,CCL4_FLAG_W,ALUMIN,ALUMIN_FLAG_W,DELO18,DELO18_FLAG_W,DOC,DOC_FLAG_W,TDN,TDN_FLAG_W,BTL_DATE,BTL_TIME,BTL_LAT,BTL_LON,TRITER,DELSI30,DELSI30_FLAG_W,CDOM380,CDOM380_FLAG_W,CDOM325,CDOM325_FLAG_W,CDOMSL,CDOMSL_FLAG_W,CDOM340,CDOM340_FLAG_W,CDOM443,CDOM443_FLAG_W,CDOMSN,CDOMSN_FLAG_W,BLACKC,BLACKC_FLAG_W,CDOM490,CDOM490_FLAG_W,CDOM412,CDOM412_FLAG_W,CDOM555,CDOM555_FLAG_W,DELHER,HELIER
,,,,,,,,,,,METERS,DBAR,ITS-90,PSS-78,,PSS-78,,UMOL/KG,,UMOL/KG,,UMOL/KG,,UMOL/KG,,UMOL/KG,,UMOL/KG,,PMOL/KG,,PMOL/KG,,PMOL/KG,,UMOL/KG,,UMOL/KG,,,,DEG C,TU,,NMOL/KG,,PERCNT,,DEG C,,/MILLE,,/MILLE,,/MILLE,NMOL/KG,,NMOL/KG,PMOL/KG,,NMOL/L,,/MILLE,,UMOL/KG,,UMOL/KG,,,,,,TU,/MILLE,,1/M,,1/M,,1/NM,,1/M,,1/M,,1/NM,,,,1/M,,1/M,,1/M,,PERCNT,NMOL/KG
33RR20080204,       I06S,      79,          1,         34,         34,2,20080301,       1322,   -65.6569,    32.5526,       3497,     5.6,   0.0997,  33.9965,2,  33.9972,2,    338.0,2,   338.3,2,   54.19,2,   26.71,2,    0.25,2,    1.84,2,   6.820,2,   3.471,2,   0.434,2,  2175.1,6,  2302.7,2,   7.8811,2,    13.00,   0.121,2,   1.792,2,   -1.42,2,0.0989,2,-999,9,-999,9,-999,   7.956,2,   0.030,11.705,2,-999,9,-999,9,    -999,9,-999,9, 20080301,     1500, -65.6569,  32.5526,   0.009,-999,9,     -999,9,     -999,9,     -999,9,     -999,9,     -999,9,     -999,9,-999,9,     -999,9,     -999,9,     -999,9,    0.15,   0.007
33RR20080204,       I06S,      79,          1,         33,         33,2,20080301,       1322,   -65.6569,    32.5526,       3497,    24.7,   0.0278,  34.0402,2,  34.0403,2,    337.8,2,   337.1,2,   54.78,2,   26.78,2,    0.23,2,    1.84,2,   6.531,2,   3.378,2,   0.436,2,    -999,9,  2306.9,2,   7.8807,2,    13.00,    -999,9,    -999,9,    -999,9,0.0284,2,-999,9,-999,9,-999,    -999,9,    -999,11.011,2,-999,9,-999,9,    -999,9,-999,9, 20080301,     1458, -65.6569,  32.5526,    -999,-999,9,     -999,9,     -999,9,     -999,9,     -999,9,     -999,9,     -999,9,-999,9,     -999,9,     -999,9,     -999,9,    -999,    -999
33RR20080204,       I06S,      79,          1,         32,         32,2,20080301,       1322,   -65.6569,    32.5526,       3497,    45.7,  -1.1833,  34.2358,2,  34.2383,2,    327.1,2,   325.5,2,   58.80,2,   28.15,2,    0.14,2,    1.96,2,   5.298,2,   2.956,2,   0.420,2,    -999,9,  2317.5,2,   7.8546,2,    13.00,    -999,9,    -999,9,    -999,9,-1.1844,2,-999,9,-999,9,-999,    -999,9,    -999,7.028,2,-999,9,-999,9,    -999,9,-999,9, 20080301,     1456, -65.6569,  32.5526,    -999,-999,9,     -999,9,     -999,9,     -999,9,     -999,9,     -999,9,     -999,9,-999,9,     -999,9,     -999,9,     -999,9,    -999,    -999
33RR20080204,       I06S,      79,          1,         31,         31,2,20080301,       1322,   -65.6569,    32.5526,       3497,    75.5,  -1.6325,  34.3398,2,  34.3397,2,    306.7,2,   307.0,2,   65.27,2,   30.05,2,    0.13,2,    2.10,2,   4.939,2,   2.785,2,   0.421,2,    -999,9,  2325.3,2,   7.8177,2,    13.00,    -999,9,    -999,9,    -999,9,-1.6334,2,-999,9,-999,9,-999,    -999,9,    -999,6.715,2,-999,9,-999,9,    -999,9,-999,9, 20080301,     1454, -65.6569,  32.5526,    -999,-999,9,     -999,9,     -999,9,     -999,9,     -999,9,     -999,9,     -999,9,-999,9,     -999,9,     -999,9,     -999,9,    -999,    -999
33RR20080204,       I06S,      79,          1,         30,         30,2,20080301,       1322,   -65.6569,    32.5526,       3497,   101.6,  -1.5640,  34.3619,2,  34.3621,2,    300.5,2,   300.5,2,   66.88,2,   30.68,2,    0.09,2,    2.13,2,   4.791,2,   2.698,2,   0.375,2,    -999,9,    -999,9,     -999,9,     -999,   0.075,2,   1.831,2,    1.32,2,-1.5672,2,-999,9,-999,9,-999,   8.160,2,   0.031,5.653,2,-999,9,-999,9,    -999,9,-999,9, 20080301,     1453, -65.6569,  32.5526,   0.009,-999,9,     -999,9,     -999,9,     -999,9,     -999,9,     -999,9,     -999,9,-999,9,     -999,9,     -999,9,     -999,9,    0.15,   0.007
33RR20080204,       I06S,      79,          1,         29,         29,2,20080301,       1322,   -65.6569,    32.5526,       3497,   152.2,  -1.0080,  34.4257,2,  34.4243,2,    279.0,2,   280.5,2,   71.94,2,   31.21,2,    0.02,2,    2.16,2,   4.022,2,   2.297,2,   0.327,2,    -999,9,  2329.0,2,   7.7974,2,    13.00,    -999,9,    -999,9,    -999,9,-1.0033,2,-999,9,-999,9,-999,    -999,9,    -999,4.295,2,-999,9,-999,9,    -999,9,-999,9, 20080301,     1451, -65.6569,  32.5526,    -999,-999,9,     -999,9,     -999,9,     -999,9,     -999,9,     -999,9,     -999,9,-999,9,     -999,9,     -999,9,     -999,9,    -999,    -999
33RR20080204,       I06S,      79,          1,         28,         28,2,20080301,       1322,   -65.6569,    32.5526,       3497,   202.0,  -0.0911,  34.5305,2,  34.5319,2,    246.3,2,   244.9,2,   79.44,2,   31.77,2,    0.01,2,    2.20,2,   2.738,2,   1.572,2,   0.259,2,    -999,9,    -999,9,     -999,9,     -999,   0.048,2,   1.851,2,    5.03,2,-0.0911,2,-999,9,-999,9,-999,   8.102,2,   0.031,3.022,2,-999,9,-999,9,    -999,9,-999,9, 20080301,     1449, -65.6569,  32.5526,   0.009,-999,9,     -999,9,     -999,9,     -999,9,     -999,9,     -999,9,     -999,9,-999,9,     -999,9,     -999,9,     -999,9,    0.15,   0.007
33RR20080204,       I06S,      79,          1,         27,         27,2,20080301,       1322,   -65.6569,    32.5526,       3497,   251.8,   0.3789,  34.5903,2,  34.5916,2,    229.5,2,   227.2,2,   84.10,2,   31.92,2,    0.01,2,    2.21,2,   2.047,2,   1.176,2,   0.198,2,    -999,9,  2340.5,2,   7.7782,2,    13.00,    -999,9,    -999,9,    -999,9,0.3762,2,-999,9,-999,9,-999,    -999,9,    -999,2.323,2,-999,9,-999,9,    -999,9,-999,9, 20080301,     1447, -65.6569,  32.5526,    -999,-999,9,     -999,9,     -999,9,     -999,9,     -999,9,     -999,9,     -999,9,-999,9,     -999,9,     -999,9,     -999,9,    -999,    -999
33RR20080204,       I06S,      79,          1,         26,         26,2,20080301,       1322,   -65.6569,    32.5526,       3497,   302.3,   0.5163,  34.6189,2,  34.6191,2,    223.3,2,   223.3,2,   86.54,2,   31.82,2,    0.00,2,    2.21,2,   1.793,2,   1.041,2,   0.169,2,    -999,9,    -999,9,     -999,9,     -999,   0.031,2,   1.865,2,    6.65,2,0.5148,2,-999,9,-999,9,-999,   8.108,2,   0.031,2.132,2,-999,9,-999,9,    -999,9,-999,9, 20080301,     1445, -65.6569,  32.5526,   0.009,-999,9,     -999,9,     -999,9,     -999,9,     -999,9,     -999,9,     -999,9,-999,9,     -999,9,     -999,9,     -999,9,    0.15,   0.007
33RR20080204,       I06S,      79,          1,         25,         25,2,20080301,       1322,   -65.6569,    32.5526,       3497,   353.3,   0.6941,  34.6473,2,  34.6488,2,    213.7,2,   216.4,2,   89.59,2,   31.72,2,    0.00,2,    2.20,2,   1.426,2,   0.828,2,   0.126,2,    -999,9,  2346.1,2,   7.7807,2,    13.00,    -999,9,    -999,9,    -999,9,0.6955,2,-999,9,-999,9,-999,    -999,9,    -999,1.823,2,-999,9,-999,9,    -999,9,-999,9, 20080301,     1443, -65.6569,  32.5526,    -999,-999,9,     -999,9,     -999,9,     -999,9,     -999,9,     -999,9,     -999,9,-999,9,     -999,9,     -999,9,     -999,9,    -999,    -999
33RR20080204,       I06S,      79,          1,         24,         24,2,20080301,       1322,   -65.6569,    32.5526,       3497,   402.7,   0.8900,  34.6722,2,  34.6725,2,    211.4,2,   209.7,2,   92.24,2,   31.62,2,    0.00,2,    2.20,2,   1.064,2,   0.635,2,   0.087,2,    -999,9,    -999,9,     -999,9,     -999,   0.002,6,   1.851,2,    8.11,2,0.8894,2,-999,9,-999,9,-999,   7.972,2,   0.030,1.453,2,-999,9,-999,9,    -999,9,-999,9, 20080301,     1441, -65.6569,  32.5526,   0.006,-999,9,     -999,9,     -999,9,     -999,9,     -999,9,     -999,9,     -999,9,-999,9,     -999,9,     -999,9,     -999,9,    0.15,   0.007
33RR20080204,       I06S,      79,          1,         23,         23,2,20080301,       1322,   -65.6569,    32.5526,       3497,   453.5,   0.6701,  34.6574,2,  34.6574,2,    212.3,2,   217.4,2,   91.82,2,   31.57,2,    0.00,2,    2.19,2,   1.322,2,   0.745,2,   0.129,2,    -999,9,  2349.6,2,   7.7831,3,    13.00,    -999,9,    -999,9,    -999,9,0.6695,2,-999,9,-999,9,-999,    -999,9,    -999,1.71,2,-999,9,-999,9,    -999,9,-999,9, 20080301,     1439, -65.6569,  32.5525,    -999,-999,9,     -999,9,     -999,9,     -999,9,     -999,9,     -999,9,     -999,9,-999,9,     -999,9,     -999,9,     -999,9,    -999,    -999
33RR20080204,       I06S,      79,          1,         22,         22,2,20080301,       1322,   -65.6569,    32.5526,       3497,   508.0,   0.6753,  34.6648,2,  34.6668,2,    211.5,2,   216.1,2,   93.64,2,   31.47,2,    0.00,2,    2.19,2,   1.194,2,   0.685,2,   0.116,2,    -999,9,    -999,9,     -999,9,     -999,    -999,9,    -999,9,    -999,9,0.6753,2,-999,9,-999,9,-999,    -999,9,    -999,1.466,2,-999,9,-999,9,    -999,9,-999,9, 20080301,     1437, -65.6569,  32.5526,    -999,-999,9,     -999,9,     -999,9,     -999,9,     -999,9,     -999,9,     -999,9,-999,9,     -999,9,     -999,9,     -999,9,    -999,    -999
33RR20080204,       I06S,      79,          1,         21,         21,2,20080301,       1322,   -65.6569,    32.5526,       3497,   609.4,   0.6751,  34.6767,2,  34.6788,2,    213.3,2,   213.9,2,   98.34,2,   31.58,2,    0.00,2,    2.20,2,   0.982,2,   0.560,2,   0.087,2,    -999,9,  2351.1,2,   7.7861,2,    13.00,   0.000,2,   1.849,2,    7.95,2,0.6756,2,-999,9,-999,9,-999,   8.085,2,   0.031,1.311,2,-999,9,-999,9,    -999,9,-999,9, 20080301,     1434, -65.6569,  32.5526,   0.009,-999,9,     -999,9,     -999,9,     -999,9,     -999,9,     -999,9,     -999,9,-999,9,     -999,9,     -999,9,     -999,9,    0.15,   0.007
33RR20080204,       I06S,      79,          1,         20,         20,2,20080301,       1322,   -65.6569,    32.5526,       3497,   709.7,   0.6770,  34.6835,2,  34.6847,2,    215.3,2,   212.0,2,  101.81,2,   31.68,2,    0.00,2,    2.20,2,   0.823,2,   0.469,2,   0.081,2,    -999,9,    -999,9,     -999,9,     -999,    -999,9,    -999,9,    -999,9,0.6767,2,-999,9,-999,9,-999,    -999,9,    -999,1.157,2,-999,9,-999,9,    -999,9,-999,9, 20080301,     1431, -65.6569,  32.5526,    -999,-999,9,     -999,9,     -999,9,     -999,9,     -999,9,     -999,9,     -999,9,-999,9,     -999,9,     -999,9,     -999,9,    -999,    -999
33RR20080204,       I06S,      79,          1,         19,         19,2,20080301,       1322,   -65.6569,    32.5526,       3497,   810.5,   0.5934,  34.6799,2,  34.6818,2,    214.2,2,   213.6,2,  103.44,2,   31.84,2,    0.00,2,    2.20,2,   0.863,2,   0.488,2,   0.068,2,    -999,9,  2356.3,2,   7.7860,2,    13.00,    -999,9,   1.861,2,    8.00,2,0.5916,2,-999,9,-999,9,-999,   8.083,2,   0.031,1.243,2,-999,9,-999,9,    -999,9,-999,9, 20080301,     1429, -65.6569,  32.5526,    -999,-999,9,     -999,9,     -999,9,     -999,9,     -999,9,     -999,9,     -999,9,-999,9,     -999,9,     -999,9,     -999,9,    0.15,   0.007
33RR20080204,       I06S,      79,          1,         18,         18,2,20080301,       1322,   -65.6569,    32.5526,       3497,   910.3,   0.5540,  34.6820,2,  34.6814,2,    214.0,2,   213.1,2,  106.92,2,   31.93,2,    0.00,2,    2.21,2,   0.782,2,   0.438,2,   0.055,2,    -999,9,    -999,9,     -999,9,     -999,    -999,9,    -999,9,    -999,9,0.5534,2,-999,9,-999,9,-999,    -999,9,    -999,1.098,2,-999,9,-999,9,    -999,9,-999,9, 20080301,     1426, -65.6568,  32.5526,    -999,-999,9,     -999,9,     -999,9,     -999,9,     -999,9,     -999,9,     -999,9,-999,9,     -999,9,     -999,9,     -999,9,    -999,    -999
33RR20080204,       I06S,      79,          1,         17,         17,2,20080301,       1322,   -65.6569,    32.5526,       3497,  1016.2,   0.5096,  34.6820,2,  34.6824,2,    213.9,2,   212.9,2,  109.37,2,   32.09,2,    0.00,2,    2.23,2,   0.691,2,   0.394,2,   0.047,2,    -999,9,  2355.8,2,   7.7836,4,    13.00,  -0.002,2,   1.864,2,    8.01,2,0.5093,2,-999,9,-999,9,-999,   8.089,2,   0.031,1.06,2,-999,9,-999,9,    -999,9,-999,9, 20080301,     1423, -65.6569,  32.5526,   0.009,-999,9,     -999,9,     -999,9,     -999,9,     -999,9,     -999,9,     -999,9,-999,9,     -999,9,     -999,9,     -999,9,    0.15,   0.007
33RR20080204,       I06S,      79,          1,         15,         15,2,20080301,       1322,   -65.6569,    32.5526,       3497,  1117.2,   0.4566,  34.6812,2,  34.6814,2,    213.2,2,   212.9,2,  111.83,2,   32.19,2,    0.00,2,    2.23,2,   0.654,2,   0.362,2,   0.033,2,    -999,9,  2353.8,2,   7.7755,4,    13.00,    -999,9,    -999,1,    -999,9,0.4563,2,-999,9,-999,9,-999,    -999,9,    -999,0.935,2,-999,9,-999,9,    -999,9,-999,9, 20080301,     1420, -65.6569,  32.5526,    -999,-999,9,     -999,9,     -999,9,     -999,9,     -999,9,     -999,9,     -999,9,-999,9,     -999,9,     -999,9,     -999,9,    -999,    -999
33RR20080204,       I06S,      79,          1,         14,         14,2,20080301,       1322,   -65.6569,    32.5526,       3497,  1217.5,   0.4179,  34.6807,2,  34.6818,2,    213.5,2,   213.5,2,  113.67,2,   32.29,2,    0.00,2,    2.23,2,   0.607,2,   0.348,2,   0.037,2,    -999,9,    -999,9,     -999,9,     -999,    -999,9,   1.889,2,    8.12,2,0.4176,2,-999,9,-999,9,-999,   8.221,2,   0.031,0.917,2,-999,9,-999,9,    -999,9,-999,9, 20080301,     1415, -65.6569,  32.5526,    -999,-999,9,     -999,9,     -999,9,     -999,9,     -999,9,     -999,9,     -999,9,-999,9,     -999,9,     -999,9,     -999,9,    0.15,   0.007
33RR20080204,       I06S,      79,          1,         13,         13,2,20080301,       1322,   -65.6569,    32.5526,       3497,  1318.9,   0.3474,  34.6734,2,  34.6785,2,    215.3,2,   215.1,2,  115.10,2,   32.34,2,    0.00,2,    2.24,2,   0.637,2,   0.356,2,   0.036,2,    -999,9,    -999,9,     -999,9,     -999,    -999,9,    -999,9,    -999,9,0.3478,2,-999,9,-999,9,-999,    -999,9,    -999,0.968,2,-999,9,-999,9,    -999,9,-999,9, 20080301,     1413, -65.6569,  32.5527,    -999,-999,9,     -999,9,     -999,9,     -999,9,     -999,9,     -999,9,     -999,9,-999,9,     -999,9,     -999,9,     -999,9,    -999,    -999
33RR20080204,       I06S,      79,          1,         12,         12,2,20080301,       1322,   -65.6569,    32.5526,       3497,  1418.9,   0.3097,  34.6734,2,  34.6779,2,    216.0,2,   216.2,2,  117.15,2,   32.39,2,    0.00,2,    2.24,2,   0.586,2,   0.320,2,   0.038,2,    -999,9,  2355.1,2,   7.7810,2,    13.00,   0.030,2,   1.882,2,    7.56,2,0.3101,2,-999,9,-999,9,-999,   8.213,2,   0.031,0.946,2,-999,9,-999,9,    -999,9,-999,9, 20080301,     1410, -65.6568,  32.5525,   0.009,-999,9,     -999,9,     -999,9,     -999,9,     -999,9,     -999,9,     -999,9,-999,9,     -999,9,     -999,9,     -999,9,    0.15,   0.007
33RR20080204,       I06S,      79,          1,         11,         11,2,20080301,       1322,   -65.6569,    32.5526,       3497,  1525.5,   0.2754,  34.6712,3,  34.6775,2,    216.1,2,   215.9,2,  118.58,2,   32.50,2,    0.00,2,    2.25,2,   0.543,2,   0.305,2,   0.038,2,    -999,9,    -999,9,     -999,9,     -999,    -999,9,    -999,9,    -999,9,0.2755,2,-999,9,-999,9,-999,    -999,9,    -999,0.938,2,-999,9,-999,9,    -999,9,-999,9, 20080301,     1407, -65.6569,  32.5526,    -999,-999,9,     -999,9,     -999,9,     -999,9,     -999,9,     -999,9,     -999,9,-999,9,     -999,9,     -999,9,     -999,9,    -999,    -999
33RR20080204,       I06S,      79,          1,         10,         10,2,20080301,       1322,   -65.6569,    32.5526,       3497,  1625.6,   0.2378,  34.6725,2,  34.6763,2,    216.9,2,   216.6,2,  120.02,2,   32.40,2,    0.00,2,    2.25,2,   0.531,2,   0.306,2,   0.028,2,    -999,9,    -999,9,     -999,9,     -999,   0.014,2,   1.879,2,    7.62,2,0.2383,2,-999,9,-999,9,-999,   8.214,2,   0.031,0.917,2,-999,9,-999,9,    -999,9,-999,9, 20080301,     1405, -65.6569,  32.5526,   0.009,-999,9,     -999,9,     -999,9,     -999,9,     -999,9,     -999,9,     -999,9,-999,9,     -999,9,     -999,9,     -999,9,    0.15,   0.007
33RR20080204,       I06S,      79,          1,          9,          9,2,20080301,       1322,   -65.6569,    32.5526,       3497,  1727.3,   0.1888,  34.6701,2,  34.6737,2,    217.0,2,   218.8,2,  119.81,2,   32.40,2,    0.00,2,    2.25,2,   0.587,2,   0.336,2,   0.039,2,    -999,9,  2354.9,2,   7.7815,2,    13.00,    -999,9,    -999,9,    -999,9,0.1892,2,-999,9,-999,9,-999,    -999,9,    -999,1.0,2,-999,9,-999,9,    -999,9,-999,9, 20080301,     1402, -65.6569,  32.5526,    -999,-999,9,     -999,9,     -999,9,     -999,9,     -999,9,     -999,9,     -999,9,-999,9,     -999,9,     -999,9,     -999,9,    -999,    -999
33RR20080204,       I06S,      79,          1,          8,          8,2,20080301,       1322,   -65.6569,    32.5526,       3497,  1828.0,   0.1445,  34.6684,2,  34.6720,2,    219.6,2,   220.1,2,  120.63,2,   32.50,2,    0.00,2,    2.26,2,   0.592,2,   0.329,2,   0.047,2,    -999,9,    -999,9,     -999,9,     -999,   0.014,6,   1.886,2,    7.45,2,0.1452,2,-999,9,-999,9,-999,   8.271,2,   0.031,1.023,2,-999,9,-999,9,    -999,9,-999,9, 20080301,     1359, -65.6569,  32.5526,   0.006,-999,9,     -999,9,     -999,9,     -999,9,     -999,9,     -999,9,     -999,9,-999,9,     -999,9,     -999,9,     -999,9,    0.15,   0.007
33RR20080204,       I06S,      79,          1,          7,          7,2,20080301,       1322,   -65.6569,    32.5526,       3497,  2035.6,   0.0774,  34.6669,2,  34.6700,2,    222.7,2,   222.8,2,  121.85,2,   32.46,2,    0.00,2,    2.26,2,   0.623,2,   0.352,2,   0.035,2,    -999,9,    -999,9,     -999,9,     -999,    -999,9,    -999,9,    -999,9,0.0783,2,-999,9,-999,9,-999,    -999,9,    -999,1.132,2,-999,9,-999,9,    -999,9,-999,9, 20080301,     1354, -65.6569,  32.5526,    -999,-999,9,     -999,9,     -999,9,     -999,9,     -999,9,     -999,9,     -999,9,-999,9,     -999,9,     -999,9,     -999,9,    -999,    -999
33RR20080204,       I06S,      79,          1,          6,          6,2,20080301,       1322,   -65.6569,    32.5526,       3497,  2339.1,   0.0177,  34.6639,3,  34.6688,2,    226.3,2,   225.9,2,  122.05,2,   32.46,2,    0.00,2,    2.25,2,   0.689,2,   0.398,2,   0.046,2,    -999,9,  2355.3,2,   7.7854,2,    13.00,   0.018,2,   1.894,2,    7.15,2,0.0186,2,-999,9,-999,9,-999,   8.266,2,   0.031,1.199,2,-999,9,-999,9,    -999,9,-999,9, 20080301,     1348, -65.6569,  32.5526,   0.009,-999,9,     -999,9,     -999,9,     -999,9,     -999,9,     -999,9,     -999,9,-999,9,     -999,9,     -999,9,     -999,9,    0.15,   0.007
33RR20080204,       I06S,      79,          1,          5,          5,2,20080301,       1322,   -65.6569,    32.5526,       3497,  2642.8,  -0.0525,  34.6617,2,  34.6641,2,    229.6,2,   229.8,2,  121.84,2,   32.36,2,    0.00,2,    2.24,2,   0.810,2,   0.467,2,   0.047,2,    -999,9,    -999,9,     -999,9,     -999,    -999,9,    -999,9,    -999,9,-0.0517,2,-999,9,-999,9,-999,    -999,9,    -999,1.386,2,-999,9,-999,9,    -999,9,-999,9, 20080301,     1341, -65.6569,  32.5526,    -999,-999,9,     -999,9,     -999,9,     -999,9,     -999,9,     -999,9,     -999,9,-999,9,     -999,9,     -999,9,     -999,9,    -999,    -999