BOTTLE,20220706CCHSIOAMB
EXPOCODE,SECT_ID,STNNBR,CASTNO,SAMPNO,BTLNBR,BTLNBR_FLAG_W,DATE,TIME,LATITUDE,LONGITUDE,DEPTH,CTDPRS,CTDTMP,CTDSAL,CTDSAL_FLAG_W,SALNTY,SALNTY_FLAG_W,CTDOXY,CTDOXY_FLAG_W,OXYGEN,OXYGEN_FLAG_W,SILCAT,SILCAT_FLAG_W,NITRAT,NITRAT_FLAG_W,NITRIT,NITRIT_FLAG_W,PHSPHT,PHSPHT_FLAG_W,CFC-11,CFC-11_FLAG_W,CFC-12,CFC-12_FLAG_W,CFC113,CFC113_FLAG_W,TCARBN,TCARBN_FLAG_W,ALKALI,ALKALI_FLAG_W,PH_SWS,PH_SWS_FLAG_W,PH_TMP,TRITUM,TRITUM_FLAG_W,HELIUM,HELIUM_FLAG_W,DELHE3,DELHE3_FLAG_W,REFTMP,REFTMP_FLAG_W,DELC13,DELC13_FLAG_W,DELC14,DELC14_FLAG_W,C14ERR,NEON,NEON_FLAG_W,NEONER,CCL4,CCL4_FLAG_W,ALUMIN,ALUMIN_FLAG_W,DELO18,DELO18_FLAG_W,DOC,DOC_FLAG_W,TDN,TDN_FLAG_W,BTL_DATE,BTL_TIME,BTL_LAT,BTL_LON,TRITER,DELSI30,DELSI30_FLAG_W,CDOM380,CDOM380_FLAG_W,CDOM325,CDOM325_FLAG_W,CDOMSL,CDOMSL_FLAG_W,CDOM340,CDOM340_FLAG_W,CDOM443,CDOM443_FLAG_W,CDOMSN,CDOMSN_FLAG_W,BLACKC,BLACKC_FLAG_W,CDOM490,CDOM490_FLAG_W,CDOM412,CDOM412_FLAG_W,CDOM555,CDOM555_FLAG_W,DELHER,HELIER
,,,,,,,,,,,METERS,DBAR,ITS-90,PSS-78,,PSS-78,,UMOL/KG,,UMOL/KG,,UMOL/KG,,UMOL/KG,,UMOL/KG,,UMOL/KG,,PMOL/KG,,PMOL/KG,,PMOL/KG,,UMOL/KG,,UMOL/KG,,,,DEG C,TU,,NMOL/KG,,PERCNT,,DEG C,,/MILLE,,/MILLE,,/MILLE,NMOL/KG,,NMOL/KG,PMOL/KG,,NMOL/L,,/MILLE,,UMOL/KG,,UMOL/KG,,,,,,TU,/MILLE,,1/M,,1/M,,1/NM,,1/M,,1/M,,1/NM,,,,1/M,,1/M,,1/M,,PERCNT,NMOL/KG
33RR20080204,       I06S,      82,          1,         36,         36,2,20080303,       0501,   -65.7288,    32.8367,       1802,     6.1,  -0.3479,  34.0867,2,  34.0865,2,    331.1,2,   331.0,2,   55.84,2,   27.32,2,    0.21,2,    1.89,2,   5.836,2,   3.130,2,   0.709,4,  2182.2,6,  2311.1,2,   7.8707,2,    13.00,   0.071,2,   1.777,2,   -0.95,2,-0.3475,2,-999,9,-999,9,-999,   7.900,2,   0.030,49.0,4,-999,9,-999,9,    -999,9,-999,9, 20080303,     0559, -65.7288,  32.8366,   0.009,-999,9,     -999,9,     -999,9,     -999,9,     -999,9,     -999,9,     -999,9,-999,9,     -999,9,     -999,9,     -999,9,    0.15,   0.007
33RR20080204,       I06S,      82,          1,         34,         34,2,20080303,       0501,   -65.7288,    32.8367,       1802,    22.8,  -0.3433,  34.0853,2,  34.0857,2,    331.9,2,   331.4,2,   55.63,2,   27.37,2,    0.21,2,    1.89,2,   5.770,2,   3.175,2,   0.714,4,    -999,9,  2310.6,2,   7.8708,3,    13.00,    -999,9,    -999,9,    -999,9,-0.345,2,-999,9,-999,9,-999,    -999,9,    -999,38.51,4,-999,9,-999,9,    -999,9,-999,9, 20080303,     0558, -65.7288,  32.8366,    -999,-999,9,     -999,9,     -999,9,     -999,9,     -999,9,     -999,9,     -999,9,-999,9,     -999,9,     -999,9,     -999,9,    -999,    -999
33RR20080204,       I06S,      82,          1,         32,         32,2,20080303,       0501,   -65.7288,    32.8367,       1802,    42.8,  -0.7743,  34.1615,2,  34.1722,2,    329.9,2,   321.8,2,   59.03,2,   28.26,2,    0.18,2,    1.96,2,   5.529,2,   3.003,2,   0.716,4,    -999,9,  2314.1,2,   7.8504,4,    13.00,    -999,9,    -999,9,    -999,9,-0.8,2,-999,9,-999,9,-999,    -999,9,    -999,30.378,4,-999,9,-999,9,    -999,9,-999,9, 20080303,     0557, -65.7287,  32.8367,    -999,-999,9,     -999,9,     -999,9,     -999,9,     -999,9,     -999,9,     -999,9,-999,9,     -999,9,     -999,9,     -999,9,    -999,    -999
33RR20080204,       I06S,      82,          1,         30,         30,2,20080303,       0501,   -65.7288,    32.8367,       1802,    73.4,  -1.5704,  34.3351,2,  34.3344,2,    299.2,2,   299.5,2,   66.45,2,   30.56,2,    0.12,2,    2.13,2,   4.893,2,   2.660,2,   0.706,4,    -999,9,  2323.3,2,   7.8086,3,    13.00,    -999,9,    -999,9,    -999,9,-1.5747,2,-999,9,-999,9,-999,    -999,9,    -999,20.406,4,-999,9,-999,9,    -999,9,-999,9, 20080303,     0556, -65.7288,  32.8366,    -999,-999,9,     -999,9,     -999,9,     -999,9,     -999,9,     -999,9,     -999,9,-999,9,     -999,9,     -999,9,     -999,9,    -999,    -999
33RR20080204,       I06S,      82,          1,         29,         29,9,20080303,       0501,   -65.7288,    32.8367,       1802,    77.3,  -1.5455,  34.3386,2,     -999,9,     -999,9,    -999,9,    -999,9,    -999,9,    -999,9,    -999,9,    -999,9,    -999,9,    -999,9,    -999,9,    -999,9,     -999,9,     -999,    -999,9,    -999,9,    -999,9,-1.5498,2,-999,9,-999,9,-999,    -999,9,    -999,-999,9,-999,9,-999,9,    -999,9,-999,9, 20080303,     0555, -65.7288,  32.8367,    -999,-999,9,     -999,9,     -999,9,     -999,9,     -999,9,     -999,9,     -999,9,-999,9,     -999,9,     -999,9,     -999,9,    -999,    -999
33RR20080204,       I06S,      82,          1,         28,         28,2,20080303,       0501,   -65.7288,    32.8367,       1802,   101.7,  -1.3178,  34.3729,2,  34.3711,2,    290.8,2,   291.1,2,   68.46,2,   30.85,2,    0.08,2,    2.13,2,   4.603,2,   2.496,2,   0.678,4,    -999,9,  2325.9,2,   7.8009,3,    13.00,   0.071,2,   1.858,2,    2.13,2,-1.3317,2,-999,9,-999,9,-999,   8.147,2,   0.031,14.466,4,-999,9,-999,9,    -999,9,-999,9, 20080303,     0554, -65.7288,  32.8367,   0.009,-999,9,     -999,9,     -999,9,     -999,9,     -999,9,     -999,9,     -999,9,-999,9,     -999,9,     -999,9,     -999,9,    0.15,   0.007
33RR20080204,       I06S,      82,          1,         26,         26,2,20080303,       0501,   -65.7288,    32.8367,       1802,   152.0,  -0.1152,  34.5068,2,  34.4851,2,    254.4,2,   251.1,2,   77.12,2,   31.83,2,    0.01,2,    2.20,2,   3.212,2,   1.685,2,   0.587,4,    -999,9,  2333.1,2,   7.7827,2,    13.00,    -999,9,    -999,9,    -999,9,-0.2123,3,-999,9,-999,9,-999,    -999,9,    -999,7.34,4,-999,9,-999,9,    -999,9,-999,9, 20080303,     0553, -65.7288,  32.8368,    -999,-999,9,     -999,9,     -999,9,     -999,9,     -999,9,     -999,9,     -999,9,-999,9,     -999,9,     -999,9,     -999,9,    -999,    -999
33RR20080204,       I06S,      82,          1,         24,         24,2,20080303,       0501,   -65.7288,    32.8367,       1802,   203.0,   0.7039,  34.6072,2,  34.6067,2,    212.4,2,   215.0,2,   86.00,2,   32.13,2,    0.01,2,    2.23,2,   1.776,2,   0.940,2,   0.494,4,    -999,9,  2342.3,2,   7.7700,2,    13.00,    -999,9,   1.842,2,    7.63,2,0.6971,2,-999,9,-999,9,-999,   7.954,2,   0.030,4.137,4,-999,9,-999,9,    -999,9,-999,9, 20080303,     0551, -65.7288,  32.8367,    -999,-999,9,     -999,9,     -999,9,     -999,9,     -999,9,     -999,9,     -999,9,-999,9,     -999,9,     -999,9,     -999,9,    0.15,   0.007
33RR20080204,       I06S,      82,          1,         22,         22,2,20080303,       0501,   -65.7288,    32.8367,       1802,   306.0,   1.1977,  34.6821,2,  34.6812,2,    200.2,2,   199.3,2,   91.46,2,   31.93,2,    0.01,2,    2.22,2,   0.853,2,   0.439,2,   0.248,4,    -999,9,  2347.9,2,   7.7727,2,    13.00,  -0.002,2,    -999,9,    -999,9,1.1949,2,-999,9,-999,9,-999,    -999,9,    -999,2.482,4,-999,9,-999,9,    -999,9,-999,9, 20080303,     0548, -65.7287,  32.8366,   0.009,-999,9,     -999,9,     -999,9,     -999,9,     -999,9,     -999,9,     -999,9,-999,9,     -999,9,     -999,9,     -999,9,    -999,    -999
33RR20080204,       I06S,      82,          1,         20,         20,2,20080303,       0501,   -65.7288,    32.8367,       1802,   404.8,   1.1002,  34.6929,2,  34.6928,2,    204.0,2,   202.7,2,   94.29,2,   31.47,2,    0.00,2,    2.19,2,   0.803,2,   0.416,2,   0.203,4,    -999,9,  2350.8,2,   7.7821,2,    13.00,    -999,9,   1.855,2,    8.91,2,1.1,2,-999,9,-999,9,-999,   8.006,2,   0.030,2.827,4,-999,9,-999,9,    -999,9,-999,9, 20080303,     0545, -65.7288,  32.8367,    -999,-999,9,     -999,9,     -999,9,     -999,9,     -999,9,     -999,9,     -999,9,-999,9,     -999,9,     -999,9,     -999,9,    0.15,   0.007
33RR20080204,       I06S,      82,          1,         18,         18,2,20080303,       0501,   -65.7288,    32.8367,       1802,   608.3,   0.7454,  34.6831,2,  34.6828,2,    213.0,2,   212.4,2,   97.75,2,   31.52,2,    0.00,2,    2.19,2,   0.969,2,   0.511,2,   0.332,4,    -999,9,  2352.1,2,   7.7877,2,    13.00,    -999,9,    -999,9,    -999,9,0.7514,2,-999,9,-999,9,-999,    -999,9,    -999,2.354,4,-999,9,-999,9,    -999,9,-999,9, 20080303,     0539, -65.7288,  32.8368,    -999,-999,9,     -999,9,     -999,9,     -999,9,     -999,9,     -999,9,     -999,9,-999,9,     -999,9,     -999,9,     -999,9,    -999,    -999
33RR20080204,       I06S,      82,          1,         16,         16,2,20080303,       0501,   -65.7288,    32.8367,       1802,   811.4,   0.5762,  34.6795,2,  34.6793,2,    217.3,2,   214.5,2,  103.23,2,   31.77,2,    0.00,2,    2.22,2,   0.929,2,   0.520,2,   0.229,4,    -999,9,  2352.8,2,   7.7861,2,    13.00,    -999,9,    -999,9,    -999,9,0.5785,2,-999,9,-999,9,-999,    -999,9,    -999,2.227,4,-999,9,-999,9,    -999,9,-999,9, 20080303,     0534, -65.7288,  32.8366,    -999,-999,9,     -999,9,     -999,9,     -999,9,     -999,9,     -999,9,     -999,9,-999,9,     -999,9,     -999,9,     -999,9,    -999,    -999
33RR20080204,       I06S,      82,          1,         14,         14,2,20080303,       0501,   -65.7288,    32.8367,       1802,  1013.5,   0.4264,  34.6756,2,  34.6752,2,    218.2,2,   216.4,2,  108.52,2,   32.08,2,    0.01,2,    2.23,2,   0.882,2,   0.459,2,   0.170,4,    -999,9,  2354.5,2,   7.7848,2,    13.00,   0.011,6,   1.858,2,    7.59,2,0.4276,2,-999,9,-999,9,-999,   8.124,2,   0.031,2.083,4,-999,9,-999,9,    -999,9,-999,9, 20080303,     0529, -65.7288,  32.8367,   0.006,-999,9,     -999,9,     -999,9,     -999,9,     -999,9,     -999,9,     -999,9,-999,9,     -999,9,     -999,9,     -999,9,    0.15,   0.007
33RR20080204,       I06S,      82,          1,         12,         12,2,20080303,       0501,   -65.7288,    32.8367,       1802,  1217.7,   0.3510,  34.6775,2,  34.6770,2,    213.2,2,   215.8,2,  114.43,2,   32.33,2,    0.00,2,    2.24,2,   0.684,2,   0.374,2,   0.261,4,    -999,9,  2355.5,2,   7.7821,2,    13.00,   0.021,2,    -999,9,    -999,9,0.3494,2,-999,9,-999,9,-999,    -999,9,    -999,1.719,4,-999,9,-999,9,    -999,9,-999,9, 20080303,     0524, -65.7288,  32.8367,   0.009,-999,9,     -999,9,     -999,9,     -999,9,     -999,9,     -999,9,     -999,9,-999,9,     -999,9,     -999,9,     -999,9,    -999,    -999
33RR20080204,       I06S,      82,          1,         10,         10,2,20080303,       0501,   -65.7288,    32.8367,       1802,  1417.3,   0.2394,  34.6744,2,  34.6743,2,    217.0,2,   217.5,2,  118.73,2,   32.43,2,    0.00,2,    2.25,2,   0.614,2,   0.336,2,   0.150,4,    -999,9,  2356.4,2,   7.7819,2,    13.00,  -0.002,2,   1.863,2,    7.60,2,0.2406,2,-999,9,-999,9,-999,   8.095,2,   0.031,1.44,4,-999,9,-999,9,    -999,9,-999,9, 20080303,     0519, -65.7288,  32.8366,   0.009,-999,9,     -999,9,     -999,9,     -999,9,     -999,9,     -999,9,     -999,9,-999,9,     -999,9,     -999,9,     -999,9,    0.15,   0.007
33RR20080204,       I06S,      82,          1,          8,          8,2,20080303,       0501,   -65.7288,    32.8367,       1802,  1623.1,   0.1415,  34.6700,2,  34.6694,2,    219.0,2,   220.6,2,  119.75,2,   32.43,2,    0.00,2,    2.25,2,   0.668,2,   0.363,2,   0.193,4,    -999,9,  2355.8,2,   7.7825,2,    13.00,    -999,9,    -999,9,    -999,9,0.1404,2,-999,9,-999,9,-999,    -999,9,    -999,1.549,4,-999,9,-999,9,    -999,9,-999,9, 20080303,     0513, -65.7288,  32.8368,    -999,-999,9,     -999,9,     -999,9,     -999,9,     -999,9,     -999,9,     -999,9,-999,9,     -999,9,     -999,9,     -999,9,    -999,    -999
33RR20080204,       I06S,      82,          1,          6,          6,2,20080303,       0501,   -65.7288,    32.8367,       1802,  1825.4,   0.0926,  34.6668,2,  34.6670,2,    223.7,2,   223.8,2,  119.33,2,   32.43,2,    0.00,2,    2.24,2,   0.775,2,   0.404,2,   0.154,4,    -999,9,  2355.2,2,   7.7825,2,    13.00,    -999,9,   1.866,2,    6.94,2,0.0913,2,-999,9,-999,9,-999,   8.113,2,   0.031,1.614,4,-999,9,-999,9,    -999,9,-999,9, 20080303,     0507, -65.7287,  32.8365,    -999,-999,9,     -999,9,     -999,9,     -999,9,     -999,9,     -999,9,     -999,9,-999,9,     -999,9,     -999,9,     -999,9,    0.15,   0.007
33RR20080204,       I06S,      82,          1,          4,          4,2,20080303,       0501,   -65.7288,    32.8367,       1802,  1929.8,   0.0802,  34.6665,2,  34.6663,2,    224.6,2,   224.2,2,  118.70,2,   32.37,2,    0.00,2,    2.25,2,   0.805,2,   0.429,2,   0.122,4,    -999,9,  2356.0,2,   7.7837,2,    13.00,   0.017,2,    -999,9,    -999,9,0.0802,2,-999,9,-999,9,-999,    -999,9,    -999,1.521,4,-999,9,-999,9,    -999,9,-999,9, 20080303,     0504, -65.7288,  32.8364,   0.009,-999,9,     -999,9,     -999,9,     -999,9,     -999,9,     -999,9,     -999,9,-999,9,     -999,9,     -999,9,     -999,9,    -999,    -999
33RR20080204,       I06S,      82,          1,          2,          2,2,20080303,       0501,   -65.7288,    32.8367,       1802,  1960.7,   0.0697,  34.6655,2,  34.6665,2,    225.2,2,   224.8,2,  119.52,2,   32.37,2,    0.00,2,    2.25,2,   0.824,2,   0.440,2,   0.057,4,    -999,9,  2355.8,2,   7.7848,2,    13.00,    -999,9,   1.700,2,    6.38,2,0.0694,2,-999,9,-999,9,-999,   7.522,2,   0.029,1.424,4,-999,9,-999,9,    -999,9,-999,9, 20080303,     0502, -65.7288,  32.8366,    -999,-999,9,     -999,9,     -999,9,     -999,9,     -999,9,     -999,9,     -999,9,-999,9,     -999,9,     -999,9,     -999,9,    0.15,   0.007