BOTTLE,20220706CCHSIOAMB
EXPOCODE,SECT_ID,STNNBR,CASTNO,SAMPNO,BTLNBR,BTLNBR_FLAG_W,DATE,TIME,LATITUDE,LONGITUDE,DEPTH,CTDPRS,CTDTMP,CTDSAL,CTDSAL_FLAG_W,SALNTY,SALNTY_FLAG_W,CTDOXY,CTDOXY_FLAG_W,OXYGEN,OXYGEN_FLAG_W,SILCAT,SILCAT_FLAG_W,NITRAT,NITRAT_FLAG_W,NITRIT,NITRIT_FLAG_W,PHSPHT,PHSPHT_FLAG_W,CFC-11,CFC-11_FLAG_W,CFC-12,CFC-12_FLAG_W,CFC113,CFC113_FLAG_W,TCARBN,TCARBN_FLAG_W,ALKALI,ALKALI_FLAG_W,PH_SWS,PH_SWS_FLAG_W,PH_TMP,TRITUM,TRITUM_FLAG_W,HELIUM,HELIUM_FLAG_W,DELHE3,DELHE3_FLAG_W,REFTMP,REFTMP_FLAG_W,DELC13,DELC13_FLAG_W,DELC14,DELC14_FLAG_W,C14ERR,NEON,NEON_FLAG_W,NEONER,CCL4,CCL4_FLAG_W,ALUMIN,ALUMIN_FLAG_W,DELO18,DELO18_FLAG_W,DOC,DOC_FLAG_W,TDN,TDN_FLAG_W,BTL_DATE,BTL_TIME,BTL_LAT,BTL_LON,TRITER,DELSI30,DELSI30_FLAG_W,CDOM380,CDOM380_FLAG_W,CDOM325,CDOM325_FLAG_W,CDOMSL,CDOMSL_FLAG_W,CDOM340,CDOM340_FLAG_W,CDOM443,CDOM443_FLAG_W,CDOMSN,CDOMSN_FLAG_W,BLACKC,BLACKC_FLAG_W,CDOM490,CDOM490_FLAG_W,CDOM412,CDOM412_FLAG_W,CDOM555,CDOM555_FLAG_W,DELHER,HELIER
,,,,,,,,,,,METERS,DBAR,ITS-90,PSS-78,,PSS-78,,UMOL/KG,,UMOL/KG,,UMOL/KG,,UMOL/KG,,UMOL/KG,,UMOL/KG,,PMOL/KG,,PMOL/KG,,PMOL/KG,,UMOL/KG,,UMOL/KG,,,,DEG C,TU,,NMOL/KG,,PERCNT,,DEG C,,/MILLE,,/MILLE,,/MILLE,NMOL/KG,,NMOL/KG,PMOL/KG,,NMOL/L,,/MILLE,,UMOL/KG,,UMOL/KG,,,,,,TU,/MILLE,,1/M,,1/M,,1/NM,,1/M,,1/M,,1/NM,,,,1/M,,1/M,,1/M,,PERCNT,NMOL/KG
33RR20080204,       I06S,      57,          1,         36,         36,2,20080223,       1309,   -55.5062,    29.9943,       5455,     7.5,   2.6749,  33.8104,2,  33.8110,2,    325.6,2,   327.1,2,   11.91,2,   23.46,2,    0.27,2,    1.53,2,   5.659,2,   3.137,2,   0.478,2,  2141.2,6,  2285.0,2,   7.9438,4,    13.00,    -999,9,    -999,9,    -999,9,-999,9,1.6,2,-87.7,2,2.7,    -999,9,    -999,7.412,2,-999,9,-999,9,   43.51,2,-999,1, 20080223,     1523, -55.5133,  29.9959,    -999,-999,9,     -999,9,     -999,9,     -999,9,     -999,9,     -999,9,     -999,9,-999,9,     -999,9,     -999,9,     -999,9,    -999,    -999
33RR20080204,       I06S,      57,          1,         35,         35,2,20080223,       1309,   -55.5062,    29.9943,       5455,    26.1,   2.6761,  33.8104,2,  33.8112,2,    327.2,2,   326.9,2,   11.91,2,   23.45,2,    0.27,2,    1.52,2,   5.584,2,   3.096,2,   0.482,2,  2141.6,2,  2284.7,2,   7.9295,3,    13.00,    -999,9,    -999,9,    -999,9,-999,9,-999,9,-999,9,-999,    -999,9,    -999,7.416,2,-999,9,-999,9,   42.83,2,-999,1, 20080223,     1521, -55.5129,  29.9959,    -999,-999,1,     -999,9,     -999,9,     -999,9,     -999,9,     -999,9,     -999,9,-999,1,     -999,9,     -999,9,     -999,9,    -999,    -999
33RR20080204,       I06S,      57,          1,         34,         34,2,20080223,       1309,   -55.5062,    29.9943,       5455,    53.3,   2.6777,  33.8105,2,  33.8118,2,    327.8,2,   326.7,2,   11.72,2,   23.45,2,    0.27,2,    1.53,2,   5.579,2,   3.093,2,   0.463,2,  2143.6,2,  2284.2,2,   7.9299,2,    13.00,    -999,9,    -999,9,    -999,9,-999,9,-999,9,-999,9,-999,    -999,9,    -999,7.191,2,-999,9,-999,9,   43.41,2,-999,1, 20080223,     1520, -55.5127,  29.9957,    -999,-999,1,     -999,9,     -999,9,     -999,9,     -999,9,     -999,9,     -999,9,-999,9,     -999,9,     -999,9,     -999,9,    -999,    -999
33RR20080204,       I06S,      57,          1,         33,         33,2,20080223,       1309,   -55.5062,    29.9943,       5455,    87.8,   2.1739,  33.8859,2,  33.8835,2,    331.4,2,   328.5,2,   24.64,2,   24.65,2,    0.27,2,    1.64,2,   5.762,2,   3.204,2,   0.486,2,  2153.9,2,  2291.6,2,   7.9145,2,    13.00,    -999,9,    -999,9,    -999,9,-999,9,-999,9,-999,9,-999,    -999,9,    -999,7.302,2,-999,9,-999,9,   42.24,2,-999,1, 20080223,     1518, -55.5124,  29.9955,    -999,-999,1,     -999,9,     -999,9,     -999,9,     -999,9,     -999,9,     -999,9,-999,1,     -999,9,     -999,9,     -999,9,    -999,    -999
33RR20080204,       I06S,      57,          1,         32,         32,2,20080223,       1309,   -55.5062,    29.9943,       5455,   113.6,   1.8517,  33.9238,2,  33.9273,2,    332.3,2,   328.8,2,   31.31,2,   25.53,2,    0.26,2,    1.76,2,   5.848,2,   3.217,2,   0.486,2,  2163.2,2,  2295.6,2,   7.9020,2,    13.00,    -999,9,    -999,9,    -999,9,-999,9,1.37,2,-101.0,2,2.5,    -999,9,    -999,7.101,2,-999,9,-999,9,   40.29,2,-999,1, 20080223,     1517, -55.5122,  29.9954,    -999,-999,1,     -999,9,     -999,9,     -999,9,     -999,9,     -999,9,     -999,9,-999,9,     -999,9,     -999,9,     -999,9,    -999,    -999
33RR20080204,       I06S,      57,          1,         31,         31,2,20080223,       1309,   -55.5062,    29.9943,       5455,   172.9,   0.5394,  34.0669,2,  34.0625,2,    309.5,2,   306.2,2,   51.07,2,   29.52,2,    0.17,2,    2.09,2,   5.415,2,   2.974,2,   0.453,2,  2192.0,2,  2300.4,2,   7.8254,2,    13.00,    -999,9,    -999,9,    -999,9,-999,9,1.02,2,-105.1,2,2.8,    -999,9,    -999,6.311,2,-999,9,-999,9,   43.12,2,-999,1, 20080223,     1513, -55.5119,  29.9953,    -999,-999,1,     -999,9,     -999,9,     -999,9,     -999,9,     -999,9,     -999,9,-999,9,     -999,9,     -999,9,     -999,9,    -999,    -999
33RR20080204,       I06S,      57,          1,         30,         30,2,20080223,       1309,   -55.5062,    29.9943,       5455,   216.0,   0.7772,  34.1998,2,  34.1930,2,    260.2,2,   271.8,2,   58.00,2,   31.85,2,    0.08,2,    2.22,2,   4.392,2,   2.409,2,   0.382,2,  2207.5,2,  2308.8,2,   7.7907,2,    13.00,    -999,9,    -999,9,    -999,9,-999,9,-999,9,-999,9,-999,    -999,9,    -999,5.31,2,-999,9,-999,9,   40.68,2,-999,1, 20080223,     1512, -55.5118,  29.9953,    -999,-999,1,     -999,9,     -999,9,     -999,9,     -999,9,     -999,9,     -999,9,-999,1,     -999,9,     -999,9,     -999,9,    -999,    -999
33RR20080204,       I06S,      57,          1,         29,         29,2,20080223,       1309,   -55.5062,    29.9943,       5455,   275.6,   1.6040,  34.3753,2,  34.3753,2,    225.6,2,   208.8,2,   66.25,2,   34.36,2,    0.01,2,    2.38,2,   2.504,2,   1.305,2,   0.211,2,  2234.0,2,  2319.3,2,   7.7364,4,    13.00,    -999,9,    -999,9,    -999,9,-999,9,0.6,2,-124.7,2,2.7,    -999,9,    -999,3.433,2,-999,9,-999,9,    -999,9,-999,9, 20080223,     1510, -55.5117,  29.9952,    -999,-999,1,     -999,9,     -999,9,     -999,9,     -999,9,     -999,9,     -999,9,-999,9,     -999,9,     -999,9,     -999,9,    -999,    -999
33RR20080204,       I06S,      57,          1,         28,         28,2,20080223,       1309,   -55.5062,    29.9943,       5455,   327.3,   1.8187,  34.4535,2,  34.4553,2,    193.3,2,   191.3,2,   71.33,2,   34.80,2,    0.01,2,    2.42,2,   1.780,2,   0.924,2,   0.146,2,  2243.6,2,  2324.2,2,   7.7308,2,    13.00,    -999,9,    -999,9,    -999,9,-999,9,0.57,2,-129.5,2,2.7,    -999,9,    -999,2.696,2,-999,9,-999,9,   39.71,2,-999,1, 20080223,     1508, -55.5115,  29.9952,    -999,-999,1,     -999,9,     -999,9,     -999,9,     -999,9,     -999,9,     -999,9,-999,9,     -999,9,     -999,9,     -999,9,    -999,    -999
33RR20080204,       I06S,      57,          1,         27,         27,2,20080223,       1309,   -55.5062,    29.9943,       5455,   374.7,   1.6908,  34.4844,2,  34.4922,2,    198.3,2,   194.2,2,   75.10,2,   34.31,2,    0.01,2,    2.39,2,   1.705,2,   0.897,2,   0.140,2,  2245.6,2,  2329.0,2,   7.7381,2,    13.00,    -999,9,    -999,9,    -999,9,-999,9,0.56,2,-134.0,2,3.1,    -999,9,    -999,2.514,2,-999,9,-999,9,    -999,9,-999,9, 20080223,     1507, -55.5113,  29.9950,    -999,-999,9,     -999,9,     -999,9,     -999,9,     -999,9,     -999,9,     -999,9,-999,9,     -999,9,     -999,9,     -999,9,    -999,    -999
33RR20080204,       I06S,      57,          1,         26,         26,2,20080223,       1309,   -55.5062,    29.9943,       5455,   426.8,   1.6942,  34.5389,2,  34.5396,2,    189.2,2,   189.1,2,   79.07,2,   34.21,2,    0.00,2,    2.38,2,   1.438,2,   0.750,2,   0.115,2,  2251.2,2,  2331.8,2,   7.7376,2,    13.00,    -999,9,    -999,9,    -999,9,-999,9,0.5,2,-146.1,2,3.2,    -999,9,    -999,2.061,2,-999,9,-999,9,   39.61,2,-999,1, 20080223,     1506, -55.5113,  29.9950,    -999,-999,9,     -999,9,     -999,9,     -999,9,     -999,9,     -999,9,     -999,9,-999,9,     -999,9,     -999,9,     -999,9,    -999,    -999
33RR20080204,       I06S,      57,          1,         25,         25,2,20080223,       1309,   -55.5062,    29.9943,       5455,   475.8,   1.7880,  34.5809,2,  34.5781,2,    184.3,2,   183.9,2,   81.33,2,   33.96,2,    0.00,2,    2.36,2,   1.101,2,   0.590,2,   0.103,2,  2253.1,2,  2337.3,2,   7.7408,2,    13.00,    -999,9,    -999,9,    -999,9,-999,9,0.45,2,-141.1,2,3.6,    -999,9,    -999,1.844,2,-999,9,-999,9,    -999,9,-999,9, 20080223,     1505, -55.5111,  29.9950,    -999,-999,9,     -999,9,     -999,9,     -999,9,     -999,9,     -999,9,     -999,9,-999,9,     -999,9,     -999,9,     -999,9,    -999,    -999
33RR20080204,       I06S,      57,          1,         24,         24,2,20080223,       1309,   -55.5062,    29.9943,       5455,   525.2,   1.9116,  34.6253,2,  34.6256,2,    179.2,2,   178.5,2,   82.66,2,   33.47,2,    0.00,2,    2.33,2,   0.778,2,   0.420,2,   0.062,2,  2254.0,2,  2339.5,2,   7.7457,2,    13.00,    -999,9,    -999,9,    -999,9,-999,9,-999,9,-999,9,-999,    -999,9,    -999,1.404,2,-999,9,-999,9,   40.68,2,-999,1, 20080223,     1503, -55.5110,  29.9949,    -999,-999,9,     -999,9,     -999,9,     -999,9,     -999,9,     -999,9,     -999,9,-999,1,     -999,9,     -999,9,     -999,9,    -999,    -999
33RR20080204,       I06S,      57,          1,         23,         23,2,20080223,       1309,   -55.5062,    29.9943,       5455,   648.7,   2.1165,  34.6917,2,  34.6918,2,    183.1,2,   181.5,2,   80.19,2,   31.95,2,    0.00,2,    2.23,2,   0.437,2,   0.244,2,   0.025,2,  2249.1,2,  2344.2,2,   7.7713,2,    13.00,    -999,9,    -999,9,    -999,9,-999,9,0.5,2,-130.0,2,3.4,    -999,9,    -999,0.953,2,-999,9,-999,9,   40.10,2,-999,1, 20080223,     1459, -55.5106,  29.9948,    -999,-999,1,     -999,9,     -999,9,     -999,9,     -999,9,     -999,9,     -999,9,-999,9,     -999,9,     -999,9,     -999,9,    -999,    -999
33RR20080204,       I06S,      57,          1,         22,         22,2,20080223,       1309,   -55.5062,    29.9943,       5455,   746.9,   1.9213,  34.6979,2,  34.7013,2,    185.8,2,   186.2,2,   83.60,2,   31.71,2,    0.00,2,    2.21,2,   0.402,2,   0.221,2,   0.034,2,  2250.1,2,  2344.1,2,   7.7772,2,    13.00,    -999,9,    -999,9,    -999,9,-999,9,0.62,2,-136.1,2,3.2,    -999,9,    -999,0.912,2,-999,9,-999,9,   39.12,2,-999,1, 20080223,     1456, -55.5103,  29.9947,    -999,-999,9,     -999,9,     -999,9,     -999,9,     -999,9,     -999,9,     -999,9,-999,9,     -999,9,     -999,9,     -999,9,    -999,    -999
33RR20080204,       I06S,      57,          1,         21,         21,2,20080223,       1309,   -55.5062,    29.9943,       5455,   855.7,   1.8568,  34.7156,2,  34.7168,2,    189.1,2,   189.8,2,   84.74,2,   31.27,2,    0.00,2,    2.18,2,   0.360,2,   0.203,2,   0.034,2,  2249.6,2,  2347.0,2,   7.7861,2,    13.00,    -999,9,    -999,9,    -999,9,-999,9,0.55,2,-152.9,2,3.2,    -999,9,    -999,0.801,2,-999,9,-999,9,   39.02,2,-999,1, 20080223,     1453, -55.5102,  29.9947,    -999,-999,1,     -999,9,     -999,9,     -999,9,     -999,9,     -999,9,     -999,9,-999,9,     -999,9,     -999,9,     -999,9,    -999,    -999
33RR20080204,       I06S,      57,          1,         20,         20,2,20080223,       1309,   -55.5062,    29.9943,       5455,  1056.0,   1.6761,  34.7310,2,  34.7319,2,    195.1,2,   196.0,2,   88.54,2,   30.68,2,    0.00,2,    2.14,2,   0.317,2,   0.177,2,   0.034,2,  2239.9,2,  2349.2,2,   7.7982,2,    13.00,    -999,9,    -999,9,    -999,9,-999,9,0.6,2,-149.5,2,3.2,    -999,9,    -999,0.762,2,-999,9,-999,9,   40.20,2,-999,1, 20080223,     1448, -55.5097,  29.9945,    -999,-999,1,     -999,9,     -999,9,     -999,9,     -999,9,     -999,9,     -999,9,-999,9,     -999,9,     -999,9,     -999,9,    -999,    -999
33RR20080204,       I06S,      57,          1,         19,         19,2,20080223,       1309,   -55.5062,    29.9943,       5455,  1259.7,   1.5681,  34.7441,2,  34.7445,2,    201.3,2,   201.5,2,   90.62,2,   30.19,2,    0.00,2,    2.09,2,   0.227,2,   0.130,2,   0.039,2,  2238.1,6,  2352.1,2,   7.8080,2,    13.00,    -999,9,    -999,9,    -999,9,-999,9,-999,9,-999,9,-999,    -999,9,    -999,0.786,2,-999,9,-999,9,   39.51,2,-999,1, 20080223,     1443, -55.5091,  29.9944,    -999,-999,9,     -999,9,     -999,9,     -999,9,     -999,9,     -999,9,     -999,9,-999,1,     -999,9,     -999,9,     -999,9,    -999,    -999
33RR20080204,       I06S,      57,          1,         18,         18,2,20080223,       1309,   -55.5062,    29.9943,       5455,  1458.9,   1.3217,  34.7323,2,  34.7325,2,    202.4,2,   202.9,2,   97.47,2,   30.73,2,    0.00,2,    2.13,2,   0.238,2,   0.140,2,   0.011,2,  2242.9,2,  2354.0,2,   7.8041,2,    13.00,    -999,9,    -999,9,    -999,9,-999,9,0.49,2,-161.3,2,2.6,    -999,9,    -999,0.566,2,-999,9,-999,9,   42.15,2,-999,1, 20080223,     1439, -55.5089,  29.9943,    -999,-999,1,     -999,9,     -999,9,     -999,9,     -999,9,     -999,9,     -999,9,-999,9,     -999,9,     -999,9,     -999,9,    -999,    -999
33RR20080204,       I06S,      57,          1,         17,         17,2,20080223,       1309,   -55.5062,    29.9943,       5455,  1664.4,   1.1543,  34.7289,2,  34.7296,2,    204.9,2,   206.0,2,  102.04,2,   30.78,2,    0.00,2,    2.14,2,   0.207,2,   0.123,2,   0.013,2,  2243.6,2,  2356.8,2,   7.8075,2,    13.00,    -999,9,    -999,9,    -999,9,-999,9,0.5,2,-158.3,2,2.3,    -999,9,    -999,0.587,2,-999,9,-999,9,    -999,9,-999,9, 20080223,     1434, -55.5090,  29.9943,    -999,-999,9,     -999,9,     -999,9,     -999,9,     -999,9,     -999,9,     -999,9,-999,9,     -999,9,     -999,9,     -999,9,    -999,    -999
33RR20080204,       I06S,      57,          1,         16,         16,2,20080223,       1309,   -55.5062,    29.9943,       5455,  1764.2,   1.0163,  34.7185,2,  34.7186,2,    205.1,2,   205.8,2,  106.24,2,   31.26,2,    0.00,2,    2.17,2,   0.256,2,   0.144,2,   0.011,2,  2244.8,2,  2357.8,2,   7.8010,2,    13.00,    -999,9,    -999,9,    -999,9,-999,9,0.49,2,-161.9,2,2.6,    -999,9,    -999,0.663,2,-999,9,-999,9,    -999,9,-999,9, 20080223,     1431, -55.5090,  29.9944,    -999,-999,1,     -999,9,     -999,9,     -999,9,     -999,9,     -999,9,     -999,9,-999,9,     -999,9,     -999,9,     -999,9,    -999,    -999
33RR20080204,       I06S,      57,          1,         15,         15,2,20080223,       1309,   -55.5062,    29.9943,       5455,  1866.9,   0.9754,  34.7160,2,  34.7158,2,    205.6,2,   206.0,2,  107.97,2,   31.45,2,    0.00,2,    2.18,2,   0.260,2,   0.145,2,   0.012,2,  2245.3,2,  2356.8,2,   7.7994,2,    13.00,    -999,9,    -999,9,    -999,9,-999,9,0.14,3,-156.5,2,2.8,    -999,9,    -999,0.653,2,-999,9,-999,9,   38.73,2,-999,1, 20080223,     1428, -55.5091,  29.9944,    -999,-999,9,     -999,9,     -999,9,     -999,9,     -999,9,     -999,9,     -999,9,-999,9,     -999,9,     -999,9,     -999,9,    -999,    -999
33RR20080204,       I06S,      57,          1,         14,         14,2,20080223,       1309,   -55.5062,    29.9943,       5455,  2075.5,   0.8025,  34.7068,2,  34.7068,2,    206.8,2,   207.2,2,  113.12,2,   31.79,2,    0.00,2,    2.21,2,   0.264,2,   0.146,2,   0.014,2,  2247.1,2,  2357.5,2,   7.7946,2,    13.00,    -999,9,    -999,9,    -999,9,-999,9,0.53,2,-161.0,2,1.6,    -999,9,    -999,0.75,2,-999,9,-999,9,    -999,9,-999,9, 20080223,     1424, -55.5090,  29.9945,    -999,-999,1,     -999,9,     -999,9,     -999,9,     -999,9,     -999,9,     -999,9,-999,9,     -999,9,     -999,9,     -999,9,    -999,    -999
33RR20080204,       I06S,      57,          1,         13,         13,2,20080223,       1309,   -55.5062,    29.9943,       5455,  2388.3,   0.6042,  34.6940,2,  34.6958,2,    207.7,2,   209.0,2,  119.64,2,   32.37,2,    0.00,2,    2.25,2,   0.296,2,   0.161,2,   0.018,2,  2252.2,2,  2358.9,2,   7.7858,2,    13.00,    -999,9,    -999,9,    -999,9,-999,9,0.4,2,-163.0,2,1.7,    -999,9,    -999,0.829,2,-999,9,-999,9,   41.27,2,-999,1, 20080223,     1417, -55.5086,  29.9942,    -999,-999,9,     -999,9,     -999,9,     -999,9,     -999,9,     -999,9,     -999,9,-999,9,     -999,9,     -999,9,     -999,9,    -999,    -999
33RR20080204,       I06S,      57,          1,         12,         12,2,20080223,       1309,   -55.5062,    29.9943,       5455,  2694.2,   0.4410,  34.6868,2,  34.6893,2,    210.1,2,   211.5,2,  123.87,2,   32.57,2,    0.00,2,    2.26,2,   0.290,2,   0.154,2,   0.014,2,  2251.1,2,  2359.0,2,   7.7845,2,    13.00,    -999,9,    -999,9,    -999,9,-999,9,-999,9,-999,9,-999,    -999,9,    -999,0.808,2,-999,9,-999,9,   40.59,2,-999,1, 20080223,     1411, -55.5083,  29.9940,    -999,-999,1,     -999,9,     -999,9,     -999,9,     -999,9,     -999,9,     -999,9,-999,1,     -999,9,     -999,9,     -999,9,    -999,    -999
33RR20080204,       I06S,      57,          1,         11,         11,2,20080223,       1309,   -55.5062,    29.9943,       5455,  3006.6,   0.3160,  34.6798,2,  34.6798,2,    214.0,2,   215.0,2,  126.18,2,   32.71,2,    0.00,2,    2.27,2,   0.303,2,   0.165,2,   0.013,2,  2253.3,2,  2356.3,2,   7.7847,2,    13.00,    -999,9,    -999,9,    -999,9,-999,9,0.44,2,-162.8,2,1.9,    -999,9,    -999,0.86,2,-999,9,-999,9,   40.88,2,-999,1, 20080223,     1405, -55.5080,  29.9940,    -999,-999,9,     -999,9,     -999,9,     -999,9,     -999,9,     -999,9,     -999,9,-999,9,     -999,9,     -999,9,     -999,9,    -999,    -999
33RR20080204,       I06S,      57,          1,         10,         10,2,20080223,       1309,   -55.5062,    29.9943,       5455,  3311.2,   0.1860,  34.6737,2,  34.6735,2,    219.0,2,   220.3,2,  127.14,2,   32.65,2,    0.00,2,    2.27,2,   0.319,2,   0.173,2,   0.013,2,  2249.7,2,  2357.5,2,   7.7857,2,    13.00,    -999,9,    -999,9,    -999,9,-999,9,0.5,2,-162.9,2,1.6,    -999,9,    -999,0.963,2,-999,9,-999,9,    -999,9,-999,9, 20080223,     1359, -55.5078,  29.9940,    -999,-999,1,     -999,9,     -999,9,     -999,9,     -999,9,     -999,9,     -999,9,-999,9,     -999,9,     -999,9,     -999,9,    -999,    -999
33RR20080204,       I06S,      57,          1,          9,          9,2,20080223,       1309,   -55.5062,    29.9943,       5455,  3613.3,   0.0630,  34.6683,2,  34.6692,2,    224.3,2,   225.4,2,  128.49,2,   32.60,2,    0.00,2,    2.28,2,   0.352,2,   0.188,2,   0.016,2,  2250.8,2,  2356.2,2,   7.7890,2,    13.00,    -999,9,    -999,9,    -999,9,-999,9,0.48,2,-165.5,2,3.1,    -999,9,    -999,1.09,2,-999,9,-999,9,   40.88,2,-999,1, 20080223,     1352, -55.5077,  29.9939,    -999,-999,9,     -999,9,     -999,9,     -999,9,     -999,9,     -999,9,     -999,9,-999,9,     -999,9,     -999,9,     -999,9,    -999,    -999
33RR20080204,       I06S,      57,          1,          8,          8,2,20080223,       1309,   -55.5062,    29.9943,       5455,  3924.7,  -0.0207,  34.6645,2,  34.6643,2,    229.8,2,   230.2,2,  129.07,2,   32.51,2,    0.00,2,    2.27,2,   0.386,2,   0.202,2,   0.011,2,  2250.0,2,  2355.7,2,   7.7920,2,    13.00,    -999,9,    -999,9,    -999,9,-999,9,0.52,2,-158.6,2,2.7,    -999,9,    -999,1.065,2,-999,9,-999,9,    -999,9,-999,9, 20080223,     1346, -55.5075,  29.9939,    -999,-999,1,     -999,9,     -999,9,     -999,9,     -999,9,     -999,9,     -999,9,-999,9,     -999,9,     -999,9,     -999,9,    -999,    -999