BOTTLE,20220706CCHSIOAMB
EXPOCODE,SECT_ID,STNNBR,CASTNO,SAMPNO,BTLNBR,BTLNBR_FLAG_W,DATE,TIME,LATITUDE,LONGITUDE,DEPTH,CTDPRS,CTDTMP,CTDSAL,CTDSAL_FLAG_W,SALNTY,SALNTY_FLAG_W,CTDOXY,CTDOXY_FLAG_W,OXYGEN,OXYGEN_FLAG_W,SILCAT,SILCAT_FLAG_W,NITRAT,NITRAT_FLAG_W,NITRIT,NITRIT_FLAG_W,PHSPHT,PHSPHT_FLAG_W,CFC-11,CFC-11_FLAG_W,CFC-12,CFC-12_FLAG_W,CFC113,CFC113_FLAG_W,TCARBN,TCARBN_FLAG_W,ALKALI,ALKALI_FLAG_W,PH_SWS,PH_SWS_FLAG_W,PH_TMP,TRITUM,TRITUM_FLAG_W,HELIUM,HELIUM_FLAG_W,DELHE3,DELHE3_FLAG_W,REFTMP,REFTMP_FLAG_W,DELC13,DELC13_FLAG_W,DELC14,DELC14_FLAG_W,C14ERR,NEON,NEON_FLAG_W,NEONER,CCL4,CCL4_FLAG_W,ALUMIN,ALUMIN_FLAG_W,DELO18,DELO18_FLAG_W,DOC,DOC_FLAG_W,TDN,TDN_FLAG_W,BTL_DATE,BTL_TIME,BTL_LAT,BTL_LON,TRITER,DELSI30,DELSI30_FLAG_W,CDOM380,CDOM380_FLAG_W,CDOM325,CDOM325_FLAG_W,CDOMSL,CDOMSL_FLAG_W,CDOM340,CDOM340_FLAG_W,CDOM443,CDOM443_FLAG_W,CDOMSN,CDOMSN_FLAG_W,BLACKC,BLACKC_FLAG_W,CDOM490,CDOM490_FLAG_W,CDOM412,CDOM412_FLAG_W,CDOM555,CDOM555_FLAG_W,DELHER,HELIER
,,,,,,,,,,,METERS,DBAR,ITS-90,PSS-78,,PSS-78,,UMOL/KG,,UMOL/KG,,UMOL/KG,,UMOL/KG,,UMOL/KG,,UMOL/KG,,PMOL/KG,,PMOL/KG,,PMOL/KG,,UMOL/KG,,UMOL/KG,,,,DEG C,TU,,NMOL/KG,,PERCNT,,DEG C,,/MILLE,,/MILLE,,/MILLE,NMOL/KG,,NMOL/KG,PMOL/KG,,NMOL/L,,/MILLE,,UMOL/KG,,UMOL/KG,,,,,,TU,/MILLE,,1/M,,1/M,,1/NM,,1/M,,1/M,,1/NM,,,,1/M,,1/M,,1/M,,PERCNT,NMOL/KG
33RR20080204,       I06S,      24,          1,         36,         36,2,20080212,       2108,   -38.9984,    29.9995,       4238,     3.8,  20.6699,  35.5655,2,  35.5636,2,    221.5,2,   222.3,2,    2.18,2,    0.10,2,    0.01,2,    0.11,2,   2.195,2,   1.328,2,   0.170,2,  2026.3,6,  2332.2,2,     -999,9,     -999,    -999,9,   1.728,2,   -1.35,2,20.6692,2,-999,9,-999,9,-999,   6.923,2,   0.026,3.599,2,-999,9,-999,9,    -999,9,-999,9, 20080212,     2304, -38.9984,  29.9994,    -999,-999,9,     -999,9,     -999,9,     -999,9,     -999,9,     -999,9,     -999,9,-999,9,     -999,9,     -999,9,     -999,9,    0.15,   0.007
33RR20080204,       I06S,      24,          1,         34,         34,2,20080212,       2108,   -38.9984,    29.9995,       4238,    27.5,  20.6867,  35.5650,2,  35.5623,2,    223.4,2,   222.3,2,    2.17,2,    0.10,2,    0.01,2,    0.11,2,   2.199,2,   1.324,2,   0.161,2,    -999,9,  2330.7,2,     -999,9,     -999,    -999,9,    -999,9,    -999,9,20.6857,2,-999,9,-999,9,-999,    -999,9,    -999,3.282,2,-999,9,-999,9,    -999,9,-999,9, 20080212,     2302, -38.9984,  29.9993,    -999,-999,9,     -999,9,     -999,9,     -999,9,     -999,9,     -999,9,     -999,9,-999,9,     -999,9,     -999,9,     -999,9,    -999,    -999
33RR20080204,       I06S,      24,          1,         33,         33,2,20080212,       2108,   -38.9984,    29.9995,       4238,    52.2,  20.6851,  35.5652,2,  35.5631,2,    223.5,2,   221.6,2,    2.17,2,    0.10,2,    0.01,2,    0.11,2,   2.189,2,   1.319,2,   0.165,2,    -999,9,  2330.2,2,     -999,9,     -999,    -999,9,    -999,9,    -999,9,20.6845,2,-999,9,-999,9,-999,    -999,9,    -999,3.097,2,-999,9,-999,9,    -999,9,-999,9, 20080212,     2300, -38.9984,  29.9995,    -999,-999,9,     -999,9,     -999,9,     -999,9,     -999,9,     -999,9,     -999,9,-999,9,     -999,9,     -999,9,     -999,9,    -999,    -999
33RR20080204,       I06S,      24,          1,         32,         32,2,20080212,       2108,   -38.9984,    29.9995,       4238,    91.5,  18.7048,  35.5264,2,  35.5249,2,    212.8,2,   211.3,2,    2.95,2,    2.18,2,    0.05,2,    0.26,2,   2.382,2,   1.428,2,   0.177,2,    -999,9,  2327.7,2,     -999,9,     -999,   0.625,2,   1.736,2,   -1.22,2,18.6906,2,-999,9,-999,9,-999,   7.041,2,   0.027,2.025,2,-999,9,-999,9,    -999,9,-999,9, 20080212,     2257, -38.9984,  29.9995,   0.009,-999,9,     -999,9,     -999,9,     -999,9,     -999,9,     -999,9,     -999,9,-999,9,     -999,9,     -999,9,     -999,9,    0.15,   0.007
33RR20080204,       I06S,      24,          1,         30,         30,2,20080212,       2108,   -38.9984,    29.9995,       4238,   116.2,  18.3054,  35.5199,2,  35.5179,2,    213.4,2,   214.5,2,    2.94,2,    2.26,2,    0.07,2,    0.28,2,   2.473,2,   1.466,2,   0.169,2,    -999,9,  2326.9,2,     -999,9,     -999,   0.645,2,   1.792,2,   -1.14,2,18.3014,2,-999,9,-999,9,-999,   7.219,2,   0.027,2.211,2,-999,9,-999,9,    -999,9,-999,9, 20080212,     2255, -38.9984,  29.9995,   0.009,-999,9,     -999,9,     -999,9,     -999,9,     -999,9,     -999,9,     -999,9,-999,9,     -999,9,     -999,9,     -999,9,    0.15,   0.007
33RR20080204,       I06S,      24,          1,         29,         29,2,20080212,       2108,   -38.9984,    29.9995,       4238,   166.0,  17.6107,  35.5367,2,  35.5353,2,    206.6,2,   208.8,2,    3.73,2,    3.94,2,    0.02,2,    0.37,2,   2.499,2,   1.480,2,   0.119,2,    -999,9,  2327.6,2,     -999,9,     -999,    -999,9,    -999,9,    -999,9,17.6082,2,-999,9,-999,9,-999,    -999,9,    -999,1.973,2,-999,9,-999,9,    -999,9,-999,9, 20080212,     2252, -38.9984,  29.9994,    -999,-999,9,     -999,9,     -999,9,     -999,9,     -999,9,     -999,9,     -999,9,-999,9,     -999,9,     -999,9,     -999,9,    -999,    -999
33RR20080204,       I06S,      24,          1,         28,         28,2,20080212,       2108,   -38.9984,    29.9995,       4238,   227.8,  16.8587,  35.5255,2,  35.5237,2,    207.4,2,   202.1,2,    4.51,2,    5.47,2,    0.01,2,    0.47,2,   2.575,2,   1.512,2,   0.075,2,    -999,9,  2328.9,2,     -999,9,     -999,   0.598,2,   1.740,2,   -0.77,2,16.8629,2,-999,9,-999,9,-999,   7.121,2,   0.027,1.825,2,-999,9,-999,9,    -999,9,-999,9, 20080212,     2249, -38.9984,  29.9995,   0.009,-999,9,     -999,9,     -999,9,     -999,9,     -999,9,     -999,9,     -999,9,-999,9,     -999,9,     -999,9,     -999,9,    0.15,   0.007
33RR20080204,       I06S,      24,          1,         26,         26,2,20080212,       2108,   -38.9984,    29.9995,       4238,   325.8,  15.5761,  35.4691,2,  35.4675,2,    206.5,2,   205.0,2,    4.70,2,    6.82,2,    0.01,2,    0.56,2,   2.750,2,   1.594,2,   0.069,2,    -999,9,  2326.2,2,     -999,9,     -999,   0.535,2,   1.747,2,   -0.64,2,15.5693,2,-999,9,-999,9,-999,   7.245,2,   0.028,1.85,2,-999,9,-999,9,    -999,9,-999,9, 20080212,     2246, -38.9984,  29.9995,   0.009,-999,9,     -999,9,     -999,9,     -999,9,     -999,9,     -999,9,     -999,9,-999,9,     -999,9,     -999,9,     -999,9,    0.15,   0.007
33RR20080204,       I06S,      24,          1,         25,         25,2,20080212,       2108,   -38.9984,    29.9995,       4238,   426.7,  14.2036,  35.3719,2,  35.3715,2,    205.9,2,   213.0,2,    4.50,2,    8.16,2,    0.00,2,    0.64,2,   2.969,2,   1.665,2,   0.063,2,    -999,9,  2322.6,2,     -999,9,     -999,    -999,9,    -999,9,    -999,9,14.2074,2,-999,9,-999,9,-999,    -999,9,    -999,2.024,2,-999,9,-999,9,    -999,9,-999,9, 20080212,     2243, -38.9984,  29.9995,    -999,-999,9,     -999,9,     -999,9,     -999,9,     -999,9,     -999,9,     -999,9,-999,9,     -999,9,     -999,9,     -999,9,    -999,    -999
33RR20080204,       I06S,      24,          1,         24,         24,2,20080212,       2108,   -38.9984,    29.9995,       4238,   526.6,  12.8221,  35.1944,2,  35.1940,2,    212.1,2,   212.9,2,    5.28,2,   10.88,2,    0.00,2,    0.82,2,   3.095,2,   1.723,2,   0.080,2,    -999,9,  2316.9,2,     -999,9,     -999,   0.453,2,   1.766,2,   -0.02,2,12.8214,2,-999,9,-999,9,-999,   7.389,2,   0.028,2.044,2,-999,9,-999,9,    -999,9,-999,9, 20080212,     2240, -38.9984,  29.9995,   0.009,-999,9,     -999,9,     -999,9,     -999,9,     -999,9,     -999,9,     -999,9,-999,9,     -999,9,     -999,9,     -999,9,    0.15,   0.007
33RR20080204,       I06S,      24,          1,         22,         22,2,20080212,       2108,   -38.9984,    29.9995,       4238,   648.0,  11.4789,  35.0023,2,  35.0021,2,    216.0,2,   215.6,2,    6.06,2,   13.42,2,    0.00,2,    0.99,2,   3.190,2,   1.724,2,   0.100,2,    -999,9,  2306.4,2,     -999,9,     -999,    -999,9,   1.776,2,    0.57,2,11.4838,2,-999,9,-999,9,-999,   7.456,2,   0.028,2.127,2,-999,9,-999,9,    -999,9,-999,9, 20080212,     2236, -38.9984,  29.9995,    -999,-999,9,     -999,9,     -999,9,     -999,9,     -999,9,     -999,9,     -999,9,-999,9,     -999,9,     -999,9,     -999,9,    0.15,   0.007
33RR20080204,       I06S,      24,          1,         21,         21,2,20080212,       2108,   -38.9984,    29.9995,       4238,   746.9,  10.3382,  34.8505,2,  34.8483,2,    217.1,2,   216.3,2,    7.24,2,   15.96,2,    0.00,2,    1.14,2,   3.160,2,   1.658,2,   0.119,2,    -999,9,  2303.9,2,     -999,9,     -999,   0.303,2,   1.777,2,    0.61,2,10.3386,2,-999,9,-999,9,-999,   7.517,2,   0.029,2.476,2,-999,9,-999,9,    -999,9,-999,9, 20080212,     2233, -38.9984,  29.9995,   0.009,-999,9,     -999,9,     -999,9,     -999,9,     -999,9,     -999,9,     -999,9,-999,9,     -999,9,     -999,9,     -999,9,    0.15,   0.007
33RR20080204,       I06S,      24,          1,         20,         20,2,20080212,       2108,   -38.9984,    29.9995,       4238,   846.9,   9.1156,  34.7030,2,  34.7007,2,    205.1,2,   204.2,2,   11.99,2,   20.01,2,    0.00,2,    1.40,2,   2.890,6,   1.492,6,   0.128,6,    -999,9,  2296.2,2,     -999,9,     -999,   0.225,2,   1.798,2,    1.20,2,9.1246,2,-999,9,-999,9,-999,   7.655,2,   0.029,2.712,6,-999,9,-999,9,    -999,9,-999,9, 20080212,     2230, -38.9984,  29.9994,   0.009,-999,9,     -999,9,     -999,9,     -999,9,     -999,9,     -999,9,     -999,9,-999,9,     -999,9,     -999,9,     -999,9,    0.15,   0.007
33RR20080204,       I06S,      24,          1,         18,         18,2,20080212,       2108,   -38.9984,    29.9995,       4238,  1050.4,   6.0865,  34.4440,2,  34.4433,2,    198.7,2,   200.1,2,   24.50,2,   27.50,2,    0.00,2,    1.90,2,   2.524,2,   1.260,2,   0.172,2,    -999,9,  2296.7,2,     -999,9,     -999,   0.109,2,   1.785,2,    2.46,2,6.088,2,-999,9,-999,9,-999,   7.705,2,   0.029,3.371,2,-999,9,-999,9,    -999,9,-999,9, 20080212,     2225, -38.9984,  29.9994,   0.009,-999,9,     -999,9,     -999,9,     -999,9,     -999,9,     -999,9,     -999,9,-999,9,     -999,9,     -999,9,     -999,9,    0.15,   0.007
33RR20080204,       I06S,      24,          1,         17,         17,2,20080212,       2108,   -38.9984,    29.9995,       4238,  1250.3,   4.4894,  34.4232,2,  34.4221,2,    189.5,2,   190.2,2,   40.74,2,   31.19,2,    0.00,2,    2.18,2,   1.678,2,   0.832,2,   0.138,2,    -999,9,  2308.8,2,     -999,9,     -999,   0.056,2,   1.788,2,    4.36,2,4.4906,2,-999,9,-999,9,-999,   7.731,2,   0.029,2.701,2,-999,9,-999,9,    -999,9,-999,9, 20080212,     2220, -38.9984,  29.9994,   0.009,-999,9,     -999,9,     -999,9,     -999,9,     -999,9,     -999,9,     -999,9,-999,9,     -999,9,     -999,9,     -999,9,    0.15,   0.007
33RR20080204,       I06S,      24,          1,         16,         16,2,20080212,       2108,   -38.9984,    29.9995,       4238,  1461.7,   3.6507,  34.5160,2,  34.5147,2,    171.3,2,   170.7,2,   58.91,2,   33.27,2,    0.00,2,    2.33,2,   0.740,2,   0.367,2,   0.038,2,    -999,9,  2325.8,2,     -999,9,     -999,   0.009,2,   1.817,2,    7.07,2,3.6548,2,-999,9,-999,9,-999,   7.833,2,   0.030,1.714,2,-999,9,-999,9,    -999,9,-999,9, 20080212,     2214, -38.9984,  29.9995,   0.009,-999,9,     -999,9,     -999,9,     -999,9,     -999,9,     -999,9,     -999,9,-999,9,     -999,9,     -999,9,     -999,9,    0.15,   0.007
33RR20080204,       I06S,      24,          1,         14,         14,2,20080212,       2108,   -38.9984,    29.9995,       4238,  1662.9,   3.1258,  34.5971,2,  34.5956,2,    170.5,2,   170.1,2,   67.02,2,   33.06,2,    0.00,2,    2.30,2,   0.327,2,   0.177,2,   0.015,2,    -999,9,  2335.0,2,     -999,9,     -999,  -0.019,2,   1.845,2,    7.99,2,3.1261,2,-999,9,-999,9,-999,   7.919,2,   0.030,0.902,2,-999,9,-999,9,    -999,9,-999,9, 20080212,     2209, -38.9984,  29.9995,   0.009,-999,9,     -999,9,     -999,9,     -999,9,     -999,9,     -999,9,     -999,9,-999,9,     -999,9,     -999,9,     -999,9,    0.15,   0.007
33RR20080204,       I06S,      24,          1,         13,         13,2,20080212,       2108,   -38.9984,    29.9995,       4238,  1863.0,   2.8181,  34.6712,2,  34.6705,2,    178.2,2,   179.2,2,   67.62,2,   31.64,2,    0.00,2,    2.19,2,   0.166,2,   0.086,2,  -0.002,2,    -999,9,  2337.4,2,     -999,9,     -999,   0.007,2,   1.842,2,    8.25,2,2.8176,2,-999,9,-999,9,-999,   7.932,2,   0.030,0.501,2,-999,9,-999,9,    -999,9,-999,9, 20080212,     2204, -38.9984,  29.9995,   0.009,-999,9,     -999,9,     -999,9,     -999,9,     -999,9,     -999,9,     -999,9,-999,9,     -999,9,     -999,9,     -999,9,    0.15,   0.007
33RR20080204,       I06S,      24,          1,         12,         12,2,20080212,       2108,   -38.9984,    29.9995,       4238,  2067.7,   2.7170,  34.7363,2,  34.7356,2,    189.5,2,   189.8,2,   65.79,2,   29.86,2,    0.00,2,    2.06,2,   0.090,2,   0.053,2,  -0.002,2,    -999,9,  2338.7,2,     -999,9,     -999,   0.002,2,   1.838,2,    8.03,2,2.7174,2,-999,9,-999,9,-999,   7.987,2,   0.030,0.228,2,-999,9,-999,9,    -999,9,-999,9, 20080212,     2159, -38.9984,  29.9994,   0.009,-999,9,     -999,9,     -999,9,     -999,9,     -999,9,     -999,9,     -999,9,-999,9,     -999,9,     -999,9,     -999,9,    0.15,   0.007
33RR20080204,       I06S,      24,          1,         10,         10,2,20080212,       2108,   -38.9984,    29.9995,       4238,  2384.9,   2.5763,  34.7971,2,  34.7966,2,    205.4,2,   206.1,2,   62.35,2,   27.55,2,    0.00,2,    1.89,2,   0.041,2,   0.023,2,  -0.002,2,    -999,9,  2340.0,2,     -999,9,     -999,   0.002,2,   1.838,2,    7.24,2,2.5764,2,-999,9,-999,9,-999,   7.900,2,   0.030,0.443,2,-999,9,-999,9,    -999,9,-999,9, 20080212,     2151, -38.9984,  29.9994,   0.009,-999,9,     -999,9,     -999,9,     -999,9,     -999,9,     -999,9,     -999,9,-999,9,     -999,9,     -999,9,     -999,9,    0.15,   0.007
33RR20080204,       I06S,      24,          1,          9,          9,2,20080212,       2108,   -38.9984,    29.9995,       4238,  2693.3,   2.4061,  34.8139,2,  34.8132,2,    213.2,2,   213.8,2,   63.55,2,   26.74,2,    0.00,2,    1.83,2,   0.033,2,   0.019,2,  -0.003,2,    -999,9,  2342.0,2,     -999,9,     -999,   0.001,6,   1.854,2,    6.95,2,2.4059,2,-999,9,-999,9,-999,   7.992,2,   0.030,0.343,2,-999,9,-999,9,    -999,9,-999,9, 20080212,     2145, -38.9984,  29.9996,   0.006,-999,9,     -999,9,     -999,9,     -999,9,     -999,9,     -999,9,     -999,9,-999,9,     -999,9,     -999,9,     -999,9,    0.15,   0.007
33RR20080204,       I06S,      24,          1,          8,          8,2,20080212,       2108,   -38.9984,    29.9995,       4238,  2996.6,   2.2606,  34.8177,2,  34.8175,2,    217.8,2,   217.8,2,   65.79,2,   26.54,2,    0.00,2,    1.82,2,   0.031,2,   0.015,2,  -0.003,2,    -999,9,  2344.0,2,     -999,9,     -999,   0.000,2,   1.841,2,    6.73,2,2.2605,2,-999,9,-999,9,-999,   7.951,2,   0.030,0.218,2,-999,9,-999,9,    -999,9,-999,9, 20080212,     2138, -38.9984,  29.9993,   0.009,-999,9,     -999,9,     -999,9,     -999,9,     -999,9,     -999,9,     -999,9,-999,9,     -999,9,     -999,9,     -999,9,    0.15,   0.007
33RR20080204,       I06S,      24,          1,          6,          6,2,20080212,       2108,   -38.9984,    29.9995,       4238,  3305.3,   2.0573,  34.8070,2,  34.8081,2,    218.1,2,   218.1,2,   72.69,2,   27.09,2,    0.00,2,    1.85,2,   0.039,2,   0.025,2,  -0.003,2,    -999,9,  2347.8,2,     -999,9,     -999,  -0.013,2,   1.818,2,    6.84,2,2.0573,2,-999,9,-999,9,-999,   7.818,2,   0.030,0.131,2,-999,9,-999,9,    -999,9,-999,9, 20080212,     2132, -38.9984,  29.9995,   0.009,-999,9,     -999,9,     -999,9,     -999,9,     -999,9,     -999,9,     -999,9,-999,9,     -999,9,     -999,9,     -999,9,    0.15,   0.007
33RR20080204,       I06S,      24,          1,          5,          5,2,20080212,       2108,   -38.9984,    29.9995,       4238,  3612.8,   1.7926,  34.7883,2,  34.7895,2,    217.6,2,   217.7,2,   82.06,2,   28.00,2,    0.00,2,    1.91,2,   0.051,2,   0.037,2,  -0.004,2,    -999,9,  2352.2,2,     -999,9,     -999,  -0.012,2,   1.866,2,    7.26,2,1.7927,2,-999,9,-999,9,-999,   8.011,2,   0.030,0.094,2,-999,9,-999,9,    -999,9,-999,9, 20080212,     2125, -38.9984,  29.9995,   0.009,-999,9,     -999,9,     -999,9,     -999,9,     -999,9,     -999,9,     -999,9,-999,9,     -999,9,     -999,9,     -999,9,    0.15,   0.007
33RR20080204,       I06S,      24,          1,          4,          4,2,20080212,       2108,   -38.9984,    29.9995,       4238,  3916.4,   1.4169,  34.7583,2,  34.7604,2,    216.6,2,   216.8,2,   95.29,2,   29.37,2,    0.00,2,    2.01,2,   0.067,2,   0.040,2,   0.004,2,    -999,9,  2358.8,2,     -999,9,     -999,  -0.009,2,   1.865,2,    7.02,2,1.4168,2,-999,9,-999,9,-999,   8.098,2,   0.031,0.756,2,-999,9,-999,9,    -999,9,-999,9, 20080212,     2118, -38.9984,  29.9994,   0.009,-999,9,     -999,9,     -999,9,     -999,9,     -999,9,     -999,9,     -999,9,-999,9,     -999,9,     -999,9,     -999,9,    0.15,   0.007
33RR20080204,       I06S,      24,          1,          2,          2,2,20080212,       2108,   -38.9984,    29.9995,       4238,  4152.3,   1.1095,  34.7342,2,  34.7355,2,    216.4,2,   216.6,2,  106.27,2,   30.44,2,    0.00,2,    2.10,2,   0.094,2,   0.056,2,   0.002,2,    -999,9,  2363.4,2,     -999,9,     -999,  -0.009,2,   1.873,2,    7.24,2,1.1099,2,-999,9,-999,9,-999,   8.116,2,   0.031,0.602,2,-999,9,-999,9,    -999,9,-999,9, 20080212,     2113, -38.9984,  29.9996,   0.009,-999,9,     -999,9,     -999,9,     -999,9,     -999,9,     -999,9,     -999,9,-999,9,     -999,9,     -999,9,     -999,9,    0.15,   0.007
33RR20080204,       I06S,      24,          1,          1,          1,2,20080212,       2108,   -38.9984,    29.9995,       4238,  4283.5,   1.0138,  34.7262,2,  34.7277,2,    216.3,2,   216.9,2,  109.33,2,   30.79,2,    0.00,2,    2.12,2,   0.119,2,   0.067,2,  -0.005,2,    -999,9,  2364.0,2,     -999,9,     -999,  -0.005,2,   1.846,2,    7.21,2,1.0132,2,-999,9,-999,9,-999,   8.011,2,   0.030,0.527,2,-999,9,-999,9,    -999,9,-999,9, 20080212,     2109, -38.9984,  29.9995,   0.009,-999,9,     -999,9,     -999,9,     -999,9,     -999,9,     -999,9,     -999,9,-999,9,     -999,9,     -999,9,     -999,9,    0.15,   0.007