BOTTLE,20220706CCHSIOAMB
EXPOCODE,SECT_ID,STNNBR,CASTNO,SAMPNO,BTLNBR,BTLNBR_FLAG_W,DATE,TIME,LATITUDE,LONGITUDE,DEPTH,CTDPRS,CTDTMP,CTDSAL,CTDSAL_FLAG_W,SALNTY,SALNTY_FLAG_W,CTDOXY,CTDOXY_FLAG_W,OXYGEN,OXYGEN_FLAG_W,SILCAT,SILCAT_FLAG_W,NITRAT,NITRAT_FLAG_W,NITRIT,NITRIT_FLAG_W,PHSPHT,PHSPHT_FLAG_W,CFC-11,CFC-11_FLAG_W,CFC-12,CFC-12_FLAG_W,CFC113,CFC113_FLAG_W,TCARBN,TCARBN_FLAG_W,ALKALI,ALKALI_FLAG_W,PH_SWS,PH_SWS_FLAG_W,PH_TMP,TRITUM,TRITUM_FLAG_W,HELIUM,HELIUM_FLAG_W,DELHE3,DELHE3_FLAG_W,REFTMP,REFTMP_FLAG_W,DELC13,DELC13_FLAG_W,DELC14,DELC14_FLAG_W,C14ERR,NEON,NEON_FLAG_W,NEONER,CCL4,CCL4_FLAG_W,ALUMIN,ALUMIN_FLAG_W,DELO18,DELO18_FLAG_W,DOC,DOC_FLAG_W,TDN,TDN_FLAG_W,BTL_DATE,BTL_TIME,BTL_LAT,BTL_LON,TRITER,DELSI30,DELSI30_FLAG_W,CDOM380,CDOM380_FLAG_W,CDOM325,CDOM325_FLAG_W,CDOMSL,CDOMSL_FLAG_W,CDOM340,CDOM340_FLAG_W,CDOM443,CDOM443_FLAG_W,CDOMSN,CDOMSN_FLAG_W,BLACKC,BLACKC_FLAG_W,CDOM490,CDOM490_FLAG_W,CDOM412,CDOM412_FLAG_W,CDOM555,CDOM555_FLAG_W,DELHER,HELIER
,,,,,,,,,,,METERS,DBAR,ITS-90,PSS-78,,PSS-78,,UMOL/KG,,UMOL/KG,,UMOL/KG,,UMOL/KG,,UMOL/KG,,UMOL/KG,,PMOL/KG,,PMOL/KG,,PMOL/KG,,UMOL/KG,,UMOL/KG,,,,DEG C,TU,,NMOL/KG,,PERCNT,,DEG C,,/MILLE,,/MILLE,,/MILLE,NMOL/KG,,NMOL/KG,PMOL/KG,,NMOL/L,,/MILLE,,UMOL/KG,,UMOL/KG,,,,,,TU,/MILLE,,1/M,,1/M,,1/NM,,1/M,,1/M,,1/NM,,,,1/M,,1/M,,1/M,,PERCNT,NMOL/KG
33RR20080204,       I06S,      17,          1,          7,          7,2,20080210,       0758,   -35.4995,    29.9961,       4487,  2891.2,   2.3472,  34.8104,3,  34.8207,2,    215.6,3,   217.3,2,   63.78,2,   26.65,2,    0.00,2,    1.82,2,   0.030,2,   0.020,2,   0.000,2,  2218.1,2,  2341.6,2,   7.7510,2,    20.00,    -999,9,    -999,9,    -999,9,-999,9,-999,9,-999,9,-999,    -999,9,    -999,0.185,2,-999,9,-999,9,    -999,9,-999,9, 20080210,     0835, -35.4994,  29.9950,    -999,-999,9,     -999,9,     -999,9,     -999,9,     -999,9,     -999,9,     -999,9,-999,9,     -999,9,     -999,9,     -999,9,    -999,    -999
33RR20080204,       I06S,      17,          1,          6,          6,2,20080210,       0758,   -35.4995,    29.9961,       4487,  3194.4,   2.1554,  34.8031,3,  34.8149,2,    217.9,3,   218.8,2,   69.28,2,   27.00,2,    0.00,2,    1.84,2,   0.038,2,   0.027,2,   0.000,2,  2222.1,2,  2345.7,2,   7.7510,2,    20.00,    -999,9,    -999,9,    -999,9,-999,9,-999,9,-999,9,-999,    -999,9,    -999,0.259,2,-999,9,-999,9,   38.54,2,-999,1, 20080210,     0828, -35.4994,  29.9951,    -999,-999,9,   0.0348,2,   0.1151,2,   0.0185,2,   0.0780,2,   0.0116,2,   0.0208,2,-999,9,   0.0026,2,   0.0216,2,  -0.0008,4,    -999,    -999
33RR20080204,       I06S,      17,          1,          5,          5,2,20080210,       0758,   -35.4995,    29.9961,       4487,  3511.5,   1.8147,  34.7569,3,  34.7907,2,    218.9,3,   217.5,2,   81.15,2,   28.12,2,    0.00,2,    1.92,2,   0.072,2,   0.049,2,   0.000,2,  2232.9,2,  2351.4,2,   7.7400,2,    20.00,    -999,9,    -999,9,    -999,9,-999,9,-999,9,-999,9,-999,    -999,9,    -999,0.368,2,-999,9,-999,9,    -999,9,-999,9, 20080210,     0821, -35.4994,  29.9952,    -999,-999,9,     -999,9,     -999,9,     -999,9,     -999,9,     -999,9,     -999,9,-999,9,     -999,9,     -999,9,     -999,9,    -999,    -999
33RR20080204,       I06S,      17,          1,          4,          4,2,20080210,       0758,   -35.4995,    29.9961,       4487,  3815.2,   1.4307,  34.7465,3,  34.7615,2,    217.7,3,   216.5,2,   94.69,2,   29.44,2,    0.00,2,    2.02,2,   0.066,2,   0.045,2,   0.000,2,  2243.2,2,  2358.8,2,   7.7270,2,    20.00,    -999,9,    -999,9,    -999,9,-999,9,-999,9,-999,9,-999,    -999,9,    -999,0.506,2,-999,9,-999,9,   38.93,2,-999,1, 20080210,     0815, -35.4995,  29.9957,    -999,-999,9,   0.0306,2,   0.1071,2,   0.0200,2,   0.0715,2,   0.0089,2,   0.0223,2,-999,9,   0.0013,2,   0.0177,2,  -0.0013,4,    -999,    -999
33RR20080204,       I06S,      17,          1,          3,          3,2,20080210,       0758,   -35.4995,    29.9961,       4487,  4129.9,   1.2210,  34.7296,3,  34.7444,2,    217.2,3,   216.6,2,  102.68,2,   30.26,2,    0.00,2,    2.08,2,   0.087,2,   0.050,2,   0.000,2,  2247.7,3,  2360.5,2,   7.7190,2,    20.00,    -999,9,    -999,9,    -999,9,-999,9,-999,9,-999,9,-999,    -999,9,    -999,0.562,2,-999,9,-999,9,    -999,9,-999,9, 20080210,     0808, -35.4994,  29.9957,    -999,-999,9,     -999,9,     -999,9,     -999,9,     -999,9,     -999,9,     -999,9,-999,9,     -999,9,     -999,9,     -999,9,    -999,    -999
33RR20080204,       I06S,      17,          1,          2,          2,2,20080210,       0758,   -35.4995,    29.9961,       4487,  4418.7,   1.1196,  34.7271,3,  34.7356,2,    215.7,3,   216.6,2,  106.96,2,   30.67,2,    0.00,2,    2.11,2,   0.093,2,   0.055,2,   0.000,2,  2251.3,2,  2364.1,2,   7.7180,2,    20.00,    -999,9,    -999,9,    -999,9,-999,9,-999,9,-999,9,-999,    -999,9,    -999,0.82,2,-999,9,-999,9,    -999,9,-999,9, 20080210,     0802, -35.4995,  29.9960,    -999,-999,9,     -999,9,     -999,9,     -999,9,     -999,9,     -999,9,     -999,9,-999,9,     -999,9,     -999,9,     -999,9,    -999,    -999
33RR20080204,       I06S,      17,          1,          1,          1,2,20080210,       0758,   -35.4995,    29.9961,       4487,  4536.2,   1.0763,  34.7307,2,  34.7303,2,    198.3,4,   216.6,2,  108.78,2,   30.82,2,    0.00,2,    2.13,2,   0.119,2,   0.067,2,   0.006,2,  2253.5,6,  2367.5,2,   7.7140,2,    20.00,    -999,9,    -999,9,    -999,9,-999,9,-999,9,-999,9,-999,    -999,9,    -999,1.121,2,-999,9,-999,9,   46.63,3,-999,1, 20080210,     0758, -35.4995,  29.9961,    -999,-999,9,   0.0292,2,   0.1039,2,   0.0208,2,   0.0685,2,   0.0075,2,   0.0228,2,-999,9,   0.0005,4,   0.0164,2,  -0.0017,4,    -999,    -999