BOTTLE,20220706CCHSIOAMB
EXPOCODE,SECT_ID,STNNBR,CASTNO,SAMPNO,BTLNBR,BTLNBR_FLAG_W,DATE,TIME,LATITUDE,LONGITUDE,DEPTH,CTDPRS,CTDTMP,CTDSAL,CTDSAL_FLAG_W,SALNTY,SALNTY_FLAG_W,CTDOXY,CTDOXY_FLAG_W,OXYGEN,OXYGEN_FLAG_W,SILCAT,SILCAT_FLAG_W,NITRAT,NITRAT_FLAG_W,NITRIT,NITRIT_FLAG_W,PHSPHT,PHSPHT_FLAG_W,CFC-11,CFC-11_FLAG_W,CFC-12,CFC-12_FLAG_W,CFC113,CFC113_FLAG_W,TCARBN,TCARBN_FLAG_W,ALKALI,ALKALI_FLAG_W,PH_SWS,PH_SWS_FLAG_W,PH_TMP,TRITUM,TRITUM_FLAG_W,HELIUM,HELIUM_FLAG_W,DELHE3,DELHE3_FLAG_W,REFTMP,REFTMP_FLAG_W,DELC13,DELC13_FLAG_W,DELC14,DELC14_FLAG_W,C14ERR,NEON,NEON_FLAG_W,NEONER,CCL4,CCL4_FLAG_W,ALUMIN,ALUMIN_FLAG_W,DELO18,DELO18_FLAG_W,DOC,DOC_FLAG_W,TDN,TDN_FLAG_W,BTL_DATE,BTL_TIME,BTL_LAT,BTL_LON,TRITER,DELSI30,DELSI30_FLAG_W,CDOM380,CDOM380_FLAG_W,CDOM325,CDOM325_FLAG_W,CDOMSL,CDOMSL_FLAG_W,CDOM340,CDOM340_FLAG_W,CDOM443,CDOM443_FLAG_W,CDOMSN,CDOMSN_FLAG_W,BLACKC,BLACKC_FLAG_W,CDOM490,CDOM490_FLAG_W,CDOM412,CDOM412_FLAG_W,CDOM555,CDOM555_FLAG_W,DELHER,HELIER
,,,,,,,,,,,METERS,DBAR,ITS-90,PSS-78,,PSS-78,,UMOL/KG,,UMOL/KG,,UMOL/KG,,UMOL/KG,,UMOL/KG,,UMOL/KG,,PMOL/KG,,PMOL/KG,,PMOL/KG,,UMOL/KG,,UMOL/KG,,,,DEG C,TU,,NMOL/KG,,PERCNT,,DEG C,,/MILLE,,/MILLE,,/MILLE,NMOL/KG,,NMOL/KG,PMOL/KG,,NMOL/L,,/MILLE,,UMOL/KG,,UMOL/KG,,,,,,TU,/MILLE,,1/M,,1/M,,1/NM,,1/M,,1/M,,1/NM,,,,1/M,,1/M,,1/M,,PERCNT,NMOL/KG
33RR20080204,       I06S,      26,          2,          7,          7,2,20080213,       1143,   -39.9846,    30.0350,       4648,  2902.1,   2.3014,  34.8241,2,  34.8120,3,    219.6,2,   219.7,2,   70.04,3,   26.78,3,    0.00,3,    1.84,3,   0.044,2,   0.028,2,  -0.003,2,    -999,9,    -999,9,     -999,9,     -999,    -999,9,    -999,9,    -999,9,-999,9,-999,9,-999,9,-999,    -999,9,    -999,0.136,2,-999,9,-999,9,    -999,9,-999,9, 20080213,     1224, -39.9845,  30.0358,    -999,-999,9,     -999,9,     -999,9,     -999,9,     -999,9,     -999,9,     -999,9,-999,9,     -999,9,     -999,9,     -999,9,    -999,    -999
33RR20080204,       I06S,      26,          2,          6,          6,2,20080213,       1143,   -39.9846,    30.0350,       4648,  3204.8,   2.1302,  34.8180,2,  34.8177,2,    220.7,2,   220.6,2,   68.82,2,   26.57,2,    0.00,2,    1.82,2,   0.033,2,   0.017,2,  -0.004,2,    -999,9,    -999,9,     -999,9,     -999,    -999,9,    -999,9,    -999,9,-999,9,-999,9,-999,9,-999,    -999,9,    -999,0.1,2,-999,9,-999,9,    -999,9,-999,9, 20080213,     1217, -39.9846,  30.0349,    -999,-999,9,     -999,9,     -999,9,     -999,9,     -999,9,     -999,9,     -999,9,-999,9,     -999,9,     -999,9,     -999,9,    -999,    -999
33RR20080204,       I06S,      26,          2,          5,          5,2,20080213,       1143,   -39.9846,    30.0350,       4648,  3509.8,   1.8249,  34.7889,2,  34.7884,2,    217.0,2,   216.5,2,   81.52,2,   27.99,2,    0.00,2,    1.92,2,   0.054,2,   0.029,2,  -0.004,2,    -999,9,  2352.3,2,   7.8501,2,    13.00,    -999,9,    -999,9,    -999,9,-999,9,-999,9,-999,9,-999,    -999,9,    -999,0.158,2,-999,9,-999,9,    -999,9,-999,9, 20080213,     1211, -39.9848,  30.0351,    -999,-999,9,     -999,9,     -999,9,     -999,9,     -999,9,     -999,9,     -999,9,-999,9,     -999,9,     -999,9,     -999,9,    -999,    -999
33RR20080204,       I06S,      26,          2,          4,          4,2,20080213,       1143,   -39.9846,    30.0350,       4648,  3821.3,   1.4977,  34.7640,2,  34.7647,2,    216.5,2,   216.0,2,   93.03,2,   29.15,2,    0.00,2,    2.01,2,   0.074,2,   0.048,2,  -0.005,2,    -999,9,  2357.8,2,   7.8396,2,    13.00,    -999,9,    -999,9,    -999,9,-999,9,-999,9,-999,9,-999,    -999,9,    -999,0.177,2,-999,9,-999,9,    -999,9,-999,9, 20080213,     1204, -39.9846,  30.0349,    -999,-999,9,     -999,9,     -999,9,     -999,9,     -999,9,     -999,9,     -999,9,-999,9,     -999,9,     -999,9,     -999,9,    -999,    -999
33RR20080204,       I06S,      26,          2,          3,          3,2,20080213,       1143,   -39.9846,    30.0350,       4648,  4130.2,   1.1523,  34.7373,2,  34.7379,2,    216.8,2,   216.3,2,  104.92,2,   30.27,2,    0.00,2,    2.09,2,   0.094,2,   0.052,2,  -0.005,2,    -999,9,  2361.7,2,   7.8295,2,    13.00,    -999,9,    -999,9,    -999,9,-999,9,-999,9,-999,9,-999,    -999,9,    -999,0.18,2,-999,9,-999,9,    -999,9,-999,9, 20080213,     1157, -39.9848,  30.0351,    -999,-999,9,     -999,9,     -999,9,     -999,9,     -999,9,     -999,9,     -999,9,-999,9,     -999,9,     -999,9,     -999,9,    -999,    -999
33RR20080204,       I06S,      26,          2,          2,          2,2,20080213,       1143,   -39.9846,    30.0350,       4648,  4434.6,   0.5862,  34.6962,2,  34.6969,2,    219.8,2,   220.3,2,  121.43,2,   31.84,2,    0.00,2,    2.21,2,   0.072,2,   0.053,2,   0.001,2,    -999,9,  2363.0,2,   7.8102,2,    13.00,    -999,9,    -999,9,    -999,9,-999,9,-999,9,-999,9,-999,    -999,9,    -999,0.105,2,-999,9,-999,9,    -999,9,-999,9, 20080213,     1150, -39.9846,  30.0350,    -999,-999,9,     -999,9,     -999,9,     -999,9,     -999,9,     -999,9,     -999,9,-999,9,     -999,9,     -999,9,     -999,9,    -999,    -999
33RR20080204,       I06S,      26,          2,          1,          1,2,20080213,       1143,   -39.9846,    30.0350,       4648,  4691.6,   0.3045,  34.6752,2,  34.6769,2,    222.8,2,   223.4,2,  129.06,2,   32.35,2,    0.00,2,    2.27,2,   0.080,2,   0.059,2,   0.015,2,    -999,9,  2361.7,2,   7.7987,2,    13.00,    -999,9,    -999,9,    -999,9,-999,9,-999,9,-999,9,-999,    -999,9,    -999,0.094,2,-999,9,-999,9,    -999,9,-999,9, 20080213,     1144, -39.9846,  30.0350,    -999,-999,9,     -999,9,     -999,9,     -999,9,     -999,9,     -999,9,     -999,9,-999,9,     -999,9,     -999,9,     -999,9,    -999,    -999