BOTTLE,20220706CCHSIOAMB
EXPOCODE,SECT_ID,STNNBR,CASTNO,SAMPNO,BTLNBR,BTLNBR_FLAG_W,DATE,TIME,LATITUDE,LONGITUDE,DEPTH,CTDPRS,CTDTMP,CTDSAL,CTDSAL_FLAG_W,SALNTY,SALNTY_FLAG_W,CTDOXY,CTDOXY_FLAG_W,OXYGEN,OXYGEN_FLAG_W,SILCAT,SILCAT_FLAG_W,NITRAT,NITRAT_FLAG_W,NITRIT,NITRIT_FLAG_W,PHSPHT,PHSPHT_FLAG_W,CFC-11,CFC-11_FLAG_W,CFC-12,CFC-12_FLAG_W,CFC113,CFC113_FLAG_W,TCARBN,TCARBN_FLAG_W,ALKALI,ALKALI_FLAG_W,PH_SWS,PH_SWS_FLAG_W,PH_TMP,TRITUM,TRITUM_FLAG_W,HELIUM,HELIUM_FLAG_W,DELHE3,DELHE3_FLAG_W,REFTMP,REFTMP_FLAG_W,DELC13,DELC13_FLAG_W,DELC14,DELC14_FLAG_W,C14ERR,NEON,NEON_FLAG_W,NEONER,CCL4,CCL4_FLAG_W,ALUMIN,ALUMIN_FLAG_W,DELO18,DELO18_FLAG_W,DOC,DOC_FLAG_W,TDN,TDN_FLAG_W,BTL_DATE,BTL_TIME,BTL_LAT,BTL_LON,TRITER,DELSI30,DELSI30_FLAG_W,CDOM380,CDOM380_FLAG_W,CDOM325,CDOM325_FLAG_W,CDOMSL,CDOMSL_FLAG_W,CDOM340,CDOM340_FLAG_W,CDOM443,CDOM443_FLAG_W,CDOMSN,CDOMSN_FLAG_W,BLACKC,BLACKC_FLAG_W,CDOM490,CDOM490_FLAG_W,CDOM412,CDOM412_FLAG_W,CDOM555,CDOM555_FLAG_W,DELHER,HELIER
,,,,,,,,,,,METERS,DBAR,ITS-90,PSS-78,,PSS-78,,UMOL/KG,,UMOL/KG,,UMOL/KG,,UMOL/KG,,UMOL/KG,,UMOL/KG,,PMOL/KG,,PMOL/KG,,PMOL/KG,,UMOL/KG,,UMOL/KG,,,,DEG C,TU,,NMOL/KG,,PERCNT,,DEG C,,/MILLE,,/MILLE,,/MILLE,NMOL/KG,,NMOL/KG,PMOL/KG,,NMOL/L,,/MILLE,,UMOL/KG,,UMOL/KG,,,,,,TU,/MILLE,,1/M,,1/M,,1/NM,,1/M,,1/M,,1/NM,,,,1/M,,1/M,,1/M,,PERCNT,NMOL/KG
33RR20080204,       I06S,      91,         17,         36,         36,2,20080305,       0212,   -68.3996,    31.5311,        476,     4.0,  -1.3031,  33.8839,2,  33.8823,2,    339.1,2,   337.5,2,   52.94,2,   26.55,2,    0.13,2,    1.86,2,   5.982,2,   3.375,2,   0.525,2,  2173.1,2,  2297.4,2,   7.8729,2,    13.00,    -999,9,    -999,9,    -999,9,-1.3014,2,-999,9,-999,9,-999,    -999,9,    -999,-999,9,-999,9,-0.41,2,    -999,9,-999,9, 20080305,     0255, -68.3996,  31.5311,    -999,-999,9,     -999,9,     -999,9,     -999,9,     -999,9,     -999,9,     -999,9,-999,9,     -999,9,     -999,9,     -999,9,    -999,    -999
33RR20080204,       I06S,      91,         17,         34,         34,2,20080305,       0212,   -68.3996,    31.5311,        476,     9.8,  -1.2852,  33.8838,2,  33.8827,2,    338.8,2,   337.9,2,   52.93,2,   26.54,2,    0.13,2,    1.87,2,   6.027,6,   3.384,6,   0.490,6,  2176.0,2,  2297.0,2,   7.8752,2,    13.00,    -999,9,    -999,9,    -999,9,-1.2863,2,-999,9,-999,9,-999,    -999,9,    -999,-999,9,-999,9,-0.36,2,    -999,9,-999,9, 20080305,     0253, -68.3996,  31.5311,    -999,-999,9,     -999,9,     -999,9,     -999,9,     -999,9,     -999,9,     -999,9,-999,9,     -999,9,     -999,9,     -999,9,    -999,    -999
33RR20080204,       I06S,      91,         17,         32,         32,2,20080305,       0212,   -68.3996,    31.5311,        476,    19.1,  -1.2822,  33.8836,2,  33.8854,2,    338.3,2,   337.5,2,   52.73,2,   26.59,2,    0.13,2,    1.87,2,   6.050,2,   3.356,2,   0.475,2,  2173.8,2,  2297.1,2,   7.8749,2,    13.00,    -999,9,    -999,9,    -999,9,-1.2802,2,-999,9,-999,9,-999,    -999,9,    -999,-999,9,-999,9,-0.38,2,    -999,9,-999,9, 20080305,     0252, -68.3996,  31.5311,    -999,-999,9,     -999,9,     -999,9,     -999,9,     -999,9,     -999,9,     -999,9,-999,9,     -999,9,     -999,9,     -999,9,    -999,    -999
33RR20080204,       I06S,      91,         17,         30,         30,2,20080305,       0212,   -68.3996,    31.5311,        476,    29.7,  -1.2592,  33.8868,2,  33.8837,2,    337.7,2,   336.8,2,   52.72,2,   26.59,2,    0.13,2,    1.86,2,   6.013,2,   3.368,2,   0.499,2,  2174.7,2,  2297.5,2,   7.8745,2,    13.00,    -999,9,    -999,9,    -999,9,-1.2595,2,-999,9,-999,9,-999,    -999,9,    -999,-999,9,-999,9,-0.42,2,    -999,9,-999,9, 20080305,     0250, -68.3996,  31.5311,    -999,-999,9,     -999,9,     -999,9,     -999,9,     -999,9,     -999,9,     -999,9,-999,9,     -999,9,     -999,9,     -999,9,    -999,    -999
33RR20080204,       I06S,      91,         17,         28,         28,2,20080305,       0212,   -68.3996,    31.5311,        476,    49.6,  -1.3170,  34.0001,2,  34.0085,2,    330.5,2,   329.8,2,   54.91,2,   27.61,2,    0.13,2,    1.94,2,   5.832,2,   3.258,2,   0.468,2,  2187.7,2,  2305.0,2,   7.8554,2,    13.00,    -999,9,    -999,9,    -999,9,-1.3173,2,-999,9,-999,9,-999,    -999,9,    -999,-999,9,-999,9,-0.33,2,    -999,9,-999,9, 20080305,     0248, -68.3996,  31.5311,    -999,-999,9,     -999,9,     -999,9,     -999,9,     -999,9,     -999,9,     -999,9,-999,9,     -999,9,     -999,9,     -999,9,    -999,    -999
33RR20080204,       I06S,      91,         17,         26,         26,2,20080305,       0212,   -68.3996,    31.5311,        476,    69.5,  -1.7297,  34.1769,2,  34.1799,2,    317.7,2,   318.0,2,   59.46,2,   29.87,2,    0.12,2,    2.08,2,   5.481,2,   3.066,2,   0.439,2,  2205.5,2,  2312.1,2,   7.8190,2,    13.00,    -999,9,    -999,9,    -999,9,-1.7303,2,-999,9,-999,9,-999,    -999,9,    -999,-999,9,-999,9,-0.35,2,    -999,9,-999,9, 20080305,     0246, -68.3996,  31.5311,    -999,-999,9,     -999,9,     -999,9,     -999,9,     -999,9,     -999,9,     -999,9,-999,9,     -999,9,     -999,9,     -999,9,    -999,    -999
33RR20080204,       I06S,      91,         17,         24,         24,2,20080305,       0212,   -68.3996,    31.5311,        476,    88.7,  -1.7549,  34.2197,2,  34.2310,2,    316.2,2,   314.8,2,   60.46,2,   30.13,2,    0.10,2,    2.10,2,   5.395,2,   2.995,2,   0.432,2,  2210.5,2,  2314.1,2,   7.8145,2,    13.00,    -999,9,    -999,9,    -999,9,-1.7555,2,-999,9,-999,9,-999,    -999,9,    -999,-999,9,-999,9,-0.34,2,    -999,9,-999,9, 20080305,     0244, -68.3996,  31.5312,    -999,-999,9,     -999,9,     -999,9,     -999,9,     -999,9,     -999,9,     -999,9,-999,9,     -999,9,     -999,9,     -999,9,    -999,    -999
33RR20080204,       I06S,      91,         17,         22,         22,2,20080305,       0212,   -68.3996,    31.5311,        476,   124.0,  -1.7735,  34.2599,2,  34.2578,2,    311.0,2,   312.5,2,   61.05,2,   30.43,2,    0.06,2,    2.10,2,   5.361,2,   2.934,2,   0.422,2,  2214.5,2,  2316.0,2,   7.8139,2,    13.00,    -999,9,    -999,9,    -999,9,-1.7737,2,-999,9,-999,9,-999,    -999,9,    -999,-999,9,-999,9,-0.27,2,    -999,9,-999,9, 20080305,     0242, -68.3996,  31.5311,    -999,-999,9,     -999,9,     -999,9,     -999,9,     -999,9,     -999,9,     -999,9,-999,9,     -999,9,     -999,9,     -999,9,    -999,    -999
33RR20080204,       I06S,      91,         17,         20,         20,2,20080305,       0212,   -68.3996,    31.5311,        476,   164.7,  -1.6030,  34.3021,2,  34.3017,2,    305.8,2,   303.6,2,   63.83,2,   30.58,2,    0.06,2,    2.11,2,   5.025,2,   2.803,2,   0.410,2,  2219.3,2,  2319.2,2,   7.8089,2,    13.00,    -999,9,    -999,9,    -999,9,-1.604,2,-999,9,-999,9,-999,    -999,9,    -999,-999,9,-999,9,-0.21,2,    -999,9,-999,9, 20080305,     0239, -68.3996,  31.5311,    -999,-999,9,     -999,9,     -999,9,     -999,9,     -999,9,     -999,9,     -999,9,-999,9,     -999,9,     -999,9,     -999,9,    -999,    -999
33RR20080204,       I06S,      91,         17,         18,         18,2,20080305,       0212,   -68.3996,    31.5311,        476,   205.0,  -1.3963,  34.3410,2,  34.3400,2,    293.6,2,   295.2,2,   67.02,2,   30.79,2,    0.04,2,    2.13,2,   4.699,2,   2.595,2,   0.377,2,  2221.7,2,  2322.4,2,   7.8054,2,    13.00,    -999,9,    -999,9,    -999,9,-1.396,2,-999,9,-999,9,-999,    -999,9,    -999,-999,9,-999,9,-0.25,2,    -999,9,-999,9, 20080305,     0235, -68.3996,  31.5311,    -999,-999,9,     -999,9,     -999,9,     -999,9,     -999,9,     -999,9,     -999,9,-999,9,     -999,9,     -999,9,     -999,9,    -999,    -999
33RR20080204,       I06S,      91,         17,         14,         14,9,20080305,       0212,   -68.3996,    31.5311,        476,   244.9,  -0.9975,  34.4023,2,     -999,9,     -999,9,    -999,9,    -999,9,    -999,9,    -999,9,    -999,9,    -999,9,    -999,9,    -999,9,    -999,9,    -999,9,     -999,9,     -999,    -999,9,    -999,9,    -999,9,-0.9875,2,-999,9,-999,9,-999,    -999,9,    -999,-999,9,-999,9,-999,9,    -999,9,-999,9, 20080305,     0231, -68.3996,  31.5312,    -999,-999,9,     -999,9,     -999,9,     -999,9,     -999,9,     -999,9,     -999,9,-999,9,     -999,9,     -999,9,     -999,9,    -999,    -999
33RR20080204,       I06S,      91,         17,         12,         12,2,20080305,       0212,   -68.3996,    31.5311,        476,   285.1,  -0.5298,  34.4739,2,  34.4711,2,    263.3,2,   262.2,2,   78.20,2,   31.28,2,    0.02,2,    2.16,2,   3.356,2,   1.829,2,   0.265,2,  2234.7,2,  2333.5,2,   7.7932,2,    13.00,    -999,9,    -999,9,    -999,9,-0.5319,2,-999,9,-999,9,-999,    -999,9,    -999,-999,9,-999,9,-0.25,2,    -999,9,-999,9, 20080305,     0227, -68.3996,  31.5312,    -999,-999,9,     -999,9,     -999,9,     -999,9,     -999,9,     -999,9,     -999,9,-999,9,     -999,9,     -999,9,     -999,9,    -999,    -999
33RR20080204,       I06S,      91,         17,         10,         10,2,20080305,       0212,   -68.3996,    31.5311,        476,   324.4,  -0.0565,  34.5549,2,  34.5538,2,    246.1,2,   244.8,2,   82.80,2,   31.48,2,    0.01,2,    2.17,2,   2.698,2,   1.433,2,   0.204,2,  2241.1,2,  2338.9,2,   7.7868,2,    13.00,    -999,9,    -999,9,    -999,9,-0.0566,2,-999,9,-999,9,-999,    -999,9,    -999,-999,9,-999,9,-0.14,2,    -999,9,-999,9, 20080305,     0223, -68.3996,  31.5311,    -999,-999,9,     -999,9,     -999,9,     -999,9,     -999,9,     -999,9,     -999,9,-999,9,     -999,9,     -999,9,     -999,9,    -999,    -999
33RR20080204,       I06S,      91,         17,          8,          8,2,20080305,       0212,   -68.3996,    31.5311,        476,   356.5,  -0.0405,  34.5739,2,  34.5724,2,    242.5,2,   243.8,2,   84.61,2,   31.48,2,    0.01,2,    2.17,2,  -0.009,4,   0.020,4,  -0.004,4,  2241.3,2,  2341.0,2,   7.7896,2,    13.00,    -999,9,    -999,9,    -999,9,-0.0312,2,-999,9,-999,9,-999,    -999,9,    -999,-999,9,-999,9,-0.17,2,    -999,9,-999,9, 20080305,     0220, -68.3996,  31.5311,    -999,-999,9,     -999,9,     -999,9,     -999,9,     -999,9,     -999,9,     -999,9,-999,9,     -999,9,     -999,9,     -999,9,    -999,    -999
33RR20080204,       I06S,      91,         17,          6,          6,2,20080305,       0212,   -68.3996,    31.5311,        476,   404.6,   0.2840,  34.6398,2,  34.6399,2,    224.7,2,   226.0,2,   98.68,2,   31.72,2,    0.02,2,    2.19,2,   1.476,2,   0.797,2,   0.090,2,  2240.0,4,  2348.9,2,   7.7856,2,    13.00,    -999,9,    -999,9,    -999,9,0.2835,2,-999,9,-999,9,-999,    -999,9,    -999,-999,9,-999,9,-0.19,2,    -999,9,-999,9, 20080305,     0217, -68.3996,  31.5312,    -999,-999,9,     -999,9,     -999,9,     -999,9,     -999,9,     -999,9,     -999,9,-999,9,     -999,9,     -999,9,     -999,9,    -999,    -999
33RR20080204,       I06S,      91,         17,          4,          4,2,20080305,       0212,   -68.3996,    31.5311,        476,   444.3,   0.2150,  34.6628,2,  34.6631,2,    222.1,2,   221.9,2,  109.18,2,   32.03,2,    0.02,2,    2.22,2,   1.038,2,   0.560,2,   0.061,2,  2248.0,2,  2353.3,2,   7.7838,2,    13.00,    -999,9,    -999,9,    -999,9,0.2157,2,-999,9,-999,9,-999,    -999,9,    -999,-999,9,-999,9,-999,9,    -999,9,-999,9, 20080305,     0215, -68.3996,  31.5311,    -999,-999,9,     -999,9,     -999,9,     -999,9,     -999,9,     -999,9,     -999,9,-999,9,     -999,9,     -999,9,     -999,9,    -999,    -999
33RR20080204,       I06S,      91,         17,          2,          2,2,20080305,       0212,   -68.3996,    31.5311,        476,   463.9,   0.1879,  34.6635,2,  34.6629,2,    222.0,2,   223.0,2,  110.59,2,   32.07,2,    0.02,2,    2.23,2,   1.008,2,   0.538,2,   0.046,2,  2255.6,6,  2353.9,2,   7.7822,2,    13.00,    -999,9,    -999,9,    -999,9,0.1876,2,-999,9,-999,9,-999,    -999,9,    -999,-999,9,-999,9,-0.17,2,    -999,9,-999,9, 20080305,     0212, -68.3996,  31.5311,    -999,-999,9,     -999,9,     -999,9,     -999,9,     -999,9,     -999,9,     -999,9,-999,9,     -999,9,     -999,9,     -999,9,    -999,    -999