BOTTLE,20220706CCHSIOAMB
EXPOCODE,SECT_ID,STNNBR,CASTNO,SAMPNO,BTLNBR,BTLNBR_FLAG_W,DATE,TIME,LATITUDE,LONGITUDE,DEPTH,CTDPRS,CTDTMP,CTDSAL,CTDSAL_FLAG_W,SALNTY,SALNTY_FLAG_W,CTDOXY,CTDOXY_FLAG_W,OXYGEN,OXYGEN_FLAG_W,SILCAT,SILCAT_FLAG_W,NITRAT,NITRAT_FLAG_W,NITRIT,NITRIT_FLAG_W,PHSPHT,PHSPHT_FLAG_W,CFC-11,CFC-11_FLAG_W,CFC-12,CFC-12_FLAG_W,CFC113,CFC113_FLAG_W,TCARBN,TCARBN_FLAG_W,ALKALI,ALKALI_FLAG_W,PH_SWS,PH_SWS_FLAG_W,PH_TMP,TRITUM,TRITUM_FLAG_W,HELIUM,HELIUM_FLAG_W,DELHE3,DELHE3_FLAG_W,REFTMP,REFTMP_FLAG_W,DELC13,DELC13_FLAG_W,DELC14,DELC14_FLAG_W,C14ERR,NEON,NEON_FLAG_W,NEONER,CCL4,CCL4_FLAG_W,ALUMIN,ALUMIN_FLAG_W,DELO18,DELO18_FLAG_W,DOC,DOC_FLAG_W,TDN,TDN_FLAG_W,BTL_DATE,BTL_TIME,BTL_LAT,BTL_LON,TRITER,DELSI30,DELSI30_FLAG_W,CDOM380,CDOM380_FLAG_W,CDOM325,CDOM325_FLAG_W,CDOMSL,CDOMSL_FLAG_W,CDOM340,CDOM340_FLAG_W,CDOM443,CDOM443_FLAG_W,CDOMSN,CDOMSN_FLAG_W,BLACKC,BLACKC_FLAG_W,CDOM490,CDOM490_FLAG_W,CDOM412,CDOM412_FLAG_W,CDOM555,CDOM555_FLAG_W,DELHER,HELIER
,,,,,,,,,,,METERS,DBAR,ITS-90,PSS-78,,PSS-78,,UMOL/KG,,UMOL/KG,,UMOL/KG,,UMOL/KG,,UMOL/KG,,UMOL/KG,,PMOL/KG,,PMOL/KG,,PMOL/KG,,UMOL/KG,,UMOL/KG,,,,DEG C,TU,,NMOL/KG,,PERCNT,,DEG C,,/MILLE,,/MILLE,,/MILLE,NMOL/KG,,NMOL/KG,PMOL/KG,,NMOL/L,,/MILLE,,UMOL/KG,,UMOL/KG,,,,,,TU,/MILLE,,1/M,,1/M,,1/NM,,1/M,,1/M,,1/NM,,,,1/M,,1/M,,1/M,,PERCNT,NMOL/KG
33RR20080204,       I06S,      85,          1,         36,         36,2,20080303,       1738,   -66.6663,    33.4993,       1169,     5.8,  -0.3785,  34.0532,2,  34.0518,2,    335.9,2,   335.8,2,   55.69,2,   27.03,2,    0.18,2,    1.89,2,   5.878,2,   3.263,2,   0.515,2,  2182.1,2,  2307.6,2,   7.8731,2,    13.00,   0.095,2,   1.799,2,   -1.56,2,-0.3788,2,-999,9,-999,9,-999,   8.061,2,   0.031,8.291,2,-999,9,-999,9,    -999,9,-999,9, 20080303,     1834, -66.6655,  33.4988,   0.009,-999,9,     -999,9,     -999,9,     -999,9,     -999,9,     -999,9,     -999,9,-999,9,     -999,9,     -999,9,     -999,9,    0.15,   0.007
33RR20080204,       I06S,      85,          1,         34,         34,2,20080303,       1738,   -66.6663,    33.4993,       1169,    26.2,  -0.3831,  34.0531,2,  34.0502,2,    336.2,2,   335.9,2,   55.68,2,   27.07,2,    0.18,2,    1.88,2,   5.992,2,   3.303,2,   0.476,2,  2181.5,2,  2307.2,2,   7.8725,2,    13.00,    -999,9,    -999,9,    -999,9,-0.3832,2,-999,9,-999,9,-999,    -999,9,    -999,7.317,2,-999,9,-999,9,    -999,9,-999,9, 20080303,     1832, -66.6657,  33.4984,    -999,-999,9,     -999,9,     -999,9,     -999,9,     -999,9,     -999,9,     -999,9,-999,9,     -999,9,     -999,9,     -999,9,    -999,    -999
33RR20080204,       I06S,      85,          1,         32,         32,2,20080303,       1738,   -66.6663,    33.4993,       1169,    44.7,  -0.3838,  34.0531,2,  34.0514,2,    336.1,2,   335.8,2,   55.87,2,   27.08,2,    0.18,2,    1.88,2,   0.022,4,   0.012,4,   0.016,4,  2182.4,2,  2306.5,2,   7.8738,2,    13.00,    -999,9,    -999,9,    -999,9,-0.3849,2,-999,9,-999,9,-999,    -999,9,    -999,1.463,4,-999,9,-999,9,    -999,9,-999,9, 20080303,     1831, -66.6658,  33.4990,    -999,-999,9,     -999,9,     -999,9,     -999,9,     -999,9,     -999,9,     -999,9,-999,9,     -999,9,     -999,9,     -999,9,    -999,    -999
33RR20080204,       I06S,      85,          1,         30,         30,2,20080303,       1738,   -66.6663,    33.4993,       1169,    75.8,  -1.6531,  34.2800,2,  34.2728,2,    322.9,2,   310.0,2,   62.69,2,   29.79,2,    0.15,2,    2.10,2,   5.071,6,   2.804,6,   0.438,6,  2213.9,2,  2320.0,2,   7.8202,2,    13.00,    -999,9,    -999,9,    -999,9,-1.6534,2,-999,9,-999,9,-999,    -999,9,    -999,6.7205,6,-999,9,-999,9,    -999,9,-999,9, 20080303,     1829, -66.6659,  33.4987,    -999,-999,9,     -999,9,     -999,9,     -999,9,     -999,9,     -999,9,     -999,9,-999,9,     -999,9,     -999,9,     -999,9,    -999,    -999
33RR20080204,       I06S,      85,          1,         28,         28,2,20080303,       1738,   -66.6663,    33.4993,       1169,   102.8,  -1.6546,  34.3180,2,  34.3128,2,    302.8,2,   303.4,2,   65.49,2,   30.47,2,    0.12,2,    2.13,2,   4.989,2,   2.790,2,   0.431,2,  2217.3,2,  2323.5,2,   7.8087,2,    13.00,   0.079,2,   1.848,2,    0.64,2,-1.6546,2,-999,9,-999,9,-999,   8.253,2,   0.031,6.488,2,-999,9,-999,9,    -999,9,-999,9, 20080303,     1828, -66.6659,  33.4992,   0.009,-999,9,     -999,9,     -999,9,     -999,9,     -999,9,     -999,9,     -999,9,-999,9,     -999,9,     -999,9,     -999,9,    0.15,   0.007
33RR20080204,       I06S,      85,          1,         26,         26,2,20080303,       1738,   -66.6663,    33.4993,       1169,   153.5,  -1.3469,  34.3745,2,  34.3678,2,    296.2,2,   295.1,2,   68.30,2,   30.88,2,    0.02,2,    2.14,2,   4.679,2,   2.642,2,   0.423,2,  2222.7,2,  2324.5,2,   7.8011,3,    13.00,    -999,9,    -999,9,    -999,9,-1.3648,2,-999,9,-999,9,-999,    -999,9,    -999,6.02,2,-999,9,-999,9,    -999,9,-999,9, 20080303,     1826, -66.6661,  33.4993,    -999,-999,9,     -999,9,     -999,9,     -999,9,     -999,9,     -999,9,     -999,9,-999,9,     -999,9,     -999,9,     -999,9,    -999,    -999
33RR20080204,       I06S,      85,          1,         24,         24,2,20080303,       1738,   -66.6663,    33.4993,       1169,   207.2,  -0.7383,  34.4526,2,  34.4495,2,    269.7,2,   270.9,2,   73.73,2,   31.25,2,    0.01,2,    2.17,2,   3.842,2,   2.134,2,   0.331,2,  2229.9,2,  2330.6,2,   7.7948,2,    13.00,   0.046,2,   1.854,2,    3.27,2,-0.7463,2,-999,9,-999,9,-999,   8.202,2,   0.031,4.693,2,-999,9,-999,9,    -999,9,-999,9, 20080303,     1823, -66.6661,  33.4992,   0.009,-999,9,     -999,9,     -999,9,     -999,9,     -999,9,     -999,9,     -999,9,-999,9,     -999,9,     -999,9,     -999,9,    0.15,   0.007
33RR20080204,       I06S,      85,          1,         22,         22,2,20080303,       1738,   -66.6663,    33.4993,       1169,   253.4,  -0.3395,  34.5146,2,  34.5119,2,    256.4,2,   255.8,2,   77.76,2,   31.36,2,    0.01,2,    2.17,2,   3.258,2,   1.800,2,   0.286,2,  2236.3,2,  2333.8,2,   7.7901,2,    13.00,    -999,9,    -999,9,    -999,9,-0.3405,2,-999,9,-999,9,-999,    -999,9,    -999,3.863,2,-999,9,-999,9,    -999,9,-999,9, 20080303,     1820, -66.6661,  33.4993,    -999,-999,9,     -999,9,     -999,9,     -999,9,     -999,9,     -999,9,     -999,9,-999,9,     -999,9,     -999,9,     -999,9,    -999,    -999
33RR20080204,       I06S,      85,          1,         20,         20,2,20080303,       1738,   -66.6663,    33.4993,       1169,   307.0,  -0.2117,  34.5514,2,  34.5483,2,    251.3,2,   251.5,2,   80.16,2,   31.32,2,    0.00,2,    2.17,2,   3.039,2,   1.653,2,   0.254,2,    -999,9,  2338.0,2,   7.7894,2,    13.00,    -999,9,    -999,9,    -999,9,-0.2141,2,-999,9,-999,9,-999,    -999,9,    -999,3.455,2,-999,9,-999,9,    -999,9,-999,9, 20080303,     1817, -66.6660,  33.4992,    -999,-999,9,     -999,9,     -999,9,     -999,9,     -999,9,     -999,9,     -999,9,-999,9,     -999,9,     -999,9,     -999,9,    -999,    -999
33RR20080204,       I06S,      85,          1,         18,         18,2,20080303,       1738,   -66.6663,    33.4993,       1169,   406.1,   0.0051,  34.5941,2,  34.5933,2,    241.4,2,   242.0,2,   85.01,2,   31.32,2,    0.00,2,    2.17,2,   2.515,2,   1.380,2,   0.224,2,    -999,9,  2342.1,2,   7.7900,2,    13.00,   0.028,2,   1.869,2,    5.41,2,0.0047,2,-999,9,-999,9,-999,   8.221,2,   0.031,2.944,2,-999,9,-999,9,    -999,9,-999,9, 20080303,     1812, -66.6660,  33.4991,   0.009,-999,9,     -999,9,     -999,9,     -999,9,     -999,9,     -999,9,     -999,9,-999,9,     -999,9,     -999,9,     -999,9,    0.15,   0.007
33RR20080204,       I06S,      85,          1,         16,         16,2,20080303,       1738,   -66.6663,    33.4993,       1169,   510.2,   0.1641,  34.6248,2,  34.6239,2,    237.6,2,   234.2,2,   90.47,2,   31.38,2,    0.00,2,    2.18,2,   2.041,2,   1.111,2,   0.176,2,    -999,9,  2345.4,2,   7.7901,2,    13.00,    -999,9,    -999,9,    -999,9,0.169,2,-999,9,-999,9,-999,    -999,9,    -999,2.558,2,-999,9,-999,9,    -999,9,-999,9, 20080303,     1807, -66.6664,  33.4997,    -999,-999,9,     -999,9,     -999,9,     -999,9,     -999,9,     -999,9,     -999,9,-999,9,     -999,9,     -999,9,     -999,9,    -999,    -999
33RR20080204,       I06S,      85,          1,         14,         14,2,20080303,       1738,   -66.6663,    33.4993,       1169,   607.6,   0.2490,  34.6415,2,  34.6405,2,    228.0,2,   229.5,2,   95.13,2,   31.48,2,    0.00,2,    2.18,2,   1.703,2,   0.937,2,   0.150,2,    -999,9,  2347.7,2,   7.7892,2,    13.00,   0.012,2,   1.866,2,    6.57,2,0.2494,2,-999,9,-999,9,-999,   8.191,2,   0.031,2.172,2,-999,9,-999,9,    -999,9,-999,9, 20080303,     1803, -66.6666,  33.4999,   0.009,-999,9,     -999,9,     -999,9,     -999,9,     -999,9,     -999,9,     -999,9,-999,9,     -999,9,     -999,9,     -999,9,    0.15,   0.007
33RR20080204,       I06S,      85,          1,         12,         12,2,20080303,       1738,   -66.6663,    33.4993,       1169,   709.5,   0.2528,  34.6486,2,  34.6486,2,    226.5,2,   226.8,2,   98.98,2,   31.63,2,    0.00,2,    2.20,2,   1.507,2,   0.812,2,   0.116,2,    -999,9,  2346.6,2,   7.7876,2,    13.00,    -999,9,    -999,9,    -999,9,0.2528,2,-999,9,-999,9,-999,    -999,9,    -999,1.931,2,-999,9,-999,9,    -999,9,-999,9, 20080303,     1758, -66.6667,  33.5002,    -999,-999,9,     -999,9,     -999,9,     -999,9,     -999,9,     -999,9,     -999,9,-999,9,     -999,9,     -999,9,     -999,9,    -999,    -999
33RR20080204,       I06S,      85,          1,         10,         10,2,20080303,       1738,   -66.6663,    33.4993,       1169,   813.2,   0.2349,  34.6546,2,  34.6539,2,    225.7,2,   225.8,2,  102.63,2,   31.79,2,    0.00,2,    2.21,2,   1.347,2,   0.735,2,   0.089,2,    -999,9,  2349.9,2,   7.7864,2,    13.00,    -999,9,   1.766,2,    7.36,2,0.2357,2,-999,9,-999,9,-999,   7.345,2,   0.028,1.866,2,-999,9,-999,9,    -999,9,-999,9, 20080303,     1754, -66.6667,  33.5000,    -999,-999,9,     -999,9,     -999,9,     -999,9,     -999,9,     -999,9,     -999,9,-999,9,     -999,9,     -999,9,     -999,9,    0.15,   0.007
33RR20080204,       I06S,      85,          1,          8,          8,2,20080303,       1738,   -66.6663,    33.4993,       1169,   908.3,   0.2125,  34.6580,2,  34.6582,2,    224.6,2,   224.3,2,  106.49,2,   31.94,2,    0.00,2,    2.23,2,   1.196,2,   0.647,2,   0.080,2,    -999,9,  2351.7,2,   7.7861,2,    13.00,    -999,9,    -999,9,    -999,9,0.2121,2,-999,9,-999,9,-999,    -999,9,    -999,1.668,2,-999,9,-999,9,    -999,9,-999,9, 20080303,     1750, -66.6664,  33.4998,    -999,-999,9,     -999,9,     -999,9,     -999,9,     -999,9,     -999,9,     -999,9,-999,9,     -999,9,     -999,9,     -999,9,    -999,    -999
33RR20080204,       I06S,      85,          1,          6,          6,2,20080303,       1738,   -66.6663,    33.4993,       1169,  1010.6,   0.1467,  34.6586,2,  34.6580,2,    225.7,2,   225.6,2,  108.92,2,   32.00,2,    0.00,2,    2.23,2,   1.165,2,   0.638,2,   0.074,2,    -999,9,  2353.4,2,   7.7854,2,    13.00,   0.012,6,   1.877,2,    7.14,2,0.1456,2,-999,9,-999,9,-999,   8.240,2,   0.031,1.725,2,-999,9,-999,9,    -999,9,-999,9, 20080303,     1746, -66.6662,  33.4995,   0.006,-999,9,     -999,9,     -999,9,     -999,9,     -999,9,     -999,9,     -999,9,-999,9,     -999,9,     -999,9,     -999,9,    0.15,   0.007
33RR20080204,       I06S,      85,          1,          4,          4,2,20080303,       1738,   -66.6663,    33.4993,       1169,  1115.5,   0.0848,  34.6581,2,  34.6578,2,    226.0,2,   226.1,2,  112.59,2,   32.15,2,    0.01,2,    2.23,2,   1.140,2,   0.607,2,   0.069,2,    -999,9,  2353.4,2,   7.7851,2,    13.00,    -999,9,    -999,9,    -999,9,0.0851,2,-999,9,-999,9,-999,    -999,9,    -999,1.682,2,-999,9,-999,9,    -999,9,-999,9, 20080303,     1741, -66.6661,  33.4993,    -999,-999,9,     -999,9,     -999,9,     -999,9,     -999,9,     -999,9,     -999,9,-999,9,     -999,9,     -999,9,     -999,9,    -999,    -999
33RR20080204,       I06S,      85,          1,          2,          2,2,20080303,       1738,   -66.6663,    33.4993,       1169,  1162.1,   0.0874,  34.6580,2,  34.6570,2,    225.9,2,   225.9,2,  112.58,2,   32.20,2,    0.01,2,    2.23,2,   1.155,2,   0.624,2,   0.079,2,  2255.0,6,  2352.8,2,   7.7841,2,    13.00,   0.008,2,   1.863,2,    6.66,2,0.088,2,-999,9,-999,9,-999,   8.150,2,   0.031,1.601,2,-999,9,-999,9,    -999,9,-999,9, 20080303,     1738, -66.6662,  33.4993,   0.009,-999,9,     -999,9,     -999,9,     -999,9,     -999,9,     -999,9,     -999,9,-999,9,     -999,9,     -999,9,     -999,9,    0.15,   0.007