BOTTLE,20220706CCHSIOAMB
EXPOCODE,SECT_ID,STNNBR,CASTNO,SAMPNO,BTLNBR,BTLNBR_FLAG_W,DATE,TIME,LATITUDE,LONGITUDE,DEPTH,CTDPRS,CTDTMP,CTDSAL,CTDSAL_FLAG_W,SALNTY,SALNTY_FLAG_W,CTDOXY,CTDOXY_FLAG_W,OXYGEN,OXYGEN_FLAG_W,SILCAT,SILCAT_FLAG_W,NITRAT,NITRAT_FLAG_W,NITRIT,NITRIT_FLAG_W,PHSPHT,PHSPHT_FLAG_W,CFC-11,CFC-11_FLAG_W,CFC-12,CFC-12_FLAG_W,CFC113,CFC113_FLAG_W,TCARBN,TCARBN_FLAG_W,ALKALI,ALKALI_FLAG_W,PH_SWS,PH_SWS_FLAG_W,PH_TMP,TRITUM,TRITUM_FLAG_W,HELIUM,HELIUM_FLAG_W,DELHE3,DELHE3_FLAG_W,REFTMP,REFTMP_FLAG_W,DELC13,DELC13_FLAG_W,DELC14,DELC14_FLAG_W,C14ERR,NEON,NEON_FLAG_W,NEONER,CCL4,CCL4_FLAG_W,ALUMIN,ALUMIN_FLAG_W,DELO18,DELO18_FLAG_W,DOC,DOC_FLAG_W,TDN,TDN_FLAG_W,BTL_DATE,BTL_TIME,BTL_LAT,BTL_LON,TRITER,DELSI30,DELSI30_FLAG_W,CDOM380,CDOM380_FLAG_W,CDOM325,CDOM325_FLAG_W,CDOMSL,CDOMSL_FLAG_W,CDOM340,CDOM340_FLAG_W,CDOM443,CDOM443_FLAG_W,CDOMSN,CDOMSN_FLAG_W,BLACKC,BLACKC_FLAG_W,CDOM490,CDOM490_FLAG_W,CDOM412,CDOM412_FLAG_W,CDOM555,CDOM555_FLAG_W,DELHER,HELIER
,,,,,,,,,,,METERS,DBAR,ITS-90,PSS-78,,PSS-78,,UMOL/KG,,UMOL/KG,,UMOL/KG,,UMOL/KG,,UMOL/KG,,UMOL/KG,,PMOL/KG,,PMOL/KG,,PMOL/KG,,UMOL/KG,,UMOL/KG,,,,DEG C,TU,,NMOL/KG,,PERCNT,,DEG C,,/MILLE,,/MILLE,,/MILLE,NMOL/KG,,NMOL/KG,PMOL/KG,,NMOL/L,,/MILLE,,UMOL/KG,,UMOL/KG,,,,,,TU,/MILLE,,1/M,,1/M,,1/NM,,1/M,,1/M,,1/NM,,,,1/M,,1/M,,1/M,,PERCNT,NMOL/KG
33RR20080204,       I06S,      58,          1,          7,          7,2,20080223,       2020,   -56.0088,    29.9968,       5460,  4183.3,  -0.0352,  34.6631,2,  34.6640,2,    231.2,2,   231.0,2,  129.63,2,   32.48,2,    0.00,2,    2.25,2,   0.399,2,   0.205,2,   0.018,2,    -999,9,  2355.9,2,     -999,9,     -999,    -999,9,    -999,9,    -999,9,-0.0346,2,-999,9,-999,9,-999,    -999,9,    -999,1.102,2,-999,9,-999,9,    -999,9,-999,9, 20080223,     2054, -56.0116,  29.9964,    -999,-999,9,     -999,9,     -999,9,     -999,9,     -999,9,     -999,9,     -999,9,-999,9,     -999,9,     -999,9,     -999,9,    -999,    -999
33RR20080204,       I06S,      58,          1,          6,          6,2,20080223,       2020,   -56.0088,    29.9968,       5460,  4492.9,  -0.0945,  34.6599,2,  34.6602,2,    234.7,2,   235.2,2,  130.21,2,   32.38,2,    0.00,2,    2.25,2,   0.430,2,   0.218,2,   0.024,2,    -999,9,    -999,9,     -999,9,     -999,    -999,9,    -999,9,    -999,9,-0.0942,2,-999,9,-999,9,-999,    -999,9,    -999,1.104,2,-999,9,-0.21,2,    -999,9,-999,9, 20080223,     2048, -56.0110,  29.9965,    -999,-999,9,     -999,9,     -999,9,     -999,9,     -999,9,     -999,9,     -999,9,-999,9,     -999,9,     -999,9,     -999,9,    -999,    -999
33RR20080204,       I06S,      58,          1,          5,          5,2,20080223,       2020,   -56.0088,    29.9968,       5460,  4695.6,  -0.1323,  34.6574,2,  34.6579,2,    237.4,2,   238.2,2,  130.59,2,   32.32,2,    0.00,2,    2.25,2,   0.460,2,   0.233,2,   0.025,2,    -999,9,  2354.6,2,   7.7966,2,    13.00,    -999,9,    -999,9,    -999,9,-0.1329,2,-999,9,-999,9,-999,    -999,9,    -999,1.124,2,-999,9,-999,1,    -999,9,-999,9, 20080223,     2043, -56.0107,  29.9966,    -999,-999,9,     -999,9,     -999,9,     -999,9,     -999,9,     -999,9,     -999,9,-999,9,     -999,9,     -999,9,     -999,9,    -999,    -999
33RR20080204,       I06S,      58,          1,          4,          4,2,20080223,       2020,   -56.0088,    29.9968,       5460,  4902.6,  -0.1521,  34.6559,2,  34.6565,2,    239.4,2,   239.0,2,  130.98,2,   32.32,2,    0.00,2,    2.25,2,   0.470,2,   0.241,2,   0.026,2,    -999,9,    -999,9,     -999,9,     -999,    -999,9,    -999,9,    -999,9,-0.1519,2,-999,9,-999,9,-999,    -999,9,    -999,1.044,2,-999,9,-999,9,    -999,9,-999,9, 20080223,     2038, -56.0103,  29.9967,    -999,-999,9,     -999,9,     -999,9,     -999,9,     -999,9,     -999,9,     -999,9,-999,9,     -999,9,     -999,9,     -999,9,    -999,    -999
33RR20080204,       I06S,      58,          1,          3,          3,2,20080223,       2020,   -56.0088,    29.9968,       5460,  5106.9,  -0.1504,  34.6550,2,  34.6555,2,    240.5,2,   239.3,2,  131.56,2,   32.31,2,    0.00,2,    2.26,2,   0.472,2,   0.250,2,   0.038,2,    -999,9,  2354.6,2,     -999,9,     -999,    -999,9,    -999,9,    -999,9,-0.1505,2,-999,9,-999,9,-999,    -999,9,    -999,1.027,2,-999,9,-999,9,    -999,9,-999,9, 20080223,     2033, -56.0098,  29.9966,    -999,-999,9,     -999,9,     -999,9,     -999,9,     -999,9,     -999,9,     -999,9,-999,9,     -999,9,     -999,9,     -999,9,    -999,    -999
33RR20080204,       I06S,      58,          1,          2,          2,2,20080223,       2020,   -56.0088,    29.9968,       5460,  5311.6,  -0.1434,  34.6541,2,  34.6551,2,    241.6,2,   240.7,2,  131.76,2,   32.35,2,    0.00,2,    2.25,2,   0.476,2,   0.244,2,   0.032,2,    -999,9,  2353.7,2,     -999,9,     -999,    -999,9,    -999,9,    -999,9,-0.1439,2,-999,9,-999,9,-999,    -999,9,    -999,0.907,2,-999,9,-999,9,    -999,9,-999,9, 20080223,     2027, -56.0095,  29.9967,    -999,-999,9,     -999,9,     -999,9,     -999,9,     -999,9,     -999,9,     -999,9,-999,9,     -999,9,     -999,9,     -999,9,    -999,    -999
33RR20080204,       I06S,      58,          1,          1,          1,2,20080223,       2020,   -56.0088,    29.9968,       5460,  5554.5,  -0.1695,  34.6520,2,  34.6533,2,    243.1,2,   243.4,2,  132.73,2,   32.25,2,    0.00,2,    2.26,2,   0.524,2,   0.275,2,   0.031,2,    -999,9,  2354.0,2,   7.7997,2,    13.00,    -999,9,    -999,9,    -999,9,-0.1691,2,-999,9,-999,9,-999,    -999,9,    -999,0.779,2,-999,9,-0.28,2,    -999,9,-999,9, 20080223,     2021, -56.0089,  29.9967,    -999,-999,9,     -999,9,     -999,9,     -999,9,     -999,9,     -999,9,     -999,9,-999,9,     -999,9,     -999,9,     -999,9,    -999,    -999