BOTTLE,20220706CCHSIOAMB
EXPOCODE,SECT_ID,STNNBR,CASTNO,SAMPNO,BTLNBR,BTLNBR_FLAG_W,DATE,TIME,LATITUDE,LONGITUDE,DEPTH,CTDPRS,CTDTMP,CTDSAL,CTDSAL_FLAG_W,SALNTY,SALNTY_FLAG_W,CTDOXY,CTDOXY_FLAG_W,OXYGEN,OXYGEN_FLAG_W,SILCAT,SILCAT_FLAG_W,NITRAT,NITRAT_FLAG_W,NITRIT,NITRIT_FLAG_W,PHSPHT,PHSPHT_FLAG_W,CFC-11,CFC-11_FLAG_W,CFC-12,CFC-12_FLAG_W,CFC113,CFC113_FLAG_W,TCARBN,TCARBN_FLAG_W,ALKALI,ALKALI_FLAG_W,PH_SWS,PH_SWS_FLAG_W,PH_TMP,TRITUM,TRITUM_FLAG_W,HELIUM,HELIUM_FLAG_W,DELHE3,DELHE3_FLAG_W,REFTMP,REFTMP_FLAG_W,DELC13,DELC13_FLAG_W,DELC14,DELC14_FLAG_W,C14ERR,NEON,NEON_FLAG_W,NEONER,CCL4,CCL4_FLAG_W,ALUMIN,ALUMIN_FLAG_W,DELO18,DELO18_FLAG_W,DOC,DOC_FLAG_W,TDN,TDN_FLAG_W,BTL_DATE,BTL_TIME,BTL_LAT,BTL_LON,TRITER,DELSI30,DELSI30_FLAG_W,CDOM380,CDOM380_FLAG_W,CDOM325,CDOM325_FLAG_W,CDOMSL,CDOMSL_FLAG_W,CDOM340,CDOM340_FLAG_W,CDOM443,CDOM443_FLAG_W,CDOMSN,CDOMSN_FLAG_W,BLACKC,BLACKC_FLAG_W,CDOM490,CDOM490_FLAG_W,CDOM412,CDOM412_FLAG_W,CDOM555,CDOM555_FLAG_W,DELHER,HELIER
,,,,,,,,,,,METERS,DBAR,ITS-90,PSS-78,,PSS-78,,UMOL/KG,,UMOL/KG,,UMOL/KG,,UMOL/KG,,UMOL/KG,,UMOL/KG,,PMOL/KG,,PMOL/KG,,PMOL/KG,,UMOL/KG,,UMOL/KG,,,,DEG C,TU,,NMOL/KG,,PERCNT,,DEG C,,/MILLE,,/MILLE,,/MILLE,NMOL/KG,,NMOL/KG,PMOL/KG,,NMOL/L,,/MILLE,,UMOL/KG,,UMOL/KG,,,,,,TU,/MILLE,,1/M,,1/M,,1/NM,,1/M,,1/M,,1/NM,,,,1/M,,1/M,,1/M,,PERCNT,NMOL/KG
33RR20080204,       I06S,      21,          3,         36,         36,2,20080211,       1334,   -37.4915,    30.0153,       4493,     5.3,  22.9562,  35.4648,2,  35.4657,2,    212.9,2,   212.6,2,    1.95,2,    0.14,2,    0.01,2,    0.12,2,   1.980,2,   1.196,2,   0.176,2,  2008.8,6,  2323.3,2,   8.1480,4,    20.00,    -999,9,    -999,9,    -999,9,22.9556,2,-999,9,-999,9,-999,    -999,9,    -999,3.149,2,-999,9,-999,9,   72.29,2,-999,1, 20080211,     1547, -37.4917,  30.0266,    -999,-999,9,   0.0492,2,   0.1479,2,   0.0189,2,   0.1115,2,   0.0154,2,   0.0194,2,-999,9,   0.0055,2,   0.0295,2,   0.0014,2,    -999,    -999
33RR20080204,       I06S,      21,          3,         35,         35,2,20080211,       1334,   -37.4915,    30.0153,       4493,    26.6,  22.9529,  35.4707,2,  35.4712,2,    214.0,2,   212.7,2,    1.94,2,    0.14,2,    0.01,2,    0.12,2,   1.986,2,   1.186,2,   0.173,2,  2009.1,2,  2325.5,2,   8.1480,4,    20.00,    -999,9,    -999,9,    -999,9,22.9532,2,-999,9,-999,9,-999,    -999,9,    -999,3.118,2,-999,9,-999,9,   65.07,2,-999,1, 20080211,     1545, -37.4920,  30.0259,    -999,-999,9,   0.0432,2,   0.1380,2,   0.0203,2,   0.1013,2,   0.0118,2,   0.0206,2,-999,9,   0.0033,2,   0.0247,2,   0.0001,4,    -999,    -999
33RR20080204,       I06S,      21,          3,         34,         34,2,20080211,       1334,   -37.4915,    30.0153,       4493,    52.1,  22.7894,  35.4764,2,  35.4773,2,    213.8,2,   213.5,2,    1.74,2,    0.09,2,    0.01,2,    0.13,2,   2.003,2,   1.192,2,   0.183,2,  2011.1,2,  2326.1,2,   8.1480,4,    20.00,    -999,9,    -999,9,    -999,9,22.7829,2,-999,9,-999,9,-999,    -999,9,    -999,3.017,2,-999,9,-999,9,   64.39,2,-999,1, 20080211,     1543, -37.4922,  30.0254,    -999,-999,9,   0.0488,2,   0.1514,2,   0.0197,2,   0.1139,2,   0.0144,2,   0.0201,2,-999,9,   0.0050,2,   0.0281,2,   0.0010,2,    -999,    -999
33RR20080204,       I06S,      21,          3,         33,         33,2,20080211,       1334,   -37.4915,    30.0153,       4493,    86.2,  20.1738,  35.5420,2,  35.5392,2,    204.1,2,   212.6,2,    2.52,2,    0.97,2,    0.17,2,    0.19,2,   2.269,2,   1.356,2,   0.202,2,  2038.5,2,    -999,5,   8.1060,4,    20.00,    -999,9,    -999,9,    -999,9,20.1704,2,-999,9,-999,9,-999,    -999,9,    -999,2.684,2,-999,9,-999,9,   59.41,2,-999,1, 20080211,     1541, -37.4924,  30.0248,    -999,-999,9,   0.0283,2,   0.0986,2,   0.0214,2,   0.0691,2,   0.0064,2,   0.0224,2,-999,9,   0.0008,3,   0.0154,2,  -0.0012,4,    -999,    -999
33RR20080204,       I06S,      21,          3,         32,         32,2,20080211,       1334,   -37.4915,    30.0153,       4493,   115.7,  19.4066,  35.5261,2,  35.5252,2,    215.6,2,   211.4,2,    2.90,2,    1.66,2,    0.03,2,    0.23,2,   2.322,2,   1.360,2,   0.177,2,  2047.0,2,  2329.7,2,   8.0830,2,    20.00,    -999,9,    -999,9,    -999,9,19.4162,2,-999,9,-999,9,-999,    -999,9,    -999,2.355,2,-999,9,-999,9,   58.34,2,-999,1, 20080211,     1538, -37.4927,  30.0240,    -999,-999,9,   0.0305,2,   0.1031,2,   0.0206,2,   0.0719,2,   0.0072,2,   0.0218,2,-999,9,   0.0012,2,   0.0173,2,  -0.0010,4,    -999,    -999
33RR20080204,       I06S,      21,          3,         31,         31,2,20080211,       1334,   -37.4915,    30.0153,       4493,   161.9,  18.5571,  35.5280,2,  35.5266,2,    212.9,2,   211.9,2,    3.08,2,    2.65,2,    0.02,2,    0.29,2,   2.394,2,   1.406,2,   0.187,2,  2052.5,2,  2329.5,2,   8.0700,2,    20.00,    -999,9,    -999,9,    -999,9,18.5474,2,-999,9,-999,9,-999,    -999,9,    -999,1.947,2,-999,9,-999,9,   59.22,2,-999,1, 20080211,     1535, -37.4926,  30.0232,    -999,-999,9,   0.0267,2,   0.0885,2,   0.0210,2,   0.0627,2,   0.0050,2,   0.0216,2,-999,9,  -0.0005,4,   0.0145,2,  -0.0020,4,    -999,    -999
33RR20080204,       I06S,      21,          3,         30,         30,2,20080211,       1334,   -37.4915,    30.0153,       4493,   244.3,  17.6495,  35.5405,2,  35.5403,2,    209.4,2,   208.8,2,    3.86,2,    4.10,2,    0.02,2,    0.38,2,   2.478,2,   1.447,2,   0.135,2,  2070.0,2,    -999,5,     -999,5,     -999,    -999,9,    -999,9,    -999,9,17.7133,3,-999,9,-999,9,-999,    -999,9,    -999,1.944,2,-999,9,-999,9,   57.17,2,-999,1, 20080211,     1531, -37.4915,  30.0217,    -999,-999,9,   0.0236,2,   0.0841,2,   0.0202,2,   0.0573,2,   0.0053,2,   0.0225,2,-999,9,  -0.0001,4,   0.0144,2,  -0.0018,4,    -999,    -999
33RR20080204,       I06S,      21,          3,         29,         29,2,20080211,       1334,   -37.4915,    30.0153,       4493,   271.8,  17.4158,  35.5408,2,  35.5395,2,    207.4,2,   205.8,2,    4.05,2,    4.60,2,    0.02,2,    0.41,2,   2.485,2,   1.470,2,   0.114,2,  2074.7,2,  2329.7,2,   8.0300,2,    20.00,    -999,9,    -999,9,    -999,9,17.4079,2,-999,9,-999,9,-999,    -999,9,    -999,1.813,2,-999,9,-999,9,   51.80,2,-999,1, 20080211,     1530, -37.4913,  30.0213,    -999,-999,9,   0.0232,2,   0.0843,2,   0.0209,2,   0.0578,2,   0.0050,2,   0.0229,2,-999,9,  -0.0002,4,   0.0138,2,  -0.0018,4,    -999,    -999
33RR20080204,       I06S,      21,          3,         28,         28,2,20080211,       1334,   -37.4915,    30.0153,       4493,   324.2,  16.8442,  35.5270,2,  35.5259,2,    197.8,2,   206.0,2,    3.85,2,    4.10,2,    0.02,2,    0.38,2,   2.542,2,   1.509,2,   0.113,2,  2082.5,2,  2327.6,2,   8.0180,2,    20.00,    -999,9,    -999,9,    -999,9,16.8374,2,-999,9,-999,9,-999,    -999,9,    -999,1.667,2,-999,9,-999,9,   51.80,2,-999,1, 20080211,     1527, -37.4912,  30.0204,    -999,-999,9,   0.0221,2,   0.0816,2,   0.0219,2,   0.0554,2,   0.0040,3,   0.0236,2,-999,9,  -0.0008,4,   0.0122,2,  -0.0021,4,    -999,    -999
33RR20080204,       I06S,      21,          3,         27,         27,2,20080211,       1334,   -37.4915,    30.0153,       4493,   377.2,  15.8963,  35.4703,2,  35.4697,2,    199.8,2,   192.0,2,    5.80,2,    7.78,2,    0.01,2,    0.61,2,   2.622,2,   1.522,2,   0.051,2,  2104.0,2,  2327.0,2,   7.9750,2,    20.00,    -999,9,    -999,9,    -999,9,15.8892,2,-999,9,-999,9,-999,    -999,9,    -999,1.506,2,-999,9,-999,9,    -999,9,-999,9, 20080211,     1525, -37.4911,  30.0196,    -999,-999,9,     -999,9,     -999,9,     -999,9,     -999,9,     -999,9,     -999,9,-999,9,     -999,9,     -999,9,     -999,9,    -999,    -999
33RR20080204,       I06S,      21,          3,         26,         26,2,20080211,       1334,   -37.4915,    30.0153,       4493,   427.2,  15.2847,  35.4584,2,  35.4582,2,    200.0,2,   199.9,2,    5.02,2,    7.63,2,    0.01,2,    0.61,2,   2.717,2,   1.588,2,   0.069,2,  2106.1,2,  2326.4,2,     -999,5,     -999,    -999,9,    -999,9,    -999,9,15.2898,2,-999,9,-999,9,-999,    -999,9,    -999,1.529,2,-999,9,-999,9,   52.98,2,-999,1, 20080211,     1523, -37.4912,  30.0194,    -999,-999,9,   0.0206,2,   0.0772,2,   0.0229,2,   0.0519,2,   0.0029,3,   0.0241,2,-999,9,  -0.0015,4,   0.0105,2,  -0.0025,4,    -999,    -999
33RR20080204,       I06S,      21,          3,         25,         25,2,20080211,       1334,   -37.4915,    30.0153,       4493,   477.3,  14.5925,  35.4167,2,  35.4184,2,    210.5,2,   210.4,2,    4.42,2,    7.78,2,    0.01,2,    0.61,2,   2.853,2,   1.668,2,   0.083,2,  2106.1,2,  2324.2,2,   7.9710,4,    20.00,    -999,9,    -999,9,    -999,9,14.5927,2,-999,9,-999,9,-999,    -999,9,    -999,1.623,2,-999,9,-999,9,    -999,9,-999,9, 20080211,     1520, -37.4913,  30.0189,    -999,-999,9,     -999,9,     -999,9,     -999,9,     -999,9,     -999,9,     -999,9,-999,9,     -999,9,     -999,9,     -999,9,    -999,    -999
33RR20080204,       I06S,      21,          3,         24,         24,2,20080211,       1334,   -37.4915,    30.0153,       4493,   531.1,  13.9928,  35.3543,2,  35.3551,2,    212.0,2,   211.5,2,    4.80,2,    8.77,2,    0.00,2,    0.68,2,   3.080,2,   1.703,2,   0.063,2,  2110.1,2,  2322.3,2,   7.9530,2,    20.00,    -999,9,    -999,9,    -999,9,13.9923,2,-999,9,-999,9,-999,    -999,9,    -999,2.162,2,-999,9,-999,9,   48.10,2,-999,1, 20080211,     1517, -37.4913,  30.0186,    -999,-999,9,   0.0179,2,   0.0696,2,   0.0242,2,   0.0456,2,   0.0019,3,   0.0254,2,-999,9,  -0.0020,4,   0.0084,2,  -0.0028,4,    -999,    -999
33RR20080204,       I06S,      21,          3,         23,         23,2,20080211,       1334,   -37.4915,    30.0153,       4493,   648.5,  12.6716,  35.1797,2,  35.1830,2,    216.1,2,   215.1,2,    5.19,2,   11.02,2,    0.00,2,    0.83,2,   3.227,2,   1.734,2,   0.095,2,  2116.7,2,  2314.3,2,   7.9250,2,    20.00,    -999,9,    -999,9,    -999,9,12.6731,2,-999,9,-999,9,-999,    -999,9,    -999,2.231,2,-999,9,-999,9,   36.49,2,-999,1, 20080211,     1513, -37.4914,  30.0184,    -999,-999,9,   0.0160,2,   0.0681,2,   0.0258,2,   0.0433,2,   0.0016,3,   0.0273,2,-999,1,  -0.0021,4,   0.0076,2,  -0.0030,4,    -999,    -999
33RR20080204,       I06S,      21,          3,         22,         22,2,20080211,       1334,   -37.4915,    30.0153,       4493,   747.5,  11.5915,  35.0265,2,  35.0271,2,    216.7,2,   215.9,2,    5.77,2,   13.22,2,    0.00,2,    0.97,2,   3.293,2,   1.708,2,   0.127,2,  2123.5,2,  2307.7,2,   7.9010,2,    20.00,    -999,9,    -999,9,    -999,9,11.5839,2,-999,9,-999,9,-999,    -999,9,    -999,2.557,2,-999,9,-999,9,   36.88,2,-999,1, 20080211,     1511, -37.4914,  30.0184,    -999,-999,9,   0.0160,2,   0.0684,2,   0.0259,2,   0.0433,2,   0.0014,3,   0.0273,2,-999,9,  -0.0023,4,   0.0072,2,  -0.0030,4,    -999,    -999
33RR20080204,       I06S,      21,          3,         21,         21,2,20080211,       1334,   -37.4915,    30.0153,       4493,   851.3,  10.2074,  34.8222,2,  34.8256,2,    214.3,2,   218.4,2,    7.73,2,   16.13,2,    0.00,2,    1.15,2,   3.224,2,   1.692,2,   0.152,2,  2131.4,2,  2300.4,2,   7.8680,2,    20.00,    -999,9,    -999,9,    -999,9,10.2155,2,-999,9,-999,9,-999,    -999,9,    -999,2.562,2,-999,9,-999,9,    -999,9,-999,9, 20080211,     1508, -37.4914,  30.0185,    -999,-999,9,     -999,9,     -999,9,     -999,9,     -999,9,     -999,9,     -999,9,-999,9,     -999,9,     -999,9,     -999,9,    -999,    -999
33RR20080204,       I06S,      21,          3,         20,         20,2,20080211,       1334,   -37.4915,    30.0153,       4493,   950.6,   9.1160,  34.7044,2,  34.7041,2,    206.4,2,   206.6,2,   11.28,2,   19.79,2,    0.00,2,    1.39,2,   2.835,2,   1.468,2,   0.100,2,  2144.8,2,  2295.8,2,   7.8260,2,    20.00,    -999,9,    -999,9,    -999,9,9.1176,2,-999,9,-999,9,-999,    -999,9,    -999,1.832,2,-999,9,-999,9,   41.37,2,-999,1, 20080211,     1505, -37.4914,  30.0184,    -999,-999,9,   0.0147,2,   0.0709,2,   0.0278,2,   0.0434,2,   0.0015,3,   0.0296,2,-999,9,  -0.0023,4,   0.0071,2,  -0.0031,4,    -999,    -999
33RR20080204,       I06S,      21,          3,         19,         19,2,20080211,       1334,   -37.4915,    30.0153,       4493,  1050.7,   7.7130,  34.5838,2,  34.5852,2,    194.1,2,   193.1,2,   19.39,2,   24.38,2,    0.00,2,    1.69,2,  -0.015,4,  -0.008,4,  -0.008,4,  2168.1,2,  2296.5,2,   7.7710,2,    20.00,    -999,9,    -999,9,    -999,9,7.7049,2,-999,9,-999,9,-999,    -999,9,    -999,-0.079,4,-999,9,-999,9,    -999,9,-999,1, 20080211,     1503, -37.4914,  30.0184,    -999,-999,1,   0.0247,3,   0.0859,3,   0.0216,3,   0.0554,3,   0.0061,3,   0.0231,3,-999,9,   0.0003,4,   0.0124,3,  -0.0022,4,    -999,    -999
33RR20080204,       I06S,      21,          3,         18,         18,2,20080211,       1334,   -37.4915,    30.0153,       4493,  1153.7,   6.2003,  34.4789,2,  34.4793,2,    192.0,2,   191.5,2,   27.75,2,   28.02,2,    0.00,2,    1.94,2,   2.168,2,   1.112,2,   0.153,2,  2185.4,2,  2300.7,2,   7.7290,2,    20.00,    -999,9,    -999,9,    -999,9,6.205,2,-999,9,-999,9,-999,    -999,9,    -999,3.118,2,-999,9,-999,9,    -999,9,-999,9, 20080211,     1500, -37.4914,  30.0186,    -999,-999,9,     -999,9,     -999,9,     -999,9,     -999,9,     -999,9,     -999,9,-999,9,     -999,9,     -999,9,     -999,9,    -999,    -999
33RR20080204,       I06S,      21,          3,         17,         17,2,20080211,       1334,   -37.4915,    30.0153,       4493,  1254.2,   4.9750,  34.3890,2,  34.3939,2,    204.5,2,   202.0,2,   31.54,2,   29.70,2,    0.00,2,    2.05,2,   2.305,2,   1.181,2,   0.151,2,  2192.2,2,  2300.1,2,   7.7120,2,    20.00,    -999,9,    -999,9,    -999,9,4.9767,2,-999,9,-999,9,-999,    -999,9,    -999,3.385,2,-999,9,-999,9,   40.88,2,-999,1, 20080211,     1458, -37.4913,  30.0187,    -999,-999,9,   0.0278,3,   0.0943,3,   0.0188,3,   0.0611,3,   0.0089,3,   0.0216,3,-999,1,   0.0013,3,   0.0168,3,  -0.0017,4,    -999,    -999
33RR20080204,       I06S,      21,          3,         16,         16,2,20080211,       1334,   -37.4915,    30.0153,       4493,  1357.0,   4.5633,  34.4265,2,  34.4217,2,    181.2,2,   191.1,2,   40.15,2,   31.27,2,    0.00,2,    2.18,2,   1.745,2,   0.887,2,   0.094,2,  2207.4,2,  2308.3,2,   7.6920,2,    20.00,    -999,9,    -999,9,    -999,9,4.5523,3,-999,9,-999,9,-999,    -999,9,    -999,2.748,2,-999,9,-999,9,    -999,9,-999,9, 20080211,     1455, -37.4914,  30.0188,    -999,-999,9,     -999,9,     -999,9,     -999,9,     -999,9,     -999,9,     -999,9,-999,9,     -999,9,     -999,9,     -999,9,    -999,    -999
33RR20080204,       I06S,      21,          3,         15,         15,2,20080211,       1334,   -37.4915,    30.0153,       4493,  1456.7,   4.0000,  34.4630,2,  34.4541,2,    178.8,2,   180.4,2,   50.00,2,   32.76,2,    0.00,2,    2.27,2,   1.245,2,   0.626,2,   0.065,2,  2223.0,2,  2315.4,2,   7.6700,2,    20.00,    -999,9,    -999,9,    -999,9,4.0015,2,-999,9,-999,9,-999,    -999,9,    -999,2.214,2,-999,9,-999,9,   38.73,2,-999,1, 20080211,     1452, -37.4915,  30.0186,    -999,-999,1,   0.0307,3,   0.1022,2,   0.0188,3,   0.0664,2,   0.0093,2,   0.0213,3,-999,9,   0.0009,2,   0.0184,2,  -0.0019,4,    -999,    -999
33RR20080204,       I06S,      21,          3,         14,         14,2,20080211,       1334,   -37.4915,    30.0153,       4493,  1556.8,   3.7274,  34.5209,2,  34.5216,2,    171.0,2,   169.0,2,   59.27,2,   33.47,2,    0.00,2,    2.33,2,   0.693,2,   0.345,2,   0.047,2,  2235.1,2,  2325.8,2,   7.6570,2,    20.00,    -999,9,    -999,9,    -999,9,3.728,2,-999,9,-999,9,-999,    -999,9,    -999,1.619,2,-999,9,-999,9,    -999,9,-999,9, 20080211,     1445, -37.4915,  30.0180,    -999,-999,9,     -999,9,     -999,9,     -999,9,     -999,9,     -999,9,     -999,9,-999,9,     -999,9,     -999,9,     -999,9,    -999,    -999
33RR20080204,       I06S,      21,          3,         13,         13,2,20080211,       1334,   -37.4915,    30.0153,       4493,  1659.8,   3.4366,  34.5633,2,  34.5656,2,    169.9,2,   166.3,2,   65.13,2,   33.62,2,    0.00,2,    2.34,2,   0.439,2,   0.230,2,   0.060,2,  2243.5,2,  2333.7,2,   7.6540,2,    20.00,    -999,9,    -999,9,    -999,9,3.4363,2,-999,9,-999,9,-999,    -999,9,    -999,1.354,2,-999,9,-999,9,   41.37,2,-999,1, 20080211,     1442, -37.4915,  30.0179,    -999,-999,9,   0.0315,2,   0.1105,2,   0.0204,2,   0.0723,2,   0.0084,2,   0.0225,2,-999,9,   0.0002,4,   0.0177,2,  -0.0022,4,    -999,    -999
33RR20080204,       I06S,      21,          3,         12,         12,2,20080211,       1334,   -37.4915,    30.0153,       4493,  1760.9,   3.1931,  34.6053,2,  34.6043,2,    168.9,2,   167.6,2,   68.36,2,   33.26,2,    0.00,2,    2.31,2,   0.284,2,   0.156,2,   0.008,2,  2246.7,2,  2336.7,2,   7.6570,2,    20.00,    -999,9,    -999,9,    -999,9,3.1943,2,-999,9,-999,9,-999,    -999,9,    -999,0.824,2,-999,9,-999,9,   40.49,2,-999,1, 20080211,     1439, -37.4913,  30.0179,    -999,-999,9,   0.0293,2,   0.1082,2,   0.0214,2,   0.0698,2,   0.0072,2,   0.0236,2,-999,1,  -0.0001,4,   0.0159,2,  -0.0022,4,    -999,    -999
33RR20080204,       I06S,      21,          3,         11,         11,2,20080211,       1334,   -37.4915,    30.0153,       4493,  1864.3,   3.0287,  34.6546,2,  34.6549,2,    169.7,2,   170.7,2,   70.79,2,   32.55,2,    0.00,2,    2.26,2,  -0.015,4,  -0.010,4,  -0.010,4,  2247.4,2,  2342.6,2,   7.6690,4,    20.00,    -999,9,    -999,9,    -999,9,3.0283,2,-999,9,-999,9,-999,    -999,9,    -999,-0.098,4,-999,9,-999,9,    -999,9,-999,1, 20080211,     1436, -37.4915,  30.0176,    -999,-999,9,   0.0319,2,   0.1130,2,   0.0197,2,   0.0731,2,   0.0092,2,   0.0224,2,-999,9,   0.0006,2,   0.0187,2,  -0.0017,4,    -999,    -999
33RR20080204,       I06S,      21,          3,         10,         10,2,20080211,       1334,   -37.4915,    30.0153,       4493,  2071.0,   2.8054,  34.7162,2,  34.7162,2,    184.4,2,   183.5,2,   67.94,2,   30.76,2,    0.00,2,    2.12,2,   0.076,2,   0.048,2,  -0.011,2,  2239.4,2,  2341.6,2,   7.6910,3,    20.00,    -999,9,    -999,9,    -999,9,2.8056,2,-999,9,-999,9,-999,    -999,9,    -999,0.431,2,-999,9,-999,9,    -999,9,-999,1, 20080211,     1432, -37.4914,  30.0170,    -999,-999,1,   0.0336,2,   0.1150,2,   0.0197,2,   0.0753,2,   0.0097,2,   0.0220,2,-999,9,   0.0010,2,   0.0193,2,  -0.0015,4,    -999,    -999
33RR20080204,       I06S,      21,          3,          9,          9,2,20080211,       1334,   -37.4915,    30.0153,       4493,  2385.1,   2.6700,  34.7762,2,  34.7775,2,    198.8,2,   198.2,2,   64.68,2,   28.62,2,    0.00,2,    1.96,2,   0.030,6,   0.020,6,  -0.013,6,  2227.2,2,  2339.3,2,   7.7170,2,    20.00,    -999,9,    -999,9,    -999,9,2.6695,2,-999,9,-999,9,-999,    -999,9,    -999,0.299,6,-999,9,-999,9,    -999,9,-999,9, 20080211,     1425, -37.4915,  30.0164,    -999,-999,9,     -999,9,     -999,9,     -999,9,     -999,9,     -999,9,     -999,9,-999,9,     -999,9,     -999,9,     -999,9,    -999,    -999
33RR20080204,       I06S,      21,          3,          8,          8,2,20080211,       1334,   -37.4915,    30.0153,       4493,  2687.3,   2.5038,  34.8113,2,  34.8109,2,    210.4,2,   211.4,2,   62.25,2,   27.06,2,    0.00,2,    1.85,2,   0.016,2,   0.015,2,  -0.009,2,  2220.0,2,  2340.6,2,   7.7420,2,    20.00,    -999,9,    -999,9,    -999,9,2.5044,2,-999,9,-999,9,-999,    -999,9,    -999,0.28,2,-999,9,-999,9,    -999,9,-999,1, 20080211,     1418, -37.4915,  30.0160,    -999,-999,1,   0.0269,2,   0.1061,2,   0.0222,2,   0.0677,2,   0.0064,2,   0.0249,2,-999,9,  -0.0004,4,   0.0146,2,  -0.0021,4,    -999,    -999