BOTTLE,20220706CCHSIOAMB
EXPOCODE,SECT_ID,STNNBR,CASTNO,SAMPNO,BTLNBR,BTLNBR_FLAG_W,DATE,TIME,LATITUDE,LONGITUDE,DEPTH,CTDPRS,CTDTMP,CTDSAL,CTDSAL_FLAG_W,SALNTY,SALNTY_FLAG_W,CTDOXY,CTDOXY_FLAG_W,OXYGEN,OXYGEN_FLAG_W,SILCAT,SILCAT_FLAG_W,NITRAT,NITRAT_FLAG_W,NITRIT,NITRIT_FLAG_W,PHSPHT,PHSPHT_FLAG_W,CFC-11,CFC-11_FLAG_W,CFC-12,CFC-12_FLAG_W,CFC113,CFC113_FLAG_W,TCARBN,TCARBN_FLAG_W,ALKALI,ALKALI_FLAG_W,PH_SWS,PH_SWS_FLAG_W,PH_TMP,TRITUM,TRITUM_FLAG_W,HELIUM,HELIUM_FLAG_W,DELHE3,DELHE3_FLAG_W,REFTMP,REFTMP_FLAG_W,DELC13,DELC13_FLAG_W,DELC14,DELC14_FLAG_W,C14ERR,NEON,NEON_FLAG_W,NEONER,CCL4,CCL4_FLAG_W,ALUMIN,ALUMIN_FLAG_W,DELO18,DELO18_FLAG_W,DOC,DOC_FLAG_W,TDN,TDN_FLAG_W,BTL_DATE,BTL_TIME,BTL_LAT,BTL_LON,TRITER,DELSI30,DELSI30_FLAG_W,CDOM380,CDOM380_FLAG_W,CDOM325,CDOM325_FLAG_W,CDOMSL,CDOMSL_FLAG_W,CDOM340,CDOM340_FLAG_W,CDOM443,CDOM443_FLAG_W,CDOMSN,CDOMSN_FLAG_W,BLACKC,BLACKC_FLAG_W,CDOM490,CDOM490_FLAG_W,CDOM412,CDOM412_FLAG_W,CDOM555,CDOM555_FLAG_W,DELHER,HELIER
,,,,,,,,,,,METERS,DBAR,ITS-90,PSS-78,,PSS-78,,UMOL/KG,,UMOL/KG,,UMOL/KG,,UMOL/KG,,UMOL/KG,,UMOL/KG,,PMOL/KG,,PMOL/KG,,PMOL/KG,,UMOL/KG,,UMOL/KG,,,,DEG C,TU,,NMOL/KG,,PERCNT,,DEG C,,/MILLE,,/MILLE,,/MILLE,NMOL/KG,,NMOL/KG,PMOL/KG,,NMOL/L,,/MILLE,,UMOL/KG,,UMOL/KG,,,,,,TU,/MILLE,,1/M,,1/M,,1/NM,,1/M,,1/M,,1/NM,,,,1/M,,1/M,,1/M,,PERCNT,NMOL/KG
33RR20080204,       I06S,      56,          1,         36,         36,2,20080223,       0606,   -55.0095,    29.9983,       5525,     6.2,   2.0823,  33.8928,2,  33.8937,2,    332.6,2,   331.8,2,   24.24,2,   24.60,2,    0.26,2,    1.61,2,   5.773,2,   3.139,2,   0.463,2,  2152.3,6,  2293.2,2,     -999,9,     -999,   0.104,2,   1.819,2,   -1.68,2,2.0815,2,-999,9,-999,9,-999,   8.026,2,   0.030,7.311,2,-999,9,-0.3,2,    -999,9,-999,9, 20080223,     0814, -55.0195,  29.9960,   0.009,-999,9,     -999,9,     -999,9,     -999,9,     -999,9,     -999,9,     -999,9,-999,9,     -999,9,     -999,9,     -999,9,    0.15,   0.007
33RR20080204,       I06S,      56,          1,         35,         35,2,20080223,       0606,   -55.0095,    29.9983,       5525,    18.3,   2.0808,  33.8933,2,  33.8937,2,    332.7,2,   330.8,2,   24.42,2,   24.61,2,    0.26,2,    1.61,2,   5.820,2,   3.149,2,   0.440,2,    -999,9,  2294.2,2,     -999,9,     -999,    -999,9,    -999,9,    -999,9,2.0802,2,-999,9,-999,9,-999,    -999,9,    -999,6.956,2,-999,9,-0.33,2,    -999,9,-999,9, 20080223,     0814, -55.0193,  29.9961,    -999,-999,9,     -999,9,     -999,9,     -999,9,     -999,9,     -999,9,     -999,9,-999,9,     -999,9,     -999,9,     -999,9,    -999,    -999
33RR20080204,       I06S,      56,          1,         34,         34,2,20080223,       0606,   -55.0095,    29.9983,       5525,    36.6,   2.0800,  33.8931,2,  33.8941,2,    331.5,2,   330.3,2,   24.41,2,   24.61,2,    0.26,2,    1.61,2,   5.821,2,   3.143,2,   0.462,2,    -999,9,  2293.4,2,     -999,9,     -999,    -999,9,    -999,9,    -999,9,2.0794,2,-999,9,-999,9,-999,    -999,9,    -999,7.378,2,-999,9,-0.38,2,    -999,9,-999,9, 20080223,     0812, -55.0193,  29.9962,    -999,-999,9,     -999,9,     -999,9,     -999,9,     -999,9,     -999,9,     -999,9,-999,9,     -999,9,     -999,9,     -999,9,    -999,    -999
33RR20080204,       I06S,      56,          1,         33,         33,2,20080223,       0606,   -55.0095,    29.9983,       5525,    66.2,   2.0723,  33.8943,2,  33.8953,2,    332.0,2,   330.7,2,   24.60,2,   24.61,2,    0.26,2,    1.61,2,   5.799,2,   3.144,2,   0.447,2,    -999,9,  2294.8,2,     -999,9,     -999,    -999,9,    -999,9,    -999,9,2.0712,2,-999,9,-999,9,-999,    -999,9,    -999,6.981,2,-999,9,-0.25,2,    -999,9,-999,9, 20080223,     0811, -55.0191,  29.9963,    -999,-999,9,     -999,9,     -999,9,     -999,9,     -999,9,     -999,9,     -999,9,-999,9,     -999,9,     -999,9,     -999,9,    -999,    -999
33RR20080204,       I06S,      56,          1,         32,         32,2,20080223,       0606,   -55.0095,    29.9983,       5525,    96.2,   2.0017,  33.8996,2,  33.8951,2,    326.7,2,   329.9,2,   26.45,2,   24.80,2,    0.26,2,    1.64,2,   5.789,2,   3.139,2,   0.454,2,    -999,9,  2294.6,2,     -999,9,     -999,   0.117,2,   1.792,2,   -1.74,2,2.0042,2,-999,9,-999,9,-999,   7.964,2,   0.030,7.311,2,-999,9,-0.33,2,    -999,9,-999,9, 20080223,     0810, -55.0190,  29.9963,   0.009,-999,9,     -999,9,     -999,9,     -999,9,     -999,9,     -999,9,     -999,9,-999,9,     -999,9,     -999,9,     -999,9,    0.15,   0.007
33RR20080204,       I06S,      56,          1,         31,         31,2,20080223,       0606,   -55.0095,    29.9983,       5525,   146.8,   0.5153,  34.0467,2,  34.0467,2,    319.3,2,   316.4,2,   52.86,2,   28.84,2,    0.20,2,    2.03,2,   5.718,2,   3.066,2,   0.446,2,    -999,9,  2301.5,2,     -999,9,     -999,    -999,9,    -999,9,    -999,9,0.5208,2,-999,9,-999,9,-999,    -999,9,    -999,7.086,2,-999,9,-0.2,2,    -999,9,-999,9, 20080223,     0808, -55.0189,  29.9965,    -999,-999,9,     -999,9,     -999,9,     -999,9,     -999,9,     -999,9,     -999,9,-999,9,     -999,9,     -999,9,     -999,9,    -999,    -999
33RR20080204,       I06S,      56,          1,         30,         30,2,20080223,       0606,   -55.0095,    29.9983,       5525,   194.5,   0.1515,  34.1529,2,  34.1530,2,    298.0,2,   297.7,2,   61.33,2,   30.75,2,    0.11,2,    2.15,2,   5.126,2,   2.790,2,   0.409,2,    -999,9,    -999,9,     -999,9,     -999,   0.073,2,   1.835,2,    0.36,2,0.1504,2,-999,9,-999,9,-999,   8.156,2,   0.031,6.624,2,-999,9,-0.25,2,    -999,9,-999,9, 20080223,     0806, -55.0187,  29.9965,   0.009,-999,1,     -999,9,     -999,9,     -999,9,     -999,9,     -999,9,     -999,9,-999,9,     -999,9,     -999,9,     -999,9,    0.15,   0.007
33RR20080204,       I06S,      56,          1,         29,         29,2,20080223,       0606,   -55.0095,    29.9983,       5525,   228.8,   0.3741,  34.2363,2,  34.2348,2,    274.4,2,   272.0,2,   66.05,2,   31.99,2,    0.04,2,    2.23,2,   4.317,2,   2.338,2,   0.334,2,    -999,9,  2314.7,2,     -999,9,     -999,    -999,9,    -999,9,    -999,9,0.3636,2,-999,9,-999,9,-999,    -999,9,    -999,5.53,2,-999,9,-999,9,    -999,9,-999,9, 20080223,     0805, -55.0187,  29.9965,    -999,-999,9,     -999,9,     -999,9,     -999,9,     -999,9,     -999,9,     -999,9,-999,9,     -999,9,     -999,9,     -999,9,    -999,    -999
33RR20080204,       I06S,      56,          1,         28,         28,2,20080223,       0606,   -55.0095,    29.9983,       5525,   282.7,   1.0175,  34.3861,2,  34.3831,2,    229.2,2,   227.6,2,   73.23,2,   33.57,2,    0.01,2,    2.34,2,   2.865,2,   1.538,2,   0.236,2,    -999,9,    -999,9,     -999,9,     -999,   0.035,2,   1.842,2,    4.96,2,1.0146,2,-999,9,-999,9,-999,   8.095,2,   0.031,4.03,2,-999,9,-0.15,2,    -999,9,-999,9, 20080223,     0802, -55.0186,  29.9965,   0.009,-999,9,     -999,9,     -999,9,     -999,9,     -999,9,     -999,9,     -999,9,-999,9,     -999,9,     -999,9,     -999,9,    0.15,   0.007
33RR20080204,       I06S,      56,          1,         27,         27,2,20080223,       0606,   -55.0095,    29.9983,       5525,   336.9,   1.4481,  34.4885,2,  34.4856,2,    198.4,2,   199.4,2,   77.98,2,   34.25,2,    0.01,2,    2.39,2,   1.943,2,   1.008,2,   0.157,2,    -999,9,  2330.1,2,     -999,9,     -999,    -999,9,    -999,9,    -999,9,1.4392,2,-999,9,-999,9,-999,    -999,9,    -999,3.006,2,-999,9,-999,9,    -999,9,-999,9, 20080223,     0800, -55.0185,  29.9966,    -999,-999,9,     -999,9,     -999,9,     -999,9,     -999,9,     -999,9,     -999,9,-999,9,     -999,9,     -999,9,     -999,9,    -999,    -999
33RR20080204,       I06S,      56,          1,         26,         26,2,20080223,       0606,   -55.0095,    29.9983,       5525,   387.2,   1.6686,  34.5441,2,  34.5428,2,    188.9,2,   186.8,2,   80.44,2,   34.31,2,    0.01,2,    2.39,2,   1.366,2,   0.729,2,   0.107,2,    -999,9,    -999,9,     -999,9,     -999,   0.007,2,   1.837,2,    7.77,2,1.6623,2,-999,9,-999,9,-999,   7.992,2,   0.030,2.194,2,-999,9,-0.05,2,    -999,9,-999,9, 20080223,     0759, -55.0183,  29.9967,   0.009,-999,9,     -999,9,     -999,9,     -999,9,     -999,9,     -999,9,     -999,9,-999,9,     -999,9,     -999,9,     -999,9,    0.15,   0.007
33RR20080204,       I06S,      56,          1,         25,         25,2,20080223,       0606,   -55.0095,    29.9983,       5525,   435.1,   1.8531,  34.5943,2,  34.5966,2,    183.2,2,   180.2,2,   82.14,2,   33.93,2,    0.00,2,    2.36,2,   0.953,2,   0.503,2,   0.086,2,    -999,9,  2341.5,2,     -999,9,     -999,    -999,9,    -999,9,    -999,9,1.852,2,-999,9,-999,9,-999,    -999,9,    -999,1.7,2,-999,9,-999,9,    -999,9,-999,9, 20080223,     0757, -55.0182,  29.9968,    -999,-999,1,     -999,9,     -999,9,     -999,9,     -999,9,     -999,9,     -999,9,-999,9,     -999,9,     -999,9,     -999,9,    -999,    -999
33RR20080204,       I06S,      56,          1,         24,         24,2,20080223,       0606,   -55.0095,    29.9983,       5525,   486.3,   1.8603,  34.6226,2,  34.6255,2,    182.0,2,   179.7,2,   83.85,2,   33.50,2,    0.00,2,    2.33,2,   0.768,2,   0.411,2,   0.052,2,    -999,9,    -999,9,     -999,9,     -999,   0.007,2,   1.853,2,    9.31,2,1.8579,2,-999,9,-999,9,-999,   8.070,2,   0.031,1.526,2,-999,9,-999,9,    -999,9,-999,9, 20080223,     0755, -55.0180,  29.9969,   0.009,-999,9,     -999,9,     -999,9,     -999,9,     -999,9,     -999,9,     -999,9,-999,9,     -999,9,     -999,9,     -999,9,    0.15,   0.007
33RR20080204,       I06S,      56,          1,         23,         23,2,20080223,       0606,   -55.0095,    29.9983,       5525,   565.0,   1.8989,  34.6508,2,  34.6520,2,    182.3,2,   180.2,2,   84.23,2,   33.11,2,    0.00,2,    2.29,2,   0.606,2,   0.328,2,   0.049,2,    -999,9,  2344.4,2,     -999,9,     -999,  -0.002,2,   1.853,2,    9.61,2,1.8982,2,-999,9,-999,9,-999,   8.056,2,   0.031,1.203,2,-999,9,-999,9,    -999,9,-999,9, 20080223,     0753, -55.0178,  29.9970,   0.009,-999,1,     -999,9,     -999,9,     -999,9,     -999,9,     -999,9,     -999,9,-999,9,     -999,9,     -999,9,     -999,9,    0.15,   0.007
33RR20080204,       I06S,      56,          1,         22,         22,2,20080223,       0606,   -55.0095,    29.9983,       5525,   668.1,   1.8797,  34.6811,2,  34.6825,2,    184.4,2,   183.4,2,   85.74,2,   32.38,2,    0.00,2,    2.25,2,   0.482,2,   0.264,2,   0.031,2,    -999,9,    -999,9,     -999,9,     -999,   0.003,2,   1.872,2,   10.00,2,1.8787,2,-999,9,-999,9,-999,   8.119,2,   0.031,0.941,2,-999,9,-999,1,    -999,9,-999,9, 20080223,     0750, -55.0176,  29.9971,   0.009,-999,9,     -999,9,     -999,9,     -999,9,     -999,9,     -999,9,     -999,9,-999,9,     -999,9,     -999,9,     -999,9,    0.15,   0.007
33RR20080204,       I06S,      56,          1,         21,         21,2,20080223,       0606,   -55.0095,    29.9983,       5525,   765.4,   1.8289,  34.6992,2,  34.7004,2,    187.1,2,   186.6,2,   86.31,2,   31.85,2,    0.00,2,    2.22,2,   0.421,2,   0.238,2,   0.025,2,    -999,9,  2346.3,2,     -999,9,     -999,   0.001,2,   1.882,2,    9.67,2,1.8284,2,-999,9,-999,9,-999,   8.162,2,   0.031,0.867,2,-999,9,-0.04,2,    -999,9,-999,9, 20080223,     0747, -55.0174,  29.9972,   0.009,-999,1,     -999,9,     -999,9,     -999,9,     -999,9,     -999,9,     -999,9,-999,9,     -999,9,     -999,9,     -999,9,    0.15,   0.007
33RR20080204,       I06S,      56,          1,         20,         20,2,20080223,       0606,   -55.0095,    29.9983,       5525,   971.1,   1.6970,  34.7238,2,  34.7252,2,    193.5,2,   193.5,2,   88.97,2,   31.04,2,    0.00,2,    2.15,2,   0.329,2,   0.189,2,   0.020,2,    -999,9,    -999,9,     -999,9,     -999,    -999,9,    -999,9,    -999,9,1.6967,2,-999,9,-999,9,-999,    -999,9,    -999,0.726,2,-999,9,-999,9,    -999,9,-999,9, 20080223,     0742, -55.0170,  29.9974,    -999,-999,1,     -999,9,     -999,9,     -999,9,     -999,9,     -999,9,     -999,9,-999,9,     -999,9,     -999,9,     -999,9,    -999,    -999
33RR20080204,       I06S,      56,          1,         19,         19,2,20080223,       0606,   -55.0095,    29.9983,       5525,  1182.3,   1.5115,  34.7297,2,  34.7307,2,    198.1,2,   198.7,2,   93.17,2,   30.80,2,    0.00,2,    2.14,2,   0.300,2,   0.171,2,   0.017,2,    -999,9,  2352.6,2,     -999,9,     -999,  -0.019,2,   1.870,2,    9.80,2,1.5134,2,-999,9,-999,9,-999,   8.104,2,   0.031,0.657,2,-999,9,-999,9,    -999,9,-999,9, 20080223,     0737, -55.0167,  29.9975,   0.009,-999,9,     -999,9,     -999,9,     -999,9,     -999,9,     -999,9,     -999,9,-999,9,     -999,9,     -999,9,     -999,9,    0.15,   0.007
33RR20080204,       I06S,      56,          1,         18,         18,2,20080223,       0606,   -55.0095,    29.9983,       5525,  1378.2,   1.3243,  34.7250,2,  34.7266,2,    200.3,2,   201.1,2,   98.14,2,   31.00,2,    0.00,2,    2.15,2,   0.305,2,   0.174,2,   0.022,2,    -999,9,    -999,9,     -999,9,     -999,    -999,9,    -999,9,    -999,9,1.325,2,-999,9,-999,9,-999,    -999,9,    -999,0.654,2,-999,9,-0.02,2,    -999,9,-999,9, 20080223,     0733, -55.0163,  29.9976,    -999,-999,9,     -999,9,     -999,9,     -999,9,     -999,9,     -999,9,     -999,9,-999,9,     -999,9,     -999,9,     -999,9,    -999,    -999
33RR20080204,       I06S,      56,          1,         17,         17,2,20080223,       0606,   -55.0095,    29.9983,       5525,  1583.0,   1.1514,  34.7213,2,  34.7221,2,    203.3,2,   203.4,2,  103.11,2,   31.15,2,    0.00,2,    2.16,2,   0.286,2,   0.162,2,   0.021,2,    -999,9,  2355.6,2,     -999,9,     -999,  -0.003,2,   1.884,2,    9.65,2,1.1526,2,-999,9,-999,9,-999,   8.199,2,   0.031,0.558,2,-999,9,-999,9,    -999,9,-999,9, 20080223,     0728, -55.0159,  29.9978,   0.009,-999,9,     -999,9,     -999,9,     -999,9,     -999,9,     -999,9,     -999,9,-999,9,     -999,9,     -999,9,     -999,9,    0.15,   0.007
33RR20080204,       I06S,      56,          1,         16,         16,2,20080223,       0606,   -55.0095,    29.9983,       5525,  1783.4,   0.9849,  34.7155,2,  34.7168,2,    204.9,2,   205.6,2,  107.71,2,   31.40,2,    0.00,2,    2.18,2,   0.267,2,   0.148,2,   0.018,2,    -999,9,    -999,9,     -999,9,     -999,    -999,9,    -999,9,    -999,9,0.9847,2,-999,9,-999,9,-999,    -999,9,    -999,0.575,2,-999,9,-999,9,    -999,9,-999,9, 20080223,     0724, -55.0156,  29.9978,    -999,-999,9,     -999,9,     -999,9,     -999,9,     -999,9,     -999,9,     -999,9,-999,9,     -999,9,     -999,9,     -999,9,    -999,    -999
33RR20080204,       I06S,      56,          1,         15,         15,2,20080223,       0606,   -55.0095,    29.9983,       5525,  1996.0,   0.8485,  34.7064,2,  34.7067,2,    205.4,2,   206.0,2,  112.12,2,   31.84,2,    0.00,2,    2.22,2,   0.310,2,   0.166,2,   0.017,2,    -999,9,  2357.1,2,     -999,9,     -999,   0.004,2,   1.874,2,    9.16,2,0.8486,2,-999,9,-999,9,-999,   8.166,2,   0.031,0.651,2,-999,9,-999,9,    -999,9,-999,9, 20080223,     0720, -55.0154,  29.9978,   0.009,-999,9,     -999,9,     -999,9,     -999,9,     -999,9,     -999,9,     -999,9,-999,9,     -999,9,     -999,9,     -999,9,    0.15,   0.007
33RR20080204,       I06S,      56,          1,         14,         14,2,20080223,       0606,   -55.0095,    29.9983,       5525,  2289.9,   0.6794,  34.6998,2,  34.7007,2,    208.0,2,   209.0,2,  117.50,2,   32.03,2,    0.00,2,    2.23,2,   0.268,2,   0.150,2,   0.013,2,    -999,9,    -999,9,     -999,9,     -999,    -999,9,    -999,9,    -999,9,0.6795,2,-999,9,-999,9,-999,    -999,9,    -999,0.622,2,-999,9,-0.12,2,    -999,9,-999,9, 20080223,     0714, -55.0147,  29.9980,    -999,-999,9,     -999,9,     -999,9,     -999,9,     -999,9,     -999,9,     -999,9,-999,9,     -999,9,     -999,9,     -999,9,    -999,    -999
33RR20080204,       I06S,      56,          1,         13,         13,2,20080223,       0606,   -55.0095,    29.9983,       5525,  2602.3,   0.5118,  34.6908,2,  34.6911,2,    210.1,2,   211.9,2,  126.17,2,   32.62,2,    0.00,2,    2.26,2,   0.273,2,   0.151,2,   0.004,2,    -999,9,  2358.9,2,     -999,9,     -999,  -0.009,2,   1.885,2,    8.39,2,0.512,2,-999,9,-999,9,-999,   8.231,2,   0.031,0.733,2,-999,9,-999,9,    -999,9,-999,9, 20080223,     0708, -55.0143,  29.9981,   0.009,-999,9,     -999,9,     -999,9,     -999,9,     -999,9,     -999,9,     -999,9,-999,9,     -999,9,     -999,9,     -999,9,    0.15,   0.007
33RR20080204,       I06S,      56,          1,         12,         12,2,20080223,       0606,   -55.0095,    29.9983,       5525,  2899.8,   0.3913,  34.6837,2,  34.7074,3,    212.9,2,   214.8,2,  125.98,2,   32.58,2,    0.00,2,    2.26,2,   0.280,2,   0.153,2,   0.003,2,    -999,9,    -999,9,     -999,9,     -999,  -0.009,2,   1.899,2,    7.96,2,0.3924,2,-999,9,-999,9,-999,   8.288,2,   0.031,0.73,2,-999,9,-999,9,    -999,9,-999,9, 20080223,     0702, -55.0142,  29.9979,   0.009,-999,9,     -999,9,     -999,9,     -999,9,     -999,9,     -999,9,     -999,9,-999,9,     -999,9,     -999,9,     -999,9,    0.15,   0.007
33RR20080204,       I06S,      56,          1,         11,         11,2,20080223,       0606,   -55.0095,    29.9983,       5525,  3201.2,   0.2527,  34.6767,2,  34.6773,2,    216.9,2,   218.2,2,  127.71,2,   32.77,2,    0.00,2,    2.27,2,   0.307,2,   0.170,2,   0.004,2,    -999,9,  2358.5,2,     -999,9,     -999,  -0.001,2,   1.881,2,    7.63,2,0.2525,2,-999,9,-999,9,-999,   8.220,2,   0.031,0.873,2,-999,9,-999,9,    -999,9,-999,9, 20080223,     0656, -55.0133,  29.9981,   0.009,-999,9,     -999,9,     -999,9,     -999,9,     -999,9,     -999,9,     -999,9,-999,9,     -999,9,     -999,9,     -999,9,    0.15,   0.007
33RR20080204,       I06S,      56,          1,         10,         10,2,20080223,       0606,   -55.0095,    29.9983,       5525,  3526.6,   0.1453,  34.6716,2,  34.6720,2,    221.4,2,   222.5,2,  128.87,2,   32.73,2,    0.00,2,    2.27,2,   0.333,2,   0.180,2,   0.004,2,    -999,9,    -999,9,     -999,9,     -999,  -0.008,2,   1.891,2,    7.53,2,0.1449,2,-999,9,-999,9,-999,   8.278,2,   0.031,0.982,2,-999,9,-0.2,2,    -999,9,-999,9, 20080223,     0650, -55.0128,  29.9981,   0.009,-999,9,     -999,9,     -999,9,     -999,9,     -999,9,     -999,9,     -999,9,-999,9,     -999,9,     -999,9,     -999,9,    0.15,   0.007
33RR20080204,       I06S,      56,          1,          9,          9,2,20080223,       0606,   -55.0095,    29.9983,       5525,  3822.0,   0.0479,  34.6669,2,  34.6679,2,    225.9,2,   227.3,2,  129.45,2,   32.64,2,    0.00,2,    2.27,2,   0.361,2,   0.194,2,   0.009,2,    -999,9,  2355.4,2,     -999,9,     -999,   0.019,2,   1.902,2,    6.87,2,0.0477,2,-999,9,-999,9,-999,   8.316,2,   0.032,1.065,2,-999,9,-999,9,    -999,9,-999,9, 20080223,     0644, -55.0124,  29.9981,   0.009,-999,9,     -999,9,     -999,9,     -999,9,     -999,9,     -999,9,     -999,9,-999,9,     -999,9,     -999,9,     -999,9,    0.15,   0.007
33RR20080204,       I06S,      56,          1,          8,          8,2,20080223,       0606,   -55.0095,    29.9983,       5525,  4126.5,  -0.0140,  34.6640,2,  34.6644,2,    229.6,2,   230.8,2,  129.84,2,   32.59,2,    0.00,2,    2.27,2,   0.367,2,   0.201,2,   0.012,2,    -999,9,    -999,9,     -999,9,     -999,  -0.003,2,   1.887,2,    6.58,2,-0.0146,2,-999,9,-999,9,-999,   8.253,2,   0.031,0.924,2,-999,9,-999,9,    -999,9,-999,9, 20080223,     0638, -55.0119,  29.9981,   0.009,-999,9,     -999,9,     -999,9,     -999,9,     -999,9,     -999,9,     -999,9,-999,9,     -999,9,     -999,9,     -999,9,    0.15,   0.007