BOTTLE,20220706CCHSIOAMB
EXPOCODE,SECT_ID,STNNBR,CASTNO,SAMPNO,BTLNBR,BTLNBR_FLAG_W,DATE,TIME,LATITUDE,LONGITUDE,DEPTH,CTDPRS,CTDTMP,CTDSAL,CTDSAL_FLAG_W,SALNTY,SALNTY_FLAG_W,CTDOXY,CTDOXY_FLAG_W,OXYGEN,OXYGEN_FLAG_W,SILCAT,SILCAT_FLAG_W,NITRAT,NITRAT_FLAG_W,NITRIT,NITRIT_FLAG_W,PHSPHT,PHSPHT_FLAG_W,CFC-11,CFC-11_FLAG_W,CFC-12,CFC-12_FLAG_W,CFC113,CFC113_FLAG_W,TCARBN,TCARBN_FLAG_W,ALKALI,ALKALI_FLAG_W,PH_SWS,PH_SWS_FLAG_W,PH_TMP,TRITUM,TRITUM_FLAG_W,HELIUM,HELIUM_FLAG_W,DELHE3,DELHE3_FLAG_W,REFTMP,REFTMP_FLAG_W,DELC13,DELC13_FLAG_W,DELC14,DELC14_FLAG_W,C14ERR,NEON,NEON_FLAG_W,NEONER,CCL4,CCL4_FLAG_W,ALUMIN,ALUMIN_FLAG_W,DELO18,DELO18_FLAG_W,DOC,DOC_FLAG_W,TDN,TDN_FLAG_W,BTL_DATE,BTL_TIME,BTL_LAT,BTL_LON,TRITER,DELSI30,DELSI30_FLAG_W,CDOM380,CDOM380_FLAG_W,CDOM325,CDOM325_FLAG_W,CDOMSL,CDOMSL_FLAG_W,CDOM340,CDOM340_FLAG_W,CDOM443,CDOM443_FLAG_W,CDOMSN,CDOMSN_FLAG_W,BLACKC,BLACKC_FLAG_W,CDOM490,CDOM490_FLAG_W,CDOM412,CDOM412_FLAG_W,CDOM555,CDOM555_FLAG_W,DELHER,HELIER
,,,,,,,,,,,METERS,DBAR,ITS-90,PSS-78,,PSS-78,,UMOL/KG,,UMOL/KG,,UMOL/KG,,UMOL/KG,,UMOL/KG,,UMOL/KG,,PMOL/KG,,PMOL/KG,,PMOL/KG,,UMOL/KG,,UMOL/KG,,,,DEG C,TU,,NMOL/KG,,PERCNT,,DEG C,,/MILLE,,/MILLE,,/MILLE,NMOL/KG,,NMOL/KG,PMOL/KG,,NMOL/L,,/MILLE,,UMOL/KG,,UMOL/KG,,,,,,TU,/MILLE,,1/M,,1/M,,1/NM,,1/M,,1/M,,1/NM,,,,1/M,,1/M,,1/M,,PERCNT,NMOL/KG
33RR20080204,       I06S,      48,          1,         36,         36,2,20080220,       1754,   -51.0000,    30.0000,       5890,     4.6,   2.0511,  33.8258,2,  33.8287,2,    333.8,2,   334.8,2,   30.43,2,   23.92,2,    0.30,2,    1.51,2,   5.853,2,   3.215,2,   0.537,2,  2145.0,6,  2289.6,2,     -999,9,     -999,   0.101,2,   1.794,2,   -1.65,2,2.0502,2,-999,9,-999,9,-999,   7.950,2,   0.030,9.683,2,-999,9,-999,9,    -999,9,-999,9, 20080220,     2031, -51.0015,  30.0001,   0.009,-999,9,     -999,9,     -999,9,     -999,9,     -999,9,     -999,9,     -999,9,-999,9,     -999,9,     -999,9,     -999,9,    0.15,   0.007
33RR20080204,       I06S,      48,          1,         35,         35,2,20080220,       1754,   -51.0000,    30.0000,       5890,    23.1,   2.0529,  33.8256,2,  33.8261,2,    335.3,2,   334.8,2,   30.42,2,   23.92,2,    0.30,2,    1.52,2,   5.847,2,   3.207,2,   0.538,2,    -999,9,  2289.6,2,     -999,9,     -999,    -999,9,    -999,9,    -999,9,2.052,2,-999,9,-999,9,-999,    -999,9,    -999,9.715,2,-999,9,-999,9,    -999,9,-999,9, 20080220,     2030, -51.0015,  30.0001,    -999,-999,9,     -999,9,     -999,9,     -999,9,     -999,9,     -999,9,     -999,9,-999,9,     -999,9,     -999,9,     -999,9,    -999,    -999
33RR20080204,       I06S,      48,          1,         34,         34,2,20080220,       1754,   -51.0000,    30.0000,       5890,    49.6,   2.0544,  33.8255,2,  33.8259,2,    335.6,2,   334.6,2,   30.24,2,   23.91,2,    0.30,2,    1.52,2,   5.867,2,   3.227,2,   0.542,2,    -999,9,  2291.1,2,     -999,9,     -999,    -999,9,    -999,9,    -999,9,2.0539,2,-999,9,-999,9,-999,    -999,9,    -999,9.49,2,-999,9,-999,9,    -999,9,-999,9, 20080220,     2029, -51.0014,  30.0001,    -999,-999,9,     -999,9,     -999,9,     -999,9,     -999,9,     -999,9,     -999,9,-999,9,     -999,9,     -999,9,     -999,9,    -999,    -999
33RR20080204,       I06S,      48,          1,         33,         33,2,20080220,       1754,   -51.0000,    30.0000,       5890,    78.1,   2.0563,  33.8251,2,  33.8254,2,    335.3,2,   334.6,2,   30.24,2,   23.81,2,    0.30,2,    1.53,2,   5.856,2,   3.236,2,   0.535,2,    -999,9,  2290.7,2,     -999,9,     -999,    -999,9,    -999,9,    -999,9,2.0542,2,-999,9,-999,9,-999,    -999,9,    -999,9.255,2,-999,9,-999,9,    -999,9,-999,9, 20080220,     2028, -51.0014,  30.0001,    -999,-999,9,     -999,9,     -999,9,     -999,9,     -999,9,     -999,9,     -999,9,-999,9,     -999,9,     -999,9,     -999,9,    -999,    -999
33RR20080204,       I06S,      48,          1,         32,         32,2,20080220,       1754,   -51.0000,    30.0000,       5890,   111.6,   1.4528,  33.8831,2,  33.8753,2,    333.1,2,   330.6,2,   38.00,2,   24.50,2,    0.29,2,    1.67,2,   5.981,2,   3.245,2,   0.542,2,    -999,9,    -999,9,     -999,9,     -999,   0.095,2,   1.801,2,   -1.50,2,1.6478,3,-999,9,-999,9,-999,   7.963,2,   0.030,9.271,2,-999,9,-999,9,    -999,9,-999,9, 20080220,     2027, -51.0013,  30.0001,   0.009,-999,9,     -999,9,     -999,9,     -999,9,     -999,9,     -999,9,     -999,9,-999,9,     -999,9,     -999,9,     -999,9,    0.15,   0.007
33RR20080204,       I06S,      48,          1,         31,         31,2,20080220,       1754,   -51.0000,    30.0000,       5890,   158.9,   0.5329,  34.0622,2,  34.0522,2,    294.0,2,   287.8,2,   51.18,2,   29.70,2,    0.14,2,    2.07,2,   4.972,2,   2.712,2,   0.452,2,    -999,9,  2298.1,2,     -999,9,     -999,    -999,9,    -999,9,    -999,9,0.5458,2,-999,9,-999,9,-999,    -999,9,    -999,7.259,2,-999,9,-999,9,    -999,9,-999,9, 20080220,     2025, -51.0012,  30.0001,    -999,-999,9,     -999,9,     -999,9,     -999,9,     -999,9,     -999,9,     -999,9,-999,9,     -999,9,     -999,9,     -999,9,    -999,    -999
33RR20080204,       I06S,      48,          1,         30,         30,2,20080220,       1754,   -51.0000,    30.0000,       5890,   220.7,   1.9029,  34.3388,2,  34.3337,2,    212.5,2,   201.2,2,   59.37,2,   34.38,2,    0.01,2,    2.38,2,   2.440,2,   1.259,2,   0.218,2,    -999,9,    -999,9,     -999,9,     -999,   0.025,2,   1.840,2,    4.97,2,1.9021,2,-999,9,-999,9,-999,   7.990,2,   0.030,3.882,2,-999,9,-999,9,    -999,9,-999,9, 20080220,     2021, -51.0008,  29.9998,   0.009,-999,1,     -999,9,     -999,9,     -999,9,     -999,9,     -999,9,     -999,9,-999,9,     -999,9,     -999,9,     -999,9,    0.15,   0.007
33RR20080204,       I06S,      48,          1,         29,         29,2,20080220,       1754,   -51.0000,    30.0000,       5890,   273.0,   2.0597,  34.4097,2,  34.4075,2,    191.1,2,   186.5,2,   64.98,2,   34.87,2,    0.01,2,    2.41,2,   1.801,2,   0.926,2,   0.149,2,    -999,9,  2316.7,2,     -999,9,     -999,    -999,9,    -999,9,    -999,9,2.0594,2,-999,9,-999,9,-999,    -999,9,    -999,2.97,2,-999,9,-999,9,    -999,9,-999,9, 20080220,     2019, -51.0006,  29.9998,    -999,-999,9,     -999,9,     -999,9,     -999,9,     -999,9,     -999,9,     -999,9,-999,9,     -999,9,     -999,9,     -999,9,    -999,    -999
33RR20080204,       I06S,      48,          1,         28,         28,2,20080220,       1754,   -51.0000,    30.0000,       5890,   325.4,   2.1247,  34.4626,2,  34.4619,2,    184.2,2,   178.9,2,   69.28,2,   34.92,2,    0.01,2,    2.42,2,   1.381,2,   0.707,2,   0.113,2,    -999,9,    -999,9,     -999,9,     -999,   0.009,2,   1.835,2,    7.17,2,2.1287,2,-999,9,-999,9,-999,   7.951,2,   0.030,2.454,2,-999,9,-999,9,    -999,9,-999,9, 20080220,     2016, -51.0005,  29.9999,   0.009,-999,9,     -999,9,     -999,9,     -999,9,     -999,9,     -999,9,     -999,9,-999,9,     -999,9,     -999,9,     -999,9,    0.15,   0.007
33RR20080204,       I06S,      48,          1,         27,         27,2,20080220,       1754,   -51.0000,    30.0000,       5890,   374.2,   2.0194,  34.4962,2,  34.4992,2,    177.8,2,   176.6,2,   73.21,2,   34.92,2,    0.01,2,    2.42,2,   1.302,2,   0.678,2,   0.119,2,    -999,9,  2325.3,2,     -999,9,     -999,    -999,9,    -999,9,    -999,9,2.019,2,-999,9,-999,9,-999,    -999,9,    -999,2.347,2,-999,9,-999,9,    -999,9,-999,9, 20080220,     2013, -51.0005,  30.0000,    -999,-999,9,     -999,9,     -999,9,     -999,9,     -999,9,     -999,9,     -999,9,-999,9,     -999,9,     -999,9,     -999,9,    -999,    -999
33RR20080204,       I06S,      48,          1,         26,         26,2,20080220,       1754,   -51.0000,    30.0000,       5890,   426.4,   2.0569,  34.5373,2,  34.5358,2,    172.5,2,   172.9,2,   76.03,2,   34.48,2,    0.01,2,    2.39,2,   1.049,2,   0.537,2,   0.090,2,    -999,9,    -999,9,     -999,9,     -999,    -999,9,   1.807,2,    8.28,2,2.0555,2,-999,9,-999,9,-999,   7.955,2,   0.030,1.903,2,-999,9,-999,9,    -999,9,-999,9, 20080220,     2010, -51.0005,  30.0001,    -999,-999,1,     -999,9,     -999,9,     -999,9,     -999,9,     -999,9,     -999,9,-999,9,     -999,9,     -999,9,     -999,9,    0.15,   0.007
33RR20080204,       I06S,      48,          1,         25,         25,2,20080220,       1754,   -51.0000,    30.0000,       5890,   476.6,   2.0583,  34.5742,2,  34.5749,2,    171.8,2,   171.8,2,   78.09,2,   33.98,2,    0.01,2,    2.36,2,   0.881,2,   0.466,2,   0.096,2,    -999,9,  2335.1,2,     -999,9,     -999,    -999,9,    -999,9,    -999,9,2.0591,2,-999,9,-999,9,-999,    -999,9,    -999,1.752,2,-999,9,-999,9,    -999,9,-999,9, 20080220,     2008, -51.0004,  30.0001,    -999,-999,9,     -999,9,     -999,9,     -999,9,     -999,9,     -999,9,     -999,9,-999,9,     -999,9,     -999,9,     -999,9,    -999,    -999
33RR20080204,       I06S,      48,          1,         24,         24,2,20080220,       1754,   -51.0000,    30.0000,       5890,   527.9,   1.9954,  34.5968,2,  34.5963,2,    171.9,2,   172.2,2,   80.91,2,   33.93,2,    0.01,2,    2.36,2,   0.760,2,   0.410,2,   0.064,2,    -999,9,    -999,9,     -999,9,     -999,   0.000,2,   1.854,2,    9.26,2,1.9948,2,-999,9,-999,9,-999,   7.986,2,   0.030,1.479,2,-999,9,-999,9,    -999,9,-999,9, 20080220,     2005, -51.0001,  29.9999,   0.009,-999,9,     -999,9,     -999,9,     -999,9,     -999,9,     -999,9,     -999,9,-999,9,     -999,9,     -999,9,     -999,9,    0.15,   0.007
33RR20080204,       I06S,      48,          1,         23,         23,2,20080220,       1754,   -51.0000,    30.0000,       5890,   647.2,   2.1072,  34.6617,2,  34.6600,2,    174.9,2,   175.6,2,   81.29,2,   32.71,2,    0.00,2,    2.26,2,   0.405,2,   0.228,2,   0.030,2,    -999,9,  2339.7,2,     -999,9,     -999,  -0.011,2,   1.846,2,   10.06,2,2.1073,2,-999,9,-999,9,-999,   7.963,2,   0.030,0.887,2,-999,9,-999,9,    -999,9,-999,9, 20080220,     2001, -51.0000,  30.0000,   0.009,-999,1,     -999,9,     -999,9,     -999,9,     -999,9,     -999,9,     -999,9,-999,9,     -999,9,     -999,9,     -999,9,    0.15,   0.007
33RR20080204,       I06S,      48,          1,         22,         22,2,20080220,       1754,   -51.0000,    30.0000,       5890,   750.1,   2.1411,  34.6985,2,  34.6969,2,    181.5,2,   181.5,2,   79.77,2,   31.58,2,    0.00,2,    2.19,2,   0.293,2,   0.165,2,   0.025,2,    -999,9,    -999,9,     -999,9,     -999,    -999,9,    -999,9,    -999,9,2.1378,2,-999,9,-999,9,-999,    -999,9,    -999,0.732,2,-999,9,-999,9,    -999,9,-999,9, 20080220,     1957, -50.9999,  29.9999,    -999,-999,9,     -999,9,     -999,9,     -999,9,     -999,9,     -999,9,     -999,9,-999,9,     -999,9,     -999,9,     -999,9,    -999,    -999
33RR20080204,       I06S,      48,          1,         21,         21,2,20080220,       1754,   -51.0000,    30.0000,       5890,   853.2,   1.9094,  34.6932,2,  34.6926,2,    182.6,2,   182.9,2,   85.05,2,   31.93,2,    0.00,2,    2.22,2,   0.391,2,   0.224,2,   0.034,2,    -999,9,  2344.5,2,     -999,9,     -999,    -999,9,   1.866,2,   10.41,2,1.91,2,-999,9,-999,9,-999,   8.053,2,   0.031,0.86,2,-999,9,-999,9,    -999,9,-999,9, 20080220,     1953, -51.0000,  30.0000,    -999,-999,1,     -999,9,     -999,9,     -999,9,     -999,9,     -999,9,     -999,9,-999,9,     -999,9,     -999,9,     -999,9,    0.15,   0.007
33RR20080204,       I06S,      48,          1,         20,         20,2,20080220,       1754,   -51.0000,    30.0000,       5890,  1055.4,   1.9728,  34.7461,2,  34.7453,2,    192.6,2,   194.0,2,   81.65,2,   29.97,2,    0.00,2,    2.07,2,   0.179,2,   0.107,2,   0.018,2,    -999,9,    -999,9,     -999,9,     -999,  -0.007,6,   1.872,2,   10.11,2,1.9763,2,-999,9,-999,9,-999,   8.025,2,   0.030,0.53,2,-999,9,-999,9,    -999,9,-999,9, 20080220,     1947, -51.0000,  30.0001,   0.006,-999,1,     -999,9,     -999,9,     -999,9,     -999,9,     -999,9,     -999,9,-999,9,     -999,9,     -999,9,     -999,9,    0.15,   0.007
33RR20080204,       I06S,      48,          1,         19,         19,2,20080220,       1754,   -51.0000,    30.0000,       5890,  1256.9,   1.5164,  34.7183,2,  34.7178,2,    192.8,2,   195.8,2,   92.78,2,   31.00,2,    0.01,2,    2.15,2,   0.374,2,   0.214,2,   0.034,2,    -999,9,  2348.7,2,     -999,9,     -999,  -0.010,2,   1.878,2,   10.02,2,1.5154,2,-999,9,-999,9,-999,   8.004,2,   0.030,0.766,2,-999,9,-999,9,    -999,9,-999,9, 20080220,     1942, -51.0001,  30.0001,   0.009,-999,9,     -999,9,     -999,9,     -999,9,     -999,9,     -999,9,     -999,9,-999,9,     -999,9,     -999,9,     -999,9,    0.15,   0.007
33RR20080204,       I06S,      48,          1,         18,         18,2,20080220,       1754,   -51.0000,    30.0000,       5890,  1457.1,   1.4150,  34.7316,2,  34.7296,2,    201.1,2,   200.3,2,   95.43,2,   30.51,2,    0.00,2,    2.12,2,   0.253,2,   0.142,2,   0.019,2,    -999,9,    -999,9,     -999,9,     -999,  -0.006,2,    -999,1,    -999,9,1.4157,2,-999,9,-999,9,-999,    -999,9,    -999,0.601,2,-999,9,-999,9,    -999,9,-999,9, 20080220,     1937, -51.0001,  30.0001,   0.009,-999,9,     -999,9,     -999,9,     -999,9,     -999,9,     -999,9,     -999,9,-999,9,     -999,9,     -999,9,     -999,9,    -999,    -999
33RR20080204,       I06S,      48,          1,         17,         17,2,20080220,       1754,   -51.0000,    30.0000,       5890,  1664.8,   1.3279,  34.7373,2,  34.7355,2,    202.7,2,   204.3,2,   97.14,2,   30.27,2,    0.00,2,    2.10,2,   0.195,2,   0.107,2,   0.021,2,    -999,9,  2353.1,2,     -999,9,     -999,  -0.004,2,   1.892,2,    9.37,2,1.3285,2,-999,9,-999,9,-999,   8.136,2,   0.031,0.475,2,-999,9,-999,9,    -999,9,-999,9, 20080220,     1932, -51.0001,  30.0001,   0.009,-999,9,     -999,9,     -999,9,     -999,9,     -999,9,     -999,9,     -999,9,-999,9,     -999,9,     -999,9,     -999,9,    0.15,   0.007
33RR20080204,       I06S,      48,          1,         16,         16,2,20080220,       1754,   -51.0000,    30.0000,       5890,  1865.8,   1.1240,  34.7233,2,  34.7219,2,    202.8,2,   205.2,2,  103.39,2,   30.95,2,    0.00,2,    2.14,2,   0.246,2,   0.146,2,   0.024,2,    -999,9,    -999,9,     -999,9,     -999,    -999,9,    -999,9,    -999,9,1.1242,2,-999,9,-999,9,-999,    -999,9,    -999,0.596,2,-999,9,-999,9,    -999,9,-999,9, 20080220,     1927, -51.0002,  30.0001,    -999,-999,9,     -999,9,     -999,9,     -999,9,     -999,9,     -999,9,     -999,9,-999,9,     -999,9,     -999,9,     -999,9,    -999,    -999
33RR20080204,       I06S,      48,          1,         15,         15,2,20080220,       1754,   -51.0000,    30.0000,       5890,  2070.9,   0.9352,  34.7134,2,  34.7135,2,    204.7,2,   206.6,2,  108.70,2,   31.34,2,    0.00,2,    2.18,2,   0.260,2,   0.152,2,   0.023,2,    -999,9,  2356.1,2,     -999,9,     -999,  -0.009,2,   1.871,2,    9.07,2,0.9347,2,-999,9,-999,9,-999,   8.190,2,   0.031,0.643,2,-999,9,-999,9,    -999,9,-999,9, 20080220,     1922, -51.0002,  30.0001,   0.009,-999,9,     -999,9,     -999,9,     -999,9,     -999,9,     -999,9,     -999,9,-999,9,     -999,9,     -999,9,     -999,9,    0.15,   0.007
33RR20080204,       I06S,      48,          1,         14,         14,2,20080220,       1754,   -51.0000,    30.0000,       5890,  2389.6,   0.7899,  34.7094,2,  34.7082,2,    208.8,2,   209.9,2,  113.84,2,   31.40,2,    0.00,2,    2.18,2,   0.213,2,   0.115,2,   0.020,2,    -999,9,    -999,9,     -999,9,     -999,    -999,9,    -999,9,    -999,9,0.7902,2,-999,9,-999,9,-999,    -999,9,    -999,0.656,2,-999,9,-999,9,    -999,9,-999,9, 20080220,     1915, -51.0003,  30.0003,    -999,-999,9,     -999,9,     -999,9,     -999,9,     -999,9,     -999,9,     -999,9,-999,9,     -999,9,     -999,9,     -999,9,    -999,    -999
33RR20080204,       I06S,      48,          1,         13,         13,2,20080220,       1754,   -51.0000,    30.0000,       5890,  2696.3,   0.6290,  34.6994,2,  34.6990,2,    210.6,2,   212.5,2,  118.80,2,   31.84,2,    0.00,2,    2.21,2,   0.244,2,   0.140,2,   0.035,2,    -999,9,  2356.9,2,     -999,9,     -999,  -0.010,2,    -999,1,    -999,9,0.6289,2,-999,9,-999,9,-999,    -999,9,    -999,0.776,2,-999,9,-999,9,    -999,9,-999,9, 20080220,     1909, -51.0003,  30.0002,   0.009,-999,9,     -999,9,     -999,9,     -999,9,     -999,9,     -999,9,     -999,9,-999,9,     -999,9,     -999,9,     -999,9,    -999,    -999
33RR20080204,       I06S,      48,          1,         12,         12,9,20080220,       1754,   -51.0000,    30.0000,       5890,  3002.5,   0.4532,  34.6857,2,     -999,9,     -999,9,    -999,9,    -999,9,    -999,9,    -999,9,    -999,9,    -999,9,    -999,9,    -999,9,    -999,9,    -999,9,     -999,9,     -999,    -999,9,    -999,9,    -999,9,0.4538,2,-999,9,-999,9,-999,    -999,9,    -999,-999,9,-999,9,-999,9,    -999,9,-999,9, 20080220,     1903, -51.0004,  30.0004,    -999,-999,9,     -999,9,     -999,9,     -999,9,     -999,9,     -999,9,     -999,9,-999,9,     -999,9,     -999,9,     -999,9,    -999,    -999
33RR20080204,       I06S,      48,          1,         11,         11,2,20080220,       1754,   -51.0000,    30.0000,       5890,  3306.9,   0.3021,  34.6799,2,  34.6793,2,    216.2,2,   218.0,2,  126.83,2,   32.43,2,    0.00,2,    2.25,2,   0.315,6,   0.171,6,   0.017,6,    -999,9,  2355.6,2,     -999,9,     -999,   0.001,2,   1.872,2,    7.83,2,0.3023,2,-999,9,-999,9,-999,   8.120,2,   0.031,0.86,6,-999,9,-999,9,    -999,9,-999,9, 20080220,     1856, -51.0005,  30.0004,   0.009,-999,9,     -999,9,     -999,9,     -999,9,     -999,9,     -999,9,     -999,9,-999,9,     -999,9,     -999,9,     -999,9,    0.15,   0.007
33RR20080204,       I06S,      48,          1,         10,         10,2,20080220,       1754,   -51.0000,    30.0000,       5890,  3616.9,   0.1480,  34.6723,2,  34.6701,2,    221.8,2,   223.1,2,  128.35,2,   32.43,2,    0.00,2,    2.25,2,   0.359,2,   0.191,2,   0.020,2,    -999,9,    -999,9,     -999,9,     -999,    -999,9,    -999,9,    -999,9,0.148,2,-999,9,-999,9,-999,    -999,9,    -999,0.947,2,-999,9,-999,9,    -999,9,-999,9, 20080220,     1849, -51.0004,  30.0004,    -999,-999,9,     -999,9,     -999,9,     -999,9,     -999,9,     -999,9,     -999,9,-999,9,     -999,9,     -999,9,     -999,9,    -999,    -999
33RR20080204,       I06S,      48,          1,          9,          9,2,20080220,       1754,   -51.0000,    30.0000,       5890,  3925.5,   0.0363,  34.6665,2,  34.6650,2,    227.6,2,   228.0,2,  129.12,2,   32.38,2,    0.00,2,    2.25,2,   0.397,2,   0.209,2,   0.012,2,    -999,9,  2354.3,2,     -999,9,     -999,   0.009,2,   1.903,2,    6.88,2,0.0366,2,-999,9,-999,9,-999,   8.291,2,   0.032,0.979,2,-999,9,-999,9,    -999,9,-999,9, 20080220,     1843, -51.0004,  30.0005,   0.009,-999,9,     -999,9,     -999,9,     -999,9,     -999,9,     -999,9,     -999,9,-999,9,     -999,9,     -999,9,     -999,9,    0.15,   0.007
33RR20080204,       I06S,      48,          1,          8,          8,2,20080220,       1754,   -51.0000,    30.0000,       5890,  4229.5,  -0.0477,  34.6627,2,  34.6619,2,    232.1,2,   232.6,2,  129.70,2,   32.33,2,    0.00,2,    2.25,2,   0.464,2,   0.243,2,   0.039,2,    -999,9,    -999,9,     -999,9,     -999,   0.002,2,    -999,1,    -999,9,-0.0474,2,-999,9,-999,9,-999,    -999,9,    -999,1.127,2,-999,9,-999,9,    -999,9,-999,9, 20080220,     1836, -51.0000,  30.0000,   0.009,-999,9,     -999,9,     -999,9,     -999,9,     -999,9,     -999,9,     -999,9,-999,9,     -999,9,     -999,9,     -999,9,    -999,    -999