BOTTLE,20220706CCHSIOAMB
EXPOCODE,SECT_ID,STNNBR,CASTNO,SAMPNO,BTLNBR,BTLNBR_FLAG_W,DATE,TIME,LATITUDE,LONGITUDE,DEPTH,CTDPRS,CTDTMP,CTDSAL,CTDSAL_FLAG_W,SALNTY,SALNTY_FLAG_W,CTDOXY,CTDOXY_FLAG_W,OXYGEN,OXYGEN_FLAG_W,SILCAT,SILCAT_FLAG_W,NITRAT,NITRAT_FLAG_W,NITRIT,NITRIT_FLAG_W,PHSPHT,PHSPHT_FLAG_W,CFC-11,CFC-11_FLAG_W,CFC-12,CFC-12_FLAG_W,CFC113,CFC113_FLAG_W,TCARBN,TCARBN_FLAG_W,ALKALI,ALKALI_FLAG_W,PH_SWS,PH_SWS_FLAG_W,PH_TMP,TRITUM,TRITUM_FLAG_W,HELIUM,HELIUM_FLAG_W,DELHE3,DELHE3_FLAG_W,REFTMP,REFTMP_FLAG_W,DELC13,DELC13_FLAG_W,DELC14,DELC14_FLAG_W,C14ERR,NEON,NEON_FLAG_W,NEONER,CCL4,CCL4_FLAG_W,ALUMIN,ALUMIN_FLAG_W,DELO18,DELO18_FLAG_W,DOC,DOC_FLAG_W,TDN,TDN_FLAG_W,BTL_DATE,BTL_TIME,BTL_LAT,BTL_LON,TRITER,DELSI30,DELSI30_FLAG_W,CDOM380,CDOM380_FLAG_W,CDOM325,CDOM325_FLAG_W,CDOMSL,CDOMSL_FLAG_W,CDOM340,CDOM340_FLAG_W,CDOM443,CDOM443_FLAG_W,CDOMSN,CDOMSN_FLAG_W,BLACKC,BLACKC_FLAG_W,CDOM490,CDOM490_FLAG_W,CDOM412,CDOM412_FLAG_W,CDOM555,CDOM555_FLAG_W,DELHER,HELIER
,,,,,,,,,,,METERS,DBAR,ITS-90,PSS-78,,PSS-78,,UMOL/KG,,UMOL/KG,,UMOL/KG,,UMOL/KG,,UMOL/KG,,UMOL/KG,,PMOL/KG,,PMOL/KG,,PMOL/KG,,UMOL/KG,,UMOL/KG,,,,DEG C,TU,,NMOL/KG,,PERCNT,,DEG C,,/MILLE,,/MILLE,,/MILLE,NMOL/KG,,NMOL/KG,PMOL/KG,,NMOL/L,,/MILLE,,UMOL/KG,,UMOL/KG,,,,,,TU,/MILLE,,1/M,,1/M,,1/NM,,1/M,,1/M,,1/NM,,,,1/M,,1/M,,1/M,,PERCNT,NMOL/KG
33RR20080204,       I06S,      61,          2,          7,          7,2,20080224,       1901,   -57.4982,    30.0001,       5449,  4178.7,  -0.1882,  34.6575,2,  34.6574,2,    237.9,2,   237.7,2,  128.01,2,   32.29,2,    0.00,2,    2.26,2,   0.474,2,   0.243,2,   0.031,2,  2251.5,2,  2352.7,2,   7.7955,2,    13.00,    -999,9,    -999,9,    -999,9,-0.1884,2,0.63,2,-158.6,2,2.4,    -999,9,    -999,1.259,2,-999,9,-999,9,    -999,9,-999,1, 20080224,     1934, -57.4983,  30.0001,    -999,-999,9,     -999,9,     -999,9,     -999,9,     -999,9,     -999,9,     -999,9,-999,9,     -999,9,     -999,9,     -999,9,    -999,    -999
33RR20080204,       I06S,      61,          2,          6,          6,2,20080224,       1901,   -57.4982,    30.0001,       5449,  4490.8,  -0.2203,  34.6556,2,  34.6558,2,    240.3,2,   240.2,2,  128.77,2,   32.35,2,    0.00,2,    2.26,2,   0.480,2,   0.247,2,   0.020,2,    -999,9,  2353.7,2,   7.7969,2,    13.00,    -999,9,    -999,9,    -999,9,-0.2203,2,0.65,2,-164.1,2,2.8,    -999,9,    -999,1.329,2,-999,9,-999,9,    -999,9,-999,9, 20080224,     1927, -57.4984,  30.0001,    -999,-999,1,     -999,9,     -999,9,     -999,9,     -999,9,     -999,9,     -999,9,-999,9,     -999,9,     -999,9,     -999,9,    -999,    -999
33RR20080204,       I06S,      61,          2,          5,          5,2,20080224,       1901,   -57.4982,    30.0001,       5449,  4694.6,  -0.2358,  34.6543,2,  34.6538,2,    241.6,2,   242.1,2,  129.92,2,   32.31,2,    0.00,2,    2.26,2,   0.492,2,   0.257,2,   0.032,2,  2246.3,2,  2353.3,2,   7.7981,2,    13.00,    -999,9,    -999,9,    -999,9,-0.236,2,0.63,2,-157.6,2,2.4,    -999,9,    -999,1.379,2,-999,9,-999,9,    -999,9,-999,1, 20080224,     1922, -57.4985,  30.0001,    -999,-999,9,     -999,9,     -999,9,     -999,9,     -999,9,     -999,9,     -999,9,-999,9,     -999,9,     -999,9,     -999,9,    -999,    -999
33RR20080204,       I06S,      61,          2,          4,          4,2,20080224,       1901,   -57.4982,    30.0001,       5449,  4898.8,  -0.2489,  34.6530,2,  34.6535,2,    243.1,2,   242.7,2,  129.73,2,   32.27,2,    0.00,2,    2.26,2,   0.517,2,   0.270,2,   0.042,2,    -999,9,  2353.8,2,   7.7992,2,    13.00,    -999,9,    -999,9,    -999,9,-0.2489,2,0.65,2,-155.1,2,2.8,    -999,9,    -999,1.417,2,-999,9,-999,9,    -999,9,-999,9, 20080224,     1917, -57.4982,  30.0000,    -999,-999,9,     -999,9,     -999,9,     -999,9,     -999,9,     -999,9,     -999,9,-999,9,     -999,9,     -999,9,     -999,9,    -999,    -999
33RR20080204,       I06S,      61,          2,          3,          3,2,20080224,       1901,   -57.4982,    30.0001,       5449,  5105.3,  -0.2604,  34.6516,2,  34.6523,2,    244.3,2,   244.1,2,  129.16,2,   32.28,2,    0.00,2,    2.26,2,   0.534,2,   0.286,2,   0.036,2,  2246.6,2,  2353.4,2,   7.8002,2,    13.00,    -999,9,    -999,9,    -999,9,-0.2606,2,0.7,2,-157.9,2,3.0,    -999,9,    -999,1.4,2,-999,9,-999,9,    -999,9,-999,1, 20080224,     1912, -57.4980,  30.0001,    -999,-999,1,     -999,9,     -999,9,     -999,9,     -999,9,     -999,9,     -999,9,-999,9,     -999,9,     -999,9,     -999,9,    -999,    -999
33RR20080204,       I06S,      61,          2,          2,          2,2,20080224,       1901,   -57.4982,    30.0001,       5449,  5319.2,  -0.2652,  34.6504,2,  34.6509,2,    245.5,2,   245.0,2,  131.84,2,   32.28,2,    0.00,2,    2.26,2,   0.567,2,   0.290,2,   0.032,2,    -999,9,  2353.6,2,   7.7987,3,    13.00,    -999,9,    -999,9,    -999,9,-0.2647,2,-999,9,-999,9,-999,    -999,9,    -999,1.388,2,-999,9,-999,9,    -999,9,-999,9, 20080224,     1907, -57.4980,  30.0001,    -999,-999,9,     -999,9,     -999,9,     -999,9,     -999,9,     -999,9,     -999,9,-999,9,     -999,9,     -999,9,     -999,9,    -999,    -999
33RR20080204,       I06S,      61,          2,          1,          1,2,20080224,       1901,   -57.4982,    30.0001,       5449,  5543.9,  -0.2643,  34.6490,2,  34.6492,2,    246.0,2,   246.3,2,  130.31,2,   32.25,2,    0.00,2,    2.26,2,   0.614,2,   0.312,2,   0.059,2,  2245.7,2,  2354.2,2,   7.8027,2,    13.00,    -999,9,    -999,9,    -999,9,-0.264,2,-999,9,-999,9,-999,    -999,9,    -999,1.439,2,-999,9,-999,9,    -999,9,-999,1, 20080224,     1902, -57.4982,  30.0001,    -999,-999,1,     -999,9,     -999,9,     -999,9,     -999,9,     -999,9,     -999,9,-999,9,     -999,9,     -999,9,     -999,9,    -999,    -999