BOTTLE,20220706CCHSIOAMB
EXPOCODE,SECT_ID,STNNBR,CASTNO,SAMPNO,BTLNBR,BTLNBR_FLAG_W,DATE,TIME,LATITUDE,LONGITUDE,DEPTH,CTDPRS,CTDTMP,CTDSAL,CTDSAL_FLAG_W,SALNTY,SALNTY_FLAG_W,CTDOXY,CTDOXY_FLAG_W,OXYGEN,OXYGEN_FLAG_W,SILCAT,SILCAT_FLAG_W,NITRAT,NITRAT_FLAG_W,NITRIT,NITRIT_FLAG_W,PHSPHT,PHSPHT_FLAG_W,CFC-11,CFC-11_FLAG_W,CFC-12,CFC-12_FLAG_W,CFC113,CFC113_FLAG_W,TCARBN,TCARBN_FLAG_W,ALKALI,ALKALI_FLAG_W,PH_SWS,PH_SWS_FLAG_W,PH_TMP,TRITUM,TRITUM_FLAG_W,HELIUM,HELIUM_FLAG_W,DELHE3,DELHE3_FLAG_W,REFTMP,REFTMP_FLAG_W,DELC13,DELC13_FLAG_W,DELC14,DELC14_FLAG_W,C14ERR,NEON,NEON_FLAG_W,NEONER,CCL4,CCL4_FLAG_W,ALUMIN,ALUMIN_FLAG_W,DELO18,DELO18_FLAG_W,DOC,DOC_FLAG_W,TDN,TDN_FLAG_W,BTL_DATE,BTL_TIME,BTL_LAT,BTL_LON,TRITER,DELSI30,DELSI30_FLAG_W,CDOM380,CDOM380_FLAG_W,CDOM325,CDOM325_FLAG_W,CDOMSL,CDOMSL_FLAG_W,CDOM340,CDOM340_FLAG_W,CDOM443,CDOM443_FLAG_W,CDOMSN,CDOMSN_FLAG_W,BLACKC,BLACKC_FLAG_W,CDOM490,CDOM490_FLAG_W,CDOM412,CDOM412_FLAG_W,CDOM555,CDOM555_FLAG_W,DELHER,HELIER
,,,,,,,,,,,METERS,DBAR,ITS-90,PSS-78,,PSS-78,,UMOL/KG,,UMOL/KG,,UMOL/KG,,UMOL/KG,,UMOL/KG,,UMOL/KG,,PMOL/KG,,PMOL/KG,,PMOL/KG,,UMOL/KG,,UMOL/KG,,,,DEG C,TU,,NMOL/KG,,PERCNT,,DEG C,,/MILLE,,/MILLE,,/MILLE,NMOL/KG,,NMOL/KG,PMOL/KG,,NMOL/L,,/MILLE,,UMOL/KG,,UMOL/KG,,,,,,TU,/MILLE,,1/M,,1/M,,1/NM,,1/M,,1/M,,1/NM,,,,1/M,,1/M,,1/M,,PERCNT,NMOL/KG
33RR20080204,       I06S,      94,          2,         22,         22,2,20080305,       1427,   -68.3502,    31.3703,        796,     3.0,  -1.0146,  33.9838,2,  33.9815,2,    339.1,2,   339.3,2,   54.00,2,   26.79,2,    0.13,2,    1.88,2,   6.001,2,   3.374,2,   0.505,2,  2177.2,2,  2303.4,2,   7.8723,2,    13.00,    -999,9,    -999,9,    -999,9,-1.0152,2,-999,9,-999,9,-999,    -999,9,    -999,7.045,2,-999,9,-0.33,2,    -999,9,-999,9, 20080305,     1502, -68.3504,  31.3702,    -999,-999,9,     -999,9,     -999,9,     -999,9,     -999,9,     -999,9,     -999,9,-999,9,     -999,9,     -999,9,     -999,9,    -999,    -999
33RR20080204,       I06S,      94,          2,         21,         21,2,20080305,       1427,   -68.3502,    31.3703,        796,    22.2,  -0.9886,  34.0062,2,  34.0025,2,    337.3,2,   337.8,2,   54.79,2,   27.00,2,    0.14,2,    1.89,2,   5.983,2,   3.352,2,   0.474,2,  2179.7,2,  2304.4,2,   7.8710,2,    13.00,    -999,9,    -999,9,    -999,9,-0.9904,2,-999,9,-999,9,-999,    -999,9,    -999,6.613,2,-999,9,-0.34,2,    -999,9,-999,9, 20080305,     1500, -68.3504,  31.3701,    -999,-999,9,     -999,9,     -999,9,     -999,9,     -999,9,     -999,9,     -999,9,-999,9,     -999,9,     -999,9,     -999,9,    -999,    -999
33RR20080204,       I06S,      94,          2,         20,         20,2,20080305,       1427,   -68.3502,    31.3703,        796,    41.4,  -1.0644,  34.0232,2,  34.0230,2,    337.7,2,   334.7,2,   55.17,2,   27.37,2,    0.13,2,    1.92,2,   5.919,2,   3.338,2,   0.481,2,  2182.6,2,  2304.6,2,   7.8651,2,    13.00,    -999,9,    -999,9,    -999,9,-1.0771,2,-999,9,-999,9,-999,    -999,9,    -999,6.763,2,-999,9,-0.41,2,    -999,9,-999,9, 20080305,     1459, -68.3504,  31.3701,    -999,-999,9,     -999,9,     -999,9,     -999,9,     -999,9,     -999,9,     -999,9,-999,9,     -999,9,     -999,9,     -999,9,    -999,    -999
33RR20080204,       I06S,      94,          2,         19,         19,2,20080305,       1427,   -68.3502,    31.3703,        796,    62.1,  -1.7467,  34.1536,2,  34.1494,2,    321.3,2,   319.7,2,   59.34,2,   29.78,2,    0.12,2,    2.08,2,   5.551,2,   3.110,2,   0.450,2,  2201.7,2,  2310.3,2,   7.8223,2,    13.00,    -999,9,    -999,9,    -999,9,-1.7465,2,-999,9,-999,9,-999,    -999,9,    -999,5.76,2,-999,9,-0.38,2,    -999,9,-999,9, 20080305,     1458, -68.3504,  31.3701,    -999,-999,9,     -999,9,     -999,9,     -999,9,     -999,9,     -999,9,     -999,9,-999,9,     -999,9,     -999,9,     -999,9,    -999,    -999
33RR20080204,       I06S,      94,          2,         18,         18,2,20080305,       1427,   -68.3502,    31.3703,        796,    81.3,  -1.7337,  34.1969,2,  34.1974,2,    317.0,2,   316.1,2,   60.33,2,   30.10,2,    0.11,2,    2.09,2,   5.407,2,   3.018,2,   0.407,2,  2205.8,6,  2313.3,2,   7.8191,2,    13.00,    -999,9,    -999,9,    -999,9,-1.7337,2,-999,9,-999,9,-999,    -999,9,    -999,5.328,2,-999,9,-0.41,2,    -999,9,-999,9, 20080305,     1457, -68.3504,  31.3702,    -999,-999,9,     -999,9,     -999,9,     -999,9,     -999,9,     -999,9,     -999,9,-999,9,     -999,9,     -999,9,     -999,9,    -999,    -999
33RR20080204,       I06S,      94,          2,         17,         17,2,20080305,       1427,   -68.3502,    31.3703,        796,   110.7,  -1.7341,  34.2361,2,  34.2350,2,    312.4,2,   313.1,2,   61.71,2,   30.28,2,    0.09,2,    2.11,2,   5.319,2,   2.960,2,   0.437,2,    -999,9,    -999,9,     -999,9,     -999,    -999,9,    -999,9,    -999,9,-1.7346,2,-999,9,-999,9,-999,    -999,9,    -999,6.168,2,-999,9,-0.4,2,    -999,9,-999,9, 20080305,     1455, -68.3504,  31.3702,    -999,-999,9,     -999,9,     -999,9,     -999,9,     -999,9,     -999,9,     -999,9,-999,9,     -999,9,     -999,9,     -999,9,    -999,    -999
33RR20080204,       I06S,      94,          2,         15,         15,2,20080305,       1427,   -68.3502,    31.3703,        796,   142.6,  -1.7222,  34.2623,2,  34.2608,2,    308.3,2,   309.9,2,   62.70,2,   30.55,2,    0.07,2,    2.12,2,   5.198,2,   2.886,2,   0.454,2,    -999,9,    -999,9,     -999,9,     -999,    -999,9,    -999,9,    -999,9,-1.7216,2,-999,9,-999,9,-999,    -999,9,    -999,6.126,2,-999,9,-0.36,2,    -999,9,-999,9, 20080305,     1454, -68.3504,  31.3701,    -999,-999,9,     -999,9,     -999,9,     -999,9,     -999,9,     -999,9,     -999,9,-999,9,     -999,9,     -999,9,     -999,9,    -999,    -999
33RR20080204,       I06S,      94,          2,         14,         14,2,20080305,       1427,   -68.3502,    31.3703,        796,   174.4,  -1.6208,  34.2906,2,  34.2883,2,    303.9,2,   304.9,2,   64.48,2,   30.63,2,    0.06,2,    2.12,2,   5.001,2,   2.769,2,   0.424,2,    -999,9,    -999,9,     -999,9,     -999,    -999,9,    -999,9,    -999,9,-1.6185,2,-999,9,-999,9,-999,    -999,9,    -999,5.637,2,-999,9,-999,9,    -999,9,-999,9, 20080305,     1453, -68.3504,  31.3702,    -999,-999,9,     -999,9,     -999,9,     -999,9,     -999,9,     -999,9,     -999,9,-999,9,     -999,9,     -999,9,     -999,9,    -999,    -999
33RR20080204,       I06S,      94,          2,         13,         13,2,20080305,       1427,   -68.3502,    31.3703,        796,   213.4,  -1.4710,  34.3299,2,  34.3276,2,    297.9,2,   298.8,2,   66.26,2,   30.84,2,    0.05,2,    2.14,2,   4.804,2,   2.666,2,   0.389,2,    -999,9,    -999,9,     -999,9,     -999,    -999,9,    -999,9,    -999,9,-1.4706,2,-999,9,-999,9,-999,    -999,9,    -999,5.403,2,-999,9,-0.32,2,    -999,9,-999,9, 20080305,     1451, -68.3504,  31.3702,    -999,-999,9,     -999,9,     -999,9,     -999,9,     -999,9,     -999,9,     -999,9,-999,9,     -999,9,     -999,9,     -999,9,    -999,    -999
33RR20080204,       I06S,      94,          2,         12,         12,2,20080305,       1427,   -68.3502,    31.3703,        796,   254.3,  -1.3931,  34.3728,2,  34.3719,2,    294.8,2,   294.9,2,   68.25,2,   30.98,2,    0.01,2,    2.14,2,   4.684,2,   2.554,2,   0.391,2,    -999,9,    -999,9,     -999,9,     -999,    -999,9,    -999,9,    -999,9,-1.3936,2,-999,9,-999,9,-999,    -999,9,    -999,5.212,2,-999,9,-999,9,    -999,9,-999,9, 20080305,     1450, -68.3504,  31.3702,    -999,-999,9,     -999,9,     -999,9,     -999,9,     -999,9,     -999,9,     -999,9,-999,9,     -999,9,     -999,9,     -999,9,    -999,    -999
33RR20080204,       I06S,      94,          2,         11,         11,2,20080305,       1427,   -68.3502,    31.3703,        796,   305.5,  -0.8588,  34.4464,2,  34.4425,2,    277.9,2,   275.5,2,   72.84,2,   31.25,2,    0.01,2,    2.16,2,   3.972,2,   2.147,2,   0.340,2,    -999,9,    -999,9,     -999,9,     -999,    -999,9,    -999,9,    -999,9,-0.8585,2,-999,9,-999,9,-999,    -999,9,    -999,4.682,2,-999,9,-999,9,    -999,9,-999,9, 20080305,     1448, -68.3504,  31.3701,    -999,-999,9,     -999,9,     -999,9,     -999,9,     -999,9,     -999,9,     -999,9,-999,9,     -999,9,     -999,9,     -999,9,    -999,    -999
33RR20080204,       I06S,      94,          2,         10,         10,2,20080305,       1427,   -68.3502,    31.3703,        796,   355.4,  -0.2893,  34.5339,2,  34.5332,2,    254.0,2,   254.2,2,   79.45,2,   31.51,2,    0.00,2,    2.18,2,   3.138,2,   1.676,2,   0.262,2,    -999,9,    -999,9,     -999,9,     -999,    -999,9,    -999,9,    -999,9,-0.2886,2,-999,9,-999,9,-999,    -999,9,    -999,3.538,2,-999,9,-0.13,2,    -999,9,-999,9, 20080305,     1446, -68.3504,  31.3702,    -999,-999,9,     -999,9,     -999,9,     -999,9,     -999,9,     -999,9,     -999,9,-999,9,     -999,9,     -999,9,     -999,9,    -999,    -999
33RR20080204,       I06S,      94,          2,          9,          9,2,20080305,       1427,   -68.3502,    31.3703,        796,   406.7,  -0.0384,  34.5767,2,  34.5766,2,    245.6,2,   243.9,2,   83.45,2,   31.51,2,    0.00,2,    2.19,2,   2.672,2,   1.401,2,   0.227,2,    -999,9,    -999,9,     -999,9,     -999,    -999,9,    -999,9,    -999,9,-0.0345,2,-999,9,-999,9,-999,    -999,9,    -999,3.112,2,-999,9,-999,9,    -999,9,-999,9, 20080305,     1444, -68.3504,  31.3702,    -999,-999,9,     -999,9,     -999,9,     -999,9,     -999,9,     -999,9,     -999,9,-999,9,     -999,9,     -999,9,     -999,9,    -999,    -999
33RR20080204,       I06S,      94,          2,          8,          8,2,20080305,       1427,   -68.3502,    31.3703,        796,   457.2,  -0.0153,  34.5890,2,  34.5887,2,    241.6,2,   242.5,2,   85.25,2,   31.52,2,    0.00,2,    2.19,2,   2.577,2,   1.333,2,   0.226,2,    -999,9,    -999,9,     -999,9,     -999,    -999,9,    -999,9,    -999,9,-0.0143,2,-999,9,-999,9,-999,    -999,9,    -999,2.957,2,-999,9,-999,9,    -999,9,-999,9, 20080305,     1442, -68.3504,  31.3702,    -999,-999,9,     -999,9,     -999,9,     -999,9,     -999,9,     -999,9,     -999,9,-999,9,     -999,9,     -999,9,     -999,9,    -999,    -999
33RR20080204,       I06S,      94,          2,          7,          7,2,20080305,       1427,   -68.3502,    31.3703,        796,   506.9,   0.0350,  34.6080,2,  34.6064,2,    238.1,2,   239.1,2,   88.86,2,   31.52,2,    0.00,2,    2.19,2,   2.298,2,   1.209,2,   0.206,2,    -999,9,    -999,9,     -999,9,     -999,    -999,9,    -999,9,    -999,9,0.0351,2,-999,9,-999,9,-999,    -999,9,    -999,2.629,2,-999,9,-999,9,    -999,9,-999,9, 20080305,     1440, -68.3504,  31.3702,    -999,-999,9,     -999,9,     -999,9,     -999,9,     -999,9,     -999,9,     -999,9,-999,9,     -999,9,     -999,9,     -999,9,    -999,    -999
33RR20080204,       I06S,      94,          2,          6,          6,2,20080305,       1427,   -68.3502,    31.3703,        796,   558.5,   0.1516,  34.6293,2,  34.6289,2,    232.7,2,   232.9,2,   93.69,2,   31.63,2,    0.00,2,    2.19,2,   1.911,2,   1.013,2,   0.168,2,    -999,9,    -999,9,     -999,9,     -999,    -999,9,    -999,9,    -999,9,0.1511,2,-999,9,-999,9,-999,    -999,9,    -999,2.257,2,-999,9,-0.15,2,    -999,9,-999,9, 20080305,     1438, -68.3504,  31.3702,    -999,-999,9,     -999,9,     -999,9,     -999,9,     -999,9,     -999,9,     -999,9,-999,9,     -999,9,     -999,9,     -999,9,    -999,    -999
33RR20080204,       I06S,      94,          2,          5,          5,2,20080305,       1427,   -68.3502,    31.3703,        796,   607.8,   0.2063,  34.6413,2,  34.6399,2,    229.2,2,   230.5,2,   96.70,2,   31.68,2,    0.00,2,    2.19,2,   1.740,2,   0.895,2,   0.103,2,    -999,9,    -999,9,     -999,9,     -999,    -999,9,    -999,9,    -999,9,0.2081,2,-999,9,-999,9,-999,    -999,9,    -999,2.043,2,-999,9,-999,9,    -999,9,-999,9, 20080305,     1436, -68.3504,  31.3702,    -999,-999,9,     -999,9,     -999,9,     -999,9,     -999,9,     -999,9,     -999,9,-999,9,     -999,9,     -999,9,     -999,9,    -999,    -999
33RR20080204,       I06S,      94,          2,          4,          4,2,20080305,       1427,   -68.3502,    31.3703,        796,   654.5,   0.2209,  34.6452,2,  34.6460,2,    227.8,2,   228.1,2,   98.31,2,   31.74,2,    0.00,2,    2.19,2,   1.593,2,   0.851,2,   0.118,2,    -999,9,    -999,9,     -999,9,     -999,    -999,9,    -999,9,    -999,9,0.2217,2,-999,9,-999,9,-999,    -999,9,    -999,2.105,2,-999,9,-999,9,    -999,9,-999,9, 20080305,     1434, -68.3504,  31.3702,    -999,-999,9,     -999,9,     -999,9,     -999,9,     -999,9,     -999,9,     -999,9,-999,9,     -999,9,     -999,9,     -999,9,    -999,    -999
33RR20080204,       I06S,      94,          2,          3,          3,2,20080305,       1427,   -68.3502,    31.3703,        796,   708.7,   0.2157,  34.6636,2,  34.6638,2,    222.2,2,   221.8,2,  110.24,2,   32.14,2,    0.01,2,    2.23,2,   1.019,2,   0.557,2,   0.068,2,    -999,9,    -999,9,     -999,9,     -999,    -999,9,    -999,9,    -999,9,0.2154,2,-999,9,-999,9,-999,    -999,9,    -999,1.69,2,-999,9,-999,9,    -999,9,-999,9, 20080305,     1432, -68.3505,  31.3702,    -999,-999,9,     -999,9,     -999,9,     -999,9,     -999,9,     -999,9,     -999,9,-999,9,     -999,9,     -999,9,     -999,9,    -999,    -999
33RR20080204,       I06S,      94,          2,          2,          2,2,20080305,       1427,   -68.3502,    31.3703,        796,   757.3,   0.1483,  34.6650,2,  34.6648,2,    221.9,2,   222.6,2,  113.69,2,   32.30,2,    0.02,2,    2.24,2,   0.980,2,   0.525,2,   0.069,2,    -999,9,    -999,9,     -999,9,     -999,    -999,9,    -999,9,    -999,9,0.1477,2,-999,9,-999,9,-999,    -999,9,    -999,1.704,2,-999,9,-999,9,    -999,9,-999,9, 20080305,     1430, -68.3503,  31.3702,    -999,-999,9,     -999,9,     -999,9,     -999,9,     -999,9,     -999,9,     -999,9,-999,9,     -999,9,     -999,9,     -999,9,    -999,    -999
33RR20080204,       I06S,      94,          2,          1,          1,2,20080305,       1427,   -68.3502,    31.3703,        796,   782.5,   0.1500,  34.6649,2,  34.6644,2,    222.1,2,   222.5,2,  113.47,2,   32.30,2,    0.02,2,    2.24,2,   0.987,2,   0.538,2,   0.073,2,    -999,9,    -999,9,     -999,9,     -999,    -999,9,    -999,9,    -999,9,0.1494,2,-999,9,-999,9,-999,    -999,9,    -999,1.75,2,-999,9,-0.1,2,    -999,9,-999,9, 20080305,     1428, -68.3503,  31.3702,    -999,-999,9,     -999,9,     -999,9,     -999,9,     -999,9,     -999,9,     -999,9,-999,9,     -999,9,     -999,9,     -999,9,    -999,    -999