BOTTLE,20220706CCHSIOAMB
EXPOCODE,SECT_ID,STNNBR,CASTNO,SAMPNO,BTLNBR,BTLNBR_FLAG_W,DATE,TIME,LATITUDE,LONGITUDE,DEPTH,CTDPRS,CTDTMP,CTDSAL,CTDSAL_FLAG_W,SALNTY,SALNTY_FLAG_W,CTDOXY,CTDOXY_FLAG_W,OXYGEN,OXYGEN_FLAG_W,SILCAT,SILCAT_FLAG_W,NITRAT,NITRAT_FLAG_W,NITRIT,NITRIT_FLAG_W,PHSPHT,PHSPHT_FLAG_W,CFC-11,CFC-11_FLAG_W,CFC-12,CFC-12_FLAG_W,CFC113,CFC113_FLAG_W,TCARBN,TCARBN_FLAG_W,ALKALI,ALKALI_FLAG_W,PH_SWS,PH_SWS_FLAG_W,PH_TMP,TRITUM,TRITUM_FLAG_W,HELIUM,HELIUM_FLAG_W,DELHE3,DELHE3_FLAG_W,REFTMP,REFTMP_FLAG_W,DELC13,DELC13_FLAG_W,DELC14,DELC14_FLAG_W,C14ERR,NEON,NEON_FLAG_W,NEONER,CCL4,CCL4_FLAG_W,ALUMIN,ALUMIN_FLAG_W,DELO18,DELO18_FLAG_W,DOC,DOC_FLAG_W,TDN,TDN_FLAG_W,BTL_DATE,BTL_TIME,BTL_LAT,BTL_LON,TRITER,DELSI30,DELSI30_FLAG_W,CDOM380,CDOM380_FLAG_W,CDOM325,CDOM325_FLAG_W,CDOMSL,CDOMSL_FLAG_W,CDOM340,CDOM340_FLAG_W,CDOM443,CDOM443_FLAG_W,CDOMSN,CDOMSN_FLAG_W,BLACKC,BLACKC_FLAG_W,CDOM490,CDOM490_FLAG_W,CDOM412,CDOM412_FLAG_W,CDOM555,CDOM555_FLAG_W,DELHER,HELIER
,,,,,,,,,,,METERS,DBAR,ITS-90,PSS-78,,PSS-78,,UMOL/KG,,UMOL/KG,,UMOL/KG,,UMOL/KG,,UMOL/KG,,UMOL/KG,,PMOL/KG,,PMOL/KG,,PMOL/KG,,UMOL/KG,,UMOL/KG,,,,DEG C,TU,,NMOL/KG,,PERCNT,,DEG C,,/MILLE,,/MILLE,,/MILLE,NMOL/KG,,NMOL/KG,PMOL/KG,,NMOL/L,,/MILLE,,UMOL/KG,,UMOL/KG,,,,,,TU,/MILLE,,1/M,,1/M,,1/NM,,1/M,,1/M,,1/NM,,,,1/M,,1/M,,1/M,,PERCNT,NMOL/KG
33RR20080204,       I06S,      48,          1,          7,          7,2,20080220,       1754,   -51.0000,    30.0000,       5890,  4537.5,  -0.0731,  34.6607,2,  34.6597,2,    234.3,2,   234.7,2,  129.12,2,   32.33,2,    0.00,2,    2.25,2,   0.467,2,   0.238,2,   0.031,2,    -999,9,  2352.9,2,     -999,9,     -999,  -0.003,2,   1.879,2,    6.22,2,-0.0724,2,-999,9,-999,9,-999,   8.200,2,   0.031,0.9,2,-999,9,-999,9,    -999,9,-999,9, 20080220,     1829, -51.0000,  30.0000,   0.009,-999,9,     -999,9,     -999,9,     -999,9,     -999,9,     -999,9,     -999,9,-999,9,     -999,9,     -999,9,     -999,9,    0.15,   0.007
33RR20080204,       I06S,      48,          1,          6,          6,2,20080220,       1754,   -51.0000,    30.0000,       5890,  4745.9,  -0.0757,  34.6596,2,  34.6582,2,    235.8,2,   235.4,2,  129.88,2,   32.33,2,    0.00,2,    2.25,2,   0.455,2,   0.236,2,   0.034,2,    -999,9,    -999,9,     -999,9,     -999,  -0.004,2,   1.901,2,    6.14,2,-0.0753,2,-999,9,-999,9,-999,   8.317,2,   0.032,1.117,2,-999,9,-999,9,    -999,9,-999,9, 20080220,     1824, -50.9999,  29.9999,   0.009,-999,9,     -999,9,     -999,9,     -999,9,     -999,9,     -999,9,     -999,9,-999,9,     -999,9,     -999,9,     -999,9,    0.15,   0.007
33RR20080204,       I06S,      48,          1,          5,          5,2,20080220,       1754,   -51.0000,    30.0000,       5890,  4951.2,  -0.0711,  34.6587,2,  34.6568,2,    236.5,2,   236.0,2,  129.89,2,   32.33,2,    0.00,2,    2.25,2,   0.453,2,   0.241,2,   0.021,2,    -999,9,  2353.2,2,     -999,9,     -999,  -0.004,2,   1.884,2,    5.97,2,-0.0705,2,-999,9,-999,9,-999,   8.243,2,   0.031,1.119,2,-999,9,-999,9,    -999,9,-999,9, 20080220,     1819, -51.0001,  30.0001,   0.009,-999,9,     -999,9,     -999,9,     -999,9,     -999,9,     -999,9,     -999,9,-999,9,     -999,9,     -999,9,     -999,9,    0.15,   0.007
33RR20080204,       I06S,      48,          1,          4,          4,2,20080220,       1754,   -51.0000,    30.0000,       5890,  5155.0,  -0.0599,  34.6577,2,  34.6568,2,    237.1,2,   236.4,2,    -999,5,    -999,5,    -999,5,    -999,5,   0.463,2,   0.245,2,   0.033,2,    -999,9,  2353.4,2,     -999,9,     -999,    -999,9,    -999,9,    -999,9,-0.0601,2,-999,9,-999,9,-999,    -999,9,    -999,1.161,2,-999,9,-999,9,    -999,9,-999,9, 20080220,     1814, -51.0001,  30.0001,    -999,-999,9,     -999,9,     -999,9,     -999,9,     -999,9,     -999,9,     -999,9,-999,9,     -999,9,     -999,9,     -999,9,    -999,    -999
33RR20080204,       I06S,      48,          1,          3,          3,2,20080220,       1754,   -51.0000,    30.0000,       5890,  5366.3,  -0.0393,  34.6572,2,  34.6576,2,    237.4,2,   236.8,2,  130.46,2,   32.33,2,    0.00,2,    2.25,2,   0.466,2,   0.237,2,   0.044,2,    -999,9,  2353.1,2,     -999,9,     -999,  -0.003,2,   1.895,2,    5.99,2,-0.0392,2,-999,9,-999,9,-999,   8.290,2,   0.032,1.155,2,-999,9,-999,9,    -999,9,-999,9, 20080220,     1809, -51.0001,  30.0001,   0.009,-999,9,     -999,9,     -999,9,     -999,9,     -999,9,     -999,9,     -999,9,-999,9,     -999,9,     -999,9,     -999,9,    0.15,   0.007
33RR20080204,       I06S,      48,          1,          2,          2,2,20080220,       1754,   -51.0000,    30.0000,       5890,  5715.5,   0.0008,  34.6569,2,  34.6568,2,    237.9,2,   236.9,2,  130.27,2,   32.33,2,    0.00,2,    2.25,2,   0.466,2,   0.239,2,   0.042,2,    -999,9,  2351.9,2,     -999,9,     -999,  -0.004,2,   1.906,2,    5.95,2,0.0012,2,-999,9,-999,9,-999,   8.282,2,   0.031,1.089,2,-999,9,-999,9,    -999,9,-999,9, 20080220,     1801, -51.0000,  30.0000,   0.009,-999,9,     -999,9,     -999,9,     -999,9,     -999,9,     -999,9,     -999,9,-999,9,     -999,9,     -999,9,     -999,9,    0.15,   0.007
33RR20080204,       I06S,      48,          1,          1,          1,2,20080220,       1754,   -51.0000,    30.0000,       5890,  5920.0,   0.0256,  34.6568,2,  34.6557,2,    237.5,2,   236.9,2,  130.46,2,   32.34,2,    0.00,2,    2.25,2,   0.470,2,   0.253,2,   0.012,2,    -999,9,  2352.9,2,     -999,9,     -999,   0.000,2,    -999,1,    -999,9,0.0263,2,-999,9,-999,9,-999,    -999,9,    -999,0.875,2,-999,9,-999,9,    -999,9,-999,9, 20080220,     1756, -51.0001,  30.0000,   0.009,-999,9,     -999,9,     -999,9,     -999,9,     -999,9,     -999,9,     -999,9,-999,9,     -999,9,     -999,9,     -999,9,    -999,    -999