BOTTLE,20220706CCHSIOAMB
EXPOCODE,SECT_ID,STNNBR,CASTNO,SAMPNO,BTLNBR,BTLNBR_FLAG_W,DATE,TIME,LATITUDE,LONGITUDE,DEPTH,CTDPRS,CTDTMP,CTDSAL,CTDSAL_FLAG_W,SALNTY,SALNTY_FLAG_W,CTDOXY,CTDOXY_FLAG_W,OXYGEN,OXYGEN_FLAG_W,SILCAT,SILCAT_FLAG_W,NITRAT,NITRAT_FLAG_W,NITRIT,NITRIT_FLAG_W,PHSPHT,PHSPHT_FLAG_W,CFC-11,CFC-11_FLAG_W,CFC-12,CFC-12_FLAG_W,CFC113,CFC113_FLAG_W,TCARBN,TCARBN_FLAG_W,ALKALI,ALKALI_FLAG_W,PH_SWS,PH_SWS_FLAG_W,PH_TMP,TRITUM,TRITUM_FLAG_W,HELIUM,HELIUM_FLAG_W,DELHE3,DELHE3_FLAG_W,REFTMP,REFTMP_FLAG_W,DELC13,DELC13_FLAG_W,DELC14,DELC14_FLAG_W,C14ERR,NEON,NEON_FLAG_W,NEONER,CCL4,CCL4_FLAG_W,ALUMIN,ALUMIN_FLAG_W,DELO18,DELO18_FLAG_W,DOC,DOC_FLAG_W,TDN,TDN_FLAG_W,BTL_DATE,BTL_TIME,BTL_LAT,BTL_LON,TRITER,DELSI30,DELSI30_FLAG_W,CDOM380,CDOM380_FLAG_W,CDOM325,CDOM325_FLAG_W,CDOMSL,CDOMSL_FLAG_W,CDOM340,CDOM340_FLAG_W,CDOM443,CDOM443_FLAG_W,CDOMSN,CDOMSN_FLAG_W,BLACKC,BLACKC_FLAG_W,CDOM490,CDOM490_FLAG_W,CDOM412,CDOM412_FLAG_W,CDOM555,CDOM555_FLAG_W,DELHER,HELIER
,,,,,,,,,,,METERS,DBAR,ITS-90,PSS-78,,PSS-78,,UMOL/KG,,UMOL/KG,,UMOL/KG,,UMOL/KG,,UMOL/KG,,UMOL/KG,,PMOL/KG,,PMOL/KG,,PMOL/KG,,UMOL/KG,,UMOL/KG,,,,DEG C,TU,,NMOL/KG,,PERCNT,,DEG C,,/MILLE,,/MILLE,,/MILLE,NMOL/KG,,NMOL/KG,PMOL/KG,,NMOL/L,,/MILLE,,UMOL/KG,,UMOL/KG,,,,,,TU,/MILLE,,1/M,,1/M,,1/NM,,1/M,,1/M,,1/NM,,,,1/M,,1/M,,1/M,,PERCNT,NMOL/KG
33RR20080204,       I06S,      19,          1,         36,         36,2,20080210,       2201,   -36.5004,    30.0024,       4676,     6.3,  21.5423,  35.6285,2,  35.6273,2,    225.2,2,   225.8,2,    2.66,2,    0.11,2,    0.00,2,    0.08,2,    -999,9,    -999,9,    -999,9,  2031.6,2,  2334.4,2,   8.1160,2,    20.00,    -999,9,    -999,9,    -999,9,-999,9,-999,9,-999,9,-999,    -999,9,    -999,-999,9,-999,9,-999,9,    -999,9,-999,9, 20080211,     0031, -36.5004,  30.0024,    -999,-999,9,     -999,9,     -999,9,     -999,9,     -999,9,     -999,9,     -999,9,-999,9,     -999,9,     -999,9,     -999,9,    -999,    -999
33RR20080204,       I06S,      19,          1,         35,         35,2,20080210,       2201,   -36.5004,    30.0024,       4676,     6.4,  21.5421,  35.6286,2,  35.6273,2,    225.2,2,   225.1,2,    2.65,2,    0.11,2,    0.00,2,    0.08,2,   2.159,2,   1.313,2,   0.161,2,  2033.2,2,  2335.3,2,   8.1160,2,    20.00,    -999,9,    -999,9,    -999,9,21.5422,2,1.19,2,51.1,2,3.3,    -999,9,    -999,3.206,2,-999,9,-999,9,   70.54,2,-999,1, 20080211,     0031, -36.5004,  30.0024,    -999,-999,9,     -999,9,     -999,9,     -999,9,     -999,9,     -999,9,     -999,9,-999,9,     -999,9,     -999,9,     -999,9,    -999,    -999
33RR20080204,       I06S,      19,          1,         34,         34,2,20080210,       2201,   -36.5004,    30.0024,       4676,    26.1,  21.5352,  35.6281,2,  35.6270,2,    226.0,2,   225.1,2,    2.44,2,    0.11,2,    0.00,2,    0.08,2,   2.159,2,   1.306,2,   0.161,2,  2030.1,2,  2335.1,2,   8.1150,2,    20.00,    -999,9,    -999,9,    -999,9,21.5384,2,1.19,2,52.1,2,3.3,    -999,9,    -999,3.175,2,-999,9,-999,9,   64.98,2,-999,1, 20080211,     0029, -36.5004,  30.0024,    -999,-999,9,     -999,9,     -999,9,     -999,9,     -999,9,     -999,9,     -999,9,-999,9,     -999,9,     -999,9,     -999,9,    -999,    -999
33RR20080204,       I06S,      19,          1,         33,         33,2,20080210,       2201,   -36.5004,    30.0024,       4676,    46.2,  21.3433,  35.6109,2,  35.6053,2,    227.5,2,   227.6,2,    2.62,2,    0.11,2,    0.00,2,    0.08,2,   2.200,2,   1.324,2,   0.167,2,  2031.3,2,  2334.4,2,   8.1150,2,    20.00,    -999,9,    -999,9,    -999,9,21.3307,2,1.18,2,51.7,2,3.3,    -999,9,    -999,3.005,2,-999,9,-999,9,   66.34,2,-999,1, 20080211,     0028, -36.5004,  30.0024,    -999,-999,9,     -999,9,     -999,9,     -999,9,     -999,9,     -999,9,     -999,9,-999,9,     -999,9,     -999,9,     -999,9,    -999,    -999
33RR20080204,       I06S,      19,          1,         32,         32,2,20080210,       2201,   -36.5004,    30.0024,       4676,    82.0,  18.5899,  35.5272,2,  35.5236,2,    220.2,2,   218.2,2,    3.19,2,    1.19,2,    0.07,2,    0.22,2,   2.417,2,   1.461,2,   0.171,2,  2051.9,2,  2329.8,2,   8.0730,2,    20.00,    -999,9,    -999,9,    -999,9,18.5779,2,0.92,2,48.1,2,3.2,    -999,9,    -999,2.286,2,-999,9,-999,9,   58.44,2,-999,1, 20080211,     0026, -36.5004,  30.0024,    -999,-999,9,     -999,9,     -999,9,     -999,9,     -999,9,     -999,9,     -999,9,-999,9,     -999,9,     -999,9,     -999,9,    -999,    -999
33RR20080204,       I06S,      19,          1,         31,         31,2,20080210,       2201,   -36.5004,    30.0024,       4676,   106.2,  18.0969,  35.5249,2,  35.5244,2,    210.4,2,   212.8,2,    3.57,2,    2.92,2,    0.02,2,    0.31,2,   2.438,2,   1.481,2,   0.165,2,    -999,9,  2327.5,2,   8.0570,2,    20.00,    -999,9,    -999,9,    -999,9,18.0962,2,-999,9,-999,9,-999,    -999,9,    -999,2.09,2,-999,9,-999,9,    -999,9,-999,9, 20080211,     0024, -36.5003,  30.0024,    -999,-999,9,     -999,9,     -999,9,     -999,9,     -999,9,     -999,9,     -999,9,-999,9,     -999,9,     -999,9,     -999,9,    -999,    -999
33RR20080204,       I06S,      19,          1,         30,         30,2,20080210,       2201,   -36.5004,    30.0024,       4676,   155.5,  17.3701,  35.5356,2,  35.5345,2,    210.8,2,   210.5,2,    4.15,2,    4.07,2,    0.01,2,    0.37,2,   2.501,2,   1.507,2,   0.137,2,  2072.5,2,  2329.7,2,   8.0370,3,    20.00,    -999,9,    -999,9,    -999,9,17.3687,2,0.76,2,60.5,2,2.9,    -999,9,    -999,2.168,2,-999,9,-999,9,   59.12,2,-999,1, 20080211,     0021, -36.5003,  30.0024,    -999,-999,9,     -999,9,     -999,9,     -999,9,     -999,9,     -999,9,     -999,9,-999,9,     -999,9,     -999,9,     -999,9,    -999,    -999
33RR20080204,       I06S,      19,          1,         29,         29,2,20080210,       2201,   -36.5004,    30.0024,       4676,   206.0,  16.7949,  35.5497,2,  35.5485,2,    219.6,2,   225.1,2,    3.15,2,    2.68,2,    0.01,2,    0.29,2,   2.598,6,   1.571,6,   0.210,6,    -999,9,  2328.8,2,   8.0430,2,    20.00,    -999,9,    -999,9,    -999,9,16.7911,2,-999,9,-999,9,-999,    -999,9,    -999,2.3365,6,-999,9,-999,9,    -999,9,-999,9, 20080211,     0019, -36.5004,  30.0024,    -999,-999,9,     -999,9,     -999,9,     -999,9,     -999,9,     -999,9,     -999,9,-999,9,     -999,9,     -999,9,     -999,9,    -999,    -999
33RR20080204,       I06S,      19,          1,         28,         28,2,20080210,       2201,   -36.5004,    30.0024,       4676,   256.7,  16.5821,  35.5464,2,  35.5459,2,    225.5,2,   226.0,2,    3.34,2,    3.18,2,    0.01,2,    0.32,2,   2.620,2,   1.569,2,   0.192,2,  2070.7,2,  2328.5,2,   8.0380,2,    20.00,    -999,9,    -999,9,    -999,9,16.5814,2,-999,5,-999,5,-999,    -999,9,    -999,2.316,2,-999,9,-999,9,   55.22,2,-999,1, 20080211,     0016, -36.5004,  30.0024,    -999,-999,9,     -999,9,     -999,9,     -999,9,     -999,9,     -999,9,     -999,9,-999,9,     -999,9,     -999,9,     -999,9,    -999,    -999
33RR20080204,       I06S,      19,          1,         27,         27,2,20080210,       2201,   -36.5004,    30.0024,       4676,   306.8,  16.3857,  35.5339,2,  35.5330,2,    227.6,2,   226.5,2,    3.71,2,    3.73,2,    0.01,2,    0.36,2,   2.669,2,   1.584,2,   0.181,2,    -999,9,  2328.8,2,   8.0340,2,    20.00,    -999,9,    -999,9,    -999,9,16.3854,2,-999,9,-999,9,-999,    -999,9,    -999,2.206,2,-999,9,-999,9,    -999,9,-999,9, 20080211,     0014, -36.5004,  30.0024,    -999,-999,9,     -999,9,     -999,9,     -999,9,     -999,9,     -999,9,     -999,9,-999,9,     -999,9,     -999,9,     -999,9,    -999,    -999
33RR20080204,       I06S,      19,          1,         26,         26,2,20080210,       2201,   -36.5004,    30.0024,       4676,   356.2,  15.9052,  35.4988,2,  35.4982,2,    215.2,2,   213.1,2,    4.09,2,    5.67,2,    0.01,2,    0.48,2,   2.687,2,   1.593,2,   0.102,2,  2087.8,2,  2328.3,2,   8.0040,2,    20.00,    -999,9,    -999,9,    -999,9,15.9043,2,0.62,2,69.0,2,3.6,    -999,9,    -999,1.708,2,-999,9,-999,9,   51.61,2,-999,1, 20080211,     0011, -36.5004,  30.0024,    -999,-999,9,     -999,9,     -999,9,     -999,9,     -999,9,     -999,9,     -999,9,-999,9,     -999,9,     -999,9,     -999,9,    -999,    -999
33RR20080204,       I06S,      19,          1,         25,         25,2,20080210,       2201,   -36.5004,    30.0024,       4676,   405.9,  15.2038,  35.4554,2,  35.4559,2,    211.6,2,   211.9,2,    4.27,2,    6.65,2,    0.01,2,    0.55,2,   2.817,2,   1.644,2,   0.071,2,    -999,9,  2326.7,2,   7.9840,2,    20.00,    -999,9,    -999,9,    -999,9,15.2049,2,-999,9,-999,9,-999,    -999,9,    -999,1.395,2,-999,9,-999,9,    -999,9,-999,9, 20080211,     0009, -36.5003,  30.0024,    -999,-999,1,     -999,9,     -999,9,     -999,9,     -999,9,     -999,9,     -999,9,-999,9,     -999,9,     -999,9,     -999,9,    -999,    -999
33RR20080204,       I06S,      19,          1,         24,         24,2,20080210,       2201,   -36.5004,    30.0024,       4676,   431.1,  14.9853,  35.4512,2,  35.4506,2,    214.0,2,   216.8,2,    4.26,2,    6.51,2,    0.01,2,    0.54,2,   2.862,2,   1.648,2,   0.079,2,  2097.5,2,  2326.1,2,   7.9850,2,    20.00,    -999,9,    -999,9,    -999,9,14.9878,2,0.81,2,70.0,2,3.4,    -999,9,    -999,2.253,2,-999,9,-999,9,   48.39,2,-999,1, 20080211,     0007, -36.5004,  30.0024,    -999,-999,9,     -999,9,     -999,9,     -999,9,     -999,9,     -999,9,     -999,9,-999,9,     -999,9,     -999,9,     -999,9,    -999,    -999
33RR20080204,       I06S,      19,          1,         23,         23,2,20080210,       2201,   -36.5004,    30.0024,       4676,   507.0,  14.3685,  35.4111,2,  35.4129,2,    225.9,2,   226.1,2,    4.05,2,    6.65,2,    0.01,2,    0.55,2,   2.926,2,   1.711,2,   0.076,2,    -999,9,  2324.8,2,   7.9820,2,    20.00,    -999,9,    -999,9,    -999,9,14.3669,2,-999,9,-999,9,-999,    -999,9,    -999,1.889,2,-999,9,-999,9,    -999,9,-999,9, 20080211,     0004, -36.5003,  30.0024,    -999,-999,9,     -999,9,     -999,9,     -999,9,     -999,9,     -999,9,     -999,9,-999,9,     -999,9,     -999,9,     -999,9,    -999,    -999
33RR20080204,       I06S,      19,          1,         22,         22,2,20080210,       2201,   -36.5004,    30.0024,       4676,   607.0,  13.4387,  35.2925,2,  35.2921,2,    222.0,2,   222.9,2,    4.43,2,    8.90,2,    0.00,2,    0.69,2,   3.100,2,   1.780,2,   0.068,2,  2105.1,2,  2319.3,2,   7.9530,2,    20.00,    -999,9,    -999,9,    -999,9,13.439,2,0.94,2,66.3,2,4.3,    -999,9,    -999,1.75,2,-999,9,-999,9,   48.10,2,-999,1, 20080210,     0000, -36.5003,  30.0024,    -999,-999,1,     -999,9,     -999,9,     -999,9,     -999,9,     -999,9,     -999,9,-999,9,     -999,9,     -999,9,     -999,9,    -999,    -999
33RR20080204,       I06S,      19,          1,         21,         21,2,20080210,       2201,   -36.5004,    30.0024,       4676,   707.0,  12.6350,  35.1740,2,  35.1733,2,    220.7,2,   220.2,2,    4.81,2,   10.84,2,    0.00,2,    0.81,2,   3.167,2,   1.782,2,   0.080,2,    -999,9,  2313.5,2,   7.9310,2,    20.00,    -999,9,    -999,9,    -999,9,12.6327,2,-999,9,-999,9,-999,    -999,9,    -999,1.949,2,-999,9,-999,9,    -999,9,-999,9, 20080210,     2356, -36.5004,  30.0024,    -999,-999,9,     -999,9,     -999,9,     -999,9,     -999,9,     -999,9,     -999,9,-999,9,     -999,9,     -999,9,     -999,9,    -999,    -999
33RR20080204,       I06S,      19,          1,         20,         20,2,20080210,       2201,   -36.5004,    30.0024,       4676,   807.4,  11.6054,  35.0224,2,  35.0241,2,    218.6,2,   218.8,2,    5.58,2,   12.94,2,    0.00,2,    0.96,2,   3.236,2,   1.747,2,   0.096,2,  2124.5,2,  2308.7,2,   7.9040,2,    20.00,    -999,9,    -999,9,    -999,9,11.6083,2,1.06,2,60.4,2,3.6,    -999,9,    -999,2.213,2,-999,9,-999,9,   46.24,2,-999,1, 20080210,     2352, -36.5005,  30.0025,    -999,-999,1,     -999,9,     -999,9,     -999,9,     -999,9,     -999,9,     -999,9,-999,9,     -999,9,     -999,9,     -999,9,    -999,    -999
33RR20080204,       I06S,      19,          1,         19,         19,2,20080210,       2201,   -36.5004,    30.0024,       4676,   906.8,  10.5989,  34.8780,2,  34.8789,2,    216.4,2,   216.3,2,    6.95,2,   15.54,2,    0.00,2,    1.11,2,   3.155,2,   1.667,2,   0.100,2,    -999,9,  2303.1,2,   7.8760,2,    20.00,    -999,9,    -999,9,    -999,9,10.5996,2,-999,9,-999,9,-999,    -999,9,    -999,2.321,2,-999,9,-999,9,    -999,9,-999,9, 20080210,     2349, -36.5003,  30.0022,    -999,-999,9,     -999,9,     -999,9,     -999,9,     -999,9,     -999,9,     -999,9,-999,9,     -999,9,     -999,9,     -999,9,    -999,    -999
33RR20080204,       I06S,      19,          1,         18,         18,2,20080210,       2201,   -36.5004,    30.0024,       4676,  1007.2,   9.3420,  34.7257,2,  34.7269,2,    210.4,2,   210.6,2,   10.09,2,   18.90,2,    0.00,2,    1.33,2,   2.963,2,   1.530,2,   0.107,2,  2143.9,6,  2297.6,2,   7.8390,2,    20.00,    -999,9,    -999,9,    -999,9,9.3392,2,0.68,2,29.7,2,3.6,    -999,9,    -999,2.836,2,-999,9,-999,9,   42.63,2,-999,1, 20080210,     2345, -36.5003,  30.0023,    -999,-999,1,     -999,9,     -999,9,     -999,9,     -999,9,     -999,9,     -999,9,-999,9,     -999,9,     -999,9,     -999,9,    -999,    -999
33RR20080204,       I06S,      19,          1,         17,         17,2,20080210,       2201,   -36.5004,    30.0024,       4676,  1108.7,   8.0688,  34.6091,2,  34.6108,2,    194.4,2,   194.9,2,   17.03,2,   23.38,2,    0.00,2,    1.62,2,   2.492,2,   1.289,2,   0.104,2,    -999,9,  2297.5,2,     -999,9,     -999,    -999,9,    -999,9,    -999,9,8.0698,2,-999,9,-999,9,-999,    -999,9,    -999,1.095,2,-999,9,-999,9,    -999,9,-999,9, 20080210,     2342, -36.5004,  30.0024,    -999,-999,9,     -999,9,     -999,9,     -999,9,     -999,9,     -999,9,     -999,9,-999,9,     -999,9,     -999,9,     -999,9,    -999,    -999
33RR20080204,       I06S,      19,          1,         16,         16,2,20080210,       2201,   -36.5004,    30.0024,       4676,  1210.1,   6.6080,  34.4888,2,  34.4898,2,    196.3,2,   197.5,2,   22.98,2,   26.51,2,    0.00,2,    1.83,2,   2.195,2,   1.097,2,   0.109,2,    -999,9,  2298.3,2,     -999,9,     -999,    -999,9,    -999,9,    -999,9,6.6116,2,-999,9,-999,9,-999,    -999,9,    -999,2.999,2,-999,9,-999,9,    -999,9,-999,9, 20080210,     2338, -36.5004,  30.0024,    -999,-999,9,     -999,9,     -999,9,     -999,9,     -999,9,     -999,9,     -999,9,-999,9,     -999,9,     -999,9,     -999,9,    -999,    -999
33RR20080204,       I06S,      19,          1,         15,         15,2,20080210,       2201,   -36.5004,    30.0024,       4676,  1319.0,   5.4185,  34.4325,2,  34.4308,2,    195.4,2,   194.9,2,   31.38,2,   29.29,2,    0.00,2,    2.03,2,   1.969,2,   0.961,2,   0.099,2,    -999,9,  2301.7,2,     -999,9,     -999,    -999,9,    -999,9,    -999,9,5.4187,2,-999,9,-999,9,-999,    -999,9,    -999,2.9,2,-999,9,-999,9,    -999,9,-999,9, 20080210,     2334, -36.5003,  30.0023,    -999,-999,9,     -999,9,     -999,9,     -999,9,     -999,9,     -999,9,     -999,9,-999,9,     -999,9,     -999,9,     -999,9,    -999,    -999
33RR20080204,       I06S,      19,          1,         14,         14,2,20080210,       2201,   -36.5004,    30.0024,       4676,  1420.6,   4.7581,  34.4435,2,  34.4453,2,    183.9,2,   185.4,2,   40.81,2,   31.11,2,    0.00,2,    2.17,2,   1.468,2,   0.710,2,   0.083,2,  2212.7,2,  2310.3,2,     -999,9,     -999,    -999,9,    -999,9,    -999,9,4.7573,2,0.76,2,-83.9,2,3.0,    -999,9,    -999,2.565,2,-999,9,-999,9,   39.32,2,-999,1, 20080210,     2330, -36.5003,  30.0024,    -999,-999,9,     -999,9,     -999,9,     -999,9,     -999,9,     -999,9,     -999,9,-999,9,     -999,9,     -999,9,     -999,9,    -999,    -999
33RR20080204,       I06S,      19,          1,         13,         13,2,20080210,       2201,   -36.5004,    30.0024,       4676,  1521.3,   4.2010,  34.4546,2,  34.4559,2,    179.8,2,   180.6,2,   47.86,2,   32.24,2,    0.00,2,    2.26,2,   1.205,2,   0.593,2,   0.077,2,    -999,9,  2315.3,2,     -999,9,     -999,    -999,9,    -999,9,    -999,9,4.2023,2,-999,9,-999,9,-999,    -999,9,    -999,1.681,2,-999,9,-999,9,    -999,9,-999,9, 20080210,     2327, -36.5004,  30.0025,    -999,-999,9,     -999,9,     -999,9,     -999,9,     -999,9,     -999,9,     -999,9,-999,9,     -999,9,     -999,9,     -999,9,    -999,    -999
33RR20080204,       I06S,      19,          1,         12,         12,2,20080210,       2201,   -36.5004,    30.0024,       4676,  1622.4,   3.8551,  34.5054,2,  34.5054,2,    172.1,2,   171.8,2,   56.76,2,   33.19,2,    0.00,2,    2.32,2,   0.829,2,   0.415,2,   0.047,2,    -999,9,  2324.9,2,     -999,9,     -999,    -999,9,    -999,9,    -999,9,3.8533,2,-999,9,-999,9,-999,    -999,9,    -999,1.282,2,-999,9,-999,9,    -999,9,-999,9, 20080210,     2323, -36.5005,  30.0026,    -999,-999,9,     -999,9,     -999,9,     -999,9,     -999,9,     -999,9,     -999,9,-999,9,     -999,9,     -999,9,     -999,9,    -999,    -999
33RR20080204,       I06S,      19,          1,         11,         11,2,20080210,       2201,   -36.5004,    30.0024,       4676,  1722.6,   3.6039,  34.5437,2,  34.5457,2,    167.8,2,   166.5,2,   62.63,2,   33.49,2,    0.00,2,    2.34,2,   0.570,2,   0.289,2,   0.026,2,    -999,9,  2330.6,2,     -999,9,     -999,    -999,9,    -999,9,    -999,9,3.6038,2,-999,9,-999,9,-999,    -999,9,    -999,0.924,2,-999,9,-999,9,    -999,9,-999,9, 20080210,     2320, -36.5004,  30.0023,    -999,-999,9,     -999,9,     -999,9,     -999,9,     -999,9,     -999,9,     -999,9,-999,9,     -999,9,     -999,9,     -999,9,    -999,    -999
33RR20080204,       I06S,      19,          1,         10,         10,2,20080210,       2201,   -36.5004,    30.0024,       4676,  1823.6,   3.2699,  34.5910,2,  34.5911,2,    169.7,2,   166.7,2,   67.70,2,   33.39,2,    0.00,2,    2.33,2,   0.351,2,   0.189,2,   0.024,2,  2248.0,2,  2335.9,2,     -999,9,     -999,    -999,9,    -999,9,    -999,9,3.2701,2,0.69,2,-132.7,2,2.9,    -999,9,    -999,0.63,2,-999,9,-999,9,   39.41,2,-999,1, 20080210,     2316, -36.5003,  30.0023,    -999,-999,9,     -999,9,     -999,9,     -999,9,     -999,9,     -999,9,     -999,9,-999,9,     -999,9,     -999,9,     -999,9,    -999,    -999
33RR20080204,       I06S,      19,          1,          9,          9,2,20080210,       2201,   -36.5004,    30.0024,       4676,  2025.0,   2.9298,  34.6718,2,  34.6710,2,    176.6,2,   177.2,2,   67.90,2,   31.81,2,    0.00,2,    2.21,2,   0.181,2,   0.115,2,   0.009,2,    -999,9,  2339.3,2,     -999,9,     -999,    -999,9,    -999,9,    -999,9,2.9305,2,-999,9,-999,9,-999,    -999,9,    -999,0.353,2,-999,9,-999,9,    -999,9,-999,9, 20080210,     2311, -36.5003,  30.0022,    -999,-999,9,     -999,9,     -999,9,     -999,9,     -999,9,     -999,9,     -999,9,-999,9,     -999,9,     -999,9,     -999,9,    -999,    -999
33RR20080204,       I06S,      19,          1,          8,          8,2,20080210,       2201,   -36.5004,    30.0024,       4676,  2269.1,   2.7861,  34.7508,2,  34.7510,2,    193.1,2,   193.3,2,   63.21,2,   29.31,2,    0.00,2,    2.02,2,   0.066,2,   0.033,2,   0.000,2,  2231.6,2,  2338.3,2,     -999,9,     -999,    -999,9,    -999,9,    -999,9,2.7857,2,-999,9,-999,9,-999,    -999,9,    -999,0.126,2,-999,9,-999,9,    -999,9,-999,1, 20080210,     2304, -36.5004,  30.0024,    -999,-999,9,     -999,9,     -999,9,     -999,9,     -999,9,     -999,9,     -999,9,-999,9,     -999,9,     -999,9,     -999,9,    -999,    -999