BOTTLE,20220706CCHSIOAMB
EXPOCODE,SECT_ID,STNNBR,CASTNO,SAMPNO,BTLNBR,BTLNBR_FLAG_W,DATE,TIME,LATITUDE,LONGITUDE,DEPTH,CTDPRS,CTDTMP,CTDSAL,CTDSAL_FLAG_W,SALNTY,SALNTY_FLAG_W,CTDOXY,CTDOXY_FLAG_W,OXYGEN,OXYGEN_FLAG_W,SILCAT,SILCAT_FLAG_W,NITRAT,NITRAT_FLAG_W,NITRIT,NITRIT_FLAG_W,PHSPHT,PHSPHT_FLAG_W,CFC-11,CFC-11_FLAG_W,CFC-12,CFC-12_FLAG_W,CFC113,CFC113_FLAG_W,TCARBN,TCARBN_FLAG_W,ALKALI,ALKALI_FLAG_W,PH_SWS,PH_SWS_FLAG_W,PH_TMP,TRITUM,TRITUM_FLAG_W,HELIUM,HELIUM_FLAG_W,DELHE3,DELHE3_FLAG_W,REFTMP,REFTMP_FLAG_W,DELC13,DELC13_FLAG_W,DELC14,DELC14_FLAG_W,C14ERR,NEON,NEON_FLAG_W,NEONER,CCL4,CCL4_FLAG_W,ALUMIN,ALUMIN_FLAG_W,DELO18,DELO18_FLAG_W,DOC,DOC_FLAG_W,TDN,TDN_FLAG_W,BTL_DATE,BTL_TIME,BTL_LAT,BTL_LON,TRITER,DELSI30,DELSI30_FLAG_W,CDOM380,CDOM380_FLAG_W,CDOM325,CDOM325_FLAG_W,CDOMSL,CDOMSL_FLAG_W,CDOM340,CDOM340_FLAG_W,CDOM443,CDOM443_FLAG_W,CDOMSN,CDOMSN_FLAG_W,BLACKC,BLACKC_FLAG_W,CDOM490,CDOM490_FLAG_W,CDOM412,CDOM412_FLAG_W,CDOM555,CDOM555_FLAG_W,DELHER,HELIER
,,,,,,,,,,,METERS,DBAR,ITS-90,PSS-78,,PSS-78,,UMOL/KG,,UMOL/KG,,UMOL/KG,,UMOL/KG,,UMOL/KG,,UMOL/KG,,PMOL/KG,,PMOL/KG,,PMOL/KG,,UMOL/KG,,UMOL/KG,,,,DEG C,TU,,NMOL/KG,,PERCNT,,DEG C,,/MILLE,,/MILLE,,/MILLE,NMOL/KG,,NMOL/KG,PMOL/KG,,NMOL/L,,/MILLE,,UMOL/KG,,UMOL/KG,,,,,,TU,/MILLE,,1/M,,1/M,,1/NM,,1/M,,1/M,,1/NM,,,,1/M,,1/M,,1/M,,PERCNT,NMOL/KG
33RR20080204,       I06S,       8,          2,         36,         36,2,20080207,       1148,   -33.3819,    28.2291,       2746,     4.9,  27.3225,  35.3463,2,  35.3472,2,    202.5,2,   202.3,2,    1.98,2,    0.06,2,    0.00,2,    0.09,2,   1.580,2,   1.009,2,   0.101,2,  1981.2,6,  2315.3,2,   8.1810,2,    20.00,    -999,9,    -999,1,    -999,9,-999,9,-999,9,-999,9,-999,    -999,9,    -999,1.933,2,-999,9,-999,9,    -999,9,-999,9, 20080207,     1411, -33.4033,  28.1639,    -999,-999,9,     -999,9,     -999,9,     -999,9,     -999,9,     -999,9,     -999,9,-999,9,     -999,9,     -999,9,     -999,9,    -999,    -999
33RR20080204,       I06S,       8,          2,         35,         35,2,20080207,       1148,   -33.3819,    28.2291,       2746,    20.5,  27.3268,  35.3455,2,  35.3458,2,    203.0,2,   202.5,2,    1.97,2,    0.06,2,    0.00,2,    0.09,2,   1.564,2,   1.019,2,   0.100,2,    -999,9,    -999,9,     -999,9,     -999,    -999,9,    -999,9,    -999,9,-999,9,-999,9,-999,9,-999,    -999,9,    -999,1.913,2,-999,9,-999,9,    -999,9,-999,9, 20080207,     1408, -33.4025,  28.1668,    -999,-999,9,     -999,9,     -999,9,     -999,9,     -999,9,     -999,9,     -999,9,-999,9,     -999,9,     -999,9,     -999,9,    -999,    -999
33RR20080204,       I06S,       8,          2,         34,         34,2,20080207,       1148,   -33.3819,    28.2291,       2746,    36.6,  27.0816,  35.3954,2,  35.3993,2,    203.1,2,   203.7,2,    1.96,2,    0.06,2,    0.00,2,    0.08,2,   1.553,2,   1.030,2,   0.079,2,    -999,9,    -999,9,     -999,9,     -999,    -999,9,    -999,9,    -999,9,-999,9,-999,9,-999,9,-999,    -999,9,    -999,1.853,2,-999,9,-999,9,    -999,9,-999,9, 20080207,     1405, -33.4020,  28.1693,    -999,-999,9,     -999,9,     -999,9,     -999,9,     -999,9,     -999,9,     -999,9,-999,9,     -999,9,     -999,9,     -999,9,    -999,    -999
33RR20080204,       I06S,       8,          2,         33,         33,2,20080207,       1148,   -33.3819,    28.2291,       2746,    67.0,  22.1414,  35.3242,2,  35.3176,2,    192.9,2,   190.4,2,    3.35,2,    1.26,2,    0.27,2,    0.28,2,   1.884,2,   1.215,2,   0.066,2,    -999,9,    -999,9,     -999,9,     -999,    -999,9,    -999,9,    -999,9,-999,9,-999,9,-999,9,-999,    -999,9,    -999,0.882,2,-999,9,-999,9,    -999,9,-999,9, 20080207,     1402, -33.4014,  28.1719,    -999,-999,9,     -999,9,     -999,9,     -999,9,     -999,9,     -999,9,     -999,9,-999,9,     -999,9,     -999,9,     -999,9,    -999,    -999
33RR20080204,       I06S,       8,          2,         32,         32,2,20080207,       1148,   -33.3819,    28.2291,       2746,    95.9,  20.2522,  35.4213,2,  35.4219,2,    166.5,2,   171.6,2,    4.94,2,    5.57,2,    0.04,2,    0.47,2,   2.140,2,   1.260,2,   0.058,2,    -999,9,    -999,9,     -999,9,     -999,    -999,9,    -999,1,    -999,9,-999,9,-999,9,-999,9,-999,    -999,9,    -999,0.764,2,-999,9,-999,9,    -999,9,-999,9, 20080207,     1400, -33.4008,  28.1742,    -999,-999,9,     -999,9,     -999,9,     -999,9,     -999,9,     -999,9,     -999,9,-999,9,     -999,9,     -999,9,     -999,9,    -999,    -999
33RR20080204,       I06S,       8,          2,         31,         31,2,20080207,       1148,   -33.3819,    28.2291,       2746,   142.4,  17.6914,  35.4099,2,  35.4085,2,    162.5,2,   156.9,2,    8.53,2,    9.67,2,    0.01,2,    0.74,2,   2.247,2,   1.292,2,   0.026,2,    -999,9,    -999,9,     -999,9,     -999,    -999,9,    -999,9,    -999,9,-999,9,-999,9,-999,9,-999,    -999,9,    -999,0.479,2,-999,9,-999,9,    -999,9,-999,9, 20080207,     1354, -33.3990,  28.1796,    -999,-999,9,     -999,9,     -999,9,     -999,9,     -999,9,     -999,9,     -999,9,-999,9,     -999,9,     -999,9,     -999,9,    -999,    -999
33RR20080204,       I06S,       8,          2,         30,         30,2,20080207,       1148,   -33.3819,    28.2291,       2746,   189.9,  15.8101,  35.4402,2,  35.4388,2,    161.4,2,   180.3,2,    7.32,2,    8.99,2,    0.01,2,    0.75,2,   2.575,2,   1.436,2,   0.026,2,    -999,9,    -999,9,     -999,9,     -999,    -999,9,    -999,1,    -999,9,-999,9,-999,9,-999,9,-999,    -999,9,    -999,0.758,2,-999,9,-999,9,    -999,9,-999,9, 20080207,     1351, -33.3982,  28.1824,    -999,-999,9,     -999,9,     -999,9,     -999,9,     -999,9,     -999,9,     -999,9,-999,9,     -999,9,     -999,9,     -999,9,    -999,    -999
33RR20080204,       I06S,       8,          2,         29,         29,2,20080207,       1148,   -33.3819,    28.2291,       2746,   234.1,  14.8303,  35.3839,3,  35.3503,2,    198.5,2,   175.6,2,    8.71,2,   11.17,2,    0.01,2,    0.85,2,   2.587,2,   1.440,2,   0.036,2,    -999,9,    -999,9,     -999,9,     -999,    -999,9,    -999,9,    -999,9,-999,9,-999,9,-999,9,-999,    -999,9,    -999,0.687,2,-999,9,-999,9,    -999,9,-999,9, 20080207,     1347, -33.3971,  28.1854,    -999,-999,9,     -999,9,     -999,9,     -999,9,     -999,9,     -999,9,     -999,9,-999,9,     -999,9,     -999,9,     -999,9,    -999,    -999
33RR20080204,       I06S,       8,          2,         28,         28,2,20080207,       1148,   -33.3819,    28.2291,       2746,   285.9,  13.7765,  35.2743,3,  35.2888,2,    206.4,2,   188.4,2,    7.90,2,   11.46,2,    0.01,2,    0.86,2,   2.850,2,   1.520,2,   0.043,2,    -999,9,    -999,9,     -999,9,     -999,    -999,9,    -999,1,    -999,9,-999,9,-999,9,-999,9,-999,    -999,9,    -999,0.87,2,-999,9,-999,9,    -999,9,-999,9, 20080207,     1344, -33.3964,  28.1875,    -999,-999,9,     -999,9,     -999,9,     -999,9,     -999,9,     -999,9,     -999,9,-999,9,     -999,9,     -999,9,     -999,9,    -999,    -999
33RR20080204,       I06S,       8,          2,         27,         27,2,20080207,       1148,   -33.3819,    28.2291,       2746,   334.2,  13.4369,  35.2849,3,  35.2925,2,    210.4,2,   212.0,2,    5.10,2,    9.64,2,    0.00,2,    0.74,2,   3.148,2,   1.697,2,   0.062,2,    -999,9,    -999,9,     -999,9,     -999,    -999,9,    -999,9,    -999,9,-999,9,-999,9,-999,9,-999,    -999,9,    -999,1.227,2,-999,9,-999,9,    -999,9,-999,9, 20080207,     1341, -33.3958,  28.1894,    -999,-999,9,     -999,9,     -999,9,     -999,9,     -999,9,     -999,9,     -999,9,-999,9,     -999,9,     -999,9,     -999,9,    -999,    -999
33RR20080204,       I06S,       8,          2,         26,         26,2,20080207,       1148,   -33.3819,    28.2291,       2746,   385.1,  12.7668,  35.2041,3,  35.2013,2,    202.9,2,   214.1,2,    5.10,2,   10.88,2,    0.00,2,    0.81,2,   3.177,2,   1.727,2,   0.073,2,    -999,9,    -999,9,     -999,9,     -999,    -999,9,    -999,1,    -999,9,-999,9,-999,9,-999,9,-999,    -999,9,    -999,1.212,2,-999,9,-999,9,    -999,9,-999,9, 20080207,     1338, -33.3952,  28.1911,    -999,-999,9,     -999,9,     -999,9,     -999,9,     -999,9,     -999,9,     -999,9,-999,9,     -999,9,     -999,9,     -999,9,    -999,    -999
33RR20080204,       I06S,       8,          2,         25,         25,2,20080207,       1148,   -33.3819,    28.2291,       2746,   433.5,  11.8611,  35.0587,3,  35.0634,2,    193.7,3,   193.0,2,    9.28,2,   14.79,2,    0.00,2,    1.07,2,   2.891,2,   1.537,2,   0.081,2,    -999,9,    -999,9,     -999,9,     -999,    -999,9,    -999,9,    -999,9,-999,9,-999,9,-999,9,-999,    -999,9,    -999,1.226,2,-999,9,-999,9,    -999,9,-999,9, 20080207,     1335, -33.3945,  28.1932,    -999,-999,9,     -999,9,     -999,9,     -999,9,     -999,9,     -999,9,     -999,9,-999,9,     -999,9,     -999,9,     -999,9,    -999,    -999
33RR20080204,       I06S,       8,          2,         24,         24,2,20080207,       1148,   -33.3819,    28.2291,       2746,   486.8,  11.3382,  35.0024,3,  35.0010,2,    222.5,3,   222.0,2,    5.29,2,   12.96,2,    0.00,2,    0.95,2,   3.329,2,   1.760,2,   0.085,2,    -999,9,    -999,9,     -999,9,     -999,    -999,9,    -999,1,    -999,9,-999,9,-999,9,-999,9,-999,    -999,9,    -999,1.458,2,-999,9,-999,9,    -999,9,-999,9, 20080207,     1332, -33.3939,  28.1953,    -999,-999,9,     -999,9,     -999,9,     -999,9,     -999,9,     -999,9,     -999,9,-999,9,     -999,9,     -999,9,     -999,9,    -999,    -999
33RR20080204,       I06S,       8,          2,         23,         23,2,20080207,       1148,   -33.3819,    28.2291,       2746,   563.5,  10.3321,  34.8490,3,  34.8609,2,    195.6,3,   213.5,2,    8.07,2,   16.13,2,    0.00,2,    1.14,2,   3.169,2,   1.643,2,   0.090,2,    -999,9,    -999,9,     -999,9,     -999,    -999,9,    -999,1,    -999,9,-999,9,-999,9,-999,9,-999,    -999,9,    -999,1.601,2,-999,9,-999,9,    -999,9,-999,9, 20080207,     1328, -33.3929,  28.1977,    -999,-999,9,     -999,9,     -999,9,     -999,9,     -999,9,     -999,9,     -999,9,-999,9,     -999,9,     -999,9,     -999,9,    -999,    -999
33RR20080204,       I06S,       8,          2,         22,         22,2,20080207,       1148,   -33.3819,    28.2291,       2746,   670.3,   9.0981,  34.7442,3,  34.7433,2,    178.8,3,   184.2,2,   17.30,2,   21.81,2,    0.00,2,    1.53,2,   2.276,2,   1.181,2,   0.040,2,    -999,9,    -999,9,     -999,9,     -999,    -999,9,    -999,9,    -999,9,-999,9,-999,9,-999,9,-999,    -999,9,    -999,1.085,2,-999,9,-999,9,    -999,9,-999,9, 20080207,     1324, -33.3918,  28.2005,    -999,-999,9,     -999,9,     -999,9,     -999,9,     -999,9,     -999,9,     -999,9,-999,9,     -999,9,     -999,9,     -999,9,    -999,    -999
33RR20080204,       I06S,       8,          2,         21,         21,2,20080207,       1148,   -33.3819,    28.2291,       2746,   770.2,   7.3085,  34.5660,3,  34.5710,2,    178.5,3,   189.7,2,   22.95,2,   25.31,2,    0.00,2,    1.75,2,   1.939,2,   0.951,2,   0.074,2,    -999,9,    -999,9,     -999,9,     -999,    -999,9,    -999,1,    -999,9,-999,9,-999,9,-999,9,-999,    -999,9,    -999,1.881,2,-999,9,-999,9,    -999,9,-999,9, 20080207,     1319, -33.3907,  28.2032,    -999,-999,9,     -999,9,     -999,9,     -999,9,     -999,9,     -999,9,     -999,9,-999,9,     -999,9,     -999,9,     -999,9,    -999,    -999
33RR20080204,       I06S,       8,          2,         20,         20,2,20080207,       1148,   -33.3819,    28.2291,       2746,   872.4,   5.9762,  34.5802,3,  34.5635,2,    161.0,3,   163.3,2,   41.63,2,   30.20,2,    0.00,2,    2.12,2,   1.096,2,   0.535,2,   0.064,2,    -999,9,    -999,9,     -999,9,     -999,    -999,9,    -999,9,    -999,9,-999,9,-999,9,-999,9,-999,    -999,9,    -999,1.682,2,-999,9,-999,9,    -999,9,-999,9, 20080207,     1315, -33.3899,  28.2049,    -999,-999,9,     -999,9,     -999,9,     -999,9,     -999,9,     -999,9,     -999,9,-999,9,     -999,9,     -999,9,     -999,9,    -999,    -999
33RR20080204,       I06S,       8,          2,         12,         12,2,20080207,       1148,   -33.3819,    28.2291,       2746,   981.4,   5.2886,  34.6327,3,  34.6199,2,    150.0,3,   144.7,2,   56.55,2,   32.62,2,    0.00,2,    2.32,2,   0.613,2,   0.321,2,   0.034,2,    -999,9,    -999,9,     -999,9,     -999,    -999,9,    -999,1,    -999,9,-999,9,-999,9,-999,9,-999,    -999,9,    -999,1.027,2,-999,9,-999,9,    -999,9,-999,9, 20080207,     1309, -33.3889,  28.2073,    -999,-999,9,     -999,9,     -999,9,     -999,9,     -999,9,     -999,9,     -999,9,-999,9,     -999,9,     -999,9,     -999,9,    -999,    -999
33RR20080204,       I06S,       8,          2,         11,         11,2,20080207,       1148,   -33.3819,    28.2291,       2746,  1085.5,   4.1995,  34.5695,3,  34.5739,2,    153.4,3,   155.7,2,   62.30,2,   33.53,2,    0.00,2,    2.36,2,   0.489,2,   0.269,2,   0.030,2,    -999,9,    -999,9,     -999,9,     -999,    -999,9,    -999,9,    -999,9,-999,9,-999,9,-999,9,-999,    -999,9,    -999,1.083,2,-999,9,-999,9,    -999,9,-999,9, 20080207,     1303, -33.3877,  28.2100,    -999,-999,9,     -999,9,     -999,9,     -999,9,     -999,9,     -999,9,     -999,9,-999,9,     -999,9,     -999,9,     -999,9,    -999,    -999
33RR20080204,       I06S,       8,          2,         10,         10,2,20080207,       1148,   -33.3819,    28.2291,       2746,  1131.0,   3.9278,  34.6040,3,  34.6036,2,    156.8,3,   153.9,2,   67.63,2,   33.78,2,    0.00,2,    2.38,2,   0.356,2,   0.193,2,   0.023,2,    -999,9,    -999,9,     -999,9,     -999,    -999,9,    -999,1,    -999,9,-999,9,-999,9,-999,9,-999,    -999,9,    -999,0.84,2,-999,9,-999,9,    -999,9,-999,9, 20080207,     1257, -33.3867,  28.2135,    -999,-999,9,     -999,9,     -999,9,     -999,9,     -999,9,     -999,9,     -999,9,-999,9,     -999,9,     -999,9,     -999,9,    -999,    -999
33RR20080204,       I06S,       8,          2,          9,          9,2,20080207,       1148,   -33.3819,    28.2291,       2746,  1270.2,   3.3535,  34.6394,3,  34.6454,2,    164.4,3,   158.8,2,   74.41,2,   33.48,2,    0.00,2,    2.35,2,   0.190,2,   0.107,2,   0.016,2,    -999,9,    -999,9,     -999,9,     -999,    -999,9,    -999,9,    -999,9,-999,9,-999,9,-999,9,-999,    -999,9,    -999,0.458,2,-999,9,-999,9,    -999,9,-999,9, 20080207,     1253, -33.3874,  28.2142,    -999,-999,9,     -999,9,     -999,9,     -999,9,     -999,9,     -999,9,     -999,9,-999,9,     -999,9,     -999,9,     -999,9,    -999,    -999
33RR20080204,       I06S,       8,          2,          8,          8,2,20080207,       1148,   -33.3819,    28.2291,       2746,  1379.0,   3.1153,  34.6808,2,  34.6818,2,    167.0,3,   164.7,2,   76.05,2,   32.77,2,    0.00,2,    2.29,2,   0.134,6,   0.080,6,   0.011,6,    -999,9,    -999,9,     -999,9,     -999,    -999,9,    -999,1,    -999,9,-999,9,-999,9,-999,9,-999,    -999,9,    -999,0.357,6,-999,9,-999,9,    -999,9,-999,9, 20080207,     1248, -33.3870,  28.2165,    -999,-999,9,     -999,9,     -999,9,     -999,9,     -999,9,     -999,9,     -999,9,-999,9,     -999,9,     -999,9,     -999,9,    -999,    -999
33RR20080204,       I06S,       8,          2,          7,          7,2,20080207,       1148,   -33.3819,    28.2291,       2746,  1469.5,   2.9931,  34.6949,2,  34.6965,2,    174.5,3,   169.3,2,   75.63,2,   32.31,2,    0.00,2,    2.25,2,   0.110,2,   0.064,2,   0.010,2,    -999,9,    -999,9,     -999,9,     -999,    -999,9,    -999,9,    -999,9,-999,9,-999,9,-999,9,-999,    -999,9,    -999,0.389,2,-999,9,-999,9,    -999,9,-999,9, 20080207,     1243, -33.3867,  28.2188,    -999,-999,9,     -999,9,     -999,9,     -999,9,     -999,9,     -999,9,     -999,9,-999,9,     -999,9,     -999,9,     -999,9,    -999,    -999
33RR20080204,       I06S,       8,          2,          6,          6,2,20080207,       1148,   -33.3819,    28.2291,       2746,  1564.4,   2.8889,  34.7115,2,  34.7146,2,    170.2,3,   174.6,2,   74.38,2,   31.65,2,    0.00,2,    2.20,2,   0.145,2,   0.097,2,   0.009,2,    -999,9,    -999,9,     -999,9,     -999,    -999,9,    -999,9,    -999,9,-999,9,-999,9,-999,9,-999,    -999,9,    -999,0.212,2,-999,9,-999,9,    -999,9,-999,9, 20080207,     1238, -33.3862,  28.2198,    -999,-999,9,     -999,9,     -999,9,     -999,9,     -999,9,     -999,9,     -999,9,-999,9,     -999,9,     -999,9,     -999,9,    -999,    -999
33RR20080204,       I06S,       8,          2,          5,          5,2,20080207,       1148,   -33.3819,    28.2291,       2746,  1786.2,   2.6951,  34.7474,2,  34.7493,2,    181.4,3,   186.5,2,   71.49,2,   30.20,2,    0.00,2,    2.08,2,   0.055,2,   0.026,2,   0.004,2,    -999,9,    -999,9,     -999,9,     -999,    -999,9,    -999,1,    -999,9,-999,9,-999,9,-999,9,-999,    -999,9,    -999,0.09,2,-999,9,-999,9,    -999,9,-999,9, 20080207,     1229, -33.3853,  28.2215,    -999,-999,9,     -999,9,     -999,9,     -999,9,     -999,9,     -999,9,     -999,9,-999,9,     -999,9,     -999,9,     -999,9,    -999,    -999
33RR20080204,       I06S,       8,          2,          4,          4,2,20080207,       1148,   -33.3819,    28.2291,       2746,  1990.0,   2.6148,  34.7714,2,  34.7725,2,    191.8,3,   195.8,2,   67.79,2,   29.03,2,    0.00,2,    1.99,2,   0.048,2,   0.026,2,   0.004,2,    -999,9,    -999,9,     -999,9,     -999,    -999,9,    -999,1,    -999,9,-999,9,-999,9,-999,9,-999,    -999,9,    -999,0.131,2,-999,9,-999,9,    -999,9,-999,9, 20080207,     1220, -33.3846,  28.2230,    -999,-999,9,     -999,9,     -999,9,     -999,9,     -999,9,     -999,9,     -999,9,-999,9,     -999,9,     -999,9,     -999,9,    -999,    -999
33RR20080204,       I06S,       8,          2,          3,          3,2,20080207,       1148,   -33.3819,    28.2291,       2746,  2285.6,   2.5047,  34.7956,2,  34.7971,2,    195.1,3,   205.8,2,   64.90,2,   27.88,2,    0.00,2,    1.91,2,   0.127,4,   0.090,4,   0.016,4,    -999,9,    -999,9,   7.7320,2,    20.00,    -999,9,    -999,9,    -999,9,-999,9,-999,9,-999,9,-999,    -999,9,    -999,-0.033,4,-999,9,-999,9,    -999,9,-999,9, 20080207,     1208, -33.3835,  28.2248,    -999,-999,9,     -999,9,     -999,9,     -999,9,     -999,9,     -999,9,     -999,9,-999,9,     -999,9,     -999,9,     -999,9,    -999,    -999
33RR20080204,       I06S,       8,          2,          2,          2,2,20080207,       1148,   -33.3819,    28.2291,       2746,  2589.4,   2.4335,  34.8043,2,  34.8065,2,    190.5,3,   210.6,2,   64.69,2,   27.38,2,    0.00,2,    1.87,2,   0.052,2,   0.035,2,   0.002,2,    -999,9,    -999,9,     -999,9,     -999,    -999,9,    -999,1,    -999,9,-999,9,-999,9,-999,9,-999,    -999,9,    -999,-0.042,2,-999,9,-999,9,    -999,9,-999,9, 20080207,     1158, -33.3827,  28.2267,    -999,-999,9,     -999,9,     -999,9,     -999,9,     -999,9,     -999,9,     -999,9,-999,9,     -999,9,     -999,9,     -999,9,    -999,    -999
33RR20080204,       I06S,       8,          2,          1,          1,2,20080207,       1148,   -33.3819,    28.2291,       2746,  2968.1,   2.2820,  34.8145,2,  34.8164,2,    217.9,3,   216.6,2,   66.53,2,   26.88,2,    0.00,2,    1.83,2,   0.033,2,   0.015,2,   0.004,2,    -999,9,    -999,9,     -999,9,     -999,    -999,9,    -999,1,    -999,9,-999,9,-999,9,-999,9,-999,    -999,9,    -999,-0.041,2,-999,9,-999,9,    -999,9,-999,9, 20080207,     1149, -33.3819,  28.2288,    -999,-999,9,     -999,9,     -999,9,     -999,9,     -999,9,     -999,9,     -999,9,-999,9,     -999,9,     -999,9,     -999,9,    -999,    -999