BOTTLE,20220706CCHSIOAMB
EXPOCODE,SECT_ID,STNNBR,CASTNO,SAMPNO,BTLNBR,BTLNBR_FLAG_W,DATE,TIME,LATITUDE,LONGITUDE,DEPTH,CTDPRS,CTDTMP,CTDSAL,CTDSAL_FLAG_W,SALNTY,SALNTY_FLAG_W,CTDOXY,CTDOXY_FLAG_W,OXYGEN,OXYGEN_FLAG_W,SILCAT,SILCAT_FLAG_W,NITRAT,NITRAT_FLAG_W,NITRIT,NITRIT_FLAG_W,PHSPHT,PHSPHT_FLAG_W,CFC-11,CFC-11_FLAG_W,CFC-12,CFC-12_FLAG_W,CFC113,CFC113_FLAG_W,TCARBN,TCARBN_FLAG_W,ALKALI,ALKALI_FLAG_W,PH_SWS,PH_SWS_FLAG_W,PH_TMP,TRITUM,TRITUM_FLAG_W,HELIUM,HELIUM_FLAG_W,DELHE3,DELHE3_FLAG_W,REFTMP,REFTMP_FLAG_W,DELC13,DELC13_FLAG_W,DELC14,DELC14_FLAG_W,C14ERR,NEON,NEON_FLAG_W,NEONER,CCL4,CCL4_FLAG_W,ALUMIN,ALUMIN_FLAG_W,DELO18,DELO18_FLAG_W,DOC,DOC_FLAG_W,TDN,TDN_FLAG_W,BTL_DATE,BTL_TIME,BTL_LAT,BTL_LON,TRITER,DELSI30,DELSI30_FLAG_W,CDOM380,CDOM380_FLAG_W,CDOM325,CDOM325_FLAG_W,CDOMSL,CDOMSL_FLAG_W,CDOM340,CDOM340_FLAG_W,CDOM443,CDOM443_FLAG_W,CDOMSN,CDOMSN_FLAG_W,BLACKC,BLACKC_FLAG_W,CDOM490,CDOM490_FLAG_W,CDOM412,CDOM412_FLAG_W,CDOM555,CDOM555_FLAG_W,DELHER,HELIER
,,,,,,,,,,,METERS,DBAR,ITS-90,PSS-78,,PSS-78,,UMOL/KG,,UMOL/KG,,UMOL/KG,,UMOL/KG,,UMOL/KG,,UMOL/KG,,PMOL/KG,,PMOL/KG,,PMOL/KG,,UMOL/KG,,UMOL/KG,,,,DEG C,TU,,NMOL/KG,,PERCNT,,DEG C,,/MILLE,,/MILLE,,/MILLE,NMOL/KG,,NMOL/KG,PMOL/KG,,NMOL/L,,/MILLE,,UMOL/KG,,UMOL/KG,,,,,,TU,/MILLE,,1/M,,1/M,,1/NM,,1/M,,1/M,,1/NM,,,,1/M,,1/M,,1/M,,PERCNT,NMOL/KG
33RR20080204,       I06S,      40,          1,          5,          5,2,20080217,       2007,   -47.0037,    29.9918,       3743,  2644.3,   1.7165,  34.7707,2,  34.7707,2,    210.2,2,   210.8,2,   85.84,2,   28.75,2,    0.00,2,    1.99,2,   0.087,2,   0.046,2,   0.022,2,    -999,9,  2351.5,2,     -999,9,     -999,   0.004,2,   1.846,2,    8.26,2,1.7152,2,-999,9,-999,9,-999,   8.045,2,   0.031,1.029,2,-999,9,-999,9,    -999,9,-999,9, 20080217,     2032, -47.0057,  29.9894,   0.009,-999,9,     -999,9,     -999,9,     -999,9,     -999,9,     -999,9,     -999,9,-999,9,     -999,9,     -999,9,     -999,9,    0.15,   0.007
33RR20080204,       I06S,      40,          1,          4,          4,2,20080217,       2007,   -47.0037,    29.9918,       3743,  2943.3,   1.4459,  34.7551,2,  34.7543,2,    211.2,2,   210.9,2,   94.31,2,   29.50,2,    0.00,2,    2.04,2,   0.097,2,   0.057,2,   0.022,2,    -999,9,    -999,9,     -999,9,     -999,  -0.016,2,   1.871,2,    8.12,2,1.4438,2,-999,9,-999,9,-999,   8.080,2,   0.031,1.218,2,-999,9,-999,9,    -999,9,-999,9, 20080217,     2026, -47.0049,  29.9893,   0.009,-999,9,     -999,9,     -999,9,     -999,9,     -999,9,     -999,9,     -999,9,-999,9,     -999,9,     -999,9,     -999,9,    0.15,   0.007
33RR20080204,       I06S,      40,          1,          3,          3,2,20080217,       2007,   -47.0037,    29.9918,       3743,  3252.4,   1.0972,  34.7211,2,  34.7203,2,    208.3,2,   208.2,2,  107.93,2,   31.00,2,    0.00,2,    2.15,2,   0.196,2,   0.120,2,   0.038,2,    -999,9,  2356.2,2,     -999,9,     -999,   0.025,2,   1.868,2,    8.57,2,1.097,2,-999,9,-999,9,-999,   8.080,2,   0.031,1.402,2,-999,9,-999,9,    -999,9,-999,9, 20080217,     2019, -47.0046,  29.9910,   0.009,-999,9,     -999,9,     -999,9,     -999,9,     -999,9,     -999,9,     -999,9,-999,9,     -999,9,     -999,9,     -999,9,    0.15,   0.007
33RR20080204,       I06S,      40,          1,          2,          2,2,20080217,       2007,   -47.0037,    29.9918,       3743,  3564.9,   0.8639,  34.7074,2,  34.7070,2,    210.6,2,   210.7,2,  115.14,2,   31.55,2,    0.00,2,    2.20,2,   0.216,2,   0.118,2,   0.054,2,    -999,9,  2357.1,2,     -999,9,     -999,   0.001,2,   1.899,2,    8.13,2,0.8646,2,-999,9,-999,9,-999,   8.147,2,   0.031,1.415,2,-999,9,-999,9,    -999,9,-999,9, 20080217,     2013, -47.0041,  29.9922,   0.009,-999,9,     -999,9,     -999,9,     -999,9,     -999,9,     -999,9,     -999,9,-999,9,     -999,9,     -999,9,     -999,9,    0.15,   0.007
33RR20080204,       I06S,      40,          1,          1,          1,2,20080217,       2007,   -47.0037,    29.9918,       3743,  3759.0,   0.7502,  34.6989,2,  34.6995,2,    211.1,2,   211.0,2,  119.50,2,   31.86,2,    0.00,2,    2.22,2,   0.249,2,   0.137,2,   0.059,2,    -999,9,  2360.0,2,     -999,9,     -999,   0.012,2,   1.869,2,    7.94,2,0.7499,2,-999,9,-999,9,-999,   8.065,2,   0.031,1.271,2,-999,9,-999,9,    -999,9,-999,9, 20080217,     2007, -47.0037,  29.9917,   0.009,-999,9,     -999,9,     -999,9,     -999,9,     -999,9,     -999,9,     -999,9,-999,9,     -999,9,     -999,9,     -999,9,    0.15,   0.007