BOTTLE,20220706CCHSIOAMB
EXPOCODE,SECT_ID,STNNBR,CASTNO,SAMPNO,BTLNBR,BTLNBR_FLAG_W,DATE,TIME,LATITUDE,LONGITUDE,DEPTH,CTDPRS,CTDTMP,CTDSAL,CTDSAL_FLAG_W,SALNTY,SALNTY_FLAG_W,CTDOXY,CTDOXY_FLAG_W,OXYGEN,OXYGEN_FLAG_W,SILCAT,SILCAT_FLAG_W,NITRAT,NITRAT_FLAG_W,NITRIT,NITRIT_FLAG_W,PHSPHT,PHSPHT_FLAG_W,CFC-11,CFC-11_FLAG_W,CFC-12,CFC-12_FLAG_W,CFC113,CFC113_FLAG_W,TCARBN,TCARBN_FLAG_W,ALKALI,ALKALI_FLAG_W,PH_SWS,PH_SWS_FLAG_W,PH_TMP,TRITUM,TRITUM_FLAG_W,HELIUM,HELIUM_FLAG_W,DELHE3,DELHE3_FLAG_W,REFTMP,REFTMP_FLAG_W,DELC13,DELC13_FLAG_W,DELC14,DELC14_FLAG_W,C14ERR,NEON,NEON_FLAG_W,NEONER,CCL4,CCL4_FLAG_W,ALUMIN,ALUMIN_FLAG_W,DELO18,DELO18_FLAG_W,DOC,DOC_FLAG_W,TDN,TDN_FLAG_W,BTL_DATE,BTL_TIME,BTL_LAT,BTL_LON,TRITER,DELSI30,DELSI30_FLAG_W,CDOM380,CDOM380_FLAG_W,CDOM325,CDOM325_FLAG_W,CDOMSL,CDOMSL_FLAG_W,CDOM340,CDOM340_FLAG_W,CDOM443,CDOM443_FLAG_W,CDOMSN,CDOMSN_FLAG_W,BLACKC,BLACKC_FLAG_W,CDOM490,CDOM490_FLAG_W,CDOM412,CDOM412_FLAG_W,CDOM555,CDOM555_FLAG_W,DELHER,HELIER
,,,,,,,,,,,METERS,DBAR,ITS-90,PSS-78,,PSS-78,,UMOL/KG,,UMOL/KG,,UMOL/KG,,UMOL/KG,,UMOL/KG,,UMOL/KG,,PMOL/KG,,PMOL/KG,,PMOL/KG,,UMOL/KG,,UMOL/KG,,,,DEG C,TU,,NMOL/KG,,PERCNT,,DEG C,,/MILLE,,/MILLE,,/MILLE,NMOL/KG,,NMOL/KG,PMOL/KG,,NMOL/L,,/MILLE,,UMOL/KG,,UMOL/KG,,,,,,TU,/MILLE,,1/M,,1/M,,1/NM,,1/M,,1/M,,1/NM,,,,1/M,,1/M,,1/M,,PERCNT,NMOL/KG
33RR20080204,       I06S,      47,          1,         36,         36,2,20080220,       0819,   -50.5060,    30.0004,       4550,     5.6,   3.8506,  33.7722,2,  33.7730,2,    317.2,2,   319.2,2,    3.10,2,   21.79,2,    0.24,2,    1.48,2,   5.251,2,   2.971,2,   0.484,2,  2129.6,6,  2274.5,2,   7.9448,2,    13.00,    -999,9,    -999,9,    -999,9,-999,9,-999,9,-999,9,-999,    -999,9,    -999,8.253,2,-999,9,-999,9,   43.12,2,-999,1, 20080220,     1006, -50.5140,  30.0022,    -999,-999,9,   0.0242,2,   0.0818,2,   0.0103,4,   0.0528,2,   0.0076,2,   0.0187,3,-999,9,   0.0008,2,   0.0160,2,  -0.0023,4,    -999,    -999
33RR20080204,       I06S,      47,          1,         35,         35,2,20080220,       0819,   -50.5060,    30.0004,       4550,    20.6,   3.8567,  33.7727,2,  33.7732,2,    318.7,2,   318.3,2,    2.92,2,   21.79,2,    0.24,2,    1.49,2,   5.225,2,   2.964,2,   0.474,2,  2131.8,2,  2275.6,2,   7.9444,2,    13.00,    -999,9,    -999,9,    -999,9,3.8558,2,-999,9,-999,9,-999,    -999,9,    -999,8.253,2,-999,9,-999,9,   42.05,2,-999,1, 20080220,     1005, -50.5139,  30.0021,    -999,-999,1,   0.0253,2,   0.0836,2,   0.0103,4,   0.0531,2,   0.0093,2,   0.0173,3,-999,1,   0.0022,2,   0.0176,2,  -0.0014,4,    -999,    -999
33RR20080204,       I06S,      47,          1,         34,         34,2,20080220,       0819,   -50.5060,    30.0004,       4550,    35.4,   3.8536,  33.7725,2,  33.7756,2,    319.5,2,   317.8,2,    2.92,2,   21.79,2,    0.24,2,    1.49,2,   5.267,2,   2.951,2,   0.493,2,  2129.6,2,  2275.5,2,   7.9433,2,    13.00,    -999,9,    -999,9,    -999,9,3.8526,2,-999,9,-999,9,-999,    -999,9,    -999,8.536,2,-999,9,-999,9,   42.34,2,-999,1, 20080220,     1004, -50.5139,  30.0021,    -999,-999,1,   0.0255,2,   0.0926,2,   0.0111,4,   0.0592,2,   0.0073,2,   0.0214,3,-999,9,   0.0005,3,   0.0156,2,  -0.0023,4,    -999,    -999
33RR20080204,       I06S,      47,          1,         33,         33,2,20080220,       0819,   -50.5060,    30.0004,       4550,    67.2,   3.8236,  33.7711,2,  33.7724,2,    319.8,2,   318.2,2,    2.92,2,   21.74,2,    0.24,2,    1.48,2,   5.210,2,   2.972,2,   0.486,2,  2130.5,2,  2276.2,2,   7.9440,2,    13.00,    -999,9,    -999,9,    -999,9,3.8363,2,-999,9,-999,9,-999,    -999,9,    -999,8.471,2,-999,9,-999,9,   42.93,2,-999,1, 20080220,     1003, -50.5138,  30.0020,    -999,-999,1,   0.0293,2,   0.0972,2,   0.0112,4,   0.0641,2,   0.0121,2,   0.0176,3,-999,9,   0.0022,2,   0.0209,2,  -0.0016,4,    -999,    -999
33RR20080204,       I06S,      47,          1,         32,         32,2,20080220,       0819,   -50.5060,    30.0004,       4550,    93.0,   3.6441,  33.7731,2,  33.7760,2,    321.1,2,   318.2,2,    3.64,2,   22.03,2,    0.25,2,    1.50,2,   5.283,2,   2.959,2,   0.499,2,  2132.9,2,  2274.2,2,   7.9394,2,    13.00,    -999,9,    -999,9,    -999,9,3.7281,3,-999,9,-999,9,-999,    -999,9,    -999,8.24,2,-999,9,-999,9,   43.22,2,-999,1, 20080220,     1002, -50.5137,  30.0021,    -999,-999,1,   0.0257,2,   0.0882,2,   0.0109,4,   0.0575,2,   0.0088,2,   0.0195,3,-999,9,   0.0017,2,   0.0169,2,  -0.0015,4,    -999,    -999
33RR20080204,       I06S,      47,          1,         31,         31,2,20080220,       0819,   -50.5060,    30.0004,       4550,   142.3,   2.6391,  33.9715,2,  33.9620,2,    292.2,2,   291.9,2,   17.37,2,   27.23,2,    0.09,2,    1.89,2,   5.019,2,   2.789,2,   0.438,2,  2158.3,2,  2274.7,2,   7.8615,2,    13.00,    -999,9,    -999,9,    -999,9,2.6048,2,-999,9,-999,9,-999,    -999,9,    -999,7.158,2,-999,9,-999,9,   41.95,2,-999,1, 20080220,     1001, -50.5136,  30.0020,    -999,-999,1,   0.0303,2,   0.1051,2,   0.0117,4,   0.0658,2,   0.0105,2,   0.0187,3,-999,9,   0.0030,2,   0.0199,2,  -0.0006,4,    -999,    -999
33RR20080204,       I06S,      47,          1,         30,         30,2,20080220,       0819,   -50.5060,    30.0004,       4550,   191.3,   2.6002,  34.0761,2,  34.0742,2,    264.7,2,   267.5,2,   23.79,2,   29.44,2,    0.01,2,    2.03,2,   4.409,2,   2.408,2,   0.377,2,  2176.4,2,  2281.4,2,   7.8308,3,    13.00,    -999,9,    -999,9,    -999,9,2.5984,2,-999,9,-999,9,-999,    -999,9,    -999,6.42,2,-999,9,-999,9,   42.34,2,-999,1, 20080220,     1000, -50.5134,  30.0019,    -999,-999,1,   0.0250,2,   0.0857,2,   0.0172,3,   0.0538,2,   0.0086,2,   0.0184,3,-999,1,   0.0015,2,   0.0173,2,  -0.0016,4,    -999,    -999
33RR20080204,       I06S,      47,          1,         29,         29,2,20080220,       0819,   -50.5060,    30.0004,       4550,   235.0,   2.6084,  34.1594,2,  34.1591,2,    248.3,2,   246.1,2,   30.60,2,   31.01,2,    0.01,2,    2.13,2,   3.786,2,   1.998,2,   0.303,2,  2191.2,2,  2288.0,2,   7.8040,4,    13.00,    -999,9,    -999,9,    -999,9,2.6143,2,-999,9,-999,9,-999,    -999,9,    -999,5.609,2,-999,9,-999,9,   45.27,3,-999,1, 20080220,     0959, -50.5132,  30.0016,    -999,-999,1,   0.0302,2,   0.1001,2,   0.0170,3,   0.0646,2,   0.0114,2,   0.0180,3,-999,9,   0.0042,2,   0.0201,2,   0.0008,3,    -999,    -999
33RR20080204,       I06S,      47,          1,         28,         28,2,20080220,       0819,   -50.5060,    30.0004,       4550,   285.1,   2.5900,  34.2089,2,  34.2053,2,    232.1,2,   234.5,2,   35.96,2,   31.83,2,    0.00,2,    2.19,2,   3.333,2,   1.732,2,   0.255,2,  2199.8,2,  2293.7,2,   7.7935,3,    13.00,    -999,9,    -999,9,    -999,9,2.5938,2,-999,9,-999,9,-999,    -999,9,    -999,4.994,2,-999,9,-999,9,   39.90,2,-999,1, 20080220,     0957, -50.5129,  30.0014,    -999,-999,1,   0.0297,2,   0.0947,2,   0.0171,3,   0.0604,2,   0.0104,2,   0.0173,3,-999,9,   0.0030,2,   0.0193,2,  -0.0005,4,    -999,    -999
33RR20080204,       I06S,      47,          1,         27,         27,2,20080220,       0819,   -50.5060,    30.0004,       4550,   333.5,   2.5661,  34.2510,2,  34.2497,2,    219.7,2,   221.5,2,   40.78,2,   32.70,2,    0.01,2,    2.25,2,   2.847,2,   1.492,2,   0.226,2,  2210.0,2,  2299.0,2,   7.7800,2,    13.00,    -999,9,    -999,9,    -999,9,2.5638,2,-999,9,-999,9,-999,    -999,9,    -999,4.14,2,-999,9,-999,9,   41.95,2,-999,1, 20080220,     0956, -50.5128,  30.0014,    -999,-999,9,   0.0300,2,   0.0955,2,   0.0169,3,   0.0611,2,   0.0107,2,   0.0172,3,-999,9,   0.0035,2,   0.0198,2,   0.0000,4,    -999,    -999
33RR20080204,       I06S,      47,          1,         26,         26,2,20080220,       0819,   -50.5060,    30.0004,       4550,   376.3,   2.6455,  34.3081,2,  34.3067,2,    212.4,2,   207.6,2,   45.98,2,   33.25,2,    0.00,2,    2.28,2,   2.267,2,   1.159,2,   0.169,2,  2218.9,2,  2300.3,2,   7.7699,2,    13.00,    -999,9,    -999,9,    -999,9,2.6459,2,-999,9,-999,9,-999,    -999,9,    -999,3.532,2,-999,9,-999,9,    -999,9,-999,9, 20080220,     0954, -50.5127,  30.0013,    -999,-999,1,     -999,9,     -999,9,     -999,9,     -999,9,     -999,9,     -999,9,-999,9,     -999,9,     -999,9,     -999,9,    -999,    -999
33RR20080204,       I06S,      47,          1,         25,         25,2,20080220,       0819,   -50.5060,    30.0004,       4550,   434.1,   2.4802,  34.3414,2,  34.3409,2,    201.7,2,   199.3,2,   52.31,2,   34.03,2,    0.00,2,    2.33,2,   2.059,6,   1.045,6,   0.154,6,  2229.6,2,  2307.9,2,   7.7521,2,    13.00,    -999,9,    -999,9,    -999,9,2.4793,2,-999,9,-999,9,-999,    -999,9,    -999,3.2235,6,-999,9,-999,9,   38.83,2,-999,1, 20080220,     0952, -50.5126,  30.0013,    -999,-999,9,   0.0293,2,   0.0998,2,   0.0179,3,   0.0636,2,   0.0096,2,   0.0190,3,-999,9,   0.0018,2,   0.0192,2,  -0.0015,4,    -999,    -999
33RR20080204,       I06S,      47,          1,         24,         24,2,20080220,       0819,   -50.5060,    30.0004,       4550,   487.4,   2.4374,  34.3795,2,  34.3838,2,    191.9,2,   191.0,2,   56.96,2,   34.52,2,    0.00,2,    2.37,2,   1.753,2,   0.881,2,   0.111,2,  2262.1,3,  2311.5,2,   7.7493,4,    13.00,    -999,9,    -999,9,    -999,9,2.4425,2,-999,9,-999,9,-999,    -999,9,    -999,2.845,2,-999,9,-999,9,    -999,9,-999,9, 20080220,     0951, -50.5126,  30.0014,    -999,-999,9,     -999,9,     -999,9,     -999,9,     -999,9,     -999,9,     -999,9,-999,9,     -999,9,     -999,9,     -999,9,    -999,    -999
33RR20080204,       I06S,      47,          1,         23,         23,2,20080220,       0819,   -50.5060,    30.0004,       4550,   569.2,   2.5630,  34.4708,2,  34.4721,2,    182.4,2,   180.9,2,   62.56,2,   34.22,2,    0.00,2,    2.37,2,   0.971,2,   0.498,2,   0.055,2,  2238.8,2,  2322.0,2,   7.7397,4,    13.00,    -999,9,    -999,9,    -999,9,2.5637,2,-999,9,-999,9,-999,    -999,9,    -999,1.881,2,-999,9,-999,9,   39.51,2,-999,1, 20080220,     0949, -50.5124,  30.0014,    -999,-999,1,   0.0321,2,   0.1091,2,   0.0187,3,   0.0706,2,   0.0100,2,   0.0194,3,-999,9,   0.0020,2,   0.0199,2,  -0.0015,4,    -999,    -999
33RR20080204,       I06S,      47,          1,         22,         22,2,20080220,       0819,   -50.5060,    30.0004,       4550,   671.3,   2.4721,  34.5280,2,  34.5275,2,    177.0,2,   175.8,2,   68.00,2,   34.12,2,    0.00,2,    2.33,2,   0.729,2,   0.382,2,   0.059,2,  2248.0,2,  2327.4,2,   7.7439,3,    13.00,    -999,9,    -999,9,    -999,9,2.4735,2,-999,9,-999,9,-999,    -999,9,    -999,1.434,2,-999,9,-999,9,    -999,9,-999,9, 20080220,     0946, -50.5121,  30.0010,    -999,-999,9,     -999,9,     -999,9,     -999,9,     -999,9,     -999,9,     -999,9,-999,9,     -999,9,     -999,9,     -999,9,    -999,    -999
33RR20080204,       I06S,      47,          1,         21,         21,2,20080220,       0819,   -50.5060,    30.0004,       4550,   763.5,   2.4586,  34.5798,2,  34.5804,2,    177.1,2,   174.5,2,   70.43,2,   33.48,2,    0.00,2,    2.32,2,   0.508,2,   0.275,2,   0.039,2,  2248.2,2,  2333.6,2,   7.7533,3,    13.00,    -999,9,    -999,9,    -999,9,2.4565,2,-999,9,-999,9,-999,    -999,9,    -999,1.092,2,-999,9,-999,9,   40.20,2,-999,1, 20080220,     0943, -50.5119,  30.0010,    -999,-999,1,   0.0334,2,   0.1137,2,   0.0186,3,   0.0738,2,   0.0108,2,   0.0195,3,-999,9,   0.0026,2,   0.0207,2,  -0.0010,4,    -999,    -999
33RR20080204,       I06S,      47,          1,         20,         20,2,20080220,       0819,   -50.5060,    30.0004,       4550,   865.3,   2.3529,  34.6210,2,  34.6230,2,    174.6,2,   173.9,2,   75.14,2,   33.29,2,    0.00,2,    2.28,2,   0.428,2,   0.230,2,   0.028,2,  2252.1,2,  2336.8,2,   7.7546,3,    13.00,    -999,9,    -999,9,    -999,9,2.3505,2,-999,9,-999,9,-999,    -999,9,    -999,0.904,2,-999,9,-999,9,    -999,9,-999,9, 20080220,     0941, -50.5117,  30.0010,    -999,-999,9,     -999,9,     -999,9,     -999,9,     -999,9,     -999,9,     -999,9,-999,9,     -999,9,     -999,9,     -999,9,    -999,    -999
33RR20080204,       I06S,      47,          1,         19,         19,2,20080220,       0819,   -50.5060,    30.0004,       4550,   970.5,   2.3080,  34.6527,2,  34.6530,2,    176.2,2,   175.6,2,   77.20,2,   32.75,2,    0.00,2,    2.25,2,   0.346,2,   0.194,2,   0.030,2,  2253.0,6,  2339.4,2,   7.7623,2,    13.00,    -999,9,    -999,9,    -999,9,2.3095,2,-999,9,-999,9,-999,    -999,9,    -999,0.769,2,-999,9,-999,9,   39.41,2,-999,1, 20080220,     0939, -50.5117,  30.0011,    -999,-999,1,   0.0362,2,   0.1165,2,   0.0180,3,   0.0767,2,   0.0121,2,   0.0185,3,-999,9,   0.0033,2,   0.0224,2,  -0.0005,4,    -999,    -999
33RR20080204,       I06S,      47,          1,         18,         18,2,20080220,       0819,   -50.5060,    30.0004,       4550,  1069.7,   2.4091,  34.7003,2,  34.7004,2,    181.7,2,   182.8,2,   73.45,2,   31.24,2,    0.00,2,    2.15,2,   0.203,2,   0.115,2,   0.018,2,  2245.3,2,  2338.4,2,   7.7875,4,    13.00,    -999,9,    -999,9,    -999,9,2.4017,2,-999,9,-999,9,-999,    -999,9,    -999,0.517,2,-999,9,-999,9,   39.51,2,-999,1, 20080220,     0937, -50.5116,  30.0010,    -999,-999,9,   0.0368,2,   0.1189,2,   0.0179,3,   0.0796,2,   0.0126,2,   0.0187,3,-999,9,   0.0031,2,   0.0234,2,  -0.0006,4,    -999,    -999
33RR20080204,       I06S,      47,          1,         17,         17,2,20080220,       0819,   -50.5060,    30.0004,       4550,  1171.5,   2.4106,  34.7280,2,  34.7281,2,    185.3,2,   188.2,2,   71.96,2,   30.31,2,    0.00,2,    2.09,2,   0.157,2,   0.089,2,   0.015,2,  2240.9,2,  2340.5,2,   7.7979,3,    13.00,    -999,9,    -999,9,    -999,9,2.4133,2,-999,9,-999,9,-999,    -999,9,    -999,0.429,2,-999,9,-999,9,   39.90,2,-999,1, 20080220,     0934, -50.5113,  30.0009,    -999,-999,9,   0.0336,2,   0.1141,2,   0.0189,3,   0.0750,2,   0.0106,2,   0.0199,3,-999,9,   0.0024,2,   0.0204,2,  -0.0008,4,    -999,    -999
33RR20080204,       I06S,      47,          1,         16,         16,2,20080220,       0819,   -50.5060,    30.0004,       4550,  1270.5,   2.3295,  34.7431,2,  34.7454,2,    190.0,2,   191.2,2,   73.28,2,   29.92,2,    0.00,2,    2.06,2,   0.146,2,   0.089,2,   0.015,2,  2240.1,2,  2345.3,2,   7.8050,3,    13.00,    -999,9,    -999,9,    -999,9,2.3281,2,-999,9,-999,9,-999,    -999,9,    -999,0.408,2,-999,9,-999,9,    -999,9,-999,9, 20080220,     0932, -50.5110,  30.0008,    -999,-999,9,     -999,9,     -999,9,     -999,9,     -999,9,     -999,9,     -999,9,-999,9,     -999,9,     -999,9,     -999,9,    -999,    -999
33RR20080204,       I06S,      47,          1,         15,         15,2,20080220,       0819,   -50.5060,    30.0004,       4550,  1368.2,   2.2273,  34.7477,2,  34.7497,2,    191.5,2,   192.3,2,   76.11,2,   29.93,2,    0.00,2,    2.06,2,   0.151,2,   0.090,2,   0.025,2,  2241.5,2,  2342.0,2,   7.8048,2,    13.00,    -999,9,    -999,9,    -999,9,2.2277,2,-999,9,-999,9,-999,    -999,9,    -999,0.443,2,-999,9,-999,9,   38.93,2,-999,1, 20080220,     0929, -50.5109,  30.0009,    -999,-999,9,   0.0363,2,   0.1198,2,   0.0180,3,   0.0793,2,   0.0127,2,   0.0190,3,-999,9,   0.0042,2,   0.0225,2,   0.0003,4,    -999,    -999
33RR20080204,       I06S,      47,          1,         14,         14,2,20080220,       0819,   -50.5060,    30.0004,       4550,  1470.8,   2.1801,  34.7584,2,  34.7583,2,    195.8,2,   196.3,2,   76.11,2,   29.44,2,    0.00,2,    2.02,2,   0.133,2,   0.076,2,   0.020,2,  2239.3,2,  2344.9,2,   7.8117,3,    13.00,    -999,9,    -999,9,    -999,9,2.1822,2,-999,9,-999,9,-999,    -999,9,    -999,0.473,2,-999,9,-999,9,    -999,9,-999,9, 20080220,     0927, -50.5108,  30.0010,    -999,-999,9,     -999,9,     -999,9,     -999,9,     -999,9,     -999,9,     -999,9,-999,9,     -999,9,     -999,9,     -999,9,    -999,    -999
33RR20080204,       I06S,      47,          1,         13,         13,2,20080220,       0819,   -50.5060,    30.0004,       4550,  1573.6,   2.0894,  34.7625,2,  34.7629,2,    197.9,2,   198.7,2,   77.81,2,   29.29,2,    0.00,2,    2.01,2,   0.131,2,   0.081,2,   0.031,2,  2238.6,2,  2344.2,2,   7.8169,2,    13.00,    -999,9,    -999,9,    -999,9,2.0906,2,-999,9,-999,9,-999,    -999,9,    -999,0.592,2,-999,9,-999,9,   40.59,2,-999,1, 20080220,     0925, -50.5107,  30.0008,    -999,-999,9,   0.0340,2,   0.1144,2,   0.0185,3,   0.0753,2,   0.0114,2,   0.0197,3,-999,9,   0.0032,2,   0.0207,2,  -0.0003,4,    -999,    -999
33RR20080204,       I06S,      47,          1,         12,         12,2,20080220,       0819,   -50.5060,    30.0004,       4550,  1671.0,   2.0236,  34.7712,2,  34.7711,2,    201.4,2,   203.2,2,   78.02,2,   28.85,2,    0.00,2,    1.99,2,   0.000,4,   0.000,4,   0.000,4,  2236.0,2,  2348.0,2,   7.8243,2,    13.00,    -999,9,    -999,9,    -999,9,2.0241,2,-999,9,-999,9,-999,    -999,9,    -999,0.0,4,-999,9,-999,9,    -999,9,-999,9, 20080220,     0922, -50.5104,  30.0008,    -999,-999,9,     -999,9,     -999,9,     -999,9,     -999,9,     -999,9,     -999,9,-999,9,     -999,9,     -999,9,     -999,9,    -999,    -999
33RR20080204,       I06S,      47,          1,         11,         11,2,20080220,       0819,   -50.5060,    30.0004,       4550,  1771.9,   1.9346,  34.7711,2,  34.7695,2,    203.4,2,   203.5,2,   79.90,2,   28.95,2,    0.00,2,    1.99,2,   0.108,2,   0.070,2,   0.015,2,  2237.2,2,  2345.4,2,   7.8239,3,    13.00,    -999,9,    -999,9,    -999,9,1.9351,2,-999,9,-999,9,-999,    -999,9,    -999,0.168,2,-999,9,-999,9,   38.93,2,-999,1, 20080220,     0920, -50.5102,  30.0007,    -999,-999,9,   0.0347,2,   0.1147,2,   0.0190,3,   0.0755,2,   0.0106,2,   0.0196,3,-999,9,   0.0024,2,   0.0204,2,  -0.0007,4,    -999,    -999
33RR20080204,       I06S,      47,          1,         10,         10,2,20080220,       0819,   -50.5060,    30.0004,       4550,  1981.0,   1.7675,  34.7713,2,  34.7733,2,    207.8,2,   207.4,2,   83.31,2,   28.76,2,    0.00,2,    1.98,2,   0.000,4,   0.000,4,   0.000,4,  2237.6,2,  2347.3,2,   7.8292,2,    13.00,    -999,9,    -999,9,    -999,9,1.7731,2,-999,9,-999,9,-999,    -999,9,    -999,0.0,4,-999,9,-999,9,   41.27,2,-999,1, 20080220,     0916, -50.5102,  30.0009,    -999,-999,9,   0.0338,2,   0.1147,2,   0.0188,3,   0.0756,2,   0.0109,2,   0.0200,3,-999,9,   0.0024,2,   0.0206,2,  -0.0007,4,    -999,    -999
33RR20080204,       I06S,      47,          1,          9,          9,2,20080220,       0819,   -50.5060,    30.0004,       4550,  2286.2,   1.4159,  34.7482,2,  34.7497,2,    207.8,2,   207.4,2,   95.22,2,   29.93,2,    0.00,2,    2.06,2,   0.126,2,   0.074,2,   0.011,2,  2154.9,4,  2351.7,2,   7.8183,2,    13.00,    -999,9,    -999,9,    -999,9,1.4178,2,-999,9,-999,9,-999,    -999,9,    -999,0.363,2,-999,9,-999,9,    -999,9,-999,9, 20080220,     0910, -50.5096,  30.0007,    -999,-999,9,     -999,9,     -999,9,     -999,9,     -999,9,     -999,9,     -999,9,-999,9,     -999,9,     -999,9,     -999,9,    -999,    -999
33RR20080204,       I06S,      47,          1,          8,          8,2,20080220,       0819,   -50.5060,    30.0004,       4550,  2593.5,   1.1564,  34.7314,2,  34.7308,2,    208.6,2,   208.3,2,  103.95,2,   30.60,2,    0.00,2,    2.11,2,   0.154,2,   0.087,2,   0.015,2,  2124.9,4,  2355.1,2,   7.8104,3,    13.00,    -999,9,    -999,9,    -999,9,1.1562,2,-999,9,-999,9,-999,    -999,9,    -999,0.445,2,-999,9,-999,9,   40.59,2,-999,1, 20080220,     0903, -50.5092,  30.0006,    -999,-999,9,   0.0405,2,   0.1240,2,   0.0166,3,   0.0840,2,   0.0158,2,   0.0169,3,-999,9,   0.0058,2,   0.0265,2,   0.0012,2,    -999,    -999