BOTTLE,20220706CCHSIOAMB
EXPOCODE,SECT_ID,STNNBR,CASTNO,SAMPNO,BTLNBR,BTLNBR_FLAG_W,DATE,TIME,LATITUDE,LONGITUDE,DEPTH,CTDPRS,CTDTMP,CTDSAL,CTDSAL_FLAG_W,SALNTY,SALNTY_FLAG_W,CTDOXY,CTDOXY_FLAG_W,OXYGEN,OXYGEN_FLAG_W,SILCAT,SILCAT_FLAG_W,NITRAT,NITRAT_FLAG_W,NITRIT,NITRIT_FLAG_W,PHSPHT,PHSPHT_FLAG_W,CFC-11,CFC-11_FLAG_W,CFC-12,CFC-12_FLAG_W,CFC113,CFC113_FLAG_W,TCARBN,TCARBN_FLAG_W,ALKALI,ALKALI_FLAG_W,PH_SWS,PH_SWS_FLAG_W,PH_TMP,TRITUM,TRITUM_FLAG_W,HELIUM,HELIUM_FLAG_W,DELHE3,DELHE3_FLAG_W,REFTMP,REFTMP_FLAG_W,DELC13,DELC13_FLAG_W,DELC14,DELC14_FLAG_W,C14ERR,NEON,NEON_FLAG_W,NEONER,CCL4,CCL4_FLAG_W,ALUMIN,ALUMIN_FLAG_W,DELO18,DELO18_FLAG_W,DOC,DOC_FLAG_W,TDN,TDN_FLAG_W,BTL_DATE,BTL_TIME,BTL_LAT,BTL_LON,TRITER,DELSI30,DELSI30_FLAG_W,CDOM380,CDOM380_FLAG_W,CDOM325,CDOM325_FLAG_W,CDOMSL,CDOMSL_FLAG_W,CDOM340,CDOM340_FLAG_W,CDOM443,CDOM443_FLAG_W,CDOMSN,CDOMSN_FLAG_W,BLACKC,BLACKC_FLAG_W,CDOM490,CDOM490_FLAG_W,CDOM412,CDOM412_FLAG_W,CDOM555,CDOM555_FLAG_W,DELHER,HELIER
,,,,,,,,,,,METERS,DBAR,ITS-90,PSS-78,,PSS-78,,UMOL/KG,,UMOL/KG,,UMOL/KG,,UMOL/KG,,UMOL/KG,,UMOL/KG,,PMOL/KG,,PMOL/KG,,PMOL/KG,,UMOL/KG,,UMOL/KG,,,,DEG C,TU,,NMOL/KG,,PERCNT,,DEG C,,/MILLE,,/MILLE,,/MILLE,NMOL/KG,,NMOL/KG,PMOL/KG,,NMOL/L,,/MILLE,,UMOL/KG,,UMOL/KG,,,,,,TU,/MILLE,,1/M,,1/M,,1/NM,,1/M,,1/M,,1/NM,,,,1/M,,1/M,,1/M,,PERCNT,NMOL/KG
33RR20080204,       I06S,      51,          1,         36,         36,2,20080221,       1652,   -52.5026,    30.0003,       4545,     7.1,   2.4056,  33.8477,2,  33.8500,2,    328.5,2,   328.7,2,   14.33,2,   23.82,2,    0.26,2,    1.55,2,   5.591,2,   3.050,2,   0.482,2,  2148.4,6,  2283.5,2,   7.9252,2,    13.00,    -999,9,    -999,9,    -999,9,2.4044,2,-999,9,-999,9,-999,    -999,9,    -999,7.12,2,-999,9,-999,9,    -999,9,-999,1, 20080221,     1855, -52.5025,  30.0002,    -999,-999,1,     -999,9,     -999,9,     -999,9,     -999,9,     -999,9,     -999,9,-999,9,     -999,9,     -999,9,     -999,9,    -999,    -999
33RR20080204,       I06S,      51,          1,         35,         35,2,20080221,       1652,   -52.5026,    30.0003,       4545,    22.6,   2.4039,  33.8475,2,  33.8496,2,    328.9,2,   328.0,2,   14.50,2,   23.77,2,    0.26,2,    1.55,2,   5.581,2,   3.030,2,   0.444,2,  2147.0,2,  2283.5,2,   7.9253,2,    13.00,    -999,9,    -999,9,    -999,9,2.4029,2,-999,9,-999,9,-999,    -999,9,    -999,6.801,2,-999,9,-999,9,   41.56,2,-999,1, 20080221,     1854, -52.5025,  30.0003,    -999,-999,1,     -999,9,     -999,9,     -999,9,     -999,9,     -999,9,     -999,9,-999,1,     -999,9,     -999,9,     -999,9,    -999,    -999
33RR20080204,       I06S,      51,          1,         34,         34,2,20080221,       1652,   -52.5026,    30.0003,       4545,    52.3,   2.3722,  33.8467,2,  33.8486,2,    329.1,2,   328.1,2,   14.85,2,   23.77,2,    0.26,2,    1.55,2,   5.890,2,   3.091,2,   0.414,2,  2146.5,2,  2283.8,2,   7.9252,2,    13.00,    -999,9,    -999,9,    -999,9,2.3714,2,-999,9,-999,9,-999,    -999,9,    -999,5.966,2,-999,9,-999,9,   42.54,2,-999,1, 20080221,     1853, -52.5026,  30.0004,    -999,-999,1,     -999,9,     -999,9,     -999,9,     -999,9,     -999,9,     -999,9,-999,9,     -999,9,     -999,9,     -999,9,    -999,    -999
33RR20080204,       I06S,      51,          1,         33,         33,2,20080221,       1652,   -52.5026,    30.0003,       4545,    88.1,   2.3572,  33.8457,2,  33.8486,2,    328.2,2,   327.5,2,   15.03,2,   23.77,2,    0.26,2,    1.55,2,   6.004,2,   3.147,2,   0.465,2,  2146.9,2,  2285.5,2,   7.9232,2,    13.00,    -999,9,    -999,9,    -999,9,2.3554,2,-999,9,-999,9,-999,    -999,9,    -999,6.202,2,-999,9,-999,9,   43.80,2,-999,1, 20080221,     1851, -52.5026,  30.0003,    -999,-999,1,     -999,9,     -999,9,     -999,9,     -999,9,     -999,9,     -999,9,-999,9,     -999,9,     -999,9,     -999,9,    -999,    -999
33RR20080204,       I06S,      51,          1,         32,         32,2,20080221,       1652,   -52.5026,    30.0003,       4545,   112.9,   1.2375,  33.9539,2,  33.9575,2,    318.1,2,   316.0,2,   37.58,2,   27.62,2,    0.21,2,    1.94,2,   5.172,2,   3.025,2,   0.528,2,  2177.0,2,  2289.5,2,   7.8545,2,    13.00,    -999,9,    -999,9,    -999,9,1.2466,2,-999,9,-999,9,-999,    -999,9,    -999,6.15,2,-999,9,-999,9,   39.41,2,-999,1, 20080221,     1850, -52.5026,  30.0003,    -999,-999,1,     -999,9,     -999,9,     -999,9,     -999,9,     -999,9,     -999,9,-999,1,     -999,9,     -999,9,     -999,9,    -999,    -999
33RR20080204,       I06S,      51,          1,         31,         31,2,20080221,       1652,   -52.5026,    30.0003,       4545,   142.1,   0.9531,  34.0183,2,  34.0192,2,    276.0,2,   304.0,2,   45.38,2,   29.15,2,    0.16,2,    2.04,2,   5.355,2,   2.947,2,   0.486,2,  2186.9,2,  2294.3,2,   7.8315,2,    13.00,    -999,9,    -999,9,    -999,9,0.9501,2,-999,9,-999,9,-999,    -999,9,    -999,6.961,2,-999,9,-999,9,   38.44,2,-999,1, 20080221,     1848, -52.5026,  30.0003,    -999,-999,9,     -999,9,     -999,9,     -999,9,     -999,9,     -999,9,     -999,9,-999,9,     -999,9,     -999,9,     -999,9,    -999,    -999
33RR20080204,       I06S,      51,          1,         30,         30,2,20080221,       1652,   -52.5026,    30.0003,       4545,   162.7,   2.2107,  34.2042,2,  34.2031,2,    255.3,2,   236.6,2,   41.27,2,   32.20,2,    0.02,2,    2.22,2,   3.395,2,   1.812,2,   0.300,2,  2203.8,2,  2296.8,2,   7.7858,2,    13.00,    -999,9,    -999,9,    -999,9,2.2069,2,-999,9,-999,9,-999,    -999,9,    -999,5.065,2,-999,9,-999,9,   37.95,2,-999,1, 20080221,     1847, -52.5025,  30.0003,    -999,-999,1,     -999,9,     -999,9,     -999,9,     -999,9,     -999,9,     -999,9,-999,9,     -999,9,     -999,9,     -999,9,    -999,    -999
33RR20080204,       I06S,      51,          1,         29,         29,2,20080221,       1652,   -52.5026,    30.0003,       4545,   213.3,   1.6164,  34.2564,2,  34.2562,2,    247.1,2,   232.9,2,   54.68,2,   33.23,2,    0.02,2,    2.30,2,   3.240,2,   1.750,2,   0.277,2,  2220.2,2,  2304.7,2,   7.7640,3,    13.00,    -999,9,    -999,9,    -999,9,1.6096,2,-999,9,-999,9,-999,    -999,9,    -999,4.573,2,-999,9,-999,9,   36.68,2,-999,1, 20080221,     1845, -52.5026,  30.0003,    -999,-999,1,     -999,9,     -999,9,     -999,9,     -999,9,     -999,9,     -999,9,-999,1,     -999,9,     -999,9,     -999,9,    -999,    -999
33RR20080204,       I06S,      51,          1,         28,         28,2,20080221,       1652,   -52.5026,    30.0003,       4545,   272.7,   1.5732,  34.3458,2,  34.3492,2,    242.2,2,   216.8,2,   63.65,2,   33.96,2,    0.01,2,    2.35,2,   2.667,2,   1.439,2,   0.224,2,  2235.7,2,  2314.4,2,   7.7517,3,    13.00,    -999,9,    -999,9,    -999,9,1.5717,2,-999,9,-999,9,-999,    -999,9,    -999,4.086,2,-999,9,-999,9,   36.39,2,-999,1, 20080221,     1843, -52.5026,  30.0004,    -999,-999,1,     -999,9,     -999,9,     -999,9,     -999,9,     -999,9,     -999,9,-999,9,     -999,9,     -999,9,     -999,9,    -999,    -999
33RR20080204,       I06S,      51,          1,         27,         27,2,20080221,       1652,   -52.5026,    30.0003,       4545,   323.2,   1.8386,  34.4268,2,  34.4275,2,    196.9,2,   197.1,2,   68.52,2,   34.49,2,    0.01,2,    2.39,2,   1.928,2,   1.030,2,   0.166,2,  2247.1,2,  2320.1,2,   7.7380,2,    13.00,    -999,9,    -999,9,    -999,9,1.839,2,-999,9,-999,9,-999,    -999,9,    -999,3.133,2,-999,9,-999,9,    -999,9,-999,9, 20080221,     1841, -52.5026,  30.0003,    -999,-999,1,     -999,9,     -999,9,     -999,9,     -999,9,     -999,9,     -999,9,-999,9,     -999,9,     -999,9,     -999,9,    -999,    -999
33RR20080204,       I06S,      51,          1,         26,         26,2,20080221,       1652,   -52.5026,    30.0003,       4545,   373.4,   2.0508,  34.4911,2,  34.4947,2,    185.2,2,   181.6,2,   71.70,2,   34.54,2,    0.01,2,    2.39,2,   1.325,2,   0.698,2,   0.108,2,  2249.2,2,  2325.5,2,   7.7351,2,    13.00,    -999,9,    -999,9,    -999,9,2.0482,2,-999,9,-999,9,-999,    -999,9,    -999,2.398,2,-999,9,-999,9,   36.98,2,-999,1, 20080221,     1839, -52.5026,  30.0003,    -999,-999,9,     -999,9,     -999,9,     -999,9,     -999,9,     -999,9,     -999,9,-999,9,     -999,9,     -999,9,     -999,9,    -999,    -999
33RR20080204,       I06S,      51,          1,         25,         25,2,20080221,       1652,   -52.5026,    30.0003,       4545,   423.2,   2.0234,  34.5330,2,  34.5333,2,    181.1,2,   181.6,2,   74.70,2,   34.29,2,    0.01,2,    2.37,2,   1.120,2,   0.608,2,   0.116,2,  2250.6,2,  2329.2,2,   7.7368,2,    13.00,    -999,9,    -999,9,    -999,9,2.0209,2,-999,9,-999,9,-999,    -999,9,    -999,2.017,2,-999,9,-999,9,    -999,9,-999,9, 20080221,     1837, -52.5026,  30.0003,    -999,-999,1,     -999,9,     -999,9,     -999,9,     -999,9,     -999,9,     -999,9,-999,9,     -999,9,     -999,9,     -999,9,    -999,    -999
33RR20080204,       I06S,      51,          1,         24,         24,2,20080221,       1652,   -52.5026,    30.0003,       4545,   473.2,   2.0610,  34.5835,2,  34.5791,2,    179.5,2,   178.4,2,   77.51,2,   34.01,2,    0.01,2,    2.35,2,   0.872,2,   0.463,2,   0.049,2,  2252.5,2,  2333.2,2,   7.7421,2,    13.00,    -999,9,    -999,9,    -999,9,2.0603,2,-999,9,-999,9,-999,    -999,9,    -999,1.555,2,-999,9,-999,9,   40.20,2,-999,1, 20080221,     1835, -52.5026,  30.0003,    -999,-999,9,     -999,9,     -999,9,     -999,9,     -999,9,     -999,9,     -999,9,-999,9,     -999,9,     -999,9,     -999,9,    -999,    -999
33RR20080204,       I06S,      51,          1,         23,         23,2,20080221,       1652,   -52.5026,    30.0003,       4545,   527.8,   2.1196,  34.6142,2,  34.6161,2,    175.6,2,   175.9,2,   78.81,2,   33.58,2,    0.01,2,    2.32,2,   0.627,2,   0.343,2,   0.044,2,  2255.7,2,  2336.5,2,   7.7487,2,    13.00,    -999,9,    -999,9,    -999,9,2.1195,2,-999,9,-999,9,-999,    -999,9,    -999,1.193,2,-999,9,-999,9,   41.46,2,-999,1, 20080221,     1833, -52.5025,  30.0003,    -999,-999,9,     -999,9,     -999,9,     -999,9,     -999,9,     -999,9,     -999,9,-999,1,     -999,9,     -999,9,     -999,9,    -999,    -999
33RR20080204,       I06S,      51,          1,         22,         22,2,20080221,       1652,   -52.5026,    30.0003,       4545,   649.3,   2.0909,  34.6678,2,  34.6705,2,    180.5,2,   180.2,2,   80.30,2,   32.33,2,    0.01,2,    2.25,2,   0.430,2,   0.242,2,   0.038,2,  2251.5,2,  2341.3,2,   7.7650,2,    13.00,    -999,9,    -999,9,    -999,9,2.0901,2,-999,9,-999,9,-999,    -999,9,    -999,0.911,2,-999,9,-999,9,   39.02,2,-999,1, 20080221,     1830, -52.5026,  30.0003,    -999,-999,1,     -999,9,     -999,9,     -999,9,     -999,9,     -999,9,     -999,9,-999,9,     -999,9,     -999,9,     -999,9,    -999,    -999
33RR20080204,       I06S,      51,          1,         21,         21,2,20080221,       1652,   -52.5026,    30.0003,       4545,   750.1,   2.0552,  34.6966,2,  34.6988,2,    182.9,2,   183.5,2,   81.99,2,   31.80,2,    0.01,2,    2.21,2,   0.344,2,   0.195,2,   0.035,2,  2251.7,2,  2342.6,2,   7.7762,2,    13.00,    -999,9,    -999,9,    -999,9,2.0539,2,-999,9,-999,9,-999,    -999,9,    -999,0.782,2,-999,9,-999,9,   39.02,2,-999,1, 20080221,     1827, -52.5026,  30.0003,    -999,-999,9,     -999,9,     -999,9,     -999,9,     -999,9,     -999,9,     -999,9,-999,9,     -999,9,     -999,9,     -999,9,    -999,    -999
33RR20080204,       I06S,      51,          1,         20,         20,2,20080221,       1652,   -52.5026,    30.0003,       4545,   849.7,   1.8740,  34.7078,2,  34.7096,2,    187.6,2,   187.9,2,   85.38,2,   31.56,2,    0.00,2,    2.19,2,   0.371,2,   0.216,2,   0.034,2,  2251.0,2,  2344.7,2,   7.7814,2,    13.00,    -999,9,    -999,9,    -999,9,1.8747,2,-999,9,-999,9,-999,    -999,9,    -999,0.842,2,-999,9,-999,9,   41.27,2,-999,1, 20080221,     1824, -52.5026,  30.0003,    -999,-999,1,     -999,9,     -999,9,     -999,9,     -999,9,     -999,9,     -999,9,-999,9,     -999,9,     -999,9,     -999,9,    -999,    -999
33RR20080204,       I06S,      51,          1,         19,         19,2,20080221,       1652,   -52.5026,    30.0003,       4545,   950.5,   1.8015,  34.7208,2,  34.7228,2,    190.4,2,   191.6,2,   86.68,2,   31.09,2,    0.00,2,    2.15,2,   0.332,2,   0.191,2,   0.028,2,  2247.2,2,  2348.4,2,   7.7895,2,    13.00,    -999,9,    -999,9,    -999,9,1.8012,2,-999,9,-999,9,-999,    -999,9,    -999,0.746,2,-999,9,-999,9,    -999,9,-999,1, 20080221,     1821, -52.5025,  30.0003,    -999,-999,9,     -999,9,     -999,9,     -999,9,     -999,9,     -999,9,     -999,9,-999,9,     -999,9,     -999,9,     -999,9,    -999,    -999
33RR20080204,       I06S,      51,          1,         18,         18,2,20080221,       1652,   -52.5026,    30.0003,       4545,  1055.8,   1.7126,  34.7285,2,  34.7289,2,    193.9,2,   194.7,2,   88.37,2,   30.85,2,    0.00,2,    2.14,2,   0.320,2,   0.175,2,   0.026,2,  2247.7,2,  2348.4,2,   7.7939,3,    13.00,    -999,9,    -999,9,    -999,9,1.7125,2,-999,9,-999,9,-999,    -999,9,    -999,0.709,2,-999,9,-999,9,   44.20,3,-999,1, 20080221,     1818, -52.5025,  30.0003,    -999,-999,1,     -999,9,     -999,9,     -999,9,     -999,9,     -999,9,     -999,9,-999,9,     -999,9,     -999,9,     -999,9,    -999,    -999
33RR20080204,       I06S,      51,          1,         17,         17,2,20080221,       1652,   -52.5026,    30.0003,       4545,  1157.3,   1.7582,  34.7488,2,  34.7483,2,    201.0,2,   199.4,2,   86.27,2,   30.09,2,    0.00,2,    2.07,2,   0.260,2,   0.150,2,   0.028,2,  2243.6,2,  2347.7,2,   7.8085,2,    13.00,    -999,9,    -999,9,    -999,9,1.7565,2,-999,9,-999,9,-999,    -999,9,    -999,0.598,2,-999,9,-999,9,    -999,9,-999,9, 20080221,     1815, -52.5026,  30.0004,    -999,-999,9,     -999,9,     -999,9,     -999,9,     -999,9,     -999,9,     -999,9,-999,9,     -999,9,     -999,9,     -999,9,    -999,    -999
33RR20080204,       I06S,      51,          1,         16,         16,2,20080221,       1652,   -52.5026,    30.0003,       4545,  1257.7,   1.6952,  34.7544,2,  34.7558,2,    201.7,2,   202.2,2,   87.01,2,   29.71,2,    0.00,2,    2.05,2,   0.166,2,   0.093,2,   0.017,2,  2245.1,2,  2348.9,2,   7.8124,4,    13.00,    -999,9,    -999,9,    -999,9,1.6931,2,-999,9,-999,9,-999,    -999,9,    -999,0.452,2,-999,9,-999,9,   39.61,2,-999,1, 20080221,     1812, -52.5026,  30.0003,    -999,-999,9,     -999,9,     -999,9,     -999,9,     -999,9,     -999,9,     -999,9,-999,9,     -999,9,     -999,9,     -999,9,    -999,    -999
33RR20080204,       I06S,      51,          1,         15,         15,2,20080221,       1652,   -52.5026,    30.0003,       4545,  1358.2,   1.6381,  34.7558,2,  34.7572,2,    204.7,2,   203.8,2,   88.32,2,   29.71,2,    0.00,2,    2.05,2,   0.156,2,   0.089,2,   0.021,2,  2242.4,2,  2350.4,2,   7.8192,3,    13.00,    -999,9,    -999,9,    -999,9,1.6393,2,-999,9,-999,9,-999,    -999,9,    -999,0.518,2,-999,9,-999,9,    -999,9,-999,9, 20080221,     1809, -52.5026,  30.0002,    -999,-999,9,     -999,9,     -999,9,     -999,9,     -999,9,     -999,9,     -999,9,-999,9,     -999,9,     -999,9,     -999,9,    -999,    -999
33RR20080204,       I06S,      51,          1,         14,         14,2,20080221,       1652,   -52.5026,    30.0003,       4545,  1459.5,   1.5351,  34.7546,2,  34.7558,2,    205.4,2,   205.3,2,   90.96,2,   29.71,2,    0.00,2,    2.05,2,   0.139,2,   0.079,2,   0.022,2,  2245.2,2,  2352.7,2,   7.8206,2,    13.00,    -999,9,    -999,9,    -999,9,1.5358,2,-999,9,-999,9,-999,    -999,9,    -999,0.567,2,-999,9,-999,9,   39.02,2,-999,1, 20080221,     1806, -52.5026,  30.0002,    -999,-999,9,     -999,9,     -999,9,     -999,9,     -999,9,     -999,9,     -999,9,-999,1,     -999,9,     -999,9,     -999,9,    -999,    -999
33RR20080204,       I06S,      51,          1,         13,         13,2,20080221,       1652,   -52.5026,    30.0003,       4545,  1559.9,   1.3428,  34.7382,2,  34.7387,2,    204.6,2,   204.9,2,   97.41,2,   30.48,2,    0.00,2,    2.10,2,   0.201,2,   0.117,2,   0.043,2,  2252.2,2,  2352.3,2,   7.8102,2,    13.00,    -999,9,    -999,9,    -999,9,1.343,2,-999,9,-999,9,-999,    -999,9,    -999,0.81,2,-999,9,-999,9,    -999,9,-999,9, 20080221,     1803, -52.5025,  30.0003,    -999,-999,9,     -999,9,     -999,9,     -999,9,     -999,9,     -999,9,     -999,9,-999,9,     -999,9,     -999,9,     -999,9,    -999,    -999
33RR20080204,       I06S,      51,          1,         12,         12,2,20080221,       1652,   -52.5026,    30.0003,       4545,  1561.4,   1.3398,  34.7378,2,  34.7375,2,    204.6,2,   204.5,2,   97.39,2,   30.43,2,    0.00,2,    2.10,2,   0.198,2,   0.113,2,   0.021,2,  2251.0,2,  2352.7,2,   7.8095,3,    13.00,    -999,9,    -999,9,    -999,9,1.3398,2,-999,9,-999,9,-999,    -999,9,    -999,0.555,2,-999,9,-999,9,    -999,9,-999,1, 20080221,     1802, -52.5026,  30.0004,    -999,-999,9,     -999,9,     -999,9,     -999,9,     -999,9,     -999,9,     -999,9,-999,9,     -999,9,     -999,9,     -999,9,    -999,    -999
33RR20080204,       I06S,      51,          1,         11,         11,2,20080221,       1652,   -52.5026,    30.0003,       4545,  1767.3,   1.1387,  34.7260,2,  34.7267,2,    205.5,2,   205.3,2,  103.46,2,   30.97,2,    0.00,2,    2.14,2,   0.226,2,   0.126,2,   0.026,2,  2256.2,2,  2354.0,2,   7.8049,2,    13.00,    -999,9,    -999,9,    -999,9,1.1385,2,-999,9,-999,9,-999,    -999,9,    -999,0.594,2,-999,9,-999,9,    -999,9,-999,9, 20080221,     1756, -52.5025,  30.0003,    -999,-999,9,     -999,9,     -999,9,     -999,9,     -999,9,     -999,9,     -999,9,-999,9,     -999,9,     -999,9,     -999,9,    -999,    -999
33RR20080204,       I06S,      51,          1,         10,         10,2,20080221,       1652,   -52.5026,    30.0003,       4545,  1868.9,   1.0225,  34.7198,2,  34.7191,2,    206.0,2,   206.2,2,  106.68,2,   31.21,2,    0.00,2,    2.16,2,   0.236,2,   0.132,2,   0.020,2,  2259.6,2,  2354.7,2,   7.8027,2,    13.00,    -999,9,    -999,9,    -999,9,1.0228,2,-999,9,-999,9,-999,    -999,9,    -999,0.621,2,-999,9,-999,9,   38.54,2,-999,1, 20080221,     1753, -52.5025,  30.0003,    -999,-999,9,     -999,9,     -999,9,     -999,9,     -999,9,     -999,9,     -999,9,-999,9,     -999,9,     -999,9,     -999,9,    -999,    -999
33RR20080204,       I06S,      51,          1,          9,          9,2,20080221,       1652,   -52.5026,    30.0003,       4545,  2069.5,   0.8295,  34.7081,2,  34.7069,2,    207.2,2,   207.2,2,  112.40,2,   31.69,2,    0.00,2,    2.20,2,   0.271,6,   0.150,6,   0.027,6,  2262.4,2,  2356.8,2,   7.7957,2,    13.00,    -999,9,    -999,9,    -999,9,0.83,2,-999,9,-999,9,-999,    -999,9,    -999,0.72,2,-999,9,-999,9,    -999,9,-999,9, 20080221,     1749, -52.5026,  30.0003,    -999,-999,9,     -999,9,     -999,9,     -999,9,     -999,9,     -999,9,     -999,9,-999,9,     -999,9,     -999,9,     -999,9,    -999,    -999
33RR20080204,       I06S,      51,          1,          8,          8,2,20080221,       1652,   -52.5026,    30.0003,       4545,  2384.6,   0.6373,  34.6973,2,  34.6969,2,    209.0,2,   209.4,2,  118.88,2,   32.13,2,    0.00,2,    2.23,2,   0.273,2,   0.148,2,   0.027,2,  2264.4,2,  2357.2,2,   7.7822,3,    13.00,    -999,9,    -999,9,    -999,9,0.6371,2,-999,9,-999,9,-999,    -999,9,    -999,0.737,2,-999,9,-999,9,   39.61,2,-999,1, 20080221,     1742, -52.5026,  30.0003,    -999,-999,9,     -999,9,     -999,9,     -999,9,     -999,9,     -999,9,     -999,9,-999,1,     -999,9,     -999,9,     -999,9,    -999,    -999