BOTTLE,20220706CCHSIOAMB
EXPOCODE,SECT_ID,STNNBR,CASTNO,SAMPNO,BTLNBR,BTLNBR_FLAG_W,DATE,TIME,LATITUDE,LONGITUDE,DEPTH,CTDPRS,CTDTMP,CTDSAL,CTDSAL_FLAG_W,SALNTY,SALNTY_FLAG_W,CTDOXY,CTDOXY_FLAG_W,OXYGEN,OXYGEN_FLAG_W,SILCAT,SILCAT_FLAG_W,NITRAT,NITRAT_FLAG_W,NITRIT,NITRIT_FLAG_W,PHSPHT,PHSPHT_FLAG_W,CFC-11,CFC-11_FLAG_W,CFC-12,CFC-12_FLAG_W,CFC113,CFC113_FLAG_W,TCARBN,TCARBN_FLAG_W,ALKALI,ALKALI_FLAG_W,PH_SWS,PH_SWS_FLAG_W,PH_TMP,TRITUM,TRITUM_FLAG_W,HELIUM,HELIUM_FLAG_W,DELHE3,DELHE3_FLAG_W,REFTMP,REFTMP_FLAG_W,DELC13,DELC13_FLAG_W,DELC14,DELC14_FLAG_W,C14ERR,NEON,NEON_FLAG_W,NEONER,CCL4,CCL4_FLAG_W,ALUMIN,ALUMIN_FLAG_W,DELO18,DELO18_FLAG_W,DOC,DOC_FLAG_W,TDN,TDN_FLAG_W,BTL_DATE,BTL_TIME,BTL_LAT,BTL_LON,TRITER,DELSI30,DELSI30_FLAG_W,CDOM380,CDOM380_FLAG_W,CDOM325,CDOM325_FLAG_W,CDOMSL,CDOMSL_FLAG_W,CDOM340,CDOM340_FLAG_W,CDOM443,CDOM443_FLAG_W,CDOMSN,CDOMSN_FLAG_W,BLACKC,BLACKC_FLAG_W,CDOM490,CDOM490_FLAG_W,CDOM412,CDOM412_FLAG_W,CDOM555,CDOM555_FLAG_W,DELHER,HELIER
,,,,,,,,,,,METERS,DBAR,ITS-90,PSS-78,,PSS-78,,UMOL/KG,,UMOL/KG,,UMOL/KG,,UMOL/KG,,UMOL/KG,,UMOL/KG,,PMOL/KG,,PMOL/KG,,PMOL/KG,,UMOL/KG,,UMOL/KG,,,,DEG C,TU,,NMOL/KG,,PERCNT,,DEG C,,/MILLE,,/MILLE,,/MILLE,NMOL/KG,,NMOL/KG,PMOL/KG,,NMOL/L,,/MILLE,,UMOL/KG,,UMOL/KG,,,,,,TU,/MILLE,,1/M,,1/M,,1/NM,,1/M,,1/M,,1/NM,,,,1/M,,1/M,,1/M,,PERCNT,NMOL/KG
33RR20080204,       I06S,      65,          1,         36,         36,2,20080226,       0217,   -59.4996,    29.9987,       5261,     4.9,   1.2996,  33.8924,2,  33.8939,2,    334.0,2,   335.2,2,   42.80,2,   26.07,2,    0.33,2,    1.79,2,   6.147,2,   3.406,2,   0.510,2,  2166.0,6,  2296.2,2,   7.9001,2,    13.00,    -999,9,    -999,9,    -999,9,1.2988,2,0.6,2,-88.0,2,2.5,    -999,9,    -999,15.117,2,-999,9,-999,9,    -999,9,-999,1, 20080226,     0424, -59.5011,  29.9996,    -999,-999,9,   0.0182,2,   0.0827,2,   0.0239,3,   0.0517,2,   0.0047,2,   0.0284,2,-999,9,  -0.0008,4,   0.0106,2,  -0.0025,4,    -999,    -999
33RR20080204,       I06S,      65,          1,         35,         35,2,20080226,       0217,   -59.4996,    29.9987,       5261,    28.4,   1.3000,  33.8930,2,  33.8933,2,    334.5,2,   334.3,2,   42.80,2,   26.07,2,    0.33,2,    1.79,2,   6.042,6,   3.317,6,   0.534,6,  2167.2,2,  2297.8,2,   7.9014,2,    13.00,    -999,9,    -999,9,    -999,9,1.2994,2,-999,9,-999,9,-999,    -999,9,    -999,15.804,6,-999,9,-999,9,   41.66,2,-999,1, 20080226,     0422, -59.5011,  29.9996,    -999,-999,1,   0.0187,2,   0.0719,2,   0.0187,3,   0.0423,2,   0.0068,2,   0.0217,3,-999,9,   0.0011,2,   0.0126,2,  -0.0015,4,    -999,    -999
33RR20080204,       I06S,      65,          1,         34,         34,2,20080226,       0217,   -59.4996,    29.9987,       5261,    38.7,   1.3027,  33.8932,2,  33.8937,2,    334.7,2,   334.2,2,   42.80,2,   26.07,2,    0.33,2,    1.79,2,   5.804,2,   3.212,2,   0.530,2,  2165.9,2,  2297.8,2,   7.8888,4,    13.00,    -999,9,    -999,9,    -999,9,1.3018,2,-999,9,-999,9,-999,    -999,9,    -999,13.685,2,-999,9,-999,9,   42.34,2,-999,1, 20080226,     0421, -59.5011,  29.9996,    -999,-999,1,   0.0174,2,   0.0777,2,   0.0237,3,   0.0487,2,   0.0046,2,   0.0276,2,-999,9,  -0.0008,4,   0.0104,2,  -0.0024,4,    -999,    -999
33RR20080204,       I06S,      65,          1,         33,         33,2,20080226,       0217,   -59.4996,    29.9987,       5261,    68.2,   1.2253,  33.8974,2,  33.8954,2,    334.8,2,   334.3,2,   42.79,2,   26.07,2,    0.33,2,    1.79,2,   5.956,2,   3.215,2,   0.492,2,  2169.4,2,  2297.3,2,   7.9000,2,    13.00,    -999,9,    -999,9,    -999,9,1.1582,3,1.41,2,-91.1,2,2.5,    -999,9,    -999,11.988,2,-999,9,-999,9,   43.71,2,-999,1, 20080226,     0419, -59.5010,  29.9997,    -999,-999,1,   0.0180,2,   0.0815,2,   0.0234,3,   0.0507,2,   0.0049,2,   0.0280,2,-999,9,  -0.0006,4,   0.0109,2,  -0.0023,4,    -999,    -999
33RR20080204,       I06S,      65,          1,         32,         32,2,20080226,       0217,   -59.4996,    29.9987,       5261,    88.4,  -0.5937,  34.0918,2,  34.0857,2,    346.9,2,   343.0,2,   52.82,2,   28.23,2,    0.28,2,    1.96,2,   6.374,2,   3.436,2,   0.496,2,  2189.9,2,  2306.9,2,   7.8712,4,    13.00,    -999,9,    -999,9,    -999,9,-0.5961,2,1.16,2,-100.4,2,2.5,    -999,9,    -999,10.235,2,-999,9,-999,9,   40.29,2,-999,1, 20080226,     0418, -59.5010,  29.9997,    -999,-999,1,   0.0255,2,   0.0960,2,   0.0188,3,   0.0609,2,   0.0083,2,   0.0219,3,-999,9,   0.0009,2,   0.0168,2,  -0.0015,4,    -999,    -999
33RR20080204,       I06S,      65,          1,         31,         31,2,20080226,       0217,   -59.4996,    29.9987,       5261,   138.6,   0.1153,  34.2742,2,  34.2737,2,    299.5,2,   284.7,2,   67.58,2,   31.37,2,    0.01,2,    2.16,2,   4.545,2,   2.578,2,   0.383,2,  2220.2,2,  2317.6,2,   7.8022,2,    13.00,    -999,9,    -999,9,    -999,9,0.114,2,-999,9,-999,9,-999,    -999,9,    -999,5.757,2,-999,9,-999,9,   38.63,2,-999,1, 20080226,     0416, -59.5010,  29.9997,    -999,-999,9,   0.0261,2,   0.0961,2,   0.0188,3,   0.0594,2,   0.0082,2,   0.0207,3,-999,9,   0.0011,2,   0.0168,2,  -0.0014,4,    -999,    -999
33RR20080204,       I06S,      65,          1,         30,         30,2,20080226,       0217,   -59.4996,    29.9987,       5261,   188.9,   1.2647,  34.4901,2,  34.4892,2,    217.8,2,   208.7,2,   82.77,2,   33.98,2,    0.00,2,    2.35,2,   2.116,2,   1.157,2,   0.181,2,  2250.7,2,  2329.6,2,   7.7399,4,    13.00,    -999,9,    -999,9,    -999,9,1.2649,2,0.47,2,-138.9,2,2.6,    -999,9,    -999,3.088,2,-999,9,-999,9,   40.29,2,-999,1, 20080226,     0415, -59.5010,  29.9996,    -999,-999,1,   0.0309,2,   0.1088,2,   0.0186,3,   0.0689,2,   0.0098,2,   0.0198,3,-999,9,   0.0018,2,   0.0196,2,  -0.0011,4,    -999,    -999
33RR20080204,       I06S,      65,          1,         29,         29,2,20080226,       0217,   -59.4996,    29.9987,       5261,   228.7,   1.5195,  34.5623,2,  34.5620,2,    194.2,2,   192.7,2,   79.19,2,   33.80,2,    0.00,2,    2.34,2,   1.395,2,   0.799,2,   0.127,2,  2263.0,2,  2336.1,2,   7.7392,2,    13.00,    -999,9,    -999,9,    -999,9,1.5184,2,-999,9,-999,9,-999,    -999,9,    -999,2.245,2,-999,9,-999,9,   41.37,2,-999,1, 20080226,     0413, -59.5010,  29.9996,    -999,-999,1,   0.0331,2,   0.1135,2,   0.0183,3,   0.0730,2,   0.0107,2,   0.0194,3,-999,9,   0.0022,2,   0.0212,2,  -0.0009,4,    -999,    -999
33RR20080204,       I06S,      65,          1,         28,         28,2,20080226,       0217,   -59.4996,    29.9987,       5261,   280.1,   1.5834,  34.6053,2,  34.6074,2,    187.7,2,   188.3,2,   85.40,2,   33.65,2,    0.00,2,    2.33,2,   1.079,2,   0.608,2,   0.096,2,  2258.7,2,  2340.8,2,   7.7456,2,    13.00,    -999,9,    -999,9,    -999,9,1.5825,2,0.37,2,-148.7,2,1.9,    -999,9,    -999,2.002,2,-999,9,-999,9,   42.73,2,-999,1, 20080226,     0411, -59.5010,  29.9997,    -999,-999,1,   0.0376,2,   0.1275,2,   0.0199,2,   0.0868,2,   0.0109,2,   0.0208,2,-999,9,   0.0030,2,   0.0221,2,  -0.0002,4,    -999,    -999
33RR20080204,       I06S,      65,          1,         27,         27,2,20080226,       0217,   -59.4996,    29.9987,       5261,   329.3,   1.6128,  34.6403,2,  34.6397,2,    187.2,2,   186.7,2,   87.10,2,   33.23,2,    0.00,2,    2.29,2,   0.860,2,   0.497,2,   0.080,2,  2260.1,2,  2343.1,2,   7.7519,2,    13.00,    -999,9,    -999,9,    -999,9,1.6126,2,0.41,2,-150.5,2,1.8,    -999,9,    -999,1.634,2,-999,9,-999,9,    -999,9,-999,9, 20080226,     0410, -59.5010,  29.9997,    -999,-999,9,     -999,9,     -999,9,     -999,9,     -999,9,     -999,9,     -999,9,-999,9,     -999,9,     -999,9,     -999,9,    -999,    -999
33RR20080204,       I06S,      65,          1,         26,         26,2,20080226,       0217,   -59.4996,    29.9987,       5261,   387.4,   1.6045,  34.6664,2,  34.6668,2,    189.2,2,   187.7,2,   88.60,2,   32.70,2,    0.00,2,    2.25,2,   0.706,2,   0.413,2,   0.056,2,  2255.8,2,  2346.8,2,   7.7612,2,    13.00,    -999,9,    -999,9,    -999,9,1.6042,2,0.41,2,-149.8,2,1.8,    -999,9,    -999,1.437,2,-999,9,-999,9,   40.10,2,-999,1, 20080226,     0408, -59.5010,  29.9996,    -999,-999,1,   0.0327,2,   0.1154,2,   0.0193,3,   0.0747,2,   0.0100,2,   0.0205,3,-999,9,   0.0022,2,   0.0199,2,  -0.0008,4,    -999,    -999
33RR20080204,       I06S,      65,          1,         25,         25,2,20080226,       0217,   -59.4996,    29.9987,       5261,   440.7,   1.5733,  34.6825,2,  34.6829,2,    190.2,2,   190.5,2,   89.93,2,   32.27,2,    0.00,2,    2.24,2,   0.622,2,   0.364,2,   0.046,2,  2258.7,2,  2346.1,2,   7.7692,2,    13.00,    -999,9,    -999,9,    -999,9,1.573,2,0.38,2,-147.6,2,1.8,    -999,9,    -999,1.321,2,-999,9,-999,9,    -999,9,-999,9, 20080226,     0406, -59.5009,  29.9997,    -999,-999,9,     -999,9,     -999,9,     -999,9,     -999,9,     -999,9,     -999,9,-999,9,     -999,9,     -999,9,     -999,9,    -999,    -999
33RR20080204,       I06S,      65,          1,         24,         24,2,20080226,       0217,   -59.4996,    29.9987,       5261,   490.8,   1.5790,  34.6980,2,  34.6983,2,    191.9,2,   191.3,2,   90.30,2,   31.99,2,    0.00,2,    2.21,2,   0.513,2,   0.315,2,   0.035,2,  2255.6,2,  2348.7,2,   7.7757,2,    13.00,    -999,9,    -999,9,    -999,9,1.5803,2,0.44,2,-145.3,2,2.4,    -999,9,    -999,1.111,2,-999,9,-999,9,   40.49,2,-999,1, 20080226,     0404, -59.5008,  29.9996,    -999,-999,9,   0.0347,2,   0.1164,2,   0.0188,3,   0.0752,2,   0.0107,2,   0.0194,3,-999,9,   0.0021,2,   0.0209,2,  -0.0010,4,    -999,    -999
33RR20080204,       I06S,      65,          1,         23,         23,2,20080226,       0217,   -59.4996,    29.9987,       5261,   570.0,   1.5445,  34.7088,2,  34.7099,2,    193.5,2,   193.4,2,   91.43,2,   31.65,2,    0.00,2,    2.19,2,   0.443,2,   0.282,2,   0.034,2,  2254.0,2,  2350.4,2,   7.7817,2,    13.00,    -999,9,    -999,9,    -999,9,1.5437,2,0.47,2,-140.2,2,2.8,    -999,9,    -999,1.015,2,-999,9,-999,9,    -999,9,-999,9, 20080226,     0402, -59.5008,  29.9997,    -999,-999,1,     -999,9,     -999,9,     -999,9,     -999,9,     -999,9,     -999,9,-999,9,     -999,9,     -999,9,     -999,9,    -999,    -999
33RR20080204,       I06S,      65,          1,         22,         22,2,20080226,       0217,   -59.4996,    29.9987,       5261,   670.8,   1.4599,  34.7169,2,  34.7169,2,    197.1,2,   196.4,2,   93.51,2,   31.32,2,    0.00,2,    2.17,2,   0.395,2,   0.247,2,   0.025,2,  2253.6,2,  2350.5,2,   7.7884,2,    13.00,    -999,9,    -999,9,    -999,9,1.4586,2,0.45,2,-151.7,2,2.5,    -999,9,    -999,0.949,2,-999,9,-999,9,   39.12,2,-999,1, 20080226,     0359, -59.5008,  29.9997,    -999,-999,9,   0.0317,2,   0.1117,2,   0.0201,3,   0.0718,2,   0.0087,2,   0.0207,3,-999,9,   0.0013,2,   0.0182,2,  -0.0013,4,    -999,    -999
33RR20080204,       I06S,      65,          1,         21,         21,2,20080226,       0217,   -59.4996,    29.9987,       5261,   771.3,   1.3079,  34.7171,2,  34.7173,2,    199.4,2,   199.0,2,   96.91,2,   31.37,2,    0.00,2,    2.17,2,   0.393,2,   0.225,2,   0.023,2,  2255.0,2,  2352.5,2,   7.7901,2,    13.00,    -999,9,    -999,9,    -999,9,1.3084,2,0.5,2,-147.6,2,2.8,    -999,9,    -999,0.925,2,-999,9,-999,9,    -999,9,-999,9, 20080226,     0356, -59.5008,  29.9997,    -999,-999,1,     -999,9,     -999,9,     -999,9,     -999,9,     -999,9,     -999,9,-999,9,     -999,9,     -999,9,     -999,9,    -999,    -999
33RR20080204,       I06S,      65,          1,         20,         20,2,20080226,       0217,   -59.4996,    29.9987,       5261,   869.8,   1.1970,  34.7147,2,  34.7156,2,    200.9,2,   200.3,2,  100.13,2,   31.47,2,    0.00,2,    2.17,2,   0.391,2,   0.232,2,   0.019,2,  2283.8,4,  2354.8,2,   7.7907,2,    13.00,    -999,9,    -999,9,    -999,9,1.196,2,0.51,2,-152.7,2,3.0,    -999,9,    -999,0.985,2,-999,9,-999,9,   36.98,2,-999,1, 20080226,     0354, -59.5007,  29.9998,    -999,-999,9,     -999,9,     -999,9,     -999,9,     -999,9,     -999,9,     -999,9,-999,9,     -999,9,     -999,9,     -999,9,    -999,    -999
33RR20080204,       I06S,      65,          1,         19,         19,2,20080226,       0217,   -59.4996,    29.9987,       5261,   972.6,   1.1256,  34.7164,2,  34.7168,2,    202.0,2,   201.8,2,  102.22,2,   31.42,2,    0.00,2,    2.17,2,   0.365,2,   0.226,2,   0.038,2,  2256.9,6,  2356.7,2,   7.7933,2,    13.00,    -999,9,    -999,9,    -999,9,1.1258,2,0.51,2,-160.9,2,2.7,    -999,9,    -999,0.995,2,-999,9,-999,9,   39.22,2,-999,1, 20080226,     0351, -59.5007,  29.9996,    -999,-999,1,   0.0287,2,   0.1088,2,   0.0208,3,   0.0695,2,   0.0080,2,   0.0225,3,-999,9,   0.0012,2,   0.0165,2,  -0.0013,4,    -999,    -999
33RR20080204,       I06S,      65,          1,         18,         18,2,20080226,       0217,   -59.4996,    29.9987,       5261,  1172.6,   0.9350,  34.7094,2,  34.7093,2,    203.5,2,   203.8,2,  107.91,2,   31.65,2,    0.00,2,    2.20,2,   0.336,2,   0.189,2,   0.020,2,  2256.4,2,  2355.8,2,   7.7901,2,    13.00,    -999,9,    -999,9,    -999,9,0.9361,2,0.46,2,-162.3,2,2.6,    -999,9,    -999,0.766,2,-999,9,-999,9,   40.78,2,-999,1, 20080226,     0347, -59.5007,  29.9996,    -999,-999,9,   0.0317,2,   0.1116,2,   0.0189,3,   0.0715,2,   0.0100,2,   0.0203,3,-999,9,   0.0018,2,   0.0195,2,  -0.0010,4,    -999,    -999
33RR20080204,       I06S,      65,          1,         17,         17,2,20080226,       0217,   -59.4996,    29.9987,       5261,  1376.6,   0.7633,  34.7025,2,  34.7026,2,    204.9,2,   205.7,2,  112.67,2,   32.08,2,    0.00,2,    2.22,2,   0.330,2,   0.182,2,   0.023,2,  2258.7,2,  2358.6,2,   7.7878,2,    13.00,    -999,9,    -999,9,    -999,9,0.7639,2,0.46,2,-157.3,2,2.4,    -999,9,    -999,0.787,2,-999,9,-999,9,   40.10,2,-999,1, 20080226,     0343, -59.5005,  29.9998,    -999,-999,9,   0.0300,2,   0.1095,2,   0.0198,3,   0.0702,2,   0.0088,2,   0.0212,3,-999,9,   0.0013,2,   0.0180,2,  -0.0012,4,    -999,    -999
33RR20080204,       I06S,      65,          1,         16,         16,2,20080226,       0217,   -59.4996,    29.9987,       5261,  1586.4,   0.6221,  34.6957,2,  34.6958,2,    205.5,2,   206.5,2,  117.43,2,   32.46,2,    0.00,2,    2.24,2,   0.318,2,   0.169,2,   0.014,2,  2259.8,2,  2357.3,2,   7.7839,2,    13.00,    -999,9,    -999,9,    -999,9,0.6217,2,0.53,2,-148.5,2,2.4,    -999,9,    -999,0.702,2,-999,9,-999,9,    -999,9,-999,9, 20080226,     0338, -59.5005,  29.9997,    -999,-999,1,     -999,9,     -999,9,     -999,9,     -999,9,     -999,9,     -999,9,-999,9,     -999,9,     -999,9,     -999,9,    -999,    -999
33RR20080204,       I06S,      65,          1,         15,         15,2,20080226,       0217,   -59.4996,    29.9987,       5261,  1787.0,   0.5308,  34.6918,2,  34.6916,2,    207.3,2,   207.6,2,  120.30,2,   32.61,2,    0.00,2,    2.25,2,   0.292,2,   0.157,2,   0.009,2,  2259.6,2,  2359.3,2,   7.7819,2,    13.00,    -999,9,    -999,9,    -999,9,0.5306,2,0.53,2,-159.9,2,2.6,    -999,9,    -999,0.692,2,-999,9,-999,9,   40.88,2,-999,1, 20080226,     0334, -59.5004,  29.9997,    -999,-999,9,   0.0298,2,   0.1086,2,   0.0198,3,   0.0692,2,   0.0088,2,   0.0212,3,-999,9,   0.0013,2,   0.0179,2,  -0.0011,4,    -999,    -999
33RR20080204,       I06S,      65,          1,         14,         14,2,20080226,       0217,   -59.4996,    29.9987,       5261,  1990.5,   0.4464,  34.6880,2,  34.6875,2,    208.6,2,   209.5,2,  123.17,2,   32.75,2,    0.00,2,    2.26,2,   0.269,2,   0.150,2,   0.009,2,  2262.6,2,  2357.2,2,   7.7813,2,    13.00,    -999,9,    -999,9,    -999,9,0.4457,2,0.51,2,-154.5,2,2.6,    -999,9,    -999,0.627,2,-999,9,-999,9,    -999,9,-999,9, 20080226,     0330, -59.5004,  29.9998,    -999,-999,1,     -999,9,     -999,9,     -999,9,     -999,9,     -999,9,     -999,9,-999,9,     -999,9,     -999,9,     -999,9,    -999,    -999
33RR20080204,       I06S,      65,          1,         13,         13,2,20080226,       0217,   -59.4996,    29.9987,       5261,  2284.0,   0.3173,  34.6815,2,  34.6814,2,    211.7,2,   212.9,2,  125.66,2,   32.85,2,    0.00,2,    2.27,2,   0.275,2,   0.149,2,   0.005,2,  2260.3,2,  2357.4,2,   7.7808,2,    13.00,    -999,9,    -999,9,    -999,9,0.317,2,0.78,3,-163.2,2,4.0,    -999,9,    -999,0.64,2,-999,9,-999,9,   38.63,2,-999,1, 20080226,     0324, -59.5003,  29.9999,    -999,-999,9,   0.0373,2,   0.1180,2,   0.0173,3,   0.0782,2,   0.0134,2,   0.0178,3,-999,9,   0.0042,2,   0.0239,2,   0.0004,3,    -999,    -999
33RR20080204,       I06S,      65,          1,         12,         12,2,20080226,       0217,   -59.4996,    29.9987,       5261,  2597.9,   0.1957,  34.6762,2,  34.6763,2,    216.0,2,   217.9,2,  127.57,2,   32.85,2,    0.00,2,    2.27,2,   0.283,2,   0.152,2,   0.015,2,  2260.7,2,  2359.1,2,   7.7814,2,    13.00,    -999,9,    -999,9,    -999,9,0.1962,2,0.55,2,-163.7,2,2.5,    -999,9,    -999,0.694,2,-999,9,-999,9,    -999,9,-999,9, 20080226,     0318, -59.5003,  29.9999,    -999,-999,1,     -999,9,     -999,9,     -999,9,     -999,9,     -999,9,     -999,9,-999,9,     -999,9,     -999,9,     -999,9,    -999,    -999
33RR20080204,       I06S,      65,          1,         11,         11,2,20080226,       0217,   -59.4996,    29.9987,       5261,  2899.9,   0.0890,  34.6709,2,  34.6712,2,    220.5,2,   221.8,2,  128.14,2,   32.80,2,    0.00,2,    2.27,2,   0.315,2,   0.165,2,   0.009,2,  2258.8,2,  2357.3,2,   7.7808,4,    13.00,    -999,9,    -999,9,    -999,9,0.0889,2,0.66,2,-155.5,2,2.5,    -999,9,    -999,0.682,2,-999,9,-999,9,   38.54,2,-999,1, 20080226,     0311, -59.5002,  29.9998,    -999,-999,9,   0.0288,2,   0.1065,2,   0.0198,3,   0.0676,2,   0.0085,2,   0.0217,3,-999,9,   0.0013,2,   0.0174,2,  -0.0010,4,    -999,    -999
33RR20080204,       I06S,      65,          1,         10,         10,2,20080226,       0217,   -59.4996,    29.9987,       5261,  3213.2,  -0.0067,  34.6666,2,  34.6671,2,    225.4,2,   226.6,2,  128.91,2,   32.75,2,    0.00,2,    2.27,2,   0.331,2,   0.181,2,   0.009,2,  2257.1,2,  2355.2,2,   7.7884,3,    13.00,    -999,9,    -999,9,    -999,9,-0.007,2,0.57,2,-152.2,2,2.4,    -999,9,    -999,0.644,2,-999,9,-999,9,    -999,9,-999,9, 20080226,     0305, -59.5001,  30.0000,    -999,-999,1,     -999,9,     -999,9,     -999,9,     -999,9,     -999,9,     -999,9,-999,9,     -999,9,     -999,9,     -999,9,    -999,    -999
33RR20080204,       I06S,      65,          1,          9,          9,2,20080226,       0217,   -59.4996,    29.9987,       5261,  3517.5,  -0.0841,  34.6630,2,  34.6634,2,    229.5,2,   230.6,2,  128.90,2,   32.65,2,    0.00,2,    2.26,2,   0.343,2,   0.181,2,   0.022,2,  2254.9,2,  2354.7,2,   7.7918,2,    13.00,    -999,9,    -999,9,    -999,9,-0.0845,2,0.59,2,-155.8,2,2.6,    -999,9,    -999,0.674,2,-999,9,-999,9,   39.51,2,-999,1, 20080226,     0259, -59.5001,  30.0000,    -999,-999,9,   0.0293,2,   0.1042,2,   0.0189,3,   0.0660,2,   0.0092,2,   0.0202,3,-999,9,   0.0015,2,   0.0181,2,  -0.0010,4,    -999,    -999
33RR20080204,       I06S,      65,          1,          8,          8,2,20080226,       0217,   -59.4996,    29.9987,       5261,  3822.3,  -0.1327,  34.6609,2,  34.6607,2,    233.0,2,   233.8,2,  128.15,2,   32.65,2,    0.00,2,    2.25,2,   0.391,2,   0.210,2,   0.026,2,  2253.8,2,  2353.8,2,   7.7923,3,    13.00,    -999,9,    -999,9,    -999,9,-0.1322,2,0.63,2,-159.8,2,2.6,    -999,9,    -999,0.58,2,-999,9,-999,9,    -999,9,-999,9, 20080226,     0253, -59.5001,  29.9999,    -999,-999,1,     -999,9,     -999,9,     -999,9,     -999,9,     -999,9,     -999,9,-999,9,     -999,9,     -999,9,     -999,9,    -999,    -999