BOTTLE,20220706CCHSIOAMB
EXPOCODE,SECT_ID,STNNBR,CASTNO,SAMPNO,BTLNBR,BTLNBR_FLAG_W,DATE,TIME,LATITUDE,LONGITUDE,DEPTH,CTDPRS,CTDTMP,CTDSAL,CTDSAL_FLAG_W,SALNTY,SALNTY_FLAG_W,CTDOXY,CTDOXY_FLAG_W,OXYGEN,OXYGEN_FLAG_W,SILCAT,SILCAT_FLAG_W,NITRAT,NITRAT_FLAG_W,NITRIT,NITRIT_FLAG_W,PHSPHT,PHSPHT_FLAG_W,CFC-11,CFC-11_FLAG_W,CFC-12,CFC-12_FLAG_W,CFC113,CFC113_FLAG_W,TCARBN,TCARBN_FLAG_W,ALKALI,ALKALI_FLAG_W,PH_SWS,PH_SWS_FLAG_W,PH_TMP,TRITUM,TRITUM_FLAG_W,HELIUM,HELIUM_FLAG_W,DELHE3,DELHE3_FLAG_W,REFTMP,REFTMP_FLAG_W,DELC13,DELC13_FLAG_W,DELC14,DELC14_FLAG_W,C14ERR,NEON,NEON_FLAG_W,NEONER,CCL4,CCL4_FLAG_W,ALUMIN,ALUMIN_FLAG_W,DELO18,DELO18_FLAG_W,DOC,DOC_FLAG_W,TDN,TDN_FLAG_W,BTL_DATE,BTL_TIME,BTL_LAT,BTL_LON,TRITER,DELSI30,DELSI30_FLAG_W,CDOM380,CDOM380_FLAG_W,CDOM325,CDOM325_FLAG_W,CDOMSL,CDOMSL_FLAG_W,CDOM340,CDOM340_FLAG_W,CDOM443,CDOM443_FLAG_W,CDOMSN,CDOMSN_FLAG_W,BLACKC,BLACKC_FLAG_W,CDOM490,CDOM490_FLAG_W,CDOM412,CDOM412_FLAG_W,CDOM555,CDOM555_FLAG_W,DELHER,HELIER
,,,,,,,,,,,METERS,DBAR,ITS-90,PSS-78,,PSS-78,,UMOL/KG,,UMOL/KG,,UMOL/KG,,UMOL/KG,,UMOL/KG,,UMOL/KG,,PMOL/KG,,PMOL/KG,,PMOL/KG,,UMOL/KG,,UMOL/KG,,,,DEG C,TU,,NMOL/KG,,PERCNT,,DEG C,,/MILLE,,/MILLE,,/MILLE,NMOL/KG,,NMOL/KG,PMOL/KG,,NMOL/L,,/MILLE,,UMOL/KG,,UMOL/KG,,,,,,TU,/MILLE,,1/M,,1/M,,1/NM,,1/M,,1/M,,1/NM,,,,1/M,,1/M,,1/M,,PERCNT,NMOL/KG
33RR20080204,       I06S,      26,          2,         36,         36,2,20080213,       1143,   -39.9846,    30.0350,       4648,     6.1,  18.9024,  35.5540,2,  35.5540,2,    226.1,2,   234.0,2,    2.88,2,    0.12,2,    0.03,2,    0.15,2,   2.383,2,   1.435,2,   0.208,2,  2040.7,6,  2332.1,2,   8.2230,2,    13.00,    -999,9,    -999,9,    -999,9,-999,9,-999,9,-999,9,-999,    -999,9,    -999,3.726,2,-999,9,-999,9,    -999,9,-999,9, 20080213,     1358, -39.9779,  30.0581,    -999,-999,9,     -999,9,     -999,9,     -999,9,     -999,9,     -999,9,     -999,9,-999,9,     -999,9,     -999,9,     -999,9,    -999,    -999
33RR20080204,       I06S,      26,          2,         35,         35,2,20080213,       1143,   -39.9846,    30.0350,       4648,    21.4,  18.6983,  35.5540,2,  35.5546,2,    230.9,2,   234.2,2,    2.67,2,    0.08,2,    0.02,2,    0.14,2,   2.384,2,   1.430,2,   0.198,2,  2039.5,2,  2331.4,2,   8.2240,2,    13.00,    -999,9,    -999,9,    -999,9,-999,9,-999,9,-999,9,-999,    -999,9,    -999,3.448,2,-999,9,-999,9,    -999,9,-999,9, 20080213,     1356, -39.9780,  30.0576,    -999,-999,9,     -999,9,     -999,9,     -999,9,     -999,9,     -999,9,     -999,9,-999,9,     -999,9,     -999,9,     -999,9,    -999,    -999
33RR20080204,       I06S,      26,          2,         34,         34,2,20080213,       1143,   -39.9846,    30.0350,       4648,    37.6,  18.6548,  35.5532,2,  35.5532,2,    233.6,2,   233.6,2,    2.66,2,    0.07,2,    0.03,2,    0.14,2,   2.397,2,   1.431,2,   0.182,2,  2038.7,2,  2332.8,2,   8.2231,2,    13.00,    -999,9,    -999,9,    -999,9,-999,9,-999,9,-999,9,-999,    -999,9,    -999,3.367,2,-999,9,-999,9,    -999,9,-999,9, 20080213,     1355, -39.9782,  30.0571,    -999,-999,9,     -999,9,     -999,9,     -999,9,     -999,9,     -999,9,     -999,9,-999,9,     -999,9,     -999,9,     -999,9,    -999,    -999
33RR20080204,       I06S,      26,          2,         33,         33,2,20080213,       1143,   -39.9846,    30.0350,       4648,    67.2,  17.9298,  35.5416,2,  35.5412,2,    232.2,2,   228.9,2,    2.85,2,    0.63,2,    0.26,2,    0.20,2,   2.455,2,   1.484,2,   0.179,2,  2049.3,2,  2331.5,2,   8.2029,2,    13.00,    -999,9,    -999,9,    -999,9,-999,9,-999,9,-999,9,-999,    -999,9,    -999,3.038,2,-999,9,-999,9,    -999,9,-999,9, 20080213,     1353, -39.9784,  30.0566,    -999,-999,9,     -999,9,     -999,9,     -999,9,     -999,9,     -999,9,     -999,9,-999,9,     -999,9,     -999,9,     -999,9,    -999,    -999
33RR20080204,       I06S,      26,          2,         32,         32,2,20080213,       1143,   -39.9846,    30.0350,       4648,    93.4,  17.1064,  35.5219,2,  35.5223,2,    215.2,2,   213.3,2,    3.82,2,    3.66,2,    0.03,2,    0.36,2,   2.516,2,   1.511,2,   0.144,2,  2069.8,2,  2337.7,2,   8.1623,2,    13.00,    -999,9,    -999,9,    -999,9,-999,9,-999,9,-999,9,-999,    -999,9,    -999,2.293,2,-999,9,-999,9,    -999,9,-999,9, 20080213,     1351, -39.9786,  30.0562,    -999,-999,9,     -999,9,     -999,9,     -999,9,     -999,9,     -999,9,     -999,9,-999,9,     -999,9,     -999,9,     -999,9,    -999,    -999
33RR20080204,       I06S,      26,          2,         31,         31,2,20080213,       1143,   -39.9846,    30.0350,       4648,   142.7,  16.0877,  35.4710,2,  35.4706,2,    214.0,2,   207.3,2,    4.78,2,    5.85,2,    0.02,2,    0.50,2,   2.623,2,   1.549,2,   0.117,2,  2088.1,2,  2328.7,2,   8.1248,2,    13.00,    -999,9,    -999,9,    -999,9,-999,9,-999,9,-999,9,-999,    -999,9,    -999,2.077,2,-999,9,-999,9,    -999,9,-999,9, 20080213,     1347, -39.9790,  30.0549,    -999,-999,9,     -999,9,     -999,9,     -999,9,     -999,9,     -999,9,     -999,9,-999,9,     -999,9,     -999,9,     -999,9,    -999,    -999
33RR20080204,       I06S,      26,          2,         30,         30,2,20080213,       1143,   -39.9846,    30.0350,       4648,   192.8,  14.9288,  35.3689,2,  35.3676,2,    214.5,2,   212.3,2,    4.76,2,    6.94,2,    0.02,2,    0.59,2,   2.802,2,   1.633,2,   0.134,2,  2097.1,2,  2324.4,2,   8.0997,2,    13.00,    -999,9,    -999,9,    -999,9,-999,9,-999,9,-999,9,-999,    -999,9,    -999,2.223,2,-999,9,-999,9,    -999,9,-999,9, 20080213,     1345, -39.9793,  30.0542,    -999,-999,9,     -999,9,     -999,9,     -999,9,     -999,9,     -999,9,     -999,9,-999,9,     -999,9,     -999,9,     -999,9,    -999,    -999
33RR20080204,       I06S,      26,          2,         29,         29,2,20080213,       1143,   -39.9846,    30.0350,       4648,   233.7,  13.9947,  35.2530,2,  35.2533,2,    212.7,2,   219.9,2,    4.75,2,    7.93,2,    0.01,2,    0.65,2,   2.920,2,   1.700,2,   0.148,2,  2097.4,2,  2317.5,2,   8.0836,2,    13.00,    -999,9,    -999,9,    -999,9,-999,9,-999,9,-999,9,-999,    -999,9,    -999,2.294,2,-999,9,-999,9,    -999,9,-999,9, 20080213,     1343, -39.9795,  30.0536,    -999,-999,9,     -999,9,     -999,9,     -999,9,     -999,9,     -999,9,     -999,9,-999,9,     -999,9,     -999,9,     -999,9,    -999,    -999
33RR20080204,       I06S,      26,          2,         28,         28,2,20080213,       1143,   -39.9846,    30.0350,       4648,   285.3,  12.9341,  35.1288,2,  35.1312,2,    224.7,2,   226.3,2,    4.94,2,    9.42,2,    0.01,2,    0.74,2,   3.075,2,   1.786,2,   0.162,2,  2104.0,2,  2315.0,2,   8.0623,2,    13.00,    -999,9,    -999,9,    -999,9,-999,9,-999,9,-999,9,-999,    -999,9,    -999,2.415,2,-999,9,-999,9,    -999,9,-999,9, 20080213,     1337, -39.9801,  30.0517,    -999,-999,9,     -999,9,     -999,9,     -999,9,     -999,9,     -999,9,     -999,9,-999,9,     -999,9,     -999,9,     -999,9,    -999,    -999
33RR20080204,       I06S,      26,          2,         27,         27,2,20080213,       1143,   -39.9846,    30.0350,       4648,   335.0,  12.3558,  35.0772,2,  35.0820,2,    228.9,2,   227.4,2,    5.12,2,   10.46,2,    0.01,2,    0.81,2,   3.162,2,   1.799,2,   0.160,2,  2109.4,2,  2312.2,2,   8.0504,2,    13.00,    -999,9,    -999,9,    -999,9,-999,9,-999,9,-999,9,-999,    -999,9,    -999,2.546,2,-999,9,-999,9,    -999,9,-999,9, 20080213,     1335, -39.9804,  30.0510,    -999,-999,9,     -999,9,     -999,9,     -999,9,     -999,9,     -999,9,     -999,9,-999,9,     -999,9,     -999,9,     -999,9,    -999,    -999
33RR20080204,       I06S,      26,          2,         26,         26,2,20080213,       1143,   -39.9846,    30.0350,       4648,   383.7,  11.5705,  34.9635,2,  34.9626,2,    230.2,2,   230.7,2,    5.31,2,   11.90,2,    0.01,2,    0.89,2,   3.259,2,   1.845,2,   0.184,2,  2111.9,2,  2309.8,2,   8.0331,2,    13.00,    -999,9,    -999,9,    -999,9,-999,9,-999,9,-999,9,-999,    -999,9,    -999,2.647,2,-999,9,-999,9,    -999,9,-999,9, 20080213,     1333, -39.9806,  30.0504,    -999,-999,9,     -999,9,     -999,9,     -999,9,     -999,9,     -999,9,     -999,9,-999,9,     -999,9,     -999,9,     -999,9,    -999,    -999
33RR20080204,       I06S,      26,          2,         25,         25,2,20080213,       1143,   -39.9846,    30.0350,       4648,   434.6,  11.1750,  34.9321,2,  34.9425,2,    220.1,2,   222.6,2,    6.28,2,   13.30,2,    0.01,2,    0.98,2,   3.222,2,   1.778,2,   0.168,2,  2119.1,2,  2307.2,2,   8.0144,2,    13.00,    -999,9,    -999,9,    -999,9,-999,9,-999,9,-999,9,-999,    -999,9,    -999,2.199,2,-999,9,-999,9,    -999,9,-999,9, 20080213,     1330, -39.9808,  30.0497,    -999,-999,9,     -999,9,     -999,9,     -999,9,     -999,9,     -999,9,     -999,9,-999,9,     -999,9,     -999,9,     -999,9,    -999,    -999
33RR20080204,       I06S,      26,          2,         24,         24,2,20080213,       1143,   -39.9846,    30.0350,       4648,   484.3,  10.4150,  34.8117,2,  34.8105,2,    225.5,2,   230.3,2,    6.27,2,   14.54,2,    0.00,2,    1.06,2,   3.342,2,   1.846,2,   0.172,2,  2119.8,2,  2300.3,2,   7.9996,2,    13.00,    -999,9,    -999,9,    -999,9,-999,9,-999,9,-999,9,-999,    -999,9,    -999,2.815,2,-999,9,-999,9,    -999,9,-999,9, 20080213,     1328, -39.9810,  30.0490,    -999,-999,9,     -999,9,     -999,9,     -999,9,     -999,9,     -999,9,     -999,9,-999,9,     -999,9,     -999,9,     -999,9,    -999,    -999
33RR20080204,       I06S,      26,          2,         23,         23,2,20080213,       1143,   -39.9846,    30.0350,       4648,   567.8,   9.7049,  34.7687,2,  34.7689,2,    214.3,2,   209.9,2,    9.78,2,   17.93,2,    0.00,2,    1.27,2,   3.031,2,   1.588,2,   0.125,2,  2140.0,2,  2299.2,2,   7.9608,2,    13.00,    -999,9,    -999,9,    -999,9,-999,9,-999,9,-999,9,-999,    -999,9,    -999,2.611,2,-999,9,-999,9,    -999,9,-999,9, 20080213,     1325, -39.9811,  30.0482,    -999,-999,9,     -999,9,     -999,9,     -999,9,     -999,9,     -999,9,     -999,9,-999,9,     -999,9,     -999,9,     -999,9,    -999,    -999
33RR20080204,       I06S,      26,          2,         22,         22,2,20080213,       1143,   -39.9846,    30.0350,       4648,   668.0,   8.5618,  34.6505,2,  34.6429,2,    204.5,2,   203.6,2,   13.70,2,   21.43,2,    0.00,2,    1.49,2,   2.699,2,   1.385,2,   0.125,2,  2151.3,2,  2296.3,2,   7.9208,2,    13.00,    -999,9,    -999,9,    -999,9,-999,9,-999,9,-999,9,-999,    -999,9,    -999,2.7,2,-999,9,-999,9,    -999,9,-999,9, 20080213,     1322, -39.9813,  30.0472,    -999,-999,9,     -999,9,     -999,9,     -999,9,     -999,9,     -999,9,     -999,9,-999,9,     -999,9,     -999,9,     -999,9,    -999,    -999
33RR20080204,       I06S,      26,          2,         21,         21,2,20080213,       1143,   -39.9846,    30.0350,       4648,   769.0,   6.8605,  34.4788,2,  34.4888,2,    203.3,2,   201.3,2,   19.61,2,   25.61,2,    0.00,2,    1.78,2,   2.742,2,   1.407,2,   0.153,2,  2169.6,2,  2294.4,2,   7.8697,2,    13.00,    -999,9,    -999,9,    -999,9,-999,9,-999,9,-999,9,-999,    -999,9,    -999,3.151,2,-999,9,-999,9,    -999,9,-999,9, 20080213,     1319, -39.9815,  30.0462,    -999,-999,9,     -999,9,     -999,9,     -999,9,     -999,9,     -999,9,     -999,9,-999,9,     -999,9,     -999,9,     -999,9,    -999,    -999
33RR20080204,       I06S,      26,          2,         20,         20,2,20080213,       1143,   -39.9846,    30.0350,       4648,   871.5,   5.7031,  34.4033,2,  34.4044,2,    203.4,2,   206.5,2,   24.55,2,   27.83,2,    0.00,2,    1.93,2,   2.667,2,   1.353,2,   0.174,2,  2181.4,2,  2294.0,2,   7.8474,2,    13.00,    -999,9,    -999,9,    -999,9,-999,9,-999,9,-999,9,-999,    -999,9,    -999,3.38,2,-999,9,-999,9,    -999,9,-999,9, 20080213,     1316, -39.9817,  30.0452,    -999,-999,9,     -999,9,     -999,9,     -999,9,     -999,9,     -999,9,     -999,9,-999,9,     -999,9,     -999,9,     -999,9,    -999,    -999
33RR20080204,       I06S,      26,          2,         19,         19,2,20080213,       1143,   -39.9846,    30.0350,       4648,   969.8,   5.1002,  34.4147,2,  34.4166,2,    199.5,2,   196.5,2,   33.08,2,   29.75,2,    0.00,2,    2.08,2,   2.132,2,   1.072,2,   0.136,2,  2195.4,6,  2303.3,2,   7.8238,2,    13.00,    -999,9,    -999,9,    -999,9,-999,9,-999,9,-999,9,-999,    -999,9,    -999,3.212,2,-999,9,-999,9,    -999,9,-999,9, 20080213,     1313, -39.9819,  30.0445,    -999,-999,9,     -999,9,     -999,9,     -999,9,     -999,9,     -999,9,     -999,9,-999,9,     -999,9,     -999,9,     -999,9,    -999,    -999
33RR20080204,       I06S,      26,          2,         18,         18,2,20080213,       1143,   -39.9846,    30.0350,       4648,  1071.1,   4.3636,  34.4213,2,  34.4229,2,    189.7,2,   189.2,2,   41.85,2,   31.52,2,    0.00,2,    2.20,2,   1.731,2,   0.849,2,   0.113,2,    -999,9,    -999,9,     -999,9,     -999,    -999,9,    -999,9,    -999,9,-999,9,-999,9,-999,9,-999,    -999,9,    -999,2.833,2,-999,9,-999,9,    -999,9,-999,9, 20080213,     1311, -39.9822,  30.0439,    -999,-999,9,     -999,9,     -999,9,     -999,9,     -999,9,     -999,9,     -999,9,-999,9,     -999,9,     -999,9,     -999,9,    -999,    -999
33RR20080204,       I06S,      26,          2,         17,         17,2,20080213,       1143,   -39.9846,    30.0350,       4648,  1171.3,   3.6784,  34.3929,2,  34.3957,2,    189.8,2,   193.2,2,   45.64,2,   32.49,2,    0.00,2,    2.26,2,   1.628,2,   0.802,2,   0.098,2,    -999,9,    -999,9,     -999,9,     -999,    -999,9,    -999,9,    -999,9,-999,9,-999,9,-999,9,-999,    -999,9,    -999,2.688,2,-999,9,-999,9,    -999,9,-999,9, 20080213,     1308, -39.9824,  30.0433,    -999,-999,9,     -999,9,     -999,9,     -999,9,     -999,9,     -999,9,     -999,9,-999,9,     -999,9,     -999,9,     -999,9,    -999,    -999
33RR20080204,       I06S,      26,          2,         16,         16,2,20080213,       1143,   -39.9846,    30.0350,       4648,  1277.3,   3.5005,  34.4568,2,  34.4561,2,    181.8,2,   181.1,2,   53.86,2,   33.25,2,    0.00,2,    2.31,2,   1.061,2,   0.536,2,   0.058,2,    -999,9,    -999,9,     -999,9,     -999,    -999,9,    -999,9,    -999,9,-999,9,-999,9,-999,9,-999,    -999,9,    -999,1.997,2,-999,9,-999,9,    -999,9,-999,9, 20080213,     1305, -39.9826,  30.0427,    -999,-999,9,     -999,9,     -999,9,     -999,9,     -999,9,     -999,9,     -999,9,-999,9,     -999,9,     -999,9,     -999,9,    -999,    -999
33RR20080204,       I06S,      26,          2,         15,         15,2,20080213,       1143,   -39.9846,    30.0350,       4648,  1377.3,   3.4247,  34.5340,2,  34.5345,2,    172.2,2,   169.9,2,   61.88,2,   33.50,2,    0.00,2,    2.34,2,   0.576,2,   0.300,2,   0.030,2,    -999,9,    -999,9,     -999,9,     -999,    -999,9,    -999,9,    -999,9,-999,9,-999,9,-999,9,-999,    -999,9,    -999,1.424,2,-999,9,-999,9,    -999,9,-999,9, 20080213,     1302, -39.9828,  30.0420,    -999,-999,9,     -999,9,     -999,9,     -999,9,     -999,9,     -999,9,     -999,9,-999,9,     -999,9,     -999,9,     -999,9,    -999,    -999
33RR20080204,       I06S,      26,          2,         14,         14,2,20080213,       1143,   -39.9846,    30.0350,       4648,  1479.2,   3.2097,  34.5733,2,  34.5718,2,    168.9,2,   169.5,2,   65.49,2,   33.31,2,    0.00,2,    2.32,2,   0.409,2,   0.218,2,   0.023,2,    -999,9,  2332.3,2,   7.7676,2,    13.00,    -999,9,    -999,9,    -999,9,-999,9,-999,9,-999,9,-999,    -999,9,    -999,1.222,2,-999,9,-999,9,    -999,9,-999,9, 20080213,     1258, -39.9830,  30.0414,    -999,-999,9,     -999,9,     -999,9,     -999,9,     -999,9,     -999,9,     -999,9,-999,9,     -999,9,     -999,9,     -999,9,    -999,    -999
33RR20080204,       I06S,      26,          2,         13,         13,2,20080213,       1143,   -39.9846,    30.0350,       4648,  1579.4,   3.0641,  34.6204,2,  34.6204,2,    170.2,2,   170.4,2,   68.51,2,   32.90,2,    0.00,2,    2.29,2,   0.257,6,   0.143,6,   0.033,6,    -999,9,    -999,9,     -999,9,     -999,    -999,9,    -999,9,    -999,9,-999,9,-999,9,-999,9,-999,    -999,9,    -999,1.0405,6,-999,9,-999,9,    -999,9,-999,9, 20080213,     1255, -39.9832,  30.0407,    -999,-999,9,     -999,9,     -999,9,     -999,9,     -999,9,     -999,9,     -999,9,-999,9,     -999,9,     -999,9,     -999,9,    -999,    -999
33RR20080204,       I06S,      26,          2,         12,         12,2,20080213,       1143,   -39.9846,    30.0350,       4648,  1679.9,   2.9360,  34.6577,2,  34.6570,2,    174.6,2,   175.6,2,   68.29,2,   32.08,2,    0.00,2,    2.24,2,   0.180,2,   0.097,2,   0.006,2,    -999,9,    -999,9,     -999,9,     -999,    -999,9,    -999,9,    -999,9,-999,9,-999,9,-999,9,-999,    -999,9,    -999,0.587,2,-999,9,-999,9,    -999,9,-999,9, 20080213,     1252, -39.9834,  30.0401,    -999,-999,9,     -999,9,     -999,9,     -999,9,     -999,9,     -999,9,     -999,9,-999,9,     -999,9,     -999,9,     -999,9,    -999,    -999
33RR20080204,       I06S,      26,          2,         11,         11,2,20080213,       1143,   -39.9846,    30.0350,       4648,  1785.6,   2.8395,  34.7009,2,  34.7018,2,    179.5,2,   180.5,2,   68.47,2,   31.07,2,    0.00,2,    2.16,2,   0.111,2,   0.062,2,   0.007,2,    -999,9,    -999,9,     -999,9,     -999,    -999,9,    -999,9,    -999,9,-999,9,-999,9,-999,9,-999,    -999,9,    -999,0.38,2,-999,9,-999,9,    -999,9,-999,9, 20080213,     1248, -39.9836,  30.0392,    -999,-999,9,     -999,9,     -999,9,     -999,9,     -999,9,     -999,9,     -999,9,-999,9,     -999,9,     -999,9,     -999,9,    -999,    -999
33RR20080204,       I06S,      26,          2,         10,         10,2,20080213,       1143,   -39.9846,    30.0350,       4648,  1985.6,   2.7413,  34.7514,2,  34.7514,2,    191.9,2,   193.1,2,   63.63,2,   29.30,2,    0.00,2,    2.02,2,   0.072,2,   0.043,2,  -0.002,2,    -999,9,  2338.3,2,   7.8201,4,    13.00,    -999,9,    -999,9,    -999,9,-999,9,-999,9,-999,9,-999,    -999,9,    -999,0.235,2,-999,9,-999,9,    -999,9,-999,9, 20080213,     1244, -39.9838,  30.0385,    -999,-999,9,     -999,9,     -999,9,     -999,9,     -999,9,     -999,9,     -999,9,-999,9,     -999,9,     -999,9,     -999,9,    -999,    -999
33RR20080204,       I06S,      26,          2,          9,          9,2,20080213,       1143,   -39.9846,    30.0350,       4648,  2279.1,   2.6021,  34.7998,2,  34.8005,2,    206.3,2,   207.3,2,   60.60,2,   27.38,2,    0.00,2,    1.88,2,   0.040,2,   0.019,2,  -0.002,2,    -999,9,    -999,9,     -999,9,     -999,    -999,9,    -999,9,    -999,9,-999,9,-999,9,-999,9,-999,    -999,9,    -999,0.135,2,-999,9,-999,9,    -999,9,-999,9, 20080213,     1237, -39.9840,  30.0379,    -999,-999,9,     -999,9,     -999,9,     -999,9,     -999,9,     -999,9,     -999,9,-999,9,     -999,9,     -999,9,     -999,9,    -999,    -999
33RR20080204,       I06S,      26,          2,          8,          8,2,20080213,       1143,   -39.9846,    30.0350,       4648,  2589.5,   2.4749,  34.8194,2,  34.8192,2,    215.6,2,   215.4,2,   60.18,2,   26.48,2,    0.00,2,    1.81,2,   0.039,2,   0.018,2,  -0.003,2,    -999,9,    -999,9,     -999,9,     -999,    -999,9,    -999,9,    -999,9,-999,9,-999,9,-999,9,-999,    -999,9,    -999,0.122,2,-999,9,-999,9,    -999,9,-999,9, 20080213,     1231, -39.9842,  30.0372,    -999,-999,9,     -999,9,     -999,9,     -999,9,     -999,9,     -999,9,     -999,9,-999,9,     -999,9,     -999,9,     -999,9,    -999,    -999