BOTTLE,20220706CCHSIOAMB
EXPOCODE,SECT_ID,STNNBR,CASTNO,SAMPNO,BTLNBR,BTLNBR_FLAG_W,DATE,TIME,LATITUDE,LONGITUDE,DEPTH,CTDPRS,CTDTMP,CTDSAL,CTDSAL_FLAG_W,SALNTY,SALNTY_FLAG_W,CTDOXY,CTDOXY_FLAG_W,OXYGEN,OXYGEN_FLAG_W,SILCAT,SILCAT_FLAG_W,NITRAT,NITRAT_FLAG_W,NITRIT,NITRIT_FLAG_W,PHSPHT,PHSPHT_FLAG_W,CFC-11,CFC-11_FLAG_W,CFC-12,CFC-12_FLAG_W,CFC113,CFC113_FLAG_W,TCARBN,TCARBN_FLAG_W,ALKALI,ALKALI_FLAG_W,PH_SWS,PH_SWS_FLAG_W,PH_TMP,TRITUM,TRITUM_FLAG_W,HELIUM,HELIUM_FLAG_W,DELHE3,DELHE3_FLAG_W,REFTMP,REFTMP_FLAG_W,DELC13,DELC13_FLAG_W,DELC14,DELC14_FLAG_W,C14ERR,NEON,NEON_FLAG_W,NEONER,CCL4,CCL4_FLAG_W,ALUMIN,ALUMIN_FLAG_W,DELO18,DELO18_FLAG_W,DOC,DOC_FLAG_W,TDN,TDN_FLAG_W,BTL_DATE,BTL_TIME,BTL_LAT,BTL_LON,TRITER,DELSI30,DELSI30_FLAG_W,CDOM380,CDOM380_FLAG_W,CDOM325,CDOM325_FLAG_W,CDOMSL,CDOMSL_FLAG_W,CDOM340,CDOM340_FLAG_W,CDOM443,CDOM443_FLAG_W,CDOMSN,CDOMSN_FLAG_W,BLACKC,BLACKC_FLAG_W,CDOM490,CDOM490_FLAG_W,CDOM412,CDOM412_FLAG_W,CDOM555,CDOM555_FLAG_W,DELHER,HELIER
,,,,,,,,,,,METERS,DBAR,ITS-90,PSS-78,,PSS-78,,UMOL/KG,,UMOL/KG,,UMOL/KG,,UMOL/KG,,UMOL/KG,,UMOL/KG,,PMOL/KG,,PMOL/KG,,PMOL/KG,,UMOL/KG,,UMOL/KG,,,,DEG C,TU,,NMOL/KG,,PERCNT,,DEG C,,/MILLE,,/MILLE,,/MILLE,NMOL/KG,,NMOL/KG,PMOL/KG,,NMOL/L,,/MILLE,,UMOL/KG,,UMOL/KG,,,,,,TU,/MILLE,,1/M,,1/M,,1/NM,,1/M,,1/M,,1/NM,,,,1/M,,1/M,,1/M,,PERCNT,NMOL/KG
33RR20080204,       I06S,      68,          2,         36,         36,2,20080226,       2337,   -60.9973,    29.9954,       5271,     3.5,   0.7462,  33.7304,2,  33.7310,2,    337.5,2,   338.2,2,   49.77,2,   25.60,2,    0.35,2,    1.79,2,   6.246,2,   3.546,2,   0.480,2,  2161.2,6,  2287.9,2,     -999,9,     -999,   0.132,2,   1.778,2,   -2.03,2,0.7454,2,-999,9,-999,9,-999,   7.939,2,   0.030,8.591,2,-999,9,-0.47,2,    -999,9,-999,9, 20080227,     0158, -60.9960,  29.9975,   0.009,-999,9,     -999,9,     -999,9,     -999,9,     -999,9,     -999,9,     -999,9,-999,9,     -999,9,     -999,9,     -999,9,    0.15,   0.007
33RR20080204,       I06S,      68,          2,         35,         35,2,20080226,       2337,   -60.9973,    29.9954,       5271,    21.8,   0.7443,  33.7358,2,  33.7363,2,    337.9,2,   337.5,2,   49.76,2,   25.55,2,    0.34,2,    1.79,2,   6.219,2,   3.546,2,   0.488,2,    -999,9,  2288.6,2,     -999,9,     -999,    -999,9,    -999,9,    -999,9,0.7445,2,-999,9,-999,9,-999,    -999,9,    -999,8.977,2,-999,9,-0.41,2,    -999,9,-999,9, 20080227,     0156, -60.9959,  29.9971,    -999,-999,9,     -999,9,     -999,9,     -999,9,     -999,9,     -999,9,     -999,9,-999,9,     -999,9,     -999,9,     -999,9,    -999,    -999
33RR20080204,       I06S,      68,          2,         34,         34,2,20080226,       2337,   -60.9973,    29.9954,       5271,    37.1,   0.7322,  33.7363,2,  33.7404,2,    338.2,2,   337.5,2,   49.94,2,   25.60,2,    0.34,2,    1.79,2,   6.212,2,   3.551,2,   0.491,2,    -999,9,  2288.2,2,     -999,9,     -999,    -999,9,    -999,9,    -999,9,0.7306,2,-999,9,-999,9,-999,    -999,9,    -999,8.984,2,-999,9,-0.42,2,    -999,9,-999,9, 20080227,     0154, -60.9960,  29.9970,    -999,-999,9,     -999,9,     -999,9,     -999,9,     -999,9,     -999,9,     -999,9,-999,9,     -999,9,     -999,9,     -999,9,    -999,    -999
33RR20080204,       I06S,      68,          2,         33,         33,2,20080226,       2337,   -60.9973,    29.9954,       5271,    66.4,  -0.8925,  34.0707,2,  34.0716,2,    346.5,2,   345.6,2,   55.51,2,   27.77,2,    0.26,2,    1.94,2,   6.311,2,   3.546,2,   0.498,2,    -999,9,  2309.1,2,     -999,9,     -999,    -999,9,    -999,9,    -999,9,-0.897,2,-999,9,-999,9,-999,    -999,9,    -999,8.629,2,-999,9,-0.37,2,    -999,9,-999,9, 20080227,     0152, -60.9962,  29.9967,    -999,-999,9,     -999,9,     -999,9,     -999,9,     -999,9,     -999,9,     -999,9,-999,9,     -999,9,     -999,9,     -999,9,    -999,    -999
33RR20080204,       I06S,      68,          2,         32,         32,2,20080226,       2337,   -60.9973,    29.9954,       5271,    90.9,  -0.6713,  34.1734,2,  34.1743,2,    338.5,2,   328.8,2,   63.90,2,   29.17,2,    0.33,2,    2.03,2,   5.862,2,   3.324,2,   0.458,2,    -999,9,    -999,9,     -999,9,     -999,   0.077,6,   1.820,2,   -0.58,2,-0.6725,2,-999,9,-999,9,-999,   8.179,2,   0.031,7.723,2,-999,9,-0.31,2,    -999,9,-999,9, 20080227,     0151, -60.9961,  29.9958,   0.006,-999,9,     -999,9,     -999,9,     -999,9,     -999,9,     -999,9,     -999,9,-999,9,     -999,9,     -999,9,     -999,9,    0.15,   0.007
33RR20080204,       I06S,      68,          2,         31,         31,2,20080226,       2337,   -60.9973,    29.9954,       5271,   146.0,   0.4172,  34.3885,2,  34.3846,2,    280.4,2,   258.7,2,   75.70,2,   32.12,2,    0.01,2,    2.22,2,   3.601,2,   2.012,2,   0.306,2,    -999,9,  2325.2,2,     -999,9,     -999,    -999,9,    -999,9,    -999,9,0.4593,3,-999,9,-999,9,-999,    -999,9,    -999,5.043,2,-999,9,-0.22,2,    -999,9,-999,9, 20080227,     0149, -60.9960,  29.9952,    -999,-999,9,     -999,9,     -999,9,     -999,9,     -999,9,     -999,9,     -999,9,-999,9,     -999,9,     -999,9,     -999,9,    -999,    -999
33RR20080204,       I06S,      68,          2,         30,         30,2,20080226,       2337,   -60.9973,    29.9954,       5271,   195.3,   1.3201,  34.5670,2,  34.5660,2,    211.4,2,   198.8,2,   83.96,2,   33.60,2,    0.00,2,    2.33,2,   1.564,2,   0.852,2,   0.137,2,    -999,9,    -999,9,     -999,9,     -999,   0.013,2,   1.856,2,    7.39,2,1.326,2,-999,9,-999,9,-999,   8.104,2,   0.031,2.477,2,-999,9,-0.1,2,    -999,9,-999,9, 20080227,     0146, -60.9962,  29.9950,   0.009,-999,9,     -999,9,     -999,9,     -999,9,     -999,9,     -999,9,     -999,9,-999,9,     -999,9,     -999,9,     -999,9,    0.15,   0.007
33RR20080204,       I06S,      68,          2,         29,         29,2,20080226,       2337,   -60.9973,    29.9954,       5271,   234.3,   1.3943,  34.6072,2,  34.6063,2,    202.1,2,   194.3,2,   86.02,2,   33.26,2,    0.00,2,    2.30,2,   1.239,2,   0.671,2,   0.096,2,    -999,9,  2341.6,2,     -999,9,     -999,    -999,9,    -999,9,    -999,9,1.3966,2,-999,9,-999,9,-999,    -999,9,    -999,2.023,2,-999,9,-999,9,    -999,9,-999,9, 20080227,     0145, -60.9966,  29.9949,    -999,-999,9,     -999,9,     -999,9,     -999,9,     -999,9,     -999,9,     -999,9,-999,9,     -999,9,     -999,9,     -999,9,    -999,    -999
33RR20080204,       I06S,      68,          2,         28,         28,2,20080226,       2337,   -60.9973,    29.9954,       5271,   287.3,   1.3880,  34.6436,2,  34.6431,2,    194.0,2,   194.1,2,   89.03,2,   32.78,2,    0.00,2,    2.27,2,   0.989,2,   0.553,2,   0.073,2,    -999,9,    -999,9,     -999,9,     -999,   0.007,2,   1.858,2,    9.08,2,1.3869,2,-999,9,-999,9,-999,   8.082,2,   0.031,1.647,2,-999,9,-0.12,2,    -999,9,-999,9, 20080227,     0142, -60.9966,  29.9954,   0.009,-999,9,     -999,9,     -999,9,     -999,9,     -999,9,     -999,9,     -999,9,-999,9,     -999,9,     -999,9,     -999,9,    0.15,   0.007
33RR20080204,       I06S,      68,          2,         27,         27,2,20080226,       2337,   -60.9973,    29.9954,       5271,   336.9,   1.4205,  34.6683,2,  34.6680,2,    192.1,2,   192.2,2,   90.71,2,   32.45,2,    0.00,2,    2.24,2,   0.791,2,   0.430,2,   0.057,2,    -999,9,  2346.0,2,     -999,9,     -999,    -999,9,    -999,9,    -999,9,1.4174,2,-999,9,-999,9,-999,    -999,9,    -999,1.306,2,-999,9,-999,9,    -999,9,-999,9, 20080227,     0140, -60.9966,  29.9953,    -999,-999,9,     -999,9,     -999,9,     -999,9,     -999,9,     -999,9,     -999,9,-999,9,     -999,9,     -999,9,     -999,9,    -999,    -999
33RR20080204,       I06S,      68,          2,         26,         26,2,20080226,       2337,   -60.9973,    29.9954,       5271,   387.8,   1.5452,  34.6987,2,  34.6981,2,    191.3,2,   191.9,2,   90.51,2,   31.83,2,    0.00,2,    2.20,2,   0.531,2,   0.308,2,   0.038,2,    -999,9,    -999,9,     -999,9,     -999,   0.006,2,   1.848,2,    9.77,2,1.5462,2,-999,9,-999,9,-999,   8.027,2,   0.031,0.973,2,-999,9,-0.01,2,    -999,9,-999,9, 20080227,     0138, -60.9966,  29.9953,   0.009,-999,9,     -999,9,     -999,9,     -999,9,     -999,9,     -999,9,     -999,9,-999,9,     -999,9,     -999,9,     -999,9,    0.15,   0.007
33RR20080204,       I06S,      68,          2,         25,         25,2,20080226,       2337,   -60.9973,    29.9954,       5271,   437.9,   1.4494,  34.6990,2,  34.6989,2,    193.3,2,   193.9,2,   92.01,2,   31.78,2,    0.00,2,    2.21,2,   0.555,2,   0.321,2,   0.039,2,    -999,9,  2348.5,2,     -999,9,     -999,    -999,9,    -999,9,    -999,9,1.4484,2,-999,9,-999,9,-999,    -999,9,    -999,0.993,2,-999,9,-999,9,    -999,9,-999,9, 20080227,     0135, -60.9966,  29.9953,    -999,-999,9,     -999,9,     -999,9,     -999,9,     -999,9,     -999,9,     -999,9,-999,9,     -999,9,     -999,9,     -999,9,    -999,    -999
33RR20080204,       I06S,      68,          2,         24,         24,2,20080226,       2337,   -60.9973,    29.9954,       5271,   488.6,   1.3955,  34.7037,2,  34.7036,2,    194.6,2,   196.1,2,   94.08,2,   31.68,2,    0.00,2,    2.20,2,   0.511,2,   0.292,2,   0.033,2,    -999,9,    -999,9,     -999,9,     -999,    -999,9,   1.866,2,    9.85,2,1.395,2,-999,9,-999,9,-999,   8.121,2,   0.031,0.881,2,-999,9,-999,9,    -999,9,-999,9, 20080227,     0133, -60.9965,  29.9953,    -999,-999,9,     -999,9,     -999,9,     -999,9,     -999,9,     -999,9,     -999,9,-999,9,     -999,9,     -999,9,     -999,9,    0.15,   0.007
33RR20080204,       I06S,      68,          2,         23,         23,2,20080226,       2337,   -60.9973,    29.9954,       5271,   566.9,   1.3485,  34.7140,2,  34.7139,2,    196.7,2,   198.0,2,   95.58,2,   31.45,2,    0.00,2,    2.18,2,   0.432,2,   0.259,2,   0.025,2,    -999,9,  2350.6,2,     -999,9,     -999,  -0.005,2,   1.860,2,    9.39,2,1.3472,2,-999,9,-999,9,-999,   8.102,2,   0.031,0.785,2,-999,9,-999,9,    -999,9,-999,9, 20080227,     0131, -60.9966,  29.9953,   0.009,-999,9,     -999,9,     -999,9,     -999,9,     -999,9,     -999,9,     -999,9,-999,9,     -999,9,     -999,9,     -999,9,    0.15,   0.007
33RR20080204,       I06S,      68,          2,         22,         22,2,20080226,       2337,   -60.9973,    29.9954,       5271,   668.0,   1.1708,  34.7104,2,  34.7103,2,    199.2,2,   199.7,2,   99.93,2,   31.59,2,    0.00,2,    2.19,2,   0.448,2,   0.261,2,   0.023,2,    -999,9,    -999,9,     -999,9,     -999,    -999,9,    -999,9,    -999,9,1.1702,2,-999,9,-999,9,-999,    -999,9,    -999,0.805,2,-999,9,-0.06,2,    -999,9,-999,9, 20080227,     0128, -60.9966,  29.9953,    -999,-999,9,     -999,9,     -999,9,     -999,9,     -999,9,     -999,9,     -999,9,-999,9,     -999,9,     -999,9,     -999,9,    -999,    -999
33RR20080204,       I06S,      68,          2,         21,         21,2,20080226,       2337,   -60.9973,    29.9954,       5271,   768.7,   1.1187,  34.7142,2,  34.7141,2,    201.2,2,   201.1,2,  101.81,2,   31.44,2,    0.00,2,    2.18,2,   0.366,2,   0.228,2,   0.022,2,    -999,9,  2354.5,2,     -999,9,     -999,  -0.003,2,   1.867,2,    9.59,2,1.117,2,-999,9,-999,9,-999,   8.134,2,   0.031,0.74,2,-999,9,-999,9,    -999,9,-999,9, 20080227,     0125, -60.9966,  29.9953,   0.009,-999,9,     -999,9,     -999,9,     -999,9,     -999,9,     -999,9,     -999,9,-999,9,     -999,9,     -999,9,     -999,9,    0.15,   0.007
33RR20080204,       I06S,      68,          2,         20,         20,2,20080226,       2337,   -60.9973,    29.9954,       5271,   868.4,   1.0145,  34.7121,2,  34.7121,2,    203.1,2,   202.9,2,  104.83,2,   31.54,2,    0.00,2,    2.19,2,   0.365,2,   0.203,2,   0.021,2,    -999,9,    -999,9,     -999,9,     -999,    -999,9,    -999,9,    -999,9,1.0161,2,-999,9,-999,9,-999,    -999,9,    -999,0.769,2,-999,9,-999,9,    -999,9,-999,9, 20080227,     0121, -60.9966,  29.9953,    -999,-999,9,     -999,9,     -999,9,     -999,9,     -999,9,     -999,9,     -999,9,-999,9,     -999,9,     -999,9,     -999,9,    -999,    -999
33RR20080204,       I06S,      68,          2,         19,         19,2,20080226,       2337,   -60.9973,    29.9954,       5271,   970.4,   0.8873,  34.7058,2,  34.7057,2,    204.0,2,   203.7,2,  108.25,2,   31.83,2,    0.00,2,    2.21,2,   0.397,2,   0.246,2,   0.046,2,    -999,9,  2355.8,2,     -999,9,     -999,  -0.004,2,   1.879,2,    9.24,2,0.8847,2,-999,9,-999,9,-999,   8.185,2,   0.031,0.89,2,-999,9,-999,9,    -999,9,-999,9, 20080227,     0118, -60.9966,  29.9953,   0.009,-999,9,     -999,9,     -999,9,     -999,9,     -999,9,     -999,9,     -999,9,-999,9,     -999,9,     -999,9,     -999,9,    0.15,   0.007
33RR20080204,       I06S,      68,          2,         18,         18,2,20080226,       2337,   -60.9973,    29.9954,       5271,  1172.9,   0.7186,  34.7003,2,  34.6992,2,    205.5,2,   204.4,2,  112.81,2,   32.12,2,    0.00,2,    2.23,2,   0.347,2,   0.213,2,   0.026,2,    -999,9,    -999,9,     -999,9,     -999,    -999,9,    -999,9,    -999,9,0.7176,2,-999,9,-999,9,-999,    -999,9,    -999,0.72,2,-999,9,-0.11,2,    -999,9,-999,9, 20080227,     0113, -60.9966,  29.9953,    -999,-999,9,     -999,9,     -999,9,     -999,9,     -999,9,     -999,9,     -999,9,-999,9,     -999,9,     -999,9,     -999,9,    -999,    -999
33RR20080204,       I06S,      68,          2,         17,         17,2,20080226,       2337,   -60.9973,    29.9954,       5271,  1373.8,   0.5832,  34.6937,2,  34.6933,2,    205.9,2,   205.3,2,  117.38,2,   32.55,2,    0.00,2,    2.25,2,   0.343,2,   0.188,2,   0.012,2,    -999,9,  2358.4,2,     -999,9,     -999,    -999,9,   1.876,2,    8.96,2,0.5833,2,-999,9,-999,9,-999,   8.181,2,   0.031,0.69,2,-999,9,-999,9,    -999,9,-999,9, 20080227,     0108, -60.9966,  29.9953,    -999,-999,9,     -999,9,     -999,9,     -999,9,     -999,9,     -999,9,     -999,9,-999,9,     -999,9,     -999,9,     -999,9,    0.15,   0.007
33RR20080204,       I06S,      68,          2,         16,         16,2,20080226,       2337,   -60.9973,    29.9954,       5271,  1584.8,   0.4952,  34.6900,2,  34.6894,2,    207.3,2,   206.8,2,  119.66,2,   32.69,2,    0.00,2,    2.26,2,   0.322,2,   0.174,2,   0.014,2,    -999,9,    -999,9,     -999,9,     -999,    -999,9,    -999,9,    -999,9,0.4948,2,-999,9,-999,9,-999,    -999,9,    -999,0.54,2,-999,9,-999,9,    -999,9,-999,9, 20080227,     0103, -60.9966,  29.9953,    -999,-999,9,     -999,9,     -999,9,     -999,9,     -999,9,     -999,9,     -999,9,-999,9,     -999,9,     -999,9,     -999,9,    -999,    -999
33RR20080204,       I06S,      68,          2,         15,         15,2,20080226,       2337,   -60.9973,    29.9954,       5271,  1787.3,   0.3987,  34.6857,2,  34.6849,2,    209.2,2,   208.8,2,  123.09,2,   32.83,2,    0.00,2,    2.27,2,   0.287,2,   0.159,2,   0.007,2,    -999,9,  2358.2,2,     -999,9,     -999,   0.001,2,   1.898,2,    8.47,2,0.3984,2,-999,9,-999,9,-999,   8.299,2,   0.032,0.697,2,-999,9,-999,9,    -999,9,-999,9, 20080227,     0058, -60.9966,  29.9952,   0.009,-999,9,     -999,9,     -999,9,     -999,9,     -999,9,     -999,9,     -999,9,-999,9,     -999,9,     -999,9,     -999,9,    0.15,   0.007
33RR20080204,       I06S,      68,          2,         14,         14,2,20080226,       2337,   -60.9973,    29.9954,       5271,  1989.8,   0.3112,  34.6818,2,  34.6806,2,    211.8,2,   211.0,2,  125.19,2,   32.83,2,    0.00,2,    2.27,2,   0.278,2,   0.162,2,   0.020,2,    -999,9,    -999,9,     -999,9,     -999,    -999,9,    -999,9,    -999,9,0.3109,2,-999,9,-999,9,-999,    -999,9,    -999,0.77,2,-999,9,-0.17,2,    -999,9,-999,9, 20080227,     0053, -60.9966,  29.9953,    -999,-999,9,     -999,9,     -999,9,     -999,9,     -999,9,     -999,9,     -999,9,-999,9,     -999,9,     -999,9,     -999,9,    -999,    -999
33RR20080204,       I06S,      68,          2,         13,         13,2,20080226,       2337,   -60.9973,    29.9954,       5271,  2284.4,   0.1888,  34.6762,2,  34.6753,2,    214.9,2,   216.0,2,  126.32,2,   32.83,2,    0.00,2,    2.27,2,   0.286,2,   0.165,2,   0.012,2,    -999,9,  2357.4,2,     -999,9,     -999,   0.002,2,   1.880,2,    7.92,2,0.1892,2,-999,9,-999,9,-999,   8.210,2,   0.031,0.776,2,-999,9,-999,9,    -999,9,-999,9, 20080227,     0047, -60.9966,  29.9953,   0.009,-999,9,     -999,9,     -999,9,     -999,9,     -999,9,     -999,9,     -999,9,-999,9,     -999,9,     -999,9,     -999,9,    0.15,   0.007
33RR20080204,       I06S,      68,          2,         12,         12,2,20080226,       2337,   -60.9973,    29.9954,       5271,  2595.6,   0.0812,  34.6715,2,  34.6704,2,    220.3,2,   221.8,2,  127.27,2,   32.79,2,    0.00,2,    2.27,2,   0.300,2,   0.174,2,   0.011,2,    -999,9,    -999,9,     -999,9,     -999,    -999,9,   1.891,2,    7.58,2,0.0811,2,-999,9,-999,9,-999,   8.266,2,   0.031,0.94,2,-999,9,-999,9,    -999,9,-999,9, 20080227,     0040, -60.9966,  29.9952,    -999,-999,9,     -999,9,     -999,9,     -999,9,     -999,9,     -999,9,     -999,9,-999,9,     -999,9,     -999,9,     -999,9,    0.15,   0.007
33RR20080204,       I06S,      68,          2,         11,         11,2,20080226,       2337,   -60.9973,    29.9954,       5271,  2901.4,  -0.0045,  34.6676,2,  34.6669,2,    225.0,2,   225.6,2,  128.22,2,   32.65,2,    0.00,2,    2.27,2,   0.319,6,   0.170,6,   0.016,6,    -999,9,  2356.1,2,     -999,9,     -999,   0.000,2,   1.888,2,    7.05,2,-0.0049,2,-999,9,-999,9,-999,   8.273,2,   0.031,0.8555,6,-999,9,-999,9,    -999,9,-999,9, 20080227,     0034, -60.9966,  29.9953,   0.009,-999,9,     -999,9,     -999,9,     -999,9,     -999,9,     -999,9,     -999,9,-999,9,     -999,9,     -999,9,     -999,9,    0.15,   0.007
33RR20080204,       I06S,      68,          2,         10,         10,2,20080226,       2337,   -60.9973,    29.9954,       5271,  3205.8,  -0.0801,  34.6642,2,  34.6632,2,    229.1,2,   229.5,2,  128.01,2,   32.60,2,    0.00,2,    2.26,2,   0.335,2,   0.194,2,   0.014,2,    -999,9,    -999,9,     -999,9,     -999,  -0.003,2,   1.885,2,    6.96,2,-0.0804,2,-999,9,-999,9,-999,   8.258,2,   0.031,0.945,2,-999,9,-0.26,2,    -999,9,-999,9, 20080227,     0027, -60.9966,  29.9952,   0.009,-999,9,     -999,9,     -999,9,     -999,9,     -999,9,     -999,9,     -999,9,-999,9,     -999,9,     -999,9,     -999,9,    0.15,   0.007
33RR20080204,       I06S,      68,          2,          9,          9,2,20080226,       2337,   -60.9973,    29.9954,       5271,  3510.0,  -0.1404,  34.6616,2,  34.6604,2,    232.6,2,   233.1,2,  128.20,2,   32.50,2,    0.00,2,    2.26,2,   0.392,2,   0.229,2,   0.017,2,    -999,9,  2353.8,2,     -999,9,     -999,    -999,9,   1.940,2,    6.47,2,-0.1401,2,-999,9,-999,9,-999,   8.448,2,   0.032,1.049,2,-999,9,-999,9,    -999,9,-999,9, 20080227,     0021, -60.9965,  29.9953,    -999,-999,9,     -999,9,     -999,9,     -999,9,     -999,9,     -999,9,     -999,9,-999,9,     -999,9,     -999,9,     -999,9,    0.15,   0.007
33RR20080204,       I06S,      68,          2,          8,          8,2,20080226,       2337,   -60.9973,    29.9954,       5271,  3828.4,  -0.1810,  34.6588,2,  34.6581,2,    235.8,2,   235.6,2,  127.42,2,   32.50,2,    0.00,2,    2.25,2,   0.432,2,   0.237,2,   0.021,2,    -999,9,    -999,9,     -999,9,     -999,    -999,9,   1.884,2,    5.78,2,-0.1813,2,-999,9,-999,9,-999,   8.280,2,   0.031,0.998,2,-999,9,-999,9,    -999,9,-999,9, 20080227,     0014, -60.9967,  29.9953,    -999,-999,9,     -999,9,     -999,9,     -999,9,     -999,9,     -999,9,     -999,9,-999,9,     -999,9,     -999,9,     -999,9,    0.15,   0.007