BOTTLE,20220706CCHSIOAMB
EXPOCODE,SECT_ID,STNNBR,CASTNO,SAMPNO,BTLNBR,BTLNBR_FLAG_W,DATE,TIME,LATITUDE,LONGITUDE,DEPTH,CTDPRS,CTDTMP,CTDSAL,CTDSAL_FLAG_W,SALNTY,SALNTY_FLAG_W,CTDOXY,CTDOXY_FLAG_W,OXYGEN,OXYGEN_FLAG_W,SILCAT,SILCAT_FLAG_W,NITRAT,NITRAT_FLAG_W,NITRIT,NITRIT_FLAG_W,PHSPHT,PHSPHT_FLAG_W,CFC-11,CFC-11_FLAG_W,CFC-12,CFC-12_FLAG_W,CFC113,CFC113_FLAG_W,TCARBN,TCARBN_FLAG_W,ALKALI,ALKALI_FLAG_W,PH_SWS,PH_SWS_FLAG_W,PH_TMP,TRITUM,TRITUM_FLAG_W,HELIUM,HELIUM_FLAG_W,DELHE3,DELHE3_FLAG_W,REFTMP,REFTMP_FLAG_W,DELC13,DELC13_FLAG_W,DELC14,DELC14_FLAG_W,C14ERR,NEON,NEON_FLAG_W,NEONER,CCL4,CCL4_FLAG_W,ALUMIN,ALUMIN_FLAG_W,DELO18,DELO18_FLAG_W,DOC,DOC_FLAG_W,TDN,TDN_FLAG_W,BTL_DATE,BTL_TIME,BTL_LAT,BTL_LON,TRITER,DELSI30,DELSI30_FLAG_W,CDOM380,CDOM380_FLAG_W,CDOM325,CDOM325_FLAG_W,CDOMSL,CDOMSL_FLAG_W,CDOM340,CDOM340_FLAG_W,CDOM443,CDOM443_FLAG_W,CDOMSN,CDOMSN_FLAG_W,BLACKC,BLACKC_FLAG_W,CDOM490,CDOM490_FLAG_W,CDOM412,CDOM412_FLAG_W,CDOM555,CDOM555_FLAG_W,DELHER,HELIER
,,,,,,,,,,,METERS,DBAR,ITS-90,PSS-78,,PSS-78,,UMOL/KG,,UMOL/KG,,UMOL/KG,,UMOL/KG,,UMOL/KG,,UMOL/KG,,PMOL/KG,,PMOL/KG,,PMOL/KG,,UMOL/KG,,UMOL/KG,,,,DEG C,TU,,NMOL/KG,,PERCNT,,DEG C,,/MILLE,,/MILLE,,/MILLE,NMOL/KG,,NMOL/KG,PMOL/KG,,NMOL/L,,/MILLE,,UMOL/KG,,UMOL/KG,,,,,,TU,/MILLE,,1/M,,1/M,,1/NM,,1/M,,1/M,,1/NM,,,,1/M,,1/M,,1/M,,PERCNT,NMOL/KG
33RR20080204,       I06S,      28,          1,          7,          7,2,20080214,       0156,   -40.9960,    29.9922,       4481,  2632.6,   2.3660,  34.8187,2,  34.8177,2,    216.5,2,   216.5,2,   62.76,2,   26.55,2,    0.00,2,    1.82,2,   0.034,2,   0.019,2,   0.000,2,    -999,9,  2342.2,2,     -999,9,     -999,  -0.009,2,   1.855,2,    6.89,2,2.3657,2,-999,9,-999,9,-999,   7.999,2,   0.030,0.151,2,-999,9,-999,9,    -999,9,-999,9, 20080214,     0235, -40.9954,  29.9919,   0.009,-999,9,     -999,9,     -999,9,     -999,9,     -999,9,     -999,9,     -999,9,-999,9,     -999,9,     -999,9,     -999,9,    0.15,   0.007
33RR20080204,       I06S,      28,          1,          6,          6,2,20080214,       0156,   -40.9960,    29.9922,       4481,  2945.9,   2.1794,  34.8177,2,  34.8171,2,    219.5,2,   219.7,2,   67.17,2,   26.65,2,    0.00,2,    1.82,2,   0.032,2,   0.019,2,   0.000,2,    -999,9,    -999,9,     -999,9,     -999,    -999,9,    -999,9,    -999,9,2.18,2,-999,9,-999,9,-999,    -999,9,    -999,0.155,2,-999,9,-999,9,    -999,9,-999,9, 20080214,     0229, -40.9955,  29.9919,    -999,-999,9,     -999,9,     -999,9,     -999,9,     -999,9,     -999,9,     -999,9,-999,9,     -999,9,     -999,9,     -999,9,    -999,    -999
33RR20080204,       I06S,      28,          1,          5,          5,2,20080214,       0156,   -40.9960,    29.9922,       4481,  3250.4,   1.9390,  34.8020,2,  34.8004,2,    219.1,2,   219.2,2,   75.63,2,   27.45,2,    0.00,2,    1.87,2,   0.045,2,   0.025,2,   0.000,2,    -999,9,  2352.1,2,     -999,9,     -999,   0.015,2,    -999,1,    -999,9,1.9401,2,-999,9,-999,9,-999,    -999,9,    -999,0.156,2,-999,9,-999,9,    -999,9,-999,9, 20080214,     0223, -40.9955,  29.9919,   0.009,-999,9,     -999,9,     -999,9,     -999,9,     -999,9,     -999,9,     -999,9,-999,9,     -999,9,     -999,9,     -999,9,    -999,    -999
33RR20080204,       I06S,      28,          1,          4,          4,2,20080214,       0156,   -40.9960,    29.9922,       4481,  3556.6,   1.6072,  34.7723,2,  34.7707,2,    216.1,2,   215.5,2,   88.54,2,   28.91,2,    0.00,2,    1.97,2,   0.064,2,   0.035,2,   0.000,2,    -999,9,    -999,9,     -999,9,     -999,  -0.013,6,   1.868,2,    7.16,2,1.6077,2,-999,9,-999,9,-999,   8.164,2,   0.031,0.24,2,-999,9,-999,9,    -999,9,-999,9, 20080214,     0216, -40.9957,  29.9920,   0.009,-999,9,     -999,9,     -999,9,     -999,9,     -999,9,     -999,9,     -999,9,-999,9,     -999,9,     -999,9,     -999,9,    0.15,   0.007
33RR20080204,       I06S,      28,          1,          3,          3,2,20080214,       0156,   -40.9960,    29.9922,       4481,  3870.7,   1.2455,  34.7449,2,  34.7437,2,    216.1,2,   215.6,2,  100.88,2,   30.13,2,    0.00,2,    2.06,2,   0.081,2,   0.045,2,   0.011,2,    -999,9,  2363.3,2,     -999,9,     -999,    -999,9,   1.891,2,    7.18,2,1.2454,2,-999,9,-999,9,-999,   8.255,2,   0.031,0.294,2,-999,9,-999,9,    -999,9,-999,9, 20080214,     0210, -40.9958,  29.9921,    -999,-999,9,     -999,9,     -999,9,     -999,9,     -999,9,     -999,9,     -999,9,-999,9,     -999,9,     -999,9,     -999,9,    0.15,   0.007
33RR20080204,       I06S,      28,          1,          2,          2,2,20080214,       0156,   -40.9960,    29.9922,       4481,  4176.8,   0.9937,  34.7255,2,  34.7245,2,    217.0,2,   217.1,2,  109.39,2,   30.88,2,    0.00,2,    2.13,2,   0.108,2,   0.063,2,   0.004,2,    -999,9,  2363.3,2,     -999,9,     -999,    -999,9,   1.884,2,    7.38,2,0.9944,2,-999,9,-999,9,-999,   8.235,2,   0.031,0.345,2,-999,9,-999,9,    -999,9,-999,9, 20080214,     0204, -40.9959,  29.9921,    -999,-999,9,     -999,9,     -999,9,     -999,9,     -999,9,     -999,9,     -999,9,-999,9,     -999,9,     -999,9,     -999,9,    0.15,   0.007
33RR20080204,       I06S,      28,          1,          1,          1,2,20080214,       0156,   -40.9960,    29.9922,       4481,  4515.6,   0.4157,  34.6843,2,  34.6828,2,    221.1,2,   221.8,2,  126.06,2,   32.40,2,    0.00,2,    2.24,2,   0.260,2,   0.142,2,   0.011,2,    -999,9,  2364.1,2,     -999,9,     -999,   0.009,2,   1.871,2,    7.18,2,0.416,2,-999,9,-999,9,-999,   8.193,2,   0.031,0.543,2,-999,9,-999,9,    -999,9,-999,9, 20080214,     0157, -40.9960,  29.9922,   0.009,-999,9,     -999,9,     -999,9,     -999,9,     -999,9,     -999,9,     -999,9,-999,9,     -999,9,     -999,9,     -999,9,    0.15,   0.007