BOTTLE,20220706CCHSIOAMB
EXPOCODE,SECT_ID,STNNBR,CASTNO,SAMPNO,BTLNBR,BTLNBR_FLAG_W,DATE,TIME,LATITUDE,LONGITUDE,DEPTH,CTDPRS,CTDTMP,CTDSAL,CTDSAL_FLAG_W,SALNTY,SALNTY_FLAG_W,OXYGEN,OXYGEN_FLAG_W,NITRAT,NITRAT_FLAG_W,NITRIT,NITRIT_FLAG_W,PHSPHT,PHSPHT_FLAG_W
,,,,,,,,,,,,DBAR,ITS-90,PSS-78,,PSS-78,,UMOL/KG,,UMOL/KG,,UMOL/KG,,UMOL/KG,
    49TU9310_1,  PR18,  PN-2,  2,      1,   -999,9,19931021,1958, 27.7883, 127.7950,  868,      0.0,  27.1321,  34.7822,2,     -999,9,    202.0,3,     0.30,2,     0.00,2,     0.04,2
    49TU9310_1,  PR18,  PN-2,  2,      2,      2,2,19931021,1958, 27.7883, 127.7950,  868,     10.3,  27.1314,  34.7826,2,  34.7815,2,    203.0,3,     0.30,2,     0.00,2,     0.04,2
    49TU9310_1,  PR18,  PN-2,  2,      3,      1,2,19931021,1958, 27.7883, 127.7950,  868,     20.0,  27.1555,  34.7816,2,  34.7808,2,    202.0,3,     0.40,2,     0.00,2,     0.05,2
    49TU9310_1,  PR18,  PN-2,  2,      4,     12,2,19931021,1958, 27.7883, 127.7950,  868,     29.6,  27.1622,  34.7815,2,  34.8568,3,    202.0,3,     0.70,2,     0.00,2,     0.11,2
    49TU9310_1,  PR18,  PN-2,  2,      5,     11,2,19931021,1958, 27.7883, 127.7950,  868,     50.0,  27.0355,  34.8311,2,  34.8308,2,    204.0,3,     0.40,2,     0.00,2,     0.04,2
    49TU9310_1,  PR18,  PN-2,  2,      6,     10,2,19931021,1958, 27.7883, 127.7950,  868,     75.3,  24.1509,  34.8587,2,  34.8564,2,    208.0,3,     0.40,2,     0.02,2,     0.07,2
    49TU9310_1,  PR18,  PN-2,  2,      7,      9,2,19931021,1958, 27.7883, 127.7950,  868,    100.5,  22.3691,  34.8843,2,  34.8824,2,    204.0,3,     1.00,2,     0.16,2,     0.19,2
    49TU9310_1,  PR18,  PN-2,  2,      8,      8,2,19931021,1958, 27.7883, 127.7950,  868,    124.7,  20.7180,  34.8713,2,  34.8816,3,    198.0,3,     2.40,2,     0.02,2,     0.22,2
    49TU9310_1,  PR18,  PN-2,  2,      9,      7,2,19931021,1958, 27.7883, 127.7950,  868,    150.0,  19.6874,  34.8600,2,  34.8583,2,    201.0,3,     2.90,2,     0.01,2,     0.24,2
    49TU9310_1,  PR18,  PN-2,  2,     10,      6,2,19931021,1958, 27.7883, 127.7950,  868,    200.9,  18.4122,  34.8388,2,  34.8440,2,    196.0,3,     4.90,2,     0.01,2,     0.38,2
    49TU9310_1,  PR18,  PN-2,  2,     11,      5,2,19931021,1958, 27.7883, 127.7950,  868,    252.3,  17.2249,  34.7751,2,  34.7729,2,    193.0,3,     6.50,2,     0.01,2,     0.48,2
    49TU9310_1,  PR18,  PN-2,  2,     12,      4,2,19931021,1958, 27.7883, 127.7950,  868,    303.8,  16.3848,  34.7083,2,  34.7077,2,    187.0,3,     8.10,2,     0.00,2,     0.61,2
    49TU9310_1,  PR18,  PN-1,  1,      1,     10,2,19931021,2354, 27.5013, 128.2415,   12,    401.6,  14.7938,  34.6094,2,  34.6050,2,    183.0,3,    10.40,2,     0.00,2,     0.80,2
    49TU9310_1,  PR18,  PN-1,  1,      2,      9,2,19931021,2354, 27.5013, 128.2415,   12,    502.2,  11.6550,  34.4298,2,  34.4269,2,    161.0,3,    18.20,2,     0.00,2,     1.37,2
    49TU9310_1,  PR18,  PN-1,  1,      3,      8,2,19931021,2354, 27.5013, 128.2415,   12,    604.1,   9.5685,  34.3510,2,  34.3488,2,    142.0,3,    23.70,2,     0.00,2,     1.79,2
    49TU9310_1,  PR18,  PN-1,  1,      4,      7,2,19931021,2354, 27.5013, 128.2415,   12,    704.9,   7.9953,  34.3179,2,  34.3148,2,    122.0,3,    28.60,2,     0.00,2,     2.15,2
    49TU9310_1,  PR18,  PN-1,  1,      5,      6,2,19931021,2354, 27.5013, 128.2415,   12,    801.5,   6.7157,  34.3280,2,  34.3225,2,    104.0,3,    32.50,2,     0.00,2,     2.42,2
    49TU9310_1,  PR18,  PN-1,  1,      6,      5,2,19931021,2354, 27.5013, 128.2415,   12,    906.5,   6.4471,  34.3321,2,  34.3306,2,    100.0,3,    33.50,2,     0.00,2,     2.51,2
    49TU9310_1,  PR18,  PN-1,  1,      7,      3,2,19931021,2354, 27.5013, 128.2415,   12,   1014.2,   5.9604,  34.3438,2,  34.3424,2,     94.0,3,    34.30,2,     0.00,2,     2.60,2
    49TU9310_1,  PR18,  PN-1,  2,      1,   -999,9,19931022,0045, 27.4938, 128.2388, 1002,      0.0,  26.3174,  34.8405,2,     -999,9,    205.0,3,     0.40,2,     0.00,2,     0.04,2
    49TU9310_1,  PR18,  PN-1,  2,      2,      9,2,19931022,0045, 27.4938, 128.2388, 1002,      9.1,  26.3269,  34.8397,2,     -999,9,    204.0,3,     0.50,2,     0.00,2,     0.07,2
    49TU9310_1,  PR18,  PN-1,  2,      3,      8,2,19931022,0045, 27.4938, 128.2388, 1002,     19.2,  26.3259,  34.8396,2,     -999,9,    204.0,3,     0.40,2,     0.00,2,     0.02,2
    49TU9310_1,  PR18,  PN-1,  2,      4,      7,2,19931022,0045, 27.4938, 128.2388, 1002,     29.8,  26.3284,  34.8395,2,     -999,9,    204.0,3,     0.50,2,     0.00,2,     0.05,2
    49TU9310_1,  PR18,  PN-1,  2,      5,      6,2,19931022,0045, 27.4938, 128.2388, 1002,     49.5,  26.3047,  34.8366,2,     -999,9,    204.0,3,     0.40,2,     0.00,2,     0.02,2
    49TU9310_1,  PR18,  PN-1,  2,      6,      5,2,19931022,0045, 27.4938, 128.2388, 1002,     74.1,  25.2016,  34.8354,2,     -999,9,    204.0,3,     0.50,2,     0.03,2,     0.04,2
    49TU9310_1,  PR18,  PN-1,  2,      7,      4,2,19931022,0045, 27.4938, 128.2388, 1002,    100.1,  23.4169,  34.8605,2,     -999,9,    200.0,3,     1.10,2,     0.14,2,     0.13,2
    49TU9310_1,  PR18,  PN-1,  2,      8,      3,2,19931022,0045, 27.4938, 128.2388, 1002,    124.7,  21.3314,  34.8644,2,     -999,9,    197.0,3,     2.20,2,     0.03,2,     0.19,2
    49TU9310_1,  PR18,  PN-1,  2,      9,      2,2,19931022,0045, 27.4938, 128.2388, 1002,    150.1,  20.1540,  34.8554,2,     -999,9,    198.0,3,     2.80,2,     0.01,2,     0.24,2
    49TU9310_1,  PR18,  PN-1,  2,     10,      1,2,19931022,0045, 27.4938, 128.2388, 1002,    200.3,  19.4776,  34.8454,2,     -999,9,    198.0,3,     3.40,2,     0.01,2,     0.31,2
    49TU9310_1,  PR18,  PN-1,  2,     11,     12,2,19931022,0045, 27.4938, 128.2388, 1002,    250.7,  17.6393,  34.7885,2,     -999,9,    194.0,3,     5.40,2,     0.01,2,     0.43,2
    49TU9310_1,  PR18,  PN-1,  2,     12,     11,2,19931022,0045, 27.4938, 128.2388, 1002,    303.5,  16.7430,  34.7355,2,     -999,9,    193.0,3,     7.00,2,     0.00,2,     0.55,2