BOTTLE,20220706CCHSIOAMB
# Fixed parameter/unit alignment error
# Changed fill value -9.9999 with flag 9 to -999 for SALNTY
#BOTTLE,20010803WHPSIOKJU
#code : jjward hyd_to_exchange.pl 
#original files copied from HTML directory: 20010803
#original HYD file: pr18_khy.txt   Fri Aug  3 16:20:17 2001
#original SUM file: pr18_ksu.txt   Fri Aug  3 16:21:09 2001
EXPOCODE,SECT_ID,STNNBR,CASTNO,SAMPNO,BTLNBR,BTLNBR_FLAG_W,DATE,TIME,LATITUDE,LONGITUDE,DEPTH,CTDPRS,CTDTMP,CTDSAL,CTDSAL_FLAG_W,SALNTY,SALNTY_FLAG_W,OXYGEN,OXYGEN_FLAG_W,NITRAT,NITRAT_FLAG_W,NITRIT,NITRIT_FLAG_W,PHSPHT,PHSPHT_FLAG_W
,,,,,,,,,,,,DBAR,ITS-90,PSS-78,,PSS-78,,UMOL/KG,,UMOL/KG,,UMOL/KG,,UMOL/KG,
    49TU9310_1,  PR18,  PN-9,  1,      1,   -999,9,19931020,0459, 30.0017, 124.5018,   67,      0.9,  22.7213,  33.1709,2,     -999,9,    228.0,3,     0.70,2,     0.02,2,     0.11,2
    49TU9310_1,  PR18,  PN-9,  1,      2,      2,2,19931020,0459, 30.0017, 124.5018,   67,     10.0,  22.3889,  33.1499,2,     -999,9,    225.0,3,     0.50,2,     0.00,2,     0.13,2
    49TU9310_1,  PR18,  PN-9,  1,      3,      1,2,19931020,0459, 30.0017, 124.5018,   67,     19.7,  22.1792,  33.3563,2,     -999,9,    204.0,3,     1.80,2,     0.06,2,     0.14,2
    49TU9310_1,  PR18,  PN-9,  1,      4,     12,2,19931020,0459, 30.0017, 124.5018,   67,     29.9,  19.7724,  34.3573,2,     -999,9,    102.0,3,     2.00,2,     0.02,2,     0.41,2
    49TU9310_1,  PR18,  PN-9,  1,      5,     11,2,19931020,0459, 30.0017, 124.5018,   67,     49.6,  19.7729,  34.3574,2,     -999,9,    102.0,3,    13.40,2,     0.09,2,     1.11,2
    49TU9310_1,  PR18,  PN-9,  1,      6,     10,2,19931020,0459, 30.0017, 124.5018,   67,     62.9,  19.7729,  34.3577,2,     -999,9,    102.0,3,    13.20,2,     0.09,2,     1.14,2
    49TU9310_1,  PR18,  PN-8,  1,      1,   -999,9,19931020,0912, 29.5963, 125.0990,   85,      0.0,  22.8909,  32.7113,2,     -999,9,    223.0,3,     0.60,2,     0.07,2,     0.09,2
    49TU9310_1,  PR18,  PN-8,  1,      2,      8,2,19931020,0912, 29.5963, 125.0990,   85,      9.4,  22.8727,  32.7358,2,  32.7353,2,    217.0,3,     0.70,2,     0.10,2,     0.07,2
    49TU9310_1,  PR18,  PN-8,  1,      3,      7,2,19931020,0912, 29.5963, 125.0990,   85,     19.5,  23.1151,  33.0787,2,  33.0419,3,    192.0,3,     2.20,2,     0.44,2,     0.21,2
    49TU9310_1,  PR18,  PN-8,  1,      4,      6,2,19931020,0912, 29.5963, 125.0990,   85,     29.3,  22.7529,  33.9606,2,  33.9396,3,    134.0,3,     7.80,2,     0.32,2,     0.65,2
    49TU9310_1,  PR18,  PN-8,  1,      5,      5,2,19931020,0912, 29.5963, 125.0990,   85,     49.5,  20.5740,  34.3951,2,  34.3919,2,    109.0,3,    12.00,2,     0.05,2,     1.06,2
    49TU9310_1,  PR18,  PN-8,  1,      6,      4,2,19931020,0912, 29.5963, 125.0990,   85,     75.6,  19.9372,  34.4021,2,  34.4041,2,    108.0,3,    12.70,2,     0.07,2,     1.11,2
    49TU9310_1,  PR18,  PN-7,  1,      1,   -999,9,19931020,1209, 29.2983, 125.5480,   92,      0.0,  23.9852,  33.7136,2,     -999,9,    216.0,3,     0.40,2,     0.02,2,     0.08,2
    49TU9310_1,  PR18,  PN-7,  1,      2,      1,2,19931020,1209, 29.2983, 125.5480,   92,      9.5,  24.0001,  33.7117,2,     -999,9,    216.0,3,     0.40,2,     0.01,2,     0.06,2
    49TU9310_1,  PR18,  PN-7,  1,      3,     12,2,19931020,1209, 29.2983, 125.5480,   92,     19.5,  23.9975,  33.7171,2,     -999,9,    215.0,3,     0.30,2,     0.02,2,     0.05,2
    49TU9310_1,  PR18,  PN-7,  1,      4,     11,2,19931020,1209, 29.2983, 125.5480,   92,     29.8,  23.9896,  33.7432,2,     -999,9,    215.0,3,     1.10,2,     0.06,2,     0.24,2
    49TU9310_1,  PR18,  PN-7,  1,      5,     10,2,19931020,1209, 29.2983, 125.5480,   92,     49.9,  22.4543,  34.2423,2,     -999,9,    120.0,3,     9.30,2,     0.10,2,     0.76,2
    49TU9310_1,  PR18,  PN-7,  1,      6,      9,2,19931020,1209, 29.2983, 125.5480,   92,     82.0,  20.1911,  34.3906,2,     -999,9,    120.0,3,    11.50,2,     0.05,2,     0.98,2
    49TU9310_1,  PR18,  PN-6,  1,      1,   -999,9,19931020,1525, 28.9990, 125.9965,  117,      0.0,  25.0923,  34.1796,2,     -999,9,    205.0,3,     0.50,2,     0.03,2,     0.19,2
    49TU9310_1,  PR18,  PN-6,  1,      2,      8,2,19931020,1525, 28.9990, 125.9965,  117,      8.5,  25.1096,  34.1796,2,     -999,9,    206.0,3,     0.40,2,     0.02,2,     0.08,2
    49TU9310_1,  PR18,  PN-6,  1,      3,      7,2,19931020,1525, 28.9990, 125.9965,  117,     18.5,  25.1117,  34.1801,2,     -999,9,    205.0,3,     0.40,2,     0.02,2,     0.08,2
    49TU9310_1,  PR18,  PN-6,  1,      4,      6,2,19931020,1525, 28.9990, 125.9965,  117,     29.2,  25.1132,  34.1800,2,     -999,9,    206.0,3,     0.60,2,     0.02,2,     0.08,2
    49TU9310_1,  PR18,  PN-6,  1,      5,      5,2,19931020,1525, 28.9990, 125.9965,  117,     48.9,  25.1134,  34.1803,2,     -999,9,    205.0,3,     0.50,2,     0.02,2,     0.08,2
    49TU9310_1,  PR18,  PN-6,  1,      6,      4,2,19931020,1525, 28.9990, 125.9965,  117,     74.0,  20.2132,  34.5057,2,     -999,9,    202.0,3,     8.80,2,     0.06,2,     0.71,2
    49TU9310_1,  PR18,  PN-6,  1,      7,      3,2,19931020,1525, 28.9990, 125.9965,  117,     99.8,  19.1830,  34.5731,2,     -999,9,    202.0,3,     9.90,2,     0.03,2,     0.81,2
    49TU9310_1,  PR18,  PN-6,  1,      8,      2,2,19931020,1525, 28.9990, 125.9965,  117,    110.9,  19.1708,  34.5793,2,     -999,9,    202.0,3,     9.80,2,     0.03,2,     0.79,2
    49TU9310_1,  PR18,  PN-5,  1,      1,   -999,9,19931020,1832, 28.6970, 126.4465,  126,      0.5,  26.0653,  34.7354,2,     -999,9,    205.0,3,     0.50,2,     0.01,2,     0.06,2
    49TU9310_1,  PR18,  PN-5,  1,      2,      3,2,19931020,1832, 28.6970, 126.4465,  126,      9.4,  26.0776,  34.7353,2,  34.7343,2,    206.0,3,     0.30,2,     0.01,2,     0.09,2
    49TU9310_1,  PR18,  PN-5,  1,      3,      2,2,19931020,1832, 28.6970, 126.4465,  126,     19.5,  26.0877,  34.7353,2,  34.7349,2,    205.0,3,     0.30,2,     0.00,2,     0.07,2
    49TU9310_1,  PR18,  PN-5,  1,      4,      1,2,19931020,1832, 28.6970, 126.4465,  126,     29.9,  26.0955,  34.7356,2,  34.7339,2,    205.0,3,     0.40,2,     0.01,2,     0.14,2
    49TU9310_1,  PR18,  PN-5,  1,      5,     12,2,19931020,1832, 28.6970, 126.4465,  126,     50.1,  26.0985,  34.7359,2,  34.7355,2,    206.0,3,     0.30,2,     0.00,2,     0.04,2
    49TU9310_1,  PR18,  PN-5,  1,      6,     11,2,19931020,1832, 28.6970, 126.4465,  126,     74.9,  23.6470,  34.7431,2,  34.7304,3,    191.0,3,     2.40,2,     0.24,2,     0.25,2
    49TU9310_1,  PR18,  PN-5,  1,      7,     10,2,19931020,1832, 28.6970, 126.4465,  126,    100.2,  19.5752,  34.6553,2,  34.6573,2,    161.0,3,     8.40,2,     0.02,2,     0.69,2
    49TU9310_1,  PR18,  PN-5,  1,      8,      9,2,19931020,1832, 28.6970, 126.4465,  126,    122.1,  18.6510,  34.5890,2,  34.5899,2,    154.0,3,    10.30,2,     0.04,2,     0.84,2
    49TU9310_1,  PR18, PN-4',  1,      1,   -999,9,19931021,0555, 28.5472, 126.6832,  153,      0.4,  25.1149,  34.5813,2,     -999,9,    211.0,3,     0.40,2,     0.00,2,     0.07,2
    49TU9310_1,  PR18, PN-4',  1,      2,     11,2,19931021,0555, 28.5472, 126.6832,  153,      9.3,  25.0993,  34.5777,2,     -999,9,    211.0,3,     0.30,2,     0.00,2,     0.04,2
    49TU9310_1,  PR18, PN-4',  1,      3,     10,2,19931021,0555, 28.5472, 126.6832,  153,     19.3,  25.0212,  34.5699,2,     -999,9,    211.0,3,     0.30,2,     0.00,2,     0.05,2
    49TU9310_1,  PR18, PN-4',  1,      4,      9,2,19931021,0555, 28.5472, 126.6832,  153,     29.7,  24.8977,  34.5589,2,     -999,9,    211.0,3,     0.30,2,     0.00,2,     0.06,2
    49TU9310_1,  PR18, PN-4',  1,      5,      8,2,19931021,0555, 28.5472, 126.6832,  153,     49.6,  24.4735,  34.5285,2,     -999,9,    205.0,3,     0.70,2,     0.19,2,     0.11,2
    49TU9310_1,  PR18, PN-4',  1,      6,      7,2,19931021,0555, 28.5472, 126.6832,  153,     74.6,  22.4858,  34.6423,2,     -999,9,    184.0,3,     4.10,2,     0.09,2,     0.34,2
    49TU9310_1,  PR18, PN-4',  1,      7,      6,2,19931021,0555, 28.5472, 126.6832,  153,    100.1,  19.4267,  34.7150,2,     -999,9,    178.0,3,     6.90,2,     0.01,2,     0.55,2
    49TU9310_1,  PR18, PN-4',  1,      8,      5,2,19931021,0555, 28.5472, 126.6832,  153,    125.3,  18.0035,  34.7209,2,     -999,9,    178.0,3,     7.90,2,     0.01,2,     0.61,2
    49TU9310_1,  PR18, PN-4',  1,      9,      4,2,19931021,0555, 28.5472, 126.6832,  153,    145.0,  15.1826,  34.5828,2,     -999,9,    163.0,3,    13.20,2,     0.03,2,     1.02,2
    49TU9310_1,  PR18,  PN-4,  1,      1,   -999,9,19931021,0824, 28.4138, 126.9078,  275,      0.0,  25.7893,  34.6712,2,     -999,9,    208.0,3,     0.40,2,     0.00,2,     0.06,2
    49TU9310_1,  PR18,  PN-4,  1,      2,      9,2,19931021,0824, 28.4138, 126.9078,  275,      9.4,  25.7822,  34.6719,2,     -999,9,    208.0,3,     0.30,2,     0.00,2,     0.06,2
    49TU9310_1,  PR18,  PN-4,  1,      3,      8,2,19931021,0824, 28.4138, 126.9078,  275,     19.3,  25.6769,  34.6549,2,     -999,9,    208.0,3,     0.30,2,     0.00,2,     0.06,2
    49TU9310_1,  PR18,  PN-4,  1,      4,      7,2,19931021,0824, 28.4138, 126.9078,  275,     29.9,  25.5643,  34.6492,2,     -999,9,    210.0,3,     0.30,2,     0.00,2,     0.05,2
    49TU9310_1,  PR18,  PN-4,  1,      5,      6,2,19931021,0824, 28.4138, 126.9078,  275,     50.7,  25.4475,  34.6332,2,     -999,9,    208.0,3,     0.30,2,     0.00,2,     0.06,2
    49TU9310_1,  PR18,  PN-4,  1,      6,      5,2,19931021,0824, 28.4138, 126.9078,  275,     75.6,  25.0584,  34.6067,2,     -999,9,    205.0,3,     0.90,2,     0.10,2,     0.10,2
    49TU9310_1,  PR18,  PN-4,  1,      7,      4,2,19931021,0824, 28.4138, 126.9078,  275,    101.0,  21.6285,  34.7156,2,     -999,9,    184.0,3,     4.40,2,     0.05,2,     0.38,2
    49TU9310_1,  PR18,  PN-4,  1,      8,      3,2,19931021,0824, 28.4138, 126.9078,  275,    124.2,  20.0029,  34.7850,2,     -999,9,    185.0,3,     5.30,2,     0.03,2,     0.41,2
    49TU9310_1,  PR18,  PN-4,  1,      9,      2,2,19931021,0824, 28.4138, 126.9078,  275,    150.7,  18.3510,  34.7836,2,     -999,9,    186.0,3,     6.40,2,     0.04,2,     0.50,2
    49TU9310_1,  PR18,  PN-4,  1,     10,      1,2,19931021,0824, 28.4138, 126.9078,  275,    200.2,  14.0207,  34.5540,2,     -999,9,    166.0,3,    14.00,2,     0.01,2,     1.07,2
    49TU9310_1,  PR18,  PN-4,  1,     11,     12,2,19931021,0824, 28.4138, 126.9078,  275,    251.6,  11.1325,  34.3998,2,     -999,9,    151.0,3,    19.90,2,     0.02,2,     1.58,2
    49TU9310_1,  PR18, PN-3',  1,      1,      4,2,19931021,1047, 28.2568, 127.1335,   23,    402.4,  11.4977,  34.4122,2,  34.4103,2,    160.0,3,    18.70,2,     0.00,2,     1.42,2
    49TU9310_1,  PR18, PN-3',  1,      2,      3,2,19931021,1047, 28.2568, 127.1335,   23,    504.0,   7.8981,  34.2161,2,  34.2196,2,    131.0,3,    27.50,2,     0.00,2,     2.09,2
    49TU9310_1,  PR18, PN-3',  1,      3,      2,2,19931021,1047, 28.2568, 127.1335,   23,    605.2,   6.6345,  34.3106,2,  34.3082,2,    101.0,3,    32.00,2,     0.00,2,     2.47,2
    49TU9310_1,  PR18, PN-3',  1,      4,      1,2,19931021,1047, 28.2568, 127.1335,   23,    705.7,   5.7084,  34.3340,2,  34.3349,2,     89.0,3,    34.50,2,     0.00,2,     2.93,2
    49TU9310_1,  PR18, PN-3',  1,      5,     12,2,19931021,1047, 28.2568, 127.1335,   23,    806.3,   5.1449,  34.3707,2,  34.3683,2,     84.0,3,    36.10,2,     0.01,2,     2.83,2
    49TU9310_1,  PR18, PN-3',  1,      6,     11,2,19931021,1047, 28.2568, 127.1335,   23,    907.2,   4.8064,  34.3851,2,  34.3854,2,     80.0,3,    37.10,2,     0.01,2,     2.89,2
    49TU9310_1,  PR18, PN-3',  1,      7,     10,2,19931021,1047, 28.2568, 127.1335,   23,    950.8,   4.5888,  34.3953,2,  34.3944,2,     79.0,3,    37.60,2,     0.01,2,     2.95,2
    49TU9310_1,  PR18, PN-3',  2,      1,   -999,9,19931021,1124, 28.2653, 127.1430,  943,      0.0,  26.0262,  34.7099,2,     -999,9,    206.0,3,     0.30,2,     0.00,2,     0.05,2
    49TU9310_1,  PR18, PN-3',  2,      2,      3,2,19931021,1124, 28.2653, 127.1430,  943,      9.5,  26.0250,  34.7097,2,     -999,9,    206.0,3,     0.30,2,     0.00,2,     0.06,2
    49TU9310_1,  PR18, PN-3',  2,      3,      2,2,19931021,1124, 28.2653, 127.1430,  943,     19.7,  26.0389,  34.7093,2,  34.7081,2,    206.0,3,     0.60,2,     0.00,2,     0.27,2
    49TU9310_1,  PR18, PN-3',  2,      4,      1,2,19931021,1124, 28.2653, 127.1430,  943,     29.2,  26.0435,  34.7098,2,  34.7085,2,    205.0,3,     0.40,2,     0.02,2,     0.06,2
    49TU9310_1,  PR18, PN-3',  2,      5,     12,2,19931021,1124, 28.2653, 127.1430,  943,     49.8,  26.0393,  34.7070,2,  34.7054,2,    206.0,3,     0.40,2,     0.01,2,     0.06,2
    49TU9310_1,  PR18, PN-3',  2,      6,     11,2,19931021,1124, 28.2653, 127.1430,  943,     74.8,  25.9982,  34.7034,2,  34.7012,2,    205.0,3,     0.70,2,     0.01,2,     0.48,2
    49TU9310_1,  PR18, PN-3',  2,      7,     10,2,19931021,1124, 28.2653, 127.1430,  943,     99.6,  22.4446,  34.9045,2,  34.8891,3,    196.0,3,     1.90,2,     0.10,2,     0.22,2
    49TU9310_1,  PR18, PN-3',  2,      8,      9,2,19931021,1124, 28.2653, 127.1430,  943,    124.6,  21.0168,  34.8952,2,  34.8940,2,    195.0,3,     2.60,2,     0.03,2,     0.24,2
    49TU9310_1,  PR18, PN-3',  2,      9,      8,2,19931021,1124, 28.2653, 127.1430,  943,    149.9,  19.7508,  34.8892,2,  34.8871,2,    196.0,3,     3.30,2,     0.02,2,     0.46,2
    49TU9310_1,  PR18, PN-3',  2,     10,      7,2,19931021,1124, 28.2653, 127.1430,  943,    201.0,  17.3485,  34.7877,2,  34.7882,2,    191.0,3,     6.40,2,     0.01,2,     0.50,2
    49TU9310_1,  PR18, PN-3',  2,     11,      6,2,19931021,1124, 28.2653, 127.1430,  943,    250.6,  15.3229,  34.6420,2,  34.6446,2,    186.0,3,    10.80,2,     0.01,2,     1.18,2
    49TU9310_1,  PR18, PN-3',  2,     12,      5,2,19931021,1124, 28.2653, 127.1430,  943,    303.0,  14.0011,  34.5434,2,  34.5460,2,    183.0,3,    12.30,2,     0.01,2,     1.23,2
    49TU9310_1,  PR18,  PN-3,  1,      1,     10,2,19931021,1410, 28.0988, 127.3493,   16,    401.8,  13.3469,  34.5151,2,  34.5104,2,    173.0,3,    14.00,2,     0.00,2,     1.05,2
    49TU9310_1,  PR18,  PN-3,  1,      2,      9,2,19931021,1410, 28.0988, 127.3493,   16,    502.5,  10.6167,  34.3611,2,  34.3587,2,    154.0,3,    21.10,2,     0.01,2,     1.59,2
    49TU9310_1,  PR18,  PN-3,  1,      3,      8,2,19931021,1410, 28.0988, 127.3493,   16,    603.3,   7.8967,  34.2971,2,  34.2934,2,    121.0,3,    28.50,2,     0.00,2,     2.16,2
    49TU9310_1,  PR18,  PN-3,  1,      4,      7,2,19931021,1410, 28.0988, 127.3493,   16,    704.9,   6.2283,  34.2821,2,  34.2791,2,     99.0,3,    33.30,2,     0.00,2,     2.55,2
    49TU9310_1,  PR18,  PN-3,  1,      5,      6,2,19931021,1410, 28.0988, 127.3493,   16,    805.8,   5.2455,  34.3555,2,  34.3538,2,     86.0,3,    35.90,2,     0.00,2,     2.72,2
    49TU9310_1,  PR18,  PN-3,  1,      6,      5,2,19931021,1410, 28.0988, 127.3493,   16,    905.5,   4.7571,  34.3904,2,  34.3868,2,     82.0,3,    37.40,2,     0.02,2,     2.87,2
    49TU9310_1,  PR18,  PN-3,  1,      7,      4,2,19931021,1410, 28.0988, 127.3493,   16,   1033.7,   4.2308,  34.4188,2,  34.4160,2,     77.0,3,    38.20,2,     0.00,2,     2.89,2
    49TU9310_1,  PR18,  PN-3,  2,      1,   -999,9,19931021,1448, 28.1013, 127.3557, 1012,      0.0,  26.5485,  34.7755,2,     -999,9,    202.0,3,     0.40,2,     0.00,2,     0.09,2
    49TU9310_1,  PR18,  PN-3,  2,      2,      9,2,19931021,1448, 28.1013, 127.3557, 1012,      9.6,  26.5566,  34.7757,2,  34.7747,2,    203.0,3,     0.40,2,     0.00,2,     0.12,2
    49TU9310_1,  PR18,  PN-3,  2,      3,      8,2,19931021,1448, 28.1013, 127.3557, 1012,     19.4,  26.5659,  34.7758,2,  34.7743,2,    203.0,3,     0.80,2,     0.02,2,     0.25,2
    49TU9310_1,  PR18,  PN-3,  2,      4,      7,2,19931021,1448, 28.1013, 127.3557, 1012,     30.2,  26.5660,  34.7760,2,  34.7743,2,    203.0,3,     0.30,2,     0.00,2,     0.03,2
    49TU9310_1,  PR18,  PN-3,  2,      5,      6,2,19931021,1448, 28.1013, 127.3557, 1012,     49.6,  26.5684,  34.7755,2,  34.7745,2,    203.0,3,     0.40,2,     0.00,2,     0.20,2
    49TU9310_1,  PR18,  PN-3,  2,      6,      5,2,19931021,1448, 28.1013, 127.3557, 1012,     74.9,  25.1724,  34.7736,2,  34.7670,3,    197.0,3,     1.00,2,     0.22,2,     0.11,2
    49TU9310_1,  PR18,  PN-3,  2,      7,      4,2,19931021,1448, 28.1013, 127.3557, 1012,     99.8,  23.7720,  34.8965,2,  34.8893,3,    200.0,3,     0.70,2,     0.20,2,     0.11,2
    49TU9310_1,  PR18,  PN-3,  2,      8,      3,2,19931021,1448, 28.1013, 127.3557, 1012,    125.0,  21.2113,  34.8936,2,  34.8912,2,    197.0,3,     2.10,2,     0.08,2,     0.24,2
    49TU9310_1,  PR18,  PN-3,  2,      9,      2,2,19931021,1448, 28.1013, 127.3557, 1012,    150.1,  20.5337,  34.8919,2,  34.8897,2,    195.0,3,     2.80,2,     0.03,2,     0.28,2
    49TU9310_1,  PR18,  PN-3,  2,     10,      1,2,19931021,1448, 28.1013, 127.3557, 1012,    200.7,  18.4307,  34.8421,2,  34.8392,2,    194.0,3,     4.70,2,     0.00,2,     0.34,2
    49TU9310_1,  PR18,  PN-3,  2,     11,     12,2,19931021,1448, 28.1013, 127.3557, 1012,    251.5,  17.4077,  34.7852,2,  34.7898,2,    192.0,3,     6.30,2,     0.00,2,     0.67,2
    49TU9310_1,  PR18,  PN-3,  2,     12,     11,2,19931021,1448, 28.1013, 127.3557, 1012,    303.8,  16.1499,  34.7028,2,  34.7028,2,    190.0,3,     8.40,2,     0.00,2,     0.69,2
    49TU9310_1,  PR18,  PN-2,  1,      1,      3,2,19931021,1927, 27.7943, 127.7933,   12,    401.7,  14.7735,  34.5985,2,  34.5979,2,    183.0,3,    11.10,2,     0.00,2,     0.83,2
    49TU9310_1,  PR18,  PN-2,  1,      2,      2,2,19931021,1927, 27.7943, 127.7933,   12,    503.9,  13.2089,  34.4895,2,  34.4882,2,    176.0,3,    14.00,2,     0.00,2,     1.06,2
    49TU9310_1,  PR18,  PN-2,  1,      3,      1,2,19931021,1927, 27.7943, 127.7933,   12,    604.3,  10.1068,  34.3190,2,  34.3209,2,    155.0,3,    21.60,2,     0.01,2,     1.62,2
    49TU9310_1,  PR18,  PN-2,  1,      4,     12,2,19931021,1927, 27.7943, 127.7933,   12,    705.6,   7.2001,  34.2766,2,  34.2740,2,    113.0,3,    30.20,2,     0.00,2,     2.29,2
    49TU9310_1,  PR18,  PN-2,  1,      5,     11,2,19931021,1927, 27.7943, 127.7933,   12,    806.8,   6.1153,  34.3116,2,  34.3090,2,     95.0,3,    33.80,2,     0.00,2,     2.57,2
    49TU9310_1,  PR18,  PN-2,  1,      6,     10,2,19931021,1927, 27.7943, 127.7933,   12,    891.1,   4.7826,  34.3844,2,  34.3852,2,     80.0,3,    37.20,2,     0.01,2,     2.92,2