BOTTLE,20220706CCHSIOAMB
EXPOCODE,SECT_ID,STNNBR,CASTNO,BTLNBR,BTLNBR_FLAG_W,DATE,TIME,LATITUDE,LONGITUDE,DEPTH,CTDPRS,CTDTMP,CTDSAL,CTDSAL_FLAG_W,SALNTY,SALNTY_FLAG_W,OXYGEN,OXYGEN_FLAG_W,NITRAT,NITRAT_FLAG_W,NITRIT,NITRIT_FLAG_W,PHSPHT,PHSPHT_FLAG_W
,,,,,,,,,,,DBAR,ITS-90,PSS-78,,PSS-78,,UMOL/KG,,UMOL/KG,,UMOL/KG,,UMOL/KG,
    49TU9501_1,  PR18,  PN-1,  1,     12,2,19950120,0928, 27.4875, 128.2428,   16,    401.9,  14.3479,  34.5706,2,  34.5639,3,    186.0,3,    10.90,2,     0.00,2,     0.69,2
    49TU9501_1,  PR18,  PN-1,  1,     11,2,19950120,0928, 27.4875, 128.2428,   16,    503.1,  11.5611,  34.3943,2,  34.3960,2,    167.0,3,    17.30,2,     0.00,2,     1.23,2
    49TU9501_1,  PR18,  PN-1,  1,     10,2,19950120,0928, 27.4875, 128.2428,   16,    603.8,   9.0061,  34.3302,2,  34.3327,2,    135.0,3,    25.00,2,     0.00,2,     1.81,2
    49TU9501_1,  PR18,  PN-1,  1,      9,2,19950120,0928, 27.4875, 128.2428,   16,    704.7,   7.5900,  34.3253,2,  34.3227,2,    115.0,3,    29.20,2,     0.00,2,     2.13,2
    49TU9501_1,  PR18,  PN-1,  1,      8,2,19950120,0928, 27.4875, 128.2428,   16,    804.9,   6.7139,  34.3210,2,  34.3204,2,    105.0,3,    31.80,2,     0.00,2,     2.36,2
    49TU9501_1,  PR18,  PN-1,  1,      7,2,19950120,0928, 27.4875, 128.2428,   16,    906.8,   6.2123,  34.3197,2,  34.3200,2,     99.0,3,    33.30,2,     0.00,2,     2.45,2
    49TU9501_1,  PR18,  PN-1,  1,      5,2,19950120,0928, 27.4875, 128.2428,   16,   1008.7,   5.9904,  34.3192,2,  34.3202,2,     94.0,3,    33.80,2,     0.00,2,     2.48,2
    49TU9501_1,  PR18,  PN-1,  2,      0,2,19950120,1010, 27.4740, 128.2327,  998,      0.8,  22.0621,  34.8534,2,     -999,9,    214.0,3,     0.20,2,     0.01,2,     0.03,2
    49TU9501_1,  PR18,  PN-1,  2,     11,2,19950120,1010, 27.4740, 128.2327,  998,      9.8,  22.0681,  34.8534,2,  34.8516,2,    213.0,3,     0.10,2,     0.00,2,     0.03,2
    49TU9501_1,  PR18,  PN-1,  2,     10,2,19950120,1010, 27.4740, 128.2327,  998,     19.7,  22.0637,  34.8535,2,  34.8524,2,    213.0,3,     0.10,2,     0.00,2,     0.02,2
    49TU9501_1,  PR18,  PN-1,  2,      9,2,19950120,1010, 27.4740, 128.2327,  998,     29.7,  22.0723,  34.8529,2,  34.8518,2,    213.0,3,     0.10,2,     0.00,2,     0.02,2
    49TU9501_1,  PR18,  PN-1,  2,      8,2,19950120,1010, 27.4740, 128.2327,  998,     49.4,  22.0766,  34.8531,2,  34.8532,2,    213.0,3,     0.10,2,     0.01,2,     0.03,2
    49TU9501_1,  PR18,  PN-1,  2,      7,2,19950120,1010, 27.4740, 128.2327,  998,     74.8,  22.0833,  34.8529,2,  34.8522,2,    213.0,3,     0.10,2,     0.00,2,     0.03,2
    49TU9501_1,  PR18,  PN-1,  2,      6,2,19950120,1010, 27.4740, 128.2327,  998,    101.1,  21.9980,  34.8590,2,  34.8568,2,    212.0,3,     0.20,2,     0.02,2,     0.03,2
    49TU9501_1,  PR18,  PN-1,  2,      5,2,19950120,1010, 27.4740, 128.2327,  998,    125.5,  20.4889,  34.8997,2,  34.8960,3,    200.0,3,     1.70,2,     0.02,2,     0.12,2
    49TU9501_1,  PR18,  PN-1,  2,      4,2,19950120,1010, 27.4740, 128.2327,  998,    150.7,  19.3093,  34.8993,2,  34.8964,2,    199.0,3,     2.60,2,     0.01,2,     0.18,2
    49TU9501_1,  PR18,  PN-1,  2,      3,2,19950120,1010, 27.4740, 128.2327,  998,    201.8,  18.3763,  34.8856,2,  34.8849,2,    204.0,3,     3.10,2,     0.01,2,     0.21,2
    49TU9501_1,  PR18,  PN-1,  2,      2,2,19950120,1010, 27.4740, 128.2327,  998,    250.6,  17.6746,  34.8378,2,  34.8361,2,    204.0,3,     4.20,2,     0.01,2,     0.25,2
    49TU9501_1,  PR18,  PN-1,  2,      1,2,19950120,1010, 27.4740, 128.2327,  998,    298.3,  16.6164,  34.7516,2,  34.7530,2,    199.0,3,     6.20,2,     0.00,2,     0.40,2