BOTTLE,20220706CCHSIOAMB
# Removed empty SAMPNO column
# Changed BTLNBR -999 with flag 2 to "BUCKET" with flag 2
# Changed fill value -9.9999 with flag 9 to -999 for SALNTY
#BOTTLE,20010808WHPSIOKJU
#code : jjward hyd_to_exchange.pl 
#original files copied from HTML directory: 20010807
#original HYD file: pr18_phy.txt   Wed Aug  8 10:56:54 2001
#original SUM file: pr18_psu.txt.tmp   Tue Aug  7 15:57:02 2001
EXPOCODE,SECT_ID,STNNBR,CASTNO,BTLNBR,BTLNBR_FLAG_W,DATE,TIME,LATITUDE,LONGITUDE,DEPTH,CTDPRS,CTDTMP,CTDSAL,CTDSAL_FLAG_W,SALNTY,SALNTY_FLAG_W,OXYGEN,OXYGEN_FLAG_W,NITRAT,NITRAT_FLAG_W,NITRIT,NITRIT_FLAG_W,PHSPHT,PHSPHT_FLAG_W
,,,,,,,,,,,DBAR,ITS-90,PSS-78,,PSS-78,,UMOL/KG,,UMOL/KG,,UMOL/KG,,UMOL/KG,
    49TU9501_1,  PR18,  PN-9,  1,      0,2,19950118,0823, 29.9977, 124.5013,   65,      1.0,  16.0973,  34.1017,2,     -999,9,    245.0,3,     3.30,2,     0.14,2,     0.35,2
    49TU9501_1,  PR18,  PN-9,  1,      5,2,19950118,0823, 29.9977, 124.5013,   65,      9.0,  15.9072,  34.0916,2,     -999,9,    245.0,3,     3.20,2,     0.13,2,     0.32,2
    49TU9501_1,  PR18,  PN-9,  1,      4,2,19950118,0823, 29.9977, 124.5013,   65,     19.7,  15.8185,  34.0875,2,     -999,9,    245.0,3,     3.30,2,     0.13,2,     0.41,2
    49TU9501_1,  PR18,  PN-9,  1,      3,2,19950118,0823, 29.9977, 124.5013,   65,     30.2,  15.7260,  34.0844,2,     -999,9,    243.0,3,     3.30,2,     0.14,2,     0.33,2
    49TU9501_1,  PR18,  PN-9,  1,      2,2,19950118,0823, 29.9977, 124.5013,   65,     50.5,  15.6769,  34.0887,2,     -999,9,    244.0,3,     3.30,2,     0.14,2,     0.34,2
    49TU9501_1,  PR18,  PN-9,  1,      1,2,19950118,0823, 29.9977, 124.5013,   65,     61.9,  15.6781,  34.0886,2,     -999,9,    243.0,3,     3.30,2,     0.14,2,     0.34,2
    49TU9501_1,  PR18,  PN-8,  1,      0,2,19950118,1220, 29.6028, 125.0977,   86,      0.0,  17.2662,  34.1827,2,     -999,9,    235.0,3,     3.50,2,     0.09,2,     0.34,2
    49TU9501_1,  PR18,  PN-8,  1,     11,2,19950118,1220, 29.6028, 125.0977,   86,      8.5,  17.2623,  34.1837,2,  34.1837,2,    235.0,3,     3.50,2,     0.08,2,     0.35,2
    49TU9501_1,  PR18,  PN-8,  1,     10,2,19950118,1220, 29.6028, 125.0977,   86,     18.6,  17.2667,  34.1834,2,  34.1844,2,    235.0,3,     3.50,2,     0.09,2,     0.34,2
    49TU9501_1,  PR18,  PN-8,  1,      9,2,19950118,1220, 29.6028, 125.0977,   86,     29.2,  17.2707,  34.1835,2,  34.1829,2,    236.0,3,     3.50,2,     0.08,2,     0.35,2
    49TU9501_1,  PR18,  PN-8,  1,      8,2,19950118,1220, 29.6028, 125.0977,   86,     49.8,  17.2752,  34.1893,2,  34.1913,2,    235.0,3,     3.50,2,     0.09,2,     0.36,2
    49TU9501_1,  PR18,  PN-8,  1,      7,2,19950118,1220, 29.6028, 125.0977,   86,     80.9,  17.2777,  34.1920,2,  34.1948,2,    236.0,3,     3.50,2,     0.09,2,     0.35,2
    49TU9501_1,  PR18,  PN-7,  1,      0,2,19950118,1611, 29.3025, 125.5505,   93,      1.0,  17.5818,  34.2621,2,     -999,9,    233.0,3,     3.50,2,     0.12,2,     0.35,2
    49TU9501_1,  PR18,  PN-7,  1,      5,2,19950118,1611, 29.3025, 125.5505,   93,     10.3,  17.5920,  34.2616,2,     -999,9,    232.0,3,     3.50,2,     0.12,2,     0.34,2
    49TU9501_1,  PR18,  PN-7,  1,      4,2,19950118,1611, 29.3025, 125.5505,   93,     19.8,  17.5966,  34.2613,2,     -999,9,    232.0,3,     3.50,2,     0.12,2,     0.35,2
    49TU9501_1,  PR18,  PN-7,  1,      3,2,19950118,1611, 29.3025, 125.5505,   93,     29.9,  17.6016,  34.2610,2,     -999,9,    232.0,3,     3.50,2,     0.12,2,     0.34,2
    49TU9501_1,  PR18,  PN-7,  1,      2,2,19950118,1611, 29.3025, 125.5505,   93,     50.3,  17.6055,  34.2612,2,     -999,9,    232.0,3,     3.50,2,     0.12,2,     0.34,2
    49TU9501_1,  PR18,  PN-7,  1,      1,2,19950118,1611, 29.3025, 125.5505,   93,     75.5,  17.6150,  34.2644,2,     -999,9,    232.0,3,     3.50,2,     0.12,2,     0.35,2
    49TU9501_1,  PR18,  PN-7,  1,     12,2,19950118,1611, 29.3025, 125.5505,   93,     89.9,  17.6065,  34.2674,2,     -999,9,    232.0,3,     3.50,2,     0.12,2,     0.36,2
    49TU9501_1,  PR18,  PN-6,  1,      0,2,19950118,1913, 28.9972, 125.9968,  117,      0.0,  19.1326,  34.5458,2,     -999,9,    215.0,3,     2.80,2,     0.46,2,     0.31,2
    49TU9501_1,  PR18,  PN-6,  1,     11,2,19950118,1913, 28.9972, 125.9968,  117,      9.1,  19.1369,  34.5478,2,  34.5476,2,    215.0,3,     2.80,2,     0.45,2,     0.31,2
    49TU9501_1,  PR18,  PN-6,  1,     10,2,19950118,1913, 28.9972, 125.9968,  117,     19.1,  19.1560,  34.5470,2,  34.5476,2,    214.0,3,     2.80,2,     0.45,2,     0.31,2
    49TU9501_1,  PR18,  PN-6,  1,      9,2,19950118,1913, 28.9972, 125.9968,  117,     29.0,  19.1518,  34.5461,2,  34.5466,2,    215.0,3,     2.80,2,     0.45,2,     0.31,2
    49TU9501_1,  PR18,  PN-6,  1,      8,2,19950118,1913, 28.9972, 125.9968,  117,     49.3,  19.1410,  34.5443,2,  34.5425,2,    215.0,3,     3.00,2,     0.43,2,     0.32,2
    49TU9501_1,  PR18,  PN-6,  1,      7,2,19950118,1913, 28.9972, 125.9968,  117,     72.9,  19.1283,  34.5420,2,  34.5411,2,    216.0,3,     3.00,2,     0.42,2,     0.33,2
    49TU9501_1,  PR18,  PN-6,  1,      6,2,19950118,1913, 28.9972, 125.9968,  117,    110.1,  19.1358,  34.5413,2,  34.5401,2,    216.0,3,     3.00,2,     0.42,2,     0.33,2
    49TU9501_1,  PR18,  PN-5,  1,      0,2,19950118,2225, 28.6993, 126.4463,  127,      0.3,  19.7899,  34.5924,2,     -999,9,    215.0,3,     1.90,2,     0.49,2,     0.20,2
    49TU9501_1,  PR18,  PN-5,  1,      6,2,19950118,2225, 28.6993, 126.4463,  127,      9.1,  19.8018,  34.5923,2,  34.5885,3,    215.0,3,     1.70,2,     0.48,2,     0.20,2
    49TU9501_1,  PR18,  PN-5,  1,      5,2,19950118,2225, 28.6993, 126.4463,  127,     19.2,  19.8048,  34.5917,2,  34.5920,2,    214.0,3,     1.70,2,     0.48,2,     0.22,2
    49TU9501_1,  PR18,  PN-5,  1,      4,2,19950118,2225, 28.6993, 126.4463,  127,     30.2,  19.8053,  34.5910,2,  34.5897,2,    215.0,3,     1.70,2,     0.48,2,     0.20,2
    49TU9501_1,  PR18,  PN-5,  1,      3,2,19950118,2225, 28.6993, 126.4463,  127,     50.0,  19.8119,  34.5909,2,  34.5905,2,    214.0,3,     1.70,2,     0.49,2,     0.21,2
    49TU9501_1,  PR18,  PN-5,  1,      2,2,19950118,2225, 28.6993, 126.4463,  127,     74.9,  19.7536,  34.5851,2,  34.5838,2,    216.0,3,     1.50,2,     0.52,2,     0.20,2
    49TU9501_1,  PR18,  PN-5,  1,      1,2,19950118,2225, 28.6993, 126.4463,  127,    100.0,  19.5968,  34.5645,2,  34.5629,2,    216.0,3,     1.90,2,     0.52,2,     0.22,2
    49TU9501_1,  PR18,  PN-5,  1,     12,2,19950118,2225, 28.6993, 126.4463,  127,    121.6,  19.5859,  34.5626,2,  34.5627,2,    216.0,3,     1.90,2,     0.52,2,     0.22,2
    49TU9501_1,  PR18, PN-4',  1,      0,2,19950119,1241, 28.5535, 126.6830,  153,      0.0,  20.5081,  34.6717,2,     -999,9,    217.0,3,     0.70,2,     0.22,2,     0.10,2
    49TU9501_1,  PR18, PN-4',  1,      2,2,19950119,1241, 28.5535, 126.6830,  153,      9.6,  20.5196,  34.6719,2,     -999,9,    219.0,3,     0.70,2,     0.23,2,     0.12,2
    49TU9501_1,  PR18, PN-4',  1,      1,2,19950119,1241, 28.5535, 126.6830,  153,     20.5,  20.5158,  34.6720,2,     -999,9,    218.0,3,     0.70,2,     0.23,2,     0.10,2
    49TU9501_1,  PR18, PN-4',  1,     12,2,19950119,1241, 28.5535, 126.6830,  153,     30.0,  20.4400,  34.6619,2,     -999,9,    219.0,3,     0.70,2,     0.23,2,     0.11,2
    49TU9501_1,  PR18, PN-4',  1,     11,2,19950119,1241, 28.5535, 126.6830,  153,     50.7,  19.9104,  34.6208,2,     -999,9,    214.0,3,     1.40,2,     0.47,2,     0.17,2
    49TU9501_1,  PR18, PN-4',  1,     10,2,19950119,1241, 28.5535, 126.6830,  153,     75.3,  19.6999,  34.6116,2,     -999,9,    211.0,3,     1.80,2,     0.55,2,     0.21,2
    49TU9501_1,  PR18, PN-4',  1,      9,2,19950119,1241, 28.5535, 126.6830,  153,    100.6,  19.5814,  34.6092,2,     -999,9,    209.0,3,     2.30,2,     0.52,2,     0.24,2
    49TU9501_1,  PR18, PN-4',  1,      8,2,19950119,1241, 28.5535, 126.6830,  153,    126.0,  18.0340,  34.6171,2,     -999,9,    177.0,3,     7.70,2,     0.22,2,     0.60,2
    49TU9501_1,  PR18, PN-4',  1,      7,2,19950119,1241, 28.5535, 126.6830,  153,    146.9,  13.3323,  34.5067,2,     -999,9,    157.0,3,    15.70,2,     0.07,2,     1.20,2
    49TU9501_1,  PR18,  PN-4,  1,      0,2,19950119,1505, 28.4032, 126.9045,  275,      0.0,  22.7315,  34.7073,2,     -999,9,    210.0,3,     0.40,2,     0.17,2,     0.07,2
    49TU9501_1,  PR18,  PN-4,  1,     12,2,19950119,1505, 28.4032, 126.9045,  275,      9.8,  22.7678,  34.7056,2,     -999,9,    209.0,3,     0.40,2,     0.17,2,     0.08,2
    49TU9501_1,  PR18,  PN-4,  1,     11,2,19950119,1505, 28.4032, 126.9045,  275,     19.6,  22.7707,  34.7055,2,     -999,9,    209.0,3,     0.40,2,     0.18,2,     0.08,2
    49TU9501_1,  PR18,  PN-4,  1,     10,2,19950119,1505, 28.4032, 126.9045,  275,     29.7,  22.7728,  34.7054,2,     -999,9,    210.0,3,     0.40,2,     0.18,2,     0.08,2
    49TU9501_1,  PR18,  PN-4,  1,      9,2,19950119,1505, 28.4032, 126.9045,  275,     49.6,  22.7617,  34.7042,2,     -999,9,    209.0,3,     0.50,2,     0.20,2,     0.09,2
    49TU9501_1,  PR18,  PN-4,  1,      8,2,19950119,1505, 28.4032, 126.9045,  275,     74.9,  21.7452,  34.6957,2,     -999,9,    206.0,3,     1.40,2,     0.23,2,     0.14,2
    49TU9501_1,  PR18,  PN-4,  1,      7,2,19950119,1505, 28.4032, 126.9045,  275,     99.9,  21.1498,  34.6875,2,     -999,9,    221.0,3,     0.30,2,     0.13,2,     0.09,2
    49TU9501_1,  PR18,  PN-4,  1,      6,2,19950119,1505, 28.4032, 126.9045,  275,    125.0,  20.0766,  34.6439,2,     -999,9,    223.0,3,     0.80,2,     0.34,2,     0.14,2
    49TU9501_1,  PR18,  PN-4,  1,      5,2,19950119,1505, 28.4032, 126.9045,  275,    150.1,  19.5650,  34.6283,2,     -999,9,    218.0,3,     1.60,2,     0.54,2,     0.23,2
    49TU9501_1,  PR18,  PN-4,  1,      4,2,19950119,1505, 28.4032, 126.9045,  275,    200.7,  15.9885,  34.5955,2,     -999,9,    175.0,3,    10.40,2,     0.03,2,     0.78,2
    49TU9501_1,  PR18,  PN-4,  1,      3,2,19950119,1505, 28.4032, 126.9045,  275,    259.1,  10.4414,  34.3840,2,     -999,9,    142.0,3,    21.70,2,     0.06,2,     1.65,2
    49TU9501_1,  PR18, PN-3',  1,      7,2,19950119,1747, 28.2570, 127.1410,  973,    403.1,  10.9098,  34.3810,2,  34.3801,2,    152.0,3,    20.20,2,     0.01,2,     1.49,2
    49TU9501_1,  PR18, PN-3',  1,      6,2,19950119,1747, 28.2570, 127.1410,  973,    503.8,   8.0350,  34.2206,2,  34.2278,3,    138.0,3,    26.50,2,     0.01,2,     1.97,2
    49TU9501_1,  PR18, PN-3',  1,      5,2,19950119,1747, 28.2570, 127.1410,  973,    604.4,   6.9162,  34.3465,2,  34.3447,2,    104.0,3,    31.30,2,     0.01,2,     2.34,2
    49TU9501_1,  PR18, PN-3',  1,      4,2,19950119,1747, 28.2570, 127.1410,  973,    705.6,   5.7686,  34.3201,2,  34.3166,2,     89.0,3,    34.50,2,     0.01,2,     2.57,2
    49TU9501_1,  PR18, PN-3',  1,      3,2,19950119,1747, 28.2570, 127.1410,  973,    803.8,   5.1792,  34.3553,2,  34.3545,2,     83.0,3,    35.70,2,     0.01,2,     2.68,2
    49TU9501_1,  PR18, PN-3',  1,      2,2,19950119,1747, 28.2570, 127.1410,  973,    906.1,   4.7495,  34.3780,2,  34.3767,2,     78.0,3,    36.70,2,     0.01,2,     2.77,2
    49TU9501_1,  PR18, PN-3',  1,      1,2,19950119,1747, 28.2570, 127.1410,  973,    968.9,   4.6308,  34.3845,2,  34.3846,2,     78.0,3,    36.90,2,     0.01,2,     2.74,2
    49TU9501_1,  PR18, PN-3',  2,      0,2,19950119,1832, 28.2640, 127.1535,  982,      0.9,  22.9683,  34.6953,2,     -999,9,    209.0,3,     0.60,2,     0.23,2,     0.07,2
    49TU9501_1,  PR18, PN-3',  2,      6,2,19950119,1832, 28.2640, 127.1535,  982,      9.7,  22.9853,  34.6971,2,  34.6979,2,    208.0,3,     0.60,2,     0.23,2,     0.09,2
    49TU9501_1,  PR18, PN-3',  2,      5,2,19950119,1832, 28.2640, 127.1535,  982,     19.5,  22.9855,  34.6968,2,  34.6953,2,    208.0,3,     0.50,2,     0.23,2,     0.07,2
    49TU9501_1,  PR18, PN-3',  2,      4,2,19950119,1832, 28.2640, 127.1535,  982,     30.8,  22.9877,  34.6974,2,  34.6973,2,    208.0,3,     0.60,2,     0.23,2,     0.09,2
    49TU9501_1,  PR18, PN-3',  2,      3,2,19950119,1832, 28.2640, 127.1535,  982,     49.7,  22.9809,  34.6974,2,  34.6973,2,    208.0,3,     0.90,2,     0.23,2,     0.07,2
    49TU9501_1,  PR18, PN-3',  2,      2,2,19950119,1832, 28.2640, 127.1535,  982,     75.6,  22.9026,  34.7015,2,  34.7014,2,    210.0,3,     0.50,2,     0.20,2,     0.08,2
    49TU9501_1,  PR18, PN-3',  2,      1,2,19950119,1832, 28.2640, 127.1535,  982,    101.4,  22.8364,  34.7011,2,  34.7006,2,    210.0,3,     0.40,2,     0.20,2,     0.07,2
    49TU9501_1,  PR18, PN-3',  2,     12,2,19950119,1832, 28.2640, 127.1535,  982,    125.2,  22.6554,  34.6996,2,  34.6999,2,    210.0,3,     0.40,2,     0.20,2,     0.10,2
    49TU9501_1,  PR18, PN-3',  2,     11,2,19950119,1832, 28.2640, 127.1535,  982,    149.9,  21.3322,  34.7005,2,  34.6861,3,    190.0,3,     3.50,2,     0.11,2,     0.28,2
    49TU9501_1,  PR18, PN-3',  2,     10,2,19950119,1832, 28.2640, 127.1535,  982,    200.6,  18.4984,  34.7783,2,  34.7652,3,    182.0,3,     6.40,2,     0.02,2,     0.48,2
    49TU9501_1,  PR18, PN-3',  2,      9,2,19950119,1832, 28.2640, 127.1535,  982,    251.2,  16.2246,  34.6442,2,  34.6481,3,    170.0,3,    10.60,2,     0.01,2,     0.77,2
    49TU9501_1,  PR18, PN-3',  2,      8,2,19950119,1832, 28.2640, 127.1535,  982,    300.6,  13.8978,  34.5461,2,  34.5493,2,    161.0,3,    14.70,2,     0.01,2,     1.08,2
    49TU9501_1,  PR18,  PN-3,  1,     11,2,19950119,2137, 28.0958, 127.3535,   16,    404.0,  12.6179,  34.4454,2,  34.4442,2,    168.0,3,    15.50,2,     0.01,2,     1.14,2
    49TU9501_1,  PR18,  PN-3,  1,     10,2,19950119,2137, 28.0958, 127.3535,   16,    503.5,   9.4973,  34.3064,2,  34.3123,3,    143.0,3,    23.60,2,     0.00,2,     1.74,2
    49TU9501_1,  PR18,  PN-3,  1,      9,2,19950119,2137, 28.0958, 127.3535,   16,    604.4,   7.7496,  34.3403,2,  34.3388,2,    112.0,3,    29.70,2,     0.01,2,     2.20,2
    49TU9501_1,  PR18,  PN-3,  1,      8,2,19950119,2137, 28.0958, 127.3535,   16,    704.8,   6.3793,  34.3335,2,  34.3339,2,     99.0,3,    33.20,2,     0.01,2,     2.45,2
    49TU9501_1,  PR18,  PN-3,  1,      7,2,19950119,2137, 28.0958, 127.3535,   16,    803.9,   5.5499,  34.3444,2,  34.3416,2,     88.0,3,    35.40,2,     0.00,2,     2.64,2
    49TU9501_1,  PR18,  PN-3,  1,      6,2,19950119,2137, 28.0958, 127.3535,   16,   1018.7,   4.4506,  34.3936,2,  34.3929,2,     80.0,3,    38.20,2,     0.01,2,     2.84,2
    49TU9501_1,  PR18,  PN-3,  2,      0,2,19950119,2216, 28.0852, 127.3595, 1126,      0.0,  22.8060,  34.7326,2,     -999,9,    209.0,3,     0.40,2,     0.14,2,     0.06,2
    49TU9501_1,  PR18,  PN-3,  2,     10,2,19950119,2216, 28.0852, 127.3595, 1126,      9.5,  22.8177,  34.7329,2,  34.7323,2,    208.0,3,     0.40,2,     0.14,2,     0.06,2
    49TU9501_1,  PR18,  PN-3,  2,      9,2,19950119,2216, 28.0852, 127.3595, 1126,     20.0,  22.8228,  34.7329,2,  34.7327,2,    208.0,3,     0.40,2,     0.14,2,     0.06,2
    49TU9501_1,  PR18,  PN-3,  2,      8,2,19950119,2216, 28.0852, 127.3595, 1126,     29.8,  22.8248,  34.7333,2,  34.7329,2,    208.0,3,     0.40,2,     0.14,2,     0.06,2
    49TU9501_1,  PR18,  PN-3,  2,      7,2,19950119,2216, 28.0852, 127.3595, 1126,     49.8,  22.8290,  34.7335,2,  34.7335,2,    208.0,3,     0.40,2,     0.14,2,     0.06,2
    49TU9501_1,  PR18,  PN-3,  2,      6,2,19950119,2216, 28.0852, 127.3595, 1126,     74.2,  22.7811,  34.7275,2,  34.7290,2,    208.0,3,     0.40,2,     0.16,2,     0.07,2
    49TU9501_1,  PR18,  PN-3,  2,      5,2,19950119,2216, 28.0852, 127.3595, 1126,    100.8,  22.5908,  34.7533,2,  34.7502,3,    204.0,3,     0.80,2,     0.17,2,     0.09,2
    49TU9501_1,  PR18,  PN-3,  2,      4,2,19950119,2216, 28.0852, 127.3595, 1126,    126.2,  21.3566,  34.8783,2,  34.8769,2,    187.0,3,     2.90,2,     0.02,2,     0.23,2
    49TU9501_1,  PR18,  PN-3,  2,      3,2,19950119,2216, 28.0852, 127.3595, 1126,    151.6,  20.1913,  34.8244,2,  34.8426,3,    185.0,3,     4.30,2,     0.02,2,     0.32,2
    49TU9501_1,  PR18,  PN-3,  2,      2,2,19950119,2216, 28.0852, 127.3595, 1126,    201.5,  18.2718,  34.7972,2,  34.7989,2,    184.0,3,     5.90,2,     0.01,2,     0.43,2
    49TU9501_1,  PR18,  PN-3,  2,      1,2,19950119,2216, 28.0852, 127.3595, 1126,    250.4,  17.0066,  34.7401,2,  34.7428,2,    183.0,3,     7.40,2,     0.01,2,     0.55,2
    49TU9501_1,  PR18,  PN-3,  2,     12,2,19950119,2216, 28.0852, 127.3595, 1126,    302.9,  15.7872,  34.6567,2,  34.6597,2,    173.0,3,    10.60,2,     0.01,2,     0.75,2
    49TU9501_1,  PR18,  PN-2,  1,      5,2,19950120,0421, 27.7940, 127.8007,   12,    403.6,  13.9601,  34.5442,2,  34.5574,3,    176.0,3,    12.50,2,     0.01,2,     0.88,2
    49TU9501_1,  PR18,  PN-2,  1,      4,2,19950120,0421, 27.7940, 127.8007,   12,    504.4,  10.9320,  34.3622,2,  34.3655,2,    163.0,3,    18.80,2,     0.01,2,     1.36,2
    49TU9501_1,  PR18,  PN-2,  1,      3,2,19950120,0421, 27.7940, 127.8007,   12,    603.5,   9.0555,  34.3467,2,  34.3484,2,    132.0,3,    25.00,2,     0.01,2,     1.82,2
    49TU9501_1,  PR18,  PN-2,  1,      2,2,19950120,0421, 27.7940, 127.8007,   12,    705.0,   7.3024,  34.3222,2,  34.3221,2,    109.0,3,    30.10,2,     0.01,2,     2.23,2
    49TU9501_1,  PR18,  PN-2,  1,      1,2,19950120,0421, 27.7940, 127.8007,   12,    802.7,   5.7556,  34.3357,2,  34.3532,3,     94.0,3,    32.70,2,     0.01,2,     2.43,2
    49TU9501_1,  PR18,  PN-2,  1,     12,2,19950120,0421, 27.7940, 127.8007,   12,    863.8,   4.8195,  34.3659,2,  34.3669,2,     80.0,3,    36.70,2,     0.01,2,     2.76,2
    49TU9501_1,  PR18,  PN-2,  2,      0,2,19950120,0456, 27.7823, 127.8008,  809,      0.6,  21.5772,  34.8650,2,     -999,9,    213.0,3,     0.20,2,     0.04,2,     0.04,2
    49TU9501_1,  PR18,  PN-2,  2,      4,2,19950120,0456, 27.7823, 127.8008,  809,     10.6,  21.5839,  34.8644,2,  34.8662,2,    215.0,3,     0.10,2,     0.02,2,     0.03,2
    49TU9501_1,  PR18,  PN-2,  2,      3,2,19950120,0456, 27.7823, 127.8008,  809,     19.6,  21.5906,  34.8642,2,  34.8670,2,    216.0,3,     0.10,2,     0.02,2,     0.04,2
    49TU9501_1,  PR18,  PN-2,  2,      2,2,19950120,0456, 27.7823, 127.8008,  809,     29.8,  21.5901,  34.8643,2,  34.8656,2,    215.0,3,     0.20,2,     0.04,2,     0.04,2
    49TU9501_1,  PR18,  PN-2,  2,      1,2,19950120,0456, 27.7823, 127.8008,  809,     51.8,  21.5138,  34.8679,2,  34.8696,2,    213.0,3,     0.30,2,     0.09,2,     0.05,2
    49TU9501_1,  PR18,  PN-2,  2,     12,2,19950120,0456, 27.7823, 127.8008,  809,     76.0,  21.5083,  34.8707,2,  34.8719,2,    214.0,3,     0.20,2,     0.08,2,     0.04,2
    49TU9501_1,  PR18,  PN-2,  2,     11,2,19950120,0456, 27.7823, 127.8008,  809,    101.3,  21.4838,  34.8713,2,  34.8709,2,    214.0,3,     0.20,2,     0.08,2,     0.04,2
    49TU9501_1,  PR18,  PN-2,  2,     10,2,19950120,0456, 27.7823, 127.8008,  809,    126.2,  21.4768,  34.8725,2,  34.8711,2,    214.0,3,     0.20,2,     0.08,2,     0.05,2
    49TU9501_1,  PR18,  PN-2,  2,      9,2,19950120,0456, 27.7823, 127.8008,  809,    151.5,  20.4332,  34.8731,2,  34.8715,2,    193.0,3,     2.90,2,     0.03,2,     0.22,2
    49TU9501_1,  PR18,  PN-2,  2,      8,2,19950120,0456, 27.7823, 127.8008,  809,    203.2,  18.9154,  34.8405,2,  34.8420,2,    191.0,3,     4.40,2,     0.01,2,     0.31,2
    49TU9501_1,  PR18,  PN-2,  2,      7,2,19950120,0456, 27.7823, 127.8008,  809,    251.7,  17.9022,  34.8385,2,  34.8392,2,    199.0,3,     4.30,2,     0.01,2,     0.28,2
    49TU9501_1,  PR18,  PN-2,  2,      6,2,19950120,0456, 27.7823, 127.8008,  809,    302.2,  16.2418,  34.7098,2,  34.7115,2,    189.0,3,     7.70,2,     0.01,2,     0.54,2