BOTTLE,20220706CCHSIOAMB
EXPOCODE,SECT_ID,STNNBR,CASTNO,BTLNBR,BTLNBR_FLAG_W,DATE,TIME,LATITUDE,LONGITUDE,DEPTH,CTDPRS,CTDSAL,CTDSAL_FLAG_W,SALNTY,SALNTY_FLAG_W,OXYGEN,OXYGEN_FLAG_W,NITRAT,NITRAT_FLAG_W,NITRIT,NITRIT_FLAG_W,PHSPHT,PHSPHT_FLAG_W,CTDTMP
,,,,,,,,,,METERS,DBAR,PSS-78,,PSS-78,,UMOL/KG,,UMOL/KG,,UMOL/KG,,UMOL/KG,,DEG C
 49TU9410_2,       PR19,    IS-5,          1,         12,2,19941018,       0348,    25.4977,   123.2478,        781,   401.7,  34.3548,2,  34.3573,2,   129.0,3,   24.80,2,    0.02,2,    1.89,2,     9.2371
 49TU9410_2,       PR19,    IS-5,          1,         11,2,19941018,       0348,    25.4977,   123.2478,        781,   503.3,  34.3359,2,  34.3294,3,   115.0,3,   28.20,2,    0.02,2,    2.16,2,     7.9962
 49TU9410_2,       PR19,    IS-5,          1,         10,2,19941018,       0348,    25.4977,   123.2478,        781,   605.7,  34.3288,2,  34.3276,2,   106.0,3,   30.40,2,    0.02,2,    2.32,2,     7.0886
 49TU9410_2,       PR19,    IS-5,          1,          9,2,19941018,       0348,    25.4977,   123.2478,        781,   705.8,  34.3521,2,  34.3512,2,    97.0,3,   32.50,2,    0.02,2,    2.51,2,     6.2517
 49TU9410_2,       PR19,    IS-5,          1,          8,2,19941018,       0348,    25.4977,   123.2478,        781,   750.1,  34.3677,2,  34.3671,2,    93.0,3,   33.70,2,    0.02,2,    2.59,2,     5.7884
 49TU9410_2,       PR19,    IS-5,          2,     BUCKET,2,19941018,       0424,    25.4945,   123.2462,        868,     0.0,  34.2661,2,     -999,9,   204.0,3,    0.00,2,    0.00,2,    0.02,2,    27.4766
 49TU9410_2,       PR19,    IS-5,          2,         11,2,19941018,       0424,    25.4945,   123.2462,        868,     9.9,  34.2664,2,  34.2655,2,   203.0,3,    0.00,2,    0.00,2,    0.02,2,    27.4795
 49TU9410_2,       PR19,    IS-5,          2,         10,2,19941018,       0424,    25.4945,   123.2462,        868,    18.1,  34.2667,2,  34.2655,2,   203.0,3,    0.00,2,    0.00,2,    0.02,2,    27.4883
 49TU9410_2,       PR19,    IS-5,          2,          9,2,19941018,       0424,    25.4945,   123.2462,        868,    29.8,  34.2672,2,  34.2661,2,   202.0,3,    0.00,2,    0.00,2,    0.02,2,    27.4588
 49TU9410_2,       PR19,    IS-5,          2,          8,2,19941018,       0424,    25.4945,   123.2462,        868,    49.7,  34.2718,2,  34.2697,2,   202.0,3,    0.00,2,    0.00,2,    0.02,2,    27.4033
 49TU9410_2,       PR19,    IS-5,          2,          7,2,19941018,       0424,    25.4945,   123.2462,        868,    74.9,  34.3022,2,  34.2985,3,   201.0,3,    0.00,2,    0.00,2,    0.03,2,    27.0526
 49TU9410_2,       PR19,    IS-5,          2,          6,2,19941018,       0424,    25.4945,   123.2462,        868,   100.7,  34.2844,2,  34.2856,2,   194.0,3,    1.00,2,    0.22,2,    0.09,2,    25.4208
 49TU9410_2,       PR19,    IS-5,          2,          5,2,19941018,       0424,    25.4945,   123.2462,        868,   123.8,  34.7021,2,  34.6623,3,   184.0,3,    3.80,2,    0.09,2,    0.27,2,    21.1532
 49TU9410_2,       PR19,    IS-5,          2,          4,2,19941018,       0424,    25.4945,   123.2462,        868,   148.6,  34.6056,2,  34.6009,3,   177.0,3,    8.10,2,    0.04,2,    0.57,2,    17.8750
 49TU9410_2,       PR19,    IS-5,          2,          3,2,19941018,       0424,    25.4945,   123.2462,        868,   200.6,  34.6637,2,  34.6668,2,   176.0,3,    9.80,2,    0.02,2,    0.70,2,    15.8495
 49TU9410_2,       PR19,    IS-5,          2,          2,2,19941018,       0424,    25.4945,   123.2462,        868,   250.1,  34.5620,2,  34.5596,2,   167.0,3,   13.80,2,    0.02,2,    1.00,2,    13.8802
 49TU9410_2,       PR19,    IS-5,          2,          1,2,19941018,       0424,    25.4945,   123.2462,        868,   303.7,  34.4660,2,  34.4648,2,   153.0,3,   18.40,2,    0.02,2,    1.38,2,    11.8366
 49TU9410_2,       PR19,    IS-4,          1,         11,2,19941018,       0658,    25.3330,   123.4985,       1824,   402.8,  34.4410,2,  34.4428,2,   146.0,3,   20.20,2,    0.04,2,    1.51,2,    11.1792
 49TU9410_2,       PR19,    IS-4,          1,         10,2,19941018,       0658,    25.3330,   123.4985,       1824,   503.2,  34.3377,2,  34.3371,2,   119.0,3,   27.00,2,    0.04,2,    2.06,2,     8.4482
 49TU9410_2,       PR19,    IS-4,          1,          9,2,19941018,       0658,    25.3330,   123.4985,       1824,   604.5,  34.3386,2,  34.3394,2,   107.0,3,   30.10,2,    0.05,2,    2.32,2,     7.1960
 49TU9410_2,       PR19,    IS-4,          1,          8,2,19941018,       0658,    25.3330,   123.4985,       1824,   705.7,  34.3522,2,  34.3532,2,    95.0,3,   33.00,2,    0.03,2,    2.48,2,     6.1577
 49TU9410_2,       PR19,    IS-4,          1,          7,2,19941018,       0658,    25.3330,   123.4985,       1824,   807.3,  34.3807,2,  34.3787,2,    85.0,3,   35.60,2,    0.03,2,    2.70,2,     5.1928
 49TU9410_2,       PR19,    IS-4,          1,          6,2,19941018,       0658,    25.3330,   123.4985,       1824,   906.4,  34.3946,2,  34.3958,2,    79.0,3,   36.60,2,    0.02,2,    2.82,2,     4.7141
 49TU9410_2,       PR19,    IS-4,          1,          5,2,19941018,       0658,    25.3330,   123.4985,       1824,  1009.5,  34.4055,2,  34.4060,2,    80.0,3,   36.90,2,    0.02,2,    2.82,2,     4.5548
 49TU9410_2,       PR19,    IS-4,          1,          4,2,19941018,       0658,    25.3330,   123.4985,       1824,  1213.1,  34.4268,2,  34.4269,2,    76.0,3,   38.20,2,    0.01,2,    2.85,2,     4.0453
 49TU9410_2,       PR19,    IS-4,          1,          3,2,19941018,       0658,    25.3330,   123.4985,       1824,  1415.4,  34.4376,2,  34.4361,2,    73.0,3,   38.70,2,    0.02,2,    2.94,2,     3.8645
 49TU9410_2,       PR19,    IS-4,          1,          2,2,19941018,       0658,    25.3330,   123.4985,       1824,  1618.9,  34.4434,2,  34.4428,2,    73.0,3,   38.70,2,    0.02,2,    2.95,2,     3.7990
 49TU9410_2,       PR19,    IS-4,          1,          1,2,19941018,       0658,    25.3330,   123.4985,       1824,  1822.4,  34.4474,2,  34.4457,2,    73.0,3,   38.60,2,    0.02,2,    2.97,2,     3.7500
 49TU9410_2,       PR19,    IS-4,          1,         12,2,19941018,       0658,    25.3330,   123.4985,       1824,  1829.7,  34.4470,2,  34.4451,2,    74.0,3,   38.60,2,    0.02,2,    2.92,2,     3.7505
 49TU9410_2,       PR19,    IS-4,          2,     BUCKET,2,19941018,       0800,    25.3335,   123.4948,       1835,     1.2,  34.3068,2,     -999,9,   203.0,3,    0.60,2,    0.20,2,    0.04,2,    27.2815
 49TU9410_2,       PR19,    IS-4,          2,         10,2,19941018,       0800,    25.3335,   123.4948,       1835,     9.5,  34.3075,2,  34.3082,2,   202.0,3,    0.10,2,    0.02,2,    0.03,2,    27.2830
 49TU9410_2,       PR19,    IS-4,          2,          9,2,19941018,       0800,    25.3335,   123.4948,       1835,    20.4,  34.3061,2,  34.3078,2,   202.0,3,    0.10,2,    0.03,2,    0.03,2,    27.2950
 49TU9410_2,       PR19,    IS-4,          2,          8,2,19941018,       0800,    25.3335,   123.4948,       1835,    29.6,  34.3072,2,  34.3080,2,   202.0,3,    0.10,2,    0.03,2,    0.03,2,    27.2965
 49TU9410_2,       PR19,    IS-4,          2,          7,2,19941018,       0800,    25.3335,   123.4948,       1835,    50.3,  34.3084,2,  34.3082,2,   202.0,3,    0.10,2,    0.03,2,    0.03,2,    27.3010
 49TU9410_2,       PR19,    IS-4,          2,          6,2,19941018,       0800,    25.3335,   123.4948,       1835,    73.5,  34.3174,2,  34.3378,3,   202.0,3,    0.10,2,    0.03,2,    0.03,2,    27.1102
 49TU9410_2,       PR19,    IS-4,          2,          5,2,19941018,       0800,    25.3335,   123.4948,       1835,   102.2,  34.4683,2,  34.4607,3,   193.0,3,    0.60,2,    0.14,2,    0.08,2,    25.7550
 49TU9410_2,       PR19,    IS-4,          2,          4,2,19941018,       0800,    25.3335,   123.4948,       1835,   127.0,  34.7429,2,  34.7441,2,   185.0,3,    3.00,2,    0.09,2,    0.25,2,    22.1439
 49TU9410_2,       PR19,    IS-4,          2,          3,2,19941018,       0800,    25.3335,   123.4948,       1835,   151.0,  34.9043,2,  34.8843,3,   192.0,3,    2.80,2,    0.05,2,    0.19,2,    20.2779
 49TU9410_2,       PR19,    IS-4,          2,          2,2,19941018,       0800,    25.3335,   123.4948,       1835,   201.0,  34.8166,2,  34.8227,3,   191.0,3,    4.90,2,    0.04,2,    0.34,2,    18.5024
 49TU9410_2,       PR19,    IS-4,          2,          1,2,19941018,       0800,    25.3335,   123.4948,       1835,   250.5,  34.6899,2,  34.6930,2,   175.0,3,    8.80,2,    0.06,2,    0.66,2,    16.4017
 49TU9410_2,       PR19,    IS-4,          2,         12,2,19941018,       0800,    25.3335,   123.4948,       1835,   304.6,  34.5443,2,  34.5452,2,   170.0,3,   13.70,2,    0.03,2,    0.99,2,    13.7672
 49TU9410_2,       PR19,    IS-3,          1,         10,2,19941018,       1030,    25.1708,   123.7487,       2153,   402.3,  34.5232,2,  34.5214,2,   162.0,3,   15.00,2,    0.02,2,    1.11,2,    13.2020
 49TU9410_2,       PR19,    IS-3,          1,          9,2,19941018,       1030,    25.1708,   123.7487,       2153,   503.7,  34.3287,2,  34.3292,2,   126.0,3,   25.90,2,    0.02,2,    1.96,2,     8.7687
 49TU9410_2,       PR19,    IS-3,          1,          8,2,19941018,       1030,    25.1708,   123.7487,       2153,   603.7,  34.3284,2,  34.3315,3,   104.0,3,   31.10,2,    0.02,2,    2.34,2,     6.8571
 49TU9410_2,       PR19,    IS-3,          1,          7,2,19941018,       1030,    25.1708,   123.7487,       2153,   806.8,  34.3824,2,  34.3834,2,    85.0,3,   35.20,2,    0.02,2,    2.65,2,     5.2137
 49TU9410_2,       PR19,    IS-3,          1,          6,2,19941018,       1030,    25.1708,   123.7487,       2153,   908.0,  34.3991,2,  34.3997,2,    79.0,3,   36.60,2,    0.02,2,    2.78,2,     4.7101
 49TU9410_2,       PR19,    IS-3,          1,          5,2,19941018,       1030,    25.1708,   123.7487,       2153,  1010.8,  34.4139,2,  34.4127,2,    76.0,3,   37.40,2,    0.02,2,    2.82,2,     4.3974
 49TU9410_2,       PR19,    IS-3,          1,          4,2,19941018,       1030,    25.1708,   123.7487,       2153,  1212.6,  34.4269,2,  34.4278,2,    74.0,3,   38.60,2,    0.01,2,    2.84,2,     4.0794
 49TU9410_2,       PR19,    IS-3,          1,          3,2,19941018,       1030,    25.1708,   123.7487,       2153,  1415.3,  34.4343,2,  34.4335,2,    72.0,3,   38.70,2,    0.02,2,    2.92,2,     3.8744
 49TU9410_2,       PR19,    IS-3,          1,          2,2,19941018,       1030,    25.1708,   123.7487,       2153,  1617.7,  34.4407,2,  34.4392,2,    72.0,3,   38.90,2,    0.02,2,    2.89,2,     3.7840
 49TU9410_2,       PR19,    IS-3,          1,          1,2,19941018,       1030,    25.1708,   123.7487,       2153,  1821.9,  34.4449,2,  34.4438,2,    72.0,3,   38.90,2,    0.03,2,    2.94,2,     3.7425
 49TU9410_2,       PR19,    IS-3,          1,         12,2,19941018,       1030,    25.1708,   123.7487,       2153,  2024.8,  34.4497,2,  34.4479,2,    72.0,3,   39.20,2,    0.03,2,    2.91,2,     3.7240
 49TU9410_2,       PR19,    IS-3,          1,         11,2,19941018,       1030,    25.1708,   123.7487,       2153,  2150.3,  34.4501,2,  34.4485,2,    73.0,3,   39.20,2,    0.03,2,    2.95,2,     3.7195
 49TU9410_2,       PR19,    IS-3,          2,     BUCKET,2,19941018,       1129,    25.1742,   123.7448,       2154,     0.0,  34.3370,2,     -999,9,   201.0,3,    0.00,2,    0.01,2,    0.03,2,    27.4059
 49TU9410_2,       PR19,    IS-3,          2,          9,2,19941018,       1129,    25.1742,   123.7448,       2154,     8.4,  34.3377,2,  34.3382,2,   201.0,3,    0.00,2,    0.00,2,    0.03,2,    27.4097
 49TU9410_2,       PR19,    IS-3,          2,          8,2,19941018,       1129,    25.1742,   123.7448,       2154,    20.1,  34.3388,2,  34.3376,2,   201.0,3,    0.00,2,    0.00,2,    0.03,2,    27.4162
 49TU9410_2,       PR19,    IS-3,          2,          7,2,19941018,       1129,    25.1742,   123.7448,       2154,    29.5,  34.3417,2,  34.3481,3,   202.0,3,    0.00,2,    0.00,2,    0.02,2,    27.4200
 49TU9410_2,       PR19,    IS-3,          2,          6,2,19941018,       1129,    25.1742,   123.7448,       2154,    50.3,  34.5299,2,  34.5295,2,   202.0,3,    0.00,2,    0.00,2,    0.03,2,    27.0735
 49TU9410_2,       PR19,    IS-3,          2,          5,2,19941018,       1129,    25.1742,   123.7448,       2154,    75.4,  34.6522,2,  34.6554,2,   193.0,3,    0.40,2,    0.09,2,    0.07,2,    25.2095
 49TU9410_2,       PR19,    IS-3,          2,          4,2,19941018,       1129,    25.1742,   123.7448,       2154,   100.7,  34.6937,2,  34.6910,2,   194.0,3,    0.60,2,    0.10,2,    0.08,2,    24.6805
 49TU9410_2,       PR19,    IS-3,          2,          3,2,19941018,       1129,    25.1742,   123.7448,       2154,   123.6,  34.8261,2,  34.8211,3,   191.0,3,    0.90,2,    0.11,2,    0.10,2,    23.5861
 49TU9410_2,       PR19,    IS-3,          2,          2,2,19941018,       1129,    25.1742,   123.7448,       2154,   148.8,  34.8779,2,  34.8782,2,   187.0,3,    1.90,2,    0.06,2,    0.17,2,    22.0463
 49TU9410_2,       PR19,    IS-3,          2,          1,2,19941018,       1129,    25.1742,   123.7448,       2154,   201.5,  34.7588,2,  34.7595,2,   186.0,3,    6.40,2,    0.03,2,    0.45,2,    17.3895
 49TU9410_2,       PR19,    IS-3,          2,         12,2,19941018,       1129,    25.1742,   123.7448,       2154,   250.4,  34.7132,2,  34.7130,2,   183.0,3,    7.90,2,    0.02,2,    0.55,2,    16.5862
 49TU9410_2,       PR19,    IS-3,          2,         11,2,19941018,       1129,    25.1742,   123.7448,       2154,   305.2,  34.6574,2,  34.6585,2,   180.0,3,    9.60,2,    0.02,2,    0.68,2,    15.7486
 49TU9410_2,       PR19,    IS-2,          1,          9,2,19941018,       1356,    24.9973,   123.9935,       1921,   403.7,  34.4528,2,  34.4544,2,   161.0,3,   16.80,2,    0.03,2,    1.23,2,    12.2028
 49TU9410_2,       PR19,    IS-2,          1,          8,2,19941018,       1356,    24.9973,   123.9935,       1921,   503.5,  34.3469,2,  34.3473,2,   136.0,3,   23.50,2,    0.02,2,    1.73,2,     9.7304
 49TU9410_2,       PR19,    IS-2,          1,          7,2,19941018,       1356,    24.9973,   123.9935,       1921,   604.8,  34.3095,2,  34.3133,3,   119.0,3,   27.60,2,    0.02,2,    2.10,2,     8.1949
 49TU9410_2,       PR19,    IS-2,          1,          6,2,19941018,       1356,    24.9973,   123.9935,       1921,   705.7,  34.3327,2,  34.3329,2,   102.0,3,   31.70,2,    0.02,2,    2.43,2,     6.6740
 49TU9410_2,       PR19,    IS-2,          1,          5,2,19941018,       1356,    24.9973,   123.9935,       1921,   806.8,  34.3715,2,  34.3716,2,    90.0,3,   34.30,2,    0.02,2,    2.60,2,     5.6326
 49TU9410_2,       PR19,    IS-2,          1,          4,2,19941018,       1356,    24.9973,   123.9935,       1921,   908.8,  34.3971,2,  34.3982,2,    82.0,3,   35.90,2,    0.03,2,    2.75,2,     4.9195
 49TU9410_2,       PR19,    IS-2,          1,          3,2,19941018,       1356,    24.9973,   123.9935,       1921,  1009.7,  34.4105,2,  34.4143,3,    79.0,3,   37.10,2,    0.02,2,    2.84,2,     4.4917
 49TU9410_2,       PR19,    IS-2,          1,          2,2,19941018,       1356,    24.9973,   123.9935,       1921,  1211.0,  34.4309,2,  34.4322,2,    77.0,3,   37.90,2,    0.02,2,    2.92,2,     4.0480
 49TU9410_2,       PR19,    IS-2,          1,          1,2,19941018,       1356,    24.9973,   123.9935,       1921,  1414.3,  34.4412,2,  34.4414,2,    75.0,3,   38.90,2,    0.02,2,    2.95,2,     3.8275
 49TU9410_2,       PR19,    IS-2,          1,         12,2,19941018,       1356,    24.9973,   123.9935,       1921,  1618.1,  34.4443,2,  34.4434,2,    76.0,3,   38.70,2,    0.03,2,    2.96,2,     3.7735
 49TU9410_2,       PR19,    IS-2,          1,         11,2,19941018,       1356,    24.9973,   123.9935,       1921,  1821.1,  34.4481,2,  34.4483,2,    73.0,3,   38.90,2,    0.02,2,    2.96,2,     3.7425
 49TU9410_2,       PR19,    IS-2,          1,         10,2,19941018,       1356,    24.9973,   123.9935,       1921,  1921.4,  34.4492,2,  34.4487,2,    73.0,3,   38.90,2,    0.03,2,    2.99,2,     3.7305
 49TU9410_2,       PR19,    IS-2,          2,     BUCKET,2,19941018,       1449,    24.9912,   123.9832,       1923,     0.0,  34.3422,2,     -999,9,   202.0,3,    0.00,2,    0.00,2,    0.02,2,    27.2671
 49TU9410_2,       PR19,    IS-2,          2,          8,2,19941018,       1449,    24.9912,   123.9832,       1923,     8.2,  34.3419,2,  34.3431,2,   202.0,3,    0.00,2,    0.01,2,    0.02,2,    27.2850
 49TU9410_2,       PR19,    IS-2,          2,          7,2,19941018,       1449,    24.9912,   123.9832,       1923,    19.0,  34.3442,2,  34.3449,2,   202.0,3,    0.00,2,    0.01,2,    0.02,2,    27.2900
 49TU9410_2,       PR19,    IS-2,          2,          6,2,19941018,       1449,    24.9912,   123.9832,       1923,    27.9,  34.3864,2,  34.3828,3,   201.0,3,    0.00,2,    0.01,2,    0.02,2,    27.2933
 49TU9410_2,       PR19,    IS-2,          2,          5,2,19941018,       1449,    24.9912,   123.9832,       1923,    49.0,  34.4845,2,  34.4849,2,   201.0,3,    0.00,2,    0.01,2,    0.02,2,    27.2958
 49TU9410_2,       PR19,    IS-2,          2,          4,2,19941018,       1449,    24.9912,   123.9832,       1923,    74.0,  34.5043,2,  34.5043,2,   201.0,3,    0.00,2,    0.01,2,    0.02,2,    27.1119
 49TU9410_2,       PR19,    IS-2,          2,          3,2,19941018,       1449,    24.9912,   123.9832,       1923,   100.8,  34.6143,2,  34.6019,3,   192.0,3,    0.30,2,    0.11,2,    0.06,2,    25.6493
 49TU9410_2,       PR19,    IS-2,          2,          2,2,19941018,       1449,    24.9912,   123.9832,       1923,   124.6,  34.7824,2,  34.7812,2,   187.0,3,    1.90,2,    0.09,2,    0.14,2,    22.7561
 49TU9410_2,       PR19,    IS-2,          2,          1,2,19941018,       1449,    24.9912,   123.9832,       1923,   149.8,  34.8502,2,  34.8522,2,   187.0,3,    2.10,2,    0.06,2,    0.16,2,    21.8977
 49TU9410_2,       PR19,    IS-2,          2,         12,2,19941018,       1449,    24.9912,   123.9832,       1923,   200.1,  34.8068,2,  34.8091,2,   186.0,3,    4.80,2,    0.04,2,    0.32,2,    18.8215
 49TU9410_2,       PR19,    IS-2,          2,         11,2,19941018,       1449,    24.9912,   123.9832,       1923,   250.6,  34.7057,2,  34.7073,2,   181.0,3,    8.10,2,    0.03,2,    0.58,2,    16.5079
 49TU9410_2,       PR19,    IS-2,          2,         10,2,19941018,       1449,    24.9912,   123.9832,       1923,   303.5,  34.6132,2,  34.6137,2,   177.0,3,   10.80,2,    0.03,2,    0.76,2,    14.8919