BOTTLE,20220706CCHSIOAMB
EXPOCODE,SECT_ID,STNNBR,CASTNO,BTLNBR,BTLNBR_FLAG_W,DATE,TIME,LATITUDE,LONGITUDE,DEPTH,CTDPRS,CTDSAL,CTDSAL_FLAG_W,SALNTY,SALNTY_FLAG_W,OXYGEN,OXYGEN_FLAG_W,NITRAT,NITRAT_FLAG_W,NITRIT,NITRIT_FLAG_W,PHSPHT,PHSPHT_FLAG_W,CTDTMP
,,,,,,,,,,METERS,DBAR,PSS-78,,PSS-78,,UMOL/KG,,UMOL/KG,,UMOL/KG,,UMOL/KG,,DEG C
 49TU9410_2,       PR19,    IS-1,          1,          8,2,19941018,       1719,    24.8340,   124.2537,       1936,   403.3,  34.4879,2,  34.4904,2,   164.0,3,   14.80,2,    0.02,2,    1.09,2,    12.9100
 49TU9410_2,       PR19,    IS-1,          1,          7,2,19941018,       1719,    24.8340,   124.2537,       1936,   503.3,  34.3230,2,  34.3274,3,   136.0,3,   23.20,2,    0.03,2,    1.76,2,     9.5897
 49TU9410_2,       PR19,    IS-1,          1,          6,2,19941018,       1719,    24.8340,   124.2537,       1936,   605.2,  34.3099,2,  34.3107,2,   112.0,3,   29.10,2,    0.02,2,    2.23,2,     7.5240
 49TU9410_2,       PR19,    IS-1,          1,          5,2,19941018,       1719,    24.8340,   124.2537,       1936,   706.3,  34.3465,2,  34.3479,2,    97.0,3,   32.50,2,    0.02,2,    2.51,2,     6.2530
 49TU9410_2,       PR19,    IS-1,          1,          4,2,19941018,       1719,    24.8340,   124.2537,       1936,   808.6,  34.3756,2,  34.3781,3,    89.0,3,   34.50,2,    0.03,2,    2.66,2,     5.5205
 49TU9410_2,       PR19,    IS-1,          1,          3,2,19941018,       1719,    24.8340,   124.2537,       1936,   908.6,  34.3958,2,  34.3997,3,    81.0,3,   35.70,2,    0.03,2,    2.76,2,     4.9579
 49TU9410_2,       PR19,    IS-1,          1,          2,2,19941018,       1719,    24.8340,   124.2537,       1936,  1010.1,  34.4051,2,  34.4064,2,    79.0,3,   36.20,2,    0.03,2,    2.77,2,     4.7211
 49TU9410_2,       PR19,    IS-1,          1,          1,2,19941018,       1719,    24.8340,   124.2537,       1936,  1212.1,  34.4260,2,  34.4290,3,    74.0,3,   37.20,2,    0.02,2,    2.85,2,     4.1879
 49TU9410_2,       PR19,    IS-1,          1,         12,2,19941018,       1719,    24.8340,   124.2537,       1936,  1414.8,  34.4366,2,  34.4369,2,    74.0,3,   38.20,2,    0.01,2,    2.90,2,     3.9484
 49TU9410_2,       PR19,    IS-1,          1,         11,2,19941018,       1719,    24.8340,   124.2537,       1936,  1619.9,  34.4434,2,  34.4434,2,    72.0,3,   38.60,2,    0.02,2,    2.97,2,     3.8268
 49TU9410_2,       PR19,    IS-1,          1,         10,2,19941018,       1719,    24.8340,   124.2537,       1936,  1821.7,  34.4471,2,  34.4463,2,    71.0,3,   38.70,2,    0.02,2,    2.96,2,     3.7938
 49TU9410_2,       PR19,    IS-1,          1,          9,2,19941018,       1719,    24.8340,   124.2537,       1936,  1935.2,  34.4488,2,  34.4473,2,    70.0,3,   38.70,2,    0.03,2,    2.97,2,     3.7780
 49TU9410_2,       PR19,    IS-1,          2,     BUCKET,2,19941018,       1822,    24.8260,   124.2580,       1925,     0.4,  34.3558,2,     -999,9,   203.0,3,    0.00,2,    0.02,2,    0.02,2,    27.0801
 49TU9410_2,       PR19,    IS-1,          2,          7,2,19941018,       1822,    24.8260,   124.2580,       1925,    10.6,  34.3575,2,  34.3585,2,   203.0,3,    0.00,2,    0.00,2,    0.02,2,    27.0896
 49TU9410_2,       PR19,    IS-1,          2,          6,2,19941018,       1822,    24.8260,   124.2580,       1925,    21.7,  34.3586,2,  34.3583,2,   203.0,3,    0.00,2,    0.01,2,    0.02,2,    27.0898
 49TU9410_2,       PR19,    IS-1,          2,          5,2,19941018,       1822,    24.8260,   124.2580,       1925,    29.9,  34.3601,2,  34.3612,2,   202.0,3,    0.00,2,    0.00,2,    0.02,2,    27.0886
 49TU9410_2,       PR19,    IS-1,          2,          4,2,19941018,       1822,    24.8260,   124.2580,       1925,    50.3,  34.5312,2,  34.5309,2,   197.0,3,    0.10,2,    0.07,2,    0.04,2,    25.8729
 49TU9410_2,       PR19,    IS-1,          2,          3,2,19941018,       1822,    24.8260,   124.2580,       1925,    75.6,  34.6518,2,  34.6524,2,   193.0,3,    0.20,2,    0.11,2,    0.06,2,    25.4647
 49TU9410_2,       PR19,    IS-1,          2,          2,2,19941018,       1822,    24.8260,   124.2580,       1925,   101.1,  34.8055,2,  34.8067,2,   190.0,3,    1.20,2,    0.09,2,    0.11,2,    23.0789
 49TU9410_2,       PR19,    IS-1,          2,          1,2,19941018,       1822,    24.8260,   124.2580,       1925,   126.1,  34.8676,2,  34.8684,2,   188.0,3,    1.90,2,    0.05,2,    0.14,2,    21.9194
 49TU9410_2,       PR19,    IS-1,          2,         12,2,19941018,       1822,    24.8260,   124.2580,       1925,   150.6,  34.9089,2,  34.8983,3,   190.0,3,    2.20,2,    0.04,2,    0.14,2,    21.0104
 49TU9410_2,       PR19,    IS-1,          2,         11,2,19941018,       1822,    24.8260,   124.2580,       1925,   202.2,  34.8172,2,  34.8266,3,   186.0,3,    4.40,2,    0.03,2,    0.31,2,    19.0011
 49TU9410_2,       PR19,    IS-1,          2,         10,2,19941018,       1822,    24.8260,   124.2580,       1925,   253.0,  34.7534,2,  34.7571,2,   188.0,3,    6.30,2,    0.02,2,    0.42,2,    17.3251
 49TU9410_2,       PR19,    IS-1,          2,          9,2,19941018,       1822,    24.8260,   124.2580,       1925,   301.3,  34.6592,2,  34.6587,2,   182.0,3,    9.10,2,    0.02,2,    0.64,2,    15.6708