BOTTLE,20220706CCHSIOAMB
# Removed empty SAMPNO column
# Changed BTLNBR -999 with flag 2 to "BUCKET" with flag 2
# Changed fill value -9.9999 with flag 9 to -999 for SALNTY
#BOTTLE,20211129CCHSIORKP
# Original header:
#Changed all fill flags to 9
#code : jjward hyd_to_exchange.pl 
#original files copied from HTML directory: 20010809
#original HYD file: pr19_ehy.txt   Thu Aug  9 10:25:32 2001
#original SUM file: pr19_esu.txt   Fri Apr 27 14:33:20 2001
EXPOCODE,SECT_ID,STNNBR,CASTNO,BTLNBR,BTLNBR_FLAG_W,DATE,TIME,LATITUDE,LONGITUDE,DEPTH,CTDPRS,CTDSAL,CTDSAL_FLAG_W,SALNTY,SALNTY_FLAG_W,OXYGEN,OXYGEN_FLAG_W,NITRAT,NITRAT_FLAG_W,NITRIT,NITRIT_FLAG_W,PHSPHT,PHSPHT_FLAG_W,CTDTMP
,,,,,,,,,,METERS,DBAR,PSS-78,,PSS-78,,UMOL/KG,,UMOL/KG,,UMOL/KG,,UMOL/KG,,DEG C
 49TU9410_2,       PR19,   IS-13,          1,     BUCKET,2,19941017,       0924,    26.8342,   121.2455,         66,     0.9,  33.5467,2,     -999,9,   219.0,3,    0.40,2,    0.18,2,    0.14,2,    24.9497
 49TU9410_2,       PR19,   IS-13,          1,          5,2,19941017,       0924,    26.8342,   121.2455,         66,    10.1,  33.5477,2,     -999,9,   221.0,3,    0.40,2,    0.19,2,    0.13,2,    24.9577
 49TU9410_2,       PR19,   IS-13,          1,          4,2,19941017,       0924,    26.8342,   121.2455,         66,    20.0,  33.5465,2,     -999,9,   217.0,3,    0.70,2,    0.46,2,    0.17,2,    24.9094
 49TU9410_2,       PR19,   IS-13,          1,          3,2,19941017,       0924,    26.8342,   121.2455,         66,    29.5,  33.5256,2,     -999,9,   203.0,3,    1.70,2,    0.74,2,    0.25,2,    24.5404
 49TU9410_2,       PR19,   IS-13,          1,          2,2,19941017,       0924,    26.8342,   121.2455,         66,    51.6,  33.6512,2,     -999,9,   193.0,3,    2.50,2,    0.41,2,    0.37,2,    24.6390
 49TU9410_2,       PR19,   IS-13,          1,          1,2,19941017,       0924,    26.8342,   121.2455,         66,    59.2,  33.6562,2,     -999,9,   192.0,3,    2.60,2,    0.45,2,    0.40,2,    24.6448
 49TU9410_2,       PR19,   IS-12,          1,     BUCKET,2,19941017,       1125,    26.6622,   121.4942,         77,     0.7,  33.6044,2,     -999,9,   224.0,3,    0.10,2,    0.09,2,    0.20,2,    25.1808
 49TU9410_2,       PR19,   IS-12,          1,         10,2,19941017,       1125,    26.6622,   121.4942,         77,     9.7,  33.6084,2,  33.6049,3,   227.0,3,    0.00,2,    0.07,2,    0.18,2,    25.1742
 49TU9410_2,       PR19,   IS-12,          1,          9,2,19941017,       1125,    26.6622,   121.4942,         77,    19.1,  33.6229,2,  33.6180,3,   225.0,3,    0.20,2,    0.11,2,    0.20,2,    25.1105
 49TU9410_2,       PR19,   IS-12,          1,          8,2,19941017,       1125,    26.6622,   121.4942,         77,    29.3,  33.7132,2,  33.7138,2,   204.0,3,    1.40,2,    0.60,2,    0.30,2,    24.8031
 49TU9410_2,       PR19,   IS-12,          1,          7,2,19941017,       1125,    26.6622,   121.4942,         77,    49.2,  33.7406,2,  33.7388,2,   192.0,3,    2.90,2,    0.18,2,    0.39,2,    24.7018
 49TU9410_2,       PR19,   IS-12,          1,          6,2,19941017,       1125,    26.6622,   121.4942,         77,    69.3,  33.8828,2,  33.8813,2,   183.0,3,    2.90,2,    0.35,2,    0.51,2,    24.6623
 49TU9410_2,       PR19,   IS-11,          1,     BUCKET,2,19941017,       1312,    26.4888,   121.7090,         79,     0.8,  33.9050,2,     -999,9,   210.0,3,    0.40,2,    0.13,2,    0.11,2,    25.2587
 49TU9410_2,       PR19,   IS-11,          1,          3,2,19941017,       1312,    26.4888,   121.7090,         79,     9.8,  33.9054,2,     -999,9,   197.0,3,    0.50,2,    0.14,2,    0.11,2,    25.2561
 49TU9410_2,       PR19,   IS-11,          1,          2,2,19941017,       1312,    26.4888,   121.7090,         79,    20.3,  33.9026,2,     -999,9,   208.0,3,    0.90,2,    0.27,2,    0.14,2,    25.1312
 49TU9410_2,       PR19,   IS-11,          1,          1,2,19941017,       1312,    26.4888,   121.7090,         79,    28.9,  33.8948,2,     -999,9,   200.0,3,    1.70,2,    0.48,2,    0.23,2,    24.8252
 49TU9410_2,       PR19,   IS-11,          1,         12,2,19941017,       1312,    26.4888,   121.7090,         79,    50.5,  33.8991,2,     -999,9,   192.0,3,    1.90,2,    0.48,2,    0.24,2,    24.7912
 49TU9410_2,       PR19,   IS-11,          1,         11,2,19941017,       1312,    26.4888,   121.7090,         79,    71.7,  33.9134,2,     -999,9,   190.0,3,    2.20,2,    0.50,2,    0.28,2,    24.7187
 49TU9410_2,       PR19,   IS-10,          1,     BUCKET,2,19941017,       1519,    26.3315,   121.9973,         99,     1.7,  33.7702,2,     -999,9,   220.0,3,    0.10,2,    0.07,2,    0.07,2,    25.1902
 49TU9410_2,       PR19,   IS-10,          1,          8,2,19941017,       1519,    26.3315,   121.9973,         99,    10.6,  33.7694,2,     -999,9,   219.0,3,    0.20,2,    0.09,2,    0.08,2,    25.1825
 49TU9410_2,       PR19,   IS-10,          1,          7,2,19941017,       1519,    26.3315,   121.9973,         99,    20.8,  33.7490,2,     -999,9,   211.0,3,    0.80,2,    0.23,2,    0.14,2,    24.9516
 49TU9410_2,       PR19,   IS-10,          1,          6,2,19941017,       1519,    26.3315,   121.9973,         99,    30.2,  33.7223,2,     -999,9,   197.0,3,    2.00,2,    0.52,2,    0.23,2,    24.6618
 49TU9410_2,       PR19,   IS-10,          1,          5,2,19941017,       1519,    26.3315,   121.9973,         99,    50.1,  33.7257,2,     -999,9,   192.0,3,    2.60,2,    0.28,2,    0.25,2,    24.5954
 49TU9410_2,       PR19,   IS-10,          1,          4,2,19941017,       1519,    26.3315,   121.9973,         99,    88.6,  34.1898,2,     -999,9,   175.0,3,    8.30,2,    0.33,2,    0.67,2,    19.2599
 49TU9410_2,       PR19,    IS-9,          1,     BUCKET,2,19941017,       1706,    26.1640,   122.2467,         99,     1.8,  33.7751,2,     -999,9,   215.0,3,    0.10,2,    0.09,2,    0.09,2,    25.3420
 49TU9410_2,       PR19,    IS-9,          1,          2,2,19941017,       1706,    26.1640,   122.2467,         99,    10.4,  33.7781,2,  33.7743,3,   216.0,3,    0.00,2,    0.07,2,    0.09,2,    25.3194
 49TU9410_2,       PR19,    IS-9,          1,          1,2,19941017,       1706,    26.1640,   122.2467,         99,    21.4,  33.7694,2,  33.7761,3,   209.0,3,    0.40,2,    0.24,2,    0.13,2,    25.1838
 49TU9410_2,       PR19,    IS-9,          1,         12,2,19941017,       1706,    26.1640,   122.2467,         99,    30.6,  33.7830,2,  33.7763,3,   199.0,3,    1.30,2,    0.58,2,    0.21,2,    24.8500
 49TU9410_2,       PR19,    IS-9,          1,         11,2,19941017,       1706,    26.1640,   122.2467,         99,    51.8,  33.8044,2,  33.8033,2,   199.0,3,    1.40,2,    0.61,2,    0.22,2,    24.8092
 49TU9410_2,       PR19,    IS-9,          1,         10,2,19941017,       1706,    26.1640,   122.2467,         99,    74.5,  33.8063,2,  33.8037,2,   196.0,3,    2.10,2,    0.42,2,    0.25,2,    24.6828
 49TU9410_2,       PR19,    IS-9,          1,          9,2,19941017,       1706,    26.1640,   122.2467,         99,    89.6,  34.1942,2,  34.1907,2,   177.0,3,    8.60,2,    0.32,2,    0.71,2,    19.0685
 49TU9410_2,       PR19,    IS-8,          1,     BUCKET,2,19941017,       1854,    26.0008,   122.4938,        107,     0.0,  33.7002,2,     -999,9,   218.0,3,    0.10,2,    0.08,2,    0.05,2,    25.1247
 49TU9410_2,       PR19,    IS-8,          1,          8,2,19941017,       1854,    26.0008,   122.4938,        107,     9.8,  33.7020,2,     -999,9,   215.0,3,    0.40,2,    0.12,2,    0.08,2,    25.0996
 49TU9410_2,       PR19,    IS-8,          1,          7,2,19941017,       1854,    26.0008,   122.4938,        107,    20.3,  33.7487,2,     -999,9,   205.0,3,    1.20,2,    0.52,2,    0.17,2,    24.8709
 49TU9410_2,       PR19,    IS-8,          1,          6,2,19941017,       1854,    26.0008,   122.4938,        107,    31.1,  33.7238,2,     -999,9,   198.0,3,    2.40,2,    0.21,2,    0.23,2,    24.7351
 49TU9410_2,       PR19,    IS-8,          1,          5,2,19941017,       1854,    26.0008,   122.4938,        107,    51.5,  33.7446,2,     -999,9,   195.0,3,    3.00,2,    0.09,2,    0.25,2,    24.7078
 49TU9410_2,       PR19,    IS-8,          1,          4,2,19941017,       1854,    26.0008,   122.4938,        107,    75.1,  33.8001,2,     -999,9,   195.0,3,    3.10,2,    0.20,2,    0.28,2,    24.0791
 49TU9410_2,       PR19,    IS-8,          1,          3,2,19941017,       1854,    26.0008,   122.4938,        107,    98.0,  34.4114,2,     -999,9,   172.0,3,   10.80,2,    0.14,2,    0.82,2,    16.8096
 49TU9410_2,       PR19,   IS-7',          1,     BUCKET,2,19941017,       2026,    25.8807,   122.6608,        107,     0.0,  33.5906,2,     -999,9,   219.0,3,    0.40,2,    0.06,2,    0.07,2,    24.9912
 49TU9410_2,       PR19,   IS-7',          1,          2,2,19941017,       2026,    25.8807,   122.6608,        107,    10.0,  33.5908,2,     -999,9,   220.0,3,    0.30,2,    0.03,2,    0.06,2,    24.9858
 49TU9410_2,       PR19,   IS-7',          1,          1,2,19941017,       2026,    25.8807,   122.6608,        107,    20.3,  33.6124,2,     -999,9,   209.0,3,    1.20,2,    0.12,2,    0.13,2,    24.9161
 49TU9410_2,       PR19,   IS-7',          1,         12,2,19941017,       2026,    25.8807,   122.6608,        107,    29.8,  33.6169,2,     -999,9,   196.0,3,    2.50,2,    0.28,2,    0.25,2,    24.5368
 49TU9410_2,       PR19,   IS-7',          1,         11,2,19941017,       2026,    25.8807,   122.6608,        107,    51.0,  33.6203,2,     -999,9,   202.0,3,    2.00,2,    0.41,2,    0.20,2,    24.3760
 49TU9410_2,       PR19,   IS-7',          1,         10,2,19941017,       2026,    25.8807,   122.6608,        107,    75.7,  33.9888,2,     -999,9,   191.0,3,    4.30,2,    0.23,2,    0.36,2,    22.3699
 49TU9410_2,       PR19,   IS-7',          1,          9,2,19941017,       2026,    25.8807,   122.6608,        107,    99.6,  34.6525,2,     -999,9,   179.0,3,    8.80,2,    0.05,2,    0.66,2,    16.7733
 49TU9410_2,       PR19,    IS-7,          1,     BUCKET,2,19941017,       2125,    25.8357,   122.7380,        112,     0.2,  33.6197,2,     -999,9,   213.0,3,    0.60,2,    0.14,2,    0.10,2,    25.0913
 49TU9410_2,       PR19,    IS-7,          1,          8,2,19941017,       2125,    25.8357,   122.7380,        112,     9.9,  33.6198,2,  33.6176,2,   213.0,3,    0.40,2,    0.11,2,    0.09,2,    25.0926
 49TU9410_2,       PR19,    IS-7,          1,          7,2,19941017,       2125,    25.8357,   122.7380,        112,    19.8,  33.6216,2,  33.6184,2,   212.0,3,    0.40,2,    0.11,2,    0.09,2,    25.0803
 49TU9410_2,       PR19,    IS-7,          1,          6,2,19941017,       2125,    25.8357,   122.7380,        112,    30.5,  33.6223,2,  33.6207,2,   210.0,3,    0.80,2,    0.30,2,    0.14,2,    24.9273
 49TU9410_2,       PR19,    IS-7,          1,          5,2,19941017,       2125,    25.8357,   122.7380,        112,    51.6,  34.2336,2,  34.2524,3,   198.0,3,    3.20,2,    0.37,2,    0.28,2,    22.3975
 49TU9410_2,       PR19,    IS-7,          1,          4,2,19941017,       2125,    25.8357,   122.7380,        112,    76.5,  34.6054,2,  34.5966,3,   185.0,3,    5.20,2,    0.14,2,    0.41,2,    20.4560
 49TU9410_2,       PR19,    IS-7,          1,          3,2,19941017,       2125,    25.8357,   122.7380,        112,   107.9,  34.7665,2,  34.7664,2,   187.0,3,    6.30,2,    0.03,2,    0.46,2,    17.8516
 49TU9410_2,       PR19,   IS-6b,          1,     BUCKET,2,19941017,       2232,    25.7763,   122.8272,        124,     0.0,  34.1842,2,     -999,9,   214.0,3,    0.10,2,    0.02,2,    0.05,2,    25.6045
 49TU9410_2,       PR19,   IS-6b,          1,          3,2,19941017,       2232,    25.7763,   122.8272,        124,     9.2,  34.1847,2,     -999,9,   211.0,3,    0.10,2,    0.02,2,    0.05,2,    25.5971
 49TU9410_2,       PR19,   IS-6b,          1,          2,2,19941017,       2232,    25.7763,   122.8272,        124,    19.0,  34.1871,2,     -999,9,   212.0,3,    0.10,2,    0.02,2,    0.05,2,    25.5985
 49TU9410_2,       PR19,   IS-6b,          1,          1,2,19941017,       2232,    25.7763,   122.8272,        124,    29.3,  34.2334,2,     -999,9,   218.0,3,    0.10,2,    0.03,2,    0.07,2,    25.2714
 49TU9410_2,       PR19,   IS-6b,          1,         12,2,19941017,       2232,    25.7763,   122.8272,        124,    48.8,  34.3314,2,     -999,9,   207.0,3,    0.60,2,    0.08,2,    0.10,2,    22.7915
 49TU9410_2,       PR19,   IS-6b,          1,         11,2,19941017,       2232,    25.7763,   122.8272,        124,    73.6,  34.3444,2,     -999,9,   191.0,3,    5.60,2,    0.24,2,    0.44,2,    20.1108
 49TU9410_2,       PR19,   IS-6b,          1,         10,2,19941017,       2232,    25.7763,   122.8272,        124,   100.2,  34.7529,2,     -999,9,   188.0,3,    6.20,2,    0.08,2,    0.47,2,    18.0722
 49TU9410_2,       PR19,   IS-6b,          1,          9,2,19941017,       2232,    25.7763,   122.8272,        124,   122.6,  34.6365,2,     -999,9,   177.0,3,   10.90,2,    0.03,2,    0.78,2,    15.3377
 49TU9410_2,       PR19,   IS-6a,          1,     BUCKET,2,19941017,       2340,    25.7250,   122.9175,        242,     0.0,  33.9704,2,     -999,9,   212.0,3,    0.10,2,    0.01,2,    0.02,2,    25.6676
 49TU9410_2,       PR19,   IS-6a,          1,          1,2,19941017,       2340,    25.7250,   122.9175,        242,     7.7,  33.9717,2,     -999,9,   210.0,3,    0.10,2,    0.00,2,    0.03,2,    25.6615
 49TU9410_2,       PR19,   IS-6a,          1,         12,2,19941017,       2340,    25.7250,   122.9175,        242,    19.0,  34.2265,2,     -999,9,   211.0,3,    0.30,2,    0.02,2,    0.06,2,    24.7862
 49TU9410_2,       PR19,   IS-6a,          1,         11,2,19941017,       2340,    25.7250,   122.9175,        242,    29.8,  34.3044,2,     -999,9,   207.0,3,    1.10,2,    0.20,2,    0.13,2,    23.6724
 49TU9410_2,       PR19,   IS-6a,          1,         10,2,19941017,       2340,    25.7250,   122.9175,        242,    50.1,  34.3862,2,     -999,9,   192.0,3,    4.60,2,    0.25,2,    0.37,2,    21.1448
 49TU9410_2,       PR19,   IS-6a,          1,          9,2,19941017,       2340,    25.7250,   122.9175,        242,    74.6,  34.6386,2,     -999,9,   182.0,3,    6.30,2,    0.09,2,    0.47,2,    19.0094
 49TU9410_2,       PR19,   IS-6a,          1,          8,2,19941017,       2340,    25.7250,   122.9175,        242,    98.9,  34.5959,2,     -999,9,   180.0,3,    7.90,2,    0.04,2,    0.60,2,    17.9465
 49TU9410_2,       PR19,   IS-6a,          1,          7,2,19941017,       2340,    25.7250,   122.9175,        242,   124.1,  34.7724,2,     -999,9,   189.0,3,    6.40,2,    0.01,2,    0.44,2,    17.5037
 49TU9410_2,       PR19,   IS-6a,          1,          6,2,19941017,       2340,    25.7250,   122.9175,        242,   149.2,  34.7089,2,     -999,9,   185.0,3,    8.10,2,    0.01,2,    0.58,2,    16.4349
 49TU9410_2,       PR19,   IS-6a,          1,          5,2,19941017,       2340,    25.7250,   122.9175,        242,   200.4,  34.6273,2,     -999,9,   177.0,3,   10.90,2,    0.01,2,    0.79,2,    15.1996
 49TU9410_2,       PR19,   IS-6a,          1,          4,2,19941017,       2340,    25.7250,   122.9175,        242,   231.3,  34.6005,2,     -999,9,   173.0,3,   11.50,2,    0.02,2,    0.85,2,    14.7370
 49TU9410_2,       PR19,    IS-6,          1,          8,2,19941018,       0056,    25.6723,   122.9965,        985,   402.3,  34.4093,2,     -999,9,   140.0,3,   21.80,2,    0.02,2,    1.64,2,    10.4598
 49TU9410_2,       PR19,    IS-6,          1,          7,2,19941018,       0056,    25.6723,   122.9965,        985,   502.7,  34.3498,2,     -999,9,   118.0,3,   27.00,2,    0.06,2,    2.04,2,     8.4641
 49TU9410_2,       PR19,    IS-6,          1,          6,2,19941018,       0056,    25.6723,   122.9965,        985,   602.7,  34.3554,2,     -999,9,   101.0,3,   31.50,2,    0.04,2,    2.36,2,     6.6364
 49TU9410_2,       PR19,    IS-6,          1,          5,2,19941018,       0056,    25.6723,   122.9965,        985,   702.5,  34.3789,2,     -999,9,    93.0,3,   34.00,2,    0.06,2,    2.57,2,     5.6397
 49TU9410_2,       PR19,    IS-6,          1,          4,2,19941018,       0056,    25.6723,   122.9965,        985,   804.6,  34.3960,2,     -999,9,    87.0,3,   35.10,2,    0.09,2,    2.66,2,     5.1488
 49TU9410_2,       PR19,    IS-6,          1,          3,2,19941018,       0056,    25.6723,   122.9965,        985,   909.3,  34.4194,2,     -999,9,    78.0,3,   37.20,2,    0.02,2,    2.76,2,     4.3883
 49TU9410_2,       PR19,    IS-6,          1,          2,2,19941018,       0056,    25.6723,   122.9965,        985,   977.6,  34.4220,2,     -999,9,    77.0,3,   37.40,2,    0.01,2,    2.84,2,     4.3063
 49TU9410_2,       PR19,    IS-6,          2,     BUCKET,2,19941018,       0130,    25.6693,   122.9942,        919,     0.0,  33.9764,2,     -999,9,   209.0,3,    0.30,2,    0.13,2,    0.11,2,    26.0744
 49TU9410_2,       PR19,    IS-6,          2,          7,2,19941018,       0130,    25.6693,   122.9942,        919,     8.4,  33.9764,2,     -999,9,   210.0,3,    0.00,2,    0.06,2,    0.05,2,    26.0544
 49TU9410_2,       PR19,    IS-6,          2,          6,2,19941018,       0130,    25.6693,   122.9942,        919,    17.8,  33.9690,2,     -999,9,   210.0,3,    0.00,2,    0.05,2,    0.03,2,    26.0198
 49TU9410_2,       PR19,    IS-6,          2,          5,2,19941018,       0130,    25.6693,   122.9942,        919,    29.1,  33.9880,2,     -999,9,   213.0,3,    0.10,2,    0.12,2,    0.06,2,    24.7847
 49TU9410_2,       PR19,    IS-6,          2,          4,2,19941018,       0130,    25.6693,   122.9942,        919,    47.6,  34.1426,2,     -999,9,   198.0,3,    3.50,2,    0.40,2,    0.32,2,    22.3432
 49TU9410_2,       PR19,    IS-6,          2,          3,2,19941018,       0130,    25.6693,   122.9942,        919,    74.0,  34.3362,2,     -999,9,   191.0,3,    6.10,2,    0.21,2,    0.45,2,    20.0612
 49TU9410_2,       PR19,    IS-6,          2,          2,2,19941018,       0130,    25.6693,   122.9942,        919,    99.6,  34.5905,2,     -999,9,   180.0,3,    7.80,2,    0.08,2,    0.58,2,    18.0388
 49TU9410_2,       PR19,    IS-6,          2,          1,2,19941018,       0130,    25.6693,   122.9942,        919,   123.6,  34.7619,2,     -999,9,   188.0,3,    6.70,2,    0.06,2,    0.48,2,    17.4457
 49TU9410_2,       PR19,    IS-6,          2,         12,2,19941018,       0130,    25.6693,   122.9942,        919,   149.7,  34.7333,2,     -999,9,   188.0,3,    7.20,2,    0.01,2,    0.52,2,    16.6722
 49TU9410_2,       PR19,    IS-6,          2,         11,2,19941018,       0130,    25.6693,   122.9942,        919,   198.6,  34.5756,2,     -999,9,   176.0,3,   11.70,2,    0.05,2,    0.92,2,    14.3330
 49TU9410_2,       PR19,    IS-6,          2,         10,2,19941018,       0130,    25.6693,   122.9942,        919,   250.8,  34.4663,2,     -999,9,   163.0,3,   16.00,2,    0.09,2,    1.23,2,    12.4563
 49TU9410_2,       PR19,    IS-6,          2,          9,2,19941018,       0130,    25.6693,   122.9942,        919,   303.9,  34.4368,2,     -999,9,   155.0,3,   18.30,2,    0.06,2,    1.37,2,    11.6819