BOTTLE,20220706CCHSIOAMB
EXPOCODE,SECT_ID,STNNBR,CASTNO,BTLNBR,BTLNBR_FLAG_W,DATE,TIME,LATITUDE,LONGITUDE,DEPTH,CTDPRS,CTDSAL,CTDSAL_FLAG_W,SALNTY,SALNTY_FLAG_W,OXYGEN,OXYGEN_FLAG_W,NITRAT,NITRAT_FLAG_W,NITRIT,NITRIT_FLAG_W,PHSPHT,PHSPHT_FLAG_W,CTDTMP
,,,,,,,,,,METERS,DBAR,PSS-78,,PSS-78,,UMOL/KG,,UMOL/KG,,UMOL/KG,,UMOL/KG,,DEG C
 49TU9410_1,       PR18,    PN-2,          1,          4,2,19941008,       0203,    27.8073,   127.7870,         19,   402.1,  34.5442,2,  34.5423,2,   179.0,3,   12.80,2,    0.00,2,    0.94,2,    13.7191
 49TU9410_1,       PR18,    PN-2,          1,          3,2,19941008,       0203,    27.8073,   127.7870,         19,   504.2,  34.3584,2,  34.3714,3,   161.0,3,   18.90,2,    0.01,2,    1.41,2,    10.8693
 49TU9410_1,       PR18,    PN-2,          1,          2,2,19941008,       0203,    27.8073,   127.7870,         19,   605.4,  34.2961,2,  34.3038,3,   128.0,3,   26.60,2,    0.01,2,    2.02,2,     8.1001
 49TU9410_1,       PR18,    PN-2,          1,          1,2,19941008,       0203,    27.8073,   127.7870,         19,   705.0,  34.3087,2,  34.3062,2,   101.0,3,   31.70,2,    0.00,2,    2.42,2,     6.5149
 49TU9410_1,       PR18,    PN-2,          1,         12,2,19941008,       0203,    27.8073,   127.7870,         19,   805.4,  34.3391,2,  34.3445,2,    89.0,3, -999.00,5, -999.00,5, -999.00,5,     5.3480
 49TU9410_1,       PR18,    PN-2,          1,         11,2,19941008,       0203,    27.8073,   127.7870,         19,   907.0,  34.3710,2,  34.3683,2,    79.0,3,   36.60,2,    0.01,2, -999.00,5,     4.7535
 49TU9410_1,       PR18,    PN-2,          1,         10,2,19941008,       0203,    27.8073,   127.7870,         19,  1018.5,  34.3956,2,  34.3929,2,    75.0,3,   37.60,2,    0.01,2, -999.00,5,     4.3581
 49TU9410_1,       PR18,    PN-2,          2,     BUCKET,2,19941008,       0240,    27.8167,   127.7727,       1047,     0.6,  34.8338,2,     -999,9,   207.0,3,    0.50,2,    0.03,2,    0.02,2,    25.7329
 49TU9410_1,       PR18,    PN-2,          2,          3,2,19941008,       0240,    27.8167,   127.7727,       1047,     9.9,  34.8333,2,  34.8322,2,   206.0,3,    0.00,2,    0.00,2,    0.02,2,    25.7319
 49TU9410_1,       PR18,    PN-2,          2,          2,2,19941008,       0240,    27.8167,   127.7727,       1047,    19.7,  34.8333,2,  34.8325,2,   206.0,3,    0.00,2,    0.00,2,    0.01,2,    25.7337
 49TU9410_1,       PR18,    PN-2,          2,          1,2,19941008,       0240,    27.8167,   127.7727,       1047,    29.3,  34.8338,2,  34.8316,2,   206.0,3,    0.00,2,    0.00,2,    0.01,2,    25.7339
 49TU9410_1,       PR18,    PN-2,          2,         12,2,19941008,       0240,    27.8167,   127.7727,       1047,    52.1,  34.8249,2,  34.8255,2,   206.0,3,    0.00,2,    0.00,2,    0.02,2,    25.5746
 49TU9410_1,       PR18,    PN-2,          2,         11,2,19941008,       0240,    27.8167,   127.7727,       1047,    75.0,  34.8124,2,  34.8150,2,   215.0,3,    0.00,2,    0.00,2,    0.03,2,    23.8490
 49TU9410_1,       PR18,    PN-2,          2,         10,2,19941008,       0240,    27.8167,   127.7727,       1047,   102.8,  34.9234,2,  34.9232,2,   210.0,3,    0.60,2,    0.17,2,    0.09,2,    21.0391
 49TU9410_1,       PR18,    PN-2,          2,          9,2,19941008,       0240,    27.8167,   127.7727,       1047,   126.6,  34.9031,2,  34.9017,2,   211.0,3,    1.40,2,    0.07,2,    0.13,2,    20.1243
 49TU9410_1,       PR18,    PN-2,          2,          8,2,19941008,       0240,    27.8167,   127.7727,       1047,   150.7,  34.9088,2,  34.9025,3,   207.0,3,    1.80,2,    0.05,2,    0.14,2,    19.5683
 49TU9410_1,       PR18,    PN-2,          2,          7,2,19941008,       0240,    27.8167,   127.7727,       1047,   200.3,  34.8588,2,  34.8611,2,   199.0,3,    3.60,2,    0.01,2,    0.27,2,    18.5097
 49TU9410_1,       PR18,    PN-2,          2,          6,2,19941008,       0240,    27.8167,   127.7727,       1047,   249.9,  34.8064,2,  34.8054,2,   202.0,3,    4.90,2,    0.01,2,    0.34,2,    17.4554
 49TU9410_1,       PR18,    PN-2,          2,          5,2,19941008,       0240,    27.8167,   127.7727,       1047,   304.8,  34.7330,2,  34.7339,2,   197.0,3,    6.80,2,    0.00,2,    0.48,2,    16.4876
 49TU9410_1,       PR18,    PN-1,          1,         11,2,19941008,       0805,    27.5000,   128.2398,         19,   404.2,  34.5836,2,  34.5798,2,   186.0,3,   10.90,2,    0.01,2,    0.79,2,    14.4755
 49TU9410_1,       PR18,    PN-1,          1,         10,2,19941008,       0805,    27.5000,   128.2398,         19,   503.8,  34.3938,2,  34.3911,2,   171.0,3,   17.30,2,    0.01,2,    1.29,2,    11.5168
 49TU9410_1,       PR18,    PN-1,          1,          9,2,19941008,       0805,    27.5000,   128.2398,         19,   604.4,  34.3198,2,  34.3174,2,   141.0,3,   23.80,2,    0.01,2,    1.78,2,     9.1351
 49TU9410_1,       PR18,    PN-1,          1,          8,2,19941008,       0805,    27.5000,   128.2398,         19,   706.5,  34.3085,2,  34.3105,2,   114.0,3,   29.50,2,    0.02,2,    2.17,2,     7.2969
 49TU9410_1,       PR18,    PN-1,          1,          7,2,19941008,       0805,    27.5000,   128.2398,         19,   807.4,  34.3133,2,  34.3117,2,   106.0,3,   31.10,2,    0.01,2,    2.38,2,     6.7198
 49TU9410_1,       PR18,    PN-1,          1,          6,2,19941008,       0805,    27.5000,   128.2398,         19,   904.9,  34.3097,2,  34.3105,2,    98.0,3,   33.00,2,    0.00,2,    2.53,2,     6.0606
 49TU9410_1,       PR18,    PN-1,          1,          5,2,19941008,       0805,    27.5000,   128.2398,         19,  1005.1,  34.3040,2,  34.3037,2,    92.0,3,   34.50,2,    0.01,2,    2.60,2,     5.6412
 49TU9410_1,       PR18,    PN-1,          2,     BUCKET,2,19941008,       0853,    27.5040,   128.2223,        962,     0.8,  34.7790,2,     -999,9,   204.0,3,    0.10,2,    0.01,2,    0.01,2,    26.2047
 49TU9410_1,       PR18,    PN-1,          2,         10,2,19941008,       0853,    27.5040,   128.2223,        962,    10.4,  34.7821,2,  34.8138,3,   204.0,3,    0.00,2,    0.00,2,    0.01,2,    26.2075
 49TU9410_1,       PR18,    PN-1,          2,          9,2,19941008,       0853,    27.5040,   128.2223,        962,    19.7,  34.8121,2,  34.8278,3,   204.0,3,    0.00,2,    0.00,2,    0.01,2,    26.2137
 49TU9410_1,       PR18,    PN-1,          2,          8,2,19941008,       0853,    27.5040,   128.2223,        962,    30.9,  34.8292,2,  34.8132,3,   204.0,3,    0.00,2,    0.00,2,    0.02,2,    26.1529
 49TU9410_1,       PR18,    PN-1,          2,          7,2,19941008,       0853,    27.5040,   128.2223,        962,    51.3,  34.8113,2,  34.8556,3,   218.0,3,    0.10,2,    0.03,2,    0.03,2,    25.8631
 49TU9410_1,       PR18,    PN-1,          2,          6,2,19941008,       0853,    27.5040,   128.2223,        962,    76.5,  34.8558,2,  34.8725,3,   212.0,3,    0.80,2,    0.17,2,    0.09,2,    23.3769
 49TU9410_1,       PR18,    PN-1,          2,          5,2,19941008,       0853,    27.5040,   128.2223,        962,   101.0,  34.8544,2,  34.9029,3,   207.0,3,    1.60,2,    0.07,2,    0.14,2,    21.3311
 49TU9410_1,       PR18,    PN-1,          2,          4,2,19941008,       0853,    27.5040,   128.2223,        962,   126.2,  34.9034,2,  34.9003,2,   203.0,3,    2.40,2,    0.03,2,    0.20,2,    19.9451
 49TU9410_1,       PR18,    PN-1,          2,          3,2,19941008,       0853,    27.5040,   128.2223,        962,   150.4,  34.9011,2,  34.8611,3,   203.0,3,    3.60,2,    0.01,2,    0.25,2,    19.2907
 49TU9410_1,       PR18,    PN-1,          2,          2,2,19941008,       0853,    27.5040,   128.2223,        962,   202.7,  34.8594,2,  34.7940,3,   203.0,3,    5.00,2,    0.01,2,    0.36,2,    18.1442
 49TU9410_1,       PR18,    PN-1,          2,          1,2,19941008,       0853,    27.5040,   128.2223,        962,   252.1,  34.7944,2,  34.7319,3,   197.0,3,    6.80,2,    0.01,2,    0.48,2,    17.2487
 49TU9410_1,       PR18,    PN-1,          2,         12,2,19941008,       0853,    27.5040,   128.2223,        962,   304.6,  34.7354,2,  34.7313,2,   197.0,3,    6.80,2,    0.01,2,    0.49,2,    16.4558