BOTTLE,20220706CCHSIOAMB
# Removed empty SAMPNO column
# Changed BTLNBR -999 with flag 2 to "BUCKET" with flag 2
# Changed fill value -9.9999 with flag 9 to -999 for SALNTY
#BOTTLE,20211203CCHSIORKP
# Original header:
#changed all fill flags to 9
#code : jjward hyd_to_exchange.pl 
#original files copied from HTML directory: 20010807
#original HYD file: pr18_ohy.txt   Wed Aug  8 14:08:37 2001
#original SUM file: pr18_osu.txt.tmp   Wed Aug  8 14:09:13 2001
EXPOCODE,SECT_ID,STNNBR,CASTNO,BTLNBR,BTLNBR_FLAG_W,DATE,TIME,LATITUDE,LONGITUDE,DEPTH,CTDPRS,CTDSAL,CTDSAL_FLAG_W,SALNTY,SALNTY_FLAG_W,OXYGEN,OXYGEN_FLAG_W,NITRAT,NITRAT_FLAG_W,NITRIT,NITRIT_FLAG_W,PHSPHT,PHSPHT_FLAG_W,CTDTMP
,,,,,,,,,,METERS,DBAR,PSS-78,,PSS-78,,UMOL/KG,,UMOL/KG,,UMOL/KG,,UMOL/KG,,DEG C
 49TU9410_1,       PR18,    PN-9,          1,     BUCKET,2,19941006,       0424,    30.0082,   124.5108,         62,     0.3,  33.7107,2,     -999,9,   212.0,3,    0.00,2,    0.00,2,    0.08,2,    24.7197
 49TU9410_1,       PR18,    PN-9,          1,          1,2,19941006,       0424,    30.0082,   124.5108,         62,     9.4,  33.7083,2,     -999,9,   212.0,3,    0.00,2,    0.00,2,    0.08,2,    24.6562
 49TU9410_1,       PR18,    PN-9,          1,         11,2,19941006,       0424,    30.0082,   124.5108,         62,    19.6,  33.7167,2,     -999,9,   211.0,3,    0.00,2,    0.01,2,    0.09,2,    24.6547
 49TU9410_1,       PR18,    PN-9,          1,         10,2,19941006,       0424,    30.0082,   124.5108,         62,    29.1,  33.8586,2,     -999,9,   209.0,3,    0.00,2,    0.00,2,    0.08,2,    24.8544
 49TU9410_1,       PR18,    PN-9,          1,          9,2,19941006,       0424,    30.0082,   124.5108,         62,    49.6,  34.0959,2,     -999,9,   174.0,3,    3.40,2,    0.17,2,    0.41,2,    23.7866
 49TU9410_1,       PR18,    PN-9,          1,          7,2,19941006,       0424,    30.0082,   124.5108,         62,    58.2,  34.0958,2,     -999,9,   174.0,3,    3.40,2,    0.19,2,    0.46,2,    23.7815
 49TU9410_1,       PR18,    PN-8,          1,     BUCKET,2,19941006,       0809,    29.5985,   125.0988,         85,     0.3,  34.1016,2,     -999,9,   211.0,3,    0.00,2,    0.00,2,    0.06,2,    25.1813
 49TU9410_1,       PR18,    PN-8,          1,          7,2,19941006,       0809,    29.5985,   125.0988,         85,     9.1,  34.1018,2,  34.1038,2,   211.0,3,    0.00,2,    0.00,2,    0.07,2,    25.1890
 49TU9410_1,       PR18,    PN-8,          1,          6,2,19941006,       0809,    29.5985,   125.0988,         85,    19.9,  34.1028,2,  34.1093,3,   209.0,3,    0.00,2,    0.00,2,    0.07,2,    25.1863
 49TU9410_1,       PR18,    PN-8,          1,          5,2,19941006,       0809,    29.5985,   125.0988,         85,    30.0,  34.1108,2,  34.1126,2,   207.0,3,    0.00,2,    0.00,2,    0.07,2,    25.1920
 49TU9410_1,       PR18,    PN-8,          1,          4,2,19941006,       0809,    29.5985,   125.0988,         85,    49.9,  34.1230,2,  34.1232,2,   203.0,3,    0.20,2,    0.01,2,    0.09,2,    25.1646
 49TU9410_1,       PR18,    PN-8,          1,          3,2,19941006,       0809,    29.5985,   125.0988,         85,    77.5,  34.2537,2,  34.2563,2,   142.0,3,    6.60,2,    0.11,2,    0.65,2,    23.4191
 49TU9410_1,       PR18,    PN-7,          1,     BUCKET,2,19941006,       1141,    29.3020,   125.5478,         93,     0.0,  34.0568,2,     -999,9,   210.0,3,    0.10,2,    0.01,2,    0.07,2,    24.8878
 49TU9410_1,       PR18,    PN-7,          1,          1,2,19941006,       1141,    29.3020,   125.5478,         93,     9.3,  34.0562,2,     -999,9,   210.0,3,    0.00,2,    0.00,2,    0.07,2,    24.8971
 49TU9410_1,       PR18,    PN-7,          1,         12,2,19941006,       1141,    29.3020,   125.5478,         93,    19.3,  34.0568,2,     -999,9,   210.0,3,    0.00,2,    0.00,2,    0.07,2,    24.8951
 49TU9410_1,       PR18,    PN-7,          1,         11,2,19941006,       1141,    29.3020,   125.5478,         93,    30.0,  34.0568,2,     -999,9,   210.0,3,    0.10,2,    0.01,2,    0.08,2,    24.8946
 49TU9410_1,       PR18,    PN-7,          1,         10,2,19941006,       1141,    29.3020,   125.5478,         93,    49.8,  34.0593,2,     -999,9,   209.0,3,    0.10,2,    0.00,2,    0.07,2,    24.8943
 49TU9410_1,       PR18,    PN-7,          1,          9,2,19941006,       1141,    29.3020,   125.5478,         93,    74.7,  34.4503,2,     -999,9,   137.0,3,    7.80,2,    0.05,2,    0.71,2,    21.4653
 49TU9410_1,       PR18,    PN-7,          1,          8,2,19941006,       1141,    29.3020,   125.5478,         93,    88.2,  34.5116,2,     -999,9,   145.0,3,    9.00,2,    0.09,2,    0.80,2,    19.9567
 49TU9410_1,       PR18,    PN-6,          1,     BUCKET,2,19941006,       1459,    28.9977,   125.9745,        118,     0.0,  34.2587,2,     -999,9,   209.0,3,    0.10,2,    0.01,2,    0.05,2,    25.0661
 49TU9410_1,       PR18,    PN-6,          1,          8,2,19941006,       1459,    28.9977,   125.9745,        118,     9.9,  34.2578,2,     -999,9,   207.0,3,    0.00,2,    0.01,2,    0.06,2,    25.0771
 49TU9410_1,       PR18,    PN-6,          1,          7,2,19941006,       1459,    28.9977,   125.9745,        118,    19.4,  34.2576,2,     -999,9,   208.0,3,    0.00,2,    0.00,2,    0.06,2,    25.0761
 49TU9410_1,       PR18,    PN-6,          1,          6,2,19941006,       1459,    28.9977,   125.9745,        118,    29.3,  34.2619,2,     -999,9,   206.0,3,    0.20,2,    0.04,2,    0.06,2,    25.0787
 49TU9410_1,       PR18,    PN-6,          1,          5,2,19941006,       1459,    28.9977,   125.9745,        118,    49.9,  34.2600,2,     -999,9,   206.0,3,    0.00,2,    0.01,2,    0.05,2,    25.0741
 49TU9410_1,       PR18,    PN-6,          1,          4,2,19941006,       1459,    28.9977,   125.9745,        118,    75.4,  34.5299,2,     -999,9,   152.0,3,    9.40,2,    0.03,2,    0.75,2,    19.1519
 49TU9410_1,       PR18,    PN-6,          1,          3,2,19941006,       1459,    28.9977,   125.9745,        118,   100.2,  34.5255,2,     -999,9,   148.0,3,   10.80,2,    0.03,2,    0.87,2,    18.4051
 49TU9410_1,       PR18,    PN-6,          1,          2,2,19941006,       1459,    28.9977,   125.9745,        118,   114.0,  34.5254,2,     -999,9,   148.0,3,   10.80,2,    0.03,2,    0.86,2,    18.4024
 49TU9410_1,       PR18,    PN-5,          1,     BUCKET,2,19941006,       1811,    28.6940,   126.4437,        126,     0.2,  34.0396,2,     -999,9,   211.0,3,    0.00,2,    0.01,2,    0.06,2,    24.8267
 49TU9410_1,       PR18,    PN-5,          1,          3,2,19941006,       1811,    28.6940,   126.4437,        126,    10.4,  34.0386,2,  34.0404,2,   209.0,3,    0.00,2,    0.01,2,    0.07,2,    24.8274
 49TU9410_1,       PR18,    PN-5,          1,          2,2,19941006,       1811,    28.6940,   126.4437,        126,    19.7,  34.0853,2,  34.0781,3,   207.0,3,    0.00,2,    0.01,2,    0.05,2,    24.8667
 49TU9410_1,       PR18,    PN-5,          1,          1,2,19941006,       1811,    28.6940,   126.4437,        126,    29.6,  34.1379,2,  34.1426,3,   205.0,3,    0.10,2,    0.04,2,    0.07,2,    24.8652
 49TU9410_1,       PR18,    PN-5,          1,         12,2,19941006,       1811,    28.6940,   126.4437,        126,    49.7,  34.3428,2,  34.3451,2,   194.0,3,    0.40,2,    0.52,2,    0.14,2,    24.0864
 49TU9410_1,       PR18,    PN-5,          1,         11,2,19941006,       1811,    28.6940,   126.4437,        126,    75.6,  34.4974,2,  34.4992,2,   172.0,3,    4.80,2,    0.12,2,    0.40,2,    22.2739
 49TU9410_1,       PR18,    PN-5,          1,         10,2,19941006,       1811,    28.6940,   126.4437,        126,   100.8,  34.5739,2,  34.5761,2,   163.0,3,    6.00,2,    0.03,2,    0.52,2,    21.4093
 49TU9410_1,       PR18,    PN-5,          1,          9,2,19941006,       1811,    28.6940,   126.4437,        126,   122.6,  34.5524,2,  34.5551,2,   151.0,3,    9.50,2,    0.05,2,    0.79,2,    19.0466
 49TU9410_1,       PR18,   PN-4',          1,     BUCKET,2,19941007,       0757,    28.5527,   126.6827,        150,     0.0,  34.3115,2,     -999,9,   205.0,3,    0.00,2,    0.00,2,    0.03,2,    26.2358
 49TU9410_1,       PR18,   PN-4',          1,         11,2,19941007,       0757,    28.5527,   126.6827,        150,     9.4,  34.3112,2,     -999,9,   204.0,3,    0.00,2,    0.00,2,    0.03,2,    26.2457
 49TU9410_1,       PR18,   PN-4',          1,         10,2,19941007,       0757,    28.5527,   126.6827,        150,    25.9,  34.3131,2,     -999,9,   204.0,3,    0.00,2,    0.00,2,    0.03,2,    26.2473
 49TU9410_1,       PR18,   PN-4',          1,          9,2,19941007,       0757,    28.5527,   126.6827,        150,    50.3,  34.3445,2,     -999,9,   203.0,3,    0.10,2,    0.01,2,    0.03,2,    26.1167
 49TU9410_1,       PR18,   PN-4',          1,          8,2,19941007,       0757,    28.5527,   126.6827,        150,    75.1,  34.6308,2,     -999,9,   202.0,3,    0.00,2,    0.01,2,    0.03,2,    24.0237
 49TU9410_1,       PR18,   PN-4',          1,          7,2,19941007,       0757,    28.5527,   126.6827,        150,   101.5,  34.7491,2,     -999,9,   191.0,3,    1.20,2,    0.35,2,    0.16,2,    21.9309
 49TU9410_1,       PR18,   PN-4',          1,          6,2,19941007,       0757,    28.5527,   126.6827,        150,   115.2,  34.7675,2,     -999,9,   186.0,3,    3.00,2,    0.14,2,    0.25,2,    20.7186
 49TU9410_1,       PR18,   PN-4',          1,          5,2,19941007,       0757,    28.5527,   126.6827,        150,   140.3,  34.7730,2,     -999,9,   183.0,3,    4.20,2,    0.07,2,    0.33,2,    18.6129
 49TU9410_1,       PR18,    PN-4,          1,     BUCKET,2,19941007,       1035,    28.4018,   126.8982,        270,     0.0,  34.2525,2,     -999,9,   206.0,3,    0.10,2,    0.01,2,    0.04,2,    26.0953
 49TU9410_1,       PR18,    PN-4,          1,          9,2,19941007,       1035,    28.4018,   126.8982,        270,     8.5,  34.2515,2,     -999,9,   206.0,3,    0.00,2,    0.01,2,    0.02,2,    26.0948
 49TU9410_1,       PR18,    PN-4,          1,          8,2,19941007,       1035,    28.4018,   126.8982,        270,    19.0,  34.2501,2,     -999,9,   207.0,3,    0.00,2,    0.01,2,    0.03,2,    26.1014
 49TU9410_1,       PR18,    PN-4,          1,          7,2,19941007,       1035,    28.4018,   126.8982,        270,    29.4,  34.2538,2,     -999,9,   206.0,3,    0.00,2,    0.01,2, -999.00,5,    26.1124
 49TU9410_1,       PR18,    PN-4,          1,          6,2,19941007,       1035,    28.4018,   126.8982,        270,    49.8,  34.2577,2,     -999,9,   205.0,3,    0.00,2,    0.02,2,    0.03,2,    26.1185
 49TU9410_1,       PR18,    PN-4,          1,          5,2,19941007,       1035,    28.4018,   126.8982,        270,    74.1,  34.4473,2,     -999,9,   195.0,3,    1.20,2,    0.52,2,    0.16,2,    24.5824
 49TU9410_1,       PR18,    PN-4,          1,          4,2,19941007,       1035,    28.4018,   126.8982,        270,   101.0,  34.7057,2,     -999,9,   191.0,3,    1.70,2,    0.30,2,    0.18,2,    23.1879
 49TU9410_1,       PR18,    PN-4,          1,          3,2,19941007,       1035,    28.4018,   126.8982,        270,   125.6,  34.7503,2,     -999,9,   187.0,3,    3.50,2,    0.07,2,    0.30,2,    21.3134
 49TU9410_1,       PR18,    PN-4,          1,          2,2,19941007,       1035,    28.4018,   126.8982,        270,   149.4,  34.7569,2,     -999,9,   182.0,3,    4.80,2,    0.05,2,    0.40,2,    20.0370
 49TU9410_1,       PR18,    PN-4,          1,          1,2,19941007,       1035,    28.4018,   126.8982,        270,   200.7,  34.6247,2,     -999,9,   173.0,3,   10.90,2,    0.03,2,    0.82,2,    15.3726
 49TU9410_1,       PR18,    PN-4,          1,         12,2,19941007,       1035,    28.4018,   126.8982,        270,   259.9,  34.4384,2,     -999,9,   155.0,3,   17.80,2,    0.02,2,    1.36,2,    11.9523
 49TU9410_1,       PR18,   PN-3',          1,          4,2,19941007,       1350,    28.2587,   127.1253,         19,   401.8,  34.4230,2,  34.4227,2,   160.0,3,   17.30,2,    0.01,2,    1.33,2,    11.8559
 49TU9410_1,       PR18,   PN-3',          1,          3,2,19941007,       1350,    28.2587,   127.1253,         19,   503.2,  34.3129,2,  34.3150,2,   138.0,3,   23.70,2,    0.02,2,    1.81,2,     9.2687
 49TU9410_1,       PR18,   PN-3',          1,          2,2,19941007,       1350,    28.2587,   127.1253,         19,   602.8,  34.3141,2,  34.3154,2,   107.0,3,   30.50,2,    0.01,2,    2.38,2,     6.8161
 49TU9410_1,       PR18,   PN-3',          1,          1,2,19941007,       1350,    28.2587,   127.1253,         19,   702.9,  34.3262,2,  34.3304,2,    91.0,3,   33.70,2,    0.00,2,    2.58,2,     5.7013
 49TU9410_1,       PR18,   PN-3',          1,         12,2,19941007,       1350,    28.2587,   127.1253,         19,   805.4,  34.3548,2,  34.3522,2,    86.0,3,   34.60,2,    0.01,2,    2.66,2,     5.2750
 49TU9410_1,       PR18,   PN-3',          1,         11,2,19941007,       1350,    28.2587,   127.1253,         19,   906.7,  34.3854,2,  34.3813,2,    77.0,3,   36.20,2,    0.02,2,    2.80,2,     4.7602
 49TU9410_1,       PR18,   PN-3',          1,         10,2,19941007,       1350,    28.2587,   127.1253,         19,   944.8,  34.3994,2,  34.3978,2,    74.0,3,   36.90,2,    0.01,2,    2.87,2,     4.4373
 49TU9410_1,       PR18,   PN-3',          2,     BUCKET,2,19941007,       1428,    28.2688,   127.1147,        945,     0.0,  34.2845,2,     -999,9,   204.0,3,    0.10,2,    0.01,2,    0.03,2,    26.3936
 49TU9410_1,       PR18,   PN-3',          2,          3,2,19941007,       1428,    28.2688,   127.1147,        945,     7.9,  34.2850,2,  34.2822,2,   205.0,3,    0.00,2,    0.00,2,    0.02,2,    26.4006
 49TU9410_1,       PR18,   PN-3',          2,          2,2,19941007,       1428,    28.2688,   127.1147,        945,    20.0,  34.2863,2,  34.2832,2,   204.0,3,    0.00,2,    0.00,2,    0.03,2,    26.3966
 49TU9410_1,       PR18,   PN-3',          2,          1,2,19941007,       1428,    28.2688,   127.1147,        945,    31.0,  34.3375,2,  34.3357,2,   205.0,3,    0.00,2,    0.00,2,    0.02,2,    26.0814
 49TU9410_1,       PR18,   PN-3',          2,         12,2,19941007,       1428,    28.2688,   127.1147,        945,    50.4,  34.3642,2,  34.3638,2,   204.0,3,    0.00,2,    0.00,2,    0.04,2,    25.7193
 49TU9410_1,       PR18,   PN-3',          2,         11,2,19941007,       1428,    28.2688,   127.1147,        945,    76.0,  34.6965,2,  34.6922,2,   191.0,3,    1.70,2,    0.23,2,    0.19,2,    23.8104
 49TU9410_1,       PR18,   PN-3',          2,         10,2,19941007,       1428,    28.2688,   127.1147,        945,   100.8,  34.8084,2,  34.8004,3,   187.0,3,    2.30,2,    0.09,2,    0.24,2,    22.4762
 49TU9410_1,       PR18,   PN-3',          2,          9,2,19941007,       1428,    28.2688,   127.1147,        945,   126.2,  34.9080,2,  34.8987,3,   192.0,3,    2.60,2,    0.02,2,    0.24,2,    20.8509
 49TU9410_1,       PR18,   PN-3',          2,          8,2,19941007,       1428,    28.2688,   127.1147,        945,   150.3,  34.8670,2,  34.8627,2,   189.0,3,    3.90,2,    0.01,2,    0.33,2,    19.6717
 49TU9410_1,       PR18,   PN-3',          2,          7,2,19941007,       1428,    28.2688,   127.1147,        945,   200.6,  34.8001,2,  34.7995,2,   188.0,3,    5.90,2,    0.01,2,    0.45,2,    17.6989
 49TU9410_1,       PR18,   PN-3',          2,          6,2,19941007,       1428,    28.2688,   127.1147,        945,   250.9,  34.6780,2,  34.6812,2,   184.0,3,    8.60,2,    0.01,2,    0.65,2,    15.8965
 49TU9410_1,       PR18,   PN-3',          2,          5,2,19941007,       1428,    28.2688,   127.1147,        945,   297.9,  34.5578,2,  34.5751,3,   184.0,3,   11.10,2,    0.01,2,    0.84,2,    14.2118
 49TU9410_1,       PR18,    PN-3,          1,         10,2,19941007,       1850,    28.1035,   127.3380,          1,   401.8,  34.4930,2,  34.4858,3,   165.0,3,   15.00,2,    0.01,2,    1.15,2,    13.0217
 49TU9410_1,       PR18,    PN-3,          1,          9,2,19941007,       1850,    28.1035,   127.3380,          1,   505.7,  34.3915,2,  34.3897,2,   146.0,3,   20.70,2,    0.00,2,    1.58,2,    10.7991
 49TU9410_1,       PR18,    PN-3,          1,          8,2,19941007,       1850,    28.1035,   127.3380,          1,   604.5,  34.2381,2,  34.2365,2,   128.0,3,   26.60,2,    0.01,2,    2.05,2,     8.0254
 49TU9410_1,       PR18,    PN-3,          1,          7,2,19941007,       1850,    28.1035,   127.3380,          1,   703.6,  34.3216,2,  34.3205,2,    99.0,3,   32.00,2,    0.01,2,    2.45,2,     6.4627
 49TU9410_1,       PR18,    PN-3,          1,          6,2,19941007,       1850,    28.1035,   127.3380,          1,   806.8,  34.3466,2,  34.3596,3,    90.0,3,   34.90,2,    0.01,2,    2.66,2,     5.4239
 49TU9410_1,       PR18,    PN-3,          1,          5,2,19941007,       1850,    28.1035,   127.3380,          1,   908.6,  34.3722,2,  34.3718,2,    81.0,3,   35.90,2,    0.01,2,    2.75,2,     4.9549
 49TU9410_1,       PR18,    PN-3,          1,          4,2,19941007,       1850,    28.1035,   127.3380,          1,  1007.4,  34.3841,2,  34.3864,2,    76.0,3,   37.40,2,    0.01,2,    2.87,2,     4.4064
 49TU9410_1,       PR18,    PN-3,          2,     BUCKET,2,19941007,       1935,    28.1113,   127.3212,       1032,     0.0,  34.7767,2,     -999,9,   206.0,3,    0.20,2,    0.01,2,    0.02,2,    25.9041
 49TU9410_1,       PR18,    PN-3,          2,          9,2,19941007,       1935,    28.1113,   127.3212,       1032,     9.1,  34.7762,2,  34.7768,2,   206.0,3,    0.00,2,    0.00,2,    0.02,2,    25.9073
 49TU9410_1,       PR18,    PN-3,          2,          8,2,19941007,       1935,    28.1113,   127.3212,       1032,    18.5,  34.7770,2,  34.7825,3,   206.0,3,    0.00,2,    0.00,2,    0.02,2,    25.9123
 49TU9410_1,       PR18,    PN-3,          2,          7,2,19941007,       1935,    28.1113,   127.3212,       1032,    28.5,  34.7771,2,  34.7754,2,   205.0,3,    0.10,2,    0.00,2,    0.02,2,    25.9062
 49TU9410_1,       PR18,    PN-3,          2,          6,2,19941007,       1935,    28.1113,   127.3212,       1032,    49.8,  34.7808,2,  34.7804,2,   206.0,3,    0.00,2,    0.00,2,    0.02,2,    25.7396
 49TU9410_1,       PR18,    PN-3,          2,          5,2,19941007,       1935,    28.1113,   127.3212,       1032,    74.4,  34.8796,2,  34.8773,2,   220.0,3,    0.00,2,    0.01,2,    0.02,2,    22.9840
 49TU9410_1,       PR18,    PN-3,          2,          4,2,19941007,       1935,    28.1113,   127.3212,       1032,   101.4,  34.9149,2,  34.9247,3,   210.0,3,    0.60,2,    0.22,2,    0.09,2,    20.6908
 49TU9410_1,       PR18,    PN-3,          2,          3,2,19941007,       1935,    28.1113,   127.3212,       1032,   124.0,  34.9017,2,     -999,9,   194.0,3,    3.90,2,    0.01,2,    0.30,2,    19.8810
 49TU9410_1,       PR18,    PN-3,          2,          2,2,19941007,       1935,    28.1113,   127.3212,       1032,   150.8,  34.8624,2,  34.8603,2,   194.0,3,    3.90,2,    0.01,2,    0.30,2,    18.9174
 49TU9410_1,       PR18,    PN-3,          2,          1,2,19941007,       1935,    28.1113,   127.3212,       1032,   200.0,  34.7920,2,  34.7916,2,   192.0,3,    5.80,2,    0.01,2,    0.42,2,    17.6980
 49TU9410_1,       PR18,    PN-3,          2,         12,2,19941007,       1935,    28.1113,   127.3212,       1032,   250.2,  34.7603,2,  34.7624,2,   196.0,3,    6.30,2,    0.01,2,    0.44,2,    16.9337
 49TU9410_1,       PR18,    PN-3,          2,         11,2,19941007,       1935,    28.1113,   127.3212,       1032,   299.9,  34.6109,2,  34.6188,3,   178.0,3,   10.80,2,    0.01,2,    0.80,2,    14.9632