BOTTLE,20220706CCHSIOAMB
EXPOCODE,SECT_ID,STNNBR,CASTNO,BTLNBR,BTLNBR_FLAG_W,DATE,TIME,LATITUDE,LONGITUDE,DEPTH,CTDPRS,CTDSAL,CTDSAL_FLAG_W,SALNTY,SALNTY_FLAG_W,OXYGEN,OXYGEN_FLAG_W,NITRAT,NITRAT_FLAG_W,NITRIT,NITRIT_FLAG_W,PHSPHT,PHSPHT_FLAG_W,CTDTMP
,,,,,,,,,,METERS,DBAR,PSS-78,,PSS-78,,UMOL/KG,,UMOL/KG,,UMOL/KG,,UMOL/KG,,DEG C
 49TU9407_1,       PR18,    PN-3,          2,     BUCKET,2,19940724,       0534,    28.0873,   127.3633,       1116,     0.0,  34.3368,2,     -999,9,   196.0,3,    0.00,2,    0.00,2,    0.01,2,    30.1766
 49TU9407_1,       PR18,    PN-3,          2,          6,2,19940724,       0534,    28.0873,   127.3633,       1116,     9.0,  34.3306,2,  34.3332,2,   197.0,3,    0.00,2,    0.00,2,    0.01,2,    29.8955
 49TU9407_1,       PR18,    PN-3,          2,          5,2,19940724,       0534,    28.0873,   127.3633,       1116,    18.5,  34.3253,2,  34.3275,2,   197.0,3,    0.00,2,    0.01,2,    0.01,2,    29.8278
 49TU9407_1,       PR18,    PN-3,          2,          4,2,19940724,       0534,    28.0873,   127.3633,       1116,    28.5,  34.3152,2,  34.3081,3,   206.0,3,    0.00,2,    0.01,2,    0.02,2,    29.0678
 49TU9407_1,       PR18,    PN-3,          2,          3,2,19940724,       0534,    28.0873,   127.3633,       1116,    50.1,  34.5982,2,  34.5970,2,   208.0,3,    0.00,2,    0.01,2,    0.02,2,    27.1388
 49TU9407_1,       PR18,    PN-3,          2,          2,2,19940724,       0534,    28.0873,   127.3633,       1116,    72.9,  34.7290,2,  34.7296,2,   204.0,3,    0.00,2,    0.10,2,    0.06,2,    25.1825
 49TU9407_1,       PR18,    PN-3,          2,          1,2,19940724,       0534,    28.0873,   127.3633,       1116,    99.6,  34.8292,2,  34.8337,2,   196.0,3,    0.90,2,    0.18,2,    0.12,2,    24.0006
 49TU9407_1,       PR18,    PN-3,          2,         12,2,19940724,       0534,    28.0873,   127.3633,       1116,   125.2,  34.8713,2,  34.8718,2,   197.0,3,    1.50,2,    0.14,2,    0.14,2,    22.5753
 49TU9407_1,       PR18,    PN-3,          2,         11,2,19940724,       0534,    28.0873,   127.3633,       1116,   149.8,  34.8981,2,  34.9010,2,   216.0,3,    0.20,2,    0.20,2,    0.06,2,    21.2641
 49TU9407_1,       PR18,    PN-3,          2,         10,2,19940724,       0534,    28.0873,   127.3633,       1116,   201.4,  34.8695,2,  34.8712,2,   200.0,3,    3.40,2,    0.02,2,    0.21,2,    18.9447
 49TU9407_1,       PR18,    PN-3,          2,          9,2,19940724,       0534,    28.0873,   127.3633,       1116,   250.6,  34.8247,2,  34.8449,3,   201.0,3,    4.40,2,    0.02,2,    0.25,2,    17.8972
 49TU9407_1,       PR18,    PN-3,          2,          8,2,19940724,       0534,    28.0873,   127.3633,       1116,   300.5,  34.7460,2,  34.7501,2,   196.0,3,    6.50,2,    0.02,2,    0.43,2,    16.7318
 49TU9407_1,       PR18,    PN-2,          1,          1,2,19940724,       1119,    27.7987,   127.7980,         19,   402.2,  34.5601,2,  34.5582,2,   190.0,3,   11.60,2,    0.01,2,    0.86,2,    14.1676
 49TU9407_1,       PR18,    PN-2,          1,         12,2,19940724,       1119,    27.7987,   127.7980,         19,   502.9,  34.4174,2,  34.4182,2,   174.0,3,   15.70,2,    0.01,2,    1.16,2,    12.2380
 49TU9407_1,       PR18,    PN-2,          1,         11,2,19940724,       1119,    27.7987,   127.7980,         19,   604.2,  34.3299,2,  34.3307,2,   147.0,3,   22.70,2,    0.01,2,    1.72,2,     9.6932
 49TU9407_1,       PR18,    PN-2,          1,         10,2,19940724,       1119,    27.7987,   127.7980,         19,   705.2,  34.3065,2,  34.3087,2,   117.0,3,   29.00,2,    0.01,2,    2.23,2,     7.5715
 49TU9407_1,       PR18,    PN-2,          1,          9,2,19940724,       1119,    27.7987,   127.7980,         19,   806.4,  34.3057,2,  34.3043,2,    90.0,3,   34.50,2,    0.01,2,    2.67,2,     5.7604
 49TU9407_1,       PR18,    PN-2,          1,          8,2,19940724,       1119,    27.7987,   127.7980,         19,   907.6,  34.3554,2,  34.3545,2,    80.0,3,   36.40,2,    0.01,2,    2.82,2,     4.9611
 49TU9407_1,       PR18,    PN-2,          1,          7,2,19940724,       1119,    27.7987,   127.7980,         19,   940.2,  34.3595,2,  34.3598,2,    82.0,3,   36.70,2,    0.01,2,    2.85,2,     4.8898
 49TU9407_1,       PR18,    PN-2,          2,     BUCKET,2,19940724,       1204,    27.7893,   127.7938,        871,     0.0,  34.6378,2,     -999,9,   198.0,3,    0.00,2,    0.00,2,    0.02,2,    29.2003
 49TU9407_1,       PR18,    PN-2,          2,         12,2,19940724,       1204,    27.7893,   127.7938,        871,     9.4,  34.6386,2,  34.6392,2,   198.0,3,    0.00,2,    0.00,2,    0.02,2,    29.1996
 49TU9407_1,       PR18,    PN-2,          2,         11,2,19940724,       1204,    27.7893,   127.7938,        871,    19.7,  34.6372,2,  34.6323,3,   201.0,3,    0.00,2,    0.00,2,    0.02,2,    28.1889
 49TU9407_1,       PR18,    PN-2,          2,         10,2,19940724,       1204,    27.7893,   127.7938,        871,    28.6,  34.6357,2,  34.6358,2,   214.0,3,    0.00,2,    0.00,2,    0.02,2,    26.6792
 49TU9407_1,       PR18,    PN-2,          2,          9,2,19940724,       1204,    27.7893,   127.7938,        871,    49.4,  34.7428,2,  34.7407,2,   220.0,3,    0.00,2,    0.00,2,    0.02,2,    25.0268
 49TU9407_1,       PR18,    PN-2,          2,          8,2,19940724,       1204,    27.7893,   127.7938,        871,    74.9,  34.8940,2,  34.8933,2,   226.0,3,    0.00,2,    0.01,2,    0.02,2,    22.8952
 49TU9407_1,       PR18,    PN-2,          2,          7,2,19940724,       1204,    27.7893,   127.7938,        871,   100.6,  34.9314,2,  34.9302,2,   224.0,3,    0.00,2,    0.00,2,    0.03,2,    21.8465
 49TU9407_1,       PR18,    PN-2,          2,          6,2,19940724,       1204,    27.7893,   127.7938,        871,   125.3,  34.9424,2,  34.9394,2,   220.0,3,    0.10,2,    0.04,2,    0.05,2,    20.9218
 49TU9407_1,       PR18,    PN-2,          2,          5,2,19940724,       1204,    27.7893,   127.7938,        871,   150.9,  34.9357,2,  34.9347,2,   215.0,3,    0.40,2,    0.17,2,    0.08,2,    20.1887
 49TU9407_1,       PR18,    PN-2,          2,          4,2,19940724,       1204,    27.7893,   127.7938,        871,   200.5,  34.9011,2,  34.8998,2,   207.0,3,    2.40,2,    0.03,2,    0.20,2,    19.0508
 49TU9407_1,       PR18,    PN-2,          2,          3,2,19940724,       1204,    27.7893,   127.7938,        871,   250.9,  34.8295,2,  34.8327,2,   202.0,3,    4.30,2,    0.01,2,    0.31,2,    17.9482
 49TU9407_1,       PR18,    PN-2,          2,          2,2,19940724,       1204,    27.7893,   127.7938,        871,   298.3,  34.7603,2,  34.7704,3,   199.0,3,    5.90,2,    0.01,2,    0.43,2,    16.9166
 49TU9407_1,       PR18,    PN-1,          1,          9,2,19940724,       1626,    27.5005,   128.2480,         16,   403.0,  34.6111,2,     -999,9,   194.0,3,   10.40,2,    0.01,2,    0.73,2,    14.8395
 49TU9407_1,       PR18,    PN-1,          1,          8,2,19940724,       1626,    27.5005,   128.2480,         16,   503.1,  34.4359,2,     -999,9,   177.0,3,   14.80,2,    0.01,2,    1.09,2,    12.5403
 49TU9407_1,       PR18,    PN-1,          1,          7,2,19940724,       1626,    27.5005,   128.2480,         16,   603.8,  34.3245,2,     -999,9,   159.0,3,   20.80,2,    0.01,2,    1.56,2,    10.2030
 49TU9407_1,       PR18,    PN-1,          1,          6,2,19940724,       1626,    27.5005,   128.2480,         16,   705.5,  34.3085,2,     -999,9,   118.0,3,   28.60,2,    0.01,2,    2.16,2,     7.4244
 49TU9407_1,       PR18,    PN-1,          1,          5,2,19940724,       1626,    27.5005,   128.2480,         16,   806.5,  34.3188,2,     -999,9,   109.0,3,   30.90,2,    0.00,2,    2.34,2,     6.9686
 49TU9407_1,       PR18,    PN-1,          1,          4,2,19940724,       1626,    27.5005,   128.2480,         16,   907.7,  34.3253,2,     -999,9,   100.0,3,   32.50,2,    0.00,2,    2.47,2,     6.4838
 49TU9407_1,       PR18,    PN-1,          1,          3,2,19940724,       1626,    27.5005,   128.2480,         16,  1009.0,  34.3155,2,     -999,9,    95.0,3,   34.00,2,    0.00,2,    2.59,2,     5.7243
 49TU9407_1,       PR18,    PN-1,          1,          1,2,19940724,       1626,    27.5005,   128.2480,         16,  1030.8,  34.3145,2,     -999,9,    90.0,3,   34.80,2,    0.01,2,    2.67,2,     5.6795
 49TU9407_1,       PR18,    PN-1,          2,     BUCKET,2,19940724,       1712,    27.4950,   128.2487,       1030,     0.0,  34.6422,2,     -999,9,   198.0,3,    0.10,2,    0.01,2,    0.00,2,    29.1712
 49TU9407_1,       PR18,    PN-1,          2,          8,2,19940724,       1712,    27.4950,   128.2487,       1030,     9.5,  34.6441,2,     -999,9,   197.0,3,    0.00,2,    0.00,2,    0.00,2,    29.1224
 49TU9407_1,       PR18,    PN-1,          2,          7,2,19940724,       1712,    27.4950,   128.2487,       1030,    19.3,  34.6411,2,     -999,9,   209.0,3,    0.00,2,    0.00,2,    0.00,2,    27.0807
 49TU9407_1,       PR18,    PN-1,          2,          6,2,19940724,       1712,    27.4950,   128.2487,       1030,    29.1,  34.6919,2,     -999,9,   214.0,3,    0.00,2,    0.01,2,    0.00,2,    25.6748
 49TU9407_1,       PR18,    PN-1,          2,          5,2,19940724,       1712,    27.4950,   128.2487,       1030,    49.1,  34.8085,2,     -999,9,   224.0,3,    0.10,2,    0.01,2,    0.00,2,    23.1477
 49TU9407_1,       PR18,    PN-1,          2,          4,2,19940724,       1712,    27.4950,   128.2487,       1030,    74.2,  34.8968,2,     -999,9,   224.0,3,    0.10,2,    0.01,2,    0.01,2,    22.0067
 49TU9407_1,       PR18,    PN-1,          2,          3,2,19940724,       1712,    27.4950,   128.2487,       1030,    99.9,  34.9212,2,     -999,9,   221.0,3,    0.30,2,    0.05,2,    0.03,2,    20.7664
 49TU9407_1,       PR18,    PN-1,          2,          2,2,19940724,       1712,    27.4950,   128.2487,       1030,   125.3,  34.9328,2,     -999,9,   215.0,3,    0.80,2,    0.13,2,    0.07,2,    20.0446
 49TU9407_1,       PR18,    PN-1,          2,          1,2,19940724,       1712,    27.4950,   128.2487,       1030,   151.2,  34.9306,2,     -999,9,   213.0,3,    1.20,2,    0.13,2,    0.10,2,    19.6813
 49TU9407_1,       PR18,    PN-1,          2,         12,2,19940724,       1712,    27.4950,   128.2487,       1030,   201.0,  34.8956,2,     -999,9,   206.0,3,    2.60,2,    0.03,2,    0.18,2,    18.8770
 49TU9407_1,       PR18,    PN-1,          2,         11,2,19940724,       1712,    27.4950,   128.2487,       1030,   250.6,  34.8375,2,     -999,9,   202.0,3,    4.30,2,    0.02,2,    0.27,2,    18.0276
 49TU9407_1,       PR18,    PN-1,          2,         10,2,19940724,       1712,    27.4950,   128.2487,       1030,   290.7,  34.8048,2,     -999,9,   200.0,3,    4.90,2,    0.01,2,    0.32,2,    17.5577