BOTTLE,20220706CCHSIOAMB
# Removed empty SAMPNO column
# Changed BTLNBR -999 with flag 2 to "BUCKET" with flag 2
# Changed fill value -9.9999 with flag 9 to -999 for SALNTY
#BOTTLE,20211203CCHSIORKP
# Original header:
#changed all fill flags to 9
#code : jjward hyd_to_exchange.pl 
#original files copied from HTML directory: 20010807
#original HYD file: pr18_nhy.txt   Wed Aug  8 13:56:46 2001
#original SUM file: pr18_nsu.txt   Wed Aug  8 13:57:44 2001
EXPOCODE,SECT_ID,STNNBR,CASTNO,BTLNBR,BTLNBR_FLAG_W,DATE,TIME,LATITUDE,LONGITUDE,DEPTH,CTDPRS,CTDSAL,CTDSAL_FLAG_W,SALNTY,SALNTY_FLAG_W,OXYGEN,OXYGEN_FLAG_W,NITRAT,NITRAT_FLAG_W,NITRIT,NITRIT_FLAG_W,PHSPHT,PHSPHT_FLAG_W,CTDTMP
,,,,,,,,,,METERS,DBAR,PSS-78,,PSS-78,,UMOL/KG,,UMOL/KG,,UMOL/KG,,UMOL/KG,,DEG C
 49TU9407_1,       PR18,    PN-9,          1,     BUCKET,2,19940722,       2030,    29.9980,   124.5113,         64,     0.0,  32.7958,2,     -999,9,   199.0,3,    0.00,2,    0.00,2,    0.05,2,    29.4378
 49TU9407_1,       PR18,    PN-9,          1,          1,2,19940722,       2030,    29.9980,   124.5113,         64,     9.8,  33.8152,2,     -999,9,   200.0,3,    0.00,2,    0.00,2,    0.04,2,    29.7512
 49TU9407_1,       PR18,    PN-9,          1,         12,2,19940722,       2030,    29.9980,   124.5113,         64,    19.6,  33.8585,2,     -999,9,   202.0,3,    0.00,2,    0.01,2,    0.04,2,    29.0992
 49TU9407_1,       PR18,    PN-9,          1,         11,2,19940722,       2030,    29.9980,   124.5113,         64,    29.3,  34.0959,2,     -999,9,   206.0,3,    0.00,2,    0.01,2,    0.05,2,    26.2189
 49TU9407_1,       PR18,    PN-9,          1,         10,2,19940722,       2030,    29.9980,   124.5113,         64,    49.1,  34.4793,2,     -999,9,   142.0,3,    7.20,2,    0.23,2,    0.61,2,    20.6675
 49TU9407_1,       PR18,    PN-9,          1,          9,2,19940722,       2030,    29.9980,   124.5113,         64,    61.1,  34.4897,2,     -999,9,   141.0,3,    7.70,2,    0.24,2,    0.66,2,    20.4570
 49TU9407_1,       PR18,    PN-8,          1,     BUCKET,2,19940723,       0048,    29.6030,   125.1003,         86,     0.1,  32.7587,2,     -999,9,   194.0,3,    0.00,2,    0.00,2,    0.07,2,    30.4472
 49TU9407_1,       PR18,    PN-8,          1,          2,2,19940723,       0048,    29.6030,   125.1003,         86,     9.4,  33.0689,2,  33.0281,3,   197.0,3,    0.00,2,    0.00,2,    0.06,2,    30.1124
 49TU9407_1,       PR18,    PN-8,          1,          1,2,19940723,       0048,    29.6030,   125.1003,         86,    18.9,  33.2450,2,  33.2985,3,   202.0,3,    0.00,2,    0.00,2,    0.05,2,    28.9170
 49TU9407_1,       PR18,    PN-8,          1,         12,2,19940723,       0048,    29.6030,   125.1003,         86,    29.6,  34.2115,2,  34.2025,3,   212.0,3,    0.00,2,    0.00,2,    0.04,2,    26.1945
 49TU9407_1,       PR18,    PN-8,          1,         11,2,19940723,       0048,    29.6030,   125.1003,         86,    50.1,  34.4324,2,  34.4287,2,   181.0,3,    0.10,2,    0.12,2,    0.13,2,    24.5681
 49TU9407_1,       PR18,    PN-8,          1,         10,2,19940723,       0048,    29.6030,   125.1003,         86,    78.2,  34.4967,2,  34.5031,3,   153.0,3,    5.80,2,    0.12,2,    0.57,2,    22.0859
 49TU9407_1,       PR18,    PN-7,          1,     BUCKET,2,19940723,       0416,    29.2982,   125.5477,         89,     0.2,  32.6087,2,     -999,9,   195.0,3,    0.00,2,    0.01,2,    0.03,2,    30.4635
 49TU9407_1,       PR18,    PN-7,          1,          8,2,19940723,       0416,    29.2982,   125.5477,         89,     9.0,  32.8358,2,     -999,9,   197.0,3,    0.00,2,    0.01,2,    0.03,2,    30.2326
 49TU9407_1,       PR18,    PN-7,          1,          7,2,19940723,       0416,    29.2982,   125.5477,         89,    18.1,  33.8217,2,     -999,9,   199.0,3,    0.10,2,    0.01,2,    0.03,2,    29.9635
 49TU9407_1,       PR18,    PN-7,          1,          6,2,19940723,       0416,    29.2982,   125.5477,         89,    29.3,  34.0756,2,     -999,9,   216.0,3,    0.00,2,    0.01,2,    0.06,2,    26.7460
 49TU9407_1,       PR18,    PN-7,          1,          5,2,19940723,       0416,    29.2982,   125.5477,         89,    49.6,  34.4266,2,     -999,9,   196.0,3,    0.10,2,    0.01,2,    0.12,2,    24.9750
 49TU9407_1,       PR18,    PN-7,          1,          4,2,19940723,       0416,    29.2982,   125.5477,         89,    73.9,  34.4636,2,     -999,9,   158.0,3,    6.30,2,    0.11,2,    0.59,2,    20.7002
 49TU9407_1,       PR18,    PN-7,          1,          3,2,19940723,       0416,    29.2982,   125.5477,         89,    86.9,  34.5328,2,     -999,9,   155.0,3,    9.20,2,    0.09,2,    0.80,2,    18.9031
 49TU9407_1,       PR18,    PN-6,          1,     BUCKET,2,19940723,       0736,    28.9970,   125.9932,        117,     0.0,  34.2410,2,     -999,9,   196.0,3,    0.00,2,    0.00,2,    0.00,2,    30.2129
 49TU9407_1,       PR18,    PN-6,          1,          2,2,19940723,       0736,    28.9970,   125.9932,        117,     9.4,  34.2447,2,     -999,9,   197.0,3,    0.00,2,    0.00,2,    0.01,2,    29.9875
 49TU9407_1,       PR18,    PN-6,          1,          1,2,19940723,       0736,    28.9970,   125.9932,        117,    19.1,  34.2223,2,     -999,9,   200.0,3,    0.00,2,    0.01,2,    0.00,2,    29.6584
 49TU9407_1,       PR18,    PN-6,          1,         12,2,19940723,       0736,    28.9970,   125.9932,        117,    29.8,  34.1673,2,     -999,9,   211.0,3,    0.00,2,    0.01,2,    0.01,2,    27.6531
 49TU9407_1,       PR18,    PN-6,          1,         11,2,19940723,       0736,    28.9970,   125.9932,        117,    50.1,  34.2796,2,     -999,9,   214.0,3,    0.00,2,    0.01,2,    0.03,2,    25.5693
 49TU9407_1,       PR18,    PN-6,          1,         10,2,19940723,       0736,    28.9970,   125.9932,        117,    76.2,  34.5013,2,     -999,9,   194.0,3,    2.20,2,    0.45,2,    0.29,2,    21.2731
 49TU9407_1,       PR18,    PN-6,          1,          9,2,19940723,       0736,    28.9970,   125.9932,        117,   107.7,  34.6280,2,     -999,9,   163.0,3,    9.00,2,    0.08,2,    0.72,2,    18.0262
 49TU9407_1,       PR18,    PN-5,          1,     BUCKET,2,19940723,       1122,    28.6985,   126.4458,        129,     0.0,  33.9264,2,     -999,9,   197.0,3,    0.10,2,    0.00,2,    0.03,2,    30.1336
 49TU9407_1,       PR18,    PN-5,          1,          9,2,19940723,       1122,    28.6985,   126.4458,        129,     9.0,  33.9366,2,  33.9360,2,   197.0,3,    0.10,2,    0.01,2,    0.03,2,    30.1335
 49TU9407_1,       PR18,    PN-5,          1,          8,2,19940723,       1122,    28.6985,   126.4458,        129,    19.7,  34.0996,2,  34.0973,2,   209.0,3,    0.10,2,    0.01,2,    0.03,2,    28.4651
 49TU9407_1,       PR18,    PN-5,          1,          7,2,19940723,       1122,    28.6985,   126.4458,        129,    29.6,  34.2578,2,  34.2548,2,   216.0,3,    0.00,2,    0.01,2,    0.03,2,    26.5724
 49TU9407_1,       PR18,    PN-5,          1,          6,2,19940723,       1122,    28.6985,   126.4458,        129,    48.9,  34.4255,2,  34.4297,2,   205.0,3,    0.10,2,    0.01,2,    0.10,2,    24.4834
 49TU9407_1,       PR18,    PN-5,          1,          5,2,19940723,       1122,    28.6985,   126.4458,        129,    75.7,  34.6963,2,  34.6969,2,   169.0,3,    7.00,2,    0.60,2,    0.61,2,    18.8909
 49TU9407_1,       PR18,    PN-5,          1,          4,2,19940723,       1122,    28.6985,   126.4458,        129,    99.9,  34.6665,2,  34.6699,2,   161.0,3,    9.20,2,    0.07,2,    0.76,2,    18.1327
 49TU9407_1,       PR18,    PN-5,          1,          3,2,19940723,       1122,    28.6985,   126.4458,        129,   121.7,  34.6487,2,  34.6563,3,   160.0,3,   10.00,2,    0.11,2,    0.78,2,    17.5181
 49TU9407_1,       PR18,   PN-4',          1,     BUCKET,2,19940723,       1937,    28.5503,   126.6832,        151,     0.0,  33.9857,2,     -999,9,   196.0,3,    0.00,2,    0.01,2,    0.01,2,    29.9150
 49TU9407_1,       PR18,   PN-4',          1,          5,2,19940723,       1937,    28.5503,   126.6832,        151,     9.6,  33.9857,2,     -999,9,   196.0,3,    0.00,2,    0.00,2,    0.01,2,    29.9224
 49TU9407_1,       PR18,   PN-4',          1,          4,2,19940723,       1937,    28.5503,   126.6832,        151,    19.8,  33.9847,2,     -999,9,   199.0,3,    0.00,2,    0.02,2,    0.02,2,    29.5474
 49TU9407_1,       PR18,   PN-4',          1,          3,2,19940723,       1937,    28.5503,   126.6832,        151,    30.4,  34.2174,2,     -999,9,   211.0,3,    0.00,2,    0.00,2,    0.02,2,    27.2344
 49TU9407_1,       PR18,   PN-4',          1,          2,2,19940723,       1937,    28.5503,   126.6832,        151,    50.7,  34.3696,2,     -999,9,   215.0,3,    0.00,2,    0.01,2,    0.04,2,    25.6207
 49TU9407_1,       PR18,   PN-4',          1,          1,2,19940723,       1937,    28.5503,   126.6832,        151,    76.2,  34.5292,2,     -999,9,   191.0,3,    1.40,2,    0.27,2,    0.26,2,    22.0482
 49TU9407_1,       PR18,   PN-4',          1,         12,2,19940723,       1937,    28.5503,   126.6832,        151,   100.6,  34.7208,2,     -999,9,   167.0,3,    8.00,2,    0.08,2,    0.66,2,    18.6096
 49TU9407_1,       PR18,   PN-4',          1,         11,2,19940723,       1937,    28.5503,   126.6832,        151,   125.8,  34.7184,2,     -999,9,   164.0,3,    8.50,2,    0.10,2,    0.68,2,    18.2257
 49TU9407_1,       PR18,   PN-4',          1,         10,2,19940723,       1937,    28.5503,   126.6832,        151,   140.4,  34.7106,2,     -999,9,   164.0,3,    8.80,2,    0.14,2,    0.69,2,    18.0101
 49TU9407_1,       PR18,    PN-4,          1,     BUCKET,2,19940723,       2148,    28.4038,   126.9050,        277,     0.0,  34.1886,2,     -999,9,   197.0,3,    0.00,2,    0.01,2,    0.17,2,    29.5734
 49TU9407_1,       PR18,    PN-4,          1,          4,2,19940723,       2148,    28.4038,   126.9050,        277,    10.1,  34.1891,2,     -999,9,   200.0,3,    0.00,2,    0.00,2,    0.17,2,    29.4427
 49TU9407_1,       PR18,    PN-4,          1,          3,2,19940723,       2148,    28.4038,   126.9050,        277,    20.0,  34.1755,2,     -999,9,   204.0,3,    0.00,2,    0.01,2,    0.17,2,    28.5016
 49TU9407_1,       PR18,    PN-4,          1,          2,2,19940723,       2148,    28.4038,   126.9050,        277,    29.6,  34.1486,2,     -999,9,   208.0,3,    0.00,2,    0.00,2,    0.17,2,    27.8364
 49TU9407_1,       PR18,    PN-4,          1,          1,2,19940723,       2148,    28.4038,   126.9050,        277,    50.3,  34.2860,2,     -999,9,   210.0,3,    0.00,2,    0.01,2,    0.18,2,    26.2634
 49TU9407_1,       PR18,    PN-4,          1,         12,2,19940723,       2148,    28.4038,   126.9050,        277,    74.5,  34.5399,2,     -999,9,   200.0,3,    1.10,2,    0.42,2,    0.40,2,    23.1800
 49TU9407_1,       PR18,    PN-4,          1,         11,2,19940723,       2148,    28.4038,   126.9050,        277,   100.3,  34.6962,2,     -999,9,   186.0,3,    3.30,2,    0.56,2,    0.60,2,    21.5870
 49TU9407_1,       PR18,    PN-4,          1,         10,2,19940723,       2148,    28.4038,   126.9050,        277,   125.6,  34.7435,2,     -999,9,   177.0,3,    5.80,2,    0.20,2,    0.80,2,    19.7434
 49TU9407_1,       PR18,    PN-4,          1,          9,2,19940723,       2148,    28.4038,   126.9050,        277,   151.7,  34.7116,2,     -999,9,   167.0,3,    8.00,2,    0.09,2,    1.03,2,    18.5422
 49TU9407_1,       PR18,    PN-4,          1,          8,2,19940723,       2148,    28.4038,   126.9050,        277,   202.5,  34.6509,2,     -999,9,   174.0,3,   10.30,2,    0.05,2,    1.25,2,    16.0442
 49TU9407_1,       PR18,    PN-4,          1,          7,2,19940723,       2148,    28.4038,   126.9050,        277,   250.7,  34.3374,2,     -999,9,   147.0,3, -999.00,5,    0.04,2, -999.00,5,     9.9693
 49TU9407_1,       PR18,    PN-4,          1,          6,2,19940723,       2148,    28.4038,   126.9050,        277,   267.3,  34.3243,2,     -999,9,   143.0,3, -999.00,5,    0.05,2, -999.00,5,     9.6358
 49TU9407_1,       PR18,   PN-3',          1,         10,2,19940724,       0052,    28.2543,   127.1378,         16,   504.2,  34.3259,2,  34.3252,2,   128.0,3,   26.10,2,    0.01,2,    2.04,2,     8.6033
 49TU9407_1,       PR18,   PN-3',          1,          9,2,19940724,       0052,    28.2543,   127.1378,         16,   604.9,  34.3201,2,  34.3197,2,   103.0,3,   31.50,2,    0.01,2,    2.49,2,     6.7234
 49TU9407_1,       PR18,   PN-3',          1,          8,2,19940724,       0052,    28.2543,   127.1378,         16,   705.3,  34.3296,2,  34.3464,3,    86.0,3,   35.40,2,    0.03,2,    2.83,2,     5.3987
 49TU9407_1,       PR18,   PN-3',          1,          7,2,19940724,       0052,    28.2543,   127.1378,         16,   805.5,  34.3700,2,  34.3864,3,    81.0,3,   36.10,2,    0.01,2,    2.86,2,     5.0364
 49TU9407_1,       PR18,   PN-3',          1,          6,2,19940724,       0052,    28.2543,   127.1378,         16,   908.2,  34.3838,2,  34.3976,3,    80.0,3,   36.40,2,    0.01,2,    2.66,2,     4.7577
 49TU9407_1,       PR18,   PN-3',          1,          5,2,19940724,       0052,    28.2543,   127.1378,         16,   966.5,  34.3888,2,  34.4005,3,    78.0,3,   36.90,2,    0.02,2,    2.64,2,     4.6316
 49TU9407_1,       PR18,   PN-3',          2,     BUCKET,2,19940724,       0139,    28.2657,   127.1513,        983,     0.0,  34.2879,2,     -999,9,   197.0,3,    0.10,2,    0.01,2,    0.02,2,    29.5117
 49TU9407_1,       PR18,   PN-3',          2,         10,2,19940724,       0139,    28.2657,   127.1513,        983,     8.3,  34.2876,2,  34.2963,3,   198.0,3,    0.00,2,    0.00,2,    0.02,2,    29.3581
 49TU9407_1,       PR18,   PN-3',          2,          9,2,19940724,       0139,    28.2657,   127.1513,        983,    18.7,  34.2938,2,  34.0729,3,   204.0,3,    0.00,2,    0.01,2,    0.04,2,    29.3387
 49TU9407_1,       PR18,   PN-3',          2,          8,2,19940724,       0139,    28.2657,   127.1513,        983,    29.2,  34.0759,2,  34.2557,3,   203.0,3,    0.00,2,    0.00,2,    0.04,2,    27.8801
 49TU9407_1,       PR18,   PN-3',          2,          7,2,19940724,       0139,    28.2657,   127.1513,        983,    49.6,  34.2683,2,  34.6453,3,   201.0,3,    0.10,2,    0.13,2,    0.06,2,    27.3945
 49TU9407_1,       PR18,   PN-3',          2,          6,2,19940724,       0139,    28.2657,   127.1513,        983,    74.5,  34.6431,2,  34.7665,3,   196.0,3,    0.90,2,    0.29,2,    0.15,2,    26.4357
 49TU9407_1,       PR18,   PN-3',          2,          5,2,19940724,       0139,    28.2657,   127.1513,        983,    99.4,  34.7501,2,  34.8864,3,   192.0,3,    1.90,2,    0.05,2,    0.19,2,    24.4184
 49TU9407_1,       PR18,   PN-3',          2,          4,2,19940724,       0139,    28.2657,   127.1513,        983,   125.2,  34.8816,2,  34.8974,3,   193.0,3,    2.60,2,    0.03,2,    0.23,2,    22.4025
 49TU9407_1,       PR18,   PN-3',          2,          3,2,19940724,       0139,    28.2657,   127.1513,        983,   149.8,  34.8997,2,  34.8659,3,   192.0,3,    4.00,2,    0.02,2,    0.32,2,    20.8639
 49TU9407_1,       PR18,   PN-3',          2,          2,2,19940724,       0139,    28.2657,   127.1513,        983,   200.7,  34.8625,2,  34.7907,3,   192.0,3,    5.90,2,    0.01,2,    0.45,2,    18.8673
 49TU9407_1,       PR18,   PN-3',          2,          1,2,19940724,       0139,    28.2657,   127.1513,        983,   250.6,  34.7863,2,  34.6534,3,   175.0,3,   10.60,2,    0.01,2,    0.82,2,    17.4331
 49TU9407_1,       PR18,   PN-3',          2,         12,2,19940724,       0139,    28.2657,   127.1513,        983,   300.2,  34.6493,2,  34.3834,3,   168.0,3,   17.20,2,    0.01,2,    1.34,2,    15.6660
 49TU9407_1,       PR18,   PN-3',          2,         11,2,19940724,       0139,    28.2657,   127.1513,        983,   404.4,  34.3765,2,  34.3840,3,   175.0,3,   17.10,2,    0.02,2,    1.32,2,    11.5946
 49TU9407_1,       PR18,    PN-3,          1,          6,2,19940724,       0449,    28.0937,   127.3513,         16,   401.3,  34.5118,2,  34.5070,2,  -999.0,5,   13.00,2,    0.01,2,    0.90,2,    13.5238
 49TU9407_1,       PR18,    PN-3,          1,          5,2,19940724,       0449,    28.0937,   127.3513,         16,   501.7,  34.3411,2,  34.3484,3,   158.0,3,   19.90,2,    0.01,2,    1.49,2,    10.6146
 49TU9407_1,       PR18,    PN-3,          1,          4,2,19940724,       0449,    28.0937,   127.3513,         16,   604.8,  34.2913,2,  34.2984,3,   126.0,3,   26.90,2,    0.01,2,    2.05,2,     8.1817
 49TU9407_1,       PR18,    PN-3,          1,          3,2,19940724,       0449,    28.0937,   127.3513,         16,   703.6,  34.3023,2,  34.3024,2,   107.0,3,   30.80,2,    0.01,2,    2.39,2,     7.0266
 49TU9407_1,       PR18,    PN-3,          1,          2,2,19940724,       0449,    28.0937,   127.3513,         16,   804.9,  34.3252,2,  34.3258,2,    90.0,3,   34.30,2,    0.01,2,    2.61,2,     5.7641
 49TU9407_1,       PR18,    PN-3,          1,          1,2,19940724,       0449,    28.0937,   127.3513,         16,   904.9,  34.3657,2,  34.3643,2,    81.0,3,   36.20,2,    0.01,2,    2.75,2,     5.0221
 49TU9407_1,       PR18,    PN-3,          1,         12,2,19940724,       0449,    28.0937,   127.3513,         16,  1007.0,  34.3933,2,  34.3936,2,    80.0,3,   37.40,2,    0.01,2,    2.84,2,     4.5027
 49TU9407_1,       PR18,    PN-3,          1,         11,2,19940724,       0449,    28.0937,   127.3513,         16,  1036.7,  34.3966,2,  34.3986,2,    79.0,3,   37.40,2,    0.02,2,    2.68,2,     4.4506