BOTTLE,20220706CCHSIOAMB
EXPOCODE,SECT_ID,STNNBR,CASTNO,BTLNBR,BTLNBR_FLAG_W,DATE,TIME,LATITUDE,LONGITUDE,DEPTH,CTDPRS,CTDSAL,CTDSAL_FLAG_W,SALNTY,SALNTY_FLAG_W,OXYGEN,OXYGEN_FLAG_W,NITRAT,NITRAT_FLAG_W,NITRIT,NITRIT_FLAG_W,PHSPHT,PHSPHT_FLAG_W,CTDTMP
,,,,,,,,,,METERS,DBAR,PSS-78,,PSS-78,,UMOL/KG,,UMOL/KG,,UMOL/KG,,UMOL/KG,,DEG C
 49TU9404_1,       PR18,    PN-2,          1,          1,2,19940429,       1743,    27.8102,   127.8072,         17,   402.8,  34.5876,2,  34.5855,2,   183.0,3,   11.30,2,    0.03,2,    0.78,2,    14.4937
 49TU9404_1,       PR18,    PN-2,          1,         12,2,19940429,       1743,    27.8102,   127.8072,         17,   503.7,  34.4485,2,  34.4475,2,   172.0,3,   15.60,2,    0.03,2,    1.09,2,    12.4718
 49TU9404_1,       PR18,    PN-2,          1,         11,2,19940429,       1743,    27.8102,   127.8072,         17,   604.4,  34.2838,2,  34.2852,2,   155.0,3,   22.40,2,    0.02,2,    1.63,2,     9.6272
 49TU9404_1,       PR18,    PN-2,          1,         10,2,19940429,       1743,    27.8102,   127.8072,         17,   704.6,  34.2790,2,  34.2777,2,   115.0,3,   29.80,2,    0.03,2,    2.21,2,     7.2712
 49TU9404_1,       PR18,    PN-2,          1,          9,2,19940429,       1743,    27.8102,   127.8072,         17,   804.7,  34.3149,2,  34.3145,2,    93.0,3,   34.10,2,    0.02,2,    2.58,2,     5.8981
 49TU9404_1,       PR18,    PN-2,          1,          8,2,19940429,       1743,    27.8102,   127.8072,         17,   906.6,  34.3539,2,  34.3547,2,    84.0,3,   36.30,2,    0.02,2,    2.69,2,     5.1536
 49TU9404_1,       PR18,    PN-2,          1,          7,2,19940429,       1743,    27.8102,   127.8072,         17,   934.1,  34.3802,2,  34.3785,2,    82.0,3,   37.00,2,    0.01,2,    2.77,2,     4.7240
 49TU9404_1,       PR18,    PN-2,          2,     BUCKET,2,19940429,       1823,    27.8198,   127.8078,       1008,     0.3,  34.6634,2,     -999,9,   221.0,3,    0.50,2,    0.01,2,    0.14,2,    22.2131
 49TU9404_1,       PR18,    PN-2,          2,         12,2,19940429,       1823,    27.8198,   127.8078,       1008,     9.8,  34.6642,2,  34.6636,2,   221.0,3,    0.50,2,    0.00,2,    0.14,2,    22.2085
 49TU9404_1,       PR18,    PN-2,          2,         11,2,19940429,       1823,    27.8198,   127.8078,       1008,    19.9,  34.7323,2,  34.7274,3,   224.0,3,    0.50,2,    0.00,2,    0.14,2,    21.6883
 49TU9404_1,       PR18,    PN-2,          2,         10,2,19940429,       1823,    27.8198,   127.8078,       1008,    29.8,  34.8000,2,  34.7955,3,   224.0,3,    0.50,2,    0.01,2,    0.14,2,    21.4245
 49TU9404_1,       PR18,    PN-2,          2,          9,2,19940429,       1823,    27.8198,   127.8078,       1008,    49.8,  34.9104,2,  34.9105,2,   225.0,3,    0.50,2,    0.01,2,    0.14,2,    20.8263
 49TU9404_1,       PR18,    PN-2,          2,          8,2,19940429,       1823,    27.8198,   127.8078,       1008,    74.7,  34.9364,2,  34.9342,2,   220.0,3,    0.60,2,    0.14,2,    0.15,2,    20.4917
 49TU9404_1,       PR18,    PN-2,          2,          7,2,19940429,       1823,    27.8198,   127.8078,       1008,   100.1,  34.9297,2,  34.9304,2,   219.0,3,    0.70,2,    0.11,2,    0.16,2,    20.3847
 49TU9404_1,       PR18,    PN-2,          2,          6,2,19940429,       1823,    27.8198,   127.8078,       1008,   125.5,  34.9115,2,  34.9139,2,   216.0,3,    1.00,2,    0.06,2,    0.16,2,    20.2358
 49TU9404_1,       PR18,    PN-2,          2,          5,2,19940429,       1823,    27.8198,   127.8078,       1008,   151.2,  34.9062,2,  34.9096,3,   213.0,3,    1.60,2,    0.03,2,    0.21,2,    20.0121
 49TU9404_1,       PR18,    PN-2,          2,          4,2,19940429,       1823,    27.8198,   127.8078,       1008,   201.9,  34.8677,2,  34.8678,2,   205.0,3,    2.90,2,    0.03,2,    0.25,2,    19.1030
 49TU9404_1,       PR18,    PN-2,          2,          3,2,19940429,       1823,    27.8198,   127.8078,       1008,   251.9,  34.8039,2,  34.8052,2,   199.0,3,    5.00,2,    0.03,2,    0.35,2,    17.8553
 49TU9404_1,       PR18,    PN-2,          2,          2,2,19940429,       1823,    27.8198,   127.8078,       1008,   302.5,  34.7628,2,  34.7621,2,   197.0,3,    6.20,2,    0.03,2,    0.43,2,    17.1586
 49TU9404_1,       PR18,    PN-1,          1,          8,2,19940429,       2241,    27.5008,   128.2458,         21,   403.3,  34.6135,2,     -999,9,   186.0,3,   10.50,2,    0.03,2,    0.69,2,    14.8608
 49TU9404_1,       PR18,    PN-1,          1,          7,2,19940429,       2241,    27.5008,   128.2458,         21,   504.2,  34.4717,2,     -999,9,   166.0,3,   16.30,2,    0.04,2,    1.15,2,    12.3366
 49TU9404_1,       PR18,    PN-1,          1,          6,2,19940429,       2241,    27.5008,   128.2458,         21,   604.9,  34.3657,2,     -999,9,   140.0,3,   23.40,2,    0.04,2,    1.74,2,     9.6766
 49TU9404_1,       PR18,    PN-1,          1,          5,2,19940429,       2241,    27.5008,   128.2458,         21,   706.5,  34.3264,2,     -999,9,   119.0,3,   28.20,2,    0.03,2,    2.12,2,     7.9493
 49TU9404_1,       PR18,    PN-1,          1,          4,2,19940429,       2241,    27.5008,   128.2458,         21,   807.6,  34.3206,2,     -999,9,   110.0,3,   30.20,2,    0.03,2,    2.29,2,     7.2744
 49TU9404_1,       PR18,    PN-1,          1,          3,2,19940429,       2241,    27.5008,   128.2458,         21,   908.4,  34.3277,2,     -999,9,   101.0,3,   31.80,2,    0.04,2,    2.47,2,     6.6423
 49TU9404_1,       PR18,    PN-1,          1,          2,2,19940429,       2241,    27.5008,   128.2458,         21,  1013.5,  34.3307,2,     -999,9,    96.0,3,   32.90,2,    0.04,2,    2.57,2,     6.2441
 49TU9404_1,       PR18,    PN-1,          2,     BUCKET,2,19940429,       2320,    27.5010,   128.2427,       1013,     0.0,  34.9738,2,     -999,9,   221.0,3,    0.60,2,    0.01,2,    0.14,2,    22.6077
 49TU9404_1,       PR18,    PN-1,          2,          7,2,19940429,       2320,    27.5010,   128.2427,       1013,     9.0,  34.9727,2,     -999,9,   221.0,3,    0.60,2,    0.01,2,    0.14,2,    22.5898
 49TU9404_1,       PR18,    PN-1,          2,          6,2,19940429,       2320,    27.5010,   128.2427,       1013,    19.3,  34.9718,2,     -999,9,   222.0,3,    0.60,2,    0.02,2,    0.17,2,    22.4426
 49TU9404_1,       PR18,    PN-1,          2,          5,2,19940429,       2320,    27.5010,   128.2427,       1013,    28.8,  34.9627,2,     -999,9,   223.0,3,    0.60,2,    0.01,2,    0.15,2,    22.1438
 49TU9404_1,       PR18,    PN-1,          2,          4,2,19940429,       2320,    27.5010,   128.2427,       1013,    49.5,  34.9580,2,     -999,9,   224.0,3,    0.60,2,    0.03,2,    0.14,2,    20.8571
 49TU9404_1,       PR18,    PN-1,          2,          3,2,19940429,       2320,    27.5010,   128.2427,       1013,    74.8,  34.9522,2,     -999,9,   221.0,3,    0.60,2,    0.07,2,    0.16,2,    20.5226
 49TU9404_1,       PR18,    PN-1,          2,          2,2,19940429,       2320,    27.5010,   128.2427,       1013,    99.3,  34.9507,2,     -999,9,   221.0,3,    0.60,2,    0.11,2,    0.15,2,    20.2846
 49TU9404_1,       PR18,    PN-1,          2,          1,2,19940429,       2320,    27.5010,   128.2427,       1013,   124.9,  34.9401,2,     -999,9,   222.0,3,    0.60,2,    0.13,2,    0.16,2,    20.0101
 49TU9404_1,       PR18,    PN-1,          2,         12,2,19940429,       2320,    27.5010,   128.2427,       1013,   149.7,  34.9370,2,     -999,9,   221.0,3,    0.70,2,    0.11,2,    0.17,2,    19.7739
 49TU9404_1,       PR18,    PN-1,          2,         11,2,19940429,       2320,    27.5010,   128.2427,       1013,   200.2,  34.8793,2,     -999,9,   209.0,3,    2.40,2,    0.05,2,    0.24,2,    18.9942
 49TU9404_1,       PR18,    PN-1,          2,         10,2,19940429,       2320,    27.5010,   128.2427,       1013,   250.6,  34.8244,2,     -999,9,   201.0,3,    4.20,2,    0.04,2,    0.34,2,    18.1652
 49TU9404_1,       PR18,    PN-1,          2,          9,2,19940429,       2320,    27.5010,   128.2427,       1013,   302.9,  34.7657,2,     -999,9,   196.0,3,    6.10,2,    0.04,2,    0.65,2,    17.1931