BOTTLE,20220706CCHSIOAMB
# Removed empty SAMPNO column
# Changed BTLNBR -999 with flag 2 to "BUCKET" with flag 2
# Changed fill value -9.9999 with flag 9 to -999 for SALNTY
#BOTTLE,20211203CCHSIORKP
# Original header:
#changed all fill flags to 9
#code : jjward hyd_to_exchange.pl 
#original files copied from HTML directory: 20010807
#original HYD file: pr18_mhy.txt   Wed Aug  8 13:37:56 2001
#original SUM file: pr18_msu.txt   Wed Aug  8 12:45:36 2001
EXPOCODE,SECT_ID,STNNBR,CASTNO,BTLNBR,BTLNBR_FLAG_W,DATE,TIME,LATITUDE,LONGITUDE,DEPTH,CTDPRS,CTDSAL,CTDSAL_FLAG_W,SALNTY,SALNTY_FLAG_W,OXYGEN,OXYGEN_FLAG_W,NITRAT,NITRAT_FLAG_W,NITRIT,NITRIT_FLAG_W,PHSPHT,PHSPHT_FLAG_W,CTDTMP
,,,,,,,,,,METERS,DBAR,PSS-78,,PSS-78,,UMOL/KG,,UMOL/KG,,UMOL/KG,,UMOL/KG,,DEG C
 49TU9404_1,       PR18,    PN-9,          1,     BUCKET,2,19940428,       0059,    30.0020,   124.4918,         68,     0.5,  28.7977,2,     -999,9,   302.0,3,   10.70,2,    0.37,2,    0.10,2,    14.1377
 49TU9404_1,       PR18,    PN-9,          1,          8,2,19940428,       0059,    30.0020,   124.4918,         68,     9.4,  31.9440,2,     -999,9,   242.0,3,    7.00,2,    0.55,2,    0.54,2,    12.9919
 49TU9404_1,       PR18,    PN-9,          1,          7,2,19940428,       0059,    30.0020,   124.4918,         68,    19.4,  33.5280,2,     -999,9,   242.0,3,    6.70,2,    0.56,2,    0.56,2,    12.9616
 49TU9404_1,       PR18,    PN-9,          1,          6,2,19940428,       0059,    30.0020,   124.4918,         68,    29.9,  33.6124,2,     -999,9,   252.0,3,    3.90,2,    0.52,2,    0.47,2,    12.8539
 49TU9404_1,       PR18,    PN-9,          1,          5,2,19940428,       0059,    30.0020,   124.4918,         68,    49.6,  34.0652,2,     -999,9,   254.0,3,    3.30,2,    0.52,2,    0.46,2,    13.0908
 49TU9404_1,       PR18,    PN-9,          1,          3,4,19940428,       0059,    30.0020,   124.4918,         68,    62.6,  34.0941,2,     -999,9,   254.0,3,    3.30,2,    0.52,2,    0.45,2,    13.1143
 49TU9404_1,       PR18,    PN-8,          1,     BUCKET,2,19940428,       0513,    29.5982,   125.1112,         86,     0.0,  31.7569,2,     -999,9,   277.0,3,    0.30,2,    0.03,2,    0.13,2,    16.3125
 49TU9404_1,       PR18,    PN-8,          1,          5,2,19940428,       0513,    29.5982,   125.1112,         86,     9.4,  31.9361,2,  31.9113,3,   302.0,3,    0.40,2,    0.04,2,    0.13,2,    14.7135
 49TU9404_1,       PR18,    PN-8,          1,          4,2,19940428,       0513,    29.5982,   125.1112,         86,    19.5,  32.5969,2,  32.5774,3,   269.0,3,    4.20,2,    0.36,2,    0.26,2,    14.0033
 49TU9404_1,       PR18,    PN-8,          1,          3,2,19940428,       0513,    29.5982,   125.1112,         86,    28.9,  33.1910,2,  33.1851,3,   255.0,3,    6.30,2,    0.52,2,    0.40,2,    13.5785
 49TU9404_1,       PR18,    PN-8,          1,          2,2,19940428,       0513,    29.5982,   125.1112,         86,    50.1,  34.1865,2,  34.1840,2,   248.0,3,    4.60,2,    1.14,2,    0.49,2,    12.6553
 49TU9404_1,       PR18,    PN-8,          1,          1,2,19940428,       0513,    29.5982,   125.1112,         86,    81.3,  34.2349,2,  34.2396,3,   249.0,3,    4.40,2,    1.25,2,    0.46,2,    12.6109
 49TU9404_1,       PR18,    PN-7,          1,     BUCKET,2,19940428,       0803,    29.2965,   125.5483,         90,     0.7,  32.7581,2,     -999,9,   280.0,3,    0.20,2,    0.01,2,    0.14,2,    17.0289
 49TU9404_1,       PR18,    PN-7,          1,         10,2,19940428,       0803,    29.2965,   125.5483,         90,    20.4,  32.8014,2,     -999,9,   291.0,3,    0.30,2,    0.02,2,    0.20,2,    14.8142
 49TU9404_1,       PR18,    PN-7,          1,          9,2,19940428,       0803,    29.2965,   125.5483,         90,    30.4,  33.1712,2,     -999,9,   270.0,3,    2.80,2,    0.27,2,    0.26,2,    14.3021
 49TU9404_1,       PR18,    PN-7,          1,          8,2,19940428,       0803,    29.2965,   125.5483,         90,    49.5,  33.8446,2,     -999,9,   238.0,3,    6.00,2,    0.22,2,    0.45,2,    14.9964
 49TU9404_1,       PR18,    PN-7,          1,          7,2,19940428,       0803,    29.2965,   125.5483,         90,    74.8,  33.8477,2,     -999,9,   238.0,3,    5.90,2,    0.22,2,    0.47,2,    14.9969
 49TU9404_1,       PR18,    PN-7,          1,          6,2,19940428,       0803,    29.2965,   125.5483,         90,    86.5,  33.8485,2,     -999,9,   238.0,3,    6.00,2,    0.22,2,    0.48,2,    15.0023
 49TU9404_1,       PR18,    PN-6,          1,     BUCKET,2,19940428,       1139,    29.0025,   126.0160,        104,     0.0,  34.5948,2,     -999,9,   223.0,3,    0.30,2,    0.01,2,    0.15,2,    22.1131
 49TU9404_1,       PR18,    PN-6,          1,          5,2,19940428,       1139,    29.0025,   126.0160,        104,     8.8,  34.5909,2,     -999,9,   224.0,3,    0.20,2,    0.00,2,    0.15,2,    22.0648
 49TU9404_1,       PR18,    PN-6,          1,          4,2,19940428,       1139,    29.0025,   126.0160,        104,    19.3,  34.3780,2,     -999,9,   242.0,3,    0.20,2,    0.00,2,    0.15,2,    19.9986
 49TU9404_1,       PR18,    PN-6,          1,          3,2,19940428,       1139,    29.0025,   126.0160,        104,    29.5,  34.1275,2,     -999,9,   258.0,3,    0.30,2,    0.02,2,    0.17,2,    18.4491
 49TU9404_1,       PR18,    PN-6,          1,          2,2,19940428,       1139,    29.0025,   126.0160,        104,    49.1,  34.1156,2,     -999,9,   259.0,3,    0.40,2,    0.16,2,    0.20,2,    17.0588
 49TU9404_1,       PR18,    PN-6,          1,          1,2,19940428,       1139,    29.0025,   126.0160,        104,    74.4,  34.2734,2,     -999,9,   231.0,3,    3.70,2,    0.27,2,    0.36,2,    17.1730
 49TU9404_1,       PR18,    PN-6,          1,         12,2,19940428,       1139,    29.0025,   126.0160,        104,    97.1,  34.3040,2,     -999,9,   220.0,3,    5.50,2,    0.12,2,    0.42,2,    16.9067
 49TU9404_1,       PR18,    PN-5,          1,     BUCKET,2,19940428,       1502,    28.7050,   126.4487,        128,     0.1,  34.6515,2,     -999,9,   218.0,3,    0.40,2,    0.03,2,    0.14,2,    22.4533
 49TU9404_1,       PR18,    PN-5,          1,         12,2,19940428,       1502,    28.7050,   126.4487,        128,     9.4,  34.6475,2,  34.6520,3,   218.0,3,    0.40,2,    0.03,2,    0.20,2,    22.4456
 49TU9404_1,       PR18,    PN-5,          1,         11,2,19940428,       1502,    28.7050,   126.4487,        128,    19.5,  34.6505,2,  34.6518,2,   218.0,3,    0.50,2,    0.03,2,    0.19,2,    22.4385
 49TU9404_1,       PR18,    PN-5,          1,         10,2,19940428,       1502,    28.7050,   126.4487,        128,    29.0,  34.7402,2,  34.7294,3,   210.0,3,    0.80,2,    0.07,2,    0.17,2,    22.3448
 49TU9404_1,       PR18,    PN-5,          1,          9,2,19940428,       1502,    28.7050,   126.4487,        128,    48.5,  34.7897,2,  34.7985,3,   199.0,3,    2.10,2,    0.12,2,    0.30,2,    21.7935
 49TU9404_1,       PR18,    PN-5,          1,          8,2,19940428,       1502,    28.7050,   126.4487,        128,    74.7,  34.6493,2,  34.6507,2,   191.0,3,    6.10,2,    0.06,2,    0.42,2,    18.8342
 49TU9404_1,       PR18,    PN-5,          1,          7,2,19940428,       1502,    28.7050,   126.4487,        128,    99.8,  34.6412,2,  34.6432,2,   181.0,3,    8.90,2,    0.06,2,    0.67,2,    16.6835
 49TU9404_1,       PR18,    PN-5,          1,          6,2,19940428,       1502,    28.7050,   126.4487,        128,   119.1,  34.6224,2,  34.6292,3,   180.0,3,    9.60,2,    0.07,2,    0.72,2,    16.2617
 49TU9404_1,       PR18,   PN-4',          1,     BUCKET,2,19940429,       0201,    28.5510,   126.6797,        152,     0.0,  34.6474,2,     -999,9,   216.0,3,    0.30,2,    0.01,2,    0.16,2,    23.4109
 49TU9404_1,       PR18,   PN-4',          1,          8,2,19940429,       0201,    28.5510,   126.6797,        152,     8.4,  34.6470,2,     -999,9,   217.0,3,    0.30,2,    0.01,2,    0.17,2,    23.3981
 49TU9404_1,       PR18,   PN-4',          1,          7,2,19940429,       0201,    28.5510,   126.6797,        152,    19.0,  34.6442,2,     -999,9,   217.0,3,    0.20,2,    0.01,2,    0.16,2,    23.3597
 49TU9404_1,       PR18,   PN-4',          1,          6,2,19940429,       0201,    28.5510,   126.6797,        152,    28.8,  34.6486,2,     -999,9,   217.0,3,    0.30,2,    0.02,2,    0.17,2,    23.2509
 49TU9404_1,       PR18,   PN-4',          1,          5,2,19940429,       0201,    28.5510,   126.6797,        152,    49.1,  34.7343,2,     -999,9,   198.0,3,    2.00,2,    0.29,2,    0.28,2,    21.7863
 49TU9404_1,       PR18,   PN-4',          1,          4,2,19940429,       0201,    28.5510,   126.6797,        152,    74.0,  34.6476,2,     -999,9,   196.0,3,    4.40,2,    0.07,2,    0.40,2,    19.7442
 49TU9404_1,       PR18,   PN-4',          1,          3,2,19940429,       0201,    28.5510,   126.6797,        152,    98.7,  34.6547,2,     -999,9,   187.0,3,    6.50,2,    0.05,2,    0.54,2,    18.4461
 49TU9404_1,       PR18,   PN-4',          1,          2,2,19940429,       0201,    28.5510,   126.6797,        152,   124.3,  34.4012,2,     -999,9,   215.0,3,    6.50,2,    0.05,2,    0.52,2,    16.4743
 49TU9404_1,       PR18,   PN-4',          1,          1,2,19940429,       0201,    28.5510,   126.6797,        152,   142.8,  34.3450,2,     -999,9,   215.0,3,    7.30,2,    0.05,2,    0.62,2,    15.7587
 49TU9404_1,       PR18,    PN-4,          1,     BUCKET,2,19940429,       0424,    28.4067,   126.9063,        277,     0.0,  34.5545,2,     -999,9,   219.0,3,    0.20,2,    0.01,2,    0.15,2,    22.9236
 49TU9404_1,       PR18,    PN-4,          1,          6,2,19940429,       0424,    28.4067,   126.9063,        277,     9.3,  34.5112,2,     -999,9,   222.0,3,    0.20,2,    0.01,2,    0.15,2,    22.4060
 49TU9404_1,       PR18,    PN-4,          1,          5,2,19940429,       0424,    28.4067,   126.9063,        277,    19.1,  34.4365,2,     -999,9,   225.0,3,    0.30,2,    0.01,2,    0.16,2,    21.9008
 49TU9404_1,       PR18,    PN-4,          1,          4,2,19940429,       0424,    28.4067,   126.9063,        277,    29.9,  34.4240,2,     -999,9,   227.0,3,    0.30,2,    0.03,2,    0.28,2,    21.4663
 49TU9404_1,       PR18,    PN-4,          1,          3,2,19940429,       0424,    28.4067,   126.9063,        277,    49.8,  34.4761,2,     -999,9,   225.0,3,    0.70,2,    0.14,2,    0.18,2,    20.8592
 49TU9404_1,       PR18,    PN-4,          1,          2,2,19940429,       0424,    28.4067,   126.9063,        277,    75.2,  34.5594,2,     -999,9,   214.0,3,    2.40,2,    0.49,2,    0.29,2,    19.7129
 49TU9404_1,       PR18,    PN-4,          1,          1,2,19940429,       0424,    28.4067,   126.9063,        277,   101.1,  34.5877,2,     -999,9,   203.0,3,    4.70,2,    0.14,2,    0.39,2,    19.2085
 49TU9404_1,       PR18,    PN-4,          1,         12,2,19940429,       0424,    28.4067,   126.9063,        277,   123.6,  34.5995,2,     -999,9,   181.0,3,    7.50,2,    0.03,2,    0.56,2,    18.5745
 49TU9404_1,       PR18,    PN-4,          1,         11,2,19940429,       0424,    28.4067,   126.9063,        277,   149.8,  34.4064,2,     -999,9,   207.0,3,    7.90,2,    0.03,2,    0.59,2,    15.7375
 49TU9404_1,       PR18,    PN-4,          1,         10,2,19940429,       0424,    28.4067,   126.9063,        277,   200.5,  34.5593,2,     -999,9,   180.0,3,   11.70,2,    0.03,2,    0.87,2,    14.7479
 49TU9404_1,       PR18,    PN-4,          1,          9,2,19940429,       0424,    28.4067,   126.9063,        277,   256.7,  34.4937,2,     -999,9,   167.0,3,   14.80,2,    0.09,2,    1.16,2,    13.3394
 49TU9404_1,       PR18,   PN-3',          1,          1,2,19940429,       0814,    28.2550,   127.1360,         19,   402.8,  34.4018,2,  34.4015,2,   151.0,3,   20.30,2,    0.03,2,    1.61,2,    10.9771
 49TU9404_1,       PR18,   PN-3',          1,         12,2,19940429,       0814,    28.2550,   127.1360,         19,   503.6,  34.3246,2,  34.3225,2,   133.0,3,   25.10,2,    0.02,2,    1.88,2,     8.9963
 49TU9404_1,       PR18,   PN-3',          1,         11,2,19940429,       0814,    28.2550,   127.1360,         19,   603.2,  34.2888,2,  34.2840,3,   110.0,3,   30.40,2,    0.02,2,    2.35,2,     7.0142
 49TU9404_1,       PR18,   PN-3',          1,         10,2,19940429,       0814,    28.2550,   127.1360,         19,   703.5,  34.3296,2,  34.3302,2,    97.0,3,   32.70,2,    0.02,2,    2.55,2,     6.2156
 49TU9404_1,       PR18,   PN-3',          1,          9,2,19940429,       0814,    28.2550,   127.1360,         19,   804.1,  34.3477,2,  34.3481,2,    90.0,3,   34.50,2,    0.02,2,    2.66,2,     5.6277
 49TU9404_1,       PR18,   PN-3',          1,          8,2,19940429,       0814,    28.2550,   127.1360,         19,   902.3,  34.3752,2,  34.3763,2,    82.0,3,   36.10,2,    0.03,2,    2.82,2,     4.9531
 49TU9404_1,       PR18,   PN-3',          1,          7,2,19940429,       0814,    28.2550,   127.1360,         19,   942.0,  34.3811,2,  34.3824,2,    81.0,3,   36.40,2,    0.02,2,    2.85,2,     4.8006
 49TU9404_1,       PR18,   PN-3',          2,     BUCKET,2,19940429,       0901,    28.2743,   127.1572,        976,     0.0,  34.6112,2,     -999,9,   207.0,3,    0.20,2,    0.01,2,    0.16,2,    26.1664
 49TU9404_1,       PR18,   PN-3',          2,         12,2,19940429,       0901,    28.2743,   127.1572,        976,     9.6,  34.6102,2,  34.6103,2,   208.0,3,    0.20,2,    0.01,2,    0.15,2,    26.1631
 49TU9404_1,       PR18,   PN-3',          2,         11,2,19940429,       0901,    28.2743,   127.1572,        976,    19.5,  34.6133,2,  34.6123,2,   208.0,3,    0.20,2,    0.01,2,    0.13,2,    26.0409
 49TU9404_1,       PR18,   PN-3',          2,         10,2,19940429,       0901,    28.2743,   127.1572,        976,    29.3,  34.6526,2,  34.6534,2,   209.0,3,    0.20,2,    0.01,2,    0.13,2,    25.7935
 49TU9404_1,       PR18,   PN-3',          2,          9,2,19940429,       0901,    28.2743,   127.1572,        976,    49.5,  34.6920,2,  34.6932,2,   208.0,3,    0.20,2,    0.01,2,    0.15,2,    25.3362
 49TU9404_1,       PR18,   PN-3',          2,          8,2,19940429,       0901,    28.2743,   127.1572,        976,    74.4,  34.7220,2,  34.7172,3,   207.0,3,    0.20,2,    0.04,2,    0.15,2,    24.8753
 49TU9404_1,       PR18,   PN-3',          2,          7,2,19940429,       0901,    28.2743,   127.1572,        976,   100.1,  34.7845,2,  34.7821,2,   200.0,3,    0.50,2,    0.17,2,    0.17,2,    24.0477
 49TU9404_1,       PR18,   PN-3',          2,          6,2,19940429,       0901,    28.2743,   127.1572,        976,   125.8,  34.7644,2,  34.7672,2,   200.0,3,    1.20,2,    0.27,2,    0.23,2,    22.7332
 49TU9404_1,       PR18,   PN-3',          2,          5,2,19940429,       0901,    28.2743,   127.1572,        976,   149.9,  34.8116,2,  34.8067,3,   193.0,3,    2.70,2,    0.12,2,    0.31,2,    21.3883
 49TU9404_1,       PR18,   PN-3',          2,          4,2,19940429,       0901,    28.2743,   127.1572,        976,   199.5,  34.7954,2,  34.7922,2,   185.0,3,    6.10,2,    0.04,2,    0.47,2,    18.2892
 49TU9404_1,       PR18,   PN-3',          2,          3,2,19940429,       0901,    28.2743,   127.1572,        976,   251.1,  34.6492,2,  34.6522,2,   178.0,3,   10.20,2,    0.02,2,    0.72,2,    15.5332
 49TU9404_1,       PR18,   PN-3',          2,          2,2,19940429,       0901,    28.2743,   127.1572,        976,   303.9,  34.5487,2,  34.5535,3,   171.0,3,   13.30,2,    0.03,2,    0.97,2,    13.9317
 49TU9404_1,       PR18,    PN-3,          1,          7,2,19940429,       1148,    28.1082,   127.3545,         23,   402.6,  34.4819,2,  34.4811,2,   175.0,3,   14.40,2,    0.03,2,    0.96,2,    12.9823
 49TU9404_1,       PR18,    PN-3,          1,          6,2,19940429,       1148,    28.1082,   127.3545,         23,   503.2,  34.3838,2,  34.3815,2,   148.0,3,   21.10,2,    0.03,2,    1.40,2,    10.5173
 49TU9404_1,       PR18,    PN-3,          1,          5,2,19940429,       1148,    28.1082,   127.3545,         23,   604.0,  34.3219,2,  34.3219,2,   123.0,3,   27.50,2,    0.03,2,    2.05,2,     8.1619
 49TU9404_1,       PR18,    PN-3,          1,          4,2,19940429,       1148,    28.1082,   127.3545,         23,   704.7,  34.3122,2,  34.3109,2,   104.0,3,   31.30,2,    0.03,2,    2.38,2,     6.7945
 49TU9404_1,       PR18,    PN-3,          1,          3,2,19940429,       1148,    28.1082,   127.3545,         23,   805.6,  34.3316,2,  34.3306,2,    89.0,3,   34.80,2,    0.03,2,    2.65,2,     5.5517
 49TU9404_1,       PR18,    PN-3,          1,          2,2,19940429,       1148,    28.1082,   127.3545,         23,   906.7,  34.3866,2,  34.3872,2,    77.0,3,   37.20,2,    0.03,2,    2.85,2,     4.5531
 49TU9404_1,       PR18,    PN-3,          1,          1,2,19940429,       1148,    28.1082,   127.3545,         23,   995.5,  34.4044,2,  34.3881,3,    78.0,3,   37.40,2,    0.03,2,    2.83,2,     4.3182
 49TU9404_1,       PR18,    PN-3,          2,     BUCKET,2,19940429,       1232,    28.1228,   127.3615,        982,     0.5,  34.6142,2,     -999,9,   208.0,3,    0.40,2,    0.01,2,    0.15,2,    25.5024
 49TU9404_1,       PR18,    PN-3,          2,          6,2,19940429,       1232,    28.1228,   127.3615,        982,     9.8,  34.6105,2,  34.6131,2,   208.0,3,    0.40,2,    0.02,2,    0.15,2,    25.5060
 49TU9404_1,       PR18,    PN-3,          2,          5,2,19940429,       1232,    28.1228,   127.3615,        982,    19.8,  34.6094,2,  34.6089,2,   209.0,3,    0.40,2,    0.02,2,    0.20,2,    25.5021
 49TU9404_1,       PR18,    PN-3,          2,          4,2,19940429,       1232,    28.1228,   127.3615,        982,    30.0,  34.5904,2,  34.5916,2,   209.0,3,    0.40,2,    0.02,2,    0.21,2,    25.4166
 49TU9404_1,       PR18,    PN-3,          2,          3,2,19940429,       1232,    28.1228,   127.3615,        982,    50.0,  34.6049,2,  34.6029,2,   209.0,3,    0.40,2,    0.02,2,    0.16,2,    25.3185
 49TU9404_1,       PR18,    PN-3,          2,          2,2,19940429,       1232,    28.1228,   127.3615,        982,    75.4,  34.7003,2,  34.7205,3,   206.0,3,    0.40,2,    0.09,2,    0.21,2,    24.3144
 49TU9404_1,       PR18,    PN-3,          2,          1,2,19940429,       1232,    28.1228,   127.3615,        982,   100.7,  34.7462,2,  34.7416,3,   213.0,3,    0.40,2,    0.04,2,    0.17,2,    23.2268
 49TU9404_1,       PR18,    PN-3,          2,         12,2,19940429,       1232,    28.1228,   127.3615,        982,   125.4,  34.8439,2,  34.8385,3,   210.0,3,    0.50,2,    0.12,2,    0.18,2,    22.3793
 49TU9404_1,       PR18,    PN-3,          2,         10,2,19940429,       1232,    28.1228,   127.3615,        982,   201.2,  34.9064,2,  34.9072,2,   206.0,3,    2.00,2,    0.04,2,    0.19,2,    19.9272
 49TU9404_1,       PR18,    PN-3,          2,          9,2,19940429,       1232,    28.1228,   127.3615,        982,   251.5,  34.8246,2,  34.8257,2,   198.0,3,    4.50,2,    0.03,2,    0.29,2,    17.9693
 49TU9404_1,       PR18,    PN-3,          2,          8,2,19940429,       1232,    28.1228,   127.3615,        982,   303.2,  34.7469,2,  34.7477,2,   195.0,3,    6.60,2,    0.03,2,    0.66,2,    16.7267