BOTTLE,20220705CCHSIOAMB
EXPOCODE,SECT_ID,STNNBR,CASTNO,BTLNBR,BTLNBR_FLAG_W,DATE,TIME,LATITUDE,LONGITUDE,DEPTH,CTDPRS,CTDTMP,CTDSAL,CTDSAL_FLAG_W,SALNTY,SALNTY_FLAG_W,OXYGEN,OXYGEN_FLAG_W,NITRAT,NITRAT_FLAG_W,NITRIT,NITRIT_FLAG_W,PHSPHT,PHSPHT_FLAG_W
,,,,,,,,,,,DBAR,DEG C,PSS-78,,PSS-78,,UMOL/KG,,UMOL/KG,,UMOL/KG,,UMOL/KG,
    49TU9310_3,  PR19,  NS-5,  1,      1,2,19931106,1505, 23.8288, 125.7410, 1387,    401.9,  15.3421,  34.6339,2,     -999,9,    184.0,3,    10.10,2,     0.03,2,     0.69,2
    49TU9310_3,  PR19,  NS-5,  1,     12,2,19931106,1505, 23.8288, 125.7410, 1387,    503.5,  11.7948,  34.3979,2,     -999,9,    169.0,3,    17.60,2,     0.00,2,     1.24,2
    49TU9310_3,  PR19,  NS-5,  1,     11,2,19931106,1505, 23.8288, 125.7410, 1387,    604.0,   8.8289,  34.2153,2,     -999,9,    155.0,3,    24.50,2,     0.00,2,     1.78,2
    49TU9310_3,  PR19,  NS-5,  1,     10,2,19931106,1505, 23.8288, 125.7410, 1387,    705.1,   7.0945,  34.1629,2,     -999,9,    126.0,3,    30.00,2,     0.00,2,     2.23,2
    49TU9310_3,  PR19,  NS-5,  1,      9,2,19931106,1505, 23.8288, 125.7410, 1387,    805.8,   5.3415,  34.2244,2,     -999,9,     83.0,3,    36.40,2,     0.01,2,     2.74,2
    49TU9310_3,  PR19,  NS-5,  1,      8,2,19931106,1505, 23.8288, 125.7410, 1387,    907.3,   4.6921,  34.2788,2,     -999,9,     68.0,3,    38.90,2,     0.00,2,     2.93,2
    49TU9310_3,  PR19,  NS-5,  1,      7,2,19931106,1505, 23.8288, 125.7410, 1387,   1009.0,   4.0507,  34.3524,2,     -999,9,     61.0,3,    40.30,2,     0.00,2,     3.04,2
    49TU9310_3,  PR19,  NS-5,  1,      6,2,19931106,1505, 23.8288, 125.7410, 1387,   1262.6,   3.1001,  34.4725,2,     -999,9,     75.0,3,    40.50,2,     0.00,2,     3.05,2
    49TU9310_3,  PR19,  NS-5,  1,      5,2,19931106,1505, 23.8288, 125.7410, 1387,   1385.3,   2.8571,  34.5055,2,     -999,9,     81.0,3,    40.30,2,     0.01,2,     3.02,2
    49TU9310_3,  PR19,  NS-5,  2, BUCKET,2,19931106,1544, 23.8265, 125.7327, -999,      0.0,  26.8190,  34.8073,2,     -999,9,    203.0,3,     0.90,2,     0.01,2,     0.00,2
    49TU9310_3,  PR19,  NS-5,  2,     12,2,19931106,1544, 23.8265, 125.7327, -999,      8.8,  26.8243,  34.8075,2,     -999,9,    204.0,3,     0.80,2,     0.00,2,     0.00,2
    49TU9310_3,  PR19,  NS-5,  2,     11,2,19931106,1544, 23.8265, 125.7327, -999,     19.6,  26.8044,  34.8081,2,     -999,9,    204.0,3,     0.80,2,     0.00,2,     0.00,2
    49TU9310_3,  PR19,  NS-5,  2,     10,2,19931106,1544, 23.8265, 125.7327, -999,     28.9,  26.7718,  34.8100,2,     -999,9,    205.0,3,     0.90,2,     0.00,2,     0.07,2
    49TU9310_3,  PR19,  NS-5,  2,      9,2,19931106,1544, 23.8265, 125.7327, -999,     49.4,  26.4546,  34.8174,2,     -999,9,    205.0,3,     0.90,2,     0.01,2,     0.03,2
    49TU9310_3,  PR19,  NS-5,  2,      8,2,19931106,1544, 23.8265, 125.7327, -999,     74.4,  26.0218,  34.8458,2,     -999,9,    207.0,3,     0.90,2,     0.01,2,     0.00,2
    49TU9310_3,  PR19,  NS-5,  2,      7,2,19931106,1544, 23.8265, 125.7327, -999,    100.6,  25.1433,  34.9253,2,     -999,9,    206.0,3,     0.80,2,     0.01,2,     0.00,2
    49TU9310_3,  PR19,  NS-5,  2,      6,2,19931106,1544, 23.8265, 125.7327, -999,    126.7,  23.4546,  34.9151,2,     -999,9,    200.0,3,     1.50,2,     0.10,2,     0.11,2
    49TU9310_3,  PR19,  NS-5,  2,      5,2,19931106,1544, 23.8265, 125.7327, -999,    149.7,  22.1913,  34.9067,2,     -999,9,    195.0,3,     2.40,2,     0.04,2,     0.13,2
    49TU9310_3,  PR19,  NS-5,  2,      4,2,19931106,1544, 23.8265, 125.7327, -999,    200.7,  20.2121,  34.8898,2,     -999,9,    199.0,3,     3.10,2,     0.02,2,     0.17,2
    49TU9310_3,  PR19,  NS-5,  2,      3,2,19931106,1544, 23.8265, 125.7327, -999,    249.6,  19.1342,  34.8698,2,     -999,9,    200.0,3,     3.90,2,     0.01,2,     0.25,2
    49TU9310_3,  PR19,  NS-5,  2,      2,2,19931106,1544, 23.8265, 125.7327, -999,    301.7,  17.6480,  34.8000,2,     -999,9,    194.0,3,     6.40,2,     0.01,2,     0.39,2
    49TU9310_3,  PR19,  NS-4,  1,     11,2,19931106,1800, 24.0028, 125.4998, 1900,    401.8,  14.8661,  34.6003,2,  34.6011,2,    188.0,3,    10.60,2,     0.00,2,     0.74,2
    49TU9310_3,  PR19,  NS-4,  1,     10,2,19931106,1800, 24.0028, 125.4998, 1900,    504.4,  11.1992,  34.3341,2,  34.3315,2,    168.0,3,    18.60,2,     0.00,2,     1.35,2
    49TU9310_3,  PR19,  NS-4,  1,      9,2,19931106,1800, 24.0028, 125.4998, 1900,    603.3,   9.3549,  34.2678,2,  34.2661,2,    138.0,3,    24.80,2,     0.00,2,     1.90,2
    49TU9310_3,  PR19,  NS-4,  1,      8,2,19931106,1800, 24.0028, 125.4998, 1900,    705.5,   7.1938,  34.2649,2,  34.2644,2,    108.0,3,    31.70,2,     0.00,2,     2.37,2
    49TU9310_3,  PR19,  NS-4,  1,      7,2,19931106,1800, 24.0028, 125.4998, 1900,    805.7,   6.1038,  34.3004,2,  34.2993,2,     91.0,3,    34.80,2,     0.01,2,     2.64,2
    49TU9310_3,  PR19,  NS-4,  1,      6,2,19931106,1800, 24.0028, 125.4998, 1900,    907.0,   4.7853,  34.3128,2,  34.3196,3,     75.0,3,    37.90,2,     0.02,2,     2.89,2
    49TU9310_3,  PR19,  NS-4,  1,      5,2,19931106,1800, 24.0028, 125.4998, 1900,   1007.0,   4.5315,  34.3707,2,  34.3724,2,     75.0,3,    38.40,2,     0.00,2,     2.92,2
    49TU9310_3,  PR19,  NS-4,  1,      4,2,19931106,1800, 24.0028, 125.4998, 1900,   1261.6,   3.1543,  34.4664,2,  34.4664,2,     71.0,3,    40.50,2,     0.01,2,     3.07,2
    49TU9310_3,  PR19,  NS-4,  1,      3,2,19931106,1800, 24.0028, 125.4998, 1900,   1514.9,   2.6004,  34.5352,2,  34.5315,3,     88.0,3,    40.20,2,     0.01,2,     2.97,2
    49TU9310_3,  PR19,  NS-4,  1,      2,2,19931106,1800, 24.0028, 125.4998, 1900,   1767.8,   2.3085,  34.5824,2,  34.5796,2,    102.0,3,    39.20,2,     0.00,2,     2.93,2
    49TU9310_3,  PR19,  NS-4,  1,      1,2,19931106,1800, 24.0028, 125.4998, 1900,   1906.1,   2.1960,  34.5972,2,  34.5938,2,    107.0,3,    38.90,2,     0.01,2,     2.92,2
    49TU9310_3,  PR19,  NS-4,  2, BUCKET,2,19931106,1852, 24.0058, 125.4907, 1951,      1.2,  27.0721,  34.8463,2,     -999,9,    203.0,3,     0.90,2,     0.00,2,     0.03,2
    49TU9310_3,  PR19,  NS-4,  2,     10,2,19931106,1852, 24.0058, 125.4907, 1951,      9.2,  27.0761,  34.8459,2,  34.8453,2,    203.0,3,     1.00,2,     0.00,2,     0.13,2
    49TU9310_3,  PR19,  NS-4,  2,      9,2,19931106,1852, 24.0058, 125.4907, 1951,     19.6,  27.0770,  34.8468,2,  34.8450,2,    203.0,3,     0.90,2,     0.00,2,     0.03,2
    49TU9310_3,  PR19,  NS-4,  2,      8,2,19931106,1852, 24.0058, 125.4907, 1951,     29.4,  27.0646,  34.8439,2,  34.8436,2,    203.0,3,     0.90,2,     0.00,2,     0.04,2
    49TU9310_3,  PR19,  NS-4,  2,      7,2,19931106,1852, 24.0058, 125.4907, 1951,     49.4,  26.9681,  34.8346,2,  34.8335,2,    203.0,3,     0.90,2,     0.00,2,     0.04,2
    49TU9310_3,  PR19,  NS-4,  2,      6,2,19931106,1852, 24.0058, 125.4907, 1951,     74.0,  26.9540,  34.8304,2,  34.8280,2,    203.0,3,     0.90,2,     0.00,2,     0.06,2
    49TU9310_3,  PR19,  NS-4,  2,      5,2,19931106,1852, 24.0058, 125.4907, 1951,     99.7,  24.7517,  34.9949,2,  35.0037,3,    205.0,3,     0.90,2,     0.01,2,     0.05,2
    49TU9310_3,  PR19,  NS-4,  2,      4,2,19931106,1852, 24.0058, 125.4907, 1951,    124.8,  23.8504,  34.9873,2,  34.9858,2,    200.0,3,     1.10,2,     0.13,2,     0.08,2
    49TU9310_3,  PR19,  NS-4,  2,      3,2,19931106,1852, 24.0058, 125.4907, 1951,    150.6,  22.6531,  34.9210,2,  34.9214,2,    194.0,3,     2.20,2,     0.04,2,     0.14,2
    49TU9310_3,  PR19,  NS-4,  2,      2,2,19931106,1852, 24.0058, 125.4907, 1951,    200.7,  20.1414,  34.8930,2,  34.8914,2,    194.0,3,     3.40,2,     0.01,2,     0.23,2
    49TU9310_3,  PR19,  NS-4,  2,      1,2,19931106,1852, 24.0058, 125.4907, 1951,    250.6,  18.7058,  34.8571,2,  34.8587,2,    196.0,3,     4.50,2,     0.01,2,     0.28,2
    49TU9310_3,  PR19,  NS-4,  2,     12,2,19931106,1852, 24.0058, 125.4907, 1951,    303.8,  17.2619,  34.7815,2,  34.7813,2,    192.0,3,     7.00,2,     0.01,2,     0.61,2
    49TU9310_3,  PR19,  NS-3,  1,      8,2,19931106,2116, 24.1723, 125.2545, 1674,    401.6,  14.6896,  34.5968,2,  34.5928,3,    186.0,3,    11.40,2,     0.02,2,     0.79,2
    49TU9310_3,  PR19,  NS-3,  1,      7,2,19931106,2116, 24.1723, 125.2545, 1674,    502.9,  11.5374,  34.3779,2,  34.3801,2,    164.0,3,    18.40,2,     0.01,2,     1.35,2
    49TU9310_3,  PR19,  NS-3,  1,      6,2,19931106,2116, 24.1723, 125.2545, 1674,    603.5,   9.0234,  34.2641,2,  34.2648,2,    136.0,3,    25.60,2,     0.01,2,     1.90,2
    49TU9310_3,  PR19,  NS-3,  1,      5,2,19931106,2116, 24.1723, 125.2545, 1674,    705.5,   6.8178,  34.2721,2,  34.2732,2,    101.0,3,    32.50,2,     0.00,2,     2.45,2
    49TU9310_3,  PR19,  NS-3,  1,      4,2,19931106,2116, 24.1723, 125.2545, 1674,    806.1,   5.8805,  34.3216,2,  34.3217,2,     89.0,3,    35.30,2,     0.01,2,     2.66,2
    49TU9310_3,  PR19,  NS-3,  1,      3,2,19931106,2116, 24.1723, 125.2545, 1674,    908.0,   4.6206,  34.3375,2,  34.4980,3,     76.0,3,    40.10,2,     0.00,2,     3.00,2
    49TU9310_3,  PR19,  NS-3,  1,      2,2,19931106,2116, 24.1723, 125.2545, 1674,   1009.4,   4.0783,  34.3876,2,  34.3866,2,     65.0,3,    39.90,2,     0.01,2,     3.01,2
    49TU9310_3,  PR19,  NS-3,  1,      1,2,19931106,2116, 24.1723, 125.2545, 1674,   1262.2,   3.0024,  34.4999,2,  34.3390,3,     69.0,3,    38.70,2,     0.00,2,     2.94,2
    49TU9310_3,  PR19,  NS-3,  1,     12,2,19931106,2116, 24.1723, 125.2545, 1674,   1516.0,   2.4749,  34.5582,2,  34.5556,2,     93.0,3,    39.70,2,     0.01,2,     2.95,2
    49TU9310_3,  PR19,  NS-3,  1,     11,2,19931106,2116, 24.1723, 125.2545, 1674,   1680.7,   2.3471,  34.5752,2,  34.5735,2,    101.0,3,    39.40,2,     0.00,2,     2.94,2
    49TU9310_3,  PR19,  NS-3,  2, BUCKET,2,19931106,2205, 24.1793, 125.2565, 1515,      0.3,  27.0147,  34.8301,2,     -999,9,    208.0,3,     0.90,2,     0.00,2,     0.03,2
    49TU9310_3,  PR19,  NS-3,  2,      7,2,19931106,2205, 24.1793, 125.2565, 1515,      8.4,  27.0156,  34.8306,2,  34.8298,2,    203.0,3,     0.90,2,     0.00,2,     0.03,2
    49TU9310_3,  PR19,  NS-3,  2,      6,2,19931106,2205, 24.1793, 125.2565, 1515,     19.2,  27.0246,  34.8312,2,  34.8310,2,    203.0,3,     1.00,2,     0.02,2,     0.07,2
    49TU9310_3,  PR19,  NS-3,  2,      5,2,19931106,2205, 24.1793, 125.2565, 1515,     29.0,  27.0234,  34.8324,2,  34.8310,2,    203.0,3,     0.90,2,     0.00,2,     0.04,2
    49TU9310_3,  PR19,  NS-3,  2,      4,2,19931106,2205, 24.1793, 125.2565, 1515,     48.5,  27.0096,  34.8330,2,  34.8337,2,    204.0,3,     1.30,2,     0.01,2,     0.11,2
    49TU9310_3,  PR19,  NS-3,  2,      3,2,19931106,2205, 24.1793, 125.2565, 1515,     74.0,  26.5139,  34.8758,2,  34.8643,3,    204.0,3,     1.00,2,     0.00,2,     0.11,2
    49TU9310_3,  PR19,  NS-3,  2,      2,2,19931106,2205, 24.1793, 125.2565, 1515,    100.2,  25.0200,  35.0085,2,  35.0091,2,    207.0,3,     1.00,2,     0.00,2,     0.10,2
    49TU9310_3,  PR19,  NS-3,  2,      1,2,19931106,2205, 24.1793, 125.2565, 1515,    125.1,  23.8953,  34.9949,2,  34.9935,2,    199.0,3,     1.10,2,     0.14,2,     0.06,2
    49TU9310_3,  PR19,  NS-3,  2,     12,2,19931106,2205, 24.1793, 125.2565, 1515,    150.0,  22.4635,  34.9357,2,  34.9344,2,    198.0,3,     1.70,2,     0.04,2,     0.10,2
    49TU9310_3,  PR19,  NS-3,  2,     11,2,19931106,2205, 24.1793, 125.2565, 1515,    200.8,  20.8083,  34.8978,2,  34.8987,2,    200.0,3,     2.60,2,     0.02,2,     0.17,2
    49TU9310_3,  PR19,  NS-3,  2,     10,2,19931106,2205, 24.1793, 125.2565, 1515,    250.7,  18.9739,  34.8661,2,  34.8680,2,    196.0,3,     4.40,2,     0.02,2,     0.35,2
    49TU9310_3,  PR19,  NS-3,  2,      9,2,19931106,2205, 24.1793, 125.2565, 1515,    304.0,  17.5622,  34.8004,2,  34.8028,2,    195.0,3,     6.30,2,     0.01,2,     0.42,2
    49TU9310_3,  PR19,  NS-2,  1,      3,2,19931107,0013, 24.3343, 125.0075, 1083,    403.1,  13.9438,  34.5321,2,     -999,9,    182.0,3,    12.80,2,     0.01,2,     0.89,2
    49TU9310_3,  PR19,  NS-2,  1,      2,2,19931107,0013, 24.3343, 125.0075, 1083,    503.5,  10.9643,  34.3428,2,     -999,9,    166.0,3,    19.40,2,     0.01,2,     1.38,2
    49TU9310_3,  PR19,  NS-2,  1,      1,2,19931107,0013, 24.3343, 125.0075, 1083,    605.2,   8.2395,  34.2385,2,     -999,9,    129.0,3,    27.50,2,     0.01,2,     2.04,2
    49TU9310_3,  PR19,  NS-2,  1,     12,2,19931107,0013, 24.3343, 125.0075, 1083,    706.0,   6.2786,  34.3054,2,     -999,9,     94.0,3,    34.00,2,     0.01,2,     2.61,2
    49TU9310_3,  PR19,  NS-2,  1,     11,2,19931107,0013, 24.3343, 125.0075, 1083,    807.2,   4.9200,  34.3062,2,     -999,9,     73.0,3,    37.90,2,     0.01,2,     2.94,2
    49TU9310_3,  PR19,  NS-2,  1,     10,2,19931107,0013, 24.3343, 125.0075, 1083,    908.2,   4.1077,  34.3765,2,     -999,9,     69.0,3,    39.20,2,     0.01,2,     3.03,2
    49TU9310_3,  PR19,  NS-2,  1,      9,2,19931107,0013, 24.3343, 125.0075, 1083,   1009.1,   3.4055,  34.4409,2,     -999,9,     72.0,3,    40.20,2,     0.00,2,     3.11,2
    49TU9310_3,  PR19,  NS-2,  1,      8,2,19931107,0013, 24.3343, 125.0075, 1083,   1081.1,   2.9959,  34.4834,2,     -999,9,     84.0,3,    40.40,2,     0.00,2,     3.12,2
    49TU9310_3,  PR19,  NS-2,  2, BUCKET,2,19931107,0051, 24.3402, 125.0088, 1023,      0.0,  26.9571,  34.8194,2,     -999,9,    203.0,3,     0.90,2,     0.00,2,     0.02,2
    49TU9310_3,  PR19,  NS-2,  2,      2,2,19931107,0051, 24.3402, 125.0088, 1023,      9.1,  26.9471,  34.8203,2,     -999,9,    203.0,3,     0.90,2,     0.00,2,     0.02,2
    49TU9310_3,  PR19,  NS-2,  2,      1,2,19931107,0051, 24.3402, 125.0088, 1023,     19.1,  26.9486,  34.8197,2,     -999,9,    203.0,3,     0.90,2,     0.00,2,     0.02,2
    49TU9310_3,  PR19,  NS-2,  2,     12,2,19931107,0051, 24.3402, 125.0088, 1023,     29.4,  26.9463,  34.8205,2,     -999,9,    203.0,3,     0.90,2,     0.00,2,     0.04,2
    49TU9310_3,  PR19,  NS-2,  2,     11,2,19931107,0051, 24.3402, 125.0088, 1023,     49.6,  26.8771,  34.8162,2,     -999,9,    203.0,3,     1.00,2,     0.01,2,     0.06,2
    49TU9310_3,  PR19,  NS-2,  2,     10,2,19931107,0051, 24.3402, 125.0088, 1023,     74.3,  26.8085,  34.8274,2,     -999,9,    203.0,3,     1.00,2,     0.01,2,     0.01,2
    49TU9310_3,  PR19,  NS-2,  2,      9,2,19931107,0051, 24.3402, 125.0088, 1023,    100.3,  24.6377,  34.9664,2,     -999,9,    204.0,3,     0.90,2,     0.01,2,     0.03,2
    49TU9310_3,  PR19,  NS-2,  2,      8,2,19931107,0051, 24.3402, 125.0088, 1023,    125.9,  23.2890,  34.9276,2,     -999,9,    196.0,3,     1.90,2,     0.06,2,     0.18,2
    49TU9310_3,  PR19,  NS-2,  2,      7,2,19931107,0051, 24.3402, 125.0088, 1023,    150.3,  22.2718,  34.9349,2,     -999,9,    197.0,3,     1.70,2,     0.04,2,     0.09,2
    49TU9310_3,  PR19,  NS-2,  2,      6,2,19931107,0051, 24.3402, 125.0088, 1023,    201.1,  20.6756,  34.9100,2,     -999,9,    197.0,3,     2.80,2,     0.02,2,     0.21,2
    49TU9310_3,  PR19,  NS-2,  2,      5,2,19931107,0051, 24.3402, 125.0088, 1023,    250.4,  19.0783,  34.8710,2,     -999,9,    199.0,3,     4.00,2,     0.02,2,     0.28,2
    49TU9310_3,  PR19,  NS-2,  2,      4,2,19931107,0051, 24.3402, 125.0088, 1023,    302.0,  17.4908,  34.7971,2,     -999,9,    196.0,3,     5.90,2,     0.01,2,     0.37,2
    49TU9310_3,  PR19,  NS-1,  1, BUCKET,2,19931107,0245, 24.5032, 124.7528,  240,      0.4,  27.1359,  34.8184,2,     -999,9,    203.0,3,     1.00,2,     0.00,2,     0.03,2
    49TU9310_3,  PR19,  NS-1,  1,     12,2,19931107,0245, 24.5032, 124.7528,  240,     10.1,  27.0827,  34.8183,2,  34.8195,2,    203.0,3,     0.90,2,     0.00,2,     0.02,2
    49TU9310_3,  PR19,  NS-1,  1,     11,2,19931107,0245, 24.5032, 124.7528,  240,     20.1,  27.0785,  34.8177,2,  34.8199,2,    204.0,3,     0.90,2,     0.00,2,     0.03,2
    49TU9310_3,  PR19,  NS-1,  1,     10,2,19931107,0245, 24.5032, 124.7528,  240,     29.5,  27.0650,  34.8158,2,  34.8178,2,    203.0,3,     0.90,2,     0.00,2,     0.03,2
    49TU9310_3,  PR19,  NS-1,  1,      9,2,19931107,0245, 24.5032, 124.7528,  240,     50.3,  26.9595,  34.8098,2,  34.8091,2,    204.0,3,     0.90,2,     0.00,2,     0.03,2
    49TU9310_3,  PR19,  NS-1,  1,      8,2,19931107,0245, 24.5032, 124.7528,  240,     74.2,  24.8994,  34.9361,2,  34.9411,3,    207.0,3,     0.90,2,     0.00,2,     0.05,2
    49TU9310_3,  PR19,  NS-1,  1,      7,2,19931107,0245, 24.5032, 124.7528,  240,    101.3,  24.0352,  34.9572,2,  34.9561,2,    199.0,3,     1.10,2,     0.08,2,     0.11,2
    49TU9310_3,  PR19,  NS-1,  1,      6,2,19931107,0245, 24.5032, 124.7528,  240,    125.6,  23.1483,  34.9328,2,  34.9308,2,    195.0,3,     1.80,2,     0.06,2,     0.11,2
    49TU9310_3,  PR19,  NS-1,  1,      5,2,19931107,0245, 24.5032, 124.7528,  240,    151.3,  22.5981,  34.9284,2,  34.9293,2,    194.0,3,     2.30,2,     0.05,2,     0.23,2
    49TU9310_3,  PR19,  NS-1,  1,      4,2,19931107,0245, 24.5032, 124.7528,  240,    202.0,  20.5613,  34.8913,2,  34.9015,3,    196.0,3,     3.30,2,     0.02,2,     0.27,2
    49TU9310_3,  PR19,  NS-1,  1,      3,2,19931107,0245, 24.5032, 124.7528,  240,    224.4,  19.8603,  34.8928,2,  34.8920,2,    196.0,3,     3.60,2,     0.02,2,     0.23,2
    49TU9310_3,  PR19,  IS-1,  1,     11,2,19931107,0613, 24.8355, 124.2453, 1943,    403.5,  14.8512,  34.6076,2,  34.6064,2,    184.0,3,    11.40,2,     0.00,2,     0.79,2
    49TU9310_3,  PR19,  IS-1,  1,     10,2,19931107,0613, 24.8355, 124.2453, 1943,    504.2,  10.2527,  34.3407,2,  34.3429,2,    150.0,3,    22.20,2,     0.00,2,     1.63,2
    49TU9310_3,  PR19,  IS-1,  1,      9,2,19931107,0613, 24.8355, 124.2453, 1943,    604.8,   8.3710,  34.3089,2,  34.3123,3,    124.0,3,    27.70,2,     0.00,2,     2.07,2
    49TU9310_3,  PR19,  IS-1,  1,      8,2,19931107,0613, 24.8355, 124.2453, 1943,    704.8,   6.7301,  34.3298,2,  34.3319,2,    104.0,3,    32.30,2,     0.01,2,     2.43,2
    49TU9310_3,  PR19,  IS-1,  1,      7,2,19931107,0613, 24.8355, 124.2453, 1943,    806.9,   5.4135,  34.3782,2,  34.3791,2,     89.0,3,    35.50,2,     0.00,2,     2.71,2
    49TU9310_3,  PR19,  IS-1,  1,      6,2,19931107,0613, 24.8355, 124.2453, 1943,    907.8,   4.8108,  34.4023,2,  34.4039,2,     84.0,3,    37.20,2,     0.00,2,     2.77,2
    49TU9310_3,  PR19,  IS-1,  1,      5,2,19931107,0613, 24.8355, 124.2453, 1943,   1009.2,   4.4082,  34.4193,2,  34.4210,2,     79.0,3,    38.10,2,     0.00,2,     2.94,2
    49TU9310_3,  PR19,  IS-1,  1,      4,2,19931107,0613, 24.8355, 124.2453, 1943,   1264.4,   4.0501,  34.4356,2,  34.4349,2,     76.0,3,    39.10,2,     0.01,2,     3.02,2
    49TU9310_3,  PR19,  IS-1,  1,      3,2,19931107,0613, 24.8355, 124.2453, 1943,   1516.1,   3.8090,  34.4479,2,  34.4465,2,     74.0,3,    39.40,2,     0.00,2,     2.98,2
    49TU9310_3,  PR19,  IS-1,  1,      2,2,19931107,0613, 24.8355, 124.2453, 1943,   1770.6,   3.7622,  34.4519,2,  34.4512,2,     72.0,3,    39.40,2,     0.00,2,     2.98,2
    49TU9310_3,  PR19,  IS-1,  1,      1,2,19931107,0613, 24.8355, 124.2453, 1943,   1952.6,   3.7317,  34.4539,2,  34.4518,2,     74.0,3,    39.60,2,     0.00,2,     2.99,2