BOTTLE,20220705CCHSIOAMB
EXPOCODE,SECT_ID,STNNBR,CASTNO,BTLNBR,BTLNBR_FLAG_W,DATE,TIME,LATITUDE,LONGITUDE,DEPTH,CTDPRS,CTDTMP,CTDSAL,CTDSAL_FLAG_W,SALNTY,SALNTY_FLAG_W,OXYGEN,OXYGEN_FLAG_W,NITRAT,NITRAT_FLAG_W,NITRIT,NITRIT_FLAG_W,PHSPHT,PHSPHT_FLAG_W
,,,,,,,,,,,DBAR,DEG C,PSS-78,,PSS-78,,UMOL/KG,,UMOL/KG,,UMOL/KG,,UMOL/KG,
    49TU9310_3,  PR19,  IS-1,  2, BUCKET,2,19931107,0700, 24.8348, 124.2373, 1937,      0.0,  27.1371,  34.8580,2,     -999,9,    204.0,3,     1.00,2,     0.00,2,     0.06,2
    49TU9310_3,  PR19,  IS-1,  2,     10,2,19931107,0700, 24.8348, 124.2373, 1937,      9.4,  26.9361,  34.8571,2,  34.8578,2,    204.0,3,     0.90,2,     0.00,2,     0.03,2
    49TU9310_3,  PR19,  IS-1,  2,      9,2,19931107,0700, 24.8348, 124.2373, 1937,     19.7,  26.9136,  34.8568,2,  34.8583,2,    204.0,3,     0.90,2,     0.00,2,     0.04,2
    49TU9310_3,  PR19,  IS-1,  2,      8,2,19931107,0700, 24.8348, 124.2373, 1937,     28.9,  26.7731,  34.8490,2,  34.8479,2,    205.0,3,     0.90,2,     0.00,2,     0.05,2
    49TU9310_3,  PR19,  IS-1,  2,      7,2,19931107,0700, 24.8348, 124.2373, 1937,     48.9,  26.5010,  34.7985,2,  34.8012,3,    205.0,3,     1.00,2,     0.01,2,     0.05,2
    49TU9310_3,  PR19,  IS-1,  2,      6,2,19931107,0700, 24.8348, 124.2373, 1937,     75.4,  25.2826,  34.8362,2,  34.8365,2,    201.0,3,     1.10,2,     0.08,2,     0.06,2
    49TU9310_3,  PR19,  IS-1,  2,      5,2,19931107,0700, 24.8348, 124.2373, 1937,    100.1,  23.6521,  34.8996,2,  34.9001,2,    200.0,3,     1.40,2,     0.13,2,     0.09,2
    49TU9310_3,  PR19,  IS-1,  2,      4,2,19931107,0700, 24.8348, 124.2373, 1937,    124.2,  23.1117,  34.9127,2,  34.9111,2,    199.0,3,     1.60,2,     0.14,2,     0.10,2
    49TU9310_3,  PR19,  IS-1,  2,      3,2,19931107,0700, 24.8348, 124.2373, 1937,    149.6,  21.8263,  34.8936,2,  34.8905,3,    197.0,3,     2.30,2,     0.07,2,     0.15,2
    49TU9310_3,  PR19,  IS-1,  2,      2,2,19931107,0700, 24.8348, 124.2373, 1937,    200.7,  19.7809,  34.8601,2,  34.8597,2,    197.0,3,     4.00,2,     0.02,2,     0.27,2
    49TU9310_3,  PR19,  IS-1,  2,      1,2,19931107,0700, 24.8348, 124.2373, 1937,    249.9,  18.6167,  34.8335,2,  34.8335,2,    195.0,3,     5.40,2,     0.01,2,     0.33,2
    49TU9310_3,  PR19,  IS-1,  2,     12,2,19931107,0700, 24.8348, 124.2373, 1937,    303.2,  16.8498,  34.7401,2,  34.7424,2,    193.0,3,     7.70,2,     0.01,2,     0.51,2
    49TU9310_3,  PR19,  IS-2,  1,      9,2,19931107,0910, 25.0022, 124.0098, 1918,    400.8,  13.6625,  34.5265,2,  34.5279,2,    178.0,3,    14.50,2,     0.03,2,     1.06,2
    49TU9310_3,  PR19,  IS-2,  1,      8,2,19931107,0910, 25.0022, 124.0098, 1918,    503.2,  10.7979,  34.3615,2,  34.3648,3,    157.0,3,    21.80,2,     0.04,2,     1.56,2
    49TU9310_3,  PR19,  IS-2,  1,      7,2,19931107,0910, 25.0022, 124.0098, 1918,    604.1,   8.5192,  34.3139,2,  34.3152,2,    124.0,3,    28.00,2,     0.07,2,     2.12,2
    49TU9310_3,  PR19,  IS-2,  1,      6,2,19931107,0910, 25.0022, 124.0098, 1918,    705.2,   6.8698,  34.3147,2,  34.3188,3,    105.0,3,    32.00,2,     0.00,2,     2.43,2
    49TU9310_3,  PR19,  IS-2,  1,      5,2,19931107,0910, 25.0022, 124.0098, 1918,    806.4,   5.4948,  34.3687,2,  34.3671,2,     88.0,3,    35.70,2,     0.02,2,     2.66,2
    49TU9310_3,  PR19,  IS-2,  1,      4,2,19931107,0910, 25.0022, 124.0098, 1918,    907.5,   4.9046,  34.3966,2,  34.3980,2,     82.0,3,    37.10,2,     0.01,2,     2.82,2
    49TU9310_3,  PR19,  IS-2,  1,      3,2,19931107,0910, 25.0022, 124.0098, 1918,   1007.9,   4.4956,  34.4182,2,  34.4178,2,     78.0,3,    38.10,2,     0.00,2,     2.90,2
    49TU9310_3,  PR19,  IS-2,  1,      2,2,19931107,0910, 25.0022, 124.0098, 1918,   1262.1,   4.0190,  34.4376,2,  34.4359,2,     74.0,3,    39.20,2,     0.01,2,     2.80,2
    49TU9310_3,  PR19,  IS-2,  1,      1,2,19931107,0910, 25.0022, 124.0098, 1918,   1515.0,   3.8472,  34.4465,2,  34.4487,2,     72.0,3,    39.20,2,     0.02,2,     2.45,2
    49TU9310_3,  PR19,  IS-2,  1,     12,2,19931107,0910, 25.0022, 124.0098, 1918,   1767.7,   3.7862,  34.4513,2,  34.4495,2,     73.0,3,    39.70,2,     0.01,2,     2.83,2
    49TU9310_3,  PR19,  IS-2,  1,     11,2,19931107,0910, 25.0022, 124.0098, 1918,   1909.7,   3.7442,  34.4540,2,  34.4520,2,     73.0,3,    39.90,2,     0.00,2,     2.99,2
    49TU9310_3,  PR19,  IS-2,  2, BUCKET,2,19931107,1002, 25.0037, 124.0145, 1937,      0.4,  27.1168,  34.8286,2,     -999,9,    204.0,3,     1.00,2,     0.00,2,     0.03,2
    49TU9310_3,  PR19,  IS-2,  2,      8,2,19931107,1002, 25.0037, 124.0145, 1937,     10.5,  27.1248,  34.8276,2,  34.8290,2,    204.0,3,     1.10,2,     0.00,2,     0.06,2
    49TU9310_3,  PR19,  IS-2,  2,      7,2,19931107,1002, 25.0037, 124.0145, 1937,     19.6,  27.0612,  34.8273,2,  34.8274,2,    204.0,3,     1.00,2,     0.00,2,     0.03,2
    49TU9310_3,  PR19,  IS-2,  2,      6,2,19931107,1002, 25.0037, 124.0145, 1937,     30.5,  27.0500,  34.8259,2,  34.8288,3,    204.0,3,     1.00,2,     0.00,2,     0.03,2
    49TU9310_3,  PR19,  IS-2,  2,      5,2,19931107,1002, 25.0037, 124.0145, 1937,     49.4,  26.9406,  34.8217,2,  34.8213,2,    204.0,3,     1.10,2,     0.00,2,     0.08,2
    49TU9310_3,  PR19,  IS-2,  2,      4,2,19931107,1002, 25.0037, 124.0145, 1937,     73.7,  26.8129,  34.8165,2,  34.8166,2,    204.0,3,     1.00,2,     0.00,2,     0.05,2
    49TU9310_3,  PR19,  IS-2,  2,      3,2,19931107,1002, 25.0037, 124.0145, 1937,    100.7,  26.0871,  34.8193,2,  34.8184,2,    205.0,3,     1.00,2,     0.00,2,     0.06,2
    49TU9310_3,  PR19,  IS-2,  2,      2,2,19931107,1002, 25.0037, 124.0145, 1937,    125.6,  23.3581,  34.8779,2,  34.8666,3,    201.0,3,     1.50,2,     0.08,2,     0.09,2
    49TU9310_3,  PR19,  IS-2,  2,      1,2,19931107,1002, 25.0037, 124.0145, 1937,    150.6,  20.8089,  34.8930,2,  34.8926,2,    196.0,3,     3.10,2,     0.03,2,     0.19,2
    49TU9310_3,  PR19,  IS-2,  2,     12,2,19931107,1002, 25.0037, 124.0145, 1937,    200.5,  19.5766,  34.8716,2,  34.8713,2,    196.0,3,     4.00,2,     0.01,2,     0.27,2
    49TU9310_3,  PR19,  IS-2,  2,     11,2,19931107,1002, 25.0037, 124.0145, 1937,    251.6,  18.9787,  34.8397,2,  34.8495,3,    194.0,3,     4.90,2,     0.01,2,     0.29,2
    49TU9310_3,  PR19,  IS-2,  2,     10,2,19931107,1002, 25.0037, 124.0145, 1937,    304.6,  17.6461,  34.7971,2,  34.8004,3,    193.0,3,     6.50,2,     0.01,2,     0.45,2
    49TU9310_3,  PR19,  IS-3,  1,      8,2,19931107,1236, 25.1723, 123.7638, 2160,    402.8,  13.6273,  34.5184,2,  34.5208,2,    178.0,3,    13.80,2,     0.01,2,     0.98,2
    49TU9310_3,  PR19,  IS-3,  1,      7,2,19931107,1236, 25.1723, 123.7638, 2160,    504.1,  10.3876,  34.3566,2,  34.3577,2,    148.0,3,    22.20,2,     0.01,2,     1.62,2
    49TU9310_3,  PR19,  IS-3,  1,      6,2,19931107,1236, 25.1723, 123.7638, 2160,    604.8,   8.6257,  34.2934,2,  34.2950,2,    128.0,3,    27.10,2,     0.01,2,     1.98,2
    49TU9310_3,  PR19,  IS-3,  1,      5,2,19931107,1236, 25.1723, 123.7638, 2160,    706.2,   6.8471,  34.3338,2,  34.3349,2,    102.0,3,    32.30,2,     0.01,2,     2.41,2
    49TU9310_3,  PR19,  IS-3,  1,      4,2,19931107,1236, 25.1723, 123.7638, 2160,    807.1,   5.6550,  34.3666,2,  34.3683,2,     90.0,3,    35.30,2,     0.01,2,     2.65,2
    49TU9310_3,  PR19,  IS-3,  1,      3,2,19931107,1236, 25.1723, 123.7638, 2160,    907.6,   4.9440,  34.3955,2,  34.3958,2,     83.0,3,    36.70,2,     0.01,2,     2.75,2
    49TU9310_3,  PR19,  IS-3,  1,      2,2,19931107,1236, 25.1723, 123.7638, 2160,   1009.8,   4.5251,  34.4158,2,  34.4202,3,     82.0,3,    37.10,2,     0.01,2,     2.75,2
    49TU9310_3,  PR19,  IS-3,  1,      1,2,19931107,1236, 25.1723, 123.7638, 2160,   1262.6,   4.0537,  34.4378,2,  34.4373,2,     74.0,3,    38.90,2,     0.01,2,     2.92,2
    49TU9310_3,  PR19,  IS-3,  1,     12,2,19931107,1236, 25.1723, 123.7638, 2160,   1516.2,   3.8541,  34.4453,2,  34.4444,2,     73.0,3,    39.10,2,     0.01,2,     2.88,2
    49TU9310_3,  PR19,  IS-3,  1,     11,2,19931107,1236, 25.1723, 123.7638, 2160,   1769.4,   3.7617,  34.4509,2,  34.4495,2,     73.0,3,    39.60,2,     0.01,2,     2.94,2
    49TU9310_3,  PR19,  IS-3,  1,     10,2,19931107,1236, 25.1723, 123.7638, 2160,   2023.8,   3.7197,  34.4545,2,  34.4542,2,     71.0,3,    39.70,2,     0.04,2,     2.94,2
    49TU9310_3,  PR19,  IS-3,  1,      9,2,19931107,1236, 25.1723, 123.7638, 2160,   2168.3,   3.7104,  34.4577,2,  34.4546,2,     76.0,3,    39.70,2,     0.01,2,     2.95,2
    49TU9310_3,  PR19,  IS-3,  2, BUCKET,2,19931107,1340, 25.1705, 123.7770, 2188,      0.0,  27.2990,  34.8491,2,     -999,9,    203.0,3,     1.10,2,     0.01,2,     0.05,2
    49TU9310_3,  PR19,  IS-3,  2,      7,2,19931107,1340, 25.1705, 123.7770, 2188,      9.4,  27.3055,  34.8489,2,  34.8491,2,    202.0,3,     1.10,2,     0.00,2,     0.09,2
    49TU9310_3,  PR19,  IS-3,  2,      6,2,19931107,1340, 25.1705, 123.7770, 2188,     19.6,  27.2305,  34.8408,2,  34.8444,3,    203.0,3,     1.00,2,     0.00,2,     0.04,2
    49TU9310_3,  PR19,  IS-3,  2,      5,2,19931107,1340, 25.1705, 123.7770, 2188,     29.4,  27.0952,  34.8193,2,  34.8272,3,    203.0,3,     1.10,2,     0.00,2,     0.13,2
    49TU9310_3,  PR19,  IS-3,  2,      4,2,19931107,1340, 25.1705, 123.7770, 2188,     49.5,  26.9292,  34.8108,2,  34.8105,2,    204.0,3,     1.00,2,     0.01,2,     0.04,2
    49TU9310_3,  PR19,  IS-3,  2,      3,2,19931107,1340, 25.1705, 123.7770, 2188,     74.9,  25.7557,  34.8243,2,  34.8276,3,    205.0,3,     1.10,2,     0.01,2,     0.04,2
    49TU9310_3,  PR19,  IS-3,  2,      2,2,19931107,1340, 25.1705, 123.7770, 2188,     99.9,  24.4550,  34.9152,2,  34.9157,2,    203.0,3,     1.20,2,     0.04,2,     0.07,2
    49TU9310_3,  PR19,  IS-3,  2,      1,2,19931107,1340, 25.1705, 123.7770, 2188,    124.8,  22.7757,  34.8824,2,  34.8820,2,    198.0,3,     1.90,2,     0.12,2,     0.18,2
    49TU9310_3,  PR19,  IS-3,  2,     12,2,19931107,1340, 25.1705, 123.7770, 2188,    149.5,  21.0031,  34.9045,2,  34.9029,2,    196.0,3,     2.80,2,     0.04,2,     0.16,2
    49TU9310_3,  PR19,  IS-3,  2,     11,2,19931107,1340, 25.1705, 123.7770, 2188,    200.2,  18.7078,  34.8343,2,  34.8371,3,    195.0,3,     5.20,2,     0.01,2,     0.30,2
    49TU9310_3,  PR19,  IS-3,  2,     10,2,19931107,1340, 25.1705, 123.7770, 2188,    251.1,  17.3053,  34.7816,2,  34.7825,2,    194.0,3,     6.80,2,     0.01,2,     0.44,2
    49TU9310_3,  PR19,  IS-3,  2,      9,2,19931107,1340, 25.1705, 123.7770, 2188,    304.3,  15.9453,  34.6908,2,  34.6902,2,    190.0,3,     8.90,2,     0.01,2,     0.60,2
    49TU9310_3,  PR19,  IS-4,  1,      6,2,19931107,1611, 25.3347, 123.5128, 1833,    401.7,  12.8225,  34.4684,2,  34.4699,2,    172.0,3,    15.70,2,     0.02,2,     1.11,2
    49TU9310_3,  PR19,  IS-4,  1,      5,2,19931107,1611, 25.3347, 123.5128, 1833,    502.6,   9.7055,  34.3093,2,  34.3107,2,    143.0,3,    23.70,2,     0.02,2,     1.74,2
    49TU9310_3,  PR19,  IS-4,  1,      4,2,19931107,1611, 25.3347, 123.5128, 1833,    603.4,   7.9672,  34.3062,2,  34.3064,2,    117.0,3,    29.10,2,     0.02,2,     2.13,2
    49TU9310_3,  PR19,  IS-4,  1,      3,2,19931107,1611, 25.3347, 123.5128, 1833,    704.2,   6.2323,  34.3428,2,  34.3443,2,     96.0,3,    34.00,2,     0.02,2,     2.55,2
    49TU9310_3,  PR19,  IS-4,  1,      2,2,19931107,1611, 25.3347, 123.5128, 1833,    806.1,   5.5232,  34.3760,2,  34.3783,2,     90.0,3,    35.50,2,     0.02,2,     2.66,2
    49TU9310_3,  PR19,  IS-4,  1,      1,2,19931107,1611, 25.3347, 123.5128, 1833,    907.8,   4.9213,  34.3977,2,  34.4054,3,     84.0,3,    36.70,2,     0.02,2,     2.76,2
    49TU9310_3,  PR19,  IS-4,  1,     12,2,19931107,1611, 25.3347, 123.5128, 1833,   1008.5,   4.5384,  34.4120,2,  34.4135,2,     80.0,3,    37.70,2,     0.02,2,     2.86,2
    49TU9310_3,  PR19,  IS-4,  1,     11,2,19931107,1611, 25.3347, 123.5128, 1833,   1262.4,   3.9487,  34.4387,2,  34.4398,2,     74.0,3,    39.70,2,     0.02,2,     3.00,2
    49TU9310_3,  PR19,  IS-4,  1,     10,2,19931107,1611, 25.3347, 123.5128, 1833,   1515.7,   3.8192,  34.4466,2,  34.4459,2,     73.0,3,    39.40,2,     0.02,2,     2.97,2
    49TU9310_3,  PR19,  IS-4,  1,      9,2,19931107,1611, 25.3347, 123.5128, 1833,   1768.9,   3.7527,  34.4519,2,  34.4504,2,     72.0,3,    39.70,2,     0.02,2,     3.07,2
    49TU9310_3,  PR19,  IS-4,  1,      8,2,19931107,1611, 25.3347, 123.5128, 1833,   1840.6,   3.7237,  34.4526,2,  34.4526,2,     74.0,3,    39.90,2,     0.02,2,     3.00,2
    49TU9310_3,  PR19,  IS-4,  2, BUCKET,2,19931107,1658, 25.3445, 123.5240, 1839,      0.9,  27.1570,  34.8402,2,     -999,9,    203.0,3,     1.10,2,     0.01,2,     0.04,2
    49TU9310_3,  PR19,  IS-4,  2,      5,2,19931107,1658, 25.3445, 123.5240, 1839,      9.4,  27.1172,  34.8349,2,  34.8375,3,    203.0,3,     1.10,2,     0.01,2,     0.03,2
    49TU9310_3,  PR19,  IS-4,  2,      4,2,19931107,1658, 25.3445, 123.5240, 1839,     19.8,  26.8544,  34.8115,2,  34.8132,2,    204.0,3,     1.10,2,     0.01,2,     0.05,2
    49TU9310_3,  PR19,  IS-4,  2,      3,2,19931107,1658, 25.3445, 123.5240, 1839,     29.9,  26.8338,  34.8112,2,  34.8123,2,    203.0,3,     1.10,2,     0.01,2,     0.04,2
    49TU9310_3,  PR19,  IS-4,  2,      2,2,19931107,1658, 25.3445, 123.5240, 1839,     49.9,  26.8151,  34.8091,2,  34.8107,2,    204.0,3,     1.10,2,     0.01,2,     0.10,2
    49TU9310_3,  PR19,  IS-4,  2,      1,2,19931107,1658, 25.3445, 123.5240, 1839,     73.7,  26.4966,  34.7801,2,  34.7810,2,    205.0,3,     1.10,2,     0.01,2,     0.04,2
    49TU9310_3,  PR19,  IS-4,  2,     12,2,19931107,1658, 25.3445, 123.5240, 1839,     99.3,  23.3213,  34.8648,2,  34.8627,2,    203.0,3,     1.20,2,     0.07,2,     0.08,2
    49TU9310_3,  PR19,  IS-4,  2,     11,2,19931107,1658, 25.3445, 123.5240, 1839,    124.4,  21.9367,  34.9280,2,  34.8883,3,    197.0,3,     1.90,2,     0.11,2,     0.15,2
    49TU9310_3,  PR19,  IS-4,  2,     10,2,19931107,1658, 25.3445, 123.5240, 1839,    149.8,  20.9143,  34.8944,2,  34.8950,2,    193.0,3,     3.10,2,     0.04,2,     0.19,2
    49TU9310_3,  PR19,  IS-4,  2,      9,2,19931107,1658, 25.3445, 123.5240, 1839,    200.3,  18.8252,  34.8513,2,  34.8532,2,    192.0,3,     4.90,2,     0.03,2,     0.31,2
    49TU9310_3,  PR19,  IS-4,  2,      8,2,19931107,1658, 25.3445, 123.5240, 1839,    250.6,  16.7620,  34.7585,2,  34.7475,3,    188.0,3,     7.70,2,     0.02,2,     0.62,2
    49TU9310_3,  PR19,  IS-4,  2,      7,2,19931107,1658, 25.3445, 123.5240, 1839,    304.4,  15.2900,  34.6400,2,  34.6424,2,    187.0,3,    10.40,2,     0.02,2,     0.68,2
    49TU9310_3,  PR19,  IS-5,  1,     11,2,19931107,1904, 25.5042, 123.2505,  774,    403.4,  11.5331,  34.4505,2,     -999,9,    150.0,3,    20.10,2,     0.03,2,     1.46,2
    49TU9310_3,  PR19,  IS-5,  1,     10,2,19931107,1904, 25.5042, 123.2505,  774,    503.3,   7.7521,  34.3385,2,     -999,9,    114.0,3,    29.40,2,     0.02,2,     2.19,2
    49TU9310_3,  PR19,  IS-5,  1,      9,2,19931107,1904, 25.5042, 123.2505,  774,    604.1,   6.4036,  34.3345,2,     -999,9,     96.0,3,    33.30,2,     0.02,2,     2.48,2
    49TU9310_3,  PR19,  IS-5,  1,      8,2,19931107,1904, 25.5042, 123.2505,  774,    706.4,   5.5823,  34.3774,2,     -999,9,     88.0,3,    35.30,2,     0.02,2,     2.63,2
    49TU9310_3,  PR19,  IS-5,  1,      7,2,19931107,1904, 25.5042, 123.2505,  774,    765.6,   5.1870,  34.3900,2,     -999,9,     85.0,3,    36.20,2,     0.02,2,     2.73,2
    49TU9310_3,  PR19,  IS-5,  2, BUCKET,2,19931107,1931, 25.5127, 123.2520,  790,      1.2,  27.1328,  34.8187,2,     -999,9,    203.0,3,     1.10,2,     0.02,2,     0.03,2
    49TU9310_3,  PR19,  IS-5,  2,     10,2,19931107,1931, 25.5127, 123.2520,  790,      9.3,  27.1365,  34.8188,2,     -999,9,    203.0,3,     1.10,2,     0.01,2,     0.07,2
    49TU9310_3,  PR19,  IS-5,  2,      9,2,19931107,1931, 25.5127, 123.2520,  790,     20.2,  27.1305,  34.8186,2,     -999,9,    203.0,3,     1.20,2,     0.02,2,     0.10,2
    49TU9310_3,  PR19,  IS-5,  2,      8,2,19931107,1931, 25.5127, 123.2520,  790,     28.5,  26.8860,  34.8154,2,     -999,9,    204.0,3,     1.10,2,     0.01,2,     0.04,2
    49TU9310_3,  PR19,  IS-5,  2,      7,2,19931107,1931, 25.5127, 123.2520,  790,     49.8,  26.7530,  34.8143,2,     -999,9,    204.0,3,     1.10,2,     0.02,2,     0.04,2
    49TU9310_3,  PR19,  IS-5,  2,      6,2,19931107,1931, 25.5127, 123.2520,  790,     76.0,  26.0093,  34.8271,2,     -999,9,    205.0,3,     1.10,2,     0.02,2,     0.05,2
    49TU9310_3,  PR19,  IS-5,  2,      5,2,19931107,1931, 25.5127, 123.2520,  790,    101.0,  24.4657,  34.8333,2,     -999,9,    209.0,3,     1.10,2,     0.02,2,     0.05,2
    49TU9310_3,  PR19,  IS-5,  2,      4,2,19931107,1931, 25.5127, 123.2520,  790,    125.2,  22.6406,  34.8774,2,     -999,9,    202.0,3,     1.20,2,     0.13,2,     0.09,2
    49TU9310_3,  PR19,  IS-5,  2,      3,2,19931107,1931, 25.5127, 123.2520,  790,    150.6,  20.8614,  34.8897,2,     -999,9,    193.0,3,     3.20,2,     0.05,2,     0.21,2
    49TU9310_3,  PR19,  IS-5,  2,      2,2,19931107,1931, 25.5127, 123.2520,  790,    201.3,  18.7756,  34.8503,2,     -999,9,    192.0,3,     4.90,2,     0.03,2,     0.30,2
    49TU9310_3,  PR19,  IS-5,  2,      1,2,19931107,1931, 25.5127, 123.2520,  790,    251.2,  16.7817,  34.7555,2,     -999,9,    196.0,3,     6.90,2,     0.03,2,     0.42,2
    49TU9310_3,  PR19,  IS-5,  2,     12,2,19931107,1931, 25.5127, 123.2520,  790,    303.1,  15.1998,  34.6303,2,     -999,9,    184.0,3,    10.40,2,     0.03,2,     0.77,2
    49TU9310_3,  PR19,  IS-6,  1,      5,2,19931107,2137, 25.6742, 122.9955, 1041,    402.1,   9.5040,  34.3857,2,     -999,9,    132.0,3,    25.10,2,     0.03,2,     1.87,2
    49TU9310_3,  PR19,  IS-6,  1,      4,2,19931107,2137, 25.6742, 122.9955, 1041,    503.9,   7.3212,  34.3452,2,     -999,9,    108.0,3,    31.10,2,     0.03,2,     2.46,2
    49TU9310_3,  PR19,  IS-6,  1,      3,2,19931107,2137, 25.6742, 122.9955, 1041,    604.2,   6.2243,  34.3667,2,     -999,9,     99.0,3,    35.70,2,     0.04,2,     2.63,2
    49TU9310_3,  PR19,  IS-6,  1,      2,2,19931107,2137, 25.6742, 122.9955, 1041,    705.2,   5.3850,  34.3845,2,     -999,9,     86.0,3,    35.90,2,     0.02,2,     2.62,2
    49TU9310_3,  PR19,  IS-6,  1,      1,2,19931107,2137, 25.6742, 122.9955, 1041,    806.8,   4.9294,  34.4038,2,     -999,9,     83.0,3,    36.70,2,     0.03,2,     2.77,2
    49TU9310_3,  PR19,  IS-6,  1,     12,2,19931107,2137, 25.6742, 122.9955, 1041,    907.7,   4.5683,  34.4149,2,     -999,9,     81.0,3,    37.60,2,     0.03,2,     2.82,2
    49TU9310_3,  PR19,  IS-6,  1,     11,2,19931107,2137, 25.6742, 122.9955, 1041,   1000.6,   4.4186,  34.4218,2,     -999,9,     78.0,3,    38.80,2,     0.05,2,     3.17,2