BOTTLE,20220705CCHSIOAMB
# Removed empty SAMPNO column
# Changed BTLNBR -999 with flag 2 to "BUCKET" with flag 2
# Changed fill value -9.9999 with flag 9 to -999 for SALNTY
#BOTTLE,20010809WHPSIOKJU
#code : jjward hyd_to_exchange.pl 
#original files copied from HTML directory: 20010809
#original HYD file: pr19_dhy.txt   Thu Aug  9 10:14:03 2001
#original SUM file: pr19_dsu.txt   Fri Apr 27 14:25:01 2001
EXPOCODE,SECT_ID,STNNBR,CASTNO,BTLNBR,BTLNBR_FLAG_W,DATE,TIME,LATITUDE,LONGITUDE,DEPTH,CTDPRS,CTDTMP,CTDSAL,CTDSAL_FLAG_W,SALNTY,SALNTY_FLAG_W,OXYGEN,OXYGEN_FLAG_W,NITRAT,NITRAT_FLAG_W,NITRIT,NITRIT_FLAG_W,PHSPHT,PHSPHT_FLAG_W
,,,,,,,,,,,DBAR,DEG C,PSS-78,,PSS-78,,UMOL/KG,,UMOL/KG,,UMOL/KG,,UMOL/KG,
    49TU9310_2,  PR19,  NS-8,  1,     10,2,19931029,2342, 22.8430, 127.2332, 5518,   2785.5,   1.6546,  34.6586,2,  34.6599,2,    146.0,3,    36.70,2,     0.04,2,     2.94,2
    49TU9310_2,  PR19,  NS-8,  1,      9,2,19931029,2342, 22.8430, 127.2332, 5518,   3041.3,   1.6091,  34.6654,2,  34.6676,2,    155.0,3,    36.90,2,     0.03,2,     2.86,2
    49TU9310_2,  PR19,  NS-8,  1,      8,2,19931029,2342, 22.8430, 127.2332, 5518,   3296.7,   1.5756,  34.6721,2,  34.6760,2,    159.0,3,    36.60,2,     0.02,2,     2.75,2
    49TU9310_2,  PR19,  NS-8,  1,      7,2,19931029,2342, 22.8430, 127.2332, 5518,   3550.2,   1.5673,  34.6745,2,  34.6804,3,    165.0,3,    36.20,2,     0.02,2,     2.78,2
    49TU9310_2,  PR19,  NS-8,  1,      6,2,19931029,2342, 22.8430, 127.2332, 5518,   3806.0,   1.5626,  34.6769,2,  34.6666,3,    150.0,3,    37.10,2,     0.05,2,     2.83,2
    49TU9310_2,  PR19,  NS-8,  1,      5,2,19931029,2342, 22.8430, 127.2332, 5518,   4058.6,   1.5666,  34.6796,2,  34.6719,3,    156.0,3,    37.60,2,     0.04,2,     3.40,2
    49TU9310_2,  PR19,  NS-8,  1,      4,2,19931029,2342, 22.8430, 127.2332, 5518,   4319.6,   1.5791,  34.6813,2,  34.6745,3,    154.0,3,    36.90,2,     0.04,2,     3.25,2
    49TU9310_2,  PR19,  NS-8,  1,      3,2,19931029,2342, 22.8430, 127.2332, 5518,   4578.2,   1.5986,  34.6827,2,  34.6821,2,    164.0,3,    36.10,2,     0.02,2,     2.71,2
    49TU9310_2,  PR19,  NS-8,  1,      2,3,19931029,2342, 22.8430, 127.2332, 5518,   4834.6,   1.6241,  34.6833,2,  34.6314,3,   -999.0,5,  -999.00,5,  -999.00,5,  -999.00,5
    49TU9310_2,  PR19,  NS-8,  1,      1,2,19931029,2342, 22.8430, 127.2332, 5518,   5092.2,   1.6526,  34.6828,2,  34.6833,2,    160.0,3,    36.40,2,     0.04,2,     3.04,2
    49TU9310_2,  PR19,  NS-8,  1,     12,2,19931029,2342, 22.8430, 127.2332, 5518,   5351.1,   1.6816,  34.6838,2,  34.6829,2,    167.0,3,    36.20,2,     0.02,2,     2.70,2
    49TU9310_2,  PR19,  NS-8,  1,     11,2,19931029,2342, 22.8430, 127.2332, 5518,   5614.6,   1.7171,  34.6824,2,  34.6829,2,    166.0,3,    36.30,2,     0.05,2,     2.82,2
    49TU9310_2,  PR19,  NS-8,  2,     10,2,19931030,0209, 22.7717, 127.1852, -999,    503.6,  10.8845,  34.3204,2,  34.3131,3,    171.0,3,    18.90,2,     0.02,2,     1.37,2
    49TU9310_2,  PR19,  NS-8,  2,      9,2,19931030,0209, 22.7717, 127.1852, -999,    604.8,   8.2641,  34.1801,2,  34.1803,2,    144.0,3,    26.30,2,     0.03,2,     2.00,2
    49TU9310_2,  PR19,  NS-8,  2,      8,2,19931030,0209, 22.7717, 127.1852, -999,    703.6,   6.4404,  34.1726,2,  34.1750,2,    110.0,3,    32.80,2,     0.03,2,     2.49,2
    49TU9310_2,  PR19,  NS-8,  2,      7,2,19931030,0209, 22.7717, 127.1852, -999,    806.4,   5.0950,  34.2262,2,  34.2496,3,     82.0,3,    36.20,2,     0.03,2,     2.78,2
    49TU9310_2,  PR19,  NS-8,  2,      6,2,19931030,0209, 22.7717, 127.1852, -999,    906.2,   4.4136,  34.3002,2,  34.4685,3,     89.0,3,    32.20,2,     0.03,2,     2.53,2
    49TU9310_2,  PR19,  NS-8,  2,      5,2,19931030,0209, 22.7717, 127.1852, -999,   1006.3,   3.9402,  34.3752,2,  34.3699,2,     60.0,3,    41.10,2,     0.04,2,     3.14,2
    49TU9310_2,  PR19,  NS-8,  2,      4,2,19931030,0209, 22.7717, 127.1852, -999,   1259.0,   3.0698,  34.4743,2,  34.4699,2,     69.0,3,    41.00,2,     0.03,2,     3.28,2
    49TU9310_2,  PR19,  NS-8,  2,      3,3,19931030,0209, 22.7717, 127.1852, -999,   1518.4,   2.5169,  34.5521,2,  34.9919,3,   -999.0,5,  -999.00,5,  -999.00,5,  -999.00,5
    49TU9310_2,  PR19,  NS-8,  2,      2,2,19931030,0209, 22.7717, 127.1852, -999,   1771.3,   2.1950,  34.5995,2,  34.5966,2,    110.0,3,    38.90,2,     0.03,2,     2.98,2
    49TU9310_2,  PR19,  NS-8,  2,      1,2,19931030,0209, 22.7717, 127.1852, -999,   2020.6,   1.9625,  34.6272,2,  34.6272,2,    122.0,3,    38.40,2,     0.02,2,     3.03,2
    49TU9310_2,  PR19,  NS-8,  2,     12,2,19931030,0209, 22.7717, 127.1852, -999,   2275.0,   1.8105,  34.6447,2,  34.6361,3,    131.0,3,    37.90,2,     0.02,2,     2.78,2
    49TU9310_2,  PR19,  NS-8,  2,     11,2,19931030,0209, 22.7717, 127.1852, -999,   2565.3,   1.7002,  34.6555,2,  34.6540,2,    136.0,3,    37.60,2,     0.02,2,     2.80,2
    49TU9310_2,  PR19,  NS-8,  3, BUCKET,2,19931030,0313, 22.7443, 127.1562, -999,      0.8,  26.7909,  35.0096,2,     -999,9,    205.0,3,     0.80,2,     0.04,2,     0.04,2
    49TU9310_2,  PR19,  NS-8,  3,     10,2,19931030,0313, 22.7443, 127.1562, -999,      7.9,  26.7897,  35.0095,2,  35.0091,2,    205.0,3,     0.70,2,     0.02,2,     0.05,2
    49TU9310_2,  PR19,  NS-8,  3,      9,2,19931030,0313, 22.7443, 127.1562, -999,     17.4,  26.7906,  35.0098,2,  35.0116,2,    205.0,3,     0.70,2,     0.03,2,     0.04,2
    49TU9310_2,  PR19,  NS-8,  3,      8,2,19931030,0313, 22.7443, 127.1562, -999,     28.6,  26.7896,  35.0104,2,  35.0101,2,    205.0,3,     0.90,2,     0.02,2,     0.24,2
    49TU9310_2,  PR19,  NS-8,  3,      7,2,19931030,0313, 22.7443, 127.1562, -999,     50.8,  26.7762,  35.0094,2,  35.0063,3,    205.0,3,     0.80,2,     0.02,2,     0.03,2
    49TU9310_2,  PR19,  NS-8,  3,      6,2,19931030,0313, 22.7443, 127.1562, -999,     74.7,  22.3394,  34.8521,2,  34.8708,3,    218.0,3,     0.70,2,     0.02,2,     0.04,2
    49TU9310_2,  PR19,  NS-8,  3,      5,2,19931030,0313, 22.7443, 127.1562, -999,    100.4,  20.5776,  34.8766,2,  34.8863,3,    205.0,3,     2.10,2,     0.05,2,     0.18,2
    49TU9310_2,  PR19,  NS-8,  3,      4,2,19931030,0313, 22.7443, 127.1562, -999,    124.6,  19.9495,  34.8747,2,  34.8765,2,    205.0,3,     2.40,2,     0.04,2,     0.18,2
    49TU9310_2,  PR19,  NS-8,  3,      3,2,19931030,0313, 22.7443, 127.1562, -999,    151.0,  19.4492,  34.8642,2,  34.8662,2,    209.0,3,     2.40,2,     0.04,2,     0.24,2
    49TU9310_2,  PR19,  NS-8,  3,      2,2,19931030,0313, 22.7443, 127.1562, -999,    201.1,  18.5343,  34.8455,2,  34.8489,3,    210.0,3,     3.60,2,     0.04,2,     0.20,2
    49TU9310_2,  PR19,  NS-8,  3,      1,2,19931030,0313, 22.7443, 127.1562, -999,    253.2,  17.5216,  34.7988,2,  34.8032,3,    202.0,3,     5.40,2,     0.05,2,     0.40,2
    49TU9310_2,  PR19,  NS-8,  3,     12,2,19931030,0313, 22.7443, 127.1562, -999,    299.6,  16.4290,  34.7302,2,  34.7335,2,    197.0,3,     7.60,2,     0.03,2,     0.55,2
    49TU9310_2,  PR19,  NS-8,  3,     11,2,19931030,0313, 22.7443, 127.1562, -999,    392.6,  13.8092,  34.5287,2,  34.5517,3,    187.0,3,    12.20,2,     0.03,2,     0.88,2
    49TU9310_2,  PR19,  NS-7,  1,     10,2,19931030,0855, 23.1607, 126.7105, 5726,   2786.8,   1.6576,  34.6584,2,  34.6597,2,    142.0,3,    37.40,2,     0.02,2,     2.75,2
    49TU9310_2,  PR19,  NS-7,  1,      9,2,19931030,0855, 23.1607, 126.7105, 5726,   3042.2,   1.6169,  34.6640,2,  34.6656,2,    145.0,3,    37.20,2,     0.02,2,     2.71,2
    49TU9310_2,  PR19,  NS-7,  1,      8,2,19931030,0855, 23.1607, 126.7105, 5726,   3297.5,   1.5866,  34.6697,2,  34.6699,2,    150.0,3,    37.10,2,     0.03,2,     2.70,2
    49TU9310_2,  PR19,  NS-7,  1,      7,2,19931030,0855, 23.1607, 126.7105, 5726,   3553.5,   1.5686,  34.6746,2,  34.6743,2,    153.0,3,    36.70,2,     0.01,2,     2.68,2
    49TU9310_2,  PR19,  NS-7,  1,      6,3,19931030,0855, 23.1607, 126.7105, 5726,   3808.1,   1.5641,  34.6781,2,  34.6501,3,   -999.0,5,  -999.00,5,  -999.00,5,  -999.00,5
    49TU9310_2,  PR19,  NS-7,  1,      5,2,19931030,0855, 23.1607, 126.7105, 5726,   4062.2,   1.5672,  34.6810,2,  34.6743,3,    153.0,3,    36.90,2,     0.04,2,     2.72,2
    49TU9310_2,  PR19,  NS-7,  1,      4,2,19931030,0855, 23.1607, 126.7105, 5726,   4321.9,   1.5821,  34.6809,2,  34.6814,2,    156.0,3,    36.40,2,     0.02,2,     2.67,2
    49TU9310_2,  PR19,  NS-7,  1,      3,3,19931030,0855, 23.1607, 126.7105, 5726,   4581.1,   1.6046,  34.6817,2,  34.9858,3,   -999.0,5,  -999.00,5,  -999.00,5,  -999.00,5
    49TU9310_2,  PR19,  NS-7,  1,      2,3,19931030,0855, 23.1607, 126.7105, 5726,   4836.2,   1.6282,  34.6832,2,  34.5495,3,   -999.0,5,  -999.00,5,  -999.00,5,  -999.00,5
    49TU9310_2,  PR19,  NS-7,  1,      1,2,19931030,0855, 23.1607, 126.7105, 5726,   5074.3,   1.6541,  34.6827,2,  34.6829,2,    157.0,3,    36.20,2,     0.03,2,     2.78,2
    49TU9310_2,  PR19,  NS-7,  2,     10,2,19931030,1120, 23.1065, 126.6535, -999,    500.4,  11.6957,  34.3723,2,  34.3801,3,    175.0,3,    17.30,2,     0.02,2,     1.33,2
    49TU9310_2,  PR19,  NS-7,  2,      9,2,19931030,1120, 23.1065, 126.6535, -999,    607.3,   8.3133,  34.1854,2,  34.1911,3,    146.0,3,    25.70,2,     0.03,2,     1.88,2
    49TU9310_2,  PR19,  NS-7,  2,      8,2,19931030,1120, 23.1065, 126.6535, -999,    707.4,   6.9910,  34.2967,2,  34.2848,3,    109.0,3,    31.30,2,     0.02,2,     2.34,2
    49TU9310_2,  PR19,  NS-7,  2,      7,2,19931030,1120, 23.1065, 126.6535, -999,    808.4,   5.3934,  34.2543,2,  34.2889,3,     85.0,3,    35.70,2,     0.02,2,     2.72,2
    49TU9310_2,  PR19,  NS-7,  2,      6,2,19931030,1120, 23.1065, 126.6535, -999,    904.4,   4.3554,  34.3040,2,  34.3903,3,     97.0,3,    32.00,2,     0.03,2,     2.39,2
    49TU9310_2,  PR19,  NS-7,  2,      5,3,19931030,1120, 23.1065, 126.6535, -999,   1006.0,   3.8806,  34.3704,2,  34.3418,3,   -999.0,5,  -999.00,5,  -999.00,5,  -999.00,5
    49TU9310_2,  PR19,  NS-7,  2,      4,2,19931030,1120, 23.1065, 126.6535, -999,   1259.5,   3.0493,  34.4764,2,  34.4744,2,     71.0,3,    41.00,2,     0.03,2,     3.09,2
    49TU9310_2,  PR19,  NS-7,  2,      3,3,19931030,1120, 23.1065, 126.6535, -999,   1512.6,   2.5482,  34.5461,2,  34.9606,3,   -999.0,5,  -999.00,5,  -999.00,5,  -999.00,5
    49TU9310_2,  PR19,  NS-7,  2,      2,2,19931030,1120, 23.1065, 126.6535, -999,   1763.8,   2.2101,  34.5930,2,  34.5936,2,    108.0,3,    39.10,2,     0.02,2,     3.08,2
    49TU9310_2,  PR19,  NS-7,  2,      1,2,19931030,1120, 23.1065, 126.6535, -999,   2024.5,   1.9510,  34.6253,2,  34.6253,2,    122.0,3,    38.40,2,     0.03,2,     2.82,2
    49TU9310_2,  PR19,  NS-7,  2,     12,2,19931030,1120, 23.1065, 126.6535, -999,   2278.3,   1.8105,  34.6415,2,  34.6412,2,    128.0,3,    38.20,2,     0.03,2,     2.79,2
    49TU9310_2,  PR19,  NS-7,  2,     11,2,19931030,1120, 23.1065, 126.6535, -999,   2535.1,   1.7076,  34.6546,2,  34.6532,2,    135.0,3,    37.70,2,     0.02,2,     2.76,2
    49TU9310_2,  PR19,  NS-7,  3, BUCKET,2,19931030,1238, 23.0780, 126.6145, -999,      0.6,  26.5226,  34.9502,2,     -999,9,    205.0,3,     0.70,2,     0.03,2,     0.03,2
    49TU9310_2,  PR19,  NS-7,  3,     10,2,19931030,1238, 23.0780, 126.6145, -999,     10.6,  26.5323,  34.9510,2,  34.9519,2,    205.0,3,     0.80,2,     0.02,2,     0.05,2
    49TU9310_2,  PR19,  NS-7,  3,      9,2,19931030,1238, 23.0780, 126.6145, -999,     20.9,  26.5315,  34.9513,2,  34.9527,2,    205.0,3,     0.80,2,     0.04,2,     0.11,2
    49TU9310_2,  PR19,  NS-7,  3,      8,2,19931030,1238, 23.0780, 126.6145, -999,     29.8,  26.5298,  34.9522,2,  34.9533,2,    205.0,3,     0.70,2,     0.02,2,     0.06,2
    49TU9310_2,  PR19,  NS-7,  3,      7,2,19931030,1238, 23.0780, 126.6145, -999,     50.8,  26.0293,  34.9016,2,  34.8609,3,    212.0,3,     0.80,2,     0.04,2,     0.11,2
    49TU9310_2,  PR19,  NS-7,  3,      6,2,19931030,1238, 23.0780, 126.6145, -999,     75.7,  22.9974,  34.8767,2,  34.8725,3,    210.0,3,     0.70,2,     0.01,2,     0.03,2
    49TU9310_2,  PR19,  NS-7,  3,      5,2,19931030,1238, 23.0780, 126.6145, -999,    103.2,  21.4248,  34.9076,2,  34.9056,2,    207.0,3,     1.80,2,     0.08,2,     0.19,2
    49TU9310_2,  PR19,  NS-7,  3,      4,2,19931030,1238, 23.0780, 126.6145, -999,    125.2,  20.4994,  34.8715,2,  34.8944,3,    209.0,3,     1.90,2,     0.07,2,     0.16,2
    49TU9310_2,  PR19,  NS-7,  3,      3,2,19931030,1238, 23.0780, 126.6145, -999,    155.9,  19.4497,  34.8679,2,  34.8680,2,    209.0,3,     2.40,2,     0.03,2,     0.15,2
    49TU9310_2,  PR19,  NS-7,  3,      2,2,19931030,1238, 23.0780, 126.6145, -999,    200.2,  18.7252,  34.8490,2,  34.8518,2,    210.0,3,     3.10,2,     0.03,2,     0.27,2
    49TU9310_2,  PR19,  NS-7,  3,      1,2,19931030,1238, 23.0780, 126.6145, -999,    253.3,  18.0200,  34.8343,2,  34.8306,3,    207.0,3,     4.40,2,     0.03,2,     0.62,2
    49TU9310_2,  PR19,  NS-7,  3,     12,2,19931030,1238, 23.0780, 126.6145, -999,    303.4,  17.0550,  34.7732,2,  34.7762,2,    201.0,3,     6.30,2,     0.02,2,     0.42,2
    49TU9310_2,  PR19,  NS-7,  3,     11,2,19931030,1238, 23.0780, 126.6145, -999,    392.0,  14.9926,  34.6192,2,  34.6316,3,    188.0,3,    10.60,2,     0.03,2,     1.01,2
    49TU9310_2,  PR19,  NS-6,  1,      4,2,19931030,1814, 23.4832, 126.2067, 5360,   2790.5,   1.6271,  34.6622,2,  34.6623,2,    141.0,3,    36.90,2,     0.02,2,     2.71,2
    49TU9310_2,  PR19,  NS-6,  1,      3,2,19931030,1814, 23.4832, 126.2067, 5360,   3041.2,   1.5751,  34.6709,2,  34.6261,3,    156.0,3,    36.60,2,     0.01,2,     2.65,2
    49TU9310_2,  PR19,  NS-6,  1,      1,2,19931030,1814, 23.4832, 126.2067, 5360,   3296.6,   1.5486,  34.6746,2,  34.6751,2,    151.0,3,    36.20,2,     0.01,2,     2.64,2
    49TU9310_2,  PR19,  NS-6,  1,     12,2,19931030,1814, 23.4832, 126.2067, 5360,   3554.4,   1.5451,  34.6783,2,  34.6658,3,    150.0,3,    36.20,2,     0.02,2,     2.67,2
    49TU9310_2,  PR19,  NS-6,  1,     11,2,19931030,1814, 23.4832, 126.2067, 5360,   3813.3,   1.5516,  34.6793,2,  34.6776,2,    155.0,3,    36.00,2,     0.02,2,     2.62,2
    49TU9310_2,  PR19,  NS-6,  1,     10,2,19931030,1814, 23.4832, 126.2067, 5360,   4064.5,   1.5607,  34.6820,2,  34.6747,3,    156.0,3,    35.80,2,     0.01,2,     2.61,2
    49TU9310_2,  PR19,  NS-6,  1,      9,2,19931030,1814, 23.4832, 126.2067, 5360,   4322.5,   1.5791,  34.6829,2,  34.6814,2,    158.0,3,    36.00,2,     0.02,2,     2.63,2
    49TU9310_2,  PR19,  NS-6,  1,      8,2,19931030,1814, 23.4832, 126.2067, 5360,   4574.5,   1.5986,  34.6842,2,  34.6825,2,    158.0,3,    36.20,2,     0.02,2,     2.67,2
    49TU9310_2,  PR19,  NS-6,  1,      7,2,19931030,1814, 23.4832, 126.2067, 5360,   4836.7,   1.6251,  34.6842,2,  34.6800,2,    156.0,3,    36.00,2,     0.02,2,     2.65,2
    49TU9310_2,  PR19,  NS-6,  1,      6,3,19931030,1814, 23.4832, 126.2067, 5360,   4945.2,   1.6386,  34.6837,2,  34.6713,3,   -999.0,5,  -999.00,5,  -999.00,5,  -999.00,5
    49TU9310_2,  PR19,  NS-6,  2,      4,2,19931030,2107, 23.4598, 126.1227, -999,    506.2,  11.8107,  34.3786,2,  34.3940,3,    167.0,3,    17.70,2,     0.02,2,     1.27,2
    49TU9310_2,  PR19,  NS-6,  2,      3,2,19931030,2107, 23.4598, 126.1227, -999,    607.8,   9.1263,  34.2458,2,  34.4444,3,    164.0,3,    17.20,2,     0.02,2,     1.24,2
    49TU9310_2,  PR19,  NS-6,  2,      2,2,19931030,2107, 23.4598, 126.1227, -999,    708.1,   6.5508,  34.1622,2,  34.1685,3,    109.0,3,    32.20,2,     0.01,2,     2.42,2
    49TU9310_2,  PR19,  NS-6,  2,      1,2,19931030,2107, 23.4598, 126.1227, -999,    807.7,   5.4493,  34.2092,2,  34.2221,3,     87.0,3,    35.70,2,     0.02,2,     2.68,2
    49TU9310_2,  PR19,  NS-6,  2,     12,2,19931030,2107, 23.4598, 126.1227, -999,    910.5,   4.5122,  34.3139,2,  34.3211,3,     72.0,3,    38.20,2,     0.01,2,     2.87,2
    49TU9310_2,  PR19,  NS-6,  2,     11,2,19931030,2107, 23.4598, 126.1227, -999,   1009.3,   3.9519,  34.3944,2,  34.3982,2,     70.0,3,    39.40,2,     0.01,2,     2.96,2
    49TU9310_2,  PR19,  NS-6,  2,     10,2,19931030,2107, 23.4598, 126.1227, -999,   1263.7,   2.9545,  34.4801,2,  34.4833,2,     74.0,3,    40.20,2,     0.01,2,     3.01,2
    49TU9310_2,  PR19,  NS-6,  2,      9,2,19931030,2107, 23.4598, 126.1227, -999,   1516.1,   2.5186,  34.5467,2,  34.5474,2,     90.0,3,    39.70,2,     0.02,2,     3.00,2
    49TU9310_2,  PR19,  NS-6,  2,      8,2,19931030,2107, 23.4598, 126.1227, -999,   1770.0,   2.2228,  34.5876,2,  34.5889,2,     59.0,3,    38.90,2,     0.01,2,     2.91,2
    49TU9310_2,  PR19,  NS-6,  2,      7,2,19931030,2107, 23.4598, 126.1227, -999,   2021.8,   1.9820,  34.6206,2,  34.6211,2,    120.0,3,    38.40,2,     0.02,2,     3.12,2
    49TU9310_2,  PR19,  NS-6,  2,      6,2,19931030,2107, 23.4598, 126.1227, -999,   2274.1,   1.8415,  34.6415,2,  34.6331,3,    127.0,3,    37.40,2,     0.02,2,     2.74,2
    49TU9310_2,  PR19,  NS-6,  2,      5,2,19931030,2107, 23.4598, 126.1227, -999,   2529.6,   1.7176,  34.6551,2,  34.6540,2,    135.0,3,    37.40,2,     0.02,2,     2.80,2
    49TU9310_2,  PR19,  NS-6,  3, BUCKET,2,19931030,2228, 23.4393, 126.0823, -999,      0.0,  26.9577,  34.7751,2,     -999,9,    203.0,3,     0.70,2,     0.02,2,     0.04,2
    49TU9310_2,  PR19,  NS-6,  3,      4,2,19931030,2228, 23.4393, 126.0823, -999,      8.0,  26.9685,  34.7752,2,  34.7743,2,    203.0,3,     0.70,2,     0.01,2,     0.07,2
    49TU9310_2,  PR19,  NS-6,  3,      3,2,19931030,2228, 23.4393, 126.0823, -999,     18.3,  26.9774,  34.7751,2,  34.7745,2,    203.0,3,     0.70,2,     0.02,2,     0.04,2
    49TU9310_2,  PR19,  NS-6,  3,      2,2,19931030,2228, 23.4393, 126.0823, -999,     28.8,  26.9815,  34.7749,2,  34.7739,2,    202.0,3,     0.70,2,     0.01,2,     0.06,2
    49TU9310_2,  PR19,  NS-6,  3,      1,2,19931030,2228, 23.4393, 126.0823, -999,     49.1,  26.9861,  34.7751,2,  34.7737,2,    202.0,3,     0.90,2,     0.04,2,     0.13,2
    49TU9310_2,  PR19,  NS-6,  3,     12,2,19931030,2228, 23.4393, 126.0823, -999,     73.6,  26.9826,  34.7768,2,  34.7749,2,    202.0,3,     0.60,2,     0.01,2,     0.03,2
    49TU9310_2,  PR19,  NS-6,  3,     11,2,19931030,2228, 23.4393, 126.0823, -999,    100.0,  25.0400,  34.9019,2,  34.9123,3,    203.0,3,     0.70,2,     0.04,2,     0.05,2
    49TU9310_2,  PR19,  NS-6,  3,     10,2,19931030,2228, 23.4393, 126.0823, -999,    124.8,  23.5313,  34.9230,2,  34.9360,3,    197.0,3,     1.10,2,     0.13,2,     0.11,2
    49TU9310_2,  PR19,  NS-6,  3,      9,2,19931030,2228, 23.4393, 126.0823, -999,    151.2,  22.0990,  34.9119,2,  34.9094,2,    193.0,3,     2.40,2,     0.05,2,     0.21,2
    49TU9310_2,  PR19,  NS-6,  3,      8,2,19931030,2228, 23.4393, 126.0823, -999,    199.9,  19.8510,  34.8783,2,  34.8763,2,    190.0,3,     4.00,2,     0.02,2,     0.32,2
    49TU9310_2,  PR19,  NS-6,  3,      7,2,19931030,2228, 23.4393, 126.0823, -999,    250.3,  18.2938,  34.8357,2,  34.8355,2,    194.0,3,     5.40,2,     0.04,2,     0.40,2
    49TU9310_2,  PR19,  NS-6,  3,      6,2,19931030,2228, 23.4393, 126.0823, -999,    299.9,  17.3892,  34.7923,2,  34.7906,2,    195.0,3,     6.30,2,     0.02,2,     0.43,2
    49TU9310_2,  PR19,  NS-6,  3,      5,2,19931030,2228, 23.4393, 126.0823, -999,    394.4,  15.2713,  34.6376,2,  34.6389,2,    188.0,3,    10.10,2,     0.02,2,     0.72,2