BOTTLE,20220705CCHSIOAMB
EXPOCODE,SECT_ID,STNNBR,CASTNO,BTLNBR,BTLNBR_FLAG_W,DATE,TIME,LATITUDE,LONGITUDE,DEPTH,CTDPRS,CTDTMP,CTDSAL,CTDSAL_FLAG_W,SALNTY,SALNTY_FLAG_W,OXYGEN,OXYGEN_FLAG_W,NITRAT,NITRAT_FLAG_W,NITRIT,NITRIT_FLAG_W,PHSPHT,PHSPHT_FLAG_W
,,,,,,,,,,,DBAR,DEG C,PSS-78,,PSS-78,,UMOL/KG,,UMOL/KG,,UMOL/KG,,UMOL/KG,
    49TU9310_3,  PR19,  IS-6,  2, BUCKET,2,19931107,2211, 25.6788, 122.9852,  650,      0.1,  26.2942,  34.7567,2,     -999,9,    206.0,3,     1.10,2,     0.02,2,     0.04,2
    49TU9310_3,  PR19,  IS-6,  2,      4,2,19931107,2211, 25.6788, 122.9852,  650,      9.4,  26.2962,  34.7564,2,     -999,9,    206.0,3,     1.10,2,     0.02,2,     0.04,2
    49TU9310_3,  PR19,  IS-6,  2,      3,2,19931107,2211, 25.6788, 122.9852,  650,     19.2,  26.3090,  34.7687,2,     -999,9,    206.0,3,     1.10,2,     0.02,2,     0.03,2
    49TU9310_3,  PR19,  IS-6,  2,      2,2,19931107,2211, 25.6788, 122.9852,  650,     30.0,  26.2977,  34.7789,2,     -999,9,    206.0,3,     1.10,2,     0.02,2,     0.04,2
    49TU9310_3,  PR19,  IS-6,  2,      1,2,19931107,2211, 25.6788, 122.9852,  650,     49.9,  26.0569,  34.7815,2,     -999,9,    207.0,3,     1.10,2,     0.01,2,     0.04,2
    49TU9310_3,  PR19,  IS-6,  2,     12,2,19931107,2211, 25.6788, 122.9852,  650,     74.1,  24.6718,  34.8229,2,     -999,9,    207.0,3,     1.10,2,     0.02,2,     0.06,2
    49TU9310_3,  PR19,  IS-6,  2,     11,2,19931107,2211, 25.6788, 122.9852,  650,    100.6,  23.0615,  34.8729,2,     -999,9,    200.0,3,     1.50,2,     0.13,2,     0.09,2
    49TU9310_3,  PR19,  IS-6,  2,     10,2,19931107,2211, 25.6788, 122.9852,  650,    126.0,  22.1578,  34.8873,2,     -999,9,    198.0,3,     1.90,2,     0.08,2,     0.12,2
    49TU9310_3,  PR19,  IS-6,  2,      9,2,19931107,2211, 25.6788, 122.9852,  650,    151.2,  20.6925,  34.7991,2,     -999,9,    193.0,3,     4.60,2,     0.08,2,     0.55,2
    49TU9310_3,  PR19,  IS-6,  2,      8,2,19931107,2211, 25.6788, 122.9852,  650,    200.2,  18.3856,  34.7841,2,     -999,9,    190.0,3,     6.20,2,     0.05,2,     0.36,2
    49TU9310_3,  PR19,  IS-6,  2,      7,2,19931107,2211, 25.6788, 122.9852,  650,    251.1,  17.3135,  34.7503,2,     -999,9,    189.0,3,     7.30,2,     0.04,2,     0.49,2
    49TU9310_3,  PR19,  IS-6,  2,      6,2,19931107,2211, 25.6788, 122.9852,  650,    301.7,  15.1885,  34.6259,2,     -999,9,    175.0,3,    12.00,2,     0.04,2,     0.79,2
    49TU9310_3,  PR19, IS-6a,  1, BUCKET,2,19931107,2307, 25.7150, 122.9158,  220,      1.3,  26.2665,  34.7277,2,     -999,9,    206.0,3,     1.10,2,     0.02,2,     0.02,2
    49TU9310_3,  PR19, IS-6a,  1,      2,2,19931107,2307, 25.7150, 122.9158,  220,      9.7,  26.2738,  34.7313,2,     -999,9,    205.0,3,     1.10,2,     0.02,2,     0.06,2
    49TU9310_3,  PR19, IS-6a,  1,      1,2,19931107,2307, 25.7150, 122.9158,  220,     19.7,  26.2791,  34.7372,2,     -999,9,    205.0,3,     1.10,2,     0.02,2,     0.03,2
    49TU9310_3,  PR19, IS-6a,  1,     12,2,19931107,2307, 25.7150, 122.9158,  220,     30.3,  26.3072,  34.7767,2,     -999,9,    205.0,3,     1.10,2,     0.03,2,     0.07,2
    49TU9310_3,  PR19, IS-6a,  1,     11,2,19931107,2307, 25.7150, 122.9158,  220,     49.9,  26.0892,  34.7773,2,     -999,9,    206.0,3,     1.10,2,     0.03,2,     0.03,2
    49TU9310_3,  PR19, IS-6a,  1,     10,2,19931107,2307, 25.7150, 122.9158,  220,     76.3,  24.8741,  34.8320,2,     -999,9,    207.0,3,     1.10,2,     0.03,2,     0.03,2
    49TU9310_3,  PR19, IS-6a,  1,      9,2,19931107,2307, 25.7150, 122.9158,  220,    100.3,  24.2087,  34.8479,2,     -999,9,    205.0,3,     1.00,2,     0.06,2,     0.05,2
    49TU9310_3,  PR19, IS-6a,  1,      8,2,19931107,2307, 25.7150, 122.9158,  220,    126.1,  23.0964,  34.7978,2,     -999,9,    197.0,3,     1.80,2,     0.15,2,     0.17,2
    49TU9310_3,  PR19, IS-6a,  1,      7,2,19931107,2307, 25.7150, 122.9158,  220,    150.2,  20.8804,  34.7973,2,     -999,9,    194.0,3,     3.50,2,     0.09,2,     0.23,2
    49TU9310_3,  PR19, IS-6a,  1,      6,2,19931107,2307, 25.7150, 122.9158,  220,    200.5,  18.7767,  34.8089,2,     -999,9,    193.0,3,     4.80,2,     0.05,2,     0.33,2
    49TU9310_3,  PR19, IS-6a,  1,      5,2,19931107,2307, 25.7150, 122.9158,  220,    219.3,  17.7041,  34.7334,2,     -999,9,    186.0,3,     7.00,2,     0.06,2,     0.51,2
    49TU9310_3,  PR19, IS-6b,  1, BUCKET,2,19931108,0015, 25.7680, 122.8283,  130,      0.4,  25.8782,  34.6898,2,     -999,9,    207.0,3,     1.10,2,     0.02,2,     0.02,2
    49TU9310_3,  PR19, IS-6b,  1,      9,2,19931108,0015, 25.7680, 122.8283,  130,     10.3,  25.8882,  34.6885,2,     -999,9,    207.0,3,     1.10,2,     0.02,2,     0.03,2
    49TU9310_3,  PR19, IS-6b,  1,      8,2,19931108,0015, 25.7680, 122.8283,  130,     20.3,  25.8869,  34.6975,2,     -999,9,    207.0,3,     1.10,2,     0.02,2,     0.03,2
    49TU9310_3,  PR19, IS-6b,  1,      7,2,19931108,0015, 25.7680, 122.8283,  130,     30.6,  25.8847,  34.7333,2,     -999,9,    207.0,3,     1.10,2,     0.02,2,     0.04,2
    49TU9310_3,  PR19, IS-6b,  1,      6,2,19931108,0015, 25.7680, 122.8283,  130,     50.6,  25.7599,  34.8003,2,     -999,9,    207.0,3,     1.10,2,     0.02,2,     0.03,2
    49TU9310_3,  PR19, IS-6b,  1,      5,2,19931108,0015, 25.7680, 122.8283,  130,     76.5,  25.4675,  34.7752,2,     -999,9,    206.0,3,     1.10,2,     0.03,2,     0.03,2
    49TU9310_3,  PR19, IS-6b,  1,      4,2,19931108,0015, 25.7680, 122.8283,  130,    100.4,  23.5770,  34.8515,2,     -999,9,    199.0,3,     1.40,2,     0.14,2,     0.08,2
    49TU9310_3,  PR19, IS-6b,  1,      3,2,19931108,0015, 25.7680, 122.8283,  130,    121.8,  21.2444,  34.8074,2,     -999,9,    194.0,3,     3.00,2,     0.10,2,     0.18,2
    49TU9310_3,  PR19,  IS-7,  1, BUCKET,2,19931108,0107, 25.8320, 122.7515,  114,      0.0,  25.9762,  34.7867,2,     -999,9,    206.0,3,     1.20,2,     0.03,2,     0.02,2
    49TU9310_3,  PR19,  IS-7,  1,      4,2,19931108,0107, 25.8320, 122.7515,  114,      8.2,  25.9690,  34.7884,2,  34.7871,2,    206.0,3,     1.20,2,     0.02,2,     0.02,2
    49TU9310_3,  PR19,  IS-7,  1,      3,2,19931108,0107, 25.8320, 122.7515,  114,     18.4,  25.9644,  34.7875,2,  34.7888,2,    206.0,3,     1.20,2,     0.02,2,     0.03,2
    49TU9310_3,  PR19,  IS-7,  1,      2,2,19931108,0107, 25.8320, 122.7515,  114,     28.5,  25.7723,  34.8003,2,  34.7995,2,    206.0,3,     1.20,2,     0.02,2,     0.09,2
    49TU9310_3,  PR19,  IS-7,  1,      1,2,19931108,0107, 25.8320, 122.7515,  114,     50.0,  25.5211,  34.8078,2,  34.8060,2,    206.0,3,     1.20,2,     0.02,2,     0.03,2
    49TU9310_3,  PR19,  IS-7,  1,     12,2,19931108,0107, 25.8320, 122.7515,  114,     74.1,  23.2313,  34.8347,2,  34.8314,3,    197.0,3,     1.50,2,     0.12,2,     0.08,2
    49TU9310_3,  PR19,  IS-7,  1,     11,2,19931108,0107, 25.8320, 122.7515,  114,     99.3,  19.9734,  34.7916,2,  34.7910,2,    190.0,3,     4.30,2,     0.08,2,     0.25,2
    49TU9310_3,  PR19,  IS-7,  1,     10,2,19931108,0107, 25.8320, 122.7515,  114,    107.0,  19.9323,  34.7916,2,  34.7912,2,    190.0,3,     4.30,2,     0.08,2,     0.25,2
    49TU9310_3,  PR19, IS-7',  1, BUCKET,2,19931108,0154, 25.8855, 122.6687,  109,      0.0,  25.8941,  34.7743,2,     -999,9,    207.0,3,     1.10,2,     0.03,2,     0.04,2
    49TU9310_3,  PR19, IS-7',  1,     10,2,19931108,0154, 25.8855, 122.6687,  109,      8.6,  25.8952,  34.7748,2,     -999,9,    207.0,3,     1.10,2,     0.03,2,     0.08,2
    49TU9310_3,  PR19, IS-7',  1,      9,2,19931108,0154, 25.8855, 122.6687,  109,     19.3,  25.7805,  34.7675,2,     -999,9,    207.0,3,     1.10,2,     0.03,2,     0.04,2
    49TU9310_3,  PR19, IS-7',  1,      8,2,19931108,0154, 25.8855, 122.6687,  109,     29.8,  25.3946,  34.7929,2,     -999,9,    205.0,3,     1.00,2,     0.05,2,     0.05,2
    49TU9310_3,  PR19, IS-7',  1,      7,2,19931108,0154, 25.8855, 122.6687,  109,     49.1,  24.5191,  34.7794,2,     -999,9,    201.0,3,     1.10,2,     0.08,2,     0.08,2
    49TU9310_3,  PR19, IS-7',  1,      6,2,19931108,0154, 25.8855, 122.6687,  109,     74.8,  23.0269,  34.7610,2,     -999,9,    196.0,3,     2.10,2,     0.10,2,     0.14,2
    49TU9310_3,  PR19, IS-7',  1,      5,2,19931108,0154, 25.8855, 122.6687,  109,     96.7,  19.9056,  34.7844,2,     -999,9,    190.0,3,     4.20,2,     0.09,2,     0.27,2
    49TU9310_3,  PR19,  IS-8,  1, BUCKET,2,19931108,0305, 26.0005, 122.5012,  110,      1.2,  25.6241,  34.6871,2,     -999,9,    206.0,3,     1.10,2,     0.04,2,     0.03,2
    49TU9310_3,  PR19,  IS-8,  1,      4,2,19931108,0305, 26.0005, 122.5012,  110,     10.2,  25.4300,  34.6890,2,     -999,9,    206.0,3,     1.10,2,     0.04,2,     0.03,2
    49TU9310_3,  PR19,  IS-8,  1,      3,2,19931108,0305, 26.0005, 122.5012,  110,     19.1,  23.9920,  34.7822,2,     -999,9,    203.0,3,     1.10,2,     0.05,2,     0.08,2
    49TU9310_3,  PR19,  IS-8,  1,      2,2,19931108,0305, 26.0005, 122.5012,  110,     29.2,  23.7234,  34.7695,2,     -999,9,    199.0,3,     1.40,2,     0.06,2,     0.11,2
    49TU9310_3,  PR19,  IS-8,  1,      1,2,19931108,0305, 26.0005, 122.5012,  110,     49.3,  21.8565,  34.7363,2,     -999,9,    193.0,3,     2.80,2,     0.09,2,     0.21,2
    49TU9310_3,  PR19,  IS-8,  1,     12,2,19931108,0305, 26.0005, 122.5012,  110,     72.9,  19.3879,  34.7581,2,     -999,9,    189.0,3,     5.10,2,     0.07,2,     0.29,2
    49TU9310_3,  PR19,  IS-8,  1,     11,2,19931108,0305, 26.0005, 122.5012,  110,    102.0,  19.0089,  34.7653,2,     -999,9,    188.0,3,     5.20,2,     0.08,2,     0.34,2
    49TU9310_3,  PR19,  IS-9,  1, BUCKET,2,19931108,0442, 26.1702, 122.2490,  101,      0.0,  24.5404,  34.6351,2,     -999,9,    211.0,3,     1.10,2,     0.05,2,     0.06,2
    49TU9310_3,  PR19,  IS-9,  1,     10,2,19931108,0442, 26.1702, 122.2490,  101,      9.7,  24.2576,  34.6293,2,     -999,9,    209.0,3,     1.10,2,     0.06,2,     0.08,2
    49TU9310_3,  PR19,  IS-9,  1,      9,2,19931108,0442, 26.1702, 122.2490,  101,     19.6,  23.1224,  34.6068,2,     -999,9,    206.0,3,     1.90,2,     0.09,2,     0.13,2
    49TU9310_3,  PR19,  IS-9,  1,      8,2,19931108,0442, 26.1702, 122.2490,  101,     30.1,  22.6664,  34.6432,2,     -999,9,    202.0,3,     2.30,2,     0.09,2,     0.15,2
    49TU9310_3,  PR19,  IS-9,  1,      7,2,19931108,0442, 26.1702, 122.2490,  101,     50.3,  18.0746,  34.7298,2,     -999,9,    186.0,3,     6.30,2,     0.09,2,     0.39,2
    49TU9310_3,  PR19,  IS-9,  1,      6,2,19931108,0442, 26.1702, 122.2490,  101,     75.3,  18.0255,  34.7292,2,     -999,9,    185.0,3,     6.80,2,     0.09,2,     0.42,2
    49TU9310_3,  PR19,  IS-9,  1,      5,2,19931108,0442, 26.1702, 122.2490,  101,     97.0,  18.0230,  34.7301,2,     -999,9,    185.0,3,     6.80,2,     0.08,2,     0.39,2
    49TU9310_3,  PR19, IS-10,  1, BUCKET,2,19931108,0618, 26.3292, 121.9930,  100,      0.1,  24.5292,  34.5911,2,     -999,9,    212.0,3,     1.10,2,     0.05,2,     0.06,2
    49TU9310_3,  PR19, IS-10,  1,      5,2,19931108,0618, 26.3292, 121.9930,  100,      7.9,  24.5138,  34.5884,2,     -999,9,    212.0,3,     1.20,2,     0.04,2,     0.07,2
    49TU9310_3,  PR19, IS-10,  1,      4,2,19931108,0618, 26.3292, 121.9930,  100,     17.8,  23.9677,  34.6388,2,     -999,9,    210.0,3,     1.10,2,     0.07,2,     0.07,2
    49TU9310_3,  PR19, IS-10,  1,      3,2,19931108,0618, 26.3292, 121.9930,  100,     29.5,  21.4457,  34.5914,2,     -999,9,    206.0,3,     2.50,2,     0.26,2,     0.21,2
    49TU9310_3,  PR19, IS-10,  1,      2,2,19931108,0618, 26.3292, 121.9930,  100,     49.8,  19.3173,  34.6466,2,     -999,9,    186.0,3,     6.50,2,     0.19,2,     0.43,2
    49TU9310_3,  PR19, IS-10,  1,      1,2,19931108,0618, 26.3292, 121.9930,  100,     73.6,  17.1710,  34.6301,2,     -999,9,    179.0,3,     8.70,2,     0.16,2,     0.60,2
    49TU9310_3,  PR19, IS-10,  1,     12,2,19931108,0618, 26.3292, 121.9930,  100,     86.9,  17.1409,  34.6282,2,     -999,9,    180.0,3,     9.40,2,     0.16,2,     0.57,2
    49TU9310_3,  PR19, IS-11,  1, BUCKET,2,19931108,0759, 26.4902, 121.7568,   94,      1.0,  23.4698,  33.4759,2,     -999,9,    224.0,3,     1.00,2,     0.20,2,     0.08,2
    49TU9310_3,  PR19, IS-11,  1,     11,2,19931108,0759, 26.4902, 121.7568,   94,      8.8,  23.4813,  33.4816,2,     -999,9,    224.0,3,     1.00,2,     0.19,2,     0.13,2
    49TU9310_3,  PR19, IS-11,  1,     10,2,19931108,0759, 26.4902, 121.7568,   94,     19.4,  23.7882,  33.9674,2,     -999,9,    207.0,3,     1.90,2,     0.24,2,     0.16,2
    49TU9310_3,  PR19, IS-11,  1,      9,2,19931108,0759, 26.4902, 121.7568,   94,     30.2,  23.8003,  34.2749,2,     -999,9,    209.0,3,     1.10,2,     0.51,2,     0.14,2
    49TU9310_3,  PR19, IS-11,  1,      8,2,19931108,0759, 26.4902, 121.7568,   94,     50.9,  23.6884,  34.4988,2,     -999,9,    210.0,3,     0.60,2,     0.93,2,     0.14,2
    49TU9310_3,  PR19, IS-11,  1,      7,2,19931108,0759, 26.4902, 121.7568,   94,     74.2,  16.7237,  34.5911,2,     -999,9,    175.0,3,     9.90,2,     0.19,2,     0.71,2
    49TU9310_3,  PR19, IS-11,  1,      6,2,19931108,0759, 26.4902, 121.7568,   94,     80.8,  16.6429,  34.5903,2,     -999,9,    174.0,3,     9.90,2,     0.18,2,     0.71,2
    49TU9310_3,  PR19, IS-12,  1, BUCKET,2,19931108,0947, 26.6607, 121.5067,   75,      0.4,  24.3110,  33.6072,2,     -999,9,    205.0,3,     2.70,2,     0.19,2,     0.29,2
    49TU9310_3,  PR19, IS-12,  1,      4,2,19931108,0947, 26.6607, 121.5067,   75,      9.9,  24.3148,  33.6064,2,     -999,9,    204.0,3,     2.70,2,     0.19,2,     0.26,2
    49TU9310_3,  PR19, IS-12,  1,      3,2,19931108,0947, 26.6607, 121.5067,   75,     19.7,  24.3038,  33.6149,2,     -999,9,    203.0,3,     2.70,2,     0.19,2,     0.26,2
    49TU9310_3,  PR19, IS-12,  1,      2,2,19931108,0947, 26.6607, 121.5067,   75,     30.2,  23.9820,  33.7380,2,     -999,9,    203.0,3,     2.10,2,     0.25,2,     0.20,2
    49TU9310_3,  PR19, IS-12,  1,      1,2,19931108,0947, 26.6607, 121.5067,   75,     50.6,  23.8578,  33.9014,2,     -999,9,    211.0,3,     1.40,2,     0.32,2,     0.17,2
    49TU9310_3,  PR19, IS-12,  1,     12,2,19931108,0947, 26.6607, 121.5067,   75,     69.2,  23.8895,  33.9241,2,     -999,9,    210.0,3,     1.40,2,     0.32,2,     0.17,2
    49TU9310_3,  PR19, IS-13,  1, BUCKET,2,19931108,1131, 26.8307, 121.2548,   67,      0.4,  23.6806,  33.1601,2,     -999,9,    221.0,3,     1.10,2,     0.20,2,     0.11,2
    49TU9310_3,  PR19, IS-13,  1,      9,2,19931108,1131, 26.8307, 121.2548,   67,      9.0,  23.6847,  33.1711,2,  33.1751,3,    221.0,3,     1.10,2,     0.20,2,     0.17,2
    49TU9310_3,  PR19, IS-13,  1,      8,2,19931108,1131, 26.8307, 121.2548,   67,     19.0,  23.5044,  33.2483,2,  33.2474,2,    214.0,3,     1.40,2,     0.29,2,     0.16,2
    49TU9310_3,  PR19, IS-13,  1,      7,2,19931108,1131, 26.8307, 121.2548,   67,     29.1,  23.6190,  33.4829,2,  33.4164,3,    205.0,3,     2.60,2,     0.33,2,     0.27,2
    49TU9310_3,  PR19, IS-13,  1,      6,2,19931108,1131, 26.8307, 121.2548,   67,     47.9,  23.8603,  33.8155,2,  33.8106,3,    201.0,3,     1.90,2,     0.24,2,     0.22,2
    49TU9310_3,  PR19, IS-13,  1,      5,2,19931108,1131, 26.8307, 121.2548,   67,     59.5,  23.8598,  33.8683,2,  33.8660,3,    201.0,3,     2.30,2,     0.24,2,     0.23,2