BOTTLE,20220705CCHSIOAMB
# Removed empty SAMPNO column
# Changed BTLNBR -999 with flag 2 to "BUCKET" with flag 2
#BOTTLE,20010626WHPSIOKJU
#code : jjward hyd_to_exchange.pl 
#original files copied from HTML directory: 20010526
#original HYD file: pr19_chy.txt   Tue Jun 26 12:53:11 2001
#original SUM file: pr19_csu.txt.tmp   Tue Jun 26 12:43:26 2001
EXPOCODE,SECT_ID,STNNBR,CASTNO,BTLNBR,BTLNBR_FLAG_W,DATE,TIME,LATITUDE,LONGITUDE,DEPTH,CTDPRS,CTDTMP,CTDSAL,CTDSAL_FLAG_W,SALNTY,SALNTY_FLAG_W,OXYGEN,OXYGEN_FLAG_W,NITRAT,NITRAT_FLAG_W,NITRIT,NITRIT_FLAG_W,PHSPHT,PHSPHT_FLAG_W
,,,,,,,,,,,DBAR,DEG C,PSS-78,,PSS-78,,UMOL/KG,,UMOL/KG,,UMOL/KG,,UMOL/KG,
    49TU9210_4,  PR19, IS-13,  1, BUCKET,2,19921109,1200, 26.8332, 121.2410,   68,      0.6,  21.7821,  33.5173,2,-999.0000,9,    222.0,3,     3.90,2,     0.46,2,     0.29,2
    49TU9210_4,  PR19, IS-13,  1,      9,2,19921109,1200, 26.8332, 121.2410,   68,     10.3,  21.7803,  33.5171,2,  33.5150,2,    221.0,3,     3.80,2,     0.46,2,     0.32,2
    49TU9210_4,  PR19, IS-13,  1,      8,2,19921109,1200, 26.8332, 121.2410,   68,     20.4,  21.8018,  33.5187,2,  33.5127,2,    220.0,3,     3.80,2,     0.46,2,     0.33,2
    49TU9210_4,  PR19, IS-13,  1,      7,2,19921109,1200, 26.8332, 121.2410,   68,     30.3,  22.3561,  33.7817,2,  33.7735,2,    215.0,3,     3.30,2,     0.48,2,     0.20,2
    49TU9210_4,  PR19, IS-13,  1,      6,2,19921109,1200, 26.8332, 121.2410,   68,     49.3,  22.5340,  33.9225,2,  33.9176,2,    214.0,3,     2.80,2,     0.62,2,     0.20,2
    49TU9210_4,  PR19, IS-13,  1,      5,2,19921109,1200, 26.8332, 121.2410,   68,     60.7,  22.5439,  33.9282,2,  33.9184,3,    214.0,3,     2.70,2,     0.64,2,     0.18,2
    49TU9210_4,  PR19, IS-12,  1, BUCKET,2,19921109,1351, 26.6642, 121.4973,   75,      0.5,  22.6167,  34.1392,2,-999.0000,9,    218.0,3,     2.60,2,     0.80,2,     0.31,2
    49TU9210_4,  PR19, IS-12,  1,      2,2,19921109,1351, 26.6642, 121.4973,   75,      9.1,  22.6390,  34.1393,2,-999.0000,9,    217.0,3,     2.50,2,     0.79,2,     0.24,2
    49TU9210_4,  PR19, IS-12,  1,      1,2,19921109,1351, 26.6642, 121.4973,   75,     20.2,  22.6411,  34.1393,2,-999.0000,9,    217.0,3,     2.50,2,     0.79,2,     0.31,2
    49TU9210_4,  PR19, IS-12,  1,     12,2,19921109,1351, 26.6642, 121.4973,   75,     30.6,  22.6471,  34.1386,2,-999.0000,9,    214.0,3,     2.50,2,     0.80,2,     0.32,2
    49TU9210_4,  PR19, IS-12,  1,     11,2,19921109,1351, 26.6642, 121.4973,   75,     48.6,  22.6495,  34.1401,2,-999.0000,9,    215.0,3,     2.50,2,     0.80,2,     0.25,2
    49TU9210_4,  PR19, IS-12,  1,     10,2,19921109,1351, 26.6642, 121.4973,   75,     69.0,  22.6384,  34.1406,2,-999.0000,9,    212.0,3,     2.50,2,     0.81,2,     0.26,2
    49TU9210_4,  PR19, IS-11,  1, BUCKET,2,19921109,1532, 26.4950, 121.7505,   91,      1.1,  22.5506,  34.2044,2,-999.0000,9,    216.0,3,     1.50,2,     0.84,2,     0.24,2
    49TU9210_4,  PR19, IS-11,  1,      7,2,19921109,1532, 26.4950, 121.7505,   91,     10.7,  22.5889,  34.2059,2,-999.0000,9,    216.0,3,     1.50,2,     0.84,2,     0.24,2
    49TU9210_4,  PR19, IS-11,  1,      6,2,19921109,1532, 26.4950, 121.7505,   91,     21.0,  22.5784,  34.2017,2,-999.0000,9,    216.0,3,     1.50,2,     0.84,2,     0.24,2
    49TU9210_4,  PR19, IS-11,  1,      5,2,19921109,1532, 26.4950, 121.7505,   91,     28.9,  22.5906,  34.2126,2,-999.0000,9,    216.0,3,     1.50,2,     0.84,2,  -999.00,4
    49TU9210_4,  PR19, IS-11,  1,      4,2,19921109,1532, 26.4950, 121.7505,   91,     50.4,  22.6569,  34.2778,2,-999.0000,9,    216.0,3,  -999.00,4,  -999.00,4,  -999.00,4
    49TU9210_4,  PR19, IS-11,  1,      3,2,19921109,1532, 26.4950, 121.7505,   91,     86.0,  19.3846,  34.4896,2,-999.0000,9,    182.0,3,     7.30,2,     0.59,2,     0.59,2
    49TU9210_4,  PR19, IS-10,  1, BUCKET,2,19921109,1711, 26.3283, 121.9987,   98,      2.0,  23.7064,  34.5193,2,-999.0000,9,    212.0,3,     1.00,2,     0.18,2,     0.13,2
    49TU9210_4,  PR19, IS-10,  1,      1,2,19921109,1711, 26.3283, 121.9987,   98,      9.4,  23.7113,  34.5181,2,-999.0000,9,    211.0,3,     0.90,2,     0.18,2,     0.13,2
    49TU9210_4,  PR19, IS-10,  1,     12,2,19921109,1711, 26.3283, 121.9987,   98,     20.7,  22.9341,  34.5271,2,-999.0000,9,    214.0,3,     1.00,2,     0.20,2,     0.10,2
    49TU9210_4,  PR19, IS-10,  1,     11,2,19921109,1711, 26.3283, 121.9987,   98,     30.7,  22.8128,  34.5289,2,-999.0000,9,    214.0,3,     1.00,2,     0.20,2,     0.15,2
    49TU9210_4,  PR19, IS-10,  1,     10,2,19921109,1711, 26.3283, 121.9987,   98,     50.2,  22.6525,  34.5331,2,-999.0000,9,    213.0,3,     1.40,2,     0.22,2,     0.17,2
    49TU9210_4,  PR19, IS-10,  1,      9,2,19921109,1711, 26.3283, 121.9987,   98,     74.5,  17.5645,  34.5927,2,-999.0000,9,    176.0,3,     9.60,2,     0.28,2,     0.68,2
    49TU9210_4,  PR19, IS-10,  1,      8,2,19921109,1711, 26.3283, 121.9987,   98,     94.4,  17.4696,  34.5995,2,-999.0000,9,    176.0,3,     9.60,2,     0.26,2,     0.71,2
    49TU9210_4,  PR19,  IS-9,  1, BUCKET,2,19921109,1852, 26.1668, 122.2502,  101,      2.0,  25.1389,  34.5244,2,-999.0000,9,    206.0,3,     0.60,2,     0.21,2,     0.04,2
    49TU9210_4,  PR19,  IS-9,  1,      7,2,19921109,1852, 26.1668, 122.2502,  101,     11.1,  25.1622,  34.5242,2,-999.0000,9,    205.0,3,     0.50,2,     0.19,2,     0.07,2
    49TU9210_4,  PR19,  IS-9,  1,      6,2,19921109,1852, 26.1668, 122.2502,  101,     19.1,  25.1741,  34.5245,2,-999.0000,9,    205.0,3,     0.50,2,     0.18,2,     0.10,2
    49TU9210_4,  PR19,  IS-9,  1,      5,2,19921109,1852, 26.1668, 122.2502,  101,     31.7,  25.1619,  34.5261,2,-999.0000,9,    205.0,3,     0.50,2,     0.18,2,     0.06,2
    49TU9210_4,  PR19,  IS-9,  1,      4,2,19921109,1852, 26.1668, 122.2502,  101,     51.6,  23.5091,  34.5763,2,-999.0000,9,    195.0,3,     2.00,2,     0.22,2,     0.17,2
    49TU9210_4,  PR19,  IS-9,  1,      3,2,19921109,1852, 26.1668, 122.2502,  101,     76.4,  19.9032,  34.7527,2,-999.0000,9,    180.0,3,     5.80,2,     0.22,2,     0.40,2
    49TU9210_4,  PR19,  IS-9,  1,      2,2,19921109,1852, 26.1668, 122.2502,  101,     94.5,  19.5126,  34.7329,2,-999.0000,9,    179.0,3,     6.70,2,     0.21,2,     0.50,2
    49TU9210_4,  PR19,  IS-8,  1, BUCKET,2,19921109,2050, 26.0013, 122.4885,  108,      1.6,  25.7086,  34.4992,2,-999.0000,9,    206.0,3,     0.30,2,     0.18,2,     0.07,2
    49TU9210_4,  PR19,  IS-8,  1,      1,2,19921109,2050, 26.0013, 122.4885,  108,      8.9,  25.7146,  34.4997,2,-999.0000,9,    206.0,3,     0.30,2,     0.18,2,     0.23,2
    49TU9210_4,  PR19,  IS-8,  1,     12,2,19921109,2050, 26.0013, 122.4885,  108,     19.5,  25.7077,  34.4971,2,-999.0000,9,    204.0,3,     0.30,2,     0.18,2,     0.08,2
    49TU9210_4,  PR19,  IS-8,  1,     11,2,19921109,2050, 26.0013, 122.4885,  108,     31.5,  25.0608,  34.4709,2,-999.0000,9,    201.0,3,     0.90,2,     0.27,2,     0.11,2
    49TU9210_4,  PR19,  IS-8,  1,     10,2,19921109,2050, 26.0013, 122.4885,  108,     51.7,  24.2462,  34.6386,2,-999.0000,9,    190.0,3,     1.70,2,     0.25,2,     0.19,2
    49TU9210_4,  PR19,  IS-8,  1,      9,2,19921109,2050, 26.0013, 122.4885,  108,     76.7,  23.4631,  34.7630,2,-999.0000,9,    190.0,3,     2.10,2,     0.26,2,     0.23,2
    49TU9210_4,  PR19,  IS-8,  1,      8,2,19921109,2050, 26.0013, 122.4885,  108,     99.0,  23.4302,  34.7655,2,-999.0000,9,    190.0,3,     1.90,2,     0.24,2,     0.22,2
    49TU9210_4,  PR19, IS-7',  1, BUCKET,2,19921109,2234, 25.8907, 122.6577,  108,      2.4,  25.4294,  34.5194,2,-999.0000,9,    205.0,3,     0.20,2,     0.17,2,     0.08,2
    49TU9210_4,  PR19, IS-7',  1,      7,2,19921109,2234, 25.8907, 122.6577,  108,      9.4,  25.4566,  34.5188,2,-999.0000,9,    202.0,3,     0.10,2,     0.15,2,     0.07,2
    49TU9210_4,  PR19, IS-7',  1,      6,2,19921109,2234, 25.8907, 122.6577,  108,     18.9,  25.4678,  34.5180,2,-999.0000,9,    205.0,3,     0.10,2,     0.15,2,     0.05,2
    49TU9210_4,  PR19, IS-7',  1,      5,2,19921109,2234, 25.8907, 122.6577,  108,     29.0,  25.4856,  34.5172,2,-999.0000,9,    206.0,3,     0.10,2,     0.15,2,     0.07,2
    49TU9210_4,  PR19, IS-7',  1,      4,2,19921109,2234, 25.8907, 122.6577,  108,     50.9,  25.4888,  34.5170,2,-999.0000,9,    208.0,3,     0.10,2,     0.16,2,     0.04,2
    49TU9210_4,  PR19, IS-7',  1,      3,2,19921109,2234, 25.8907, 122.6577,  108,     74.1,  25.4207,  34.5239,2,-999.0000,9,    207.0,3,     0.20,2,     0.18,2,     0.05,2
    49TU9210_4,  PR19, IS-7',  1,      2,2,19921109,2234, 25.8907, 122.6577,  108,    103.5,  22.7852,  34.7943,2,-999.0000,9,    187.0,3,     2.40,2,     0.23,2,     0.24,2
    49TU9210_4,  PR19,  IS-7,  1, BUCKET,2,19921109,2348, 25.8357, 122.7470,  114,      1.0,  25.5588,  34.5053,2,-999.0000,9,    206.0,3,     0.30,2,     0.19,2,     0.05,2
    49TU9210_4,  PR19,  IS-7,  1,      1,2,19921109,2348, 25.8357, 122.7470,  114,     10.7,  25.5553,  34.5051,2,  34.5025,2,    205.0,3,     0.30,2,     0.18,2,     0.06,2
    49TU9210_4,  PR19,  IS-7,  1,     12,2,19921109,2348, 25.8357, 122.7470,  114,     23.0,  25.5492,  34.5094,2,  34.5027,2,    205.0,3,     0.30,2,     0.19,2,     0.04,2
    49TU9210_4,  PR19,  IS-7,  1,     11,2,19921109,2348, 25.8357, 122.7470,  114,     31.5,  25.5547,  34.5087,2,  34.5053,2,    204.0,3,     0.30,2,     0.21,2,     0.04,2
    49TU9210_4,  PR19,  IS-7,  1,     10,2,19921109,2348, 25.8357, 122.7470,  114,     50.1,  25.4971,  34.5244,2,  34.5216,2,    199.0,3,     0.30,2,     0.21,2,     0.05,2
    49TU9210_4,  PR19,  IS-7,  1,      9,2,19921109,2348, 25.8357, 122.7470,  114,     76.2,  24.9286,  34.6343,2,  34.6280,2,    195.0,3,     1.00,2,     0.25,2,     0.15,2
    49TU9210_4,  PR19,  IS-7,  1,      8,2,19921109,2348, 25.8357, 122.7470,  114,    110.6,  22.9894,  34.7690,2,  34.7636,2,    188.0,3,     2.30,2,     0.25,2,     0.24,2
    49TU9210_4,  PR19, IS-6b,  1, BUCKET,2,19921110,0055, 25.7687, 122.8310,  132,      0.3,  25.5567,  34.5117,2,-999.0000,9,    205.0,3,     0.40,2,     0.19,2,     0.04,2
    49TU9210_4,  PR19, IS-6b,  1,      8,2,19921110,0055, 25.7687, 122.8310,  132,      9.3,  25.5846,  34.5102,2,-999.0000,9,    205.0,3,     0.50,2,     0.18,2,     0.08,2
    49TU9210_4,  PR19, IS-6b,  1,      7,2,19921110,0055, 25.7687, 122.8310,  132,     19.4,  25.5819,  34.5114,2,-999.0000,9,    205.0,3,     0.30,2,     0.17,2,     0.07,2
    49TU9210_4,  PR19, IS-6b,  1,      6,2,19921110,0055, 25.7687, 122.8310,  132,     28.8,  25.5876,  34.5107,2,-999.0000,9,    205.0,3,     0.50,2,     0.19,2,     0.07,2
    49TU9210_4,  PR19, IS-6b,  1,      5,2,19921110,0055, 25.7687, 122.8310,  132,     49.6,  24.3529,  34.7442,2,-999.0000,9,    192.0,3,     1.40,2,     0.25,2,     0.15,2
    49TU9210_4,  PR19, IS-6b,  1,      4,2,19921110,0055, 25.7687, 122.8310,  132,     72.8,  21.1672,  34.8810,2,-999.0000,9,    186.0,3,     3.70,2,     0.19,2,     0.28,2
    49TU9210_4,  PR19, IS-6b,  1,      3,2,19921110,0055, 25.7687, 122.8310,  132,     98.1,  19.7443,  34.8278,2,-999.0000,9,    182.0,3,     5.50,2,     0.19,2,     0.43,2
    49TU9210_4,  PR19, IS-6b,  1,      2,2,19921110,0055, 25.7687, 122.8310,  132,    122.2,  19.6054,  34.8209,2,-999.0000,9,    180.0,3,     5.70,2,     0.18,2,     0.44,2
    49TU9210_4,  PR19, IS-6a,  1, BUCKET,2,19921110,0200, 25.7130, 122.9152,  225,      1.1,  25.2483,  34.5516,2,-999.0000,9,    207.0,3,     0.20,2,     0.16,2,     0.06,2
    49TU9210_4,  PR19, IS-6a,  1,      6,2,19921110,0200, 25.7130, 122.9152,  225,     10.5,  25.2604,  34.5506,2,-999.0000,9,    207.0,3,     0.30,2,     0.16,2,     0.04,2
    49TU9210_4,  PR19, IS-6a,  1,      5,2,19921110,0200, 25.7130, 122.9152,  225,     19.0,  25.2752,  34.5506,2,-999.0000,9,    205.0,3,     0.20,2,     0.17,2,     0.07,2
    49TU9210_4,  PR19, IS-6a,  1,      4,2,19921110,0200, 25.7130, 122.9152,  225,     28.9,  25.2703,  34.5505,2,-999.0000,9,    208.0,3,     0.20,2,     0.16,2,     0.06,2
    49TU9210_4,  PR19, IS-6a,  1,      3,2,19921110,0200, 25.7130, 122.9152,  225,     52.8,  25.2763,  34.5513,2,-999.0000,9,    202.0,3,     0.20,2,     0.16,2,     0.05,2
    49TU9210_4,  PR19, IS-6a,  1,      2,2,19921110,0200, 25.7130, 122.9152,  225,     76.7,  25.2697,  34.5519,2,-999.0000,9,    196.0,3,     0.30,2,     0.16,2,     0.07,2
    49TU9210_4,  PR19, IS-6a,  1,      1,2,19921110,0200, 25.7130, 122.9152,  225,    102.0,  23.0465,  34.7427,2,-999.0000,9,    187.0,3,     2.90,2,     0.23,2,     0.23,2
    49TU9210_4,  PR19, IS-6a,  1,     12,2,19921110,0200, 25.7130, 122.9152,  225,    126.9,  19.7520,  34.7775,2,-999.0000,9,    182.0,3,     5.70,2,     0.18,2,     0.43,2
    49TU9210_4,  PR19, IS-6a,  1,     11,2,19921110,0200, 25.7130, 122.9152,  225,    150.2,  17.9731,  34.7739,2,-999.0000,9,    182.0,3,     6.90,2,     0.18,2,     0.51,2
    49TU9210_4,  PR19, IS-6a,  1,     10,2,19921110,0200, 25.7130, 122.9152,  225,    201.1,  16.1213,  34.6654,2,-999.0000,9,    176.0,3,    10.40,2,     0.18,2,     0.71,2
    49TU9210_4,  PR19, IS-6a,  1,      9,2,19921110,0200, 25.7130, 122.9152,  225,    215.7,  16.0321,  34.6539,2,-999.0000,9,    175.0,3,    10.90,2,     0.19,2,     0.76,2
    49TU9210_4,  PR19,  IS-6,  1,     11,2,19921110,0325, 25.6558, 122.9977,  919,    402.7,  11.1396,  34.4434,2,-999.0000,9,    153.0,3,    20.70,2,     0.16,2,     1.47,2
    49TU9210_4,  PR19,  IS-6,  1,     10,2,19921110,0325, 25.6558, 122.9977,  919,    505.5,   8.5618,  34.3717,2,-999.0000,9,    121.0,3,    27.30,2,     0.17,2,     1.96,2
    49TU9210_4,  PR19,  IS-6,  1,      9,2,19921110,0325, 25.6558, 122.9977,  919,    604.4,   6.5376,  34.3587,2,-999.0000,9,    101.0,3,    32.50,2,     0.16,2,     2.35,2
    49TU9210_4,  PR19,  IS-6,  1,      8,2,19921110,0325, 25.6558, 122.9977,  919,    707.9,   5.8702,  34.3839,2,-999.0000,9,     88.0,3,    34.30,2,     0.16,2,     2.47,2
    49TU9210_4,  PR19,  IS-6,  1,      7,2,19921110,0325, 25.6558, 122.9977,  919,    860.5,   5.2462,  34.4016,2,-999.0000,9,     82.0,3,    35.50,2,     0.16,2,     2.56,2
    49TU9210_4,  PR19,  IS-6,  2, BUCKET,2,19921110,0405, 25.6485, 122.9920,  909,      1.7,  25.2457,  34.5336,2,-999.0000,9,    203.0,3,     0.20,2,     0.16,2,     0.05,2
    49TU9210_4,  PR19,  IS-6,  2,     10,2,19921110,0405, 25.6485, 122.9920,  909,     10.3,  25.2708,  34.5326,2,-999.0000,9,    207.0,3,     0.20,2,     0.18,2,     0.05,2
    49TU9210_4,  PR19,  IS-6,  2,      9,2,19921110,0405, 25.6485, 122.9920,  909,     18.6,  25.2718,  34.5333,2,-999.0000,9,    207.0,3,     0.20,2,     0.16,2,     0.06,2
    49TU9210_4,  PR19,  IS-6,  2,      8,2,19921110,0405, 25.6485, 122.9920,  909,     31.6,  25.2748,  34.5314,2,-999.0000,9,    207.0,3,     0.10,2,     0.16,2,     0.05,2
    49TU9210_4,  PR19,  IS-6,  2,      7,2,19921110,0405, 25.6485, 122.9920,  909,     48.7,  25.2667,  34.5324,2,-999.0000,9,    207.0,3,     0.20,2,     0.16,2,     0.06,2
    49TU9210_4,  PR19,  IS-6,  2,      6,2,19921110,0405, 25.6485, 122.9920,  909,     72.0,  25.2872,  34.5317,2,-999.0000,9,    202.0,3,     0.20,2,     0.16,2,     0.07,2
    49TU9210_4,  PR19,  IS-6,  2,      5,2,19921110,0405, 25.6485, 122.9920,  909,    102.1,  24.5829,  34.6933,2,-999.0000,9,    188.0,3,     1.40,2,     0.25,2,     0.13,2
    49TU9210_4,  PR19,  IS-6,  2,      4,2,19921110,0405, 25.6485, 122.9920,  909,    125.7,  22.1104,  34.7789,2,-999.0000,9,    182.0,3,     3.70,2,     0.21,2,     0.30,2
    49TU9210_4,  PR19,  IS-6,  2,      3,2,19921110,0405, 25.6485, 122.9920,  909,    150.7,  21.2452,  34.7989,2,-999.0000,9,    180.0,3,     4.20,2,     0.23,2,     0.35,2
    49TU9210_4,  PR19,  IS-6,  2,      2,2,19921110,0405, 25.6485, 122.9920,  909,    202.1,  17.7653,  34.7376,2,-999.0000,9,    178.0,3,     8.10,2,     0.17,2,     0.57,2
    49TU9210_4,  PR19,  IS-6,  2,      1,2,19921110,0405, 25.6485, 122.9920,  909,    251.7,  16.3598,  34.6925,2,-999.0000,9,    177.0,3,     9.90,2,     0.17,2,     0.70,2
    49TU9210_4,  PR19,  IS-6,  2,     12,2,19921110,0405, 25.6485, 122.9920,  909,    301.5,  14.8513,  34.6152,2,-999.0000,9,    172.0,3,    12.30,2,     0.18,2,     0.87,2
    49TU9210_4,  PR19,  IS-5,  1,      2,2,19921110,0628, 25.4973, 123.2528,  751,    403.5,  11.7823,  34.4532,2,-999.0000,9,    154.0,3,    19.00,2,     0.16,2,     1.32,2
    49TU9210_4,  PR19,  IS-5,  1,      1,2,19921110,0628, 25.4973, 123.2528,  751,    503.7,   8.9438,  34.3409,2,-999.0000,9,    131.0,3,    25.90,2,     0.15,2,     1.85,2
    49TU9210_4,  PR19,  IS-5,  1,     12,2,19921110,0628, 25.4973, 123.2528,  751,    605.0,   7.1757,  34.3204,2,-999.0000,9,    109.0,3,    30.40,2,     0.17,2,     2.15,2
    49TU9210_4,  PR19,  IS-5,  1,     11,2,19921110,0628, 25.4973, 123.2528,  751,    706.1,   5.8598,  34.3714,2,-999.0000,9,     94.0,3,    34.30,2,     0.16,2,     2.46,2
    49TU9210_4,  PR19,  IS-5,  2, BUCKET,2,19921110,0559, 25.4937, 123.2502,  825,      1.8,  25.6181,  34.4990,2,-999.0000,9,    206.0,3,     0.10,2,     0.16,2,     0.05,2
    49TU9210_4,  PR19,  IS-5,  2,      1,2,19921110,0559, 25.4937, 123.2502,  825,      9.7,  25.6336,  34.4978,2,-999.0000,9,    204.0,3,     0.20,2,     0.18,2,     0.06,2
    49TU9210_4,  PR19,  IS-5,  2,     12,2,19921110,0559, 25.4937, 123.2502,  825,     20.0,  25.6341,  34.4995,2,-999.0000,9,    204.0,3,     0.10,2,     0.16,2,     0.06,2
    49TU9210_4,  PR19,  IS-5,  2,     11,2,19921110,0559, 25.4937, 123.2502,  825,     29.0,  25.6351,  34.4998,2,-999.0000,9,    205.0,3,     0.10,2,     0.16,2,     0.06,2
    49TU9210_4,  PR19,  IS-5,  2,     10,2,19921110,0559, 25.4937, 123.2502,  825,     50.1,  25.6365,  34.5008,2,-999.0000,9,    205.0,3,     0.10,2,     0.16,2,     0.05,2
    49TU9210_4,  PR19,  IS-5,  2,      9,2,19921110,0559, 25.4937, 123.2502,  825,     77.8,  25.6418,  34.5023,2,-999.0000,9,    205.0,3,     0.10,2,     0.17,2,     0.05,2
    49TU9210_4,  PR19,  IS-5,  2,      8,2,19921110,0559, 25.4937, 123.2502,  825,    102.4,  25.4019,  34.5905,2,-999.0000,9,    201.0,3,     0.20,2,     0.20,2,     0.07,2
    49TU9210_4,  PR19,  IS-5,  2,      7,2,19921110,0559, 25.4937, 123.2502,  825,    126.8,  23.9455,  34.8449,2,-999.0000,9,    189.0,3,     0.90,2,     0.21,2,     0.09,2
    49TU9210_4,  PR19,  IS-5,  2,      6,2,19921110,0559, 25.4937, 123.2502,  825,    149.4,  22.3162,  34.8271,2,-999.0000,9,    184.0,3,     2.40,2,     0.19,2,     0.18,2
    49TU9210_4,  PR19,  IS-5,  2,      5,2,19921110,0559, 25.4937, 123.2502,  825,    200.3,  20.0258,  34.8207,2,-999.0000,9,    181.0,3,     4.70,2,     0.17,2,     0.36,2
    49TU9210_4,  PR19,  IS-5,  2,      4,2,19921110,0559, 25.4937, 123.2502,  825,    249.5,  18.5961,  34.7635,2,-999.0000,9,    181.0,3,     6.00,2,     0.17,2,     0.40,2
    49TU9210_4,  PR19,  IS-5,  2,      3,2,19921110,0559, 25.4937, 123.2502,  825,    291.8,  16.8518,  34.7350,2,-999.0000,9,    185.0,3,     7.50,2,     0.16,2,     0.48,2