BOTTLE,20220705CCHSIOAMB
EXPOCODE,SECT_ID,STNNBR,CASTNO,BTLNBR,BTLNBR_FLAG_W,DATE,TIME,LATITUDE,LONGITUDE,DEPTH,CTDPRS,CTDTMP,CTDSAL,CTDSAL_FLAG_W,SALNTY,SALNTY_FLAG_W,OXYGEN,OXYGEN_FLAG_W,NITRAT,NITRAT_FLAG_W,NITRIT,NITRIT_FLAG_W,PHSPHT,PHSPHT_FLAG_W
,,,,,,,,,,,DBAR,DEG C,PSS-78,,PSS-78,,UMOL/KG,,UMOL/KG,,UMOL/KG,,UMOL/KG,
    49TU9210_4,  PR19,  NS-2,  2, BUCKET,2,19921112,1349, 24.3473, 124.9892, 1093,      2.0,  25.2928,  34.5508,2,-999.0000,9,    208.0,3,     0.20,2,     0.11,2,     0.04,2
    49TU9210_4,  PR19,  NS-2,  2,     10,2,19921112,1349, 24.3473, 124.9892, 1093,      9.5,  25.3054,  34.5509,2,-999.0000,9,    208.0,3,     0.20,2,     0.10,2,     0.04,2
    49TU9210_4,  PR19,  NS-2,  2,      9,2,19921112,1349, 24.3473, 124.9892, 1093,     19.2,  25.3029,  34.5502,2,-999.0000,9,    207.0,3,     0.20,2,     0.11,2,     0.04,2
    49TU9210_4,  PR19,  NS-2,  2,      8,2,19921112,1349, 24.3473, 124.9892, 1093,     29.8,  25.3132,  34.5507,2,-999.0000,9,    207.0,3,     0.20,2,     0.10,2,     0.05,2
    49TU9210_4,  PR19,  NS-2,  2,      7,2,19921112,1349, 24.3473, 124.9892, 1093,     50.5,  25.3122,  34.5504,2,-999.0000,9,    208.0,3,     0.20,2,     0.11,2,     0.04,2
    49TU9210_4,  PR19,  NS-2,  2,      6,2,19921112,1349, 24.3473, 124.9892, 1093,     75.0,  25.2375,  34.5879,2,-999.0000,9,    207.0,3,     0.10,2,     0.11,2,     0.04,2
    49TU9210_4,  PR19,  NS-2,  2,      5,2,19921112,1349, 24.3473, 124.9892, 1093,    100.8,  23.0532,  34.8638,2,-999.0000,9,    181.0,3,     1.20,2,     0.13,2,     0.06,2
    49TU9210_4,  PR19,  NS-2,  2,      4,2,19921112,1349, 24.3473, 124.9892, 1093,    125.8,  21.9891,  34.9015,2,-999.0000,9,    190.0,3,     1.80,2,     0.12,2,     0.07,2
    49TU9210_4,  PR19,  NS-2,  2,      3,2,19921112,1349, 24.3473, 124.9892, 1093,    151.3,  20.6668,  34.9297,2,-999.0000,9,    185.0,3,     2.70,2,     0.12,2,     0.11,2
    49TU9210_4,  PR19,  NS-2,  2,      2,2,19921112,1349, 24.3473, 124.9892, 1093,    201.3,  18.9125,  34.8704,2,-999.0000,9,    192.0,3,     3.90,2,     0.11,2,     0.15,2
    49TU9210_4,  PR19,  NS-2,  2,      1,2,19921112,1349, 24.3473, 124.9892, 1093,    252.0,  17.6123,  34.8106,2,-999.0000,9,    192.0,3,     4.90,2,     0.11,2,     0.18,2
    49TU9210_4,  PR19,  NS-2,  2,     12,2,19921112,1349, 24.3473, 124.9892, 1093,    301.5,  16.9286,  34.7689,2,-999.0000,9,    199.0,3,     6.10,2,     0.12,2,     0.23,2
    49TU9210_4,  PR19,  NS-3,  1,      7,2,19921112,1625, 24.1780, 125.2465, 1504,    402.0,  14.4623,  34.5791,2,-999.0000,9,    181.0,3,    11.10,2,     0.16,2,     0.54,2
    49TU9210_4,  PR19,  NS-3,  1,      6,2,19921112,1625, 24.1780, 125.2465, 1504,    504.1,  11.5604,  34.3640,2,-999.0000,9,    176.0,3,    16.50,2,     0.17,2,     0.95,2
    49TU9210_4,  PR19,  NS-3,  1,      5,2,19921112,1625, 24.1780, 125.2465, 1504,    604.3,   9.1070,  34.2123,2,-999.0000,9,    156.0,3,    23.00,2,     0.16,2,     1.55,2
    49TU9210_4,  PR19,  NS-3,  1,      4,2,19921112,1625, 24.1780, 125.2465, 1504,    706.5,   7.3514,  34.1805,2,-999.0000,9,    118.0,3,    29.80,2,     0.16,2,     2.12,2
    49TU9210_4,  PR19,  NS-3,  1,      3,2,19921112,1625, 24.1780, 125.2465, 1504,    806.2,   5.8534,  34.1899,2,-999.0000,9,     92.0,3,    34.50,2,     0.16,2,     2.52,2
    49TU9210_4,  PR19,  NS-3,  1,      2,2,19921112,1625, 24.1780, 125.2465, 1504,    908.0,   4.7807,  34.2747,2,-999.0000,9,     66.0,3,    37.90,2,     0.16,2,     2.80,2
    49TU9210_4,  PR19,  NS-3,  1,      1,2,19921112,1625, 24.1780, 125.2465, 1504,   1007.7,   3.9011,  34.3692,2,-999.0000,9,     58.0,3,    39.90,2,     0.16,2,     3.00,2
    49TU9210_4,  PR19,  NS-3,  1,     12,2,19921112,1625, 24.1780, 125.2465, 1504,   1261.4,   2.9664,  34.4869,2,-999.0000,9,     73.0,3,    40.10,2,     0.16,2,     3.00,2
    49TU9210_4,  PR19,  NS-3,  1,     11,2,19921112,1625, 24.1780, 125.2465, 1504,   1501.6,   2.4147,  34.5680,2,-999.0000,9,     96.0,3,    38.70,2,     0.16,2,     2.90,2
    49TU9210_4,  PR19,  NS-3,  2, BUCKET,2,19921112,1709, 24.1875, 125.2380, 1627,      1.9,  25.2602,  34.6640,2,-999.0000,9,    210.0,3,     0.10,2,     0.15,2,     0.04,2
    49TU9210_4,  PR19,  NS-3,  2,      6,2,19921112,1709, 24.1875, 125.2380, 1627,     10.8,  25.2637,  34.6637,2,-999.0000,9,    203.0,3,     0.20,2,     0.15,2,     0.04,2
    49TU9210_4,  PR19,  NS-3,  2,      5,2,19921112,1709, 24.1875, 125.2380, 1627,     19.3,  25.2663,  34.6642,2,-999.0000,9,    207.0,3,     0.20,2,     0.15,2,     0.03,2
    49TU9210_4,  PR19,  NS-3,  2,      4,2,19921112,1709, 24.1875, 125.2380, 1627,     30.4,  25.2636,  34.6641,2,-999.0000,9,    208.0,3,     0.10,2,     0.15,2,     0.03,2
    49TU9210_4,  PR19,  NS-3,  2,      3,2,19921112,1709, 24.1875, 125.2380, 1627,     49.9,  25.2745,  34.6633,2,-999.0000,9,    207.0,3,     0.10,2,     0.15,2,     0.03,2
    49TU9210_4,  PR19,  NS-3,  2,      2,2,19921112,1709, 24.1875, 125.2380, 1627,     75.6,  25.2742,  34.6637,2,-999.0000,9,    208.0,3,     0.30,2,     0.15,2,     0.03,2
    49TU9210_4,  PR19,  NS-3,  2,      1,2,19921112,1709, 24.1875, 125.2380, 1627,    101.1,  22.5208,  34.8844,2,-999.0000,9,    203.0,3,     1.10,2,     0.18,2,     0.05,2
    49TU9210_4,  PR19,  NS-3,  2,     12,2,19921112,1709, 24.1875, 125.2380, 1627,    125.3,  21.5854,  34.9096,2,-999.0000,9,    204.0,3,     0.60,2,     0.17,2,     0.05,2
    49TU9210_4,  PR19,  NS-3,  2,     11,2,19921112,1709, 24.1875, 125.2380, 1627,    151.1,  20.5654,  34.8977,2,-999.0000,9,    198.0,3,     1.70,2,     0.17,2,     0.07,2
    49TU9210_4,  PR19,  NS-3,  2,     10,2,19921112,1709, 24.1875, 125.2380, 1627,    202.0,  19.0581,  34.8913,2,-999.0000,9,    196.0,3,     3.40,2,     0.16,2,     0.13,2
    49TU9210_4,  PR19,  NS-3,  2,      9,2,19921112,1709, 24.1875, 125.2380, 1627,    249.7,  18.1368,  34.8423,2,-999.0000,9,    200.0,3,     4.10,2,     0.16,2,     0.15,2
    49TU9210_4,  PR19,  NS-3,  2,      8,2,19921112,1709, 24.1875, 125.2380, 1627,    301.6,  16.8957,  34.7649,2,-999.0000,9,    195.0,3,     6.20,2,     0.16,2,     0.25,2
    49TU9210_4,  PR19,  NS-4,  1,      4,2,19921112,2111, 24.0247, 125.4657, 1961,    404.1,  15.8196,  34.6863,2,  34.6873,2,    197.0,3,     7.70,2,     0.16,2,     0.27,2
    49TU9210_4,  PR19,  NS-4,  1,      3,2,19921112,2111, 24.0247, 125.4657, 1961,    504.4,  13.2131,  34.4821,2,  34.4841,2,    182.0,3,    13.30,2,     0.16,2,     0.68,2
    49TU9210_4,  PR19,  NS-4,  1,      2,2,19921112,2111, 24.0247, 125.4657, 1961,    605.9,  10.3752,  34.2900,2,  34.2944,2,    158.0,3,    20.40,2,     0.16,2,     1.27,2
    49TU9210_4,  PR19,  NS-4,  1,      1,2,19921112,2111, 24.0247, 125.4657, 1961,    705.5,   7.3852,  34.1644,2,  34.1666,2,    127.0,3,    28.40,2,     0.16,2,     1.92,2
    49TU9210_4,  PR19,  NS-4,  1,     12,2,19921112,2111, 24.0247, 125.4657, 1961,    807.6,   5.9795,  34.2074,2,  34.2090,2,     91.0,3,    33.80,2,     0.16,2,     2.44,2
    49TU9210_4,  PR19,  NS-4,  1,     11,2,19921112,2111, 24.0247, 125.4657, 1961,    907.3,   5.0927,  34.2537,2,  34.2581,2,     74.0,3,    36.50,2,     0.16,2,     2.63,2
    49TU9210_4,  PR19,  NS-4,  1,     10,2,19921112,2111, 24.0247, 125.4657, 1961,   1009.6,   4.3221,  34.3429,2,  34.3431,2,     66.0,3,    38.70,2,     0.16,2,     2.82,2
    49TU9210_4,  PR19,  NS-4,  1,      9,2,19921112,2111, 24.0247, 125.4657, 1961,   1262.4,   3.2118,  34.4767,2,  34.4776,2,     73.0,3,    39.50,2,     0.16,2,     2.92,2
    49TU9210_4,  PR19,  NS-4,  1,      8,2,19921112,2111, 24.0247, 125.4657, 1961,   1515.2,   2.6524,  34.5409,2,  34.5399,2,     88.0,3,    39.20,2,     0.16,2,     2.84,2
    49TU9210_4,  PR19,  NS-4,  1,      7,2,19921112,2111, 24.0247, 125.4657, 1961,   1966.2,   2.0576,  34.6137,2,  34.6125,2,    124.0,3,    37.70,2,     0.16,2,     2.73,2
    49TU9210_4,  PR19,  NS-4,  2, BUCKET,2,19921112,2224, 24.0405, 125.4427, 1983,      1.1,  25.2007,  34.6765,2,-999.0000,9,    206.0,3,     0.10,2,     0.15,2,     0.04,2
    49TU9210_4,  PR19,  NS-4,  2,      3,2,19921112,2224, 24.0405, 125.4427, 1983,      9.6,  25.2094,  34.6766,2,  34.6770,2,    207.0,3,     0.10,2,     0.15,2,     0.05,2
    49TU9210_4,  PR19,  NS-4,  2,      2,2,19921112,2224, 24.0405, 125.4427, 1983,     19.5,  25.2067,  34.6772,2,  34.6760,2,    207.0,3,     0.20,2,     0.15,2,     0.04,2
    49TU9210_4,  PR19,  NS-4,  2,      1,2,19921112,2224, 24.0405, 125.4427, 1983,     30.3,  25.2122,  34.6770,2,  34.6764,2,    207.0,3,     0.40,2,     0.15,2,     0.04,2
    49TU9210_4,  PR19,  NS-4,  2,     12,2,19921112,2224, 24.0405, 125.4427, 1983,     49.9,  25.2175,  34.6764,2,  34.6760,2,    207.0,3,     0.10,2,     0.15,2,     0.03,2
    49TU9210_4,  PR19,  NS-4,  2,     11,2,19921112,2224, 24.0405, 125.4427, 1983,     75.4,  25.2217,  34.6775,2,  34.6676,3,    208.0,3,     0.10,2,     0.15,2,     0.04,2
    49TU9210_4,  PR19,  NS-4,  2,     10,2,19921112,2224, 24.0405, 125.4427, 1983,    101.9,  25.1981,  34.6870,2,  34.6855,2,    207.0,3,     0.30,2,     0.15,2,     0.04,2
    49TU9210_4,  PR19,  NS-4,  2,      9,2,19921112,2224, 24.0405, 125.4427, 1983,    126.2,  21.9434,  34.9065,2,  34.9052,2,    207.0,3,     0.40,2,     0.19,2,     0.04,2
    49TU9210_4,  PR19,  NS-4,  2,      8,2,19921112,2224, 24.0405, 125.4427, 1983,    151.8,  20.8184,  34.8934,2,  34.8928,2,    206.0,3,     0.90,2,     0.17,2,     0.06,2
    49TU9210_4,  PR19,  NS-4,  2,      7,2,19921112,2224, 24.0405, 125.4427, 1983,    199.9,  19.4401,  34.8764,2,  34.8751,2,    206.0,3,     2.20,2,     0.16,2,     0.09,2
    49TU9210_4,  PR19,  NS-4,  2,      6,2,19921112,2224, 24.0405, 125.4427, 1983,    250.8,  18.4374,  34.8443,2,  34.8544,3,    203.0,3,     3.40,2,     0.16,2,     0.13,2
    49TU9210_4,  PR19,  NS-4,  2,      5,2,19921112,2224, 24.0405, 125.4427, 1983,    301.6,  17.5732,  34.8092,2,  34.8087,2,    206.0,3,     4.20,2,     0.16,2,     0.14,2
    49TU9210_4,  PR19,  NS-5,  1,      4,2,19921113,0127, 23.8385, 125.7408, 2020,    403.0,  16.1526,  34.7116,2,-999.0000,9,    192.0,3,     7.20,2,     0.16,2,     0.30,2
    49TU9210_4,  PR19,  NS-5,  1,      3,2,19921113,0127, 23.8385, 125.7408, 2020,    503.8,  12.9295,  34.4568,2,-999.0000,9,    183.0,3,    13.30,2,     0.16,2,     0.72,2
    49TU9210_4,  PR19,  NS-5,  1,      2,2,19921113,0127, 23.8385, 125.7408, 2020,    604.1,  10.1043,  34.2715,2,-999.0000,9,    165.0,3,    20.20,2,     0.16,2,     1.31,2
    49TU9210_4,  PR19,  NS-5,  1,      1,2,19921113,0127, 23.8385, 125.7408, 2020,    706.1,   7.9497,  34.1864,2,-999.0000,9,    131.0,3,    27.30,2,     0.16,2,     1.90,2
    49TU9210_4,  PR19,  NS-5,  1,     12,2,19921113,0127, 23.8385, 125.7408, 2020,    806.9,   6.2476,  34.1915,2,-999.0000,9,    100.0,3,    33.00,2,     0.16,2,     2.40,2
    49TU9210_4,  PR19,  NS-5,  1,     11,2,19921113,0127, 23.8385, 125.7408, 2020,    908.3,   5.1063,  34.2798,2,-999.0000,9,     75.0,3,    36.70,2,     0.16,2,     2.73,2
    49TU9210_4,  PR19,  NS-5,  1,     10,2,19921113,0127, 23.8385, 125.7408, 2020,   1009.1,   4.2244,  34.3763,2,-999.0000,9,     62.0,3,    38.70,2,     0.16,2,     2.83,2
    49TU9210_4,  PR19,  NS-5,  1,      9,2,19921113,0127, 23.8385, 125.7408, 2020,   1210.5,   3.3923,  34.4651,2,-999.0000,9,     70.0,3,    39.50,2,     0.16,2,     2.96,2
    49TU9210_4,  PR19,  NS-5,  1,      8,2,19921113,0127, 23.8385, 125.7408, 2020,   1515.8,   2.6525,  34.5406,2,-999.0000,9,     88.0,3,    39.20,2,     0.16,2,     2.91,2
    49TU9210_4,  PR19,  NS-5,  1,      7,2,19921113,0127, 23.8385, 125.7408, 2020,   2031.1,   2.0646,  34.6137,2,-999.0000,9,    112.0,3,    38.00,2,     0.16,2,     2.78,2
    49TU9210_4,  PR19,  NS-5,  2, BUCKET,2,19921113,0222, 23.8477, 125.7258, 1957,      2.4,  25.5501,  34.7130,2,-999.0000,9,    205.0,3,     0.10,2,     0.15,2,     0.03,2
    49TU9210_4,  PR19,  NS-5,  2,      3,2,19921113,0222, 23.8477, 125.7258, 1957,      9.5,  25.5482,  34.7142,2,-999.0000,9,    206.0,3,     0.10,2,     0.15,2,     0.03,2
    49TU9210_4,  PR19,  NS-5,  2,      2,2,19921113,0222, 23.8477, 125.7258, 1957,     19.6,  25.5476,  34.7110,2,-999.0000,9,    201.0,3,     0.10,2,     0.15,2,     0.03,2
    49TU9210_4,  PR19,  NS-5,  2,      1,2,19921113,0222, 23.8477, 125.7258, 1957,     30.3,  25.5454,  34.7105,2,-999.0000,9,    207.0,3,     0.20,2,     0.15,2,     0.03,2
    49TU9210_4,  PR19,  NS-5,  2,     12,2,19921113,0222, 23.8477, 125.7258, 1957,     50.1,  25.5697,  34.7184,2,-999.0000,9,    201.0,3,     0.20,2,     0.15,2,     0.03,2
    49TU9210_4,  PR19,  NS-5,  2,     11,2,19921113,0222, 23.8477, 125.7258, 1957,     76.6,  25.5664,  34.7162,2,-999.0000,9,    206.0,3,     0.20,2,     0.15,2,     0.03,2
    49TU9210_4,  PR19,  NS-5,  2,     10,2,19921113,0222, 23.8477, 125.7258, 1957,    100.8,  25.5796,  34.7206,2,-999.0000,9,    207.0,3,     0.20,2,     0.15,2,     0.03,2
    49TU9210_4,  PR19,  NS-5,  2,      9,2,19921113,0222, 23.8477, 125.7258, 1957,    126.0,  24.2583,  34.8863,2,-999.0000,9,    206.0,3,     0.20,2,     0.17,2,     0.03,2
    49TU9210_4,  PR19,  NS-5,  2,      8,2,19921113,0222, 23.8477, 125.7258, 1957,    151.9,  22.9078,  34.9372,2,-999.0000,9,    195.0,3,     0.30,2,     0.19,2,     0.05,2
    49TU9210_4,  PR19,  NS-5,  2,      7,2,19921113,0222, 23.8477, 125.7258, 1957,    200.4,  21.0664,  34.9381,2,-999.0000,9,    199.0,3,     1.30,2,     0.16,2,     0.05,2
    49TU9210_4,  PR19,  NS-5,  2,      6,2,19921113,0222, 23.8477, 125.7258, 1957,    251.9,  19.3598,  34.8786,2,-999.0000,9,    204.0,3,     2.20,2,     0.16,2,     0.08,2
    49TU9210_4,  PR19,  NS-5,  2,      5,2,19921113,0222, 23.8477, 125.7258, 1957,    302.4,  18.2730,  34.8407,2,-999.0000,9,    199.0,3,     3.20,2,     0.16,2,     0.12,2
    49TU9210_4,  PR19,  NS-6,  1,      2,2,19921113,0814, 23.4825, 126.1788, 5703,    808.9,   5.8700,  34.1665,2,-999.0000,9,     89.0,3,    34.60,2,     0.16,2,     2.41,2
    49TU9210_4,  PR19,  NS-6,  1,      1,2,19921113,0814, 23.4825, 126.1788, 5703,    910.2,   4.9685,  34.2373,2,-999.0000,9,     68.0,3,    38.20,2,     0.16,2,     2.60,2
    49TU9210_4,  PR19,  NS-6,  1,     12,2,19921113,0814, 23.4825, 126.1788, 5703,   1011.7,   4.1184,  34.3313,2,-999.0000,9,     59.0,3,    39.70,2,     0.16,2,     2.84,2
    49TU9210_4,  PR19,  NS-6,  1,     11,2,19921113,0814, 23.4825, 126.1788, 5703,   1263.4,   3.3466,  34.4727,2,-999.0000,9,     80.0,3,    37.50,2,     0.16,2,     2.64,2
    49TU9210_4,  PR19,  NS-6,  1,     10,2,19921113,0814, 23.4825, 126.1788, 5703,   1516.9,   2.6534,  34.5528,2,-999.0000,9,     92.0,3,    39.00,2,     0.16,2,     2.72,2
    49TU9210_4,  PR19,  NS-6,  1,      9,2,19921113,0814, 23.4825, 126.1788, 5703,   1772.8,   2.3335,  34.5831,2,-999.0000,9,    102.0,3,    38.70,2,     0.16,2,     2.73,2
    49TU9210_4,  PR19,  NS-6,  1,      8,2,19921113,0814, 23.4825, 126.1788, 5703,   2024.9,   2.1353,  34.6170,3,-999.0000,9,    116.0,3,    38.00,2,     0.16,2,     2.68,2
    49TU9210_4,  PR19,  NS-6,  1,      7,2,19921113,0814, 23.4825, 126.1788, 5703,   2535.0,   1.7907,  34.6454,3,-999.0000,9,    131.0,3,    37.40,2,     0.16,2,     2.58,2
    49TU9210_4,  PR19,  NS-6,  1,      6,2,19921113,0814, 23.4825, 126.1788, 5703,   3043.8,   1.6422,  34.6626,3,-999.0000,9,    142.0,3,    36.70,2,     0.16,2,     2.54,2
    49TU9210_4,  PR19,  NS-6,  1,      5,2,19921113,0814, 23.4825, 126.1788, 5703,   3553.7,   1.5752,  34.6725,3,-999.0000,9,   -999.0,4,  -999.00,4,  -999.00,4,  -999.00,4
    49TU9210_4,  PR19,  NS-6,  1,      4,2,19921113,0814, 23.4825, 126.1788, 5703,   4022.8,   1.5717,  34.6766,3,-999.0000,9,   -999.0,4,    36.00,2,     0.16,2,     2.40,2
    49TU9210_4,  PR19,  NS-6,  2,      7,2,19921113,1125, 23.4903, 126.2367, 5703,    402.8,  15.9670,  34.7041,2,-999.0000,9,    205.0,3,     7.50,2,     0.16,2,     0.30,2
    49TU9210_4,  PR19,  NS-6,  2,      6,2,19921113,1125, 23.4903, 126.2367, 5703,    501.0,  13.2150,  34.4823,2,-999.0000,9,    190.0,3,    12.60,2,     0.16,2,     0.60,2
    49TU9210_4,  PR19,  NS-6,  2,      5,2,19921113,1125, 23.4903, 126.2367, 5703,    601.2,  10.3512,  34.2687,2,-999.0000,9,    181.0,3,    18.10,2,     0.16,2,     1.01,2
    49TU9210_4,  PR19,  NS-6,  2,      4,2,19921113,1125, 23.4903, 126.2367, 5703,    697.3,   7.6882,  34.1396,2,-999.0000,9,    142.0,3,    26.80,2,     0.16,2,     1.75,2
    49TU9210_4,  PR19,  NS-6,  3, BUCKET,2,19921113,1159, 23.4862, 126.2127, 5796,      2.9,  25.7941,  34.7794,2,-999.0000,9,    207.0,3,     0.10,2,     0.15,2,     0.03,2
    49TU9210_4,  PR19,  NS-6,  3,      6,2,19921113,1159, 23.4862, 126.2127, 5796,      9.8,  25.8001,  34.7853,2,-999.0000,9,    206.0,3,     0.10,2,     0.15,2,     0.02,2
    49TU9210_4,  PR19,  NS-6,  3,      5,2,19921113,1159, 23.4862, 126.2127, 5796,     19.7,  25.7946,  34.7789,2,-999.0000,9,    203.0,3,     0.10,2,     0.15,2,     0.03,2
    49TU9210_4,  PR19,  NS-6,  3,      4,2,19921113,1159, 23.4862, 126.2127, 5796,     29.7,  25.8066,  34.7885,2,-999.0000,9,    205.0,3,     0.10,2,     0.15,2,     0.03,2
    49TU9210_4,  PR19,  NS-6,  3,      3,2,19921113,1159, 23.4862, 126.2127, 5796,     50.8,  25.8102,  34.7882,2,-999.0000,9,    205.0,3,     0.10,2,     0.15,2,     0.03,2
    49TU9210_4,  PR19,  NS-6,  3,      2,2,19921113,1159, 23.4862, 126.2127, 5796,     75.5,  25.8241,  34.7961,2,-999.0000,9,    206.0,3,     0.10,2,     0.15,2,     0.03,2
    49TU9210_4,  PR19,  NS-6,  3,      1,2,19921113,1159, 23.4862, 126.2127, 5796,    101.8,  25.2325,  34.8478,2,-999.0000,9,    206.0,3,     0.10,2,     0.15,2,     0.03,2
    49TU9210_4,  PR19,  NS-6,  3,     12,2,19921113,1159, 23.4862, 126.2127, 5796,    126.6,  23.8590,  34.9104,2,-999.0000,9,    204.0,3,     0.20,2,     0.23,2,     0.04,2
    49TU9210_4,  PR19,  NS-6,  3,     11,2,19921113,1159, 23.4862, 126.2127, 5796,    151.5,  22.5975,  34.9404,2,-999.0000,9,    198.0,3,     0.50,2,     0.17,2,     0.05,2
    49TU9210_4,  PR19,  NS-6,  3,     10,2,19921113,1159, 23.4862, 126.2127, 5796,    202.2,  20.1843,  34.8709,2,-999.0000,9,    204.0,3,     1.80,2,     0.16,2,     0.08,2
    49TU9210_4,  PR19,  NS-6,  3,      9,2,19921113,1159, 23.4862, 126.2127, 5796,    251.3,  18.9706,  34.8681,2,-999.0000,9,    205.0,3,     3.80,2,     0.16,2,     0.13,2
    49TU9210_4,  PR19,  NS-6,  3,      8,2,19921113,1159, 23.4862, 126.2127, 5796,    298.4,  17.9379,  34.8424,2,-999.0000,9,    204.0,3,     2.60,2,     0.16,2,     0.10,2