BOTTLE,20220705CCHSIOAMB
EXPOCODE,SECT_ID,STNNBR,CASTNO,BTLNBR,BTLNBR_FLAG_W,DATE,TIME,LATITUDE,LONGITUDE,DEPTH,CTDPRS,CTDTMP,CTDSAL,CTDSAL_FLAG_W,SALNTY,SALNTY_FLAG_W,OXYGEN,OXYGEN_FLAG_W,NITRAT,NITRAT_FLAG_W,NITRIT,NITRIT_FLAG_W,PHSPHT,PHSPHT_FLAG_W
,,,,,,,,,,,DBAR,DEG C,PSS-78,,PSS-78,,UMOL/KG,,UMOL/KG,,UMOL/KG,,UMOL/KG,
    49TU9210_4,  PR19,  IS-4,  1,     11,2,19921110,1000, 25.3247, 123.4793, 1806,    403.4,  12.7106,  34.4616,2,  34.4558,2,    181.0,3,    15.00,2,     0.16,2,     0.88,2
    49TU9210_4,  PR19,  IS-4,  1,     10,2,19921110,1000, 25.3247, 123.4793, 1806,    501.5,  10.3136,  34.3399,2,  34.3408,2,    150.0,3,    21.40,2,     0.16,2,     1.44,2
    49TU9210_4,  PR19,  IS-4,  1,      9,2,19921110,1000, 25.3247, 123.4793, 1806,    604.1,   8.3382,  34.2922,2,  34.2923,2,    126.0,3,    27.20,2,     0.16,2,     1.84,2
    49TU9210_4,  PR19,  IS-4,  1,      8,2,19921110,1000, 25.3247, 123.4793, 1806,    704.3,   6.7407,  34.3333,2,  34.3317,2,    103.0,3,    32.10,2,     0.17,2,     2.24,2
    49TU9210_4,  PR19,  IS-4,  1,      7,2,19921110,1000, 25.3247, 123.4793, 1806,    803.9,   5.6495,  34.3745,2,  34.3830,3,     91.0,3,    34.50,2,     0.16,2,     2.44,2
    49TU9210_4,  PR19,  IS-4,  1,      6,2,19921110,1000, 25.3247, 123.4793, 1806,    906.3,   5.1179,  34.3962,2,  34.3995,2,     86.0,3,    35.60,2,     0.16,2,     2.52,2
    49TU9210_4,  PR19,  IS-4,  1,      5,2,19921110,1000, 25.3247, 123.4793, 1806,   1007.2,   4.6293,  34.4181,2,  34.4206,2,     81.0,3,    36.90,2,     0.16,2,     2.58,2
    49TU9210_4,  PR19,  IS-4,  1,      4,2,19921110,1000, 25.3247, 123.4793, 1806,   1210.6,   4.0621,  34.4399,2,  34.4385,2,     76.0,3,    38.20,2,     0.16,2,     2.66,2
    49TU9210_4,  PR19,  IS-4,  1,      3,2,19921110,1000, 25.3247, 123.4793, 1806,   1480.2,   3.8590,  34.4478,2,  34.4461,2,     74.0,3,    38.90,2,     0.16,2,     2.78,2
    49TU9210_4,  PR19,  IS-4,  1,      2,2,19921110,1000, 25.3247, 123.4793, 1806,   1813.8,   3.7899,  34.4548,2,  34.4518,2,     74.0,3,    39.00,2,     0.15,2,     2.83,2
    49TU9210_4,  PR19,  IS-4,  2, BUCKET,2,19921110,1103, 25.3138, 123.4708, 1815,      1.5,  25.2439,  34.5959,2,-999.0000,9,    206.0,3,     0.10,2,     0.17,2,     0.03,2
    49TU9210_4,  PR19,  IS-4,  2,     10,2,19921110,1103, 25.3138, 123.4708, 1815,      9.4,  25.2301,  34.5966,2,  34.5962,2,    206.0,3,     0.10,2,     0.16,2,     0.02,2
    49TU9210_4,  PR19,  IS-4,  2,      9,2,19921110,1103, 25.3138, 123.4708, 1815,     18.9,  25.2632,  34.5959,2,  34.5954,2,    206.0,3,     0.10,2,     0.16,2,     0.02,2
    49TU9210_4,  PR19,  IS-4,  2,      8,2,19921110,1103, 25.3138, 123.4708, 1815,     29.7,  25.2727,  34.5963,2,  34.5952,2,    207.0,3,     0.10,2,     0.16,2,     0.04,2
    49TU9210_4,  PR19,  IS-4,  2,      7,2,19921110,1103, 25.3138, 123.4708, 1815,     50.0,  25.2770,  34.5962,2,  34.5950,2,    206.0,3,     0.10,2,     0.16,2,     0.03,2
    49TU9210_4,  PR19,  IS-4,  2,      6,2,19921110,1103, 25.3138, 123.4708, 1815,     75.4,  25.2832,  34.5948,2,  34.5934,2,    216.0,3,     0.10,2,     0.15,2,     0.04,2
    49TU9210_4,  PR19,  IS-4,  2,      5,2,19921110,1103, 25.3138, 123.4708, 1815,     99.8,  25.2897,  34.5954,2,  34.5952,2,    206.0,3,     0.10,2,     0.16,2,     0.02,2
    49TU9210_4,  PR19,  IS-4,  2,      4,2,19921110,1103, 25.3138, 123.4708, 1815,    124.4,  23.8759,  34.7624,2,  34.7605,2,    187.0,3,     1.50,2,     0.23,2,     0.05,2
    49TU9210_4,  PR19,  IS-4,  2,      3,2,19921110,1103, 25.3138, 123.4708, 1815,    151.6,  22.0965,  34.8705,2,  34.8704,2,    185.0,3,     2.30,2,     0.18,2,     0.14,2
    49TU9210_4,  PR19,  IS-4,  2,      2,2,19921110,1103, 25.3138, 123.4708, 1815,    200.9,  19.1456,  34.8970,2,  34.8999,2,    193.0,3,     3.20,2,     0.17,2,     0.03,2
    49TU9210_4,  PR19,  IS-4,  2,      1,2,19921110,1103, 25.3138, 123.4708, 1815,    250.3,  16.9857,  34.7726,2,  34.7727,2,    195.0,3,     6.00,2,     0.16,2,     0.28,2
    49TU9210_4,  PR19,  IS-4,  2,     12,2,19921110,1103, 25.3138, 123.4708, 1815,    299.0,  15.7911,  34.6788,2,  34.6808,2,    190.0,3,     8.20,2,     0.16,2,     0.46,2
    49TU9210_4,  PR19,  IS-3,  1,      9,2,19921110,1356, 25.1597, 123.7340, 2132,    402.3,  12.7521,  34.4707,2,-999.0000,9,    166.0,3,    15.70,2,     0.16,2,     0.94,2
    49TU9210_4,  PR19,  IS-3,  1,      8,2,19921110,1356, 25.1597, 123.7340, 2132,    504.3,  11.0013,  34.3744,2,-999.0000,9,    157.0,3,    19.90,2,     0.15,2,     1.31,2
    49TU9210_4,  PR19,  IS-3,  1,      7,2,19921110,1356, 25.1597, 123.7340, 2132,    604.8,   8.7719,  34.3025,2,-999.0000,9,    126.0,3,    26.40,2,     0.16,2,     1.81,2
    49TU9210_4,  PR19,  IS-3,  1,      6,2,19921110,1356, 25.1597, 123.7340, 2132,    705.9,   6.6741,  34.3249,2,-999.0000,9,     97.0,3,    32.50,2,     0.15,2,     2.29,2
    49TU9210_4,  PR19,  IS-3,  1,      5,2,19921110,1356, 25.1597, 123.7340, 2132,    808.0,   5.7007,  34.3689,2,-999.0000,9,     91.0,3,    34.80,2,     0.15,2,     2.50,2
    49TU9210_4,  PR19,  IS-3,  1,      4,2,19921110,1356, 25.1597, 123.7340, 2132,    908.8,   5.0883,  34.3979,2,-999.0000,9,     80.0,3,    36.20,2,     0.16,2,     2.51,2
    49TU9210_4,  PR19,  IS-3,  1,      3,2,19921110,1356, 25.1597, 123.7340, 2132,   1009.0,   4.7102,  34.4151,2,-999.0000,9,     74.0,3,    37.20,2,     0.16,2,     2.64,2
    49TU9210_4,  PR19,  IS-3,  1,      2,2,19921110,1356, 25.1597, 123.7340, 2132,   1210.9,   4.1868,  34.4392,2,-999.0000,9,     73.0,3,    38.50,2,     0.15,2,     2.70,2
    49TU9210_4,  PR19,  IS-3,  1,      1,2,19921110,1356, 25.1597, 123.7340, 2132,   1517.0,   3.9011,  34.4535,2,-999.0000,9,     74.0,3,    39.00,2,     0.16,2,     2.74,2
    49TU9210_4,  PR19,  IS-3,  1,     12,2,19921110,1356, 25.1597, 123.7340, 2132,   2026.0,   3.7342,  34.4574,2,-999.0000,9,     69.0,3,    39.50,2,     0.17,2,     2.73,2
    49TU9210_4,  PR19,  IS-3,  1,     11,2,19921110,1356, 25.1597, 123.7340, 2132,   2147.4,   3.7427,  34.4557,2,-999.0000,9,     75.0,3,    39.50,2,     0.16,2,     2.80,2
    49TU9210_4,  PR19,  IS-3,  2, BUCKET,2,19921110,1456, 25.1538, 123.7228, 2111,      0.8,  25.0741,  34.5807,2,-999.0000,9,    204.0,3,     0.10,2,     0.15,2,     0.04,2
    49TU9210_4,  PR19,  IS-3,  2,      8,2,19921110,1456, 25.1538, 123.7228, 2111,      9.7,  25.1020,  34.5795,2,-999.0000,9,    205.0,3,     0.20,2,     0.15,2,     0.04,2
    49TU9210_4,  PR19,  IS-3,  2,      7,2,19921110,1456, 25.1538, 123.7228, 2111,     19.3,  25.0941,  34.5802,2,-999.0000,9,    206.0,3,     0.40,2,     0.15,2,     0.04,2
    49TU9210_4,  PR19,  IS-3,  2,      6,2,19921110,1456, 25.1538, 123.7228, 2111,     29.8,  25.1129,  34.5792,2,-999.0000,9,    202.0,3,     0.40,2,     0.15,2,     0.03,2
    49TU9210_4,  PR19,  IS-3,  2,      5,2,19921110,1456, 25.1538, 123.7228, 2111,     49.7,  25.1136,  34.5793,2,-999.0000,9,    202.0,3,     0.20,2,     0.15,2,     0.02,2
    49TU9210_4,  PR19,  IS-3,  2,      4,2,19921110,1456, 25.1538, 123.7228, 2111,     74.6,  25.1126,  34.5794,2,-999.0000,9,    202.0,3,     0.40,2,     0.16,2,     0.02,2
    49TU9210_4,  PR19,  IS-3,  2,      3,2,19921110,1456, 25.1538, 123.7228, 2111,     99.6,  25.0891,  34.5858,2,-999.0000,9,    183.0,3,     2.00,2,     0.19,2,     0.10,2
    49TU9210_4,  PR19,  IS-3,  2,      2,2,19921110,1456, 25.1538, 123.7228, 2111,    125.3,  22.9191,  34.8357,2,-999.0000,9,    189.0,3,     2.00,2,     0.19,2,     0.12,2
    49TU9210_4,  PR19,  IS-3,  2,      1,2,19921110,1456, 25.1538, 123.7228, 2111,    150.0,  21.1661,  34.8623,2,-999.0000,9,    187.0,3,     3.40,2,     0.17,2,     0.16,2
    49TU9210_4,  PR19,  IS-3,  2,     12,5,19921110,1456, 25.1538, 123.7228, 2111,    201.0,  18.5717,  34.8282,2,-999.0000,9,   -999.0,4,  -999.00,4,  -999.00,4,  -999.00,4
    49TU9210_4,  PR19,  IS-3,  2,     11,2,19921110,1456, 25.1538, 123.7228, 2111,    253.4,  16.8158,  34.7374,2,-999.0000,9,    190.0,3,     7.60,2,     0.16,2,     0.40,2
    49TU9210_4,  PR19,  IS-3,  2,     10,2,19921110,1456, 25.1538, 123.7228, 2111,    302.9,  15.6484,  34.6638,2,-999.0000,9,    182.0,3,     9.40,2,     0.16,2,     0.46,2
    49TU9210_4,  PR19,  IS-2,  1,      6,2,19921110,1739, 25.0002, 123.9967, 1917,    403.0,  14.3638,  34.5713,2,  34.5696,2,    180.0,3,    12.10,2,     0.16,2,     0.70,2
    49TU9210_4,  PR19,  IS-2,  1,      5,2,19921110,1739, 25.0002, 123.9967, 1917,    504.2,  11.4752,  34.4077,2,  34.4109,2,    159.0,3,    19.00,2,     0.16,2,     1.21,2
    49TU9210_4,  PR19,  IS-2,  1,      4,2,19921110,1739, 25.0002, 123.9967, 1917,    604.9,   9.4826,  34.3241,2,  34.3276,2,    138.0,3,    24.50,2,     0.16,2,     1.61,2
    49TU9210_4,  PR19,  IS-2,  1,      3,2,19921110,1739, 25.0002, 123.9967, 1917,    705.1,   7.3746,  34.2813,2,  34.2828,2,    114.0,3,    30.40,2,     0.16,2,     2.09,2
    49TU9210_4,  PR19,  IS-2,  1,      2,2,19921110,1739, 25.0002, 123.9967, 1917,    807.6,   5.7921,  34.3623,2,  34.3642,2,     93.0,3,    34.60,2,     0.15,2,     2.35,2
    49TU9210_4,  PR19,  IS-2,  1,      1,2,19921110,1739, 25.0002, 123.9967, 1917,    908.8,   4.9389,  34.4039,2,  34.4048,2,     83.0,3,    36.60,2,     0.15,2,     2.55,2
    49TU9210_4,  PR19,  IS-2,  1,     12,2,19921110,1739, 25.0002, 123.9967, 1917,   1009.0,   4.5710,  34.4195,2,  34.4217,2,     81.0,3,    37.50,2,     0.15,2,     2.64,2
    49TU9210_4,  PR19,  IS-2,  1,     11,2,19921110,1739, 25.0002, 123.9967, 1917,   1214.5,   4.1568,  34.4399,2,  34.4424,2,     77.0,3,    38.50,2,     0.16,2,     2.68,2
    49TU9210_4,  PR19,  IS-2,  1,     10,2,19921110,1739, 25.0002, 123.9967, 1917,   1517.2,   3.8751,  34.4533,2,  34.4524,2,     75.0,3,    39.20,2,     0.16,2,     2.74,2
    49TU9210_4,  PR19,  IS-2,  1,      9,2,19921110,1739, 25.0002, 123.9967, 1917,   1926.4,   3.7522,  34.4544,2,  34.4522,2,     73.0,3,    39.50,2,     0.16,2,     2.77,2
    49TU9210_4,  PR19,  IS-2,  2, BUCKET,2,19921110,1839, 24.9913, 123.9885, 1915,      2.5,  25.2926,  34.6227,2,-999.0000,9,    207.0,3,     0.10,2,     0.15,2,     0.04,2
    49TU9210_4,  PR19,  IS-2,  2,      5,2,19921110,1839, 24.9913, 123.9885, 1915,      9.4,  25.2839,  34.6238,2,  34.6251,2,    206.0,3,     0.10,2,     0.15,2,     0.04,2
    49TU9210_4,  PR19,  IS-2,  2,      4,2,19921110,1839, 24.9913, 123.9885, 1915,     19.2,  25.2995,  34.6227,2,  34.6231,2,    205.0,3,     0.10,2,     0.15,2,     0.03,2
    49TU9210_4,  PR19,  IS-2,  2,      3,2,19921110,1839, 24.9913, 123.9885, 1915,     28.6,  25.3012,  34.6236,2,  34.6219,2,    206.0,3,     0.30,2,     0.16,2,     0.03,2
    49TU9210_4,  PR19,  IS-2,  2,      2,2,19921110,1839, 24.9913, 123.9885, 1915,     50.7,  25.3027,  34.6236,2,  34.6239,2,    206.0,3,     0.20,2,     0.16,2,     0.04,2
    49TU9210_4,  PR19,  IS-2,  2,      1,2,19921110,1839, 24.9913, 123.9885, 1915,     75.7,  25.2944,  34.6243,2,  34.6225,2,    206.0,3,     0.10,2,     0.15,2,     0.04,2
    49TU9210_4,  PR19,  IS-2,  2,     12,2,19921110,1839, 24.9913, 123.9885, 1915,    100.5,  25.3067,  34.6245,2,  34.6243,2,    207.0,3,     0.20,2,     0.15,2,     0.03,2
    49TU9210_4,  PR19,  IS-2,  2,     11,2,19921110,1839, 24.9913, 123.9885, 1915,    126.2,  23.2217,  34.8674,2,  34.8225,3,    190.0,3,     1.50,2,     0.18,2,     0.08,2
    49TU9210_4,  PR19,  IS-2,  2,     10,2,19921110,1839, 24.9913, 123.9885, 1915,    150.0,  21.7708,  34.8828,2,  34.8824,2,    188.0,3,     2.40,2,     0.17,2,     0.10,2
    49TU9210_4,  PR19,  IS-2,  2,      9,2,19921110,1839, 24.9913, 123.9885, 1915,    201.7,  19.2590,  34.8649,2,  34.8662,2,    190.0,3,     4.30,2,     0.17,2,     0.18,2
    49TU9210_4,  PR19,  IS-2,  2,      8,2,19921110,1839, 24.9913, 123.9885, 1915,    251.2,  17.5775,  34.7958,2,  34.7983,2,    191.0,3,     5.80,2,     0.16,2,     0.29,2
    49TU9210_4,  PR19,  IS-2,  2,      7,2,19921110,1839, 24.9913, 123.9885, 1915,    306.5,  16.1243,  34.6924,2,  34.6957,2,    187.0,3,     8.70,2,     0.16,2,     0.47,2
    49TU9210_4,  PR19,  IS-1,  1,      3,2,19921110,2135, 24.8130, 124.2315, 1921,    406.9,  14.4790,  34.5821,2,-999.0000,9,    186.0,3,    12.20,2,     0.13,2,     0.73,2
    49TU9210_4,  PR19,  IS-1,  1,      2,2,19921110,2135, 24.8130, 124.2315, 1921,    505.0,  12.1863,  34.4447,2,-999.0000,9,    165.0,3,    17.50,2,     0.13,2,     1.11,2
    49TU9210_4,  PR19,  IS-1,  1,      1,2,19921110,2135, 24.8130, 124.2315, 1921,    606.3,   9.5615,  34.3483,2,-999.0000,9,    138.0,3,    24.10,2,     0.11,2,     1.58,2
    49TU9210_4,  PR19,  IS-1,  1,     12,2,19921110,2135, 24.8130, 124.2315, 1921,    707.2,   7.6231,  34.3177,2,-999.0000,9,    114.0,3,    29.90,2,     0.12,2,     2.05,2
    49TU9210_4,  PR19,  IS-1,  1,     11,2,19921110,2135, 24.8130, 124.2315, 1921,    809.5,   6.2999,  34.3395,2,-999.0000,9,    114.0,3,    29.60,2,     0.12,2,     2.03,2
    49TU9210_4,  PR19,  IS-1,  1,     10,2,19921110,2135, 24.8130, 124.2315, 1921,    903.6,   5.1226,  34.3950,2,-999.0000,9,     84.0,3,    36.20,2,     0.11,2,     2.61,2
    49TU9210_4,  PR19,  IS-1,  1,      9,2,19921110,2135, 24.8130, 124.2315, 1921,   1009.6,   4.6804,  34.4160,2,-999.0000,9,     78.0,3,    37.30,2,     0.11,2,     2.71,2
    49TU9210_4,  PR19,  IS-1,  1,      8,2,19921110,2135, 24.8130, 124.2315, 1921,   1213.4,   4.2777,  34.4322,2,-999.0000,9,     73.0,3,    38.30,2,     0.11,2,     2.97,2
    49TU9210_4,  PR19,  IS-1,  1,      7,2,19921110,2135, 24.8130, 124.2315, 1921,   1516.2,   3.8606,  34.4512,2,-999.0000,9,     73.0,3,    39.30,2,     0.11,2,     3.01,2
    49TU9210_4,  PR19,  IS-1,  1,      6,2,19921110,2135, 24.8130, 124.2315, 1921,   1921.8,   3.7666,  34.4552,2,-999.0000,9,     74.0,3,    39.70,2,     0.15,2,     2.94,2
    49TU9210_4,  PR19,  IS-1,  2, BUCKET,2,19921110,2256, 24.7920, 124.2062, 1915,      2.7,  25.0553,  34.5614,2,-999.0000,9,    206.0,3,     0.20,2,     0.11,2,     0.06,2
    49TU9210_4,  PR19,  IS-1,  2,      4,2,19921110,2256, 24.7920, 124.2062, 1915,     10.7,  25.0700,  34.5605,2,-999.0000,9,    205.0,3,     0.30,2,     0.11,2,     0.06,2
    49TU9210_4,  PR19,  IS-1,  2,      3,2,19921110,2256, 24.7920, 124.2062, 1915,     21.0,  25.0937,  34.5638,2,-999.0000,9,    206.0,3,     0.20,2,     0.11,2,     0.06,2
    49TU9210_4,  PR19,  IS-1,  2,      2,2,19921110,2256, 24.7920, 124.2062, 1915,     30.8,  25.0957,  34.5636,2,-999.0000,9,    206.0,3,     0.20,2,     0.11,2,     0.05,2
    49TU9210_4,  PR19,  IS-1,  2,      1,2,19921110,2256, 24.7920, 124.2062, 1915,     51.5,  25.0997,  34.5630,2,-999.0000,9,    206.0,3,     0.20,2,     0.11,2,     0.04,2
    49TU9210_4,  PR19,  IS-1,  2,     12,2,19921110,2256, 24.7920, 124.2062, 1915,     75.5,  25.0862,  34.5615,2,-999.0000,9,    217.0,3,     0.20,2,     0.11,2,     0.05,2
    49TU9210_4,  PR19,  IS-1,  2,     11,2,19921110,2256, 24.7920, 124.2062, 1915,    100.3,  25.0679,  34.5606,2,-999.0000,9,    206.0,3,     0.20,2,     0.11,2,     0.06,2
    49TU9210_4,  PR19,  IS-1,  2,     10,2,19921110,2256, 24.7920, 124.2062, 1915,    126.8,  23.8817,  34.7643,2,-999.0000,9,    188.0,3,     1.80,2,     0.16,2,     0.08,2
    49TU9210_4,  PR19,  IS-1,  2,      9,2,19921110,2256, 24.7920, 124.2062, 1915,    151.9,  22.0813,  34.8690,2,-999.0000,9,    188.0,3,     2.40,2,     0.13,2,     0.13,2
    49TU9210_4,  PR19,  IS-1,  2,      8,2,19921110,2256, 24.7920, 124.2062, 1915,    201.7,  19.7538,  34.8648,2,-999.0000,9,    189.0,3,     4.10,2,     0.14,2,     0.30,2
    49TU9210_4,  PR19,  IS-1,  2,      7,2,19921110,2256, 24.7920, 124.2062, 1915,    252.0,  17.3020,  34.7741,2,-999.0000,9,    188.0,3,     6.70,2,     0.12,2,     0.34,2
    49TU9210_4,  PR19,  IS-1,  2,      6,2,19921110,2256, 24.7920, 124.2062, 1915,    302.4,  16.0237,  34.6865,2,-999.0000,9,    185.0,3,     9.30,2,     0.13,2,     0.53,2
    49TU9210_4,  PR19,  NS-1,  1, BUCKET,2,19921112,1047, 24.5083, 124.7378,  279,      1.0,  25.1541,  34.5625,2,-999.0000,9,    203.0,3,     0.10,2,     0.15,2,     0.04,2
    49TU9210_4,  PR19,  NS-1,  1,      2,2,19921112,1047, 24.5083, 124.7378,  279,      9.6,  25.1473,  34.5618,2,  34.5625,2,    206.0,3,     0.10,2,     0.15,2,     0.04,2
    49TU9210_4,  PR19,  NS-1,  1,      1,2,19921112,1047, 24.5083, 124.7378,  279,     20.2,  25.1540,  34.5619,2,  34.5600,2,    207.0,3,     0.10,2,     0.15,2,     0.04,2
    49TU9210_4,  PR19,  NS-1,  1,     12,2,19921112,1047, 24.5083, 124.7378,  279,     29.9,  25.1663,  34.5626,2,  34.5625,2,    206.0,3,     0.10,2,     0.15,2,     0.04,2
    49TU9210_4,  PR19,  NS-1,  1,     11,2,19921112,1047, 24.5083, 124.7378,  279,     49.7,  25.1667,  34.5611,2,  34.5602,2,    207.0,3,     0.10,2,     0.15,2,     0.04,2
    49TU9210_4,  PR19,  NS-1,  1,     10,2,19921112,1047, 24.5083, 124.7378,  279,     74.3,  25.0809,  34.5674,2,  34.5690,2,    203.0,3,     0.10,2,     0.15,2,     0.04,2
    49TU9210_4,  PR19,  NS-1,  1,      9,2,19921112,1047, 24.5083, 124.7378,  279,    102.0,  23.3664,  34.7230,2,  34.7243,2,    199.0,3,     1.00,2,     0.19,2,     0.07,2
    49TU9210_4,  PR19,  NS-1,  1,      8,2,19921112,1047, 24.5083, 124.7378,  279,    127.4,  21.8947,  34.8543,2,  34.8609,2,    192.0,3,     1.80,2,     0.18,2,     0.11,2
    49TU9210_4,  PR19,  NS-1,  1,      7,2,19921112,1047, 24.5083, 124.7378,  279,    151.3,  20.7933,  34.9164,2,  34.9147,2,    189.0,3,     2.40,2,     0.16,2,     0.13,2
    49TU9210_4,  PR19,  NS-1,  1,      6,2,19921112,1047, 24.5083, 124.7378,  279,    201.9,  19.8481,  34.9114,2,  34.9111,2,    191.0,3,     3.20,2,     0.16,2,     0.16,2
    49TU9210_4,  PR19,  NS-1,  1,      5,2,19921112,1047, 24.5083, 124.7378,  279,    251.3,  18.0420,  34.8314,2,  34.8365,2,    192.0,3,     4.80,2,     0.16,2,     0.24,2
    49TU9210_4,  PR19,  NS-2,  1,     11,2,19921112,1310, 24.3382, 124.9953, 1080,    403.0,  14.3945,  34.5728,2,-999.0000,9,    190.0,3,    11.30,2,     0.11,2,     0.56,2
    49TU9210_4,  PR19,  NS-2,  1,     10,2,19921112,1310, 24.3382, 124.9953, 1080,    504.9,  12.0102,  34.3919,2,-999.0000,9,    177.0,3,    16.10,2,     0.11,2,     0.94,2
    49TU9210_4,  PR19,  NS-2,  1,      9,2,19921112,1310, 24.3382, 124.9953, 1080,    605.8,   8.6716,  34.2113,2,-999.0000,9,    144.0,3,    25.20,2,     0.12,2,     1.69,2
    49TU9210_4,  PR19,  NS-2,  1,      8,2,19921112,1310, 24.3382, 124.9953, 1080,    706.4,   7.1612,  34.2219,2,-999.0000,9,    116.0,3,    30.50,2,     0.13,2,     2.18,2
    49TU9210_4,  PR19,  NS-2,  1,      7,2,19921112,1310, 24.3382, 124.9953, 1080,    807.8,   6.0115,  34.2643,2,-999.0000,9,     95.0,3,    33.90,2,     0.11,2,     2.47,2
    49TU9210_4,  PR19,  NS-2,  1,      6,2,19921112,1310, 24.3382, 124.9953, 1080,    907.6,   4.9277,  34.3144,2,-999.0000,9,     73.0,3,    37.00,2,     0.11,2,     2.73,2
    49TU9210_4,  PR19,  NS-2,  1,      5,2,19921112,1310, 24.3382, 124.9953, 1080,   1009.0,   4.3263,  34.3611,2,-999.0000,9,     72.0,3,    38.30,2,     0.11,2,     2.90,2
    49TU9210_4,  PR19,  NS-2,  1,      4,2,19921112,1310, 24.3382, 124.9953, 1080,   1064.2,   3.9492,  34.3966,2,-999.0000,9,     70.0,3,    39.10,2,     0.12,2,     2.94,2