BOTTLE,20220705CCHSIOAMB
EXPOCODE,SECT_ID,STNNBR,CASTNO,BTLNBR,BTLNBR_FLAG_W,DATE,TIME,LATITUDE,LONGITUDE,DEPTH,CTDPRS,CTDTMP,CTDSAL,CTDSAL_FLAG_W,SALNTY,SALNTY_FLAG_W,OXYGEN,OXYGEN_FLAG_W,NITRAT,NITRAT_FLAG_W,NITRIT,NITRIT_FLAG_W,PHSPHT,PHSPHT_FLAG_W
,,,,,,,,,,,DBAR,DEG C,PSS-78,,PSS-78,,UMOL/KG,,UMOL/KG,,UMOL/KG,,UMOL/KG,
    49TU9210_4,  PR19,  NS-7,  1,      5,2,19921113,1726, 23.1813, 126.7042, 5713,   1011.5,   4.4077,  34.3061,2,  34.3080,2,     61.0,3,    39.40,2,     0.16,2,     2.84,2
    49TU9210_4,  PR19,  NS-7,  1,      4,2,19921113,1726, 23.1813, 126.7042, 5713,   1264.2,   3.2695,  34.4415,2,-999.0000,4,     66.0,3,    40.00,2,     0.17,2,     2.86,2
    49TU9210_4,  PR19,  NS-7,  1,      3,2,19921113,1726, 23.1813, 126.7042, 5713,   1516.0,   2.7374,  34.5269,2,  34.5301,2,     86.0,3,    39.50,2,     0.16,2,     2.86,2
    49TU9210_4,  PR19,  NS-7,  1,      2,2,19921113,1726, 23.1813, 126.7042, 5713,   1771.1,   2.3943,  34.5771,2,  34.5798,2,    103.0,3,    38.50,2,     0.17,2,     2.74,2
    49TU9210_4,  PR19,  NS-7,  1,      1,2,19921113,1726, 23.1813, 126.7042, 5713,   2024.5,   2.1036,  34.6121,3,  34.6097,2,    115.0,3,    37.90,2,     0.17,2,     2.65,2
    49TU9210_4,  PR19,  NS-7,  1,     12,2,19921113,1726, 23.1813, 126.7042, 5713,   2533.9,   1.7986,  34.6448,3,  34.6453,2,    131.0,3,    37.20,2,     0.16,2,     2.62,2
    49TU9210_4,  PR19,  NS-7,  1,     11,2,19921113,1726, 23.1813, 126.7042, 5713,   3044.4,   1.6387,  34.6624,3,  34.6867,3,    139.0,3,    36.70,2,     0.17,2,     2.56,2
    49TU9210_4,  PR19,  NS-7,  1,     10,2,19921113,1726, 23.1813, 126.7042, 5713,   3554.9,   1.5845,  34.6706,3,  34.7046,3,    158.0,3,    36.00,2,     0.16,2,     2.47,2
    49TU9210_4,  PR19,  NS-7,  1,      9,2,19921113,1726, 23.1813, 126.7042, 5713,   4065.7,   1.5837,  34.6752,3,  34.6749,2,    151.0,3,    35.70,2,     0.16,2,     2.49,2
    49TU9210_4,  PR19,  NS-7,  1,      8,2,19921113,1726, 23.1813, 126.7042, 5713,   4582.5,   1.6092,  34.6765,3,  34.6823,2,    157.0,3,    35.70,2,     0.16,2,     2.45,2
    49TU9210_4,  PR19,  NS-7,  1,      7,2,19921113,1726, 23.1813, 126.7042, 5713,   5039.6,   1.6517,  34.6759,3,  34.6760,3,    154.0,3,    35.50,2,     0.16,2,     2.45,2
    49TU9210_4,  PR19,  NS-7,  2,     12,2,19921113,1954, 23.1925, 126.6480, 5837,    403.5,  16.4718,  34.7397,2,-999.0000,9,    203.0,3,  -999.00,4,  -999.00,4,  -999.00,4
    49TU9210_4,  PR19,  NS-7,  2,     11,2,19921113,1954, 23.1925, 126.6480, 5837,    504.5,  13.5329,  34.4942,2,  34.5061,3,    190.0,3,    11.90,2,     0.16,2,     0.51,2
    49TU9210_4,  PR19,  NS-7,  2,     10,2,19921113,1954, 23.1925, 126.6480, 5837,    604.7,  10.4032,  34.2796,2,  34.2775,2,    178.0,3,    18.40,2,     0.16,2,     0.99,2
    49TU9210_4,  PR19,  NS-7,  2,      9,2,19921113,1954, 23.1925, 126.6480, 5837,    705.2,   7.6367,  34.1396,2,  34.1393,2,    139.0,3,    27.00,2,     0.16,2,     1.73,2
    49TU9210_4,  PR19,  NS-7,  2,      8,2,19921113,1954, 23.1925, 126.6480, 5837,    805.9,   6.0631,  34.1564,2,  34.1524,2,     96.0,3,    33.60,2,     0.17,2,     2.27,2
    49TU9210_4,  PR19,  NS-7,  2,      7,2,19921113,1954, 23.1925, 126.6480, 5837,    904.7,   5.2068,  34.2273,2,  34.2208,2,     72.0,3,    37.00,2,     0.16,2,     2.64,2
    49TU9210_4,  PR19,  NS-7,  3, BUCKET,2,19921113,2036, 23.1928, 126.6312, 5786,      2.0,  25.7373,  34.6906,2,-999.0000,9,    206.0,3,     0.20,2,     0.16,2,     0.03,2
    49TU9210_4,  PR19,  NS-7,  3,     11,2,19921113,2036, 23.1928, 126.6312, 5786,      9.8,  25.7431,  34.6896,2,-999.0000,9,    206.0,3,     0.10,2,     0.15,2,     0.02,2
    49TU9210_4,  PR19,  NS-7,  3,     10,2,19921113,2036, 23.1928, 126.6312, 5786,     19.2,  25.7446,  34.6900,2,-999.0000,9,    206.0,3,     0.10,2,     0.15,2,     0.04,2
    49TU9210_4,  PR19,  NS-7,  3,      9,2,19921113,2036, 23.1928, 126.6312, 5786,     28.7,  25.7466,  34.6902,2,-999.0000,9,    206.0,3,     0.10,2,     0.15,2,     0.02,2
    49TU9210_4,  PR19,  NS-7,  3,      8,2,19921113,2036, 23.1928, 126.6312, 5786,     48.8,  25.7506,  34.6902,2,-999.0000,9,    206.0,3,     0.10,2,     0.15,2,     0.02,2
    49TU9210_4,  PR19,  NS-7,  3,      7,2,19921113,2036, 23.1928, 126.6312, 5786,     75.5,  25.7516,  34.6900,2,-999.0000,9,    207.0,3,     0.10,2,     0.15,2,     0.02,2
    49TU9210_4,  PR19,  NS-7,  3,      6,2,19921113,2036, 23.1928, 126.6312, 5786,    100.5,  25.6698,  34.7263,2,-999.0000,9,    207.0,3,     0.10,2,     0.15,2,     0.02,2
    49TU9210_4,  PR19,  NS-7,  3,      5,2,19921113,2036, 23.1928, 126.6312, 5786,    124.5,  23.9635,  34.9069,2,-999.0000,9,    201.0,3,     0.20,2,     0.22,2,     0.03,2
    49TU9210_4,  PR19,  NS-7,  3,      4,2,19921113,2036, 23.1928, 126.6312, 5786,    150.1,  22.6420,  34.9056,2,-999.0000,9,    203.0,3,     0.40,2,     0.18,2,     0.04,2
    49TU9210_4,  PR19,  NS-7,  3,      3,2,19921113,2036, 23.1928, 126.6312, 5786,    202.2,  20.2233,  34.8832,2,-999.0000,9,    205.0,3,     1.50,2,     0.16,2,     0.07,2
    49TU9210_4,  PR19,  NS-7,  3,      2,2,19921113,2036, 23.1928, 126.6312, 5786,    250.1,  19.2133,  34.8535,2,-999.0000,9,    206.0,3,     2.40,2,     0.16,2,     0.09,2
    49TU9210_4,  PR19,  NS-7,  3,      1,2,19921113,2036, 23.1928, 126.6312, 5786,    303.4,  18.3818,  34.8501,2,-999.0000,9,    204.0,3,     3.20,2,     0.16,2,     0.12,2
    49TU9210_4,  PR19,  NS-8,  1,     10,2,19921114,0215, 22.8372, 127.1987, 5290,    909.2,   5.1308,  34.2326,2,-999.0000,9,     71.0,3,    37.50,2,     0.17,2,     2.69,2
    49TU9210_4,  PR19,  NS-8,  1,      9,2,19921114,0215, 22.8372, 127.1987, 5290,   1010.0,   4.4750,  34.3088,2,-999.0000,9,     61.0,3,    39.00,2,     0.16,2,     2.80,2
    49TU9210_4,  PR19,  NS-8,  1,      8,2,19921114,0215, 22.8372, 127.1987, 5290,   1264.1,   3.2963,  34.4505,2,-999.0000,9,     64.0,3,    40.50,2,     0.16,2,     2.95,2
    49TU9210_4,  PR19,  NS-8,  1,      7,2,19921114,0215, 22.8372, 127.1987, 5290,   1516.0,   2.7532,  34.5332,2,-999.0000,9,     82.0,3,    39.70,2,     0.16,2,     2.92,2
    49TU9210_4,  PR19,  NS-8,  1,      6,2,19921114,0215, 22.8372, 127.1987, 5290,   1770.8,   2.3968,  34.5833,2,-999.0000,9,     98.0,3,    38.70,2,     0.16,2,     2.77,2
    49TU9210_4,  PR19,  NS-8,  1,      5,2,19921114,0215, 22.8372, 127.1987, 5290,   2023.8,   2.0901,  34.6207,3,-999.0000,9,    114.0,3,    38.00,2,     0.16,2,     2.73,2
    49TU9210_4,  PR19,  NS-8,  1,      4,2,19921114,0215, 22.8372, 127.1987, 5290,   2534.0,   1.7857,  34.6549,3,-999.0000,9,    132.0,3,    37.00,2,     0.16,2,     2.63,2
    49TU9210_4,  PR19,  NS-8,  1,      3,2,19921114,0215, 22.8372, 127.1987, 5290,   3042.9,   1.6337,  34.6745,3,-999.0000,9,    143.0,3,    35.60,2,     0.16,2,     2.54,2
    49TU9210_4,  PR19,  NS-8,  1,      2,2,19921114,0215, 22.8372, 127.1987, 5290,   3554.2,   1.5652,  34.6841,3,-999.0000,9,    157.0,3,    36.00,2,     0.16,2,     2.61,2
    49TU9210_4,  PR19,  NS-8,  1,      1,2,19921114,0215, 22.8372, 127.1987, 5290,   4068.2,   1.5702,  34.6860,3,-999.0000,9,    155.0,3,    35.00,2,     0.16,2,     2.52,2
    49TU9210_4,  PR19,  NS-8,  1,     12,2,19921114,0215, 22.8372, 127.1987, 5290,   4313.1,   1.5797,  34.6872,3,-999.0000,9,    156.0,3,    35.60,2,     0.16,2,     2.56,2
    49TU9210_4,  PR19,  NS-8,  2,      3,2,19921114,0418, 22.8457, 127.1272, -999,    403.0,  15.8819,  34.6910,2,-999.0000,9,    197.0,3,     7.70,2,     0.16,2,     0.27,2
    49TU9210_4,  PR19,  NS-8,  2,      2,2,19921114,0418, 22.8457, 127.1272, -999,    504.1,  13.0208,  34.4616,2,-999.0000,9,    189.0,3,  -999.00,4,  -999.00,4,     0.59,2
    49TU9210_4,  PR19,  NS-8,  2,      1,2,19921114,0418, 22.8457, 127.1272, -999,    605.4,   9.7789,  34.2335,2,-999.0000,9,    171.0,3,    20.10,2,     0.17,2,     1.12,2
    49TU9210_4,  PR19,  NS-8,  2,     12,2,19921114,0418, 22.8457, 127.1272, -999,    703.3,   7.3892,  34.1343,2,-999.0000,9,    134.0,3,    27.80,2,     0.16,2,     1.80,2
    49TU9210_4,  PR19,  NS-8,  2,     11,2,19921114,0418, 22.8457, 127.1272, -999,    791.0,   5.9972,  34.1598,2,-999.0000,9,     97.0,3,    33.60,2,     0.16,2,     2.31,2
    49TU9210_4,  PR19,  NS-8,  3, BUCKET,2,19921114,0446, 22.8505, 127.1092, -999,      2.4,  25.8413,  34.6119,2,-999.0000,9,    207.0,3,     0.10,2,     0.15,2,     0.03,2
    49TU9210_4,  PR19,  NS-8,  3,      2,2,19921114,0446, 22.8505, 127.1092, -999,      9.5,  25.8450,  34.6117,2,-999.0000,9,    206.0,3,     0.10,2,     0.15,2,     0.03,2
    49TU9210_4,  PR19,  NS-8,  3,      1,2,19921114,0446, 22.8505, 127.1092, -999,     20.4,  25.8293,  34.6106,2,-999.0000,9,    205.0,3,     0.10,2,     0.15,2,     0.03,2
    49TU9210_4,  PR19,  NS-8,  3,     12,2,19921114,0446, 22.8505, 127.1092, -999,     30.1,  25.8199,  34.6113,2,-999.0000,9,    205.0,3,     0.10,2,     0.15,2,     0.03,2
    49TU9210_4,  PR19,  NS-8,  3,     11,2,19921114,0446, 22.8505, 127.1092, -999,     50.1,  25.8026,  34.6124,2,-999.0000,9,    205.0,3,     0.10,2,     0.15,2,     0.02,2
    49TU9210_4,  PR19,  NS-8,  3,     10,2,19921114,0446, 22.8505, 127.1092, -999,     76.4,  25.7861,  34.6139,2,-999.0000,9,    206.0,3,     0.10,2,     0.15,2,     0.02,2
    49TU9210_4,  PR19,  NS-8,  3,      9,2,19921114,0446, 22.8505, 127.1092, -999,    101.5,  25.7634,  34.6442,2,-999.0000,9,    205.0,3,     0.10,2,     0.15,2,     0.02,2
    49TU9210_4,  PR19,  NS-8,  3,      8,2,19921114,0446, 22.8505, 127.1092, -999,    126.6,  23.9342,  34.8924,2,-999.0000,9,    207.0,3,  -999.00,4,  -999.00,4,     0.03,2
    49TU9210_4,  PR19,  NS-8,  3,      7,2,19921114,0446, 22.8505, 127.1092, -999,    151.6,  22.0810,  34.9249,2,-999.0000,9,    202.0,3,     0.60,2,     0.17,2,     0.05,2
    49TU9210_4,  PR19,  NS-8,  3,      6,2,19921114,0446, 22.8505, 127.1092, -999,    201.1,  20.1829,  34.9142,2,-999.0000,9,    203.0,3,     1.50,2,     0.17,2,     0.07,2
    49TU9210_4,  PR19,  NS-8,  3,      5,2,19921114,0446, 22.8505, 127.1092, -999,    251.2,  18.9580,  34.8696,2,-999.0000,9,    206.0,3,     2.30,2,     0.16,2,     0.09,2
    49TU9210_4,  PR19,  NS-8,  3,      4,2,19921114,0446, 22.8505, 127.1092, -999,    299.2,  17.6555,  34.8137,2,-999.0000,9,    204.0,3,     4.00,2,     0.16,2,     0.15,2