BOTTLE,20220705CCHSIOAMB
# Removed empty SAMPNO column
# Changed BTLNBR -999 with flag 2 to "BUCKET" with flag 2
#BOTTLE,20020829WHPSIOKJU
#code : jjward hyd_to_exchange.pl 
#original files copied from HTML directory: 20020828
#original HYD file: pr18_dhy.txt   Wed Aug  8 11:16:24 2001
#original SUM file: sumfile   Thu Aug 29 14:45:55 2002
EXPOCODE,SECT_ID,STNNBR,CASTNO,BTLNBR,BTLNBR_FLAG_W,DATE,TIME,LATITUDE,LONGITUDE,DEPTH,CTDPRS,CTDTMP,CTDSAL,CTDSAL_FLAG_W,SALNTY,SALNTY_FLAG_W,OXYGEN,OXYGEN_FLAG_W,NITRAT,NITRAT_FLAG_W,NITRIT,NITRIT_FLAG_W,PHSPHT,PHSPHT_FLAG_W,THETA,CTDRAW
,,,,,,,,,,,DBAR,ITS-90,PSS-78,,PSS-78,,UMOL/KG,,UMOL/KG,,UMOL/KG,,UMOL/KG,,ITS-90,
    49TU9110_1,  PR18,  PN-1,  1,      1,2,19911021,0821, 27.5003, 128.2362, -999,    402.9,  14.8893,  34.6206,2,-999.0000,9,    184.0,3,    10.60,2,     0.01,2,     0.80,2, 14.8284,    403
    49TU9110_1,  PR18,  PN-1,  1,     12,2,19911021,0821, 27.5003, 128.2362, -999,    506.6,  11.8076,  34.4415,2,-999.0000,9,    162.0,3,    17.60,2,     0.01,2,     1.35,2, 11.7417,    507
    49TU9110_1,  PR18,  PN-1,  1,     11,2,19911021,0821, 27.5003, 128.2362, -999,    604.4,   9.1127,  34.3377,2,-999.0000,9,    134.0,3,    25.20,2,     0.01,2,     1.90,2,  9.0456,    604
    49TU9110_1,  PR18,  PN-1,  1,     10,2,19911021,0821, 27.5003, 128.2362, -999,    704.7,   7.4489,  34.3138,2,-999.0000,9,    113.0,3,    30.40,2,     0.01,2,     2.25,2,  7.3788,    705
    49TU9110_1,  PR18,  PN-1,  1,      9,2,19911021,0821, 27.5003, 128.2362, -999,    805.1,   6.9082,  34.3180,2,-999.0000,9,    105.0,3,    32.10,2,     0.01,2,     2.39,2,  6.8309,    805
    49TU9110_1,  PR18,  PN-1,  1,      8,2,19911021,0821, 27.5003, 128.2362, -999,    905.5,   6.3551,  34.3195,2,-999.0000,9,     99.0,3,    33.70,2,     0.01,2,     2.49,2,  6.2712,    906
    49TU9110_1,  PR18,  PN-1,  1,      7,2,19911021,0821, 27.5003, 128.2362, -999,    934.2,   6.1641,  34.3210,2,-999.0000,9,     96.0,3,    34.50,2,     0.01,2,     2.55,2,  6.0787,    934
    49TU9110_1,  PR18,  PN-1,  2, BUCKET,2,19911021,0923, 27.4777, 128.1978, -999,      0.6,  25.4381,  34.7053,2,-999.0000,9,    205.0,3,     0.50,2,     0.00,2,     0.08,2, 25.4380,      1
    49TU9110_1,  PR18,  PN-1,  2,      1,2,19911021,0923, 27.4777, 128.1978, -999,      9.2,  25.4396,  34.7048,2,-999.0000,9,    206.0,3,     0.50,2,     0.00,2,     0.07,2, 25.4376,      9
    49TU9110_1,  PR18,  PN-1,  2,     12,2,19911021,0923, 27.4777, 128.1978, -999,     20.2,  25.4520,  34.7052,2,-999.0000,9,    206.0,3,     0.50,2,     0.00,2,     0.06,2, 25.4475,     20
    49TU9110_1,  PR18,  PN-1,  2,     11,2,19911021,0923, 27.4777, 128.1978, -999,     29.8,  25.4514,  34.7050,2,-999.0000,9,    205.0,3,     0.50,2,     0.00,2,     0.07,2, 25.4448,     30
    49TU9110_1,  PR18,  PN-1,  2,     10,2,19911021,0923, 27.4777, 128.1978, -999,     49.3,  25.4495,  34.7053,2,-999.0000,9,    206.0,3,     0.60,2,     0.01,2,     0.07,2, 25.4387,     49
    49TU9110_1,  PR18,  PN-1,  2,      9,2,19911021,0923, 27.4777, 128.1978, -999,     74.7,  25.4163,  34.7049,2,-999.0000,9,    205.0,3,     0.50,2,     0.01,2,     0.07,2, 25.4000,     75
    49TU9110_1,  PR18,  PN-1,  2,      8,2,19911021,0923, 27.4777, 128.1978, -999,    100.6,  22.7497,  34.8285,2,-999.0000,9,    203.0,3,     1.30,2,     0.15,2,     0.13,2, 22.7294,    101
    49TU9110_1,  PR18,  PN-1,  2,      7,2,19911021,0923, 27.4777, 128.1978, -999,    125.7,  21.2852,  34.8651,2,-999.0000,9,    201.0,3,     2.00,2,     0.05,2,     0.17,2, 21.2610,    126
    49TU9110_1,  PR18,  PN-1,  2,      6,2,19911021,0923, 27.4777, 128.1978, -999,    150.2,  20.3097,  34.8691,2,-999.0000,9,    201.0,3,     2.60,2,     0.03,2,     0.20,2, 20.2816,    150
    49TU9110_1,  PR18,  PN-1,  2,      5,2,19911021,0923, 27.4777, 128.1978, -999,    200.6,  18.7922,  34.8457,2,-999.0000,9,    201.0,3,     3.60,2,     0.02,2,     0.26,2, 18.7567,    201
    49TU9110_1,  PR18,  PN-1,  2,      4,2,19911021,0923, 27.4777, 128.1978, -999,    251.7,  17.3187,  34.7757,2,-999.0000,9,    196.0,3,     5.70,2,     0.01,2,     0.41,2, 17.2766,    252
    49TU9110_1,  PR18,  PN-1,  2,      3,2,19911021,0923, 27.4777, 128.1978, -999,    302.9,  16.9828,  34.7560,2,-999.0000,9,    195.0,3,     6.20,2,     0.01,2,     0.46,2, 16.9327,    303
    49TU9110_1,  PR18,  PN-2,  1,      2,2,19911021,1432, 27.7975, 127.7870, -999,    403.8,  14.8528,  34.6057,2,  34.6111,2,    186.0,3,    10.40,2,     0.00,2,     0.80,2, 14.7918,    404
    49TU9110_1,  PR18,  PN-2,  1,      1,2,19911021,1432, 27.7975, 127.7870, -999,    504.5,  11.5438,  34.4138,2,  34.4138,2,    162.0,3,    17.90,2,     0.00,2,     1.43,2, 11.4792,    505
    49TU9110_1,  PR18,  PN-2,  1,     12,2,19911021,1432, 27.7975, 127.7870, -999,    604.2,   9.7412,  34.3539,2,  34.3552,2,    144.0,3,    23.10,2,     0.00,2,     1.82,2,  9.6714,    604
    49TU9110_1,  PR18,  PN-2,  1,     11,2,19911021,1432, 27.7975, 127.7870, -999,    704.0,   7.6002,  34.3077,2,  34.3104,2,    118.0,3,    29.50,2,     0.00,2,     2.26,2,  7.5294,    704
    49TU9110_1,  PR18,  PN-2,  1,     10,2,19911021,1432, 27.7975, 127.7870, -999,    805.6,   5.3360,  34.3436,2,  34.3478,2,     87.0,3,    36.70,2,     0.00,2,     2.80,2,  5.2681,    806
    49TU9110_1,  PR18,  PN-2,  1,      9,2,19911021,1432, 27.7975, 127.7870, -999,    907.7,   4.7766,  34.3751,2,  34.3788,2,     80.0,3,    38.00,2,     0.00,2,     2.88,2,  4.7033,    908
    49TU9110_1,  PR18,  PN-2,  1,      8,2,19911021,1432, 27.7975, 127.7870, -999,    942.6,   4.6718,  34.3801,2,  34.3863,2,     78.0,3,    38.70,2,     0.00,2,     2.90,2,  4.5962,    943
    49TU9110_1,  PR18,  PN-2,  2, BUCKET,2,19911021,1531, 27.7882, 127.7690, -999,      0.8,  25.5661,  34.7148,2,-999.0000,9,    205.0,3,     0.50,2,     0.00,2,     0.08,2, 25.5659,      1
    49TU9110_1,  PR18,  PN-2,  2,      1,2,19911021,1531, 27.7882, 127.7690, -999,     10.8,  25.5871,  34.7147,2,  34.7134,2,    204.0,3,     0.50,2,     0.00,2,     0.06,2, 25.5848,     11
    49TU9110_1,  PR18,  PN-2,  2,     12,2,19911021,1531, 27.7882, 127.7690, -999,     19.2,  25.5915,  34.7147,2,  34.7138,2,    205.0,3,     0.50,2,     0.00,2,     0.06,2, 25.5873,     19
    49TU9110_1,  PR18,  PN-2,  2,     11,2,19911021,1531, 27.7882, 127.7690, -999,     30.6,  25.5928,  34.7150,2,  34.7106,2,    205.0,3,     0.50,2,     0.00,2,     0.05,2, 25.5860,     31
    49TU9110_1,  PR18,  PN-2,  2,     10,2,19911021,1531, 27.7882, 127.7690, -999,     50.1,  25.6017,  34.7147,2,  34.7118,2,    205.0,3,     0.50,2,     0.01,2,     0.06,2, 25.5906,     50
    49TU9110_1,  PR18,  PN-2,  2,      9,2,19911021,1531, 27.7882, 127.7690, -999,     75.3,  25.6086,  34.7148,2,  34.7114,2,    204.0,3,     0.50,2,     0.00,2,     0.06,2, 25.5920,     75
    49TU9110_1,  PR18,  PN-2,  2,      8,2,19911021,1531, 27.7882, 127.7690, -999,    100.3,  23.5599,  34.8044,2,  34.8035,2,    205.0,3,     0.70,2,     0.19,2,     0.10,2, 23.5391,    100
    49TU9110_1,  PR18,  PN-2,  2,      7,2,19911021,1531, 27.7882, 127.7690, -999,    125.8,  20.9948,  34.8679,2,  34.8669,2,    202.0,3,     1.80,2,     0.05,2,     0.18,2, 20.9707,    126
    49TU9110_1,  PR18,  PN-2,  2,      6,2,19911021,1531, 27.7882, 127.7690, -999,    151.5,  20.0724,  34.8711,2,  34.9145,3,    199.0,3,     2.50,2,     0.02,2,     0.22,2, 20.0444,    151
    49TU9110_1,  PR18,  PN-2,  2,      5,2,19911021,1531, 27.7882, 127.7690, -999,    201.3,  19.1104,  34.8586,2,  34.8590,2,    200.0,3,     3.10,2,     0.01,2,     0.26,2, 19.0744,    201
    49TU9110_1,  PR18,  PN-2,  2,      4,2,19911021,1531, 27.7882, 127.7690, -999,    252.5,  17.6480,  34.7905,2,  34.7944,2,    196.0,3,     5.20,2,     0.01,2,     0.41,2, 17.6052,    252
    49TU9110_1,  PR18,  PN-2,  2,      3,2,19911021,1531, 27.7882, 127.7690, -999,    303.7,  16.8531,  34.7493,2,  34.7523,2,    195.0,3,     6.30,2,     0.01,2,     0.51,2, 16.8033,    304
    49TU9110_1,  PR18,  PN-3,  1,     10,2,19911021,2052, 28.0998, 127.3528, -999,    402.5,  13.6010,  34.5210,2,-999.0000,9,    181.0,3,    12.90,2,     0.01,2,     0.99,2, 13.5438,    403
    49TU9110_1,  PR18,  PN-3,  1,      9,2,19911021,2052, 28.0998, 127.3528, -999,    504.4,  10.6614,  34.3484,2,-999.0000,9,    153.0,3,    20.60,2,     0.01,2,     1.59,2, 10.6000,    504
    49TU9110_1,  PR18,  PN-3,  1,      8,2,19911021,2052, 28.0998, 127.3528, -999,    602.6,   9.2780,  34.3022,2,-999.0000,9,    136.0,3,    24.80,2,     0.01,2,     1.90,2,  9.2104,    603
    49TU9110_1,  PR18,  PN-3,  1,      7,2,19911021,2052, 28.0998, 127.3528, -999,    704.1,   6.8482,  34.3061,2,-999.0000,9,    106.0,3,    32.00,2,     0.01,2,     2.43,2,  6.7813,    704
    49TU9110_1,  PR18,  PN-3,  1,      6,2,19911021,2052, 28.0998, 127.3528, -999,    806.5,   5.5267,  34.3154,2,-999.0000,9,     85.0,3,    36.50,2,     0.01,2,     2.76,2,  5.4576,    806
    49TU9110_1,  PR18,  PN-3,  1,      5,2,19911021,2052, 28.0998, 127.3528, -999,    906.8,   4.8615,  34.3760,2,-999.0000,9,     77.0,3,    38.40,2,     0.01,2,     2.89,2,  4.7877,    907
    49TU9110_1,  PR18,  PN-3,  1,      4,2,19911021,2052, 28.0998, 127.3528, -999,    986.9,   4.5379,  34.3923,2,-999.0000,9,     75.0,3,    39.30,2,     0.01,2,     2.93,2,  4.4594,    987
    49TU9110_1,  PR18,  PN-3,  2, BUCKET,2,19911021,2143, 28.0938, 127.3418, -999,      1.7,  25.5675,  34.6640,2,-999.0000,9,    204.0,3,     0.60,2,     0.00,2,     0.08,2, 25.5671,      2
    49TU9110_1,  PR18,  PN-3,  2,      9,2,19911021,2143, 28.0938, 127.3418, -999,     10.0,  25.5976,  34.6639,2,-999.0000,9,    203.0,3,     0.50,2,     0.00,2,     0.08,2, 25.5954,     10
    49TU9110_1,  PR18,  PN-3,  2,      8,2,19911021,2143, 28.0938, 127.3418, -999,     19.4,  25.6082,  34.6637,2,-999.0000,9,    203.0,3,     0.60,2,     0.00,2,     0.08,2, 25.6039,     19
    49TU9110_1,  PR18,  PN-3,  2,      7,2,19911021,2143, 28.0938, 127.3418, -999,     30.2,  25.6022,  34.6641,2,-999.0000,9,    203.0,3,     0.60,2,     0.00,2,     0.08,2, 25.5955,     30
    49TU9110_1,  PR18,  PN-3,  2,      6,2,19911021,2143, 28.0938, 127.3418, -999,     50.4,  25.6090,  34.6641,2,-999.0000,9,    203.0,3,     0.60,2,     0.00,2,     0.08,2, 25.5979,     50
    49TU9110_1,  PR18,  PN-3,  2,      5,2,19911021,2143, 28.0938, 127.3418, -999,     75.4,  25.6106,  34.6649,2,-999.0000,9,    203.0,3,     0.60,2,     0.01,2,     0.08,2, 25.5940,     75
    49TU9110_1,  PR18,  PN-3,  2,      4,2,19911021,2143, 28.0938, 127.3418, -999,    100.6,  23.5261,  34.8279,2,-999.0000,9,    192.0,3,     1.70,2,     0.06,2,     0.17,2, 23.5053,    101
    49TU9110_1,  PR18,  PN-3,  2,      3,2,19911021,2143, 28.0938, 127.3418, -999,    124.9,  22.2330,  34.8819,2,-999.0000,9,    192.0,3,     2.20,2,     0.03,2,     0.20,2, 22.2081,    125
    49TU9110_1,  PR18,  PN-3,  2,      2,2,19911021,2143, 28.0938, 127.3418, -999,    151.2,  21.1007,  34.8859,2,-999.0000,9,    192.0,3,     2.80,2,     0.02,2,     0.24,2, 21.0717,    151
    49TU9110_1,  PR18,  PN-3,  2,      1,2,19911021,2143, 28.0938, 127.3418, -999,    200.7,  19.2625,  34.8509,2,-999.0000,9,    192.0,3,     4.10,2,     0.01,2,     0.33,2, 19.2263,    201
    49TU9110_1,  PR18,  PN-3,  2,     12,2,19911021,2143, 28.0938, 127.3418, -999,    250.6,  18.1292,  34.8130,2,-999.0000,9,    194.0,3,     5.20,2,     0.01,2,     0.41,2, 18.0860,    251
    49TU9110_1,  PR18,  PN-3,  2,     11,2,19911021,2143, 28.0938, 127.3418, -999,    302.3,  16.6488,  34.7331,2,-999.0000,9,    192.0,3,     7.20,2,     0.01,2,     0.56,2, 16.5996,    302
    49TU9110_1,  PR18, PN-3',  1,     10,2,19911022,0206, 28.2552, 127.1213, -999,    402.0,  12.5685,  34.4573,2,  34.4656,2,    171.0,3,    16.00,2,     0.00,2,     1.17,2, 12.5143,    402
    49TU9110_1,  PR18, PN-3',  1,      9,2,19911022,0206, 28.2552, 127.1213, -999,    503.1,   9.7949,  34.3641,2,  34.3682,2,    138.0,3,    21.60,2,     0.00,2,     1.60,2,  9.7368,    503
    49TU9110_1,  PR18, PN-3',  1,      8,2,19911022,0206, 28.2552, 127.1213, -999,    603.9,   7.0712,  34.2607,2,  34.2665,2,    110.0,3,    32.60,2,     0.00,2,     2.40,2,  7.0134,    604
    49TU9110_1,  PR18, PN-3',  1,      7,2,19911022,0206, 28.2552, 127.1213, -999,    706.3,   5.9020,  34.2958,2,  34.3049,3,     95.0,3,    36.60,2,     0.00,2,     2.67,2,  5.8400,    706
    49TU9110_1,  PR18, PN-3',  1,      6,2,19911022,0206, 28.2552, 127.1213, -999,    808.0,   5.2484,  34.3564,2,  34.3607,2,     84.0,3,    39.30,2,     0.00,2,     2.85,2,  5.1809,    808
    49TU9110_1,  PR18, PN-3',  1,      5,2,19911022,0206, 28.2552, 127.1213, -999,    909.1,   4.6580,  34.3918,2,  34.3977,2,     80.0,3,    40.70,2,     0.01,2,     2.97,2,  4.5854,    909
    49TU9110_1,  PR18, PN-3',  1,      4,2,19911022,0206, 28.2552, 127.1213, -999,    926.4,   4.4125,  34.4044,2,  34.4087,2,     78.0,3,    41.30,2,     0.01,2,     3.03,2,  4.3401,    926
    49TU9110_1,  PR18, PN-3',  2, BUCKET,2,19911022,0311, 28.2623, 127.1213, -999,      1.1,  26.0929,  34.5776,2,-999.0000,9,    204.0,3,     0.50,2,     0.00,2,     0.10,2, 26.0927,      1
    49TU9110_1,  PR18, PN-3',  2,      9,2,19911022,0311, 28.2623, 127.1213, -999,      9.9,  26.1036,  34.5765,2,  34.5733,2,    203.0,3,     0.50,2,     0.00,2,     0.08,2, 26.1014,     10
    49TU9110_1,  PR18, PN-3',  2,      8,2,19911022,0311, 28.2623, 127.1213, -999,     19.0,  26.1042,  34.5763,2,  34.5765,2,    203.0,3,     0.50,2,     0.00,2,     0.08,2, 26.0999,     19
    49TU9110_1,  PR18, PN-3',  2,      7,2,19911022,0311, 28.2623, 127.1213, -999,     30.0,  26.1015,  34.5771,2,  34.5749,2,    203.0,3,     0.50,2,     0.00,2,     0.06,2, 26.0948,     30
    49TU9110_1,  PR18, PN-3',  2,      6,2,19911022,0311, 28.2623, 127.1213, -999,     50.0,  26.0831,  34.5826,2,  34.5800,2,    202.0,3,     0.60,2,     0.00,2,     0.07,2, 26.0720,     50
    49TU9110_1,  PR18, PN-3',  2,      5,2,19911022,0311, 28.2623, 127.1213, -999,     76.1,  26.0413,  34.5940,2,  34.5914,2,    202.0,3,     0.60,2,     0.00,2,     0.06,2, 26.0243,     76
    49TU9110_1,  PR18, PN-3',  2,      4,2,19911022,0311, 28.2623, 127.1213, -999,    101.7,  24.0439,  34.7863,2,  34.7846,2,    194.0,3,     1.50,2,     0.12,2,     0.12,2, 24.0225,    102
    49TU9110_1,  PR18, PN-3',  2,      3,2,19911022,0311, 28.2623, 127.1213, -999,    126.2,  22.6082,  34.9083,2,  34.9059,2,    191.0,3,     1.90,2,     0.03,2,     0.14,2, 22.5828,    126
    49TU9110_1,  PR18, PN-3',  2,      2,2,19911022,0311, 28.2623, 127.1213, -999,    151.2,  21.1274,  34.8886,2,  34.8881,2,    192.0,3,     2.70,2,     0.02,2,     0.20,2, 21.0983,    151
    49TU9110_1,  PR18, PN-3',  2,      1,2,19911022,0311, 28.2623, 127.1213, -999,    200.3,  19.1230,  34.8707,2,  34.8716,2,    192.0,3,     4.20,2,     0.01,2,     0.30,2, 19.0871,    200
    49TU9110_1,  PR18, PN-3',  2,     12,2,19911022,0311, 28.2623, 127.1213, -999,    250.6,  17.4210,  34.7858,2,  34.7881,2,    194.0,3,     6.10,2,     0.01,2,     0.42,2, 17.3790,    251
    49TU9110_1,  PR18, PN-3',  2,     11,2,19911022,0311, 28.2623, 127.1213, -999,    299.9,  15.8211,  34.6770,2,  34.6835,2,    191.0,3,     9.10,2,     0.00,2,     0.64,2, 15.7739,    300
    49TU9110_1,  PR18,  PN-4,  1, BUCKET,2,19911022,0549, 28.4045, 126.9035, -999,      0.5,  26.2551,  34.5688,2,-999.0000,9,    202.0,3,     0.50,2,     0.01,2,     0.10,2, 26.2550,      0
    49TU9110_1,  PR18,  PN-4,  1,      8,2,19911022,0549, 28.4045, 126.9035, -999,      9.7,  26.2591,  34.5689,2,-999.0000,9,    204.0,3,     0.50,2,     0.01,2,     0.11,2, 26.2570,     10
    49TU9110_1,  PR18,  PN-4,  1,      7,2,19911022,0549, 28.4045, 126.9035, -999,     20.7,  26.2650,  34.5682,2,-999.0000,9,    204.0,3,     0.50,2,     0.01,2,     0.11,2, 26.2604,     21
    49TU9110_1,  PR18,  PN-4,  1,      6,2,19911022,0549, 28.4045, 126.9035, -999,     30.5,  26.2657,  34.5685,2,-999.0000,9,    203.0,3,     0.50,2,     0.01,2,     0.10,2, 26.2588,     30
    49TU9110_1,  PR18,  PN-4,  1,      5,2,19911022,0549, 28.4045, 126.9035, -999,     50.7,  26.2672,  34.5689,2,-999.0000,9,    203.0,3,     0.50,2,     0.01,2,     0.10,2, 26.2558,     51
    49TU9110_1,  PR18,  PN-4,  1,      4,2,19911022,0549, 28.4045, 126.9035, -999,     75.9,  26.2596,  34.5666,2,-999.0000,9,    202.0,3,     0.50,2,     0.02,2,     0.09,2, 26.2425,     76
    49TU9110_1,  PR18,  PN-4,  1,      3,2,19911022,0549, 28.4045, 126.9035, -999,    100.4,  24.5092,  34.2731,2,-999.0000,9,    205.0,3,     0.50,2,     0.40,2,     0.13,2, 24.4878,    100
    49TU9110_1,  PR18,  PN-4,  1,      2,2,19911022,0549, 28.4045, 126.9035, -999,    125.7,  21.7223,  34.4918,2,-999.0000,9,    186.0,3,     4.50,2,     0.16,2,     0.36,2, 21.6977,    126
    49TU9110_1,  PR18,  PN-4,  1,      1,2,19911022,0549, 28.4045, 126.9035, -999,    149.7,  20.2656,  34.7561,2,-999.0000,9,    187.0,3,     4.40,2,     0.04,2,     0.36,2, 20.2377,    150
    49TU9110_1,  PR18,  PN-4,  1,     12,2,19911022,0549, 28.4045, 126.9035, -999,    201.6,  18.7072,  34.6904,2,-999.0000,9,    178.0,3,     7.00,2,     0.02,2,     0.56,2, 18.6717,    202
    49TU9110_1,  PR18,  PN-4,  1,     11,2,19911022,0549, 28.4045, 126.9035, -999,    252.5,  16.6822,  34.6741,2,-999.0000,9,    178.0,3,     9.10,2,     0.01,2,     0.72,2, 16.6411,    252
    49TU9110_1,  PR18,  PN-4,  1,     10,2,19911022,0549, 28.4045, 126.9035, -999,    268.8,  14.2127,  34.5632,2,-999.0000,9,    177.0,3,    12.20,2,     0.01,2,     0.98,2, 14.1735,    269
    49TU9110_1,  PR18, PN-4',  1, BUCKET,2,19911022,0809, 28.5538, 126.6818, -999,      0.9,  24.9297,  34.4269,2,-999.0000,9,    210.0,3,     0.50,2,     0.00,2,     0.06,2, 24.9295,      1
    49TU9110_1,  PR18, PN-4',  1,      4,2,19911022,0809, 28.5538, 126.6818, -999,      9.3,  24.9390,  34.4273,2,-999.0000,9,    210.0,3,     0.50,2,     0.00,2,     0.06,2, 24.9370,      9
    49TU9110_1,  PR18, PN-4',  1,      3,2,19911022,0809, 28.5538, 126.6818, -999,     20.1,  24.6237,  34.3851,2,-999.0000,9,    213.0,3,     0.50,2,     0.00,2,     0.10,2, 24.6194,     20
    49TU9110_1,  PR18, PN-4',  1,      2,2,19911022,0809, 28.5538, 126.6818, -999,     29.9,  24.5652,  34.3829,2,-999.0000,9,    213.0,3,     0.50,2,     0.00,2,     0.09,2, 24.5588,     30
    49TU9110_1,  PR18, PN-4',  1,      1,2,19911022,0809, 28.5538, 126.6818, -999,     50.2,  24.3997,  34.3492,2,-999.0000,9,    213.0,3,     0.50,2,     0.00,2,     0.10,2, 24.3891,     50
    49TU9110_1,  PR18, PN-4',  1,     12,2,19911022,0809, 28.5538, 126.6818, -999,     76.4,  24.1501,  34.3144,2,-999.0000,9,    210.0,3,     0.40,2,     0.05,2,     0.08,2, 24.1340,     76
    49TU9110_1,  PR18, PN-4',  1,     11,2,19911022,0809, 28.5538, 126.6818, -999,     99.9,  22.3153,  34.6501,2,-999.0000,9,    191.0,3,     3.10,2,     0.16,2,     0.25,2, 22.2954,    100
    49TU9110_1,  PR18, PN-4',  1,     10,2,19911022,0809, 28.5538, 126.6818, -999,    124.6,  20.0347,  34.7130,2,-999.0000,9,    184.0,3,     5.50,2,     0.03,2,     0.18,2, 20.0117,    125
    49TU9110_1,  PR18, PN-4',  1,      9,2,19911022,0809, 28.5538, 126.6818, -999,    146.3,  17.3251,  34.6794,2,-999.0000,9,    178.0,3,     7.90,2,     0.08,2,     0.30,2, 17.3007,    146