BOTTLE,20220705CCHSIOAMB
EXPOCODE,SECT_ID,STNNBR,CASTNO,BTLNBR,BTLNBR_FLAG_W,DATE,TIME,LATITUDE,LONGITUDE,DEPTH,CTDPRS,CTDTMP,CTDSAL,CTDSAL_FLAG_W,SALNTY,SALNTY_FLAG_W,OXYGEN,OXYGEN_FLAG_W,NITRAT,NITRAT_FLAG_W,NITRIT,NITRIT_FLAG_W,PHSPHT,PHSPHT_FLAG_W,THETA,CTDRAW
,,,,,,,,,,,DBAR,ITS-90,PSS-78,,PSS-78,,UMOL/KG,,UMOL/KG,,UMOL/KG,,UMOL/KG,,ITS-90,
    49TU9110_1,  PR18,  PN-5,  1, BUCKET,2,19911022,1003, 28.7057, 126.4465, -999,      0.6,  24.7700,  34.4236,2,-999.0000,9,    209.0,3,     0.50,2,     0.00,2,     0.08,2, 24.7699,      1
    49TU9110_1,  PR18,  PN-5,  1,     11,2,19911022,1003, 28.7057, 126.4465, -999,      9.7,  24.7775,  34.4250,2,  34.4220,2,    210.0,3,     0.50,2,     0.00,2,     0.07,2, 24.7755,     10
    49TU9110_1,  PR18,  PN-5,  1,     10,2,19911022,1003, 28.7057, 126.4465, -999,     19.8,  24.7751,  34.4254,2,  34.4248,2,    209.0,3,     0.60,2,     0.00,2,     0.06,2, 24.7709,     20
    49TU9110_1,  PR18,  PN-5,  1,      9,2,19911022,1003, 28.7057, 126.4465, -999,     29.6,  24.7927,  34.4318,2,  34.4271,2,    209.0,3,     0.60,2,     0.00,2,     0.06,2, 24.7863,     30
    49TU9110_1,  PR18,  PN-5,  1,      8,2,19911022,1003, 28.7057, 126.4465, -999,     49.9,  24.7871,  34.4444,2,  34.4385,2,    208.0,3,     0.60,2,     0.01,2,     0.07,2, 24.7764,     50
    49TU9110_1,  PR18,  PN-5,  1,      7,2,19911022,1003, 28.7057, 126.4465, -999,     74.7,  19.1228,  34.6236,2,  34.6253,2,    158.0,3,     8.90,2,     0.03,2,     0.62,2, 19.1095,     75
    49TU9110_1,  PR18,  PN-5,  1,      6,2,19911022,1003, 28.7057, 126.4465, -999,    100.0,  18.7156,  34.6047,2,  34.6087,2,    153.0,3,     9.70,2,     0.05,2,     0.71,2, 18.6980,    100
    49TU9110_1,  PR18,  PN-5,  1,      5,2,19911022,1003, 28.7057, 126.4465, -999,    121.9,  18.7206,  34.6069,2,  34.6095,2,    153.0,3,    10.00,2,     0.04,2,     0.70,2, 18.6992,    122
    49TU9110_1,  PR18,  PN-6,  1, BUCKET,2,19911022,1314, 29.0002, 126.0027, -999,      2.4,  24.6250,  34.2697,2,-999.0000,9,    206.0,3,     0.60,2,     0.02,2,     0.10,2, 24.6245,      2
    49TU9110_1,  PR18,  PN-6,  1,      5,2,19911022,1314, 29.0002, 126.0027, -999,      9.5,  24.6409,  34.2697,2,-999.0000,9,    207.0,3,     0.60,2,     0.02,2,     0.10,2, 24.6389,     10
    49TU9110_1,  PR18,  PN-6,  1,      4,2,19911022,1314, 29.0002, 126.0027, -999,     19.2,  24.6461,  34.2701,2,-999.0000,9,    207.0,3,     0.60,2,     0.02,2,     0.09,2, 24.6420,     19
    49TU9110_1,  PR18,  PN-6,  1,      3,2,19911022,1314, 29.0002, 126.0027, -999,     29.7,  24.6425,  34.2696,2,-999.0000,9,    207.0,3,     0.50,2,     0.01,2,     0.08,2, 24.6361,     30
    49TU9110_1,  PR18,  PN-6,  1,      2,2,19911022,1314, 29.0002, 126.0027, -999,     49.7,  24.5992,  34.2728,2,-999.0000,9,    206.0,3,     0.60,2,     0.02,2,     0.08,2, 24.5886,     50
    49TU9110_1,  PR18,  PN-6,  1,      1,2,19911022,1314, 29.0002, 126.0027, -999,     75.3,  23.9892,  34.3018,2,-999.0000,9,    196.0,3,     1.40,2,     0.11,2,     0.15,2, 23.9734,     75
    49TU9110_1,  PR18,  PN-6,  1,     12,2,19911022,1314, 29.0002, 126.0027, -999,    106.1,  18.8314,  34.5226,2,-999.0000,9,    139.0,3,    10.80,2,     0.04,2,     0.85,2, 18.8127,    106
    49TU9110_1,  PR18,  PN-7,  1, BUCKET,2,19911022,1650, 29.2977, 125.5442, -999,      0.9,  24.0680,  34.1510,2,-999.0000,9,    208.0,3,     0.60,2,     0.04,2,     0.09,2, 24.0678,      1
    49TU9110_1,  PR18,  PN-7,  1,     11,2,19911022,1650, 29.2977, 125.5442, -999,     10.1,  24.0881,  34.1515,2,-999.0000,9,    207.0,3,     0.50,2,     0.05,2,     0.09,2, 24.0859,     10
    49TU9110_1,  PR18,  PN-7,  1,     10,2,19911022,1650, 29.2977, 125.5442, -999,     20.3,  24.1020,  34.1530,2,-999.0000,9,    208.0,3,     0.60,2,     0.04,2,     0.10,2, 24.0977,     20
    49TU9110_1,  PR18,  PN-7,  1,      9,2,19911022,1650, 29.2977, 125.5442, -999,     30.1,  24.0994,  34.1520,2,-999.0000,9,    208.0,3,     0.60,2,     0.04,2,     0.12,2, 24.0931,     30
    49TU9110_1,  PR18,  PN-7,  1,      8,2,19911022,1650, 29.2977, 125.5442, -999,     50.0,  23.9000,  34.0958,2,-999.0000,9,    204.0,3,     0.60,2,     0.09,2,     0.14,2, 23.8896,     50
    49TU9110_1,  PR18,  PN-7,  1,      7,2,19911022,1650, 29.2977, 125.5442, -999,     75.1,  21.0305,  34.4550,2,-999.0000,9,    128.0,3,     9.30,2,     0.10,2,     0.85,2, 21.0162,     75
    49TU9110_1,  PR18,  PN-7,  1,      6,2,19911022,1650, 29.2977, 125.5442, -999,     85.0,  20.8661,  34.4616,2,-999.0000,9,    129.0,3,     9.60,2,     0.10,2,     0.44,2, 20.8500,     85
    49TU9110_1,  PR18,  PN-8,  1, BUCKET,2,19911022,2009, 29.5965, 125.0955, -999,      2.2,  23.1435,  33.9692,2,-999.0000,9,    209.0,3,     0.60,2,     0.08,2,     0.15,2, 23.1431,      2
    49TU9110_1,  PR18,  PN-8,  1,      4,2,19911022,2009, 29.5965, 125.0955, -999,      9.9,  23.1623,  33.9679,2,  33.9655,2,    206.0,3,     0.70,2,     0.10,2,     0.14,2, 23.1603,     10
    49TU9110_1,  PR18,  PN-8,  1,      3,2,19911022,2009, 29.5965, 125.0955, -999,     20.2,  23.1605,  33.9731,2,  33.9706,2,    206.0,3,     0.70,2,     0.10,2,     0.15,2, 23.1564,     20
    49TU9110_1,  PR18,  PN-8,  1,      2,2,19911022,2009, 29.5965, 125.0955, -999,     30.3,  23.2265,  33.9951,2,  33.9926,2,    206.0,3,     0.60,2,     0.09,2,     0.14,2, 23.2203,     30
    49TU9110_1,  PR18,  PN-8,  1,      1,2,19911022,2009, 29.5965, 125.0955, -999,     50.0,  23.2384,  34.0168,2,  34.0169,2,    205.0,3,     0.90,2,     0.08,2,     0.12,2, 23.2282,     50
    49TU9110_1,  PR18,  PN-8,  1,     12,2,19911022,2009, 29.5965, 125.0955, -999,     81.4,  22.4458,  34.1808,2,  34.1801,2,     95.0,3,    11.20,2,     0.07,2,     0.95,2, 22.4295,     81
    49TU9110_1,  PR18,  PN-9,  1, BUCKET,2,19911022,2349, 30.0035, 124.4963, -999,      2.1,  22.9137,  33.9944,2,-999.0000,9,    204.0,3,     1.10,2,     0.13,2,     0.19,2, 22.9133,      2
    49TU9110_1,  PR18,  PN-9,  1,      9,2,19911022,2349, 30.0035, 124.4963, -999,      9.4,  22.9199,  33.9952,2,-999.0000,9,    203.0,3,     0.90,2,     0.12,2,     0.20,2, 22.9180,      9
    49TU9110_1,  PR18,  PN-9,  1,      8,2,19911022,2349, 30.0035, 124.4963, -999,     19.5,  22.9255,  33.9948,2,-999.0000,9,    203.0,3,     0.90,2,     0.12,2,     0.18,2, 22.9216,     19
    49TU9110_1,  PR18,  PN-9,  1,      7,2,19911022,2349, 30.0035, 124.4963, -999,     29.7,  22.9195,  33.9939,2,-999.0000,9,    202.0,3,     1.00,2,     0.12,2,     0.20,2, 22.9135,     30
    49TU9110_1,  PR18,  PN-9,  1,      6,2,19911022,2349, 30.0035, 124.4963, -999,     50.4,  22.7037,  34.1000,2,-999.0000,9,    142.0,3,     6.40,2,     0.23,2,     0.64,2, 22.6936,     50
    49TU9110_1,  PR18,  PN-9,  1,      5,2,19911022,2349, 30.0035, 124.4963, -999,     63.3,  22.6871,  34.1075,2,-999.0000,9,    137.0,3,     6.90,2,     0.23,2,     0.67,2, 22.6743,     63