BOTTLE,20220705CCHSIOAMB
# Removed empty SAMPNO column
# Changed BTLNBR -999 with flag 2 to "BUCKET" with flag 2
#BOTTLE,20211201CCHSIORKP
# Original header:
#changed all fill flags to 9
#code : jjward hyd_to_exchange.pl 
#original files copied from HTML directory: 20010625
#original HYD file: pr18_bhy.txt   Tue Mar 27 15:24:26 2001
#original SUM file: pr18_bsu.txt   Mon Jun 25 13:51:14 2001
EXPOCODE,SECT_ID,STNNBR,CASTNO,BTLNBR,BTLNBR_FLAG_W,DATE,TIME,LATITUDE,LONGITUDE,DEPTH,CTDPRS,CTDTMP,CTDSAL,CTDSAL_FLAG_W,SALNTY,SALNTY_FLAG_W,OXYGEN,OXYGEN_FLAG_W,NITRAT,NITRAT_FLAG_W,NITRIT,NITRIT_FLAG_W,PHSPHT,PHSPHT_FLAG_W
,,,,,,,,,,METERS,DBAR,ITS-90,PSS-78,,PSS-78,,UMOL/KG,,UMOL/KG,,UMOL/KG,,UMOL/KG,
 49TU9104_1,       PR18,    PN-9,          1,     BUCKET,2,19910501,       2328,    29.9967,   124.4923,         68,     1.5,  14.3252,  33.6413,2,-999.0000,9,   265.0,3, -999.00,5,    0.05,2,    0.05,2
 49TU9104_1,       PR18,    PN-9,          1,          8,2,19910501,       2328,    29.9967,   124.4923,         68,    10.4,  14.3277,  33.6437,2,-999.0000,9,   273.0,3, -999.00,5,    0.02,2,    0.06,2
 49TU9104_1,       PR18,    PN-9,          1,          7,2,19910501,       2328,    29.9967,   124.4923,         68,    20.1,  13.9861,  33.8645,2,-999.0000,9,   261.0,3, -999.00,5,    0.29,2,    0.10,2
 49TU9104_1,       PR18,    PN-9,          1,          6,2,19910501,       2328,    29.9967,   124.4923,         68,    30.5,  13.5385,  33.8920,2,-999.0000,9,   257.0,3, -999.00,5,    0.53,2,    0.15,2
 49TU9104_1,       PR18,    PN-9,          1,          5,2,19910501,       2328,    29.9967,   124.4923,         68,    50.5,  13.4913,  33.9119,2,-999.0000,9,   255.0,3, -999.00,5,    0.59,2,    0.17,2
 49TU9104_1,       PR18,    PN-9,          1,          4,2,19910501,       2328,    29.9967,   124.4923,         68,    62.3,  13.4868,  33.9116,2,-999.0000,9,   254.0,3, -999.00,5,    0.63,2,    0.17,2
 49TU9104_1,       PR18,    PN-8,          1,     BUCKET,2,19910502,       0355,    29.6023,   125.0990,         86,     1.7,  15.2772,  34.1392,2,-999.0000,9,   262.0,3, -999.00,5,    0.03,2,    0.02,2
 49TU9104_1,       PR18,    PN-8,          1,          3,2,19910502,       0355,    29.6023,   125.0990,         86,     9.3,  15.2902,  34.1403,2,  34.1392,2,   254.0,3,    0.00,2,    0.02,2,    0.02,2
 49TU9104_1,       PR18,    PN-8,          1,          2,2,19910502,       0355,    29.6023,   125.0990,         86,    20.6,  15.1588,  34.1272,2,  34.1287,2,   264.0,3,    0.00,2,    0.02,2,    0.01,2
 49TU9104_1,       PR18,    PN-8,          1,          1,2,19910502,       0355,    29.6023,   125.0990,         86,    31.0,  14.8476,  34.0840,2,  34.0716,3,   267.0,3,    0.00,2,    0.03,2,    0.02,2
 49TU9104_1,       PR18,    PN-8,          1,         12,2,19910502,       0355,    29.6023,   125.0990,         86,    51.3,  13.8519,  34.1264,2,  34.1256,2,   244.0,3,    1.60,2,    1.59,2,    0.20,2
 49TU9104_1,       PR18,    PN-8,          1,         11,2,19910502,       0355,    29.6023,   125.0990,         86,    75.6,  13.8863,  34.1367,2,  34.1344,2,   244.0,3,    1.50,2,    1.47,2,    0.18,2
 49TU9104_1,       PR18,    PN-8,          1,         10,2,19910502,       0355,    29.6023,   125.0990,         86,    78.1,  13.8890,  34.1363,2,  34.1368,2,   244.0,3,    1.50,2,    1.45,2,    0.21,2
 49TU9104_1,       PR18,    PN-7,          1,     BUCKET,2,19910502,       0704,    29.3013,   125.5383,         91,     1.3,  14.4964,  33.3564,2,-999.0000,9,   271.0,3,    0.00,2,    0.02,2,    0.02,2
 49TU9104_1,       PR18,    PN-7,          1,          9,2,19910502,       0704,    29.3013,   125.5383,         91,    10.2,  14.5578,  33.4014,2,-999.0000,9,   269.0,3,    0.00,2,    0.05,2,    0.06,2
 49TU9104_1,       PR18,    PN-7,          1,          8,2,19910502,       0704,    29.3013,   125.5383,         91,    18.9,  14.1763,  33.3638,2,-999.0000,9,   265.0,3,    0.60,2,    0.08,2,    0.07,2
 49TU9104_1,       PR18,    PN-7,          1,          7,2,19910502,       0704,    29.3013,   125.5383,         91,    31.0,  14.0602,  33.7565,2,-999.0000,9,   247.0,3,    2.60,2,    0.27,2,    0.20,2
 49TU9104_1,       PR18,    PN-7,          1,          6,2,19910502,       0704,    29.3013,   125.5383,         91,    51.0,  14.1046,  33.8681,2,-999.0000,9,   238.0,3,    3.70,2,    0.56,2,    0.26,2
 49TU9104_1,       PR18,    PN-7,          1,          5,2,19910502,       0704,    29.3013,   125.5383,         91,    75.3,  13.9116,  33.9377,2,-999.0000,9,   242.0,3,    3.20,2,    0.73,2,    0.25,2
 49TU9104_1,       PR18,    PN-7,          1,          4,2,19910502,       0704,    29.3013,   125.5383,         91,    86.6,  13.9082,  33.9413,2,-999.0000,9,   242.0,3,    3.40,2,    0.72,2,    0.24,2
 49TU9104_1,       PR18,    PN-6,          1,     BUCKET,2,19910502,       1012,    28.9975,   125.9838,        120,     1.7,  14.6640,  32.6132,2,-999.0000,9,   274.0,3,    0.20,2,    0.07,2,    0.02,2
 49TU9104_1,       PR18,    PN-6,          1,          4,2,19910502,       1012,    28.9975,   125.9838,        120,     9.7,  14.6705,  32.6134,2,-999.0000,9,   277.0,3,    0.40,2,    0.11,2,    0.04,2
 49TU9104_1,       PR18,    PN-6,          1,          3,2,19910502,       1012,    28.9975,   125.9838,        120,    20.1,  14.6241,  32.6239,2,-999.0000,9,   278.0,3,    0.20,2,    0.09,2,    0.03,2
 49TU9104_1,       PR18,    PN-6,          1,          2,2,19910502,       1012,    28.9975,   125.9838,        120,    30.8,  15.3604,  33.4144,2,-999.0000,9,   261.0,3,    0.50,2,    0.18,2,    0.06,2
 49TU9104_1,       PR18,    PN-6,          1,          1,2,19910502,       1012,    28.9975,   125.9838,        120,    51.2,  16.2304,  33.9989,2,-999.0000,9,   217.0,3,    5.60,2,    0.04,2,    0.27,2
 49TU9104_1,       PR18,    PN-6,          1,         12,2,19910502,       1012,    28.9975,   125.9838,        120,    76.1,  15.8690,  33.9446,2,-999.0000,9,   221.0,3,    5.30,2,    0.05,2,    0.28,2
 49TU9104_1,       PR18,    PN-6,          1,         11,2,19910502,       1012,    28.9975,   125.9838,        120,   100.5,  14.9701,  33.9811,2,-999.0000,9,   236.0,3,    3.80,2,    0.25,2,    0.24,2
 49TU9104_1,       PR18,    PN-6,          1,         10,2,19910502,       1012,    28.9975,   125.9838,        120,   110.5,  14.9253,  33.9912,2,-999.0000,9,   236.0,3,    3.70,2,    0.28,2,    0.24,2
 49TU9104_1,       PR18,    PN-5,          1,     BUCKET,2,19910502,       1353,    28.6675,   126.4367,        128,     0.7,  20.0423,  34.3471,2,-999.0000,9,   231.0,3,    0.10,2,    0.01,2,    0.02,2
 49TU9104_1,       PR18,    PN-5,          1,         11,2,19910502,       1353,    28.6675,   126.4367,        128,    10.1,  20.0643,  34.3481,2,-999.0000,9,   231.0,3,    0.10,2,    0.01,2,    0.02,2
 49TU9104_1,       PR18,    PN-5,          1,         10,2,19910502,       1353,    28.6675,   126.4367,        128,    19.7,  19.8271,  34.3091,2,-999.0000,9,   232.0,3,    0.10,2,    0.02,2,    0.03,2
 49TU9104_1,       PR18,    PN-5,          1,          9,2,19910502,       1353,    28.6675,   126.4367,        128,    31.6,  19.3180,  34.2190,2,-999.0000,9,   234.0,3,    0.00,2,    0.06,2,    0.04,2
 49TU9104_1,       PR18,    PN-5,          1,          8,2,19910502,       1353,    28.6675,   126.4367,        128,    51.2,  18.4453,  34.0808,2,-999.0000,9,   235.0,3,    0.00,2,    0.20,2,    0.07,2
 49TU9104_1,       PR18,    PN-5,          1,          7,2,19910502,       1353,    28.6675,   126.4367,        128,    76.2,  17.2320,  34.2322,2,-999.0000,9,   203.0,3,    4.90,2,    0.06,2,    0.30,2
 49TU9104_1,       PR18,    PN-5,          1,          6,2,19910502,       1353,    28.6675,   126.4367,        128,   100.2,  17.3292,  34.3611,2,-999.0000,9,   187.0,3,    6.40,2,    0.04,2,    0.39,2
 49TU9104_1,       PR18,    PN-5,          1,          5,2,19910502,       1353,    28.6675,   126.4367,        128,   117.3,  17.3348,  34.3626,2,-999.0000,9,   187.0,3,    6.40,2,    0.04,2,    0.37,2
 49TU9104_1,       PR18,   PN-4',          1,     BUCKET,2,19910503,       0301,    28.5515,   126.6823,        153,     2.2,  20.2843,  34.4827,2,-999.0000,9,   228.0,3,    0.10,2,    0.02,2, -999.00,9
 49TU9104_1,       PR18,   PN-4',          1,          7,2,19910503,       0301,    28.5515,   126.6823,        153,    10.5,  19.3565,  34.3326,2,-999.0000,9,   237.0,3,    0.20,2,    0.06,2, -999.00,9
 49TU9104_1,       PR18,   PN-4',          1,          6,2,19910503,       0301,    28.5515,   126.6823,        153,    19.7,  19.0467,  34.2848,2,-999.0000,9,   238.0,3,    0.20,2,    0.06,2, -999.00,9
 49TU9104_1,       PR18,   PN-4',          1,          5,2,19910503,       0301,    28.5515,   126.6823,        153,    29.4,  18.7968,  34.2469,2,-999.0000,9,   238.0,3,    0.30,2,    0.08,2, -999.00,9
 49TU9104_1,       PR18,   PN-4',          1,          4,2,19910503,       0301,    28.5515,   126.6823,        153,    50.4,  18.2980,  34.2879,2,-999.0000,9,   234.0,3,    1.20,2,    0.45,2, -999.00,9
 49TU9104_1,       PR18,   PN-4',          1,          3,2,19910503,       0301,    28.5515,   126.6823,        153,    75.0,  18.1561,  34.4154,2,-999.0000,9,   212.0,3,    4.10,2,    0.64,2, -999.00,9
 49TU9104_1,       PR18,   PN-4',          1,          2,2,19910503,       0301,    28.5515,   126.6823,        153,   100.8,  17.8980,  34.4742,2,-999.0000,9,   191.0,3,    6.70,2,    0.03,2, -999.00,9
 49TU9104_1,       PR18,   PN-4',          1,          1,2,19910503,       0301,    28.5515,   126.6823,        153,   125.6,  17.8470,  34.5005,2,-999.0000,9,   191.0,3,    7.00,2,    0.06,2, -999.00,9
 49TU9104_1,       PR18,   PN-4',          1,         12,2,19910503,       0301,    28.5515,   126.6823,        153,   147.1,  15.2395,  34.4822,2,-999.0000,9,   171.0,3,   11.90,2,    0.19,2, -999.00,9
 49TU9104_1,       PR18,    PN-4,          1,     BUCKET,2,19910503,       0525,    28.4063,   126.8992,        274,     2.2,  24.7666,  34.5729,2,-999.0000,9,   209.0,3,    0.10,2,    0.00,2, -999.00,9
 49TU9104_1,       PR18,    PN-4,          1,          6,2,19910503,       0525,    28.4063,   126.8992,        274,    10.1,  24.7639,  34.5744,2,-999.0000,9,   210.0,3,    0.00,2,    0.01,2, -999.00,9
 49TU9104_1,       PR18,    PN-4,          1,          5,2,19910503,       0525,    28.4063,   126.8992,        274,    19.6,  24.7672,  34.5721,2,-999.0000,9,   215.0,3,    0.00,2,    0.00,2, -999.00,9
 49TU9104_1,       PR18,    PN-4,          1,          4,2,19910503,       0525,    28.4063,   126.8992,        274,    30.1,  24.7686,  34.5729,2,-999.0000,9,   210.0,3,    0.00,2,    0.00,2, -999.00,9
 49TU9104_1,       PR18,    PN-4,          1,          3,2,19910503,       0525,    28.4063,   126.8992,        274,    51.0,  24.2898,  34.7021,2,-999.0000,9,   202.0,3,    0.20,2,    0.12,2, -999.00,9
 49TU9104_1,       PR18,    PN-4,          1,          2,2,19910503,       0525,    28.4063,   126.8992,        274,    75.9,  23.1990,  34.7774,2,-999.0000,9,   223.0,3,    0.20,2,    0.05,2, -999.00,9
 49TU9104_1,       PR18,    PN-4,          1,          1,2,19910503,       0525,    28.4063,   126.8992,        274,   100.6,  21.3635,  34.6598,2,-999.0000,9,   196.0,3,    2.80,2,    0.31,2, -999.00,9
 49TU9104_1,       PR18,    PN-4,          1,         12,2,19910503,       0525,    28.4063,   126.8992,        274,   124.8,  20.1098,  34.5944,2,-999.0000,9,   199.0,3,    3.70,2,    0.17,2, -999.00,9
 49TU9104_1,       PR18,    PN-4,          1,         11,2,19910503,       0525,    28.4063,   126.8992,        274,   151.5,  19.3377,  34.6802,2,-999.0000,9,   185.0,3,    5.80,2,    0.05,2, -999.00,9
 49TU9104_1,       PR18,    PN-4,          1,         10,2,19910503,       0525,    28.4063,   126.8992,        274,   200.8,  17.7229,  34.5350,2,-999.0000,9,   190.0,3,    7.60,2,    0.04,2, -999.00,9
 49TU9104_1,       PR18,    PN-4,          1,          9,2,19910503,       0525,    28.4063,   126.8992,        274,   251.1,  10.8446,  34.3706,2,-999.0000,9,   152.0,3,   20.00,2,    0.05,2, -999.00,9
 49TU9104_1,       PR18,    PN-4,          1,          8,2,19910503,       0525,    28.4063,   126.8992,        274,   262.4,  10.7237,  34.3648,2,-999.0000,9,   152.0,3,   20.20,2,    0.06,2, -999.00,9
 49TU9104_1,       PR18,   PN-3',          1,         12,2,19910503,       0831,    28.2538,   127.1332,        965,   404.1,  11.1119,  34.3547,2,  34.3545,2,   167.0,3,   17.80,2,    0.00,2,    1.25,2
 49TU9104_1,       PR18,   PN-3',          1,         11,2,19910503,       0831,    28.2538,   127.1332,        965,   504.5,   8.5419,  34.3095,2,  34.3067,2,   135.0,3,   26.00,2,    0.00,2,    1.92,2
 49TU9104_1,       PR18,   PN-3',          1,         10,2,19910503,       0831,    28.2538,   127.1332,        965,   605.8,   6.7168,  34.2870,2,  34.2888,2,   103.0,3,   31.70,2,    0.00,2,    2.38,2
 49TU9104_1,       PR18,   PN-3',          1,          9,2,19910503,       0831,    28.2538,   127.1332,        965,   706.4,   5.8314,  34.3352,2,  34.3358,2,    91.0,3,   34.30,2,    0.00,2,    2.59,2
 49TU9104_1,       PR18,   PN-3',          1,          8,2,19910503,       0831,    28.2538,   127.1332,        965,   807.7,   5.2960,  34.3696,2,  34.3732,2,    85.0,3,   35.60,2,    0.00,2,    2.69,2
 49TU9104_1,       PR18,   PN-3',          1,          7,2,19910503,       0831,    28.2538,   127.1332,        965,   933.7,   4.7546,  34.3953,2,  34.3995,2,    78.0,3,   37.30,2,    0.00,2,    2.81,2
 49TU9104_1,       PR18,   PN-3',          2,     BUCKET,2,19910503,       0915,    28.2640,   127.1497,     -999.0,     0.0,  25.0740,  34.5762,2,-999.0000,9,   208.0,3,    0.10,2,    0.00,2,    0.02,2
 49TU9104_1,       PR18,   PN-3',          2,         11,2,19910503,       0915,    28.2640,   127.1497,     -999.0,     9.5,  25.0897,  34.5764,2,  34.5724,2,   211.0,3,    0.00,2,    0.00,2,    0.02,2
 49TU9104_1,       PR18,   PN-3',          2,         10,2,19910503,       0915,    28.2640,   127.1497,     -999.0,    19.8,  25.0923,  34.5764,2,  34.5726,2,   208.0,3,    0.10,2,    0.00,2,    0.03,2
 49TU9104_1,       PR18,   PN-3',          2,          9,2,19910503,       0915,    28.2640,   127.1497,     -999.0,    29.5,  25.0936,  34.5777,2,  34.5740,2,   208.0,3,    0.00,2,    0.00,2,    0.02,2
 49TU9104_1,       PR18,   PN-3',          2,          8,2,19910503,       0915,    28.2640,   127.1497,     -999.0,    50.4,  25.0631,  34.5820,2,  34.5777,2,   207.0,3,    0.10,2,    0.04,2,    0.03,2
 49TU9104_1,       PR18,   PN-3',          2,          7,2,19910503,       0915,    28.2640,   127.1497,     -999.0,    75.4,  24.3178,  34.6376,2,  34.6376,2,   207.0,3,    0.70,2,    0.29,2,    0.09,2
 49TU9104_1,       PR18,   PN-3',          2,          6,2,19910503,       0915,    28.2640,   127.1497,     -999.0,   100.7,  22.6114,  34.7065,2,  34.7016,2,   192.0,3,    1.90,2,    0.28,2,    0.17,2
 49TU9104_1,       PR18,   PN-3',          2,          5,2,19910503,       0915,    28.2640,   127.1497,     -999.0,   125.8,  21.3364,  34.7627,2,  34.7645,2,   187.0,3,    3.30,2,    0.10,2,    0.25,2
 49TU9104_1,       PR18,   PN-3',          2,          4,2,19910503,       0915,    28.2640,   127.1497,     -999.0,   150.7,  20.6006,  34.8158,2,  34.8116,2,   183.0,3,    4.00,2,    0.02,2,    0.30,2
 49TU9104_1,       PR18,   PN-3',          2,          3,2,19910503,       0915,    28.2640,   127.1497,     -999.0,   200.5,  17.5624,  34.7871,2,  34.7882,2,   190.0,3,    6.00,2,    0.02,2,    0.40,2
 49TU9104_1,       PR18,   PN-3',          2,          2,2,19910503,       0915,    28.2640,   127.1497,     -999.0,   251.7,  16.1878,  34.7064,2,  34.7133,2,   191.0,3,    7.60,2,    0.00,2,    0.52,2
 49TU9104_1,       PR18,   PN-3',          2,          1,2,19910503,       0915,    28.2640,   127.1497,     -999.0,   302.6,  14.7447,  34.6023,2,  34.6059,2,   188.0,3,   10.20,2,    0.00,2,    0.69,2
 49TU9104_1,       PR18,    PN-3,          1,          6,2,19910503,       1201,    28.0987,   127.3548,        998,   402.9,  14.4581,  34.5845,2,-999.0000,9,   186.0,3,   10.40,2,    0.00,2,    0.74,2
 49TU9104_1,       PR18,    PN-3,          1,          5,2,19910503,       1201,    28.0987,   127.3548,        998,   503.2,  10.8165,  34.3361,2,-999.0000,9,   167.0,3,   18.60,2,    0.02,2,    1.47,2
 49TU9104_1,       PR18,    PN-3,          1,          4,2,19910503,       1201,    28.0987,   127.3548,        998,   604.7,   8.3229,  34.2378,2,-999.0000,9,   134.0,3,   25.90,2,    0.00,2,    1.96,2
 49TU9104_1,       PR18,    PN-3,          1,          3,2,19910503,       1201,    28.0987,   127.3548,        998,   705.3,   7.2249,  34.2887,2,-999.0000,9,    89.0,3,   34.80,2,    0.00,2,    2.75,2
 49TU9104_1,       PR18,    PN-3,          1,          2,2,19910503,       1201,    28.0987,   127.3548,        998,   807.3,   5.5640,  34.3422,2,-999.0000,9,    90.0,3,   35.10,2,    0.01,2,    2.84,2
 49TU9104_1,       PR18,    PN-3,          1,          1,2,19910503,       1201,    28.0987,   127.3548,        998,   909.5,   5.0371,  34.3771,2,-999.0000,9,    80.0,3,   36.10,2,    0.01,2,    2.89,2
 49TU9104_1,       PR18,    PN-3,          1,         12,2,19910503,       1201,    28.0987,   127.3548,        998,   979.9,   4.6560,  34.3825,2,-999.0000,9,    78.0,3,   37.70,2,    0.00,2,    2.90,2
 49TU9104_1,       PR18,    PN-3,          2,     BUCKET,2,19910503,       1256,    28.0973,   127.3675,     -999.0,     1.6,  23.5573,  34.7361,2,-999.0000,9,   213.0,3,    0.00,2,    0.01,2,    0.02,2
 49TU9104_1,       PR18,    PN-3,          2,          5,2,19910503,       1256,    28.0973,   127.3675,     -999.0,     9.4,  23.5646,  34.7355,2,-999.0000,9,   212.0,3,    0.00,2,    0.01,2,    0.01,2
 49TU9104_1,       PR18,    PN-3,          2,          4,2,19910503,       1256,    28.0973,   127.3675,     -999.0,    19.4,  23.4377,  34.7609,2,-999.0000,9,   214.0,3,    0.00,2,    0.00,2,    0.01,2
 49TU9104_1,       PR18,    PN-3,          2,          3,2,19910503,       1256,    28.0973,   127.3675,     -999.0,    29.9,  23.4161,  34.7665,2,-999.0000,9,   214.0,3,    0.00,2,    0.00,2,    0.01,2
 49TU9104_1,       PR18,    PN-3,          2,          2,2,19910503,       1256,    28.0973,   127.3675,     -999.0,    51.1,  23.3451,  34.7775,2,-999.0000,9,   216.0,3,    0.00,2,    0.02,2,    0.00,2
 49TU9104_1,       PR18,    PN-3,          2,          1,2,19910503,       1256,    28.0973,   127.3675,     -999.0,    75.1,  23.2998,  34.7814,2,-999.0000,9,   215.0,3,    0.00,2,    0.00,2,    0.01,2
 49TU9104_1,       PR18,    PN-3,          2,         12,2,19910503,       1256,    28.0973,   127.3675,     -999.0,   100.5,  22.5561,  34.8859,2,-999.0000,9,   211.0,3,    0.00,2,    0.06,2,    0.01,2
 49TU9104_1,       PR18,    PN-3,          2,         11,2,19910503,       1256,    28.0973,   127.3675,     -999.0,   126.2,  21.9733,  34.8801,2,-999.0000,9,   205.0,3,    0.60,2,    0.09,2,    0.02,2
 49TU9104_1,       PR18,    PN-3,          2,         10,2,19910503,       1256,    28.0973,   127.3675,     -999.0,   150.5,  21.4477,  34.8956,2,-999.0000,9,   205.0,3,    1.10,2,    0.03,2,    0.05,2
 49TU9104_1,       PR18,    PN-3,          2,          9,2,19910503,       1256,    28.0973,   127.3675,     -999.0,   200.7,  19.2961,  34.8684,2,-999.0000,9,   198.0,3,    2.80,2,    0.01,2,    0.16,2
 49TU9104_1,       PR18,    PN-3,          2,          8,2,19910503,       1256,    28.0973,   127.3675,     -999.0,   252.4,  17.5880,  34.7913,2,-999.0000,9,   196.0,3,    4.90,2,    0.00,2,    0.31,2
 49TU9104_1,       PR18,    PN-3,          2,          7,2,19910503,       1256,    28.0973,   127.3675,     -999.0,   301.1,  16.5985,  34.7403,2,-999.0000,9,   196.0,3,    6.30,2,    0.02,2,    0.43,2