BOTTLE,20220705CCHSIOAMB
EXPOCODE,SECT_ID,STNNBR,CASTNO,BTLNBR,BTLNBR_FLAG_W,DATE,TIME,LATITUDE,LONGITUDE,DEPTH,CTDPRS,CTDTMP,CTDSAL,CTDSAL_FLAG_W,SALNTY,SALNTY_FLAG_W,OXYGEN,OXYGEN_FLAG_W,NITRAT,NITRAT_FLAG_W,NITRIT,NITRIT_FLAG_W,PHSPHT,PHSPHT_FLAG_W
,,,,,,,,,,METERS,DBAR,ITS-90,PSS-78,,PSS-78,,UMOL/KG,,UMOL/KG,,UMOL/KG,,UMOL/KG,
 49TU9104_1,       PR18,    PN-2,          1,          4,2,19910503,       1924,    27.7983,   127.8002,        876,   403.5,  15.5656,  34.6687,2,  34.6668,2,   194.0,3, -999.00,5,    0.01,2,    0.72,2
 49TU9104_1,       PR18,    PN-2,          1,          3,2,19910503,       1924,    27.7983,   127.8002,        876,   504.0,  13.1600,  34.4869,2,  34.4860,2,   184.0,3, -999.00,5,    0.29,2,    1.15,2
 49TU9104_1,       PR18,    PN-2,          1,          2,2,19910503,       1924,    27.7983,   127.8002,        876,   605.9,  10.0392,  34.3406,2,  34.3413,2,   148.0,3, -999.00,5,    0.01,2,    1.79,2
 49TU9104_1,       PR18,    PN-2,          1,          1,2,19910503,       1924,    27.7983,   127.8002,        876,   705.9,   7.2818,  34.2280,2,  34.2345,2,   114.0,3, -999.00,5,    0.00,2,    2.23,2
 49TU9104_1,       PR18,    PN-2,          1,         12,2,19910503,       1924,    27.7983,   127.8002,        876,   807.7,   6.3888,  34.2953,2,  34.2980,2,    99.0,3, -999.00,5,    0.00,2,    2.53,2
 49TU9104_1,       PR18,    PN-2,          1,         11,2,19910503,       1924,    27.7983,   127.8002,        876,   841.8,   5.8275,  34.3174,2,  34.3338,3,    90.0,3, -999.00,5,    0.01,2,    2.76,2
 49TU9104_1,       PR18,    PN-2,          2,     BUCKET,2,19910503,       2002,    27.7947,   127.7955,     -999.0,     1.2,  22.4425,  34.7552,2,-999.0000,9,   217.0,3, -999.00,5, -999.00,5, -999.00,5
 49TU9104_1,       PR18,    PN-2,          2,          3,2,19910503,       2002,    27.7947,   127.7955,     -999.0,    10.0,  22.4559,  34.7533,2,  34.7517,2,   216.0,3, -999.00,5,    0.00,2,    0.11,2
 49TU9104_1,       PR18,    PN-2,          2,          2,2,19910503,       2002,    27.7947,   127.7955,     -999.0,    19.7,  22.4596,  34.7574,2,  34.7550,2,   216.0,3, -999.00,5,    0.00,2,    0.15,2
 49TU9104_1,       PR18,    PN-2,          2,          1,2,19910503,       2002,    27.7947,   127.7955,     -999.0,    30.1,  22.4673,  34.7717,2,  34.7668,2,   218.0,3, -999.00,5,    0.00,2,    0.05,2
 49TU9104_1,       PR18,    PN-2,          2,         12,2,19910503,       2002,    27.7947,   127.7955,     -999.0,    50.0,  22.4717,  34.7725,2,  34.7692,2,   216.0,3, -999.00,5,    0.00,2,    0.07,2
 49TU9104_1,       PR18,    PN-2,          2,         11,2,19910503,       2002,    27.7947,   127.7955,     -999.0,    74.4,  22.3743,  34.7955,2,  34.7933,2,   216.0,3, -999.00,5,    0.34,2,    0.27,2
 49TU9104_1,       PR18,    PN-2,          2,         10,2,19910503,       2002,    27.7947,   127.7955,     -999.0,   101.2,  22.0094,  34.8229,2,  34.8201,2,   217.0,3, -999.00,5,    0.40,2,    0.25,2
 49TU9104_1,       PR18,    PN-2,          2,          9,2,19910503,       2002,    27.7947,   127.7955,     -999.0,   124.7,  21.5415,  34.8832,2,  34.8810,2,   205.0,3, -999.00,5,    0.07,2,    0.12,2
 49TU9104_1,       PR18,    PN-2,          2,          8,2,19910503,       2002,    27.7947,   127.7955,     -999.0,   151.2,  20.9758,  34.8877,2,  34.8858,2,   203.0,3, -999.00,5,    0.02,2,    0.15,2
 49TU9104_1,       PR18,    PN-2,          2,          7,2,19910503,       2002,    27.7947,   127.7955,     -999.0,   200.7,  19.4122,  34.8774,2,  34.8806,2,   199.0,3, -999.00,5,    0.01,2,    0.32,2
 49TU9104_1,       PR18,    PN-2,          2,          6,2,19910503,       2002,    27.7947,   127.7955,     -999.0,   250.4,  18.2171,  34.8288,2,  34.8276,2,   198.0,3, -999.00,5,    0.01,2,    0.32,2
 49TU9104_1,       PR18,    PN-2,          2,          5,2,19910503,       2002,    27.7947,   127.7955,     -999.0,   304.2,  17.2999,  34.7819,2,  34.7813,2,   197.0,3, -999.00,5,    0.01,2,    0.45,2
 49TU9104_1,       PR18,    PN-1,          1,         11,2,19910504,       0006,    27.4960,   128.2448,       1005,   403.2,  14.3948,  34.5835,2,  34.5846,2,   183.0,3,   11.30,2,    0.02,2,    0.89,2
 49TU9104_1,       PR18,    PN-1,          1,         10,2,19910504,       0006,    27.4960,   128.2448,       1005,   504.1,  11.8213,  34.4220,2,  34.4238,2,   165.0,3,   17.40,2,    0.13,2,    1.42,2
 49TU9104_1,       PR18,    PN-1,          1,          9,2,19910504,       0006,    27.4960,   128.2448,       1005,   604.2,  10.1810,  34.3553,2,  34.3588,2,   148.0,3,   21.90,2,    0.04,2,    1.67,2
 49TU9104_1,       PR18,    PN-1,          1,          8,2,19910504,       0006,    27.4960,   128.2448,       1005,   705.7,   8.0907,  34.3108,2,  34.3130,2,   122.0,3,   28.10,2,    0.00,2,    2.17,2
 49TU9104_1,       PR18,    PN-1,          1,          7,2,19910504,       0006,    27.4960,   128.2448,       1005,   806.7,   7.3091,  34.3112,2,  34.3169,2,   110.0,3,   30.30,2,    0.06,2,    2.35,2
 49TU9104_1,       PR18,    PN-1,          1,          6,2,19910504,       0006,    27.4960,   128.2448,       1005,   907.2,   6.6381,  34.3163,2,  34.3205,2,   102.0,3,   32.80,2,    0.08,2,    2.53,2
 49TU9104_1,       PR18,    PN-1,          1,          5,2,19910504,       0006,    27.4960,   128.2448,       1005,   975.6,   6.5293,  34.3178,2,  34.3226,2,   102.0,3,   33.00,2,    0.00,2,    2.58,2
 49TU9104_1,       PR18,    PN-1,          2,     BUCKET,2,19910504,       0104,    27.4780,   128.2322,     -999.0,     1.0,  22.2507,  34.7917,2,-999.0000,9,   217.0,3, -999.00,5, -999.00,5, -999.00,5
 49TU9104_1,       PR18,    PN-1,          2,         10,2,19910504,       0104,    27.4780,   128.2322,     -999.0,     9.8,  22.2296,  34.7923,2,  34.7893,2,   217.0,3,    0.00,2,    0.00,2,    0.10,2
 49TU9104_1,       PR18,    PN-1,          2,          9,2,19910504,       0104,    27.4780,   128.2322,     -999.0,    19.7,  22.2278,  34.7923,2,-999.0000,9,   217.0,3,    0.00,2,    0.00,2,    0.07,2
 49TU9104_1,       PR18,    PN-1,          2,          8,2,19910504,       0104,    27.4780,   128.2322,     -999.0,    30.4,  22.2081,  34.7997,2,  34.8000,2,   216.0,3,    0.00,2,    0.00,2,    0.05,2
 49TU9104_1,       PR18,    PN-1,          2,          7,2,19910504,       0104,    27.4780,   128.2322,     -999.0,    50.2,  22.2218,  34.7988,2,-999.0000,9,   217.0,3,    0.00,2,    0.00,2,    0.01,2
 49TU9104_1,       PR18,    PN-1,          2,          6,2,19910504,       0104,    27.4780,   128.2322,     -999.0,    75.5,  22.2065,  34.8040,2,  34.8057,2,   217.0,3,    0.00,2,    0.00,2,    0.01,2
 49TU9104_1,       PR18,    PN-1,          2,          5,2,19910504,       0104,    27.4780,   128.2322,     -999.0,   101.3,  22.2021,  34.8054,2,-999.0000,9,   217.0,3,    0.00,2,    0.00,2,    0.01,2
 49TU9104_1,       PR18,    PN-1,          2,          4,2,19910504,       0104,    27.4780,   128.2322,     -999.0,   125.4,  21.5090,  34.8220,2,  34.8215,2,   207.0,3,    0.70,2,    0.07,2,    0.05,2
 49TU9104_1,       PR18,    PN-1,          2,          3,2,19910504,       0104,    27.4780,   128.2322,     -999.0,   151.4,  20.7280,  34.8406,2,-999.0000,9,   203.0,3,    1.70,2,    0.11,2,    0.20,2
 49TU9104_1,       PR18,    PN-1,          2,          2,2,19910504,       0104,    27.4780,   128.2322,     -999.0,   201.5,  19.2306,  34.8379,2,  34.8392,2,   196.0,3,    3.50,2,    0.01,2,    0.24,2
 49TU9104_1,       PR18,    PN-1,          2,          1,2,19910504,       0104,    27.4780,   128.2322,     -999.0,   251.7,  18.1189,  34.8133,2,  34.8164,2,   195.0,3,    4.60,2,    0.05,2,    0.34,2
 49TU9104_1,       PR18,    PN-1,          2,         12,2,19910504,       0104,    27.4780,   128.2322,     -999.0,   302.9,  16.9659,  34.7542,2,  34.7570,2,   193.0,3,    6.40,2,    0.16,2,    0.50,2