BOTTLE,20220630CCHSIOAMB
EXPOCODE,SECT_ID,STNNBR,CASTNO,BTLNBR,BTLNBR_FLAG_W,DATE,TIME,LATITUDE,LONGITUDE,DEPTH,CTDPRS,CTDTMP,CTDSAL,CTDSAL_FLAG_W,SALNTY,SALNTY_FLAG_W,OXYGEN,OXYGEN_FLAG_W,NITRAT,NITRAT_FLAG_W,NITRIT,NITRIT_FLAG_W,PHSPHT,PHSPHT_FLAG_W
,,,,,,,,,,METERS,DBAR,ITS-90,PSS-78,,PSS-78,,UMOL/KG,,UMOL/KG,,UMOL/KG,,UMOL/KG,
 49TU9010_4,       PR19,    NS-6,          3,     BUCKET,2,19901119,       1323,    23.5165,   126.3252,     -999.0,     0.1,  25.4930,  34.7476,2,-999.0000,9,   207.0,3, -999.00,5,    0.01,3,    0.00,3
 49TU9010_4,       PR19,    NS-6,          3,          8,2,19901119,       1323,    23.5165,   126.3252,     -999.0,    10.6,  25.4910,  34.7466,2,-999.0000,9,   207.0,3, -999.00,5,    0.01,3,    0.00,3
 49TU9010_4,       PR19,    NS-6,          3,          7,2,19901119,       1323,    23.5165,   126.3252,     -999.0,    20.2,  25.3400,  34.7256,2,-999.0000,9,   207.0,3,    0.00,3,    0.04,3,    0.00,3
 49TU9010_4,       PR19,    NS-6,          3,          6,2,19901119,       1323,    23.5165,   126.3252,     -999.0,    30.0,  25.1520,  34.6976,2,-999.0000,9,   207.0,3,    0.00,3,    0.01,3,    0.00,3
 49TU9010_4,       PR19,    NS-6,          3,          5,2,19901119,       1323,    23.5165,   126.3252,     -999.0,    50.6,  24.9530,  34.6677,2,-999.0000,9,   207.0,3,    0.00,3,    0.01,3,    0.00,3
 49TU9010_4,       PR19,    NS-6,          3,          4,2,19901119,       1323,    23.5165,   126.3252,     -999.0,    76.2,  24.7190,  34.6777,2,-999.0000,9,   208.0,3,    0.00,3,    0.01,3,    0.00,3
 49TU9010_4,       PR19,    NS-6,          3,          3,2,19901119,       1323,    23.5165,   126.3252,     -999.0,   101.9,  21.6420,  34.8476,2,  34.8520,2,   205.0,3,    0.00,3,    0.08,3,    0.04,3
 49TU9010_4,       PR19,    NS-6,          3,          2,2,19901119,       1323,    23.5165,   126.3252,     -999.0,   125.8,  19.9690,  34.8656,2,-999.0000,9,   212.0,3,    0.00,3,    0.13,3,    0.03,3
 49TU9010_4,       PR19,    NS-6,          3,          1,2,19901119,       1323,    23.5165,   126.3252,     -999.0,   151.5,  19.1060,  34.8586,2,-999.0000,9,   200.0,3,    1.40,3,    0.03,3,    0.14,3
 49TU9010_4,       PR19,    NS-6,          3,         12,2,19901119,       1323,    23.5165,   126.3252,     -999.0,   201.7,  18.0840,  34.8266,2,-999.0000,9,   197.0,3,    3.10,3,    0.02,3,    0.23,3
 49TU9010_4,       PR19,    NS-6,          3,         11,2,19901119,       1323,    23.5165,   126.3252,     -999.0,   251.1,  16.8310,  34.7557,2,-999.0000,9,   196.0,3,    5.10,3,    0.02,3,    0.42,3
 49TU9010_4,       PR19,    NS-6,          3,         10,2,19901119,       1323,    23.5165,   126.3252,     -999.0,   302.4,  15.9800,  34.6947,2,-999.0000,9,   195.0,3,    6.60,3,    0.02,3,    0.55,3
 49TU9010_4,       PR19,    NS-7,          1,          7,2,19901119,       1744,    23.1833,   126.7473,       6064,  1513.2,   2.4470,  34.5638,2,  34.5640,2,    96.0,3, -999.00,5,    0.02,3,    2.85,3
 49TU9010_4,       PR19,    NS-7,          1,          6,2,19901119,       1744,    23.1833,   126.7473,       6064,  1769.8,   2.1590,  34.5968,2,-999.0000,9,   108.0,3, -999.00,5,    0.02,3,    2.82,3
 49TU9010_4,       PR19,    NS-7,          1,          5,2,19901119,       1744,    23.1833,   126.7473,       6064,  2022.2,   1.9300,  34.6268,2,  34.6270,2,   121.0,3, -999.00,5,    0.02,3,    2.76,3
 49TU9010_4,       PR19,    NS-7,          1,          4,2,19901119,       1744,    23.1833,   126.7473,       6064,  2276.1,   1.8030,  34.6398,2,-999.0000,9,   127.0,3, -999.00,5,    0.02,3,    2.72,3
 49TU9010_4,       PR19,    NS-7,          1,          3,2,19901119,       1744,    23.1833,   126.7473,       6064,  2531.3,   1.7140,  34.6507,2,  34.6500,2,   135.0,3, -999.00,5,    0.02,3,    2.74,3
 49TU9010_4,       PR19,    NS-7,          1,          2,2,19901119,       1744,    23.1833,   126.7473,       6064,  2787.0,   1.6270,  34.6597,2,-999.0000,9,   141.0,3, -999.00,5,    0.08,3,    2.69,3
 49TU9010_4,       PR19,    NS-7,          1,          1,2,19901119,       1744,    23.1833,   126.7473,       6064,  3040.9,   1.5800,  34.6677,2,  34.6650,2,   145.0,3, -999.00,5,    0.02,3,    2.64,3
 49TU9010_4,       PR19,    NS-7,          1,         12,2,19901119,       1744,    23.1833,   126.7473,       6064,  3296.5,   1.5520,  34.6727,2,-999.0000,9,   148.0,3, -999.00,5,    0.02,3,    2.61,3
 49TU9010_4,       PR19,    NS-7,          1,         11,2,19901119,       1744,    23.1833,   126.7473,       6064,  3553.5,   1.5380,  34.6757,2,  34.6750,2,   151.0,3, -999.00,5,    0.02,3,    2.98,3
 49TU9010_4,       PR19,    NS-7,          1,         10,2,19901119,       1744,    23.1833,   126.7473,       6064,  3807.5,   1.5420,  34.6787,2,-999.0000,9,   152.0,3, -999.00,5,    0.01,3,    2.58,3
 49TU9010_4,       PR19,    NS-7,          1,          9,2,19901119,       1744,    23.1833,   126.7473,       6064,  4070.0,   1.5490,  34.6797,2,  34.6770,2,   154.0,3, -999.00,5,    0.01,3,    2.56,3
 49TU9010_4,       PR19,    NS-7,          2,          6,2,19901119,       2028,    23.1598,   126.7618,          1,   402.1,  13.5280,  34.5078,2,-999.0000,9,   181.0,3, -999.00,5,    0.02,3,    0.92,3
 49TU9010_4,       PR19,    NS-7,          2,          5,2,19901119,       2028,    23.1598,   126.7618,          1,   503.4,  10.6520,  34.3309,2,-999.0000,9,   163.0,3, -999.00,5,    0.02,3,    1.60,3
 49TU9010_4,       PR19,    NS-7,          2,          4,2,19901119,       2028,    23.1598,   126.7618,          1,   604.9,   8.7870,  34.2709,2,-999.0000,9,   138.0,3, -999.00,5,    0.02,3,    1.84,3
 49TU9010_4,       PR19,    NS-7,          2,          3,2,19901119,       2028,    23.1598,   126.7618,          1,   706.3,   6.4480,  34.1919,2,  34.1920,2,  -999.0,5, -999.00,5,    0.01,3,    2.42,3
 49TU9010_4,       PR19,    NS-7,          2,          2,2,19901119,       2028,    23.1598,   126.7618,          1,   807.5,   5.2080,  34.2859,2,-999.0000,9,    81.0,3, -999.00,5,    0.50,3,    2.96,3
 49TU9010_4,       PR19,    NS-7,          2,          1,2,19901119,       2028,    23.1598,   126.7618,          1,   908.5,   4.4920,  34.3849,2,-999.0000,9,    79.0,3, -999.00,5,    0.15,3,    2.89,3
 49TU9010_4,       PR19,    NS-7,          2,         12,2,19901119,       2028,    23.1598,   126.7618,          1,  1008.8,   3.9670,  34.4638,2,  34.4650,2,  -999.0,5, -999.00,5,    0.02,3,    2.84,3
 49TU9010_4,       PR19,    NS-7,          2,         11,2,19901119,       2028,    23.1598,   126.7618,          1,  1263.4,   3.0090,  34.5388,2,-999.0000,9,  -999.0,5, -999.00,5,    0.10,3,    2.90,3
 49TU9010_4,       PR19,    NS-7,          3,     BUCKET,2,19901119,       2133,    23.1777,   126.7732,     -999.0,     0.3,  26.1650,  34.6726,2,-999.0000,9,   204.0,3, -999.00,5,    0.01,3,    0.00,3
 49TU9010_4,       PR19,    NS-7,          3,          5,2,19901119,       2133,    23.1777,   126.7732,     -999.0,    10.5,  26.1710,  34.6726,2,-999.0000,9,   203.0,3, -999.00,5,    0.26,3,    0.06,3
 49TU9010_4,       PR19,    NS-7,          3,          4,2,19901119,       2133,    23.1777,   126.7732,     -999.0,    19.3,  26.1500,  34.6706,2,-999.0000,9,   203.0,3, -999.00,5,    0.50,3,    0.10,3
 49TU9010_4,       PR19,    NS-7,          3,          3,2,19901119,       2133,    23.1777,   126.7732,     -999.0,    29.7,  25.3320,  34.6776,2,-999.0000,9,   206.0,3, -999.00,5,    0.00,3,    0.00,3
 49TU9010_4,       PR19,    NS-7,          3,          2,2,19901119,       2133,    23.1777,   126.7732,     -999.0,    49.4,  25.1860,  34.6737,2,-999.0000,9,   207.0,3, -999.00,5,    0.01,3,    0.04,3
 49TU9010_4,       PR19,    NS-7,          3,          1,2,19901119,       2133,    23.1777,   126.7732,     -999.0,    75.6,  25.0690,  34.6727,2,-999.0000,9,   206.0,3, -999.00,5,    0.18,3,    0.08,3
 49TU9010_4,       PR19,    NS-7,          3,         12,2,19901119,       2133,    23.1777,   126.7732,     -999.0,    99.8,  22.8530,  34.7806,2,-999.0000,9,   198.0,3, -999.00,5,    0.07,3,    0.06,3
 49TU9010_4,       PR19,    NS-7,          3,         11,2,19901119,       2133,    23.1777,   126.7732,     -999.0,   125.2,  21.3130,  34.8426,2,-999.0000,9,   194.0,3, -999.00,5,    0.13,3,    0.11,3
 49TU9010_4,       PR19,    NS-7,          3,         10,2,19901119,       2133,    23.1777,   126.7732,     -999.0,   152.6,  20.0310,  34.8546,2,-999.0000,9,   195.0,3, -999.00,5,    0.17,3,    0.18,3
 49TU9010_4,       PR19,    NS-7,          3,          9,2,19901119,       2133,    23.1777,   126.7732,     -999.0,   202.4,  18.6950,  34.8356,2,  34.8400,2,   193.0,3, -999.00,5,    0.02,3,    0.25,3
 49TU9010_4,       PR19,    NS-7,          3,          8,2,19901119,       2133,    23.1777,   126.7732,     -999.0,   252.0,  17.6020,  34.7886,2,-999.0000,9,   193.0,3, -999.00,5,    0.55,3,    0.42,3
 49TU9010_4,       PR19,    NS-7,          3,          7,2,19901119,       2133,    23.1777,   126.7732,     -999.0,   303.4,  16.3690,  34.7197,2,-999.0000,9,   192.0,3, -999.00,5,    0.04,3,    0.58,3