BOTTLE,20220630CCHSIOAMB
# Removed empty SAMPNO column
# Changed BTLNBR -999 with flag 2 to "BUCKET" with flag 2
#BOTTLE,20211129CCHSIORKP
# Original header:
#Changed all fill flags to 9
#code : jjward hyd_to_exchange.pl 
#original files copied from HTML directory: 20010625
#original HYD file: pr19_ahy.txt   Tue Jun 26 12:22:21 2001
#original SUM file: pr19_asu.txt   Tue Jun 26 12:25:20 2001
EXPOCODE,SECT_ID,STNNBR,CASTNO,BTLNBR,BTLNBR_FLAG_W,DATE,TIME,LATITUDE,LONGITUDE,DEPTH,CTDPRS,CTDTMP,CTDSAL,CTDSAL_FLAG_W,SALNTY,SALNTY_FLAG_W,OXYGEN,OXYGEN_FLAG_W,NITRAT,NITRAT_FLAG_W,NITRIT,NITRIT_FLAG_W,PHSPHT,PHSPHT_FLAG_W
,,,,,,,,,,METERS,DBAR,ITS-90,PSS-78,,PSS-78,,UMOL/KG,,UMOL/KG,,UMOL/KG,,UMOL/KG,
 49TU9010_3,       PR19,   IS-13,          1,     BUCKET,2,19901114,       0846,    26.8300,   121.2552,         67,     1.1,  23.7320,  33.6499,2,  33.6870,2,   207.0,3, -999.00,5,    0.75,3,    0.18,3
 49TU9010_3,       PR19,   IS-13,          1,          5,2,19901114,       0846,    26.8300,   121.2552,         67,    10.2,  23.7460,  33.6519,2,  33.6620,2,   204.0,3, -999.00,5,    0.70,3,    0.20,3
 49TU9010_3,       PR19,   IS-13,          1,          4,2,19901114,       0846,    26.8300,   121.2552,         67,    19.6,  23.7390,  33.6589,2,  33.6860,2,   204.0,3, -999.00,5,    0.76,3,    0.19,3
 49TU9010_3,       PR19,   IS-13,          1,          3,2,19901114,       0846,    26.8300,   121.2552,         67,    30.3,  23.5680,  33.7229,2,  33.7370,2,   207.0,3, -999.00,5,    0.91,3,    0.13,3
 49TU9010_3,       PR19,   IS-13,          1,          2,2,19901114,       0846,    26.8300,   121.2552,         67,    51.9,  23.5590,  33.7239,2,  33.7330,2,   208.0,3, -999.00,5,    0.76,3,    0.15,3
 49TU9010_3,       PR19,   IS-13,          1,          1,2,19901114,       0846,    26.8300,   121.2552,         67,    63.8,  23.5710,  33.7289,2,  33.7370,2,   208.0,3, -999.00,5,    0.84,3,    0.20,3
 49TU9010_3,       PR19,   IS-12,          1,     BUCKET,2,19901114,       1044,    26.6708,   121.4927,         75,     0.4,  23.7750,  33.9389,2,-999.0000,9,   208.0,3, -999.00,5,    0.86,3,    0.17,3
 49TU9010_3,       PR19,   IS-12,          1,         10,2,19901114,       1044,    26.6708,   121.4927,         75,    10.1,  23.7840,  33.9379,2,-999.0000,9,   208.0,3, -999.00,5,    0.87,3,    0.15,3
 49TU9010_3,       PR19,   IS-12,          1,          9,2,19901114,       1044,    26.6708,   121.4927,         75,    20.1,  23.7930,  33.9389,2,-999.0000,9,   206.0,3, -999.00,5,    0.95,3,    0.15,3
 49TU9010_3,       PR19,   IS-12,          1,          8,2,19901114,       1044,    26.6708,   121.4927,         75,    30.8,  23.7960,  33.9399,2,-999.0000,9,   207.0,3, -999.00,5,    0.88,3,    0.15,3
 49TU9010_3,       PR19,   IS-12,          1,          7,2,19901114,       1044,    26.6708,   121.4927,         75,    50.1,  23.8000,  33.9409,2,-999.0000,9,   207.0,3, -999.00,5,    0.87,3,    0.15,3
 49TU9010_3,       PR19,   IS-12,          1,          6,2,19901114,       1044,    26.6708,   121.4927,         75,    71.2,  23.8050,  33.9528,2,-999.0000,9,   205.0,3, -999.00,5,    0.95,3,    0.17,3
 49TU9010_3,       PR19,   IS-11,          1,     BUCKET,2,19901114,       1242,    26.4893,   121.7537,         94,     0.8,  23.2810,  33.6919,2,-999.0000,9,   213.0,3, -999.00,5,    0.56,3,    0.15,3
 49TU9010_3,       PR19,   IS-11,          1,          4,2,19901114,       1242,    26.4893,   121.7537,         94,    10.2,  23.2930,  33.6949,2,-999.0000,9,   213.0,3, -999.00,5,    0.57,3,    0.14,3
 49TU9010_3,       PR19,   IS-11,          1,          3,2,19901114,       1242,    26.4893,   121.7537,         94,    20.4,  23.2930,  33.6919,2,-999.0000,9,   213.0,3, -999.00,5,    0.55,3,    0.14,3
 49TU9010_3,       PR19,   IS-11,          1,          2,2,19901114,       1242,    26.4893,   121.7537,         94,    30.7,  23.2980,  33.6919,2,-999.0000,9,   213.0,3, -999.00,5,    0.55,3,    0.15,3
 49TU9010_3,       PR19,   IS-11,          1,          1,2,19901114,       1242,    26.4893,   121.7537,         94,    50.9,  23.3530,  33.7219,2,-999.0000,9,   212.0,3, -999.00,5,    0.56,3,    0.14,3
 49TU9010_3,       PR19,   IS-11,          1,         12,2,19901114,       1242,    26.4893,   121.7537,         94,    77.0,  20.5110,  34.2439,2,-999.0000,9,   195.0,3, -999.00,5,    0.47,3,    0.27,3
 49TU9010_3,       PR19,   IS-11,          1,         11,2,19901114,       1242,    26.4893,   121.7537,         94,    90.1,  19.6440,  34.3228,2,-999.0000,9,   177.0,3, -999.00,5,    0.33,3,    0.61,3
 49TU9010_3,       PR19,   IS-10,          1,     BUCKET,2,19901114,       1425,    26.3375,   122.0040,        100,     2.1,  23.2060,  33.6239,2,-999.0000,9,   214.0,3,    0.40,3,    0.52,3,    0.16,3
 49TU9010_3,       PR19,   IS-10,          1,         10,2,19901114,       1425,    26.3375,   122.0040,        100,    10.2,  23.2060,  33.6219,2,-999.0000,9,   214.0,3,    0.40,3,    0.59,3,    0.15,3
 49TU9010_3,       PR19,   IS-10,          1,          9,2,19901114,       1425,    26.3375,   122.0040,        100,    20.4,  23.2120,  33.6249,2,-999.0000,9,   214.0,3,    0.40,3,    0.51,3,    0.15,3
 49TU9010_3,       PR19,   IS-10,          1,          8,2,19901114,       1425,    26.3375,   122.0040,        100,    30.6,  23.2220,  33.6339,2,-999.0000,9,   214.0,3,    0.40,3,    0.52,3,    0.15,3
 49TU9010_3,       PR19,   IS-10,          1,          7,2,19901114,       1425,    26.3375,   122.0040,        100,    51.9,  23.1950,  33.7369,2,-999.0000,9,   212.0,3,    0.40,3,    0.56,3,    0.16,3
 49TU9010_3,       PR19,   IS-10,          1,          6,2,19901114,       1425,    26.3375,   122.0040,        100,    74.7,  22.9960,  34.0818,2,-999.0000,9,   210.0,3,    0.40,3,    0.31,3,    0.12,3
 49TU9010_3,       PR19,   IS-10,          1,          5,2,19901114,       1425,    26.3375,   122.0040,        100,    95.8,  18.5340,  34.4478,2,-999.0000,9,   180.0,3,    7.20,3,    0.32,3,    0.60,3
 49TU9010_3,       PR19,    IS-9,          1,     BUCKET,2,19901114,       1611,    26.1628,   122.2495,        100,     1.3,  23.0610,  33.8529,2,-999.0000,9,   218.0,3,    0.10,3,    0.20,3,    0.11,3
 49TU9010_3,       PR19,    IS-9,          1,          4,2,19901114,       1611,    26.1628,   122.2495,        100,    10.1,  23.0690,  33.8549,2,-999.0000,9,   217.0,3,    0.10,3,    0.20,3,    0.10,3
 49TU9010_3,       PR19,    IS-9,          1,          3,2,19901114,       1611,    26.1628,   122.2495,        100,    19.3,  23.1230,  33.8859,2,-999.0000,9,   216.0,3,    0.10,3,    0.22,3,    0.11,3
 49TU9010_3,       PR19,    IS-9,          1,          2,2,19901114,       1611,    26.1628,   122.2495,        100,    30.1,  23.2630,  33.9868,2,-999.0000,9,   210.0,3,    0.20,3,    0.31,3,    0.11,3
 49TU9010_3,       PR19,    IS-9,          1,          1,2,19901114,       1611,    26.1628,   122.2495,        100,    51.2,  23.1920,  34.1138,2,-999.0000,9,   208.0,3,    0.20,3,    0.36,3,    0.13,3
 49TU9010_3,       PR19,    IS-9,          1,         12,2,19901114,       1611,    26.1628,   122.2495,        100,    75.2,  22.2410,  34.3698,2,-999.0000,9,   205.0,3,    1.00,3,    0.44,3,    0.19,3
 49TU9010_3,       PR19,    IS-9,          1,         11,2,19901114,       1611,    26.1628,   122.2495,        100,    92.0,  17.4440,  34.5327,2,-999.0000,9,   177.0,3,    8.40,3,    0.22,3,    0.66,3
 49TU9010_3,       PR19,    IS-8,          1,     BUCKET,2,19901114,       1807,    26.0015,   122.4957,        107,     0.1,  23.1870,  34.2269,2,-999.0000,9,   215.0,3,    0.20,3,    0.10,3,    0.09,3
 49TU9010_3,       PR19,    IS-8,          1,         10,2,19901114,       1807,    26.0015,   122.4957,        107,    10.4,  23.1900,  34.2259,2,-999.0000,9,   215.0,3,    0.20,3,    0.09,3,    0.08,3
 49TU9010_3,       PR19,    IS-8,          1,          9,2,19901114,       1807,    26.0015,   122.4957,        107,    21.0,  23.0870,  34.1919,2,-999.0000,9,   214.0,3,    0.30,3,    0.14,3,    0.09,3
 49TU9010_3,       PR19,    IS-8,          1,          8,2,19901114,       1807,    26.0015,   122.4957,        107,    30.3,  22.9920,  34.2668,2,-999.0000,9,   207.0,3,    0.30,3,    0.31,3,    0.11,3
 49TU9010_3,       PR19,    IS-8,          1,          7,2,19901114,       1807,    26.0015,   122.4957,        107,    49.8,  19.7410,-999.0000,5,-999.0000,9,  -999.0,5, -999.00,5, -999.00,5, -999.00,5
 49TU9010_3,       PR19,    IS-8,          1,          6,2,19901114,       1807,    26.0015,   122.4957,        107,    76.3,  17.1690,  34.5777,2,-999.0000,9,   177.0,3,    8.60,3,    0.16,3,    0.65,3
 49TU9010_3,       PR19,    IS-8,          1,          5,2,19901114,       1807,    26.0015,   122.4957,        107,   102.5,  16.8060,  34.6057,2,-999.0000,9,   176.0,3,    8.90,3,    0.12,3,    0.67,3
 49TU9010_3,       PR19,   IS-7',          1,     BUCKET,2,19901114,       1930,    25.8915,   122.6710,        110,     0.4,  24.3330,  34.4258,2,-999.0000,9,   210.0,3,    0.20,3,    0.05,3,    0.07,3
 49TU9010_3,       PR19,   IS-7',          1,          4,2,19901114,       1930,    25.8915,   122.6710,        110,     9.9,  23.6410,  34.4038,2,-999.0000,9,   210.0,3,    0.50,3,    0.07,3,    0.09,3
 49TU9010_3,       PR19,   IS-7',          1,          3,2,19901114,       1930,    25.8915,   122.6710,        110,    19.8,  22.5200,  34.3518,2,-999.0000,9,   210.0,3,    1.10,3,    0.15,3,    0.16,3
 49TU9010_3,       PR19,   IS-7',          1,          2,2,19901114,       1930,    25.8915,   122.6710,        110,    30.3,  21.4570,  34.3738,2,-999.0000,9,   200.0,3,    2.70,3,    0.27,3,    0.27,3
 49TU9010_3,       PR19,   IS-7',          1,          1,2,19901114,       1930,    25.8915,   122.6710,        110,    50.5,  18.6320,  34.6307,2,-999.0000,9,   182.0,3,    6.50,3,    0.22,3,    0.52,3
 49TU9010_3,       PR19,   IS-7',          1,         12,2,19901114,       1930,    25.8915,   122.6710,        110,    75.2,  16.5250,  34.6447,2,-999.0000,9,   175.0,3,    8.80,3,    0.06,3,    0.68,3
 49TU9010_3,       PR19,   IS-7',          1,         11,2,19901114,       1930,    25.8915,   122.6710,        110,   105.6,  16.4610,  34.6457,2,-999.0000,9,   176.0,3,    8.80,3,    0.05,3,    0.68,3
 49TU9010_3,       PR19,    IS-7,          1,     BUCKET,2,19901114,       2025,    25.8552,   122.7570,         11,     2.1,  22.9860,  34.3498,2,-999.0000,9,   212.0,3,    0.80,3,    0.12,3,    0.13,3
 49TU9010_3,       PR19,    IS-7,          1,         11,2,19901114,       2025,    25.8552,   122.7570,         11,     9.6,  22.9990,  34.3498,2,  34.3560,2,   212.0,3,    0.80,3,    0.12,3,    0.12,3
 49TU9010_3,       PR19,    IS-7,          1,         10,2,19901114,       2025,    25.8552,   122.7570,         11,    19.6,  22.1330,  34.3368,2,  34.3460,2,   206.0,3,    1.80,3,    0.22,3,    0.22,3
 49TU9010_3,       PR19,    IS-7,          1,          9,2,19901114,       2025,    25.8552,   122.7570,         11,    29.7,  21.5610,  34.3498,2,-999.0000,9,   203.0,3,    2.20,3,    0.29,3,    0.26,3
 49TU9010_3,       PR19,    IS-7,          1,          8,2,19901114,       2025,    25.8552,   122.7570,         11,    49.7,  20.0150,  34.4388,2,  34.4310,2,   195.0,3,    4.30,3,    0.52,3,    0.41,3
 49TU9010_3,       PR19,    IS-7,          1,          7,2,19901114,       2025,    25.8552,   122.7570,         11,    75.3,  17.7980,  34.6057,2,  34.6100,2,   178.0,3,    7.60,3,    0.12,3,    0.61,3
 49TU9010_3,       PR19,    IS-7,          1,          6,2,19901114,       2025,    25.8552,   122.7570,         11,   100.3,  16.4950,  34.6457,2,  34.6540,2,   177.0,3,    8.80,3,    0.04,3,    0.67,3
 49TU9010_3,       PR19,    IS-7,          1,          5,2,19901114,       2025,    25.8552,   122.7570,         11,   108.8,  16.4200,  34.6437,2,  34.6520,2,   177.0,3,    8.90,3,    0.04,3,    0.68,3
 49TU9010_3,       PR19,   IS-6b,          1,     BUCKET,2,19901114,       2134,    25.7752,   122.8297,        126,     0.2,  24.8700,  34.5297,2,-999.0000,9,   208.0,3,    0.00,3,    0.02,3,    0.05,3
 49TU9010_3,       PR19,   IS-6b,          1,          6,2,19901114,       2134,    25.7752,   122.8297,        126,    10.4,  24.8700,  34.5297,2,-999.0000,9,   207.0,3,    0.00,3,    0.01,3,    0.03,3
 49TU9010_3,       PR19,   IS-6b,          1,          5,2,19901114,       2134,    25.7752,   122.8297,        126,    20.5,  24.8320,  34.5207,2,-999.0000,9,   208.0,3,    0.00,3,    0.02,3,    0.04,3
 49TU9010_3,       PR19,   IS-6b,          1,          4,2,19901114,       2134,    25.7752,   122.8297,        126,    30.6,  23.9340,  34.4198,2,-999.0000,9,   209.0,3,    0.30,3,    0.07,3,    0.07,3
 49TU9010_3,       PR19,   IS-6b,          1,          3,2,19901114,       2134,    25.7752,   122.8297,        126,    50.5,  21.8980,  34.3138,2,-999.0000,9,   208.0,3,    1.90,3,    0.23,3,    0.21,3
 49TU9010_3,       PR19,   IS-6b,          1,          2,2,19901114,       2134,    25.7752,   122.8297,        126,    75.7,  19.9300,  34.4558,2,-999.0000,9,   187.0,3,    4.90,3,    0.36,3,    0.42,3
 49TU9010_3,       PR19,   IS-6b,          1,          1,2,19901114,       2134,    25.7752,   122.8297,        126,   100.4,  18.7960,  34.6347,2,-999.0000,9,   184.0,3,    5.90,3,    0.14,3,    0.47,3
 49TU9010_3,       PR19,   IS-6b,          1,         12,2,19901114,       2134,    25.7752,   122.8297,        126,   120.2,  16.3600,  34.6647,2,-999.0000,9,   180.0,3,    8.50,3,    0.04,3,    0.63,3
 49TU9010_3,       PR19,   IS-6a,          1,     BUCKET,2,19901114,       2237,    25.7207,   122.9208,        246,     1.4,  25.3190,  34.5067,2,-999.0000,9,   205.0,3,    0.00,3,    0.01,3,    0.02,3
 49TU9010_3,       PR19,   IS-6a,          1,          4,2,19901114,       2237,    25.7207,   122.9208,        246,    10.1,  25.3310,  34.5067,2,-999.0000,9,   204.0,3,    0.00,3,    0.01,3,    0.03,3
 49TU9010_3,       PR19,   IS-6a,          1,          3,2,19901114,       2237,    25.7207,   122.9208,        246,    19.0,  25.3220,  34.5067,2,-999.0000,9,   205.0,3,    0.00,3,    0.03,3,    0.03,3
 49TU9010_3,       PR19,   IS-6a,          1,          2,2,19901114,       2237,    25.7207,   122.9208,        246,    28.7,  25.3330,  34.5087,2,-999.0000,9,   204.0,3,    0.10,3,    0.01,3,    0.01,3
 49TU9010_3,       PR19,   IS-6a,          1,          1,2,19901114,       2237,    25.7207,   122.9208,        246,    50.6,  21.6730,  34.3118,2,-999.0000,9,   203.0,3,    2.20,3,    0.34,3,    0.22,3
 49TU9010_3,       PR19,   IS-6a,          1,         12,2,19901114,       2237,    25.7207,   122.9208,        246,    75.9,  20.0460,  34.4488,2,-999.0000,9,   190.0,3,    4.70,3,    0.45,3,    0.40,3
 49TU9010_3,       PR19,   IS-6a,          1,         11,2,19901114,       2237,    25.7207,   122.9208,        246,   100.4,  18.3060,  34.5407,2,-999.0000,9,   180.0,3,    7.10,3,    0.15,3,    0.55,3
 49TU9010_3,       PR19,   IS-6a,          1,         10,2,19901114,       2237,    25.7207,   122.9208,        246,   125.7,  17.3220,  34.6207,2,-999.0000,9,   183.0,3,    7.50,3,    0.08,3,    0.58,3
 49TU9010_3,       PR19,   IS-6a,          1,          9,2,19901114,       2237,    25.7207,   122.9208,        246,   151.1,  16.6220,  34.7087,2,-999.0000,9,   191.0,3,    6.50,3,    0.02,3,    0.48,3
 49TU9010_3,       PR19,   IS-6a,          1,          8,2,19901114,       2237,    25.7207,   122.9208,        246,   201.6,  15.1990,  34.6097,2,-999.0000,9,   176.0,3,   10.60,3,    0.02,3,    0.77,3
 49TU9010_3,       PR19,   IS-6a,          1,          7,2,19901114,       2237,    25.7207,   122.9208,        246,   231.6,  14.2170,  34.5567,2,-999.0000,9,   171.0,3,   12.00,3,    0.02,3,    0.90,3
 49TU9010_3,       PR19,    IS-6,          1,         11,2,19901114,       2358,    25.6748,   123.0073,        704,   201.8,  15.0300,  34.6077,2,-999.0000,9,   178.0,3,   10.60,3,    0.02,3,    0.80,3
 49TU9010_3,       PR19,    IS-6,          1,         10,2,19901114,       2358,    25.6748,   123.0073,        704,   252.0,  13.0210,  34.4958,2,-999.0000,9,   164.0,3,   15.10,3,    0.03,3,    1.13,3
 49TU9010_3,       PR19,    IS-6,          1,          9,2,19901114,       2358,    25.6748,   123.0073,        704,   302.8,  12.1520,  34.4478,2,-999.0000,9,   161.0,3,   16.40,3,    0.02,3,    1.22,3
 49TU9010_3,       PR19,    IS-6,          1,          8,2,19901114,       2358,    25.6748,   123.0073,        704,   403.2,   9.4400,  34.3219,2,-999.0000,9,   142.0,3,   22.80,3,    0.02,3,    1.69,3
 49TU9010_3,       PR19,    IS-6,          1,          7,2,19901114,       2358,    25.6748,   123.0073,        704,   505.2,   8.1170,  34.2989,2,-999.0000,9,   122.0,3,   26.80,3,    0.02,3,    2.00,3
 49TU9010_3,       PR19,    IS-6,          1,          6,2,19901114,       2358,    25.6748,   123.0073,        704,   605.5,   6.5170,  34.3149,2,-999.0000,9,   101.0,3,   31.40,3,    0.01,3,    2.32,3
 49TU9010_3,       PR19,    IS-6,          1,          5,2,19901114,       2358,    25.6748,   123.0073,        704,   697.4,   5.6860,  34.3669,2,-999.0000,9,    91.0,3,   33.60,3,    0.01,3,    2.48,3
 49TU9010_3,       PR19,    IS-6,          2,     BUCKET,2,19901115,       0034,    25.6935,   123.0082,        726,     1.3,  25.5130,  34.4327,2,-999.0000,9,   206.0,3,    0.10,3,    0.02,3,    0.06,3
 49TU9010_3,       PR19,    IS-6,          2,          7,2,19901115,       0034,    25.6935,   123.0082,        726,     9.6,  25.5180,  34.4327,2,-999.0000,9,   205.0,3,    0.00,3,    0.01,3,    0.06,3
 49TU9010_3,       PR19,    IS-6,          2,          6,2,19901115,       0034,    25.6935,   123.0082,        726,    19.5,  25.5180,  34.4327,2,-999.0000,9,   206.0,3,    0.00,3,    0.01,3,    0.04,3
 49TU9010_3,       PR19,    IS-6,          2,          5,2,19901115,       0034,    25.6935,   123.0082,        726,    29.9,  25.3380,  34.4687,2,-999.0000,9,   205.0,3,    0.00,3,    0.01,3,    0.04,3
 49TU9010_3,       PR19,    IS-6,          2,          4,2,19901115,       0034,    25.6935,   123.0082,        726,    50.6,  22.6330,  34.3038,2,-999.0000,9,   205.0,3,    1.60,3,    0.29,3,    0.19,3
 49TU9010_3,       PR19,    IS-6,          2,          3,2,19901115,       0034,    25.6935,   123.0082,        726,    75.7,  20.6080,  34.3818,2,-999.0000,9,   196.0,3,    4.10,3,    0.50,3,    0.38,3
 49TU9010_3,       PR19,    IS-6,          2,          2,2,19901115,       0034,    25.6935,   123.0082,        726,   100.6,  18.0720,  34.5647,2,-999.0000,9,   179.0,3,    7.60,3,    0.16,3,    0.60,3
 49TU9010_3,       PR19,    IS-6,          2,          1,2,19901115,       0034,    25.6935,   123.0082,        726,   125.1,  16.7850,  34.6007,2,-999.0000,9,   176.0,3,    9.10,3,    0.07,3,    0.70,3
 49TU9010_3,       PR19,    IS-6,          2,         12,2,19901115,       0034,    25.6935,   123.0082,        726,   153.3,  15.4420,  34.6127,2,-999.0000,9,   181.0,3,   10.10,3,    0.04,3,    0.77,3
 49TU9010_3,       PR19,    IS-5,          1,          5,2,19901115,       0242,    25.4972,   123.2628,        699,   403.0,  10.3520,  34.3658,2,-999.0000,9,   148.0,3,   20.60,3,    0.02,3,    1.48,3
 49TU9010_3,       PR19,    IS-5,          1,          4,2,19901115,       0242,    25.4972,   123.2628,        699,   502.1,   7.9720,  34.2709,2,-999.0000,9,   121.0,3,   27.10,3,    0.02,3,    1.95,3
 49TU9010_3,       PR19,    IS-5,          1,          3,2,19901115,       0242,    25.4972,   123.2628,        699,   604.4,   6.0900,  34.3139,2,-999.0000,9,    95.0,3,   32.40,3,    0.02,3,    2.37,3
 49TU9010_3,       PR19,    IS-5,          1,          2,2,19901115,       0242,    25.4972,   123.2628,        699,   689.5,   5.5890,  34.3719,2,-999.0000,9,    91.0,3,   33.80,3,    0.02,3,    2.48,3