BOTTLE,20220630CCHSIOAMB
EXPOCODE,SECT_ID,STNNBR,CASTNO,BTLNBR,BTLNBR_FLAG_W,DATE,TIME,LATITUDE,LONGITUDE,DEPTH,CTDPRS,CTDTMP,CTDSAL,CTDSAL_FLAG_W,SALNTY,SALNTY_FLAG_W,OXYGEN,OXYGEN_FLAG_W,NITRAT,NITRAT_FLAG_W,NITRIT,NITRIT_FLAG_W,PHSPHT,PHSPHT_FLAG_W
,,,,,,,,,,METERS,DBAR,ITS-90,PSS-78,,PSS-78,,UMOL/KG,,UMOL/KG,,UMOL/KG,,UMOL/KG,
 49TU9010_3,       PR19,    IS-5,          2,     BUCKET,2,19901115,       0322,    25.5068,   123.2617,     -999.0,     0.5,  25.9080,  34.4657,2,-999.0000,9,   203.0,3,    0.00,3,    0.02,3,    0.03,3
 49TU9010_3,       PR19,    IS-5,          2,          4,2,19901115,       0322,    25.5068,   123.2617,     -999.0,     9.7,  25.9090,  34.4647,2,-999.0000,9,   203.0,3,    0.00,3,    0.02,3,    0.04,3
 49TU9010_3,       PR19,    IS-5,          2,          3,2,19901115,       0322,    25.5068,   123.2617,     -999.0,    20.4,  25.9080,  34.4657,2,-999.0000,9,   203.0,3,    0.00,3,    0.02,3,    0.04,3
 49TU9010_3,       PR19,    IS-5,          2,          2,2,19901115,       0322,    25.5068,   123.2617,     -999.0,    29.9,  25.8960,  34.4637,2,-999.0000,9,   203.0,3,    0.00,3,    0.02,3, -999.00,5
 49TU9010_3,       PR19,    IS-5,          2,          1,2,19901115,       0322,    25.5068,   123.2617,     -999.0,    50.5,  24.5510,  34.4787,2,-999.0000,9,   194.0,3,    0.80,3,    0.15,3,    0.08,3
 49TU9010_3,       PR19,    IS-5,          2,         12,2,19901115,       0322,    25.5068,   123.2617,     -999.0,    75.1,  23.5300,  34.6077,2,-999.0000,9,   189.0,3,    1.90,3,    0.18,3,    0.16,3
 49TU9010_3,       PR19,    IS-5,          2,         11,2,19901115,       0322,    25.5068,   123.2617,     -999.0,   101.1,  21.4870,  34.7266,2,-999.0000,9,   186.0,3,    2.90,3,    0.11,3,    0.23,3
 49TU9010_3,       PR19,    IS-5,          2,         10,2,19901115,       0322,    25.5068,   123.2617,     -999.0,   125.0,  19.2600,  34.7956,2,-999.0000,9,   185.0,3,    4.40,3,    0.04,3,    0.32,3
 49TU9010_3,       PR19,    IS-5,          2,          9,2,19901115,       0322,    25.5068,   123.2617,     -999.0,   150.6,  17.9480,  34.7697,2,-999.0000,9,   186.0,3,    5.70,3,    0.03,3,    0.39,3
 49TU9010_3,       PR19,    IS-5,          2,          8,2,19901115,       0322,    25.5068,   123.2617,     -999.0,   201.5,  16.3370,  34.6887,2,-999.0000,9,   183.0,3,    8.10,3,    0.03,3,    0.58,3
 49TU9010_3,       PR19,    IS-5,          2,          7,2,19901115,       0322,    25.5068,   123.2617,     -999.0,   252.1,  15.3440,  34.6427,2,-999.0000,9,   190.0,3,    8.40,3,    0.02,3,    0.60,3
 49TU9010_3,       PR19,    IS-5,          2,          6,2,19901115,       0322,    25.5068,   123.2617,     -999.0,   302.7,  13.7300,  34.5318,2,-999.0000,9,   162.0,3,   13.90,3,    0.03,3, -999.00,5
 49TU9010_4,       PR19,    NS-1,          1,     BUCKET,2,19901118,       0531,    24.5005,   124.7537,        252,     1.8,  26.1200,  34.6137,2,-999.0000,9,   206.0,3, -999.00,5,    0.00,3,    0.02,3
 49TU9010_4,       PR19,    NS-1,          1,          1,2,19901118,       0531,    24.5005,   124.7537,        252,    10.2,  26.0310,  34.6127,2,-999.0000,9,   204.0,3, -999.00,5,    0.00,3,    0.02,3
 49TU9010_4,       PR19,    NS-1,          1,         12,2,19901118,       0531,    24.5005,   124.7537,        252,    20.2,  25.9950,  34.6127,2,-999.0000,9,   204.0,3, -999.00,5,    0.01,3,    0.02,3
 49TU9010_4,       PR19,    NS-1,          1,         11,2,19901118,       0531,    24.5005,   124.7537,        252,    29.9,  25.9800,  34.6127,2,-999.0000,9,   204.0,3, -999.00,5,    0.00,3,    0.02,3
 49TU9010_4,       PR19,    NS-1,          1,         10,2,19901118,       0531,    24.5005,   124.7537,        252,    50.6,  25.9590,  34.6117,2,-999.0000,9,   204.0,3, -999.00,5,    0.00,3,    0.02,3
 49TU9010_4,       PR19,    NS-1,          1,          9,2,19901118,       0531,    24.5005,   124.7537,        252,    75.1,  25.8070,  34.6217,2,-999.0000,9,   204.0,3, -999.00,5,    0.00,3,    0.03,3
 49TU9010_4,       PR19,    NS-1,          1,          8,2,19901118,       0531,    24.5005,   124.7537,        252,    99.8,  25.5080,  34.6687,2,-999.0000,9,   204.0,3, -999.00,5,    0.07,3,    0.04,3
 49TU9010_4,       PR19,    NS-1,          1,          7,2,19901118,       0531,    24.5005,   124.7537,        252,   125.6,  24.4120,  34.7256,2,-999.0000,9,   199.0,3, -999.00,5,    0.05,3,    0.06,3
 49TU9010_4,       PR19,    NS-1,          1,          6,2,19901118,       0531,    24.5005,   124.7537,        252,   151.2,  23.2870,  34.7886,2,-999.0000,9,   198.0,3, -999.00,5,    0.08,3,    0.08,3
 49TU9010_4,       PR19,    NS-1,          1,          5,2,19901118,       0531,    24.5005,   124.7537,        252,   201.0,  19.5050,  34.8516,2,-999.0000,9,   195.0,3, -999.00,5,    0.03,3,    0.22,3
 49TU9010_4,       PR19,    NS-1,          1,          4,2,19901118,       0531,    24.5005,   124.7537,        252,   243.2,  16.9860,  34.7487,2,-999.0000,9,   192.0,3, -999.00,5,    0.02,3,    0.44,3
 49TU9010_4,       PR19,    NS-2,          1,         12,2,19901118,       1614,    24.3447,   124.9973,        985,   401.2,  13.8670,  34.5318,2,  34.5390,2,   184.0,3, -999.00,5,    0.11,3,    0.85,3
 49TU9010_4,       PR19,    NS-2,          1,         11,2,19901118,       1614,    24.3447,   124.9973,        985,   500.0,  11.2800,  34.1989,2,-999.0000,9,   168.0,3, -999.00,5,    0.00,3,    1.28,3
 49TU9010_4,       PR19,    NS-2,          1,         10,2,19901118,       1614,    24.3447,   124.9973,        985,   600.8,   8.5920,  34.1641,2,  34.2110,2,   146.0,3, -999.00,5,    0.00,3,    1.78,3
 49TU9010_4,       PR19,    NS-2,          1,          9,2,19901118,       1614,    24.3447,   124.9973,        985,   705.4,   6.3300,  34.2159,2,  34.2210,2,   102.0,3, -999.00,5,    0.00,3,    2.38,3
 49TU9010_4,       PR19,    NS-2,          1,          8,2,19901118,       1614,    24.3447,   124.9973,        985,   806.3,   5.3480,  34.2909,2,  34.2940,2,    82.0,3, -999.00,5,    0.01,3,    2.59,3
 49TU9010_4,       PR19,    NS-2,          1,          7,2,19901118,       1614,    24.3447,   124.9973,        985,   912.8,   4.8180,  34.3569,2,  34.3630,2,    80.0,3, -999.00,5,    0.00,3,    2.67,3
 49TU9010_4,       PR19,    NS-2,          2,     BUCKET,2,19901118,       1704,    24.3553,   124.9962,     -999.0,     0.5,  25.8030,  34.6537,2,-999.0000,9,   204.0,3, -999.00,5,    0.01,3,    0.01,3
 49TU9010_4,       PR19,    NS-2,          2,         11,2,19901118,       1704,    24.3553,   124.9962,     -999.0,    11.0,  25.8070,  34.6537,2,  34.6600,2,   205.0,3, -999.00,5,    0.00,3,    0.00,3
 49TU9010_4,       PR19,    NS-2,          2,         10,2,19901118,       1704,    24.3553,   124.9962,     -999.0,    20.3,  25.7860,  34.6517,2,-999.0000,9,   205.0,3, -999.00,5,    0.01,3,    0.00,3
 49TU9010_4,       PR19,    NS-2,          2,          9,2,19901118,       1704,    24.3553,   124.9962,     -999.0,    30.7,  25.5070,  34.6846,2,-999.0000,9,   205.0,3, -999.00,5,    0.00,3,    0.00,3
 49TU9010_4,       PR19,    NS-2,          2,          8,2,19901118,       1704,    24.3553,   124.9962,     -999.0,    51.3,  24.9930,  34.6627,2,  34.6710,2,   207.0,3, -999.00,5,    0.01,3,    0.00,3
 49TU9010_4,       PR19,    NS-2,          2,          7,2,19901118,       1704,    24.3553,   124.9962,     -999.0,    75.8,  24.1800,  34.7586,2,-999.0000,9,   201.0,3, -999.00,5,    0.12,3,    0.00,3
 49TU9010_4,       PR19,    NS-2,          2,          6,2,19901118,       1704,    24.3553,   124.9962,     -999.0,    98.8,  22.6650,  34.8246,2,  34.8200,2,   200.0,3, -999.00,5,    0.14,3,    0.03,3
 49TU9010_4,       PR19,    NS-2,          2,          5,2,19901118,       1704,    24.3553,   124.9962,     -999.0,   126.1,  21.5270,  34.8886,2,-999.0000,9,   203.0,3, -999.00,5,    0.10,3,    0.03,3
 49TU9010_4,       PR19,    NS-2,          2,          4,2,19901118,       1704,    24.3553,   124.9962,     -999.0,   150.9,  20.0020,  34.8416,2,  34.8490,2,   197.0,3, -999.00,5,    0.02,3,    0.16,3
 49TU9010_4,       PR19,    NS-2,          2,          3,2,19901118,       1704,    24.3553,   124.9962,     -999.0,   200.8,  18.7440,  34.8416,2,  34.8490,2,   197.0,3, -999.00,5,    0.01,3,    0.22,3
 49TU9010_4,       PR19,    NS-2,          2,          2,2,19901118,       1704,    24.3553,   124.9962,     -999.0,   251.2,  17.1560,  34.7677,2,-999.0000,9,   194.0,3, -999.00,5,    0.00,3,    0.38,3
 49TU9010_4,       PR19,    NS-2,          2,          1,2,19901118,       1704,    24.3553,   124.9962,     -999.0,   303.2,  15.9050,  34.6807,2,  34.6890,2,   192.0,3, -999.00,5,    0.00,3,    0.56,3
 49TU9010_4,       PR19,    NS-3,          1,         11,2,19901118,       2156,    24.1675,   125.1915,       1789,   402.8,  13.7800,  34.5258,2,-999.0000,9,   182.0,3,   11.30,3,    0.01,3,    0.89,3
 49TU9010_4,       PR19,    NS-3,          1,         10,2,19901118,       2156,    24.1675,   125.1915,       1789,   504.0,  10.7060,  34.3219,2,-999.0000,9,   162.0,3,   18.40,3,    0.01,3,    1.42,3
 49TU9010_4,       PR19,    NS-3,          1,          9,2,19901118,       2156,    24.1675,   125.1915,       1789,   604.1,   8.5050,  34.2109,2,-999.0000,9,   140.0,3,   24.30,3,    0.00,3,    1.86,3
 49TU9010_4,       PR19,    NS-3,          1,          8,2,19901118,       2156,    24.1675,   125.1915,       1789,   706.1,   6.5850,  34.1969,2,-999.0000,9,   106.0,3,   31.00,3,    0.01,3,    2.36,3
 49TU9010_4,       PR19,    NS-3,          1,          7,2,19901118,       2156,    24.1675,   125.1915,       1789,   806.2,   5.3240,  34.2939,2,-999.0000,9,    81.0,3,   35.20,3,    0.01,3,    2.66,3
 49TU9010_4,       PR19,    NS-3,          1,          6,2,19901118,       2156,    24.1675,   125.1915,       1789,   908.2,   4.6080,  34.3719,2,-999.0000,9,    74.0,3,   37.00,3,    0.01,3,    2.78,3
 49TU9010_4,       PR19,    NS-3,          1,          5,2,19901118,       2156,    24.1675,   125.1915,       1789,  1009.2,   4.1190,  34.4258,2,-999.0000,9,    73.0,3,   37.70,3,    0.01,3,    2.82,3
 49TU9010_4,       PR19,    NS-3,          1,          4,2,19901118,       2156,    24.1675,   125.1915,       1789,  1260.8,   3.0410,  34.5208,2,-999.0000,9,    86.0,3,   37.90,3,    0.00,3,    2.82,3
 49TU9010_4,       PR19,    NS-3,          1,          3,2,19901118,       2156,    24.1675,   125.1915,       1789,  1504.2,   2.5860,  34.5508,2,-999.0000,9,    93.0,3,   38.00,3,    0.00,3,    2.81,3
 49TU9010_4,       PR19,    NS-5,          1,         11,2,19901119,       0418,    23.7322,   125.7487,       2539,   600.0,   8.3320,  34.2499,2,-999.0000,9,   132.0,3,   25.50,3,    0.01,3,    2.04,3
 49TU9010_4,       PR19,    NS-5,          1,         10,2,19901119,       0418,    23.7322,   125.7487,       2539,   702.0,   5.7080,  34.2159,2,  34.2190,2,    85.0,3,   34.40,3,    0.01,3,    2.71,3
 49TU9010_4,       PR19,    NS-5,          1,          9,2,19901119,       0418,    23.7322,   125.7487,       2539,   800.4,   5.0700,  34.2839,2,-999.0000,9,    74.0,3,   36.00,3,    0.01,3,    2.81,3
 49TU9010_4,       PR19,    NS-5,          1,          8,2,19901119,       0418,    23.7322,   125.7487,       2539,   904.3,   4.3000,  34.3939,2,  34.3940,2,    74.0,3,   37.70,3,    0.01,3,    2.96,3
 49TU9010_4,       PR19,    NS-5,          1,          7,2,19901119,       0418,    23.7322,   125.7487,       2539,   999.1,   3.8980,  34.4568,2,-999.0000,9,    79.0,3,   37.70,3,    0.01,3,    2.90,3
 49TU9010_4,       PR19,    NS-5,          1,          5,2,19901119,       0418,    23.7322,   125.7487,       2539,  1253.6,   2.8630,  34.5288,2,  34.5300,2,    88.0,3,   37.70,3,    0.01,3,    2.92,3
 49TU9010_4,       PR19,    NS-5,          1,          4,2,19901119,       0418,    23.7322,   125.7487,       2539,  1507.1,   2.3640,  34.5628,2,  34.5640,2,    97.0,3,   37.70,3,    0.01,3,    2.91,3
 49TU9010_4,       PR19,    NS-5,          1,          3,2,19901119,       0418,    23.7322,   125.7487,       2539,  1768.7,   2.1630,  34.5928,2,  34.5940,2,  -999.0,5,   37.30,3,    0.01,3,    2.82,3
 49TU9010_4,       PR19,    NS-5,          1,          2,2,19901119,       0418,    23.7322,   125.7487,       2539,  2025.9,   2.0250,  34.6148,2,  34.6150,2,   117.0,3,   37.00,3,    0.00,3,    2.79,3
 49TU9010_4,       PR19,    NS-5,          2,     BUCKET,2,19901119,       0555,    23.7125,   125.7328,     -999.0,     0.8,  25.6620,  34.6617,2,-999.0000,9,   207.0,3,    0.20,3,    0.01,3, -999.00,5
 49TU9010_4,       PR19,    NS-5,          2,         11,2,19901119,       0555,    23.7125,   125.7328,     -999.0,    10.4,  25.4220,  34.6677,2,  34.6670,2,   206.0,3,    0.00,3,    0.00,3, -999.00,5
 49TU9010_4,       PR19,    NS-5,          2,         10,2,19901119,       0555,    23.7125,   125.7328,     -999.0,    21.2,  24.9350,  34.6747,2,-999.0000,9,   208.0,3,    0.00,3,    0.00,3, -999.00,5
 49TU9010_4,       PR19,    NS-5,          2,          9,2,19901119,       0555,    23.7125,   125.7328,     -999.0,    30.8,  24.7830,  34.6667,2,-999.0000,9,   209.0,3,    0.00,3,    0.00,3, -999.00,5
 49TU9010_4,       PR19,    NS-5,          2,          8,2,19901119,       0555,    23.7125,   125.7328,     -999.0,    50.8,  24.6960,  34.6607,2,  34.6660,2,   209.0,3,    0.00,3,    0.01,3, -999.00,5
 49TU9010_4,       PR19,    NS-5,          2,          7,2,19901119,       0555,    23.7125,   125.7328,     -999.0,    74.8,  24.6400,  34.6567,2,-999.0000,9,   208.0,3,    0.00,3,    0.00,3, -999.00,5
 49TU9010_4,       PR19,    NS-5,          2,          6,2,19901119,       0555,    23.7125,   125.7328,     -999.0,    99.0,  23.1720,  34.7626,2,-999.0000,9,   200.0,3,    0.00,3,    0.07,3, -999.00,5
 49TU9010_4,       PR19,    NS-5,          2,          5,2,19901119,       0555,    23.7125,   125.7328,     -999.0,   151.4,  19.7470,  34.8546,2,-999.0000,9,   195.0,3,    1.90,3,    0.03,3, -999.00,5
 49TU9010_4,       PR19,    NS-5,          2,          4,2,19901119,       0555,    23.7125,   125.7328,     -999.0,   200.8,  18.3430,  34.8286,2,  34.8360,2,   194.0,3,    3.20,3,    0.01,3, -999.00,5
 49TU9010_4,       PR19,    NS-5,          2,          3,2,19901119,       0555,    23.7125,   125.7328,     -999.0,   248.2,  17.2420,  34.7747,2,-999.0000,9,   194.0,3,    4.80,3,    0.01,3, -999.00,5
 49TU9010_4,       PR19,    NS-5,          2,          2,2,19901119,       0555,    23.7125,   125.7328,     -999.0,   301.4,  16.0370,  34.7017,2,-999.0000,9,   195.0,3,    6.40,3,    0.01,3, -999.00,5
 49TU9010_4,       PR19,    NS-5,          2,          1,2,19901119,       0555,    23.7125,   125.7328,     -999.0,   405.2,  13.2200,  34.4748,2,  34.4850,2,   204.0,3,   11.80,3,    0.02,3, -999.00,5
 49TU9010_4,       PR19,    NS-6,          1,         10,2,19901119,       1031,    23.5057,   126.3372,       5440,  2277.3,   1.7330,  34.6477,2,-999.0000,9,   130.0,3,   35.90,3,    0.01,3,    2.71,3
 49TU9010_4,       PR19,    NS-6,          1,          9,2,19901119,       1031,    23.5057,   126.3372,       5440,  2531.7,   1.6460,  34.6567,2,-999.0000,9,   137.0,3,   35.40,3,    0.04,3,    2.66,3
 49TU9010_4,       PR19,    NS-6,          1,          8,2,19901119,       1031,    23.5057,   126.3372,       5440,  2785.0,   1.5770,  34.6657,2,-999.0000,9,   144.0,3,   35.40,3,    0.01,3,    2.64,3
 49TU9010_4,       PR19,    NS-6,          1,          7,2,19901119,       1031,    23.5057,   126.3372,       5440,  3040.3,   1.5360,  34.6717,2,  34.6700,2,   147.0,3,   35.30,3,    0.01,3,    2.63,3
 49TU9010_4,       PR19,    NS-6,          1,          6,2,19901119,       1031,    23.5057,   126.3372,       5440,  3295.1,   1.5250,  34.6767,2,-999.0000,9,   150.0,3,   35.10,3,    0.01,3,    2.60,3
 49TU9010_4,       PR19,    NS-6,          1,          5,2,19901119,       1031,    23.5057,   126.3372,       5440,  3552.0,   1.5250,  34.6787,2,  34.6760,2,   153.0,3,   35.00,3,    0.01,3,    2.63,3
 49TU9010_4,       PR19,    NS-6,          1,          4,2,19901119,       1031,    23.5057,   126.3372,       5440,  3809.8,   1.5370,  34.6797,2,-999.0000,9,   153.0,3,   35.00,3,    0.05,3,    2.64,3
 49TU9010_4,       PR19,    NS-6,          1,          3,2,19901119,       1031,    23.5057,   126.3372,       5440,  4068.6,   1.5550,  34.6807,2,  34.6800,2,   153.0,3,   35.20,3,    0.02,3,    2.57,3
 49TU9010_4,       PR19,    NS-6,          2,          9,2,19901119,       1226,    23.5110,   126.3233,          1,   402.7,  13.2210,  34.4828,2,-999.0000,9,   181.0,3,   11.50,3,    0.02,3,    0.93,3
 49TU9010_4,       PR19,    NS-6,          2,          8,2,19901119,       1226,    23.5110,   126.3233,          1,   504.1,  10.9040,  34.3319,2,  34.3420,2,   166.0,3,   16.80,3,    0.02,3,    1.34,3
 49TU9010_4,       PR19,    NS-6,          2,          7,2,19901119,       1226,    23.5110,   126.3233,          1,   605.7,   7.2860,  34.2139,2,-999.0000,9,   117.0,3,   27.80,3,    0.02,3,    2.18,3
 49TU9010_4,       PR19,    NS-6,          2,          6,2,19901119,       1226,    23.5110,   126.3233,          1,   705.9,   5.3740,  34.2639,2,-999.0000,9,    78.0,3,   34.40,3,    0.01,3,    2.72,3
 49TU9010_4,       PR19,    NS-6,          2,          5,2,19901119,       1226,    23.5110,   126.3233,          1,   807.1,   4.6700,  34.3749,2,-999.0000,9,    75.0,3,   35.80,3,    0.01,3,    2.79,3
 49TU9010_4,       PR19,    NS-6,          2,          4,2,19901119,       1226,    23.5110,   126.3233,          1,   906.8,   4.1570,  34.4318,2,-999.0000,9,    78.0,3,   36.40,3,    0.01,3,    2.83,3
 49TU9010_4,       PR19,    NS-6,          2,          3,2,19901119,       1226,    23.5110,   126.3233,          1,  1009.5,   3.5640,  34.4738,2,  34.4780,2,    79.0,3,   37.10,3,    0.02,3,    2.88,3
 49TU9010_4,       PR19,    NS-6,          2,          2,2,19901119,       1226,    23.5110,   126.3233,          1,  1262.8,   2.9320,  34.5108,2,-999.0000,9,    81.0,3,   37.80,3,    0.01,3,    2.93,3
 49TU9010_4,       PR19,    NS-6,          2,          1,2,19901119,       1226,    23.5110,   126.3233,          1,  1516.6,   2.4310,  34.5668,2,  34.5670,2,    98.0,3,   37.40,3,    0.01,3,    2.86,3
 49TU9010_4,       PR19,    NS-6,          2,         12,2,19901119,       1226,    23.5110,   126.3233,          1,  1767.7,   2.2010,  34.5958,2,-999.0000,9,   107.0,3,   36.80,3,    0.01,3,    2.80,3
 49TU9010_4,       PR19,    NS-6,          2,         11,2,19901119,       1226,    23.5110,   126.3233,          1,  2023.8,   1.8980,  34.6298,2,  34.6290,2,   122.0,3,   36.20,3,    0.01,3,    2.73,3