BOTTLE,20220630CCHSIOAMB
EXPOCODE,SECT_ID,STNNBR,CASTNO,SAMPNO,BTLNBR,BTLNBR_FLAG_W,DATE,TIME,LATITUDE,LONGITUDE,DEPTH,CTDPRS,CTDTMP,CTDSAL,CTDSAL_FLAG_W,SALNTY,SALNTY_FLAG_W,CTDOXY,CTDOXY_FLAG_W,OXYGEN,OXYGEN_FLAG_W
,,,,,,,,,,,,DBAR,ITS-90,PSS-78,,PSS-78,,UMOL/KG,,UMOL/KG,
   3175MB95_02,  ISS1,    31,1,     24,     24,2,19950326,0052,-33.1292,  45.5000, 1582,      1.9,  23.0088,  35.6779,2,  35.6753,2,    213.2,2,    214.2,2
   3175MB95_02,  ISS1,    31,1,     23,     23,2,19950326,0052,-33.1292,  45.5000, 1582,     35.0,  22.5318,  35.6720,2,  35.6669,2,    216.4,2,    217.6,2
   3175MB95_02,  ISS1,    31,1,     22,     22,2,19950326,0052,-33.1292,  45.5000, 1582,     71.0,  19.7515,  35.5887,2,  35.5896,2,    228.9,2,    229.8,2
   3175MB95_02,  ISS1,    31,1,     21,     21,2,19950326,0052,-33.1292,  45.5000, 1582,    110.1,  17.2499,  35.5887,2,  35.5873,2,    218.6,2,    216.5,2
   3175MB95_02,  ISS1,    31,1,     20,     20,2,19950326,0052,-33.1292,  45.5000, 1582,    149.5,  16.1516,  35.5561,2,  35.5542,2,    218.0,2,    214.9,2
   3175MB95_02,  ISS1,    31,1,     19,     19,2,19950326,0052,-33.1292,  45.5000, 1582,    200.0,  15.5594,  35.5215,2,  35.5197,2,    221.2,2,    217.8,2
   3175MB95_02,  ISS1,    31,1,     18,     18,2,19950326,0052,-33.1292,  45.5000, 1582,    249.4,  15.0483,  35.4779,2,  35.4775,2,    221.2,2,    213.1,2
   3175MB95_02,  ISS1,    31,1,     17,     17,2,19950326,0052,-33.1292,  45.5000, 1582,    300.7,  14.5072,  35.4240,2,  35.4222,2,    219.5,2,    216.2,2
   3175MB95_02,  ISS1,    31,1,     16,     16,2,19950326,0052,-33.1292,  45.5000, 1582,    350.5,  14.0091,  35.3764,2,  35.3775,2,    223.5,2,    220.3,2
   3175MB95_02,  ISS1,    31,1,     15,     15,2,19950326,0052,-33.1292,  45.5000, 1582,    399.9,  13.6286,  35.3314,2,  35.3277,2,    226.4,2,    224.0,2
   3175MB95_02,  ISS1,    31,1,     14,     14,2,19950326,0052,-33.1292,  45.5000, 1582,    450.4,  13.2409,  35.2736,2,  35.2744,2,    226.8,2,    224.5,2
   3175MB95_02,  ISS1,    31,1,     13,     13,2,19950326,0052,-33.1292,  45.5000, 1582,    500.5,  12.7914,  35.2006,2,  35.1989,2,    226.3,2,    224.5,2
   3175MB95_02,  ISS1,    31,1,     12,     12,2,19950326,0052,-33.1292,  45.5000, 1582,    549.7,  12.3744,  35.1331,2,  35.1371,2,    224.5,7,    223.9,2
   3175MB95_02,  ISS1,    31,1,     11,     11,2,19950326,0052,-33.1292,  45.5000, 1582,    600.2,  11.8133,  35.0442,2,  35.0527,3,    221.8,2,    221.2,2
   3175MB95_02,  ISS1,    31,1,     10,     10,2,19950326,0052,-33.1292,  45.5000, 1582,    700.5,  10.4662,  34.8546,2,  34.8692,4,    216.8,7,    217.1,2
   3175MB95_02,  ISS1,    31,1,      9,      9,2,19950326,0052,-33.1292,  45.5000, 1582,    798.4,   9.4913,  34.7408,2,  34.7441,2,    211.4,2,    213.1,2
   3175MB95_02,  ISS1,    31,1,      8,      8,2,19950326,0052,-33.1292,  45.5000, 1582,    900.0,   8.2192,  34.6146,2,  34.6166,2,    205.8,2,    207.4,2
   3175MB95_02,  ISS1,    31,1,      7,      7,2,19950326,0052,-33.1292,  45.5000, 1582,   1000.0,   6.7836,  34.4977,2,  34.4973,2,    202.5,2,    204.5,2
   3175MB95_02,  ISS1,    31,1,      6,      6,2,19950326,0052,-33.1292,  45.5000, 1582,   1100.1,   5.5412,  34.4271,2,  34.4268,2,    201.2,2,    202.6,2
   3175MB95_02,  ISS1,    31,1,      5,      5,2,19950326,0052,-33.1292,  45.5000, 1582,   1200.5,   4.5471,  34.4083,2,  34.4084,2,    196.8,2,    198.0,2
   3175MB95_02,  ISS1,    31,1,      4,      4,2,19950326,0052,-33.1292,  45.5000, 1582,   1299.7,   3.9602,  34.4348,2,  34.4341,2,    190.2,2,    189.9,2
   3175MB95_02,  ISS1,    31,1,      3,      3,2,19950326,0052,-33.1292,  45.5000, 1582,   1400.0,   3.5840,  34.4712,2,  34.4718,2,    184.6,2,    184.5,2
   3175MB95_02,  ISS1,    31,1,      2,      2,2,19950326,0052,-33.1292,  45.5000, 1582,   1500.6,   3.3382,  34.5186,2,  34.5187,2,    182.9,2,    179.3,2
   3175MB95_02,  ISS1,    31,1,      1,      1,2,19950326,0052,-33.1292,  45.5000, 1582,   1597.2,   3.1946,  34.5462,2,  34.5478,2,    184.2,2,    177.8,3
   3175MB95_02,  ISS1,    32,1,     24,     24,2,19950326,0957,-33.4995,  47.4517, 3586,      2.2,  21.2955,  35.5904,2,  35.5894,2,    223.4,2,    223.7,2
   3175MB95_02,  ISS1,    32,1,     23,     23,2,19950326,0957,-33.4995,  47.4517, 3586,     51.1,  18.5875,  35.5657,2,  35.5536,3,    237.1,2,    240.4,2
   3175MB95_02,  ISS1,    32,1,     22,     22,2,19950326,0957,-33.4995,  47.4517, 3586,    100.5,  16.2711,  35.5624,2,  35.5623,2,    230.0,2,    229.5,2
   3175MB95_02,  ISS1,    32,1,     21,     21,2,19950326,0957,-33.4995,  47.4517, 3586,    196.5,  15.2866,  35.5207,2,  35.5210,2,    231.6,2,    229.9,2
   3175MB95_02,  ISS1,    32,1,     20,     20,2,19950326,0957,-33.4995,  47.4517, 3586,    300.4,  14.7667,  35.4793,2,  35.4789,2,    233.4,2,    232.5,2
   3175MB95_02,  ISS1,    32,1,     19,     19,2,19950326,0957,-33.4995,  47.4517, 3586,    399.2,  14.1518,  35.4068,2,  35.4078,2,    230.1,3,    229.2,2
   3175MB95_02,  ISS1,    32,1,     18,     18,2,19950326,0957,-33.4995,  47.4517, 3586,    498.8,  13.5269,  35.3229,2,  35.3230,2,    228.4,2,    229.2,2
   3175MB95_02,  ISS1,    32,1,     17,     17,2,19950326,0957,-33.4995,  47.4517, 3586,    598.7,  12.8085,  35.2018,2,  35.2033,2,    225.6,2,    226.6,2
   3175MB95_02,  ISS1,    32,1,     16,     16,2,19950326,0957,-33.4995,  47.4517, 3586,    698.4,  11.8820,  35.0528,2,  35.0522,2,    222.0,3,    225.6,2
   3175MB95_02,  ISS1,    32,1,     15,     15,2,19950326,0957,-33.4995,  47.4517, 3586,    798.0,  10.8402,  34.9005,2,  34.9016,2,    216.8,2,    220.8,2
   3175MB95_02,  ISS1,    32,1,     14,     14,2,19950326,0957,-33.4995,  47.4517, 3586,    898.9,   9.4467,  34.7296,2,  34.7294,2,    210.2,2,    214.1,2
   3175MB95_02,  ISS1,    32,1,     13,     13,2,19950326,0957,-33.4995,  47.4517, 3586,    998.4,   8.2744,  34.6136,2,  34.6155,2,    202.9,2,    207.7,2
   3175MB95_02,  ISS1,    32,1,     12,     12,2,19950326,0957,-33.4995,  47.4517, 3586,   1199.4,   5.5633,  34.4301,2,  34.4312,2,    196.7,2,    200.8,2
   3175MB95_02,  ISS1,    32,1,     11,     11,2,19950326,0957,-33.4995,  47.4517, 3586,   1397.6,   4.0218,  34.4274,2,  34.4353,3,    185.5,2,    188.8,2
   3175MB95_02,  ISS1,    32,1,     10,     10,2,19950326,0957,-33.4995,  47.4517, 3586,   1581.1,   3.3896,  34.4945,2,  34.4945,2,    176.3,2,    178.2,2
   3175MB95_02,  ISS1,    32,1,      9,      9,2,19950326,0957,-33.4995,  47.4517, 3586,   1796.7,   2.9693,  34.5834,2,  34.5850,2,    173.1,3,    173.4,2
   3175MB95_02,  ISS1,    32,1,      8,      8,2,19950326,0957,-33.4995,  47.4517, 3586,   1999.6,   2.7049,  34.6463,2,  34.6455,2,    177.4,2,    177.2,2
   3175MB95_02,  ISS1,    32,1,      7,      7,2,19950326,0957,-33.4995,  47.4517, 3586,   2200.3,   2.5045,  34.6958,2,  34.6946,2,    181.3,2,    181.2,2
   3175MB95_02,  ISS1,    32,1,      6,      6,2,19950326,0957,-33.4995,  47.4517, 3586,   2400.8,   2.3643,  34.7282,2,  34.7281,2,    185.6,2,    185.7,2
   3175MB95_02,  ISS1,    32,1,      5,      5,2,19950326,0957,-33.4995,  47.4517, 3586,   2600.4,   2.2652,  34.7480,2,  34.7475,2,    189.9,2,    190.3,2
   3175MB95_02,  ISS1,    32,1,      4,      4,2,19950326,0957,-33.4995,  47.4517, 3586,   2802.7,   2.1482,  34.7628,2,  34.7615,2,    194.3,2,    195.8,2
   3175MB95_02,  ISS1,    32,1,      3,      3,2,19950326,0957,-33.4995,  47.4517, 3586,   3100.1,   1.8612,  34.7546,2,  34.7542,2,    195.4,2,    196.0,2
   3175MB95_02,  ISS1,    32,1,      2,      2,2,19950326,0957,-33.4995,  47.4517, 3586,   3398.7,   1.5858,  34.7441,2,  34.7427,2,    199.9,2,    198.7,2
   3175MB95_02,  ISS1,    32,1,      1,      1,2,19950326,0957,-33.4995,  47.4517, 3586,   3632.8,   1.3434,  34.7284,2,  34.7281,2,    204.2,2,    199.8,2
   3175MB95_02,  ISS1,    33,1,     24,     24,2,19950326,2022,-33.5013,  49.5023, 4074,      2.2,  21.2763,  35.5975,2,  35.5946,2,    223.7,2,    222.3,2
   3175MB95_02,  ISS1,    33,1,     23,     23,2,19950326,2022,-33.5013,  49.5023, 4074,     28.8,  21.2406,  35.5886,2,  35.5892,2,    225.6,2,    223.6,2
   3175MB95_02,  ISS1,    33,1,     22,     22,2,19950326,2022,-33.5013,  49.5023, 4074,     69.1,  17.5069,  35.5533,2,  35.5550,2,    238.1,2,    235.1,2
   3175MB95_02,  ISS1,    33,1,     21,     21,2,19950326,2022,-33.5013,  49.5023, 4074,    109.9,  16.3167,  35.5861,2,  35.5850,2,    227.7,2,    222.6,2
   3175MB95_02,  ISS1,    33,1,     20,     20,2,19950326,2022,-33.5013,  49.5023, 4074,    180.1,  15.7376,  35.5638,2,  35.5621,2,    231.7,2,    226.7,2
   3175MB95_02,  ISS1,    33,1,     19,     19,2,19950326,2022,-33.5013,  49.5023, 4074,    249.8,  15.4169,  35.5442,2,  35.5429,2,    234.2,2,    230.1,2
   3175MB95_02,  ISS1,    33,1,     18,     18,2,19950326,2022,-33.5013,  49.5023, 4074,    349.3,  14.7873,  35.4879,2,  35.4853,2,    236.1,2,    230.9,2
   3175MB95_02,  ISS1,    33,1,     17,     17,2,19950326,2022,-33.5013,  49.5023, 4074,    450.1,  14.4816,  35.4608,2,  35.4569,2,    234.2,2,    233.7,2
   3175MB95_02,  ISS1,    33,1,     16,     16,2,19950326,2022,-33.5013,  49.5023, 4074,    550.1,  13.4420,  35.3040,2,  35.3030,2,    226.6,2,    225.8,2
   3175MB95_02,  ISS1,    33,1,     15,     15,2,19950326,2022,-33.5013,  49.5023, 4074,    649.1,  12.5647,  35.1518,2,  35.1501,2,    222.9,2,    222.9,2
   3175MB95_02,  ISS1,    33,1,     14,     14,2,19950326,2022,-33.5013,  49.5023, 4074,    849.7,  10.1031,  34.8052,2,  34.7990,3,    212.0,2,    214.2,2
   3175MB95_02,  ISS1,    33,1,     13,     13,2,19950326,2022,-33.5013,  49.5023, 4074,   1049.3,   6.7874,  34.4939,2,  34.4941,2,    203.4,2,    204.9,2
   3175MB95_02,  ISS1,    33,1,     12,     12,2,19950326,2022,-33.5013,  49.5023, 4074,   1250.5,   4.6949,  34.4002,2,  34.3999,2,    198.7,2,    200.9,2
   3175MB95_02,  ISS1,    33,1,     11,     11,2,19950326,2022,-33.5013,  49.5023, 4074,   1442.9,   3.7146,  34.4382,2,  34.4378,2,    187.0,2,    188.2,2
   3175MB95_02,  ISS1,    33,1,     10,     10,2,19950326,2022,-33.5013,  49.5023, 4074,   1745.8,   2.9716,  34.5583,2,  34.6637,4,    177.6,2,    178.1,2
   3175MB95_02,  ISS1,    33,1,      9,      9,2,19950326,2022,-33.5013,  49.5023, 4074,   2049.0,   2.5701,  34.6636,2,  34.6627,2,    179.9,3,    180.6,2
   3175MB95_02,  ISS1,    33,1,      8,      8,2,19950326,2022,-33.5013,  49.5023, 4074,   2348.9,   2.2610,  34.7226,2,  34.7222,2,    186.4,2,    187.4,2
   3175MB95_02,  ISS1,    33,1,      7,      7,2,19950326,2022,-33.5013,  49.5023, 4074,   2649.5,   2.0521,  34.7422,2,  34.7407,2,    190.2,2,    191.3,2
   3175MB95_02,  ISS1,    33,1,      6,      6,2,19950326,2022,-33.5013,  49.5023, 4074,   2949.2,   1.7770,  34.7428,2,  34.7410,2,    192.7,2,    193.5,2
   3175MB95_02,  ISS1,    33,1,      5,      5,2,19950326,2022,-33.5013,  49.5023, 4074,   3249.3,   1.5272,  34.7345,2,  34.7331,2,    194.2,2,    194.7,2
   3175MB95_02,  ISS1,    33,1,      4,      4,2,19950326,2022,-33.5013,  49.5023, 4074,   3549.3,   1.3197,  34.7261,2,  34.7262,2,    198.4,2,    198.3,2
   3175MB95_02,  ISS1,    33,1,      3,      3,2,19950326,2022,-33.5013,  49.5023, 4074,   3848.4,   1.1621,  34.7195,2,  34.7207,2,    203.3,2,    202.1,2
   3175MB95_02,  ISS1,    33,1,      2,      2,2,19950326,2022,-33.5013,  49.5023, 4074,   4150.4,   1.1104,  34.7163,2,  34.7146,2,    206.6,2,    203.6,2
   3175MB95_02,  ISS1,    33,1,      1,      1,2,19950326,2022,-33.5013,  49.5023, 4074,   4237.2,   1.1150,  34.7163,2,  34.7186,2,    207.9,2,    203.7,2
   3175MB95_02,  ISS1,    34,1,     24,     24,2,19950327,0812,-32.4460,  51.3493, 4537,      2.8,  21.2555,  35.5898,2,  35.5883,2,    221.7,3,    223.0,2
   3175MB95_02,  ISS1,    34,1,     23,     23,2,19950327,0812,-32.4460,  51.3493, 4537,     40.3,  20.2315,  35.5801,2,  35.5860,2,    232.6,2,    234.7,2
   3175MB95_02,  ISS1,    34,1,     22,     22,2,19950327,0812,-32.4460,  51.3493, 4537,     89.0,  16.5720,  35.5609,2,  35.5639,2,    227.7,2,    228.8,2
   3175MB95_02,  ISS1,    34,1,     21,     21,2,19950327,0812,-32.4460,  51.3493, 4537,    159.8,  15.3056,  35.5100,2,  35.5202,2,    227.0,2,    224.2,2
   3175MB95_02,  ISS1,    34,1,     20,     20,2,19950327,0812,-32.4460,  51.3493, 4537,    231.4,  14.7508,  35.4706,2,  35.4701,2,    230.2,2,    228.2,2
   3175MB95_02,  ISS1,    34,1,     19,     19,2,19950327,0812,-32.4460,  51.3493, 4537,    310.9,  14.2024,  35.4080,2,  35.4073,2,    228.6,2,    226.4,2
   3175MB95_02,  ISS1,    34,1,     18,     18,2,19950327,0812,-32.4460,  51.3493, 4537,    411.0,  13.4285,  35.3006,2,  35.3008,2,    228.2,2,    227.4,2
   3175MB95_02,  ISS1,    34,1,     17,     17,2,19950327,0812,-32.4460,  51.3493, 4537,    499.2,  12.8528,  35.2084,2,  35.2185,3,    224.8,2,    224.9,2
   3175MB95_02,  ISS1,    34,1,     16,     16,2,19950327,0812,-32.4460,  51.3493, 4537,    598.4,  11.7979,  35.0406,2,  35.0448,2,    221.9,3,    223.2,2
   3175MB95_02,  ISS1,    34,1,     15,     15,2,19950327,0812,-32.4460,  51.3493, 4537,    697.9,  10.7073,  34.8832,2,  34.8845,2,    216.6,2,    219.1,2
   3175MB95_02,  ISS1,    34,1,     14,     14,2,19950327,0812,-32.4460,  51.3493, 4537,    890.0,   8.4808,  34.6323,2,  34.6295,2,    205.7,2,    209.5,2
   3175MB95_02,  ISS1,    34,1,     13,     13,2,19950327,0812,-32.4460,  51.3493, 4537,   1101.2,   5.3693,  34.4119,2,  34.4122,2,    198.8,2,    203.1,2
   3175MB95_02,  ISS1,    34,1,     12,     12,2,19950327,0812,-32.4460,  51.3493, 4537,   1299.8,   3.8994,  34.4186,2,  34.4180,2,    186.4,2,    190.7,2
   3175MB95_02,  ISS1,    34,1,     11,     11,2,19950327,0812,-32.4460,  51.3493, 4537,   1599.6,   3.0583,  34.5440,2,  34.5437,2,    173.4,2,    175.0,2
   3175MB95_02,  ISS1,    34,1,     10,     10,2,19950327,0812,-32.4460,  51.3493, 4537,   1898.3,   2.6149,  34.6532,2,  34.6530,2,    175.6,2,    176.6,2
   3175MB95_02,  ISS1,    34,1,      9,      9,2,19950327,0812,-32.4460,  51.3493, 4537,   2198.4,   2.3603,  34.7170,2,  34.7155,2,    182.3,3,    183.8,2
   3175MB95_02,  ISS1,    34,1,      8,      8,2,19950327,0812,-32.4460,  51.3493, 4537,   2498.1,   2.1577,  34.7452,2,  34.7437,2,    187.1,2,    189.1,2
   3175MB95_02,  ISS1,    34,1,      7,      7,2,19950327,0812,-32.4460,  51.3493, 4537,   2799.8,   1.9271,  34.7505,2,  34.7483,2,    188.2,2,    191.2,2
   3175MB95_02,  ISS1,    34,1,      6,      6,2,19950327,0812,-32.4460,  51.3493, 4537,   3095.6,   1.6447,  34.7399,2,  34.7384,2,    189.8,2,    192.0,2
   3175MB95_02,  ISS1,    34,1,      5,      5,2,19950327,0812,-32.4460,  51.3493, 4537,   3397.2,   1.4171,  34.7296,2,  34.7275,2,    192.4,2,    194.2,2
   3175MB95_02,  ISS1,    34,1,      4,      4,2,19950327,0812,-32.4460,  51.3493, 4537,   3699.5,   1.2344,  34.7218,2,  34.7198,2,    199.0,2,    199.9,2
   3175MB95_02,  ISS1,    34,1,      3,      3,2,19950327,0812,-32.4460,  51.3493, 4537,   3999.5,   1.1223,  34.7165,2,  34.7141,2,    202.4,2,    204.7,2
   3175MB95_02,  ISS1,    34,1,      2,      2,2,19950327,0812,-32.4460,  51.3493, 4537,   4299.9,   1.0552,  34.7129,2,  34.7112,2,    206.5,2,    205.3,2
   3175MB95_02,  ISS1,    34,1,      1,      1,2,19950327,0812,-32.4460,  51.3493, 4537,   4605.9,   1.0065,  34.7028,2,  34.7068,2,    210.5,2,    206.9,2
   3175MB95_02,  ISS1,    35,1,     24,     24,2,19950327,2106,-31.0512,  53.1505, 4911,      2.3,  22.3517,  35.7262,2,  35.7240,2,    217.9,2,    217.8,2
   3175MB95_02,  ISS1,    35,1,     23,     23,2,19950327,2106,-31.0512,  53.1505, 4911,     74.7,  19.5739,  35.6096,2,  35.6090,2,    241.6,2,    240.9,2
   3175MB95_02,  ISS1,    35,1,     22,     22,2,19950327,2106,-31.0512,  53.1505, 4911,    150.6,  15.7050,  35.5363,2,  35.5346,2,    226.8,2,    222.9,2
   3175MB95_02,  ISS1,    35,1,     21,     21,2,19950327,2106,-31.0512,  53.1505, 4911,    225.2,  14.5997,  35.4458,2,  35.4445,2,    228.1,2,    224.3,2
   3175MB95_02,  ISS1,    35,1,     20,     20,2,19950327,2106,-31.0512,  53.1505, 4911,    300.1,  14.0390,  35.3950,2,  35.3933,2,    233.8,2,    230.9,2
   3175MB95_02,  ISS1,    35,1,     19,     19,2,19950327,2106,-31.0512,  53.1505, 4911,    374.8,  13.4441,  35.3128,2,  35.3116,2,    231.4,2,    229.5,2
   3175MB95_02,  ISS1,    35,1,     18,     18,2,19950327,2106,-31.0512,  53.1505, 4911,    450.1,  12.9978,  35.2404,2,  35.2381,2,    231.0,2,    230.3,2
   3175MB95_02,  ISS1,    35,1,     17,     17,2,19950327,2106,-31.0512,  53.1505, 4911,    549.6,  12.0351,  35.0811,2,  35.0796,2,    227.5,2,    227.4,2
   3175MB95_02,  ISS1,    35,1,     16,     16,2,19950327,2106,-31.0512,  53.1505, 4911,    699.5,  10.3191,  34.8329,2,  34.8319,2,    220.5,2,    222.6,2
   3175MB95_02,  ISS1,    35,1,     15,     15,2,19950327,2106,-31.0512,  53.1505, 4911,    849.9,   8.1894,  34.6009,2,  34.6000,2,    206.3,2,    209.2,2
   3175MB95_02,  ISS1,    35,1,     14,     14,2,19950327,2106,-31.0512,  53.1505, 4911,   1097.5,   4.8011,  34.3902,2,  34.3896,2,    197.3,2,    200.9,2
   3175MB95_02,  ISS1,    35,1,     13,     13,2,19950327,2106,-31.0512,  53.1505, 4911,   1400.6,   3.3413,  34.4946,2,  34.4927,2,    175.4,2,    177.3,2
   3175MB95_02,  ISS1,    35,1,     12,     12,2,19950327,2106,-31.0512,  53.1505, 4911,   1598.7,   2.9064,  34.5851,2,  34.5846,2,    171.5,2,    173.1,2
   3175MB95_02,  ISS1,    35,1,     11,     11,2,19950327,2106,-31.0512,  53.1505, 4911,   1999.0,   2.4464,  34.6940,2,  34.6926,2,    173.3,2,    175.1,2
   3175MB95_02,  ISS1,    35,1,     10,     10,2,19950327,2106,-31.0512,  53.1505, 4911,   2299.8,   2.2643,  34.7343,2,  34.7330,2,    177.1,2,    179.4,2
   3175MB95_02,  ISS1,    35,1,      9,      9,2,19950327,2106,-31.0512,  53.1505, 4911,   2600.6,   2.0694,  34.7486,2,  34.7495,2,    178.2,2,    179.9,2
   3175MB95_02,  ISS1,    35,1,      8,      8,2,19950327,2106,-31.0512,  53.1505, 4911,   2900.1,   1.8618,  34.7461,2,  34.7442,2,    180.2,2,    182.4,2
   3175MB95_02,  ISS1,    35,1,      7,      7,2,19950327,2106,-31.0512,  53.1505, 4911,   3200.1,   1.5933,  34.7351,2,  34.7338,2,    186.0,2,    187.6,2
   3175MB95_02,  ISS1,    35,1,      6,      6,2,19950327,2106,-31.0512,  53.1505, 4911,   3499.9,   1.3383,  34.7264,2,  34.7241,2,    194.8,2,    196.7,2
   3175MB95_02,  ISS1,    35,1,      5,      5,2,19950327,2106,-31.0512,  53.1505, 4911,   3800.6,   1.1919,  34.7208,2,  34.7189,2,    200.4,2,    202.3,2
   3175MB95_02,  ISS1,    35,1,      4,      4,2,19950327,2106,-31.0512,  53.1505, 4911,   4101.1,   1.0900,  34.7158,2,  34.7148,2,    202.9,2,    203.2,2
   3175MB95_02,  ISS1,    35,1,      3,      3,2,19950327,2106,-31.0512,  53.1505, 4911,   4399.3,   1.0180,  34.7112,2,  34.7094,2,    205.9,2,    207.4,2
   3175MB95_02,  ISS1,    35,1,      2,      2,2,19950327,2106,-31.0512,  53.1505, 4911,   4697.9,   0.9943,  34.7084,2,  34.7075,2,    208.6,2,    206.8,2
   3175MB95_02,  ISS1,    35,1,      1,      1,2,19950327,2106,-31.0512,  53.1505, 4911,   4981.2,   0.9988,  34.7069,2,  34.7057,2,    211.5,2,    207.5,2