BOTTLE,20220630CCHSIOAMB
EXPOCODE,SECT_ID,STNNBR,CASTNO,SAMPNO,BTLNBR,BTLNBR_FLAG_W,DATE,TIME,LATITUDE,LONGITUDE,DEPTH,CTDPRS,CTDTMP,CTDSAL,CTDSAL_FLAG_W,SALNTY,SALNTY_FLAG_W,CTDOXY,CTDOXY_FLAG_W,OXYGEN,OXYGEN_FLAG_W
,,,,,,,,,,,,DBAR,ITS-90,PSS-78,,PSS-78,,UMOL/KG,,UMOL/KG,
   3175MB95_02,  IR03,    71,1,     24,     24,2,19950407,0341,-11.9517,  54.6403, 4560,      4.0,  28.9898,  34.7132,2,  34.7190,2,    194.9,2,    195.3,2
   3175MB95_02,  IR03,    71,1,     23,     23,2,19950407,0341,-11.9517,  54.6403, 4560,     34.9,  26.1292,  34.9901,2,  34.9976,2,    203.1,2,    204.3,2
   3175MB95_02,  IR03,    71,1,     22,     22,2,19950407,0341,-11.9517,  54.6403, 4560,     74.4,  20.0275,  35.2044,2,  35.2082,2,    141.0,2,    138.6,2
   3175MB95_02,  IR03,    71,1,     21,     21,2,19950407,0341,-11.9517,  54.6403, 4560,    124.1,  15.8024,  35.1998,2,  35.2169,3,    122.9,2,    121.9,2
   3175MB95_02,  IR03,    71,1,     20,     20,2,19950407,0341,-11.9517,  54.6403, 4560,    200.0,  13.2111,  35.0811,2,  35.0831,2,    138.0,2,    131.8,2
   3175MB95_02,  IR03,    71,1,     19,     19,2,19950407,0341,-11.9517,  54.6403, 4560,    274.2,  11.7556,  34.9918,2,  34.9901,2,    152.5,2,    147.6,2
   3175MB95_02,  IR03,    71,1,     18,     18,2,19950407,0341,-11.9517,  54.6403, 4560,    350.0,  10.4670,  34.8818,2,  34.8823,2,    162.8,2,    159.7,2
   3175MB95_02,  IR03,    71,1,     17,     17,2,19950407,0341,-11.9517,  54.6403, 4560,    449.3,   9.6775,  34.8475,2,  34.8478,2,    130.0,2,    126.8,2
   3175MB95_02,  IR03,    71,1,     16,     16,2,19950407,0341,-11.9517,  54.6403, 4560,    549.2,   8.4833,  34.7608,2,  34.7619,2,    133.5,2,    130.2,2
   3175MB95_02,  IR03,    71,1,     15,     15,2,19950407,0341,-11.9517,  54.6403, 4560,    647.8,   7.6528,  34.7248,2,  34.7265,2,    126.5,2,    123.2,2
   3175MB95_02,  IR03,    71,1,     14,     14,2,19950407,0341,-11.9517,  54.6403, 4560,    798.4,   6.7181,  34.7259,2,  34.7286,2,    110.4,2,    106.1,2
   3175MB95_02,  IR03,    71,1,     13,     13,2,19950407,0341,-11.9517,  54.6403, 4560,   1098.8,   5.3346,  34.7724,2,  34.7718,2,     97.2,2,     94.7,2
   3175MB95_02,  IR03,    71,1,     12,     12,2,19950407,0341,-11.9517,  54.6403, 4560,   1400.0,   4.1711,  34.7358,2,  34.7365,2,    120.2,2,    118.5,2
   3175MB95_02,  IR03,    71,1,     11,     11,2,19950407,0341,-11.9517,  54.6403, 4560,   1697.5,   3.2375,  34.7320,2,  34.7318,2,    135.6,2,    134.9,2
   3175MB95_02,  IR03,    71,1,     10,     10,2,19950407,0341,-11.9517,  54.6403, 4560,   1999.5,   2.5382,  34.7371,2,  34.7368,2,    147.3,2,    147.6,2
   3175MB95_02,  IR03,    71,1,      9,      9,2,19950407,0341,-11.9517,  54.6403, 4560,   2298.4,   2.1991,  34.7407,2,  34.7406,2,    151.7,2,    152.3,2
   3175MB95_02,  IR03,    71,1,      8,      8,2,19950407,0341,-11.9517,  54.6403, 4560,   2599.7,   1.9929,  34.7400,2,  34.7394,2,    155.4,2,    156.5,2
   3175MB95_02,  IR03,    71,1,      7,      7,2,19950407,0341,-11.9517,  54.6403, 4560,   2898.3,   1.8542,  34.7378,2,  34.7373,2,    158.8,2,    160.2,2
   3175MB95_02,  IR03,    71,1,      6,      6,2,19950407,0341,-11.9517,  54.6403, 4560,   3199.0,   1.7280,  34.7346,2,  34.7345,2,    163.1,2,    163.8,2
   3175MB95_02,  IR03,    71,1,      5,      5,2,19950407,0341,-11.9517,  54.6403, 4560,   3500.2,   1.6258,  34.7305,2,  34.7367,3,    168.5,2,   -999.0,9
   3175MB95_02,  IR03,    71,1,      4,      4,2,19950407,0341,-11.9517,  54.6403, 4560,   3797.1,   1.5207,  34.7263,2,  34.7249,2,    174.6,2,    175.1,2
   3175MB95_02,  IR03,    71,1,      3,      3,2,19950407,0341,-11.9517,  54.6403, 4560,   4053.2,   1.4280,  34.7225,2,  34.7213,2,    181.0,2,    181.3,2
   3175MB95_02,  IR03,    71,1,      2,      2,2,19950407,0341,-11.9517,  54.6403, 4560,   4403.5,   1.2972,  34.7171,2,  34.7169,2,    190.3,2,    188.8,2
   3175MB95_02,  IR03,    71,1,      1,      1,2,19950407,0341,-11.9517,  54.6403, 4560,   4688.5,   1.2574,  34.7048,2,  34.7150,4,    196.0,2,    192.9,2
   3175MB95_02,  IR03,    72,1,     24,     24,2,19950407,0856,-11.6625,  54.3053, 4580,      2.5,  29.0911,  34.8591,2,  34.8639,2,    192.1,2,    196.0,2
   3175MB95_02,  IR03,    72,1,     23,     23,2,19950407,0856,-11.6625,  54.3053, 4580,     46.5,  25.4496,  34.9710,2,  34.9826,2,    196.4,2,    203.5,2
   3175MB95_02,  IR03,    72,1,     22,     22,2,19950407,0856,-11.6625,  54.3053, 4580,    133.2,  16.1450,  35.2114,2,  35.2266,2,    119.8,2,    120.3,2
   3175MB95_02,  IR03,    72,1,     21,     21,2,19950407,0856,-11.6625,  54.3053, 4580,    202.2,  12.5134,  35.0678,2,  35.0695,2,    160.0,2,    151.1,2
   3175MB95_02,  IR03,    72,1,     20,     20,2,19950407,0856,-11.6625,  54.3053, 4580,    299.4,  11.0078,  34.9356,2,  34.9350,2,    151.3,2,    147.7,2
   3175MB95_02,  IR03,    72,1,     19,     19,2,19950407,0856,-11.6625,  54.3053, 4580,    372.3,  10.1290,  34.8463,2,  34.8442,2,    161.5,2,    159.0,2
   3175MB95_02,  IR03,    72,1,     18,     18,2,19950407,0856,-11.6625,  54.3053, 4580,    498.1,   8.7859,  34.7662,2,  34.7661,2,    138.5,2,    137.6,2
   3175MB95_02,  IR03,    72,1,     17,     17,2,19950407,0856,-11.6625,  54.3053, 4580,    599.9,   7.9885,  34.7589,2,  34.7580,2,    119.5,2,    120.3,2
   3175MB95_02,  IR03,    72,1,     16,     16,2,19950407,0856,-11.6625,  54.3053, 4580,    781.2,   6.8302,  34.7327,2,  34.7324,2,    110.0,2,    108.3,2
   3175MB95_02,  IR03,    72,1,     15,     15,2,19950407,0856,-11.6625,  54.3053, 4580,    998.3,   5.6050,  34.7579,2,  34.7583,2,    102.3,2,     99.5,2
   3175MB95_02,  IR03,    72,1,     14,     14,2,19950407,0856,-11.6625,  54.3053, 4580,   1199.3,   4.5915,  34.7446,2,  34.7450,2,    110.7,2,    108.3,2
   3175MB95_02,  IR03,    72,1,     13,     13,2,19950407,0856,-11.6625,  54.3053, 4580,   1398.5,   3.7624,  34.7228,2,  34.7233,2,    129.1,2,    128.0,2
   3175MB95_02,  IR03,    72,1,     12,     12,2,19950407,0856,-11.6625,  54.3053, 4580,   1600.6,   3.2633,  34.7274,2,  34.7311,2,    137.4,2,    135.3,2
   3175MB95_02,  IR03,    72,1,     11,     11,2,19950407,0856,-11.6625,  54.3053, 4580,   1903.0,   2.6041,  34.7249,2,  34.7251,2,    150.7,2,    151.1,2
   3175MB95_02,  IR03,    72,1,     10,     10,2,19950407,0856,-11.6625,  54.3053, 4580,   2099.8,   2.3744,  34.7344,2,  34.7351,2,    151.8,2,    152.7,2
   3175MB95_02,  IR03,    72,1,      9,      9,2,19950407,0856,-11.6625,  54.3053, 4580,   2400.7,   2.1273,  34.7411,2,  34.7414,2,    152.8,2,    153.6,2
   3175MB95_02,  IR03,    72,1,      8,      8,2,19950407,0856,-11.6625,  54.3053, 4580,   2699.6,   1.9391,  34.7404,2,  34.7400,2,    156.0,2,    157.4,2
   3175MB95_02,  IR03,    72,1,      7,      7,2,19950407,0856,-11.6625,  54.3053, 4580,   2987.2,   1.8138,  34.7390,2,  34.7372,2,    159.0,2,    160.3,2
   3175MB95_02,  IR03,    72,1,      6,      6,2,19950407,0856,-11.6625,  54.3053, 4580,   3300.0,   1.6984,  34.7343,2,  34.7336,2,    164.1,2,    165.4,2
   3175MB95_02,  IR03,    72,1,      5,      5,2,19950407,0856,-11.6625,  54.3053, 4580,   3596.7,   1.5882,  34.7296,2,  34.7288,2,    169.8,2,    170.8,2
   3175MB95_02,  IR03,    72,1,      4,      4,2,19950407,0856,-11.6625,  54.3053, 4580,   3900.6,   1.5073,  34.7263,2,  34.7273,2,    175.5,2,    176.2,2
   3175MB95_02,  IR03,    72,1,      3,      3,2,19950407,0856,-11.6625,  54.3053, 4580,   4199.7,   1.4441,  34.7228,2,  34.7216,2,    181.2,2,    181.3,2
   3175MB95_02,  IR03,    72,1,      2,      2,2,19950407,0856,-11.6625,  54.3053, 4580,   4499.4,   1.2719,  34.7167,2,  34.7151,2,    191.8,2,    191.2,2
   3175MB95_02,  IR03,    72,1,      1,      1,2,19950407,0856,-11.6625,  54.3053, 4580,   4677.4,   1.2680,  34.7159,2,  34.7143,2,    194.7,2,    192.3,2
   3175MB95_02,  IR03,    73,1,     24,     24,2,19950407,1425,-11.3400,  53.9173, 4790,      3.5,  28.7775,  34.7153,2,  34.7199,2,    196.1,2,    195.9,2
   3175MB95_02,  IR03,    73,1,     23,     23,2,19950407,1425,-11.3400,  53.9173, 4790,     28.5,  23.3274,  35.1007,2,  35.1278,3,    185.7,2,    198.6,3
   3175MB95_02,  IR03,    73,1,     22,     22,2,19950407,1425,-11.3400,  53.9173, 4790,     72.6,  18.5127,  35.3303,2,  35.3357,2,    142.5,2,    143.0,2
   3175MB95_02,  IR03,    73,1,     21,     21,2,19950407,1425,-11.3400,  53.9173, 4790,    123.0,  15.5478,  35.1356,2,  35.1423,2,    110.8,2,    106.0,2
   3175MB95_02,  IR03,    73,1,     20,     20,2,19950407,1425,-11.3400,  53.9173, 4790,    249.9,  12.7006,  35.0573,2,  35.0575,2,    144.9,2,    140.8,2
   3175MB95_02,  IR03,    73,1,     19,     19,2,19950407,1425,-11.3400,  53.9173, 4790,    430.0,   9.9590,  34.8387,2,  34.8414,2,    159.8,2,    158.0,2
   3175MB95_02,  IR03,    73,1,     18,     18,2,19950407,1425,-11.3400,  53.9173, 4790,    548.0,   8.9931,  34.8196,2,  34.8216,2,    117.4,2,    115.1,2
   3175MB95_02,  IR03,    73,1,     17,     17,2,19950407,1425,-11.3400,  53.9173, 4790,    750.8,   7.0328,  34.7510,2,  34.7502,2,    107.2,2,    105.6,2
   3175MB95_02,  IR03,    73,1,     16,     16,2,19950407,1425,-11.3400,  53.9173, 4790,    998.5,   5.9439,  34.7746,2,  34.7757,2,     95.6,2,     93.3,2
   3175MB95_02,  IR03,    73,1,     15,     15,2,19950407,1425,-11.3400,  53.9173, 4790,   1249.8,   4.6085,  34.7373,2,  34.7389,2,    112.6,2,    111.5,2
   3175MB95_02,  IR03,    73,1,     14,     14,2,19950407,1425,-11.3400,  53.9173, 4790,   1500.4,   3.7285,  34.7285,2,  34.7305,2,    128.5,2,    127.5,2
   3175MB95_02,  IR03,    73,1,     13,     13,2,19950407,1425,-11.3400,  53.9173, 4790,   1746.4,   2.9228,  34.7240,2,  34.7247,2,    144.8,2,    144.7,2
   3175MB95_02,  IR03,    73,1,     12,     12,2,19950407,1425,-11.3400,  53.9173, 4790,   1999.9,   2.4627,  34.7330,2,  34.7336,2,    150.3,2,    151.0,2
   3175MB95_02,  IR03,    73,1,     11,     11,2,19950407,1425,-11.3400,  53.9173, 4790,   2251.1,   2.1541,  34.7390,2,  34.7408,2,    153.7,2,    154.8,2
   3175MB95_02,  IR03,    73,1,     10,     10,2,19950407,1425,-11.3400,  53.9173, 4790,   2501.6,   1.9931,  34.7412,2,  34.7436,2,    155.2,2,    156.5,2
   3175MB95_02,  IR03,    73,1,      9,      9,2,19950407,1425,-11.3400,  53.9173, 4790,   2744.7,   1.8687,  34.7403,2,  34.7401,2,    157.3,2,    158.6,2
   3175MB95_02,  IR03,    73,1,      8,      8,2,19950407,1425,-11.3400,  53.9173, 4790,   2995.9,   1.7848,  34.7377,2,  34.7366,2,    160.6,2,    162.0,2
   3175MB95_02,  IR03,    73,1,      7,      7,2,19950407,1425,-11.3400,  53.9173, 4790,   3248.9,   1.6933,  34.7340,2,  34.7346,2,    164.4,2,    165.8,2
   3175MB95_02,  IR03,    73,1,      6,      6,2,19950407,1425,-11.3400,  53.9173, 4790,   3498.1,   1.6112,  34.7308,2,  34.7307,2,    168.5,2,    169.8,2
   3175MB95_02,  IR03,    73,1,      5,      5,2,19950407,1425,-11.3400,  53.9173, 4790,   3750.1,   1.5251,  34.7272,2,  34.7281,2,    174.2,2,    174.9,2
   3175MB95_02,  IR03,    73,1,      4,      4,2,19950407,1425,-11.3400,  53.9173, 4790,   3996.3,   1.3990,  34.7225,2,  34.7221,2,    181.6,2,    182.3,2
   3175MB95_02,  IR03,    73,1,      3,      3,2,19950407,1425,-11.3400,  53.9173, 4790,   4296.2,   1.2208,  34.7156,2,  34.7148,2,    192.6,2,    192.7,2
   3175MB95_02,  IR03,    73,1,      2,      2,2,19950407,1425,-11.3400,  53.9173, 4790,   4599.9,   1.1911,  34.7137,2,  34.7135,2,    196.4,2,    195.9,2
   3175MB95_02,  IR03,    73,1,      1,      1,2,19950407,1425,-11.3400,  53.9173, 4790,   4877.8,   1.1650,  34.7114,2,  34.7120,2,    201.7,2,    199.0,2
   3175MB95_02,  IR03,    74,1,     24,     24,2,19950407,1956,-11.0295,  53.5588, 4771,      3.8,  28.7150,  34.8398,2,  34.8413,2,    196.8,2,    194.6,2
   3175MB95_02,  IR03,    74,1,     23,     23,2,19950407,1956,-11.0295,  53.5588, 4771,     50.4,  23.7555,  35.0992,2,  35.1031,2,    203.1,2,    203.9,2
   3175MB95_02,  IR03,    74,1,     22,     22,2,19950407,1956,-11.0295,  53.5588, 4771,     99.1,  19.6283,  35.3114,2,  35.3124,2,    148.7,2,    146.7,2
   3175MB95_02,  IR03,    74,1,     21,     21,2,19950407,1956,-11.0295,  53.5588, 4771,    174.1,  14.3362,  35.1084,2,  35.1102,2,    117.6,2,    109.6,2
   3175MB95_02,  IR03,    74,1,     20,     20,2,19950407,1956,-11.0295,  53.5588, 4771,    274.2,  11.5300,  34.9763,2,  34.9740,2,    164.7,2,    159.1,2
   3175MB95_02,  IR03,    74,1,     19,     19,2,19950407,1956,-11.0295,  53.5588, 4771,    374.4,  10.1500,  34.8431,2,  34.8408,2,    170.7,2,    167.0,2
   3175MB95_02,  IR03,    74,1,     18,     18,2,19950407,1956,-11.0295,  53.5588, 4771,    474.5,   8.9441,  34.7550,2,  34.7554,2,    155.2,2,    152.5,2
   3175MB95_02,  IR03,    74,1,     17,     17,2,19950407,1956,-11.0295,  53.5588, 4771,    572.5,   8.0610,  34.7595,2,  34.7592,2,    126.4,2,    124.0,2
   3175MB95_02,  IR03,    74,1,     16,     16,2,19950407,1956,-11.0295,  53.5588, 4771,    699.0,   7.5966,  34.8129,2,  34.8120,2,     93.2,2,     89.5,2
   3175MB95_02,  IR03,    74,1,     15,     15,2,19950407,1956,-11.0295,  53.5588, 4771,    848.2,   6.5168,  34.7610,2,  34.7614,2,     97.0,2,     95.0,2
   3175MB95_02,  IR03,    74,1,     14,     14,2,19950407,1956,-11.0295,  53.5588, 4771,    999.7,   5.7837,  34.7783,2,  34.7782,2,     94.4,2,     92.4,2
   3175MB95_02,  IR03,    74,1,     13,     13,2,19950407,1956,-11.0295,  53.5588, 4771,   1247.8,   4.7912,  34.7574,2,  34.7580,2,    105.7,2,    104.0,2
   3175MB95_02,  IR03,    74,1,     12,     12,2,19950407,1956,-11.0295,  53.5588, 4771,   1493.3,   3.7081,  34.7267,2,  34.7266,2,    129.1,2,    128.2,2
   3175MB95_02,  IR03,    74,1,     11,     11,2,19950407,1956,-11.0295,  53.5588, 4771,   1789.3,   2.8265,  34.7197,2,  34.7190,2,    148.1,2,    147.6,2
   3175MB95_02,  IR03,    74,1,     10,     10,2,19950407,1956,-11.0295,  53.5588, 4771,   2083.9,   2.3933,  34.7412,2,  34.7421,2,    149.1,2,    149.7,2
   3175MB95_02,  IR03,    74,1,      9,      9,2,19950407,1956,-11.0295,  53.5588, 4771,   2398.4,   2.1247,  34.7410,2,  34.7399,2,    153.9,2,    154.9,2
   3175MB95_02,  IR03,    74,1,      8,      8,2,19950407,1956,-11.0295,  53.5588, 4771,   2652.1,   1.9669,  34.7450,2,  34.7434,2,    153.3,2,    154.4,2
   3175MB95_02,  IR03,    74,1,      7,      7,2,19950407,1956,-11.0295,  53.5588, 4771,   2998.0,   1.8238,  34.7395,2,  34.7376,2,    158.2,2,    159.6,2
   3175MB95_02,  IR03,    74,1,      6,      6,2,19950407,1956,-11.0295,  53.5588, 4771,   3296.1,   1.6829,  34.7337,2,  34.7321,2,    164.5,2,    165.6,2
   3175MB95_02,  IR03,    74,1,      5,      5,2,19950407,1956,-11.0295,  53.5588, 4771,   3593.0,   1.5539,  34.7287,2,  34.7269,2,    171.2,2,    172.4,2
   3175MB95_02,  IR03,    74,1,      4,      4,2,19950407,1956,-11.0295,  53.5588, 4771,   3894.1,   1.4727,  34.7251,2,  34.7235,2,    177.0,2,    177.8,2
   3175MB95_02,  IR03,    74,1,      3,      3,2,19950407,1956,-11.0295,  53.5588, 4771,   4087.8,   1.3928,  34.7218,2,  34.7126,4,    182.3,2,    183.4,2
   3175MB95_02,  IR03,    74,1,      2,      2,2,19950407,1956,-11.0295,  53.5588, 4771,   4497.8,   1.2214,  34.7148,2,  34.7142,2,    194.0,2,    193.9,2
   3175MB95_02,  IR03,    74,1,      1,      1,2,19950407,1956,-11.0295,  53.5588, 4771,   4833.6,   1.1349,  34.7109,2,  34.7122,2,    202.0,2,    200.1,2
   3175MB95_02,  IR03,    75,1,     24,     24,2,19950408,0146,-10.7303,  53.1987, 4738,      3.9,  28.6187,  34.8331,2,  34.8350,2,    195.4,2,    196.6,2
   3175MB95_02,  IR03,    75,1,     23,     23,2,19950408,0146,-10.7303,  53.1987, 4738,     34.4,  25.0245,  35.0558,2,  35.0558,2,    209.8,2,    209.9,2
   3175MB95_02,  IR03,    75,1,     22,     22,2,19950408,0146,-10.7303,  53.1987, 4738,     73.9,  22.1286,  35.1166,2,  35.1708,4,    166.3,2,    168.6,2
   3175MB95_02,  IR03,    75,1,     21,     21,2,19950408,0146,-10.7303,  53.1987, 4738,    100.1,  19.5041,  35.2191,2,  35.2238,2,    128.5,2,    128.0,2
   3175MB95_02,  IR03,    75,1,     20,     20,2,19950408,0146,-10.7303,  53.1987, 4738,    199.5,  13.3625,  35.0782,2,  35.0798,2,    131.2,2,    122.5,2
   3175MB95_02,  IR03,    75,1,     19,     19,2,19950408,0146,-10.7303,  53.1987, 4738,    298.9,  11.1616,  34.9478,2,  34.9468,2,    171.9,2,    169.0,2
   3175MB95_02,  IR03,    75,1,     18,     18,2,19950408,0146,-10.7303,  53.1987, 4738,    398.7,   9.7274,  34.8120,2,  34.8066,2,    163.4,2,    160.5,2
   3175MB95_02,  IR03,    75,1,     17,     17,2,19950408,0146,-10.7303,  53.1987, 4738,    499.3,   8.4625,  34.7482,2,  34.7481,2,    144.1,2,    141.8,2
   3175MB95_02,  IR03,    75,1,     16,     16,2,19950408,0146,-10.7303,  53.1987, 4738,    598.6,   7.6394,  34.7466,2,  34.7471,2,    120.9,2,    118.9,2
   3175MB95_02,  IR03,    75,1,     15,     15,2,19950408,0146,-10.7303,  53.1987, 4738,    787.6,   6.6782,  34.7910,2,  34.7901,2,     92.3,2,     90.2,2
   3175MB95_02,  IR03,    75,1,     14,     14,2,19950408,0146,-10.7303,  53.1987, 4738,    899.8,   5.9494,  34.7654,2,  34.7655,2,     98.2,2,     95.8,2
   3175MB95_02,  IR03,    75,1,     13,     13,2,19950408,0146,-10.7303,  53.1987, 4738,   1198.1,   4.8324,  34.7665,2,  34.7664,2,    104.6,2,    101.7,2
   3175MB95_02,  IR03,    75,1,     12,     12,2,19950408,0146,-10.7303,  53.1987, 4738,   1499.6,   3.6984,  34.7152,2,  34.7142,2,    132.4,2,    131.8,2
   3175MB95_02,  IR03,    75,1,     11,     11,2,19950408,0146,-10.7303,  53.1987, 4738,   1797.1,   2.8665,  34.7311,2,  34.7295,2,    143.7,2,    144.0,2
   3175MB95_02,  IR03,    75,1,     10,     10,2,19950408,0146,-10.7303,  53.1987, 4738,   2095.2,   2.3469,  34.7427,2,  34.7409,2,    148.9,2,    149.5,2
   3175MB95_02,  IR03,    75,1,      9,      9,2,19950408,0146,-10.7303,  53.1987, 4738,   2396.8,   2.1406,  34.7446,2,  34.7433,2,    151.7,2,    152.6,2
   3175MB95_02,  IR03,    75,1,      8,      8,2,19950408,0146,-10.7303,  53.1987, 4738,   2698.3,   1.9835,  34.7431,2,  34.7418,2,    154.1,2,    155.3,2
   3175MB95_02,  IR03,    75,1,      7,      7,2,19950408,0146,-10.7303,  53.1987, 4738,   2998.8,   1.8677,  34.7407,2,  34.7401,2,    156.9,2,    158.3,2
   3175MB95_02,  IR03,    75,1,      6,      6,2,19950408,0146,-10.7303,  53.1987, 4738,   3298.4,   1.7478,  34.7356,2,  34.7406,3,    162.4,2,    163.8,2
   3175MB95_02,  IR03,    75,1,      5,      5,2,19950408,0146,-10.7303,  53.1987, 4738,   3588.8,   1.6010,  34.7301,2,  34.7291,2,    169.0,2,    170.3,2
   3175MB95_02,  IR03,    75,1,      4,      4,2,19950408,0146,-10.7303,  53.1987, 4738,   3898.1,   1.4526,  34.7245,2,  34.7229,2,    178.6,2,    179.3,2
   3175MB95_02,  IR03,    75,1,      3,      3,2,19950408,0146,-10.7303,  53.1987, 4738,   4197.8,   1.2062,  34.7156,2,  34.7139,2,    192.0,2,    192.8,2
   3175MB95_02,  IR03,    75,1,      2,      2,2,19950408,0146,-10.7303,  53.1987, 4738,   4466.7,   1.1037,  34.7116,2,  34.7107,2,    199.1,2,    199.4,2
   3175MB95_02,  IR03,    75,1,      1,      1,2,19950408,0146,-10.7303,  53.1987, 4738,   4787.2,   1.1179,  34.7107,2,  34.7099,2,    202.6,2,    200.9,2