BOTTLE,20220630CCHSIOAMB
EXPOCODE,SECT_ID,STNNBR,CASTNO,SAMPNO,BTLNBR,BTLNBR_FLAG_W,DATE,TIME,LATITUDE,LONGITUDE,DEPTH,CTDPRS,CTDTMP,CTDSAL,CTDSAL_FLAG_W,SALNTY,SALNTY_FLAG_W,CTDOXY,CTDOXY_FLAG_W,OXYGEN,OXYGEN_FLAG_W
,,,,,,,,,,,,DBAR,ITS-90,PSS-78,,PSS-78,,UMOL/KG,,UMOL/KG,
   3175MB95_02,  IR03,    96,1,     24,     24,2,19950412,0732, -3.6500,  54.9997, 1831,      1.3,  29.9296,  34.9304,2,-999.0000,9,    193.8,2,   -999.0,9
   3175MB95_02,  IR03,    96,1,     23,     23,2,19950412,0732, -3.6500,  54.9997, 1831,     24.3,  29.6596,  35.1830,2,  35.1902,2,    195.6,2,    194.1,2
   3175MB95_02,  IR03,    96,1,     22,     22,2,19950412,0732, -3.6500,  54.9997, 1831,     49.6,  28.3904,  35.1760,2,  35.2010,3,    190.2,2,    191.1,2
   3175MB95_02,  IR03,    96,1,     21,     21,2,19950412,0732, -3.6500,  54.9997, 1831,     74.8,  20.8886,  35.2800,2,  35.2917,2,    128.5,2,    127.6,2
   3175MB95_02,  IR03,    96,1,     20,     20,2,19950412,0732, -3.6500,  54.9997, 1831,     99.3,  16.9856,  35.2374,2,  35.2442,2,    125.3,2,    119.8,2
   3175MB95_02,  IR03,    96,1,     19,     19,2,19950412,0732, -3.6500,  54.9997, 1831,    150.3,  14.6004,  35.1887,2,  35.1892,2,    131.4,2,    125.6,2
   3175MB95_02,  IR03,    96,1,     18,     18,2,19950412,0732, -3.6500,  54.9997, 1831,    195.2,  13.3270,  35.1306,2,  35.1351,2,    142.8,2,    135.3,2
   3175MB95_02,  IR03,    96,1,     17,     17,2,19950412,0732, -3.6500,  54.9997, 1831,    271.7,  11.4227,  34.9931,2,  34.9936,2,    137.4,2,    132.4,2
   3175MB95_02,  IR03,    96,1,     16,     16,2,19950412,0732, -3.6500,  54.9997, 1831,    347.8,  10.5825,  34.9428,2,  34.9429,2,    135.9,2,    131.0,2
   3175MB95_02,  IR03,    96,1,     15,     15,2,19950412,0732, -3.6500,  54.9997, 1831,    421.4,   9.9012,  34.8914,2,  34.8902,2,    123.6,2,    119.3,2
   3175MB95_02,  IR03,    96,1,     14,     14,2,19950412,0732, -3.6500,  54.9997, 1831,    481.3,   9.2854,  34.8698,2,  34.8734,2,    107.8,2,    105.6,2
   3175MB95_02,  IR03,    96,1,     13,     13,2,19950412,0732, -3.6500,  54.9997, 1831,    598.3,   8.4535,  34.8811,2,  34.8793,2,     86.6,2,     83.9,2
   3175MB95_02,  IR03,    96,1,     12,     12,2,19950412,0732, -3.6500,  54.9997, 1831,    700.8,   7.6078,  34.9079,2,  34.9083,2,     70.8,2,     69.8,2
   3175MB95_02,  IR03,    96,1,     11,     11,2,19950412,0732, -3.6500,  54.9997, 1831,    798.5,   7.1955,  34.9373,2,  34.9360,2,     64.6,2,     56.6,2
   3175MB95_02,  IR03,    96,1,     10,     10,2,19950412,0732, -3.6500,  54.9997, 1831,    897.3,   6.8880,  34.9328,2,  34.9360,2,     65.9,2,     62.6,2
   3175MB95_02,  IR03,    96,1,      9,      9,2,19950412,0732, -3.6500,  54.9997, 1831,    998.1,   6.4636,  34.8916,2,  34.8917,2,     71.5,2,     68.8,2
   3175MB95_02,  IR03,    96,1,      8,      8,2,19950412,0732, -3.6500,  54.9997, 1831,   1098.9,   5.8939,  34.9052,2,  34.9067,2,     72.8,2,     70.3,2
   3175MB95_02,  IR03,    96,1,      7,      7,2,19950412,0732, -3.6500,  54.9997, 1831,   1199.0,   5.3110,  34.8691,2,  34.8697,2,     82.9,2,     79.3,2
   3175MB95_02,  IR03,    96,1,      6,      6,2,19950412,0732, -3.6500,  54.9997, 1831,   1298.3,   4.8210,  34.8314,2,  34.8308,2,     90.8,2,     88.2,2
   3175MB95_02,  IR03,    96,1,      5,      5,2,19950412,0732, -3.6500,  54.9997, 1831,   1398.9,   4.4558,  34.8158,2,  34.8154,2,     97.3,2,     94.5,2
   3175MB95_02,  IR03,    96,1,      4,      4,2,19950412,0732, -3.6500,  54.9997, 1831,   1497.0,   4.2065,  34.8072,2,  34.8067,2,    103.2,2,     99.8,2
   3175MB95_02,  IR03,    96,1,      3,      3,2,19950412,0732, -3.6500,  54.9997, 1831,   1598.3,   3.8307,  34.7936,2,  34.7936,2,    112.0,2,    107.6,2
   3175MB95_02,  IR03,    96,1,      2,      2,2,19950412,0732, -3.6500,  54.9997, 1831,   1748.9,   3.2833,  34.7785,2,  34.7781,2,    124.8,2,    119.9,2
   3175MB95_02,  IR03,    96,1,      1,      1,2,19950412,0732, -3.6500,  54.9997, 1831,   1888.4,   2.7995,  34.7660,2,  34.7659,2,    136.9,2,    131.6,2
   3175MB95_02,  IR03,    97,1,     24,     24,2,19950412,1108, -3.1373,  54.9997, 2480,      2.2,  31.0061,  35.1945,2,  35.1966,2,    190.5,2,    207.7,3
   3175MB95_02,  IR03,    97,1,     23,     23,2,19950412,1108, -3.1373,  54.9997, 2480,     51.3,  29.0470,  35.1947,2,  35.2167,3,    193.0,2,    197.8,2
   3175MB95_02,  IR03,    97,1,     22,     22,2,19950412,1108, -3.1373,  54.9997, 2480,    101.0,  18.4192,  35.2604,2,  35.2651,2,    119.3,2,    115.6,2
   3175MB95_02,  IR03,    97,1,     21,     21,2,19950412,1108, -3.1373,  54.9997, 2480,    200.3,  13.7338,  35.1564,2,  35.1597,2,    132.9,2,    127.0,2
   3175MB95_02,  IR03,    97,1,     20,     20,2,19950412,1108, -3.1373,  54.9997, 2480,    298.8,  11.6616,  35.0156,2,  35.0146,2,    150.2,2,    144.6,2
   3175MB95_02,  IR03,    97,1,     19,     19,2,19950412,1108, -3.1373,  54.9997, 2480,    393.3,  10.4052,  34.9321,2,  34.9383,2,    130.5,2,    127.6,2
   3175MB95_02,  IR03,    97,1,     18,     18,2,19950412,1108, -3.1373,  54.9997, 2480,    499.0,   9.7155,  34.9331,2,  34.9300,2,    105.8,2,    101.9,2
   3175MB95_02,  IR03,    97,1,     17,     17,2,19950412,1108, -3.1373,  54.9997, 2480,    599.6,   8.5633,  34.8740,2,  34.8783,2,     90.6,2,     88.6,2
   3175MB95_02,  IR03,    97,1,     16,     16,2,19950412,1108, -3.1373,  54.9997, 2480,    674.8,   7.8356,  34.9193,2,  34.9374,4,     68.2,2,     67.3,2
   3175MB95_02,  IR03,    97,1,     15,     15,2,19950412,1108, -3.1373,  54.9997, 2480,    798.2,   7.6817,  35.0117,2,  35.0140,2,     54.2,2,     53.6,2
   3175MB95_02,  IR03,    97,1,     14,     14,2,19950412,1108, -3.1373,  54.9997, 2480,   1000.4,   6.8360,  34.9665,2,  34.9694,2,     59.4,2,     58.6,2
   3175MB95_02,  IR03,    97,1,     13,     13,2,19950412,1108, -3.1373,  54.9997, 2480,   1196.8,   5.9469,  34.9306,2,  34.9312,2,     67.3,2,     65.5,2
   3175MB95_02,  IR03,    97,1,     12,     12,2,19950412,1108, -3.1373,  54.9997, 2480,   1399.0,   4.4814,  34.8061,2,  34.8066,2,     93.9,2,     91.8,2
   3175MB95_02,  IR03,    97,1,     11,     11,2,19950412,1108, -3.1373,  54.9997, 2480,   1600.6,   3.7128,  34.7866,2,  34.7875,2,    111.9,2,    109.7,2
   3175MB95_02,  IR03,    97,1,     10,     10,2,19950412,1108, -3.1373,  54.9997, 2480,   1799.6,   3.1295,  34.7747,2,  34.7754,2,    125.2,2,    123.5,2
   3175MB95_02,  IR03,    97,1,      9,      9,2,19950412,1108, -3.1373,  54.9997, 2480,   1998.8,   2.6846,  34.7642,2,  34.7664,2,    136.7,2,    134.7,2
   3175MB95_02,  IR03,    97,1,      8,      8,2,19950412,1108, -3.1373,  54.9997, 2480,   2150.7,   2.4547,  34.7586,2,  34.7578,2,    142.1,2,    140.2,2
   3175MB95_02,  IR03,    97,1,      7,      7,2,19950412,1108, -3.1373,  54.9997, 2480,   2198.0,   2.4402,  34.7582,2,  34.7617,2,    143.2,2,    140.9,2
   3175MB95_02,  IR03,    97,1,      6,      6,2,19950412,1108, -3.1373,  54.9997, 2480,   2250.5,   2.3055,  34.7544,2,  34.7547,2,    146.5,2,    144.1,2
   3175MB95_02,  IR03,    97,1,      5,      5,2,19950412,1108, -3.1373,  54.9997, 2480,   2299.6,   2.2578,  34.7533,2,  34.7545,2,    148.2,2,    145.4,2
   3175MB95_02,  IR03,    97,1,      4,      4,2,19950412,1108, -3.1373,  54.9997, 2480,   2349.9,   2.2182,  34.7523,2,  34.7530,2,    149.4,2,    146.4,2
   3175MB95_02,  IR03,    97,1,      3,      3,2,19950412,1108, -3.1373,  54.9997, 2480,   2400.8,   2.1868,  34.7508,2,  34.7511,2,    151.1,2,    147.9,2
   3175MB95_02,  IR03,    97,1,      2,      2,2,19950412,1108, -3.1373,  54.9997, 2480,   2445.0,   2.1405,  34.7490,2,  34.7515,2,    153.2,2,    149.5,2
   3175MB95_02,  IR03,    97,1,      1,      1,2,19950412,1108, -3.1373,  54.9997, 2480,   2507.9,   2.0319,  34.7443,2,  34.7442,2,    157.1,2,    153.4,2
   3175MB95_02,  IR03,    98,1,     24,     24,2,19950412,1501, -2.6185,  55.0010, 4001,      3.2,  29.9990,  35.1902,2,  35.1941,2,    192.2,2,    193.4,2
   3175MB95_02,  IR03,    98,1,     23,     23,2,19950412,1501, -2.6185,  55.0010, 4001,     80.3,  26.3019,  35.2929,2,  35.3286,4,    184.2,2,    194.0,2
   3175MB95_02,  IR03,    98,1,     22,     22,2,19950412,1501, -2.6185,  55.0010, 4001,    149.2,  14.9503,  35.2028,2,  35.2111,2,    132.9,2,    128.3,2
   3175MB95_02,  IR03,    98,1,     21,     21,2,19950412,1501, -2.6185,  55.0010, 4001,    201.6,  12.6654,  35.0900,2,  35.0918,2,    140.3,2,    131.2,2
   3175MB95_02,  IR03,    98,1,     20,     20,2,19950412,1501, -2.6185,  55.0010, 4001,    313.4,  11.1953,  34.9867,2,  34.9960,3,    147.5,2,    142.3,2
   3175MB95_02,  IR03,    98,1,     19,     19,2,19950412,1501, -2.6185,  55.0010, 4001,    397.7,  10.5000,  34.9594,2,  34.9646,2,    135.0,2,    131.0,2
   3175MB95_02,  IR03,    98,1,     18,     18,2,19950412,1501, -2.6185,  55.0010, 4001,    498.7,   9.7766,  34.9586,2,  34.9610,2,     93.9,2,     90.4,2
   3175MB95_02,  IR03,    98,1,     17,     17,2,19950412,1501, -2.6185,  55.0010, 4001,    599.7,   8.9479,  34.9575,2,  34.9626,2,     79.0,2,     77.3,2
   3175MB95_02,  IR03,    98,1,     16,     16,2,19950412,1501, -2.6185,  55.0010, 4001,    698.5,   8.4754,  35.0497,2,  35.0515,2,     55.3,2,     54.1,2
   3175MB95_02,  IR03,    98,1,     15,     15,2,19950412,1501, -2.6185,  55.0010, 4001,    799.5,   7.7384,  35.0002,2,  35.0025,2,     52.1,2,     52.4,2
   3175MB95_02,  IR03,    98,1,     14,     14,2,19950412,1501, -2.6185,  55.0010, 4001,    878.3,   7.5701,  35.0160,2,  35.0217,3,     50.1,2,     49.4,2
   3175MB95_02,  IR03,    98,1,     13,     13,2,19950412,1501, -2.6185,  55.0010, 4001,   1099.0,   6.6702,  34.9797,2,  34.9864,3,     57.7,2,     56.1,2
   3175MB95_02,  IR03,    98,1,     12,     12,2,19950412,1501, -2.6185,  55.0010, 4001,   1299.1,   5.4220,  34.8653,2,  34.8683,2,     79.8,2,     76.2,2
   3175MB95_02,  IR03,    98,1,     11,     11,2,19950412,1501, -2.6185,  55.0010, 4001,   1499.2,   4.1395,  34.8032,2,  34.8049,2,    101.9,2,    100.4,2
   3175MB95_02,  IR03,    98,1,     10,     10,2,19950412,1501, -2.6185,  55.0010, 4001,   1699.5,   3.4062,  34.7851,2,  34.7876,2,    119.2,2,    118.0,2
   3175MB95_02,  IR03,    98,1,      9,      9,2,19950412,1501, -2.6185,  55.0010, 4001,   1900.5,   2.8143,  34.7687,2,  34.7729,2,    132.3,2,    131.9,2
   3175MB95_02,  IR03,    98,1,      8,      8,2,19950412,1501, -2.6185,  55.0010, 4001,   2099.7,   2.4838,  34.7614,2,  34.7623,2,    139.1,7,    138.9,2
   3175MB95_02,  IR03,    98,1,      7,      7,2,19950412,1501, -2.6185,  55.0010, 4001,   2299.5,   2.2537,  34.7546,2,  34.7573,2,    144.8,7,    145.0,2
   3175MB95_02,  IR03,    98,1,      6,      6,2,19950412,1501, -2.6185,  55.0010, 4001,   2497.3,   2.0619,  34.7470,2,  34.7481,2,    150.5,7,    150.8,2
   3175MB95_02,  IR03,    98,1,      5,      5,2,19950412,1501, -2.6185,  55.0010, 4001,   2699.0,   1.9790,  34.7419,2,  34.7432,2,    155.1,7,    155.3,2
   3175MB95_02,  IR03,    98,1,      4,      4,2,19950412,1501, -2.6185,  55.0010, 4001,   2997.8,   1.8385,  34.7361,2,  34.7393,2,    161.5,7,    161.5,2
   3175MB95_02,  IR03,    98,1,      3,      3,2,19950412,1501, -2.6185,  55.0010, 4001,   3295.8,   1.6975,  34.7318,2,  34.7326,2,    165.7,7,    166.6,2
   3175MB95_02,  IR03,    98,1,      2,      2,2,19950412,1501, -2.6185,  55.0010, 4001,   3698.4,   1.5757,  34.7278,2,  34.7282,2,    170.9,7,    171.8,2
   3175MB95_02,  IR03,    98,1,      1,      1,2,19950412,1501, -2.6185,  55.0010, 4001,   4062.3,   1.4570,  34.7238,2,  34.7284,3,    177.6,7,    175.3,2
   3175MB95_02,  IR03,    99,1,     24,     24,2,19950412,1947, -2.0895,  55.0000, 4265,      2.3,  30.0147,  35.3920,2,  35.3919,2,    196.3,2,    194.4,2
   3175MB95_02,  IR03,    99,1,     23,     23,2,19950412,1947, -2.0895,  55.0000, 4265,     34.8,  29.8005,  35.3656,2,  35.3673,2,    197.6,2,    196.1,2
   3175MB95_02,  IR03,    99,1,     22,     22,2,19950412,1947, -2.0895,  55.0000, 4265,     74.1,  27.2775,  35.3501,2,  35.3597,2,    197.9,2,    195.5,2
   3175MB95_02,  IR03,    99,1,     21,     21,2,19950412,1947, -2.0895,  55.0000, 4265,    119.2,  17.8631,  35.2296,2,  35.2654,4,    118.1,2,    113.4,2
   3175MB95_02,  IR03,    99,1,     20,     20,2,19950412,1947, -2.0895,  55.0000, 4265,    173.8,  13.6326,  35.1436,2,  35.1475,2,    131.1,2,    125.7,2
   3175MB95_02,  IR03,    99,1,     19,     19,2,19950412,1947, -2.0895,  55.0000, 4265,    237.0,  11.7112,  35.0224,2,  35.0279,2,    145.1,2,    137.6,2
   3175MB95_02,  IR03,    99,1,     18,     18,2,19950412,1947, -2.0895,  55.0000, 4265,    285.8,  10.9839,  34.9751,2,  34.9752,2,    147.5,2,    141.7,2
   3175MB95_02,  IR03,    99,1,     17,     17,2,19950412,1947, -2.0895,  55.0000, 4265,    397.0,  10.2081,  34.9445,2,  34.9426,2,    123.5,2,    122.7,2
   3175MB95_02,  IR03,    99,1,     16,     16,2,19950412,1947, -2.0895,  55.0000, 4265,    497.1,   9.8097,  34.9858,2,  34.9862,2,     86.0,2,     83.2,2
   3175MB95_02,  IR03,    99,1,     15,     15,2,19950412,1947, -2.0895,  55.0000, 4265,    598.5,   9.3105,  35.0070,2,  35.0090,2,     71.1,2,     69.2,2
   3175MB95_02,  IR03,    99,1,     14,     14,2,19950412,1947, -2.0895,  55.0000, 4265,    695.6,   8.5280,  35.0380,2,  35.0380,2,     58.2,2,     56.9,2
   3175MB95_02,  IR03,    99,1,     13,     13,2,19950412,1947, -2.0895,  55.0000, 4265,    800.9,   7.8672,  35.0255,2,  35.0255,2,     53.6,2,     52.0,2
   3175MB95_02,  IR03,    99,1,     12,     12,2,19950412,1947, -2.0895,  55.0000, 4265,    898.2,   7.4408,  35.0023,2,  35.0022,2,     51.0,2,     50.6,2
   3175MB95_02,  IR03,    99,1,     11,     11,2,19950412,1947, -2.0895,  55.0000, 4265,   1192.9,   5.9422,  34.9261,2,  34.9245,2,     68.5,2,     67.3,2
   3175MB95_02,  IR03,    99,1,     10,     10,2,19950412,1947, -2.0895,  55.0000, 4265,   1495.5,   4.2110,  34.8304,2,  34.8325,2,     99.3,2,     97.0,2
   3175MB95_02,  IR03,    99,1,      9,      9,2,19950412,1947, -2.0895,  55.0000, 4265,   1797.9,   2.9651,  34.7756,2,  34.7738,2,    127.4,2,    128.1,2
   3175MB95_02,  IR03,    99,1,      8,      8,2,19950412,1947, -2.0895,  55.0000, 4265,   2094.7,   2.4731,  34.7646,2,  34.7639,2,    137.7,2,    137.7,2
   3175MB95_02,  IR03,    99,1,      7,      7,2,19950412,1947, -2.0895,  55.0000, 4265,   2365.1,   2.2753,  34.7602,2,  34.7602,2,    140.7,2,    141.6,2
   3175MB95_02,  IR03,    99,1,      6,      6,2,19950412,1947, -2.0895,  55.0000, 4265,   2666.4,   1.9604,  34.7430,2,  34.7429,2,    153.7,2,    155.2,2
   3175MB95_02,  IR03,    99,1,      5,      5,2,19950412,1947, -2.0895,  55.0000, 4265,   2991.1,   1.7671,  34.7338,2,  34.7340,2,    163.0,2,    164.2,2
   3175MB95_02,  IR03,    99,1,      4,      4,2,19950412,1947, -2.0895,  55.0000, 4265,   3296.1,   1.6686,  34.7311,2,  34.7307,2,    165.4,2,    166.9,2
   3175MB95_02,  IR03,    99,1,      3,      3,2,19950412,1947, -2.0895,  55.0000, 4265,   3646.6,   1.5983,  34.7291,2,  34.7285,2,    168.6,2,    170.2,2
   3175MB95_02,  IR03,    99,1,      2,      2,2,19950412,1947, -2.0895,  55.0000, 4265,   3997.6,   1.4801,  34.7253,2,  34.7248,2,    174.2,2,    174.1,2
   3175MB95_02,  IR03,    99,1,      1,      1,2,19950412,1947, -2.0895,  55.0000, 4265,   4334.2,   1.3626,  34.7201,2,  34.7207,2,    182.0,2,    181.0,2
   3175MB95_02,  IR03,   100,1,     24,     24,2,19950413,0101, -1.5705,  54.9998, 4520,      2.4,  30.2470,  35.4310,2,  35.4351,2,    191.8,2,    192.9,2
   3175MB95_02,  IR03,   100,1,     23,     23,2,19950413,0101, -1.5705,  54.9998, 4520,     73.5,  26.5296,  35.3524,2,  35.3645,2,    188.8,2,    192.3,2
   3175MB95_02,  IR03,   100,1,     22,     22,2,19950413,0101, -1.5705,  54.9998, 4520,    149.6,  14.8172,  35.1846,2,  35.1870,2,    131.4,2,    126.2,2
   3175MB95_02,  IR03,   100,1,     21,     21,2,19950413,0101, -1.5705,  54.9998, 4520,    198.4,  13.5646,  35.1435,2,  35.1425,2,    133.3,2,    130.4,2
   3175MB95_02,  IR03,   100,1,     20,     20,2,19950413,0101, -1.5705,  54.9998, 4520,    294.4,  11.3522,  35.0041,2,  35.0047,2,    132.7,2,    128.1,2
   3175MB95_02,  IR03,   100,1,     19,     19,2,19950413,0101, -1.5705,  54.9998, 4520,    395.5,  10.4374,  34.9890,2,  34.9881,2,     96.0,2,     94.9,2
   3175MB95_02,  IR03,   100,1,     18,     18,2,19950413,0101, -1.5705,  54.9998, 4520,    498.7,   9.7097,  34.9868,2,  34.9875,2,     82.0,3,     79.8,2
   3175MB95_02,  IR03,   100,1,     17,     17,2,19950413,0101, -1.5705,  54.9998, 4520,    598.1,   9.2512,  35.0001,2,  35.0010,2,     72.4,2,     69.5,2
   3175MB95_02,  IR03,   100,1,     16,     16,2,19950413,0101, -1.5705,  54.9998, 4520,    698.1,   8.6008,  35.0241,2,  35.0253,2,     61.7,2,     60.2,2
   3175MB95_02,  IR03,   100,1,     15,     15,2,19950413,0101, -1.5705,  54.9998, 4520,    795.6,   7.4275,  34.9058,2,  34.9051,2,     72.3,2,     71.4,2
   3175MB95_02,  IR03,   100,1,     14,     14,2,19950413,0101, -1.5705,  54.9998, 4520,    895.2,   7.2697,  34.9816,2,  34.9807,2,     49.7,2,     49.0,2
   3175MB95_02,  IR03,   100,1,     13,     13,2,19950413,0101, -1.5705,  54.9998, 4520,   1094.8,   6.6835,  34.9545,2,  34.9538,2,     56.2,2,     54.5,2
   3175MB95_02,  IR03,   100,1,     12,     12,2,19950413,0101, -1.5705,  54.9998, 4520,   1295.4,   5.1845,  34.8458,2,  34.8465,2,     82.5,2,     81.3,2
   3175MB95_02,  IR03,   100,1,     11,     11,2,19950413,0101, -1.5705,  54.9998, 4520,   1496.7,   4.1579,  34.8217,2,-999.0000,9,    102.0,2,   -999.0,9
   3175MB95_02,  IR03,   100,1,     10,     10,2,19950413,0101, -1.5705,  54.9998, 4520,   1789.2,   2.9003,  34.7771,2,  34.7776,2,    128.0,2,    128.0,2
   3175MB95_02,  IR03,   100,1,      9,      9,2,19950413,0101, -1.5705,  54.9998, 4520,   2101.6,   2.4987,  34.7690,2,  34.7680,2,    133.9,2,    134.8,2
   3175MB95_02,  IR03,   100,1,      8,      8,2,19950413,0101, -1.5705,  54.9998, 4520,   2299.9,   2.2665,  34.7585,2,  34.7585,2,    141.6,2,    142.4,2
   3175MB95_02,  IR03,   100,1,      7,      7,2,19950413,0101, -1.5705,  54.9998, 4520,   2602.1,   1.9474,  34.7433,2,  34.7426,2,    152.7,2,    154.6,2
   3175MB95_02,  IR03,   100,1,      6,      6,2,19950413,0101, -1.5705,  54.9998, 4520,   2897.8,   1.8027,  34.7370,2,  34.7376,2,    159.5,2,    160.5,2
   3175MB95_02,  IR03,   100,1,      5,      5,2,19950413,0101, -1.5705,  54.9998, 4520,   3185.9,   1.7075,  34.7326,2,  34.7318,2,    163.9,2,    165.3,2
   3175MB95_02,  IR03,   100,1,      4,      4,2,19950413,0101, -1.5705,  54.9998, 4520,   3549.6,   1.6021,  34.7297,2,  34.7282,2,    166.7,2,    168.1,2
   3175MB95_02,  IR03,   100,1,      3,      3,2,19950413,0101, -1.5705,  54.9998, 4520,   3902.3,   1.5058,  34.7261,2,  34.7247,2,    171.7,2,    173.3,2
   3175MB95_02,  IR03,   100,1,      2,      2,2,19950413,0101, -1.5705,  54.9998, 4520,   4251.4,   1.3977,  34.7214,2,  34.7222,2,    179.1,3,    179.0,2
   3175MB95_02,  IR03,   100,1,      1,      1,2,19950413,0101, -1.5705,  54.9998, 4520,   4597.2,   1.3373,  34.7180,2,  34.7167,2,    185.9,2,    184.3,2