BOTTLE,20220630CCHSIOAMB
EXPOCODE,SECT_ID,STNNBR,CASTNO,SAMPNO,BTLNBR,BTLNBR_FLAG_W,DATE,TIME,LATITUDE,LONGITUDE,DEPTH,CTDPRS,CTDTMP,CTDSAL,CTDSAL_FLAG_W,SALNTY,SALNTY_FLAG_W,CTDOXY,CTDOXY_FLAG_W,OXYGEN,OXYGEN_FLAG_W
,,,,,,,,,,,,DBAR,ITS-90,PSS-78,,PSS-78,,UMOL/KG,,UMOL/KG,
   3175MB95_02,  IR03,   111,1,     24,     24,2,19950415,0606,  2.7315,  57.9897, 4436,      1.7,  29.6151,  34.8990,2,  34.9001,2,    196.1,2,    196.5,2
   3175MB95_02,  IR03,   111,1,     23,     23,2,19950415,0606,  2.7315,  57.9897, 4436,     50.6,  29.3895,  34.9117,2,  34.9170,2,    195.6,2,    197.4,2
   3175MB95_02,  IR03,   111,1,     22,     22,2,19950415,0606,  2.7315,  57.9897, 4436,    101.4,  22.8083,  35.5789,2,  35.5952,3,     97.8,2,     98.4,2
   3175MB95_02,  IR03,   111,1,     21,     21,2,19950415,0606,  2.7315,  57.9897, 4436,    150.2,  16.5511,  35.2833,2,  35.2904,2,     70.1,2,     68.3,2
   3175MB95_02,  IR03,   111,1,     20,     20,2,19950415,0606,  2.7315,  57.9897, 4436,    199.7,  13.8731,  35.2109,2,  35.2127,2,     92.5,2,     87.6,2
   3175MB95_02,  IR03,   111,1,     19,     19,2,19950415,0606,  2.7315,  57.9897, 4436,    271.1,  12.3056,  35.1522,2,  35.1560,2,    101.5,2,     96.2,2
   3175MB95_02,  IR03,   111,1,     18,     18,2,19950415,0606,  2.7315,  57.9897, 4436,    348.5,  11.0768,  35.0837,2,  35.0876,2,     98.5,2,     94.7,2
   3175MB95_02,  IR03,   111,1,     17,     17,2,19950415,0606,  2.7315,  57.9897, 4436,    420.7,  10.3554,  35.0571,2,  35.0609,2,     82.4,2,     77.9,2
   3175MB95_02,  IR03,   111,1,     16,     16,2,19950415,0606,  2.7315,  57.9897, 4436,    522.7,  10.1959,  35.0761,2,  35.0770,2,     68.7,2,     69.6,2
   3175MB95_02,  IR03,   111,1,     15,     15,2,19950415,0606,  2.7315,  57.9897, 4436,    621.5,   9.7566,  35.1554,2,  35.1568,2,     42.8,2,     42.7,2
   3175MB95_02,  IR03,   111,1,     14,     14,2,19950415,0606,  2.7315,  57.9897, 4436,    822.6,   8.2332,  35.1234,2,  35.1240,2,     39.7,2,     38.8,2
   3175MB95_02,  IR03,   111,1,     13,     13,2,19950415,0606,  2.7315,  57.9897, 4436,   1048.6,   7.0430,  35.0490,2,  35.0492,2,     48.0,2,     46.9,2
   3175MB95_02,  IR03,   111,1,     12,     12,2,19950415,0606,  2.7315,  57.9897, 4436,   1273.6,   5.6189,  34.9454,2,  34.9456,2,     65.6,2,     64.7,2
   3175MB95_02,  IR03,   111,1,     11,     11,2,19950415,0606,  2.7315,  57.9897, 4436,   1547.4,   4.2968,  34.8717,2,  34.8703,2,     89.6,2,     88.4,2
   3175MB95_02,  IR03,   111,1,     10,     10,2,19950415,0606,  2.7315,  57.9897, 4436,   1847.4,   3.2628,  34.8092,2,  34.7973,4,    113.4,2,    119.4,2
   3175MB95_02,  IR03,   111,1,      9,      9,2,19950415,0606,  2.7315,  57.9897, 4436,   2149.3,   2.6528,  34.7815,2,  34.7816,2,    127.7,2,    127.9,2
   3175MB95_02,  IR03,   111,1,      8,      8,2,19950415,0606,  2.7315,  57.9897, 4436,   2445.4,   2.2288,  34.7647,2,  34.7636,2,    137.5,2,    149.1,3
   3175MB95_02,  IR03,   111,1,      7,      7,2,19950415,0606,  2.7315,  57.9897, 4436,   2747.3,   1.9446,  34.7505,2,  34.7503,2,    147.5,2,    149.2,2
   3175MB95_02,  IR03,   111,1,      6,      6,2,19950415,0606,  2.7315,  57.9897, 4436,   2922.4,   1.8763,  34.7463,2,  34.7460,2,    150.8,2,    152.5,2
   3175MB95_02,  IR03,   111,1,      5,      5,2,19950415,0606,  2.7315,  57.9897, 4436,   3344.1,   1.6997,  34.7365,2,  34.7351,2,    160.4,2,    162.1,2
   3175MB95_02,  IR03,   111,1,      4,      4,2,19950415,0606,  2.7315,  57.9897, 4436,   3646.7,   1.5677,  34.7298,2,  34.7300,2,    167.7,2,    169.2,2
   3175MB95_02,  IR03,   111,1,      3,      3,2,19950415,0606,  2.7315,  57.9897, 4436,   3949.8,   1.4884,  34.7263,2,  34.7245,2,    172.6,2,    173.3,2
   3175MB95_02,  IR03,   111,1,      2,      2,2,19950415,0606,  2.7315,  57.9897, 4436,   4247.2,   1.4226,  34.7228,2,  34.7220,2,    177.6,2,    174.5,2
   3175MB95_02,  IR03,   111,1,      1,      1,2,19950415,0606,  2.7315,  57.9897, 4436,   4462.2,   1.3998,  34.7206,2,  34.7201,2,    181.2,2,    179.3,2
   3175MB95_02,  IR03,   112,1,     24,     24,2,19950415,1115,  3.0895,  58.3278, 4700,      2.9,  29.9616,  34.9071,2,  34.9110,2,    194.1,2,    195.2,2
   3175MB95_02,  IR03,   112,1,     23,     23,2,19950415,1115,  3.0895,  58.3278, 4700,     42.5,  29.4755,  34.8829,2,  34.8861,2,    194.9,2,    196.6,2
   3175MB95_02,  IR03,   112,1,     22,     22,2,19950415,1115,  3.0895,  58.3278, 4700,     83.2,  27.7020,  35.8094,2,  35.8115,2,    168.3,2,    165.1,2
   3175MB95_02,  IR03,   112,1,     21,     21,2,19950415,1115,  3.0895,  58.3278, 4700,     97.0,  24.2554,  35.6251,2,  35.6390,2,     93.6,2,     95.4,2
   3175MB95_02,  IR03,   112,1,     20,     20,2,19950415,1115,  3.0895,  58.3278, 4700,    151.0,  15.3230,  35.2409,2,  35.2439,2,     60.2,2,     56.8,2
   3175MB95_02,  IR03,   112,1,     19,     19,2,19950415,1115,  3.0895,  58.3278, 4700,    250.3,  12.6767,  35.1638,2,  35.1650,2,     89.1,2,     85.6,2
   3175MB95_02,  IR03,   112,1,     18,     18,2,19950415,1115,  3.0895,  58.3278, 4700,    350.5,  11.3306,  35.1243,2,  35.1261,2,     76.2,2,     74.4,2
   3175MB95_02,  IR03,   112,1,     17,     17,2,19950415,1115,  3.0895,  58.3278, 4700,    449.6,  10.5693,  35.1450,2,  35.1460,2,     55.6,2,     55.3,2
   3175MB95_02,  IR03,   112,1,     16,     16,2,19950415,1115,  3.0895,  58.3278, 4700,    549.4,  10.2203,  35.1850,2,  35.1864,2,     46.0,2,     45.2,2
   3175MB95_02,  IR03,   112,1,     15,     15,2,19950415,1115,  3.0895,  58.3278, 4700,    650.1,   9.4813,  35.1799,2,  35.1799,2,     38.9,2,     38.2,2
   3175MB95_02,  IR03,   112,1,     14,     14,2,19950415,1115,  3.0895,  58.3278, 4700,    749.8,   8.6824,  35.1350,2,  35.1352,2,     34.6,2,     34.1,2
   3175MB95_02,  IR03,   112,1,     13,     13,2,19950415,1115,  3.0895,  58.3278, 4700,    851.4,   8.2178,  35.1226,2,  35.1232,2,     38.5,2,     36.4,2
   3175MB95_02,  IR03,   112,1,     12,     12,2,19950415,1115,  3.0895,  58.3278, 4700,    995.4,   7.4448,  35.1094,2,  35.1153,3,     39.1,2,     38.0,2
   3175MB95_02,  IR03,   112,1,     11,     11,2,19950415,1115,  3.0895,  58.3278, 4700,   1396.1,   5.1880,  34.9356,2,  34.9385,2,     71.0,2,     69.1,2
   3175MB95_02,  IR03,   112,1,     10,     10,2,19950415,1115,  3.0895,  58.3278, 4700,   1700.4,   3.6356,  34.8310,2,  34.8319,2,    104.2,2,    103.4,2
   3175MB95_02,  IR03,   112,1,      9,      9,2,19950415,1115,  3.0895,  58.3278, 4700,   2097.6,   2.7260,  34.7848,2,  34.7847,2,    126.0,2,    125.9,2
   3175MB95_02,  IR03,   112,1,      8,      8,2,19950415,1115,  3.0895,  58.3278, 4700,   2496.7,   2.2295,  34.7654,2,  34.7649,2,    137.1,2,    138.6,2
   3175MB95_02,  IR03,   112,1,      7,      7,2,19950415,1115,  3.0895,  58.3278, 4700,   2787.3,   1.9711,  34.7518,2,  34.7560,2,    146.5,2,    148.3,2
   3175MB95_02,  IR03,   112,1,      6,      6,2,19950415,1115,  3.0895,  58.3278, 4700,   3098.4,   1.7507,  34.7396,2,  34.7400,2,    156.8,2,    158.6,2
   3175MB95_02,  IR03,   112,1,      5,      5,2,19950415,1115,  3.0895,  58.3278, 4700,   3396.6,   1.6299,  34.7338,2,  34.7355,2,    162.9,2,    165.2,2
   3175MB95_02,  IR03,   112,1,      4,      4,2,19950415,1115,  3.0895,  58.3278, 4700,   3699.2,   1.5529,  34.7295,2,  34.7297,2,    167.6,2,    170.0,2
   3175MB95_02,  IR03,   112,1,      3,      3,2,19950415,1115,  3.0895,  58.3278, 4700,   4000.1,   1.4660,  34.7253,2,  34.7254,2,    172.9,2,    174.7,2
   3175MB95_02,  IR03,   112,1,      2,      2,2,19950415,1115,  3.0895,  58.3278, 4700,   4349.5,   1.4267,  34.7225,2,  34.7229,2,    177.3,2,    173.7,2
   3175MB95_02,  IR03,   112,1,      1,      1,2,19950415,1115,  3.0895,  58.3278, 4700,   4765.9,   1.4128,  34.7201,2,  34.7199,2,    182.1,2,    181.0,2
   3175MB95_02,  IR03,   113,1,     24,     24,2,19950415,1624,  3.4483,  58.6588, 4867,      1.3,  29.7948,  34.8346,2,  34.8355,2,    195.2,2,    195.0,2
   3175MB95_02,  IR03,   113,1,     23,     23,2,19950415,1624,  3.4483,  58.6588, 4867,     39.9,  29.5688,  34.8506,2,  34.8565,2,    196.5,2,    196.4,2
   3175MB95_02,  IR03,   113,1,     22,     22,2,19950415,1624,  3.4483,  58.6588, 4867,     83.3,  26.7450,  36.0695,2,  36.0821,2,    138.1,2,    144.5,2
   3175MB95_02,  IR03,   113,1,     21,     21,2,19950415,1624,  3.4483,  58.6588, 4867,    148.7,  16.2706,  35.2773,2,  35.2797,2,     58.5,2,     53.9,2
   3175MB95_02,  IR03,   113,1,     20,     20,2,19950415,1624,  3.4483,  58.6588, 4867,    199.2,  13.5864,  35.1878,2,  35.1891,2,     97.7,2,     88.5,2
   3175MB95_02,  IR03,   113,1,     19,     19,2,19950415,1624,  3.4483,  58.6588, 4867,    300.1,  12.0291,  35.1434,2,  35.1430,2,     83.5,2,     80.3,2
   3175MB95_02,  IR03,   113,1,     18,     18,2,19950415,1624,  3.4483,  58.6588, 4867,    398.6,  10.7896,  35.1108,2,  35.1102,2,     66.7,2,     65.0,2
   3175MB95_02,  IR03,   113,1,     17,     17,2,19950415,1624,  3.4483,  58.6588, 4867,    500.8,  10.1385,  35.1316,2,  35.1322,2,     53.2,2,     51.9,2
   3175MB95_02,  IR03,   113,1,     16,     16,2,19950415,1624,  3.4483,  58.6588, 4867,    599.1,   9.6836,  35.1895,2,  35.1891,2,     38.4,2,     38.0,2
   3175MB95_02,  IR03,   113,1,     15,     15,2,19950415,1624,  3.4483,  58.6588, 4867,    699.2,   8.9567,  35.1489,2,  35.1484,2,     34.8,2,     34.3,2
   3175MB95_02,  IR03,   113,1,     14,     14,2,19950415,1624,  3.4483,  58.6588, 4867,    799.5,   8.5186,  35.1256,2,  35.1261,2,     34.8,2,     34.4,2
   3175MB95_02,  IR03,   113,1,     13,     13,2,19950415,1624,  3.4483,  58.6588, 4867,   1000.5,   7.4095,  35.1012,2,  35.1033,2,     39.6,2,     38.3,2
   3175MB95_02,  IR03,   113,1,     12,     12,2,19950415,1624,  3.4483,  58.6588, 4867,   1198.8,   6.1787,  34.9963,2,  34.9966,2,     56.3,2,     55.7,2
   3175MB95_02,  IR03,   113,1,     11,     11,2,19950415,1624,  3.4483,  58.6588, 4867,   1498.8,   4.5347,  34.8912,2,  34.8922,2,     84.0,2,     82.2,2
   3175MB95_02,  IR03,   113,1,     10,     10,2,19950415,1624,  3.4483,  58.6588, 4867,   1797.4,   3.4348,  34.8195,2,  34.8190,2,    108.8,2,    108.4,2
   3175MB95_02,  IR03,   113,1,      9,      9,2,19950415,1624,  3.4483,  58.6588, 4867,   2098.7,   2.7281,  34.7854,2,  34.7855,2,    125.1,2,    125.5,2
   3175MB95_02,  IR03,   113,1,      8,      8,2,19950415,1624,  3.4483,  58.6588, 4867,   2395.1,   2.3631,  34.7706,2,  34.7707,2,    133.1,2,    134.7,2
   3175MB95_02,  IR03,   113,1,      7,      7,2,19950415,1624,  3.4483,  58.6588, 4867,   2698.2,   2.0428,  34.7558,2,  34.7556,2,    143.3,2,    144.4,2
   3175MB95_02,  IR03,   113,1,      6,      6,2,19950415,1624,  3.4483,  58.6588, 4867,   2998.0,   1.8462,  34.7448,2,  34.7448,2,    152.3,2,    153.4,2
   3175MB95_02,  IR03,   113,1,      5,      5,2,19950415,1624,  3.4483,  58.6588, 4867,   3398.0,   1.6476,  34.7348,2,  34.7342,2,    161.6,2,    163.4,2
   3175MB95_02,  IR03,   113,1,      4,      4,2,19950415,1624,  3.4483,  58.6588, 4867,   3797.4,   1.5161,  34.7281,2,  34.7275,2,    169.2,2,    171.0,2
   3175MB95_02,  IR03,   113,1,      3,      3,2,19950415,1624,  3.4483,  58.6588, 4867,   4197.9,   1.4469,  34.7241,2,  34.7231,2,    174.7,2,    175.7,2
   3175MB95_02,  IR03,   113,1,      2,      2,2,19950415,1624,  3.4483,  58.6588, 4867,   4645.9,   1.3988,  34.7203,2,  34.7196,2,    180.6,2,    180.4,2
   3175MB95_02,  IR03,   113,1,      1,      1,2,19950415,1624,  3.4483,  58.6588, 4867,   4951.9,   1.4244,  34.7197,2,  34.7197,2,    182.9,2,    180.9,2
   3175MB95_02,  IR03,   114,1,     24,     24,2,19950415,2152,  3.8202,  58.9908, 4447,      2.3,  29.7396,  34.8184,2,  34.8198,2,    192.6,2,    195.0,2
   3175MB95_02,  IR03,   114,1,     23,     23,2,19950415,2152,  3.8202,  58.9908, 4447,     34.5,  29.6223,  34.8405,2,  34.8444,2,    191.6,2,    195.8,2
   3175MB95_02,  IR03,   114,1,     22,     22,2,19950415,2152,  3.8202,  58.9908, 4447,     78.1,  28.2463,  35.4905,2,  35.5573,4,    182.8,2,    186.8,2
   3175MB95_02,  IR03,   114,1,     21,     21,2,19950415,2152,  3.8202,  58.9908, 4447,    123.0,  23.1750,  35.6846,2,  35.8011,4,     87.5,2,     94.8,2
   3175MB95_02,  IR03,   114,1,     20,     20,2,19950415,2152,  3.8202,  58.9908, 4447,    174.8,  14.7143,  35.2168,2,  35.2227,2,     67.3,2,     63.7,2
   3175MB95_02,  IR03,   114,1,     19,     19,2,19950415,2152,  3.8202,  58.9908, 4447,    250.1,  12.6235,  35.1598,2,  35.1633,2,     88.5,2,     86.7,2
   3175MB95_02,  IR03,   114,1,     18,     18,2,19950415,2152,  3.8202,  58.9908, 4447,    350.2,  11.0626,  35.1162,2,  35.1162,2,     71.8,2,     69.5,2
   3175MB95_02,  IR03,   114,1,     17,     17,2,19950415,2152,  3.8202,  58.9908, 4447,    449.6,  10.4351,  35.1260,2,  35.1263,2,     60.9,2,   -999.0,9
   3175MB95_02,  IR03,   114,1,     16,     16,2,19950415,2152,  3.8202,  58.9908, 4447,    526.4,  10.0004,  35.1338,2,  35.1348,2,     50.2,2,     50.0,2
   3175MB95_02,  IR03,   114,1,     15,     15,2,19950415,2152,  3.8202,  58.9908, 4447,    748.8,   8.8744,  35.1388,2,  35.1394,2,     36.0,2,     36.1,2
   3175MB95_02,  IR03,   114,1,     14,     14,2,19950415,2152,  3.8202,  58.9908, 4447,    940.7,   7.8981,  35.1256,2,  35.1253,2,     39.4,2,     38.3,2
   3175MB95_02,  IR03,   114,1,     13,     13,2,19950415,2152,  3.8202,  58.9908, 4447,   1137.8,   6.6185,  35.0338,2,  35.0333,2,     50.3,2,     49.2,2
   3175MB95_02,  IR03,   114,1,     12,     12,2,19950415,2152,  3.8202,  58.9908, 4447,   1341.2,   5.5342,  34.9564,2,  34.9570,2,     64.6,2,     63.2,2
   3175MB95_02,  IR03,   114,1,     11,     11,2,19950415,2152,  3.8202,  58.9908, 4447,   1552.0,   4.4276,  34.8830,2,  34.8832,2,     87.0,2,     85.2,2
   3175MB95_02,  IR03,   114,1,     10,     10,2,19950415,2152,  3.8202,  58.9908, 4447,   1749.1,   3.5419,  34.8293,2,  34.8299,2,    105.6,2,    104.4,2
   3175MB95_02,  IR03,   114,1,      9,      9,2,19950415,2152,  3.8202,  58.9908, 4447,   1992.7,   2.8774,  34.7943,2,  34.7961,2,    120.9,2,    120.7,2
   3175MB95_02,  IR03,   114,1,      8,      8,2,19950415,2152,  3.8202,  58.9908, 4447,   2294.2,   2.4177,  34.7720,2,  34.7708,2,    133.2,2,    133.7,2
   3175MB95_02,  IR03,   114,1,      7,      7,2,19950415,2152,  3.8202,  58.9908, 4447,   2594.5,   2.1204,  34.7592,2,  34.7590,2,    140.8,2,    142.0,2
   3175MB95_02,  IR03,   114,1,      6,      6,2,19950415,2152,  3.8202,  58.9908, 4447,   2879.3,   1.9323,  34.7495,2,  34.7492,2,    148.4,2,    149.3,2
   3175MB95_02,  IR03,   114,1,      5,      5,2,19950415,2152,  3.8202,  58.9908, 4447,   3248.7,   1.7345,  34.7388,2,  34.7381,2,    157.9,2,    159.0,2
   3175MB95_02,  IR03,   114,1,      4,      4,2,19950415,2152,  3.8202,  58.9908, 4447,   3601.3,   1.5601,  34.7306,2,  34.7306,2,    167.2,2,    168.0,2
   3175MB95_02,  IR03,   114,1,      3,      3,2,19950415,2152,  3.8202,  58.9908, 4447,   3950.7,   1.4775,  34.7265,2,  34.7262,2,    172.6,2,    173.1,2
   3175MB95_02,  IR03,   114,1,      2,      2,2,19950415,2152,  3.8202,  58.9908, 4447,   4299.7,   1.4374,  34.7234,2,  34.7239,2,    177.1,2,    176.4,2
   3175MB95_02,  IR03,   114,1,      1,      1,2,19950415,2152,  3.8202,  58.9908, 4447,   4528.7,   1.4183,  34.7216,2,  34.7218,2,    180.4,2,    178.5,2
   3175MB95_02,  IR03,   115,1,     24,     24,2,19950416,0247,  4.1805,  59.3312, 4115,      2.5,  29.7223,  34.9044,2,  34.9090,2,    191.3,2,    194.5,2
   3175MB95_02,  IR03,   115,1,     23,     23,2,19950416,0247,  4.1805,  59.3312, 4115,     37.4,  29.5139,  34.9228,2,  34.9383,3,    191.7,2,    195.0,2
   3175MB95_02,  IR03,   115,1,     22,     22,2,19950416,0247,  4.1805,  59.3312, 4115,     97.8,  23.3988,  35.6283,2,  35.6575,4,     80.7,2,     83.8,2
   3175MB95_02,  IR03,   115,1,     21,     21,2,19950416,0247,  4.1805,  59.3312, 4115,    145.4,  18.5526,  35.3351,2,  35.6574,4,     54.5,2,     55.0,2
   3175MB95_02,  IR03,   115,1,     20,     20,2,19950416,0247,  4.1805,  59.3312, 4115,    197.9,  13.7074,  35.2039,2,  35.2083,2,     77.5,2,     73.3,2
   3175MB95_02,  IR03,   115,1,     19,     19,2,19950416,0247,  4.1805,  59.3312, 4115,    249.0,  12.3958,  35.1499,2,  35.1517,2,     89.3,2,     85.7,2
   3175MB95_02,  IR03,   115,1,     18,     18,2,19950416,0247,  4.1805,  59.3312, 4115,    299.8,  11.7115,  35.1297,2,  35.1313,2,     85.8,2,     81.7,2
   3175MB95_02,  IR03,   115,1,     17,     17,2,19950416,0247,  4.1805,  59.3312, 4115,    396.7,  10.6030,  35.0833,2,  35.0841,2,     72.5,2,     70.2,2
   3175MB95_02,  IR03,   115,1,     16,     16,2,19950416,0247,  4.1805,  59.3312, 4115,    494.1,  10.0674,  35.1107,2,  35.1115,2,     56.6,2,     55.0,2
   3175MB95_02,  IR03,   115,1,     15,     15,2,19950416,0247,  4.1805,  59.3312, 4115,    598.7,   9.6533,  35.1521,2,  35.1545,2,     43.4,2,     42.9,2
   3175MB95_02,  IR03,   115,1,     14,     14,2,19950416,0247,  4.1805,  59.3312, 4115,    695.6,   9.0124,  35.1538,2,  35.1553,2,     35.1,2,     34.3,2
   3175MB95_02,  IR03,   115,1,     13,     13,2,19950416,0247,  4.1805,  59.3312, 4115,    844.1,   8.4023,  35.1352,2,  35.1325,2,     34.2,2,     33.6,2
   3175MB95_02,  IR03,   115,1,     12,     12,2,19950416,0247,  4.1805,  59.3312, 4115,   1048.9,   7.1976,  35.0713,2,  35.0712,2,     45.1,2,     44.5,2
   3175MB95_02,  IR03,   115,1,     11,     11,2,19950416,0247,  4.1805,  59.3312, 4115,   1248.8,   6.1334,  35.0013,2,  34.9998,2,     55.4,2,     54.1,2
   3175MB95_02,  IR03,   115,1,     10,     10,2,19950416,0247,  4.1805,  59.3312, 4115,   1447.4,   4.7124,  34.9015,2,  34.9016,2,     79.6,2,     77.8,2
   3175MB95_02,  IR03,   115,1,      9,      9,2,19950416,0247,  4.1805,  59.3312, 4115,   1645.5,   3.8617,  34.8507,2,  34.8514,2,     97.8,2,     96.3,2
   3175MB95_02,  IR03,   115,1,      8,      8,2,19950416,0247,  4.1805,  59.3312, 4115,   1893.1,   3.1609,  34.8106,2,  34.8100,2,    113.7,2,    113.1,2
   3175MB95_02,  IR03,   115,1,      7,      7,2,19950416,0247,  4.1805,  59.3312, 4115,   2193.6,   2.6386,  34.7845,2,  34.7841,2,    126.2,2,    126.1,2
   3175MB95_02,  IR03,   115,1,      6,      6,2,19950416,0247,  4.1805,  59.3312, 4115,   2496.8,   2.1972,  34.7642,2,  34.7633,2,    138.0,2,    138.3,2
   3175MB95_02,  IR03,   115,1,      5,      5,2,19950416,0247,  4.1805,  59.3312, 4115,   2846.1,   1.9324,  34.7494,2,  34.7489,2,    148.7,2,    149.5,2
   3175MB95_02,  IR03,   115,1,      4,      4,2,19950416,0247,  4.1805,  59.3312, 4115,   3197.1,   1.7568,  34.7398,2,  34.7394,2,    157.5,2,    158.2,2
   3175MB95_02,  IR03,   115,1,      3,      3,2,19950416,0247,  4.1805,  59.3312, 4115,   3495.8,   1.6312,  34.7341,2,  34.7336,2,    164.2,2,    164.2,2
   3175MB95_02,  IR03,   115,1,      2,      2,2,19950416,0247,  4.1805,  59.3312, 4115,   3823.4,   1.5598,  34.7301,2,  34.7300,2,    169.2,2,    168.7,2
   3175MB95_02,  IR03,   115,1,      1,      1,2,19950416,0247,  4.1805,  59.3312, 4115,   4170.5,   1.4898,  34.7257,2,  34.7258,2,    175.6,2,    173.2,2