BOTTLE,20220630CCHSIOAMB
EXPOCODE,SECT_ID,STNNBR,CASTNO,SAMPNO,BTLNBR,BTLNBR_FLAG_W,DATE,TIME,LATITUDE,LONGITUDE,DEPTH,CTDPRS,CTDTMP,CTDSAL,CTDSAL_FLAG_W,SALNTY,SALNTY_FLAG_W,CTDOXY,CTDOXY_FLAG_W,OXYGEN,OXYGEN_FLAG_W
,,,,,,,,,,,,DBAR,ITS-90,PSS-78,,PSS-78,,UMOL/KG,,UMOL/KG,
   3175MB95_02,  IR03,    86,1,     24,     24,2,19950410,0144, -8.4618,  52.0292, 4275,      2.3,  29.4119,  34.6536,2,  34.6555,2,    195.3,2,    194.4,2
   3175MB95_02,  IR03,    86,1,     23,     23,2,19950410,0144, -8.4618,  52.0292, 4275,     53.7,  23.7818,  35.0699,2,  35.0864,3,    174.4,2,    178.7,2
   3175MB95_02,  IR03,    86,1,     22,     22,2,19950410,0144, -8.4618,  52.0292, 4275,     93.3,  19.8273,  35.2396,2,  35.2584,3,    119.8,2,    121.6,2
   3175MB95_02,  IR03,    86,1,     21,     21,2,19950410,0144, -8.4618,  52.0292, 4275,    144.0,  15.0751,  35.1296,2,  35.1330,2,    109.6,2,    104.6,2
   3175MB95_02,  IR03,    86,1,     20,     20,2,19950410,0144, -8.4618,  52.0292, 4275,    203.2,  13.3493,  35.0615,2,  35.0584,2,    121.0,2,    115.3,2
   3175MB95_02,  IR03,    86,1,     19,     19,2,19950410,0144, -8.4618,  52.0292, 4275,    322.9,  10.9413,  34.9279,2,  34.9256,2,    141.4,2,    136.6,2
   3175MB95_02,  IR03,    86,1,     18,     18,2,19950410,0144, -8.4618,  52.0292, 4275,    468.1,   9.6711,  34.8454,2,  34.8456,2,    132.0,2,    127.0,2
   3175MB95_02,  IR03,    86,1,     17,     17,2,19950410,0144, -8.4618,  52.0292, 4275,    673.4,   8.0983,  34.7762,2,  34.7747,2,    116.8,2,    113.5,2
   3175MB95_02,  IR03,    86,1,     16,     16,2,19950410,0144, -8.4618,  52.0292, 4275,    873.0,   6.6631,  34.8116,2,  34.8112,2,     84.6,2,     81.5,2
   3175MB95_02,  IR03,    86,1,     15,     15,2,19950410,0144, -8.4618,  52.0292, 4275,   1073.4,   5.4294,  34.7782,2,  34.7770,2,     95.5,2,     93.1,2
   3175MB95_02,  IR03,    86,1,     14,     14,2,19950410,0144, -8.4618,  52.0292, 4275,   1270.2,   4.5487,  34.7677,2,  34.7692,2,    106.2,2,    103.6,2
   3175MB95_02,  IR03,    86,1,     13,     13,2,19950410,0144, -8.4618,  52.0292, 4275,   1523.3,   3.4493,  34.7493,2,  34.7488,2,    127.9,2,    126.4,2
   3175MB95_02,  IR03,    86,1,     12,     12,2,19950410,0144, -8.4618,  52.0292, 4275,   1819.7,   2.7713,  34.7430,2,  34.7428,2,    142.0,2,    141.2,2
   3175MB95_02,  IR03,    86,1,     11,     11,2,19950410,0144, -8.4618,  52.0292, 4275,   2121.1,   2.3758,  34.7464,2,  34.7456,2,    148.2,2,    147.7,2
   3175MB95_02,  IR03,    86,1,     10,     10,2,19950410,0144, -8.4618,  52.0292, 4275,   2424.1,   2.1011,  34.7467,2,  34.7458,2,    152.3,2,    152.2,2
   3175MB95_02,  IR03,    86,1,      9,      9,2,19950410,0144, -8.4618,  52.0292, 4275,   2721.0,   1.9338,  34.7447,2,  34.7437,2,    154.9,2,    155.1,2
   3175MB95_02,  IR03,    86,1,      8,      8,2,19950410,0144, -8.4618,  52.0292, 4275,   3025.1,   1.8331,  34.7400,2,  34.7386,2,    158.2,2,    157.8,2
   3175MB95_02,  IR03,    86,1,      7,      7,2,19950410,0144, -8.4618,  52.0292, 4275,   3325.8,   1.7528,  34.7358,2,  34.7353,2,    162.8,2,    162.3,2
   3175MB95_02,  IR03,    86,1,      6,      6,2,19950410,0144, -8.4618,  52.0292, 4275,   3621.6,   1.6141,  34.7302,2,  34.7288,2,    170.3,2,    168.5,2
   3175MB95_02,  IR03,    86,1,      5,      5,2,19950410,0144, -8.4618,  52.0292, 4275,   3780.0,   1.5134,  34.7263,2,  34.7254,2,    175.7,2,    174.4,2
   3175MB95_02,  IR03,    86,1,      4,      4,2,19950410,0144, -8.4618,  52.0292, 4275,   3852.3,   1.5208,  34.7263,2,  34.7252,2,    176.4,2,    174.5,2
   3175MB95_02,  IR03,    86,1,      3,      3,2,19950410,0144, -8.4618,  52.0292, 4275,   3947.6,   1.4742,  34.7244,2,  34.7235,2,    179.6,2,    177.1,2
   3175MB95_02,  IR03,    86,1,      2,      2,2,19950410,0144, -8.4618,  52.0292, 4275,   3999.9,   1.4320,  34.7232,2,  34.7214,2,    182.1,2,    179.4,2
   3175MB95_02,  IR03,    86,1,      1,      1,2,19950410,0144, -8.4618,  52.0292, 4275,   4048.9,   1.4225,  34.7225,2,  34.7209,2,    183.2,2,    180.2,2
   3175MB95_02,  IR03,    87,1,     24,     24,2,19950410,0532, -8.3612,  52.1505, 4445,      3.5,  29.5187,  34.6666,2,  34.6702,2,    195.8,2,    194.9,2
   3175MB95_02,  IR03,    87,1,     23,     23,2,19950410,0532, -8.3612,  52.1505, 4445,     50.4,  22.0886,  35.1039,2,  35.1268,3,    153.7,2,    153.4,2
   3175MB95_02,  IR03,    87,1,     22,     22,2,19950410,0532, -8.3612,  52.1505, 4445,     90.0,  17.1853,  35.1776,2,  35.1848,2,    114.4,2,    110.0,2
   3175MB95_02,  IR03,    87,1,     21,     21,2,19950410,0532, -8.3612,  52.1505, 4445,    137.0,  14.7560,  35.1418,2,  35.1418,2,    116.2,2,    111.5,2
   3175MB95_02,  IR03,    87,1,     20,     20,2,19950410,0532, -8.3612,  52.1505, 4445,    270.0,  11.9901,  35.0062,2,  35.0046,2,    128.0,2,    121.2,2
   3175MB95_02,  IR03,    87,1,     19,     19,2,19950410,0532, -8.3612,  52.1505, 4445,    395.9,  10.1065,  34.8652,2,  34.8645,2,    140.5,2,    137.8,2
   3175MB95_02,  IR03,    87,1,     18,     18,2,19950410,0532, -8.3612,  52.1505, 4445,    489.0,   9.2208,  34.8238,2,  34.8248,2,    127.0,2,    122.2,2
   3175MB95_02,  IR03,    87,1,     17,     17,2,19950410,0532, -8.3612,  52.1505, 4445,    655.1,   8.4261,  34.7893,2,  34.7910,2,    115.3,2,    113.7,2
   3175MB95_02,  IR03,    87,1,     16,     16,2,19950410,0532, -8.3612,  52.1505, 4445,    789.1,   7.0511,  34.7765,2,  34.7786,2,     97.6,2,     96.7,2
   3175MB95_02,  IR03,    87,1,     15,     15,2,19950410,0532, -8.3612,  52.1505, 4445,    988.1,   6.2136,  34.8091,2,  34.8067,2,     86.1,2,     83.6,2
   3175MB95_02,  IR03,    87,1,     14,     14,2,19950410,0532, -8.3612,  52.1505, 4445,   1240.1,   4.7655,  34.7694,2,  34.7684,2,    103.1,2,    100.8,2
   3175MB95_02,  IR03,    87,1,     13,     13,2,19950410,0532, -8.3612,  52.1505, 4445,   1539.3,   3.7443,  34.7511,2,  34.7503,2,    122.7,2,    119.4,2
   3175MB95_02,  IR03,    87,1,     12,     12,2,19950410,0532, -8.3612,  52.1505, 4445,   1834.7,   2.8394,  34.7448,2,  34.7438,2,    140.4,2,    139.5,2
   3175MB95_02,  IR03,    87,1,     11,     11,2,19950410,0532, -8.3612,  52.1505, 4445,   2131.2,   2.3780,  34.7480,2,  34.7473,2,    147.2,2,    147.4,2
   3175MB95_02,  IR03,    87,1,     10,     10,2,19950410,0532, -8.3612,  52.1505, 4445,   2437.5,   2.1154,  34.7482,2,  34.7473,2,    151.2,2,    151.4,2
   3175MB95_02,  IR03,    87,1,      9,      9,2,19950410,0532, -8.3612,  52.1505, 4445,   2732.7,   1.9626,  34.7444,2,  34.7424,2,    153.8,2,    154.5,2
   3175MB95_02,  IR03,    87,1,      8,      8,2,19950410,0532, -8.3612,  52.1505, 4445,   3036.6,   1.8007,  34.7381,2,  34.7364,2,    159.0,2,    159.6,2
   3175MB95_02,  IR03,    87,1,      7,      7,2,19950410,0532, -8.3612,  52.1505, 4445,   3336.6,   1.7303,  34.7348,2,  34.7329,2,    162.8,2,    164.9,2
   3175MB95_02,  IR03,    87,1,      6,      6,2,19950410,0532, -8.3612,  52.1505, 4445,   3638.3,   1.6483,  34.7314,2,  34.7302,2,    168.1,2,    167.7,2
   3175MB95_02,  IR03,    87,1,      5,      5,2,19950410,0532, -8.3612,  52.1505, 4445,   3935.3,   1.4874,  34.7252,2,  34.7241,2,    176.8,2,    176.2,2
   3175MB95_02,  IR03,    87,1,      4,      4,2,19950410,0532, -8.3612,  52.1505, 4445,   4288.1,   1.3845,  34.7204,2,  34.7193,2,    185.9,2,    183.9,2
   3175MB95_02,  IR03,    87,1,      3,      3,2,19950410,0532, -8.3612,  52.1505, 4445,   4337.9,   1.3652,  34.7196,2,  34.7182,2,    187.4,2,    185.2,2
   3175MB95_02,  IR03,    87,1,      2,      2,2,19950410,0532, -8.3612,  52.1505, 4445,   4389.1,   1.3504,  34.7190,2,  34.7187,2,    188.7,2,    186.4,2
   3175MB95_02,  IR03,    87,1,      1,      1,2,19950410,0532, -8.3612,  52.1505, 4445,   4449.5,   1.3423,  34.7154,2,  34.7169,2,    190.5,2,    187.3,2
   3175MB95_02,  IR03,    88,1,     24,     24,2,19950410,0943, -8.2608,  52.2600, 4329,      2.7,  29.9316,  34.6693,2,  34.6764,2,    193.5,2,    194.1,2
   3175MB95_02,  IR03,    88,1,     23,     23,2,19950410,0943, -8.2608,  52.2600, 4329,     60.4,  23.1392,  35.0605,2,  35.0886,4,    162.2,2,    166.6,2
   3175MB95_02,  IR03,    88,1,     22,     22,2,19950410,0943, -8.2608,  52.2600, 4329,    102.2,  17.1105,  35.1543,2,  35.1576,2,    109.1,2,    105.4,2
   3175MB95_02,  IR03,    88,1,     21,     21,2,19950410,0943, -8.2608,  52.2600, 4329,    150.3,  14.5242,  35.1161,2,  35.1196,2,    109.9,2,    104.8,2
   3175MB95_02,  IR03,    88,1,     20,     20,2,19950410,0943, -8.2608,  52.2600, 4329,    222.7,  12.5726,  35.0359,2,  35.0369,2,    129.5,2,    126.4,2
   3175MB95_02,  IR03,    88,1,     19,     19,2,19950410,0943, -8.2608,  52.2600, 4329,    330.5,  10.8910,  34.9258,2,  34.9272,2,    137.9,2,    133.4,2
   3175MB95_02,  IR03,    88,1,     18,     18,2,19950410,0943, -8.2608,  52.2600, 4329,    424.9,   9.6377,  34.8485,2,  34.8496,2,    126.4,2,    123.2,2
   3175MB95_02,  IR03,    88,1,     17,     17,2,19950410,0943, -8.2608,  52.2600, 4329,    547.1,   8.5529,  34.7781,2,  34.7766,2,    125.9,2,    124.8,2
   3175MB95_02,  IR03,    88,1,     16,     16,2,19950410,0943, -8.2608,  52.2600, 4329,    714.4,   7.0503,  34.7591,2,  34.7609,2,    104.4,2,    102.7,2
   3175MB95_02,  IR03,    88,1,     15,     15,2,19950410,0943, -8.2608,  52.2600, 4329,    907.7,   6.3239,  34.8098,2,  34.8085,2,     82.5,2,     80.3,2
   3175MB95_02,  IR03,    88,1,     14,     14,2,19950410,0943, -8.2608,  52.2600, 4329,   1152.4,   5.1078,  34.7695,2,  34.7707,2,    103.6,2,    101.6,2
   3175MB95_02,  IR03,    88,1,     13,     13,2,19950410,0943, -8.2608,  52.2600, 4329,   1449.4,   3.8909,  34.7526,2,  34.7530,2,    119.0,2,    117.4,2
   3175MB95_02,  IR03,    88,1,     12,     12,2,19950410,0943, -8.2608,  52.2600, 4329,   1744.2,   2.9140,  34.7435,2,  34.7431,2,    138.7,2,    137.9,2
   3175MB95_02,  IR03,    88,1,     11,     11,2,19950410,0943, -8.2608,  52.2600, 4329,   2047.7,   2.3697,  34.7484,2,  34.7472,2,    147.4,2,    147.2,2
   3175MB95_02,  IR03,    88,1,     10,     10,2,19950410,0943, -8.2608,  52.2600, 4329,   2337.3,   2.1351,  34.7481,2,  34.7478,2,    151.1,2,    151.0,2
   3175MB95_02,  IR03,    88,1,      9,      9,2,19950410,0943, -8.2608,  52.2600, 4329,   2651.0,   1.9893,  34.7460,2,  34.7444,2,    152.8,2,    153.1,2
   3175MB95_02,  IR03,    88,1,      8,      8,2,19950410,0943, -8.2608,  52.2600, 4329,   2945.5,   1.8660,  34.7409,2,  34.7399,2,    156.9,2,    156.2,2
   3175MB95_02,  IR03,    88,1,      7,      7,2,19950410,0943, -8.2608,  52.2600, 4329,   3345.2,   1.7092,  34.7343,2,  34.7353,2,    164.1,2,    164.9,2
   3175MB95_02,  IR03,    88,1,      6,      6,2,19950410,0943, -8.2608,  52.2600, 4329,   3739.0,   1.5562,  34.7280,2,  34.7270,2,    172.1,2,    171.6,2
   3175MB95_02,  IR03,    88,1,      5,      5,2,19950410,0943, -8.2608,  52.2600, 4329,   4168.9,   1.3874,  34.7208,2,  34.7229,2,    184.5,2,    183.0,2
   3175MB95_02,  IR03,    88,1,      4,      4,2,19950410,0943, -8.2608,  52.2600, 4329,   4218.2,   1.3675,  34.7197,2,  34.7195,2,    186.4,2,    184.1,2
   3175MB95_02,  IR03,    88,1,      3,      3,2,19950410,0943, -8.2608,  52.2600, 4329,   4269.5,   1.3465,  34.7193,2,  34.7184,2,    187.8,2,    185.8,2
   3175MB95_02,  IR03,    88,1,      2,      2,2,19950410,0943, -8.2608,  52.2600, 4329,   4319.0,   1.3398,  34.7188,2,  34.7177,2,    189.1,2,    187.7,2
   3175MB95_02,  IR03,    88,1,      1,      1,2,19950410,0943, -8.2608,  52.2600, 4329,   4372.4,   1.3150,  34.6728,2,  34.7166,4,    191.0,2,    188.1,2
   3175MB95_02,  IR03,    89,1,     24,     24,2,19950410,1349, -8.0533,  52.4845, 4910,      2.8,  30.0358,  34.6223,2,  34.6275,2,    192.3,2,    193.3,2
   3175MB95_02,  IR03,    89,1,     23,     23,2,19950410,1349, -8.0533,  52.4845, 4910,     49.3,  24.4552,  35.0232,2,-999.0000,9,    179.0,2,    195.4,3
   3175MB95_02,  IR03,    89,1,     22,     22,2,19950410,1349, -8.0533,  52.4845, 4910,     98.0,  16.7968,  35.1547,2,  35.1630,2,    107.4,2,    105.1,2
   3175MB95_02,  IR03,    89,1,     21,     21,2,19950410,1349, -8.0533,  52.4845, 4910,    199.0,  13.4027,  35.0587,2,  35.0608,2,    111.1,2,    104.7,2
   3175MB95_02,  IR03,    89,1,     20,     20,2,19950410,1349, -8.0533,  52.4845, 4910,    298.1,  11.3089,  34.9550,2,  34.9560,2,    145.1,2,    140.6,2
   3175MB95_02,  IR03,    89,1,     19,     19,2,19950410,1349, -8.0533,  52.4845, 4910,    398.6,   9.8549,  34.8413,2,  34.8428,2,    139.9,2,    136.6,2
   3175MB95_02,  IR03,    89,1,     18,     18,2,19950410,1349, -8.0533,  52.4845, 4910,    497.4,   8.7432,  34.7832,2,  34.7832,2,    125.8,2,    125.0,2
   3175MB95_02,  IR03,    89,1,     17,     17,2,19950410,1349, -8.0533,  52.4845, 4910,    599.9,   8.0477,  34.7909,2,  34.7920,2,    110.2,2,    106.1,2
   3175MB95_02,  IR03,    89,1,     16,     16,2,19950410,1349, -8.0533,  52.4845, 4910,    699.4,   7.3366,  34.7714,2,  34.7715,2,    104.8,2,    103.1,2
   3175MB95_02,  IR03,    89,1,     15,     15,2,19950410,1349, -8.0533,  52.4845, 4910,    898.0,   6.4135,  34.8105,2,  34.8096,2,     83.4,2,     81.5,2
   3175MB95_02,  IR03,    89,1,     14,     14,2,19950410,1349, -8.0533,  52.4845, 4910,   1199.1,   4.8767,  34.7775,2,  34.7754,2,     98.6,2,     99.9,2
   3175MB95_02,  IR03,    89,1,     13,     13,2,19950410,1349, -8.0533,  52.4845, 4910,   1498.6,   3.7842,  34.7743,2,  34.7739,2,    116.8,2,    115.2,2
   3175MB95_02,  IR03,    89,1,     12,     12,2,19950410,1349, -8.0533,  52.4845, 4910,   1797.8,   2.8486,  34.7419,2,  34.7409,2,    139.5,2,    139.6,2
   3175MB95_02,  IR03,    89,1,     11,     11,2,19950410,1349, -8.0533,  52.4845, 4910,   2097.5,   2.3767,  34.7450,2,  34.7463,2,    146.6,2,    147.8,2
   3175MB95_02,  IR03,    89,1,     10,     10,2,19950410,1349, -8.0533,  52.4845, 4910,   2496.0,   2.0111,  34.7438,2,  34.7428,2,    152.3,2,    154.2,2
   3175MB95_02,  IR03,    89,1,      9,      9,2,19950410,1349, -8.0533,  52.4845, 4910,   2899.1,   1.8451,  34.7396,2,  34.7390,2,    155.7,2,    158.1,2
   3175MB95_02,  IR03,    89,1,      8,      8,2,19950410,1349, -8.0533,  52.4845, 4910,   3297.6,   1.7084,  34.7342,2,  34.7327,2,    161.4,2,    163.8,2
   3175MB95_02,  IR03,    89,1,      7,      7,2,19950410,1349, -8.0533,  52.4845, 4910,   3700.1,   1.5728,  34.7286,2,  34.7280,2,    168.9,2,    171.0,2
   3175MB95_02,  IR03,    89,1,      6,      6,2,19950410,1349, -8.0533,  52.4845, 4910,   4100.5,   1.4046,  34.7220,2,  34.7248,2,    179.8,2,    181.8,2
   3175MB95_02,  IR03,    89,1,      5,      5,2,19950410,1349, -8.0533,  52.4845, 4910,   4499.1,   1.2699,  34.7158,2,  34.7154,2,    189.4,2,    191.2,2
   3175MB95_02,  IR03,    89,1,      4,      4,2,19950410,1349, -8.0533,  52.4845, 4910,   4801.7,   1.2425,  34.7137,2,  34.7134,2,    193.4,2,    194.2,2
   3175MB95_02,  IR03,    89,1,      3,      3,2,19950410,1349, -8.0533,  52.4845, 4910,   4901.5,   1.2373,  34.7133,2,  34.7132,2,    194.7,2,    195.0,2
   3175MB95_02,  IR03,    89,1,      2,      2,2,19950410,1349, -8.0533,  52.4845, 4910,   5001.0,   1.2373,  34.7126,2,  34.7125,2,    196.0,2,    195.8,2
   3175MB95_02,  IR03,    89,1,      1,      1,2,19950410,1349, -8.0533,  52.4845, 4910,   5053.9,   1.2294,  34.7120,2,  34.7119,2,    198.2,2,    196.4,2
   3175MB95_02,  IR03,    90,1,     24,     24,2,19950410,1939, -7.7997,  52.6700, 4354,      2.5,  29.7523,  34.5516,2,  34.5618,2,    193.6,2,    194.6,2
   3175MB95_02,  IR03,    90,1,     23,     23,2,19950410,1939, -7.7997,  52.6700, 4354,     49.6,  24.9899,  35.1611,2,  35.1840,3,    191.1,2,    193.6,2
   3175MB95_02,  IR03,    90,1,     22,     22,2,19950410,1939, -7.7997,  52.6700, 4354,     79.2,  20.8341,  35.1370,2,  35.1483,2,    134.4,3,    136.7,2
   3175MB95_02,  IR03,    90,1,     21,     21,2,19950410,1939, -7.7997,  52.6700, 4354,    136.0,  15.3271,  35.1250,2,  35.1310,2,    108.4,2,    103.7,2
   3175MB95_02,  IR03,    90,1,     20,     20,2,19950410,1939, -7.7997,  52.6700, 4354,    206.4,  12.9840,  35.0612,2,  35.0586,2,    119.7,2,    122.8,2
   3175MB95_02,  IR03,    90,1,     19,     19,2,19950410,1939, -7.7997,  52.6700, 4354,    287.1,  11.5841,  34.9761,2,  34.9745,2,    133.1,2,    126.8,2
   3175MB95_02,  IR03,    90,1,     18,     18,2,19950410,1939, -7.7997,  52.6700, 4354,    381.4,  10.5362,  34.8941,2,  34.8930,2,    143.0,2,    138.0,2
   3175MB95_02,  IR03,    90,1,     17,     17,2,19950410,1939, -7.7997,  52.6700, 4354,    497.5,   9.1452,  34.8012,2,  34.8016,2,    128.2,2,    125.7,2
   3175MB95_02,  IR03,    90,1,     16,     16,2,19950410,1939, -7.7997,  52.6700, 4354,    648.1,   8.0065,  34.7615,2,  34.7601,2,    120.9,3,    117.9,2
   3175MB95_02,  IR03,    90,1,     15,     15,2,19950410,1939, -7.7997,  52.6700, 4354,    798.5,   6.9370,  34.8113,2,  34.8113,2,     85.5,2,     82.6,2
   3175MB95_02,  IR03,    90,1,     14,     14,2,19950410,1939, -7.7997,  52.6700, 4354,    988.8,   6.1936,  34.8123,2,  34.8103,2,     82.5,2,     80.5,2
   3175MB95_02,  IR03,    90,1,     13,     13,2,19950410,1939, -7.7997,  52.6700, 4354,   1199.3,   5.0515,  34.7939,2,  34.7925,2,     95.6,2,     92.6,2
   3175MB95_02,  IR03,    90,1,     12,     12,2,19950410,1939, -7.7997,  52.6700, 4354,   1397.8,   4.1108,  34.7733,2,  34.7727,2,    111.6,2,    110.0,2
   3175MB95_02,  IR03,    90,1,     11,     11,2,19950410,1939, -7.7997,  52.6700, 4354,   1685.9,   3.3976,  34.7582,2,  34.7573,2,    127.0,2,    125.2,2
   3175MB95_02,  IR03,    90,1,     10,     10,2,19950410,1939, -7.7997,  52.6700, 4354,   1994.4,   2.7268,  34.7512,2,  34.7500,2,    140.0,2,    139.5,2
   3175MB95_02,  IR03,    90,1,      9,      9,2,19950410,1939, -7.7997,  52.6700, 4354,   2290.8,   2.2212,  34.7446,2,  34.7434,2,    150.3,2,    150.6,2
   3175MB95_02,  IR03,    90,1,      8,      8,2,19950410,1939, -7.7997,  52.6700, 4354,   2598.5,   1.9312,  34.7428,2,  34.7419,2,    154.4,2,    155.3,2
   3175MB95_02,  IR03,    90,1,      7,      7,2,19950410,1939, -7.7997,  52.6700, 4354,   2892.5,   1.7960,  34.7384,2,  34.7391,2,    158.7,2,    159.4,2
   3175MB95_02,  IR03,    90,1,      6,      6,2,19950410,1939, -7.7997,  52.6700, 4354,   3188.2,   1.7073,  34.7343,2,  34.7337,2,    163.1,2,    163.8,2
   3175MB95_02,  IR03,    90,1,      5,      5,2,19950410,1939, -7.7997,  52.6700, 4354,   3477.4,   1.6497,  34.7313,2,  34.7300,2,    166.7,2,    167.1,2
   3175MB95_02,  IR03,    90,1,      4,      4,2,19950410,1939, -7.7997,  52.6700, 4354,   3802.8,   1.4906,  34.7255,2,  34.7245,2,    175.6,2,    175.4,2
   3175MB95_02,  IR03,    90,1,      3,      3,2,19950410,1939, -7.7997,  52.6700, 4354,   4145.9,   1.3986,  34.7212,2,  34.7214,2,    182.8,2,    182.0,2
   3175MB95_02,  IR03,    90,1,      2,      2,2,19950410,1939, -7.7997,  52.6700, 4354,   4240.7,   1.3796,  34.7204,2,  34.7197,2,    184.8,2,    183.6,2
   3175MB95_02,  IR03,    90,1,      1,      1,2,19950410,1939, -7.7997,  52.6700, 4354,   4443.0,   1.3197,  34.7163,2,  34.7258,4,    189.7,2,    187.3,2