BOTTLE,20220630CCHSIOAMB
EXPOCODE,SECT_ID,STNNBR,CASTNO,SAMPNO,BTLNBR,BTLNBR_FLAG_W,DATE,TIME,LATITUDE,LONGITUDE,DEPTH,CTDPRS,CTDTMP,CTDSAL,CTDSAL_FLAG_W,SALNTY,SALNTY_FLAG_W,CTDOXY,CTDOXY_FLAG_W,OXYGEN,OXYGEN_FLAG_W
,,,,,,,,,,,,DBAR,ITS-90,PSS-78,,PSS-78,,UMOL/KG,,UMOL/KG,
   3175MB95_02,  ISS1,    24,1,     24,     24,2,19950324,1015,-32.9993,  40.0012, 5103,      3.6,  24.2271,  35.7215,2,  35.7219,2,    208.4,2,    211.0,2
   3175MB95_02,  ISS1,    24,1,     23,     23,2,19950324,1015,-32.9993,  40.0012, 5103,     50.6,  22.8697,  35.6313,2,  35.6212,3,    220.0,2,    226.8,2
   3175MB95_02,  ISS1,    24,1,     22,     22,2,19950324,1015,-32.9993,  40.0012, 5103,    100.8,  18.0613,  35.6010,2,  35.6011,2,    208.7,2,    208.9,2
   3175MB95_02,  ISS1,    24,1,     21,     21,2,19950324,1015,-32.9993,  40.0012, 5103,    150.0,  16.9881,  35.5965,2,  35.5962,2,    211.5,2,    209.9,2
   3175MB95_02,  ISS1,    24,1,     20,     20,2,19950324,1015,-32.9993,  40.0012, 5103,    203.4,  16.4682,  35.5809,2,  35.5814,2,    214.9,2,    214.3,2
   3175MB95_02,  ISS1,    24,1,     19,     19,2,19950324,1015,-32.9993,  40.0012, 5103,    301.3,  15.2490,  35.4733,2,  35.4767,2,    208.7,2,    207.9,2
   3175MB95_02,  ISS1,    24,1,     18,     18,2,19950324,1015,-32.9993,  40.0012, 5103,    401.4,  13.9501,  35.3483,2,  35.3499,2,    214.4,2,    213.7,2
   3175MB95_02,  ISS1,    24,1,     17,     17,2,19950324,1015,-32.9993,  40.0012, 5103,    498.1,  13.0170,  35.2261,2,  35.2306,2,    217.1,2,    218.8,2
   3175MB95_02,  ISS1,    24,1,     16,     16,2,19950324,1015,-32.9993,  40.0012, 5103,    700.1,  10.5838,  34.8666,2,  34.8661,2,    211.3,3,    214.6,2
   3175MB95_02,  ISS1,    24,1,     15,     15,2,19950324,1015,-32.9993,  40.0012, 5103,    899.2,   7.9601,  34.5926,2,  34.6003,3,    200.4,2,    204.8,2
   3175MB95_02,  ISS1,    24,1,     14,     14,2,19950324,1015,-32.9993,  40.0012, 5103,   1199.7,   4.9851,  34.4664,2,  34.4660,2,    179.2,2,    182.1,2
   3175MB95_02,  ISS1,    24,1,     13,     13,2,19950324,1015,-32.9993,  40.0012, 5103,   1501.4,   3.5916,  34.5092,2,  34.5112,2,    171.9,2,    174.7,2
   3175MB95_02,  ISS1,    24,1,     12,     12,2,19950324,1015,-32.9993,  40.0012, 5103,   1802.2,   3.1194,  34.6438,2,  34.6436,2,    165.3,2,    165.7,2
   3175MB95_02,  ISS1,    24,1,     11,     11,2,19950324,1015,-32.9993,  40.0012, 5103,   2102.7,   2.8491,  34.7069,2,  34.7072,2,    173.8,2,    174.8,2
   3175MB95_02,  ISS1,    24,1,     10,     10,2,19950324,1015,-32.9993,  40.0012, 5103,   2400.6,   2.6698,  34.7554,2,  34.7557,2,    185.1,2,    186.6,2
   3175MB95_02,  ISS1,    24,1,      9,      9,2,19950324,1015,-32.9993,  40.0012, 5103,   2699.3,   2.4902,  34.7927,2,  34.7918,2,    197.4,2,    201.2,2
   3175MB95_02,  ISS1,    24,1,      8,      8,2,19950324,1015,-32.9993,  40.0012, 5103,   3003.0,   2.0083,  34.7989,2,  34.7995,2,    207.5,2,    213.2,2
   3175MB95_02,  ISS1,    24,1,      7,      7,2,19950324,1015,-32.9993,  40.0012, 5103,   3301.1,   1.6407,  34.7784,2,  34.7838,3,    209.4,2,    214.9,2
   3175MB95_02,  ISS1,    24,1,      6,      6,2,19950324,1015,-32.9993,  40.0012, 5103,   3599.2,   1.3672,  34.7587,2,  34.7609,2,    210.6,2,    215.7,2
   3175MB95_02,  ISS1,    24,1,      5,      5,2,19950324,1015,-32.9993,  40.0012, 5103,   3900.3,   1.1196,  34.7403,2,  34.7397,2,    211.7,2,    216.2,2
   3175MB95_02,  ISS1,    24,1,      4,      4,2,19950324,1015,-32.9993,  40.0012, 5103,   4200.4,   0.8298,  34.7184,2,  34.7184,2,    213.8,2,    217.4,2
   3175MB95_02,  ISS1,    24,1,      3,      3,2,19950324,1015,-32.9993,  40.0012, 5103,   4497.6,   0.6964,  34.7072,2,  34.7106,2,    216.0,7,    218.1,2
   3175MB95_02,  ISS1,    24,1,      2,      2,2,19950324,1015,-32.9993,  40.0012, 5103,   4798.3,   0.6373,  34.7005,2,  34.6994,2,    218.3,7,    218.5,2
   3175MB95_02,  ISS1,    24,1,      1,      1,2,19950324,1015,-32.9993,  40.0012, 5103,   5213.9,   0.5773,  34.6921,2,  34.6917,2,    223.2,2,    220.0,2
   3175MB95_02,  ISS1,    25,1,     20,     20,2,19950324,2111,-33.0010,  44.7500, 4871,      2.5,  22.3369,  35.7262,2,  35.7250,2,    217.9,2,    218.4,2
   3175MB95_02,  ISS1,    25,1,     21,     21,2,19950324,2111,-33.0010,  44.7500, 4871,      2.6,  22.3439,  35.7266,2,  35.7315,2,    218.0,2,    218.6,2
   3175MB95_02,  ISS1,    25,1,     22,     22,2,19950324,2111,-33.0010,  44.7500, 4871,      2.8,  22.3435,  35.7268,2,  35.7250,1,    218.4,9,    218.4,1
   3175MB95_02,  ISS1,    25,1,     19,     19,2,19950324,2111,-33.0010,  44.7500, 4871,     72.8,  17.5575,  35.5789,2,  35.5789,2,    233.2,2,    233.3,2
   3175MB95_02,  ISS1,    25,1,     18,     18,2,19950324,2111,-33.0010,  44.7500, 4871,    149.6,  16.1173,  35.5671,2,  35.5684,2,    219.5,2,    218.1,2
   3175MB95_02,  ISS1,    25,1,     17,     17,2,19950324,2111,-33.0010,  44.7500, 4871,    225.5,  15.3607,  35.5136,2,  35.5139,2,    222.2,2,    221.9,2
   3175MB95_02,  ISS1,    25,1,     16,     16,2,19950324,2111,-33.0010,  44.7500, 4871,    299.8,  14.2995,  35.3630,2,  35.3634,2,    210.1,2,    207.2,2
   3175MB95_02,  ISS1,    25,1,     15,     15,2,19950324,2111,-33.0010,  44.7500, 4871,    373.3,  13.6488,  35.3004,2,  35.3043,2,    215.2,2,    213.5,2
   3175MB95_02,  ISS1,    25,1,     14,     14,2,19950324,2111,-33.0010,  44.7500, 4871,    449.9,  12.7578,  35.1753,2,  35.1754,2,    219.0,2,    218.8,2
   3175MB95_02,  ISS1,    25,1,     13,     13,2,19950324,2111,-33.0010,  44.7500, 4871,    550.0,  11.6337,  35.0117,2,  35.0131,2,    216.6,2,    217.7,2
   3175MB95_02,  ISS1,    25,1,     12,     12,2,19950324,2111,-33.0010,  44.7500, 4871,    700.6,   9.9392,  34.7919,2,  34.7963,2,    210.9,2,    213.1,2
   3175MB95_02,  ISS1,    25,1,     11,     11,2,19950324,2111,-33.0010,  44.7500, 4871,    849.3,   7.8067,  34.5769,2,  34.5753,2,    201.2,2,    204.7,2
   3175MB95_02,  ISS1,    25,1,     10,     10,2,19950324,2111,-33.0010,  44.7500, 4871,   1100.1,   5.0254,  34.4120,2,  34.4122,2,    195.9,2,    199.7,2
   3175MB95_02,  ISS1,    25,1,      9,      9,2,19950324,2111,-33.0010,  44.7500, 4871,   1400.6,   3.4409,  34.5058,2,  34.5085,2,    174.4,2,    177.7,2
   3175MB95_02,  ISS1,    25,1,      8,      8,2,19950324,2111,-33.0010,  44.7500, 4871,   1700.0,   2.8858,  34.6424,2,  34.6426,2,    174.5,2,    175.4,2
   3175MB95_02,  ISS1,    25,1,      7,      7,2,19950324,2111,-33.0010,  44.7500, 4871,   1999.3,   2.7058,  34.7368,2,  34.7364,2,    180.1,2,    181.4,2
   3175MB95_02,  ISS1,    25,1,      6,      6,2,19950324,2111,-33.0010,  44.7500, 4871,   2298.0,   2.5182,  34.7738,2,  34.7744,2,    189.2,2,    189.8,2
   3175MB95_02,  ISS1,    25,1,      5,      5,2,19950324,2111,-33.0010,  44.7500, 4871,   2598.5,   2.3706,  34.7975,2,  34.7978,2,    201.1,2,    203.5,2
   3175MB95_02,  ISS1,    25,1,      4,      4,2,19950324,2111,-33.0010,  44.7500, 4871,   4099.8,   1.0514,  34.7344,2,  34.7329,2,    214.3,2,    216.4,2
   3175MB95_02,  ISS1,    25,1,      3,      3,2,19950324,2111,-33.0010,  44.7500, 4871,   4400.4,   0.7547,  34.7121,2,  34.7139,2,    216.5,2,    217.8,2
   3175MB95_02,  ISS1,    25,1,      2,      2,2,19950324,2111,-33.0010,  44.7500, 4871,   4700.5,   0.6380,  34.7014,2,  34.7032,2,    219.3,2,    218.4,2
   3175MB95_02,  ISS1,    25,1,      1,      1,2,19950324,2111,-33.0010,  44.7500, 4871,   4976.4,   0.6110,  34.6967,2,  34.6960,2,    222.7,2,    219.0,2
   3175MB95_02,  ISS1,    26,1,     24,     24,2,19950325,0430,-32.9995,  42.5000, 4262,      3.8,  22.2728,  35.7137,2,-999.0000,9,    220.4,2,    218.4,2
   3175MB95_02,  ISS1,    26,1,     23,     23,2,19950325,0430,-32.9995,  42.5000, 4262,     39.7,  22.1980,  35.7066,2,-999.0000,9,    221.6,2,    220.6,2
   3175MB95_02,  ISS1,    26,1,     22,     22,2,19950325,0430,-32.9995,  42.5000, 4262,     78.7,  17.5624,  35.5905,2,-999.0000,9,    231.8,2,    230.8,2
   3175MB95_02,  ISS1,    26,1,     21,     21,2,19950325,0430,-32.9995,  42.5000, 4262,    159.2,  15.8590,  35.5315,2,-999.0000,9,    217.7,2,    212.7,2
   3175MB95_02,  ISS1,    26,1,     20,     20,2,19950325,0430,-32.9995,  42.5000, 4262,    249.5,  14.8024,  35.4552,2,-999.0000,9,    224.5,2,    221.1,2
   3175MB95_02,  ISS1,    26,1,     19,     19,2,19950325,0430,-32.9995,  42.5000, 4262,    350.2,  13.7816,  35.3418,2,-999.0000,9,    227.8,2,    225.4,2
   3175MB95_02,  ISS1,    26,1,     18,     18,2,19950325,0430,-32.9995,  42.5000, 4262,    450.0,  12.9710,  35.2159,2,  35.2176,2,    223.6,2,    221.4,2
   3175MB95_02,  ISS1,    26,1,     17,     17,2,19950325,0430,-32.9995,  42.5000, 4262,    549.1,  12.0157,  35.0694,2,  35.0705,2,    220.6,2,    219.6,2
   3175MB95_02,  ISS1,    26,1,     16,     16,2,19950325,0430,-32.9995,  42.5000, 4262,    649.9,  10.8176,  34.8997,2,  34.8973,2,    216.7,2,    217.5,2
   3175MB95_02,  ISS1,    26,1,     15,     15,2,19950325,0430,-32.9995,  42.5000, 4262,    850.0,   8.0020,  34.5927,2,  34.5957,2,    204.4,2,    206.0,2
   3175MB95_02,  ISS1,    26,1,     14,     14,2,19950325,0430,-32.9995,  42.5000, 4262,   1049.2,   5.5015,  34.4256,2,  34.4250,2,    199.6,2,    202.3,2
   3175MB95_02,  ISS1,    26,1,     13,     13,2,19950325,0430,-32.9995,  42.5000, 4262,   1249.5,   4.2476,  34.4359,2,  34.4368,2,    185.4,2,    186.5,2
   3175MB95_02,  ISS1,    26,1,     12,     12,2,19950325,0430,-32.9995,  42.5000, 4262,   1449.2,   3.4977,  34.5391,2,  34.5404,2,    169.8,2,    168.1,2
   3175MB95_02,  ISS1,    26,1,     11,     11,2,19950325,0430,-32.9995,  42.5000, 4262,   1650.2,   3.1188,  34.6401,2,  34.6401,2,    167.1,2,    166.5,2
   3175MB95_02,  ISS1,    26,1,     10,     10,2,19950325,0430,-32.9995,  42.5000, 4262,   1842.3,   2.8457,  34.6895,2,  34.6897,2,    175.7,2,    173.9,2
   3175MB95_02,  ISS1,    26,1,      9,      9,2,19950325,0430,-32.9995,  42.5000, 4262,   2149.8,   2.5733,  34.7598,2,  34.7595,2,    192.3,2,    191.8,2
   3175MB95_02,  ISS1,    26,1,      8,      8,2,19950325,0430,-32.9995,  42.5000, 4262,   2448.7,   2.3805,  34.7921,2,  34.7914,2,    201.1,2,    201.4,2
   3175MB95_02,  ISS1,    26,1,      7,      7,2,19950325,0430,-32.9995,  42.5000, 4262,   2748.8,   2.2331,  34.8019,2,  34.8016,2,    208.2,2,    209.0,2
   3175MB95_02,  ISS1,    26,1,      6,      6,2,19950325,0430,-32.9995,  42.5000, 4262,   3048.7,   2.0477,  34.7996,2,  34.7985,2,    211.6,2,    212.6,2
   3175MB95_02,  ISS1,    26,1,      5,      5,2,19950325,0430,-32.9995,  42.5000, 4262,   3348.4,   1.8072,  34.7858,2,  34.7848,2,    213.2,2,    213.9,2
   3175MB95_02,  ISS1,    26,1,      4,      4,2,19950325,0430,-32.9995,  42.5000, 4262,   3649.8,   1.4912,  34.7653,2,  34.7644,2,    214.9,2,    215.2,2
   3175MB95_02,  ISS1,    26,1,      3,      3,2,19950325,0430,-32.9995,  42.5000, 4262,   3949.1,   1.0651,  34.7357,2,  34.7348,2,    217.7,2,    216.8,2
   3175MB95_02,  ISS1,    26,1,      2,      2,2,19950325,0430,-32.9995,  42.5000, 4262,   4249.1,   0.7490,  34.7124,2,  34.7109,2,    221.5,2,    217.9,2
   3175MB95_02,  ISS1,    26,1,      1,      1,2,19950325,0430,-32.9995,  42.5000, 4262,   4332.4,   0.6586,  34.7052,2,  34.7051,2,    223.7,2,    218.4,2
   3175MB95_02,  ISS1,    27,1,     24,     24,2,19950325,0856,-33.0015,  42.8988, 2671,      2.4,  22.0685,  35.6903,2,  35.6892,2,    218.6,2,    220.7,2
   3175MB95_02,  ISS1,    27,1,     23,     23,2,19950325,0856,-33.0015,  42.8988, 2671,     24.7,  21.8692,  35.6739,2,  35.6768,2,    221.1,2,    221.1,2
   3175MB95_02,  ISS1,    27,1,     22,     22,2,19950325,0856,-33.0015,  42.8988, 2671,     49.9,  18.8146,  35.5275,2,  35.5337,2,    241.8,2,    246.0,2
   3175MB95_02,  ISS1,    27,1,     21,     21,2,19950325,0856,-33.0015,  42.8988, 2671,     74.2,  17.5191,  35.5481,2,  35.5579,2,    228.0,2,    234.5,2
   3175MB95_02,  ISS1,    27,1,     20,     20,2,19950325,0856,-33.0015,  42.8988, 2671,    125.7,  15.9863,  35.5451,2,  35.5442,2,    218.5,2,    217.2,2
   3175MB95_02,  ISS1,    27,1,     19,     19,2,19950325,0856,-33.0015,  42.8988, 2671,    248.5,  14.7973,  35.4669,2,  35.4670,2,    225.0,2,    225.2,2
   3175MB95_02,  ISS1,    27,1,     18,     18,2,19950325,0856,-33.0015,  42.8988, 2671,    324.8,  14.1242,  35.3843,2,  35.3798,2,    221.5,2,    222.1,2
   3175MB95_02,  ISS1,    27,1,     17,     17,2,19950325,0856,-33.0015,  42.8988, 2671,    423.3,  13.2519,  35.2665,2,  35.2666,2,    222.3,2,    222.9,2
   3175MB95_02,  ISS1,    27,1,     16,     16,2,19950325,0856,-33.0015,  42.8988, 2671,    523.9,  12.2973,  35.1172,2,  35.1195,2,    219.6,2,    221.2,2
   3175MB95_02,  ISS1,    27,1,     15,     15,2,19950325,0856,-33.0015,  42.8988, 2671,    623.5,  11.0832,  34.9359,2,  34.9388,2,    216.6,2,    218.6,2
   3175MB95_02,  ISS1,    27,1,     14,     14,2,19950325,0856,-33.0015,  42.8988, 2671,    720.8,   9.8853,  34.7820,2,  34.7834,2,    211.2,2,    214.5,2
   3175MB95_02,  ISS1,    27,1,     13,     13,2,19950325,0856,-33.0015,  42.8988, 2671,    824.4,   8.7438,  34.6670,2,  34.6680,2,    202.9,2,    206.4,2
   3175MB95_02,  ISS1,    27,1,     12,     12,2,19950325,0856,-33.0015,  42.8988, 2671,    925.2,   7.2456,  34.5399,2,  34.5392,2,    197.7,2,    201.2,2
   3175MB95_02,  ISS1,    27,1,     11,     11,2,19950325,0856,-33.0015,  42.8988, 2671,   1024.5,   6.0523,  34.4649,2,  34.4669,2,    194.4,2,    198.1,2
   3175MB95_02,  ISS1,    27,1,     10,     10,2,19950325,0856,-33.0015,  42.8988, 2671,   1125.3,   5.0165,  34.4274,2,  34.4276,2,    190.2,2,    194.4,2
   3175MB95_02,  ISS1,    27,1,      9,      9,2,19950325,0856,-33.0015,  42.8988, 2671,   1274.4,   4.1463,  34.4485,2,  34.4476,2,    179.9,2,    183.9,2
   3175MB95_02,  ISS1,    27,1,      8,      8,2,19950325,0856,-33.0015,  42.8988, 2671,   1401.9,   3.6610,  34.5012,2,  34.4999,2,    171.6,2,    174.0,2
   3175MB95_02,  ISS1,    27,1,      7,      7,2,19950325,0856,-33.0015,  42.8988, 2671,   1599.7,   3.1823,  34.5932,2,  34.5923,2,    167.1,2,    167.6,2
   3175MB95_02,  ISS1,    27,1,      6,      6,2,19950325,0856,-33.0015,  42.8988, 2671,   1801.1,   2.9644,  34.6709,2,  34.6691,2,    169.1,2,    169.3,2
   3175MB95_02,  ISS1,    27,1,      5,      5,2,19950325,0856,-33.0015,  42.8988, 2671,   1998.4,   2.7772,  34.7195,2,  34.7176,2,    177.3,2,    177.0,2
   3175MB95_02,  ISS1,    27,1,      4,      4,2,19950325,0856,-33.0015,  42.8988, 2671,   2198.6,   2.5996,  34.7531,2,  34.7524,2,    189.5,2,    189.8,2
   3175MB95_02,  ISS1,    27,1,      3,      3,2,19950325,0856,-33.0015,  42.8988, 2671,   2402.4,   2.4809,  34.7799,2,  34.7792,2,    196.3,2,    195.9,2
   3175MB95_02,  ISS1,    27,1,      2,      2,2,19950325,0856,-33.0015,  42.8988, 2671,   2601.5,   2.3662,  34.7969,2,  34.7964,2,    204.8,2,    204.8,2
   3175MB95_02,  ISS1,    27,1,      1,      1,2,19950325,0856,-33.0015,  42.8988, 2671,   2707.5,   2.2801,  34.7998,2,  34.7990,2,    208.0,2,    207.2,2
   3175MB95_02,  ISS1,    28,1,     22,     22,2,19950325,1352,-33.0005,  43.6648,  930,      2.0,  22.6891,  35.6389,2,  35.6379,2,    214.3,2,    216.7,2
   3175MB95_02,  ISS1,    28,1,     23,     23,2,19950325,1352,-33.0005,  43.6648,  930,      2.1,  22.6897,  35.6391,2,  35.6365,2,    214.3,2,    216.7,2
   3175MB95_02,  ISS1,    28,1,     24,     24,2,19950325,1352,-33.0005,  43.6648,  930,      2.6,  22.6911,  35.6389,2,  35.6397,2,    214.0,2,    232.9,3
   3175MB95_02,  ISS1,    28,1,     21,     21,2,19950325,1352,-33.0005,  43.6648,  930,     21.3,  22.5351,  35.6349,2,  35.6342,2,    216.4,2,    217.6,2
   3175MB95_02,  ISS1,    28,1,     20,     20,2,19950325,1352,-33.0005,  43.6648,  930,     60.9,  18.7054,  35.5867,2,  35.5890,2,    222.5,2,    226.2,2
   3175MB95_02,  ISS1,    28,1,     19,     19,2,19950325,1352,-33.0005,  43.6648,  930,    109.9,  16.6703,  35.5693,2,  35.5694,2,    217.3,2,    216.7,2
   3175MB95_02,  ISS1,    28,1,     18,     18,2,19950325,1352,-33.0005,  43.6648,  930,    161.1,  16.1523,  35.5554,2,  35.5555,2,    215.0,2,    214.5,2
   3175MB95_02,  ISS1,    28,1,     17,     17,2,19950325,1352,-33.0005,  43.6648,  930,    210.9,  15.3187,  35.4896,2,  35.4895,2,    213.5,2,    212.2,2
   3175MB95_02,  ISS1,    28,1,     16,     16,2,19950325,1352,-33.0005,  43.6648,  930,    262.1,  14.5386,  35.4066,2,  35.4039,2,    212.5,2,    210.6,2
   3175MB95_02,  ISS1,    28,1,     15,     15,2,19950325,1352,-33.0005,  43.6648,  930,    299.2,  14.1564,  35.3756,2,  35.3756,2,    217.0,2,    215.6,2
   3175MB95_02,  ISS1,    28,1,     14,     14,2,19950325,1352,-33.0005,  43.6648,  930,    348.7,  13.8137,  35.3382,2,  35.3380,2,    218.7,2,    218.5,2
   3175MB95_02,  ISS1,    28,1,     13,     13,2,19950325,1352,-33.0005,  43.6648,  930,    401.2,  13.3007,  35.2621,2,  35.2616,2,    217.2,2,    216.4,2
   3175MB95_02,  ISS1,    28,1,     12,     12,2,19950325,1352,-33.0005,  43.6648,  930,    450.5,  12.7286,  35.1785,2,  35.1815,2,    217.6,3,    217.2,2
   3175MB95_02,  ISS1,    28,1,     11,     11,2,19950325,1352,-33.0005,  43.6648,  930,    500.7,  12.2118,  35.1013,2,  35.1016,2,    217.6,2,    217.4,2
   3175MB95_02,  ISS1,    28,1,     10,     10,2,19950325,1352,-33.0005,  43.6648,  930,    552.7,  11.5367,  35.0076,2,  35.0120,2,    221.4,3,    221.4,2
   3175MB95_02,  ISS1,    28,1,      9,      9,2,19950325,1352,-33.0005,  43.6648,  930,    649.9,  10.4464,  34.8564,2,  34.8573,2,    217.1,2,    217.0,2
   3175MB95_02,  ISS1,    28,1,      8,      8,2,19950325,1352,-33.0005,  43.6648,  930,    752.4,   9.4692,  34.7404,2,  34.7402,2,    213.3,2,    212.2,2
   3175MB95_02,  ISS1,    28,1,      7,      7,2,19950325,1352,-33.0005,  43.6648,  930,    851.6,   8.0959,  34.6045,2,  34.6107,3,    210.9,2,    207.5,2
   3175MB95_02,  ISS1,    28,1,      6,      6,2,19950325,1352,-33.0005,  43.6648,  930,    902.2,   7.4239,  34.5502,2,  34.5507,2,    211.8,2,    205.0,2
   3175MB95_02,  ISS1,    28,1,      3,      3,2,19950325,1352,-33.0005,  43.6648,  930,    902.4,   7.4202,  34.5497,2,  34.5563,3,    212.5,2,    205.0,3
   3175MB95_02,  ISS1,    28,1,      4,      4,2,19950325,1352,-33.0005,  43.6648,  930,    902.9,   7.4216,  34.5497,2,  34.5577,3,    212.4,2,    204.7,3
   3175MB95_02,  ISS1,    28,1,      5,      5,2,19950325,1352,-33.0005,  43.6648,  930,    903.6,   7.4192,  34.5499,2,  34.5518,2,    212.1,2,    204.9,3
   3175MB95_02,  ISS1,    28,1,      1,      1,2,19950325,1352,-33.0005,  43.6648,  930,    919.2,   7.3568,  34.5453,2,  34.5425,2,    215.2,2,    204.0,3
   3175MB95_02,  ISS1,    28,1,      2,      2,2,19950325,1352,-33.0005,  43.6648,  930,    920.5,   7.2777,  34.5400,2,  34.5413,2,    215.1,2,    204.1,3