BOTTLE,20220630CCHSIOAMB
EXPOCODE,SECT_ID,STNNBR,CASTNO,SAMPNO,BTLNBR,BTLNBR_FLAG_W,DATE,TIME,LATITUDE,LONGITUDE,DEPTH,CTDPRS,CTDTMP,CTDSAL,CTDSAL_FLAG_W,SALNTY,SALNTY_FLAG_W,CTDOXY,CTDOXY_FLAG_W,OXYGEN,OXYGEN_FLAG_W
,,,,,,,,,,,,DBAR,ITS-90,PSS-78,,PSS-78,,UMOL/KG,,UMOL/KG,
   3175MB95_02,  IR03,   126,1,     24,     24,2,19950418,0647,  8.1805,  62.9900, 4625,      2.0,  29.4089,  35.4367,2,  35.4378,2,    204.8,2,    194.4,2
   3175MB95_02,  IR03,   126,1,     23,     23,2,19950418,0647,  8.1805,  62.9900, 4625,     49.7,  27.7546,  35.4847,2,  35.4919,2,    214.9,2,    205.2,2
   3175MB95_02,  IR03,   126,1,     22,     22,2,19950418,0647,  8.1805,  62.9900, 4625,     99.4,  25.9017,  35.9626,2,  35.9603,2,    185.9,2,    175.8,2
   3175MB95_02,  IR03,   126,1,     21,     21,2,19950418,0647,  8.1805,  62.9900, 4625,    148.2,  19.6583,  35.4716,2,  35.4813,2,     81.4,2,     79.8,2
   3175MB95_02,  IR03,   126,1,     20,     20,2,19950418,0647,  8.1805,  62.9900, 4625,    222.9,  13.7264,  35.2467,2,  35.2530,2,     47.4,2,     44.7,2
   3175MB95_02,  IR03,   126,1,     19,     19,2,19950418,0647,  8.1805,  62.9900, 4625,    321.9,  12.2050,  35.2474,2,  35.2464,2,     43.9,2,     46.0,2
   3175MB95_02,  IR03,   126,1,     18,     18,2,19950418,0647,  8.1805,  62.9900, 4625,    418.0,  11.7692,  35.3296,2,  35.3285,2,     26.7,2,     26.5,2
   3175MB95_02,  IR03,   126,1,     17,     17,2,19950418,0647,  8.1805,  62.9900, 4625,    519.1,  10.6257,  35.2683,2,  35.2693,2,     19.6,2,     19.7,2
   3175MB95_02,  IR03,   126,1,     16,     16,2,19950418,0647,  8.1805,  62.9900, 4625,    649.8,  10.2252,  35.3355,2,  35.3320,2,     15.3,2,     15.6,2
   3175MB95_02,  IR03,   126,1,     15,     15,2,19950418,0647,  8.1805,  62.9900, 4625,    773.5,   8.8625,  35.1723,2,  35.1729,2,     21.3,2,     20.7,2
   3175MB95_02,  IR03,   126,1,     14,     14,2,19950418,0647,  8.1805,  62.9900, 4625,    898.6,   7.9161,  35.1148,2,  35.1149,2,     28.2,2,     27.4,2
   3175MB95_02,  IR03,   126,1,     13,     13,2,19950418,0647,  8.1805,  62.9900, 4625,   1147.2,   6.4365,  35.0342,2,  35.0350,2,     44.9,2,     43.2,2
   3175MB95_02,  IR03,   126,1,     12,     12,2,19950418,0647,  8.1805,  62.9900, 4625,   1446.9,   4.8949,  34.9347,2,  34.9348,2,     71.9,2,     70.3,2
   3175MB95_02,  IR03,   126,1,     11,     11,2,19950418,0647,  8.1805,  62.9900, 4625,   1748.3,   3.5486,  34.8451,2,  34.8445,2,    100.0,2,     99.3,2
   3175MB95_02,  IR03,   126,1,     10,     10,2,19950418,0647,  8.1805,  62.9900, 4625,   2048.5,   2.7042,  34.7918,2,  34.7912,2,    122.4,2,    121.8,2
   3175MB95_02,  IR03,   126,1,      9,      9,2,19950418,0647,  8.1805,  62.9900, 4625,   2346.8,   2.3383,  34.7721,2,  34.7719,2,    132.7,2,    132.7,2
   3175MB95_02,  IR03,   126,1,      8,      8,2,19950418,0647,  8.1805,  62.9900, 4625,   2645.5,   2.0640,  34.7594,2,  34.7589,2,    139.0,2,    139.8,2
   3175MB95_02,  IR03,   126,1,      7,      7,2,19950418,0647,  8.1805,  62.9900, 4625,   2946.0,   1.8582,  34.7478,2,  34.7495,2,    145.7,2,    146.9,2
   3175MB95_02,  IR03,   126,1,      6,      6,2,19950418,0647,  8.1805,  62.9900, 4625,   3246.8,   1.7475,  34.7413,2,  34.7417,2,    150.5,2,    151.9,2
   3175MB95_02,  IR03,   126,1,      5,      5,2,19950418,0647,  8.1805,  62.9900, 4625,   3546.1,   1.6893,  34.7375,2,  34.7363,2,    153.5,2,    154.9,2
   3175MB95_02,  IR03,   126,1,      4,      4,2,19950418,0647,  8.1805,  62.9900, 4625,   3847.6,   1.6481,  34.7343,2,  34.7340,2,    156.9,2,    157.9,2
   3175MB95_02,  IR03,   126,1,      3,      3,2,19950418,0647,  8.1805,  62.9900, 4625,   4149.9,   1.6215,  34.7318,2,  34.7318,2,    161.0,2,    162.1,2
   3175MB95_02,  IR03,   126,1,      2,      2,2,19950418,0647,  8.1805,  62.9900, 4625,   4450.7,   1.6258,  34.7304,2,  34.7291,2,    164.1,2,    164.2,2
   3175MB95_02,  IR03,   126,1,      1,      1,2,19950418,0647,  8.1805,  62.9900, 4625,   4714.4,   1.6426,  34.7259,2,  34.7295,2,    166.5,2,    165.6,2
   3175MB95_02,  IR03,   127,1,     24,     24,2,19950418,1315,  8.4990,  63.5782, 4563,      1.8,  29.4665,  35.1536,2,  35.1547,2,    204.4,2,    194.0,2
   3175MB95_02,  IR03,   127,1,     23,     23,2,19950418,1315,  8.4990,  63.5782, 4563,     49.8,  28.1648,  35.5157,2,  35.4875,4,    217.2,2,    205.3,2
   3175MB95_02,  IR03,   127,1,     22,     22,2,19950418,1315,  8.4990,  63.5782, 4563,    100.5,  25.2712,  35.8944,2,  35.9395,4,    161.4,2,    152.9,2
   3175MB95_02,  IR03,   127,1,     21,     21,2,19950418,1315,  8.4990,  63.5782, 4563,    148.2,  19.3745,  35.5625,2,  35.5671,2,     23.1,2,     26.3,2
   3175MB95_02,  IR03,   127,1,     20,     20,2,19950418,1315,  8.4990,  63.5782, 4563,    201.9,  15.7932,  35.3825,2,  35.3817,2,     33.5,2,     31.5,2
   3175MB95_02,  IR03,   127,1,     19,     19,2,19950418,1315,  8.4990,  63.5782, 4563,    249.4,  13.8584,  35.2995,2,  35.2984,2,     54.3,2,     51.0,2
   3175MB95_02,  IR03,   127,1,     18,     18,2,19950418,1315,  8.4990,  63.5782, 4563,    299.6,  12.7355,  35.2456,2,  35.2486,2,     45.2,2,     42.4,2
   3175MB95_02,  IR03,   127,1,     17,     17,2,19950418,1315,  8.4990,  63.5782, 4563,    448.4,  11.4931,  35.3389,2,  35.3368,2,     13.6,2,     13.1,2
   3175MB95_02,  IR03,   127,1,     16,     16,2,19950418,1315,  8.4990,  63.5782, 4563,    549.5,  10.9390,  35.3511,2,  35.3509,2,     20.3,2,     20.3,2
   3175MB95_02,  IR03,   127,1,     15,     15,2,19950418,1315,  8.4990,  63.5782, 4563,    701.9,   9.8649,  35.3095,2,  35.3072,2,     15.2,2,     15.3,2
   3175MB95_02,  IR03,   127,1,     14,     14,2,19950418,1315,  8.4990,  63.5782, 4563,    800.1,   8.5869,  35.1651,2,  35.1639,2,     22.8,2,     22.4,2
   3175MB95_02,  IR03,   127,1,     13,     13,2,19950418,1315,  8.4990,  63.5782, 4563,   1000.9,   7.1696,  35.0640,2,  35.0655,2,     35.5,2,     34.7,2
   3175MB95_02,  IR03,   127,1,     12,     12,2,19950418,1315,  8.4990,  63.5782, 4563,   1203.3,   6.3335,  35.0152,2,  35.0161,2,     46.0,2,     45.1,2
   3175MB95_02,  IR03,   127,1,     11,     11,2,19950418,1315,  8.4990,  63.5782, 4563,   1500.0,   4.7862,  34.9184,2,  34.9233,3,     69.6,2,     68.4,2
   3175MB95_02,  IR03,   127,1,     10,     10,2,19950418,1315,  8.4990,  63.5782, 4563,   1800.9,   3.4635,  34.8388,2,  34.8397,2,     97.9,2,     97.4,2
   3175MB95_02,  IR03,   127,1,      9,      9,2,19950418,1315,  8.4990,  63.5782, 4563,   2102.5,   2.6093,  34.7870,2,  34.7876,2,    122.9,2,    122.7,2
   3175MB95_02,  IR03,   127,1,      8,      8,2,19950418,1315,  8.4990,  63.5782, 4563,   2403.9,   2.1993,  34.7664,2,  34.7728,3,    134.3,2,    135.4,2
   3175MB95_02,  IR03,   127,1,      7,      7,2,19950418,1315,  8.4990,  63.5782, 4563,   2700.1,   1.9640,  34.7541,2,  34.7556,2,    140.5,2,    141.7,2
   3175MB95_02,  IR03,   127,1,      6,      6,2,19950418,1315,  8.4990,  63.5782, 4563,   2998.4,   1.8194,  34.7456,2,  34.7463,2,    146.9,2,    148.7,2
   3175MB95_02,  IR03,   127,1,      5,      5,2,19950418,1315,  8.4990,  63.5782, 4563,   3301.1,   1.7328,  34.7404,2,  34.7417,2,    150.2,2,    152.6,2
   3175MB95_02,  IR03,   127,1,      4,      4,2,19950418,1315,  8.4990,  63.5782, 4563,   3598.5,   1.6715,  34.7365,2,  34.7372,2,    153.7,2,    155.7,2
   3175MB95_02,  IR03,   127,1,      3,      3,2,19950418,1315,  8.4990,  63.5782, 4563,   3900.0,   1.6363,  34.7337,2,  34.7332,2,    157.0,2,    159.4,2
   3175MB95_02,  IR03,   127,1,      2,      2,2,19950418,1315,  8.4990,  63.5782, 4563,   4202.2,   1.6244,  34.7314,2,  34.7321,2,    160.1,2,    161.8,2
   3175MB95_02,  IR03,   127,1,      1,      1,2,19950418,1315,  8.4990,  63.5782, 4563,   4638.7,   1.6561,  34.7305,2,  34.7302,2,    164.1,2,    163.0,2