BOTTLE,20220630CCHSIOAMB
EXPOCODE,SECT_ID,STNNBR,CASTNO,SAMPNO,BTLNBR,BTLNBR_FLAG_W,DATE,TIME,LATITUDE,LONGITUDE,DEPTH,CTDPRS,CTDTMP,CTDSAL,CTDSAL_FLAG_W,SALNTY,SALNTY_FLAG_W,CTDOXY,CTDOXY_FLAG_W,OXYGEN,OXYGEN_FLAG_W
,,,,,,,,,,,,DBAR,ITS-90,PSS-78,,PSS-78,,UMOL/KG,,UMOL/KG,
   3175MB95_02,  IR03,    91,1,     24,     24,2,19950411,0009, -7.5492,  52.8825, 1861,      2.0,  29.7980,  34.5767,2,  34.5883,2,    193.3,2,    193.5,2
   3175MB95_02,  IR03,    91,1,     23,     23,2,19950411,0009, -7.5492,  52.8825, 1861,     35.4,  25.3558,  35.1900,2,-999.0000,9,    194.9,2,   -999.0,9
   3175MB95_02,  IR03,    91,1,     22,     22,2,19950411,0009, -7.5492,  52.8825, 1861,     77.7,  19.8357,  35.1863,2,  35.1895,2,    129.0,2,    126.1,2
   3175MB95_02,  IR03,    91,1,     21,     21,2,19950411,0009, -7.5492,  52.8825, 1861,    127.2,  15.3426,  35.1399,2,  35.1410,2,    108.2,2,    103.9,2
   3175MB95_02,  IR03,    91,1,     20,     20,2,19950411,0009, -7.5492,  52.8825, 1861,    201.3,  13.6542,  35.1173,2,  35.1176,2,    124.2,2,    119.0,2
   3175MB95_02,  IR03,    91,1,     19,     19,2,19950411,0009, -7.5492,  52.8825, 1861,    251.5,  12.6922,  35.0663,2,  35.0875,4,    129.1,2,    124.2,2
   3175MB95_02,  IR03,    91,1,     18,     18,2,19950411,0009, -7.5492,  52.8825, 1861,    302.6,  11.7325,  34.9950,2,  34.9949,2,    126.9,2,    122.7,2
   3175MB95_02,  IR03,    91,1,     17,     17,2,19950411,0009, -7.5492,  52.8825, 1861,    400.3,  10.4970,  34.9068,2,  34.9065,2,    127.7,2,    122.8,2
   3175MB95_02,  IR03,    91,1,     16,     16,2,19950411,0009, -7.5492,  52.8825, 1861,    502.3,   9.2438,  34.8087,2,  34.8050,2,    134.9,2,    131.6,2
   3175MB95_02,  IR03,    91,1,     15,     15,2,19950411,0009, -7.5492,  52.8825, 1861,    592.6,   8.1640,  34.7605,2,  34.7604,2,    126.4,2,    123.0,2
   3175MB95_02,  IR03,    91,1,     14,     14,2,19950411,0009, -7.5492,  52.8825, 1861,    700.1,   7.3024,  34.7703,2,  34.7698,2,    106.1,2,    100.5,2
   3175MB95_02,  IR03,    91,1,     13,     13,2,19950411,0009, -7.5492,  52.8825, 1861,    801.9,   7.0390,  34.8085,2,  34.8081,2,     86.2,2,     83.7,2
   3175MB95_02,  IR03,    91,1,     12,     12,2,19950411,0009, -7.5492,  52.8825, 1861,    903.3,   6.3820,  34.8153,2,  34.8153,2,     81.6,2,     79.1,2
   3175MB95_02,  IR03,    91,1,     11,     11,2,19950411,0009, -7.5492,  52.8825, 1861,   1003.1,   5.8705,  34.8178,2,  34.8173,2,     82.4,2,     79.7,2
   3175MB95_02,  IR03,    91,1,     10,     10,2,19950411,0009, -7.5492,  52.8825, 1861,   1099.8,   5.5387,  34.8121,2,  34.8118,2,     88.3,2,     84.8,2
   3175MB95_02,  IR03,    91,1,      9,      9,2,19950411,0009, -7.5492,  52.8825, 1861,   1199.7,   5.0735,  34.7995,2,  34.7992,2,     95.4,2,     92.0,2
   3175MB95_02,  IR03,    91,1,      8,      8,2,19950411,0009, -7.5492,  52.8825, 1861,   1300.1,   4.6142,  34.7841,2,  34.7856,2,    103.0,3,    108.2,2
   3175MB95_02,  IR03,    91,1,      7,      7,2,19950411,0009, -7.5492,  52.8825, 1861,   1402.2,   4.1511,  34.7691,2,  34.7689,2,    113.5,2,    109.6,2
   3175MB95_02,  IR03,    91,1,      6,      6,2,19950411,0009, -7.5492,  52.8825, 1861,   1501.4,   3.7782,  34.7637,2,  34.7652,2,    121.2,2,    117.0,2
   3175MB95_02,  IR03,    91,1,      5,      5,2,19950411,0009, -7.5492,  52.8825, 1861,   1601.2,   3.4017,  34.7552,2,  34.7544,2,    129.4,2,    125.3,2
   3175MB95_02,  IR03,    91,1,      4,      4,2,19950411,0009, -7.5492,  52.8825, 1861,   1699.9,   3.3066,  34.7538,2,  34.7534,2,    132.0,2,    127.7,2
   3175MB95_02,  IR03,    91,1,      3,      3,2,19950411,0009, -7.5492,  52.8825, 1861,   1800.4,   3.0683,  34.7523,2,  34.7512,2,    137.1,2,    132.6,2
   3175MB95_02,  IR03,    91,1,      2,      2,2,19950411,0009, -7.5492,  52.8825, 1861,   1899.9,   2.9374,  34.7510,2,  34.7499,2,    141.2,2,    135.2,2
   3175MB95_02,  IR03,    91,1,      1,      1,2,19950411,0009, -7.5492,  52.8825, 1861,   1944.6,   2.7742,  34.7494,2,  34.7495,2,    144.6,2,    138.7,2
   3175MB95_02,  IR03,    92,1,     24,     24,2,19950411,0249, -7.2492,  52.8805, 3628,      1.9,  29.9572,  34.8280,2,  34.8340,2,    192.2,2,    192.3,2
   3175MB95_02,  IR03,    92,1,     23,     23,2,19950411,0249, -7.2492,  52.8805, 3628,     39.7,  25.1538,  35.1105,2,-999.0000,9,    180.5,2,   -999.0,9
   3175MB95_02,  IR03,    92,1,     22,     22,2,19950411,0249, -7.2492,  52.8805, 3628,     69.2,  20.8172,  35.1990,2,  35.2088,2,    136.8,2,    135.9,2
   3175MB95_02,  IR03,    92,1,     21,     21,2,19950411,0249, -7.2492,  52.8805, 3628,    117.8,  17.0072,  35.1695,2,  35.1784,2,    109.7,2,    106.8,2
   3175MB95_02,  IR03,    92,1,     20,     20,2,19950411,0249, -7.2492,  52.8805, 3628,    197.1,  12.8546,  35.0598,2,  35.0629,2,    126.3,2,    119.7,2
   3175MB95_02,  IR03,    92,1,     19,     19,2,19950411,0249, -7.2492,  52.8805, 3628,    300.0,  11.9242,  35.0117,2,  35.0127,2,    130.3,2,    124.7,2
   3175MB95_02,  IR03,    92,1,     18,     18,2,19950411,0249, -7.2492,  52.8805, 3628,    397.0,  10.4521,  34.8895,2,  34.8896,2,    145.5,2,    141.0,2
   3175MB95_02,  IR03,    92,1,     17,     17,2,19950411,0249, -7.2492,  52.8805, 3628,    490.4,   9.0782,  34.8055,2,  34.8053,2,    129.6,2,    126.5,2
   3175MB95_02,  IR03,    92,1,     16,     16,2,19950411,0249, -7.2492,  52.8805, 3628,    596.6,   8.3042,  34.8174,2,  34.8157,2,     98.0,2,     95.4,2
   3175MB95_02,  IR03,    92,1,     15,     15,2,19950411,0249, -7.2492,  52.8805, 3628,    698.0,   7.5384,  34.8025,2,  34.8032,2,     90.7,2,     88.8,2
   3175MB95_02,  IR03,    92,1,     14,     14,2,19950411,0249, -7.2492,  52.8805, 3628,    799.0,   6.9081,  34.8356,2,  34.8348,2,     78.4,2,     76.1,2
   3175MB95_02,  IR03,    92,1,     13,     13,2,19950411,0249, -7.2492,  52.8805, 3628,    993.4,   5.9470,  34.8188,2,  34.8187,2,     84.0,2,     81.4,2
   3175MB95_02,  IR03,    92,1,     12,     12,2,19950411,0249, -7.2492,  52.8805, 3628,   1187.9,   5.5969,  34.8430,2,  34.8412,2,     83.6,2,     79.8,2
   3175MB95_02,  IR03,    92,1,     11,     11,2,19950411,0249, -7.2492,  52.8805, 3628,   1397.6,   4.2228,  34.7740,2,  34.7744,2,    109.9,3,    117.9,3
   3175MB95_02,  IR03,    92,1,     10,     10,2,19950411,0249, -7.2492,  52.8805, 3628,   1599.3,   3.5177,  34.7577,2,  34.7568,2,    124.8,2,    122.6,2
   3175MB95_02,  IR03,    92,1,      9,      9,2,19950411,0249, -7.2492,  52.8805, 3628,   1897.4,   2.8581,  34.7463,2,  34.7460,2,    139.4,2,    138.4,2
   3175MB95_02,  IR03,    92,1,      8,      8,2,19950411,0249, -7.2492,  52.8805, 3628,   2195.7,   2.4027,  34.7466,2,  34.7467,2,    148.0,2,    148.1,2
   3175MB95_02,  IR03,    92,1,      7,      7,2,19950411,0249, -7.2492,  52.8805, 3628,   2386.1,   2.1752,  34.7438,2,  34.7434,2,    152.2,2,    151.9,2
   3175MB95_02,  IR03,    92,1,      6,      6,2,19950411,0249, -7.2492,  52.8805, 3628,   2686.3,   1.9337,  34.7411,2,  34.7399,2,    157.2,2,    156.3,2
   3175MB95_02,  IR03,    92,1,      5,      5,2,19950411,0249, -7.2492,  52.8805, 3628,   2995.3,   1.8024,  34.7375,2,  34.7401,2,    161.5,2,    160.5,2
   3175MB95_02,  IR03,    92,1,      4,      4,2,19950411,0249, -7.2492,  52.8805, 3628,   3285.4,   1.7293,  34.7343,2,  34.7322,2,    165.5,2,    163.8,2
   3175MB95_02,  IR03,    92,1,      3,      3,2,19950411,0249, -7.2492,  52.8805, 3628,   3597.2,   1.6464,  34.7305,2,  34.7290,2,    170.8,2,    168.0,2
   3175MB95_02,  IR03,    92,1,      2,      2,2,19950411,0249, -7.2492,  52.8805, 3628,   3647.8,   1.6305,  34.7301,2,  34.7274,2,    171.8,2,    168.7,2
   3175MB95_02,  IR03,    92,1,      1,      1,2,19950411,0249, -7.2492,  52.8805, 3628,   3698.6,   1.6275,  34.7296,2,  34.7294,2,    172.7,2,    168.9,2
   3175MB95_02,  IR03,    93,1,     16,     16,2,19950411,0808, -6.7772,  52.8827, 2270,      1.0,  30.2888,  34.8935,2,  34.8976,2,    190.8,2,    192.8,2
   3175MB95_02,  IR03,    93,1,     15,     15,2,19950411,0808, -6.7772,  52.8827, 2270,     23.6,  29.8616,  35.0292,2,  35.0390,2,    194.6,2,    194.9,2
   3175MB95_02,  IR03,    93,1,     14,     14,2,19950411,0808, -6.7772,  52.8827, 2270,     48.3,  26.6371,  35.2065,2,  35.1879,3,    199.5,2,    204.1,2
   3175MB95_02,  IR03,    93,1,     13,     13,2,19950411,0808, -6.7772,  52.8827, 2270,    100.7,  18.3102,  35.1889,2,  35.1992,2,    114.8,2,    114.9,2
   3175MB95_02,  IR03,    93,1,     12,     12,2,19950411,0808, -6.7772,  52.8827, 2270,    148.5,  14.8852,  35.1323,2,  35.1326,2,    113.6,2,    108.6,2
   3175MB95_02,  IR03,    93,1,     11,     11,2,19950411,0808, -6.7772,  52.8827, 2270,    221.1,  12.9238,  35.0790,2,  35.0852,2,    123.1,3,    122.2,2
   3175MB95_02,  IR03,    93,1,     10,     10,2,19950411,0808, -6.7772,  52.8827, 2270,    299.5,  11.0260,  34.9447,2,  34.9460,2,    123.4,2,    120.4,2
   3175MB95_02,  IR03,    93,1,      9,      9,2,19950411,0808, -6.7772,  52.8827, 2270,    400.5,  10.1519,  34.8867,2,  34.8887,2,    117.2,2,    115.2,2
   3175MB95_02,  IR03,    93,1,      8,      8,2,19950411,0808, -6.7772,  52.8827, 2270,    596.6,   8.2348,  34.8278,2,  34.8286,2,     93.0,2,     92.4,2
   3175MB95_02,  IR03,    93,1,      7,      7,2,19950411,0808, -6.7772,  52.8827, 2270,    800.0,   6.9581,  34.8444,2,  34.8438,2,     77.3,2,     77.4,2
   3175MB95_02,  IR03,    93,1,      6,      6,2,19950411,0808, -6.7772,  52.8827, 2270,    983.0,   6.0008,  34.8367,2,  34.8366,2,     80.3,2,     78.9,2
   3175MB95_02,  IR03,    93,1,      5,      5,2,19950411,0808, -6.7772,  52.8827, 2270,   1298.2,   4.4878,  34.7841,2,  34.7832,2,    102.9,2,    101.8,2
   3175MB95_02,  IR03,    93,1,      4,      4,2,19950411,0808, -6.7772,  52.8827, 2270,   1496.7,   3.7775,  34.7660,2,  34.7664,2,    118.3,2,    116.3,2
   3175MB95_02,  IR03,    93,1,      3,      3,2,19950411,0808, -6.7772,  52.8827, 2270,   1800.4,   3.0049,  34.7537,2,  34.7523,2,    134.1,2,    133.5,2
   3175MB95_02,  IR03,    93,1,      2,      2,2,19950411,0808, -6.7772,  52.8827, 2270,   2096.4,   2.4257,  34.7472,2,  34.7468,2,    146.8,2,    146.4,2
   3175MB95_02,  IR03,    93,1,      1,      1,2,19950411,0808, -6.7772,  52.8827, 2270,   2395.9,   2.0231,  34.7445,2,  34.7435,2,    155.5,2,    153.3,2
   3175MB95_02,  IR03,    94,1,     20,     20,2,19950411,1200, -6.4800,  52.8297, 1680,      3.8,  30.4040,  34.9211,2,  34.9214,2,    190.3,2,    192.2,2
   3175MB95_02,  IR03,    94,1,     19,     19,2,19950411,1200, -6.4800,  52.8297, 1680,     27.8,  30.1463,  35.2026,2,  35.2067,2,    193.6,2,    193.6,2
   3175MB95_02,  IR03,    94,1,     18,     18,2,19950411,1200, -6.4800,  52.8297, 1680,     71.1,  23.9346,  35.2422,2,  35.2523,2,    168.7,2,    169.6,2
   3175MB95_02,  IR03,    94,1,     17,     17,2,19950411,1200, -6.4800,  52.8297, 1680,    102.2,  21.0913,  35.1798,2,  35.1869,2,    134.4,2,    132.6,2
   3175MB95_02,  IR03,    94,1,     16,     16,2,19950411,1200, -6.4800,  52.8297, 1680,    149.2,  16.2067,  35.2275,2,  35.2335,2,    115.7,2,    111.3,2
   3175MB95_02,  IR03,    94,1,     15,     15,2,19950411,1200, -6.4800,  52.8297, 1680,    201.5,  13.6498,  35.1410,2,  35.1442,2,    130.7,2,    126.1,2
   3175MB95_02,  IR03,    94,1,     14,     14,2,19950411,1200, -6.4800,  52.8297, 1680,    273.4,  12.1402,  35.0306,2,  35.0325,2,    131.2,2,    126.8,2
   3175MB95_02,  IR03,    94,1,     13,     13,2,19950411,1200, -6.4800,  52.8297, 1680,    352.3,  10.4990,  34.9094,2,  34.9084,2,    126.2,2,    121.8,2
   3175MB95_02,  IR03,    94,1,     12,     12,2,19950411,1200, -6.4800,  52.8297, 1680,    420.7,   9.6361,  34.8592,2,  34.8611,2,    117.3,2,    113.6,2
   3175MB95_02,  IR03,    94,1,     11,     11,2,19950411,1200, -6.4800,  52.8297, 1680,    495.5,   8.7590,  34.8148,2,  34.8154,2,    102.8,2,    100.6,2
   3175MB95_02,  IR03,    94,1,     10,     10,2,19950411,1200, -6.4800,  52.8297, 1680,    599.1,   8.1470,  34.8244,2,  34.8243,2,     91.7,2,     89.0,2
   3175MB95_02,  IR03,    94,1,      9,      9,2,19950411,1200, -6.4800,  52.8297, 1680,    698.8,   7.7818,  34.8371,2,  34.8375,2,     84.2,2,     82.1,2
   3175MB95_02,  IR03,    94,1,      8,      8,2,19950411,1200, -6.4800,  52.8297, 1680,    801.3,   7.3073,  34.8422,2,  34.8442,2,     78.1,2,     76.3,2
   3175MB95_02,  IR03,    94,1,      7,      7,2,19950411,1200, -6.4800,  52.8297, 1680,    899.9,   6.8666,  34.8619,2,  34.8618,2,     74.0,2,     72.9,2
   3175MB95_02,  IR03,    94,1,      6,      6,2,19950411,1200, -6.4800,  52.8297, 1680,    996.0,   6.2519,  34.8439,2,  34.8471,2,     77.9,2,     75.4,2
   3175MB95_02,  IR03,    94,1,      5,      5,2,19950411,1200, -6.4800,  52.8297, 1680,   1098.1,   5.5974,  34.8214,2,  34.8217,2,     86.0,2,     83.6,2
   3175MB95_02,  IR03,    94,1,      4,      4,2,19950411,1200, -6.4800,  52.8297, 1680,   1249.4,   4.9802,  34.8063,2,  34.8070,2,     95.1,2,     92.2,2
   3175MB95_02,  IR03,    94,1,      3,      3,2,19950411,1200, -6.4800,  52.8297, 1680,   1390.4,   4.2838,  34.7891,2,  34.7897,2,    107.2,2,    104.0,2
   3175MB95_02,  IR03,    94,1,      2,      2,2,19950411,1200, -6.4800,  52.8297, 1680,   1546.2,   3.8800,  34.7791,2,  34.7798,2,    117.1,2,    112.2,2
   3175MB95_02,  IR03,    94,1,      1,      1,2,19950411,1200, -6.4800,  52.8297, 1680,   1688.0,   3.3235,  34.7629,2,  34.7642,2,    129.6,2,    124.2,2
   3175MB95_02,  IR03,    95,1,     24,     24,2,19950411,2300, -4.5703,  53.6995, 2291,      2.2,  29.7443,  35.2035,2,  35.2064,2,    194.4,2,    193.8,2
   3175MB95_02,  IR03,    95,1,     23,     23,2,19950411,2300, -4.5703,  53.6995, 2291,     24.8,  29.6560,  35.2041,2,  35.2117,2,    195.5,2,    194.3,2
   3175MB95_02,  IR03,    95,1,     22,     22,2,19950411,2300, -4.5703,  53.6995, 2291,     75.9,  23.5145,  35.2701,2,  35.2741,2,    166.1,2,    162.8,2
   3175MB95_02,  IR03,    95,1,     21,     21,2,19950411,2300, -4.5703,  53.6995, 2291,     98.7,  20.0455,  35.2750,2,  35.2813,2,    131.0,2,    128.3,2
   3175MB95_02,  IR03,    95,1,     20,     20,2,19950411,2300, -4.5703,  53.6995, 2291,    150.6,  16.0930,  35.2010,2,  35.2040,2,    118.7,2,    113.2,2
   3175MB95_02,  IR03,    95,1,     19,     19,2,19950411,2300, -4.5703,  53.6995, 2291,    200.3,  13.6250,  35.1521,2,  35.1555,2,    139.1,2,    132.7,2
   3175MB95_02,  IR03,    95,1,     18,     18,2,19950411,2300, -4.5703,  53.6995, 2291,    274.0,  11.9364,  35.0370,2,  35.0352,2,    154.2,3,    148.4,2
   3175MB95_02,  IR03,    95,1,     17,     17,2,19950411,2300, -4.5703,  53.6995, 2291,    352.4,  10.8694,  34.9547,2,  34.9554,2,    136.1,2,    131.4,2
   3175MB95_02,  IR03,    95,1,     16,     16,2,19950411,2300, -4.5703,  53.6995, 2291,    423.5,  10.0437,  34.8999,2,  34.8991,2,    110.7,2,    106.3,2
   3175MB95_02,  IR03,    95,1,     15,     15,2,19950411,2300, -4.5703,  53.6995, 2291,    502.2,   9.3788,  34.8719,2,  34.8732,2,    101.1,2,     97.5,2
   3175MB95_02,  IR03,    95,1,     14,     14,2,19950411,2300, -4.5703,  53.6995, 2291,    600.3,   8.5853,  34.8622,2,  34.8635,2,     89.4,2,     86.4,2
   3175MB95_02,  IR03,    95,1,     13,     13,2,19950411,2300, -4.5703,  53.6995, 2291,    701.3,   7.7496,  34.8927,2,  34.8936,2,     74.8,2,     72.8,2
   3175MB95_02,  IR03,    95,1,     12,     12,2,19950411,2300, -4.5703,  53.6995, 2291,    801.8,   7.2017,  34.8949,2,  34.8945,2,     71.7,2,     69.1,2
   3175MB95_02,  IR03,    95,1,     11,     11,2,19950411,2300, -4.5703,  53.6995, 2291,    900.6,   6.8536,  34.9004,2,  34.9011,2,     70.7,2,     69.2,2
   3175MB95_02,  IR03,    95,1,     10,     10,2,19950411,2300, -4.5703,  53.6995, 2291,    975.7,   6.4456,  34.8891,2,  34.8919,2,     69.3,2,     68.3,2
   3175MB95_02,  IR03,    95,1,      9,      9,2,19950411,2300, -4.5703,  53.6995, 2291,   1093.7,   6.0385,  34.9137,2,  34.9124,2,     69.6,2,     67.7,2
   3175MB95_02,  IR03,    95,1,      8,      8,2,19950411,2300, -4.5703,  53.6995, 2291,   1251.2,   5.2160,  34.8546,2,  34.8544,2,     84.1,2,     81.3,2
   3175MB95_02,  IR03,    95,1,      7,      7,2,19950411,2300, -4.5703,  53.6995, 2291,   1400.8,   4.3650,  34.8054,2,  34.8062,2,    101.8,2,     99.3,2
   3175MB95_02,  IR03,    95,1,      6,      6,2,19950411,2300, -4.5703,  53.6995, 2291,   1553.4,   3.9067,  34.7919,2,  34.7929,2,    110.7,2,    107.5,2
   3175MB95_02,  IR03,    95,1,      5,      5,2,19950411,2300, -4.5703,  53.6995, 2291,   1701.9,   3.3573,  34.7692,2,  34.7696,2,    125.0,2,    122.6,2
   3175MB95_02,  IR03,    95,1,      4,      4,2,19950411,2300, -4.5703,  53.6995, 2291,   1851.8,   2.9116,  34.7614,2,  34.7544,3,    135.2,2,    141.0,2
   3175MB95_02,  IR03,    95,1,      3,      3,2,19950411,2300, -4.5703,  53.6995, 2291,   2001.8,   2.5999,  34.7535,2,  34.7535,2,    143.0,2,    140.9,2
   3175MB95_02,  IR03,    95,1,      2,      2,2,19950411,2300, -4.5703,  53.6995, 2291,   2152.1,   2.2968,  34.7507,2,  34.7526,2,    149.8,2,    145.9,2
   3175MB95_02,  IR03,    95,1,      1,      1,2,19950411,2300, -4.5703,  53.6995, 2291,   2300.6,   2.1924,  34.7475,2,  34.7486,2,    153.7,2,    149.1,2