BOTTLE,20220630CCHSIOAMB
EXPOCODE,SECT_ID,STNNBR,CASTNO,SAMPNO,BTLNBR,BTLNBR_FLAG_W,DATE,TIME,LATITUDE,LONGITUDE,DEPTH,CTDPRS,CTDTMP,CTDSAL,CTDSAL_FLAG_W,SALNTY,SALNTY_FLAG_W,CTDOXY,CTDOXY_FLAG_W,OXYGEN,OXYGEN_FLAG_W
,,,,,,,,,,,,DBAR,ITS-90,PSS-78,,PSS-78,,UMOL/KG,,UMOL/KG,
   3175MB95_02,  ISS1,    19,1,     21,     21,2,19950323,0403,-32.9513,  35.2870, 1280,      3.8,  23.2159,  35.7090,2,  35.7065,2,    215.8,2,    215.7,2
   3175MB95_02,  ISS1,    19,1,     20,     20,2,19950323,0403,-32.9513,  35.2870, 1280,     24.8,  23.1926,  35.7069,2,  35.7050,2,    216.4,2,    215.9,2
   3175MB95_02,  ISS1,    19,1,     19,     19,2,19950323,0403,-32.9513,  35.2870, 1280,     50.0,  22.5816,  35.6522,2,  35.6500,2,    223.2,2,    223.1,2
   3175MB95_02,  ISS1,    19,1,     18,     18,2,19950323,0403,-32.9513,  35.2870, 1280,     74.8,  19.1622,  35.5562,2,  35.5575,2,    222.6,2,    221.1,2
   3175MB95_02,  ISS1,    19,1,     17,     17,2,19950323,0403,-32.9513,  35.2870, 1280,     99.6,  17.7579,  35.5731,2,  35.5728,2,    210.0,2,    206.6,2
   3175MB95_02,  ISS1,    19,1,     16,     16,2,19950323,0403,-32.9513,  35.2870, 1280,    125.1,  17.0182,  35.5806,2,  35.5790,2,    212.4,2,    208.9,2
   3175MB95_02,  ISS1,    19,1,     15,     15,2,19950323,0403,-32.9513,  35.2870, 1280,    150.6,  16.6151,  35.5704,2,  35.5696,2,    212.5,2,    207.5,2
   3175MB95_02,  ISS1,    19,1,     14,     14,2,19950323,0403,-32.9513,  35.2870, 1280,    225.4,  15.6564,  35.5069,2,  35.5077,2,    211.2,3,    209.8,2
   3175MB95_02,  ISS1,    19,1,     13,     13,2,19950323,0403,-32.9513,  35.2870, 1280,    300.0,  14.7058,  35.4021,2,  35.4043,2,    207.1,2,    201.7,2
   3175MB95_02,  ISS1,    19,1,     12,     12,2,19950323,0403,-32.9513,  35.2870, 1280,    375.5,  13.6551,  35.2968,2,  35.3006,2,    211.8,2,    209.2,2
   3175MB95_02,  ISS1,    19,1,     11,     11,2,19950323,0403,-32.9513,  35.2870, 1280,    520.4,  12.1730,  35.0951,2,  35.0974,2,    217.1,2,    216.3,2
   3175MB95_02,  ISS1,    19,1,     10,     10,2,19950323,0403,-32.9513,  35.2870, 1280,    599.1,  11.3764,  34.9747,2,  34.9742,2,    216.1,3,    216.4,2
   3175MB95_02,  ISS1,    19,1,      9,      9,2,19950323,0403,-32.9513,  35.2870, 1280,    671.8,  10.1789,  34.8170,2,  34.8194,2,    213.8,2,    214.2,2
   3175MB95_02,  ISS1,    19,1,      8,      8,2,19950323,0403,-32.9513,  35.2870, 1280,    748.8,   9.0652,  34.6957,2,  34.6939,2,    208.4,2,    209.8,2
   3175MB95_02,  ISS1,    19,1,      7,      7,2,19950323,0403,-32.9513,  35.2870, 1280,    797.9,   8.2977,  34.6242,2,  34.6248,2,    204.4,2,    205.0,2
   3175MB95_02,  ISS1,    19,1,      6,      6,2,19950323,0403,-32.9513,  35.2870, 1280,    896.3,   7.1571,  34.5344,2,  34.5341,2,    199.5,2,    199.1,2
   3175MB95_02,  ISS1,    19,1,      5,      5,2,19950323,0403,-32.9513,  35.2870, 1280,    975.3,   6.0134,  34.4697,2,  34.4708,2,    195.6,3,    194.7,2
   3175MB95_02,  ISS1,    19,1,      4,      4,2,19950323,0403,-32.9513,  35.2870, 1280,   1049.8,   5.2539,  34.4384,2,  34.4383,2,    194.8,2,    193.4,2
   3175MB95_02,  ISS1,    19,1,      3,      3,2,19950323,0403,-32.9513,  35.2870, 1280,   1128.1,   4.6051,  34.4345,2,  34.4341,2,    190.9,2,    189.2,2
   3175MB95_02,  ISS1,    19,1,      2,      2,2,19950323,0403,-32.9513,  35.2870, 1280,   1200.2,   4.3078,  34.4978,2,  34.4986,2,    177.5,2,    171.6,2
   3175MB95_02,  ISS1,    19,1,      1,      1,2,19950323,0403,-32.9513,  35.2870, 1280,   1287.4,   3.7603,  34.4997,2,  34.5005,2,    183.9,2,    174.0,3
   3175MB95_02,  ISS1,    20,1,     24,     24,2,19950323,0821,-32.9977,  36.0985, 2015,      1.7,  22.1413,  35.6646,2,  35.6628,2,    223.2,2,    221.5,2
   3175MB95_02,  ISS1,    20,1,     23,     23,2,19950323,0821,-32.9977,  36.0985, 2015,     50.5,  18.8451,  35.5777,2,  35.5843,2,    236.1,2,    238.9,2
   3175MB95_02,  ISS1,    20,1,     22,     22,2,19950323,0821,-32.9977,  36.0985, 2015,    100.9,  16.9188,  35.5884,2,  35.5898,2,    218.4,2,    215.2,2
   3175MB95_02,  ISS1,    20,1,     21,     21,2,19950323,0821,-32.9977,  36.0985, 2015,    150.0,  16.3346,  35.5902,2,  35.5894,2,    224.7,2,    221.7,2
   3175MB95_02,  ISS1,    20,1,     20,     20,2,19950323,0821,-32.9977,  36.0985, 2015,    199.0,  15.9184,  35.5583,2,  35.5587,2,    225.1,2,    221.8,2
   3175MB95_02,  ISS1,    20,1,     19,     19,2,19950323,0821,-32.9977,  36.0985, 2015,    300.5,  15.3855,  35.5316,2,  35.5313,2,    230.8,2,    230.0,2
   3175MB95_02,  ISS1,    20,1,     18,     18,2,19950323,0821,-32.9977,  36.0985, 2015,    397.1,  14.5160,  35.4121,2,  35.4133,2,    220.9,2,    217.9,2
   3175MB95_02,  ISS1,    20,1,     17,     17,2,19950323,0821,-32.9977,  36.0985, 2015,    499.7,  13.6438,  35.3183,2,  35.3227,2,    223.0,2,    221.5,2
   3175MB95_02,  ISS1,    20,1,     16,     16,2,19950323,0821,-32.9977,  36.0985, 2015,    600.5,  12.8672,  35.2029,2,  35.2020,2,    221.5,2,   -999.0,9
   3175MB95_02,  ISS1,    20,1,     15,     15,2,19950323,0821,-32.9977,  36.0985, 2015,    698.9,  11.7225,  35.0177,2,  35.0178,2,    218.0,2,    218.7,2
   3175MB95_02,  ISS1,    20,1,     14,     14,2,19950323,0821,-32.9977,  36.0985, 2015,    799.5,  10.3247,  34.8325,2,  34.8260,3,    212.9,2,    214.1,2
   3175MB95_02,  ISS1,    20,1,     13,     13,2,19950323,0821,-32.9977,  36.0985, 2015,    890.4,   8.9883,  34.6873,2,  34.6905,2,    206.6,2,    208.7,2
   3175MB95_02,  ISS1,    20,1,     12,     12,2,19950323,0821,-32.9977,  36.0985, 2015,    999.4,   7.6959,  34.5752,2,  34.5757,2,    197.8,2,    201.4,2
   3175MB95_02,  ISS1,    20,1,     11,     11,2,19950323,0821,-32.9977,  36.0985, 2015,   1100.6,   6.6206,  34.5191,2,-999.0000,9,    189.7,2,    197.8,3
   3175MB95_02,  ISS1,    20,1,     10,     10,2,19950323,0821,-32.9977,  36.0985, 2015,   1199.5,   5.6356,  34.4685,2,  34.4728,3,    188.5,2,    188.2,2
   3175MB95_02,  ISS1,    20,1,      9,      9,2,19950323,0821,-32.9977,  36.0985, 2015,   1299.6,   4.7080,  34.4496,2,  34.4485,2,    184.8,2,    185.4,2
   3175MB95_02,  ISS1,    20,1,      8,      8,2,19950323,0821,-32.9977,  36.0985, 2015,   1400.3,   4.2365,  34.4861,2,  34.5038,4,    175.5,3,    176.6,2
   3175MB95_02,  ISS1,    20,1,      7,      7,2,19950323,0821,-32.9977,  36.0985, 2015,   1499.4,   3.8916,  34.5170,2,  34.5184,2,    171.2,2,    169.3,2
   3175MB95_02,  ISS1,    20,1,      6,      6,2,19950323,0821,-32.9977,  36.0985, 2015,   1600.3,   3.4056,  34.5373,2,  34.5367,2,    172.6,2,    170.3,2
   3175MB95_02,  ISS1,    20,1,      5,      5,2,19950323,0821,-32.9977,  36.0985, 2015,   1699.1,   3.2722,  34.6125,2,  34.6117,2,    169.8,2,    165.6,2
   3175MB95_02,  ISS1,    20,1,      4,      4,2,19950323,0821,-32.9977,  36.0985, 2015,   1799.1,   2.9062,  34.6712,2,  34.6679,2,    177.4,2,    172.8,2
   3175MB95_02,  ISS1,    20,1,      3,      3,2,19950323,0821,-32.9977,  36.0985, 2015,   1899.8,   2.6880,  34.7400,2,  34.7433,2,    191.0,2,    185.1,2
   3175MB95_02,  ISS1,    20,1,      2,      2,2,19950323,0821,-32.9977,  36.0985, 2015,   1999.6,   2.5650,  34.7689,2,  34.7683,2,    197.6,3,    193.0,2
   3175MB95_02,  ISS1,    20,1,      1,      1,2,19950323,0821,-32.9977,  36.0985, 2015,   2067.0,   2.5285,  34.7766,2,  34.7763,2,    200.6,2,    196.1,2
   3175MB95_02,  ISS1,    21,1,     24,     24,2,19950323,1100,-32.9985,  36.3285, 2544,      1.9,  21.9420,  35.6529,2,  35.6510,2,    224.0,2,    222.4,2
   3175MB95_02,  ISS1,    21,1,     23,     23,2,19950323,1100,-32.9985,  36.3285, 2544,     24.1,  21.8547,  35.6513,2,  35.6532,2,    224.8,2,    218.4,2
   3175MB95_02,  ISS1,    21,1,     22,     22,2,19950323,1100,-32.9985,  36.3285, 2544,     72.9,  17.3297,  35.5747,2,  35.5761,2,    235.2,2,    236.3,2
   3175MB95_02,  ISS1,    21,1,     21,     21,2,19950323,1100,-32.9985,  36.3285, 2544,     99.3,  16.6574,  35.5935,2,  35.5919,2,    223.7,2,    219.2,2
   3175MB95_02,  ISS1,    21,1,     20,     20,2,19950323,1100,-32.9985,  36.3285, 2544,    147.4,  16.2426,  35.5845,2,  35.5829,2,    225.9,2,    222.1,2
   3175MB95_02,  ISS1,    21,1,     19,     19,2,19950323,1100,-32.9985,  36.3285, 2544,    200.6,  15.7866,  35.5641,2,  35.5645,2,    230.2,2,    226.1,2
   3175MB95_02,  ISS1,    21,1,     18,     18,2,19950323,1100,-32.9985,  36.3285, 2544,    299.2,  15.4301,  35.5387,2,  35.5381,2,    233.0,2,    230.1,2
   3175MB95_02,  ISS1,    21,1,     17,     17,2,19950323,1100,-32.9985,  36.3285, 2544,    400.3,  14.8165,  35.4658,2,  35.4666,2,    228.4,2,    226.7,2
   3175MB95_02,  ISS1,    21,1,     16,     16,2,19950323,1100,-32.9985,  36.3285, 2544,    500.1,  13.8202,  35.3387,2,  35.3393,2,    223.3,2,    220.8,2
   3175MB95_02,  ISS1,    21,1,     15,     15,2,19950323,1100,-32.9985,  36.3285, 2544,    601.2,  12.7598,  35.1805,2,  35.1765,2,    218.2,2,    216.7,2
   3175MB95_02,  ISS1,    21,1,     14,     14,2,19950323,1100,-32.9985,  36.3285, 2544,    700.3,  11.7390,  35.0254,2,  35.0235,2,    218.0,2,    217.7,2
   3175MB95_02,  ISS1,    21,1,     13,     13,2,19950323,1100,-32.9985,  36.3285, 2544,    801.1,  10.2433,  34.8231,2,  34.8211,2,    213.7,2,    214.7,2
   3175MB95_02,  ISS1,    21,1,     12,     12,2,19950323,1100,-32.9985,  36.3285, 2544,    899.5,   9.0670,  34.6964,2,  34.6948,2,    209.0,2,    210.4,2
   3175MB95_02,  ISS1,    21,1,     11,     11,2,19950323,1100,-32.9985,  36.3285, 2544,    999.7,   8.0094,  34.5985,2,  34.5998,2,    205.0,2,    206.6,2
   3175MB95_02,  ISS1,    21,1,     10,     10,2,19950323,1100,-32.9985,  36.3285, 2544,   1100.4,   6.7311,  34.4852,2,  34.4867,2,    201.0,2,    202.0,2
   3175MB95_02,  ISS1,    21,1,      9,      9,2,19950323,1100,-32.9985,  36.3285, 2544,   1199.9,   5.4420,  34.4237,2,  34.4245,2,    198.8,2,    201.5,2
   3175MB95_02,  ISS1,    21,1,      8,      8,2,19950323,1100,-32.9985,  36.3285, 2544,   1301.0,   4.8168,  34.4682,2,  34.4655,2,    180.5,2,    180.5,2
   3175MB95_02,  ISS1,    21,1,      7,      7,2,19950323,1100,-32.9985,  36.3285, 2544,   1398.1,   4.3678,  34.5133,2,  34.5136,2,    169.5,2,    167.7,2
   3175MB95_02,  ISS1,    21,1,      6,      6,2,19950323,1100,-32.9985,  36.3285, 2544,   1599.4,   3.8146,  34.6224,2,  34.6217,2,    156.3,2,    151.6,2
   3175MB95_02,  ISS1,    21,1,      5,      5,2,19950323,1100,-32.9985,  36.3285, 2544,   1799.8,   3.2753,  34.6624,2,  34.6621,2,    164.1,2,    159.3,2
   3175MB95_02,  ISS1,    21,1,      4,      4,2,19950323,1100,-32.9985,  36.3285, 2544,   1996.3,   2.8990,  34.6990,2,  34.6988,2,    176.2,2,    171.8,2
   3175MB95_02,  ISS1,    21,1,      3,      3,2,19950323,1100,-32.9985,  36.3285, 2544,   2196.0,   2.6722,  34.7542,2,  34.7526,2,    191.5,2,    189.5,2
   3175MB95_02,  ISS1,    21,1,      2,      2,2,19950323,1100,-32.9985,  36.3285, 2544,   2397.8,   2.5191,  34.7777,2,  34.7773,2,    199.0,2,    194.5,2
   3175MB95_02,  ISS1,    21,1,      1,      1,2,19950323,1100,-32.9985,  36.3285, 2544,   2548.4,   2.4298,  34.7953,2,  34.7968,2,    207.5,2,    203.4,2
   3175MB95_02,  ISS1,    22,1,     24,     24,2,19950323,1417,-33.0030,  36.6670, 4766,      3.0,  22.2243,  35.6885,2,  35.6875,2,    221.7,2,    215.9,2
   3175MB95_02,  ISS1,    22,1,     23,     23,2,19950323,1417,-33.0030,  36.6670, 4766,     49.2,  21.3471,  35.6387,2,  35.6359,2,    228.5,2,    229.8,2
   3175MB95_02,  ISS1,    22,1,     22,     22,2,19950323,1417,-33.0030,  36.6670, 4766,    101.1,  16.9358,  35.5844,2,  35.5877,2,    225.2,2,    223.9,2
   3175MB95_02,  ISS1,    22,1,     21,     21,2,19950323,1417,-33.0030,  36.6670, 4766,    150.2,  16.3139,  35.5855,2,  35.5855,2,    224.3,2,    220.0,2
   3175MB95_02,  ISS1,    22,1,     20,     20,2,19950323,1417,-33.0030,  36.6670, 4766,    200.3,  16.0030,  35.5721,2,  35.5713,2,    226.9,2,    223.1,2
   3175MB95_02,  ISS1,    22,1,     19,     19,2,19950323,1417,-33.0030,  36.6670, 4766,    249.9,  15.7113,  35.5555,2,  35.5546,2,    229.6,2,    226.0,2
   3175MB95_02,  ISS1,    22,1,     18,     18,2,19950323,1417,-33.0030,  36.6670, 4766,    302.0,  15.4593,  35.5348,2,  35.5335,2,    230.7,2,    227.5,2
   3175MB95_02,  ISS1,    22,1,     17,     17,2,19950323,1417,-33.0030,  36.6670, 4766,    398.2,  15.0410,  35.4883,2,  35.4881,2,    226.9,2,    226.1,2
   3175MB95_02,  ISS1,    22,1,     16,     16,2,19950323,1417,-33.0030,  36.6670, 4766,    498.5,  13.8979,  35.3458,2,  35.3468,2,    219.8,2,    218.4,2
   3175MB95_02,  ISS1,    22,1,     15,     15,2,19950323,1417,-33.0030,  36.6670, 4766,    749.3,  11.4484,  34.9835,2,  34.9848,2,    215.4,2,    217.4,2
   3175MB95_02,  ISS1,    22,1,     14,     14,2,19950323,1417,-33.0030,  36.6670, 4766,   1000.6,   7.9013,  34.5841,2,  34.5895,3,    202.8,2,    205.6,2
   3175MB95_02,  ISS1,    22,1,     13,     13,2,19950323,1417,-33.0030,  36.6670, 4766,   1249.7,   4.9429,  34.4085,2,  34.4091,2,    196.2,2,    200.2,2
   3175MB95_02,  ISS1,    22,1,     12,     12,2,19950323,1417,-33.0030,  36.6670, 4766,   1501.7,   3.6621,  34.4830,2,  34.4826,2,    176.3,2,    177.0,2
   3175MB95_02,  ISS1,    22,1,     11,     11,2,19950323,1417,-33.0030,  36.6670, 4766,   1751.8,   3.0809,  34.6011,2,  34.6018,2,    170.7,2,    170.9,2
   3175MB95_02,  ISS1,    22,1,     10,     10,2,19950323,1417,-33.0030,  36.6670, 4766,   1893.3,   3.0533,  34.6814,2,  34.6838,2,    165.3,2,    165.2,2
   3175MB95_02,  ISS1,    22,1,      9,      9,2,19950323,1417,-33.0030,  36.6670, 4766,   2248.0,   2.7010,  34.7450,2,  34.7453,2,    181.2,2,    181.5,2
   3175MB95_02,  ISS1,    22,1,      8,      8,2,19950323,1417,-33.0030,  36.6670, 4766,   2498.7,   2.5753,  34.7866,2,  34.7861,2,    198.6,2,    199.4,2
   3175MB95_02,  ISS1,    22,1,      7,      7,2,19950323,1417,-33.0030,  36.6670, 4766,   3004.4,   2.2557,  34.8122,2,  34.8111,2,    211.1,2,    213.3,2
   3175MB95_02,  ISS1,    22,1,      6,      6,2,19950323,1417,-33.0030,  36.6670, 4766,   3300.2,   2.0424,  34.8036,2,  34.8051,2,    212.2,2,    231.3,4
   3175MB95_02,  ISS1,    22,1,      5,      5,2,19950323,1417,-33.0030,  36.6670, 4766,   3599.4,   1.6842,  34.7799,2,  34.7785,2,    212.6,2,    215.3,2
   3175MB95_02,  ISS1,    22,1,      4,      4,2,19950323,1417,-33.0030,  36.6670, 4766,   3894.9,   1.1994,  34.7458,2,  34.7444,2,    214.4,2,    216.0,2
   3175MB95_02,  ISS1,    22,1,      3,      3,2,19950323,1417,-33.0030,  36.6670, 4766,   4197.6,   0.8247,  34.7185,2,  34.7174,2,    216.9,2,    217.4,2
   3175MB95_02,  ISS1,    22,1,      2,      2,2,19950323,1417,-33.0030,  36.6670, 4766,   4498.6,   0.6474,  34.7037,2,  34.7038,2,    219.3,2,    218.4,2
   3175MB95_02,  ISS1,    22,1,      1,      1,2,19950323,1417,-33.0030,  36.6670, 4766,   4883.8,   0.5375,  34.6925,2,  34.6920,2,    224.6,2,    220.0,2
   3175MB95_02,  ISS1,    23,1,     24,     24,2,19950323,2305,-32.9990,  38.0025, 5051,      2.0,  23.4313,  35.7164,2,  35.7146,2,    212.4,2,    213.9,2
   3175MB95_02,  ISS1,    23,1,     23,     23,2,19950323,2305,-32.9990,  38.0025, 5051,     50.1,  23.2510,  35.6929,2,  35.6909,2,    214.9,2,    216.2,2
   3175MB95_02,  ISS1,    23,1,     22,     22,2,19950323,2305,-32.9990,  38.0025, 5051,    100.5,  19.0057,  35.5776,2,  35.5896,2,    205.7,7,    205.3,2
   3175MB95_02,  ISS1,    23,1,     21,     21,2,19950323,2305,-32.9990,  38.0025, 5051,    200.3,  16.7617,  35.5930,2,  35.5928,2,    215.5,2,   -999.0,9
   3175MB95_02,  ISS1,    23,1,     20,     20,2,19950323,2305,-32.9990,  38.0025, 5051,    299.8,  15.8727,  35.5517,2,  35.5510,2,    222.0,2,    220.0,2
   3175MB95_02,  ISS1,    23,1,     19,     19,2,19950323,2305,-32.9990,  38.0025, 5051,    400.3,  14.7554,  35.4490,2,  35.4559,2,    221.3,7,    220.8,2
   3175MB95_02,  ISS1,    23,1,     18,     18,2,19950323,2305,-32.9990,  38.0025, 5051,    499.6,  13.6255,  35.3080,2,  35.3077,2,    218.3,2,    217.8,2
   3175MB95_02,  ISS1,    23,1,     17,     17,2,19950323,2305,-32.9990,  38.0025, 5051,    700.5,  11.5372,  34.9991,2,  34.9985,2,    215.6,2,    217.6,2
   3175MB95_02,  ISS1,    23,1,     16,     16,2,19950323,2305,-32.9990,  38.0025, 5051,    900.0,   8.9191,  34.6779,2,  34.6789,2,    205.8,3,    209.6,2
   3175MB95_02,  ISS1,    23,1,     15,     15,2,19950323,2305,-32.9990,  38.0025, 5051,   1100.9,   6.2256,  34.4641,2,  34.4635,2,    196.5,2,    200.8,2
   3175MB95_02,  ISS1,    23,1,     14,     14,2,19950323,2305,-32.9990,  38.0025, 5051,   1399.3,   3.7990,  34.4497,2,  34.4496,2,    181.6,2,    185.1,2
   3175MB95_02,  ISS1,    23,1,     13,     13,2,19950323,2305,-32.9990,  38.0025, 5051,   1697.3,   3.0649,  34.5927,2,  34.5921,2,    171.3,2,    172.8,2
   3175MB95_02,  ISS1,    23,1,     12,     12,2,19950323,2305,-32.9990,  38.0025, 5051,   2000.6,   2.7663,  34.7050,2,  34.7051,2,    176.8,2,    177.1,2
   3175MB95_02,  ISS1,    23,1,     11,     11,2,19950323,2305,-32.9990,  38.0025, 5051,   2299.6,   2.5819,  34.7659,2,  34.7653,2,    189.0,7,    189.5,2
   3175MB95_02,  ISS1,    23,1,     10,     10,2,19950323,2305,-32.9990,  38.0025, 5051,   2600.5,   2.4285,  34.7950,2,  34.7941,2,    199.9,2,    202.0,2
   3175MB95_02,  ISS1,    23,1,      9,      9,2,19950323,2305,-32.9990,  38.0025, 5051,   2900.0,   2.2681,  34.8069,2,  34.8060,2,    207.2,2,    210.7,2
   3175MB95_02,  ISS1,    23,1,      8,      8,2,19950323,2305,-32.9990,  38.0025, 5051,   3100.5,   2.1522,  34.8061,2,  34.8094,2,    209.1,7,    213.1,2
   3175MB95_02,  ISS1,    23,1,      7,      7,2,19950323,2305,-32.9990,  38.0025, 5051,   3400.2,   1.8693,  34.7902,2,  34.7950,3,    210.0,7,    213.8,2
   3175MB95_02,  ISS1,    23,1,      6,      6,2,19950323,2305,-32.9990,  38.0025, 5051,   3699.7,   1.5074,  34.7664,2,  34.7656,2,    211.6,2,    215.1,2
   3175MB95_02,  ISS1,    23,1,      5,      5,2,19950323,2305,-32.9990,  38.0025, 5051,   3999.4,   1.1562,  34.7418,2,  34.7401,2,    213.7,2,    216.3,2
   3175MB95_02,  ISS1,    23,1,      4,      4,2,19950323,2305,-32.9990,  38.0025, 5051,   4298.6,   0.8114,  34.7162,2,  34.7153,2,    215.9,2,    217.4,2
   3175MB95_02,  ISS1,    23,1,      3,      3,2,19950323,2305,-32.9990,  38.0025, 5051,   4600.3,   0.6694,  34.7044,2,  34.7026,2,    218.2,2,    218.4,2
   3175MB95_02,  ISS1,    23,1,      2,      2,2,19950323,2305,-32.9990,  38.0025, 5051,   4900.8,   0.6115,  34.6976,2,  34.6962,2,    220.6,2,    219.3,2
   3175MB95_02,  ISS1,    23,1,      1,      1,2,19950323,2305,-32.9990,  38.0025, 5051,   5163.0,   0.5177,  34.6885,2,  34.6872,2,    225.3,2,    220.8,2