BOTTLE,20220630CCHSIOAMB
EXPOCODE,SECT_ID,STNNBR,CASTNO,SAMPNO,BTLNBR,BTLNBR_FLAG_W,DATE,TIME,LATITUDE,LONGITUDE,DEPTH,CTDPRS,CTDTMP,CTDSAL,CTDSAL_FLAG_W,SALNTY,SALNTY_FLAG_W,CTDOXY,CTDOXY_FLAG_W,OXYGEN,OXYGEN_FLAG_W
,,,,,,,,,,,,DBAR,ITS-90,PSS-78,,PSS-78,,UMOL/KG,,UMOL/KG,
   3175MB95_02,  IR03,    41,1,     24,     24,2,19950329,2318,-27.0015,  55.0007, 5081,      3.5,  25.9556,  35.3984,2,  35.3977,2,    202.2,2,    203.4,2
   3175MB95_02,  IR03,    41,1,     23,     23,2,19950329,2318,-27.0015,  55.0007, 5081,     34.1,  25.9615,  35.3948,2,  35.3994,2,    203.7,2,    203.6,2
   3175MB95_02,  IR03,    41,1,     22,     22,2,19950329,2318,-27.0015,  55.0007, 5081,     70.1,  21.2741,  35.5039,2,  35.5140,2,    222.6,2,    219.8,2
   3175MB95_02,  IR03,    41,1,     21,     21,2,19950329,2318,-27.0015,  55.0007, 5081,     98.9,  18.9272,  35.6547,2,  35.6628,2,    225.9,2,    227.0,2
   3175MB95_02,  IR03,    41,1,     20,     20,2,19950329,2318,-27.0015,  55.0007, 5081,    150.2,  17.1371,  35.6187,2,  35.6257,2,    218.8,2,    214.7,2
   3175MB95_02,  IR03,    41,1,     19,     19,2,19950329,2318,-27.0015,  55.0007, 5081,    197.9,  15.7797,  35.5392,2,  35.5402,2,    219.2,2,    214.4,2
   3175MB95_02,  IR03,    41,1,     18,     18,2,19950329,2318,-27.0015,  55.0007, 5081,    254.3,  14.5595,  35.4344,2,  35.4342,2,    224.4,2,    218.4,2
   3175MB95_02,  IR03,    41,1,     17,     17,2,19950329,2318,-27.0015,  55.0007, 5081,    351.4,  13.3491,  35.2929,2,  35.2922,2,    230.6,2,    225.5,2
   3175MB95_02,  IR03,    41,1,     16,     16,2,19950329,2318,-27.0015,  55.0007, 5081,    452.5,  12.4721,  35.1521,2,  35.1517,2,    228.5,2,    225.1,2
   3175MB95_02,  IR03,    41,1,     15,     15,2,19950329,2318,-27.0015,  55.0007, 5081,    554.4,  11.5861,  35.0153,2,  35.0197,2,    225.7,2,    224.8,2
   3175MB95_02,  IR03,    41,1,     14,     14,2,19950329,2318,-27.0015,  55.0007, 5081,    692.8,   9.7464,  34.7614,2,  34.7613,2,    218.5,2,    220.2,2
   3175MB95_02,  IR03,    41,1,     13,     13,2,19950329,2318,-27.0015,  55.0007, 5081,    901.1,   6.9201,  34.5081,2,  34.5094,2,    198.6,3,    200.7,2
   3175MB95_02,  IR03,    41,1,     12,     12,2,19950329,2318,-27.0015,  55.0007, 5081,   1104.0,   4.5241,  34.4103,2,  34.4091,2,    190.2,2,    192.9,2
   3175MB95_02,  IR03,    41,1,     11,     11,2,19950329,2318,-27.0015,  55.0007, 5081,   1399.0,   3.3179,  34.5449,2,  34.5453,2,    164.1,2,    164.7,2
   3175MB95_02,  IR03,    41,1,     10,     10,2,19950329,2318,-27.0015,  55.0007, 5081,   1700.3,   2.7072,  34.6502,2,  34.6488,2,    166.9,2,    167.7,2
   3175MB95_02,  IR03,    41,1,      9,      9,2,19950329,2318,-27.0015,  55.0007, 5081,   1999.7,   2.4081,  34.7129,2,  34.7115,2,    172.7,2,    174.7,2
   3175MB95_02,  IR03,    41,1,      8,      8,2,19950329,2318,-27.0015,  55.0007, 5081,   2401.6,   2.1708,  34.7418,2,  34.7400,2,    169.9,2,    172.0,2
   3175MB95_02,  IR03,    41,1,      7,      7,2,19950329,2318,-27.0015,  55.0007, 5081,   2783.7,   1.9406,  34.7407,2,  34.7390,2,    164.6,2,    166.4,2
   3175MB95_02,  IR03,    41,1,      6,      6,2,19950329,2318,-27.0015,  55.0007, 5081,   3195.7,   1.7185,  34.7347,2,  34.7330,2,    167.8,2,    169.3,2
   3175MB95_02,  IR03,    41,1,      5,      5,2,19950329,2318,-27.0015,  55.0007, 5081,   3598.5,   1.4600,  34.7253,2,  34.7235,2,    180.3,2,    182.0,2
   3175MB95_02,  IR03,    41,1,      4,      4,2,19950329,2318,-27.0015,  55.0007, 5081,   4001.0,   1.2639,  34.7189,2,  34.7171,2,    190.1,2,    191.9,2
   3175MB95_02,  IR03,    41,1,      3,      3,2,19950329,2318,-27.0015,  55.0007, 5081,   4399.9,   1.0579,  34.7113,2,  34.7097,2,    201.0,2,    202.3,2
   3175MB95_02,  IR03,    41,1,      2,      2,2,19950329,2318,-27.0015,  55.0007, 5081,   4800.2,   0.9709,  34.7064,2,  34.7047,2,    206.5,2,    206.6,2
   3175MB95_02,  IR03,    41,1,      1,      1,2,19950329,2318,-27.0015,  55.0007, 5081,   5195.0,   0.9651,  34.7039,2,  34.7026,2,    211.4,2,    208.6,2
   3175MB95_02,  IR03,    42,1,     24,     24,2,19950330,0553,-26.4980,  55.0003, 5165,      3.4,  26.3671,  35.3085,2,  35.3074,2,    199.9,2,    202.8,2
   3175MB95_02,  IR03,    42,1,     23,     23,2,19950330,0553,-26.4980,  55.0003, 5165,     40.9,  26.3122,  35.3188,2,  35.3337,2,    201.5,2,    202.9,2
   3175MB95_02,  IR03,    42,1,     22,     22,2,19950330,0553,-26.4980,  55.0003, 5165,     81.7,  21.5141,  35.5704,2,  35.5852,2,    220.4,2,    223.2,2
   3175MB95_02,  IR03,    42,1,     21,     21,2,19950330,0553,-26.4980,  55.0003, 5165,    111.3,  18.7623,  35.6114,2,  35.6154,2,    201.3,2,    200.0,2
   3175MB95_02,  IR03,    42,1,     20,     20,2,19950330,0553,-26.4980,  55.0003, 5165,    168.2,  16.5059,  35.5700,2,  35.5605,2,    205.8,2,    202.8,2
   3175MB95_02,  IR03,    42,1,     19,     19,2,19950330,0553,-26.4980,  55.0003, 5165,    224.0,  15.3099,  35.4830,2,  35.4824,2,    208.5,2,    188.1,3
   3175MB95_02,  IR03,    42,1,     18,     18,2,19950330,0553,-26.4980,  55.0003, 5165,    349.2,  13.5031,  35.3007,2,  35.3035,2,    222.7,2,    219.4,2
   3175MB95_02,  IR03,    42,1,     17,     17,2,19950330,0553,-26.4980,  55.0003, 5165,    476.1,  12.1571,  35.1014,2,  35.1004,2,    224.9,2,    222.6,2
   3175MB95_02,  IR03,    42,1,     16,     16,2,19950330,0553,-26.4980,  55.0003, 5165,    600.2,  10.4606,  34.8559,2,  34.8540,2,    224.6,2,    217.5,2
   3175MB95_02,  IR03,    42,1,     15,     15,2,19950330,0553,-26.4980,  55.0003, 5165,    742.4,   9.0298,  34.6855,2,  34.6884,2,    209.4,2,    212.6,2
   3175MB95_02,  IR03,    42,1,     14,     14,2,19950330,0553,-26.4980,  55.0003, 5165,    900.0,   7.1707,  34.5391,2,  34.5367,2,    189.6,2,    193.1,2
   3175MB95_02,  IR03,    42,1,     13,     13,2,19950330,0553,-26.4980,  55.0003, 5165,   1150.9,   3.9855,  34.4317,2,  34.4322,2,    181.9,2,    185.1,2
   3175MB95_02,  IR03,    42,1,     12,     12,2,19950330,0553,-26.4980,  55.0003, 5165,   1401.1,   3.2623,  34.5561,2,  34.5550,2,    162.9,2,    163.2,2
   3175MB95_02,  IR03,    42,1,     11,     11,2,19950330,0553,-26.4980,  55.0003, 5165,   1700.1,   2.6888,  34.6547,2,  34.6538,2,    167.8,2,    169.0,2
   3175MB95_02,  IR03,    42,1,     10,     10,2,19950330,0553,-26.4980,  55.0003, 5165,   1999.0,   2.4183,  34.7144,2,  34.7137,2,    170.2,3,    172.3,2
   3175MB95_02,  IR03,    42,1,      9,      9,2,19950330,0553,-26.4980,  55.0003, 5165,   2298.4,   2.2048,  34.7386,2,  34.7377,2,    164.9,2,    167.1,2
   3175MB95_02,  IR03,    42,1,      8,      8,2,19950330,0553,-26.4980,  55.0003, 5165,   2599.2,   2.0478,  34.7415,2,  34.7396,2,    162.0,2,    157.3,2
   3175MB95_02,  IR03,    42,1,      7,      7,2,19950330,0553,-26.4980,  55.0003, 5165,   2994.2,   1.8388,  34.7383,2,  34.7362,2,    164.3,2,    165.8,2
   3175MB95_02,  IR03,    42,1,      6,      6,2,19950330,0553,-26.4980,  55.0003, 5165,   3397.2,   1.5801,  34.7302,2,  34.7292,2,    174.0,2,    175.5,2
   3175MB95_02,  IR03,    42,1,      5,      5,2,19950330,0553,-26.4980,  55.0003, 5165,   3700.1,   1.3853,  34.7228,2,  34.7210,2,    182.9,2,    185.0,2
   3175MB95_02,  IR03,    42,1,      4,      4,2,19950330,0553,-26.4980,  55.0003, 5165,   4098.7,   1.1979,  34.7161,2,  34.7144,2,    193.8,2,    194.9,2
   3175MB95_02,  IR03,    42,1,      3,      3,2,19950330,0553,-26.4980,  55.0003, 5165,   4498.2,   1.0374,  34.7102,2,  34.7081,2,    201.6,2,    203.1,2
   3175MB95_02,  IR03,    42,1,      2,      2,2,19950330,0553,-26.4980,  55.0003, 5165,   4900.2,   0.9759,  34.7058,2,  34.7042,2,    206.9,2,    206.3,2
   3175MB95_02,  IR03,    42,1,      1,      1,2,19950330,0553,-26.4980,  55.0003, 5165,   5208.6,   0.9821,  34.7048,2,  34.7032,2,    210.9,2,    207.6,2
   3175MB95_02,  IR03,    43,1,     24,     24,2,19950330,1221,-26.0022,  55.0000, 5036,      2.7,  25.8723,  35.4190,2,  35.4183,2,    203.5,2,    204.8,2
   3175MB95_02,  IR03,    43,1,     23,     23,2,19950330,1221,-26.0022,  55.0000, 5036,     24.8,  25.8721,  35.4156,2,  35.4191,2,    204.9,2,    204.7,2
   3175MB95_02,  IR03,    43,1,     22,     22,2,19950330,1221,-26.0022,  55.0000, 5036,     50.1,  22.8648,  35.4773,2,  35.4848,2,    222.8,2,    225.1,2
   3175MB95_02,  IR03,    43,1,     21,     21,2,19950330,1221,-26.0022,  55.0000, 5036,     73.1,  20.6023,  35.5191,2,  35.5143,2,    205.4,2,    207.3,2
   3175MB95_02,  IR03,    43,1,     19,     19,2,19950330,1221,-26.0022,  55.0000, 5036,     99.2,  19.5162,  35.5536,2,  35.5618,2,    192.1,2,    188.2,2
   3175MB95_02,  IR03,    43,1,     20,     20,2,19950330,1221,-26.0022,  55.0000, 5036,     99.4,  19.5477,  35.5590,2,  35.5559,2,    193.2,2,    189.2,2
   3175MB95_02,  IR03,    43,1,     18,     18,2,19950330,1221,-26.0022,  55.0000, 5036,    174.7,  16.8522,  35.5949,2,  35.5980,2,    207.8,2,    206.6,2
   3175MB95_02,  IR03,    43,1,     17,     17,2,19950330,1221,-26.0022,  55.0000, 5036,    224.7,  15.6847,  35.5171,2,  35.5189,2,    208.1,2,    203.4,2
   3175MB95_02,  IR03,    43,1,     16,     16,2,19950330,1221,-26.0022,  55.0000, 5036,    273.6,  14.7025,  35.4393,2,  35.4400,2,    219.4,2,    213.3,2
   3175MB95_02,  IR03,    43,1,     15,     15,2,19950330,1221,-26.0022,  55.0000, 5036,    322.5,  13.8349,  35.3542,2,  35.3564,2,    227.6,2,    224.1,2
   3175MB95_02,  IR03,    43,1,     14,     14,2,19950330,1221,-26.0022,  55.0000, 5036,    500.4,  11.7770,  35.0438,2,  35.0414,2,    225.5,2,    223.8,2
   3175MB95_02,  IR03,    43,1,     13,     13,2,19950330,1221,-26.0022,  55.0000, 5036,    702.9,   9.6590,  34.7508,2,  34.7511,2,    218.5,2,    220.6,2
   3175MB95_02,  IR03,    43,1,     12,     12,2,19950330,1221,-26.0022,  55.0000, 5036,    900.8,   7.2946,  34.5430,2,  34.5430,2,    192.3,2,    196.9,2
   3175MB95_02,  IR03,    43,1,     11,     11,2,19950330,1221,-26.0022,  55.0000, 5036,   1194.6,   4.0014,  34.4711,2,  34.4727,2,    167.6,2,    169.7,2
   3175MB95_02,  IR03,    43,1,     10,     10,2,19950330,1221,-26.0022,  55.0000, 5036,   1499.2,   2.9692,  34.5992,2,  34.5980,2,    164.7,2,    164.7,2
   3175MB95_02,  IR03,    43,1,      9,      9,2,19950330,1221,-26.0022,  55.0000, 5036,   1792.5,   2.5556,  34.6798,2,  34.6784,2,    170.2,2,    171.5,2
   3175MB95_02,  IR03,    43,1,      8,      8,2,19950330,1221,-26.0022,  55.0000, 5036,   2195.5,   2.2620,  34.7337,2,  34.7459,4,    171.4,3,    175.9,2
   3175MB95_02,  IR03,    43,1,      7,      7,2,19950330,1221,-26.0022,  55.0000, 5036,   2599.5,   2.0427,  34.7415,2,  34.7398,2,    165.7,2,    168.7,2
   3175MB95_02,  IR03,    43,1,      6,      6,2,19950330,1221,-26.0022,  55.0000, 5036,   3001.4,   1.8428,  34.7378,2,  34.7357,2,    164.8,2,    166.3,2
   3175MB95_02,  IR03,    43,1,      5,      5,2,19950330,1221,-26.0022,  55.0000, 5036,   3401.8,   1.5671,  34.7298,2,  34.7284,2,    174.8,2,    176.7,2
   3175MB95_02,  IR03,    43,1,      4,      4,2,19950330,1221,-26.0022,  55.0000, 5036,   3801.3,   1.2678,  34.7199,2,  34.7180,2,    188.2,2,    190.2,2
   3175MB95_02,  IR03,    43,1,      3,      3,2,19950330,1221,-26.0022,  55.0000, 5036,   4197.5,   1.1029,  34.7136,2,  34.7121,2,    197.6,2,    199.4,2
   3175MB95_02,  IR03,    43,1,      2,      2,2,19950330,1221,-26.0022,  55.0000, 5036,   4600.5,   0.9647,  34.7066,2,  34.7051,2,    204.9,2,    205.4,2
   3175MB95_02,  IR03,    43,1,      1,      1,2,19950330,1221,-26.0022,  55.0000, 5036,   5132.9,   0.9920,  34.7054,2,  34.7037,2,    210.1,2,    206.8,2
   3175MB95_02,  IR03,    44,1,     24,     24,2,19950330,1858,-25.5017,  54.9992, 5051,      3.4,  25.5819,  35.4588,2,  35.4590,2,    202.7,2,    205.1,2
   3175MB95_02,  IR03,    44,1,     23,     23,2,19950330,1858,-25.5017,  54.9992, 5051,     35.3,  25.1493,  35.6191,2,  35.6248,2,    208.0,2,    208.5,2
   3175MB95_02,  IR03,    44,1,     22,     22,2,19950330,1858,-25.5017,  54.9992, 5051,     74.9,  20.1434,  35.5614,2,  35.5615,2,    210.1,2,    211.9,2
   3175MB95_02,  IR03,    44,1,     21,     21,2,19950330,1858,-25.5017,  54.9992, 5051,    124.8,  18.2349,  35.6084,2,  35.6102,2,    200.2,2,    198.4,2
   3175MB95_02,  IR03,    44,1,     20,     20,2,19950330,1858,-25.5017,  54.9992, 5051,    199.9,  16.0547,  35.5417,2,  35.5453,2,    203.7,2,    200.0,2
   3175MB95_02,  IR03,    44,1,     19,     19,2,19950330,1858,-25.5017,  54.9992, 5051,    298.8,  14.0401,  35.3659,2,  35.3736,2,    218.0,2,    212.3,2
   3175MB95_02,  IR03,    44,1,     18,     18,2,19950330,1858,-25.5017,  54.9992, 5051,    399.8,  12.7691,  35.1972,2,  35.2034,2,    226.2,2,    223.9,2
   3175MB95_02,  IR03,    44,1,     17,     17,2,19950330,1858,-25.5017,  54.9992, 5051,    499.2,  11.8222,  35.0525,2,  35.0505,2,    226.7,2,    226.0,2
   3175MB95_02,  IR03,    44,1,     16,     16,2,19950330,1858,-25.5017,  54.9992, 5051,    598.6,  10.8550,  34.9086,2,  34.9117,2,    224.8,2,    226.4,2
   3175MB95_02,  IR03,    44,1,     15,     15,2,19950330,1858,-25.5017,  54.9992, 5051,    799.0,   8.2634,  34.6122,2,  34.6124,2,    202.9,2,    206.7,2
   3175MB95_02,  IR03,    44,1,     14,     14,2,19950330,1858,-25.5017,  54.9992, 5051,   1000.0,   5.3784,  34.4509,2,  34.4615,4,    182.8,2,    185.3,2
   3175MB95_02,  IR03,    44,1,     13,     13,2,19950330,1858,-25.5017,  54.9992, 5051,   1299.9,   3.6470,  34.5316,2,  34.5298,2,    159.1,2,    160.0,2
   3175MB95_02,  IR03,    44,1,     12,     12,2,19950330,1858,-25.5017,  54.9992, 5051,   1599.7,   2.7776,  34.6331,2,  34.6515,4,    167.5,2,    168.9,2
   3175MB95_02,  IR03,    44,1,     11,     11,2,19950330,1858,-25.5017,  54.9992, 5051,   1898.8,   2.4846,  34.7037,2,  34.7032,2,    169.3,2,    171.4,2
   3175MB95_02,  IR03,    44,1,     10,     10,2,19950330,1858,-25.5017,  54.9992, 5051,   2199.2,   2.2687,  34.7353,2,  34.7360,2,    167.9,7,    171.5,2
   3175MB95_02,  IR03,    44,1,      9,      9,2,19950330,1858,-25.5017,  54.9992, 5051,   2499.1,   2.1029,  34.7422,2,  34.7487,3,    164.7,2,    166.7,2
   3175MB95_02,  IR03,    44,1,      8,      8,2,19950330,1858,-25.5017,  54.9992, 5051,   2800.1,   1.9504,  34.7404,2,  34.7501,4,    161.9,7,    176.1,4
   3175MB95_02,  IR03,    44,1,      7,      7,2,19950330,1858,-25.5017,  54.9992, 5051,   3099.5,   1.7660,  34.7350,2,  34.7350,2,    167.1,2,    169.2,2
   3175MB95_02,  IR03,    44,1,      6,      6,2,19950330,1858,-25.5017,  54.9992, 5051,   3399.8,   1.5493,  34.7285,2,  34.7292,2,    175.7,2,    177.7,2
   3175MB95_02,  IR03,    44,1,      5,      5,2,19950330,1858,-25.5017,  54.9992, 5051,   3699.3,   1.3536,  34.7225,2,  34.7210,2,    184.4,2,    186.3,2
   3175MB95_02,  IR03,    44,1,      4,      4,2,19950330,1858,-25.5017,  54.9992, 5051,   4000.3,   1.2201,  34.7176,2,  34.7191,2,    192.0,7,    193.1,2
   3175MB95_02,  IR03,    44,1,      3,      3,2,19950330,1858,-25.5017,  54.9992, 5051,   4299.5,   1.0534,  34.7114,2,  34.7100,2,    200.1,7,    201.9,2
   3175MB95_02,  IR03,    44,1,      2,      2,2,19950330,1858,-25.5017,  54.9992, 5051,   4599.8,   0.9935,  34.7081,2,  34.7075,2,    204.2,7,    204.8,2
   3175MB95_02,  IR03,    44,1,      1,      1,2,19950330,1858,-25.5017,  54.9992, 5051,   5109.6,   0.9738,  34.7047,2,  34.7039,2,    210.1,2,    207.8,2
   3175MB95_02,  IR03,    45,1,     24,     24,2,19950331,0122,-24.9987,  55.0002, 4916,      3.8,  25.6101,  35.4725,2,-999.0000,9,    202.7,2,    205.2,2
   3175MB95_02,  IR03,    45,1,     23,     23,2,19950331,0122,-24.9987,  55.0002, 4916,     50.2,  23.7766,  35.6163,2,  35.4715,4,    221.0,2,   -999.0,9
   3175MB95_02,  IR03,    45,1,     22,     22,2,19950331,0122,-24.9987,  55.0002, 4916,     99.8,  18.1073,  35.6606,2,  35.6608,2,    227.9,2,    226.4,2
   3175MB95_02,  IR03,    45,1,     21,     21,2,19950331,0122,-24.9987,  55.0002, 4916,    149.7,  16.3544,  35.5692,2,  35.5717,2,    213.6,2,    212.8,2
   3175MB95_02,  IR03,    45,1,     20,     20,2,19950331,0122,-24.9987,  55.0002, 4916,    249.6,  14.6425,  35.4292,2,  35.4294,2,    213.1,2,    210.3,2
   3175MB95_02,  IR03,    45,1,     19,     19,2,19950331,0122,-24.9987,  55.0002, 4916,    350.7,  13.2620,  35.2711,2,  35.2689,2,    222.8,2,    221.3,2
   3175MB95_02,  IR03,    45,1,     18,     18,2,19950331,0122,-24.9987,  55.0002, 4916,    449.1,  12.3171,  35.1240,2,  35.1197,2,    223.1,2,    223.0,2
   3175MB95_02,  IR03,    45,1,     17,     17,2,19950331,0122,-24.9987,  55.0002, 4916,    554.0,  10.8506,  34.9098,2,  34.9125,2,    222.4,2,    223.0,2
   3175MB95_02,  IR03,    45,1,     16,     16,2,19950331,0122,-24.9987,  55.0002, 4916,    625.7,  10.3207,  34.8364,2,  34.8384,2,    220.9,2,    223.3,2
   3175MB95_02,  IR03,    45,1,     15,     15,2,19950331,0122,-24.9987,  55.0002, 4916,    748.6,   8.6904,  34.6461,2,  34.6493,2,    208.2,2,    212.1,2
   3175MB95_02,  IR03,    45,1,     14,     14,2,19950331,0122,-24.9987,  55.0002, 4916,    950.8,   6.0820,  34.4723,2,  34.4738,2,    186.8,2,    190.4,2
   3175MB95_02,  IR03,    45,1,     13,     13,2,19950331,0122,-24.9987,  55.0002, 4916,   1148.6,   4.1682,  34.4650,2,  34.4658,2,    168.1,2,    170.4,2
   3175MB95_02,  IR03,    45,1,     12,     12,2,19950331,0122,-24.9987,  55.0002, 4916,   1449.7,   3.1959,  34.6044,2,  34.6046,2,    158.3,2,    159.0,2
   3175MB95_02,  IR03,    45,1,     11,     11,2,19950331,0122,-24.9987,  55.0002, 4916,   1749.5,   2.6428,  34.6766,2,  34.6768,2,    167.6,2,    169.5,2
   3175MB95_02,  IR03,    45,1,     10,     10,2,19950331,0122,-24.9987,  55.0002, 4916,   2049.2,   2.3834,  34.7239,2,  34.7267,2,    167.0,2,    169.6,2
   3175MB95_02,  IR03,    45,1,      9,      9,2,19950331,0122,-24.9987,  55.0002, 4916,   2348.8,   2.1914,  34.7387,2,  34.7384,2,    162.4,2,    167.4,2
   3175MB95_02,  IR03,    45,1,      8,      8,2,19950331,0122,-24.9987,  55.0002, 4916,   2650.4,   2.0308,  34.7411,2,  34.7397,2,    160.7,2,    162.2,2
   3175MB95_02,  IR03,    45,1,      7,      7,2,19950331,0122,-24.9987,  55.0002, 4916,   2935.3,   1.8693,  34.7390,2,  34.7431,2,    163.3,7,    165.0,2
   3175MB95_02,  IR03,    45,1,      6,      6,2,19950331,0122,-24.9987,  55.0002, 4916,   3249.0,   1.6835,  34.7334,2,  34.7326,2,    170.4,2,    171.7,2
   3175MB95_02,  IR03,    45,1,      5,      5,2,19950331,0122,-24.9987,  55.0002, 4916,   3541.8,   1.4658,  34.7260,2,  34.7248,2,    179.9,2,    181.3,2
   3175MB95_02,  IR03,    45,1,      4,      4,2,19950331,0122,-24.9987,  55.0002, 4916,   3850.4,   1.2613,  34.7193,2,  34.7189,2,    189.5,2,    191.3,2
   3175MB95_02,  IR03,    45,1,      3,      3,2,19950331,0122,-24.9987,  55.0002, 4916,   4150.4,   1.1124,  34.7140,2,  34.7123,2,    197.7,2,    199.0,2
   3175MB95_02,  IR03,    45,1,      2,      2,2,19950331,0122,-24.9987,  55.0002, 4916,   4549.8,   0.9969,  34.7084,2,  34.7079,2,    204.3,2,    199.6,2
   3175MB95_02,  IR03,    45,1,      1,      1,2,19950331,0122,-24.9987,  55.0002, 4916,   5009.8,   0.9708,  34.7054,2,  34.7042,2,    210.1,2,    207.0,2