BOTTLE,20220630CCHSIOAMB
EXPOCODE,SECT_ID,STNNBR,CASTNO,SAMPNO,BTLNBR,BTLNBR_FLAG_W,DATE,TIME,LATITUDE,LONGITUDE,DEPTH,CTDPRS,CTDTMP,CTDSAL,CTDSAL_FLAG_W,SALNTY,SALNTY_FLAG_W,CTDOXY,CTDOXY_FLAG_W,OXYGEN,OXYGEN_FLAG_W
,,,,,,,,,,,,DBAR,ITS-90,PSS-78,,PSS-78,,UMOL/KG,,UMOL/KG,
   3175MB95_02,  IR03,    51,1,     24,     24,2,19950401,1000,-21.9998,  54.9992, 4201,      3.2,  27.1446,  35.3294,2,  35.3302,2,    202.3,2,    202.5,2
   3175MB95_02,  IR03,    51,1,     23,     23,2,19950401,1000,-21.9998,  54.9992, 4201,     49.4,  25.2773,  35.1949,2,  35.1972,2,    219.9,2,    219.6,2
   3175MB95_02,  IR03,    51,1,     22,     22,2,19950401,1000,-21.9998,  54.9992, 4201,    178.7,  19.9961,  35.4808,2,  35.4822,2,    177.2,2,    174.4,2
   3175MB95_02,  IR03,    51,1,     21,     21,2,19950401,1000,-21.9998,  54.9992, 4201,    244.5,  17.6031,  35.5932,2,  35.5971,2,    194.7,2,    190.6,2
   3175MB95_02,  IR03,    51,1,     20,     20,2,19950401,1000,-21.9998,  54.9992, 4201,    349.9,  14.4954,  35.4198,2,  35.4175,2,    218.9,2,    214.2,2
   3175MB95_02,  IR03,    51,1,     19,     19,2,19950401,1000,-21.9998,  54.9992, 4201,    449.8,  12.7582,  35.1934,2,  35.1952,2,    227.2,2,    218.3,2
   3175MB95_02,  IR03,    51,1,     18,     18,2,19950401,1000,-21.9998,  54.9992, 4201,    546.9,  11.6983,  35.0326,2,  35.0350,2,    227.7,3,    225.8,2
   3175MB95_02,  IR03,    51,1,     17,     17,2,19950401,1000,-21.9998,  54.9992, 4201,    643.9,  10.6533,  34.8805,2,  34.8809,2,    224.4,2,    224.2,2
   3175MB95_02,  IR03,    51,1,     16,     16,2,19950401,1000,-21.9998,  54.9992, 4201,    797.9,   8.3430,  34.6197,2,  34.6207,2,    204.6,2,    206.3,2
   3175MB95_02,  IR03,    51,1,     15,     15,2,19950401,1000,-21.9998,  54.9992, 4201,    941.7,   5.9764,  34.4956,2,  34.4961,2,    173.3,2,    175.3,2
   3175MB95_02,  IR03,    51,1,     14,     14,2,19950401,1000,-21.9998,  54.9992, 4201,   1002.9,   5.4101,  34.5238,2,  34.5248,2,    155.4,2,    155.9,2
   3175MB95_02,  IR03,    51,1,     13,     13,2,19950401,1000,-21.9998,  54.9992, 4201,   1227.7,   4.1581,  34.5888,2,  34.5933,3,    141.2,2,    139.3,2
   3175MB95_02,  IR03,    51,1,     12,     12,2,19950401,1000,-21.9998,  54.9992, 4201,   1500.7,   3.0425,  34.6435,2,  34.6438,2,    157.3,2,    156.9,2
   3175MB95_02,  IR03,    51,1,     11,     11,2,19950401,1000,-21.9998,  54.9992, 4201,   1801.1,   2.5525,  34.7010,2,  34.7013,2,    163.0,2,    162.9,2
   3175MB95_02,  IR03,    51,1,     10,     10,2,19950401,1000,-21.9998,  54.9992, 4201,   2098.3,   2.3243,  34.7289,2,  34.7286,2,    162.3,2,    162.8,2
   3175MB95_02,  IR03,    51,1,      9,      9,2,19950401,1000,-21.9998,  54.9992, 4201,   2298.2,   2.2041,  34.7356,2,  34.7358,2,    160.7,2,    161.0,2
   3175MB95_02,  IR03,    51,1,      8,      8,2,19950401,1000,-21.9998,  54.9992, 4201,   2488.9,   2.0650,  34.7392,2,  34.7408,2,    158.7,2,    159.1,2
   3175MB95_02,  IR03,    51,1,      7,      7,2,19950401,1000,-21.9998,  54.9992, 4201,   2801.5,   1.8929,  34.7386,2,  34.7383,2,    160.7,2,    160.8,2
   3175MB95_02,  IR03,    51,1,      6,      6,2,19950401,1000,-21.9998,  54.9992, 4201,   3100.7,   1.7580,  34.7353,2,  34.7359,2,    165.1,2,    164.9,2
   3175MB95_02,  IR03,    51,1,      5,      5,2,19950401,1000,-21.9998,  54.9992, 4201,   3399.4,   1.6375,  34.7310,2,  34.7303,2,    171.4,2,    170.5,2
   3175MB95_02,  IR03,    51,1,      4,      4,2,19950401,1000,-21.9998,  54.9992, 4201,   3599.0,   1.4992,  34.7269,2,  34.7410,4,    177.8,2,    177.1,2
   3175MB95_02,  IR03,    51,1,      3,      3,2,19950401,1000,-21.9998,  54.9992, 4201,   3800.3,   1.3772,  34.7224,2,  34.7232,2,    184.2,2,    183.7,2
   3175MB95_02,  IR03,    51,1,      2,      2,2,19950401,1000,-21.9998,  54.9992, 4201,   4001.0,   1.3151,  34.7199,2,  34.7199,2,    188.5,2,    186.5,2
   3175MB95_02,  IR03,    51,1,      1,      1,2,19950401,1000,-21.9998,  54.9992, 4201,   4233.3,   1.2680,  34.7173,2,  34.7173,2,    193.1,2,    205.1,3
   3175MB95_02,  IR03,    52,1,     24,     24,2,19950401,1459,-21.5050,  54.9992, 3285,      3.4,  27.1703,  35.3627,2,  35.3627,2,    199.8,2,    201.9,2
   3175MB95_02,  IR03,    52,1,     23,     23,2,19950401,1459,-21.5050,  54.9992, 3285,     23.8,  26.8021,  35.3524,2,  35.3555,2,    201.2,2,    202.3,2
   3175MB95_02,  IR03,    52,1,     22,     22,2,19950401,1459,-21.5050,  54.9992, 3285,     73.5,  24.5831,  35.2300,2,  35.2360,2,    220.0,2,    221.9,2
   3175MB95_02,  IR03,    52,1,     21,     21,2,19950401,1459,-21.5050,  54.9992, 3285,    123.1,  22.0418,  35.3868,2,  35.3926,2,    191.4,2,    192.2,2
   3175MB95_02,  IR03,    52,1,     20,     20,2,19950401,1459,-21.5050,  54.9992, 3285,    200.8,  18.9543,  35.5791,2,  35.5807,2,    190.4,2,    187.0,2
   3175MB95_02,  IR03,    52,1,     19,     19,2,19950401,1459,-21.5050,  54.9992, 3285,    249.0,  17.1793,  35.5923,2,  35.5926,2,    198.5,2,    194.3,2
   3175MB95_02,  IR03,    52,1,     18,     18,2,19950401,1459,-21.5050,  54.9992, 3285,    325.7,  15.1319,  35.4744,2,  35.4801,2,    212.2,3,    207.1,2
   3175MB95_02,  IR03,    52,1,     17,     17,2,19950401,1459,-21.5050,  54.9992, 3285,    400.0,  13.6759,  35.3252,2,  35.3239,2,    224.6,2,    221.0,2
   3175MB95_02,  IR03,    52,1,     16,     16,2,19950401,1459,-21.5050,  54.9992, 3285,    500.3,  12.2626,  35.1175,2,  35.1306,3,    227.5,2,    224.4,2
   3175MB95_02,  IR03,    52,1,     15,     15,2,19950401,1459,-21.5050,  54.9992, 3285,    600.2,  10.8961,  34.9151,2,  34.9212,2,    225.6,2,    224.9,2
   3175MB95_02,  IR03,    52,1,     14,     14,2,19950401,1459,-21.5050,  54.9992, 3285,    698.3,   9.3715,  34.7198,2,  34.7231,2,    214.8,2,    216.2,2
   3175MB95_02,  IR03,    52,1,     13,     13,2,19950401,1459,-21.5050,  54.9992, 3285,    800.2,   7.7222,  34.5776,2,  34.5811,2,    192.9,2,    196.5,2
   3175MB95_02,  IR03,    52,1,     12,     12,2,19950401,1459,-21.5050,  54.9992, 3285,    947.4,   5.9003,  34.5238,2,  34.5292,2,    162.4,2,    163.8,2
   3175MB95_02,  IR03,    52,1,     11,     11,2,19950401,1459,-21.5050,  54.9992, 3285,   1001.2,   5.4581,  34.5383,2,  34.5422,2,    151.1,2,    150.4,2
   3175MB95_02,  IR03,    52,1,     10,     10,2,19950401,1459,-21.5050,  54.9992, 3285,   1199.0,   4.2087,  34.5814,2,  34.5816,2,    141.7,2,    139.6,2
   3175MB95_02,  IR03,    52,1,      9,      9,2,19950401,1459,-21.5050,  54.9992, 3285,   1399.2,   3.5090,  34.6275,2,  34.6289,2,    147.9,2,    145.3,2
   3175MB95_02,  IR03,    52,1,      8,      8,2,19950401,1459,-21.5050,  54.9992, 3285,   1598.8,   2.9175,  34.6688,2,  34.6684,2,    157.2,2,    155.8,2
   3175MB95_02,  IR03,    52,1,      7,      7,2,19950401,1459,-21.5050,  54.9992, 3285,   1798.4,   2.5476,  34.7006,2,  34.7009,2,    165.4,2,    165.0,2
   3175MB95_02,  IR03,    52,1,      6,      6,2,19950401,1459,-21.5050,  54.9992, 3285,   1997.6,   2.4078,  34.7202,2,  34.7205,2,    164.3,2,    163.9,2
   3175MB95_02,  IR03,    52,1,      5,      5,2,19950401,1459,-21.5050,  54.9992, 3285,   2201.2,   2.2640,  34.7330,2,  34.7335,2,    162.3,2,    161.7,2
   3175MB95_02,  IR03,    52,1,      4,      4,2,19950401,1459,-21.5050,  54.9992, 3285,   2402.0,   2.0722,  34.7301,2,  34.7307,2,    163.9,2,    163.4,2
   3175MB95_02,  IR03,    52,1,      3,      3,2,19950401,1459,-21.5050,  54.9992, 3285,   2699.2,   1.9342,  34.7355,2,  34.7360,2,    163.5,2,    162.9,2
   3175MB95_02,  IR03,    52,1,      2,      2,2,19950401,1459,-21.5050,  54.9992, 3285,   2999.2,   1.8115,  34.7370,2,  34.7369,2,    165.4,2,    163.0,2
   3175MB95_02,  IR03,    52,1,      1,      1,2,19950401,1459,-21.5050,  54.9992, 3285,   3290.2,   1.6498,  34.7284,2,  34.7341,3,    173.0,2,    170.2,2
   3175MB95_02,  IR03,    53,1,     24,     24,2,19950401,2142,-20.4985,  55.0002, 3530,      2.3,  27.4121,  35.3517,2,-999.0000,9,    200.2,2,    195.4,2
   3175MB95_02,  IR03,    53,1,     23,     23,2,19950401,2142,-20.4985,  55.0002, 3530,     24.6,  27.1870,  35.3368,2,  35.3428,2,    201.1,2,    201.6,2
   3175MB95_02,  IR03,    53,1,     22,     22,2,19950401,2142,-20.4985,  55.0002, 3530,     49.5,  26.9370,  35.3371,2,  35.3359,2,    202.2,2,    203.7,2
   3175MB95_02,  IR03,    53,1,     21,     21,2,19950401,2142,-20.4985,  55.0002, 3530,     99.6,  23.9660,  35.2925,2,  35.2959,2,    212.1,2,    216.4,2
   3175MB95_02,  IR03,    53,1,     20,     20,2,19950401,2142,-20.4985,  55.0002, 3530,    174.6,  20.3312,  35.4791,2,  35.4916,2,    184.0,2,    183.3,2
   3175MB95_02,  IR03,    53,1,     19,     19,2,19950401,2142,-20.4985,  55.0002, 3530,    249.3,  17.1651,  35.5937,2,  35.6001,2,    200.7,2,    198.6,2
   3175MB95_02,  IR03,    53,1,     18,     18,2,19950401,2142,-20.4985,  55.0002, 3530,    350.8,  14.2111,  35.3854,2,  35.3855,2,    217.3,2,    215.3,2
   3175MB95_02,  IR03,    53,1,     17,     17,2,19950401,2142,-20.4985,  55.0002, 3530,    450.2,  12.3801,  35.1365,2,  35.1335,2,    226.9,2,    226.3,2
   3175MB95_02,  IR03,    53,1,     16,     16,2,19950401,2142,-20.4985,  55.0002, 3530,    552.1,  10.9946,  34.9317,2,  34.9290,2,    225.1,2,    226.2,2
   3175MB95_02,  IR03,    53,1,     15,     15,2,19950401,2142,-20.4985,  55.0002, 3530,    691.7,   9.1148,  34.6964,2,  34.6992,2,    209.6,2,    213.3,2
   3175MB95_02,  IR03,    53,1,     14,     14,2,19950401,2142,-20.4985,  55.0002, 3530,    882.4,   6.4016,  34.5258,2,  34.5290,2,    170.8,2,    174.8,2
   3175MB95_02,  IR03,    53,1,     13,     13,2,19950401,2142,-20.4985,  55.0002, 3530,   1130.8,   4.5659,  34.6253,2,  34.6255,2,    126.8,2,    124.8,2
   3175MB95_02,  IR03,    53,1,     12,     12,2,19950401,2142,-20.4985,  55.0002, 3530,   1299.7,   4.0099,  34.6442,2,  34.6434,2,    133.1,2,    131.3,2
   3175MB95_02,  IR03,    53,1,     11,     11,2,19950401,2142,-20.4985,  55.0002, 3530,   1499.5,   3.3277,  34.6613,2,  34.6634,2,    146.5,2,    145.8,2
   3175MB95_02,  IR03,    53,1,     10,     10,2,19950401,2142,-20.4985,  55.0002, 3530,   1701.0,   2.8267,  34.6891,2,  34.6889,2,    154.5,2,    154.3,2
   3175MB95_02,  IR03,    53,1,      9,      9,2,19950401,2142,-20.4985,  55.0002, 3530,   1894.7,   2.5009,  34.7091,2,  34.7091,2,    158.9,2,    159.0,2
   3175MB95_02,  IR03,    53,1,      8,      8,2,19950401,2142,-20.4985,  55.0002, 3530,   2100.1,   2.2679,  34.7223,2,  34.7214,2,    161.2,2,    162.0,2
   3175MB95_02,  IR03,    53,1,      7,      7,2,19950401,2142,-20.4985,  55.0002, 3530,   2298.2,   2.1063,  34.7289,2,  34.7294,2,    162.4,2,    163.1,2
   3175MB95_02,  IR03,    53,1,      6,      6,2,19950401,2142,-20.4985,  55.0002, 3530,   2497.3,   1.9950,  34.7319,2,  34.7317,2,    163.0,2,    163.6,2
   3175MB95_02,  IR03,    53,1,      5,      5,2,19950401,2142,-20.4985,  55.0002, 3530,   2698.6,   1.8930,  34.7336,2,  34.7328,2,    163.8,2,    164.2,2
   3175MB95_02,  IR03,    53,1,      4,      4,2,19950401,2142,-20.4985,  55.0002, 3530,   2998.8,   1.7578,  34.7338,2,  34.7332,2,    166.0,2,    166.0,2
   3175MB95_02,  IR03,    53,1,      3,      3,2,19950401,2142,-20.4985,  55.0002, 3530,   3298.0,   1.6038,  34.7308,2,  34.7298,2,    171.7,2,    171.1,2
   3175MB95_02,  IR03,    53,1,      2,      2,2,19950401,2142,-20.4985,  55.0002, 3530,   3600.1,   1.4707,  34.7259,2,  34.7248,2,    178.8,2,    177.4,2
   3175MB95_02,  IR03,    53,1,      1,      1,2,19950401,2142,-20.4985,  55.0002, 3530,   3956.3,   1.3356,  34.7204,2,  34.7206,2,    188.5,2,    186.6,2
   3175MB95_02,  IR03,    54,1,     24,     24,2,19950402,0119,-19.9988,  55.0005, 4376,      3.7,  28.1120,  35.1179,2,  35.1192,2,    197.1,2,    198.0,2
   3175MB95_02,  IR03,    54,1,     23,     23,2,19950402,0119,-19.9988,  55.0005, 4376,     48.9,  26.2609,  35.2797,2,  35.3009,3,    207.0,2,    205.0,2
   3175MB95_02,  IR03,    54,1,     22,     22,2,19950402,0119,-19.9988,  55.0005, 4376,     98.5,  22.9504,  35.2666,2,  35.2730,2,    202.5,2,    202.4,2
   3175MB95_02,  IR03,    54,1,     21,     21,2,19950402,0119,-19.9988,  55.0005, 4376,    148.6,  20.8742,  35.4604,2,  35.4582,2,    186.1,2,    185.4,2
   3175MB95_02,  IR03,    54,1,     20,     20,2,19950402,0119,-19.9988,  55.0005, 4376,    193.5,  19.4972,  35.5585,2,  35.5661,2,    183.0,2,    182.2,2
   3175MB95_02,  IR03,    54,1,     19,     19,2,19950402,0119,-19.9988,  55.0005, 4376,    298.5,  16.2467,  35.5471,2,  35.4038,4,    197.8,2,    195.0,2
   3175MB95_02,  IR03,    54,1,     18,     18,2,19950402,0119,-19.9988,  55.0005, 4376,    398.9,  13.5785,  35.3004,2,  35.3139,3,    216.5,2,    215.2,2
   3175MB95_02,  IR03,    54,1,     17,     17,2,19950402,0119,-19.9988,  55.0005, 4376,    500.0,  12.0614,  35.0862,2,  35.0949,3,    221.1,2,    222.7,2
   3175MB95_02,  IR03,    54,1,     16,     16,2,19950402,0119,-19.9988,  55.0005, 4376,    599.9,  10.1998,  34.8314,2,  34.8357,2,    213.2,2,    216.3,2
   3175MB95_02,  IR03,    54,1,     15,     15,2,19950402,0119,-19.9988,  55.0005, 4376,    734.6,   7.5499,  34.5866,2,  34.5863,2,    186.1,2,    190.7,2
   3175MB95_02,  IR03,    54,1,     14,     14,2,19950402,0119,-19.9988,  55.0005, 4376,    900.7,   5.3538,  34.5570,2,  34.5579,2,    142.2,2,    141.4,2
   3175MB95_02,  IR03,    54,1,     13,     13,2,19950402,0119,-19.9988,  55.0005, 4376,   1098.1,   4.1937,  34.5850,2,  34.5855,2,    140.2,2,    139.3,2
   3175MB95_02,  IR03,    54,1,     12,     12,2,19950402,0119,-19.9988,  55.0005, 4376,   1275.4,   3.5948,  34.6375,2,  34.6377,2,    143.0,2,    142.2,2
   3175MB95_02,  IR03,    54,1,     11,     11,2,19950402,0119,-19.9988,  55.0005, 4376,   1497.0,   3.0913,  34.6726,2,  34.6737,2,    149.8,2,    149.8,2
   3175MB95_02,  IR03,    54,1,     10,     10,2,19950402,0119,-19.9988,  55.0005, 4376,   1798.9,   2.5506,  34.7056,2,  34.7050,2,    157.8,2,    158.5,2
   3175MB95_02,  IR03,    54,1,      9,      9,2,19950402,0119,-19.9988,  55.0005, 4376,   2098.4,   2.1999,  34.7264,2,  34.7257,2,    160.5,2,    161.7,2
   3175MB95_02,  IR03,    54,1,      8,      8,2,19950402,0119,-19.9988,  55.0005, 4376,   2398.3,   2.0328,  34.7349,2,  34.7347,2,    159.8,2,    161.2,2
   3175MB95_02,  IR03,    54,1,      7,      7,2,19950402,0119,-19.9988,  55.0005, 4376,   2699.3,   1.8999,  34.7363,2,  34.7357,2,    160.8,2,    162.0,2
   3175MB95_02,  IR03,    54,1,      6,      6,2,19950402,0119,-19.9988,  55.0005, 4376,   2998.8,   1.7859,  34.7355,2,  34.7348,2,    163.1,2,    163.9,2
   3175MB95_02,  IR03,    54,1,      5,      5,2,19950402,0119,-19.9988,  55.0005, 4376,   3299.0,   1.6648,  34.7325,2,  34.7307,2,    167.5,2,    168.3,2
   3175MB95_02,  IR03,    54,1,      4,      4,2,19950402,0119,-19.9988,  55.0005, 4376,   3599.0,   1.5162,  34.7277,2,  34.7269,2,    175.0,2,    175.4,2
   3175MB95_02,  IR03,    54,1,      3,      3,2,19950402,0119,-19.9988,  55.0005, 4376,   3900.6,   1.3619,  34.7220,2,  34.7211,2,    183.8,2,    186.2,2
   3175MB95_02,  IR03,    54,1,      2,      2,2,19950402,0119,-19.9988,  55.0005, 4376,   4197.2,   1.2454,  34.7170,2,  34.7174,2,    192.0,2,    191.2,2
   3175MB95_02,  IR03,    54,1,      1,      1,2,19950402,0119,-19.9988,  55.0005, 4376,   4515.4,   1.1275,  34.7122,2,  34.7127,2,    200.4,2,    198.5,2
   3175MB95_02,  IR03,    55,1,     24,     24,2,19950402,0734,-19.4995,  55.0000, 4606,      2.9,  28.5241,  35.2802,2,  35.2836,2,    196.5,2,    198.2,2
   3175MB95_02,  IR03,    55,1,     23,     23,2,19950402,0734,-19.4995,  55.0000, 4606,     48.5,  26.6105,  35.2511,2,  35.2596,2,    205.3,2,    206.8,2
   3175MB95_02,  IR03,    55,1,     22,     22,2,19950402,0734,-19.4995,  55.0000, 4606,    103.0,  22.4585,  35.3230,2,  35.3221,2,    198.7,2,    200.4,2
   3175MB95_02,  IR03,    55,1,     21,     21,2,19950402,0734,-19.4995,  55.0000, 4606,    150.2,  20.9983,  35.4509,2,  35.4609,2,    188.7,2,    187.2,2
   3175MB95_02,  IR03,    55,1,     20,     20,2,19950402,0734,-19.4995,  55.0000, 4606,    246.2,  17.5588,  35.6209,2,  35.6254,2,    193.6,2,    190.5,2
   3175MB95_02,  IR03,    55,1,     19,     19,2,19950402,0734,-19.4995,  55.0000, 4606,    348.5,  14.1244,  35.3792,2,  35.3818,2,    218.9,2,    216.1,2
   3175MB95_02,  IR03,    55,1,     18,     18,2,19950402,0734,-19.4995,  55.0000, 4606,    447.7,  12.2771,  35.1222,2,  35.1313,3,    226.6,2,    225.9,2
   3175MB95_02,  IR03,    55,1,     17,     17,2,19950402,0734,-19.4995,  55.0000, 4606,    549.8,  10.8899,  34.9184,2,  34.9226,2,    221.1,2,    222.7,2
   3175MB95_02,  IR03,    55,1,     16,     16,2,19950402,0734,-19.4995,  55.0000, 4606,    649.3,   9.1866,  34.7039,2,  34.7007,2,    209.6,2,    213.0,2
   3175MB95_02,  IR03,    55,1,     15,     15,2,19950402,0734,-19.4995,  55.0000, 4606,    800.0,   6.3521,  34.5299,2,  34.5315,2,    166.9,2,    168.7,2
   3175MB95_02,  IR03,    55,1,     14,     14,2,19950402,0734,-19.4995,  55.0000, 4606,   1001.0,   4.8322,  34.5747,2,  34.5746,2,    137.8,2,    137.4,2
   3175MB95_02,  IR03,    55,1,     13,     13,2,19950402,0734,-19.4995,  55.0000, 4606,   1248.7,   3.9184,  34.6477,2,  34.6475,2,    134.2,2,    133.2,2
   3175MB95_02,  IR03,    55,1,     12,     12,2,19950402,0734,-19.4995,  55.0000, 4606,   1498.6,   3.1837,  34.6671,2,  34.6667,2,    149.3,2,    149.4,2
   3175MB95_02,  IR03,    55,1,     11,     11,2,19950402,0734,-19.4995,  55.0000, 4606,   1796.9,   2.6117,  34.7043,2,  34.7040,2,    157.0,2,    158.2,2
   3175MB95_02,  IR03,    55,1,     10,     10,2,19950402,0734,-19.4995,  55.0000, 4606,   2096.7,   2.2828,  34.7278,2,  34.7269,2,    158.2,2,    160.0,2
   3175MB95_02,  IR03,    55,1,      9,      9,2,19950402,0734,-19.4995,  55.0000, 4606,   2298.1,   2.1448,  34.7334,2,  34.7328,2,    156.9,2,    159.0,2
   3175MB95_02,  IR03,    55,1,      8,      8,2,19950402,0734,-19.4995,  55.0000, 4606,   2598.1,   1.9736,  34.7351,2,  34.7332,2,    159.7,2,    161.6,2
   3175MB95_02,  IR03,    55,1,      7,      7,2,19950402,0734,-19.4995,  55.0000, 4606,   2897.9,   1.8603,  34.7386,2,  34.7368,2,    159.1,2,    160.6,2
   3175MB95_02,  IR03,    55,1,      6,      6,2,19950402,0734,-19.4995,  55.0000, 4606,   3197.1,   1.7512,  34.7353,2,  34.7337,2,    162.9,2,    164.6,2
   3175MB95_02,  IR03,    55,1,      5,      5,2,19950402,0734,-19.4995,  55.0000, 4606,   3499.5,   1.5827,  34.7296,2,  34.7274,2,    170.6,2,    171.9,2
   3175MB95_02,  IR03,    55,1,      4,      4,2,19950402,0734,-19.4995,  55.0000, 4606,   3801.8,   1.4357,  34.7242,2,  34.7226,2,    178.8,2,    178.8,2
   3175MB95_02,  IR03,    55,1,      3,      3,2,19950402,0734,-19.4995,  55.0000, 4606,   4101.1,   1.3113,  34.7193,2,  34.7176,2,    186.5,2,    188.5,2
   3175MB95_02,  IR03,    55,1,      2,      2,2,19950402,0734,-19.4995,  55.0000, 4606,   4378.9,   1.1919,  34.7150,2,  34.7148,2,    194.5,3,    194.5,2
   3175MB95_02,  IR03,    55,1,      1,      1,2,19950402,0734,-19.4995,  55.0000, 4606,   4687.8,   1.0767,  34.7097,2,  34.7100,2,    203.0,2,    201.5,2