BOTTLE,20220630CCHSIOAMB
# Added a CASTNO column with all 1s
#BOTTLE,20020118WHPSIOKJU
#code : jjward hyd_to_exchange.pl 
#original files copied from HTML directory: 20020118
#original HYD file: ir03_ahy.txt   Mon Aug 31 14:20:53 1998
#original SUM file: ir03_asu.txt   Fri Jan 18 14:42:58 2002
EXPOCODE,SECT_ID,STNNBR,CASTNO,SAMPNO,BTLNBR,BTLNBR_FLAG_W,DATE,TIME,LATITUDE,LONGITUDE,DEPTH,CTDPRS,CTDTMP,CTDSAL,CTDSAL_FLAG_W,SALNTY,SALNTY_FLAG_W,CTDOXY,CTDOXY_FLAG_W,OXYGEN,OXYGEN_FLAG_W
,,,,,,,,,,,,DBAR,ITS-90,PSS-78,,PSS-78,,UMOL/KG,,UMOL/KG,
   3175MB95_02,  ISS1,    13,1,      5,      5,2,19950321,1944,-31.0432,  30.3700,  300,      2.6,  25.9047,  35.5038,2,  35.5179,2,    200.2,2,    205.4,2
   3175MB95_02,  ISS1,    13,1,      4,      4,2,19950321,1944,-31.0432,  30.3700,  300,     51.1,  23.8854,  35.4579,2,  35.4810,3,    193.8,2,    203.6,2
   3175MB95_02,  ISS1,    13,1,      3,      3,2,19950321,1944,-31.0432,  30.3700,  300,    101.4,  19.1653,  35.3966,2,  35.4177,3,    170.9,2,    166.6,2
   3175MB95_02,  ISS1,    13,1,      2,      2,2,19950321,1944,-31.0432,  30.3700,  300,    150.5,  14.7980,  35.3448,2,  35.3551,2,    194.6,2,    186.9,2
   3175MB95_02,  ISS1,    13,1,      1,      1,2,19950321,1944,-31.0432,  30.3700,  300,    188.1,  13.9827,  35.2821,2,  35.2994,3,    201.8,2,    192.8,2
   3175MB95_02,  ISS1,    14,1,     16,     16,2,19950321,2047,-31.0972,  30.4657, 1715,      1.8,  25.9973,  35.5602,2,  35.5625,2,    199.8,2,    204.2,2
   3175MB95_02,  ISS1,    14,1,     15,     15,2,19950321,2047,-31.0972,  30.4657, 1715,     24.6,  25.9925,  35.5547,2,  35.5624,2,    195.6,2,    204.1,2
   3175MB95_02,  ISS1,    14,1,     14,     14,2,19950321,2047,-31.0972,  30.4657, 1715,     74.1,  20.0514,  35.3834,2,  35.3898,2,    162.4,2,    167.3,2
   3175MB95_02,  ISS1,    14,1,     13,     13,2,19950321,2047,-31.0972,  30.4657, 1715,    100.2,  17.9605,  35.4055,2,  35.4185,2,    158.7,2,    156.2,2
   3175MB95_02,  ISS1,    14,1,     12,     12,2,19950321,2047,-31.0972,  30.4657, 1715,    149.9,  16.6095,  35.4389,2,  35.4475,2,    175.0,2,    171.4,2
   3175MB95_02,  ISS1,    14,1,     11,     11,2,19950321,2047,-31.0972,  30.4657, 1715,    239.9,  14.8473,  35.3952,2,  35.3984,2,    194.1,2,    192.1,2
   3175MB95_02,  ISS1,    14,1,     10,     10,2,19950321,2047,-31.0972,  30.4657, 1715,    345.4,  13.4776,  35.2880,2,  35.3083,4,    212.6,2,    215.4,2
   3175MB95_02,  ISS1,    14,1,      9,      9,2,19950321,2047,-31.0972,  30.4657, 1715,    449.4,  12.1367,  35.0918,2,  35.0974,2,    208.6,2,    216.6,2
   3175MB95_02,  ISS1,    14,1,      8,      8,2,19950321,2047,-31.0972,  30.4657, 1715,    549.0,  10.0290,  34.8326,2,  34.8301,2,    194.2,2,    199.4,2
   3175MB95_02,  ISS1,    14,1,      7,      7,2,19950321,2047,-31.0972,  30.4657, 1715,    698.4,   7.2682,  34.6141,2,  34.6181,2,    173.1,2,    173.9,2
   3175MB95_02,  ISS1,    14,1,      6,      6,2,19950321,2047,-31.0972,  30.4657, 1715,    897.4,   5.4308,  34.6338,2,  34.6333,2,    142.1,2,    142.9,2
   3175MB95_02,  ISS1,    14,1,      5,      5,2,19950321,2047,-31.0972,  30.4657, 1715,   1100.4,   3.6136,  34.6444,2,  34.6953,4,    156.3,2,    151.7,2
   3175MB95_02,  ISS1,    14,1,      4,      4,2,19950321,2047,-31.0972,  30.4657, 1715,   1298.7,   3.0265,  34.6938,2,  34.7253,4,    167.9,2,    163.2,2
   3175MB95_02,  ISS1,    14,1,      3,      3,2,19950321,2047,-31.0972,  30.4657, 1715,   1494.3,   2.7821,  34.7243,2,  34.7262,2,    179.1,2,    175.4,2
   3175MB95_02,  ISS1,    14,1,      2,      2,2,19950321,2047,-31.0972,  30.4657, 1715,   1698.1,   2.6874,  34.7431,2,  34.7460,2,    186.6,2,    182.4,2
   3175MB95_02,  ISS1,    14,1,      1,      1,2,19950321,2047,-31.0972,  30.4657, 1715,   1723.5,   2.6795,  34.7450,2,  34.7482,2,    187.7,2,    182.4,2
   3175MB95_02,  ISS1,    15,1,     24,     24,2,19950321,2257,-31.2023,  30.4350, 2780,      2.4,  24.6951,  35.7230,2,  35.7219,2,    210.0,2,    210.4,2
   3175MB95_02,  ISS1,    15,1,     23,     23,2,19950321,2257,-31.2023,  30.4350, 2780,     15.8,  24.6876,  35.7239,2,  35.7236,2,    210.5,2,    210.3,2
   3175MB95_02,  ISS1,    15,1,     22,     22,2,19950321,2257,-31.2023,  30.4350, 2780,     49.5,  23.0919,  35.5850,2,  35.5915,2,    221.9,2,    223.0,2
   3175MB95_02,  ISS1,    15,1,     21,     21,2,19950321,2257,-31.2023,  30.4350, 2780,     73.9,  19.9002,  35.5607,2,  35.5641,2,    214.6,2,    214.8,2
   3175MB95_02,  ISS1,    15,1,     20,     20,2,19950321,2257,-31.2023,  30.4350, 2780,    100.4,  18.6566,  35.5944,2,  35.5931,2,    203.7,2,    200.0,2
   3175MB95_02,  ISS1,    15,1,     19,     19,2,19950321,2257,-31.2023,  30.4350, 2780,    125.1,  17.8237,  35.6048,2,  35.6057,2,    208.0,2,    204.2,2
   3175MB95_02,  ISS1,    15,1,     18,     18,2,19950321,2257,-31.2023,  30.4350, 2780,    148.5,  17.2940,  35.5971,2,  35.5982,2,    210.9,2,    208.4,2
   3175MB95_02,  ISS1,    15,1,     17,     17,2,19950321,2257,-31.2023,  30.4350, 2780,    198.5,  16.4258,  35.5535,2,  35.5542,2,    209.6,2,    205.1,2
   3175MB95_02,  ISS1,    15,1,     16,     16,2,19950321,2257,-31.2023,  30.4350, 2780,    250.8,  15.6936,  35.5147,2,  35.5221,2,    212.0,2,    211.9,2
   3175MB95_02,  ISS1,    15,1,     15,     15,2,19950321,2257,-31.2023,  30.4350, 2780,    348.0,  14.0416,  35.3312,2,  35.3303,2,    211.3,2,    208.5,2
   3175MB95_02,  ISS1,    15,1,     14,     14,2,19950321,2257,-31.2023,  30.4350, 2780,    448.9,  12.8111,  35.1802,2,  35.1792,2,    215.8,2,    216.6,2
   3175MB95_02,  ISS1,    15,1,     13,     13,2,19950321,2257,-31.2023,  30.4350, 2780,    548.7,  11.3707,  34.9649,2,  34.9543,3,    215.7,2,    219.1,2
   3175MB95_02,  ISS1,    15,1,     12,     12,2,19950321,2257,-31.2023,  30.4350, 2780,    650.3,   9.9976,  34.7861,2,  34.7874,2,    211.4,2,    215.1,2
   3175MB95_02,  ISS1,    15,1,     11,     11,2,19950321,2257,-31.2023,  30.4350, 2780,    746.4,   8.7140,  34.6622,2,  34.6696,3,    202.1,2,    222.1,4
   3175MB95_02,  ISS1,    15,1,     10,     10,2,19950321,2257,-31.2023,  30.4350, 2780,    898.9,   6.8598,  34.6073,2,  34.6079,2,    167.5,2,    172.4,2
   3175MB95_02,  ISS1,    15,1,      9,      9,2,19950321,2257,-31.2023,  30.4350, 2780,   1049.4,   4.7173,  34.6716,2,  34.6755,2,    139.5,3,    135.2,2
   3175MB95_02,  ISS1,    15,1,      8,      8,2,19950321,2257,-31.2023,  30.4350, 2780,   1297.6,   3.1745,  34.6818,2,  34.6823,2,    162.8,2,    159.4,2
   3175MB95_02,  ISS1,    15,1,      7,      7,2,19950321,2257,-31.2023,  30.4350, 2780,   1499.3,   2.8376,  34.7186,2,  34.7193,2,    174.3,2,    171.3,2
   3175MB95_02,  ISS1,    15,1,      6,      6,2,19950321,2257,-31.2023,  30.4350, 2780,   1700.0,   2.6702,  34.7452,2,  34.7467,2,    184.9,2,    186.8,2
   3175MB95_02,  ISS1,    15,1,      5,      5,2,19950321,2257,-31.2023,  30.4350, 2780,   1900.2,   2.5558,  34.7705,2,  34.7709,2,    193.8,2,    191.8,2
   3175MB95_02,  ISS1,    15,1,      4,      4,2,19950321,2257,-31.2023,  30.4350, 2780,   2100.7,   2.5003,  34.7867,2,  34.7869,2,    200.8,2,    199.0,2
   3175MB95_02,  ISS1,    15,1,      3,      3,2,19950321,2257,-31.2023,  30.4350, 2780,   2293.5,   2.4477,  34.7993,2,  34.7997,2,    207.0,2,    205.2,2
   3175MB95_02,  ISS1,    15,1,      2,      2,2,19950321,2257,-31.2023,  30.4350, 2780,   2294.9,   2.4500,  34.7988,2,  34.7997,2,    207.0,2,    205.3,2
   3175MB95_02,  ISS1,    15,1,      1,      1,2,19950321,2257,-31.2023,  30.4350, 2780,   2764.4,   2.2657,  34.8141,2,  34.8156,2,    218.9,2,    215.3,2
   3175MB95_02,  ISS1,    16,1,     24,     24,2,19950322,0224,-31.3762,  30.8340, 2938,      2.6,  24.2255,  35.6966,2,  35.6954,2,    212.6,2,    212.5,2
   3175MB95_02,  ISS1,    16,1,     23,     23,2,19950322,0224,-31.3762,  30.8340, 2938,     24.1,  24.1205,  35.6959,2,  35.6956,2,    213.5,2,    212.7,2
   3175MB95_02,  ISS1,    16,1,     22,     22,2,19950322,0224,-31.3762,  30.8340, 2938,     50.0,  20.9279,  35.5590,2,  35.5705,2,    226.8,2,    225.9,2
   3175MB95_02,  ISS1,    16,1,     21,     21,2,19950322,0224,-31.3762,  30.8340, 2938,     74.8,  19.2304,  35.5918,2,  35.5922,2,    214.5,2,    213.5,2
   3175MB95_02,  ISS1,    16,1,     20,     20,2,19950322,0224,-31.3762,  30.8340, 2938,     99.5,  18.1240,  35.5974,2,  35.5966,2,    205.6,2,    200.7,2
   3175MB95_02,  ISS1,    16,1,     19,     19,2,19950322,0224,-31.3762,  30.8340, 2938,    148.6,  17.1589,  35.5968,2,  35.5961,2,    213.8,2,    209.9,2
   3175MB95_02,  ISS1,    16,1,     18,     18,2,19950322,0224,-31.3762,  30.8340, 2938,    200.4,  16.6587,  35.5831,2,  35.5820,2,    214.3,2,    212.1,2
   3175MB95_02,  ISS1,    16,1,     17,     17,2,19950322,0224,-31.3762,  30.8340, 2938,    249.4,  15.9076,  35.5178,2,  35.5157,2,    208.1,2,    204.5,2
   3175MB95_02,  ISS1,    16,1,     16,     16,2,19950322,0224,-31.3762,  30.8340, 2938,    300.0,  15.1547,  35.4584,2,  35.4626,2,    210.7,2,    207.6,2
   3175MB95_02,  ISS1,    16,1,     15,     15,2,19950322,0224,-31.3762,  30.8340, 2938,    349.5,  14.0648,  35.3449,2,  35.3489,2,    209.5,2,    205.8,2
   3175MB95_02,  ISS1,    16,1,     14,     14,2,19950322,0224,-31.3762,  30.8340, 2938,    450.0,  12.9223,  35.2047,2,  35.2061,2,    214.1,2,    212.5,2
   3175MB95_02,  ISS1,    16,1,     13,     13,2,19950322,0224,-31.3762,  30.8340, 2938,    599.3,  10.9302,  34.9195,2,  34.9248,2,    216.9,2,    217.2,2
   3175MB95_02,  ISS1,    16,1,     12,     12,2,19950322,0224,-31.3762,  30.8340, 2938,    749.7,   8.7736,  34.6708,2,  34.6717,2,    205.5,2,    207.3,2
   3175MB95_02,  ISS1,    16,1,     11,     11,2,19950322,0224,-31.3762,  30.8340, 2938,    900.7,   6.4942,  34.5005,2,  34.5006,2,    192.8,2,    194.4,2
   3175MB95_02,  ISS1,    16,1,     10,     10,2,19950322,0224,-31.3762,  30.8340, 2938,   1049.7,   5.0842,  34.4835,2,  34.4839,2,    174.1,2,    177.0,2
   3175MB95_02,  ISS1,    16,1,      9,      9,2,19950322,0224,-31.3762,  30.8340, 2938,   1248.6,   3.9868,  34.5844,2,  34.5895,3,    158.3,3,    155.9,2
   3175MB95_02,  ISS1,    16,1,      8,      8,2,19950322,0224,-31.3762,  30.8340, 2938,   1500.2,   3.1806,  34.6772,2,  34.6772,2,    164.4,2,    161.2,2
   3175MB95_02,  ISS1,    16,1,      7,      7,2,19950322,0224,-31.3762,  30.8340, 2938,   1700.4,   2.7997,  34.7257,2,  34.7261,2,    177.3,2,    174.8,2
   3175MB95_02,  ISS1,    16,1,      6,      6,2,19950322,0224,-31.3762,  30.8340, 2938,   1903.6,   2.6426,  34.7555,2,  34.7551,2,    188.0,2,    185.7,2
   3175MB95_02,  ISS1,    16,1,      5,      5,2,19950322,0224,-31.3762,  30.8340, 2938,   2098.7,   2.5661,  34.7740,2,  34.7742,2,    195.6,2,    189.2,2
   3175MB95_02,  ISS1,    16,1,      4,      4,2,19950322,0224,-31.3762,  30.8340, 2938,   2297.9,   2.5307,  34.7852,2,  34.7857,2,    200.7,2,    198.6,2
   3175MB95_02,  ISS1,    16,1,      3,      3,2,19950322,0224,-31.3762,  30.8340, 2938,   2595.1,   2.4394,  34.8049,2,  34.8051,2,    210.4,2,    208.3,2
   3175MB95_02,  ISS1,    16,1,      2,      2,2,19950322,0224,-31.3762,  30.8340, 2938,   2795.4,   2.3463,  34.8133,2,  34.8151,2,    216.0,2,    213.9,2
   3175MB95_02,  ISS1,    16,1,      1,      1,2,19950322,0224,-31.3762,  30.8340, 2938,   2965.6,   2.2801,  34.8152,2,  34.8155,2,    219.7,2,    215.6,2
   3175MB95_02,  ISS1,    17,1,     24,     24,2,19950322,1038,-32.0682,  32.0517, 3551,      1.7,  24.2275,  35.7180,2,  35.7177,2,    212.7,2,    213.3,2
   3175MB95_02,  ISS1,    17,1,     23,     23,2,19950322,1038,-32.0682,  32.0517, 3551,     48.8,  21.4387,  35.6190,2,  35.6206,2,    229.3,2,    234.8,2
   3175MB95_02,  ISS1,    17,1,     22,     22,2,19950322,1038,-32.0682,  32.0517, 3551,    100.0,  18.3919,  35.5934,2,  35.5946,2,    205.8,2,    202.9,2
   3175MB95_02,  ISS1,    17,1,     21,     21,2,19950322,1038,-32.0682,  32.0517, 3551,    148.2,  17.5509,  35.6037,2,  35.6030,2,    212.8,2,    210.6,2
   3175MB95_02,  ISS1,    17,1,     20,     20,2,19950322,1038,-32.0682,  32.0517, 3551,    199.3,  17.0941,  35.5954,2,  35.5954,2,    213.1,2,    211.2,2
   3175MB95_02,  ISS1,    17,1,     19,     19,2,19950322,1038,-32.0682,  32.0517, 3551,    250.3,  16.5722,  35.5701,2,  35.5697,2,    210.0,2,    208.9,2
   3175MB95_02,  ISS1,    17,1,     18,     18,2,19950322,1038,-32.0682,  32.0517, 3551,    347.8,  15.2683,  35.4568,2,  35.4573,2,    203.6,2,    201.4,2
   3175MB95_02,  ISS1,    17,1,     17,     17,2,19950322,1038,-32.0682,  32.0517, 3551,    448.9,  13.9998,  35.3287,2,  35.3281,2,    209.6,2,    207.3,2
   3175MB95_02,  ISS1,    17,1,     16,     16,2,19950322,1038,-32.0682,  32.0517, 3551,    550.2,  12.9882,  35.2129,2,  35.2128,2,    215.9,2,    216.6,2
   3175MB95_02,  ISS1,    17,1,     15,     15,2,19950322,1038,-32.0682,  32.0517, 3551,    650.5,  11.7530,  35.0276,2,  35.0285,2,    213.1,2,    214.3,2
   3175MB95_02,  ISS1,    17,1,     14,     14,2,19950322,1038,-32.0682,  32.0517, 3551,    751.9,  10.4370,  34.8519,2,  34.8514,2,    209.8,2,    212.5,2
   3175MB95_02,  ISS1,    17,1,     13,     13,2,19950322,1038,-32.0682,  32.0517, 3551,    900.2,   8.4916,  34.6416,2,  34.6415,2,    200.0,2,    203.4,2
   3175MB95_02,  ISS1,    17,1,     12,     12,2,19950322,1038,-32.0682,  32.0517, 3551,   1100.0,   5.7679,  34.4575,2,  34.4585,2,    185.7,2,    193.3,3
   3175MB95_02,  ISS1,    17,1,     11,     11,2,19950322,1038,-32.0682,  32.0517, 3551,   1302.7,   4.8579,  34.5588,2,  34.5630,2,    158.6,2,    157.1,2
   3175MB95_02,  ISS1,    17,1,     10,     10,2,19950322,1038,-32.0682,  32.0517, 3551,   1499.6,   3.8668,  34.5820,2,  34.5808,2,    156.6,2,    157.8,2
   3175MB95_02,  ISS1,    17,1,      9,      9,2,19950322,1038,-32.0682,  32.0517, 3551,   1699.3,   3.3152,  34.6685,2,  34.6686,2,    160.1,2,    157.2,2
   3175MB95_02,  ISS1,    17,1,      8,      8,2,19950322,1038,-32.0682,  32.0517, 3551,   1900.3,   2.9319,  34.7124,2,  34.7127,2,    171.4,2,    168.8,2
   3175MB95_02,  ISS1,    17,1,      7,      7,2,19950322,1038,-32.0682,  32.0517, 3551,   2099.2,   2.6985,  34.7480,2,  34.7484,2,    183.9,2,    181.3,2
   3175MB95_02,  ISS1,    17,1,      6,      6,2,19950322,1038,-32.0682,  32.0517, 3551,   2297.3,   2.5819,  34.7747,2,  34.7732,2,    194.5,2,    193.1,2
   3175MB95_02,  ISS1,    17,1,      5,      5,2,19950322,1038,-32.0682,  32.0517, 3551,   2596.3,   2.4651,  34.8048,2,  34.8043,2,    207.1,2,    207.6,2
   3175MB95_02,  ISS1,    17,1,      4,      4,2,19950322,1038,-32.0682,  32.0517, 3551,   2900.1,   2.2631,  34.8167,2,  34.8153,2,    214.8,2,    215.9,2
   3175MB95_02,  ISS1,    17,1,      3,      3,2,19950322,1038,-32.0682,  32.0517, 3551,   3200.8,   2.0226,  34.8075,2,  34.8060,2,    217.1,2,    217.7,2
   3175MB95_02,  ISS1,    17,1,      2,      2,2,19950322,1038,-32.0682,  32.0517, 3551,   3500.1,   1.6198,  34.7787,2,  34.7774,2,    218.6,2,    216.6,2
   3175MB95_02,  ISS1,    17,1,      1,      1,2,19950322,1038,-32.0682,  32.0517, 3551,   3604.5,   1.3395,  34.7579,2,  34.7560,2,    220.3,2,    215.2,2
   3175MB95_02,  ISS1,    18,1,     24,     24,2,19950322,2023,-32.6205,  33.8013, 3056,      1.4,  23.2675,  35.7216,2,  35.7201,2,    213.7,2,    214.8,2
   3175MB95_02,  ISS1,    18,1,     23,     23,2,19950322,2023,-32.6205,  33.8013, 3056,     49.3,  20.8358,  35.6214,2,  35.6201,2,    224.9,2,    226.1,2
   3175MB95_02,  ISS1,    18,1,     22,     22,2,19950322,2023,-32.6205,  33.8013, 3056,     99.6,  18.0410,  35.5887,2,  35.5884,2,    199.1,2,    196.0,2
   3175MB95_02,  ISS1,    18,1,     21,     21,2,19950322,2023,-32.6205,  33.8013, 3056,    149.7,  16.9896,  35.5900,2,  35.5896,2,    210.8,2,    209.0,2
   3175MB95_02,  ISS1,    18,1,     20,     20,2,19950322,2023,-32.6205,  33.8013, 3056,    200.0,  16.4004,  35.5648,2,  35.5654,2,    211.4,2,    210.3,2
   3175MB95_02,  ISS1,    18,1,     19,     19,2,19950322,2023,-32.6205,  33.8013, 3056,    249.4,  15.7790,  35.5183,2,  35.5196,2,    210.3,3,    208.7,2
   3175MB95_02,  ISS1,    18,1,     18,     18,2,19950322,2023,-32.6205,  33.8013, 3056,    349.6,  14.5633,  35.3930,2,  35.3919,2,    205.9,2,    204.0,2
   3175MB95_02,  ISS1,    18,1,     17,     17,2,19950322,2023,-32.6205,  33.8013, 3056,    449.5,  13.4470,  35.2809,2,  35.2785,2,    214.7,2,    214.5,2
   3175MB95_02,  ISS1,    18,1,     16,     16,2,19950322,2023,-32.6205,  33.8013, 3056,    550.4,  12.2831,  35.1090,2,  35.1089,2,    214.8,2,    215.8,2
   3175MB95_02,  ISS1,    18,1,     15,     15,2,19950322,2023,-32.6205,  33.8013, 3056,    699.1,  10.3460,  34.8367,2,  34.8376,2,    210.6,2,    213.7,2
   3175MB95_02,  ISS1,    18,1,     14,     14,2,19950322,2023,-32.6205,  33.8013, 3056,    850.6,   8.2424,  34.6239,2,  34.6225,2,    197.3,2,    201.6,2
   3175MB95_02,  ISS1,    18,1,     13,     13,2,19950322,2023,-32.6205,  33.8013, 3056,    999.6,   6.2071,  34.4651,2,  34.4648,2,    196.4,2,    198.7,2
   3175MB95_02,  ISS1,    18,1,     12,     12,2,19950322,2023,-32.6205,  33.8013, 3056,   1050.2,   5.6324,  34.4256,2,  34.4248,2,    198.3,2,    201.8,2
   3175MB95_02,  ISS1,    18,1,     11,     11,2,19950322,2023,-32.6205,  33.8013, 3056,   1199.7,   4.6102,  34.4635,2,  34.4665,2,    167.0,2,    180.1,4
   3175MB95_02,  ISS1,    18,1,     10,     10,2,19950322,2023,-32.6205,  33.8013, 3056,   1399.8,   4.2011,  34.6022,2,  34.6033,2,    154.1,2,    150.0,2
   3175MB95_02,  ISS1,    18,1,      9,      9,2,19950322,2023,-32.6205,  33.8013, 3056,   1597.9,   3.1758,  34.5977,2,  34.5991,2,    168.5,2,    167.2,2
   3175MB95_02,  ISS1,    18,1,      8,      8,2,19950322,2023,-32.6205,  33.8013, 3056,   1798.9,   2.9556,  34.6977,2,  34.6977,2,    170.5,2,    168.1,2
   3175MB95_02,  ISS1,    18,1,      7,      7,2,19950322,2023,-32.6205,  33.8013, 3056,   2000.5,   2.7334,  34.7360,2,  34.7356,2,    180.3,2,    178.3,2
   3175MB95_02,  ISS1,    18,1,      6,      6,2,19950322,2023,-32.6205,  33.8013, 3056,   2197.7,   2.5698,  34.7679,2,  34.7673,2,    190.9,2,    189.1,2
   3175MB95_02,  ISS1,    18,1,      5,      5,2,19950322,2023,-32.6205,  33.8013, 3056,   2398.9,   2.4697,  34.7904,2,  34.7909,2,    201.1,2,    200.2,2
   3175MB95_02,  ISS1,    18,1,      4,      4,2,19950322,2023,-32.6205,  33.8013, 3056,   2599.3,   2.3192,  34.8054,2,  34.8054,2,    209.8,2,    209.3,2
   3175MB95_02,  ISS1,    18,1,      3,      3,2,19950322,2023,-32.6205,  33.8013, 3056,   2798.1,   2.2210,  34.8083,2,  34.8093,2,    213.3,2,    213.0,2
   3175MB95_02,  ISS1,    18,1,      2,      2,2,19950322,2023,-32.6205,  33.8013, 3056,   2899.5,   2.2017,  34.8088,2,  34.8076,2,    214.6,3,    213.3,2
   3175MB95_02,  ISS1,    18,1,      1,      1,2,19950322,2023,-32.6205,  33.8013, 3056,   3142.3,   2.0364,  34.8068,2,  34.8070,2,    220.6,2,    217.5,2