BOTTLE,20220630CCHSIOAMB
EXPOCODE,SECT_ID,STNNBR,CASTNO,SAMPNO,BTLNBR,BTLNBR_FLAG_W,DATE,TIME,LATITUDE,LONGITUDE,DEPTH,CTDPRS,CTDTMP,CTDSAL,CTDSAL_FLAG_W,SALNTY,SALNTY_FLAG_W,CTDOXY,CTDOXY_FLAG_W,OXYGEN,OXYGEN_FLAG_W
,,,,,,,,,,,,DBAR,ITS-90,PSS-78,,PSS-78,,UMOL/KG,,UMOL/KG,
   3175MB95_02,  IR03,   106,1,     24,     24,2,19950414,0629,  0.9198,  56.3398, 3326,      2.1,  29.3909,  35.1951,2,  35.2000,2,    195.4,2,    197.4,2
   3175MB95_02,  IR03,   106,1,     23,     23,2,19950414,0629,  0.9198,  56.3398, 3326,     51.3,  27.5762,  35.4528,2,  35.4673,2,    198.7,2,    200.4,2
   3175MB95_02,  IR03,   106,1,     22,     22,2,19950414,0629,  0.9198,  56.3398, 3326,     99.9,  24.3732,  35.4351,2,  35.4545,3,    155.5,2,    157.6,2
   3175MB95_02,  IR03,   106,1,     21,     21,2,19950414,0629,  0.9198,  56.3398, 3326,    152.3,  14.4936,  35.2060,2,  35.2156,2,    126.0,2,    117.2,2
   3175MB95_02,  IR03,   106,1,     20,     20,2,19950414,0629,  0.9198,  56.3398, 3326,    223.3,  12.8911,  35.1110,2,  35.1166,2,    126.4,2,    125.5,2
   3175MB95_02,  IR03,   106,1,     19,     19,2,19950414,0629,  0.9198,  56.3398, 3326,    320.2,  11.0140,  35.0176,2,  33.0593,4,    109.0,2,    105.7,2
   3175MB95_02,  IR03,   106,1,     18,     18,2,19950414,0629,  0.9198,  56.3398, 3326,    420.2,  10.2050,  34.9964,2,  34.9977,2,     86.3,2,     86.1,2
   3175MB95_02,  IR03,   106,1,     17,     17,2,19950414,0629,  0.9198,  56.3398, 3326,    523.7,   9.8041,  35.0360,2,  35.0363,2,     66.8,2,     66.6,2
   3175MB95_02,  IR03,   106,1,     16,     16,2,19950414,0629,  0.9198,  56.3398, 3326,    618.8,   9.3373,  35.0737,2,  35.0724,2,     56.9,2,     55.2,2
   3175MB95_02,  IR03,   106,1,     15,     15,2,19950414,0629,  0.9198,  56.3398, 3326,    697.0,   8.9683,  35.0436,2,  35.0426,2,     57.4,2,     56.7,2
   3175MB95_02,  IR03,   106,1,     14,     14,2,19950414,0629,  0.9198,  56.3398, 3326,    948.0,   7.3181,  35.0145,2,  35.0146,2,     48.6,2,     47.6,2
   3175MB95_02,  IR03,   106,1,     13,     13,2,19950414,0629,  0.9198,  56.3398, 3326,   1148.4,   6.3971,  34.9964,2,  34.9988,2,     56.2,2,     53.8,2
   3175MB95_02,  IR03,   106,1,     12,     12,2,19950414,0629,  0.9198,  56.3398, 3326,   1347.7,   4.9661,  34.8925,2,  34.8938,2,     79.5,2,     78.2,2
   3175MB95_02,  IR03,   106,1,     11,     11,2,19950414,0629,  0.9198,  56.3398, 3326,   1548.2,   4.2616,  34.8508,2,  34.8514,2,     94.5,2,     92.2,2
   3175MB95_02,  IR03,   106,1,     10,     10,2,19950414,0629,  0.9198,  56.3398, 3326,   1747.3,   3.5112,  34.8119,2,  34.8117,2,    111.3,2,    110.1,2
   3175MB95_02,  IR03,   106,1,      9,      9,2,19950414,0629,  0.9198,  56.3398, 3326,   1947.6,   2.9295,  34.7877,2,  34.7876,2,    124.5,2,    123.6,2
   3175MB95_02,  IR03,   106,1,      8,      8,2,19950414,0629,  0.9198,  56.3398, 3326,   2148.6,   2.5096,  34.7696,2,  34.7697,2,    134.6,2,    134.4,2
   3175MB95_02,  IR03,   106,1,      7,      7,2,19950414,0629,  0.9198,  56.3398, 3326,   2349.2,   2.3542,  34.7643,2,  34.7648,2,    138.9,2,    138.5,2
   3175MB95_02,  IR03,   106,1,      6,      6,2,19950414,0629,  0.9198,  56.3398, 3326,   2549.6,   2.0673,  34.7519,2,  34.7521,2,    148.2,2,    147.9,2
   3175MB95_02,  IR03,   106,1,      5,      5,2,19950414,0629,  0.9198,  56.3398, 3326,   2747.6,   1.9794,  34.7480,2,  34.7477,2,    151.2,2,    150.9,2
   3175MB95_02,  IR03,   106,1,      4,      4,2,19950414,0629,  0.9198,  56.3398, 3326,   2896.7,   1.9303,  34.7456,2,  34.7448,2,    153.6,2,    153.0,2
   3175MB95_02,  IR03,   106,1,      3,      3,2,19950414,0629,  0.9198,  56.3398, 3326,   3093.1,   1.8285,  34.7409,2,  34.7404,2,    158.2,2,    157.4,2
   3175MB95_02,  IR03,   106,1,      2,      2,2,19950414,0629,  0.9198,  56.3398, 3326,   3347.2,   1.6748,  34.7341,2,  34.7336,2,    165.1,2,    164.0,2
   3175MB95_02,  IR03,   106,1,      1,      1,2,19950414,0629,  0.9198,  56.3398, 3326,   3487.2,   1.6610,  34.7328,2,  34.7325,2,    167.3,2,    165.2,2
   3175MB95_02,  IR03,   107,1,     24,     24,2,19950414,1051,  1.2817,  56.6700, 2940,      2.0,  29.7330,  35.0929,2,  35.1027,2,    195.1,2,    197.3,2
   3175MB95_02,  IR03,   107,1,     23,     23,2,19950414,1051,  1.2817,  56.6700, 2940,     19.7,  28.6748,  35.1750,2,  35.1924,3,    199.8,2,    201.2,2
   3175MB95_02,  IR03,   107,1,     22,     22,2,19950414,1051,  1.2817,  56.6700, 2940,     30.8,  27.8567,  35.2795,2,  35.3048,3,    203.8,2,    205.5,2
   3175MB95_02,  IR03,   107,1,     21,     21,2,19950414,1051,  1.2817,  56.6700, 2940,     50.2,  27.5104,  35.4363,2,  35.4527,3,    198.4,2,    201.9,2
   3175MB95_02,  IR03,   107,1,     20,     20,2,19950414,1051,  1.2817,  56.6700, 2940,     68.2,  27.1275,  35.4749,2,  35.4916,3,    184.3,2,    190.0,2
   3175MB95_02,  IR03,   107,1,     19,     19,2,19950414,1051,  1.2817,  56.6700, 2940,    105.8,  23.4104,  35.6651,2,  35.6708,2,    131.5,2,    137.2,2
   3175MB95_02,  IR03,   107,1,     18,     18,2,19950414,1051,  1.2817,  56.6700, 2940,    146.1,  16.5427,  35.2880,2,  35.2986,2,    112.4,2,    104.1,2
   3175MB95_02,  IR03,   107,1,     17,     17,2,19950414,1051,  1.2817,  56.6700, 2940,    197.3,  13.4770,  35.1463,2,  35.1496,2,    133.3,2,    129.2,2
   3175MB95_02,  IR03,   107,1,     16,     16,2,19950414,1051,  1.2817,  56.6700, 2940,    251.9,  12.6404,  35.1007,2,  35.1087,2,    119.8,2,    119.4,2
   3175MB95_02,  IR03,   107,1,     15,     15,2,19950414,1051,  1.2817,  56.6700, 2940,    349.2,  10.8434,  35.0081,2,  35.0109,2,    110.7,2,    108.9,2
   3175MB95_02,  IR03,   107,1,     14,     14,2,19950414,1051,  1.2817,  56.6700, 2940,    448.7,  10.1658,  34.9939,2,  34.9953,2,     83.7,2,     81.6,2
   3175MB95_02,  IR03,   107,1,     13,     13,2,19950414,1051,  1.2817,  56.6700, 2940,    550.5,   9.7753,  35.0471,2,  35.0473,2,     62.8,2,     61.1,2
   3175MB95_02,  IR03,   107,1,     12,     12,2,19950414,1051,  1.2817,  56.6700, 2940,    642.4,   9.4392,  35.0431,2,  35.0423,2,     59.5,2,     59.9,2
   3175MB95_02,  IR03,   107,1,     11,     11,2,19950414,1051,  1.2817,  56.6700, 2940,    749.1,   9.1773,  35.2042,2,  35.2023,2,     37.7,2,     37.8,2
   3175MB95_02,  IR03,   107,1,     10,     10,2,19950414,1051,  1.2817,  56.6700, 2940,    897.0,   7.6580,  35.0596,2,  35.0606,2,     47.0,2,     45.8,2
   3175MB95_02,  IR03,   107,1,      9,      9,2,19950414,1051,  1.2817,  56.6700, 2940,    997.5,   7.1146,  35.0527,2,  35.0546,2,     47.8,2,     46.4,2
   3175MB95_02,  IR03,   107,1,      8,      8,2,19950414,1051,  1.2817,  56.6700, 2940,   1096.8,   6.6849,  35.0196,2,  35.0205,2,     51.3,2,     49.5,2
   3175MB95_02,  IR03,   107,1,      7,      7,2,19950414,1051,  1.2817,  56.6700, 2940,   1297.9,   5.4712,  34.9316,2,  34.9320,2,     68.9,2,     67.9,2
   3175MB95_02,  IR03,   107,1,      6,      6,2,19950414,1051,  1.2817,  56.6700, 2940,   1499.7,   4.3776,  34.8644,2,  34.8659,2,     91.2,2,     88.5,2
   3175MB95_02,  IR03,   107,1,      5,      5,2,19950414,1051,  1.2817,  56.6700, 2940,   1697.2,   3.4826,  34.8152,2,  34.8146,2,    111.6,2,    109.9,2
   3175MB95_02,  IR03,   107,1,      4,      4,2,19950414,1051,  1.2817,  56.6700, 2940,   1896.7,   2.9667,  34.7891,2,  34.7891,2,    123.6,2,    122.3,2
   3175MB95_02,  IR03,   107,1,      3,      3,2,19950414,1051,  1.2817,  56.6700, 2940,   2299.2,   2.2830,  34.7624,2,  34.7625,2,    140.9,2,    140.1,2
   3175MB95_02,  IR03,   107,1,      2,      2,2,19950414,1051,  1.2817,  56.6700, 2940,   2497.0,   2.2037,  34.7583,2,  34.7584,2,    144.6,2,    142.7,2
   3175MB95_02,  IR03,   107,1,      1,      1,2,19950414,1051,  1.2817,  56.6700, 2940,   2867.9,   1.8800,  34.7440,2,  34.7449,2,    156.9,2,    153.9,2
   3175MB95_02,  IR03,   108,1,     24,     24,2,19950414,1448,  1.6400,  56.9833, 4488,      2.9,  29.7315,  35.0066,2,  35.0081,2,    195.0,2,    197.8,2
   3175MB95_02,  IR03,   108,1,     23,     23,2,19950414,1448,  1.6400,  56.9833, 4488,     24.5,  28.9498,  35.0806,2,  35.0850,2,    195.8,2,    199.0,2
   3175MB95_02,  IR03,   108,1,     22,     22,2,19950414,1448,  1.6400,  56.9833, 4488,     73.4,  26.8638,  35.4230,2,  35.4419,3,    190.5,2,    190.8,2
   3175MB95_02,  IR03,   108,1,     21,     21,2,19950414,1448,  1.6400,  56.9833, 4488,    124.3,  21.5810,  35.4005,2,  35.3812,3,    123.5,2,    125.8,2
   3175MB95_02,  IR03,   108,1,     20,     20,2,19950414,1448,  1.6400,  56.9833, 4488,    173.6,  13.9878,  35.1780,2,  35.1761,2,    130.2,2,    124.1,2
   3175MB95_02,  IR03,   108,1,     19,     19,2,19950414,1448,  1.6400,  56.9833, 4488,    247.9,  11.5499,  35.0329,2,  35.0335,2,    121.1,2,    117.2,2
   3175MB95_02,  IR03,   108,1,     18,     18,2,19950414,1448,  1.6400,  56.9833, 4488,    299.5,  11.0312,  35.0159,2,  35.0167,2,    117.7,2,    113.9,2
   3175MB95_02,  IR03,   108,1,     17,     17,2,19950414,1448,  1.6400,  56.9833, 4488,    397.5,  10.2365,  34.9942,2,  34.9940,2,     87.3,2,     84.7,2
   3175MB95_02,  IR03,   108,1,     16,     16,2,19950414,1448,  1.6400,  56.9833, 4488,    499.2,   9.9653,  35.0337,2,  35.0346,2,     68.2,2,     66.7,2
   3175MB95_02,  IR03,   108,1,     15,     15,2,19950414,1448,  1.6400,  56.9833, 4488,    599.7,   9.5266,  35.0560,2,  35.0561,2,     62.2,2,     61.8,2
   3175MB95_02,  IR03,   108,1,     14,     14,2,19950414,1448,  1.6400,  56.9833, 4488,    750.1,   8.5249,  35.1324,2,  35.1331,2,     43.2,2,     42.6,2
   3175MB95_02,  IR03,   108,1,     13,     13,2,19950414,1448,  1.6400,  56.9833, 4488,    847.1,   7.9960,  35.1178,2,  35.1182,2,     43.2,2,     42.0,2
   3175MB95_02,  IR03,   108,1,     12,     12,2,19950414,1448,  1.6400,  56.9833, 4488,   1000.9,   7.0270,  35.0316,2,  35.0320,2,     48.3,2,     48.0,2
   3175MB95_02,  IR03,   108,1,     11,     11,2,19950414,1448,  1.6400,  56.9833, 4488,   1298.7,   5.4988,  34.9355,2,  34.9351,2,     67.5,2,     66.6,2
   3175MB95_02,  IR03,   108,1,     10,     10,2,19950414,1448,  1.6400,  56.9833, 4488,   1595.2,   4.0785,  34.8503,2,  34.8513,2,     96.1,2,     95.1,2
   3175MB95_02,  IR03,   108,1,      9,      9,2,19950414,1448,  1.6400,  56.9833, 4488,   1896.9,   2.9684,  34.7893,2,  34.7887,2,    122.5,2,    122.4,2
   3175MB95_02,  IR03,   108,1,      8,      8,2,19950414,1448,  1.6400,  56.9833, 4488,   2197.7,   2.4288,  34.7682,2,  34.7677,2,    135.0,2,    136.3,2
   3175MB95_02,  IR03,   108,1,      7,      7,2,19950414,1448,  1.6400,  56.9833, 4488,   2500.7,   2.1722,  34.7576,2,  34.7576,2,    142.3,2,    143.4,2
   3175MB95_02,  IR03,   108,1,      6,      6,2,19950414,1448,  1.6400,  56.9833, 4488,   2800.4,   1.9095,  34.7452,2,  34.7456,2,    151.4,2,    153.1,2
   3175MB95_02,  IR03,   108,1,      5,      5,2,19950414,1448,  1.6400,  56.9833, 4488,   3097.9,   1.7741,  34.7382,2,  34.7376,2,    157.5,2,    160.2,2
   3175MB95_02,  IR03,   108,1,      4,      4,2,19950414,1448,  1.6400,  56.9833, 4488,   3498.7,   1.6360,  34.7326,2,  34.7322,2,    164.1,2,    165.6,2
   3175MB95_02,  IR03,   108,1,      3,      3,2,19950414,1448,  1.6400,  56.9833, 4488,   3897.6,   1.4921,  34.7263,2,  34.7256,2,    172.2,2,    173.6,2
   3175MB95_02,  IR03,   108,1,      2,      2,2,19950414,1448,  1.6400,  56.9833, 4488,   4293.1,   1.3983,  34.7219,2,  34.7209,2,    178.5,2,    179.4,2
   3175MB95_02,  IR03,   108,1,      1,      1,2,19950414,1448,  1.6400,  56.9833, 4488,   4698.1,   1.3472,  34.7181,2,  34.7184,2,    185.5,2,    183.7,2
   3175MB95_02,  IR03,   109,1,     24,     24,2,19950414,1950,  1.9997,  57.3282, 4516,      1.9,  29.6936,  34.9967,2,  35.0012,2,    195.7,2,    197.1,2
   3175MB95_02,  IR03,   109,1,     23,     23,2,19950414,1950,  1.9997,  57.3282, 4516,     49.7,  28.2575,  35.2057,2,  35.1893,3,    183.4,2,    193.4,2
   3175MB95_02,  IR03,   109,1,     22,     22,2,19950414,1950,  1.9997,  57.3282, 4516,     98.2,  22.9662,  35.5194,2,  35.5547,4,    135.8,2,    133.0,2
   3175MB95_02,  IR03,   109,1,     21,     21,2,19950414,1950,  1.9997,  57.3282, 4516,    148.5,  14.3501,  35.1985,2,-999.0000,9,    123.4,2,    115.5,2
   3175MB95_02,  IR03,   109,1,     20,     20,2,19950414,1950,  1.9997,  57.3282, 4516,    198.8,  13.1897,  35.1382,2,  35.1410,2,    126.2,2,    122.7,2
   3175MB95_02,  IR03,   109,1,     19,     19,2,19950414,1950,  1.9997,  57.3282, 4516,    297.8,  11.2782,  35.0212,2,  35.0231,2,    121.1,2,    117.7,2
   3175MB95_02,  IR03,   109,1,     18,     18,2,19950414,1950,  1.9997,  57.3282, 4516,    353.9,  10.4587,  34.9989,2,  34.9989,2,     93.7,2,     89.7,2
   3175MB95_02,  IR03,   109,1,     17,     17,2,19950414,1950,  1.9997,  57.3282, 4516,    522.7,   9.9105,  35.0295,2,  35.0310,2,     69.7,2,     67.8,2
   3175MB95_02,  IR03,   109,1,     16,     16,2,19950414,1950,  1.9997,  57.3282, 4516,    723.2,   9.1212,  35.1775,2,  35.1785,2,     35.6,2,     34.9,2
   3175MB95_02,  IR03,   109,1,     15,     15,2,19950414,1950,  1.9997,  57.3282, 4516,    793.6,   8.7074,  35.1825,2,  35.1854,2,     36.7,2,     36.2,2
   3175MB95_02,  IR03,   109,1,     14,     14,2,19950414,1950,  1.9997,  57.3282, 4516,    989.2,   7.1866,  35.0523,2,  35.0505,2,     46.1,2,     45.0,2
   3175MB95_02,  IR03,   109,1,     13,     13,2,19950414,1950,  1.9997,  57.3282, 4516,   1180.5,   5.9595,  34.9623,2,  34.9625,2,     59.5,2,     59.3,2
   3175MB95_02,  IR03,   109,1,     12,     12,2,19950414,1950,  1.9997,  57.3282, 4516,   1295.6,   5.3141,  34.9244,2,  34.9255,2,     69.9,2,     69.3,2
   3175MB95_02,  IR03,   109,1,     11,     11,2,19950414,1950,  1.9997,  57.3282, 4516,   1597.7,   4.0327,  34.8610,2,  34.8616,2,     94.5,2,     95.4,2
   3175MB95_02,  IR03,   109,1,     10,     10,2,19950414,1950,  1.9997,  57.3282, 4516,   1885.3,   3.0208,  34.8032,2,  34.8034,2,    117.2,2,    117.1,2
   3175MB95_02,  IR03,   109,1,      9,      9,2,19950414,1950,  1.9997,  57.3282, 4516,   2199.0,   2.4106,  34.7678,2,  34.7678,2,    135.1,2,    136.4,2
   3175MB95_02,  IR03,   109,1,      8,      8,2,19950414,1950,  1.9997,  57.3282, 4516,   2497.1,   2.1372,  34.7572,2,  34.7568,2,    142.4,2,    143.2,2
   3175MB95_02,  IR03,   109,1,      7,      7,2,19950414,1950,  1.9997,  57.3282, 4516,   2796.3,   1.9432,  34.7478,2,  34.7473,2,    149.3,2,    150.9,2
   3175MB95_02,  IR03,   109,1,      6,      6,2,19950414,1950,  1.9997,  57.3282, 4516,   3097.8,   1.7918,  34.7401,2,  34.7403,2,    155.2,2,    157.3,2
   3175MB95_02,  IR03,   109,1,      5,      5,2,19950414,1950,  1.9997,  57.3282, 4516,   3378.7,   1.6682,  34.7340,2,  34.7337,2,    162.3,2,    164.3,2
   3175MB95_02,  IR03,   109,1,      4,      4,2,19950414,1950,  1.9997,  57.3282, 4516,   3695.8,   1.5691,  34.7292,2,  34.7289,2,    167.9,2,    169.4,2
   3175MB95_02,  IR03,   109,1,      3,      3,2,19950414,1950,  1.9997,  57.3282, 4516,   3997.6,   1.4796,  34.7256,2,  34.7250,2,    173.2,2,    174.1,2
   3175MB95_02,  IR03,   109,1,      2,      2,2,19950414,1950,  1.9997,  57.3282, 4516,   4258.6,   1.3981,  34.7218,2,  34.7221,2,    178.7,2,    178.8,2
   3175MB95_02,  IR03,   109,1,      1,      1,2,19950414,1950,  1.9997,  57.3282, 4516,   4597.9,   1.3417,  34.7181,2,  34.7184,2,    184.7,2,    183.3,2
   3175MB95_02,  IR03,   110,1,     24,     24,2,19950415,0113,  2.3693,  57.6598, 4331,      2.2,  29.4808,  34.9257,2,  34.9274,2,    194.4,2,    195.9,2
   3175MB95_02,  IR03,   110,1,     23,     23,2,19950415,0113,  2.3693,  57.6598, 4331,     35.5,  29.2886,  34.9347,2,  34.9522,3,    195.9,2,    197.8,2
   3175MB95_02,  IR03,   110,1,     22,     22,2,19950415,0113,  2.3693,  57.6598, 4331,     89.9,  25.1032,  35.6976,2,  35.6949,2,    127.0,3,    127.0,2
   3175MB95_02,  IR03,   110,1,     21,     21,2,19950415,0113,  2.3693,  57.6598, 4331,    175.4,  15.5094,  35.2463,2,  35.2555,2,     82.1,2,     78.5,2
   3175MB95_02,  IR03,   110,1,     20,     20,2,19950415,0113,  2.3693,  57.6598, 4331,    248.9,  12.1348,  35.1243,2,  35.1182,3,    112.5,2,    104.1,2
   3175MB95_02,  IR03,   110,1,     19,     19,2,19950415,0113,  2.3693,  57.6598, 4331,    347.2,  10.6557,  35.0329,2,  35.0355,2,    100.2,2,     96.6,2
   3175MB95_02,  IR03,   110,1,     18,     18,2,19950415,0113,  2.3693,  57.6598, 4331,    444.1,  10.1565,  35.0120,2,  35.0136,2,     88.0,2,     85.7,2
   3175MB95_02,  IR03,   110,1,     17,     17,2,19950415,0113,  2.3693,  57.6598, 4331,    528.7,   9.8807,  35.0267,2,  35.0285,2,     69.0,2,     68.3,2
   3175MB95_02,  IR03,   110,1,     16,     16,2,19950415,0113,  2.3693,  57.6598, 4331,    645.7,   9.6228,  35.1656,2,  35.1673,2,     40.3,2,     40.0,2
   3175MB95_02,  IR03,   110,1,     15,     15,2,19950415,0113,  2.3693,  57.6598, 4331,    700.6,   9.1527,  35.1987,2,  35.1972,2,     36.1,2,     35.3,2
   3175MB95_02,  IR03,   110,1,     14,     14,2,19950415,0113,  2.3693,  57.6598, 4331,    847.2,   7.8985,  35.0924,2,  35.0935,2,     44.0,2,     43.2,2
   3175MB95_02,  IR03,   110,1,     13,     13,2,19950415,0113,  2.3693,  57.6598, 4331,   1047.1,   6.8104,  35.0299,2,  35.0298,2,     48.5,2,     48.0,2
   3175MB95_02,  IR03,   110,1,     12,     12,2,19950415,0113,  2.3693,  57.6598, 4331,   1247.3,   5.6658,  34.9554,2,  34.9570,2,     63.3,2,     62.8,2
   3175MB95_02,  IR03,   110,1,     11,     11,2,19950415,0113,  2.3693,  57.6598, 4331,   1444.4,   4.5248,  34.8803,2,  34.8853,3,     86.1,3,     86.9,2
   3175MB95_02,  IR03,   110,1,     10,     10,2,19950415,0113,  2.3693,  57.6598, 4331,   1747.7,   3.3484,  34.8181,2,  34.8184,2,    110.4,2,    109.4,2
   3175MB95_02,  IR03,   110,1,      9,      9,2,19950415,0113,  2.3693,  57.6598, 4331,   2049.0,   2.6424,  34.7817,2,  34.7820,2,    127.6,2,    127.6,2
   3175MB95_02,  IR03,   110,1,      8,      8,2,19950415,0113,  2.3693,  57.6598, 4331,   2348.7,   2.3059,  34.7644,2,  34.7644,2,    137.2,2,    138.6,2
   3175MB95_02,  IR03,   110,1,      7,      7,2,19950415,0113,  2.3693,  57.6598, 4331,   2649.9,   2.0422,  34.7532,2,  34.7537,2,    145.2,2,    146.8,2
   3175MB95_02,  IR03,   110,1,      6,      6,2,19950415,0113,  2.3693,  57.6598, 4331,   2951.7,   1.8565,  34.7447,2,  34.7444,2,    152.0,2,    153.1,2
   3175MB95_02,  IR03,   110,1,      5,      5,2,19950415,0113,  2.3693,  57.6598, 4331,   3247.5,   1.7041,  34.7367,2,  34.7355,2,    159.8,2,    162.0,2
   3175MB95_02,  IR03,   110,1,      4,      4,2,19950415,0113,  2.3693,  57.6598, 4331,   3550.9,   1.5700,  34.7305,2,  34.7294,2,    167.0,2,    168.1,2
   3175MB95_02,  IR03,   110,1,      3,      3,2,19950415,0113,  2.3693,  57.6598, 4331,   3850.9,   1.4966,  34.7265,2,  34.7256,2,    171.6,2,    172.9,2
   3175MB95_02,  IR03,   110,1,      2,      2,2,19950415,0113,  2.3693,  57.6598, 4331,   4153.2,   1.4493,  34.7240,2,  34.7260,2,    175.9,2,    174.9,2
   3175MB95_02,  IR03,   110,1,      1,      1,2,19950415,0113,  2.3693,  57.6598, 4331,   4387.5,   1.3834,  34.7206,2,  34.7214,2,    181.1,2,    180.0,2