BOTTLE,20220630CCHSIOAMB
EXPOCODE,SECT_ID,STNNBR,CASTNO,SAMPNO,BTLNBR,BTLNBR_FLAG_W,DATE,TIME,LATITUDE,LONGITUDE,DEPTH,CTDPRS,CTDTMP,CTDSAL,CTDSAL_FLAG_W,SALNTY,SALNTY_FLAG_W,CTDOXY,CTDOXY_FLAG_W,OXYGEN,OXYGEN_FLAG_W
,,,,,,,,,,,,DBAR,ITS-90,PSS-78,,PSS-78,,UMOL/KG,,UMOL/KG,
   3175MB95_02,  IR03,    61,1,     24,     24,2,19950404,2232,-16.5813,  55.0002, 4554,      3.0,  28.1514,  34.9211,2,  34.9187,2,    201.2,3,    197.1,2
   3175MB95_02,  IR03,    61,1,     23,     23,2,19950404,2232,-16.5813,  55.0002, 4554,     52.2,  25.8334,  35.0757,2,  35.0743,2,    212.5,2,    207.6,2
   3175MB95_02,  IR03,    61,1,     22,     22,2,19950404,2232,-16.5813,  55.0002, 4554,     98.9,  22.2106,  35.3154,2,  35.3151,2,    198.4,2,    193.0,2
   3175MB95_02,  IR03,    61,1,     21,     21,2,19950404,2232,-16.5813,  55.0002, 4554,    149.6,  20.7012,  35.4583,2,  35.4631,2,    187.1,2,    182.1,2
   3175MB95_02,  IR03,    61,1,     20,     20,2,19950404,2232,-16.5813,  55.0002, 4554,    200.7,  18.8688,  35.5521,2,  35.5599,2,    182.4,2,    178.6,2
   3175MB95_02,  IR03,    61,1,     19,     19,2,19950404,2232,-16.5813,  55.0002, 4554,    274.8,  15.9245,  35.5272,2,  35.5282,2,    206.1,2,    199.6,2
   3175MB95_02,  IR03,    61,1,     18,     18,2,19950404,2232,-16.5813,  55.0002, 4554,    346.3,  13.5035,  35.2653,2,  35.2635,2,    205.5,2,    199.1,2
   3175MB95_02,  IR03,    61,1,     17,     17,2,19950404,2232,-16.5813,  55.0002, 4554,    424.4,  11.6814,  35.0316,2,  35.0398,3,    220.4,2,    216.2,2
   3175MB95_02,  IR03,    61,1,     16,     16,2,19950404,2232,-16.5813,  55.0002, 4554,    502.1,  10.2735,  34.8414,2,  34.8436,2,    207.6,2,    200.0,2
   3175MB95_02,  IR03,    61,1,     15,     15,2,19950404,2232,-16.5813,  55.0002, 4554,    620.0,   8.5106,  34.6880,2,  34.6884,2,    176.7,2,    175.9,2
   3175MB95_02,  IR03,    61,1,     14,     14,2,19950404,2232,-16.5813,  55.0002, 4554,    690.0,   7.5220,  34.6495,2,  34.6502,2,    158.1,2,    155.5,2
   3175MB95_02,  IR03,    61,1,     13,     13,2,19950404,2232,-16.5813,  55.0002, 4554,    849.1,   5.9340,  34.6653,2,  34.6653,2,    124.6,2,    120.8,2
   3175MB95_02,  IR03,    61,1,     12,     12,2,19950404,2232,-16.5813,  55.0002, 4554,   1000.1,   4.9327,  34.6610,2,  34.6601,2,    124.1,2,    120.7,2
   3175MB95_02,  IR03,    61,1,     11,     11,2,19950404,2232,-16.5813,  55.0002, 4554,   1244.5,   3.8230,  34.6647,2,  34.6634,2,    138.6,2,    136.0,2
   3175MB95_02,  IR03,    61,1,     10,     10,2,19950404,2232,-16.5813,  55.0002, 4554,   1550.0,   2.9394,  34.6824,2,  34.6813,2,    155.1,2,    153.7,2
   3175MB95_02,  IR03,    61,1,      9,      9,2,19950404,2232,-16.5813,  55.0002, 4554,   1849.1,   2.4827,  34.7186,2,  34.7170,2,    157.3,2,    157.1,2
   3175MB95_02,  IR03,    61,1,      8,      8,2,19950404,2232,-16.5813,  55.0002, 4554,   2198.9,   2.2044,  34.7373,2,  34.7359,2,    155.3,2,    155.4,2
   3175MB95_02,  IR03,    61,1,      7,      7,2,19950404,2232,-16.5813,  55.0002, 4554,   2550.3,   1.9910,  34.7401,2,  34.7398,2,    157.4,2,    157.4,2
   3175MB95_02,  IR03,    61,1,      6,      6,2,19950404,2232,-16.5813,  55.0002, 4554,   2801.4,   1.8835,  34.7400,2,  34.7416,2,    158.8,7,    159.0,2
   3175MB95_02,  IR03,    61,1,      5,      5,2,19950404,2232,-16.5813,  55.0002, 4554,   3149.2,   1.7497,  34.7358,2,  34.7344,2,    163.4,2,    164.0,2
   3175MB95_02,  IR03,    61,1,      4,      4,2,19950404,2232,-16.5813,  55.0002, 4554,   3546.0,   1.5905,  34.7301,2,  34.7280,2,    171.7,2,    171.1,2
   3175MB95_02,  IR03,    61,1,      3,      3,2,19950404,2232,-16.5813,  55.0002, 4554,   3950.7,   1.3343,  34.7206,2,  34.7228,2,    185.8,2,    185.3,2
   3175MB95_02,  IR03,    61,1,      2,      2,2,19950404,2232,-16.5813,  55.0002, 4554,   4299.6,   1.1817,  34.7150,2,  34.7201,3,    195.4,7,    194.4,2
   3175MB95_02,  IR03,    61,1,      1,      1,2,19950404,2232,-16.5813,  55.0002, 4554,   4679.8,   1.0835,  34.7097,2,  34.7175,3,    204.3,7,    201.2,2
   3175MB95_02,  IR03,    62,1,     24,     24,2,19950405,0404,-16.1007,  54.9995, 4660,      3.9,  28.0378,  35.0328,2,  35.0324,2,    200.6,2,    197.4,2
   3175MB95_02,  IR03,    62,1,     23,     23,2,19950405,0404,-16.1007,  54.9995, 4660,     33.5,  27.4175,  35.0141,2,  35.0198,2,    205.7,2,    200.5,2
   3175MB95_02,  IR03,    62,1,     22,     22,2,19950405,0404,-16.1007,  54.9995, 4660,     68.8,  25.6026,  35.1119,2,  35.1168,2,    213.2,2,    208.9,2
   3175MB95_02,  IR03,    62,1,     21,     21,2,19950405,0404,-16.1007,  54.9995, 4660,    121.7,  21.2772,  35.2913,2,  35.2955,2,    173.4,2,    171.6,2
   3175MB95_02,  IR03,    62,1,     20,     20,2,19950405,0404,-16.1007,  54.9995, 4660,    199.9,  18.6756,  35.4056,2,  35.4059,2,    154.5,2,    150.2,2
   3175MB95_02,  IR03,    62,1,     19,     19,2,19950405,0404,-16.1007,  54.9995, 4660,    300.2,  14.6438,  35.2630,2,  35.2672,2,    168.3,2,    159.1,2
   3175MB95_02,  IR03,    62,1,     18,     18,2,19950405,0404,-16.1007,  54.9995, 4660,    398.4,  12.0183,  35.0686,2,  35.0745,2,    210.1,2,    203.8,2
   3175MB95_02,  IR03,    62,1,     17,     17,2,19950405,0404,-16.1007,  54.9995, 4660,    500.0,   9.7607,  34.7726,2,  34.7730,2,    213.3,2,    214.4,2
   3175MB95_02,  IR03,    62,1,     16,     16,2,19950405,0404,-16.1007,  54.9995, 4660,    597.2,   8.0083,  34.6467,2,  34.6615,4,    171.8,2,    166.0,2
   3175MB95_02,  IR03,    62,1,     15,     15,2,19950405,0404,-16.1007,  54.9995, 4660,    702.3,   6.4671,  34.5965,2,  34.5995,2,    149.1,2,    148.4,2
   3175MB95_02,  IR03,    62,1,     14,     14,2,19950405,0404,-16.1007,  54.9995, 4660,    801.7,   5.7863,  34.6294,2,  34.6281,2,    129.3,2,    128.4,2
   3175MB95_02,  IR03,    62,1,     13,     13,2,19950405,0404,-16.1007,  54.9995, 4660,   1002.7,   4.8623,  34.6778,2,  34.6785,2,    123.5,2,    120.1,2
   3175MB95_02,  IR03,    62,1,     12,     12,2,19950405,0404,-16.1007,  54.9995, 4660,   1299.2,   3.6016,  34.6715,2,  34.6707,2,    142.0,2,    139.1,2
   3175MB95_02,  IR03,    62,1,     11,     11,2,19950405,0404,-16.1007,  54.9995, 4660,   1600.0,   2.8461,  34.6912,2,  34.6880,2,    154.9,2,    154.1,2
   3175MB95_02,  IR03,    62,1,     10,     10,2,19950405,0404,-16.1007,  54.9995, 4660,   1898.5,   2.4774,  34.7254,2,  34.7247,2,    154.9,2,    154.2,2
   3175MB95_02,  IR03,    62,1,      9,      9,2,19950405,0404,-16.1007,  54.9995, 4660,   2195.2,   2.2316,  34.7375,2,  34.7368,2,    155.0,2,    155.1,2
   3175MB95_02,  IR03,    62,1,      8,      8,2,19950405,0404,-16.1007,  54.9995, 4660,   2498.1,   2.0603,  34.7394,2,  34.7383,2,    156.7,2,    156.7,2
   3175MB95_02,  IR03,    62,1,      7,      7,2,19950405,0404,-16.1007,  54.9995, 4660,   2800.1,   1.9125,  34.7398,2,  34.7388,2,    158.5,7,    159.0,2
   3175MB95_02,  IR03,    62,1,      6,      6,2,19950405,0404,-16.1007,  54.9995, 4660,   3100.6,   1.7745,  34.7368,2,  34.7359,2,    162.5,2,    162.4,2
   3175MB95_02,  IR03,    62,1,      5,      5,2,19950405,0404,-16.1007,  54.9995, 4660,   3401.4,   1.6568,  34.7323,2,  34.7305,2,    168.0,2,    168.2,2
   3175MB95_02,  IR03,    62,1,      4,      4,2,19950405,0404,-16.1007,  54.9995, 4660,   3646.1,   1.5203,  34.7278,2,  34.7338,3,    175.6,2,    174.6,2
   3175MB95_02,  IR03,    62,1,      3,      3,2,19950405,0404,-16.1007,  54.9995, 4660,   4000.2,   1.2897,  34.7189,2,  34.7183,2,    187.9,2,    187.6,2
   3175MB95_02,  IR03,    62,1,      2,      2,2,19950405,0404,-16.1007,  54.9995, 4660,   4300.2,   1.1589,  34.7139,2,  34.7122,2,    196.6,2,    195.2,2
   3175MB95_02,  IR03,    62,1,      1,      1,2,19950405,0404,-16.1007,  54.9995, 4660,   4702.6,   1.0529,  34.7090,2,  34.7075,2,    205.5,2,    202.7,2
   3175MB95_02,  IR03,    63,1,     24,     24,2,19950405,0934,-15.6183,  55.0017, 4528,      5.3,  28.6243,  34.8733,2,  34.8719,2,    197.4,2,    195.7,2
   3175MB95_02,  IR03,    63,1,     23,     23,2,19950405,0934,-15.6183,  55.0017, 4528,     23.9,  28.5112,  34.8987,2,  34.9037,2,    198.4,2,    196.6,2
   3175MB95_02,  IR03,    63,1,     22,     22,2,19950405,0934,-15.6183,  55.0017, 4528,     76.7,  23.6634,  35.0654,2,  35.0646,2,    213.3,2,    211.3,2
   3175MB95_02,  IR03,    63,1,     21,     21,2,19950405,0934,-15.6183,  55.0017, 4528,    149.2,  21.3346,  35.2184,2,  35.2259,2,    161.5,2,    160.1,2
   3175MB95_02,  IR03,    63,1,     20,     20,2,19950405,0934,-15.6183,  55.0017, 4528,    251.7,  15.4737,  35.3871,2,  35.3935,2,    177.0,2,    170.5,2
   3175MB95_02,  IR03,    63,1,     19,     19,2,19950405,0934,-15.6183,  55.0017, 4528,    351.9,  12.2354,  35.0829,2,  35.0829,2,    188.2,2,    182.5,2
   3175MB95_02,  IR03,    63,1,     18,     18,2,19950405,0934,-15.6183,  55.0017, 4528,    449.5,  10.2066,  34.8338,2,  34.8334,2,    198.6,2,    197.6,2
   3175MB95_02,  IR03,    63,1,     17,     17,2,19950405,0934,-15.6183,  55.0017, 4528,    597.2,   7.6913,  34.6649,2,  34.6639,2,    155.4,2,    148.6,2
   3175MB95_02,  IR03,    63,1,     16,     16,2,19950405,0934,-15.6183,  55.0017, 4528,    698.5,   6.6224,  34.6025,2,  34.6029,2,    149.4,2,    148.7,2
   3175MB95_02,  IR03,    63,1,     15,     15,2,19950405,0934,-15.6183,  55.0017, 4528,   1026.9,   5.2844,  34.7355,2,  34.7326,2,    111.8,2,    106.6,2
   3175MB95_02,  IR03,    63,1,     14,     14,2,19950405,0934,-15.6183,  55.0017, 4528,   1249.4,   3.9022,  34.6810,2,  34.7016,4,    134.3,2,    132.3,2
   3175MB95_02,  IR03,    63,1,     13,     13,2,19950405,0934,-15.6183,  55.0017, 4528,   1498.6,   3.1094,  34.6877,2,  34.6891,2,    149.6,2,    147.9,2
   3175MB95_02,  IR03,    63,1,     12,     12,2,19950405,0934,-15.6183,  55.0017, 4528,   1748.2,   2.6728,  34.7103,2,  34.7094,2,    155.0,2,    154.2,2
   3175MB95_02,  IR03,    63,1,     11,     11,2,19950405,0934,-15.6183,  55.0017, 4528,   2000.8,   2.3429,  34.7325,2,  34.7334,2,    154.3,2,    159.2,2
   3175MB95_02,  IR03,    63,1,     10,     10,2,19950405,0934,-15.6183,  55.0017, 4528,   2248.9,   2.1502,  34.7395,2,  34.7388,2,    155.2,2,    154.8,2
   3175MB95_02,  IR03,    63,1,      9,      9,2,19950405,0934,-15.6183,  55.0017, 4528,   2502.6,   1.9958,  34.7410,2,  34.7409,2,    156.5,2,    156.6,2
   3175MB95_02,  IR03,    63,1,      8,      8,2,19950405,0934,-15.6183,  55.0017, 4528,   2751.6,   1.8780,  34.7394,2,  34.7395,2,    158.8,2,    158.9,2
   3175MB95_02,  IR03,    63,1,      7,      7,2,19950405,0934,-15.6183,  55.0017, 4528,   3002.1,   1.7928,  34.7372,2,  34.7356,2,    161.6,2,    161.9,2
   3175MB95_02,  IR03,    63,1,      6,      6,2,19950405,0934,-15.6183,  55.0017, 4528,   3251.8,   1.7129,  34.7343,2,  34.7330,2,    164.8,7,    165.0,2
   3175MB95_02,  IR03,    63,1,      5,      5,2,19950405,0934,-15.6183,  55.0017, 4528,   3499.7,   1.6025,  34.7304,2,  34.7275,2,    170.7,7,    170.4,2
   3175MB95_02,  IR03,    63,1,      4,      4,2,19950405,0934,-15.6183,  55.0017, 4528,   3751.9,   1.4461,  34.7248,2,  34.7227,2,    179.0,2,    178.5,2
   3175MB95_02,  IR03,    63,1,      3,      3,2,19950405,0934,-15.6183,  55.0017, 4528,   3998.9,   1.3358,  34.7205,2,  34.7186,2,    185.7,2,    185.3,2
   3175MB95_02,  IR03,    63,1,      2,      2,2,19950405,0934,-15.6183,  55.0017, 4528,   4248.5,   1.2486,  34.7171,2,  34.7155,2,    192.1,2,    190.2,2
   3175MB95_02,  IR03,    63,1,      1,      1,2,19950405,0934,-15.6183,  55.0017, 4528,   4603.8,   1.1198,  34.7111,2,  34.7081,2,    202.2,2,    199.6,2
   3175MB95_02,  IR03,    64,1,     24,     24,2,19950405,1447,-15.1482,  54.9980, 4333,      5.5,  28.6613,  34.7040,2,  34.7046,2,    197.0,2,    195.3,2
   3175MB95_02,  IR03,    64,1,     23,     23,2,19950405,1447,-15.1482,  54.9980, 4333,     24.1,  28.2446,  34.7141,2,  34.7467,4,    199.8,2,    199.7,2
   3175MB95_02,  IR03,    64,1,     22,     22,2,19950405,1447,-15.1482,  54.9980, 4333,     75.1,  23.8130,  35.0772,2,  35.0838,2,    208.9,2,    204.2,2
   3175MB95_02,  IR03,    64,1,     21,     21,2,19950405,1447,-15.1482,  54.9980, 4333,    125.1,  21.2995,  35.2317,2,  35.2300,2,    167.6,2,    167.1,2
   3175MB95_02,  IR03,    64,1,     20,     20,2,19950405,1447,-15.1482,  54.9980, 4333,    169.7,  18.6822,  35.2896,2,  35.3027,2,    141.6,2,    138.6,2
   3175MB95_02,  IR03,    64,1,     19,     19,2,19950405,1447,-15.1482,  54.9980, 4333,    258.2,  13.8926,  35.1236,2,  35.1275,2,    139.8,2,    131.2,2
   3175MB95_02,  IR03,    64,1,     18,     18,2,19950405,1447,-15.1482,  54.9980, 4333,    325.5,  12.7604,  35.0978,2,  35.0987,2,    168.6,2,    159.5,2
   3175MB95_02,  IR03,    64,1,     17,     17,2,19950405,1447,-15.1482,  54.9980, 4333,    398.6,  11.1104,  34.9415,2,  34.9513,3,    199.3,2,    194.7,2
   3175MB95_02,  IR03,    64,1,     16,     16,2,19950405,1447,-15.1482,  54.9980, 4333,    497.8,   9.1116,  34.7268,2,  34.7315,2,    185.5,2,    184.3,2
   3175MB95_02,  IR03,    64,1,     15,     15,2,19950405,1447,-15.1482,  54.9980, 4333,    656.6,   7.0809,  34.6113,2,  34.6119,2,    157.2,2,    158.1,2
   3175MB95_02,  IR03,    64,1,     14,     14,2,19950405,1447,-15.1482,  54.9980, 4333,    697.0,   6.5700,  34.6326,2,  34.6288,2,    140.8,2,    140.6,2
   3175MB95_02,  IR03,    64,1,     13,     13,2,19950405,1447,-15.1482,  54.9980, 4333,    900.1,   5.5530,  34.6915,2,  34.6927,2,    115.9,2,    120.3,2
   3175MB95_02,  IR03,    64,1,     12,     12,2,19950405,1447,-15.1482,  54.9980, 4333,   1034.7,   4.9517,  34.7018,2,  34.7011,2,    117.7,2,    114.9,2
   3175MB95_02,  IR03,    64,1,     11,     11,2,19950405,1447,-15.1482,  54.9980, 4333,   1399.2,   3.4816,  34.6882,2,  34.6876,2,    141.4,2,    139.5,2
   3175MB95_02,  IR03,    64,1,     10,     10,2,19950405,1447,-15.1482,  54.9980, 4333,   1701.2,   2.6785,  34.7135,2,  34.7133,2,    153.2,2,    152.5,2
   3175MB95_02,  IR03,    64,1,      9,      9,2,19950405,1447,-15.1482,  54.9980, 4333,   2000.4,   2.2812,  34.7319,2,  34.7324,2,    156.0,2,    155.8,2
   3175MB95_02,  IR03,    64,1,      8,      8,2,19950405,1447,-15.1482,  54.9980, 4333,   2297.5,   2.0800,  34.7379,2,  34.7362,2,    156.7,2,    157.1,2
   3175MB95_02,  IR03,    64,1,      7,      7,2,19950405,1447,-15.1482,  54.9980, 4333,   2600.5,   1.9077,  34.7395,2,  34.7402,2,    159.0,7,    159.3,2
   3175MB95_02,  IR03,    64,1,      6,      6,2,19950405,1447,-15.1482,  54.9980, 4333,   2898.2,   1.7819,  34.7369,2,  34.7372,2,    162.4,2,    162.9,2
   3175MB95_02,  IR03,    64,1,      5,      5,2,19950405,1447,-15.1482,  54.9980, 4333,   3198.3,   1.6833,  34.7333,2,  34.7309,2,    166.8,2,    165.9,2
   3175MB95_02,  IR03,    64,1,      4,      4,2,19950405,1447,-15.1482,  54.9980, 4333,   3495.1,   1.5424,  34.7285,2,  34.7279,2,    174.3,7,    186.9,4
   3175MB95_02,  IR03,    64,1,      3,      3,2,19950405,1447,-15.1482,  54.9980, 4333,   3802.4,   1.4017,  34.7229,2,  34.7212,2,    182.1,7,    181.7,2
   3175MB95_02,  IR03,    64,1,      2,      2,2,19950405,1447,-15.1482,  54.9980, 4333,   4100.9,   1.3153,  34.7191,2,  34.7186,2,    188.6,7,    187.0,2
   3175MB95_02,  IR03,    64,1,      1,      1,2,19950405,1447,-15.1482,  54.9980, 4333,   4381.7,   1.2609,  34.7167,2,  34.7184,2,    194.3,7,    191.7,2
   3175MB95_02,  IR03,    65,1,     24,     24,2,19950405,1958,-14.6483,  55.0010, 4035,      3.7,  28.6766,  34.6645,2,  34.6639,2,    197.0,2,    196.5,2
   3175MB95_02,  IR03,    65,1,     23,     23,2,19950405,1958,-14.6483,  55.0010, 4035,     24.7,  28.6795,  34.6634,2,  34.6654,2,    197.4,2,    196.4,2
   3175MB95_02,  IR03,    65,1,     22,     22,2,19950405,1958,-14.6483,  55.0010, 4035,     73.3,  25.6885,  35.0014,2,  35.0165,2,    201.2,2,    201.1,2
   3175MB95_02,  IR03,    65,1,     21,     21,2,19950405,1958,-14.6483,  55.0010, 4035,     98.4,  23.2500,  35.1344,2,  35.1312,2,    179.8,2,    178.5,2
   3175MB95_02,  IR03,    65,1,     20,     20,2,19950405,1958,-14.6483,  55.0010, 4035,    199.5,  17.4299,  35.3168,2,  35.3212,2,    144.0,2,    140.5,2
   3175MB95_02,  IR03,    65,1,     19,     19,2,19950405,1958,-14.6483,  55.0010, 4035,    296.4,  13.0030,  35.0821,2,  35.0825,2,    149.3,2,    142.4,2
   3175MB95_02,  IR03,    65,1,     18,     18,2,19950405,1958,-14.6483,  55.0010, 4035,    396.6,  11.0492,  34.9320,2,  34.7307,4,    173.0,2,    168.6,2
   3175MB95_02,  IR03,    65,1,     17,     17,2,19950405,1958,-14.6483,  55.0010, 4035,    498.0,   9.4474,  34.7819,2,  34.7816,2,    164.9,2,    161.6,2
   3175MB95_02,  IR03,    65,1,     16,     16,2,19950405,1958,-14.6483,  55.0010, 4035,    600.5,   8.2011,  34.7094,2,  34.7093,2,    142.9,2,    140.5,2
   3175MB95_02,  IR03,    65,1,     15,     15,2,19950405,1958,-14.6483,  55.0010, 4035,    697.8,   7.2618,  34.6958,2,  34.6958,2,    131.7,2,    126.8,2
   3175MB95_02,  IR03,    65,1,     14,     14,2,19950405,1958,-14.6483,  55.0010, 4035,    900.7,   5.9603,  34.7293,2,  34.7274,2,    106.6,2,    104.3,2
   3175MB95_02,  IR03,    65,1,     13,     13,2,19950405,1958,-14.6483,  55.0010, 4035,   1099.2,   5.0342,  34.7202,2,  34.7214,2,    113.8,2,    110.4,2
   3175MB95_02,  IR03,    65,1,     12,     12,2,19950405,1958,-14.6483,  55.0010, 4035,   1299.0,   4.0526,  34.7040,2,  34.7087,3,    128.2,2,    125.9,2
   3175MB95_02,  IR03,    65,1,     11,     11,2,19950405,1958,-14.6483,  55.0010, 4035,   1491.7,   3.4111,  34.6918,2,  34.6932,2,    142.6,2,    140.6,2
   3175MB95_02,  IR03,    65,1,     10,     10,2,19950405,1958,-14.6483,  55.0010, 4035,   1698.2,   2.8905,  34.7129,2,  34.7148,2,    149.3,2,    147.7,2
   3175MB95_02,  IR03,    65,1,      9,      9,2,19950405,1958,-14.6483,  55.0010, 4035,   1899.0,   2.5058,  34.7224,2,  34.7225,2,    154.8,2,    154.3,2
   3175MB95_02,  IR03,    65,1,      8,      8,2,19950405,1958,-14.6483,  55.0010, 4035,   2096.4,   2.2798,  34.7326,2,  34.7321,2,    155.7,2,    155.4,2
   3175MB95_02,  IR03,    65,1,      7,      7,2,19950405,1958,-14.6483,  55.0010, 4035,   2299.1,   2.1054,  34.7373,2,  34.7357,2,    156.6,2,    157.2,2
   3175MB95_02,  IR03,    65,1,      6,      6,2,19950405,1958,-14.6483,  55.0010, 4035,   2493.3,   1.9950,  34.7388,2,  34.7375,2,    158.0,2,    157.8,2
   3175MB95_02,  IR03,    65,1,      5,      5,2,19950405,1958,-14.6483,  55.0010, 4035,   2794.6,   1.8668,  34.7382,2,  34.7362,2,    160.5,2,    160.4,2
   3175MB95_02,  IR03,    65,1,      4,      4,2,19950405,1958,-14.6483,  55.0010, 4035,   3100.4,   1.7202,  34.7344,2,  34.7319,2,    165.6,2,    165.2,2
   3175MB95_02,  IR03,    65,1,      3,      3,2,19950405,1958,-14.6483,  55.0010, 4035,   3396.9,   1.5972,  34.7305,2,  34.7283,2,    171.5,2,    171.1,2
   3175MB95_02,  IR03,    65,1,      2,      2,2,19950405,1958,-14.6483,  55.0010, 4035,   3695.5,   1.4872,  34.7261,2,  34.7248,2,    178.2,2,    176.9,2
   3175MB95_02,  IR03,    65,1,      1,      1,2,19950405,1958,-14.6483,  55.0010, 4035,   4057.2,   1.3443,  34.7197,2,  34.7207,2,    187.9,2,    185.7,2