BOTTLE,20220630CCHSIOAMB
EXPOCODE,SECT_ID,STNNBR,CASTNO,SAMPNO,BTLNBR,BTLNBR_FLAG_W,DATE,TIME,LATITUDE,LONGITUDE,DEPTH,CTDPRS,CTDTMP,CTDSAL,CTDSAL_FLAG_W,SALNTY,SALNTY_FLAG_W,CTDOXY,CTDOXY_FLAG_W,OXYGEN,OXYGEN_FLAG_W
,,,,,,,,,,,,DBAR,ITS-90,PSS-78,,PSS-78,,UMOL/KG,,UMOL/KG,
   3175MB95_02,  IR03,    66,1,     24,     24,2,19950406,0047,-14.1713,  54.9987, 4511,      4.2,  28.6150,  34.7080,2,  34.7077,2,    196.5,2,    196.7,2
   3175MB95_02,  IR03,    66,1,     23,     23,2,19950406,0047,-14.1713,  54.9987, 4511,     49.1,  28.2255,  34.7190,2,  34.7812,4,    204.8,2,    204.3,2
   3175MB95_02,  IR03,    66,1,     22,     22,2,19950406,0047,-14.1713,  54.9987, 4511,     98.8,  21.6266,  35.1311,2,  35.1348,2,    148.8,2,    146.1,2
   3175MB95_02,  IR03,    66,1,     21,     21,2,19950406,0047,-14.1713,  54.9987, 4511,    199.6,  15.4466,  35.2113,2,  35.2170,2,    129.8,2,    125.9,2
   3175MB95_02,  IR03,    66,1,     20,     20,2,19950406,0047,-14.1713,  54.9987, 4511,    299.4,  12.7081,  35.0795,2,  35.0797,2,    155.4,2,    144.7,2
   3175MB95_02,  IR03,    66,1,     19,     19,2,19950406,0047,-14.1713,  54.9987, 4511,    399.0,  11.0295,  34.9296,2,  34.9303,2,    176.0,2,    172.1,2
   3175MB95_02,  IR03,    66,1,     18,     18,2,19950406,0047,-14.1713,  54.9987, 4511,    498.8,   9.5587,  34.7855,2,  34.7857,2,    173.9,2,    170.1,2
   3175MB95_02,  IR03,    66,1,     17,     17,2,19950406,0047,-14.1713,  54.9987, 4511,    599.4,   7.9866,  34.6589,2,  34.6618,2,    166.5,2,    163.4,2
   3175MB95_02,  IR03,    66,1,     16,     16,2,19950406,0047,-14.1713,  54.9987, 4511,    699.2,   7.1210,  34.6483,2,  34.6477,2,    145.1,2,    143.1,2
   3175MB95_02,  IR03,    66,1,     15,     15,2,19950406,0047,-14.1713,  54.9987, 4511,    799.6,   6.4138,  34.6658,2,  34.6684,2,    126.7,2,    124.5,2
   3175MB95_02,  IR03,    66,1,     14,     14,2,19950406,0047,-14.1713,  54.9987, 4511,    998.1,   5.5148,  34.6984,2,  34.6971,2,    114.1,2,    111.8,2
   3175MB95_02,  IR03,    66,1,     13,     13,2,19950406,0047,-14.1713,  54.9987, 4511,   1189.1,   4.7541,  34.6975,2,  34.6971,2,    119.9,2,    117.3,2
   3175MB95_02,  IR03,    66,1,     12,     12,2,19950406,0047,-14.1713,  54.9987, 4511,   1389.1,   3.9638,  34.6938,2,  34.6965,2,    131.7,2,    129.5,2
   3175MB95_02,  IR03,    66,1,     11,     11,2,19950406,0047,-14.1713,  54.9987, 4511,   1600.0,   3.2881,  34.7039,2,-999.0000,9,    141.9,2,   -999.0,9
   3175MB95_02,  IR03,    66,1,     10,     10,2,19950406,0047,-14.1713,  54.9987, 4511,   1798.0,   2.7423,  34.7141,2,  34.7126,2,    150.9,2,    151.1,2
   3175MB95_02,  IR03,    66,1,      9,      9,2,19950406,0047,-14.1713,  54.9987, 4511,   2098.7,   2.3377,  34.7317,2,  34.7309,2,    154.0,2,    154.3,2
   3175MB95_02,  IR03,    66,1,      8,      8,2,19950406,0047,-14.1713,  54.9987, 4511,   2403.5,   2.0613,  34.7382,2,  34.7370,2,    156.3,2,    156.9,2
   3175MB95_02,  IR03,    66,1,      7,      7,2,19950406,0047,-14.1713,  54.9987, 4511,   2700.5,   1.8985,  34.7386,2,  34.7373,2,    158.5,2,    159.5,2
   3175MB95_02,  IR03,    66,1,      6,      6,2,19950406,0047,-14.1713,  54.9987, 4511,   2996.5,   1.7821,  34.7367,2,  34.7344,2,    161.8,2,    162.5,2
   3175MB95_02,  IR03,    66,1,      5,      5,2,19950406,0047,-14.1713,  54.9987, 4511,   3278.9,   1.6752,  34.7328,2,  34.7317,2,    166.2,2,    167.1,2
   3175MB95_02,  IR03,    66,1,      4,      4,2,19950406,0047,-14.1713,  54.9987, 4511,   3599.2,   1.5323,  34.7276,2,  34.7262,2,    173.9,2,    174.3,2
   3175MB95_02,  IR03,    66,1,      3,      3,2,19950406,0047,-14.1713,  54.9987, 4511,   3900.3,   1.3677,  34.7214,2,  34.7209,2,    183.2,2,    183.6,2
   3175MB95_02,  IR03,    66,1,      2,      2,2,19950406,0047,-14.1713,  54.9987, 4511,   4197.5,   1.2514,  34.7167,2,  34.7159,2,    191.1,2,    189.9,2
   3175MB95_02,  IR03,    66,1,      1,      1,2,19950406,0047,-14.1713,  54.9987, 4511,   4581.0,   1.0913,  34.7102,2,  34.7089,2,    203.0,2,    200.8,2
   3175MB95_02,  IR03,    67,1,     24,     24,2,19950406,0618,-13.6907,  54.9975, 4500,      4.4,  28.8779,  34.7294,2,  34.7321,2,    196.4,2,    195.8,2
   3175MB95_02,  IR03,    67,1,     23,     23,2,19950406,0618,-13.6907,  54.9975, 4500,     98.7,  21.3836,  35.1412,2,  35.1400,2,    154.3,2,    152.1,2
   3175MB95_02,  IR03,    67,1,     22,     22,2,19950406,0618,-13.6907,  54.9975, 4500,    198.9,  15.2194,  35.1881,2,  35.1917,2,    131.0,2,    126.0,2
   3175MB95_02,  IR03,    67,1,     21,     21,2,19950406,0618,-13.6907,  54.9975, 4500,    299.8,  12.4295,  35.0460,2,  35.0459,2,    153.9,2,    148.0,2
   3175MB95_02,  IR03,    67,1,     20,     20,2,19950406,0618,-13.6907,  54.9975, 4500,    449.7,  10.1532,  34.8409,2,  34.8404,2,    171.5,2,    169.8,2
   3175MB95_02,  IR03,    67,1,     19,     19,2,19950406,0618,-13.6907,  54.9975, 4500,    596.3,   8.1029,  34.7069,2,  34.7075,2,    137.0,2,    136.5,2
   3175MB95_02,  IR03,    67,1,     18,     18,2,19950406,0618,-13.6907,  54.9975, 4500,    747.4,   6.8722,  34.6974,2,  34.6979,2,    118.8,2,    118.9,2
   3175MB95_02,  IR03,    67,1,     17,     17,2,19950406,0618,-13.6907,  54.9975, 4500,    899.3,   5.9879,  34.7310,2,  34.7302,2,    102.3,2,    100.8,2
   3175MB95_02,  IR03,    67,1,     16,     16,2,19950406,0618,-13.6907,  54.9975, 4500,   1049.8,   5.2547,  34.7268,2,  34.7264,2,    109.5,2,    106.8,2
   3175MB95_02,  IR03,    67,1,     15,     15,2,19950406,0618,-13.6907,  54.9975, 4500,   1197.5,   4.6882,  34.7125,2,  34.7114,2,    118.5,2,    116.0,2
   3175MB95_02,  IR03,    67,1,     14,     14,2,19950406,0618,-13.6907,  54.9975, 4500,   1344.3,   4.0309,  34.7005,2,  34.7000,2,    129.4,2,    126.8,2
   3175MB95_02,  IR03,    67,1,     13,     13,2,19950406,0618,-13.6907,  54.9975, 4500,   1498.1,   3.5371,  34.7015,2,  34.7003,2,    137.9,2,    136.2,2
   3175MB95_02,  IR03,    67,1,     12,     12,2,19950406,0618,-13.6907,  54.9975, 4500,   1748.1,   2.9289,  34.7092,2,  34.7075,2,    148.3,2,    147.5,2
   3175MB95_02,  IR03,    67,1,     11,     11,2,19950406,0618,-13.6907,  54.9975, 4500,   1996.2,   2.4888,  34.7278,2,  34.7266,2,    151.9,3,    163.1,3
   3175MB95_02,  IR03,    67,1,     10,     10,2,19950406,0618,-13.6907,  54.9975, 4500,   2248.5,   2.1887,  34.7369,2,  34.7346,2,    154.3,2,    155.0,2
   3175MB95_02,  IR03,    67,1,      9,      9,2,19950406,0618,-13.6907,  54.9975, 4500,   2494.5,   1.9954,  34.7386,2,  34.7398,2,    156.8,2,    157.5,2
   3175MB95_02,  IR03,    67,1,      8,      8,2,19950406,0618,-13.6907,  54.9975, 4500,   2751.8,   1.8906,  34.7381,2,  34.7364,2,    158.8,2,    159.5,2
   3175MB95_02,  IR03,    67,1,      7,      7,2,19950406,0618,-13.6907,  54.9975, 4500,   3000.7,   1.7701,  34.7361,2,  34.7366,2,    162.0,2,    164.6,2
   3175MB95_02,  IR03,    67,1,      6,      6,2,19950406,0618,-13.6907,  54.9975, 4500,   3250.2,   1.6817,  34.7330,2,  34.7308,2,    165.9,2,    166.8,2
   3175MB95_02,  IR03,    67,1,      5,      5,2,19950406,0618,-13.6907,  54.9975, 4500,   3471.4,   1.5938,  34.7298,2,  34.7273,2,    170.3,2,    171.0,2
   3175MB95_02,  IR03,    67,1,      4,      4,2,19950406,0618,-13.6907,  54.9975, 4500,   3748.1,   1.4687,  34.7250,2,  34.7237,2,    177.5,2,    178.0,2
   3175MB95_02,  IR03,    67,1,      3,      3,2,19950406,0618,-13.6907,  54.9975, 4500,   4000.0,   1.3415,  34.7203,2,  34.7167,2,    185.4,2,    185.2,2
   3175MB95_02,  IR03,    67,1,      2,      2,2,19950406,0618,-13.6907,  54.9975, 4500,   4251.1,   1.2284,  34.7159,2,  34.7149,2,    192.6,2,    192.1,2
   3175MB95_02,  IR03,    67,1,      1,      1,2,19950406,0618,-13.6907,  54.9975, 4500,   4582.0,   1.1353,  34.7114,2,  34.7087,2,    200.9,2,    198.9,2
   3175MB95_02,  IR03,    68,1,     24,     24,2,19950406,1146,-13.2113,  55.0000, 4320,      4.8,  29.0865,  34.7913,2,  34.7930,2,    193.9,3,    192.1,2
   3175MB95_02,  IR03,    68,1,     23,     23,2,19950406,1146,-13.2113,  55.0000, 4320,     51.0,  26.0944,  34.9698,2,  34.9774,2,    213.8,2,    214.0,2
   3175MB95_02,  IR03,    68,1,     22,     22,2,19950406,1146,-13.2113,  55.0000, 4320,    101.4,  19.7700,  35.2424,2,  35.2529,2,    141.4,2,    139.7,2
   3175MB95_02,  IR03,    68,1,     21,     21,2,19950406,1146,-13.2113,  55.0000, 4320,    202.6,  14.3547,  35.1540,2,  35.1547,2,    136.2,2,    131.1,2
   3175MB95_02,  IR03,    68,1,     20,     20,2,19950406,1146,-13.2113,  55.0000, 4320,    303.0,  12.0078,  35.0142,2,  35.0171,2,    158.7,2,    152.4,2
   3175MB95_02,  IR03,    68,1,     19,     19,2,19950406,1146,-13.2113,  55.0000, 4320,    402.4,  10.4769,  34.8750,2,  34.8785,2,    168.6,2,    165.0,2
   3175MB95_02,  IR03,    68,1,     18,     18,2,19950406,1146,-13.2113,  55.0000, 4320,    501.6,   9.1770,  34.7691,2,  34.7714,2,    155.9,2,    154.3,2
   3175MB95_02,  IR03,    68,1,     17,     17,2,19950406,1146,-13.2113,  55.0000, 4320,    603.9,   8.0291,  34.7010,2,  34.7012,2,    142.6,2,    141.5,2
   3175MB95_02,  IR03,    68,1,     16,     16,2,19950406,1146,-13.2113,  55.0000, 4320,    704.6,   7.2623,  34.7077,2,  34.7106,2,    121.6,2,    120.5,2
   3175MB95_02,  IR03,    68,1,     15,     15,2,19950406,1146,-13.2113,  55.0000, 4320,    805.9,   6.6100,  34.7187,2,  34.7191,2,    109.9,2,    107.4,2
   3175MB95_02,  IR03,    68,1,     14,     14,2,19950406,1146,-13.2113,  55.0000, 4320,    894.1,   6.0351,  34.7282,2,  34.7266,2,    105.5,2,    102.7,2
   3175MB95_02,  IR03,    68,1,     13,     13,2,19950406,1146,-13.2113,  55.0000, 4320,    999.1,   5.5639,  34.7266,2,  34.7262,2,    107.8,2,    104.8,2
   3175MB95_02,  IR03,    68,1,     12,     12,2,19950406,1146,-13.2113,  55.0000, 4320,   1100.8,   5.0925,  34.7258,2,  34.7250,2,    111.4,2,    108.7,2
   3175MB95_02,  IR03,    68,1,     11,     11,2,19950406,1146,-13.2113,  55.0000, 4320,   1300.3,   4.3415,  34.7147,2,  34.7144,2,    121.6,2,    119.1,2
   3175MB95_02,  IR03,    68,1,     10,     10,2,19950406,1146,-13.2113,  55.0000, 4320,   1496.3,   3.5896,  34.7112,2,  34.7105,2,    135.1,2,    133.4,2
   3175MB95_02,  IR03,    68,1,      9,      9,2,19950406,1146,-13.2113,  55.0000, 4320,   1695.4,   3.1164,  34.7134,2,  34.7131,2,    144.4,2,    142.4,2
   3175MB95_02,  IR03,    68,1,      8,      8,2,19950406,1146,-13.2113,  55.0000, 4320,   2001.6,   2.5133,  34.7273,2,  34.7265,2,    151.8,2,    150.9,2
   3175MB95_02,  IR03,    68,1,      7,      7,2,19950406,1146,-13.2113,  55.0000, 4320,   2301.7,   2.1745,  34.7382,2,  34.7367,2,    154.3,2,    156.1,2
   3175MB95_02,  IR03,    68,1,      6,      6,2,19950406,1146,-13.2113,  55.0000, 4320,   2600.0,   2.0130,  34.7394,2,  34.7385,2,    156.5,2,    157.2,2
   3175MB95_02,  IR03,    68,1,      5,      5,2,19950406,1146,-13.2113,  55.0000, 4320,   2899.4,   1.8592,  34.7392,2,  34.7412,2,    158.9,2,    159.6,2
   3175MB95_02,  IR03,    68,1,      4,      4,2,19950406,1146,-13.2113,  55.0000, 4320,   3200.5,   1.7277,  34.7351,2,  34.7349,2,    163.7,2,    164.2,2
   3175MB95_02,  IR03,    68,1,      3,      3,2,19950406,1146,-13.2113,  55.0000, 4320,   3598.0,   1.5779,  34.7293,2,  34.7266,2,    171.9,2,    172.4,2
   3175MB95_02,  IR03,    68,1,      2,      2,2,19950406,1146,-13.2113,  55.0000, 4320,   4003.8,   1.3933,  34.7221,2,  34.7203,2,    183.3,2,    182.6,2
   3175MB95_02,  IR03,    68,1,      1,      1,2,19950406,1146,-13.2113,  55.0000, 4320,   4449.3,   1.2386,  34.7156,2,  34.7184,2,    195.4,2,    192.8,2
   3175MB95_02,  IR03,    69,1,     24,     24,2,19950406,1657,-12.7283,  55.0008, 4333,      2.7,  29.0063,  34.7106,2,-999.0000,9,    196.2,2,   -999.0,9
   3175MB95_02,  IR03,    69,1,     23,     23,2,19950406,1657,-12.7283,  55.0008, 4333,     48.5,  24.7215,  35.0348,2,  35.0384,2,    217.9,2,    217.6,2
   3175MB95_02,  IR03,    69,1,     22,     22,2,19950406,1657,-12.7283,  55.0008, 4333,     98.7,  19.9977,  35.1472,2,  35.1548,2,    132.4,2,    132.6,2
   3175MB95_02,  IR03,    69,1,     21,     21,2,19950406,1657,-12.7283,  55.0008, 4333,    150.3,  16.5879,  35.2264,2,  35.2307,2,    126.4,2,    122.0,2
   3175MB95_02,  IR03,    69,1,     20,     20,2,19950406,1657,-12.7283,  55.0008, 4333,    199.3,  14.8544,  35.1629,2,  35.1667,2,    131.4,2,    124.8,2
   3175MB95_02,  IR03,    69,1,     19,     19,2,19950406,1657,-12.7283,  55.0008, 4333,    249.4,  13.6534,  35.1504,2,  35.1568,2,    152.5,2,    146.3,2
   3175MB95_02,  IR03,    69,1,     18,     18,2,19950406,1657,-12.7283,  55.0008, 4333,    347.9,  11.4538,  34.9677,2,  34.9681,2,    167.1,2,    160.5,2
   3175MB95_02,  IR03,    69,1,     17,     17,2,19950406,1657,-12.7283,  55.0008, 4333,    448.4,   9.7416,  34.8056,2,  34.8094,2,    169.1,2,    166.8,2
   3175MB95_02,  IR03,    69,1,     16,     16,2,19950406,1657,-12.7283,  55.0008, 4333,    552.4,   8.6708,  34.7449,2,  34.7461,2,    146.0,2,    143.5,2
   3175MB95_02,  IR03,    69,1,     15,     15,2,19950406,1657,-12.7283,  55.0008, 4333,    649.5,   7.5540,  34.7156,2,  34.7167,2,    126.1,2,    123.9,2
   3175MB95_02,  IR03,    69,1,     14,     14,2,19950406,1657,-12.7283,  55.0008, 4333,    748.8,   6.9614,  34.7477,2,  34.7486,2,    108.7,2,    107.2,2
   3175MB95_02,  IR03,    69,1,     13,     13,2,19950406,1657,-12.7283,  55.0008, 4333,    920.9,   6.0502,  34.7449,2,  34.7442,2,    102.1,2,    100.0,2
   3175MB95_02,  IR03,    69,1,     12,     12,2,19950406,1657,-12.7283,  55.0008, 4333,   1047.6,   5.4667,  34.7451,2,  34.7449,2,    104.7,2,    101.9,2
   3175MB95_02,  IR03,    69,1,     11,     11,2,19950406,1657,-12.7283,  55.0008, 4333,   1248.7,   4.4832,  34.7229,2,  34.7223,2,    118.0,2,    115.5,2
   3175MB95_02,  IR03,    69,1,     10,     10,2,19950406,1657,-12.7283,  55.0008, 4333,   1449.7,   3.8999,  34.7212,2,  34.7222,2,    126.9,2,    125.3,2
   3175MB95_02,  IR03,    69,1,      9,      9,2,19950406,1657,-12.7283,  55.0008, 4333,   1750.5,   3.0045,  34.7196,2,  34.7206,2,    144.3,2,    143.6,2
   3175MB95_02,  IR03,    69,1,      8,      8,2,19950406,1657,-12.7283,  55.0008, 4333,   2000.5,   2.5204,  34.7361,2,  34.7360,2,    148.4,2,    148.5,2
   3175MB95_02,  IR03,    69,1,      7,      7,2,19950406,1657,-12.7283,  55.0008, 4333,   2246.4,   2.2708,  34.7397,2,  34.7393,2,    151.7,2,    152.4,2
   3175MB95_02,  IR03,    69,1,      6,      6,2,19950406,1657,-12.7283,  55.0008, 4333,   2499.3,   2.0660,  34.7403,2,  34.7435,2,    155.4,2,    155.8,2
   3175MB95_02,  IR03,    69,1,      5,      5,2,19950406,1657,-12.7283,  55.0008, 4333,   2798.6,   1.8935,  34.7393,2,  34.7438,3,    158.4,2,    159.3,2
   3175MB95_02,  IR03,    69,1,      4,      4,2,19950406,1657,-12.7283,  55.0008, 4333,   3198.0,   1.7317,  34.7354,2,  34.7379,2,    163.9,2,    164.2,2
   3175MB95_02,  IR03,    69,1,      3,      3,2,19950406,1657,-12.7283,  55.0008, 4333,   3596.4,   1.5798,  34.7293,2,  34.7285,2,    171.7,2,    171.8,2
   3175MB95_02,  IR03,    69,1,      2,      2,2,19950406,1657,-12.7283,  55.0008, 4333,   3997.4,   1.4239,  34.7232,2,  34.7229,2,    181.9,2,    181.2,2
   3175MB95_02,  IR03,    69,1,      1,      1,2,19950406,1657,-12.7283,  55.0008, 4333,   4399.0,   1.2765,  34.7164,2,  34.7229,3,    193.1,2,    191.1,2
   3175MB95_02,  IR03,    70,1,     24,     24,2,19950406,2213,-12.2495,  55.0008, 4758,      3.5,  28.9474,  34.6139,2,  34.6215,2,    193.4,2,    195.1,2
   3175MB95_02,  IR03,    70,1,     23,     23,2,19950406,2213,-12.2495,  55.0008, 4758,     35.4,  28.9560,  34.6880,2,  34.7098,3,    194.9,2,    197.1,2
   3175MB95_02,  IR03,    70,1,     22,     22,2,19950406,2213,-12.2495,  55.0008, 4758,     66.3,  24.7631,  35.0346,2,  35.0424,2,    211.8,2,    214.2,2
   3175MB95_02,  IR03,    70,1,     21,     21,2,19950406,2213,-12.2495,  55.0008, 4758,    140.4,  17.9688,  35.2518,2,  35.2539,2,    130.2,2,    126.7,2
   3175MB95_02,  IR03,    70,1,     20,     20,2,19950406,2213,-12.2495,  55.0008, 4758,    199.2,  13.9119,  35.1236,2,  35.1237,2,    132.9,2,    137.4,2
   3175MB95_02,  IR03,    70,1,     19,     19,2,19950406,2213,-12.2495,  55.0008, 4758,    301.3,  11.3987,  34.9674,2,  34.9750,2,    171.1,2,    165.2,2
   3175MB95_02,  IR03,    70,1,     18,     18,2,19950406,2213,-12.2495,  55.0008, 4758,    391.7,   9.8977,  34.8302,2,  34.8324,2,    161.9,2,    158.0,2
   3175MB95_02,  IR03,    70,1,     17,     17,2,19950406,2213,-12.2495,  55.0008, 4758,    499.1,   9.1373,  34.7741,2,  34.7742,2,    145.0,2,    144.7,2
   3175MB95_02,  IR03,    70,1,     16,     16,2,19950406,2213,-12.2495,  55.0008, 4758,    600.0,   8.3255,  34.7556,2,  34.7547,2,    125.7,2,    123.5,2
   3175MB95_02,  IR03,    70,1,     15,     15,2,19950406,2213,-12.2495,  55.0008, 4758,    700.0,   7.6393,  34.7347,2,  34.7377,2,    120.9,2,    117.0,2
   3175MB95_02,  IR03,    70,1,     14,     14,2,19950406,2213,-12.2495,  55.0008, 4758,    899.6,   6.3113,  34.7620,2,  34.7607,2,     96.8,2,     94.3,2
   3175MB95_02,  IR03,    70,1,     13,     13,2,19950406,2213,-12.2495,  55.0008, 4758,   1101.2,   5.3730,  34.7657,2,  34.7654,2,     98.2,2,     95.5,2
   3175MB95_02,  IR03,    70,1,     12,     12,2,19950406,2213,-12.2495,  55.0008, 4758,   1285.9,   4.5933,  34.7441,2,  34.7444,2,    111.5,2,    110.2,2
   3175MB95_02,  IR03,    70,1,     11,     11,2,19950406,2213,-12.2495,  55.0008, 4758,   1594.4,   3.4348,  34.7230,2,  34.7220,2,    134.7,2,    133.8,2
   3175MB95_02,  IR03,    70,1,     10,     10,2,19950406,2213,-12.2495,  55.0008, 4758,   1901.5,   2.7570,  34.7302,2,  34.7286,2,    145.5,2,    146.0,2
   3175MB95_02,  IR03,    70,1,      9,      9,2,19950406,2213,-12.2495,  55.0008, 4758,   2200.6,   2.2913,  34.7380,2,  34.7368,2,    151.2,2,    151.9,2
   3175MB95_02,  IR03,    70,1,      8,      8,2,19950406,2213,-12.2495,  55.0008, 4758,   2497.9,   2.0686,  34.7391,2,  34.7367,2,    155.4,2,    156.3,2
   3175MB95_02,  IR03,    70,1,      7,      7,2,19950406,2213,-12.2495,  55.0008, 4758,   2794.9,   1.9163,  34.7401,2,  34.7374,2,    157.2,2,    158.8,2
   3175MB95_02,  IR03,    70,1,      6,      6,2,19950406,2213,-12.2495,  55.0008, 4758,   3097.8,   1.7846,  34.7371,2,  34.7355,2,    160.8,2,    162.5,2
   3175MB95_02,  IR03,    70,1,      5,      5,2,19950406,2213,-12.2495,  55.0008, 4758,   3448.2,   1.6619,  34.7322,2,  34.7302,2,    166.6,2,    167.9,2
   3175MB95_02,  IR03,    70,1,      4,      4,2,19950406,2213,-12.2495,  55.0008, 4758,   3801.0,   1.5089,  34.7262,2,  34.7245,2,    175.1,2,    176.1,2
   3175MB95_02,  IR03,    70,1,      3,      3,2,19950406,2213,-12.2495,  55.0008, 4758,   4151.8,   1.3936,  34.7214,2,  34.7189,2,    183.0,2,    183.5,2
   3175MB95_02,  IR03,    70,1,      2,      2,2,19950406,2213,-12.2495,  55.0008, 4758,   4500.0,   1.2490,  34.7156,2,  34.7140,2,    193.2,2,    192.4,2
   3175MB95_02,  IR03,    70,1,      1,      1,2,19950406,2213,-12.2495,  55.0008, 4758,   4851.7,   1.2149,  34.7129,2,  34.7120,2,    198.4,2,    196.1,2