BOTTLE,20220630CCHSIOAMB
EXPOCODE,SECT_ID,STNNBR,CASTNO,SAMPNO,BTLNBR,BTLNBR_FLAG_W,DATE,TIME,LATITUDE,LONGITUDE,DEPTH,CTDPRS,CTDTMP,CTDSAL,CTDSAL_FLAG_W,SALNTY,SALNTY_FLAG_W,CTDOXY,CTDOXY_FLAG_W,OXYGEN,OXYGEN_FLAG_W
,,,,,,,,,,,,DBAR,ITS-90,PSS-78,,PSS-78,,UMOL/KG,,UMOL/KG,
   3175MB95_02,  IR03,   116,1,     24,     24,2,19950416,0724,  4.5392,  59.6585, 4140,      2.6,  29.8166,  34.9716,2,  34.9736,2,    194.5,2,    194.2,2
   3175MB95_02,  IR03,   116,1,     23,     23,2,19950416,0724,  4.5392,  59.6585, 4140,     34.0,  29.4619,  34.9694,2,  34.9728,2,    196.2,2,    195.6,2
   3175MB95_02,  IR03,   116,1,     22,     22,2,19950416,0724,  4.5392,  59.6585, 4140,     71.0,  26.8385,  35.6490,2,  35.6471,2,    177.1,2,    182.0,2
   3175MB95_02,  IR03,   116,1,     21,     21,2,19950416,0724,  4.5392,  59.6585, 4140,    123.2,  20.2645,  35.4197,2,  35.4325,2,     68.7,2,     68.5,2
   3175MB95_02,  IR03,   116,1,     20,     20,2,19950416,0724,  4.5392,  59.6585, 4140,    200.1,  13.3922,  35.1932,2,  35.1962,2,     78.9,2,     74.6,2
   3175MB95_02,  IR03,   116,1,     19,     19,2,19950416,0724,  4.5392,  59.6585, 4140,    321.6,  11.5193,  35.1197,2,  35.1222,2,     83.2,2,     81.4,2
   3175MB95_02,  IR03,   116,1,     18,     18,2,19950416,0724,  4.5392,  59.6585, 4140,    443.7,  10.3148,  35.0899,2,  35.0879,2,     66.8,2,     67.8,2
   3175MB95_02,  IR03,   116,1,     17,     17,2,19950416,0724,  4.5392,  59.6585, 4140,    597.9,   9.5634,  35.1566,2,  35.1524,2,     42.9,2,     43.2,2
   3175MB95_02,  IR03,   116,1,     16,     16,2,19950416,0724,  4.5392,  59.6585, 4140,    749.6,   8.8787,  35.1461,2,  35.1454,2,     36.9,2,     36.4,2
   3175MB95_02,  IR03,   116,1,     15,     15,2,19950416,0724,  4.5392,  59.6585, 4140,    899.0,   8.0971,  35.1258,2,  35.1221,2,     38.0,2,     36.0,2
   3175MB95_02,  IR03,   116,1,     14,     14,2,19950416,0724,  4.5392,  59.6585, 4140,   1047.6,   7.1118,  35.0700,2,  35.0732,2,     43.3,2,     42.2,2
   3175MB95_02,  IR03,   116,1,     13,     13,2,19950416,0724,  4.5392,  59.6585, 4140,   1198.9,   6.4426,  35.0258,2,  35.0268,2,     50.6,2,     49.4,2
   3175MB95_02,  IR03,   116,1,     12,     12,2,19950416,0724,  4.5392,  59.6585, 4140,   1373.2,   5.3987,  34.9532,2,  34.9566,2,     66.0,2,     63.6,2
   3175MB95_02,  IR03,   116,1,     11,     11,2,19950416,0724,  4.5392,  59.6585, 4140,   1546.8,   4.5708,  34.8933,2,  34.8927,2,     82.5,2,     81.2,2
   3175MB95_02,  IR03,   116,1,     10,     10,2,19950416,0724,  4.5392,  59.6585, 4140,   1732.5,   3.8064,  34.8457,2,  34.8465,2,     99.4,2,     98.1,2
   3175MB95_02,  IR03,   116,1,      9,      9,2,19950416,0724,  4.5392,  59.6585, 4140,   1948.5,   3.0440,  34.8055,2,  34.8047,2,    115.8,2,    115.6,2
   3175MB95_02,  IR03,   116,1,      8,      8,2,19950416,0724,  4.5392,  59.6585, 4140,   2143.4,   2.7349,  34.7909,2,  34.7897,2,    123.0,2,    123.1,2
   3175MB95_02,  IR03,   116,1,      7,      7,2,19950416,0724,  4.5392,  59.6585, 4140,   2399.1,   2.2753,  34.7687,2,  34.7682,2,    135.9,2,    136.3,2
   3175MB95_02,  IR03,   116,1,      6,      6,2,19950416,0724,  4.5392,  59.6585, 4140,   2658.2,   2.0227,  34.7545,2,  34.7537,2,    145.1,2,    145.7,2
   3175MB95_02,  IR03,   116,1,      5,      5,2,19950416,0724,  4.5392,  59.6585, 4140,   2984.6,   1.8470,  34.7464,2,  34.7453,2,    151.4,2,    162.9,3
   3175MB95_02,  IR03,   116,1,      4,      4,2,19950416,0724,  4.5392,  59.6585, 4140,   3297.5,   1.7086,  34.7383,2,  34.7370,2,    159.2,2,    160.0,2
   3175MB95_02,  IR03,   116,1,      3,      3,2,19950416,0724,  4.5392,  59.6585, 4140,   3597.5,   1.6375,  34.7346,2,  34.7336,2,    164.0,2,   -999.0,9
   3175MB95_02,  IR03,   116,1,      2,      2,2,19950416,0724,  4.5392,  59.6585, 4140,   3899.3,   1.5476,  34.7294,2,  34.7324,2,    169.6,3,    167.7,2
   3175MB95_02,  IR03,   116,1,      1,      1,2,19950416,0724,  4.5392,  59.6585, 4140,   4233.3,   1.5203,  34.7268,2,  34.7260,2,    173.9,2,    172.5,2
   3175MB95_02,  IR03,   117,1,     24,     24,2,19950416,1228,  4.9102,  59.9875, 4117,      1.1,  30.0609,  35.0123,2,  35.0159,2,    190.2,2,    208.3,3
   3175MB95_02,  IR03,   117,1,     23,     23,2,19950416,1228,  4.9102,  59.9875, 4117,     49.3,  29.4397,  34.9551,2,  34.9656,2,    191.5,2,    196.3,2
   3175MB95_02,  IR03,   117,1,     22,     22,2,19950416,1228,  4.9102,  59.9875, 4117,     81.8,  25.7889,  35.7532,2,  35.7595,2,    131.8,2,    118.8,3
   3175MB95_02,  IR03,   117,1,     21,     21,2,19950416,1228,  4.9102,  59.9875, 4117,    194.2,  14.4944,  35.2206,2,  35.2276,2,     64.9,2,     58.7,2
   3175MB95_02,  IR03,   117,1,     20,     20,2,19950416,1228,  4.9102,  59.9875, 4117,    252.3,  12.7490,  35.1880,2,  35.1842,2,     83.5,2,     80.8,2
   3175MB95_02,  IR03,   117,1,     19,     19,2,19950416,1228,  4.9102,  59.9875, 4117,    301.4,  11.7959,  35.1317,2,  35.1363,2,     82.8,2,     80.0,2
   3175MB95_02,  IR03,   117,1,     18,     18,2,19950416,1228,  4.9102,  59.9875, 4117,    349.8,  11.2552,  35.1257,2,  35.1083,4,     81.0,2,     77.3,2
   3175MB95_02,  IR03,   117,1,     17,     17,2,19950416,1228,  4.9102,  59.9875, 4117,    399.2,  10.7506,  35.1075,2,  35.1107,2,     69.3,2,     67.5,2
   3175MB95_02,  IR03,   117,1,     16,     16,2,19950416,1228,  4.9102,  59.9875, 4117,    450.9,  10.3927,  35.1237,2,  35.1225,2,     59.5,2,     57.6,2
   3175MB95_02,  IR03,   117,1,     15,     15,2,19950416,1228,  4.9102,  59.9875, 4117,    497.9,  10.1928,  35.1181,2,  35.1203,2,     55.0,2,     54.8,2
   3175MB95_02,  IR03,   117,1,     14,     14,2,19950416,1228,  4.9102,  59.9875, 4117,    601.5,   9.7492,  35.1663,2,  35.1668,2,     41.9,2,     41.3,2
   3175MB95_02,  IR03,   117,1,     13,     13,2,19950416,1228,  4.9102,  59.9875, 4117,    801.9,   8.8315,  35.1772,2,  35.1778,2,     36.3,2,     35.7,2
   3175MB95_02,  IR03,   117,1,     12,     12,2,19950416,1228,  4.9102,  59.9875, 4117,    999.5,   7.8970,  35.1345,2,  35.1352,2,     34.6,2,     33.9,2
   3175MB95_02,  IR03,   117,1,     11,     11,2,19950416,1228,  4.9102,  59.9875, 4117,   1100.2,   7.0653,  35.0803,2,  35.0835,2,     41.8,2,     40.3,2
   3175MB95_02,  IR03,   117,1,     10,     10,2,19950416,1228,  4.9102,  59.9875, 4117,   1402.7,   5.0621,  34.9200,2,  34.9204,2,     72.7,2,     71.5,2
   3175MB95_02,  IR03,   117,1,      9,      9,2,19950416,1228,  4.9102,  59.9875, 4117,   1694.6,   3.9241,  34.8580,2,  34.8617,2,     95.2,2,     93.0,2
   3175MB95_02,  IR03,   117,1,      8,      8,2,19950416,1228,  4.9102,  59.9875, 4117,   1999.3,   3.0563,  34.8094,2,  34.8100,2,    114.9,2,    113.9,2
   3175MB95_02,  IR03,   117,1,      7,      7,2,19950416,1228,  4.9102,  59.9875, 4117,   2296.4,   2.3237,  34.7716,2,  34.7727,2,    134.6,2,    133.8,2
   3175MB95_02,  IR03,   117,1,      6,      6,2,19950416,1228,  4.9102,  59.9875, 4117,   2598.4,   2.0700,  34.7572,2,  34.7569,2,    143.2,2,    143.3,2
   3175MB95_02,  IR03,   117,1,      5,      5,2,19950416,1228,  4.9102,  59.9875, 4117,   2899.2,   1.8868,  34.7473,2,  34.7473,2,    151.0,2,    151.4,2
   3175MB95_02,  IR03,   117,1,      4,      4,2,19950416,1228,  4.9102,  59.9875, 4117,   3198.4,   1.7525,  34.7415,2,  34.7410,2,    156.5,2,    156.4,2
   3175MB95_02,  IR03,   117,1,      3,      3,2,19950416,1228,  4.9102,  59.9875, 4117,   3493.9,   1.6857,  34.7374,2,  34.7393,2,    160.4,2,    160.4,2
   3175MB95_02,  IR03,   117,1,      2,      2,2,19950416,1228,  4.9102,  59.9875, 4117,   3800.3,   1.5705,  34.7309,2,  34.7305,2,    168.1,2,    167.3,2
   3175MB95_02,  IR03,   117,1,      1,      1,2,19950416,1228,  4.9102,  59.9875, 4117,   4175.1,   1.5900,  34.7298,2,  34.7302,2,    170.8,2,    168.1,2
   3175MB95_02,  IR03,   118,1,     24,     24,2,19950416,1708,  5.2703,  60.3190, 3611,      1.7,  29.7930,  34.8096,2,  34.8111,2,    193.3,2,    195.2,2
   3175MB95_02,  IR03,   118,1,     23,     23,2,19950416,1708,  5.2703,  60.3190, 3611,     23.5,  29.6059,  34.8034,2,  34.8104,2,    193.1,2,    195.6,2
   3175MB95_02,  IR03,   118,1,     22,     22,2,19950416,1708,  5.2703,  60.3190, 3611,     84.5,  25.9502,  35.8247,2,  35.8383,2,    117.3,2,    133.9,3
   3175MB95_02,  IR03,   118,1,     21,     21,2,19950416,1708,  5.2703,  60.3190, 3611,    124.1,  18.9821,  35.3376,2,  35.3489,2,     55.5,2,     53.0,2
   3175MB95_02,  IR03,   118,1,     20,     20,2,19950416,1708,  5.2703,  60.3190, 3611,    199.4,  14.4075,  35.2167,2,  35.2261,2,     72.2,2,     65.0,2
   3175MB95_02,  IR03,   118,1,     19,     19,2,19950416,1708,  5.2703,  60.3190, 3611,    249.1,  12.3834,  35.1623,2,  35.1901,4,     83.2,2,     80.3,2
   3175MB95_02,  IR03,   118,1,     18,     18,2,19950416,1708,  5.2703,  60.3190, 3611,    349.4,  11.1880,  35.1144,2,  35.1138,2,     81.7,2,     74.9,2
   3175MB95_02,  IR03,   118,1,     17,     17,2,19950416,1708,  5.2703,  60.3190, 3611,    449.2,  10.6007,  35.1487,2,  35.1502,2,     53.5,2,     53.6,2
   3175MB95_02,  IR03,   118,1,     16,     16,2,19950416,1708,  5.2703,  60.3190, 3611,    547.8,  10.1341,  35.2075,2,  35.2080,2,     39.7,2,     38.8,2
   3175MB95_02,  IR03,   118,1,     15,     15,2,19950416,1708,  5.2703,  60.3190, 3611,    648.8,   9.8511,  35.2521,2,  35.2519,2,     32.5,2,     32.3,2
   3175MB95_02,  IR03,   118,1,     14,     14,2,19950416,1708,  5.2703,  60.3190, 3611,    744.2,   9.0825,  35.1801,2,  35.1803,2,     33.9,2,     33.6,2
   3175MB95_02,  IR03,   118,1,     13,     13,2,19950416,1708,  5.2703,  60.3190, 3611,    898.1,   8.1869,  35.1519,2,  35.1519,2,     33.4,2,     33.1,2
   3175MB95_02,  IR03,   118,1,     12,     12,2,19950416,1708,  5.2703,  60.3190, 3611,   1098.5,   6.8675,  35.0621,2,  35.0644,2,     44.2,2,     43.6,2
   3175MB95_02,  IR03,   118,1,     11,     11,2,19950416,1708,  5.2703,  60.3190, 3611,   1299.1,   5.9182,  34.9909,2,  34.9878,2,     56.7,2,     56.9,2
   3175MB95_02,  IR03,   118,1,     10,     10,2,19950416,1708,  5.2703,  60.3190, 3611,   1500.0,   4.8386,  34.9237,2,  34.9251,2,     75.6,2,     73.5,2
   3175MB95_02,  IR03,   118,1,      9,      9,2,19950416,1708,  5.2703,  60.3190, 3611,   1698.9,   3.7853,  34.8495,2,  34.8502,2,     98.7,2,     97.3,2
   3175MB95_02,  IR03,   118,1,      8,      8,2,19950416,1708,  5.2703,  60.3190, 3611,   1900.4,   3.2736,  34.8225,2,  34.8222,2,    110.0,2,    108.6,2
   3175MB95_02,  IR03,   118,1,      7,      7,2,19950416,1708,  5.2703,  60.3190, 3611,   2096.4,   2.6795,  34.7892,2,  34.7889,2,    125.4,2,    124.6,2
   3175MB95_02,  IR03,   118,1,      6,      6,2,19950416,1708,  5.2703,  60.3190, 3611,   2298.8,   2.3426,  34.7725,2,  34.7722,2,    134.4,2,    133.7,2
   3175MB95_02,  IR03,   118,1,      5,      5,2,19950416,1708,  5.2703,  60.3190, 3611,   2497.7,   2.1700,  34.7644,2,  34.7632,2,    139.2,2,    138.7,2
   3175MB95_02,  IR03,   118,1,      4,      4,2,19950416,1708,  5.2703,  60.3190, 3611,   2798.9,   2.0106,  34.7559,2,  34.7594,2,    144.5,2,    143.9,2
   3175MB95_02,  IR03,   118,1,      3,      3,2,19950416,1708,  5.2703,  60.3190, 3611,   3098.6,   1.8518,  34.7467,2,  34.7452,2,    152.4,2,    151.8,2
   3175MB95_02,  IR03,   118,1,      2,      2,2,19950416,1708,  5.2703,  60.3190, 3611,   3401.2,   1.7207,  34.7392,2,  34.7400,2,    160.2,2,    158.7,2
   3175MB95_02,  IR03,   118,1,      1,      1,2,19950416,1708,  5.2703,  60.3190, 3611,   3630.9,   1.6567,  34.7349,2,  34.7346,2,    165.4,2,    162.6,2
   3175MB95_02,  IR03,   119,1,     24,     24,2,19950416,2136,  5.6293,  60.6607, 2538,      2.3,  29.8457,  34.7729,2,  34.7748,2,    201.9,2,    194.0,2
   3175MB95_02,  IR03,   119,1,     23,     23,2,19950416,2136,  5.6293,  60.6607, 2538,     34.2,  29.2745,  34.8704,2,  34.8690,2,    206.0,2,    198.2,2
   3175MB95_02,  IR03,   119,1,     22,     22,2,19950416,2136,  5.6293,  60.6607, 2538,     75.0,  26.1762,  35.8045,2,  35.8104,2,    143.1,2,    137.7,2
   3175MB95_02,  IR03,   119,1,     21,     21,2,19950416,2136,  5.6293,  60.6607, 2538,    127.3,  17.9350,  35.2990,2,  35.2990,2,     48.4,2,     44.4,2
   3175MB95_02,  IR03,   119,1,     20,     20,2,19950416,2136,  5.6293,  60.6607, 2538,    175.3,  16.2857,  35.2774,2,  35.2798,2,     70.6,2,     65.5,2
   3175MB95_02,  IR03,   119,1,     19,     19,2,19950416,2136,  5.6293,  60.6607, 2538,    250.8,  13.5766,  35.2087,2,  35.2123,2,     80.4,2,     74.0,2
   3175MB95_02,  IR03,   119,1,     18,     18,2,19950416,2136,  5.6293,  60.6607, 2538,    347.8,  11.9950,  35.1700,2,  35.1711,2,     76.9,2,     72.9,2
   3175MB95_02,  IR03,   119,1,     17,     17,2,19950416,2136,  5.6293,  60.6607, 2538,    452.4,  10.7346,  35.1513,2,  35.1518,2,     60.2,2,     57.2,2
   3175MB95_02,  IR03,   119,1,     16,     16,2,19950416,2136,  5.6293,  60.6607, 2538,    550.8,  10.5507,  35.2449,2,  35.2503,2,     41.0,2,     38.8,2
   3175MB95_02,  IR03,   119,1,     15,     15,2,19950416,2136,  5.6293,  60.6607, 2538,    650.6,  10.0447,  35.3078,2,  35.3083,2,     27.0,2,     25.9,2
   3175MB95_02,  IR03,   119,1,     14,     14,2,19950416,2136,  5.6293,  60.6607, 2538,    745.7,   8.9817,  35.2032,2,  35.2037,2,     31.8,2,     30.8,2
   3175MB95_02,  IR03,   119,1,     13,     13,2,19950416,2136,  5.6293,  60.6607, 2538,    849.7,   8.3655,  35.1566,2,  35.1578,2,     34.6,2,     33.5,2
   3175MB95_02,  IR03,   119,1,     12,     12,2,19950416,2136,  5.6293,  60.6607, 2538,    950.1,   7.9935,  35.1388,2,  35.1386,2,     35.4,2,     34.6,2
   3175MB95_02,  IR03,   119,1,     11,     11,2,19950416,2136,  5.6293,  60.6607, 2538,   1048.6,   7.4829,  35.1292,2,  35.1294,2,     38.1,2,     37.1,2
   3175MB95_02,  IR03,   119,1,     10,     10,2,19950416,2136,  5.6293,  60.6607, 2538,   1150.7,   6.8273,  35.0697,2,  35.0717,2,     45.6,2,     43.9,2
   3175MB95_02,  IR03,   119,1,      9,      9,2,19950416,2136,  5.6293,  60.6607, 2538,   1249.8,   6.2492,  35.0238,2,  35.0266,2,     53.7,2,     51.6,2
   3175MB95_02,  IR03,   119,1,      8,      8,2,19950416,2136,  5.6293,  60.6607, 2538,   1349.9,   5.7923,  34.9946,2,  34.9973,2,     59.3,2,     57.6,2
   3175MB95_02,  IR03,   119,1,      7,      7,2,19950416,2136,  5.6293,  60.6607, 2538,   1448.2,   5.2922,  34.9584,2,  34.9595,2,     67.7,2,     65.6,2
   3175MB95_02,  IR03,   119,1,      6,      6,2,19950416,2136,  5.6293,  60.6607, 2538,   1645.7,   4.1429,  34.8770,2,  34.8812,2,     92.0,2,     87.8,2
   3175MB95_02,  IR03,   119,1,      5,      5,2,19950416,2136,  5.6293,  60.6607, 2538,   1849.1,   3.2256,  34.8199,2,  34.8205,2,    112.3,2,    110.0,2
   3175MB95_02,  IR03,   119,1,      4,      4,2,19950416,2136,  5.6293,  60.6607, 2538,   2048.7,   2.6933,  34.7900,2,  34.7936,2,    126.0,2,    123.2,2
   3175MB95_02,  IR03,   119,1,      3,      3,2,19950416,2136,  5.6293,  60.6607, 2538,   2250.5,   2.3131,  34.7714,2,  34.7718,2,    136.5,2,    134.5,2
   3175MB95_02,  IR03,   119,1,      2,      2,2,19950416,2136,  5.6293,  60.6607, 2538,   2448.0,   2.1590,  34.7636,2,  34.7640,2,    142.0,2,    139.1,2
   3175MB95_02,  IR03,   119,1,      1,      1,2,19950416,2136,  5.6293,  60.6607, 2538,   2536.8,   2.1406,  34.7625,2,  34.7627,2,    143.1,2,    140.0,2
   3175MB95_02,  IR03,   120,1,     24,     24,2,19950417,0135,  6.0015,  60.9910, 3365,      2.3,  29.7424,  34.7100,2,  34.7131,2,    199.9,2,    193.9,2
   3175MB95_02,  IR03,   120,1,     23,     23,2,19950417,0135,  6.0015,  60.9910, 3365,     49.9,  29.3586,  34.8320,2,  34.9082,4,    204.7,3,    199.3,2
   3175MB95_02,  IR03,   120,1,     22,     22,2,19950417,0135,  6.0015,  60.9910, 3365,    100.8,  23.0614,  35.7203,2,  35.7362,3,     84.8,2,     88.9,2
   3175MB95_02,  IR03,   120,1,     21,     21,2,19950417,0135,  6.0015,  60.9910, 3365,    149.8,  16.9072,  35.2590,2,  35.2681,2,     52.1,2,     40.4,2
   3175MB95_02,  IR03,   120,1,     20,     20,2,19950417,0135,  6.0015,  60.9910, 3365,    201.3,  15.0711,  35.2349,2,  35.2419,2,     77.1,2,     74.6,2
   3175MB95_02,  IR03,   120,1,     19,     19,2,19950417,0135,  6.0015,  60.9910, 3365,    251.4,  13.1789,  35.1960,2,  35.1973,2,     83.8,2,     79.8,2
   3175MB95_02,  IR03,   120,1,     18,     18,2,19950417,0135,  6.0015,  60.9910, 3365,    302.4,  12.6530,  35.1929,2,  35.1945,2,     77.1,2,     73.5,2
   3175MB95_02,  IR03,   120,1,     17,     17,2,19950417,0135,  6.0015,  60.9910, 3365,    349.4,  11.5706,  35.1753,2,  35.1759,2,     63.0,2,     59.4,2
   3175MB95_02,  IR03,   120,1,     16,     16,2,19950417,0135,  6.0015,  60.9910, 3365,    400.4,  11.1214,  35.1797,2,  35.1800,2,     54.2,2,     51.6,2
   3175MB95_02,  IR03,   120,1,     15,     15,2,19950417,0135,  6.0015,  60.9910, 3365,    442.6,  10.9209,  35.1698,2,  35.1687,2,     50.6,2,     49.5,2
   3175MB95_02,  IR03,   120,1,     14,     14,2,19950417,0135,  6.0015,  60.9910, 3365,    488.9,  10.7754,  35.1919,2,  35.1891,2,     42.1,2,     42.3,2
   3175MB95_02,  IR03,   120,1,     13,     13,2,19950417,0135,  6.0015,  60.9910, 3365,    698.9,   9.5116,  35.2477,2,  35.2486,2,     23.3,2,     22.6,2
   3175MB95_02,  IR03,   120,1,     12,     12,2,19950417,0135,  6.0015,  60.9910, 3365,    899.4,   8.0748,  35.1429,2,  35.1442,2,     34.5,2,     34.1,2
   3175MB95_02,  IR03,   120,1,     11,     11,2,19950417,0135,  6.0015,  60.9910, 3365,   1096.4,   7.2666,  35.1005,2,  35.1016,2,     40.2,2,     38.9,2
   3175MB95_02,  IR03,   120,1,     10,     10,2,19950417,0135,  6.0015,  60.9910, 3365,   1299.5,   5.9347,  35.0039,2,  35.0041,2,     56.7,2,     55.4,2
   3175MB95_02,  IR03,   120,1,      9,      9,2,19950417,0135,  6.0015,  60.9910, 3365,   1503.5,   4.8559,  34.9243,2,  34.9241,2,     76.8,2,     74.2,2
   3175MB95_02,  IR03,   120,1,      8,      8,2,19950417,0135,  6.0015,  60.9910, 3365,   1676.7,   3.9968,  34.8691,2,  34.8686,2,     92.3,2,     90.6,2
   3175MB95_02,  IR03,   120,1,      7,      7,2,19950417,0135,  6.0015,  60.9910, 3365,   1892.2,   3.2412,  34.8209,2,  34.8197,2,    110.7,2,   -999.0,9
   3175MB95_02,  IR03,   120,1,      6,      6,2,19950417,0135,  6.0015,  60.9910, 3365,   2140.8,   2.5767,  34.7850,2,  34.7845,2,    127.5,2,    126.9,2
   3175MB95_02,  IR03,   120,1,      5,      5,2,19950417,0135,  6.0015,  60.9910, 3365,   2395.9,   2.1924,  34.7660,2,  34.7648,2,    138.0,2,    137.9,2
   3175MB95_02,  IR03,   120,1,      4,      4,2,19950417,0135,  6.0015,  60.9910, 3365,   2700.1,   1.9893,  34.7555,2,  34.7543,2,    143.7,2,    143.9,2
   3175MB95_02,  IR03,   120,1,      3,      3,2,19950417,0135,  6.0015,  60.9910, 3365,   3002.0,   1.8684,  34.7485,2,  34.7474,2,    148.0,2,    147.7,2
   3175MB95_02,  IR03,   120,1,      2,      2,2,19950417,0135,  6.0015,  60.9910, 3365,   3301.5,   1.8296,  34.7452,2,  34.7448,2,    150.2,2,    149.2,2
   3175MB95_02,  IR03,   120,1,      1,      1,2,19950417,0135,  6.0015,  60.9910, 3365,   3472.8,   1.8295,  34.7445,2,  34.7433,2,    151.3,2,    149.6,2