BOTTLE,20220630CCHSIOAMB
EXPOCODE,SECT_ID,STNNBR,CASTNO,SAMPNO,BTLNBR,BTLNBR_FLAG_W,DATE,TIME,LATITUDE,LONGITUDE,DEPTH,CTDPRS,CTDTMP,CTDSAL,CTDSAL_FLAG_W,SALNTY,SALNTY_FLAG_W,CTDOXY,CTDOXY_FLAG_W,OXYGEN,OXYGEN_FLAG_W
,,,,,,,,,,,,DBAR,ITS-90,PSS-78,,PSS-78,,UMOL/KG,,UMOL/KG,
   3175MB95_02,  IR03,   101,1,     24,     24,2,19950413,0622, -1.0395,  55.0002, 4623,      1.8,  30.1489,  35.3036,2,  35.3060,2,    194.9,2,    194.7,2
   3175MB95_02,  IR03,   101,1,     23,     23,2,19950413,0622, -1.0395,  55.0002, 4623,     34.6,  29.0159,  35.4004,2,  35.4057,2,    201.9,2,    202.3,2
   3175MB95_02,  IR03,   101,1,     22,     22,2,19950413,0622, -1.0395,  55.0002, 4623,     74.0,  26.8704,  35.3745,2,  35.3846,2,    191.3,2,    193.5,2
   3175MB95_02,  IR03,   101,1,     21,     21,2,19950413,0622, -1.0395,  55.0002, 4623,    139.6,  15.4215,  35.1997,2,  35.2020,2,    128.1,2,    123.2,2
   3175MB95_02,  IR03,   101,1,     20,     20,2,19950413,0622, -1.0395,  55.0002, 4623,    200.2,  13.3786,  35.1265,2,  35.1318,2,    126.6,2,    126.3,2
   3175MB95_02,  IR03,   101,1,     19,     19,2,19950413,0622, -1.0395,  55.0002, 4623,    299.3,  11.3996,  35.0234,2,  35.0260,2,    121.4,2,    111.0,2
   3175MB95_02,  IR03,   101,1,     18,     18,2,19950413,0622, -1.0395,  55.0002, 4623,    399.2,  10.4918,  34.9753,2,  34.9764,2,    105.4,2,    102.7,2
   3175MB95_02,  IR03,   101,1,     17,     17,2,19950413,0622, -1.0395,  55.0002, 4623,    498.3,   9.8326,  34.9949,2,  34.9949,2,     82.1,2,     79.2,2
   3175MB95_02,  IR03,   101,1,     16,     16,2,19950413,0622, -1.0395,  55.0002, 4623,    597.4,   9.2392,  34.9907,2,  34.9913,2,     74.0,2,     72.4,2
   3175MB95_02,  IR03,   101,1,     15,     15,2,19950413,0622, -1.0395,  55.0002, 4623,    683.6,   8.5727,  35.0090,2,  35.0094,2,     60.8,2,     60.8,2
   3175MB95_02,  IR03,   101,1,     14,     14,2,19950413,0622, -1.0395,  55.0002, 4623,    888.1,   7.3845,  35.0034,2,  35.0026,2,     48.7,2,     48.2,2
   3175MB95_02,  IR03,   101,1,     13,     13,2,19950413,0622, -1.0395,  55.0002, 4623,   1094.5,   6.5161,  34.9563,2,  34.9537,2,     59.9,2,     58.7,2
   3175MB95_02,  IR03,   101,1,     12,     12,2,19950413,0622, -1.0395,  55.0002, 4623,   1298.2,   5.3341,  34.8836,2,  34.8838,2,     78.7,2,     77.2,2
   3175MB95_02,  IR03,   101,1,     11,     11,2,19950413,0622, -1.0395,  55.0002, 4623,   1599.4,   3.7324,  34.8180,2,  34.8169,2,    106.9,2,    106.2,2
   3175MB95_02,  IR03,   101,1,     10,     10,2,19950413,0622, -1.0395,  55.0002, 4623,   1898.5,   2.7768,  34.7725,2,  34.7727,2,    130.6,2,    131.3,2
   3175MB95_02,  IR03,   101,1,      9,      9,2,19950413,0622, -1.0395,  55.0002, 4623,   2197.4,   2.3506,  34.7625,2,  34.7616,2,    139.0,2,    139.9,2
   3175MB95_02,  IR03,   101,1,      8,      8,2,19950413,0622, -1.0395,  55.0002, 4623,   2494.4,   2.0863,  34.7525,2,  34.7514,2,    146.3,2,    147.4,2
   3175MB95_02,  IR03,   101,1,      7,      7,2,19950413,0622, -1.0395,  55.0002, 4623,   2796.4,   1.9038,  34.7436,2,  34.7429,2,    153.4,2,    155.4,2
   3175MB95_02,  IR03,   101,1,      6,      6,2,19950413,0622, -1.0395,  55.0002, 4623,   3088.5,   1.7212,  34.7351,2,  34.7346,2,    160.7,2,    163.0,2
   3175MB95_02,  IR03,   101,1,      5,      5,2,19950413,0622, -1.0395,  55.0002, 4623,   3400.5,   1.6416,  34.7317,2,  34.7312,2,    164.2,2,    166.4,2
   3175MB95_02,  IR03,   101,1,      4,      4,2,19950413,0622, -1.0395,  55.0002, 4623,   3693.4,   1.6178,  34.7304,2,  34.7290,2,    166.1,2,    168.1,2
   3175MB95_02,  IR03,   101,1,      3,      3,2,19950413,0622, -1.0395,  55.0002, 4623,   3998.5,   1.4771,  34.7252,2,  34.7236,2,    173.4,2,    176.9,2
   3175MB95_02,  IR03,   101,1,      2,      2,2,19950413,0622, -1.0395,  55.0002, 4623,   4280.5,   1.4021,  34.7216,2,  34.7214,2,    179.3,2,    180.1,2
   3175MB95_02,  IR03,   101,1,      1,      1,2,19950413,0622, -1.0395,  55.0002, 4623,   4704.6,   1.3412,  34.7175,2,  34.7178,2,    186.8,2,    185.1,2
   3175MB95_02,  IR03,   102,1,     24,     24,2,19950413,1157, -0.5192,  55.0202, 4560,      1.9,  29.8370,  35.2692,2,  35.2815,2,    194.0,2,    196.8,2
   3175MB95_02,  IR03,   102,1,     23,     23,2,19950413,1157, -0.5192,  55.0202, 4560,     50.1,  28.0209,  35.4522,2,  35.4361,3,    200.6,2,    202.8,2
   3175MB95_02,  IR03,   102,1,     22,     22,2,19950413,1157, -0.5192,  55.0202, 4560,     95.0,  24.2274,  35.2647,2,  35.2667,2,    158.1,2,    161.5,2
   3175MB95_02,  IR03,   102,1,     21,     21,2,19950413,1157, -0.5192,  55.0202, 4560,    149.0,  15.9284,  35.2065,2,  35.2125,2,    123.0,2,    119.2,2
   3175MB95_02,  IR03,   102,1,     20,     20,2,19950413,1157, -0.5192,  55.0202, 4560,    250.0,  12.1725,  35.0708,2,  35.0730,2,    114.4,2,    112.0,2
   3175MB95_02,  IR03,   102,1,     19,     19,2,19950413,1157, -0.5192,  55.0202, 4560,    348.7,  10.8811,  35.0064,2,  35.0101,2,    104.3,2,     95.0,2
   3175MB95_02,  IR03,   102,1,     18,     18,2,19950413,1157, -0.5192,  55.0202, 4560,    451.8,   9.7544,  34.9577,2,  34.9606,2,     87.7,2,     87.2,2
   3175MB95_02,  IR03,   102,1,     17,     17,2,19950413,1157, -0.5192,  55.0202, 4560,    546.0,   9.4550,  34.9971,2,  34.9983,2,     75.6,2,     73.5,2
   3175MB95_02,  IR03,   102,1,     16,     16,2,19950413,1157, -0.5192,  55.0202, 4560,    651.1,   9.1488,  35.0360,2,  35.0365,2,     60.8,2,     59.7,2
   3175MB95_02,  IR03,   102,1,     15,     15,2,19950413,1157, -0.5192,  55.0202, 4560,    792.0,   7.7442,  34.9845,2,  34.9850,2,     55.2,2,     56.3,2
   3175MB95_02,  IR03,   102,1,     14,     14,2,19950413,1157, -0.5192,  55.0202, 4560,    900.8,   7.5537,  35.0229,2,  35.0239,2,     48.3,2,     47.2,2
   3175MB95_02,  IR03,   102,1,     13,     13,2,19950413,1157, -0.5192,  55.0202, 4560,   1143.5,   6.2900,  34.9605,2,  34.9612,2,     59.6,2,     58.1,2
   3175MB95_02,  IR03,   102,1,     12,     12,2,19950413,1157, -0.5192,  55.0202, 4560,   1400.4,   4.7564,  34.8637,2,  34.8647,2,     86.2,2,     84.6,2
   3175MB95_02,  IR03,   102,1,     11,     11,2,19950413,1157, -0.5192,  55.0202, 4560,   1591.0,   3.9191,  34.8258,2,  34.8263,2,    102.9,2,    101.9,2
   3175MB95_02,  IR03,   102,1,     10,     10,2,19950413,1157, -0.5192,  55.0202, 4560,   1800.7,   3.2361,  34.7965,2,  34.7971,2,    117.7,2,    117.3,2
   3175MB95_02,  IR03,   102,1,      9,      9,2,19950413,1157, -0.5192,  55.0202, 4560,   1998.8,   2.7342,  34.7772,2,  34.7773,2,    128.4,2,    128.8,2
   3175MB95_02,  IR03,   102,1,      8,      8,2,19950413,1157, -0.5192,  55.0202, 4560,   2199.3,   2.3848,  34.7643,2,  34.7647,2,    137.2,2,    138.2,2
   3175MB95_02,  IR03,   102,1,      7,      7,2,19950413,1157, -0.5192,  55.0202, 4560,   2442.2,   2.1175,  34.7535,2,  34.7537,2,    145.2,2,    146.3,2
   3175MB95_02,  IR03,   102,1,      6,      6,2,19950413,1157, -0.5192,  55.0202, 4560,   2744.6,   1.9267,  34.7456,2,  34.7461,2,    151.3,2,    153.0,2
   3175MB95_02,  IR03,   102,1,      5,      5,2,19950413,1157, -0.5192,  55.0202, 4560,   3037.9,   1.8035,  34.7388,2,  34.7393,2,    157.7,2,    158.8,2
   3175MB95_02,  IR03,   102,1,      4,      4,2,19950413,1157, -0.5192,  55.0202, 4560,   3446.1,   1.6871,  34.7329,2,  34.7329,2,    163.7,2,    164.0,2
   3175MB95_02,  IR03,   102,1,      3,      3,2,19950413,1157, -0.5192,  55.0202, 4560,   3850.1,   1.5572,  34.7282,2,  34.7279,2,    169.2,2,    171.9,2
   3175MB95_02,  IR03,   102,1,      2,      2,2,19950413,1157, -0.5192,  55.0202, 4560,   4249.5,   1.3741,  34.7211,2,  34.7214,2,    180.4,2,    180.9,2
   3175MB95_02,  IR03,   102,1,      1,      1,2,19950413,1157, -0.5192,  55.0202, 4560,   4655.9,   1.3354,  34.7176,2,  34.7207,2,    186.8,2,    184.9,2
   3175MB95_02,  IR03,   103,1,     24,     24,2,19950413,1708, -0.1597,  55.3508, 4546,      3.4,  29.7193,  35.2743,2,  35.2773,2,    194.8,3,    196.4,2
   3175MB95_02,  IR03,   103,1,     23,     23,2,19950413,1708, -0.1597,  55.3508, 4546,     50.5,  27.9154,  35.4581,2,  35.4613,2,    200.7,3,    203.3,2
   3175MB95_02,  IR03,   103,1,     22,     22,2,19950413,1708, -0.1597,  55.3508, 4546,     97.3,  24.3168,  35.3045,2,  35.3033,2,    165.3,2,    157.4,2
   3175MB95_02,  IR03,   103,1,     21,     21,2,19950413,1708, -0.1597,  55.3508, 4546,    199.8,  13.9400,  35.1724,2,  35.1739,2,    134.6,2,    130.3,2
   3175MB95_02,  IR03,   103,1,     20,     20,2,19950413,1708, -0.1597,  55.3508, 4546,    299.3,  11.2704,  35.0290,2,  35.0300,2,    102.9,2,     98.6,2
   3175MB95_02,  IR03,   103,1,     19,     19,2,19950413,1708, -0.1597,  55.3508, 4546,    399.6,  10.4645,  34.9907,2,  34.9900,2,     92.6,2,     90.9,2
   3175MB95_02,  IR03,   103,1,     18,     18,2,19950413,1708, -0.1597,  55.3508, 4546,    501.6,   9.8183,  34.9813,2,  34.9871,2,     84.2,2,     78.0,2
   3175MB95_02,  IR03,   103,1,     17,     17,2,19950413,1708, -0.1597,  55.3508, 4546,    699.7,   8.7877,  35.0296,2,  35.0279,2,     55.7,2,     56.0,2
   3175MB95_02,  IR03,   103,1,     16,     16,2,19950413,1708, -0.1597,  55.3508, 4546,    901.5,   7.5432,  35.0022,2,  35.0032,2,     48.6,2,     47.7,2
   3175MB95_02,  IR03,   103,1,     15,     15,2,19950413,1708, -0.1597,  55.3508, 4546,   1097.3,   6.5146,  34.9803,2,  34.9796,2,     56.4,2,     55.0,2
   3175MB95_02,  IR03,   103,1,     14,     14,2,19950413,1708, -0.1597,  55.3508, 4546,   1297.7,   5.1463,  34.8885,2,  34.8886,2,     77.8,2,     75.6,2
   3175MB95_02,  IR03,   103,1,     13,     13,2,19950413,1708, -0.1597,  55.3508, 4546,   1496.6,   4.2446,  34.8443,2,  34.8441,2,     95.2,2,     94.1,2
   3175MB95_02,  IR03,   103,1,     12,     12,2,19950413,1708, -0.1597,  55.3508, 4546,   1700.5,   3.4295,  34.8068,2,  34.8066,2,    112.8,2,    112.5,2
   3175MB95_02,  IR03,   103,1,     11,     11,2,19950413,1708, -0.1597,  55.3508, 4546,   1885.1,   2.9697,  34.7879,2,  34.7874,2,    123.1,2,    122.9,2
   3175MB95_02,  IR03,   103,1,     10,     10,2,19950413,1708, -0.1597,  55.3508, 4546,   2097.7,   2.5398,  34.7706,2,  34.7704,2,    133.1,2,    134.0,2
   3175MB95_02,  IR03,   103,1,      9,      9,2,19950413,1708, -0.1597,  55.3508, 4546,   2248.2,   2.3898,  34.7649,2,  34.7649,2,    137.0,2,    138.2,2
   3175MB95_02,  IR03,   103,1,      8,      8,2,19950413,1708, -0.1597,  55.3508, 4546,   2498.1,   2.0654,  34.7522,2,  34.7518,2,    146.4,2,    147.7,2
   3175MB95_02,  IR03,   103,1,      7,      7,2,19950413,1708, -0.1597,  55.3508, 4546,   2701.4,   1.9185,  34.7454,2,  34.7457,2,    151.6,2,    153.4,2
   3175MB95_02,  IR03,   103,1,      6,      6,2,19950413,1708, -0.1597,  55.3508, 4546,   2895.9,   1.8693,  34.7429,2,  34.7439,2,    154.0,2,    155.5,2
   3175MB95_02,  IR03,   103,1,      5,      5,2,19950413,1708, -0.1597,  55.3508, 4546,   3096.7,   1.7566,  34.7371,2,  34.7374,2,    158.8,2,    160.9,2
   3175MB95_02,  IR03,   103,1,      4,      4,2,19950413,1708, -0.1597,  55.3508, 4546,   3399.5,   1.6470,  34.7325,2,  34.7322,2,    164.2,2,    165.8,2
   3175MB95_02,  IR03,   103,1,      3,      3,2,19950413,1708, -0.1597,  55.3508, 4546,   3800.2,   1.5647,  34.7285,2,  34.7288,2,    168.9,2,    170.2,2
   3175MB95_02,  IR03,   103,1,      2,      2,2,19950413,1708, -0.1597,  55.3508, 4546,   4197.2,   1.3860,  34.7216,2,  34.7208,2,    179.4,2,    180.0,2
   3175MB95_02,  IR03,   103,1,      1,      1,2,19950413,1708, -0.1597,  55.3508, 4546,   4628.8,   1.3447,  34.7182,2,  34.7179,2,    186.1,2,    184.4,2
   3175MB95_02,  IR03,   104,1,     24,     24,2,19950413,2221,  0.1975,  55.6795, 3954,      3.1,  29.3912,  35.2770,2,  35.2788,2,    195.7,2,    197.0,2
   3175MB95_02,  IR03,   104,1,     23,     23,2,19950413,2221,  0.1975,  55.6795, 3954,     35.2,  28.2124,  35.4278,2,  35.4330,2,    202.5,2,    204.3,2
   3175MB95_02,  IR03,   104,1,     22,     22,2,19950413,2221,  0.1975,  55.6795, 3954,     75.2,  26.8447,  35.3839,2,  35.3968,2,    187.5,2,    189.1,2
   3175MB95_02,  IR03,   104,1,     21,     21,2,19950413,2221,  0.1975,  55.6795, 3954,     99.7,  24.3386,  35.3807,2,  35.4006,3,    156.7,2,    162.2,2
   3175MB95_02,  IR03,   104,1,     20,     20,2,19950413,2221,  0.1975,  55.6795, 3954,    180.0,  13.9101,  35.1671,2,  35.1684,2,    134.0,2,    129.5,2
   3175MB95_02,  IR03,   104,1,     19,     19,2,19950413,2221,  0.1975,  55.6795, 3954,    251.0,  12.0227,  35.0632,2,  35.0663,2,    110.8,2,    106.7,2
   3175MB95_02,  IR03,   104,1,     18,     18,2,19950413,2221,  0.1975,  55.6795, 3954,    340.4,  10.9645,  35.0119,2,  35.0111,2,    100.1,2,     96.9,2
   3175MB95_02,  IR03,   104,1,     17,     17,2,19950413,2221,  0.1975,  55.6795, 3954,    420.1,  10.3923,  34.9998,2,  35.0009,2,     88.4,2,     85.6,2
   3175MB95_02,  IR03,   104,1,     16,     16,2,19950413,2221,  0.1975,  55.6795, 3954,    499.9,   9.7150,  34.9933,2,  34.9928,2,     76.4,2,     80.1,2
   3175MB95_02,  IR03,   104,1,     15,     15,2,19950413,2221,  0.1975,  55.6795, 3954,    599.8,   9.3924,  35.0382,2,  35.0370,2,     64.6,2,     63.2,2
   3175MB95_02,  IR03,   104,1,     14,     14,2,19950413,2221,  0.1975,  55.6795, 3954,    698.0,   9.0696,  35.0349,2,  35.0377,2,     56.6,2,     57.3,2
   3175MB95_02,  IR03,   104,1,     13,     13,2,19950413,2221,  0.1975,  55.6795, 3954,    798.4,   8.1793,  35.0435,2,  35.0543,3,     46.9,2,     46.7,2
   3175MB95_02,  IR03,   104,1,     12,     12,2,19950413,2221,  0.1975,  55.6795, 3954,    999.8,   6.9955,  35.0067,2,  35.0214,4,     51.2,2,     50.3,2
   3175MB95_02,  IR03,   104,1,     11,     11,2,19950413,2221,  0.1975,  55.6795, 3954,   1194.8,   6.1233,  34.9598,2,  34.9608,2,     61.7,2,     60.0,2
   3175MB95_02,  IR03,   104,1,     10,     10,2,19950413,2221,  0.1975,  55.6795, 3954,   1391.9,   4.8071,  34.8770,2,  34.8790,2,     83.2,2,     81.2,2
   3175MB95_02,  IR03,   104,1,      9,      9,2,19950413,2221,  0.1975,  55.6795, 3954,   1584.1,   3.8234,  34.8249,2,  34.8249,2,    104.2,2,    103.2,2
   3175MB95_02,  IR03,   104,1,      8,      8,2,19950413,2221,  0.1975,  55.6795, 3954,   1875.7,   3.0543,  34.7912,2,  34.7920,2,    121.7,2,    120.9,2
   3175MB95_02,  IR03,   104,1,      7,      7,2,19950413,2221,  0.1975,  55.6795, 3954,   2175.9,   2.4592,  34.7678,2,  34.7674,2,    135.2,2,    136.4,2
   3175MB95_02,  IR03,   104,1,      6,      6,2,19950413,2221,  0.1975,  55.6795, 3954,   2497.3,   2.0144,  34.7505,2,  34.7511,2,    148.0,2,    149.3,2
   3175MB95_02,  IR03,   104,1,      5,      5,2,19950413,2221,  0.1975,  55.6795, 3954,   2793.1,   1.8716,  34.7434,2,  34.7437,2,    154.2,2,    156.3,2
   3175MB95_02,  IR03,   104,1,      4,      4,2,19950413,2221,  0.1975,  55.6795, 3954,   3123.3,   1.7562,  34.7371,2,  34.7372,2,    159.9,2,    160.8,2
   3175MB95_02,  IR03,   104,1,      3,      3,2,19950413,2221,  0.1975,  55.6795, 3954,   3448.0,   1.6438,  34.7322,2,  34.7322,2,    165.3,2,    166.2,2
   3175MB95_02,  IR03,   104,1,      2,      2,2,19950413,2221,  0.1975,  55.6795, 3954,   3769.2,   1.5906,  34.7296,2,  34.7305,2,    169.3,2,    169.3,2
   3175MB95_02,  IR03,   104,1,      1,      1,2,19950413,2221,  0.1975,  55.6795, 3954,   4129.7,   1.4682,  34.7246,2,  34.7254,2,    177.0,2,    176.1,2
   3175MB95_02,  IR03,   105,1,     24,     24,2,19950414,0255,  0.5595,  56.0090, 2122,      2.5,  29.3077,  35.2430,2,  35.2471,2,    194.5,2,    197.6,2
   3175MB95_02,  IR03,   105,1,     23,     23,2,19950414,0255,  0.5595,  56.0090, 2122,     40.2,  27.8980,  35.4239,2,  35.4333,2,    202.3,2,    204.5,2
   3175MB95_02,  IR03,   105,1,     22,     22,2,19950414,0255,  0.5595,  56.0090, 2122,     81.3,  26.7781,  35.3867,2,  35.4038,3,    185.9,2,    189.2,2
   3175MB95_02,  IR03,   105,1,     21,     21,2,19950414,0255,  0.5595,  56.0090, 2122,    138.3,  15.9623,  35.2446,2,  35.2618,3,    115.9,2,    110.5,2
   3175MB95_02,  IR03,   105,1,     20,     20,2,19950414,0255,  0.5595,  56.0090, 2122,    198.4,  13.4843,  35.1534,2,  35.1498,2,    132.7,2,    128.8,2
   3175MB95_02,  IR03,   105,1,     19,     19,2,19950414,0255,  0.5595,  56.0090, 2122,    259.5,  11.7926,  35.0515,2,  35.0548,2,    106.4,2,    103.1,2
   3175MB95_02,  IR03,   105,1,     18,     18,2,19950414,0255,  0.5595,  56.0090, 2122,    339.3,  10.7708,  35.0041,2,  35.0045,2,     99.5,2,     96.2,2
   3175MB95_02,  IR03,   105,1,     17,     17,2,19950414,0255,  0.5595,  56.0090, 2122,    418.6,  10.2829,  34.9978,2,  34.9983,2,     91.0,2,     88.4,2
   3175MB95_02,  IR03,   105,1,     16,     16,2,19950414,0255,  0.5595,  56.0090, 2122,    499.2,   9.8058,  35.0281,2,  35.0292,2,     68.3,3,     67.1,2
   3175MB95_02,  IR03,   105,1,     15,     15,2,19950414,0255,  0.5595,  56.0090, 2122,    599.6,   9.2757,  35.0365,2,  35.0372,2,     63.0,2,     53.6,2
   3175MB95_02,  IR03,   105,1,     14,     14,2,19950414,0255,  0.5595,  56.0090, 2122,    687.6,   8.6658,  35.0442,2,  35.0453,2,     53.1,2,     52.3,2
   3175MB95_02,  IR03,   105,1,     13,     13,2,19950414,0255,  0.5595,  56.0090, 2122,    799.1,   8.1504,  35.0763,2,  35.0778,2,     46.5,2,     45.7,2
   3175MB95_02,  IR03,   105,1,     12,     12,2,19950414,0255,  0.5595,  56.0090, 2122,    899.1,   7.4337,  35.0250,2,  35.0249,2,     48.5,2,     48.0,2
   3175MB95_02,  IR03,   105,1,     11,     11,2,19950414,0255,  0.5595,  56.0090, 2122,    998.2,   6.9996,  35.0002,2,  35.0038,2,     51.3,2,     50.1,2
   3175MB95_02,  IR03,   105,1,     10,     10,2,19950414,0255,  0.5595,  56.0090, 2122,   1095.6,   6.5694,  34.9979,2,  34.9957,2,     54.9,2,     52.7,2
   3175MB95_02,  IR03,   105,1,      9,      9,2,19950414,0255,  0.5595,  56.0090, 2122,   1198.2,   6.0678,  34.9596,2,  34.9592,2,     61.9,2,     60.3,2
   3175MB95_02,  IR03,   105,1,      8,      8,2,19950414,0255,  0.5595,  56.0090, 2122,   1295.6,   5.1932,  34.9030,2,  34.9035,2,     76.5,2,     74.2,2
   3175MB95_02,  IR03,   105,1,      7,      7,2,19950414,0255,  0.5595,  56.0090, 2122,   1446.9,   4.5061,  34.8687,2,  34.8705,2,     89.5,2,     86.8,2
   3175MB95_02,  IR03,   105,1,      6,      6,2,19950414,0255,  0.5595,  56.0090, 2122,   1596.7,   3.9632,  34.8337,2,  34.8348,2,    102.0,2,    100.6,2
   3175MB95_02,  IR03,   105,1,      5,      5,2,19950414,0255,  0.5595,  56.0090, 2122,   1745.1,   3.4615,  34.8099,2,  34.8098,2,    113.8,2,    111.2,2
   3175MB95_02,  IR03,   105,1,      4,      4,2,19950414,0255,  0.5595,  56.0090, 2122,   1897.1,   3.0259,  34.7903,2,  34.7909,2,    124.7,2,    122.0,2
   3175MB95_02,  IR03,   105,1,      3,      3,2,19950414,0255,  0.5595,  56.0090, 2122,   2050.0,   2.6618,  34.7751,2,  34.7765,2,    134.3,2,    130.4,2
   3175MB95_02,  IR03,   105,1,      2,      2,2,19950414,0255,  0.5595,  56.0090, 2122,   2199.2,   2.4404,  34.7672,2,  34.7682,2,    139.6,2,    136.2,2
   3175MB95_02,  IR03,   105,1,      1,      1,2,19950414,0255,  0.5595,  56.0090, 2122,   2288.0,   2.3352,  34.7629,2,  34.7638,2,    142.8,2,    139.6,2