BOTTLE,20220630CCHSIOAMB
EXPOCODE,SECT_ID,STNNBR,CASTNO,SAMPNO,BTLNBR,BTLNBR_FLAG_W,DATE,TIME,LATITUDE,LONGITUDE,DEPTH,CTDPRS,CTDTMP,CTDSAL,CTDSAL_FLAG_W,SALNTY,SALNTY_FLAG_W,CTDOXY,CTDOXY_FLAG_W,OXYGEN,OXYGEN_FLAG_W
,,,,,,,,,,,,DBAR,ITS-90,PSS-78,,PSS-78,,UMOL/KG,,UMOL/KG,
   3175MB95_02,  IR03,    36,1,     24,     24,2,19950328,1137,-29.4927,  55.0080, 5158,      3.7,  23.5403,  35.6945,2,  35.6934,2,    212.9,2,    213.4,2
   3175MB95_02,  IR03,    36,1,     23,     23,2,19950328,1137,-29.4927,  55.0080, 5158,     29.2,  23.5476,  35.6933,2,  35.6934,2,    212.5,2,    212.8,2
   3175MB95_02,  IR03,    36,1,     22,     22,2,19950328,1137,-29.4927,  55.0080, 5158,     82.4,  20.5537,  35.6210,2,  35.6259,2,    225.2,2,    231.8,2
   3175MB95_02,  IR03,    36,1,     21,     21,2,19950328,1137,-29.4927,  55.0080, 5158,    129.6,  18.1687,  35.6290,2,  35.6341,2,    208.6,2,    206.3,2
   3175MB95_02,  IR03,    36,1,     20,     20,2,19950328,1137,-29.4927,  55.0080, 5158,    199.2,  16.0523,  35.5549,2,  35.5556,2,    217.2,2,    214.0,2
   3175MB95_02,  IR03,    36,1,     19,     19,2,19950328,1137,-29.4927,  55.0080, 5158,    300.0,  14.2159,  35.3997,2,  35.4018,2,    224.6,2,    221.9,2
   3175MB95_02,  IR03,    36,1,     18,     18,2,19950328,1137,-29.4927,  55.0080, 5158,    400.5,  13.3270,  35.2889,2,  35.2886,2,    229.1,2,    227.2,2
   3175MB95_02,  IR03,    36,1,     17,     17,2,19950328,1137,-29.4927,  55.0080, 5158,    500.6,  12.5194,  35.1594,2,  35.1551,2,    227.9,2,    227.3,2
   3175MB95_02,  IR03,    36,1,     16,     16,2,19950328,1137,-29.4927,  55.0080, 5158,    649.6,  11.1726,  34.9520,2,  34.9513,2,    225.2,2,    227.7,2
   3175MB95_02,  IR03,    36,1,     15,     15,2,19950328,1137,-29.4927,  55.0080, 5158,    800.7,   9.5315,  34.7365,2,  34.7364,2,    213.2,2,    217.2,2
   3175MB95_02,  IR03,    36,1,     14,     14,2,19950328,1137,-29.4927,  55.0080, 5158,    990.0,   6.9991,  34.5117,2,  34.5148,2,    197.3,2,    202.3,2
   3175MB95_02,  IR03,    36,1,     13,     13,2,19950328,1137,-29.4927,  55.0080, 5158,   1300.1,   3.8925,  34.4364,2,  34.4361,2,    180.2,2,    184.7,2
   3175MB95_02,  IR03,    36,1,     12,     12,2,19950328,1137,-29.4927,  55.0080, 5158,   1601.3,   3.0110,  34.5746,2,  34.5735,2,    167.7,2,    169.6,2
   3175MB95_02,  IR03,    36,1,     11,     11,2,19950328,1137,-29.4927,  55.0080, 5158,   1900.4,   2.5515,  34.6772,2,  34.6762,2,    172.2,2,    174.1,2
   3175MB95_02,  IR03,    36,1,     10,     10,2,19950328,1137,-29.4927,  55.0080, 5158,   2200.2,   2.3391,  34.7265,2,  34.7303,2,    176.2,7,    178.4,2
   3175MB95_02,  IR03,    36,1,      9,      9,2,19950328,1137,-29.4927,  55.0080, 5158,   2500.5,   2.2055,  34.7505,2,  34.7511,2,    179.0,2,    182.6,2
   3175MB95_02,  IR03,    36,1,      8,      8,2,19950328,1137,-29.4927,  55.0080, 5158,   2799.4,   1.9915,  34.7501,2,  34.7492,2,    176.2,2,    179.1,2
   3175MB95_02,  IR03,    36,1,      7,      7,2,19950328,1137,-29.4927,  55.0080, 5158,   3101.0,   1.7682,  34.7424,2,  34.7415,2,    179.3,7,    182.0,2
   3175MB95_02,  IR03,    36,1,      6,      6,2,19950328,1137,-29.4927,  55.0080, 5158,   3395.5,   1.4401,  34.7290,2,  34.7271,2,    188.2,2,    191.1,2
   3175MB95_02,  IR03,    36,1,      5,      5,2,19950328,1137,-29.4927,  55.0080, 5158,   3701.3,   1.2239,  34.7199,2,  34.7192,2,    193.2,2,    195.9,2
   3175MB95_02,  IR03,    36,1,      4,      4,2,19950328,1137,-29.4927,  55.0080, 5158,   4000.5,   1.1138,  34.7171,2,  34.7153,2,    200.9,2,    203.7,2
   3175MB95_02,  IR03,    36,1,      3,      3,2,19950328,1137,-29.4927,  55.0080, 5158,   4401.6,   1.0147,  34.7118,2,  34.7130,2,    205.8,2,    208.0,2
   3175MB95_02,  IR03,    36,1,      2,      2,2,19950328,1137,-29.4927,  55.0080, 5158,   4800.1,   1.0025,  34.7094,2,  34.7083,2,    209.3,7,    209.3,2
   3175MB95_02,  IR03,    36,1,      1,      1,2,19950328,1137,-29.4927,  55.0080, 5158,   5330.1,   1.0045,  34.7061,2,  34.7065,2,    214.4,3,    209.8,2
   3175MB95_02,  IR03,    37,1,     24,     24,2,19950328,1758,-28.9973,  55.0002, 4986,      3.4,  23.4866,  35.6609,2,  35.6596,2,    214.2,2,    212.6,2
   3175MB95_02,  IR03,    37,1,     23,     23,2,19950328,1758,-28.9973,  55.0002, 4986,     74.4,  20.2369,  35.6471,2,  35.6509,2,    237.5,2,    237.1,2
   3175MB95_02,  IR03,    37,1,     22,     22,2,19950328,1758,-28.9973,  55.0002, 4986,    149.3,  16.9319,  35.6063,2,  35.6092,2,    222.0,2,    218.6,2
   3175MB95_02,  IR03,    37,1,     21,     21,2,19950328,1758,-28.9973,  55.0002, 4986,    250.4,  14.7159,  35.4472,2,  35.4463,2,    221.8,2,    216.0,2
   3175MB95_02,  IR03,    37,1,     20,     20,2,19950328,1758,-28.9973,  55.0002, 4986,    349.3,  13.6472,  35.3365,2,  35.3345,2,    229.9,2,    225.8,2
   3175MB95_02,  IR03,    37,1,     19,     19,2,19950328,1758,-28.9973,  55.0002, 4986,    449.5,  12.8678,  35.2168,2,  35.2165,2,    230.7,2,    227.8,2
   3175MB95_02,  IR03,    37,1,     18,     18,2,19950328,1758,-28.9973,  55.0002, 4986,    550.7,  11.9426,  35.0678,2,  35.0680,2,    227.3,2,    225.6,2
   3175MB95_02,  IR03,    37,1,     17,     17,2,19950328,1758,-28.9973,  55.0002, 4986,    649.4,  10.8849,  34.9119,2,  34.9126,2,    225.2,2,    224.5,2
   3175MB95_02,  IR03,    37,1,     16,     16,2,19950328,1758,-28.9973,  55.0002, 4986,    744.4,   9.8463,  34.7731,2,  34.7739,2,    220.8,2,    238.4,4
   3175MB95_02,  IR03,    37,1,     15,     15,2,19950328,1758,-28.9973,  55.0002, 4986,    949.2,   7.3567,  34.5388,2,  34.5387,2,    200.5,2,    203.5,2
   3175MB95_02,  IR03,    37,1,     14,     14,2,19950328,1758,-28.9973,  55.0002, 4986,   1133.4,   5.0128,  34.4141,2,  34.4165,2,    192.7,2,    196.1,2
   3175MB95_02,  IR03,    37,1,     13,     13,2,19950328,1758,-28.9973,  55.0002, 4986,   1348.5,   3.6590,  34.4693,2,  34.4690,2,    174.6,2,    176.6,2
   3175MB95_02,  IR03,    37,1,     12,     12,2,19950328,1758,-28.9973,  55.0002, 4986,   1549.4,   3.0482,  34.5600,2,  34.5581,2,    170.1,2,    171.7,2
   3175MB95_02,  IR03,    37,1,     11,     11,2,19950328,1758,-28.9973,  55.0002, 4986,   1849.5,   2.6284,  34.6621,2,  34.6622,2,    172.2,2,    173.2,2
   3175MB95_02,  IR03,    37,1,     10,     10,2,19950328,1758,-28.9973,  55.0002, 4986,   2149.8,   2.3846,  34.7184,2,  34.7182,2,    176.1,2,    177.8,2
   3175MB95_02,  IR03,    37,1,      9,      9,2,19950328,1758,-28.9973,  55.0002, 4986,   2448.5,   2.2195,  34.7452,2,  34.7451,2,    178.4,2,    179.8,2
   3175MB95_02,  IR03,    37,1,      8,      8,2,19950328,1758,-28.9973,  55.0002, 4986,   2748.3,   2.0394,  34.7516,2,  34.7503,2,    178.2,2,    180.3,2
   3175MB95_02,  IR03,    37,1,      7,      7,2,19950328,1758,-28.9973,  55.0002, 4986,   3037.3,   1.7839,  34.7434,2,  34.7416,2,    178.6,2,    181.2,2
   3175MB95_02,  IR03,    37,1,      6,      6,2,19950328,1758,-28.9973,  55.0002, 4986,   3346.8,   1.5144,  34.7309,2,  34.7294,2,    183.1,2,    185.0,2
   3175MB95_02,  IR03,    37,1,      5,      5,2,19950328,1758,-28.9973,  55.0002, 4986,   3750.5,   1.2671,  34.7202,2,  34.7187,2,    190.9,2,    192.4,2
   3175MB95_02,  IR03,    37,1,      4,      4,2,19950328,1758,-28.9973,  55.0002, 4986,   4049.8,   1.1245,  34.7161,2,  34.7161,2,    200.1,2,    201.4,2
   3175MB95_02,  IR03,    37,1,      3,      3,2,19950328,1758,-28.9973,  55.0002, 4986,   4349.2,   1.0196,  34.7124,2,  34.7108,2,    206.4,2,    207.5,2
   3175MB95_02,  IR03,    37,1,      2,      2,2,19950328,1758,-28.9973,  55.0002, 4986,   4749.1,   0.9633,  34.7073,2,  34.7076,2,    209.5,2,    208.5,2
   3175MB95_02,  IR03,    37,1,      1,      1,2,19950328,1758,-28.9973,  55.0002, 4986,   5068.8,   0.9638,  34.7052,2,  34.7062,2,    212.9,2,    209.2,2
   3175MB95_02,  IR03,    38,1,     24,     24,2,19950329,0214,-28.5032,  55.0017, 4882,      3.6,  23.6984,  35.5593,2,-999.0000,9,    213.6,2,    211.9,2
   3175MB95_02,  IR03,    38,1,     23,     23,2,19950329,0214,-28.5032,  55.0017, 4882,     35.5,  23.6823,  35.5737,2,  35.5595,3,    214.2,2,    211.9,2
   3175MB95_02,  IR03,    38,1,     22,     22,2,19950329,0214,-28.5032,  55.0017, 4882,     80.4,  18.7022,  35.6478,2,  35.5696,4,    236.0,2,    231.0,2
   3175MB95_02,  IR03,    38,1,     21,     21,2,19950329,0214,-28.5032,  55.0017, 4882,    149.8,  16.2428,  35.5669,2,  35.5777,2,    224.8,2,    218.4,2
   3175MB95_02,  IR03,    38,1,     20,     20,2,19950329,0214,-28.5032,  55.0017, 4882,    249.7,  14.6150,  35.4442,2,  35.4403,2,    229.8,2,    223.5,2
   3175MB95_02,  IR03,    38,1,     19,     19,2,19950329,0214,-28.5032,  55.0017, 4882,    348.9,  13.6797,  35.3436,2,  35.3433,2,    233.1,2,    226.7,2
   3175MB95_02,  IR03,    38,1,     18,     18,2,19950329,0214,-28.5032,  55.0017, 4882,    450.3,  12.8655,  35.2172,2,  35.2163,2,    233.6,2,    229.1,2
   3175MB95_02,  IR03,    38,1,     17,     17,2,19950329,0214,-28.5032,  55.0017, 4882,    549.7,  12.0060,  35.0773,2,  35.0778,2,    230.3,2,    226.7,2
   3175MB95_02,  IR03,    38,1,     16,     16,2,19950329,0214,-28.5032,  55.0017, 4882,    701.1,  10.4461,  34.8513,2,  34.8505,2,    224.7,2,    222.6,2
   3175MB95_02,  IR03,    38,1,     15,     15,2,19950329,0214,-28.5032,  55.0017, 4882,    894.3,   7.8642,  34.5756,2,  34.5758,2,    206.8,2,    206.1,2
   3175MB95_02,  IR03,    38,1,     14,     14,2,19950329,0214,-28.5032,  55.0017, 4882,   1098.3,   5.0282,  34.4157,2,  34.4197,2,    195.1,2,    195.3,2
   3175MB95_02,  IR03,    38,1,     13,     13,2,19950329,0214,-28.5032,  55.0017, 4882,   1299.9,   3.9015,  34.4741,2,  34.4182,4,    172.5,2,    195.3,4
   3175MB95_02,  IR03,    38,1,     12,     12,2,19950329,0214,-28.5032,  55.0017, 4882,   1498.9,   3.1051,  34.5473,2,  34.5516,3,    172.6,2,    172.0,2
   3175MB95_02,  IR03,    38,1,     11,     11,2,19950329,0214,-28.5032,  55.0017, 4882,   1800.3,   2.6185,  34.6604,2,  34.6602,2,    172.7,2,    171.7,2
   3175MB95_02,  IR03,    38,1,     10,     10,2,19950329,0214,-28.5032,  55.0017, 4882,   2099.2,   2.4242,  34.7186,2,  34.7205,2,    176.8,2,    172.0,2
   3175MB95_02,  IR03,    38,1,      9,      9,2,19950329,0214,-28.5032,  55.0017, 4882,   2399.1,   2.2153,  34.7445,2,  34.7441,2,    178.3,2,    178.9,2
   3175MB95_02,  IR03,    38,1,      8,      8,2,19950329,0214,-28.5032,  55.0017, 4882,   2663.2,   2.0520,  34.7508,2,  34.7494,2,    177.7,2,    178.6,2
   3175MB95_02,  IR03,    38,1,      7,      7,2,19950329,0214,-28.5032,  55.0017, 4882,   2999.0,   1.8151,  34.7436,2,  34.7420,2,    177.2,2,    178.0,2
   3175MB95_02,  IR03,    38,1,      6,      6,2,19950329,0214,-28.5032,  55.0017, 4882,   3293.5,   1.5424,  34.7319,2,  34.7311,2,    182.7,2,    183.3,2
   3175MB95_02,  IR03,    38,1,      5,      5,2,19950329,0214,-28.5032,  55.0017, 4882,   3601.6,   1.3324,  34.7221,2,  34.7199,2,    187.8,2,    188.1,2
   3175MB95_02,  IR03,    38,1,      4,      4,2,19950329,0214,-28.5032,  55.0017, 4882,   3871.3,   1.2038,  34.7173,2,  34.7178,2,    194.3,2,    194.5,2
   3175MB95_02,  IR03,    38,1,      3,      3,2,19950329,0214,-28.5032,  55.0017, 4882,   4199.0,   1.0657,  34.7129,2,  34.7110,2,    202.6,2,    202.8,2
   3175MB95_02,  IR03,    38,1,      2,      2,2,19950329,0214,-28.5032,  55.0017, 4882,   4599.9,   0.9506,  34.7073,2,  34.7056,2,    209.1,2,    207.6,2
   3175MB95_02,  IR03,    38,1,      1,      1,2,19950329,0214,-28.5032,  55.0017, 4882,   4980.2,   0.9398,  34.7045,2,  34.7027,2,    213.4,2,    208.9,2
   3175MB95_02,  IR03,    39,1,     24,     24,2,19950329,1029,-27.9792,  54.9797, 5048,      7.3,  23.9731,  35.5981,2,  35.5979,2,    213.2,2,    211.7,2
   3175MB95_02,  IR03,    39,1,     23,     23,2,19950329,1029,-27.9792,  54.9797, 5048,    100.5,  17.5194,  35.6536,2,  35.6535,2,    229.6,2,    221.8,2
   3175MB95_02,  IR03,    39,1,     22,     22,2,19950329,1029,-27.9792,  54.9797, 5048,    201.2,  14.9544,  35.4759,2,  35.4775,2,    229.4,2,    223.7,2
   3175MB95_02,  IR03,    39,1,     21,     21,2,19950329,1029,-27.9792,  54.9797, 5048,    299.3,  13.8549,  35.3635,2,  35.3636,2,    231.1,2,    225.5,2
   3175MB95_02,  IR03,    39,1,     20,     20,2,19950329,1029,-27.9792,  54.9797, 5048,    400.2,  13.1522,  35.2640,2,  35.2639,2,    231.5,2,    227.9,2
   3175MB95_02,  IR03,    39,1,     19,     19,2,19950329,1029,-27.9792,  54.9797, 5048,    601.9,  11.2948,  34.9701,2,  34.9703,2,    227.6,2,    226.1,2
   3175MB95_02,  IR03,    39,1,     18,     18,2,19950329,1029,-27.9792,  54.9797, 5048,    800.5,   9.0024,  34.6761,2,  34.6762,2,    214.5,2,    215.5,2
   3175MB95_02,  IR03,    39,1,     17,     17,2,19950329,1029,-27.9792,  54.9797, 5048,   1000.3,   6.3360,  34.4734,2,  34.4750,2,    194.2,2,    197.0,2
   3175MB95_02,  IR03,    39,1,     16,     16,2,19950329,1029,-27.9792,  54.9797, 5048,   1200.3,   4.3947,  34.4677,2,  34.4686,2,    168.0,2,    168.8,2
   3175MB95_02,  IR03,    39,1,     15,     15,2,19950329,1029,-27.9792,  54.9797, 5048,   1401.6,   3.5227,  34.5350,2,  34.5354,2,    160.6,2,    159.7,2
   3175MB95_02,  IR03,    39,1,     14,     14,2,19950329,1029,-27.9792,  54.9797, 5048,   1600.6,   2.9474,  34.5999,2,  34.6007,2,    165.3,2,    165.2,2
   3175MB95_02,  IR03,    39,1,     13,     13,2,19950329,1029,-27.9792,  54.9797, 5048,   1800.5,   2.6491,  34.6564,2,  34.6563,2,    169.8,3,    170.0,2
   3175MB95_02,  IR03,    39,1,     12,     12,2,19950329,1029,-27.9792,  54.9797, 5048,   2002.0,   2.4724,  34.6985,2,  34.6985,2,    173.9,2,    174.9,2
   3175MB95_02,  IR03,    39,1,     11,     11,2,19950329,1029,-27.9792,  54.9797, 5048,   2190.4,   2.3321,  34.7332,2,  34.7334,2,    176.3,2,    178.4,2
   3175MB95_02,  IR03,    39,1,     10,     10,2,19950329,1029,-27.9792,  54.9797, 5048,   2403.4,   2.2386,  34.7443,2,  34.7432,2,    175.7,2,    178.1,2
   3175MB95_02,  IR03,    39,1,      9,      9,2,19950329,1029,-27.9792,  54.9797, 5048,   2701.1,   2.0504,  34.7471,2,  34.7473,2,    171.6,2,    173.9,2
   3175MB95_02,  IR03,    39,1,      8,      8,2,19950329,1029,-27.9792,  54.9797, 5048,   3003.4,   1.8294,  34.7411,2,  34.7416,2,    172.2,2,    173.4,2
   3175MB95_02,  IR03,    39,1,      7,      7,2,19950329,1029,-27.9792,  54.9797, 5048,   3301.1,   1.5868,  34.7330,2,  34.7319,2,    179.9,2,    181.9,2
   3175MB95_02,  IR03,    39,1,      6,      6,2,19950329,1029,-27.9792,  54.9797, 5048,   3601.5,   1.3578,  34.7236,2,  34.7225,2,    187.6,2,    189.0,2
   3175MB95_02,  IR03,    39,1,      5,      5,2,19950329,1029,-27.9792,  54.9797, 5048,   3902.5,   1.1882,  34.7171,2,  34.7192,2,    194.8,2,    196.7,2
   3175MB95_02,  IR03,    39,1,      4,      4,2,19950329,1029,-27.9792,  54.9797, 5048,   4187.5,   1.0616,  34.7118,2,  34.7106,2,    200.3,2,    201.7,2
   3175MB95_02,  IR03,    39,1,      3,      3,2,19950329,1029,-27.9792,  54.9797, 5048,   4501.5,   0.9856,  34.7084,2,  34.7071,2,    204.9,2,    205.6,2
   3175MB95_02,  IR03,    39,1,      2,      2,2,19950329,1029,-27.9792,  54.9797, 5048,   4803.6,   0.9367,  34.7052,2,  34.7041,2,    208.9,2,    208.1,2
   3175MB95_02,  IR03,    39,1,      1,      1,2,19950329,1029,-27.9792,  54.9797, 5048,   5151.4,   0.9540,  34.7037,2,  34.7055,2,    212.5,2,    209.2,2
   3175MB95_02,  IR03,    40,1,     24,     24,2,19950329,1703,-27.5025,  55.0002, 5113,      2.9,  24.9639,  35.5712,2,  35.5810,2,    208.6,2,    208.8,2
   3175MB95_02,  IR03,    40,1,     23,     23,2,19950329,1703,-27.5025,  55.0002, 5113,     48.9,  24.9704,  35.5783,2,  35.5826,2,    208.6,2,    207.9,2
   3175MB95_02,  IR03,    40,1,     22,     22,2,19950329,1703,-27.5025,  55.0002, 5113,     89.8,  19.4990,  35.6590,2,  35.6635,2,    226.8,2,    226.3,2
   3175MB95_02,  IR03,    40,1,     21,     21,2,19950329,1703,-27.5025,  55.0002, 5113,    199.3,  15.7541,  35.5349,2,  35.5356,2,    216.4,2,    212.2,2
   3175MB95_02,  IR03,    40,1,     20,     20,2,19950329,1703,-27.5025,  55.0002, 5113,    300.1,  14.0235,  35.3779,2,  35.3797,2,    226.0,2,    221.4,2
   3175MB95_02,  IR03,    40,1,     19,     19,2,19950329,1703,-27.5025,  55.0002, 5113,    392.4,  13.1770,  35.2684,2,  35.2705,2,    231.1,2,    230.2,2
   3175MB95_02,  IR03,    40,1,     18,     18,2,19950329,1703,-27.5025,  55.0002, 5113,    500.4,  12.1029,  35.0946,2,  35.0969,2,    230.1,2,    227.0,2
   3175MB95_02,  IR03,    40,1,     17,     17,2,19950329,1703,-27.5025,  55.0002, 5113,    599.2,  11.0936,  34.9417,2,  34.9408,2,    228.4,2,    227.2,2
   3175MB95_02,  IR03,    40,1,     16,     16,2,19950329,1703,-27.5025,  55.0002, 5113,    685.9,   9.9911,  34.7910,2,  34.7903,2,    225.2,2,    223.5,2
   3175MB95_02,  IR03,    40,1,     15,     15,2,19950329,1703,-27.5025,  55.0002, 5113,    795.8,   8.5674,  34.6316,2,  34.6312,2,    211.3,2,    212.2,2
   3175MB95_02,  IR03,    40,1,     14,     14,2,19950329,1703,-27.5025,  55.0002, 5113,    900.1,   7.0904,  34.5172,2,  34.5194,2,    198.9,2,    200.8,2
   3175MB95_02,  IR03,    40,1,     13,     13,2,19950329,1703,-27.5025,  55.0002, 5113,   1098.9,   4.7491,  34.4309,2,  34.4338,2,    182.0,2,    183.6,2
   3175MB95_02,  IR03,    40,1,     12,     12,2,19950329,1703,-27.5025,  55.0002, 5113,   1299.3,   3.5482,  34.4894,2,  34.4896,2,    168.1,2,    169.7,2
   3175MB95_02,  IR03,    40,1,     11,     11,2,19950329,1703,-27.5025,  55.0002, 5113,   1498.7,   3.1073,  34.5774,2,  34.5767,2,    163.0,2,    163.1,2
   3175MB95_02,  IR03,    40,1,     10,     10,2,19950329,1703,-27.5025,  55.0002, 5113,   1699.5,   2.7263,  34.6446,2,  34.6460,2,    168.7,2,    169.4,2
   3175MB95_02,  IR03,    40,1,      9,      9,2,19950329,1703,-27.5025,  55.0002, 5113,   2000.9,   2.4223,  34.7133,2,  34.7129,2,    173.1,2,    174.9,2
   3175MB95_02,  IR03,    40,1,      8,      8,2,19950329,1703,-27.5025,  55.0002, 5113,   2399.8,   2.1466,  34.7394,2,  34.7382,2,    167.2,2,    169.3,2
   3175MB95_02,  IR03,    40,1,      7,      7,2,19950329,1703,-27.5025,  55.0002, 5113,   2800.0,   1.9137,  34.7383,2,  34.7366,2,    164.2,2,    165.5,2
   3175MB95_02,  IR03,    40,1,      6,      6,2,19950329,1703,-27.5025,  55.0002, 5113,   3198.1,   1.6684,  34.7310,2,  34.7300,2,    171.2,2,    172.5,2
   3175MB95_02,  IR03,    40,1,      5,      5,2,19950329,1703,-27.5025,  55.0002, 5113,   3559.3,   1.4554,  34.7251,2,  34.7245,2,    180.5,2,    181.8,2
   3175MB95_02,  IR03,    40,1,      4,      4,2,19950329,1703,-27.5025,  55.0002, 5113,   4002.6,   1.2073,  34.7165,2,  34.7167,2,    192.6,2,    194.1,2
   3175MB95_02,  IR03,    40,1,      3,      3,2,19950329,1703,-27.5025,  55.0002, 5113,   4401.0,   1.0183,  34.7101,2,  34.7093,2,    203.0,2,    204.0,2
   3175MB95_02,  IR03,    40,1,      2,      2,2,19950329,1703,-27.5025,  55.0002, 5113,   4804.3,   0.9524,  34.7054,2,  34.7090,2,    208.1,2,    207.3,2
   3175MB95_02,  IR03,    40,1,      1,      1,2,19950329,1703,-27.5025,  55.0002, 5113,   5228.3,   0.9559,  34.7035,2,  34.7036,2,    213.8,2,    209.4,2