BOTTLE,20220630CCHSIOAMB
EXPOCODE,SECT_ID,STNNBR,CASTNO,SAMPNO,BTLNBR,BTLNBR_FLAG_W,DATE,TIME,LATITUDE,LONGITUDE,DEPTH,CTDPRS,CTDTMP,CTDSAL,CTDSAL_FLAG_W,SALNTY,SALNTY_FLAG_W,CTDOXY,CTDOXY_FLAG_W,OXYGEN,OXYGEN_FLAG_W
,,,,,,,,,,,,DBAR,ITS-90,PSS-78,,PSS-78,,UMOL/KG,,UMOL/KG,
   3175MB95_02,  IR03,    56,1,     24,     24,2,19950402,1309,-19.0000,  55.0013, 4303,      2.5,  28.1055,  35.2465,2,  35.2498,2,    195.6,2,    198.0,2
   3175MB95_02,  IR03,    56,1,     23,     23,2,19950402,1309,-19.0000,  55.0013, 4303,     40.4,  26.6396,  35.2259,2,  35.2224,2,    203.3,2,    205.2,2
   3175MB95_02,  IR03,    56,1,     22,     22,2,19950402,1309,-19.0000,  55.0013, 4303,     80.4,  23.7985,  35.2166,2,  35.2244,2,    208.1,2,    210.7,2
   3175MB95_02,  IR03,    56,1,     21,     21,2,19950402,1309,-19.0000,  55.0013, 4303,    148.7,  20.5582,  35.5030,2,  35.5114,2,    191.4,2,    190.3,2
   3175MB95_02,  IR03,    56,1,     20,     20,2,19950402,1309,-19.0000,  55.0013, 4303,    222.9,  17.8984,  35.5429,2,  35.5329,3,    171.6,2,    174.0,2
   3175MB95_02,  IR03,    56,1,     19,     19,2,19950402,1309,-19.0000,  55.0013, 4303,    298.4,  15.0645,  35.3642,2,  35.3685,2,    175.5,2,    169.3,2
   3175MB95_02,  IR03,    56,1,     18,     18,2,19950402,1309,-19.0000,  55.0013, 4303,    374.5,  13.5335,  35.2865,2,  35.2815,2,    213.8,2,    211.5,2
   3175MB95_02,  IR03,    56,1,     17,     17,2,19950402,1309,-19.0000,  55.0013, 4303,    449.4,  11.8958,  35.0638,2,  35.0604,2,    222.1,2,    221.1,2
   3175MB95_02,  IR03,    56,1,     16,     16,2,19950402,1309,-19.0000,  55.0013, 4303,    496.0,  11.0860,  34.9472,2,  34.9507,2,    221.6,2,    221.9,2
   3175MB95_02,  IR03,    56,1,     15,     15,2,19950402,1309,-19.0000,  55.0013, 4303,    599.3,   9.3883,  34.7253,2,  34.7251,2,    205.9,2,    208.4,2
   3175MB95_02,  IR03,    56,1,     14,     14,2,19950402,1309,-19.0000,  55.0013, 4303,    755.0,   6.8069,  34.5541,2,  34.5637,3,    165.7,2,    170.6,2
   3175MB95_02,  IR03,    56,1,     13,     13,2,19950402,1309,-19.0000,  55.0013, 4303,    898.9,   5.6635,  34.6461,2,  34.6455,2,    124.5,2,    124.5,2
   3175MB95_02,  IR03,    56,1,     12,     12,2,19950402,1309,-19.0000,  55.0013, 4303,   1098.4,   4.6582,  34.6497,2,  34.6508,2,    125.9,2,    124.3,2
   3175MB95_02,  IR03,    56,1,     11,     11,2,19950402,1309,-19.0000,  55.0013, 4303,   1298.3,   3.9541,  34.6612,2,  34.6620,2,    134.9,3,    133.2,2
   3175MB95_02,  IR03,    56,1,     10,     10,2,19950402,1309,-19.0000,  55.0013, 4303,   1597.5,   3.0671,  34.6659,2,  34.6661,2,    153.0,2,    153.0,2
   3175MB95_02,  IR03,    56,1,      9,      9,2,19950402,1309,-19.0000,  55.0013, 4303,   1897.2,   2.4830,  34.7129,2,  34.7131,2,    158.6,2,    159.8,2
   3175MB95_02,  IR03,    56,1,      8,      8,2,19950402,1309,-19.0000,  55.0013, 4303,   2196.8,   2.2196,  34.7287,2,  34.7291,2,    159.1,2,    160.7,2
   3175MB95_02,  IR03,    56,1,      7,      7,2,19950402,1309,-19.0000,  55.0013, 4303,   2503.1,   2.0182,  34.7388,2,  34.7393,2,    157.0,2,    158.4,2
   3175MB95_02,  IR03,    56,1,      6,      6,2,19950402,1309,-19.0000,  55.0013, 4303,   2802.8,   1.8881,  34.7388,2,  34.7417,2,    158.6,2,    159.8,2
   3175MB95_02,  IR03,    56,1,      5,      5,2,19950402,1309,-19.0000,  55.0013, 4303,   3098.2,   1.7874,  34.7373,2,  34.7362,2,    161.5,2,    162.5,2
   3175MB95_02,  IR03,    56,1,      4,      4,2,19950402,1309,-19.0000,  55.0013, 4303,   3399.9,   1.6840,  34.7328,2,  34.7324,2,    167.0,2,    167.7,2
   3175MB95_02,  IR03,    56,1,      3,      3,2,19950402,1309,-19.0000,  55.0013, 4303,   3696.1,   1.5373,  34.7276,2,  34.7290,2,    175.1,2,    174.9,2
   3175MB95_02,  IR03,    56,1,      2,      2,2,19950402,1309,-19.0000,  55.0013, 4303,   3998.8,   1.3894,  34.7223,2,  34.7236,2,    183.3,2,    183.1,2
   3175MB95_02,  IR03,    56,1,      1,      1,2,19950402,1309,-19.0000,  55.0013, 4303,   4318.1,   1.2281,  34.7160,2,  34.7176,2,    194.1,2,    192.8,2
   3175MB95_02,  IR03,    57,1,     24,     24,2,19950404,0018,-18.4987,  55.0025, 4717,      3.8,  27.8630,  34.9985,2,  34.9990,2,    200.5,2,    197.9,2
   3175MB95_02,  IR03,    57,1,     23,     23,2,19950404,0018,-18.4987,  55.0025, 4717,     50.4,  26.4284,  35.2049,2,  35.2036,2,    210.5,2,    205.9,2
   3175MB95_02,  IR03,    57,1,     22,     22,2,19950404,0018,-18.4987,  55.0025, 4717,    124.4,  21.7611,  35.3215,2,  35.3227,2,    187.7,2,    183.1,2
   3175MB95_02,  IR03,    57,1,     21,     21,2,19950404,0018,-18.4987,  55.0025, 4717,    200.5,  19.0161,  35.5717,2,  35.5719,2,    185.4,2,    180.4,2
   3175MB95_02,  IR03,    57,1,     20,     20,2,19950404,0018,-18.4987,  55.0025, 4717,    275.6,  16.1362,  35.5345,2,  35.5354,2,    202.0,2,    194.7,2
   3175MB95_02,  IR03,    57,1,     19,     19,2,19950404,0018,-18.4987,  55.0025, 4717,    350.5,  13.8732,  35.3393,2,  35.3382,2,    222.9,2,    216.4,2
   3175MB95_02,  IR03,    57,1,     18,     18,2,19950404,0018,-18.4987,  55.0025, 4717,    452.2,  11.7419,  35.0441,2,  35.0440,2,    231.2,2,    226.2,2
   3175MB95_02,  IR03,    57,1,     17,     17,2,19950404,0018,-18.4987,  55.0025, 4717,    573.4,   9.4571,  34.7362,2,  34.7387,2,    217.1,2,    215.2,2
   3175MB95_02,  IR03,    57,1,     16,     16,2,19950404,0018,-18.4987,  55.0025, 4717,    699.7,   7.3218,  34.5894,2,  34.5904,2,    169.7,2,    170.3,2
   3175MB95_02,  IR03,    57,1,     15,     15,2,19950404,0018,-18.4987,  55.0025, 4717,    849.5,   5.9110,  34.5969,2,  34.5954,2,    141.8,2,    139.2,2
   3175MB95_02,  IR03,    57,1,     14,     14,2,19950404,0018,-18.4987,  55.0025, 4717,   1049.3,   5.1524,  34.6805,2,  34.6789,2,    119.9,2,    116.7,2
   3175MB95_02,  IR03,    57,1,     13,     13,2,19950404,0018,-18.4987,  55.0025, 4717,   1235.7,   4.3448,  34.6758,2,  34.6746,2,    128.8,2,    124.9,2
   3175MB95_02,  IR03,    57,1,     12,     12,2,19950404,0018,-18.4987,  55.0025, 4717,   1491.2,   3.1993,  34.6595,2,  34.6574,2,    152.7,2,    162.0,3
   3175MB95_02,  IR03,    57,1,     11,     11,2,19950404,0018,-18.4987,  55.0025, 4717,   1743.6,   2.7234,  34.6963,2,  34.6940,2,    158.8,2,    157.9,2
   3175MB95_02,  IR03,    57,1,     10,     10,2,19950404,0018,-18.4987,  55.0025, 4717,   1999.4,   2.4141,  34.7248,2,  34.7229,2,    158.2,2,    157.6,2
   3175MB95_02,  IR03,    57,1,      9,      9,2,19950404,0018,-18.4987,  55.0025, 4717,   2248.1,   2.2374,  34.7360,2,  34.7340,2,    157.2,2,    156.4,2
   3175MB95_02,  IR03,    57,1,      8,      8,2,19950404,0018,-18.4987,  55.0025, 4717,   2494.9,   2.0772,  34.7408,2,  34.7386,2,    157.3,2,    156.5,2
   3175MB95_02,  IR03,    57,1,      7,      7,2,19950404,0018,-18.4987,  55.0025, 4717,   2740.2,   1.9633,  34.7408,2,  34.7385,2,    158.7,2,    158.4,2
   3175MB95_02,  IR03,    57,1,      6,      6,2,19950404,0018,-18.4987,  55.0025, 4717,   2996.1,   1.8839,  34.7395,2,  34.7400,2,    160.9,2,    159.5,2
   3175MB95_02,  IR03,    57,1,      5,      5,2,19950404,0018,-18.4987,  55.0025, 4717,   3249.8,   1.7762,  34.7364,2,  34.7336,2,    164.5,2,    163.3,2
   3175MB95_02,  IR03,    57,1,      4,      4,2,19950404,0018,-18.4987,  55.0025, 4717,   3497.5,   1.6519,  34.7322,2,  34.7302,2,    170.5,2,    169.0,2
   3175MB95_02,  IR03,    57,1,      3,      3,2,19950404,0018,-18.4987,  55.0025, 4717,   3799.2,   1.4936,  34.7267,2,  34.7237,2,    179.1,2,    176.9,2
   3175MB95_02,  IR03,    57,1,      2,      2,2,19950404,0018,-18.4987,  55.0025, 4717,   4099.7,   1.2818,  34.7188,2,  34.7169,2,    191.2,2,    188.9,2
   3175MB95_02,  IR03,    57,1,      1,      1,2,19950404,0018,-18.4987,  55.0025, 4717,   4383.2,   1.1464,  34.7133,2,  34.7110,2,    200.7,2,    196.6,2
   3175MB95_02,  IR03,    58,1,     24,     24,2,19950404,0540,-18.0185,  55.0008, 4594,      2.1,  28.1829,  34.8945,2,  34.8953,2,    199.1,2,    197.1,2
   3175MB95_02,  IR03,    58,1,     23,     23,2,19950404,0540,-18.0185,  55.0008, 4594,     27.0,  27.2617,  34.9791,2,  34.9866,2,    205.0,2,    203.0,2
   3175MB95_02,  IR03,    58,1,     22,     22,2,19950404,0540,-18.0185,  55.0008, 4594,     75.2,  23.7842,  35.1992,2,  35.2031,2,    208.4,2,    207.7,2
   3175MB95_02,  IR03,    58,1,     21,     21,2,19950404,0540,-18.0185,  55.0008, 4594,    169.9,  19.5839,  35.5096,2,  35.5121,2,    182.7,2,    176.7,2
   3175MB95_02,  IR03,    58,1,     20,     20,2,19950404,0540,-18.0185,  55.0008, 4594,    226.6,  16.9489,  35.5288,2,  35.5341,2,    189.2,2,    181.0,2
   3175MB95_02,  IR03,    58,1,     19,     19,2,19950404,0540,-18.0185,  55.0008, 4594,    298.4,  14.4947,  35.4056,2,  35.4116,2,    218.2,2,    210.7,2
   3175MB95_02,  IR03,    58,1,     18,     18,2,19950404,0540,-18.0185,  55.0008, 4594,    401.2,  12.1286,  35.1005,2,  35.1022,2,    230.8,2,    225.4,2
   3175MB95_02,  IR03,    58,1,     17,     17,2,19950404,0540,-18.0185,  55.0008, 4594,    496.3,  10.5635,  34.8767,2,  34.6859,4,    226.5,2,    225.2,2
   3175MB95_02,  IR03,    58,1,     16,     16,2,19950404,0540,-18.0185,  55.0008, 4594,    658.7,   8.0541,  34.6337,2,  34.6276,3,    182.2,2,    180.0,2
   3175MB95_02,  IR03,    58,1,     15,     15,2,19950404,0540,-18.0185,  55.0008, 4594,    999.2,   5.2609,  34.6805,2,  34.6801,2,    119.4,2,    115.1,2
   3175MB95_02,  IR03,    58,1,     14,     14,2,19950404,0540,-18.0185,  55.0008, 4594,   1194.9,   4.2546,  34.6624,2,  34.6627,2,    130.9,2,    127.7,2
   3175MB95_02,  IR03,    58,1,     13,     13,2,19950404,0540,-18.0185,  55.0008, 4594,   1500.7,   3.1871,  34.6673,2,  34.6680,2,    151.6,2,    149.4,2
   3175MB95_02,  IR03,    58,1,     12,     12,2,19950404,0540,-18.0185,  55.0008, 4594,   1798.0,   2.5490,  34.7120,2,  34.7102,2,    158.9,2,    158.4,2
   3175MB95_02,  IR03,    58,1,     11,     11,2,19950404,0540,-18.0185,  55.0008, 4594,   2099.1,   2.3162,  34.7333,2,  34.7321,2,    156.4,2,    155.6,2
   3175MB95_02,  IR03,    58,1,     10,     10,2,19950404,0540,-18.0185,  55.0008, 4594,   2297.5,   2.1871,  34.7379,2,  34.7355,2,    156.6,2,    156.2,2
   3175MB95_02,  IR03,    58,1,      9,      9,2,19950404,0540,-18.0185,  55.0008, 4594,   2497.3,   2.0665,  34.7402,2,  34.7396,2,    156.9,2,    156.7,2
   3175MB95_02,  IR03,    58,1,      8,      8,2,19950404,0540,-18.0185,  55.0008, 4594,   2790.9,   1.9436,  34.7403,2,  34.7387,2,    158.6,2,    158.0,2
   3175MB95_02,  IR03,    58,1,      7,      7,2,19950404,0540,-18.0185,  55.0008, 4594,   3100.8,   1.8268,  34.7383,2,  34.7357,2,    162.0,2,    161.2,2
   3175MB95_02,  IR03,    58,1,      6,      6,2,19950404,0540,-18.0185,  55.0008, 4594,   3294.0,   1.7409,  34.7351,2,  34.7330,2,    165.5,2,    161.0,2
   3175MB95_02,  IR03,    58,1,      5,      5,2,19950404,0540,-18.0185,  55.0008, 4594,   3501.3,   1.6562,  34.7322,2,  34.7303,2,    169.3,2,    168.4,2
   3175MB95_02,  IR03,    58,1,      4,      4,2,19950404,0540,-18.0185,  55.0008, 4594,   3801.0,   1.5009,  34.7267,2,  34.7197,3,    177.8,2,    176.8,2
   3175MB95_02,  IR03,    58,1,      3,      3,2,19950404,0540,-18.0185,  55.0008, 4594,   4099.9,   1.3585,  34.7214,2,  34.7248,2,    186.3,2,    185.0,2
   3175MB95_02,  IR03,    58,1,      2,      2,2,19950404,0540,-18.0185,  55.0008, 4594,   4396.8,   1.1808,  34.7146,2,  34.7121,2,    197.2,2,    194.9,2
   3175MB95_02,  IR03,    58,1,      1,      1,2,19950404,0540,-18.0185,  55.0008, 4594,   4678.1,   1.1016,  34.7107,2,  34.7074,2,    204.2,2,    200.5,2
   3175MB95_02,  IR03,    59,1,     24,     24,2,19950404,1122,-17.5397,  54.9987, 4640,      3.8,  28.2056,  34.8406,2,  34.8399,2,    198.8,2,    196.8,2
   3175MB95_02,  IR03,    59,1,     23,     23,2,19950404,1122,-17.5397,  54.9987, 4640,     30.3,  27.9673,  34.9041,2,  34.9055,2,    201.4,2,    198.7,2
   3175MB95_02,  IR03,    59,1,     22,     22,2,19950404,1122,-17.5397,  54.9987, 4640,     75.9,  24.1887,  35.1677,2,  35.1568,3,    213.1,2,    209.9,2
   3175MB95_02,  IR03,    59,1,     21,     21,2,19950404,1122,-17.5397,  54.9987, 4640,    124.1,  21.7963,  35.3363,2,  35.3387,2,    189.9,2,    186.5,2
   3175MB95_02,  IR03,    59,1,     20,     20,2,19950404,1122,-17.5397,  54.9987, 4640,    175.5,  19.9248,  35.4694,2,  35.4741,2,    178.3,2,    173.6,2
   3175MB95_02,  IR03,    59,1,     19,     19,2,19950404,1122,-17.5397,  54.9987, 4640,    248.1,  16.5207,  35.5674,2,  35.5676,2,    203.1,2,    195.3,2
   3175MB95_02,  IR03,    59,1,     18,     18,2,19950404,1122,-17.5397,  54.9987, 4640,    314.6,  13.6036,  35.3046,2,  35.3074,2,    225.9,2,    218.7,2
   3175MB95_02,  IR03,    59,1,     17,     17,2,19950404,1122,-17.5397,  54.9987, 4640,    399.5,  11.8458,  35.0597,2,  35.0563,2,    232.4,2,    226.5,2
   3175MB95_02,  IR03,    59,1,     16,     16,2,19950404,1122,-17.5397,  54.9987, 4640,    497.0,  10.4511,  34.8610,2,  34.8622,2,    228.1,2,    225.0,2
   3175MB95_02,  IR03,    59,1,     15,     15,2,19950404,1122,-17.5397,  54.9987, 4640,    580.5,   9.5668,  34.7507,2,  34.7512,2,    218.5,2,    218.0,2
   3175MB95_02,  IR03,    59,1,     14,     14,2,19950404,1122,-17.5397,  54.9987, 4640,    762.7,   6.2972,  34.5628,2,  34.5708,3,    153.1,2,    152.7,2
   3175MB95_02,  IR03,    59,1,     13,     13,2,19950404,1122,-17.5397,  54.9987, 4640,    977.3,   5.3792,  34.7028,2,  34.7015,2,    113.7,2,    110.3,2
   3175MB95_02,  IR03,    59,1,     12,     12,2,19950404,1122,-17.5397,  54.9987, 4640,   1301.7,   3.9272,  34.6628,2,  34.6625,2,    136.4,2,    133.8,2
   3175MB95_02,  IR03,    59,1,     11,     11,2,19950404,1122,-17.5397,  54.9987, 4640,   1598.9,   2.9710,  34.6810,2,  34.6810,2,    154.5,2,    152.9,2
   3175MB95_02,  IR03,    59,1,     10,     10,2,19950404,1122,-17.5397,  54.9987, 4640,   1902.2,   2.4506,  34.7155,2,  34.7152,2,    159.7,2,    159.2,2
   3175MB95_02,  IR03,    59,1,      9,      9,2,19950404,1122,-17.5397,  54.9987, 4640,   2201.5,   2.1578,  34.7318,2,  34.7247,3,    160.2,2,    160.2,2
   3175MB95_02,  IR03,    59,1,      8,      8,2,19950404,1122,-17.5397,  54.9987, 4640,   2503.5,   2.0466,  34.7373,2,  34.7370,2,    158.8,2,    159.0,2
   3175MB95_02,  IR03,    59,1,      7,      7,2,19950404,1122,-17.5397,  54.9987, 4640,   2800.9,   1.9122,  34.7385,2,  34.7380,2,    159.9,2,    159.7,2
   3175MB95_02,  IR03,    59,1,      6,      6,2,19950404,1122,-17.5397,  54.9987, 4640,   3099.4,   1.7900,  34.7371,2,  34.7364,2,    162.6,2,    162.4,2
   3175MB95_02,  IR03,    59,1,      5,      5,2,19950404,1122,-17.5397,  54.9987, 4640,   3403.7,   1.6626,  34.7326,2,  34.7309,2,    168.4,2,    167.6,2
   3175MB95_02,  IR03,    59,1,      4,      4,2,19950404,1122,-17.5397,  54.9987, 4640,   3701.0,   1.5396,  34.7280,2,  34.7277,2,    175.1,2,    174.5,2
   3175MB95_02,  IR03,    59,1,      3,      3,2,19950404,1122,-17.5397,  54.9987, 4640,   4002.6,   1.4112,  34.7229,2,  34.7226,2,    183.2,2,    181.3,2
   3175MB95_02,  IR03,    59,1,      2,      2,2,19950404,1122,-17.5397,  54.9987, 4640,   4303.6,   1.2288,  34.7161,2,  34.7147,2,    194.0,2,    192.4,2
   3175MB95_02,  IR03,    59,1,      1,      1,2,19950404,1122,-17.5397,  54.9987, 4640,   4569.8,   1.1387,  34.7124,2,  34.7107,2,    201.6,2,    195.3,3
   3175MB95_02,  IR03,    60,1,     24,     24,2,19950404,1648,-17.0613,  55.0002, 4511,      5.1,  28.2651,  34.8435,2,  34.8429,2,    199.8,2,    196.9,2
   3175MB95_02,  IR03,    60,1,     23,     23,2,19950404,1648,-17.0613,  55.0002, 4511,     50.3,  26.1883,  35.0119,2,  35.0146,2,    211.4,2,    207.4,2
   3175MB95_02,  IR03,    60,1,     22,     22,2,19950404,1648,-17.0613,  55.0002, 4511,     99.4,  23.0011,  35.2258,2,  35.2300,2,    205.8,2,    204.9,2
   3175MB95_02,  IR03,    60,1,     21,     21,2,19950404,1648,-17.0613,  55.0002, 4511,    149.7,  20.8490,  35.3981,2,  35.4086,2,    180.4,2,    176.9,2
   3175MB95_02,  IR03,    60,1,     20,     20,2,19950404,1648,-17.0613,  55.0002, 4511,    178.5,  19.5085,  35.4763,2,  35.4883,2,    175.6,2,    171.3,2
   3175MB95_02,  IR03,    60,1,     19,     19,2,19950404,1648,-17.0613,  55.0002, 4511,    300.1,  13.9303,  35.2702,2,  35.2793,3,    193.1,2,    180.9,2
   3175MB95_02,  IR03,    60,1,     18,     18,2,19950404,1648,-17.0613,  55.0002, 4511,    400.1,  11.8343,  35.0569,2,  35.0602,2,    231.9,2,    226.3,2
   3175MB95_02,  IR03,    60,1,     17,     17,2,19950404,1648,-17.0613,  55.0002, 4511,    491.1,  10.3409,  34.8451,2,  34.8482,2,    227.5,2,    224.9,2
   3175MB95_02,  IR03,    60,1,     16,     16,2,19950404,1648,-17.0613,  55.0002, 4511,    597.4,   8.6209,  34.6705,2,  34.6707,2,    201.5,2,    201.2,2
   3175MB95_02,  IR03,    60,1,     15,     15,2,19950404,1648,-17.0613,  55.0002, 4511,    723.3,   6.7967,  34.5874,2,  34.5868,2,    160.4,2,    160.7,2
   3175MB95_02,  IR03,    60,1,     14,     14,2,19950404,1648,-17.0613,  55.0002, 4511,    900.7,   5.3655,  34.6296,2,  34.6303,2,    125.9,2,    125.5,2
   3175MB95_02,  IR03,    60,1,     13,     13,2,19950404,1648,-17.0613,  55.0002, 4511,   1102.3,   4.4316,  34.6699,2,  34.6734,2,    128.1,2,    125.0,2
   3175MB95_02,  IR03,    60,1,     12,     12,2,19950404,1648,-17.0613,  55.0002, 4511,   1397.9,   3.4122,  34.6745,2,  34.6728,2,    145.7,2,    143.0,2
   3175MB95_02,  IR03,    60,1,     11,     11,2,19950404,1648,-17.0613,  55.0002, 4511,   1699.0,   2.7312,  34.7032,2,  34.7017,2,    154.9,2,    154.4,2
   3175MB95_02,  IR03,    60,1,     10,     10,2,19950404,1648,-17.0613,  55.0002, 4511,   2000.7,   2.3055,  34.7280,2,  34.7267,2,    157.0,2,    156.8,2
   3175MB95_02,  IR03,    60,1,      9,      9,2,19950404,1648,-17.0613,  55.0002, 4511,   2302.1,   2.0885,  34.7352,2,  34.7349,2,    157.8,2,    158.0,2
   3175MB95_02,  IR03,    60,1,      8,      8,2,19950404,1648,-17.0613,  55.0002, 4511,   2599.1,   1.9398,  34.7365,2,  34.7353,2,    159.4,2,    160.1,2
   3175MB95_02,  IR03,    60,1,      7,      7,2,19950404,1648,-17.0613,  55.0002, 4511,   2892.3,   1.8175,  34.7362,2,  35.2216,4,    161.5,2,    191.2,4
   3175MB95_02,  IR03,    60,1,      6,      6,2,19950404,1648,-17.0613,  55.0002, 4511,   3199.2,   1.6992,  34.7336,2,  34.7330,2,    165.3,2,    166.1,2
   3175MB95_02,  IR03,    60,1,      5,      5,2,19950404,1648,-17.0613,  55.0002, 4511,   3596.4,   1.5360,  34.7283,2,-999.0000,9,    173.5,2,   -999.0,9
   3175MB95_02,  IR03,    60,1,      4,      4,2,19950404,1648,-17.0613,  55.0002, 4511,   3999.5,   1.3430,  34.7210,2,  34.7207,2,    184.6,2,    184.9,2
   3175MB95_02,  IR03,    60,1,      3,      3,2,19950404,1648,-17.0613,  55.0002, 4511,   4402.1,   1.2111,  34.7151,2,  34.7145,2,    193.8,2,    193.7,2
   3175MB95_02,  IR03,    60,1,      2,      2,2,19950404,1648,-17.0613,  55.0002, 4511,   4803.8,   1.1669,  34.7120,2,  34.7112,2,    199.8,2,    198.0,2
   3175MB95_02,  IR03,    60,1,      1,      1,2,19950404,1648,-17.0613,  55.0002, 4511,   5015.0,   1.1868,  34.7118,2,  34.7115,2,    201.5,2,    198.5,2