BOTTLE,20220630CCHSIOAMB
EXPOCODE,SECT_ID,STNNBR,CASTNO,SAMPNO,BTLNBR,BTLNBR_FLAG_W,DATE,TIME,LATITUDE,LONGITUDE,DEPTH,CTDPRS,CTDTMP,CTDSAL,CTDSAL_FLAG_W,SALNTY,SALNTY_FLAG_W,CTDOXY,CTDOXY_FLAG_W,OXYGEN,OXYGEN_FLAG_W
,,,,,,,,,,,,DBAR,ITS-90,PSS-78,,PSS-78,,UMOL/KG,,UMOL/KG,
   3175MB95_02,  IR03,    81,1,     24,     24,2,19950409,0518, -9.6217,  51.8913, 4190,      3.7,  29.2406,  34.6994,2,  34.7018,2,    195.8,2,    195.8,2
   3175MB95_02,  IR03,    81,1,     23,     23,2,19950409,0518, -9.6217,  51.8913, 4190,     49.8,  22.9465,  35.0874,2,  35.1036,3,    169.0,2,    171.5,2
   3175MB95_02,  IR03,    81,1,     22,     22,2,19950409,0518, -9.6217,  51.8913, 4190,     99.3,  16.8856,  35.1422,2,  35.1484,2,    117.4,2,    113.3,2
   3175MB95_02,  IR03,    81,1,     21,     21,2,19950409,0518, -9.6217,  51.8913, 4190,    146.3,  14.2705,  35.1076,2,  35.1074,2,    124.0,2,    118.2,2
   3175MB95_02,  IR03,    81,1,     20,     20,2,19950409,0518, -9.6217,  51.8913, 4190,    197.8,  12.6035,  35.0444,2,  35.0649,3,    135.5,2,    130.2,2
   3175MB95_02,  IR03,    81,1,     19,     19,2,19950409,0518, -9.6217,  51.8913, 4190,    294.6,  10.9237,  34.9324,2,  34.9313,2,    137.7,2,    133.4,2
   3175MB95_02,  IR03,    81,1,     18,     18,2,19950409,0518, -9.6217,  51.8913, 4190,    449.2,   9.6003,  34.8295,2,  34.8292,2,    142.2,3,    138.7,2
   3175MB95_02,  IR03,    81,1,     17,     17,2,19950409,0518, -9.6217,  51.8913, 4190,    595.7,   8.6535,  34.7974,2,  34.7967,2,    124.4,2,    121.2,2
   3175MB95_02,  IR03,    81,1,     16,     16,2,19950409,0518, -9.6217,  51.8913, 4190,    748.5,   7.6245,  34.7839,2,  34.7836,2,    106.8,2,    104.7,2
   3175MB95_02,  IR03,    81,1,     15,     15,2,19950409,0518, -9.6217,  51.8913, 4190,    901.1,   6.5344,  34.7730,2,  34.7714,2,     99.5,2,     97.6,2
   3175MB95_02,  IR03,    81,1,     14,     14,2,19950409,0518, -9.6217,  51.8913, 4190,   1038.6,   5.5002,  34.7546,2,  34.7525,2,    103.6,2,    101.6,2
   3175MB95_02,  IR03,    81,1,     13,     13,2,19950409,0518, -9.6217,  51.8913, 4190,   1196.0,   4.8175,  34.7675,2,  34.7650,2,    104.6,2,    103.4,2
   3175MB95_02,  IR03,    81,1,     12,     12,2,19950409,0518, -9.6217,  51.8913, 4190,   1301.6,   4.3779,  34.7621,2,  34.7619,2,    109.5,2,    106.9,2
   3175MB95_02,  IR03,    81,1,     11,     11,2,19950409,0518, -9.6217,  51.8913, 4190,   1495.6,   3.7201,  34.7516,2,  34.7516,2,    123.5,2,    121.2,2
   3175MB95_02,  IR03,    81,1,     10,     10,2,19950409,0518, -9.6217,  51.8913, 4190,   1747.4,   3.0467,  34.7450,2,  34.7445,2,    136.5,2,    135.1,2
   3175MB95_02,  IR03,    81,1,      9,      9,2,19950409,0518, -9.6217,  51.8913, 4190,   1998.1,   2.4866,  34.7470,2,  34.7476,2,    146.2,2,    145.9,2
   3175MB95_02,  IR03,    81,1,      8,      8,2,19950409,0518, -9.6217,  51.8913, 4190,   2238.3,   2.2843,  34.7473,2,  34.7495,2,    149.6,3,    149.4,2
   3175MB95_02,  IR03,    81,1,      7,      7,2,19950409,0518, -9.6217,  51.8913, 4190,   2543.6,   2.1016,  34.7469,2,  34.7452,2,    152.4,2,    152.5,2
   3175MB95_02,  IR03,    81,1,      6,      6,2,19950409,0518, -9.6217,  51.8913, 4190,   2847.3,   1.9344,  34.7425,2,  34.7419,2,    156.5,2,    156.6,2
   3175MB95_02,  IR03,    81,1,      5,      5,2,19950409,0518, -9.6217,  51.8913, 4190,   3148.0,   1.8279,  34.7395,2,  34.7382,2,    159.3,2,    159.3,2
   3175MB95_02,  IR03,    81,1,      4,      4,2,19950409,0518, -9.6217,  51.8913, 4190,   3450.3,   1.6770,  34.7333,2,  34.7323,2,    166.8,2,    165.3,2
   3175MB95_02,  IR03,    81,1,      3,      3,2,19950409,0518, -9.6217,  51.8913, 4190,   3749.6,   1.3584,  34.7223,2,  34.7210,2,    182.7,2,    182.5,2
   3175MB95_02,  IR03,    81,1,      2,      2,2,19950409,0518, -9.6217,  51.8913, 4190,   3949.2,   1.2313,  34.7176,2,  34.7160,2,    190.9,2,    190.4,2
   3175MB95_02,  IR03,    81,1,      1,      1,2,19950409,0518, -9.6217,  51.8913, 4190,   4258.6,   1.1322,  34.7129,2,  34.7123,2,    200.0,2,    196.8,2
   3175MB95_02,  IR03,    82,1,     24,     24,2,19950409,0927, -9.5205,  51.7703, 3516,      2.9,  29.4779,  34.6945,2,  34.7017,2,    196.7,2,    195.0,2
   3175MB95_02,  IR03,    82,1,     23,     23,2,19950409,0927, -9.5205,  51.7703, 3516,     24.8,  28.9246,  34.7294,2,  34.7448,3,    199.5,2,    198.9,2
   3175MB95_02,  IR03,    82,1,     22,     22,2,19950409,0927, -9.5205,  51.7703, 3516,     78.7,  20.4647,  35.1606,2,  35.1852,3,    128.9,2,    128.9,2
   3175MB95_02,  IR03,    82,1,     21,     21,2,19950409,0927, -9.5205,  51.7703, 3516,    123.8,  14.4176,  35.1340,2,  35.1381,2,    118.9,2,    113.9,2
   3175MB95_02,  IR03,    82,1,     20,     20,2,19950409,0927, -9.5205,  51.7703, 3516,    201.3,  12.2907,  35.0378,2,  35.0388,2,    127.3,2,    122.2,2
   3175MB95_02,  IR03,    82,1,     19,     19,2,19950409,0927, -9.5205,  51.7703, 3516,    250.3,  11.9005,  35.0109,2,  35.0128,2,    128.6,2,    123.9,2
   3175MB95_02,  IR03,    82,1,     18,     18,2,19950409,0927, -9.5205,  51.7703, 3516,    350.7,  10.6699,  34.9129,2,  34.9141,2,    126.0,2,    122.9,2
   3175MB95_02,  IR03,    82,1,     17,     17,2,19950409,0927, -9.5205,  51.7703, 3516,    445.7,   9.6112,  34.8511,2,  34.8544,2,    118.7,2,    114.7,2
   3175MB95_02,  IR03,    82,1,     16,     16,2,19950409,0927, -9.5205,  51.7703, 3516,    549.4,   8.9640,  34.8250,2,  34.8254,2,    109.3,2,    106.3,2
   3175MB95_02,  IR03,    82,1,     15,     15,2,19950409,0927, -9.5205,  51.7703, 3516,    650.2,   8.0076,  34.7904,2,  34.7915,2,    112.7,2,    109.7,2
   3175MB95_02,  IR03,    82,1,     14,     14,2,19950409,0927, -9.5205,  51.7703, 3516,    750.6,   7.2863,  34.7836,2,  34.7828,2,    103.4,2,    101.0,2
   3175MB95_02,  IR03,    82,1,     13,     13,2,19950409,0927, -9.5205,  51.7703, 3516,    906.2,   6.2974,  34.7644,2,  34.7653,2,     98.9,2,     96.1,2
   3175MB95_02,  IR03,    82,1,     12,     12,2,19950409,0927, -9.5205,  51.7703, 3516,   1099.7,   5.2668,  34.7562,2,  34.7570,2,    106.0,2,    103.7,2
   3175MB95_02,  IR03,    82,1,     11,     11,2,19950409,0927, -9.5205,  51.7703, 3516,   1299.0,   4.3106,  34.7549,2,  34.7549,2,    115.1,2,    112.5,2
   3175MB95_02,  IR03,    82,1,     10,     10,2,19950409,0927, -9.5205,  51.7703, 3516,   1494.2,   3.7634,  34.7519,2,  34.7484,2,    123.7,2,    137.7,4
   3175MB95_02,  IR03,    82,1,      9,      9,2,19950409,0927, -9.5205,  51.7703, 3516,   1699.9,   3.1282,  34.7454,2,  34.7455,2,    135.7,3,    134.1,2
   3175MB95_02,  IR03,    82,1,      8,      8,2,19950409,0927, -9.5205,  51.7703, 3516,   1898.1,   2.7060,  34.7432,2,  34.7424,2,    144.2,2,    143.0,2
   3175MB95_02,  IR03,    82,1,      7,      7,2,19950409,0927, -9.5205,  51.7703, 3516,   2099.0,   2.4160,  34.7464,2,  34.7451,2,    148.0,2,    147.2,2
   3175MB95_02,  IR03,    82,1,      6,      6,2,19950409,0927, -9.5205,  51.7703, 3516,   2298.0,   2.2443,  34.7477,2,  34.7476,2,    150.8,2,    149.9,2
   3175MB95_02,  IR03,    82,1,      5,      5,2,19950409,0927, -9.5205,  51.7703, 3516,   2499.5,   2.1185,  34.7473,2,  34.7461,2,    152.9,2,    152.1,2
   3175MB95_02,  IR03,    82,1,      4,      4,2,19950409,0927, -9.5205,  51.7703, 3516,   2798.1,   2.0019,  34.7454,2,  34.7443,2,    156.1,2,    154.6,2
   3175MB95_02,  IR03,    82,1,      3,      3,2,19950409,0927, -9.5205,  51.7703, 3516,   3094.4,   1.7937,  34.7383,2,  34.7372,2,    162.7,2,    160.8,2
   3175MB95_02,  IR03,    82,1,      2,      2,2,19950409,0927, -9.5205,  51.7703, 3516,   3397.5,   1.5969,  34.7306,2,  34.7307,2,    172.3,2,    169.8,2
   3175MB95_02,  IR03,    82,1,      1,      1,2,19950409,0927, -9.5205,  51.7703, 3516,   3550.1,   1.4940,  34.7270,2,  34.7262,2,    178.2,2,    175.4,2
   3175MB95_02,  IR03,    83,1,     24,     24,2,19950409,1351, -9.0917,  51.7817, 3899,      2.8,  29.4440,  34.7151,2,  34.7180,2,    195.4,2,    194.5,2
   3175MB95_02,  IR03,    83,1,     23,     23,2,19950409,1351, -9.0917,  51.7817, 3899,     48.7,  24.9860,  34.9638,2,  35.0035,4,    184.8,2,    191.1,2
   3175MB95_02,  IR03,    83,1,     22,     22,2,19950409,1351, -9.0917,  51.7817, 3899,     99.4,  17.9500,  35.2317,2,  35.2360,2,    117.0,2,    113.7,2
   3175MB95_02,  IR03,    83,1,     21,     21,2,19950409,1351, -9.0917,  51.7817, 3899,    148.7,  15.3707,  35.1711,2,  35.1767,2,    116.0,2,    111.6,2
   3175MB95_02,  IR03,    83,1,     20,     20,2,19950409,1351, -9.0917,  51.7817, 3899,    199.0,  13.8378,  35.1005,2,  35.1041,2,    118.5,2,    112.4,2
   3175MB95_02,  IR03,    83,1,     19,     19,2,19950409,1351, -9.0917,  51.7817, 3899,    249.8,  12.5153,  35.0324,2,  35.0365,2,    125.7,2,    119.7,2
   3175MB95_02,  IR03,    83,1,     18,     18,2,19950409,1351, -9.0917,  51.7817, 3899,    299.1,  11.8136,  34.9950,2,  34.9959,2,    126.5,2,    121.4,2
   3175MB95_02,  IR03,    83,1,     17,     17,2,19950409,1351, -9.0917,  51.7817, 3899,    399.8,  10.6787,  34.9116,2,  34.9126,2,    136.8,2,    132.0,2
   3175MB95_02,  IR03,    83,1,     16,     16,2,19950409,1351, -9.0917,  51.7817, 3899,    498.4,   9.4873,  34.8286,2,  34.8330,2,    133.1,2,    128.0,2
   3175MB95_02,  IR03,    83,1,     15,     15,2,19950409,1351, -9.0917,  51.7817, 3899,    599.0,   8.7535,  34.8075,2,  34.8090,2,    120.4,2,    117.0,2
   3175MB95_02,  IR03,    83,1,     14,     14,2,19950409,1351, -9.0917,  51.7817, 3899,    697.2,   8.0970,  34.8014,2,  34.8037,2,    105.7,2,    104.2,2
   3175MB95_02,  IR03,    83,1,     13,     13,2,19950409,1351, -9.0917,  51.7817, 3899,    799.3,   7.1092,  34.7782,2,  34.7784,2,    102.5,2,    101.0,2
   3175MB95_02,  IR03,    83,1,     12,     12,2,19950409,1351, -9.0917,  51.7817, 3899,    902.2,   6.4924,  34.7867,2,  34.7870,2,     92.6,2,     90.2,2
   3175MB95_02,  IR03,    83,1,     11,     11,2,19950409,1351, -9.0917,  51.7817, 3899,    999.6,   5.7893,  34.7922,2,  34.7938,2,     90.7,2,     87.7,2
   3175MB95_02,  IR03,    83,1,     10,     10,2,19950409,1351, -9.0917,  51.7817, 3899,   1299.6,   4.5403,  34.7617,2,  34.7621,2,    107.8,2,    105.2,2
   3175MB95_02,  IR03,    83,1,      9,      9,2,19950409,1351, -9.0917,  51.7817, 3899,   1596.9,   3.4068,  34.7477,2,  34.7478,2,    129.9,2,    127.6,2
   3175MB95_02,  IR03,    83,1,      8,      8,2,19950409,1351, -9.0917,  51.7817, 3899,   1897.8,   2.7246,  34.7448,2,  34.7437,2,    143.1,2,    142.1,2
   3175MB95_02,  IR03,    83,1,      7,      7,2,19950409,1351, -9.0917,  51.7817, 3899,   2198.6,   2.3065,  34.7477,2,  34.7469,2,    149.4,2,    149.2,2
   3175MB95_02,  IR03,    83,1,      6,      6,2,19950409,1351, -9.0917,  51.7817, 3899,   2499.2,   2.0868,  34.7472,2,  34.7461,2,    153.1,2,    152.4,2
   3175MB95_02,  IR03,    83,1,      5,      5,2,19950409,1351, -9.0917,  51.7817, 3899,   2794.1,   1.9427,  34.7458,2,  34.7455,2,    154.4,2,    153.4,2
   3175MB95_02,  IR03,    83,1,      4,      4,2,19950409,1351, -9.0917,  51.7817, 3899,   3083.1,   1.8314,  34.7403,2,  34.7423,2,    159.2,2,    159.0,2
   3175MB95_02,  IR03,    83,1,      3,      3,2,19950409,1351, -9.0917,  51.7817, 3899,   3398.7,   1.6816,  34.7338,2,  34.7342,2,    167.7,2,    139.4,4
   3175MB95_02,  IR03,    83,1,      2,      2,2,19950409,1351, -9.0917,  51.7817, 3899,   3699.5,   1.4285,  34.7244,2,  34.7237,2,    180.7,2,    178.5,2
   3175MB95_02,  IR03,    83,1,      1,      1,2,19950409,1351, -9.0917,  51.7817, 3899,   3943.1,   1.2789,  34.7188,2,  34.7197,2,    190.8,2,    188.5,2
   3175MB95_02,  IR03,    84,1,     24,     24,2,19950409,1816, -8.6695,  51.7988, 3639,      2.6,  29.4314,  34.6768,2,  34.6786,2,    196.2,2,    195.4,2
   3175MB95_02,  IR03,    84,1,     23,     23,2,19950409,1816, -8.6695,  51.7988, 3639,     28.5,  28.6916,  34.6982,2,  34.7170,3,    202.6,2,    199.7,2
   3175MB95_02,  IR03,    84,1,     22,     22,2,19950409,1816, -8.6695,  51.7988, 3639,     66.6,  23.6128,  35.0151,2,  35.0573,4,    170.4,2,    172.7,2
   3175MB95_02,  IR03,    84,1,     21,     21,2,19950409,1816, -8.6695,  51.7988, 3639,     87.4,  19.2528,  35.2471,2,  35.2542,2,    126.7,2,    123.3,2
   3175MB95_02,  IR03,    84,1,     20,     20,2,19950409,1816, -8.6695,  51.7988, 3639,    178.9,  13.6128,  35.0642,2,  35.0636,2,    122.3,2,    116.7,2
   3175MB95_02,  IR03,    84,1,     19,     19,2,19950409,1816, -8.6695,  51.7988, 3639,    251.8,  12.1559,  34.9929,2,  35.0001,2,    133.6,2,    127.9,2
   3175MB95_02,  IR03,    84,1,     18,     18,2,19950409,1816, -8.6695,  51.7988, 3639,    339.4,  10.7294,  34.9193,2,  34.9181,2,    136.7,2,    131.2,2
   3175MB95_02,  IR03,    84,1,     17,     17,2,19950409,1816, -8.6695,  51.7988, 3639,    415.0,   9.9751,  34.8606,2,  34.8607,2,    136.7,2,    131.9,2
   3175MB95_02,  IR03,    84,1,     16,     16,2,19950409,1816, -8.6695,  51.7988, 3639,    497.5,   9.2487,  34.8293,2,  34.8292,2,    113.8,2,    110.9,2
   3175MB95_02,  IR03,    84,1,     15,     15,2,19950409,1816, -8.6695,  51.7988, 3639,    598.0,   8.9044,  34.8257,2,  34.8249,2,    109.8,2,    103.9,2
   3175MB95_02,  IR03,    84,1,     14,     14,2,19950409,1816, -8.6695,  51.7988, 3639,    677.2,   8.0621,  34.7959,2,  34.7976,2,    104.6,2,    100.9,2
   3175MB95_02,  IR03,    84,1,     13,     13,2,19950409,1816, -8.6695,  51.7988, 3639,    794.9,   7.3456,  34.7884,2,  34.7879,2,    102.4,2,    100.3,2
   3175MB95_02,  IR03,    84,1,     12,     12,2,19950409,1816, -8.6695,  51.7988, 3639,    997.5,   6.4023,  34.7921,2,  34.7910,2,     92.5,2,     89.5,2
   3175MB95_02,  IR03,    84,1,     11,     11,2,19950409,1816, -8.6695,  51.7988, 3639,   1199.0,   4.8780,  34.7686,2,  34.7685,2,    104.8,2,    103.2,2
   3175MB95_02,  IR03,    84,1,     10,     10,2,19950409,1816, -8.6695,  51.7988, 3639,   1395.9,   4.0831,  34.7563,2,  34.7553,2,    116.5,2,    114.2,2
   3175MB95_02,  IR03,    84,1,      9,      9,2,19950409,1816, -8.6695,  51.7988, 3639,   1699.0,   3.2960,  34.7497,2,  34.7490,2,    132.2,2,    130.0,2
   3175MB95_02,  IR03,    84,1,      8,      8,2,19950409,1816, -8.6695,  51.7988, 3639,   1989.2,   2.5950,  34.7474,2,  34.7474,2,    144.6,2,    143.5,2
   3175MB95_02,  IR03,    84,1,      7,      7,2,19950409,1816, -8.6695,  51.7988, 3639,   2295.4,   2.2255,  34.7490,2,  34.7506,2,    150.5,2,    150.9,2
   3175MB95_02,  IR03,    84,1,      6,      6,2,19950409,1816, -8.6695,  51.7988, 3639,   2698.8,   2.0010,  34.7460,2,  34.7457,2,    154.4,2,    153.9,2
   3175MB95_02,  IR03,    84,1,      5,      5,2,19950409,1816, -8.6695,  51.7988, 3639,   3100.2,   1.8045,  34.7387,2,  34.7398,2,    161.1,2,    160.1,2
   3175MB95_02,  IR03,    84,1,      4,      4,2,19950409,1816, -8.6695,  51.7988, 3639,   3497.0,   1.5808,  34.7296,2,  34.7275,2,    173.6,2,    183.7,3
   3175MB95_02,  IR03,    84,1,      3,      3,2,19950409,1816, -8.6695,  51.7988, 3639,   3598.9,   1.5099,  34.7267,2,  34.7269,2,    178.0,2,    174.8,2
   3175MB95_02,  IR03,    84,1,      2,      2,2,19950409,1816, -8.6695,  51.7988, 3639,   3650.4,   1.4601,  34.7249,2,  34.7248,2,    180.8,2,    177.0,2
   3175MB95_02,  IR03,    84,1,      1,      1,2,19950409,1816, -8.6695,  51.7988, 3639,   3711.1,   1.4057,  34.7233,2,  34.7228,2,    182.8,2,    179.8,2
   3175MB95_02,  IR03,    85,1,     24,     24,2,19950409,2148, -8.5645,  51.9123, 4068,      2.7,  29.3995,  34.6760,2,  34.6794,2,    196.4,2,    194.7,2
   3175MB95_02,  IR03,    85,1,     23,     23,2,19950409,2148, -8.5645,  51.9123, 4068,     40.5,  26.1341,  34.9027,2,  34.9769,4,    202.6,2,    193.9,2
   3175MB95_02,  IR03,    85,1,     22,     22,2,19950409,2148, -8.5645,  51.9123, 4068,     78.6,  20.6103,  35.2500,2,  35.2552,2,    137.9,2,    135.7,2
   3175MB95_02,  IR03,    85,1,     21,     21,2,19950409,2148, -8.5645,  51.9123, 4068,    119.6,  17.6861,  35.2353,2,  35.2399,2,    114.5,2,    111.5,2
   3175MB95_02,  IR03,    85,1,     20,     20,2,19950409,2148, -8.5645,  51.9123, 4068,    190.0,  13.6975,  35.0739,2,  35.0749,2,    118.0,2,    112.1,2
   3175MB95_02,  IR03,    85,1,     19,     19,2,19950409,2148, -8.5645,  51.9123, 4068,    270.6,  11.4579,  34.9584,2,  34.9578,2,    137.0,2,    131.7,2
   3175MB95_02,  IR03,    85,1,     18,     18,2,19950409,2148, -8.5645,  51.9123, 4068,    349.2,  10.8742,  34.9309,2,  34.9295,2,    134.0,2,    129.4,2
   3175MB95_02,  IR03,    85,1,     17,     17,2,19950409,2148, -8.5645,  51.9123, 4068,    550.5,   8.8856,  34.8169,2,  34.8169,2,    117.3,2,    114.2,2
   3175MB95_02,  IR03,    85,1,     16,     16,2,19950409,2148, -8.5645,  51.9123, 4068,    749.7,   7.5662,  34.8020,2,  34.8016,2,     93.5,2,     91.5,2
   3175MB95_02,  IR03,    85,1,     15,     15,2,19950409,2148, -8.5645,  51.9123, 4068,    949.6,   6.2381,  34.8025,2,  34.8102,3,     88.5,7,     86.3,2
   3175MB95_02,  IR03,    85,1,     14,     14,2,19950409,2148, -8.5645,  51.9123, 4068,   1150.8,   5.1557,  34.7737,2,  34.7744,2,    101.5,2,     98.5,2
   3175MB95_02,  IR03,    85,1,     13,     13,2,19950409,2148, -8.5645,  51.9123, 4068,   1400.2,   4.1510,  34.7557,2,  34.7785,4,    115.8,2,    115.0,2
   3175MB95_02,  IR03,    85,1,     12,     12,2,19950409,2148, -8.5645,  51.9123, 4068,   1697.6,   3.0624,  34.7527,2,  34.7528,2,    134.5,2,    133.3,2
   3175MB95_02,  IR03,    85,1,     11,     11,2,19950409,2148, -8.5645,  51.9123, 4068,   2000.0,   2.4637,  34.7459,2,  34.7457,2,    146.5,2,    146.3,2
   3175MB95_02,  IR03,    85,1,     10,     10,2,19950409,2148, -8.5645,  51.9123, 4068,   2263.6,   2.2258,  34.7486,2,  34.7476,2,    149.6,2,    149.9,2
   3175MB95_02,  IR03,    85,1,      9,      9,2,19950409,2148, -8.5645,  51.9123, 4068,   2597.3,   1.9892,  34.7467,2,  34.7456,2,    152.9,2,    153.7,2
   3175MB95_02,  IR03,    85,1,      8,      8,2,19950409,2148, -8.5645,  51.9123, 4068,   2899.1,   1.8305,  34.7398,2,  34.7391,2,    158.1,2,    158.3,2
   3175MB95_02,  IR03,    85,1,      7,      7,2,19950409,2148, -8.5645,  51.9123, 4068,   3249.5,   1.7014,  34.7341,2,  34.7329,2,    163.8,2,    164.5,2
   3175MB95_02,  IR03,    85,1,      6,      6,2,19950409,2148, -8.5645,  51.9123, 4068,   3597.8,   1.5506,  34.7283,2,  34.7303,2,    171.8,2,    171.8,2
   3175MB95_02,  IR03,    85,1,      5,      5,2,19950409,2148, -8.5645,  51.9123, 4068,   3950.7,   1.3645,  34.7212,2,  34.7209,2,    184.3,2,    183.1,2
   3175MB95_02,  IR03,    85,1,      4,      4,2,19950409,2148, -8.5645,  51.9123, 4068,   3999.4,   1.3488,  34.7204,2,  34.7176,2,    185.6,2,    184.5,2
   3175MB95_02,  IR03,    85,1,      3,      3,2,19950409,2148, -8.5645,  51.9123, 4068,   4050.4,   1.3339,  34.7197,2,  34.7189,2,    187.0,2,    185.5,2
   3175MB95_02,  IR03,    85,1,      2,      2,2,19950409,2148, -8.5645,  51.9123, 4068,   4094.0,   1.3300,  34.7195,2,  34.7168,2,    188.1,2,    185.7,2
   3175MB95_02,  IR03,    85,1,      1,      1,2,19950409,2148, -8.5645,  51.9123, 4068,   4145.0,   1.3163,  34.7188,2,  34.7174,2,    189.3,2,    186.7,2