BOTTLE,20220630CCHSIOAMB
EXPOCODE,SECT_ID,STNNBR,CASTNO,SAMPNO,BTLNBR,BTLNBR_FLAG_W,DATE,TIME,LATITUDE,LONGITUDE,DEPTH,CTDPRS,CTDTMP,CTDSAL,CTDSAL_FLAG_W,SALNTY,SALNTY_FLAG_W,CTDOXY,CTDOXY_FLAG_W,OXYGEN,OXYGEN_FLAG_W
,,,,,,,,,,,,DBAR,ITS-90,PSS-78,,PSS-78,,UMOL/KG,,UMOL/KG,
   3175MB95_02,  IR03,   121,1,     24,     24,2,19950417,0547,  6.3610,  61.3300, 2765,      3.0,  29.8120,  34.7766,2,  34.7751,2,    208.3,2,    193.6,3
   3175MB95_02,  IR03,   121,1,     23,     23,2,19950417,0547,  6.3610,  61.3300, 2765,     20.7,  29.7972,  34.7746,2,  34.7748,2,    206.5,3,    192.7,3
   3175MB95_02,  IR03,   121,1,     22,     22,2,19950417,0547,  6.3610,  61.3300, 2765,     40.8,  29.5596,  34.8177,2,  34.8285,2,    209.2,2,    195.8,3
   3175MB95_02,  IR03,   121,1,     21,     21,2,19950417,0547,  6.3610,  61.3300, 2765,     79.8,  27.2343,  35.7309,2,  35.7618,4,    163.2,2,    159.4,2
   3175MB95_02,  IR03,   121,1,     20,     20,2,19950417,0547,  6.3610,  61.3300, 2765,    124.7,  22.3304,  35.6894,2,  35.6517,4,     73.0,2,     69.7,2
   3175MB95_02,  IR03,   121,1,     19,     19,2,19950417,0547,  6.3610,  61.3300, 2765,    172.5,  16.0174,  35.2088,2,  35.2146,2,     50.9,2,     40.9,2
   3175MB95_02,  IR03,   121,1,     18,     18,2,19950417,0547,  6.3610,  61.3300, 2765,    208.5,  14.6125,  35.2206,2,  35.2258,2,     74.7,2,     68.7,2
   3175MB95_02,  IR03,   121,1,     17,     17,2,19950417,0547,  6.3610,  61.3300, 2765,    259.0,  12.9458,  35.2028,2,  35.2052,2,     85.6,2,     79.0,2
   3175MB95_02,  IR03,   121,1,     16,     16,2,19950417,0547,  6.3610,  61.3300, 2765,    307.3,  12.4261,  35.1820,2,  35.1861,2,     78.0,2,     72.8,2
   3175MB95_02,  IR03,   121,1,     15,     15,2,19950417,0547,  6.3610,  61.3300, 2765,    397.7,  11.4322,  35.1669,2,  35.1683,2,     67.9,2,     62.9,2
   3175MB95_02,  IR03,   121,1,     14,     14,2,19950417,0547,  6.3610,  61.3300, 2765,    500.7,  10.8124,  35.2243,2,  35.2241,2,     40.1,2,     38.3,2
   3175MB95_02,  IR03,   121,1,     13,     13,2,19950417,0547,  6.3610,  61.3300, 2765,    596.6,  10.3483,  35.2558,2,  35.2552,2,     25.7,2,     25.3,2
   3175MB95_02,  IR03,   121,1,     12,     12,2,19950417,0547,  6.3610,  61.3300, 2765,    698.6,   9.6026,  35.2660,2,  35.2684,2,     25.0,2,     23.9,2
   3175MB95_02,  IR03,   121,1,     11,     11,2,19950417,0547,  6.3610,  61.3300, 2765,    799.1,   8.7366,  35.2157,2,  35.2215,2,     27.0,2,     25.8,2
   3175MB95_02,  IR03,   121,1,     10,     10,2,19950417,0547,  6.3610,  61.3300, 2765,    899.6,   8.2564,  35.2027,2,  35.2057,2,     31.5,2,     30.0,2
   3175MB95_02,  IR03,   121,1,      9,      9,2,19950417,0547,  6.3610,  61.3300, 2765,    996.4,   7.7085,  35.1502,2,  35.1509,2,     36.6,2,     35.2,2
   3175MB95_02,  IR03,   121,1,      8,      8,2,19950417,0547,  6.3610,  61.3300, 2765,   1094.5,   7.0920,  35.0933,2,  35.0971,2,     42.5,2,     40.3,2
   3175MB95_02,  IR03,   121,1,      7,      7,2,19950417,0547,  6.3610,  61.3300, 2765,   1198.5,   6.4094,  35.0419,2,  35.0504,3,     51.7,2,     49.0,2
   3175MB95_02,  IR03,   121,1,      6,      6,2,19950417,0547,  6.3610,  61.3300, 2765,   1399.7,   5.5693,  34.9826,2,  34.9825,2,     63.1,2,     60.4,2
   3175MB95_02,  IR03,   121,1,      5,      5,2,19950417,0547,  6.3610,  61.3300, 2765,   1649.4,   3.9965,  34.8712,2,  34.8702,2,     92.7,2,     90.1,2
   3175MB95_02,  IR03,   121,1,      4,      4,2,19950417,0547,  6.3610,  61.3300, 2765,   1899.9,   3.1500,  34.8201,2,  34.8191,2,    113.0,2,    109.7,2
   3175MB95_02,  IR03,   121,1,      3,      3,2,19950417,0547,  6.3610,  61.3300, 2765,   2197.9,   2.5476,  34.7848,2,  34.7833,2,    130.2,2,    128.4,2
   3175MB95_02,  IR03,   121,1,      2,      2,2,19950417,0547,  6.3610,  61.3300, 2765,   2498.8,   2.1399,  34.7643,2,  34.7648,2,    141.3,2,    137.7,2
   3175MB95_02,  IR03,   121,1,      1,      1,2,19950417,0547,  6.3610,  61.3300, 2765,   2803.7,   1.9253,  34.7522,2,  34.7522,2,    149.3,2,    144.7,2
   3175MB95_02,  IR03,   122,1,     24,     24,2,19950417,0944,  6.7215,  61.6595, 3367,      2.4,  30.0492,  34.7605,2,  34.7805,3,    147.0,2,    193.3,4
   3175MB95_02,  IR03,   122,1,     23,     23,2,19950417,0944,  6.7215,  61.6595, 3367,     35.0,  29.0511,  35.1976,2,  35.1992,2,    209.7,2,    199.2,2
   3175MB95_02,  IR03,   122,1,     22,     22,2,19950417,0944,  6.7215,  61.6595, 3367,     70.8,  26.9170,  35.5881,2,  35.6185,4,    213.6,2,    203.3,2
   3175MB95_02,  IR03,   122,1,     21,     21,2,19950417,0944,  6.7215,  61.6595, 3367,    101.6,  24.5251,  35.6465,2,  35.6606,2,    151.2,2,    151.9,2
   3175MB95_02,  IR03,   122,1,     20,     20,2,19950417,0944,  6.7215,  61.6595, 3367,    163.9,  18.5709,  35.3867,2,  35.3920,2,     80.8,2,     77.4,2
   3175MB95_02,  IR03,   122,1,     19,     19,2,19950417,0944,  6.7215,  61.6595, 3367,    241.9,  13.4060,  35.2169,2,  35.2178,2,     58.7,2,     54.9,2
   3175MB95_02,  IR03,   122,1,     18,     18,2,19950417,0944,  6.7215,  61.6595, 3367,    341.1,  11.9192,  35.1609,2,  35.1713,3,     80.4,2,     77.0,2
   3175MB95_02,  IR03,   122,1,     17,     17,2,19950417,0944,  6.7215,  61.6595, 3367,    441.2,  11.0373,  35.1819,2,  35.1846,2,     51.4,2,     49.0,2
   3175MB95_02,  IR03,   122,1,     16,     16,2,19950417,0944,  6.7215,  61.6595, 3367,    540.6,  10.5359,  35.2323,2,  35.2346,2,     34.1,2,     34.0,2
   3175MB95_02,  IR03,   122,1,     15,     15,2,19950417,0944,  6.7215,  61.6595, 3367,    658.0,   9.9590,  35.2597,2,  35.2602,2,     24.2,2,     24.0,2
   3175MB95_02,  IR03,   122,1,     14,     14,2,19950417,0944,  6.7215,  61.6595, 3367,    762.5,   9.3258,  35.2424,2,  35.2423,2,     23.7,2,     23.4,2
   3175MB95_02,  IR03,   122,1,     13,     13,2,19950417,0944,  6.7215,  61.6595, 3367,    945.3,   8.0281,  35.1793,2,  35.1822,2,     33.6,2,     31.5,2
   3175MB95_02,  IR03,   122,1,     12,     12,2,19950417,0944,  6.7215,  61.6595, 3367,   1156.7,   6.6140,  35.0554,2,  35.0577,2,     48.3,2,     46.0,2
   3175MB95_02,  IR03,   122,1,     11,     11,2,19950417,0944,  6.7215,  61.6595, 3367,   1360.6,   5.6579,  34.9873,2,  34.9867,2,     61.3,2,     59.3,2
   3175MB95_02,  IR03,   122,1,     10,     10,2,19950417,0944,  6.7215,  61.6595, 3367,   1561.5,   4.5014,  34.9047,2,  34.9046,2,     81.8,2,     79.2,2
   3175MB95_02,  IR03,   122,1,      9,      9,2,19950417,0944,  6.7215,  61.6595, 3367,   1758.4,   3.7826,  34.8564,2,  34.8564,2,     97.6,2,     94.9,2
   3175MB95_02,  IR03,   122,1,      8,      8,2,19950417,0944,  6.7215,  61.6595, 3367,   1959.3,   3.1331,  34.8179,2,  34.8188,2,    112.5,2,    110.2,2
   3175MB95_02,  IR03,   122,1,      7,      7,2,19950417,0944,  6.7215,  61.6595, 3367,   2159.6,   2.5674,  34.7859,2,  34.7866,2,    127.7,2,    124.8,2
   3175MB95_02,  IR03,   122,1,      6,      6,2,19950417,0944,  6.7215,  61.6595, 3367,   2359.0,   2.1474,  34.7649,2,  34.7680,2,    138.6,2,    137.1,2
   3175MB95_02,  IR03,   122,1,      5,      5,2,19950417,0944,  6.7215,  61.6595, 3367,   2560.8,   1.9887,  34.7570,2,  34.7566,2,    143.9,2,    141.5,2
   3175MB95_02,  IR03,   122,1,      4,      4,2,19950417,0944,  6.7215,  61.6595, 3367,   2760.7,   1.8429,  34.7492,2,  34.7483,2,    148.8,2,    145.9,2
   3175MB95_02,  IR03,   122,1,      3,      3,2,19950417,0944,  6.7215,  61.6595, 3367,   2955.8,   1.8213,  34.7474,2,  34.7471,2,    150.6,2,    149.2,2
   3175MB95_02,  IR03,   122,1,      2,      2,2,19950417,0944,  6.7215,  61.6595, 3367,   3096.7,   1.7755,  34.7444,2,  34.7454,2,    152.4,2,    149.9,2
   3175MB95_02,  IR03,   122,1,      1,      1,2,19950417,0944,  6.7215,  61.6595, 3367,   3359.4,   1.7666,  34.7425,2,  34.7422,2,    154.6,2,    151.2,2
   3175MB95_02,  IR03,   123,1,     24,     24,2,19950417,1543,  7.0897,  61.9912, 4072,      3.7,  29.7234,  34.9719,2,  34.9745,2,    206.2,2,    193.2,3
   3175MB95_02,  IR03,   123,1,     23,     23,2,19950417,1543,  7.0897,  61.9912, 4072,     29.1,  29.3441,  35.0934,2,  35.0849,2,    208.1,2,    195.4,3
   3175MB95_02,  IR03,   123,1,     22,     22,2,19950417,1543,  7.0897,  61.9912, 4072,     78.3,  26.0917,  35.6659,2,  35.6751,2,    202.1,2,    190.5,2
   3175MB95_02,  IR03,   123,1,     21,     21,2,19950417,1543,  7.0897,  61.9912, 4072,    149.5,  18.2219,  35.3596,2,  35.3608,2,     87.5,2,     81.1,2
   3175MB95_02,  IR03,   123,1,     20,     20,2,19950417,1543,  7.0897,  61.9912, 4072,    197.6,  16.0689,  35.3273,2,  35.3322,2,     56.1,2,     53.4,2
   3175MB95_02,  IR03,   123,1,     19,     19,2,19950417,1543,  7.0897,  61.9912, 4072,    248.8,  14.0595,  35.2845,2,  35.2890,2,     64.7,2,     58.5,2
   3175MB95_02,  IR03,   123,1,     18,     18,2,19950417,1543,  7.0897,  61.9912, 4072,    351.4,  11.7591,  35.1875,2,  35.1912,2,     67.5,2,     64.5,2
   3175MB95_02,  IR03,   123,1,     17,     17,2,19950417,1543,  7.0897,  61.9912, 4072,    448.5,  11.1363,  35.2070,2,  35.2069,2,     47.8,2,     45.2,2
   3175MB95_02,  IR03,   123,1,     16,     16,2,19950417,1543,  7.0897,  61.9912, 4072,    544.4,  10.6433,  35.2427,2,  35.2449,2,     31.1,2,     30.0,2
   3175MB95_02,  IR03,   123,1,     15,     15,2,19950417,1543,  7.0897,  61.9912, 4072,    668.8,   9.6748,  35.2127,2,  35.2119,2,     20.1,2,     20.1,2
   3175MB95_02,  IR03,   123,1,     14,     14,2,19950417,1543,  7.0897,  61.9912, 4072,    833.8,   8.1475,  35.1247,2,  35.1313,3,     28.3,2,     27.4,2
   3175MB95_02,  IR03,   123,1,     13,     13,2,19950417,1543,  7.0897,  61.9912, 4072,    997.8,   7.4305,  35.1319,2,  35.1332,2,     36.9,2,     35.9,2
   3175MB95_02,  IR03,   123,1,     12,     12,2,19950417,1543,  7.0897,  61.9912, 4072,   1200.7,   6.2681,  35.0315,2,  35.0333,2,     52.7,2,     50.7,2
   3175MB95_02,  IR03,   123,1,     11,     11,2,19950417,1543,  7.0897,  61.9912, 4072,   1399.7,   5.3414,  34.9674,2,  34.9669,2,     66.1,2,     64.1,2
   3175MB95_02,  IR03,   123,1,     10,     10,2,19950417,1543,  7.0897,  61.9912, 4072,   1600.2,   4.3861,  34.8928,2,  34.8933,2,     85.1,2,     82.5,2
   3175MB95_02,  IR03,   123,1,      9,      9,2,19950417,1543,  7.0897,  61.9912, 4072,   1801.3,   3.6212,  34.8467,2,  34.8476,2,    101.2,2,     98.4,2
   3175MB95_02,  IR03,   123,1,      8,      8,2,19950417,1543,  7.0897,  61.9912, 4072,   1999.0,   2.9038,  34.8055,2,  34.8060,2,    118.0,2,    115.3,2
   3175MB95_02,  IR03,   123,1,      7,      7,2,19950417,1543,  7.0897,  61.9912, 4072,   2300.8,   2.3307,  34.7724,2,  34.7733,2,    134.7,2,    132.6,2
   3175MB95_02,  IR03,   123,1,      6,      6,2,19950417,1543,  7.0897,  61.9912, 4072,   2598.1,   2.0227,  34.7566,2,  34.7566,2,    143.7,2,    142.2,2
   3175MB95_02,  IR03,   123,1,      5,      5,2,19950417,1543,  7.0897,  61.9912, 4072,   2795.2,   1.8944,  34.7509,2,  34.7507,2,    147.3,2,    145.4,2
   3175MB95_02,  IR03,   123,1,      4,      4,2,19950417,1543,  7.0897,  61.9912, 4072,   3096.3,   1.7443,  34.7427,2,  34.7425,2,    152.2,2,    151.1,2
   3175MB95_02,  IR03,   123,1,      3,      3,2,19950417,1543,  7.0897,  61.9912, 4072,   3399.3,   1.6909,  34.7389,2,  34.7387,2,    156.0,2,    154.2,2
   3175MB95_02,  IR03,   123,1,      2,      2,2,19950417,1543,  7.0897,  61.9912, 4072,   3697.2,   1.6591,  34.7360,2,  34.7360,2,    159.3,2,    156.9,2
   3175MB95_02,  IR03,   123,1,      1,      1,2,19950417,1543,  7.0897,  61.9912, 4072,   4076.4,   1.6846,  34.7350,2,  34.7349,2,    161.3,2,    157.7,2
   3175MB95_02,  IR03,   124,1,     24,     24,2,19950417,2035,  7.4487,  62.3317, 4125,      2.0,  29.4764,  35.0773,2,  35.0776,2,    206.6,2,    193.1,3
   3175MB95_02,  IR03,   124,1,     23,     23,2,19950417,2035,  7.4487,  62.3317, 4125,     49.3,  28.8698,  35.2945,2,  35.3452,4,    212.7,2,    202.3,2
   3175MB95_02,  IR03,   124,1,     22,     22,2,19950417,2035,  7.4487,  62.3317, 4125,     96.7,  25.3606,  35.6372,2,  35.6580,3,    182.6,2,    166.6,3
   3175MB95_02,  IR03,   124,1,     21,     21,2,19950417,2035,  7.4487,  62.3317, 4125,    172.8,  17.1197,  35.3642,2,  35.3668,2,     73.7,2,     69.2,2
   3175MB95_02,  IR03,   124,1,     20,     20,2,19950417,2035,  7.4487,  62.3317, 4125,    246.6,  13.8535,  35.2843,2,  35.2888,2,     63.3,2,     59.6,2
   3175MB95_02,  IR03,   124,1,     19,     19,2,19950417,2035,  7.4487,  62.3317, 4125,    326.5,  12.2021,  35.2335,2,  35.2358,2,     63.0,2,     58.4,2
   3175MB95_02,  IR03,   124,1,     18,     18,2,19950417,2035,  7.4487,  62.3317, 4125,    414.8,  11.1809,  35.2318,2,  35.2318,2,     29.3,2,     28.3,2
   3175MB95_02,  IR03,   124,1,     17,     17,2,19950417,2035,  7.4487,  62.3317, 4125,    517.5,  10.5594,  35.2409,2,  35.2423,2,     21.7,2,     21.3,2
   3175MB95_02,  IR03,   124,1,     16,     16,2,19950417,2035,  7.4487,  62.3317, 4125,    611.7,  10.0072,  35.2323,2,  35.2359,2,     19.4,2,     21.1,2
   3175MB95_02,  IR03,   124,1,     15,     15,2,19950417,2035,  7.4487,  62.3317, 4125,    723.8,   9.2411,  35.1787,2,  35.1800,2,     21.1,2,     20.8,2
   3175MB95_02,  IR03,   124,1,     14,     14,2,19950417,2035,  7.4487,  62.3317, 4125,    926.5,   7.6840,  35.0996,2,  35.0984,2,     31.4,2,     30.7,2
   3175MB95_02,  IR03,   124,1,     13,     13,2,19950417,2035,  7.4487,  62.3317, 4125,   1118.0,   6.8465,  35.0768,2,  35.0774,2,     41.8,2,     40.2,2
   3175MB95_02,  IR03,   124,1,     12,     12,2,19950417,2035,  7.4487,  62.3317, 4125,   1320.9,   5.5979,  34.9802,2,  34.9811,2,     61.9,2,     59.9,2
   3175MB95_02,  IR03,   124,1,     11,     11,2,19950417,2035,  7.4487,  62.3317, 4125,   1488.7,   4.8287,  34.9237,2,  34.9235,2,     76.1,2,     73.4,2
   3175MB95_02,  IR03,   124,1,     10,     10,2,19950417,2035,  7.4487,  62.3317, 4125,   1722.1,   3.6741,  34.8443,2,  34.8441,2,    101.3,2,     99.3,2
   3175MB95_02,  IR03,   124,1,      9,      9,2,19950417,2035,  7.4487,  62.3317, 4125,   1918.6,   3.1204,  34.8187,2,  34.8181,2,    111.4,2,    109.5,2
   3175MB95_02,  IR03,   124,1,      8,      8,2,19950417,2035,  7.4487,  62.3317, 4125,   2122.9,   2.6471,  34.7914,2,  34.7910,2,    124.3,2,    122.6,2
   3175MB95_02,  IR03,   124,1,      7,      7,2,19950417,2035,  7.4487,  62.3317, 4125,   2390.5,   2.2585,  34.7689,2,  34.7695,2,    135.7,2,    134.5,2
   3175MB95_02,  IR03,   124,1,      6,      6,2,19950417,2035,  7.4487,  62.3317, 4125,   2675.0,   2.0025,  34.7550,2,  34.7581,2,    143.3,2,    143.2,2
   3175MB95_02,  IR03,   124,1,      5,      5,2,19950417,2035,  7.4487,  62.3317, 4125,   3000.9,   1.8120,  34.7460,2,  34.7460,2,    149.1,2,    148.6,2
   3175MB95_02,  IR03,   124,1,      4,      4,2,19950417,2035,  7.4487,  62.3317, 4125,   3294.4,   1.6994,  34.7393,2,  34.7392,2,    153.7,2,    153.2,2
   3175MB95_02,  IR03,   124,1,      3,      3,2,19950417,2035,  7.4487,  62.3317, 4125,   3599.2,   1.6476,  34.7358,2,  34.7359,2,    157.8,2,    156.8,2
   3175MB95_02,  IR03,   124,1,      2,      2,2,19950417,2035,  7.4487,  62.3317, 4125,   3846.2,   1.6491,  34.7346,2,  34.7359,2,    159.2,2,    158.2,2
   3175MB95_02,  IR03,   124,1,      1,      1,2,19950417,2035,  7.4487,  62.3317, 4125,   4187.5,   1.6608,  34.7334,2,  34.7346,2,    162.0,2,    159.6,2
   3175MB95_02,  IR03,   125,1,     24,     24,2,19950418,0142,  7.8107,  62.6600, 4200,      1.9,  29.4201,  34.9733,2,  34.9759,2,    203.8,2,    193.7,2
   3175MB95_02,  IR03,   125,1,     23,     23,2,19950418,0142,  7.8107,  62.6600, 4200,     35.5,  28.6162,  35.4060,2,  35.3960,3,    212.3,2,    202.4,2
   3175MB95_02,  IR03,   125,1,     22,     22,2,19950418,0142,  7.8107,  62.6600, 4200,     71.7,  25.8154,  35.5870,2,  35.5652,3,    193.3,2,    186.1,2
   3175MB95_02,  IR03,   125,1,     21,     21,2,19950418,0142,  7.8107,  62.6600, 4200,    109.6,  23.4952,  35.7662,2,  35.8149,4,    122.9,2,    125.7,2
   3175MB95_02,  IR03,   125,1,     20,     20,2,19950418,0142,  7.8107,  62.6600, 4200,    167.9,  18.4901,  35.4672,2,  35.4645,2,     62.2,2,     56.2,2
   3175MB95_02,  IR03,   125,1,     19,     19,2,19950418,0142,  7.8107,  62.6600, 4200,    274.1,  13.5557,  35.3335,2,  35.3328,2,     44.5,2,     40.8,2
   3175MB95_02,  IR03,   125,1,     18,     18,2,19950418,0142,  7.8107,  62.6600, 4200,    372.1,  11.7800,  35.2104,2,  35.2123,2,     41.0,2,     45.8,2
   3175MB95_02,  IR03,   125,1,     17,     17,2,19950418,0142,  7.8107,  62.6600, 4200,    470.0,  11.0120,  35.2541,2,  35.2487,2,     25.2,2,     24.6,2
   3175MB95_02,  IR03,   125,1,     16,     16,2,19950418,0142,  7.8107,  62.6600, 4200,    572.7,  10.4605,  35.2787,2,  35.2724,3,     17.7,2,     18.2,2
   3175MB95_02,  IR03,   125,1,     15,     15,2,19950418,0142,  7.8107,  62.6600, 4200,    672.2,   9.3795,  35.1699,2,  35.1731,2,     20.7,2,     26.4,2
   3175MB95_02,  IR03,   125,1,     14,     14,2,19950418,0142,  7.8107,  62.6600, 4200,    870.7,   8.1375,  35.1181,2,  35.1177,2,     26.4,2,     25.8,2
   3175MB95_02,  IR03,   125,1,     13,     13,2,19950418,0142,  7.8107,  62.6600, 4200,   1073.8,   7.0337,  35.0870,2,  35.0848,2,     38.5,2,     38.5,2
   3175MB95_02,  IR03,   125,1,     12,     12,2,19950418,0142,  7.8107,  62.6600, 4200,   1274.1,   6.1559,  35.0398,2,  35.0409,2,     48.6,2,     48.6,2
   3175MB95_02,  IR03,   125,1,     11,     11,2,19950418,0142,  7.8107,  62.6600, 4200,   1460.4,   5.1295,  34.9583,2,  34.9601,2,     64.5,2,     62.6,2
   3175MB95_02,  IR03,   125,1,     10,     10,2,19950418,0142,  7.8107,  62.6600, 4200,   1673.3,   4.0188,  34.8781,2,  34.8774,2,     88.7,2,     87.9,2
   3175MB95_02,  IR03,   125,1,      9,      9,2,19950418,0142,  7.8107,  62.6600, 4200,   1843.2,   3.2374,  34.8233,2,  34.8234,2,    109.8,2,    107.4,2
   3175MB95_02,  IR03,   125,1,      8,      8,2,19950418,0142,  7.8107,  62.6600, 4200,   2199.7,   2.4339,  34.7786,2,  34.7769,2,    130.6,2,    132.2,2
   3175MB95_02,  IR03,   125,1,      7,      7,2,19950418,0142,  7.8107,  62.6600, 4200,   2497.8,   2.1347,  34.7623,2,  34.7625,2,    139.0,2,    139.1,2
   3175MB95_02,  IR03,   125,1,      6,      6,2,19950418,0142,  7.8107,  62.6600, 4200,   2798.4,   1.9302,  34.7516,2,  34.7506,2,    145.1,2,    145.4,2
   3175MB95_02,  IR03,   125,1,      5,      5,2,19950418,0142,  7.8107,  62.6600, 4200,   3078.7,   1.7898,  34.7446,2,  34.7446,2,    149.5,2,    150.2,2
   3175MB95_02,  IR03,   125,1,      4,      4,2,19950418,0142,  7.8107,  62.6600, 4200,   3399.8,   1.6893,  34.7385,2,  34.7370,2,    154.2,2,    154.4,2
   3175MB95_02,  IR03,   125,1,      3,      3,2,19950418,0142,  7.8107,  62.6600, 4200,   3699.1,   1.6325,  34.7347,2,  34.7337,2,    158.6,2,    158.2,2
   3175MB95_02,  IR03,   125,1,      2,      2,2,19950418,0142,  7.8107,  62.6600, 4200,   3951.7,   1.6353,  34.7335,2,  34.7324,2,    160.6,2,    160.4,2
   3175MB95_02,  IR03,   125,1,      1,      1,2,19950418,0142,  7.8107,  62.6600, 4200,   4197.6,   1.6369,  34.7324,2,  34.7325,2,    162.9,2,    161.7,2