BOTTLE,20220630CCHSIOAMB
EXPOCODE,SECT_ID,STNNBR,CASTNO,SAMPNO,BTLNBR,BTLNBR_FLAG_W,DATE,TIME,LATITUDE,LONGITUDE,DEPTH,CTDPRS,CTDTMP,CTDSAL,CTDSAL_FLAG_W,SALNTY,SALNTY_FLAG_W,CTDOXY,CTDOXY_FLAG_W,OXYGEN,OXYGEN_FLAG_W
,,,,,,,,,,,,DBAR,ITS-90,PSS-78,,PSS-78,,UMOL/KG,,UMOL/KG,
   3175MB95_02,  IR03,    76,1,     24,     24,2,19950408,0728,-10.4275,  52.8397, 4410,      3.1,  28.9490,  34.8880,2,  34.8873,2,    195.9,2,    195.5,2
   3175MB95_02,  IR03,    76,1,     23,     23,2,19950408,0728,-10.4275,  52.8397, 4410,     48.9,  25.5615,  34.9727,2,  34.9755,2,    212.7,2,    212.0,2
   3175MB95_02,  IR03,    76,1,     22,     22,2,19950408,0728,-10.4275,  52.8397, 4410,     97.8,  20.9077,  35.1713,2,  35.1781,2,    149.0,2,    150.5,2
   3175MB95_02,  IR03,    76,1,     21,     21,2,19950408,0728,-10.4275,  52.8397, 4410,    148.8,  16.2756,  35.1650,2,  35.1685,2,    111.5,2,    106.7,2
   3175MB95_02,  IR03,    76,1,     20,     20,2,19950408,0728,-10.4275,  52.8397, 4410,    197.8,  12.9963,  35.0580,2,  35.0617,2,    135.2,2,    123.2,3
   3175MB95_02,  IR03,    76,1,     19,     19,2,19950408,0728,-10.4275,  52.8397, 4410,    270.9,  11.3731,  34.9666,2,  34.9696,2,    169.6,2,    164.4,2
   3175MB95_02,  IR03,    76,1,     18,     18,2,19950408,0728,-10.4275,  52.8397, 4410,    349.0,  10.3530,  34.8657,2,  34.8679,2,    166.9,2,    162.2,2
   3175MB95_02,  IR03,    76,1,     17,     17,2,19950408,0728,-10.4275,  52.8397, 4410,    447.3,   9.5553,  34.7993,2,  34.8016,2,    163.9,2,    160.2,2
   3175MB95_02,  IR03,    76,1,     16,     16,2,19950408,0728,-10.4275,  52.8397, 4410,    548.1,   8.3091,  34.7242,2,  34.7239,2,    142.5,2,    141.8,2
   3175MB95_02,  IR03,    76,1,     15,     15,2,19950408,0728,-10.4275,  52.8397, 4410,    698.5,   6.9184,  34.7479,2,  34.7454,2,    111.1,2,    111.7,2
   3175MB95_02,  IR03,    76,1,     14,     14,2,19950408,0728,-10.4275,  52.8397, 4410,    895.2,   5.9419,  34.7974,2,  34.7984,2,     88.6,2,     86.2,2
   3175MB95_02,  IR03,    76,1,     13,     13,2,19950408,0728,-10.4275,  52.8397, 4410,   1099.7,   5.1954,  34.7917,2,  34.7906,2,     94.1,2,     91.3,2
   3175MB95_02,  IR03,    76,1,     12,     12,2,19950408,0728,-10.4275,  52.8397, 4410,   1300.5,   4.3239,  34.7647,2,  34.7632,2,    109.7,2,    107.8,2
   3175MB95_02,  IR03,    76,1,     11,     11,2,19950408,0728,-10.4275,  52.8397, 4410,   1498.2,   3.5926,  34.7491,2,  34.7534,3,    125.6,2,    124.2,2
   3175MB95_02,  IR03,    76,1,     10,     10,2,19950408,0728,-10.4275,  52.8397, 4410,   1797.2,   2.8685,  34.7442,2,  34.7432,2,    140.0,2,    139.3,2
   3175MB95_02,  IR03,    76,1,      9,      9,2,19950408,0728,-10.4275,  52.8397, 4410,   2099.3,   2.2839,  34.7440,2,  34.7427,2,    149.8,2,    151.1,2
   3175MB95_02,  IR03,    76,1,      8,      8,2,19950408,0728,-10.4275,  52.8397, 4410,   2396.2,   2.0977,  34.7475,2,  34.7461,2,    151.7,2,    152.2,2
   3175MB95_02,  IR03,    76,1,      7,      7,2,19950408,0728,-10.4275,  52.8397, 4410,   2695.7,   1.9470,  34.7437,2,  34.7425,2,    154.7,2,    155.5,2
   3175MB95_02,  IR03,    76,1,      6,      6,2,19950408,0728,-10.4275,  52.8397, 4410,   2997.2,   1.8495,  34.7406,2,  34.7400,2,    157.6,2,    158.1,2
   3175MB95_02,  IR03,    76,1,      5,      5,2,19950408,0728,-10.4275,  52.8397, 4410,   3297.7,   1.7380,  34.7357,2,  34.7354,2,    162.8,2,    163.1,2
   3175MB95_02,  IR03,    76,1,      4,      4,2,19950408,0728,-10.4275,  52.8397, 4410,   3600.2,   1.6445,  34.7315,2,  34.7311,2,    168.2,2,    168.1,2
   3175MB95_02,  IR03,    76,1,      3,      3,2,19950408,0728,-10.4275,  52.8397, 4410,   3998.9,   1.4685,  34.7248,2,  34.7229,2,    179.2,2,    178.8,2
   3175MB95_02,  IR03,    76,1,      1,      1,2,19950408,0728,-10.4275,  52.8397, 4410,   4415.4,   1.1115,  34.7118,2,  34.7104,2,    201.1,2,    199.3,2
   3175MB95_02,  IR03,    76,1,      2,      2,2,19950408,0728,-10.4275,  52.8397, 4410,   4477.9,   1.1095,  34.7112,2,  34.7109,2,    201.5,2,    198.2,2
   3175MB95_02,  IR03,    77,1,     24,     24,2,19950408,1232,-10.1193,  52.4798, 4693,      2.6,  29.1097,  34.7350,2,  34.7375,2,    195.8,2,    196.0,2
   3175MB95_02,  IR03,    77,1,     23,     23,2,19950408,1232,-10.1193,  52.4798, 4693,     33.8,  25.7437,  35.0010,2,  35.0083,2,    213.8,2,    215.0,2
   3175MB95_02,  IR03,    77,1,     22,     22,2,19950408,1232,-10.1193,  52.4798, 4693,     73.0,  22.4448,  35.1039,2,  35.1150,2,    168.2,2,    174.6,2
   3175MB95_02,  IR03,    77,1,     21,     21,2,19950408,1232,-10.1193,  52.4798, 4693,    125.2,  18.1528,  35.2356,2,  35.2429,2,    112.3,2,    109.6,2
   3175MB95_02,  IR03,    77,1,     20,     20,2,19950408,1232,-10.1193,  52.4798, 4693,    198.3,  13.1293,  35.0825,2,  35.0890,2,    140.3,2,    133.2,2
   3175MB95_02,  IR03,    77,1,     19,     19,2,19950408,1232,-10.1193,  52.4798, 4693,    279.1,  11.3743,  34.9665,2,  34.9674,2,    135.8,2,    131.2,2
   3175MB95_02,  IR03,    77,1,     18,     18,2,19950408,1232,-10.1193,  52.4798, 4693,    396.5,   9.4647,  34.8332,2,  34.8350,2,    131.4,2,    127.5,2
   3175MB95_02,  IR03,    77,1,     17,     17,2,19950408,1232,-10.1193,  52.4798, 4693,    497.2,   8.9716,  34.8012,2,  34.8026,2,    135.5,2,    130.9,2
   3175MB95_02,  IR03,    77,1,     16,     16,2,19950408,1232,-10.1193,  52.4798, 4693,    651.8,   7.6021,  34.7458,2,  34.7462,2,    122.8,2,    121.1,2
   3175MB95_02,  IR03,    77,1,     15,     15,2,19950408,1232,-10.1193,  52.4798, 4693,    745.8,   7.1764,  34.7732,2,  34.7718,2,    107.2,2,    104.8,2
   3175MB95_02,  IR03,    77,1,     14,     14,2,19950408,1232,-10.1193,  52.4798, 4693,    901.4,   5.9634,  34.7718,2,  34.7721,2,     98.8,2,     95.9,2
   3175MB95_02,  IR03,    77,1,     13,     13,2,19950408,1232,-10.1193,  52.4798, 4693,    999.4,   5.4922,  34.7594,2,  34.7605,2,    102.5,2,     99.7,2
   3175MB95_02,  IR03,    77,1,     12,     12,2,19950408,1232,-10.1193,  52.4798, 4693,   1301.8,   4.3642,  34.7661,2,  34.7661,2,    109.1,2,    115.6,3
   3175MB95_02,  IR03,    77,1,     11,     11,2,19950408,1232,-10.1193,  52.4798, 4693,   1501.6,   3.6437,  34.7540,2,  34.7553,2,    122.4,2,    121.7,2
   3175MB95_02,  IR03,    77,1,     10,     10,2,19950408,1232,-10.1193,  52.4798, 4693,   1799.8,   2.8971,  34.7429,2,  34.7459,2,    139.1,2,    138.8,2
   3175MB95_02,  IR03,    77,1,      9,      9,2,19950408,1232,-10.1193,  52.4798, 4693,   2099.2,   2.3386,  34.7417,2,  34.7438,2,    149.4,2,    149.6,2
   3175MB95_02,  IR03,    77,1,      8,      8,2,19950408,1232,-10.1193,  52.4798, 4693,   2399.8,   2.1229,  34.7428,2,  34.7417,2,    152.4,2,    153.0,2
   3175MB95_02,  IR03,    77,1,      7,      7,2,19950408,1232,-10.1193,  52.4798, 4693,   2695.8,   1.9351,  34.7417,2,  34.7468,3,    155.7,2,    156.6,2
   3175MB95_02,  IR03,    77,1,      6,      6,2,19950408,1232,-10.1193,  52.4798, 4693,   2999.4,   1.8380,  34.7391,2,  34.7385,2,    158.5,2,    159.6,2
   3175MB95_02,  IR03,    77,1,      5,      5,2,19950408,1232,-10.1193,  52.4798, 4693,   3300.8,   1.6786,  34.7334,2,  34.7340,2,    164.3,2,    165.2,2
   3175MB95_02,  IR03,    77,1,      4,      4,2,19950408,1232,-10.1193,  52.4798, 4693,   3698.1,   1.5795,  34.7292,2,  34.7298,2,    170.6,2,    171.1,2
   3175MB95_02,  IR03,    77,1,      3,      3,2,19950408,1232,-10.1193,  52.4798, 4693,   4100.4,   1.3172,  34.7189,2,  34.7184,2,    187.5,2,    187.3,2
   3175MB95_02,  IR03,    77,1,      2,      2,2,19950408,1232,-10.1193,  52.4798, 4693,   4399.8,   1.1500,  34.7130,2,  34.7136,2,    196.9,3,    197.1,2
   3175MB95_02,  IR03,    77,1,      1,      1,2,19950408,1232,-10.1193,  52.4798, 4693,   4771.8,   1.1465,  34.7116,2,  34.7126,2,    201.6,2,    198.9,2
   3175MB95_02,  IR03,    78,1,     24,     24,2,19950408,1711, -9.9693,  52.3092, 4265,      2.5,  29.1096,  34.7780,2,  34.7805,2,    196.4,2,    195.6,2
   3175MB95_02,  IR03,    78,1,     23,     23,2,19950408,1711, -9.9693,  52.3092, 4265,     48.7,  24.4795,  35.0172,2,  35.0278,2,    206.8,2,    205.3,2
   3175MB95_02,  IR03,    78,1,     22,     22,2,19950408,1711, -9.9693,  52.3092, 4265,     95.4,  20.6754,  35.1527,2,  35.1652,2,    137.9,2,    138.7,2
   3175MB95_02,  IR03,    78,1,     21,     21,2,19950408,1711, -9.9693,  52.3092, 4265,    148.9,  15.4581,  35.1239,2,  35.1329,2,    118.1,2,    112.6,2
   3175MB95_02,  IR03,    78,1,     20,     20,2,19950408,1711, -9.9693,  52.3092, 4265,    200.2,  12.6975,  35.0412,2,  35.0426,2,    134.8,2,    128.7,2
   3175MB95_02,  IR03,    78,1,     19,     19,2,19950408,1711, -9.9693,  52.3092, 4265,    299.3,  11.1829,  34.9474,2,  34.9479,2,    145.5,2,    140.0,2
   3175MB95_02,  IR03,    78,1,     18,     18,2,19950408,1711, -9.9693,  52.3092, 4265,    400.1,  10.2202,  34.8795,2,  34.8808,2,    140.6,2,    135.3,2
   3175MB95_02,  IR03,    78,1,     17,     17,2,19950408,1711, -9.9693,  52.3092, 4265,    498.2,   9.1590,  34.8238,2,  34.8245,2,    121.5,2,    116.1,2
   3175MB95_02,  IR03,    78,1,     16,     16,2,19950408,1711, -9.9693,  52.3092, 4265,    599.4,   8.6244,  34.7997,2,  34.7997,2,    125.0,2,    121.6,2
   3175MB95_02,  IR03,    78,1,     15,     15,2,19950408,1711, -9.9693,  52.3092, 4265,    699.2,   7.7831,  34.7794,2,  34.7790,2,    116.5,2,    114.0,2
   3175MB95_02,  IR03,    78,1,     14,     14,2,19950408,1711, -9.9693,  52.3092, 4265,    798.4,   7.3572,  34.7843,2,  34.7841,2,    105.6,2,    105.8,2
   3175MB95_02,  IR03,    78,1,     13,     13,2,19950408,1711, -9.9693,  52.3092, 4265,    949.3,   6.4061,  34.7797,2,  34.7781,2,     99.0,2,     96.5,2
   3175MB95_02,  IR03,    78,1,     12,     12,2,19950408,1711, -9.9693,  52.3092, 4265,   1095.3,   5.4439,  34.7506,2,  34.7505,2,    104.8,2,    103.0,2
   3175MB95_02,  IR03,    78,1,     11,     11,2,19950408,1711, -9.9693,  52.3092, 4265,   1300.5,   4.7256,  34.7677,2,  34.7670,2,    105.2,2,    102.8,2
   3175MB95_02,  IR03,    78,1,     10,     10,2,19950408,1711, -9.9693,  52.3092, 4265,   1599.3,   3.4930,  34.7537,2,-999.0000,9,    126.9,2,   -999.0,9
   3175MB95_02,  IR03,    78,1,      9,      9,2,19950408,1711, -9.9693,  52.3092, 4265,   1896.8,   2.7774,  34.7431,2,  34.7433,2,    141.8,2,    141.1,2
   3175MB95_02,  IR03,    78,1,      8,      8,2,19950408,1711, -9.9693,  52.3092, 4265,   2198.6,   2.3474,  34.7439,2,  34.7434,2,    148.9,2,    149.0,2
   3175MB95_02,  IR03,    78,1,      7,      7,2,19950408,1711, -9.9693,  52.3092, 4265,   2498.3,   2.1153,  34.7481,2,  34.7476,2,    151.7,2,    152.3,2
   3175MB95_02,  IR03,    78,1,      6,      6,2,19950408,1711, -9.9693,  52.3092, 4265,   2796.7,   1.9605,  34.7444,2,  34.7437,2,    155.2,2,    151.6,2
   3175MB95_02,  IR03,    78,1,      5,      5,2,19950408,1711, -9.9693,  52.3092, 4265,   3097.5,   1.8095,  34.7385,2,  34.7560,4,    160.0,2,    160.1,2
   3175MB95_02,  IR03,    78,1,      4,      4,2,19950408,1711, -9.9693,  52.3092, 4265,   3400.0,   1.6873,  34.7335,2,  34.7338,2,    165.7,2,    165.3,2
   3175MB95_02,  IR03,    78,1,      3,      3,2,19950408,1711, -9.9693,  52.3092, 4265,   3699.7,   1.5632,  34.7284,2,  34.7283,2,    172.6,2,    172.3,2
   3175MB95_02,  IR03,    78,1,      2,      2,2,19950408,1711, -9.9693,  52.3092, 4265,   3925.5,   1.4572,  34.7244,2,  34.7269,2,    180.3,2,    178.6,2
   3175MB95_02,  IR03,    78,1,      1,      1,2,19950408,1711, -9.9693,  52.3092, 4265,   4344.6,   1.1671,  34.7139,2,  34.7178,2,    198.3,2,    195.7,2
   3175MB95_02,  IR03,    79,1,     24,     24,2,19950408,2117, -9.8208,  52.1312, 4222,      1.8,  29.0609,  34.7737,2,  34.7743,2,    195.5,2,    195.5,2
   3175MB95_02,  IR03,    79,1,     23,     23,2,19950408,2117, -9.8208,  52.1312, 4222,     34.8,  29.0183,  34.7683,2,  34.7738,2,    196.4,2,    196.0,2
   3175MB95_02,  IR03,    79,1,     22,     22,2,19950408,2117, -9.8208,  52.1312, 4222,     74.7,  24.6046,  35.0232,2,  35.0282,2,    199.8,2,    198.5,2
   3175MB95_02,  IR03,    79,1,     21,     21,2,19950408,2117, -9.8208,  52.1312, 4222,    125.0,  20.8345,  35.1748,2,  35.1899,2,    137.1,2,    133.2,2
   3175MB95_02,  IR03,    79,1,     20,     20,2,19950408,2117, -9.8208,  52.1312, 4222,    149.9,  16.9316,  35.1412,2,  35.1477,2,    118.1,2,    114.1,2
   3175MB95_02,  IR03,    79,1,     19,     19,2,19950408,2117, -9.8208,  52.1312, 4222,    250.2,  11.9043,  35.0023,2,  34.9982,2,    129.4,2,    124.9,2
   3175MB95_02,  IR03,    79,1,     18,     18,2,19950408,2117, -9.8208,  52.1312, 4222,    350.4,  10.7281,  34.9159,2,  34.9147,2,    135.2,2,    130.5,2
   3175MB95_02,  IR03,    79,1,     17,     17,2,19950408,2117, -9.8208,  52.1312, 4222,    450.5,   9.6217,  34.8402,2,  34.8391,2,    138.9,2,    135.7,2
   3175MB95_02,  IR03,    79,1,     16,     16,2,19950408,2117, -9.8208,  52.1312, 4222,    546.5,   8.5892,  34.8043,2,  34.8032,2,    120.1,3,    116.3,2
   3175MB95_02,  IR03,    79,1,     15,     15,2,19950408,2117, -9.8208,  52.1312, 4222,    650.3,   7.9050,  34.7908,2,  34.7908,2,    111.4,2,    107.2,2
   3175MB95_02,  IR03,    79,1,     14,     14,2,19950408,2117, -9.8208,  52.1312, 4222,    750.6,   7.4610,  34.7746,2,  34.7834,3,    113.6,2,    110.5,2
   3175MB95_02,  IR03,    79,1,     13,     13,2,19950408,2117, -9.8208,  52.1312, 4222,    850.7,   6.8956,  34.8046,2,  34.8101,3,     96.7,2,     94.1,2
   3175MB95_02,  IR03,    79,1,     12,     12,2,19950408,2117, -9.8208,  52.1312, 4222,   1000.2,   5.7432,  34.7723,2,  34.7796,3,     98.7,2,     96.6,2
   3175MB95_02,  IR03,    79,1,     11,     11,2,19950408,2117, -9.8208,  52.1312, 4222,   1206.0,   4.9182,  34.7724,2,  34.7723,2,    101.0,2,     99.2,2
   3175MB95_02,  IR03,    79,1,     10,     10,2,19950408,2117, -9.8208,  52.1312, 4222,   1400.5,   4.2195,  34.7610,2,  34.7610,2,    112.3,2,    110.2,2
   3175MB95_02,  IR03,    79,1,      9,      9,2,19950408,2117, -9.8208,  52.1312, 4222,   1697.9,   3.2073,  34.7475,2,  34.7478,2,    133.1,2,    131.7,2
   3175MB95_02,  IR03,    79,1,      8,      8,2,19950408,2117, -9.8208,  52.1312, 4222,   1997.5,   2.5497,  34.7436,2,  34.7444,2,    145.6,2,    147.0,2
   3175MB95_02,  IR03,    79,1,      7,      7,2,19950408,2117, -9.8208,  52.1312, 4222,   2289.6,   2.2216,  34.7478,2,  34.7472,2,    150.3,2,    150.4,2
   3175MB95_02,  IR03,    79,1,      6,      6,2,19950408,2117, -9.8208,  52.1312, 4222,   2590.3,   2.0391,  34.7469,2,  34.7463,2,    152.6,2,    153.3,2
   3175MB95_02,  IR03,    79,1,      5,      5,2,19950408,2117, -9.8208,  52.1312, 4222,   2892.4,   1.9222,  34.7433,2,  34.7471,2,    155.5,2,    155.9,2
   3175MB95_02,  IR03,    79,1,      4,      4,2,19950408,2117, -9.8208,  52.1312, 4222,   3199.2,   1.7758,  34.7373,2,  34.7370,2,    161.4,2,    161.8,2
   3175MB95_02,  IR03,    79,1,      3,      3,2,19950408,2117, -9.8208,  52.1312, 4222,   3549.1,   1.5747,  34.7289,2,  34.7298,2,    171.6,2,    171.5,2
   3175MB95_02,  IR03,    79,1,      2,      2,2,19950408,2117, -9.8208,  52.1312, 4222,   3901.3,   1.3787,  34.7219,2,  34.7207,2,    183.2,2,    182.7,2
   3175MB95_02,  IR03,    79,1,      1,      1,2,19950408,2117, -9.8208,  52.1312, 4222,   4286.4,   1.1748,  34.7139,2,  34.7126,2,    197.2,2,    195.2,2
   3175MB95_02,  IR03,    80,1,     24,     24,2,19950409,0122, -9.7195,  52.0105, 4190,      3.0,  29.0738,  34.7632,2,  34.7644,2,    194.0,2,    194.9,2
   3175MB95_02,  IR03,    80,1,     23,     23,2,19950409,0122, -9.7195,  52.0105, 4190,     48.6,  24.2717,  35.0185,2,  35.0200,2,    192.3,2,    196.2,2
   3175MB95_02,  IR03,    80,1,     22,     22,2,19950409,0122, -9.7195,  52.0105, 4190,     98.7,  21.0255,  35.1830,2,  35.1896,2,    138.7,3,    136.6,2
   3175MB95_02,  IR03,    80,1,     21,     21,2,19950409,0122, -9.7195,  52.0105, 4190,    149.6,  16.3083,  35.1356,2,  35.1398,2,    116.2,2,    112.5,2
   3175MB95_02,  IR03,    80,1,     20,     20,2,19950409,0122, -9.7195,  52.0105, 4190,    199.4,  13.4117,  35.0687,2,  35.0698,2,    132.7,2,    127.4,2
   3175MB95_02,  IR03,    80,1,     19,     19,2,19950409,0122, -9.7195,  52.0105, 4190,    298.5,  11.2114,  34.9497,2,  34.9469,2,    141.1,2,    136.7,2
   3175MB95_02,  IR03,    80,1,     18,     18,2,19950409,0122, -9.7195,  52.0105, 4190,    398.2,   9.6230,  34.8359,2,  34.8356,2,    142.7,2,    138.2,2
   3175MB95_02,  IR03,    80,1,     17,     17,2,19950409,0122, -9.7195,  52.0105, 4190,    496.8,   8.9929,  34.8141,2,  34.8132,2,    131.1,2,    127.6,2
   3175MB95_02,  IR03,    80,1,     16,     16,2,19950409,0122, -9.7195,  52.0105, 4190,    599.4,   8.2977,  34.7925,2,  34.7927,2,    119.5,2,    114.9,2
   3175MB95_02,  IR03,    80,1,     15,     15,2,19950409,0122, -9.7195,  52.0105, 4190,    699.7,   7.7419,  34.7838,2,  34.7836,2,    108.7,2,    108.1,2
   3175MB95_02,  IR03,    80,1,     14,     14,2,19950409,0122, -9.7195,  52.0105, 4190,    794.6,   6.9571,  34.7524,2,  34.7518,2,    108.5,2,    106.1,2
   3175MB95_02,  IR03,    80,1,     13,     13,2,19950409,0122, -9.7195,  52.0105, 4190,    895.6,   6.4960,  34.7860,2,  34.7849,2,     98.2,2,     95.7,2
   3175MB95_02,  IR03,    80,1,     12,     12,2,19950409,0122, -9.7195,  52.0105, 4190,   1099.3,   5.2326,  34.7606,2,  34.7602,2,    102.6,2,    100.4,2
   3175MB95_02,  IR03,    80,1,     11,     11,2,19950409,0122, -9.7195,  52.0105, 4190,   1301.4,   4.3958,  34.7605,2,  34.7618,2,    109.7,2,    107.2,2
   3175MB95_02,  IR03,    80,1,     10,     10,2,19950409,0122, -9.7195,  52.0105, 4190,   1499.2,   3.7165,  34.7520,2,  34.7505,2,    122.9,2,    121.0,2
   3175MB95_02,  IR03,    80,1,      9,      9,2,19950409,0122, -9.7195,  52.0105, 4190,   1794.7,   3.0575,  34.7454,2,  34.7449,2,    136.0,2,    135.1,2
   3175MB95_02,  IR03,    80,1,      8,      8,2,19950409,0122, -9.7195,  52.0105, 4190,   2054.2,   2.5087,  34.7425,2,  34.7417,2,    146.4,2,    146.1,2
   3175MB95_02,  IR03,    80,1,      7,      7,2,19950409,0122, -9.7195,  52.0105, 4190,   2384.7,   2.1873,  34.7460,2,  34.7446,2,    151.2,2,    151.4,2
   3175MB95_02,  IR03,    80,1,      6,      6,2,19950409,0122, -9.7195,  52.0105, 4190,   2697.6,   2.0072,  34.7455,2,  34.7441,2,    153.7,2,    154.2,2
   3175MB95_02,  IR03,    80,1,      5,      5,2,19950409,0122, -9.7195,  52.0105, 4190,   2997.9,   1.8867,  34.7416,2,  34.7394,2,    157.4,2,    158.0,2
   3175MB95_02,  IR03,    80,1,      4,      4,2,19950409,0122, -9.7195,  52.0105, 4190,   3340.5,   1.7598,  34.7366,2,  34.7353,2,    162.2,2,    162.5,2
   3175MB95_02,  IR03,    80,1,      3,      3,2,19950409,0122, -9.7195,  52.0105, 4190,   3708.6,   1.3698,  34.7225,2,  34.7203,2,    182.1,2,    181.5,2
   3175MB95_02,  IR03,    80,1,      2,      2,2,19950409,0122, -9.7195,  52.0105, 4190,   3999.9,   1.2948,  34.7190,2,  34.7182,2,    188.1,2,    187.3,2
   3175MB95_02,  IR03,    80,1,      1,      1,2,19950409,0122, -9.7195,  52.0105, 4190,   4248.3,   1.1167,  34.7122,2,  34.7108,2,    199.6,2,    197.5,2