BOTTLE,20220630CCHSIOAMB
EXPOCODE,SECT_ID,STNNBR,CASTNO,SAMPNO,BTLNBR,BTLNBR_FLAG_W,DATE,TIME,LATITUDE,LONGITUDE,DEPTH,CTDPRS,CTDTMP,CTDSAL,CTDSAL_FLAG_W,SALNTY,SALNTY_FLAG_W,CTDOXY,CTDOXY_FLAG_W,OXYGEN,OXYGEN_FLAG_W
,,,,,,,,,,,,DBAR,ITS-90,PSS-78,,PSS-78,,UMOL/KG,,UMOL/KG,
   3175MB95_02,  IR03,    46,1,     24,     24,2,19950331,0739,-24.4982,  54.9965, 4852,      2.7,  26.3886,  35.3194,2,  35.3215,2,    199.1,2,    203.6,2
   3175MB95_02,  IR03,    46,1,     23,     23,2,19950331,0739,-24.4982,  54.9965, 4852,     49.6,  25.4298,  35.5108,2,  35.5193,2,    208.1,2,    211.3,2
   3175MB95_02,  IR03,    46,1,     22,     22,2,19950331,0739,-24.4982,  54.9965, 4852,     98.7,  20.4629,  35.6385,2,  35.6161,4,    228.8,2,    228.2,2
   3175MB95_02,  IR03,    46,1,     21,     21,2,19950331,0739,-24.4982,  54.9965, 4852,    198.9,  15.9335,  35.5542,2,  35.5559,2,    216.2,2,    213.7,2
   3175MB95_02,  IR03,    46,1,     20,     20,2,19950331,0739,-24.4982,  54.9965, 4852,    300.5,  13.7850,  35.3469,2,  35.3475,2,    226.4,2,    224.2,2
   3175MB95_02,  IR03,    46,1,     19,     19,2,19950331,0739,-24.4982,  54.9965, 4852,    400.2,  12.8756,  35.2184,2,  35.2202,2,    227.9,2,    227.5,2
   3175MB95_02,  IR03,    46,1,     18,     18,2,19950331,0739,-24.4982,  54.9965, 4852,    501.3,  11.8529,  35.0569,2,  35.0600,2,    225.1,2,    226.2,2
   3175MB95_02,  IR03,    46,1,     17,     17,2,19950331,0739,-24.4982,  54.9965, 4852,    701.2,   9.6441,  34.7491,2,  34.7491,2,    214.3,2,    218.6,2
   3175MB95_02,  IR03,    46,1,     16,     16,2,19950331,0739,-24.4982,  54.9965, 4852,    897.6,   6.6949,  34.4909,2,  34.4924,2,    194.7,2,    199.7,2
   3175MB95_02,  IR03,    46,1,     15,     15,2,19950331,0739,-24.4982,  54.9965, 4852,   1100.7,   4.5752,  34.4481,2,  34.4473,2,    172.1,2,    177.5,2
   3175MB95_02,  IR03,    46,1,     14,     14,2,19950331,0739,-24.4982,  54.9965, 4852,   1299.8,   3.6878,  34.5450,2,  34.5487,2,    155.6,7,    156.9,2
   3175MB95_02,  IR03,    46,1,     13,     13,2,19950331,0739,-24.4982,  54.9965, 4852,   1502.9,   2.9849,  34.6201,2,-999.0000,9,    162.3,2,   -999.0,9
   3175MB95_02,  IR03,    46,1,     12,     12,2,19950331,0739,-24.4982,  54.9965, 4852,   1698.4,   2.6631,  34.6767,2,  34.6804,2,    165.7,7,    167.7,2
   3175MB95_02,  IR03,    46,1,     11,     11,2,19950331,0739,-24.4982,  54.9965, 4852,   1894.0,   2.4977,  34.7086,2,  34.7113,2,    164.9,7,    166.8,2
   3175MB95_02,  IR03,    46,1,     10,     10,2,19950331,0739,-24.4982,  54.9965, 4852,   2097.3,   2.3404,  34.7281,2,  34.7281,2,    162.2,2,    164.6,2
   3175MB95_02,  IR03,    46,1,      9,      9,2,19950331,0739,-24.4982,  54.9965, 4852,   2400.3,   2.1831,  34.7380,2,  34.7374,2,    160.6,2,    162.3,2
   3175MB95_02,  IR03,    46,1,      8,      8,2,19950331,0739,-24.4982,  54.9965, 4852,   2700.8,   2.0110,  34.7406,2,  34.7406,2,    160.4,2,    162.2,2
   3175MB95_02,  IR03,    46,1,      7,      7,2,19950331,0739,-24.4982,  54.9965, 4852,   2998.3,   1.8502,  34.7385,2,  34.7374,2,    163.5,2,    165.1,2
   3175MB95_02,  IR03,    46,1,      6,      6,2,19950331,0739,-24.4982,  54.9965, 4852,   3301.2,   1.6494,  34.7322,2,  34.7333,2,    171.2,3,   -999.0,9
   3175MB95_02,  IR03,    46,1,      5,      5,2,19950331,0739,-24.4982,  54.9965, 4852,   3595.7,   1.4390,  34.7251,2,  34.7243,2,    181.3,2,    182.7,2
   3175MB95_02,  IR03,    46,1,      4,      4,2,19950331,0739,-24.4982,  54.9965, 4852,   3833.5,   1.2957,  34.7206,2,  34.7197,2,    187.6,2,    189.2,2
   3175MB95_02,  IR03,    46,1,      3,      3,2,19950331,0739,-24.4982,  54.9965, 4852,   4198.5,   1.1097,  34.7132,2,  34.7153,2,    197.1,2,    198.4,2
   3175MB95_02,  IR03,    46,1,      2,      2,2,19950331,0739,-24.4982,  54.9965, 4852,   4591.1,   0.9861,  34.7074,2,  34.7077,2,    204.3,2,    204.9,2
   3175MB95_02,  IR03,    46,1,      1,      1,2,19950331,0739,-24.4982,  54.9965, 4852,   4942.4,   0.9849,  34.7057,2,  34.7068,2,    208.6,2,    206.5,2
   3175MB95_02,  IR03,    47,1,     24,     24,2,19950331,1325,-24.0007,  55.0003, 3999,      2.5,  26.2590,  35.4204,2,  35.4203,2,    191.9,2,    204.2,3
   3175MB95_02,  IR03,    47,1,     23,     23,2,19950331,1325,-24.0007,  55.0003, 3999,     33.9,  26.1396,  35.4104,2,  35.4206,2,    189.6,2,    205.5,3
   3175MB95_02,  IR03,    47,1,     22,     22,2,19950331,1325,-24.0007,  55.0003, 3999,    112.6,  20.3007,  35.4948,2,  35.4967,2,    181.3,2,    184.5,2
   3175MB95_02,  IR03,    47,1,     21,     21,2,19950331,1325,-24.0007,  55.0003, 3999,    139.6,  19.3023,  35.5108,2,  35.5219,2,    179.2,2,    173.8,2
   3175MB95_02,  IR03,    47,1,     20,     20,2,19950331,1325,-24.0007,  55.0003, 3999,    194.9,  17.3389,  35.6428,2,  35.6432,2,    221.6,2,    221.0,2
   3175MB95_02,  IR03,    47,1,     19,     19,2,19950331,1325,-24.0007,  55.0003, 3999,    279.0,  14.9033,  35.4626,2,  35.4606,2,    217.5,2,    214.8,2
   3175MB95_02,  IR03,    47,1,     18,     18,2,19950331,1325,-24.0007,  55.0003, 3999,    358.6,  13.5651,  35.3128,2,  35.3105,2,    223.2,3,    221.8,2
   3175MB95_02,  IR03,    47,1,     17,     17,2,19950331,1325,-24.0007,  55.0003, 3999,    427.6,  12.7815,  35.1964,2,  35.1941,2,    223.4,2,    222.1,2
   3175MB95_02,  IR03,    47,1,     16,     16,2,19950331,1325,-24.0007,  55.0003, 3999,    559.1,  11.3453,  34.9803,2,  34.9854,2,    224.1,2,    224.5,2
   3175MB95_02,  IR03,    47,1,     15,     15,2,19950331,1325,-24.0007,  55.0003, 3999,    662.6,  10.1838,  34.8174,2,  34.8216,2,    220.0,2,    221.3,2
   3175MB95_02,  IR03,    47,1,     14,     14,2,19950331,1325,-24.0007,  55.0003, 3999,    760.8,   8.9494,  34.6773,2,  34.6774,2,    207.0,2,    210.8,2
   3175MB95_02,  IR03,    47,1,     13,     13,2,19950331,1325,-24.0007,  55.0003, 3999,    901.8,   6.9470,  34.5113,2,  34.5126,2,    195.5,2,    198.5,2
   3175MB95_02,  IR03,    47,1,     12,     12,2,19950331,1325,-24.0007,  55.0003, 3999,   1038.1,   4.8887,  34.4269,2,  34.4328,3,    183.0,2,    186.5,2
   3175MB95_02,  IR03,    47,1,     11,     11,2,19950331,1325,-24.0007,  55.0003, 3999,   1303.4,   3.8907,  34.5844,2,  34.5839,2,    145.1,2,    145.7,2
   3175MB95_02,  IR03,    47,1,     10,     10,2,19950331,1325,-24.0007,  55.0003, 3999,   1600.2,   2.9261,  34.6492,2,  34.6498,2,    159.6,2,    160.1,2
   3175MB95_02,  IR03,    47,1,      9,      9,2,19950331,1325,-24.0007,  55.0003, 3999,   1902.6,   2.4888,  34.7067,2,  34.7062,2,    164.1,2,    165.6,2
   3175MB95_02,  IR03,    47,1,      8,      8,2,19950331,1325,-24.0007,  55.0003, 3999,   2199.5,   2.2483,  34.7333,2,  34.7357,2,    162.9,2,    164.3,2
   3175MB95_02,  IR03,    47,1,      7,      7,2,19950331,1325,-24.0007,  55.0003, 3999,   2501.4,   2.0947,  34.7400,2,  34.7443,3,    162.5,2,    163.6,2
   3175MB95_02,  IR03,    47,1,      6,      6,2,19950331,1325,-24.0007,  55.0003, 3999,   2699.8,   1.9864,  34.7393,2,  34.7389,2,    161.6,2,    162.1,2
   3175MB95_02,  IR03,    47,1,      5,      5,2,19950331,1325,-24.0007,  55.0003, 3999,   2900.7,   1.8894,  34.7373,2,  34.7389,2,    163.3,2,    163.7,2
   3175MB95_02,  IR03,    47,1,      4,      4,2,19950331,1325,-24.0007,  55.0003, 3999,   3100.0,   1.7988,  34.7355,2,  34.7342,2,    166.2,2,    166.5,2
   3175MB95_02,  IR03,    47,1,      3,      3,2,19950331,1325,-24.0007,  55.0003, 3999,   3400.5,   1.5457,  34.7286,2,  34.7276,2,    176.2,2,    176.2,2
   3175MB95_02,  IR03,    47,1,      2,      2,2,19950331,1325,-24.0007,  55.0003, 3999,   3702.2,   1.3532,  34.7222,2,  34.7219,2,    185.9,2,    185.3,2
   3175MB95_02,  IR03,    47,1,      1,      1,2,19950331,1325,-24.0007,  55.0003, 3999,   4116.7,   1.1733,  34.7153,2,  34.7168,2,    197.5,2,    195.2,2
   3175MB95_02,  IR03,    48,1,     24,     24,2,19950331,1844,-23.4972,  55.0000, 4210,      2.7,  26.5442,  35.3963,2,  35.3959,2,    199.0,2,    202.7,2
   3175MB95_02,  IR03,    48,1,     23,     23,2,19950331,1844,-23.4972,  55.0000, 4210,     34.3,  26.0650,  35.3987,2,  35.3991,2,    203.4,2,    206.9,2
   3175MB95_02,  IR03,    48,1,     22,     22,2,19950331,1844,-23.4972,  55.0000, 4210,     74.0,  24.8973,  35.4599,2,  35.4776,3,    207.7,2,    210.7,2
   3175MB95_02,  IR03,    48,1,     21,     21,2,19950331,1844,-23.4972,  55.0000, 4210,    124.2,  20.5959,  35.5138,2,  35.5191,2,    199.9,2,    200.3,2
   3175MB95_02,  IR03,    48,1,     20,     20,2,19950331,1844,-23.4972,  55.0000, 4210,    184.4,  17.9879,  35.5865,2,  35.5897,2,    186.9,2,    185.0,2
   3175MB95_02,  IR03,    48,1,     19,     19,2,19950331,1844,-23.4972,  55.0000, 4210,    254.5,  16.4659,  35.5633,2,  35.5661,2,    199.4,2,    196.6,2
   3175MB95_02,  IR03,    48,1,     18,     18,2,19950331,1844,-23.4972,  55.0000, 4210,    344.0,  14.2231,  35.3805,2,  35.3818,2,    214.2,2,    211.0,2
   3175MB95_02,  IR03,    48,1,     17,     17,2,19950331,1844,-23.4972,  55.0000, 4210,    444.6,  12.8280,  35.2010,2,  35.2047,2,    222.6,2,    220.5,2
   3175MB95_02,  IR03,    48,1,     16,     16,2,19950331,1844,-23.4972,  55.0000, 4210,    549.3,  11.5741,  35.0135,2,  35.0169,2,    225.3,2,    225.1,2
   3175MB95_02,  IR03,    48,1,     15,     15,2,19950331,1844,-23.4972,  55.0000, 4210,    648.9,  10.3905,  34.8450,2,  34.8465,2,    221.3,2,    223.4,2
   3175MB95_02,  IR03,    48,1,     14,     14,2,19950331,1844,-23.4972,  55.0000, 4210,    749.3,   9.0309,  34.6887,2,  34.6876,2,    207.2,2,    210.0,2
   3175MB95_02,  IR03,    48,1,     13,     13,2,19950331,1844,-23.4972,  55.0000, 4210,    850.4,   7.6334,  34.5783,2,  34.5809,2,    191.0,2,    193.0,2
   3175MB95_02,  IR03,    48,1,     12,     12,2,19950331,1844,-23.4972,  55.0000, 4210,    950.4,   6.0830,  34.4860,2,  34.4868,2,    182.1,2,    183.1,2
   3175MB95_02,  IR03,    48,1,     11,     11,2,19950331,1844,-23.4972,  55.0000, 4210,   1048.2,   5.1210,  34.4462,2,  34.4478,2,    179.5,2,    183.8,2
   3175MB95_02,  IR03,    48,1,     10,     10,2,19950331,1844,-23.4972,  55.0000, 4210,   1293.8,   3.7277,  34.5453,2,  34.5464,2,    154.4,2,    155.9,2
   3175MB95_02,  IR03,    48,1,      9,      9,2,19950331,1844,-23.4972,  55.0000, 4210,   1597.3,   2.9456,  34.6453,2,  34.6467,2,    159.2,2,    159.5,2
   3175MB95_02,  IR03,    48,1,      8,      8,2,19950331,1844,-23.4972,  55.0000, 4210,   1885.1,   2.5267,  34.7013,2,  34.6460,4,    164.3,2,    165.5,2
   3175MB95_02,  IR03,    48,1,      7,      7,2,19950331,1844,-23.4972,  55.0000, 4210,   2199.6,   2.2317,  34.7308,2,  34.7346,2,    162.9,2,    164.1,2
   3175MB95_02,  IR03,    48,1,      6,      6,2,19950331,1844,-23.4972,  55.0000, 4210,   2499.2,   2.0811,  34.7380,2,  34.7374,2,    161.0,2,    162.1,2
   3175MB95_02,  IR03,    48,1,      5,      5,2,19950331,1844,-23.4972,  55.0000, 4210,   2796.8,   1.9124,  34.7380,2,  34.7375,2,    161.9,2,    162.8,2
   3175MB95_02,  IR03,    48,1,      4,      4,2,19950331,1844,-23.4972,  55.0000, 4210,   3097.4,   1.7339,  34.7345,2,  34.7342,2,    166.9,2,    167.4,2
   3175MB95_02,  IR03,    48,1,      3,      3,2,19950331,1844,-23.4972,  55.0000, 4210,   3398.6,   1.5400,  34.7285,2,  34.7277,2,    176.3,2,    176.2,2
   3175MB95_02,  IR03,    48,1,      2,      2,2,19950331,1844,-23.4972,  55.0000, 4210,   3799.3,   1.2772,  34.7194,2,  34.7191,2,    189.4,2,    188.8,2
   3175MB95_02,  IR03,    48,1,      1,      1,2,19950331,1844,-23.4972,  55.0000, 4210,   4265.7,   1.1270,  34.7127,2,  34.7122,2,    200.0,2,    197.5,2
   3175MB95_02,  IR03,    49,1,     24,     24,2,19950331,2349,-22.9987,  54.9997, 4189,      4.6,  26.9468,  35.3650,2,  35.3648,2,    199.1,2,    201.5,2
   3175MB95_02,  IR03,    49,1,     23,     23,2,19950331,2349,-22.9987,  54.9997, 4189,     49.7,  25.8231,  35.3975,2,  35.4189,3,    206.9,2,    208.9,2
   3175MB95_02,  IR03,    49,1,     22,     22,2,19950331,2349,-22.9987,  54.9997, 4189,     99.2,  22.5005,  35.4083,2,  35.4157,2,    203.6,2,    204.0,2
   3175MB95_02,  IR03,    49,1,     21,     21,2,19950331,2349,-22.9987,  54.9997, 4189,    149.8,  19.0763,  35.5797,2,  35.5824,2,    192.6,2,    190.7,2
   3175MB95_02,  IR03,    49,1,     20,     20,2,19950331,2349,-22.9987,  54.9997, 4189,    199.6,  17.6837,  35.6010,2,  35.6054,2,    197.4,2,    195.8,2
   3175MB95_02,  IR03,    49,1,     19,     19,2,19950331,2349,-22.9987,  54.9997, 4189,    250.5,  16.1200,  35.5413,2,  35.5455,2,    202.4,2,    199.8,2
   3175MB95_02,  IR03,    49,1,     18,     18,2,19950331,2349,-22.9987,  54.9997, 4189,    298.8,  14.8773,  35.4528,2,  35.4524,2,    211.2,2,    208.8,2
   3175MB95_02,  IR03,    49,1,     17,     17,2,19950331,2349,-22.9987,  54.9997, 4189,    400.7,  13.4767,  35.3024,2,  35.3019,2,    223.6,2,    222.1,2
   3175MB95_02,  IR03,    49,1,     16,     16,2,19950331,2349,-22.9987,  54.9997, 4189,    501.5,  12.2402,  35.1127,2,  35.1128,2,    223.0,2,    222.6,2
   3175MB95_02,  IR03,    49,1,     15,     15,2,19950331,2349,-22.9987,  54.9997, 4189,    600.0,  11.0376,  34.9343,2,  34.9357,2,    225.7,2,    227.1,2
   3175MB95_02,  IR03,    49,1,     14,     14,2,19950331,2349,-22.9987,  54.9997, 4189,    699.4,  10.0181,  34.7959,2,  34.7921,2,    215.9,2,    219.4,2
   3175MB95_02,  IR03,    49,1,     13,     13,2,19950331,2349,-22.9987,  54.9997, 4189,    899.6,   7.1288,  34.5472,2,  34.5468,2,    186.3,2,    188.3,2
   3175MB95_02,  IR03,    49,1,     12,     12,2,19950331,2349,-22.9987,  54.9997, 4189,   1099.9,   4.6150,  34.4599,2,  34.4576,2,    169.2,2,    174.4,2
   3175MB95_02,  IR03,    49,1,     11,     11,2,19950331,2349,-22.9987,  54.9997, 4189,   1298.9,   3.7104,  34.5734,2,  34.5727,2,    149.8,2,    149.8,2
   3175MB95_02,  IR03,    49,1,     10,     10,2,19950331,2349,-22.9987,  54.9997, 4189,   1496.3,   3.0260,  34.6371,2,  34.6375,2,    157.5,2,    157.4,2
   3175MB95_02,  IR03,    49,1,      9,      9,2,19950331,2349,-22.9987,  54.9997, 4189,   1799.3,   2.5336,  34.6989,2,  34.6985,2,    164.7,2,    165.9,2
   3175MB95_02,  IR03,    49,1,      8,      8,2,19950331,2349,-22.9987,  54.9997, 4189,   2098.0,   2.3169,  34.7259,2,  34.7248,2,    163.2,2,    164.6,2
   3175MB95_02,  IR03,    49,1,      7,      7,2,19950331,2349,-22.9987,  54.9997, 4189,   2299.1,   2.1993,  34.7337,2,  34.7411,3,    161.6,7,    162.7,2
   3175MB95_02,  IR03,    49,1,      6,      6,2,19950331,2349,-22.9987,  54.9997, 4189,   2602.0,   2.0476,  34.7383,2,  34.7378,2,    160.3,2,    161.0,2
   3175MB95_02,  IR03,    49,1,      5,      5,2,19950331,2349,-22.9987,  54.9997, 4189,   2899.0,   1.9136,  34.7396,2,  34.7423,2,    160.8,7,    161.1,2
   3175MB95_02,  IR03,    49,1,      4,      4,2,19950331,2349,-22.9987,  54.9997, 4189,   3199.6,   1.7448,  34.7348,2,  34.7376,2,    167.5,7,    167.4,2
   3175MB95_02,  IR03,    49,1,      3,      3,2,19950331,2349,-22.9987,  54.9997, 4189,   3499.3,   1.4993,  34.7268,2,  34.7286,2,    178.1,7,    178.0,2
   3175MB95_02,  IR03,    49,1,      2,      2,2,19950331,2349,-22.9987,  54.9997, 4189,   3900.9,   1.2533,  34.7182,2,  34.7178,2,    190.8,2,    190.3,2
   3175MB95_02,  IR03,    49,1,      1,      1,2,19950331,2349,-22.9987,  54.9997, 4189,   4279.5,   1.1064,  34.7123,2,  34.7212,4,    201.0,7,    198.7,2
   3175MB95_02,  IR03,    50,1,     24,     24,2,19950401,0451,-22.4932,  55.0000, 4259,      2.3,  27.0050,  35.3728,2,-999.0000,9,    202.0,2,   -999.0,9
   3175MB95_02,  IR03,    50,1,     23,     23,2,19950401,0451,-22.4932,  55.0000, 4259,     35.5,  26.2627,  35.3761,2,  35.3758,2,    207.4,2,    205.1,2
   3175MB95_02,  IR03,    50,1,     22,     22,2,19950401,0451,-22.4932,  55.0000, 4259,     79.4,  23.8152,  35.3674,2,  35.3657,2,    211.3,2,    209.2,2
   3175MB95_02,  IR03,    50,1,     21,     21,2,19950401,0451,-22.4932,  55.0000, 4259,    128.6,  21.2009,  35.3949,2,  35.3963,2,    183.0,2,    179.4,2
   3175MB95_02,  IR03,    50,1,     20,     20,2,19950401,0451,-22.4932,  55.0000, 4259,    199.1,  18.5445,  35.5866,2,-999.0000,9,    198.6,2,    192.3,2
   3175MB95_02,  IR03,    50,1,     19,     19,2,19950401,0451,-22.4932,  55.0000, 4259,    278.7,  15.7713,  35.5233,2,  35.5274,2,    208.6,2,    202.2,2
   3175MB95_02,  IR03,    50,1,     18,     18,2,19950401,0451,-22.4932,  55.0000, 4259,    370.2,  14.0023,  35.3640,2,  35.3638,2,    222.4,2,    202.1,3
   3175MB95_02,  IR03,    50,1,     17,     17,2,19950401,0451,-22.4932,  55.0000, 4259,    469.3,  12.6995,  35.1812,2,  35.1815,2,    227.0,2,    221.4,2
   3175MB95_02,  IR03,    50,1,     16,     16,2,19950401,0451,-22.4932,  55.0000, 4259,    570.5,  11.1021,  34.9434,2,  34.9460,2,    230.3,2,    227.1,2
   3175MB95_02,  IR03,    50,1,     15,     15,2,19950401,0451,-22.4932,  55.0000, 4259,    719.0,   9.1168,  34.6950,2,  34.6974,2,    212.6,2,    212.1,2
   3175MB95_02,  IR03,    50,1,     14,     14,2,19950401,0451,-22.4932,  55.0000, 4259,    867.4,   7.0974,  34.5272,2,  34.5268,2,    196.7,2,    196.1,2
   3175MB95_02,  IR03,    50,1,     13,     13,2,19950401,0451,-22.4932,  55.0000, 4259,   1050.8,   5.1455,  34.4935,2,  34.4943,2,    163.9,2,    163.6,2
   3175MB95_02,  IR03,    50,1,     12,     12,2,19950401,0451,-22.4932,  55.0000, 4259,   1340.2,   3.6200,  34.5913,2,  34.5908,2,    149.5,2,    148.1,2
   3175MB95_02,  IR03,    50,1,     11,     11,2,19950401,0451,-22.4932,  55.0000, 4259,   1549.6,   2.9060,  34.6465,2,-999.0000,9,    162.7,2,   -999.0,9
   3175MB95_02,  IR03,    50,1,     10,     10,2,19950401,0451,-22.4932,  55.0000, 4259,   1849.1,   2.5122,  34.7026,2,  34.7026,2,    165.9,2,    165.3,2
   3175MB95_02,  IR03,    50,1,      9,      9,2,19950401,0451,-22.4932,  55.0000, 4259,   2148.9,   2.2906,  34.7294,2,  34.7288,2,    164.5,2,    164.0,2
   3175MB95_02,  IR03,    50,1,      8,      8,2,19950401,0451,-22.4932,  55.0000, 4259,   2448.9,   2.1187,  34.7391,2,  34.7388,2,    160.9,2,    160.2,2
   3175MB95_02,  IR03,    50,1,      7,      7,2,19950401,0451,-22.4932,  55.0000, 4259,   2748.2,   1.9831,  34.7395,2,  34.7391,2,    160.8,2,    159.9,2
   3175MB95_02,  IR03,    50,1,      6,      6,2,19950401,0451,-22.4932,  55.0000, 4259,   3048.9,   1.8653,  34.7380,2,  34.7370,2,    163.2,2,    162.0,2
   3175MB95_02,  IR03,    50,1,      5,      5,2,19950401,0451,-22.4932,  55.0000, 4259,   3348.9,   1.6718,  34.7315,2,  34.7300,2,    171.9,2,    170.9,2
   3175MB95_02,  IR03,    50,1,      4,      4,2,19950401,0451,-22.4932,  55.0000, 4259,   3647.8,   1.4646,  34.7253,2,  34.7241,2,    181.9,2,    179.8,2
   3175MB95_02,  IR03,    50,1,      3,      3,2,19950401,0451,-22.4932,  55.0000, 4259,   3947.0,   1.2803,  34.7191,2,  34.7183,2,    191.1,2,    189.1,2
   3175MB95_02,  IR03,    50,1,      2,      2,2,19950401,0451,-22.4932,  55.0000, 4259,   4148.0,   1.2193,  34.7161,2,  34.7151,2,    196.0,2,    192.8,2
   3175MB95_02,  IR03,    50,1,      1,      1,2,19950401,0451,-22.4932,  55.0000, 4259,   4300.5,   1.1926,  34.7144,2,  34.7135,2,    199.0,2,    194.6,2