BOTTLE,20220630CCHSIOAMB
EXPOCODE,SECT_ID,STNNBR,CASTNO,SAMPNO,BTLNBR,BTLNBR_FLAG_W,DATE,TIME,LATITUDE,LONGITUDE,DEPTH,CTDPRS,CTDTMP,CTDSAL,CTDSAL_FLAG_W,SALNTY,SALNTY_FLAG_W,CTDOXY,CTDOXY_FLAG_W,OXYGEN,OXYGEN_FLAG_W,SILCAT,SILCAT_FLAG_W,NITRAT,NITRAT_FLAG_W,NITRIT,NITRIT_FLAG_W,PHSPHT,PHSPHT_FLAG_W,CFC-11,CFC-11_FLAG_W,CFC-12,CFC-12_FLAG_W,CFC113,CFC113_FLAG_W,CCL4,CCL4_FLAG_W,TRITUM,TRITUM_FLAG_W,HELIUM,HELIUM_FLAG_W,DELHE3,DELHE3_FLAG_W,DELC14,DELC14_FLAG_W,DELC13,DELC13_FLAG_W,TCARBN,TCARBN_FLAG_W,PCO2,PCO2_FLAG_W,ALKALI,ALKALI_FLAG_W,PH,PH_FLAG_W,PCO2TMP,C14ERR,HELIER,DELHER,PH_TMP,C13ERR,THETA,TRITER
,,,,,,,,,,,,DBAR,ITS-90,PSS-78,,PSS-78,,UMOL/KG,,UMOL/KG,,UMOL/KG,,UMOL/KG,,UMOL/KG,,UMOL/KG,,PMOL/KG,,PMOL/KG,,PMOL/KG,,PMOL/KG,,TU,,NMOL/KG,,PERCNT,,/MILLE,,/MILLE,,UMOL/KG,,UATM,,UMOL/KG,,,,DEG C,/MILLE,NMOL/KG,PERCNT,DEG C,/MILLE,DEG C,TU
    31DSCG94_3,  P18N,   124,  1,    124,    435,2,19940408,0458, -8.0780,-105.8278, 3476,      8.4,  27.6164,  34.9270,2,  34.9309,2,    200.3,2,    203.1,2,     4.17,2,     1.67,2,     0.05,2,     0.35,2, -999.000,9, -999.000,9, -999.000,9, -999.000,9, -999.000,9,-999.0000,9,  -999.00,9,   -999.0,9,   -999.0,9,   1977.6,2,    286.1,2,   2302.0,2,  -999.00,9,   20.00,  -999.0,-999.0000,-999.000, -999.00,  -999.0, 27.6144,-999.000
    31DSCG94_3,  P18N,   124,  1,    123,    421,2,19940408,0458, -8.0780,-105.8278, 3476,     25.2,  27.6176,  34.9251,2,  34.9317,2,    199.4,2,    203.2,2,     3.88,2,     2.08,2,     0.03,2,     0.34,2, -999.000,9, -999.000,9, -999.000,9, -999.000,9, -999.000,9,-999.0000,9,  -999.00,9,   -999.0,9,   -999.0,9,   1977.8,2,    284.7,2,   2302.0,2,  -999.00,9,   20.00,  -999.0,-999.0000,-999.000, -999.00,  -999.0, 27.6117,-999.000
    31DSCG94_3,  P18N,   124,  1,    122,    418,2,19940408,0458, -8.0780,-105.8278, 3476,     49.0,  25.3222,  35.5300,2,  35.5392,2,    209.9,2,    210.9,2,     5.03,2,     4.45,2,     0.06,2,     0.58,2, -999.000,9, -999.000,9, -999.000,9, -999.000,9, -999.000,9,-999.0000,9,  -999.00,9,   -999.0,9,   -999.0,9,   2031.5,2,    323.9,2,   -999.0,5,  -999.00,9,   20.00,  -999.0,-999.0000,-999.000, -999.00,  -999.0, 25.3115,-999.000
    31DSCG94_3,  P18N,   124,  1,    121,    413,2,19940408,0458, -8.0780,-105.8278, 3476,    101.0,  18.2014,  35.4005,2,  35.4231,2,    119.6,2,    140.6,2,     6.71,2,    10.00,2,     0.90,2,     1.11,2, -999.000,9, -999.000,9, -999.000,9, -999.000,9, -999.000,9,-999.0000,9,  -999.00,9,   -999.0,9,   -999.0,9,   2134.1,2,    555.7,2,   2331.0,2,  -999.00,9,   20.00,  -999.0,-999.0000,-999.000, -999.00,  -999.0, 18.1839,-999.000
    31DSCG94_3,  P18N,   124,  1,    120,    405,2,19940408,0458, -8.0780,-105.8278, 3476,    149.5,  13.7585,  34.9799,2,  34.9803,2,     11.8,2,      7.9,2,    21.00,2,    27.67,2,     0.05,2,     2.31,2, -999.000,9, -999.000,9, -999.000,9, -999.000,9, -999.000,9,-999.0000,9,  -999.00,9,   -999.0,9,   -999.0,9,   2236.5,2,   1339.8,2,   2296.0,2,  -999.00,9,   20.00,  -999.0,-999.0000,-999.000, -999.00,  -999.0, 13.7372,-999.000
    31DSCG94_3,  P18N,   124,  1,    119,    417,2,19940408,0458, -8.0780,-105.8278, 3476,    198.0,  12.6829,  34.9188,2,  34.9158,2,     24.4,2,     16.7,2,    25.52,2,    29.69,2,     0.03,2,     2.30,2, -999.000,9, -999.000,9, -999.000,9, -999.000,9, -999.000,9,-999.0000,9,  -999.00,9,   -999.0,9,   -999.0,9,   2236.7,2,   1339.8,2,   2295.0,2,  -999.00,9,   20.00,  -999.0,-999.0000,-999.000, -999.00,  -999.0, 12.6561,-999.000
    31DSCG94_3,  P18N,   124,  1,    118,    429,2,19940408,0458, -8.0780,-105.8278, 3476,    300.6,  11.2500,  34.8237,2,  34.8253,2,     12.2,2,     15.1,2,    30.38,2,    32.76,2,     0.02,2,     2.40,2, -999.000,9, -999.000,9, -999.000,9, -999.000,9, -999.000,9,-999.0000,9,  -999.00,9,   -999.0,9,   -999.0,9,   2250.4,2,   1355.5,3,   2299.0,2,  -999.00,9,   20.00,  -999.0,-999.0000,-999.000, -999.00,  -999.0, 11.2123,-999.000
    31DSCG94_3,  P18N,   124,  1,    117,    427,2,19940408,0458, -8.0780,-105.8278, 3476,    401.3,  10.0151,  34.7457,2,  34.7450,2,      5.5,2,      5.1,2,    36.31,2,    35.75,2,     0.02,2,     2.66,2, -999.000,9, -999.000,9, -999.000,9, -999.000,9, -999.000,9,-999.0000,9,  -999.00,9,   -999.0,9,   -999.0,9,   2272.1,2,   1566.8,2,   2297.0,2,  -999.00,9,   20.00,  -999.0,-999.0000,-999.000, -999.00,  -999.0,  9.9681,-999.000
    31DSCG94_3,  P18N,   124,  1,    116,    410,2,19940408,0458, -8.0780,-105.8278, 3476,    499.8,   8.7079,  34.6640,2,  34.6642,2,     11.6,2,      9.1,2,    39.68,2,    39.02,2,     0.02,2,     2.82,2, -999.000,9, -999.000,9, -999.000,9, -999.000,9, -999.000,9,-999.0000,9,  -999.00,9,   -999.0,9,   -999.0,9,   2278.9,2,   1798.5,3,   2301.0,2,  -999.00,9,   20.00,  -999.0,-999.0000,-999.000, -999.00,  -999.0,  8.6540,-999.000
    31DSCG94_3,  P18N,   124,  1,    115,    422,2,19940408,0458, -8.0780,-105.8278, 3476,    598.2,   7.1809,  34.5854,2,  34.5853,2,     16.2,2,     16.4,2,    47.10,2,    43.46,2,     0.02,2,     2.99,2, -999.000,9, -999.000,9, -999.000,9, -999.000,9, -999.000,9,-999.0000,9,  -999.00,9,   -999.0,9,   -999.0,9,   2289.9,2,   1886.7,3,   2306.0,2,  -999.00,9,   20.00,  -999.0,-999.0000,-999.000, -999.00,  -999.0,  7.1228,-999.000
    31DSCG94_3,  P18N,   124,  1,    114,    407,2,19940408,0458, -8.0780,-105.8278, 3476,    699.0,   6.2829,  34.5550,2,  34.5555,2,     28.3,2,     29.1,2,    54.80,2,    44.73,2,     0.02,2,     3.02,2, -999.000,9, -999.000,9, -999.000,9, -999.000,9, -999.000,9,-999.0000,9,  -999.00,9,   -999.0,9,   -999.0,9,   2293.4,2,   1865.9,2,   2316.0,2,  -999.00,9,   20.00,  -999.0,-999.0000,-999.000, -999.00,  -999.0,  6.2193,-999.000
    31DSCG94_3,  P18N,   124,  1,    113,    419,2,19940408,0458, -8.0780,-105.8278, 3476,    800.7,   5.5220,  34.5410,2,  34.5422,2,     45.3,2,     47.9,2,    63.27,2,    43.90,2,     0.02,2,     3.00,2, -999.000,9, -999.000,9, -999.000,9, -999.000,9, -999.000,9,-999.0000,9,  -999.00,9,   -999.0,9,   -999.0,9,   2294.7,2,   1745.0,2,   2326.0,2,  -999.00,9,   20.00,  -999.0,-999.0000,-999.000, -999.00,  -999.0,  5.4532,-999.000
    31DSCG94_3,  P18N,   124,  1,    112,    426,2,19940408,0458, -8.0780,-105.8278, 3476,    900.9,   4.9487,  34.5348,2,  34.5339,2,     65.2,2,     68.2,2,    69.95,2,    42.39,2,     0.02,2,     2.91,2, -999.000,9, -999.000,9, -999.000,9, -999.000,9, -999.000,9,-999.0000,9,  -999.00,9,   -999.0,9,   -999.0,9,   2292.2,2,   1541.4,2,   2333.0,2,  -999.00,9,   20.00,  -999.0,-999.0000,-999.000, -999.00,  -999.0,  4.8746,-999.000
    31DSCG94_3,  P18N,   124,  1,    111,    424,2,19940408,0458, -8.0780,-105.8278, 3476,   1000.6,   4.4778,  34.5403,2,  34.5407,2,     74.9,2,     78.5,2,    79.73,2,    41.08,2,     0.03,2,     2.88,2, -999.000,9, -999.000,9, -999.000,9, -999.000,9, -999.000,9,-999.0000,9,  -999.00,9,   -999.0,9,   -999.0,9,   2297.0,2,   1502.3,2,   2346.0,2,  -999.00,9,   20.00,  -999.0,-999.0000,-999.000, -999.00,  -999.0,  4.3984,-999.000
    31DSCG94_3,  P18N,   124,  1,    110,    409,2,19940408,0458, -8.0780,-105.8278, 3476,   1200.9,   3.7269,  34.5616,2,  34.5620,2,     88.9,2,     92.2,2,    96.75,2,    39.97,2,     0.02,2,     2.85,2, -999.000,9, -999.000,9, -999.000,9, -999.000,9, -999.000,9,-999.0000,9,  -999.00,9,   -999.0,9,   -999.0,9,   2306.4,2,   1456.9,3,   2368.0,2,  -999.00,9,   20.00,  -999.0,-999.0000,-999.000, -999.00,  -999.0,  3.6366,-999.000
    31DSCG94_3,  P18N,   124,  1,    109,    423,2,19940408,0458, -8.0780,-105.8278, 3476,   1401.0,   3.1301,  34.5869,2,-999.0000,5,     98.5,2,     98.4,2,  -999.00,9,  -999.00,9,  -999.00,9,  -999.00,9, -999.000,9, -999.000,9, -999.000,9, -999.000,9, -999.000,9,-999.0000,9,  -999.00,9,   -999.0,9,   -999.0,9,   2318.1,2,   1413.8,2,   2378.0,2,  -999.00,9,   20.00,  -999.0,-999.0000,-999.000, -999.00,  -999.0,  3.0291,-999.000
    31DSCG94_3,  P18N,   124,  1,    108,    414,2,19940408,0458, -8.0780,-105.8278, 3476,   1602.5,   2.7603,  34.6071,2,  34.6073,2,    110.6,2,    106.0,2,   121.25,2,    39.26,2,     0.02,2,     2.77,2, -999.000,9, -999.000,9, -999.000,9, -999.000,9, -999.000,9,-999.0000,9,  -999.00,9,   -999.0,9,   -999.0,9,   2325.0,2,   1382.0,2,   2390.0,2,  -999.00,9,   20.00,  -999.0,-999.0000,-999.000, -999.00,  -999.0,  2.6467,-999.000
    31DSCG94_3,  P18N,   124,  1,    107,    437,2,19940408,0458, -8.0780,-105.8278, 3476,   1901.2,   2.3715,  34.6326,2,  34.6286,3,    115.9,2,    110.5,2,   133.68,2,    38.82,2,     0.01,2,     2.72,2, -999.000,9, -999.000,9, -999.000,9, -999.000,9, -999.000,9,-999.0000,9,  -999.00,9,   -999.0,9,   -999.0,9,   2335.6,2,   1346.5,2,   2406.0,2,  -999.00,9,   20.00,  -999.0,-999.0000,-999.000, -999.00,  -999.0,  2.2379,-999.000
    31DSCG94_3,  P18N,   124,  1,    106,    416,2,19940408,0458, -8.0780,-105.8278, 3476,   2199.8,   2.0908,  34.6503,2,  34.6504,2,    121.9,2,    119.6,2,   138.53,2,    38.23,2,     0.02,2,     2.66,2, -999.000,9, -999.000,9, -999.000,9, -999.000,9, -999.000,9,-999.0000,9,  -999.00,9,   -999.0,9,   -999.0,9,   2337.7,2,   1299.1,2,   2410.0,2,  -999.00,9,   20.00,  -999.0,-999.0000,-999.000, -999.00,  -999.0,  1.9357,-999.000
    31DSCG94_3,  P18N,   124,  1,    105,    420,2,19940408,0458, -8.0780,-105.8278, 3476,   2501.6,   1.9150,  34.6626,2,  34.6634,2,    125.9,2,    125.8,6,   141.44,2,    38.11,2,     0.00,2,     2.62,2, -999.000,9, -999.000,9, -999.000,9, -999.000,9, -999.000,9,-999.0000,9,  -999.00,9,   -999.0,9,   -999.0,9,   2339.1,2,   -999.0,9,   2419.0,2,  -999.00,9, -999.00,  -999.0,-999.0000,-999.000, -999.00,  -999.0,  1.7361,-999.000
    31DSCG94_3,  P18N,   124,  1,    104,    436,2,19940408,0458, -8.0780,-105.8278, 3476,   2798.9,   1.7969,  34.6703,2,  34.6708,2,    131.0,2,    132.6,2,   142.51,2,    37.88,2,     0.02,2,     2.60,2, -999.000,9, -999.000,9, -999.000,9, -999.000,9, -999.000,9,-999.0000,9,  -999.00,9,   -999.0,9,   -999.0,9,   2335.8,2,   1228.3,2,   2420.0,2,  -999.00,9,   20.00,  -999.0,-999.0000,-999.000, -999.00,  -999.0,  1.5928,-999.000
    31DSCG94_3,  P18N,   124,  1,    103,    425,2,19940408,0458, -8.0780,-105.8278, 3476,   3100.5,   1.7497,  34.6740,2,  34.6746,2,    131.9,2,    135.5,2,   143.92,2,    37.86,2,     0.00,2,     2.58,2, -999.000,9, -999.000,9, -999.000,9, -999.000,9, -999.000,9,-999.0000,9,  -999.00,9,   -999.0,9,   -999.0,9,   2337.6,2,   1203.4,2,   2423.0,2,  -999.00,9,   20.00,  -999.0,-999.0000,-999.000, -999.00,  -999.0,  1.5176,-999.000
    31DSCG94_3,  P18N,   124,  1,    102,    433,2,19940408,0458, -8.0780,-105.8278, 3476,   3400.0,   1.7608,  34.6751,2,-999.0000,5,    132.4,2,    136.3,2,   148.21,2,    38.60,2,     0.02,2,     2.64,2, -999.000,9, -999.000,9, -999.000,9, -999.000,9, -999.000,9,-999.0000,9,  -999.00,9,   -999.0,9,   -999.0,9,   2338.3,2,   1194.1,2,   2427.0,2,  -999.00,9,   20.00,  -999.0,-999.0000,-999.000, -999.00,  -999.0,  1.4984,-999.000
    31DSCG94_3,  P18N,   124,  1,    101,    403,2,19940408,0458, -8.0780,-105.8278, 3476,   3496.4,   1.7713,  34.6750,2,  34.6752,2,    132.2,2,    136.5,2,   148.20,2,    37.39,2,     0.02,2,     2.58,2, -999.000,9, -999.000,9, -999.000,9, -999.000,9, -999.000,9,-999.0000,9,  -999.00,9,   -999.0,9,   -999.0,9,   2338.0,2,   1199.4,2,   2425.0,2,  -999.00,9,   20.00,  -999.0,-999.0000,-999.000, -999.00,  -999.0,  1.4987,-999.000