BOTTLE,20220630CCHSIOAMB
EXPOCODE,SECT_ID,STNNBR,CASTNO,SAMPNO,BTLNBR,BTLNBR_FLAG_W,DATE,TIME,LATITUDE,LONGITUDE,DEPTH,CTDPRS,CTDTMP,CTDSAL,CTDSAL_FLAG_W,SALNTY,SALNTY_FLAG_W,CTDOXY,CTDOXY_FLAG_W,OXYGEN,OXYGEN_FLAG_W,SILCAT,SILCAT_FLAG_W,NITRAT,NITRAT_FLAG_W,NITRIT,NITRIT_FLAG_W,PHSPHT,PHSPHT_FLAG_W,CFC-11,CFC-11_FLAG_W,CFC-12,CFC-12_FLAG_W,CFC113,CFC113_FLAG_W,CCL4,CCL4_FLAG_W,TRITUM,TRITUM_FLAG_W,HELIUM,HELIUM_FLAG_W,DELHE3,DELHE3_FLAG_W,DELC14,DELC14_FLAG_W,DELC13,DELC13_FLAG_W,TCARBN,TCARBN_FLAG_W,PCO2,PCO2_FLAG_W,ALKALI,ALKALI_FLAG_W,PH,PH_FLAG_W,PCO2TMP,C14ERR,HELIER,DELHER,PH_TMP,C13ERR,THETA,TRITER
,,,,,,,,,,,,DBAR,ITS-90,PSS-78,,PSS-78,,UMOL/KG,,UMOL/KG,,UMOL/KG,,UMOL/KG,,UMOL/KG,,UMOL/KG,,PMOL/KG,,PMOL/KG,,PMOL/KG,,PMOL/KG,,TU,,NMOL/KG,,PERCNT,,/MILLE,,/MILLE,,UMOL/KG,,UATM,,UMOL/KG,,,,DEG C,/MILLE,NMOL/KG,PERCNT,DEG C,/MILLE,DEG C,TU
    31DSCG94_2,  P18S,    79,  1,    136,   1025,2,19940321,0528,-30.0000,-103.0000, 3626,      9.1,  23.2490,  35.2557,2,  33.2944,4,    221.2,2,    215.2,2,     1.25,2,     0.10,2,     0.00,2,     0.13,2,    2.029,2,    1.124,2, -999.000,5, -999.000,5,    0.754,2,   1.7750,2,    -0.87,2,   -999.0,9,      1.5,3,   2021.8,3,    332.7,2,   2313.0,6,     8.04,2,   20.00,  -999.0,-999.0000,-999.000,   25.00,  -999.0, 23.2472,   0.007
    31DSCG94_2,  P18S,    79,  1,    135,   1247,2,19940321,0528,-30.0000,-103.0000, 3626,     24.7,  23.2458,  35.2542,2,  33.2948,4,    221.4,2,    215.0,2,     1.14,2,     0.06,2,     0.00,2,     0.10,2,    2.060,2,    1.131,2, -999.000,9, -999.000,9, -999.000,9,-999.0000,9,  -999.00,9,   -999.0,9,   -999.0,9,   2021.0,3,    334.9,2,   2309.0,2,     8.04,2,   20.00,  -999.0,-999.0000,-999.000,   25.00,  -999.0, 23.2407,-999.000
    31DSCG94_2,  P18S,    79,  1,    134,   1108,2,19940321,0528,-30.0000,-103.0000, 3626,     48.2,  20.1518,  35.0653,2,  33.1139,4,    226.4,2,    242.1,2,     1.03,2,     0.06,2,     0.00,2,     0.09,2,    2.541,2,    1.333,2, -999.000,5, -999.000,5,    0.699,2,   1.7670,2,    -1.33,2,   -999.0,9,   -999.0,9,   2022.0,3,    342.0,2,   2300.0,2,     8.03,2,   20.00,  -999.0,-999.0000,-999.000,   25.00,  -999.0, 20.1428,   0.007
    31DSCG94_2,  P18S,    79,  1,    133,   1244,2,19940321,0528,-30.0000,-103.0000, 3626,     74.0,  18.8803,  35.0079,2,  33.0497,4,    240.5,2,    246.8,6,     1.19,2,     0.06,2,     0.00,2,     0.11,2,    2.718,2,    1.445,2, -999.000,9, -999.000,9, -999.000,9,-999.0000,9,  -999.00,9,   -999.0,9,   -999.0,9,   2015.4,3,    344.0,2,   2297.0,2,     8.03,2,   20.00,  -999.0,-999.0000,-999.000,   25.00,  -999.0, 18.8672,-999.000
    31DSCG94_2,  P18S,    79,  1,    132,   1003,3,19940321,0528,-30.0000,-103.0000, 3626,     97.6,  17.8362,  34.9242,2,  34.9220,2,    241.8,2,    245.6,2,     1.09,2,     0.15,2,     0.00,2,     0.13,2,    2.638,6,    1.409,6, -999.000,5, -999.000,5,    0.689,2,   1.7371,2,    -1.34,2,   -999.0,9,   -999.0,9,   2014.8,2,    351.5,2,   2296.0,2,     8.02,2,   20.00,  -999.0,-999.0000,-999.000,   25.00,  -999.0, 17.8196,   0.007
    31DSCG94_2,  P18S,    79,  1,    131,   1211,2,19940321,0528,-30.0000,-103.0000, 3626,    126.1,  17.1823,  34.8835,2,  34.8828,2,    242.3,2,    241.9,2,     1.06,2,     0.05,2,     0.00,2,     0.15,2,    2.647,2,    1.408,2, -999.000,9, -999.000,9, -999.000,9,-999.0000,9,  -999.00,9,   -999.0,9,   -999.0,9,   2019.7,2,    361.8,2,   2290.0,2,     8.01,2,   20.00,  -999.0,-999.0000,-999.000,   25.00,  -999.0, 17.1614,-999.000
    31DSCG94_2,  P18S,    79,  1,    130,   1241,2,19940321,0528,-30.0000,-103.0000, 3626,    151.5,  16.6391,  34.8332,2,  34.8343,2,    241.5,2,    237.2,2,     0.99,2,     0.11,2,     0.00,2,     0.16,2,    2.684,2,    1.421,2, -999.000,5, -999.000,5,    0.669,2,   1.7385,2,    -1.43,2,   -999.0,9,   -999.0,9,   2023.8,2,    378.3,2,   2291.0,2,     7.99,2,   20.00,  -999.0,-999.0000,-999.000,   25.00,  -999.0, 16.6145,   0.007
    31DSCG94_2,  P18S,    79,  1,    129,   1031,2,19940321,0528,-30.0000,-103.0000, 3626,    201.8,  15.0159,  34.7794,2,  34.7810,2,    208.8,2,    216.6,6,     1.20,2,     3.38,2,     0.10,2,     0.38,2,    2.604,6,    1.350,6, -999.000,5, -999.000,5, -999.000,9,-999.0000,9,  -999.00,9,   -999.0,9,   -999.0,9,   2055.4,2,    449.3,2,   2290.0,2,     7.93,2,   20.00,  -999.0,-999.0000,-999.000,   25.00,  -999.0, 14.9854,-999.000
    31DSCG94_2,  P18S,    79,  1,    128,   1210,2,19940321,0528,-30.0000,-103.0000, 3626,    248.0,  13.2910,  34.6710,2,  34.6711,2,    206.9,2,    206.7,2,     1.89,2,     7.85,2,     0.00,2,     0.68,2,    2.366,2,    1.194,2, -999.000,9, -999.000,9,    0.476,2,   1.7563,2,    -0.05,2,   -999.0,9,   -999.0,9,   2078.9,2,   -999.0,9,   2289.0,2,     7.87,2, -999.00,  -999.0,-999.0000,-999.000,   25.00,  -999.0, 13.2564,   0.006
    31DSCG94_2,  P18S,    79,  1,    127,   1008,2,19940321,0528,-30.0000,-103.0000, 3626,    301.1,  11.3277,  34.5065,2,  34.5062,2,    213.1,2,    213.3,2,     2.40,2,    11.66,2,     0.00,2,     0.94,2,    2.435,2,    1.206,2, -999.000,5, -999.000,5, -999.000,9,-999.0000,9,  -999.00,9,   -999.0,9,   -999.0,9,   2089.4,2,    591.5,2,   2275.0,2,     7.83,2,   20.00,  -999.0,-999.0000,-999.000,   25.00,  -999.0, 11.2899,-999.000
    31DSCG94_2,  P18S,    79,  1,    125,   1203,2,19940321,0528,-30.0000,-103.0000, 3626,    347.9,   9.3566,  34.3919,2,  34.3932,2,    210.1,2,    212.2,2,     4.22,2,    17.01,2,     0.00,2,     1.28,2,    2.110,2,    1.033,2, -999.000,9, -999.000,9,    0.310,2,   1.7679,2,     0.14,2,   -999.0,9,   -999.0,9,   2116.6,2,    689.1,2,   2271.0,2,     7.77,2,   20.00,  -999.0,-999.0000,-999.000,   25.00,  -999.0,  9.3178,   0.005
    31DSCG94_2,  P18S,    79,  1,    126,   1007,2,19940321,0528,-30.0000,-103.0000, 3626,    351.4,   9.3139,  34.3890,2,  34.3916,2,    214.9,2,    211.8,2,     4.17,2,    17.09,2,     0.00,2,     1.28,2,    2.098,2,    1.032,2, -999.000,9, -999.000,9,    0.314,2,   1.8130,2,     0.02,2,   -999.0,9,   -999.0,9,   -999.0,9,    685.4,2,   2274.0,2,     7.77,2,   20.00,  -999.0,-999.0000,-999.000,   25.00,  -999.0,  9.2748,   0.005
    31DSCG94_2,  P18S,    79,  1,    123,   1101,2,19940321,0528,-30.0000,-103.0000, 3626,    500.9,   6.4559,  34.3274,2,  34.3267,2,    231.2,2,    238.4,2,     8.52,2,    22.75,2,     0.00,2,     1.59,2,    1.680,2,    0.812,2, -999.000,5, -999.000,5,    0.219,2,   1.7951,2,     0.23,2,   -999.0,9,   -999.0,9,   2128.3,2,    766.1,2,   2278.0,3,     7.72,2,   20.00,  -999.0,-999.0000,-999.000,   25.00,  -999.0,  6.4105,   0.005
    31DSCG94_2,  P18S,    79,  1,    121,   1206,2,19940321,0528,-30.0000,-103.0000, 3626,    597.3,   5.8956,  34.2970,2,  34.2968,2,    241.7,2,    247.6,2,     9.68,2,    23.35,2,     0.00,2,     1.61,2,    1.306,6,    0.650,6, -999.000,5, -999.000,5,    0.173,2,   1.7924,2,     0.53,2,   -999.0,9,   -999.0,9,   2127.8,2,    764.3,2,   2276.0,2,     7.73,2,   20.00,  -999.0,-999.0000,-999.000,   25.00,  -999.0,  5.8437,   0.004
    31DSCG94_2,  P18S,    79,  1,    119,   1248,2,19940321,0528,-30.0000,-103.0000, 3626,    700.3,   5.3774,  34.2686,2,  34.2689,2,    234.9,2,    242.9,2,    12.30,2,    25.19,2,     0.00,2,     1.75,2,    0.913,2,    0.478,2, -999.000,5, -999.000,5,    0.148,2,   1.8054,2,     0.50,2,   -999.0,9,   -999.0,9,   2132.7,2,    796.0,2,   2275.0,2,     7.71,2,   20.00,  -999.0,-999.0000,-999.000,   25.00,  -999.0,  5.3188,   0.004
    31DSCG94_2,  P18S,    79,  1,    118,   1207,2,19940321,0528,-30.0000,-103.0000, 3626,    795.5,   5.0027,  34.2741,2,  34.2746,2,    218.0,2,    217.0,2,    18.50,2,    28.31,2,     0.00,2,     1.98,2,    0.455,2,    0.248,2, -999.000,5, -999.000,5,    0.091,2,   1.8005,2,     1.08,2,   -999.0,9,   -999.0,9,   2157.9,2,    910.8,2,   2284.0,2,     7.66,2,   20.00,  -999.0,-999.0000,-999.000,   25.00,  -999.0,  4.9379,   0.004
    31DSCG94_2,  P18S,    79,  1,    117,   1119,2,19940321,0528,-30.0000,-103.0000, 3626,    903.0,   4.4642,  34.2920,2,  34.2912,2,    201.5,2,    198.6,2,    27.46,2,    30.94,2,     0.00,2,     2.17,2,    0.171,6,    0.102,6, -999.000,5, -999.000,5,    0.038,2,-999.0000,9,  -999.00,9,   -999.0,9,   -999.0,9,   2177.3,2,    998.0,2,   2290.0,2,     7.63,2,   20.00,  -999.0,-999.0000,-999.000,   25.00,  -999.0,  4.3936,   0.003
    31DSCG94_2,  P18S,    79,  1,    116,   1036,2,19940321,0528,-30.0000,-103.0000, 3626,   1004.8,   4.0641,  34.3380,2,  34.3373,2,    173.9,2,    172.1,2,    39.20,2,    33.90,2,     0.00,2,     2.45,3,    0.041,2,    0.028,2, -999.000,9, -999.000,9,    0.021,2,-999.0000,9,  -999.00,9,   -999.0,9,   -999.0,9,   2214.2,2,   1133.1,2,   2305.0,6,     7.58,2,   20.00,  -999.0,-999.0000,-999.000,   25.00,  -999.0,  3.9878,   0.003
    31DSCG94_2,  P18S,    79,  1,    115,   1017,2,19940321,0528,-30.0000,-103.0000, 3626,   1097.7,   3.6977,  34.3936,2,  34.3931,2,    153.7,2,    153.2,2,    52.55,2,    35.69,2,     0.00,2,     2.60,3,    0.006,2,    0.006,2, -999.000,9, -999.000,9, -999.000,9,   1.8250,2,     7.51,2,   -999.0,9,   -999.0,9,   -999.0,9,   1230.2,2,   -999.0,9,  -999.00,9,   20.00,  -999.0,-999.0000,-999.000, -999.00,  -999.0,  3.6166,-999.000
    31DSCG94_2,  P18S,    79,  1,    114,   1016,2,19940321,0528,-30.0000,-103.0000, 3626,   1200.7,   3.4987,  34.4644,2,  34.4627,2,    132.7,2,    130.0,2,    68.95,2,    37.36,2,     0.00,2,     2.74,3,   -0.004,2,   -0.002,2, -999.000,5, -999.000,5, -999.000,9,   1.8553,2,    12.13,2,   -999.0,9,   -999.0,9,   -999.0,9,   -999.0,9,   -999.0,9,     7.52,2, -999.00,  -999.0,-999.0000,-999.000,   25.00,  -999.0,  3.4107,-999.000
    31DSCG94_2,  P18S,    79,  1,    113,   1209,2,19940321,0528,-30.0000,-103.0000, 3626,   1302.8,   3.2898,  34.5070,2,  34.5052,2,    128.1,2,    127.0,2,    79.48,2,    37.25,2,     0.00,2,     2.73,3,   -0.003,2,   -0.003,2, -999.000,5, -999.000,5, -999.000,9,   1.8600,2,    15.58,2,   -999.0,9,   -999.0,9,   -999.0,9,   -999.0,9,   -999.0,9,  -999.00,9, -999.00,  -999.0,-999.0000,-999.000, -999.00,  -999.0,  3.1954,-999.000
    31DSCG94_2,  P18S,    79,  1,    112,   1033,2,19940321,0528,-30.0000,-103.0000, 3626,   1403.3,   3.0029,  34.5327,2,  34.5323,2,    132.5,2,    134.9,2,    84.75,2,    36.77,2,     0.00,2,     2.66,3,   -0.003,2,   -0.003,2, -999.000,9, -999.000,9, -999.000,9,   1.8760,2,    17.26,2,   -999.0,9,   -999.0,9,   -999.0,9,   1282.3,2,   -999.0,9,     7.53,2,   20.00,  -999.0,-999.0000,-999.000,   25.00,  -999.0,  2.9031,-999.000
    31DSCG94_2,  P18S,    79,  1,    111,   1263,2,19940321,0528,-30.0000,-103.0000, 3626,   1601.6,   2.5805,  34.5752,2,  34.5740,2,    143.9,2,    146.5,2,    92.37,2,    36.08,2,     0.00,2,     2.62,3,   -0.006,2,   -0.004,2, -999.000,5, -999.000,5,    0.006,2,-999.0000,9,  -999.00,9,   -999.0,9,   -999.0,9,   -999.0,9,   -999.0,9,   -999.0,9,     7.55,2, -999.00,  -999.0,-999.0000,-999.000,   25.00,  -999.0,  2.4692,   0.003
    31DSCG94_2,  P18S,    79,  1,    110,   1005,2,19940321,0528,-30.0000,-103.0000, 3626,   1797.1,   2.2612,  34.6153,2,  34.6138,2,    153.6,2,    155.3,2,    99.76,2,    34.85,2,     0.00,2,     2.54,3,   -0.004,2,   -0.001,2, -999.000,9, -999.000,9,    0.004,2,   1.9307,2,    21.19,2,   -999.0,9,   -999.0,9,   -999.0,9,   -999.0,9,   -999.0,9,     7.57,2, -999.00,  -999.0,-999.0000,-999.000,   25.00,  -999.0,  2.1379,   0.003
    31DSCG94_2,  P18S,    79,  1,    109,   1611,2,19940321,0528,-30.0000,-103.0000, 3626,   2000.2,   2.0496,  34.6433,2,  34.6445,2,    157.3,2,    158.0,2,   109.13,2,    34.76,2,     0.00,2,     2.52,3,   -0.004,2,    0.000,2, -999.000,5, -999.000,5, -999.000,9,   1.9070,2,    26.23,2,   -999.0,9,   -999.0,9,   -999.0,9,   1176.2,2,   -999.0,9,     7.58,2,   20.00,  -999.0,-999.0000,-999.000,   25.00,  -999.0,  1.9123,-999.000
    31DSCG94_2,  P18S,    79,  1,    108,   1218,2,19940321,0528,-30.0000,-103.0000, 3626,   2201.8,   1.8955,  34.6575,2,  34.6564,2,    158.5,2,    158.3,2,   118.36,2,    34.70,2,     0.00,2,     2.50,3, -999.000,9, -999.000,9, -999.000,9, -999.000,9, -999.000,9,   1.9380,2,    33.81,2,   -999.0,9,   -999.0,9,   -999.0,9,   -999.0,9,   -999.0,9,     7.58,2, -999.00,  -999.0,-999.0000,-999.000,   25.00,  -999.0,  1.7435,-999.000
    31DSCG94_2,  P18S,    79,  1,    107,   1257,2,19940321,0528,-30.0000,-103.0000, 3626,   2499.3,   1.8298,  34.6678,2,  34.6663,2,    160.0,2,    160.6,2,   120.23,2,    34.45,2,     0.00,2,     2.49,3,   -0.004,2,    0.001,2, -999.000,9, -999.000,9, -999.000,9,   1.9330,2,    31.32,2,   -999.0,9,   -999.0,9,   -999.0,9,   -999.0,9,   -999.0,9,  -999.00,9, -999.00,  -999.0,-999.0000,-999.000, -999.00,  -999.0,  1.6526,-999.000
    31DSCG94_2,  P18S,    79,  1,    106,   1224,2,19940321,0528,-30.0000,-103.0000, 3626,   2748.6,   1.8213,  34.6728,2,  34.6723,2,    162.6,2,    161.9,2,   118.88,2,    34.28,2,     0.00,2,     2.51,3, -999.000,9, -999.000,9, -999.000,9, -999.000,9, -999.000,9,   1.9180,2,    28.72,2,   -999.0,9,   -999.0,9,   -999.0,9,   1143.4,2,   -999.0,9,  -999.00,9,   20.00,  -999.0,-999.0000,-999.000, -999.00,  -999.0,  1.6214,-999.000
    31DSCG94_2,  P18S,    79,  1,    105,   1246,2,19940321,0528,-30.0000,-103.0000, 3626,   2854.4,   1.8218,  34.6751,2,  34.6736,2,    163.7,2,    162.6,2,   117.86,2,    34.66,2,     0.00,2,     2.49,3, -999.000,9, -999.000,9, -999.000,9, -999.000,9, -999.000,9,   1.9200,2,    28.16,2,   -999.0,9,   -999.0,9,   -999.0,9,   -999.0,9,   -999.0,9,  -999.00,9, -999.00,  -999.0,-999.0000,-999.000, -999.00,  -999.0,  1.6119,-999.000
    31DSCG94_2,  P18S,    79,  1,    104,   1217,2,19940321,0528,-30.0000,-103.0000, 3626,   3246.6,   1.8228,  34.6821,2,  34.6812,2,    166.5,2,    164.9,6,   118.73,2,    34.29,2,     0.00,2,     2.49,3, -999.000,9, -999.000,9, -999.000,9, -999.000,9, -999.000,9,   1.9170,2,    25.79,2,   -999.0,9,   -999.0,9,   -999.0,9,   -999.0,9,   -999.0,9,  -999.00,9, -999.00,  -999.0,-999.0000,-999.000, -999.00,  -999.0,  1.5744,-999.000
    31DSCG94_2,  P18S,    79,  1,    103,   9999,2,19940321,0528,-30.0000,-103.0000, 3626,   3498.9,   1.8351,  34.6847,2,  34.6839,2,    166.5,2,    165.1,2,   119.97,2,    33.95,2,     0.00,2,     2.45,3,   -0.003,2,   -0.002,2, -999.000,5, -999.000,5, -999.000,9,-999.0000,9,  -999.00,9,   -999.0,9,   -999.0,9,   -999.0,9,   1132.8,2,   -999.0,9,  -999.00,9,   20.00,  -999.0,-999.0000,-999.000, -999.00,  -999.0,  1.5606,-999.000
    31DSCG94_2,  P18S,    79,  1,    102,   1223,2,19940321,0528,-30.0000,-103.0000, 3626,   3500.8,   1.8351,  34.6847,2,  34.6840,2,    166.5,2,    165.7,2,   120.34,2,    33.94,2,     0.00,2,     2.43,3, -999.000,9, -999.000,9, -999.000,9, -999.000,9, -999.000,9,   1.9150,2,    25.47,2,   -999.0,9,   -999.0,9,   -999.0,9,   1127.3,2,   -999.0,9,  -999.00,9,   20.00,  -999.0,-999.0000,-999.000, -999.00,  -999.0,  1.5603,-999.000
    31DSCG94_2,  P18S,    79,  1,    101,   1041,2,19940321,0528,-30.0000,-103.0000, 3626,   3647.9,   1.8398,  34.6862,2,  34.6852,2,    167.2,2,    166.1,2,   119.03,2,    33.88,2,     0.00,2,     2.44,3,   -0.004,2,   -0.003,2, -999.000,9, -999.000,9, -999.000,9,   1.9080,2,    24.76,2,   -999.0,9,   -999.0,9,   -999.0,9,   -999.0,9,   -999.0,9,  -999.00,9, -999.00,  -999.0,-999.0000,-999.000, -999.00,  -999.0,  1.5494,-999.000