BOTTLE,20220630CCHSIOAMB
EXPOCODE,SECT_ID,STNNBR,CASTNO,SAMPNO,BTLNBR,BTLNBR_FLAG_W,DATE,TIME,LATITUDE,LONGITUDE,DEPTH,CTDPRS,CTDTMP,CTDSAL,CTDSAL_FLAG_W,SALNTY,SALNTY_FLAG_W,CTDOXY,CTDOXY_FLAG_W,OXYGEN,OXYGEN_FLAG_W,SILCAT,SILCAT_FLAG_W,NITRAT,NITRAT_FLAG_W,NITRIT,NITRIT_FLAG_W,PHSPHT,PHSPHT_FLAG_W,CFC-11,CFC-11_FLAG_W,CFC-12,CFC-12_FLAG_W,CFC113,CFC113_FLAG_W,CCL4,CCL4_FLAG_W,TRITUM,TRITUM_FLAG_W,HELIUM,HELIUM_FLAG_W,DELHE3,DELHE3_FLAG_W,DELC14,DELC14_FLAG_W,DELC13,DELC13_FLAG_W,TCARBN,TCARBN_FLAG_W,PCO2,PCO2_FLAG_W,ALKALI,ALKALI_FLAG_W,PH,PH_FLAG_W,PCO2TMP,C14ERR,HELIER,DELHER,PH_TMP,C13ERR,THETA,TRITER
,,,,,,,,,,,,DBAR,ITS-90,PSS-78,,PSS-78,,UMOL/KG,,UMOL/KG,,UMOL/KG,,UMOL/KG,,UMOL/KG,,UMOL/KG,,PMOL/KG,,PMOL/KG,,PMOL/KG,,PMOL/KG,,TU,,NMOL/KG,,PERCNT,,/MILLE,,/MILLE,,UMOL/KG,,UATM,,UMOL/KG,,,,DEG C,/MILLE,NMOL/KG,PERCNT,DEG C,/MILLE,DEG C,TU
    31DSCG94_2,  P18S,    65,  1,    124,    435,2,19940317,1102,-37.0000,-103.0000, 4027,     12.0,  19.5506,  34.0617,2,  34.0619,2,    235.3,2,    232.7,2,     0.00,2,     1.55,2,     0.00,2,     0.30,2, -999.000,9, -999.000,9, -999.000,9, -999.000,9, -999.000,9,-999.0000,9,  -999.00,9,   -999.0,9,   -999.0,9,   2000.4,2,   -999.0,9,   2256.0,2,     7.99,2, -999.00,  -999.0,-999.0000,-999.000,   25.00,  -999.0, 19.5484,-999.000
    31DSCG94_2,  P18S,    65,  1,    123,    421,2,19940317,1102,-37.0000,-103.0000, 4027,     24.9,  19.5452,  34.0626,2,  34.0640,2,    231.6,2,    232.9,2,     0.00,2,     1.51,2,     0.01,2,     0.29,2, -999.000,9, -999.000,9, -999.000,9, -999.000,9, -999.000,9,-999.0000,9,  -999.00,9,   -999.0,9,   -999.0,9,   1998.4,2,   -999.0,9,   2256.0,2,     7.99,2, -999.00,  -999.0,-999.0000,-999.000,   25.00,  -999.0, 19.5407,-999.000
    31DSCG94_2,  P18S,    65,  1,    122,    418,2,19940317,1102,-37.0000,-103.0000, 4027,     45.6,  19.3603,  34.0661,2,-999.0000,9,    231.6,2,    236.5,2,     0.00,2,     1.47,2,     0.00,2,     0.26,2, -999.000,9, -999.000,9, -999.000,9, -999.000,9, -999.000,9,-999.0000,9,  -999.00,9,   -999.0,9,   -999.0,9,   1998.8,2,   -999.0,9,   2256.0,2,  -999.00,9, -999.00,  -999.0,-999.0000,-999.000, -999.00,  -999.0, 19.3521,-999.000
    31DSCG94_2,  P18S,    65,  1,    121,    413,3,19940317,1102,-37.0000,-103.0000, 4027,     95.7,  13.6823,  34.0132,2,  34.0123,2,    255.2,2,   -999.0,9,     0.07,2,     3.46,2,     0.08,2,     0.44,2, -999.000,9, -999.000,9, -999.000,9, -999.000,9, -999.000,9,-999.0000,9,  -999.00,9,   -999.0,9,   -999.0,9,   2020.5,2,   -999.0,9,   2249.0,2,  -999.00,9, -999.00,  -999.0,-999.0000,-999.000, -999.00,  -999.0, 13.6689,-999.000
    31DSCG94_2,  P18S,    65,  1,    120,    405,2,19940317,1102,-37.0000,-103.0000, 4027,    146.8,  12.6704,  34.2321,2,  34.2579,3,    251.0,2,    238.2,2,     0.42,2,     6.22,2,     0.50,2,     0.65,2, -999.000,9, -999.000,9, -999.000,9, -999.000,9, -999.000,9,-999.0000,9,  -999.00,9,   -999.0,9,   -999.0,9,   2054.0,2,   -999.0,9,   2264.0,2,     7.89,2, -999.00,  -999.0,-999.0000,-999.000,   25.00,  -999.0, 12.6507,-999.000
    31DSCG94_2,  P18S,    65,  1,    119,    417,2,19940317,1102,-37.0000,-103.0000, 4027,    194.5,  10.8929,  34.2657,2,  34.2823,2,    232.8,2,    231.3,2,     0.91,2,    11.89,2,     0.03,2,     0.93,2, -999.000,9, -999.000,9, -999.000,9, -999.000,9, -999.000,9,-999.0000,9,  -999.00,9,   -999.0,9,   -999.0,9,   2083.3,2,   -999.0,9,   2270.0,2,     7.83,2, -999.00,  -999.0,-999.0000,-999.000,   25.00,  -999.0, 10.8693,-999.000
    31DSCG94_2,  P18S,    65,  1,    118,    429,2,19940317,1102,-37.0000,-103.0000, 4027,    296.8,   8.0566,  34.3057,2,  34.3055,2,    239.8,2,    236.4,2,     3.02,2,    18.71,2,     0.00,2,     1.31,2, -999.000,9, -999.000,9, -999.000,9, -999.000,9, -999.000,9,-999.0000,9,  -999.00,9,   -999.0,9,   -999.0,9,   2118.4,2,   -999.0,9,   2268.0,2,     7.76,2, -999.00,  -999.0,-999.0000,-999.000,   25.00,  -999.0,  8.0265,-999.000
    31DSCG94_2,  P18S,    65,  1,    117,    427,2,19940317,1102,-37.0000,-103.0000, 4027,    396.0,   6.9033,  34.3349,2,  34.3344,2,    242.8,2,    241.4,2,     5.82,2,    21.45,2,     0.00,2,     1.52,2, -999.000,9, -999.000,9, -999.000,9, -999.000,9, -999.000,9,-999.0000,9,  -999.00,9,   -999.0,9,   -999.0,9,   2131.2,2,   -999.0,9,   2279.0,2,     7.74,2, -999.00,  -999.0,-999.0000,-999.000,   25.00,  -999.0,  6.8664,-999.000
    31DSCG94_2,  P18S,    65,  1,    116,    410,2,19940317,1102,-37.0000,-103.0000, 4027,    495.7,   6.4263,  34.3317,2,  34.3316,2,    247.3,2,    248.0,2,     7.16,2,    22.58,2,     0.00,2,     1.57,2, -999.000,9, -999.000,9, -999.000,9, -999.000,9, -999.000,9,-999.0000,9,  -999.00,9,   -999.0,9,   -999.0,9,   2132.8,2,   -999.0,9,   2281.0,2,     7.74,2, -999.00,  -999.0,-999.0000,-999.000,   25.00,  -999.0,  6.3815,-999.000
    31DSCG94_2,  P18S,    65,  1,    115,    422,2,19940317,1102,-37.0000,-103.0000, 4027,    598.3,   5.9773,  34.3056,2,  34.3059,2,    248.4,2,    247.9,2,     8.54,2,    23.38,2,     0.00,2,     1.60,2, -999.000,9, -999.000,9, -999.000,9, -999.000,9, -999.000,9,-999.0000,9,  -999.00,9,   -999.0,9,   -999.0,9,   2136.4,2,   -999.0,9,   2274.0,2,     7.73,2, -999.00,  -999.0,-999.0000,-999.000,   25.00,  -999.0,  5.9249,-999.000
    31DSCG94_2,  P18S,    65,  1,    114,    407,2,19940317,1102,-37.0000,-103.0000, 4027,    698.2,   5.5495,  34.2812,2,  34.2825,2,    245.0,2,    243.7,2,    10.88,2,    24.70,2,     0.00,2,     1.69,2, -999.000,9, -999.000,9, -999.000,9, -999.000,9, -999.000,9,-999.0000,9,  -999.00,9,   -999.0,9,   -999.0,9,   2142.5,2,   -999.0,9,   2274.0,2,     7.72,2, -999.00,  -999.0,-999.0000,-999.000,   25.00,  -999.0,  5.4901,-999.000
    31DSCG94_2,  P18S,    65,  1,    113,    419,2,19940317,1102,-37.0000,-103.0000, 4027,    795.8,   5.1641,  34.2667,2,  34.2674,2,    236.5,2,    236.9,2,    14.04,2,    26.34,2,     0.00,2,     1.82,2, -999.000,9, -999.000,9, -999.000,9, -999.000,9, -999.000,9,-999.0000,9,  -999.00,9,   -999.0,9,   -999.0,9,   2151.3,2,   -999.0,9,   2276.0,2,     7.70,2, -999.00,  -999.0,-999.0000,-999.000,   25.00,  -999.0,  5.0982,-999.000
    31DSCG94_2,  P18S,    65,  1,    112,    426,2,19940317,1102,-37.0000,-103.0000, 4027,    898.2,   4.6788,  34.2744,2,  34.2767,2,    218.2,2,    218.0,2,    21.03,2,    28.91,2,     0.00,2,     2.01,2, -999.000,9, -999.000,9, -999.000,9, -999.000,9, -999.000,9,-999.0000,9,  -999.00,9,   -999.0,9,   -999.0,9,   2170.7,2,   -999.0,9,   2302.0,3,     7.66,2, -999.00,  -999.0,-999.0000,-999.000,   25.00,  -999.0,  4.6071,-999.000
    31DSCG94_2,  P18S,    65,  1,    111,    424,2,19940317,1102,-37.0000,-103.0000, 4027,    998.8,   4.2225,  34.3007,2,  34.3017,2,    201.0,2,    199.8,2,    29.95,2,    30.94,2,     0.00,2,     2.13,2, -999.000,9, -999.000,9, -999.000,9, -999.000,9, -999.000,9,-999.0000,9,  -999.00,9,   -999.0,9,   -999.0,9,   2190.6,2,   -999.0,9,   2297.0,2,     7.63,2, -999.00,  -999.0,-999.0000,-999.000,   25.00,  -999.0,  4.1455,-999.000
    31DSCG94_2,  P18S,    65,  1,    110,    409,2,19940317,1102,-37.0000,-103.0000, 4027,   1206.3,   3.4708,  34.4072,2,  34.4080,2,    162.0,2,    156.5,2,    55.86,2,    34.93,2,     0.00,2,     2.46,2, -999.000,9, -999.000,9, -999.000,9, -999.000,9, -999.000,9,-999.0000,9,  -999.00,9,   -999.0,9,   -999.0,9,   2241.5,2,   -999.0,9,   2315.0,2,     7.55,2, -999.00,  -999.0,-999.0000,-999.000,   25.00,  -999.0,  3.3827,-999.000
    31DSCG94_2,  P18S,    65,  1,    109,    423,4,19940317,1102,-37.0000,-103.0000, 4027,   1390.8,   3.1664,  34.4975,2,-999.0000,9,    133.2,2,   -999.0,9,  -999.00,9,  -999.00,9,  -999.00,9,  -999.00,9, -999.000,9, -999.000,9, -999.000,9, -999.000,9, -999.000,9,-999.0000,9,  -999.00,9,   -999.0,9,   -999.0,9,   -999.0,9,   -999.0,9,   -999.0,9,  -999.00,9, -999.00,  -999.0,-999.0000,-999.000, -999.00,  -999.0,  3.0660,-999.000
    31DSCG94_2,  P18S,    65,  1,    108,    414,2,19940317,1102,-37.0000,-103.0000, 4027,   1605.0,   2.7583,  34.5576,2,  34.5569,2,    135.6,2,    138.5,2,    88.76,2,    36.27,2,     0.00,2,     2.58,2, -999.000,9, -999.000,9, -999.000,9, -999.000,9, -999.000,9,-999.0000,9,  -999.00,9,   -999.0,9,   -999.0,9,   2282.7,2,   -999.0,9,   2353.0,2,     7.54,2, -999.00,  -999.0,-999.0000,-999.000,   25.00,  -999.0,  2.6447,-999.000
    31DSCG94_2,  P18S,    65,  1,    107,    437,2,19940317,1102,-37.0000,-103.0000, 4027,   1887.6,   2.3764,  34.6051,2,  34.6046,2,    149.6,2,    153.2,2,    95.07,2,    34.90,2,     0.00,2,     2.47,2, -999.000,9, -999.000,9, -999.000,9, -999.000,9, -999.000,9,-999.0000,9,  -999.00,9,   -999.0,9,   -999.0,9,   2280.6,2,   -999.0,9,   2368.0,2,     7.56,2, -999.00,  -999.0,-999.0000,-999.000,   25.00,  -999.0,  2.2440,-999.000
    31DSCG94_2,  P18S,    65,  1,    106,    416,2,19940317,1102,-37.0000,-103.0000, 4027,   2207.1,   2.0382,  34.6586,2,  34.6586,2,    159.8,2,    161.7,2,   106.14,2,    34.18,2,     0.00,2,     2.36,2, -999.000,9, -999.000,9, -999.000,9, -999.000,9, -999.000,9,-999.0000,9,  -999.00,9,   -999.0,9,   -999.0,9,   2284.9,2,   -999.0,9,   2371.0,2,     7.58,2, -999.00,  -999.0,-999.0000,-999.000,   25.00,  -999.0,  1.8833,-999.000
    31DSCG94_2,  P18S,    65,  1,    105,    420,2,19940317,1102,-37.0000,-103.0000, 4027,   2601.6,   1.8306,  34.6836,2,  34.6867,2,    165.1,2,    165.3,2,   114.66,2,    34.08,2,     0.00,2,     2.36,2, -999.000,9, -999.000,9, -999.000,9, -999.000,9, -999.000,9,-999.0000,9,  -999.00,9,   -999.0,9,   -999.0,9,   2287.8,2,   -999.0,9,   2387.0,2,     7.59,2, -999.00,  -999.0,-999.0000,-999.000,   25.00,  -999.0,  1.6440,-999.000
    31DSCG94_2,  P18S,    65,  1,    104,    436,2,19940317,1102,-37.0000,-103.0000, 4027,   3002.4,   1.7593,  34.6916,2,  34.6926,2,    170.0,2,    169.3,2,   114.76,2,    33.57,2,     0.00,2,     2.37,2, -999.000,9, -999.000,9, -999.000,9, -999.000,9, -999.000,9,-999.0000,9,  -999.00,9,   -999.0,9,   -999.0,9,   -999.0,9,   -999.0,9,   2382.0,2,     7.59,2, -999.00,  -999.0,-999.0000,-999.000,   25.00,  -999.0,  1.5364,-999.000
    31DSCG94_2,  P18S,    65,  1,    103,    425,2,19940317,1102,-37.0000,-103.0000, 4027,   3389.9,   1.5518,  34.6986,2,  34.6979,2,    178.2,2,    177.0,2,   119.04,2,    33.46,2,     0.00,2,     2.32,2, -999.000,9, -999.000,9, -999.000,9, -999.000,9, -999.000,9,-999.0000,9,  -999.00,9,   -999.0,9,   -999.0,9,   2286.1,2,   -999.0,9,   2385.0,2,     7.60,2, -999.00,  -999.0,-999.0000,-999.000,   25.00,  -999.0,  1.2954,-999.000
    31DSCG94_2,  P18S,    65,  1,    102,    433,2,19940317,1102,-37.0000,-103.0000, 4027,   3802.1,   1.2098,  34.7069,2,  34.7072,2,    192.5,2,    190.0,2,   125.98,2,    33.17,2,     0.00,2,     2.30,2, -999.000,9, -999.000,9, -999.000,9, -999.000,9, -999.000,9,-999.0000,9,  -999.00,9,   -999.0,9,   -999.0,9,   2280.8,2,   -999.0,9,   -999.0,5,     7.61,2, -999.00,  -999.0,-999.0000,-999.000,   25.00,  -999.0,  0.9198,-999.000
    31DSCG94_2,  P18S,    65,  1,    101,    403,2,19940317,1102,-37.0000,-103.0000, 4027,   4094.4,   1.2192,  34.7067,2,  34.7071,2,    194.6,2,    190.8,2,   125.93,2,    33.07,2,     0.00,2,     2.26,2, -999.000,9, -999.000,9, -999.000,9, -999.000,9, -999.000,9,-999.0000,9,  -999.00,9,   -999.0,9,   -999.0,9,   2281.6,2,   -999.0,9,   2390.0,2,     7.61,2, -999.00,  -999.0,-999.0000,-999.000,   25.00,  -999.0,  0.8978,-999.000