BOTTLE,20220630CCHSIOAMB
EXPOCODE,SECT_ID,STNNBR,CASTNO,SAMPNO,BTLNBR,BTLNBR_FLAG_W,DATE,TIME,LATITUDE,LONGITUDE,DEPTH,CTDPRS,CTDTMP,CTDSAL,CTDSAL_FLAG_W,SALNTY,SALNTY_FLAG_W,CTDOXY,CTDOXY_FLAG_W,OXYGEN,OXYGEN_FLAG_W,SILCAT,SILCAT_FLAG_W,NITRAT,NITRAT_FLAG_W,NITRIT,NITRIT_FLAG_W,PHSPHT,PHSPHT_FLAG_W,CFC-11,CFC-11_FLAG_W,CFC-12,CFC-12_FLAG_W,CFC113,CFC113_FLAG_W,CCL4,CCL4_FLAG_W,TRITUM,TRITUM_FLAG_W,HELIUM,HELIUM_FLAG_W,DELHE3,DELHE3_FLAG_W,DELC14,DELC14_FLAG_W,DELC13,DELC13_FLAG_W,TCARBN,TCARBN_FLAG_W,PCO2,PCO2_FLAG_W,ALKALI,ALKALI_FLAG_W,PH,PH_FLAG_W,PCO2TMP,C14ERR,HELIER,DELHER,PH_TMP,C13ERR,THETA,TRITER
,,,,,,,,,,,,DBAR,ITS-90,PSS-78,,PSS-78,,UMOL/KG,,UMOL/KG,,UMOL/KG,,UMOL/KG,,UMOL/KG,,UMOL/KG,,PMOL/KG,,PMOL/KG,,PMOL/KG,,PMOL/KG,,TU,,NMOL/KG,,PERCNT,,/MILLE,,/MILLE,,UMOL/KG,,UATM,,UMOL/KG,,,,DEG C,/MILLE,NMOL/KG,PERCNT,DEG C,/MILLE,DEG C,TU
    31DSCG94_2,  P18S,    11,  1,    121,   1206,2,19940228,0001,-66.4967,-103.0100, 4806,    697.9,   2.0977,  34.6540,2,-999.0000,5,    179.9,2,    173.8,2,    83.85,2,    34.23,2,     0.00,2,     2.36,2, -999.000,9, -999.000,9, -999.000,9, -999.000,9, -999.000,9,-999.0000,9,  -999.00,9,   -999.0,9,   -999.0,9,   2252.9,2,   1155.5,2,   2339.0,2,  -999.00,9,   20.00,  -999.0,-999.0000,-999.000, -999.00,  -999.0,  2.0568,-999.000
    31DSCG94_2,  P18S,    11,  1,    119,   1248,2,19940228,0001,-66.4967,-103.0100, 4806,    901.6,   2.0004,  34.6934,2,  34.6929,2,    184.1,2,    178.8,2,    84.73,2,    32.42,2,     0.00,2,     2.22,2, -999.000,9, -999.000,9, -999.000,9, -999.000,9, -999.000,9,-999.0000,9,  -999.00,9,   -999.0,9,   -999.0,9,   2252.2,2,   1134.1,2,   2343.0,2,  -999.00,9,   20.00,  -999.0,-999.0000,-999.000, -999.00,  -999.0,  1.9467,-999.000
    31DSCG94_2,  P18S,    11,  1,    118,   1207,2,19940228,0001,-66.4967,-103.0100, 4806,    996.1,   1.9358,  34.7054,2,  34.7054,2,    185.9,2,    180.7,2,    91.74,3,    32.18,2,     0.05,2,     2.04,4, -999.000,9, -999.000,9, -999.000,9, -999.000,9, -999.000,9,-999.0000,9,  -999.00,9,   -999.0,9,   -999.0,9,   2251.7,2,   1117.7,2,   2346.0,2,  -999.00,9,   20.00,  -999.0,-999.0000,-999.000, -999.00,  -999.0,  1.8762,-999.000
    31DSCG94_2,  P18S,    11,  1,    117,   1119,2,19940228,0001,-66.4967,-103.0100, 4806,   1197.5,   1.8008,  34.7251,2,  34.7244,2,    190.0,2,    186.1,6,    92.19,2,    32.56,2,     0.02,2,     2.14,2, -999.000,9, -999.000,9, -999.000,9, -999.000,9, -999.000,9,-999.0000,9,  -999.00,9,   -999.0,9,   -999.0,9,   -999.0,9,   -999.0,9,   -999.0,9,  -999.00,9, -999.00,  -999.0,-999.0000,-999.000, -999.00,  -999.0,  1.7284,-999.000
    31DSCG94_2,  P18S,    11,  1,    116,   1036,2,19940228,0001,-66.4967,-103.0100, 4806,   1397.0,   1.6582,  34.7305,2,  34.7298,2,    193.2,2,    189.3,2,    96.03,2,    31.44,2,     0.00,2,     2.15,2, -999.000,9, -999.000,9, -999.000,9, -999.000,9, -999.000,9,-999.0000,9,  -999.00,9,   -999.0,9,   -999.0,9,   -999.0,9,   -999.0,9,   -999.0,9,  -999.00,9, -999.00,  -999.0,-999.0000,-999.000, -999.00,  -999.0,  1.5730,-999.000
    31DSCG94_2,  P18S,    11,  1,    115,   1017,2,19940228,0001,-66.4967,-103.0100, 4806,   1601.7,   1.4898,  34.7302,2,  34.7296,2,    195.6,2,    192.2,2,    99.32,2,    31.26,2,     0.00,2,     2.16,2, -999.000,9, -999.000,9, -999.000,9, -999.000,9, -999.000,9,-999.0000,9,  -999.00,9,   -999.0,9,   -999.0,9,   -999.0,9,   -999.0,9,   -999.0,9,  -999.00,9, -999.00,  -999.0,-999.0000,-999.000, -999.00,  -999.0,  1.3916,-999.000
    31DSCG94_2,  P18S,    11,  1,    114,   1016,2,19940228,0001,-66.4967,-103.0100, 4806,   1799.6,   1.3479,  34.7280,2,  34.7268,2,    197.8,2,    194.5,2,   102.92,2,    31.41,2,     0.02,2,     2.18,2, -999.000,9, -999.000,9, -999.000,9, -999.000,9, -999.000,9,-999.0000,9,  -999.00,9,   -999.0,9,   -999.0,9,   -999.0,9,   -999.0,9,   -999.0,9,  -999.00,9, -999.00,  -999.0,-999.0000,-999.000, -999.00,  -999.0,  1.2367,-999.000
    31DSCG94_2,  P18S,    11,  1,    113,   1118,2,19940228,0001,-66.4967,-103.0100, 4806,   1980.6,   1.2451,  34.7246,2,  34.7237,2,    198.6,2,    196.1,2,   106.62,2,    31.64,2,     0.06,4,     2.18,2, -999.000,9, -999.000,9, -999.000,9, -999.000,9, -999.000,9,-999.0000,9,  -999.00,9,   -999.0,9,   -999.0,9,   -999.0,9,   -999.0,9,   -999.0,9,  -999.00,9, -999.00,  -999.0,-999.0000,-999.000, -999.00,  -999.0,  1.1214,-999.000
    31DSCG94_2,  P18S,    11,  1,    112,   1033,2,19940228,0001,-66.4967,-103.0100, 4806,   2200.2,   1.1176,  34.7206,2,  34.7195,2,    200.3,2,    198.6,2,   110.99,2,    31.71,2,     0.00,2,     2.26,2, -999.000,9, -999.000,9, -999.000,9, -999.000,9, -999.000,9,-999.0000,9,  -999.00,9,   -999.0,9,   -999.0,9,   -999.0,9,   -999.0,9,   -999.0,9,  -999.00,9, -999.00,  -999.0,-999.0000,-999.000, -999.00,  -999.0,  0.9785,-999.000
    31DSCG94_2,  P18S,    11,  1,    111,   1263,2,19940228,0001,-66.4967,-103.0100, 4806,   2498.2,   0.9720,  34.7149,2,  34.7136,2,    202.0,2,    201.1,2,   116.67,2,    32.60,2,     0.00,2,     2.27,2, -999.000,9, -999.000,9, -999.000,9, -999.000,9, -999.000,9,-999.0000,9,  -999.00,9,   -999.0,9,   -999.0,9,   -999.0,9,   -999.0,9,   -999.0,9,  -999.00,9, -999.00,  -999.0,-999.0000,-999.000, -999.00,  -999.0,  0.8108,-999.000
    31DSCG94_2,  P18S,    11,  1,    110,   1005,2,19940228,0001,-66.4967,-103.0100, 4806,   2745.6,   0.8641,  34.7113,2,  34.7097,2,    204.0,2,    203.1,2,   121.14,2,    32.17,2,     0.00,2,     2.28,2, -999.000,9, -999.000,9, -999.000,9, -999.000,9, -999.000,9,-999.0000,9,  -999.00,9,   -999.0,9,   -999.0,9,   -999.0,9,   1076.3,2,   -999.0,9,  -999.00,9,   20.00,  -999.0,-999.0000,-999.000, -999.00,  -999.0,  0.6839,-999.000
    31DSCG94_2,  P18S,    11,  1,    109,   1611,2,19940228,0001,-66.4967,-103.0100, 4806,   2999.0,   0.7764,  34.7088,2,  34.7079,2,    204.4,2,    205.4,2,   124.43,2,    32.10,2,     0.00,2,     2.27,2, -999.000,9, -999.000,9, -999.000,9, -999.000,9, -999.000,9,-999.0000,9,  -999.00,9,   -999.0,9,   -999.0,9,   -999.0,9,   -999.0,9,   -999.0,9,  -999.00,9, -999.00,  -999.0,-999.0000,-999.000, -999.00,  -999.0,  0.5755,-999.000
    31DSCG94_2,  P18S,    11,  1,    108,   1218,2,19940228,0001,-66.4967,-103.0100, 4806,   3300.8,   0.6506,  34.7062,2,  34.7041,2,    206.3,2,    207.1,2,   127.05,2,    32.32,2,     0.02,3,     2.26,2, -999.000,9, -999.000,9, -999.000,9, -999.000,9, -999.000,9,-999.0000,9,  -999.00,9,   -999.0,9,   -999.0,9,   -999.0,9,   -999.0,9,   -999.0,9,  -999.00,9, -999.00,  -999.0,-999.0000,-999.000, -999.00,  -999.0,  0.4248,-999.000
    31DSCG94_2,  P18S,    11,  1,    107,   1257,2,19940228,0001,-66.4967,-103.0100, 4806,   3600.0,   0.5382,  34.7050,2,  34.7023,2,    208.0,2,    209.7,6,   129.90,2,    32.33,2,     0.00,2,     2.24,2, -999.000,9, -999.000,9, -999.000,9, -999.000,9, -999.000,9,-999.0000,9,  -999.00,9,   -999.0,9,   -999.0,9,   -999.0,9,   -999.0,9,   -999.0,9,  -999.00,9, -999.00,  -999.0,-999.0000,-999.000, -999.00,  -999.0,  0.2865,-999.000
    31DSCG94_2,  P18S,    11,  1,    106,   1224,2,19940228,0001,-66.4967,-103.0100, 4806,   3898.4,   0.4517,  34.7033,2,  34.7015,2,    209.1,2,    211.9,2,   133.56,2,    32.95,2,     0.00,2,     2.09,4, -999.000,9, -999.000,9, -999.000,9, -999.000,9, -999.000,9,-999.0000,9,  -999.00,9,   -999.0,9,   -999.0,9,   -999.0,9,   1085.8,2,   -999.0,9,  -999.00,9,   20.00,  -999.0,-999.0000,-999.000, -999.00,  -999.0,  0.1727,-999.000
    31DSCG94_2,  P18S,    11,  1,    105,   1246,2,19940228,0001,-66.4967,-103.0100, 4806,   4196.6,   0.4043,  34.7033,2,  34.7009,2,    210.7,2,    213.4,2,   133.69,2,    32.17,2,     0.00,2,     2.28,2, -999.000,9, -999.000,9, -999.000,9, -999.000,9, -999.000,9,-999.0000,9,  -999.00,9,   -999.0,9,   -999.0,9,   -999.0,9,   -999.0,9,   -999.0,9,  -999.00,9, -999.00,  -999.0,-999.0000,-999.000, -999.00,  -999.0,  0.0959,-999.000
    31DSCG94_2,  P18S,    11,  1,    104,   1028,2,19940228,0001,-66.4967,-103.0100, 4806,   4497.9,   0.3759,  34.7030,2,  34.7007,2,    211.6,2,    214.4,2,   134.02,2,    32.54,2,     0.02,3,     2.30,2, -999.000,9, -999.000,9, -999.000,9, -999.000,9, -999.000,9,-999.0000,9,  -999.00,9,   -999.0,9,   -999.0,9,   -999.0,9,   -999.0,9,   -999.0,9,  -999.00,9, -999.00,  -999.0,-999.0000,-999.000, -999.00,  -999.0,  0.0362,-999.000
    31DSCG94_2,  P18S,    11,  1,    103,   9999,2,19940228,0001,-66.4967,-103.0100, 4806,   4499.0,   0.3756,  34.7033,2,  34.7017,2,    211.6,2,    214.2,2,   134.74,2,    32.51,2,     0.01,2,     2.29,2, -999.000,9, -999.000,9, -999.000,9, -999.000,9, -999.000,9,-999.0000,9,  -999.00,9,   -999.0,9,   -999.0,9,   -999.0,9,   -999.0,9,   -999.0,9,  -999.00,9, -999.00,  -999.0,-999.0000,-999.000, -999.00,  -999.0,  0.0357,-999.000
    31DSCG94_2,  P18S,    11,  1,    102,   1223,2,19940228,0001,-66.4967,-103.0100, 4806,   4876.0,   0.3697,  34.7024,2,  34.7009,2,    211.4,2,    214.5,2,   141.77,2,    32.55,2,     0.00,2,     2.27,2, -999.000,9, -999.000,9, -999.000,9, -999.000,9, -999.000,9,-999.0000,9,  -999.00,9,   -999.0,9,   -999.0,9,   -999.0,9,   -999.0,9,   -999.0,9,  -999.00,9, -999.00,  -999.0,-999.0000,-999.000, -999.00,  -999.0, -0.0120,-999.000
    31DSCG94_2,  P18S,    11,  1,    101,   1041,2,19940228,0001,-66.4967,-103.0100, 4806,   4876.2,   0.3701,  34.7025,2,  34.7008,2,    211.1,2,    217.0,2,   142.50,2,    32.34,2,     0.03,3,     2.27,2, -999.000,9, -999.000,9, -999.000,9, -999.000,9, -999.000,9,-999.0000,9,  -999.00,9,   -999.0,9,   -999.0,9,   -999.0,9,   1085.1,2,   -999.0,9,  -999.00,9,   20.00,  -999.0,-999.0000,-999.000, -999.00,  -999.0, -0.0116,-999.000
    31DSCG94_2,  P18S,    11,  2,    213,   1118,2,19940228,0408,-66.4983,-102.9983, 4807,     12.3,   1.7194,  33.5704,2,  33.5732,2,    329.5,2,    329.1,2,     5.40,2,    20.96,2,     0.30,2,     1.50,2, -999.000,9, -999.000,9, -999.000,9, -999.000,9, -999.000,9,-999.0000,9,  -999.00,9,   -999.0,9,   -999.0,9,   2117.7,2,    703.0,2,   2278.0,2,  -999.00,9,   20.00,  -999.0,-999.0000,-999.000, -999.00,  -999.0,  1.7188,-999.000
    31DSCG94_2,  P18S,    11,  2,    212,   1033,2,19940228,0408,-66.4983,-102.9983, 4807,     23.6,   1.7201,  33.5709,2,  33.5722,2,    325.1,2,    328.9,2,     5.27,2,    21.23,2,     0.31,2,     1.51,2, -999.000,9, -999.000,9, -999.000,9, -999.000,9, -999.000,9,-999.0000,9,  -999.00,9,   -999.0,9,   -999.0,9,   -999.0,9,    703.1,2,   -999.0,9,  -999.00,9,   20.00,  -999.0,-999.0000,-999.000, -999.00,  -999.0,  1.7190,-999.000
    31DSCG94_2,  P18S,    11,  2,    211,   1263,2,19940228,0408,-66.4983,-102.9983, 4807,     46.7,   1.3425,  33.5883,2,  33.5913,2,    332.1,2,    332.5,2,     6.30,2,    21.92,2,     0.29,2,     1.58,2, -999.000,9, -999.000,9, -999.000,9, -999.000,9, -999.000,9,-999.0000,9,  -999.00,9,   -999.0,9,   -999.0,9,   2120.8,2,    703.7,2,   2272.0,2,  -999.00,9,   20.00,  -999.0,-999.0000,-999.000, -999.00,  -999.0,  1.3404,-999.000
    31DSCG94_2,  P18S,    11,  2,    210,   1005,2,19940228,0408,-66.4983,-102.9983, 4807,     73.9,  -1.4686,  33.7729,2,  33.7709,2,    350.8,2,    349.6,2,    23.15,2,    25.00,2,     0.25,2,     1.86,2, -999.000,9, -999.000,9, -999.000,9, -999.000,9, -999.000,9,-999.0000,9,  -999.00,9,   -999.0,9,   -999.0,9,   -999.0,9,    799.6,2,   -999.0,9,  -999.00,9,   20.00,  -999.0,-999.0000,-999.000, -999.00,  -999.0, -1.4702,-999.000
    31DSCG94_2,  P18S,    11,  2,    209,   1611,2,19940228,0408,-66.4983,-102.9983, 4807,     98.7,  -1.2626,  33.8308,2,  33.8367,2,    342.7,2,    345.2,6,    25.01,2,    25.95,2,     0.22,2,     1.87,2, -999.000,9, -999.000,9, -999.000,9, -999.000,9, -999.000,9,-999.0000,9,  -999.00,9,   -999.0,9,   -999.0,9,   2151.0,2,    812.0,2,   2282.0,2,  -999.00,9,   20.00,  -999.0,-999.0000,-999.000, -999.00,  -999.0, -1.2649,-999.000
    31DSCG94_2,  P18S,    11,  2,    208,   1218,2,19940228,0408,-66.4983,-102.9983, 4807,    151.4,  -0.5453,  33.9489,2,  33.9490,2,    310.3,2,    324.6,2,    29.09,2,    28.25,2,     0.00,2,     1.96,2, -999.000,9, -999.000,9, -999.000,9, -999.000,9, -999.000,9,-999.0000,9,  -999.00,9,   -999.0,9,   -999.0,9,   -999.0,9,    865.1,2,   -999.0,9,  -999.00,9,   20.00,  -999.0,-999.0000,-999.000, -999.00,  -999.0, -0.5499,-999.000
    31DSCG94_2,  P18S,    11,  2,    207,   1257,2,19940228,0408,-66.4983,-102.9983, 4807,    201.9,   1.2365,  34.1970,2,  34.1947,2,    252.2,2,    247.5,2,    47.72,2,    32.42,2,     0.00,2,     2.25,2, -999.000,9, -999.000,9, -999.000,9, -999.000,9, -999.000,9,-999.0000,9,  -999.00,9,   -999.0,9,   -999.0,9,   -999.0,9,   1048.2,2,   2350.0,2,  -999.00,9,   20.00,  -999.0,-999.0000,-999.000, -999.00,  -999.0,  1.2271,-999.000
    31DSCG94_2,  P18S,    11,  2,    206,   1224,2,19940228,0408,-66.4983,-102.9983, 4807,    297.4,   1.9445,  34.4048,2,  34.4069,2,    192.0,2,    195.2,2,    64.83,2,    34.86,2,     0.01,2,     2.40,2, -999.000,9, -999.000,9, -999.000,9, -999.000,9, -999.000,9,-999.0000,9,  -999.00,9,   -999.0,9,   -999.0,9,   2236.9,2,   -999.0,9,   -999.0,5,  -999.00,9, -999.00,  -999.0,-999.0000,-999.000, -999.00,  -999.0,  1.9286,-999.000
    31DSCG94_2,  P18S,    11,  2,    205,   1246,2,19940228,0408,-66.4983,-102.9983, 4807,    402.0,   2.0782,  34.5004,2,  34.5002,2,    176.3,2,    180.2,2,    71.62,2,    34.44,2,     0.00,2,     2.35,2, -999.000,9, -999.000,9, -999.000,9, -999.000,9, -999.000,9,-999.0000,9,  -999.00,9,   -999.0,9,   -999.0,9,   2250.7,2,   1223.5,2,   2372.0,2,  -999.00,9,   20.00,  -999.0,-999.0000,-999.000, -999.00,  -999.0,  2.0558,-999.000
    31DSCG94_2,  P18S,    11,  2,    204,   1028,2,19940228,0408,-66.4983,-102.9983, 4807,    498.3,   2.1043,  34.5650,2,  34.5634,2,    171.6,2,    174.4,2,    76.61,2,    35.29,2,     0.03,2,     2.40,2, -999.000,9, -999.000,9, -999.000,9, -999.000,9, -999.000,9,-999.0000,9,  -999.00,9,   -999.0,9,   -999.0,9,   2252.3,2,   1212.7,2,   -999.0,5,  -999.00,9,   20.00,  -999.0,-999.0000,-999.000, -999.00,  -999.0,  2.0760,-999.000
    31DSCG94_2,  P18S,    11,  2,    203,   9999,2,19940228,0408,-66.4983,-102.9983, 4807,    597.8,   2.0876,  34.6129,2,  34.6118,2,    170.7,2,    173.4,2,    79.79,2,    34.50,2,     0.00,2,     2.36,2, -999.000,9, -999.000,9, -999.000,9, -999.000,9, -999.000,9,-999.0000,9,  -999.00,9,   -999.0,9,   -999.0,9,   2253.1,2,   1199.9,2,   2340.0,2,  -999.00,9,   20.00,  -999.0,-999.0000,-999.000, -999.00,  -999.0,  2.0532,-999.000
    31DSCG94_2,  P18S,    11,  2,    202,   1223,2,19940228,0408,-66.4983,-102.9983, 4807,    698.2,   2.0978,  34.6547,2,  34.6542,2,    171.2,2,    174.1,2,    82.44,2,    33.18,2,     0.00,2,     2.31,2, -999.000,9, -999.000,9, -999.000,9, -999.000,9, -999.000,9,-999.0000,9,  -999.00,9,   -999.0,9,   -999.0,9,   2253.5,2,   1167.8,2,   2342.0,2,  -999.00,9,   20.00,  -999.0,-999.0000,-999.000, -999.00,  -999.0,  2.0569,-999.000
    31DSCG94_2,  P18S,    11,  2,    201,   1041,2,19940228,0408,-66.4983,-102.9983, 4807,    802.3,   2.0325,  34.6772,2,  34.6773,2,    173.4,2,    176.5,2,    84.51,2,    32.37,2,     0.00,2,     2.26,2, -999.000,9, -999.000,9, -999.000,9, -999.000,9, -999.000,9,-999.0000,9,  -999.00,9,   -999.0,9,   -999.0,9,   -999.0,9,   1150.4,2,   -999.0,9,  -999.00,9,   20.00,  -999.0,-999.0000,-999.000, -999.00,  -999.0,  1.9852,-999.000