BOTTLE,20220630CCHSIOAMB
EXPOCODE,SECT_ID,STNNBR,CASTNO,SAMPNO,BTLNBR,BTLNBR_FLAG_W,DATE,TIME,LATITUDE,LONGITUDE,DEPTH,CTDPRS,CTDTMP,CTDSAL,CTDSAL_FLAG_W,SALNTY,SALNTY_FLAG_W,CTDOXY,CTDOXY_FLAG_W,OXYGEN,OXYGEN_FLAG_W,SILCAT,SILCAT_FLAG_W,NITRAT,NITRAT_FLAG_W,NITRIT,NITRIT_FLAG_W,PHSPHT,PHSPHT_FLAG_W,CFC-11,CFC-11_FLAG_W,CFC-12,CFC-12_FLAG_W,CFC113,CFC113_FLAG_W,CCL4,CCL4_FLAG_W,TRITUM,TRITUM_FLAG_W,HELIUM,HELIUM_FLAG_W,DELHE3,DELHE3_FLAG_W,DELC14,DELC14_FLAG_W,DELC13,DELC13_FLAG_W,TCARBN,TCARBN_FLAG_W,PCO2,PCO2_FLAG_W,ALKALI,ALKALI_FLAG_W,PH,PH_FLAG_W,PCO2TMP,C14ERR,HELIER,DELHER,PH_TMP,C13ERR,THETA,TRITER
,,,,,,,,,,,,DBAR,ITS-90,PSS-78,,PSS-78,,UMOL/KG,,UMOL/KG,,UMOL/KG,,UMOL/KG,,UMOL/KG,,UMOL/KG,,PMOL/KG,,PMOL/KG,,PMOL/KG,,PMOL/KG,,TU,,NMOL/KG,,PERCNT,,/MILLE,,/MILLE,,UMOL/KG,,UATM,,UMOL/KG,,,,DEG C,/MILLE,NMOL/KG,PERCNT,DEG C,/MILLE,DEG C,TU
    31DSCG94_2,  P18S,    75,  1,    136,   1025,2,19940319,2031,-31.9957,-102.9968, 3612,      9.7,  22.6690,  35.3637,2,  35.3651,2,    215.5,2,    216.4,2,     0.79,2,     0.08,2,     0.00,2,     0.10,2, -999.000,9, -999.000,9, -999.000,9, -999.000,9, -999.000,9,-999.0000,9,  -999.00,9,   -999.0,9,      1.5,2,   2022.9,3,    330.1,2,   2323.0,6,     8.04,2,   20.00,  -999.0,-999.0000,-999.000,   25.00,  -999.0, 22.6670,-999.000
    31DSCG94_2,  P18S,    75,  1,    135,   1247,2,19940319,2031,-31.9957,-102.9968, 3612,     27.2,  22.6456,  35.3613,2,  35.3634,2,    219.8,2,    216.9,2,     0.86,2,     0.03,2,     0.00,2,     0.07,2, -999.000,9, -999.000,9, -999.000,9, -999.000,9, -999.000,9,-999.0000,9,  -999.00,9,   -999.0,9,   -999.0,9,   -999.0,9,    329.2,2,   -999.0,9,     8.04,2,   20.00,  -999.0,-999.0000,-999.000,   25.00,  -999.0, 22.6401,-999.000
    31DSCG94_2,  P18S,    75,  1,    134,   1108,2,19940319,2031,-31.9957,-102.9968, 3612,     50.7,  19.7229,  34.9667,2,  34.9741,2,    230.1,2,    242.2,2,     0.95,2,     0.00,2,     0.00,2,     0.08,2, -999.000,9, -999.000,9, -999.000,9, -999.000,9, -999.000,9,-999.0000,9,  -999.00,9,   -999.0,9,   -999.0,9,   -999.0,9,    353.0,2,   -999.0,9,     8.02,2,   20.00,  -999.0,-999.0000,-999.000,   25.00,  -999.0, 19.7136,-999.000
    31DSCG94_2,  P18S,    75,  1,    133,   1244,2,19940319,2031,-31.9957,-102.9968, 3612,     77.2,  17.9537,  34.9123,2,  34.8738,3,    240.5,2,    248.3,2,     0.74,2,     0.00,2,     0.00,2,     0.12,2, -999.000,9, -999.000,9, -999.000,9, -999.000,9, -999.000,9,-999.0000,9,  -999.00,9,   -999.0,9,   -999.0,9,   -999.0,9,   -999.0,9,   -999.0,9,     8.02,2, -999.00,  -999.0,-999.0000,-999.000,   25.00,  -999.0, 17.9405,-999.000
    31DSCG94_2,  P18S,    75,  1,    132,   1003,2,19940319,2031,-31.9957,-102.9968, 3612,    102.2,  17.7899,  35.0265,2,  35.0261,2,    237.1,2,    239.5,2,     0.84,2,     0.05,2,     0.00,2,     0.12,2, -999.000,9, -999.000,9, -999.000,9, -999.000,9, -999.000,9,-999.0000,9,  -999.00,9,   -999.0,9,   -999.0,9,   -999.0,9,    352.0,2,   -999.0,9,     8.02,2,   20.00,  -999.0,-999.0000,-999.000,   25.00,  -999.0, 17.7726,-999.000
    31DSCG94_2,  P18S,    75,  1,    131,   1211,2,19940319,2031,-31.9957,-102.9968, 3612,    148.0,  16.6311,  34.8432,2,  34.8461,2,    237.0,2,    240.1,2,     0.76,2,     0.01,2,     0.00,2,     0.14,2, -999.000,9, -999.000,9, -999.000,9, -999.000,9, -999.000,9,-999.0000,9,  -999.00,9,   -999.0,9,   -999.0,9,   -999.0,9,   -999.0,9,   -999.0,9,     8.00,2, -999.00,  -999.0,-999.0000,-999.000,   25.00,  -999.0, 16.6071,-999.000
    31DSCG94_2,  P18S,    75,  1,    129,   1031,2,19940319,2031,-31.9957,-102.9968, 3612,    197.2,  15.3081,  34.8637,2,  34.8725,2,    218.7,2,    214.9,2,     0.89,2,     2.64,2,     0.10,2,     0.36,2, -999.000,9, -999.000,9, -999.000,9, -999.000,9, -999.000,9,-999.0000,9,  -999.00,9,   -999.0,9,   -999.0,9,   -999.0,9,   -999.0,9,   -999.0,9,  -999.00,9, -999.00,  -999.0,-999.0000,-999.000, -999.00,  -999.0, 15.2779,-999.000
    31DSCG94_2,  P18S,    75,  1,    130,   1241,2,19940319,2031,-31.9957,-102.9968, 3612,    199.8,  15.2569,  34.8624,2,  34.8658,2,    218.9,2,    215.1,2,     0.98,2,     2.72,2,     0.11,2,     0.35,2, -999.000,9, -999.000,9, -999.000,9, -999.000,9, -999.000,9,-999.0000,9,  -999.00,9,   -999.0,9,   -999.0,9,   -999.0,9,   -999.0,9,   -999.0,9,  -999.00,9, -999.00,  -999.0,-999.0000,-999.000, -999.00,  -999.0, 15.2264,-999.000
    31DSCG94_2,  P18S,    75,  1,    128,   1210,2,19940319,2031,-31.9957,-102.9968, 3612,    247.0,  13.3303,  34.7477,2,  34.7486,2,    210.3,2,    206.3,2,     2.08,2,     7.49,2,     0.00,2,     0.72,2, -999.000,9, -999.000,9, -999.000,9, -999.000,9, -999.000,9,-999.0000,9,  -999.00,9,   -999.0,9,   -999.0,9,   -999.0,9,    518.4,2,   -999.0,9,  -999.00,9,   20.00,  -999.0,-999.0000,-999.000, -999.00,  -999.0, 13.2958,-999.000
    31DSCG94_2,  P18S,    75,  1,    127,   1008,2,19940319,2031,-31.9957,-102.9968, 3612,    292.5,  11.4788,  34.5628,2,  34.5651,2,    205.6,2,    204.9,2,     3.13,2,    11.80,2,     0.00,2,     1.01,2, -999.000,9, -999.000,9, -999.000,9, -999.000,9, -999.000,9,-999.0000,9,  -999.00,9,   -999.0,9,   -999.0,9,   -999.0,9,   -999.0,9,   -999.0,9,  -999.00,9, -999.00,  -999.0,-999.0000,-999.000, -999.00,  -999.0, 11.4418,-999.000
    31DSCG94_2,  P18S,    75,  1,    126,   1007,2,19940319,2031,-31.9957,-102.9968, 3612,    346.4,   9.3327,  34.4133,2,  34.4702,3,    209.9,2,    207.2,2,     4.00,2,    15.30,2,     0.00,2,     1.24,2, -999.000,9, -999.000,9, -999.000,9, -999.000,9, -999.000,9,-999.0000,9,  -999.00,9,   -999.0,9,   -999.0,9,   -999.0,9,   -999.0,9,   -999.0,9,  -999.00,9, -999.00,  -999.0,-999.0000,-999.000, -999.00,  -999.0,  9.2941,-999.000
    31DSCG94_2,  P18S,    75,  1,    125,   1203,2,19940319,2031,-31.9957,-102.9968, 3612,    395.5,   7.8572,  34.3442,2,  34.3451,2,    215.1,2,    210.9,2,     6.79,2,    21.41,2,     0.00,2,     1.56,2, -999.000,9, -999.000,9, -999.000,9, -999.000,9, -999.000,9,-999.0000,9,  -999.00,9,   -999.0,9,   -999.0,9,   -999.0,9,   -999.0,9,   -999.0,9,  -999.00,9, -999.00,  -999.0,-999.0000,-999.000, -999.00,  -999.0,  7.8175,-999.000
    31DSCG94_2,  P18S,    75,  1,    123,   1101,2,19940319,2031,-31.9957,-102.9968, 3612,    500.0,   6.5636,  34.3311,2,  34.3307,2,    235.1,2,    238.3,2,     7.86,2,    22.61,2,     0.00,2,     1.54,2, -999.000,9, -999.000,9, -999.000,9, -999.000,9, -999.000,9,-999.0000,9,  -999.00,9,   -999.0,9,   -999.0,9,   -999.0,9,    754.2,2,   -999.0,9,  -999.00,9,   20.00,  -999.0,-999.0000,-999.000, -999.00,  -999.0,  6.5179,-999.000
    31DSCG94_2,  P18S,    75,  1,    121,   1206,2,19940319,2031,-31.9957,-102.9968, 3612,    607.0,   5.9403,  34.3015,2,  34.3015,2,    245.7,2,    245.6,2,     9.62,2,    23.55,2,     0.00,2,     1.65,2, -999.000,9, -999.000,9, -999.000,9, -999.000,9, -999.000,9,-999.0000,9,  -999.00,9,   -999.0,9,   -999.0,9,   -999.0,9,   -999.0,9,   -999.0,9,  -999.00,9, -999.00,  -999.0,-999.0000,-999.000, -999.00,  -999.0,  5.8873,-999.000
    31DSCG94_2,  P18S,    75,  1,    119,   1248,2,19940319,2031,-31.9957,-102.9968, 3612,    708.0,   5.5027,  34.2764,2,  34.2774,2,    243.3,2,    244.6,2,    11.29,2,    24.82,2,     0.00,2,     1.72,2, -999.000,9, -999.000,9, -999.000,9, -999.000,9, -999.000,9,-999.0000,9,  -999.00,9,   -999.0,9,   -999.0,9,   -999.0,9,    781.7,2,   -999.0,9,  -999.00,9,   20.00,  -999.0,-999.0000,-999.000, -999.00,  -999.0,  5.4427,-999.000
    31DSCG94_2,  P18S,    75,  1,    118,   1207,2,19940319,2031,-31.9957,-102.9968, 3612,    802.3,   5.0648,  34.2666,2,  34.2669,2,    235.1,2,    231.5,2,    16.08,2,    27.40,2,     0.00,2,     1.90,2, -999.000,9, -999.000,9, -999.000,9, -999.000,9, -999.000,9,-999.0000,9,  -999.00,9,   -999.0,9,   -999.0,9,   -999.0,9,   -999.0,9,   -999.0,9,  -999.00,9, -999.00,  -999.0,-999.0000,-999.000, -999.00,  -999.0,  4.9990,-999.000
    31DSCG94_2,  P18S,    75,  1,    117,   1119,2,19940319,2031,-31.9957,-102.9968, 3612,    905.0,   4.5304,  34.2794,2,  34.2797,2,    215.0,2,    209.3,2,    24.85,2,    30.27,2,     0.00,2,     2.07,2, -999.000,9, -999.000,9, -999.000,9, -999.000,9, -999.000,9,-999.0000,9,  -999.00,9,   -999.0,9,   -999.0,9,   -999.0,9,   -999.0,9,   -999.0,9,  -999.00,9, -999.00,  -999.0,-999.0000,-999.000, -999.00,  -999.0,  4.4592,-999.000
    31DSCG94_2,  P18S,    75,  1,    116,   1036,2,19940319,2031,-31.9957,-102.9968, 3612,   1001.9,   4.0836,  34.3195,2,  34.3188,2,    193.4,2,    188.1,6,    36.28,2,    32.20,2,     0.00,2,     2.20,2, -999.000,9, -999.000,9, -999.000,9, -999.000,9, -999.000,9,-999.0000,9,  -999.00,9,   -999.0,9,   -999.0,9,   -999.0,9,   -999.0,9,   -999.0,9,  -999.00,9, -999.00,  -999.0,-999.0000,-999.000, -999.00,  -999.0,  4.0075,-999.000
    31DSCG94_2,  P18S,    75,  1,    115,   1017,2,19940319,2031,-31.9957,-102.9968, 3612,   1094.2,   3.7935,  34.3722,2,  34.3721,2,    174.7,2,    161.7,2,    48.34,2,    34.97,2,     0.00,2,     2.38,2, -999.000,9, -999.000,9, -999.000,9, -999.000,9, -999.000,9,-999.0000,9,  -999.00,9,   -999.0,9,   -999.0,9,   -999.0,9,   -999.0,9,   -999.0,9,  -999.00,9, -999.00,  -999.0,-999.0000,-999.000, -999.00,  -999.0,  3.7119,-999.000
    31DSCG94_2,  P18S,    75,  1,    114,   1016,2,19940319,2031,-31.9957,-102.9968, 3612,   1195.2,   3.4477,  34.4272,2,  34.4270,2,    152.6,2,    146.9,2,    60.41,2,    36.37,2,     0.01,2,     2.51,2, -999.000,9, -999.000,9, -999.000,9, -999.000,9, -999.000,9,-999.0000,9,  -999.00,9,   -999.0,9,   -999.0,9,   -999.0,9,   -999.0,9,   -999.0,9,  -999.00,9, -999.00,  -999.0,-999.0000,-999.000, -999.00,  -999.0,  3.3607,-999.000
    31DSCG94_2,  P18S,    75,  1,    113,   1209,2,19940319,2031,-31.9957,-102.9968, 3612,   1299.1,   3.2939,  34.4847,2,  34.4837,2,    132.4,2,    130.2,2,    73.38,2,    37.46,2,     0.01,2,     2.61,2, -999.000,9, -999.000,9, -999.000,9, -999.000,9, -999.000,9,-999.0000,9,  -999.00,9,   -999.0,9,   -999.0,9,   -999.0,9,   -999.0,9,   -999.0,9,  -999.00,9, -999.00,  -999.0,-999.0000,-999.000, -999.00,  -999.0,  3.1998,-999.000
    31DSCG94_2,  P18S,    75,  1,    112,   1033,2,19940319,2031,-31.9957,-102.9968, 3612,   1396.5,   3.1046,  34.5229,2,  34.5234,2,    128.3,2,    127.8,2,    83.68,2,    37.78,2,     0.01,2,     2.62,2, -999.000,9, -999.000,9, -999.000,9, -999.000,9, -999.000,9,-999.0000,9,  -999.00,9,   -999.0,9,   -999.0,9,   -999.0,9,   -999.0,9,   -999.0,9,  -999.00,9, -999.00,  -999.0,-999.0000,-999.000, -999.00,  -999.0,  3.0043,-999.000
    31DSCG94_2,  P18S,    75,  1,    111,   1263,2,19940319,2031,-31.9957,-102.9968, 3612,   1596.3,   2.6974,  34.5695,2,  34.5691,2,    135.3,2,    131.9,2,    95.20,2,    36.44,2,     0.00,2,     2.54,2, -999.000,9, -999.000,9, -999.000,9, -999.000,9, -999.000,9,-999.0000,9,  -999.00,9,   -999.0,9,   -999.0,9,   -999.0,9,   -999.0,9,   -999.0,9,  -999.00,9, -999.00,  -999.0,-999.0000,-999.000, -999.00,  -999.0,  2.5851,-999.000
    31DSCG94_2,  P18S,    75,  1,    110,   1005,2,19940319,2031,-31.9957,-102.9968, 3612,   1795.8,   2.3658,  34.6050,2,  34.6047,2,    147.9,2,    150.0,6,   100.13,2,    35.16,2,     0.00,2,     2.43,2, -999.000,9, -999.000,9, -999.000,9, -999.000,9, -999.000,9,-999.0000,9,  -999.00,9,   -999.0,9,   -999.0,9,   -999.0,9,   -999.0,9,   -999.0,9,  -999.00,9, -999.00,  -999.0,-999.0000,-999.000, -999.00,  -999.0,  2.2412,-999.000
    31DSCG94_2,  P18S,    75,  1,    109,   1611,2,19940319,2031,-31.9957,-102.9968, 3612,   1991.6,   2.1238,  34.6393,2,  34.6387,2,    155.4,2,    156.6,2,   105.17,2,    34.52,2,     0.00,2,     2.39,2, -999.000,9, -999.000,9, -999.000,9, -999.000,9, -999.000,9,-999.0000,9,  -999.00,9,   -999.0,9,   -999.0,9,   -999.0,9,   -999.0,9,   -999.0,9,  -999.00,9, -999.00,  -999.0,-999.0000,-999.000, -999.00,  -999.0,  1.9861,-999.000
    31DSCG94_2,  P18S,    75,  1,    108,   1218,2,19940319,2031,-31.9957,-102.9968, 3612,   2254.9,   1.9081,  34.6678,2,  34.6670,2,    160.2,2,    161.3,2,   111.21,2,    34.33,2,     0.00,2,     2.35,2, -999.000,9, -999.000,9, -999.000,9, -999.000,9, -999.000,9,-999.0000,9,  -999.00,9,   -999.0,9,   -999.0,9,   -999.0,9,   -999.0,9,   -999.0,9,  -999.00,9, -999.00,  -999.0,-999.0000,-999.000, -999.00,  -999.0,  1.7513,-999.000
    31DSCG94_2,  P18S,    75,  1,    107,   1257,2,19940319,2031,-31.9957,-102.9968, 3612,   2503.2,   1.8034,  34.6776,2,  34.6762,2,    163.5,2,    164.0,2,   114.33,2,    34.21,2,     0.00,2,     2.38,2, -999.000,9, -999.000,9, -999.000,9, -999.000,9, -999.000,9,-999.0000,9,  -999.00,9,   -999.0,9,   -999.0,9,   -999.0,9,   -999.0,9,   -999.0,9,  -999.00,9, -999.00,  -999.0,-999.0000,-999.000, -999.00,  -999.0,  1.6263,-999.000
    31DSCG94_2,  P18S,    75,  1,    106,   1224,2,19940319,2031,-31.9957,-102.9968, 3612,   2747.2,   1.7680,  34.6821,2,  34.6806,2,    165.7,2,    165.2,2,   116.96,2,    34.11,2,     0.00,2,     2.38,2, -999.000,9, -999.000,9, -999.000,9, -999.000,9, -999.000,9,-999.0000,9,  -999.00,9,   -999.0,9,   -999.0,9,   -999.0,9,   -999.0,9,   -999.0,9,  -999.00,9, -999.00,  -999.0,-999.0000,-999.000, -999.00,  -999.0,  1.5692,-999.000
    31DSCG94_2,  P18S,    75,  1,    105,   1246,2,19940319,2031,-31.9957,-102.9968, 3612,   2995.5,   1.7665,  34.6860,2,  34.6841,2,    167.3,2,    165.8,2,   119.36,2,    33.76,2,     0.00,2,     2.35,2, -999.000,9, -999.000,9, -999.000,9, -999.000,9, -999.000,9,-999.0000,9,  -999.00,9,   -999.0,9,   -999.0,9,   -999.0,9,   -999.0,9,   -999.0,9,  -999.00,9, -999.00,  -999.0,-999.0000,-999.000, -999.00,  -999.0,  1.5442,-999.000
    31DSCG94_2,  P18S,    75,  1,    104,   1217,2,19940319,2031,-31.9957,-102.9968, 3612,   3247.8,   1.7778,  34.6876,2,  34.6860,2,    168.1,2,    166.9,6,   119.71,2,    34.27,2,     0.01,2,     2.34,2, -999.000,9, -999.000,9, -999.000,9, -999.000,9, -999.000,9,-999.0000,9,  -999.00,9,   -999.0,9,   -999.0,9,   -999.0,9,   -999.0,9,   -999.0,9,  -999.00,9, -999.00,  -999.0,-999.0000,-999.000, -999.00,  -999.0,  1.5303,-999.000
    31DSCG94_2,  P18S,    75,  1,    103,   9999,2,19940319,2031,-31.9957,-102.9968, 3612,   3499.7,   1.7925,  34.6887,2,  34.6884,2,    169.0,2,    166.6,2,   118.12,2,    33.84,3,     0.00,2,     2.32,2, -999.000,9, -999.000,9, -999.000,9, -999.000,9, -999.000,9,-999.0000,9,  -999.00,9,   -999.0,9,   -999.0,9,   -999.0,9,   -999.0,9,   -999.0,9,  -999.00,9, -999.00,  -999.0,-999.0000,-999.000, -999.00,  -999.0,  1.5189,-999.000
    31DSCG94_2,  P18S,    75,  1,    102,   1223,3,19940319,2031,-31.9957,-102.9968, 3612,   3499.9,   1.7924,  34.6889,2,  34.6875,2,    169.0,2,    167.3,2,   117.11,2,    34.86,3,     0.00,2,     2.34,2, -999.000,9, -999.000,9, -999.000,9, -999.000,9, -999.000,9,-999.0000,9,  -999.00,9,   -999.0,9,   -999.0,9,   -999.0,9,   -999.0,9,   -999.0,9,  -999.00,9, -999.00,  -999.0,-999.0000,-999.000, -999.00,  -999.0,  1.5188,-999.000
    31DSCG94_2,  P18S,    75,  1,    101,   1041,2,19940319,2031,-31.9957,-102.9968, 3612,   3646.6,   1.8043,  34.6889,2,  34.6875,2,    168.7,2,    166.9,2,   116.35,2,    34.41,2,     0.04,2,     2.37,2, -999.000,9, -999.000,9, -999.000,9, -999.000,9, -999.000,9,-999.0000,9,  -999.00,9,   -999.0,9,   -999.0,9,   -999.0,9,   -999.0,9,   -999.0,9,  -999.00,9, -999.00,  -999.0,-999.0000,-999.000, -999.00,  -999.0,  1.5150,-999.000