BOTTLE,20220630CCHSIOAMB
EXPOCODE,SECT_ID,STNNBR,CASTNO,SAMPNO,BTLNBR,BTLNBR_FLAG_W,DATE,TIME,LATITUDE,LONGITUDE,DEPTH,CTDPRS,CTDTMP,CTDSAL,CTDSAL_FLAG_W,SALNTY,SALNTY_FLAG_W,CTDOXY,CTDOXY_FLAG_W,OXYGEN,OXYGEN_FLAG_W,SILCAT,SILCAT_FLAG_W,NITRAT,NITRAT_FLAG_W,NITRIT,NITRIT_FLAG_W,PHSPHT,PHSPHT_FLAG_W,CFC-11,CFC-11_FLAG_W,CFC-12,CFC-12_FLAG_W,CFC113,CFC113_FLAG_W,CCL4,CCL4_FLAG_W,TRITUM,TRITUM_FLAG_W,HELIUM,HELIUM_FLAG_W,DELHE3,DELHE3_FLAG_W,DELC14,DELC14_FLAG_W,DELC13,DELC13_FLAG_W,TCARBN,TCARBN_FLAG_W,PCO2,PCO2_FLAG_W,ALKALI,ALKALI_FLAG_W,PH,PH_FLAG_W,PCO2TMP,C14ERR,HELIER,DELHER,PH_TMP,C13ERR,THETA,TRITER
,,,,,,,,,,,,DBAR,ITS-90,PSS-78,,PSS-78,,UMOL/KG,,UMOL/KG,,UMOL/KG,,UMOL/KG,,UMOL/KG,,UMOL/KG,,PMOL/KG,,PMOL/KG,,PMOL/KG,,PMOL/KG,,TU,,NMOL/KG,,PERCNT,,/MILLE,,/MILLE,,UMOL/KG,,UATM,,UMOL/KG,,,,DEG C,/MILLE,NMOL/KG,PERCNT,DEG C,/MILLE,DEG C,TU
    31DSCG94_2,  P18S,    32,  1,    124,    435,2,19940308,0819,-55.1667,-103.0000, 4510,     11.6,   6.9497,  34.1909,2,  34.1920,2,    291.2,2,    290.7,2,     0.00,3,    16.24,2,     0.22,2,     1.21,2,    4.526,2,    2.285,2, -999.000,9, -999.000,9, -999.000,9,-999.0000,9,  -999.00,9,   -999.0,9,   -999.0,9,   2096.3,2,    582.5,2,   2282.0,2,  -999.00,9,   20.00,  -999.0,-999.0000,-999.000, -999.00,  -999.0,  6.9487,-999.000
    31DSCG94_2,  P18S,    32,  1,    123,    421,2,19940308,0819,-55.1667,-103.0000, 4510,     22.1,   6.9504,  34.1908,2,  34.1920,2,    287.7,2,    290.9,2,     0.00,3,    16.08,2,     0.19,2,     1.25,2,    4.560,2,    2.287,2, -999.000,9, -999.000,9, -999.000,9,-999.0000,9,  -999.00,9,   -999.0,9,   -999.0,9,   2096.7,2,    582.4,2,   2281.0,2,  -999.00,9,   20.00,  -999.0,-999.0000,-999.000, -999.00,  -999.0,  6.9484,-999.000
    31DSCG94_2,  P18S,    32,  1,    122,    418,2,19940308,0819,-55.1667,-103.0000, 4510,     47.5,   6.9544,  34.1909,2,  34.1907,2,    287.7,2,    291.4,2,     0.00,3,    15.99,2,     0.22,2,     1.24,2,    4.420,2,    2.225,2, -999.000,9, -999.000,9, -999.000,9,-999.0000,9,  -999.00,9,   -999.0,9,   -999.0,9,   2096.2,2,    594.7,2,   2281.0,2,  -999.00,9,   20.00,  -999.0,-999.0000,-999.000, -999.00,  -999.0,  6.9501,-999.000
    31DSCG94_2,  P18S,    32,  1,    121,    413,2,19940308,0819,-55.1667,-103.0000, 4510,     97.4,   6.9575,  34.1908,2,  34.1911,2,    287.0,2,    290.5,2,     0.00,3,    16.43,2,     0.22,2,     1.26,2,    4.423,2,    2.190,2, -999.000,9, -999.000,9, -999.000,9,-999.0000,9,  -999.00,9,   -999.0,9,   -999.0,9,   2095.9,2,    690.0,4,   2277.0,2,  -999.00,9,   20.00,  -999.0,-999.0000,-999.000, -999.00,  -999.0,  6.9486,-999.000
    31DSCG94_2,  P18S,    32,  1,    120,    405,2,19940308,0819,-55.1667,-103.0000, 4510,    147.8,   6.1645,  34.3002,2,  34.3005,2,    283.1,2,    283.3,2,     5.49,2,    19.42,2,     0.00,2,     1.46,2,    4.358,2,    2.222,2, -999.000,9, -999.000,9, -999.000,9,-999.0000,9,  -999.00,9,   -999.0,9,   -999.0,9,   2117.2,2,    599.2,2,   2280.0,2,  -999.00,9,   20.00,  -999.0,-999.0000,-999.000, -999.00,  -999.0,  6.1518,-999.000
    31DSCG94_2,  P18S,    32,  1,    119,    417,2,19940308,0819,-55.1667,-103.0000, 4510,    196.3,   5.7869,  34.2721,2,  34.2725,2,    280.7,2,    283.0,2,     6.95,2,    20.36,2,     0.00,2,     1.43,2,    4.255,2,    2.140,4, -999.000,9, -999.000,9, -999.000,9,-999.0000,9,  -999.00,9,   -999.0,9,   -999.0,9,   2122.7,2,    672.0,2,   2276.0,2,  -999.00,9,   20.00,  -999.0,-999.0000,-999.000, -999.00,  -999.0,  5.7706,-999.000
    31DSCG94_2,  P18S,    32,  1,    118,    429,2,19940308,0819,-55.1667,-103.0000, 4510,    298.5,   5.5145,  34.2513,2,  34.2517,2,    281.5,2,    283.8,2,     7.98,2,    20.83,2,     0.00,2,     1.51,2,    4.226,2,    2.107,2, -999.000,9, -999.000,9, -999.000,9,-999.0000,9,  -999.00,9,   -999.0,9,   -999.0,9,   2127.7,2,    703.4,2,   2273.0,2,  -999.00,9,   20.00,  -999.0,-999.0000,-999.000, -999.00,  -999.0,  5.4901,-999.000
    31DSCG94_2,  P18S,    32,  1,    117,    427,2,19940308,0819,-55.1667,-103.0000, 4510,    398.2,   5.0272,  34.2012,2,  34.2024,2,    277.1,2,    286.6,2,     8.51,2,    21.56,2,     0.00,2,     1.58,2,    4.287,2,    2.166,2, -999.000,9, -999.000,9, -999.000,9,-999.0000,9,  -999.00,9,   -999.0,9,   -999.0,9,   2127.8,2,    710.9,2,   2277.0,2,  -999.00,9,   20.00,  -999.0,-999.0000,-999.000, -999.00,  -999.0,  4.9959,-999.000
    31DSCG94_2,  P18S,    32,  1,    116,    410,2,19940308,0819,-55.1667,-103.0000, 4510,    496.9,   4.7629,  34.1744,2,  34.1804,3,    271.4,2,    289.5,2,     8.50,2,    22.04,2,     0.00,2,     1.60,2,    4.388,2,    2.187,2, -999.000,9, -999.000,9, -999.000,9,-999.0000,9,  -999.00,9,   -999.0,9,   -999.0,9,   2130.9,2,    718.2,2,   2278.0,2,  -999.00,9,   20.00,  -999.0,-999.0000,-999.000, -999.00,  -999.0,  4.7245,-999.000
    31DSCG94_2,  P18S,    32,  1,    115,    422,2,19940308,0819,-55.1667,-103.0000, 4510,    598.5,   4.6044,  34.2114,2,  34.2122,2,    252.9,2,    252.9,2,    15.84,2,    25.52,2,     0.00,2,     1.83,2,    3.087,2,    1.514,2, -999.000,9, -999.000,9, -999.000,9,-999.0000,9,  -999.00,9,   -999.0,9,   -999.0,9,   2152.6,2,    813.1,2,   2282.0,2,  -999.00,9,   20.00,  -999.0,-999.0000,-999.000, -999.00,  -999.0,  4.5584,-999.000
    31DSCG94_2,  P18S,    32,  1,    114,    407,2,19940308,0819,-55.1667,-103.0000, 4510,    697.0,   4.4829,  34.2744,2,  34.2747,2,    225.2,2,    224.2,2,    24.27,2,    28.03,2,     0.00,2,     2.03,2,    1.966,2,    0.937,2, -999.000,9, -999.000,9, -999.000,9,-999.0000,9,  -999.00,9,   -999.0,9,   -999.0,9,   2174.9,2,    927.5,2,   2286.0,2,  -999.00,9,   20.00,  -999.0,-999.0000,-999.000, -999.00,  -999.0,  4.4294,-999.000
    31DSCG94_2,  P18S,    32,  1,    113,    419,2,19940308,0819,-55.1667,-103.0000, 4510,    800.0,   4.0421,  34.2899,2,  34.2901,2,    212.9,2,    216.6,2,    30.51,2,    29.74,2,     0.00,2,     2.12,2,    1.657,2,    0.778,2, -999.000,9, -999.000,9, -999.000,9,-999.0000,9,  -999.00,9,   -999.0,9,   -999.0,9,   2187.4,2,    966.1,2,   2295.0,2,  -999.00,9,   20.00,  -999.0,-999.0000,-999.000, -999.00,  -999.0,  3.9828,-999.000
    31DSCG94_2,  P18S,    32,  1,    112,    426,2,19940308,0819,-55.1667,-103.0000, 4510,    898.6,   3.6727,  34.3244,2,  34.3235,2,    208.1,2,    206.0,2,    38.31,2,    30.98,2,     0.00,2,     2.22,2,    1.162,2,    0.551,2, -999.000,9, -999.000,9, -999.000,9,-999.0000,9,  -999.00,9,   -999.0,9,   -999.0,9,   2203.9,2,   1028.5,2,   2297.0,2,  -999.00,9,   20.00,  -999.0,-999.0000,-999.000, -999.00,  -999.0,  3.6080,-999.000
    31DSCG94_2,  P18S,    32,  1,    111,    424,2,19940308,0819,-55.1667,-103.0000, 4510,    998.8,   3.3156,  34.3452,2,  34.3452,2,    200.1,2,    201.1,2,    44.76,2,    32.19,2,     0.00,2,     2.22,2,    1.011,2,    0.482,2, -999.000,9, -999.000,9, -999.000,9,-999.0000,9,  -999.00,9,   -999.0,9,   -999.0,9,   2211.1,2,   1057.2,2,   2299.0,2,  -999.00,9,   20.00,  -999.0,-999.0000,-999.000, -999.00,  -999.0,  3.2456,-999.000
    31DSCG94_2,  P18S,    32,  1,    110,    409,2,19940308,0819,-55.1667,-103.0000, 4510,   1199.2,   2.8209,  34.4266,2,  34.4241,2,    187.1,2,    185.3,2,    58.11,2,    33.14,2,     0.00,2,     2.37,2,    0.645,2,    0.311,2, -999.000,9, -999.000,9, -999.000,9,-999.0000,9,  -999.00,9,   -999.0,9,   -999.0,9,   2239.1,2,   1129.1,2,   2324.0,2,  -999.00,9,   20.00,  -999.0,-999.0000,-999.000, -999.00,  -999.0,  2.7394,-999.000
    31DSCG94_2,  P18S,    32,  1,    109,    423,4,19940308,0819,-55.1667,-103.0000, 4510,   1397.6,   2.5678,  34.5140,2,-999.0000,9,    176.6,2,   -999.0,9,  -999.00,9,  -999.00,9,  -999.00,9,  -999.00,9, -999.000,9, -999.000,9, -999.000,9, -999.000,9, -999.000,9,-999.0000,9,  -999.00,9,   -999.0,9,   -999.0,9,   -999.0,9,   -999.0,9,   -999.0,9,  -999.00,9, -999.00,  -999.0,-999.0000,-999.000, -999.00,  -999.0,  2.4732,-999.000
    31DSCG94_2,  P18S,    32,  1,    108,    414,4,19940308,0819,-55.1667,-103.0000, 4510,   1798.1,   2.2831,  34.6484,2,-999.0000,9,    173.2,2,   -999.0,9,  -999.00,9,  -999.00,9,  -999.00,9,  -999.00,9, -999.000,9, -999.000,9, -999.000,9, -999.000,9, -999.000,9,-999.0000,9,  -999.00,9,   -999.0,9,   -999.0,9,   -999.0,9,   -999.0,9,   -999.0,9,  -999.00,9, -999.00,  -999.0,-999.0000,-999.000, -999.00,  -999.0,  2.1593,-999.000
    31DSCG94_2,  P18S,    32,  1,    107,    437,2,19940308,0819,-55.1667,-103.0000, 4510,   2197.5,   2.0436,  34.7083,2,  34.7085,2,    179.2,2,    180.6,2,    86.95,2,    31.03,2,     0.00,2,     2.24,2,    0.050,2,    0.025,2, -999.000,9, -999.000,9, -999.000,9,-999.0000,9,  -999.00,9,   -999.0,9,   -999.0,9,   2256.7,2,   1105.5,2,   2349.0,2,  -999.00,9,   20.00,  -999.0,-999.0000,-999.000, -999.00,  -999.0,  1.8893,-999.000
    31DSCG94_2,  P18S,    32,  1,    106,    416,2,19940308,0819,-55.1667,-103.0000, 4510,   2602.6,   1.7320,  34.7252,2,  34.7230,2,    186.3,2,    187.8,2,    96.40,2,    30.96,2,     0.00,2,     2.25,2,    0.038,2,    0.015,2, -999.000,9, -999.000,9, -999.000,9,-999.0000,9,  -999.00,9,   -999.0,9,   -999.0,9,   2260.7,2,   1074.9,2,   2357.0,2,  -999.00,9,   20.00,  -999.0,-999.0000,-999.000, -999.00,  -999.0,  1.5471,-999.000
    31DSCG94_2,  P18S,    32,  1,    105,    420,2,19940308,0819,-55.1667,-103.0000, 4510,   2997.4,   1.4682,  34.7240,2,  34.7230,2,    192.1,2,    193.2,2,   104.64,2,    31.06,2,     0.00,2,     2.22,2,    0.226,4,    0.015,2, -999.000,9, -999.000,9, -999.000,9,-999.0000,9,  -999.00,9,   -999.0,9,   -999.0,9,   2259.9,2,   1069.1,2,   2360.0,2,  -999.00,9,   20.00,  -999.0,-999.0000,-999.000, -999.00,  -999.0,  1.2521,-999.000
    31DSCG94_2,  P18S,    32,  1,    104,    436,2,19940308,0819,-55.1667,-103.0000, 4510,   3398.1,   1.1600,  34.7173,2,  34.7173,2,    198.5,2,    199.4,2,   115.19,2,    31.39,2,     0.00,2,     2.21,2,    0.024,2,   -0.003,2, -999.000,9, -999.000,9, -999.000,9,-999.0000,9,  -999.00,9,   -999.0,9,   -999.0,9,   2261.3,2,   1061.9,2,   2358.0,2,  -999.00,9,   20.00,  -999.0,-999.0000,-999.000, -999.00,  -999.0,  0.9123,-999.000
    31DSCG94_2,  P18S,    32,  1,    103,    425,2,19940308,0819,-55.1667,-103.0000, 4510,   3800.7,   0.8464,  34.7098,2,  34.7101,2,    204.6,2,    204.1,2,   126.52,2,    31.87,2,     0.00,2,     2.26,2,    0.024,2,    0.011,2, -999.000,9, -999.000,9, -999.000,9,-999.0000,9,  -999.00,9,   -999.0,9,   -999.0,9,   -999.0,9,   1061.3,2,   -999.0,9,  -999.00,9,   20.00,  -999.0,-999.0000,-999.000, -999.00,  -999.0,  0.5664,-999.000
    31DSCG94_2,  P18S,    32,  1,    102,    433,2,19940308,0819,-55.1667,-103.0000, 4510,   4199.7,   0.6674,  34.7063,2,  34.7068,2,    210.3,2,    208.6,2,   128.28,2,    31.67,2,     0.00,2,     2.30,2,    0.045,2,    0.022,2, -999.000,9, -999.000,9, -999.000,9,-999.0000,9,  -999.00,9,   -999.0,9,   -999.0,9,   2264.2,2,   1053.1,2,   2363.0,2,  -999.00,9,   20.00,  -999.0,-999.0000,-999.000, -999.00,  -999.0,  0.3509,-999.000
    31DSCG94_2,  P18S,    32,  1,    101,    403,2,19940308,0819,-55.1667,-103.0000, 4510,   4606.3,   0.6474,  34.7054,2,-999.0000,9,    214.8,2,    212.2,2,   131.56,2,    32.70,2,     0.00,2,     2.35,2,    0.038,2,    0.018,2, -999.000,9, -999.000,9, -999.000,9,-999.0000,9,  -999.00,9,   -999.0,9,   -999.0,9,   2271.9,2,   1063.1,2,   2411.0,2,  -999.00,9,   20.00,  -999.0,-999.0000,-999.000, -999.00,  -999.0,  0.2871,-999.000