BOTTLE,20220630CCHSIOAMB
EXPOCODE,SECT_ID,STNNBR,CASTNO,SAMPNO,BTLNBR,BTLNBR_FLAG_W,DATE,TIME,LATITUDE,LONGITUDE,DEPTH,CTDPRS,CTDTMP,CTDSAL,CTDSAL_FLAG_W,SALNTY,SALNTY_FLAG_W,CTDOXY,CTDOXY_FLAG_W,OXYGEN,OXYGEN_FLAG_W,SILCAT,SILCAT_FLAG_W,NITRAT,NITRAT_FLAG_W,NITRIT,NITRIT_FLAG_W,PHSPHT,PHSPHT_FLAG_W,CFC-11,CFC-11_FLAG_W,CFC-12,CFC-12_FLAG_W,CFC113,CFC113_FLAG_W,CCL4,CCL4_FLAG_W,TRITUM,TRITUM_FLAG_W,HELIUM,HELIUM_FLAG_W,DELHE3,DELHE3_FLAG_W,DELC14,DELC14_FLAG_W,DELC13,DELC13_FLAG_W,TCARBN,TCARBN_FLAG_W,PCO2,PCO2_FLAG_W,ALKALI,ALKALI_FLAG_W,PH,PH_FLAG_W,PCO2TMP,C14ERR,HELIER,DELHER,PH_TMP,C13ERR,THETA,TRITER
,,,,,,,,,,,,DBAR,ITS-90,PSS-78,,PSS-78,,UMOL/KG,,UMOL/KG,,UMOL/KG,,UMOL/KG,,UMOL/KG,,UMOL/KG,,PMOL/KG,,PMOL/KG,,PMOL/KG,,PMOL/KG,,TU,,NMOL/KG,,PERCNT,,/MILLE,,/MILLE,,UMOL/KG,,UATM,,UMOL/KG,,,,DEG C,/MILLE,NMOL/KG,PERCNT,DEG C,/MILLE,DEG C,TU
    31DSCG94_3,  P18N,   122,  1,    136,   1025,2,19940407,1511, -8.8527,-104.6942, 3690,      8.3,  27.4921,  34.8789,2,  34.8806,2,    211.5,2,    202.4,2,     2.12,6,     2.82,6,     0.04,6,     0.41,6,    1.710,2,    0.974,2, -999.000,5, -999.000,5, -999.000,9,-999.0000,9,  -999.00,9,   -999.0,9,   -999.0,9,   1982.6,2,    298.0,2,   2307.0,6,     8.08,2,   20.00,  -999.0,-999.0000,-999.000,   25.00,  -999.0, 27.4902,-999.000
    31DSCG94_3,  P18N,   122,  1,    135,   1247,2,19940407,1511, -8.8527,-104.6942, 3690,     26.4,  27.4830,  34.8770,2,  34.8795,2,    210.0,2,    202.7,2,     2.11,2,     2.93,2,     0.04,2,     0.40,2,    1.705,2,    0.975,2, -999.000,9, -999.000,9, -999.000,9,-999.0000,9,  -999.00,9,   -999.0,9,   -999.0,9,   -999.0,9,   -999.0,9,   -999.0,9,     8.08,2, -999.00,  -999.0,-999.0000,-999.000,   25.00,  -999.0, 27.4769,-999.000
    31DSCG94_3,  P18N,   122,  1,    134,   1216,2,19940407,1511, -8.8527,-104.6942, 3690,     49.3,  26.7001,  35.4070,2,  35.4099,2,    214.3,2,    209.5,2,     2.31,2,     4.26,2,     0.06,2,     0.48,2,    1.786,2,    1.000,2, -999.000,5, -999.000,5, -999.000,9,-999.0000,9,  -999.00,9,   -999.0,9,   -999.0,9,   2015.7,2,    306.4,2,   2335.0,2,     8.06,2,   20.00,  -999.0,-999.0000,-999.000,   25.00,  -999.0, 26.6889,-999.000
    31DSCG94_3,  P18N,   122,  1,    133,   1244,2,19940407,1511, -8.8527,-104.6942, 3690,     73.8,  23.8768,  35.8512,2,  35.8303,2,    214.1,2,    204.6,2,     1.75,2,     1.39,2,     0.06,2,     0.44,2,    1.982,2,    1.114,2, -999.000,9, -999.000,9, -999.000,9,-999.0000,9,  -999.00,9,   -999.0,9,   -999.0,9,   -999.0,9,   -999.0,9,   -999.0,9,     8.06,2, -999.00,  -999.0,-999.0000,-999.000,   25.00,  -999.0, 23.8612,-999.000
    31DSCG94_3,  P18N,   122,  1,    132,   1003,2,19940407,1511, -8.8527,-104.6942, 3690,    100.6,  21.3508,  35.9499,2,  35.9246,3,    188.3,2,    195.9,2,     1.66,2,     1.37,2,     0.82,2,     0.54,2,    2.169,6,    1.206,6, -999.000,5, -999.000,5, -999.000,9,-999.0000,9,  -999.00,9,   -999.0,9,   -999.0,9,   2081.9,3,    364.9,2,   2369.0,2,     8.01,2,   20.00,  -999.0,-999.0000,-999.000,   25.00,  -999.0, 21.3312,-999.000
    31DSCG94_3,  P18N,   122,  1,    131,   1211,2,19940407,1511, -8.8527,-104.6942, 3690,    123.7,  17.7530,  35.3577,2,  35.3656,2,    135.3,2,    126.9,2,     4.42,2,    12.01,2,     0.41,2,     1.20,2,    2.036,2,    1.084,2, -999.000,9, -999.000,9, -999.000,9,-999.0000,9,  -999.00,9,   -999.0,9,   -999.0,9,   2143.8,2,   -999.0,9,   2328.0,2,     7.82,2, -999.00,  -999.0,-999.0000,-999.000,   25.00,  -999.0, 17.7320,-999.000
    31DSCG94_3,  P18N,   122,  1,    130,   1241,2,19940407,1511, -8.8527,-104.6942, 3690,    151.3,  13.9619,  34.9865,2,  34.9963,2,     86.0,2,     23.4,2,    14.71,2,    25.22,2,     0.01,2,     2.13,2,    0.962,2,    0.504,2, -999.000,9, -999.000,9, -999.000,9,-999.0000,9,  -999.00,9,   -999.0,9,   -999.0,9,   -999.0,9,   -999.0,9,   -999.0,9,     7.55,2, -999.00,  -999.0,-999.0000,-999.000,   25.00,  -999.0, 13.9401,-999.000
    31DSCG94_3,  P18N,   122,  1,    129,   1240,2,19940407,1511, -8.8527,-104.6942, 3690,    176.2,  12.8280,  34.9251,2,  34.9271,2,     13.5,2,      9.2,2,    22.32,2,    29.56,2,     0.00,2,     2.33,2,    0.401,2,    0.213,2, -999.000,9, -999.000,9, -999.000,9,-999.0000,9,  -999.00,9,   -999.0,9,   -999.0,9,   2241.7,2,   -999.0,9,   2301.0,2,     7.50,2, -999.00,  -999.0,-999.0000,-999.000,   25.00,  -999.0, 12.8040,-999.000
    31DSCG94_3,  P18N,   122,  1,    128,   1032,2,19940407,1511, -8.8527,-104.6942, 3690,    199.8,  12.2058,  34.8864,2,  34.8891,2,     18.2,2,     14.9,2,    24.14,2,    31.15,2,     0.00,2,     2.30,2,    0.276,6,    0.159,6, -999.000,5, -999.000,5, -999.000,9,-999.0000,9,  -999.00,9,   -999.0,9,   -999.0,9,   2240.5,2,   1374.3,2,   2302.0,2,     7.49,2,   20.00,  -999.0,-999.0000,-999.000,   25.00,  -999.0, 12.1794,-999.000
    31DSCG94_3,  P18N,   122,  1,    127,   1008,2,19940407,1511, -8.8527,-104.6942, 3690,    225.4,  11.9570,  34.8693,2,  34.8701,2,     18.2,2,   -999.0,9,    24.85,2,    31.92,2,     0.00,2,     2.31,2,    0.229,2,    0.131,2, -999.000,9, -999.000,9, -999.000,9,-999.0000,9,  -999.00,9,   -999.0,9,   -999.0,9,   -999.0,9,   -999.0,9,   -999.0,9,     7.49,2, -999.00,  -999.0,-999.0000,-999.000,   25.00,  -999.0, 11.9277,-999.000
    31DSCG94_3,  P18N,   122,  1,    126,   1007,2,19940407,1511, -8.8527,-104.6942, 3690,    249.6,  11.7420,  34.8543,2,  34.8539,2,      6.1,2,      9.8,2,    26.19,2,    32.77,2,     0.00,2,     2.39,2,    0.182,2,    0.101,2, -999.000,5, -999.000,5, -999.000,9,-999.0000,9,  -999.00,9,   -999.0,9,   -999.0,9,   2251.4,3,   -999.0,9,   2302.0,2,     7.47,2, -999.00,  -999.0,-999.0000,-999.000,   25.00,  -999.0, 11.7099,-999.000
    31DSCG94_3,  P18N,   122,  1,    125,   1203,2,19940407,1511, -8.8527,-104.6942, 3690,    301.7,  11.1949,  34.8201,2,  34.8202,2,     29.2,2,      9.3,2,    27.96,2,    33.60,2,     0.00,2,     2.45,2,    0.125,6,    0.071,6, -999.000,9, -999.000,9, -999.000,9,-999.0000,9,  -999.00,9,   -999.0,9,   -999.0,9,   2255.8,3,   1542.7,2,   2300.0,2,     7.45,2,   20.00,  -999.0,-999.0000,-999.000,   25.00,  -999.0, 11.1572,-999.000
    31DSCG94_3,  P18N,   122,  1,    123,   1220,2,19940407,1511, -8.8527,-104.6942, 3690,    351.5,  10.7353,  34.7915,2,  34.7915,2,     14.7,2,     10.4,6,    30.33,2,    34.58,2,     0.00,2,     2.48,2,    0.082,2,    0.044,2, -999.000,9, -999.000,9, -999.000,9,-999.0000,9,  -999.00,9,   -999.0,9,   -999.0,9,   -999.0,9,   -999.0,9,   -999.0,9,     7.44,2, -999.00,  -999.0,-999.0000,-999.000,   25.00,  -999.0, 10.6924,-999.000
    31DSCG94_3,  P18N,   122,  1,    122,   1245,2,19940407,1511, -8.8527,-104.6942, 3690,    400.9,  10.1133,  34.7505,2,  34.7509,2,      9.7,2,      9.3,2,    32.73,2,    35.85,2,     0.00,2,     2.58,2,    0.039,2,    0.018,2, -999.000,5, -999.000,5, -999.000,9,-999.0000,9,  -999.00,9,   -999.0,9,   -999.0,9,   2268.5,3,   1667.7,2,   2310.0,2,     7.42,2,   20.00,  -999.0,-999.0000,-999.000,   25.00,  -999.0, 10.0661,-999.000
    31DSCG94_3,  P18N,   122,  1,    121,   1206,2,19940407,1511, -8.8527,-104.6942, 3690,    500.2,   8.6195,  34.6592,2,  34.6580,2,     12.9,2,     10.8,2,    37.72,2,    40.28,2,     0.00,2,     2.77,2,    0.004,2,    0.001,2, -999.000,9, -999.000,9, -999.000,9,-999.0000,9,  -999.00,9,   -999.0,9,   -999.0,9,   2281.2,3,   1819.2,2,   2302.0,2,     7.39,2,   20.00,  -999.0,-999.0000,-999.000,   25.00,  -999.0,  8.5659,-999.000
    31DSCG94_3,  P18N,   122,  1,    120,   1028,2,19940407,1511, -8.8527,-104.6942, 3690,    597.7,   7.2537,  34.5902,2,  34.5903,2,     14.0,2,   -999.0,9,    45.28,2,    43.84,2,     0.01,2,     2.94,2,    0.003,2,   -0.002,2, -999.000,5, -999.000,5, -999.000,9,-999.0000,9,  -999.00,9,   -999.0,9,   -999.0,9,   2292.1,3,   1901.7,2,   2307.0,2,     7.37,2,   20.00,  -999.0,-999.0000,-999.000,   25.00,  -999.0,  7.1953,-999.000
    31DSCG94_3,  P18N,   122,  1,    119,   1248,2,19940407,1511, -8.8527,-104.6942, 3690,    701.8,   6.2538,  34.5528,2,  34.5523,2,     27.1,2,     30.5,2,    54.10,2,    44.30,2,     0.01,2,     2.98,2,   -0.001,2,   -0.002,2, -999.000,9, -999.000,9, -999.000,9,-999.0000,9,  -999.00,9,   -999.0,9,   -999.0,9,   2294.1,3,   1844.9,2,   2321.0,2,     7.38,2,   20.00,  -999.0,-999.0000,-999.000,   25.00,  -999.0,  6.1901,-999.000
    31DSCG94_3,  P18N,   122,  1,    118,   1115,2,19940407,1511, -8.8527,-104.6942, 3690,    802.3,   5.5049,  34.5398,2,  34.5399,2,     47.8,2,     51.1,2,    65.06,2,    43.44,2,     0.02,2,     2.92,2,    0.000,2,   -0.002,2, -999.000,9, -999.000,9, -999.000,9,-999.0000,9,  -999.00,9,   -999.0,9,   -999.0,9,   2293.2,3,   1716.3,2,   2330.0,2,     7.42,2,   20.00,  -999.0,-999.0000,-999.000,   25.00,  -999.0,  5.4360,-999.000
    31DSCG94_3,  P18N,   122,  1,    117,   1119,2,19940407,1511, -8.8527,-104.6942, 3690,    900.5,   4.9482,  34.5370,2,  34.5365,2,     62.6,2,     67.6,2,    72.61,2,    42.58,2,     0.00,2,     2.85,2, -999.000,9, -999.000,9, -999.000,9, -999.000,9, -999.000,9,-999.0000,9,  -999.00,9,   -999.0,9,   -999.0,9,   2294.9,3,   1611.1,2,   2333.0,2,     7.44,2,   20.00,  -999.0,-999.0000,-999.000,   25.00,  -999.0,  4.8741,-999.000
    31DSCG94_3,  P18N,   122,  1,    116,   1036,2,19940407,1511, -8.8527,-104.6942, 3690,   1000.5,   4.4780,  34.5424,2,  34.5430,2,     78.1,2,     79.6,2,    80.14,2,    41.57,2,     0.00,2,     2.81,2, -999.000,9, -999.000,9, -999.000,9, -999.000,9, -999.000,9,-999.0000,9,  -999.00,9,   -999.0,9,   -999.0,9,   2295.6,3,   1547.6,2,   2348.0,6,     7.46,2,   20.00,  -999.0,-999.0000,-999.000,   25.00,  -999.0,  4.3986,-999.000
    31DSCG94_3,  P18N,   122,  1,    115,   1017,2,19940407,1511, -8.8527,-104.6942, 3690,   1098.8,   4.0769,  34.5505,2,  34.5501,2,     86.2,2,     86.9,2,    86.93,2,    41.02,2,     0.00,2,     2.80,2,   -0.001,2,    0.000,2, -999.000,9, -999.000,9, -999.000,9,-999.0000,9,  -999.00,9,   -999.0,9,   -999.0,9,   -999.0,9,   -999.0,9,   -999.0,9,     7.47,2, -999.00,  -999.0,-999.0000,-999.000,   25.00,  -999.0,  3.9922,-999.000
    31DSCG94_3,  P18N,   122,  1,    114,   1016,2,19940407,1511, -8.8527,-104.6942, 3690,   1201.2,   3.7974,  34.5588,2,  34.5584,2,     90.8,2,     90.5,6,    92.14,2,    40.91,2,     0.00,2,     2.79,2, -999.000,9, -999.000,9, -999.000,9, -999.000,9, -999.000,9,-999.0000,9,  -999.00,9,   -999.0,9,   -999.0,9,   -999.0,9,   -999.0,9,   -999.0,9,     7.48,2, -999.00,  -999.0,-999.0000,-999.000,   25.00,  -999.0,  3.7064,-999.000
    31DSCG94_3,  P18N,   122,  1,    113,   1209,2,19940407,1511, -8.8527,-104.6942, 3690,   1304.1,   3.4838,  34.5712,2,  34.5700,2,     94.1,2,     93.3,2,   100.36,2,    40.42,2,     0.00,2,     2.79,2, -999.000,9, -999.000,9, -999.000,9, -999.000,9, -999.000,9,-999.0000,9,  -999.00,9,   -999.0,9,   -999.0,9,   -999.0,9,   -999.0,9,   -999.0,9,     7.48,2, -999.00,  -999.0,-999.0000,-999.000,   25.00,  -999.0,  3.3871,-999.000
    31DSCG94_3,  P18N,   122,  1,    112,   1033,2,19940407,1511, -8.8527,-104.6942, 3690,   1396.7,   3.1778,  34.5846,2,  34.5859,2,     96.3,2,     95.7,2,   107.71,2,    40.60,2,     0.00,2,     2.78,2,    0.001,2,    0.000,2, -999.000,9, -999.000,9, -999.000,9,-999.0000,9,  -999.00,9,   -999.0,9,   -999.0,9,   -999.0,9,   -999.0,9,   -999.0,9,     7.49,2, -999.00,  -999.0,-999.0000,-999.000,   25.00,  -999.0,  3.0766,-999.000
    31DSCG94_3,  P18N,   122,  1,    111,   1240,2,19940407,1511, -8.8527,-104.6942, 3690,   1599.6,   2.7420,  34.6092,2,  34.6100,2,    104.0,2,    103.1,2,   120.01,2,    39.93,2,     0.00,2,     2.74,2, -999.000,9, -999.000,9, -999.000,9, -999.000,9, -999.000,9,-999.0000,9,  -999.00,9,   -999.0,9,   -999.0,9,   -999.0,9,   -999.0,9,   -999.0,9,     7.50,2, -999.00,  -999.0,-999.0000,-999.000,   25.00,  -999.0,  2.6289,-999.000
    31DSCG94_3,  P18N,   122,  1,    110,   1005,2,19940407,1511, -8.8527,-104.6942, 3690,   1800.9,   2.4530,  34.6280,2,  34.6278,2,    109.9,2,    106.5,2,   129.82,2,    39.81,2,     0.00,2,     2.70,2, -999.000,9, -999.000,9, -999.000,9, -999.000,9, -999.000,9,-999.0000,9,  -999.00,9,   -999.0,9,   -999.0,9,   -999.0,9,   -999.0,9,   -999.0,9,     7.51,2, -999.00,  -999.0,-999.0000,-999.000,   25.00,  -999.0,  2.3267,-999.000
    31DSCG94_3,  P18N,   122,  1,    109,   1611,2,19940407,1511, -8.8527,-104.6942, 3690,   1997.4,   2.2354,  34.6419,2,  34.6427,2,    115.3,2,    111.3,2,   134.34,2,    39.16,2,     0.00,2,     2.67,2,    0.003,2,    0.002,2, -999.000,9, -999.000,9, -999.000,9,-999.0000,9,  -999.00,9,   -999.0,9,   -999.0,9,   -999.0,9,   -999.0,9,   -999.0,9,  -999.00,9, -999.00,  -999.0,-999.0000,-999.000, -999.00,  -999.0,  2.0955,-999.000
    31DSCG94_3,  P18N,   122,  1,    108,   1218,2,19940407,1511, -8.8527,-104.6942, 3690,   2249.3,   2.0529,  34.6540,2,  34.6546,2,    121.8,2,    116.8,2,   137.82,2,    38.96,2,     0.00,2,     2.61,2, -999.000,9, -999.000,9, -999.000,9, -999.000,9, -999.000,9,-999.0000,9,  -999.00,9,   -999.0,9,   -999.0,9,   -999.0,9,   -999.0,9,   -999.0,9,     7.53,2, -999.00,  -999.0,-999.0000,-999.000,   25.00,  -999.0,  1.8941,-999.000
    31DSCG94_3,  P18N,   122,  1,    107,   1257,2,19940407,1511, -8.8527,-104.6942, 3690,   2501.2,   1.8947,  34.6637,2,  34.6632,2,    126.3,2,    125.3,6,   141.42,2,    38.79,2,     0.00,2,     2.58,2, -999.000,9, -999.000,9, -999.000,9, -999.000,9, -999.000,9,-999.0000,9,  -999.00,9,   -999.0,9,   -999.0,9,   -999.0,9,   -999.0,9,   -999.0,9,  -999.00,9, -999.00,  -999.0,-999.0000,-999.000, -999.00,  -999.0,  1.7162,-999.000
    31DSCG94_3,  P18N,   122,  1,    106,   1224,2,19940407,1511, -8.8527,-104.6942, 3690,   2752.0,   1.8131,  34.6694,2,  34.6693,2,    130.6,2,    129.3,2,   144.86,2,    38.19,2,     0.00,2,     2.55,2,    0.001,2,   -0.002,2, -999.000,9, -999.000,9, -999.000,9,-999.0000,9,  -999.00,9,   -999.0,9,   -999.0,9,   -999.0,9,   -999.0,9,   -999.0,9,     7.56,2, -999.00,  -999.0,-999.0000,-999.000,   25.00,  -999.0,  1.6130,-999.000
    31DSCG94_3,  P18N,   122,  1,    105,   1246,2,19940407,1511, -8.8527,-104.6942, 3690,   2999.6,   1.7745,  34.6731,2,  34.6724,2,    133.7,2,    134.9,2,   148.35,2,    37.25,2,     0.00,2,     2.52,2, -999.000,9, -999.000,9, -999.000,9, -999.000,9, -999.000,9,-999.0000,9,  -999.00,9,   -999.0,9,   -999.0,9,   -999.0,9,   -999.0,9,   -999.0,9,  -999.00,9, -999.00,  -999.0,-999.0000,-999.000, -999.00,  -999.0,  1.5516,-999.000
    31DSCG94_3,  P18N,   122,  1,    104,   1217,2,19940407,1511, -8.8527,-104.6942, 3690,   3249.5,   1.7532,  34.6747,2,  34.6759,2,    134.3,2,    135.6,2,   151.23,2,    37.45,2,     0.00,2,     2.52,2, -999.000,9, -999.000,9, -999.000,9, -999.000,9, -999.000,9,-999.0000,9,  -999.00,9,   -999.0,9,   -999.0,9,   -999.0,9,   -999.0,9,   -999.0,9,     7.57,2, -999.00,  -999.0,-999.0000,-999.000,   25.00,  -999.0,  1.5062,-999.000
    31DSCG94_3,  P18N,   122,  1,    103,   9999,2,19940407,1511, -8.8527,-104.6942, 3690,   3501.2,   1.7535,  34.6760,2,  34.6780,2,    134.6,2,    136.9,2,   149.45,2,    37.69,2,     0.00,2,     2.50,2,   -0.003,2,    0.007,2, -999.000,9, -999.000,9, -999.000,9,-999.0000,9,  -999.00,9,   -999.0,9,   -999.0,9,   -999.0,9,   -999.0,9,   -999.0,9,  -999.00,9, -999.00,  -999.0,-999.0000,-999.000, -999.00,  -999.0,  1.4808,-999.000
    31DSCG94_3,  P18N,   122,  1,    102,   1223,2,19940407,1511, -8.8527,-104.6942, 3690,   3503.0,   1.7530,  34.6759,2,  34.6754,2,    134.4,2,    137.4,2,   147.67,2,    38.15,2,     0.00,2,     2.51,2, -999.000,9, -999.000,9, -999.000,9, -999.000,9, -999.000,9,-999.0000,9,  -999.00,9,   -999.0,9,   -999.0,9,   -999.0,9,   -999.0,9,   -999.0,9,     7.57,2, -999.00,  -999.0,-999.0000,-999.000,   25.00,  -999.0,  1.4801,-999.000
    31DSCG94_3,  P18N,   122,  1,    101,   1041,2,19940407,1511, -8.8527,-104.6942, 3690,   3753.7,   1.7604,  34.6768,2,  34.6776,2,    137.1,2,    138.5,2,   147.45,2,    37.64,2,     0.00,2,     2.48,2,   -0.004,2,    0.002,2, -999.000,9, -999.000,9, -999.000,9,-999.0000,9,  -999.00,9,   -999.0,9,   -999.0,9,   -999.0,9,   -999.0,9,   -999.0,9,  -999.00,9, -999.00,  -999.0,-999.0000,-999.000, -999.00,  -999.0,  1.4609,-999.000