BOTTLE,20220630CCHSIOAMB
EXPOCODE,SECT_ID,STNNBR,CASTNO,SAMPNO,BTLNBR,BTLNBR_FLAG_W,DATE,TIME,LATITUDE,LONGITUDE,DEPTH,CTDPRS,CTDTMP,CTDSAL,CTDSAL_FLAG_W,SALNTY,SALNTY_FLAG_W,CTDOXY,CTDOXY_FLAG_W,OXYGEN,OXYGEN_FLAG_W,SILCAT,SILCAT_FLAG_W,NITRAT,NITRAT_FLAG_W,NITRIT,NITRIT_FLAG_W,PHSPHT,PHSPHT_FLAG_W,CFC-11,CFC-11_FLAG_W,CFC-12,CFC-12_FLAG_W,CFC113,CFC113_FLAG_W,CCL4,CCL4_FLAG_W,TRITUM,TRITUM_FLAG_W,HELIUM,HELIUM_FLAG_W,DELHE3,DELHE3_FLAG_W,DELC14,DELC14_FLAG_W,DELC13,DELC13_FLAG_W,TCARBN,TCARBN_FLAG_W,PCO2,PCO2_FLAG_W,ALKALI,ALKALI_FLAG_W,PH,PH_FLAG_W,PCO2TMP,C14ERR,HELIER,DELHER,PH_TMP,C13ERR,THETA,TRITER
,,,,,,,,,,,,DBAR,ITS-90,PSS-78,,PSS-78,,UMOL/KG,,UMOL/KG,,UMOL/KG,,UMOL/KG,,UMOL/KG,,UMOL/KG,,PMOL/KG,,PMOL/KG,,PMOL/KG,,PMOL/KG,,TU,,NMOL/KG,,PERCNT,,/MILLE,,/MILLE,,UMOL/KG,,UATM,,UMOL/KG,,,,DEG C,/MILLE,NMOL/KG,PERCNT,DEG C,/MILLE,DEG C,TU
    31DSCG94_3,  P18N,   143,  1,    136,   1025,2,19940414,0738, -0.6833,-110.3333, 3807,     10.2,  25.0946,  35.1708,2,  35.1740,2,    187.8,2,    194.6,6,     4.34,2,     6.15,2,     0.22,2,     0.67,2,    1.779,2,    1.022,2, -999.000,9, -999.000,9, -999.000,9,-999.0000,9,  -999.00,9,   -999.0,9,   -999.0,9,   2044.9,2,    385.9,2,   2308.0,6,     7.98,2,   20.00,  -999.0,-999.0000,-999.000,   25.00,  -999.0, 25.0924,-999.000
    31DSCG94_3,  P18N,   143,  1,    135,   1247,2,19940414,0738, -0.6833,-110.3333, 3807,     24.5,  23.4719,  35.2633,2,  35.2529,2,    182.1,2,    174.6,6,     4.70,2,     7.27,2,     0.43,2,     0.79,2,    1.734,6,    0.944,6, -999.000,9, -999.000,9, -999.000,9,-999.0000,9,  -999.00,9,   -999.0,9,   -999.0,9,   -999.0,9,   -999.0,9,   -999.0,9,     7.95,2, -999.00,  -999.0,-999.0000,-999.000,   25.00,  -999.0, 23.4668,-999.000
    31DSCG94_3,  P18N,   143,  1,    134,   1216,2,19940414,0738, -0.6833,-110.3333, 3807,     48.3,  18.0049,  35.4027,2,  35.4091,2,    113.9,2,    109.4,2,     8.27,2,    14.41,2,     0.42,2,     1.24,2,    1.358,2,    0.727,2, -999.000,9, -999.000,9, -999.000,9,-999.0000,9,  -999.00,9,   -999.0,9,   -999.0,9,   2142.0,2,    610.6,2,   2321.0,2,     7.82,2,   20.00,  -999.0,-999.0000,-999.000,   25.00,  -999.0, 17.9966,-999.000
    31DSCG94_3,  P18N,   143,  1,    133,   1244,2,19940414,0738, -0.6833,-110.3333, 3807,     74.0,  15.0556,  35.1206,2,  35.1309,2,     97.0,2,    109.2,2,    12.79,2,    17.94,2,     0.02,2,     1.35,2,    1.008,2,    0.544,2, -999.000,9, -999.000,9, -999.000,9,-999.0000,9,  -999.00,9,   -999.0,9,   -999.0,9,   -999.0,9,   -999.0,9,   -999.0,9,     7.77,2, -999.00,  -999.0,-999.0000,-999.000,   25.00,  -999.0, 15.0444,-999.000
    31DSCG94_3,  P18N,   143,  1,    132,   1003,2,19940414,0738, -0.6833,-110.3333, 3807,    100.5,  14.1407,  35.0325,2,  35.0372,2,     95.2,2,     97.4,2,    15.35,2,    20.52,2,     0.00,2,     1.51,2,    0.874,2,    0.463,4, -999.000,9, -999.000,9, -999.000,9,-999.0000,9,  -999.00,9,   -999.0,9,   -999.0,9,   2164.2,2,    768.4,2,   2307.0,2,     7.73,2,   20.00,  -999.0,-999.0000,-999.000,   25.00,  -999.0, 14.1261,-999.000
    31DSCG94_3,  P18N,   143,  1,    131,   1211,2,19940414,0738, -0.6833,-110.3333, 3807,    124.1,  13.3664,  34.9328,2,  34.9323,2,     97.5,2,    104.4,2,    17.76,2,    20.83,2,     0.00,2,     1.53,2,    0.819,6,    0.441,6, -999.000,9, -999.000,9, -999.000,9,-999.0000,9,  -999.00,9,   -999.0,9,   -999.0,9,   -999.0,9,   -999.0,9,   -999.0,9,     7.72,2, -999.00,  -999.0,-999.0000,-999.000,   25.00,  -999.0, 13.3491,-999.000
    31DSCG94_3,  P18N,   143,  1,    130,   1241,2,19940414,0738, -0.6833,-110.3333, 3807,    149.4,  13.0836,  34.8923,2,  34.8918,2,    100.3,2,    100.5,2,    19.01,2,    21.92,2,     0.00,2,     1.58,2,    0.787,2,    0.408,2, -999.000,9, -999.000,9, -999.000,9,-999.0000,9,  -999.00,9,   -999.0,9,   -999.0,9,   2168.0,2,   -999.0,9,   2300.0,2,     7.71,2, -999.00,  -999.0,-999.0000,-999.000,   25.00,  -999.0, 13.0630,-999.000
    31DSCG94_3,  P18N,   143,  1,    129,   1240,2,19940414,0738, -0.6833,-110.3333, 3807,    169.1,  12.9999,  34.8935,2,  34.8934,2,     95.5,2,     91.3,2,    19.57,2,    22.92,2,     0.00,2,     1.66,2,    0.749,2,    0.395,2, -999.000,9, -999.000,9, -999.000,9,-999.0000,9,  -999.00,9,   -999.0,9,   -999.0,9,   -999.0,9,   -999.0,9,   -999.0,9,     7.68,2, -999.00,  -999.0,-999.0000,-999.000,   25.00,  -999.0, 12.9767,-999.000
    31DSCG94_3,  P18N,   143,  1,    128,   1032,2,19940414,0738, -0.6833,-110.3333, 3807,    198.2,  12.9275,  34.8933,2,  34.8928,2,     86.7,2,     83.4,2,    20.31,2,    23.82,2,     0.00,2,     1.71,2,    0.682,2,    0.371,2, -999.000,9, -999.000,9, -999.000,9,-999.0000,9,  -999.00,9,   -999.0,9,   -999.0,9,   2182.4,2,    899.6,2,   2306.0,2,     7.67,2,   20.00,  -999.0,-999.0000,-999.000,   25.00,  -999.0, 12.9004,-999.000
    31DSCG94_3,  P18N,   143,  1,    127,   1008,2,19940414,0738, -0.6833,-110.3333, 3807,    248.3,  12.7732,  34.8918,2,  34.8901,2,     72.4,2,     66.8,2,    21.40,2,    26.26,2,     0.00,2,     1.83,2,    0.595,6,    0.328,2, -999.000,9, -999.000,9, -999.000,9,-999.0000,9,  -999.00,9,   -999.0,9,   -999.0,9,   2196.2,2,   -999.0,9,   2298.0,2,     7.63,2, -999.00,  -999.0,-999.0000,-999.000,   25.00,  -999.0, 12.7394,-999.000
    31DSCG94_3,  P18N,   143,  1,    126,   1007,2,19940414,0738, -0.6833,-110.3333, 3807,    297.1,  12.3580,  34.8721,2,  34.8700,2,     45.7,2,     28.7,2,    24.92,2,    31.23,2,     0.00,2,     2.14,2,    0.414,2,    0.207,2, -999.000,9, -999.000,9, -999.000,9,-999.0000,9,  -999.00,9,   -999.0,9,   -999.0,9,   2228.2,2,   1265.1,2,   2293.0,2,     7.53,2,   20.00,  -999.0,-999.0000,-999.000,   25.00,  -999.0, 12.3184,-999.000
    31DSCG94_3,  P18N,   143,  1,    125,   1256,2,19940414,0738, -0.6833,-110.3333, 3807,    348.1,  11.4634,  34.8227,2,  34.8215,2,     22.6,2,     18.1,2,    28.07,2,    33.49,2,     0.00,2,     2.32,2,    0.210,2,    0.117,2, -999.000,9, -999.000,9, -999.000,9,-999.0000,9,  -999.00,9,   -999.0,9,   -999.0,9,   -999.0,9,   -999.0,9,   -999.0,9,     7.48,2, -999.00,  -999.0,-999.0000,-999.000,   25.00,  -999.0, 11.4192,-999.000
    31DSCG94_3,  P18N,   143,  1,    123,   1220,2,19940414,0738, -0.6833,-110.3333, 3807,    402.5,  10.0411,  34.7359,2,  34.7394,2,     35.6,2,     47.0,2,    29.57,2,    33.65,2,     0.00,2,     2.28,2,    0.166,2,    0.075,2, -999.000,9, -999.000,9, -999.000,9,-999.0000,9,  -999.00,9,   -999.0,9,   -999.0,9,   2238.0,2,   1337.1,2,   2294.0,2,     7.51,2,   20.00,  -999.0,-999.0000,-999.000,   25.00,  -999.0,  9.9939,-999.000
    31DSCG94_3,  P18N,   143,  1,    122,   1245,2,19940414,0738, -0.6833,-110.3333, 3807,    500.5,   8.3973,  34.6417,2,  34.6406,2,     29.1,2,     29.4,2,    40.98,2,    39.57,2,     0.00,2,     2.64,2,    0.032,2,    0.013,2, -999.000,9, -999.000,9, -999.000,9,-999.0000,9,  -999.00,9,   -999.0,9,   -999.0,9,   2267.3,2,   1635.7,2,   2303.0,2,     7.43,2,   20.00,  -999.0,-999.0000,-999.000,   25.00,  -999.0,  8.3444,-999.000
    31DSCG94_3,  P18N,   143,  1,    121,   1206,2,19940414,0738, -0.6833,-110.3333, 3807,    599.1,   7.2821,  34.5899,2,  34.5893,2,     46.1,2,     50.1,2,    46.87,2,    40.43,2,     0.00,2,     2.69,2,    0.021,2,    0.006,2, -999.000,9, -999.000,9, -999.000,9,-999.0000,9,  -999.00,9,   -999.0,9,   -999.0,9,   2267.9,2,   1558.2,2,   2306.0,2,     7.45,2,   20.00,  -999.0,-999.0000,-999.000,   25.00,  -999.0,  7.2234,-999.000
    31DSCG94_3,  P18N,   143,  1,    120,   1028,2,19940414,0738, -0.6833,-110.3333, 3807,    700.0,   6.4020,  34.5610,2,  34.5614,2,     52.7,2,     62.0,2,    54.92,2,    40.74,2,     0.00,2,     2.73,2,    0.007,2,   -0.002,2, -999.000,9, -999.000,9, -999.000,9,-999.0000,9,  -999.00,9,   -999.0,9,   -999.0,9,   2273.0,2,   1543.7,2,   2316.0,2,     7.46,2,   20.00,  -999.0,-999.0000,-999.000,   25.00,  -999.0,  6.3376,-999.000
    31DSCG94_3,  P18N,   143,  1,    119,   1248,2,19940414,0738, -0.6833,-110.3333, 3807,    798.7,   5.4495,  34.5468,2,  34.5478,2,     67.4,2,     72.3,2,    68.47,2,    40.57,2,     0.02,2,     2.76,2,    0.001,2,   -0.002,2, -999.000,9, -999.000,9, -999.000,9,-999.0000,9,  -999.00,9,   -999.0,9,   -999.0,9,   2284.4,2,   1520.6,6,   2332.0,2,     7.47,2,   20.00,  -999.0,-999.0000,-999.000,   25.00,  -999.0,  5.3813,-999.000
    31DSCG94_3,  P18N,   143,  1,    118,   1115,2,19940414,0738, -0.6833,-110.3333, 3807,    898.4,   5.1067,  34.5455,2,  34.5447,2,     74.6,2,     79.1,2,    74.06,2,    40.73,2,     0.00,2,     2.73,2,    0.003,2,   -0.002,2, -999.000,9, -999.000,9, -999.000,9,-999.0000,9,  -999.00,9,   -999.0,9,   -999.0,9,   2287.2,2,   1488.7,2,   2342.0,2,     7.48,2,   20.00,  -999.0,-999.0000,-999.000,   25.00,  -999.0,  5.0317,-999.000
    31DSCG94_3,  P18N,   143,  1,    117,   1119,2,19940414,0738, -0.6833,-110.3333, 3807,    999.6,   4.6040,  34.5536,2,  34.5527,2,     74.9,2,     78.6,2,    84.29,2,    40.73,2,     0.01,2,     2.86,2,    0.006,2,   -0.002,2, -999.000,9, -999.000,9, -999.000,9,-999.0000,9,  -999.00,9,   -999.0,9,   -999.0,9,   2297.7,2,   1525.6,2,   2350.0,2,     7.47,2,   20.00,  -999.0,-999.0000,-999.000,   25.00,  -999.0,  4.5236,-999.000
    31DSCG94_3,  P18N,   143,  1,    116,   1036,2,19940414,0738, -0.6833,-110.3333, 3807,   1099.8,   4.1661,  34.5628,2,  34.5623,2,     79.1,2,     81.9,2,    92.57,2,    41.06,2,     0.00,2,     2.87,2, -999.000,9, -999.000,9, -999.000,9, -999.000,9, -999.000,9,-999.0000,9,  -999.00,9,   -999.0,9,   -999.0,9,   -999.0,9,   -999.0,9,   -999.0,9,     7.47,2, -999.00,  -999.0,-999.0000,-999.000,   25.00,  -999.0,  4.0805,-999.000
    31DSCG94_3,  P18N,   143,  1,    115,   1017,2,19940414,0738, -0.6833,-110.3333, 3807,   1199.1,   3.9606,  34.5685,2,  34.5681,2,     77.9,2,     83.4,2,    96.98,2,    40.92,2,     0.00,2,     2.88,2,   -0.003,2,   -0.002,2, -999.000,9, -999.000,9, -999.000,9,-999.0000,9,  -999.00,9,   -999.0,9,   -999.0,9,   -999.0,9,   -999.0,9,   -999.0,9,     7.48,2, -999.00,  -999.0,-999.0000,-999.000,   25.00,  -999.0,  3.8684,-999.000
    31DSCG94_3,  P18N,   143,  1,    114,   1016,2,19940414,0738, -0.6833,-110.3333, 3807,   1500.7,   3.1071,  34.5983,2,  34.5985,2,     91.2,2,     91.7,2,   116.29,2,    40.92,2,     0.00,2,     2.87,2, -999.000,9, -999.000,9, -999.000,9, -999.000,9, -999.000,9,-999.0000,9,  -999.00,9,   -999.0,9,   -999.0,9,   -999.0,9,   -999.0,9,   -999.0,9,     7.49,2, -999.00,  -999.0,-999.0000,-999.000,   25.00,  -999.0,  2.9979,-999.000
    31DSCG94_3,  P18N,   143,  1,    113,   1209,2,19940414,0738, -0.6833,-110.3333, 3807,   1598.9,   2.9288,  34.6058,2,  34.6064,2,     98.3,2,     95.1,2,   121.14,2,    40.34,2,     0.01,2,     2.85,2,    0.003,2,   -0.002,2, -999.000,9, -999.000,9, -999.000,9,-999.0000,9,  -999.00,9,   -999.0,9,   -999.0,9,   -999.0,9,   -999.0,9,   -999.0,9,     7.49,2, -999.00,  -999.0,-999.0000,-999.000,   25.00,  -999.0,  2.8134,-999.000
    31DSCG94_3,  P18N,   143,  1,    112,   1033,2,19940414,0738, -0.6833,-110.3333, 3807,   1785.4,   2.5119,  34.6286,2,  34.6286,2,    104.9,2,     97.2,2,   135.99,2,    40.27,2,     0.00,2,     2.81,2, -999.000,9, -999.000,9, -999.000,9, -999.000,9, -999.000,9,-999.0000,9,  -999.00,9,   -999.0,9,   -999.0,9,   -999.0,9,   -999.0,9,   -999.0,9,     7.50,2, -999.00,  -999.0,-999.0000,-999.000,   25.00,  -999.0,  2.3861,-999.000
    31DSCG94_3,  P18N,   143,  1,    111,   1240,2,19940414,0738, -0.6833,-110.3333, 3807,   2001.2,   2.2567,  34.6428,2,  34.6430,2,    111.8,2,    103.3,2,   143.44,2,    39.78,2,     0.00,2,     2.79,2, -999.000,5, -999.000,5, -999.000,9, -999.000,9, -999.000,9,-999.0000,9,  -999.00,9,   -999.0,9,   -999.0,9,   -999.0,9,   -999.0,9,   -999.0,9,  -999.00,9, -999.00,  -999.0,-999.0000,-999.000, -999.00,  -999.0,  2.1162,-999.000
    31DSCG94_3,  P18N,   143,  1,    110,   1005,3,19940414,0738, -0.6833,-110.3333, 3807,   2243.1,   2.0514,  34.6522,2,-999.0000,5,    118.2,2,   -999.0,9,  -999.00,9,  -999.00,9,  -999.00,9,  -999.00,9,   -0.001,2,   -0.002,2, -999.000,9, -999.000,9, -999.000,9,-999.0000,9,  -999.00,9,   -999.0,9,   -999.0,9,   -999.0,9,   -999.0,9,   -999.0,9,  -999.00,9, -999.00,  -999.0,-999.0000,-999.000, -999.00,  -999.0,  1.8932,-999.000
    31DSCG94_3,  P18N,   143,  1,    109,   1611,2,19940414,0738, -0.6833,-110.3333, 3807,   2492.4,   1.9384,  34.6582,2,  34.6578,2,    122.3,2,    117.4,2,   146.83,2,    39.08,2,     0.00,2,     2.70,2, -999.000,9, -999.000,9, -999.000,9, -999.000,9, -999.000,9,-999.0000,9,  -999.00,9,   -999.0,9,   -999.0,9,   -999.0,9,   -999.0,9,   -999.0,9,  -999.00,9, -999.00,  -999.0,-999.0000,-999.000, -999.00,  -999.0,  1.7599,-999.000
    31DSCG94_3,  P18N,   143,  1,    108,   1218,2,19940414,0738, -0.6833,-110.3333, 3807,   2745.8,   1.7659,  34.6683,2,  34.6689,2,    129.9,2,    127.8,2,   146.44,2,    38.41,2,     0.00,2,     2.58,2, -999.000,9, -999.000,9, -999.000,9, -999.000,9, -999.000,9,-999.0000,9,  -999.00,9,   -999.0,9,   -999.0,9,   -999.0,9,   -999.0,9,   -999.0,9,     7.55,2, -999.00,  -999.0,-999.0000,-999.000,   25.00,  -999.0,  1.5674,-999.000
    31DSCG94_3,  P18N,   143,  1,    107,   1257,2,19940414,0738, -0.6833,-110.3333, 3807,   3000.2,   1.7213,  34.6726,2,  34.6735,2,    134.7,2,    132.3,2,   147.09,2,    38.31,2,     0.00,2,     2.60,2,   -0.003,2,   -0.002,2, -999.000,9, -999.000,9, -999.000,9,-999.0000,9,  -999.00,9,   -999.0,9,   -999.0,9,   -999.0,9,   -999.0,9,   -999.0,9,  -999.00,9, -999.00,  -999.0,-999.0000,-999.000, -999.00,  -999.0,  1.4996,-999.000
    31DSCG94_3,  P18N,   143,  1,    106,   1224,2,19940414,0738, -0.6833,-110.3333, 3807,   3247.8,   1.6181,  34.6776,2,  34.6781,2,    140.6,2,    139.4,2,   145.97,2,    38.00,2,     0.00,2,     2.56,2, -999.000,9, -999.000,9, -999.000,9, -999.000,9, -999.000,9,-999.0000,9,  -999.00,9,   -999.0,9,   -999.0,9,   -999.0,9,   -999.0,9,   -999.0,9,     7.57,2, -999.00,  -999.0,-999.0000,-999.000,   25.00,  -999.0,  1.3745,-999.000
    31DSCG94_3,  P18N,   143,  1,    105,   1246,2,19940414,0738, -0.6833,-110.3333, 3807,   3499.0,   1.5503,  34.6832,2,  34.6828,2,    144.7,2,    145.1,6,   146.38,2,    38.15,2,     0.00,2,     2.53,2,   -0.001,2,   -0.002,2, -999.000,9, -999.000,9, -999.000,9,-999.0000,9,  -999.00,9,   -999.0,9,   -999.0,9,   -999.0,9,   -999.0,9,   -999.0,9,  -999.00,9, -999.00,  -999.0,-999.0000,-999.000, -999.00,  -999.0,  1.2830,-999.000
    31DSCG94_3,  P18N,   143,  1,    104,   1217,2,19940414,0738, -0.6833,-110.3333, 3807,   3629.6,   1.4829,  34.6878,2,  34.6878,2,    149.9,2,    151.7,2,   146.83,2,    37.58,2,     0.00,2,     2.52,2, -999.000,9, -999.000,9, -999.000,9, -999.000,9, -999.000,9,-999.0000,9,  -999.00,9,   -999.0,9,   -999.0,9,   -999.0,9,   -999.0,9,   -999.0,9,     7.60,2, -999.00,  -999.0,-999.0000,-999.000,   25.00,  -999.0,  1.2038,-999.000
    31DSCG94_3,  P18N,   143,  1,    103,   9999,2,19940414,0738, -0.6833,-110.3333, 3807,   3630.4,   1.4823,  34.6877,2,  34.6887,2,    149.9,2,    151.4,2,   149.20,2,    37.08,2,     0.00,2,     2.51,2,   -0.002,2,   -0.002,2, -999.000,9, -999.000,9, -999.000,9,-999.0000,9,  -999.00,9,   -999.0,9,   -999.0,9,   -999.0,9,   -999.0,9,   -999.0,9,  -999.00,9, -999.00,  -999.0,-999.0000,-999.000, -999.00,  -999.0,  1.2031,-999.000
    31DSCG94_3,  P18N,   143,  1,    102,   1223,2,19940414,0738, -0.6833,-110.3333, 3807,   3747.3,   1.4635,  34.6894,2,  34.6891,2,    153.5,2,    154.6,2,   150.54,2,    36.72,2,     0.00,2,     2.49,2, -999.000,9, -999.000,9, -999.000,9, -999.000,9, -999.000,9,-999.0000,9,  -999.00,9,   -999.0,9,   -999.0,9,   -999.0,9,   -999.0,9,   -999.0,9,     7.60,2, -999.00,  -999.0,-999.0000,-999.000,   25.00,  -999.0,  1.1726,-999.000
    31DSCG94_3,  P18N,   143,  1,    101,   1041,2,19940414,0738, -0.6833,-110.3333, 3807,   3860.7,   1.4637,  34.6899,2,  34.6897,2,    154.6,2,    156.7,2,   149.03,2,    36.75,2,     0.00,2,     2.43,2, -999.000,9, -999.000,9, -999.000,9, -999.000,9, -999.000,9,-999.0000,9,  -999.00,9,   -999.0,9,   -999.0,9,   -999.0,9,   -999.0,9,   -999.0,9,  -999.00,9, -999.00,  -999.0,-999.0000,-999.000, -999.00,  -999.0,  1.1608,-999.000