BOTTLE,20220630CCHSIOAMB
EXPOCODE,SECT_ID,STNNBR,CASTNO,SAMPNO,BTLNBR,BTLNBR_FLAG_W,DATE,TIME,LATITUDE,LONGITUDE,DEPTH,CTDPRS,CTDTMP,CTDSAL,CTDSAL_FLAG_W,SALNTY,SALNTY_FLAG_W,CTDOXY,CTDOXY_FLAG_W,OXYGEN,OXYGEN_FLAG_W,SILCAT,SILCAT_FLAG_W,NITRAT,NITRAT_FLAG_W,NITRIT,NITRIT_FLAG_W,PHSPHT,PHSPHT_FLAG_W,CFC-11,CFC-11_FLAG_W,CFC-12,CFC-12_FLAG_W,CFC113,CFC113_FLAG_W,CCL4,CCL4_FLAG_W,TRITUM,TRITUM_FLAG_W,HELIUM,HELIUM_FLAG_W,DELHE3,DELHE3_FLAG_W,DELC14,DELC14_FLAG_W,DELC13,DELC13_FLAG_W,TCARBN,TCARBN_FLAG_W,PCO2,PCO2_FLAG_W,ALKALI,ALKALI_FLAG_W,PH,PH_FLAG_W,PCO2TMP,C14ERR,HELIER,DELHER,PH_TMP,C13ERR,THETA,TRITER
,,,,,,,,,,,,DBAR,ITS-90,PSS-78,,PSS-78,,UMOL/KG,,UMOL/KG,,UMOL/KG,,UMOL/KG,,UMOL/KG,,UMOL/KG,,PMOL/KG,,PMOL/KG,,PMOL/KG,,PMOL/KG,,TU,,NMOL/KG,,PERCNT,,/MILLE,,/MILLE,,UMOL/KG,,UATM,,UMOL/KG,,,,DEG C,/MILLE,NMOL/KG,PERCNT,DEG C,/MILLE,DEG C,TU
    31DSCG94_3,  P18N,   144,  1,    136,   1025,2,19940414,1325, -0.3358,-110.3268, 3810,      8.3,  24.4182,  35.1685,2,  35.1728,2,    190.2,2,    188.1,6,     4.10,2,     5.23,2,     0.34,2,     0.67,2,    1.764,2,    0.995,2, -999.000,9, -999.000,9, -999.000,9,-999.0000,9,  -999.00,9,   -999.0,9,   -999.0,9,   2049.8,2,    395.7,2,   2310.0,6,     7.97,2,   20.00,  -999.0,-999.0000,-999.000,   25.00,  -999.0, 24.4165,-999.000
    31DSCG94_3,  P18N,   144,  1,    135,   1247,2,19940414,1325, -0.3358,-110.3268, 3810,     26.7,  22.4604,  35.2337,2,  35.2305,2,    155.1,2,    163.2,6,     5.03,2,     7.51,2,     0.51,2,     0.79,2,    1.694,2,    0.942,2, -999.000,9, -999.000,9, -999.000,9,-999.0000,9,  -999.00,9,   -999.0,9,   -999.0,9,   -999.0,9,   -999.0,9,   -999.0,9,     7.94,2, -999.00,  -999.0,-999.0000,-999.000,   25.00,  -999.0, 22.4551,-999.000
    31DSCG94_3,  P18N,   144,  1,    134,   1216,2,19940414,1325, -0.3358,-110.3268, 3810,     48.8,  18.3408,  35.2916,2,  35.2921,2,    117.5,2,    127.9,2,     7.57,2,    11.86,2,     0.28,2,     0.98,2,    1.394,2,    0.762,2, -999.000,9, -999.000,9, -999.000,9,-999.0000,9,  -999.00,9,   -999.0,9,   -999.0,9,   2108.9,2,    530.2,2,   2314.0,2,     7.87,2,   20.00,  -999.0,-999.0000,-999.000,   25.00,  -999.0, 18.3323,-999.000
    31DSCG94_3,  P18N,   144,  1,    133,   1244,2,19940414,1325, -0.3358,-110.3268, 3810,     75.5,  16.5699,  35.2486,2,  35.2321,2,    116.3,2,    117.6,2,     9.62,2,    15.27,2,     0.15,2,     1.19,2,    1.173,2,    0.631,2, -999.000,9, -999.000,9, -999.000,9,-999.0000,9,  -999.00,9,   -999.0,9,   -999.0,9,   -999.0,9,   -999.0,9,   -999.0,9,     7.81,2, -999.00,  -999.0,-999.0000,-999.000,   25.00,  -999.0, 16.5577,-999.000
    31DSCG94_3,  P18N,   144,  1,    132,   1003,2,19940414,1325, -0.3358,-110.3268, 3810,    101.9,  14.3395,  35.0000,2,  34.9980,2,    119.6,2,    124.8,2,    14.10,2,    17.17,2,     0.00,2,     1.28,2,    1.035,2,    0.566,2, -999.000,9, -999.000,9, -999.000,9,-999.0000,9,  -999.00,9,   -999.0,9,   -999.0,9,   2141.8,2,    668.6,2,   2304.0,2,     7.78,2,   20.00,  -999.0,-999.0000,-999.000,   25.00,  -999.0, 14.3245,-999.000
    31DSCG94_3,  P18N,   144,  1,    131,   1211,2,19940414,1325, -0.3358,-110.3268, 3810,    121.8,  14.0687,  34.9888,2,  34.9885,2,    114.0,2,    118.7,2,    14.66,2,    16.81,2,     0.00,2,     1.35,2,    0.944,2,    0.521,2, -999.000,9, -999.000,9, -999.000,9,-999.0000,9,  -999.00,9,   -999.0,9,   -999.0,9,   -999.0,9,   -999.0,9,   -999.0,9,     7.76,2, -999.00,  -999.0,-999.0000,-999.000,   25.00,  -999.0, 14.0511,-999.000
    31DSCG94_3,  P18N,   144,  1,    130,   1241,2,19940414,1325, -0.3358,-110.3268, 3810,    149.5,  13.5398,  34.9379,2,  34.9372,2,    107.3,2,    110.3,2,    16.48,2,    20.04,2,     0.00,2,     1.47,2, -999.000,9, -999.000,9, -999.000,9, -999.000,9, -999.000,9,-999.0000,9,  -999.00,9,   -999.0,9,   -999.0,9,   2158.8,2,   -999.0,9,   2299.0,2,     7.73,2, -999.00,  -999.0,-999.0000,-999.000,   25.00,  -999.0, 13.5187,-999.000
    31DSCG94_3,  P18N,   144,  1,    129,   1240,2,19940414,1325, -0.3358,-110.3268, 3810,    173.8,  13.1983,  34.8938,2,  34.8941,2,    102.9,2,    104.8,2,    17.98,2,    21.24,2,     0.00,2,     1.55,2,    0.840,2,    0.449,2, -999.000,9, -999.000,9, -999.000,9,-999.0000,9,  -999.00,9,   -999.0,9,   -999.0,9,   -999.0,9,   -999.0,9,   -999.0,9,     7.71,2, -999.00,  -999.0,-999.0000,-999.000,   25.00,  -999.0, 13.1742,-999.000
    31DSCG94_3,  P18N,   144,  1,    128,   1032,2,19940414,1325, -0.3358,-110.3268, 3810,    201.2,  13.0395,  34.8835,2,  34.8833,2,     96.0,2,     90.0,2,    19.35,2,    22.71,2,     0.00,2,     1.64,2, -999.000,9, -999.000,9, -999.000,9, -999.000,9, -999.000,9,-999.0000,9,  -999.00,9,   -999.0,9,   -999.0,9,   2175.6,2,    858.3,2,   2297.0,2,     7.68,2,   20.00,  -999.0,-999.0000,-999.000,   25.00,  -999.0, 13.0118,-999.000
    31DSCG94_3,  P18N,   144,  1,    127,   1008,2,19940414,1325, -0.3358,-110.3268, 3810,    225.6,  12.9006,  34.8891,2,  34.8892,2,     79.0,2,     77.3,2,    20.51,2,    23.99,2,     0.00,2,     1.74,2,    0.657,2,    0.356,2, -999.000,9, -999.000,9, -999.000,9,-999.0000,9,  -999.00,9,   -999.0,9,   -999.0,9,   -999.0,9,   -999.0,9,   -999.0,9,     7.65,2, -999.00,  -999.0,-999.0000,-999.000,   25.00,  -999.0, 12.8697,-999.000
    31DSCG94_3,  P18N,   144,  1,    126,   1007,2,19940414,1325, -0.3358,-110.3268, 3810,    250.4,  12.8090,  34.8894,2,  34.8907,2,     69.2,2,     68.0,2,    21.07,2,    25.40,2,     0.00,2,     1.81,2, -999.000,9, -999.000,9, -999.000,9, -999.000,9, -999.000,9,-999.0000,9,  -999.00,9,   -999.0,9,   -999.0,9,   2194.7,2,   -999.0,9,   2298.0,2,     7.63,2, -999.00,  -999.0,-999.0000,-999.000,   25.00,  -999.0, 12.7749,-999.000
    31DSCG94_3,  P18N,   144,  1,    125,   1256,2,19940414,1325, -0.3358,-110.3268, 3810,    299.6,  12.2693,  34.8647,2,  34.8633,2,     25.3,2,     21.0,2,    25.47,2,    31.15,2,     0.00,2,     2.22,2,    0.318,2,    0.196,2, -999.000,9, -999.000,9, -999.000,9,-999.0000,9,  -999.00,9,   -999.0,9,   -999.0,9,   2234.4,2,   1329.1,2,   2293.0,2,     7.51,2,   20.00,  -999.0,-999.0000,-999.000,   25.00,  -999.0, 12.2295,-999.000
    31DSCG94_3,  P18N,   144,  1,    123,   1220,2,19940414,1325, -0.3358,-110.3268, 3810,    349.7,  10.9513,  34.7924,2,  34.7892,2,     27.8,2,     27.7,2,    28.49,2,    32.14,2,     0.00,2,     2.31,2,    0.187,2,    0.108,2, -999.000,9, -999.000,9, -999.000,9,-999.0000,9,  -999.00,9,   -999.0,9,   -999.0,9,   -999.0,9,   -999.0,9,   -999.0,9,     7.49,2, -999.00,  -999.0,-999.0000,-999.000,   25.00,  -999.0, 10.9081,-999.000
    31DSCG94_3,  P18N,   144,  1,    122,   1245,2,19940414,1325, -0.3358,-110.3268, 3810,    398.2,   9.4679,  34.6996,2,  34.6974,2,     26.2,2,     35.6,2,    33.30,2,    35.19,2,     0.00,2,     2.43,2,    0.097,2,    0.052,2, -999.000,9, -999.000,9, -999.000,9,-999.0000,9,  -999.00,9,   -999.0,9,   -999.0,9,   2253.0,2,   1478.0,2,   2296.0,2,     7.47,2,   20.00,  -999.0,-999.0000,-999.000,   25.00,  -999.0,  9.4230,-999.000
    31DSCG94_3,  P18N,   144,  1,    121,   1206,2,19940414,1325, -0.3358,-110.3268, 3810,    497.7,   8.1431,  34.6289,2,  34.6302,2,     27.8,2,     34.1,2,    41.66,2,    38.27,2,     0.00,2,     2.64,2, -999.000,9, -999.000,9, -999.000,9, -999.000,9, -999.000,9,-999.0000,9,  -999.00,9,   -999.0,9,   -999.0,9,   2268.1,2,   1608.1,2,   2306.0,2,     7.44,2,   20.00,  -999.0,-999.0000,-999.000,   25.00,  -999.0,  8.0915,-999.000
    31DSCG94_3,  P18N,   144,  1,    120,   1028,2,19940414,1325, -0.3358,-110.3268, 3810,    601.2,   7.2573,  34.5876,2,  34.5859,2,     48.5,2,     51.2,2,    47.99,2,    38.52,2,     0.00,2,     2.68,2,   -0.004,2,   -0.002,2, -999.000,9, -999.000,9, -999.000,9,-999.0000,9,  -999.00,9,   -999.0,9,   -999.0,9,   2271.1,2,   1544.9,2,   2313.0,2,     7.45,2,   20.00,  -999.0,-999.0000,-999.000,   25.00,  -999.0,  7.1985,-999.000
    31DSCG94_3,  P18N,   144,  1,    119,   1248,2,19940414,1325, -0.3358,-110.3268, 3810,    697.2,   6.4590,  34.5685,2,  34.5676,2,     50.2,2,     52.3,2,    57.74,2,    39.13,2,     0.00,2,     2.75,2, -999.000,9, -999.000,9, -999.000,9, -999.000,9, -999.000,9,-999.0000,9,  -999.00,9,   -999.0,9,   -999.0,9,   2282.2,2,   1592.5,2,   2321.0,2,     7.44,2,   20.00,  -999.0,-999.0000,-999.000,   25.00,  -999.0,  6.3946,-999.000
    31DSCG94_3,  P18N,   144,  1,    118,   1115,2,19940414,1325, -0.3358,-110.3268, 3810,    799.0,   5.5768,  34.5483,2,  34.5490,2,     67.5,2,     69.6,2,    67.46,2,    38.94,2,     0.00,2,     2.73,2, -999.000,9, -999.000,9, -999.000,9, -999.000,9, -999.000,9,-999.0000,9,  -999.00,9,   -999.0,9,   -999.0,9,   2285.1,2,   1537.4,2,   2333.0,2,     7.47,2,   20.00,  -999.0,-999.0000,-999.000,   25.00,  -999.0,  5.5078,-999.000
    31DSCG94_3,  P18N,   144,  1,    117,   1119,2,19940414,1325, -0.3358,-110.3268, 3810,    901.3,   5.1395,  34.5468,2,  34.5465,2,     71.5,2,     75.3,2,    74.36,2,    39.90,2,     0.00,2,     2.76,2, -999.000,9, -999.000,9, -999.000,9, -999.000,9, -999.000,9,-999.0000,9,  -999.00,9,   -999.0,9,   -999.0,9,   2289.3,2,   1514.0,2,   2340.0,2,     7.47,2,   20.00,  -999.0,-999.0000,-999.000,   25.00,  -999.0,  5.0640,-999.000
    31DSCG94_3,  P18N,   144,  1,    116,   1036,2,19940414,1325, -0.3358,-110.3268, 3810,   1000.1,   4.6842,  34.5526,2,  34.5510,2,     76.7,2,     77.9,2,    81.96,2,    40.44,2,     0.00,2,     3.03,4, -999.000,9, -999.000,9, -999.000,9, -999.000,9, -999.000,9,-999.0000,9,  -999.00,9,   -999.0,9,   -999.0,9,   2299.2,2,   1521.7,2,   2346.0,6,     7.47,2,   20.00,  -999.0,-999.0000,-999.000,   25.00,  -999.0,  4.6032,-999.000
    31DSCG94_3,  P18N,   144,  1,    115,   1017,2,19940414,1325, -0.3358,-110.3268, 3810,   1200.0,   4.0049,  34.5689,2,  34.5678,2,     79.7,2,     80.0,2,    97.59,2,    40.41,2,     0.00,2,     2.84,2, -999.000,9, -999.000,9, -999.000,9, -999.000,9, -999.000,9,-999.0000,9,  -999.00,9,   -999.0,9,   -999.0,9,   -999.0,9,   -999.0,9,   -999.0,9,     7.47,2, -999.00,  -999.0,-999.0000,-999.000,   25.00,  -999.0,  3.9122,-999.000
    31DSCG94_3,  P18N,   144,  1,    114,   1016,2,19940414,1325, -0.3358,-110.3268, 3810,   1398.4,   3.4439,  34.5895,2,  34.5890,2,     86.5,2,     82.1,2,   111.30,2,    40.03,2,     0.00,2,     2.83,2, -999.000,9, -999.000,9, -999.000,9, -999.000,9, -999.000,9,-999.0000,9,  -999.00,9,   -999.0,9,   -999.0,9,   -999.0,9,   -999.0,9,   -999.0,9,     7.47,2, -999.00,  -999.0,-999.0000,-999.000,   25.00,  -999.0,  3.3396,-999.000
    31DSCG94_3,  P18N,   144,  1,    113,   1209,2,19940414,1325, -0.3358,-110.3268, 3810,   1599.2,   2.9284,  34.6067,2,  34.6058,2,     96.1,2,     93.9,2,   121.34,2,    39.74,2,     0.00,2,     2.78,2, -999.000,9, -999.000,9, -999.000,9, -999.000,9, -999.000,9,-999.0000,9,  -999.00,9,   -999.0,9,   -999.0,9,   -999.0,9,   -999.0,9,   -999.0,9,     7.49,2, -999.00,  -999.0,-999.0000,-999.000,   25.00,  -999.0,  2.8130,-999.000
    31DSCG94_3,  P18N,   144,  1,    112,   1033,2,19940414,1325, -0.3358,-110.3268, 3810,   1794.1,   2.5453,  34.6269,2,  34.6292,2,    105.0,2,     96.8,2,   133.43,2,    40.49,2,     0.00,2,     2.87,3, -999.000,9, -999.000,9, -999.000,9, -999.000,9, -999.000,9,-999.0000,9,  -999.00,9,   -999.0,9,   -999.0,9,   -999.0,9,   -999.0,9,   -999.0,9,     7.50,2, -999.00,  -999.0,-999.0000,-999.000,   25.00,  -999.0,  2.4183,-999.000
    31DSCG94_3,  P18N,   144,  1,    111,   1240,2,19940414,1325, -0.3358,-110.3268, 3810,   1997.3,   2.3147,  34.6387,2,  34.6381,2,    111.8,2,    102.8,2,   141.08,2,    37.76,2,     0.00,2,     2.73,2, -999.000,9, -999.000,9, -999.000,9, -999.000,9, -999.000,9,-999.0000,9,  -999.00,9,   -999.0,9,   -999.0,9,   -999.0,9,   -999.0,9,   -999.0,9,     7.51,2, -999.00,  -999.0,-999.0000,-999.000,   25.00,  -999.0,  2.1737,-999.000
    31DSCG94_3,  P18N,   144,  1,    110,   1005,2,19940414,1325, -0.3358,-110.3268, 3810,   2200.2,   2.0985,  34.6499,2,  34.6493,2,    115.7,2,    109.9,2,   146.83,2,    38.48,2,     0.01,2,     3.04,4, -999.000,9, -999.000,9, -999.000,9, -999.000,9, -999.000,9,-999.0000,9,  -999.00,9,   -999.0,9,   -999.0,9,   -999.0,9,   -999.0,9,   -999.0,9,  -999.00,9, -999.00,  -999.0,-999.0000,-999.000, -999.00,  -999.0,  1.9432,-999.000
    31DSCG94_3,  P18N,   144,  1,    109,   1611,2,19940414,1325, -0.3358,-110.3268, 3810,   2402.7,   1.9441,  34.6572,2,  34.6566,2,    121.0,2,    117.1,2,   148.48,2,    37.72,2,     0.00,2,     2.13,4, -999.000,9, -999.000,9, -999.000,9, -999.000,9, -999.000,9,-999.0000,9,  -999.00,9,   -999.0,9,   -999.0,9,   -999.0,9,   -999.0,9,   -999.0,9,     7.53,2, -999.00,  -999.0,-999.0000,-999.000,   25.00,  -999.0,  1.7736,-999.000
    31DSCG94_3,  P18N,   144,  1,    108,   1218,2,19940414,1325, -0.3358,-110.3268, 3810,   2602.7,   1.8537,  34.6633,2,  34.6625,2,    123.8,2,    122.0,2,   148.44,2,    37.16,2,     0.00,2,     2.59,2, -999.000,9, -999.000,9, -999.000,9, -999.000,9, -999.000,9,-999.0000,9,  -999.00,9,   -999.0,9,   -999.0,9,   -999.0,9,   -999.0,9,   -999.0,9,  -999.00,9, -999.00,  -999.0,-999.0000,-999.000, -999.00,  -999.0,  1.6667,-999.000
    31DSCG94_3,  P18N,   144,  1,    107,   1257,2,19940414,1325, -0.3358,-110.3268, 3810,   2799.6,   1.7781,  34.6680,2,  34.6677,2,    130.1,2,    127.8,2,   147.61,2,    37.14,2,     0.00,2,     2.56,2, -999.000,9, -999.000,9, -999.000,9, -999.000,9, -999.000,9,-999.0000,9,  -999.00,9,   -999.0,9,   -999.0,9,   -999.0,9,   -999.0,9,   -999.0,9,     7.55,2, -999.00,  -999.0,-999.0000,-999.000,   25.00,  -999.0,  1.5743,-999.000
    31DSCG94_3,  P18N,   144,  1,    106,   1224,2,19940414,1325, -0.3358,-110.3268, 3810,   2982.6,   1.7055,  34.6730,2,  34.6722,2,    134.4,2,    133.6,2,   147.82,2,    36.65,2,     0.00,2,     2.52,2, -999.000,9, -999.000,9, -999.000,9, -999.000,9, -999.000,9,-999.0000,9,  -999.00,9,   -999.0,9,   -999.0,9,   -999.0,9,   -999.0,9,   -999.0,9,  -999.00,9, -999.00,  -999.0,-999.0000,-999.000, -999.00,  -999.0,  1.4858,-999.000
    31DSCG94_3,  P18N,   144,  1,    105,   1246,2,19940414,1325, -0.3358,-110.3268, 3810,   3249.1,   1.6288,  34.6768,2,  34.6752,2,    139.0,2,    139.3,2,   146.98,2,    35.96,2,     0.00,2,     2.48,2, -999.000,9, -999.000,9, -999.000,9, -999.000,9, -999.000,9,-999.0000,9,  -999.00,9,   -999.0,9,   -999.0,9,   -999.0,9,   -999.0,9,   -999.0,9,     7.57,2, -999.00,  -999.0,-999.0000,-999.000,   25.00,  -999.0,  1.3848,-999.000
    31DSCG94_3,  P18N,   144,  1,    104,   1217,2,19940414,1325, -0.3358,-110.3268, 3810,   3501.3,   1.5527,  34.6830,2,  34.6821,2,    142.9,2,    145.2,2,   147.80,2,    36.05,2,     0.00,2,     2.46,2, -999.000,9, -999.000,9, -999.000,9, -999.000,9, -999.000,9,-999.0000,9,  -999.00,9,   -999.0,9,   -999.0,9,   -999.0,9,   -999.0,9,   -999.0,9,  -999.00,9, -999.00,  -999.0,-999.0000,-999.000, -999.00,  -999.0,  1.2851,-999.000
    31DSCG94_3,  P18N,   144,  1,    102,   1223,2,19940414,1325, -0.3358,-110.3268, 3810,   3751.0,   1.4653,  34.6892,2,  34.6886,2,    153.0,2,    155.6,2,   146.57,2,    35.56,2,     0.00,2,     2.38,2, -999.000,9, -999.000,9, -999.000,9, -999.000,9, -999.000,9,-999.0000,9,  -999.00,9,   -999.0,9,   -999.0,9,   -999.0,9,   -999.0,9,   -999.0,9,  -999.00,9, -999.00,  -999.0,-999.0000,-999.000, -999.00,  -999.0,  1.1740,-999.000
    31DSCG94_3,  P18N,   144,  1,    103,   9999,2,19940414,1325, -0.3358,-110.3268, 3810,   3751.1,   1.4650,  34.6892,2,  34.6901,2,    153.0,2,    154.8,6,   145.23,2,    35.77,2,     0.00,2,     2.44,2, -999.000,9, -999.000,9, -999.000,9, -999.000,9, -999.000,9,-999.0000,9,  -999.00,9,   -999.0,9,   -999.0,9,   -999.0,9,   -999.0,9,   -999.0,9,     7.60,2, -999.00,  -999.0,-999.0000,-999.000,   25.00,  -999.0,  1.1737,-999.000
    31DSCG94_3,  P18N,   144,  1,    101,   1041,2,19940414,1325, -0.3358,-110.3268, 3810,   3840.2,   1.4651,  34.6897,2,  34.6897,2,    153.6,2,    155.9,2,   149.21,2,    35.18,2,     0.01,2,     2.40,2, -999.000,9, -999.000,9, -999.000,9, -999.000,9, -999.000,9,-999.0000,9,  -999.00,9,   -999.0,9,   -999.0,9,   -999.0,9,   -999.0,9,   -999.0,9,     7.60,2, -999.00,  -999.0,-999.0000,-999.000,   25.00,  -999.0,  1.1643,-999.000