BOTTLE,20220630CCHSIOAMB
EXPOCODE,SECT_ID,STNNBR,CASTNO,SAMPNO,BTLNBR,BTLNBR_FLAG_W,DATE,TIME,LATITUDE,LONGITUDE,DEPTH,CTDPRS,CTDTMP,CTDSAL,CTDSAL_FLAG_W,SALNTY,SALNTY_FLAG_W,CTDOXY,CTDOXY_FLAG_W,OXYGEN,OXYGEN_FLAG_W,SILCAT,SILCAT_FLAG_W,NITRAT,NITRAT_FLAG_W,NITRIT,NITRIT_FLAG_W,PHSPHT,PHSPHT_FLAG_W,CFC-11,CFC-11_FLAG_W,CFC-12,CFC-12_FLAG_W,CFC113,CFC113_FLAG_W,CCL4,CCL4_FLAG_W,TRITUM,TRITUM_FLAG_W,HELIUM,HELIUM_FLAG_W,DELHE3,DELHE3_FLAG_W,DELC14,DELC14_FLAG_W,DELC13,DELC13_FLAG_W,TCARBN,TCARBN_FLAG_W,PCO2,PCO2_FLAG_W,ALKALI,ALKALI_FLAG_W,PH,PH_FLAG_W,PCO2TMP,C14ERR,HELIER,DELHER,PH_TMP,C13ERR,THETA,TRITER
,,,,,,,,,,,,DBAR,ITS-90,PSS-78,,PSS-78,,UMOL/KG,,UMOL/KG,,UMOL/KG,,UMOL/KG,,UMOL/KG,,UMOL/KG,,PMOL/KG,,PMOL/KG,,PMOL/KG,,PMOL/KG,,TU,,NMOL/KG,,PERCNT,,/MILLE,,/MILLE,,UMOL/KG,,UATM,,UMOL/KG,,,,DEG C,/MILLE,NMOL/KG,PERCNT,DEG C,/MILLE,DEG C,TU
    31DSCG94_3,  P18N,   126,  2,    236,   1025,2,19940408,1809, -7.3118,-106.9435, 3175,      7.4,  27.6575,  34.8411,2,  36.8178,4,    195.8,2,    202.2,2,     1.71,2,     2.24,2,     0.04,2,     0.36,2,    1.709,2,    0.999,2, -999.000,9, -999.000,9, -999.000,9,-999.0000,9,  -999.00,9,     62.7,2,      1.6,2,   1970.6,3,    290.2,2,   2296.0,2,     8.08,2,   20.00,     3.6,-999.0000,-999.000,   25.00,  -999.0, 27.6557,-999.000
    31DSCG94_3,  P18N,   126,  2,    235,   1247,2,19940408,1809, -7.3118,-106.9435, 3175,     22.6,  27.6653,  34.8437,2,  36.8224,4,    192.5,2,    202.1,2,     1.68,2,     2.27,2,     0.05,2,     0.36,2,    1.704,2,    0.971,2, -999.000,9, -999.000,9,    0.853,2,   1.7188,2,    -0.73,2,   -999.0,9,   -999.0,5,   -999.0,9,   -999.0,9,   -999.0,9,     8.08,2, -999.00,  -999.0,-999.0000,-999.000,   25.00,  -999.0, 27.6600,   0.008
    31DSCG94_3,  P18N,   126,  2,    234,   1216,2,19940408,1809, -7.3118,-106.9435, 3175,     50.4,  25.6245,  35.4742,2,  35.4485,3,    196.4,2,    206.8,2,     3.12,2,     4.11,2,     0.06,2,     0.57,2,    1.873,2,    1.040,2, -999.000,9, -999.000,9, -999.000,9,-999.0000,9,  -999.00,9,     59.1,2,      1.5,2,   2025.4,2,    323.5,2,   2324.0,3,     8.05,2,   20.00,     3.3,-999.0000,-999.000,   25.00,  -999.0, 25.6134,-999.000
    31DSCG94_3,  P18N,   126,  2,    233,   1244,2,19940408,1809, -7.3118,-106.9435, 3175,     74.1,  21.0023,  35.4217,2,  35.4048,2,    125.1,2,    156.9,2,     5.50,2,     7.79,2,     1.10,2,     1.06,2,    1.963,2,    1.048,2, -999.000,9, -999.000,9,    0.643,2,   1.7322,2,    -0.53,2,     69.1,2,      1.1,2,   -999.0,9,   -999.0,9,   -999.0,9,     7.91,2, -999.00,     3.2,-999.0000,-999.000,   25.00,  -999.0, 20.9881,   0.007
    31DSCG94_3,  P18N,   126,  2,    232,   1003,2,19940408,1809, -7.3118,-106.9435, 3175,     98.5,  17.9283,  35.3305,2,  35.3343,2,    103.3,2,    105.1,2,     7.44,2,    13.63,2,     1.53,2,     1.41,2,    1.921,6,    1.031,6, -999.000,9, -999.000,9, -999.000,9,-999.0000,9,  -999.00,9,     66.9,2,      0.8,2,   2157.7,2,    678.7,2,   2340.0,3,     7.77,2,   20.00,     8.9,-999.0000,-999.000,   25.00,  -999.0, 17.9114,-999.000
    31DSCG94_3,  P18N,   126,  2,    231,   1211,2,19940408,1809, -7.3118,-106.9435, 3175,    124.3,  14.5546,  35.0414,2,  35.0510,2,     13.2,2,     17.7,2,    16.10,2,    25.58,2,     0.02,2,     2.19,2,    1.054,2,    0.566,2, -999.000,9, -999.000,9,    0.383,2,   1.7599,2,     2.09,2,     46.6,2,      0.1,2,   -999.0,9,   -999.0,9,   -999.0,9,     7.55,2, -999.00,     3.4,-999.0000,-999.000,   25.00,  -999.0, 14.5362,   0.006
    31DSCG94_3,  P18N,   126,  2,    230,   1241,2,19940408,1809, -7.3118,-106.9435, 3175,    150.1,  13.6419,  34.9805,2,  34.9803,2,     18.1,2,      9.9,2,    19.51,2,    27.28,2,     0.00,2,     2.31,2,    0.701,2,    0.371,2, -999.000,9, -999.000,9,    0.337,2,   1.7527,2,     3.41,2,     20.7,2,      0.1,2,   2236.2,2,   -999.0,9,   2300.0,2,     7.51,2, -999.00,     3.2,-999.0000,-999.000,   25.00,  -999.0, 13.6206,   0.006
    31DSCG94_3,  P18N,   126,  2,    229,   1240,2,19940408,1809, -7.3118,-106.9435, 3175,    174.7,  12.9059,  34.9324,2,  34.9364,2,     15.1,2,      9.4,2,    21.81,2,    28.83,2,     0.00,2,     2.35,2,    0.475,2,    0.267,2, -999.000,9, -999.000,9, -999.000,9,-999.0000,9,  -999.00,9,      3.1,2,      0.1,2,   -999.0,9,   -999.0,9,   -999.0,9,  -999.00,9, -999.00,     3.4,-999.0000,-999.000, -999.00,  -999.0, 12.8820,-999.000
    31DSCG94_3,  P18N,   126,  2,    228,   1032,2,19940408,1809, -7.3118,-106.9435, 3175,    202.6,  12.3561,  34.8989,2,  34.9003,2,     25.8,2,     18.9,2,    24.81,2,    30.35,2,     0.00,2,     2.31,2,    0.313,2,    0.181,2, -999.000,9, -999.000,9,    0.260,2,-999.0000,9,  -999.00,9,    -23.1,2,      0.1,2,   2237.7,2,   1334.4,2,   2294.0,2,     7.51,2,   20.00,     4.2,-999.0000,-999.000,   25.00,  -999.0, 12.3292,   0.005
    31DSCG94_3,  P18N,   126,  2,    227,   1008,2,19940408,1809, -7.3118,-106.9435, 3175,    214.1,  12.1850,  34.8890,2,  34.8886,2,     28.7,2,     23.2,2,    25.14,2,    30.48,2,     0.00,2,     2.28,2,    0.296,2,    0.174,2, -999.000,9, -999.000,9,    0.241,2,-999.0000,9,  -999.00,9,    -23.6,2,      0.1,2,   -999.0,9,   -999.0,9,   -999.0,9,     7.51,2, -999.00,     3.2,-999.0000,-999.000,   25.00,  -999.0, 12.1568,   0.005
    31DSCG94_3,  P18N,   126,  2,    226,   1007,2,19940408,1809, -7.3118,-106.9435, 3175,    249.8,  11.7689,  34.8622,2,  34.8615,2,     31.2,2,     32.8,2,    25.53,2,    30.51,2,     0.00,2,     2.25,2,    0.262,6,    0.150,6, -999.000,9, -999.000,9,    0.224,2,   1.7741,2,     4.42,2,   -999.0,9,      0.3,2,   2232.4,2,   -999.0,9,   2295.0,2,     7.53,2, -999.00,  -999.0,-999.0000,-999.000,   25.00,  -999.0, 11.7367,   0.005
    31DSCG94_3,  P18N,   126,  2,    225,   1203,2,19940408,1809, -7.3118,-106.9435, 3175,    300.4,  11.1691,  34.8186,2,  34.8195,2,     10.9,2,     15.0,2,    30.66,2,    32.66,2,     0.00,2,     2.44,2,    0.149,2,    0.080,2, -999.000,9, -999.000,9,    0.147,2,   1.7661,2,     4.56,2,    -46.7,2,      0.1,2,   2251.9,2,   1490.6,2,   2299.0,2,     7.47,2,   20.00,     3.2,-999.0000,-999.000,   25.00,  -999.0, 11.1316,   0.004
    31DSCG94_3,  P18N,   126,  2,    223,   1220,2,19940408,1809, -7.3118,-106.9435, 3175,    351.0,  10.5599,  34.7790,2,  34.7780,2,      4.2,2,      4.2,6,    34.84,2,    34.44,2,     0.00,2,     2.61,2,    0.058,6,    0.032,6, -999.000,9, -999.000,9,    0.076,2,   1.8085,2,     4.33,2,    -64.8,2,     -0.0,2,   -999.0,9,   -999.0,9,   -999.0,9,     7.42,2, -999.00,     4.7,-999.0000,-999.000,   25.00,  -999.0, 10.5175,   0.004
    31DSCG94_3,  P18N,   126,  2,    222,   1245,2,19940408,1809, -7.3118,-106.9435, 3175,    402.8,   9.6939,  34.7234,2,  34.7222,2,      5.4,2,      5.8,2,    37.46,2,    36.39,2,     0.00,2,     2.70,2,    0.021,2,    0.015,2, -999.000,9, -999.000,9,    0.033,2,   1.8170,2,     4.38,2,    -89.4,2,     -0.1,2,   2273.3,2,   1743.8,2,   2301.0,2,  -999.00,9,   20.00,     3.7,-999.0000,-999.000, -999.00,  -999.0,  9.6477,   0.004
    31DSCG94_3,  P18N,   126,  2,    221,   1206,2,19940408,1809, -7.3118,-106.9435, 3175,    500.4,   8.0758,  34.6299,2,  34.6276,2,     10.8,2,     11.5,2,    43.73,2,    41.58,2,     0.00,2,     2.90,2,    0.006,2,    0.001,2, -999.000,9, -999.000,9,    0.011,2,   1.8210,2,     5.72,2,   -100.5,2,     -0.0,2,   2284.9,2,   1861.5,3,   2300.0,2,     7.38,2,   20.00,     3.5,-999.0000,-999.000,   25.00,  -999.0,  8.0241,   0.003
    31DSCG94_3,  P18N,   126,  2,    220,   1028,2,19940408,1809, -7.3118,-106.9435, 3175,    599.6,   6.7841,  34.5714,2,  34.5696,2,     17.1,2,     19.7,2,    52.75,2,    44.19,2,     0.00,2,     3.03,2,    0.003,2,   -0.002,2, -999.000,9, -999.000,9,    0.004,2,   1.8379,2,     8.33,2,   -122.7,2,      0.3,3,   2292.9,2,   1906.9,2,   2311.0,2,     7.37,2,   20.00,     3.0,-999.0000,-999.000,   25.00,  -999.0,  6.7276,   0.003
    31DSCG94_3,  P18N,   126,  2,    219,   1248,2,19940408,1809, -7.3118,-106.9435, 3175,    698.4,   5.7985,  34.5430,2,  34.5419,2,     44.8,2,     51.5,2,    60.47,2,    41.97,2,     0.00,2,     2.87,2,   -0.002,2,   -0.001,2, -999.000,9, -999.000,9,    0.004,2,   1.8647,2,    11.23,2,   -140.0,2,      0.2,2,   2287.1,2,   1688.5,2,   2319.0,2,     7.42,2,   20.00,     3.1,-999.0000,-999.000,   25.00,  -999.0,  5.7375,   0.003
    31DSCG94_3,  P18N,   126,  2,    218,   1115,3,19940408,1809, -7.3118,-106.9435, 3175,    803.5,   5.2516,  34.5378,2,-999.0000,9,     62.5,2,   -999.0,9,  -999.00,9,  -999.00,9,  -999.00,9,  -999.00,9, -999.000,5, -999.000,5, -999.000,9, -999.000,9, -999.000,9,-999.0000,9,  -999.00,9,   -999.0,9,   -999.0,9,   -999.0,9,   -999.0,9,   -999.0,5,  -999.00,9, -999.00,  -999.0,-999.0000,-999.000, -999.00,  -999.0,  5.1842,-999.000
    31DSCG94_3,  P18N,   126,  2,    217,   1119,2,19940408,1809, -7.3118,-106.9435, 3175,    899.5,   4.9048,  34.5387,2,  34.5379,2,     69.4,2,     72.8,2,    74.03,2,    40.90,2,     0.00,2,     2.80,2,   -0.001,2,    0.000,2, -999.000,9, -999.000,9, -999.000,9,-999.0000,9,  -999.00,9,   -999.0,9,   -999.0,5,   2290.7,2,   1572.6,6,   2335.0,2,     7.45,2,   20.00,  -999.0,-999.0000,-999.000,   25.00,  -999.0,  4.8311,-999.000
    31DSCG94_3,  P18N,   126,  2,    216,   1036,2,19940408,1809, -7.3118,-106.9435, 3175,   1000.7,   4.4621,  34.5434,2,  34.5433,2,     78.1,2,     82.9,2,    81.17,2,    40.06,2,     0.00,2,     2.77,2,   -0.002,2,   -0.001,2, -999.000,9, -999.000,9,    0.004,2,   1.8430,2,    17.26,2,   -165.4,2,      0.2,2,   2294.3,2,   1512.7,2,   2357.0,3,     7.47,2,   20.00,     2.9,-999.0000,-999.000,   25.00,  -999.0,  4.3828,   0.003
    31DSCG94_3,  P18N,   126,  2,    215,   1017,2,19940408,1809, -7.3118,-106.9435, 3175,   1098.2,   4.1698,  34.5505,2,  34.5497,2,     84.4,2,     85.5,2,    87.15,2,    40.24,2,     0.00,2,     2.79,2, -999.000,9, -999.000,9, -999.000,9, -999.000,9, -999.000,9,-999.0000,9,  -999.00,9,   -180.6,2,      0.2,2,   -999.0,9,   -999.0,9,   -999.0,9,     7.47,2, -999.00,     2.8,-999.0000,-999.000,   25.00,  -999.0,  4.0844,-999.000
    31DSCG94_3,  P18N,   126,  2,    214,   1016,2,19940408,1809, -7.3118,-106.9435, 3175,   1197.2,   3.7923,  34.5635,2,  34.5628,2,     83.8,2,     84.7,2,    96.61,2,    40.68,2,     0.00,2,     2.83,2,   -0.002,2,   -0.001,2, -999.000,9, -999.000,9,    0.004,2,   1.8680,2,    20.65,2,   -182.2,2,      0.1,2,   -999.0,9,   -999.0,9,   -999.0,9,     7.47,2, -999.00,     2.9,-999.0000,-999.000,   25.00,  -999.0,  3.7017,   0.003
    31DSCG94_3,  P18N,   126,  2,    213,   1209,2,19940408,1809, -7.3118,-106.9435, 3175,   1301.9,   3.5176,  34.5728,2,  34.5726,2,     90.7,2,     89.3,2,   103.46,2,    40.00,2,     0.00,2,     2.80,2, -999.000,9, -999.000,9, -999.000,9, -999.000,9, -999.000,9,   1.8760,2,    21.71,2,   -195.9,2,      0.1,2,   -999.0,9,   -999.0,9,   -999.0,9,     7.48,2, -999.00,     3.1,-999.0000,-999.000,   25.00,  -999.0,  3.4208,-999.000
    31DSCG94_3,  P18N,   126,  2,    212,   1033,2,19940408,1809, -7.3118,-106.9435, 3175,   1401.7,   3.2325,  34.5844,2,  34.5845,2,     95.6,2,     95.2,2,   110.96,2,    39.45,2,     0.00,2,     2.76,2, -999.000,9, -999.000,9, -999.000,9, -999.000,9,    0.007,2,   1.8940,2,    23.56,2,   -999.0,9,      0.1,2,   -999.0,9,   -999.0,9,   -999.0,9,     7.49,2, -999.00,  -999.0,-999.0000,-999.000,   25.00,  -999.0,  3.1303,   0.003
    31DSCG94_3,  P18N,   126,  2,    211,   1240,2,19940408,1809, -7.3118,-106.9435, 3175,   1500.2,   2.9702,  34.5975,2,  34.5975,2,    102.1,2,     99.0,2,   117.47,2,    39.14,2,     0.00,2,     2.74,2, -999.000,9, -999.000,9, -999.000,9, -999.000,9, -999.000,9,   1.9080,2,    24.53,2,   -215.7,2,      0.0,2,   -999.0,9,   -999.0,9,   -999.0,9,     7.49,2, -999.00,     2.8,-999.0000,-999.000,   25.00,  -999.0,  2.8626,-999.000
    31DSCG94_3,  P18N,   126,  2,    210,   1005,2,19940408,1809, -7.3118,-106.9435, 3175,   1587.6,   2.7882,  34.6075,2,  34.6077,2,    108.9,2,    102.8,6,   121.81,2,    39.13,2,     0.00,2,     2.72,2,    0.004,2,    0.001,2, -999.000,9, -999.000,9, -999.000,9,   1.9010,2,    26.36,2,   -210.1,2,      0.0,2,   -999.0,9,   -999.0,9,   -999.0,9,     7.50,2, -999.00,     3.0,-999.0000,-999.000,   25.00,  -999.0,  2.6755,-999.000
    31DSCG94_3,  P18N,   126,  2,    209,   1611,2,19940408,1809, -7.3118,-106.9435, 3175,   1800.4,   2.4646,  34.6264,2,  34.6259,2,    123.6,2,    108.8,2,   130.48,2,    38.58,2,     0.00,2,     2.69,2, -999.000,9, -999.000,9, -999.000,9, -999.000,9, -999.000,9,   1.9120,2,    27.56,2,   -226.4,2,      0.0,2,   -999.0,9,   -999.0,9,   -999.0,9,     7.51,2, -999.00,     2.7,-999.0000,-999.000,   25.00,  -999.0,  2.3382,-999.000
    31DSCG94_3,  P18N,   126,  2,    208,   1218,2,19940408,1809, -7.3118,-106.9435, 3175,   2005.8,   2.2600,  34.6392,2,  34.6393,2,    126.5,2,    113.0,6,   137.72,2,    38.00,2,     0.00,2,     2.66,2, -999.000,9, -999.000,9, -999.000,9, -999.000,9, -999.000,9,   1.9290,2,    28.43,2,   -999.0,9,      0.0,6,   -999.0,9,   -999.0,9,   -999.0,9,     7.52,2, -999.00,  -999.0,-999.0000,-999.000,   25.00,  -999.0,  2.1190,-999.000
    31DSCG94_3,  P18N,   126,  2,    207,   1257,3,19940408,1809, -7.3118,-106.9435, 3175,   2200.1,   2.1101,  34.6497,2,-999.0000,5,    125.3,2,   -999.0,9,  -999.00,9,  -999.00,9,  -999.00,9,  -999.00,9, -999.000,9, -999.000,9, -999.000,9, -999.000,9, -999.000,9,-999.0000,9,  -999.00,9,   -999.0,9,   -999.0,9,   -999.0,9,   -999.0,9,   -999.0,9,  -999.00,9, -999.00,  -999.0,-999.0000,-999.000, -999.00,  -999.0,  1.9547,-999.000
    31DSCG94_3,  P18N,   126,  2,    206,   1224,2,19940408,1809, -7.3118,-106.9435, 3175,   2399.5,   1.9354,  34.6609,2,  34.6613,2,    129.8,2,   -999.0,9,   145.41,2,    37.33,2,     0.00,2,     2.59,2,    0.001,2,    0.003,2, -999.000,9, -999.000,9, -999.000,9,   1.9340,2,    30.94,2,   -225.3,2,      0.0,2,   -999.0,9,   -999.0,9,   -999.0,9,     7.54,2, -999.00,     2.7,-999.0000,-999.000,   25.00,  -999.0,  1.7653,-999.000
    31DSCG94_3,  P18N,   126,  2,    205,   1246,3,19940408,1809, -7.3118,-106.9435, 3175,   2606.3,   1.8627,  34.6656,2,-999.0000,5,    133.5,2,    124.9,2,  -999.00,9,  -999.00,9,  -999.00,9,  -999.00,9, -999.000,9, -999.000,9, -999.000,9, -999.000,9, -999.000,9,-999.0000,9,  -999.00,9,   -999.0,9,   -999.0,9,   -999.0,9,   -999.0,9,   -999.0,9,  -999.00,9, -999.00,  -999.0,-999.0000,-999.000, -999.00,  -999.0,  1.6752,-999.000
    31DSCG94_3,  P18N,   126,  2,    204,   1217,2,19940408,1809, -7.3118,-106.9435, 3175,   2800.5,   1.7976,  34.6722,2,  34.6723,2,    139.9,2,    135.5,2,   143.76,2,    36.45,2,     0.00,2,     2.50,2, -999.000,9, -999.000,9, -999.000,9, -999.000,9, -999.000,9,   1.9280,2,    29.72,2,   -219.9,2,      0.0,2,   -999.0,9,   -999.0,9,   -999.0,9,     7.57,2, -999.00,     2.9,-999.0000,-999.000,   25.00,  -999.0,  1.5933,-999.000
    31DSCG94_3,  P18N,   126,  2,    202,   1223,2,19940408,1809, -7.3118,-106.9435, 3175,   2999.7,   1.7604,  34.6743,2,  34.6735,2,    140.2,2,    135.4,2,   145.11,2,    37.26,2,     0.00,2,     2.52,2, -999.000,9, -999.000,9, -999.000,9, -999.000,9, -999.000,9,-999.0000,9,  -999.00,9,   -223.8,6,      0.0,6,   -999.0,9,   -999.0,9,   -999.0,9,     7.57,2, -999.00,     8.1,-999.0000,-999.000,   25.00,  -999.0,  1.5379,-999.000
    31DSCG94_3,  P18N,   126,  2,    203,   9999,2,19940408,1809, -7.3118,-106.9435, 3175,   2999.9,   1.7606,  34.6740,2,  34.6755,2,    140.2,2,    134.6,2,   147.04,2,    37.07,2,     0.00,2,     2.50,2,   -0.001,2,   -0.002,2, -999.000,9, -999.000,9, -999.000,9,   1.9230,2,    27.70,2,   -999.0,9,   -999.0,9,   -999.0,9,   -999.0,9,   -999.0,9,  -999.00,9, -999.00,  -999.0,-999.0000,-999.000, -999.00,  -999.0,  1.5380,-999.000
    31DSCG94_3,  P18N,   126,  2,    201,   1041,2,19940408,1809, -7.3118,-106.9435, 3175,   3189.9,   1.7724,  34.6743,2,  34.6739,2,    140.8,2,   -999.0,9,   146.32,6,    37.03,6,     0.00,6,     2.52,6, -999.000,9, -999.000,9, -999.000,9, -999.000,9, -999.000,9,   1.9090,2,    27.52,2,   -226.5,2,      0.1,2,   -999.0,9,   -999.0,9,   -999.0,9,  -999.00,9, -999.00,     2.7,-999.0000,-999.000, -999.00,  -999.0,  1.5309,-999.000