BOTTLE,20220630CCHSIOAMB
EXPOCODE,SECT_ID,STNNBR,CASTNO,SAMPNO,BTLNBR,BTLNBR_FLAG_W,DATE,TIME,LATITUDE,LONGITUDE,DEPTH,CTDPRS,CTDTMP,CTDSAL,CTDSAL_FLAG_W,SALNTY,SALNTY_FLAG_W,CTDOXY,CTDOXY_FLAG_W,OXYGEN,OXYGEN_FLAG_W,SILCAT,SILCAT_FLAG_W,NITRAT,NITRAT_FLAG_W,NITRIT,NITRIT_FLAG_W,PHSPHT,PHSPHT_FLAG_W,CFC-11,CFC-11_FLAG_W,CFC-12,CFC-12_FLAG_W,CFC113,CFC113_FLAG_W,CCL4,CCL4_FLAG_W,TRITUM,TRITUM_FLAG_W,HELIUM,HELIUM_FLAG_W,DELHE3,DELHE3_FLAG_W,DELC14,DELC14_FLAG_W,DELC13,DELC13_FLAG_W,TCARBN,TCARBN_FLAG_W,PCO2,PCO2_FLAG_W,ALKALI,ALKALI_FLAG_W,PH,PH_FLAG_W,PCO2TMP,C14ERR,HELIER,DELHER,PH_TMP,C13ERR,THETA,TRITER
,,,,,,,,,,,,DBAR,ITS-90,PSS-78,,PSS-78,,UMOL/KG,,UMOL/KG,,UMOL/KG,,UMOL/KG,,UMOL/KG,,UMOL/KG,,PMOL/KG,,PMOL/KG,,PMOL/KG,,PMOL/KG,,TU,,NMOL/KG,,PERCNT,,/MILLE,,/MILLE,,UMOL/KG,,UATM,,UMOL/KG,,,,DEG C,/MILLE,NMOL/KG,PERCNT,DEG C,/MILLE,DEG C,TU
    31DSCG94_2,  P18S,    80,  1,    136,   1025,2,19940321,1130,-29.4833,-103.0000, 3496,     10.9,  23.2206,  35.2384,2,  35.2385,2,    211.6,2,    214.6,2,     1.10,2,     0.20,2,     0.00,2,     0.04,2, -999.000,9, -999.000,9, -999.000,9, -999.000,9, -999.000,9,-999.0000,9,  -999.00,9,   -999.0,9,   -999.0,9,   2014.4,2,    330.4,2,   2307.0,2,     8.04,2,   20.00,  -999.0,-999.0000,-999.000,   25.00,  -999.0, 23.2184,-999.000
    31DSCG94_2,  P18S,    80,  1,    135,   1247,2,19940321,1130,-29.4833,-103.0000, 3496,     24.8,  23.2202,  35.2380,2,  35.2391,2,    220.3,2,    214.9,2,     0.98,2,     0.13,2,     0.00,2,     0.10,2, -999.000,9, -999.000,9, -999.000,9, -999.000,9, -999.000,9,-999.0000,9,  -999.00,9,   -999.0,9,   -999.0,9,   2012.0,2,    332.9,2,   2309.0,6,     8.04,2,   20.00,  -999.0,-999.0000,-999.000,   25.00,  -999.0, 23.2151,-999.000
    31DSCG94_2,  P18S,    80,  1,    134,   1108,2,19940321,1130,-29.4833,-103.0000, 3496,     46.5,  20.6597,  34.9725,2,  35.0036,3,    220.9,2,    236.9,2,     0.79,2,     0.11,2,     0.00,2,     0.08,2, -999.000,9, -999.000,9, -999.000,9, -999.000,9, -999.000,9,-999.0000,9,  -999.00,9,   -999.0,9,   -999.0,9,   2015.2,2,    347.9,2,   2293.0,2,     8.02,2,   20.00,  -999.0,-999.0000,-999.000,   25.00,  -999.0, 20.6510,-999.000
    31DSCG94_2,  P18S,    80,  1,    133,   1244,2,19940321,1130,-29.4833,-103.0000, 3496,     72.8,  18.5595,  34.8489,2,  34.8480,2,    242.7,2,    248.7,2,     0.85,2,     0.07,2,     0.00,2,     0.08,2, -999.000,9, -999.000,9, -999.000,9, -999.000,9, -999.000,9,-999.0000,9,  -999.00,9,   -999.0,9,   -999.0,9,   2010.7,2,    350.4,2,   2289.0,2,     8.02,2,   20.00,  -999.0,-999.0000,-999.000,   25.00,  -999.0, 18.5468,-999.000
    31DSCG94_2,  P18S,    80,  1,    132,   1003,2,19940321,1130,-29.4833,-103.0000, 3496,    101.3,  17.7985,  34.8895,2,  34.8929,2,    241.3,2,    246.9,2,     0.80,2,     0.10,2,     0.00,2,     0.07,2, -999.000,9, -999.000,9, -999.000,9, -999.000,9, -999.000,9,-999.0000,9,  -999.00,9,   -999.0,9,   -999.0,9,   2013.1,2,    351.9,2,   2293.0,2,     8.02,2,   20.00,  -999.0,-999.0000,-999.000,   25.00,  -999.0, 17.7813,-999.000
    31DSCG94_2,  P18S,    80,  1,    131,   1211,2,19940321,1130,-29.4833,-103.0000, 3496,    125.7,  16.8611,  34.7896,2,  34.7763,2,    241.4,2,    245.1,6,     0.89,2,     0.09,2,     0.00,2,     0.13,2, -999.000,9, -999.000,9, -999.000,9, -999.000,9, -999.000,9,-999.0000,9,  -999.00,9,   -999.0,9,   -999.0,9,   2015.9,2,    364.4,2,   2292.0,2,     8.00,2,   20.00,  -999.0,-999.0000,-999.000,   25.00,  -999.0, 16.8405,-999.000
    31DSCG94_2,  P18S,    80,  1,    130,   1241,2,19940321,1130,-29.4833,-103.0000, 3496,    149.7,  16.2178,  34.7426,2,  34.7579,2,    240.4,2,    236.7,2,     0.73,2,     0.15,2,     0.00,2,     0.17,2, -999.000,9, -999.000,9, -999.000,9, -999.000,9, -999.000,9,-999.0000,9,  -999.00,9,   -999.0,9,   -999.0,9,   2024.0,2,    384.6,2,   2287.0,2,     7.99,2,   20.00,  -999.0,-999.0000,-999.000,   25.00,  -999.0, 16.1940,-999.000
    31DSCG94_2,  P18S,    80,  1,    129,   1031,2,19940321,1130,-29.4833,-103.0000, 3496,    198.4,  14.7837,  34.7687,2,  34.7729,2,    223.2,2,    214.3,2,     0.63,2,     4.04,2,     0.05,2,     0.41,2, -999.000,9, -999.000,9, -999.000,9, -999.000,9, -999.000,9,-999.0000,9,  -999.00,9,   -999.0,9,   -999.0,9,   2058.9,2,    457.4,2,   2285.0,2,     7.92,2,   20.00,  -999.0,-999.0000,-999.000,   25.00,  -999.0, 14.7540,-999.000
    31DSCG94_2,  P18S,    80,  1,    128,   1210,2,19940321,1130,-29.4833,-103.0000, 3496,    249.5,  13.2217,  34.6668,2,  34.6708,2,    211.8,2,    208.6,2,     1.13,2,     7.48,2,     0.00,2,     0.62,2, -999.000,9, -999.000,9, -999.000,9, -999.000,9, -999.000,9,-999.0000,9,  -999.00,9,   -999.0,9,   -999.0,9,   2078.9,2,    526.4,2,   -999.0,5,     7.88,2,   20.00,  -999.0,-999.0000,-999.000,   25.00,  -999.0, 13.1871,-999.000
    31DSCG94_2,  P18S,    80,  1,    127,   1008,2,19940321,1130,-29.4833,-103.0000, 3496,    304.4,  10.7742,  34.4737,2,  34.4805,2,    213.8,2,    212.4,2,     2.44,2,    12.87,2,     0.00,2,     0.94,2, -999.000,9, -999.000,9, -999.000,9, -999.000,9, -999.000,9,-999.0000,9,  -999.00,9,   -999.0,9,   -999.0,9,   2099.9,2,    605.6,2,   2275.0,2,     7.82,2,   20.00,  -999.0,-999.0000,-999.000,   25.00,  -999.0, 10.7372,-999.000
    31DSCG94_2,  P18S,    80,  1,    126,   1007,2,19940321,1130,-29.4833,-103.0000, 3496,    347.8,   9.1815,  34.3803,2,  34.3799,2,    209.3,2,    210.5,2,     3.80,2,    17.56,2,     0.00,2,     1.24,2, -999.000,9, -999.000,9, -999.000,9, -999.000,9, -999.000,9,-999.0000,9,  -999.00,9,   -999.0,9,   -999.0,9,   2119.2,2,    706.7,2,   2272.0,2,     7.76,2,   20.00,  -999.0,-999.0000,-999.000,   25.00,  -999.0,  9.1432,-999.000
    31DSCG94_2,  P18S,    80,  1,    125,   1203,2,19940321,1130,-29.4833,-103.0000, 3496,    398.6,   7.5825,  34.3293,2,  34.3307,2,    210.1,2,    203.8,2,     7.70,2,    22.92,2,     0.00,2,     1.68,2, -999.000,9, -999.000,9, -999.000,9, -999.000,9, -999.000,9,-999.0000,9,  -999.00,9,   -999.0,9,   -999.0,9,   2146.0,3,    816.1,2,   2274.0,2,     7.70,2,   20.00,  -999.0,-999.0000,-999.000,   25.00,  -999.0,  7.5433,-999.000
    31DSCG94_2,  P18S,    80,  1,    123,   1101,3,19940321,1130,-29.4833,-103.0000, 3496,    496.8,   6.5400,  34.3292,2,  34.3299,2,    236.7,2,    218.3,2,     9.81,2,    24.67,2,     0.00,2,     1.77,2, -999.000,9, -999.000,9, -999.000,9, -999.000,9, -999.000,9,-999.0000,9,  -999.00,9,   -999.0,9,   -999.0,9,   2150.2,3,   -999.0,9,   2277.0,2,  -999.00,9, -999.00,  -999.0,-999.0000,-999.000, -999.00,  -999.0,  6.4947,-999.000
    31DSCG94_2,  P18S,    80,  1,    121,   1206,2,19940321,1130,-29.4833,-103.0000, 3496,    597.3,   5.9432,  34.3017,2,  34.3024,2,    242.2,2,    247.3,2,     9.41,2,    23.68,2,     0.00,2,     1.65,2, -999.000,9, -999.000,9, -999.000,9, -999.000,9, -999.000,9,-999.0000,9,  -999.00,9,   -999.0,9,   -999.0,9,   2136.6,2,    759.2,3,   2277.0,2,     7.73,2,   20.00,  -999.0,-999.0000,-999.000,   25.00,  -999.0,  5.8910,-999.000
    31DSCG94_2,  P18S,    80,  1,    119,   1248,2,19940321,1130,-29.4833,-103.0000, 3496,    703.2,   5.3741,  34.2706,2,  34.2709,2,    239.5,2,    243.2,2,    12.42,2,    25.31,2,     0.00,2,     1.75,2, -999.000,9, -999.000,9, -999.000,9, -999.000,9, -999.000,9,-999.0000,9,  -999.00,9,   -999.0,9,   -999.0,9,   2145.4,2,    793.6,2,   2286.0,2,     7.71,2,   20.00,  -999.0,-999.0000,-999.000,   25.00,  -999.0,  5.3153,-999.000
    31DSCG94_2,  P18S,    80,  1,    118,   1207,2,19940321,1130,-29.4833,-103.0000, 3496,    799.0,   4.8789,  34.2654,2,  34.2652,2,    222.8,2,    226.1,2,    18.19,2,    27.73,2,     0.00,2,     1.92,2, -999.000,9, -999.000,9, -999.000,9, -999.000,9, -999.000,9,-999.0000,9,  -999.00,9,   -999.0,9,   -999.0,9,   2163.3,2,    872.8,3,   2284.0,2,     7.68,2,   20.00,  -999.0,-999.0000,-999.000,   25.00,  -999.0,  4.8146,-999.000
    31DSCG94_2,  P18S,    80,  1,    117,   1119,2,19940321,1130,-29.4833,-103.0000, 3496,    900.5,   4.3748,  34.2952,2,  34.2942,2,    198.1,2,    198.8,2,    28.75,2,    31.13,2,     0.00,2,     2.17,2, -999.000,9, -999.000,9, -999.000,9, -999.000,9, -999.000,9,-999.0000,9,  -999.00,9,   -999.0,9,   -999.0,9,   2190.4,2,    989.0,2,   2294.0,2,     7.63,2,   20.00,  -999.0,-999.0000,-999.000,   25.00,  -999.0,  4.3050,-999.000
    31DSCG94_2,  P18S,    80,  1,    116,   1036,2,19940321,1130,-29.4833,-103.0000, 3496,    997.3,   4.0058,  34.3516,2,  34.3514,2,    174.5,2,   -999.0,9,    42.45,2,    34.33,2,     0.00,2,     2.42,2, -999.000,9, -999.000,9, -999.000,9, -999.000,9, -999.000,9,-999.0000,9,  -999.00,9,   -999.0,9,   -999.0,9,   2222.9,2,   1151.0,3,   2304.0,6,     7.57,2,   20.00,  -999.0,-999.0000,-999.000,   25.00,  -999.0,  3.9306,-999.000
    31DSCG94_2,  P18S,    80,  1,    115,   1017,2,19940321,1130,-29.4833,-103.0000, 3496,   1098.2,   3.7732,  34.4175,2,  34.4161,2,    145.6,2,    138.2,2,    57.74,2,    36.49,2,     0.00,2,     2.56,2, -999.000,9, -999.000,9, -999.000,9, -999.000,9, -999.000,9,-999.0000,9,  -999.00,9,   -999.0,9,   -999.0,9,   -999.0,9,   -999.0,9,   -999.0,9,  -999.00,9, -999.00,  -999.0,-999.0000,-999.000, -999.00,  -999.0,  3.6914,-999.000
    31DSCG94_2,  P18S,    80,  1,    114,   1016,2,19940321,1130,-29.4833,-103.0000, 3496,   1198.0,   3.5871,  34.4745,2,  34.4735,2,    126.2,2,    123.9,2,    70.93,2,    37.25,2,     0.00,2,     2.64,2, -999.000,9, -999.000,9, -999.000,9, -999.000,9, -999.000,9,-999.0000,9,  -999.00,9,   -999.0,9,   -999.0,9,   -999.0,9,   -999.0,9,   -999.0,9,     7.51,2, -999.00,  -999.0,-999.0000,-999.000,   25.00,  -999.0,  3.4986,-999.000
    31DSCG94_2,  P18S,    80,  1,    113,   1209,2,19940321,1130,-29.4833,-103.0000, 3496,   1302.1,   3.3331,  34.5093,2,  34.5083,2,    125.7,2,    125.8,2,    78.39,2,    37.32,2,     0.00,2,     2.64,2, -999.000,9, -999.000,9, -999.000,9, -999.000,9, -999.000,9,-999.0000,9,  -999.00,9,   -999.0,9,   -999.0,9,   -999.0,9,   -999.0,9,   -999.0,9,  -999.00,9, -999.00,  -999.0,-999.0000,-999.000, -999.00,  -999.0,  3.2383,-999.000
    31DSCG94_2,  P18S,    80,  1,    112,   1033,2,19940321,1130,-29.4833,-103.0000, 3496,   1404.2,   3.0781,  34.5312,2,  34.5295,2,    131.8,2,    132.1,2,    82.88,2,    36.90,2,     0.00,2,     2.62,2, -999.000,9, -999.000,9, -999.000,9, -999.000,9, -999.000,9,-999.0000,9,  -999.00,9,   -999.0,9,   -999.0,9,   -999.0,9,   -999.0,9,   -999.0,9,     7.53,2, -999.00,  -999.0,-999.0000,-999.000,   25.00,  -999.0,  2.9774,-999.000
    31DSCG94_2,  P18S,    80,  1,    111,   1263,2,19940321,1130,-29.4833,-103.0000, 3496,   1504.7,   2.8177,  34.5499,2,  34.5481,2,    140.5,2,    141.2,2,    86.77,2,    36.42,2,     0.00,2,     2.57,2, -999.000,9, -999.000,9, -999.000,9, -999.000,9, -999.000,9,-999.0000,9,  -999.00,9,   -999.0,9,   -999.0,9,   -999.0,9,   -999.0,9,   -999.0,9,     7.54,2, -999.00,  -999.0,-999.0000,-999.000,   25.00,  -999.0,  2.7116,-999.000
    31DSCG94_2,  P18S,    80,  1,    110,   1005,2,19940321,1130,-29.4833,-103.0000, 3496,   1598.0,   2.5917,  34.5718,2,  34.5703,2,    146.8,2,    148.4,2,    91.93,2,    35.57,2,     0.00,2,     2.50,2, -999.000,9, -999.000,9, -999.000,9, -999.000,9, -999.000,9,-999.0000,9,  -999.00,9,   -999.0,9,   -999.0,9,   -999.0,9,   -999.0,9,   -999.0,9,     7.56,2, -999.00,  -999.0,-999.0000,-999.000,   25.00,  -999.0,  2.4806,-999.000
    31DSCG94_2,  P18S,    80,  1,    109,   1611,2,19940321,1130,-29.4833,-103.0000, 3496,   1797.7,   2.2649,  34.6139,2,  34.6120,2,    153.5,2,    155.6,2,   101.71,2,    34.73,2,     0.00,2,     2.43,2, -999.000,9, -999.000,9, -999.000,9, -999.000,9, -999.000,9,-999.0000,9,  -999.00,9,   -999.0,9,   -999.0,9,   -999.0,9,   -999.0,9,   -999.0,9,     7.57,2, -999.00,  -999.0,-999.0000,-999.000,   25.00,  -999.0,  2.1415,-999.000
    31DSCG94_2,  P18S,    80,  1,    108,   1218,2,19940321,1130,-29.4833,-103.0000, 3496,   1996.8,   2.0344,  34.6429,2,  34.6407,2,    155.6,2,    157.3,2,   110.68,2,    34.55,2,     0.00,2,     2.41,2, -999.000,9, -999.000,9, -999.000,9, -999.000,9, -999.000,9,-999.0000,9,  -999.00,9,   -999.0,9,   -999.0,9,   -999.0,9,   -999.0,9,   -999.0,9,     7.58,2, -999.00,  -999.0,-999.0000,-999.000,   25.00,  -999.0,  1.8977,-999.000
    31DSCG94_2,  P18S,    80,  1,    107,   1257,2,19940321,1130,-29.4833,-103.0000, 3496,   2247.5,   1.8830,  34.6589,2,  34.6581,2,    157.2,2,    158.6,2,   116.93,2,    34.53,2,     0.00,2,     2.44,2, -999.000,9, -999.000,9, -999.000,9, -999.000,9, -999.000,9,-999.0000,9,  -999.00,9,   -999.0,9,   -999.0,9,   -999.0,9,   -999.0,9,   -999.0,9,  -999.00,9, -999.00,  -999.0,-999.0000,-999.000, -999.00,  -999.0,  1.7273,-999.000
    31DSCG94_2,  P18S,    80,  1,    106,   1224,2,19940321,1130,-29.4833,-103.0000, 3496,   2505.5,   1.8370,  34.6660,2,  34.6641,2,    159.1,2,    159.5,2,   118.26,2,    34.73,2,     0.00,2,     2.44,2, -999.000,9, -999.000,9, -999.000,9, -999.000,9, -999.000,9,-999.0000,9,  -999.00,9,   -999.0,9,   -999.0,9,   -999.0,9,   -999.0,9,   -999.0,9,  -999.00,9, -999.00,  -999.0,-999.0000,-999.000, -999.00,  -999.0,  1.6591,-999.000
    31DSCG94_2,  P18S,    80,  1,    105,   1246,2,19940321,1130,-29.4833,-103.0000, 3496,   2749.4,   1.8293,  34.6713,2,  34.6695,2,    161.7,2,    161.3,6,   118.88,2,    34.77,2,     0.00,2,     2.43,2, -999.000,9, -999.000,9, -999.000,9, -999.000,9, -999.000,9,-999.0000,9,  -999.00,9,   -999.0,9,   -999.0,9,   -999.0,9,   -999.0,9,   -999.0,9,  -999.00,9, -999.00,  -999.0,-999.0000,-999.000, -999.00,  -999.0,  1.6291,-999.000
    31DSCG94_2,  P18S,    80,  1,    104,   1217,2,19940321,1130,-29.4833,-103.0000, 3496,   2998.0,   1.8263,  34.6772,2,  34.6749,2,    164.4,2,    163.1,2,   119.48,2,    34.18,2,     0.00,2,     2.39,2, -999.000,9, -999.000,9, -999.000,9, -999.000,9, -999.000,9,-999.0000,9,  -999.00,9,   -999.0,9,   -999.0,9,   -999.0,9,   -999.0,9,   -999.0,9,  -999.00,9, -999.00,  -999.0,-999.0000,-999.000, -999.00,  -999.0,  1.6024,-999.000
    31DSCG94_2,  P18S,    80,  1,    102,   1223,2,19940321,1130,-29.4833,-103.0000, 3496,   3247.5,   1.8292,  34.6814,2,  34.6798,2,    166.0,2,    164.5,2,   118.53,2,    34.25,2,     0.00,2,     2.39,2, -999.000,9, -999.000,9, -999.000,9, -999.000,9, -999.000,9,-999.0000,9,  -999.00,9,   -999.0,9,   -999.0,9,   -999.0,9,   -999.0,9,   -999.0,9,  -999.00,9, -999.00,  -999.0,-999.0000,-999.000, -999.00,  -999.0,  1.5806,-999.000
    31DSCG94_2,  P18S,    80,  1,    103,   9999,2,19940321,1130,-29.4833,-103.0000, 3496,   3248.7,   1.8295,  34.6815,2,  34.6807,2,    166.0,2,    163.8,2,   119.58,2,    34.04,2,     0.00,2,     2.37,2, -999.000,9, -999.000,9, -999.000,9, -999.000,9, -999.000,9,-999.0000,9,  -999.00,9,   -999.0,9,   -999.0,9,   -999.0,9,   -999.0,9,   -999.0,9,  -999.00,9, -999.00,  -999.0,-999.0000,-999.000, -999.00,  -999.0,  1.5807,-999.000
    31DSCG94_2,  P18S,    80,  1,    101,   1041,2,19940321,1130,-29.4833,-103.0000, 3496,   3488.9,   1.8412,  34.6835,2,  34.6824,2,    166.6,2,    165.2,6,   117.04,2,    34.27,2,     0.00,2,     2.40,2, -999.000,9, -999.000,9, -999.000,9, -999.000,9, -999.000,9,-999.0000,9,  -999.00,9,   -999.0,9,   -999.0,9,   -999.0,9,   -999.0,9,   -999.0,9,  -999.00,9, -999.00,  -999.0,-999.0000,-999.000, -999.00,  -999.0,  1.5675,-999.000