BOTTLE,20220630CCHSIOAMB
EXPOCODE,SECT_ID,STNNBR,CASTNO,SAMPNO,BTLNBR,BTLNBR_FLAG_W,DATE,TIME,LATITUDE,LONGITUDE,DEPTH,CTDPRS,CTDTMP,CTDSAL,CTDSAL_FLAG_W,SALNTY,SALNTY_FLAG_W,CTDOXY,CTDOXY_FLAG_W,OXYGEN,OXYGEN_FLAG_W,SILCAT,SILCAT_FLAG_W,NITRAT,NITRAT_FLAG_W,NITRIT,NITRIT_FLAG_W,PHSPHT,PHSPHT_FLAG_W,CFC-11,CFC-11_FLAG_W,CFC-12,CFC-12_FLAG_W,CFC113,CFC113_FLAG_W,CCL4,CCL4_FLAG_W,TRITUM,TRITUM_FLAG_W,HELIUM,HELIUM_FLAG_W,DELHE3,DELHE3_FLAG_W,DELC14,DELC14_FLAG_W,DELC13,DELC13_FLAG_W,TCARBN,TCARBN_FLAG_W,PCO2,PCO2_FLAG_W,ALKALI,ALKALI_FLAG_W,PH,PH_FLAG_W,PCO2TMP,C14ERR,HELIER,DELHER,PH_TMP,C13ERR,THETA,TRITER
,,,,,,,,,,,,DBAR,ITS-90,PSS-78,,PSS-78,,UMOL/KG,,UMOL/KG,,UMOL/KG,,UMOL/KG,,UMOL/KG,,UMOL/KG,,PMOL/KG,,PMOL/KG,,PMOL/KG,,PMOL/KG,,TU,,NMOL/KG,,PERCNT,,/MILLE,,/MILLE,,UMOL/KG,,UATM,,UMOL/KG,,,,DEG C,/MILLE,NMOL/KG,PERCNT,DEG C,/MILLE,DEG C,TU
    31DSCG94_3,  P18N,   177,  1,    136,   1025,2,19940422,0400, 15.4975,-109.9947, 3789,      8.9,  27.5995,  33.9493,2,  33.9532,2,    210.9,2,    202.7,2,     0.00,2,     0.04,2,     0.01,2,     0.11,2, -999.000,9, -999.000,9, -999.000,9, -999.000,9, -999.000,9,-999.0000,9,  -999.00,9,   -999.0,9,   -999.0,9,   1904.3,2,    258.6,2,   2243.0,6,     8.12,2,   20.00,  -999.0,-999.0000,-999.000,   25.00,  -999.0, 27.5974,-999.000
    31DSCG94_3,  P18N,   177,  1,    135,   1247,2,19940422,0400, 15.4975,-109.9947, 3789,     25.2,  27.4161,  33.9176,2,  33.9205,2,    201.0,2,    203.1,2,     0.00,2,     0.00,2,     0.04,2,     0.11,2, -999.000,9, -999.000,9, -999.000,9, -999.000,9, -999.000,9,-999.0000,9,  -999.00,9,   -999.0,9,   -999.0,9,   -999.0,9,   -999.0,9,   -999.0,9,     8.12,2, -999.00,  -999.0,-999.0000,-999.000,   25.00,  -999.0, 27.4103,-999.000
    31DSCG94_3,  P18N,   177,  1,    134,   1216,2,19940422,0400, 15.4975,-109.9947, 3789,     49.5,  26.6190,  34.0308,2,  34.0431,2,    204.3,2,    208.2,2,     0.00,2,     0.01,2,     0.00,2,     0.09,2, -999.000,9, -999.000,9, -999.000,9, -999.000,9, -999.000,9,-999.0000,9,  -999.00,9,   -999.0,9,   -999.0,9,   1915.6,3,    262.3,2,   2243.0,2,     8.12,2,   20.00,  -999.0,-999.0000,-999.000,   25.00,  -999.0, 26.6078,-999.000
    31DSCG94_3,  P18N,   177,  1,    133,   1244,2,19940422,0400, 15.4975,-109.9947, 3789,     74.1,  24.0341,  34.2869,2,  34.3114,2,    171.3,2,    189.8,2,     0.75,2,     0.69,2,     0.05,2,     0.33,2, -999.000,9, -999.000,9, -999.000,9, -999.000,9, -999.000,9,-999.0000,9,  -999.00,9,   -999.0,9,   -999.0,9,   -999.0,9,   -999.0,9,   -999.0,9,     8.02,2, -999.00,  -999.0,-999.0000,-999.000,   25.00,  -999.0, 24.0186,-999.000
    31DSCG94_3,  P18N,   177,  1,    132,   1003,3,19940422,0400, 15.4975,-109.9947, 3789,    100.3,  17.6231,  34.3248,2,  34.3239,2,    136.5,2,     96.2,2,     9.19,2,    14.52,2,     0.19,2,     1.38,2, -999.000,9, -999.000,9, -999.000,9, -999.000,9, -999.000,9,-999.0000,9,  -999.00,9,   -999.0,9,   -999.0,9,   -999.0,9,   -999.0,9,   -999.0,9,  -999.00,9, -999.00,  -999.0,-999.0000,-999.000, -999.00,  -999.0, 17.6062,-999.000
    31DSCG94_3,  P18N,   177,  1,    131,   1211,2,19940422,0400, 15.4975,-109.9947, 3789,    125.7,  15.4743,  34.4452,2,  34.4429,2,     63.0,2,     49.4,2,    16.41,2,    22.05,2,     0.02,2,     1.95,2, -999.000,9, -999.000,9, -999.000,9, -999.000,9, -999.000,9,-999.0000,9,  -999.00,9,   -999.0,9,   -999.0,9,   2187.7,2,   -999.0,9,   2270.0,2,     7.58,2, -999.00,  -999.0,-999.0000,-999.000,   25.00,  -999.0, 15.4550,-999.000
    31DSCG94_3,  P18N,   177,  1,    130,   1241,2,19940422,0400, 15.4975,-109.9947, 3789,    148.5,  13.7411,  34.6628,2,  34.6667,2,     23.5,2,      7.5,2,    24.13,2,    26.79,2,     0.00,2,     2.40,2, -999.000,9, -999.000,9, -999.000,9, -999.000,9, -999.000,9,-999.0000,9,  -999.00,9,   -999.0,9,   -999.0,9,   2238.1,2,   1446.1,2,   2298.0,2,     7.47,2,   20.00,  -999.0,-999.0000,-999.000,   25.00,  -999.0, 13.7200,-999.000
    31DSCG94_3,  P18N,   177,  1,    129,   1240,2,19940422,0400, 15.4975,-109.9947, 3789,    174.5,  12.9053,  34.7624,2,  34.7646,2,     16.1,2,      1.4,2,    26.63,6,    25.30,6,     2.79,6,     2.48,6, -999.000,9, -999.000,9, -999.000,9, -999.000,9, -999.000,9,-999.0000,9,  -999.00,9,   -999.0,9,   -999.0,9,   -999.0,9,   -999.0,9,   -999.0,9,     7.46,2, -999.00,  -999.0,-999.0000,-999.000,   25.00,  -999.0, 12.8815,-999.000
    31DSCG94_3,  P18N,   177,  1,    128,   1114,2,19940422,0400, 15.4975,-109.9947, 3789,    200.2,  12.0641,  34.7529,2,  34.7538,2,     14.2,2,      0.7,2,    28.30,2,    27.08,2,     2.38,2,     2.50,2, -999.000,9, -999.000,9, -999.000,9, -999.000,9, -999.000,9,-999.0000,9,  -999.00,9,   -999.0,9,   -999.0,9,   2255.2,2,   1543.6,2,   2298.0,2,     7.44,2,   20.00,  -999.0,-999.0000,-999.000,   25.00,  -999.0, 12.0380,-999.000
    31DSCG94_3,  P18N,   177,  1,    127,   1008,2,19940422,0400, 15.4975,-109.9947, 3789,    249.5,  11.2893,  34.7264,2,  34.7258,2,      7.7,2,      0.8,2,    31.94,2,    26.39,2,     2.13,2,     2.58,2, -999.000,9, -999.000,9, -999.000,9, -999.000,9, -999.000,9,-999.0000,9,  -999.00,9,   -999.0,9,   -999.0,9,   2266.2,2,   1668.3,2,   2297.0,2,     7.42,2,   20.00,  -999.0,-999.0000,-999.000,   25.00,  -999.0, 11.2580,-999.000
    31DSCG94_3,  P18N,   177,  1,    126,   1007,2,19940422,0400, 15.4975,-109.9947, 3789,    299.4,  10.7078,  34.6962,2,  34.6964,2,      5.7,2,      0.9,2,    35.68,2,    24.64,2,     2.53,2,     2.64,2, -999.000,9, -999.000,9, -999.000,9, -999.000,9, -999.000,9,-999.0000,9,  -999.00,9,   -999.0,9,   -999.0,9,   2276.2,2,   1752.0,2,   2311.0,2,     7.40,2,   20.00,  -999.0,-999.0000,-999.000,   25.00,  -999.0, 10.6715,-999.000
    31DSCG94_3,  P18N,   177,  1,    125,   1256,2,19940422,0400, 15.4975,-109.9947, 3789,    349.3,  10.0956,  34.6593,2,  34.6580,2,      4.8,2,      0.8,2,    39.39,2,    26.41,2,     1.18,2,     2.76,2, -999.000,9, -999.000,9, -999.000,9, -999.000,9, -999.000,9,-999.0000,9,  -999.00,9,   -999.0,9,   -999.0,9,   -999.0,9,   -999.0,9,   -999.0,9,     7.39,2, -999.00,  -999.0,-999.0000,-999.000,   25.00,  -999.0, 10.0547,-999.000
    31DSCG94_3,  P18N,   177,  1,    123,   1220,2,19940422,0400, 15.4975,-109.9947, 3789,    399.7,   9.5545,  34.6292,2,  34.6276,2,      2.8,2,      1.4,2,    43.15,2,    28.38,2,     0.46,2,     2.77,2, -999.000,9, -999.000,9, -999.000,9, -999.000,9, -999.000,9,-999.0000,9,  -999.00,9,   -999.0,9,   -999.0,9,   2288.6,2,   1826.1,2,   2309.0,2,     7.38,2,   20.00,  -999.0,-999.0000,-999.000,   25.00,  -999.0,  9.5092,-999.000
    31DSCG94_3,  P18N,   177,  1,    122,   1245,2,19940422,0400, 15.4975,-109.9947, 3789,    498.5,   8.1446,  34.5695,2,  34.5699,2,      1.8,2,      0.5,2,    55.18,2,    33.32,2,     0.00,2,     2.97,2, -999.000,9, -999.000,9, -999.000,9, -999.000,9, -999.000,9,-999.0000,9,  -999.00,9,   -999.0,9,   -999.0,9,   2304.3,2,   1952.2,2,   2323.0,2,     7.36,2,   20.00,  -999.0,-999.0000,-999.000,   25.00,  -999.0,  8.0930,-999.000
    31DSCG94_3,  P18N,   177,  1,    121,   1206,2,19940422,0400, 15.4975,-109.9947, 3789,    599.3,   7.1119,  34.5423,2,  34.5418,2,      1.4,2,      1.1,2,    66.23,2,    37.29,2,     0.00,2,     3.11,2, -999.000,9, -999.000,9, -999.000,9, -999.000,9, -999.000,9,-999.0000,9,  -999.00,9,   -999.0,9,   -999.0,9,   2318.6,2,   2014.9,2,   2338.0,2,     7.35,2,   20.00,  -999.0,-999.0000,-999.000,   25.00,  -999.0,  7.0540,-999.000
    31DSCG94_3,  P18N,   177,  1,    120,   1028,2,19940422,0400, 15.4975,-109.9947, 3789,    700.3,   6.3438,  34.5366,2,  34.5367,2,      1.1,2,      1.0,2,    75.52,2,    39.99,2,     0.00,2,     3.19,2, -999.000,9, -999.000,9, -999.000,9, -999.000,9, -999.000,9,-999.0000,9,  -999.00,9,   -999.0,9,   -999.0,9,   2332.3,2,   2084.8,2,   2338.0,2,     7.34,2,   20.00,  -999.0,-999.0000,-999.000,   25.00,  -999.0,  6.2797,-999.000
    31DSCG94_3,  P18N,   177,  1,    119,   1248,2,19940422,0400, 15.4975,-109.9947, 3789,    799.9,   5.5855,  34.5337,2,  34.5348,2,      1.5,2,      2.0,2,    83.92,2,    42.88,2,     0.00,2,     3.24,2, -999.000,9, -999.000,9, -999.000,9, -999.000,9, -999.000,9,-999.0000,9,  -999.00,9,   -999.0,9,   -999.0,9,   2342.3,2,   2129.5,2,   2353.0,2,     7.33,2,   20.00,  -999.0,-999.0000,-999.000,   25.00,  -999.0,  5.5164,-999.000
    31DSCG94_3,  P18N,   177,  1,    118,   1115,2,19940422,0400, 15.4975,-109.9947, 3789,    898.2,   4.9639,  34.5393,2,  34.5396,2,      4.0,2,      5.6,2,    93.04,2,    44.38,2,     0.00,2,     3.29,2, -999.000,9, -999.000,9, -999.000,9, -999.000,9, -999.000,9,-999.0000,9,  -999.00,9,   -999.0,9,   -999.0,9,   2352.2,2,   2147.3,2,   2361.0,6,     7.33,2,   20.00,  -999.0,-999.0000,-999.000,   25.00,  -999.0,  4.8899,-999.000
    31DSCG94_3,  P18N,   177,  1,    117,   1119,3,19940422,0400, 15.4975,-109.9947, 3789,   1000.3,   4.5404,  34.5492,2,  34.5481,2,      9.1,2,     11.3,2,   100.09,6,    44.79,6,     0.01,6,     3.31,6, -999.000,9, -999.000,9, -999.000,9, -999.000,9, -999.000,9,-999.0000,9,  -999.00,9,   -999.0,9,   -999.0,9,   -999.0,9,   -999.0,9,   -999.0,9,  -999.00,9, -999.00,  -999.0,-999.0000,-999.000, -999.00,  -999.0,  4.4605,-999.000
    31DSCG94_3,  P18N,   177,  1,    116,   1036,2,19940422,0400, 15.4975,-109.9947, 3789,   1100.0,   4.2098,  34.5588,2,  34.5582,2,     14.7,2,     16.5,2,   105.82,2,    44.87,2,     0.00,2,     3.27,2, -999.000,9, -999.000,9, -999.000,9, -999.000,9, -999.000,9,-999.0000,9,  -999.00,9,   -999.0,9,   -999.0,9,   2364.6,2,   -999.0,9,   2370.0,2,  -999.00,9, -999.00,  -999.0,-999.0000,-999.000, -999.00,  -999.0,  4.1239,-999.000
    31DSCG94_3,  P18N,   177,  1,    115,   1017,2,19940422,0400, 15.4975,-109.9947, 3789,   1198.2,   3.8626,  34.5688,2,  34.5697,2,     19.8,2,     23.5,6,   112.97,2,    44.61,2,     0.01,2,     3.25,2, -999.000,9, -999.000,9, -999.000,9, -999.000,9, -999.000,9,-999.0000,9,  -999.00,9,   -999.0,9,   -999.0,9,   -999.0,9,   -999.0,9,   -999.0,9,     7.35,2, -999.00,  -999.0,-999.0000,-999.000,   25.00,  -999.0,  3.7713,-999.000
    31DSCG94_3,  P18N,   177,  1,    114,   1016,2,19940422,0400, 15.4975,-109.9947, 3789,   1299.4,   3.5300,  34.5786,2,  34.5789,2,     30.5,2,     34.7,2,   119.55,2,    44.12,2,     0.01,2,     3.16,2, -999.000,9, -999.000,9, -999.000,9, -999.000,9, -999.000,9,-999.0000,9,  -999.00,9,   -999.0,9,   -999.0,9,   -999.0,9,   -999.0,9,   -999.0,9,  -999.00,9, -999.00,  -999.0,-999.0000,-999.000, -999.00,  -999.0,  3.4332,-999.000
    31DSCG94_3,  P18N,   177,  1,    113,   1209,2,19940422,0400, 15.4975,-109.9947, 3789,   1397.5,   3.3111,  34.5886,2,  34.5887,2,     36.9,2,     40.8,2,   124.96,2,    43.84,2,     0.00,2,     3.10,2, -999.000,9, -999.000,9, -999.000,9, -999.000,9, -999.000,9,-999.0000,9,  -999.00,9,   -999.0,9,   -999.0,9,   -999.0,9,   -999.0,9,   -999.0,9,     7.39,2, -999.00,  -999.0,-999.0000,-999.000,   25.00,  -999.0,  3.2084,-999.000
    31DSCG94_3,  P18N,   177,  1,    112,   1033,2,19940422,0400, 15.4975,-109.9947, 3789,   1498.1,   3.1370,  34.5971,2,  34.5974,2,     44.9,2,     46.7,2,   127.89,2,    43.32,2,     0.01,2,     3.10,2, -999.000,9, -999.000,9, -999.000,9, -999.000,9, -999.000,9,-999.0000,9,  -999.00,9,   -999.0,9,   -999.0,9,   -999.0,9,   -999.0,9,   -999.0,9,  -999.00,9, -999.00,  -999.0,-999.0000,-999.000, -999.00,  -999.0,  3.0277,-999.000
    31DSCG94_3,  P18N,   177,  1,    111,   1240,2,19940422,0400, 15.4975,-109.9947, 3789,   1597.8,   2.8877,  34.6085,2,  34.6091,2,     53.1,2,     55.8,2,   131.82,2,    42.55,2,     0.00,2,     3.04,2, -999.000,9, -999.000,9, -999.000,9, -999.000,9, -999.000,9,-999.0000,9,  -999.00,9,   -999.0,9,   -999.0,9,   -999.0,9,   -999.0,9,   -999.0,9,     7.41,2, -999.00,  -999.0,-999.0000,-999.000,   25.00,  -999.0,  2.7729,-999.000
    31DSCG94_3,  P18N,   177,  1,    110,   1005,2,19940422,0400, 15.4975,-109.9947, 3789,   1799.2,   2.5460,  34.6242,2,  34.6242,2,     71.1,2,     70.2,2,   139.17,2,    41.71,2,     0.01,2,     2.95,2, -999.000,9, -999.000,9, -999.000,9, -999.000,9, -999.000,9,-999.0000,9,  -999.00,9,   -999.0,9,   -999.0,9,   -999.0,9,   -999.0,9,   -999.0,9,  -999.00,9, -999.00,  -999.0,-999.0000,-999.000, -999.00,  -999.0,  2.4186,-999.000
    31DSCG94_3,  P18N,   177,  1,    109,   1611,2,19940422,0400, 15.4975,-109.9947, 3789,   1999.4,   2.2349,  34.6398,2,  34.6411,2,     87.4,2,     84.9,2,   147.51,2,    40.74,2,     0.00,2,     2.84,2, -999.000,9, -999.000,9, -999.000,9, -999.000,9, -999.000,9,-999.0000,9,  -999.00,9,   -999.0,9,   -999.0,9,   -999.0,9,   -999.0,9,   -999.0,9,     7.47,2, -999.00,  -999.0,-999.0000,-999.000,   25.00,  -999.0,  2.0949,-999.000
    31DSCG94_3,  P18N,   177,  1,    108,   1218,2,19940422,0400, 15.4975,-109.9947, 3789,   2248.5,   2.0021,  34.6531,2,  34.6534,2,     98.6,2,     96.2,2,   150.88,2,    39.74,2,     0.00,2,     2.76,2, -999.000,9, -999.000,9, -999.000,9, -999.000,9, -999.000,9,-999.0000,9,  -999.00,9,   -999.0,9,   -999.0,9,   -999.0,9,   -999.0,9,   -999.0,9,  -999.00,9, -999.00,  -999.0,-999.0000,-999.000, -999.00,  -999.0,  1.8442,-999.000
    31DSCG94_3,  P18N,   177,  1,    107,   1257,2,19940422,0400, 15.4975,-109.9947, 3789,   2499.1,   1.8659,  34.6610,2,  34.6612,2,    106.1,2,    106.1,2,   153.43,2,    38.86,2,     0.00,2,     2.70,2, -999.000,9, -999.000,9, -999.000,9, -999.000,9, -999.000,9,-999.0000,9,  -999.00,9,   -999.0,9,   -999.0,9,   -999.0,9,   -999.0,9,   -999.0,9,     7.51,2, -999.00,  -999.0,-999.0000,-999.000,   25.00,  -999.0,  1.6881,-999.000
    31DSCG94_3,  P18N,   177,  1,    106,   1224,2,19940422,0400, 15.4975,-109.9947, 3789,   2751.3,   1.7508,  34.6686,2,  34.6682,2,    113.5,2,    114.4,2,   155.04,2,    38.68,2,     0.00,2,     2.64,2, -999.000,9, -999.000,9, -999.000,9, -999.000,9, -999.000,9,-999.0000,9,  -999.00,9,   -999.0,9,   -999.0,9,   -999.0,9,   -999.0,9,   -999.0,9,  -999.00,9, -999.00,  -999.0,-999.0000,-999.000, -999.00,  -999.0,  1.5521,-999.000
    31DSCG94_3,  P18N,   177,  1,    105,   1246,2,19940422,0400, 15.4975,-109.9947, 3789,   2998.6,   1.6922,  34.6728,2,  34.6732,2,    119.6,2,    121.0,6,   153.05,6,    38.30,6,     0.00,6,     2.61,6, -999.000,9, -999.000,9, -999.000,9, -999.000,9, -999.000,9,-999.0000,9,  -999.00,9,   -999.0,9,   -999.0,9,   -999.0,9,   -999.0,9,   -999.0,9,     7.54,2, -999.00,  -999.0,-999.0000,-999.000,   25.00,  -999.0,  1.4713,-999.000
    31DSCG94_3,  P18N,   177,  1,    104,   1217,2,19940422,0400, 15.4975,-109.9947, 3789,   3238.8,   1.6668,  34.6755,2,  34.6746,2,    123.3,2,    124.4,2,   156.55,2,    38.05,2,     0.01,2,     2.61,2, -999.000,9, -999.000,9, -999.000,9, -999.000,9, -999.000,9,-999.0000,9,  -999.00,9,   -999.0,9,   -999.0,9,   -999.0,9,   -999.0,9,   -999.0,9,  -999.00,9, -999.00,  -999.0,-999.0000,-999.000, -999.00,  -999.0,  1.4229,-999.000
    31DSCG94_3,  P18N,   177,  1,    102,   1223,2,19940422,0400, 15.4975,-109.9947, 3789,   3499.6,   1.6459,  34.6777,2,  34.6766,2,    126.5,2,    128.3,2,   157.96,2,    37.98,2,     0.03,2,     2.57,2, -999.000,9, -999.000,9, -999.000,9, -999.000,9, -999.000,9,-999.0000,9,  -999.00,9,   -999.0,9,   -999.0,9,   -999.0,9,   -999.0,9,   -999.0,9,  -999.00,9, -999.00,  -999.0,-999.0000,-999.000, -999.00,  -999.0,  1.3761,-999.000
    31DSCG94_3,  P18N,   177,  1,    103,   9999,2,19940422,0400, 15.4975,-109.9947, 3789,   3500.5,   1.6465,  34.6774,2,  34.6787,2,    126.9,2,    127.9,6,   159.23,2,    38.10,2,     0.02,2,     2.57,2, -999.000,9, -999.000,9, -999.000,9, -999.000,9, -999.000,9,-999.0000,9,  -999.00,9,   -999.0,9,   -999.0,9,   -999.0,9,   -999.0,9,   -999.0,9,     7.55,2, -999.00,  -999.0,-999.0000,-999.000,   25.00,  -999.0,  1.3766,-999.000
    31DSCG94_3,  P18N,   177,  1,    101,   1041,2,19940422,0400, 15.4975,-109.9947, 3789,   3788.4,   1.6687,  34.6779,2,  34.6782,2,    125.7,2,    130.8,2,   156.67,2,    37.59,2,     0.00,2,     2.55,2, -999.000,9, -999.000,9, -999.000,9, -999.000,9, -999.000,9,-999.0000,9,  -999.00,9,   -999.0,9,   -999.0,9,   -999.0,9,   -999.0,9,   -999.0,9,     7.55,2, -999.00,  -999.0,-999.0000,-999.000,   25.00,  -999.0,  1.3680,-999.000