BOTTLE,20220630CCHSIOAMB
EXPOCODE,SECT_ID,STNNBR,CASTNO,SAMPNO,BTLNBR,BTLNBR_FLAG_W,DATE,TIME,LATITUDE,LONGITUDE,DEPTH,CTDPRS,CTDTMP,CTDSAL,CTDSAL_FLAG_W,SALNTY,SALNTY_FLAG_W,CTDOXY,CTDOXY_FLAG_W,OXYGEN,OXYGEN_FLAG_W,SILCAT,SILCAT_FLAG_W,NITRAT,NITRAT_FLAG_W,NITRIT,NITRIT_FLAG_W,PHSPHT,PHSPHT_FLAG_W,CFC-11,CFC-11_FLAG_W,CFC-12,CFC-12_FLAG_W,CFC113,CFC113_FLAG_W,CCL4,CCL4_FLAG_W,TRITUM,TRITUM_FLAG_W,HELIUM,HELIUM_FLAG_W,DELHE3,DELHE3_FLAG_W,DELC14,DELC14_FLAG_W,DELC13,DELC13_FLAG_W,TCARBN,TCARBN_FLAG_W,PCO2,PCO2_FLAG_W,ALKALI,ALKALI_FLAG_W,PH,PH_FLAG_W,PCO2TMP,C14ERR,HELIER,DELHER,PH_TMP,C13ERR,THETA,TRITER
,,,,,,,,,,,,DBAR,ITS-90,PSS-78,,PSS-78,,UMOL/KG,,UMOL/KG,,UMOL/KG,,UMOL/KG,,UMOL/KG,,UMOL/KG,,PMOL/KG,,PMOL/KG,,PMOL/KG,,PMOL/KG,,TU,,NMOL/KG,,PERCNT,,/MILLE,,/MILLE,,UMOL/KG,,UATM,,UMOL/KG,,,,DEG C,/MILLE,NMOL/KG,PERCNT,DEG C,/MILLE,DEG C,TU
    31DSCG94_3,  P18N,    94,  3,    336,   1025,2,19940330,1712,-22.4988,-102.9978, 4073,     10.5,  24.7298,  36.3246,2,  36.3234,2,    209.9,2,    208.8,2,     0.80,2,     0.13,2,     0.00,2,     0.18,2,    1.923,2,    1.081,2, -999.000,9, -999.000,9,    0.624,2,   1.8219,2,    -0.62,2,   -999.0,9,   -999.0,9,   2066.7,2,    316.1,2,   2393.0,2,     8.06,2,   20.00,  -999.0,-999.0000,-999.000,   25.00,  -999.0, 24.7275,   0.008
    31DSCG94_3,  P18N,    94,  3,    335,   1247,2,19940330,1712,-22.4988,-102.9978, 4073,     20.4,  24.6652,  36.3195,2,  36.3184,2,    212.5,2,    209.0,2,     1.24,2,     0.14,2,     0.00,2,     0.19,2, -999.000,9, -999.000,9, -999.000,9, -999.000,9, -999.000,9,-999.0000,9,  -999.00,9,   -999.0,9,   -999.0,9,   -999.0,9,   -999.0,9,   -999.0,9,     8.06,2, -999.00,  -999.0,-999.0000,-999.000,   25.00,  -999.0, 24.6608,-999.000
    31DSCG94_3,  P18N,    94,  3,    334,   1216,2,19940330,1712,-22.4988,-102.9978, 4073,     41.0,  24.6124,  36.3136,2,  36.3145,2,    214.3,2,    208.9,2,     1.57,2,     0.11,2,     0.00,2,     0.24,2,    1.934,2,    1.059,2, -999.000,9, -999.000,9,    0.540,2,   1.7465,2,    -1.16,2,   -999.0,9,   -999.0,9,   2064.6,2,    322.9,2,   2395.0,2,     8.06,2,   20.00,  -999.0,-999.0000,-999.000,   25.00,  -999.0, 24.6036,   0.007
    31DSCG94_3,  P18N,    94,  3,    333,   1244,2,19940330,1712,-22.4988,-102.9978, 4073,     65.6,  23.6538,  36.2058,2,  36.2193,2,    219.8,2,    218.8,2,     1.52,2,     0.12,2,     0.00,2,     0.22,2, -999.000,9, -999.000,9, -999.000,9, -999.000,9, -999.000,9,-999.0000,9,  -999.00,9,   -999.0,9,   -999.0,9,   -999.0,9,   -999.0,9,   -999.0,9,     8.06,2, -999.00,  -999.0,-999.0000,-999.000,   25.00,  -999.0, 23.6401,-999.000
    31DSCG94_3,  P18N,    94,  3,    332,   1003,3,19940330,1712,-22.4988,-102.9978, 4073,     99.6,  22.3219,  36.1115,2,  36.1080,2,    226.3,2,   -999.0,9,     1.33,2,     0.10,2,     0.00,2,     0.20,2, -999.000,9, -999.000,9, -999.000,9, -999.000,9, -999.000,9,-999.0000,9,  -999.00,9,   -999.0,9,   -999.0,9,   -999.0,9,   -999.0,9,   -999.0,9,  -999.00,9, -999.00,  -999.0,-999.0000,-999.000, -999.00,  -999.0, 22.3019,-999.000
    31DSCG94_3,  P18N,    94,  3,    331,   1211,2,19940330,1712,-22.4988,-102.9978, 4073,    133.6,  21.0030,  35.8576,2,  35.8566,2,    226.8,2,    225.0,2,     1.65,2,     0.09,2,     0.00,2,     0.14,2,    2.294,2,    1.241,2, -999.000,9, -999.000,9,    0.634,2,   1.7215,2,    -1.15,2,   -999.0,9,   -999.0,9,   2046.2,2,    334.3,2,   2361.0,2,     8.05,2,   20.00,  -999.0,-999.0000,-999.000,   25.00,  -999.0, 20.9773,   0.007
    31DSCG94_3,  P18N,    94,  3,    330,   1241,2,19940330,1712,-22.4988,-102.9978, 4073,    171.6,  20.2736,  35.7315,2,  35.7307,2,    221.9,2,    219.9,2,     1.16,2,     0.10,2,     0.00,2,     0.14,2, -999.000,9, -999.000,9, -999.000,9, -999.000,9,    0.665,2,   1.7242,2,    -1.01,2,   -999.0,9,   -999.0,9,   2046.9,2,    343.9,2,   2357.0,2,     8.04,2,   20.00,  -999.0,-999.0000,-999.000,   25.00,  -999.0, 20.2415,   0.007
    31DSCG94_3,  P18N,    94,  3,    329,   1240,3,19940330,1712,-22.4988,-102.9978, 4073,    193.9,  19.6245,  35.6155,2,  35.6146,2,    223.4,2,   -999.0,9,     1.34,2,     0.23,2,     0.05,2,     0.21,2,    2.314,2,    1.263,2, -999.000,9, -999.000,9,    0.611,2,   1.6198,2,    -1.75,2,   -999.0,9,   -999.0,9,   -999.0,9,   -999.0,9,   -999.0,9,  -999.00,9, -999.00,  -999.0,-999.0000,-999.000, -999.00,  -999.0, 19.5890,   0.009
    31DSCG94_3,  P18N,    94,  3,    328,   1032,3,19940330,1712,-22.4988,-102.9978, 4073,    220.7,  18.5210,  35.4054,2,  35.3914,2,    216.4,2,   -999.0,9,     1.60,2,     0.91,2,     0.10,2,     0.29,2, -999.000,9, -999.000,9, -999.000,9, -999.000,9, -999.000,9,-999.0000,9,  -999.00,9,   -999.0,9,   -999.0,9,   -999.0,9,   -999.0,9,   -999.0,9,  -999.00,9, -999.00,  -999.0,-999.0000,-999.000, -999.00,  -999.0, 18.4822,-999.000
    31DSCG94_3,  P18N,    94,  3,    327,   1008,2,19940330,1712,-22.4988,-102.9978, 4073,    248.2,  16.6670,  35.0773,2,  35.0659,2,    209.7,2,    205.1,2,     2.04,2,     3.06,2,     0.00,2,     0.40,2, -999.000,9, -999.000,9, -999.000,9, -999.000,9,    0.555,2,   1.8174,2,    -0.51,2,   -999.0,9,   -999.0,9,   -999.0,9,   -999.0,9,   -999.0,9,     7.94,2, -999.00,  -999.0,-999.0000,-999.000,   25.00,  -999.0, 16.6265,   0.007
    31DSCG94_3,  P18N,    94,  3,    326,   1007,2,19940330,1712,-22.4988,-102.9978, 4073,    301.6,  13.4258,  34.6277,2,  34.6234,2,    175.4,2,    169.2,2,     4.63,2,    10.93,2,     0.00,2,     1.02,2,    2.153,2,    1.114,2, -999.000,9, -999.000,9,    0.400,2,   1.7576,2,     0.25,2,   -999.0,9,   -999.0,9,   2109.2,2,    620.2,2,   2286.0,2,     7.81,2,   20.00,  -999.0,-999.0000,-999.000,   25.00,  -999.0, 13.3834,   0.006
    31DSCG94_3,  P18N,    94,  3,    325,   1203,2,19940330,1712,-22.4988,-102.9978, 4073,    337.1,  11.6981,  34.5077,2,  34.5063,2,    151.2,2,    155.3,2,     7.11,2,    15.47,2,     0.00,2,     1.25,2, -999.000,9, -999.000,9, -999.000,9, -999.000,9, -999.000,9,-999.0000,9,  -999.00,9,   -999.0,9,   -999.0,9,   -999.0,9,   -999.0,9,   -999.0,9,     7.74,2, -999.00,  -999.0,-999.0000,-999.000,   25.00,  -999.0, 11.6548,-999.000
    31DSCG94_3,  P18N,    94,  3,    323,   1220,2,19940330,1712,-22.4988,-102.9978, 4073,    400.9,   9.3810,  34.4484,2,  34.4452,2,    127.7,2,    117.2,2,    14.56,2,    24.95,2,     0.00,2,     1.91,2,    0.885,2,    0.457,2, -999.000,9, -999.000,9,    0.181,2,   1.7790,2,     1.72,2,   -999.0,9,   -999.0,9,   2177.7,2,   1093.5,2,   2279.0,3,     7.58,2,   20.00,  -999.0,-999.0000,-999.000,   25.00,  -999.0,  9.3362,   0.004
    31DSCG94_3,  P18N,    94,  3,    322,   1245,2,19940330,1712,-22.4988,-102.9978, 4073,    500.8,   7.0620,  34.3840,2,  34.3825,2,    139.2,2,    136.7,2,    18.18,2,    30.33,2,     0.00,2,     2.08,2,    0.463,2,    0.257,2, -999.000,9, -999.000,9,    0.098,2,   1.8290,2,     1.77,2,   -999.0,9,   -999.0,9,   2201.7,2,   1154.9,2,   2291.0,2,     7.56,2,   20.00,  -999.0,-999.0000,-999.000,   25.00,  -999.0,  7.0143,   0.004
    31DSCG94_3,  P18N,    94,  3,    321,   1206,2,19940330,1712,-22.4988,-102.9978, 4073,    599.8,   5.9542,  34.3337,2,  34.3340,2,    168.5,2,    173.9,2,    19.09,2,    30.35,2,     0.00,2,     2.19,2, -999.000,9, -999.000,9, -999.000,9, -999.000,9, -999.000,9,-999.0000,9,  -999.00,9,   -999.0,9,   -999.0,9,   2202.3,2,   1047.0,2,   2285.0,3,     7.61,2,   20.00,  -999.0,-999.0000,-999.000,   25.00,  -999.0,  5.9017,-999.000
    31DSCG94_3,  P18N,    94,  3,    320,   1028,2,19940330,1712,-22.4988,-102.9978, 4073,    701.4,   5.3296,  34.3374,2,  34.3365,2,    161.4,2,    160.6,2,    26.71,2,    33.01,2,     0.00,2,     2.36,2,    0.144,2,    0.092,2, -999.000,9, -999.000,9,    0.035,2,   1.8384,2,     2.85,2,   -999.0,9,   -999.0,9,   2202.5,2,   1112.4,2,   2291.0,2,     7.58,2,   20.00,  -999.0,-999.0000,-999.000,   25.00,  -999.0,  5.2711,   0.004
    31DSCG94_3,  P18N,    94,  3,    319,   1248,2,19940330,1712,-22.4988,-102.9978, 4073,    806.5,   4.7486,  34.3752,2,  34.3734,2,    132.4,2,    139.3,2,    40.05,2,    35.94,2,     0.00,2,     2.55,2,    0.030,2,    0.023,2, -999.000,9, -999.000,9,    0.019,2,   1.8651,2,     5.52,2,   -999.0,9,   -999.0,9,   2229.9,2,   1255.2,2,   2302.0,2,     7.54,2,   20.00,  -999.0,-999.0000,-999.000,   25.00,  -999.0,  4.6842,   0.003
    31DSCG94_3,  P18N,    94,  3,    318,   1207,2,19940330,1712,-22.4988,-102.9978, 4073,    901.1,   4.3437,  34.4287,2,  34.4279,2,    121.4,2,    120.6,2,    54.74,2,    38.19,2,     0.00,2,     2.73,3, -999.000,9, -999.000,9, -999.000,9, -999.000,9, -999.000,9,-999.0000,9,  -999.00,9,   -999.0,9,   -999.0,9,   2254.2,2,   1345.4,2,   2321.0,2,     7.51,2,   20.00,  -999.0,-999.0000,-999.000,   25.00,  -999.0,  4.2739,-999.000
    31DSCG94_3,  P18N,    94,  3,    317,   1119,2,19940330,1712,-22.4988,-102.9978, 4073,    998.9,   4.0070,  34.4775,2,  34.4767,2,    120.6,2,    119.6,2,    67.33,2,    37.97,2,     0.00,2,     2.74,3,    0.001,2,   -0.002,2, -999.000,9, -999.000,9,    0.002,2,   1.8857,2,    13.37,2,   -999.0,9,   -999.0,9,   -999.0,9,   -999.0,9,   -999.0,9,  -999.00,9, -999.00,  -999.0,-999.0000,-999.000, -999.00,  -999.0,  3.9315,   0.003
    31DSCG94_3,  P18N,    94,  3,    316,   1036,2,19940330,1712,-22.4988,-102.9978, 4073,   1200.6,   3.5496,  34.5357,2,  34.5356,2,    118.9,2,    117.8,2,    86.22,2,    38.24,2,     0.00,2,     2.73,3,   -0.001,2,   -0.002,2, -999.000,9, -999.000,9,    0.005,2,   1.8732,2,    18.61,2,   -999.0,9,   -999.0,9,   -999.0,9,   1349.7,2,   2353.0,2,     7.52,2,   20.00,  -999.0,-999.0000,-999.000,   25.00,  -999.0,  3.4611,   0.003
    31DSCG94_3,  P18N,    94,  3,    315,   1017,2,19940330,1712,-22.4988,-102.9978, 4073,   1402.3,   3.0768,  34.5612,2,  34.5604,2,    122.9,2,    123.4,2,    97.49,2,    38.28,2,     0.00,2,     2.73,3, -999.000,9, -999.000,9, -999.000,9, -999.000,9,    0.004,2,   1.8852,2,    20.39,2,   -999.0,9,   -999.0,9,   -999.0,9,   -999.0,9,   -999.0,9,     7.52,2, -999.00,  -999.0,-999.0000,-999.000,   25.00,  -999.0,  2.9762,   0.003
    31DSCG94_3,  P18N,    94,  3,    314,   1016,2,19940330,1712,-22.4988,-102.9978, 4073,   1597.9,   2.7021,  34.5855,2,  34.5843,2,    130.1,2,    130.3,2,   104.20,2,    37.79,2,     0.00,2,     2.66,3,    0.004,2,    0.000,2, -999.000,9, -999.000,9,    0.004,2,   1.8950,2,    23.32,2,   -999.0,9,   -999.0,9,   2286.0,3,   -999.0,9,   -999.0,9,     7.54,2, -999.00,  -999.0,-999.0000,-999.000,   25.00,  -999.0,  2.5896,   0.003
    31DSCG94_3,  P18N,    94,  3,    313,   1209,2,19940330,1712,-22.4988,-102.9978, 4073,   1801.6,   2.3820,  34.6102,2,  34.6098,2,    139.1,2,    140.1,6,   109.23,2,    36.83,2,     0.00,2,     2.71,3, -999.000,9, -999.000,9, -999.000,9, -999.000,9,    0.005,2,   1.8995,2,    25.22,2,   -999.0,9,   -999.0,9,   -999.0,9,   -999.0,9,   -999.0,9,     7.55,2, -999.00,  -999.0,-999.0000,-999.000,   25.00,  -999.0,  2.2567,   0.003
    31DSCG94_3,  P18N,    94,  3,    312,   1033,2,19940330,1712,-22.4988,-102.9978, 4073,   1999.1,   2.1569,  34.6310,2,  34.6301,2,    146.6,2,    147.9,6,   112.94,2,    35.90,2,     0.00,2,     2.57,3, -999.000,9, -999.000,9, -999.000,9, -999.000,9, -999.000,9,-999.0000,9,  -999.00,9,   -999.0,9,   -999.0,9,   -999.0,9,   -999.0,9,   -999.0,9,     7.57,2, -999.00,  -999.0,-999.0000,-999.000,   25.00,  -999.0,  2.0181,-999.000
    31DSCG94_3,  P18N,    94,  3,    311,   1240,2,19940330,1712,-22.4988,-102.9978, 4073,   2199.6,   2.0110,  34.6474,2,  34.6465,2,    150.6,2,    152.3,6,   116.24,2,    35.64,2,     0.00,2,     2.54,3, -999.000,9, -999.000,9, -999.000,9, -999.000,9, -999.000,9,-999.0000,9,  -999.00,9,   -999.0,9,   -999.0,9,   -999.0,9,   -999.0,9,   -999.0,9,  -999.00,9, -999.00,  -999.0,-999.0000,-999.000, -999.00,  -999.0,  1.8573,-999.000
    31DSCG94_3,  P18N,    94,  3,    310,   1005,2,19940330,1712,-22.4988,-102.9978, 4073,   2400.9,   1.9079,  34.6595,2,  34.6585,2,    153.8,2,    155.8,2,   118.39,2,    35.25,2,     0.00,2,     2.51,3, -999.000,9, -999.000,9, -999.000,9, -999.000,9, -999.000,9,-999.0000,9,  -999.00,9,   -999.0,9,   -999.0,9,   -999.0,9,   -999.0,9,   -999.0,9,     7.58,2, -999.00,  -999.0,-999.0000,-999.000,   25.00,  -999.0,  1.7382,-999.000
    31DSCG94_3,  P18N,    94,  3,    309,   1611,2,19940330,1712,-22.4988,-102.9978, 4073,   2602.6,   1.8533,  34.6676,2,  34.6664,2,    154.9,2,    156.2,2,   120.36,2,    35.25,2,     0.00,2,     2.19,4, -999.000,9, -999.000,9, -999.000,9, -999.000,9, -999.000,9,-999.0000,9,  -999.00,9,   -999.0,9,   -999.0,9,   -999.0,9,   -999.0,9,   -999.0,9,  -999.00,9, -999.00,  -999.0,-999.0000,-999.000, -999.00,  -999.0,  1.6663,-999.000
    31DSCG94_3,  P18N,    94,  3,    308,   1218,2,19940330,1712,-22.4988,-102.9978, 4073,   2793.5,   1.8215,  34.6733,2,  34.6721,2,    155.6,2,    156.3,2,   122.53,2,    35.11,2,     0.00,2,     2.45,3, -999.000,9, -999.000,9, -999.000,9, -999.000,9, -999.000,9,-999.0000,9,  -999.00,9,   -999.0,9,   -999.0,9,   -999.0,9,   -999.0,9,   -999.0,9,     7.58,2, -999.00,  -999.0,-999.0000,-999.000,   25.00,  -999.0,  1.6173,-999.000
    31DSCG94_3,  P18N,    94,  3,    307,   1257,2,19940330,1712,-22.4988,-102.9978, 4073,   3000.9,   1.8008,  34.6777,2,  34.6770,2,    154.5,2,    154.7,2,   125.36,2,    35.96,2,     0.00,2,     2.52,3, -999.000,9, -999.000,9, -999.000,9, -999.000,9, -999.000,9,-999.0000,9,  -999.00,9,   -999.0,9,   -999.0,9,   -999.0,9,   -999.0,9,   -999.0,9,  -999.00,9, -999.00,  -999.0,-999.0000,-999.000, -999.00,  -999.0,  1.5772,-999.000
    31DSCG94_3,  P18N,    94,  3,    306,   1224,2,19940330,1712,-22.4988,-102.9978, 4073,   3248.7,   1.7920,  34.6814,2,  34.6799,2,    152.8,2,    152.5,2,   128.65,2,    35.77,2,     0.00,2,     2.51,3, -999.000,9, -999.000,9, -999.000,9, -999.000,9, -999.000,9,-999.0000,9,  -999.00,9,   -999.0,9,   -999.0,9,   -999.0,9,   -999.0,9,   -999.0,9,     7.59,2, -999.00,  -999.0,-999.0000,-999.000,   25.00,  -999.0,  1.5441,-999.000
    31DSCG94_3,  P18N,    94,  3,    305,   1246,2,19940330,1712,-22.4988,-102.9978, 4073,   3499.5,   1.7998,  34.6840,2,  34.6830,2,    151.8,2,    150.1,2,   130.06,2,    35.96,2,     0.00,2,     2.52,3, -999.000,9, -999.000,9, -999.000,9, -999.000,9, -999.000,9,-999.0000,9,  -999.00,9,   -999.0,9,   -999.0,9,   -999.0,9,   -999.0,9,   -999.0,9,  -999.00,9, -999.00,  -999.0,-999.0000,-999.000, -999.00,  -999.0,  1.5261,-999.000
    31DSCG94_3,  P18N,    94,  3,    304,   1217,2,19940330,1712,-22.4988,-102.9978, 4073,   3749.7,   1.8210,  34.6853,2,  34.6851,2,    150.7,2,    149.6,2,   130.58,2,    36.34,2,     0.00,2,     2.55,3, -999.000,9, -999.000,9, -999.000,9, -999.000,9, -999.000,9,-999.0000,9,  -999.00,9,   -999.0,9,   -999.0,9,   -999.0,9,   -999.0,9,   -999.0,9,     7.59,2, -999.00,  -999.0,-999.0000,-999.000,   25.00,  -999.0,  1.5203,-999.000
    31DSCG94_3,  P18N,    94,  3,    302,   1223,2,19940330,1712,-22.4988,-102.9978, 4073,   4002.8,   1.8445,  34.6855,2,  34.6844,2,    150.9,2,    149.7,2,   129.68,2,    35.65,2,     0.00,2,     2.52,3, -999.000,9, -999.000,9, -999.000,9, -999.000,9, -999.000,9,-999.0000,9,  -999.00,9,   -999.0,9,   -999.0,9,   -999.0,9,   -999.0,9,   -999.0,9,     7.58,2, -999.00,  -999.0,-999.0000,-999.000,   25.00,  -999.0,  1.5155,-999.000
    31DSCG94_3,  P18N,    94,  3,    303,   9999,2,19940330,1712,-22.4988,-102.9978, 4073,   4003.5,   1.8445,  34.6856,2,  34.6859,2,    151.0,2,    149.1,2,   129.74,2,    35.90,2,     0.00,2,     2.30,4, -999.000,9, -999.000,9, -999.000,9, -999.000,9, -999.000,9,-999.0000,9,  -999.00,9,   -999.0,9,   -999.0,9,   -999.0,9,   -999.0,9,   -999.0,9,  -999.00,9, -999.00,  -999.0,-999.0000,-999.000, -999.00,  -999.0,  1.5154,-999.000
    31DSCG94_3,  P18N,    94,  3,    301,   1041,2,19940330,1712,-22.4988,-102.9978, 4073,   4066.0,   1.8518,  34.6855,2,  34.6850,2,    149.9,2,    149.1,2,   129.60,2,    35.98,2,     0.00,2,     2.57,3, -999.000,9, -999.000,9, -999.000,9, -999.000,9, -999.000,9,-999.0000,9,  -999.00,9,   -999.0,9,   -999.0,9,   -999.0,9,   -999.0,9,   -999.0,9,  -999.00,9, -999.00,  -999.0,-999.0000,-999.000, -999.00,  -999.0,  1.5155,-999.000