BOTTLE,20220630CCHSIOAMB
EXPOCODE,SECT_ID,STNNBR,CASTNO,SAMPNO,BTLNBR,BTLNBR_FLAG_W,DATE,TIME,LATITUDE,LONGITUDE,DEPTH,CTDPRS,CTDTMP,CTDSAL,CTDSAL_FLAG_W,SALNTY,SALNTY_FLAG_W,CTDOXY,CTDOXY_FLAG_W,OXYGEN,OXYGEN_FLAG_W,SILCAT,SILCAT_FLAG_W,NITRAT,NITRAT_FLAG_W,NITRIT,NITRIT_FLAG_W,PHSPHT,PHSPHT_FLAG_W,CFC-11,CFC-11_FLAG_W,CFC-12,CFC-12_FLAG_W,CFC113,CFC113_FLAG_W,CCL4,CCL4_FLAG_W,TRITUM,TRITUM_FLAG_W,HELIUM,HELIUM_FLAG_W,DELHE3,DELHE3_FLAG_W,DELC14,DELC14_FLAG_W,DELC13,DELC13_FLAG_W,TCARBN,TCARBN_FLAG_W,PCO2,PCO2_FLAG_W,ALKALI,ALKALI_FLAG_W,PH,PH_FLAG_W,PCO2TMP,C14ERR,HELIER,DELHER,PH_TMP,C13ERR,THETA,TRITER
,,,,,,,,,,,,DBAR,ITS-90,PSS-78,,PSS-78,,UMOL/KG,,UMOL/KG,,UMOL/KG,,UMOL/KG,,UMOL/KG,,UMOL/KG,,PMOL/KG,,PMOL/KG,,PMOL/KG,,PMOL/KG,,TU,,NMOL/KG,,PERCNT,,/MILLE,,/MILLE,,UMOL/KG,,UATM,,UMOL/KG,,,,DEG C,/MILLE,NMOL/KG,PERCNT,DEG C,/MILLE,DEG C,TU
    31DSCG94_2,  P18S,    38,  2,    224,    435,2,19940310,0335,-51.1650,-102.9983, 3796,      8.8,   9.2404,  34.2087,2,-999.0000,5,    284.3,2,    280.5,2,     0.00,2,    14.91,2,     0.18,2,     1.10,2, -999.000,9, -999.000,9, -999.000,9, -999.000,9, -999.000,9,-999.0000,9,  -999.00,9,   -999.0,9,   -999.0,9,   2082.4,2,    547.9,2,   2275.0,2,  -999.00,9,   20.00,  -999.0,-999.0000,-999.000, -999.00,  -999.0,  9.2394,-999.000
    31DSCG94_2,  P18S,    38,  2,    223,    421,2,19940310,0335,-51.1650,-102.9983, 3796,     26.1,   9.2242,  34.2089,2,  34.2106,2,    281.0,2,    280.5,2,     0.00,2,    14.53,2,     0.18,2,     1.12,2, -999.000,9, -999.000,9, -999.000,9, -999.000,9, -999.000,9,-999.0000,9,  -999.00,9,   -999.0,9,   -999.0,9,   2082.8,2,    548.1,2,   2274.0,2,     7.85,2,   20.00,  -999.0,-999.0000,-999.000,   25.00,  -999.0,  9.2214,-999.000
    31DSCG94_2,  P18S,    38,  2,    222,    418,2,19940310,0335,-51.1650,-102.9983, 3796,     49.3,   9.1820,  34.2086,2,-999.0000,5,    280.8,2,    280.4,2,     0.00,2,    15.31,2,     0.19,2,     1.15,2, -999.000,9, -999.000,9, -999.000,9, -999.000,9, -999.000,9,-999.0000,9,  -999.00,9,   -999.0,9,   -999.0,9,   2082.0,2,    554.5,2,   2277.0,2,  -999.00,9,   20.00,  -999.0,-999.0000,-999.000, -999.00,  -999.0,  9.1767,-999.000
    31DSCG94_2,  P18S,    38,  2,    221,    413,2,19940310,0335,-51.1650,-102.9983, 3796,     98.9,   7.2592,  34.2581,2,  34.2587,2,    286.3,2,    287.4,2,     1.49,2,    15.94,2,     0.23,2,     1.24,2, -999.000,9, -999.000,9, -999.000,9, -999.000,9, -999.000,9,-999.0000,9,  -999.00,9,   -999.0,9,   -999.0,9,   2098.3,2,    603.7,2,   2277.0,2,     7.82,2,   20.00,  -999.0,-999.0000,-999.000,   25.00,  -999.0,  7.2499,-999.000
    31DSCG94_2,  P18S,    38,  2,    220,    405,2,19940310,0335,-51.1650,-102.9983, 3796,    147.7,   6.6223,  34.2818,2,  34.2826,2,    283.6,2,    280.3,2,     3.66,2,    18.44,2,     0.18,2,     1.28,2, -999.000,9, -999.000,9, -999.000,9, -999.000,9, -999.000,9,-999.0000,9,  -999.00,9,   -999.0,9,   -999.0,9,   2111.6,2,    657.1,2,   2276.0,2,     7.79,2,   20.00,  -999.0,-999.0000,-999.000,   25.00,  -999.0,  6.6091,-999.000
    31DSCG94_2,  P18S,    38,  2,    219,    417,2,19940310,0335,-51.1650,-102.9983, 3796,    200.7,   6.4469,  34.2959,2,-999.0000,5,    278.0,2,    278.1,2,  -999.00,9,  -999.00,9,  -999.00,9,  -999.00,9, -999.000,9, -999.000,9, -999.000,9, -999.000,9, -999.000,9,-999.0000,9,  -999.00,9,   -999.0,9,   -999.0,9,   2115.1,2,    669.8,2,   2277.0,2,  -999.00,9,   20.00,  -999.0,-999.0000,-999.000, -999.00,  -999.0,  6.4291,-999.000
    31DSCG94_2,  P18S,    38,  2,    218,    429,2,19940310,0335,-51.1650,-102.9983, 3796,    300.7,   6.2264,  34.2983,2,  34.2996,2,    270.3,2,    268.4,2,     6.41,2,    21.27,2,     0.00,2,     1.49,2, -999.000,9, -999.000,9, -999.000,9, -999.000,9, -999.000,9,-999.0000,9,  -999.00,9,   -999.0,9,   -999.0,9,   2124.7,2,    703.6,2,   2278.0,2,     7.76,2,   20.00,  -999.0,-999.0000,-999.000,   25.00,  -999.0,  6.2001,-999.000
    31DSCG94_2,  P18S,    38,  2,    217,    427,2,19940310,0335,-51.1650,-102.9983, 3796,    401.4,   6.0294,  34.2955,2,  34.2966,2,    272.0,2,    274.1,2,     6.34,2,    21.07,2,     0.00,2,     1.50,2, -999.000,9, -999.000,9, -999.000,9, -999.000,9, -999.000,9,-999.0000,9,  -999.00,9,   -999.0,9,   -999.0,9,   2123.0,2,    698.0,2,   2279.0,2,     7.76,2,   20.00,  -999.0,-999.0000,-999.000,   25.00,  -999.0,  5.9946,-999.000
    31DSCG94_2,  P18S,    38,  2,    216,    410,2,19940310,0335,-51.1650,-102.9983, 3796,    499.5,   5.8212,  34.2855,2,-999.0000,5,    267.2,2,    273.5,2,     7.17,2,    22.27,2,     0.00,2,     1.58,2, -999.000,9, -999.000,9, -999.000,9, -999.000,9, -999.000,9,-999.0000,9,  -999.00,9,   -999.0,9,   -999.0,9,   2127.2,2,    708.2,2,   2276.0,2,  -999.00,9,   20.00,  -999.0,-999.0000,-999.000, -999.00,  -999.0,  5.7784,-999.000
    31DSCG94_2,  P18S,    38,  2,    215,    422,2,19940310,0335,-51.1650,-102.9983, 3796,    600.8,   5.4988,  34.2633,2,  34.2634,2,    263.9,2,    266.0,2,     9.14,2,    23.35,2,     0.00,2,     1.58,2, -999.000,9, -999.000,9, -999.000,9, -999.000,9, -999.000,9,-999.0000,9,  -999.00,9,   -999.0,9,   -999.0,9,   2132.1,2,    737.6,2,   2282.0,2,     7.74,2,   20.00,  -999.0,-999.0000,-999.000,   25.00,  -999.0,  5.4484,-999.000
    31DSCG94_2,  P18S,    38,  2,    214,    407,2,19940310,0335,-51.1650,-102.9983, 3796,    701.2,   5.0961,  34.2464,2,  34.2474,2,    252.3,2,    255.8,2,    12.77,2,    25.14,2,     0.00,2,     1.73,2, -999.000,9, -999.000,9, -999.000,9, -999.000,9, -999.000,9,-999.0000,9,  -999.00,9,   -999.0,9,   -999.0,9,   2144.2,2,    790.4,2,   2283.0,2,     7.72,2,   20.00,  -999.0,-999.0000,-999.000,   25.00,  -999.0,  5.0389,-999.000
    31DSCG94_2,  P18S,    38,  2,    213,    419,2,19940310,0335,-51.1650,-102.9983, 3796,    799.8,   4.7913,  34.2673,2,-999.0000,5,    230.3,2,    233.5,2,    19.53,2,    28.56,2,     0.00,2,     1.97,2, -999.000,9, -999.000,9, -999.000,9, -999.000,9, -999.000,9,-999.0000,9,  -999.00,9,   -999.0,9,   -999.0,9,   2165.1,2,    871.8,2,   2287.0,2,  -999.00,9,   20.00,  -999.0,-999.0000,-999.000, -999.00,  -999.0,  4.7274,-999.000
    31DSCG94_2,  P18S,    38,  2,    212,    426,2,19940310,0335,-51.1650,-102.9983, 3796,    899.9,   4.3104,  34.2831,2,-999.0000,5,    219.2,2,    219.8,2,  -999.00,9,  -999.00,9,  -999.00,9,  -999.00,9, -999.000,9, -999.000,9, -999.000,9, -999.000,9, -999.000,9,-999.0000,9,  -999.00,9,   -999.0,9,   -999.0,9,   -999.0,9,    945.0,2,   2292.0,2,  -999.00,9,   20.00,  -999.0,-999.0000,-999.000, -999.00,  -999.0,  4.2411,-999.000
    31DSCG94_2,  P18S,    38,  2,    211,    424,2,19940310,0335,-51.1650,-102.9983, 3796,   1000.8,   3.8530,  34.3011,2,  34.3016,2,    210.9,2,    212.1,2,    32.51,2,    31.23,2,     0.00,2,     2.19,2, -999.000,9, -999.000,9, -999.000,9, -999.000,9, -999.000,9,-999.0000,9,  -999.00,9,   -999.0,9,   -999.0,9,   2192.1,2,    995.2,2,   2303.0,2,     7.63,2,   20.00,  -999.0,-999.0000,-999.000,   25.00,  -999.0,  3.7787,-999.000
    31DSCG94_2,  P18S,    38,  2,    210,    409,2,19940310,0335,-51.1650,-102.9983, 3796,   1199.1,   3.2100,  34.3690,2,  34.3695,2,    193.2,2,    193.4,2,    47.31,2,    33.08,2,     0.00,2,     2.28,2, -999.000,9, -999.000,9, -999.000,9, -999.000,9, -999.000,9,-999.0000,9,  -999.00,9,   -999.0,9,   -999.0,9,   -999.0,9,   1097.9,2,   -999.0,9,     7.59,2,   20.00,  -999.0,-999.0000,-999.000,   25.00,  -999.0,  3.1251,-999.000
    31DSCG94_2,  P18S,    38,  2,    209,    423,2,19940310,0335,-51.1650,-102.9983, 3796,   1401.3,   2.8064,  34.4593,2,  34.4580,2,    177.0,2,    177.3,2,    62.28,2,    34.13,2,     0.00,2,     2.38,2, -999.000,9, -999.000,9, -999.000,9, -999.000,9, -999.000,9,-999.0000,9,  -999.00,9,   -999.0,9,   -999.0,9,   -999.0,9,   1162.2,2,   -999.0,9,     7.57,2,   20.00,  -999.0,-999.0000,-999.000,   25.00,  -999.0,  2.7091,-999.000
    31DSCG94_2,  P18S,    38,  2,    208,    414,2,19940310,0335,-51.1650,-102.9983, 3796,   1600.3,   2.5445,  34.5414,2,  34.5408,2,    170.8,2,    170.8,2,    71.28,2,    34.32,2,     0.00,2,     2.41,2, -999.000,9, -999.000,9, -999.000,9, -999.000,9, -999.000,9,-999.0000,9,  -999.00,9,   -999.0,9,   -999.0,9,   -999.0,9,   1183.5,2,   -999.0,9,     7.57,2,   20.00,  -999.0,-999.0000,-999.000,   25.00,  -999.0,  2.4339,-999.000
    31DSCG94_2,  P18S,    38,  2,    207,    437,2,19940310,0335,-51.1650,-102.9983, 3796,   1900.1,   2.3163,  34.6361,2,  34.6352,2,    168.8,2,    169.3,2,    81.70,2,    34.23,2,     0.00,2,     2.36,2, -999.000,9, -999.000,9, -999.000,9, -999.000,9, -999.000,9,-999.0000,9,  -999.00,9,   -999.0,9,   -999.0,9,   -999.0,9,   1169.7,2,   -999.0,9,     7.57,2,   20.00,  -999.0,-999.0000,-999.000,   25.00,  -999.0,  2.1836,-999.000
    31DSCG94_2,  P18S,    38,  2,    206,    416,2,19940310,0335,-51.1650,-102.9983, 3796,   2198.4,   2.1371,  34.6828,2,  34.6823,2,    171.2,2,    172.2,2,    90.63,2,    33.11,2,     0.00,2,     2.33,2, -999.000,9, -999.000,9, -999.000,9, -999.000,9, -999.000,9,-999.0000,9,  -999.00,9,   -999.0,9,   -999.0,9,   -999.0,9,   1138.1,2,   -999.0,9,     7.58,2,   20.00,  -999.0,-999.0000,-999.000,   25.00,  -999.0,  1.9812,-999.000
    31DSCG94_2,  P18S,    38,  2,    205,    420,2,19940310,0335,-51.1650,-102.9983, 3796,   2599.1,   1.8464,  34.7047,2,  34.7048,2,    175.6,2,    175.9,2,   103.56,2,    32.89,2,     0.00,2,     2.25,2, -999.000,9, -999.000,9, -999.000,9, -999.000,9, -999.000,9,-999.0000,9,  -999.00,9,   -999.0,9,   -999.0,9,   -999.0,9,   1116.4,2,   -999.0,9,     7.59,2,   20.00,  -999.0,-999.0000,-999.000,   25.00,  -999.0,  1.6597,-999.000
    31DSCG94_2,  P18S,    38,  2,    204,    436,2,19940310,0335,-51.1650,-102.9983, 3796,   2898.6,   1.6616,  34.7092,2,  34.7083,2,    179.3,2,    180.4,2,   109.42,2,    32.90,2,     0.00,2,     2.30,2, -999.000,9, -999.000,9, -999.000,9, -999.000,9, -999.000,9,-999.0000,9,  -999.00,9,   -999.0,9,   -999.0,9,   -999.0,9,   1095.1,2,   -999.0,9,     7.60,2,   20.00,  -999.0,-999.0000,-999.000,   25.00,  -999.0,  1.4507,-999.000
    31DSCG94_2,  P18S,    38,  2,    203,    425,2,19940310,0335,-51.1650,-102.9983, 3796,   3193.1,   1.5350,  34.7155,2,  34.7147,2,    185.8,2,    186.9,2,   107.97,2,    32.46,2,     0.00,2,     2.26,2, -999.000,9, -999.000,9, -999.000,9, -999.000,9, -999.000,9,-999.0000,9,  -999.00,9,   -999.0,9,   -999.0,9,   -999.0,9,   1079.9,2,   -999.0,9,     7.60,2,   20.00,  -999.0,-999.0000,-999.000,   25.00,  -999.0,  1.2985,-999.000
    31DSCG94_2,  P18S,    38,  2,    202,    433,2,19940310,0335,-51.1650,-102.9983, 3796,   3499.0,   1.2726,  34.7137,2,  34.7135,2,    191.6,2,    193.8,2,   115.29,2,    32.72,2,     0.00,2,     2.29,2, -999.000,9, -999.000,9, -999.000,9, -999.000,9, -999.000,9,-999.0000,9,  -999.00,9,   -999.0,9,   -999.0,9,   -999.0,9,   1061.8,2,   -999.0,9,     7.61,2,   20.00,  -999.0,-999.0000,-999.000,   25.00,  -999.0,  1.0121,-999.000
    31DSCG94_2,  P18S,    38,  2,    201,    403,2,19940310,0335,-51.1650,-102.9983, 3796,   3824.8,   0.8270,  34.7088,2,  34.7084,2,    201.8,2,    206.0,2,   129.36,2,    33.75,2,     0.00,2,     2.24,2, -999.000,9, -999.000,9, -999.000,9, -999.000,9, -999.000,9,-999.0000,9,  -999.00,9,   -999.0,9,   -999.0,9,   -999.0,9,   1048.6,2,   -999.0,9,     7.62,2,   20.00,  -999.0,-999.0000,-999.000,   25.00,  -999.0,  0.5451,-999.000