BOTTLE,20220630CCHSIOAMB
EXPOCODE,SECT_ID,STNNBR,CASTNO,SAMPNO,BTLNBR,BTLNBR_FLAG_W,DATE,TIME,LATITUDE,LONGITUDE,DEPTH,CTDPRS,CTDTMP,CTDSAL,CTDSAL_FLAG_W,SALNTY,SALNTY_FLAG_W,CTDOXY,CTDOXY_FLAG_W,OXYGEN,OXYGEN_FLAG_W,SILCAT,SILCAT_FLAG_W,NITRAT,NITRAT_FLAG_W,NITRIT,NITRIT_FLAG_W,PHSPHT,PHSPHT_FLAG_W,CFC-11,CFC-11_FLAG_W,CFC-12,CFC-12_FLAG_W,CFC113,CFC113_FLAG_W,CCL4,CCL4_FLAG_W,TRITUM,TRITUM_FLAG_W,HELIUM,HELIUM_FLAG_W,DELHE3,DELHE3_FLAG_W,DELC14,DELC14_FLAG_W,DELC13,DELC13_FLAG_W,TCARBN,TCARBN_FLAG_W,PCO2,PCO2_FLAG_W,ALKALI,ALKALI_FLAG_W,PH,PH_FLAG_W,PCO2TMP,C14ERR,HELIER,DELHER,PH_TMP,C13ERR,THETA,TRITER
,,,,,,,,,,,,DBAR,ITS-90,PSS-78,,PSS-78,,UMOL/KG,,UMOL/KG,,UMOL/KG,,UMOL/KG,,UMOL/KG,,UMOL/KG,,PMOL/KG,,PMOL/KG,,PMOL/KG,,PMOL/KG,,TU,,NMOL/KG,,PERCNT,,/MILLE,,/MILLE,,UMOL/KG,,UATM,,UMOL/KG,,,,DEG C,/MILLE,NMOL/KG,PERCNT,DEG C,/MILLE,DEG C,TU
    31DSCG94_3,  P18N,    88,  1,    136,   1025,2,19940329,0634,-25.4983,-103.0000, 3377,      9.7,  24.3659,  35.9729,2,-999.0000,5,    204.5,2,    211.1,6,     1.20,2,     0.10,2,     0.00,2,     0.13,2,    1.948,2,    1.132,2, -999.000,9, -999.000,9, -999.000,9,-999.0000,9,  -999.00,9,   -999.0,9,   -999.0,9,   2046.2,2,    320.7,2,   2363.0,6,  -999.00,9,   20.00,  -999.0,-999.0000,-999.000, -999.00,  -999.0, 24.3638,-999.000
    31DSCG94_3,  P18N,    88,  1,    135,   1247,2,19940329,0634,-25.4983,-103.0000, 3377,     24.8,  24.3721,  35.9720,2,  35.9724,2,    206.8,2,    210.6,2,     1.15,2,     0.08,2,     0.00,2,     0.12,2,    1.966,2,    1.088,2, -999.000,9, -999.000,9, -999.000,9,-999.0000,9,  -999.00,9,   -999.0,9,   -999.0,9,   -999.0,9,    320.8,2,   -999.0,9,     8.05,2,   20.00,  -999.0,-999.0000,-999.000,   25.00,  -999.0, 24.3668,-999.000
    31DSCG94_3,  P18N,    88,  1,    134,   1108,2,19940329,0634,-25.4983,-103.0000, 3377,     51.7,  23.8672,  35.9426,2,  35.9513,2,    211.6,2,    215.4,2,     1.21,2,     0.08,2,     0.00,2,     0.14,2,    2.036,2,    1.145,2, -999.000,9, -999.000,9, -999.000,9,-999.0000,9,  -999.00,9,   -999.0,9,   -999.0,9,   2047.0,2,    320.0,2,   2360.0,2,  -999.00,9,   20.00,  -999.0,-999.0000,-999.000, -999.00,  -999.0, 23.8563,-999.000
    31DSCG94_3,  P18N,    88,  1,    133,   1244,2,19940329,0634,-25.4983,-103.0000, 3377,     73.7,  22.1858,  35.8937,2,  35.8413,3,    225.6,2,    230.6,2,     1.13,2,     0.05,2,     0.01,2,     0.15,2,    2.248,2,    1.229,2, -999.000,9, -999.000,9, -999.000,9,-999.0000,9,  -999.00,9,   -999.0,9,   -999.0,9,   -999.0,9,    320.0,2,   -999.0,9,     8.05,2,   20.00,  -999.0,-999.0000,-999.000,   25.00,  -999.0, 22.1711,-999.000
    31DSCG94_3,  P18N,    88,  1,    132,   1003,2,19940329,0634,-25.4983,-103.0000, 3377,     98.3,  20.8333,  35.6832,2,  35.6923,2,    226.7,2,    232.6,2,     1.09,2,     0.06,2,     0.00,2,     0.11,2,    2.283,2,    1.281,2, -999.000,9, -999.000,9, -999.000,9,-999.0000,9,  -999.00,9,   -999.0,9,   -999.0,9,   2032.5,2,    318.8,2,   2345.0,2,     8.05,2,   20.00,  -999.0,-999.0000,-999.000,   25.00,  -999.0, 20.8145,-999.000
    31DSCG94_3,  P18N,    88,  1,    131,   1211,2,19940329,0634,-25.4983,-103.0000, 3377,    123.6,  20.4083,  35.6919,2,  35.6874,2,    223.8,2,    226.9,2,     1.08,2,     0.01,2,     0.00,2,     0.10,2,    2.293,6,    1.265,6, -999.000,9, -999.000,9, -999.000,9,-999.0000,9,  -999.00,9,   -999.0,9,   -999.0,9,   -999.0,9,    328.1,2,   -999.0,9,  -999.00,9,   20.00,  -999.0,-999.0000,-999.000, -999.00,  -999.0, 20.3851,-999.000
    31DSCG94_3,  P18N,    88,  1,    130,   1241,2,19940329,0634,-25.4983,-103.0000, 3377,    148.8,  19.7924,  35.5578,2,  35.5532,2,    222.8,2,    228.4,2,     1.06,2,     0.09,2,     0.00,2,     0.09,2,    2.350,2,    1.270,2, -999.000,9, -999.000,9, -999.000,9,-999.0000,9,  -999.00,9,   -999.0,9,   -999.0,9,   -999.0,9,    335.3,2,   -999.0,9,     8.03,2,   20.00,  -999.0,-999.0000,-999.000,   25.00,  -999.0, 19.7651,-999.000
    31DSCG94_3,  P18N,    88,  1,    129,   1031,2,19940329,0634,-25.4983,-103.0000, 3377,    200.4,  18.9481,  35.4168,2,  35.4003,2,    218.2,2,    219.1,2,     1.07,2,     0.16,2,     0.01,2,     0.14,2, -999.000,5, -999.000,5, -999.000,9, -999.000,9, -999.000,9,-999.0000,9,  -999.00,9,   -999.0,9,   -999.0,9,   2041.2,2,    351.3,2,   2331.0,2,     8.01,2,   20.00,  -999.0,-999.0000,-999.000,   25.00,  -999.0, 18.9123,-999.000
    31DSCG94_3,  P18N,    88,  1,    128,   1032,3,19940329,0634,-25.4983,-103.0000, 3377,    250.4,  16.6158,  35.0556,2,  34.6794,4,    209.5,2,   -999.0,9,  -999.00,9,  -999.00,9,  -999.00,9,  -999.00,9,    2.386,2,    1.316,2, -999.000,9, -999.000,9, -999.000,9,-999.0000,9,  -999.00,9,   -999.0,9,   -999.0,9,   -999.0,9,   -999.0,9,   -999.0,9,  -999.00,9, -999.00,  -999.0,-999.0000,-999.000, -999.00,  -999.0, 16.5751,-999.000
    31DSCG94_3,  P18N,    88,  1,    127,   1008,2,19940329,0634,-25.4983,-103.0000, 3377,    298.0,  13.9399,  34.6959,2,-999.0000,5,    200.3,2,    203.3,2,     2.14,2,     7.38,2,     0.00,2,     0.68,2, -999.000,9, -999.000,9, -999.000,9, -999.000,9, -999.000,9,-999.0000,9,  -999.00,9,   -999.0,9,   -999.0,9,   2075.6,2,    515.3,2,   2285.0,2,  -999.00,9,   20.00,  -999.0,-999.0000,-999.000, -999.00,  -999.0, 13.8969,-999.000
    31DSCG94_3,  P18N,    88,  1,    126,   1007,2,19940329,0634,-25.4983,-103.0000, 3377,    351.0,  11.1061,  34.4939,2,  34.5014,2,    190.0,2,   -999.0,9,     4.98,2,    14.81,2,     0.00,2,     1.17,2,    1.874,2,    0.949,2, -999.000,9, -999.000,9, -999.000,9,-999.0000,9,  -999.00,9,   -999.0,9,   -999.0,9,   -999.0,9,    668.2,2,   -999.0,9,     7.78,2,   20.00,  -999.0,-999.0000,-999.000,   25.00,  -999.0, 11.0625,-999.000
    31DSCG94_3,  P18N,    88,  1,    125,   1203,2,19940329,0634,-25.4983,-103.0000, 3377,    400.2,   9.2768,  34.3998,2,  34.4017,2,    175.1,2,    181.3,6,     7.56,2,    20.19,2,     0.00,2,     1.52,2, -999.000,9, -999.000,9, -999.000,9, -999.000,9, -999.000,9,-999.0000,9,  -999.00,9,   -999.0,9,   -999.0,9,   2143.2,2,    796.7,2,   2278.0,2,     7.71,2,   20.00,  -999.0,-999.0000,-999.000,   25.00,  -999.0,  9.2323,-999.000
    31DSCG94_3,  P18N,    88,  1,    123,   1220,2,19940329,0634,-25.4983,-103.0000, 3377,    500.2,   7.1178,  34.3429,2,  34.3422,2,    184.5,2,    200.0,2,     9.99,2,    24.66,2,     0.00,2,     1.73,2,    1.246,2,    0.634,2, -999.000,9, -999.000,9, -999.000,9,-999.0000,9,  -999.00,9,   -999.0,9,   -999.0,9,   2156.0,2,    853.8,2,   2282.0,2,     7.68,2,   20.00,  -999.0,-999.0000,-999.000,   25.00,  -999.0,  7.0700,-999.000
    31DSCG94_3,  P18N,    88,  1,    122,   1245,2,19940329,0634,-25.4983,-103.0000, 3377,    601.2,   6.0389,  34.3064,2,  34.3061,2,    209.0,2,   -999.0,9,    10.68,2,    24.86,2,     0.00,2,     1.68,2, -999.000,9, -999.000,9, -999.000,9, -999.000,9, -999.000,9,-999.0000,9,  -999.00,9,   -999.0,9,   -999.0,9,   2146.2,2,    793.1,2,   2278.0,2,     7.71,2,   20.00,  -999.0,-999.0000,-999.000,   25.00,  -999.0,  5.9859,-999.000
    31DSCG94_3,  P18N,    88,  1,    121,   1206,2,19940329,0634,-25.4983,-103.0000, 3377,    698.2,   5.5622,  34.2972,2,  34.2974,2,    197.9,2,    209.7,2,    16.17,2,    28.18,2,     0.00,2,     1.91,2,    0.606,2,    0.346,2, -999.000,9, -999.000,9, -999.000,9,-999.0000,9,  -999.00,9,   -999.0,9,   -999.0,9,   2167.2,2,    907.9,2,   2287.0,2,     7.66,2,   20.00,  -999.0,-999.0000,-999.000,   25.00,  -999.0,  5.5027,-999.000
    31DSCG94_3,  P18N,    88,  1,    120,   1028,2,19940329,0634,-25.4983,-103.0000, 3377,    799.1,   5.0143,  34.3034,2,  34.3040,2,    184.6,2,    191.7,2,    23.88,2,    31.09,2,     0.00,2,     2.13,2, -999.000,9, -999.000,9, -999.000,9, -999.000,9, -999.000,9,-999.0000,9,  -999.00,9,   -999.0,9,   -999.0,9,   2186.9,2,    999.1,2,   2297.0,2,     7.62,2,   20.00,  -999.0,-999.0000,-999.000,   25.00,  -999.0,  4.9490,-999.000
    31DSCG94_3,  P18N,    88,  1,    119,   1248,2,19940329,0634,-25.4983,-103.0000, 3377,    897.9,   4.5195,  34.3433,2,  34.3457,2,    163.6,2,    163.2,2,    36.77,2,    34.33,2,     0.00,2,     2.36,2,    0.073,6,    0.048,6, -999.000,9, -999.000,9, -999.000,9,-999.0000,9,  -999.00,9,   -999.0,9,   -999.0,9,   2216.8,3,   1114.9,4,   2227.0,3,     7.57,2,   20.00,  -999.0,-999.0000,-999.000,   25.00,  -999.0,  4.4489,-999.000
    31DSCG94_3,  P18N,    88,  1,    118,   1207,3,19940329,0634,-25.4983,-103.0000, 3377,   1000.6,   4.0939,  34.4059,2,  34.4091,2,    144.4,2,    138.2,2,    54.01,2,    36.30,2,     0.00,2,     2.52,2, -999.000,9, -999.000,9, -999.000,9, -999.000,9, -999.000,9,-999.0000,9,  -999.00,9,   -999.0,9,   -999.0,9,   -999.0,9,   -999.0,9,   -999.0,9,  -999.00,9, -999.00,  -999.0,-999.0000,-999.000, -999.00,  -999.0,  4.0176,-999.000
    31DSCG94_3,  P18N,    88,  1,    117,   1119,2,19940329,0634,-25.4983,-103.0000, 3377,   1098.5,   3.7261,  34.4619,2,  34.4619,2,    136.3,2,   -999.0,9,    66.99,2,    37.10,2,     0.02,3,     2.61,2,    0.005,2,    0.004,2, -999.000,9, -999.000,9, -999.000,9,-999.0000,9,  -999.00,9,   -999.0,9,   -999.0,9,   -999.0,9,   -999.0,9,   -999.0,9,  -999.00,9, -999.00,  -999.0,-999.0000,-999.000, -999.00,  -999.0,  3.6446,-999.000
    31DSCG94_3,  P18N,    88,  1,    116,   1036,2,19940329,0634,-25.4983,-103.0000, 3377,   1200.0,   3.4426,  34.5002,2,  34.4994,2,    137.0,2,    131.6,2,    76.08,2,    36.78,2,     0.00,2,     2.61,2, -999.000,9, -999.000,9, -999.000,9, -999.000,9, -999.000,9,-999.0000,9,  -999.00,9,   -999.0,9,   -999.0,9,   -999.0,9,   -999.0,9,   -999.0,9,  -999.00,9, -999.00,  -999.0,-999.0000,-999.000, -999.00,  -999.0,  3.3551,-999.000
    31DSCG94_3,  P18N,    88,  1,    115,   1017,2,19940329,0634,-25.4983,-103.0000, 3377,   1300.8,   3.1744,  34.5290,2,  34.5296,2,    140.1,2,    136.7,2,    84.68,2,    36.16,2,     0.00,2,     2.56,2,    0.000,2,    0.000,2, -999.000,9, -999.000,9, -999.000,9,-999.0000,9,  -999.00,9,   -999.0,9,   -999.0,9,   -999.0,9,   -999.0,9,   -999.0,9,  -999.00,9, -999.00,  -999.0,-999.0000,-999.000, -999.00,  -999.0,  3.0813,-999.000
    31DSCG94_3,  P18N,    88,  1,    114,   1016,2,19940329,0634,-25.4983,-103.0000, 3377,   1399.0,   2.8656,  34.5504,2,  34.5502,2,    142.5,2,    141.8,2,    90.56,2,    35.89,2,     0.00,2,     2.51,2, -999.000,9, -999.000,9, -999.000,9, -999.000,9, -999.000,9,-999.0000,9,  -999.00,9,   -999.0,9,   -999.0,9,   -999.0,9,   -999.0,9,   -999.0,9,  -999.00,9, -999.00,  -999.0,-999.0000,-999.000, -999.00,  -999.0,  2.7676,-999.000
    31DSCG94_3,  P18N,    88,  1,    113,   1209,2,19940329,0634,-25.4983,-103.0000, 3377,   1498.7,   2.6717,  34.5661,2,  34.5664,2,    144.8,2,    146.4,2,    93.74,2,    35.76,2,     0.00,2,     2.47,2, -999.000,9, -999.000,9, -999.000,9, -999.000,9, -999.000,9,-999.0000,9,  -999.00,9,   -999.0,9,   -999.0,9,   -999.0,9,   -999.0,9,   -999.0,9,  -999.00,9, -999.00,  -999.0,-999.0000,-999.000, -999.00,  -999.0,  2.5677,-999.000
    31DSCG94_3,  P18N,    88,  1,    112,   1033,2,19940329,0634,-25.4983,-103.0000, 3377,   1600.4,   2.4628,  34.5883,2,  34.5870,2,    147.3,2,    149.3,2,    99.11,2,    35.82,2,     0.00,2,     2.48,2,   -0.001,2,    0.000,2, -999.000,9, -999.000,9, -999.000,9,-999.0000,9,  -999.00,9,   -999.0,9,   -999.0,9,   -999.0,9,   -999.0,9,   -999.0,9,  -999.00,9, -999.00,  -999.0,-999.0000,-999.000, -999.00,  -999.0,  2.3531,-999.000
    31DSCG94_3,  P18N,    88,  1,    111,   1240,2,19940329,0634,-25.4983,-103.0000, 3377,   1799.4,   2.1871,  34.6203,2,  34.6199,2,    149.9,2,    154.0,6,   108.31,2,    35.38,2,     0.00,2,     2.47,2, -999.000,9, -999.000,9, -999.000,9, -999.000,9, -999.000,9,-999.0000,9,  -999.00,9,   -999.0,9,   -999.0,9,   -999.0,9,   -999.0,9,   -999.0,9,  -999.00,9, -999.00,  -999.0,-999.0000,-999.000, -999.00,  -999.0,  2.0646,-999.000
    31DSCG94_3,  P18N,    88,  1,    110,   1005,2,19940329,0634,-25.4983,-103.0000, 3377,   1967.5,   2.0574,  34.6362,2,  34.6356,2,    150.7,2,    154.8,2,   114.21,2,    35.11,2,     0.00,2,     2.45,2, -999.000,9, -999.000,9, -999.000,9, -999.000,9, -999.000,9,-999.0000,9,  -999.00,9,   -999.0,9,   -999.0,9,   -999.0,9,   -999.0,9,   -999.0,9,  -999.00,9, -999.00,  -999.0,-999.0000,-999.000, -999.00,  -999.0,  1.9228,-999.000
    31DSCG94_3,  P18N,    88,  1,    109,   1611,2,19940329,0634,-25.4983,-103.0000, 3377,   2201.0,   1.9452,  34.6515,2,  34.6509,2,    152.2,2,    155.7,2,   119.18,2,    35.08,2,     0.00,2,     2.43,2, -999.000,5, -999.000,5, -999.000,9, -999.000,9, -999.000,9,-999.0000,9,  -999.00,9,   -999.0,9,   -999.0,9,   -999.0,9,   -999.0,9,   -999.0,9,  -999.00,9, -999.00,  -999.0,-999.0000,-999.000, -999.00,  -999.0,  1.7925,-999.000
    31DSCG94_3,  P18N,    88,  1,    108,   1218,2,19940329,0634,-25.4983,-103.0000, 3377,   2398.5,   1.8965,  34.6594,2,  34.6590,2,    153.7,2,    156.5,2,   120.43,2,    34.77,2,     0.00,2,     2.41,2, -999.000,9, -999.000,9, -999.000,9, -999.000,9, -999.000,9,-999.0000,9,  -999.00,9,   -999.0,9,   -999.0,9,   -999.0,9,   -999.0,9,   -999.0,9,  -999.00,9, -999.00,  -999.0,-999.0000,-999.000, -999.00,  -999.0,  1.7272,-999.000
    31DSCG94_3,  P18N,    88,  1,    107,   1257,2,19940329,0634,-25.4983,-103.0000, 3377,   2598.2,   1.8631,  34.6663,2,  34.6654,2,    154.8,2,    156.7,2,   121.86,2,    34.80,2,     0.00,2,     2.41,2, -999.000,9, -999.000,9, -999.000,9, -999.000,9, -999.000,9,-999.0000,9,  -999.00,9,   -999.0,9,   -999.0,9,   -999.0,9,   -999.0,9,   -999.0,9,  -999.00,9, -999.00,  -999.0,-999.0000,-999.000, -999.00,  -999.0,  1.6763,-999.000
    31DSCG94_3,  P18N,    88,  1,    106,   1224,2,19940329,0634,-25.4983,-103.0000, 3377,   2799.6,   1.8511,  34.6702,2,  34.6697,2,    155.0,2,    156.0,2,   122.81,2,    34.79,2,     0.00,2,     2.45,2,    0.002,6,    0.001,6, -999.000,9, -999.000,9, -999.000,9,-999.0000,9,  -999.00,9,   -999.0,9,   -999.0,9,   -999.0,9,   -999.0,9,   -999.0,9,  -999.00,9, -999.00,  -999.0,-999.0000,-999.000, -999.00,  -999.0,  1.6458,-999.000
    31DSCG94_3,  P18N,    88,  1,    105,   1246,2,19940329,0634,-25.4983,-103.0000, 3377,   2998.3,   1.8337,  34.6751,2,  34.6747,2,    153.9,2,    157.7,2,   125.46,2,    35.01,2,     0.00,2,     2.47,2, -999.000,9, -999.000,9, -999.000,9, -999.000,9, -999.000,9,-999.0000,9,  -999.00,9,   -999.0,9,   -999.0,9,   -999.0,9,   -999.0,9,   -999.0,9,  -999.00,9, -999.00,  -999.0,-999.0000,-999.000, -999.00,  -999.0,  1.6097,-999.000
    31DSCG94_3,  P18N,    88,  1,    104,   1217,2,19940329,0634,-25.4983,-103.0000, 3377,   3200.3,   1.8284,  34.6788,2,  34.6779,2,    152.3,2,    155.6,2,   128.39,2,    35.04,2,     0.00,2,     2.44,2, -999.000,9, -999.000,9, -999.000,9, -999.000,9, -999.000,9,-999.0000,9,  -999.00,9,   -999.0,9,   -999.0,9,   -999.0,9,   -999.0,9,   -999.0,9,  -999.00,9, -999.00,  -999.0,-999.0000,-999.000, -999.00,  -999.0,  1.5845,-999.000
    31DSCG94_3,  P18N,    88,  1,    103,   9999,2,19940329,0634,-25.4983,-103.0000, 3377,   3300.4,   1.8329,  34.6796,2,  34.6800,2,    151.7,2,    155.9,2,   129.17,2,    35.20,2,     0.00,2,     2.44,2,    0.001,2,    0.004,2, -999.000,9, -999.000,9, -999.000,9,-999.0000,9,  -999.00,9,   -999.0,9,   -999.0,9,   -999.0,9,   -999.0,9,   -999.0,9,  -999.00,9, -999.00,  -999.0,-999.0000,-999.000, -999.00,  -999.0,  1.5788,-999.000
    31DSCG94_3,  P18N,    88,  1,    102,   1223,2,19940329,0634,-25.4983,-103.0000, 3377,   3300.9,   1.8332,  34.6794,2,  34.6790,2,    151.7,2,    155.0,2,   128.26,2,    35.38,2,     0.00,2,     2.45,2, -999.000,9, -999.000,9, -999.000,9, -999.000,9, -999.000,9,-999.0000,9,  -999.00,9,   -999.0,9,   -999.0,9,   -999.0,9,   -999.0,9,   -999.0,9,  -999.00,9, -999.00,  -999.0,-999.0000,-999.000, -999.00,  -999.0,  1.5791,-999.000
    31DSCG94_3,  P18N,    88,  1,    101,   1041,2,19940329,0634,-25.4983,-103.0000, 3377,   3373.4,   1.8352,  34.6802,2,  34.6812,2,    150.8,2,    154.8,2,   128.12,2,    35.43,2,     0.01,2,     2.49,2, -999.000,9, -999.000,9, -999.000,9, -999.000,9, -999.000,9,-999.0000,9,  -999.00,9,   -999.0,9,   -999.0,9,   -999.0,9,   -999.0,9,   -999.0,9,  -999.00,9, -999.00,  -999.0,-999.0000,-999.000, -999.00,  -999.0,  1.5736,-999.000