BOTTLE,20220630CCHSIOAMB
EXPOCODE,SECT_ID,STNNBR,CASTNO,SAMPNO,BTLNBR,BTLNBR_FLAG_W,DATE,TIME,LATITUDE,LONGITUDE,DEPTH,CTDPRS,CTDTMP,CTDSAL,CTDSAL_FLAG_W,SALNTY,SALNTY_FLAG_W,CTDOXY,CTDOXY_FLAG_W,OXYGEN,OXYGEN_FLAG_W,SILCAT,SILCAT_FLAG_W,NITRAT,NITRAT_FLAG_W,NITRIT,NITRIT_FLAG_W,PHSPHT,PHSPHT_FLAG_W,CFC-11,CFC-11_FLAG_W,CFC-12,CFC-12_FLAG_W,CFC113,CFC113_FLAG_W,CCL4,CCL4_FLAG_W,TRITUM,TRITUM_FLAG_W,HELIUM,HELIUM_FLAG_W,DELHE3,DELHE3_FLAG_W,DELC14,DELC14_FLAG_W,DELC13,DELC13_FLAG_W,TCARBN,TCARBN_FLAG_W,PCO2,PCO2_FLAG_W,ALKALI,ALKALI_FLAG_W,PH,PH_FLAG_W,PCO2TMP,C14ERR,HELIER,DELHER,PH_TMP,C13ERR,THETA,TRITER
,,,,,,,,,,,,DBAR,ITS-90,PSS-78,,PSS-78,,UMOL/KG,,UMOL/KG,,UMOL/KG,,UMOL/KG,,UMOL/KG,,UMOL/KG,,PMOL/KG,,PMOL/KG,,PMOL/KG,,PMOL/KG,,TU,,NMOL/KG,,PERCNT,,/MILLE,,/MILLE,,UMOL/KG,,UATM,,UMOL/KG,,,,DEG C,/MILLE,NMOL/KG,PERCNT,DEG C,/MILLE,DEG C,TU
    31DSCG94_3,  P18N,   181,  1,    136,   1025,2,19940423,0320, 17.5017,-109.9967, 3468,      9.1,  26.7798,  34.1675,2,  34.1753,2,    224.9,2,    206.3,2,     0.00,2,     0.01,2,     0.00,2,     0.13,2,    1.809,2,    1.046,2, -999.000,9, -999.000,9, -999.000,9,-999.0000,9,  -999.00,9,   -999.0,9,   -999.0,9,   1933.3,2,    264.2,2,   2261.0,6,     8.11,2,   20.00,  -999.0,-999.0000,-999.000,   25.00,  -999.0, 26.7777,-999.000
    31DSCG94_3,  P18N,   181,  1,    135,   1247,2,19940423,0320, 17.5017,-109.9967, 3468,     23.1,  25.9525,  34.4182,2,  34.4160,2,    201.6,2,    209.3,2,     0.00,2,     0.00,2,     0.00,2,     0.17,2,    1.885,6,    1.069,6, -999.000,9, -999.000,9, -999.000,9,-999.0000,9,  -999.00,9,   -999.0,9,   -999.0,9,   -999.0,9,   -999.0,9,   -999.0,9,     8.09,2, -999.00,  -999.0,-999.0000,-999.000,   25.00,  -999.0, 25.9473,-999.000
    31DSCG94_3,  P18N,   181,  1,    134,   1216,2,19940423,0320, 17.5017,-109.9967, 3468,     48.7,  24.9228,  34.5068,2,  34.5120,2,    198.0,2,    213.0,2,     0.00,2,     0.00,2,     0.00,2,     0.16,2,    1.952,2,    1.082,2, -999.000,9, -999.000,9, -999.000,9,-999.0000,9,  -999.00,9,   -999.0,9,   -999.0,9,   1970.9,2,   2243.7,4,   2283.0,2,     8.09,2,   20.00,  -999.0,-999.0000,-999.000,   25.00,  -999.0, 24.9123,-999.000
    31DSCG94_3,  P18N,   181,  1,    133,   1244,2,19940423,0320, 17.5017,-109.9967, 3468,     74.4,  23.1982,  34.4309,2,  34.4381,2,    201.6,2,    215.4,2,     0.00,2,     0.00,2,     0.00,2,     0.31,2,    2.081,2,    1.161,2, -999.000,9, -999.000,9, -999.000,9,-999.0000,9,  -999.00,9,   -999.0,9,   -999.0,9,   -999.0,9,   -999.0,9,   -999.0,9,     8.04,2, -999.00,  -999.0,-999.0000,-999.000,   25.00,  -999.0, 23.1830,-999.000
    31DSCG94_3,  P18N,   181,  1,    132,   1003,2,19940423,0320, 17.5017,-109.9967, 3468,     98.9,  18.7631,  34.3058,2,  34.2422,2,    113.7,2,    126.9,2,     4.10,2,    10.00,2,     0.43,2,     1.11,2,    1.937,2,    1.038,2, -999.000,9, -999.000,9, -999.000,9,-999.0000,9,  -999.00,9,   -999.0,9,   -999.0,9,   2098.5,2,    571.8,2,   2262.0,2,     7.81,2,   20.00,  -999.0,-999.0000,-999.000,   25.00,  -999.0, 18.7457,-999.000
    31DSCG94_3,  P18N,   181,  1,    131,   1211,2,19940423,0320, 17.5017,-109.9967, 3468,    123.1,  15.2623,  34.5252,2,  34.5288,2,     68.7,2,     31.5,2,    16.50,2,    24.10,2,     0.03,2,     2.14,2,    1.255,2,    0.662,2, -999.000,9, -999.000,9, -999.000,9,-999.0000,9,  -999.00,9,   -999.0,9,   -999.0,9,   -999.0,9,   -999.0,9,   -999.0,9,     7.54,2, -999.00,  -999.0,-999.0000,-999.000,   25.00,  -999.0, 15.2436,-999.000
    31DSCG94_3,  P18N,   181,  1,    130,   1241,2,19940423,0320, 17.5017,-109.9967, 3468,    149.3,  14.0163,  34.7153,2,  34.7125,2,     18.9,2,      0.5,2,    22.19,2,    27.38,2,     0.02,2,     2.46,2,    0.676,2,    0.369,2, -999.000,9, -999.000,9, -999.000,9,-999.0000,9,  -999.00,9,   -999.0,9,   -999.0,9,   2245.8,2,   1469.6,2,   2291.0,2,     7.47,2,   20.00,  -999.0,-999.0000,-999.000,   25.00,  -999.0, 13.9948,-999.000
    31DSCG94_3,  P18N,   181,  1,    129,   1240,2,19940423,0320, 17.5017,-109.9967, 3468,    173.6,  13.3182,  34.7601,2,  34.7601,2,     20.1,2,      0.6,6,    24.20,2,    25.12,2,     1.55,2,     2.48,2,    0.445,2,    0.254,2, -999.000,9, -999.000,9, -999.000,9,-999.0000,9,  -999.00,9,   -999.0,9,   -999.0,9,   -999.0,9,   -999.0,9,   -999.0,9,     7.46,2, -999.00,  -999.0,-999.0000,-999.000,   25.00,  -999.0, 13.2940,-999.000
    31DSCG94_3,  P18N,   181,  1,    128,   1114,2,19940423,0320, 17.5017,-109.9967, 3468,    199.5,  12.6566,  34.7653,2,  34.7648,2,     16.0,2,      1.1,2,    26.12,2,    24.53,2,     2.68,2,     2.53,2,    0.306,2,    0.178,2, -999.000,9, -999.000,9, -999.000,9,-999.0000,9,  -999.00,9,   -999.0,9,   -999.0,9,   2257.0,2,   1540.6,2,   2299.0,2,     7.45,2,   20.00,  -999.0,-999.0000,-999.000,   25.00,  -999.0, 12.6297,-999.000
    31DSCG94_3,  P18N,   181,  1,    127,   1008,2,19940423,0320, 17.5017,-109.9967, 3468,    250.2,  11.6594,  34.7412,2,  34.7405,2,      8.9,2,      0.7,2,    29.94,2,    24.46,2,     2.42,2,     2.57,2,    0.146,6,    0.087,6, -999.000,9, -999.000,9, -999.000,9,-999.0000,9,  -999.00,9,   -999.0,9,   -999.0,9,   2267.1,2,   1646.9,2,   2298.0,2,     7.43,2,   20.00,  -999.0,-999.0000,-999.000,   25.00,  -999.0, 11.6274,-999.000
    31DSCG94_3,  P18N,   181,  1,    126,   1007,2,19940423,0320, 17.5017,-109.9967, 3468,    294.9,  10.9693,  34.7069,2,  34.7068,2,      7.3,2,      4.7,2,    33.09,2,    23.15,2,     2.30,2,     2.66,2,    0.092,2,    0.053,2, -999.000,9, -999.000,9, -999.000,9,-999.0000,9,  -999.00,9,   -999.0,9,   -999.0,9,   2276.6,2,   1737.4,2,   2301.0,2,     7.41,2,   20.00,  -999.0,-999.0000,-999.000,   25.00,  -999.0, 10.9329,-999.000
    31DSCG94_3,  P18N,   181,  1,    125,   1256,2,19940423,0320, 17.5017,-109.9967, 3468,    330.4,  10.5289,  34.6806,2,  34.6804,2,      4.8,2,      1.3,2,    35.80,2,    24.24,2,     1.71,2,     2.69,2,    0.063,2,    0.041,2, -999.000,9, -999.000,9, -999.000,9,-999.0000,9,  -999.00,9,   -999.0,9,   -999.0,9,   -999.0,9,   -999.0,9,   -999.0,9,     7.40,2, -999.00,  -999.0,-999.0000,-999.000,   25.00,  -999.0, 10.4892,-999.000
    31DSCG94_3,  P18N,   181,  1,    123,   1220,2,19940423,0320, 17.5017,-109.9967, 3468,    398.7,   9.6087,  34.6282,2,  34.6288,2,      3.7,2,      0.4,2,    42.42,2,    27.51,2,     0.44,2,     2.83,2,    0.034,2,    0.016,2, -999.000,9, -999.000,9, -999.000,9,-999.0000,9,  -999.00,9,   -999.0,9,   -999.0,9,   2292.3,2,   1870.5,2,   2307.0,2,     7.37,2,   20.00,  -999.0,-999.0000,-999.000,   25.00,  -999.0,  9.5633,-999.000
    31DSCG94_3,  P18N,   181,  1,    122,   1245,2,19940423,0320, 17.5017,-109.9967, 3468,    501.0,   8.0180,  34.5538,2,  34.5537,2,      1.8,2,      2.1,2,    57.34,2,    32.80,2,     0.00,2,     3.02,2, -999.000,9, -999.000,9, -999.000,9, -999.000,9, -999.000,9,-999.0000,9,  -999.00,9,   -999.0,9,   -999.0,9,   2308.4,2,   1981.5,2,   2317.0,2,     7.35,2,   20.00,  -999.0,-999.0000,-999.000,   25.00,  -999.0,  7.9665,-999.000
    31DSCG94_3,  P18N,   181,  1,    121,   1206,2,19940423,0320, 17.5017,-109.9967, 3468,    599.3,   6.9231,  34.5296,2,  34.5298,2,      1.0,2,      1.2,2,    69.68,2,    37.04,2,     0.00,2,     3.14,2,    0.009,2,    0.002,2, -999.000,9, -999.000,9, -999.000,9,-999.0000,9,  -999.00,9,   -999.0,9,   -999.0,9,   2322.1,2,   2043.6,2,   2333.0,2,     7.34,2,   20.00,  -999.0,-999.0000,-999.000,   25.00,  -999.0,  6.8661,-999.000
    31DSCG94_3,  P18N,   181,  1,    120,   1028,2,19940423,0320, 17.5017,-109.9967, 3468,    698.8,   6.0003,  34.5247,2,  34.5250,2,      0.9,2,      1.4,2,    80.97,2,    41.03,2,     0.01,2,     3.22,2, -999.000,9, -999.000,9, -999.000,9, -999.000,9, -999.000,9,-999.0000,9,  -999.00,9,   -999.0,9,   -999.0,9,   2336.1,2,   2113.5,2,   2338.0,2,     7.33,2,   20.00,  -999.0,-999.0000,-999.000,   25.00,  -999.0,  5.9382,-999.000
    31DSCG94_3,  P18N,   181,  1,    119,   1248,2,19940423,0320, 17.5017,-109.9967, 3468,    797.8,   5.3655,  34.5288,2,  34.5287,2,      1.8,2,      2.8,2,    89.64,2,    43.36,2,     0.00,2,     3.27,2,   -0.001,2,   -0.002,2, -999.000,9, -999.000,9, -999.000,9,-999.0000,9,  -999.00,9,   -999.0,9,   -999.0,9,   2346.2,2,   2148.2,2,   2346.0,2,     7.33,2,   20.00,  -999.0,-999.0000,-999.000,   25.00,  -999.0,  5.2979,-999.000
    31DSCG94_3,  P18N,   181,  1,    118,   1115,2,19940423,0320, 17.5017,-109.9967, 3468,    898.4,   4.9336,  34.5369,2,  34.5377,2,      4.2,2,      4.1,2,    96.82,2,    44.53,2,     0.00,2,     3.28,2, -999.000,9, -999.000,9, -999.000,9, -999.000,9, -999.000,9,-999.0000,9,  -999.00,9,   -999.0,9,   -999.0,9,   2353.1,2,   2163.4,2,   2355.0,2,     7.33,2,   20.00,  -999.0,-999.0000,-999.000,   25.00,  -999.0,  4.8598,-999.000
    31DSCG94_3,  P18N,   181,  1,    117,   1119,2,19940423,0320, 17.5017,-109.9967, 3468,    999.6,   4.4520,  34.5448,2,  34.5452,2,      8.8,2,     10.6,2,   105.08,2,    45.31,2,     0.00,2,     3.30,2,    0.003,2,   -0.002,2, -999.000,9, -999.000,9, -999.000,9,   1.8660,2,    19.92,2,   -999.0,9,   -999.0,9,   2360.0,2,   2132.4,2,   2364.0,6,     7.33,2,   20.00,  -999.0,-999.0000,-999.000,   25.00,  -999.0,  4.3729,-999.000
    31DSCG94_3,  P18N,   181,  1,    116,   1036,2,19940423,0320, 17.5017,-109.9967, 3468,   1098.5,   4.1144,  34.5542,2,  34.5540,2,     15.5,2,     17.1,2,   112.12,2,    45.42,2,     0.00,2,     3.27,2, -999.000,9, -999.000,9, -999.000,9, -999.000,9, -999.000,9,   1.8700,2,    22.34,2,   -999.0,9,   -999.0,9,   -999.0,9,   -999.0,9,   -999.0,9,     7.34,2, -999.00,  -999.0,-999.0000,-999.000,   25.00,  -999.0,  4.0294,-999.000
    31DSCG94_3,  P18N,   181,  1,    115,   1017,2,19940423,0320, 17.5017,-109.9967, 3468,   1197.7,   3.7499,  34.5668,2,  34.5666,2,     22.1,2,     24.9,6,   118.65,2,    45.02,2,     0.00,2,     3.23,2, -999.000,9, -999.000,9, -999.000,9, -999.000,9, -999.000,9,   1.8950,2,    23.64,2,   -999.0,9,   -999.0,9,   -999.0,9,   -999.0,9,   -999.0,9,  -999.00,9, -999.00,  -999.0,-999.0000,-999.000, -999.00,  -999.0,  3.6597,-999.000
    31DSCG94_3,  P18N,   181,  1,    114,   1016,2,19940423,0320, 17.5017,-109.9967, 3468,   1301.2,   3.4612,  34.5803,2,  34.5809,2,     29.8,2,     33.2,2,   125.71,2,    44.77,2,     0.00,2,     3.19,2, -999.000,9, -999.000,9, -999.000,9, -999.000,9, -999.000,9,-999.0000,9,  -999.00,9,   -999.0,9,   -999.0,9,   -999.0,9,   -999.0,9,   -999.0,9,     7.37,2, -999.00,  -999.0,-999.0000,-999.000,   25.00,  -999.0,  3.3650,-999.000
    31DSCG94_3,  P18N,   181,  1,    113,   1209,2,19940423,0320, 17.5017,-109.9967, 3468,   1400.9,   3.2189,  34.5909,2,  34.5919,2,     37.7,2,     40.9,2,   128.79,2,    43.33,2,     0.00,2,     3.20,2, -999.000,9, -999.000,9, -999.000,9, -999.000,9, -999.000,9,   1.9050,2,    26.28,2,   -999.0,9,   -999.0,9,   -999.0,9,   -999.0,9,   -999.0,9,  -999.00,9, -999.00,  -999.0,-999.0000,-999.000, -999.00,  -999.0,  3.1169,-999.000
    31DSCG94_3,  P18N,   181,  1,    112,   1033,2,19940423,0320, 17.5017,-109.9967, 3468,   1599.9,   2.7415,  34.6128,2,  34.6132,2,     54.8,2,     59.3,2,   137.63,2,    42.28,2,     0.00,2,     3.08,2, -999.000,9, -999.000,9, -999.000,9, -999.000,9, -999.000,9,   1.9060,2,    27.75,2,   -999.0,9,   -999.0,9,   -999.0,9,   -999.0,9,   -999.0,9,     7.42,2, -999.00,  -999.0,-999.0000,-999.000,   25.00,  -999.0,  2.6283,-999.000
    31DSCG94_3,  P18N,   181,  1,    111,   1240,2,19940423,0320, 17.5017,-109.9967, 3468,   1800.6,   2.4215,  34.6296,2,  34.6289,2,     72.9,2,     75.1,6,   144.84,2,    41.42,2,     0.00,2,     2.98,2, -999.000,9, -999.000,9, -999.000,9, -999.000,9, -999.000,9,   1.9220,2,    29.88,2,   -999.0,9,   -999.0,9,   -999.0,9,   -999.0,9,   -999.0,9,  -999.00,9, -999.00,  -999.0,-999.0000,-999.000, -999.00,  -999.0,  2.2957,-999.000
    31DSCG94_3,  P18N,   181,  1,    110,   1005,2,19940423,0320, 17.5017,-109.9967, 3468,   1998.8,   2.1977,  34.6423,2,  34.6420,2,     88.0,2,     85.2,2,   152.26,2,    40.60,2,     0.00,2,     2.90,2, -999.000,9, -999.000,9, -999.000,9, -999.000,9, -999.000,9,   1.9290,2,    32.12,2,   -999.0,9,   -999.0,9,   -999.0,9,   -999.0,9,   -999.0,9,     7.47,2, -999.00,  -999.0,-999.0000,-999.000,   25.00,  -999.0,  2.0583,-999.000
    31DSCG94_3,  P18N,   181,  1,    109,   1611,2,19940423,0320, 17.5017,-109.9967, 3468,   2200.0,   1.9837,  34.6538,2,  34.6543,2,     95.1,2,     96.9,2,   155.73,2,    39.43,2,     0.00,2,     2.81,2, -999.000,9, -999.000,9, -999.000,9, -999.000,9, -999.000,9,   1.9380,2,    35.26,2,   -999.0,9,   -999.0,9,   -999.0,9,   -999.0,9,   -999.0,9,  -999.00,9, -999.00,  -999.0,-999.0000,-999.000, -999.00,  -999.0,  1.8304,-999.000
    31DSCG94_3,  P18N,   181,  1,    108,   1218,2,19940423,0320, 17.5017,-109.9967, 3468,   2401.8,   1.8636,  34.6603,2,  34.6605,2,    104.5,2,    104.3,2,   157.42,2,    39.08,2,     0.00,2,     2.76,2, -999.000,9, -999.000,9, -999.000,9, -999.000,9, -999.000,9,   1.9490,2,    34.41,2,   -999.0,9,   -999.0,9,   -999.0,9,   -999.0,9,   -999.0,9,     7.51,2, -999.00,  -999.0,-999.0000,-999.000,   25.00,  -999.0,  1.6945,-999.000
    31DSCG94_3,  P18N,   181,  1,    107,   1257,2,19940423,0320, 17.5017,-109.9967, 3468,   2600.0,   1.7758,  34.6659,2,  34.6651,2,    109.0,2,   -999.0,9,   157.89,2,    38.62,2,     0.00,2,     2.72,2, -999.000,9, -999.000,9, -999.000,9, -999.000,9, -999.000,9,   1.9400,2,    32.19,2,   -999.0,9,   -999.0,9,   -999.0,9,   -999.0,9,   -999.0,9,  -999.00,9, -999.00,  -999.0,-999.0000,-999.000, -999.00,  -999.0,  1.5905,-999.000
    31DSCG94_3,  P18N,   181,  1,    106,   1224,2,19940423,0320, 17.5017,-109.9967, 3468,   2800.7,   1.7203,  34.6692,2,  34.6690,2,    113.3,2,    116.2,2,   158.63,2,    38.31,2,     0.00,2,     2.68,2, -999.000,9, -999.000,9, -999.000,9, -999.000,9, -999.000,9,   1.9290,2,    28.49,2,   -999.0,9,   -999.0,9,   -999.0,9,   -999.0,9,   -999.0,9,     7.53,2, -999.00,  -999.0,-999.0000,-999.000,   25.00,  -999.0,  1.5176,-999.000
    31DSCG94_3,  P18N,   181,  1,    105,   1246,2,19940423,0320, 17.5017,-109.9967, 3468,   3000.6,   1.6931,  34.6722,2,  34.6728,2,    116.2,2,    118.3,2,   158.52,6,    38.25,6,     0.00,6,     2.68,6, -999.000,9, -999.000,9, -999.000,9, -999.000,9, -999.000,9,   1.9240,2,    26.46,2,   -999.0,9,   -999.0,9,   -999.0,9,   -999.0,9,   -999.0,9,  -999.00,9, -999.00,  -999.0,-999.0000,-999.000, -999.00,  -999.0,  1.4720,-999.000
    31DSCG94_3,  P18N,   181,  1,    104,   1217,2,19940423,0320, 17.5017,-109.9967, 3468,   3199.3,   1.6879,  34.6745,2,  34.6745,2,    118.7,2,    120.7,2,   152.76,2,    37.99,2,     0.00,2,     2.66,2, -999.000,9, -999.000,9, -999.000,9, -999.000,9, -999.000,9,   1.9330,2,    25.38,2,   -999.0,9,   -999.0,9,   -999.0,9,   -999.0,9,   -999.0,9,     7.54,2, -999.00,  -999.0,-999.0000,-999.000,   25.00,  -999.0,  1.4474,-999.000
    31DSCG94_3,  P18N,   181,  1,    103,   9999,2,19940423,0320, 17.5017,-109.9967, 3468,   3399.8,   1.6998,  34.6752,2,  34.6764,2,    119.8,2,    121.3,2,   152.49,2,    38.10,2,     0.00,2,     2.65,2, -999.000,9, -999.000,9, -999.000,9, -999.000,9, -999.000,9,-999.0000,9,  -999.00,9,   -999.0,9,   -999.0,9,   -999.0,9,   -999.0,9,   -999.0,9,  -999.00,9, -999.00,  -999.0,-999.0000,-999.000, -999.00,  -999.0,  1.4389,-999.000
    31DSCG94_3,  P18N,   181,  1,    102,   1223,2,19940423,0320, 17.5017,-109.9967, 3468,   3400.5,   1.6999,  34.6751,2,  34.6753,2,    119.8,2,    121.7,2,   154.45,2,    38.15,2,     0.00,2,     2.67,2, -999.000,9, -999.000,9, -999.000,9, -999.000,9, -999.000,9,   1.9240,2,    25.64,2,   -999.0,9,   -999.0,9,   -999.0,9,   -999.0,9,   -999.0,9,     7.54,2, -999.00,  -999.0,-999.0000,-999.000,   25.00,  -999.0,  1.4389,-999.000
    31DSCG94_3,  P18N,   181,  1,    101,   1041,2,19940423,0320, 17.5017,-109.9967, 3468,   3513.6,   1.7092,  34.6753,2,  34.6754,2,    119.5,2,    121.8,2,   157.87,2,    38.47,2,     0.00,2,     2.64,2, -999.000,9, -999.000,9, -999.000,9, -999.000,9, -999.000,9,   1.9160,2,    25.01,2,   -999.0,9,   -999.0,9,   -999.0,9,   -999.0,9,   -999.0,9,  -999.00,9, -999.00,  -999.0,-999.0000,-999.000, -999.00,  -999.0,  1.4364,-999.000