BOTTLE,20220630CCHSIOAMB
EXPOCODE,SECT_ID,STNNBR,CASTNO,SAMPNO,BTLNBR,BTLNBR_FLAG_W,DATE,TIME,LATITUDE,LONGITUDE,DEPTH,CTDPRS,CTDTMP,CTDSAL,CTDSAL_FLAG_W,SALNTY,SALNTY_FLAG_W,CTDOXY,CTDOXY_FLAG_W,OXYGEN,OXYGEN_FLAG_W,SILCAT,SILCAT_FLAG_W,NITRAT,NITRAT_FLAG_W,NITRIT,NITRIT_FLAG_W,PHSPHT,PHSPHT_FLAG_W,CFC-11,CFC-11_FLAG_W,CFC-12,CFC-12_FLAG_W,CFC113,CFC113_FLAG_W,CCL4,CCL4_FLAG_W,TRITUM,TRITUM_FLAG_W,HELIUM,HELIUM_FLAG_W,DELHE3,DELHE3_FLAG_W,DELC14,DELC14_FLAG_W,DELC13,DELC13_FLAG_W,TCARBN,TCARBN_FLAG_W,PCO2,PCO2_FLAG_W,ALKALI,ALKALI_FLAG_W,PH,PH_FLAG_W,PCO2TMP,C14ERR,HELIER,DELHER,PH_TMP,C13ERR,THETA,TRITER
,,,,,,,,,,,,DBAR,ITS-90,PSS-78,,PSS-78,,UMOL/KG,,UMOL/KG,,UMOL/KG,,UMOL/KG,,UMOL/KG,,UMOL/KG,,PMOL/KG,,PMOL/KG,,PMOL/KG,,PMOL/KG,,TU,,NMOL/KG,,PERCNT,,/MILLE,,/MILLE,,UMOL/KG,,UATM,,UMOL/KG,,,,DEG C,/MILLE,NMOL/KG,PERCNT,DEG C,/MILLE,DEG C,TU
    31DSCG94_3,  P18N,    90,  3,    336,   1025,2,19940329,1811,-24.5015,-102.9967, 3644,      9.8,  24.5670,  36.0254,2,  36.0242,2,    208.0,2,    210.8,2,     1.34,2,     0.00,2,     0.00,2,     0.15,2,    1.955,2,    1.097,2, -999.000,9, -999.000,9, -999.000,9,-999.0000,9,  -999.00,9,   -999.0,9,   -999.0,9,   2055.6,3,    323.4,2,   2371.0,6,     8.05,2,   20.00,  -999.0,-999.0000,-999.000,   25.00,  -999.0, 24.5649,-999.000
    31DSCG94_3,  P18N,    90,  3,    335,   1247,2,19940329,1811,-24.5015,-102.9967, 3644,     23.6,  24.5469,  36.0248,2,  36.0233,2,    211.2,2,    214.1,2,     1.41,2,     0.00,2,     0.00,2,     0.14,2, -999.000,9, -999.000,9, -999.000,9, -999.000,9, -999.000,9,-999.0000,9,  -999.00,9,   -999.0,9,   -999.0,9,   -999.0,9,   -999.0,9,   -999.0,9,     8.05,2, -999.00,  -999.0,-999.0000,-999.000,   25.00,  -999.0, 24.5418,-999.000
    31DSCG94_3,  P18N,    90,  3,    334,   1108,2,19940329,1811,-24.5015,-102.9967, 3644,     50.2,  24.4007,  36.0036,2,  36.0032,2,    212.5,2,    212.5,2,     1.38,2,     0.02,2,     0.00,2,     0.13,2,    1.974,2,    1.082,2, -999.000,9, -999.000,9, -999.000,9,-999.0000,9,  -999.00,9,   -999.0,9,   -999.0,9,   2050.3,2,    325.0,2,   2370.0,2,     8.05,2,   20.00,  -999.0,-999.0000,-999.000,   25.00,  -999.0, 24.3900,-999.000
    31DSCG94_3,  P18N,    90,  3,    333,   1244,2,19940329,1811,-24.5015,-102.9967, 3644,     75.7,  22.0380,  35.7236,2,  35.7069,2,    229.0,2,    232.5,2,     1.45,2,     0.03,2,     0.00,2,     0.14,2, -999.000,9, -999.000,9, -999.000,9, -999.000,9, -999.000,9,-999.0000,9,  -999.00,9,   -999.0,9,   -999.0,9,   -999.0,9,   -999.0,9,   -999.0,9,     8.05,2, -999.00,  -999.0,-999.0000,-999.000,   25.00,  -999.0, 22.0230,-999.000
    31DSCG94_3,  P18N,    90,  3,    332,   1003,3,19940329,1811,-24.5015,-102.9967, 3644,    101.0,  21.0478,  35.6538,2,  35.6741,2,    228.7,2,    230.3,2,     1.39,2,     0.00,2,     0.00,2,     0.14,2,    2.295,2,    1.256,2, -999.000,9, -999.000,9, -999.000,9,-999.0000,9,  -999.00,9,   -999.0,9,   -999.0,9,   2032.6,2,    325.8,2,   2332.0,3,     8.05,2,   20.00,  -999.0,-999.0000,-999.000,   25.00,  -999.0, 21.0284,-999.000
    31DSCG94_3,  P18N,    90,  3,    331,   1211,2,19940329,1811,-24.5015,-102.9967, 3644,    119.0,  20.3690,  35.5809,2,  35.5814,2,    226.8,2,    232.7,2,     1.28,2,     0.00,2,     0.00,2,     0.14,2, -999.000,9, -999.000,9, -999.000,9, -999.000,9, -999.000,9,-999.0000,9,  -999.00,9,   -999.0,9,   -999.0,9,   -999.0,9,   -999.0,9,   -999.0,9,     8.04,2, -999.00,  -999.0,-999.0000,-999.000,   25.00,  -999.0, 20.3467,-999.000
    31DSCG94_3,  P18N,    90,  3,    330,   1241,2,19940329,1811,-24.5015,-102.9967, 3644,    150.9,  19.6845,  35.5201,2,  35.5208,2,    225.6,2,    222.0,2,     1.14,2,     0.00,2,     0.00,2,     0.12,2,    2.385,2,    1.291,2, -999.000,9, -999.000,9, -999.000,9,-999.0000,9,  -999.00,9,   -999.0,9,   -999.0,9,   -999.0,9,   -999.0,9,   -999.0,9,     8.03,2, -999.00,  -999.0,-999.0000,-999.000,   25.00,  -999.0, 19.6568,-999.000
    31DSCG94_3,  P18N,    90,  3,    329,   1240,3,19940329,1811,-24.5015,-102.9967, 3644,    200.6,  18.6028,  35.3548,2,-999.0000,5,    219.5,2,   -999.0,9,  -999.00,9,  -999.00,9,  -999.00,9,  -999.00,9,    2.451,2,    1.310,2, -999.000,9, -999.000,9, -999.000,9,-999.0000,9,  -999.00,9,   -999.0,9,   -999.0,9,   -999.0,9,   -999.0,9,   -999.0,9,  -999.00,9, -999.00,  -999.0,-999.0000,-999.000, -999.00,  -999.0, 18.5675,-999.000
    31DSCG94_3,  P18N,    90,  3,    328,   1032,2,19940329,1811,-24.5015,-102.9967, 3644,    223.5,  17.5129,  35.1796,2,  35.1932,2,    207.4,2,    214.7,2,     1.38,2,     0.89,2,     0.05,2,     0.27,2, -999.000,5, -999.000,5, -999.000,9, -999.000,9, -999.000,9,-999.0000,9,  -999.00,9,   -999.0,9,   -999.0,9,   2053.5,2,    393.9,2,   2316.0,2,     7.98,2,   20.00,  -999.0,-999.0000,-999.000,   25.00,  -999.0, 17.4752,-999.000
    31DSCG94_3,  P18N,    90,  3,    327,   1008,2,19940329,1811,-24.5015,-102.9967, 3644,    249.3,  16.2540,  34.9731,2,  34.9699,2,    205.5,2,    209.2,2,     1.50,2,     2.67,2,     0.00,2,     0.38,2, -999.000,9, -999.000,9, -999.000,9, -999.000,9, -999.000,9,-999.0000,9,  -999.00,9,   -999.0,9,   -999.0,9,   -999.0,9,   -999.0,9,   -999.0,9,     7.95,2, -999.00,  -999.0,-999.0000,-999.000,   25.00,  -999.0, 16.2141,-999.000
    31DSCG94_3,  P18N,    90,  3,    326,   1007,3,19940329,1811,-24.5015,-102.9967, 3644,    301.7,  13.0399,  34.5858,2,  34.5743,2,    193.2,2,    197.9,2,     2.69,2,     9.10,2,     0.00,2,     0.81,2,    2.322,2,    1.185,2, -999.000,9, -999.000,9, -999.000,9,-999.0000,9,  -999.00,9,   -999.0,9,   -999.0,9,   2084.1,2,    549.2,2,   2282.0,2,     7.85,2,   20.00,  -999.0,-999.0000,-999.000,   25.00,  -999.0, 12.9983,-999.000
    31DSCG94_3,  P18N,    90,  3,    325,   1203,2,19940329,1811,-24.5015,-102.9967, 3644,    351.6,  10.6932,  34.4466,2,  34.4489,2,    183.1,2,    191.9,2,     4.88,2,    14.94,2,     0.00,2,     1.19,2, -999.000,9, -999.000,9, -999.000,9, -999.000,9, -999.000,9,-999.0000,9,  -999.00,9,   -999.0,9,   -999.0,9,   -999.0,9,   -999.0,9,   -999.0,9,  -999.00,9, -999.00,  -999.0,-999.0000,-999.000, -999.00,  -999.0, 10.6506,-999.000
    31DSCG94_3,  P18N,    90,  3,    323,   1220,2,19940329,1811,-24.5015,-102.9967, 3644,    398.7,   9.0250,  34.3987,2,  34.3983,2,    173.7,2,    173.4,2,     8.80,2,    21.15,2,     0.00,2,     1.64,2,    1.433,2,    0.725,2, -999.000,9, -999.000,9, -999.000,9,-999.0000,9,  -999.00,9,   -999.0,9,   -999.0,9,   2148.8,2,    852.3,2,   2281.0,2,     7.69,2,   20.00,  -999.0,-999.0000,-999.000,   25.00,  -999.0,  8.9815,-999.000
    31DSCG94_3,  P18N,    90,  3,    322,   1245,2,19940329,1811,-24.5015,-102.9967, 3644,    449.8,   7.6728,  34.3776,2,  34.3810,2,    153.1,2,    151.1,2,    13.70,2,    27.01,2,     0.00,2,     2.01,2, -999.000,9, -999.000,9, -999.000,9, -999.000,9, -999.000,9,-999.0000,9,  -999.00,9,   -999.0,9,   -999.0,9,   -999.0,9,   -999.0,9,   -999.0,9,     7.61,2, -999.00,  -999.0,-999.0000,-999.000,   25.00,  -999.0,  7.6280,-999.000
    31DSCG94_3,  P18N,    90,  3,    321,   1206,2,19940329,1811,-24.5015,-102.9967, 3644,    498.7,   6.7951,  34.3515,2,  34.3508,2,    172.5,2,    176.7,2,    14.07,2,    27.32,2,     0.00,2,     1.96,2,    0.888,6,    0.452,6, -999.000,9, -999.000,9, -999.000,9,-999.0000,9,  -999.00,9,   -999.0,9,   -999.0,9,   2173.8,2,    985.3,2,   2282.0,2,     7.63,2,   20.00,  -999.0,-999.0000,-999.000,   25.00,  -999.0,  6.7486,-999.000
    31DSCG94_3,  P18N,    90,  3,    320,   1028,2,19940329,1811,-24.5015,-102.9967, 3644,    549.6,   6.2752,  34.3255,2,  34.3245,2,    196.0,2,    201.8,2,    13.44,2,    26.89,2,     0.00,2,     1.86,2, -999.000,9, -999.000,9, -999.000,9, -999.000,9, -999.000,9,-999.0000,9,  -999.00,9,   -999.0,9,   -999.0,9,   -999.0,9,   -999.0,9,   -999.0,9,     7.66,2, -999.00,  -999.0,-999.0000,-999.000,   25.00,  -999.0,  6.2260,-999.000
    31DSCG94_3,  P18N,    90,  3,    319,   1248,2,19940329,1811,-24.5015,-102.9967, 3644,    599.0,   5.8970,  34.3103,2,  34.3082,2,    193.7,2,    207.8,6,    14.69,2,    27.28,2,     0.00,2,     1.88,2,    0.778,2,    0.417,2, -999.000,9, -999.000,9, -999.000,9,-999.0000,9,  -999.00,9,   -999.0,9,   -999.0,9,   2162.4,2,    897.2,2,   2277.0,2,     7.67,2,   20.00,  -999.0,-999.0000,-999.000,   25.00,  -999.0,  5.8449,-999.000
    31DSCG94_3,  P18N,    90,  3,    318,   1207,2,19940329,1811,-24.5015,-102.9967, 3644,    699.6,   5.3643,  34.3046,2,  34.3036,2,    185.8,2,    196.0,6,    20.15,2,    29.36,2,     0.00,2,     2.03,2, -999.000,9, -999.000,9, -999.000,9, -999.000,9, -999.000,9,-999.0000,9,  -999.00,9,   -999.0,9,   -999.0,9,   2176.7,2,    969.7,2,   2282.0,2,     7.64,2,   20.00,  -999.0,-999.0000,-999.000,   25.00,  -999.0,  5.3058,-999.000
    31DSCG94_3,  P18N,    90,  3,    317,   1119,2,19940329,1811,-24.5015,-102.9967, 3644,    800.5,   4.7326,  34.3374,2,  34.3355,2,    166.5,2,    166.7,6,    33.52,2,    33.38,2,     0.00,2,     2.26,2,    0.129,2,    0.074,2, -999.000,9, -999.000,9, -999.000,9,-999.0000,9,  -999.00,9,   -999.0,9,   -999.0,9,   2209.1,2,   1130.2,2,   2297.0,2,     7.58,2,   20.00,  -999.0,-999.0000,-999.000,   25.00,  -999.0,  4.6689,-999.000
    31DSCG94_3,  P18N,    90,  3,    316,   1036,2,19940329,1811,-24.5015,-102.9967, 3644,    900.2,   4.3562,  34.3935,2,  34.3923,2,    137.7,2,    138.4,2,    47.65,2,    35.93,2,     0.00,2,     2.47,2, -999.000,9, -999.000,9, -999.000,9, -999.000,9, -999.000,9,-999.0000,9,  -999.00,9,   -999.0,9,   -999.0,9,   2238.3,2,   1264.8,2,   2307.0,2,     7.53,2,   20.00,  -999.0,-999.0000,-999.000,   25.00,  -999.0,  4.2864,-999.000
    31DSCG94_3,  P18N,    90,  3,    315,   1017,2,19940329,1811,-24.5015,-102.9967, 3644,    999.4,   3.9684,  34.4482,2,  34.4473,2,    128.8,2,    126.1,2,    61.36,2,    37.17,2,     0.00,2,     2.56,2,    0.025,2,    0.006,2, -999.000,9, -999.000,9, -999.000,9,-999.0000,9,  -999.00,9,   -999.0,9,   -999.0,9,   2260.7,2,   1322.6,2,   2328.0,6,     7.52,2,   20.00,  -999.0,-999.0000,-999.000,   25.00,  -999.0,  3.8932,-999.000
    31DSCG94_3,  P18N,    90,  3,    314,   1016,2,19940329,1811,-24.5015,-102.9967, 3644,   1097.3,   3.7177,  34.4888,2,  34.4859,2,    129.3,2,    126.0,2,    69.99,2,    36.79,2,     0.00,2,     2.57,2, -999.000,9, -999.000,9, -999.000,9, -999.000,9, -999.000,9,-999.0000,9,  -999.00,9,   -999.0,9,   -999.0,9,   -999.0,9,   -999.0,9,   -999.0,9,  -999.00,9, -999.00,  -999.0,-999.0000,-999.000, -999.00,  -999.0,  3.6363,-999.000
    31DSCG94_3,  P18N,    90,  3,    313,   1209,2,19940329,1811,-24.5015,-102.9967, 3644,   1198.6,   3.4272,  34.5180,2,  34.5165,2,    132.3,2,    131.1,2,    78.34,2,    36.52,2,     0.00,2,     2.55,2,    0.327,4,    0.204,4, -999.000,9, -999.000,9, -999.000,9,-999.0000,9,  -999.00,9,   -999.0,9,   -999.0,9,   -999.0,9,   -999.0,9,   -999.0,9,  -999.00,9, -999.00,  -999.0,-999.0000,-999.000, -999.00,  -999.0,  3.3399,-999.000
    31DSCG94_3,  P18N,    90,  3,    312,   1033,2,19940329,1811,-24.5015,-102.9967, 3644,   1401.7,   2.9561,  34.5571,2,  34.5551,2,    138.1,2,    137.4,2,    91.65,2,    36.11,2,     0.00,2,     2.50,2, -999.000,9, -999.000,9, -999.000,9, -999.000,9, -999.000,9,-999.0000,9,  -999.00,9,   -999.0,9,   -999.0,9,   -999.0,9,   -999.0,9,   -999.0,9,  -999.00,9, -999.00,  -999.0,-999.0000,-999.000, -999.00,  -999.0,  2.8569,-999.000
    31DSCG94_3,  P18N,    90,  3,    311,   1240,2,19940329,1811,-24.5015,-102.9967, 3644,   1598.3,   2.5928,  34.5879,2,  34.5868,2,    140.8,2,    138.1,2,   101.58,2,    36.22,2,     0.00,2,     2.49,2, -999.000,9, -999.000,9, -999.000,9, -999.000,9, -999.000,9,-999.0000,9,  -999.00,9,   -999.0,9,   -999.0,9,   -999.0,9,   -999.0,9,   -999.0,9,  -999.00,9, -999.00,  -999.0,-999.0000,-999.000, -999.00,  -999.0,  2.4816,-999.000
    31DSCG94_3,  P18N,    90,  3,    310,   1005,2,19940329,1811,-24.5015,-102.9967, 3644,   1800.2,   2.3152,  34.6135,2,  34.6116,2,    146.0,2,    145.0,2,   106.74,2,    35.76,2,     0.00,2,     2.47,2, -999.000,9, -999.000,9, -999.000,9, -999.000,9, -999.000,9,-999.0000,9,  -999.00,9,   -999.0,9,   -999.0,9,   -999.0,9,   -999.0,9,   -999.0,9,  -999.00,9, -999.00,  -999.0,-999.0000,-999.000, -999.00,  -999.0,  2.1909,-999.000
    31DSCG94_3,  P18N,    90,  3,    309,   1611,2,19940329,1811,-24.5015,-102.9967, 3644,   1998.4,   2.0989,  34.6352,2,  34.6329,2,    153.2,2,    150.5,2,   110.67,2,    35.27,2,     0.00,2,     2.41,2,    0.009,2,    0.003,2, -999.000,9, -999.000,9, -999.000,9,-999.0000,9,  -999.00,9,   -999.0,9,   -999.0,9,   -999.0,9,   -999.0,9,   -999.0,9,  -999.00,9, -999.00,  -999.0,-999.0000,-999.000, -999.00,  -999.0,  1.9611,-999.000
    31DSCG94_3,  P18N,    90,  3,    308,   1218,2,19940329,1811,-24.5015,-102.9967, 3644,   2250.4,   1.9581,  34.6525,2,  34.6513,2,    157.4,2,    152.1,2,   114.17,2,    35.25,2,     0.00,2,     2.42,2, -999.000,9, -999.000,9, -999.000,9, -999.000,9, -999.000,9,-999.0000,9,  -999.00,9,   -999.0,9,   -999.0,9,   -999.0,9,   -999.0,9,   -999.0,9,  -999.00,9, -999.00,  -999.0,-999.0000,-999.000, -999.00,  -999.0,  1.8008,-999.000
    31DSCG94_3,  P18N,    90,  3,    307,   1257,2,19940329,1811,-24.5015,-102.9967, 3644,   2498.3,   1.8751,  34.6639,2,  34.6620,2,    160.4,2,    155.1,2,   116.95,2,    34.49,2,     0.00,2,     2.41,2, -999.000,9, -999.000,9, -999.000,9, -999.000,9, -999.000,9,-999.0000,9,  -999.00,9,   -999.0,9,   -999.0,9,   -999.0,9,   -999.0,9,   -999.0,9,  -999.00,9, -999.00,  -999.0,-999.0000,-999.000, -999.00,  -999.0,  1.6972,-999.000
    31DSCG94_3,  P18N,    90,  3,    306,   1224,2,19940329,1811,-24.5015,-102.9967, 3644,   2747.8,   1.8453,  34.6701,2,  34.6681,2,    159.8,2,    153.9,2,   120.32,2,    34.47,2,     0.00,2,     2.39,2, -999.000,9, -999.000,9, -999.000,9, -999.000,9, -999.000,9,-999.0000,9,  -999.00,9,   -999.0,9,   -999.0,9,   -999.0,9,   -999.0,9,   -999.0,9,  -999.00,9, -999.00,  -999.0,-999.0000,-999.000, -999.00,  -999.0,  1.6450,-999.000
    31DSCG94_3,  P18N,    90,  3,    305,   1246,2,19940329,1811,-24.5015,-102.9967, 3644,   2997.3,   1.8182,  34.6763,2,  34.6744,2,    158.6,2,    155.2,2,   124.39,2,    34.90,2,     0.00,2,     2.39,2, -999.000,9, -999.000,9, -999.000,9, -999.000,9, -999.000,9,-999.0000,9,  -999.00,9,   -999.0,9,   -999.0,9,   -999.0,9,   -999.0,9,   -999.0,9,  -999.00,9, -999.00,  -999.0,-999.0000,-999.000, -999.00,  -999.0,  1.5946,-999.000
    31DSCG94_3,  P18N,    90,  3,    304,   1217,2,19940329,1811,-24.5015,-102.9967, 3644,   3249.4,   1.8061,  34.6808,2,  34.6790,2,    155.7,2,    147.7,3,   126.63,2,    34.57,2,     0.00,2,     2.43,2, -999.000,9, -999.000,9, -999.000,9, -999.000,9, -999.000,9,-999.0000,9,  -999.00,9,   -999.0,9,   -999.0,9,   -999.0,9,   -999.0,9,   -999.0,9,  -999.00,9, -999.00,  -999.0,-999.0000,-999.000, -999.00,  -999.0,  1.5578,-999.000
    31DSCG94_3,  P18N,    90,  3,    302,   1223,2,19940329,1811,-24.5015,-102.9967, 3644,   3497.7,   1.8136,  34.6837,2,  34.6829,2,    153.0,2,   -999.0,9,   126.87,2,    35.12,2,     0.00,2,     2.45,2, -999.000,9, -999.000,9, -999.000,9, -999.000,9, -999.000,9,-999.0000,9,  -999.00,9,   -999.0,9,   -999.0,9,   -999.0,9,   -999.0,9,   -999.0,9,  -999.00,9, -999.00,  -999.0,-999.0000,-999.000, -999.00,  -999.0,  1.5397,-999.000
    31DSCG94_3,  P18N,    90,  3,    303,   9999,2,19940329,1811,-24.5015,-102.9967, 3644,   3499.3,   1.8142,  34.6836,2,  34.6833,2,    152.8,2,    150.1,2,   127.62,2,    34.92,2,     0.00,2,     2.42,2, -999.000,9, -999.000,9, -999.000,9, -999.000,9, -999.000,9,-999.0000,9,  -999.00,9,   -999.0,9,   -999.0,9,   -999.0,9,   -999.0,9,   -999.0,9,  -999.00,9, -999.00,  -999.0,-999.0000,-999.000, -999.00,  -999.0,  1.5401,-999.000
    31DSCG94_3,  P18N,    90,  3,    301,   1041,2,19940329,1811,-24.5015,-102.9967, 3644,   3620.5,   1.8206,  34.6844,2,  34.6833,2,    149.8,2,    147.9,2,   126.60,2,    35.54,2,     0.00,2,     2.47,2, -999.000,9, -999.000,9, -999.000,9, -999.000,9, -999.000,9,-999.0000,9,  -999.00,9,   -999.0,9,   -999.0,9,   -999.0,9,   -999.0,9,   -999.0,9,  -999.00,9, -999.00,  -999.0,-999.0000,-999.000, -999.00,  -999.0,  1.5337,-999.000