BOTTLE,20220630CCHSIOAMB
EXPOCODE,SECT_ID,STNNBR,CASTNO,SAMPNO,BTLNBR,BTLNBR_FLAG_W,DATE,TIME,LATITUDE,LONGITUDE,DEPTH,CTDPRS,CTDTMP,CTDSAL,CTDSAL_FLAG_W,SALNTY,SALNTY_FLAG_W,CTDOXY,CTDOXY_FLAG_W,OXYGEN,OXYGEN_FLAG_W,SILCAT,SILCAT_FLAG_W,NITRAT,NITRAT_FLAG_W,NITRIT,NITRIT_FLAG_W,PHSPHT,PHSPHT_FLAG_W,CFC-11,CFC-11_FLAG_W,CFC-12,CFC-12_FLAG_W,CFC113,CFC113_FLAG_W,CCL4,CCL4_FLAG_W,TRITUM,TRITUM_FLAG_W,HELIUM,HELIUM_FLAG_W,DELHE3,DELHE3_FLAG_W,DELC14,DELC14_FLAG_W,DELC13,DELC13_FLAG_W,TCARBN,TCARBN_FLAG_W,PCO2,PCO2_FLAG_W,ALKALI,ALKALI_FLAG_W,PH,PH_FLAG_W,PCO2TMP,C14ERR,HELIER,DELHER,PH_TMP,C13ERR,THETA,TRITER
,,,,,,,,,,,,DBAR,ITS-90,PSS-78,,PSS-78,,UMOL/KG,,UMOL/KG,,UMOL/KG,,UMOL/KG,,UMOL/KG,,UMOL/KG,,PMOL/KG,,PMOL/KG,,PMOL/KG,,PMOL/KG,,TU,,NMOL/KG,,PERCNT,,/MILLE,,/MILLE,,UMOL/KG,,UATM,,UMOL/KG,,,,DEG C,/MILLE,NMOL/KG,PERCNT,DEG C,/MILLE,DEG C,TU
    31DSCG94_3,  P18N,   125,  1,    124,    435,2,19940408,1055, -7.6993,-106.3840, 3188,      9.0,  27.4559,  34.9429,2,  34.9450,2,    212.4,2,    202.4,2,     3.34,2,     1.97,2,     0.06,2,     0.40,2,    1.726,2,    0.961,2, -999.000,5, -999.000,5, -999.000,9,-999.0000,9,  -999.00,9,   -999.0,9,   -999.0,9,   1979.7,2,   -999.0,9,   2305.0,2,     8.09,2, -999.00,  -999.0,-999.0000,-999.000,   25.00,  -999.0, 27.4538,-999.000
    31DSCG94_3,  P18N,   125,  1,    123,    421,2,19940408,1055, -7.6993,-106.3840, 3188,     24.1,  27.4634,  34.9432,2,  34.9488,2,    206.5,2,    202.5,2,     3.09,2,     2.77,2,     0.05,2,     0.40,2,    1.715,2,    0.971,2, -999.000,5, -999.000,5, -999.000,9,-999.0000,9,  -999.00,9,   -999.0,9,   -999.0,9,   1979.7,2,   -999.0,9,   2311.0,2,     8.08,2, -999.00,  -999.0,-999.0000,-999.000,   25.00,  -999.0, 27.4578,-999.000
    31DSCG94_3,  P18N,   125,  1,    122,    418,2,19940408,1055, -7.6993,-106.3840, 3188,     50.2,  25.9137,  35.4313,2,-999.0000,5,    215.8,2,    211.1,2,     3.78,2,     4.92,2,     0.07,2,     0.58,2,    1.873,2,    1.039,2, -999.000,5, -999.000,5, -999.000,9,-999.0000,9,  -999.00,9,   -999.0,9,   -999.0,9,   2027.2,2,   -999.0,9,   2333.0,2,  -999.00,9, -999.00,  -999.0,-999.0000,-999.000, -999.00,  -999.0, 25.9025,-999.000
    31DSCG94_3,  P18N,   125,  1,    121,    413,2,19940408,1055, -7.6993,-106.3840, 3188,    102.3,  17.4095,  35.2988,2,  35.2934,2,    115.4,2,   -999.0,9,     6.29,2,    12.49,2,     0.62,2,     1.28,2,    2.017,2,    1.084,2, -999.000,5, -999.000,5, -999.000,9,-999.0000,9,  -999.00,9,   -999.0,9,   -999.0,9,   2145.9,2,   -999.0,9,   2322.0,2,     7.80,2, -999.00,  -999.0,-999.0000,-999.000,   25.00,  -999.0, 17.3924,-999.000
    31DSCG94_3,  P18N,   125,  1,    120,    405,2,19940408,1055, -7.6993,-106.3840, 3188,    151.5,  13.3124,  34.9575,2,  34.9566,2,     19.7,2,      9.0,2,    21.81,2,    28.73,2,     0.02,2,     2.31,2,    0.521,2,    0.283,2, -999.000,5, -999.000,5, -999.000,9,-999.0000,9,  -999.00,9,   -999.0,9,   -999.0,9,   2237.4,2,   -999.0,9,   2305.0,2,     7.50,2, -999.00,  -999.0,-999.0000,-999.000,   25.00,  -999.0, 13.2913,-999.000
    31DSCG94_3,  P18N,   125,  1,    119,    417,2,19940408,1055, -7.6993,-106.3840, 3188,    196.6,  12.2887,  34.8905,2,  34.8947,2,     13.9,2,     15.3,2,    25.25,2,    30.37,2,     0.02,2,     2.35,2,    0.287,2,    0.166,2, -999.000,5, -999.000,5, -999.000,9,-999.0000,9,  -999.00,9,   -999.0,9,   -999.0,9,   2239.1,2,   -999.0,9,   2307.0,2,     7.50,2, -999.00,  -999.0,-999.0000,-999.000,   25.00,  -999.0, 12.2626,-999.000
    31DSCG94_3,  P18N,   125,  1,    118,    429,2,19940408,1055, -7.6993,-106.3840, 3188,    297.6,  11.0355,  34.8086,2,  34.8090,2,     18.5,2,      7.2,2,    31.42,2,    33.86,2,     0.01,2,     2.50,2,    0.102,2,    0.056,2, -999.000,5, -999.000,5, -999.000,9,-999.0000,9,  -999.00,9,   -999.0,9,   -999.0,9,   2260.8,2,   -999.0,9,   2303.0,2,     7.44,2, -999.00,  -999.0,-999.0000,-999.000,   25.00,  -999.0, 10.9986,-999.000
    31DSCG94_3,  P18N,   125,  1,    117,    427,2,19940408,1055, -7.6993,-106.3840, 3188,    401.6,   9.7819,  34.7305,2,  34.7292,2,      4.5,2,      5.0,2,    36.73,2,    36.36,2,     0.02,2,     2.70,2,    0.024,2,    0.014,2, -999.000,5, -999.000,5, -999.000,9,-999.0000,9,  -999.00,9,   -999.0,9,   -999.0,9,   2273.5,2,   -999.0,9,   2303.0,2,     7.40,2, -999.00,  -999.0,-999.0000,-999.000,   25.00,  -999.0,  9.7356,-999.000
    31DSCG94_3,  P18N,   125,  1,    116,    410,2,19940408,1055, -7.6993,-106.3840, 3188,    500.3,   8.4727,  34.6536,2,  34.6547,2,      3.8,2,      7.7,2,    41.08,2,    40.48,2,     0.01,2,     2.86,2,    0.005,2,    0.002,2, -999.000,5, -999.000,5, -999.000,9,-999.0000,9,  -999.00,9,   -999.0,9,   -999.0,9,   2282.1,2,   -999.0,9,   2307.0,2,  -999.00,9, -999.00,  -999.0,-999.0000,-999.000, -999.00,  -999.0,  8.4195,-999.000
    31DSCG94_3,  P18N,   125,  1,    115,    422,2,19940408,1055, -7.6993,-106.3840, 3188,    597.6,   7.1664,  34.5869,2,  34.5885,2,     11.8,2,     17.8,2,    47.72,2,    43.88,2,     0.01,2,     2.97,2,   -0.002,6,   -0.002,6, -999.000,9, -999.000,9, -999.000,9,-999.0000,9,  -999.00,9,   -999.0,9,   -999.0,9,   2288.9,2,   -999.0,9,   2308.0,2,     7.37,2, -999.00,  -999.0,-999.0000,-999.000,   25.00,  -999.0,  7.1084,-999.000
    31DSCG94_3,  P18N,   125,  1,    114,    407,2,19940408,1055, -7.6993,-106.3840, 3188,    697.1,   6.2530,  34.5532,2,  34.5541,2,     36.5,2,     30.8,2,    56.09,2,    44.91,2,     0.01,2,     3.03,2,    0.000,2,   -0.002,2, -999.000,5, -999.000,5, -999.000,9,-999.0000,9,  -999.00,9,   -999.0,9,   -999.0,9,   2294.0,2,   -999.0,9,   2320.0,2,     7.38,2, -999.00,  -999.0,-999.0000,-999.000,   25.00,  -999.0,  6.1897,-999.000
    31DSCG94_3,  P18N,   125,  1,    113,    419,2,19940408,1055, -7.6993,-106.3840, 3188,    801.2,   5.4764,  34.5407,2,  34.5400,2,     54.2,2,     53.5,2,    66.84,2,    43.73,2,     0.01,2,     2.96,2,    0.000,2,   -0.002,2, -999.000,9, -999.000,9, -999.000,9,-999.0000,9,  -999.00,9,   -999.0,9,   -999.0,9,   2292.9,2,   -999.0,9,   2334.0,2,     7.42,2, -999.00,  -999.0,-999.0000,-999.000,   25.00,  -999.0,  5.4078,-999.000
    31DSCG94_3,  P18N,   125,  1,    112,    426,2,19940408,1055, -7.6993,-106.3840, 3188,    900.1,   4.8857,  34.5397,2,-999.0000,5,     65.8,2,     66.9,2,    79.09,2,    43.37,2,     0.01,2,     3.00,2,   -0.001,2,   -0.002,2, -999.000,5, -999.000,5, -999.000,9,-999.0000,9,  -999.00,9,   -999.0,9,   -999.0,9,   2293.5,2,   -999.0,9,   2344.0,2,  -999.00,9, -999.00,  -999.0,-999.0000,-999.000, -999.00,  -999.0,  4.8121,-999.000
    31DSCG94_3,  P18N,   125,  1,    111,    424,2,19940408,1055, -7.6993,-106.3840, 3188,   1002.0,   4.4624,  34.5452,2,  34.5451,2,     75.2,2,     74.9,2,    84.30,2,    43.13,2,     0.00,2,     2.89,2,   -0.001,2,   -0.002,2, -999.000,9, -999.000,9, -999.000,9,-999.0000,9,  -999.00,9,   -999.0,9,   -999.0,9,   2300.0,2,   -999.0,9,   -999.0,5,     7.45,2, -999.00,  -999.0,-999.0000,-999.000,   25.00,  -999.0,  4.3830,-999.000
    31DSCG94_3,  P18N,   125,  1,    110,    409,2,19940408,1055, -7.6993,-106.3840, 3188,   1102.6,   4.0784,  34.5533,2,  34.5534,2,     83.5,2,     83.2,2,    90.44,2,    41.74,2,     0.00,2,     2.88,2, -999.000,9, -999.000,9, -999.000,9, -999.000,9, -999.000,9,-999.0000,9,  -999.00,9,   -999.0,9,   -999.0,9,   -999.0,9,   -999.0,9,   -999.0,9,     7.47,2, -999.00,  -999.0,-999.0000,-999.000,   25.00,  -999.0,  3.9934,-999.000
    31DSCG94_3,  P18N,   125,  1,    109,    423,2,19940408,1055, -7.6993,-106.3840, 3188,   1200.4,   3.7676,  34.5648,2,  34.5652,2,     86.3,2,     85.2,2,    98.37,2,    42.05,2,     0.01,2,     2.88,2, -999.000,9, -999.000,9, -999.000,9, -999.000,9, -999.000,9,-999.0000,9,  -999.00,9,   -999.0,9,   -999.0,9,   -999.0,9,   -999.0,9,   -999.0,9,     7.47,2, -999.00,  -999.0,-999.0000,-999.000,   25.00,  -999.0,  3.6770,-999.000
    31DSCG94_3,  P18N,   125,  1,    108,    414,3,19940408,1055, -7.6993,-106.3840, 3188,   1403.2,   3.2197,  34.5868,2,-999.0000,9,     96.8,2,   -999.0,9,  -999.00,9,  -999.00,9,  -999.00,9,  -999.00,9, -999.000,9, -999.000,9, -999.000,9, -999.000,9, -999.000,9,-999.0000,9,  -999.00,9,   -999.0,9,   -999.0,9,   -999.0,9,   -999.0,9,   -999.0,9,  -999.00,9, -999.00,  -999.0,-999.0000,-999.000, -999.00,  -999.0,  3.1175,-999.000
    31DSCG94_3,  P18N,   125,  1,    107,    437,2,19940408,1055, -7.6993,-106.3840, 3188,   1602.3,   2.8198,  34.6064,2,  34.7369,4,    106.2,2,     86.7,3,    68.22,4,    33.50,4,     0.05,3,     2.38,4,    0.418,4,    0.244,4, -999.000,9, -999.000,9, -999.000,9,-999.0000,9,  -999.00,9,   -999.0,9,   -999.0,9,   -999.0,9,   -999.0,9,   -999.0,9,  -999.00,9, -999.00,  -999.0,-999.0000,-999.000, -999.00,  -999.0,  2.7055,-999.000
    31DSCG94_3,  P18N,   125,  1,    106,    416,2,19940408,1055, -7.6993,-106.3840, 3188,   1801.8,   2.5059,  34.6243,2,  34.6254,2,    117.4,2,    106.5,2,   131.99,2,    39.89,2,     0.01,2,     2.76,2, -999.000,9, -999.000,9, -999.000,9, -999.000,9, -999.000,9,-999.0000,9,  -999.00,9,   -999.0,9,   -999.0,9,   -999.0,9,   -999.0,9,   -999.0,9,     7.51,2, -999.00,  -999.0,-999.0000,-999.000,   25.00,  -999.0,  2.3788,-999.000
    31DSCG94_3,  P18N,   125,  1,    105,    420,2,19940408,1055, -7.6993,-106.3840, 3188,   2000.3,   2.2677,  34.6389,2,  34.6400,2,    122.3,2,    112.7,2,   139.92,2,    39.45,2,     0.00,2,     2.71,2,    0.003,2,    0.001,2, -999.000,9, -999.000,9, -999.000,9,-999.0000,9,  -999.00,9,   -999.0,9,   -999.0,9,   -999.0,9,   -999.0,9,   -999.0,9,     7.52,2, -999.00,  -999.0,-999.0000,-999.000,   25.00,  -999.0,  2.1271,-999.000
    31DSCG94_3,  P18N,   125,  1,    104,    436,2,19940408,1055, -7.6993,-106.3840, 3188,   2307.7,   2.0434,  34.6542,2,  34.6550,2,    126.5,2,    117.3,2,   146.61,2,    38.95,2,     0.00,2,     2.66,2, -999.000,9, -999.000,9, -999.000,9, -999.000,9, -999.000,9,-999.0000,9,  -999.00,9,   -999.0,9,   -999.0,9,   -999.0,9,   -999.0,9,   -999.0,9,     7.53,2, -999.00,  -999.0,-999.0000,-999.000,   25.00,  -999.0,  1.8796,-999.000
    31DSCG94_3,  P18N,   125,  1,    103,    425,2,19940408,1055, -7.6993,-106.3840, 3188,   2608.2,   1.8565,  34.6660,2,  34.6668,2,    133.2,2,    127.6,2,   146.82,2,    39.09,2,     0.00,2,     2.60,2,   -0.001,2,   -0.002,2, -999.000,5, -999.000,5, -999.000,9,-999.0000,9,  -999.00,9,   -999.0,9,   -999.0,9,   -999.0,9,   -999.0,9,   -999.0,9,     7.55,2, -999.00,  -999.0,-999.0000,-999.000,   25.00,  -999.0,  1.6689,-999.000
    31DSCG94_3,  P18N,   125,  1,    102,    433,2,19940408,1055, -7.6993,-106.3840, 3188,   2896.0,   1.7860,  34.6711,2,  34.6730,2,    137.7,2,    133.3,2,   145.41,2,    38.46,2,     0.00,2,     2.56,2, -999.000,9, -999.000,9, -999.000,9, -999.000,9, -999.000,9,-999.0000,9,  -999.00,9,   -999.0,9,   -999.0,9,   -999.0,9,   -999.0,9,   -999.0,9,     7.56,2, -999.00,  -999.0,-999.0000,-999.000,   25.00,  -999.0,  1.5729,-999.000
    31DSCG94_3,  P18N,   125,  1,    101,    403,2,19940408,1055, -7.6993,-106.3840, 3188,   3141.9,   1.7635,  34.6743,2,  34.6756,2,    138.6,2,    135.2,2,   147.14,6,    38.56,6,     0.00,6,     2.57,6, -999.000,5, -999.000,5, -999.000,9, -999.000,9, -999.000,9,-999.0000,9,  -999.00,9,   -999.0,9,   -999.0,9,   -999.0,9,   -999.0,9,   -999.0,9,  -999.00,9, -999.00,  -999.0,-999.0000,-999.000, -999.00,  -999.0,  1.5270,-999.000