BOTTLE,20220630CCHSIOAMB
EXPOCODE,SECT_ID,STNNBR,CASTNO,SAMPNO,BTLNBR,BTLNBR_FLAG_W,DATE,TIME,LATITUDE,LONGITUDE,DEPTH,CTDPRS,CTDTMP,CTDSAL,CTDSAL_FLAG_W,SALNTY,SALNTY_FLAG_W,CTDOXY,CTDOXY_FLAG_W,OXYGEN,OXYGEN_FLAG_W,SILCAT,SILCAT_FLAG_W,NITRAT,NITRAT_FLAG_W,NITRIT,NITRIT_FLAG_W,PHSPHT,PHSPHT_FLAG_W,CFC-11,CFC-11_FLAG_W,CFC-12,CFC-12_FLAG_W,CFC113,CFC113_FLAG_W,CCL4,CCL4_FLAG_W,TRITUM,TRITUM_FLAG_W,HELIUM,HELIUM_FLAG_W,DELHE3,DELHE3_FLAG_W,DELC14,DELC14_FLAG_W,DELC13,DELC13_FLAG_W,TCARBN,TCARBN_FLAG_W,PCO2,PCO2_FLAG_W,ALKALI,ALKALI_FLAG_W,PH,PH_FLAG_W,PCO2TMP,C14ERR,HELIER,DELHER,PH_TMP,C13ERR,THETA,TRITER
,,,,,,,,,,,,DBAR,ITS-90,PSS-78,,PSS-78,,UMOL/KG,,UMOL/KG,,UMOL/KG,,UMOL/KG,,UMOL/KG,,UMOL/KG,,PMOL/KG,,PMOL/KG,,PMOL/KG,,PMOL/KG,,TU,,NMOL/KG,,PERCNT,,/MILLE,,/MILLE,,UMOL/KG,,UATM,,UMOL/KG,,,,DEG C,/MILLE,NMOL/KG,PERCNT,DEG C,/MILLE,DEG C,TU
    31DSCG94_3,  P18N,   123,  2,    224,    435,2,19940407,2234, -8.4638,-105.2603, 3664,      7.2,  27.6871,  34.9585,2,-999.0000,9,    209.0,2,    203.1,6,     0.96,2,     2.15,2,     0.04,2,     0.37,2,    1.701,2,    0.966,2, -999.000,9, -999.000,9, -999.000,9,-999.0000,9,  -999.00,9,   -999.0,9,     -0.6,4,   1980.6,2,   -999.0,9,   2304.0,2,  -999.00,9, -999.00,  -999.0,-999.0000,-999.000, -999.00,  -999.0, 27.6854,-999.000
    31DSCG94_3,  P18N,   123,  2,    223,    421,2,19940407,2234, -8.4638,-105.2603, 3664,     24.0,  27.6558,  34.9527,2,  34.9570,2,    194.4,2,    202.7,2,     0.89,2,     2.00,2,     0.04,2,     0.37,2,    1.704,2,    0.985,2, -999.000,9, -999.000,9, -999.000,9,-999.0000,9,  -999.00,9,   -999.0,9,   -999.0,9,   -999.0,9,   -999.0,9,   -999.0,9,     8.09,2, -999.00,  -999.0,-999.0000,-999.000,   25.00,  -999.0, 27.6502,-999.000
    31DSCG94_3,  P18N,   123,  2,    222,    418,2,19940407,2234, -8.4638,-105.2603, 3664,     51.2,  26.0155,  35.5130,2,  35.5161,2,    199.7,2,    208.1,2,     2.24,2,     4.64,2,     0.07,2,     0.55,2,    1.842,2,    1.066,2, -999.000,9, -999.000,9, -999.000,9,-999.0000,9,  -999.00,9,   -999.0,9,   -999.0,9,   -999.0,9,   -999.0,9,   -999.0,9,     8.05,2, -999.00,  -999.0,-999.0000,-999.000,   25.00,  -999.0, 26.0040,-999.000
    31DSCG94_3,  P18N,   123,  2,    221,    413,2,19940407,2234, -8.4638,-105.2603, 3664,    100.5,  19.2209,  35.5418,2,  35.5530,2,    145.2,2,    152.5,2,     2.83,2,     7.11,2,     1.82,2,     0.94,2,    2.165,2,    1.185,2, -999.000,9, -999.000,9, -999.000,9,-999.0000,9,  -999.00,9,   -999.0,9,   -999.0,9,   -999.0,9,   -999.0,9,   -999.0,9,     7.89,2, -999.00,  -999.0,-999.0000,-999.000,   25.00,  -999.0, 19.2028,-999.000
    31DSCG94_3,  P18N,   123,  2,    220,    405,2,19940407,2234, -8.4638,-105.2603, 3664,    148.7,  14.1851,  34.9953,2,  35.0066,2,     22.7,2,     24.0,2,    14.21,2,    24.56,2,     0.01,2,     2.09,2,    0.998,2,    0.538,2, -999.000,9, -999.000,9, -999.000,9,-999.0000,9,  -999.00,9,   -999.0,9,   -999.0,9,   -999.0,9,   -999.0,9,   -999.0,9,     7.55,2, -999.00,  -999.0,-999.0000,-999.000,   25.00,  -999.0, 14.1634,-999.000
    31DSCG94_3,  P18N,   123,  2,    219,    417,2,19940407,2234, -8.4638,-105.2603, 3664,    201.5,  12.3110,  34.8903,2,  34.8932,2,     23.7,2,     17.0,2,    22.55,2,    29.38,2,     0.01,2,     2.28,2,    0.308,2,    0.172,2, -999.000,9, -999.000,9, -999.000,9,-999.0000,9,  -999.00,9,   -999.0,9,   -999.0,9,   -999.0,9,   -999.0,9,   -999.0,9,     7.50,2, -999.00,  -999.0,-999.0000,-999.000,   25.00,  -999.0, 12.2843,-999.000
    31DSCG94_3,  P18N,   123,  2,    218,    429,2,19940407,2234, -8.4638,-105.2603, 3664,    300.0,  11.2037,  34.8218,2,  34.8227,2,     21.0,2,     15.8,2,    27.62,2,    32.86,2,     0.00,2,     2.35,2,    0.136,2,    0.078,2, -999.000,9, -999.000,9, -999.000,9,-999.0000,9,  -999.00,9,   -999.0,9,   -999.0,9,   -999.0,9,   -999.0,9,   -999.0,9,     7.47,2, -999.00,  -999.0,-999.0000,-999.000,   25.00,  -999.0, 11.1662,-999.000
    31DSCG94_3,  P18N,   123,  2,    217,    427,2,19940407,2234, -8.4638,-105.2603, 3664,    399.2,  10.2305,  34.7579,2,  34.7593,2,     11.6,2,      9.8,2,    33.03,2,    34.64,2,     0.00,2,     2.54,2,    0.050,2,    0.026,2, -999.000,9, -999.000,9, -999.000,9,-999.0000,9,  -999.00,9,   -999.0,9,   -999.0,9,   -999.0,9,   -999.0,9,   -999.0,9,     7.43,2, -999.00,  -999.0,-999.0000,-999.000,   25.00,  -999.0, 10.1832,-999.000
    31DSCG94_3,  P18N,   123,  2,    216,    410,2,19940407,2234, -8.4638,-105.2603, 3664,    502.4,   8.7555,  34.6659,2,  34.6636,2,     13.9,2,      8.9,6,    38.22,2,    38.93,2,     0.00,2,     2.74,2,    0.005,2,    0.003,2, -999.000,9, -999.000,9, -999.000,9,-999.0000,9,  -999.00,9,   -999.0,9,   -999.0,9,   -999.0,9,   -999.0,9,   -999.0,9,     7.39,2, -999.00,  -999.0,-999.0000,-999.000,   25.00,  -999.0,  8.7011,-999.000
    31DSCG94_3,  P18N,   123,  2,    215,    422,2,19940407,2234, -8.4638,-105.2603, 3664,    598.5,   7.5896,  34.6018,2,  34.6029,2,     18.6,2,     13.7,2,    43.56,2,    42.22,2,     0.00,2,     2.87,2,    0.001,2,   -0.002,2, -999.000,9, -999.000,9, -999.000,9,-999.0000,9,  -999.00,9,   -999.0,9,   -999.0,9,   -999.0,9,   -999.0,9,   -999.0,9,     7.37,2, -999.00,  -999.0,-999.0000,-999.000,   25.00,  -999.0,  7.5296,-999.000
    31DSCG94_3,  P18N,   123,  2,    214,    407,2,19940407,2234, -8.4638,-105.2603, 3664,    701.6,   6.5276,  34.5595,2,  34.5594,2,     25.6,2,     23.5,2,    51.03,2,    44.37,2,     0.00,2,     2.96,2,   -0.001,2,    0.000,2, -999.000,9, -999.000,9, -999.000,9,-999.0000,9,  -999.00,9,   -999.0,9,   -999.0,9,   -999.0,9,   -999.0,9,   -999.0,9,     7.37,2, -999.00,  -999.0,-999.0000,-999.000,   25.00,  -999.0,  6.4625,-999.000
    31DSCG94_3,  P18N,   123,  2,    213,    419,2,19940407,2234, -8.4638,-105.2603, 3664,    799.8,   5.6675,  34.5376,2,  34.5378,2,     43.7,2,     43.0,2,    59.77,2,    43.91,2,     0.00,2,     2.92,2,    0.009,2,    0.002,2, -999.000,9, -999.000,9, -999.000,9,-999.0000,9,  -999.00,9,   -999.0,9,   -999.0,9,   -999.0,9,   -999.0,9,   -999.0,9,     7.40,2, -999.00,  -999.0,-999.0000,-999.000,   25.00,  -999.0,  5.5979,-999.000
    31DSCG94_3,  P18N,   123,  2,    212,    426,2,19940407,2234, -8.4638,-105.2603, 3664,    898.7,   5.1359,  34.5331,2,  34.5341,2,     55.0,2,     55.8,2,    66.62,2,    43.56,2,     0.00,2,     2.91,2, -999.000,9, -999.000,9, -999.000,9, -999.000,9, -999.000,9,-999.0000,9,  -999.00,9,   -999.0,9,   -999.0,9,   -999.0,9,   -999.0,9,   -999.0,9,     7.42,2, -999.00,  -999.0,-999.0000,-999.000,   25.00,  -999.0,  5.0607,-999.000
    31DSCG94_3,  P18N,   123,  2,    211,    424,2,19940407,2234, -8.4638,-105.2603, 3664,    999.4,   4.5369,  34.5388,2,  34.5397,2,     73.9,2,     73.1,2,    78.00,2,    42.15,2,     0.00,2,     2.84,2,    0.001,2,    0.002,2, -999.000,9, -999.000,9, -999.000,9,-999.0000,9,  -999.00,9,   -999.0,9,   -999.0,9,   -999.0,9,   -999.0,9,   -999.0,9,     7.45,2, -999.00,  -999.0,-999.0000,-999.000,   25.00,  -999.0,  4.4571,-999.000
    31DSCG94_3,  P18N,   123,  2,    210,    409,2,19940407,2234, -8.4638,-105.2603, 3664,   1201.7,   3.7699,  34.5600,2,  34.5616,2,     88.6,2,     89.4,2,    96.02,2,    40.72,2,     0.00,2,     2.78,2, -999.000,9, -999.000,9, -999.000,9, -999.000,9, -999.000,9,-999.0000,9,  -999.00,9,   -999.0,9,   -999.0,9,   -999.0,9,   -999.0,9,   -999.0,9,     7.48,2, -999.00,  -999.0,-999.0000,-999.000,   25.00,  -999.0,  3.6792,-999.000
    31DSCG94_3,  P18N,   123,  2,    209,    423,2,19940407,2234, -8.4638,-105.2603, 3664,   1397.3,   3.1197,  34.5886,2,-999.0000,9,     96.0,2,     95.7,6,   115.98,2,    41.06,2,     0.00,2,     2.83,2,    0.005,2,    0.010,2, -999.000,9, -999.000,9, -999.000,9,-999.0000,9,  -999.00,9,   -999.0,9,   -999.0,9,   -999.0,9,   -999.0,9,   -999.0,9,  -999.00,9, -999.00,  -999.0,-999.0000,-999.000, -999.00,  -999.0,  3.0190,-999.000
    31DSCG94_3,  P18N,   123,  2,    208,    414,2,19940407,2234, -8.4638,-105.2603, 3664,   1597.3,   2.7344,  34.6096,2,  34.6103,2,    107.3,2,    104.1,2,   121.16,2,    39.37,2,     0.00,2,     2.68,2, -999.000,9, -999.000,9, -999.000,9, -999.000,9, -999.000,9,-999.0000,9,  -999.00,9,   -999.0,9,   -999.0,9,   -999.0,9,   -999.0,9,   -999.0,9,     7.50,2, -999.00,  -999.0,-999.0000,-999.000,   25.00,  -999.0,  2.6216,-999.000
    31DSCG94_3,  P18N,   123,  2,    207,    437,2,19940407,2234, -8.4638,-105.2603, 3664,   1898.2,   2.3377,  34.6337,2,  34.6380,3,    115.3,2,    113.1,2,   130.05,2,    39.36,2,     0.00,2,     2.64,2,    0.000,2,   -0.001,2, -999.000,9, -999.000,9, -999.000,9,-999.0000,9,  -999.00,9,   -999.0,9,   -999.0,9,   -999.0,9,   -999.0,9,   -999.0,9,     7.52,2, -999.00,  -999.0,-999.0000,-999.000,   25.00,  -999.0,  2.2048,-999.000
    31DSCG94_3,  P18N,   123,  2,    206,    416,2,19940407,2234, -8.4638,-105.2603, 3664,   2193.9,   2.0936,  34.6500,2,  34.6512,2,    121.6,2,    119.8,2,   135.62,2,    38.56,2,     0.00,2,     2.60,2, -999.000,9, -999.000,9, -999.000,9, -999.000,9, -999.000,9,-999.0000,9,  -999.00,9,   -999.0,9,   -999.0,9,   -999.0,9,   -999.0,9,   -999.0,9,     7.53,2, -999.00,  -999.0,-999.0000,-999.000,   25.00,  -999.0,  1.9390,-999.000
    31DSCG94_3,  P18N,   123,  2,    205,    420,2,19940407,2234, -8.4638,-105.2603, 3664,   2498.2,   1.9112,  34.6629,2,  34.6636,2,    124.5,2,    125.3,2,   141.45,2,    38.27,2,     0.00,2,     2.56,2,   -0.003,2,    0.002,2, -999.000,9, -999.000,9, -999.000,9,-999.0000,9,  -999.00,9,   -999.0,9,   -999.0,9,   -999.0,9,   -999.0,9,   -999.0,9,     7.55,2, -999.00,  -999.0,-999.0000,-999.000,   25.00,  -999.0,  1.7327,-999.000
    31DSCG94_3,  P18N,   123,  2,    204,    436,2,19940407,2234, -8.4638,-105.2603, 3664,   2795.0,   1.7955,  34.6700,2,  34.6707,2,    130.6,2,    131.1,2,   147.91,2,    37.73,2,     0.00,2,     2.53,2, -999.000,9, -999.000,9, -999.000,9, -999.000,9, -999.000,9,-999.0000,9,  -999.00,9,   -999.0,9,   -999.0,9,   -999.0,9,   -999.0,9,   -999.0,9,     7.56,2, -999.00,  -999.0,-999.0000,-999.000,   25.00,  -999.0,  1.5918,-999.000
    31DSCG94_3,  P18N,   123,  2,    203,    425,2,19940407,2234, -8.4638,-105.2603, 3664,   3096.4,   1.7511,  34.6736,2,  34.6745,2,    132.9,2,    134.8,2,   150.23,2,    37.57,2,     0.00,2,     2.50,2,   -0.001,2,   -0.001,2, -999.000,9, -999.000,9, -999.000,9,-999.0000,9,  -999.00,9,   -999.0,9,   -999.0,9,   -999.0,9,   -999.0,9,   -999.0,9,     7.57,2, -999.00,  -999.0,-999.0000,-999.000,   25.00,  -999.0,  1.5193,-999.000
    31DSCG94_3,  P18N,   123,  2,    202,    433,2,19940407,2234, -8.4638,-105.2603, 3664,   3401.4,   1.7477,  34.6756,2,  34.6770,2,    133.7,2,    136.5,2,   149.46,2,    37.58,2,     0.00,2,     2.48,2, -999.000,9, -999.000,9, -999.000,9, -999.000,9, -999.000,9,-999.0000,9,  -999.00,9,   -999.0,9,   -999.0,9,   -999.0,9,   -999.0,9,   -999.0,9,     7.57,2, -999.00,  -999.0,-999.0000,-999.000,   25.00,  -999.0,  1.4854,-999.000
    31DSCG94_3,  P18N,   123,  2,    201,    403,2,19940407,2234, -8.4638,-105.2603, 3664,   3685.4,   1.7620,  34.6762,2,-999.0000,9,    133.8,2,    138.7,2,   152.17,2,    38.58,2,     0.00,2,     2.54,2,   -0.003,2,    0.003,2, -999.000,9, -999.000,9, -999.000,9,-999.0000,9,  -999.00,9,   -999.0,9,   -999.0,9,   -999.0,9,   -999.0,9,   -999.0,9,  -999.00,9, -999.00,  -999.0,-999.0000,-999.000, -999.00,  -999.0,  1.4698,-999.000