BOTTLE,20220630CCHSIOAMB
EXPOCODE,SECT_ID,STNNBR,CASTNO,SAMPNO,BTLNBR,BTLNBR_FLAG_W,DATE,TIME,LATITUDE,LONGITUDE,DEPTH,CTDPRS,CTDTMP,CTDSAL,CTDSAL_FLAG_W,SALNTY,SALNTY_FLAG_W,CTDOXY,CTDOXY_FLAG_W,OXYGEN,OXYGEN_FLAG_W,SILCAT,SILCAT_FLAG_W,NITRAT,NITRAT_FLAG_W,NITRIT,NITRIT_FLAG_W,PHSPHT,PHSPHT_FLAG_W,CFC-11,CFC-11_FLAG_W,CFC-12,CFC-12_FLAG_W,CFC113,CFC113_FLAG_W,CCL4,CCL4_FLAG_W,TRITUM,TRITUM_FLAG_W,HELIUM,HELIUM_FLAG_W,DELHE3,DELHE3_FLAG_W,DELC14,DELC14_FLAG_W,DELC13,DELC13_FLAG_W,TCARBN,TCARBN_FLAG_W,PCO2,PCO2_FLAG_W,ALKALI,ALKALI_FLAG_W,PH,PH_FLAG_W,PCO2TMP,C14ERR,HELIER,DELHER,PH_TMP,C13ERR,THETA,TRITER
,,,,,,,,,,,,DBAR,ITS-90,PSS-78,,PSS-78,,UMOL/KG,,UMOL/KG,,UMOL/KG,,UMOL/KG,,UMOL/KG,,UMOL/KG,,PMOL/KG,,PMOL/KG,,PMOL/KG,,PMOL/KG,,TU,,NMOL/KG,,PERCNT,,/MILLE,,/MILLE,,UMOL/KG,,UATM,,UMOL/KG,,,,DEG C,/MILLE,NMOL/KG,PERCNT,DEG C,/MILLE,DEG C,TU
    31DSCG94_2,  P18S,    60,  1,    136,   1025,2,19940316,0506,-39.4983,-102.9983, 3950,     12.0,  16.1616,  33.9815,2,  33.9779,2,    251.3,2,    247.7,2,     1.20,2,     8.52,2,     0.20,2,     0.85,2, -999.000,9, -999.000,9, -999.000,9, -999.000,9, -999.000,9,-999.0000,9,  -999.00,9,   -999.0,9,   -999.0,9,   2031.8,2,    454.0,2,   2252.0,6,     7.92,2,   20.00,  -999.0,-999.0000,-999.000,   25.00,  -999.0, 16.1597,-999.000
    31DSCG94_2,  P18S,    60,  1,    135,   1247,2,19940316,0506,-39.4983,-102.9983, 3950,     25.1,  15.7038,  33.9977,2,  33.9982,2,    252.0,2,    250.5,2,     1.21,2,     8.56,2,     0.20,2,     0.83,2, -999.000,9, -999.000,9, -999.000,9, -999.000,9, -999.000,9,-999.0000,9,  -999.00,9,   -999.0,9,   -999.0,9,   2034.3,2,    462.9,2,   2254.0,2,     7.92,2,   20.00,  -999.0,-999.0000,-999.000,   25.00,  -999.0, 15.7000,-999.000
    31DSCG94_2,  P18S,    60,  1,    134,   1108,2,19940316,0506,-39.4983,-102.9983, 3950,     51.0,  15.4692,  34.0016,2,  34.0054,2,    252.4,2,    252.1,6,     1.01,2,     8.61,2,     0.18,2,     0.78,2, -999.000,9, -999.000,9, -999.000,9, -999.000,9, -999.000,9,-999.0000,9,  -999.00,9,   -999.0,9,   -999.0,9,   2033.8,2,    458.8,2,   2258.0,2,     7.92,2,   20.00,  -999.0,-999.0000,-999.000,   25.00,  -999.0, 15.4614,-999.000
    31DSCG94_2,  P18S,    60,  1,    133,   1244,2,19940316,0506,-39.4983,-102.9983, 3950,     75.2,  11.7391,  33.9946,2,  34.0024,2,    273.1,2,    278.2,2,     0.91,2,     7.96,2,     0.12,2,     0.75,2, -999.000,9, -999.000,9, -999.000,9, -999.000,9, -999.000,9,-999.0000,9,  -999.00,9,   -999.0,9,   -999.0,9,   2039.3,2,    476.6,2,   2250.0,2,     7.91,2,   20.00,  -999.0,-999.0000,-999.000,   25.00,  -999.0, 11.7296,-999.000
    31DSCG94_2,  P18S,    60,  1,    132,   1003,3,19940316,0506,-39.4983,-102.9983, 3950,     99.1,  10.6021,  34.0381,2,  34.0413,2,    272.8,2,    271.6,2,     0.82,2,     9.71,2,     0.20,2,     0.90,2, -999.000,9, -999.000,9, -999.000,9, -999.000,9, -999.000,9,-999.0000,9,  -999.00,9,   -999.0,9,   -999.0,9,   2053.9,2,   -999.0,9,   2256.0,2,  -999.00,9, -999.00,  -999.0,-999.0000,-999.000, -999.00,  -999.0, 10.5903,-999.000
    31DSCG94_2,  P18S,    60,  1,    131,   1211,2,19940316,0506,-39.4983,-102.9983, 3950,    124.9,   9.9152,  34.0928,2,  34.0900,2,    268.9,2,    270.2,2,     0.67,2,    11.68,2,     0.23,2,     0.98,2, -999.000,9, -999.000,9, -999.000,9, -999.000,9, -999.000,9,-999.0000,9,  -999.00,9,   -999.0,9,   -999.0,9,   2067.7,2,    539.3,2,   -999.0,5,     7.86,2,   20.00,  -999.0,-999.0000,-999.000,   25.00,  -999.0,  9.9010,-999.000
    31DSCG94_2,  P18S,    60,  1,    130,   1241,2,19940316,0506,-39.4983,-102.9983, 3950,    149.7,   9.2037,  34.1095,2,  34.1099,2,    266.5,2,    269.0,2,     1.67,2,    12.84,2,     0.35,2,     1.07,2, -999.000,9, -999.000,9, -999.000,9, -999.000,9, -999.000,9,-999.0000,9,  -999.00,9,   -999.0,9,   -999.0,9,   2076.1,2,    577.3,2,   -999.0,5,     7.84,2,   20.00,  -999.0,-999.0000,-999.000,   25.00,  -999.0,  9.1874,-999.000
    31DSCG94_2,  P18S,    60,  1,    129,   1031,2,19940316,0506,-39.4983,-102.9983, 3950,    197.5,   8.6637,  34.2856,2,  34.2874,2,    238.9,2,    235.7,2,     3.08,2,    17.98,2,     0.00,2,     1.33,2, -999.000,9, -999.000,9, -999.000,9, -999.000,9, -999.000,9,-999.0000,9,  -999.00,9,   -999.0,9,   -999.0,9,   2104.9,2,    664.6,2,   2269.0,2,     7.78,2,   20.00,  -999.0,-999.0000,-999.000,   25.00,  -999.0,  8.6430,-999.000
    31DSCG94_2,  P18S,    60,  1,    128,   1210,2,19940316,0506,-39.4983,-102.9983, 3950,    250.7,   7.3987,  34.2755,2,  34.2748,2,    246.9,2,    247.4,2,     4.31,2,    20.45,2,     0.00,2,     1.47,2, -999.000,9, -999.000,9, -999.000,9, -999.000,9, -999.000,9,-999.0000,9,  -999.00,9,   -999.0,9,   -999.0,9,   2119.8,2,    702.3,2,   2270.0,2,     7.76,2,   20.00,  -999.0,-999.0000,-999.000,   25.00,  -999.0,  7.3747,-999.000
    31DSCG94_2,  P18S,    60,  1,    127,   1008,2,19940316,0506,-39.4983,-102.9983, 3950,    296.9,   6.9419,  34.3089,2,  34.3099,2,    250.8,2,    251.1,2,     5.35,2,    21.36,2,     0.00,2,     1.52,2, -999.000,9, -999.000,9, -999.000,9, -999.000,9, -999.000,9,-999.0000,9,  -999.00,9,   -999.0,9,   -999.0,9,   2125.9,2,    714.7,2,   2275.0,2,     7.75,2,   20.00,  -999.0,-999.0000,-999.000,   25.00,  -999.0,  6.9144,-999.000
    31DSCG94_2,  P18S,    60,  1,    126,   1007,2,19940316,0506,-39.4983,-102.9983, 3950,    351.3,   6.6562,  34.3256,2,  34.3261,2,    253.8,2,    254.8,2,     6.69,2,    21.41,2,     0.00,2,     1.53,2, -999.000,9, -999.000,9, -999.000,9, -999.000,9, -999.000,9,-999.0000,9,  -999.00,9,   -999.0,9,   -999.0,9,   2127.9,2,    715.3,2,   2278.0,2,     7.75,2,   20.00,  -999.0,-999.0000,-999.000,   25.00,  -999.0,  6.6242,-999.000
    31DSCG94_2,  P18S,    60,  1,    125,   1203,2,19940316,0506,-39.4983,-102.9983, 3950,    398.4,   6.5166,  34.3296,2,  34.3303,2,    254.7,2,    257.7,2,     7.32,2,    21.56,2,     0.00,2,     1.54,2, -999.000,9, -999.000,9, -999.000,9, -999.000,9, -999.000,9,-999.0000,9,  -999.00,9,   -999.0,9,   -999.0,9,   2127.9,2,    714.6,2,   -999.0,5,     7.75,2,   20.00,  -999.0,-999.0000,-999.000,   25.00,  -999.0,  6.4806,-999.000
    31DSCG94_2,  P18S,    60,  1,    123,   1101,2,19940316,0506,-39.4983,-102.9983, 3950,    500.4,   6.1672,  34.3121,2,  34.3128,2,    254.3,2,    257.3,2,     8.39,2,    22.35,2,     0.00,2,     1.63,2, -999.000,9, -999.000,9, -999.000,9, -999.000,9, -999.000,9,-999.0000,9,  -999.00,9,   -999.0,9,   -999.0,9,   2132.3,2,    731.7,2,   2275.0,2,     7.75,2,   20.00,  -999.0,-999.0000,-999.000,   25.00,  -999.0,  6.1230,-999.000
    31DSCG94_2,  P18S,    60,  1,    121,   1206,2,19940316,0506,-39.4983,-102.9983, 3950,    599.3,   5.8884,  34.2964,2,  34.2967,2,    252.7,2,    255.6,2,     9.39,2,    23.58,2,     0.00,2,     1.70,2, -999.000,9, -999.000,9, -999.000,9, -999.000,9, -999.000,9,-999.0000,9,  -999.00,9,   -999.0,9,   -999.0,9,   2143.5,2,    741.9,2,   2281.0,2,     7.74,2,   20.00,  -999.0,-999.0000,-999.000,   25.00,  -999.0,  5.8363,-999.000
    31DSCG94_2,  P18S,    60,  1,    119,   1248,2,19940316,0506,-39.4983,-102.9983, 3950,    700.6,   5.4814,  34.2749,2,  34.2758,2,    247.5,2,    249.5,2,    11.54,2,    25.28,2,     0.00,2,     1.78,2, -999.000,9, -999.000,9, -999.000,9, -999.000,9, -999.000,9,-999.0000,9,  -999.00,9,   -999.0,9,   -999.0,9,   2142.7,2,    783.7,2,   2281.0,2,     7.72,2,   20.00,  -999.0,-999.0000,-999.000,   25.00,  -999.0,  5.4222,-999.000
    31DSCG94_2,  P18S,    60,  1,    118,   1207,2,19940316,0506,-39.4983,-102.9983, 3950,    801.3,   5.0494,  34.2667,2,  34.2681,2,    234.6,2,    236.1,2,    16.40,2,    27.21,2,     0.00,2,     1.88,2, -999.000,9, -999.000,9, -999.000,9, -999.000,9, -999.000,9,-999.0000,9,  -999.00,9,   -999.0,9,   -999.0,9,   2156.1,2,    836.0,2,   2284.0,2,     7.70,2,   20.00,  -999.0,-999.0000,-999.000,   25.00,  -999.0,  4.9838,-999.000
    31DSCG94_2,  P18S,    60,  1,    117,   1119,2,19940316,0506,-39.4983,-102.9983, 3950,    902.7,   4.6126,  34.2779,2,  34.2791,2,    218.0,2,    216.9,2,    22.91,2,    29.59,2,     0.00,2,     2.08,2, -999.000,9, -999.000,9, -999.000,9, -999.000,9, -999.000,9,-999.0000,9,  -999.00,9,   -999.0,9,   -999.0,9,   2175.3,2,    928.1,2,   2288.0,2,     7.66,2,   20.00,  -999.0,-999.0000,-999.000,   25.00,  -999.0,  4.5410,-999.000
    31DSCG94_2,  P18S,    60,  1,    116,   1036,2,19940316,0506,-39.4983,-102.9983, 3950,    997.9,   4.2071,  34.3021,2,  34.3017,2,    203.0,2,    201.8,2,    30.10,2,    31.69,2,     0.02,2,     2.18,2, -999.000,9, -999.000,9, -999.000,9, -999.000,9, -999.000,9,-999.0000,9,  -999.00,9,   -999.0,9,   -999.0,9,   2191.9,2,    990.9,2,   2297.0,6,     7.63,2,   20.00,  -999.0,-999.0000,-999.000,   25.00,  -999.0,  4.1303,-999.000
    31DSCG94_2,  P18S,    60,  1,    115,   1017,2,19940316,0506,-39.4983,-102.9983, 3950,   1097.1,   3.7948,  34.3400,2,  34.3406,2,    186.5,2,    184.4,6,    40.65,2,    33.58,2,     0.00,2,     2.33,2, -999.000,9, -999.000,9, -999.000,9, -999.000,9, -999.000,9,-999.0000,9,  -999.00,9,   -999.0,9,   -999.0,9,   -999.0,9,   -999.0,9,   -999.0,9,     7.60,2, -999.00,  -999.0,-999.0000,-999.000,   25.00,  -999.0,  3.7130,-999.000
    31DSCG94_2,  P18S,    60,  1,    114,   1016,2,19940316,0506,-39.4983,-102.9983, 3950,   1201.9,   3.4670,  34.3885,2,  34.3867,2,    170.3,2,    168.0,2,    50.57,2,    35.13,2,     0.00,2,     2.48,2, -999.000,9, -999.000,9, -999.000,9, -999.000,9, -999.000,9,-999.0000,9,  -999.00,9,   -999.0,9,   -999.0,9,   -999.0,9,   -999.0,9,   -999.0,9,     7.57,2, -999.00,  -999.0,-999.0000,-999.000,   25.00,  -999.0,  3.3794,-999.000
    31DSCG94_2,  P18S,    60,  1,    113,   1209,2,19940316,0506,-39.4983,-102.9983, 3950,   1401.6,   3.1212,  34.4874,2,  34.4868,2,    140.5,2,    139.1,2,    71.27,2,    37.44,2,     0.01,2,     2.64,2, -999.000,9, -999.000,9, -999.000,9, -999.000,9, -999.000,9,-999.0000,9,  -999.00,9,   -999.0,9,   -999.0,9,   -999.0,9,   -999.0,9,   -999.0,9,     7.53,2, -999.00,  -999.0,-999.0000,-999.000,   25.00,  -999.0,  3.0203,-999.000
    31DSCG94_2,  P18S,    60,  1,    112,   1033,2,19940316,0506,-39.4983,-102.9983, 3950,   1604.6,   2.7932,  34.5522,2,  34.5512,2,    132.6,2,    132.6,2,    86.94,2,    37.45,2,     0.01,2,     2.65,2, -999.000,9, -999.000,9, -999.000,9, -999.000,9, -999.000,9,-999.0000,9,  -999.00,9,   -999.0,9,   -999.0,9,   -999.0,9,   -999.0,9,   -999.0,9,     7.52,2, -999.00,  -999.0,-999.0000,-999.000,   25.00,  -999.0,  2.6792,-999.000
    31DSCG94_2,  P18S,    60,  1,    111,   1263,2,19940316,0506,-39.4983,-102.9983, 3950,   1798.7,   2.5326,  34.5886,2,  34.5872,2,    137.8,2,    140.0,2,    95.58,2,    36.79,2,     0.00,2,     2.60,2, -999.000,9, -999.000,9, -999.000,9, -999.000,9, -999.000,9,-999.0000,9,  -999.00,9,   -999.0,9,   -999.0,9,   -999.0,9,   -999.0,9,   -999.0,9,     7.54,2, -999.00,  -999.0,-999.0000,-999.000,   25.00,  -999.0,  2.4055,-999.000
    31DSCG94_2,  P18S,    60,  1,    110,   1005,2,19940316,0506,-39.4983,-102.9983, 3950,   1997.9,   2.2908,  34.6211,2,  34.6203,2,    147.7,2,    150.6,6,    99.85,2,    35.70,2,     0.00,2,     2.53,2, -999.000,9, -999.000,9, -999.000,9, -999.000,9, -999.000,9,-999.0000,9,  -999.00,9,   -999.0,9,   -999.0,9,   -999.0,9,   -999.0,9,   -999.0,9,     7.56,2, -999.00,  -999.0,-999.0000,-999.000,   25.00,  -999.0,  2.1501,-999.000
    31DSCG94_2,  P18S,    60,  1,    109,   1611,2,19940316,0506,-39.4983,-102.9983, 3950,   2250.8,   2.0790,  34.6615,2,  34.6606,2,    159.5,2,    161.4,2,   101.95,2,    34.65,2,     0.01,2,     2.45,2, -999.000,9, -999.000,9, -999.000,9, -999.000,9, -999.000,9,-999.0000,9,  -999.00,9,   -999.0,9,   -999.0,9,   -999.0,9,   -999.0,9,   -999.0,9,  -999.00,9, -999.00,  -999.0,-999.0000,-999.000, -999.00,  -999.0,  1.9196,-999.000
    31DSCG94_2,  P18S,    60,  1,    108,   1218,2,19940316,0506,-39.4983,-102.9983, 3950,   2498.2,   1.9252,  34.6815,2,  34.6803,2,    162.2,2,    164.7,2,   107.81,2,    34.48,2,     0.01,2,     2.40,2, -999.000,9, -999.000,9, -999.000,9, -999.000,9, -999.000,9,-999.0000,9,  -999.00,9,   -999.0,9,   -999.0,9,   -999.0,9,   -999.0,9,   -999.0,9,  -999.00,9, -999.00,  -999.0,-999.0000,-999.000, -999.00,  -999.0,  1.7464,-999.000
    31DSCG94_2,  P18S,    60,  1,    107,   1257,2,19940316,0506,-39.4983,-102.9983, 3950,   2729.5,   1.8266,  34.6903,2,  34.6893,2,    166.5,2,    167.6,2,   111.48,2,    33.87,2,     0.00,2,     2.39,2, -999.000,9, -999.000,9, -999.000,9, -999.000,9, -999.000,9,-999.0000,9,  -999.00,9,   -999.0,9,   -999.0,9,   -999.0,9,   -999.0,9,   -999.0,9,  -999.00,9, -999.00,  -999.0,-999.0000,-999.000, -999.00,  -999.0,  1.6283,-999.000
    31DSCG94_2,  P18S,    60,  1,    106,   1224,2,19940316,0506,-39.4983,-102.9983, 3950,   2997.4,   1.7168,  34.6964,2,  34.6947,2,    170.9,2,    171.6,2,   113.69,2,    33.80,2,     0.00,2,     2.33,2, -999.000,9, -999.000,9, -999.000,9, -999.000,9, -999.000,9,-999.0000,9,  -999.00,9,   -999.0,9,   -999.0,9,   -999.0,9,   -999.0,9,   -999.0,9,  -999.00,9, -999.00,  -999.0,-999.0000,-999.000, -999.00,  -999.0,  1.4953,-999.000
    31DSCG94_2,  P18S,    60,  1,    105,   1246,2,19940316,0506,-39.4983,-102.9983, 3950,   3250.1,   1.5751,  34.7025,2,  34.7015,2,    177.1,2,    178.0,2,   114.45,2,    33.49,2,     0.01,2,     2.28,2, -999.000,9, -999.000,9, -999.000,9, -999.000,9, -999.000,9,-999.0000,9,  -999.00,9,   -999.0,9,   -999.0,9,   -999.0,9,   -999.0,9,   -999.0,9,  -999.00,9, -999.00,  -999.0,-999.0000,-999.000, -999.00,  -999.0,  1.3321,-999.000
    31DSCG94_2,  P18S,    60,  1,    104,   1217,2,19940316,0506,-39.4983,-102.9983, 3950,   3496.7,   1.3290,  34.7060,2,  34.7049,2,    185.2,2,    186.1,2,   117.89,2,    32.91,2,     0.01,2,     2.27,2, -999.000,9, -999.000,9, -999.000,9, -999.000,9, -999.000,9,-999.0000,9,  -999.00,9,   -999.0,9,   -999.0,9,   -999.0,9,   -999.0,9,   -999.0,9,  -999.00,9, -999.00,  -999.0,-999.0000,-999.000, -999.00,  -999.0,  1.0673,-999.000
    31DSCG94_2,  P18S,    60,  1,    102,   1223,2,19940316,0506,-39.4983,-102.9983, 3950,   3752.0,   1.1801,  34.7077,2,  34.7062,2,    192.1,2,    191.1,2,   124.58,2,    33.09,2,     0.00,2,     2.30,2, -999.000,9, -999.000,9, -999.000,9, -999.000,9, -999.000,9,-999.0000,9,  -999.00,9,   -999.0,9,   -999.0,9,   -999.0,9,   -999.0,9,   -999.0,9,  -999.00,9, -999.00,  -999.0,-999.0000,-999.000, -999.00,  -999.0,  0.8962,-999.000
    31DSCG94_2,  P18S,    60,  1,    103,   9999,2,19940316,0506,-39.4983,-102.9983, 3950,   3752.6,   1.1804,  34.7077,2,  34.7071,2,    192.1,2,    191.0,2,   122.63,2,    33.27,2,     0.01,2,     2.26,2, -999.000,9, -999.000,9, -999.000,9, -999.000,9, -999.000,9,-999.0000,9,  -999.00,9,   -999.0,9,   -999.0,9,   -999.0,9,   -999.0,9,   -999.0,9,  -999.00,9, -999.00,  -999.0,-999.0000,-999.000, -999.00,  -999.0,  0.8964,-999.000
    31DSCG94_2,  P18S,    60,  1,    101,   1041,2,19940316,0506,-39.4983,-102.9983, 3950,   3993.8,   1.1789,  34.7077,2,  34.7075,2,    194.9,2,    192.1,2,   123.41,2,    33.11,2,     0.00,2,     2.28,2, -999.000,9, -999.000,9, -999.000,9, -999.000,9, -999.000,9,-999.0000,9,  -999.00,9,   -999.0,9,   -999.0,9,   -999.0,9,   -999.0,9,   -999.0,9,     7.61,2, -999.00,  -999.0,-999.0000,-999.000,   25.00,  -999.0,  0.8695,-999.000