BOTTLE,20220630CCHSIOAMB
EXPOCODE,SECT_ID,STNNBR,CASTNO,SAMPNO,BTLNBR,BTLNBR_FLAG_W,DATE,TIME,LATITUDE,LONGITUDE,DEPTH,CTDPRS,CTDTMP,CTDSAL,CTDSAL_FLAG_W,SALNTY,SALNTY_FLAG_W,CTDOXY,CTDOXY_FLAG_W,OXYGEN,OXYGEN_FLAG_W,SILCAT,SILCAT_FLAG_W,NITRAT,NITRAT_FLAG_W,NITRIT,NITRIT_FLAG_W,PHSPHT,PHSPHT_FLAG_W,CFC-11,CFC-11_FLAG_W,CFC-12,CFC-12_FLAG_W,CFC113,CFC113_FLAG_W,CCL4,CCL4_FLAG_W,TRITUM,TRITUM_FLAG_W,HELIUM,HELIUM_FLAG_W,DELHE3,DELHE3_FLAG_W,DELC14,DELC14_FLAG_W,DELC13,DELC13_FLAG_W,TCARBN,TCARBN_FLAG_W,PCO2,PCO2_FLAG_W,ALKALI,ALKALI_FLAG_W,PH,PH_FLAG_W,PCO2TMP,C14ERR,HELIER,DELHER,PH_TMP,C13ERR,THETA,TRITER
,,,,,,,,,,,,DBAR,ITS-90,PSS-78,,PSS-78,,UMOL/KG,,UMOL/KG,,UMOL/KG,,UMOL/KG,,UMOL/KG,,UMOL/KG,,PMOL/KG,,PMOL/KG,,PMOL/KG,,PMOL/KG,,TU,,NMOL/KG,,PERCNT,,/MILLE,,/MILLE,,UMOL/KG,,UATM,,UMOL/KG,,,,DEG C,/MILLE,NMOL/KG,PERCNT,DEG C,/MILLE,DEG C,TU
    31DSCG94_3,  P18N,   162,  1,    136,   1025,2,19940418,0313,  7.0000,-110.3400, 3823,      8.2,  29.0342,  33.9874,2,  33.9944,2,    201.2,2,    197.3,2,     2.04,2,     0.13,2,     0.00,2,     0.19,2, -999.000,9, -999.000,9, -999.000,9, -999.000,9, -999.000,9,-999.0000,9,  -999.00,9,   -999.0,9,      1.6,2,   1901.8,2,    253.8,2,   2228.0,6,     8.12,2,   20.00,  -999.0,-999.0000,-999.000,   25.00,  -999.0, 29.0323,-999.000
    31DSCG94_3,  P18N,   162,  1,    135,   1247,2,19940418,0313,  7.0000,-110.3400, 3823,     24.5,  29.0395,  33.9853,2,  33.9913,2,    190.2,2,    196.7,2,     1.63,2,     0.05,2,     0.00,2,     0.17,2, -999.000,9, -999.000,9, -999.000,9, -999.000,9, -999.000,9,-999.0000,9,  -999.00,9,   -999.0,9,   -999.0,9,   -999.0,9,   -999.0,9,   -999.0,9,     8.12,2, -999.00,  -999.0,-999.0000,-999.000,   25.00,  -999.0, 29.0336,-999.000
    31DSCG94_3,  P18N,   162,  1,    134,   1216,2,19940418,0313,  7.0000,-110.3400, 3823,     51.1,  25.0731,  34.4267,2,  34.4198,2,    205.1,2,    206.4,2,     0.69,2,     0.29,2,     0.00,2,     0.37,2, -999.000,9, -999.000,9, -999.000,9, -999.000,9, -999.000,9,-999.0000,9,  -999.00,9,   -999.0,9,   -999.0,9,   1973.7,2,    314.8,2,   2264.0,2,     8.05,2,   20.00,  -999.0,-999.0000,-999.000,   25.00,  -999.0, 25.0620,-999.000
    31DSCG94_3,  P18N,   162,  1,    133,   1244,2,19940418,0313,  7.0000,-110.3400, 3823,     75.3,  18.1142,  34.6716,2,  34.6637,2,     24.1,2,     50.0,2,    14.36,2,    23.07,2,     0.98,2,     1.88,2, -999.000,9, -999.000,9, -999.000,9, -999.000,9, -999.000,9,-999.0000,9,  -999.00,9,   -999.0,9,   -999.0,9,   -999.0,9,   -999.0,9,   -999.0,9,     7.65,2, -999.00,  -999.0,-999.0000,-999.000,   25.00,  -999.0, 18.1012,-999.000
    31DSCG94_3,  P18N,   162,  1,    132,   1003,3,19940418,0313,  7.0000,-110.3400, 3823,     97.3,  14.3263,  34.8132,2,-999.0000,5,     24.0,2,     13.8,2,  -999.00,9,  -999.00,9,  -999.00,9,  -999.00,9, -999.000,9, -999.000,9, -999.000,9, -999.000,9, -999.000,9,-999.0000,9,  -999.00,9,   -999.0,9,   -999.0,9,   -999.0,9,   -999.0,9,   -999.0,9,  -999.00,9, -999.00,  -999.0,-999.0000,-999.000, -999.00,  -999.0, 14.3121,-999.000
    31DSCG94_3,  P18N,   162,  1,    131,   1211,2,19940418,0313,  7.0000,-110.3400, 3823,    125.2,  12.8464,  34.8212,2,  34.8218,2,     22.4,2,     17.1,2,    25.29,2,    31.67,2,     0.00,2,     2.34,2, -999.000,9, -999.000,9, -999.000,9, -999.000,9, -999.000,9,-999.0000,9,  -999.00,9,   -999.0,9,   -999.0,9,   2230.2,2,   -999.0,9,   2292.0,2,     7.51,2, -999.00,  -999.0,-999.0000,-999.000,   25.00,  -999.0, 12.8294,-999.000
    31DSCG94_3,  P18N,   162,  1,    130,   1241,2,19940418,0313,  7.0000,-110.3400, 3823,    152.2,  12.3229,  34.8018,2,  34.8046,2,     11.6,2,     10.8,6,    26.80,2,    32.83,2,     0.00,2,     2.40,2, -999.000,9, -999.000,9, -999.000,9, -999.000,9, -999.000,9,-999.0000,9,  -999.00,9,   -999.0,9,   -999.0,9,   2238.8,2,   1378.0,2,   2290.0,2,     7.49,2,   20.00,  -999.0,-999.0000,-999.000,   25.00,  -999.0, 12.3028,-999.000
    31DSCG94_3,  P18N,   162,  1,    129,   1240,2,19940418,0313,  7.0000,-110.3400, 3823,    174.9,  11.8436,  34.7755,2,  34.7752,2,     25.3,2,     27.9,2,    27.43,2,    32.00,2,     0.00,2,     2.30,2, -999.000,9, -999.000,9, -999.000,9, -999.000,9, -999.000,9,-999.0000,9,  -999.00,9,   -999.0,9,   -999.0,9,   -999.0,9,   -999.0,9,   -999.0,9,     7.52,2, -999.00,  -999.0,-999.0000,-999.000,   25.00,  -999.0, 11.8210,-999.000
    31DSCG94_3,  P18N,   162,  1,    128,   1032,2,19940418,0313,  7.0000,-110.3400, 3823,    198.9,  11.4415,  34.7635,2,  34.7649,2,     22.2,2,     28.9,2,    28.43,2,    32.60,2,     0.00,2,     2.29,2, -999.000,9, -999.000,9, -999.000,9, -999.000,9, -999.000,9,-999.0000,9,  -999.00,9,   -999.0,9,   -999.0,9,   2235.1,2,   1351.1,2,   2299.0,2,     7.51,2,   20.00,  -999.0,-999.0000,-999.000,   25.00,  -999.0, 11.4164,-999.000
    31DSCG94_3,  P18N,   162,  1,    127,   1008,2,19940418,0313,  7.0000,-110.3400, 3823,    224.3,  11.1118,  34.7493,2,  34.7495,2,     30.9,2,     34.5,2,    29.53,2,    32.27,2,     0.00,2,     2.30,2, -999.000,9, -999.000,9, -999.000,9, -999.000,9, -999.000,9,-999.0000,9,  -999.00,9,   -999.0,9,   -999.0,9,   -999.0,9,   -999.0,9,   -999.0,9,     7.51,2, -999.00,  -999.0,-999.0000,-999.000,   25.00,  -999.0, 11.0840,-999.000
    31DSCG94_3,  P18N,   162,  1,    126,   1007,2,19940418,0313,  7.0000,-110.3400, 3823,    249.5,  10.9078,  34.7421,2,  34.7413,2,     30.1,2,     31.2,2,    30.70,2,    32.98,2,     0.00,2,     2.35,2, -999.000,9, -999.000,9, -999.000,9, -999.000,9, -999.000,9,-999.0000,9,  -999.00,9,   -999.0,9,   -999.0,9,   2240.1,2,   -999.0,9,   2298.0,2,     7.50,2, -999.00,  -999.0,-999.0000,-999.000,   25.00,  -999.0, 10.8772,-999.000
    31DSCG94_3,  P18N,   162,  1,    125,   1256,2,19940418,0313,  7.0000,-110.3400, 3823,    299.8,  10.4086,  34.7209,2,  34.7209,2,     22.3,2,     19.0,2,    33.49,2,    34.36,2,     0.00,2,     2.49,2, -999.000,9, -999.000,9, -999.000,9, -999.000,9, -999.000,9,-999.0000,9,  -999.00,9,   -999.0,9,   -999.0,9,   2255.5,2,   1529.6,2,   2300.0,2,     7.46,2,   20.00,  -999.0,-999.0000,-999.000,   25.00,  -999.0, 10.3729,-999.000
    31DSCG94_3,  P18N,   162,  1,    123,   1220,2,19940418,0313,  7.0000,-110.3400, 3823,    348.1,   9.7643,  34.6907,2,  34.6899,2,      9.9,2,      5.1,2,    39.58,2,    35.34,2,     0.00,2,     2.72,2, -999.000,9, -999.000,9, -999.000,9, -999.000,9, -999.000,9,-999.0000,9,  -999.00,9,   -999.0,9,   -999.0,9,   2278.5,2,   1735.1,2,   2301.0,2,     7.41,2,   20.00,  -999.0,-999.0000,-999.000,   25.00,  -999.0,  9.7243,-999.000
    31DSCG94_3,  P18N,   162,  1,    122,   1245,2,19940418,0313,  7.0000,-110.3400, 3823,    398.1,   9.1945,  34.6635,2,  34.6642,2,      4.7,2,      3.0,2,    43.62,2,    36.29,2,     0.00,2,     2.83,2, -999.000,9, -999.000,9, -999.000,9, -999.000,9, -999.000,9,-999.0000,9,  -999.00,9,   -999.0,9,   -999.0,9,   2288.0,2,   1805.6,2,   2309.0,2,     7.39,2,   20.00,  -999.0,-999.0000,-999.000,   25.00,  -999.0,  9.1504,-999.000
    31DSCG94_3,  P18N,   162,  1,    121,   1206,2,19940418,0313,  7.0000,-110.3400, 3823,    499.9,   7.9646,  34.6064,2,  34.6048,2,      2.3,2,      1.4,2,    54.30,2,    37.63,2,     0.00,2,     3.06,2, -999.000,9, -999.000,9, -999.000,9, -999.000,9, -999.000,9,-999.0000,9,  -999.00,9,   -999.0,9,   -999.0,9,   2304.3,2,   1916.5,2,   2321.0,2,     7.36,2,   20.00,  -999.0,-999.0000,-999.000,   25.00,  -999.0,  7.9134,-999.000
    31DSCG94_3,  P18N,   162,  1,    120,   1028,2,19940418,0313,  7.0000,-110.3400, 3823,    599.3,   6.8976,  34.5803,2,  34.5789,2,      3.1,2,      3.3,2,    63.85,2,    41.99,2,     0.00,2,     3.25,2, -999.000,9, -999.000,9, -999.000,9, -999.000,9, -999.000,9,-999.0000,9,  -999.00,9,   -999.0,9,   -999.0,9,   2316.7,2,   2005.4,2,   2327.0,2,     7.35,2,   20.00,  -999.0,-999.0000,-999.000,   25.00,  -999.0,  6.8407,-999.000
    31DSCG94_3,  P18N,   162,  1,    119,   1248,2,19940418,0313,  7.0000,-110.3400, 3823,    698.9,   6.0962,  34.5678,2,  34.5660,2,      5.4,2,      8.2,6,    72.12,2,    45.11,2,     0.00,2,     3.29,2, -999.000,9, -999.000,9, -999.000,9, -999.000,9, -999.000,9,-999.0000,9,  -999.00,9,   -999.0,9,   -999.0,9,   2325.4,2,   2015.6,2,   2335.0,2,     7.35,2,   20.00,  -999.0,-999.0000,-999.000,   25.00,  -999.0,  6.0336,-999.000
    31DSCG94_3,  P18N,   162,  1,    118,   1115,2,19940418,0313,  7.0000,-110.3400, 3823,    797.2,   5.5406,  34.5603,2,  34.5596,2,     18.9,2,     25.2,2,    77.23,2,    45.21,2,     0.00,2,     3.20,2, -999.000,9, -999.000,9, -999.000,9, -999.000,9, -999.000,9,-999.0000,9,  -999.00,9,   -999.0,9,   -999.0,9,   2322.3,3,   1890.3,2,   2341.0,2,     7.37,2,   20.00,  -999.0,-999.0000,-999.000,   25.00,  -999.0,  5.4720,-999.000
    31DSCG94_3,  P18N,   162,  1,    117,   1119,2,19940418,0313,  7.0000,-110.3400, 3823,    899.0,   5.0787,  34.5606,2,  34.5604,2,     28.8,2,     32.6,2,    84.75,2,    44.75,2,     0.00,2,     3.21,2, -999.000,9, -999.000,9, -999.000,9, -999.000,9, -999.000,9,-999.0000,9,  -999.00,9,   -999.0,9,   -999.0,9,   2326.9,2,   1853.9,2,   2346.0,2,     7.38,2,   20.00,  -999.0,-999.0000,-999.000,   25.00,  -999.0,  5.0038,-999.000
    31DSCG94_3,  P18N,   162,  1,    116,   1036,2,19940418,0313,  7.0000,-110.3400, 3823,   1001.6,   4.6817,  34.5654,2,  34.5645,2,     31.9,2,     35.0,2,    93.27,2,    45.11,2,     0.00,2,     3.24,2, -999.000,9, -999.000,9, -999.000,9, -999.000,9, -999.000,9,-999.0000,9,  -999.00,9,   -999.0,9,   -999.0,9,   2335.6,2,   1868.2,2,   2356.0,6,     7.39,2,   20.00,  -999.0,-999.0000,-999.000,   25.00,  -999.0,  4.6005,-999.000
    31DSCG94_3,  P18N,   162,  1,    115,   1017,2,19940418,0313,  7.0000,-110.3400, 3823,   1099.3,   4.2770,  34.5681,2,  34.5676,2,     40.5,2,     46.3,2,   100.64,2,    43.86,2,     0.00,2,     3.17,2, -999.000,9, -999.000,9, -999.000,9, -999.000,9, -999.000,9,-999.0000,9,  -999.00,9,   -999.0,9,   -999.0,9,   -999.0,9,   -999.0,9,   -999.0,9,  -999.00,9, -999.00,  -999.0,-999.0000,-999.000, -999.00,  -999.0,  4.1905,-999.000
    31DSCG94_3,  P18N,   162,  1,    114,   1016,2,19940418,0313,  7.0000,-110.3400, 3823,   1204.3,   3.9321,  34.5753,2,  34.5750,2,     49.9,2,     57.1,2,   106.49,2,    43.36,2,     0.00,2,     3.10,2, -999.000,9, -999.000,9, -999.000,9, -999.000,9, -999.000,9,-999.0000,9,  -999.00,9,   -999.0,9,   -999.0,9,   -999.0,9,   -999.0,9,   -999.0,9,     7.43,2, -999.00,  -999.0,-999.0000,-999.000,   25.00,  -999.0,  3.8396,-999.000
    31DSCG94_3,  P18N,   162,  1,    113,   1209,2,19940418,0313,  7.0000,-110.3400, 3823,   1397.2,   3.4257,  34.5914,2,  34.5916,2,     61.1,2,     65.7,2,   119.91,2,    42.64,2,     0.00,2,     3.08,2, -999.000,9, -999.000,9, -999.000,9, -999.000,9, -999.000,9,-999.0000,9,  -999.00,9,   -999.0,9,   -999.0,9,   -999.0,9,   -999.0,9,   -999.0,9,  -999.00,9, -999.00,  -999.0,-999.0000,-999.000, -999.00,  -999.0,  3.3217,-999.000
    31DSCG94_3,  P18N,   162,  1,    112,   1033,2,19940418,0313,  7.0000,-110.3400, 3823,   1601.0,   2.9063,  34.6122,2,  34.6121,2,     71.0,2,     73.7,2,   133.82,2,    42.06,2,     0.00,2,     3.03,2, -999.000,9, -999.000,9, -999.000,9, -999.000,9, -999.000,9,-999.0000,9,  -999.00,9,   -999.0,9,   -999.0,9,   -999.0,9,   -999.0,9,   -999.0,9,     7.46,2, -999.00,  -999.0,-999.0000,-999.000,   25.00,  -999.0,  2.7910,-999.000
    31DSCG94_3,  P18N,   162,  1,    111,   1240,2,19940418,0313,  7.0000,-110.3400, 3823,   1744.3,   2.6962,  34.6195,2,  34.6191,2,     80.7,2,     80.7,2,   137.73,2,    42.08,2,     0.00,2,     3.02,2, -999.000,9, -999.000,9, -999.000,9, -999.000,9, -999.000,9,-999.0000,9,  -999.00,9,   -999.0,9,   -999.0,9,   -999.0,9,   -999.0,9,   -999.0,9,  -999.00,9, -999.00,  -999.0,-999.0000,-999.000, -999.00,  -999.0,  2.5714,-999.000
    31DSCG94_3,  P18N,   162,  1,    110,   1005,2,19940418,0313,  7.0000,-110.3400, 3823,   1996.7,   2.3278,  34.6370,2,  34.6365,2,     96.4,2,     92.1,2,   143.78,2,    40.56,2,     0.00,2,     2.89,2, -999.000,9, -999.000,9, -999.000,9, -999.000,9, -999.000,9,-999.0000,9,  -999.00,9,   -999.0,9,   -999.0,9,   -999.0,9,   -999.0,9,   -999.0,9,     7.49,2, -999.00,  -999.0,-999.0000,-999.000,   25.00,  -999.0,  2.1867,-999.000
    31DSCG94_3,  P18N,   162,  1,    109,   1611,2,19940418,0313,  7.0000,-110.3400, 3823,   2252.2,   2.0327,  34.6542,2,  34.6533,2,    102.6,2,    100.7,2,   152.33,2,    40.22,2,     0.00,2,     2.84,2, -999.000,9, -999.000,9, -999.000,9, -999.000,9, -999.000,9,-999.0000,9,  -999.00,9,   -999.0,9,   -999.0,9,   -999.0,9,   -999.0,9,   -999.0,9,  -999.00,9, -999.00,  -999.0,-999.0000,-999.000, -999.00,  -999.0,  1.8740,-999.000
    31DSCG94_3,  P18N,   162,  1,    108,   1218,2,19940418,0313,  7.0000,-110.3400, 3823,   2499.6,   1.8665,  34.6648,2,  34.6642,2,    108.6,2,    107.8,2,   157.70,2,    39.67,2,     0.00,2,     2.78,2, -999.000,9, -999.000,9, -999.000,9, -999.000,9, -999.000,9,-999.0000,9,  -999.00,9,   -999.0,9,   -999.0,9,   -999.0,9,   -999.0,9,   -999.0,9,     7.52,2, -999.00,  -999.0,-999.0000,-999.000,   25.00,  -999.0,  1.6886,-999.000
    31DSCG94_3,  P18N,   162,  1,    107,   1257,2,19940418,0313,  7.0000,-110.3400, 3823,   2747.7,   1.8378,  34.6678,2,  34.6656,2,    110.6,2,    110.1,2,   160.13,2,    40.19,2,     0.00,2,     2.78,2, -999.000,9, -999.000,9, -999.000,9, -999.000,9, -999.000,9,-999.0000,9,  -999.00,9,   -999.0,9,   -999.0,9,   -999.0,9,   -999.0,9,   -999.0,9,  -999.00,9, -999.00,  -999.0,-999.0000,-999.000, -999.00,  -999.0,  1.6376,-999.000
    31DSCG94_3,  P18N,   162,  1,    106,   1224,2,19940418,0313,  7.0000,-110.3400, 3823,   2998.1,   1.7415,  34.6733,2,  34.6726,2,    117.3,2,    117.5,2,   158.07,2,    39.48,2,     0.00,2,     2.73,2, -999.000,9, -999.000,9, -999.000,9, -999.000,9, -999.000,9,-999.0000,9,  -999.00,9,   -999.0,9,   -999.0,9,   -999.0,9,   -999.0,9,   -999.0,9,     7.54,2, -999.00,  -999.0,-999.0000,-999.000,   25.00,  -999.0,  1.5195,-999.000
    31DSCG94_3,  P18N,   162,  1,    105,   1246,2,19940418,0313,  7.0000,-110.3400, 3823,   3247.2,   1.6294,  34.6792,2,  34.6790,2,    127.0,2,    130.1,6,   156.45,2,    38.99,2,     0.00,2,     2.67,2, -999.000,9, -999.000,9, -999.000,9, -999.000,9, -999.000,9,-999.0000,9,  -999.00,9,   -999.0,9,   -999.0,9,   -999.0,9,   -999.0,9,   -999.0,9,  -999.00,9, -999.00,  -999.0,-999.0000,-999.000, -999.00,  -999.0,  1.3856,-999.000
    31DSCG94_3,  P18N,   162,  1,    104,   1217,2,19940418,0313,  7.0000,-110.3400, 3823,   3498.5,   1.5730,  34.6829,2,  34.6830,2,    134.5,2,    136.5,2,   154.76,2,    38.30,2,     0.00,2,     2.63,2, -999.000,9, -999.000,9, -999.000,9, -999.000,9, -999.000,9,-999.0000,9,  -999.00,9,   -999.0,9,   -999.0,9,   -999.0,9,   -999.0,9,   -999.0,9,     7.57,2, -999.00,  -999.0,-999.0000,-999.000,   25.00,  -999.0,  1.3051,-999.000
    31DSCG94_3,  P18N,   162,  1,    102,   1223,3,19940418,0313,  7.0000,-110.3400, 3823,   3747.0,   1.5285,  34.6855,2,  34.6830,3,    140.9,2,    142.2,2,   152.45,2,    38.01,2,     0.00,2,     2.60,2, -999.000,9, -999.000,9, -999.000,9, -999.000,9, -999.000,9,-999.0000,9,  -999.00,9,   -999.0,9,   -999.0,9,   -999.0,9,   -999.0,9,   -999.0,9,  -999.00,9, -999.00,  -999.0,-999.0000,-999.000, -999.00,  -999.0,  1.2359,-999.000
    31DSCG94_3,  P18N,   162,  1,    103,   9999,2,19940418,0313,  7.0000,-110.3400, 3823,   3747.1,   1.5286,  34.6854,2,  34.6871,3,    140.9,2,    142.2,2,   153.35,2,    37.94,2,     0.00,2,     2.59,2, -999.000,9, -999.000,9, -999.000,9, -999.000,9, -999.000,9,-999.0000,9,  -999.00,9,   -999.0,9,   -999.0,9,   -999.0,9,   -999.0,9,   -999.0,9,  -999.00,9, -999.00,  -999.0,-999.0000,-999.000, -999.00,  -999.0,  1.2360,-999.000
    31DSCG94_3,  P18N,   162,  1,    101,   1041,2,19940418,0313,  7.0000,-110.3400, 3823,   3877.6,   1.5420,  34.6856,2,  34.6851,2,    141.1,2,   -999.0,9,   153.00,2,    37.61,2,     0.00,2,     2.60,2, -999.000,9, -999.000,9, -999.000,9, -999.000,9, -999.000,9,-999.0000,9,  -999.00,9,   -999.0,9,   -999.0,9,   -999.0,9,   -999.0,9,   -999.0,9,     7.58,2, -999.00,  -999.0,-999.0000,-999.000,   25.00,  -999.0,  1.2351,-999.000