BOTTLE,20220630CCHSIOAMB
EXPOCODE,SECT_ID,STNNBR,CASTNO,SAMPNO,BTLNBR,BTLNBR_FLAG_W,DATE,TIME,LATITUDE,LONGITUDE,DEPTH,CTDPRS,CTDTMP,CTDSAL,CTDSAL_FLAG_W,SALNTY,SALNTY_FLAG_W,CTDOXY,CTDOXY_FLAG_W,OXYGEN,OXYGEN_FLAG_W,SILCAT,SILCAT_FLAG_W,NITRAT,NITRAT_FLAG_W,NITRIT,NITRIT_FLAG_W,PHSPHT,PHSPHT_FLAG_W,CFC-11,CFC-11_FLAG_W,CFC-12,CFC-12_FLAG_W,CFC113,CFC113_FLAG_W,CCL4,CCL4_FLAG_W,TRITUM,TRITUM_FLAG_W,HELIUM,HELIUM_FLAG_W,DELHE3,DELHE3_FLAG_W,DELC14,DELC14_FLAG_W,DELC13,DELC13_FLAG_W,TCARBN,TCARBN_FLAG_W,PCO2,PCO2_FLAG_W,ALKALI,ALKALI_FLAG_W,PH,PH_FLAG_W,PCO2TMP,C14ERR,HELIER,DELHER,PH_TMP,C13ERR,THETA,TRITER
,,,,,,,,,,,,DBAR,ITS-90,PSS-78,,PSS-78,,UMOL/KG,,UMOL/KG,,UMOL/KG,,UMOL/KG,,UMOL/KG,,UMOL/KG,,PMOL/KG,,PMOL/KG,,PMOL/KG,,PMOL/KG,,TU,,NMOL/KG,,PERCNT,,/MILLE,,/MILLE,,UMOL/KG,,UATM,,UMOL/KG,,,,DEG C,/MILLE,NMOL/KG,PERCNT,DEG C,/MILLE,DEG C,TU
    31DSCG94_3,  P18N,   184,  1,    136,   1025,2,19940423,2039, 19.0000,-110.0000, 3404,      9.7,  24.1671,  34.6087,2,  34.6104,2,    258.0,3,    215.0,2,     0.16,2,     0.10,2,     0.00,2,     0.21,2,    2.081,2,    1.163,2, -999.000,9, -999.000,9, -999.000,9,-999.0000,9,  -999.00,9,   -999.0,9,      1.8,2,   1988.8,2,    307.9,2,   2301.0,6,     8.06,2,   20.00,  -999.0,-999.0000,-999.000,   25.00,  -999.0, 24.1651,-999.000
    31DSCG94_3,  P18N,   184,  1,    135,   1247,2,19940423,2039, 19.0000,-110.0000, 3404,     23.4,  23.5942,  34.6034,2,  34.6000,2,    218.3,2,    218.5,2,     0.00,2,     0.06,2,     0.00,2,     0.25,2,    2.131,2,    1.175,2, -999.000,9, -999.000,9, -999.000,9,-999.0000,9,  -999.00,9,   -999.0,9,   -999.0,9,   -999.0,9,   -999.0,9,   -999.0,9,     8.06,2, -999.00,  -999.0,-999.0000,-999.000,   25.00,  -999.0, 23.5894,-999.000
    31DSCG94_3,  P18N,   184,  1,    134,   1216,2,19940423,2039, 19.0000,-110.0000, 3404,     48.8,  22.1145,  34.3881,2,  34.3806,2,    218.0,2,    222.5,6,     0.24,2,     0.05,2,     0.00,2,     0.23,2,    2.224,2,    1.218,2, -999.000,9, -999.000,9, -999.000,9,-999.0000,9,  -999.00,9,   -999.0,9,   -999.0,9,   -999.0,9,   -999.0,9,   -999.0,9,     8.04,2, -999.00,  -999.0,-999.0000,-999.000,   25.00,  -999.0, 22.1049,-999.000
    31DSCG94_3,  P18N,   184,  1,    133,   1244,2,19940423,2039, 19.0000,-110.0000, 3404,     75.3,  19.1851,  34.0973,2,  34.1269,3,    195.3,2,    194.7,2,     2.42,2,     2.68,2,     0.10,2,     0.54,2,    2.316,2,    1.263,2, -999.000,9, -999.000,9, -999.000,9,-999.0000,9,  -999.00,9,   -999.0,9,   -999.0,9,   -999.0,9,   -999.0,9,   -999.0,9,     7.94,2, -999.00,  -999.0,-999.0000,-999.000,   25.00,  -999.0, 19.1717,-999.000
    31DSCG94_3,  P18N,   184,  1,    132,   1003,2,19940423,2039, 19.0000,-110.0000, 3404,    100.4,  15.3027,  34.4127,2,  34.4170,2,     35.6,2,     52.9,2,    16.59,2,    21.52,2,     0.02,2,     1.92,2,    1.563,2,    0.823,2, -999.000,9, -999.000,9, -999.000,9,-999.0000,9,  -999.00,9,   -999.0,9,   -999.0,9,   -999.0,9,   -999.0,9,   -999.0,9,     7.58,2, -999.00,  -999.0,-999.0000,-999.000,   25.00,  -999.0, 15.2874,-999.000
    31DSCG94_3,  P18N,   184,  1,    131,   1211,2,19940423,2039, 19.0000,-110.0000, 3404,    124.0,  13.8869,  34.5433,2,  34.5555,2,     27.4,2,     21.9,2,    23.10,2,    24.09,2,     0.00,2,     2.24,2,    1.053,6,    0.562,6, -999.000,9, -999.000,9, -999.000,9,-999.0000,9,  -999.00,9,   -999.0,9,   -999.0,9,   -999.0,9,   -999.0,9,   -999.0,9,  -999.00,9, -999.00,  -999.0,-999.0000,-999.000, -999.00,  -999.0, 13.8692,-999.000
    31DSCG94_3,  P18N,   184,  1,    130,   1241,2,19940423,2039, 19.0000,-110.0000, 3404,    149.5,  13.0354,  34.6492,2,  34.6500,2,     25.4,2,     12.7,2,    26.58,2,    25.98,2,     0.00,2,     2.42,2, -999.000,5, -999.000,5, -999.000,9, -999.000,9, -999.000,9,-999.0000,9,  -999.00,9,   -999.0,9,   -999.0,9,   -999.0,9,   -999.0,9,   -999.0,9,  -999.00,9, -999.00,  -999.0,-999.0000,-999.000, -999.00,  -999.0, 13.0149,-999.000
    31DSCG94_3,  P18N,   184,  1,    129,   1240,2,19940423,2039, 19.0000,-110.0000, 3404,    175.2,  12.6997,  34.7235,2,  34.7265,2,     12.1,2,      1.9,2,    28.22,2,    25.33,2,     0.00,2,     2.49,2,    0.424,2,    0.250,2, -999.000,9, -999.000,9, -999.000,9,-999.0000,9,  -999.00,9,   -999.0,9,   -999.0,9,   -999.0,9,   -999.0,9,   -999.0,9,  -999.00,9, -999.00,  -999.0,-999.0000,-999.000, -999.00,  -999.0, 12.6760,-999.000
    31DSCG94_3,  P18N,   184,  1,    128,   1114,2,19940423,2039, 19.0000,-110.0000, 3404,    199.9,  12.1740,  34.7301,2,  34.7300,2,      9.4,2,      0.6,2,    29.73,2,    26.40,2,     0.00,2,     2.53,2,    0.301,2,    0.175,2, -999.000,9, -999.000,9, -999.000,9,-999.0000,9,  -999.00,9,   -999.0,9,   -999.0,9,   -999.0,9,   -999.0,9,   -999.0,9,  -999.00,9, -999.00,  -999.0,-999.0000,-999.000, -999.00,  -999.0, 12.1477,-999.000
    31DSCG94_3,  P18N,   184,  1,    127,   1008,2,19940423,2039, 19.0000,-110.0000, 3404,    226.4,  11.9436,  34.7430,2,  34.7439,2,      8.5,2,      0.6,2,    30.82,2,    25.29,2,     1.21,2,     2.58,2,    0.233,2,    0.134,2, -999.000,9, -999.000,9, -999.000,9,-999.0000,9,  -999.00,9,   -999.0,9,   -999.0,9,   -999.0,9,   -999.0,9,   -999.0,9,  -999.00,9, -999.00,  -999.0,-999.0000,-999.000, -999.00,  -999.0, 11.9142,-999.000
    31DSCG94_3,  P18N,   184,  1,    126,   1007,2,19940423,2039, 19.0000,-110.0000, 3404,    250.1,  11.5795,  34.7248,2,  34.7230,2,      4.0,2,      0.8,2,    33.41,2,    24.62,2,     1.32,2,     2.62,2,    0.184,2,    0.105,2, -999.000,9, -999.000,9, -999.000,9,-999.0000,9,  -999.00,9,   -999.0,9,   -999.0,9,   -999.0,9,   -999.0,9,   -999.0,9,  -999.00,9, -999.00,  -999.0,-999.0000,-999.000, -999.00,  -999.0, 11.5477,-999.000
    31DSCG94_3,  P18N,   184,  1,    125,   1256,2,19940423,2039, 19.0000,-110.0000, 3404,    298.5,  10.7257,  34.6680,2,  34.6668,2,      2.1,2,      0.5,2,    38.08,2,    25.64,2,     0.22,2,     2.69,2,    0.128,6,    0.069,6, -999.000,9, -999.000,9, -999.000,9,-999.0000,9,  -999.00,9,   -999.0,9,   -999.0,9,   -999.0,9,   -999.0,9,   -999.0,9,  -999.00,9, -999.00,  -999.0,-999.0000,-999.000, -999.00,  -999.0, 10.6895,-999.000
    31DSCG94_3,  P18N,   184,  1,    123,   1220,2,19940423,2039, 19.0000,-110.0000, 3404,    351.4,   9.9055,  34.6351,2,  34.6351,2,      1.4,2,      2.4,2,    42.58,2,    26.71,2,     0.08,2,     2.79,2,    0.073,2,    0.030,2, -999.000,9, -999.000,9, -999.000,9,-999.0000,9,  -999.00,9,   -999.0,9,   -999.0,9,   -999.0,9,   -999.0,9,   -999.0,9,     7.38,2, -999.00,  -999.0,-999.0000,-999.000,   25.00,  -999.0,  9.8648,-999.000
    31DSCG94_3,  P18N,   184,  1,    122,   1245,2,19940423,2039, 19.0000,-110.0000, 3404,    401.2,   9.2767,  34.5953,2,  34.5917,2,      1.4,2,      0.9,6,    46.81,2,    28.76,2,     0.00,2,     2.85,2,    0.047,6,    0.025,6, -999.000,9, -999.000,9, -999.000,9,-999.0000,9,  -999.00,9,   -999.0,9,   -999.0,9,   -999.0,9,   -999.0,9,   -999.0,9,     7.37,2, -999.00,  -999.0,-999.0000,-999.000,   25.00,  -999.0,  9.2320,-999.000
    31DSCG94_3,  P18N,   184,  1,    121,   1206,2,19940423,2039, 19.0000,-110.0000, 3404,    500.2,   7.9568,  34.5491,2,  34.5490,2,      0.8,2,      0.9,2,    58.83,2,    32.34,2,     0.00,2,     3.02,2,    0.019,2,    0.008,2, -999.000,9, -999.000,9, -999.000,9,-999.0000,9,  -999.00,9,   -999.0,9,   -999.0,9,   -999.0,9,   -999.0,9,   -999.0,9,     7.35,2, -999.00,  -999.0,-999.0000,-999.000,   25.00,  -999.0,  7.9057,-999.000
    31DSCG94_3,  P18N,   184,  1,    120,   1028,2,19940423,2039, 19.0000,-110.0000, 3404,    599.3,   6.7363,  34.5150,2,  34.5153,2,      0.8,2,      1.1,2,    71.41,2,    36.76,2,     0.00,2,     3.12,2,    0.009,2,    0.004,2, -999.000,9, -999.000,9, -999.000,9,-999.0000,9,  -999.00,9,   -999.0,9,   -999.0,9,   -999.0,9,   -999.0,9,   -999.0,9,     7.34,2, -999.00,  -999.0,-999.0000,-999.000,   25.00,  -999.0,  6.6802,-999.000
    31DSCG94_3,  P18N,   184,  1,    119,   1248,2,19940423,2039, 19.0000,-110.0000, 3404,    699.5,   5.8949,  34.5124,2,  34.5145,2,      1.5,2,      1.5,2,    81.12,2,    40.00,2,     0.00,2,     3.19,2,    0.002,2,    0.002,2, -999.000,9, -999.000,9, -999.000,9,-999.0000,9,  -999.00,9,   -999.0,9,   -999.0,9,   -999.0,9,   -999.0,9,   -999.0,9,     7.33,2, -999.00,  -999.0,-999.0000,-999.000,   25.00,  -999.0,  5.8333,-999.000
    31DSCG94_3,  P18N,   184,  1,    118,   1115,2,19940423,2039, 19.0000,-110.0000, 3404,    801.0,   5.2987,  34.5200,2,  34.5214,2,      2.9,2,      3.2,2,    89.96,2,    42.27,2,     0.00,2,     3.25,2, -999.000,5, -999.000,5, -999.000,9, -999.000,9, -999.000,9,-999.0000,9,  -999.00,9,   -999.0,9,   -999.0,9,   -999.0,9,   -999.0,9,   -999.0,9,     7.33,2, -999.00,  -999.0,-999.0000,-999.000,   25.00,  -999.0,  5.2313,-999.000
    31DSCG94_3,  P18N,   184,  1,    117,   1119,2,19940423,2039, 19.0000,-110.0000, 3404,    899.0,   4.8155,  34.5281,2,  34.5279,2,      5.5,2,      6.8,2,   100.62,2,    43.26,2,     0.00,2,     3.26,2,   -0.002,2,    0.000,2, -999.000,9, -999.000,9, -999.000,9,-999.0000,9,  -999.00,9,   -999.0,9,   -999.0,9,   -999.0,9,   -999.0,9,   -999.0,9,     7.33,2, -999.00,  -999.0,-999.0000,-999.000,   25.00,  -999.0,  4.7425,-999.000
    31DSCG94_3,  P18N,   184,  1,    116,   1036,2,19940423,2039, 19.0000,-110.0000, 3404,   1001.3,   4.3826,  34.5373,2,  34.5384,2,      9.9,2,     11.8,2,   110.93,2,    43.86,2,     0.00,2,     3.29,2,   -0.003,2,    0.000,2, -999.000,9, -999.000,9, -999.000,9,-999.0000,9,  -999.00,9,   -999.0,9,   -999.0,9,   -999.0,9,   -999.0,9,   -999.0,9,     7.33,2, -999.00,  -999.0,-999.0000,-999.000,   25.00,  -999.0,  4.3039,-999.000
    31DSCG94_3,  P18N,   184,  1,    115,   1017,2,19940423,2039, 19.0000,-110.0000, 3404,   1100.8,   4.0326,  34.5524,2,  34.5543,2,     15.9,2,     18.0,2,   117.37,2,    43.81,2,     0.00,2,     3.27,2, -999.000,9, -999.000,9, -999.000,9, -999.000,9, -999.000,9,-999.0000,9,  -999.00,9,   -999.0,9,   -999.0,9,   -999.0,9,   -999.0,9,   -999.0,9,  -999.00,9, -999.00,  -999.0,-999.0000,-999.000, -999.00,  -999.0,  3.9481,-999.000
    31DSCG94_3,  P18N,   184,  1,    114,   1016,2,19940423,2039, 19.0000,-110.0000, 3404,   1199.6,   3.7231,  34.5659,2,  34.5668,2,     24.3,2,     25.9,2,   121.26,2,    43.50,2,     0.00,2,     3.20,2,   -0.004,2,   -0.002,2, -999.000,9, -999.000,9, -999.000,9,-999.0000,9,  -999.00,9,   -999.0,9,   -999.0,9,   -999.0,9,   -999.0,9,   -999.0,9,  -999.00,9, -999.00,  -999.0,-999.0000,-999.000, -999.00,  -999.0,  3.6330,-999.000
    31DSCG94_3,  P18N,   184,  1,    113,   1209,2,19940423,2039, 19.0000,-110.0000, 3404,   1299.3,   3.4229,  34.5783,2,  34.5778,2,     29.9,2,     34.9,2,   127.90,2,    42.99,2,     0.00,2,     3.15,2, -999.000,9, -999.000,9, -999.000,9, -999.000,9, -999.000,9,-999.0000,9,  -999.00,9,   -999.0,9,   -999.0,9,   -999.0,9,   -999.0,9,   -999.0,9,  -999.00,9, -999.00,  -999.0,-999.0000,-999.000, -999.00,  -999.0,  3.3272,-999.000
    31DSCG94_3,  P18N,   184,  1,    112,   1033,2,19940423,2039, 19.0000,-110.0000, 3404,   1400.1,   3.2136,  34.5871,2,  34.5873,2,     37.8,2,     40.4,2,   129.90,2,    42.54,2,     0.00,2,     3.08,2, -999.000,9, -999.000,9, -999.000,9, -999.000,9, -999.000,9,-999.0000,9,  -999.00,9,   -999.0,9,   -999.0,9,   -999.0,9,   -999.0,9,   -999.0,9,  -999.00,9, -999.00,  -999.0,-999.0000,-999.000, -999.00,  -999.0,  3.1117,-999.000
    31DSCG94_3,  P18N,   184,  1,    111,   1240,2,19940423,2039, 19.0000,-110.0000, 3404,   1599.7,   2.8043,  34.6070,2,  34.6069,2,     54.8,2,     54.4,2,   136.90,2,    41.92,2,     0.00,2,     2.97,2,    0.002,2,   -0.002,2, -999.000,9, -999.000,9, -999.000,9,-999.0000,9,  -999.00,9,   -999.0,9,   -999.0,9,   -999.0,9,   -999.0,9,   -999.0,9,  -999.00,9, -999.00,  -999.0,-999.0000,-999.000, -999.00,  -999.0,  2.6904,-999.000
    31DSCG94_3,  P18N,   184,  1,    110,   1005,2,19940423,2039, 19.0000,-110.0000, 3404,   1800.1,   2.4485,  34.6234,2,  34.6238,2,     71.6,2,     69.6,2,   146.23,2,    41.11,2,     0.00,2,     2.93,2, -999.000,9, -999.000,9, -999.000,9, -999.000,9, -999.000,9,-999.0000,9,  -999.00,9,   -999.0,9,   -999.0,9,   -999.0,9,   -999.0,9,   -999.0,9,  -999.00,9, -999.00,  -999.0,-999.0000,-999.000, -999.00,  -999.0,  2.3224,-999.000
    31DSCG94_3,  P18N,   184,  1,    109,   1611,2,19940423,2039, 19.0000,-110.0000, 3404,   1998.9,   2.1013,  34.6423,2,  34.6420,2,     90.1,2,     87.3,2,   155.19,2,    40.05,2,     0.00,2,     2.82,2, -999.000,9, -999.000,9, -999.000,9, -999.000,9, -999.000,9,-999.0000,9,  -999.00,9,   -999.0,9,   -999.0,9,   -999.0,9,   -999.0,9,   -999.0,9,  -999.00,9, -999.00,  -999.0,-999.0000,-999.000, -999.00,  -999.0,  1.9634,-999.000
    31DSCG94_3,  P18N,   184,  1,    108,   1218,2,19940423,2039, 19.0000,-110.0000, 3404,   2198.0,   1.9280,  34.6533,2,  34.6530,2,     99.3,2,     98.4,2,   158.88,2,    39.11,2,     0.00,2,     2.74,2, -999.000,9, -999.000,9, -999.000,9, -999.000,9, -999.000,9,-999.0000,9,  -999.00,9,   -999.0,9,   -999.0,9,   -999.0,9,   -999.0,9,   -999.0,9,  -999.00,9, -999.00,  -999.0,-999.0000,-999.000, -999.00,  -999.0,  1.7758,-999.000
    31DSCG94_3,  P18N,   184,  1,    107,   1257,2,19940423,2039, 19.0000,-110.0000, 3404,   2395.0,   1.8302,  34.6607,2,  34.6602,2,    111.5,2,    106.0,2,   157.84,2,    38.46,2,     0.00,2,     2.66,2,   -0.006,2,   -0.002,2, -999.000,9, -999.000,9, -999.000,9,-999.0000,9,  -999.00,9,   -999.0,9,   -999.0,9,   -999.0,9,   -999.0,9,   -999.0,9,  -999.00,9, -999.00,  -999.0,-999.0000,-999.000, -999.00,  -999.0,  1.6624,-999.000
    31DSCG94_3,  P18N,   184,  1,    106,   1224,2,19940423,2039, 19.0000,-110.0000, 3404,   2600.3,   1.7593,  34.6652,2,  34.6643,2,    114.0,2,    111.5,2,   156.70,2,    38.01,2,     0.00,2,     2.64,2, -999.000,9, -999.000,9, -999.000,9, -999.000,9, -999.000,9,-999.0000,9,  -999.00,9,   -999.0,9,   -999.0,9,   -999.0,9,   -999.0,9,   -999.0,9,  -999.00,9, -999.00,  -999.0,-999.0000,-999.000, -999.00,  -999.0,  1.5743,-999.000
    31DSCG94_3,  P18N,   184,  1,    105,   1246,2,19940423,2039, 19.0000,-110.0000, 3404,   2799.2,   1.7210,  34.6684,2,  34.6687,2,    116.3,2,    114.4,2,   155.81,2,    38.20,2,     0.00,2,     2.61,2, -999.000,9, -999.000,9, -999.000,9, -999.000,9, -999.000,9,-999.0000,9,  -999.00,9,   -999.0,9,   -999.0,9,   -999.0,9,   -999.0,9,   -999.0,9,  -999.00,9, -999.00,  -999.0,-999.0000,-999.000, -999.00,  -999.0,  1.5184,-999.000
    31DSCG94_3,  P18N,   184,  1,    104,   1217,2,19940423,2039, 19.0000,-110.0000, 3404,   2999.7,   1.7036,  34.6713,2,  34.6712,2,    118.7,2,    116.9,2,   159.65,6,    37.95,6,     0.00,6,     2.61,6, -999.000,9, -999.000,9, -999.000,9, -999.000,9, -999.000,9,-999.0000,9,  -999.00,9,   -999.0,9,   -999.0,9,   -999.0,9,   -999.0,9,   -999.0,9,  -999.00,9, -999.00,  -999.0,-999.0000,-999.000, -999.00,  -999.0,  1.4823,-999.000
    31DSCG94_3,  P18N,   184,  1,    102,   1223,2,19940423,2039, 19.0000,-110.0000, 3404,   3199.2,   1.7014,  34.6732,2,  34.6728,2,    120.6,2,    119.2,6,   155.80,2,    38.01,2,     0.00,2,     2.57,2, -999.000,9, -999.000,9, -999.000,9, -999.000,9, -999.000,9,-999.0000,9,  -999.00,9,   -999.0,9,   -999.0,9,   -999.0,9,   -999.0,9,   -999.0,9,  -999.00,9, -999.00,  -999.0,-999.0000,-999.000, -999.00,  -999.0,  1.4607,-999.000
    31DSCG94_3,  P18N,   184,  1,    103,   9999,2,19940423,2039, 19.0000,-110.0000, 3404,   3199.8,   1.7017,  34.6733,2,  34.6751,2,    120.6,2,    118.8,2,   153.44,2,    38.48,2,     0.00,2,     2.57,2,   -0.005,2,   -0.002,2, -999.000,9, -999.000,9, -999.000,9,-999.0000,9,  -999.00,9,   -999.0,9,   -999.0,9,   -999.0,9,   -999.0,9,   -999.0,9,  -999.00,9, -999.00,  -999.0,-999.0000,-999.000, -999.00,  -999.0,  1.4609,-999.000
    31DSCG94_3,  P18N,   184,  1,    101,   1041,2,19940423,2039, 19.0000,-110.0000, 3404,   3412.8,   1.7162,  34.6740,2,  34.6741,2,    122.0,2,    119.9,2,   158.84,2,    37.89,2,     0.00,2,     2.59,2,   -0.005,2,    0.001,2, -999.000,9, -999.000,9, -999.000,9,-999.0000,9,  -999.00,9,   -999.0,9,   -999.0,9,   -999.0,9,   -999.0,9,   -999.0,9,  -999.00,9, -999.00,  -999.0,-999.0000,-999.000, -999.00,  -999.0,  1.4536,-999.000