BOTTLE,20220630CCHSIOAMB
EXPOCODE,SECT_ID,STNNBR,CASTNO,SAMPNO,BTLNBR,BTLNBR_FLAG_W,DATE,TIME,LATITUDE,LONGITUDE,DEPTH,CTDPRS,CTDTMP,CTDSAL,CTDSAL_FLAG_W,SALNTY,SALNTY_FLAG_W,CTDOXY,CTDOXY_FLAG_W,OXYGEN,OXYGEN_FLAG_W,SILCAT,SILCAT_FLAG_W,NITRAT,NITRAT_FLAG_W,NITRIT,NITRIT_FLAG_W,PHSPHT,PHSPHT_FLAG_W,CFC-11,CFC-11_FLAG_W,CFC-12,CFC-12_FLAG_W,CFC113,CFC113_FLAG_W,CCL4,CCL4_FLAG_W,TRITUM,TRITUM_FLAG_W,HELIUM,HELIUM_FLAG_W,DELHE3,DELHE3_FLAG_W,DELC14,DELC14_FLAG_W,DELC13,DELC13_FLAG_W,TCARBN,TCARBN_FLAG_W,PCO2,PCO2_FLAG_W,ALKALI,ALKALI_FLAG_W,PH,PH_FLAG_W,PCO2TMP,C14ERR,HELIER,DELHER,PH_TMP,C13ERR,THETA,TRITER
,,,,,,,,,,,,DBAR,ITS-90,PSS-78,,PSS-78,,UMOL/KG,,UMOL/KG,,UMOL/KG,,UMOL/KG,,UMOL/KG,,UMOL/KG,,PMOL/KG,,PMOL/KG,,PMOL/KG,,PMOL/KG,,TU,,NMOL/KG,,PERCNT,,/MILLE,,/MILLE,,UMOL/KG,,UATM,,UMOL/KG,,,,DEG C,/MILLE,NMOL/KG,PERCNT,DEG C,/MILLE,DEG C,TU
    31DSCG94_3,  P18N,    98,  3,    336,   1025,2,19940331,1742,-20.5015,-103.0007, 4057,     10.9,  24.5264,  36.4060,2,  36.4028,2,    206.7,2,    209.8,2,     1.56,2,     0.06,2,     0.00,2,     0.25,2, -999.000,9, -999.000,9, -999.000,9, -999.000,9, -999.000,9,-999.0000,9,  -999.00,9,   -999.0,9,   -999.0,9,   2069.8,2,    313.9,2,   2399.0,2,     8.06,2,   20.00,  -999.0,-999.0000,-999.000,   25.00,  -999.0, 24.5241,-999.000
    31DSCG94_3,  P18N,    98,  3,    335,   1247,2,19940331,1742,-20.5015,-103.0007, 4057,     23.4,  24.4260,  36.3998,2,  36.3983,2,    209.9,2,    209.9,2,     1.06,2,     0.03,2,     0.00,2,     0.28,2, -999.000,9, -999.000,9, -999.000,9, -999.000,9, -999.000,9,-999.0000,9,  -999.00,9,   -999.0,9,   -999.0,9,   2071.0,2,   -999.0,9,   2398.0,2,     8.06,2, -999.00,  -999.0,-999.0000,-999.000,   25.00,  -999.0, 24.4210,-999.000
    31DSCG94_3,  P18N,    98,  3,    334,   1216,2,19940331,1742,-20.5015,-103.0007, 4057,     49.2,  24.1311,  36.3412,2,  36.3648,2,    213.1,2,    212.2,2,     1.40,2,     0.01,2,     0.00,2,     0.24,2, -999.000,9, -999.000,9, -999.000,9, -999.000,9, -999.000,9,-999.0000,9,  -999.00,9,   -999.0,9,   -999.0,9,   2068.8,2,    317.1,2,   2395.0,2,     8.06,2,   20.00,  -999.0,-999.0000,-999.000,   25.00,  -999.0, 24.1207,-999.000
    31DSCG94_3,  P18N,    98,  3,    333,   1244,2,19940331,1742,-20.5015,-103.0007, 4057,     74.8,  23.3130,  36.2234,2,  36.2255,2,    219.2,2,    218.2,2,     1.38,2,     0.01,2,     0.00,2,     0.23,2, -999.000,9, -999.000,9, -999.000,9, -999.000,9, -999.000,9,-999.0000,9,  -999.00,9,   -999.0,9,   -999.0,9,   2066.4,2,    319.3,2,   2392.0,2,     8.06,2,   20.00,  -999.0,-999.0000,-999.000,   25.00,  -999.0, 23.2975,-999.000
    31DSCG94_3,  P18N,    98,  3,    332,   1003,2,19940331,1742,-20.5015,-103.0007, 4057,    100.3,  21.9853,  35.9736,2,  35.9941,2,    229.1,2,    225.8,2,     1.11,2,     0.02,2,     0.00,2,     0.19,2, -999.000,9, -999.000,9, -999.000,9, -999.000,9, -999.000,9,-999.0000,9,  -999.00,9,   -999.0,9,   -999.0,9,   2061.2,2,    331.7,2,   2372.0,2,     8.04,2,   20.00,  -999.0,-999.0000,-999.000,   25.00,  -999.0, 21.9654,-999.000
    31DSCG94_3,  P18N,    98,  3,    331,   1211,2,19940331,1742,-20.5015,-103.0007, 4057,    125.9,  21.2836,  35.8920,2,  35.9247,3,    225.5,2,    225.6,2,     1.38,2,     0.03,2,     0.00,2,     0.27,2, -999.000,9, -999.000,9, -999.000,9, -999.000,9, -999.000,9,-999.0000,9,  -999.00,9,   -999.0,9,   -999.0,9,   2060.5,2,    334.0,2,   2364.0,2,     8.04,2,   20.00,  -999.0,-999.0000,-999.000,   25.00,  -999.0, 21.2592,-999.000
    31DSCG94_3,  P18N,    98,  3,    330,   1241,2,19940331,1742,-20.5015,-103.0007, 4057,    149.5,  20.6512,  35.8373,2,  35.8303,2,    222.5,2,    223.3,2,     1.32,2,     0.03,2,     0.00,2,     0.24,2, -999.000,9, -999.000,9, -999.000,9, -999.000,9, -999.000,9,-999.0000,9,  -999.00,9,   -999.0,9,   -999.0,9,   2061.8,2,    345.6,2,   2362.0,2,     8.03,2,   20.00,  -999.0,-999.0000,-999.000,   25.00,  -999.0, 20.6228,-999.000
    31DSCG94_3,  P18N,    98,  3,    329,   1240,2,19940331,1742,-20.5015,-103.0007, 4057,    200.7,  19.1829,  35.5547,2,  35.5230,3,    210.6,2,    209.3,2,     1.34,2,     0.90,2,     0.26,2,     0.35,2, -999.000,9, -999.000,9, -999.000,9, -999.000,9, -999.000,9,-999.0000,9,  -999.00,9,   -999.0,9,   -999.0,9,   2070.3,2,    385.6,2,   2339.0,2,     7.99,2,   20.00,  -999.0,-999.0000,-999.000,   25.00,  -999.0, 19.1467,-999.000
    31DSCG94_3,  P18N,    98,  3,    328,   1032,2,19940331,1742,-20.5015,-103.0007, 4057,    251.4,  15.4072,  34.8832,2,  34.8978,2,    194.8,2,    197.7,2,     1.83,2,     5.24,2,     0.00,2,     0.58,2, -999.000,9, -999.000,9, -999.000,9, -999.000,9, -999.000,9,-999.0000,9,  -999.00,9,   -999.0,9,   -999.0,9,   2077.4,2,    478.7,2,   2305.0,2,  -999.00,9,   20.00,  -999.0,-999.0000,-999.000, -999.00,  -999.0, 15.3684,-999.000
    31DSCG94_3,  P18N,    98,  3,    327,   1008,2,19940331,1742,-20.5015,-103.0007, 4057,    297.7,  12.3597,  34.5198,2,  34.5207,2,    164.7,2,    155.8,2,     6.21,2,    14.03,2,     0.00,2,     1.23,2, -999.000,9, -999.000,9, -999.000,9, -999.000,9, -999.000,9,-999.0000,9,  -999.00,9,   -999.0,9,   -999.0,9,   2127.4,2,    707.8,2,   2277.0,2,     7.75,2,   20.00,  -999.0,-999.0000,-999.000,   25.00,  -999.0, 12.3202,-999.000
    31DSCG94_3,  P18N,    98,  3,    326,   1007,2,19940331,1742,-20.5015,-103.0007, 4057,    345.9,  10.6541,  34.5078,2,  34.5030,2,     98.6,2,     89.4,2,    15.06,2,    23.05,2,     0.00,2,     1.99,2, -999.000,9, -999.000,9, -999.000,9, -999.000,9, -999.000,9,-999.0000,9,  -999.00,9,   -999.0,9,   -999.0,9,   2200.2,2,   1164.2,2,   2282.0,2,     7.56,2,   20.00,  -999.0,-999.0000,-999.000,   25.00,  -999.0, 10.6123,-999.000
    31DSCG94_3,  P18N,    98,  3,    325,   1203,2,19940331,1742,-20.5015,-103.0007, 4057,    403.0,   8.9624,  34.4919,2,  34.4924,2,     57.8,2,     69.8,2,    20.43,2,    30.14,2,     0.00,2,     2.36,2, -999.000,9, -999.000,9, -999.000,9, -999.000,9, -999.000,9,-999.0000,9,  -999.00,9,   -999.0,9,   -999.0,9,   2232.3,2,   1457.3,2,   2283.0,2,     7.48,2,   20.00,  -999.0,-999.0000,-999.000,   25.00,  -999.0,  8.9185,-999.000
    31DSCG94_3,  P18N,    98,  3,    323,   1220,2,19940331,1742,-20.5015,-103.0007, 4057,    499.8,   7.0430,  34.3998,2,  34.4005,2,    116.5,2,    123.4,2,    19.53,2,    32.15,2,     0.00,2,     2.28,2, -999.000,9, -999.000,9, -999.000,9, -999.000,9, -999.000,9,-999.0000,9,  -999.00,9,   -999.0,9,   -999.0,9,   2210.4,2,   1240.6,2,   2285.0,2,     7.54,2,   20.00,  -999.0,-999.0000,-999.000,   25.00,  -999.0,  6.9955,-999.000
    31DSCG94_3,  P18N,    98,  3,    322,   1245,2,19940331,1742,-20.5015,-103.0007, 4057,    599.8,   5.8517,  34.3523,2,  34.3523,2,    158.5,2,    155.9,2,    22.41,2,    32.41,2,     0.00,2,     2.10,2, -999.000,9, -999.000,9, -999.000,9, -999.000,9, -999.000,9,-999.0000,9,  -999.00,9,   -999.0,9,   -999.0,9,   2199.8,2,   1126.9,2,   2290.0,2,     7.58,2,   20.00,  -999.0,-999.0000,-999.000,   25.00,  -999.0,  5.7997,-999.000
    31DSCG94_3,  P18N,    98,  3,    321,   1206,2,19940331,1742,-20.5015,-103.0007, 4057,    701.0,   5.4092,  34.4039,2,  34.4031,2,    124.1,2,    113.9,6,    36.85,2,    37.30,2,     0.00,2,     2.47,2, -999.000,9, -999.000,9, -999.000,9, -999.000,9, -999.000,9,-999.0000,9,  -999.00,9,   -999.0,9,   -999.0,9,   2237.6,2,   1359.8,2,   2299.0,2,     7.50,2,   20.00,  -999.0,-999.0000,-999.000,   25.00,  -999.0,  5.3502,-999.000
    31DSCG94_3,  P18N,    98,  3,    320,   1028,2,19940331,1742,-20.5015,-103.0007, 4057,    799.9,   4.9509,  34.4452,2,  34.4466,2,     99.3,2,     95.0,6,    51.08,2,    39.86,2,     0.00,2,     2.68,2, -999.000,9, -999.000,9, -999.000,9, -999.000,9, -999.000,9,-999.0000,9,  -999.00,9,   -999.0,9,   -999.0,9,   2262.5,2,   1483.0,2,   2318.0,2,     7.47,2,   20.00,  -999.0,-999.0000,-999.000,   25.00,  -999.0,  4.8858,-999.000
    31DSCG94_3,  P18N,    98,  3,    319,   1248,2,19940331,1742,-20.5015,-103.0007, 4057,    898.9,   4.5773,  34.4759,2,  34.4753,2,     94.5,2,     94.3,2,    61.88,2,    39.88,2,     0.00,2,     2.73,2, -999.000,9, -999.000,9, -999.000,9, -999.000,9, -999.000,9,-999.0000,9,  -999.00,9,   -999.0,9,   -999.0,9,   2274.4,2,   1484.4,2,   2336.0,2,     7.47,2,   20.00,  -999.0,-999.0000,-999.000,   25.00,  -999.0,  4.5060,-999.000
    31DSCG94_3,  P18N,    98,  3,    318,   1207,3,19940331,1742,-20.5015,-103.0007, 4057,    999.7,   4.2196,  34.5060,2,-999.0000,5,     96.8,2,   -999.0,9,  -999.00,9,  -999.00,9,  -999.00,9,  -999.00,9, -999.000,9, -999.000,9, -999.000,9, -999.000,9, -999.000,9,-999.0000,9,  -999.00,9,   -999.0,9,   -999.0,9,   -999.0,9,   -999.0,9,   -999.0,9,  -999.00,9, -999.00,  -999.0,-999.0000,-999.000, -999.00,  -999.0,  4.1422,-999.000
    31DSCG94_3,  P18N,    98,  3,    317,   1119,2,19940331,1742,-20.5015,-103.0007, 4057,   1099.2,   3.9442,  34.5252,2,  34.5250,2,     92.3,2,     93.9,2,    80.42,2,    39.71,2,     0.01,2,     2.79,2, -999.000,9, -999.000,9, -999.000,9, -999.000,9, -999.000,9,-999.0000,9,  -999.00,9,   -999.0,9,   -999.0,9,   2292.2,2,   1494.1,2,   2350.0,2,     7.47,2,   20.00,  -999.0,-999.0000,-999.000,   25.00,  -999.0,  3.8606,-999.000
    31DSCG94_3,  P18N,    98,  3,    316,   1036,2,19940331,1742,-20.5015,-103.0007, 4057,   1200.1,   3.6919,  34.5392,2,  34.5384,2,     94.3,2,     95.7,2,    87.54,2,    39.91,2,     0.00,2,     2.78,2, -999.000,9, -999.000,9, -999.000,9, -999.000,9, -999.000,9,-999.0000,9,  -999.00,9,   -999.0,9,   -999.0,9,   2301.6,2,   1501.3,2,   2359.0,2,     7.48,2,   20.00,  -999.0,-999.0000,-999.000,   25.00,  -999.0,  3.6021,-999.000
    31DSCG94_3,  P18N,    98,  3,    315,   1017,2,19940331,1742,-20.5015,-103.0007, 4057,   1298.6,   3.4435,  34.5530,2,  34.5521,2,     96.7,2,     97.7,2,    93.01,2,    39.41,2,     0.00,2,     2.78,2, -999.000,9, -999.000,9, -999.000,9, -999.000,9, -999.000,9,-999.0000,9,  -999.00,9,   -999.0,9,   -999.0,9,   2306.7,2,   1477.6,2,   2366.0,2,     7.48,2,   20.00,  -999.0,-999.0000,-999.000,   25.00,  -999.0,  3.3477,-999.000
    31DSCG94_3,  P18N,    98,  3,    314,   1016,2,19940331,1742,-20.5015,-103.0007, 4057,   1399.7,   3.2178,  34.5665,2,  34.5666,2,     99.1,2,    100.3,2,    97.56,2,    39.12,2,     0.00,2,     2.70,2, -999.000,9, -999.000,9, -999.000,9, -999.000,9, -999.000,9,-999.0000,9,  -999.00,9,   -999.0,9,   -999.0,9,   2310.2,2,   1474.6,2,   2376.0,2,     7.49,2,   20.00,  -999.0,-999.0000,-999.000,   25.00,  -999.0,  3.1159,-999.000
    31DSCG94_3,  P18N,    98,  3,    313,   1209,2,19940331,1742,-20.5015,-103.0007, 4057,   1594.5,   2.8634,  34.5899,2,  34.5906,2,    105.2,2,    107.5,2,   105.97,2,    38.73,2,     0.02,2,     2.73,2, -999.000,9, -999.000,9, -999.000,9, -999.000,9, -999.000,9,-999.0000,9,  -999.00,9,   -999.0,9,   -999.0,9,   2316.6,2,   1421.7,2,   2382.0,2,     7.50,2,   20.00,  -999.0,-999.0000,-999.000,   25.00,  -999.0,  2.7492,-999.000
    31DSCG94_3,  P18N,    98,  3,    312,   1033,2,19940331,1742,-20.5015,-103.0007, 4057,   1799.2,   2.5578,  34.6118,2,  34.6115,2,    112.8,2,    113.2,2,   114.10,2,    38.24,2,     0.00,2,     2.66,2, -999.000,9, -999.000,9, -999.000,9, -999.000,9, -999.000,9,-999.0000,9,  -999.00,9,   -999.0,9,   -999.0,9,   2321.2,2,   1397.6,2,   2389.0,2,     7.51,2,   20.00,  -999.0,-999.0000,-999.000,   25.00,  -999.0,  2.4303,-999.000
    31DSCG94_3,  P18N,    98,  3,    311,   1240,2,19940331,1742,-20.5015,-103.0007, 4057,   1999.9,   2.2366,  34.6246,2,  34.6243,2,    141.3,2,    143.6,2,   111.38,2,    35.95,2,     0.00,2,     2.45,2, -999.000,9, -999.000,9, -999.000,9, -999.000,9, -999.000,9,-999.0000,9,  -999.00,9,   -999.0,9,   -999.0,9,   2301.1,3,   1227.0,2,   2401.0,2,     7.56,2,   20.00,  -999.0,-999.0000,-999.000,   25.00,  -999.0,  2.0965,-999.000
    31DSCG94_3,  P18N,    98,  3,    310,   1005,2,19940331,1742,-20.5015,-103.0007, 4057,   2251.5,   2.0032,  34.6487,2,  34.6494,2,    149.6,2,    151.6,2,   116.73,2,    35.52,2,     0.00,2,     2.35,2, -999.000,9, -999.000,9, -999.000,9, -999.000,9, -999.000,9,-999.0000,9,  -999.00,9,   -999.0,9,   -999.0,9,   2301.5,2,   1190.3,2,   2391.0,2,     7.57,2,   20.00,  -999.0,-999.0000,-999.000,   25.00,  -999.0,  1.8451,-999.000
    31DSCG94_3,  P18N,    98,  3,    309,   1611,2,19940331,1742,-20.5015,-103.0007, 4057,   2498.8,   1.8780,  34.6643,2,  34.6651,2,    152.5,2,    153.9,6,   120.02,2,    35.48,2,     0.00,2,     2.41,2, -999.000,9, -999.000,9, -999.000,9, -999.000,9, -999.000,9,-999.0000,9,  -999.00,9,   -999.0,9,   -999.0,9,   2303.6,2,   1166.7,2,   2395.0,2,     7.58,2,   20.00,  -999.0,-999.0000,-999.000,   25.00,  -999.0,  1.7001,-999.000
    31DSCG94_3,  P18N,    98,  3,    308,   1218,2,19940331,1742,-20.5015,-103.0007, 4057,   2749.1,   1.8158,  34.6734,2,  34.6746,2,    152.8,2,    154.3,2,   122.10,2,    35.25,2,     0.04,2,     2.43,2, -999.000,9, -999.000,9, -999.000,9, -999.000,9, -999.000,9,-999.0000,9,  -999.00,9,   -999.0,9,   -999.0,9,   2307.3,2,   1164.1,2,   2408.0,2,     7.58,2,   20.00,  -999.0,-999.0000,-999.000,   25.00,  -999.0,  1.6159,-999.000
    31DSCG94_3,  P18N,    98,  3,    307,   1257,2,19940331,1742,-20.5015,-103.0007, 4057,   3000.7,   1.7875,  34.6789,2,  34.6793,2,    154.0,2,    153.1,2,   124.85,2,    35.27,2,     0.01,2,     2.44,2, -999.000,9, -999.000,9, -999.000,9, -999.000,9, -999.000,9,-999.0000,9,  -999.00,9,   -999.0,9,   -999.0,9,   2312.1,2,   1156.0,2,   -999.0,5,     7.59,2,   20.00,  -999.0,-999.0000,-999.000,   25.00,  -999.0,  1.5642,-999.000
    31DSCG94_3,  P18N,    98,  3,    306,   1224,2,19940331,1742,-20.5015,-103.0007, 4057,   3249.2,   1.7795,  34.6827,2,  34.6822,2,    151.1,2,    150.7,2,   128.34,2,    35.59,2,     0.00,2,     2.41,2, -999.000,9, -999.000,9, -999.000,9, -999.000,9, -999.000,9,-999.0000,9,  -999.00,9,   -999.0,9,   -999.0,9,   2317.3,2,   1163.5,2,   2417.0,2,     7.58,2,   20.00,  -999.0,-999.0000,-999.000,   25.00,  -999.0,  1.5319,-999.000
    31DSCG94_3,  P18N,    98,  3,    305,   1246,2,19940331,1742,-20.5015,-103.0007, 4057,   3501.4,   1.7891,  34.6848,2,  34.6843,2,    151.6,2,    149.9,2,   130.82,2,    35.25,2,     0.00,2,     2.43,2, -999.000,9, -999.000,9, -999.000,9, -999.000,9, -999.000,9,-999.0000,9,  -999.00,9,   -999.0,9,   -999.0,9,   2320.2,2,   1156.4,2,   2417.0,2,     7.59,2,   20.00,  -999.0,-999.0000,-999.000,   25.00,  -999.0,  1.5155,-999.000
    31DSCG94_3,  P18N,    98,  3,    304,   1217,2,19940331,1742,-20.5015,-103.0007, 4057,   3750.5,   1.8085,  34.6856,2,  34.6855,2,    149.7,2,    149.4,2,   130.05,2,    35.27,2,     0.00,2,     2.44,2, -999.000,9, -999.000,9, -999.000,9, -999.000,9, -999.000,9,-999.0000,9,  -999.00,9,   -999.0,9,   -999.0,9,   2321.1,2,   1163.0,2,   2421.0,2,     7.59,2,   20.00,  -999.0,-999.0000,-999.000,   25.00,  -999.0,  1.5080,-999.000
    31DSCG94_3,  P18N,    98,  3,    302,   1223,2,19940331,1742,-20.5015,-103.0007, 4057,   4000.1,   1.8326,  34.6857,2,  34.6854,2,    149.8,2,    149.5,2,   129.50,2,    35.77,2,     0.00,2,     2.47,2, -999.000,9, -999.000,9, -999.000,9, -999.000,9, -999.000,9,-999.0000,9,  -999.00,9,   -999.0,9,   -999.0,9,   2321.9,2,   1161.2,2,   2422.0,2,     7.59,2,   20.00,  -999.0,-999.0000,-999.000,   25.00,  -999.0,  1.5042,-999.000
    31DSCG94_3,  P18N,    98,  3,    303,   9999,2,19940331,1742,-20.5015,-103.0007, 4057,   4000.4,   1.8322,  34.6859,2,  34.6859,2,    149.8,2,    149.1,2,   129.51,2,    35.66,2,     0.00,2,     2.46,2, -999.000,9, -999.000,9, -999.000,9, -999.000,9, -999.000,9,-999.0000,9,  -999.00,9,   -999.0,9,   -999.0,9,   2322.0,2,   1150.3,2,   2427.0,2,     7.59,2,   20.00,  -999.0,-999.0000,-999.000,   25.00,  -999.0,  1.5038,-999.000
    31DSCG94_3,  P18N,    98,  3,    301,   1041,2,19940331,1742,-20.5015,-103.0007, 4057,   4092.5,   1.8429,  34.6859,2,  34.6858,2,    151.1,2,    149.5,2,   130.86,2,    35.79,2,     0.00,2,     2.44,2, -999.000,9, -999.000,9, -999.000,9, -999.000,9, -999.000,9,-999.0000,9,  -999.00,9,   -999.0,9,   -999.0,9,   2323.0,2,   1158.3,2,   2420.0,2,     7.59,2,   20.00,  -999.0,-999.0000,-999.000,   25.00,  -999.0,  1.5039,-999.000