BOTTLE,20220630CCHSIOAMB
EXPOCODE,SECT_ID,STNNBR,CASTNO,SAMPNO,BTLNBR,BTLNBR_FLAG_W,DATE,TIME,LATITUDE,LONGITUDE,DEPTH,CTDPRS,CTDTMP,CTDSAL,CTDSAL_FLAG_W,SALNTY,SALNTY_FLAG_W,CTDOXY,CTDOXY_FLAG_W,OXYGEN,OXYGEN_FLAG_W,SILCAT,SILCAT_FLAG_W,NITRAT,NITRAT_FLAG_W,NITRIT,NITRIT_FLAG_W,PHSPHT,PHSPHT_FLAG_W,CFC-11,CFC-11_FLAG_W,CFC-12,CFC-12_FLAG_W,CFC113,CFC113_FLAG_W,CCL4,CCL4_FLAG_W,TRITUM,TRITUM_FLAG_W,HELIUM,HELIUM_FLAG_W,DELHE3,DELHE3_FLAG_W,DELC14,DELC14_FLAG_W,DELC13,DELC13_FLAG_W,TCARBN,TCARBN_FLAG_W,PCO2,PCO2_FLAG_W,ALKALI,ALKALI_FLAG_W,PH,PH_FLAG_W,PCO2TMP,C14ERR,HELIER,DELHER,PH_TMP,C13ERR,THETA,TRITER
,,,,,,,,,,,,DBAR,ITS-90,PSS-78,,PSS-78,,UMOL/KG,,UMOL/KG,,UMOL/KG,,UMOL/KG,,UMOL/KG,,UMOL/KG,,PMOL/KG,,PMOL/KG,,PMOL/KG,,PMOL/KG,,TU,,NMOL/KG,,PERCNT,,/MILLE,,/MILLE,,UMOL/KG,,UATM,,UMOL/KG,,,,DEG C,/MILLE,NMOL/KG,PERCNT,DEG C,/MILLE,DEG C,TU
    31DSCG94_2,  P18S,    29,  1,    124,    435,2,19940306,0612,-57.1717,-103.0017, 4157,     10.5,   5.7927,  34.0049,2,  34.0058,2,    294.4,2,    298.7,2,     0.67,2,    19.26,2,     0.20,2,     1.43,2, -999.000,5, -999.000,5, -999.000,9, -999.000,9, -999.000,9,-999.0000,9,  -999.00,9,   -999.0,9,   -999.0,9,   2101.3,2,   -999.0,9,   2272.0,2,     7.80,2, -999.00,  -999.0,-999.0000,-999.000,   25.00,  -999.0,  5.7919,-999.000
    31DSCG94_2,  P18S,    29,  1,    123,    421,2,19940306,0612,-57.1717,-103.0017, 4157,     30.5,   5.7957,  34.0071,2,  34.0084,2,    295.3,2,    299.0,2,     1.04,2,    20.00,2,     0.21,2,     1.49,2,    4.694,2,    2.359,2, -999.000,9, -999.000,9, -999.000,9,-999.0000,9,  -999.00,9,   -999.0,9,   -999.0,9,   -999.0,9,    626.1,2,   -999.0,9,  -999.00,9,   20.00,  -999.0,-999.0000,-999.000, -999.00,  -999.0,  5.7932,-999.000
    31DSCG94_2,  P18S,    29,  1,    122,    418,2,19940306,0612,-57.1717,-103.0017, 4157,     49.8,   5.7968,  34.0066,2,-999.0000,9,    294.0,2,    298.6,2,     1.12,2,    20.39,2,     0.22,2,     1.57,2, -999.000,9, -999.000,9, -999.000,9, -999.000,9, -999.000,9,-999.0000,9,  -999.00,9,   -999.0,9,   -999.0,9,   2104.5,2,   -999.0,9,   2273.0,2,  -999.00,9, -999.00,  -999.0,-999.0000,-999.000, -999.00,  -999.0,  5.7927,-999.000
    31DSCG94_2,  P18S,    29,  1,    121,    413,2,19940306,0612,-57.1717,-103.0017, 4157,    100.3,   5.4443,  34.0729,2,  34.0750,2,    294.5,2,    294.1,2,     3.15,2,    20.65,2,     0.24,2,     1.55,2,    4.660,2,    2.341,2, -999.000,9, -999.000,9, -999.000,9,-999.0000,9,  -999.00,9,   -999.0,9,   -999.0,9,   -999.0,9,    664.9,2,   -999.0,9,  -999.00,9,   20.00,  -999.0,-999.0000,-999.000, -999.00,  -999.0,  5.4363,-999.000
    31DSCG94_2,  P18S,    29,  1,    120,    405,2,19940306,0612,-57.1717,-103.0017, 4157,    146.9,   4.7999,  34.1441,2,  34.1430,2,    288.0,2,    291.4,2,     7.60,2,    22.98,2,     0.00,2,     1.61,2, -999.000,9, -999.000,9, -999.000,9, -999.000,9, -999.000,9,-999.0000,9,  -999.00,9,   -999.0,9,   -999.0,9,   2127.0,2,   -999.0,9,   2275.0,2,     7.76,2, -999.00,  -999.0,-999.0000,-999.000,   25.00,  -999.0,  4.7889,-999.000
    31DSCG94_2,  P18S,    29,  1,    119,    417,2,19940306,0612,-57.1717,-103.0017, 4157,    201.3,   4.8850,  34.1783,2,  34.1798,2,    288.7,2,    286.1,2,     7.89,2,    22.71,2,     0.00,2,     1.62,2,    4.306,2,    2.156,2, -999.000,9, -999.000,9, -999.000,9,-999.0000,9,  -999.00,9,   -999.0,9,   -999.0,9,   -999.0,9,    709.2,2,   -999.0,9,  -999.00,9,   20.00,  -999.0,-999.0000,-999.000, -999.00,  -999.0,  4.8697,-999.000
    31DSCG94_2,  P18S,    29,  1,    118,    429,2,19940306,0612,-57.1717,-103.0017, 4157,    300.6,   4.4801,  34.1529,2,  34.1626,2,    285.1,2,    279.8,2,    10.46,2,    23.93,2,     0.00,2,     1.69,2, -999.000,9, -999.000,9, -999.000,9, -999.000,9, -999.000,9,-999.0000,9,  -999.00,9,   -999.0,9,   -999.0,9,   2134.8,2,   -999.0,9,   2279.0,2,     7.73,2, -999.00,  -999.0,-999.0000,-999.000,   25.00,  -999.0,  4.4580,-999.000
    31DSCG94_2,  P18S,    29,  1,    117,    427,2,19940306,0612,-57.1717,-103.0017, 4157,    408.4,   4.2819,  34.1764,2,  34.1689,2,    275.7,2,    260.6,2,    15.16,2,    26.71,2,     0.00,2,     1.84,2,    4.633,4,    1.660,2, -999.000,9, -999.000,9, -999.000,9,-999.0000,9,  -999.00,9,   -999.0,9,   -999.0,9,   -999.0,9,    812.7,2,   -999.0,9,  -999.00,9,   20.00,  -999.0,-999.0000,-999.000, -999.00,  -999.0,  4.2521,-999.000
    31DSCG94_2,  P18S,    29,  1,    116,    410,2,19940306,0612,-57.1717,-103.0017, 4157,    498.6,   3.9513,  34.1864,2,  34.1845,2,    259.2,2,    252.8,2,    19.00,2,    27.57,2,     0.00,2,     1.92,2, -999.000,9, -999.000,9, -999.000,9, -999.000,9, -999.000,9,-999.0000,9,  -999.00,9,   -999.0,9,   -999.0,9,   2161.4,2,   -999.0,9,   2291.0,2,     7.69,2, -999.00,  -999.0,-999.0000,-999.000,   25.00,  -999.0,  3.9159,-999.000
    31DSCG94_2,  P18S,    29,  1,    115,    422,3,19940306,0612,-57.1717,-103.0017, 4157,    598.8,   3.9239,  34.2510,2,-999.0000,5,    232.6,2,   -999.0,9,    27.23,2,    30.22,2,     0.00,2,     1.99,2, -999.000,5, -999.000,5, -999.000,9, -999.000,9, -999.000,9,-999.0000,9,  -999.00,9,   -999.0,9,   -999.0,9,   -999.0,9,    924.6,2,   -999.0,9,  -999.00,9,   20.00,  -999.0,-999.0000,-999.000, -999.00,  -999.0,  3.8810,-999.000
    31DSCG94_2,  P18S,    29,  1,    114,    407,2,19940306,0612,-57.1717,-103.0017, 4157,    695.5,   3.5907,  34.2835,2,  34.2862,2,    217.6,2,    216.4,2,    34.89,2,    31.83,2,     0.00,2,     1.14,4, -999.000,9, -999.000,9, -999.000,9, -999.000,9, -999.000,9,-999.0000,9,  -999.00,9,   -999.0,9,   -999.0,9,   2192.9,2,   -999.0,9,   2296.0,2,     7.62,2, -999.00,  -999.0,-999.0000,-999.000,   25.00,  -999.0,  3.5422,-999.000
    31DSCG94_2,  P18S,    29,  1,    113,    419,2,19940306,0612,-57.1717,-103.0017, 4157,    802.1,   3.2754,  34.3235,2,  34.3232,2,    206.1,2,    206.4,2,    42.81,2,    32.50,2,     0.00,2,     2.27,2,    1.319,2,    0.619,2, -999.000,9, -999.000,9, -999.000,9,-999.0000,9,  -999.00,9,   -999.0,9,   -999.0,9,   -999.0,9,   1050.7,2,   -999.0,9,  -999.00,9,   20.00,  -999.0,-999.0000,-999.000, -999.00,  -999.0,  3.2207,-999.000
    31DSCG94_2,  P18S,    29,  1,    112,    426,2,19940306,0612,-57.1717,-103.0017, 4157,    893.4,   3.0369,  34.3667,2,  34.3672,2,    196.5,2,    195.7,2,    50.08,2,    33.17,2,     0.00,2,     2.29,2, -999.000,9, -999.000,9, -999.000,9, -999.000,9, -999.000,9,-999.0000,9,  -999.00,9,   -999.0,9,   -999.0,9,   2219.4,2,   -999.0,9,   2304.0,2,     7.59,2, -999.00,  -999.0,-999.0000,-999.000,   25.00,  -999.0,  2.9769,-999.000
    31DSCG94_2,  P18S,    29,  1,    111,    424,2,19940306,0612,-57.1717,-103.0017, 4157,    997.0,   2.8336,  34.4162,2,  34.4177,2,    188.6,2,    186.6,2,    58.14,2,    34.09,2,     0.00,2,     2.38,2,    0.764,2,    0.417,2, -999.000,9, -999.000,9, -999.000,9,-999.0000,9,  -999.00,9,   -999.0,9,   -999.0,9,   -999.0,9,   1123.2,2,   -999.0,9,  -999.00,9,   20.00,  -999.0,-999.0000,-999.000, -999.00,  -999.0,  2.7674,-999.000
    31DSCG94_2,  P18S,    29,  1,    110,    409,2,19940306,0612,-57.1717,-103.0017, 4157,   1096.3,   2.6957,  34.4608,2,  34.4611,2,    182.7,2,    180.3,2,    64.01,2,    33.88,2,     0.00,2,     2.37,2, -999.000,9, -999.000,9, -999.000,9, -999.000,9, -999.000,9,-999.0000,9,  -999.00,9,   -999.0,9,   -999.0,9,   2240.3,2,   -999.0,9,   2326.0,2,     7.57,2, -999.00,  -999.0,-999.0000,-999.000,   25.00,  -999.0,  2.6231,-999.000
    31DSCG94_2,  P18S,    29,  1,    109,    423,2,19940306,0612,-57.1717,-103.0017, 4157,   1200.3,   2.5600,  34.5104,2,  34.5163,3,    178.1,2,    175.7,2,    69.98,2,    34.19,2,     0.00,2,     2.34,2,    0.439,2,    0.191,2, -999.000,9, -999.000,9, -999.000,9,-999.0000,9,  -999.00,9,   -999.0,9,   -999.0,9,   -999.0,9,   1156.8,2,   -999.0,9,  -999.00,9,   20.00,  -999.0,-999.0000,-999.000, -999.00,  -999.0,  2.4807,-999.000
    31DSCG94_2,  P18S,    29,  1,    108,    414,4,19940306,0612,-57.1717,-103.0017, 4157,   1401.5,   2.3882,  34.5870,2,-999.0000,9,    174.6,2,   -999.0,9,  -999.00,9,  -999.00,9,  -999.00,9,  -999.00,9, -999.000,9, -999.000,9, -999.000,9, -999.000,9, -999.000,9,-999.0000,9,  -999.00,9,   -999.0,9,   -999.0,9,   -999.0,9,   -999.0,9,   -999.0,9,  -999.00,9, -999.00,  -999.0,-999.0000,-999.000, -999.00,  -999.0,  2.2951,-999.000
    31DSCG94_2,  P18S,    29,  1,    107,    437,3,19940306,0612,-57.1717,-103.0017, 4157,   1804.1,   2.1585,  34.6838,2,-999.0000,5,    177.9,2,   -999.0,9,  -999.00,9,  -999.00,9,  -999.00,9,  -999.00,9, -999.000,5, -999.000,5, -999.000,9, -999.000,9, -999.000,9,-999.0000,9,  -999.00,9,   -999.0,9,   -999.0,9,   -999.0,9,   -999.0,9,   -999.0,9,  -999.00,9, -999.00,  -999.0,-999.0000,-999.000, -999.00,  -999.0,  2.0358,-999.000
    31DSCG94_2,  P18S,    29,  1,    106,    416,2,19940306,0612,-57.1717,-103.0017, 4157,   2200.5,   1.8753,  34.7209,2,  34.7269,3,    183.2,2,    184.3,2,    93.87,2,    31.58,2,     0.00,2,     0.66,4, -999.000,9, -999.000,9, -999.000,9, -999.000,9, -999.000,9,-999.0000,9,  -999.00,9,   -999.0,9,   -999.0,9,   2257.0,2,   -999.0,9,   2354.0,2,     7.60,2, -999.00,  -999.0,-999.0000,-999.000,   25.00,  -999.0,  1.7235,-999.000
    31DSCG94_2,  P18S,    29,  1,    105,    420,2,19940306,0612,-57.1717,-103.0017, 4157,   2605.8,   1.5584,  34.7197,2,  34.7194,2,    187.5,2,    187.7,2,   104.17,2,    32.02,2,     0.00,2,     2.21,2,    0.118,4,    0.010,2, -999.000,9, -999.000,9, -999.000,9,-999.0000,9,  -999.00,9,   -999.0,9,   -999.0,9,   -999.0,9,   1045.8,2,   -999.0,9,  -999.00,9,   20.00,  -999.0,-999.0000,-999.000, -999.00,  -999.0,  1.3766,-999.000
    31DSCG94_2,  P18S,    29,  1,    104,    436,2,19940306,0612,-57.1717,-103.0017, 4157,   2996.7,   1.3598,  34.7226,2,  34.7231,2,    194.7,2,    195.9,2,   107.08,2,    31.54,2,     0.00,2,     2.20,2, -999.000,9, -999.000,9, -999.000,9, -999.000,9, -999.000,9,-999.0000,9,  -999.00,9,   -999.0,9,   -999.0,9,   2260.4,2,   -999.0,9,   2361.0,2,     7.61,2, -999.00,  -999.0,-999.0000,-999.000,   25.00,  -999.0,  1.1461,-999.000
    31DSCG94_2,  P18S,    29,  1,    103,    425,2,19940306,0612,-57.1717,-103.0017, 4157,   3394.3,   1.1041,  34.7171,2,  34.7164,2,    200.1,2,    201.0,2,   116.64,2,    32.32,2,     0.00,2,     0.69,4,    0.031,2,    0.012,2, -999.000,9, -999.000,9, -999.000,9,-999.0000,9,  -999.00,9,   -999.0,9,   -999.0,9,   2260.5,2,   1075.5,2,   -999.0,9,  -999.00,9,   20.00,  -999.0,-999.0000,-999.000, -999.00,  -999.0,  0.8582,-999.000
    31DSCG94_2,  P18S,    29,  1,    102,    433,2,19940306,0612,-57.1717,-103.0017, 4157,   3794.9,   0.8467,  34.7096,2,  34.7092,2,    204.7,2,    207.0,2,   128.96,2,    33.64,4,     0.00,2,     0.42,4, -999.000,9, -999.000,9, -999.000,9, -999.000,9, -999.000,9,-999.0000,9,  -999.00,9,   -999.0,9,   -999.0,9,   2259.1,2,   -999.0,9,   2368.0,2,     7.61,2, -999.00,  -999.0,-999.0000,-999.000,   25.00,  -999.0,  0.5673,-999.000
    31DSCG94_2,  P18S,    29,  1,    101,    403,2,19940306,0612,-57.1717,-103.0017, 4157,   4152.9,   0.6596,  34.7068,2,  34.7047,2,    208.7,2,    210.1,2,   133.52,2,    32.32,2,     0.00,2,     2.25,2,    0.054,2,    0.014,2, -999.000,9, -999.000,9, -999.000,9,-999.0000,9,  -999.00,9,   -999.0,9,   -999.0,9,   -999.0,9,   1069.0,2,   -999.0,9,  -999.00,9,   20.00,  -999.0,-999.0000,-999.000, -999.00,  -999.0,  0.3483,-999.000