BOTTLE,20220630CCHSIOAMB
EXPOCODE,SECT_ID,STNNBR,CASTNO,SAMPNO,BTLNBR,BTLNBR_FLAG_W,DATE,TIME,LATITUDE,LONGITUDE,DEPTH,CTDPRS,CTDTMP,CTDSAL,CTDSAL_FLAG_W,SALNTY,SALNTY_FLAG_W,CTDOXY,CTDOXY_FLAG_W,OXYGEN,OXYGEN_FLAG_W,SILCAT,SILCAT_FLAG_W,NITRAT,NITRAT_FLAG_W,NITRIT,NITRIT_FLAG_W,PHSPHT,PHSPHT_FLAG_W,CFC-11,CFC-11_FLAG_W,CFC-12,CFC-12_FLAG_W,CFC113,CFC113_FLAG_W,CCL4,CCL4_FLAG_W,TRITUM,TRITUM_FLAG_W,HELIUM,HELIUM_FLAG_W,DELHE3,DELHE3_FLAG_W,DELC14,DELC14_FLAG_W,DELC13,DELC13_FLAG_W,TCARBN,TCARBN_FLAG_W,PCO2,PCO2_FLAG_W,ALKALI,ALKALI_FLAG_W,PH,PH_FLAG_W,PCO2TMP,C14ERR,HELIER,DELHER,PH_TMP,C13ERR,THETA,TRITER
,,,,,,,,,,,,DBAR,ITS-90,PSS-78,,PSS-78,,UMOL/KG,,UMOL/KG,,UMOL/KG,,UMOL/KG,,UMOL/KG,,UMOL/KG,,PMOL/KG,,PMOL/KG,,PMOL/KG,,PMOL/KG,,TU,,NMOL/KG,,PERCNT,,/MILLE,,/MILLE,,UMOL/KG,,UATM,,UMOL/KG,,,,DEG C,/MILLE,NMOL/KG,PERCNT,DEG C,/MILLE,DEG C,TU
    31DSCG94_3,  P18N,   136,  1,    135,   1247,2,19940411,0826, -3.0000,-110.3333, 3915,      7.9,  26.9726,  34.9728,2,  34.9764,2,    195.5,2,    201.9,2,     4.45,2,     6.52,2,     0.18,2,     0.64,2, -999.000,9, -999.000,9, -999.000,9, -999.000,9, -999.000,9,-999.0000,9,  -999.00,9,   -999.0,9,   -999.0,9,   2030.0,2,    366.4,2,   2297.0,6,     8.00,2,   20.00,  -999.0,-999.0000,-999.000,   25.00,  -999.0, 26.9708,-999.000
    31DSCG94_3,  P18N,   136,  1,    136,   1025,2,19940411,0826, -3.0000,-110.3333, 3915,      8.8,  26.9775,  34.9723,2,  34.9763,2,    196.1,2,    202.4,6,     4.41,2,     6.57,2,     0.18,2,     0.65,2, -999.000,9, -999.000,9, -999.000,9, -999.000,9, -999.000,9,-999.0000,9,  -999.00,9,   -999.0,9,      1.3,2,   -999.0,9,    370.7,3,   2298.0,2,     8.00,2,   20.00,  -999.0,-999.0000,-999.000,   25.00,  -999.0, 26.9755,-999.000
    31DSCG94_3,  P18N,   136,  1,    134,   1216,2,19940411,0826, -3.0000,-110.3333, 3915,     24.8,  26.9381,  35.0231,2,  35.0333,2,    195.5,2,    200.3,2,     4.33,2,     6.67,2,     0.19,2,     0.65,2, -999.000,9, -999.000,9, -999.000,9, -999.000,9, -999.000,9,-999.0000,9,  -999.00,9,   -999.0,9,   -999.0,9,   -999.0,9,   -999.0,9,   -999.0,9,     7.99,2, -999.00,  -999.0,-999.0000,-999.000,   25.00,  -999.0, 26.9325,-999.000
    31DSCG94_3,  P18N,   136,  1,    133,   1244,2,19940411,0826, -3.0000,-110.3333, 3915,     48.7,  19.2626,  35.0852,3,  35.1159,2,    104.3,2,    136.3,2,     9.46,2,    14.61,2,     0.47,2,     1.21,2, -999.000,9, -999.000,9, -999.000,9, -999.000,9, -999.000,9,-999.0000,9,  -999.00,9,   -999.0,9,   -999.0,9,   2119.2,2,    581.7,3,   2311.0,2,     7.83,2,   20.00,  -999.0,-999.0000,-999.000,   25.00,  -999.0, 19.2538,-999.000
    31DSCG94_3,  P18N,   136,  1,    132,   1003,3,19940411,0826, -3.0000,-110.3333, 3915,     73.4,  14.1905,  35.0026,2,  35.0028,2,     85.4,2,     71.3,2,    17.27,2,    24.07,2,     0.41,2,     1.73,2, -999.000,9, -999.000,9, -999.000,9, -999.000,9, -999.000,9,-999.0000,9,  -999.00,9,   -999.0,9,   -999.0,9,   -999.0,9,   -999.0,9,   -999.0,9,  -999.00,9, -999.00,  -999.0,-999.0000,-999.000, -999.00,  -999.0, 14.1798,-999.000
    31DSCG94_3,  P18N,   136,  1,    131,   1211,2,19940411,0826, -3.0000,-110.3333, 3915,     94.9,  13.3518,  34.9311,2,  34.9469,2,     76.3,2,     75.5,2,    19.12,2,    24.83,2,     0.13,2,     1.75,2, -999.000,9, -999.000,9, -999.000,9, -999.000,9, -999.000,9,-999.0000,9,  -999.00,9,   -999.0,9,   -999.0,9,   2185.6,2,    906.7,2,   2290.0,3,     7.66,2,   20.00,  -999.0,-999.0000,-999.000,   25.00,  -999.0, 13.3386,-999.000
    31DSCG94_3,  P18N,   136,  1,    130,   1241,2,19940411,0826, -3.0000,-110.3333, 3915,    124.8,  13.2091,  34.9230,2,  34.9220,2,     72.1,2,     72.2,2,    19.71,2,    25.47,2,     0.00,2,     1.78,2, -999.000,9, -999.000,9, -999.000,9, -999.000,9, -999.000,9,-999.0000,9,  -999.00,9,   -999.0,9,   -999.0,9,   -999.0,9,   -999.0,9,   -999.0,9,     7.65,2, -999.00,  -999.0,-999.0000,-999.000,   25.00,  -999.0, 13.1918,-999.000
    31DSCG94_3,  P18N,   136,  1,    129,   1240,2,19940411,0826, -3.0000,-110.3333, 3915,    152.5,  12.9879,  34.9079,2,  34.9081,2,     70.8,2,     69.5,2,    20.52,2,    26.05,2,     0.00,2,     1.82,2, -999.000,9, -999.000,9, -999.000,9, -999.000,9, -999.000,9,-999.0000,9,  -999.00,9,   -999.0,9,   -999.0,9,   2192.5,2,   -999.0,9,   2294.0,2,     7.64,2, -999.00,  -999.0,-999.0000,-999.000,   25.00,  -999.0, 12.9670,-999.000
    31DSCG94_3,  P18N,   136,  1,    128,   1032,2,19940411,0826, -3.0000,-110.3333, 3915,    199.4,  12.8792,  34.9114,2,  34.9106,2,     42.4,2,     35.6,2,    22.65,2,    30.15,2,     0.00,2,     2.06,2, -999.000,9, -999.000,9, -999.000,9, -999.000,9, -999.000,9,-999.0000,9,  -999.00,9,   -999.0,9,   -999.0,9,   2217.1,2,   1168.8,2,   2301.0,2,     7.56,2,   20.00,  -999.0,-999.0000,-999.000,   25.00,  -999.0, 12.8520,-999.000
    31DSCG94_3,  P18N,   136,  1,    127,   1008,2,19940411,0826, -3.0000,-110.3333, 3915,    249.0,  12.6275,  34.8998,2,  34.8998,2,     16.6,2,     14.6,2,    24.87,2,    32.03,2,     0.00,2,     2.26,2, -999.000,9, -999.000,9, -999.000,9, -999.000,9, -999.000,9,-999.0000,9,  -999.00,9,   -999.0,9,   -999.0,9,   2235.0,2,   -999.0,9,   2298.0,2,     7.51,2, -999.00,  -999.0,-999.0000,-999.000,   25.00,  -999.0, 12.5938,-999.000
    31DSCG94_3,  P18N,   136,  1,    126,   1007,2,19940411,0826, -3.0000,-110.3333, 3915,    301.7,  12.3509,  34.8843,2,  34.8845,2,     15.2,2,     13.7,2,    25.83,2,    32.73,2,     0.00,2,     2.29,2, -999.000,9, -999.000,9, -999.000,9, -999.000,9, -999.000,9,-999.0000,9,  -999.00,9,   -999.0,9,   -999.0,9,   2239.1,2,   1384.1,2,   2297.0,2,     7.50,2,   20.00,  -999.0,-999.0000,-999.000,   25.00,  -999.0, 12.3107,-999.000
    31DSCG94_3,  P18N,   136,  1,    125,   1203,2,19940411,0826, -3.0000,-110.3333, 3915,    350.8,  11.8260,  34.8557,2,  34.8545,2,     12.6,2,     17.6,2,    26.74,2,    32.75,2,     0.00,2,     2.31,2, -999.000,9, -999.000,9, -999.000,9, -999.000,9, -999.000,9,-999.0000,9,  -999.00,9,   -999.0,9,   -999.0,9,   2242.4,2,   1415.6,2,   2294.0,2,     7.49,2,   20.00,  -999.0,-999.0000,-999.000,   25.00,  -999.0, 11.7804,-999.000
    31DSCG94_3,  P18N,   136,  1,    123,   1220,3,19940411,0826, -3.0000,-110.3333, 3915,    400.2,  10.5832,  34.7754,2,-999.0000,5,      4.7,2,   -999.0,9,  -999.00,9,  -999.00,9,  -999.00,9,  -999.00,9, -999.000,9, -999.000,9, -999.000,9, -999.000,9, -999.000,9,-999.0000,9,  -999.00,9,   -999.0,9,   -999.0,9,   -999.0,9,   -999.0,9,   -999.0,9,  -999.00,9, -999.00,  -999.0,-999.0000,-999.000, -999.00,  -999.0, 10.5347,-999.000
    31DSCG94_3,  P18N,   136,  1,    122,   1245,2,19940411,0826, -3.0000,-110.3333, 3915,    500.1,   8.2313,  34.6437,2,  34.6434,2,     15.7,2,     15.2,2,    45.30,2,    41.11,2,     0.00,2,     2.80,2, -999.000,9, -999.000,9, -999.000,9, -999.000,9, -999.000,9,-999.0000,9,  -999.00,9,   -999.0,9,   -999.0,9,   2280.7,2,   1792.1,2,   2306.0,2,     7.40,2,   20.00,  -999.0,-999.0000,-999.000,   25.00,  -999.0,  8.1791,-999.000
    31DSCG94_3,  P18N,   136,  1,    121,   1206,2,19940411,0826, -3.0000,-110.3333, 3915,    599.6,   7.2035,  34.5957,2,  34.5968,2,     30.7,2,     33.9,6,    50.84,2,    42.12,2,     0.00,2,     2.84,2, -999.000,9, -999.000,9, -999.000,9, -999.000,9, -999.000,9,-999.0000,9,  -999.00,9,   -999.0,9,   -999.0,9,   2280.4,2,   1711.1,6,   2309.0,2,     7.41,2,   20.00,  -999.0,-999.0000,-999.000,   25.00,  -999.0,  7.1451,-999.000
    31DSCG94_3,  P18N,   136,  1,    120,   1028,2,19940411,0826, -3.0000,-110.3333, 3915,    702.7,   6.3910,  34.5660,2,  34.5686,2,     46.0,2,     50.3,6,    56.59,2,    42.30,2,     0.00,2,     2.83,2, -999.000,9, -999.000,9, -999.000,9, -999.000,9, -999.000,9,-999.0000,9,  -999.00,9,   -999.0,9,   -999.0,9,   2280.2,2,   1640.9,2,   2315.0,2,     7.43,2,   20.00,  -999.0,-999.0000,-999.000,   25.00,  -999.0,  6.3264,-999.000
    31DSCG94_3,  P18N,   136,  1,    119,   1248,2,19940411,0826, -3.0000,-110.3333, 3915,    798.3,   5.6957,  34.5534,2,  34.5536,2,     60.1,2,     61.1,2,    65.53,2,    42.29,2,     0.00,2,     2.86,2, -999.000,9, -999.000,9, -999.000,9, -999.000,9, -999.000,9,-999.0000,9,  -999.00,9,   -999.0,9,   -999.0,9,   2285.2,2,   1603.8,2,   2323.0,2,     7.44,2,   20.00,  -999.0,-999.0000,-999.000,   25.00,  -999.0,  5.6261,-999.000
    31DSCG94_3,  P18N,   136,  1,    118,   1115,2,19940411,0826, -3.0000,-110.3333, 3915,    889.9,   5.2237,  34.5517,2,  34.5522,2,     63.4,2,     66.2,2,    73.47,2,    42.24,2,     0.00,2,     2.84,2, -999.000,9, -999.000,9, -999.000,9, -999.000,9, -999.000,9,-999.0000,9,  -999.00,9,   -999.0,9,   -999.0,9,   2292.8,2,   1589.4,2,   2334.0,2,     7.45,2,   20.00,  -999.0,-999.0000,-999.000,   25.00,  -999.0,  5.1487,-999.000
    31DSCG94_3,  P18N,   136,  1,    117,   1119,2,19940411,0826, -3.0000,-110.3333, 3915,    998.4,   4.6579,  34.5431,2,  34.5440,2,     82.2,2,     90.3,2,    79.25,2,    39.36,2,     0.00,2,     2.73,2, -999.000,9, -999.000,9, -999.000,9, -999.000,9, -999.000,9,-999.0000,9,  -999.00,9,   -999.0,9,   -999.0,9,   2285.8,3,   1455.7,2,   2342.0,6,     7.49,2,   20.00,  -999.0,-999.0000,-999.000,   25.00,  -999.0,  4.5772,-999.000
    31DSCG94_3,  P18N,   136,  1,    116,   1036,2,19940411,0826, -3.0000,-110.3333, 3915,   1099.1,   4.2462,  34.5549,2,  34.5555,2,     87.6,2,     89.4,2,    89.82,2,    39.77,2,     0.00,2,     2.78,2, -999.000,9, -999.000,9, -999.000,9, -999.000,9, -999.000,9,-999.0000,9,  -999.00,9,   -999.0,9,   -999.0,9,   -999.0,9,   -999.0,9,   -999.0,9,  -999.00,9, -999.00,  -999.0,-999.0000,-999.000, -999.00,  -999.0,  4.1600,-999.000
    31DSCG94_3,  P18N,   136,  1,    115,   1017,2,19940411,0826, -3.0000,-110.3333, 3915,   1199.7,   3.8118,  34.5659,2,  34.5674,2,     90.9,2,     93.5,2,    97.98,2,    39.84,2,     0.00,2,     2.76,2, -999.000,9, -999.000,9, -999.000,9, -999.000,9, -999.000,9,-999.0000,9,  -999.00,9,   -999.0,9,   -999.0,9,   -999.0,9,   -999.0,9,   -999.0,9,     7.49,2, -999.00,  -999.0,-999.0000,-999.000,   25.00,  -999.0,  3.7208,-999.000
    31DSCG94_3,  P18N,   136,  1,    114,   1016,2,19940411,0826, -3.0000,-110.3333, 3915,   1248.6,   3.6443,  34.5746,2,  34.5759,2,     89.5,2,     89.9,2,   103.35,2,    40.05,2,     0.00,2,     2.80,2, -999.000,9, -999.000,9, -999.000,9, -999.000,9, -999.000,9,-999.0000,9,  -999.00,9,   -999.0,9,   -999.0,9,   -999.0,9,   -999.0,9,   -999.0,9,  -999.00,9, -999.00,  -999.0,-999.0000,-999.000, -999.00,  -999.0,  3.5508,-999.000
    31DSCG94_3,  P18N,   136,  1,    113,   1209,2,19940411,0826, -3.0000,-110.3333, 3915,   1398.3,   3.2206,  34.5930,2,  34.5938,2,     90.1,2,     90.2,2,   115.32,2,    40.40,2,     0.00,2,     2.81,2, -999.000,9, -999.000,9, -999.000,9, -999.000,9, -999.000,9,-999.0000,9,  -999.00,9,   -999.0,9,   -999.0,9,   -999.0,9,   -999.0,9,   -999.0,9,     7.48,2, -999.00,  -999.0,-999.0000,-999.000,   25.00,  -999.0,  3.1188,-999.000
    31DSCG94_3,  P18N,   136,  1,    112,   1033,2,19940411,0826, -3.0000,-110.3333, 3915,   1599.7,   2.7809,  34.6147,2,  34.6148,2,    101.2,2,     94.5,2,   128.19,2,    40.09,2,     0.00,2,     2.79,2, -999.000,9, -999.000,9, -999.000,9, -999.000,9, -999.000,9,-999.0000,9,  -999.00,9,   -999.0,9,   -999.0,9,   -999.0,9,   -999.0,9,   -999.0,9,  -999.00,9, -999.00,  -999.0,-999.0000,-999.000, -999.00,  -999.0,  2.6673,-999.000
    31DSCG94_3,  P18N,   136,  1,    111,   1240,2,19940411,0826, -3.0000,-110.3333, 3915,   1786.0,   2.5042,  34.6307,2,  34.6310,2,    111.3,2,     97.4,6,   136.80,2,    39.83,2,     0.00,2,     2.76,2, -999.000,9, -999.000,9, -999.000,9, -999.000,9, -999.000,9,-999.0000,9,  -999.00,9,   -999.0,9,   -999.0,9,   -999.0,9,   -999.0,9,   -999.0,9,     7.50,2, -999.00,  -999.0,-999.0000,-999.000,   25.00,  -999.0,  2.3784,-999.000
    31DSCG94_3,  P18N,   136,  1,    110,   1005,2,19940411,0826, -3.0000,-110.3333, 3915,   2001.5,   2.2900,  34.6437,2,  34.6442,2,    118.8,2,    102.0,2,   142.30,2,    39.38,2,     0.00,2,     2.73,2, -999.000,9, -999.000,9, -999.000,9, -999.000,9, -999.000,9,-999.0000,9,  -999.00,9,   -999.0,9,   -999.0,9,   -999.0,9,   -999.0,9,   -999.0,9,  -999.00,9, -999.00,  -999.0,-999.0000,-999.000, -999.00,  -999.0,  2.1489,-999.000
    31DSCG94_3,  P18N,   136,  1,    109,   1611,2,19940411,0826, -3.0000,-110.3333, 3915,   2250.0,   2.0718,  34.6543,2,  34.6540,2,    119.5,2,    110.2,6,   145.67,2,    38.80,2,     0.00,2,     2.68,2, -999.000,9, -999.000,9, -999.000,9, -999.000,9, -999.000,9,-999.0000,9,  -999.00,9,   -999.0,9,   -999.0,9,   -999.0,9,   -999.0,9,   -999.0,9,     7.52,2, -999.00,  -999.0,-999.0000,-999.000,   25.00,  -999.0,  1.9126,-999.000
    31DSCG94_3,  P18N,   136,  1,    108,   1218,2,19940411,0826, -3.0000,-110.3333, 3915,   2498.2,   1.9111,  34.6607,2,  34.6608,2,    126.8,2,    120.7,2,   146.04,2,    38.56,2,     0.00,2,     2.63,2, -999.000,9, -999.000,9, -999.000,9, -999.000,9, -999.000,9,-999.0000,9,  -999.00,9,   -999.0,9,   -999.0,9,   -999.0,9,   -999.0,9,   -999.0,9,  -999.00,9, -999.00,  -999.0,-999.0000,-999.000, -999.00,  -999.0,  1.7326,-999.000
    31DSCG94_3,  P18N,   136,  1,    107,   1257,2,19940411,0826, -3.0000,-110.3333, 3915,   2749.3,   1.7549,  34.6700,2,  34.6700,2,    135.0,2,    133.1,6,   145.75,2,    37.62,2,     0.00,2,     2.55,2, -999.000,9, -999.000,9, -999.000,9, -999.000,9, -999.000,9,-999.0000,9,  -999.00,9,   -999.0,9,   -999.0,9,   -999.0,9,   -999.0,9,   -999.0,9,     7.56,2, -999.00,  -999.0,-999.0000,-999.000,   25.00,  -999.0,  1.5563,-999.000
    31DSCG94_3,  P18N,   136,  1,    106,   1224,2,19940411,0826, -3.0000,-110.3333, 3915,   2999.9,   1.6694,  34.6746,2,  34.6742,2,    140.0,2,    139.5,2,   146.12,2,    36.95,2,     0.00,2,     2.50,2, -999.000,9, -999.000,9, -999.000,9, -999.000,9, -999.000,9,-999.0000,9,  -999.00,9,   -999.0,9,   -999.0,9,   -999.0,9,   -999.0,9,   -999.0,9,  -999.00,9, -999.00,  -999.0,-999.0000,-999.000, -999.00,  -999.0,  1.4489,-999.000
    31DSCG94_3,  P18N,   136,  1,    105,   1246,2,19940411,0826, -3.0000,-110.3333, 3915,   3246.6,   1.5918,  34.6788,2,  34.6785,2,    143.7,2,    144.6,2,   147.58,2,    36.65,2,     0.00,2,     2.49,2, -999.000,9, -999.000,9, -999.000,9, -999.000,9, -999.000,9,-999.0000,9,  -999.00,9,   -999.0,9,   -999.0,9,   -999.0,9,   -999.0,9,   -999.0,9,     7.58,2, -999.00,  -999.0,-999.0000,-999.000,   25.00,  -999.0,  1.3489,-999.000
    31DSCG94_3,  P18N,   136,  1,    104,   1217,2,19940411,0826, -3.0000,-110.3333, 3915,   3499.0,   1.4920,  34.6870,2,  34.6864,2,    150.3,2,    153.8,2,   147.30,2,    36.57,2,     0.00,2,     2.43,2, -999.000,9, -999.000,9, -999.000,9, -999.000,9, -999.000,9,-999.0000,9,  -999.00,9,   -999.0,9,   -999.0,9,   -999.0,9,   -999.0,9,   -999.0,9,  -999.00,9, -999.00,  -999.0,-999.0000,-999.000, -999.00,  -999.0,  1.2261,-999.000
    31DSCG94_3,  P18N,   136,  1,    103,   9999,2,19940411,0826, -3.0000,-110.3333, 3915,   3699.0,   1.4664,  34.6893,2,  34.6931,3,    155.5,2,    157.6,2,   145.76,2,    36.44,2,     0.00,2,     2.41,2, -999.000,9, -999.000,9, -999.000,9, -999.000,9, -999.000,9,-999.0000,9,  -999.00,9,   -999.0,9,   -999.0,9,   -999.0,9,   -999.0,9,   -999.0,9,     7.60,2, -999.00,  -999.0,-999.0000,-999.000,   25.00,  -999.0,  1.1805,-999.000
    31DSCG94_3,  P18N,   136,  1,    102,   1223,2,19940411,0826, -3.0000,-110.3333, 3915,   3700.8,   1.4667,  34.6892,2,  34.6895,2,    155.5,2,    157.8,2,   145.37,2,    35.93,2,     0.00,2,     2.41,2, -999.000,9, -999.000,9, -999.000,9, -999.000,9, -999.000,9,-999.0000,9,  -999.00,9,   -999.0,9,   -999.0,9,   -999.0,9,   -999.0,9,   -999.0,9,  -999.00,9, -999.00,  -999.0,-999.0000,-999.000, -999.00,  -999.0,  1.1806,-999.000
    31DSCG94_3,  P18N,   136,  1,    101,   1041,2,19940411,0826, -3.0000,-110.3333, 3915,   3952.1,   1.4855,  34.6895,2,  34.6903,2,    155.4,2,    159.0,2,   146.04,2,    36.19,2,     0.00,2,     2.40,2, -999.000,9, -999.000,9, -999.000,9, -999.000,9, -999.000,9,-999.0000,9,  -999.00,9,   -999.0,9,   -999.0,9,   -999.0,9,   -999.0,9,   -999.0,9,     7.60,2, -999.00,  -999.0,-999.0000,-999.000,   25.00,  -999.0,  1.1721,-999.000