BOTTLE,20220630CCHSIOAMB
EXPOCODE,SECT_ID,STNNBR,CASTNO,SAMPNO,BTLNBR,BTLNBR_FLAG_W,DATE,TIME,LATITUDE,LONGITUDE,DEPTH,CTDPRS,CTDTMP,CTDSAL,CTDSAL_FLAG_W,SALNTY,SALNTY_FLAG_W,CTDOXY,CTDOXY_FLAG_W,OXYGEN,OXYGEN_FLAG_W,SILCAT,SILCAT_FLAG_W,NITRAT,NITRAT_FLAG_W,NITRIT,NITRIT_FLAG_W,PHSPHT,PHSPHT_FLAG_W,CFC-11,CFC-11_FLAG_W,CFC-12,CFC-12_FLAG_W,CFC113,CFC113_FLAG_W,CCL4,CCL4_FLAG_W,TRITUM,TRITUM_FLAG_W,HELIUM,HELIUM_FLAG_W,DELHE3,DELHE3_FLAG_W,DELC14,DELC14_FLAG_W,DELC13,DELC13_FLAG_W,TCARBN,TCARBN_FLAG_W,PCO2,PCO2_FLAG_W,ALKALI,ALKALI_FLAG_W,PH,PH_FLAG_W,PCO2TMP,C14ERR,HELIER,DELHER,PH_TMP,C13ERR,THETA,TRITER
,,,,,,,,,,,,DBAR,ITS-90,PSS-78,,PSS-78,,UMOL/KG,,UMOL/KG,,UMOL/KG,,UMOL/KG,,UMOL/KG,,UMOL/KG,,PMOL/KG,,PMOL/KG,,PMOL/KG,,PMOL/KG,,TU,,NMOL/KG,,PERCNT,,/MILLE,,/MILLE,,UMOL/KG,,UATM,,UMOL/KG,,,,DEG C,/MILLE,NMOL/KG,PERCNT,DEG C,/MILLE,DEG C,TU
    31DSCG94_2,  P18S,    73,  1,    136,   1025,2,19940319,0825,-33.0000,-103.0000, 3720,      8.8,  22.0029,  35.0648,2,  35.0615,2,    222.7,2,    219.5,2,     1.18,2,     0.19,2,     0.00,2,     0.10,2,    2.147,2,    1.191,2, -999.000,5, -999.000,5, -999.000,9,-999.0000,9,  -999.00,9,   -999.0,9,      1.5,2,   2015.8,2,    341.5,2,   2304.0,2,     8.03,2,   20.00,  -999.0,-999.0000,-999.000,   25.00,  -999.0, 22.0012,-999.000
    31DSCG94_2,  P18S,    73,  1,    135,   1247,2,19940319,0825,-33.0000,-103.0000, 3720,     25.3,  22.0026,  35.0663,2,  35.0657,2,    224.4,2,    219.7,2,     1.14,2,     0.06,2,     0.00,2,     0.13,2,    2.149,2,    1.187,2, -999.000,5, -999.000,5, -999.000,9,-999.0000,9,  -999.00,9,   -999.0,9,   -999.0,9,   2016.0,2,    342.6,2,   2304.0,2,     8.03,2,   20.00,  -999.0,-999.0000,-999.000,   25.00,  -999.0, 21.9976,-999.000
    31DSCG94_2,  P18S,    73,  1,    134,   1108,2,19940319,0825,-33.0000,-103.0000, 3720,     51.5,  21.1246,  35.0369,2,  35.0415,2,    225.6,2,    228.9,2,     1.27,2,     0.04,2,     0.00,2,     0.12,2,    2.329,2,    1.261,2, -999.000,9, -999.000,9, -999.000,9,-999.0000,9,  -999.00,9,   -999.0,9,   -999.0,9,   2014.6,2,    343.4,2,   2303.0,2,     8.03,2,   20.00,  -999.0,-999.0000,-999.000,   25.00,  -999.0, 21.1148,-999.000
    31DSCG94_2,  P18S,    73,  1,    133,   1244,2,19940319,0825,-33.0000,-103.0000, 3720,     76.3,  18.4304,  34.9532,2,  34.9613,2,    242.7,2,    245.7,2,     1.09,2,     0.02,2,     0.00,2,     0.11,2,    2.614,6,    1.404,6, -999.000,5, -999.000,5, -999.000,9,-999.0000,9,  -999.00,9,   -999.0,9,   -999.0,9,   2012.5,2,   -999.0,9,   2297.0,2,     8.02,2, -999.00,  -999.0,-999.0000,-999.000,   25.00,  -999.0, 18.4171,-999.000
    31DSCG94_2,  P18S,    73,  1,    132,   1003,2,19940319,0825,-33.0000,-103.0000, 3720,    101.1,  17.3407,  34.8190,2,  34.8200,2,    245.8,2,    247.1,2,     1.03,2,     0.02,2,     0.00,2,     0.10,2,    2.696,2,    1.429,2, -999.000,5, -999.000,5, -999.000,9,-999.0000,9,  -999.00,9,   -999.0,9,   -999.0,9,   2010.8,2,    357.9,2,   2292.0,2,     8.01,2,   20.00,  -999.0,-999.0000,-999.000,   25.00,  -999.0, 17.3239,-999.000
    31DSCG94_2,  P18S,    73,  1,    131,   1211,2,19940319,0825,-33.0000,-103.0000, 3720,    122.7,  16.6793,  34.7303,2,  34.7295,2,    245.1,2,    245.8,2,     1.06,2,     0.03,2,     0.00,2,     0.13,2,    3.168,2,    1.576,2, -999.000,9, -999.000,9, -999.000,9,-999.0000,9,  -999.00,9,   -999.0,9,   -999.0,9,   2014.4,2,   -999.0,9,   2284.0,2,     8.00,2, -999.00,  -999.0,-999.0000,-999.000,   25.00,  -999.0, 16.6594,-999.000
    31DSCG94_2,  P18S,    73,  1,    130,   1241,2,19940319,0825,-33.0000,-103.0000, 3720,    152.0,  16.2686,  34.7368,2,  34.7380,2,    242.4,2,    240.3,6,     1.12,2,     0.06,2,     0.00,2,     0.15,2,    2.755,2,    1.427,2, -999.000,5, -999.000,5, -999.000,9,-999.0000,9,  -999.00,9,   -999.0,9,   -999.0,9,   2021.6,2,    380.0,2,   2284.0,2,     7.99,2,   20.00,  -999.0,-999.0000,-999.000,   25.00,  -999.0, 16.2443,-999.000
    31DSCG94_2,  P18S,    73,  1,    129,   1031,2,19940319,0825,-33.0000,-103.0000, 3720,    201.2,  14.5905,  34.7498,2,  34.7529,2,    222.0,2,    214.0,2,     1.50,2,     4.22,2,     0.02,2,     0.47,2,    2.593,2,    1.344,2, -999.000,9, -999.000,9, -999.000,9,-999.0000,9,  -999.00,9,   -999.0,9,   -999.0,9,   2059.4,2,    467.6,2,   2287.0,2,     7.92,2,   20.00,  -999.0,-999.0000,-999.000,   25.00,  -999.0, 14.5606,-999.000
    31DSCG94_2,  P18S,    73,  1,    128,   1210,3,19940319,0825,-33.0000,-103.0000, 3720,    250.8,  12.1815,  34.5509,2,  34.5554,2,    214.8,2,    212.6,6,     2.08,2,     9.44,2,     0.00,2,     0.79,2,    2.553,6,    1.285,6, -999.000,5, -999.000,5, -999.000,9,-999.0000,9,  -999.00,9,   -999.0,9,   -999.0,9,   2082.8,2,    549.5,2,   2277.0,2,     7.85,2,   20.00,  -999.0,-999.0000,-999.000,   25.00,  -999.0, 12.1485,-999.000
    31DSCG94_2,  P18S,    73,  1,    127,   1008,2,19940319,0825,-33.0000,-103.0000, 3720,    298.8,  10.3860,  34.4380,2,  34.4408,2,    214.8,2,    212.1,2,     3.18,2,    14.02,2,     0.00,2,     1.04,2,    2.307,2,    1.138,2, -999.000,9, -999.000,9, -999.000,9,-999.0000,9,  -999.00,9,   -999.0,9,   -999.0,9,   2103.9,2,    633.0,2,   2272.0,2,     7.80,2,   20.00,  -999.0,-999.0000,-999.000,   25.00,  -999.0, 10.3506,-999.000
    31DSCG94_2,  P18S,    73,  1,    126,   1007,2,19940319,0825,-33.0000,-103.0000, 3720,    342.7,   8.6070,  34.3332,2,  34.3336,2,    225.8,2,    219.8,6,     4.68,2,    18.34,2,     0.00,2,     1.32,2,    2.378,2,    1.149,2, -999.000,5, -999.000,5, -999.000,9,-999.0000,9,  -999.00,9,   -999.0,9,   -999.0,9,   2121.1,2,   -999.0,9,   2273.0,2,     7.76,2, -999.00,  -999.0,-999.0000,-999.000,   25.00,  -999.0,  8.5708,-999.000
    31DSCG94_2,  P18S,    73,  1,    125,   1203,2,19940319,0825,-33.0000,-103.0000, 3720,    396.5,   7.5452,  34.3214,2,  34.3212,2,    231.9,2,    234.1,2,     5.43,2,    19.82,2,     0.00,2,     1.39,2,    2.454,2,    1.190,2, -999.000,9, -999.000,9, -999.000,9,-999.0000,9,  -999.00,9,   -999.0,9,   -999.0,9,   2125.9,2,    728.1,2,   2271.0,2,     7.75,2,   20.00,  -999.0,-999.0000,-999.000,   25.00,  -999.0,  7.5063,-999.000
    31DSCG94_2,  P18S,    73,  1,    123,   1101,2,19940319,0825,-33.0000,-103.0000, 3720,    497.2,   6.5452,  34.3311,2,  34.3314,2,    245.2,2,    246.5,2,     7.74,2,    21.78,2,     0.00,2,     1.52,2,    2.124,2,    1.042,2, -999.000,5, -999.000,5, -999.000,9,-999.0000,9,  -999.00,9,   -999.0,9,   -999.0,9,   2132.0,2,    743.2,2,   2274.0,2,     7.74,2,   20.00,  -999.0,-999.0000,-999.000,   25.00,  -999.0,  6.4999,-999.000
    31DSCG94_2,  P18S,    73,  1,    121,   1206,4,19940319,0825,-33.0000,-103.0000, 3720,    597.0,   6.0484,  34.3063,2,-999.0000,9,    247.3,2,   -999.0,9,  -999.00,9,  -999.00,9,  -999.00,9,  -999.00,9, -999.000,5, -999.000,5, -999.000,9, -999.000,9, -999.000,9,-999.0000,9,  -999.00,9,   -999.0,9,   -999.0,9,   -999.0,9,   -999.0,9,   -999.0,9,  -999.00,9, -999.00,  -999.0,-999.0000,-999.000, -999.00,  -999.0,  5.9958,-999.000
    31DSCG94_2,  P18S,    73,  1,    119,   1248,2,19940319,0825,-33.0000,-103.0000, 3720,    699.7,   5.5970,  34.2797,2,  34.2800,2,    245.6,2,    248.4,2,    10.96,2,    24.24,2,     0.00,2,     1.67,2,    1.279,6,    0.643,6, -999.000,5, -999.000,5, -999.000,9,-999.0000,9,  -999.00,9,   -999.0,9,   -999.0,9,   2139.3,2,    769.9,3,   2276.0,2,     7.73,2,   20.00,  -999.0,-999.0000,-999.000,   25.00,  -999.0,  5.5372,-999.000
    31DSCG94_2,  P18S,    73,  1,    118,   1207,2,19940319,0825,-33.0000,-103.0000, 3720,    797.2,   5.1781,  34.2655,2,  34.2651,2,    235.8,2,    238.6,2,    14.56,2,    25.81,2,     0.00,2,     1.78,2,    0.772,6,    0.399,6, -999.000,5, -999.000,5, -999.000,9,-999.0000,9,  -999.00,9,   -999.0,9,   -999.0,9,   2149.5,2,    824.7,2,   2284.0,2,     7.70,2,   20.00,  -999.0,-999.0000,-999.000,   25.00,  -999.0,  5.1120,-999.000
    31DSCG94_2,  P18S,    73,  1,    117,   1119,2,19940319,0825,-33.0000,-103.0000, 3720,    899.2,   4.6812,  34.2672,2,  34.2684,2,    217.0,2,    218.0,2,    21.51,2,    28.52,2,     0.00,2,     1.96,2,    0.400,2,    0.220,2, -999.000,9, -999.000,9, -999.000,9,-999.0000,9,  -999.00,9,   -999.0,9,   -999.0,9,   2170.3,2,    915.6,2,   2277.0,2,     7.66,2,   20.00,  -999.0,-999.0000,-999.000,   25.00,  -999.0,  4.6095,-999.000
    31DSCG94_2,  P18S,    73,  1,    116,   1036,2,19940319,0825,-33.0000,-103.0000, 3720,    995.8,   4.2138,  34.2968,2,  34.2973,2,    196.3,2,    197.9,2,    30.54,2,    31.21,2,     0.01,2,     2.17,2,    0.156,2,    0.092,2, -999.000,5, -999.000,5, -999.000,9,-999.0000,9,  -999.00,9,   -999.0,9,   -999.0,9,   2192.0,2,   1023.8,2,   -999.0,5,     7.62,2,   20.00,  -999.0,-999.0000,-999.000,   25.00,  -999.0,  4.1372,-999.000
    31DSCG94_2,  P18S,    73,  1,    115,   1017,2,19940319,0825,-33.0000,-103.0000, 3720,   1098.3,   3.8364,  34.3592,2,  34.3579,2,    168.1,2,    168.0,2,    44.95,2,    33.96,2,     0.01,2,     2.37,2,    0.035,2,    0.013,2, -999.000,9, -999.000,9, -999.000,9,-999.0000,9,  -999.00,9,   -999.0,9,   -999.0,9,   2221.8,2,   1156.7,2,   2306.0,2,     7.57,2,   20.00,  -999.0,-999.0000,-999.000,   25.00,  -999.0,  3.7541,-999.000
    31DSCG94_2,  P18S,    73,  1,    114,   1016,2,19940319,0825,-33.0000,-103.0000, 3720,   1198.5,   3.5807,  34.4346,2,  34.4348,2,    150.3,2,    138.3,2,    61.28,2,    36.38,2,     0.00,2,     2.55,2,    0.003,2,   -0.001,2, -999.000,5, -999.000,5, -999.000,9,-999.0000,9,  -999.00,9,   -999.0,9,   -999.0,9,   2254.9,2,   1301.5,2,   2326.0,2,     7.53,2,   20.00,  -999.0,-999.0000,-999.000,   25.00,  -999.0,  3.4923,-999.000
    31DSCG94_2,  P18S,    73,  1,    113,   1209,2,19940319,0825,-33.0000,-103.0000, 3720,   1298.5,   3.3003,  34.4752,2,  34.4733,2,    133.0,2,    132.4,2,    70.10,2,    37.33,2,     0.00,2,     2.63,2,    0.003,2,   -0.001,2, -999.000,9, -999.000,9, -999.000,9,-999.0000,9,  -999.00,9,   -999.0,9,   -999.0,9,   2266.6,2,   1337.8,2,   2338.0,2,     7.52,2,   20.00,  -999.0,-999.0000,-999.000,   25.00,  -999.0,  3.2062,-999.000
    31DSCG94_2,  P18S,    73,  1,    112,   1033,2,19940319,0825,-33.0000,-103.0000, 3720,   1399.1,   3.1337,  34.5166,2,  34.5160,2,    127.7,2,    126.3,2,    79.70,2,    37.61,2,     0.01,2,     2.67,2,   -0.003,2,    0.001,2, -999.000,5, -999.000,5, -999.000,9,-999.0000,9,  -999.00,9,   -999.0,9,   -999.0,9,   2281.6,2,   1343.7,2,   -999.0,5,     7.52,2,   20.00,  -999.0,-999.0000,-999.000,   25.00,  -999.0,  3.0329,-999.000
    31DSCG94_2,  P18S,    73,  1,    111,   1263,2,19940319,0825,-33.0000,-103.0000, 3720,   1597.6,   2.7606,  34.5632,2,  34.5626,2,    134.7,2,    136.1,2,    91.17,2,    36.62,2,     0.01,2,     2.57,2,   -0.001,2,   -0.001,2, -999.000,5, -999.000,5, -999.000,9,-999.0000,9,  -999.00,9,   -999.0,9,   -999.0,9,   2285.6,2,   1294.2,2,   2358.0,2,     7.54,2,   20.00,  -999.0,-999.0000,-999.000,   25.00,  -999.0,  2.6475,-999.000
    31DSCG94_2,  P18S,    73,  1,    110,   1005,2,19940319,0825,-33.0000,-103.0000, 3720,   1800.4,   2.4073,  34.5995,2,  34.5993,2,    147.1,2,    149.2,6,    97.72,2,    35.03,2,     0.00,2,     2.46,2,    0.003,2,    0.001,2, -999.000,9, -999.000,9, -999.000,9,-999.0000,9,  -999.00,9,   -999.0,9,   -999.0,9,   2285.0,2,   1224.1,2,   2367.0,2,     7.56,2,   20.00,  -999.0,-999.0000,-999.000,   25.00,  -999.0,  2.2818,-999.000
    31DSCG94_2,  P18S,    73,  1,    109,   1611,2,19940319,0825,-33.0000,-103.0000, 3720,   1999.2,   2.1732,  34.6317,2,  34.6307,2,    152.0,2,   -999.0,9,   104.27,2,    34.91,2,     0.00,2,     2.42,2, -999.000,9, -999.000,9, -999.000,9, -999.000,9, -999.000,9,-999.0000,9,  -999.00,9,   -999.0,9,   -999.0,9,   2289.4,2,   1246.5,3,   2370.0,2,     7.57,2,   20.00,  -999.0,-999.0000,-999.000,   25.00,  -999.0,  2.0342,-999.000
    31DSCG94_2,  P18S,    73,  1,    108,   1218,2,19940319,0825,-33.0000,-103.0000, 3720,   2253.3,   1.9494,  34.6632,2,  34.6625,2,    168.0,2,    160.3,2,   109.27,2,    33.78,2,     0.00,2,     2.37,2, -999.000,9, -999.000,9, -999.000,9, -999.000,9, -999.000,9,-999.0000,9,  -999.00,9,   -999.0,9,   -999.0,9,   2289.9,2,   -999.0,9,   2378.0,2,     7.58,2, -999.00,  -999.0,-999.0000,-999.000,   25.00,  -999.0,  1.7920,-999.000
    31DSCG94_2,  P18S,    73,  1,    107,   1257,2,19940319,0825,-33.0000,-103.0000, 3720,   2492.8,   1.8212,  34.6780,2,  34.6782,2,    162.9,2,    163.9,2,   112.33,2,    34.10,2,     0.01,2,     2.37,2,   -0.001,2,   -0.001,2, -999.000,9, -999.000,9, -999.000,9,-999.0000,9,  -999.00,9,   -999.0,9,   -999.0,9,   2292.7,2,   1142.1,2,   2379.0,2,     7.59,2,   20.00,  -999.0,-999.0000,-999.000,   25.00,  -999.0,  1.6447,-999.000
    31DSCG94_2,  P18S,    73,  1,    106,   1224,2,19940319,0825,-33.0000,-103.0000, 3720,   2746.3,   1.7550,  34.6842,2,  34.6833,2,    165.4,2,    165.8,2,   115.22,2,    34.13,2,     0.01,2,     2.38,2, -999.000,9, -999.000,9, -999.000,9, -999.000,9, -999.000,9,-999.0000,9,  -999.00,9,   -999.0,9,   -999.0,9,   2291.6,2,   1133.7,2,   2384.0,2,     7.59,2,   20.00,  -999.0,-999.0000,-999.000,   25.00,  -999.0,  1.5566,-999.000
    31DSCG94_2,  P18S,    73,  1,    105,   1246,2,19940319,0825,-33.0000,-103.0000, 3720,   2993.3,   1.7506,  34.6867,2,  34.6867,2,    166.8,2,    166.6,2,   117.03,2,    34.08,2,     0.01,2,     2.34,2, -999.000,9, -999.000,9, -999.000,9, -999.000,9, -999.000,9,-999.0000,9,  -999.00,9,   -999.0,9,   -999.0,9,   2293.1,2,   1123.8,2,   2389.0,2,     7.59,2,   20.00,  -999.0,-999.0000,-999.000,   25.00,  -999.0,  1.5288,-999.000
    31DSCG94_2,  P18S,    73,  1,    104,   1217,2,19940319,0825,-33.0000,-103.0000, 3720,   3251.4,   1.7635,  34.6885,2,  34.6878,2,    167.5,2,    166.9,2,   118.00,2,    33.59,2,     0.00,2,     2.32,2, -999.000,9, -999.000,9, -999.000,9, -999.000,9, -999.000,9,-999.0000,9,  -999.00,9,   -999.0,9,   -999.0,9,   2292.8,2,   1123.5,2,   2386.0,2,     7.59,2,   20.00,  -999.0,-999.0000,-999.000,   25.00,  -999.0,  1.5160,-999.000
    31DSCG94_2,  P18S,    73,  1,    103,   9999,2,19940319,0825,-33.0000,-103.0000, 3720,   3494.3,   1.7820,  34.6897,2,  34.6896,2,    168.3,2,    166.9,2,   116.75,2,    33.93,2,     0.00,2,     2.34,2,   -0.002,2,   -0.001,2, -999.000,5, -999.000,5, -999.000,9,-999.0000,9,  -999.00,9,   -999.0,9,   -999.0,9,   2295.1,2,   -999.0,9,   2387.0,2,     7.60,2, -999.00,  -999.0,-999.0000,-999.000,   25.00,  -999.0,  1.5092,-999.000
    31DSCG94_2,  P18S,    73,  1,    102,   1223,2,19940319,0825,-33.0000,-103.0000, 3720,   3499.0,   1.7827,  34.6893,2,  34.6883,2,    168.2,2,    167.5,2,   115.38,2,    34.11,2,     0.01,2,     2.35,2, -999.000,9, -999.000,9, -999.000,9, -999.000,9, -999.000,9,-999.0000,9,  -999.00,9,   -999.0,9,   -999.0,9,   2293.5,2,   1108.5,2,   2387.0,2,     7.59,2,   20.00,  -999.0,-999.0000,-999.000,   25.00,  -999.0,  1.5094,-999.000
    31DSCG94_2,  P18S,    73,  1,    101,   1041,2,19940319,0825,-33.0000,-103.0000, 3720,   3695.7,   1.8022,  34.6900,2,  34.6900,2,    168.0,2,    167.3,2,   115.57,2,    33.83,2,     0.02,2,     2.35,2,   -0.007,2,   -0.003,2, -999.000,9, -999.000,9, -999.000,9,-999.0000,9,  -999.00,9,   -999.0,9,   -999.0,9,   2293.1,2,   1115.2,2,   2390.0,2,     7.59,2,   20.00,  -999.0,-999.0000,-999.000,   25.00,  -999.0,  1.5077,-999.000