BOTTLE,20220630CCHSIOAMB
EXPOCODE,SECT_ID,STNNBR,CASTNO,SAMPNO,BTLNBR,BTLNBR_FLAG_W,DATE,TIME,LATITUDE,LONGITUDE,DEPTH,CTDPRS,CTDTMP,CTDSAL,CTDSAL_FLAG_W,SALNTY,SALNTY_FLAG_W,CTDOXY,CTDOXY_FLAG_W,OXYGEN,OXYGEN_FLAG_W,SILCAT,SILCAT_FLAG_W,NITRAT,NITRAT_FLAG_W,NITRIT,NITRIT_FLAG_W,PHSPHT,PHSPHT_FLAG_W,CFC-11,CFC-11_FLAG_W,CFC-12,CFC-12_FLAG_W,CFC113,CFC113_FLAG_W,CCL4,CCL4_FLAG_W,TRITUM,TRITUM_FLAG_W,HELIUM,HELIUM_FLAG_W,DELHE3,DELHE3_FLAG_W,DELC14,DELC14_FLAG_W,DELC13,DELC13_FLAG_W,TCARBN,TCARBN_FLAG_W,PCO2,PCO2_FLAG_W,ALKALI,ALKALI_FLAG_W,PH,PH_FLAG_W,PCO2TMP,C14ERR,HELIER,DELHER,PH_TMP,C13ERR,THETA,TRITER
,,,,,,,,,,,,DBAR,ITS-90,PSS-78,,PSS-78,,UMOL/KG,,UMOL/KG,,UMOL/KG,,UMOL/KG,,UMOL/KG,,UMOL/KG,,PMOL/KG,,PMOL/KG,,PMOL/KG,,PMOL/KG,,TU,,NMOL/KG,,PERCNT,,/MILLE,,/MILLE,,UMOL/KG,,UATM,,UMOL/KG,,,,DEG C,/MILLE,NMOL/KG,PERCNT,DEG C,/MILLE,DEG C,TU
    31DSCG94_3,  P18N,   186,  1,    136,   1025,2,19940424,0706, 20.0017,-109.9983, 2670,      9.7,  23.3042,  34.6710,2,  34.6667,2,    210.3,2,    217.3,2,     0.56,2,     0.03,2,     0.00,2,     0.33,2,    2.116,2,    1.184,2, -999.000,5, -999.000,5, -999.000,9,-999.0000,9,  -999.00,9,   -999.0,9,      1.8,2,   2004.2,2,    317.8,2,   2300.0,2,     8.05,2,   20.00,  -999.0,-999.0000,-999.000,   25.00,  -999.0, 23.3022,-999.000
    31DSCG94_3,  P18N,   186,  1,    135,   1247,2,19940424,0706, 20.0017,-109.9983, 2670,     24.9,  22.2878,  34.4680,2,  34.4761,2,    202.1,2,    223.3,6,     0.55,2,     0.07,2,     0.00,2,     0.28,2,    2.208,2,    1.217,2, -999.000,5, -999.000,5,    1.408,2,   1.7817,2,    -0.98,2,   -999.0,9,   -999.0,9,   1996.2,2,    333.5,2,   2282.0,2,     8.04,2,   20.00,  -999.0,-999.0000,-999.000,   25.00,  -999.0, 22.2828,   0.010
    31DSCG94_3,  P18N,   186,  1,    134,   1216,2,19940424,0706, 20.0017,-109.9983, 2670,     49.5,  21.4565,  34.4559,2,  34.4672,2,    127.3,2,    213.8,2,     1.37,2,     0.26,2,     0.01,2,     0.43,2,    2.182,2,    1.201,2, -999.000,5, -999.000,5, -999.000,9,-999.0000,9,  -999.00,9,   -999.0,9,   -999.0,9,   2017.8,2,    361.5,2,   2288.0,2,     8.01,2,   20.00,  -999.0,-999.0000,-999.000,   25.00,  -999.0, 21.4469,-999.000
    31DSCG94_3,  P18N,   186,  1,    133,   1244,2,19940424,0706, 20.0017,-109.9983, 2670,     73.4,  16.5013,  34.0716,2,  34.1334,3,     37.5,2,    121.1,2,    10.04,2,    12.26,2,     0.25,2,     1.34,2,    2.172,6,    1.141,6, -999.000,5, -999.000,5,    1.502,2,   1.8036,2,     6.53,2,   -999.0,9,   -999.0,9,   2120.4,2,    754.7,2,   2259.0,2,     7.73,2,   20.00,  -999.0,-999.0000,-999.000,   25.00,  -999.0, 16.4896,   0.010
    31DSCG94_3,  P18N,   186,  1,    132,   1003,2,19940424,0706, 20.0017,-109.9983, 2670,     98.9,  14.0155,  34.2949,2,  34.3127,2,     98.6,2,     66.4,2,    18.50,2,    21.36,2,     0.01,2,     1.93,2,    1.724,2,    0.907,2, -999.000,5, -999.000,5, -999.000,9,-999.0000,9,  -999.00,9,   -999.0,9,   -999.0,9,   2185.1,2,   1127.0,2,   2282.0,3,     7.58,2,   20.00,  -999.0,-999.0000,-999.000,   25.00,  -999.0, 14.0014,-999.000
    31DSCG94_3,  P18N,   186,  1,    131,   1211,2,19940424,0706, 20.0017,-109.9983, 2670,    125.7,  13.6425,  34.6533,2,  34.6518,2,     32.5,2,     22.0,2,    27.21,2,    25.98,2,     0.00,2,     2.43,2,    0.979,2,    0.535,2, -999.000,5, -999.000,5,    0.836,2,   1.8393,2,    21.91,2,   -999.0,9,   -999.0,9,   2237.1,2,   1431.7,2,   2286.0,2,     7.49,2,   20.00,  -999.0,-999.0000,-999.000,   25.00,  -999.0, 13.6248,   0.008
    31DSCG94_3,  P18N,   186,  1,    130,   1241,2,19940424,0706, 20.0017,-109.9983, 2670,    150.6,  13.0813,  34.7593,2,  34.7582,2,     13.8,2,      0.8,2,    27.23,2,    26.63,2,     0.00,2,     2.53,2,    0.506,2,    0.266,2, -999.000,9, -999.000,9, -999.000,9,-999.0000,9,  -999.00,9,   -999.0,9,   -999.0,9,   2252.2,2,   1550.9,2,   2299.0,2,     7.46,2,   20.00,  -999.0,-999.0000,-999.000,   25.00,  -999.0, 13.0605,-999.000
    31DSCG94_3,  P18N,   186,  1,    129,   1240,2,19940424,0706, 20.0017,-109.9983, 2670,    177.5,  12.4665,  34.7632,2,  34.7622,2,     15.3,2,      0.3,2,    29.68,2,    26.99,2,     0.01,2,     2.56,2,    0.356,6,    0.199,6, -999.000,5, -999.000,5,    0.486,2,   1.8058,2,     9.26,2,   -999.0,9,   -999.0,9,   2256.8,2,   1585.7,2,   2298.0,2,     7.45,2,   20.00,  -999.0,-999.0000,-999.000,   25.00,  -999.0, 12.4428,   0.006
    31DSCG94_3,  P18N,   186,  1,    128,   1114,2,19940424,0706, 20.0017,-109.9983, 2670,    199.0,  11.9879,  34.7460,2,  34.7460,2,     11.5,2,      0.3,2,    31.10,2,    26.23,2,     0.56,2,     2.61,2,    0.269,2,    0.152,2, -999.000,9, -999.000,9,    0.425,2,   1.8241,2,     8.67,2,   -999.0,9,   -999.0,9,   2261.1,2,   1630.1,2,   2298.0,2,     7.44,2,   20.00,  -999.0,-999.0000,-999.000,   25.00,  -999.0, 11.9620,   0.006
    31DSCG94_3,  P18N,   186,  1,    127,   1008,2,19940424,0706, 20.0017,-109.9983, 2670,    249.4,  11.2380,  34.7055,2,-999.0000,5,      7.3,2,      0.1,2,  -999.00,9,  -999.00,9,  -999.00,9,  -999.00,9,    0.185,2,    0.109,2, -999.000,5, -999.000,5,    0.329,2,   1.8187,2,     8.05,2,   -999.0,9,   -999.0,9,   2272.1,2,   1722.0,2,   2299.0,2,  -999.00,9,   20.00,  -999.0,-999.0000,-999.000, -999.00,  -999.0, 11.2068,   0.005
    31DSCG94_3,  P18N,   186,  1,    126,   1007,2,19940424,0706, 20.0017,-109.9983, 2670,    297.7,  10.2906,  34.6466,2,  34.6447,2,      4.5,2,      1.1,2,    40.36,2,    26.42,2,     0.17,2,     2.78,2,    0.163,3,    0.065,3, -999.000,9, -999.000,9,    0.220,2,   1.8192,2,     7.78,2,   -999.0,9,   -999.0,9,   2287.3,2,   1833.3,2,   2300.0,2,     7.39,2,   20.00,  -999.0,-999.0000,-999.000,   25.00,  -999.0, 10.2554,   0.005
    31DSCG94_3,  P18N,   186,  1,    125,   1256,2,19940424,0706, 20.0017,-109.9983, 2670,    347.0,   9.6597,  34.6126,2,  34.6129,2,      3.6,2,      0.9,2,    45.03,2,    27.56,2,     0.00,2,     2.85,2,    0.081,2,    0.037,2, -999.000,5, -999.000,5, -999.000,9,-999.0000,9,  -999.00,9,   -999.0,9,   -999.0,9,   2291.5,2,   1884.5,2,   2305.0,2,     7.38,2,   20.00,  -999.0,-999.0000,-999.000,   25.00,  -999.0,  9.6202,-999.000
    31DSCG94_3,  P18N,   186,  1,    123,   1220,2,19940424,0706, 20.0017,-109.9983, 2670,    400.1,   8.7961,  34.5626,2,  34.5614,2,      1.6,2,      2.2,2,    51.85,2,    30.21,2,     0.00,2,     2.92,2,    0.038,6,    0.021,6, -999.000,9, -999.000,9,    0.089,2,   1.8295,2,     8.02,2,   -999.0,9,   -999.0,9,   2301.6,2,   1959.0,2,   2310.0,2,     7.36,2,   20.00,  -999.0,-999.0000,-999.000,   25.00,  -999.0,  8.7529,   0.004
    31DSCG94_3,  P18N,   186,  1,    122,   1245,2,19940424,0706, 20.0017,-109.9983, 2670,    499.9,   7.4126,  34.5189,2,  34.5178,2,      1.5,2,      2.3,2,    65.06,2,    34.03,2,     0.00,2,     3.07,2,    0.018,2,    0.013,2, -999.000,9, -999.000,9,    0.037,2,   1.8504,2,     9.72,2,   -999.0,9,   -999.0,9,   2320.7,2,   2038.0,2,   2322.0,2,     7.35,2,   20.00,  -999.0,-999.0000,-999.000,   25.00,  -999.0,  7.3636,   0.004
    31DSCG94_3,  P18N,   186,  1,    121,   1206,2,19940424,0706, 20.0017,-109.9983, 2670,    599.6,   6.4994,  34.5072,2,  34.5114,2,      1.0,2,      1.7,2,    73.85,2,    37.83,2,     0.00,2,     3.17,2,    0.007,2,    0.006,2, -999.000,5, -999.000,5,    0.045,2,   1.8437,2,    12.12,2,   -999.0,9,   -999.0,9,   2331.4,2,   2079.7,2,   2332.0,2,     7.34,2,   20.00,  -999.0,-999.0000,-999.000,   25.00,  -999.0,  6.4443,   0.008
    31DSCG94_3,  P18N,   186,  1,    120,   1028,2,19940424,0706, 20.0017,-109.9983, 2670,    701.3,   5.9072,  34.5225,2,  34.5208,2,      0.7,2,      1.6,2,    81.17,2,    39.80,2,     0.00,2,     3.23,2,    0.013,2,    0.002,2, -999.000,5, -999.000,5,    0.033,2,   1.8419,2,    13.88,2,   -999.0,9,   -999.0,9,   2340.4,2,   2123.3,2,   2346.0,2,     7.33,2,   20.00,  -999.0,-999.0000,-999.000,   25.00,  -999.0,  5.8454,   0.005
    31DSCG94_3,  P18N,   186,  1,    119,   1248,2,19940424,0706, 20.0017,-109.9983, 2670,    799.8,   5.3078,  34.5219,2,  34.5214,2,      1.7,2,      3.0,2,    89.21,2,    42.04,2,     0.00,2,     3.28,2, -999.000,9, -999.000,9, -999.000,9, -999.000,9, -999.000,9,-999.0000,9,  -999.00,9,   -999.0,9,   -999.0,9,   2350.1,2,   2160.8,2,   2348.0,2,     7.33,2,   20.00,  -999.0,-999.0000,-999.000,   25.00,  -999.0,  5.2404,-999.000
    31DSCG94_3,  P18N,   186,  1,    118,   1115,2,19940424,0706, 20.0017,-109.9983, 2670,    901.3,   4.7652,  34.5322,2,  34.5311,2,      3.7,2,      6.5,2,    98.39,2,    43.47,2,     0.00,2,     3.30,2,    0.002,2,    0.001,2, -999.000,5, -999.000,5,    0.004,2,   1.8647,2,    18.88,2,   -999.0,9,   -999.0,9,   2356.5,3,   2164.4,2,   2340.0,2,     7.33,2,   20.00,  -999.0,-999.0000,-999.000,   25.00,  -999.0,  4.6923,   0.003
    31DSCG94_3,  P18N,   186,  1,    117,   1119,3,19940424,0706, 20.0017,-109.9983, 2670,    997.2,   4.4438,  34.5410,2,  34.5402,2,      7.3,2,     10.8,2,   105.04,2,    43.78,2,     0.00,2,     3.32,2, -999.000,9, -999.000,9, -999.000,9, -999.000,9, -999.000,9,-999.0000,9,  -999.00,9,   -999.0,9,   -999.0,9,   -999.0,9,   -999.0,9,   -999.0,9,  -999.00,9, -999.00,  -999.0,-999.0000,-999.000, -999.00,  -999.0,  4.3649,-999.000
    31DSCG94_3,  P18N,   186,  1,    116,   1036,2,19940424,0706, 20.0017,-109.9983, 2670,   1099.8,   3.9804,  34.5560,2,  34.5559,2,     14.7,2,     18.7,2,   117.14,2,    43.72,2,     0.00,2,     3.29,2,    0.003,2,   -0.002,2, -999.000,9, -999.000,9,    0.000,2,   1.8843,2,    22.48,2,   -999.0,9,   -999.0,9,   2368.5,2,   2081.3,2,   2375.0,6,     7.35,2,   20.00,  -999.0,-999.0000,-999.000,   25.00,  -999.0,  3.8965,   0.003
    31DSCG94_3,  P18N,   186,  1,    115,   1017,2,19940424,0706, 20.0017,-109.9983, 2670,   1199.8,   3.6881,  34.5678,2,  34.5681,2,     21.4,2,     25.6,2,   122.91,2,    43.56,2,     0.00,2,     3.23,2, -999.000,9, -999.000,9, -999.000,9, -999.000,9, -999.000,9,-999.0000,9,  -999.00,9,   -999.0,9,   -999.0,9,   2371.7,2,   2030.3,2,   2380.0,2,     7.36,2,   20.00,  -999.0,-999.0000,-999.000,   25.00,  -999.0,  3.5983,-999.000
    31DSCG94_3,  P18N,   186,  1,    114,   1016,2,19940424,0706, 20.0017,-109.9983, 2670,   1300.2,   3.4519,  34.5780,2,  34.5772,2,     25.3,2,     32.2,2,   125.97,2,    43.13,2,     0.00,2,     3.19,2,    0.000,2,    0.002,2, -999.000,5, -999.000,5,    0.002,2,   1.8968,2,    25.06,2,   -999.0,9,   -999.0,9,   2370.9,2,   1976.7,2,   2388.0,2,     7.37,2,   20.00,  -999.0,-999.0000,-999.000,   25.00,  -999.0,  3.3559,   0.003
    31DSCG94_3,  P18N,   186,  1,    113,   1209,2,19940424,0706, 20.0017,-109.9983, 2670,   1402.4,   3.1929,  34.5898,2,  34.5899,2,     34.0,2,     40.6,2,   131.96,2,    44.03,3,     0.00,2,     3.14,2, -999.000,9, -999.000,9, -999.000,9, -999.000,9, -999.000,9,-999.0000,9,  -999.00,9,   -999.0,9,   -999.0,9,   2371.6,2,   1897.4,2,   2395.0,2,     7.39,2,   20.00,  -999.0,-999.0000,-999.000,   25.00,  -999.0,  3.0910,-999.000
    31DSCG94_3,  P18N,   186,  1,    112,   1033,2,19940424,0706, 20.0017,-109.9983, 2670,   1498.9,   2.9521,  34.6011,2,  34.5994,2,     42.4,2,     48.9,2,   132.93,2,    42.42,2,     0.01,2,     3.00,2,    0.003,2,    0.002,2, -999.000,9, -999.000,9,   -0.003,2,   1.9044,2,    27.18,2,   -999.0,9,   -999.0,9,   2371.6,2,   1835.9,2,   2398.0,2,     7.40,2,   20.00,  -999.0,-999.0000,-999.000,   25.00,  -999.0,  2.8448,   0.003
    31DSCG94_3,  P18N,   186,  1,    111,   1240,2,19940424,0706, 20.0017,-109.9983, 2670,   1599.9,   2.7352,  34.6103,2,  34.6102,2,     51.4,2,     57.2,2,   138.14,2,    41.82,2,     0.01,2,     2.96,2, -999.000,9, -999.000,9, -999.000,9, -999.000,9, -999.000,9,-999.0000,9,  -999.00,9,   -999.0,9,   -999.0,9,   2372.4,2,   1775.1,2,   2407.0,2,     7.42,2,   20.00,  -999.0,-999.0000,-999.000,   25.00,  -999.0,  2.6221,-999.000
    31DSCG94_3,  P18N,   186,  1,    110,   1005,2,19940424,0706, 20.0017,-109.9983, 2670,   1693.2,   2.5670,  34.6183,2,  34.6199,2,     59.2,2,     64.0,2,   144.41,2,    41.20,2,     0.01,2,     3.00,2,    0.060,4,    0.000,2, -999.000,5, -999.000,5,    0.003,2,-999.0000,9,  -999.00,9,   -999.0,9,   -999.0,9,   2369.6,2,   1722.9,2,   2407.0,2,     7.43,2,   20.00,  -999.0,-999.0000,-999.000,   25.00,  -999.0,  2.4482,   0.003
    31DSCG94_3,  P18N,   186,  1,    109,   1611,2,19940424,0706, 20.0017,-109.9983, 2670,   1800.2,   2.4028,  34.6264,2,  34.6258,2,     67.6,2,     71.2,6,   149.02,2,    40.76,2,     0.00,2,     2.88,2, -999.000,9, -999.000,9, -999.000,9, -999.000,9, -999.000,9,-999.0000,9,  -999.00,9,   -999.0,9,   -999.0,9,   2371.2,2,   1667.4,2,   2415.0,2,     7.44,2,   20.00,  -999.0,-999.0000,-999.000,   25.00,  -999.0,  2.2773,-999.000
    31DSCG94_3,  P18N,   186,  1,    108,   1218,2,19940424,0706, 20.0017,-109.9983, 2670,   1901.1,   2.2697,  34.6332,2,  34.6329,2,     77.1,2,     77.9,2,   149.18,2,    40.14,2,     0.00,2,     2.81,2, -999.000,9, -999.000,9, -999.000,9, -999.000,9, -999.000,9,-999.0000,9,  -999.00,9,   -999.0,9,   -999.0,9,   2370.4,2,   -999.0,9,   2422.0,2,     7.46,2, -999.00,  -999.0,-999.0000,-999.000,   25.00,  -999.0,  2.1375,-999.000
    31DSCG94_3,  P18N,   186,  1,    107,   1257,2,19940424,0706, 20.0017,-109.9983, 2670,   2001.0,   2.1017,  34.6427,2,  34.6415,2,     85.5,2,     87.2,2,   149.82,2,    39.90,2,     0.00,2,     2.76,2,    0.002,2,    0.000,2, -999.000,9, -999.000,9, -999.000,9,-999.0000,9,  -999.00,9,   -999.0,9,   -999.0,9,   2367.2,2,   1551.0,2,   2425.0,2,     7.47,2,   20.00,  -999.0,-999.0000,-999.000,   25.00,  -999.0,  1.9636,-999.000
    31DSCG94_3,  P18N,   186,  1,    106,   1224,2,19940424,0706, 20.0017,-109.9983, 2670,   2099.4,   2.0108,  34.6479,2,  34.6485,2,     93.1,2,     92.4,2,   148.15,2,    39.31,2,     0.01,2,     2.74,2, -999.000,9, -999.000,9, -999.000,9, -999.000,9, -999.000,9,-999.0000,9,  -999.00,9,   -999.0,9,   -999.0,9,   2365.2,2,   1512.8,2,   2423.0,2,     7.48,2,   20.00,  -999.0,-999.0000,-999.000,   25.00,  -999.0,  1.8657,-999.000
    31DSCG94_3,  P18N,   186,  1,    105,   1246,2,19940424,0706, 20.0017,-109.9983, 2670,   2201.1,   1.9095,  34.6544,2,  34.6545,2,     97.6,2,     99.8,2,   156.31,2,    39.30,2,     0.00,2,     2.71,2,    0.004,2,    0.000,2, -999.000,5, -999.000,5, -999.000,9,-999.0000,9,  -999.00,9,   -999.0,9,   -999.0,9,   2363.5,2,   1473.1,2,   2420.0,2,     7.50,2,   20.00,  -999.0,-999.0000,-999.000,   25.00,  -999.0,  1.7573,-999.000
    31DSCG94_3,  P18N,   186,  1,    104,   1217,2,19940424,0706, 20.0017,-109.9983, 2670,   2299.3,   1.8241,  34.6593,2,  34.6606,2,    106.3,2,    104.5,2,   158.81,2,    38.75,2,     0.00,2,     2.67,2, -999.000,9, -999.000,9, -999.000,9, -999.000,9, -999.000,9,-999.0000,9,  -999.00,9,   -999.0,9,   -999.0,9,   2360.6,2,   1427.1,2,   2425.0,2,     7.51,2,   20.00,  -999.0,-999.0000,-999.000,   25.00,  -999.0,  1.6648,-999.000
    31DSCG94_3,  P18N,   186,  1,    102,   1223,2,19940424,0706, 20.0017,-109.9983, 2670,   2398.9,   1.7808,  34.6621,2,  34.6621,2,    111.3,2,    107.8,2,   156.86,6,    38.50,6,     0.01,6,     2.61,6, -999.000,9, -999.000,9, -999.000,9, -999.000,9, -999.000,9,-999.0000,9,  -999.00,9,   -999.0,9,   -999.0,9,   2360.5,2,   1401.1,2,   2426.0,2,     7.51,2,   20.00,  -999.0,-999.0000,-999.000,   25.00,  -999.0,  1.6135,-999.000
    31DSCG94_3,  P18N,   186,  1,    103,   9999,2,19940424,0706, 20.0017,-109.9983, 2670,   2400.2,   1.7818,  34.6623,2,  34.6635,2,    111.4,2,    107.5,2,   156.81,2,    38.26,2,     0.00,2,     2.63,2,    0.000,2,    0.000,2, -999.000,5, -999.000,5, -999.000,9,-999.0000,9,  -999.00,9,   -999.0,9,   -999.0,9,   2359.1,2,   1404.2,2,   2429.0,2,     7.51,2,   20.00,  -999.0,-999.0000,-999.000,   25.00,  -999.0,  1.6144,-999.000
    31DSCG94_3,  P18N,   186,  1,    101,   1041,2,19940424,0706, 20.0017,-109.9983, 2670,   2589.4,   1.7278,  34.6660,2,  34.6673,2,    113.3,2,    111.5,2,   155.27,2,    38.14,2,     0.00,2,     2.57,2,    0.001,2,    0.000,2, -999.000,9, -999.000,9, -999.000,9,-999.0000,9,  -999.00,9,   -999.0,9,   -999.0,9,   2358.3,2,   1368.8,2,   2424.0,2,     7.52,2,   20.00,  -999.0,-999.0000,-999.000,   25.00,  -999.0,  1.5444,-999.000