BOTTLE,20220630CCHSIOAMB
EXPOCODE,SECT_ID,STNNBR,CASTNO,SAMPNO,BTLNBR,BTLNBR_FLAG_W,DATE,TIME,LATITUDE,LONGITUDE,DEPTH,CTDPRS,CTDTMP,CTDSAL,CTDSAL_FLAG_W,SALNTY,SALNTY_FLAG_W,CTDOXY,CTDOXY_FLAG_W,OXYGEN,OXYGEN_FLAG_W,SILCAT,SILCAT_FLAG_W,NITRAT,NITRAT_FLAG_W,NITRIT,NITRIT_FLAG_W,PHSPHT,PHSPHT_FLAG_W,CFC-11,CFC-11_FLAG_W,CFC-12,CFC-12_FLAG_W,CFC113,CFC113_FLAG_W,CCL4,CCL4_FLAG_W,TRITUM,TRITUM_FLAG_W,HELIUM,HELIUM_FLAG_W,DELHE3,DELHE3_FLAG_W,DELC14,DELC14_FLAG_W,DELC13,DELC13_FLAG_W,TCARBN,TCARBN_FLAG_W,PCO2,PCO2_FLAG_W,ALKALI,ALKALI_FLAG_W,PH,PH_FLAG_W,PCO2TMP,C14ERR,HELIER,DELHER,PH_TMP,C13ERR,THETA,TRITER
,,,,,,,,,,,,DBAR,ITS-90,PSS-78,,PSS-78,,UMOL/KG,,UMOL/KG,,UMOL/KG,,UMOL/KG,,UMOL/KG,,UMOL/KG,,PMOL/KG,,PMOL/KG,,PMOL/KG,,PMOL/KG,,TU,,NMOL/KG,,PERCNT,,/MILLE,,/MILLE,,UMOL/KG,,UATM,,UMOL/KG,,,,DEG C,/MILLE,NMOL/KG,PERCNT,DEG C,/MILLE,DEG C,TU
    31DSCG94_3,  P18N,   190,  1,    136,   1025,2,19940425,0507, 21.9985,-110.0000, 3165,      9.6,  20.7144,  34.3152,2,  34.3162,2,    264.5,3,    227.1,2,     1.28,2,     0.09,2,     0.00,2,     0.31,2,    2.370,2,    1.299,2, -999.000,5, -999.000,5, -999.000,9,   1.7862,2,    -0.78,2,   -999.0,9,      1.8,2,   2006.1,2,    357.8,2,   2278.0,6,     8.02,2,   20.00,  -999.0,-999.0000,-999.000,   25.00,  -999.0, 20.7126,-999.000
    31DSCG94_3,  P18N,   190,  1,    135,   1247,2,19940425,0507, 21.9985,-110.0000, 3165,     22.9,  20.6848,  34.3089,2,  34.3176,2,    222.0,2,    226.6,2,     1.19,2,     0.00,2,     0.00,2,     0.29,2,    2.357,2,    1.286,2, -999.000,5, -999.000,5, -999.000,9,-999.0000,9,  -999.00,9,     62.3,2,      1.8,2,   2009.3,2,    357.6,2,   2277.0,3,     8.02,2,   20.00,     3.8,-999.0000,-999.000,   25.00,  -999.0, 20.6805,-999.000
    31DSCG94_3,  P18N,   190,  1,    134,   1216,2,19940425,0507, 21.9985,-110.0000, 3165,     50.5,  18.8417,  34.0929,2,  34.0984,2,    230.5,2,    239.9,2,     3.48,2,     0.00,2,     0.00,2,     0.44,2,    2.562,2,    1.395,2, -999.000,5, -999.000,5,    1.801,2,   1.7688,2,    -1.01,2,     58.2,2,      1.6,2,   2021.6,2,    392.7,2,   2265.0,2,     7.97,2,   20.00,     5.6,-999.0000,-999.000,   25.00,  -999.0, 18.8328,   0.013
    31DSCG94_3,  P18N,   190,  1,    133,   1244,2,19940425,0507, 21.9985,-110.0000, 3165,     74.6,  18.2627,  34.1284,2,  34.1227,2,    270.9,3,    233.8,2,     5.41,2,     0.20,2,     0.02,2,     0.53,2,    2.556,6,    1.359,6, -999.000,5, -999.000,5, -999.000,5,   1.7715,2,    -0.82,2,     39.3,2,      1.4,2,   2036.9,2,    429.6,2,   2270.0,2,     7.94,2,   20.00,     3.8,-999.0000,-999.000,   25.00,  -999.0, 18.2499,-999.000
    31DSCG94_3,  P18N,   190,  1,    132,   1003,2,19940425,0507, 21.9985,-110.0000, 3165,     99.3,  15.2770,  34.3133,2,  34.6231,4,     54.5,2,     75.8,2,    17.00,2,    19.21,2,     0.02,2,     1.81,2,    1.863,2,    0.970,2, -999.000,5, -999.000,5, -999.000,9,-999.0000,9,  -999.00,9,     24.4,2,      0.2,2,   2170.7,2,    989.3,2,   2268.0,2,     7.62,2,   20.00,     3.3,-999.0000,-999.000,   25.00,  -999.0, 15.2619,-999.000
    31DSCG94_3,  P18N,   190,  1,    131,   1211,2,19940425,0507, 21.9985,-110.0000, 3165,    125.4,  13.6074,  34.5653,2,  34.5640,2,     35.8,2,     29.6,2,    26.12,2,    25.73,2,     0.00,2,     2.34,2,    1.149,2,    0.595,2, -999.000,5, -999.000,5, -999.000,9,   1.8455,2,    15.91,2,   -999.0,9,   -999.0,9,   2227.1,2,   1360.7,2,   2286.0,2,     7.50,2,   20.00,  -999.0,-999.0000,-999.000,   25.00,  -999.0, 13.5898,-999.000
    31DSCG94_3,  P18N,   190,  1,    130,   1241,2,19940425,0507, 21.9985,-110.0000, 3165,    149.5,  12.4542,  34.5324,2,  34.5309,2,     39.2,2,     32.7,2,    27.86,2,    26.14,2,     0.00,2,     2.38,2,    0.955,2,    0.498,2, -999.000,5, -999.000,5, -999.000,9,-999.0000,9,  -999.00,9,   -999.0,5,     -0.1,3,   2230.6,2,   1420.9,2,   2281.0,2,     7.49,2,   20.00,  -999.0,-999.0000,-999.000,   25.00,  -999.0, 12.4344,-999.000
    31DSCG94_3,  P18N,   190,  1,    129,   1240,2,19940425,0507, 21.9985,-110.0000, 3165,    172.8,  12.0156,  34.6759,2,  34.6761,2,     60.0,2,      8.6,2,    31.69,2,    27.58,2,     0.00,2,     2.59,2,    0.476,6,    0.258,6, -999.000,5, -999.000,5,    0.634,2,   1.8196,2,    10.62,2,   -999.0,9,   -999.0,9,   2255.8,2,   1587.2,2,   2290.0,2,     7.44,2,   20.00,  -999.0,-999.0000,-999.000,   25.00,  -999.0, 11.9931,   0.007
    31DSCG94_3,  P18N,   190,  1,    128,   1114,2,19940425,0507, 21.9985,-110.0000, 3165,    199.1,  11.6456,  34.6875,2,  34.6862,2,     18.9,2,      4.7,2,    33.56,2,    27.47,2,     0.00,2,     2.64,2,    0.318,2,    0.175,2, -999.000,5, -999.000,5,    0.507,2,-999.0000,9,  -999.00,9,    -68.4,2,     -0.2,2,   2262.4,2,   1649.4,2,   2298.0,2,     7.43,2,   20.00,     3.8,-999.0000,-999.000,   25.00,  -999.0, 11.6202,   0.006
    31DSCG94_3,  P18N,   190,  1,    127,   1008,2,19940425,0507, 21.9985,-110.0000, 3165,    250.4,  10.8435,  34.6444,2,  34.6508,2,     14.4,2,      3.5,2,    37.43,2,    26.96,2,     0.00,2,     2.72,2,    0.199,2,    0.112,2, -999.000,5, -999.000,5,    0.364,2,-999.0000,9,  -999.00,9,   -999.0,9,   -999.0,9,   2270.9,2,   1745.3,2,   2298.0,2,     7.41,2,   20.00,  -999.0,-999.0000,-999.000,   25.00,  -999.0, 10.8130,   0.006
    31DSCG94_3,  P18N,   190,  1,    126,   1007,2,19940425,0507, 21.9985,-110.0000, 3165,    301.2,  10.0200,  34.5879,2,  34.5862,2,     10.7,2,   -999.0,9,    41.81,2,    27.77,2,     0.00,2,     2.76,2,    0.140,2,    0.073,2, -999.000,5, -999.000,5,    0.340,2,   1.8098,2,     8.28,2,    -84.1,2,     -0.3,2,   2278.6,2,   1815.9,2,   2296.0,2,     7.39,2,   20.00,     2.9,-999.0000,-999.000,   25.00,  -999.0,  9.9850,   0.007
    31DSCG94_3,  P18N,   190,  1,    125,   1256,2,19940425,0507, 21.9985,-110.0000, 3165,    349.9,   9.3973,  34.5527,2,  34.5529,2,      6.4,2,      5.1,2,    45.49,2,    29.06,2,     0.00,2,     2.83,2,    0.089,6,    0.047,6, -999.000,5, -999.000,5, -999.000,9,-999.0000,9,  -999.00,9,   -999.0,9,   -999.0,9,   2285.2,2,   1874.6,2,   2292.0,3,     7.38,2,   20.00,  -999.0,-999.0000,-999.000,   25.00,  -999.0,  9.3582,-999.000
    31DSCG94_3,  P18N,   190,  1,    123,   1220,2,19940425,0507, 21.9985,-110.0000, 3165,    398.8,   8.5293,  34.5178,2,  34.5193,2,      5.4,2,      5.4,2,    51.95,2,    31.25,2,     0.00,2,     2.93,2,    0.045,2,    0.025,2, -999.000,5, -999.000,5,    0.126,2,   1.8482,2,     8.04,2,   -110.6,2,     -0.3,2,   2294.8,2,   1953.3,2,   2302.0,2,     7.36,2,   20.00,     4.1,-999.0000,-999.000,   25.00,  -999.0,  8.4871,   0.004
    31DSCG94_3,  P18N,   190,  1,    122,   1245,2,19940425,0507, 21.9985,-110.0000, 3165,    500.0,   7.3549,  34.4909,2,  34.4896,2,      3.0,2,   -999.0,9,    64.30,2,    35.25,2,     0.00,2,     3.07,2,    0.015,2,   -0.002,2, -999.000,9, -999.000,9,    0.034,2,   1.8397,2,     9.11,2,   -145.2,2,     -0.3,2,   2312.1,2,   2036.0,2,   2320.0,2,     7.34,2,   20.00,     2.5,-999.0000,-999.000,   25.00,  -999.0,  7.3061,   0.004
    31DSCG94_3,  P18N,   190,  1,    121,   1206,2,19940425,0507, 21.9985,-110.0000, 3165,    598.2,   6.5392,  34.4882,2,  34.4874,2,      2.1,2,      4.2,6,    76.49,2,    37.88,2,     0.00,2,     3.14,2,    0.030,2,    0.005,2, -999.000,5, -999.000,5,    0.018,2,   1.8491,2,    11.49,2,   -147.5,2,     -0.4,2,   2325.1,2,   2090.3,2,   2329.0,2,     7.34,2,   20.00,     4.1,-999.0000,-999.000,   25.00,  -999.0,  6.4841,   0.003
    31DSCG94_3,  P18N,   190,  1,    120,   1028,2,19940425,0507, 21.9985,-110.0000, 3165,    700.5,   5.8418,  34.4882,2,  34.4871,2,      2.3,2,      3.5,2,    86.61,2,    40.33,2,     0.01,2,     3.23,2,    0.010,2,    0.002,2, -999.000,5, -999.000,5, -999.000,9,-999.0000,9,  -999.00,9,   -172.6,2,     -0.4,3,   2335.1,2,   2123.2,2,   2330.0,2,     7.33,2,   20.00,     2.5,-999.0000,-999.000,   25.00,  -999.0,  5.7805,-999.000
    31DSCG94_3,  P18N,   190,  1,    119,   1248,2,19940425,0507, 21.9985,-110.0000, 3165,    804.7,   5.2216,  34.5012,2,  34.5015,2,      3.9,2,      5.8,2,    96.13,2,    42.07,2,     0.00,2,     3.27,2,    0.004,2,   -0.002,2, -999.000,5, -999.000,5,    0.006,2,   1.8549,2,    16.12,2,   -178.5,2,     -0.4,2,   2345.2,2,   2141.9,2,   2347.0,2,     7.33,2,   20.00,     3.0,-999.0000,-999.000,   25.00,  -999.0,  5.1544,   0.003
    31DSCG94_3,  P18N,   190,  1,    118,   1115,2,19940425,0507, 21.9985,-110.0000, 3165,    895.5,   4.8235,  34.5177,2,  34.5171,2,      5.9,2,      7.4,2,   102.00,2,    42.82,2,     0.00,2,     3.28,2,    0.009,2,   -0.002,2, -999.000,5, -999.000,5, -999.000,9,-999.0000,9,  -999.00,9,   -191.7,2,     -0.4,2,   2354.9,2,   2148.9,2,   2352.0,2,     7.33,2,   20.00,     4.5,-999.0000,-999.000,   25.00,  -999.0,  4.7508,-999.000
    31DSCG94_3,  P18N,   190,  1,    117,   1119,2,19940425,0507, 21.9985,-110.0000, 3165,    997.2,   4.4246,  34.5339,2,  34.5347,2,      6.2,2,     11.9,2,   108.89,2,    43.41,2,     0.00,2,     3.30,2,    0.002,2,   -0.001,2, -999.000,5, -999.000,5,    0.001,2,   1.8710,2,    20.93,2,   -201.5,2,     -0.5,2,   2362.4,3,   2132.5,2,   2368.0,6,     7.33,2,   20.00,     5.5,-999.0000,-999.000,   25.00,  -999.0,  4.3459,   0.003
    31DSCG94_3,  P18N,   190,  1,    116,   1036,2,19940425,0507, 21.9985,-110.0000, 3165,   1102.6,   4.0845,  34.5512,2,  34.5503,2,     12.0,2,     16.5,2,   119.35,2,    43.21,2,     0.00,2,     3.31,2, -999.000,5, -999.000,5, -999.000,9, -999.000,9, -999.000,9,-999.0000,9,  -999.00,9,   -999.0,9,   -999.0,9,   2367.6,3,   2103.8,2,   2373.0,2,     7.34,2,   20.00,  -999.0,-999.0000,-999.000,   25.00,  -999.0,  3.9994,-999.000
    31DSCG94_3,  P18N,   190,  1,    115,   1017,2,19940425,0507, 21.9985,-110.0000, 3165,   1198.0,   3.8176,  34.5576,2,  34.5571,2,     17.5,2,     22.2,2,   125.01,2,    43.47,2,     0.00,2,     3.27,2,    0.003,2,   -0.002,2, -999.000,5, -999.000,5,    0.005,2,   1.8940,2,    24.25,2,   -219.3,2,     -0.4,2,   2370.3,3,   -999.0,9,   2384.0,2,     7.35,2, -999.00,     2.1,-999.0000,-999.000,   25.00,  -999.0,  3.7267,   0.003
    31DSCG94_3,  P18N,   190,  1,    114,   1016,2,19940425,0507, 21.9985,-110.0000, 3165,   1399.5,   3.1680,  34.5922,2,  34.5917,2,     33.6,2,     39.5,2,   140.92,2,    42.21,2,     0.00,2,     3.17,2, -999.000,5, -999.000,5, -999.000,9, -999.000,9, -999.000,9,   1.9120,6,    29.50,6,   -226.8,2,     -0.4,2,   2376.0,3,   1910.2,2,   2398.0,2,     7.38,2,   20.00,     2.9,-999.0000,-999.000,   25.00,  -999.0,  3.0666,-999.000
    31DSCG94_3,  P18N,   190,  1,    113,   1209,2,19940425,0507, 21.9985,-110.0000, 3165,   1498.9,   3.0736,  34.5969,2,-999.0000,5,     37.3,2,     43.2,2,   140.13,2,    43.54,3,     0.01,2,     3.34,3,    0.005,2,    0.000,2, -999.000,5, -999.000,5,    0.012,2,   1.9200,2,    29.94,2,   -999.0,9,   -999.0,9,   2375.1,3,   -999.0,9,   2406.0,2,  -999.00,9, -999.00,  -999.0,-999.0000,-999.000, -999.00,  -999.0,  2.9649,   0.003
    31DSCG94_3,  P18N,   190,  1,    112,   1033,2,19940425,0507, 21.9985,-110.0000, 3165,   1573.7,   2.9307,  34.6031,2,  34.6032,2,     42.4,2,     42.4,2,   138.79,2,    42.59,2,     0.00,2,     3.12,2, -999.000,5, -999.000,5, -999.000,9, -999.000,9, -999.000,9,   1.9230,6,    29.16,6,   -233.7,2,     -0.3,2,   2373.5,3,   1848.2,2,   2408.0,2,     7.40,2,   20.00,     5.8,-999.0000,-999.000,   25.00,  -999.0,  2.8174,-999.000
    31DSCG94_3,  P18N,   190,  1,    111,   1240,2,19940425,0507, 21.9985,-110.0000, 3165,   1615.6,   2.8004,  34.6083,2,-999.0000,5,     47.8,2,   -999.0,9,  -999.00,9,  -999.00,9,  -999.00,9,  -999.00,9, -999.000,5, -999.000,5, -999.000,9, -999.000,9, -999.000,9,-999.0000,9,  -999.00,9,   -999.0,9,   -999.0,9,   -999.0,9,   -999.0,9,   -999.0,9,  -999.00,9, -999.00,  -999.0,-999.0000,-999.000, -999.00,  -999.0,  2.6852,-999.000
    31DSCG94_3,  P18N,   190,  1,    110,   1005,2,19940425,0507, 21.9985,-110.0000, 3165,   1799.9,   2.4824,  34.6254,2,  34.3139,4,     62.9,2,     68.0,2,   147.60,2,    41.29,2,     0.00,2,     2.99,2,    0.011,2,    0.002,2, -999.000,5, -999.000,5,    0.001,2,   1.9310,2,    31.36,2,   -245.6,2,     -0.2,2,   2369.2,3,   1693.4,2,   2411.0,2,     7.44,2,   20.00,     2.4,-999.0000,-999.000,   25.00,  -999.0,  2.3558,   0.003
    31DSCG94_3,  P18N,   190,  1,    109,   1611,2,19940425,0507, 21.9985,-110.0000, 3165,   2000.7,   2.1840,  34.6398,2,  34.6399,2,     81.1,2,     82.2,2,   151.94,2,    40.48,2,     0.00,2,     2.89,2, -999.000,9, -999.000,9, -999.000,9, -999.000,9, -999.000,9,   1.9380,2,    32.81,2,   -244.4,2,     -0.2,2,   2367.7,3,   1591.8,2,   2421.0,2,     7.47,2,   20.00,     2.5,-999.0000,-999.000,   25.00,  -999.0,  2.0446,-999.000
    31DSCG94_3,  P18N,   190,  1,    108,   1218,3,19940425,0507, 21.9985,-110.0000, 3165,   2200.1,   1.9312,  34.6542,2,  34.6538,2,     96.5,2,     95.5,2,   156.07,2,    39.08,2,     0.00,2,     2.77,2, -999.000,5, -999.000,5, -999.000,9, -999.000,9, -999.000,9,-999.0000,9,  -999.00,9,   -999.0,9,   -999.0,9,   2366.9,3,   1500.8,2,   2414.0,2,  -999.00,9,   20.00,  -999.0,-999.0000,-999.000, -999.00,  -999.0,  1.7788,-999.000
    31DSCG94_3,  P18N,   190,  1,    107,   1257,2,19940425,0507, 21.9985,-110.0000, 3165,   2400.5,   1.8894,  34.6578,2,  34.6571,2,    104.2,2,     99.0,2,   154.47,2,    39.20,2,     0.00,2,     2.74,2, -999.000,9, -999.000,9, -999.000,9, -999.000,9, -999.000,9,   1.9460,2,    35.03,2,   -243.0,2,     -0.2,2,   2365.9,3,   1472.7,2,   2414.0,2,     7.50,2,   20.00,     3.6,-999.0000,-999.000,   25.00,  -999.0,  1.7201,-999.000
    31DSCG94_3,  P18N,   190,  1,    106,   1224,2,19940425,0507, 21.9985,-110.0000, 3165,   2599.8,   1.8560,  34.6607,2,  34.6600,2,    111.0,2,    101.0,2,   155.36,2,    39.24,2,     0.00,2,     2.73,2, -999.000,9, -999.000,9, -999.000,9, -999.000,9, -999.000,9,   1.9440,2,    34.29,2,   -999.0,9,   -999.0,9,   2362.5,3,   1448.2,2,   2427.0,2,     7.50,2,   20.00,  -999.0,-999.0000,-999.000,   25.00,  -999.0,  1.6692,-999.000
    31DSCG94_3,  P18N,   190,  1,    105,   1246,2,19940425,0507, 21.9985,-110.0000, 3165,   2799.1,   1.7556,  34.6656,2,  34.6651,2,    114.2,2,    109.8,2,   159.88,2,    38.73,2,     0.00,2,     2.72,2,    0.001,2,    0.001,2, -999.000,5, -999.000,5, -999.000,9,   1.9240,2,    28.18,2,   -999.0,9,   -999.0,9,   2359.1,2,   1393.4,2,   2429.0,2,     7.52,2,   20.00,  -999.0,-999.0000,-999.000,   25.00,  -999.0,  1.5523,-999.000
    31DSCG94_3,  P18N,   190,  1,    103,   9999,2,19940425,0507, 21.9985,-110.0000, 3165,   2998.7,   1.6858,  34.6697,2,  34.6700,2,    116.9,2,    114.1,2,   165.21,2,    39.76,3,     0.00,2,     2.68,2, -999.000,9, -999.000,9, -999.000,9, -999.000,9, -999.000,9,   1.9280,2,    24.87,2,   -999.0,9,   -999.0,9,   2356.5,2,   1359.1,2,   2429.0,2,     7.53,2,   20.00,  -999.0,-999.0000,-999.000,   25.00,  -999.0,  1.4650,-999.000
    31DSCG94_3,  P18N,   190,  1,    104,   1217,2,19940425,0507, 21.9985,-110.0000, 3165,   2999.0,   1.6858,  34.6698,2,  34.6704,2,    116.9,2,    114.2,2,   162.06,6,    38.44,6,     0.00,6,     2.69,6, -999.000,9, -999.000,9, -999.000,9, -999.000,9, -999.000,9,-999.0000,9,  -999.00,9,   -236.9,2,     -0.1,2,   2358.0,2,   1364.2,2,   2428.0,2,     7.53,2,   20.00,     3.1,-999.0000,-999.000,   25.00,  -999.0,  1.4650,-999.000
    31DSCG94_3,  P18N,   190,  1,    102,   1223,2,19940425,0507, 21.9985,-110.0000, 3165,   3098.9,   1.6678,  34.6714,2,  34.6716,2,    117.2,2,    115.3,2,   165.58,2,    38.37,2,     0.01,2,     2.68,2,    0.006,2,    0.002,2, -999.000,5, -999.000,5, -999.000,9,-999.0000,9,  -999.00,9,   -241.1,2,     -0.2,2,   2357.7,2,   1334.1,2,   2429.0,2,     7.53,2,   20.00,     3.3,-999.0000,-999.000,   25.00,  -999.0,  1.4377,-999.000
    31DSCG94_3,  P18N,   190,  1,    101,   1041,2,19940425,0507, 21.9985,-110.0000, 3165,   3173.8,   1.6681,  34.6717,2,-999.0000,5,    119.0,2,    115.7,6,  -999.00,9,  -999.00,9,  -999.00,9,  -999.00,9, -999.000,9, -999.000,9, -999.000,9, -999.000,9, -999.000,9,   1.9150,2,    23.68,2,   -999.0,9,   -999.0,9,   2355.9,2,   1343.3,2,   2430.0,2,  -999.00,9,   20.00,  -999.0,-999.0000,-999.000, -999.00,  -999.0,  1.4306,-999.000