BOTTLE,20220630CCHSIOAMB
EXPOCODE,SECT_ID,STNNBR,CASTNO,SAMPNO,BTLNBR,BTLNBR_FLAG_W,DATE,TIME,LATITUDE,LONGITUDE,DEPTH,CTDPRS,CTDTMP,CTDSAL,CTDSAL_FLAG_W,SALNTY,SALNTY_FLAG_W,CTDOXY,CTDOXY_FLAG_W,OXYGEN,OXYGEN_FLAG_W,SILCAT,SILCAT_FLAG_W,NITRAT,NITRAT_FLAG_W,NITRIT,NITRIT_FLAG_W,PHSPHT,PHSPHT_FLAG_W,CFC-11,CFC-11_FLAG_W,CFC-12,CFC-12_FLAG_W,CFC113,CFC113_FLAG_W,CCL4,CCL4_FLAG_W,TRITUM,TRITUM_FLAG_W,HELIUM,HELIUM_FLAG_W,DELHE3,DELHE3_FLAG_W,DELC14,DELC14_FLAG_W,DELC13,DELC13_FLAG_W,TCARBN,TCARBN_FLAG_W,PCO2,PCO2_FLAG_W,ALKALI,ALKALI_FLAG_W,PH,PH_FLAG_W,PCO2TMP,C14ERR,HELIER,DELHER,PH_TMP,C13ERR,THETA,TRITER
,,,,,,,,,,,,DBAR,ITS-90,PSS-78,,PSS-78,,UMOL/KG,,UMOL/KG,,UMOL/KG,,UMOL/KG,,UMOL/KG,,UMOL/KG,,PMOL/KG,,PMOL/KG,,PMOL/KG,,PMOL/KG,,TU,,NMOL/KG,,PERCNT,,/MILLE,,/MILLE,,UMOL/KG,,UATM,,UMOL/KG,,,,DEG C,/MILLE,NMOL/KG,PERCNT,DEG C,/MILLE,DEG C,TU
    31DSCG94_3,  P18N,   166,  1,    136,   1025,2,19940419,0426,  9.0017,-110.1667, 3691,     10.3,  28.7303,  34.0102,2,  34.0146,2,    261.1,3,    198.2,6,     0.01,2,     0.06,2,     0.00,2,     0.13,2, -999.000,9, -999.000,9, -999.000,9, -999.000,9, -999.000,9,-999.0000,9,  -999.00,9,   -999.0,9,      1.6,2,   1913.0,2,    259.3,2,   2232.0,6,     8.11,2,   20.00,  -999.0,-999.0000,-999.000,   25.00,  -999.0, 28.7278,-999.000
    31DSCG94_3,  P18N,   166,  1,    135,   1247,2,19940419,0426,  9.0017,-110.1667, 3691,     23.7,  28.7070,  34.0010,2,  34.0101,2,    193.2,2,    197.8,2,     0.00,2,     0.01,2,     0.00,2,     0.13,2, -999.000,9, -999.000,9, -999.000,9, -999.000,9, -999.000,9,-999.0000,9,  -999.00,9,   -999.0,9,   -999.0,9,   -999.0,9,   -999.0,9,   -999.0,9,     8.11,2, -999.00,  -999.0,-999.0000,-999.000,   25.00,  -999.0, 28.7014,-999.000
    31DSCG94_3,  P18N,   166,  1,    134,   1216,2,19940419,0426,  9.0017,-110.1667, 3691,     49.5,  28.6330,  33.9849,2,  33.9927,2,    198.3,2,    197.3,2,     0.00,2,     0.00,2,     0.00,2,     0.15,2, -999.000,9, -999.000,9, -999.000,9, -999.000,9, -999.000,9,-999.0000,9,  -999.00,9,   -999.0,9,   -999.0,9,   1909.0,3,    260.0,2,   2233.0,2,     7.94,4,   20.00,  -999.0,-999.0000,-999.000,   25.00,  -999.0, 28.6212,-999.000
    31DSCG94_3,  P18N,   166,  1,    133,   1244,2,19940419,0426,  9.0017,-110.1667, 3691,     74.0,  22.7367,  34.3086,2,  34.2913,2,     29.0,2,    110.0,2,     5.30,2,     9.41,2,     2.25,2,     1.15,2, -999.000,9, -999.000,9, -999.000,9, -999.000,9, -999.000,9,-999.0000,9,  -999.00,9,   -999.0,9,   -999.0,9,   -999.0,9,   -999.0,9,   -999.0,9,     7.86,2, -999.00,  -999.0,-999.0000,-999.000,   25.00,  -999.0, 22.7218,-999.000
    31DSCG94_3,  P18N,   166,  1,    132,   1003,2,19940419,0426,  9.0017,-110.1667, 3691,     99.6,  14.7683,  34.7616,2,  34.7643,2,     51.0,2,     15.1,2,    20.86,2,    28.61,2,     0.06,2,     2.38,3, -999.000,9, -999.000,9, -999.000,9, -999.000,9, -999.000,9,-999.0000,9,  -999.00,9,   -999.0,9,   -999.0,9,   2216.5,2,   1239.4,2,   2283.0,2,     7.53,2,   20.00,  -999.0,-999.0000,-999.000,   25.00,  -999.0, 14.7534,-999.000
    31DSCG94_3,  P18N,   166,  1,    131,   1211,2,19940419,0426,  9.0017,-110.1667, 3691,    124.4,  13.3200,  34.7769,2,  34.7767,2,     39.6,2,     30.9,2,    23.39,2,    28.26,2,     0.00,2,     2.48,3, -999.000,9, -999.000,9, -999.000,9, -999.000,9, -999.000,9,-999.0000,9,  -999.00,9,   -999.0,9,   -999.0,9,   -999.0,9,   -999.0,9,   -999.0,9,     7.55,2, -999.00,  -999.0,-999.0000,-999.000,   25.00,  -999.0, 13.3027,-999.000
    31DSCG94_3,  P18N,   166,  1,    130,   1241,2,19940419,0426,  9.0017,-110.1667, 3691,    150.8,  12.4055,  34.7809,2,  34.7804,2,     22.7,2,     30.6,2,    25.52,2,    29.44,2,     0.00,2,     3.77,4, -999.000,9, -999.000,9, -999.000,9, -999.000,9, -999.000,9,-999.0000,9,  -999.00,9,   -999.0,9,   -999.0,9,   2225.0,2,   1231.9,2,   2297.0,2,     7.53,2,   20.00,  -999.0,-999.0000,-999.000,   25.00,  -999.0, 12.3855,-999.000
    31DSCG94_3,  P18N,   166,  1,    129,   1240,2,19940419,0426,  9.0017,-110.1667, 3691,    175.8,  12.0104,  34.7814,2,  34.7803,2,     26.3,2,     25.4,2,    26.68,2,    30.10,2,     0.00,2,     2.95,4, -999.000,9, -999.000,9, -999.000,9, -999.000,9, -999.000,9,-999.0000,9,  -999.00,9,   -999.0,9,   -999.0,9,   -999.0,9,   -999.0,9,   -999.0,9,     7.51,2, -999.00,  -999.0,-999.0000,-999.000,   25.00,  -999.0, 11.9875,-999.000
    31DSCG94_3,  P18N,   166,  1,    128,   1032,2,19940419,0426,  9.0017,-110.1667, 3691,    200.5,  11.6365,  34.7641,2,  34.7642,2,     30.7,2,     32.1,2,    27.69,2,    30.42,2,     0.00,2,     2.29,2, -999.000,9, -999.000,9, -999.000,9, -999.000,9, -999.000,9,-999.0000,9,  -999.00,9,   -999.0,9,   -999.0,9,   2233.2,2,   1303.3,2,   2299.0,2,     7.52,2,   20.00,  -999.0,-999.0000,-999.000,   25.00,  -999.0, 11.6109,-999.000
    31DSCG94_3,  P18N,   166,  1,    127,   1008,2,19940419,0426,  9.0017,-110.1667, 3691,    252.6,  11.1531,  34.7490,2,  34.7490,2,     30.1,2,     31.6,2,    29.51,2,    30.54,2,     0.00,2,     2.32,2, -999.000,9, -999.000,9, -999.000,9, -999.000,9, -999.000,9,-999.0000,9,  -999.00,9,   -999.0,9,   -999.0,9,   2236.3,2,   -999.0,9,   2307.0,2,     7.51,2, -999.00,  -999.0,-999.0000,-999.000,   25.00,  -999.0, 11.1217,-999.000
    31DSCG94_3,  P18N,   166,  1,    126,   1007,2,19940419,0426,  9.0017,-110.1667, 3691,    300.3,  10.6957,  34.7324,2,  34.7315,2,     22.9,2,     25.9,2,    31.57,2,    32.28,2,     0.00,2,     2.42,2, -999.000,9, -999.000,9, -999.000,9, -999.000,9, -999.000,9,-999.0000,9,  -999.00,9,   -999.0,9,   -999.0,9,   2246.9,2,   1437.3,2,   -999.0,5,     7.48,2,   20.00,  -999.0,-999.0000,-999.000,   25.00,  -999.0, 10.6593,-999.000
    31DSCG94_3,  P18N,   166,  1,    125,   1256,2,19940419,0426,  9.0017,-110.1667, 3691,    348.5,  10.2599,  34.7120,2,  34.7114,2,     18.3,2,     17.7,2,    34.60,2,    33.35,2,     0.00,2,     2.54,2, -999.000,9, -999.000,9, -999.000,9, -999.000,9, -999.000,9,-999.0000,9,  -999.00,9,   -999.0,9,   -999.0,9,   -999.0,9,   -999.0,9,   -999.0,9,     7.45,2, -999.00,  -999.0,-999.0000,-999.000,   25.00,  -999.0, 10.2187,-999.000
    31DSCG94_3,  P18N,   166,  1,    123,   1220,2,19940419,0426,  9.0017,-110.1667, 3691,    399.1,   9.7171,  34.6854,2,  34.6835,2,     11.4,2,      5.6,2,    40.19,2,    33.59,2,     0.00,2,     2.91,3, -999.000,9, -999.000,9, -999.000,9, -999.000,9, -999.000,9,-999.0000,9,  -999.00,9,   -999.0,9,   -999.0,9,   2276.2,2,   1748.9,2,   2307.0,2,     7.40,2,   20.00,  -999.0,-999.0000,-999.000,   25.00,  -999.0,  9.6713,-999.000
    31DSCG94_3,  P18N,   166,  1,    122,   1245,2,19940419,0426,  9.0017,-110.1667, 3691,    501.1,   8.4432,  34.6102,2,  34.6086,2,      4.5,2,      1.8,2,    52.31,2,    34.57,2,     0.00,2,     3.43,4, -999.000,9, -999.000,9, -999.000,9, -999.000,9, -999.000,9,-999.0000,9,  -999.00,9,   -999.0,9,   -999.0,9,   2297.2,2,   1902.4,2,   2321.0,2,     7.37,2,   20.00,  -999.0,-999.0000,-999.000,   25.00,  -999.0,  8.3901,-999.000
    31DSCG94_3,  P18N,   166,  1,    121,   1206,2,19940419,0426,  9.0017,-110.1667, 3691,    600.8,   7.3475,  34.5734,2,  34.5726,2,      3.2,2,      2.1,2,    62.33,2,    37.84,2,     0.00,2,     3.14,2, -999.000,9, -999.000,9, -999.000,9, -999.000,9, -999.000,9,-999.0000,9,  -999.00,9,   -999.0,9,   -999.0,9,   2311.2,2,   1983.7,2,   2331.0,2,     7.35,2,   20.00,  -999.0,-999.0000,-999.000,   25.00,  -999.0,  7.2884,-999.000
    31DSCG94_3,  P18N,   166,  1,    120,   1028,2,19940419,0426,  9.0017,-110.1667, 3691,    700.0,   6.3380,  34.5559,2,  34.5553,2,      3.7,2,      8.4,2,    72.00,2,    42.89,2,     0.00,2,     3.18,2, -999.000,9, -999.000,9, -999.000,9, -999.000,9, -999.000,9,-999.0000,9,  -999.00,9,   -999.0,9,   -999.0,9,   2322.2,2,   -999.0,9,   2341.0,2,     7.35,2, -999.00,  -999.0,-999.0000,-999.000,   25.00,  -999.0,  6.2740,-999.000
    31DSCG94_3,  P18N,   166,  1,    119,   1248,2,19940419,0426,  9.0017,-110.1667, 3691,    798.7,   5.6805,  34.5530,2,  34.5536,2,      7.9,2,     11.8,2,    79.33,2,    44.76,2,     0.00,2,     3.21,2, -999.000,9, -999.000,9, -999.000,9, -999.000,9, -999.000,9,-999.0000,9,  -999.00,9,   -999.0,9,   -999.0,9,   2329.1,2,   2026.9,2,   2345.0,2,     7.35,2,   20.00,  -999.0,-999.0000,-999.000,   25.00,  -999.0,  5.6109,-999.000
    31DSCG94_3,  P18N,   166,  1,    118,   1115,2,19940419,0426,  9.0017,-110.1667, 3691,    899.9,   5.1428,  34.5544,2,  34.5536,2,     14.3,2,     17.8,2,    88.45,2,    45.59,2,     0.00,2,     3.23,2, -999.000,9, -999.000,9, -999.000,9, -999.000,9, -999.000,9,-999.0000,9,  -999.00,9,   -999.0,9,   -999.0,9,   2336.6,2,   -999.0,9,   2363.0,3,     7.36,2, -999.00,  -999.0,-999.0000,-999.000,   25.00,  -999.0,  5.0674,-999.000
    31DSCG94_3,  P18N,   166,  1,    117,   1119,2,19940419,0426,  9.0017,-110.1667, 3691,    999.7,   4.7855,  34.5569,2,  34.5572,2,     18.2,2,     24.0,2,    96.85,2,    44.49,2,     0.00,2,     3.21,2, -999.000,9, -999.000,9, -999.000,9, -999.000,9, -999.000,9,-999.0000,9,  -999.00,9,   -999.0,9,   -999.0,9,   2340.7,2,   1966.0,2,   2354.0,2,     7.36,2,   20.00,  -999.0,-999.0000,-999.000,   25.00,  -999.0,  4.7037,-999.000
    31DSCG94_3,  P18N,   166,  1,    116,   1036,2,19940419,0426,  9.0017,-110.1667, 3691,   1097.2,   4.3616,  34.5648,2,  34.5649,2,     26.7,2,     32.8,2,   104.17,2,    44.80,2,     0.00,2,     3.18,2, -999.000,9, -999.000,9, -999.000,9, -999.000,9, -999.000,9,-999.0000,9,  -999.00,9,   -999.0,9,   -999.0,9,   -999.0,9,   -999.0,9,   -999.0,9,  -999.00,9, -999.00,  -999.0,-999.0000,-999.000, -999.00,  -999.0,  4.2746,-999.000
    31DSCG94_3,  P18N,   166,  1,    115,   1017,2,19940419,0426,  9.0017,-110.1667, 3691,   1197.5,   4.0166,  34.5731,2,  34.5730,2,     34.3,2,     40.0,2,   110.86,2,    44.23,2,     0.00,2,     3.16,2, -999.000,9, -999.000,9, -999.000,9, -999.000,9, -999.000,9,-999.0000,9,  -999.00,9,   -999.0,9,   -999.0,9,   -999.0,9,   -999.0,9,   -999.0,9,  -999.00,9, -999.00,  -999.0,-999.0000,-999.000, -999.00,  -999.0,  3.9240,-999.000
    31DSCG94_3,  P18N,   166,  1,    114,   1016,2,19940419,0426,  9.0017,-110.1667, 3691,   1297.6,   3.6343,  34.5842,2,  34.5849,2,     42.7,2,     48.7,2,   117.79,2,    43.73,2,     0.00,2,     3.11,2, -999.000,9, -999.000,9, -999.000,9, -999.000,9, -999.000,9,-999.0000,9,  -999.00,9,   -999.0,9,   -999.0,9,   -999.0,9,   -999.0,9,   -999.0,9,  -999.00,9, -999.00,  -999.0,-999.0000,-999.000, -999.00,  -999.0,  3.5367,-999.000
    31DSCG94_3,  P18N,   166,  1,    113,   1209,2,19940419,0426,  9.0017,-110.1667, 3691,   1398.6,   3.3726,  34.5923,2,  34.5923,2,     51.2,2,     55.2,2,   124.61,2,    42.71,2,     0.00,2,     3.06,2, -999.000,9, -999.000,9, -999.000,9, -999.000,9, -999.000,9,-999.0000,9,  -999.00,9,   -999.0,9,   -999.0,9,   -999.0,9,   -999.0,9,   -999.0,9,     7.42,2, -999.00,  -999.0,-999.0000,-999.000,   25.00,  -999.0,  3.2691,-999.000
    31DSCG94_3,  P18N,   166,  1,    112,   1033,2,19940419,0426,  9.0017,-110.1667, 3691,   1497.9,   3.1684,  34.6001,2,  34.5987,2,     59.0,2,     62.7,2,   128.11,2,    42.60,2,     0.00,2,     3.01,2, -999.000,9, -999.000,9, -999.000,9, -999.000,9, -999.000,9,-999.0000,9,  -999.00,9,   -999.0,9,   -999.0,9,   -999.0,9,   -999.0,9,   -999.0,9,  -999.00,9, -999.00,  -999.0,-999.0000,-999.000, -999.00,  -999.0,  3.0588,-999.000
    31DSCG94_3,  P18N,   166,  1,    111,   1240,2,19940419,0426,  9.0017,-110.1667, 3691,   1600.3,   2.9670,  34.6080,2,  34.6082,2,     67.2,2,     68.5,6,   132.29,2,    42.56,2,     0.00,2,     2.98,2, -999.000,9, -999.000,9, -999.000,9, -999.000,9, -999.000,9,-999.0000,9,  -999.00,9,   -999.0,9,   -999.0,9,   -999.0,9,   -999.0,9,   -999.0,9,     7.44,2, -999.00,  -999.0,-999.0000,-999.000,   25.00,  -999.0,  2.8510,-999.000
    31DSCG94_3,  P18N,   166,  1,    110,   1005,2,19940419,0426,  9.0017,-110.1667, 3691,   1799.1,   2.6163,  34.6225,2,  34.6228,2,     81.0,2,     79.4,2,   139.34,2,    41.70,2,     0.00,2,     2.90,2, -999.000,9, -999.000,9, -999.000,9, -999.000,9, -999.000,9,-999.0000,9,  -999.00,9,   -999.0,9,   -999.0,9,   -999.0,9,   -999.0,9,   -999.0,9,  -999.00,9, -999.00,  -999.0,-999.0000,-999.000, -999.00,  -999.0,  2.4879,-999.000
    31DSCG94_3,  P18N,   166,  1,    109,   1611,2,19940419,0426,  9.0017,-110.1667, 3691,   2000.5,   2.2898,  34.6392,2,  34.6399,2,     90.2,2,     88.0,2,   147.71,2,    41.29,2,     0.00,2,     2.85,2, -999.000,9, -999.000,9, -999.000,9, -999.000,9, -999.000,9,-999.0000,9,  -999.00,9,   -999.0,9,   -999.0,9,   -999.0,9,   -999.0,9,   -999.0,9,     7.48,2, -999.00,  -999.0,-999.0000,-999.000,   25.00,  -999.0,  2.1488,-999.000
    31DSCG94_3,  P18N,   166,  1,    108,   1218,2,19940419,0426,  9.0017,-110.1667, 3691,   2246.4,   2.0117,  34.6553,2,  34.6558,2,    100.4,2,     99.7,2,   154.66,2,    39.86,2,     0.00,2,     2.78,2, -999.000,9, -999.000,9, -999.000,9, -999.000,9, -999.000,9,-999.0000,9,  -999.00,9,   -999.0,9,   -999.0,9,   -999.0,9,   -999.0,9,   -999.0,9,  -999.00,9, -999.00,  -999.0,-999.0000,-999.000, -999.00,  -999.0,  1.8539,-999.000
    31DSCG94_3,  P18N,   166,  1,    107,   1257,2,19940419,0426,  9.0017,-110.1667, 3691,   2497.4,   1.8683,  34.6645,2,  34.6645,2,    108.3,2,    108.0,6,   157.36,2,    40.36,2,     0.00,2,     2.73,2, -999.000,9, -999.000,9, -999.000,9, -999.000,9, -999.000,9,-999.0000,9,  -999.00,9,   -999.0,9,   -999.0,9,   -999.0,9,   -999.0,9,   -999.0,9,     7.52,2, -999.00,  -999.0,-999.0000,-999.000,   25.00,  -999.0,  1.6906,-999.000
    31DSCG94_3,  P18N,   166,  1,    106,   1224,2,19940419,0426,  9.0017,-110.1667, 3691,   2729.8,   1.8340,  34.6673,2,  34.6664,2,    112.1,2,    110.7,2,   157.79,2,    39.33,2,     0.00,2,     2.70,2, -999.000,9, -999.000,9, -999.000,9, -999.000,9, -999.000,9,-999.0000,9,  -999.00,9,   -999.0,9,   -999.0,9,   -999.0,9,   -999.0,9,   -999.0,9,  -999.00,9, -999.00,  -999.0,-999.0000,-999.000, -999.00,  -999.0,  1.6356,-999.000
    31DSCG94_3,  P18N,   166,  1,    105,   1246,2,19940419,0426,  9.0017,-110.1667, 3691,   2997.5,   1.7404,  34.6728,2,  34.6731,2,    119.6,2,    118.7,2,   157.28,2,    38.95,2,     0.00,2,     2.66,2, -999.000,9, -999.000,9, -999.000,9, -999.000,9, -999.000,9,-999.0000,9,  -999.00,9,   -999.0,9,   -999.0,9,   -999.0,9,   -999.0,9,   -999.0,9,     7.54,2, -999.00,  -999.0,-999.0000,-999.000,   25.00,  -999.0,  1.5185,-999.000
    31DSCG94_3,  P18N,   166,  1,    104,   1217,2,19940419,0426,  9.0017,-110.1667, 3691,   3250.0,   1.6717,  34.6767,2,  34.6775,2,    125.9,2,    125.6,2,   156.06,2,    38.87,2,     0.00,2,     2.63,2, -999.000,9, -999.000,9, -999.000,9, -999.000,9, -999.000,9,-999.0000,9,  -999.00,9,   -999.0,9,   -999.0,9,   -999.0,9,   -999.0,9,   -999.0,9,  -999.00,9, -999.00,  -999.0,-999.0000,-999.000, -999.00,  -999.0,  1.4266,-999.000
    31DSCG94_3,  P18N,   166,  1,    103,   9999,2,19940419,0426,  9.0017,-110.1667, 3691,   3498.5,   1.6204,  34.6800,2,  34.6815,2,    131.9,2,    131.2,2,   155.07,2,    38.37,2,     0.00,2,     2.59,2, -999.000,9, -999.000,9, -999.000,9, -999.000,9, -999.000,9,-999.0000,9,  -999.00,9,   -999.0,9,   -999.0,9,   -999.0,9,   -999.0,9,   -999.0,9,     7.56,2, -999.00,  -999.0,-999.0000,-999.000,   25.00,  -999.0,  1.3514,-999.000
    31DSCG94_3,  P18N,   166,  1,    102,   1223,2,19940419,0426,  9.0017,-110.1667, 3691,   3499.6,   1.6202,  34.6797,2,  34.6805,2,    131.9,2,    131.2,2,   158.48,2,    37.29,2,     0.00,2,     2.62,2, -999.000,9, -999.000,9, -999.000,9, -999.000,9, -999.000,9,-999.0000,9,  -999.00,9,   -999.0,9,   -999.0,9,   -999.0,9,   -999.0,9,   -999.0,9,  -999.00,9, -999.00,  -999.0,-999.0000,-999.000, -999.00,  -999.0,  1.3510,-999.000
    31DSCG94_3,  P18N,   166,  1,    101,   1041,2,19940419,0426,  9.0017,-110.1667, 3691,   3714.1,   1.6265,  34.6810,2,  34.6808,2,    134.5,2,    132.4,2,   161.92,2,    37.19,2,     0.00,2,     2.58,2, -999.000,9, -999.000,9, -999.000,9, -999.000,9, -999.000,9,-999.0000,9,  -999.00,9,   -999.0,9,   -999.0,9,   -999.0,9,   -999.0,9,   -999.0,9,     7.56,2, -999.00,  -999.0,-999.0000,-999.000,   25.00,  -999.0,  1.3348,-999.000