BOTTLE,20220630CCHSIOAMB
EXPOCODE,SECT_ID,STNNBR,CASTNO,SAMPNO,BTLNBR,BTLNBR_FLAG_W,DATE,TIME,LATITUDE,LONGITUDE,DEPTH,CTDPRS,CTDTMP,CTDSAL,CTDSAL_FLAG_W,SALNTY,SALNTY_FLAG_W,CTDOXY,CTDOXY_FLAG_W,OXYGEN,OXYGEN_FLAG_W,SILCAT,SILCAT_FLAG_W,NITRAT,NITRAT_FLAG_W,NITRIT,NITRIT_FLAG_W,PHSPHT,PHSPHT_FLAG_W,CFC-11,CFC-11_FLAG_W,CFC-12,CFC-12_FLAG_W,CFC113,CFC113_FLAG_W,CCL4,CCL4_FLAG_W,TRITUM,TRITUM_FLAG_W,HELIUM,HELIUM_FLAG_W,DELHE3,DELHE3_FLAG_W,DELC14,DELC14_FLAG_W,DELC13,DELC13_FLAG_W,TCARBN,TCARBN_FLAG_W,PCO2,PCO2_FLAG_W,ALKALI,ALKALI_FLAG_W,PH,PH_FLAG_W,PCO2TMP,C14ERR,HELIER,DELHER,PH_TMP,C13ERR,THETA,TRITER
,,,,,,,,,,,,DBAR,ITS-90,PSS-78,,PSS-78,,UMOL/KG,,UMOL/KG,,UMOL/KG,,UMOL/KG,,UMOL/KG,,UMOL/KG,,PMOL/KG,,PMOL/KG,,PMOL/KG,,PMOL/KG,,TU,,NMOL/KG,,PERCNT,,/MILLE,,/MILLE,,UMOL/KG,,UATM,,UMOL/KG,,,,DEG C,/MILLE,NMOL/KG,PERCNT,DEG C,/MILLE,DEG C,TU
    31DSCG94_2,  P18S,    35,  1,    136,   1025,2,19940309,0559,-53.1683,-103.0133, 4150,     10.2,   8.0330,  34.2433,2,  34.2436,2,    238.8,3,    286.5,2,     2.24,2,    14.86,2,     0.19,2,     1.19,2,    4.231,2,    2.084,2, -999.000,9, -999.000,9, -999.000,9,-999.0000,9,  -999.00,9,   -999.0,9,      1.6,2,   -999.0,9,    570.0,2,   2272.0,2,     7.84,2,   20.00,  -999.0,-999.0000,-999.000,   25.00,  -999.0,  8.0320,-999.000
    31DSCG94_2,  P18S,    35,  1,    135,   1247,2,19940309,0559,-53.1683,-103.0133, 4150,     24.1,   8.0315,  34.2434,2,  34.2434,2,    294.0,2,    285.9,2,     2.07,2,    14.80,2,     0.19,2,     1.14,2,    4.327,2,    2.072,2, -999.000,9, -999.000,9, -999.000,9,-999.0000,9,  -999.00,9,   -999.0,9,   -999.0,9,   -999.0,9,   -999.0,9,   -999.0,9,     7.84,2, -999.00,  -999.0,-999.0000,-999.000,   25.00,  -999.0,  8.0291,-999.000
    31DSCG94_2,  P18S,    35,  1,    134,   1108,2,19940309,0559,-53.1683,-103.0133, 4150,     50.2,   8.0280,  34.2426,2,  34.2444,2,    295.2,2,    286.0,2,     2.03,2,    14.93,2,     0.16,2,     1.16,2,    4.054,2,    2.099,2, -999.000,9, -999.000,9, -999.000,9,-999.0000,9,  -999.00,9,   -999.0,9,   -999.0,9,   -999.0,9,    572.8,2,   -999.0,9,     7.84,2,   20.00,  -999.0,-999.0000,-999.000,   25.00,  -999.0,  8.0230,-999.000
    31DSCG94_2,  P18S,    35,  1,    133,   1244,2,19940309,0559,-53.1683,-103.0133, 4150,     73.8,   8.0271,  34.2429,2,  34.2435,2,    293.8,2,    285.9,2,     1.96,2,    14.86,2,     0.18,2,     1.18,2,    4.220,2,    2.118,2, -999.000,9, -999.000,9, -999.000,9,-999.0000,9,  -999.00,9,   -999.0,9,   -999.0,9,   -999.0,9,   -999.0,9,   -999.0,9,     7.84,2, -999.00,  -999.0,-999.0000,-999.000,   25.00,  -999.0,  8.0197,-999.000
    31DSCG94_2,  P18S,    35,  1,    132,   1003,2,19940309,0559,-53.1683,-103.0133, 4150,    101.3,   7.5884,  34.2558,2,  34.2583,2,    292.1,2,    285.9,2,     2.85,2,    15.37,2,     0.25,2,     1.23,2,    4.325,2,    2.138,2, -999.000,9, -999.000,9, -999.000,9,-999.0000,9,  -999.00,9,   -999.0,9,   -999.0,9,   -999.0,9,    598.8,2,   -999.0,9,     7.82,2,   20.00,  -999.0,-999.0000,-999.000,   25.00,  -999.0,  7.5786,-999.000
    31DSCG94_2,  P18S,    35,  1,    131,   1211,2,19940309,0559,-53.1683,-103.0133, 4150,    125.2,   6.4925,  34.2945,2,  34.2955,2,    288.8,2,    281.9,2,     5.93,2,    18.13,2,     0.31,2,     1.38,2,    4.326,2,    2.135,2, -999.000,9, -999.000,9, -999.000,9,-999.0000,9,  -999.00,9,   -999.0,9,   -999.0,9,   -999.0,9,   -999.0,9,   -999.0,9,     7.78,2, -999.00,  -999.0,-999.0000,-999.000,   25.00,  -999.0,  6.4815,-999.000
    31DSCG94_2,  P18S,    35,  1,    130,   1241,2,19940309,0559,-53.1683,-103.0133, 4150,    151.1,   6.2227,  34.2871,2,  34.2874,2,    284.3,2,    280.8,2,     6.69,2,    19.29,2,     0.00,2,     1.37,2,    4.225,2,    2.111,2, -999.000,5, -999.000,5, -999.000,9,-999.0000,9,  -999.00,9,   -999.0,9,   -999.0,9,   -999.0,9,    673.0,2,   -999.0,9,     7.78,2,   20.00,  -999.0,-999.0000,-999.000,   25.00,  -999.0,  6.2097,-999.000
    31DSCG94_2,  P18S,    35,  1,    129,   1031,2,19940309,0559,-53.1683,-103.0133, 4150,    203.2,   6.0942,  34.2885,2,  34.2907,2,    283.7,2,    280.0,2,     7.06,2,    19.58,2,     0.00,2,     1.43,2,    4.085,2,    2.001,4, -999.000,9, -999.000,9, -999.000,9,-999.0000,9,  -999.00,9,   -999.0,9,   -999.0,9,   -999.0,9,    677.5,2,   -999.0,9,     7.77,2,   20.00,  -999.0,-999.0000,-999.000,   25.00,  -999.0,  6.0768,-999.000
    31DSCG94_2,  P18S,    35,  1,    128,   1210,2,19940309,0559,-53.1683,-103.0133, 4150,    251.9,   6.0236,  34.2893,2,  34.2903,2,    282.7,2,    278.9,2,     7.46,2,    19.69,2,     0.00,2,     1.46,2,    4.041,2,    1.981,2, -999.000,9, -999.000,9, -999.000,9,-999.0000,9,  -999.00,9,   -999.0,9,   -999.0,9,   -999.0,9,   -999.0,9,   -999.0,9,  -999.00,9, -999.00,  -999.0,-999.0000,-999.000, -999.00,  -999.0,  6.0020,-999.000
    31DSCG94_2,  P18S,    35,  1,    127,   1008,2,19940309,0559,-53.1683,-103.0133, 4150,    299.4,   5.9580,  34.2884,2,  34.2921,2,    281.1,2,    278.5,2,     7.53,2,    20.12,2,     0.00,2,     1.48,2,    3.957,2,    1.944,2, -999.000,9, -999.000,9, -999.000,9,-999.0000,9,  -999.00,9,   -999.0,9,   -999.0,9,   -999.0,9,    686.2,2,   -999.0,9,     7.77,2,   20.00,  -999.0,-999.0000,-999.000,   25.00,  -999.0,  5.9324,-999.000
    31DSCG94_2,  P18S,    35,  1,    126,   1007,2,19940309,0559,-53.1683,-103.0133, 4150,    348.5,   5.9163,  34.2895,2,  34.2900,2,    279.4,2,    278.6,2,     7.76,2,    19.97,2,     0.01,2,     1.50,2,    3.948,2,    1.945,2, -999.000,9, -999.000,9, -999.000,9,-999.0000,9,  -999.00,9,   -999.0,9,   -999.0,9,   -999.0,9,   -999.0,9,   -999.0,9,     7.77,2, -999.00,  -999.0,-999.0000,-999.000,   25.00,  -999.0,  5.8865,-999.000
    31DSCG94_2,  P18S,    35,  1,    125,   1203,2,19940309,0559,-53.1683,-103.0133, 4150,    398.4,   5.8277,  34.2855,2,  34.2860,2,    277.6,2,    277.8,2,     8.18,2,    20.78,2,     0.00,2,     1.46,2,    3.948,2,    1.796,2, -999.000,9, -999.000,9, -999.000,9,-999.0000,9,  -999.00,9,   -999.0,9,   -999.0,9,   -999.0,9,    697.7,2,   -999.0,9,     7.76,2,   20.00,  -999.0,-999.0000,-999.000,   25.00,  -999.0,  5.7938,-999.000
    31DSCG94_2,  P18S,    35,  1,    123,   1101,2,19940309,0559,-53.1683,-103.0133, 4150,    500.1,   5.6000,  34.2708,2,  34.2701,2,    269.8,2,    270.7,6,     9.84,2,    21.93,2,     0.00,2,     1.58,2,    3.616,2,    1.762,2, -999.000,9, -999.000,9, -999.000,9,-999.0000,9,  -999.00,9,   -999.0,9,   -999.0,9,   -999.0,9,    721.0,6,   -999.0,9,     7.75,2,   20.00,  -999.0,-999.0000,-999.000,   25.00,  -999.0,  5.5580,-999.000
    31DSCG94_2,  P18S,    35,  1,    121,   1206,2,19940309,0559,-53.1683,-103.0133, 4150,    596.9,   5.2047,  34.2463,2,  34.2462,2,    265.7,2,    263.2,2,    12.25,2,    23.53,2,     0.00,2,     1.69,2,    4.812,4,    1.744,2, -999.000,9, -999.000,9, -999.000,9,-999.0000,9,  -999.00,9,   -999.0,9,   -999.0,9,   -999.0,9,    755.3,2,   -999.0,9,     7.73,2,   20.00,  -999.0,-999.0000,-999.000,   25.00,  -999.0,  5.1560,-999.000
    31DSCG94_2,  P18S,    35,  1,    119,   1248,2,19940309,0559,-53.1683,-103.0133, 4150,    701.0,   4.8840,  34.2456,2,  34.2461,2,    247.6,2,    246.6,2,    16.62,2,    25.64,2,     0.00,2,     1.83,2,    2.674,6,    1.257,6, -999.000,5, -999.000,5, -999.000,9,-999.0000,9,  -999.00,9,   -999.0,9,   -999.0,9,   -999.0,9,    832.3,2,   -999.0,9,     7.70,2,   20.00,  -999.0,-999.0000,-999.000,   25.00,  -999.0,  4.8281,-999.000
    31DSCG94_2,  P18S,    35,  1,    118,   1207,2,19940309,0559,-53.1683,-103.0133, 4150,    801.9,   4.5630,  34.2679,2,  34.2676,2,    229.5,2,    228.9,2,    22.93,2,    27.91,2,     0.00,2,     1.94,2,    2.001,3,    0.877,3, -999.000,9, -999.000,9, -999.000,9,-999.0000,9,  -999.00,9,   -999.0,9,   -999.0,9,   -999.0,9,    888.3,2,   -999.0,9,     7.67,2,   20.00,  -999.0,-999.0000,-999.000,   25.00,  -999.0,  4.5003,-999.000
    31DSCG94_2,  P18S,    35,  1,    117,   1119,2,19940309,0559,-53.1683,-103.0133, 4150,    901.1,   4.1129,  34.2866,2,  34.2857,2,    218.3,2,    217.6,2,    29.99,2,    29.41,2,     0.00,2,     2.10,2,    1.454,2,    0.695,2, -999.000,5, -999.000,5, -999.000,9,-999.0000,9,  -999.00,9,   -999.0,9,   -999.0,9,   -999.0,9,    965.4,2,   -999.0,9,     7.64,2,   20.00,  -999.0,-999.0000,-999.000,   25.00,  -999.0,  4.0449,-999.000
    31DSCG94_2,  P18S,    35,  1,    116,   1036,2,19940309,0559,-53.1683,-103.0133, 4150,    993.9,   3.7437,  34.3035,2,  34.3038,2,    210.3,2,    211.4,2,    35.05,2,    30.34,2,     0.00,2,     2.18,2,    1.236,2,    0.573,2, -999.000,9, -999.000,9, -999.000,9,-999.0000,9,  -999.00,9,   -999.0,9,   -999.0,9,   2196.7,2,    994.4,2,   2297.0,6,     7.63,2,   20.00,  -999.0,-999.0000,-999.000,   25.00,  -999.0,  3.6708,-999.000
    31DSCG94_2,  P18S,    35,  1,    115,   1017,2,19940309,0559,-53.1683,-103.0133, 4150,   1197.3,   3.0305,  34.3821,2,  34.3810,2,    193.0,2,    192.9,6,    53.50,2,    32.72,2,     0.00,2,     2.30,2,    0.728,2,    0.334,2, -999.000,9, -999.000,9, -999.000,9,-999.0000,9,  -999.00,9,   -999.0,9,   -999.0,9,   -999.0,9,   -999.0,9,   -999.0,9,  -999.00,9, -999.00,  -999.0,-999.0000,-999.000, -999.00,  -999.0,  2.9473,-999.000
    31DSCG94_2,  P18S,    35,  1,    114,   1016,2,19940309,0559,-53.1683,-103.0133, 4150,   1400.8,   2.7240,  34.4751,2,  34.4742,2,    176.1,2,    175.9,2,    66.05,2,    33.55,2,     0.00,2,     2.36,2,    0.296,2,    0.142,2, -999.000,5, -999.000,5, -999.000,9,-999.0000,9,  -999.00,9,   -999.0,9,   -999.0,9,   -999.0,9,   -999.0,9,   -999.0,9,  -999.00,9, -999.00,  -999.0,-999.0000,-999.000, -999.00,  -999.0,  2.6276,-999.000
    31DSCG94_2,  P18S,    35,  1,    113,   1118,2,19940309,0559,-53.1683,-103.0133, 4150,   1604.3,   2.5154,  34.5544,2,  34.5540,2,    170.1,2,    169.8,2,    75.04,2,    33.52,2,     0.00,2,     2.37,2,   -0.010,4,   -0.003,4, -999.000,9, -999.000,9, -999.000,9,-999.0000,9,  -999.00,9,   -999.0,9,   -999.0,9,   -999.0,9,   -999.0,9,   -999.0,9,  -999.00,9, -999.00,  -999.0,-999.0000,-999.000, -999.00,  -999.0,  2.4048,-999.000
    31DSCG94_2,  P18S,    35,  1,    112,   1033,2,19940309,0559,-53.1683,-103.0133, 4150,   1802.5,   2.3671,  34.6184,2,  34.6141,3,    168.0,2,    168.5,2,    83.05,2,    33.03,2,     0.00,2,     2.33,2,    0.077,2,    0.032,2, -999.000,9, -999.000,9, -999.000,9,-999.0000,9,  -999.00,9,   -999.0,9,   -999.0,9,   -999.0,9,   -999.0,9,   -999.0,9,  -999.00,9, -999.00,  -999.0,-999.0000,-999.000, -999.00,  -999.0,  2.2419,-999.000
    31DSCG94_2,  P18S,    35,  1,    111,   1263,2,19940309,0559,-53.1683,-103.0133, 4150,   2003.2,   2.2363,  34.6621,2,  34.6611,2,    169.6,2,    170.6,2,    89.75,2,    32.65,2,     0.00,2,     2.25,2,    0.039,2,    0.019,2, -999.000,5, -999.000,5, -999.000,9,-999.0000,9,  -999.00,9,   -999.0,9,   -999.0,9,   -999.0,9,   -999.0,9,   -999.0,9,  -999.00,9, -999.00,  -999.0,-999.0000,-999.000, -999.00,  -999.0,  2.0958,-999.000
    31DSCG94_2,  P18S,    35,  1,    110,   1005,2,19940309,0559,-53.1683,-103.0133, 4150,   2249.4,   2.0666,  34.6930,2,  34.6921,2,    172.4,2,    173.4,2,    96.46,2,    32.24,2,     0.00,2,     2.25,2, -999.000,5, -999.000,5, -999.000,9, -999.000,9, -999.000,9,-999.0000,9,  -999.00,9,   -999.0,9,   -999.0,9,   -999.0,9,   -999.0,9,   -999.0,9,  -999.00,9, -999.00,  -999.0,-999.0000,-999.000, -999.00,  -999.0,  1.9074,-999.000
    31DSCG94_2,  P18S,    35,  1,    109,   1611,2,19940309,0559,-53.1683,-103.0133, 4150,   2497.8,   1.8905,  34.7042,2,  34.7043,2,    174.2,2,    175.1,2,   101.56,2,    32.16,2,     0.00,2,     2.26,2,    0.009,2,    0.003,2, -999.000,9, -999.000,9, -999.000,9,-999.0000,9,  -999.00,9,   -999.0,9,   -999.0,9,   -999.0,9,   -999.0,9,   -999.0,9,  -999.00,9, -999.00,  -999.0,-999.0000,-999.000, -999.00,  -999.0,  1.7123,-999.000
    31DSCG94_2,  P18S,    35,  1,    108,   1218,2,19940309,0559,-53.1683,-103.0133, 4150,   2751.0,   1.7111,  34.7068,2,  34.7058,2,    177.5,2,    177.5,2,   108.29,2,    32.23,2,     0.00,2,     2.27,2,    0.027,4,    0.001,2, -999.000,9, -999.000,9, -999.000,9,-999.0000,9,  -999.00,9,   -999.0,9,   -999.0,9,   -999.0,9,   -999.0,9,   -999.0,9,  -999.00,9, -999.00,  -999.0,-999.0000,-999.000, -999.00,  -999.0,  1.5130,-999.000
    31DSCG94_2,  P18S,    35,  1,    107,   1257,2,19940309,0559,-53.1683,-103.0133, 4150,   3000.2,   1.6122,  34.7136,2,  34.7128,2,    182.7,2,    183.4,2,   110.23,2,    31.93,2,     0.00,2,     2.20,2,   -0.001,2,   -0.001,2, -999.000,9, -999.000,9, -999.000,9,-999.0000,9,  -999.00,9,   -999.0,9,   -999.0,9,   -999.0,9,   -999.0,9,   -999.0,9,  -999.00,9, -999.00,  -999.0,-999.0000,-999.000, -999.00,  -999.0,  1.3927,-999.000
    31DSCG94_2,  P18S,    35,  1,    106,   1224,2,19940309,0559,-53.1683,-103.0133, 4150,   3250.7,   1.4625,  34.7179,2,  34.7163,2,    189.7,2,    189.7,6,   113.12,2,    31.79,2,     0.00,2,     2.21,2,    0.004,2,    0.003,2, -999.000,9, -999.000,9, -999.000,9,-999.0000,9,  -999.00,9,   -999.0,9,   -999.0,9,   -999.0,9,   -999.0,9,   -999.0,9,  -999.00,9, -999.00,  -999.0,-999.0000,-999.000, -999.00,  -999.0,  1.2221,-999.000
    31DSCG94_2,  P18S,    35,  1,    105,   1246,2,19940309,0559,-53.1683,-103.0133, 4150,   3500.3,   1.2913,  34.7162,2,  34.7150,2,    194.5,2,    194.1,2,   115.21,2,    31.58,2,     0.01,2,     2.20,2,    0.008,2,    0.000,2, -999.000,5, -999.000,5, -999.000,9,-999.0000,9,  -999.00,9,   -999.0,9,   -999.0,9,   -999.0,9,   -999.0,9,   -999.0,9,  -999.00,9, -999.00,  -999.0,-999.0000,-999.000, -999.00,  -999.0,  1.0301,-999.000
    31DSCG94_2,  P18S,    35,  1,    104,   1028,2,19940309,0559,-53.1683,-103.0133, 4150,   3750.3,   1.0143,  34.7118,2,  34.7098,2,    200.5,2,    199.9,2,   122.93,2,    31.67,2,     0.00,2,     2.24,2,    0.098,4,    0.065,4, -999.000,5, -999.000,5, -999.000,9,-999.0000,9,  -999.00,9,   -999.0,9,   -999.0,9,   -999.0,9,   -999.0,9,   -999.0,9,  -999.00,9, -999.00,  -999.0,-999.0000,-999.000, -999.00,  -999.0,  0.7349,-999.000
    31DSCG94_2,  P18S,    35,  1,    102,   1223,2,19940309,0559,-53.1683,-103.0133, 4150,   3998.4,   0.7911,  34.7088,2,  34.7070,2,    205.9,2,    204.2,2,   132.87,2,    31.91,2,     0.00,2,     2.19,3,    0.014,2,    0.005,2, -999.000,5, -999.000,5, -999.000,9,-999.0000,9,  -999.00,9,   -999.0,9,   -999.0,9,   -999.0,9,   -999.0,9,   -999.0,9,  -999.00,9, -999.00,  -999.0,-999.0000,-999.000, -999.00,  -999.0,  0.4922,-999.000
    31DSCG94_2,  P18S,    35,  1,    103,   9999,2,19940309,0559,-53.1683,-103.0133, 4150,   3999.3,   0.7899,  34.7086,2,  34.7072,2,    205.9,2,    204.2,2,   130.88,2,    31.76,2,     0.01,2,     2.25,2,    0.058,4,    0.002,2, -999.000,5, -999.000,5, -999.000,9,-999.0000,9,  -999.00,9,   -999.0,9,   -999.0,9,   -999.0,9,   -999.0,9,   -999.0,9,  -999.00,9, -999.00,  -999.0,-999.0000,-999.000, -999.00,  -999.0,  0.4910,-999.000
    31DSCG94_2,  P18S,    35,  1,    101,   1041,2,19940309,0559,-53.1683,-103.0133, 4150,   4165.3,   0.7274,  34.7073,2,  34.7060,2,    208.4,2,    205.6,2,   135.82,2,    31.91,2,     0.00,2,     2.24,2,   -0.009,2,    0.006,2, -999.000,5, -999.000,5, -999.000,9,-999.0000,9,  -999.00,9,   -999.0,9,   -999.0,9,   -999.0,9,   -999.0,9,   -999.0,9,  -999.00,9, -999.00,  -999.0,-999.0000,-999.000, -999.00,  -999.0,  0.4128,-999.000