BOTTLE,20220630CCHSIOAMB
EXPOCODE,SECT_ID,STNNBR,CASTNO,SAMPNO,BTLNBR,BTLNBR_FLAG_W,DATE,TIME,LATITUDE,LONGITUDE,DEPTH,CTDPRS,CTDTMP,CTDSAL,CTDSAL_FLAG_W,SALNTY,SALNTY_FLAG_W,CTDOXY,CTDOXY_FLAG_W,OXYGEN,OXYGEN_FLAG_W,SILCAT,SILCAT_FLAG_W,NITRAT,NITRAT_FLAG_W,NITRIT,NITRIT_FLAG_W,PHSPHT,PHSPHT_FLAG_W,CFC-11,CFC-11_FLAG_W,CFC-12,CFC-12_FLAG_W,CFC113,CFC113_FLAG_W,CCL4,CCL4_FLAG_W,TRITUM,TRITUM_FLAG_W,HELIUM,HELIUM_FLAG_W,DELHE3,DELHE3_FLAG_W,DELC14,DELC14_FLAG_W,DELC13,DELC13_FLAG_W,TCARBN,TCARBN_FLAG_W,PCO2,PCO2_FLAG_W,ALKALI,ALKALI_FLAG_W,PH,PH_FLAG_W,PCO2TMP,C14ERR,HELIER,DELHER,PH_TMP,C13ERR,THETA,TRITER
,,,,,,,,,,,,DBAR,ITS-90,PSS-78,,PSS-78,,UMOL/KG,,UMOL/KG,,UMOL/KG,,UMOL/KG,,UMOL/KG,,UMOL/KG,,PMOL/KG,,PMOL/KG,,PMOL/KG,,PMOL/KG,,TU,,NMOL/KG,,PERCNT,,/MILLE,,/MILLE,,UMOL/KG,,UATM,,UMOL/KG,,,,DEG C,/MILLE,NMOL/KG,PERCNT,DEG C,/MILLE,DEG C,TU
    31DSCG94_3,  P18N,   148,  1,    136,   1025,2,19940414,1226,  1.0007,-110.3330, 3675,      7.6,  25.2562,  34.9019,2,  34.9044,2,    171.5,2,    194.1,6,     3.19,2,     5.79,2,     0.17,2,     0.62,2,    1.810,2,    1.008,2, -999.000,5, -999.000,5,    0.899,2,   1.7639,2,     0.28,2,     75.7,2,      1.2,2,   2033.1,2,    385.4,2,   2296.0,2,     7.98,2,   20.00,     4.7,-999.0000,-999.000,   25.00,  -999.0, 25.2546,   0.008
    31DSCG94_3,  P18N,   148,  1,    135,   1247,2,19940414,1226,  1.0007,-110.3330, 3675,     25.0,  24.4864,  34.9622,2,  34.9680,2,    189.7,2,    187.3,6,     3.89,2,     6.40,2,     0.20,2,     0.65,2,    1.729,2,    0.957,2, -999.000,9, -999.000,9,    0.988,2,   1.7478,2,    -0.13,2,     69.0,2,      1.1,2,   -999.0,9,   -999.0,9,   -999.0,9,     7.97,2, -999.00,     5.1,-999.0000,-999.000,   25.00,  -999.0, 24.4811,   0.009
    31DSCG94_3,  P18N,   148,  1,    134,   1216,2,19940414,1226,  1.0007,-110.3330, 3675,     48.6,  17.7351,  34.8550,2,  34.8586,2,     88.8,2,    103.4,6,    11.32,2,    17.34,2,     0.48,2,     1.37,2,    1.197,2,    0.658,2, -999.000,5, -999.000,5, -999.000,9,   1.7804,2,     4.36,2,     46.2,2,      0.5,2,   2130.3,2,    687.9,2,   2292.0,2,     7.77,2,   20.00,     4.5,-999.0000,-999.000,   25.00,  -999.0, 17.7269,-999.000
    31DSCG94_3,  P18N,   148,  1,    133,   1244,2,19940414,1226,  1.0007,-110.3330, 3675,     74.2,  15.3009,  34.9493,2,  34.9505,2,     84.4,2,     74.1,2,    14.97,2,    21.64,2,     0.47,2,     1.62,2,    0.962,2,    0.516,2, -999.000,9, -999.000,9, -999.000,9,-999.0000,9,  -999.00,9,     32.1,2,      0.4,2,   -999.0,9,   -999.0,9,   -999.0,9,     7.69,2, -999.00,     4.9,-999.0000,-999.000,   25.00,  -999.0, 15.2896,-999.000
    31DSCG94_3,  P18N,   148,  1,    132,   1003,2,19940414,1226,  1.0007,-110.3330, 3675,    101.4,  14.0406,  34.9283,2,-999.0000,9,     72.6,2,     64.6,6,  -999.00,9,  -999.00,9,  -999.00,9,  -999.00,9,    0.850,6,    0.456,6, -999.000,5, -999.000,5, -999.000,9,   1.8014,2,     5.43,2,   -999.0,9,   -999.0,9,   2181.9,2,    907.1,2,   2296.0,2,  -999.00,9,   20.00,  -999.0,-999.0000,-999.000, -999.00,  -999.0, 14.0260,-999.000
    31DSCG94_3,  P18N,   148,  1,    131,   1211,2,19940414,1226,  1.0007,-110.3330, 3675,    124.0,  13.7695,  34.9157,2,  34.9152,2,     68.9,2,     70.0,2,    18.11,2,    23.95,2,     0.04,2,     1.72,2,    0.786,2,    0.431,2, -999.000,9, -999.000,9, -999.000,9,-999.0000,9,  -999.00,9,   -999.0,9,   -999.0,9,   -999.0,9,   -999.0,9,   -999.0,9,     7.66,2, -999.00,  -999.0,-999.0000,-999.000,   25.00,  -999.0, 13.7518,-999.000
    31DSCG94_3,  P18N,   148,  1,    130,   1241,2,19940414,1226,  1.0007,-110.3330, 3675,    151.3,  13.4454,  34.9130,2,  34.9131,2,     70.7,2,     62.8,6,    19.31,2,    25.25,2,     0.01,2,     1.80,2,    0.701,2,    0.374,2, -999.000,5, -999.000,5,    0.577,2,   1.7951,2,     5.52,2,      7.2,2,      0.3,2,   2192.5,2,   -999.0,9,   2293.0,2,     7.64,2, -999.00,     7.7,-999.0000,-999.000,   25.00,  -999.0, 13.4241,   0.008
    31DSCG94_3,  P18N,   148,  1,    129,   1240,2,19940414,1226,  1.0007,-110.3330, 3675,    173.7,  12.9770,  34.8948,2,  34.8963,2,     60.7,2,     62.2,2,    20.53,2,    25.79,2,     0.02,2,     1.85,2,    0.612,2,    0.339,2, -999.000,9, -999.000,9,    0.468,2,   1.7964,2,     5.40,2,   -999.0,9,   -999.0,9,   -999.0,9,   -999.0,9,   -999.0,9,     7.62,2, -999.00,  -999.0,-999.0000,-999.000,   25.00,  -999.0, 12.9532,   0.006
    31DSCG94_3,  P18N,   148,  1,    128,   1032,2,19940414,1226,  1.0007,-110.3330, 3675,    200.7,  12.7429,  34.8883,2,  34.8884,2,     61.0,2,     53.4,6,    21.64,2,    26.90,2,     0.01,2,     1.93,2,    0.543,2,    0.302,2, -999.000,5, -999.000,5,    0.437,2,   1.7960,2,     5.36,2,     -0.3,2,      0.2,2,   2206.7,2,   1054.3,2,   2296.0,2,     7.60,2,   20.00,     4.8,-999.0000,-999.000,   25.00,  -999.0, 12.7157,   0.006
    31DSCG94_3,  P18N,   148,  1,    127,   1008,2,19940414,1226,  1.0007,-110.3330, 3675,    249.9,  12.5461,  34.8767,2,  34.8769,2,     54.4,2,     40.0,2,    23.19,2,    28.56,2,     0.02,2,     2.04,2,    0.462,2,    0.259,2, -999.000,5, -999.000,5, -999.000,9,-999.0000,9,  -999.00,9,   -999.0,9,   -999.0,9,   2217.4,2,   -999.0,9,   2297.0,2,     7.57,2, -999.00,  -999.0,-999.0000,-999.000,   25.00,  -999.0, 12.5125,-999.000
    31DSCG94_3,  P18N,   148,  1,    126,   1007,2,19940414,1226,  1.0007,-110.3330, 3675,    301.4,  11.6038,  34.8151,2,  34.7141,4,     28.2,2,     26.8,3,    39.24,4,    35.47,4,     0.00,3,     2.50,4,    0.129,4,    0.075,4, -999.000,5, -999.000,5,    0.138,2,   1.8241,4,     7.34,4,    -70.2,4,     -0.0,4,   2260.9,4,   1528.5,4,   2302.0,4,  -999.00,4,   20.00,     3.9,-999.0000,-999.000, -999.00,  -999.0, 11.5652,   0.004
    31DSCG94_3,  P18N,   148,  1,    125,   1256,2,19940414,1226,  1.0007,-110.3330, 3675,    350.8,  11.3245,  34.8089,2,  34.8069,2,     19.7,2,     13.6,2,    29.32,2,    33.02,2,     0.00,2,     2.36,2,    0.238,2,    0.141,2, -999.000,9, -999.000,9,    0.234,2,   1.7768,2,     5.71,2,   -999.0,9,   -999.0,9,   -999.0,9,   -999.0,9,   -999.0,9,     7.47,2, -999.00,  -999.0,-999.0000,-999.000,   25.00,  -999.0, 11.2802,   0.005
    31DSCG94_3,  P18N,   148,  1,    123,   1220,2,19940414,1226,  1.0007,-110.3330, 3675,    400.2,   9.8536,  34.7143,2,  34.7129,2,     21.4,2,     20.4,2,    34.40,2,    35.51,2,     0.01,2,     2.47,2,    0.105,2,    0.057,2, -999.000,9, -999.000,9,    0.120,2,   1.8045,2,     6.01,2,    -69.7,2,      0.0,2,   2260.7,2,   1567.9,2,   2300.0,2,     7.45,2,   20.00,     3.6,-999.0000,-999.000,   25.00,  -999.0,  9.8073,   0.004
    31DSCG94_3,  P18N,   148,  1,    122,   1245,2,19940414,1226,  1.0007,-110.3330, 3675,    499.5,   8.3563,  34.6368,2,  34.6353,2,     28.7,2,     32.1,2,    41.28,2,    37.93,2,     0.01,2,     2.61,2,    0.029,2,    0.016,2, -999.000,9, -999.000,9,    0.045,2,   1.8107,2,     6.72,2,   -103.3,2,     -0.2,2,   2268.2,2,   1619.2,2,   2302.0,2,     7.44,2,   20.00,     4.8,-999.0000,-999.000,   25.00,  -999.0,  8.3037,   0.004
    31DSCG94_3,  P18N,   148,  1,    121,   1206,2,19940414,1226,  1.0007,-110.3330, 3675,    601.0,   7.3417,  34.5895,2,  34.5873,2,     38.5,2,     46.1,2,    48.02,2,    38.49,2,     0.01,2,     2.70,2,    0.020,6,    0.006,6, -999.000,5, -999.000,5,    0.021,2,   1.8241,2,     8.43,2,   -999.0,9,   -999.0,9,   2272.0,2,   1586.1,2,   2306.0,2,     7.45,2,   20.00,  -999.0,-999.0000,-999.000,   25.00,  -999.0,  7.2826,   0.003
    31DSCG94_3,  P18N,   148,  1,    120,   1028,2,19940414,1226,  1.0007,-110.3330, 3675,    700.4,   6.0945,  34.5624,2,  34.5612,2,     45.5,2,     48.0,2,    63.08,2,    40.58,2,     0.00,2,     2.86,2,    0.005,2,    0.000,2, -999.000,9, -999.000,9,    0.011,2,   1.7933,2,    12.20,2,   -999.0,9,   -999.0,9,   2291.1,2,   1677.0,2,   2325.0,2,  -999.00,9,   20.00,  -999.0,-999.0000,-999.000, -999.00,  -999.0,  6.0318,   0.003
    31DSCG94_3,  P18N,   148,  1,    119,   1248,2,19940414,1226,  1.0007,-110.3330, 3675,    800.8,   5.5138,  34.5506,2,  34.5499,2,     62.1,2,     65.8,2,    68.83,2,    39.86,2,     0.00,2,     2.79,2,    0.001,2,   -0.001,2, -999.000,5, -999.000,5,    0.007,2,-999.0000,9,  -999.00,9,   -999.0,5,      0.1,2,   2289.0,2,   1573.4,2,   2329.0,2,     7.46,2,   20.00,  -999.0,-999.0000,-999.000,   25.00,  -999.0,  5.4450,   0.003
    31DSCG94_3,  P18N,   148,  1,    118,   1115,2,19940414,1226,  1.0007,-110.3330, 3675,    898.5,   5.0317,  34.5481,2,  34.5477,2,     69.5,2,     73.5,2,    76.06,2,    39.56,2,     0.00,2,     2.78,2,    0.029,2,    0.010,2, -999.000,9, -999.000,9, -999.000,9,-999.0000,9,  -999.00,9,   -999.0,9,   -999.0,9,   2293.5,2,   1531.0,2,   2337.0,2,     7.47,2,   20.00,  -999.0,-999.0000,-999.000,   25.00,  -999.0,  4.9572,-999.000
    31DSCG94_3,  P18N,   148,  1,    117,   1119,2,19940414,1226,  1.0007,-110.3330, 3675,   1000.4,   4.5969,  34.5541,2,  34.5541,2,     76.2,2,     78.1,2,    84.68,2,    39.78,2,     0.01,2,     2.80,2,    0.003,2,    0.000,2, -999.000,5, -999.000,5,    0.006,2,   1.8513,2,    17.16,2,   -999.0,9,   -999.0,9,   2301.7,2,   1512.8,2,   2350.0,2,     7.47,2,   20.00,  -999.0,-999.0000,-999.000,   25.00,  -999.0,  4.5165,   0.003
    31DSCG94_3,  P18N,   148,  1,    116,   1036,2,19940414,1226,  1.0007,-110.3330, 3675,   1098.3,   4.2261,  34.5640,2,  34.5642,2,     77.8,2,     77.3,2,    93.48,2,    40.24,2,     0.05,4,     2.83,2,    0.000,2,    0.000,2, -999.000,9, -999.000,9, -999.000,9,-999.0000,9,  -999.00,9,   -999.0,9,   -999.0,9,   -999.0,9,   -999.0,9,   -999.0,9,     7.46,2, -999.00,  -999.0,-999.0000,-999.000,   25.00,  -999.0,  4.1402,-999.000
    31DSCG94_3,  P18N,   148,  1,    115,   1017,2,19940414,1226,  1.0007,-110.3330, 3675,   1202.1,   3.9821,  34.5697,2,  34.5698,2,     80.2,2,     79.6,2,    99.02,2,    40.15,2,     0.04,4,     2.83,2,    0.001,2,   -0.001,2, -999.000,9, -999.000,9,   -0.001,2,   1.8638,2,    20.09,2,   -999.0,9,   -999.0,9,   -999.0,9,   -999.0,9,   -999.0,9,     7.47,2, -999.00,  -999.0,-999.0000,-999.000,   25.00,  -999.0,  3.8894,   0.003
    31DSCG94_3,  P18N,   148,  1,    114,   1016,2,19940414,1226,  1.0007,-110.3330, 3675,   1400.9,   3.4636,  34.5892,2,  34.5889,2,     83.9,2,     80.6,2,   112.57,2,    40.45,2,     0.00,2,     2.85,2, -999.000,9, -999.000,9, -999.000,9, -999.000,9, -999.000,9,-999.0000,9,  -999.00,9,   -999.0,9,   -999.0,9,   -999.0,9,   -999.0,9,   -999.0,9,     7.47,2, -999.00,  -999.0,-999.0000,-999.000,   25.00,  -999.0,  3.3589,-999.000
    31DSCG94_3,  P18N,   148,  1,    113,   1209,2,19940414,1226,  1.0007,-110.3330, 3675,   1601.9,   2.9592,  34.6061,2,  34.6066,2,     96.8,2,     91.2,2,   124.12,2,    39.64,2,     0.00,2,     2.77,2,    0.001,2,    0.000,2, -999.000,5, -999.000,5, -999.000,9,-999.0000,9,  -999.00,9,   -999.0,9,   -999.0,9,   -999.0,9,   -999.0,9,   -999.0,9,  -999.00,9, -999.00,  -999.0,-999.0000,-999.000, -999.00,  -999.0,  2.8432,-999.000
    31DSCG94_3,  P18N,   148,  1,    112,   1033,2,19940414,1226,  1.0007,-110.3330, 3675,   1802.0,   2.5798,  34.6240,2,  34.6235,2,    103.1,2,     96.5,2,   134.00,2,    39.34,2,     0.00,2,     2.75,2, -999.000,9, -999.000,9, -999.000,9, -999.000,9, -999.000,9,-999.0000,9,  -999.00,9,   -999.0,9,   -999.0,9,   -999.0,9,   -999.0,9,   -999.0,9,     7.49,2, -999.00,  -999.0,-999.0000,-999.000,   25.00,  -999.0,  2.4517,-999.000
    31DSCG94_3,  P18N,   148,  1,    111,   1240,2,19940414,1226,  1.0007,-110.3330, 3675,   2000.2,   2.2489,  34.6408,2,  34.6405,2,    111.4,2,    104.9,2,   141.25,2,    38.73,2,     0.00,2,     2.70,2,    0.002,2,   -0.001,2, -999.000,9, -999.000,9, -999.000,9,-999.0000,9,  -999.00,9,   -999.0,9,   -999.0,9,   -999.0,9,   -999.0,9,   -999.0,9,  -999.00,9, -999.00,  -999.0,-999.0000,-999.000, -999.00,  -999.0,  2.1086,-999.000
    31DSCG94_3,  P18N,   148,  1,    110,   1005,2,19940414,1226,  1.0007,-110.3330, 3675,   2202.0,   2.0985,  34.6494,2,  34.6487,2,    115.0,2,    109.7,2,   144.86,2,    38.51,2,     0.00,2,     2.67,2, -999.000,9, -999.000,9, -999.000,9, -999.000,9, -999.000,9,-999.0000,9,  -999.00,9,   -999.0,9,   -999.0,9,   -999.0,9,   -999.0,9,   -999.0,9,     7.52,2, -999.00,  -999.0,-999.0000,-999.000,   25.00,  -999.0,  1.9431,-999.000
    31DSCG94_3,  P18N,   148,  1,    109,   1611,2,19940414,1226,  1.0007,-110.3330, 3675,   2399.9,   1.9356,  34.6580,2,  34.6575,2,    120.6,2,    117.2,2,   146.75,2,    38.17,2,     0.00,2,     2.63,2, -999.000,9, -999.000,9, -999.000,9, -999.000,9, -999.000,9,-999.0000,9,  -999.00,9,   -999.0,9,   -999.0,9,   -999.0,9,   -999.0,9,   -999.0,9,  -999.00,9, -999.00,  -999.0,-999.0000,-999.000, -999.00,  -999.0,  1.7655,-999.000
    31DSCG94_3,  P18N,   148,  1,    108,   1218,2,19940414,1226,  1.0007,-110.3330, 3675,   2600.8,   1.8199,  34.6655,2,  34.6644,2,    125.6,2,    122.9,2,   149.09,2,    37.71,2,     0.00,2,     2.59,2, -999.000,9, -999.000,9, -999.000,9, -999.000,9, -999.000,9,-999.0000,9,  -999.00,9,   -999.0,9,   -999.0,9,   -999.0,9,   -999.0,9,   -999.0,9,     7.55,2, -999.00,  -999.0,-999.0000,-999.000,   25.00,  -999.0,  1.6337,-999.000
    31DSCG94_3,  P18N,   148,  1,    107,   1257,2,19940414,1226,  1.0007,-110.3330, 3675,   2798.6,   1.7622,  34.6693,2,  34.6680,2,    129.6,2,    126.9,2,   149.28,2,    37.34,2,     0.00,2,     2.57,2, -999.000,9, -999.000,9, -999.000,9, -999.000,9, -999.000,9,-999.0000,9,  -999.00,9,   -999.0,9,   -999.0,9,   -999.0,9,   -999.0,9,   -999.0,9,  -999.00,9, -999.00,  -999.0,-999.0000,-999.000, -999.00,  -999.0,  1.5588,-999.000
    31DSCG94_3,  P18N,   148,  1,    106,   1224,2,19940414,1226,  1.0007,-110.3330, 3675,   2998.5,   1.7015,  34.6720,2,  34.6722,2,    132.6,2,    131.4,2,   148.53,2,    37.02,2,     0.00,2,     2.54,2, -999.000,9, -999.000,9, -999.000,9, -999.000,9, -999.000,9,-999.0000,9,  -999.00,9,   -999.0,9,   -999.0,9,   -999.0,9,   -999.0,9,   -999.0,9,     7.56,2, -999.00,  -999.0,-999.0000,-999.000,   25.00,  -999.0,  1.4804,-999.000
    31DSCG94_3,  P18N,   148,  1,    105,   1246,2,19940414,1226,  1.0007,-110.3330, 3675,   3201.7,   1.6289,  34.6767,2,  34.6758,2,    136.6,2,    137.3,2,   149.53,2,    36.61,2,     0.00,2,     2.51,2, -999.000,9, -999.000,9, -999.000,9, -999.000,9, -999.000,9,-999.0000,9,  -999.00,9,   -999.0,9,   -999.0,9,   -999.0,9,   -999.0,9,   -999.0,9,  -999.00,9, -999.00,  -999.0,-999.0000,-999.000, -999.00,  -999.0,  1.3896,-999.000
    31DSCG94_3,  P18N,   148,  1,    104,   1217,2,19940414,1226,  1.0007,-110.3330, 3675,   3401.5,   1.5459,  34.6829,2,  34.6819,2,    141.5,2,    143.2,2,   150.67,2,    36.26,2,     0.00,2,     2.47,2, -999.000,9, -999.000,9, -999.000,9, -999.000,9, -999.000,9,-999.0000,9,  -999.00,9,   -999.0,9,   -999.0,9,   -999.0,9,   -999.0,9,   -999.0,9,     7.58,2, -999.00,  -999.0,-999.0000,-999.000,   25.00,  -999.0,  1.2886,-999.000
    31DSCG94_3,  P18N,   148,  1,    103,   9999,2,19940414,1226,  1.0007,-110.3330, 3675,   3600.2,   1.4796,  34.6877,2,  34.6882,2,    145.8,2,    147.5,2,   152.32,2,    36.09,2,     0.00,2,     2.44,2, -999.000,9, -999.000,9, -999.000,9, -999.000,9, -999.000,9,-999.0000,9,  -999.00,9,   -999.0,9,   -999.0,9,   -999.0,9,   -999.0,9,   -999.0,9,  -999.00,9, -999.00,  -999.0,-999.0000,-999.000, -999.00,  -999.0,  1.2036,-999.000
    31DSCG94_3,  P18N,   148,  1,    102,   1223,2,19940414,1226,  1.0007,-110.3330, 3675,   3601.0,   1.4799,  34.6874,2,  34.6861,2,    145.8,2,   -999.0,9,   151.96,2,    36.21,2,     0.00,2,     2.43,2, -999.000,9, -999.000,9, -999.000,9, -999.000,9, -999.000,9,-999.0000,9,  -999.00,9,   -999.0,9,   -999.0,9,   -999.0,9,   -999.0,9,   -999.0,9,     7.59,2, -999.00,  -999.0,-999.0000,-999.000,   25.00,  -999.0,  1.2039,-999.000
    31DSCG94_3,  P18N,   148,  1,    101,   1041,2,19940414,1226,  1.0007,-110.3330, 3675,   3702.7,   1.4805,  34.6877,2,  34.6872,2,    146.6,2,    149.1,2,   151.35,2,    36.06,2,     0.00,2,     2.43,2, -999.000,9, -999.000,9, -999.000,9, -999.000,9, -999.000,9,-999.0000,9,  -999.00,9,   -999.0,9,   -999.0,9,   -999.0,9,   -999.0,9,   -999.0,9,  -999.00,9, -999.00,  -999.0,-999.0000,-999.000, -999.00,  -999.0,  1.1938,-999.000