BOTTLE,20220630CCHSIOAMB
EXPOCODE,SECT_ID,STNNBR,CASTNO,SAMPNO,BTLNBR,BTLNBR_FLAG_W,DATE,TIME,LATITUDE,LONGITUDE,DEPTH,CTDPRS,CTDTMP,CTDSAL,CTDSAL_FLAG_W,SALNTY,SALNTY_FLAG_W,CTDOXY,CTDOXY_FLAG_W,OXYGEN,OXYGEN_FLAG_W,SILCAT,SILCAT_FLAG_W,NITRAT,NITRAT_FLAG_W,NITRIT,NITRIT_FLAG_W,PHSPHT,PHSPHT_FLAG_W,CFC-11,CFC-11_FLAG_W,CFC-12,CFC-12_FLAG_W,CFC113,CFC113_FLAG_W,CCL4,CCL4_FLAG_W,TRITUM,TRITUM_FLAG_W,HELIUM,HELIUM_FLAG_W,DELHE3,DELHE3_FLAG_W,DELC14,DELC14_FLAG_W,DELC13,DELC13_FLAG_W,TCARBN,TCARBN_FLAG_W,PCO2,PCO2_FLAG_W,ALKALI,ALKALI_FLAG_W,PH,PH_FLAG_W,PCO2TMP,C14ERR,HELIER,DELHER,PH_TMP,C13ERR,THETA,TRITER
,,,,,,,,,,,,DBAR,ITS-90,PSS-78,,PSS-78,,UMOL/KG,,UMOL/KG,,UMOL/KG,,UMOL/KG,,UMOL/KG,,UMOL/KG,,PMOL/KG,,PMOL/KG,,PMOL/KG,,PMOL/KG,,TU,,NMOL/KG,,PERCNT,,/MILLE,,/MILLE,,UMOL/KG,,UATM,,UMOL/KG,,,,DEG C,/MILLE,NMOL/KG,PERCNT,DEG C,/MILLE,DEG C,TU
    31DSCG94_2,  P18S,    21,  1,    136,   1025,2,19940303,0634,-61.4850,-102.9900, 5143,     10.3,   4.6115,  33.9249,2,  33.9261,2,    304.8,2,    306.6,2,     2.96,2,    19.68,2,     0.25,2,     1.48,2, -999.000,9, -999.000,9, -999.000,9, -999.000,9, -999.000,9,-999.0000,9,  -999.00,9,   -999.0,9,   -999.0,9,   2112.4,2,    639.6,2,   2273.0,2,     7.79,2,   20.00,  -999.0,-999.0000,-999.000,   25.00,  -999.0,  4.6108,-999.000
    31DSCG94_2,  P18S,    21,  1,    135,   1247,2,19940303,0634,-61.4850,-102.9900, 5143,     25.4,   4.5613,  33.9272,2,  33.9286,2,    305.0,2,    307.4,2,     2.86,2,    20.37,2,     0.25,2,     1.49,2, -999.000,9, -999.000,9, -999.000,9, -999.000,9, -999.000,9,-999.0000,9,  -999.00,9,   -999.0,9,   -999.0,9,   2110.8,2,    632.4,2,   2279.0,2,     7.79,2,   20.00,  -999.0,-999.0000,-999.000,   25.00,  -999.0,  4.5595,-999.000
    31DSCG94_2,  P18S,    21,  1,    134,   1108,2,19940303,0634,-61.4850,-102.9900, 5143,     48.3,   4.5565,  33.9286,2,  33.9287,2,    305.0,2,    307.5,2,     2.80,2,    20.51,2,     0.26,2,     1.51,2, -999.000,9, -999.000,9, -999.000,9, -999.000,9, -999.000,9,-999.0000,9,  -999.00,9,   -999.0,9,   -999.0,9,   2111.4,2,    633.5,2,   2275.0,2,     7.80,2,   20.00,  -999.0,-999.0000,-999.000,   25.00,  -999.0,  4.5530,-999.000
    31DSCG94_2,  P18S,    21,  1,    133,   1244,2,19940303,0634,-61.4850,-102.9900, 5143,     74.1,   4.5219,  33.9301,2,  33.9305,2,    308.1,2,    307.8,2,     2.84,2,    20.34,2,     0.25,2,     1.51,2, -999.000,9, -999.000,9, -999.000,9, -999.000,9, -999.000,9,-999.0000,9,  -999.00,9,   -999.0,9,   -999.0,9,   2111.4,2,    636.7,2,   2277.0,2,     7.80,2,   20.00,  -999.0,-999.0000,-999.000,   25.00,  -999.0,  4.5166,-999.000
    31DSCG94_2,  P18S,    21,  1,    132,   1003,2,19940303,0634,-61.4850,-102.9900, 5143,    100.8,   2.5213,  33.9724,2,  33.9745,2,    311.5,2,    312.0,2,    11.80,2,    24.15,2,     0.33,2,     1.82,2, -999.000,9, -999.000,9, -999.000,9, -999.000,9, -999.000,9,-999.0000,9,  -999.00,9,   -999.0,9,   -999.0,9,   2140.5,2,    758.6,2,   2274.0,2,     7.73,2,   20.00,  -999.0,-999.0000,-999.000,   25.00,  -999.0,  2.5157,-999.000
    31DSCG94_2,  P18S,    21,  1,    131,   1211,2,19940303,0634,-61.4850,-102.9900, 5143,    150.2,   2.2511,  34.0173,2,  34.0184,2,    305.1,2,    304.8,2,    17.30,2,    26.47,2,     0.22,2,     1.83,2, -999.000,9, -999.000,9, -999.000,9, -999.000,9, -999.000,9,-999.0000,9,  -999.00,9,   -999.0,9,   -999.0,9,   2148.2,2,    806.2,2,   2284.0,2,     7.71,2,   20.00,  -999.0,-999.0000,-999.000,   25.00,  -999.0,  2.2429,-999.000
    31DSCG94_2,  P18S,    21,  1,    130,   1241,2,19940303,0634,-61.4850,-102.9900, 5143,    200.1,   2.1283,  34.0449,2,  34.0432,2,    301.5,2,    303.0,2,    19.86,2,    27.23,2,     0.00,2,     1.85,2, -999.000,9, -999.000,9, -999.000,9, -999.000,9, -999.000,9,-999.0000,9,  -999.00,9,   -999.0,9,   -999.0,9,   2153.4,2,    815.7,2,   2278.0,2,     7.70,2,   20.00,  -999.0,-999.0000,-999.000,   25.00,  -999.0,  2.1176,-999.000
    31DSCG94_2,  P18S,    21,  1,    129,   1031,2,19940303,0634,-61.4850,-102.9900, 5143,    303.4,   2.0249,  34.0814,2,  34.0808,2,    283.8,2,    291.2,2,    24.13,2,    28.08,2,     0.00,2,     1.94,2, -999.000,9, -999.000,9, -999.000,9, -999.000,9, -999.000,9,-999.0000,9,  -999.00,9,   -999.0,9,   -999.0,9,   2161.3,2,    846.5,2,   2283.0,2,     7.69,2,   20.00,  -999.0,-999.0000,-999.000,   25.00,  -999.0,  2.0086,-999.000
    31DSCG94_2,  P18S,    21,  1,    128,   1210,2,19940303,0634,-61.4850,-102.9900, 5143,    398.7,   2.9193,  34.2480,2,  34.2481,2,    242.7,2,    225.7,2,    38.69,2,    31.65,2,     0.00,2,     2.17,2, -999.000,9, -999.000,9, -999.000,9, -999.000,9, -999.000,9,-999.0000,9,  -999.00,9,   -999.0,9,   -999.0,9,   2198.1,2,   1022.6,2,   2300.0,2,     7.62,2,   20.00,  -999.0,-999.0000,-999.000,   25.00,  -999.0,  2.8946,-999.000
    31DSCG94_2,  P18S,    21,  1,    127,   1008,2,19940303,0634,-61.4850,-102.9900, 5143,    499.7,   2.7066,  34.3133,2,  34.3123,2,    200.5,2,    206.9,2,    48.25,2,    33.22,2,     0.00,2,     2.28,2, -999.000,9, -999.000,9, -999.000,9, -999.000,9, -999.000,9,-999.0000,9,  -999.00,9,   -999.0,9,   -999.0,9,   2215.8,2,   1100.9,2,   2307.0,2,     7.59,2,   20.00,  -999.0,-999.0000,-999.000,   25.00,  -999.0,  2.6759,-999.000
    31DSCG94_2,  P18S,    21,  1,    126,   1007,2,19940303,0634,-61.4850,-102.9900, 5143,    600.3,   2.6610,  34.3928,2,  34.3919,2,    200.0,2,    190.1,2,    57.63,2,    33.40,2,     0.00,2,     2.35,2, -999.000,9, -999.000,9, -999.000,9, -999.000,9, -999.000,9,-999.0000,9,  -999.00,9,   -999.0,9,   -999.0,9,   2230.2,2,   1146.2,2,   2317.0,2,     7.58,2,   20.00,  -999.0,-999.0000,-999.000,   25.00,  -999.0,  2.6238,-999.000
    31DSCG94_2,  P18S,    21,  1,    125,   1203,2,19940303,0634,-61.4850,-102.9900, 5143,    701.3,   2.5755,  34.4581,2,  34.4586,2,    182.9,2,    180.3,2,    64.99,2,    34.26,2,     0.00,2,     2.32,2, -999.000,9, -999.000,9, -999.000,9, -999.000,9, -999.000,9,-999.0000,9,  -999.00,9,   -999.0,9,   -999.0,9,   2240.8,2,   1174.1,2,   2319.0,2,     7.57,2,   20.00,  -999.0,-999.0000,-999.000,   25.00,  -999.0,  2.5319,-999.000
    31DSCG94_2,  P18S,    21,  1,    123,   1101,2,19940303,0634,-61.4850,-102.9900, 5143,    810.2,   2.4513,  34.5110,2,  34.5099,2,    176.7,2,    175.4,2,    70.82,2,    34.33,2,     0.00,2,     2.35,2, -999.000,9, -999.000,9, -999.000,9, -999.000,9, -999.000,9,-999.0000,9,  -999.00,9,   -999.0,9,   -999.0,9,   2247.8,2,   1185.5,2,   2327.0,2,     7.56,2,   20.00,  -999.0,-999.0000,-999.000,   25.00,  -999.0,  2.4010,-999.000
    31DSCG94_2,  P18S,    21,  1,    121,   1206,2,19940303,0634,-61.4850,-102.9900, 5143,    902.5,   2.3752,  34.5522,2,  34.5509,2,    174.0,2,    172.8,2,    73.48,2,    34.13,2,     0.00,2,     2.34,2, -999.000,9, -999.000,9, -999.000,9, -999.000,9, -999.000,9,-999.0000,9,  -999.00,9,   -999.0,9,   -999.0,9,   2249.7,2,   1183.3,2,   2334.0,2,     7.56,2,   20.00,  -999.0,-999.0000,-999.000,   25.00,  -999.0,  2.3190,-999.000
    31DSCG94_2,  P18S,    21,  1,    119,   1248,2,19940303,0634,-61.4850,-102.9900, 5143,   1002.9,   2.3424,  34.5957,2,  34.5954,2,    173.5,2,    171.5,6,    77.25,2,    33.77,2,     0.00,2,     2.38,2, -999.000,9, -999.000,9, -999.000,9, -999.000,9, -999.000,9,-999.0000,9,  -999.00,9,   -999.0,9,   -999.0,9,   2255.0,2,   1169.1,2,   2338.0,2,     7.57,2,   20.00,  -999.0,-999.0000,-999.000,   25.00,  -999.0,  2.2793,-999.000
    31DSCG94_2,  P18S,    21,  1,    118,   1207,2,19940303,0634,-61.4850,-102.9900, 5143,   1201.5,   2.2295,  34.6497,2,  34.6486,2,    174.8,2,    173.1,2,    82.33,2,    33.42,2,     0.00,2,     2.30,2, -999.000,9, -999.000,9, -999.000,9, -999.000,9, -999.000,9,-999.0000,9,  -999.00,9,   -999.0,9,   -999.0,9,   -999.0,9,   -999.0,9,   -999.0,9,     7.58,2, -999.00,  -999.0,-999.0000,-999.000,   25.00,  -999.0,  2.1529,-999.000
    31DSCG94_2,  P18S,    21,  1,    117,   1119,2,19940303,0634,-61.4850,-102.9900, 5143,   1401.5,   2.0975,  34.6898,2,  34.6903,2,    179.1,2,    177.8,2,    84.75,2,    33.47,2,     0.00,2,     2.25,2, -999.000,9, -999.000,9, -999.000,9, -999.000,9, -999.000,9,-999.0000,9,  -999.00,9,   -999.0,9,   -999.0,9,   -999.0,9,   -999.0,9,   -999.0,9,     7.59,2, -999.00,  -999.0,-999.0000,-999.000,   25.00,  -999.0,  2.0073,-999.000
    31DSCG94_2,  P18S,    21,  1,    116,   1036,2,19940303,0634,-61.4850,-102.9900, 5143,   1598.6,   1.9713,  34.7115,2,  34.7108,2,    182.7,2,    182.0,2,    88.06,2,    32.19,2,     0.00,2,     2.23,2, -999.000,9, -999.000,9, -999.000,9, -999.000,9, -999.000,9,-999.0000,9,  -999.00,9,   -999.0,9,   -999.0,9,   -999.0,9,   -999.0,9,   -999.0,9,     7.59,2, -999.00,  -999.0,-999.0000,-999.000,   25.00,  -999.0,  1.8674,-999.000
    31DSCG94_2,  P18S,    21,  1,    115,   1017,2,19940303,0634,-61.4850,-102.9900, 5143,   1800.2,   1.8167,  34.7236,2,  34.7230,2,    186.3,2,    186.4,2,    92.47,2,    31.45,2,     0.00,2,     2.22,2, -999.000,9, -999.000,9, -999.000,9, -999.000,9, -999.000,9,-999.0000,9,  -999.00,9,   -999.0,9,   -999.0,9,   -999.0,9,   -999.0,9,   -999.0,9,     7.60,2, -999.00,  -999.0,-999.0000,-999.000,   25.00,  -999.0,  1.6989,-999.000
    31DSCG94_2,  P18S,    21,  1,    114,   1016,2,19940303,0634,-61.4850,-102.9900, 5143,   1998.8,   1.6452,  34.7265,2,  34.7259,2,    189.0,2,    189.3,2,    98.99,2,    31.58,2,     0.00,2,     2.18,2, -999.000,9, -999.000,9, -999.000,9, -999.000,9, -999.000,9,-999.0000,9,  -999.00,9,   -999.0,9,   -999.0,9,   -999.0,9,   -999.0,9,   -999.0,9,     7.61,2, -999.00,  -999.0,-999.0000,-999.000,   25.00,  -999.0,  1.5139,-999.000
    31DSCG94_2,  P18S,    21,  1,    113,   1118,2,19940303,0634,-61.4850,-102.9900, 5143,   2250.5,   1.4775,  34.7244,2,  34.7233,2,    192.6,2,    191.9,2,   105.58,2,    32.98,3,     0.00,2,     2.20,2, -999.000,9, -999.000,9, -999.000,9, -999.000,9, -999.000,9,-999.0000,9,  -999.00,9,   -999.0,9,   -999.0,9,   -999.0,9,   -999.0,9,   -999.0,9,     7.61,2, -999.00,  -999.0,-999.0000,-999.000,   25.00,  -999.0,  1.3281,-999.000
    31DSCG94_2,  P18S,    21,  1,    112,   1033,2,19940303,0634,-61.4850,-102.9900, 5143,   2499.9,   1.3451,  34.7242,2,  34.7231,2,    195.6,2,    195.3,2,   107.00,2,    31.59,2,     0.00,2,     2.21,2, -999.000,9, -999.000,9, -999.000,9, -999.000,9, -999.000,9,-999.0000,9,  -999.00,9,   -999.0,9,   -999.0,9,   -999.0,9,   -999.0,9,   -999.0,9,     7.61,2, -999.00,  -999.0,-999.0000,-999.000,   25.00,  -999.0,  1.1767,-999.000
    31DSCG94_2,  P18S,    21,  1,    111,   1263,2,19940303,0634,-61.4850,-102.9900, 5143,   2750.9,   1.1925,  34.7203,2,  34.7192,2,    197.9,2,    199.0,2,   110.65,2,    31.86,2,     0.00,2,     2.22,2, -999.000,9, -999.000,9, -999.000,9, -999.000,9, -999.000,9,-999.0000,9,  -999.00,9,   -999.0,9,   -999.0,9,   -999.0,9,   -999.0,9,   -999.0,9,     7.61,2, -999.00,  -999.0,-999.0000,-999.000,   25.00,  -999.0,  1.0050,-999.000
    31DSCG94_2,  P18S,    21,  1,    110,   1005,2,19940303,0634,-61.4850,-102.9900, 5143,   3000.2,   1.0567,  34.7164,2,  34.7148,2,    200.7,2,    201.2,2,   114.84,2,    32.04,2,     0.00,2,     2.24,2, -999.000,9, -999.000,9, -999.000,9, -999.000,9, -999.000,9,-999.0000,9,  -999.00,9,   -999.0,9,   -999.0,9,   -999.0,9,   -999.0,9,   -999.0,9,     7.61,2, -999.00,  -999.0,-999.0000,-999.000,   25.00,  -999.0,  0.8495,-999.000
    31DSCG94_2,  P18S,    21,  1,    109,   1611,2,19940303,0634,-61.4850,-102.9900, 5143,   3251.3,   0.9268,  34.7124,2,  34.7113,2,    202.6,2,    203.5,2,   120.14,2,    32.20,2,     0.00,2,     2.25,2, -999.000,9, -999.000,9, -999.000,9, -999.000,9, -999.000,9,-999.0000,9,  -999.00,9,   -999.0,9,   -999.0,9,   -999.0,9,   -999.0,9,   -999.0,9,     7.61,2, -999.00,  -999.0,-999.0000,-999.000,   25.00,  -999.0,  0.6990,-999.000
    31DSCG94_2,  P18S,    21,  1,    108,   1218,2,19940303,0634,-61.4850,-102.9900, 5143,   3498.3,   0.7988,  34.7086,2,  34.7067,2,    205.5,2,    206.1,2,   125.07,2,    32.57,2,     0.00,2,     2.22,2, -999.000,9, -999.000,9, -999.000,9, -999.000,9, -999.000,9,-999.0000,9,  -999.00,9,   -999.0,9,   -999.0,9,   -999.0,9,   -999.0,9,   -999.0,9,     7.61,2, -999.00,  -999.0,-999.0000,-999.000,   25.00,  -999.0,  0.5504,-999.000
    31DSCG94_2,  P18S,    21,  1,    107,   1257,2,19940303,0634,-61.4850,-102.9900, 5143,   3747.1,   0.6802,  34.7061,2,  34.7039,2,    208.9,2,    208.6,2,   127.27,2,    32.48,2,     0.00,2,     2.24,2, -999.000,9, -999.000,9, -999.000,9, -999.000,9, -999.000,9,-999.0000,9,  -999.00,9,   -999.0,9,   -999.0,9,   -999.0,9,   -999.0,9,   -999.0,9,     7.60,2, -999.00,  -999.0,-999.0000,-999.000,   25.00,  -999.0,  0.4102,-999.000
    31DSCG94_2,  P18S,    21,  1,    106,   1224,2,19940303,0634,-61.4850,-102.9900, 5143,   3994.9,   0.5818,  34.7047,2,  34.7024,2,    212.0,2,    210.6,6,   127.88,2,    32.68,2,     0.00,2,     2.25,2, -999.000,9, -999.000,9, -999.000,9, -999.000,9, -999.000,9,-999.0000,9,  -999.00,9,   -999.0,9,   -999.0,9,   -999.0,9,   -999.0,9,   -999.0,9,     7.60,2, -999.00,  -999.0,-999.0000,-999.000,   25.00,  -999.0,  0.2892,-999.000
    31DSCG94_2,  P18S,    21,  1,    105,   1246,2,19940303,0634,-61.4850,-102.9900, 5143,   4245.6,   0.4833,  34.7035,2,  34.7023,2,    214.7,2,    213.3,2,   130.53,2,    31.96,2,     0.00,2,     2.26,2, -999.000,9, -999.000,9, -999.000,9, -999.000,9, -999.000,9,-999.0000,9,  -999.00,9,   -999.0,9,   -999.0,9,   -999.0,9,   -999.0,9,   -999.0,9,     7.60,2, -999.00,  -999.0,-999.0000,-999.000,   25.00,  -999.0,  0.1674,-999.000
    31DSCG94_2,  P18S,    21,  1,    104,   1028,2,19940303,0634,-61.4850,-102.9900, 5143,   4496.6,   0.4446,  34.7032,2,  34.7020,2,    216.6,2,    214.1,2,   133.83,2,    32.96,2,     0.00,2,     2.29,2, -999.000,9, -999.000,9, -999.000,9, -999.000,9, -999.000,9,-999.0000,9,  -999.00,9,   -999.0,9,   -999.0,9,   -999.0,9,   -999.0,9,   -999.0,9,     7.60,2, -999.00,  -999.0,-999.0000,-999.000,   25.00,  -999.0,  0.1028,-999.000
    31DSCG94_2,  P18S,    21,  1,    103,   9999,4,19940303,0634,-61.4850,-102.9900, 5143,   4747.7,   0.4111,  34.7031,2,-999.0000,9,    219.4,2,   -999.0,9,  -999.00,9,  -999.00,9,  -999.00,9,  -999.00,9, -999.000,9, -999.000,9, -999.000,9, -999.000,9, -999.000,9,-999.0000,9,  -999.00,9,   -999.0,9,   -999.0,9,   -999.0,9,   -999.0,9,   -999.0,9,  -999.00,9, -999.00,  -999.0,-999.0000,-999.000, -999.00,  -999.0,  0.0426,-999.000
    31DSCG94_2,  P18S,    21,  1,    102,   1223,4,19940303,0634,-61.4850,-102.9900, 5143,   4997.1,   0.4273,  34.7023,2,-999.0000,9,    222.3,2,   -999.0,9,  -999.00,9,  -999.00,9,  -999.00,9,  -999.00,9, -999.000,9, -999.000,9, -999.000,9, -999.000,9, -999.000,9,-999.0000,9,  -999.00,9,   -999.0,9,   -999.0,9,   -999.0,9,   -999.0,9,   -999.0,9,  -999.00,9, -999.00,  -999.0,-999.0000,-999.000, -999.00,  -999.0,  0.0297,-999.000
    31DSCG94_2,  P18S,    21,  1,    101,   1041,2,19940303,0634,-61.4850,-102.9900, 5143,   5233.1,   0.4494,  34.7023,2,  34.7013,2,    225.2,2,    218.0,2,   138.55,2,    32.39,2,     0.00,2,     2.25,2, -999.000,9, -999.000,9, -999.000,9, -999.000,9, -999.000,9,-999.0000,9,  -999.00,9,   -999.0,9,   -999.0,9,   -999.0,9,   -999.0,9,   -999.0,9,     7.60,2, -999.00,  -999.0,-999.0000,-999.000,   25.00,  -999.0,  0.0234,-999.000