BOTTLE,20220630CCHSIOAMB
EXPOCODE,SECT_ID,STNNBR,CASTNO,SAMPNO,BTLNBR,BTLNBR_FLAG_W,DATE,TIME,LATITUDE,LONGITUDE,DEPTH,CTDPRS,CTDTMP,CTDSAL,CTDSAL_FLAG_W,SALNTY,SALNTY_FLAG_W,CTDOXY,CTDOXY_FLAG_W,OXYGEN,OXYGEN_FLAG_W,SILCAT,SILCAT_FLAG_W,NITRAT,NITRAT_FLAG_W,NITRIT,NITRIT_FLAG_W,PHSPHT,PHSPHT_FLAG_W,CFC-11,CFC-11_FLAG_W,CFC-12,CFC-12_FLAG_W,CFC113,CFC113_FLAG_W,CCL4,CCL4_FLAG_W,TRITUM,TRITUM_FLAG_W,HELIUM,HELIUM_FLAG_W,DELHE3,DELHE3_FLAG_W,DELC14,DELC14_FLAG_W,DELC13,DELC13_FLAG_W,TCARBN,TCARBN_FLAG_W,PCO2,PCO2_FLAG_W,ALKALI,ALKALI_FLAG_W,PH,PH_FLAG_W,PCO2TMP,C14ERR,HELIER,DELHER,PH_TMP,C13ERR,THETA,TRITER
,,,,,,,,,,,,DBAR,ITS-90,PSS-78,,PSS-78,,UMOL/KG,,UMOL/KG,,UMOL/KG,,UMOL/KG,,UMOL/KG,,UMOL/KG,,PMOL/KG,,PMOL/KG,,PMOL/KG,,PMOL/KG,,TU,,NMOL/KG,,PERCNT,,/MILLE,,/MILLE,,UMOL/KG,,UATM,,UMOL/KG,,,,DEG C,/MILLE,NMOL/KG,PERCNT,DEG C,/MILLE,DEG C,TU
    31DSCG94_2,  P18S,    10,  3,    336,   1025,2,19940227,1717,-66.9950,-103.0067, 4746,      9.5,   2.2263,  33.4734,2,  33.4751,2,    300.7,2,    323.1,2,     8.31,2,    21.43,2,     0.20,2,     1.47,2, -999.000,5, -999.000,5, -999.000,9, -999.000,9, -999.000,9,-999.0000,9,  -999.00,9,    -34.8,2,      1.8,2,   2108.3,2,    688.6,2,   2261.0,2,  -999.00,9,   20.00,     5.5,-999.0000,-999.000, -999.00,  -999.0,  2.2258,-999.000
    31DSCG94_2,  P18S,    10,  3,    335,   1247,2,19940227,1717,-66.9950,-103.0067, 4746,     24.5,   2.0786,  33.6779,2,  33.6989,2,    308.1,2,    327.8,2,    11.84,2,    23.11,2,     0.22,2,     1.61,2,    6.425,2,    2.981,2, -999.000,9, -999.000,9, -999.000,9,-999.0000,9,  -999.00,9,    -64.4,2,      1.7,2,   2124.9,2,    717.9,2,   2276.0,2,  -999.00,9,   20.00,     2.8,-999.0000,-999.000, -999.00,  -999.0,  2.0773,-999.000
    31DSCG94_2,  P18S,    10,  3,    334,   1108,2,19940227,1717,-66.9950,-103.0067, 4746,     47.9,   0.4896,  33.7799,2,  33.7903,2,    321.8,2,    344.9,2,    14.48,2,    24.06,2,     0.09,2,     1.77,2,    6.875,6,    3.147,6, -999.000,9, -999.000,9, -999.000,9,-999.0000,9,  -999.00,9,    -67.9,2,      1.6,2,   2132.9,2,    732.4,2,   2281.0,2,  -999.00,9,   20.00,     3.0,-999.0000,-999.000, -999.00,  -999.0,  0.4878,-999.000
    31DSCG94_2,  P18S,    10,  3,    333,   1103,2,19940227,1717,-66.9950,-103.0067, 4746,     77.6,  -0.4071,  33.8693,2,  33.8728,2,    334.6,2,    344.3,2,    20.12,2,    25.47,2,     0.09,2,     1.84,2,    7.030,2,    3.184,2, -999.000,9, -999.000,9, -999.000,9,-999.0000,9,  -999.00,9,    -58.5,2,      1.5,2,   2147.1,2,    784.1,2,   -999.0,5,  -999.00,9,   20.00,     2.6,-999.0000,-999.000, -999.00,  -999.0, -0.4095,-999.000
    31DSCG94_2,  P18S,    10,  3,    332,   1003,2,19940227,1717,-66.9950,-103.0067, 4746,     99.1,  -0.3952,  33.8948,2,  33.8964,2,    328.1,2,    340.4,2,    21.73,2,    26.30,2,     0.09,2,     1.87,2,    6.819,2,    3.153,2, -999.000,9, -999.000,9, -999.000,9,-999.0000,9,  -999.00,9,   -999.0,9,      1.4,2,   2148.7,2,    803.5,2,   2282.0,2,  -999.00,9,   20.00,  -999.0,-999.0000,-999.000, -999.00,  -999.0, -0.3983,-999.000
    31DSCG94_2,  P18S,    10,  3,    331,   1224,2,19940227,1717,-66.9950,-103.0067, 4746,    149.5,  -0.0413,  33.9736,2,-999.0000,5,    313.1,2,   -999.0,9,  -999.00,9,  -999.00,9,  -999.00,9,  -999.00,9, -999.000,5, -999.000,5, -999.000,9, -999.000,9, -999.000,9,-999.0000,9,  -999.00,9,   -999.0,9,   -999.0,9,   -999.0,9,   -999.0,9,   -999.0,9,  -999.00,9, -999.00,  -999.0,-999.0000,-999.000, -999.00,  -999.0, -0.0465,-999.000
    31DSCG94_2,  P18S,    10,  3,    330,   1241,2,19940227,1717,-66.9950,-103.0067, 4746,    198.5,   1.0884,  34.1244,2,  34.1255,2,    284.2,2,    268.9,2,    37.45,2,    30.98,2,     0.00,2,     2.12,2,    4.114,2,    1.950,2, -999.000,9, -999.000,9, -999.000,9,-999.0000,9,  -999.00,9,    -84.0,2,      1.0,2,   2199.5,2,    980.3,2,   -999.0,5,  -999.00,9,   20.00,     3.4,-999.0000,-999.000, -999.00,  -999.0,  1.0795,-999.000
    31DSCG94_2,  P18S,    10,  3,    329,   1031,2,19940227,1717,-66.9950,-103.0067, 4746,    249.0,   2.0436,  34.2834,2,  34.2841,2,    222.3,2,    216.8,2,    50.94,2,    33.63,2,     0.00,2,     2.32,2,    2.233,2,    1.024,2, -999.000,9, -999.000,9, -999.000,9,-999.0000,9,  -999.00,9,    -98.6,2,      0.7,2,   2215.7,2,   1109.8,2,   2307.0,2,  -999.00,9,   20.00,     2.7,-999.0000,-999.000, -999.00,  -999.0,  2.0302,-999.000
    31DSCG94_2,  P18S,    10,  3,    328,   1210,2,19940227,1717,-66.9950,-103.0067, 4746,    290.5,   2.1173,  34.3437,2,  34.3457,2,    205.6,2,    202.8,2,    57.03,2,    34.49,2,     0.00,2,     2.35,2,    1.729,2,    0.808,2, -999.000,9, -999.000,9, -999.000,9,-999.0000,9,  -999.00,9,   -110.0,2,      0.6,2,   2227.4,2,   1163.0,2,   2312.0,2,  -999.00,9,   20.00,     2.6,-999.0000,-999.000, -999.00,  -999.0,  2.1014,-999.000
    31DSCG94_2,  P18S,    10,  3,    327,   1008,2,19940227,1717,-66.9950,-103.0067, 4746,    400.0,   2.1351,  34.4559,2,  34.4557,2,    194.9,2,    184.0,2,    67.00,2,    34.72,2,     0.00,2,     2.34,2,    1.042,2,    0.477,2, -999.000,9, -999.000,9, -999.000,9,-999.0000,9,  -999.00,9,   -138.3,2,      0.5,2,   2245.2,2,   1201.7,2,   2332.0,2,  -999.00,9,   20.00,     2.5,-999.0000,-999.000, -999.00,  -999.0,  2.1127,-999.000
    31DSCG94_2,  P18S,    10,  3,    326,   1007,2,19940227,1717,-66.9950,-103.0067, 4746,    498.2,   2.1675,  34.5327,2,  34.5316,2,    198.8,2,    175.1,2,    72.82,2,    34.65,2,     0.00,2,     2.38,2,    0.620,2,    0.294,2, -999.000,9, -999.000,9, -999.000,9,-999.0000,9,  -999.00,9,   -190.2,3,      0.4,2,   2249.8,2,   1216.7,2,   2329.0,2,  -999.00,9,   20.00,     5.9,-999.0000,-999.000, -999.00,  -999.0,  2.1389,-999.000
    31DSCG94_2,  P18S,    10,  3,    325,   1203,2,19940227,1717,-66.9950,-103.0067, 4746,    599.1,   2.1744,  34.5878,2,  34.5876,2,    204.0,2,    172.3,2,    75.44,2,    33.69,2,     0.00,2,     2.35,2,    0.472,3,    0.191,3, -999.000,9, -999.000,9, -999.000,9,-999.0000,9,  -999.00,9,   -151.6,2,      0.4,2,   2253.0,2,   1198.7,2,   2335.0,2,  -999.00,9,   20.00,     2.7,-999.0000,-999.000, -999.00,  -999.0,  2.1395,-999.000
    31DSCG94_2,  P18S,    10,  3,    321,   1206,2,19940227,1717,-66.9950,-103.0067, 4746,    705.5,   2.1443,  34.6338,2,  34.6343,2,    209.2,2,    173.0,2,    78.55,2,    32.96,2,     0.00,2,     2.31,2,    0.265,2,    0.124,2, -999.000,9, -999.000,9, -999.000,9,-999.0000,9,  -999.00,9,   -153.6,2,      0.4,2,   2255.1,2,   1175.9,2,   2338.0,2,  -999.00,9,   20.00,     2.5,-999.0000,-999.000, -999.00,  -999.0,  2.1027,-999.000
    31DSCG94_2,  P18S,    10,  3,    323,   1101,2,19940227,1717,-66.9950,-103.0067, 4746,    708.9,   2.1423,  34.6362,2,  34.6362,2,    209.0,2,    172.7,2,    78.20,2,    33.50,3,     0.00,2,     2.30,2,    0.285,3,    0.118,2, -999.000,9, -999.000,9, -999.000,9,-999.0000,9,  -999.00,9,   -150.9,2,      0.4,2,   2253.2,3,   1180.5,2,   2341.0,2,  -999.00,9,   20.00,     2.6,-999.0000,-999.000, -999.00,  -999.0,  2.1005,-999.000
    31DSCG94_2,  P18S,    10,  3,    319,   1248,2,19940227,1717,-66.9950,-103.0067, 4746,    893.0,   2.0473,  34.6838,2,  34.6849,2,    204.3,2,    177.8,2,    81.38,2,    32.09,2,     0.00,2,     2.24,2,    0.162,2,    0.071,2, -999.000,9, -999.000,9, -999.000,9,-999.0000,9,  -999.00,9,   -166.5,2,      0.4,2,   2254.3,2,   1142.1,2,   2350.0,2,  -999.00,9,   20.00,     2.7,-999.0000,-999.000, -999.00,  -999.0,  1.9939,-999.000
    31DSCG94_2,  P18S,    10,  3,    318,   1207,2,19940227,1717,-66.9950,-103.0067, 4746,    998.4,   1.9806,  34.7010,2,  34.7014,2,    202.0,2,   -999.0,9,    84.05,2,    31.72,2,     0.00,2,     2.21,2,    0.136,2,    0.057,2, -999.000,9, -999.000,9, -999.000,9,   1.8580,2,     9.65,2,   -158.6,2,      0.4,2,   2253.1,2,   1118.0,2,   2343.0,2,  -999.00,9,   20.00,     2.8,-999.0000,-999.000, -999.00,  -999.0,  1.9205,-999.000
    31DSCG94_2,  P18S,    10,  3,    317,   1119,2,19940227,1717,-66.9950,-103.0067, 4746,   1193.5,   1.8436,  34.7217,2,  34.7239,2,    203.4,2,    185.3,2,    88.54,2,    30.85,2,     0.00,2,     2.15,2,    0.039,2,    0.018,2, -999.000,9, -999.000,9, -999.000,9,   1.8640,2,     9.60,2,   -155.1,2,      0.5,2,   2252.8,2,   1096.3,2,   2363.0,2,  -999.00,9,   20.00,     3.3,-999.0000,-999.000, -999.00,  -999.0,  1.7711,-999.000
    31DSCG94_2,  P18S,    10,  3,    316,   1036,2,19940227,1717,-66.9950,-103.0067, 4746,   1398.5,   1.6651,  34.7304,2,  34.7304,2,    205.6,2,    189.8,2,    94.80,2,    30.63,2,     0.00,2,     2.14,2, -999.000,5, -999.000,5, -999.000,9, -999.000,9, -999.000,9,   1.8700,2,     9.99,2,   -155.7,2,      0.5,2,   2253.1,2,   1070.6,2,   -999.0,5,  -999.00,9,   20.00,     4.0,-999.0000,-999.000, -999.00,  -999.0,  1.5798,-999.000
    31DSCG94_2,  P18S,    10,  3,    315,   1017,2,19940227,1717,-66.9950,-103.0067, 4746,   1599.4,   1.4983,  34.7303,2,  34.7301,2,    207.5,2,    192.5,2,    99.06,2,    30.63,2,     0.00,2,     2.15,2,    0.070,2,    0.026,2, -999.000,9, -999.000,9, -999.000,9,   1.8750,2,     9.84,2,   -156.9,2,      0.5,2,   2255.1,2,   1073.0,2,   2357.0,2,  -999.00,9,   20.00,     2.5,-999.0000,-999.000, -999.00,  -999.0,  1.4002,-999.000
    31DSCG94_2,  P18S,    10,  3,    314,   1016,2,19940227,1717,-66.9950,-103.0067, 4746,   1799.9,   1.3567,  34.7282,2,  34.7279,2,    206.9,2,    194.6,2,   100.85,2,    30.71,2,     0.00,2,     2.18,2,    0.054,2,    0.025,2, -999.000,9, -999.000,9, -999.000,9,   1.8720,2,     9.73,2,   -156.0,2,      0.5,2,   2255.0,2,   1064.0,2,   2350.0,2,  -999.00,9,   20.00,     2.8,-999.0000,-999.000, -999.00,  -999.0,  1.2453,-999.000
    31DSCG94_2,  P18S,    10,  3,    313,   1118,2,19940227,1717,-66.9950,-103.0067, 4746,   1994.4,   1.2391,  34.7243,2,  34.7247,2,    205.8,2,    196.5,2,   105.39,2,    31.26,2,     0.00,2,     2.22,2,    0.049,6,    0.021,6, -999.000,9, -999.000,9, -999.000,9,   1.8710,2,     9.21,2,   -166.4,2,      0.5,2,   2258.3,2,   1076.1,2,   2354.0,2,  -999.00,9,   20.00,     2.7,-999.0000,-999.000, -999.00,  -999.0,  1.1144,-999.000
    31DSCG94_2,  P18S,    10,  3,    312,   1033,2,19940227,1717,-66.9950,-103.0067, 4746,   2248.6,   1.0836,  34.7193,2,  34.7193,2,    205.2,2,    199.2,2,  -999.00,9,  -999.00,9,  -999.00,9,  -999.00,9,    0.148,4,    0.051,2, -999.000,9, -999.000,9, -999.000,9,   1.8760,2,    10.23,2,   -167.3,2,      0.5,2,   2258.7,2,   1071.4,6,   -999.0,5,  -999.00,9,   20.00,     2.7,-999.0000,-999.000, -999.00,  -999.0,  0.9412,-999.000
    31DSCG94_2,  P18S,    10,  3,    311,   1263,4,19940227,1717,-66.9950,-103.0067, 4746,   2497.1,   0.9701,  34.7151,2,-999.0000,9,    205.8,2,   -999.0,9,  -999.00,9,  -999.00,9,  -999.00,9,  -999.00,9, -999.000,5, -999.000,5, -999.000,9, -999.000,9, -999.000,9,-999.0000,9,  -999.00,9,   -999.0,9,   -999.0,9,   2258.7,2,   -999.0,9,   2366.0,2,  -999.00,9, -999.00,  -999.0,-999.0000,-999.000, -999.00,  -999.0,  0.8090,-999.000
    31DSCG94_2,  P18S,    10,  3,    310,   1005,2,19940227,1717,-66.9950,-103.0067, 4746,   2747.9,   0.8474,  34.7108,2,  34.7100,2,    206.7,2,    203.6,2,   120.89,2,    31.64,2,     0.00,2,     2.23,2,    0.070,2,    0.018,2, -999.000,9, -999.000,9, -999.000,9,   1.8820,2,    10.31,2,   -161.1,2,      0.4,2,   2257.9,2,   1078.2,2,   2363.0,2,  -999.00,9,   20.00,     2.7,-999.0000,-999.000, -999.00,  -999.0,  0.6673,-999.000
    31DSCG94_2,  P18S,    10,  3,    309,   1611,2,19940227,1717,-66.9950,-103.0067, 4746,   2997.1,   0.7575,  34.7080,2,  34.7073,2,    207.5,2,    205.3,2,   125.07,2,    31.68,2,     0.00,2,     2.20,2,    0.064,2,    0.020,2, -999.000,9, -999.000,9, -999.000,9,   1.8830,2,    10.43,2,   -170.6,2,      0.5,2,   2259.6,2,   1072.5,2,   -999.0,5,  -999.00,9,   20.00,     4.6,-999.0000,-999.000, -999.00,  -999.0,  0.5572,-999.000
    31DSCG94_2,  P18S,    10,  3,    308,   1218,2,19940227,1717,-66.9950,-103.0067, 4746,   3289.3,   0.6282,  34.7048,2,  34.7045,2,    209.4,2,    208.0,2,   126.89,2,    31.52,2,     0.00,2,     2.24,2,    0.070,2,    0.032,2, -999.000,5, -999.000,5, -999.000,9,   1.8910,2,    10.48,2,   -158.4,2,      0.5,2,   2260.1,2,   1084.6,2,   2361.0,2,  -999.00,9,   20.00,     2.4,-999.0000,-999.000, -999.00,  -999.0,  0.4041,-999.000
    31DSCG94_2,  P18S,    10,  3,    307,   1257,2,19940227,1717,-66.9950,-103.0067, 4746,   3597.1,   0.4996,  34.7036,2,  34.7027,2,    211.0,2,    210.6,2,   127.43,2,    31.54,2,     0.00,2,     2.25,2,    0.057,6,    0.026,6, -999.000,9, -999.000,9, -999.000,9,   1.9040,2,     9.15,2,   -155.0,2,      0.4,2,   2260.5,2,   1081.7,2,   2361.0,2,  -999.00,9,   20.00,     3.5,-999.0000,-999.000, -999.00,  -999.0,  0.2492,-999.000
    31DSCG94_2,  P18S,    10,  3,    306,   1224,2,19940227,1717,-66.9950,-103.0067, 4746,   3892.4,   0.4220,  34.7029,2,  34.7024,2,    212.3,2,    212.6,2,   130.37,2,    31.70,2,     0.00,2,     2.24,2,    0.165,4,    0.033,2, -999.000,9, -999.000,9, -999.000,9,   1.8840,2,     9.03,2,   -166.4,2,      0.4,2,   2260.5,3,   1086.6,2,   2367.0,2,  -999.00,9,   20.00,     3.7,-999.0000,-999.000, -999.00,  -999.0,  0.1445,-999.000
    31DSCG94_2,  P18S,    10,  3,    305,   1246,2,19940227,1717,-66.9950,-103.0067, 4746,   4198.9,   0.3660,  34.7028,2,  34.7022,2,    214.1,2,    214.0,2,   132.12,2,    31.95,2,     0.00,2,     2.26,2,    0.072,2,    0.035,2, -999.000,9, -999.000,9, -999.000,9,   1.9000,2,     8.17,2,   -159.5,2,      0.5,2,   2259.8,2,   1081.4,2,   -999.0,5,  -999.00,9,   20.00,     3.6,-999.0000,-999.000, -999.00,  -999.0,  0.0585,-999.000
    31DSCG94_2,  P18S,    10,  3,    303,   9999,2,19940227,1717,-66.9950,-103.0067, 4746,   4496.5,   0.3490,  34.7026,2,  34.7035,2,    214.2,2,    215.1,2,   138.26,2,    31.87,2,     0.00,2,     2.22,2,    0.084,2,    0.045,2, -999.000,5, -999.000,5, -999.000,9,   1.9250,3,     8.13,2,   -173.9,2,      0.5,2,   2260.8,2,   1066.9,2,   2360.0,2,  -999.00,9,   20.00,     3.6,-999.0000,-999.000, -999.00,  -999.0,  0.0103,-999.000
    31DSCG94_2,  P18S,    10,  3,    304,   1028,3,19940227,1717,-66.9950,-103.0067, 4746,   4497.4,   0.3493,  34.7026,2,  34.7014,2,    213.7,2,    215.2,2,   137.85,2,    32.14,2,     0.00,2,     2.21,2,    0.090,6,    0.038,6, -999.000,9, -999.000,9, -999.000,9,-999.0000,9,  -999.00,9,   -172.7,2,      0.4,2,   2261.2,2,   1087.4,2,   -999.0,5,  -999.00,9,   20.00,     2.6,-999.0000,-999.000, -999.00,  -999.0,  0.0105,-999.000
    31DSCG94_2,  P18S,    10,  3,    302,   1239,3,19940227,1717,-66.9950,-103.0067, 4746,   4809.5,   0.3567,  34.7020,2,  34.7017,2,    214.8,2,    215.7,2,  -999.00,9,  -999.00,9,  -999.00,9,  -999.00,9, -999.000,5, -999.000,5, -999.000,9, -999.000,9, -999.000,9,-999.0000,9,  -999.00,9,   -169.8,2,      0.3,2,   2262.6,2,   1073.5,2,   2360.0,2,  -999.00,9,   20.00,     2.3,-999.0000,-999.000, -999.00,  -999.0, -0.0170,-999.000