BOTTLE,20220630CCHSIOAMB
EXPOCODE,SECT_ID,STNNBR,CASTNO,SAMPNO,BTLNBR,BTLNBR_FLAG_W,DATE,TIME,LATITUDE,LONGITUDE,DEPTH,CTDPRS,CTDTMP,CTDSAL,CTDSAL_FLAG_W,SALNTY,SALNTY_FLAG_W,CTDOXY,CTDOXY_FLAG_W,OXYGEN,OXYGEN_FLAG_W,SILCAT,SILCAT_FLAG_W,NITRAT,NITRAT_FLAG_W,NITRIT,NITRIT_FLAG_W,PHSPHT,PHSPHT_FLAG_W,CFC-11,CFC-11_FLAG_W,CFC-12,CFC-12_FLAG_W,CFC113,CFC113_FLAG_W,CCL4,CCL4_FLAG_W,TRITUM,TRITUM_FLAG_W,HELIUM,HELIUM_FLAG_W,DELHE3,DELHE3_FLAG_W,DELC14,DELC14_FLAG_W,DELC13,DELC13_FLAG_W,TCARBN,TCARBN_FLAG_W,PCO2,PCO2_FLAG_W,ALKALI,ALKALI_FLAG_W,PH,PH_FLAG_W,PCO2TMP,C14ERR,HELIER,DELHER,PH_TMP,C13ERR,THETA,TRITER
,,,,,,,,,,,,DBAR,ITS-90,PSS-78,,PSS-78,,UMOL/KG,,UMOL/KG,,UMOL/KG,,UMOL/KG,,UMOL/KG,,UMOL/KG,,PMOL/KG,,PMOL/KG,,PMOL/KG,,PMOL/KG,,TU,,NMOL/KG,,PERCNT,,/MILLE,,/MILLE,,UMOL/KG,,UATM,,UMOL/KG,,,,DEG C,/MILLE,NMOL/KG,PERCNT,DEG C,/MILLE,DEG C,TU
    31DSCG94_3,  P18N,   127,  1,    135,   1247,2,19940409,0051, -6.9408,-107.5112, 3180,     10.0,  27.6412,  34.8777,2,  34.8802,2,    198.9,2,    204.7,2,     0.39,2,     1.88,2,     0.08,2,     0.34,2,    4.723,4,    0.962,2, -999.000,9, -999.000,9, -999.000,9,-999.0000,9,  -999.00,9,   -999.0,9,   -999.0,9,   1969.8,2,    289.1,2,   2299.0,6,     8.10,2,   20.00,  -999.0,-999.0000,-999.000,   25.00,  -999.0, 27.6388,-999.000
    31DSCG94_3,  P18N,   127,  1,    134,   1216,2,19940409,0051, -6.9408,-107.5112, 3180,     10.7,  27.6412,  34.8773,2,  34.8801,2,    221.8,2,    205.0,2,     0.40,2,     1.80,2,     0.08,2,     0.30,2,    1.705,2,    0.987,2, -999.000,9, -999.000,9, -999.000,9,-999.0000,9,  -999.00,9,   -999.0,9,   -999.0,9,   1969.8,2,    282.6,2,   2305.0,2,     8.10,2,   20.00,  -999.0,-999.0000,-999.000,   25.00,  -999.0, 27.6387,-999.000
    31DSCG94_3,  P18N,   127,  1,    136,   1025,2,19940409,0051, -6.9408,-107.5112, 3180,     11.0,  27.6427,  34.8775,2,  34.8804,2,    228.6,2,    205.0,2,     1.18,2,     1.94,2,     0.07,2,     0.35,2,    1.721,2,    1.000,2, -999.000,9, -999.000,9, -999.000,9,-999.0000,9,  -999.00,9,   -999.0,9,   -999.0,9,   1969.1,2,    289.3,2,   2301.0,6,     8.10,2,   20.00,  -999.0,-999.0000,-999.000,   25.00,  -999.0, 27.6401,-999.000
    31DSCG94_3,  P18N,   127,  1,    133,   1244,2,19940409,0051, -6.9408,-107.5112, 3180,     24.6,  27.5934,  34.9209,2,  34.9229,2,    198.0,2,    204.5,2,     0.23,2,     1.95,2,     0.08,2,     0.29,2,    1.713,6,    0.984,6, -999.000,9, -999.000,9, -999.000,9,-999.0000,9,  -999.00,9,   -999.0,9,   -999.0,9,   1974.5,2,    282.8,2,   2303.0,2,     8.09,2,   20.00,  -999.0,-999.0000,-999.000,   25.00,  -999.0, 27.5876,-999.000
    31DSCG94_3,  P18N,   127,  1,    132,   1003,2,19940409,0051, -6.9408,-107.5112, 3180,     48.5,  25.0729,  35.4379,2,  35.4418,2,    187.9,2,    210.1,2,     2.64,2,     4.92,2,     0.08,2,     0.66,2,    1.915,2,    1.101,2, -999.000,9, -999.000,9, -999.000,9,-999.0000,9,  -999.00,9,   -999.0,9,   -999.0,9,   2036.4,2,    335.9,2,   2332.0,2,     8.03,2,   20.00,  -999.0,-999.0000,-999.000,   25.00,  -999.0, 25.0623,-999.000
    31DSCG94_3,  P18N,   127,  1,    131,   1211,2,19940409,0051, -6.9408,-107.5112, 3180,     75.1,  21.1991,  35.2639,2,  35.2877,2,    136.4,2,    158.8,2,     5.07,2,     9.26,2,     1.02,2,     1.08,2,    1.920,2,    1.047,2, -999.000,9, -999.000,9, -999.000,9,-999.0000,9,  -999.00,9,   -999.0,9,   -999.0,9,   2101.6,2,    490.1,2,   2329.0,2,     7.90,2,   20.00,  -999.0,-999.0000,-999.000,   25.00,  -999.0, 21.1846,-999.000
    31DSCG94_3,  P18N,   127,  1,    130,   1241,2,19940409,0051, -6.9408,-107.5112, 3180,    101.5,  17.2364,  35.2578,2,  35.2788,2,    105.5,2,    104.1,2,     6.31,2,    14.51,2,     1.02,2,     1.44,2,    1.934,2,    1.067,2, -999.000,9, -999.000,9, -999.000,9,-999.0000,9,  -999.00,9,   -999.0,9,   -999.0,9,   2160.7,2,    694.5,2,   2318.0,2,     7.77,2,   20.00,  -999.0,-999.0000,-999.000,   25.00,  -999.0, 17.2195,-999.000
    31DSCG94_3,  P18N,   127,  1,    129,   1240,2,19940409,0051, -6.9408,-107.5112, 3180,    123.1,  14.2246,  35.0186,2,  35.0191,2,     14.0,2,     13.6,2,    16.67,2,    26.93,2,     0.01,2,     2.23,2,    0.880,2,    0.479,2, -999.000,9, -999.000,9, -999.000,9,-999.0000,9,  -999.00,9,   -999.0,9,   -999.0,9,   2230.8,2,   1248.5,2,   2298.0,2,     7.53,2,   20.00,  -999.0,-999.0000,-999.000,   25.00,  -999.0, 14.2066,-999.000
    31DSCG94_3,  P18N,   127,  1,    128,   1032,2,19940409,0051, -6.9408,-107.5112, 3180,    150.6,  12.9933,  34.9372,2,  34.9366,2,     12.0,2,      7.1,6,    23.27,2,    30.72,2,     0.00,2,     2.38,2,    0.410,2,    0.224,2, -999.000,9, -999.000,9, -999.000,9,-999.0000,9,  -999.00,9,   -999.0,9,   -999.0,9,   2242.3,2,   1387.4,2,   2304.0,2,     7.49,2,   20.00,  -999.0,-999.0000,-999.000,   25.00,  -999.0, 12.9726,-999.000
    31DSCG94_3,  P18N,   127,  1,    127,   1008,2,19940409,0051, -6.9408,-107.5112, 3180,    167.4,  12.6778,  34.9165,2,  34.9146,2,     12.3,2,      9.8,2,    24.74,2,    30.63,2,     0.01,2,     2.38,2,    0.358,2,    0.242,2, -999.000,9, -999.000,9, -999.000,9,-999.0000,9,  -999.00,9,   -999.0,9,   -999.0,9,   2242.5,2,   1398.3,6,   2296.0,2,     7.49,2,   20.00,  -999.0,-999.0000,-999.000,   25.00,  -999.0, 12.6552,-999.000
    31DSCG94_3,  P18N,   127,  1,    126,   1007,2,19940409,0051, -6.9408,-107.5112, 3180,    200.3,  12.3256,  34.8933,2,  34.8912,2,     11.9,2,     13.8,2,    26.00,2,    30.61,2,     0.00,2,     2.36,2,    0.281,2,    0.171,2, -999.000,9, -999.000,9, -999.000,9,-999.0000,9,  -999.00,9,   -999.0,9,   -999.0,9,   2241.4,2,   1408.9,2,   2299.0,2,     7.49,2,   20.00,  -999.0,-999.0000,-999.000,   25.00,  -999.0, 12.2991,-999.000
    31DSCG94_3,  P18N,   127,  1,    125,   1203,2,19940409,0051, -6.9408,-107.5112, 3180,    218.5,  12.0935,  34.8773,2,  34.8753,2,     14.9,2,     13.7,2,    26.72,2,    31.88,2,     0.00,2,     2.38,2,    0.238,2,    0.135,2, -999.000,9, -999.000,9, -999.000,9,-999.0000,9,  -999.00,9,   -999.0,9,   -999.0,9,   2242.6,2,   1418.0,2,   2304.0,2,     7.49,2,   20.00,  -999.0,-999.0000,-999.000,   25.00,  -999.0, 12.0649,-999.000
    31DSCG94_3,  P18N,   127,  1,    123,   1220,2,19940409,0051, -6.9408,-107.5112, 3180,    297.8,  11.1918,  34.8196,2,  34.8182,2,     16.8,2,     13.6,2,    29.69,2,    33.27,2,     0.01,2,     2.46,2,    0.139,6,    0.080,6, -999.000,9, -999.000,9, -999.000,9,-999.0000,9,  -999.00,9,   -999.0,9,   -999.0,9,   2253.0,2,   1508.2,2,   2308.0,2,     7.46,2,   20.00,  -999.0,-999.0000,-999.000,   25.00,  -999.0, 11.1546,-999.000
    31DSCG94_3,  P18N,   127,  1,    122,   1245,2,19940409,0051, -6.9408,-107.5112, 3180,    350.0,  10.5968,  34.7807,2,  34.7790,2,      3.1,2,      4.7,2,    33.44,2,    35.00,2,     0.01,2,     2.64,2,    0.062,2,    0.035,2, -999.000,9, -999.000,9, -999.000,9,-999.0000,9,  -999.00,9,   -999.0,9,   -999.0,9,   -999.0,9,   -999.0,9,   -999.0,9,  -999.00,9, -999.00,  -999.0,-999.0000,-999.000, -999.00,  -999.0, 10.5544,-999.000
    31DSCG94_3,  P18N,   127,  1,    121,   1206,2,19940409,0051, -6.9408,-107.5112, 3180,    404.2,   9.6172,  34.7187,2,  34.7174,2,      2.2,2,      2.7,2,    38.88,2,    36.57,2,     0.01,2,     2.80,2,    0.027,2,    0.009,2, -999.000,9, -999.000,9, -999.000,9,-999.0000,9,  -999.00,9,   -999.0,9,   -999.0,9,   -999.0,9,   -999.0,9,   -999.0,9,  -999.00,9, -999.00,  -999.0,-999.0000,-999.000, -999.00,  -999.0,  9.5711,-999.000
    31DSCG94_3,  P18N,   127,  1,    120,   1028,2,19940409,0051, -6.9408,-107.5112, 3180,    497.5,   8.0381,  34.6275,2,  34.6261,2,      4.7,2,      6.9,2,    44.83,2,    42.17,2,     0.00,2,     2.98,2,    0.002,2,    0.000,2, -999.000,9, -999.000,9, -999.000,9,-999.0000,9,  -999.00,9,   -999.0,9,   -999.0,9,   -999.0,9,   1918.3,6,   -999.0,9,  -999.00,9,   20.00,  -999.0,-999.0000,-999.000, -999.00,  -999.0,  7.9869,-999.000
    31DSCG94_3,  P18N,   127,  1,    119,   1248,2,19940409,0051, -6.9408,-107.5112, 3180,    600.0,   6.8328,  34.5731,2,  34.5720,2,     15.4,2,     24.0,2,    51.50,2,    44.03,2,     0.00,2,     3.01,2,    0.001,2,    0.002,2, -999.000,9, -999.000,9, -999.000,9,-999.0000,9,  -999.00,9,   -999.0,9,   -999.0,9,   -999.0,9,   -999.0,9,   -999.0,9,  -999.00,9, -999.00,  -999.0,-999.0000,-999.000, -999.00,  -999.0,  6.7761,-999.000
    31DSCG94_3,  P18N,   127,  1,    118,   1115,2,19940409,0051, -6.9408,-107.5112, 3180,    700.0,   5.9349,  34.5453,2,  34.5446,2,     42.1,2,     47.3,2,    59.34,2,    43.74,2,     0.00,2,     2.96,2,   -0.001,2,   -0.002,2, -999.000,9, -999.000,9, -999.000,9,-999.0000,9,  -999.00,9,   -999.0,9,   -999.0,9,   -999.0,9,   -999.0,9,   -999.0,9,  -999.00,9, -999.00,  -999.0,-999.0000,-999.000, -999.00,  -999.0,  5.8730,-999.000
    31DSCG94_3,  P18N,   127,  1,    117,   1119,2,19940409,0051, -6.9408,-107.5112, 3180,    803.4,   5.3477,  34.5384,2,  34.5380,2,     58.3,2,     63.3,2,    67.14,2,    41.85,2,     0.01,2,     2.94,2, -999.000,5, -999.000,5, -999.000,9, -999.000,9, -999.000,9,-999.0000,9,  -999.00,9,   -999.0,9,   -999.0,9,   -999.0,9,   1625.8,2,   -999.0,9,  -999.00,9,   20.00,  -999.0,-999.0000,-999.000, -999.00,  -999.0,  5.2797,-999.000
    31DSCG94_3,  P18N,   127,  1,    116,   1036,2,19940409,0051, -6.9408,-107.5112, 3180,    899.7,   4.8555,  34.5394,2,  34.5393,2,     71.6,2,     68.3,2,    73.97,2,    42.13,2,     0.02,2,     2.97,2, -999.000,9, -999.000,9, -999.000,9, -999.000,9, -999.000,9,-999.0000,9,  -999.00,9,   -999.0,9,   -999.0,9,   2294.8,2,   -999.0,9,   2348.0,6,  -999.00,9, -999.00,  -999.0,-999.0000,-999.000, -999.00,  -999.0,  4.7822,-999.000
    31DSCG94_3,  P18N,   127,  1,    115,   1017,2,19940409,0051, -6.9408,-107.5112, 3180,   1001.8,   4.2893,  34.5459,2,  34.5463,2,     82.5,2,     86.4,6,    82.90,2,    40.80,2,     0.00,2,     2.81,2, -999.000,9, -999.000,9, -999.000,9, -999.000,9, -999.000,9,-999.0000,9,  -999.00,9,   -999.0,9,   -999.0,9,   -999.0,9,   1499.4,2,   -999.0,9,     7.48,2,   20.00,  -999.0,-999.0000,-999.000,   25.00,  -999.0,  4.2112,-999.000
    31DSCG94_3,  P18N,   127,  1,    114,   1016,2,19940409,0051, -6.9408,-107.5112, 3180,   1103.1,   3.9815,  34.5544,2,  34.5533,2,     86.1,2,     90.3,2,    89.08,2,    40.08,2,     0.00,2,     2.81,2, -999.000,9, -999.000,9, -999.000,9, -999.000,9, -999.000,9,-999.0000,9,  -999.00,9,   -999.0,9,   -999.0,9,   -999.0,9,   -999.0,9,   -999.0,9,  -999.00,9, -999.00,  -999.0,-999.0000,-999.000, -999.00,  -999.0,  3.8973,-999.000
    31DSCG94_3,  P18N,   127,  1,    113,   1209,2,19940409,0051, -6.9408,-107.5112, 3180,   1202.4,   3.6673,  34.5666,2,  34.5661,2,     88.3,2,     91.2,2,    97.08,2,    41.13,2,     0.00,2,     2.82,2, -999.000,9, -999.000,9, -999.000,9, -999.000,9, -999.000,9,-999.0000,9,  -999.00,9,   -999.0,9,   -999.0,9,   -999.0,9,   -999.0,9,   -999.0,9,  -999.00,9, -999.00,  -999.0,-999.0000,-999.000, -999.00,  -999.0,  3.5774,-999.000
    31DSCG94_3,  P18N,   127,  1,    112,   1033,2,19940409,0051, -6.9408,-107.5112, 3180,   1295.2,   3.3779,  34.5783,2,  34.5793,2,     93.0,2,     94.5,2,   105.23,2,    40.27,2,     0.00,2,     2.79,2, -999.000,9, -999.000,9, -999.000,9, -999.000,9, -999.000,9,-999.0000,9,  -999.00,9,   -999.0,9,   -999.0,9,   -999.0,9,   -999.0,9,   -999.0,9,  -999.00,9, -999.00,  -999.0,-999.0000,-999.000, -999.00,  -999.0,  3.2830,-999.000
    31DSCG94_3,  P18N,   127,  1,    111,   1240,2,19940409,0051, -6.9408,-107.5112, 3180,   1397.1,   3.1186,  34.5902,2,  34.5906,2,     98.9,2,     99.3,2,   111.38,2,    40.58,2,     0.00,2,     2.79,2, -999.000,9, -999.000,9, -999.000,9, -999.000,9, -999.000,9,-999.0000,9,  -999.00,9,   -999.0,9,   -999.0,9,   -999.0,9,   -999.0,9,   -999.0,9,  -999.00,9, -999.00,  -999.0,-999.0000,-999.000, -999.00,  -999.0,  3.0179,-999.000
    31DSCG94_3,  P18N,   127,  1,    110,   1005,2,19940409,0051, -6.9408,-107.5112, 3180,   1603.6,   2.7406,  34.6102,2,  34.6103,2,    107.7,2,    107.9,2,   121.25,2,    40.39,2,     0.00,2,     2.74,2, -999.000,9, -999.000,9, -999.000,9, -999.000,9, -999.000,9,-999.0000,9,  -999.00,9,   -999.0,9,   -999.0,9,   -999.0,9,   -999.0,9,   -999.0,9,  -999.00,9, -999.00,  -999.0,-999.0000,-999.000, -999.00,  -999.0,  2.6272,-999.000
    31DSCG94_3,  P18N,   127,  1,    109,   1611,2,19940409,0051, -6.9408,-107.5112, 3180,   1797.3,   2.5050,  34.6244,2,  34.6242,2,    119.2,2,    108.3,2,   128.61,2,    39.89,2,     0.00,2,     2.73,2, -999.000,9, -999.000,9, -999.000,9, -999.000,9, -999.000,9,-999.0000,9,  -999.00,9,   -999.0,9,   -999.0,9,   -999.0,9,   -999.0,9,   -999.0,9,  -999.00,9, -999.00,  -999.0,-999.0000,-999.000, -999.00,  -999.0,  2.3783,-999.000
    31DSCG94_3,  P18N,   127,  1,    108,   1218,2,19940409,0051, -6.9408,-107.5112, 3180,   1996.2,   2.2814,  34.6400,2,  34.6399,2,    120.4,2,    108.1,2,   136.60,2,    39.20,2,     0.00,2,     2.70,2, -999.000,9, -999.000,9, -999.000,9, -999.000,9, -999.000,9,-999.0000,9,  -999.00,9,   -999.0,9,   -999.0,9,   -999.0,9,   -999.0,9,   -999.0,9,  -999.00,9, -999.00,  -999.0,-999.0000,-999.000, -999.00,  -999.0,  2.1409,-999.000
    31DSCG94_3,  P18N,   127,  1,    107,   1257,2,19940409,0051, -6.9408,-107.5112, 3180,   2182.6,   2.1324,  34.6485,2,  34.6477,2,    121.4,2,    114.0,2,   139.41,2,    39.04,2,     0.00,2,     2.68,2, -999.000,9, -999.000,9, -999.000,9, -999.000,9, -999.000,9,-999.0000,9,  -999.00,9,   -999.0,9,   -999.0,9,   -999.0,9,   -999.0,9,   -999.0,9,  -999.00,9, -999.00,  -999.0,-999.0000,-999.000, -999.00,  -999.0,  1.9781,-999.000
    31DSCG94_3,  P18N,   127,  1,    106,   1224,2,19940409,0051, -6.9408,-107.5112, 3180,   2399.2,   1.9770,  34.6581,2,  34.6585,2,    126.3,2,    120.0,2,   141.60,2,    38.72,2,     0.00,2,     2.62,2, -999.000,9, -999.000,9, -999.000,9, -999.000,9, -999.000,9,-999.0000,9,  -999.00,9,   -999.0,9,   -999.0,9,   -999.0,9,   -999.0,9,   -999.0,9,  -999.00,9, -999.00,  -999.0,-999.0000,-999.000, -999.00,  -999.0,  1.8062,-999.000
    31DSCG94_3,  P18N,   127,  1,    105,   1246,2,19940409,0051, -6.9408,-107.5112, 3180,   2502.6,   1.8881,  34.6643,2,  34.6637,2,    131.2,2,    126.8,6,   141.18,2,    38.33,2,     0.00,2,     2.59,2, -999.000,9, -999.000,9, -999.000,9, -999.000,9, -999.000,9,-999.0000,9,  -999.00,9,   -999.0,9,   -999.0,9,   -999.0,9,   -999.0,9,   -999.0,9,  -999.00,9, -999.00,  -999.0,-999.0000,-999.000, -999.00,  -999.0,  1.7096,-999.000
    31DSCG94_3,  P18N,   127,  1,    104,   1217,2,19940409,0051, -6.9408,-107.5112, 3180,   2795.2,   1.7791,  34.6740,2,  34.6749,2,    139.0,2,    134.6,2,   142.05,2,    37.40,2,     0.00,2,     2.54,2, -999.000,9, -999.000,9, -999.000,9, -999.000,9, -999.000,9,-999.0000,9,  -999.00,9,   -999.0,9,   -999.0,9,   -999.0,9,   -999.0,9,   -999.0,9,  -999.00,9, -999.00,  -999.0,-999.0000,-999.000, -999.00,  -999.0,  1.5757,-999.000
    31DSCG94_3,  P18N,   127,  1,    102,   1223,2,19940409,0051, -6.9408,-107.5112, 3180,   2999.5,   1.7833,  34.6743,2,  34.6741,2,    138.2,2,    135.0,2,   144.04,2,    37.61,2,     0.00,2,     2.54,2, -999.000,9, -999.000,9, -999.000,9, -999.000,9, -999.000,9,-999.0000,9,  -999.00,9,   -999.0,9,   -999.0,9,   -999.0,9,   -999.0,9,   -999.0,9,  -999.00,9, -999.00,  -999.0,-999.0000,-999.000, -999.00,  -999.0,  1.5603,-999.000
    31DSCG94_3,  P18N,   127,  1,    103,   9999,2,19940409,0051, -6.9408,-107.5112, 3180,   3000.4,   1.7829,  34.6743,2,  34.6760,2,    137.9,2,    135.0,2,   144.11,2,    37.94,2,     0.00,2,     2.55,2, -999.000,9, -999.000,9, -999.000,9, -999.000,9, -999.000,9,-999.0000,9,  -999.00,9,   -999.0,9,   -999.0,9,   -999.0,9,   -999.0,9,   -999.0,9,  -999.00,9, -999.00,  -999.0,-999.0000,-999.000, -999.00,  -999.0,  1.5598,-999.000
    31DSCG94_3,  P18N,   127,  1,    101,   1041,2,19940409,0051, -6.9408,-107.5112, 3180,   3143.9,   1.7955,  34.6741,2,  34.6754,2,    137.1,2,    135.3,2,   144.71,6,    37.57,6,     0.00,6,     2.54,6, -999.000,9, -999.000,9, -999.000,9, -999.000,9, -999.000,9,-999.0000,9,  -999.00,9,   -999.0,9,   -999.0,9,   -999.0,9,   -999.0,9,   -999.0,9,  -999.00,9, -999.00,  -999.0,-999.0000,-999.000, -999.00,  -999.0,  1.5580,-999.000