BOTTLE,20220630CCHSIOAMB
EXPOCODE,SECT_ID,STNNBR,CASTNO,SAMPNO,BTLNBR,BTLNBR_FLAG_W,DATE,TIME,LATITUDE,LONGITUDE,DEPTH,CTDPRS,CTDTMP,CTDSAL,CTDSAL_FLAG_W,SALNTY,SALNTY_FLAG_W,CTDOXY,CTDOXY_FLAG_W,OXYGEN,OXYGEN_FLAG_W,SILCAT,SILCAT_FLAG_W,NITRAT,NITRAT_FLAG_W,NITRIT,NITRIT_FLAG_W,PHSPHT,PHSPHT_FLAG_W,CFC-11,CFC-11_FLAG_W,CFC-12,CFC-12_FLAG_W,CFC113,CFC113_FLAG_W,CCL4,CCL4_FLAG_W,TRITUM,TRITUM_FLAG_W,HELIUM,HELIUM_FLAG_W,DELHE3,DELHE3_FLAG_W,DELC14,DELC14_FLAG_W,DELC13,DELC13_FLAG_W,TCARBN,TCARBN_FLAG_W,PCO2,PCO2_FLAG_W,ALKALI,ALKALI_FLAG_W,PH,PH_FLAG_W,PCO2TMP,C14ERR,HELIER,DELHER,PH_TMP,C13ERR,THETA,TRITER
,,,,,,,,,,,,DBAR,ITS-90,PSS-78,,PSS-78,,UMOL/KG,,UMOL/KG,,UMOL/KG,,UMOL/KG,,UMOL/KG,,UMOL/KG,,PMOL/KG,,PMOL/KG,,PMOL/KG,,PMOL/KG,,TU,,NMOL/KG,,PERCNT,,/MILLE,,/MILLE,,UMOL/KG,,UATM,,UMOL/KG,,,,DEG C,/MILLE,NMOL/KG,PERCNT,DEG C,/MILLE,DEG C,TU
    31DSCG94_3,  P18N,   161,  1,    136,   1025,2,19940417,2108,  6.4983,-110.3333, 3255,      8.7,  29.0991,  33.8098,2,  33.8135,2,    192.8,2,    197.1,2,     0.54,2,     0.02,2,     0.00,2,     0.17,2, -999.000,5, -999.000,5, -999.000,9, -999.000,9, -999.000,9,-999.0000,9,  -999.00,9,   -999.0,9,      1.6,2,   1898.8,2,    272.4,2,   2221.0,2,     8.12,2,   20.00,  -999.0,-999.0000,-999.000,   25.00,  -999.0, 29.0970,-999.000
    31DSCG94_3,  P18N,   161,  1,    135,   1247,2,19940417,2108,  6.4983,-110.3333, 3255,     24.0,  29.0362,  33.8136,2,  33.8224,2,    192.7,2,    197.6,6,     0.60,2,     0.00,2,     0.00,2,     0.15,2,    1.663,2,    0.958,2, -999.000,9, -999.000,9,    1.092,2,   1.7759,2,    -1.04,2,   -999.0,9,   -999.0,9,   -999.0,9,   -999.0,9,   -999.0,9,     8.12,2, -999.00,  -999.0,-999.0000,-999.000,   25.00,  -999.0, 29.0304,   0.009
    31DSCG94_3,  P18N,   161,  1,    134,   1216,2,19940417,2108,  6.4983,-110.3333, 3255,     49.7,  27.5895,  34.1836,2,  34.1656,2,    197.2,2,    202.1,2,     0.90,2,     0.00,2,     0.00,2,     0.17,2,    1.682,2,    0.953,2, -999.000,9, -999.000,9, -999.000,9,-999.0000,9,  -999.00,9,   -999.0,9,   -999.0,9,   1920.6,2,    267.8,2,   2256.0,2,     8.11,2,   20.00,  -999.0,-999.0000,-999.000,   25.00,  -999.0, 27.5779,-999.000
    31DSCG94_3,  P18N,   161,  1,    133,   1244,2,19940417,2108,  6.4983,-110.3333, 3255,     74.5,  19.7432,  34.6375,2,  34.6439,2,     87.3,2,     92.9,2,    10.06,2,    16.02,2,     0.30,2,     1.43,2,    1.219,2,    0.659,2, -999.000,9, -999.000,9,    1.019,2,   1.7724,2,     5.05,2,   -999.0,9,   -999.0,9,   -999.0,9,   -999.0,9,   -999.0,9,     7.77,2, -999.00,  -999.0,-999.0000,-999.000,   25.00,  -999.0, 19.7296,   0.009
    31DSCG94_3,  P18N,   161,  1,    132,   1003,3,19940417,2108,  6.4983,-110.3333, 3255,     99.1,  13.9160,  34.7221,2,  34.7263,2,     48.4,2,     34.7,2,    21.11,2,    28.39,2,     0.05,2,     2.11,2,    0.711,2,    0.382,2, -999.000,9, -999.000,9, -999.000,9,-999.0000,9,  -999.00,9,   -999.0,9,   -999.0,9,   2207.7,2,   1162.3,2,   2290.0,2,  -999.00,9,   20.00,  -999.0,-999.0000,-999.000, -999.00,  -999.0, 13.9018,-999.000
    31DSCG94_3,  P18N,   161,  1,    131,   1211,2,19940417,2108,  6.4983,-110.3333, 3255,    124.3,  12.6254,  34.7118,2,  34.7076,2,     57.4,2,     47.4,2,    23.71,2,    27.93,2,     0.00,2,     2.08,2,    0.617,2,    0.332,2, -999.000,9, -999.000,9,    0.474,2,   1.8072,2,     8.54,2,   -999.0,9,   -999.0,9,   -999.0,9,   -999.0,9,   -999.0,9,     7.57,2, -999.00,  -999.0,-999.0000,-999.000,   25.00,  -999.0, 12.6087,   0.051
    31DSCG94_3,  P18N,   161,  1,    130,   1241,2,19940417,2108,  6.4983,-110.3333, 3255,    149.0,  12.2742,  34.7697,2,  34.7696,2,     46.1,2,     38.0,2,    24.52,2,    29.92,2,     0.00,2,     2.16,2,    0.472,2,    0.262,2, -999.000,9, -999.000,9, -999.000,9,-999.0000,9,  -999.00,9,   -999.0,9,   -999.0,9,   2222.3,2,   1215.2,2,   2299.0,2,     7.55,2,   20.00,  -999.0,-999.0000,-999.000,   25.00,  -999.0, 12.2545,-999.000
    31DSCG94_3,  P18N,   161,  1,    129,   1240,2,19940417,2108,  6.4983,-110.3333, 3255,    174.1,  11.7687,  34.7509,2,  34.7543,2,     42.3,2,     37.3,2,    25.65,2,    30.66,2,     0.00,2,     2.19,2,    0.395,6,    0.216,6, -999.000,9, -999.000,9,    0.489,2,   1.8018,2,     7.52,2,   -999.0,9,   -999.0,9,   -999.0,9,   -999.0,9,   -999.0,9,     7.53,2, -999.00,  -999.0,-999.0000,-999.000,   25.00,  -999.0, 11.7463,   0.006
    31DSCG94_3,  P18N,   161,  1,    128,   1032,2,19940417,2108,  6.4983,-110.3333, 3255,    198.6,  11.3929,  34.7501,2,  34.7551,2,     44.4,2,     37.0,2,    26.71,2,    31.60,2,     0.00,2,     2.24,2,    0.331,2,    0.186,2, -999.000,9, -999.000,9, -999.000,9,-999.0000,9,  -999.00,9,   -999.0,9,   -999.0,9,   2232.9,2,   1287.8,2,   2305.0,2,     7.52,2,   20.00,  -999.0,-999.0000,-999.000,   25.00,  -999.0, 11.3679,-999.000
    31DSCG94_3,  P18N,   161,  1,    127,   1008,2,19940417,2108,  6.4983,-110.3333, 3255,    223.2,  11.0383,  34.7356,2,  34.7376,2,     44.9,2,     42.9,2,    27.63,2,    30.91,2,     0.00,2,     2.23,2,    0.305,2,    0.181,2, -999.000,9, -999.000,9,    0.357,2,   1.8036,2,     6.94,2,   -999.0,9,   -999.0,9,   -999.0,9,   -999.0,9,   -999.0,9,     7.53,2, -999.00,  -999.0,-999.0000,-999.000,   25.00,  -999.0, 11.0107,   0.005
    31DSCG94_3,  P18N,   161,  1,    126,   1007,2,19940417,2108,  6.4983,-110.3333, 3255,    248.8,  10.7549,  34.7369,2,  34.7355,2,     40.2,2,     24.2,2,    29.52,2,    33.09,2,     0.00,2,     2.40,2,    0.187,2,    0.110,2, -999.000,9, -999.000,9, -999.000,9,-999.0000,9,  -999.00,9,   -999.0,9,   -999.0,9,   2251.6,2,   1465.0,2,   2302.0,2,     7.47,2,   20.00,  -999.0,-999.0000,-999.000,   25.00,  -999.0, 10.7247,-999.000
    31DSCG94_3,  P18N,   161,  1,    125,   1256,2,19940417,2108,  6.4983,-110.3333, 3255,    299.3,  10.2589,  34.7113,2,  34.7108,2,     23.8,2,     18.4,2,    31.66,2,    34.96,2,     0.00,2,     2.48,2,    0.130,2,    0.073,2, -999.000,9, -999.000,9,    0.196,2,   1.8085,2,     6.45,2,   -999.0,9,   -999.0,9,   2258.9,2,   1554.1,2,   2302.0,2,     7.45,2,   20.00,  -999.0,-999.0000,-999.000,   25.00,  -999.0, 10.2236,   0.005
    31DSCG94_3,  P18N,   161,  1,    123,   1220,2,19940417,2108,  6.4983,-110.3333, 3255,    345.1,   9.8158,  34.6920,2,  34.6909,2,     16.2,2,     10.9,2,    31.54,2,    34.37,2,     0.00,2,     2.48,2,    0.058,6,    0.035,6, -999.000,9, -999.000,9,    0.128,2,-999.0000,9,  -999.00,9,   -999.0,9,   -999.0,9,   2270.5,2,   -999.0,9,   2316.0,3,     7.43,2, -999.00,  -999.0,-999.0000,-999.000,   25.00,  -999.0,  9.7761,   0.004
    31DSCG94_3,  P18N,   161,  1,    122,   1245,2,19940417,2108,  6.4983,-110.3333, 3255,    397.2,   9.2162,  34.6632,2,  34.6614,2,     15.7,2,      6.9,2,    39.03,2,    36.53,2,     0.00,2,     2.75,2, -999.000,5, -999.000,5, -999.000,9, -999.000,9,    0.061,2,   1.8232,2,     6.12,2,   -999.0,9,   -999.0,9,   2279.5,2,   1761.3,2,   2312.0,2,     7.40,2,   20.00,  -999.0,-999.0000,-999.000,   25.00,  -999.0,  9.1721,   0.004
    31DSCG94_3,  P18N,   161,  1,    121,   1206,2,19940417,2108,  6.4983,-110.3333, 3255,    497.2,   8.2732,  34.6231,2,  34.6227,2,      4.9,2,      1.5,6,    48.28,2,    36.95,2,     0.00,2,     2.99,2,    0.008,2,    0.004,2, -999.000,9, -999.000,9,    0.023,2,   1.8067,2,     7.52,2,   -999.0,9,   -999.0,9,   2298.3,2,   1904.8,2,   2319.0,2,     7.37,2,   20.00,  -999.0,-999.0000,-999.000,   25.00,  -999.0,  8.2212,   0.004
    31DSCG94_3,  P18N,   161,  1,    120,   1028,2,19940417,2108,  6.4983,-110.3333, 3255,    599.6,   7.0458,  34.5825,2,  34.5809,2,      3.4,2,      2.4,2,    59.55,2,    40.97,2,     0.00,2,     3.19,2,   -0.002,2,    0.003,2, -999.000,9, -999.000,9,    0.009,2,   1.8170,2,    10.29,2,   -999.0,9,   -999.0,9,   2314.5,2,   1989.5,2,   2333.0,2,     7.35,2,   20.00,  -999.0,-999.0000,-999.000,   25.00,  -999.0,  6.9882,   0.003
    31DSCG94_3,  P18N,   161,  1,    119,   1248,2,19940417,2108,  6.4983,-110.3333, 3255,    700.2,   6.0704,  34.5660,2,  34.5645,2,      6.2,2,     10.5,2,    68.30,2,    44.33,2,     0.00,2,     3.23,2,    0.003,2,    0.003,2, -999.000,9, -999.000,9,    0.002,2,   1.8353,2,    12.63,2,   -999.0,9,   -999.0,9,   2322.0,2,   1999.1,2,   2337.0,2,     7.35,2,   20.00,  -999.0,-999.0000,-999.000,   25.00,  -999.0,  6.0078,   0.003
    31DSCG94_3,  P18N,   161,  1,    118,   1115,2,19940417,2108,  6.4983,-110.3333, 3255,    801.5,   5.3935,  34.5615,2,  34.5609,2,     13.8,2,     20.6,2,    80.18,2,    44.07,2,     0.00,2,     3.18,2,    0.001,2,    0.001,2, -999.000,9, -999.000,9,    0.001,2,-999.0000,9,  -999.00,9,   -999.0,9,   -999.0,9,   2328.8,2,   1941.3,2,   2340.0,2,  -999.00,9,   20.00,  -999.0,-999.0000,-999.000, -999.00,  -999.0,  5.3254,   0.004
    31DSCG94_3,  P18N,   161,  1,    117,   1119,2,19940417,2108,  6.4983,-110.3333, 3255,    898.3,   5.0369,  34.5605,2,  34.5598,2,     23.6,2,     31.0,2,    84.99,2,    44.74,2,     0.00,2,     3.14,2,    0.002,2,    0.003,2, -999.000,9, -999.000,9,    0.001,2,   1.8375,2,    16.37,2,   -999.0,9,   -999.0,9,   2328.6,2,   1876.9,2,   2345.0,2,     7.38,2,   20.00,  -999.0,-999.0000,-999.000,   25.00,  -999.0,  4.9624,   0.003
    31DSCG94_3,  P18N,   161,  1,    116,   1036,2,19940417,2108,  6.4983,-110.3333, 3255,    999.3,   4.5498,  34.5667,2,  34.5675,2,     29.0,2,     35.3,2,    94.02,2,    44.23,2,     0.00,2,     3.14,2,    0.000,2,    0.003,2, -999.000,9, -999.000,9, -999.000,9,-999.0000,9,  -999.00,9,   -999.0,9,   -999.0,9,   2337.1,2,   1866.3,2,   2354.0,6,     7.38,2,   20.00,  -999.0,-999.0000,-999.000,   25.00,  -999.0,  4.4699,-999.000
    31DSCG94_3,  P18N,   161,  1,    115,   1017,2,19940417,2108,  6.4983,-110.3333, 3255,   1099.6,   4.1065,  34.5709,2,  34.5710,2,     43.5,2,     54.8,2,   101.22,2,    42.17,2,     0.00,2,     3.04,2, -999.000,9, -999.000,9, -999.000,9, -999.000,9, -999.000,9,-999.0000,9,  -999.00,9,   -999.0,9,   -999.0,9,   -999.0,9,   -999.0,9,   -999.0,9,  -999.00,9, -999.00,  -999.0,-999.0000,-999.000, -999.00,  -999.0,  4.0215,-999.000
    31DSCG94_3,  P18N,   161,  1,    114,   1016,2,19940417,2108,  6.4983,-110.3333, 3255,   1201.4,   3.8268,  34.5787,2,  34.5787,2,     52.9,2,     59.8,2,   107.03,2,    42.18,2,     0.00,2,     3.01,2, -999.000,9, -999.000,9, -999.000,9, -999.000,9,    0.002,2,-999.0000,9,  -999.00,9,   -999.0,9,   -999.0,9,   -999.0,9,   -999.0,9,   -999.0,9,     7.43,2, -999.00,  -999.0,-999.0000,-999.000,   25.00,  -999.0,  3.7355,   0.003
    31DSCG94_3,  P18N,   161,  1,    113,   1209,2,19940417,2108,  6.4983,-110.3333, 3255,   1297.9,   3.5603,  34.5864,2,  34.5858,2,     59.8,2,     65.6,2,   112.72,2,    41.89,2,     0.00,2,     3.00,2,   -0.001,2,    0.003,2, -999.000,9, -999.000,9, -999.000,9,-999.0000,9,  -999.00,9,   -999.0,9,   -999.0,9,   -999.0,9,   -999.0,9,   -999.0,9,  -999.00,9, -999.00,  -999.0,-999.0000,-999.000, -999.00,  -999.0,  3.4634,-999.000
    31DSCG94_3,  P18N,   161,  1,    112,   1033,2,19940417,2108,  6.4983,-110.3333, 3255,   1400.6,   3.3636,  34.5937,2,  34.5940,2,     64.7,2,     68.3,2,   118.08,2,    41.77,2,     0.00,2,     3.00,2, -999.000,9, -999.000,9, -999.000,9, -999.000,9,    0.004,2,-999.0000,9,  -999.00,9,   -999.0,9,   -999.0,9,   -999.0,9,   -999.0,9,   -999.0,9,     7.44,2, -999.00,  -999.0,-999.0000,-999.000,   25.00,  -999.0,  3.2600,   0.003
    31DSCG94_3,  P18N,   161,  1,    111,   1240,2,19940417,2108,  6.4983,-110.3333, 3255,   1598.1,   2.8867,  34.6129,2,  34.6125,2,     72.6,2,     73.4,2,   130.39,2,    41.32,2,     0.00,2,     2.99,2, -999.000,9, -999.000,9, -999.000,9, -999.000,9, -999.000,9,-999.0000,9,  -999.00,9,   -999.0,9,   -999.0,9,   -999.0,9,   -999.0,9,   -999.0,9,  -999.00,9, -999.00,  -999.0,-999.0000,-999.000, -999.00,  -999.0,  2.7719,-999.000
    31DSCG94_3,  P18N,   161,  1,    110,   1005,2,19940417,2108,  6.4983,-110.3333, 3255,   1797.9,   2.5756,  34.6266,2,  34.6270,2,     86.7,2,     84.6,2,   137.43,2,    40.10,2,     0.00,2,     2.89,2,    0.005,2,    0.002,2, -999.000,9, -999.000,9, -999.000,9,-999.0000,9,  -999.00,9,   -999.0,9,   -999.0,9,   -999.0,9,   -999.0,9,   -999.0,9,     7.47,2, -999.00,  -999.0,-999.0000,-999.000,   25.00,  -999.0,  2.4479,-999.000
    31DSCG94_3,  P18N,   161,  1,    109,   1611,2,19940417,2108,  6.4983,-110.3333, 3255,   1999.0,   2.3010,  34.6399,2,  34.6404,2,     96.5,2,     93.3,2,   142.43,2,    39.86,2,     0.00,2,     2.83,2, -999.000,9, -999.000,9, -999.000,9, -999.000,9, -999.000,9,-999.0000,9,  -999.00,9,   -999.0,9,   -999.0,9,   -999.0,9,   -999.0,9,   -999.0,9,  -999.00,9, -999.00,  -999.0,-999.0000,-999.000, -999.00,  -999.0,  2.1601,-999.000
    31DSCG94_3,  P18N,   161,  1,    108,   1218,2,19940417,2108,  6.4983,-110.3333, 3255,   2199.4,   2.1160,  34.6502,2,  34.6519,2,    100.1,2,     98.8,2,   146.66,2,    39.68,2,     0.00,2,     2.79,2, -999.000,9, -999.000,9, -999.000,9, -999.000,9, -999.000,9,-999.0000,9,  -999.00,9,   -999.0,9,   -999.0,9,   -999.0,9,   -999.0,9,   -999.0,9,     7.50,2, -999.00,  -999.0,-999.0000,-999.000,   25.00,  -999.0,  1.9605,-999.000
    31DSCG94_3,  P18N,   161,  1,    107,   1257,2,19940417,2108,  6.4983,-110.3333, 3255,   2391.5,   1.9556,  34.6596,2,  34.6580,2,    102.8,2,    102.9,2,   156.35,2,    38.69,2,     0.00,2,     2.69,2, -999.000,9, -999.000,9, -999.000,9, -999.000,9, -999.000,9,-999.0000,9,  -999.00,9,   -999.0,9,   -999.0,9,   -999.0,9,   -999.0,9,   -999.0,9,  -999.00,9, -999.00,  -999.0,-999.0000,-999.000, -999.00,  -999.0,  1.7859,-999.000
    31DSCG94_3,  P18N,   161,  1,    106,   1224,2,19940417,2108,  6.4983,-110.3333, 3255,   2601.4,   1.8596,  34.6657,2,  34.6654,2,    109.0,2,    108.8,2,   158.58,2,    37.86,2,     0.00,2,     2.66,2,   -0.001,2,    0.001,2, -999.000,9, -999.000,9, -999.000,9,-999.0000,9,  -999.00,9,   -999.0,9,   -999.0,9,   -999.0,9,   -999.0,9,   -999.0,9,     7.52,2, -999.00,  -999.0,-999.0000,-999.000,   25.00,  -999.0,  1.6726,-999.000
    31DSCG94_3,  P18N,   161,  1,    105,   1246,2,19940417,2108,  6.4983,-110.3333, 3255,   2800.8,   1.8099,  34.6693,2,  34.6702,2,    111.5,2,    113.1,2,   161.45,2,    37.88,2,     0.00,2,     2.70,2, -999.000,9, -999.000,9, -999.000,9, -999.000,9, -999.000,9,-999.0000,9,  -999.00,9,   -999.0,9,   -999.0,9,   -999.0,9,   -999.0,9,   -999.0,9,  -999.00,9, -999.00,  -999.0,-999.0000,-999.000, -999.00,  -999.0,  1.6053,-999.000
    31DSCG94_3,  P18N,   161,  1,    104,   1217,2,19940417,2108,  6.4983,-110.3333, 3255,   2999.7,   1.6980,  34.6752,2,  34.6744,2,    120.3,2,    122.2,2,   158.90,2,    37.39,2,     0.00,2,     2.65,2, -999.000,9, -999.000,9, -999.000,9, -999.000,9, -999.000,9,-999.0000,9,  -999.00,9,   -999.0,9,   -999.0,9,   -999.0,9,   -999.0,9,   -999.0,9,  -999.00,9, -999.00,  -999.0,-999.0000,-999.000, -999.00,  -999.0,  1.4768,-999.000
    31DSCG94_3,  P18N,   161,  1,    102,   1223,2,19940417,2108,  6.4983,-110.3333, 3255,   3198.8,   1.5669,  34.6815,2,  34.6800,2,    128.8,2,    134.2,2,   155.99,2,    36.80,2,     0.00,2,     2.55,2, -999.000,9, -999.000,9, -999.000,9, -999.000,9, -999.000,9,-999.0000,9,  -999.00,9,   -999.0,9,   -999.0,9,   -999.0,9,   -999.0,9,   -999.0,9,  -999.00,9, -999.00,  -999.0,-999.0000,-999.000, -999.00,  -999.0,  1.3293,-999.000
    31DSCG94_3,  P18N,   161,  1,    103,   9999,2,19940417,2108,  6.4983,-110.3333, 3255,   3200.0,   1.5687,  34.6813,2,  34.6830,2,    128.6,2,    133.8,2,   155.94,2,    36.88,2,     0.00,2,     2.58,2,   -0.001,2,    0.001,2, -999.000,9, -999.000,9, -999.000,9,-999.0000,9,  -999.00,9,   -999.0,9,   -999.0,9,   -999.0,9,   -999.0,9,   -999.0,9,  -999.00,9, -999.00,  -999.0,-999.0000,-999.000, -999.00,  -999.0,  1.3309,-999.000
    31DSCG94_3,  P18N,   161,  1,    101,   1041,2,19940417,2108,  6.4983,-110.3333, 3255,   3265.5,   1.5377,  34.6830,2,  34.6823,2,    133.1,2,    137.1,6,   153.83,2,    37.61,2,     0.00,2,     2.57,2,   -0.002,2,    0.012,2, -999.000,9, -999.000,9, -999.000,9,-999.0000,9,  -999.00,9,   -999.0,9,   -999.0,9,   -999.0,9,   -999.0,9,   -999.0,9,  -999.00,9, -999.00,  -999.0,-999.0000,-999.000, -999.00,  -999.0,  1.2942,-999.000