BOTTLE,20220630CCHSIOAMB
EXPOCODE,SECT_ID,STNNBR,CASTNO,SAMPNO,BTLNBR,BTLNBR_FLAG_W,DATE,TIME,LATITUDE,LONGITUDE,DEPTH,CTDPRS,CTDTMP,CTDSAL,CTDSAL_FLAG_W,SALNTY,SALNTY_FLAG_W,CTDOXY,CTDOXY_FLAG_W,OXYGEN,OXYGEN_FLAG_W,SILCAT,SILCAT_FLAG_W,NITRAT,NITRAT_FLAG_W,NITRIT,NITRIT_FLAG_W,PHSPHT,PHSPHT_FLAG_W,CFC-11,CFC-11_FLAG_W,CFC-12,CFC-12_FLAG_W,CFC113,CFC113_FLAG_W,CCL4,CCL4_FLAG_W,TRITUM,TRITUM_FLAG_W,HELIUM,HELIUM_FLAG_W,DELHE3,DELHE3_FLAG_W,DELC14,DELC14_FLAG_W,DELC13,DELC13_FLAG_W,TCARBN,TCARBN_FLAG_W,PCO2,PCO2_FLAG_W,ALKALI,ALKALI_FLAG_W,PH,PH_FLAG_W,PCO2TMP,C14ERR,HELIER,DELHER,PH_TMP,C13ERR,THETA,TRITER
,,,,,,,,,,,,DBAR,ITS-90,PSS-78,,PSS-78,,UMOL/KG,,UMOL/KG,,UMOL/KG,,UMOL/KG,,UMOL/KG,,UMOL/KG,,PMOL/KG,,PMOL/KG,,PMOL/KG,,PMOL/KG,,TU,,NMOL/KG,,PERCNT,,/MILLE,,/MILLE,,UMOL/KG,,UATM,,UMOL/KG,,,,DEG C,/MILLE,NMOL/KG,PERCNT,DEG C,/MILLE,DEG C,TU
    31DSCG94_2,  P18S,    46,  1,    136,   1025,2,19940312,0657,-46.5000,-103.0000, 3868,      9.5,  10.8864,  34.1419,2,  34.1417,2,    273.1,2,    272.2,2,     0.52,2,    12.96,2,     0.19,2,     1.05,2,    3.725,2,    1.871,2, -999.000,9, -999.000,9, -999.000,9,-999.0000,9,  -999.00,9,   -999.0,9,   -999.0,9,   2067.2,2,    519.7,2,   2268.0,6,     7.87,2,   20.00,  -999.0,-999.0000,-999.000,   25.00,  -999.0, 10.8852,-999.000
    31DSCG94_2,  P18S,    46,  1,    135,   1247,2,19940312,0657,-46.5000,-103.0000, 3868,     23.9,  10.7174,  34.1446,2,  34.1448,2,    273.3,2,    272.8,2,     0.63,2,    12.82,2,     0.17,2,     1.05,2,    3.712,2,    1.884,2, -999.000,9, -999.000,9, -999.000,9,-999.0000,9,  -999.00,9,   -999.0,9,   -999.0,9,   2073.1,3,    522.0,2,   -999.0,5,     7.87,2,   20.00,  -999.0,-999.0000,-999.000,   25.00,  -999.0, 10.7146,-999.000
    31DSCG94_2,  P18S,    46,  1,    134,   1108,2,19940312,0657,-46.5000,-103.0000, 3868,     49.5,  10.4931,  34.1473,2,  34.1480,2,    272.5,2,    273.4,2,     0.61,2,    13.11,2,     0.18,2,     1.07,2,    3.698,2,    1.852,2, -999.000,9, -999.000,9, -999.000,9,-999.0000,9,  -999.00,9,   -999.0,9,   -999.0,9,   2072.0,3,    525.9,2,   2269.0,2,     7.87,2,   20.00,  -999.0,-999.0000,-999.000,   25.00,  -999.0, 10.4873,-999.000
    31DSCG94_2,  P18S,    46,  1,    133,   1244,2,19940312,0657,-46.5000,-103.0000, 3868,     74.0,   8.4898,  34.1587,2,  34.1571,2,    272.8,2,    285.3,2,     1.39,2,    13.82,2,     0.18,2,     1.16,2, -999.000,9, -999.000,9, -999.000,9, -999.000,9, -999.000,9,-999.0000,9,  -999.00,9,   -999.0,9,   -999.0,9,   2084.5,3,    566.1,2,   2268.0,2,     7.84,2,   20.00,  -999.0,-999.0000,-999.000,   25.00,  -999.0,  8.4822,-999.000
    31DSCG94_2,  P18S,    46,  1,    132,   1003,2,19940312,0657,-46.5000,-103.0000, 3868,     92.6,   7.9170,  34.1662,2,  34.1682,2,    281.8,2,    284.3,2,     1.61,2,    14.63,2,     0.25,2,     1.20,2,    4.127,2,    2.041,2, -999.000,9, -999.000,9, -999.000,9,-999.0000,9,  -999.00,9,   -999.0,9,   -999.0,9,   2090.2,3,    585.8,2,   2263.0,2,     7.83,2,   20.00,  -999.0,-999.0000,-999.000,   25.00,  -999.0,  7.9079,-999.000
    31DSCG94_2,  P18S,    46,  1,    131,   1211,2,19940312,0657,-46.5000,-103.0000, 3868,    123.5,   7.2122,  34.1948,2,  34.1984,2,    280.2,2,    278.9,2,     2.42,2,    16.56,2,     0.37,2,     1.26,2,    4.249,2,    2.094,2, -999.000,9, -999.000,9, -999.000,9,-999.0000,9,  -999.00,9,   -999.0,9,   -999.0,9,   2101.7,2,    621.4,2,   2263.0,2,     7.80,2,   20.00,  -999.0,-999.0000,-999.000,   25.00,  -999.0,  7.2006,-999.000
    31DSCG94_2,  P18S,    46,  1,    130,   1241,2,19940312,0657,-46.5000,-103.0000, 3868,    148.8,   6.9391,  34.2281,2,  34.2281,2,    277.1,2,    275.5,2,     3.00,2,    17.57,2,     0.04,2,     1.33,2,    3.973,2,    1.996,2, -999.000,9, -999.000,9, -999.000,9,-999.0000,9,  -999.00,9,   -999.0,9,   -999.0,9,   2109.6,2,    641.7,2,   2264.0,3,     7.79,2,   20.00,  -999.0,-999.0000,-999.000,   25.00,  -999.0,  6.9255,-999.000
    31DSCG94_2,  P18S,    46,  1,    129,   1031,2,19940312,0657,-46.5000,-103.0000, 3868,    204.3,   6.7582,  34.2943,2,  34.2928,2,    271.3,2,    268.6,2,     4.28,2,    19.29,2,     0.00,2,     1.40,2, -999.000,5, -999.000,5, -999.000,9, -999.000,9, -999.000,9,-999.0000,9,  -999.00,9,   -999.0,9,   -999.0,9,   2117.1,2,    671.0,2,   2273.0,2,     7.78,2,   20.00,  -999.0,-999.0000,-999.000,   25.00,  -999.0,  6.7396,-999.000
    31DSCG94_2,  P18S,    46,  1,    128,   1210,2,19940312,0657,-46.5000,-103.0000, 3868,    246.8,   6.6648,  34.3164,2,  34.3173,2,    269.8,2,    267.4,2,     5.19,2,    19.70,2,     0.00,2,     1.46,2,    3.826,2,    1.875,2, -999.000,9, -999.000,9, -999.000,9,-999.0000,9,  -999.00,9,   -999.0,9,   -999.0,9,   2122.2,2,    685.6,2,   2276.0,2,     7.77,2,   20.00,  -999.0,-999.0000,-999.000,   25.00,  -999.0,  6.6425,-999.000
    31DSCG94_2,  P18S,    46,  1,    127,   1008,2,19940312,0657,-46.5000,-103.0000, 3868,    296.6,   6.4834,  34.3092,2,  34.3096,2,    267.6,2,    267.3,2,     5.98,2,    20.44,2,     0.00,2,     1.43,2,    3.468,2,    1.688,2, -999.000,9, -999.000,9, -999.000,9,-999.0000,9,  -999.00,9,   -999.0,9,   -999.0,9,   2123.5,2,    691.7,2,   2271.0,2,     7.77,2,   20.00,  -999.0,-999.0000,-999.000,   25.00,  -999.0,  6.4569,-999.000
    31DSCG94_2,  P18S,    46,  1,    126,   1007,2,19940312,0657,-46.5000,-103.0000, 3868,    351.8,   6.3607,  34.3065,2,  34.3102,2,    265.6,2,    266.7,2,     5.96,2,    20.33,2,     0.00,2,     1.46,2, -999.000,5, -999.000,5, -999.000,9, -999.000,9, -999.000,9,-999.0000,9,  -999.00,9,   -999.0,9,   -999.0,9,   2125.3,2,    699.3,2,   2272.0,2,     7.76,2,   20.00,  -999.0,-999.0000,-999.000,   25.00,  -999.0,  6.3294,-999.000
    31DSCG94_2,  P18S,    46,  1,    125,   1203,2,19940312,0657,-46.5000,-103.0000, 3868,    397.1,   6.2566,  34.3039,2,  34.3066,2,    263.9,2,    266.2,2,     6.40,2,    20.86,2,     0.00,2,     1.51,2,    3.442,2,    1.659,2, -999.000,9, -999.000,9, -999.000,9,-999.0000,9,  -999.00,9,   -999.0,9,   -999.0,9,   2123.3,2,    706.5,2,   2269.0,2,     7.76,2,   20.00,  -999.0,-999.0000,-999.000,   25.00,  -999.0,  6.2215,-999.000
    31DSCG94_2,  P18S,    46,  1,    123,   1101,2,19940312,0657,-46.5000,-103.0000, 3868,    496.8,   6.0339,  34.2967,2,  34.3049,3,    262.1,2,    265.8,2,     6.83,2,    21.11,2,     0.00,2,     1.53,2,    3.082,6,    1.487,6, -999.000,9, -999.000,9, -999.000,9,-999.0000,9,  -999.00,9,   -999.0,9,   -999.0,9,   2127.3,2,    713.8,2,   2276.0,2,     7.75,2,   20.00,  -999.0,-999.0000,-999.000,   25.00,  -999.0,  5.9905,-999.000
    31DSCG94_2,  P18S,    46,  1,    121,   1206,2,19940312,0657,-46.5000,-103.0000, 3868,    600.5,   5.7267,  34.2799,2,  34.2806,2,    257.7,2,    263.1,2,     8.97,2,    23.00,2,     0.00,2,     1.60,2,    2.863,2,    1.372,2, -999.000,9, -999.000,9, -999.000,9,-999.0000,9,  -999.00,9,   -999.0,9,   -999.0,9,   2134.4,2,    727.5,2,   2282.0,2,     7.74,2,   20.00,  -999.0,-999.0000,-999.000,   25.00,  -999.0,  5.6753,-999.000
    31DSCG94_2,  P18S,    46,  1,    119,   1248,2,19940312,0657,-46.5000,-103.0000, 3868,    698.9,   5.3716,  34.2647,2,  34.2661,2,    249.0,2,    253.7,2,    12.00,2,    24.52,2,     0.00,2,     1.72,2,    2.513,2,    1.217,2, -999.000,9, -999.000,9, -999.000,9,-999.0000,9,  -999.00,9,   -999.0,9,   -999.0,9,   2142.9,2,    768.0,2,   2277.0,2,     7.72,2,   20.00,  -999.0,-999.0000,-999.000,   25.00,  -999.0,  5.3132,-999.000
    31DSCG94_2,  P18S,    46,  1,    118,   1207,2,19940312,0657,-46.5000,-103.0000, 3868,    800.7,   4.9252,  34.2608,2,  34.2620,2,    237.7,2,    239.2,2,    16.49,2,    26.85,2,     0.00,2,     1.89,2,    1.959,2,    0.940,2, -999.000,9, -999.000,9, -999.000,9,-999.0000,9,  -999.00,9,   -999.0,9,   -999.0,9,   2157.9,2,    832.8,2,   2280.0,2,     7.69,2,   20.00,  -999.0,-999.0000,-999.000,   25.00,  -999.0,  4.8604,-999.000
    31DSCG94_2,  P18S,    46,  1,    117,   1119,2,19940312,0657,-46.5000,-103.0000, 3868,    908.9,   4.4686,  34.2728,2,  34.2734,2,    221.7,2,    223.5,2,    23.48,2,    28.84,2,     0.00,2,     2.07,2, -999.000,9, -999.000,9, -999.000,9, -999.000,9, -999.000,9,-999.0000,9,  -999.00,9,   -999.0,9,   -999.0,9,   2176.2,2,    898.7,3,   2286.0,2,     7.66,2,   20.00,  -999.0,-999.0000,-999.000,   25.00,  -999.0,  4.3975,-999.000
    31DSCG94_2,  P18S,    46,  1,    116,   1036,2,19940312,0657,-46.5000,-103.0000, 3868,    999.3,   4.1153,  34.2969,2,  34.2977,2,    210.2,2,    210.8,2,    29.82,2,    30.61,2,     0.00,2,     2.09,2,    0.854,2,    0.405,2, -999.000,9, -999.000,9, -999.000,9,-999.0000,9,  -999.00,9,   -999.0,9,   -999.0,9,   2187.4,2,    969.5,2,   2292.0,6,     7.64,2,   20.00,  -999.0,-999.0000,-999.000,   25.00,  -999.0,  4.0392,-999.000
    31DSCG94_2,  P18S,    46,  1,    115,   1017,2,19940312,0657,-46.5000,-103.0000, 3868,   1092.5,   3.7426,  34.3239,2,  34.3230,2,    199.0,2,    200.5,2,    36.73,2,    31.54,2,     0.00,2,     2.20,2, -999.000,9, -999.000,9, -999.000,9, -999.000,9, -999.000,9,-999.0000,9,  -999.00,9,   -999.0,9,   -999.0,9,   -999.0,9,   -999.0,9,   -999.0,9,  -999.00,9, -999.00,  -999.0,-999.0000,-999.000, -999.00,  -999.0,  3.6617,-999.000
    31DSCG94_2,  P18S,    46,  1,    114,   1016,2,19940312,0657,-46.5000,-103.0000, 3868,   1196.2,   3.3947,  34.3650,2,  34.3647,2,    187.8,2,    188.6,2,    46.02,2,    32.88,2,     0.00,2,     2.31,2,    0.413,2,    0.217,2, -999.000,9, -999.000,9, -999.000,9,-999.0000,9,  -999.00,9,   -999.0,9,   -999.0,9,   -999.0,9,   -999.0,9,   -999.0,9,  -999.00,9, -999.00,  -999.0,-999.0000,-999.000, -999.00,  -999.0,  3.3083,-999.000
    31DSCG94_2,  P18S,    46,  1,    113,   1118,2,19940312,0657,-46.5000,-103.0000, 3868,   1401.4,   2.9601,  34.4582,2,  34.4582,2,    167.6,2,    166.0,2,    64.28,2,    34.48,2,     0.00,2,     2.40,2, -999.000,9, -999.000,9, -999.000,9, -999.000,9, -999.000,9,-999.0000,9,  -999.00,9,   -999.0,9,   -999.0,9,   -999.0,9,   -999.0,9,   -999.0,9,  -999.00,9, -999.00,  -999.0,-999.0000,-999.000, -999.00,  -999.0,  2.8611,-999.000
    31DSCG94_2,  P18S,    46,  1,    112,   1033,2,19940312,0657,-46.5000,-103.0000, 3868,   1602.9,   2.6297,  34.5311,2,  34.5313,2,    167.1,2,    167.3,2,    72.71,2,    33.73,2,     0.00,2,     2.39,2,    0.119,2,    0.060,2, -999.000,9, -999.000,9, -999.000,9,-999.0000,9,  -999.00,9,   -999.0,9,   -999.0,9,   -999.0,9,   -999.0,9,   -999.0,9,  -999.00,9, -999.00,  -999.0,-999.0000,-999.000, -999.00,  -999.0,  2.5178,-999.000
    31DSCG94_2,  P18S,    46,  1,    111,   1263,2,19940312,0657,-46.5000,-103.0000, 3868,   1792.1,   2.4494,  34.5943,2,  34.5938,2,    165.1,2,    165.6,2,    79.71,2,    33.53,2,     0.00,2,     2.37,2, -999.000,9, -999.000,9, -999.000,9, -999.000,9, -999.000,9,-999.0000,9,  -999.00,9,   -999.0,9,   -999.0,9,   -999.0,9,   -999.0,9,   -999.0,9,  -999.00,9, -999.00,  -999.0,-999.0000,-999.000, -999.00,  -999.0,  2.3240,-999.000
    31DSCG94_2,  P18S,    46,  1,    110,   1005,2,19940312,0657,-46.5000,-103.0000, 3868,   1993.3,   2.2865,  34.6422,2,  34.6415,2,    165.3,2,    165.4,2,    87.85,2,    33.36,2,     0.00,2,     2.36,2,    0.019,2,    0.012,2, -999.000,9, -999.000,9, -999.000,9,-999.0000,9,  -999.00,9,   -999.0,9,   -999.0,9,   -999.0,9,   -999.0,9,   -999.0,9,  -999.00,9, -999.00,  -999.0,-999.0000,-999.000, -999.00,  -999.0,  2.1462,-999.000
    31DSCG94_2,  P18S,    46,  1,    109,   1611,2,19940312,0657,-46.5000,-103.0000, 3868,   2249.4,   2.0825,  34.6761,2,  34.6751,2,    167.2,2,    166.4,2,    98.21,2,    32.70,2,     0.00,2,     2.27,2, -999.000,9, -999.000,9, -999.000,9, -999.000,9, -999.000,9,-999.0000,9,  -999.00,9,   -999.0,9,   -999.0,9,   -999.0,9,   -999.0,9,   -999.0,9,  -999.00,9, -999.00,  -999.0,-999.0000,-999.000, -999.00,  -999.0,  1.9231,-999.000
    31DSCG94_2,  P18S,    46,  1,    108,   1218,2,19940312,0657,-46.5000,-103.0000, 3868,   2500.4,   1.9152,  34.6922,2,  34.6913,2,    168.9,2,    169.2,6,   104.89,2,    33.10,2,     0.00,2,     2.31,2,    0.003,2,    0.001,2, -999.000,9, -999.000,9, -999.000,9,-999.0000,9,  -999.00,9,   -999.0,9,   -999.0,9,   -999.0,9,   -999.0,9,   -999.0,9,  -999.00,9, -999.00,  -999.0,-999.0000,-999.000, -999.00,  -999.0,  1.7363,-999.000
    31DSCG94_2,  P18S,    46,  1,    107,   1257,2,19940312,0657,-46.5000,-103.0000, 3868,   2742.7,   1.7726,  34.7004,2,  34.6998,2,    172.5,2,    173.5,2,   107.72,2,    32.96,2,     0.00,2,     2.30,2, -999.000,9, -999.000,9, -999.000,9, -999.000,9, -999.000,9,-999.0000,9,  -999.00,9,   -999.0,9,   -999.0,9,   -999.0,9,   -999.0,9,   -999.0,9,  -999.00,9, -999.00,  -999.0,-999.0000,-999.000, -999.00,  -999.0,  1.5741,-999.000
    31DSCG94_2,  P18S,    46,  1,    106,   1224,2,19940312,0657,-46.5000,-103.0000, 3868,   2995.1,   1.6680,  34.7058,2,  34.7048,2,    175.8,2,    177.1,2,   110.10,2,    32.28,2,     0.00,2,     2.26,2,   -0.001,2,   -0.001,2, -999.000,9, -999.000,9, -999.000,9,-999.0000,9,  -999.00,9,   -999.0,9,   -999.0,9,   -999.0,9,   -999.0,9,   -999.0,9,  -999.00,9, -999.00,  -999.0,-999.0000,-999.000, -999.00,  -999.0,  1.4478,-999.000
    31DSCG94_2,  P18S,    46,  1,    105,   1246,2,19940312,0657,-46.5000,-103.0000, 3868,   3250.4,   1.5668,  34.7100,2,  34.7093,2,    181.6,2,    182.4,2,   112.98,2,    32.37,2,     0.00,2,     2.24,2, -999.000,9, -999.000,9, -999.000,9, -999.000,9, -999.000,9,-999.0000,9,  -999.00,9,   -999.0,9,   -999.0,9,   -999.0,9,   -999.0,9,   -999.0,9,  -999.00,9, -999.00,  -999.0,-999.0000,-999.000, -999.00,  -999.0,  1.3240,-999.000
    31DSCG94_2,  P18S,    46,  1,    104,   1028,2,19940312,0657,-46.5000,-103.0000, 3868,   3499.9,   1.3708,  34.7112,2,  34.7097,2,    187.5,2,    188.2,6,   117.09,2,    32.27,2,     0.00,2,     2.26,2, -999.000,9, -999.000,9, -999.000,9, -999.000,9, -999.000,9,-999.0000,9,  -999.00,9,   -999.0,9,   -999.0,9,   -999.0,9,   -999.0,9,   -999.0,9,  -999.00,9, -999.00,  -999.0,-999.0000,-999.000, -999.00,  -999.0,  1.1077,-999.000
    31DSCG94_2,  P18S,    46,  1,    103,   9999,2,19940312,0657,-46.5000,-103.0000, 3868,   3750.4,   1.0880,  34.7099,2,  34.7086,2,    194.3,2,    195.0,2,   122.56,2,    32.50,2,     0.00,2,     2.25,2,    0.000,6,   -0.001,6, -999.000,9, -999.000,9, -999.000,9,-999.0000,9,  -999.00,9,   -999.0,9,   -999.0,9,   -999.0,9,   -999.0,9,   -999.0,9,  -999.00,9, -999.00,  -999.0,-999.0000,-999.000, -999.00,  -999.0,  0.8067,-999.000
    31DSCG94_2,  P18S,    46,  1,    102,   1223,2,19940312,0657,-46.5000,-103.0000, 3868,   3751.0,   1.0889,  34.7096,2,  34.7069,2,    194.3,2,    195.2,6,   122.83,2,    32.50,2,     0.00,2,     2.26,2, -999.000,9, -999.000,9, -999.000,9, -999.000,9, -999.000,9,-999.0000,9,  -999.00,9,   -999.0,9,   -999.0,9,   -999.0,9,   -999.0,9,   -999.0,9,  -999.00,9, -999.00,  -999.0,-999.0000,-999.000, -999.00,  -999.0,  0.8075,-999.000
    31DSCG94_2,  P18S,    46,  1,    101,   1041,2,19940312,0657,-46.5000,-103.0000, 3868,   3912.4,   0.8722,  34.7089,2,  34.7071,2,    199.8,2,    200.9,2,   129.41,2,    31.81,2,     0.00,2,     2.19,2,   -0.001,2,    0.001,2, -999.000,9, -999.000,9, -999.000,9,-999.0000,9,  -999.00,9,   -999.0,9,   -999.0,9,   -999.0,9,   -999.0,9,   -999.0,9,  -999.00,9, -999.00,  -999.0,-999.0000,-999.000, -999.00,  -999.0,  0.5800,-999.000