BOTTLE,20220630CCHSIOAMB
EXPOCODE,SECT_ID,STNNBR,CASTNO,SAMPNO,BTLNBR,BTLNBR_FLAG_W,DATE,TIME,LATITUDE,LONGITUDE,DEPTH,CTDPRS,CTDTMP,CTDSAL,CTDSAL_FLAG_W,SALNTY,SALNTY_FLAG_W,CTDOXY,CTDOXY_FLAG_W,OXYGEN,OXYGEN_FLAG_W,SILCAT,SILCAT_FLAG_W,NITRAT,NITRAT_FLAG_W,NITRIT,NITRIT_FLAG_W,PHSPHT,PHSPHT_FLAG_W,CFC-11,CFC-11_FLAG_W,CFC-12,CFC-12_FLAG_W,CFC113,CFC113_FLAG_W,CCL4,CCL4_FLAG_W,TRITUM,TRITUM_FLAG_W,HELIUM,HELIUM_FLAG_W,DELHE3,DELHE3_FLAG_W,DELC14,DELC14_FLAG_W,DELC13,DELC13_FLAG_W,TCARBN,TCARBN_FLAG_W,PCO2,PCO2_FLAG_W,ALKALI,ALKALI_FLAG_W,PH,PH_FLAG_W,PCO2TMP,C14ERR,HELIER,DELHER,PH_TMP,C13ERR,THETA,TRITER
,,,,,,,,,,,,DBAR,ITS-90,PSS-78,,PSS-78,,UMOL/KG,,UMOL/KG,,UMOL/KG,,UMOL/KG,,UMOL/KG,,UMOL/KG,,PMOL/KG,,PMOL/KG,,PMOL/KG,,PMOL/KG,,TU,,NMOL/KG,,PERCNT,,/MILLE,,/MILLE,,UMOL/KG,,UATM,,UMOL/KG,,,,DEG C,/MILLE,NMOL/KG,PERCNT,DEG C,/MILLE,DEG C,TU
    31DSCG94_2,  P18S,    66,  2,    224,    435,2,19940317,1713,-36.5000,-103.0000, 3510,     11.5,  19.8480,  34.1209,2,  34.1237,2,    235.7,2,    230.7,2,     1.08,2,     1.35,2,     0.01,2,     0.27,2,    2.413,2,    1.298,2, -999.000,9, -999.000,9, -999.000,9,-999.0000,9,  -999.00,9,   -999.0,9,   -999.0,9,   1999.4,2,    370.6,2,   2254.0,2,  -999.00,9,   20.00,  -999.0,-999.0000,-999.000, -999.00,  -999.0, 19.8459,-999.000
    31DSCG94_2,  P18S,    66,  2,    223,    421,2,19940317,1713,-36.5000,-103.0000, 3510,     24.5,  19.8486,  34.1207,2,  34.1220,2,    230.4,2,    231.8,2,     1.18,2,     1.36,2,     0.00,2,     0.29,2,    2.379,2,    1.274,2, -999.000,9, -999.000,9, -999.000,9,-999.0000,9,  -999.00,9,   -999.0,9,   -999.0,9,   2000.3,2,    369.9,2,   2262.0,2,  -999.00,9,   20.00,  -999.0,-999.0000,-999.000, -999.00,  -999.0, 19.8442,-999.000
    31DSCG94_2,  P18S,    66,  2,    222,    418,2,19940317,1713,-36.5000,-103.0000, 3510,     49.4,  17.7649,  34.0524,2,-999.0000,9,    229.5,2,    251.1,2,     1.23,2,     1.35,2,     0.03,2,     0.31,2,    2.676,2,    1.422,2, -999.000,9, -999.000,9, -999.000,9,-999.0000,9,  -999.00,9,   -999.0,9,   -999.0,9,   2000.6,2,    378.2,2,   2258.0,2,  -999.00,9,   20.00,  -999.0,-999.0000,-999.000, -999.00,  -999.0, 17.7566,-999.000
    31DSCG94_2,  P18S,    66,  2,    221,    413,2,19940317,1713,-36.5000,-103.0000, 3510,    100.6,  13.5096,  34.0096,2,  34.0116,2,    257.6,2,    261.1,2,     1.37,2,     3.48,2,     0.11,2,     0.46,2,    3.276,2,    1.684,2, -999.000,9, -999.000,9, -999.000,9,-999.0000,9,  -999.00,9,   -999.0,9,   -999.0,9,   2021.5,2,    428.3,2,   2251.0,2,  -999.00,9,   20.00,  -999.0,-999.0000,-999.000, -999.00,  -999.0, 13.4955,-999.000
    31DSCG94_2,  P18S,    66,  2,    220,    405,2,19940317,1713,-36.5000,-103.0000, 3510,    149.3,  12.0724,  34.1912,2,  34.1885,2,    242.7,2,    241.2,2,     1.49,2,     8.14,2,     0.59,2,     0.72,2,    3.245,2,    1.661,2, -999.000,9, -999.000,9, -999.000,9,-999.0000,9,  -999.00,9,   -999.0,9,   -999.0,9,   2059.8,2,    515.1,2,   2262.0,2,  -999.00,9,   20.00,  -999.0,-999.0000,-999.000, -999.00,  -999.0, 12.0530,-999.000
    31DSCG94_2,  P18S,    66,  2,    219,    417,2,19940317,1713,-36.5000,-103.0000, 3510,    199.4,  10.5594,  34.2888,2,  34.2907,2,    232.7,2,    230.1,2,     2.30,2,    13.25,2,     0.00,2,     1.01,2,    3.133,2,    1.566,2, -999.000,9, -999.000,9, -999.000,9,-999.0000,9,  -999.00,9,   -999.0,9,   -999.0,9,   2086.4,2,    592.5,2,   2252.0,2,  -999.00,9,   20.00,  -999.0,-999.0000,-999.000, -999.00,  -999.0, 10.5356,-999.000
    31DSCG94_2,  P18S,    66,  2,    218,    429,2,19940317,1713,-36.5000,-103.0000, 3510,    299.8,   7.9220,  34.3124,2,  34.3114,2,    232.2,2,    228.9,2,     4.95,2,    19.86,2,     0.01,2,     1.42,2,    2.471,2,    1.198,2, -999.000,9, -999.000,9, -999.000,9,-999.0000,9,  -999.00,9,   -999.0,9,   -999.0,9,   -999.0,9,    719.6,2,   -999.0,9,  -999.00,9,   20.00,  -999.0,-999.0000,-999.000, -999.00,  -999.0,  7.8919,-999.000
    31DSCG94_2,  P18S,    66,  2,    217,    427,2,19940317,1713,-36.5000,-103.0000, 3510,    400.7,   6.6573,  34.3286,2,  34.3300,2,    243.9,2,    249.2,2,     7.25,2,    21.90,2,     0.01,2,     1.54,2,    2.463,2,    1.219,2, -999.000,9, -999.000,9, -999.000,9,-999.0000,9,  -999.00,9,   -999.0,9,   -999.0,9,   2130.9,2,    728.2,2,   2279.0,2,  -999.00,9,   20.00,  -999.0,-999.0000,-999.000, -999.00,  -999.0,  6.6207,-999.000
    31DSCG94_2,  P18S,    66,  2,    216,    410,2,19940317,1713,-36.5000,-103.0000, 3510,    501.1,   6.2716,  34.3198,2,-999.0000,9,    250.6,2,    253.9,2,     8.49,2,    23.06,2,     0.00,2,     1.54,2,    2.243,2,    1.104,2, -999.000,9, -999.000,9, -999.000,9,-999.0000,9,  -999.00,9,   -999.0,9,   -999.0,9,   2131.3,2,    726.0,2,   2279.0,2,  -999.00,9,   20.00,  -999.0,-999.0000,-999.000, -999.00,  -999.0,  6.2269,-999.000
    31DSCG94_2,  P18S,    66,  2,    215,    422,2,19940317,1713,-36.5000,-103.0000, 3510,    601.5,   5.8834,  34.2957,2,  34.2984,2,    248.6,2,    252.5,2,     9.78,2,    23.58,2,     0.00,2,     1.60,2,    1.755,2,    0.875,2, -999.000,9, -999.000,9, -999.000,9,-999.0000,9,  -999.00,9,   -999.0,9,   -999.0,9,   2134.6,2,    742.8,2,   2280.0,2,  -999.00,9,   20.00,  -999.0,-999.0000,-999.000, -999.00,  -999.0,  5.8311,-999.000
    31DSCG94_2,  P18S,    66,  2,    214,    407,2,19940317,1713,-36.5000,-103.0000, 3510,    702.1,   5.4775,  34.2748,2,  34.2766,2,    241.8,2,    247.8,2,    11.85,2,    25.10,2,     0.01,2,     1.72,2,    1.220,2,    0.617,2, -999.000,9, -999.000,9, -999.000,9,-999.0000,9,  -999.00,9,   -999.0,9,   -999.0,9,   2141.7,2,    778.3,2,   2282.0,2,  -999.00,9,   20.00,  -999.0,-999.0000,-999.000, -999.00,  -999.0,  5.4182,-999.000
    31DSCG94_2,  P18S,    66,  2,    213,    419,2,19940317,1713,-36.5000,-103.0000, 3510,    804.0,   5.0429,  34.2652,2,  34.2658,2,    232.1,2,    234.3,2,    16.03,2,    27.16,2,     0.00,2,     1.88,2,    0.753,2,    0.405,2, -999.000,9, -999.000,9, -999.000,9,-999.0000,9,  -999.00,9,   -999.0,9,   -999.0,9,   2155.6,2,    836.3,2,   2282.0,2,  -999.00,9,   20.00,  -999.0,-999.0000,-999.000, -999.00,  -999.0,  4.9771,-999.000
    31DSCG94_2,  P18S,    66,  2,    212,    426,2,19940317,1713,-36.5000,-103.0000, 3510,    900.0,   4.6140,  34.2749,2,-999.0000,9,    215.9,2,    217.0,2,  -999.00,9,  -999.00,9,  -999.00,9,  -999.00,9,    0.410,2,    0.221,2, -999.000,9, -999.000,9, -999.000,9,-999.0000,9,  -999.00,9,   -999.0,9,   -999.0,9,   2172.5,2,    917.5,2,   2289.0,2,  -999.00,9,   20.00,  -999.0,-999.0000,-999.000, -999.00,  -999.0,  4.5427,-999.000
    31DSCG94_2,  P18S,    66,  2,    211,    424,2,19940317,1713,-36.5000,-103.0000, 3510,   1004.6,   4.0947,  34.3095,2,  34.3098,2,    199.5,2,    195.4,2,    33.12,2,    32.06,2,     0.00,2,     2.17,2,    0.140,2,    0.080,2, -999.000,9, -999.000,9, -999.000,9,-999.0000,9,  -999.00,9,   -999.0,9,   -999.0,9,   2193.3,2,   1020.7,2,   2299.0,2,  -999.00,9,   20.00,  -999.0,-999.0000,-999.000, -999.00,  -999.0,  4.0183,-999.000
    31DSCG94_2,  P18S,    66,  2,    210,    409,2,19940317,1713,-36.5000,-103.0000, 3510,   1199.6,   3.4728,  34.4024,2,  34.4033,2,    161.0,2,    159.0,2,    55.61,2,    35.65,2,     0.00,2,     2.45,2,    0.008,2,    0.008,2, -999.000,9, -999.000,9, -999.000,9,-999.0000,9,  -999.00,9,   -999.0,9,   -999.0,9,   -999.0,9,   1212.3,2,   -999.0,9,  -999.00,9,   20.00,  -999.0,-999.0000,-999.000, -999.00,  -999.0,  3.3853,-999.000
    31DSCG94_2,  P18S,    66,  2,    209,    423,2,19940317,1713,-36.5000,-103.0000, 3510,   1402.4,   3.1074,  34.5036,2,  34.5038,2,    132.9,2,    133.1,2,    77.53,2,    37.70,2,     0.00,2,     2.62,2,   -0.003,2,    0.000,2, -999.000,9, -999.000,9, -999.000,9,-999.0000,9,  -999.00,9,   -999.0,9,   -999.0,9,   -999.0,9,   1330.5,3,   -999.0,9,  -999.00,9,   20.00,  -999.0,-999.0000,-999.000, -999.00,  -999.0,  3.0066,-999.000
    31DSCG94_2,  P18S,    66,  2,    208,    414,2,19940317,1713,-36.5000,-103.0000, 3510,   1700.2,   2.5931,  34.5769,2,  34.5767,2,    139.7,2,    143.2,2,    92.69,2,    36.36,2,     0.01,2,     2.55,2,    0.000,2,    0.003,2, -999.000,9, -999.000,9, -999.000,9,-999.0000,9,  -999.00,9,   -999.0,9,   -999.0,9,   -999.0,9,   1255.4,2,   -999.0,9,  -999.00,9,   20.00,  -999.0,-999.0000,-999.000, -999.00,  -999.0,  2.4735,-999.000
    31DSCG94_2,  P18S,    66,  2,    207,    437,2,19940317,1713,-36.5000,-103.0000, 3510,   1993.2,   2.2227,  34.6299,2,  34.6284,2,    153.6,2,    156.1,2,   100.48,2,    34.72,2,     0.00,2,     2.36,2,    0.001,2,    0.000,2, -999.000,9, -999.000,9, -999.000,9,-999.0000,9,  -999.00,9,   -999.0,9,   -999.0,9,   -999.0,9,   1188.5,3,   -999.0,9,  -999.00,9,   20.00,  -999.0,-999.0000,-999.000, -999.00,  -999.0,  2.0834,-999.000
    31DSCG94_2,  P18S,    66,  2,    206,    416,2,19940317,1713,-36.5000,-103.0000, 3510,   2301.9,   1.9713,  34.6676,2,  34.6672,2,    159.5,2,    162.9,2,   109.91,2,    34.42,2,     0.00,2,     2.39,2,    0.000,2,    0.005,2, -999.000,9, -999.000,9, -999.000,9,-999.0000,9,  -999.00,9,   -999.0,9,   -999.0,9,   -999.0,9,   1150.6,2,   -999.0,9,  -999.00,9,   20.00,  -999.0,-999.0000,-999.000, -999.00,  -999.0,  1.8092,-999.000
    31DSCG94_2,  P18S,    66,  2,    205,    420,2,19940317,1713,-36.5000,-103.0000, 3510,   2596.6,   1.8216,  34.6816,2,  34.6811,2,    162.9,2,    165.2,2,   114.77,2,    34.08,2,     0.00,2,     2.38,2,    0.001,2,    0.002,2, -999.000,9, -999.000,9, -999.000,9,-999.0000,9,  -999.00,9,   -999.0,9,   -999.0,9,   -999.0,9,   1137.9,2,   -999.0,9,  -999.00,9,   20.00,  -999.0,-999.0000,-999.000, -999.00,  -999.0,  1.6357,-999.000
    31DSCG94_2,  P18S,    66,  2,    204,    436,2,19940317,1713,-36.5000,-103.0000, 3510,   2896.8,   1.7650,  34.6877,2,  34.6868,2,    166.0,2,    166.7,2,   116.52,2,    34.08,2,     0.00,2,     2.34,2,   -0.002,2,    0.006,2, -999.000,9, -999.000,9, -999.000,9,-999.0000,9,  -999.00,9,   -999.0,9,   -999.0,9,   -999.0,9,   1122.3,2,   -999.0,9,  -999.00,9,   20.00,  -999.0,-999.0000,-999.000, -999.00,  -999.0,  1.5522,-999.000
    31DSCG94_2,  P18S,    66,  2,    203,    425,2,19940317,1713,-36.5000,-103.0000, 3510,   3201.4,   1.6749,  34.6928,2,  34.6923,2,    171.0,2,    172.1,2,   118.50,2,    33.60,2,     0.00,2,     2.30,2,    0.002,2,    0.004,2, -999.000,9, -999.000,9, -999.000,9,-999.0000,9,  -999.00,9,   -999.0,9,   -999.0,9,   -999.0,9,   1108.5,2,   -999.0,9,  -999.00,9,   20.00,  -999.0,-999.0000,-999.000, -999.00,  -999.0,  1.4345,-999.000
    31DSCG94_2,  P18S,    66,  2,    202,    433,2,19940317,1713,-36.5000,-103.0000, 3510,   3400.4,   1.5648,  34.6977,2,  34.6976,2,    176.1,2,    177.1,2,   119.32,2,    33.40,2,     0.00,2,     2.28,2,    0.002,2,    0.003,2, -999.000,9, -999.000,9, -999.000,9,-999.0000,9,  -999.00,9,   -999.0,9,   -999.0,9,   -999.0,9,   1088.0,2,   -999.0,9,  -999.00,9,   20.00,  -999.0,-999.0000,-999.000, -999.00,  -999.0,  1.3071,-999.000
    31DSCG94_2,  P18S,    66,  2,    201,    403,2,19940317,1713,-36.5000,-103.0000, 3510,   3529.4,   1.3929,  34.7024,2,  34.7014,2,    181.9,2,    182.7,2,   120.41,2,    33.04,2,     0.00,2,     2.32,2,   -0.004,2,    0.002,2, -999.000,9, -999.000,9, -999.000,9,-999.0000,9,  -999.00,9,   -999.0,9,   -999.0,9,   -999.0,9,   1077.4,2,   -999.0,9,  -999.00,9,   20.00,  -999.0,-999.0000,-999.000, -999.00,  -999.0,  1.1263,-999.000