BOTTLE,20220630CCHSIOAMB
EXPOCODE,SECT_ID,STNNBR,CASTNO,SAMPNO,BTLNBR,BTLNBR_FLAG_W,DATE,TIME,LATITUDE,LONGITUDE,DEPTH,CTDPRS,CTDTMP,CTDSAL,CTDSAL_FLAG_W,SALNTY,SALNTY_FLAG_W,CTDOXY,CTDOXY_FLAG_W,OXYGEN,OXYGEN_FLAG_W,SILCAT,SILCAT_FLAG_W,NITRAT,NITRAT_FLAG_W,NITRIT,NITRIT_FLAG_W,PHSPHT,PHSPHT_FLAG_W,CFC-11,CFC-11_FLAG_W,CFC-12,CFC-12_FLAG_W,CFC113,CFC113_FLAG_W,CCL4,CCL4_FLAG_W,TRITUM,TRITUM_FLAG_W,HELIUM,HELIUM_FLAG_W,DELHE3,DELHE3_FLAG_W,DELC14,DELC14_FLAG_W,DELC13,DELC13_FLAG_W,TCARBN,TCARBN_FLAG_W,PCO2,PCO2_FLAG_W,ALKALI,ALKALI_FLAG_W,PH,PH_FLAG_W,PCO2TMP,C14ERR,HELIER,DELHER,PH_TMP,C13ERR,THETA,TRITER
,,,,,,,,,,,,DBAR,ITS-90,PSS-78,,PSS-78,,UMOL/KG,,UMOL/KG,,UMOL/KG,,UMOL/KG,,UMOL/KG,,UMOL/KG,,PMOL/KG,,PMOL/KG,,PMOL/KG,,PMOL/KG,,TU,,NMOL/KG,,PERCNT,,/MILLE,,/MILLE,,UMOL/KG,,UATM,,UMOL/KG,,,,DEG C,/MILLE,NMOL/KG,PERCNT,DEG C,/MILLE,DEG C,TU
    31DSCG94_3,  P18N,   142,  1,    136,   1025,2,19940413,0128, -1.0017,-110.3283, 4070,      9.1,  25.6877,  35.1534,2,  35.1563,2,    197.6,2,    203.5,6,     3.57,2,     6.39,2,     0.23,2,     0.69,2,    1.778,2,    1.001,2, -999.000,9, -999.000,9,    0.838,2,   1.7518,2,    -0.73,2,     91.7,2,      1.2,2,   2042.2,2,    406.0,2,   2306.0,2,     7.99,2,   20.00,     4.1,-999.0000,-999.000,   25.00,  -999.0, 25.6857,   0.008
    31DSCG94_3,  P18N,   142,  1,    135,   1247,2,19940413,0128, -1.0017,-110.3283, 4070,     25.3,  25.3388,  35.1411,2,  35.1497,2,    192.0,2,    195.3,6,     3.92,2,     6.52,2,     0.22,2,     0.70,2,    1.763,2,    0.995,2, -999.000,9, -999.000,9, -999.000,9,-999.0000,9,  -999.00,9,     55.2,2,      1.2,2,   -999.0,9,   -999.0,9,   -999.0,9,     7.98,2, -999.00,     6.0,-999.0000,-999.000,   25.00,  -999.0, 25.3333,-999.000
    31DSCG94_3,  P18N,   142,  1,    134,   1216,2,19940413,0128, -1.0017,-110.3283, 4070,     49.2,  17.4443,  35.3060,2,  35.3048,2,    126.5,2,     85.3,6,     9.89,2,    18.25,2,     0.81,2,     1.57,2,    1.332,2,    0.713,2, -999.000,9, -999.000,9,    0.500,2,   1.7688,2,     1.97,2,   -999.0,5,      0.6,2,   2166.9,2,    721.5,2,   2321.0,2,  -999.00,9,   20.00,  -999.0,-999.0000,-999.000, -999.00,  -999.0, 17.4361,   0.006
    31DSCG94_3,  P18N,   142,  1,    133,   1244,2,19940413,0128, -1.0017,-110.3283, 4070,     75.4,  15.3862,  35.1403,2,  35.1413,2,     67.6,2,     59.4,6,    14.38,2,    23.51,2,     0.53,2,     1.82,2,    0.964,2,    0.520,2, -999.000,9, -999.000,9, -999.000,9,-999.0000,9,  -999.00,9,     24.3,2,      0.4,2,   2188.9,2,    892.3,2,   -999.0,9,     7.67,2,   20.00,     3.6,-999.0000,-999.000,   25.00,  -999.0, 15.3746,-999.000
    31DSCG94_3,  P18N,   142,  1,    132,   1003,3,19940413,0128, -1.0017,-110.3283, 4070,     99.3,  13.1876,  34.9184,2,  34.9208,2,     83.5,2,    100.4,6,    17.35,2,    22.32,2,     0.00,2,     1.60,2,    0.816,2,    0.452,2, -999.000,9, -999.000,9,    0.530,2,   1.7991,2,     4.84,2,      3.8,2,      0.5,2,   -999.0,9,   -999.0,9,   2307.0,3,  -999.00,9, -999.00,     4.8,-999.0000,-999.000, -999.00,  -999.0, 13.1739,   0.007
    31DSCG94_3,  P18N,   142,  1,    131,   1211,2,19940413,0128, -1.0017,-110.3283, 4070,    124.0,  13.0789,  34.9099,2,  34.9096,2,     92.1,2,     97.5,6,    18.38,2,    22.82,2,     0.00,2,     1.67,2,    0.758,6,    0.412,6, -999.000,9, -999.000,9,    0.521,2,   1.7920,2,     5.03,2,     17.5,2,      0.5,2,   -999.0,9,   -999.0,9,   -999.0,9,     7.70,2, -999.00,     3.6,-999.0000,-999.000,   25.00,  -999.0, 13.0618,   0.007
    31DSCG94_3,  P18N,   142,  1,    130,   1241,2,19940413,0128, -1.0017,-110.3283, 4070,    149.7,  13.0225,  34.9060,2,  34.9059,2,     89.9,2,     91.7,6,    18.47,2,    23.50,2,     0.00,2,     1.70,2, -999.000,5, -999.000,5, -999.000,9, -999.000,9,    0.518,2,   1.7969,2,     5.11,2,     19.0,2,      0.5,2,   2175.8,2,    851.1,2,   2303.0,2,     7.69,2,   20.00,     3.6,-999.0000,-999.000,   25.00,  -999.0, 13.0019,   0.006
    31DSCG94_3,  P18N,   142,  1,    129,   1240,2,19940413,0128, -1.0017,-110.3283, 4070,    175.9,  12.9105,  34.8991,2,  34.8985,2,     84.8,2,     81.7,6,    19.71,2,    24.41,2,     0.00,2,     1.75,2,    0.676,2,    0.364,2, -999.000,9, -999.000,9,    0.490,2,   1.8036,2,     5.34,2,      2.4,2,      0.4,2,   -999.0,9,   -999.0,9,   -999.0,9,     7.67,2, -999.00,     5.5,-999.0000,-999.000,   25.00,  -999.0, 12.8865,   0.006
    31DSCG94_3,  P18N,   142,  1,    128,   1032,2,19940413,0128, -1.0017,-110.3283, 4070,    198.2,  12.8679,  34.8984,2,  34.8968,2,     79.0,2,     75.3,2,    20.18,2,    25.27,2,     0.00,2,     1.78,2,    0.645,2,    0.351,2, -999.000,9, -999.000,9,    0.471,2,   1.7750,2,     5.40,2,     -2.6,2,      0.4,2,   2187.8,2,    930.9,2,   2301.0,2,     7.65,2,   20.00,     4.2,-999.0000,-999.000,   25.00,  -999.0, 12.8409,   0.006
    31DSCG94_3,  P18N,   142,  1,    127,   1008,2,19940413,0128, -1.0017,-110.3283, 4070,    221.7,  12.7700,  34.8951,2,  34.8967,2,     68.9,2,     66.7,2,    20.70,2,    26.47,2,     0.00,2,     1.86,2,    0.590,6,    0.323,6, -999.000,9, -999.000,9,    0.434,2,   1.8241,2,     5.26,2,     -4.7,2,      0.3,2,   -999.0,9,   -999.0,9,   -999.0,9,     7.63,2, -999.00,     6.8,-999.0000,-999.000,   25.00,  -999.0, 12.7399,   0.006
    31DSCG94_3,  P18N,   142,  1,    126,   1007,2,19940413,0128, -1.0017,-110.3283, 4070,    249.8,  12.6650,  34.8900,2,  34.8896,2,     56.7,2,     53.5,2,    22.28,2,    28.29,2,     0.02,2,     1.94,2,    0.516,2,    0.284,2, -999.000,9, -999.000,9,    0.413,2,   1.7585,2,     5.43,2,     -7.6,2,      0.3,2,   2206.7,2,   1062.9,2,   2298.0,2,     7.59,2,   20.00,     3.5,-999.0000,-999.000,   25.00,  -999.0, 12.6312,   0.006
    31DSCG94_3,  P18N,   142,  1,    125,   1256,2,19940413,0128, -1.0017,-110.3283, 4070,    299.2,  12.3661,  34.8755,2,  34.8741,2,     49.8,2,     26.2,2,    24.74,2,    31.44,2,     0.00,2,     2.24,2,    0.348,2,    0.193,2, -999.000,9, -999.000,9,    0.309,2,-999.0000,9,  -999.00,9,    -22.2,2,      0.1,2,   2230.1,2,   1295.5,2,   2297.0,2,     7.52,2,   20.00,     3.3,-999.0000,-999.000,   25.00,  -999.0, 12.3262,   0.005
    31DSCG94_3,  P18N,   142,  1,    123,   1220,2,19940413,0128, -1.0017,-110.3283, 4070,    400.2,   9.8657,  34.7308,2,  34.7305,2,     30.7,2,     35.8,2,    31.66,2,    35.00,2,     0.00,2,     2.48,2,    0.110,2,    0.061,2, -999.000,9, -999.000,9,    0.108,2,   1.7844,2,     5.26,2,    -65.9,2,      0.2,2,   2249.7,2,   1462.5,2,   2304.0,2,     7.48,2,   20.00,     5.0,-999.0000,-999.000,   25.00,  -999.0,  9.8194,   0.004
    31DSCG94_3,  P18N,   142,  1,    122,   1245,2,19940413,0128, -1.0017,-110.3283, 4070,    498.3,   8.3700,  34.6364,2,  34.6359,2,     31.9,2,     53.4,2,    38.40,2,    36.55,2,     0.00,2,     2.49,2,    0.059,2,    0.031,2, -999.000,9, -999.000,9,    0.057,2,   1.7920,2,     6.61,2,    -90.9,2,      0.2,2,   2251.3,3,   1452.0,2,   2305.0,2,     7.48,2,   20.00,     4.1,-999.0000,-999.000,   25.00,  -999.0,  8.3175,   0.004
    31DSCG94_3,  P18N,   142,  1,    121,   1206,2,19940413,0128, -1.0017,-110.3283, 4070,    599.0,   7.1202,  34.5818,2,  34.5809,2,     51.5,2,     59.9,2,    48.07,2,    38.40,2,     0.00,2,     2.67,2,    0.018,2,    0.009,2, -999.000,9, -999.000,9,    0.021,2,-999.0000,9,  -999.00,9,   -110.5,2,      0.2,2,   2262.2,2,   1504.2,2,   2309.0,2,     7.47,2,   20.00,     7.1,-999.0000,-999.000,   25.00,  -999.0,  7.0623,   0.003
    31DSCG94_3,  P18N,   142,  1,    120,   1028,2,19940413,0128, -1.0017,-110.3283, 4070,    702.0,   6.2397,  34.5545,2,  34.5552,2,     61.5,2,     68.7,2,    56.49,2,    39.25,2,     0.00,2,     2.74,2, -999.000,9, -999.000,9, -999.000,9, -999.000,9,    0.017,2,   1.8326,2,    10.73,2,   -141.2,2,      0.2,2,   2270.6,2,   1505.0,2,   2322.0,2,     7.47,2,   20.00,     3.0,-999.0000,-999.000,   25.00,  -999.0,  6.1760,   0.003
    31DSCG94_3,  P18N,   142,  1,    119,   1248,3,19940413,0128, -1.0017,-110.3283, 4070,    799.0,   5.5700,  34.5447,2,  34.9087,4,     71.7,2,   -999.0,9,    25.71,4,    24.31,4,     0.14,3,     1.79,4, -999.000,5, -999.000,5, -999.000,9, -999.000,9, -999.000,9,-999.0000,9,  -999.00,9,    -20.0,4,      0.5,3,   -999.0,9,   -999.0,9,   -999.0,9,  -999.00,9, -999.00,     5.4,-999.0000,-999.000, -999.00,  -999.0,  5.5010,-999.000
    31DSCG94_3,  P18N,   142,  1,    118,   1115,2,19940413,0128, -1.0017,-110.3283, 4070,    898.0,   5.0487,  34.5444,2,  34.5450,2,     77.2,2,     81.9,2,    73.88,2,    39.70,2,     0.00,2,     2.79,2, -999.000,9, -999.000,9, -999.000,9, -999.000,9, -999.000,9,-999.0000,9,  -999.00,9,   -161.9,2,      0.2,2,   2286.2,2,   1477.2,2,   2340.0,2,     7.48,2,   20.00,     2.9,-999.0000,-999.000,   25.00,  -999.0,  4.9741,-999.000
    31DSCG94_3,  P18N,   142,  1,    117,   1119,2,19940413,0128, -1.0017,-110.3283, 4070,   1002.5,   4.5739,  34.5537,2,  34.5543,2,     79.4,2,     78.2,2,    84.40,2,    40.68,2,     0.00,2,     2.86,2,    0.001,2,    0.000,2, -999.000,9, -999.000,9,    0.007,2,   1.8477,2,    16.95,2,   -175.1,2,      0.1,2,   2298.8,2,   1509.8,2,   2351.0,2,     7.47,2,   20.00,     3.0,-999.0000,-999.000,   25.00,  -999.0,  4.4935,   0.003
    31DSCG94_3,  P18N,   142,  1,    116,   1036,2,19940413,0128, -1.0017,-110.3283, 4070,   1060.2,   4.3270,  34.5588,2,  34.5588,2,     82.1,2,     80.9,2,    89.24,2,    40.90,2,     0.00,2,     2.87,2, -999.000,9, -999.000,9, -999.000,9, -999.000,9, -999.000,9,-999.0000,9,  -999.00,9,   -189.9,2,      0.1,2,   -999.0,9,   -999.0,9,   -999.0,9,     7.47,2, -999.00,     5.7,-999.0000,-999.000,   25.00,  -999.0,  4.2435,-999.000
    31DSCG94_3,  P18N,   142,  1,    115,   1017,2,19940413,0128, -1.0017,-110.3283, 4070,   1198.5,   3.8776,  34.5693,2,  34.5692,2,     86.6,2,     86.2,2,    98.54,2,    40.72,2,     0.01,2,     2.84,2,    0.002,2,   -0.002,2, -999.000,9, -999.000,9,    0.006,2,   1.8732,2,    20.15,2,   -194.7,2,      0.1,2,   -999.0,9,   -999.0,9,   -999.0,9,  -999.00,9, -999.00,     3.5,-999.0000,-999.000, -999.00,  -999.0,  3.7861,   0.003
    31DSCG94_3,  P18N,   142,  1,    114,   1016,2,19940413,0128, -1.0017,-110.3283, 4070,   1399.0,   3.2151,  34.5943,2,  34.5988,3,     91.8,2,     89.4,2,   116.98,2,    40.35,2,     0.00,2,     2.87,2, -999.000,9, -999.000,9, -999.000,9, -999.000,9, -999.000,9,-999.0000,9,  -999.00,9,   -223.5,2,      0.0,2,   -999.0,9,   -999.0,9,   -999.0,9,     7.48,2, -999.00,     3.9,-999.0000,-999.000,   25.00,  -999.0,  3.1133,-999.000
    31DSCG94_3,  P18N,   142,  1,    113,   1209,3,19940413,0128, -1.0017,-110.3283, 4070,   1598.1,   2.9153,  34.6074,2,  34.6072,2,    100.9,2,     94.5,2,   123.60,2,    40.33,2,     0.00,2,     2.85,2, -999.000,9, -999.000,9, -999.000,9, -999.000,9, -999.000,9,-999.0000,9,  -999.00,9,   -217.5,2,     -0.0,2,   -999.0,9,   -999.0,9,   -999.0,9,  -999.00,9, -999.00,     2.7,-999.0000,-999.000, -999.00,  -999.0,  2.8001,-999.000
    31DSCG94_3,  P18N,   142,  1,    112,   1033,2,19940413,0128, -1.0017,-110.3283, 4070,   1801.4,   2.4748,  34.6300,2,  34.6305,2,    111.1,2,     98.2,2,   135.66,2,    40.29,2,     0.00,2,     2.81,2, -999.000,9, -999.000,9, -999.000,9, -999.000,9, -999.000,9,-999.0000,9,  -999.00,9,   -241.0,2,     -0.1,2,   -999.0,9,   -999.0,9,   -999.0,9,     7.50,2, -999.00,     3.9,-999.0000,-999.000,   25.00,  -999.0,  2.3482,-999.000
    31DSCG94_3,  P18N,   142,  1,    111,   1240,2,19940413,0128, -1.0017,-110.3283, 4070,   1995.4,   2.2590,  34.6441,2,  34.6453,2,    114.5,2,    101.9,2,   141.44,2,    39.65,2,     0.00,2,     2.80,2, -999.000,9, -999.000,9, -999.000,9, -999.000,9, -999.000,9,-999.0000,9,  -999.00,9,   -999.0,5,     -0.1,2,   -999.0,9,   -999.0,9,   -999.0,9,  -999.00,9, -999.00,  -999.0,-999.0000,-999.000, -999.00,  -999.0,  2.1189,-999.000
    31DSCG94_3,  P18N,   142,  1,    110,   1005,2,19940413,0128, -1.0017,-110.3283, 4070,   2251.8,   2.0069,  34.6540,2,  34.6549,2,    119.3,2,    112.2,2,   143.15,2,    39.32,2,     0.00,2,     2.73,2, -999.000,9, -999.000,9, -999.000,9, -999.000,9, -999.000,9,-999.0000,9,  -999.00,9,   -254.8,2,     -0.0,2,   -999.0,9,   -999.0,9,   -999.0,9,     7.53,2, -999.00,     4.1,-999.0000,-999.000,   25.00,  -999.0,  1.8487,-999.000
    31DSCG94_3,  P18N,   142,  1,    109,   1611,2,19940413,0128, -1.0017,-110.3283, 4070,   2499.5,   1.8620,  34.6616,2,  34.6623,2,    123.8,2,    122.1,2,   143.24,2,    38.87,2,     0.00,2,     2.68,2, -999.000,9, -999.000,9, -999.000,9, -999.000,9, -999.000,9,-999.0000,9,  -999.00,9,   -242.4,2,     -0.0,2,   -999.0,9,   -999.0,9,   -999.0,9,  -999.00,9, -999.00,     3.8,-999.0000,-999.000, -999.00,  -999.0,  1.6842,-999.000
    31DSCG94_3,  P18N,   142,  1,    108,   1218,2,19940413,0128, -1.0017,-110.3283, 4070,   2749.2,   1.7657,  34.6683,2,  34.6687,2,    128.8,2,    125.8,2,   145.22,2,    38.65,2,     0.00,2,     2.66,2, -999.000,9, -999.000,9, -999.000,9, -999.000,9, -999.000,9,-999.0000,9,  -999.00,9,   -238.5,2,     -0.0,2,   -999.0,9,   -999.0,9,   -999.0,9,     7.55,2, -999.00,     3.6,-999.0000,-999.000,   25.00,  -999.0,  1.5669,-999.000
    31DSCG94_3,  P18N,   142,  1,    107,   1257,2,19940413,0128, -1.0017,-110.3283, 4070,   2999.5,   1.7027,  34.6724,2,  34.6716,2,    133.2,2,    132.9,2,   145.78,2,    37.99,2,     0.00,2,     2.62,2, -999.000,9, -999.000,9, -999.000,9, -999.000,9, -999.000,9,-999.0000,9,  -999.00,9,   -221.6,2,      0.0,2,   -999.0,9,   -999.0,9,   -999.0,9,  -999.00,9, -999.00,     3.5,-999.0000,-999.000, -999.00,  -999.0,  1.4815,-999.000
    31DSCG94_3,  P18N,   142,  1,    106,   1224,2,19940413,0128, -1.0017,-110.3283, 4070,   3248.8,   1.6073,  34.6777,2,  34.6776,2,    139.6,2,    139.9,2,   147.73,2,    37.24,2,     0.00,2,     2.58,2, -999.000,9, -999.000,9, -999.000,9, -999.000,9, -999.000,9,-999.0000,9,  -999.00,9,   -233.2,2,      0.1,2,   -999.0,9,   -999.0,9,   -999.0,9,     7.57,2, -999.00,     3.4,-999.0000,-999.000,   25.00,  -999.0,  1.3638,-999.000
    31DSCG94_3,  P18N,   142,  1,    105,   1246,2,19940413,0128, -1.0017,-110.3283, 4070,   3499.9,   1.5338,  34.6838,2,  34.6838,2,    144.4,2,    146.7,2,   149.69,2,    36.94,2,     0.00,2,     2.55,2, -999.000,9, -999.000,9, -999.000,9, -999.000,9, -999.000,9,-999.0000,9,  -999.00,9,   -221.7,2,      0.0,2,   -999.0,9,   -999.0,9,   -999.0,9,  -999.00,9, -999.00,     4.2,-999.0000,-999.000, -999.00,  -999.0,  1.2668,-999.000
    31DSCG94_3,  P18N,   142,  1,    104,   1217,2,19940413,0128, -1.0017,-110.3283, 4070,   3748.6,   1.4530,  34.6901,2,  34.6896,2,    153.8,2,    151.5,2,   148.20,2,    36.62,2,     0.00,2,     2.50,2, -999.000,9, -999.000,9, -999.000,9, -999.000,9, -999.000,9,-999.0000,9,  -999.00,9,   -238.6,2,      0.1,2,   -999.0,9,   -999.0,9,   -999.0,9,  -999.00,9, -999.00,     3.2,-999.0000,-999.000, -999.00,  -999.0,  1.1622,-999.000
    31DSCG94_3,  P18N,   142,  1,    103,   9999,2,19940413,0128, -1.0017,-110.3283, 4070,   4000.3,   1.4716,  34.6904,2,  34.6927,2,    155.2,2,    155.1,2,   146.89,2,    36.60,2,     0.00,2,     2.49,2, -999.000,9, -999.000,9, -999.000,9, -999.000,9, -999.000,9,-999.0000,9,  -999.00,9,   -999.0,9,   -999.0,9,   -999.0,9,   -999.0,9,   -999.0,9,  -999.00,9, -999.00,  -999.0,-999.0000,-999.000, -999.00,  -999.0,  1.1534,-999.000
    31DSCG94_3,  P18N,   142,  1,    102,   1223,2,19940413,0128, -1.0017,-110.3283, 4070,   4001.6,   1.4712,  34.6904,2,  34.6899,2,    155.5,2,    156.4,2,   145.53,2,    36.60,2,     0.00,2,     2.50,2, -999.000,9, -999.000,9, -999.000,9, -999.000,9, -999.000,9,-999.0000,9,  -999.00,9,   -223.7,2,      0.1,2,   -999.0,9,   -999.0,9,   -999.0,9,  -999.00,9, -999.00,     5.0,-999.0000,-999.000, -999.00,  -999.0,  1.1529,-999.000
    31DSCG94_3,  P18N,   142,  1,    101,   1041,2,19940413,0128, -1.0017,-110.3283, 4070,   4118.0,   1.4848,  34.6902,2,  34.6900,2,    154.9,2,    157.5,2,   144.90,2,    36.60,2,     0.00,2,     2.51,2, -999.000,9, -999.000,9, -999.000,9, -999.000,9, -999.000,9,-999.0000,9,  -999.00,9,   -216.2,2,      0.2,2,   -999.0,9,   -999.0,9,   -999.0,9,  -999.00,9, -999.00,     4.1,-999.0000,-999.000, -999.00,  -999.0,  1.1533,-999.000