BOTTLE,20220630CCHSIOAMB
EXPOCODE,SECT_ID,STNNBR,CASTNO,SAMPNO,BTLNBR,BTLNBR_FLAG_W,DATE,TIME,LATITUDE,LONGITUDE,DEPTH,CTDPRS,CTDTMP,CTDSAL,CTDSAL_FLAG_W,SALNTY,SALNTY_FLAG_W,CTDOXY,CTDOXY_FLAG_W,OXYGEN,OXYGEN_FLAG_W,SILCAT,SILCAT_FLAG_W,NITRAT,NITRAT_FLAG_W,NITRIT,NITRIT_FLAG_W,PHSPHT,PHSPHT_FLAG_W,CFC-11,CFC-11_FLAG_W,CFC-12,CFC-12_FLAG_W,CFC113,CFC113_FLAG_W,CCL4,CCL4_FLAG_W,TRITUM,TRITUM_FLAG_W,HELIUM,HELIUM_FLAG_W,DELHE3,DELHE3_FLAG_W,DELC14,DELC14_FLAG_W,DELC13,DELC13_FLAG_W,TCARBN,TCARBN_FLAG_W,PCO2,PCO2_FLAG_W,ALKALI,ALKALI_FLAG_W,PH,PH_FLAG_W,PCO2TMP,C14ERR,HELIER,DELHER,PH_TMP,C13ERR,THETA,TRITER
,,,,,,,,,,,,DBAR,ITS-90,PSS-78,,PSS-78,,UMOL/KG,,UMOL/KG,,UMOL/KG,,UMOL/KG,,UMOL/KG,,UMOL/KG,,PMOL/KG,,PMOL/KG,,PMOL/KG,,PMOL/KG,,TU,,NMOL/KG,,PERCNT,,/MILLE,,/MILLE,,UMOL/KG,,UATM,,UMOL/KG,,,,DEG C,/MILLE,NMOL/KG,PERCNT,DEG C,/MILLE,DEG C,TU
    31DSCG94_2,  P18S,    12,  1,    136,   1025,2,19940228,0849,-66.0000,-102.9967, 4859,     11.1,   1.6558,  33.6319,2,  33.6342,2,    333.0,2,    329.3,2,    10.03,2,    22.34,2,     0.31,2,     1.62,2,    6.378,2,    2.979,2, -999.000,5, -999.000,5,    0.151,2,   1.7692,2,    -1.64,2,   -999.0,9,      1.7,2,   2123.2,2,    724.4,2,   -999.0,5,  -999.00,9,   20.00,  -999.0,-999.0000,-999.000, -999.00,  -999.0,  1.6553,   0.004
    31DSCG94_2,  P18S,    12,  1,    135,   1247,2,19940228,0849,-66.0000,-102.9967, 4859,     25.1,   1.6576,  33.6321,2,  33.6351,2,    321.6,2,    329.1,2,    10.02,2,    22.26,2,     0.31,2,     1.61,2,    6.409,2,    2.938,2, -999.000,9, -999.000,9, -999.000,9,-999.0000,9,  -999.00,9,   -999.0,9,   -999.0,9,   -999.0,9,    722.3,2,   -999.0,9,  -999.00,9,   20.00,  -999.0,-999.0000,-999.000, -999.00,  -999.0,  1.6564,-999.000
    31DSCG94_2,  P18S,    12,  1,    134,   1108,2,19940228,0849,-66.0000,-102.9967, 4859,     46.1,   1.4943,  33.6745,2,  33.6785,2,    322.4,2,    330.4,2,    11.42,2,    22.68,2,     0.27,2,     1.65,2,    6.492,2,    3.031,2, -999.000,9, -999.000,9,    0.153,2,   1.7585,2,    -1.69,2,   -999.0,9,   -999.0,9,   -999.0,9,    731.6,2,   -999.0,9,  -999.00,9,   20.00,  -999.0,-999.0000,-999.000, -999.00,  -999.0,  1.4922,   0.004
    31DSCG94_2,  P18S,    12,  1,    133,   1103,2,19940228,0849,-66.0000,-102.9967, 4859,     74.9,  -0.7051,  33.8065,2,  33.8075,2,    346.9,2,    348.1,2,    18.77,2,    24.63,2,     0.19,2,     1.82,2,    7.227,2,    3.298,2, -999.000,5, -999.000,5,    0.138,2,   1.7710,2,    -1.57,2,   -999.0,9,   -999.0,9,   -999.0,9,   -999.0,9,   -999.0,9,  -999.00,9, -999.00,  -999.0,-999.0000,-999.000, -999.00,  -999.0, -0.7072,   0.004
    31DSCG94_2,  P18S,    12,  1,    132,   1003,2,19940228,0849,-66.0000,-102.9967, 4859,    100.7,  -0.5487,  33.8609,2,  33.8614,2,    336.6,2,    345.4,2,    22.18,2,    25.44,2,     0.19,2,     1.87,2,    7.016,6,    3.210,6, -999.000,5, -999.000,5,    0.137,2,-999.0000,9,  -999.00,9,   -999.0,9,   -999.0,9,   -999.0,9,    789.5,2,   -999.0,9,  -999.00,9,   20.00,  -999.0,-999.0000,-999.000, -999.00,  -999.0, -0.5517,   0.004
    31DSCG94_2,  P18S,    12,  1,    131,   1224,4,19940228,0849,-66.0000,-102.9967, 4859,    143.7,  -0.1723,  33.9505,2,-999.0000,9,    311.0,2,   -999.0,9,  -999.00,9,  -999.00,9,  -999.00,9,  -999.00,9, -999.000,5, -999.000,5, -999.000,9, -999.000,9, -999.000,9,-999.0000,9,  -999.00,9,   -999.0,9,   -999.0,9,   -999.0,9,   -999.0,9,   -999.0,9,  -999.00,9, -999.00,  -999.0,-999.0000,-999.000, -999.00,  -999.0, -0.1771,-999.000
    31DSCG94_2,  P18S,    12,  1,    130,   1241,4,19940228,0849,-66.0000,-102.9967, 4859,    199.0,   1.0238,  34.1094,2,-999.0000,9,    262.0,2,   -999.0,9,  -999.00,9,  -999.00,9,  -999.00,9,  -999.00,9, -999.000,5, -999.000,5, -999.000,9, -999.000,9, -999.000,9,-999.0000,9,  -999.00,9,   -999.0,9,   -999.0,9,   -999.0,9,   -999.0,9,   -999.0,9,  -999.00,9, -999.00,  -999.0,-999.0000,-999.000, -999.00,  -999.0,  1.0149,-999.000
    31DSCG94_2,  P18S,    12,  1,    129,   1031,2,19940228,0849,-66.0000,-102.9967, 4859,    300.9,   2.1344,  34.3675,2,  34.3664,2,    203.5,2,    199.5,2,    59.11,2,    34.21,2,     0.02,2,     2.35,2,    1.884,3,    0.723,6, -999.000,9, -999.000,9,    0.051,2,   1.8281,2,     5.05,2,   -999.0,9,   -999.0,9,   -999.0,9,   1176.5,2,   -999.0,9,  -999.00,9,   20.00,  -999.0,-999.0000,-999.000, -999.00,  -999.0,  2.1178,   0.004
    31DSCG94_2,  P18S,    12,  1,    128,   1210,2,19940228,0849,-66.0000,-102.9967, 4859,    366.3,   2.2363,  34.4383,2,  34.4397,2,    188.3,2,    184.9,2,    65.51,2,    34.30,2,     0.00,2,     2.37,2,    2.294,4,    0.475,2, -999.000,9, -999.000,9,    0.042,2,   1.8402,2,     6.38,2,   -999.0,9,   -999.0,9,   -999.0,9,   -999.0,9,   -999.0,9,  -999.00,9, -999.00,  -999.0,-999.0000,-999.000, -999.00,  -999.0,  2.2155,   0.003
    31DSCG94_2,  P18S,    12,  1,    127,   1008,2,19940228,0849,-66.0000,-102.9967, 4859,    496.3,   2.1983,  34.5259,2,  34.5257,2,    178.6,2,    175.4,6,    72.76,2,    34.29,2,     0.00,2,     2.37,2,    1.418,4,    0.289,6, -999.000,5, -999.000,5, -999.000,9,-999.0000,9,  -999.00,9,   -999.0,9,   -999.0,9,   -999.0,9,   1211.7,2,   -999.0,9,  -999.00,9,   20.00,  -999.0,-999.0000,-999.000, -999.00,  -999.0,  2.1697,-999.000
    31DSCG94_2,  P18S,    12,  1,    126,   1007,2,19940228,0849,-66.0000,-102.9967, 4859,    605.2,   2.1703,  34.5843,2,  34.5846,2,    175.4,2,    172.5,2,    77.27,2,    34.05,2,     0.01,2,     2.36,2,    1.735,4,    0.194,2, -999.000,9, -999.000,9,    0.023,2,   1.8259,2,     8.39,2,   -999.0,9,   -999.0,9,   -999.0,9,   -999.0,9,   -999.0,9,  -999.00,9, -999.00,  -999.0,-999.0000,-999.000, -999.00,  -999.0,  2.1350,   0.003
    31DSCG94_2,  P18S,    12,  1,    125,   1203,2,19940228,0849,-66.0000,-102.9967, 4859,    695.9,   2.1594,  34.6217,2,  34.6237,2,    175.3,2,    172.4,2,    79.83,2,    33.65,2,     0.00,2,     2.29,2,    0.626,3,    0.135,6, -999.000,9, -999.000,9, -999.000,9,-999.0000,9,  -999.00,9,   -999.0,9,   -999.0,9,   -999.0,9,   -999.0,9,   -999.0,9,  -999.00,9, -999.00,  -999.0,-999.0000,-999.000, -999.00,  -999.0,  2.1183,-999.000
    31DSCG94_2,  P18S,    12,  1,    123,   1101,2,19940228,0849,-66.0000,-102.9967, 4859,    800.2,   2.1193,  34.6538,2,  34.6535,2,    176.9,2,    174.1,2,    82.18,2,    34.44,3,     0.00,2,     2.26,2,    0.320,4,    0.102,2, -999.000,5, -999.000,5,    0.016,2,   1.8580,2,     9.12,2,   -999.0,9,   -999.0,9,   -999.0,9,   -999.0,9,   -999.0,9,  -999.00,9, -999.00,  -999.0,-999.0000,-999.000, -999.00,  -999.0,  2.0716,   0.003
    31DSCG94_2,  P18S,    12,  1,    121,   1206,2,19940228,0849,-66.0000,-102.9967, 4859,    895.2,   2.0702,  34.6792,2,  34.6790,2,    179.1,2,    176.4,6,    84.37,2,    32.27,2,     0.00,2,     2.24,2,    0.218,4,    0.074,2, -999.000,9, -999.000,9, -999.000,9,-999.0000,9,  -999.00,9,   -999.0,9,   -999.0,9,   -999.0,9,   -999.0,9,   -999.0,9,  -999.00,9, -999.00,  -999.0,-999.0000,-999.000, -999.00,  -999.0,  2.0165,-999.000
    31DSCG94_2,  P18S,    12,  1,    119,   1248,2,19940228,0849,-66.0000,-102.9967, 4859,    995.4,   2.0165,  34.6954,2,  34.6956,2,    181.5,2,    179.1,2,    85.75,2,    31.63,2,     0.01,2,     2.20,2,    0.200,4,    0.058,6, -999.000,5, -999.000,5,    0.015,2,   1.8678,2,     9.39,2,   -999.0,9,   -999.0,9,   -999.0,9,   -999.0,9,   -999.0,9,  -999.00,9, -999.00,  -999.0,-999.0000,-999.000, -999.00,  -999.0,  1.9563,   0.003
    31DSCG94_2,  P18S,    12,  1,    118,   1207,2,19940228,0849,-66.0000,-102.9967, 4859,   1199.5,   1.8806,  34.7185,2,  34.7185,2,    186.6,2,    184.1,2,    85.13,2,    30.82,2,     0.00,2,     2.17,2, -999.000,5, -999.000,5, -999.000,9, -999.000,9, -999.000,9,-999.0000,9,  -999.00,9,   -999.0,9,   -999.0,9,   -999.0,9,   -999.0,9,   -999.0,9,  -999.00,9, -999.00,  -999.0,-999.0000,-999.000, -999.00,  -999.0,  1.8074,-999.000
    31DSCG94_2,  P18S,    12,  1,    117,   1119,2,19940228,0849,-66.0000,-102.9967, 4859,   1398.2,   1.7325,  34.7286,2,  34.7280,2,    189.6,2,    187.9,2,    89.53,2,    30.60,2,     0.00,2,     2.14,2,    0.078,2,    0.038,2, -999.000,9, -999.000,9, -999.000,9,-999.0000,9,  -999.00,9,   -999.0,9,   -999.0,9,   -999.0,9,   -999.0,9,   -999.0,9,  -999.00,9, -999.00,  -999.0,-999.0000,-999.000, -999.00,  -999.0,  1.6464,-999.000
    31DSCG94_2,  P18S,    12,  1,    116,   1036,2,19940228,0849,-66.0000,-102.9967, 4859,   1603.0,   1.5744,  34.7308,2,  34.7307,2,    193.1,2,    190.9,2,    95.29,2,    30.73,2,     0.00,2,     2.15,2,    0.162,4,    0.024,2, -999.000,5, -999.000,5,    0.010,2,   1.8816,2,     9.77,2,   -999.0,9,   -999.0,9,   -999.0,9,   -999.0,9,   -999.0,9,  -999.00,9, -999.00,  -999.0,-999.0000,-999.000, -999.00,  -999.0,  1.4751,   0.003
    31DSCG94_2,  P18S,    12,  1,    115,   1017,2,19940228,0849,-66.0000,-102.9967, 4859,   1796.0,   1.4373,  34.7296,2,  34.7297,2,    195.0,2,    193.2,2,    99.48,2,    30.92,2,     0.00,2,     2.16,2,    0.297,4,    0.031,6, -999.000,9, -999.000,9, -999.000,9,-999.0000,9,  -999.00,9,   -999.0,9,   -999.0,9,   -999.0,9,   -999.0,9,   -999.0,9,  -999.00,9, -999.00,  -999.0,-999.0000,-999.000, -999.00,  -999.0,  1.3251,-999.000
    31DSCG94_2,  P18S,    12,  1,    114,   1016,2,19940228,0849,-66.0000,-102.9967, 4859,   2003.2,   1.2992,  34.7262,2,  34.7263,2,    196.5,2,    195.2,2,   104.44,2,    31.05,2,     0.02,2,     2.17,2,    0.123,4,    0.018,2, -999.000,9, -999.000,9, -999.000,9,-999.0000,9,  -999.00,9,   -999.0,9,   -999.0,9,   -999.0,9,   -999.0,9,   -999.0,9,  -999.00,9, -999.00,  -999.0,-999.0000,-999.000, -999.00,  -999.0,  1.1729,-999.000
    31DSCG94_2,  P18S,    12,  1,    113,   1118,2,19940228,0849,-66.0000,-102.9967, 4859,   2245.9,   1.1587,  34.7220,2,  34.7219,2,    198.3,2,    197.8,2,   109.66,2,    31.06,2,     0.00,2,     2.19,2,    0.142,4,    0.014,6, -999.000,5, -999.000,5,    0.012,2,-999.0000,9,  -999.00,9,   -999.0,9,   -999.0,9,   -999.0,9,   -999.0,9,   -999.0,9,  -999.00,9, -999.00,  -999.0,-999.0000,-999.000, -999.00,  -999.0,  1.0152,   0.003
    31DSCG94_2,  P18S,    12,  1,    112,   1033,2,19940228,0849,-66.0000,-102.9967, 4859,   2500.5,   1.0188,  34.7168,2,  34.7161,2,    200.3,2,    200.2,2,   115.05,2,    31.27,2,     0.00,2,     2.20,2,    0.146,4,    0.012,2, -999.000,9, -999.000,9, -999.000,9,-999.0000,9,  -999.00,9,   -999.0,9,   -999.0,9,   -999.0,9,   -999.0,9,   -999.0,9,  -999.00,9, -999.00,  -999.0,-999.0000,-999.000, -999.00,  -999.0,  0.8565,-999.000
    31DSCG94_2,  P18S,    12,  1,    111,   1263,2,19940228,0849,-66.0000,-102.9967, 4859,   2753.0,   0.9014,  34.7124,2,  34.7116,2,    201.5,2,    202.9,2,   118.73,2,    31.49,2,     0.01,2,     2.24,2,    0.241,4,    0.015,2, -999.000,9, -999.000,9,    0.014,2,   1.6318,2,    10.81,2,   -999.0,9,   -999.0,9,   -999.0,9,   -999.0,9,   -999.0,9,  -999.00,9, -999.00,  -999.0,-999.0000,-999.000, -999.00,  -999.0,  0.7197,   0.003
    31DSCG94_2,  P18S,    12,  1,    110,   1005,2,19940228,0849,-66.0000,-102.9967, 4859,   2999.2,   0.8082,  34.7092,2,  34.7079,2,    203.4,2,    204.3,2,   121.54,2,    31.49,2,     0.00,2,     2.20,2,    0.157,4,    0.014,2, -999.000,9, -999.000,9, -999.000,9,-999.0000,9,  -999.00,9,   -999.0,9,   -999.0,9,   -999.0,9,   -999.0,9,   -999.0,9,  -999.00,9, -999.00,  -999.0,-999.0000,-999.000, -999.00,  -999.0,  0.6066,-999.000
    31DSCG94_2,  P18S,    12,  1,    109,   1611,2,19940228,0849,-66.0000,-102.9967, 4859,   3246.1,   0.7106,  34.7068,2,  34.7060,2,    204.7,2,    206.9,2,   123.67,2,    31.36,2,     0.04,2,     2.22,2,    0.073,2,    0.022,2, -999.000,9, -999.000,9,    0.008,2,   1.8932,2,    10.18,2,   -999.0,9,   -999.0,9,   -999.0,9,   -999.0,9,   -999.0,9,  -999.00,9, -999.00,  -999.0,-999.0000,-999.000, -999.00,  -999.0,  0.4885,   0.003
    31DSCG94_2,  P18S,    12,  1,    108,   1218,2,19940228,0849,-66.0000,-102.9967, 4859,   3500.4,   0.6037,  34.7051,2,  34.7046,2,    206.6,2,    208.6,2,   126.58,2,    31.84,2,     0.02,2,     2.21,2,    0.043,2,    0.020,2, -999.000,9, -999.000,9, -999.000,9,-999.0000,9,  -999.00,9,   -999.0,9,   -999.0,9,   -999.0,9,   -999.0,9,   -999.0,9,  -999.00,9, -999.00,  -999.0,-999.0000,-999.000, -999.00,  -999.0,  0.3600,-999.000
    31DSCG94_2,  P18S,    12,  1,    107,   1257,2,19940228,0849,-66.0000,-102.9967, 4859,   3749.7,   0.5189,  34.7041,2,  34.7031,2,    208.6,2,    210.4,2,   128.81,2,    31.85,2,     0.00,2,     2.23,2,    0.067,6,    0.023,6, -999.000,5, -999.000,5, -999.000,9,   1.8897,2,     9.49,2,   -999.0,9,   -999.0,9,   -999.0,9,   -999.0,9,   -999.0,9,  -999.00,9, -999.00,  -999.0,-999.0000,-999.000, -999.00,  -999.0,  0.2530,-999.000
    31DSCG94_2,  P18S,    12,  1,    106,   1224,2,19940228,0849,-66.0000,-102.9967, 4859,   3997.3,   0.4595,  34.7037,2,  34.7022,2,    209.1,2,    211.8,2,   131.60,2,    32.04,2,     0.00,2,     2.23,2,    0.309,4,    0.024,2, -999.000,5, -999.000,5, -999.000,9,-999.0000,9,  -999.00,9,   -999.0,9,   -999.0,9,   -999.0,9,   -999.0,9,   -999.0,9,  -999.00,9, -999.00,  -999.0,-999.0000,-999.000, -999.00,  -999.0,  0.1702,-999.000
    31DSCG94_2,  P18S,    12,  1,    105,   1246,2,19940228,0849,-66.0000,-102.9967, 4859,   4250.1,   0.4156,  34.7033,2,  34.7015,2,    211.6,2,    213.4,2,   133.38,2,    32.10,2,     0.00,2,     2.24,2,    0.500,4,    0.083,4, -999.000,9, -999.000,9,    0.015,2,   1.8901,2,     8.79,2,   -999.0,9,   -999.0,9,   -999.0,9,   -999.0,9,   -999.0,9,  -999.00,9, -999.00,  -999.0,-999.0000,-999.000, -999.00,  -999.0,  0.1012,   0.003
    31DSCG94_2,  P18S,    12,  1,    104,   1028,2,19940228,0849,-66.0000,-102.9967, 4859,   4500.4,   0.3840,  34.7032,2,  34.7025,2,    212.8,2,    214.4,2,   135.54,2,    32.10,2,     0.03,2,     2.16,2,    0.707,4,    0.034,2, -999.000,9, -999.000,9, -999.000,9,-999.0000,9,  -999.00,9,   -999.0,9,   -999.0,9,   -999.0,9,   -999.0,9,   -999.0,9,  -999.00,9, -999.00,  -999.0,-999.0000,-999.000, -999.00,  -999.0,  0.0437,-999.000
    31DSCG94_2,  P18S,    12,  1,    103,   9999,2,19940228,0849,-66.0000,-102.9967, 4859,   4747.8,   0.3756,  34.7031,2,  34.7010,2,    214.0,2,    215.1,2,   137.40,2,    32.66,2,     0.00,2,     2.24,2,    0.075,2,    0.029,2, -999.000,5, -999.000,5, -999.000,9,-999.0000,9,  -999.00,9,   -999.0,9,   -999.0,9,   -999.0,9,   -999.0,9,   -999.0,9,  -999.00,9, -999.00,  -999.0,-999.0000,-999.000, -999.00,  -999.0,  0.0082,-999.000
    31DSCG94_2,  P18S,    12,  1,    102,   1223,2,19940228,0849,-66.0000,-102.9967, 4859,   4748.4,   0.3756,  34.7027,2,  34.7042,2,    213.9,2,    215.8,2,   137.59,2,    32.00,2,     0.00,2,     2.24,2,    0.104,2,    0.042,2, -999.000,9, -999.000,9, -999.000,9,-999.0000,9,  -999.00,9,   -999.0,9,   -999.0,9,   -999.0,9,   -999.0,9,   -999.0,9,  -999.00,9, -999.00,  -999.0,-999.0000,-999.000, -999.00,  -999.0,  0.0082,-999.000
    31DSCG94_2,  P18S,    12,  1,    101,   1041,2,19940228,0849,-66.0000,-102.9967, 4859,   4927.0,   0.3771,  34.7025,2,  34.7012,2,    213.5,2,    215.2,2,   142.32,2,    32.20,2,     0.00,2,     2.20,2,    0.101,6,    0.054,6, -999.000,5, -999.000,5,    0.025,2,-999.0000,9,  -999.00,9,   -999.0,9,   -999.0,9,   -999.0,9,   -999.0,9,   -999.0,9,  -999.00,9, -999.00,  -999.0,-999.0000,-999.000, -999.00,  -999.0, -0.0107,   0.003