BOTTLE,20220630CCHSIOAMB
EXPOCODE,SECT_ID,STNNBR,CASTNO,SAMPNO,BTLNBR,BTLNBR_FLAG_W,DATE,TIME,LATITUDE,LONGITUDE,DEPTH,CTDPRS,CTDTMP,CTDSAL,CTDSAL_FLAG_W,SALNTY,SALNTY_FLAG_W,CTDOXY,CTDOXY_FLAG_W,OXYGEN,OXYGEN_FLAG_W,SILCAT,SILCAT_FLAG_W,NITRAT,NITRAT_FLAG_W,NITRIT,NITRIT_FLAG_W,PHSPHT,PHSPHT_FLAG_W,CFC-11,CFC-11_FLAG_W,CFC-12,CFC-12_FLAG_W,CFC113,CFC113_FLAG_W,CCL4,CCL4_FLAG_W,TRITUM,TRITUM_FLAG_W,HELIUM,HELIUM_FLAG_W,DELHE3,DELHE3_FLAG_W,DELC14,DELC14_FLAG_W,DELC13,DELC13_FLAG_W,TCARBN,TCARBN_FLAG_W,PCO2,PCO2_FLAG_W,ALKALI,ALKALI_FLAG_W,PH,PH_FLAG_W,PCO2TMP,C14ERR,HELIER,DELHER,PH_TMP,C13ERR,THETA,TRITER
,,,,,,,,,,,,DBAR,ITS-90,PSS-78,,PSS-78,,UMOL/KG,,UMOL/KG,,UMOL/KG,,UMOL/KG,,UMOL/KG,,UMOL/KG,,PMOL/KG,,PMOL/KG,,PMOL/KG,,PMOL/KG,,TU,,NMOL/KG,,PERCNT,,/MILLE,,/MILLE,,UMOL/KG,,UATM,,UMOL/KG,,,,DEG C,/MILLE,NMOL/KG,PERCNT,DEG C,/MILLE,DEG C,TU
    31DSCG94_3,  P18N,   154,  1,    136,   1025,2,19940415,2319,  3.0000,-110.3333, 3770,      9.2,  27.7020,  34.6340,2,  34.6387,2,    167.4,2,    203.3,6,     2.88,2,     4.45,2,     0.06,2,     0.53,2,    1.704,2,    1.000,2, -999.000,9, -999.000,9, -999.000,9,-999.0000,9,  -999.00,9,   -999.0,9,      1.4,2,   2002.0,2,    343.3,2,   2279.0,6,     8.02,2,   20.00,  -999.0,-999.0000,-999.000,   25.00,  -999.0, 27.6998,-999.000
    31DSCG94_3,  P18N,   154,  1,    135,   1247,2,19940415,2319,  3.0000,-110.3333, 3770,     24.3,  27.4721,  34.6690,2,  34.6849,2,    168.9,2,    202.2,2,     2.88,2,     4.55,2,     0.07,2,     0.53,2,    1.723,2,    0.977,2, -999.000,9, -999.000,9, -999.000,9,-999.0000,9,  -999.00,9,   -999.0,9,   -999.0,9,   -999.0,9,   -999.0,9,   -999.0,9,     8.01,2, -999.00,  -999.0,-999.0000,-999.000,   25.00,  -999.0, 27.4665,-999.000
    31DSCG94_3,  P18N,   154,  1,    134,   1216,2,19940415,2319,  3.0000,-110.3333, 3770,     48.5,  16.6598,  34.9128,2,  34.9218,2,    161.6,2,     98.9,2,    12.94,2,    18.99,2,     0.26,2,     1.45,2,    1.097,2,    0.593,2, -999.000,9, -999.000,9, -999.000,9,-999.0000,9,  -999.00,9,   -999.0,9,   -999.0,9,   2142.0,2,    777.7,2,   2296.0,2,     7.75,2,   20.00,  -999.0,-999.0000,-999.000,   25.00,  -999.0, 16.6519,-999.000
    31DSCG94_3,  P18N,   154,  1,    133,   1244,2,19940415,2319,  3.0000,-110.3333, 3770,     73.6,  15.2074,  34.9427,2,  34.9478,2,     87.9,2,     76.9,2,    15.26,2,    21.94,2,     0.41,2,     1.65,2,    0.990,6,    0.532,6, -999.000,9, -999.000,9, -999.000,9,-999.0000,9,  -999.00,9,   -999.0,9,   -999.0,9,   -999.0,9,   -999.0,9,   -999.0,9,     7.70,2, -999.00,  -999.0,-999.0000,-999.000,   25.00,  -999.0, 15.1962,-999.000
    31DSCG94_3,  P18N,   154,  1,    132,   1003,2,19940415,2319,  3.0000,-110.3333, 3770,     99.1,  14.3522,  34.9482,2,  34.9486,2,     72.7,2,     69.3,2,    17.39,2,    23.92,2,     0.00,2,     1.74,2,    0.873,2,    0.479,2, -999.000,9, -999.000,9, -999.000,9,-999.0000,9,  -999.00,9,   -999.0,9,   -999.0,9,   2176.4,2,    877.3,2,   2295.0,2,  -999.00,9,   20.00,  -999.0,-999.0000,-999.000, -999.00,  -999.0, 14.3376,-999.000
    31DSCG94_3,  P18N,   154,  1,    131,   1211,2,19940415,2319,  3.0000,-110.3333, 3770,    126.0,  13.8885,  34.9401,2,  34.9411,2,     63.5,2,     61.2,2,    18.63,2,    25.35,2,     0.00,2,     1.83,2,    0.739,2,    0.404,2, -999.000,9, -999.000,9, -999.000,9,-999.0000,9,  -999.00,9,   -999.0,9,   -999.0,9,   -999.0,9,   -999.0,9,   -999.0,9,     7.64,2, -999.00,  -999.0,-999.0000,-999.000,   25.00,  -999.0, 13.8704,-999.000
    31DSCG94_3,  P18N,   154,  1,    130,   1241,2,19940415,2319,  3.0000,-110.3333, 3770,    149.4,  13.6359,  34.9332,2,  34.9324,2,     57.6,2,     54.9,2,    19.38,2,    26.41,2,     0.00,2,     1.91,2,    0.679,2,    0.364,2, -999.000,9, -999.000,9, -999.000,9,-999.0000,9,  -999.00,9,   -999.0,9,   -999.0,9,   2194.3,2,    986.5,2,   2296.0,2,     7.62,2,   20.00,  -999.0,-999.0000,-999.000,   25.00,  -999.0, 13.6148,-999.000
    31DSCG94_3,  P18N,   154,  1,    129,   1240,2,19940415,2319,  3.0000,-110.3333, 3770,    174.2,  13.2695,  34.9105,2,  34.9091,2,     52.4,2,     44.9,2,    20.92,2,    28.00,2,     0.00,2,     2.00,2,    0.558,6,    0.309,6, -999.000,9, -999.000,9, -999.000,9,-999.0000,9,  -999.00,9,   -999.0,9,   -999.0,9,   -999.0,9,   -999.0,9,   -999.0,9,     7.59,2, -999.00,  -999.0,-999.0000,-999.000,   25.00,  -999.0, 13.2453,-999.000
    31DSCG94_3,  P18N,   154,  1,    128,   1032,2,19940415,2319,  3.0000,-110.3333, 3770,    198.5,  13.0579,  34.8953,2,  34.8914,2,     43.4,2,     36.9,2,    22.01,2,    29.13,2,     0.00,2,     2.09,2,    0.493,2,    0.276,2, -999.000,9, -999.000,9, -999.000,9,-999.0000,9,  -999.00,9,   -999.0,9,   -999.0,9,   2212.7,2,   1137.6,2,   2296.0,2,     7.57,2,   20.00,  -999.0,-999.0000,-999.000,   25.00,  -999.0, 13.0305,-999.000
    31DSCG94_3,  P18N,   154,  1,    127,   1008,2,19940415,2319,  3.0000,-110.3333, 3770,    248.4,  12.2637,  34.8399,2,  34.8377,2,     32.7,2,     27.3,2,    25.09,2,    31.39,2,     0.00,2,     2.20,2,    0.357,2,    0.199,2, -999.000,9, -999.000,9, -999.000,9,-999.0000,9,  -999.00,9,   -999.0,9,   -999.0,9,   2225.9,2,   1266.7,2,   2295.0,2,     7.53,2,   20.00,  -999.0,-999.0000,-999.000,   25.00,  -999.0, 12.2308,-999.000
    31DSCG94_3,  P18N,   154,  1,    126,   1007,2,19940415,2319,  3.0000,-110.3333, 3770,    300.6,  11.3776,  34.7755,2,  34.7742,2,     33.8,2,     36.8,2,    27.41,2,    31.32,2,     0.00,2,     2.24,2,    0.420,2,    0.237,2, -999.000,9, -999.000,9, -999.000,9,-999.0000,9,  -999.00,9,   -999.0,9,   -999.0,9,   -999.0,9,   1281.7,2,   2292.0,2,     7.52,2,   20.00,  -999.0,-999.0000,-999.000,   25.00,  -999.0, 11.3396,-999.000
    31DSCG94_3,  P18N,   154,  1,    125,   1256,2,19940415,2319,  3.0000,-110.3333, 3770,    350.2,  10.4424,  34.7224,2,  34.7210,2,     33.2,2,     31.0,2,    31.23,2,    33.38,2,     0.00,2,     2.38,2,    0.190,6,    0.101,6, -999.000,9, -999.000,9, -999.000,9,-999.0000,9,  -999.00,9,   -999.0,9,   -999.0,9,   -999.0,9,   -999.0,9,   -999.0,9,     7.49,2, -999.00,  -999.0,-999.0000,-999.000,   25.00,  -999.0, 10.4004,-999.000
    31DSCG94_3,  P18N,   154,  1,    123,   1220,2,19940415,2319,  3.0000,-110.3333, 3770,    398.3,   9.6141,  34.6878,2,  34.6866,2,     19.6,2,      9.6,2,    38.13,2,    35.71,2,     0.00,2,     2.68,2,    0.065,2,    0.036,2, -999.000,9, -999.000,9, -999.000,9,-999.0000,9,  -999.00,9,   -999.0,9,   -999.0,9,   2229.6,3,   1686.8,2,   2303.0,2,     7.42,2,   20.00,  -999.0,-999.0000,-999.000,   25.00,  -999.0,  9.5687,-999.000
    31DSCG94_3,  P18N,   154,  1,    122,   1245,2,19940415,2319,  3.0000,-110.3333, 3770,    498.6,   7.8109,  34.6186,2,  34.6165,2,     23.0,2,     21.1,2,    47.23,2,    40.74,2,     0.00,2,     2.88,2, -999.000,5, -999.000,5, -999.000,9, -999.000,9, -999.000,9,-999.0000,9,  -999.00,9,   -999.0,9,   -999.0,9,   2271.9,3,   1737.9,2,   2313.0,2,     7.40,2,   20.00,  -999.0,-999.0000,-999.000,   25.00,  -999.0,  7.7605,-999.000
    31DSCG94_3,  P18N,   154,  1,    121,   1206,2,19940415,2319,  3.0000,-110.3333, 3770,    601.9,   6.9990,  34.5903,2,  34.5904,2,     26.9,2,     28.3,2,    54.36,2,    41.39,2,     0.00,2,     2.97,2,    0.006,2,    0.002,2, -999.000,9, -999.000,9, -999.000,9,-999.0000,9,  -999.00,9,   -999.0,9,   -999.0,9,   2289.1,2,   1749.7,2,   2316.0,2,     7.40,2,   20.00,  -999.0,-999.0000,-999.000,   25.00,  -999.0,  6.9414,-999.000
    31DSCG94_3,  P18N,   154,  1,    120,   1028,2,19940415,2319,  3.0000,-110.3333, 3770,    697.6,   6.3780,  34.5662,2,  34.5648,2,     36.0,2,     38.9,2,    59.26,2,    42.30,2,     0.00,2,     2.95,2,    0.005,2,    0.000,2, -999.000,9, -999.000,9, -999.000,9,-999.0000,9,  -999.00,9,   -999.0,9,   -999.0,9,   2291.4,2,   1715.9,2,   2322.0,2,     7.41,2,   20.00,  -999.0,-999.0000,-999.000,   25.00,  -999.0,  6.3140,-999.000
    31DSCG94_3,  P18N,   154,  1,    119,   1248,2,19940415,2319,  3.0000,-110.3333, 3770,    797.4,   5.6683,  34.5576,2,  34.5571,2,     39.8,2,     43.6,2,    69.06,2,    43.31,2,     0.00,2,     3.02,2,    0.005,2,   -0.001,2, -999.000,9, -999.000,9, -999.000,9,-999.0000,9,  -999.00,9,   -999.0,9,   -999.0,9,   2303.0,2,   1727.1,2,   2331.0,2,     7.41,2,   20.00,  -999.0,-999.0000,-999.000,   25.00,  -999.0,  5.5989,-999.000
    31DSCG94_3,  P18N,   154,  1,    118,   1115,2,19940415,2319,  3.0000,-110.3333, 3770,    898.4,   5.1216,  34.5586,2,  34.5580,2,     47.3,2,     50.8,2,    79.61,2,    41.85,2,     0.00,2,     3.02,2,    0.000,2,   -0.001,2, -999.000,9, -999.000,9, -999.000,9,-999.0000,9,  -999.00,9,   -999.0,9,   -999.0,9,   2309.8,2,   1710.9,2,   2341.0,2,     7.42,2,   20.00,  -999.0,-999.0000,-999.000,   25.00,  -999.0,  5.0465,-999.000
    31DSCG94_3,  P18N,   154,  1,    117,   1119,2,19940415,2319,  3.0000,-110.3333, 3770,    999.0,   4.5757,  34.5580,2,  34.5578,2,     56.9,2,     62.9,6,    91.41,2,    41.44,2,     0.00,2,     2.96,2,    0.001,2,    0.002,2, -999.000,9, -999.000,9, -999.000,9,-999.0000,9,  -999.00,9,   -999.0,9,   -999.0,9,   2313.2,2,   1633.1,2,   2354.0,6,     7.44,2,   20.00,  -999.0,-999.0000,-999.000,   25.00,  -999.0,  4.4956,-999.000
    31DSCG94_3,  P18N,   154,  1,    116,   1036,2,19940415,2319,  3.0000,-110.3333, 3770,   1099.2,   4.2420,  34.5655,2,  34.5661,2,     62.7,2,     66.2,2,    98.06,2,    41.71,2,     0.00,2,     2.97,2, -999.000,9, -999.000,9, -999.000,9, -999.000,9, -999.000,9,-999.0000,9,  -999.00,9,   -999.0,9,   -999.0,9,   -999.0,9,   -999.0,9,   -999.0,9,     7.44,2, -999.00,  -999.0,-999.0000,-999.000,   25.00,  -999.0,  4.1558,-999.000
    31DSCG94_3,  P18N,   154,  1,    115,   1017,2,19940415,2319,  3.0000,-110.3333, 3770,   1199.9,   3.8373,  34.5804,2,  34.5806,2,     65.5,2,     67.7,2,   107.52,2,    41.76,2,     0.00,2,     2.97,2,    0.001,2,    0.001,2, -999.000,9, -999.000,9, -999.000,9,-999.0000,9,  -999.00,9,   -999.0,9,   -999.0,9,   -999.0,9,   -999.0,9,   -999.0,9,  -999.00,9, -999.00,  -999.0,-999.0000,-999.000, -999.00,  -999.0,  3.7460,-999.000
    31DSCG94_3,  P18N,   154,  1,    114,   1016,2,19940415,2319,  3.0000,-110.3333, 3770,   1299.6,   3.4850,  34.5901,2,  34.5895,2,     71.4,2,     76.1,2,   114.69,2,    41.15,2,     0.00,2,     2.94,2, -999.000,9, -999.000,9, -999.000,9, -999.000,9, -999.000,9,-999.0000,9,  -999.00,9,   -999.0,9,   -999.0,9,   -999.0,9,   -999.0,9,   -999.0,9,     7.46,2, -999.00,  -999.0,-999.0000,-999.000,   25.00,  -999.0,  3.3886,-999.000
    31DSCG94_3,  P18N,   154,  1,    113,   1209,2,19940415,2319,  3.0000,-110.3333, 3770,   1399.4,   3.2991,  34.5960,2,  34.5956,2,     78.2,2,     79.7,2,   117.64,2,    40.92,2,     0.00,2,     2.91,2,   -0.002,2,   -0.002,2, -999.000,9, -999.000,9, -999.000,9,-999.0000,9,  -999.00,9,   -999.0,9,   -999.0,9,   -999.0,9,   -999.0,9,   -999.0,9,  -999.00,9, -999.00,  -999.0,-999.0000,-999.000, -999.00,  -999.0,  3.1963,-999.000
    31DSCG94_3,  P18N,   154,  1,    112,   1033,2,19940415,2319,  3.0000,-110.3333, 3770,   1499.6,   3.1411,  34.6011,2,  34.6007,2,     83.1,2,     83.1,2,   124.69,2,    40.07,2,     0.00,2,     2.90,2, -999.000,9, -999.000,9, -999.000,9, -999.000,9, -999.000,9,-999.0000,9,  -999.00,9,   -999.0,9,   -999.0,9,   -999.0,9,   -999.0,9,   -999.0,9,     7.47,2, -999.00,  -999.0,-999.0000,-999.000,   25.00,  -999.0,  3.0316,-999.000
    31DSCG94_3,  P18N,   154,  1,    111,   1240,2,19940415,2319,  3.0000,-110.3333, 3770,   1600.8,   2.9499,  34.6109,2,  34.6097,2,     87.0,2,     85.8,2,   133.92,2,    39.59,2,     0.00,2,     2.87,2,    0.008,2,    0.002,2, -999.000,9, -999.000,9, -999.000,9,-999.0000,9,  -999.00,9,   -999.0,9,   -999.0,9,   -999.0,9,   -999.0,9,   -999.0,9,  -999.00,9, -999.00,  -999.0,-999.0000,-999.000, -999.00,  -999.0,  2.8341,-999.000
    31DSCG94_3,  P18N,   154,  1,    110,   1005,2,19940415,2319,  3.0000,-110.3333, 3770,   1799.1,   2.6459,  34.6242,2,  34.6245,2,     96.0,2,     92.4,2,   142.42,2,    39.98,2,     0.00,2,     2.84,2, -999.000,9, -999.000,9, -999.000,9, -999.000,9, -999.000,9,-999.0000,9,  -999.00,9,   -999.0,9,   -999.0,9,   -999.0,9,   -999.0,9,   -999.0,9,     7.49,2, -999.00,  -999.0,-999.0000,-999.000,   25.00,  -999.0,  2.5171,-999.000
    31DSCG94_3,  P18N,   154,  1,    109,   1611,2,19940415,2319,  3.0000,-110.3333, 3770,   2000.3,   2.3947,  34.6362,2,  34.6354,2,    101.4,2,     98.5,2,   146.34,2,    39.62,2,     0.00,2,     2.80,2, -999.000,9, -999.000,9, -999.000,9, -999.000,9, -999.000,9,-999.0000,9,  -999.00,9,   -999.0,9,   -999.0,9,   -999.0,9,   -999.0,9,   -999.0,9,  -999.00,9, -999.00,  -999.0,-999.0000,-999.000, -999.00,  -999.0,  2.2522,-999.000
    31DSCG94_3,  P18N,   154,  1,    108,   1218,2,19940415,2319,  3.0000,-110.3333, 3770,   2234.7,   2.1363,  34.6494,2,  34.6490,2,    108.7,2,    107.0,2,   151.35,2,    39.03,2,     0.00,2,     2.75,2,    0.005,2,    0.000,2, -999.000,9, -999.000,9, -999.000,9,-999.0000,9,  -999.00,9,   -999.0,9,   -999.0,9,   -999.0,9,   -999.0,9,   -999.0,9,     7.52,2, -999.00,  -999.0,-999.0000,-999.000,   25.00,  -999.0,  1.9774,-999.000
    31DSCG94_3,  P18N,   154,  1,    107,   1257,2,19940415,2319,  3.0000,-110.3333, 3770,   2500.1,   1.8869,  34.6632,2,  34.6621,2,    117.7,2,    117.0,2,   155.39,2,    38.38,2,     0.00,2,     2.68,2, -999.000,9, -999.000,9, -999.000,9, -999.000,9, -999.000,9,-999.0000,9,  -999.00,9,   -999.0,9,   -999.0,9,   -999.0,9,   -999.0,9,   -999.0,9,  -999.00,9, -999.00,  -999.0,-999.0000,-999.000, -999.00,  -999.0,  1.7087,-999.000
    31DSCG94_3,  P18N,   154,  1,    106,   1224,2,19940415,2319,  3.0000,-110.3333, 3770,   2750.7,   1.8147,  34.6678,2,  34.6682,2,    122.4,2,    119.4,2,   155.77,2,    38.29,2,     0.00,2,     2.66,2, -999.000,9, -999.000,9, -999.000,9, -999.000,9, -999.000,9,-999.0000,9,  -999.00,9,   -999.0,9,   -999.0,9,   -999.0,9,   -999.0,9,   -999.0,9,     7.54,2, -999.00,  -999.0,-999.0000,-999.000,   25.00,  -999.0,  1.6147,-999.000
    31DSCG94_3,  P18N,   154,  1,    105,   1246,2,19940415,2319,  3.0000,-110.3333, 3770,   3000.1,   1.7147,  34.6726,2,  34.6731,2,    127.1,2,    126.8,2,   154.76,2,    38.02,2,     0.00,2,     2.63,2,    0.253,4,   -0.002,2, -999.000,9, -999.000,9, -999.000,9,-999.0000,9,  -999.00,9,   -999.0,9,   -999.0,9,   -999.0,9,   -999.0,9,   -999.0,9,  -999.00,9, -999.00,  -999.0,-999.0000,-999.000, -999.00,  -999.0,  1.4931,-999.000
    31DSCG94_3,  P18N,   154,  1,    104,   1217,2,19940415,2319,  3.0000,-110.3333, 3770,   3252.5,   1.5991,  34.6795,2,  34.6804,2,    134.1,2,    133.7,2,   156.05,2,    37.89,2,     0.00,2,     2.58,2, -999.000,9, -999.000,9, -999.000,9, -999.000,9, -999.000,9,-999.0000,9,  -999.00,9,   -999.0,9,   -999.0,9,   -999.0,9,   -999.0,9,   -999.0,9,     7.56,2, -999.00,  -999.0,-999.0000,-999.000,   25.00,  -999.0,  1.3554,-999.000
    31DSCG94_3,  P18N,   154,  1,    103,   9999,2,19940415,2319,  3.0000,-110.3333, 3770,   3498.8,   1.4980,  34.6850,2,  34.6863,2,    142.5,2,    142.9,2,   156.37,2,    36.81,2,     0.00,2,     2.55,2,    0.002,2,   -0.002,2, -999.000,9, -999.000,9, -999.000,9,-999.0000,9,  -999.00,9,   -999.0,9,   -999.0,9,   -999.0,9,   -999.0,9,   -999.0,9,  -999.00,9, -999.00,  -999.0,-999.0000,-999.000, -999.00,  -999.0,  1.2320,-999.000
    31DSCG94_3,  P18N,   154,  1,    102,   1223,2,19940415,2319,  3.0000,-110.3333, 3770,   3499.9,   1.4976,  34.6853,2,  34.6860,2,    142.6,2,    144.2,2,   156.87,2,    37.19,2,     0.00,2,     2.54,2, -999.000,9, -999.000,9, -999.000,9, -999.000,9, -999.000,9,-999.0000,9,  -999.00,9,   -999.0,9,   -999.0,9,   -999.0,9,   -999.0,9,   -999.0,9,     7.58,2, -999.00,  -999.0,-999.0000,-999.000,   25.00,  -999.0,  1.2315,-999.000
    31DSCG94_3,  P18N,   154,  1,    101,   1041,2,19940415,2319,  3.0000,-110.3333, 3770,   3816.7,   1.4669,  34.6884,2,  34.6891,2,    150.1,2,    148.9,6,   154.93,2,    36.57,2,     0.00,2,     2.50,2, -999.000,9, -999.000,9, -999.000,9, -999.000,9, -999.000,9,-999.0000,9,  -999.00,9,   -999.0,9,   -999.0,9,   -999.0,9,   -999.0,9,   -999.0,9,  -999.00,9, -999.00,  -999.0,-999.0000,-999.000, -999.00,  -999.0,  1.1686,-999.000