BOTTLE,20220630CCHSIOAMB
EXPOCODE,SECT_ID,STNNBR,CASTNO,SAMPNO,BTLNBR,BTLNBR_FLAG_W,DATE,TIME,LATITUDE,LONGITUDE,DEPTH,CTDPRS,CTDTMP,CTDSAL,CTDSAL_FLAG_W,SALNTY,SALNTY_FLAG_W,CTDOXY,CTDOXY_FLAG_W,OXYGEN,OXYGEN_FLAG_W,SILCAT,SILCAT_FLAG_W,NITRAT,NITRAT_FLAG_W,NITRIT,NITRIT_FLAG_W,PHSPHT,PHSPHT_FLAG_W,CFC-11,CFC-11_FLAG_W,CFC-12,CFC-12_FLAG_W,CFC113,CFC113_FLAG_W,CCL4,CCL4_FLAG_W,TRITUM,TRITUM_FLAG_W,HELIUM,HELIUM_FLAG_W,DELHE3,DELHE3_FLAG_W,DELC14,DELC14_FLAG_W,DELC13,DELC13_FLAG_W,TCARBN,TCARBN_FLAG_W,PCO2,PCO2_FLAG_W,ALKALI,ALKALI_FLAG_W,PH,PH_FLAG_W,PCO2TMP,C14ERR,HELIER,DELHER,PH_TMP,C13ERR,THETA,TRITER
,,,,,,,,,,,,DBAR,ITS-90,PSS-78,,PSS-78,,UMOL/KG,,UMOL/KG,,UMOL/KG,,UMOL/KG,,UMOL/KG,,UMOL/KG,,PMOL/KG,,PMOL/KG,,PMOL/KG,,PMOL/KG,,TU,,NMOL/KG,,PERCNT,,/MILLE,,/MILLE,,UMOL/KG,,UATM,,UMOL/KG,,,,DEG C,/MILLE,NMOL/KG,PERCNT,DEG C,/MILLE,DEG C,TU
    31DSCG94_3,  P18N,   173,  1,    136,   1025,2,19940421,0311, 13.3333,-109.9950, 4090,      9.5,  28.8771,  33.7898,2,  33.7912,2,    239.6,3,    205.4,2,     0.00,2,     0.07,2,     0.00,2,     0.12,2,    1.650,2,    0.961,2, -999.000,9, -999.000,9, -999.000,9,-999.0000,9,  -999.00,9,   -999.0,9,      1.6,2,   1899.4,2,    257.1,2,   2219.0,3,     8.12,2,   20.00,  -999.0,-999.0000,-999.000,   25.00,  -999.0, 28.8748,-999.000
    31DSCG94_3,  P18N,   173,  1,    135,   1247,2,19940421,0311, 13.3333,-109.9950, 4090,     25.3,  28.7565,  33.7922,2,  33.7945,2,    203.4,2,    198.8,6,     0.00,2,     0.03,2,     0.00,2,     0.14,2,    1.658,2,    0.965,2, -999.000,9, -999.000,9, -999.000,9,-999.0000,9,  -999.00,9,   -999.0,9,   -999.0,9,   -999.0,9,   -999.0,9,   -999.0,9,     8.12,2, -999.00,  -999.0,-999.0000,-999.000,   25.00,  -999.0, 28.7504,-999.000
    31DSCG94_3,  P18N,   173,  1,    134,   1216,2,19940421,0311, 13.3333,-109.9950, 4090,     49.8,  28.6675,  33.8269,2,  33.8371,2,    201.9,2,    199.1,2,     0.00,2,     0.02,2,     0.00,2,     0.16,2,    1.659,2,    0.952,2, -999.000,9, -999.000,9, -999.000,9,-999.0000,9,  -999.00,9,   -999.0,9,   -999.0,9,   1901.9,2,    259.9,2,   2229.0,2,     8.12,2,   20.00,  -999.0,-999.0000,-999.000,   25.00,  -999.0, 28.6556,-999.000
    31DSCG94_3,  P18N,   173,  1,    133,   1244,2,19940421,0311, 13.3333,-109.9950, 4090,     74.0,  28.3890,  34.0766,2,  34.0801,2,    203.4,2,    200.3,2,     0.11,2,     0.02,2,     0.00,2,     0.15,2,    1.690,2,    0.974,2, -999.000,9, -999.000,9, -999.000,9,-999.0000,9,  -999.00,9,   -999.0,9,   -999.0,9,   -999.0,9,   -999.0,9,   -999.0,9,     8.11,2, -999.00,  -999.0,-999.0000,-999.000,   25.00,  -999.0, 28.3714,-999.000
    31DSCG94_3,  P18N,   173,  1,    132,   1003,3,19940421,0311, 13.3333,-109.9950, 4090,     98.5,  25.5981,  34.1072,2,  34.1118,2,    178.7,2,    167.2,2,     1.48,2,     2.85,2,     0.62,2,     0.46,2,    1.641,2,    0.941,2, -999.000,9, -999.000,9, -999.000,9,-999.0000,9,  -999.00,9,   -999.0,9,   -999.0,9,   1977.6,2,    337.2,2,   2246.0,2,  -999.00,9,   20.00,  -999.0,-999.0000,-999.000, -999.00,  -999.0, 25.5764,-999.000
    31DSCG94_3,  P18N,   173,  1,    131,   1211,2,19940421,0311, 13.3333,-109.9950, 4090,    124.5,  17.3348,  34.6703,2,  34.7139,3,     47.4,2,      6.6,2,    17.14,2,    28.48,2,     0.01,2,     2.24,2,    0.809,2,    0.453,2, -999.000,9, -999.000,9, -999.000,9,-999.0000,9,  -999.00,9,   -999.0,9,   -999.0,9,   -999.0,9,   -999.0,9,   -999.0,9,     7.53,2, -999.00,  -999.0,-999.0000,-999.000,   25.00,  -999.0, 17.3141,-999.000
    31DSCG94_3,  P18N,   173,  1,    130,   1241,2,19940421,0311, 13.3333,-109.9950, 4090,    149.0,  14.4502,  34.7753,2,  34.7767,2,     17.7,2,      1.3,2,    21.38,2,    30.54,2,     0.00,2,     2.35,2,    0.535,2,    0.302,2, -999.000,9, -999.000,9, -999.000,9,-999.0000,9,  -999.00,9,   -999.0,9,   -999.0,9,   2233.8,2,   1388.1,2,   2294.0,2,     7.49,2,   20.00,  -999.0,-999.0000,-999.000,   25.00,  -999.0, 14.4283,-999.000
    31DSCG94_3,  P18N,   173,  1,    129,   1240,2,19940421,0311, 13.3333,-109.9950, 4090,    174.7,  13.3847,  34.7611,2,  34.7633,2,     14.7,2,      0.7,2,    23.91,2,    29.24,2,     0.12,2,     2.42,2,    0.410,2,    0.236,2, -999.000,9, -999.000,9, -999.000,9,-999.0000,9,  -999.00,9,   -999.0,9,   -999.0,9,   -999.0,9,   -999.0,9,   -999.0,9,     7.47,2, -999.00,  -999.0,-999.0000,-999.000,   25.00,  -999.0, 13.3603,-999.000
    31DSCG94_3,  P18N,   173,  1,    128,   1114,2,19940421,0311, 13.3333,-109.9950, 4090,    199.2,  12.6031,  34.7736,2,  34.7725,2,     11.4,2,      0.6,2,    25.52,2,    31.75,2,     0.01,2,     2.42,2,    0.294,2,    0.167,2, -999.000,9, -999.000,9, -999.000,9,-999.0000,9,  -999.00,9,   -999.0,9,   -999.0,9,   2243.4,2,   1482.1,2,   2294.0,2,     7.46,2,   20.00,  -999.0,-999.0000,-999.000,   25.00,  -999.0, 12.5763,-999.000
    31DSCG94_3,  P18N,   173,  1,    127,   1008,2,19940421,0311, 13.3333,-109.9950, 4090,    250.6,  11.8100,  34.7670,2,  34.7665,2,      8.9,2,      2.8,2,    27.22,2,    33.42,2,     0.00,2,     2.41,2,    0.208,2,    0.122,2, -999.000,9, -999.000,9, -999.000,9,-999.0000,9,  -999.00,9,   -999.0,9,   -999.0,9,   2249.1,2,   1539.8,2,   2293.0,2,     7.45,2,   20.00,  -999.0,-999.0000,-999.000,   25.00,  -999.0, 11.7776,-999.000
    31DSCG94_3,  P18N,   173,  1,    126,   1007,2,19940421,0311, 13.3333,-109.9950, 4090,    300.0,  11.2920,  34.7481,2,  34.7482,2,      8.1,2,      3.0,2,    28.95,2,    33.36,2,     0.00,2,     2.46,2, -999.000,9, -999.000,9, -999.000,9, -999.000,9, -999.000,9,-999.0000,9,  -999.00,9,   -999.0,9,   -999.0,9,   2257.8,2,   1598.6,2,   2298.0,2,     7.44,2,   20.00,  -999.0,-999.0000,-999.000,   25.00,  -999.0, 11.2543,-999.000
    31DSCG94_3,  P18N,   173,  1,    125,   1256,2,19940421,0311, 13.3333,-109.9950, 4090,    347.6,  10.7632,  34.7177,2,  34.7165,2,      4.5,2,      1.6,2,    31.29,2,    33.16,2,     0.00,2,     2.51,2,    0.088,2,    0.051,2, -999.000,9, -999.000,9, -999.000,9,-999.0000,9,  -999.00,9,   -999.0,9,   -999.0,9,   2264.9,2,   -999.0,9,   2297.0,2,     7.42,2, -999.00,  -999.0,-999.0000,-999.000,   25.00,  -999.0, 10.7208,-999.000
    31DSCG94_3,  P18N,   173,  1,    123,   1220,2,19940421,0311, 13.3333,-109.9950, 4090,    400.6,  10.1060,  34.6864,2,  34.6870,2,      3.6,2,      0.4,2,    35.86,2,    30.91,2,     0.25,2,     2.66,2, -999.000,9, -999.000,9, -999.000,9, -999.000,9, -999.000,9,-999.0000,9,  -999.00,9,   -999.0,9,   -999.0,9,   2278.3,2,   1782.7,2,   2307.0,2,     7.40,2,   20.00,  -999.0,-999.0000,-999.000,   25.00,  -999.0, 10.0589,-999.000
    31DSCG94_3,  P18N,   173,  1,    122,   1245,2,19940421,0311, 13.3333,-109.9950, 4090,    498.1,   8.7575,  34.5951,2,  34.5950,2,      5.6,2,      4.7,2,    43.74,2,    35.28,2,     0.00,2,     2.79,2,    0.018,2,    0.004,2, -999.000,9, -999.000,9, -999.000,9,-999.0000,9,  -999.00,9,   -999.0,9,   -999.0,9,   2286.9,2,   1849.9,2,   2308.0,2,     7.38,2,   20.00,  -999.0,-999.0000,-999.000,   25.00,  -999.0,  8.7036,-999.000
    31DSCG94_3,  P18N,   173,  1,    121,   1206,2,19940421,0311, 13.3333,-109.9950, 4090,    596.7,   7.7161,  34.5511,2,  34.5545,2,      5.0,2,      4.7,2,    53.92,2,    36.81,2,     0.00,2,     2.96,2, -999.000,9, -999.000,9, -999.000,9, -999.000,9, -999.000,9,-999.0000,9,  -999.00,9,   -999.0,9,   -999.0,9,   2302.5,2,   1937.5,2,   2312.0,2,     7.36,2,   20.00,  -999.0,-999.0000,-999.000,   25.00,  -999.0,  7.6559,-999.000
    31DSCG94_3,  P18N,   173,  1,    120,   1028,2,19940421,0311, 13.3333,-109.9950, 4090,    699.5,   6.8118,  34.5511,2,  34.5509,2,      4.4,2,      1.9,2,    64.77,2,    39.13,2,     0.00,2,     3.10,2,    0.000,2,   -0.002,2, -999.000,9, -999.000,9, -999.000,9,-999.0000,9,  -999.00,9,   -999.0,9,   -999.0,9,   2320.7,2,   2018.3,2,   2327.0,2,     7.35,2,   20.00,  -999.0,-999.0000,-999.000,   25.00,  -999.0,  6.7453,-999.000
    31DSCG94_3,  P18N,   173,  1,    119,   1248,2,19940421,0311, 13.3333,-109.9950, 4090,    798.3,   6.0055,  34.5398,2,  34.5399,2,      4.1,2,      2.7,2,    74.64,2,    42.49,2,     0.00,2,     3.20,2, -999.000,9, -999.000,9, -999.000,9, -999.000,9, -999.000,9,-999.0000,9,  -999.00,9,   -999.0,9,   -999.0,9,   2334.4,2,   2080.7,2,   2335.0,2,     7.34,2,   20.00,  -999.0,-999.0000,-999.000,   25.00,  -999.0,  5.9340,-999.000
    31DSCG94_3,  P18N,   173,  1,    118,   1115,2,19940421,0311, 13.3333,-109.9950, 4090,    898.6,   5.4323,  34.5386,2,  34.5391,2,      6.2,2,      4.6,2,    85.56,2,    43.74,2,     0.00,2,     3.20,2, -999.000,9, -999.000,9, -999.000,9, -999.000,9, -999.000,9,-999.0000,9,  -999.00,9,   -999.0,9,   -999.0,9,   2343.0,2,   2122.2,2,   2351.0,2,     7.33,2,   20.00,  -999.0,-999.0000,-999.000,   25.00,  -999.0,  5.3551,-999.000
    31DSCG94_3,  P18N,   173,  1,    117,   1119,2,19940421,0311, 13.3333,-109.9950, 4090,    999.6,   4.9301,  34.5409,2,  34.5414,2,     12.7,2,     11.4,2,    92.84,2,    44.64,2,     0.00,2,     3.21,2,    0.001,2,    0.003,2, -999.000,9, -999.000,9, -999.000,9,-999.0000,9,  -999.00,9,   -999.0,9,   -999.0,9,   2346.9,2,   2083.7,2,   2353.0,6,     7.34,2,   20.00,  -999.0,-999.0000,-999.000,   25.00,  -999.0,  4.8473,-999.000
    31DSCG94_3,  P18N,   173,  1,    116,   1036,2,19940421,0311, 13.3333,-109.9950, 4090,   1100.9,   4.4894,  34.5506,2,  34.5500,2,     17.9,2,     18.9,2,   100.36,2,    44.60,2,     0.00,2,     3.21,2, -999.000,9, -999.000,9, -999.000,9, -999.000,9, -999.000,9,-999.0000,9,  -999.00,9,   -999.0,9,   -999.0,9,   -999.0,9,   -999.0,9,   -999.0,9,  -999.00,9, -999.00,  -999.0,-999.0000,-999.000, -999.00,  -999.0,  4.4011,-999.000
    31DSCG94_3,  P18N,   173,  1,    115,   1017,2,19940421,0311, 13.3333,-109.9950, 4090,   1201.5,   4.1155,  34.5624,2,  34.5627,2,     24.2,2,     25.1,2,   107.96,2,    44.53,2,     0.00,2,     3.21,2, -999.000,9, -999.000,9, -999.000,9, -999.000,9, -999.000,9,-999.0000,9,  -999.00,9,   -999.0,9,   -999.0,9,   -999.0,9,   -999.0,9,   -999.0,9,     7.36,2, -999.00,  -999.0,-999.0000,-999.000,   25.00,  -999.0,  4.0216,-999.000
    31DSCG94_3,  P18N,   173,  1,    114,   1016,2,19940421,0311, 13.3333,-109.9950, 4090,   1300.6,   3.7806,  34.5738,2,  34.5732,2,     29.9,2,     29.7,2,   116.68,2,    44.38,2,     0.00,2,     3.19,2, -999.000,9, -999.000,9, -999.000,9, -999.000,9, -999.000,9,-999.0000,9,  -999.00,9,   -999.0,9,   -999.0,9,   -999.0,9,   -999.0,9,   -999.0,9,  -999.00,9, -999.00,  -999.0,-999.0000,-999.000, -999.00,  -999.0,  3.6813,-999.000
    31DSCG94_3,  P18N,   173,  1,    113,   1209,2,19940421,0311, 13.3333,-109.9950, 4090,   1401.9,   3.4064,  34.5874,2,  34.5869,2,     37.6,2,     41.1,2,   123.02,2,    43.56,2,     0.00,2,     3.10,2, -999.000,9, -999.000,9, -999.000,9, -999.000,9, -999.000,9,-999.0000,9,  -999.00,9,   -999.0,9,   -999.0,9,   -999.0,9,   -999.0,9,   -999.0,9,     7.39,2, -999.00,  -999.0,-999.0000,-999.000,   25.00,  -999.0,  3.3022,-999.000
    31DSCG94_3,  P18N,   173,  1,    112,   1033,2,19940421,0311, 13.3333,-109.9950, 4090,   1599.7,   2.9436,  34.6066,2,  34.6065,2,     56.3,2,     56.0,2,   133.05,2,    42.40,2,     0.00,2,     3.00,2, -999.000,9, -999.000,9, -999.000,9, -999.000,9, -999.000,9,-999.0000,9,  -999.00,9,   -999.0,9,   -999.0,9,   -999.0,9,   -999.0,9,   -999.0,9,  -999.00,9, -999.00,  -999.0,-999.0000,-999.000, -999.00,  -999.0,  2.8280,-999.000
    31DSCG94_3,  P18N,   173,  1,    111,   1240,2,19940421,0311, 13.3333,-109.9950, 4090,   1799.6,   2.5754,  34.6237,2,  34.6232,2,     74.4,2,     72.1,2,   142.01,2,    41.43,2,     0.00,2,     2.90,2, -999.000,9, -999.000,9, -999.000,9, -999.000,9, -999.000,9,-999.0000,9,  -999.00,9,   -999.0,9,   -999.0,9,   -999.0,9,   -999.0,9,   -999.0,9,     7.45,2, -999.00,  -999.0,-999.0000,-999.000,   25.00,  -999.0,  2.4475,-999.000
    31DSCG94_3,  P18N,   173,  1,    110,   1005,2,19940421,0311, 13.3333,-109.9950, 4090,   2000.5,   2.2853,  34.6376,2,  34.6366,2,     86.6,2,     83.7,2,   150.71,2,    40.67,2,     0.00,2,     2.82,2, -999.000,9, -999.000,9, -999.000,9, -999.000,9, -999.000,9,-999.0000,9,  -999.00,9,   -999.0,9,   -999.0,9,   -999.0,9,   -999.0,9,   -999.0,9,  -999.00,9, -999.00,  -999.0,-999.0000,-999.000, -999.00,  -999.0,  2.1444,-999.000
    31DSCG94_3,  P18N,   173,  1,    109,   1611,2,19940421,0311, 13.3333,-109.9950, 4090,   2249.2,   2.0634,  34.6502,2,  34.6500,2,     95.5,2,     94.9,2,   153.87,2,    39.81,2,     0.00,2,     2.74,2, -999.000,9, -999.000,9, -999.000,9, -999.000,9, -999.000,9,-999.0000,9,  -999.00,9,   -999.0,9,   -999.0,9,   -999.0,9,   -999.0,9,   -999.0,9,     7.49,2, -999.00,  -999.0,-999.0000,-999.000,   25.00,  -999.0,  1.9044,-999.000
    31DSCG94_3,  P18N,   173,  1,    108,   1218,2,19940421,0311, 13.3333,-109.9950, 4090,   2499.5,   1.8844,  34.6605,2,  34.6601,2,    105.4,2,    105.3,2,   157.77,2,    38.87,2,     0.00,2,     2.69,2, -999.000,9, -999.000,9, -999.000,9, -999.000,9, -999.000,9,-999.0000,9,  -999.00,9,   -999.0,9,   -999.0,9,   -999.0,9,   -999.0,9,   -999.0,9,  -999.00,9, -999.00,  -999.0,-999.0000,-999.000, -999.00,  -999.0,  1.7063,-999.000
    31DSCG94_3,  P18N,   173,  1,    107,   1257,2,19940421,0311, 13.3333,-109.9950, 4090,   2748.1,   1.7873,  34.6672,2,  34.6667,2,    110.9,2,    112.7,2,   157.71,2,    38.39,2,     0.00,2,     2.63,2, -999.000,9, -999.000,9, -999.000,9, -999.000,9, -999.000,9,-999.0000,9,  -999.00,9,   -999.0,9,   -999.0,9,   -999.0,9,   -999.0,9,   -999.0,9,     7.52,2, -999.00,  -999.0,-999.0000,-999.000,   25.00,  -999.0,  1.5881,-999.000
    31DSCG94_3,  P18N,   173,  1,    106,   1224,2,19940421,0311, 13.3333,-109.9950, 4090,   2998.2,   1.7310,  34.6719,2,  34.6701,2,    115.3,2,    118.7,2,   156.49,6,    37.94,6,     0.00,6,     2.60,6, -999.000,9, -999.000,9, -999.000,9, -999.000,9, -999.000,9,-999.0000,9,  -999.00,9,   -999.0,9,   -999.0,9,   -999.0,9,   -999.0,9,   -999.0,9,  -999.00,9, -999.00,  -999.0,-999.0000,-999.000, -999.00,  -999.0,  1.5093,-999.000
    31DSCG94_3,  P18N,   173,  1,    105,   1246,2,19940421,0311, 13.3333,-109.9950, 4090,   3249.0,   1.6671,  34.6757,2,  34.6762,2,    121.4,2,    125.3,6,   156.86,2,    37.63,2,     0.00,2,     2.57,2, -999.000,9, -999.000,9, -999.000,9, -999.000,9, -999.000,9,-999.0000,9,  -999.00,9,   -999.0,9,   -999.0,9,   -999.0,9,   -999.0,9,   -999.0,9,     7.55,2, -999.00,  -999.0,-999.0000,-999.000,   25.00,  -999.0,  1.4222,-999.000
    31DSCG94_3,  P18N,   173,  1,    104,   1217,2,19940421,0311, 13.3333,-109.9950, 4090,   3500.3,   1.6309,  34.6783,2,  34.6766,2,    125.5,2,    129.6,2,   157.06,2,    37.72,2,     0.00,2,     2.55,2, -999.000,9, -999.000,9, -999.000,9, -999.000,9, -999.000,9,-999.0000,9,  -999.00,9,   -999.0,9,   -999.0,9,   -999.0,9,   -999.0,9,   -999.0,9,  -999.00,9, -999.00,  -999.0,-999.0000,-999.000, -999.00,  -999.0,  1.3614,-999.000
    31DSCG94_3,  P18N,   173,  1,    103,   9999,2,19940421,0311, 13.3333,-109.9950, 4090,   3750.7,   1.6170,  34.6798,2,  34.6807,2,    129.4,2,    132.6,6,   156.12,2,    37.43,2,     0.00,2,     2.54,2, -999.000,9, -999.000,9, -999.000,9, -999.000,9, -999.000,9,-999.0000,9,  -999.00,9,   -999.0,9,   -999.0,9,   -999.0,9,   -999.0,9,   -999.0,9,     7.56,2, -999.00,  -999.0,-999.0000,-999.000,   25.00,  -999.0,  1.3217,-999.000
    31DSCG94_3,  P18N,   173,  1,    102,   1223,2,19940421,0311, 13.3333,-109.9950, 4090,   3750.9,   1.6168,  34.6797,2,  34.6802,2,    129.4,2,    131.9,2,   157.50,2,    37.30,2,     0.00,2,     2.53,2, -999.000,9, -999.000,9, -999.000,9, -999.000,9, -999.000,9,-999.0000,9,  -999.00,9,   -999.0,9,   -999.0,9,   -999.0,9,   -999.0,9,   -999.0,9,  -999.00,9, -999.00,  -999.0,-999.0000,-999.000, -999.00,  -999.0,  1.3215,-999.000
    31DSCG94_3,  P18N,   173,  1,    101,   1041,2,19940421,0311, 13.3333,-109.9950, 4090,   4144.9,   1.6463,  34.6802,2,  34.6804,2,    132.7,2,    133.8,2,   157.19,2,    37.14,2,     0.00,2,     2.53,2, -999.000,9, -999.000,9, -999.000,9, -999.000,9, -999.000,9,-999.0000,9,  -999.00,9,   -999.0,9,   -999.0,9,   -999.0,9,   -999.0,9,   -999.0,9,     7.56,2, -999.00,  -999.0,-999.0000,-999.000,   25.00,  -999.0,  1.3072,-999.000