BOTTLE,20220630CCHSIOAMB
EXPOCODE,SECT_ID,STNNBR,CASTNO,SAMPNO,BTLNBR,BTLNBR_FLAG_W,DATE,TIME,LATITUDE,LONGITUDE,DEPTH,CTDPRS,CTDTMP,CTDSAL,CTDSAL_FLAG_W,SALNTY,SALNTY_FLAG_W,CTDOXY,CTDOXY_FLAG_W,OXYGEN,OXYGEN_FLAG_W,SILCAT,SILCAT_FLAG_W,NITRAT,NITRAT_FLAG_W,NITRIT,NITRIT_FLAG_W,PHSPHT,PHSPHT_FLAG_W,CFC-11,CFC-11_FLAG_W,CFC-12,CFC-12_FLAG_W,CFC113,CFC113_FLAG_W,CCL4,CCL4_FLAG_W,TRITUM,TRITUM_FLAG_W,HELIUM,HELIUM_FLAG_W,DELHE3,DELHE3_FLAG_W,DELC14,DELC14_FLAG_W,DELC13,DELC13_FLAG_W,TCARBN,TCARBN_FLAG_W,PCO2,PCO2_FLAG_W,ALKALI,ALKALI_FLAG_W,PH,PH_FLAG_W,PCO2TMP,C14ERR,HELIER,DELHER,PH_TMP,C13ERR,THETA,TRITER
,,,,,,,,,,,,DBAR,ITS-90,PSS-78,,PSS-78,,UMOL/KG,,UMOL/KG,,UMOL/KG,,UMOL/KG,,UMOL/KG,,UMOL/KG,,PMOL/KG,,PMOL/KG,,PMOL/KG,,PMOL/KG,,TU,,NMOL/KG,,PERCNT,,/MILLE,,/MILLE,,UMOL/KG,,UATM,,UMOL/KG,,,,DEG C,/MILLE,NMOL/KG,PERCNT,DEG C,/MILLE,DEG C,TU
    31DSCG94_2,  P18S,    78,  1,    136,   1025,2,19940320,1249,-30.5015,-103.0135, 3527,     10.8,  23.2501,  35.3114,2,  35.3110,2,    214.3,2,    214.7,2,     0.89,2,     0.07,2,     0.00,2,     0.11,2, -999.000,9, -999.000,9, -999.000,9, -999.000,9, -999.000,9,-999.0000,9,  -999.00,9,   -999.0,9,   -999.0,9,   2016.9,2,    327.1,2,   2317.0,6,     8.04,2,   20.00,  -999.0,-999.0000,-999.000,   25.00,  -999.0, 23.2479,-999.000
    31DSCG94_2,  P18S,    78,  1,    135,   1247,2,19940320,1249,-30.5015,-103.0135, 3527,     24.3,  23.2480,  35.3103,2,  35.3115,2,    217.3,2,    214.5,2,     0.95,2,     0.02,2,     0.00,2,     0.09,2, -999.000,9, -999.000,9, -999.000,9, -999.000,9, -999.000,9,-999.0000,9,  -999.00,9,   -999.0,9,   -999.0,9,   2016.2,2,    330.6,2,   2315.0,2,     8.04,2,   20.00,  -999.0,-999.0000,-999.000,   25.00,  -999.0, 23.2430,-999.000
    31DSCG94_2,  P18S,    78,  1,    134,   1108,2,19940320,1249,-30.5015,-103.0135, 3527,     50.6,  19.7050,  35.0168,2,  35.0387,2,    236.5,2,   -999.0,9,     0.83,2,     0.02,2,     0.00,2,     0.08,2, -999.000,9, -999.000,9, -999.000,9, -999.000,9, -999.000,9,-999.0000,9,  -999.00,9,   -999.0,9,   -999.0,9,   -999.0,9,   -999.0,9,   -999.0,5,  -999.00,9, -999.00,  -999.0,-999.0000,-999.000, -999.00,  -999.0, 19.6957,-999.000
    31DSCG94_2,  P18S,    78,  1,    133,   1244,2,19940320,1249,-30.5015,-103.0135, 3527,     73.6,  18.5603,  34.9701,2,  34.9722,2,    238.0,2,    245.7,2,     0.81,2,     0.02,2,     0.00,2,     0.08,2, -999.000,9, -999.000,9, -999.000,9, -999.000,9, -999.000,9,-999.0000,9,  -999.00,9,   -999.0,9,   -999.0,9,   2011.5,2,    341.2,2,   2299.0,2,     8.02,2,   20.00,  -999.0,-999.0000,-999.000,   25.00,  -999.0, 18.5475,-999.000
    31DSCG94_2,  P18S,    78,  1,    132,   1003,2,19940320,1249,-30.5015,-103.0135, 3527,     99.6,  18.0662,  35.0072,2,  35.0068,2,    238.6,2,    243.4,2,     0.83,2,     0.02,2,     0.00,2,     0.10,2, -999.000,9, -999.000,9, -999.000,9, -999.000,9, -999.000,9,-999.0000,9,  -999.00,9,   -999.0,9,   -999.0,9,   2014.5,2,    345.5,2,   2301.0,2,     8.02,2,   20.00,  -999.0,-999.0000,-999.000,   25.00,  -999.0, 18.0490,-999.000
    31DSCG94_2,  P18S,    78,  1,    131,   1211,2,19940320,1249,-30.5015,-103.0135, 3527,    125.4,  17.6743,  34.9888,2,  34.9837,2,    239.0,2,    241.3,2,     0.90,2,     0.03,2,     0.00,2,     0.12,2, -999.000,9, -999.000,9, -999.000,9, -999.000,9, -999.000,9,-999.0000,9,  -999.00,9,   -999.0,9,   -999.0,9,   2016.8,2,    349.1,2,   2296.0,2,     8.02,2,   20.00,  -999.0,-999.0000,-999.000,   25.00,  -999.0, 17.6530,-999.000
    31DSCG94_2,  P18S,    78,  1,    130,   1241,2,19940320,1249,-30.5015,-103.0135, 3527,    153.6,  16.8641,  34.8675,2,  34.8682,2,    237.8,2,    240.4,2,     0.83,2,     0.01,2,     0.00,2,     0.14,2, -999.000,9, -999.000,9, -999.000,9, -999.000,9, -999.000,9,-999.0000,9,  -999.00,9,   -999.0,9,   -999.0,9,   2019.1,2,    361.1,2,   2293.0,2,     8.00,2,   20.00,  -999.0,-999.0000,-999.000,   25.00,  -999.0, 16.8389,-999.000
    31DSCG94_2,  P18S,    78,  1,    129,   1031,2,19940320,1249,-30.5015,-103.0135, 3527,    200.9,  15.9535,  34.9100,2,  34.9077,2,    226.1,2,    218.8,2,     0.91,2,     1.45,2,     0.17,2,     0.28,2, -999.000,9, -999.000,9, -999.000,9, -999.000,9, -999.000,9,-999.0000,9,  -999.00,9,   -999.0,9,   -999.0,9,   2045.8,2,    404.5,2,   2290.0,2,     7.96,2,   20.00,  -999.0,-999.0000,-999.000,   25.00,  -999.0, 15.9218,-999.000
    31DSCG94_2,  P18S,    78,  1,    128,   1210,2,19940320,1249,-30.5015,-103.0135, 3527,    251.0,  13.8988,  34.7717,2,  34.7811,2,    209.2,2,    207.7,2,     1.53,2,     6.09,2,     0.00,2,     0.56,2, -999.000,9, -999.000,9, -999.000,9, -999.000,9, -999.000,9,-999.0000,9,  -999.00,9,   -999.0,9,   -999.0,9,   2073.1,2,    489.4,2,   2288.0,2,     7.89,2,   20.00,  -999.0,-999.0000,-999.000,   25.00,  -999.0, 13.8627,-999.000
    31DSCG94_2,  P18S,    78,  1,    127,   1008,2,19940320,1249,-30.5015,-103.0135, 3527,    299.1,  11.6438,  34.5416,2,  34.5449,2,    208.0,2,    208.6,2,     2.33,2,    11.40,2,     0.00,2,     0.89,2, -999.000,9, -999.000,9, -999.000,9, -999.000,9, -999.000,9,-999.0000,9,  -999.00,9,   -999.0,9,   -999.0,9,   2094.6,2,    564.4,2,   2280.0,2,     7.84,2,   20.00,  -999.0,-999.0000,-999.000,   25.00,  -999.0, 11.6056,-999.000
    31DSCG94_2,  P18S,    78,  1,    126,   1007,2,19940320,1249,-30.5015,-103.0135, 3527,    348.7,   9.6077,  34.4027,2,  34.4039,2,    210.6,2,    207.9,2,     4.06,2,    16.77,2,     0.00,2,     1.25,2, -999.000,9, -999.000,9, -999.000,9, -999.000,9, -999.000,9,-999.0000,9,  -999.00,9,   -999.0,9,   -999.0,9,   2116.9,2,    676.3,2,   2274.0,2,     7.77,2,   20.00,  -999.0,-999.0000,-999.000,   25.00,  -999.0,  9.5682,-999.000
    31DSCG94_2,  P18S,    78,  1,    125,   1203,2,19940320,1249,-30.5015,-103.0135, 3527,    399.5,   8.0880,  34.3368,2,  34.3352,2,    204.0,2,    200.9,2,     6.83,2,    22.00,2,     0.00,2,     1.59,2, -999.000,9, -999.000,9, -999.000,9, -999.000,9, -999.000,9,-999.0000,9,  -999.00,9,   -999.0,9,   -999.0,9,   2141.9,2,    785.6,2,   2268.0,2,     7.71,2,   20.00,  -999.0,-999.0000,-999.000,   25.00,  -999.0,  8.0471,-999.000
    31DSCG94_2,  P18S,    78,  1,    123,   1101,9,19940320,1249,-30.5015,-103.0135, 3527,    506.0,   6.5662,  34.3254,9,  34.3263,9,    212.6,9,    216.8,9,     9.66,9,    24.95,9,     0.00,9,     1.74,9, -999.000,9, -999.000,9, -999.000,9, -999.000,9, -999.000,9,-999.0000,9,  -999.00,9,   -999.0,9,   -999.0,9,   2150.9,2,    835.0,2,   2273.0,2,     7.69,2,   20.00,  -999.0,-999.0000,-999.000,   25.00,  -999.0,  6.5200,-999.000
    31DSCG94_2,  P18S,    78,  1,    121,   1206,2,19940320,1249,-30.5015,-103.0135, 3527,    602.5,   5.9440,  34.3007,2,  34.3004,2,    232.8,2,    233.5,2,    10.57,2,    25.16,2,     0.00,2,     1.71,2, -999.000,9, -999.000,9, -999.000,9, -999.000,9, -999.000,9,-999.0000,9,  -999.00,9,   -999.0,9,   -999.0,9,   2146.5,2,    799.3,2,   2272.0,2,     7.71,2,   20.00,  -999.0,-999.0000,-999.000,   25.00,  -999.0,  5.8913,-999.000
    31DSCG94_2,  P18S,    78,  1,    119,   1248,2,19940320,1249,-30.5015,-103.0135, 3527,    700.1,   5.4417,  34.2712,2,  34.2703,2,    239.5,2,    242.0,2,    12.02,2,    25.67,2,     0.00,2,     1.74,2, -999.000,9, -999.000,9, -999.000,9, -999.000,9, -999.000,9,-999.0000,9,  -999.00,9,   -999.0,9,   -999.0,9,   2146.0,2,    796.5,2,   2279.0,2,     7.71,2,   20.00,  -999.0,-999.0000,-999.000,   25.00,  -999.0,  5.3828,-999.000
    31DSCG94_2,  P18S,    78,  1,    118,   1207,2,19940320,1249,-30.5015,-103.0135, 3527,    800.8,   4.9514,  34.2636,2,  34.2631,2,    223.4,2,    226.2,2,    17.37,2,    27.96,2,     0.00,2,     1.92,2, -999.000,9, -999.000,9, -999.000,9, -999.000,9, -999.000,9,-999.0000,9,  -999.00,9,   -999.0,9,   -999.0,9,   2161.6,2,    859.3,2,   2282.0,2,     7.68,2,   20.00,  -999.0,-999.0000,-999.000,   25.00,  -999.0,  4.8865,-999.000
    31DSCG94_2,  P18S,    78,  1,    117,   1119,2,19940320,1249,-30.5015,-103.0135, 3527,    897.5,   4.4657,  34.2861,2,  34.2852,2,    201.4,2,    201.5,2,    26.75,2,    30.80,2,     0.00,2,     2.13,2, -999.000,9, -999.000,9, -999.000,9, -999.000,9, -999.000,9,-999.0000,9,  -999.00,9,   -999.0,9,   -999.0,9,   2186.1,2,    982.5,2,   2292.0,2,     7.63,2,   20.00,  -999.0,-999.0000,-999.000,   25.00,  -999.0,  4.3956,-999.000
    31DSCG94_2,  P18S,    78,  1,    116,   1036,2,19940320,1249,-30.5015,-103.0135, 3527,    996.3,   4.0419,  34.3350,2,  34.3345,2,    178.4,2,    174.6,2,    39.84,2,    33.46,2,     0.00,2,     2.32,2, -999.000,9, -999.000,9, -999.000,9, -999.000,9, -999.000,9,-999.0000,9,  -999.00,9,   -999.0,9,   -999.0,9,   2213.7,2,   1093.2,2,   2299.0,6,     7.58,2,   20.00,  -999.0,-999.0000,-999.000,   25.00,  -999.0,  3.9665,-999.000
    31DSCG94_2,  P18S,    78,  1,    115,   1017,2,19940320,1249,-30.5015,-103.0135, 3527,   1100.1,   3.7194,  34.4032,2,  34.4016,2,    153.4,2,    147.5,2,    54.98,2,    36.32,2,     0.00,2,     2.51,2, -999.000,9, -999.000,9, -999.000,9, -999.000,9, -999.000,9,-999.0000,9,  -999.00,9,   -999.0,9,   -999.0,9,   -999.0,9,   -999.0,9,   -999.0,9,  -999.00,9, -999.00,  -999.0,-999.0000,-999.000, -999.00,  -999.0,  3.6379,-999.000
    31DSCG94_2,  P18S,    78,  1,    114,   1016,2,19940320,1249,-30.5015,-103.0135, 3527,   1204.1,   3.4729,  34.4611,2,  34.4586,2,    133.6,2,    131.3,2,    67.81,2,    37.55,2,     0.00,2,     2.62,2, -999.000,9, -999.000,9, -999.000,9, -999.000,9, -999.000,9,-999.0000,9,  -999.00,9,   -999.0,9,   -999.0,9,   -999.0,9,   -999.0,9,   -999.0,9,     7.52,2, -999.00,  -999.0,-999.0000,-999.000,   25.00,  -999.0,  3.3849,-999.000
    31DSCG94_2,  P18S,    78,  1,    113,   1209,2,19940320,1249,-30.5015,-103.0135, 3527,   1298.6,   3.2926,  34.5050,2,  34.5038,2,    127.2,2,    125.6,2,    78.80,2,    37.91,2,     0.00,2,     2.65,2, -999.000,9, -999.000,9, -999.000,9, -999.000,9, -999.000,9,-999.0000,9,  -999.00,9,   -999.0,9,   -999.0,9,   -999.0,9,   -999.0,9,   -999.0,9,  -999.00,9, -999.00,  -999.0,-999.0000,-999.000, -999.00,  -999.0,  3.1985,-999.000
    31DSCG94_2,  P18S,    78,  1,    112,   1033,2,19940320,1249,-30.5015,-103.0135, 3527,   1400.9,   3.0772,  34.5314,2,  34.5299,2,    129.5,2,    128.7,2,    86.19,2,    37.46,2,     0.00,2,     2.61,2, -999.000,9, -999.000,9, -999.000,9, -999.000,9, -999.000,9,-999.0000,9,  -999.00,9,   -999.0,9,   -999.0,9,   -999.0,9,   -999.0,9,   -999.0,9,     7.52,2, -999.00,  -999.0,-999.0000,-999.000,   25.00,  -999.0,  2.9768,-999.000
    31DSCG94_2,  P18S,    78,  1,    111,   1263,2,19940320,1249,-30.5015,-103.0135, 3527,   1495.0,   2.8516,  34.5493,2,  34.5495,2,    137.6,2,    137.9,2,    90.37,2,    36.73,2,     0.00,2,     2.55,2, -999.000,9, -999.000,9, -999.000,9, -999.000,9, -999.000,9,-999.0000,9,  -999.00,9,   -999.0,9,   -999.0,9,   -999.0,9,   -999.0,9,   -999.0,9,  -999.00,9, -999.00,  -999.0,-999.0000,-999.000, -999.00,  -999.0,  2.7459,-999.000
    31DSCG94_2,  P18S,    78,  1,    110,   1005,2,19940320,1249,-30.5015,-103.0135, 3527,   1599.9,   2.6023,  34.5718,2,  34.5693,2,    144.3,2,    146.7,2,    93.74,2,    35.67,2,     0.00,2,     2.49,2, -999.000,9, -999.000,9, -999.000,9, -999.000,9, -999.000,9,-999.0000,9,  -999.00,9,   -999.0,9,   -999.0,9,   -999.0,9,   -999.0,9,   -999.0,9,     7.55,2, -999.00,  -999.0,-999.0000,-999.000,   25.00,  -999.0,  2.4909,-999.000
    31DSCG94_2,  P18S,    78,  1,    109,   1611,2,19940320,1249,-30.5015,-103.0135, 3527,   1798.1,   2.3180,  34.6078,2,  34.6064,2,    152.1,2,    154.2,2,   100.07,2,    34.82,2,     0.00,2,     2.42,2, -999.000,9, -999.000,9, -999.000,9, -999.000,9, -999.000,9,-999.0000,9,  -999.00,9,   -999.0,9,   -999.0,9,   -999.0,9,   -999.0,9,   -999.0,9,     7.57,2, -999.00,  -999.0,-999.0000,-999.000,   25.00,  -999.0,  2.1939,-999.000
    31DSCG94_2,  P18S,    78,  1,    108,   1218,2,19940320,1249,-30.5015,-103.0135, 3527,   1996.5,   2.0892,  34.6386,2,  34.6365,2,    155.3,2,    157.2,2,   107.62,2,    34.64,2,     0.00,2,     2.41,2, -999.000,9, -999.000,9, -999.000,9, -999.000,9, -999.000,9,-999.0000,9,  -999.00,9,   -999.0,9,   -999.0,9,   -999.0,9,   -999.0,9,   -999.0,9,     7.58,2, -999.00,  -999.0,-999.0000,-999.000,   25.00,  -999.0,  1.9516,-999.000
    31DSCG94_2,  P18S,    78,  1,    107,   1257,2,19940320,1249,-30.5015,-103.0135, 3527,   2252.6,   1.8864,  34.6620,2,  34.6607,2,    157.8,2,    159.8,2,   114.93,2,    34.60,2,     0.00,2,     2.42,2, -999.000,9, -999.000,9, -999.000,9, -999.000,9, -999.000,9,-999.0000,9,  -999.00,9,   -999.0,9,   -999.0,9,   -999.0,9,   -999.0,9,   -999.0,9,  -999.00,9, -999.00,  -999.0,-999.0000,-999.000, -999.00,  -999.0,  1.7301,-999.000
    31DSCG94_2,  P18S,    78,  1,    106,   1224,2,19940320,1249,-30.5015,-103.0135, 3527,   2501.6,   1.8196,  34.6698,2,  34.6677,2,    159.8,2,    160.9,2,   118.58,2,    34.88,2,     0.00,2,     2.41,2, -999.000,9, -999.000,9, -999.000,9, -999.000,9, -999.000,9,-999.0000,9,  -999.00,9,   -999.0,9,   -999.0,9,   -999.0,9,   -999.0,9,   -999.0,9,     7.59,2, -999.00,  -999.0,-999.0000,-999.000,   25.00,  -999.0,  1.6424,-999.000
    31DSCG94_2,  P18S,    78,  1,    105,   1246,2,19940320,1249,-30.5015,-103.0135, 3527,   2748.0,   1.8011,  34.6768,2,  34.6748,2,    162.1,2,    163.2,6,   120.13,2,    34.35,2,     0.00,2,     2.39,2, -999.000,9, -999.000,9, -999.000,9, -999.000,9, -999.000,9,-999.0000,9,  -999.00,9,   -999.0,9,   -999.0,9,   -999.0,9,   -999.0,9,   -999.0,9,  -999.00,9, -999.00,  -999.0,-999.0000,-999.000, -999.00,  -999.0,  1.6016,-999.000
    31DSCG94_2,  P18S,    78,  1,    104,   1217,2,19940320,1249,-30.5015,-103.0135, 3527,   3025.9,   1.7951,  34.6824,2,  34.6803,2,    164.8,2,    164.8,2,   121.11,2,    34.21,2,     0.00,2,     2.38,2, -999.000,9, -999.000,9, -999.000,9, -999.000,9, -999.000,9,-999.0000,9,  -999.00,9,   -999.0,9,   -999.0,9,   -999.0,9,   -999.0,9,   -999.0,9,     7.59,2, -999.00,  -999.0,-999.0000,-999.000,   25.00,  -999.0,  1.5692,-999.000
    31DSCG94_2,  P18S,    78,  1,    103,   9999,2,19940320,1249,-30.5015,-103.0135, 3527,   3247.7,   1.8023,  34.6849,2,  34.6858,2,    166.2,2,    165.2,2,   120.79,2,    34.12,2,     0.00,2,     2.35,2, -999.000,9, -999.000,9, -999.000,9, -999.000,9, -999.000,9,-999.0000,9,  -999.00,9,   -999.0,9,   -999.0,9,   -999.0,9,   -999.0,9,   -999.0,9,  -999.00,9, -999.00,  -999.0,-999.0000,-999.000, -999.00,  -999.0,  1.5543,-999.000
    31DSCG94_2,  P18S,    78,  1,    102,   1223,2,19940320,1249,-30.5015,-103.0135, 3527,   3251.2,   1.8029,  34.6847,2,  34.6831,2,    166.3,2,    165.7,2,   119.17,2,    34.01,2,     0.00,2,     2.36,2, -999.000,9, -999.000,9, -999.000,9, -999.000,9, -999.000,9,-999.0000,9,  -999.00,9,   -999.0,9,   -999.0,9,   -999.0,9,   -999.0,9,   -999.0,9,  -999.00,9, -999.00,  -999.0,-999.0000,-999.000, -999.00,  -999.0,  1.5545,-999.000
    31DSCG94_2,  P18S,    78,  1,    101,   1041,2,19940320,1249,-30.5015,-103.0135, 3527,   3404.1,   1.8118,  34.6861,2,  34.6888,2,    165.8,2,    167.0,6,   118.19,2,    34.10,2,     0.00,2,     2.39,2, -999.000,9, -999.000,9, -999.000,9, -999.000,9, -999.000,9,-999.0000,9,  -999.00,9,   -999.0,9,   -999.0,9,   -999.0,9,   -999.0,9,   -999.0,9,  -999.00,9, -999.00,  -999.0,-999.0000,-999.000, -999.00,  -999.0,  1.5476,-999.000