BOTTLE,20220630CCHSIOAMB
EXPOCODE,SECT_ID,STNNBR,CASTNO,SAMPNO,BTLNBR,BTLNBR_FLAG_W,DATE,TIME,LATITUDE,LONGITUDE,DEPTH,CTDPRS,CTDTMP,CTDSAL,CTDSAL_FLAG_W,SALNTY,SALNTY_FLAG_W,CTDOXY,CTDOXY_FLAG_W,OXYGEN,OXYGEN_FLAG_W,SILCAT,SILCAT_FLAG_W,NITRAT,NITRAT_FLAG_W,NITRIT,NITRIT_FLAG_W,PHSPHT,PHSPHT_FLAG_W,CFC-11,CFC-11_FLAG_W,CFC-12,CFC-12_FLAG_W,CFC113,CFC113_FLAG_W,CCL4,CCL4_FLAG_W,TRITUM,TRITUM_FLAG_W,HELIUM,HELIUM_FLAG_W,DELHE3,DELHE3_FLAG_W,DELC14,DELC14_FLAG_W,DELC13,DELC13_FLAG_W,TCARBN,TCARBN_FLAG_W,PCO2,PCO2_FLAG_W,ALKALI,ALKALI_FLAG_W,PH,PH_FLAG_W,PCO2TMP,C14ERR,HELIER,DELHER,PH_TMP,C13ERR,THETA,TRITER
,,,,,,,,,,,,DBAR,ITS-90,PSS-78,,PSS-78,,UMOL/KG,,UMOL/KG,,UMOL/KG,,UMOL/KG,,UMOL/KG,,UMOL/KG,,PMOL/KG,,PMOL/KG,,PMOL/KG,,PMOL/KG,,TU,,NMOL/KG,,PERCNT,,/MILLE,,/MILLE,,UMOL/KG,,UATM,,UMOL/KG,,,,DEG C,/MILLE,NMOL/KG,PERCNT,DEG C,/MILLE,DEG C,TU
    31DSCG94_3,  P18N,   169,  1,    136,   1025,2,19940420,0012, 10.6667,-109.9993, 3804,      9.3,  29.0742,  33.9181,2,  33.9209,2,    204.8,2,    198.3,2,     0.00,2,     0.00,2,     0.00,2,     0.15,2,    1.651,2,    0.969,2, -999.000,9, -999.000,9, -999.000,9,-999.0000,9,  -999.00,9,   -999.0,9,   -999.0,9,   1907.3,2,    255.1,2,   2235.0,6,     8.12,2,   20.00,  -999.0,-999.0000,-999.000,   25.00,  -999.0, 29.0720,-999.000
    31DSCG94_3,  P18N,   169,  1,    135,   1247,2,19940420,0012, 10.6667,-109.9993, 3804,     23.4,  28.9480,  33.9100,2,  33.9137,2,    198.9,2,    198.4,2,     0.00,2,     0.00,2,     0.00,2,     0.13,2,    1.650,6,    0.967,6, -999.000,9, -999.000,9, -999.000,9,-999.0000,9,  -999.00,9,   -999.0,9,   -999.0,9,   -999.0,9,   -999.0,9,   -999.0,9,     8.12,2, -999.00,  -999.0,-999.0000,-999.000,   25.00,  -999.0, 28.9423,-999.000
    31DSCG94_3,  P18N,   169,  1,    134,   1216,2,19940420,0012, 10.6667,-109.9993, 3804,     47.5,  28.7208,  33.8976,2,  33.9040,2,    198.0,2,    198.9,2,     0.00,2,     0.00,2,     0.00,2,     0.16,2,    1.674,2,    0.976,2, -999.000,9, -999.000,9, -999.000,9,-999.0000,9,  -999.00,9,   -999.0,9,   -999.0,9,   1908.6,2,    258.2,2,   2231.0,2,  -999.00,9,   20.00,  -999.0,-999.0000,-999.000, -999.00,  -999.0, 28.7094,-999.000
    31DSCG94_3,  P18N,   169,  1,    133,   1244,2,19940420,0012, 10.6667,-109.9993, 3804,     74.1,  25.8466,  34.0831,2,  34.0834,2,    192.4,2,    168.2,2,     0.42,2,     2.76,2,     1.14,2,     0.62,2, -999.000,5, -999.000,5, -999.000,9, -999.000,9, -999.000,9,-999.0000,9,  -999.00,9,   -999.0,9,   -999.0,9,   -999.0,9,   -999.0,9,   -999.0,9,     8.00,2, -999.00,  -999.0,-999.0000,-999.000,   25.00,  -999.0, 25.8302,-999.000
    31DSCG94_3,  P18N,   169,  1,    132,   1003,3,19940420,0012, 10.6667,-109.9993, 3804,     99.1,  17.4278,  34.6610,2,  34.6602,2,     56.7,2,     22.7,2,    13.81,2,    25.95,2,     0.00,2,     2.12,2, -999.000,5, -999.000,5, -999.000,9, -999.000,9, -999.000,9,-999.0000,9,  -999.00,9,   -999.0,9,   -999.0,9,   2189.6,3,   1068.0,3,   2279.0,2,  -999.00,9,   20.00,  -999.0,-999.0000,-999.000, -999.00,  -999.0, 17.4112,-999.000
    31DSCG94_3,  P18N,   169,  1,    131,   1211,2,19940420,0012, 10.6667,-109.9993, 3804,    125.3,  15.0389,  34.7747,2,  34.7763,2,     25.1,2,      5.9,2,    19.16,2,    30.76,2,     0.00,2,     2.36,2,    0.629,6,    0.350,6, -999.000,9, -999.000,9, -999.000,9,-999.0000,9,  -999.00,9,   -999.0,9,   -999.0,9,   -999.0,9,   -999.0,9,   -999.0,9,     7.51,2, -999.00,  -999.0,-999.0000,-999.000,   25.00,  -999.0, 15.0199,-999.000
    31DSCG94_3,  P18N,   169,  1,    130,   1241,2,19940420,0012, 10.6667,-109.9993, 3804,    149.6,  13.6512,  34.8034,2,  34.8044,2,     16.4,2,      3.7,2,    20.98,2,    32.29,2,     0.00,2,     2.38,2,    0.507,2,    0.279,2, -999.000,9, -999.000,9, -999.000,9,-999.0000,9,  -999.00,9,   -999.0,9,   -999.0,9,   2233.0,2,   1371.1,2,   2285.0,2,     7.49,2,   20.00,  -999.0,-999.0000,-999.000,   25.00,  -999.0, 13.6300,-999.000
    31DSCG94_3,  P18N,   169,  1,    129,   1240,2,19940420,0012, 10.6667,-109.9993, 3804,    174.2,  12.9768,  34.8163,2,  34.8194,2,     20.2,2,      5.4,2,    22.39,2,    32.31,2,     0.00,2,     2.41,2,    0.396,2,    0.222,2, -999.000,9, -999.000,9, -999.000,9,-999.0000,9,  -999.00,9,   -999.0,9,   -999.0,9,   -999.0,9,   -999.0,9,   -999.0,9,     7.48,2, -999.00,  -999.0,-999.0000,-999.000,   25.00,  -999.0, 12.9529,-999.000
    31DSCG94_3,  P18N,   169,  1,    128,   1032,2,19940420,0012, 10.6667,-109.9993, 3804,    198.5,  12.3330,  34.7973,2,  34.7958,2,     16.2,2,      5.2,2,    24.53,2,    32.71,2,     0.00,2,     2.46,2,    0.303,2,    0.179,2, -999.000,9, -999.000,9, -999.000,9,-999.0000,9,  -999.00,9,   -999.0,9,   -999.0,9,   2245.0,2,   1448.4,2,   2292.0,2,     7.47,2,   20.00,  -999.0,-999.0000,-999.000,   25.00,  -999.0, 12.3067,-999.000
    31DSCG94_3,  P18N,   169,  1,    127,   1008,2,19940420,0012, 10.6667,-109.9993, 3804,    224.5,  11.9821,  34.7775,2,  34.7753,2,     10.9,2,     10.9,2,    25.89,2,    32.82,2,     0.00,2,     2.43,2,    0.285,2,    0.160,2, -999.000,9, -999.000,9, -999.000,9,-999.0000,9,  -999.00,9,   -999.0,9,   -999.0,9,   2243.2,2,   1452.4,2,   2299.0,2,     7.48,2,   20.00,  -999.0,-999.0000,-999.000,   25.00,  -999.0, 11.9529,-999.000
    31DSCG94_3,  P18N,   169,  1,    126,   1007,2,19940420,0012, 10.6667,-109.9993, 3804,    248.8,  11.7519,  34.7694,2,  34.7689,2,     10.7,2,      9.4,2,    26.03,2,    33.14,2,     0.00,2,     2.45,2,    0.246,2,    0.143,2, -999.000,9, -999.000,9, -999.000,9,-999.0000,9,  -999.00,9,   -999.0,9,   -999.0,9,   2247.1,2,   1476.8,2,   2300.0,2,     7.47,2,   20.00,  -999.0,-999.0000,-999.000,   25.00,  -999.0, 11.7199,-999.000
    31DSCG94_3,  P18N,   169,  1,    125,   1256,2,19940420,0012, 10.6667,-109.9993, 3804,    298.9,  11.2033,  34.7451,2,  34.7436,2,      6.2,2,      3.7,2,    28.27,2,    33.01,2,     0.00,2,     2.56,2,    0.190,2,    0.103,2, -999.000,9, -999.000,9, -999.000,9,-999.0000,9,  -999.00,9,   -999.0,9,   -999.0,9,   2259.5,2,   -999.0,9,   2297.0,2,     7.44,2, -999.00,  -999.0,-999.0000,-999.000,   25.00,  -999.0, 11.1660,-999.000
    31DSCG94_3,  P18N,   169,  1,    123,   1220,3,19940420,0012, 10.6667,-109.9993, 3804,    399.6,  10.0744,  34.6852,2,  34.6835,2,      3.3,2,      1.1,2,    34.08,2,    30.30,2,     0.01,2,     2.77,2,    0.045,6,    0.028,6, -999.000,9, -999.000,9, -999.000,9,-999.0000,9,  -999.00,9,   -999.0,9,   -999.0,9,   -999.0,9,   -999.0,9,   -999.0,9,  -999.00,9, -999.00,  -999.0,-999.0000,-999.000, -999.00,  -999.0, 10.0275,-999.000
    31DSCG94_3,  P18N,   169,  1,    122,   1245,2,19940420,0012, 10.6667,-109.9993, 3804,    499.2,   8.6607,  34.6147,2,  34.6140,2,      2.5,2,      0.9,2,    45.95,2,    32.19,2,     0.00,2,     3.00,2,    0.005,2,    0.004,2, -999.000,9, -999.000,9, -999.000,9,-999.0000,9,  -999.00,9,   -999.0,9,   -999.0,9,   2299.2,2,   1897.8,2,   2311.0,2,     7.37,2,   20.00,  -999.0,-999.0000,-999.000,   25.00,  -999.0,  8.6071,-999.000
    31DSCG94_3,  P18N,   169,  1,    121,   1206,2,19940420,0012, 10.6667,-109.9993, 3804,    598.8,   7.1088,  34.5696,2,  34.5675,2,      2.7,2,      1.6,2,    60.33,2,    38.50,2,     0.00,2,     3.22,2,   -0.002,2,    0.001,2, -999.000,9, -999.000,9, -999.000,9,-999.0000,9,  -999.00,9,   -999.0,9,   -999.0,9,   2319.4,2,   2008.4,2,   2328.0,2,     7.35,2,   20.00,  -999.0,-999.0000,-999.000,   25.00,  -999.0,  7.0510,-999.000
    31DSCG94_3,  P18N,   169,  1,    120,   1028,2,19940420,0012, 10.6667,-109.9993, 3804,    698.6,   6.2847,  34.5574,2,  34.5573,2,      3.5,2,      2.2,2,    69.63,2,    42.22,2,     0.00,2,     3.30,2,   -0.003,2,    0.003,2, -999.000,9, -999.000,9, -999.000,9,-999.0000,9,  -999.00,9,   -999.0,9,   -999.0,9,   2330.1,3,   2072.9,2,   2362.0,2,     7.34,2,   20.00,  -999.0,-999.0000,-999.000,   25.00,  -999.0,  6.2211,-999.000
    31DSCG94_3,  P18N,   169,  1,    119,   1248,2,19940420,0012, 10.6667,-109.9993, 3804,    801.9,   5.6925,  34.5539,2,  34.5532,2,      6.4,2,      5.3,2,    79.46,2,    44.34,2,     0.00,2,     3.28,2,   -0.003,2,   -0.001,2, -999.000,9, -999.000,9, -999.000,9,-999.0000,9,  -999.00,9,   -999.0,9,   -999.0,9,   2337.6,2,   2086.6,2,   2350.0,2,     7.33,2,   20.00,  -999.0,-999.0000,-999.000,   25.00,  -999.0,  5.6226,-999.000
    31DSCG94_3,  P18N,   169,  1,    118,   1115,2,19940420,0012, 10.6667,-109.9993, 3804,    898.0,   5.1644,  34.5540,2,  34.5525,2,     12.0,2,     11.7,2,    86.88,2,    45.89,2,     0.00,2,     3.27,2, -999.000,9, -999.000,9, -999.000,9, -999.000,9, -999.000,9,-999.0000,9,  -999.00,9,   -999.0,9,   -999.0,9,   2343.3,2,   2066.4,2,   2360.0,2,     7.34,2,   20.00,  -999.0,-999.0000,-999.000,   25.00,  -999.0,  5.0890,-999.000
    31DSCG94_3,  P18N,   169,  1,    117,   1119,2,19940420,0012, 10.6667,-109.9993, 3804,    998.2,   4.7016,  34.5595,2,  34.5571,2,     18.5,2,     19.0,2,    95.59,2,    45.62,2,     0.00,2,     3.31,2,    0.002,2,    0.000,2, -999.000,9, -999.000,9, -999.000,9,-999.0000,9,  -999.00,9,   -999.0,9,   -999.0,9,   2348.8,2,   2028.2,2,   2360.0,2,     7.35,2,   20.00,  -999.0,-999.0000,-999.000,   25.00,  -999.0,  4.6206,-999.000
    31DSCG94_3,  P18N,   169,  1,    116,   1036,2,19940420,0012, 10.6667,-109.9993, 3804,   1099.8,   4.1830,  34.5689,2,  34.5681,2,     27.7,2,     31.3,2,   108.75,2,    43.74,2,     0.00,2,     3.25,2, -999.000,9, -999.000,9, -999.000,9, -999.000,9, -999.000,9,-999.0000,9,  -999.00,9,   -999.0,9,   -999.0,9,   -999.0,9,   -999.0,9,   -999.0,9,  -999.00,9, -999.00,  -999.0,-999.0000,-999.000, -999.00,  -999.0,  4.0973,-999.000
    31DSCG94_3,  P18N,   169,  1,    115,   1017,2,19940420,0012, 10.6667,-109.9993, 3804,   1199.8,   3.9436,  34.5746,2,  34.5737,2,     35.9,2,     38.8,2,   114.42,2,    43.64,2,     0.00,2,     3.19,2, -999.000,9, -999.000,9, -999.000,9, -999.000,9, -999.000,9,-999.0000,9,  -999.00,9,   -999.0,9,   -999.0,9,   -999.0,9,   -999.0,9,   -999.0,9,     7.39,2, -999.00,  -999.0,-999.0000,-999.000,   25.00,  -999.0,  3.8513,-999.000
    31DSCG94_3,  P18N,   169,  1,    114,   1016,2,19940420,0012, 10.6667,-109.9993, 3804,   1297.2,   3.6471,  34.5842,2,  34.5834,2,     43.2,2,     45.2,2,   119.31,2,    43.43,2,     0.00,2,     3.15,2, -999.000,9, -999.000,9, -999.000,9, -999.000,9, -999.000,9,-999.0000,9,  -999.00,9,   -999.0,9,   -999.0,9,   -999.0,9,   -999.0,9,   -999.0,9,  -999.00,9, -999.00,  -999.0,-999.0000,-999.000, -999.00,  -999.0,  3.5494,-999.000
    31DSCG94_3,  P18N,   169,  1,    113,   1209,2,19940420,0012, 10.6667,-109.9993, 3804,   1380.6,   3.4194,  34.5917,2,  34.5909,2,     49.4,2,     51.2,6,   122.61,2,    43.18,2,     0.00,2,     3.10,2, -999.000,9, -999.000,9, -999.000,9, -999.000,9, -999.000,9,-999.0000,9,  -999.00,9,   -999.0,9,   -999.0,9,   -999.0,9,   -999.0,9,   -999.0,9,     7.41,2, -999.00,  -999.0,-999.0000,-999.000,   25.00,  -999.0,  3.3169,-999.000
    31DSCG94_3,  P18N,   169,  1,    112,   1033,2,19940420,0012, 10.6667,-109.9993, 3804,   1500.3,   3.1618,  34.6007,2,  34.6009,2,     59.2,2,     59.0,2,   127.58,2,    42.38,2,     0.00,2,     3.04,2, -999.000,9, -999.000,9, -999.000,9, -999.000,9, -999.000,9,-999.0000,9,  -999.00,9,   -999.0,9,   -999.0,9,   -999.0,9,   -999.0,9,   -999.0,9,  -999.00,9, -999.00,  -999.0,-999.0000,-999.000, -999.00,  -999.0,  3.0520,-999.000
    31DSCG94_3,  P18N,   169,  1,    111,   1240,2,19940420,0012, 10.6667,-109.9993, 3804,   1598.4,   2.9505,  34.6094,2,  34.6085,2,     67.1,2,     64.4,2,   131.78,2,    41.97,2,     0.00,2,     3.03,2, -999.000,9, -999.000,9, -999.000,9, -999.000,9, -999.000,9,-999.0000,9,  -999.00,9,   -999.0,9,   -999.0,9,   -999.0,9,   -999.0,9,   -999.0,9,     7.43,2, -999.00,  -999.0,-999.0000,-999.000,   25.00,  -999.0,  2.8349,-999.000
    31DSCG94_3,  P18N,   169,  1,    110,   1005,2,19940420,0012, 10.6667,-109.9993, 3804,   1799.5,   2.6451,  34.6229,2,  34.6228,2,     78.9,2,     72.9,2,   139.11,2,    41.45,2,     0.00,2,     2.97,2, -999.000,9, -999.000,9, -999.000,9, -999.000,9, -999.000,9,-999.0000,9,  -999.00,9,   -999.0,9,   -999.0,9,   -999.0,9,   -999.0,9,   -999.0,9,  -999.00,9, -999.00,  -999.0,-999.0000,-999.000, -999.00,  -999.0,  2.5163,-999.000
    31DSCG94_3,  P18N,   169,  1,    109,   1611,2,19940420,0012, 10.6667,-109.9993, 3804,   1998.3,   2.2845,  34.6408,2,  34.6405,2,     91.1,2,     85.5,6,   145.53,2,    40.92,2,     0.00,2,     2.88,2, -999.000,9, -999.000,9, -999.000,9, -999.000,9, -999.000,9,-999.0000,9,  -999.00,9,   -999.0,9,   -999.0,9,   -999.0,9,   -999.0,9,   -999.0,9,     7.47,2, -999.00,  -999.0,-999.0000,-999.000,   25.00,  -999.0,  2.1438,-999.000
    31DSCG94_3,  P18N,   169,  1,    108,   1218,2,19940420,0012, 10.6667,-109.9993, 3804,   2247.9,   2.0064,  34.6561,2,  34.6562,2,    103.2,2,     98.6,3,   150.63,2,    39.69,2,     0.00,2,     2.80,2, -999.000,9, -999.000,9, -999.000,9, -999.000,9, -999.000,9,-999.0000,9,  -999.00,9,   -999.0,9,   -999.0,9,   -999.0,9,   -999.0,9,   -999.0,9,  -999.00,9, -999.00,  -999.0,-999.0000,-999.000, -999.00,  -999.0,  1.8485,-999.000
    31DSCG94_3,  P18N,   169,  1,    107,   1257,2,19940420,0012, 10.6667,-109.9993, 3804,   2489.4,   1.8988,  34.6627,2,  34.6623,2,    109.4,2,    105.3,3,   152.08,2,    39.05,2,     0.00,2,     2.76,2, -999.000,9, -999.000,9, -999.000,9, -999.000,9, -999.000,9,-999.0000,9,  -999.00,9,   -999.0,9,   -999.0,9,   -999.0,9,   -999.0,9,   -999.0,9,     7.51,2, -999.00,  -999.0,-999.0000,-999.000,   25.00,  -999.0,  1.7213,-999.000
    31DSCG94_3,  P18N,   169,  1,    106,   1224,2,19940420,0012, 10.6667,-109.9993, 3804,   2748.3,   1.8188,  34.6680,2,  34.6678,2,    115.4,2,    110.2,3,   152.48,2,    38.75,2,     0.00,2,     2.71,2, -999.000,9, -999.000,9, -999.000,9, -999.000,9, -999.000,9,-999.0000,9,  -999.00,9,   -999.0,9,   -999.0,9,   -999.0,9,   -999.0,9,   -999.0,9,  -999.00,9, -999.00,  -999.0,-999.0000,-999.000, -999.00,  -999.0,  1.6190,-999.000
    31DSCG94_3,  P18N,   169,  1,    105,   1246,2,19940420,0012, 10.6667,-109.9993, 3804,   3000.7,   1.7245,  34.6731,2,  34.6723,2,    122.7,2,   -999.0,3,   151.76,2,    38.04,2,     0.00,2,     2.67,2, -999.000,9, -999.000,9, -999.000,9, -999.000,9, -999.000,9,-999.0000,9,  -999.00,9,   -999.0,9,   -999.0,9,   -999.0,9,   -999.0,9,   -999.0,9,     7.54,2, -999.00,  -999.0,-999.0000,-999.000,   25.00,  -999.0,  1.5027,-999.000
    31DSCG94_3,  P18N,   169,  1,    103,   9999,2,19940420,0012, 10.6667,-109.9993, 3804,   3248.3,   1.6278,  34.6778,2,  34.6790,2,    130.2,2,    128.1,6,   150.19,2,    38.03,2,     0.00,2,     2.58,2, -999.000,9, -999.000,9, -999.000,9, -999.000,9, -999.000,9,-999.0000,9,  -999.00,9,   -999.0,9,   -999.0,9,   -999.0,9,   -999.0,9,   -999.0,9,     7.55,2, -999.00,  -999.0,-999.0000,-999.000,   25.00,  -999.0,  1.3839,-999.000
    31DSCG94_3,  P18N,   169,  1,    104,   1217,2,19940420,0012, 10.6667,-109.9993, 3804,   3249.8,   1.6296,  34.6776,2,  34.6771,2,    130.3,2,    128.3,2,   151.00,2,    37.87,2,     0.00,2,     2.61,2, -999.000,9, -999.000,9, -999.000,9, -999.000,9, -999.000,9,-999.0000,9,  -999.00,9,   -999.0,9,   -999.0,9,   -999.0,9,   -999.0,9,   -999.0,9,  -999.00,9, -999.00,  -999.0,-999.0000,-999.000, -999.00,  -999.0,  1.3855,-999.000
    31DSCG94_3,  P18N,   169,  1,    102,   1223,2,19940420,0012, 10.6667,-109.9993, 3804,   3501.7,   1.5554,  34.6817,2,  34.6802,2,    138.7,2,    136.2,2,   151.56,2,    37.21,2,     0.00,2,     2.57,2, -999.000,9, -999.000,9, -999.000,9, -999.000,9, -999.000,9,-999.0000,9,  -999.00,9,   -999.0,9,   -999.0,9,   -999.0,9,   -999.0,9,   -999.0,9,  -999.00,9, -999.00,  -999.0,-999.0000,-999.000, -999.00,  -999.0,  1.2877,-999.000
    31DSCG94_3,  P18N,   169,  1,    101,   1041,2,19940420,0012, 10.6667,-109.9993, 3804,   3843.7,   1.5686,  34.6826,2,  34.6816,2,    140.7,2,    138.2,2,   157.27,2,    35.91,2,     0.00,2,     2.59,2, -999.000,9, -999.000,9, -999.000,9, -999.000,9, -999.000,9,-999.0000,9,  -999.00,9,   -999.0,9,   -999.0,9,   -999.0,9,   -999.0,9,   -999.0,9,     7.57,2, -999.00,  -999.0,-999.0000,-999.000,   25.00,  -999.0,  1.2646,-999.000