BOTTLE,20220630CCHSIOAMB
EXPOCODE,SECT_ID,STNNBR,CASTNO,SAMPNO,BTLNBR,BTLNBR_FLAG_W,DATE,TIME,LATITUDE,LONGITUDE,DEPTH,CTDPRS,CTDTMP,CTDSAL,CTDSAL_FLAG_W,SALNTY,SALNTY_FLAG_W,CTDOXY,CTDOXY_FLAG_W,OXYGEN,OXYGEN_FLAG_W,SILCAT,SILCAT_FLAG_W,NITRAT,NITRAT_FLAG_W,NITRIT,NITRIT_FLAG_W,PHSPHT,PHSPHT_FLAG_W,CFC-11,CFC-11_FLAG_W,CFC-12,CFC-12_FLAG_W,CFC113,CFC113_FLAG_W,CCL4,CCL4_FLAG_W,TRITUM,TRITUM_FLAG_W,HELIUM,HELIUM_FLAG_W,DELHE3,DELHE3_FLAG_W,DELC14,DELC14_FLAG_W,DELC13,DELC13_FLAG_W,TCARBN,TCARBN_FLAG_W,PCO2,PCO2_FLAG_W,ALKALI,ALKALI_FLAG_W,PH,PH_FLAG_W,PCO2TMP,C14ERR,HELIER,DELHER,PH_TMP,C13ERR,THETA,TRITER
,,,,,,,,,,,,DBAR,ITS-90,PSS-78,,PSS-78,,UMOL/KG,,UMOL/KG,,UMOL/KG,,UMOL/KG,,UMOL/KG,,UMOL/KG,,PMOL/KG,,PMOL/KG,,PMOL/KG,,PMOL/KG,,TU,,NMOL/KG,,PERCNT,,/MILLE,,/MILLE,,UMOL/KG,,UATM,,UMOL/KG,,,,DEG C,/MILLE,NMOL/KG,PERCNT,DEG C,/MILLE,DEG C,TU
    31DSCG94_2,  P18S,    59,  1,    136,   1025,2,19940315,2326,-40.0033,-102.9800, 4053,     11.1,  15.7330,  33.9978,2,  33.9984,2,    254.3,2,    250.1,2,     2.15,2,     8.03,2,     0.16,2,     0.67,2,    2.960,2,    1.558,2, -999.000,5, -999.000,5,    0.410,2,   1.7496,2,    -1.10,2,     72.6,2,      2.0,2,   2036.5,2,    454.1,2,   2257.0,6,     7.92,2,   20.00,     4.0,-999.0000,-999.000,   25.00,  -999.0, 15.7313,   0.006
    31DSCG94_2,  P18S,    59,  1,    135,   1247,2,19940315,2326,-40.0033,-102.9800, 4053,     24.0,  15.6031,  34.0012,2,  34.0025,2,    254.1,2,    251.0,2,     2.30,2,     7.97,2,     0.16,2,     0.73,2,    2.940,2,    1.559,2, -999.000,5, -999.000,5, -999.000,9,-999.0000,9,  -999.00,9,     73.6,2,      1.9,2,   -999.0,9,    463.1,2,   -999.0,9,     7.92,2,   20.00,     3.4,-999.0000,-999.000,   25.00,  -999.0, 15.5994,-999.000
    31DSCG94_2,  P18S,    59,  1,    134,   1108,2,19940315,2326,-40.0033,-102.9800, 4053,     48.4,  13.0205,  33.9953,2,  34.0006,2,    273.9,2,    273.8,2,     2.37,2,     7.43,2,     0.09,2,     0.67,2,    3.449,6,    1.760,6, -999.000,5, -999.000,5,    0.426,2,-999.0000,9,  -999.00,9,     85.7,2,      2.0,2,   -999.0,9,    464.1,2,   -999.0,9,     7.92,2,   20.00,     3.6,-999.0000,-999.000,   25.00,  -999.0, 13.0139,   0.006
    31DSCG94_2,  P18S,    59,  1,    133,   1244,2,19940315,2326,-40.0033,-102.9800, 4053,     69.4,  11.7294,  33.9919,2,  33.9985,2,    267.6,2,    277.6,2,     2.70,2,     7.64,2,     0.13,2,     0.72,2,    3.672,2,    1.846,2, -999.000,9, -999.000,9, -999.000,9,-999.0000,9,  -999.00,9,     79.0,2,      1.9,2,   -999.0,9,    474.6,2,   -999.0,9,     7.90,2,   20.00,     3.4,-999.0000,-999.000,   25.00,  -999.0, 11.7206,-999.000
    31DSCG94_2,  P18S,    59,  1,    132,   1003,2,19940315,2326,-40.0033,-102.9800, 4053,     96.9,  10.9673,  34.0524,2,  34.1145,3,    257.0,2,    254.9,2,     2.80,2,     9.34,2,     0.33,2,     0.76,2,    3.529,2,    1.755,2, -999.000,9, -999.000,9,    0.412,2,   1.7683,2,    -1.16,2,     88.0,2,      1.6,2,   -999.0,9,    515.3,2,   -999.0,9,     7.87,2,   20.00,     3.5,-999.0000,-999.000,   25.00,  -999.0, 10.9555,   0.006
    31DSCG94_2,  P18S,    59,  1,    131,   1211,2,19940315,2326,-40.0033,-102.9800, 4053,    122.8,  10.2645,  34.1442,2,  34.1658,2,    262.2,2,    248.6,2,     3.14,2,    11.90,2,     0.34,2,     0.91,2,    3.446,2,    1.734,2, -999.000,5, -999.000,5, -999.000,9,-999.0000,9,  -999.00,9,   -999.0,9,   -999.0,9,   -999.0,9,   -999.0,9,   -999.0,9,     7.84,2, -999.00,  -999.0,-999.0000,-999.000,   25.00,  -999.0, 10.2503,-999.000
    31DSCG94_2,  P18S,    59,  1,    130,   1241,2,19940315,2326,-40.0033,-102.9800, 4053,    147.7,   9.5255,  34.2295,2,  34.2325,2,    246.9,2,    239.8,2,     3.63,2,    14.90,2,     0.16,2,     1.09,2,    3.338,2,    1.654,2, -999.000,9, -999.000,9,    0.359,2,   1.7741,2,    -0.89,2,     67.5,2,      1.6,2,   -999.0,9,   -999.0,9,   -999.0,9,  -999.00,9, -999.00,     3.4,-999.0000,-999.000, -999.00,  -999.0,  9.5091,   0.006
    31DSCG94_2,  P18S,    59,  1,    129,   1031,2,19940315,2326,-40.0033,-102.9800, 4053,    197.8,   8.1071,  34.2779,2,  34.2788,2,    245.6,2,    239.8,2,     5.35,2,    18.45,2,     0.00,2,     1.31,2,    3.037,2,    1.507,2, -999.000,9, -999.000,9, -999.000,9,-999.0000,9,  -999.00,9,     47.3,2,      1.4,2,   -999.0,9,   -999.0,9,   -999.0,9,  -999.00,9, -999.00,     4.3,-999.0000,-999.000, -999.00,  -999.0,  8.0871,-999.000
    31DSCG94_2,  P18S,    59,  1,    128,   1210,2,19940315,2326,-40.0033,-102.9800, 4053,    241.9,   7.3375,  34.2886,2,  34.2901,2,    249.1,2,    246.5,2,     6.94,2,    20.13,2,     0.00,2,     1.38,2,    3.090,6,    1.490,6, -999.000,5, -999.000,5,    0.291,2,   1.7826,2,    -0.53,2,   -999.0,9,   -999.0,9,   -999.0,9,    702.7,2,   -999.0,9,  -999.00,9,   20.00,  -999.0,-999.0000,-999.000, -999.00,  -999.0,  7.3144,   0.005
    31DSCG94_2,  P18S,    59,  1,    127,   1008,2,19940315,2326,-40.0033,-102.9800, 4053,    296.6,   6.8317,  34.3166,2,  34.3172,2,    253.3,2,    250.9,2,     8.07,2,    20.71,2,     0.00,2,     1.42,2,   -0.006,4,   -0.003,4, -999.000,9, -999.000,9, -999.000,9,-999.0000,9,  -999.00,9,     36.8,2,      1.4,2,   -999.0,9,   -999.0,9,   -999.0,9,  -999.00,9, -999.00,     3.4,-999.0000,-999.000, -999.00,  -999.0,  6.8044,-999.000
    31DSCG94_2,  P18S,    59,  1,    126,   1007,3,19940315,2326,-40.0033,-102.9800, 4053,    344.9,   6.6376,  34.3276,2,  34.3286,2,    252.9,2,    254.9,2,     8.89,2,    21.14,2,     0.00,2,     1.42,2,    2.878,2,    1.411,2, -999.000,9, -999.000,9,    0.280,2,-999.0000,9,  -999.00,9,   -999.0,9,   -999.0,9,   -999.0,9,   -999.0,9,   -999.0,9,  -999.00,9, -999.00,  -999.0,-999.0000,-999.000, -999.00,  -999.0,  6.6063,   0.005
    31DSCG94_2,  P18S,    59,  1,    125,   1203,2,19940315,2326,-40.0033,-102.9800, 4053,    398.4,   6.4525,  34.3292,2,  34.3301,2,    256.9,2,    255.5,2,     9.80,2,    21.56,2,     0.00,2,     1.46,2,    2.625,2,    1.301,2, -999.000,9, -999.000,9,    0.254,2,   1.7817,2,    -0.51,2,     17.0,2,      1.4,2,   -999.0,9,   -999.0,9,   -999.0,9,  -999.00,9, -999.00,     3.3,-999.0000,-999.000, -999.00,  -999.0,  6.4167,   0.005
    31DSCG94_2,  P18S,    59,  1,    123,   1101,2,19940315,2326,-40.0033,-102.9800, 4053,    493.9,   6.1585,  34.3126,2,  34.3153,2,    256.2,2,    257.8,2,    10.81,2,    22.09,2,     0.00,2,     1.52,2,    2.492,2,    1.220,2, -999.000,9, -999.000,9, -999.000,9,   1.7964,2,    -0.37,2,     20.2,2,      1.4,2,   -999.0,9,    713.3,2,   -999.0,9,  -999.00,9,   20.00,     4.4,-999.0000,-999.000, -999.00,  -999.0,  6.1149,-999.000
    31DSCG94_2,  P18S,    59,  1,    121,   1206,2,19940315,2326,-40.0033,-102.9800, 4053,    597.6,   5.8251,  34.2951,2,  34.2952,2,    252.1,2,    253.2,2,    12.63,2,    23.48,2,     0.00,2,     1.61,2,    1.833,2,    0.920,2, -999.000,5, -999.000,5,    0.203,2,   1.7915,2,     0.14,2,      3.6,2,      1.4,2,   -999.0,9,   -999.0,9,   -999.0,9,  -999.00,9, -999.00,     3.3,-999.0000,-999.000, -999.00,  -999.0,  5.7735,   0.005
    31DSCG94_2,  P18S,    59,  1,    119,   1248,2,19940315,2326,-40.0033,-102.9800, 4053,    698.2,   5.4212,  34.2729,2,  34.2744,2,    244.5,2,    248.4,2,    15.74,2,    24.85,2,     0.00,2,     1.70,2,    1.544,6,    0.791,6, -999.000,5, -999.000,5,    0.173,2,   1.7282,2,     0.73,2,     -8.4,2,      1.3,2,   -999.0,9,   -999.0,9,   -999.0,9,  -999.00,9, -999.00,     3.2,-999.0000,-999.000, -999.00,  -999.0,  5.3626,   0.004
    31DSCG94_2,  P18S,    59,  1,    118,   1207,2,19940315,2326,-40.0033,-102.9800, 4053,    796.3,   5.0634,  34.2715,2,  34.2722,2,    231.5,2,    233.3,2,    20.36,2,    26.84,2,     0.00,2,     1.77,2,    1.030,2,    0.550,2, -999.000,9, -999.000,9,    0.120,2,   1.7978,2,     0.71,2,    -38.3,2,      1.2,2,   -999.0,9,   -999.0,9,   -999.0,9,  -999.00,9, -999.00,     3.2,-999.0000,-999.000, -999.00,  -999.0,  4.9981,   0.004
    31DSCG94_2,  P18S,    59,  1,    117,   1119,2,19940315,2326,-40.0033,-102.9800, 4053,    896.0,   4.6210,  34.2796,2,  34.2801,2,    217.7,2,    217.1,2,    27.19,2,    28.81,2,     0.00,2,     1.93,2,    0.522,2,    0.258,2, -999.000,5, -999.000,5,    0.076,2,   1.8031,2,     1.69,2,    -69.9,2,      1.1,2,   -999.0,9,   -999.0,9,   -999.0,9,  -999.00,9, -999.00,     4.1,-999.0000,-999.000, -999.00,  -999.0,  4.5499,   0.004
    31DSCG94_2,  P18S,    59,  1,    116,   1036,2,19940315,2326,-40.0033,-102.9800, 4053,    997.1,   4.1392,  34.3072,2,  34.3079,2,    200.3,2,    199.1,2,    37.75,2,    31.19,2,     0.00,2,     2.17,2,    0.237,2,    0.124,2, -999.000,9, -999.000,9,    0.046,2,   1.8130,2,     2.97,2,    -84.4,2,      1.0,2,   -999.0,9,    969.2,2,   -999.0,9,  -999.00,9,   20.00,     3.3,-999.0000,-999.000, -999.00,  -999.0,  4.0630,   0.003
    31DSCG94_2,  P18S,    59,  1,    115,   1017,2,19940315,2326,-40.0033,-102.9800, 4053,   1098.6,   3.7225,  34.3479,2,  34.3476,2,    184.4,2,    181.5,2,    47.25,2,    33.46,2,     0.00,2,     2.36,2,    0.094,2,    0.053,2, -999.000,5, -999.000,5, -999.000,9,-999.0000,9,  -999.00,9,   -999.0,9,      0.8,2,   -999.0,9,   -999.0,9,   -999.0,9,  -999.00,9, -999.00,  -999.0,-999.0000,-999.000, -999.00,  -999.0,  3.6412,-999.000
    31DSCG94_2,  P18S,    59,  1,    114,   1016,2,19940315,2326,-40.0033,-102.9800, 4053,   1201.1,   3.4646,  34.4048,2,  34.4037,2,    165.7,2,    158.6,2,    58.75,2,    35.02,2,     0.00,2,     2.51,2,    0.022,2,    0.012,2, -999.000,9, -999.000,9,    0.010,2,   1.8361,2,     7.88,2,   -142.8,2,      0.6,2,   -999.0,9,   -999.0,9,   -999.0,9,  -999.00,9, -999.00,     3.5,-999.0000,-999.000, -999.00,  -999.0,  3.3770,   0.003
    31DSCG94_2,  P18S,    59,  1,    113,   1209,2,19940315,2326,-40.0033,-102.9800, 4053,   1398.1,   3.1205,  34.4915,2,  34.4921,2,    140.0,2,    136.8,2,    77.95,2,    36.70,2,     0.00,2,     2.59,2,    0.005,6,   -0.002,6, -999.000,9, -999.000,9, -999.000,9,-999.0000,9,  -999.00,9,   -999.0,9,   -999.0,9,   -999.0,9,   1291.8,2,   -999.0,9,  -999.00,9,   20.00,  -999.0,-999.0000,-999.000, -999.00,  -999.0,  3.0199,-999.000
    31DSCG94_2,  P18S,    59,  1,    112,   1033,3,19940315,2326,-40.0033,-102.9800, 4053,   1499.2,   2.9191,  34.5251,2,-999.0000,9,    136.9,2,   -999.0,9,  -999.00,9,  -999.00,9,  -999.00,9,  -999.00,9, -999.000,5, -999.000,5, -999.000,9, -999.000,9,    0.006,2,   1.8544,2,    13.30,2,   -999.0,9,   -999.0,9,   -999.0,9,   -999.0,9,   -999.0,9,  -999.00,9, -999.00,  -999.0,-999.0000,-999.000, -999.00,  -999.0,  2.8124,   0.003
    31DSCG94_2,  P18S,    59,  1,    111,   1263,2,19940315,2326,-40.0033,-102.9800, 4053,   1595.5,   2.7643,  34.5517,2,  34.5519,2,    138.3,2,    138.2,2,    90.32,2,    36.30,2,     0.00,2,     2.62,2,    0.005,6,    0.000,6, -999.000,9, -999.000,9,    0.005,2,   1.9075,2,    17.34,2,   -185.4,2,      0.3,2,   -999.0,9,   -999.0,9,   -999.0,9,  -999.00,9, -999.00,     3.0,-999.0000,-999.000, -999.00,  -999.0,  2.6514,   0.003
    31DSCG94_2,  P18S,    59,  1,    110,   1005,2,19940315,2326,-40.0033,-102.9800, 4053,   1998.1,   2.2622,  34.6268,2,  34.6267,2,    151.9,2,    153.5,2,   101.04,2,    35.15,2,     0.00,2,     2.51,2,    0.003,2,    0.000,2, -999.000,9, -999.000,9, -999.000,9,-999.0000,9,  -999.00,9,   -187.6,2,      0.3,2,   -999.0,9,   1206.1,2,   -999.0,9,  -999.00,9,   20.00,     3.5,-999.0000,-999.000, -999.00,  -999.0,  2.1219,-999.000
    31DSCG94_2,  P18S,    59,  1,    109,   1611,2,19940315,2326,-40.0033,-102.9800, 4053,   2249.7,   2.0511,  34.6618,2,  34.6614,2,    158.6,2,    159.8,6,   106.02,2,    34.28,2,     0.00,2,     2.42,2,    0.000,6,    0.000,6, -999.000,9, -999.000,9, -999.000,9,-999.0000,9,  -999.00,9,   -999.0,9,   -999.0,9,   -999.0,9,   -999.0,9,   -999.0,9,  -999.00,9, -999.00,  -999.0,-999.0000,-999.000, -999.00,  -999.0,  1.8923,-999.000
    31DSCG94_2,  P18S,    59,  1,    108,   1218,2,19940315,2326,-40.0033,-102.9800, 4053,   2498.2,   1.8939,  34.6827,2,  34.6825,2,    164.0,2,    164.4,2,   111.74,2,    33.46,2,     0.00,2,     2.39,2,    2.980,4,    1.414,4, -999.000,9, -999.000,9, -999.000,9,-999.0000,9,  -999.00,9,   -194.2,2,      0.3,2,   -999.0,9,   1146.2,2,   -999.0,9,  -999.00,9,   20.00,     4.6,-999.0000,-999.000, -999.00,  -999.0,  1.7156,-999.000
    31DSCG94_2,  P18S,    59,  1,    107,   1257,2,19940315,2326,-40.0033,-102.9800, 4053,   2746.3,   1.8144,  34.6895,2,  34.6883,2,    166.0,2,    166.8,6,   116.20,2,    33.48,2,     0.00,2,     2.33,2,    0.011,2,    0.004,2, -999.000,5, -999.000,5, -999.000,9,-999.0000,9,  -999.00,9,   -999.0,9,   -999.0,9,   -999.0,9,   -999.0,9,   -999.0,9,  -999.00,9, -999.00,  -999.0,-999.0000,-999.000, -999.00,  -999.0,  1.6147,-999.000
    31DSCG94_2,  P18S,    59,  1,    106,   1224,2,19940315,2326,-40.0033,-102.9800, 4053,   3001.6,   1.7482,  34.6965,2,  34.6965,2,    171.3,2,    171.9,2,   117.11,2,    33.37,2,     0.00,2,     2.38,2,   -0.004,2,   -0.001,2, -999.000,9, -999.000,9, -999.000,9,-999.0000,9,  -999.00,9,   -187.7,2,      0.3,2,   -999.0,9,   1119.1,2,   -999.0,9,  -999.00,9,   20.00,     4.2,-999.0000,-999.000, -999.00,  -999.0,  1.5256,-999.000
    31DSCG94_2,  P18S,    59,  1,    105,   1246,2,19940315,2326,-40.0033,-102.9800, 4053,   3249.1,   1.6481,  34.7022,2,  34.7016,2,    176.0,2,    176.8,6,   116.29,2,    33.15,2,     0.00,2,     2.32,2,   -0.002,2,   -0.001,2, -999.000,9, -999.000,9, -999.000,9,-999.0000,9,  -999.00,9,   -999.0,9,   -999.0,9,   -999.0,9,   -999.0,9,   -999.0,9,  -999.00,9, -999.00,  -999.0,-999.0000,-999.000, -999.00,  -999.0,  1.4035,-999.000
    31DSCG94_2,  P18S,    59,  1,    103,   9999,2,19940315,2326,-40.0033,-102.9800, 4053,   3500.3,   1.4160,  34.7057,2,  34.7052,2,    184.1,2,    183.9,2,   123.10,2,    32.90,2,     0.00,2,     2.28,2,    0.002,6,   -0.001,6, -999.000,9, -999.000,9, -999.000,9,-999.0000,9,  -999.00,9,   -999.0,9,   -999.0,9,   -999.0,9,   -999.0,9,   -999.0,9,  -999.00,9, -999.00,  -999.0,-999.0000,-999.000, -999.00,  -999.0,  1.1517,-999.000
    31DSCG94_2,  P18S,    59,  1,    104,   1217,2,19940315,2326,-40.0033,-102.9800, 4053,   3500.8,   1.4166,  34.7057,2,  34.7055,2,    184.1,2,    183.9,2,   121.31,2,    32.96,2,     0.00,2,     2.32,2,    0.010,2,    0.003,2, -999.000,9, -999.000,9, -999.000,9,-999.0000,9,  -999.00,9,   -184.4,2,      0.4,2,   -999.0,9,   1082.8,2,   -999.0,9,  -999.00,9,   20.00,     5.7,-999.0000,-999.000, -999.00,  -999.0,  1.1523,-999.000
    31DSCG94_2,  P18S,    59,  1,    102,   1223,2,19940315,2326,-40.0033,-102.9800, 4053,   3726.9,   1.1976,  34.7077,2,  34.7063,2,    191.3,2,    190.8,2,   128.37,2,    32.87,2,     0.00,2,     2.32,2,    0.001,2,    0.000,2, -999.000,9, -999.000,9, -999.000,9,-999.0000,9,  -999.00,9,   -180.8,2,      0.3,2,   -999.0,9,   -999.0,9,   -999.0,9,  -999.00,9, -999.00,     3.5,-999.0000,-999.000, -999.00,  -999.0,  0.9158,-999.000
    31DSCG94_2,  P18S,    59,  1,    101,   1041,2,19940315,2326,-40.0033,-102.9800, 4053,   4015.9,   1.1646,  34.7078,2,  34.7070,2,    194.8,2,    193.9,2,   127.57,2,    32.80,2,     0.00,2,     2.32,2,    0.003,2,    0.003,2, -999.000,9, -999.000,9, -999.000,9,-999.0000,9,  -999.00,9,   -999.0,9,      0.4,2,   -999.0,9,   -999.0,9,   -999.0,9,  -999.00,9, -999.00,  -999.0,-999.0000,-999.000, -999.00,  -999.0,  0.8533,-999.000