BOTTLE,20220630CCHSIOAMB
EXPOCODE,SECT_ID,STNNBR,CASTNO,SAMPNO,BTLNBR,BTLNBR_FLAG_W,DATE,TIME,LATITUDE,LONGITUDE,DEPTH,CTDPRS,CTDTMP,CTDSAL,CTDSAL_FLAG_W,SALNTY,SALNTY_FLAG_W,CTDOXY,CTDOXY_FLAG_W,OXYGEN,OXYGEN_FLAG_W,SILCAT,SILCAT_FLAG_W,NITRAT,NITRAT_FLAG_W,NITRIT,NITRIT_FLAG_W,PHSPHT,PHSPHT_FLAG_W,CFC-11,CFC-11_FLAG_W,CFC-12,CFC-12_FLAG_W,CFC113,CFC113_FLAG_W,CCL4,CCL4_FLAG_W,TRITUM,TRITUM_FLAG_W,HELIUM,HELIUM_FLAG_W,DELHE3,DELHE3_FLAG_W,DELC14,DELC14_FLAG_W,DELC13,DELC13_FLAG_W,TCARBN,TCARBN_FLAG_W,PCO2,PCO2_FLAG_W,ALKALI,ALKALI_FLAG_W,PH,PH_FLAG_W,PCO2TMP,C14ERR,HELIER,DELHER,PH_TMP,C13ERR,THETA,TRITER
,,,,,,,,,,,,DBAR,ITS-90,PSS-78,,PSS-78,,UMOL/KG,,UMOL/KG,,UMOL/KG,,UMOL/KG,,UMOL/KG,,UMOL/KG,,PMOL/KG,,PMOL/KG,,PMOL/KG,,PMOL/KG,,TU,,NMOL/KG,,PERCNT,,/MILLE,,/MILLE,,UMOL/KG,,UATM,,UMOL/KG,,,,DEG C,/MILLE,NMOL/KG,PERCNT,DEG C,/MILLE,DEG C,TU
    31DSCG94_2,  P18S,    22,  1,    136,   1025,2,19940303,1354,-61.0167,-103.0000, 4970,      9.1,   4.4439,  33.9213,2,  33.9226,2,    309.1,2,    308.9,2,     0.55,2,    20.93,2,     0.31,2,     1.60,2,    5.429,2,    2.525,2, -999.000,9, -999.000,9, -999.000,9,-999.0000,9,  -999.00,9,   -999.0,9,   -999.0,5,   2113.6,2,    649.9,2,   2291.0,3,     7.79,2,   20.00,  -999.0,-999.0000,-999.000,   25.00,  -999.0,  4.4433,-999.000
    31DSCG94_2,  P18S,    22,  1,    135,   1247,2,19940303,1354,-61.0167,-103.0000, 4970,     26.1,   4.4379,  33.9227,2,  33.9237,2,    307.0,2,    309.6,2,     0.36,2,    21.32,2,     0.28,2,     1.58,2,    5.350,2,    2.581,2, -999.000,9, -999.000,9, -999.000,9,-999.0000,9,  -999.00,9,    -25.4,2,      1.8,2,   2114.6,2,    648.4,2,   2285.0,2,     7.79,2,   20.00,     4.2,-999.0000,-999.000,   25.00,  -999.0,  4.4361,-999.000
    31DSCG94_2,  P18S,    22,  1,    134,   1108,2,19940303,1354,-61.0167,-103.0000, 4970,     47.1,   4.4282,  33.9237,2,  33.9249,2,    306.8,2,    309.3,2,     0.11,2,    21.00,2,     0.29,2,     1.59,2,    5.395,2,    2.559,2, -999.000,9, -999.000,9, -999.000,9,-999.0000,9,  -999.00,9,    -24.3,2,      1.8,2,   2113.7,2,    646.4,2,   2281.0,2,     7.79,2,   20.00,     2.9,-999.0000,-999.000,   25.00,  -999.0,  4.4249,-999.000
    31DSCG94_2,  P18S,    22,  1,    133,   1244,2,19940303,1354,-61.0167,-103.0000, 4970,     73.8,   4.2316,  33.9340,2,  33.9354,2,    306.4,2,    309.6,2,     0.16,2,    21.49,2,     0.29,2,     1.60,2,    5.560,2,    2.550,2, -999.000,9, -999.000,9, -999.000,9,-999.0000,9,  -999.00,9,   -999.0,9,      1.8,2,   2114.9,2,    658.6,2,   2278.0,2,     7.79,2,   20.00,  -999.0,-999.0000,-999.000,   25.00,  -999.0,  4.2265,-999.000
    31DSCG94_2,  P18S,    22,  1,    132,   1003,2,19940303,1354,-61.0167,-103.0000, 4970,    100.7,   3.2535,  34.0197,2,  34.0206,2,    304.7,2,    304.0,2,     7.49,2,    24.66,2,     0.29,2,     1.81,2,    5.392,6,    2.540,6, -999.000,9, -999.000,9, -999.000,9,-999.0000,9,  -999.00,9,    -22.5,2,      1.5,2,   2135.3,2,    747.9,2,   2282.0,2,     7.73,2,   20.00,     3.5,-999.0000,-999.000,   25.00,  -999.0,  3.2473,-999.000
    31DSCG94_2,  P18S,    22,  1,    131,   1211,2,19940303,1354,-61.0167,-103.0000, 4970,    148.4,   2.9558,  34.0118,2,  34.0129,2,    303.5,2,    304.4,2,     9.40,2,    25.66,2,     0.06,2,     1.80,2,    5.396,2,    2.388,2, -999.000,9, -999.000,9, -999.000,9,-999.0000,9,  -999.00,9,    -21.7,2,      1.5,2,   2136.3,2,    760.7,2,   2277.0,2,     7.73,2,   20.00,     3.3,-999.0000,-999.000,   25.00,  -999.0,  2.9469,-999.000
    31DSCG94_2,  P18S,    22,  1,    130,   1241,2,19940303,1354,-61.0167,-103.0000, 4970,    198.9,   2.6141,  34.0058,2,  34.0076,2,    300.6,2,    304.2,2,    12.41,2,    26.55,2,     0.02,2,     1.85,2,    5.376,2,    2.486,2, -999.000,9, -999.000,9, -999.000,9,-999.0000,9,  -999.00,9,    -33.9,2,      1.4,2,   2141.1,2,    777.0,2,   2278.0,2,     7.72,2,   20.00,     2.7,-999.0000,-999.000,   25.00,  -999.0,  2.6026,-999.000
    31DSCG94_2,  P18S,    22,  1,    129,   1031,2,19940303,1354,-61.0167,-103.0000, 4970,    302.6,   2.8350,  34.0911,2,  34.0922,2,    277.4,2,    276.9,2,    18.66,2,    28.41,2,     0.00,2,     1.98,2,    4.178,2,    1.967,2, -999.000,9, -999.000,9, -999.000,9,-999.0000,9,  -999.00,9,    -39.1,2,      1.2,2,   2133.3,3,    861.5,2,   2282.0,2,     7.69,2,   20.00,     2.9,-999.0000,-999.000,   25.00,  -999.0,  2.8168,-999.000
    31DSCG94_2,  P18S,    22,  1,    128,   1210,2,19940303,1354,-61.0167,-103.0000, 4970,    401.8,   3.0313,  34.1984,2,  34.1988,2,    276.1,2,    240.1,2,    29.37,2,    30.94,2,     0.00,2,     2.14,2,    2.794,2,    1.301,2, -999.000,9, -999.000,9, -999.000,9,-999.0000,9,  -999.00,9,    -63.2,2,      0.9,3,   2183.8,2,    956.0,2,   2285.0,2,     7.64,2,   20.00,     3.5,-999.0000,-999.000,   25.00,  -999.0,  3.0060,-999.000
    31DSCG94_2,  P18S,    22,  1,    127,   1008,2,19940303,1354,-61.0167,-103.0000, 4970,    498.2,   2.9850,  34.2632,2,  34.2654,2,    -10.5,3,    218.2,2,    37.39,2,    32.60,2,     0.00,2,     2.24,2,    2.059,2,    0.951,2, -999.000,9, -999.000,9, -999.000,9,-999.0000,9,  -999.00,9,    -79.2,2,      0.8,2,   2200.1,2,   1038.3,2,   2301.0,2,     7.61,2,   20.00,     2.8,-999.0000,-999.000,   25.00,  -999.0,  2.9534,-999.000
    31DSCG94_2,  P18S,    22,  1,    126,   1007,2,19940303,1354,-61.0167,-103.0000, 4970,    598.4,   2.8122,  34.3264,2,  34.3262,2,    209.1,2,    204.1,2,    45.76,2,    33.77,2,     0.00,2,     2.34,2,    1.428,3,    0.568,3, -999.000,9, -999.000,9, -999.000,9,-999.0000,9,  -999.00,9,   -999.0,5,      0.7,2,   2215.4,2,   1097.8,2,   2308.0,2,     7.59,2,   20.00,  -999.0,-999.0000,-999.000,   25.00,  -999.0,  2.7746,-999.000
    31DSCG94_2,  P18S,    22,  1,    125,   1203,2,19940303,1354,-61.0167,-103.0000, 4970,    700.7,   2.6834,  34.3831,2,  34.3827,2,    191.8,2,    192.0,2,    53.82,2,    34.31,2,     0.00,2,     2.38,2,    1.156,3,    0.371,3, -999.000,9, -999.000,9, -999.000,9,-999.0000,9,  -999.00,9,   -110.7,2,      0.6,2,   2227.9,2,   1146.4,2,   2316.0,2,     7.57,2,   20.00,     2.8,-999.0000,-999.000,   25.00,  -999.0,  2.6393,-999.000
    31DSCG94_2,  P18S,    22,  1,    123,   1101,2,19940303,1354,-61.0167,-103.0000, 4970,    802.1,   2.5512,  34.4455,2,  34.4461,2,    184.9,2,    182.3,2,    61.79,2,    34.81,2,     0.00,2,     2.43,2,    0.724,2,    0.333,2, -999.000,9, -999.000,9, -999.000,9,-999.0000,9,  -999.00,9,   -121.9,2,      0.5,2,   2238.3,2,   1176.9,2,   2327.0,2,     7.57,2,   20.00,     3.2,-999.0000,-999.000,   25.00,  -999.0,  2.5009,-999.000
    31DSCG94_2,  P18S,    22,  1,    121,   1206,2,19940303,1354,-61.0167,-103.0000, 4970,    899.7,   2.5096,  34.5055,2,  34.5055,2,    178.4,2,    175.7,6,    67.66,2,    34.66,2,     0.00,2,     2.41,2,    0.450,2,    0.204,2, -999.000,9, -999.000,9, -999.000,9,-999.0000,9,  -999.00,9,   -134.8,2,      0.5,2,   2245.4,2,   1186.0,2,   2335.0,2,     7.56,2,   20.00,     2.6,-999.0000,-999.000,   25.00,  -999.0,  2.4527,-999.000
    31DSCG94_2,  P18S,    22,  1,    119,   1248,2,19940303,1354,-61.0167,-103.0000, 4970,   1001.1,   2.3751,  34.5437,2,  34.5428,2,    175.5,2,    173.6,2,    71.95,2,    34.68,2,     0.00,2,     2.42,2,    0.480,4,    0.076,2, -999.000,9, -999.000,9, -999.000,9,-999.0000,9,  -999.00,9,   -135.7,2,      0.4,2,   2249.7,2,   1196.1,6,   2329.0,2,     7.56,2,   20.00,     2.7,-999.0000,-999.000,   25.00,  -999.0,  2.3120,-999.000
    31DSCG94_2,  P18S,    22,  1,    118,   1207,2,19940303,1354,-61.0167,-103.0000, 4970,   1200.9,   2.2957,  34.6187,2,  34.6189,2,    172.9,2,    172.6,2,    79.30,2,    33.57,2,     0.00,2,     2.34,2,    0.215,3,    0.086,3, -999.000,9, -999.000,9, -999.000,9,-999.0000,9,  -999.00,9,   -145.6,2,      0.4,2,   2254.8,2,   1169.7,2,   2343.0,2,     7.57,2,   20.00,     2.7,-999.0000,-999.000,   25.00,  -999.0,  2.2187,-999.000
    31DSCG94_2,  P18S,    22,  1,    117,   1119,2,19940303,1354,-61.0167,-103.0000, 4970,   1397.4,   2.1848,  34.6668,2,  34.6662,2,    175.6,2,    175.3,2,    82.71,2,    32.89,2,     0.00,2,     2.28,2,    0.148,3,    0.057,2, -999.000,9, -999.000,9, -999.000,9,-999.0000,9,  -999.00,9,   -158.2,2,      0.4,2,   2255.0,2,   1159.6,2,   2340.0,2,     7.58,2,   20.00,     3.7,-999.0000,-999.000,   25.00,  -999.0,  2.0940,-999.000
    31DSCG94_2,  P18S,    22,  1,    116,   1036,2,19940303,1354,-61.0167,-103.0000, 4970,   1599.9,   2.0731,  34.6990,2,  34.6983,2,    179.4,2,    180.3,2,    85.94,2,    32.42,2,     0.00,2,     2.24,2,    0.093,3,    0.034,2, -999.000,9, -999.000,9, -999.000,9,-999.0000,9,  -999.00,9,   -146.9,2,      0.4,2,   2252.7,2,   1137.1,2,   2342.0,2,     7.59,2,   20.00,     3.4,-999.0000,-999.000,   25.00,  -999.0,  1.9679,-999.000
    31DSCG94_2,  P18S,    22,  1,    115,   1017,2,19940303,1354,-61.0167,-103.0000, 4970,   1803.8,   1.9326,  34.7190,2,  34.7181,2,    183.7,2,    184.2,2,    89.51,2,    31.97,2,     0.00,2,     2.21,2,    0.101,3,    0.035,2, -999.000,9, -999.000,9, -999.000,9,-999.0000,9,  -999.00,9,   -151.7,2,      0.5,2,   2252.8,2,   1096.2,2,   2347.0,2,     7.60,2,   20.00,     2.8,-999.0000,-999.000,   25.00,  -999.0,  1.8130,-999.000
    31DSCG94_2,  P18S,    22,  1,    114,   1016,2,19940303,1354,-61.0167,-103.0000, 4970,   2005.3,   1.7849,  34.7270,2,  34.7265,2,    187.5,2,    188.0,2,    93.90,2,    31.67,2,     0.00,2,     2.18,2,    0.064,2,    0.020,2, -999.000,9, -999.000,9, -999.000,9,-999.0000,9,  -999.00,9,   -141.4,2,      0.4,2,   2255.2,2,   1080.3,2,   2350.0,2,     7.60,2,   20.00,     3.2,-999.0000,-999.000,   25.00,  -999.0,  1.6509,-999.000
    31DSCG94_2,  P18S,    22,  1,    113,   1118,2,19940303,1354,-61.0167,-103.0000, 4970,   2246.9,   1.6091,  34.7300,2,  34.7288,2,    191.3,2,    191.7,2,    98.86,2,    31.67,2,     0.00,2,     2.19,2,    0.065,2,    0.017,2, -999.000,9, -999.000,9, -999.000,9,-999.0000,9,  -999.00,9,   -138.6,2,      0.4,2,   2255.7,2,   1073.0,2,   2355.0,2,     7.61,2,   20.00,     3.1,-999.0000,-999.000,   25.00,  -999.0,  1.4578,-999.000
    31DSCG94_2,  P18S,    22,  1,    112,   1033,2,19940303,1354,-61.0167,-103.0000, 4970,   2499.1,   1.4222,  34.7264,2,  34.7257,2,    193.5,2,    194.3,2,   104.78,2,    31.78,2,     0.00,2,     2.18,2,    0.036,2,    0.012,2, -999.000,9, -999.000,9, -999.000,9,-999.0000,9,  -999.00,9,   -163.4,2,      0.4,2,   2257.5,2,   1070.2,2,   2356.0,2,     7.61,2,   20.00,     3.5,-999.0000,-999.000,   25.00,  -999.0,  1.2524,-999.000
    31DSCG94_2,  P18S,    22,  1,    111,   1263,2,19940303,1354,-61.0167,-103.0000, 4970,   2739.5,   1.2940,  34.7230,2,  34.7217,2,    196.2,2,    196.9,2,   109.66,2,    32.21,2,     0.00,2,     2.20,2,    0.038,6,    0.016,6, -999.000,9, -999.000,9, -999.000,9,-999.0000,9,  -999.00,9,   -169.8,2,      0.4,2,   2259.0,2,   1062.7,2,   2363.0,2,     7.61,2,   20.00,     5.3,-999.0000,-999.000,   25.00,  -999.0,  1.1054,-999.000
    31DSCG94_2,  P18S,    22,  1,    110,   1005,2,19940303,1354,-61.0167,-103.0000, 4970,   3003.2,   1.1559,  34.7193,2,  34.7183,2,    199.4,2,    199.5,6,   113.81,2,    32.44,2,     0.00,2,     2.20,2,    0.039,2,    0.012,2, -999.000,9, -999.000,9, -999.000,9,-999.0000,9,  -999.00,9,   -164.6,2,      0.5,2,   2258.5,2,   1059.3,2,   2359.0,2,     7.61,2,   20.00,     3.4,-999.0000,-999.000,   25.00,  -999.0,  0.9462,-999.000
    31DSCG94_2,  P18S,    22,  1,    109,   1611,2,19940303,1354,-61.0167,-103.0000, 4970,   3242.5,   1.0217,  34.7152,2,  34.7138,2,    201.7,2,    202.0,2,   118.38,2,    31.91,2,     0.00,2,     2.24,2,    2.078,4,    0.013,2, -999.000,9, -999.000,9, -999.000,9,-999.0000,9,  -999.00,9,   -160.5,2,      0.4,2,   2259.4,2,   1056.3,2,   2359.0,2,     7.61,2,   20.00,     3.3,-999.0000,-999.000,   25.00,  -999.0,  0.7924,-999.000
    31DSCG94_2,  P18S,    22,  1,    108,   1218,2,19940303,1354,-61.0167,-103.0000, 4970,   3500.6,   0.8872,  34.7115,2,  34.7100,2,    205.1,2,    204.4,2,   123.14,2,    32.45,2,     0.00,2,     2.23,2,    2.472,4,    0.014,2, -999.000,9, -999.000,9, -999.000,9,-999.0000,9,  -999.00,9,   -159.6,2,      0.4,2,   2259.6,2,   1053.0,2,   2357.0,2,     7.61,2,   20.00,     5.6,-999.0000,-999.000,   25.00,  -999.0,  0.6363,-999.000
    31DSCG94_2,  P18S,    22,  1,    107,   1257,2,19940303,1354,-61.0167,-103.0000, 4970,   3749.8,   0.7332,  34.7079,2,  34.7065,2,    208.4,2,    207.6,2,   127.43,2,    32.91,2,     0.00,2,     2.25,2,    0.044,2,    0.016,2, -999.000,9, -999.000,9, -999.000,9,-999.0000,9,  -999.00,9,   -166.1,2,      0.4,2,   2260.4,2,   1074.1,2,   2358.0,2,     7.61,2,   20.00,     6.7,-999.0000,-999.000,   25.00,  -999.0,  0.4615,-999.000
    31DSCG94_2,  P18S,    22,  1,    106,   1224,2,19940303,1354,-61.0167,-103.0000, 4970,   3997.0,   0.6066,  34.7060,2,  34.7036,2,    211.5,2,    209.6,2,   130.79,2,    32.99,2,     0.00,2,     2.25,2,    0.050,6,    0.025,6, -999.000,9, -999.000,9, -999.000,9,-999.0000,9,  -999.00,9,   -161.2,2,      0.5,2,   2261.8,2,   1088.1,2,   2357.0,2,     7.60,2,   20.00,     3.9,-999.0000,-999.000,   25.00,  -999.0,  0.3131,-999.000
    31DSCG94_2,  P18S,    22,  1,    105,   1246,2,19940303,1354,-61.0167,-103.0000, 4970,   4249.6,   0.5098,  34.7046,2,  34.7018,2,    214.4,2,    214.2,3,   133.30,2,    32.76,2,     0.03,2,     2.21,2,    0.055,2,    0.022,2, -999.000,9, -999.000,9, -999.000,9,-999.0000,9,  -999.00,9,   -161.8,2,      0.4,2,   2261.1,2,   1084.8,2,   2358.0,2,     7.60,2,   20.00,     5.6,-999.0000,-999.000,   25.00,  -999.0,  0.1926,-999.000
    31DSCG94_2,  P18S,    22,  1,    104,   1028,2,19940303,1354,-61.0167,-103.0000, 4970,   4498.9,   0.4473,  34.7036,2,  34.7014,2,    216.5,2,    212.6,2,   135.73,2,    32.89,2,     0.00,2,     2.25,2,    0.068,2,    0.028,2, -999.000,9, -999.000,9, -999.000,9,-999.0000,9,  -999.00,9,   -160.0,2,      0.2,3,   2261.6,2,   1087.7,2,   2357.0,2,     7.60,2,   20.00,     3.0,-999.0000,-999.000,   25.00,  -999.0,  0.1052,-999.000
    31DSCG94_2,  P18S,    22,  1,    103,   9999,2,19940303,1354,-61.0167,-103.0000, 4970,   4749.7,   0.4224,  34.7032,2,  34.7011,2,    218.5,2,    214.4,2,   134.93,2,    32.91,2,     0.00,2,     2.24,2,    0.075,2,    0.036,2, -999.000,9, -999.000,9, -999.000,9,-999.0000,9,  -999.00,9,   -999.0,9,      0.5,2,   2262.0,2,   1086.2,2,   2353.0,2,  -999.00,9,   20.00,  -999.0,-999.0000,-999.000, -999.00,  -999.0,  0.0533,-999.000
    31DSCG94_2,  P18S,    22,  1,    102,   1223,2,19940303,1354,-61.0167,-103.0000, 4970,   4945.5,   0.4240,  34.7029,2,  34.7013,2,    219.9,2,    215.2,2,   134.20,2,    32.67,2,     0.00,2,     2.26,2,    0.074,2,    0.043,2, -999.000,9, -999.000,9, -999.000,9,-999.0000,9,  -999.00,9,   -162.2,2,      0.4,2,   2261.6,2,   1083.7,2,   2357.0,2,     7.60,2,   20.00,     6.4,-999.0000,-999.000,   25.00,  -999.0,  0.0325,-999.000
    31DSCG94_2,  P18S,    22,  1,    101,   1041,2,19940303,1354,-61.0167,-103.0000, 4970,   5073.0,   0.4274,  34.7025,2,  34.7015,2,    220.6,2,    215.4,2,   136.37,2,    32.95,2,     0.01,2,     2.28,2,    0.083,6,    0.041,6, -999.000,9, -999.000,9, -999.000,9,-999.0000,9,  -999.00,9,   -170.2,2,      0.5,2,   2262.7,3,   1081.3,2,   2334.0,2,     7.60,2,   20.00,     2.8,-999.0000,-999.000,   25.00,  -999.0,  0.0210,-999.000