BOTTLE,20220630CCHSIOAMB
EXPOCODE,SECT_ID,STNNBR,CASTNO,SAMPNO,BTLNBR,BTLNBR_FLAG_W,DATE,TIME,LATITUDE,LONGITUDE,DEPTH,CTDPRS,CTDTMP,CTDSAL,CTDSAL_FLAG_W,SALNTY,SALNTY_FLAG_W,CTDOXY,CTDOXY_FLAG_W,OXYGEN,OXYGEN_FLAG_W,SILCAT,SILCAT_FLAG_W,NITRAT,NITRAT_FLAG_W,NITRIT,NITRIT_FLAG_W,PHSPHT,PHSPHT_FLAG_W,CFC-11,CFC-11_FLAG_W,CFC-12,CFC-12_FLAG_W,CFC113,CFC113_FLAG_W,CCL4,CCL4_FLAG_W,TRITUM,TRITUM_FLAG_W,HELIUM,HELIUM_FLAG_W,DELHE3,DELHE3_FLAG_W,DELC14,DELC14_FLAG_W,DELC13,DELC13_FLAG_W,TCARBN,TCARBN_FLAG_W,PCO2,PCO2_FLAG_W,ALKALI,ALKALI_FLAG_W,PH,PH_FLAG_W,PCO2TMP,C14ERR,HELIER,DELHER,PH_TMP,C13ERR,THETA,TRITER
,,,,,,,,,,,,DBAR,ITS-90,PSS-78,,PSS-78,,UMOL/KG,,UMOL/KG,,UMOL/KG,,UMOL/KG,,UMOL/KG,,UMOL/KG,,PMOL/KG,,PMOL/KG,,PMOL/KG,,PMOL/KG,,TU,,NMOL/KG,,PERCNT,,/MILLE,,/MILLE,,UMOL/KG,,UATM,,UMOL/KG,,,,DEG C,/MILLE,NMOL/KG,PERCNT,DEG C,/MILLE,DEG C,TU
    31DSCG94_2,  P18S,    83,  1,    136,   1025,2,19940322,0735,-28.0000,-103.0000, 3352,      9.6,  23.7130,  35.7897,2,  35.7882,2,    214.2,2,    213.2,2,     1.36,2,     0.97,2,     0.01,2,     0.12,2,    1.999,2,    1.100,2, -999.000,9, -999.000,9, -999.000,9,-999.0000,9,  -999.00,9,    135.4,2,      1.5,2,   2040.9,3,    324.2,2,   2352.0,6,     8.06,2,   20.00,     4.9,-999.0000,-999.000,   25.00,  -999.0, 23.7110,-999.000
    31DSCG94_2,  P18S,    83,  1,    135,   1247,2,19940322,0735,-28.0000,-103.0000, 3352,     24.8,  23.7324,  35.7883,2,  35.7876,2,    217.1,2,    213.1,6,     1.23,2,     0.05,2,     0.00,2,     0.11,2,    1.997,2,    1.093,2, -999.000,9, -999.000,9, -999.000,9,-999.0000,9,  -999.00,9,    131.3,2,      1.5,2,   -999.0,9,   -999.0,9,   -999.0,9,     8.05,2, -999.00,     3.8,-999.0000,-999.000,   25.00,  -999.0, 23.7272,-999.000
    31DSCG94_2,  P18S,    83,  1,    134,   1108,2,19940322,0735,-28.0000,-103.0000, 3352,     51.4,  23.2532,  35.7932,2,  35.7940,2,    223.4,2,    220.1,2,     1.16,2,     0.00,2,     0.00,2,     0.11,2,    2.107,2,    1.148,2, -999.000,9, -999.000,9, -999.000,9,-999.0000,9,  -999.00,9,    123.0,2,      1.5,2,   -999.0,9,    326.8,2,   -999.0,9,     8.05,2,   20.00,     3.6,-999.0000,-999.000,   25.00,  -999.0, 23.2426,-999.000
    31DSCG94_2,  P18S,    83,  1,    133,   1244,2,19940322,0735,-28.0000,-103.0000, 3352,     74.5,  20.5691,  35.5203,2,  35.5196,2,    235.5,2,    236.4,6,     1.54,2,     0.01,2,     0.00,2,     0.11,2,    2.377,2,    1.276,2, -999.000,9, -999.000,9, -999.000,9,-999.0000,9,  -999.00,9,    135.8,2,      1.6,3,   -999.0,9,   -999.0,9,   -999.0,9,     8.04,2, -999.00,     4.3,-999.0000,-999.000,   25.00,  -999.0, 20.5550,-999.000
    31DSCG94_2,  P18S,    83,  1,    132,   1003,2,19940322,0735,-28.0000,-103.0000, 3352,     99.8,  20.0557,  35.5288,2,  35.5264,2,    232.6,2,    234.4,2,     1.12,2,     0.01,2,     0.00,2,     0.10,2,    2.365,6,    1.284,6, -999.000,9, -999.000,9, -999.000,9,-999.0000,9,  -999.00,9,   -999.0,5,      1.5,2,   -999.0,9,    335.1,2,   -999.0,9,     8.04,2,   20.00,  -999.0,-999.0000,-999.000,   25.00,  -999.0, 20.0372,-999.000
    31DSCG94_2,  P18S,    83,  1,    131,   1211,2,19940322,0735,-28.0000,-103.0000, 3352,    126.5,  19.5875,  35.4927,2,  35.4892,2,    232.4,2,    231.8,2,     1.21,2,     0.02,2,     0.00,2,     0.14,2,    2.671,2,    1.523,2, -999.000,9, -999.000,9, -999.000,9,-999.0000,9,  -999.00,9,   -999.0,9,   -999.0,9,   -999.0,9,   -999.0,9,   -999.0,9,     8.04,2, -999.00,  -999.0,-999.0000,-999.000,   25.00,  -999.0, 19.5644,-999.000
    31DSCG94_2,  P18S,    83,  1,    130,   1241,2,19940322,0735,-28.0000,-103.0000, 3352,    151.2,  19.2478,  35.4461,2,  35.4481,2,    230.7,2,    229.7,2,     1.12,2,     0.00,2,     0.00,2,     0.17,2,    2.404,2,    1.304,2, -999.000,9, -999.000,9, -999.000,9,-999.0000,9,  -999.00,9,    135.9,2,      1.5,2,   -999.0,9,    348.4,2,   -999.0,9,  -999.00,9,   20.00,     4.5,-999.0000,-999.000, -999.00,  -999.0, 19.2205,-999.000
    31DSCG94_2,  P18S,    83,  1,    129,   1031,2,19940322,0735,-28.0000,-103.0000, 3352,    174.9,  18.9802,  35.4009,2,  35.3993,2,    227.7,2,    226.9,2,     1.07,2,     0.00,2,     0.00,2,     0.16,2,    2.429,2,    1.308,2, -999.000,9, -999.000,9, -999.000,9,-999.0000,9,  -999.00,9,   -999.0,9,   -999.0,9,   -999.0,9,   -999.0,9,   -999.0,9,  -999.00,9, -999.00,  -999.0,-999.0000,-999.000, -999.00,  -999.0, 18.9490,-999.000
    31DSCG94_2,  P18S,    83,  1,    128,   1032,2,19940322,0735,-28.0000,-103.0000, 3352,    203.2,  18.0067,  35.2151,2,  35.2206,2,    225.4,2,    224.1,2,     1.11,2,     0.10,2,     0.05,2,     0.17,2,    2.485,2,    1.312,2, -999.000,9, -999.000,9, -999.000,9,-999.0000,9,  -999.00,9,    128.8,6,      1.4,6,   -999.0,9,    366.2,2,   -999.0,9,  -999.00,9,   20.00,     4.4,-999.0000,-999.000, -999.00,  -999.0, 17.9717,-999.000
    31DSCG94_2,  P18S,    83,  1,    127,   1008,2,19940322,0735,-28.0000,-103.0000, 3352,    222.2,  17.3565,  35.1210,2,  35.1225,2,    222.5,2,    217.4,2,     1.19,2,     0.79,2,     0.08,2,     0.25,2,    2.498,6,    1.317,6, -999.000,9, -999.000,9, -999.000,9,-999.0000,9,  -999.00,9,   -999.0,9,   -999.0,9,   -999.0,9,   -999.0,9,   -999.0,9,  -999.00,9, -999.00,  -999.0,-999.0000,-999.000, -999.00,  -999.0, 17.3193,-999.000
    31DSCG94_2,  P18S,    83,  1,    126,   1007,2,19940322,0735,-28.0000,-103.0000, 3352,    249.4,  15.8256,  34.8677,2,  34.8648,2,    213.6,2,    213.2,2,     1.28,2,     3.12,2,     0.00,2,     0.41,2,    2.484,6,    1.281,6, -999.000,9, -999.000,9, -999.000,9,-999.0000,9,  -999.00,9,   -999.0,9,   -999.0,9,   -999.0,9,    441.1,2,   -999.0,9,  -999.00,9,   20.00,  -999.0,-999.0000,-999.000, -999.00,  -999.0, 15.7864,-999.000
    31DSCG94_2,  P18S,    83,  1,    125,   1203,2,19940322,0735,-28.0000,-103.0000, 3352,    299.3,  14.0032,  34.6795,2,-999.0000,5,    206.0,2,    205.9,2,     1.93,2,     6.79,2,     0.00,2,     0.65,2,    2.129,2,    1.052,2, -999.000,9, -999.000,9, -999.000,9,-999.0000,9,  -999.00,9,    114.6,2,      1.4,2,   -999.0,9,    501.0,2,   -999.0,9,  -999.00,9,   20.00,     4.6,-999.0000,-999.000, -999.00,  -999.0, 13.9599,-999.000
    31DSCG94_2,  P18S,    83,  1,    124,   1240,2,19940322,0735,-28.0000,-103.0000, 3352,    351.0,  11.3297,  34.4806,2,  34.4907,2,    198.2,2,    198.8,2,     3.49,2,    12.66,2,     0.00,2,     1.07,2,    1.899,2,    0.944,2, -999.000,9, -999.000,9, -999.000,9,-999.0000,9,  -999.00,9,   -999.0,9,   -999.0,9,   -999.0,9,   -999.0,9,   -999.0,9,  -999.00,9, -999.00,  -999.0,-999.0000,-999.000, -999.00,  -999.0, 11.2855,-999.000
    31DSCG94_2,  P18S,    83,  1,    123,   1220,2,19940322,0735,-28.0000,-103.0000, 3352,    398.4,   9.3348,  34.3809,2,  34.3823,2,    198.7,2,    197.6,2,     5.62,2,    18.35,2,     0.01,2,     1.42,2,    1.147,2,    0.571,2, -999.000,9, -999.000,9, -999.000,9,-999.0000,9,  -999.00,9,     50.4,2,      1.3,2,   -999.0,9,    732.1,2,   -999.0,9,  -999.00,9,   20.00,     4.3,-999.0000,-999.000, -999.00,  -999.0,  9.2903,-999.000
    31DSCG94_2,  P18S,    83,  1,    122,   1245,2,19940322,0735,-28.0000,-103.0000, 3352,    501.8,   6.8869,  34.3425,2,  34.3422,2,    182.7,2,    186.4,2,    12.14,2,    26.56,2,     0.00,2,     1.91,2,    0.878,2,    0.463,2, -999.000,9, -999.000,9, -999.000,9,-999.0000,9,  -999.00,9,      2.5,2,      1.0,2,   -999.0,9,   -999.0,9,   -999.0,9,  -999.00,9, -999.00,     3.5,-999.0000,-999.000, -999.00,  -999.0,  6.8398,-999.000
    31DSCG94_2,  P18S,    83,  1,    121,   1206,2,19940322,0735,-28.0000,-103.0000, 3352,    603.0,   6.0532,  34.3143,2,  34.3157,2,    215.7,2,    207.6,2,    13.38,2,    26.76,2,     0.00,2,     1.90,2,    0.877,2,    0.471,2, -999.000,9, -999.000,9, -999.000,9,-999.0000,9,  -999.00,9,    -25.0,2,      1.2,2,   -999.0,9,    900.3,2,   -999.0,9,  -999.00,9,   20.00,     3.4,-999.0000,-999.000, -999.00,  -999.0,  6.0001,-999.000
    31DSCG94_2,  P18S,    83,  1,    120,   1028,2,19940322,0735,-28.0000,-103.0000, 3352,    702.9,   5.4030,  34.2763,2,  34.2775,2,    215.4,2,    226.5,2,    14.27,2,    26.90,2,     0.00,2,     1.88,3,    0.799,2,    0.423,2, -999.000,9, -999.000,9, -999.000,9,-999.0000,9,  -999.00,9,    -39.2,2,      1.3,2,   -999.0,9,   -999.0,9,   -999.0,9,  -999.00,9, -999.00,     3.3,-999.0000,-999.000, -999.00,  -999.0,  5.3440,-999.000
    31DSCG94_2,  P18S,    83,  1,    119,   1248,2,19940322,0735,-28.0000,-103.0000, 3352,    801.6,   5.0515,  34.2939,2,  34.2930,2,    200.3,2,    200.6,2,    21.01,2,    29.84,2,     0.00,2,     2.19,3,    0.370,2,    0.210,2, -999.000,9, -999.000,9, -999.000,9,-999.0000,9,  -999.00,9,    -66.2,2,      1.1,2,   -999.0,9,    965.5,2,   -999.0,9,  -999.00,9,   20.00,     3.3,-999.0000,-999.000, -999.00,  -999.0,  4.9858,-999.000
    31DSCG94_2,  P18S,    83,  1,    118,   1207,2,19940322,0735,-28.0000,-103.0000, 3352,    901.9,   4.6373,  34.3225,2,  34.3217,2,    172.4,2,    174.6,2,    30.91,2,    32.92,2,     0.00,2,     2.44,3,    0.140,6,    0.079,6, -999.000,9, -999.000,9, -999.000,9,-999.0000,9,  -999.00,9,   -103.1,2,      0.9,2,   -999.0,9,   -999.0,9,   -999.0,9,  -999.00,9, -999.00,     3.0,-999.0000,-999.000, -999.00,  -999.0,  4.5656,-999.000
    31DSCG94_2,  P18S,    83,  1,    117,   1119,2,19940322,0735,-28.0000,-103.0000, 3352,    995.9,   4.2214,  34.3756,2,  34.3801,3,    148.7,2,    148.0,2,    45.24,2,    35.64,2,     0.00,2,     2.64,3,    0.037,2,    0.021,2, -999.000,9, -999.000,9, -999.000,9,-999.0000,9,  -999.00,9,   -125.2,2,      0.6,2,   -999.0,9,   1235.9,2,   -999.0,9,  -999.00,9,   20.00,     2.9,-999.0000,-999.000, -999.00,  -999.0,  4.1446,-999.000
    31DSCG94_2,  P18S,    83,  1,    116,   1036,2,19940322,0735,-28.0000,-103.0000, 3352,   1099.6,   3.8305,  34.4328,2,  34.4320,2,    133.9,2,    131.9,2,    60.27,2,    37.19,2,     0.00,2,     2.74,3,    0.003,2,    0.002,2, -999.000,9, -999.000,9, -999.000,9,-999.0000,9,  -999.00,9,   -156.7,2,      0.5,2,   -999.0,9,   -999.0,9,   -999.0,9,  -999.00,9, -999.00,     3.0,-999.0000,-999.000, -999.00,  -999.0,  3.7480,-999.000
    31DSCG94_2,  P18S,    83,  1,    115,   1017,2,19940322,0735,-28.0000,-103.0000, 3352,   1201.3,   3.5485,  34.4867,2,  34.4884,2,    121.8,2,    121.8,2,    73.79,2,    37.90,2,     0.00,2,     2.80,3,   -0.007,2,   -0.003,2, -999.000,9, -999.000,9, -999.000,9,-999.0000,9,  -999.00,9,   -182.6,2,      0.4,2,   -999.0,9,   -999.0,9,   -999.0,9,  -999.00,9, -999.00,     3.3,-999.0000,-999.000, -999.00,  -999.0,  3.4600,-999.000
    31DSCG94_2,  P18S,    83,  1,    114,   1016,2,19940322,0735,-28.0000,-103.0000, 3352,   1302.0,   3.3536,  34.5151,2,  34.5167,2,    124.3,2,    123.2,2,    79.88,2,    37.63,2,     0.00,2,     2.77,3,   -0.005,2,   -0.003,2, -999.000,9, -999.000,9, -999.000,9,-999.0000,9,  -999.00,9,   -999.0,9,   -999.0,9,   -999.0,9,   -999.0,9,   -999.0,9,  -999.00,9, -999.00,  -999.0,-999.0000,-999.000, -999.00,  -999.0,  3.2585,-999.000
    31DSCG94_2,  P18S,    83,  1,    113,   1209,2,19940322,0735,-28.0000,-103.0000, 3352,   1401.9,   2.9950,  34.5397,2,-999.0000,5,    131.9,2,   -999.0,9,  -999.00,9,  -999.00,9,  -999.00,9,  -999.00,9,   -0.005,2,   -0.003,2, -999.000,9, -999.000,9, -999.000,9,-999.0000,9,  -999.00,9,   -999.0,9,   -999.0,9,   -999.0,9,   -999.0,9,   -999.0,9,  -999.00,9, -999.00,  -999.0,-999.0000,-999.000, -999.00,  -999.0,  2.8954,-999.000
    31DSCG94_2,  P18S,    83,  1,    112,   1033,2,19940322,0735,-28.0000,-103.0000, 3352,   1501.2,   2.7441,  34.5598,2,  34.5588,2,    140.9,2,    143.9,2,    89.25,2,    35.87,2,     0.00,2,     2.63,3, -999.000,5, -999.000,5, -999.000,9, -999.000,9, -999.000,9,-999.0000,9,  -999.00,9,   -999.0,9,   -999.0,9,   -999.0,9,   -999.0,9,   -999.0,9,  -999.00,9, -999.00,  -999.0,-999.0000,-999.000, -999.00,  -999.0,  2.6392,-999.000
    31DSCG94_2,  P18S,    83,  1,    111,   1263,2,19940322,0735,-28.0000,-103.0000, 3352,   1600.7,   2.5103,  34.5803,2,  34.5793,2,    147.2,2,    151.0,2,    92.50,2,    35.34,2,     0.00,2,     2.60,3,   -0.003,2,   -0.003,2, -999.000,9, -999.000,9, -999.000,9,-999.0000,9,  -999.00,9,   -192.6,2,      0.4,2,   -999.0,9,   -999.0,9,   -999.0,9,  -999.00,9, -999.00,     3.2,-999.0000,-999.000, -999.00,  -999.0,  2.4000,-999.000
    31DSCG94_2,  P18S,    83,  1,    110,   1005,2,19940322,0735,-28.0000,-103.0000, 3352,   1699.7,   2.3509,  34.5993,2,  34.6063,3,    151.3,2,    153.9,2,    97.00,2,    35.37,2,     0.00,2,     2.61,3, -999.000,9, -999.000,9, -999.000,9, -999.000,9, -999.000,9,-999.0000,9,  -999.00,9,   -999.0,9,   -999.0,9,   -999.0,9,   -999.0,9,   -999.0,9,  -999.00,9, -999.00,  -999.0,-999.0000,-999.000, -999.00,  -999.0,  2.2345,-999.000
    31DSCG94_2,  P18S,    83,  1,    109,   1611,2,19940322,0735,-28.0000,-103.0000, 3352,   1798.7,   2.2239,  34.6161,2,  34.6156,2,    152.2,2,    154.7,2,   103.14,2,    35.12,2,     0.00,2,     2.60,3,   -0.007,2,   -0.003,2, -999.000,9, -999.000,9, -999.000,9,-999.0000,9,  -999.00,9,   -999.0,9,   -999.0,9,   -999.0,9,   -999.0,9,   -999.0,9,  -999.00,9, -999.00,  -999.0,-999.0000,-999.000, -999.00,  -999.0,  2.1009,-999.000
    31DSCG94_2,  P18S,    83,  1,    108,   1218,2,19940322,0735,-28.0000,-103.0000, 3352,   2002.0,   2.0381,  34.6390,2,  34.6388,2,    153.7,2,    155.6,2,   112.29,2,    35.01,2,     0.00,2,     2.59,3, -999.000,9, -999.000,9, -999.000,9, -999.000,9, -999.000,9,-999.0000,9,  -999.00,9,   -194.9,2,      0.3,2,   -999.0,9,   -999.0,9,   -999.0,9,  -999.00,9, -999.00,     7.4,-999.0000,-999.000, -999.00,  -999.0,  1.9009,-999.000
    31DSCG94_2,  P18S,    83,  1,    107,   1257,2,19940322,0735,-28.0000,-103.0000, 3352,   2248.3,   1.9122,  34.6549,2,  34.6545,2,    155.8,2,    156.9,2,   118.87,2,    34.72,2,     0.00,2,     2.57,3,   -0.008,2,   -0.003,2, -999.000,9, -999.000,9, -999.000,9,-999.0000,9,  -999.00,9,   -999.0,9,   -999.0,9,   -999.0,9,   -999.0,9,   -999.0,9,  -999.00,9, -999.00,  -999.0,-999.0000,-999.000, -999.00,  -999.0,  1.7559,-999.000
    31DSCG94_2,  P18S,    83,  1,    106,   1224,2,19940322,0735,-28.0000,-103.0000, 3352,   2498.2,   1.8593,  34.6638,2,  34.6628,2,    158.4,2,    158.1,2,   120.61,2,    34.84,2,     0.00,2,     2.53,3, -999.000,9, -999.000,9, -999.000,9, -999.000,9, -999.000,9,-999.0000,9,  -999.00,9,   -212.0,2,      0.2,2,   -999.0,9,   -999.0,9,   -999.0,9,  -999.00,9, -999.00,     2.9,-999.0000,-999.000, -999.00,  -999.0,  1.6817,-999.000
    31DSCG94_2,  P18S,    83,  1,    105,   1246,2,19940322,0735,-28.0000,-103.0000, 3352,   2750.7,   1.8490,  34.6684,2,  34.6733,3,    161.2,2,    159.9,2,   119.39,2,    34.73,2,     0.00,2,     2.51,3,   -0.004,2,   -0.003,2, -999.000,9, -999.000,9, -999.000,9,-999.0000,9,  -999.00,9,   -999.0,9,   -999.0,9,   -999.0,9,   -999.0,9,   -999.0,9,  -999.00,9, -999.00,  -999.0,-999.0000,-999.000, -999.00,  -999.0,  1.6483,-999.000
    31DSCG94_2,  P18S,    83,  1,    104,   1217,2,19940322,0735,-28.0000,-103.0000, 3352,   3000.0,   1.8465,  34.6739,2,  34.6744,2,    163.4,2,    161.4,6,   118.01,2,    34.38,2,     0.00,2,     2.49,3, -999.000,9, -999.000,9, -999.000,9, -999.000,9, -999.000,9,-999.0000,9,  -999.00,9,   -207.3,2,      0.3,2,   -999.0,9,   -999.0,9,   -999.0,9,  -999.00,9, -999.00,     4.5,-999.0000,-999.000, -999.00,  -999.0,  1.6220,-999.000
    31DSCG94_2,  P18S,    83,  1,    102,   1223,2,19940322,0735,-28.0000,-103.0000, 3352,   3245.3,   1.8446,  34.6798,2,  34.6786,2,    165.8,2,    163.2,2,   116.29,2,    34.41,2,     0.00,2,     2.52,3, -999.000,9, -999.000,9, -999.000,9, -999.000,9, -999.000,9,-999.0000,9,  -999.00,9,   -204.0,2,      0.3,2,   -999.0,9,   -999.0,9,   -999.0,9,  -999.00,9, -999.00,     4.0,-999.0000,-999.000, -999.00,  -999.0,  1.5958,-999.000
    31DSCG94_2,  P18S,    83,  1,    103,   9999,2,19940322,0735,-28.0000,-103.0000, 3352,   3248.5,   1.8454,  34.6796,2,  34.6797,2,    166.1,2,    162.8,2,   116.72,2,    34.34,2,     0.00,2,     2.48,3,   -0.008,2,   -0.003,2, -999.000,9, -999.000,9, -999.000,9,-999.0000,9,  -999.00,9,   -999.0,9,   -999.0,9,   -999.0,9,   -999.0,9,   -999.0,9,  -999.00,9, -999.00,  -999.0,-999.0000,-999.000, -999.00,  -999.0,  1.5963,-999.000
    31DSCG94_2,  P18S,    83,  1,    101,   1041,2,19940322,0735,-28.0000,-103.0000, 3352,   3382.0,   1.8541,  34.6806,2,  34.6801,2,    166.2,2,    163.5,2,   115.84,2,    34.37,2,     0.00,2,     2.54,3, -999.000,9, -999.000,9, -999.000,9, -999.000,9, -999.000,9,-999.0000,9,  -999.00,9,   -201.0,2,      0.3,2,   -999.0,9,   -999.0,9,   -999.0,9,  -999.00,9, -999.00,     3.1,-999.0000,-999.000, -999.00,  -999.0,  1.5912,-999.000