BOTTLE,20220630CCHSIOAMB
EXPOCODE,SECT_ID,STNNBR,CASTNO,SAMPNO,BTLNBR,BTLNBR_FLAG_W,DATE,TIME,LATITUDE,LONGITUDE,DEPTH,CTDPRS,CTDTMP,CTDSAL,CTDSAL_FLAG_W,SALNTY,SALNTY_FLAG_W,CTDOXY,CTDOXY_FLAG_W,OXYGEN,OXYGEN_FLAG_W,SILCAT,SILCAT_FLAG_W,NITRAT,NITRAT_FLAG_W,NITRIT,NITRIT_FLAG_W,PHSPHT,PHSPHT_FLAG_W,CFC-11,CFC-11_FLAG_W,CFC-12,CFC-12_FLAG_W,CFC113,CFC113_FLAG_W,CCL4,CCL4_FLAG_W,TRITUM,TRITUM_FLAG_W,HELIUM,HELIUM_FLAG_W,DELHE3,DELHE3_FLAG_W,DELC14,DELC14_FLAG_W,DELC13,DELC13_FLAG_W,TCARBN,TCARBN_FLAG_W,PCO2,PCO2_FLAG_W,ALKALI,ALKALI_FLAG_W,PH,PH_FLAG_W,PCO2TMP,C14ERR,HELIER,DELHER,PH_TMP,C13ERR,THETA,TRITER
,,,,,,,,,,,,DBAR,ITS-90,PSS-78,,PSS-78,,UMOL/KG,,UMOL/KG,,UMOL/KG,,UMOL/KG,,UMOL/KG,,UMOL/KG,,PMOL/KG,,PMOL/KG,,PMOL/KG,,PMOL/KG,,TU,,NMOL/KG,,PERCNT,,/MILLE,,/MILLE,,UMOL/KG,,UATM,,UMOL/KG,,,,DEG C,/MILLE,NMOL/KG,PERCNT,DEG C,/MILLE,DEG C,TU
    31DSCG94_2,  P18S,    23,  3,    336,   1025,2,19940303,2125,-60.5150,-102.9517, 5198,      9.1,   5.6972,  34.0790,2,  34.0806,2,    297.0,2,   -999.0,9,     4.30,2,    19.33,2,     0.18,2,     1.39,2, -999.000,9, -999.000,9, -999.000,9, -999.000,9, -999.000,9,-999.0000,9,  -999.00,9,   -999.0,9,   -999.0,9,   -999.0,9,    607.3,2,   -999.0,9,     7.81,2,   20.00,  -999.0,-999.0000,-999.000,   25.00,  -999.0,  5.6965,-999.000
    31DSCG94_2,  P18S,    23,  3,    335,   1247,2,19940303,2125,-60.5150,-102.9517, 5198,     25.4,   5.6996,  34.0811,2,  34.0814,2,    298.9,2,    299.0,2,     4.36,2,    18.81,2,     0.19,2,     1.41,2, -999.000,9, -999.000,9, -999.000,9, -999.000,9, -999.000,9,-999.0000,9,  -999.00,9,   -999.0,9,   -999.0,9,   -999.0,9,    610.4,2,   -999.0,9,     7.69,2,   20.00,  -999.0,-999.0000,-999.000,   25.00,  -999.0,  5.6976,-999.000
    31DSCG94_2,  P18S,    23,  3,    334,   1108,2,19940303,2125,-60.5150,-102.9517, 5198,     48.6,   5.6975,  34.0805,2,  34.0812,2,    299.2,2,    299.1,2,     4.22,2,    19.20,2,     0.19,2,     1.42,2, -999.000,9, -999.000,9, -999.000,9, -999.000,9, -999.000,9,-999.0000,9,  -999.00,9,   -999.0,9,   -999.0,9,   -999.0,9,    610.8,2,   -999.0,9,     7.81,2,   20.00,  -999.0,-999.0000,-999.000,   25.00,  -999.0,  5.6936,-999.000
    31DSCG94_2,  P18S,    23,  3,    333,   1244,2,19940303,2125,-60.5150,-102.9517, 5198,     75.9,   5.6776,  34.0928,2,  34.0934,2,    298.3,2,    298.8,2,     4.36,2,    19.11,2,     0.19,2,     1.43,2, -999.000,9, -999.000,9, -999.000,9, -999.000,9, -999.000,9,-999.0000,9,  -999.00,9,   -999.0,9,   -999.0,9,   -999.0,9,    612.2,2,   -999.0,9,     7.81,2,   20.00,  -999.0,-999.0000,-999.000,   25.00,  -999.0,  5.6715,-999.000
    31DSCG94_2,  P18S,    23,  3,    332,   1003,2,19940303,2125,-60.5150,-102.9517, 5198,     99.7,   4.4725,  34.1474,2,  34.1485,2,    300.1,2,    296.9,2,    10.04,2,    22.38,2,     0.53,2,     1.64,2, -999.000,9, -999.000,9, -999.000,9, -999.000,9, -999.000,9,-999.0000,9,  -999.00,9,   -999.0,9,   -999.0,9,   2127.5,2,    705.8,2,   2277.0,2,     7.75,2,   20.00,  -999.0,-999.0000,-999.000,   25.00,  -999.0,  4.4654,-999.000
    31DSCG94_2,  P18S,    23,  3,    331,   1211,2,19940303,2125,-60.5150,-102.9517, 5198,    150.7,   4.3830,  34.1497,2,  34.1495,2,    295.5,2,    299.0,2,    10.79,2,    22.98,2,     0.00,2,     1.62,2, -999.000,9, -999.000,9, -999.000,9, -999.000,9, -999.000,9,-999.0000,9,  -999.00,9,   -999.0,9,   -999.0,9,   -999.0,9,    702.1,2,   -999.0,9,     7.76,2,   20.00,  -999.0,-999.0000,-999.000,   25.00,  -999.0,  4.3723,-999.000
    31DSCG94_2,  P18S,    23,  3,    330,   1241,2,19940303,2125,-60.5150,-102.9517, 5198,    198.8,   4.2733,  34.1493,2,  34.1505,2,    295.8,2,    297.2,2,    11.32,2,    23.42,2,     0.00,2,     1.64,2, -999.000,9, -999.000,9, -999.000,9, -999.000,9, -999.000,9,-999.0000,9,  -999.00,9,   -999.0,9,   -999.0,9,   2127.9,2,    705.7,2,   2280.0,2,     7.75,2,   20.00,  -999.0,-999.0000,-999.000,   25.00,  -999.0,  4.2591,-999.000
    31DSCG94_2,  P18S,    23,  3,    329,   1031,2,19940303,2125,-60.5150,-102.9517, 5198,    296.8,   3.9738,  34.1383,2,  34.1394,2,    295.4,2,    294.7,2,    12.32,2,    22.48,2,     0.00,2,     1.68,2, -999.000,9, -999.000,9, -999.000,9, -999.000,9, -999.000,9,-999.0000,9,  -999.00,9,   -999.0,9,   -999.0,9,   -999.0,9,    728.8,2,   2278.0,2,     7.74,2,   20.00,  -999.0,-999.0000,-999.000,   25.00,  -999.0,  3.9532,-999.000
    31DSCG94_2,  P18S,    23,  3,    328,   1210,2,19940303,2125,-60.5150,-102.9517, 5198,    399.3,   3.4099,  34.1154,2,  34.1167,2,    280.5,2,    281.9,2,    17.22,2,    25.74,2,     0.00,2,     1.84,2, -999.000,9, -999.000,9, -999.000,9, -999.000,9, -999.000,9,-999.0000,9,  -999.00,9,   -999.0,9,   -999.0,9,   2148.9,2,    785.4,2,   2282.0,2,     7.71,2,   20.00,  -999.0,-999.0000,-999.000,   25.00,  -999.0,  3.3836,-999.000
    31DSCG94_2,  P18S,    23,  3,    327,   1008,2,19940303,2125,-60.5150,-102.9517, 5198,    499.4,   3.3593,  34.1681,2,  34.1676,2,    258.9,2,    258.3,2,    23.79,2,    28.40,2,     0.00,2,     1.98,2, -999.000,9, -999.000,9, -999.000,9, -999.000,9, -999.000,9,-999.0000,9,  -999.00,9,   -999.0,9,   -999.0,9,   2165.1,2,    861.5,2,   -999.0,5,     7.68,2,   20.00,  -999.0,-999.0000,-999.000,   25.00,  -999.0,  3.3262,-999.000
    31DSCG94_2,  P18S,    23,  3,    326,   1007,2,19940303,2125,-60.5150,-102.9517, 5198,    601.3,   3.2420,  34.2321,2,  34.2306,2,    236.0,2,    234.6,2,    32.67,2,    30.51,2,     0.00,2,     2.07,2, -999.000,9, -999.000,9, -999.000,9, -999.000,9, -999.000,9,-999.0000,9,  -999.00,9,   -999.0,9,   -999.0,9,   2185.1,2,    954.5,2,   2290.0,2,     7.64,2,   20.00,  -999.0,-999.0000,-999.000,   25.00,  -999.0,  3.2022,-999.000
    31DSCG94_2,  P18S,    23,  3,    325,   1203,2,19940303,2125,-60.5150,-102.9517, 5198,    702.1,   3.2032,  34.3186,2,  34.3179,2,    209.4,2,    206.7,2,    44.45,2,    32.48,2,     0.00,2,     2.24,2, -999.000,9, -999.000,9, -999.000,9, -999.000,9, -999.000,9,-999.0000,9,  -999.00,9,   -999.0,9,   -999.0,9,   2207.9,2,   1043.4,2,   2304.0,2,     7.60,2,   20.00,  -999.0,-999.0000,-999.000,   25.00,  -999.0,  3.1563,-999.000
    31DSCG94_2,  P18S,    23,  3,    323,   1101,2,19940303,2125,-60.5150,-102.9517, 5198,    802.2,   2.9496,  34.3735,2,  34.3737,2,    195.5,2,    193.9,2,    51.93,2,    33.57,2,     0.00,2,     2.31,2, -999.000,9, -999.000,9, -999.000,9, -999.000,9, -999.000,9,-999.0000,9,  -999.00,9,   -999.0,9,   -999.0,9,   2221.6,2,   1106.9,2,   2314.0,2,     7.59,2,   20.00,  -999.0,-999.0000,-999.000,   25.00,  -999.0,  2.8969,-999.000
    31DSCG94_2,  P18S,    23,  3,    321,   1206,2,19940303,2125,-60.5150,-102.9517, 5198,    898.8,   2.7929,  34.4222,2,  34.4215,2,    186.1,2,    185.4,2,    58.68,2,    33.64,2,     0.00,2,     2.38,2, -999.000,9, -999.000,9, -999.000,9, -999.000,9, -999.000,9,-999.0000,9,  -999.00,9,   -999.0,9,   -999.0,9,   2232.3,2,   1126.6,2,   2320.0,2,     7.58,2,   20.00,  -999.0,-999.0000,-999.000,   25.00,  -999.0,  2.7342,-999.000
    31DSCG94_2,  P18S,    23,  3,    319,   1248,2,19940303,2125,-60.5150,-102.9517, 5198,    999.0,   2.6441,  34.4711,2,  34.4723,2,    178.8,2,    179.0,2,    64.88,2,    34.02,2,     0.00,2,     2.39,2, -999.000,9, -999.000,9, -999.000,9, -999.000,9, -999.000,9,-999.0000,9,  -999.00,9,   -999.0,9,   -999.0,9,   2240.2,2,   1160.0,2,   2326.5,2,     7.57,2,   20.00,  -999.0,-999.0000,-999.000,   25.00,  -999.0,  2.5791,-999.000
    31DSCG94_2,  P18S,    23,  3,    318,   1207,2,19940303,2125,-60.5150,-102.9517, 5198,   1197.0,   2.4388,  34.5592,2,  34.5588,2,    172.6,2,    172.2,2,    76.63,2,    34.03,2,     0.00,2,     2.35,2, -999.000,9, -999.000,9, -999.000,9, -999.000,9, -999.000,9,-999.0000,9,  -999.00,9,   -999.0,9,   -999.0,9,   -999.0,9,   -999.0,9,   -999.0,9,     7.56,2, -999.00,  -999.0,-999.0000,-999.000,   25.00,  -999.0,  2.3608,-999.000
    31DSCG94_2,  P18S,    23,  3,    317,   1119,2,19940303,2125,-60.5150,-102.9517, 5198,   1398.0,   2.3016,  34.6202,2,  34.6199,2,    171.1,2,    172.6,2,    82.02,2,    33.33,2,     0.00,2,     2.32,2, -999.000,9, -999.000,9, -999.000,9, -999.000,9, -999.000,9,-999.0000,9,  -999.00,9,   -999.0,9,   -999.0,9,   -999.0,9,   -999.0,9,   -999.0,9,     7.57,2, -999.00,  -999.0,-999.0000,-999.000,   25.00,  -999.0,  2.2097,-999.000
    31DSCG94_2,  P18S,    23,  3,    316,   1036,2,19940303,2125,-60.5150,-102.9517, 5198,   1596.7,   2.1949,  34.6679,2,  34.6679,2,    174.1,2,    175.5,2,    85.39,2,    32.81,2,     0.00,2,     2.26,2, -999.000,9, -999.000,9, -999.000,9, -999.000,9, -999.000,9,-999.0000,9,  -999.00,9,   -999.0,9,   -999.0,9,   -999.0,9,   -999.0,9,   -999.0,9,     7.58,2, -999.00,  -999.0,-999.0000,-999.000,   25.00,  -999.0,  2.0885,-999.000
    31DSCG94_2,  P18S,    23,  3,    315,   1017,3,19940303,2125,-60.5150,-102.9517, 5198,   1798.9,   2.0876,  34.6989,2,-999.0000,9,    178.2,2,   -999.0,9,  -999.00,9,  -999.00,9,  -999.00,9,  -999.00,9, -999.000,9, -999.000,9, -999.000,9, -999.000,9, -999.000,9,-999.0000,9,  -999.00,9,   -999.0,9,   -999.0,9,   -999.0,9,   -999.0,9,   -999.0,9,  -999.00,9, -999.00,  -999.0,-999.0000,-999.000, -999.00,  -999.0,  1.9663,-999.000
    31DSCG94_2,  P18S,    23,  3,    314,   1016,2,19940303,2125,-60.5150,-102.9517, 5198,   1995.1,   1.9345,  34.7195,2,  34.7195,2,    182.3,2,    186.9,2,    92.21,2,    30.86,2,     0.00,2,     2.19,2, -999.000,9, -999.000,9, -999.000,9, -999.000,9, -999.000,9,-999.0000,9,  -999.00,9,   -999.0,9,   -999.0,9,   -999.0,9,   1096.1,2,   -999.0,9,     7.60,2,   20.00,  -999.0,-999.0000,-999.000,   25.00,  -999.0,  1.7992,-999.000
    31DSCG94_2,  P18S,    23,  3,    313,   1118,2,19940303,2125,-60.5150,-102.9517, 5198,   2209.1,   1.7370,  34.7254,2,  34.7255,2,    187.6,2,    187.9,2,    99.86,2,    31.20,2,     0.00,2,     2.18,2, -999.000,9, -999.000,9, -999.000,9, -999.000,9, -999.000,9,-999.0000,9,  -999.00,9,   -999.0,9,   -999.0,9,   -999.0,9,   -999.0,9,   -999.0,9,     7.60,2, -999.00,  -999.0,-999.0000,-999.000,   25.00,  -999.0,  1.5867,-999.000
    31DSCG94_2,  P18S,    23,  3,    312,   1033,2,19940303,2125,-60.5150,-102.9517, 5198,   2501.3,   1.5378,  34.7252,2,  34.7251,2,    189.8,2,    191.1,2,   106.44,2,    31.59,2,     0.00,2,     2.19,2, -999.000,9, -999.000,9, -999.000,9, -999.000,9, -999.000,9,-999.0000,9,  -999.00,9,   -999.0,9,   -999.0,9,   -999.0,9,   -999.0,9,   -999.0,9,     7.61,2, -999.00,  -999.0,-999.0000,-999.000,   25.00,  -999.0,  1.3657,-999.000
    31DSCG94_2,  P18S,    23,  3,    311,   1263,2,19940303,2125,-60.5150,-102.9517, 5198,   2749.5,   1.3971,  34.7244,2,  34.7232,2,    193.5,2,    195.1,6,   109.34,2,    31.59,2,     0.00,2,     2.18,2, -999.000,9, -999.000,9, -999.000,9, -999.000,9, -999.000,9,-999.0000,9,  -999.00,9,   -999.0,9,   -999.0,9,   -999.0,9,   -999.0,9,   -999.0,9,     7.61,2, -999.00,  -999.0,-999.0000,-999.000,   25.00,  -999.0,  1.2055,-999.000
    31DSCG94_2,  P18S,    23,  3,    310,   1005,2,19940303,2125,-60.5150,-102.9517, 5198,   2999.2,   1.2509,  34.7212,2,  34.7213,2,    196.6,2,    198.1,2,   113.67,2,    31.69,2,     0.00,2,     2.19,2, -999.000,9, -999.000,9, -999.000,9, -999.000,9, -999.000,9,-999.0000,9,  -999.00,9,   -999.0,9,   -999.0,9,   -999.0,9,   1070.1,2,   -999.0,9,     7.61,2,   20.00,  -999.0,-999.0000,-999.000,   25.00,  -999.0,  1.0394,-999.000
    31DSCG94_2,  P18S,    23,  3,    309,   1611,2,19940303,2125,-60.5150,-102.9517, 5198,   3248.2,   1.1077,  34.7173,2,  34.7162,2,    199.9,2,    199.8,2,   118.17,2,    31.75,2,     0.00,2,     2.19,2, -999.000,9, -999.000,9, -999.000,9, -999.000,9, -999.000,9,-999.0000,9,  -999.00,9,   -999.0,9,   -999.0,9,   -999.0,9,   -999.0,9,   -999.0,9,     7.61,2, -999.00,  -999.0,-999.0000,-999.000,   25.00,  -999.0,  0.8759,-999.000
    31DSCG94_2,  P18S,    23,  3,    308,   1218,2,19940303,2125,-60.5150,-102.9517, 5198,   3496.9,   0.9830,  34.7133,2,  34.7121,2,    202.4,2,    204.0,2,   122.71,2,    32.06,2,     0.00,2,     2.20,2, -999.000,9, -999.000,9, -999.000,9, -999.000,9, -999.000,9,-999.0000,9,  -999.00,9,   -999.0,9,   -999.0,9,   -999.0,9,   -999.0,9,   -999.0,9,     7.61,2, -999.00,  -999.0,-999.0000,-999.000,   25.00,  -999.0,  0.7300,-999.000
    31DSCG94_2,  P18S,    23,  3,    307,   1257,2,19940303,2125,-60.5150,-102.9517, 5198,   3749.6,   0.8389,  34.7096,2,  34.7096,2,    205.3,2,    206.0,6,   127.54,2,    32.01,2,     0.00,2,     2.22,2, -999.000,9, -999.000,9, -999.000,9, -999.000,9, -999.000,9,-999.0000,9,  -999.00,9,   -999.0,9,   -999.0,9,   -999.0,9,   -999.0,9,   -999.0,9,     7.61,2, -999.00,  -999.0,-999.0000,-999.000,   25.00,  -999.0,  0.5644,-999.000
    31DSCG94_2,  P18S,    23,  3,    306,   1224,2,19940303,2125,-60.5150,-102.9517, 5198,   3999.7,   0.6728,  34.7056,2,  34.7044,2,    208.5,2,    209.1,2,   131.41,2,    32.22,2,     0.00,2,     2.21,2, -999.000,9, -999.000,9, -999.000,9, -999.000,9, -999.000,9,-999.0000,9,  -999.00,9,   -999.0,9,   -999.0,9,   -999.0,9,   1077.0,6,   -999.0,9,     7.60,2,   20.00,  -999.0,-999.0000,-999.000,   25.00,  -999.0,  0.3772,-999.000
    31DSCG94_2,  P18S,    23,  3,    305,   1246,2,19940303,2125,-60.5150,-102.9517, 5198,   4246.9,   0.5630,  34.7043,2,  34.7039,2,    211.1,2,    211.5,2,   133.45,2,    32.34,2,     0.00,2,     2.21,2, -999.000,9, -999.000,9, -999.000,9, -999.000,9, -999.000,9,-999.0000,9,  -999.00,9,   -999.0,9,   -999.0,9,   -999.0,9,   -999.0,9,   -999.0,9,     7.60,2, -999.00,  -999.0,-999.0000,-999.000,   25.00,  -999.0,  0.2445,-999.000
    31DSCG94_2,  P18S,    23,  3,    304,   1028,2,19940303,2125,-60.5150,-102.9517, 5198,   4499.8,   0.4760,  34.7036,2,  34.7022,2,    213.1,2,    213.6,2,   135.12,2,    32.19,2,     0.00,2,     2.22,2, -999.000,9, -999.000,9, -999.000,9, -999.000,9, -999.000,9,-999.0000,9,  -999.00,9,   -999.0,9,   -999.0,9,   -999.0,9,   -999.0,9,   -999.0,9,     7.60,2, -999.00,  -999.0,-999.0000,-999.000,   25.00,  -999.0,  0.1329,-999.000
    31DSCG94_2,  P18S,    23,  3,    303,   9999,2,19940303,2125,-60.5150,-102.9517, 5198,   4741.7,   0.4463,  34.7028,2,  34.7017,2,    215.0,2,    214.5,2,   133.16,2,    32.02,2,     0.00,2,     2.24,2, -999.000,9, -999.000,9, -999.000,9, -999.000,9, -999.000,9,-999.0000,9,  -999.00,9,   -999.0,9,   -999.0,9,   -999.0,9,   -999.0,9,   -999.0,9,  -999.00,9, -999.00,  -999.0,-999.0000,-999.000, -999.00,  -999.0,  0.0773,-999.000
    31DSCG94_2,  P18S,    23,  3,    302,   1223,2,19940303,2125,-60.5150,-102.9517, 5198,   4994.2,   0.4496,  34.7027,2,  34.7015,2,    215.5,2,    214.8,2,   133.64,2,    31.99,2,     0.00,2,     2.23,2, -999.000,9, -999.000,9, -999.000,9, -999.000,9, -999.000,9,-999.0000,9,  -999.00,9,   -999.0,9,   -999.0,9,   -999.0,9,   -999.0,9,   -999.0,9,     7.60,2, -999.00,  -999.0,-999.0000,-999.000,   25.00,  -999.0,  0.0516,-999.000
    31DSCG94_2,  P18S,    23,  3,    301,   1041,2,19940303,2125,-60.5150,-102.9517, 5198,   5230.3,   0.4687,  34.7026,2,  34.7015,2,    215.6,2,    214.7,2,   134.58,2,    32.25,2,     0.00,2,     2.24,2, -999.000,9, -999.000,9, -999.000,9, -999.000,9, -999.000,9,-999.0000,9,  -999.00,9,   -999.0,9,   -999.0,9,   -999.0,9,   1085.1,2,   -999.0,9,     7.60,2,   20.00,  -999.0,-999.0000,-999.000,   25.00,  -999.0,  0.0423,-999.000