BOTTLE,20220630CCHSIOAMB
EXPOCODE,SECT_ID,STNNBR,CASTNO,SAMPNO,BTLNBR,BTLNBR_FLAG_W,DATE,TIME,LATITUDE,LONGITUDE,DEPTH,CTDPRS,CTDTMP,CTDSAL,CTDSAL_FLAG_W,SALNTY,SALNTY_FLAG_W,CTDOXY,CTDOXY_FLAG_W,OXYGEN,OXYGEN_FLAG_W,SILCAT,SILCAT_FLAG_W,NITRAT,NITRAT_FLAG_W,NITRIT,NITRIT_FLAG_W,PHSPHT,PHSPHT_FLAG_W,CFC-11,CFC-11_FLAG_W,CFC-12,CFC-12_FLAG_W,CFC113,CFC113_FLAG_W,CCL4,CCL4_FLAG_W,TRITUM,TRITUM_FLAG_W,HELIUM,HELIUM_FLAG_W,DELHE3,DELHE3_FLAG_W,DELC14,DELC14_FLAG_W,DELC13,DELC13_FLAG_W,TCARBN,TCARBN_FLAG_W,PCO2,PCO2_FLAG_W,ALKALI,ALKALI_FLAG_W,PH,PH_FLAG_W,PCO2TMP,C14ERR,HELIER,DELHER,PH_TMP,C13ERR,THETA,TRITER
,,,,,,,,,,,,DBAR,ITS-90,PSS-78,,PSS-78,,UMOL/KG,,UMOL/KG,,UMOL/KG,,UMOL/KG,,UMOL/KG,,UMOL/KG,,PMOL/KG,,PMOL/KG,,PMOL/KG,,PMOL/KG,,TU,,NMOL/KG,,PERCNT,,/MILLE,,/MILLE,,UMOL/KG,,UATM,,UMOL/KG,,,,DEG C,/MILLE,NMOL/KG,PERCNT,DEG C,/MILLE,DEG C,TU
    31DSCG94_2,  P18S,    67,  1,    124,    435,2,19940317,2307,-35.9940,-102.9923, 3700,     13.9,  20.1550,  34.1165,2,-999.0000,5,    232.6,2,    229.9,2,  -999.00,9,  -999.00,9,  -999.00,9,  -999.00,9, -999.000,9, -999.000,9, -999.000,9, -999.000,9, -999.000,9,-999.0000,9,  -999.00,9,   -999.0,9,   -999.0,9,   -999.0,9,    373.5,2,   -999.0,9,  -999.00,9,   20.00,  -999.0,-999.0000,-999.000, -999.00,  -999.0, 20.1524,-999.000
    31DSCG94_2,  P18S,    67,  1,    123,    421,2,19940317,2307,-35.9940,-102.9923, 3700,     25.4,  20.1560,  34.1148,2,-999.0000,5,    230.4,2,    230.0,2,  -999.00,9,  -999.00,9,  -999.00,9,  -999.00,9, -999.000,9, -999.000,9, -999.000,9, -999.000,9, -999.000,9,-999.0000,9,  -999.00,9,   -999.0,9,   -999.0,9,   2000.4,2,    372.9,2,   -999.0,5,  -999.00,9,   20.00,  -999.0,-999.0000,-999.000, -999.00,  -999.0, 20.1513,-999.000
    31DSCG94_2,  P18S,    67,  1,    122,    418,2,19940317,2307,-35.9940,-102.9923, 3700,     49.6,  16.3161,  34.0230,2,-999.0000,5,    253.2,2,    270.6,2,  -999.00,9,  -999.00,9,  -999.00,9,  -999.00,9, -999.000,9, -999.000,9, -999.000,9, -999.000,9, -999.000,9,-999.0000,9,  -999.00,9,    114.6,2,      2.0,2,   -999.0,9,    398.6,2,   -999.0,9,  -999.00,9,   20.00,     3.7,-999.0000,-999.000, -999.00,  -999.0, 16.3082,-999.000
    31DSCG94_2,  P18S,    67,  1,    121,    413,3,19940317,2307,-35.9940,-102.9923, 3700,     77.1,  14.2589,  34.0827,2,-999.0000,9,    264.2,2,   -999.0,9,  -999.00,9,  -999.00,9,  -999.00,9,  -999.00,9, -999.000,9, -999.000,9, -999.000,9, -999.000,9, -999.000,9,-999.0000,9,  -999.00,9,   -999.0,9,   -999.0,9,   -999.0,9,   -999.0,9,   -999.0,9,  -999.00,9, -999.00,  -999.0,-999.0000,-999.000, -999.00,  -999.0, 14.2477,-999.000
    31DSCG94_2,  P18S,    67,  1,    120,    405,2,19940317,2307,-35.9940,-102.9923, 3700,     98.8,  13.1506,  34.0371,2,  34.0489,2,    259.3,2,    264.4,2,     1.05,2,     4.09,2,     0.11,2,     0.53,2, -999.000,9, -999.000,9, -999.000,9, -999.000,9, -999.000,9,-999.0000,9,  -999.00,9,     94.4,2,      1.9,2,   -999.0,9,    429.5,2,   -999.0,9,     7.93,2,   20.00,     4.0,-999.0000,-999.000,   25.00,  -999.0, 13.1371,-999.000
    31DSCG94_2,  P18S,    67,  1,    119,    417,2,19940317,2307,-35.9940,-102.9923, 3700,    199.8,  10.1169,  34.3167,2,  34.3190,2,    236.7,2,    228.6,2,     2.10,2,    14.16,2,     0.01,2,     1.09,2, -999.000,9, -999.000,9, -999.000,9, -999.000,9, -999.000,9,-999.0000,9,  -999.00,9,     87.0,2,      1.5,2,   -999.0,9,    608.1,2,   -999.0,9,     7.81,2,   20.00,     8.1,-999.0000,-999.000,   25.00,  -999.0, 10.0937,-999.000
    31DSCG94_2,  P18S,    67,  1,    118,    429,2,19940317,2307,-35.9940,-102.9923, 3700,    300.4,   7.7415,  34.3193,2,  34.3199,2,    235.2,2,    233.0,2,     4.77,2,    20.08,2,     0.00,2,     1.44,2, -999.000,9, -999.000,9, -999.000,9, -999.000,9, -999.000,9,-999.0000,9,  -999.00,9,     41.6,2,      1.4,2,   -999.0,9,    705.7,2,   -999.0,9,     7.75,2,   20.00,     3.2,-999.0000,-999.000,   25.00,  -999.0,  7.7118,-999.000
    31DSCG94_2,  P18S,    67,  1,    117,    427,2,19940317,2307,-35.9940,-102.9923, 3700,    402.3,   6.6575,  34.3322,2,  34.3327,2,    249.0,2,    245.2,2,     7.08,2,    21.98,2,     0.00,2,     1.54,2, -999.000,9, -999.000,9, -999.000,9, -999.000,9, -999.000,9,-999.0000,9,  -999.00,9,     34.4,2,      1.6,2,   -999.0,9,    733.5,3,   -999.0,9,     7.74,2,   20.00,     3.7,-999.0000,-999.000,   25.00,  -999.0,  6.6207,-999.000
    31DSCG94_2,  P18S,    67,  1,    116,    410,2,19940317,2307,-35.9940,-102.9923, 3700,    493.5,   6.2310,  34.3171,2,  34.3222,3,    251.8,2,    249.5,2,     7.94,2,    22.56,2,     0.00,2,     1.57,2, -999.000,9, -999.000,9, -999.000,9, -999.000,9, -999.000,9,-999.0000,9,  -999.00,9,     12.3,2,      1.4,2,   -999.0,9,    730.6,2,   -999.0,9,     7.74,2,   20.00,     6.0,-999.0000,-999.000,   25.00,  -999.0,  6.1872,-999.000
    31DSCG94_2,  P18S,    67,  1,    115,    422,2,19940317,2307,-35.9940,-102.9923, 3700,    598.8,   5.8425,  34.2933,2,  34.2950,2,    250.2,2,    250.4,2,     9.41,2,    23.69,2,     0.00,2,     1.66,2, -999.000,9, -999.000,9, -999.000,9, -999.000,9, -999.000,9,-999.0000,9,  -999.00,9,   -999.0,9,   -999.0,5,   -999.0,9,    748.5,3,   -999.0,9,     7.73,2,   20.00,  -999.0,-999.0000,-999.000,   25.00,  -999.0,  5.7907,-999.000
    31DSCG94_2,  P18S,    67,  1,    114,    407,2,19940317,2307,-35.9940,-102.9923, 3700,    697.1,   5.4443,  34.2732,2,  34.2742,2,    245.4,2,    245.5,2,    11.46,2,    25.06,2,     0.00,2,     1.78,2, -999.000,9, -999.000,9, -999.000,9, -999.000,9, -999.000,9,-999.0000,9,  -999.00,9,    -10.2,2,      1.4,2,   -999.0,9,    771.7,2,   -999.0,9,     7.72,2,   20.00,     3.6,-999.0000,-999.000,   25.00,  -999.0,  5.3856,-999.000
    31DSCG94_2,  P18S,    67,  1,    113,    419,2,19940317,2307,-35.9940,-102.9923, 3700,    797.9,   5.0755,  34.2658,2,  34.2666,2,    234.1,2,    234.1,2,    15.21,2,    27.06,2,     0.00,2,     1.90,2, -999.000,9, -999.000,9, -999.000,9, -999.000,9, -999.000,9,-999.0000,9,  -999.00,9,    -49.0,2,      1.3,2,   -999.0,9,    828.5,3,   -999.0,9,     7.69,2,   20.00,     3.1,-999.0000,-999.000,   25.00,  -999.0,  5.0100,-999.000
    31DSCG94_2,  P18S,    67,  1,    112,    426,2,19940317,2307,-35.9940,-102.9923, 3700,    886.5,   4.6475,  34.2717,2,  34.2718,2,    221.7,2,    218.5,2,    21.53,2,    29.59,2,     0.01,2,     2.04,2, -999.000,9, -999.000,9, -999.000,9, -999.000,9, -999.000,9,-999.0000,9,  -999.00,9,    -65.5,2,      1.1,2,   -999.0,9,    897.3,2,   -999.0,9,     7.66,2,   20.00,     4.7,-999.0000,-999.000,   25.00,  -999.0,  4.5771,-999.000
    31DSCG94_2,  P18S,    67,  1,    111,    424,2,19940317,2307,-35.9940,-102.9923, 3700,    990.8,   4.2033,  34.2997,2,  34.3011,2,    202.9,2,    199.7,2,    30.82,2,    30.98,2,     0.00,2,     2.19,2, -999.000,9, -999.000,9, -999.000,9, -999.000,9, -999.000,9,-999.0000,9,  -999.00,9,    -99.5,2,      1.0,2,   -999.0,9,    994.4,2,   -999.0,9,     7.63,2,   20.00,     3.4,-999.0000,-999.000,   25.00,  -999.0,  4.1272,-999.000
    31DSCG94_2,  P18S,    67,  1,    110,    409,2,19940317,2307,-35.9940,-102.9923, 3700,   1199.8,   3.4841,  34.4062,2,  34.4045,2,    159.9,2,    156.5,2,    55.15,2,    35.46,2,     0.00,2,     2.49,2, -999.000,9, -999.000,9, -999.000,9, -999.000,9, -999.000,9,-999.0000,9,  -999.00,9,   -145.9,2,      0.6,2,   -999.0,9,   -999.0,9,   -999.0,9,     7.55,2, -999.00,     4.9,-999.0000,-999.000,   25.00,  -999.0,  3.3964,-999.000
    31DSCG94_2,  P18S,    67,  1,    109,    423,2,19940317,2307,-35.9940,-102.9923, 3700,   1394.6,   3.1193,  34.5014,2,  34.5015,2,    134.0,2,    132.5,2,    76.06,2,    37.66,2,     0.00,2,     2.67,2, -999.000,9, -999.000,9, -999.000,9, -999.000,9, -999.000,9,-999.0000,9,  -999.00,9,   -999.0,9,   -999.0,9,   -999.0,9,   -999.0,9,   -999.0,9,     7.52,2, -999.00,  -999.0,-999.0000,-999.000,   25.00,  -999.0,  3.0190,-999.000
    31DSCG94_2,  P18S,    67,  1,    108,    414,2,19940317,2307,-35.9940,-102.9923, 3700,   1696.8,   2.5751,  34.5784,2,  34.5803,2,    142.2,2,    144.4,2,    89.77,2,    35.86,2,     0.00,2,     2.59,2, -999.000,9, -999.000,9, -999.000,9, -999.000,9, -999.000,9,-999.0000,9,  -999.00,9,   -193.9,2,      0.3,2,   -999.0,9,   -999.0,9,   -999.0,9,     7.55,2, -999.00,     3.9,-999.0000,-999.000,   25.00,  -999.0,  2.4560,-999.000
    31DSCG94_2,  P18S,    67,  1,    107,    437,2,19940317,2307,-35.9940,-102.9923, 3700,   1999.7,   2.2204,  34.6310,2,  34.6314,2,    155.6,2,    157.4,2,    97.82,2,    34.83,2,     0.00,2,     2.45,2, -999.000,9, -999.000,9, -999.000,9, -999.000,9, -999.000,9,-999.0000,9,  -999.00,9,   -205.2,2,      0.3,2,   -999.0,9,   -999.0,9,   -999.0,9,     7.57,2, -999.00,     5.0,-999.0000,-999.000,   25.00,  -999.0,  2.0806,-999.000
    31DSCG94_2,  P18S,    67,  1,    106,    416,2,19940317,2307,-35.9940,-102.9923, 3700,   2295.0,   1.9422,  34.6679,2,  34.6685,2,    162.0,2,    162.6,2,   109.16,2,    34.32,2,     0.00,2,     2.39,2, -999.000,9, -999.000,9, -999.000,9, -999.000,9, -999.000,9,-999.0000,9,  -999.00,9,   -201.5,2,      0.3,2,   -999.0,9,   -999.0,9,   -999.0,9,     7.58,2, -999.00,     6.3,-999.0000,-999.000,   25.00,  -999.0,  1.7812,-999.000
    31DSCG94_2,  P18S,    67,  1,    105,    420,2,19940317,2307,-35.9940,-102.9923, 3700,   2599.1,   1.8052,  34.6791,2,  34.6785,2,    164.8,2,    164.3,2,   114.88,2,    34.22,2,     0.00,2,     2.38,2, -999.000,9, -999.000,9, -999.000,9, -999.000,9, -999.000,9,-999.0000,9,  -999.00,9,   -205.5,2,      0.3,2,   -999.0,9,   -999.0,9,   -999.0,9,     7.59,2, -999.00,     3.4,-999.0000,-999.000,   25.00,  -999.0,  1.6194,-999.000
    31DSCG94_2,  P18S,    67,  1,    104,    436,2,19940317,2307,-35.9940,-102.9923, 3700,   2896.6,   1.7442,  34.6848,2,  34.6850,2,    168.1,2,    167.8,2,   115.30,2,    34.10,2,     0.00,2,     2.43,2, -999.000,9, -999.000,9, -999.000,9, -999.000,9, -999.000,9,-999.0000,9,  -999.00,9,   -207.4,2,      0.3,2,   -999.0,9,   -999.0,9,   -999.0,9,     7.59,2, -999.00,     2.4,-999.0000,-999.000,   25.00,  -999.0,  1.5319,-999.000
    31DSCG94_2,  P18S,    67,  1,    103,    425,2,19940317,2307,-35.9940,-102.9923, 3700,   3197.7,   1.7010,  34.6883,2,  34.6880,2,    171.3,2,    171.1,2,   114.88,2,    33.93,2,     0.00,2,     2.42,2, -999.000,9, -999.000,9, -999.000,9, -999.000,9, -999.000,9,-999.0000,9,  -999.00,9,   -999.0,9,   -999.0,5,   -999.0,9,   -999.0,9,   -999.0,9,     7.59,2, -999.00,  -999.0,-999.0000,-999.000,   25.00,  -999.0,  1.4603,-999.000
    31DSCG94_2,  P18S,    67,  1,    102,    433,2,19940317,2307,-35.9940,-102.9923, 3700,   3396.1,   1.6288,  34.6933,2,  34.6940,2,    176.3,2,    174.7,2,   115.44,2,    33.88,2,     0.00,2,     2.40,2, -999.000,9, -999.000,9, -999.000,9, -999.000,9, -999.000,9,-999.0000,9,  -999.00,9,   -185.6,2,      0.3,2,   -999.0,9,   -999.0,9,   -999.0,9,  -999.00,9, -999.00,     6.1,-999.0000,-999.000, -999.00,  -999.0,  1.3699,-999.000
    31DSCG94_2,  P18S,    67,  1,    101,    403,2,19940317,2307,-35.9940,-102.9923, 3700,   3648.3,   1.5405,  34.6984,2,  34.6983,2,    181.2,2,    177.8,2,   118.15,2,    33.84,2,     0.00,2,     2.33,2, -999.000,9, -999.000,9, -999.000,9, -999.000,9, -999.000,9,-999.0000,9,  -999.00,9,   -193.6,2,      0.3,2,   -999.0,9,   -999.0,9,   -999.0,9,     7.60,2, -999.00,     3.0,-999.0000,-999.000,   25.00,  -999.0,  1.2579,-999.000