BOTTLE,20220630CCHSIOAMB
EXPOCODE,SECT_ID,STNNBR,CASTNO,SAMPNO,BTLNBR,BTLNBR_FLAG_W,DATE,TIME,LATITUDE,LONGITUDE,DEPTH,CTDPRS,CTDTMP,CTDSAL,CTDSAL_FLAG_W,SALNTY,SALNTY_FLAG_W,CTDOXY,CTDOXY_FLAG_W,OXYGEN,OXYGEN_FLAG_W,SILCAT,SILCAT_FLAG_W,NITRAT,NITRAT_FLAG_W,NITRIT,NITRIT_FLAG_W,PHSPHT,PHSPHT_FLAG_W,CFC-11,CFC-11_FLAG_W,CFC-12,CFC-12_FLAG_W,CFC113,CFC113_FLAG_W,CCL4,CCL4_FLAG_W,TRITUM,TRITUM_FLAG_W,HELIUM,HELIUM_FLAG_W,DELHE3,DELHE3_FLAG_W,DELC14,DELC14_FLAG_W,DELC13,DELC13_FLAG_W,TCARBN,TCARBN_FLAG_W,PCO2,PCO2_FLAG_W,ALKALI,ALKALI_FLAG_W,PH,PH_FLAG_W,PCO2TMP,C14ERR,HELIER,DELHER,PH_TMP,C13ERR,THETA,TRITER
,,,,,,,,,,,,DBAR,ITS-90,PSS-78,,PSS-78,,UMOL/KG,,UMOL/KG,,UMOL/KG,,UMOL/KG,,UMOL/KG,,UMOL/KG,,PMOL/KG,,PMOL/KG,,PMOL/KG,,PMOL/KG,,TU,,NMOL/KG,,PERCNT,,/MILLE,,/MILLE,,UMOL/KG,,UATM,,UMOL/KG,,,,DEG C,/MILLE,NMOL/KG,PERCNT,DEG C,/MILLE,DEG C,TU
    31DSCG94_3,  P18N,   114,  1,    136,   1025,2,19940405,0648,-12.5017,-103.0022, 4201,      9.1,  26.1838,  35.7295,2,  35.7291,2,    212.0,2,    206.4,2,     1.95,2,     2.74,2,     0.03,2,     0.42,2,    1.795,2,    1.034,2, -999.000,9, -999.000,9, -999.000,9,-999.0000,9,  -999.00,9,   -999.0,9,   -999.0,9,   2019.4,2,    297.7,2,   2357.0,6,     8.08,2,   20.00,  -999.0,-999.0000,-999.000,   25.00,  -999.0, 26.1818,-999.000
    31DSCG94_3,  P18N,   114,  1,    135,   1247,2,19940405,0648,-12.5017,-103.0022, 4201,     25.8,  26.1715,  35.7292,2,  35.7294,2,    210.6,2,    206.4,2,     1.81,2,     3.03,2,     0.02,2,     0.41,2,    1.811,2,    1.011,2, -999.000,9, -999.000,9, -999.000,9,-999.0000,9,  -999.00,9,   -999.0,9,   -999.0,9,   -999.0,9,   -999.0,9,   -999.0,9,     8.08,2, -999.00,  -999.0,-999.0000,-999.000,   25.00,  -999.0, 26.1657,-999.000
    31DSCG94_3,  P18N,   114,  1,    134,   1216,2,19940405,0648,-12.5017,-103.0022, 4201,     50.3,  24.2327,  35.9843,2,  36.0525,3,    219.9,2,    214.0,2,     1.46,2,     0.24,2,     0.00,2,     0.29,2, -999.000,9, -999.000,9, -999.000,9, -999.000,9, -999.000,9,-999.0000,9,  -999.00,9,   -999.0,9,   -999.0,9,   2040.1,3,    299.7,3,   2380.0,2,     8.08,2,   20.00,  -999.0,-999.0000,-999.000,   25.00,  -999.0, 24.2220,-999.000
    31DSCG94_3,  P18N,   114,  1,    133,   1244,2,19940405,0648,-12.5017,-103.0022, 4201,     73.4,  22.1446,  36.1597,2,  36.1588,2,    217.9,2,    221.3,2,     1.29,2,     0.04,2,     0.00,2,     0.30,2,    2.132,2,    1.179,2, -999.000,9, -999.000,9, -999.000,9,-999.0000,9,  -999.00,9,   -999.0,9,   -999.0,9,   -999.0,9,   -999.0,9,   -999.0,9,     8.06,2, -999.00,  -999.0,-999.0000,-999.000,   25.00,  -999.0, 22.1299,-999.000
    31DSCG94_3,  P18N,   114,  1,    132,   1003,2,19940405,0648,-12.5017,-103.0022, 4201,     99.5,  21.0260,  35.9711,2,  35.9794,2,    205.6,2,    204.8,2,     1.35,2,     0.57,2,     0.75,2,     0.45,2, -999.000,9, -999.000,9, -999.000,9, -999.000,9, -999.000,9,-999.0000,9,  -999.00,9,   -999.0,9,   -999.0,9,   2079.0,2,    359.1,2,   2377.0,2,     8.02,2,   20.00,  -999.0,-999.0000,-999.000,   25.00,  -999.0, 21.0068,-999.000
    31DSCG94_3,  P18N,   114,  1,    131,   1211,2,19940405,0648,-12.5017,-103.0022, 4201,    124.5,  19.3815,  35.6397,2,  35.6521,2,    195.3,2,    192.9,2,     1.56,2,     3.16,2,     0.04,2,     0.59,2,    2.297,6,    1.240,6, -999.000,9, -999.000,9, -999.000,9,-999.0000,9,  -999.00,9,   -999.0,9,   -999.0,9,   -999.0,9,   -999.0,9,   -999.0,9,     7.96,2, -999.00,  -999.0,-999.0000,-999.000,   25.00,  -999.0, 19.3590,-999.000
    31DSCG94_3,  P18N,   114,  1,    130,   1241,2,19940405,0648,-12.5017,-103.0022, 4201,    150.6,  18.3780,  35.4411,2,  35.4457,2,    187.2,2,    184.0,2,     2.29,2,     5.28,2,     0.00,2,     0.73,2, -999.000,9, -999.000,9, -999.000,9, -999.000,9, -999.000,9,-999.0000,9,  -999.00,9,   -999.0,9,   -999.0,9,   -999.0,9,   -999.0,9,   -999.0,9,     7.93,2, -999.00,  -999.0,-999.0000,-999.000,   25.00,  -999.0, 18.3517,-999.000
    31DSCG94_3,  P18N,   114,  1,    129,   1240,2,19940405,0648,-12.5017,-103.0022, 4201,    199.2,  13.2327,  34.8406,2,  34.8387,2,     49.8,2,     16.8,2,    17.16,2,    21.52,2,     0.01,2,     2.38,2,    0.910,6,    0.493,6, -999.000,9, -999.000,9, -999.000,9,-999.0000,9,  -999.00,9,   -999.0,9,   -999.0,9,   2238.1,2,   1401.2,2,   2298.0,2,     7.49,2,   20.00,  -999.0,-999.0000,-999.000,   25.00,  -999.0, 13.2050,-999.000
    31DSCG94_3,  P18N,   114,  1,    128,   1032,2,19940405,0648,-12.5017,-103.0022, 4201,    248.3,  11.6121,  34.7632,2,  34.7637,2,     15.2,2,      5.6,2,    24.01,2,    26.33,2,     0.00,2,     2.59,2, -999.000,9, -999.000,9, -999.000,9, -999.000,9, -999.000,9,-999.0000,9,  -999.00,9,   -999.0,9,   -999.0,9,   -999.0,9,   -999.0,9,   -999.0,9,     7.43,2, -999.00,  -999.0,-999.0000,-999.000,   25.00,  -999.0, 11.5804,-999.000
    31DSCG94_3,  P18N,   114,  1,    127,   1008,2,19940405,0648,-12.5017,-103.0022, 4201,    298.2,  10.6731,  34.7497,2,  34.7481,2,     16.0,2,     10.6,2,    26.68,2,    31.52,2,     0.00,2,     2.55,2,    0.096,2,    0.056,2, -999.000,9, -999.000,9, -999.000,9,-999.0000,9,  -999.00,9,   -999.0,9,   -999.0,9,   2260.4,2,   1622.8,2,   2304.0,2,     7.43,2,   20.00,  -999.0,-999.0000,-999.000,   25.00,  -999.0, 10.6370,-999.000
    31DSCG94_3,  P18N,   114,  1,    126,   1007,3,19940405,0648,-12.5017,-103.0022, 4201,    349.0,   9.8273,  34.7163,2,  34.7175,2,     20.5,2,     20.6,2,    29.71,2,    34.17,2,     0.01,2,     2.55,2, -999.000,9, -999.000,9, -999.000,9, -999.000,9, -999.000,9,-999.0000,9,  -999.00,9,   -999.0,9,   -999.0,9,   -999.0,9,   -999.0,9,   -999.0,9,  -999.00,9, -999.00,  -999.0,-999.0000,-999.000, -999.00,  -999.0,  9.7871,-999.000
    31DSCG94_3,  P18N,   114,  1,    125,   1203,2,19940405,0648,-12.5017,-103.0022, 4201,    396.6,   9.2539,  34.6846,2,  34.6892,2,     26.0,2,     26.2,2,    31.19,2,    35.55,2,     0.00,2,     2.57,2,    0.037,2,    0.016,2, -999.000,9, -999.000,9, -999.000,9,-999.0000,9,  -999.00,9,   -999.0,9,   -999.0,9,   2261.2,2,   1602.1,2,   2310.0,2,     7.44,2,   20.00,  -999.0,-999.0000,-999.000,   25.00,  -999.0,  9.2097,-999.000
    31DSCG94_3,  P18N,   114,  1,    123,   1220,2,19940405,0648,-12.5017,-103.0022, 4201,    499.3,   8.1587,  34.6247,2,  34.6227,2,     29.3,2,     30.7,2,    37.14,2,    39.03,2,     0.05,4,     2.71,2,    0.009,2,   -0.002,2, -999.000,9, -999.000,9, -999.000,9,-999.0000,9,  -999.00,9,   -999.0,9,   -999.0,9,   2268.2,2,   1679.8,2,   2303.0,2,     7.42,2,   20.00,  -999.0,-999.0000,-999.000,   25.00,  -999.0,  8.1069,-999.000
    31DSCG94_3,  P18N,   114,  1,    122,   1245,2,19940405,0648,-12.5017,-103.0022, 4201,    600.1,   7.1575,  34.5723,2,  34.5712,2,     35.4,2,     35.4,2,    42.68,2,    41.08,2,     0.05,4,     2.83,2, -999.000,9, -999.000,9, -999.000,9, -999.000,9, -999.000,9,-999.0000,9,  -999.00,9,   -999.0,9,   -999.0,9,   2275.5,2,   1733.4,2,   2304.0,2,     7.41,2,   20.00,  -999.0,-999.0000,-999.000,   25.00,  -999.0,  7.0993,-999.000
    31DSCG94_3,  P18N,   114,  1,    121,   1206,2,19940405,0648,-12.5017,-103.0022, 4201,    700.7,   6.2575,  34.5341,2,  34.5337,2,     39.4,2,     42.3,6,    49.23,2,    42.70,2,     0.04,4,     2.92,2,    0.007,2,    0.000,2, -999.000,9, -999.000,9, -999.000,9,-999.0000,9,  -999.00,9,   -999.0,9,   -999.0,9,   2282.9,2,   1747.7,2,   2312.0,2,     7.40,2,   20.00,  -999.0,-999.0000,-999.000,   25.00,  -999.0,  6.1939,-999.000
    31DSCG94_3,  P18N,   114,  1,    120,   1028,2,19940405,0648,-12.5017,-103.0022, 4201,    801.6,   5.5879,  34.5195,2,  34.5178,2,     43.1,2,     45.1,2,    56.74,2,    44.09,2,     0.05,4,     3.01,2, -999.000,9, -999.000,9, -999.000,9, -999.000,9, -999.000,9,-999.0000,9,  -999.00,9,   -999.0,9,   -999.0,9,   2292.9,2,   1790.7,2,   2325.0,2,     7.40,2,   20.00,  -999.0,-999.0000,-999.000,   25.00,  -999.0,  5.5186,-999.000
    31DSCG94_3,  P18N,   114,  1,    119,   1248,2,19940405,0648,-12.5017,-103.0022, 4201,    900.5,   5.0111,  34.5196,2,  34.5190,2,     46.1,2,     49.1,2,    65.92,2,    44.46,2,     0.05,4,     3.06,2,    0.003,2,   -0.002,2, -999.000,9, -999.000,9, -999.000,9,-999.0000,9,  -999.00,9,   -999.0,9,   -999.0,9,   2300.5,2,   1798.4,2,   2328.0,2,     7.40,2,   20.00,  -999.0,-999.0000,-999.000,   25.00,  -999.0,  4.9366,-999.000
    31DSCG94_3,  P18N,   114,  1,    118,   1115,2,19940405,0648,-12.5017,-103.0022, 4201,   1002.8,   4.4701,  34.5294,2,-999.0000,5,     57.8,2,     60.5,2,    78.66,2,    44.21,2,     0.04,4,     3.10,2, -999.000,9, -999.000,9, -999.000,9, -999.000,9, -999.000,9,-999.0000,9,  -999.00,9,   -999.0,9,   -999.0,9,   2305.7,2,   1716.2,2,   2348.0,6,  -999.00,9,   20.00,  -999.0,-999.0000,-999.000, -999.00,  -999.0,  4.3906,-999.000
    31DSCG94_3,  P18N,   114,  1,    117,   1119,2,19940405,0648,-12.5017,-103.0022, 4201,   1099.3,   4.0646,  34.5424,2,  34.5415,2,     70.8,2,     73.6,2,    86.79,2,    41.84,2,     0.04,4,     2.96,2, -999.000,9, -999.000,9, -999.000,9, -999.000,9, -999.000,9,-999.0000,9,  -999.00,9,   -999.0,9,   -999.0,9,   -999.0,9,   -999.0,9,   -999.0,9,  -999.00,9, -999.00,  -999.0,-999.0000,-999.000, -999.00,  -999.0,  3.9800,-999.000
    31DSCG94_3,  P18N,   114,  1,    116,   1036,2,19940405,0648,-12.5017,-103.0022, 4201,   1203.2,   3.7159,  34.5562,2,  34.5550,2,     80.1,2,     80.4,2,    94.22,2,    41.81,2,     0.02,4,     2.93,2, -999.000,9, -999.000,9, -999.000,9, -999.000,9, -999.000,9,-999.0000,9,  -999.00,9,   -999.0,9,   -999.0,9,   -999.0,9,   -999.0,9,   -999.0,9,  -999.00,9, -999.00,  -999.0,-999.0000,-999.000, -999.00,  -999.0,  3.6255,-999.000
    31DSCG94_3,  P18N,   114,  1,    115,   1017,2,19940405,0648,-12.5017,-103.0022, 4201,   1299.6,   3.4407,  34.5690,2,  34.5674,2,     86.3,2,     85.7,2,   101.30,2,    40.75,2,     0.03,4,     2.89,2, -999.000,9, -999.000,9, -999.000,9, -999.000,9, -999.000,9,-999.0000,9,  -999.00,9,   -999.0,9,   -999.0,9,   -999.0,9,   -999.0,9,   -999.0,9,  -999.00,9, -999.00,  -999.0,-999.0000,-999.000, -999.00,  -999.0,  3.3448,-999.000
    31DSCG94_3,  P18N,   114,  1,    114,   1016,2,19940405,0648,-12.5017,-103.0022, 4201,   1399.0,   3.1995,  34.5809,2,  34.5818,2,     92.9,2,     90.9,2,   105.70,2,    40.94,2,     0.01,2,     2.84,2, -999.000,9, -999.000,9, -999.000,9, -999.000,9, -999.000,9,-999.0000,9,  -999.00,9,   -999.0,9,   -999.0,9,   -999.0,9,   -999.0,9,   -999.0,9,  -999.00,9, -999.00,  -999.0,-999.0000,-999.000, -999.00,  -999.0,  3.0979,-999.000
    31DSCG94_3,  P18N,   114,  1,    113,   1209,2,19940405,0648,-12.5017,-103.0022, 4201,   1600.6,   2.8039,  34.6027,2,  34.6023,2,    107.3,2,    103.1,2,   113.95,2,    39.85,2,     0.02,4,     2.79,2, -999.000,9, -999.000,9, -999.000,9, -999.000,9, -999.000,9,-999.0000,9,  -999.00,9,   -999.0,9,   -999.0,9,   -999.0,9,   -999.0,9,   -999.0,9,  -999.00,9, -999.00,  -999.0,-999.0000,-999.000, -999.00,  -999.0,  2.6899,-999.000
    31DSCG94_3,  P18N,   114,  1,    112,   1033,2,19940405,0648,-12.5017,-103.0022, 4201,   1801.8,   2.5196,  34.6201,2,  34.6182,2,    116.5,2,    110.9,2,   121.55,2,    38.79,2,     0.01,2,     2.72,2, -999.000,9, -999.000,9, -999.000,9, -999.000,9, -999.000,9,-999.0000,9,  -999.00,9,   -999.0,9,   -999.0,9,   -999.0,9,   -999.0,9,   -999.0,9,  -999.00,9, -999.00,  -999.0,-999.0000,-999.000, -999.00,  -999.0,  2.3923,-999.000
    31DSCG94_3,  P18N,   114,  1,    111,   1240,2,19940405,0648,-12.5017,-103.0022, 4201,   2002.0,   2.2693,  34.6367,2,  34.6349,2,    124.2,2,    120.4,2,   128.77,2,    38.15,2,     0.01,2,     2.66,2, -999.000,9, -999.000,9, -999.000,9, -999.000,9, -999.000,9,-999.0000,9,  -999.00,9,   -999.0,9,   -999.0,9,   -999.0,9,   -999.0,9,   -999.0,9,  -999.00,9, -999.00,  -999.0,-999.0000,-999.000, -999.00,  -999.0,  2.1285,-999.000
    31DSCG94_3,  P18N,   114,  1,    110,   1005,2,19940405,0648,-12.5017,-103.0022, 4201,   2250.5,   2.0186,  34.6551,2,  34.6526,2,    132.1,2,    128.4,2,   133.76,2,    36.36,2,     0.01,2,     2.59,2, -999.000,9, -999.000,9, -999.000,9, -999.000,9, -999.000,9,-999.0000,9,  -999.00,9,   -999.0,9,   -999.0,9,   -999.0,9,   -999.0,9,   -999.0,9,  -999.00,9, -999.00,  -999.0,-999.0000,-999.000, -999.00,  -999.0,  1.8603,-999.000
    31DSCG94_3,  P18N,   114,  1,    109,   1611,2,19940405,0648,-12.5017,-103.0022, 4201,   2501.7,   1.8569,  34.6676,2,  34.6663,2,    141.3,2,    137.7,2,   134.55,2,    36.85,2,     0.00,2,     2.53,2, -999.000,9, -999.000,9, -999.000,9, -999.000,9, -999.000,9,-999.0000,9,  -999.00,9,   -999.0,9,   -999.0,9,   -999.0,9,   -999.0,9,   -999.0,9,  -999.00,9, -999.00,  -999.0,-999.0000,-999.000, -999.00,  -999.0,  1.6790,-999.000
    31DSCG94_3,  P18N,   114,  1,    108,   1218,2,19940405,0648,-12.5017,-103.0022, 4201,   2749.5,   1.7959,  34.6729,2,  34.6705,2,    141.5,2,    138.4,2,   137.65,2,    36.94,2,     0.00,2,     2.52,2, -999.000,9, -999.000,9, -999.000,9, -999.000,9, -999.000,9,-999.0000,9,  -999.00,9,   -999.0,9,   -999.0,9,   -999.0,9,   -999.0,9,   -999.0,9,  -999.00,9, -999.00,  -999.0,-999.0000,-999.000, -999.00,  -999.0,  1.5964,-999.000
    31DSCG94_3,  P18N,   114,  1,    107,   1257,2,19940405,0648,-12.5017,-103.0022, 4201,   3002.5,   1.7738,  34.6755,2,  34.6739,2,    140.8,2,    138.8,6,   139.34,2,    37.87,2,     0.00,2,     2.55,2,   -0.004,2,   -0.002,2, -999.000,9, -999.000,9, -999.000,9,-999.0000,9,  -999.00,9,   -999.0,9,   -999.0,9,   -999.0,9,   -999.0,9,   -999.0,9,  -999.00,9, -999.00,  -999.0,-999.0000,-999.000, -999.00,  -999.0,  1.5507,-999.000
    31DSCG94_3,  P18N,   114,  1,    106,   1224,2,19940405,0648,-12.5017,-103.0022, 4201,   3249.8,   1.7708,  34.6754,2,  34.6728,2,    139.5,2,    137.1,2,   143.01,2,    37.46,2,     0.00,2,     2.56,2, -999.000,9, -999.000,9, -999.000,9, -999.000,9, -999.000,9,-999.0000,9,  -999.00,9,   -999.0,9,   -999.0,9,   -999.0,9,   -999.0,9,   -999.0,9,  -999.00,9, -999.00,  -999.0,-999.0000,-999.000, -999.00,  -999.0,  1.5233,-999.000
    31DSCG94_3,  P18N,   114,  1,    105,   1246,2,19940405,0648,-12.5017,-103.0022, 4201,   3498.6,   1.7754,  34.6753,2,  34.6743,2,    139.0,2,    136.5,2,   146.84,2,    36.93,2,     0.00,2,     2.55,2, -999.000,9, -999.000,9, -999.000,9, -999.000,9, -999.000,9,-999.0000,9,  -999.00,9,   -999.0,9,   -999.0,9,   -999.0,9,   -999.0,9,   -999.0,9,  -999.00,9, -999.00,  -999.0,-999.0000,-999.000, -999.00,  -999.0,  1.5024,-999.000
    31DSCG94_3,  P18N,   114,  1,    104,   1217,2,19940405,0648,-12.5017,-103.0022, 4201,   3752.3,   1.7866,  34.6758,2,  34.6748,2,    138.6,2,    136.5,2,   149.90,2,    37.08,2,     0.00,2,     2.54,2, -999.000,9, -999.000,9, -999.000,9, -999.000,9, -999.000,9,-999.0000,9,  -999.00,9,   -999.0,9,   -999.0,9,   -999.0,9,   -999.0,9,   -999.0,9,  -999.00,9, -999.00,  -999.0,-999.0000,-999.000, -999.00,  -999.0,  1.4866,-999.000
    31DSCG94_3,  P18N,   114,  1,    103,   9999,2,19940405,0648,-12.5017,-103.0022, 4201,   3999.3,   1.8075,  34.6760,2,  34.6755,2,    138.9,2,    136.7,2,   150.89,2,    37.48,2,     0.00,2,     2.54,2,    0.001,2,   -0.002,2, -999.000,9, -999.000,9, -999.000,9,-999.0000,9,  -999.00,9,   -999.0,9,   -999.0,9,   -999.0,9,   -999.0,9,   -999.0,9,  -999.00,9, -999.00,  -999.0,-999.0000,-999.000, -999.00,  -999.0,  1.4800,-999.000
    31DSCG94_3,  P18N,   114,  1,    102,   1223,2,19940405,0648,-12.5017,-103.0022, 4201,   4000.0,   1.8072,  34.6762,2,  34.6751,2,    138.9,2,    137.6,2,   149.45,2,    36.66,2,     0.00,2,     2.54,2, -999.000,9, -999.000,9, -999.000,9, -999.000,9, -999.000,9,-999.0000,9,  -999.00,9,   -999.0,9,   -999.0,9,   -999.0,9,   -999.0,9,   -999.0,9,  -999.00,9, -999.00,  -999.0,-999.0000,-999.000, -999.00,  -999.0,  1.4796,-999.000
    31DSCG94_3,  P18N,   114,  1,    101,   1041,2,19940405,0648,-12.5017,-103.0022, 4201,   4222.3,   1.8329,  34.6759,2,  34.6781,3,    139.4,2,    137.0,6,   147.99,2,    37.33,2,     0.00,2,     2.54,2, -999.000,9, -999.000,9, -999.000,9, -999.000,9, -999.000,9,-999.0000,9,  -999.00,9,   -999.0,9,   -999.0,9,   -999.0,9,   -999.0,9,   -999.0,9,  -999.00,9, -999.00,  -999.0,-999.0000,-999.000, -999.00,  -999.0,  1.4796,-999.000