BOTTLE,20220630CCHSIOAMB
EXPOCODE,SECT_ID,STNNBR,CASTNO,SAMPNO,BTLNBR,BTLNBR_FLAG_W,DATE,TIME,LATITUDE,LONGITUDE,DEPTH,CTDPRS,CTDTMP,CTDSAL,CTDSAL_FLAG_W,SALNTY,SALNTY_FLAG_W,CTDOXY,CTDOXY_FLAG_W,OXYGEN,OXYGEN_FLAG_W,SILCAT,SILCAT_FLAG_W,NITRAT,NITRAT_FLAG_W,NITRIT,NITRIT_FLAG_W,PHSPHT,PHSPHT_FLAG_W,CFC-11,CFC-11_FLAG_W,CFC-12,CFC-12_FLAG_W,CFC113,CFC113_FLAG_W,CCL4,CCL4_FLAG_W,TRITUM,TRITUM_FLAG_W,HELIUM,HELIUM_FLAG_W,DELHE3,DELHE3_FLAG_W,DELC14,DELC14_FLAG_W,DELC13,DELC13_FLAG_W,TCARBN,TCARBN_FLAG_W,PCO2,PCO2_FLAG_W,ALKALI,ALKALI_FLAG_W,PH,PH_FLAG_W,PCO2TMP,C14ERR,HELIER,DELHER,PH_TMP,C13ERR,THETA,TRITER
,,,,,,,,,,,,DBAR,ITS-90,PSS-78,,PSS-78,,UMOL/KG,,UMOL/KG,,UMOL/KG,,UMOL/KG,,UMOL/KG,,UMOL/KG,,PMOL/KG,,PMOL/KG,,PMOL/KG,,PMOL/KG,,TU,,NMOL/KG,,PERCNT,,/MILLE,,/MILLE,,UMOL/KG,,UATM,,UMOL/KG,,,,DEG C,/MILLE,NMOL/KG,PERCNT,DEG C,/MILLE,DEG C,TU
    31DSCG94_3,  P18N,   104,  1,    136,   1025,2,19940402,1519,-17.4995,-103.0060, 4048,     11.6,  24.4522,  36.3870,2,  36.3861,2,    214.3,2,    210.2,2,     2.27,2,     0.10,2,     0.00,2,     0.28,2, -999.000,9, -999.000,9, -999.000,9, -999.000,9, -999.000,9,-999.0000,9,  -999.00,9,   -999.0,9,   -999.0,9,   2064.9,2,    310.9,2,   2402.0,6,     8.07,2,   20.00,  -999.0,-999.0000,-999.000,   25.00,  -999.0, 24.4498,-999.000
    31DSCG94_3,  P18N,   104,  1,    135,   1247,2,19940402,1519,-17.4995,-103.0060, 4048,     24.5,  24.3174,  36.3824,2,  36.3814,2,    211.4,2,    211.7,2,     2.47,2,     0.06,2,     0.00,2,     0.27,2, -999.000,9, -999.000,9, -999.000,9, -999.000,9, -999.000,9,-999.0000,9,  -999.00,9,   -999.0,9,   -999.0,9,   -999.0,9,   -999.0,9,   -999.0,9,     8.07,2, -999.00,  -999.0,-999.0000,-999.000,   25.00,  -999.0, 24.3121,-999.000
    31DSCG94_3,  P18N,   104,  1,    134,   1216,2,19940402,1519,-17.4995,-103.0060, 4048,     50.8,  24.1356,  36.3474,2,  36.3526,2,    211.9,2,    213.2,2,     2.30,2,     0.07,2,     0.00,2,     0.29,2, -999.000,9, -999.000,9, -999.000,9, -999.000,9, -999.000,9,-999.0000,9,  -999.00,9,   -999.0,9,   -999.0,9,   2064.0,3,    306.0,2,   2404.0,2,     8.07,2,   20.00,  -999.0,-999.0000,-999.000,   25.00,  -999.0, 24.1248,-999.000
    31DSCG94_3,  P18N,   104,  1,    133,   1244,2,19940402,1519,-17.4995,-103.0060, 4048,     73.6,  23.5350,  36.2812,2,  36.2823,2,    216.4,2,    217.2,2,     2.17,2,     0.09,2,     0.00,2,     0.27,2, -999.000,9, -999.000,9, -999.000,9, -999.000,9, -999.000,9,-999.0000,9,  -999.00,9,   -999.0,9,   -999.0,9,   2066.2,2,    314.4,2,   -999.0,9,     8.06,2,   20.00,  -999.0,-999.0000,-999.000,   25.00,  -999.0, 23.5196,-999.000
    31DSCG94_3,  P18N,   104,  1,    132,   1003,3,19940402,1519,-17.4995,-103.0060, 4048,    101.6,  22.4039,  36.2332,2,  36.2337,2,    220.6,2,   -999.0,9,     1.95,2,     0.01,2,     0.00,2,     0.27,2, -999.000,9, -999.000,9, -999.000,9, -999.000,9, -999.000,9,-999.0000,9,  -999.00,9,   -999.0,9,   -999.0,9,   -999.0,9,   -999.0,9,   2392.0,2,  -999.00,9, -999.00,  -999.0,-999.0000,-999.000, -999.00,  -999.0, 22.3835,-999.000
    31DSCG94_3,  P18N,   104,  1,    131,   1211,2,19940402,1519,-17.4995,-103.0060, 4048,    123.1,  21.9344,  36.1380,2,  36.1291,2,    216.9,2,    218.0,2,     2.25,2,     0.06,2,     0.00,2,     0.26,2, -999.000,9, -999.000,9, -999.000,9, -999.000,9, -999.000,9,-999.0000,9,  -999.00,9,   -999.0,9,   -999.0,9,   -999.0,9,   -999.0,9,   -999.0,9,     8.05,2, -999.00,  -999.0,-999.0000,-999.000,   25.00,  -999.0, 21.9100,-999.000
    31DSCG94_3,  P18N,   104,  1,    130,   1241,2,19940402,1519,-17.4995,-103.0060, 4048,    150.3,  20.8135,  35.9094,2,  35.8951,2,    211.6,2,    212.5,2,     2.07,2,     0.31,2,     0.13,2,     0.32,2, -999.000,9, -999.000,9, -999.000,9, -999.000,9, -999.000,9,-999.0000,9,  -999.00,9,   -999.0,9,   -999.0,9,   -999.0,9,   -999.0,9,   -999.0,9,     8.02,2, -999.00,  -999.0,-999.0000,-999.000,   25.00,  -999.0, 20.7848,-999.000
    31DSCG94_3,  P18N,   104,  1,    129,   1240,2,19940402,1519,-17.4995,-103.0060, 4048,    198.3,  18.7151,  35.4807,2,  35.5366,3,    202.6,2,   -999.0,9,     2.23,2,     2.18,2,     0.05,2,     0.46,2, -999.000,9, -999.000,9, -999.000,9, -999.000,9, -999.000,9,-999.0000,9,  -999.00,9,   -999.0,9,   -999.0,9,   2079.2,2,    396.2,2,   2337.0,2,  -999.00,9,   20.00,  -999.0,-999.0000,-999.000, -999.00,  -999.0, 18.6800,-999.000
    31DSCG94_3,  P18N,   104,  1,    128,   1032,2,19940402,1519,-17.4995,-103.0060, 4048,    248.6,  14.9940,  34.8786,2,  34.8860,2,    187.4,2,   -999.0,9,     3.31,2,     6.31,2,     0.00,2,     0.71,2, -999.000,9, -999.000,9, -999.000,9, -999.000,9, -999.000,9,-999.0000,9,  -999.00,9,   -999.0,9,   -999.0,9,   -999.0,9,   -999.0,9,   -999.0,9,     7.89,2, -999.00,  -999.0,-999.0000,-999.000,   25.00,  -999.0, 14.9563,-999.000
    31DSCG94_3,  P18N,   104,  1,    127,   1008,2,19940402,1519,-17.4995,-103.0060, 4048,    299.8,  11.8978,  34.5679,2,  34.5857,2,    144.4,2,    167.1,2,     9.21,2,    15.51,2,     0.00,2,     1.44,2, -999.000,9, -999.000,9, -999.000,9, -999.000,9, -999.000,9,-999.0000,9,  -999.00,9,   -999.0,9,   -999.0,9,   2143.8,2,    776.7,2,   2287.0,2,     7.72,2,   20.00,  -999.0,-999.0000,-999.000,   25.00,  -999.0, 11.8590,-999.000
    31DSCG94_3,  P18N,   104,  1,    126,   1007,3,19940402,1519,-17.4995,-103.0060, 4048,    349.7,   9.4902,  34.4808,2,  34.4798,2,    104.7,2,    103.3,2,    16.88,2,    26.02,2,     0.00,2,     2.14,2, -999.000,9, -999.000,9, -999.000,9, -999.000,9, -999.000,9,-999.0000,9,  -999.00,9,   -999.0,9,   -999.0,9,   -999.0,9,   -999.0,9,   -999.0,9,  -999.00,9, -999.00,  -999.0,-999.0000,-999.000, -999.00,  -999.0,  9.4509,-999.000
    31DSCG94_3,  P18N,   104,  1,    125,   1203,2,19940402,1519,-17.4995,-103.0060, 4048,    404.2,   8.2331,  34.4840,2,  34.4845,2,     76.7,2,     72.2,2,    22.40,2,    32.54,2,     0.00,2,     2.45,2, -999.000,9, -999.000,9, -999.000,9, -999.000,9, -999.000,9,-999.0000,9,  -999.00,9,   -999.0,9,   -999.0,9,   2236.3,2,   1481.4,2,   2283.0,2,     7.47,2,   20.00,  -999.0,-999.0000,-999.000,   25.00,  -999.0,  8.1913,-999.000
    31DSCG94_3,  P18N,   104,  1,    123,   1220,2,19940402,1519,-17.4995,-103.0060, 4048,    506.7,   6.8997,  34.4535,2,  34.4555,2,     91.7,2,     88.5,2,    27.88,2,    36.35,2,     0.00,2,     2.54,2, -999.000,9, -999.000,9, -999.000,9, -999.000,9, -999.000,9,-999.0000,9,  -999.00,9,   -999.0,9,   -999.0,9,   2240.7,2,   1461.7,2,   2289.0,2,     7.47,2,   20.00,  -999.0,-999.0000,-999.000,   25.00,  -999.0,  6.8520,-999.000
    31DSCG94_3,  P18N,   104,  1,    122,   1245,2,19940402,1519,-17.4995,-103.0060, 4048,    601.3,   6.0192,  34.4514,2,  34.4510,2,     88.5,2,     83.6,2,    37.11,2,    39.12,2,     0.00,2,     2.68,2, -999.000,9, -999.000,9, -999.000,9, -999.000,9, -999.000,9,-999.0000,9,  -999.00,9,   -999.0,9,   -999.0,9,   2255.2,2,   1527.4,2,   2298.0,2,     7.46,2,   20.00,  -999.0,-999.0000,-999.000,   25.00,  -999.0,  5.9661,-999.000
    31DSCG94_3,  P18N,   104,  1,    121,   1206,2,19940402,1519,-17.4995,-103.0060, 4048,    700.3,   5.4525,  34.4705,2,  34.4688,2,     79.9,2,     74.8,2,    48.17,2,    40.93,2,     0.00,2,     2.83,2, -999.000,9, -999.000,9, -999.000,9, -999.000,9, -999.000,9,-999.0000,9,  -999.00,9,   -999.0,9,   -999.0,9,   2272.2,2,   1609.8,2,   2309.0,2,     7.44,2,   20.00,  -999.0,-999.0000,-999.000,   25.00,  -999.0,  5.3933,-999.000
    31DSCG94_3,  P18N,   104,  1,    120,   1028,2,19940402,1519,-17.4995,-103.0060, 4048,    802.3,   4.9875,  34.4899,2,  34.4893,2,     72.0,2,     71.0,2,    59.63,2,    41.66,2,     0.00,2,     2.90,2, -999.000,9, -999.000,9, -999.000,9, -999.000,9, -999.000,9,-999.0000,9,  -999.00,9,   -999.0,9,   -999.0,9,   2286.9,2,   1651.0,2,   2326.0,2,     7.43,2,   20.00,  -999.0,-999.0000,-999.000,   25.00,  -999.0,  4.9219,-999.000
    31DSCG94_3,  P18N,   104,  1,    119,   1248,2,19940402,1519,-17.4995,-103.0060, 4048,    901.7,   4.5214,  34.5059,2,  34.5054,2,     75.3,2,     78.4,6,    69.29,2,    41.04,2,     0.00,2,     2.89,2, -999.000,9, -999.000,9, -999.000,9, -999.000,9, -999.000,9,-999.0000,9,  -999.00,9,   -999.0,9,   -999.0,9,   2293.1,2,   1607.6,2,   2333.0,2,     7.44,2,   20.00,  -999.0,-999.0000,-999.000,   25.00,  -999.0,  4.4502,-999.000
    31DSCG94_3,  P18N,   104,  1,    118,   1115,2,19940402,1519,-17.4995,-103.0060, 4048,    998.8,   4.1243,  34.5229,2,  34.5255,2,     84.7,2,     83.3,6,    77.56,2,    41.03,2,     0.00,2,     2.88,2, -999.000,9, -999.000,9, -999.000,9, -999.000,9, -999.000,9,-999.0000,9,  -999.00,9,   -999.0,9,   -999.0,9,   2300.4,2,   1575.3,2,   2343.0,6,     7.45,2,   20.00,  -999.0,-999.0000,-999.000,   25.00,  -999.0,  4.0478,-999.000
    31DSCG94_3,  P18N,   104,  1,    117,   1119,2,19940402,1519,-17.4995,-103.0060, 4048,   1098.9,   3.8382,  34.5369,2,  34.5362,2,     86.5,2,     86.1,6,    87.70,2,    40.57,2,     0.04,2,     2.86,2, -999.000,9, -999.000,9, -999.000,9, -999.000,9, -999.000,9,-999.0000,9,  -999.00,9,   -999.0,9,   -999.0,9,   -999.0,9,   -999.0,9,   -999.0,9,  -999.00,9, -999.00,  -999.0,-999.0000,-999.000, -999.00,  -999.0,  3.7555,-999.000
    31DSCG94_3,  P18N,   104,  1,    116,   1036,2,19940402,1519,-17.4995,-103.0060, 4048,   1200.4,   3.5471,  34.5527,2,  34.5514,2,     90.0,2,     89.1,2,    94.48,2,    40.60,2,     0.02,2,     2.86,2, -999.000,9, -999.000,9, -999.000,9, -999.000,9, -999.000,9,-999.0000,9,  -999.00,9,   -999.0,9,   -999.0,9,   -999.0,9,   -999.0,9,   -999.0,9,  -999.00,9, -999.00,  -999.0,-999.0000,-999.000, -999.00,  -999.0,  3.4586,-999.000
    31DSCG94_3,  P18N,   104,  1,    115,   1017,2,19940402,1519,-17.4995,-103.0060, 4048,   1299.4,   3.3105,  34.5663,2,  34.5648,2,     92.5,2,     92.8,2,    99.95,2,    40.74,2,     0.02,2,     2.85,2, -999.000,9, -999.000,9, -999.000,9, -999.000,9, -999.000,9,-999.0000,9,  -999.00,9,   -999.0,9,   -999.0,9,   -999.0,9,   -999.0,9,   -999.0,9,     7.47,2, -999.00,  -999.0,-999.0000,-999.000,   25.00,  -999.0,  3.2160,-999.000
    31DSCG94_3,  P18N,   104,  1,    114,   1016,2,19940402,1519,-17.4995,-103.0060, 4048,   1399.9,   3.0912,  34.5782,2,  34.5770,2,     97.4,2,     97.9,2,   104.75,2,    39.72,2,     0.03,2,     2.82,2, -999.000,9, -999.000,9, -999.000,9, -999.000,9, -999.000,9,-999.0000,9,  -999.00,9,   -999.0,9,   -999.0,9,   -999.0,9,   -999.0,9,   -999.0,9,  -999.00,9, -999.00,  -999.0,-999.0000,-999.000, -999.00,  -999.0,  2.9906,-999.000
    31DSCG94_3,  P18N,   104,  1,    113,   1209,2,19940402,1519,-17.4995,-103.0060, 4048,   1601.6,   2.7084,  34.6045,2,  34.6037,2,    104.0,2,    106.1,2,   116.82,2,    38.86,2,     0.02,2,     2.77,2, -999.000,9, -999.000,9, -999.000,9, -999.000,9, -999.000,9,-999.0000,9,  -999.00,9,   -999.0,9,   -999.0,9,   -999.0,9,   -999.0,9,   -999.0,9,     7.49,2, -999.00,  -999.0,-999.0000,-999.000,   25.00,  -999.0,  2.5954,-999.000
    31DSCG94_3,  P18N,   104,  1,    112,   1033,2,19940402,1519,-17.4995,-103.0060, 4048,   1800.3,   2.4269,  34.6226,2,  34.6220,2,    114.1,2,    116.4,2,   122.44,2,    38.04,2,     0.01,2,     2.68,2, -999.000,9, -999.000,9, -999.000,9, -999.000,9, -999.000,9,-999.0000,9,  -999.00,9,   -999.0,9,   -999.0,9,   -999.0,9,   -999.0,9,   -999.0,9,  -999.00,9, -999.00,  -999.0,-999.0000,-999.000, -999.00,  -999.0,  2.3011,-999.000
    31DSCG94_3,  P18N,   104,  1,    111,   1240,2,19940402,1519,-17.4995,-103.0060, 4048,   1999.3,   2.1811,  34.6393,2,  34.6384,2,    128.5,2,    132.2,2,   123.19,2,    37.12,2,     0.00,2,     2.57,2, -999.000,9, -999.000,9, -999.000,9, -999.000,9, -999.000,9,-999.0000,9,  -999.00,9,   -999.0,9,   -999.0,9,   -999.0,9,   -999.0,9,   -999.0,9,     7.54,2, -999.00,  -999.0,-999.0000,-999.000,   25.00,  -999.0,  2.0419,-999.000
    31DSCG94_3,  P18N,   104,  1,    110,   1005,2,19940402,1519,-17.4995,-103.0060, 4048,   2247.9,   1.9484,  34.6561,2,  34.6549,2,    148.2,2,    150.4,2,   121.22,2,    35.89,2,     0.00,2,     2.46,2, -999.000,9, -999.000,9, -999.000,9, -999.000,9, -999.000,9,-999.0000,9,  -999.00,9,   -999.0,9,   -999.0,9,   -999.0,9,   -999.0,9,   -999.0,9,     7.57,2, -999.00,  -999.0,-999.0000,-999.000,   25.00,  -999.0,  1.7915,-999.000
    31DSCG94_3,  P18N,   104,  1,    109,   1611,2,19940402,1519,-17.4995,-103.0060, 4048,   2501.4,   1.8501,  34.6671,2,  34.6663,2,    155.8,2,    156.0,2,   123.27,2,    35.07,2,     0.00,2,     2.43,2, -999.000,9, -999.000,9, -999.000,9, -999.000,9, -999.000,9,-999.0000,9,  -999.00,9,   -999.0,9,   -999.0,9,   -999.0,9,   -999.0,9,   -999.0,9,  -999.00,9, -999.00,  -999.0,-999.0000,-999.000, -999.00,  -999.0,  1.6723,-999.000
    31DSCG94_3,  P18N,   104,  1,    108,   1218,2,19940402,1519,-17.4995,-103.0060, 4048,   2749.1,   1.8080,  34.6750,2,  34.6734,2,    155.6,2,    155.3,2,   128.24,2,    34.85,2,     0.00,2,     2.42,2, -999.000,9, -999.000,9, -999.000,9, -999.000,9, -999.000,9,-999.0000,9,  -999.00,9,   -999.0,9,   -999.0,9,   -999.0,9,   -999.0,9,   -999.0,9,     7.58,2, -999.00,  -999.0,-999.0000,-999.000,   25.00,  -999.0,  1.6083,-999.000
    31DSCG94_3,  P18N,   104,  1,    107,   1257,2,19940402,1519,-17.4995,-103.0060, 4048,   2999.6,   1.7869,  34.6792,2,  34.6781,2,    151.1,2,    151.1,2,   133.19,2,    35.64,2,     0.00,2,     2.45,2, -999.000,9, -999.000,9, -999.000,9, -999.000,9, -999.000,9,-999.0000,9,  -999.00,9,   -999.0,9,   -999.0,9,   -999.0,9,   -999.0,9,   -999.0,9,  -999.00,9, -999.00,  -999.0,-999.0000,-999.000, -999.00,  -999.0,  1.5637,-999.000
    31DSCG94_3,  P18N,   104,  1,    106,   1224,2,19940402,1519,-17.4995,-103.0060, 4048,   3251.0,   1.7875,  34.6812,2,  34.6822,2,    149.8,2,    150.9,2,   132.85,2,    35.89,2,     0.00,2,     2.45,2, -999.000,9, -999.000,9, -999.000,9, -999.000,9, -999.000,9,-999.0000,9,  -999.00,9,   -999.0,9,   -999.0,9,   -999.0,9,   -999.0,9,   -999.0,9,     7.58,2, -999.00,  -999.0,-999.0000,-999.000,   25.00,  -999.0,  1.5395,-999.000
    31DSCG94_3,  P18N,   104,  1,    105,   1246,2,19940402,1519,-17.4995,-103.0060, 4048,   3498.6,   1.7943,  34.6837,2,  34.6825,2,    151.6,2,    152.0,2,   131.67,2,    36.10,2,     0.00,2,     2.46,2, -999.000,9, -999.000,9, -999.000,9, -999.000,9, -999.000,9,-999.0000,9,  -999.00,9,   -999.0,9,   -999.0,9,   -999.0,9,   -999.0,9,   -999.0,9,  -999.00,9, -999.00,  -999.0,-999.0000,-999.000, -999.00,  -999.0,  1.5208,-999.000
    31DSCG94_3,  P18N,   104,  1,    104,   1217,2,19940402,1519,-17.4995,-103.0060, 4048,   3748.7,   1.8095,  34.6847,2,  34.6834,2,    151.7,2,    152.4,2,   131.51,2,    36.34,2,     0.00,2,     2.44,2, -999.000,9, -999.000,9, -999.000,9, -999.000,9, -999.000,9,-999.0000,9,  -999.00,9,   -999.0,9,   -999.0,9,   -999.0,9,   -999.0,9,   -999.0,9,     7.59,2, -999.00,  -999.0,-999.0000,-999.000,   25.00,  -999.0,  1.5092,-999.000
    31DSCG94_3,  P18N,   104,  1,    103,   9999,2,19940402,1519,-17.4995,-103.0060, 4048,   3990.2,   1.8193,  34.6856,2,  34.6863,2,    154.6,2,    152.4,2,   132.80,2,    35.48,2,     0.00,2,     2.43,2, -999.000,9, -999.000,9, -999.000,9, -999.000,9, -999.000,9,-999.0000,9,  -999.00,9,   -999.0,9,   -999.0,9,   -999.0,9,   -999.0,9,   -999.0,9,  -999.00,9, -999.00,  -999.0,-999.0000,-999.000, -999.00,  -999.0,  1.4924,-999.000
    31DSCG94_3,  P18N,   104,  1,    102,   1223,2,19940402,1519,-17.4995,-103.0060, 4048,   3999.2,   1.8195,  34.6857,2,  34.6858,2,    153.3,2,    154.1,2,   132.96,2,    35.37,2,     0.00,2,     2.44,2, -999.000,9, -999.000,9, -999.000,9, -999.000,9, -999.000,9,-999.0000,9,  -999.00,9,   -999.0,9,   -999.0,9,   -999.0,9,   -999.0,9,   -999.0,9,     7.58,2, -999.00,  -999.0,-999.0000,-999.000,   25.00,  -999.0,  1.4916,-999.000
    31DSCG94_3,  P18N,   104,  1,    101,   1041,2,19940402,1519,-17.4995,-103.0060, 4048,   4090.8,   1.8278,  34.6858,2,  34.6867,2,    155.0,2,   -999.0,9,   132.09,2,    35.60,2,     0.00,2,     2.44,2, -999.000,9, -999.000,9, -999.000,9, -999.000,9, -999.000,9,-999.0000,9,  -999.00,9,   -999.0,9,   -999.0,9,   -999.0,9,   -999.0,9,   -999.0,9,  -999.00,9, -999.00,  -999.0,-999.0000,-999.000, -999.00,  -999.0,  1.4895,-999.000