BOTTLE,20220630CCHSIOAMB
EXPOCODE,SECT_ID,STNNBR,CASTNO,SAMPNO,BTLNBR,BTLNBR_FLAG_W,DATE,TIME,LATITUDE,LONGITUDE,DEPTH,CTDPRS,CTDTMP,CTDSAL,CTDSAL_FLAG_W,SALNTY,SALNTY_FLAG_W,CTDOXY,CTDOXY_FLAG_W,OXYGEN,OXYGEN_FLAG_W,SILCAT,SILCAT_FLAG_W,NITRAT,NITRAT_FLAG_W,NITRIT,NITRIT_FLAG_W,PHSPHT,PHSPHT_FLAG_W,CFC-11,CFC-11_FLAG_W,CFC-12,CFC-12_FLAG_W,CFC113,CFC113_FLAG_W,CCL4,CCL4_FLAG_W,TRITUM,TRITUM_FLAG_W,HELIUM,HELIUM_FLAG_W,DELHE3,DELHE3_FLAG_W,DELC14,DELC14_FLAG_W,DELC13,DELC13_FLAG_W,TCARBN,TCARBN_FLAG_W,PCO2,PCO2_FLAG_W,ALKALI,ALKALI_FLAG_W,PH,PH_FLAG_W,PCO2TMP,C14ERR,HELIER,DELHER,PH_TMP,C13ERR,THETA,TRITER
,,,,,,,,,,,,DBAR,ITS-90,PSS-78,,PSS-78,,UMOL/KG,,UMOL/KG,,UMOL/KG,,UMOL/KG,,UMOL/KG,,UMOL/KG,,PMOL/KG,,PMOL/KG,,PMOL/KG,,PMOL/KG,,TU,,NMOL/KG,,PERCNT,,/MILLE,,/MILLE,,UMOL/KG,,UATM,,UMOL/KG,,,,DEG C,/MILLE,NMOL/KG,PERCNT,DEG C,/MILLE,DEG C,TU
    31DSCG94_3,  P18N,   100,  1,    136,   1025,2,19940401,0617,-19.5017,-102.9917, 4117,     10.4,  24.3373,  36.2731,2,  36.2714,2,    212.9,2,    210.1,2,     1.66,2,     0.00,2,     0.08,2,     0.27,2, -999.000,9, -999.000,9, -999.000,9, -999.000,9, -999.000,9,-999.0000,9,  -999.00,9,   -999.0,9,   -999.0,9,   2071.1,2,    323.2,2,   2392.0,6,     8.05,2,   20.00,  -999.0,-999.0000,-999.000,   25.00,  -999.0, 24.3350,-999.000
    31DSCG94_3,  P18N,   100,  1,    135,   1247,2,19940401,0617,-19.5017,-102.9917, 4117,     24.5,  24.1578,  36.2548,2,  36.2529,2,    213.4,2,    211.2,2,     1.56,2,     0.00,2,     0.08,2,     0.26,2, -999.000,9, -999.000,9, -999.000,9, -999.000,9, -999.000,9,-999.0000,9,  -999.00,9,   -999.0,9,   -999.0,9,   -999.0,9,   -999.0,9,   -999.0,9,     8.05,2, -999.00,  -999.0,-999.0000,-999.000,   25.00,  -999.0, 24.1526,-999.000
    31DSCG94_3,  P18N,   100,  1,    134,   1216,2,19940401,0617,-19.5017,-102.9917, 4117,     49.5,  24.0770,  36.2501,2,  36.2500,2,    212.8,2,    211.3,2,     1.56,2,     0.00,2,     0.07,2,     0.26,2, -999.000,9, -999.000,9, -999.000,9, -999.000,9, -999.000,9,-999.0000,9,  -999.00,9,   -999.0,9,   -999.0,9,   2069.2,2,    323.5,2,   2388.0,2,  -999.00,9,   20.00,  -999.0,-999.0000,-999.000, -999.00,  -999.0, 24.0665,-999.000
    31DSCG94_3,  P18N,   100,  1,    133,   1244,2,19940401,0617,-19.5017,-102.9917, 4117,     75.7,  22.3753,  36.0060,2,  36.0142,2,    224.9,2,    226.2,2,     1.44,2,     0.00,2,     0.04,2,     0.25,2, -999.000,9, -999.000,9, -999.000,9, -999.000,9, -999.000,9,-999.0000,9,  -999.00,9,   -999.0,9,   -999.0,9,   -999.0,9,   -999.0,9,   -999.0,9,     8.05,2, -999.00,  -999.0,-999.0000,-999.000,   25.00,  -999.0, 22.3601,-999.000
    31DSCG94_3,  P18N,   100,  1,    132,   1003,2,19940401,0617,-19.5017,-102.9917, 4117,     99.8,  21.3790,  35.8999,2,  35.9008,2,    224.7,2,    228.6,2,     1.45,2,     0.00,2,     0.04,2,     0.25,2, -999.000,9, -999.000,9, -999.000,9, -999.000,9, -999.000,9,-999.0000,9,  -999.00,9,   -999.0,9,   -999.0,9,   2059.9,2,    331.1,2,   2373.0,2,     8.04,2,   20.00,  -999.0,-999.0000,-999.000,   25.00,  -999.0, 21.3596,-999.000
    31DSCG94_3,  P18N,   100,  1,    131,   1211,2,19940401,0617,-19.5017,-102.9917, 4117,    124.1,  20.9430,  35.8554,2,  35.8572,2,    223.6,2,    226.7,2,     1.36,2,     0.00,2,     0.03,2,     0.23,2, -999.000,9, -999.000,9, -999.000,9, -999.000,9, -999.000,9,-999.0000,9,  -999.00,9,   -999.0,9,   -999.0,9,   -999.0,9,   -999.0,9,   -999.0,9,     8.04,2, -999.00,  -999.0,-999.0000,-999.000,   25.00,  -999.0, 20.9192,-999.000
    31DSCG94_3,  P18N,   100,  1,    130,   1241,2,19940401,0617,-19.5017,-102.9917, 4117,    149.2,  20.4981,  35.8043,2,  35.8054,2,    222.3,2,    222.6,2,     1.27,2,     0.00,2,     0.02,2,     0.20,2, -999.000,9, -999.000,9, -999.000,9, -999.000,9, -999.000,9,-999.0000,9,  -999.00,9,   -999.0,9,   -999.0,9,   -999.0,9,   -999.0,9,   -999.0,9,     8.03,2, -999.00,  -999.0,-999.0000,-999.000,   25.00,  -999.0, 20.4699,-999.000
    31DSCG94_3,  P18N,   100,  1,    129,   1240,2,19940401,0617,-19.5017,-102.9917, 4117,    199.7,  18.9357,  35.4910,2,  35.4608,3,    221.2,2,    213.8,2,     1.29,2,     0.53,2,     0.12,2,     0.28,2, -999.000,9, -999.000,9, -999.000,9, -999.000,9, -999.000,9,-999.0000,9,  -999.00,9,   -999.0,9,   -999.0,9,   2065.0,2,    375.9,2,   2338.0,2,     7.99,2,   20.00,  -999.0,-999.0000,-999.000,   25.00,  -999.0, 18.9000,-999.000
    31DSCG94_3,  P18N,   100,  1,    128,   1032,2,19940401,0617,-19.5017,-102.9917, 4117,    247.1,  15.2177,  34.8529,2,  34.8812,3,    199.4,2,    197.4,2,     2.25,2,     5.36,2,     0.02,2,     0.61,2, -999.000,9, -999.000,9, -999.000,9, -999.000,9, -999.000,9,-999.0000,9,  -999.00,9,   -999.0,9,   -999.0,9,   -999.0,9,   -999.0,9,   -999.0,9,     7.91,2, -999.00,  -999.0,-999.0000,-999.000,   25.00,  -999.0, 15.1799,-999.000
    31DSCG94_3,  P18N,   100,  1,    126,   1007,2,19940401,0617,-19.5017,-102.9917, 4117,    297.5,  12.2358,  34.5119,2,  34.5031,2,    165.9,2,    146.9,2,     8.16,2,    15.51,2,     0.00,2,     1.40,2, -999.000,9, -999.000,9, -999.000,9, -999.000,9, -999.000,9,-999.0000,9,  -999.00,9,   -999.0,9,   -999.0,9,   -999.0,9,   -999.0,9,   -999.0,9,     7.72,2, -999.00,  -999.0,-999.0000,-999.000,   25.00,  -999.0, 12.1965,-999.000
    31DSCG94_3,  P18N,   100,  1,    127,   1008,2,19940401,0617,-19.5017,-102.9917, 4117,    297.7,  12.2745,  34.5157,2,  34.5067,2,    165.9,2,    148.5,2,     7.93,2,    14.89,2,     0.00,2,     1.38,2, -999.000,9, -999.000,9, -999.000,9, -999.000,9, -999.000,9,-999.0000,9,  -999.00,9,   -999.0,9,   -999.0,9,   2136.3,2,    734.9,2,   2278.0,2,     7.73,2,   20.00,  -999.0,-999.0000,-999.000,   25.00,  -999.0, 12.2351,-999.000
    31DSCG94_3,  P18N,   100,  1,    125,   1203,2,19940401,0617,-19.5017,-102.9917, 4117,    349.6,  10.3115,  34.5090,2,  34.5117,2,     92.4,2,     78.8,2,    18.40,2,    24.77,2,     0.00,2,     2.18,2, -999.000,9, -999.000,9, -999.000,9, -999.000,9, -999.000,9,-999.0000,9,  -999.00,9,   -999.0,9,   -999.0,9,   2211.2,2,   1260.0,2,   2278.0,2,     7.53,2,   20.00,  -999.0,-999.0000,-999.000,   25.00,  -999.0, 10.2701,-999.000
    31DSCG94_3,  P18N,   100,  1,    123,   1220,2,19940401,0617,-19.5017,-102.9917, 4117,    501.2,   6.8937,  34.4155,2,  34.4149,2,    114.7,2,    112.3,6,    24.51,2,    33.26,2,     0.00,2,     2.35,2, -999.000,9, -999.000,9, -999.000,9, -999.000,9, -999.000,9,-999.0000,9,  -999.00,9,   -999.0,9,   -999.0,9,   2219.1,2,   1296.3,2,   2285.0,2,     7.52,2,   20.00,  -999.0,-999.0000,-999.000,   25.00,  -999.0,  6.8466,-999.000
    31DSCG94_3,  P18N,   100,  1,    122,   1245,2,19940401,0617,-19.5017,-102.9917, 4117,    599.1,   6.1191,  34.4080,2,  34.4069,2,    115.6,2,    114.5,6,    31.46,2,    35.55,2,     0.00,2,     2.45,2, -999.000,9, -999.000,9, -999.000,9, -999.000,9, -999.000,9,-999.0000,9,  -999.00,9,   -999.0,9,   -999.0,9,   2225.6,2,   1323.0,2,   2291.0,2,     7.51,2,   20.00,  -999.0,-999.0000,-999.000,   25.00,  -999.0,  6.0659,-999.000
    31DSCG94_3,  P18N,   100,  1,    121,   1206,2,19940401,0617,-19.5017,-102.9917, 4117,    699.4,   5.5989,  34.4387,2,  34.4390,2,     92.2,2,     91.1,6,    45.29,2,    38.89,2,     0.00,2,     2.71,2, -999.000,9, -999.000,9, -999.000,9, -999.000,9, -999.000,9,-999.0000,9,  -999.00,9,   -999.0,9,   -999.0,9,   2252.2,2,   1480.4,2,   2300.0,2,     7.47,2,   20.00,  -999.0,-999.0000,-999.000,   25.00,  -999.0,  5.5390,-999.000
    31DSCG94_3,  P18N,   100,  1,    120,   1028,2,19940401,0617,-19.5017,-102.9917, 4117,    799.6,   5.0317,  34.4630,2,  34.4623,2,     91.4,2,     86.1,2,    59.20,2,    40.22,2,     0.00,2,     2.80,2, -999.000,9, -999.000,9, -999.000,9, -999.000,9, -999.000,9,-999.0000,9,  -999.00,9,   -999.0,9,   -999.0,9,   2269.1,2,   1529.8,2,   2314.0,2,     7.46,2,   20.00,  -999.0,-999.0000,-999.000,   25.00,  -999.0,  4.9661,-999.000
    31DSCG94_3,  P18N,   100,  1,    119,   1248,2,19940401,0617,-19.5017,-102.9917, 4117,    899.0,   4.6130,  34.4971,2,  34.4964,2,     85.9,2,     81.2,2,    74.03,2,    41.14,2,     0.00,2,     2.89,2, -999.000,9, -999.000,9, -999.000,9, -999.000,9, -999.000,9,-999.0000,9,  -999.00,9,   -999.0,9,   -999.0,9,   2284.8,2,   1564.7,2,   2335.0,6,     7.45,2,   20.00,  -999.0,-999.0000,-999.000,   25.00,  -999.0,  4.5414,-999.000
    31DSCG94_3,  P18N,   100,  1,    118,   1207,3,19940401,0617,-19.5017,-102.9917, 4117,    993.1,   4.2656,  34.5127,2,-999.0000,5,     85.1,2,   -999.0,9,  -999.00,9,  -999.00,9,  -999.00,9,  -999.00,9, -999.000,9, -999.000,9, -999.000,9, -999.000,9, -999.000,9,-999.0000,9,  -999.00,9,   -999.0,9,   -999.0,9,   -999.0,9,   -999.0,9,   -999.0,9,  -999.00,9, -999.00,  -999.0,-999.0000,-999.000, -999.00,  -999.0,  4.1884,-999.000
    31DSCG94_3,  P18N,   100,  1,    117,   1119,2,19940401,0617,-19.5017,-102.9917, 4117,   1098.1,   3.8998,  34.5320,2,  34.5316,2,     85.2,2,     85.2,2,    82.24,2,    41.13,2,     0.02,2,     2.93,2, -999.000,9, -999.000,9, -999.000,9, -999.000,9, -999.000,9,-999.0000,9,  -999.00,9,   -999.0,9,   -999.0,9,   -999.0,9,   -999.0,9,   -999.0,9,     7.46,2, -999.00,  -999.0,-999.0000,-999.000,   25.00,  -999.0,  3.8167,-999.000
    31DSCG94_3,  P18N,   100,  1,    116,   1036,2,19940401,0617,-19.5017,-102.9917, 4117,   1198.5,   3.5644,  34.5469,2,  34.5463,2,     94.7,2,     95.4,2,    88.85,2,    40.55,2,     0.02,2,     2.85,2, -999.000,9, -999.000,9, -999.000,9, -999.000,9, -999.000,9,-999.0000,9,  -999.00,9,   -999.0,9,   -999.0,9,   -999.0,9,   -999.0,9,   -999.0,9,     7.47,2, -999.00,  -999.0,-999.0000,-999.000,   25.00,  -999.0,  3.4759,-999.000
    31DSCG94_3,  P18N,   100,  1,    115,   1017,2,19940401,0617,-19.5017,-102.9917, 4117,   1298.3,   3.3155,  34.5609,2,  34.5597,2,     97.5,2,     99.0,2,    94.40,2,    40.54,2,     0.02,2,     2.84,2, -999.000,9, -999.000,9, -999.000,9, -999.000,9, -999.000,9,-999.0000,9,  -999.00,9,   -999.0,9,   -999.0,9,   -999.0,9,   -999.0,9,   -999.0,9,     7.48,2, -999.00,  -999.0,-999.0000,-999.000,   25.00,  -999.0,  3.2210,-999.000
    31DSCG94_3,  P18N,   100,  1,    114,   1016,2,19940401,0617,-19.5017,-102.9917, 4117,   1398.9,   3.0942,  34.5742,2,  34.5739,2,    101.2,2,    101.4,2,   100.29,2,    40.02,2,     0.02,2,     2.82,2, -999.000,9, -999.000,9, -999.000,9, -999.000,9, -999.000,9,-999.0000,9,  -999.00,9,   -999.0,9,   -999.0,9,   -999.0,9,   -999.0,9,   -999.0,9,     7.49,2, -999.00,  -999.0,-999.0000,-999.000,   25.00,  -999.0,  2.9937,-999.000
    31DSCG94_3,  P18N,   100,  1,    113,   1209,2,19940401,0617,-19.5017,-102.9917, 4117,   1599.3,   2.7632,  34.5967,2,  34.5984,2,    106.6,2,    107.9,2,   108.88,2,    39.34,2,     0.02,2,     2.79,2, -999.000,9, -999.000,9, -999.000,9, -999.000,9, -999.000,9,-999.0000,9,  -999.00,9,   -999.0,9,   -999.0,9,   -999.0,9,   -999.0,9,   -999.0,9,     7.50,2, -999.00,  -999.0,-999.0000,-999.000,   25.00,  -999.0,  2.6499,-999.000
    31DSCG94_3,  P18N,   100,  1,    112,   1033,2,19940401,0617,-19.5017,-102.9917, 4117,   1799.2,   2.4697,  34.6172,2,  34.6171,2,    115.6,2,    116.4,2,   114.80,2,    38.34,2,     0.03,2,     2.70,2, -999.000,9, -999.000,9, -999.000,9, -999.000,9, -999.000,9,-999.0000,9,  -999.00,9,   -999.0,9,   -999.0,9,   -999.0,9,   -999.0,9,   -999.0,9,     7.52,2, -999.00,  -999.0,-999.0000,-999.000,   25.00,  -999.0,  2.3434,-999.000
    31DSCG94_3,  P18N,   100,  1,    111,   1240,2,19940401,0617,-19.5017,-102.9917, 4117,   1999.3,   2.2154,  34.6351,2,  34.6352,2,    129.3,2,    129.9,2,   118.18,2,    37.44,2,     0.01,2,     2.60,2, -999.000,9, -999.000,9, -999.000,9, -999.000,9, -999.000,9,-999.0000,9,  -999.00,9,   -999.0,9,   -999.0,9,   -999.0,9,   1296.7,2,   -999.0,9,  -999.00,9,   20.00,  -999.0,-999.0000,-999.000, -999.00,  -999.0,  2.0757,-999.000
    31DSCG94_3,  P18N,   100,  1,    110,   1005,2,19940401,0617,-19.5017,-102.9917, 4117,   2250.6,   1.9996,  34.6514,2,  34.6520,2,    145.9,2,    145.7,2,   118.49,2,    36.18,2,     0.00,2,     2.48,2, -999.000,9, -999.000,9, -999.000,9, -999.000,9, -999.000,9,-999.0000,9,  -999.00,9,   -999.0,9,   -999.0,9,   -999.0,9,   -999.0,9,   -999.0,9,     7.56,2, -999.00,  -999.0,-999.0000,-999.000,   25.00,  -999.0,  1.8416,-999.000
    31DSCG94_3,  P18N,   100,  1,    109,   1611,2,19940401,0617,-19.5017,-102.9917, 4117,   2498.8,   1.8809,  34.6641,2,  34.6644,2,    153.3,2,    153.0,2,   119.29,2,    34.94,2,     0.00,2,     2.44,2, -999.000,9, -999.000,9, -999.000,9, -999.000,9, -999.000,9,-999.0000,9,  -999.00,9,   -999.0,9,   -999.0,9,   -999.0,9,   1173.6,2,   -999.0,9,  -999.00,9,   20.00,  -999.0,-999.0000,-999.000, -999.00,  -999.0,  1.7029,-999.000
    31DSCG94_3,  P18N,   100,  1,    108,   1218,2,19940401,0617,-19.5017,-102.9917, 4117,   2750.5,   1.8169,  34.6734,2,  34.6728,2,    154.6,2,    153.5,2,   121.95,2,    35.35,2,     0.00,2,     2.43,2, -999.000,9, -999.000,9, -999.000,9, -999.000,9, -999.000,9,-999.0000,9,  -999.00,9,   -999.0,9,   -999.0,9,   -999.0,9,   -999.0,9,   -999.0,9,     7.58,2, -999.00,  -999.0,-999.0000,-999.000,   25.00,  -999.0,  1.6169,-999.000
    31DSCG94_3,  P18N,   100,  1,    107,   1257,2,19940401,0617,-19.5017,-102.9917, 4117,   2998.6,   1.7852,  34.6791,2,  34.6787,2,    151.4,2,    151.6,2,   125.49,2,    35.54,2,     0.00,2,     2.44,2, -999.000,9, -999.000,9, -999.000,9, -999.000,9, -999.000,9,-999.0000,9,  -999.00,9,   -999.0,9,   -999.0,9,   -999.0,9,   -999.0,9,   -999.0,9,  -999.00,9, -999.00,  -999.0,-999.0000,-999.000, -999.00,  -999.0,  1.5622,-999.000
    31DSCG94_3,  P18N,   100,  1,    106,   1224,2,19940401,0617,-19.5017,-102.9917, 4117,   3248.2,   1.7702,  34.6829,2,  34.6833,2,    150.3,2,    150.5,2,   127.83,2,    36.01,2,     0.00,2,     2.45,2, -999.000,9, -999.000,9, -999.000,9, -999.000,9, -999.000,9,-999.0000,9,  -999.00,9,   -999.0,9,   -999.0,9,   -999.0,9,   -999.0,9,   -999.0,9,     7.58,2, -999.00,  -999.0,-999.0000,-999.000,   25.00,  -999.0,  1.5229,-999.000
    31DSCG94_3,  P18N,   100,  1,    105,   1246,2,19940401,0617,-19.5017,-102.9917, 4117,   3501.1,   1.7771,  34.6854,2,  34.6850,2,    150.8,2,    149.9,2,   129.17,2,    35.78,2,     0.00,2,     2.47,2, -999.000,9, -999.000,9, -999.000,9, -999.000,9, -999.000,9,-999.0000,9,  -999.00,9,   -999.0,9,   -999.0,9,   -999.0,9,   -999.0,9,   -999.0,9,  -999.00,9, -999.00,  -999.0,-999.0000,-999.000, -999.00,  -999.0,  1.5038,-999.000
    31DSCG94_3,  P18N,   100,  1,    104,   1217,2,19940401,0617,-19.5017,-102.9917, 4117,   3748.7,   1.7971,  34.6860,2,  34.6864,2,    149.9,2,    149.8,2,   129.75,2,    35.94,2,     0.00,2,     2.48,2, -999.000,9, -999.000,9, -999.000,9, -999.000,9, -999.000,9,-999.0000,9,  -999.00,9,   -999.0,9,   -999.0,9,   -999.0,9,   -999.0,9,   -999.0,9,     7.59,2, -999.00,  -999.0,-999.0000,-999.000,   25.00,  -999.0,  1.4971,-999.000
    31DSCG94_3,  P18N,   100,  1,    102,   1223,2,19940401,0617,-19.5017,-102.9917, 4117,   3997.4,   1.8218,  34.6862,2,  34.6855,2,    149.5,2,    150.0,2,   129.78,2,    35.72,2,     0.00,2,     2.49,2, -999.000,9, -999.000,9, -999.000,9, -999.000,9, -999.000,9,-999.0000,9,  -999.00,9,   -999.0,9,   -999.0,9,   -999.0,9,   1156.0,2,   -999.0,9,     7.58,2,   20.00,  -999.0,-999.0000,-999.000,   25.00,  -999.0,  1.4940,-999.000
    31DSCG94_3,  P18N,   100,  1,    103,   9999,2,19940401,0617,-19.5017,-102.9917, 4117,   3999.2,   1.8220,  34.6859,2,  34.6872,2,    149.5,2,    149.3,2,   129.62,2,    35.97,2,     0.00,2,     2.48,2, -999.000,9, -999.000,9, -999.000,9, -999.000,9, -999.000,9,-999.0000,9,  -999.00,9,   -999.0,9,   -999.0,9,   -999.0,9,   1158.9,2,   -999.0,9,  -999.00,9,   20.00,  -999.0,-999.0000,-999.000, -999.00,  -999.0,  1.4940,-999.000
    31DSCG94_3,  P18N,   100,  1,    101,   1041,2,19940401,0617,-19.5017,-102.9917, 4117,   4173.3,   1.8370,  34.6863,2,  34.6858,2,    148.7,2,    149.6,2,   129.69,2,    35.80,2,     0.00,2,     2.51,2, -999.000,9, -999.000,9, -999.000,9, -999.000,9, -999.000,9,-999.0000,9,  -999.00,9,   -999.0,9,   -999.0,9,   -999.0,9,   -999.0,9,   -999.0,9,  -999.00,9, -999.00,  -999.0,-999.0000,-999.000, -999.00,  -999.0,  1.4891,-999.000