BOTTLE,20220630CCHSIOAMB
EXPOCODE,SECT_ID,STNNBR,CASTNO,SAMPNO,BTLNBR,BTLNBR_FLAG_W,DATE,TIME,LATITUDE,LONGITUDE,DEPTH,CTDPRS,CTDTMP,CTDSAL,CTDSAL_FLAG_W,SALNTY,SALNTY_FLAG_W,CTDOXY,CTDOXY_FLAG_W,OXYGEN,OXYGEN_FLAG_W,SILCAT,SILCAT_FLAG_W,NITRAT,NITRAT_FLAG_W,NITRIT,NITRIT_FLAG_W,PHSPHT,PHSPHT_FLAG_W,CFC-11,CFC-11_FLAG_W,CFC-12,CFC-12_FLAG_W,CFC113,CFC113_FLAG_W,CCL4,CCL4_FLAG_W,TRITUM,TRITUM_FLAG_W,HELIUM,HELIUM_FLAG_W,DELHE3,DELHE3_FLAG_W,DELC14,DELC14_FLAG_W,DELC13,DELC13_FLAG_W,TCARBN,TCARBN_FLAG_W,PCO2,PCO2_FLAG_W,ALKALI,ALKALI_FLAG_W,PH,PH_FLAG_W,PCO2TMP,C14ERR,HELIER,DELHER,PH_TMP,C13ERR,THETA,TRITER
,,,,,,,,,,,,DBAR,ITS-90,PSS-78,,PSS-78,,UMOL/KG,,UMOL/KG,,UMOL/KG,,UMOL/KG,,UMOL/KG,,UMOL/KG,,PMOL/KG,,PMOL/KG,,PMOL/KG,,PMOL/KG,,TU,,NMOL/KG,,PERCNT,,/MILLE,,/MILLE,,UMOL/KG,,UATM,,UMOL/KG,,,,DEG C,/MILLE,NMOL/KG,PERCNT,DEG C,/MILLE,DEG C,TU
    31DSCG94_3,  P18N,   119,  1,    136,   1025,2,19940406,1555,-10.0040,-102.9997, 4556,      8.1,  27.0833,  35.2355,2,  35.2374,2,    203.9,2,    203.0,2,     1.50,2,     3.37,2,     0.05,2,     0.45,2,    1.721,2,    0.989,2, -999.000,9, -999.000,9, -999.000,9,-999.0000,9,  -999.00,9,   -999.0,9,      1.7,2,   1996.7,2,    299.2,2,   2318.0,6,     8.08,2,   20.00,  -999.0,-999.0000,-999.000,   25.00,  -999.0, 27.0814,-999.000
    31DSCG94_3,  P18N,   119,  1,    135,   1247,2,19940406,1555,-10.0040,-102.9997, 4556,     25.5,  26.8470,  35.4020,2,  35.3382,3,    206.6,2,    204.4,2,     1.52,2,     3.57,2,     0.05,2,     0.45,2,    1.744,2,    0.991,2, -999.000,9, -999.000,9,    0.793,2,   1.7612,2,    -0.52,2,   -999.0,9,   -999.0,9,   -999.0,9,   -999.0,9,   -999.0,9,     8.08,2, -999.00,  -999.0,-999.0000,-999.000,   25.00,  -999.0, 26.8411,   0.008
    31DSCG94_3,  P18N,   119,  1,    134,   1216,2,19940406,1555,-10.0040,-102.9997, 4556,     50.0,  26.2810,  35.5464,2,  35.5480,2,    210.3,2,    207.3,2,     2.14,2,     3.93,2,     0.05,2,     0.49,2,    1.799,2,    1.017,2, -999.000,9, -999.000,9, -999.000,9,-999.0000,9,  -999.00,9,   -999.0,9,   -999.0,9,   -999.0,9,   -999.0,9,   -999.0,9,     8.07,2, -999.00,  -999.0,-999.0000,-999.000,   25.00,  -999.0, 26.2697,-999.000
    31DSCG94_3,  P18N,   119,  1,    133,   1244,2,19940406,1555,-10.0040,-102.9997, 4556,     75.6,  22.8265,  35.9666,2,  35.9510,2,    196.2,2,    200.0,2,     1.67,2,     0.89,2,     0.15,2,     0.48,2,    2.058,2,    1.139,2, -999.000,9, -999.000,9,    0.671,2,   1.7411,2,    -1.35,2,   -999.0,9,   -999.0,9,   -999.0,9,   -999.0,9,   -999.0,9,     8.05,2, -999.00,  -999.0,-999.0000,-999.000,   25.00,  -999.0, 22.8111,   0.007
    31DSCG94_3,  P18N,   119,  1,    132,   1003,2,19940406,1555,-10.0040,-102.9997, 4556,     99.1,  21.0737,  35.8932,2,  35.8967,2,    189.9,2,    193.2,6,     1.52,6,     1.51,6,     0.99,6,     0.57,6,    2.180,6,    1.204,6, -999.000,9, -999.000,9,    0.563,2,   1.7567,2,    -1.21,2,   -999.0,9,   -999.0,9,   -999.0,9,   -999.0,9,   -999.0,9,     8.00,2, -999.00,  -999.0,-999.0000,-999.000,   25.00,  -999.0, 21.0547,   0.007
    31DSCG94_3,  P18N,   119,  1,    131,   1211,2,19940406,1555,-10.0040,-102.9997, 4556,    125.7,  19.0729,  35.5490,2,  35.5546,2,    172.3,2,    171.9,2,     2.38,2,     6.26,2,     1.02,2,     0.85,2,    2.268,2,    1.238,2, -999.000,9, -999.000,9,    0.516,2,   1.7679,2,    -1.03,2,   -999.0,9,   -999.0,9,   -999.0,9,   -999.0,9,   -999.0,9,     7.91,2, -999.00,  -999.0,-999.0000,-999.000,   25.00,  -999.0, 19.0504,   0.006
    31DSCG94_3,  P18N,   119,  1,    130,   1241,2,19940406,1555,-10.0040,-102.9997, 4556,    143.5,  17.2842,  35.2758,2,  35.2756,2,    143.0,2,    143.8,2,     4.02,2,    10.63,2,     0.01,2,     1.11,2,    2.155,2,    1.134,2, -999.000,9, -999.000,9, -999.000,9,-999.0000,9,  -999.00,9,   -999.0,9,   -999.0,9,   -999.0,9,   -999.0,9,   -999.0,9,     7.83,2, -999.00,  -999.0,-999.0000,-999.000,   25.00,  -999.0, 17.2602,-999.000
    31DSCG94_3,  P18N,   119,  1,    129,   1240,2,19940406,1555,-10.0040,-102.9997, 4556,    199.6,  12.5480,  34.8134,2,  34.8153,2,     15.3,2,     14.8,2,    19.15,2,    24.00,2,     0.00,2,     2.42,2,    0.585,6,    0.322,6, -999.000,9, -999.000,9,    0.241,2,   1.8067,2,     3.03,2,   -999.0,9,   -999.0,9,   -999.0,9,   -999.0,9,   -999.0,9,     7.48,2, -999.00,  -999.0,-999.0000,-999.000,   25.00,  -999.0, 12.5212,   0.005
    31DSCG94_3,  P18N,   119,  1,    128,   1032,2,19940406,1555,-10.0040,-102.9997, 4556,    250.1,  10.9022,  34.7784,2,  34.7790,2,     26.6,2,     22.3,2,    25.55,2,    32.06,2,     0.00,2,     2.45,2,    0.018,2,    0.005,2, -999.000,9, -999.000,9,    0.098,2,   1.8161,2,     3.73,2,   -999.0,9,   -999.0,9,   -999.0,9,   -999.0,9,   -999.0,9,     7.47,2, -999.00,  -999.0,-999.0000,-999.000,   25.00,  -999.0, 10.8715,   0.004
    31DSCG94_3,  P18N,   119,  1,    127,   1008,2,19940406,1555,-10.0040,-102.9997, 4556,    301.2,  10.2172,  34.7537,2,  34.7525,2,     18.8,2,     19.9,2,    30.64,2,    34.31,2,     0.00,2,     2.53,2,    0.061,6,    0.034,6, -999.000,9, -999.000,9,    0.065,2,   1.8036,2,     4.04,2,   -999.0,9,   -999.0,9,   -999.0,9,   -999.0,9,   -999.0,9,     7.45,2, -999.00,  -999.0,-999.0000,-999.000,   25.00,  -999.0, 10.1817,   0.004
    31DSCG94_3,  P18N,   119,  1,    126,   1007,2,19940406,1555,-10.0040,-102.9997, 4556,    399.6,   9.3198,  34.7024,2,  34.7023,2,     12.9,2,     17.8,2,    36.09,2,    36.83,2,     0.00,2,     2.68,2,    0.023,2,    0.011,2, -999.000,9, -999.000,9,    0.026,2,   1.8018,2,     4.81,2,   -999.0,9,   -999.0,9,   -999.0,9,   -999.0,9,   -999.0,9,     7.42,2, -999.00,  -999.0,-999.0000,-999.000,   25.00,  -999.0,  9.2751,   0.003
    31DSCG94_3,  P18N,   119,  1,    125,   1203,2,19940406,1555,-10.0040,-102.9997, 4556,    501.8,   8.1955,  34.6352,2,  34.6346,2,     16.7,2,     21.7,2,    39.23,2,    39.46,2,     0.00,2,     2.78,2,    0.009,2,    0.001,2, -999.000,9, -999.000,9,    0.009,2,   1.8067,2,     5.62,2,   -999.0,9,   -999.0,9,   -999.0,9,   -999.0,9,   -999.0,9,     7.40,2, -999.00,  -999.0,-999.0000,-999.000,   25.00,  -999.0,  8.1433,   0.003
    31DSCG94_3,  P18N,   119,  1,    123,   1220,2,19940406,1555,-10.0040,-102.9997, 4556,    598.4,   7.1285,  34.5781,2,  34.5774,2,     19.6,2,     20.9,2,    45.67,2,    43.08,2,     0.00,2,     2.98,2,    0.006,2,   -0.002,2, -999.000,9, -999.000,9,    0.003,2,   1.7982,2,     7.00,2,   -999.0,9,   -999.0,9,   -999.0,9,   -999.0,9,   -999.0,9,     7.38,2, -999.00,  -999.0,-999.0000,-999.000,   25.00,  -999.0,  7.0706,   0.003
    31DSCG94_3,  P18N,   119,  1,    122,   1245,2,19940406,1555,-10.0040,-102.9997, 4556,    699.5,   6.2328,  34.5477,2,  34.5473,2,     25.8,2,     25.3,2,    54.41,2,    44.51,2,     0.00,2,     3.08,2,   -0.002,2,   -0.002,2, -999.000,9, -999.000,9,    0.006,2,   1.8049,2,     9.58,2,   -999.0,9,   -999.0,9,   -999.0,9,   -999.0,9,   -999.0,9,     7.37,2, -999.00,  -999.0,-999.0000,-999.000,   25.00,  -999.0,  6.1694,   0.003
    31DSCG94_3,  P18N,   119,  1,    121,   1206,2,19940406,1555,-10.0040,-102.9997, 4556,    797.5,   5.5920,  34.5345,2,  34.5339,2,     38.8,2,     39.5,2,    61.36,2,    44.38,2,     0.00,2,     3.06,2,   -0.002,2,   -0.002,2, -999.000,9, -999.000,9,    0.002,2,   1.7764,2,    11.47,2,   -999.0,9,   -999.0,9,   -999.0,9,   -999.0,9,   -999.0,9,     7.39,2, -999.00,  -999.0,-999.0000,-999.000,   25.00,  -999.0,  5.5230,   0.003
    31DSCG94_3,  P18N,   119,  1,    120,   1028,2,19940406,1555,-10.0040,-102.9997, 4556,    900.8,   4.8729,  34.5344,2,  34.5344,2,     56.9,2,     61.4,2,    74.25,6,    42.65,6,     0.00,6,     2.98,6,    0.000,2,   -0.002,2, -999.000,9, -999.000,9, -999.000,9,-999.0000,9,  -999.00,9,   -999.0,9,   -999.0,9,   -999.0,9,   -999.0,9,   -999.0,9,     7.43,2, -999.00,  -999.0,-999.0000,-999.000,   25.00,  -999.0,  4.7994,-999.000
    31DSCG94_3,  P18N,   119,  1,    119,   1248,2,19940406,1555,-10.0040,-102.9997, 4556,    999.4,   4.4883,  34.5394,2,  34.5393,2,     70.9,2,     74.2,2,    80.39,2,    42.09,2,     0.00,2,     2.92,2, -999.000,9, -999.000,9, -999.000,9, -999.000,9,   -0.003,2,   1.8510,2,    17.13,2,   -999.0,9,   -999.0,9,   -999.0,9,   -999.0,9,   -999.0,9,     7.45,2, -999.00,  -999.0,-999.0000,-999.000,   25.00,  -999.0,  4.4089,   0.003
    31DSCG94_3,  P18N,   119,  1,    118,   1115,2,19940406,1555,-10.0040,-102.9997, 4556,   1201.6,   3.7435,  34.5601,2,  34.5603,2,     88.9,2,     90.5,6,    95.79,2,    40.17,2,     0.02,2,     2.83,2,    0.000,2,   -0.002,2, -999.000,9, -999.000,9,    0.004,2,   1.8630,2,    20.82,2,   -999.0,9,   -999.0,9,   -999.0,9,   -999.0,9,   -999.0,9,  -999.00,9, -999.00,  -999.0,-999.0000,-999.000, -999.00,  -999.0,  3.6530,   0.003
    31DSCG94_3,  P18N,   119,  1,    117,   1119,2,19940406,1555,-10.0040,-102.9997, 4556,   1400.5,   3.1743,  34.5844,2,  34.5846,2,     97.2,2,     97.1,2,   107.26,2,    39.85,2,     0.01,2,     2.80,2, -999.000,9, -999.000,9, -999.000,9, -999.000,9,    0.006,2,   1.8790,2,    24.16,2,   -999.0,9,   -999.0,9,   -999.0,9,   -999.0,9,   -999.0,9,  -999.00,9, -999.00,  -999.0,-999.0000,-999.000, -999.00,  -999.0,  3.0728,   0.003
    31DSCG94_3,  P18N,   119,  1,    116,   1036,2,19940406,1555,-10.0040,-102.9997, 4556,   1599.9,   2.7566,  34.6075,2,  34.6077,2,    105.9,2,    104.0,2,   116.98,2,    39.58,2,     0.01,2,     2.77,2, -999.000,9, -999.000,9, -999.000,9, -999.000,9,    0.005,2,   1.8970,2,    26.05,2,   -999.0,9,   -999.0,9,   -999.0,9,   -999.0,9,   -999.0,9,  -999.00,9, -999.00,  -999.0,-999.0000,-999.000, -999.00,  -999.0,  2.6433,   0.003
    31DSCG94_3,  P18N,   119,  1,    115,   1017,2,19940406,1555,-10.0040,-102.9997, 4556,   1800.5,   2.4731,  34.6255,2,  34.6264,2,    113.6,2,    109.5,2,   125.88,2,    38.61,2,     0.01,2,     2.74,2,   -0.003,2,   -0.002,2, -999.000,9, -999.000,9, -999.000,9,   1.9060,2,    28.00,2,   -999.0,9,   -999.0,9,   -999.0,9,   -999.0,9,   -999.0,9,  -999.00,9, -999.00,  -999.0,-999.0000,-999.000, -999.00,  -999.0,  2.3466,-999.000
    31DSCG94_3,  P18N,   119,  1,    114,   1016,2,19940406,1555,-10.0040,-102.9997, 4556,   2003.0,   2.2630,  34.6390,2,  34.6400,2,    118.9,2,    115.6,2,   131.18,2,    38.44,2,     0.00,2,     2.69,2, -999.000,9, -999.000,9, -999.000,9, -999.000,9, -999.000,9,   1.9200,2,    29.79,2,   -999.0,9,   -999.0,9,   -999.0,9,   -999.0,9,   -999.0,9,  -999.00,9, -999.00,  -999.0,-999.0000,-999.000, -999.00,  -999.0,  2.1222,-999.000
    31DSCG94_3,  P18N,   119,  1,    113,   1209,2,19940406,1555,-10.0040,-102.9997, 4556,   2196.5,   2.1028,  34.6509,2,  34.6524,2,    122.1,2,    119.2,2,   134.46,2,    38.40,2,     0.01,2,     2.66,2, -999.000,9, -999.000,9, -999.000,9, -999.000,9, -999.000,9,   1.9340,2,    30.36,2,   -999.0,9,   -999.0,9,   -999.0,9,   -999.0,9,   -999.0,9,  -999.00,9, -999.00,  -999.0,-999.0000,-999.000, -999.00,  -999.0,  1.9478,-999.000
    31DSCG94_3,  P18N,   119,  1,    112,   1033,2,19940406,1555,-10.0040,-102.9997, 4556,   2400.6,   1.9760,  34.6597,2,  34.6599,2,    126.2,2,    123.7,2,   139.00,2,    37.76,2,     0.02,2,     2.65,2,   -0.005,2,   -0.002,2, -999.000,9, -999.000,9, -999.000,9,   1.9090,3,    29.75,6,   -999.0,9,   -999.0,9,   -999.0,9,   -999.0,9,   -999.0,9,  -999.00,9, -999.00,  -999.0,-999.0000,-999.000, -999.00,  -999.0,  1.8051,-999.000
    31DSCG94_3,  P18N,   119,  1,    111,   1240,2,19940406,1555,-10.0040,-102.9997, 4556,   2598.1,   1.8694,  34.6674,2,  34.6663,2,    132.9,2,    132.7,3,   140.30,2,    36.64,2,     0.00,2,     2.58,2, -999.000,9, -999.000,9, -999.000,9, -999.000,9, -999.000,9,   1.9240,2,    28.59,2,   -999.0,9,   -999.0,9,   -999.0,9,   -999.0,9,   -999.0,9,  -999.00,9, -999.00,  -999.0,-999.0000,-999.000, -999.00,  -999.0,  1.6825,-999.000
    31DSCG94_3,  P18N,   119,  1,    110,   1005,2,19940406,1555,-10.0040,-102.9997, 4556,   2798.5,   1.8064,  34.6696,2,  34.6697,2,    133.5,2,    130.9,2,   144.88,2,    37.22,2,     0.01,2,     2.58,2, -999.000,9, -999.000,9, -999.000,9, -999.000,9, -999.000,9,   1.9280,2,    29.25,2,   -999.0,9,   -999.0,9,   -999.0,9,   -999.0,9,   -999.0,9,  -999.00,9, -999.00,  -999.0,-999.0000,-999.000, -999.00,  -999.0,  1.6021,-999.000
    31DSCG94_3,  P18N,   119,  1,    109,   1611,2,19940406,1555,-10.0040,-102.9997, 4556,   2999.5,   1.7903,  34.6715,2,  34.6714,2,    134.2,2,    132.5,2,   142.55,6,    37.00,6,     0.00,6,     2.56,6,    0.001,2,   -0.002,2, -999.000,9, -999.000,9, -999.000,9,   1.9250,2,    28.44,2,   -999.0,9,   -999.0,9,   -999.0,9,   1243.1,2,   -999.0,9,  -999.00,9,   20.00,  -999.0,-999.0000,-999.000, -999.00,  -999.0,  1.5671,-999.000
    31DSCG94_3,  P18N,   119,  1,    108,   1218,2,19940406,1555,-10.0040,-102.9997, 4556,   3201.8,   1.7714,  34.6734,2,  34.6732,2,    136.1,2,    135.1,2,   142.14,2,    37.39,2,     0.00,2,     2.58,2, -999.000,9, -999.000,9, -999.000,9, -999.000,9, -999.000,9,   1.9250,2,    28.29,2,   -999.0,9,   -999.0,9,   -999.0,9,   -999.0,9,   -999.0,9,  -999.00,9, -999.00,  -999.0,-999.0000,-999.000, -999.00,  -999.0,  1.5288,-999.000
    31DSCG94_3,  P18N,   119,  1,    107,   1257,2,19940406,1555,-10.0040,-102.9997, 4556,   3400.7,   1.7611,  34.6750,2,  34.6753,2,    137.5,2,    136.9,6,   146.83,2,    36.95,2,     0.01,2,     2.58,2, -999.000,9, -999.000,9, -999.000,9, -999.000,9, -999.000,9,   1.9180,2,    27.14,2,   -999.0,9,   -999.0,9,   -999.0,9,   -999.0,9,   -999.0,9,  -999.00,9, -999.00,  -999.0,-999.0000,-999.000, -999.00,  -999.0,  1.4986,-999.000
    31DSCG94_3,  P18N,   119,  1,    106,   1224,2,19940406,1555,-10.0040,-102.9997, 4556,   3599.4,   1.7654,  34.6758,2,  34.6746,2,    139.1,2,    137.7,2,   149.41,2,    36.72,2,     0.01,2,     2.56,2,    0.000,2,   -0.002,2, -999.000,9, -999.000,9, -999.000,9,   1.9270,2,    27.09,2,   -999.0,9,   -999.0,9,   -999.0,9,   -999.0,9,   -999.0,9,  -999.00,9, -999.00,  -999.0,-999.0000,-999.000, -999.00,  -999.0,  1.4822,-999.000
    31DSCG94_3,  P18N,   119,  1,    105,   1246,2,19940406,1555,-10.0040,-102.9997, 4556,   3798.9,   1.7792,  34.6762,2,  34.6768,2,    139.2,2,    137.6,2,   148.88,2,    36.57,2,     0.01,2,     2.57,2, -999.000,9, -999.000,9, -999.000,9, -999.000,9,    0.007,2,   1.9180,2,    26.44,2,   -999.0,9,   -999.0,9,   -999.0,9,   -999.0,9,   -999.0,9,  -999.00,9, -999.00,  -999.0,-999.0000,-999.000, -999.00,  -999.0,  1.4744,   0.003
    31DSCG94_3,  P18N,   119,  1,    104,   1217,2,19940406,1555,-10.0040,-102.9997, 4556,   4001.2,   1.7969,  34.6765,2,  34.6750,2,    139.9,2,    137.8,2,   146.99,2,    36.91,2,     0.01,2,     2.54,2, -999.000,9, -999.000,9, -999.000,9, -999.000,9, -999.000,9,   1.9210,2,    26.45,2,   -999.0,9,   -999.0,9,   -999.0,9,   -999.0,9,   -999.0,9,  -999.00,9, -999.00,  -999.0,-999.0000,-999.000, -999.00,  -999.0,  1.4695,-999.000
    31DSCG94_3,  P18N,   119,  1,    102,   1223,2,19940406,1555,-10.0040,-102.9997, 4556,   4296.6,   1.8279,  34.6767,2,  34.6750,2,    141.0,2,    139.1,2,   144.97,2,    37.23,2,     0.00,2,     2.54,2, -999.000,9, -999.000,9, -999.000,9, -999.000,9, -999.000,9,   1.9250,2,    25.77,2,   -999.0,9,   -999.0,9,   -999.0,9,   -999.0,9,   -999.0,9,  -999.00,9, -999.00,  -999.0,-999.0000,-999.000, -999.00,  -999.0,  1.4663,-999.000
    31DSCG94_3,  P18N,   119,  1,    103,   9999,2,19940406,1555,-10.0040,-102.9997, 4556,   4298.6,   1.8281,  34.6766,2,  34.6771,2,    140.9,2,    137.7,2,   145.97,2,    36.66,2,     0.00,2,     2.53,2,    0.114,4,    0.226,4, -999.000,9, -999.000,9,    0.005,2,-999.0000,9,  -999.00,9,   -999.0,9,   -999.0,9,   -999.0,9,   -999.0,9,   -999.0,9,  -999.00,9, -999.00,  -999.0,-999.0000,-999.000, -999.00,  -999.0,  1.4663,   0.003
    31DSCG94_3,  P18N,   119,  1,    101,   1041,2,19940406,1555,-10.0040,-102.9997, 4556,   4642.1,   1.8682,  34.6765,2,  34.6750,2,    141.1,2,    138.4,2,   146.51,6,    37.10,6,     0.01,6,     2.56,6,   -0.001,2,   -0.002,2, -999.000,9, -999.000,9, -999.000,9,-999.0000,9,  -999.00,9,   -999.0,9,   -999.0,9,   -999.0,9,   -999.0,9,   -999.0,9,  -999.00,9, -999.00,  -999.0,-999.0000,-999.000, -999.00,  -999.0,  1.4650,-999.000