BOTTLE,20220630CCHSIOAMB
EXPOCODE,SECT_ID,STNNBR,CASTNO,SAMPNO,BTLNBR,BTLNBR_FLAG_W,DATE,TIME,LATITUDE,LONGITUDE,DEPTH,CTDPRS,CTDTMP,CTDSAL,CTDSAL_FLAG_W,SALNTY,SALNTY_FLAG_W,CTDOXY,CTDOXY_FLAG_W,OXYGEN,OXYGEN_FLAG_W,SILCAT,SILCAT_FLAG_W,NITRAT,NITRAT_FLAG_W,NITRIT,NITRIT_FLAG_W,PHSPHT,PHSPHT_FLAG_W,CFC-11,CFC-11_FLAG_W,CFC-12,CFC-12_FLAG_W,CFC113,CFC113_FLAG_W,CCL4,CCL4_FLAG_W,TRITUM,TRITUM_FLAG_W,HELIUM,HELIUM_FLAG_W,DELHE3,DELHE3_FLAG_W,DELC14,DELC14_FLAG_W,DELC13,DELC13_FLAG_W,TCARBN,TCARBN_FLAG_W,PCO2,PCO2_FLAG_W,ALKALI,ALKALI_FLAG_W,PH,PH_FLAG_W,PCO2TMP,C14ERR,HELIER,DELHER,PH_TMP,C13ERR,THETA,TRITER
,,,,,,,,,,,,DBAR,ITS-90,PSS-78,,PSS-78,,UMOL/KG,,UMOL/KG,,UMOL/KG,,UMOL/KG,,UMOL/KG,,UMOL/KG,,PMOL/KG,,PMOL/KG,,PMOL/KG,,PMOL/KG,,TU,,NMOL/KG,,PERCNT,,/MILLE,,/MILLE,,UMOL/KG,,UATM,,UMOL/KG,,,,DEG C,/MILLE,NMOL/KG,PERCNT,DEG C,/MILLE,DEG C,TU
    31DSCG94_3,  P18N,   150,  1,    136,   1025,2,19940415,0018,  1.6767,-110.3367, 3796,      8.4,  26.1330,  34.7233,2,  34.7308,2,    203.7,2,    202.0,6,     3.83,2,     4.98,2,     0.09,2,     0.57,2, -999.000,9, -999.000,9, -999.000,9, -999.000,9, -999.000,9,-999.0000,9,  -999.00,9,   -999.0,9,   -999.0,9,   2015.9,2,    361.4,2,   2282.0,6,     8.00,2,   20.00,  -999.0,-999.0000,-999.000,   25.00,  -999.0, 26.1312,-999.000
    31DSCG94_3,  P18N,   150,  1,    135,   1247,2,19940415,0018,  1.6767,-110.3367, 3796,     22.7,  24.5013,  34.8890,2,  34.9036,2,    185.4,2,    189.6,2,     4.92,2,     6.75,2,     0.15,2,     0.70,2, -999.000,9, -999.000,9, -999.000,9, -999.000,9, -999.000,9,-999.0000,9,  -999.00,9,   -999.0,9,   -999.0,9,   -999.0,9,   -999.0,9,   -999.0,9,     7.97,2, -999.00,  -999.0,-999.0000,-999.000,   25.00,  -999.0, 24.4965,-999.000
    31DSCG94_3,  P18N,   150,  1,    134,   1216,2,19940415,0018,  1.6767,-110.3367, 3796,     50.7,  21.3272,  34.7581,2,  34.7436,2,     92.8,2,    169.1,2,     6.30,2,     9.30,2,     0.15,2,     0.86,2, -999.000,9, -999.000,9, -999.000,9, -999.000,9, -999.000,9,-999.0000,9,  -999.00,9,   -999.0,9,   -999.0,9,   2061.6,2,    469.6,2,   2285.0,2,     7.91,2,   20.00,  -999.0,-999.0000,-999.000,   25.00,  -999.0, 21.3174,-999.000
    31DSCG94_3,  P18N,   150,  1,    133,   1244,2,19940415,0018,  1.6767,-110.3367, 3796,     73.5,  16.0171,  34.9496,2,  34.9516,2,     87.2,2,     86.8,2,    14.43,2,    19.52,2,     0.38,2,     1.50,2, -999.000,9, -999.000,9, -999.000,9, -999.000,9, -999.000,9,-999.0000,9,  -999.00,9,   -999.0,9,   -999.0,9,   -999.0,9,   -999.0,9,   -999.0,9,     7.72,2, -999.00,  -999.0,-999.0000,-999.000,   25.00,  -999.0, 16.0055,-999.000
    31DSCG94_3,  P18N,   150,  1,    132,   1003,2,19940415,0018,  1.6767,-110.3367, 3796,     97.0,  14.8475,  34.9357,2,  34.9478,2,     71.6,2,     76.0,2,    16.58,2,    21.94,2,     0.30,2,     1.62,2, -999.000,9, -999.000,9, -999.000,9, -999.000,9, -999.000,9,-999.0000,9,  -999.00,9,   -999.0,9,   -999.0,9,   2170.2,2,    830.2,2,   2296.0,2,     7.69,2,   20.00,  -999.0,-999.0000,-999.000,   25.00,  -999.0, 14.8330,-999.000
    31DSCG94_3,  P18N,   150,  1,    131,   1211,2,19940415,0018,  1.6767,-110.3367, 3796,    125.4,  14.3199,  34.9560,2,  34.9557,2,     69.7,2,     58.1,2,    18.04,2,    24.98,2,     0.05,2,     1.79,2, -999.000,9, -999.000,9, -999.000,9, -999.000,9, -999.000,9,-999.0000,9,  -999.00,9,   -999.0,9,   -999.0,9,   -999.0,9,   -999.0,9,   -999.0,9,     7.65,2, -999.00,  -999.0,-999.0000,-999.000,   25.00,  -999.0, 14.3015,-999.000
    31DSCG94_3,  P18N,   150,  1,    130,   1241,2,19940415,0018,  1.6767,-110.3367, 3796,    149.4,  13.6474,  34.9237,2,  34.9237,2,     76.8,2,     71.0,2,    18.82,2,    24.44,2,     0.00,2,     1.74,2, -999.000,9, -999.000,9, -999.000,9, -999.000,9, -999.000,9,-999.0000,9,  -999.00,9,   -999.0,9,   -999.0,9,   2182.7,2,    906.4,2,   2295.0,2,     7.66,2,   20.00,  -999.0,-999.0000,-999.000,   25.00,  -999.0, 13.6263,-999.000
    31DSCG94_3,  P18N,   150,  1,    129,   1240,2,19940415,0018,  1.6767,-110.3367, 3796,    173.0,  13.2316,  34.9090,2,  34.9095,2,     57.0,2,     63.8,2,    20.11,2,    25.58,2,     0.00,2,     1.81,2, -999.000,9, -999.000,9, -999.000,9, -999.000,9, -999.000,9,-999.0000,9,  -999.00,9,   -999.0,9,   -999.0,9,   -999.0,9,   -999.0,9,   -999.0,9,     7.63,2, -999.00,  -999.0,-999.0000,-999.000,   25.00,  -999.0, 13.2076,-999.000
    31DSCG94_3,  P18N,   150,  1,    128,   1032,2,19940415,0018,  1.6767,-110.3367, 3796,    197.4,  12.9778,  34.8990,2,  34.8980,2,     59.4,2,     56.4,2,    21.59,2,    26.80,2,     0.00,2,     1.88,2, -999.000,9, -999.000,9, -999.000,9, -999.000,9, -999.000,9,-999.0000,9,  -999.00,9,   -999.0,9,   -999.0,9,   2201.1,2,   1028.0,2,   2297.0,2,     7.61,2,   20.00,  -999.0,-999.0000,-999.000,   25.00,  -999.0, 12.9507,-999.000
    31DSCG94_3,  P18N,   150,  1,    127,   1008,2,19940415,0018,  1.6767,-110.3367, 3796,    199.1,  12.9640,  34.8980,2,  34.8975,2,     60.9,2,     57.3,2,    21.33,2,    26.40,2,     0.00,2,     1.88,2, -999.000,9, -999.000,9, -999.000,9, -999.000,9, -999.000,9,-999.0000,9,  -999.00,9,   -999.0,9,   -999.0,9,   2200.9,2,   -999.0,9,   2300.0,2,     7.61,2, -999.00,  -999.0,-999.0000,-999.000,   25.00,  -999.0, 12.9367,-999.000
    31DSCG94_3,  P18N,   150,  1,    126,   1007,2,19940415,0018,  1.6767,-110.3367, 3796,    250.7,  12.3672,  34.8579,2,  34.8551,2,     31.9,2,     28.7,2,    24.78,2,    30.83,2,     0.00,2,     2.15,2, -999.000,9, -999.000,9, -999.000,9, -999.000,9, -999.000,9,-999.0000,9,  -999.00,9,   -999.0,9,   -999.0,9,   2227.9,2,   1260.1,2,   2305.0,2,     7.53,2,   20.00,  -999.0,-999.0000,-999.000,   25.00,  -999.0, 12.3338,-999.000
    31DSCG94_3,  P18N,   150,  1,    125,   1256,2,19940415,0018,  1.6767,-110.3367, 3796,    299.9,  11.5755,  34.8083,2,  34.8083,2,     23.7,2,     20.2,2,    27.98,2,    32.97,2,     0.00,2,     2.28,2, -999.000,9, -999.000,9, -999.000,9, -999.000,9, -999.000,9,-999.0000,9,  -999.00,9,   -999.0,9,   -999.0,9,   -999.0,9,   -999.0,9,   -999.0,9,     7.49,2, -999.00,  -999.0,-999.0000,-999.000,   25.00,  -999.0, 11.5372,-999.000
    31DSCG94_3,  P18N,   150,  1,    123,   1220,2,19940415,0018,  1.6767,-110.3367, 3796,    397.9,   9.5815,  34.6835,2,  34.6814,2,     23.4,2,     24.2,2,    35.88,2,    35.52,2,     0.00,2,     2.49,2, -999.000,9, -999.000,9, -999.000,9, -999.000,9, -999.000,9,-999.0000,9,  -999.00,9,   -999.0,9,   -999.0,9,   2261.6,2,   1571.9,2,   2304.0,2,     7.45,2,   20.00,  -999.0,-999.0000,-999.000,   25.00,  -999.0,  9.5362,-999.000
    31DSCG94_3,  P18N,   150,  1,    122,   1245,2,19940415,0018,  1.6767,-110.3367, 3796,    497.8,   8.1778,  34.6273,2,  34.6278,2,     32.0,2,     36.2,2,    41.85,2,    38.39,2,     0.00,2,     2.62,2, -999.000,9, -999.000,9, -999.000,9, -999.000,9, -999.000,9,-999.0000,9,  -999.00,9,   -999.0,9,   -999.0,9,   2266.0,2,   1584.3,2,   2303.0,2,     7.44,2,   20.00,  -999.0,-999.0000,-999.000,   25.00,  -999.0,  8.1261,-999.000
    31DSCG94_3,  P18N,   150,  1,    121,   1206,2,19940415,0018,  1.6767,-110.3367, 3796,    599.8,   7.2885,  34.5877,2,  34.5869,2,     45.9,2,     50.1,2,    47.43,2,    38.73,2,     0.00,2,     2.66,2, -999.000,9, -999.000,9, -999.000,9, -999.000,9, -999.000,9,-999.0000,9,  -999.00,9,   -999.0,9,   -999.0,9,   2268.9,2,   1557.3,2,   2316.0,2,     7.45,2,   20.00,  -999.0,-999.0000,-999.000,   25.00,  -999.0,  7.2297,-999.000
    31DSCG94_3,  P18N,   150,  1,    120,   1028,2,19940415,0018,  1.6767,-110.3367, 3796,    698.4,   6.5777,  34.5725,2,  34.5726,2,     43.6,2,     44.1,2,    56.67,2,    41.49,2,     0.00,2,     2.83,2, -999.000,9, -999.000,9, -999.000,9, -999.000,9, -999.000,9,-999.0000,9,  -999.00,9,   -999.0,9,   -999.0,9,   2284.0,2,   1655.1,2,   2317.0,2,     7.43,2,   20.00,  -999.0,-999.0000,-999.000,   25.00,  -999.0,  6.5126,-999.000
    31DSCG94_3,  P18N,   150,  1,    119,   1248,2,19940415,0018,  1.6767,-110.3367, 3796,    797.7,   5.7774,  34.5584,2,  34.5575,2,     43.6,2,     47.0,6,    67.82,2,    42.56,2,     0.00,2,     2.92,2, -999.000,9, -999.000,9, -999.000,9, -999.000,9, -999.000,9,-999.0000,9,  -999.00,9,   -999.0,9,   -999.0,9,   2299.1,2,   1703.7,2,   2330.0,2,     7.42,2,   20.00,  -999.0,-999.0000,-999.000,   25.00,  -999.0,  5.7073,-999.000
    31DSCG94_3,  P18N,   150,  1,    118,   1115,2,19940415,0018,  1.6767,-110.3367, 3796,    898.5,   5.0267,  34.5549,2,  34.5556,2,     52.7,2,     55.4,2,    80.39,2,    42.36,2,     0.00,2,     2.91,2, -999.000,9, -999.000,9, -999.000,9, -999.000,9, -999.000,9,-999.0000,9,  -999.00,9,   -999.0,9,   -999.0,9,   2307.3,2,   1669.3,2,   2351.0,2,     7.43,2,   20.00,  -999.0,-999.0000,-999.000,   25.00,  -999.0,  4.9522,-999.000
    31DSCG94_3,  P18N,   150,  1,    117,   1119,2,19940415,0018,  1.6767,-110.3367, 3796,   1000.1,   4.4396,  34.5607,2,  34.5612,2,     65.2,2,     69.5,2,    90.47,2,    41.73,2,     0.00,2,     2.90,2, -999.000,9, -999.000,9, -999.000,9, -999.000,9, -999.000,9,-999.0000,9,  -999.00,9,   -999.0,9,   -999.0,9,   2312.1,2,   1588.5,2,   2357.0,6,     7.45,2,   20.00,  -999.0,-999.0000,-999.000,   25.00,  -999.0,  4.3605,-999.000
    31DSCG94_3,  P18N,   150,  1,    116,   1036,2,19940415,0018,  1.6767,-110.3367, 3796,   1101.3,   4.1039,  34.5659,2,  34.5648,2,     77.5,2,     79.7,2,    96.38,2,    40.61,2,     0.00,2,     2.84,2, -999.000,9, -999.000,9, -999.000,9, -999.000,9, -999.000,9,-999.0000,9,  -999.00,9,   -999.0,9,   -999.0,9,   -999.0,9,   -999.0,9,   -999.0,9,     7.47,2, -999.00,  -999.0,-999.0000,-999.000,   25.00,  -999.0,  4.0188,-999.000
    31DSCG94_3,  P18N,   150,  1,    115,   1017,2,19940415,0018,  1.6767,-110.3367, 3796,   1198.1,   3.8955,  34.5713,2,  34.5715,2,     80.5,2,     82.1,2,   101.24,2,    40.54,2,     0.00,2,     2.82,2, -999.000,9, -999.000,9, -999.000,9, -999.000,9, -999.000,9,-999.0000,9,  -999.00,9,   -999.0,9,   -999.0,9,   -999.0,9,   -999.0,9,   -999.0,9,  -999.00,9, -999.00,  -999.0,-999.0000,-999.000, -999.00,  -999.0,  3.8038,-999.000
    31DSCG94_3,  P18N,   150,  1,    114,   1016,2,19940415,0018,  1.6767,-110.3367, 3796,   1299.7,   3.5652,  34.5867,2,  34.5875,2,     78.7,2,     76.3,2,   101.00,2,    40.43,2,     0.00,2,     2.83,2, -999.000,9, -999.000,9, -999.000,9, -999.000,9, -999.000,9,-999.0000,9,  -999.00,9,   -999.0,9,   -999.0,9,   -999.0,9,   -999.0,9,   -999.0,9,     7.46,2, -999.00,  -999.0,-999.0000,-999.000,   25.00,  -999.0,  3.4681,-999.000
    31DSCG94_3,  P18N,   150,  1,    113,   1209,2,19940415,0018,  1.6767,-110.3367, 3796,   1398.9,   3.3795,  34.5918,2,  34.5926,2,     83.0,2,     80.1,2,   111.41,2,    41.31,2,     0.00,2,     2.89,2, -999.000,9, -999.000,9, -999.000,9, -999.000,9, -999.000,9,-999.0000,9,  -999.00,9,   -999.0,9,   -999.0,9,   -999.0,9,   -999.0,9,   -999.0,9,  -999.00,9, -999.00,  -999.0,-999.0000,-999.000, -999.00,  -999.0,  3.2759,-999.000
    31DSCG94_3,  P18N,   150,  1,    112,   1033,2,19940415,0018,  1.6767,-110.3367, 3796,   1499.9,   3.1705,  34.6015,2,  34.6015,2,     85.2,2,     81.3,2,   120.43,2,    40.97,2,     0.00,2,     2.85,2, -999.000,9, -999.000,9, -999.000,9, -999.000,9, -999.000,9,-999.0000,9,  -999.00,9,   -999.0,9,   -999.0,9,   -999.0,9,   -999.0,9,   -999.0,9,     7.47,2, -999.00,  -999.0,-999.0000,-999.000,   25.00,  -999.0,  3.0607,-999.000
    31DSCG94_3,  P18N,   150,  1,    111,   1240,2,19940415,0018,  1.6767,-110.3367, 3796,   1600.9,   2.9444,  34.6106,2,  34.6099,2,     90.6,2,     86.9,2,   126.56,2,    40.48,2,     0.00,2,     2.82,2, -999.000,9, -999.000,9, -999.000,9, -999.000,9, -999.000,9,-999.0000,9,  -999.00,9,   -999.0,9,   -999.0,9,   -999.0,9,   -999.0,9,   -999.0,9,  -999.00,9, -999.00,  -999.0,-999.0000,-999.000, -999.00,  -999.0,  2.8286,-999.000
    31DSCG94_3,  P18N,   150,  1,    110,   1005,2,19940415,0018,  1.6767,-110.3367, 3796,   1799.6,   2.5635,  34.6295,2,  34.6297,2,    101.6,2,     94.2,2,   137.86,2,    39.88,2,     0.00,2,     2.78,2, -999.000,9, -999.000,9, -999.000,9, -999.000,9, -999.000,9,-999.0000,9,  -999.00,9,   -999.0,9,   -999.0,9,   -999.0,9,   -999.0,9,   -999.0,9,     7.49,2, -999.00,  -999.0,-999.0000,-999.000,   25.00,  -999.0,  2.4358,-999.000
    31DSCG94_3,  P18N,   150,  1,    109,   1611,2,19940415,0018,  1.6767,-110.3367, 3796,   2001.0,   2.2648,  34.6395,2,  34.6401,2,    111.6,2,    107.1,2,   140.87,2,    39.69,2,     0.00,2,     2.71,2, -999.000,9, -999.000,9, -999.000,9, -999.000,9, -999.000,9,-999.0000,9,  -999.00,9,   -999.0,9,   -999.0,9,   -999.0,9,   -999.0,9,   -999.0,9,  -999.00,9, -999.00,  -999.0,-999.0000,-999.000, -999.00,  -999.0,  2.1242,-999.000
    31DSCG94_3,  P18N,   150,  1,    108,   1218,2,19940415,0018,  1.6767,-110.3367, 3796,   2250.6,   2.0341,  34.6522,2,  34.6522,2,    117.1,2,    113.0,2,   145.07,2,    38.91,2,     0.00,2,     2.66,2, -999.000,9, -999.000,9, -999.000,9, -999.000,9, -999.000,9,-999.0000,9,  -999.00,9,   -999.0,9,   -999.0,9,   -999.0,9,   -999.0,9,   -999.0,9,     7.52,2, -999.00,  -999.0,-999.0000,-999.000,   25.00,  -999.0,  1.8755,-999.000
    31DSCG94_3,  P18N,   150,  1,    107,   1257,2,19940415,0018,  1.6767,-110.3367, 3796,   2501.6,   1.8739,  34.6618,2,  34.6613,2,    122.0,2,    119.8,2,   147.84,2,    38.59,2,     0.00,2,     2.62,2, -999.000,9, -999.000,9, -999.000,9, -999.000,9, -999.000,9,-999.0000,9,  -999.00,9,   -999.0,9,   -999.0,9,   -999.0,9,   -999.0,9,   -999.0,9,  -999.00,9, -999.00,  -999.0,-999.0000,-999.000, -999.00,  -999.0,  1.6957,-999.000
    31DSCG94_3,  P18N,   150,  1,    106,   1224,2,19940415,0018,  1.6767,-110.3367, 3796,   2749.6,   1.7722,  34.6694,2,  34.6768,3,    128.0,2,    126.8,2,   149.15,2,    38.20,2,     0.00,2,     2.59,2, -999.000,9, -999.000,9, -999.000,9, -999.000,9, -999.000,9,-999.0000,9,  -999.00,9,   -999.0,9,   -999.0,9,   -999.0,9,   -999.0,9,   -999.0,9,     7.55,2, -999.00,  -999.0,-999.0000,-999.000,   25.00,  -999.0,  1.5732,-999.000
    31DSCG94_3,  P18N,   150,  1,    105,   1246,2,19940415,0018,  1.6767,-110.3367, 3796,   2997.7,   1.7370,  34.6711,2,  34.6716,2,    131.1,2,    129.9,2,   147.96,2,    38.31,2,     0.00,2,     2.58,2, -999.000,9, -999.000,9, -999.000,9, -999.000,9, -999.000,9,-999.0000,9,  -999.00,9,   -999.0,9,   -999.0,9,   -999.0,9,   -999.0,9,   -999.0,9,  -999.00,9, -999.00,  -999.0,-999.0000,-999.000, -999.00,  -999.0,  1.5152,-999.000
    31DSCG94_3,  P18N,   150,  1,    104,   1217,2,19940415,0018,  1.6767,-110.3367, 3796,   3250.1,   1.6326,  34.6769,2,  34.6772,2,    136.0,2,    136.4,2,   149.11,2,    37.65,2,     0.00,2,     2.51,2, -999.000,9, -999.000,9, -999.000,9, -999.000,9, -999.000,9,-999.0000,9,  -999.00,9,   -999.0,9,   -999.0,9,   -999.0,9,   -999.0,9,   -999.0,9,     7.57,2, -999.00,  -999.0,-999.0000,-999.000,   25.00,  -999.0,  1.3884,-999.000
    31DSCG94_3,  P18N,   150,  1,    103,   9999,2,19940415,0018,  1.6767,-110.3367, 3796,   3501.5,   1.5520,  34.6830,2,  34.6846,2,    142.4,2,    142.8,2,   152.58,2,    36.99,2,     0.00,2,     2.48,2, -999.000,9, -999.000,9, -999.000,9, -999.000,9, -999.000,9,-999.0000,9,  -999.00,9,   -999.0,9,   -999.0,9,   -999.0,9,   -999.0,9,   -999.0,9,  -999.00,9, -999.00,  -999.0,-999.0000,-999.000, -999.00,  -999.0,  1.2844,-999.000
    31DSCG94_3,  P18N,   150,  1,    102,   1223,2,19940415,0018,  1.6767,-110.3367, 3796,   3501.6,   1.5518,  34.6831,2,  34.6833,2,    142.4,2,    143.5,2,   151.95,2,    37.44,2,     0.00,2,     2.49,2, -999.000,9, -999.000,9, -999.000,9, -999.000,9, -999.000,9,-999.0000,9,  -999.00,9,   -999.0,9,   -999.0,9,   -999.0,9,   -999.0,9,   -999.0,9,     7.58,2, -999.00,  -999.0,-999.0000,-999.000,   25.00,  -999.0,  1.2842,-999.000
    31DSCG94_3,  P18N,   150,  1,    101,   1041,2,19940415,0018,  1.6767,-110.3367, 3796,   3796.4,   1.4846,  34.6881,2,  34.6876,2,    146.8,2,    147.9,6,   152.88,2,    37.09,2,     0.00,2,     2.46,2, -999.000,9, -999.000,9, -999.000,9, -999.000,9, -999.000,9,-999.0000,9,  -999.00,9,   -999.0,9,   -999.0,9,   -999.0,9,   -999.0,9,   -999.0,9,  -999.00,9, -999.00,  -999.0,-999.0000,-999.000, -999.00,  -999.0,  1.1880,-999.000