BOTTLE,20220630CCHSIOAMB
EXPOCODE,SECT_ID,STNNBR,CASTNO,SAMPNO,BTLNBR,BTLNBR_FLAG_W,DATE,TIME,LATITUDE,LONGITUDE,DEPTH,CTDPRS,CTDTMP,CTDSAL,CTDSAL_FLAG_W,SALNTY,SALNTY_FLAG_W,CTDOXY,CTDOXY_FLAG_W,OXYGEN,OXYGEN_FLAG_W,SILCAT,SILCAT_FLAG_W,NITRAT,NITRAT_FLAG_W,NITRIT,NITRIT_FLAG_W,PHSPHT,PHSPHT_FLAG_W,CFC-11,CFC-11_FLAG_W,CFC-12,CFC-12_FLAG_W,CFC113,CFC113_FLAG_W,CCL4,CCL4_FLAG_W,TRITUM,TRITUM_FLAG_W,HELIUM,HELIUM_FLAG_W,DELHE3,DELHE3_FLAG_W,DELC14,DELC14_FLAG_W,DELC13,DELC13_FLAG_W,TCARBN,TCARBN_FLAG_W,PCO2,PCO2_FLAG_W,ALKALI,ALKALI_FLAG_W,PH,PH_FLAG_W,PCO2TMP,C14ERR,HELIER,DELHER,PH_TMP,C13ERR,THETA,TRITER
,,,,,,,,,,,,DBAR,ITS-90,PSS-78,,PSS-78,,UMOL/KG,,UMOL/KG,,UMOL/KG,,UMOL/KG,,UMOL/KG,,UMOL/KG,,PMOL/KG,,PMOL/KG,,PMOL/KG,,PMOL/KG,,TU,,NMOL/KG,,PERCNT,,/MILLE,,/MILLE,,UMOL/KG,,UATM,,UMOL/KG,,,,DEG C,/MILLE,NMOL/KG,PERCNT,DEG C,/MILLE,DEG C,TU
    31DSCG94_3,  P18N,   101,  3,    336,   1025,3,19940401,2136,-19.0000,-103.0017, 4085,     10.1,  24.3609,  36.3134,2,-999.0000,5,    456.9,2,   -999.0,9,  -999.00,9,  -999.00,9,  -999.00,9,  -999.00,9, -999.000,5, -999.000,5, -999.000,9, -999.000,9, -999.000,9,-999.0000,9,  -999.00,9,   -999.0,9,   -999.0,9,   -999.0,9,   -999.0,9,   -999.0,9,  -999.00,9, -999.00,  -999.0,-999.0000,-999.000, -999.00,  -999.0, 24.3587,-999.000
    31DSCG94_3,  P18N,   101,  3,    335,   1247,2,19940401,2136,-19.0000,-103.0017, 4085,     24.0,  24.2526,  36.3418,2,  36.3347,2,    205.9,2,    210.8,2,     1.01,2,     0.18,2,     0.00,2,     0.27,2,    1.978,2,    1.097,2, -999.000,9, -999.000,9, -999.000,9,-999.0000,9,  -999.00,9,    118.4,2,      1.7,2,   2072.1,2,   -999.0,9,   2397.0,6,     8.06,2, -999.00,     3.0,-999.0000,-999.000,   25.00,  -999.0, 24.2475,-999.000
    31DSCG94_3,  P18N,   101,  3,    334,   1216,2,19940401,2136,-19.0000,-103.0017, 4085,     49.6,  24.1334,  36.4061,2,  36.3928,2,    208.4,2,    213.0,2,     1.02,2,     0.13,2,     0.00,2,     0.28,2,    1.989,2,    1.093,2, -999.000,9, -999.000,9, -999.000,9,-999.0000,9,  -999.00,9,     94.0,2,      1.7,2,   2066.9,2,    309.8,2,   2398.0,2,     8.07,2,   20.00,     3.2,-999.0000,-999.000,   25.00,  -999.0, 24.1229,-999.000
    31DSCG94_3,  P18N,   101,  3,    333,   1244,2,19940401,2136,-19.0000,-103.0017, 4085,     75.3,  23.7240,  36.3921,2,  36.4247,3,    211.3,2,    213.2,2,     1.06,2,     0.13,2,     0.00,2,     0.26,2,    1.984,2,    1.127,2, -999.000,9, -999.000,9, -999.000,9,-999.0000,9,  -999.00,9,     97.5,2,      1.9,2,   2064.3,2,   -999.0,9,   2401.0,2,     8.07,2, -999.00,     3.7,-999.0000,-999.000,   25.00,  -999.0, 23.7082,-999.000
    31DSCG94_3,  P18N,   101,  3,    332,   1003,2,19940401,2136,-19.0000,-103.0017, 4085,     99.7,  22.4091,  36.2320,2,  36.2330,2,    222.9,2,    218.8,2,     0.96,2,     0.12,2,     0.00,2,     0.26,2,    2.113,2,    1.155,2, -999.000,9, -999.000,9, -999.000,9,-999.0000,9,  -999.00,9,    103.7,2,      1.7,2,   2064.3,2,    319.5,2,   2385.0,2,     8.06,2,   20.00,     4.0,-999.0000,-999.000,   25.00,  -999.0, 22.3890,-999.000
    31DSCG94_3,  P18N,   101,  3,    331,   1211,2,19940401,2136,-19.0000,-103.0017, 4085,    123.7,  21.4571,  36.0332,2,  36.0415,2,    217.2,2,    217.5,2,     0.91,2,     0.08,2,     0.00,2,     0.24,2,    2.172,2,    1.192,2, -999.000,9, -999.000,9, -999.000,9,-999.0000,9,  -999.00,9,    111.9,2,      1.7,2,   2065.4,2,   -999.0,9,   2375.0,2,     8.04,2, -999.00,     4.0,-999.0000,-999.000,   25.00,  -999.0, 21.4329,-999.000
    31DSCG94_3,  P18N,   101,  3,    330,   1241,2,19940401,2136,-19.0000,-103.0017, 4085,    149.5,  20.5727,  35.8379,2,  35.8293,2,    221.0,2,    220.9,2,     0.68,2,     0.09,2,     0.00,2,     0.25,2,    2.277,2,    1.230,2, -999.000,9, -999.000,9, -999.000,9,-999.0000,9,  -999.00,9,    127.2,2,      1.7,2,   2062.9,2,   -999.0,9,   2361.0,2,     8.03,2, -999.00,     3.2,-999.0000,-999.000,   25.00,  -999.0, 20.5444,-999.000
    31DSCG94_3,  P18N,   101,  3,    329,   1240,2,19940401,2136,-19.0000,-103.0017, 4085,    200.5,  19.3175,  35.5788,2,  35.5749,2,    214.9,2,    210.7,2,     0.92,2,     0.90,2,     0.18,2,     0.34,2,    2.348,6,    1.290,2, -999.000,9, -999.000,9, -999.000,9,-999.0000,9,  -999.00,9,     97.7,2,      1.5,2,   2070.0,2,    376.8,2,   2343.0,2,     7.99,2,   20.00,     5.6,-999.0000,-999.000,   25.00,  -999.0, 19.2812,-999.000
    31DSCG94_3,  P18N,   101,  3,    328,   1032,2,19940401,2136,-19.0000,-103.0017, 4085,    246.3,  16.0873,  35.0225,2,  35.0202,2,    189.8,2,    194.8,2,     1.65,2,     5.00,2,     0.00,2,     0.59,2,    2.304,2,    1.233,2, -999.000,9, -999.000,9, -999.000,9,-999.0000,9,  -999.00,9,    100.4,2,   -999.0,9,   2078.1,2,   -999.0,9,   2309.0,2,     7.92,2, -999.00,     5.7,-999.0000,-999.000,   25.00,  -999.0, 16.0481,-999.000
    31DSCG94_3,  P18N,   101,  3,    327,   1008,2,19940401,2136,-19.0000,-103.0017, 4085,    298.9,  12.6322,  34.5955,2,  34.6024,2,    153.1,2,    161.9,2,     5.22,2,    12.84,2,     0.00,2,     1.17,2, -999.000,5, -999.000,5, -999.000,9, -999.000,9, -999.000,9,-999.0000,9,  -999.00,9,     80.6,2,   -999.0,9,   2118.7,2,    665.0,2,   2290.0,2,     7.78,2,   20.00,     3.6,-999.0000,-999.000,   25.00,  -999.0, 12.5918,-999.000
    31DSCG94_3,  P18N,   101,  3,    326,   1007,2,19940401,2136,-19.0000,-103.0017, 4085,    347.3,  10.4947,  34.4970,2,  34.4963,2,    124.5,2,    110.4,2,    12.63,2,    22.14,2,     0.00,2,     1.93,2, -999.000,5, -999.000,5, -999.000,9, -999.000,9, -999.000,9,-999.0000,9,  -999.00,9,   -999.0,9,      1.4,2,   2183.3,2,   1040.8,2,   2279.0,2,     7.61,2,   20.00,  -999.0,-999.0000,-999.000,   25.00,  -999.0, 10.4531,-999.000
    31DSCG94_3,  P18N,   101,  3,    325,   1203,2,19940401,2136,-19.0000,-103.0017, 4085,    348.4,  10.4852,  34.4957,2,  34.4972,2,    124.3,2,    109.3,2,    12.57,2,    22.19,2,     0.00,2,     1.93,2,    0.948,6,    0.496,6, -999.000,9, -999.000,9, -999.000,9,-999.0000,9,  -999.00,9,     25.8,2,      1.1,2,   2182.6,2,   1038.2,2,   2286.0,2,     7.61,2,   20.00,     3.2,-999.0000,-999.000,   25.00,  -999.0, 10.4435,-999.000
    31DSCG94_3,  P18N,   101,  3,    323,   1220,2,19940401,2136,-19.0000,-103.0017, 4085,    500.3,   6.7425,  34.3960,2,  34.3947,2,    128.9,2,    128.6,2,    20.53,2,    32.73,2,     0.00,2,     2.32,2,    0.185,2,    0.109,2, -999.000,9, -999.000,9, -999.000,9,-999.0000,9,  -999.00,9,    -78.5,2,      0.8,2,   2209.2,3,   1222.5,2,   2281.0,2,     7.54,2,   20.00,     5.0,-999.0000,-999.000,   25.00,  -999.0,  6.6960,-999.000
    31DSCG94_3,  P18N,   101,  3,    322,   1245,2,19940401,2136,-19.0000,-103.0017, 4085,    598.9,   5.9731,  34.4083,2,  34.4083,2,    113.5,2,    113.6,2,    29.75,2,    36.12,2,     0.00,2,     2.52,2,   -0.008,2,   -0.002,4, -999.000,9, -999.000,9, -999.000,9,-999.0000,9,  -999.00,9,   -110.1,2,      0.7,2,   2229.0,2,   1342.9,2,   2295.0,2,     7.51,2,   20.00,     3.4,-999.0000,-999.000,   25.00,  -999.0,  5.9205,-999.000
    31DSCG94_3,  P18N,   101,  3,    321,   1206,2,19940401,2136,-19.0000,-103.0017, 4085,    698.1,   5.4695,  34.4418,2,  34.4427,2,     90.4,2,     91.0,2,    42.61,2,    38.95,2,     0.00,2,     2.74,2,    0.002,2,    0.001,2, -999.000,9, -999.000,9, -999.000,9,-999.0000,9,  -999.00,9,   -128.0,2,      0.4,2,   2254.5,2,   1495.6,2,   2306.0,2,     7.47,2,   20.00,     3.9,-999.0000,-999.000,   25.00,  -999.0,  5.4104,-999.000
    31DSCG94_3,  P18N,   101,  3,    320,   1028,2,19940401,2136,-19.0000,-103.0017, 4085,    800.1,   4.9872,  34.4743,2,  34.4755,2,     85.5,2,     80.3,2,    54.94,2,    40.48,2,     0.00,2,     2.84,2,    0.001,2,   -0.001,6, -999.000,9, -999.000,9, -999.000,9,-999.0000,9,  -999.00,9,   -142.1,2,      0.3,2,   2274.2,2,   1557.4,2,   2326.0,2,     7.45,2,   20.00,     3.9,-999.0000,-999.000,   25.00,  -999.0,  4.9218,-999.000
    31DSCG94_3,  P18N,   101,  3,    319,   1248,2,19940401,2136,-19.0000,-103.0017, 4085,    897.5,   4.6225,  34.4952,2,  34.4956,2,     82.8,2,     78.3,6,    64.94,2,    40.82,2,     0.00,2,     2.91,2,    0.007,2,   -0.002,2, -999.000,9, -999.000,9, -999.000,9,-999.0000,9,  -999.00,9,   -165.9,2,      0.2,2,   2286.8,2,   1590.4,2,   2335.0,2,     7.45,2,   20.00,     3.1,-999.0000,-999.000,   25.00,  -999.0,  4.5510,-999.000
    31DSCG94_3,  P18N,   101,  3,    318,   1207,2,19940401,2136,-19.0000,-103.0017, 4085,    997.7,   4.3062,  34.5158,2,  34.5160,2,     76.6,2,     73.8,2,    74.26,2,    41.67,2,     0.00,2,     2.98,2,    0.007,2,   -0.002,2, -999.000,9, -999.000,9, -999.000,9,-999.0000,9,  -999.00,9,   -999.0,5,      0.1,2,   2303.1,2,   1632.5,2,   2335.0,6,     7.44,2,   20.00,  -999.0,-999.0000,-999.000,   25.00,  -999.0,  4.2283,-999.000
    31DSCG94_3,  P18N,   101,  3,    317,   1119,2,19940401,2136,-19.0000,-103.0017, 4085,   1098.9,   3.9950,  34.5324,2,  34.5331,2,     79.9,2,     77.4,2,    82.31,2,    41.55,2,     0.00,2,     2.91,2,    0.270,4,    0.191,4, -999.000,9, -999.000,9, -999.000,9,-999.0000,9,  -999.00,9,   -196.2,2,      0.1,2,   2305.1,2,   1610.9,2,   2352.0,2,     7.44,2,   20.00,     4.1,-999.0000,-999.000,   25.00,  -999.0,  3.9111,-999.000
    31DSCG94_3,  P18N,   101,  3,    316,   1036,2,19940401,2136,-19.0000,-103.0017, 4085,   1201.1,   3.6606,  34.5454,2,  34.5447,2,     90.1,2,     87.4,2,    88.49,2,    40.71,2,     0.00,2,     2.86,2,   -0.004,2,    0.000,2, -999.000,9, -999.000,9, -999.000,9,-999.0000,9,  -999.00,9,   -191.7,2,      0.1,2,   2307.7,2,   1545.5,2,   2358.0,2,     7.46,2,   20.00,     2.9,-999.0000,-999.000,   25.00,  -999.0,  3.5710,-999.000
    31DSCG94_3,  P18N,   101,  3,    315,   1017,2,19940401,2136,-19.0000,-103.0017, 4085,   1299.6,   3.3747,  34.5587,2,  34.5583,2,     95.0,2,     95.1,2,    94.09,2,    39.90,2,     0.00,2,     2.82,2,   -0.003,2,    0.002,2, -999.000,9, -999.000,9, -999.000,9,-999.0000,9,  -999.00,9,   -206.1,2,      0.1,2,   2308.8,2,   1497.9,2,   2365.0,2,     7.48,2,   20.00,     2.9,-999.0000,-999.000,   25.00,  -999.0,  3.2795,-999.000
    31DSCG94_3,  P18N,   101,  3,    314,   1016,2,19940401,2136,-19.0000,-103.0017, 4085,   1399.5,   3.1367,  34.5722,2,  34.5590,4,    100.1,2,     99.7,2,    99.63,2,    39.45,2,     0.00,2,     2.79,2, -999.000,5, -999.000,5, -999.000,9, -999.000,9, -999.000,9,-999.0000,9,  -999.00,9,   -218.7,2,      0.3,3,   2315.7,2,   1479.1,2,   2369.0,2,     7.48,2,   20.00,     3.5,-999.0000,-999.000,   25.00,  -999.0,  3.0357,-999.000
    31DSCG94_3,  P18N,   101,  3,    313,   1209,2,19940401,2136,-19.0000,-103.0017, 4085,   1599.6,   2.7857,  34.5956,2,  34.5959,2,    105.5,2,    104.1,2,   108.83,2,    38.86,2,     0.00,2,     2.75,2,   -0.005,2,   -0.002,2, -999.000,9, -999.000,9, -999.000,9,-999.0000,9,  -999.00,9,   -221.3,2,      0.1,2,   2321.1,2,   1442.1,2,   2382.0,2,     7.50,2,   20.00,     3.2,-999.0000,-999.000,   25.00,  -999.0,  2.6721,-999.000
    31DSCG94_3,  P18N,   101,  3,    312,   1033,2,19940401,2136,-19.0000,-103.0017, 4085,   1799.7,   2.4743,  34.6169,2,  34.6172,2,    115.7,2,    115.8,2,   115.01,2,    38.22,2,     0.00,2,     2.68,2, -999.000,9, -999.000,9, -999.000,9, -999.000,9, -999.000,9,-999.0000,9,  -999.00,9,   -220.9,2,      0.1,2,   2321.3,2,   1380.1,2,   2395.0,2,     7.51,2,   20.00,     2.8,-999.0000,-999.000,   25.00,  -999.0,  2.3479,-999.000
    31DSCG94_3,  P18N,   101,  3,    311,   1240,2,19940401,2136,-19.0000,-103.0017, 4085,   2000.6,   2.2305,  34.6342,2,  34.6347,2,    126.7,2,    128.0,6,   118.47,2,    37.35,2,     0.00,2,     2.60,2, -999.000,9, -999.000,9, -999.000,9, -999.000,9, -999.000,9,-999.0000,9,  -999.00,9,   -223.7,2,      0.1,2,   2318.2,3,   1306.3,2,   2391.0,2,     7.54,2,   20.00,     2.6,-999.0000,-999.000,   25.00,  -999.0,  2.0904,-999.000
    31DSCG94_3,  P18N,   101,  3,    310,   1005,2,19940401,2136,-19.0000,-103.0017, 4085,   2247.9,   2.0079,  34.6522,2,  34.6516,2,    140.4,2,    141.6,2,   120.40,2,    36.14,2,     0.00,2,     2.50,2,   -0.001,2,   -0.001,2, -999.000,9, -999.000,9, -999.000,9,-999.0000,9,  -999.00,9,   -232.7,2,      0.2,2,   2312.0,2,   1229.8,2,   2398.0,2,     7.56,2,   20.00,     3.0,-999.0000,-999.000,   25.00,  -999.0,  1.8500,-999.000
    31DSCG94_3,  P18N,   101,  3,    309,   1611,2,19940401,2136,-19.0000,-103.0017, 4085,   2497.8,   1.8803,  34.6644,2,  34.6647,2,    148.0,2,    150.3,2,   121.83,2,    35.75,2,     0.00,2,     2.44,2, -999.000,9, -999.000,9, -999.000,9, -999.000,9, -999.000,9,-999.0000,9,  -999.00,9,   -224.1,2,      0.2,2,   2308.5,2,   1178.0,2,   2401.0,2,     7.57,2,   20.00,     2.9,-999.0000,-999.000,   25.00,  -999.0,  1.7024,-999.000
    31DSCG94_3,  P18N,   101,  3,    308,   1218,2,19940401,2136,-19.0000,-103.0017, 4085,   2742.3,   1.8177,  34.6730,2,  34.6739,2,    149.6,2,    151.3,2,   125.11,2,    35.52,2,     0.00,2,     2.44,2, -999.000,9, -999.000,9, -999.000,9, -999.000,9, -999.000,9,-999.0000,9,  -999.00,9,   -225.0,2,      0.2,2,   2312.4,2,   1171.1,2,   2408.0,2,     7.58,2,   20.00,     3.9,-999.0000,-999.000,   25.00,  -999.0,  1.6184,-999.000
    31DSCG94_3,  P18N,   101,  3,    307,   1257,2,19940401,2136,-19.0000,-103.0017, 4085,   2998.5,   1.7860,  34.6786,2,  34.6783,2,    146.9,2,    149.6,2,   128.42,2,    35.57,2,     0.00,2,     2.46,2,   -0.003,2,    0.002,2, -999.000,9, -999.000,9, -999.000,9,-999.0000,9,  -999.00,9,   -218.4,2,      0.2,2,   2318.4,2,   1169.7,2,   2408.0,2,     7.58,2,   20.00,     3.0,-999.0000,-999.000,   25.00,  -999.0,  1.5630,-999.000
    31DSCG94_3,  P18N,   101,  3,    306,   1224,2,19940401,2136,-19.0000,-103.0017, 4085,   3243.7,   1.7728,  34.6823,2,  34.6820,2,    145.4,2,    148.6,2,   129.09,2,    35.61,2,     0.00,2,     2.46,2, -999.000,9, -999.000,9, -999.000,9, -999.000,9, -999.000,9,-999.0000,9,  -999.00,9,   -214.9,2,      0.1,2,   2321.9,2,   1170.1,2,   2414.0,2,     7.58,2,   20.00,     2.4,-999.0000,-999.000,   25.00,  -999.0,  1.5259,-999.000
    31DSCG94_3,  P18N,   101,  3,    305,   1246,2,19940401,2136,-19.0000,-103.0017, 4085,   3499.5,   1.7738,  34.6847,2,  34.6843,2,    147.2,2,    149.6,6,   128.47,2,    35.50,2,     0.00,2,     2.46,2, -999.000,9, -999.000,9, -999.000,9, -999.000,9, -999.000,9,-999.0000,9,  -999.00,9,   -209.0,2,      0.2,2,   2321.9,2,   1164.3,2,   2419.0,2,     7.58,2,   20.00,     2.8,-999.0000,-999.000,   25.00,  -999.0,  1.5007,-999.000
    31DSCG94_3,  P18N,   101,  3,    304,   1217,2,19940401,2136,-19.0000,-103.0017, 4085,   3747.1,   1.7887,  34.6860,2,  34.6859,2,    147.6,2,    149.3,2,   127.85,2,    35.91,2,     0.00,2,     2.47,2,   -0.001,2,    0.002,2, -999.000,9, -999.000,9, -999.000,9,-999.0000,9,  -999.00,9,   -223.5,2,      0.1,2,   2322.0,2,   1162.6,2,   2414.0,2,     7.58,2,   20.00,     4.4,-999.0000,-999.000,   25.00,  -999.0,  1.4891,-999.000
    31DSCG94_3,  P18N,   101,  3,    303,   9999,2,19940401,2136,-19.0000,-103.0017, 4085,   3999.2,   1.8128,  34.6862,2,  34.6861,2,    147.5,2,    148.8,2,   127.41,2,    35.65,2,     0.00,2,     2.47,2, -999.000,9, -999.000,9, -999.000,9, -999.000,9, -999.000,9,-999.0000,9,  -999.00,9,   -999.0,9,   -999.0,9,   2322.8,2,   1153.6,2,   2416.0,2,     7.59,2,   20.00,  -999.0,-999.0000,-999.000,   25.00,  -999.0,  1.4851,-999.000
    31DSCG94_3,  P18N,   101,  3,    302,   1223,2,19940401,2136,-19.0000,-103.0017, 4085,   4000.0,   1.8128,  34.6861,2,  34.6868,2,    147.3,2,    149.3,2,   128.37,2,    35.37,2,     0.00,2,     2.45,2,   -0.002,2,    0.007,2, -999.000,9, -999.000,9, -999.000,9,-999.0000,9,  -999.00,9,   -218.2,2,      0.1,2,   2323.8,2,   1147.3,2,   -999.0,5,     7.58,2,   20.00,     2.9,-999.0000,-999.000,   25.00,  -999.0,  1.4850,-999.000
    31DSCG94_3,  P18N,   101,  3,    301,   1041,2,19940401,2136,-19.0000,-103.0017, 4085,   4142.4,   1.8293,  34.6862,2,  34.6861,2,    146.7,2,    148.4,2,   129.52,2,    35.20,2,     0.00,2,     2.46,2, -999.000,9, -999.000,9, -999.000,9, -999.000,9, -999.000,9,-999.0000,9,  -999.00,9,   -222.4,2,      0.1,2,   2321.5,2,   1151.5,2,   2417.0,2,     7.58,2,   20.00,     3.0,-999.0000,-999.000,   25.00,  -999.0,  1.4851,-999.000