BOTTLE,20220630CCHSIOAMB
EXPOCODE,SECT_ID,STNNBR,CASTNO,SAMPNO,BTLNBR,BTLNBR_FLAG_W,DATE,TIME,LATITUDE,LONGITUDE,DEPTH,CTDPRS,CTDTMP,CTDSAL,CTDSAL_FLAG_W,SALNTY,SALNTY_FLAG_W,CTDOXY,CTDOXY_FLAG_W,OXYGEN,OXYGEN_FLAG_W,SILCAT,SILCAT_FLAG_W,NITRAT,NITRAT_FLAG_W,NITRIT,NITRIT_FLAG_W,PHSPHT,PHSPHT_FLAG_W,CFC-11,CFC-11_FLAG_W,CFC-12,CFC-12_FLAG_W,CFC113,CFC113_FLAG_W,CCL4,CCL4_FLAG_W,TRITUM,TRITUM_FLAG_W,HELIUM,HELIUM_FLAG_W,DELHE3,DELHE3_FLAG_W,DELC14,DELC14_FLAG_W,DELC13,DELC13_FLAG_W,TCARBN,TCARBN_FLAG_W,PCO2,PCO2_FLAG_W,ALKALI,ALKALI_FLAG_W,PH,PH_FLAG_W,PCO2TMP,C14ERR,HELIER,DELHER,PH_TMP,C13ERR,THETA,TRITER
,,,,,,,,,,,,DBAR,ITS-90,PSS-78,,PSS-78,,UMOL/KG,,UMOL/KG,,UMOL/KG,,UMOL/KG,,UMOL/KG,,UMOL/KG,,PMOL/KG,,PMOL/KG,,PMOL/KG,,PMOL/KG,,TU,,NMOL/KG,,PERCNT,,/MILLE,,/MILLE,,UMOL/KG,,UATM,,UMOL/KG,,,,DEG C,/MILLE,NMOL/KG,PERCNT,DEG C,/MILLE,DEG C,TU
    31DSCG94_3,  P18N,   194,  1,    110,   1005,2,19940425,1936, 22.8517,-109.9983,  195,      7.8,  17.0839,  34.3142,2,  34.3167,2,    139.9,2,   -999.0,9,    12.01,2,    10.89,2,     0.29,2,     1.31,2, -999.000,9, -999.000,9, -999.000,9, -999.000,9, -999.000,9,-999.0000,9,  -999.00,9,   -999.0,9,      0.8,2,   2116.4,2,    670.8,2,   2269.0,2,  -999.00,9,   20.00,  -999.0,-999.0000,-999.000, -999.00,  -999.0, 17.0826,-999.000
    31DSCG94_3,  P18N,   194,  1,    109,   1611,2,19940425,1936, 22.8517,-109.9983,  195,      8.1,  17.0214,  34.3159,2,  34.3159,2,    169.0,2,    153.8,6,    11.94,2,    10.71,2,     0.29,2,     1.31,2, -999.000,9, -999.000,9, -999.000,9, -999.000,9, -999.000,9,-999.0000,9,  -999.00,9,   -999.0,9,   -999.0,9,   -999.0,9,   -999.0,9,   -999.0,9,     7.78,2, -999.00,  -999.0,-999.0000,-999.000,   25.00,  -999.0, 17.0201,-999.000
    31DSCG94_3,  P18N,   194,  1,    108,   1218,2,19940425,1936, 22.8517,-109.9983,  195,     24.7,  15.7157,  34.3816,2,  34.3802,2,     56.8,2,    117.3,2,    17.92,2,    17.52,2,     0.28,2,     1.77,2, -999.000,9, -999.000,9, -999.000,9, -999.000,9, -999.000,9,-999.0000,9,  -999.00,9,   -999.0,9,   -999.0,9,   -999.0,9,   -999.0,9,   -999.0,9,     7.66,2, -999.00,  -999.0,-999.0000,-999.000,   25.00,  -999.0, 15.7119,-999.000
    31DSCG94_3,  P18N,   194,  1,    107,   1257,2,19940425,1936, 22.8517,-109.9983,  195,     50.2,  14.5375,  34.4979,2,  34.4993,2,      9.9,2,     47.5,2,    23.17,2,    23.04,2,     0.21,2,     2.14,2, -999.000,9, -999.000,9, -999.000,9, -999.000,9, -999.000,9,-999.0000,9,  -999.00,9,   -999.0,9,   -999.0,9,   2210.0,2,   1218.0,2,   2283.0,2,     7.55,2,   20.00,  -999.0,-999.0000,-999.000,   25.00,  -999.0, 14.5301,-999.000
    31DSCG94_3,  P18N,   194,  1,    106,   1224,2,19940425,1936, 22.8517,-109.9983,  195,     73.4,  14.1625,  34.5622,2,  34.5594,2,     39.0,2,     36.2,2,    24.90,2,    24.50,2,     0.13,2,     2.25,2, -999.000,9, -999.000,9, -999.000,9, -999.000,9, -999.000,9,-999.0000,9,  -999.00,9,   -999.0,9,   -999.0,9,   -999.0,9,   -999.0,9,   -999.0,9,     7.52,2, -999.00,  -999.0,-999.0000,-999.000,   25.00,  -999.0, 14.1519,-999.000
    31DSCG94_3,  P18N,   194,  1,    105,   1246,2,19940425,1936, 22.8517,-109.9983,  195,    100.3,  13.7665,  34.6451,2,  34.6456,2,     30.0,2,     25.1,6,    28.53,2,    25.94,2,     0.04,2,     2.41,2, -999.000,9, -999.000,9, -999.000,9, -999.000,9, -999.000,9,-999.0000,9,  -999.00,9,   -999.0,9,   -999.0,9,   2239.9,2,   1408.1,2,   2299.0,2,     7.49,2,   20.00,  -999.0,-999.0000,-999.000,   25.00,  -999.0, 13.7523,-999.000
    31DSCG94_3,  P18N,   194,  1,    103,   9999,2,19940425,1936, 22.8517,-109.9983,  195,    148.9,  12.7427,  34.7210,2,  34.7194,2,     10.9,2,      9.5,2,    33.68,2,    27.24,2,     0.01,2,     2.58,2, -999.000,9, -999.000,9, -999.000,9, -999.000,9, -999.000,9,-999.0000,9,  -999.00,9,   -999.0,9,   -999.0,9,   2260.2,2,   1571.4,2,   2300.0,2,  -999.00,9,   20.00,  -999.0,-999.0000,-999.000, -999.00,  -999.0, 12.7226,-999.000
    31DSCG94_3,  P18N,   194,  1,    104,   1217,2,19940425,1936, 22.8517,-109.9983,  195,    150.1,  12.7440,  34.7215,2,  34.7195,2,     10.0,2,      9.5,2,    32.80,2,    27.11,2,     0.01,2,     2.59,2, -999.000,9, -999.000,9, -999.000,9, -999.000,9, -999.000,9,-999.0000,9,  -999.00,9,   -999.0,9,   -999.0,9,   -999.0,9,   -999.0,9,   -999.0,9,     7.45,2, -999.00,  -999.0,-999.0000,-999.000,   25.00,  -999.0, 12.7238,-999.000
    31DSCG94_3,  P18N,   194,  1,    101,   1041,2,19940425,1936, 22.8517,-109.9983,  195,    191.6,  11.9367,  34.7044,2,  34.7024,2,     -0.8,3,      4.7,2,    34.48,2,    27.25,2,     0.02,2,     2.64,2, -999.000,9, -999.000,9, -999.000,9, -999.000,9, -999.000,9,-999.0000,9,  -999.00,9,   -999.0,9,   -999.0,9,   2268.0,2,   1649.7,2,   2302.0,2,     7.43,2,   20.00,  -999.0,-999.0000,-999.000,   25.00,  -999.0, 11.9119,-999.000
    31DSCG94_3,  P18N,   194,  1,    102,   1223,2,19940425,1936, 22.8517,-109.9983,  195,    192.0,  11.9453,  34.7049,2,  34.7021,2,     -0.8,3,      4.6,2,    35.00,2,    27.20,2,     0.00,2,     2.62,2, -999.000,9, -999.000,9, -999.000,9, -999.000,9, -999.000,9,-999.0000,9,  -999.00,9,   -999.0,9,   -999.0,9,   -999.0,9,   -999.0,9,   -999.0,9,     7.43,2, -999.00,  -999.0,-999.0000,-999.000,   25.00,  -999.0, 11.9204,-999.000