BOTTLE,20220630CCHSIOAMB
EXPOCODE,SECT_ID,STNNBR,CASTNO,SAMPNO,BTLNBR,BTLNBR_FLAG_W,DATE,TIME,LATITUDE,LONGITUDE,DEPTH,CTDPRS,CTDTMP,CTDSAL,CTDSAL_FLAG_W,SALNTY,SALNTY_FLAG_W,CTDOXY,CTDOXY_FLAG_W,OXYGEN,OXYGEN_FLAG_W,SILCAT,SILCAT_FLAG_W,NITRAT,NITRAT_FLAG_W,NITRIT,NITRIT_FLAG_W,PHSPHT,PHSPHT_FLAG_W,CFC-11,CFC-11_FLAG_W,CFC-12,CFC-12_FLAG_W,CFC113,CFC113_FLAG_W,CCL4,CCL4_FLAG_W,TRITUM,TRITUM_FLAG_W,HELIUM,HELIUM_FLAG_W,DELHE3,DELHE3_FLAG_W,DELC14,DELC14_FLAG_W,DELC13,DELC13_FLAG_W,TCARBN,TCARBN_FLAG_W,PCO2,PCO2_FLAG_W,ALKALI,ALKALI_FLAG_W,PH,PH_FLAG_W,PCO2TMP,C14ERR,HELIER,DELHER,PH_TMP,C13ERR,THETA,TRITER
,,,,,,,,,,,,DBAR,ITS-90,PSS-78,,PSS-78,,UMOL/KG,,UMOL/KG,,UMOL/KG,,UMOL/KG,,UMOL/KG,,UMOL/KG,,PMOL/KG,,PMOL/KG,,PMOL/KG,,PMOL/KG,,TU,,NMOL/KG,,PERCNT,,/MILLE,,/MILLE,,UMOL/KG,,UATM,,UMOL/KG,,,,DEG C,/MILLE,NMOL/KG,PERCNT,DEG C,/MILLE,DEG C,TU
    31DSCG94_3,  P18N,   132,  1,    124,    435,2,19940410,0846, -5.0017,-110.3350, 3457,     10.2,  27.8900,  34.6972,2,-999.0000,5,    187.0,2,    201.1,2,  -999.00,9,  -999.00,9,  -999.00,9,  -999.00,9, -999.000,9, -999.000,9, -999.000,9, -999.000,9, -999.000,9,-999.0000,9,  -999.00,9,   -999.0,9,   -999.0,9,   1989.8,2,    326.7,3,   2292.0,2,  -999.00,9,   20.00,  -999.0,-999.0000,-999.000, -999.00,  -999.0, 27.8876,-999.000
    31DSCG94_3,  P18N,   132,  1,    123,    421,2,19940410,0846, -5.0017,-110.3350, 3457,     24.0,  27.8077,  34.7263,2,  34.7381,2,    170.6,2,    200.6,2,     3.25,2,     4.82,2,     0.08,2,     0.52,2, -999.000,9, -999.000,9, -999.000,9, -999.000,9, -999.000,9,-999.0000,9,  -999.00,9,   -999.0,9,   -999.0,9,   1992.4,2,    329.4,2,   2279.0,2,  -999.00,9,   20.00,  -999.0,-999.0000,-999.000, -999.00,  -999.0, 27.8021,-999.000
    31DSCG94_3,  P18N,   132,  1,    122,    418,2,19940410,0846, -5.0017,-110.3350, 3457,     48.6,  21.2946,  35.0721,2,-999.0000,5,    152.8,2,    148.4,2,     6.79,2,    12.66,2,     0.37,2,     1.15,2, -999.000,9, -999.000,9, -999.000,9, -999.000,9, -999.000,9,-999.0000,9,  -999.00,9,   -999.0,9,   -999.0,9,   2099.2,2,    524.5,2,   2306.0,2,  -999.00,9,   20.00,  -999.0,-999.0000,-999.000, -999.00,  -999.0, 21.2852,-999.000
    31DSCG94_3,  P18N,   132,  1,    121,    413,2,19940410,0846, -5.0017,-110.3350, 3457,     99.0,  14.6327,  35.0906,2,  35.0900,2,     56.7,2,     53.5,2,    12.78,2,    22.73,2,     0.09,2,     1.86,2, -999.000,9, -999.000,9, -999.000,9, -999.000,9, -999.000,9,-999.0000,9,  -999.00,9,   -999.0,9,   -999.0,9,   2198.4,2,    971.1,2,   2300.0,2,  -999.00,9,   20.00,  -999.0,-999.0000,-999.000, -999.00,  -999.0, 14.6180,-999.000
    31DSCG94_3,  P18N,   132,  1,    120,    405,2,19940410,0846, -5.0017,-110.3350, 3457,    149.3,  12.8255,  34.9128,2,  34.9149,2,     20.8,2,     25.4,2,    21.88,2,    30.73,2,     0.00,2,     2.15,2, -999.000,9, -999.000,9, -999.000,9, -999.000,9, -999.000,9,-999.0000,9,  -999.00,9,   -999.0,9,   -999.0,9,   2223.4,2,   1228.3,2,   2296.0,2,  -999.00,9,   20.00,  -999.0,-999.0000,-999.000, -999.00,  -999.0, 12.8052,-999.000
    31DSCG94_3,  P18N,   132,  1,    119,    417,2,19940410,0846, -5.0017,-110.3350, 3457,    198.7,  12.3534,  34.8803,2,  34.8805,2,     10.6,2,     16.0,2,    24.81,2,    32.26,2,     0.00,2,     2.30,2, -999.000,9, -999.000,9, -999.000,9, -999.000,9, -999.000,9,-999.0000,9,  -999.00,9,   -999.0,9,   -999.0,9,   2235.7,2,   1355.3,2,   2296.0,2,  -999.00,9,   20.00,  -999.0,-999.0000,-999.000, -999.00,  -999.0, 12.3270,-999.000
    31DSCG94_3,  P18N,   132,  1,    118,    429,2,19940410,0846, -5.0017,-110.3350, 3457,    299.3,  11.3484,  34.8252,2,  34.8241,2,      6.2,2,      8.2,2,    28.25,2,    33.56,2,     0.00,2,     2.45,2, -999.000,9, -999.000,9, -999.000,9, -999.000,9, -999.000,9,-999.0000,9,  -999.00,9,   -999.0,9,   -999.0,9,   2251.7,2,   1551.2,2,   2285.0,2,  -999.00,9,   20.00,  -999.0,-999.0000,-999.000, -999.00,  -999.0, 11.3106,-999.000
    31DSCG94_3,  P18N,   132,  1,    117,    427,2,19940410,0846, -5.0017,-110.3350, 3457,    396.7,   9.7426,  34.7268,2,  34.7274,2,     -3.6,3,      4.4,2,    36.02,2,    36.72,2,     0.00,2,     2.66,2, -999.000,9, -999.000,9, -999.000,9, -999.000,9, -999.000,9,-999.0000,9,  -999.00,9,   -999.0,9,   -999.0,9,   2274.4,2,   1759.7,2,   2300.0,2,  -999.00,9,   20.00,  -999.0,-999.0000,-999.000, -999.00,  -999.0,  9.6970,-999.000
    31DSCG94_3,  P18N,   132,  1,    116,    410,2,19940410,0846, -5.0017,-110.3350, 3457,    499.5,   8.4483,  34.6522,2,  34.6748,4,      2.7,2,     13.5,2,    38.47,2,    39.12,2,     0.00,2,     2.75,2, -999.000,9, -999.000,9, -999.000,9, -999.000,9, -999.000,9,-999.0000,9,  -999.00,9,   -999.0,9,   -999.0,9,   2274.5,2,   1754.7,3,   2303.0,2,  -999.00,9,   20.00,  -999.0,-999.0000,-999.000, -999.00,  -999.0,  8.3953,-999.000
    31DSCG94_3,  P18N,   132,  1,    115,    422,2,19940410,0846, -5.0017,-110.3350, 3457,    600.4,   7.3397,  34.5988,2,  34.6002,2,      9.3,2,     23.5,2,    44.41,2,    43.15,2,     0.00,2,     2.92,2, -999.000,9, -999.000,9, -999.000,9, -999.000,9, -999.000,9,-999.0000,9,  -999.00,9,   -999.0,9,   -999.0,9,   2286.4,2,   1801.8,2,   2308.0,2,  -999.00,9,   20.00,  -999.0,-999.0000,-999.000, -999.00,  -999.0,  7.2807,-999.000
    31DSCG94_3,  P18N,   132,  1,    114,    407,2,19940410,0846, -5.0017,-110.3350, 3457,    649.8,   6.8125,  34.5749,2,  34.5759,2,     22.5,2,     38.6,2,    48.19,2,    42.48,2,     0.00,2,     2.89,2, -999.000,9, -999.000,9, -999.000,9, -999.000,9, -999.000,9,-999.0000,9,  -999.00,9,   -999.0,9,   -999.0,9,   2281.5,2,   1705.3,2,   2307.0,2,  -999.00,9,   20.00,  -999.0,-999.0000,-999.000, -999.00,  -999.0,  6.7509,-999.000
    31DSCG94_3,  P18N,   132,  1,    113,    419,2,19940410,0846, -5.0017,-110.3350, 3457,    800.8,   5.6224,  34.5399,2,  34.5408,2,     60.3,2,     77.8,2,    59.73,2,    40.08,2,     0.00,2,     2.73,2, -999.000,9, -999.000,9, -999.000,9, -999.000,9, -999.000,9,-999.0000,9,  -999.00,9,   -999.0,9,   -999.0,9,   2276.2,2,   1483.7,2,   2323.0,2,  -999.00,9,   20.00,  -999.0,-999.0000,-999.000, -999.00,  -999.0,  5.5529,-999.000
    31DSCG94_3,  P18N,   132,  1,    112,    426,2,19940410,0846, -5.0017,-110.3350, 3457,    898.2,   4.9362,  34.5381,2,  34.5392,2,     73.0,2,   -999.0,9,    67.58,2,    40.53,2,     0.00,2,     2.66,2, -999.000,9, -999.000,9, -999.000,9, -999.000,9, -999.000,9,-999.0000,9,  -999.00,9,   -999.0,9,   -999.0,9,   2280.8,2,   1458.8,2,   2333.0,2,  -999.00,9,   20.00,  -999.0,-999.0000,-999.000, -999.00,  -999.0,  4.8624,-999.000
    31DSCG94_3,  P18N,   132,  1,    111,    424,2,19940410,0846, -5.0017,-110.3350, 3457,   1000.1,   4.4675,  34.5458,2,  34.5467,2,     80.7,2,     85.5,2,    80.20,2,    40.82,2,     0.00,2,     2.83,2, -999.000,9, -999.000,9, -999.000,9, -999.000,9, -999.000,9,-999.0000,9,  -999.00,9,   -999.0,9,   -999.0,9,   2295.6,2,   1471.1,2,   2342.0,2,  -999.00,9,   20.00,  -999.0,-999.0000,-999.000, -999.00,  -999.0,  4.3882,-999.000
    31DSCG94_3,  P18N,   132,  1,    110,    409,2,19940410,0846, -5.0017,-110.3350, 3457,   1193.3,   3.7654,  34.5691,2,  34.5696,2,     86.4,2,     92.0,2,    97.56,2,    40.81,2,     0.00,2,     2.78,2, -999.000,9, -999.000,9, -999.000,9, -999.000,9, -999.000,9,-999.0000,9,  -999.00,9,   -999.0,9,   -999.0,9,   -999.0,9,   -999.0,9,   -999.0,9,  -999.00,9, -999.00,  -999.0,-999.0000,-999.000, -999.00,  -999.0,  3.6754,-999.000
    31DSCG94_3,  P18N,   132,  1,    109,    423,2,19940410,0846, -5.0017,-110.3350, 3457,   1399.1,   3.2578,  34.5898,2,  34.5908,2,     83.2,2,     90.3,2,   111.24,2,    41.00,2,     0.00,2,     2.82,2, -999.000,9, -999.000,9, -999.000,9, -999.000,9, -999.000,9,-999.0000,9,  -999.00,9,   -999.0,9,   -999.0,9,   -999.0,9,   1422.2,3,   -999.0,9,  -999.00,9,   20.00,  -999.0,-999.0000,-999.000, -999.00,  -999.0,  3.1555,-999.000
    31DSCG94_3,  P18N,   132,  1,    108,    414,2,19940410,0846, -5.0017,-110.3350, 3457,   1597.9,   2.8749,  34.6057,2,  34.6068,2,     96.8,2,     98.7,2,   118.75,2,    40.61,2,     0.00,2,     2.80,2, -999.000,9, -999.000,9, -999.000,9, -999.000,9, -999.000,9,-999.0000,9,  -999.00,9,   -999.0,9,   -999.0,9,   -999.0,9,   -999.0,9,   -999.0,9,  -999.00,9, -999.00,  -999.0,-999.0000,-999.000, -999.00,  -999.0,  2.7603,-999.000
    31DSCG94_3,  P18N,   132,  1,    107,    437,2,19940410,0846, -5.0017,-110.3350, 3457,   1797.3,   2.5207,  34.6248,2,  34.6255,2,    114.3,2,    106.1,2,   126.77,2,    39.92,2,     0.00,2,     2.71,2, -999.000,9, -999.000,9, -999.000,9, -999.000,9, -999.000,9,-999.0000,9,  -999.00,9,   -999.0,9,   -999.0,9,   -999.0,9,   -999.0,9,   -999.0,9,  -999.00,9, -999.00,  -999.0,-999.0000,-999.000, -999.00,  -999.0,  2.3938,-999.000
    31DSCG94_3,  P18N,   132,  1,    106,    416,2,19940410,0846, -5.0017,-110.3350, 3457,   2098.7,   2.1923,  34.6432,2,  34.6446,2,    120.8,2,    114.8,2,   133.47,2,    39.38,2,     0.00,2,     2.66,2, -999.000,9, -999.000,9, -999.000,9, -999.000,9, -999.000,9,-999.0000,9,  -999.00,9,   -999.0,9,   -999.0,9,   -999.0,9,   -999.0,9,   -999.0,9,  -999.00,9, -999.00,  -999.0,-999.0000,-999.000, -999.00,  -999.0,  2.0444,-999.000
    31DSCG94_3,  P18N,   132,  1,    105,    420,2,19940410,0846, -5.0017,-110.3350, 3457,   2399.6,   1.9316,  34.6597,2,  34.6613,2,    127.0,2,    124.4,2,   138.94,2,    39.22,2,     0.00,2,     2.60,2, -999.000,9, -999.000,9, -999.000,9, -999.000,9, -999.000,9,-999.0000,9,  -999.00,9,   -999.0,9,   -999.0,9,   -999.0,9,   1276.1,2,   -999.0,9,  -999.00,9,   20.00,  -999.0,-999.0000,-999.000, -999.00,  -999.0,  1.7616,-999.000
    31DSCG94_3,  P18N,   132,  1,    104,    436,2,19940410,0846, -5.0017,-110.3350, 3457,   2701.5,   1.7745,  34.6708,2,  34.6710,2,    135.7,2,    133.7,2,   140.96,2,    39.21,2,     0.00,2,     2.55,2, -999.000,9, -999.000,9, -999.000,9, -999.000,9, -999.000,9,-999.0000,9,  -999.00,9,   -999.0,9,   -999.0,9,   -999.0,9,   -999.0,9,   -999.0,9,  -999.00,9, -999.00,  -999.0,-999.0000,-999.000, -999.00,  -999.0,  1.5799,-999.000
    31DSCG94_3,  P18N,   132,  1,    103,    425,2,19940410,0846, -5.0017,-110.3350, 3457,   3000.7,   1.6423,  34.6775,2,  34.6783,2,    142.4,2,    142.7,2,   141.51,2,    37.80,2,     0.00,2,     2.48,2, -999.000,9, -999.000,9, -999.000,9, -999.000,9, -999.000,9,-999.0000,9,  -999.00,9,   -999.0,9,   -999.0,9,   -999.0,9,   -999.0,9,   -999.0,9,  -999.00,9, -999.00,  -999.0,-999.0000,-999.000, -999.00,  -999.0,  1.4223,-999.000
    31DSCG94_3,  P18N,   132,  1,    102,    433,2,19940410,0846, -5.0017,-110.3350, 3457,   3301.3,   1.5527,  34.6831,2,  34.6846,2,    148.5,2,    150.1,2,   144.20,2,    36.93,2,     0.00,2,     2.40,2, -999.000,9, -999.000,9, -999.000,9, -999.000,9, -999.000,9,-999.0000,9,  -999.00,9,   -999.0,9,   -999.0,9,   -999.0,9,   -999.0,9,   -999.0,9,  -999.00,9, -999.00,  -999.0,-999.0000,-999.000, -999.00,  -999.0,  1.3053,-999.000
    31DSCG94_3,  P18N,   132,  1,    101,    403,2,19940410,0846, -5.0017,-110.3350, 3457,   3474.1,   1.5526,  34.6841,2,  34.6851,2,    149.7,2,    151.4,2,   146.05,2,    37.24,2,     0.00,2,     2.48,3, -999.000,9, -999.000,9, -999.000,9, -999.000,9, -999.000,9,-999.0000,9,  -999.00,9,   -999.0,9,   -999.0,9,   -999.0,9,   -999.0,9,   -999.0,9,  -999.00,9, -999.00,  -999.0,-999.0000,-999.000, -999.00,  -999.0,  1.2877,-999.000