BOTTLE,20220630CCHSIOAMB
EXPOCODE,SECT_ID,STNNBR,CASTNO,SAMPNO,BTLNBR,BTLNBR_FLAG_W,DATE,TIME,LATITUDE,LONGITUDE,DEPTH,CTDPRS,CTDTMP,CTDSAL,CTDSAL_FLAG_W,SALNTY,SALNTY_FLAG_W,CTDOXY,CTDOXY_FLAG_W,OXYGEN,OXYGEN_FLAG_W,SILCAT,SILCAT_FLAG_W,NITRAT,NITRAT_FLAG_W,NITRIT,NITRIT_FLAG_W,PHSPHT,PHSPHT_FLAG_W,CFC-11,CFC-11_FLAG_W,CFC-12,CFC-12_FLAG_W,CFC113,CFC113_FLAG_W,CCL4,CCL4_FLAG_W,TRITUM,TRITUM_FLAG_W,HELIUM,HELIUM_FLAG_W,DELHE3,DELHE3_FLAG_W,DELC14,DELC14_FLAG_W,DELC13,DELC13_FLAG_W,TCARBN,TCARBN_FLAG_W,PCO2,PCO2_FLAG_W,ALKALI,ALKALI_FLAG_W,PH,PH_FLAG_W,PCO2TMP,C14ERR,HELIER,DELHER,PH_TMP,C13ERR,THETA,TRITER
,,,,,,,,,,,,DBAR,ITS-90,PSS-78,,PSS-78,,UMOL/KG,,UMOL/KG,,UMOL/KG,,UMOL/KG,,UMOL/KG,,UMOL/KG,,PMOL/KG,,PMOL/KG,,PMOL/KG,,PMOL/KG,,TU,,NMOL/KG,,PERCNT,,/MILLE,,/MILLE,,UMOL/KG,,UATM,,UMOL/KG,,,,DEG C,/MILLE,NMOL/KG,PERCNT,DEG C,/MILLE,DEG C,TU
    31DSCG94_3,  P18N,   115,  1,    135,   1247,2,19940405,1339,-12.0022,-103.0018, 4389,      9.1,  26.1752,  35.6658,2,  35.6668,2,    206.7,2,    213.1,3,     1.96,2,     3.42,2,     0.05,2,     0.44,2,    1.799,2,    1.031,2, -999.000,9, -999.000,9,    0.804,2,   1.7567,2,    -0.62,2,   -999.0,9,   -999.0,9,   -999.0,9,   -999.0,9,   -999.0,9,     8.08,2, -999.00,  -999.0,-999.0000,-999.000,   25.00,  -999.0, 26.1732,   0.008
    31DSCG94_3,  P18N,   115,  1,    136,   1025,2,19940405,1339,-12.0022,-103.0018, 4389,      9.8,  26.1729,  35.6660,2,  35.6670,2,    206.7,2,    209.9,2,     1.92,2,     3.44,2,     0.05,2,     0.42,2,    1.791,2,    1.022,2, -999.000,9, -999.000,9, -999.000,9,-999.0000,9,  -999.00,9,   -999.0,9,      1.7,2,   2018.1,2,    290.7,2,   2349.0,6,     8.08,2,   20.00,  -999.0,-999.0000,-999.000,   25.00,  -999.0, 26.1707,-999.000
    31DSCG94_3,  P18N,   115,  1,    134,   1216,2,19940405,1339,-12.0022,-103.0018, 4389,     25.8,  26.1750,  35.6641,2,  35.6663,2,    207.6,2,    217.8,2,     1.98,2,     3.48,2,     0.05,2,     0.43,2,    1.810,2,    1.021,2, -999.000,9, -999.000,9, -999.000,9,-999.0000,9,  -999.00,9,   -999.0,9,   -999.0,9,   -999.0,9,   -999.0,9,   -999.0,9,     8.08,2, -999.00,  -999.0,-999.0000,-999.000,   25.00,  -999.0, 26.1692,-999.000
    31DSCG94_3,  P18N,   115,  1,    133,   1244,2,19940405,1339,-12.0022,-103.0018, 4389,     50.4,  23.6795,  35.7420,2,  35.7475,2,    209.3,2,    217.7,2,     1.75,2,     0.65,2,     0.00,2,     0.32,2,    2.049,2,    1.142,2, -999.000,9, -999.000,9,    0.707,2,   1.7545,2,    -1.30,2,   -999.0,9,   -999.0,9,   -999.0,9,   -999.0,9,   -999.0,9,     8.06,2, -999.00,  -999.0,-999.0000,-999.000,   25.00,  -999.0, 23.6690,   0.007
    31DSCG94_3,  P18N,   115,  1,    132,   1003,2,19940405,1339,-12.0022,-103.0018, 4389,     73.7,  21.8721,  35.7668,2,  35.7723,2,    209.4,2,    207.1,2,     2.03,2,     1.63,2,     0.19,2,     0.53,2,    2.213,2,    1.201,2, -999.000,9, -999.000,9, -999.000,9,-999.0000,9,  -999.00,9,   -999.0,9,   -999.0,9,   -999.0,9,   -999.0,9,   -999.0,9,     8.02,2, -999.00,  -999.0,-999.0000,-999.000,   25.00,  -999.0, 21.8575,-999.000
    31DSCG94_3,  P18N,   115,  1,    131,   1211,2,19940405,1339,-12.0022,-103.0018, 4389,    100.8,  19.8476,  35.6305,2,  35.6312,2,    186.8,2,    185.3,2,     2.34,2,     4.08,2,     1.61,2,     0.78,2,    2.293,6,    1.240,6, -999.000,9, -999.000,9,    0.532,2,   1.7532,2,    -1.12,2,   -999.0,9,   -999.0,9,   -999.0,9,   -999.0,9,   -999.0,9,     7.95,2, -999.00,  -999.0,-999.0000,-999.000,   25.00,  -999.0, 19.8291,   0.007
    31DSCG94_3,  P18N,   115,  1,    130,   1241,2,19940405,1339,-12.0022,-103.0018, 4389,    126.9,  18.7571,  35.4887,2,  35.4943,2,    175.3,2,    174.1,2,     2.57,2,     7.18,2,     0.41,2,     0.81,2,    2.325,2,    1.259,2, -999.000,9, -999.000,9, -999.000,9,-999.0000,9,  -999.00,9,   -999.0,9,   -999.0,9,   -999.0,9,   -999.0,9,   -999.0,9,     7.91,2, -999.00,  -999.0,-999.0000,-999.000,   25.00,  -999.0, 18.7346,-999.000
    31DSCG94_3,  P18N,   115,  1,    129,   1240,2,19940405,1339,-12.0022,-103.0018, 4389,    150.1,  16.3116,  35.1418,2,  35.1417,2,    143.0,2,    132.7,6,     5.30,2,    12.47,2,     0.01,2,     1.21,2,    2.063,2,    1.115,2, -999.000,9, -999.000,9, -999.000,9,-999.0000,9,  -999.00,9,   -999.0,9,   -999.0,9,   -999.0,9,   -999.0,9,   -999.0,9,     7.80,2, -999.00,  -999.0,-999.0000,-999.000,   25.00,  -999.0, 16.2875,-999.000
    31DSCG94_3,  P18N,   115,  1,    128,   1032,2,19940405,1339,-12.0022,-103.0018, 4389,    199.0,  12.7972,  34.7948,2,  34.7935,2,     35.1,2,     18.4,2,    19.33,2,    21.17,2,     0.00,2,     2.40,2,    0.745,2,    0.421,2, -999.000,9, -999.000,9,    0.286,2,   1.7973,2,     2.96,2,   -999.0,9,   -999.0,9,   -999.0,9,   -999.0,9,   -999.0,9,     7.48,2, -999.00,  -999.0,-999.0000,-999.000,   25.00,  -999.0, 12.7702,   0.005
    31DSCG94_3,  P18N,   115,  1,    127,   1008,2,19940405,1339,-12.0022,-103.0018, 4389,    250.6,  11.4780,  34.7824,2,  34.7816,2,      6.2,2,      4.4,2,    24.95,2,    28.65,2,     0.00,2,     2.53,2,    0.170,2,    0.103,2, -999.000,9, -999.000,9,    0.127,2,   1.8522,2,     3.47,2,   -999.0,9,   -999.0,9,   -999.0,9,   -999.0,9,   -999.0,9,     7.43,2, -999.00,  -999.0,-999.0000,-999.000,   25.00,  -999.0, 11.4463,   0.004
    31DSCG94_3,  P18N,   115,  1,    126,   1007,2,19940405,1339,-12.0022,-103.0018, 4389,    297.6,  10.4803,  34.7495,2,  34.7473,2,     12.4,2,     12.0,2,    27.69,2,    33.70,2,     0.00,2,     2.54,2,    0.071,2,    0.044,2, -999.000,9, -999.000,9, -999.000,9,-999.0000,9,  -999.00,9,   -999.0,9,   -999.0,9,   -999.0,9,   -999.0,9,   -999.0,9,     7.43,2, -999.00,  -999.0,-999.0000,-999.000,   25.00,  -999.0, 10.4446,-999.000
    31DSCG94_3,  P18N,   115,  1,    125,   1203,2,19940405,1339,-12.0022,-103.0018, 4389,    351.9,   9.7694,  34.7204,2,  34.7184,2,     14.4,2,     15.6,2,    30.60,2,    36.09,2,     0.00,2,     2.57,2,    0.036,2,    0.023,2, -999.000,9, -999.000,9,    0.031,2,   1.8125,2,     4.45,2,   -999.0,9,   -999.0,9,   -999.0,9,   -999.0,9,   -999.0,9,     7.43,2, -999.00,  -999.0,-999.0000,-999.000,   25.00,  -999.0,  9.7289,   0.003
    31DSCG94_3,  P18N,   115,  1,    123,   1220,2,19940405,1339,-12.0022,-103.0018, 4389,    397.8,   9.2517,  34.6917,2,  34.6900,2,     14.3,2,     18.0,2,    33.29,2,    37.06,2,     0.01,2,     2.62,2,    0.008,6,    0.003,6, -999.000,9, -999.000,9, -999.000,9,-999.0000,9,  -999.00,9,   -999.0,9,   -999.0,9,   -999.0,9,   -999.0,9,   -999.0,9,     7.42,2, -999.00,  -999.0,-999.0000,-999.000,   25.00,  -999.0,  9.2074,-999.000
    31DSCG94_3,  P18N,   115,  1,    122,   1245,2,19940405,1339,-12.0022,-103.0018, 4389,    498.5,   8.0726,  34.6229,2,  34.6206,2,     15.6,2,     21.5,2,    39.04,2,    39.90,2,     0.00,2,     2.76,2,    0.007,2,   -0.002,2, -999.000,9, -999.000,9,    0.011,2,   1.8170,2,     5.76,2,   -999.0,9,   -999.0,9,   -999.0,9,   -999.0,9,   -999.0,9,     7.40,2, -999.00,  -999.0,-999.0000,-999.000,   25.00,  -999.0,  8.0211,   0.003
    31DSCG94_3,  P18N,   115,  1,    121,   1206,2,19940405,1339,-12.0022,-103.0018, 4389,    601.0,   7.0036,  34.5674,2,  34.5650,2,     28.5,2,     31.0,2,    44.40,2,    44.53,2,     0.01,2,     2.85,2,   -0.002,2,   -0.002,2, -999.000,9, -999.000,9,    0.005,2,   1.6211,2,     8.19,2,   -999.0,9,   -999.0,9,   -999.0,9,   -999.0,9,   -999.0,9,     7.40,2, -999.00,  -999.0,-999.0000,-999.000,   25.00,  -999.0,  6.9461,   0.003
    31DSCG94_3,  P18N,   115,  1,    120,   1028,2,19940405,1339,-12.0022,-103.0018, 4389,    699.7,   6.2071,  34.5338,2,  34.5390,3,     36.1,2,     38.0,2,    50.76,2,    44.03,2,     0.00,2,     2.92,2,    0.004,2,    0.000,2, -999.000,9, -999.000,9,    0.003,2,   1.8072,2,     8.98,2,   -999.0,9,   -999.0,9,   -999.0,9,   -999.0,9,   -999.0,9,     7.39,2, -999.00,  -999.0,-999.0000,-999.000,   25.00,  -999.0,  6.1439,   0.003
    31DSCG94_3,  P18N,   115,  1,    119,   1248,2,19940405,1339,-12.0022,-103.0018, 4389,    800.4,   5.5399,  34.5299,2,  34.5278,2,     33.6,2,     39.1,2,    60.17,2,    44.73,2,     0.02,2,     3.05,2,    0.022,2,    0.011,2, -999.000,9, -999.000,9,    0.002,2,   1.8245,2,    11.77,2,   -999.0,9,   -999.0,9,   -999.0,9,   -999.0,9,   -999.0,9,     7.39,2, -999.00,  -999.0,-999.0000,-999.000,   25.00,  -999.0,  5.4710,   0.003
    31DSCG94_3,  P18N,   115,  1,    118,   1115,2,19940405,1339,-12.0022,-103.0018, 4389,    899.8,   5.0151,  34.5315,2,  34.5303,2,     40.4,2,     49.7,6,    69.89,2,    43.91,2,     0.02,2,     3.05,2,    0.002,2,    0.002,2, -999.000,9, -999.000,9,    0.023,2,   1.8540,2,    13.86,2,   -999.0,9,   -999.0,9,   -999.0,9,   -999.0,9,   -999.0,9,     7.40,2, -999.00,  -999.0,-999.0000,-999.000,   25.00,  -999.0,  4.9406,   0.005
    31DSCG94_3,  P18N,   115,  1,    117,   1119,2,19940405,1339,-12.0022,-103.0018, 4389,   1001.9,   4.5389,  34.5376,2,  34.5359,2,     56.0,2,     63.8,2,    79.15,2,    42.87,2,     0.01,2,     2.97,2,    0.000,2,   -0.002,2, -999.000,9, -999.000,9,    0.008,2,   1.8393,2,    16.29,2,   -999.0,9,   -999.0,9,   -999.0,9,   1633.4,2,   -999.0,9,     7.43,2,   20.00,  -999.0,-999.0000,-999.000,   25.00,  -999.0,  4.4589,   0.003
    31DSCG94_3,  P18N,   115,  1,    116,   1036,2,19940405,1339,-12.0022,-103.0018, 4389,   1200.6,   3.8075,  34.5554,2,  34.5534,2,     74.6,2,     82.1,2,    92.28,2,    41.32,2,     0.00,2,     2.89,2,   -0.001,2,   -0.002,2, -999.000,9, -999.000,9,    0.008,2,-999.0000,9,  -999.00,9,   -999.0,9,   -999.0,9,   -999.0,9,   -999.0,9,   -999.0,9,     7.46,2, -999.00,  -999.0,-999.0000,-999.000,   25.00,  -999.0,  3.7165,   0.003
    31DSCG94_3,  P18N,   115,  1,    115,   1017,2,19940405,1339,-12.0022,-103.0018, 4389,   1400.1,   3.2426,  34.5794,2,  34.5784,2,     86.4,2,     91.2,2,   104.36,2,    40.32,2,     0.00,2,     2.85,2, -999.000,9, -999.000,9, -999.000,9, -999.000,9,    0.002,2,   1.8808,2,    22.76,2,   -999.0,9,   -999.0,9,   -999.0,9,   -999.0,9,   -999.0,9,     7.47,2, -999.00,  -999.0,-999.0000,-999.000,   25.00,  -999.0,  3.1404,   0.003
    31DSCG94_3,  P18N,   115,  1,    114,   1016,2,19940405,1339,-12.0022,-103.0018, 4389,   1600.7,   2.8096,  34.6031,2,  34.6030,2,     96.2,2,    100.8,2,   113.82,2,    39.84,2,     0.00,2,     2.79,2, -999.000,9, -999.000,9, -999.000,9, -999.000,9,    0.001,2,   1.8906,2,    25.46,2,   -999.0,9,   -999.0,9,   -999.0,9,   -999.0,9,   -999.0,9,     7.49,2, -999.00,  -999.0,-999.0000,-999.000,   25.00,  -999.0,  2.6956,   0.003
    31DSCG94_3,  P18N,   115,  1,    113,   1209,2,19940405,1339,-12.0022,-103.0018, 4389,   1798.5,   2.5067,  34.6216,2,  34.6205,2,    109.5,2,    111.0,2,   121.81,2,    38.44,2,     0.00,2,     2.72,2, -999.000,9, -999.000,9, -999.000,9, -999.000,9, -999.000,9,-999.0000,9,  -999.00,9,   -999.0,9,   -999.0,9,   -999.0,9,   -999.0,9,   -999.0,9,     7.51,2, -999.00,  -999.0,-999.0000,-999.000,   25.00,  -999.0,  2.3799,-999.000
    31DSCG94_3,  P18N,   115,  1,    112,   1033,2,19940405,1339,-12.0022,-103.0018, 4389,   1998.3,   2.2613,  34.6381,2,  34.6368,2,    115.9,2,    117.1,2,   129.17,2,    38.24,2,     0.00,2,     2.66,2,    0.007,2,   -0.002,2, -999.000,9, -999.000,9, -999.000,9,-999.0000,9,  -999.00,9,   -999.0,9,   -999.0,9,   -999.0,9,   -999.0,9,   -999.0,9,     7.53,2, -999.00,  -999.0,-999.0000,-999.000,   25.00,  -999.0,  2.1209,-999.000
    31DSCG94_3,  P18N,   115,  1,    111,   1240,2,19940405,1339,-12.0022,-103.0018, 4389,   2252.0,   1.9962,  34.6568,2,  34.6549,2,    128.4,2,    129.9,2,   134.81,2,    37.34,2,     0.00,2,     2.58,2, -999.000,9, -999.000,9, -999.000,9, -999.000,9, -999.000,9,-999.0000,9,  -999.00,9,   -999.0,9,   -999.0,9,   -999.0,9,   -999.0,9,   -999.0,9,  -999.00,9, -999.00,  -999.0,-999.0000,-999.000, -999.00,  -999.0,  1.8381,-999.000
    31DSCG94_3,  P18N,   115,  1,    110,   1005,2,19940405,1339,-12.0022,-103.0018, 4389,   2497.5,   1.8501,  34.6685,2,  34.6662,2,    136.9,2,    137.9,2,   135.98,2,    36.43,2,     0.00,2,     2.52,2, -999.000,9, -999.000,9, -999.000,9, -999.000,9, -999.000,9,-999.0000,9,  -999.00,9,   -999.0,9,   -999.0,9,   -999.0,9,   -999.0,9,   -999.0,9,     7.56,2, -999.00,  -999.0,-999.0000,-999.000,   25.00,  -999.0,  1.6727,-999.000
    31DSCG94_3,  P18N,   115,  1,    109,   1611,2,19940405,1339,-12.0022,-103.0018, 4389,   2750.5,   1.7892,  34.6731,2,  34.6708,2,    137.6,2,    137.6,2,   139.79,2,    37.01,2,     0.00,2,     2.51,2, -999.000,9, -999.000,9, -999.000,9, -999.000,9, -999.000,9,-999.0000,9,  -999.00,9,   -999.0,9,   -999.0,9,   -999.0,9,   -999.0,9,   -999.0,9,  -999.00,9, -999.00,  -999.0,-999.0000,-999.000, -999.00,  -999.0,  1.5897,-999.000
    31DSCG94_3,  P18N,   115,  1,    108,   1218,2,19940405,1339,-12.0022,-103.0018, 4389,   2999.7,   1.7658,  34.6754,2,  34.6743,2,    136.8,2,    137.8,2,   140.46,2,    36.80,2,     0.00,2,     2.50,2,    0.005,2,    0.001,2, -999.000,9, -999.000,9, -999.000,9,-999.0000,9,  -999.00,9,   -999.0,9,   -999.0,9,   -999.0,9,   1206.9,2,   -999.0,9,     7.57,2,   20.00,  -999.0,-999.0000,-999.000,   25.00,  -999.0,  1.5431,-999.000
    31DSCG94_3,  P18N,   115,  1,    107,   1257,2,19940405,1339,-12.0022,-103.0018, 4389,   3245.4,   1.7658,  34.6754,2,  34.6752,2,    135.8,2,    136.5,6,   142.00,2,    37.54,2,     0.00,2,     2.54,2, -999.000,9, -999.000,9, -999.000,9, -999.000,9, -999.000,9,-999.0000,9,  -999.00,9,   -999.0,9,   -999.0,9,   -999.0,9,   -999.0,9,   -999.0,9,  -999.00,9, -999.00,  -999.0,-999.0000,-999.000, -999.00,  -999.0,  1.5189,-999.000
    31DSCG94_3,  P18N,   115,  1,    106,   1224,2,19940405,1339,-12.0022,-103.0018, 4389,   3501.7,   1.7685,  34.6758,2,  34.6745,2,    135.8,2,    136.2,2,   143.50,2,    37.70,2,     0.00,2,     2.54,2, -999.000,9, -999.000,9, -999.000,9, -999.000,9, -999.000,9,-999.0000,9,  -999.00,9,   -999.0,9,   -999.0,9,   -999.0,9,   -999.0,9,   -999.0,9,     7.57,2, -999.00,  -999.0,-999.0000,-999.000,   25.00,  -999.0,  1.4954,-999.000
    31DSCG94_3,  P18N,   115,  1,    105,   1246,2,19940405,1339,-12.0022,-103.0018, 4389,   3749.4,   1.7840,  34.6763,2,  34.6731,3,    136.4,2,    137.2,2,   146.63,2,    36.93,2,     0.00,2,     2.52,2, -999.000,9, -999.000,9, -999.000,9, -999.000,9, -999.000,9,-999.0000,9,  -999.00,9,   -999.0,9,   -999.0,9,   -999.0,9,   -999.0,9,   -999.0,9,  -999.00,9, -999.00,  -999.0,-999.0000,-999.000, -999.00,  -999.0,  1.4843,-999.000
    31DSCG94_3,  P18N,   115,  1,    104,   1217,2,19940405,1339,-12.0022,-103.0018, 4389,   4001.8,   1.8079,  34.6763,2,  34.6750,2,    136.8,2,    137.1,2,   148.87,2,    37.26,2,     0.00,2,     2.51,2, -999.000,9, -999.000,9, -999.000,9, -999.000,9, -999.000,9,-999.0000,9,  -999.00,9,   -999.0,9,   -999.0,9,   -999.0,9,   -999.0,9,   -999.0,9,     7.57,2, -999.00,  -999.0,-999.0000,-999.000,   25.00,  -999.0,  1.4801,-999.000
    31DSCG94_3,  P18N,   115,  1,    103,   9999,2,19940405,1339,-12.0022,-103.0018, 4389,   4249.6,   1.8362,  34.6760,2,  34.6758,2,    137.5,2,    136.5,2,   148.02,2,    37.24,2,     0.00,2,     2.52,2,   -0.003,2,    0.004,2, -999.000,9, -999.000,9, -999.000,9,-999.0000,9,  -999.00,9,   -999.0,9,   -999.0,9,   -999.0,9,   -999.0,9,   -999.0,9,  -999.00,9, -999.00,  -999.0,-999.0000,-999.000, -999.00,  -999.0,  1.4797,-999.000
    31DSCG94_3,  P18N,   115,  1,    102,   1223,2,19940405,1339,-12.0022,-103.0018, 4389,   4249.8,   1.8359,  34.6762,2,  34.6753,2,    137.5,2,    137.1,2,   146.42,2,    37.32,2,     0.00,2,     2.51,2, -999.000,9, -999.000,9, -999.000,9, -999.000,9, -999.000,9,-999.0000,9,  -999.00,9,   -999.0,9,   -999.0,9,   -999.0,9,   -999.0,9,   -999.0,9,     7.58,2, -999.00,  -999.0,-999.0000,-999.000,   25.00,  -999.0,  1.4794,-999.000
    31DSCG94_3,  P18N,   115,  1,    101,   1041,2,19940405,1339,-12.0022,-103.0018, 4389,   4433.0,   1.8574,  34.6761,2,  34.6754,2,    136.8,2,    137.0,2,   145.92,2,    36.97,2,     0.00,2,     2.52,2,    0.108,4,    0.197,4, -999.000,9, -999.000,9, -999.000,9,-999.0000,9,  -999.00,9,   -999.0,9,   -999.0,9,   -999.0,9,   -999.0,9,   -999.0,9,  -999.00,9, -999.00,  -999.0,-999.0000,-999.000, -999.00,  -999.0,  1.4791,-999.000