BOTTLE,20220630CCHSIOAMB
EXPOCODE,SECT_ID,STNNBR,CASTNO,SAMPNO,BTLNBR,BTLNBR_FLAG_W,DATE,TIME,LATITUDE,LONGITUDE,DEPTH,CTDPRS,CTDTMP,CTDSAL,CTDSAL_FLAG_W,SALNTY,SALNTY_FLAG_W,CTDOXY,CTDOXY_FLAG_W,OXYGEN,OXYGEN_FLAG_W,SILCAT,SILCAT_FLAG_W,NITRAT,NITRAT_FLAG_W,NITRIT,NITRIT_FLAG_W,PHSPHT,PHSPHT_FLAG_W,CFC-11,CFC-11_FLAG_W,CFC-12,CFC-12_FLAG_W,CFC113,CFC113_FLAG_W,CCL4,CCL4_FLAG_W,TRITUM,TRITUM_FLAG_W,HELIUM,HELIUM_FLAG_W,DELHE3,DELHE3_FLAG_W,DELC14,DELC14_FLAG_W,DELC13,DELC13_FLAG_W,TCARBN,TCARBN_FLAG_W,PCO2,PCO2_FLAG_W,ALKALI,ALKALI_FLAG_W,PH,PH_FLAG_W,PCO2TMP,C14ERR,HELIER,DELHER,PH_TMP,C13ERR,THETA,TRITER
,,,,,,,,,,,,DBAR,ITS-90,PSS-78,,PSS-78,,UMOL/KG,,UMOL/KG,,UMOL/KG,,UMOL/KG,,UMOL/KG,,UMOL/KG,,PMOL/KG,,PMOL/KG,,PMOL/KG,,PMOL/KG,,TU,,NMOL/KG,,PERCNT,,/MILLE,,/MILLE,,UMOL/KG,,UATM,,UMOL/KG,,,,DEG C,/MILLE,NMOL/KG,PERCNT,DEG C,/MILLE,DEG C,TU
    31DSCG94_2,  P18S,    37,  2,    236,   1025,2,19940309,2013,-51.8335,-103.0017, 4000,     10.8,   8.5507,  34.2550,2,  34.2546,2,    281.1,2,    284.6,2,     1.53,2,    15.04,2,     0.18,2,     1.23,2,    4.104,2,    2.064,2, -999.000,9, -999.000,9, -999.000,9,-999.0000,9,  -999.00,9,     25.5,2,      1.8,2,   2089.1,2,    555.5,2,   -999.0,5,     7.85,2,   20.00,     2.9,-999.0000,-999.000,   25.00,  -999.0,  8.5496,-999.000
    31DSCG94_2,  P18S,    37,  2,    235,   1247,2,19940309,2013,-51.8335,-103.0017, 4000,     24.9,   8.5197,  34.2547,2,  34.2547,2,    282.3,2,    284.3,2,     1.39,2,    14.94,2,     0.19,2,     1.23,2,    4.253,2,    2.292,2, -999.000,9, -999.000,9, -999.000,9,-999.0000,9,  -999.00,9,     31.9,2,      1.8,2,   2088.3,2,    555.8,2,   -999.0,5,     7.85,2,   20.00,     3.0,-999.0000,-999.000,   25.00,  -999.0,  8.5171,-999.000
    31DSCG94_2,  P18S,    37,  2,    234,   1108,2,19940309,2013,-51.8335,-103.0017, 4000,     49.2,   8.5158,  34.2550,2,  34.2536,2,    281.9,2,    284.1,2,     1.43,2,    14.95,2,     0.19,2,     1.21,2,    4.112,2,    2.082,2, -999.000,9, -999.000,9, -999.000,9,-999.0000,9,  -999.00,9,   -999.0,9,      1.8,2,   2089.5,2,    557.0,2,   2275.0,2,     7.85,2,   20.00,  -999.0,-999.0000,-999.000,   25.00,  -999.0,  8.5107,-999.000
    31DSCG94_2,  P18S,    37,  2,    233,   1244,2,19940309,2013,-51.8335,-103.0017, 4000,     73.6,   8.4554,  34.2536,2,  34.2542,2,    282.2,2,    284.1,2,     1.25,2,    15.16,2,     0.17,2,     1.19,2,    4.136,2,    1.978,2, -999.000,5, -999.000,5, -999.000,9,-999.0000,9,  -999.00,9,     38.6,2,      1.8,2,   2089.2,2,   -999.0,9,   2273.0,2,     7.85,2, -999.00,     4.1,-999.0000,-999.000,   25.00,  -999.0,  8.4478,-999.000
    31DSCG94_2,  P18S,    37,  2,    232,   1003,2,19940309,2013,-51.8335,-103.0017, 4000,     98.8,   7.3484,  34.2982,2,  34.2957,2,    283.4,2,    286.9,2,     2.41,2,    15.95,2,     0.26,2,     1.31,2,    4.316,2,    2.178,2, -999.000,9, -999.000,9, -999.000,9,-999.0000,9,  -999.00,9,     29.6,2,      1.7,2,   2100.6,2,    596.7,2,   2278.0,2,     7.82,2,   20.00,     2.7,-999.0000,-999.000,   25.00,  -999.0,  7.3391,-999.000
    31DSCG94_2,  P18S,    37,  2,    231,   1211,2,19940309,2013,-51.8335,-103.0017, 4000,    123.1,   6.6529,  34.3047,2,  34.3043,2,    278.9,2,    280.2,2,     5.18,2,    18.73,2,     0.32,2,     1.46,2,    4.332,2,    2.138,2, -999.000,5, -999.000,5, -999.000,9,-999.0000,9,  -999.00,9,   -999.0,9,   -999.0,9,   2115.6,2,   -999.0,9,   2277.0,2,     7.78,2, -999.00,  -999.0,-999.0000,-999.000,   25.00,  -999.0,  6.6419,-999.000
    31DSCG94_2,  P18S,    37,  2,    230,   1241,2,19940309,2013,-51.8335,-103.0017, 4000,    148.4,   6.4447,  34.3028,2,  34.3027,2,    278.1,2,    279.5,2,     5.60,2,    19.36,2,     0.00,2,     1.47,2,    4.219,2,    2.099,2, -999.000,9, -999.000,9, -999.000,9,-999.0000,9,  -999.00,9,     20.9,2,      1.5,2,   2119.1,2,   -999.0,9,   2278.0,2,     7.78,2, -999.00,     3.8,-999.0000,-999.000,   25.00,  -999.0,  6.4316,-999.000
    31DSCG94_2,  P18S,    37,  2,    229,   1031,2,19940309,2013,-51.8335,-103.0017, 4000,    198.3,   6.3486,  34.3118,2,  34.3120,2,    277.8,2,    278.1,2,     6.24,2,    19.87,2,     0.00,2,     1.45,2,    4.107,2,    2.016,2, -999.000,9, -999.000,9, -999.000,9,-999.0000,9,  -999.00,9,     29.8,2,      1.4,2,   2119.1,2,    672.7,2,   2281.0,2,     7.78,2,   20.00,     2.9,-999.0000,-999.000,   25.00,  -999.0,  6.3312,-999.000
    31DSCG94_2,  P18S,    37,  2,    228,   1210,3,19940309,2013,-51.8335,-103.0017, 4000,    248.2,   6.2982,  34.3163,2,  34.3172,2,    277.5,2,    276.9,2,     6.69,2,    19.78,2,     0.00,2,     1.49,2,    4.029,2,    2.001,2, -999.000,9, -999.000,9, -999.000,9,-999.0000,9,  -999.00,9,   -999.0,9,   -999.0,9,   2119.5,2,   -999.0,9,   2276.0,2,     7.77,2, -999.00,  -999.0,-999.0000,-999.000,   25.00,  -999.0,  6.2764,-999.000
    31DSCG94_2,  P18S,    37,  2,    227,   1008,2,19940309,2013,-51.8335,-103.0017, 4000,    299.1,   6.1837,  34.3104,2,  34.3100,2,    275.7,2,    277.0,2,     7.18,2,    20.66,2,     0.00,2,     1.54,2,    3.908,2,    1.935,2, -999.000,9, -999.000,9, -999.000,9,-999.0000,9,  -999.00,9,     20.9,2,      1.4,2,   2122.4,2,    680.3,2,   2279.0,2,     7.77,2,   20.00,     4.6,-999.0000,-999.000,   25.00,  -999.0,  6.1577,-999.000
    31DSCG94_2,  P18S,    37,  2,    226,   1007,2,19940309,2013,-51.8335,-103.0017, 4000,    349.9,   6.1421,  34.3146,2,  34.3148,2,    275.8,2,    278.3,2,     7.31,2,    20.66,2,     0.00,2,     1.55,2, -999.000,5, -999.000,5, -999.000,5, -999.000,5, -999.000,9,-999.0000,9,  -999.00,9,   -999.0,9,   -999.0,9,   2121.7,2,   -999.0,9,   -999.0,5,     7.77,2, -999.00,  -999.0,-999.0000,-999.000,   25.00,  -999.0,  6.1116,-999.000
    31DSCG94_2,  P18S,    37,  2,    225,   1203,2,19940309,2013,-51.8335,-103.0017, 4000,    400.6,   6.0401,  34.3086,2,  34.3093,2,    272.8,2,    278.1,2,     7.61,2,    20.82,2,     0.00,2,     1.57,2,    4.045,6,    1.923,6, -999.000,9, -999.000,9, -999.000,9,-999.0000,9,  -999.00,9,     10.1,2,      1.4,2,   2126.1,2,    686.7,2,   2280.0,2,     7.77,2,   20.00,     3.5,-999.0000,-999.000,   25.00,  -999.0,  6.0053,-999.000
    31DSCG94_2,  P18S,    37,  2,    223,   1101,2,19940309,2013,-51.8335,-103.0017, 4000,    499.3,   5.9416,  34.3053,2,  34.3060,2,    271.4,2,    280.3,2,     7.56,2,    20.74,2,     0.01,2,     1.56,2, -999.000,5, -999.000,5, -999.000,9, -999.000,9, -999.000,9,-999.0000,9,  -999.00,9,     28.3,2,      1.5,2,   2125.6,2,    684.8,2,   -999.0,5,     7.77,2,   20.00,     3.9,-999.0000,-999.000,   25.00,  -999.0,  5.8983,-999.000
    31DSCG94_2,  P18S,    37,  2,    221,   1206,2,19940309,2013,-51.8335,-103.0017, 4000,    599.8,   5.5159,  34.2607,2,  34.2614,2,    267.0,2,    274.0,2,     9.46,2,    22.60,2,     0.00,2,     1.64,2,    3.772,2,    1.865,2, -999.000,9, -999.000,9, -999.000,9,-999.0000,9,  -999.00,9,     -2.9,2,      1.4,2,   2132.9,2,    721.9,2,   2280.0,2,     7.75,2,   20.00,     5.1,-999.0000,-999.000,   25.00,  -999.0,  5.4655,-999.000
    31DSCG94_2,  P18S,    37,  2,    219,   1248,2,19940309,2013,-51.8335,-103.0017, 4000,    701.2,   5.0804,  34.2372,2,  34.2375,2,    253.8,2,    255.2,2,    14.08,2,    25.36,2,     0.00,2,     1.85,2,    3.087,2,    1.497,2, -999.000,5, -999.000,5, -999.000,9,-999.0000,9,  -999.00,9,    -19.8,2,      1.4,2,   2149.8,2,    787.7,2,   2282.0,2,     7.72,2,   20.00,     2.9,-999.0000,-999.000,   25.00,  -999.0,  5.0233,-999.000
    31DSCG94_2,  P18S,    37,  2,    218,   1207,2,19940309,2013,-51.8335,-103.0017, 4000,    798.4,   4.8423,  34.2712,2,  34.2707,2,    233.1,2,    231.2,2,    20.12,2,    28.23,2,     0.00,2,     2.05,2,    2.102,2,    0.979,2, -999.000,9, -999.000,9, -999.000,9,-999.0000,9,  -999.00,9,    -46.4,2,      1.1,2,   2168.2,2,    876.1,2,   2289.0,2,     7.68,2,   20.00,     3.4,-999.0000,-999.000,   25.00,  -999.0,  4.7782,-999.000
    31DSCG94_2,  P18S,    37,  2,    217,   1119,2,19940309,2013,-51.8335,-103.0017, 4000,    900.0,   4.4268,  34.2950,2,  34.2945,2,    218.8,2,    216.6,2,    27.05,2,    29.78,2,     0.00,2,     2.20,2,    1.495,2,    0.693,2, -999.000,9, -999.000,9, -999.000,9,-999.0000,9,  -999.00,9,    -57.2,2,      1.0,2,   2184.5,2,    943.4,2,   2288.0,2,     7.65,2,   20.00,     3.8,-999.0000,-999.000,   25.00,  -999.0,  4.3568,-999.000
    31DSCG94_2,  P18S,    37,  2,    216,   1036,2,19940309,2013,-51.8335,-103.0017, 4000,   1000.6,   3.9252,  34.3092,2,  34.3087,2,    211.4,2,    211.0,2,    33.84,2,    30.22,2,     0.00,2,     2.19,2,    1.228,2,    0.578,2, -999.000,9, -999.000,9, -999.000,9,-999.0000,9,  -999.00,9,    -85.1,2,      0.9,2,   2194.6,2,    995.0,2,   2298.0,2,     7.63,2,   20.00,     2.5,-999.0000,-999.000,   25.00,  -999.0,  3.8503,-999.000
    31DSCG94_2,  P18S,    37,  2,    215,   1017,2,19940309,2013,-51.8335,-103.0017, 4000,   1200.4,   3.2517,  34.3617,2,  34.3614,2,    197.8,2,    197.7,2,    46.81,2,    32.91,2,     0.00,2,     2.30,2,    0.853,2,    0.409,2, -999.000,9, -999.000,9, -999.000,9,-999.0000,9,  -999.00,9,   -104.7,2,      0.8,2,   2214.3,2,   1080.3,2,   2313.0,2,     7.60,2,   20.00,     4.1,-999.0000,-999.000,   25.00,  -999.0,  3.1663,-999.000
    31DSCG94_2,  P18S,    37,  2,    214,   1016,2,19940309,2013,-51.8335,-103.0017, 4000,   1394.2,   2.7999,  34.4498,2,  34.4495,2,    182.8,2,    180.4,2,    61.32,2,    34.05,2,     0.00,2,     2.35,2,    0.364,2,    0.177,2, -999.000,5, -999.000,5, -999.000,9,-999.0000,9,  -999.00,9,   -999.0,9,   -999.0,9,   2238.2,2,   1158.1,2,   2324.0,2,     7.57,2,   20.00,  -999.0,-999.0000,-999.000,   25.00,  -999.0,  2.7033,-999.000
    31DSCG94_2,  P18S,    37,  2,    213,   1118,2,19940309,2013,-51.8335,-103.0017, 4000,   1595.8,   2.5889,  34.5239,2,  34.5241,2,    173.8,2,    172.4,2,    71.41,2,    34.59,2,     0.00,2,     2.41,2,    0.209,2,    0.099,2, -999.000,9, -999.000,9, -999.000,9,-999.0000,9,  -999.00,9,   -144.4,2,      0.5,2,   2250.9,2,   1184.0,2,   2334.0,2,     7.57,2,   20.00,     3.4,-999.0000,-999.000,   25.00,  -999.0,  2.4781,-999.000
    31DSCG94_2,  P18S,    37,  2,    212,   1033,2,19940309,2013,-51.8335,-103.0017, 4000,   1796.1,   2.4189,  34.5957,2,  34.5948,2,    171.2,2,    170.2,2,    76.30,2,    33.83,2,     0.00,2,     2.37,2,    0.141,2,    0.067,2, -999.000,9, -999.000,9, -999.000,9,-999.0000,9,  -999.00,9,   -999.0,9,   -999.0,9,   2262.3,2,   1179.5,2,   2342.0,2,     7.57,2,   20.00,  -999.0,-999.0000,-999.000,   25.00,  -999.0,  2.2936,-999.000
    31DSCG94_2,  P18S,    37,  2,    211,   1263,2,19940309,2013,-51.8335,-103.0017, 4000,   1997.8,   2.2808,  34.6524,2,  34.6515,2,    171.5,2,    171.5,2,    81.74,2,    33.14,2,     0.00,2,     2.33,2,    0.077,2,    0.037,2, -999.000,5, -999.000,5, -999.000,9,-999.0000,9,  -999.00,9,   -158.4,2,      0.4,2,   2259.9,2,   1156.1,2,   2350.0,2,     7.58,2,   20.00,     3.3,-999.0000,-999.000,   25.00,  -999.0,  2.1402,-999.000
    31DSCG94_2,  P18S,    37,  2,    210,   1005,2,19940309,2013,-51.8335,-103.0017, 4000,   2246.5,   2.1302,  34.6860,2,  34.6845,2,    172.8,2,    172.8,6,    90.05,2,    32.85,2,     0.00,2,     2.28,2, -999.000,9, -999.000,9, -999.000,9, -999.000,9, -999.000,9,-999.0000,9,  -999.00,9,   -999.0,9,   -999.0,9,   2264.5,2,   -999.0,9,   2356.0,2,     7.59,2, -999.00,  -999.0,-999.0000,-999.000,   25.00,  -999.0,  1.9702,-999.000
    31DSCG94_2,  P18S,    37,  2,    209,   1611,2,19940309,2013,-51.8335,-103.0017, 4000,   2498.2,   1.9678,  34.7073,2,  34.7056,2,    178.5,2,    178.1,2,    95.70,2,    32.47,2,     0.00,2,     2.22,2,    0.021,2,    0.011,2, -999.000,5, -999.000,5, -999.000,9,-999.0000,9,  -999.00,9,   -171.2,2,      0.5,2,   2265.0,2,   1110.8,2,   2356.0,2,     7.59,2,   20.00,     3.8,-999.0000,-999.000,   25.00,  -999.0,  1.7880,-999.000
    31DSCG94_2,  P18S,    37,  2,    208,   1218,2,19940309,2013,-51.8335,-103.0017, 4000,   2746.3,   1.7339,  34.7100,2,  34.7089,2,    178.1,2,    179.8,6,   104.17,2,    32.60,2,     0.00,2,     2.27,2, -999.000,9, -999.000,9, -999.000,9, -999.000,9, -999.000,9,-999.0000,9,  -999.00,9,   -999.0,9,   -999.0,9,   2273.1,2,   -999.0,9,   2367.0,2,     7.60,2, -999.00,  -999.0,-999.0000,-999.000,   25.00,  -999.0,  1.5358,-999.000
    31DSCG94_2,  P18S,    37,  2,    207,   1257,2,19940309,2013,-51.8335,-103.0017, 4000,   2999.4,   1.6162,  34.7133,2,  34.7119,2,    182.5,2,    183.7,2,   105.25,2,    32.62,2,     0.00,2,     2.27,2,    0.003,2,    0.002,2, -999.000,5, -999.000,5, -999.000,9,-999.0000,9,  -999.00,9,   -176.0,2,      0.4,2,   2271.7,2,   1092.5,6,   2366.0,2,     7.60,2,   20.00,     2.8,-999.0000,-999.000,   25.00,  -999.0,  1.3967,-999.000
    31DSCG94_2,  P18S,    37,  2,    206,   1224,2,19940309,2013,-51.8335,-103.0017, 4000,   3249.7,   1.5072,  34.7184,2,  34.7174,2,    188.6,2,    188.9,2,   106.42,2,    32.14,2,     0.00,2,     2.24,2, -999.000,9, -999.000,9, -999.000,9, -999.000,9, -999.000,9,-999.0000,9,  -999.00,9,   -999.0,9,   -999.0,9,   2267.0,2,   -999.0,9,   2363.0,2,     7.61,2, -999.00,  -999.0,-999.0000,-999.000,   25.00,  -999.0,  1.2658,-999.000
    31DSCG94_2,  P18S,    37,  2,    205,   1246,2,19940309,2013,-51.8335,-103.0017, 4000,   3500.1,   1.3224,  34.7169,2,  34.7176,2,    193.3,2,    194.2,2,   113.30,2,    32.34,2,     0.00,2,     2.18,2, -999.000,9, -999.000,9, -999.000,9, -999.000,9, -999.000,9,-999.0000,9,  -999.00,9,   -175.8,2,      0.4,2,   2267.2,2,   1074.6,2,   2367.0,2,     7.61,2,   20.00,     3.5,-999.0000,-999.000,   25.00,  -999.0,  1.0605,-999.000
    31DSCG94_2,  P18S,    37,  2,    204,   1028,2,19940309,2013,-51.8335,-103.0017, 4000,   3750.7,   1.0503,  34.7124,2,  34.7103,2,    198.8,2,    199.1,6,   121.26,2,    32.62,2,     0.00,2,     2.25,2,    0.012,2,    0.004,2, -999.000,9, -999.000,9, -999.000,9,-999.0000,9,  -999.00,9,   -999.0,9,   -999.0,9,   2269.5,2,   -999.0,9,   2369.0,2,     7.61,2, -999.00,  -999.0,-999.0000,-999.000,   25.00,  -999.0,  0.7700,-999.000
    31DSCG94_2,  P18S,    37,  2,    202,   1223,2,19940309,2013,-51.8335,-103.0017, 4000,   3999.2,   0.8469,  34.7092,2,  34.7077,2,    204.2,2,    202.9,2,   126.15,2,    32.61,2,     0.00,2,     2.27,2, -999.000,9, -999.000,9, -999.000,9, -999.000,9, -999.000,9,-999.0000,9,  -999.00,9,   -164.1,2,      0.4,2,   2272.6,2,   1057.4,2,   2374.0,2,     7.61,2,   20.00,     2.9,-999.0000,-999.000,   25.00,  -999.0,  0.5463,-999.000
    31DSCG94_2,  P18S,    37,  2,    203,   9999,2,19940309,2013,-51.8335,-103.0017, 4000,   4000.6,   0.8453,  34.7093,2,  34.7074,2,    204.1,2,    202.9,2,   125.23,2,    32.86,2,     0.00,2,     2.29,2,    0.007,2,    0.000,2, -999.000,5, -999.000,5, -999.000,9,-999.0000,9,  -999.00,9,   -999.0,9,   -999.0,9,   2272.3,2,   1060.1,2,   2377.0,2,     7.62,2,   20.00,  -999.0,-999.0000,-999.000,   25.00,  -999.0,  0.5446,-999.000
    31DSCG94_2,  P18S,    37,  2,    201,   1041,2,19940309,2013,-51.8335,-103.0017, 4000,   4054.0,   0.8167,  34.7088,2,  34.7071,2,    204.8,2,    203.4,2,   129.57,2,    32.68,2,     0.00,2,     2.22,2,    0.000,2,    0.002,2, -999.000,9, -999.000,9, -999.000,9,-999.0000,9,  -999.00,9,   -163.1,2,      0.5,2,   2271.7,2,   1056.2,2,   2374.0,2,     7.62,2,   20.00,     2.5,-999.0000,-999.000,   25.00,  -999.0,  0.5112,-999.000