BOTTLE,20220630CCHSIOAMB
EXPOCODE,SECT_ID,STNNBR,CASTNO,SAMPNO,BTLNBR,BTLNBR_FLAG_W,DATE,TIME,LATITUDE,LONGITUDE,DEPTH,CTDPRS,CTDTMP,CTDSAL,CTDSAL_FLAG_W,SALNTY,SALNTY_FLAG_W,CTDOXY,CTDOXY_FLAG_W,OXYGEN,OXYGEN_FLAG_W,SILCAT,SILCAT_FLAG_W,NITRAT,NITRAT_FLAG_W,NITRIT,NITRIT_FLAG_W,PHSPHT,PHSPHT_FLAG_W,CFC-11,CFC-11_FLAG_W,CFC-12,CFC-12_FLAG_W,CFC113,CFC113_FLAG_W,CCL4,CCL4_FLAG_W,TRITUM,TRITUM_FLAG_W,HELIUM,HELIUM_FLAG_W,DELHE3,DELHE3_FLAG_W,DELC14,DELC14_FLAG_W,DELC13,DELC13_FLAG_W,TCARBN,TCARBN_FLAG_W,PCO2,PCO2_FLAG_W,ALKALI,ALKALI_FLAG_W,PH,PH_FLAG_W,PCO2TMP,C14ERR,HELIER,DELHER,PH_TMP,C13ERR,THETA,TRITER
,,,,,,,,,,,,DBAR,ITS-90,PSS-78,,PSS-78,,UMOL/KG,,UMOL/KG,,UMOL/KG,,UMOL/KG,,UMOL/KG,,UMOL/KG,,PMOL/KG,,PMOL/KG,,PMOL/KG,,PMOL/KG,,TU,,NMOL/KG,,PERCNT,,/MILLE,,/MILLE,,UMOL/KG,,UATM,,UMOL/KG,,,,DEG C,/MILLE,NMOL/KG,PERCNT,DEG C,/MILLE,DEG C,TU
    31DSCG94_2,  P18S,    54,  1,    136,   1025,2,19940314,1155,-42.4833,-103.0000, 3799,     10.4,  13.6628,  34.0514,2,  34.0511,2,    260.8,2,    259.9,2,     0.00,2,    11.64,2,     0.20,2,     0.94,2, -999.000,9, -999.000,9, -999.000,9, -999.000,9, -999.000,9,-999.0000,9,  -999.00,9,   -999.0,9,   -999.0,9,   2055.1,2,    490.1,2,   2263.0,6,     7.89,2,   20.00,  -999.0,-999.0000,-999.000,   25.00,  -999.0, 13.6614,-999.000
    31DSCG94_2,  P18S,    54,  1,    135,   1247,2,19940314,1155,-42.4833,-103.0000, 3799,     10.7,  13.6619,  34.0510,2,  34.0512,2,    260.8,2,    259.7,2,     0.00,2,    11.52,2,     0.19,2,     0.92,2, -999.000,9, -999.000,9, -999.000,9, -999.000,9, -999.000,9,-999.0000,9,  -999.00,9,   -999.0,9,   -999.0,9,   2052.7,2,    491.0,2,   2265.0,2,     7.89,2,   20.00,  -999.0,-999.0000,-999.000,   25.00,  -999.0, 13.6604,-999.000
    31DSCG94_2,  P18S,    54,  1,    134,   1108,2,19940314,1155,-42.4833,-103.0000, 3799,     11.3,  13.6615,  34.0513,2,  34.0518,2,    261.0,2,    259.6,2,     0.00,2,    11.56,2,     0.19,2,     0.90,2, -999.000,9, -999.000,9, -999.000,9, -999.000,9, -999.000,9,-999.0000,9,  -999.00,9,   -999.0,9,   -999.0,9,   2053.7,2,   -999.0,9,   2263.0,2,     7.89,2, -999.00,  -999.0,-999.0000,-999.000,   25.00,  -999.0, 13.6599,-999.000
    31DSCG94_2,  P18S,    54,  1,    133,   1244,2,19940314,1155,-42.4833,-103.0000, 3799,     22.5,  13.5133,  34.0510,2,  34.0510,2,    261.5,2,    260.8,2,     0.00,2,    11.54,2,     0.19,2,     0.94,2, -999.000,9, -999.000,9, -999.000,9, -999.000,9, -999.000,9,-999.0000,9,  -999.00,9,   -999.0,9,   -999.0,9,   2055.9,2,    491.5,2,   2259.0,2,     7.89,2,   20.00,  -999.0,-999.0000,-999.000,   25.00,  -999.0, 13.5101,-999.000
    31DSCG94_2,  P18S,    54,  1,    132,   1003,2,19940314,1155,-42.4833,-103.0000, 3799,     23.7,  13.5121,  34.0507,2,  34.0503,2,    261.5,2,    260.7,2,     0.00,2,    11.67,2,     0.19,2,     0.94,2, -999.000,9, -999.000,9, -999.000,9, -999.000,9, -999.000,9,-999.0000,9,  -999.00,9,   -999.0,9,   -999.0,9,   2055.2,2,    492.6,2,   2262.0,2,     7.89,2,   20.00,  -999.0,-999.0000,-999.000,   25.00,  -999.0, 13.5088,-999.000
    31DSCG94_2,  P18S,    54,  1,    131,   1211,2,19940314,1155,-42.4833,-103.0000, 3799,     53.2,  13.3680,  34.0509,2,  34.0528,2,    262.1,2,    261.4,2,     0.00,2,    11.62,2,     0.19,2,     0.92,2, -999.000,9, -999.000,9, -999.000,9, -999.000,9, -999.000,9,-999.0000,9,  -999.00,9,   -999.0,9,   -999.0,9,   2054.6,2,    494.7,2,   2256.0,2,     7.89,2,   20.00,  -999.0,-999.0000,-999.000,   25.00,  -999.0, 13.3606,-999.000
    31DSCG94_2,  P18S,    54,  1,    130,   1241,2,19940314,1155,-42.4833,-103.0000, 3799,     72.7,  10.7247,  34.0844,2,  34.0828,2,    274.2,2,    281.1,6,     0.00,2,    11.94,2,     0.11,2,     0.94,2, -999.000,9, -999.000,9, -999.000,9, -999.000,9, -999.000,9,-999.0000,9,  -999.00,9,   -999.0,9,   -999.0,9,   2066.9,2,    518.5,2,   2261.0,2,     7.87,2,   20.00,  -999.0,-999.0000,-999.000,   25.00,  -999.0, 10.7161,-999.000
    31DSCG94_2,  P18S,    54,  1,    129,   1031,2,19940314,1155,-42.4833,-103.0000, 3799,     93.3,   9.0732,  34.1146,2,  34.1166,2,    280.3,2,    283.3,2,     0.00,2,    12.80,2,     0.17,2,     1.03,2, -999.000,9, -999.000,9, -999.000,9, -999.000,9, -999.000,9,-999.0000,9,  -999.00,9,   -999.0,9,   -999.0,9,   2078.4,2,    559.5,2,   2266.0,2,     7.85,2,   20.00,  -999.0,-999.0000,-999.000,   25.00,  -999.0,  9.0632,-999.000
    31DSCG94_2,  P18S,    54,  1,    128,   1210,2,19940314,1155,-42.4833,-103.0000, 3799,    147.2,   7.6507,  34.2036,2,  34.1998,2,    269.1,2,    272.2,2,     0.19,2,    16.04,2,     0.29,2,     1.23,2, -999.000,9, -999.000,9, -999.000,9, -999.000,9, -999.000,9,-999.0000,9,  -999.00,9,   -999.0,9,   -999.0,9,   2100.4,2,    618.7,2,   2264.0,2,     7.81,2,   20.00,  -999.0,-999.0000,-999.000,   25.00,  -999.0,  7.6364,-999.000
    31DSCG94_2,  P18S,    54,  1,    127,   1008,2,19940314,1155,-42.4833,-103.0000, 3799,    197.8,   7.0391,  34.2901,2,  34.2904,2,    262.4,2,    259.4,2,     2.21,2,    19.54,2,     0.00,2,     1.35,2, -999.000,9, -999.000,9, -999.000,9, -999.000,9, -999.000,9,-999.0000,9,  -999.00,9,   -999.0,9,   -999.0,9,   2120.6,2,    689.0,2,   2272.0,2,     7.77,2,   20.00,  -999.0,-999.0000,-999.000,   25.00,  -999.0,  7.0207,-999.000
    31DSCG94_2,  P18S,    54,  1,    126,   1007,2,19940314,1155,-42.4833,-103.0000, 3799,    242.9,   6.8170,  34.3088,2,  34.3084,2,    264.8,2,    263.6,2,     3.04,2,    19.80,2,     0.00,2,     1.39,2, -999.000,9, -999.000,9, -999.000,9, -999.000,9, -999.000,9,-999.0000,9,  -999.00,9,   -999.0,9,   -999.0,9,   2123.1,2,    686.2,2,   2277.0,2,  -999.00,9,   20.00,  -999.0,-999.0000,-999.000, -999.00,  -999.0,  6.7947,-999.000
    31DSCG94_2,  P18S,    54,  1,    125,   1203,2,19940314,1155,-42.4833,-103.0000, 3799,    351.5,   6.4906,  34.3221,2,  34.3220,2,    264.0,2,    261.4,6,     4.58,2,    21.03,2,     0.00,2,     1.49,2, -999.000,9, -999.000,9, -999.000,9, -999.000,9, -999.000,9,-999.0000,9,  -999.00,9,   -999.0,9,   -999.0,9,   2129.3,2,    707.4,2,   2280.0,2,  -999.00,9,   20.00,  -999.0,-999.0000,-999.000, -999.00,  -999.0,  6.4591,-999.000
    31DSCG94_2,  P18S,    54,  1,    123,   1101,2,19940314,1155,-42.4833,-103.0000, 3799,    395.3,   6.3611,  34.3191,2,  34.3188,2,    262.2,2,    261.8,2,     4.94,2,    21.36,2,     0.00,2,     1.51,2, -999.000,9, -999.000,9, -999.000,9, -999.000,9, -999.000,9,-999.0000,9,  -999.00,9,   -999.0,9,   -999.0,9,   2129.6,2,    710.4,2,   2273.0,2,  -999.00,9,   20.00,  -999.0,-999.0000,-999.000, -999.00,  -999.0,  6.3259,-999.000
    31DSCG94_2,  P18S,    54,  1,    121,   1206,2,19940314,1155,-42.4833,-103.0000, 3799,    500.2,   6.0485,  34.3016,2,  34.3014,2,    262.3,2,    264.3,6,     5.92,2,    22.05,2,     0.00,2,     1.51,2, -999.000,9, -999.000,9, -999.000,9, -999.000,9, -999.000,9,-999.0000,9,  -999.00,9,   -999.0,9,   -999.0,9,   2131.1,2,    718.2,2,   2275.0,2,  -999.00,9,   20.00,  -999.0,-999.0000,-999.000, -999.00,  -999.0,  6.0048,-999.000
    31DSCG94_2,  P18S,    54,  1,    119,   1248,2,19940314,1155,-42.4833,-103.0000, 3799,    597.0,   5.7533,  34.2810,2,  34.2805,2,    259.4,2,    265.3,2,     7.21,2,    22.81,2,     0.00,2,     1.58,2, -999.000,9, -999.000,9, -999.000,9, -999.000,9, -999.000,9,-999.0000,9,  -999.00,9,   -999.0,9,   -999.0,9,   2134.0,2,    723.5,2,   2279.0,2,  -999.00,9,   20.00,  -999.0,-999.0000,-999.000, -999.00,  -999.0,  5.7021,-999.000
    31DSCG94_2,  P18S,    54,  1,    118,   1207,2,19940314,1155,-42.4833,-103.0000, 3799,    696.8,   5.3978,  34.2697,2,  34.2696,2,    248.6,2,    251.4,2,    10.51,2,    24.80,2,     0.00,2,     1.72,2, -999.000,9, -999.000,9, -999.000,9, -999.000,9, -999.000,9,-999.0000,9,  -999.00,9,   -999.0,9,   -999.0,9,   2146.6,2,    780.4,2,   2277.0,2,  -999.00,9,   20.00,  -999.0,-999.0000,-999.000, -999.00,  -999.0,  5.3394,-999.000
    31DSCG94_2,  P18S,    54,  1,    117,   1119,2,19940314,1155,-42.4833,-103.0000, 3799,    800.8,   4.9498,  34.2678,2,  34.2675,2,    234.5,2,    236.0,2,    15.04,2,    26.98,2,     0.00,2,     1.88,2, -999.000,9, -999.000,9, -999.000,9, -999.000,9, -999.000,9,-999.0000,9,  -999.00,9,   -999.0,9,   -999.0,9,   2161.0,2,    845.4,2,   2282.0,2,  -999.00,9,   20.00,  -999.0,-999.0000,-999.000, -999.00,  -999.0,  4.8849,-999.000
    31DSCG94_2,  P18S,    54,  1,    116,   1036,2,19940314,1155,-42.4833,-103.0000, 3799,    896.3,   4.5401,  34.2789,2,  34.2789,2,    219.3,2,    221.6,2,    21.68,2,    28.98,2,     0.00,2,     1.97,2, -999.000,9, -999.000,9, -999.000,9, -999.000,9, -999.000,9,-999.0000,9,  -999.00,9,   -999.0,9,   -999.0,9,   2176.2,2,    917.5,2,   2286.0,6,  -999.00,9,   20.00,  -999.0,-999.0000,-999.000, -999.00,  -999.0,  4.4696,-999.000
    31DSCG94_2,  P18S,    54,  1,    115,   1017,2,19940314,1155,-42.4833,-103.0000, 3799,   1095.8,   3.7306,  34.3378,2,  34.3374,2,    193.0,2,    192.3,2,    38.58,2,    32.31,2,     0.00,2,     2.25,2, -999.000,9, -999.000,9, -999.000,9, -999.000,9, -999.000,9,-999.0000,9,  -999.00,9,   -999.0,9,   -999.0,9,   2208.7,2,   1055.2,2,   2302.0,2,  -999.00,9,   20.00,  -999.0,-999.0000,-999.000, -999.00,  -999.0,  3.6495,-999.000
    31DSCG94_2,  P18S,    54,  1,    114,   1016,2,19940314,1155,-42.4833,-103.0000, 3799,   1199.4,   3.3779,  34.3875,2,  34.3867,2,    184.6,2,    176.6,2,    48.86,2,    33.96,2,     0.00,2,     2.36,2, -999.000,9, -999.000,9, -999.000,9, -999.000,9, -999.000,9,-999.0000,9,  -999.00,9,   -999.0,9,   -999.0,9,   -999.0,9,   -999.0,9,   -999.0,9,  -999.00,9, -999.00,  -999.0,-999.0000,-999.000, -999.00,  -999.0,  3.2913,-999.000
    31DSCG94_2,  P18S,    54,  1,    113,   1209,2,19940314,1155,-42.4833,-103.0000, 3799,   1399.8,   3.0524,  34.4751,2,  34.4739,2,    153.1,2,    151.5,2,    65.79,2,    35.89,2,     0.00,2,     2.52,2, -999.000,9, -999.000,9, -999.000,9, -999.000,9, -999.000,9,-999.0000,9,  -999.00,9,   -999.0,9,   -999.0,9,   -999.0,9,   -999.0,9,   -999.0,9,  -999.00,9, -999.00,  -999.0,-999.0000,-999.000, -999.00,  -999.0,  2.9525,-999.000
    31DSCG94_2,  P18S,    54,  1,    112,   1033,2,19940314,1155,-42.4833,-103.0000, 3799,   1599.7,   2.7232,  34.5440,2,  34.5425,2,    149.2,2,    149.2,2,    79.25,2,    35.70,2,     0.00,2,     2.46,2, -999.000,9, -999.000,9, -999.000,9, -999.000,9, -999.000,9,-999.0000,9,  -999.00,9,   -999.0,9,   -999.0,9,   -999.0,9,   -999.0,9,   -999.0,9,  -999.00,9, -999.00,  -999.0,-999.0000,-999.000, -999.00,  -999.0,  2.6105,-999.000
    31DSCG94_2,  P18S,    54,  1,    111,   1263,2,19940314,1155,-42.4833,-103.0000, 3799,   1795.7,   2.4622,  34.5939,2,  34.5956,2,    154.4,2,    154.9,2,    89.40,2,    34.91,2,     0.00,2,     2.43,2, -999.000,9, -999.000,9, -999.000,9, -999.000,9, -999.000,9,-999.0000,9,  -999.00,9,   -999.0,9,   -999.0,9,   -999.0,9,   -999.0,9,   -999.0,9,  -999.00,9, -999.00,  -999.0,-999.0000,-999.000, -999.00,  -999.0,  2.3363,-999.000
    31DSCG94_2,  P18S,    54,  1,    110,   1005,2,19940314,1155,-42.4833,-103.0000, 3799,   1998.1,   2.2557,  34.6384,2,  34.6361,2,    159.8,2,    161.1,2,    94.56,2,    34.00,2,     0.00,2,     2.39,2, -999.000,9, -999.000,9, -999.000,9, -999.000,9, -999.000,9,-999.0000,9,  -999.00,9,   -999.0,9,   -999.0,9,   -999.0,9,   -999.0,9,   -999.0,9,  -999.00,9, -999.00,  -999.0,-999.0000,-999.000, -999.00,  -999.0,  2.1154,-999.000
    31DSCG94_2,  P18S,    54,  1,    109,   1611,2,19940314,1155,-42.4833,-103.0000, 3799,   2244.5,   2.0551,  34.6769,2,  34.6752,2,    166.0,2,    166.7,2,    99.50,2,    33.40,2,     0.00,2,     2.34,2, -999.000,9, -999.000,9, -999.000,9, -999.000,9, -999.000,9,-999.0000,9,  -999.00,9,   -999.0,9,   -999.0,9,   -999.0,9,   -999.0,9,   -999.0,9,  -999.00,9, -999.00,  -999.0,-999.0000,-999.000, -999.00,  -999.0,  1.8966,-999.000
    31DSCG94_2,  P18S,    54,  1,    108,   1218,2,19940314,1155,-42.4833,-103.0000, 3799,   2549.7,   1.8602,  34.6931,2,  34.6920,2,    169.7,2,    170.3,2,   107.45,2,    33.34,2,     0.00,2,     2.30,2, -999.000,9, -999.000,9, -999.000,9, -999.000,9, -999.000,9,-999.0000,9,  -999.00,9,   -999.0,9,   -999.0,9,   -999.0,9,   -999.0,9,   -999.0,9,  -999.00,9, -999.00,  -999.0,-999.0000,-999.000, -999.00,  -999.0,  1.6778,-999.000
    31DSCG94_2,  P18S,    54,  1,    107,   1257,2,19940314,1155,-42.4833,-103.0000, 3799,   2747.7,   1.7585,  34.6987,2,  34.6973,2,    172.8,2,    173.0,2,   112.00,2,    33.14,2,     0.00,2,     2.30,2, -999.000,9, -999.000,9, -999.000,9, -999.000,9, -999.000,9,-999.0000,9,  -999.00,9,   -999.0,9,   -999.0,9,   -999.0,9,   -999.0,9,   -999.0,9,  -999.00,9, -999.00,  -999.0,-999.0000,-999.000, -999.00,  -999.0,  1.5598,-999.000
    31DSCG94_2,  P18S,    54,  1,    106,   1224,2,19940314,1155,-42.4833,-103.0000, 3799,   2998.3,   1.6636,  34.7026,2,  34.7015,2,    176.3,2,    176.5,2,   112.57,2,    33.01,2,     0.00,2,     2.31,2, -999.000,9, -999.000,9, -999.000,9, -999.000,9, -999.000,9,-999.0000,9,  -999.00,9,   -999.0,9,   -999.0,9,   -999.0,9,   -999.0,9,   -999.0,9,  -999.00,9, -999.00,  -999.0,-999.0000,-999.000, -999.00,  -999.0,  1.4432,-999.000
    31DSCG94_2,  P18S,    54,  1,    105,   1246,2,19940314,1155,-42.4833,-103.0000, 3799,   3245.4,   1.5148,  34.7067,2,  34.7049,2,    181.9,2,    181.7,2,   115.05,2,    32.77,2,     0.00,2,     2.30,2, -999.000,9, -999.000,9, -999.000,9, -999.000,9, -999.000,9,-999.0000,9,  -999.00,9,   -999.0,9,   -999.0,9,   -999.0,9,   -999.0,9,   -999.0,9,  -999.00,9, -999.00,  -999.0,-999.0000,-999.000, -999.00,  -999.0,  1.2737,-999.000
    31DSCG94_2,  P18S,    54,  1,    103,   9999,2,19940314,1155,-42.4833,-103.0000, 3799,   3498.3,   1.2652,  34.7069,2,  34.7059,2,    188.3,2,    188.1,2,   124.11,2,    32.90,2,     0.00,2,     2.28,2, -999.000,9, -999.000,9, -999.000,9, -999.000,9, -999.000,9,-999.0000,9,  -999.00,9,   -999.0,9,   -999.0,9,   -999.0,9,   -999.0,9,   -999.0,9,  -999.00,9, -999.00,  -999.0,-999.0000,-999.000, -999.00,  -999.0,  1.0049,-999.000
    31DSCG94_2,  P18S,    54,  1,    104,   1217,2,19940314,1155,-42.4833,-103.0000, 3799,   3500.1,   1.2650,  34.7065,2,  34.7066,2,    188.4,2,    188.4,2,   122.36,2,    32.95,2,     0.00,2,     2.27,2, -999.000,9, -999.000,9, -999.000,9, -999.000,9, -999.000,9,-999.0000,9,  -999.00,9,   -999.0,9,   -999.0,9,   -999.0,9,   -999.0,9,   -999.0,9,  -999.00,9, -999.00,  -999.0,-999.0000,-999.000, -999.00,  -999.0,  1.0046,-999.000
    31DSCG94_2,  P18S,    54,  1,    102,   1223,2,19940314,1155,-42.4833,-103.0000, 3799,   3750.9,   1.1863,  34.7073,2,  34.7061,2,    192.9,2,    191.5,2,   124.31,2,    32.95,2,     0.00,2,     2.28,2, -999.000,9, -999.000,9, -999.000,9, -999.000,9, -999.000,9,-999.0000,9,  -999.00,9,   -999.0,9,   -999.0,9,   -999.0,9,   -999.0,9,   -999.0,9,  -999.00,9, -999.00,  -999.0,-999.0000,-999.000, -999.00,  -999.0,  0.9023,-999.000
    31DSCG94_2,  P18S,    54,  1,    101,   1041,2,19940314,1155,-42.4833,-103.0000, 3799,   3823.6,   1.1680,  34.7079,2,  34.7076,2,    194.0,2,    193.0,2,   124.22,2,    32.61,2,     0.00,2,     2.31,2, -999.000,9, -999.000,9, -999.000,9, -999.000,9, -999.000,9,-999.0000,9,  -999.00,9,   -999.0,9,   -999.0,9,   -999.0,9,   -999.0,9,   -999.0,9,  -999.00,9, -999.00,  -999.0,-999.0000,-999.000, -999.00,  -999.0,  0.8769,-999.000