BOTTLE,20220630CCHSIOAMB
EXPOCODE,SECT_ID,STNNBR,CASTNO,SAMPNO,BTLNBR,BTLNBR_FLAG_W,DATE,TIME,LATITUDE,LONGITUDE,DEPTH,CTDPRS,CTDTMP,CTDSAL,CTDSAL_FLAG_W,SALNTY,SALNTY_FLAG_W,CTDOXY,CTDOXY_FLAG_W,OXYGEN,OXYGEN_FLAG_W,SILCAT,SILCAT_FLAG_W,NITRAT,NITRAT_FLAG_W,NITRIT,NITRIT_FLAG_W,PHSPHT,PHSPHT_FLAG_W,CFC-11,CFC-11_FLAG_W,CFC-12,CFC-12_FLAG_W,CFC113,CFC113_FLAG_W,CCL4,CCL4_FLAG_W,TRITUM,TRITUM_FLAG_W,HELIUM,HELIUM_FLAG_W,DELHE3,DELHE3_FLAG_W,DELC14,DELC14_FLAG_W,DELC13,DELC13_FLAG_W,TCARBN,TCARBN_FLAG_W,PCO2,PCO2_FLAG_W,ALKALI,ALKALI_FLAG_W,PH,PH_FLAG_W,PCO2TMP,C14ERR,HELIER,DELHER,PH_TMP,C13ERR,THETA,TRITER
,,,,,,,,,,,,DBAR,ITS-90,PSS-78,,PSS-78,,UMOL/KG,,UMOL/KG,,UMOL/KG,,UMOL/KG,,UMOL/KG,,UMOL/KG,,PMOL/KG,,PMOL/KG,,PMOL/KG,,PMOL/KG,,TU,,NMOL/KG,,PERCNT,,/MILLE,,/MILLE,,UMOL/KG,,UATM,,UMOL/KG,,,,DEG C,/MILLE,NMOL/KG,PERCNT,DEG C,/MILLE,DEG C,TU
    31DSCG94_3,  P18N,   172,  3,    336,   1025,2,19940420,1927, 12.6667,-110.0000, 4186,      8.8,  28.9753,  33.7677,2,  33.7699,2,    224.0,3,    198.2,2,     0.00,2,     0.00,2,     0.00,2,     0.12,2,    1.649,2,    0.967,2, -999.000,9, -999.000,9, -999.000,9,-999.0000,9,  -999.00,9,   -999.0,9,   -999.0,9,   1894.4,2,   -999.0,9,   2225.0,6,     8.13,2, -999.00,  -999.0,-999.0000,-999.000,   25.00,  -999.0, 28.9732,-999.000
    31DSCG94_3,  P18N,   172,  3,    335,   1247,2,19940420,1927, 12.6667,-110.0000, 4186,      9.9,  28.9491,  33.7666,2,  33.7700,2,    235.4,3,    198.3,6,     0.00,2,     0.00,2,     0.00,2,     0.10,2,    1.661,2,    0.969,2, -999.000,9, -999.000,9, -999.000,9,-999.0000,9,  -999.00,9,   -999.0,9,   -999.0,9,   -999.0,9,    250.4,2,   -999.0,9,     8.13,2,   20.00,  -999.0,-999.0000,-999.000,   25.00,  -999.0, 28.9467,-999.000
    31DSCG94_3,  P18N,   172,  3,    334,   1216,2,19940420,1927, 12.6667,-110.0000, 4186,     23.8,  28.8535,  33.7622,2,  33.7647,2,    187.7,2,    198.6,2,     0.00,2,     0.00,2,     0.00,2,     0.12,2,    1.650,2,    0.957,2, -999.000,9, -999.000,9, -999.000,9,-999.0000,9,  -999.00,9,   -999.0,9,   -999.0,9,   -999.0,9,   -999.0,9,   -999.0,9,     8.13,2, -999.00,  -999.0,-999.0000,-999.000,   25.00,  -999.0, 28.8478,-999.000
    31DSCG94_3,  P18N,   172,  3,    333,   1244,2,19940420,1927, 12.6667,-110.0000, 4186,     49.9,  28.6616,  33.7426,2,  33.7450,2,    186.6,2,    198.6,2,     0.00,2,     0.00,2,     0.00,2,     0.14,2,    1.663,2,    0.956,2, -999.000,9, -999.000,9, -999.000,9,-999.0000,9,  -999.00,9,   -999.0,9,   -999.0,9,   1893.3,2,    263.7,2,   2228.0,2,     8.12,2,   20.00,  -999.0,-999.0000,-999.000,   25.00,  -999.0, 28.6497,-999.000
    31DSCG94_3,  P18N,   172,  3,    332,   1003,3,19940420,1927, 12.6667,-110.0000, 4186,     75.0,  28.5424,  33.8581,2,  33.8611,2,    183.9,2,    199.3,2,     0.00,2,     0.00,2,     0.00,2,     0.15,2,    1.672,2,    0.985,2, -999.000,9, -999.000,9, -999.000,9,-999.0000,9,  -999.00,9,   -999.0,9,   -999.0,9,   -999.0,9,   -999.0,9,   -999.0,9,  -999.00,9, -999.00,  -999.0,-999.0000,-999.000, -999.00,  -999.0, 28.5246,-999.000
    31DSCG94_3,  P18N,   172,  3,    331,   1211,2,19940420,1927, 12.6667,-110.0000, 4186,     97.8,  27.2952,  33.9550,2,  33.9761,2,    188.0,2,    183.9,2,     0.14,2,     0.78,2,     0.35,2,     0.34,2,    1.688,6,    0.973,6, -999.000,9, -999.000,9, -999.000,9,-999.0000,9,  -999.00,9,   -999.0,9,   -999.0,9,   1942.4,2,    309.2,2,   2246.0,2,     8.06,2,   20.00,  -999.0,-999.0000,-999.000,   25.00,  -999.0, 27.2726,-999.000
    31DSCG94_3,  P18N,   172,  3,    330,   1241,2,19940420,1927, 12.6667,-110.0000, 4186,    149.2,  16.4606,  34.7177,2,  34.7184,2,     11.4,2,      5.4,2,    17.25,2,    28.51,2,     0.00,2,     2.22,2,    0.807,2,    0.449,2, -999.000,9, -999.000,9, -999.000,9,-999.0000,9,  -999.00,9,   -999.0,9,   -999.0,9,   2212.5,3,   1284.7,2,   2283.0,2,     7.53,2,   20.00,  -999.0,-999.0000,-999.000,   25.00,  -999.0, 16.4366,-999.000
    31DSCG94_3,  P18N,   172,  3,    329,   1240,2,19940420,1927, 12.6667,-110.0000, 4186,    197.6,  13.3347,  34.8200,2,  34.8217,2,     17.5,2,      0.3,2,    23.99,2,    28.32,2,     0.98,2,     2.38,2,    0.389,2,    0.227,2, -999.000,9, -999.000,9, -999.000,9,-999.0000,9,  -999.00,9,   -999.0,9,   -999.0,9,   2243.2,2,   1468.0,2,   2296.0,2,     7.48,2,   20.00,  -999.0,-999.0000,-999.000,   25.00,  -999.0, 13.3071,-999.000
    31DSCG94_3,  P18N,   172,  3,    328,   1114,2,19940420,1927, 12.6667,-110.0000, 4186,    248.8,  12.2231,  34.7925,2,  34.7910,2,     11.0,2,      0.2,2,    26.63,2,    31.20,2,     0.16,2,     2.41,2,    0.233,2,    0.136,2, -999.000,9, -999.000,9, -999.000,9,-999.0000,9,  -999.00,9,   -999.0,9,   -999.0,9,   2251.6,2,   1546.8,2,   2300.0,2,     7.45,2,   20.00,  -999.0,-999.0000,-999.000,   25.00,  -999.0, 12.1902,-999.000
    31DSCG94_3,  P18N,   172,  3,    327,   1008,2,19940420,1927, 12.6667,-110.0000, 4186,    302.3,  11.3674,  34.7354,2,  34.7378,2,      7.7,2,      0.2,2,    30.41,2,    30.92,2,     0.21,2,     2.53,2,    0.122,2,    0.074,2, -999.000,9, -999.000,9, -999.000,9,-999.0000,9,  -999.00,9,   -999.0,9,   -999.0,9,   2263.6,2,   1643.1,2,   2304.0,2,     7.43,2,   20.00,  -999.0,-999.0000,-999.000,   25.00,  -999.0, 11.3292,-999.000
    31DSCG94_3,  P18N,   172,  3,    326,   1007,2,19940420,1927, 12.6667,-110.0000, 4186,    330.2,  11.1152,  34.7283,2,  34.7388,2,      7.2,2,      1.8,2,    32.19,2,    30.17,2,     0.50,2,     2.54,2,    0.104,2,    0.062,2, -999.000,9, -999.000,9, -999.000,9,-999.0000,9,  -999.00,9,   -999.0,9,   -999.0,9,   2265.3,2,   -999.0,9,   2302.0,2,     7.42,2, -999.00,  -999.0,-999.0000,-999.000,   25.00,  -999.0, 11.0741,-999.000
    31DSCG94_3,  P18N,   172,  3,    325,   1256,2,19940420,1927, 12.6667,-110.0000, 4186,    398.9,  10.1955,  34.6828,2,  34.6840,2,      5.3,2,      1.5,2,    38.10,2,    27.43,2,     0.78,2,     2.69,2,    0.038,2,    0.023,2, -999.000,9, -999.000,9, -999.000,9,-999.0000,9,  -999.00,9,   -999.0,9,   -999.0,9,   2283.7,2,   1784.8,2,   2307.0,2,     7.39,2,   20.00,  -999.0,-999.0000,-999.000,   25.00,  -999.0, 10.1483,-999.000
    31DSCG94_3,  P18N,   172,  3,    323,   1220,2,19940420,1927, 12.6667,-110.0000, 4186,    499.3,   8.7647,  34.6162,2,  34.6160,2,      3.9,2,      1.6,2,    49.82,2,    29.49,2,     0.36,2,     2.91,2,    0.006,2,    0.006,2, -999.000,9, -999.000,9, -999.000,9,-999.0000,9,  -999.00,9,   -999.0,9,   -999.0,9,   2302.5,2,   1904.3,2,   2327.0,2,     7.37,2,   20.00,  -999.0,-999.0000,-999.000,   25.00,  -999.0,  8.7106,-999.000
    31DSCG94_3,  P18N,   172,  3,    322,   1245,2,19940420,1927, 12.6667,-110.0000, 4186,    599.1,   7.4888,  34.5741,2,  34.5733,2,      3.2,2,      0.2,2,    61.89,2,    33.37,2,     0.43,2,     3.08,2, -999.000,9, -999.000,9, -999.000,9, -999.000,9, -999.000,9,-999.0000,9,  -999.00,9,   -999.0,9,   -999.0,9,   2318.0,2,   1995.3,2,   2336.0,2,     7.35,2,   20.00,  -999.0,-999.0000,-999.000,   25.00,  -999.0,  7.4292,-999.000
    31DSCG94_3,  P18N,   172,  3,    321,   1206,2,19940420,1927, 12.6667,-110.0000, 4186,    700.7,   6.5712,  34.5520,2,  34.5513,2,      3.0,2,      0.9,2,    70.47,2,    39.10,2,     0.00,2,     3.15,2,    0.002,2,    0.000,2, -999.000,9, -999.000,9, -999.000,9,-999.0000,9,  -999.00,9,   -999.0,9,   -999.0,9,   2326.5,2,   2059.6,2,   2330.0,2,     7.34,2,   20.00,  -999.0,-999.0000,-999.000,   25.00,  -999.0,  6.5059,-999.000
    31DSCG94_3,  P18N,   172,  3,    320,   1028,2,19940420,1927, 12.6667,-110.0000, 4186,    799.0,   5.8488,  34.5483,2,  34.5484,2,      4.0,2,      1.7,2,    78.18,2,    42.72,2,     0.00,2,     3.22,2, -999.000,9, -999.000,9, -999.000,9, -999.000,9, -999.000,9,-999.0000,9,  -999.00,9,   -999.0,9,   -999.0,9,   2337.6,2,   2109.9,2,   2335.0,2,     7.33,2,   20.00,  -999.0,-999.0000,-999.000,   25.00,  -999.0,  5.7782,-999.000
    31DSCG94_3,  P18N,   172,  3,    319,   1248,2,19940420,1927, 12.6667,-110.0000, 4186,    902.2,   5.2119,  34.5452,2,  34.5446,2,      5.6,2,      5.0,2,    89.41,2,    44.08,2,     0.00,2,     3.30,2,   -0.002,2,   -0.002,2, -999.000,9, -999.000,9, -999.000,9,-999.0000,9,  -999.00,9,   -999.0,9,   -999.0,9,   2347.0,2,   2115.3,2,   2346.0,2,  -999.00,9,   20.00,  -999.0,-999.0000,-999.000, -999.00,  -999.0,  5.1359,-999.000
    31DSCG94_3,  P18N,   172,  3,    318,   1115,2,19940420,1927, 12.6667,-110.0000, 4186,   1001.2,   4.7759,  34.5503,2,  34.5498,2,      9.7,2,      8.8,2,    96.57,2,    44.39,2,     0.00,2,     3.30,2, -999.000,9, -999.000,9, -999.000,9, -999.000,9, -999.000,9,   1.8540,2,    18.06,2,   -999.0,9,   -999.0,9,   2354.5,2,   2119.8,2,   2361.0,6,     7.33,2,   20.00,  -999.0,-999.0000,-999.000,   25.00,  -999.0,  4.6941,-999.000
    31DSCG94_3,  P18N,   172,  3,    317,   1119,2,19940420,1927, 12.6667,-110.0000, 4186,   1197.9,   3.9396,  34.5710,2,  34.5691,2,     22.4,2,     26.3,2,   110.67,2,    43.90,2,     0.00,2,     3.25,2, -999.000,9, -999.000,9, -999.000,9, -999.000,9, -999.000,9,   1.8960,3,    21.87,2,   -999.0,9,   -999.0,9,   -999.0,9,   -999.0,9,   -999.0,9,  -999.00,9, -999.00,  -999.0,-999.0000,-999.000, -999.00,  -999.0,  3.8476,-999.000
    31DSCG94_3,  P18N,   172,  3,    316,   1036,2,19940420,1927, 12.6667,-110.0000, 4186,   1399.8,   3.3270,  34.5903,2,  34.5924,2,     37.5,2,     42.5,2,   123.27,2,    43.00,2,     0.00,2,     3.13,2,    0.000,2,    0.003,2, -999.000,9, -999.000,9, -999.000,9,   1.8870,2,    24.99,2,   -999.0,9,   -999.0,9,   -999.0,9,   -999.0,9,   -999.0,9,     7.39,2, -999.00,  -999.0,-999.0000,-999.000,   25.00,  -999.0,  3.2239,-999.000
    31DSCG94_3,  P18N,   172,  3,    315,   1017,2,19940420,1927, 12.6667,-110.0000, 4186,   1599.6,   2.9436,  34.6076,2,  34.6070,2,     56.2,2,     57.8,2,   129.94,2,    41.93,2,     0.00,2,     3.02,2, -999.000,9, -999.000,9, -999.000,9, -999.000,9, -999.000,9,-999.0000,9,  -999.00,9,   -999.0,9,   -999.0,9,   -999.0,9,   -999.0,9,   -999.0,9,  -999.00,9, -999.00,  -999.0,-999.0000,-999.000, -999.00,  -999.0,  2.8280,-999.000
    31DSCG94_3,  P18N,   172,  3,    314,   1016,2,19940420,1927, 12.6667,-110.0000, 4186,   1801.6,   2.5594,  34.6250,2,  34.6242,2,     73.5,2,     72.7,2,   136.54,2,    40.81,2,     0.00,2,     2.92,2, -999.000,9, -999.000,9, -999.000,9, -999.000,9, -999.000,9,   1.9120,2,    28.28,2,   -999.0,9,   -999.0,9,   -999.0,9,   -999.0,9,   -999.0,9,     7.45,2, -999.00,  -999.0,-999.0000,-999.000,   25.00,  -999.0,  2.4316,-999.000
    31DSCG94_3,  P18N,   172,  3,    313,   1209,2,19940420,1927, 12.6667,-110.0000, 4186,   1997.8,   2.2628,  34.6403,2,  34.6398,2,     88.0,2,     86.0,2,   142.35,2,    39.59,2,     0.00,2,     2.84,2,    0.001,2,    0.001,2, -999.000,9, -999.000,9, -999.000,9,   1.9190,2,    30.51,2,   -999.0,9,   -999.0,9,   -999.0,9,   -999.0,9,   -999.0,9,  -999.00,9, -999.00,  -999.0,-999.0000,-999.000, -999.00,  -999.0,  2.1225,-999.000
    31DSCG94_3,  P18N,   172,  3,    312,   1033,2,19940420,1927, 12.6667,-110.0000, 4186,   2199.3,   2.0743,  34.6509,2,  34.6503,2,     95.7,2,     94.9,2,   145.80,2,    39.54,2,     0.00,2,     2.77,2, -999.000,9, -999.000,9, -999.000,9, -999.000,9, -999.000,9,   1.9220,2,    31.97,2,   -999.0,9,   -999.0,9,   -999.0,9,   -999.0,9,   -999.0,9,     7.49,2, -999.00,  -999.0,-999.0000,-999.000,   25.00,  -999.0,  1.9195,-999.000
    31DSCG94_3,  P18N,   172,  3,    311,   1240,2,19940420,1927, 12.6667,-110.0000, 4186,   2399.9,   1.9582,  34.6583,2,  34.6569,2,    101.5,2,    102.2,2,   148.66,2,    38.77,2,     0.00,2,     2.73,2, -999.000,9, -999.000,9, -999.000,9, -999.000,9, -999.000,9,   1.9400,2,    33.12,2,   -999.0,9,   -999.0,9,   -999.0,9,   -999.0,9,   -999.0,9,  -999.00,9, -999.00,  -999.0,-999.0000,-999.000, -999.00,  -999.0,  1.7877,-999.000
    31DSCG94_3,  P18N,   172,  3,    310,   1005,2,19940420,1927, 12.6667,-110.0000, 4186,   2600.4,   1.8655,  34.6639,2,  34.6631,2,    105.9,2,    108.1,2,   153.73,2,    38.57,2,     0.00,2,     2.71,2,    0.001,2,    0.000,2, -999.000,9, -999.000,9, -999.000,9,   1.9420,2,    32.29,2,   -999.0,9,   -999.0,9,   -999.0,9,   -999.0,9,   -999.0,9,  -999.00,9, -999.00,  -999.0,-999.0000,-999.000, -999.00,  -999.0,  1.6785,-999.000
    31DSCG94_3,  P18N,   172,  3,    309,   1611,2,19940420,1927, 12.6667,-110.0000, 4186,   2800.2,   1.7898,  34.6680,2,  34.6675,2,    110.4,2,    113.6,6,   156.77,2,    38.42,2,     0.00,2,     2.68,2, -999.000,9, -999.000,9, -999.000,9, -999.000,9, -999.000,9,   1.9270,2,    30.39,2,   -999.0,9,   -999.0,9,   -999.0,9,   -999.0,9,   -999.0,9,  -999.00,9, -999.00,  -999.0,-999.0000,-999.000, -999.00,  -999.0,  1.5857,-999.000
    31DSCG94_3,  P18N,   172,  3,    308,   1218,2,19940420,1927, 12.6667,-110.0000, 4186,   3000.5,   1.7369,  34.6714,2,  34.6721,2,    114.7,2,    118.1,2,   156.07,2,    37.90,2,     0.00,2,     2.64,2, -999.000,9, -999.000,9, -999.000,9, -999.000,9, -999.000,9,   1.9320,2,    28.73,2,   -999.0,9,   -999.0,9,   -999.0,9,   -999.0,9,   -999.0,9,     7.53,2, -999.00,  -999.0,-999.0000,-999.000,   25.00,  -999.0,  1.5148,-999.000
    31DSCG94_3,  P18N,   172,  3,    307,   1257,2,19940420,1927, 12.6667,-110.0000, 4186,   3198.8,   1.6687,  34.6752,2,  34.6752,2,    120.4,2,    124.7,2,   155.38,2,    37.23,2,     0.00,2,     2.61,2,   -0.001,2,    0.006,2, -999.000,9, -999.000,9, -999.000,9,   1.9540,3,    25.40,2,   -999.0,9,   -999.0,9,   -999.0,9,   -999.0,9,   -999.0,9,  -999.00,9, -999.00,  -999.0,-999.0000,-999.000, -999.00,  -999.0,  1.4287,-999.000
    31DSCG94_3,  P18N,   172,  3,    306,   1224,2,19940420,1927, 12.6667,-110.0000, 4186,   3400.8,   1.5922,  34.6792,2,  34.6785,2,    125.9,2,    131.9,2,   152.10,2,    36.84,2,     0.00,2,     2.57,2, -999.000,9, -999.000,9, -999.000,9, -999.000,9, -999.000,9,   1.9250,2,    22.30,2,   -999.0,9,   -999.0,9,   -999.0,9,   -999.0,9,   -999.0,9,     7.55,2, -999.00,  -999.0,-999.0000,-999.000,   25.00,  -999.0,  1.3338,-999.000
    31DSCG94_3,  P18N,   172,  3,    305,   1246,2,19940420,1927, 12.6667,-110.0000, 4186,   3597.7,   1.5662,  34.6814,2,  34.6812,2,    130.3,2,    135.9,2,   150.69,2,    36.59,2,     0.00,2,     2.54,2, -999.000,9, -999.000,9, -999.000,9, -999.000,9, -999.000,9,   1.9270,2,    20.80,2,   -999.0,9,   -999.0,9,   -999.0,9,   -999.0,9,   -999.0,9,  -999.00,9, -999.00,  -999.0,-999.0000,-999.000, -999.00,  -999.0,  1.2883,-999.000
    31DSCG94_3,  P18N,   172,  3,    304,   1217,2,19940420,1927, 12.6667,-110.0000, 4186,   3796.8,   1.5687,  34.6820,2,  34.6814,2,    132.3,2,    134.6,2,   150.01,2,    36.61,2,     0.00,2,     2.53,2, -999.000,9, -999.000,9, -999.000,9, -999.000,9, -999.000,9,-999.0000,5,    19.96,3,   -999.0,9,   -999.0,9,   -999.0,9,   -999.0,9,   -999.0,9,     7.56,2, -999.00,  -999.0,-999.0000,-999.000,   25.00,  -999.0,  1.2698,-999.000
    31DSCG94_3,  P18N,   172,  3,    302,   1223,2,19940420,1927, 12.6667,-110.0000, 4186,   4001.0,   1.5857,  34.6825,2,  34.6821,2,    133.7,2,    137.7,2,   148.61,2,    37.22,2,     0.00,2,     2.54,2, -999.000,9, -999.000,9, -999.000,9, -999.000,9, -999.000,9,   1.9170,2,    20.19,2,   -999.0,9,   -999.0,9,   -999.0,9,   -999.0,9,   -999.0,9,     7.56,2, -999.00,  -999.0,-999.0000,-999.000,   25.00,  -999.0,  1.2642,-999.000
    31DSCG94_3,  P18N,   172,  3,    303,   9999,2,19940420,1927, 12.6667,-110.0000, 4186,   4002.9,   1.5862,  34.6819,2,  34.6826,2,    133.7,2,    137.4,6,   149.34,2,    36.43,2,     0.00,2,     2.52,2,    0.002,2,    0.001,2, -999.000,9, -999.000,9, -999.000,9,-999.0000,9,  -999.00,9,   -999.0,9,   -999.0,9,   -999.0,9,   -999.0,9,   -999.0,9,  -999.00,9, -999.00,  -999.0,-999.0000,-999.000, -999.00,  -999.0,  1.2645,-999.000
    31DSCG94_3,  P18N,   172,  3,    301,   1041,2,19940420,1927, 12.6667,-110.0000, 4186,   4227.2,   1.6091,  34.6822,2,  34.6813,2,    133.1,2,    137.5,2,   151.47,2,    36.92,2,     0.00,2,     2.55,2, -999.000,9, -999.000,9, -999.000,9, -999.000,9, -999.000,9,   1.9130,2,    19.97,2,   -999.0,9,   -999.0,9,   -999.0,9,   -999.0,9,   -999.0,9,  -999.00,9, -999.00,  -999.0,-999.0000,-999.000, -999.00,  -999.0,  1.2619,-999.000