BOTTLE,20220630CCHSIOAMB
EXPOCODE,SECT_ID,STNNBR,CASTNO,SAMPNO,BTLNBR,BTLNBR_FLAG_W,DATE,TIME,LATITUDE,LONGITUDE,DEPTH,CTDPRS,CTDTMP,CTDSAL,CTDSAL_FLAG_W,SALNTY,SALNTY_FLAG_W,CTDOXY,CTDOXY_FLAG_W,OXYGEN,OXYGEN_FLAG_W,SILCAT,SILCAT_FLAG_W,NITRAT,NITRAT_FLAG_W,NITRIT,NITRIT_FLAG_W,PHSPHT,PHSPHT_FLAG_W,CFC-11,CFC-11_FLAG_W,CFC-12,CFC-12_FLAG_W,CFC113,CFC113_FLAG_W,CCL4,CCL4_FLAG_W,TRITUM,TRITUM_FLAG_W,HELIUM,HELIUM_FLAG_W,DELHE3,DELHE3_FLAG_W,DELC14,DELC14_FLAG_W,DELC13,DELC13_FLAG_W,TCARBN,TCARBN_FLAG_W,PCO2,PCO2_FLAG_W,ALKALI,ALKALI_FLAG_W,PH,PH_FLAG_W,PCO2TMP,C14ERR,HELIER,DELHER,PH_TMP,C13ERR,THETA,TRITER
,,,,,,,,,,,,DBAR,ITS-90,PSS-78,,PSS-78,,UMOL/KG,,UMOL/KG,,UMOL/KG,,UMOL/KG,,UMOL/KG,,UMOL/KG,,PMOL/KG,,PMOL/KG,,PMOL/KG,,PMOL/KG,,TU,,NMOL/KG,,PERCNT,,/MILLE,,/MILLE,,UMOL/KG,,UATM,,UMOL/KG,,,,DEG C,/MILLE,NMOL/KG,PERCNT,DEG C,/MILLE,DEG C,TU
    31DSCG94_3,  P18N,   189,  1,    136,   1025,2,19940424,2355, 21.4983,-110.0017, 3209,      9.6,  21.4008,  34.3843,2,  34.3855,2,    223.8,2,    224.3,2,     1.19,2,     0.06,2,     0.01,2,     0.32,2, -999.000,9, -999.000,9, -999.000,9, -999.000,9, -999.000,9,-999.0000,9,  -999.00,9,   -999.0,9,   -999.0,9,   2004.4,2,    345.2,2,   2281.0,6,     8.02,2,   20.00,  -999.0,-999.0000,-999.000,   25.00,  -999.0, 21.3989,-999.000
    31DSCG94_3,  P18N,   189,  1,    135,   1247,2,19940424,2355, 21.4983,-110.0017, 3209,     23.5,  21.3404,  34.3693,2,  34.3733,2,    203.9,2,    224.8,2,     1.44,2,     0.03,2,     0.00,2,     0.30,2, -999.000,9, -999.000,9, -999.000,9, -999.000,9, -999.000,9,-999.0000,9,  -999.00,9,   -999.0,9,   -999.0,9,   -999.0,9,   -999.0,9,   -999.0,9,     8.02,2, -999.00,  -999.0,-999.0000,-999.000,   25.00,  -999.0, 21.3359,-999.000
    31DSCG94_3,  P18N,   189,  1,    134,   1216,2,19940424,2355, 21.4983,-110.0017, 3209,     48.0,  19.7463,  34.1977,2,  34.2005,2,    207.5,2,    234.1,2,     1.59,2,     0.00,2,     0.00,2,     0.34,2, -999.000,9, -999.000,9, -999.000,9, -999.000,9, -999.000,9,-999.0000,9,  -999.00,9,   -999.0,9,   -999.0,9,   2007.1,2,    361.9,2,   2275.0,2,     8.01,2,   20.00,  -999.0,-999.0000,-999.000,   25.00,  -999.0, 19.7375,-999.000
    31DSCG94_3,  P18N,   189,  1,    133,   1244,2,19940424,2355, 21.4983,-110.0017, 3209,     75.4,  18.5639,  34.1447,2,  34.1545,2,    185.1,2,    229.1,2,     2.01,2,     0.03,2,     0.00,2,     0.39,2, -999.000,9, -999.000,9, -999.000,9, -999.000,9, -999.000,9,-999.0000,9,  -999.00,9,   -999.0,9,   -999.0,9,   -999.0,9,   -999.0,9,   -999.0,9,     7.98,2, -999.00,  -999.0,-999.0000,-999.000,   25.00,  -999.0, 18.5508,-999.000
    31DSCG94_3,  P18N,   189,  1,    132,   1003,2,19940424,2355, 21.4983,-110.0017, 3209,     98.3,  15.3813,  34.2174,2,  34.2190,2,    -14.0,3,     87.1,2,    13.82,2,    17.92,2,     0.09,2,     1.68,2, -999.000,9, -999.000,9, -999.000,9, -999.000,9, -999.000,9,-999.0000,9,  -999.00,9,   -999.0,9,   -999.0,9,   2155.5,2,    946.9,2,   2259.0,2,     7.65,2,   20.00,  -999.0,-999.0000,-999.000,   25.00,  -999.0, 15.3663,-999.000
    31DSCG94_3,  P18N,   189,  1,    131,   1211,2,19940424,2355, 21.4983,-110.0017, 3209,    123.5,  13.8549,  34.4600,2,  34.4581,2,     62.6,2,     40.0,2,    21.54,2,    24.43,2,     0.01,2,     2.12,2, -999.000,9, -999.000,9, -999.000,9, -999.000,9, -999.000,9,-999.0000,9,  -999.00,9,   -999.0,9,   -999.0,9,   -999.0,9,   -999.0,9,   -999.0,9,     7.53,2, -999.00,  -999.0,-999.0000,-999.000,   25.00,  -999.0, 13.8373,-999.000
    31DSCG94_3,  P18N,   189,  1,    130,   1241,2,19940424,2355, 21.4983,-110.0017, 3209,    149.3,  13.3095,  34.6671,2,  34.6582,2,     47.9,2,     14.7,2,    24.71,2,    26.55,2,     0.00,2,     2.40,2, -999.000,9, -999.000,9, -999.000,9, -999.000,9, -999.000,9,-999.0000,9,  -999.00,9,   -999.0,9,   -999.0,9,   2234.7,2,   1426.1,2,   2286.0,2,     7.48,2,   20.00,  -999.0,-999.0000,-999.000,   25.00,  -999.0, 13.2887,-999.000
    31DSCG94_3,  P18N,   189,  1,    129,   1240,2,19940424,2355, 21.4983,-110.0017, 3209,    174.4,  12.6067,  34.6869,2,  34.6878,2,     23.3,2,     10.4,2,    27.67,2,    27.53,2,     0.00,2,     2.49,2, -999.000,9, -999.000,9, -999.000,9, -999.000,9, -999.000,9,-999.0000,9,  -999.00,9,   -999.0,9,   -999.0,9,   -999.0,9,   -999.0,9,   -999.0,9,     7.46,2, -999.00,  -999.0,-999.0000,-999.000,   25.00,  -999.0, 12.5833,-999.000
    31DSCG94_3,  P18N,   189,  1,    128,   1114,2,19940424,2355, 21.4983,-110.0017, 3209,    198.3,  11.8155,  34.6614,2,  34.6624,2,     25.2,2,     10.8,2,    30.34,2,    27.77,2,     0.00,2,     2.54,2, -999.000,9, -999.000,9, -999.000,9, -999.000,9, -999.000,9,-999.0000,9,  -999.00,9,   -999.0,9,   -999.0,9,   2252.9,2,   1556.7,2,   2294.0,2,     7.44,2,   20.00,  -999.0,-999.0000,-999.000,   25.00,  -999.0, 11.7899,-999.000
    31DSCG94_3,  P18N,   189,  1,    127,   1008,2,19940424,2355, 21.4983,-110.0017, 3209,    250.7,  10.7999,  34.6300,2,  34.6298,2,     16.0,2,      6.5,2,    34.77,2,    27.38,2,     0.00,2,     2.68,2, -999.000,9, -999.000,9, -999.000,9, -999.000,9, -999.000,9,-999.0000,9,  -999.00,9,   -999.0,9,   -999.0,9,   2269.9,2,   -999.0,9,   2305.0,2,  -999.00,9, -999.00,  -999.0,-999.0000,-999.000, -999.00,  -999.0, 10.7694,-999.000
    31DSCG94_3,  P18N,   189,  1,    126,   1007,2,19940424,2355, 21.4983,-110.0017, 3209,    300.4,  10.2230,  34.6451,2,  34.6380,2,     14.3,2,      1.7,2,    40.91,2,    26.64,2,     0.11,2,     2.79,2, -999.000,9, -999.000,9, -999.000,9, -999.000,9, -999.000,9,-999.0000,9,  -999.00,9,   -999.0,9,   -999.0,9,   2283.2,2,   1802.7,2,   -999.0,5,  -999.00,9,   20.00,  -999.0,-999.0000,-999.000, -999.00,  -999.0, 10.1877,-999.000
    31DSCG94_3,  P18N,   189,  1,    125,   1256,2,19940424,2355, 21.4983,-110.0017, 3209,    349.6,   9.6139,  34.6111,2,  34.6031,2,      5.5,2,      1.4,6,    46.91,2,    28.64,2,     0.01,2,     2.89,2, -999.000,9, -999.000,9, -999.000,9, -999.000,9, -999.000,9,-999.0000,9,  -999.00,9,   -999.0,9,   -999.0,9,   -999.0,9,   -999.0,9,   -999.0,9,     7.37,2, -999.00,  -999.0,-999.0000,-999.000,   25.00,  -999.0,  9.5742,-999.000
    31DSCG94_3,  P18N,   189,  1,    123,   1220,3,19940424,2355, 21.4983,-110.0017, 3209,    398.3,   8.8647,  34.5622,2,  34.5598,2,      3.9,2,      2.2,2,    53.40,2,    30.72,2,     0.00,2,     2.94,2, -999.000,9, -999.000,9, -999.000,9, -999.000,9, -999.000,9,-999.0000,9,  -999.00,9,   -999.0,9,   -999.0,9,   2297.5,2,   1916.6,2,   2308.0,2,  -999.00,9,   20.00,  -999.0,-999.0000,-999.000, -999.00,  -999.0,  8.8215,-999.000
    31DSCG94_3,  P18N,   189,  1,    122,   1245,2,19940424,2355, 21.4983,-110.0017, 3209,    498.7,   7.8082,  34.4936,2,  34.4931,2,      3.7,2,      3.1,2,    58.48,2,    34.05,2,     0.00,2,     3.04,2, -999.000,9, -999.000,9, -999.000,9, -999.000,9, -999.000,9,-999.0000,9,  -999.00,9,   -999.0,9,   -999.0,9,   2305.9,2,   2003.5,2,   2319.0,2,     7.35,2,   20.00,  -999.0,-999.0000,-999.000,   25.00,  -999.0,  7.7579,-999.000
    31DSCG94_3,  P18N,   189,  1,    121,   1206,2,19940424,2355, 21.4983,-110.0017, 3209,    601.0,   6.7638,  34.4832,2,  34.4841,2,      2.1,2,      2.7,2,    70.35,2,    37.17,2,     0.00,2,     3.16,2, -999.000,9, -999.000,9, -999.000,9, -999.000,9, -999.000,9,-999.0000,9,  -999.00,9,   -999.0,9,   -999.0,9,   2321.7,2,   2072.0,2,   2345.0,3,     7.34,2,   20.00,  -999.0,-999.0000,-999.000,   25.00,  -999.0,  6.7074,-999.000
    31DSCG94_3,  P18N,   189,  1,    120,   1028,2,19940424,2355, 21.4983,-110.0017, 3209,    700.6,   6.0213,  34.4903,2,  34.4902,2,      1.6,2,      2.8,2,    80.67,2,    40.10,2,     0.00,2,     3.24,2, -999.000,9, -999.000,9, -999.000,9, -999.000,9, -999.000,9,-999.0000,9,  -999.00,9,   -999.0,9,   -999.0,9,   2332.5,2,   2079.7,2,   2346.0,2,     7.33,2,   20.00,  -999.0,-999.0000,-999.000,   25.00,  -999.0,  5.9590,-999.000
    31DSCG94_3,  P18N,   189,  1,    119,   1248,2,19940424,2355, 21.4983,-110.0017, 3209,    797.6,   5.3924,  34.4958,2,  34.4954,2,      2.8,2,      5.1,2,    91.08,2,    41.93,2,     0.00,2,     3.27,2, -999.000,9, -999.000,9, -999.000,9, -999.000,9, -999.000,9,-999.0000,9,  -999.00,9,   -999.0,9,   -999.0,9,   2343.9,2,   2117.6,2,   2356.0,2,     7.33,2,   20.00,  -999.0,-999.0000,-999.000,   25.00,  -999.0,  5.3247,-999.000
    31DSCG94_3,  P18N,   189,  1,    118,   1115,2,19940424,2355, 21.4983,-110.0017, 3209,    899.9,   4.9065,  34.5099,2,  34.5098,2,      5.0,2,      7.1,2,    99.75,2,    42.85,2,     0.00,2,     3.29,2, -999.000,9, -999.000,9, -999.000,9, -999.000,9, -999.000,9,-999.0000,9,  -999.00,9,   -999.0,9,   -999.0,9,   2353.0,2,   2133.6,2,   2359.0,2,     7.33,2,   20.00,  -999.0,-999.0000,-999.000,   25.00,  -999.0,  4.8328,-999.000
    31DSCG94_3,  P18N,   189,  1,    117,   1119,2,19940424,2355, 21.4983,-110.0017, 3209,   1000.2,   4.5313,  34.5322,2,  34.5312,2,      7.3,2,      9.8,2,   105.88,2,    43.55,2,     0.00,2,     3.32,2, -999.000,9, -999.000,9, -999.000,9, -999.000,9, -999.000,9,-999.0000,9,  -999.00,9,   -999.0,9,   -999.0,9,   2361.9,2,   2129.2,2,   2370.0,6,     7.33,2,   20.00,  -999.0,-999.0000,-999.000,   25.00,  -999.0,  4.4515,-999.000
    31DSCG94_3,  P18N,   189,  1,    116,   1036,2,19940424,2355, 21.4983,-110.0017, 3209,   1099.7,   4.1388,  34.5460,2,  34.5461,2,     10.7,2,     15.2,2,   111.74,2,    43.83,2,     0.00,2,     3.31,2, -999.000,9, -999.000,9, -999.000,9, -999.000,9, -999.000,9,-999.0000,9,  -999.00,9,   -999.0,9,   -999.0,9,   -999.0,9,   -999.0,9,   -999.0,9,  -999.00,9, -999.00,  -999.0,-999.0000,-999.000, -999.00,  -999.0,  4.0535,-999.000
    31DSCG94_3,  P18N,   189,  1,    115,   1017,2,19940424,2355, 21.4983,-110.0017, 3209,   1198.7,   3.7795,  34.5613,2,  34.5603,2,     17.4,2,     22.6,6,   120.89,2,    43.68,2,     0.00,2,     3.26,2, -999.000,9, -999.000,9, -999.000,9, -999.000,9, -999.000,9,-999.0000,9,  -999.00,9,   -999.0,9,   -999.0,9,   -999.0,9,   -999.0,9,   -999.0,9,     7.35,2, -999.00,  -999.0,-999.0000,-999.000,   25.00,  -999.0,  3.6889,-999.000
    31DSCG94_3,  P18N,   189,  1,    114,   1016,2,19940424,2355, 21.4983,-110.0017, 3209,   1296.3,   3.4767,  34.5736,2,  34.5725,2,     21.5,2,     30.0,2,   128.64,2,    44.08,2,     0.01,2,     3.24,2, -999.000,9, -999.000,9, -999.000,9, -999.000,9, -999.000,9,-999.0000,9,  -999.00,9,   -999.0,9,   -999.0,9,   -999.0,9,   -999.0,9,   -999.0,9,  -999.00,9, -999.00,  -999.0,-999.0000,-999.000, -999.00,  -999.0,  3.3807,-999.000
    31DSCG94_3,  P18N,   189,  1,    113,   1209,2,19940424,2355, 21.4983,-110.0017, 3209,   1399.6,   3.1999,  34.5863,2,  34.5857,2,     31.1,2,     37.9,2,   130.62,2,    43.02,2,     0.00,2,     3.12,2, -999.000,9, -999.000,9, -999.000,9, -999.000,9, -999.000,9,-999.0000,9,  -999.00,9,   -999.0,9,   -999.0,9,   -999.0,9,   -999.0,9,   -999.0,9,     7.38,2, -999.00,  -999.0,-999.0000,-999.000,   25.00,  -999.0,  3.0982,-999.000
    31DSCG94_3,  P18N,   189,  1,    112,   1033,2,19940424,2355, 21.4983,-110.0017, 3209,   1499.9,   3.0085,  34.5978,2,  34.5971,2,     36.6,2,     45.1,2,   137.69,2,    42.46,2,     0.00,2,     3.08,2, -999.000,9, -999.000,9, -999.000,9, -999.000,9, -999.000,9,-999.0000,9,  -999.00,9,   -999.0,9,   -999.0,9,   -999.0,9,   -999.0,9,   -999.0,9,  -999.00,9, -999.00,  -999.0,-999.0000,-999.000, -999.00,  -999.0,  2.9005,-999.000
    31DSCG94_3,  P18N,   189,  1,    111,   1240,2,19940424,2355, 21.4983,-110.0017, 3209,   1600.3,   2.8413,  34.6057,2,  34.6046,2,     44.6,2,     51.6,2,   142.35,2,    42.13,2,     0.00,2,     3.04,2, -999.000,9, -999.000,9, -999.000,9, -999.000,9, -999.000,9,-999.0000,9,  -999.00,9,   -999.0,9,   -999.0,9,   -999.0,9,   -999.0,9,   -999.0,9,     7.41,2, -999.00,  -999.0,-999.0000,-999.000,   25.00,  -999.0,  2.7269,-999.000
    31DSCG94_3,  P18N,   189,  1,    110,   1005,2,19940424,2355, 21.4983,-110.0017, 3209,   1799.7,   2.4797,  34.6225,2,  34.6210,2,     65.6,2,     67.4,2,   147.58,2,    41.40,2,     0.00,2,     2.91,2, -999.000,9, -999.000,9, -999.000,9, -999.000,9, -999.000,9,-999.0000,9,  -999.00,9,   -999.0,9,   -999.0,9,   -999.0,9,   -999.0,9,   -999.0,9,  -999.00,9, -999.00,  -999.0,-999.0000,-999.000, -999.00,  -999.0,  2.3532,-999.000
    31DSCG94_3,  P18N,   189,  1,    109,   1611,2,19940424,2355, 21.4983,-110.0017, 3209,   2000.1,   2.1828,  34.6400,2,  34.6390,2,     78.4,2,     82.3,2,   150.48,2,    40.19,2,     0.00,2,     2.83,2, -999.000,9, -999.000,9, -999.000,9, -999.000,9, -999.000,9,-999.0000,9,  -999.00,9,   -999.0,9,   -999.0,9,   -999.0,9,   -999.0,9,   -999.0,9,     7.46,2, -999.00,  -999.0,-999.0000,-999.000,   25.00,  -999.0,  2.0435,-999.000
    31DSCG94_3,  P18N,   189,  1,    108,   1218,2,19940424,2355, 21.4983,-110.0017, 3209,   2197.8,   1.9745,  34.6517,2,  34.6504,2,     94.3,2,     93.7,2,   152.89,2,    39.98,2,     0.00,2,     2.74,2, -999.000,9, -999.000,9, -999.000,9, -999.000,9, -999.000,9,-999.0000,9,  -999.00,9,   -999.0,9,   -999.0,9,   -999.0,9,   -999.0,9,   -999.0,9,  -999.00,9, -999.00,  -999.0,-999.0000,-999.000, -999.00,  -999.0,  1.8215,-999.000
    31DSCG94_3,  P18N,   189,  1,    107,   1257,2,19940424,2355, 21.4983,-110.0017, 3209,   2400.2,   1.8494,  34.6593,2,  34.6578,2,    108.6,2,    101.7,2,   157.72,2,    39.10,2,     0.00,2,     2.72,2, -999.000,9, -999.000,9, -999.000,9, -999.000,9, -999.000,9,-999.0000,9,  -999.00,9,   -999.0,9,   -999.0,9,   -999.0,9,   -999.0,9,   -999.0,9,     7.50,2, -999.00,  -999.0,-999.0000,-999.000,   25.00,  -999.0,  1.6808,-999.000
    31DSCG94_3,  P18N,   189,  1,    106,   1224,2,19940424,2355, 21.4983,-110.0017, 3209,   2600.0,   1.7690,  34.6644,2,  34.6634,2,    113.0,2,    107.8,2,   161.36,2,    38.79,2,     0.00,2,     2.69,2, -999.000,9, -999.000,9, -999.000,9, -999.000,9, -999.000,9,-999.0000,9,  -999.00,9,   -999.0,9,   -999.0,9,   -999.0,9,   -999.0,9,   -999.0,9,  -999.00,9, -999.00,  -999.0,-999.0000,-999.000, -999.00,  -999.0,  1.5839,-999.000
    31DSCG94_3,  P18N,   189,  1,    105,   1246,2,19940424,2355, 21.4983,-110.0017, 3209,   2796.5,   1.7049,  34.6682,2,  34.6677,2,    113.2,2,    112.9,6,   163.89,2,    38.55,2,     0.00,2,     2.65,2, -999.000,9, -999.000,9, -999.000,9, -999.000,9, -999.000,9,-999.0000,9,  -999.00,9,   -999.0,9,   -999.0,9,   -999.0,9,   -999.0,9,   -999.0,9,     7.52,2, -999.00,  -999.0,-999.0000,-999.000,   25.00,  -999.0,  1.5029,-999.000
    31DSCG94_3,  P18N,   189,  1,    104,   1217,2,19940424,2355, 21.4983,-110.0017, 3209,   3001.0,   1.6691,  34.6706,2,  34.6701,2,    115.2,2,    115.0,2,   161.59,6,    38.27,6,     0.00,6,     2.62,6, -999.000,9, -999.000,9, -999.000,9, -999.000,9, -999.000,9,-999.0000,9,  -999.00,9,   -999.0,9,   -999.0,9,   -999.0,9,   -999.0,9,   -999.0,9,  -999.00,9, -999.00,  -999.0,-999.0000,-999.000, -999.00,  -999.0,  1.4485,-999.000
    31DSCG94_3,  P18N,   189,  1,    103,   9999,2,19940424,2355, 21.4983,-110.0017, 3209,   3097.2,   1.6679,  34.6713,2,  34.6715,2,    115.4,2,    114.9,2,   167.81,3,    38.42,2,     0.00,2,     2.64,2, -999.000,9, -999.000,9, -999.000,9, -999.000,9, -999.000,9,-999.0000,9,  -999.00,9,   -999.0,9,   -999.0,9,   -999.0,9,   -999.0,9,   -999.0,9,     7.53,2, -999.00,  -999.0,-999.0000,-999.000,   25.00,  -999.0,  1.4380,-999.000
    31DSCG94_3,  P18N,   189,  1,    102,   1223,2,19940424,2355, 21.4983,-110.0017, 3209,   3099.1,   1.6679,  34.6711,2,  34.6709,2,    115.4,2,    115.2,2,   163.15,2,    38.31,2,     0.00,2,     2.62,2, -999.000,9, -999.000,9, -999.000,9, -999.000,9, -999.000,9,-999.0000,9,  -999.00,9,   -999.0,9,   -999.0,9,   -999.0,9,   -999.0,9,   -999.0,9,  -999.00,9, -999.00,  -999.0,-999.0000,-999.000, -999.00,  -999.0,  1.4378,-999.000
    31DSCG94_3,  P18N,   189,  1,    101,   1041,2,19940424,2355, 21.4983,-110.0017, 3209,   3220.4,   1.6614,  34.6725,2,  34.6713,2,    114.8,2,    115.6,2,   164.20,2,    38.23,2,     0.00,2,     2.62,2, -999.000,9, -999.000,9, -999.000,9, -999.000,9, -999.000,9,-999.0000,9,  -999.00,9,   -999.0,9,   -999.0,9,   -999.0,9,   -999.0,9,   -999.0,9,     7.53,2, -999.00,  -999.0,-999.0000,-999.000,   25.00,  -999.0,  1.4195,-999.000