BOTTLE,20220630CCHSIOAMB
EXPOCODE,SECT_ID,STNNBR,CASTNO,SAMPNO,BTLNBR,BTLNBR_FLAG_W,DATE,TIME,LATITUDE,LONGITUDE,DEPTH,CTDPRS,CTDTMP,CTDSAL,CTDSAL_FLAG_W,SALNTY,SALNTY_FLAG_W,CTDOXY,CTDOXY_FLAG_W,OXYGEN,OXYGEN_FLAG_W,SILCAT,SILCAT_FLAG_W,NITRAT,NITRAT_FLAG_W,NITRIT,NITRIT_FLAG_W,PHSPHT,PHSPHT_FLAG_W,CFC-11,CFC-11_FLAG_W,CFC-12,CFC-12_FLAG_W,CFC113,CFC113_FLAG_W,CCL4,CCL4_FLAG_W,TRITUM,TRITUM_FLAG_W,HELIUM,HELIUM_FLAG_W,DELHE3,DELHE3_FLAG_W,DELC14,DELC14_FLAG_W,DELC13,DELC13_FLAG_W,TCARBN,TCARBN_FLAG_W,PCO2,PCO2_FLAG_W,ALKALI,ALKALI_FLAG_W,PH,PH_FLAG_W,PCO2TMP,C14ERR,HELIER,DELHER,PH_TMP,C13ERR,THETA,TRITER
,,,,,,,,,,,,DBAR,ITS-90,PSS-78,,PSS-78,,UMOL/KG,,UMOL/KG,,UMOL/KG,,UMOL/KG,,UMOL/KG,,UMOL/KG,,PMOL/KG,,PMOL/KG,,PMOL/KG,,PMOL/KG,,TU,,NMOL/KG,,PERCNT,,/MILLE,,/MILLE,,UMOL/KG,,UATM,,UMOL/KG,,,,DEG C,/MILLE,NMOL/KG,PERCNT,DEG C,/MILLE,DEG C,TU
    31DSCG94_3,  P18N,   129,  1,    136,   1025,2,19940409,1259, -6.1548,-108.6418, 3293,      9.5,  27.7543,  34.6798,2,  34.6827,2,    197.8,2,    202.5,2,     2.48,2,     3.20,2,     0.05,2,     0.43,2,    1.708,6,    1.007,6, -999.000,5, -999.000,5, -999.000,9,-999.0000,9,  -999.00,9,   -999.0,9,   -999.0,9,   1976.3,2,    301.1,2,   2284.0,2,     8.07,2,   20.00,  -999.0,-999.0000,-999.000,   25.00,  -999.0, 27.7521,-999.000
    31DSCG94_3,  P18N,   129,  1,    135,   1247,2,19940409,1259, -6.1548,-108.6418, 3293,     24.8,  27.6854,  34.7429,2,  34.7941,3,    180.1,2,    203.8,2,     2.05,2,     3.25,2,     0.04,2,     0.46,2,    1.946,2,    1.086,2, -999.000,9, -999.000,9, -999.000,9,-999.0000,9,  -999.00,9,   -999.0,9,   -999.0,9,   1982.5,2,    304.2,2,   2290.0,2,     8.07,2,   20.00,  -999.0,-999.0000,-999.000,   25.00,  -999.0, 27.6796,-999.000
    31DSCG94_3,  P18N,   129,  1,    134,   1216,2,19940409,1259, -6.1548,-108.6418, 3293,     51.5,  24.2665,  35.3089,2,  35.3077,2,    174.1,2,    207.1,2,     3.20,2,     7.07,2,     0.14,2,     0.79,2,    1.977,2,    1.093,2, -999.000,5, -999.000,5, -999.000,9,-999.0000,9,  -999.00,9,   -999.0,9,   -999.0,9,   2051.8,2,    373.6,2,   2320.0,2,     7.99,2,   20.00,  -999.0,-999.0000,-999.000,   25.00,  -999.0, 24.2556,-999.000
    31DSCG94_3,  P18N,   129,  1,    133,   1244,2,19940409,1259, -6.1548,-108.6418, 3293,     75.6,  21.0339,  35.4512,2,  35.4191,3,    120.6,2,    149.0,2,     4.48,2,     7.89,2,     1.63,2,     1.11,2,    2.006,2,    1.106,2, -999.000,9, -999.000,9, -999.000,9,-999.0000,9,  -999.00,9,   -999.0,9,   -999.0,9,   2112.4,2,    498.0,2,   2331.0,2,     7.89,2,   20.00,  -999.0,-999.0000,-999.000,   25.00,  -999.0, 21.0194,-999.000
    31DSCG94_3,  P18N,   129,  1,    132,   1003,2,19940409,1259, -6.1548,-108.6418, 3293,    101.4,  16.8085,  35.2314,2,  35.2322,2,    104.4,2,     90.5,2,     6.98,2,    16.98,2,     0.28,2,     1.55,2,    1.812,6,    0.976,6, -999.000,5, -999.000,5, -999.000,9,-999.0000,9,  -999.00,9,   -999.0,9,   -999.0,9,   2170.6,2,    752.4,2,   2315.0,2,     7.73,2,   20.00,  -999.0,-999.0000,-999.000,   25.00,  -999.0, 16.7919,-999.000
    31DSCG94_3,  P18N,   129,  1,    131,   1211,2,19940409,1259, -6.1548,-108.6418, 3293,    125.1,  14.1671,  35.0026,2,  35.0058,2,     43.9,2,     10.9,2,    16.45,2,    28.05,2,     0.00,2,     2.28,2,    0.855,2,    0.457,2, -999.000,9, -999.000,9, -999.000,9,-999.0000,9,  -999.00,9,   -999.0,9,   -999.0,9,   2233.0,2,   1288.0,2,   -999.0,5,     7.52,2,   20.00,  -999.0,-999.0000,-999.000,   25.00,  -999.0, 14.1489,-999.000
    31DSCG94_3,  P18N,   129,  1,    130,   1241,2,19940409,1259, -6.1548,-108.6418, 3293,    149.1,  12.9226,  34.9342,2,  34.9348,2,     15.6,2,     10.9,2,    21.14,2,    29.78,2,     0.00,2,     2.34,2,    0.442,2,    0.238,2, -999.000,9, -999.000,9, -999.000,9,-999.0000,9,  -999.00,9,   -999.0,9,   -999.0,9,   2238.6,2,   1364.3,2,   2305.0,2,     7.50,2,   20.00,  -999.0,-999.0000,-999.000,   25.00,  -999.0, 12.9022,-999.000
    31DSCG94_3,  P18N,   129,  1,    129,   1240,2,19940409,1259, -6.1548,-108.6418, 3293,    176.1,  12.2962,  34.8945,2,  34.8932,2,     21.8,2,     19.9,2,    22.76,2,    31.04,2,     0.00,2,     2.30,2,    0.306,2,    0.177,2, -999.000,9, -999.000,9, -999.000,9,-999.0000,9,  -999.00,9,   -999.0,9,   -999.0,9,   2236.1,2,   1342.0,2,   2304.0,2,     7.51,2,   20.00,  -999.0,-999.0000,-999.000,   25.00,  -999.0, 12.2730,-999.000
    31DSCG94_3,  P18N,   129,  1,    128,   1032,2,19940409,1259, -6.1548,-108.6418, 3293,    200.0,  11.9650,  34.8727,2,  34.8713,2,     23.6,2,     24.3,2,    23.85,2,    32.12,2,     0.00,2,     2.30,2,    0.261,2,    0.148,2, -999.000,9, -999.000,9, -999.000,9,-999.0000,9,  -999.00,9,   -999.0,9,   -999.0,9,   2235.9,2,   1337.1,2,   2296.0,2,     7.51,2,   20.00,  -999.0,-999.0000,-999.000,   25.00,  -999.0, 11.9390,-999.000
    31DSCG94_3,  P18N,   129,  1,    127,   1008,2,19940409,1259, -6.1548,-108.6418, 3293,    223.6,  11.5999,  34.8482,2,  34.8470,2,     26.0,2,     22.7,2,    25.49,2,    32.18,2,     0.00,2,     2.34,2,    0.205,2,    0.116,2, -999.000,5, -999.000,5, -999.000,9,-999.0000,9,  -999.00,9,   -999.0,9,   -999.0,9,   2240.3,2,   1382.9,2,   2295.0,2,     7.50,2,   20.00,  -999.0,-999.0000,-999.000,   25.00,  -999.0, 11.5714,-999.000
    31DSCG94_3,  P18N,   129,  1,    126,   1007,2,19940409,1259, -6.1548,-108.6418, 3293,    249.0,  11.2004,  34.8207,2,  34.8205,2,     17.6,2,      9.9,2,    28.34,2,    33.38,2,     0.00,2,     2.47,2,    0.131,6,    0.083,6, -999.000,5, -999.000,5, -999.000,9,-999.0000,9,  -999.00,9,   -999.0,9,   -999.0,9,   2253.7,2,   1544.1,2,   2297.0,2,     7.46,2,   20.00,  -999.0,-999.0000,-999.000,   25.00,  -999.0, 11.1693,-999.000
    31DSCG94_3,  P18N,   129,  1,    125,   1203,2,19940409,1259, -6.1548,-108.6418, 3293,    301.2,  10.5763,  34.7809,2,  34.7801,2,      8.1,2,      6.9,2,    31.20,2,    35.09,2,     0.00,2,     2.57,2,    0.063,2,    0.037,2, -999.000,9, -999.000,9, -999.000,9,-999.0000,9,  -999.00,9,   -999.0,9,   -999.0,9,   2263.3,2,   1640.2,2,   2293.0,2,     7.43,2,   20.00,  -999.0,-999.0000,-999.000,   25.00,  -999.0, 10.5400,-999.000
    31DSCG94_3,  P18N,   129,  1,    123,   1220,2,19940409,1259, -6.1548,-108.6418, 3293,    349.1,   9.9282,  34.7394,2,  34.7383,2,      7.9,2,      7.1,2,    33.20,2,    36.54,2,     0.00,2,     2.66,2,    0.026,2,    0.019,2, -999.000,9, -999.000,9, -999.000,9,-999.0000,9,  -999.00,9,   -999.0,9,   -999.0,9,   2268.9,2,   1703.4,2,   2299.0,2,     7.41,2,   20.00,  -999.0,-999.0000,-999.000,   25.00,  -999.0,  9.8877,-999.000
    31DSCG94_3,  P18N,   129,  1,    122,   1245,2,19940409,1259, -6.1548,-108.6418, 3293,    400.9,   9.1930,  34.6945,2,  34.6938,2,      8.2,2,      8.8,2,    35.46,2,    38.45,2,     0.00,2,     2.75,2,    0.016,2,    0.008,2, -999.000,9, -999.000,9, -999.000,9,-999.0000,9,  -999.00,9,   -999.0,9,   -999.0,9,   2274.7,2,   1759.6,2,   2303.0,2,     7.40,2,   20.00,  -999.0,-999.0000,-999.000,   25.00,  -999.0,  9.1485,-999.000
    31DSCG94_3,  P18N,   129,  1,    121,   1206,2,19940409,1259, -6.1548,-108.6418, 3293,    501.6,   7.9286,  34.6282,2,  34.6284,2,      8.0,2,      8.6,2,    43.12,2,    42.58,2,     0.00,2,     2.96,2,    0.012,2,   -0.002,2, -999.000,9, -999.000,9, -999.000,9,-999.0000,9,  -999.00,9,   -999.0,9,   -999.0,9,   2287.2,2,   1893.8,2,   2302.0,2,     7.37,2,   20.00,  -999.0,-999.0000,-999.000,   25.00,  -999.0,  7.8774,-999.000
    31DSCG94_3,  P18N,   129,  1,    120,   1028,2,19940409,1259, -6.1548,-108.6418, 3293,    600.8,   6.7193,  34.5721,2,  34.5722,2,     27.2,2,     35.3,6,    48.85,2,    43.34,2,     0.00,2,     2.91,2,    0.017,2,   -0.002,2, -999.000,9, -999.000,9, -999.000,9,-999.0000,9,  -999.00,9,   -999.0,9,   -999.0,9,   2282.1,2,   1750.5,2,   2316.0,2,     7.41,2,   20.00,  -999.0,-999.0000,-999.000,   25.00,  -999.0,  6.6630,-999.000
    31DSCG94_3,  P18N,   129,  1,    119,   1248,2,19940409,1259, -6.1548,-108.6418, 3293,    701.0,   5.9476,  34.5517,2,  34.5516,2,     40.8,2,     49.2,2,    58.58,2,    42.88,2,     0.00,2,     2.93,2,   -0.002,2,   -0.001,2, -999.000,9, -999.000,9, -999.000,9,-999.0000,9,  -999.00,9,   -999.0,9,   -999.0,9,   2286.8,2,   1701.5,2,   2317.0,2,     7.42,2,   20.00,  -999.0,-999.0000,-999.000,   25.00,  -999.0,  5.8856,-999.000
    31DSCG94_3,  P18N,   129,  1,    118,   1115,2,19940409,1259, -6.1548,-108.6418, 3293,    800.9,   5.3748,  34.5425,2,  34.5420,2,     57.5,2,     62.4,2,    65.50,2,    42.45,2,     0.00,2,     2.91,2,   -0.002,2,    0.000,2, -999.000,9, -999.000,9, -999.000,9,-999.0000,9,  -999.00,9,   -999.0,9,   -999.0,9,   2289.0,2,   1629.4,2,   2335.0,2,     7.44,2,   20.00,  -999.0,-999.0000,-999.000,   25.00,  -999.0,  5.3069,-999.000
    31DSCG94_3,  P18N,   129,  1,    117,   1119,2,19940409,1259, -6.1548,-108.6418, 3293,    901.5,   4.8685,  34.5419,2,  34.5411,2,     70.0,2,     77.5,6,    72.76,2,    41.87,2,     0.00,2,     2.88,2, -999.000,9, -999.000,9, -999.000,9, -999.000,9, -999.000,9,-999.0000,9,  -999.00,9,   -999.0,9,   -999.0,9,   2292.7,2,   1532.9,2,   2349.0,6,     7.47,2,   20.00,  -999.0,-999.0000,-999.000,   25.00,  -999.0,  4.7949,-999.000
    31DSCG94_3,  P18N,   129,  1,    116,   1036,2,19940409,1259, -6.1548,-108.6418, 3293,   1004.4,   4.3696,  34.5479,2,  34.5457,2,     83.2,2,     89.1,2,    81.19,2,    40.46,2,     0.00,2,     2.82,2, -999.000,9, -999.000,9, -999.000,9, -999.000,9, -999.000,9,   1.8530,2,    17.56,2,   -999.0,9,   -999.0,9,   2294.8,2,   1468.2,2,   2344.0,2,     7.49,2,   20.00,  -999.0,-999.0000,-999.000,   25.00,  -999.0,  4.2906,-999.000
    31DSCG94_3,  P18N,   129,  1,    115,   1017,2,19940409,1259, -6.1548,-108.6418, 3293,   1101.1,   4.0186,  34.5586,2,  34.5593,2,     83.4,2,     90.7,2,    91.37,2,    39.90,2,     0.00,2,     2.82,2, -999.000,9, -999.000,9, -999.000,9, -999.000,9, -999.000,9,-999.0000,9,  -999.00,9,   -999.0,9,   -999.0,9,   2302.9,2,   1466.1,2,   2356.0,2,     7.49,2,   20.00,  -999.0,-999.0000,-999.000,   25.00,  -999.0,  3.9342,-999.000
    31DSCG94_3,  P18N,   129,  1,    114,   1016,2,19940409,1259, -6.1548,-108.6418, 3293,   1199.8,   3.7627,  34.5684,2,  34.5685,2,     82.8,2,     90.0,2,    98.96,2,    40.99,2,     0.00,2,     2.85,2, -999.000,9, -999.000,9, -999.000,9, -999.000,9, -999.000,9,   1.8650,2,    21.80,2,   -999.0,9,   -999.0,9,   2311.0,2,   1482.7,2,   2364.0,2,     7.48,2,   20.00,  -999.0,-999.0000,-999.000,   25.00,  -999.0,  3.6722,-999.000
    31DSCG94_3,  P18N,   129,  1,    113,   1209,2,19940409,1259, -6.1548,-108.6418, 3293,   1301.5,   3.5675,  34.5760,2,  34.5758,2,     84.6,2,     90.1,2,   103.95,2,    40.96,2,     0.00,2,     2.85,2, -999.000,9, -999.000,9, -999.000,9, -999.000,9, -999.000,9,-999.0000,9,  -999.00,9,   -999.0,9,   -999.0,9,   2316.4,2,   1489.4,2,   2366.0,2,     7.48,2,   20.00,  -999.0,-999.0000,-999.000,   25.00,  -999.0,  3.4703,-999.000
    31DSCG94_3,  P18N,   129,  1,    112,   1033,2,19940409,1259, -6.1548,-108.6418, 3293,   1400.9,   3.2909,  34.5877,2,  34.5883,2,     86.0,2,     90.2,2,   110.55,2,    41.10,2,     0.00,2,     2.87,2, -999.000,9, -999.000,9, -999.000,9, -999.000,9, -999.000,9,   1.8890,2,    23.73,2,   -999.0,9,   -999.0,9,   2324.1,2,   1497.3,2,   2378.0,2,     7.48,2,   20.00,  -999.0,-999.0000,-999.000,   25.00,  -999.0,  3.1881,-999.000
    31DSCG94_3,  P18N,   129,  1,    111,   1240,2,19940409,1259, -6.1548,-108.6418, 3293,   1601.5,   2.8149,  34.6100,2,  34.6099,2,     98.0,2,     97.3,2,   121.79,2,    40.96,2,     0.00,2,     2.84,2, -999.000,9, -999.000,9, -999.000,9, -999.000,9, -999.000,9,   1.9120,2,    26.40,2,   -999.0,9,   -999.0,9,   2333.8,2,   1457.9,2,   2387.0,2,     7.49,2,   20.00,  -999.0,-999.0000,-999.000,   25.00,  -999.0,  2.7007,-999.000
    31DSCG94_3,  P18N,   129,  1,    110,   1005,2,19940409,1259, -6.1548,-108.6418, 3293,   1797.5,   2.5522,  34.6255,2,  34.6253,2,    109.5,2,     99.1,2,   130.35,2,    40.81,2,     0.00,2,     2.84,2, -999.000,9, -999.000,9, -999.000,9, -999.000,9, -999.000,9,   1.9130,2,    27.57,2,   -999.0,9,   -999.0,9,   2341.1,2,   1450.4,2,   2396.0,2,     7.50,2,   20.00,  -999.0,-999.0000,-999.000,   25.00,  -999.0,  2.4248,-999.000
    31DSCG94_3,  P18N,   129,  1,    109,   1611,2,19940409,1259, -6.1548,-108.6418, 3293,   2000.2,   2.2709,  34.6418,2,  34.6413,2,    115.8,2,    105.3,6,   139.69,2,    40.08,2,     0.00,2,     2.78,2, -999.000,9, -999.000,9, -999.000,9, -999.000,9, -999.000,9,   1.9180,2,    29.26,2,   -999.0,9,   -999.0,9,   2344.9,2,   1406.6,2,   2410.0,2,     7.51,2,   20.00,  -999.0,-999.0000,-999.000,   25.00,  -999.0,  2.1302,-999.000
    31DSCG94_3,  P18N,   129,  1,    108,   1218,2,19940409,1259, -6.1548,-108.6418, 3293,   2177.9,   2.0970,  34.6515,2,  34.6516,2,    116.5,2,    113.1,2,   143.11,2,    39.87,2,     0.00,2,     2.73,2, -999.000,9, -999.000,9, -999.000,9, -999.000,9, -999.000,9,   1.9210,2,    29.83,2,   -999.0,9,   -999.0,9,   2344.8,2,   1359.4,2,   2412.0,2,     7.53,2,   20.00,  -999.0,-999.0000,-999.000,   25.00,  -999.0,  1.9437,-999.000
    31DSCG94_3,  P18N,   129,  1,    107,   1257,2,19940409,1259, -6.1548,-108.6418, 3293,   2398.9,   1.9471,  34.6603,2,  34.6592,2,    120.1,2,    122.5,2,   142.09,2,    38.80,2,     0.00,2,     2.65,2, -999.000,9, -999.000,9, -999.000,9, -999.000,9, -999.000,9,   1.9240,2,    31.29,2,   -999.0,9,   -999.0,9,   2339.9,2,   1304.1,2,   2419.0,2,     7.54,2,   20.00,  -999.0,-999.0000,-999.000,   25.00,  -999.0,  1.7769,-999.000
    31DSCG94_3,  P18N,   129,  1,    106,   1224,2,19940409,1259, -6.1548,-108.6418, 3293,   2599.3,   1.8059,  34.6698,2,  34.6701,2,    131.4,2,    131.0,2,   142.73,2,    38.04,2,     0.00,2,     2.59,2, -999.000,9, -999.000,9, -999.000,9, -999.000,9, -999.000,9,-999.0000,5,    30.62,3,   -999.0,9,   -999.0,9,   2334.7,2,   1243.7,2,   2434.0,3,     7.56,2,   20.00,  -999.0,-999.0000,-999.000,   25.00,  -999.0,  1.6201,-999.000
    31DSCG94_3,  P18N,   129,  1,    105,   1246,2,19940409,1259, -6.1548,-108.6418, 3293,   2800.2,   1.7765,  34.6731,2,  34.6732,2,    134.2,2,    135.0,2,   143.51,2,    38.09,2,     0.00,2,     2.58,2, -999.000,9, -999.000,9, -999.000,9, -999.000,9, -999.000,9,   1.9320,2,    30.46,2,   -999.0,9,   -999.0,9,   2334.2,2,   1225.5,2,   2426.0,2,     7.57,2,   20.00,  -999.0,-999.0000,-999.000,   25.00,  -999.0,  1.5726,-999.000
    31DSCG94_3,  P18N,   129,  1,    104,   1217,2,19940409,1259, -6.1548,-108.6418, 3293,   2999.8,   1.7564,  34.6748,2,  34.6784,2,    135.0,2,    135.1,2,   144.79,2,    37.92,2,     0.00,2,     2.56,2, -999.000,9, -999.000,9, -999.000,9, -999.000,9, -999.000,9,-999.0000,5,    28.92,3,   -999.0,9,   -999.0,9,   2337.2,2,   1213.0,2,   2425.0,2,     7.57,2,   20.00,  -999.0,-999.0000,-999.000,   25.00,  -999.0,  1.5339,-999.000
    31DSCG94_3,  P18N,   129,  1,    102,   1223,2,19940409,1259, -6.1548,-108.6418, 3293,   3199.9,   1.6835,  34.6784,2,  34.6777,2,    138.3,2,    141.8,2,   146.47,6,    37.30,6,     0.00,6,     2.55,6, -999.000,9, -999.000,9, -999.000,9, -999.000,9, -999.000,9,   1.9100,2,    26.11,2,   -999.0,9,   -999.0,9,   2335.2,2,   1188.7,2,   2426.0,2,     7.58,2,   20.00,  -999.0,-999.0000,-999.000,   25.00,  -999.0,  1.4431,-999.000
    31DSCG94_3,  P18N,   129,  1,    103,   9999,2,19940409,1259, -6.1548,-108.6418, 3293,   3201.3,   1.6851,  34.6783,2,  34.6810,3,    138.3,2,    141.4,2,   145.27,2,    37.67,2,     0.00,2,     2.56,2, -999.000,9, -999.000,9, -999.000,9, -999.000,9, -999.000,9,-999.0000,9,  -999.00,9,   -999.0,9,   -999.0,9,   2333.0,2,   1185.6,2,   2426.0,2,  -999.00,9,   20.00,  -999.0,-999.0000,-999.000, -999.00,  -999.0,  1.4445,-999.000
    31DSCG94_3,  P18N,   129,  1,    101,   1041,2,19940409,1259, -6.1548,-108.6418, 3293,   3308.0,   1.6818,  34.6788,2,  34.6784,2,    139.5,2,    143.3,2,   146.62,2,    37.37,2,     0.00,2,     2.29,4, -999.000,9, -999.000,9, -999.000,9, -999.000,9, -999.000,9,   1.9180,2,    25.92,2,   -999.0,9,   -999.0,9,   2334.8,2,   1186.3,2,   -999.0,5,  -999.00,9,   20.00,  -999.0,-999.0000,-999.000, -999.00,  -999.0,  1.4306,-999.000