BOTTLE,20220630CCHSIOAMB
EXPOCODE,SECT_ID,STNNBR,CASTNO,SAMPNO,BTLNBR,BTLNBR_FLAG_W,DATE,TIME,LATITUDE,LONGITUDE,DEPTH,CTDPRS,CTDTMP,CTDSAL,CTDSAL_FLAG_W,SALNTY,SALNTY_FLAG_W,CTDOXY,CTDOXY_FLAG_W,OXYGEN,OXYGEN_FLAG_W,SILCAT,SILCAT_FLAG_W,NITRAT,NITRAT_FLAG_W,NITRIT,NITRIT_FLAG_W,PHSPHT,PHSPHT_FLAG_W,CFC-11,CFC-11_FLAG_W,CFC-12,CFC-12_FLAG_W,CFC113,CFC113_FLAG_W,CCL4,CCL4_FLAG_W,TRITUM,TRITUM_FLAG_W,HELIUM,HELIUM_FLAG_W,DELHE3,DELHE3_FLAG_W,DELC14,DELC14_FLAG_W,DELC13,DELC13_FLAG_W,TCARBN,TCARBN_FLAG_W,PCO2,PCO2_FLAG_W,ALKALI,ALKALI_FLAG_W,PH,PH_FLAG_W,PCO2TMP,C14ERR,HELIER,DELHER,PH_TMP,C13ERR,THETA,TRITER
,,,,,,,,,,,,DBAR,ITS-90,PSS-78,,PSS-78,,UMOL/KG,,UMOL/KG,,UMOL/KG,,UMOL/KG,,UMOL/KG,,UMOL/KG,,PMOL/KG,,PMOL/KG,,PMOL/KG,,PMOL/KG,,TU,,NMOL/KG,,PERCNT,,/MILLE,,/MILLE,,UMOL/KG,,UATM,,UMOL/KG,,,,DEG C,/MILLE,NMOL/KG,PERCNT,DEG C,/MILLE,DEG C,TU
    31DSCG94_3,  P18N,   176,  1,    136,   1025,2,19940421,2153, 15.0000,-110.0000, 3777,      8.7,  28.0178,  33.8831,2,  33.8847,2,    211.5,2,    201.4,2,     0.00,2,     0.03,2,     0.00,2,     0.12,2,    1.726,2,    0.998,2, -999.000,9, -999.000,9, -999.000,9,-999.0000,9,  -999.00,9,   -999.0,9,      1.6,2,   1901.0,2,    256.1,2,   2238.0,2,     8.12,2,   20.00,  -999.0,-999.0000,-999.000,   25.00,  -999.0, 28.0157,-999.000
    31DSCG94_3,  P18N,   176,  1,    135,   1247,2,19940421,2153, 15.0000,-110.0000, 3777,     24.5,  27.5783,  33.9211,2,  33.9232,2,    208.9,2,    203.1,6,     0.00,2,     0.03,2,     0.00,2,     0.12,2,    1.737,6,    1.000,6, -999.000,9, -999.000,9, -999.000,9,-999.0000,9,  -999.00,9,   -999.0,9,   -999.0,9,   -999.0,9,   -999.0,9,   -999.0,9,     8.12,2, -999.00,  -999.0,-999.0000,-999.000,   25.00,  -999.0, 27.5726,-999.000
    31DSCG94_3,  P18N,   176,  1,    134,   1216,2,19940421,2153, 15.0000,-110.0000, 3777,     49.5,  26.9470,  34.0872,2,  34.0829,2,    206.6,2,    210.3,2,     0.00,2,     0.01,2,     0.00,2,     0.09,2,    1.796,2,    1.033,2, -999.000,9, -999.000,9, -999.000,9,-999.0000,9,  -999.00,9,   -999.0,9,   -999.0,9,   -999.0,9,   -999.0,9,   -999.0,9,     8.12,2, -999.00,  -999.0,-999.0000,-999.000,   25.00,  -999.0, 26.9357,-999.000
    31DSCG94_3,  P18N,   176,  1,    133,   1244,2,19940421,2153, 15.0000,-110.0000, 3777,     73.1,  25.5891,  34.2506,2,  34.2559,2,    201.5,2,    208.9,2,     0.00,2,     0.01,2,     0.00,2,     0.12,2,    1.879,2,    1.067,2, -999.000,9, -999.000,9, -999.000,9,-999.0000,9,  -999.00,9,   -999.0,9,   -999.0,9,   -999.0,9,   -999.0,9,   -999.0,9,     8.10,2, -999.00,  -999.0,-999.0000,-999.000,   25.00,  -999.0, 25.5730,-999.000
    31DSCG94_3,  P18N,   176,  1,    132,   1003,3,19940421,2153, 15.0000,-110.0000, 3777,     98.9,  20.4922,  34.2792,2,  34.2839,2,    170.5,2,    151.8,2,     3.05,2,     5.18,2,     0.45,2,     0.77,2,    2.000,2,    1.086,2, -999.000,9, -999.000,9, -999.000,9,-999.0000,9,  -999.00,9,   -999.0,9,   -999.0,9,   -999.0,9,   -999.0,9,   -999.0,9,  -999.00,9, -999.00,  -999.0,-999.0000,-999.000, -999.00,  -999.0, 20.4737,-999.000
    31DSCG94_3,  P18N,   176,  1,    131,   1211,2,19940421,2153, 15.0000,-110.0000, 3777,    124.7,  15.7138,  34.4191,2,  34.3887,3,     89.1,2,     60.9,2,    13.40,2,    20.02,2,     0.04,2,     1.79,2,    1.618,2,    0.859,2, -999.000,9, -999.000,9, -999.000,9,-999.0000,9,  -999.00,9,   -999.0,9,   -999.0,9,   -999.0,9,   -999.0,9,   -999.0,9,     7.62,2, -999.00,  -999.0,-999.0000,-999.000,   25.00,  -999.0, 15.6945,-999.000
    31DSCG94_3,  P18N,   176,  1,    130,   1241,2,19940421,2153, 15.0000,-110.0000, 3777,    148.5,  14.0090,  34.6865,2,  34.6879,2,     26.1,2,      1.7,2,    22.65,2,    26.90,2,     0.01,2,     2.42,2,    0.656,2,    0.426,2, -999.000,9, -999.000,9, -999.000,9,-999.0000,9,  -999.00,9,   -999.0,9,   -999.0,9,   -999.0,9,   -999.0,9,   -999.0,9,     7.47,2, -999.00,  -999.0,-999.0000,-999.000,   25.00,  -999.0, 13.9877,-999.000
    31DSCG94_3,  P18N,   176,  1,    129,   1240,2,19940421,2153, 15.0000,-110.0000, 3777,    172.9,  12.8196,  34.7682,2,  34.7691,2,     17.1,2,      1.6,2,    25.48,2,    25.34,2,     2.37,2,     2.47,2,    0.315,6,    0.192,6, -999.000,9, -999.000,9, -999.000,9,-999.0000,9,  -999.00,9,   -999.0,9,   -999.0,9,   -999.0,9,   -999.0,9,   -999.0,9,     7.46,2, -999.00,  -999.0,-999.0000,-999.000,   25.00,  -999.0, 12.7961,-999.000
    31DSCG94_3,  P18N,   176,  1,    128,   1114,2,19940421,2153, 15.0000,-110.0000, 3777,    198.2,  12.5104,  34.7811,2,  34.7804,2,     15.3,2,      0.6,2,    25.96,2,    25.76,2,     2.67,2,     2.45,2,    0.243,2,    0.144,2, -999.000,9, -999.000,9, -999.000,9,-999.0000,9,  -999.00,9,   -999.0,9,   -999.0,9,   -999.0,9,   -999.0,9,   -999.0,9,     7.45,2, -999.00,  -999.0,-999.0000,-999.000,   25.00,  -999.0, 12.4839,-999.000
    31DSCG94_3,  P18N,   176,  1,    127,   1008,2,19940421,2153, 15.0000,-110.0000, 3777,    198.8,  12.5119,  34.7810,2,  34.7804,2,     15.3,2,      0.6,2,    25.69,2,    26.14,2,     2.68,2,     2.46,2,    0.240,2,    0.146,2, -999.000,9, -999.000,9, -999.000,9,-999.0000,9,  -999.00,9,   -999.0,9,   -999.0,9,   -999.0,9,   -999.0,9,   -999.0,9,     7.45,2, -999.00,  -999.0,-999.0000,-999.000,   25.00,  -999.0, 12.4853,-999.000
    31DSCG94_3,  P18N,   176,  1,    126,   1007,2,19940421,2153, 15.0000,-110.0000, 3777,    250.2,  11.5737,  34.7384,2,  34.7380,2,      9.2,2,      1.2,2,    28.81,2,    27.06,2,     1.72,2,     2.53,2,    0.125,2,    0.076,2, -999.000,9, -999.000,9, -999.000,9,-999.0000,9,  -999.00,9,   -999.0,9,   -999.0,9,   -999.0,9,   -999.0,9,   -999.0,9,  -999.00,9, -999.00,  -999.0,-999.0000,-999.000, -999.00,  -999.0, 11.5419,-999.000
    31DSCG94_3,  P18N,   176,  1,    125,   1256,2,19940421,2153, 15.0000,-110.0000, 3777,    299.0,  10.9882,  34.7139,2,  34.7140,2,      3.7,2,      1.2,2,    31.30,2,    25.66,2,     2.54,2,     2.57,2,    0.070,2,    0.043,2, -999.000,9, -999.000,9, -999.000,9,-999.0000,9,  -999.00,9,   -999.0,9,   -999.0,9,   -999.0,9,   -999.0,9,   -999.0,9,     7.41,2, -999.00,  -999.0,-999.0000,-999.000,   25.00,  -999.0, 10.9513,-999.000
    31DSCG94_3,  P18N,   176,  1,    123,   1220,2,19940421,2153, 15.0000,-110.0000, 3777,    398.8,   9.6385,  34.6327,2,  34.6331,2,      2.0,2,      1.0,2,    40.06,2,    29.43,2,     0.51,2,     2.77,2,    0.017,6,    0.018,6, -999.000,9, -999.000,9, -999.000,9,-999.0000,9,  -999.00,9,   -999.0,9,   -999.0,9,   -999.0,9,   -999.0,9,   -999.0,9,     7.38,2, -999.00,  -999.0,-999.0000,-999.000,   25.00,  -999.0,  9.5930,-999.000
    31DSCG94_3,  P18N,   176,  1,    122,   1245,2,19940421,2153, 15.0000,-110.0000, 3777,    498.7,   8.2019,  34.5692,2,  34.5686,2,      1.7,2,      1.5,2,    52.98,2,    33.67,2,     0.00,2,     2.95,2,    0.003,2,    0.013,2, -999.000,9, -999.000,9, -999.000,9,-999.0000,9,  -999.00,9,   -999.0,9,   -999.0,9,   -999.0,9,   -999.0,9,   -999.0,9,     7.36,2, -999.00,  -999.0,-999.0000,-999.000,   25.00,  -999.0,  8.1500,-999.000
    31DSCG94_3,  P18N,   176,  1,    121,   1206,2,19940421,2153, 15.0000,-110.0000, 3777,    599.1,   7.2631,  34.5492,2,  34.5469,2,      1.0,2,      1.4,2,    63.30,2,    36.55,2,     0.00,2,     3.06,2,    0.001,2,    0.007,2, -999.000,9, -999.000,9, -999.000,9,-999.0000,9,  -999.00,9,   -999.0,9,   -999.0,9,   -999.0,9,   -999.0,9,   -999.0,9,     7.35,2, -999.00,  -999.0,-999.0000,-999.000,   25.00,  -999.0,  7.2045,-999.000
    31DSCG94_3,  P18N,   176,  1,    120,   1028,2,19940421,2153, 15.0000,-110.0000, 3777,    699.9,   6.3141,  34.5326,2,  34.5327,2,      0.9,2,      1.4,2,    73.79,2,    39.60,2,     0.00,2,     3.17,2,    0.001,2,    0.006,2, -999.000,9, -999.000,9, -999.000,9,-999.0000,9,  -999.00,9,   -999.0,9,   -999.0,9,   -999.0,9,   -999.0,9,   -999.0,9,     7.34,2, -999.00,  -999.0,-999.0000,-999.000,   25.00,  -999.0,  6.2502,-999.000
    31DSCG94_3,  P18N,   176,  1,    119,   1248,2,19940421,2153, 15.0000,-110.0000, 3777,    799.5,   5.6684,  34.5332,2,  34.5321,2,      1.9,2,      1.9,2,    81.34,2,    42.01,2,     0.00,2,     3.22,2,    0.000,2,    0.000,2, -999.000,9, -999.000,9, -999.000,9,-999.0000,9,  -999.00,9,   -999.0,9,   -999.0,9,   -999.0,9,   -999.0,9,   -999.0,9,     7.33,2, -999.00,  -999.0,-999.0000,-999.000,   25.00,  -999.0,  5.5989,-999.000
    31DSCG94_3,  P18N,   176,  1,    118,   1115,2,19940421,2153, 15.0000,-110.0000, 3777,    900.8,   5.1349,  34.5370,2,  34.5369,2,      4.3,2,      4.7,2,    87.98,2,    43.68,2,     0.00,2,     3.25,2,    0.002,2,    0.000,2, -999.000,9, -999.000,9, -999.000,9,-999.0000,9,  -999.00,9,   -999.0,9,   -999.0,9,   -999.0,9,   -999.0,9,   -999.0,9,     7.33,2, -999.00,  -999.0,-999.0000,-999.000,   25.00,  -999.0,  5.0595,-999.000
    31DSCG94_3,  P18N,   176,  1,    117,   1119,2,19940421,2153, 15.0000,-110.0000, 3777,   1000.1,   4.6972,  34.5429,2,  34.5431,2,      7.3,2,      9.1,2,    95.09,2,    44.73,2,     0.00,2,     3.26,2,    0.000,2,    0.018,2, -999.000,9, -999.000,9, -999.000,9,   1.8430,2,    18.79,2,   -999.0,9,   -999.0,9,   -999.0,9,   -999.0,9,   -999.0,9,     7.33,2, -999.00,  -999.0,-999.0000,-999.000,   25.00,  -999.0,  4.6161,-999.000
    31DSCG94_3,  P18N,   176,  1,    116,   1036,2,19940421,2153, 15.0000,-110.0000, 3777,   1100.7,   4.2758,  34.5548,2,  34.5549,2,     14.5,2,     17.9,2,   103.35,2,    45.16,2,     0.00,2,     3.25,2, -999.000,9, -999.000,9, -999.000,9, -999.000,9, -999.000,9,   1.8710,2,    20.72,2,   -999.0,9,   -999.0,9,   -999.0,9,   -999.0,9,   -999.0,9,  -999.00,9, -999.00,  -999.0,-999.0000,-999.000, -999.00,  -999.0,  4.1892,-999.000
    31DSCG94_3,  P18N,   176,  1,    115,   1017,2,19940421,2153, 15.0000,-110.0000, 3777,   1198.5,   3.9402,  34.5655,2,  34.5645,2,     23.4,2,     25.1,2,   112.54,2,    44.56,2,     0.00,2,     3.23,2,    0.002,2,    0.004,2, -999.000,9, -999.000,9, -999.000,9,   1.8730,2,    21.81,2,   -999.0,9,   -999.0,9,   -999.0,9,   -999.0,9,   -999.0,9,  -999.00,9, -999.00,  -999.0,-999.0000,-999.000, -999.00,  -999.0,  3.8481,-999.000
    31DSCG94_3,  P18N,   176,  1,    114,   1016,2,19940421,2153, 15.0000,-110.0000, 3777,   1397.0,   3.3399,  34.5873,2,  34.5874,2,     36.2,2,     40.3,2,   125.51,2,    43.67,2,     0.00,2,     3.12,2, -999.000,9, -999.000,9, -999.000,9, -999.000,9, -999.000,9,   1.8800,2,    24.83,2,   -999.0,9,   -999.0,9,   -999.0,9,   -999.0,9,   -999.0,9,  -999.00,9, -999.00,  -999.0,-999.0000,-999.000, -999.00,  -999.0,  3.2369,-999.000
    31DSCG94_3,  P18N,   176,  1,    113,   1209,2,19940421,2153, 15.0000,-110.0000, 3777,   1597.6,   2.9574,  34.6051,2,  34.6042,2,     53.3,2,     53.6,2,   120.61,4,    43.10,2,     0.00,2,     3.09,2, -999.000,9, -999.000,9, -999.000,9, -999.000,9, -999.000,9,   1.8920,2,    26.31,2,   -999.0,9,   -999.0,9,   -999.0,9,   -999.0,9,   -999.0,9,  -999.00,9, -999.00,  -999.0,-999.0000,-999.000, -999.00,  -999.0,  2.8418,-999.000
    31DSCG94_3,  P18N,   176,  1,    112,   1033,2,19940421,2153, 15.0000,-110.0000, 3777,   1799.5,   2.6072,  34.6215,2,  34.6205,2,     73.1,2,     68.8,2,   135.81,2,    41.13,2,     0.00,2,     2.90,2,   -0.002,2,   -0.001,2, -999.000,9, -999.000,9, -999.000,9,   1.9150,2,    28.52,2,   -999.0,9,   -999.0,9,   -999.0,9,   -999.0,9,   -999.0,9,  -999.00,9, -999.00,  -999.0,-999.0000,-999.000, -999.00,  -999.0,  2.4789,-999.000
    31DSCG94_3,  P18N,   176,  1,    111,   1240,2,19940421,2153, 15.0000,-110.0000, 3777,   1998.4,   2.2967,  34.6365,2,  34.6360,2,     86.8,2,     82.9,2,   140.68,2,    40.39,2,     0.00,2,     2.82,2, -999.000,9, -999.000,9, -999.000,9, -999.000,9, -999.000,9,   1.9260,2,    29.74,2,   -999.0,9,   -999.0,9,   -999.0,9,   -999.0,9,   -999.0,9,  -999.00,9, -999.00,  -999.0,-999.0000,-999.000, -999.00,  -999.0,  2.1559,-999.000
    31DSCG94_3,  P18N,   176,  1,    110,   1005,2,19940421,2153, 15.0000,-110.0000, 3777,   2195.3,   2.1034,  34.6471,2,  34.6489,2,     95.6,2,     91.8,2,   143.18,2,    39.75,2,     0.00,2,     2.74,2, -999.000,9, -999.000,9, -999.000,9, -999.000,9, -999.000,9,   1.9380,2,    30.96,2,   -999.0,9,   -999.0,9,   -999.0,9,   -999.0,9,   -999.0,9,  -999.00,9, -999.00,  -999.0,-999.0000,-999.000, -999.00,  -999.0,  1.9485,-999.000
    31DSCG94_3,  P18N,   176,  1,    109,   1611,2,19940421,2153, 15.0000,-110.0000, 3777,   2399.2,   1.9546,  34.6562,2,  34.6557,2,    104.4,2,    100.5,6,   148.84,2,    38.91,2,     0.00,2,     2.72,2,    0.001,2,    0.008,2, -999.000,9, -999.000,9, -999.000,9,   1.9360,2,    31.53,2,   -999.0,9,   -999.0,9,   -999.0,9,   -999.0,9,   -999.0,9,  -999.00,9, -999.00,  -999.0,-999.0000,-999.000, -999.00,  -999.0,  1.7842,-999.000
    31DSCG94_3,  P18N,   176,  1,    108,   1218,2,19940421,2153, 15.0000,-110.0000, 3777,   2600.0,   1.8216,  34.6640,2,  34.6637,2,    111.1,2,    108.8,2,   153.63,2,    38.81,2,     0.00,2,     2.66,2, -999.000,9, -999.000,9, -999.000,9, -999.000,9, -999.000,9,   1.9290,2,    31.79,2,   -999.0,9,   -999.0,9,   -999.0,9,   -999.0,9,   -999.0,9,  -999.00,9, -999.00,  -999.0,-999.0000,-999.000, -999.00,  -999.0,  1.6355,-999.000
    31DSCG94_3,  P18N,   176,  1,    107,   1257,2,19940421,2153, 15.0000,-110.0000, 3777,   2798.5,   1.7344,  34.6696,2,  34.6702,2,    116.6,2,    116.4,2,   154.76,2,    37.84,2,     0.00,2,     2.61,2, -999.000,9, -999.000,9, -999.000,9, -999.000,9, -999.000,9,   1.9340,2,    28.13,2,   -999.0,9,   -999.0,9,   -999.0,9,   -999.0,9,   -999.0,9,  -999.00,9, -999.00,  -999.0,-999.0000,-999.000, -999.00,  -999.0,  1.5316,-999.000
    31DSCG94_3,  P18N,   176,  1,    106,   1224,2,19940421,2153, 15.0000,-110.0000, 3777,   2997.2,   1.6854,  34.6737,2,  34.6747,2,    121.0,2,    121.3,2,   151.65,6,    37.78,6,     0.00,6,     2.58,6,    0.005,2,    0.000,2, -999.000,9, -999.000,9, -999.000,9,   1.9220,6,    26.91,6,   -999.0,9,   -999.0,9,   -999.0,9,   -999.0,9,   -999.0,9,  -999.00,9, -999.00,  -999.0,-999.0000,-999.000, -999.00,  -999.0,  1.4648,-999.000
    31DSCG94_3,  P18N,   176,  1,    105,   1246,2,19940421,2153, 15.0000,-110.0000, 3777,   3200.1,   1.6473,  34.6765,2,  34.6766,2,    125.2,2,    125.7,6,   149.90,2,    37.72,2,     0.00,2,     2.54,2, -999.000,9, -999.000,9, -999.000,9, -999.000,9, -999.000,9,   1.9170,6,    24.70,6,   -999.0,9,   -999.0,9,   -999.0,9,   -999.0,9,   -999.0,9,  -999.00,9, -999.00,  -999.0,-999.0000,-999.000, -999.00,  -999.0,  1.4077,-999.000
    31DSCG94_3,  P18N,   176,  1,    104,   1217,2,19940421,2153, 15.0000,-110.0000, 3777,   3399.5,   1.6450,  34.6772,2,  34.6783,2,    127.8,2,    127.4,2,   153.07,2,    37.63,2,     0.00,2,     2.56,2, -999.000,9, -999.000,9, -999.000,9, -999.000,9,    0.000,2,   1.9180,6,    24.01,6,   -999.0,9,   -999.0,9,   -999.0,9,   -999.0,9,   -999.0,9,  -999.00,9, -999.00,  -999.0,-999.0000,-999.000, -999.00,  -999.0,  1.3855,   0.003
    31DSCG94_3,  P18N,   176,  1,    102,   1223,2,19940421,2153, 15.0000,-110.0000, 3777,   3599.3,   1.6450,  34.6783,2,  34.6785,2,    129.1,2,    129.2,2,   156.59,2,    37.45,2,     0.00,2,     2.55,2,    0.007,2,    0.011,2, -999.000,9, -999.000,9,    0.006,2,   1.9260,6,    23.40,6,   -999.0,9,   -999.0,9,   -999.0,9,   -999.0,9,   -999.0,9,  -999.00,9, -999.00,  -999.0,-999.0000,-999.000, -999.00,  -999.0,  1.3649,   0.004
    31DSCG94_3,  P18N,   176,  1,    103,   9999,3,19940421,2153, 15.0000,-110.0000, 3777,   3599.5,   1.6460,  34.6782,2,-999.0000,5,    129.1,2,   -999.0,9,  -999.00,9,  -999.00,9,  -999.00,9,  -999.00,9, -999.000,9, -999.000,9, -999.000,9, -999.000,9, -999.000,9,-999.0000,9,  -999.00,9,   -999.0,9,   -999.0,9,   -999.0,9,   -999.0,9,   -999.0,9,  -999.00,9, -999.00,  -999.0,-999.0000,-999.000, -999.00,  -999.0,  1.3658,-999.000
    31DSCG94_3,  P18N,   176,  1,    101,   1041,2,19940421,2153, 15.0000,-110.0000, 3777,   3811.2,   1.6235,  34.6799,2,  34.6795,2,    132.8,2,    132.7,2,   155.01,2,    37.22,2,     0.00,2,     2.52,2,   -0.001,2,    0.009,2, -999.000,9, -999.000,9, -999.000,9,-999.0000,9,  -999.00,9,   -999.0,9,   -999.0,9,   -999.0,9,   -999.0,9,   -999.0,9,  -999.00,9, -999.00,  -999.0,-999.0000,-999.000, -999.00,  -999.0,  1.3215,-999.000