BOTTLE,20220630CCHSIOAMB
EXPOCODE,SECT_ID,STNNBR,CASTNO,SAMPNO,BTLNBR,BTLNBR_FLAG_W,DATE,TIME,LATITUDE,LONGITUDE,DEPTH,CTDPRS,CTDTMP,CTDSAL,CTDSAL_FLAG_W,SALNTY,SALNTY_FLAG_W,CTDOXY,CTDOXY_FLAG_W,OXYGEN,OXYGEN_FLAG_W,SILCAT,SILCAT_FLAG_W,NITRAT,NITRAT_FLAG_W,NITRIT,NITRIT_FLAG_W,PHSPHT,PHSPHT_FLAG_W,CFC-11,CFC-11_FLAG_W,CFC-12,CFC-12_FLAG_W,CFC113,CFC113_FLAG_W,CCL4,CCL4_FLAG_W,TRITUM,TRITUM_FLAG_W,HELIUM,HELIUM_FLAG_W,DELHE3,DELHE3_FLAG_W,DELC14,DELC14_FLAG_W,DELC13,DELC13_FLAG_W,TCARBN,TCARBN_FLAG_W,PCO2,PCO2_FLAG_W,ALKALI,ALKALI_FLAG_W,PH,PH_FLAG_W,PCO2TMP,C14ERR,HELIER,DELHER,PH_TMP,C13ERR,THETA,TRITER
,,,,,,,,,,,,DBAR,ITS-90,PSS-78,,PSS-78,,UMOL/KG,,UMOL/KG,,UMOL/KG,,UMOL/KG,,UMOL/KG,,UMOL/KG,,PMOL/KG,,PMOL/KG,,PMOL/KG,,PMOL/KG,,TU,,NMOL/KG,,PERCNT,,/MILLE,,/MILLE,,UMOL/KG,,UATM,,UMOL/KG,,,,DEG C,/MILLE,NMOL/KG,PERCNT,DEG C,/MILLE,DEG C,TU
    31DSCG94_3,  P18N,   147,  1,    136,   1025,2,19940414,0659,  0.6650,-110.3367, 3850,      9.6,  24.7247,  35.0292,2,  35.0355,2,    198.4,2,    192.0,6,     4.52,2,     5.92,2,     0.26,2,     0.67,2,    1.751,2,    0.984,2, -999.000,9, -999.000,9, -999.000,9,-999.0000,9,  -999.00,9,   -999.0,9,   -999.0,9,   2043.2,2,   -999.0,9,   2298.0,6,     7.97,2, -999.00,  -999.0,-999.0000,-999.000,   25.00,  -999.0, 24.7226,-999.000
    31DSCG94_3,  P18N,   147,  1,    135,   1247,2,19940414,0659,  0.6650,-110.3367, 3850,      9.7,  24.7283,  35.0283,2,  35.0327,2,    198.4,2,    192.2,2,     4.83,2,     5.94,2,     0.25,2,     0.68,2,    1.745,2,    0.980,2, -999.000,9, -999.000,9, -999.000,9,-999.0000,9,  -999.00,9,   -999.0,9,   -999.0,9,   -999.0,9,    397.1,2,   -999.0,9,     7.97,2,   20.00,  -999.0,-999.0000,-999.000,   25.00,  -999.0, 24.7262,-999.000
    31DSCG94_3,  P18N,   147,  1,    134,   1216,2,19940414,0659,  0.6650,-110.3367, 3850,     24.0,  24.3524,  35.0105,2,  35.0171,2,    189.0,2,    187.2,6,     5.08,2,     6.15,2,     0.26,2,     0.69,2,    1.734,2,    0.962,2, -999.000,9, -999.000,9, -999.000,9,-999.0000,9,  -999.00,9,   -999.0,9,   -999.0,9,   2044.1,2,   -999.0,9,   2305.0,2,     7.97,2, -999.00,  -999.0,-999.0000,-999.000,   25.00,  -999.0, 24.3472,-999.000
    31DSCG94_3,  P18N,   147,  1,    133,   1244,2,19940414,0659,  0.6650,-110.3367, 3850,     47.5,  16.8248,  34.7675,2,  34.7694,2,    158.8,2,    102.7,2,    14.59,2,    16.61,2,     0.53,2,     1.37,2,    1.250,6,    0.673,6, -999.000,9, -999.000,9, -999.000,9,-999.0000,9,  -999.00,9,   -999.0,9,   -999.0,9,   -999.0,9,    702.7,2,   -999.0,9,     7.76,2,   20.00,  -999.0,-999.0000,-999.000,   25.00,  -999.0, 16.8170,-999.000
    31DSCG94_3,  P18N,   147,  1,    132,   1003,2,19940414,0659,  0.6650,-110.3367, 3850,     74.5,  14.9371,  34.8331,2,  34.8312,2,     96.5,2,     80.7,2,    17.49,2,    20.51,2,     0.35,2,     1.62,2, -999.000,9, -999.000,9, -999.000,9, -999.000,9, -999.000,9,-999.0000,9,  -999.00,9,   -999.0,9,   -999.0,9,   2161.6,2,   -999.0,9,   2290.0,2,     7.70,2, -999.00,  -999.0,-999.0000,-999.000,   25.00,  -999.0, 14.9259,-999.000
    31DSCG94_3,  P18N,   147,  1,    131,   1211,2,19940414,0659,  0.6650,-110.3367, 3850,     99.5,  14.2162,  34.8369,2,  34.8404,2,     79.7,2,     80.8,2,    18.92,2,    21.42,2,     0.12,2,     1.66,2,    0.935,2,    0.502,2, -999.000,9, -999.000,9, -999.000,9,-999.0000,9,  -999.00,9,   -999.0,9,   -999.0,9,   -999.0,9,    848.8,2,   -999.0,9,     7.68,2,   20.00,  -999.0,-999.0000,-999.000,   25.00,  -999.0, 14.2017,-999.000
    31DSCG94_3,  P18N,   147,  1,    130,   1241,2,19940414,0659,  0.6650,-110.3367, 3850,    123.5,  13.5574,  34.8364,2,  34.8359,2,     78.6,2,     83.5,2,    20.22,2,    21.91,2,     0.03,2,     1.70,2, -999.000,9, -999.000,9, -999.000,9, -999.000,9, -999.000,9,-999.0000,9,  -999.00,9,   -999.0,9,   -999.0,9,   2173.1,2,    864.6,2,   2291.0,2,     7.68,2,   20.00,  -999.0,-999.0000,-999.000,   25.00,  -999.0, 13.5400,-999.000
    31DSCG94_3,  P18N,   147,  1,    129,   1240,2,19940414,0659,  0.6650,-110.3367, 3850,    148.5,  13.2888,  34.8569,2,  34.8566,2,     83.7,2,     81.1,2,    20.58,2,    22.89,2,     0.01,2,     1.73,2,    0.783,6,    0.424,6, -999.000,9, -999.000,9, -999.000,9,-999.0000,9,  -999.00,9,   -999.0,9,   -999.0,9,   -999.0,9,   -999.0,9,   -999.0,9,     7.67,2, -999.00,  -999.0,-999.0000,-999.000,   25.00,  -999.0, 13.2681,-999.000
    31DSCG94_3,  P18N,   147,  1,    128,   1032,3,19940414,0659,  0.6650,-110.3367, 3850,    201.1,  12.7831,  34.8888,2,  34.8872,2,     69.1,2,     66.0,2,    21.78,2,    25.43,2,     0.00,2,     1.87,2, -999.000,9, -999.000,9, -999.000,9, -999.000,9, -999.000,9,-999.0000,9,  -999.00,9,   -999.0,9,   -999.0,9,   2196.5,2,    993.2,2,   2300.0,2,  -999.00,9,   20.00,  -999.0,-999.0000,-999.000, -999.00,  -999.0, 12.7558,-999.000
    31DSCG94_3,  P18N,   147,  1,    127,   1008,2,19940414,0659,  0.6650,-110.3367, 3850,    251.5,  12.5995,  34.8811,2,  34.8836,2,     58.6,2,     43.1,2,    23.83,2,    28.37,2,     0.00,2,     2.07,2,    0.505,2,    0.275,2, -999.000,9, -999.000,9, -999.000,9,-999.0000,9,  -999.00,9,   -999.0,9,   -999.0,9,   2215.1,2,   1138.6,2,   2296.0,2,  -999.00,9,   20.00,  -999.0,-999.0000,-999.000, -999.00,  -999.0, 12.5656,-999.000
    31DSCG94_3,  P18N,   147,  1,    126,   1007,2,19940414,0659,  0.6650,-110.3367, 3850,    299.5,  12.0324,  34.8456,2,  34.8435,2,     26.7,2,     17.7,2,    27.93,2,    32.01,2,     0.00,2,     2.33,2, -999.000,9, -999.000,9, -999.000,9, -999.000,9, -999.000,9,-999.0000,9,  -999.00,9,   -999.0,9,   -999.0,9,   2239.9,2,   1386.9,2,   2294.0,2,     7.49,2,   20.00,  -999.0,-999.0000,-999.000,   25.00,  -999.0, 11.9932,-999.000
    31DSCG94_3,  P18N,   147,  1,    125,   1256,2,19940414,0659,  0.6650,-110.3367, 3850,    348.3,  11.1464,  34.7990,2,  34.7982,2,     20.9,2,     16.0,2,    30.61,2,    33.45,2,     0.00,2,     2.41,2,    0.196,2,    0.114,2, -999.000,9, -999.000,9, -999.000,9,-999.0000,9,  -999.00,9,   -999.0,9,   -999.0,9,   -999.0,9,   1482.2,2,   -999.0,9,     7.47,2,   20.00,  -999.0,-999.0000,-999.000,   25.00,  -999.0, 11.1029,-999.000
    31DSCG94_3,  P18N,   147,  1,    123,   1220,2,19940414,0659,  0.6650,-110.3367, 3850,    398.9,   9.7637,  34.7142,2,  34.7135,2,     24.6,2,     24.2,6,    35.27,2,    36.67,2,     0.01,2,     2.53,2,    0.097,2,    0.053,2, -999.000,9, -999.000,9, -999.000,9,-999.0000,9,  -999.00,9,   -999.0,9,   -999.0,9,   2257.9,2,   1553.6,2,   2296.0,2,  -999.00,9,   20.00,  -999.0,-999.0000,-999.000, -999.00,  -999.0,  9.7177,-999.000
    31DSCG94_3,  P18N,   147,  1,    122,   1245,2,19940414,0659,  0.6650,-110.3367, 3850,    499.5,   8.1114,  34.6270,2,  34.6266,2,     29.6,2,     33.3,2,    43.90,2,    39.71,2,     0.00,2,     2.73,2, -999.000,9, -999.000,9, -999.000,9, -999.000,9, -999.000,9,-999.0000,9,  -999.00,9,   -999.0,9,   -999.0,9,   2270.0,2,   1618.8,2,   2301.0,2,     7.43,2,   20.00,  -999.0,-999.0000,-999.000,   25.00,  -999.0,  8.0597,-999.000
    31DSCG94_3,  P18N,   147,  1,    121,   1206,2,19940414,0659,  0.6650,-110.3367, 3850,    598.0,   7.3224,  34.5964,2,  34.5950,2,     35.4,2,     40.2,2,    50.33,2,    40.96,2,     0.00,2,     2.81,2,    0.013,2,    0.004,2, -999.000,9, -999.000,9, -999.000,9,-999.0000,9,  -999.00,9,   -999.0,9,   -999.0,9,   2275.8,2,   1639.9,2,   2311.0,2,     7.43,2,   20.00,  -999.0,-999.0000,-999.000,   25.00,  -999.0,  7.2637,-999.000
    31DSCG94_3,  P18N,   147,  1,    120,   1028,2,19940414,0659,  0.6650,-110.3367, 3850,    698.7,   6.2249,  34.5640,2,  34.5633,2,     41.1,2,     49.1,2,    62.53,2,    42.27,2,     0.00,2,     2.89,2, -999.000,9, -999.000,9, -999.000,9, -999.000,9, -999.000,9,-999.0000,9,  -999.00,9,   -999.0,9,   -999.0,9,   2288.1,2,   1647.0,2,   2334.0,2,     7.43,2,   20.00,  -999.0,-999.0000,-999.000,   25.00,  -999.0,  6.1616,-999.000
    31DSCG94_3,  P18N,   147,  1,    119,   1248,2,19940414,0659,  0.6650,-110.3367, 3850,    797.0,   5.4225,  34.5503,2,  34.5506,2,     61.6,2,     68.3,2,    71.35,2,    40.99,2,     0.00,2,     2.82,2,    0.000,2,   -0.002,2, -999.000,9, -999.000,9, -999.000,9,-999.0000,9,  -999.00,9,   -999.0,9,   -999.0,9,   2288.5,2,   1561.2,2,   2342.0,2,     7.46,2,   20.00,  -999.0,-999.0000,-999.000,   25.00,  -999.0,  5.3546,-999.000
    31DSCG94_3,  P18N,   147,  1,    118,   1115,2,19940414,0659,  0.6650,-110.3367, 3850,    898.4,   4.9785,  34.5491,2,  34.5495,2,     71.0,2,     74.3,2,    78.59,2,    40.87,2,     0.00,2,     2.80,2, -999.000,9, -999.000,9, -999.000,9, -999.000,9, -999.000,9,-999.0000,9,  -999.00,9,   -999.0,9,   -999.0,9,   2294.6,2,   1534.0,2,   2355.0,3,     7.47,2,   20.00,  -999.0,-999.0000,-999.000,   25.00,  -999.0,  4.9044,-999.000
    31DSCG94_3,  P18N,   147,  1,    117,   1119,2,19940414,0659,  0.6650,-110.3367, 3850,   1000.6,   4.5608,  34.5538,2,  34.5542,2,     76.0,2,     79.5,2,    86.48,2,    40.84,2,     0.00,2,     2.80,2,    0.001,2,    0.000,2, -999.000,9, -999.000,9, -999.000,9,-999.0000,9,  -999.00,9,   -999.0,9,   -999.0,9,   2301.8,2,   1518.6,2,   2351.0,6,     7.47,2,   20.00,  -999.0,-999.0000,-999.000,   25.00,  -999.0,  4.4807,-999.000
    31DSCG94_3,  P18N,   147,  1,    116,   1036,2,19940414,0659,  0.6650,-110.3367, 3850,   1099.5,   4.2173,  34.5640,2,  34.5642,2,     77.9,2,     77.8,2,    95.24,2,    41.35,2,     0.00,2,     2.84,2, -999.000,9, -999.000,9, -999.000,9, -999.000,9, -999.000,9,-999.0000,9,  -999.00,9,   -999.0,9,   -999.0,9,   -999.0,9,   -999.0,9,   -999.0,9,     7.46,2, -999.00,  -999.0,-999.0000,-999.000,   25.00,  -999.0,  4.1313,-999.000
    31DSCG94_3,  P18N,   147,  1,    115,   1017,2,19940414,0659,  0.6650,-110.3367, 3850,   1198.8,   3.9309,  34.5706,2,  34.5713,2,     81.0,2,     81.5,2,   101.08,2,    41.05,2,     0.00,2,     2.85,2, -999.000,9, -999.000,9, -999.000,9, -999.000,9, -999.000,9,-999.0000,9,  -999.00,9,   -999.0,9,   -999.0,9,   -999.0,9,   -999.0,9,   -999.0,9,     7.47,2, -999.00,  -999.0,-999.0000,-999.000,   25.00,  -999.0,  3.8389,-999.000
    31DSCG94_3,  P18N,   147,  1,    114,   1016,2,19940414,0659,  0.6650,-110.3367, 3850,   1300.1,   3.6402,  34.5820,2,  34.5822,2,     82.8,2,     80.0,2,   109.00,2,    41.61,2,     0.00,2,     2.87,2, -999.000,9, -999.000,9, -999.000,9, -999.000,9, -999.000,9,-999.0000,9,  -999.00,9,   -999.0,9,   -999.0,9,   -999.0,9,   -999.0,9,   -999.0,9,  -999.00,9, -999.00,  -999.0,-999.0000,-999.000, -999.00,  -999.0,  3.5423,-999.000
    31DSCG94_3,  P18N,   147,  1,    113,   1209,2,19940414,0659,  0.6650,-110.3367, 3850,   1401.1,   3.3672,  34.5921,2,  34.5930,2,     84.8,2,     82.2,2,   115.84,2,    41.39,2,     0.00,2,     2.87,2, -999.000,9, -999.000,9, -999.000,9, -999.000,9, -999.000,9,-999.0000,9,  -999.00,9,   -999.0,9,   -999.0,9,   -999.0,9,   -999.0,9,   -999.0,9,     7.47,2, -999.00,  -999.0,-999.0000,-999.000,   25.00,  -999.0,  3.2635,-999.000
    31DSCG94_3,  P18N,   147,  1,    112,   1033,2,19940414,0659,  0.6650,-110.3367, 3850,   1600.2,   2.9040,  34.6087,2,  34.6087,2,     96.6,2,     93.1,2,   125.37,2,    40.94,2,     0.00,2,     2.82,2, -999.000,9, -999.000,9, -999.000,9, -999.000,9, -999.000,9,-999.0000,9,  -999.00,9,   -999.0,9,   -999.0,9,   -999.0,9,   -999.0,9,   -999.0,9,  -999.00,9, -999.00,  -999.0,-999.0000,-999.000, -999.00,  -999.0,  2.7888,-999.000
    31DSCG94_3,  P18N,   147,  1,    111,   1240,2,19940414,0659,  0.6650,-110.3367, 3850,   1800.8,   2.5145,  34.6286,2,  34.6282,2,    104.6,2,     97.4,2,   136.22,2,    40.51,2,     0.00,2,     2.79,2, -999.000,9, -999.000,9, -999.000,9, -999.000,9, -999.000,9,-999.0000,9,  -999.00,9,   -999.0,9,   -999.0,9,   -999.0,9,   -999.0,9,   -999.0,9,     7.50,2, -999.00,  -999.0,-999.0000,-999.000,   25.00,  -999.0,  2.3874,-999.000
    31DSCG94_3,  P18N,   147,  1,    110,   1005,2,19940414,0659,  0.6650,-110.3367, 3850,   2002.5,   2.1989,  34.6430,2,  34.6442,2,    112.6,2,    106.2,2,   143.08,2,    39.90,2,     0.00,2,     2.73,2, -999.000,9, -999.000,9, -999.000,9, -999.000,9, -999.000,9,-999.0000,9,  -999.00,9,   -999.0,9,   -999.0,9,   -999.0,9,   -999.0,9,   -999.0,9,  -999.00,9, -999.00,  -999.0,-999.0000,-999.000, -999.00,  -999.0,  2.0591,-999.000
    31DSCG94_3,  P18N,   147,  1,    109,   1611,2,19940414,0659,  0.6650,-110.3367, 3850,   2245.9,   2.0131,  34.6535,2,  34.6543,2,    117.4,2,    113.1,2,   148.96,2,    38.74,2,     0.00,2,     2.64,2, -999.000,9, -999.000,9, -999.000,9, -999.000,9, -999.000,9,-999.0000,9,  -999.00,9,   -999.0,9,   -999.0,9,   -999.0,9,   -999.0,9,   -999.0,9,     7.53,2, -999.00,  -999.0,-999.0000,-999.000,   25.00,  -999.0,  1.8553,-999.000
    31DSCG94_3,  P18N,   147,  1,    108,   1218,2,19940414,0659,  0.6650,-110.3367, 3850,   2498.7,   1.8701,  34.6620,2,  34.6618,2,    122.9,2,    120.4,2,   146.66,2,    39.67,2,     0.00,2,     2.68,2, -999.000,9, -999.000,9, -999.000,9, -999.000,9, -999.000,9,-999.0000,9,  -999.00,9,   -999.0,9,   -999.0,9,   -999.0,9,   -999.0,9,   -999.0,9,  -999.00,9, -999.00,  -999.0,-999.0000,-999.000, -999.00,  -999.0,  1.6922,-999.000
    31DSCG94_3,  P18N,   147,  1,    107,   1257,2,19940414,0659,  0.6650,-110.3367, 3850,   2748.9,   1.7748,  34.6694,2,  34.6704,2,    128.7,2,    126.9,2,   150.77,2,    38.67,2,     0.00,2,     2.60,2, -999.000,9, -999.000,9, -999.000,9, -999.000,9, -999.000,9,-999.0000,9,  -999.00,9,   -999.0,9,   -999.0,9,   -999.0,9,   -999.0,9,   -999.0,9,     7.55,2, -999.00,  -999.0,-999.0000,-999.000,   25.00,  -999.0,  1.5758,-999.000
    31DSCG94_3,  P18N,   147,  1,    106,   1224,2,19940414,0659,  0.6650,-110.3367, 3850,   3000.2,   1.6966,  34.6723,2,  34.6715,2,    133.4,2,    131.9,2,   149.83,2,    38.50,2,     0.00,2,     2.58,2, -999.000,9, -999.000,9, -999.000,9, -999.000,9, -999.000,9,-999.0000,9,  -999.00,9,   -999.0,9,   -999.0,9,   -999.0,9,   -999.0,9,   -999.0,9,  -999.00,9, -999.00,  -999.0,-999.0000,-999.000, -999.00,  -999.0,  1.4754,-999.000
    31DSCG94_3,  P18N,   147,  1,    105,   1246,2,19940414,0659,  0.6650,-110.3367, 3850,   3250.9,   1.6139,  34.6775,2,  34.6780,2,    138.2,2,    138.7,2,   150.05,2,    38.05,2,     0.00,2,     2.54,2, -999.000,9, -999.000,9, -999.000,9, -999.000,9, -999.000,9,-999.0000,9,  -999.00,9,   -999.0,9,   -999.0,9,   -999.0,9,   -999.0,9,   -999.0,9,     7.57,2, -999.00,  -999.0,-999.0000,-999.000,   25.00,  -999.0,  1.3701,-999.000
    31DSCG94_3,  P18N,   147,  1,    104,   1217,2,19940414,0659,  0.6650,-110.3367, 3850,   3500.2,   1.5134,  34.6855,2,  34.6855,2,    144.5,2,    145.1,2,   152.99,2,    37.88,2,     0.00,2,     2.49,2, -999.000,9, -999.000,9, -999.000,9, -999.000,9, -999.000,9,-999.0000,9,  -999.00,9,   -999.0,9,   -999.0,9,   -999.0,9,   -999.0,9,   -999.0,9,  -999.00,9, -999.00,  -999.0,-999.0000,-999.000, -999.00,  -999.0,  1.2469,-999.000
    31DSCG94_3,  P18N,   147,  1,    102,   1223,2,19940414,0659,  0.6650,-110.3367, 3850,   3751.1,   1.4704,  34.6889,2,  34.6889,2,    149.8,2,    151.5,2,   152.05,2,    37.70,2,     0.00,2,     2.46,2, -999.000,9, -999.000,9, -999.000,9, -999.000,9, -999.000,9,-999.0000,9,  -999.00,9,   -999.0,9,   -999.0,9,   -999.0,9,   -999.0,9,   -999.0,9,  -999.00,9, -999.00,  -999.0,-999.0000,-999.000, -999.00,  -999.0,  1.1789,-999.000
    31DSCG94_3,  P18N,   147,  1,    103,   9999,2,19940414,0659,  0.6650,-110.3367, 3850,   3752.1,   1.4703,  34.6889,2,  34.6905,2,    149.8,2,    150.6,2,   152.15,2,    37.48,2,     0.00,2,     2.47,2, -999.000,9, -999.000,9, -999.000,9, -999.000,9, -999.000,9,-999.0000,9,  -999.00,9,   -999.0,9,   -999.0,9,   -999.0,9,   -999.0,9,   -999.0,9,     7.60,2, -999.00,  -999.0,-999.0000,-999.000,   25.00,  -999.0,  1.1787,-999.000
    31DSCG94_3,  P18N,   147,  1,    101,   1041,2,19940414,0659,  0.6650,-110.3367, 3850,   3886.1,   1.4721,  34.6899,2,  34.6891,2,    152.0,2,    154.2,2,   150.83,2,    37.32,2,     0.00,2,     2.45,2, -999.000,9, -999.000,9, -999.000,9, -999.000,9, -999.000,9,-999.0000,9,  -999.00,9,   -999.0,9,   -999.0,9,   -999.0,9,   -999.0,9,   -999.0,9,     7.60,2, -999.00,  -999.0,-999.0000,-999.000,   25.00,  -999.0,  1.1662,-999.000