BOTTLE,20220630CCHSIOAMB
EXPOCODE,SECT_ID,STNNBR,CASTNO,SAMPNO,BTLNBR,BTLNBR_FLAG_W,DATE,TIME,LATITUDE,LONGITUDE,DEPTH,CTDPRS,CTDTMP,CTDSAL,CTDSAL_FLAG_W,SALNTY,SALNTY_FLAG_W,CTDOXY,CTDOXY_FLAG_W,OXYGEN,OXYGEN_FLAG_W,SILCAT,SILCAT_FLAG_W,NITRAT,NITRAT_FLAG_W,NITRIT,NITRIT_FLAG_W,PHSPHT,PHSPHT_FLAG_W,CFC-11,CFC-11_FLAG_W,CFC-12,CFC-12_FLAG_W,CFC113,CFC113_FLAG_W,CCL4,CCL4_FLAG_W,TRITUM,TRITUM_FLAG_W,HELIUM,HELIUM_FLAG_W,DELHE3,DELHE3_FLAG_W,DELC14,DELC14_FLAG_W,DELC13,DELC13_FLAG_W,TCARBN,TCARBN_FLAG_W,PCO2,PCO2_FLAG_W,ALKALI,ALKALI_FLAG_W,PH,PH_FLAG_W,PCO2TMP,C14ERR,HELIER,DELHER,PH_TMP,C13ERR,THETA,TRITER
,,,,,,,,,,,,DBAR,ITS-90,PSS-78,,PSS-78,,UMOL/KG,,UMOL/KG,,UMOL/KG,,UMOL/KG,,UMOL/KG,,UMOL/KG,,PMOL/KG,,PMOL/KG,,PMOL/KG,,PMOL/KG,,TU,,NMOL/KG,,PERCNT,,/MILLE,,/MILLE,,UMOL/KG,,UATM,,UMOL/KG,,,,DEG C,/MILLE,NMOL/KG,PERCNT,DEG C,/MILLE,DEG C,TU
    31DSCG94_2,  P18S,    87,  1,    136,   1025,2,19940323,0731,-26.0000,-103.0000, 3464,     10.5,  24.3332,  35.9860,2,  35.9836,2,    213.2,2,    211.1,2,     0.91,2,     0.11,2,     0.00,2,     0.16,2,    1.956,2,    1.105,2, -999.000,9, -999.000,9, -999.000,9,-999.0000,9,  -999.00,9,   -999.0,9,      1.6,2,   2047.3,2,    328.5,2,   -999.0,5,     8.06,2,   20.00,  -999.0,-999.0000,-999.000,   25.00,  -999.0, 24.3309,-999.000
    31DSCG94_2,  P18S,    87,  1,    135,   1247,2,19940323,0731,-26.0000,-103.0000, 3464,     25.6,  24.2031,  35.9784,2,  35.9751,2,    214.3,2,    211.1,2,     0.96,2,     0.03,2,     0.00,2,     0.13,2,    1.958,2,    1.100,2, -999.000,9, -999.000,9, -999.000,9,-999.0000,9,  -999.00,9,   -999.0,9,   -999.0,9,   2045.3,2,   -999.0,9,   -999.0,5,     8.06,2, -999.00,  -999.0,-999.0000,-999.000,   25.00,  -999.0, 24.1976,-999.000
    31DSCG94_2,  P18S,    87,  1,    134,   1108,2,19940323,0731,-26.0000,-103.0000, 3464,     49.1,  24.1949,  36.0687,2,  36.0680,2,    216.0,2,    212.9,2,     0.85,2,     0.00,2,     0.00,2,     0.13,2,    1.986,2,    1.097,2, -999.000,9, -999.000,9, -999.000,9,-999.0000,9,  -999.00,9,   -999.0,9,   -999.0,9,   2047.7,2,    319.8,2,   -999.0,5,     8.06,2,   20.00,  -999.0,-999.0000,-999.000,   25.00,  -999.0, 24.1845,-999.000
    31DSCG94_2,  P18S,    87,  1,    133,   1244,2,19940323,0731,-26.0000,-103.0000, 3464,     75.0,  21.8103,  35.7656,2,  35.7702,2,    230.1,2,    232.4,2,     1.02,2,     0.03,2,     0.00,2,     0.11,2,    2.264,2,    1.232,2, -999.000,9, -999.000,9, -999.000,9,-999.0000,9,  -999.00,9,   -999.0,9,   -999.0,9,   2029.6,2,   -999.0,9,   -999.0,5,     8.06,2, -999.00,  -999.0,-999.0000,-999.000,   25.00,  -999.0, 21.7955,-999.000
    31DSCG94_2,  P18S,    87,  1,    132,   1003,2,19940323,0731,-26.0000,-103.0000, 3464,    100.4,  21.0246,  35.7267,2,  35.7278,2,    227.7,2,    231.7,2,     1.09,2,     0.06,2,     0.00,2,     0.12,2,    2.246,2,    1.246,2, -999.000,9, -999.000,9, -999.000,9,-999.0000,9,  -999.00,9,   -999.0,9,   -999.0,9,   2032.0,2,    319.4,2,   -999.0,5,     8.06,2,   20.00,  -999.0,-999.0000,-999.000,   25.00,  -999.0, 21.0053,-999.000
    31DSCG94_2,  P18S,    87,  1,    131,   1211,2,19940323,0731,-26.0000,-103.0000, 3464,    123.1,  20.7574,  35.7660,2,  35.7662,2,    226.0,2,    228.1,2,     1.00,2,     0.02,2,     0.00,2,     0.17,2,    2.279,2,    1.199,2, -999.000,9, -999.000,9, -999.000,9,-999.0000,9,  -999.00,9,   -999.0,9,   -999.0,9,   2038.9,2,   -999.0,9,   -999.0,5,     8.05,2, -999.00,  -999.0,-999.0000,-999.000,   25.00,  -999.0, 20.7340,-999.000
    31DSCG94_2,  P18S,    87,  1,    130,   1241,2,19940323,0731,-26.0000,-103.0000, 3464,    149.4,  20.1590,  35.6648,2,  35.6654,2,    226.1,2,    225.2,2,     0.91,2,     0.02,2,     0.00,2,     0.14,2,    2.324,2,    1.272,2, -999.000,9, -999.000,9, -999.000,9,-999.0000,9,  -999.00,9,   -999.0,9,   -999.0,9,   2038.6,2,   -999.0,9,   -999.0,5,     8.04,2, -999.00,  -999.0,-999.0000,-999.000,   25.00,  -999.0, 20.1311,-999.000
    31DSCG94_2,  P18S,    87,  1,    129,   1031,2,19940323,0731,-26.0000,-103.0000, 3464,    199.4,  19.2301,  35.4779,2,  35.4787,2,    224.3,2,    223.6,2,     0.83,2,     0.04,2,     0.00,2,     0.16,2,    2.371,2,    1.289,2, -999.000,9, -999.000,9, -999.000,9,-999.0000,9,  -999.00,9,   -999.0,9,   -999.0,9,   2041.0,2,    348.9,2,   -999.0,5,     8.02,2,   20.00,  -999.0,-999.0000,-999.000,   25.00,  -999.0, 19.1941,-999.000
    31DSCG94_2,  P18S,    87,  1,    128,   1032,2,19940323,0731,-26.0000,-103.0000, 3464,    249.2,  16.9010,  35.0989,2,  35.1069,2,    211.0,2,    210.9,2,     1.02,2,     1.68,2,     0.00,2,     0.33,2,    2.680,2,    1.308,2, -999.000,9, -999.000,9, -999.000,9,-999.0000,9,  -999.00,9,   -999.0,9,   -999.0,9,   2054.4,2,   -999.0,9,   -999.0,5,     7.97,2, -999.00,  -999.0,-999.0000,-999.000,   25.00,  -999.0, 16.8600,-999.000
    31DSCG94_2,  P18S,    87,  1,    127,   1008,2,19940323,0731,-26.0000,-103.0000, 3464,    301.1,  14.6527,  34.8222,2,  34.8244,2,    203.3,2,    203.4,2,     1.59,2,     5.69,2,     0.00,2,     0.61,2,    2.329,2,    1.192,2, -999.000,9, -999.000,9, -999.000,9,-999.0000,9,  -999.00,9,   -999.0,9,   -999.0,9,   2070.4,2,    469.8,2,   -999.0,5,     7.91,2,   20.00,  -999.0,-999.0000,-999.000,   25.00,  -999.0, 14.6077,-999.000
    31DSCG94_2,  P18S,    87,  1,    126,   1007,2,19940323,0731,-26.0000,-103.0000, 3464,    401.6,   9.7262,  34.4306,2,  34.4302,2,    173.2,2,    167.9,2,     7.85,2,    19.90,2,     0.00,2,     1.65,2,    1.496,2,    0.756,2, -999.000,9, -999.000,9, -999.000,9,-999.0000,9,  -999.00,9,   -999.0,9,   -999.0,9,   2145.3,2,    806.5,2,   -999.0,5,     7.70,2,   20.00,  -999.0,-999.0000,-999.000,   25.00,  -999.0,  9.6802,-999.000
    31DSCG94_2,  P18S,    87,  1,    125,   1203,2,19940323,0731,-26.0000,-103.0000, 3464,    451.5,   8.1041,  34.3625,2,  34.3621,2,    175.7,2,    175.1,2,     9.48,2,    24.13,2,     0.00,2,     1.85,2,    1.365,2,    0.679,6, -999.000,9, -999.000,9, -999.000,9,-999.0000,9,  -999.00,9,   -999.0,9,   -999.0,9,   2159.5,2,   -999.0,9,   -999.0,5,     7.66,2, -999.00,  -999.0,-999.0000,-999.000,   25.00,  -999.0,  8.0577,-999.000
    31DSCG94_2,  P18S,    87,  1,    123,   1220,2,19940323,0731,-26.0000,-103.0000, 3464,    499.0,   7.0886,  34.3460,2,  34.3444,2,    192.9,2,    187.3,2,    11.09,2,    25.98,2,     0.00,2,     1.93,2,    1.145,2,    0.581,2, -999.000,9, -999.000,9, -999.000,9,-999.0000,9,  -999.00,9,   -999.0,9,   -999.0,9,   2164.4,2,   -999.0,9,   -999.0,5,     7.65,2, -999.00,  -999.0,-999.0000,-999.000,   25.00,  -999.0,  7.0410,-999.000
    31DSCG94_2,  P18S,    87,  1,    122,   1245,2,19940323,0731,-26.0000,-103.0000, 3464,    550.3,   6.5245,  34.3304,2,  34.3302,2,    196.7,2,    200.7,2,    11.65,2,    26.72,2,     0.00,2,     1.91,2,    1.064,2,    0.544,2, -999.000,9, -999.000,9, -999.000,9,-999.0000,9,  -999.00,9,   -999.0,9,   -999.0,9,   2161.6,2,   -999.0,9,   -999.0,5,     7.66,2, -999.00,  -999.0,-999.0000,-999.000,   25.00,  -999.0,  6.4742,-999.000
    31DSCG94_2,  P18S,    87,  1,    121,   1206,2,19940323,0731,-26.0000,-103.0000, 3464,    599.5,   6.0878,  34.3134,2,  34.3142,2,    208.3,2,    214.9,2,    12.16,2,    26.86,2,     0.00,2,     1.93,2,    0.979,2,    0.501,2, -999.000,9, -999.000,9, -999.000,9,-999.0000,9,  -999.00,9,   -999.0,9,   -999.0,9,   2158.1,2,    846.3,2,   -999.0,5,     7.68,2,   20.00,  -999.0,-999.0000,-999.000,   25.00,  -999.0,  6.0348,-999.000
    31DSCG94_2,  P18S,    87,  1,    120,   1028,2,19940323,0731,-26.0000,-103.0000, 3464,    698.6,   5.5011,  34.2887,2,  34.2872,2,    218.6,2,    219.5,2,    14.63,2,    27.82,2,     0.00,2,     2.01,2,    0.656,2,    0.361,2, -999.000,9, -999.000,9, -999.000,9,-999.0000,9,  -999.00,9,   -999.0,9,   -999.0,9,   2160.0,2,   -999.0,9,   -999.0,5,     7.68,2, -999.00,  -999.0,-999.0000,-999.000,   25.00,  -999.0,  5.4420,-999.000
    31DSCG94_2,  P18S,    87,  1,    119,   1248,2,19940323,0731,-26.0000,-103.0000, 3464,    799.9,   4.9447,  34.2967,2,  34.2962,2,    193.9,2,    197.1,6,    22.92,2,    30.98,2,     0.00,2,     2.19,2,    0.280,6,    0.164,6, -999.000,9, -999.000,9, -999.000,9,-999.0000,9,  -999.00,9,   -999.0,9,   -999.0,9,   2182.9,2,    976.8,2,   -999.0,5,  -999.00,9,   20.00,  -999.0,-999.0000,-999.000, -999.00,  -999.0,  4.8798,-999.000
    31DSCG94_2,  P18S,    87,  1,    118,   1207,2,19940323,0731,-26.0000,-103.0000, 3464,    900.2,   4.5189,  34.3453,2,  34.3446,2,    160.7,2,    162.6,2,    36.73,2,    34.73,2,     0.00,2,     2.48,2,    0.061,2,    0.047,2, -999.000,9, -999.000,9, -999.000,9,-999.0000,9,  -999.00,9,   -999.0,9,   -999.0,9,   2213.5,2,   -999.0,9,   -999.0,5,  -999.00,9, -999.00,  -999.0,-999.0000,-999.000, -999.00,  -999.0,  4.4481,-999.000
    31DSCG94_2,  P18S,    87,  1,    117,   1119,2,19940323,0731,-26.0000,-103.0000, 3464,    998.4,   4.1286,  34.3942,2,  34.3940,2,    146.7,2,    143.8,2,    50.53,2,    36.37,2,     0.00,2,     2.61,2,    0.017,2,    0.015,2, -999.000,9, -999.000,9, -999.000,9,-999.0000,9,  -999.00,9,   -999.0,9,   -999.0,9,   2240.5,2,   1238.0,6,   -999.0,5,  -999.00,9,   20.00,  -999.0,-999.0000,-999.000, -999.00,  -999.0,  4.0523,-999.000
    31DSCG94_2,  P18S,    87,  1,    116,   1036,2,19940323,0731,-26.0000,-103.0000, 3464,   1102.4,   3.8705,  34.4488,2,  34.4477,2,    131.7,2,    129.4,2,    62.98,2,    37.72,2,     0.00,2,     2.74,2,    0.000,2,    0.003,2, -999.000,9, -999.000,9, -999.000,9,-999.0000,9,  -999.00,9,   -999.0,9,   -999.0,9,   -999.0,9,   -999.0,9,   -999.0,9,  -999.00,9, -999.00,  -999.0,-999.0000,-999.000, -999.00,  -999.0,  3.7874,-999.000
    31DSCG94_2,  P18S,    87,  1,    115,   1017,2,19940323,0731,-26.0000,-103.0000, 3464,   1200.2,   3.5231,  34.4870,2,  34.4852,2,    129.5,2,    129.5,2,    72.36,2,    37.83,2,     0.00,2,     2.75,2,   -0.001,2,    0.002,2, -999.000,9, -999.000,9, -999.000,9,-999.0000,9,  -999.00,9,   -999.0,9,   -999.0,9,   -999.0,9,   -999.0,9,   -999.0,9,  -999.00,9, -999.00,  -999.0,-999.0000,-999.000, -999.00,  -999.0,  3.4349,-999.000
    31DSCG94_2,  P18S,    87,  1,    114,   1016,2,19940323,0731,-26.0000,-103.0000, 3464,   1300.6,   3.2109,  34.5193,2,  34.5185,2,    133.5,2,    134.4,2,    80.71,2,    37.40,2,     0.00,2,     2.68,2,    0.002,2,    0.000,2, -999.000,9, -999.000,9, -999.000,9,-999.0000,9,  -999.00,9,   -999.0,9,   -999.0,9,   -999.0,9,   -999.0,9,   -999.0,9,  -999.00,9, -999.00,  -999.0,-999.0000,-999.000, -999.00,  -999.0,  3.1174,-999.000
    31DSCG94_2,  P18S,    87,  1,    113,   1209,2,19940323,0731,-26.0000,-103.0000, 3464,   1400.9,   2.9208,  34.5444,2,  34.5422,2,    139.2,2,    140.3,2,    87.64,2,    36.68,2,     0.00,2,     2.62,2,   -0.004,2,   -0.002,2, -999.000,9, -999.000,9, -999.000,9,-999.0000,9,  -999.00,9,   -999.0,9,   -999.0,9,   -999.0,9,   -999.0,9,   -999.0,9,  -999.00,9, -999.00,  -999.0,-999.0000,-999.000, -999.00,  -999.0,  2.8221,-999.000
    31DSCG94_2,  P18S,    87,  1,    112,   1033,2,19940323,0731,-26.0000,-103.0000, 3464,   1500.7,   2.6544,  34.5679,2,  34.5665,2,    144.1,2,    146.3,2,    93.57,2,    36.32,2,     0.00,2,     2.57,2, -999.000,9, -999.000,9, -999.000,9, -999.000,9, -999.000,9,-999.0000,9,  -999.00,9,   -999.0,9,   -999.0,9,   -999.0,9,   -999.0,9,   -999.0,9,  -999.00,9, -999.00,  -999.0,-999.0000,-999.000, -999.00,  -999.0,  2.5504,-999.000
    31DSCG94_2,  P18S,    87,  1,    111,   1240,2,19940323,0731,-26.0000,-103.0000, 3464,   1601.2,   2.4876,  34.5859,2,  34.5847,2,    148.0,2,    149.0,2,    97.88,2,    36.25,2,     0.00,2,     2.62,2,    0.015,4,    0.001,2, -999.000,9, -999.000,9, -999.000,9,-999.0000,9,  -999.00,9,   -999.0,9,   -999.0,9,   -999.0,9,   -999.0,9,   -999.0,9,  -999.00,9, -999.00,  -999.0,-999.0000,-999.000, -999.00,  -999.0,  2.3775,-999.000
    31DSCG94_2,  P18S,    87,  1,    110,   1005,2,19940323,0731,-26.0000,-103.0000, 3464,   1698.5,   2.3142,  34.6056,2,  34.6045,2,    150.9,2,    151.6,2,   102.69,2,    35.91,2,     0.00,2,     2.61,2, -999.000,9, -999.000,9, -999.000,9, -999.000,9, -999.000,9,-999.0000,9,  -999.00,9,   -999.0,9,   -999.0,9,   -999.0,9,   -999.0,9,   -999.0,9,  -999.00,9, -999.00,  -999.0,-999.0000,-999.000, -999.00,  -999.0,  2.1983,-999.000
    31DSCG94_2,  P18S,    87,  1,    109,   1611,2,19940323,0731,-26.0000,-103.0000, 3464,   1799.3,   2.1959,  34.6204,2,  34.6206,2,    153.0,2,    152.3,2,   107.76,2,    35.77,2,     0.00,2,     2.57,2,   -0.002,2,    0.000,2, -999.000,9, -999.000,9, -999.000,9,-999.0000,9,  -999.00,9,   -999.0,9,   -999.0,9,   -999.0,9,   -999.0,9,   -999.0,9,  -999.00,9, -999.00,  -999.0,-999.0000,-999.000, -999.00,  -999.0,  2.0733,-999.000
    31DSCG94_2,  P18S,    87,  1,    108,   1218,2,19940323,0731,-26.0000,-103.0000, 3464,   2001.4,   2.0428,  34.6392,2,  34.6394,2,    155.5,2,    154.1,2,   114.36,2,    35.59,2,     0.00,2,     2.53,2, -999.000,9, -999.000,9, -999.000,9, -999.000,9, -999.000,9,-999.0000,9,  -999.00,9,   -999.0,9,   -999.0,9,   -999.0,9,   1168.0,2,   -999.0,9,  -999.00,9,   20.00,  -999.0,-999.0000,-999.000, -999.00,  -999.0,  1.9056,-999.000
    31DSCG94_2,  P18S,    87,  1,    107,   1257,2,19940323,0731,-26.0000,-103.0000, 3464,   2248.3,   1.9332,  34.6544,2,  34.6539,2,    157.3,2,    156.0,2,   118.62,2,    35.42,2,     0.00,2,     2.40,4,   -0.003,2,   -0.003,2, -999.000,9, -999.000,9, -999.000,9,-999.0000,9,  -999.00,9,   -999.0,9,   -999.0,9,   -999.0,9,   -999.0,9,   -999.0,9,  -999.00,9, -999.00,  -999.0,-999.0000,-999.000, -999.00,  -999.0,  1.7765,-999.000
    31DSCG94_2,  P18S,    87,  1,    106,   1224,2,19940323,0731,-26.0000,-103.0000, 3464,   2498.8,   1.8802,  34.6635,2,  34.6616,2,    157.7,2,    156.7,2,   119.97,2,    35.50,2,     0.00,2,     2.56,2, -999.000,9, -999.000,9, -999.000,9, -999.000,9, -999.000,9,-999.0000,9,  -999.00,9,   -999.0,9,   -999.0,9,   -999.0,9,   -999.0,9,   -999.0,9,  -999.00,9, -999.00,  -999.0,-999.0000,-999.000, -999.00,  -999.0,  1.7022,-999.000
    31DSCG94_2,  P18S,    87,  1,    105,   1246,2,19940323,0731,-26.0000,-103.0000, 3464,   2748.7,   1.8576,  34.6693,2,  34.6684,2,    155.9,2,    156.5,6,   121.57,2,    35.54,2,     0.00,2,     2.55,2,   -0.007,2,   -0.004,2, -999.000,9, -999.000,9, -999.000,9,-999.0000,9,  -999.00,9,   -999.0,9,   -999.0,9,   -999.0,9,   -999.0,9,   -999.0,9,  -999.00,9, -999.00,  -999.0,-999.0000,-999.000, -999.00,  -999.0,  1.6569,-999.000
    31DSCG94_2,  P18S,    87,  1,    104,   1217,2,19940323,0731,-26.0000,-103.0000, 3464,   2998.8,   1.8450,  34.6745,2,  34.6731,2,    153.6,2,    154.8,2,   124.46,2,    35.57,2,     0.00,2,     2.53,2, -999.000,9, -999.000,9, -999.000,9, -999.000,9, -999.000,9,-999.0000,9,  -999.00,9,   -999.0,9,   -999.0,9,   -999.0,9,   1152.9,2,   -999.0,9,  -999.00,9,   20.00,  -999.0,-999.0000,-999.000, -999.00,  -999.0,  1.6207,-999.000
    31DSCG94_2,  P18S,    87,  1,    102,   1223,2,19940323,0731,-26.0000,-103.0000, 3464,   3248.4,   1.8349,  34.6792,2,  34.6797,2,    151.6,2,    152.8,2,   127.61,2,    35.72,2,     0.00,2,     2.52,2, -999.000,9, -999.000,9, -999.000,9, -999.000,9, -999.000,9,-999.0000,9,  -999.00,9,   -999.0,9,   -999.0,9,   -999.0,9,   -999.0,9,   -999.0,9,  -999.00,9, -999.00,  -999.0,-999.0000,-999.000, -999.00,  -999.0,  1.5860,-999.000
    31DSCG94_2,  P18S,    87,  1,    103,   9999,2,19940323,0731,-26.0000,-103.0000, 3464,   3249.5,   1.8349,  34.6790,2,  34.6785,2,    151.7,2,    152.7,2,   128.24,2,    35.56,2,     0.00,2,     2.52,2,   -0.004,2,   -0.002,2, -999.000,9, -999.000,9, -999.000,9,-999.0000,9,  -999.00,9,   -999.0,9,   -999.0,9,   -999.0,9,   -999.0,9,   -999.0,9,  -999.00,9, -999.00,  -999.0,-999.0000,-999.000, -999.00,  -999.0,  1.5859,-999.000
    31DSCG94_2,  P18S,    87,  1,    101,   1041,2,19940323,0731,-26.0000,-103.0000, 3464,   3483.6,   1.8379,  34.6821,2,  34.6812,2,    149.5,2,    151.5,2,   128.35,2,    35.83,2,     0.00,2,     2.57,2,   -0.001,2,    0.000,2, -999.000,9, -999.000,9, -999.000,9,-999.0000,9,  -999.00,9,   -999.0,9,   -999.0,9,   -999.0,9,   1157.2,2,   -999.0,9,  -999.00,9,   20.00,  -999.0,-999.0000,-999.000, -999.00,  -999.0,  1.5649,-999.000