BOTTLE,20220630CCHSIOAMB
EXPOCODE,SECT_ID,STNNBR,CASTNO,SAMPNO,BTLNBR,BTLNBR_FLAG_W,DATE,TIME,LATITUDE,LONGITUDE,DEPTH,CTDPRS,CTDTMP,CTDSAL,CTDSAL_FLAG_W,SALNTY,SALNTY_FLAG_W,CTDOXY,CTDOXY_FLAG_W,OXYGEN,OXYGEN_FLAG_W,SILCAT,SILCAT_FLAG_W,NITRAT,NITRAT_FLAG_W,NITRIT,NITRIT_FLAG_W,PHSPHT,PHSPHT_FLAG_W,CFC-11,CFC-11_FLAG_W,CFC-12,CFC-12_FLAG_W,CFC113,CFC113_FLAG_W,CCL4,CCL4_FLAG_W,TRITUM,TRITUM_FLAG_W,HELIUM,HELIUM_FLAG_W,DELHE3,DELHE3_FLAG_W,DELC14,DELC14_FLAG_W,DELC13,DELC13_FLAG_W,TCARBN,TCARBN_FLAG_W,PCO2,PCO2_FLAG_W,ALKALI,ALKALI_FLAG_W,PH,PH_FLAG_W,PCO2TMP,C14ERR,HELIER,DELHER,PH_TMP,C13ERR,THETA,TRITER
,,,,,,,,,,,,DBAR,ITS-90,PSS-78,,PSS-78,,UMOL/KG,,UMOL/KG,,UMOL/KG,,UMOL/KG,,UMOL/KG,,UMOL/KG,,PMOL/KG,,PMOL/KG,,PMOL/KG,,PMOL/KG,,TU,,NMOL/KG,,PERCNT,,/MILLE,,/MILLE,,UMOL/KG,,UATM,,UMOL/KG,,,,DEG C,/MILLE,NMOL/KG,PERCNT,DEG C,/MILLE,DEG C,TU
    31DSCG94_2,  P18S,    43,  1,    136,   1025,2,19940311,1330,-47.9972,-103.0075, 4093,     11.3,  10.5649,  34.1240,2,  34.1245,2,    274.8,2,    273.6,2,     0.70,2,    13.41,2,     0.20,2,     1.08,2, -999.000,9, -999.000,9, -999.000,9, -999.000,9, -999.000,9,-999.0000,9,  -999.00,9,   -999.0,9,      1.9,2,   2071.6,2,    525.4,2,   -999.0,5,     7.87,2,   20.00,  -999.0,-999.0000,-999.000,   25.00,  -999.0, 10.5635,-999.000
    31DSCG94_2,  P18S,    43,  1,    135,   1247,2,19940311,1330,-47.9972,-103.0075, 4093,     24.9,  10.5651,  34.1240,2,  34.1235,2,    274.6,2,    271.8,2,     0.61,2,    13.41,2,     0.19,2,     1.09,2, -999.000,9, -999.000,9, -999.000,9, -999.000,9, -999.000,9,-999.0000,9,  -999.00,9,   -999.0,9,   -999.0,9,   -999.0,9,    524.9,2,   -999.0,9,     7.87,2,   20.00,  -999.0,-999.0000,-999.000,   25.00,  -999.0, 10.5621,-999.000
    31DSCG94_2,  P18S,    43,  1,    134,   1108,2,19940311,1330,-47.9972,-103.0075, 4093,     49.8,  10.5081,  34.1233,2,  34.1239,2,    273.9,2,    271.4,2,     0.50,2,    13.28,2,     0.20,2,     1.06,2, -999.000,9, -999.000,9, -999.000,9, -999.000,9, -999.000,9,-999.0000,9,  -999.00,9,   -999.0,9,   -999.0,9,   -999.0,9,    527.4,6,   -999.0,9,     7.87,2,   20.00,  -999.0,-999.0000,-999.000,   25.00,  -999.0, 10.5022,-999.000
    31DSCG94_2,  P18S,    43,  1,    133,   1244,2,19940311,1330,-47.9972,-103.0075, 4093,     74.5,   8.1856,  34.1943,2,  34.1924,2,    273.9,2,    288.0,2,     1.58,2,    14.55,2,     0.14,2,     1.15,2, -999.000,9, -999.000,9, -999.000,9, -999.000,9, -999.000,9,-999.0000,9,  -999.00,9,   -999.0,9,   -999.0,9,   -999.0,9,   -999.0,9,   -999.0,9,     7.84,2, -999.00,  -999.0,-999.0000,-999.000,   25.00,  -999.0,  8.1781,-999.000
    31DSCG94_2,  P18S,    43,  1,    132,   1003,2,19940311,1330,-47.9972,-103.0075, 4093,    100.2,   7.5006,  34.2036,2,  34.2046,2,    285.3,2,    289.8,2,     2.25,2,    15.16,2,     0.17,2,     1.21,2, -999.000,9, -999.000,9, -999.000,9, -999.000,9, -999.000,9,-999.0000,9,  -999.00,9,   -999.0,9,   -999.0,9,   -999.0,9,    593.4,2,   -999.0,9,     7.82,2,   20.00,  -999.0,-999.0000,-999.000,   25.00,  -999.0,  7.4910,-999.000
    31DSCG94_2,  P18S,    43,  1,    131,   1211,2,19940311,1330,-47.9972,-103.0075, 4093,    124.9,   7.0044,  34.2178,2,  34.2176,2,    284.5,2,    286.3,2,     2.92,2,    16.02,2,     0.31,2,     1.28,2, -999.000,9, -999.000,9, -999.000,9, -999.000,9, -999.000,9,-999.0000,9,  -999.00,9,   -999.0,9,   -999.0,9,   -999.0,9,   -999.0,9,   -999.0,9,  -999.00,9, -999.00,  -999.0,-999.0000,-999.000, -999.00,  -999.0,  6.9929,-999.000
    31DSCG94_2,  P18S,    43,  1,    130,   1241,2,19940311,1330,-47.9972,-103.0075, 4093,    149.6,   6.6485,  34.2524,2,  34.2530,2,    285.1,2,    284.0,2,     3.31,2,    17.15,2,     0.15,2,     1.29,2, -999.000,9, -999.000,9, -999.000,9, -999.000,9, -999.000,9,-999.0000,9,  -999.00,9,   -999.0,9,   -999.0,9,   -999.0,9,   -999.0,9,   -999.0,9,  -999.00,9, -999.00,  -999.0,-999.0000,-999.000, -999.00,  -999.0,  6.6351,-999.000
    31DSCG94_2,  P18S,    43,  1,    129,   1031,2,19940311,1330,-47.9972,-103.0075, 4093,    200.5,   6.4410,  34.2670,2,  34.2672,2,    285.9,2,    283.8,2,     3.64,2,    17.53,2,     0.00,2,     1.26,2, -999.000,9, -999.000,9, -999.000,9, -999.000,9, -999.000,9,-999.0000,9,  -999.00,9,   -999.0,9,   -999.0,9,   -999.0,9,    632.5,2,   -999.0,9,  -999.00,9,   20.00,  -999.0,-999.0000,-999.000, -999.00,  -999.0,  6.4233,-999.000
    31DSCG94_2,  P18S,    43,  1,    128,   1210,2,19940311,1330,-47.9972,-103.0075, 4093,    250.7,   6.4574,  34.2824,2,  34.2824,2,    286.0,2,    283.4,2,     3.83,2,    17.73,2,     0.00,2,     1.30,2, -999.000,9, -999.000,9, -999.000,9, -999.000,9, -999.000,9,-999.0000,9,  -999.00,9,   -999.0,9,   -999.0,9,   -999.0,9,   -999.0,9,   -999.0,9,  -999.00,9, -999.00,  -999.0,-999.0000,-999.000, -999.00,  -999.0,  6.4351,-999.000
    31DSCG94_2,  P18S,    43,  1,    127,   1008,2,19940311,1330,-47.9972,-103.0075, 4093,    300.6,   6.4689,  34.2921,2,  34.2926,2,    285.2,2,    284.7,2,     3.83,2,    17.68,2,     0.00,2,     1.33,2, -999.000,9, -999.000,9, -999.000,9, -999.000,9, -999.000,9,-999.0000,9,  -999.00,9,   -999.0,9,   -999.0,9,   -999.0,9,   -999.0,9,   -999.0,9,  -999.00,9, -999.00,  -999.0,-999.0000,-999.000, -999.00,  -999.0,  6.4421,-999.000
    31DSCG94_2,  P18S,    43,  1,    126,   1007,2,19940311,1330,-47.9972,-103.0075, 4093,    351.5,   6.4840,  34.3003,2,  34.3005,2,    284.3,2,    285.1,2,     3.78,2,    17.63,2,     0.00,2,     1.32,2, -999.000,9, -999.000,9, -999.000,9, -999.000,9, -999.000,9,-999.0000,9,  -999.00,9,   -999.0,9,   -999.0,9,   -999.0,9,    663.7,2,   -999.0,9,  -999.00,9,   20.00,  -999.0,-999.0000,-999.000, -999.00,  -999.0,  6.4525,-999.000
    31DSCG94_2,  P18S,    43,  1,    125,   1203,2,19940311,1330,-47.9972,-103.0075, 4093,    399.4,   6.4769,  34.3033,2,  34.3033,2,    282.8,2,    283.0,2,     4.24,2,    17.92,2,     0.00,2,     1.31,2, -999.000,9, -999.000,9, -999.000,9, -999.000,9, -999.000,9,-999.0000,9,  -999.00,9,   -999.0,9,   -999.0,9,   -999.0,9,   -999.0,9,   -999.0,9,  -999.00,9, -999.00,  -999.0,-999.0000,-999.000, -999.00,  -999.0,  6.4410,-999.000
    31DSCG94_2,  P18S,    43,  1,    123,   1101,2,19940311,1330,-47.9972,-103.0075, 4093,    499.3,   6.3286,  34.2994,2,  34.2998,2,    274.4,2,    276.1,2,     5.88,2,    19.60,2,     0.00,2,     1.45,2, -999.000,9, -999.000,9, -999.000,9, -999.000,9, -999.000,9,-999.0000,9,  -999.00,9,   -999.0,9,   -999.0,9,   -999.0,9,   -999.0,9,   -999.0,9,  -999.00,9, -999.00,  -999.0,-999.0000,-999.000, -999.00,  -999.0,  6.2839,-999.000
    31DSCG94_2,  P18S,    43,  1,    121,   1206,2,19940311,1330,-47.9972,-103.0075, 4093,    600.8,   6.0537,  34.2906,2,  34.2904,2,    266.9,2,    266.1,2,     7.82,2,    21.69,2,     0.00,2,     1.58,2, -999.000,9, -999.000,9, -999.000,9, -999.000,9, -999.000,9,-999.0000,9,  -999.00,9,   -999.0,9,   -999.0,9,   -999.0,9,    751.8,2,   -999.0,9,  -999.00,9,   20.00,  -999.0,-999.0000,-999.000, -999.00,  -999.0,  6.0008,-999.000
    31DSCG94_2,  P18S,    43,  1,    119,   1248,2,19940311,1330,-47.9972,-103.0075, 4093,    699.4,   5.6726,  34.2727,2,  34.2726,2,    259.1,2,    261.2,2,     9.86,2,    23.17,2,     0.00,2,     1.63,2, -999.000,9, -999.000,9, -999.000,9, -999.000,9, -999.000,9,-999.0000,9,  -999.00,9,   -999.0,9,   -999.0,9,   -999.0,9,   -999.0,9,   -999.0,9,  -999.00,9, -999.00,  -999.0,-999.0000,-999.000, -999.00,  -999.0,  5.6125,-999.000
    31DSCG94_2,  P18S,    43,  1,    118,   1207,2,19940311,1330,-47.9972,-103.0075, 4093,    795.6,   5.2046,  34.2608,2,  34.2612,2,    247.9,2,    248.1,2,    14.23,2,    25.24,2,     0.00,2,     1.78,2, -999.000,9, -999.000,9, -999.000,9, -999.000,9, -999.000,9,-999.0000,9,  -999.00,9,   -999.0,9,   -999.0,9,   -999.0,9,   -999.0,9,   -999.0,9,  -999.00,9, -999.00,  -999.0,-999.0000,-999.000, -999.00,  -999.0,  5.1385,-999.000
    31DSCG94_2,  P18S,    43,  1,    117,   1119,2,19940311,1330,-47.9972,-103.0075, 4093,    898.9,   4.7037,  34.2682,2,  34.2708,2,    231.8,2,    230.7,2,    21.38,2,    27.83,2,     0.00,2,     2.00,2, -999.000,9, -999.000,9, -999.000,9, -999.000,9, -999.000,9,-999.0000,9,  -999.00,9,   -999.0,9,   -999.0,9,   -999.0,9,    886.3,2,   -999.0,9,  -999.00,9,   20.00,  -999.0,-999.0000,-999.000, -999.00,  -999.0,  4.6318,-999.000
    31DSCG94_2,  P18S,    43,  1,    116,   1036,2,19940311,1330,-47.9972,-103.0075, 4093,   1000.4,   4.2702,  34.2832,2,  34.2844,2,    218.7,2,    218.1,2,    27.02,2,    29.70,2,     0.00,2,     2.11,2, -999.000,9, -999.000,9, -999.000,9, -999.000,9, -999.000,9,-999.0000,9,  -999.00,9,   -999.0,9,   -999.0,9,   -999.0,9,    936.0,2,   -999.0,9,  -999.00,9,   20.00,  -999.0,-999.0000,-999.000, -999.00,  -999.0,  4.1928,-999.000
    31DSCG94_2,  P18S,    43,  1,    115,   1017,2,19940311,1330,-47.9972,-103.0075, 4093,   1199.5,   3.3670,  34.3587,2,  34.3583,2,    196.1,2,    191.0,2,    44.69,2,    32.87,2,     0.00,2,     2.34,2, -999.000,9, -999.000,9, -999.000,9, -999.000,9, -999.000,9,-999.0000,9,  -999.00,9,   -999.0,9,   -999.0,9,   -999.0,9,   -999.0,9,   -999.0,9,  -999.00,9, -999.00,  -999.0,-999.0000,-999.000, -999.00,  -999.0,  3.2806,-999.000
    31DSCG94_2,  P18S,    43,  1,    114,   1016,2,19940311,1330,-47.9972,-103.0075, 4093,   1401.2,   2.9495,  34.4475,2,  34.4466,2,    174.3,2,    162.8,2,    60.78,2,    34.51,2,     0.00,2,     2.47,2, -999.000,9, -999.000,9, -999.000,9, -999.000,9, -999.000,9,-999.0000,9,  -999.00,9,   -999.0,9,   -999.0,9,   -999.0,9,   -999.0,9,   -999.0,9,  -999.00,9, -999.00,  -999.0,-999.0000,-999.000, -999.00,  -999.0,  2.8507,-999.000
    31DSCG94_2,  P18S,    43,  1,    113,   1118,2,19940311,1330,-47.9972,-103.0075, 4093,   1599.1,   2.6925,  34.5305,2,  34.5282,2,    161.3,2,    158.4,2,    75.45,2,    35.09,2,     0.00,2,     2.48,2, -999.000,9, -999.000,9, -999.000,9, -999.000,9, -999.000,9,-999.0000,9,  -999.00,9,   -999.0,9,   -999.0,9,   -999.0,9,   -999.0,9,   -999.0,9,  -999.00,9, -999.00,  -999.0,-999.0000,-999.000, -999.00,  -999.0,  2.5801,-999.000
    31DSCG94_2,  P18S,    43,  1,    112,   1033,2,19940311,1330,-47.9972,-103.0075, 4093,   1799.2,   2.4702,  34.5905,2,  34.5894,2,    160.3,2,    159.6,2,    84.63,2,    34.59,2,     0.00,2,     2.51,2, -999.000,9, -999.000,9, -999.000,9, -999.000,9, -999.000,9,-999.0000,9,  -999.00,9,   -999.0,9,   -999.0,9,   -999.0,9,   -999.0,9,   -999.0,9,  -999.00,9, -999.00,  -999.0,-999.0000,-999.000, -999.00,  -999.0,  2.3439,-999.000
    31DSCG94_2,  P18S,    43,  1,    111,   1263,2,19940311,1330,-47.9972,-103.0075, 4093,   1998.9,   2.2791,  34.6378,2,  34.6370,2,    161.3,2,    161.8,2,    90.61,2,    34.22,2,     0.00,2,     2.45,2, -999.000,9, -999.000,9, -999.000,9, -999.000,9, -999.000,9,-999.0000,9,  -999.00,9,   -999.0,9,   -999.0,9,   -999.0,9,   -999.0,9,   -999.0,9,  -999.00,9, -999.00,  -999.0,-999.0000,-999.000, -999.00,  -999.0,  2.1384,-999.000
    31DSCG94_2,  P18S,    43,  1,    110,   1005,2,19940311,1330,-47.9972,-103.0075, 4093,   2250.3,   2.1163,  34.6718,2,  34.6706,2,    164.5,2,    165.7,2,    95.19,2,    33.43,2,     0.00,2,     2.41,2, -999.000,9, -999.000,9, -999.000,9, -999.000,9, -999.000,9,-999.0000,9,  -999.00,9,   -999.0,9,   -999.0,9,   -999.0,9,   -999.0,9,   -999.0,9,  -999.00,9, -999.00,  -999.0,-999.0000,-999.000, -999.00,  -999.0,  1.9563,-999.000
    31DSCG94_2,  P18S,    43,  1,    109,   1611,2,19940311,1330,-47.9972,-103.0075, 4093,   2499.7,   1.9348,  34.6918,2,  34.6909,2,    169.6,2,   -999.0,9,   102.81,2,    33.18,2,     0.00,2,     2.34,2,   -0.003,2,    0.002,2, -999.000,9, -999.000,9, -999.000,9,-999.0000,9,  -999.00,9,   -999.0,9,   -999.0,9,   -999.0,9,   -999.0,9,   -999.0,9,  -999.00,9, -999.00,  -999.0,-999.0000,-999.000, -999.00,  -999.0,  1.7556,-999.000
    31DSCG94_2,  P18S,    43,  1,    108,   1218,2,19940311,1330,-47.9972,-103.0075, 4093,   2749.6,   1.7803,  34.7014,2,  34.6997,2,    173.1,2,    173.1,2,   109.04,2,    32.87,2,     0.00,2,     2.35,2, -999.000,9, -999.000,9, -999.000,9, -999.000,9, -999.000,9,-999.0000,9,  -999.00,9,   -999.0,9,   -999.0,9,   -999.0,9,   -999.0,9,   -999.0,9,  -999.00,9, -999.00,  -999.0,-999.0000,-999.000, -999.00,  -999.0,  1.5810,-999.000
    31DSCG94_2,  P18S,    43,  1,    107,   1257,2,19940311,1330,-47.9972,-103.0075, 4093,   2999.6,   1.6800,  34.7050,2,  34.7031,2,    176.5,2,    175.7,2,   110.46,2,    32.90,2,     0.00,2,     2.36,2, -999.000,9, -999.000,9, -999.000,9, -999.000,9, -999.000,9,-999.0000,9,  -999.00,9,   -999.0,9,   -999.0,9,   -999.0,9,   -999.0,9,   -999.0,9,  -999.00,9, -999.00,  -999.0,-999.0000,-999.000, -999.00,  -999.0,  1.4591,-999.000
    31DSCG94_2,  P18S,    43,  1,    106,   1224,2,19940311,1330,-47.9972,-103.0075, 4093,   3249.0,   1.5754,  34.7099,2,  34.7079,2,    180.9,2,    181.5,2,   110.50,2,    32.82,2,     0.00,2,     2.29,2, -999.000,9, -999.000,9, -999.000,9, -999.000,9, -999.000,9,-999.0000,9,  -999.00,9,   -999.0,9,   -999.0,9,   -999.0,9,   -999.0,9,   -999.0,9,  -999.00,9, -999.00,  -999.0,-999.0000,-999.000, -999.00,  -999.0,  1.3325,-999.000
    31DSCG94_2,  P18S,    43,  1,    105,   1246,2,19940311,1330,-47.9972,-103.0075, 4093,   3500.7,   1.3958,  34.7121,2,  34.7110,2,    187.6,2,    188.7,2,   115.26,2,    32.42,2,     0.00,2,     2.32,2,   -0.004,2,    0.002,2, -999.000,9, -999.000,9, -999.000,9,-999.0000,9,  -999.00,9,   -999.0,9,   -999.0,9,   -999.0,9,   -999.0,9,   -999.0,9,  -999.00,9, -999.00,  -999.0,-999.0000,-999.000, -999.00,  -999.0,  1.1320,-999.000
    31DSCG94_2,  P18S,    43,  1,    103,   9999,2,19940311,1330,-47.9972,-103.0075, 4093,   3745.8,   1.0900,  34.7102,2,  34.7084,2,    194.6,2,    195.1,2,   124.43,2,    32.46,2,     0.00,2,     2.33,2,   -0.001,2,   -0.001,2, -999.000,9, -999.000,9, -999.000,9,-999.0000,9,  -999.00,9,   -999.0,9,   -999.0,9,   -999.0,9,   -999.0,9,   -999.0,9,  -999.00,9, -999.00,  -999.0,-999.0000,-999.000, -999.00,  -999.0,  0.8091,-999.000
    31DSCG94_2,  P18S,    43,  1,    104,   1028,2,19940311,1330,-47.9972,-103.0075, 4093,   3746.5,   1.0927,  34.7100,2,  34.7082,2,    194.6,2,    195.3,2,   125.13,2,    33.26,2,     0.00,2,     2.27,2, -999.000,9, -999.000,9, -999.000,9, -999.000,9, -999.000,9,-999.0000,9,  -999.00,9,   -999.0,9,   -999.0,9,   -999.0,9,   -999.0,9,   -999.0,9,  -999.00,9, -999.00,  -999.0,-999.0000,-999.000, -999.00,  -999.0,  0.8117,-999.000
    31DSCG94_2,  P18S,    43,  1,    102,   1223,2,19940311,1330,-47.9972,-103.0075, 4093,   4001.3,   0.8879,  34.7091,2,  34.7070,2,    200.9,2,    201.0,2,   126.16,2,    32.41,2,     0.00,2,     2.33,2, -999.000,9, -999.000,9, -999.000,9, -999.000,9, -999.000,9,-999.0000,9,  -999.00,9,   -999.0,9,   -999.0,9,   -999.0,9,   -999.0,9,   -999.0,9,  -999.00,9, -999.00,  -999.0,-999.0000,-999.000, -999.00,  -999.0,  0.5860,-999.000
    31DSCG94_2,  P18S,    43,  1,    101,   1041,2,19940311,1330,-47.9972,-103.0075, 4093,   4169.3,   0.7977,  34.7081,2,  34.7068,2,    204.1,2,    203.3,2,   129.21,2,    32.52,2,     0.00,2,     2.32,2,   -0.006,2,    0.000,2, -999.000,9, -999.000,9, -999.000,9,-999.0000,9,  -999.00,9,   -999.0,9,   -999.0,9,   -999.0,9,   -999.0,9,   -999.0,9,  -999.00,9, -999.00,  -999.0,-999.0000,-999.000, -999.00,  -999.0,  0.4806,-999.000