BOTTLE,20220630CCHSIOAMB
EXPOCODE,SECT_ID,STNNBR,CASTNO,SAMPNO,BTLNBR,BTLNBR_FLAG_W,DATE,TIME,LATITUDE,LONGITUDE,DEPTH,CTDPRS,CTDTMP,CTDSAL,CTDSAL_FLAG_W,SALNTY,SALNTY_FLAG_W,CTDOXY,CTDOXY_FLAG_W,OXYGEN,OXYGEN_FLAG_W,SILCAT,SILCAT_FLAG_W,NITRAT,NITRAT_FLAG_W,NITRIT,NITRIT_FLAG_W,PHSPHT,PHSPHT_FLAG_W,CFC-11,CFC-11_FLAG_W,CFC-12,CFC-12_FLAG_W,CFC113,CFC113_FLAG_W,CCL4,CCL4_FLAG_W,TRITUM,TRITUM_FLAG_W,HELIUM,HELIUM_FLAG_W,DELHE3,DELHE3_FLAG_W,DELC14,DELC14_FLAG_W,DELC13,DELC13_FLAG_W,TCARBN,TCARBN_FLAG_W,PCO2,PCO2_FLAG_W,ALKALI,ALKALI_FLAG_W,PH,PH_FLAG_W,PCO2TMP,C14ERR,HELIER,DELHER,PH_TMP,C13ERR,THETA,TRITER
,,,,,,,,,,,,DBAR,ITS-90,PSS-78,,PSS-78,,UMOL/KG,,UMOL/KG,,UMOL/KG,,UMOL/KG,,UMOL/KG,,UMOL/KG,,PMOL/KG,,PMOL/KG,,PMOL/KG,,PMOL/KG,,TU,,NMOL/KG,,PERCNT,,/MILLE,,/MILLE,,UMOL/KG,,UATM,,UMOL/KG,,,,DEG C,/MILLE,NMOL/KG,PERCNT,DEG C,/MILLE,DEG C,TU
    31DSCG94_2,  P18S,    51,  3,    324,    435,2,19940313,1739,-43.9853,-102.9973, 3930,      9.1,  13.1866,  34.0490,2,-999.0000,9,    260.2,2,    259.4,2,     0.64,2,    12.19,2,     0.21,2,     1.01,2,    3.294,2,    1.706,2, -999.000,9, -999.000,9, -999.000,9,-999.0000,9,  -999.00,9,   -999.0,9,   -999.0,9,   2055.8,2,   -999.0,9,   2266.0,2,  -999.00,9, -999.00,  -999.0,-999.0000,-999.000, -999.00,  -999.0, 13.1854,-999.000
    31DSCG94_2,  P18S,    51,  3,    323,    421,2,19940313,1739,-43.9853,-102.9973, 3930,     25.1,  13.1490,  34.0497,2,  34.0494,2,    261.0,2,    258.9,2,     0.63,2,    12.02,2,     0.21,2,     1.00,2,    3.304,2,    1.721,2, -999.000,9, -999.000,9, -999.000,9,-999.0000,9,  -999.00,9,   -999.0,9,   -999.0,9,   -999.0,9,   -999.0,9,   -999.0,9,     7.89,2, -999.00,  -999.0,-999.0000,-999.000,   25.00,  -999.0, 13.1456,-999.000
    31DSCG94_2,  P18S,    51,  3,    322,    418,2,19940313,1739,-43.9853,-102.9973, 3930,     50.4,  12.9829,  34.0641,2,  34.0636,2,    261.3,2,    261.6,2,     0.53,2,    11.94,2,     0.21,2,     0.99,2,    3.222,2,    1.677,2, -999.000,9, -999.000,9, -999.000,9,-999.0000,9,  -999.00,9,   -999.0,9,   -999.0,9,   -999.0,9,   -999.0,9,   -999.0,9,     7.89,2, -999.00,  -999.0,-999.0000,-999.000,   25.00,  -999.0, 12.9761,-999.000
    31DSCG94_2,  P18S,    51,  3,    321,    413,2,19940313,1739,-43.9853,-102.9973, 3930,     97.6,   9.4474,  34.1029,2,  34.1015,2,    279.1,2,    284.7,2,     1.10,2,    13.02,2,     0.12,2,     1.04,2,    4.095,2,    2.072,2, -999.000,9, -999.000,9, -999.000,9,-999.0000,9,  -999.00,9,   -999.0,9,   -999.0,9,   -999.0,9,   -999.0,9,   -999.0,9,     7.85,2, -999.00,  -999.0,-999.0000,-999.000,   25.00,  -999.0,  9.4367,-999.000
    31DSCG94_2,  P18S,    51,  3,    320,    405,2,19940313,1739,-43.9853,-102.9973, 3930,    147.8,   7.9054,  34.1368,2,  34.1386,2,    279.5,2,    281.8,2,     1.52,2,    14.73,2,     0.33,2,     1.19,2,    4.207,2,    2.089,2, -999.000,9, -999.000,9, -999.000,9,-999.0000,9,  -999.00,9,   -999.0,9,   -999.0,9,   -999.0,9,   -999.0,9,   -999.0,9,     7.83,2, -999.00,  -999.0,-999.0000,-999.000,   25.00,  -999.0,  7.8908,-999.000
    31DSCG94_2,  P18S,    51,  3,    319,    417,2,19940313,1739,-43.9853,-102.9973, 3930,    199.1,   7.1339,  34.2208,2,  34.2232,2,    273.7,2,    271.2,2,     2.93,2,    17.84,2,     0.08,2,     1.35,2,    4.082,2,    2.014,2, -999.000,9, -999.000,9, -999.000,9,-999.0000,9,  -999.00,9,   -999.0,9,   -999.0,9,   -999.0,9,   -999.0,9,   -999.0,9,     7.79,2, -999.00,  -999.0,-999.0000,-999.000,   25.00,  -999.0,  7.1153,-999.000
    31DSCG94_2,  P18S,    51,  3,    318,    429,2,19940313,1739,-43.9853,-102.9973, 3930,    303.6,   6.5170,  34.3011,2,  34.3016,2,    270.1,2,    267.0,2,     5.58,2,    20.31,2,     0.00,2,     1.48,2,    3.757,2,    1.823,2, -999.000,9, -999.000,9, -999.000,9,-999.0000,9,  -999.00,9,   -999.0,9,   -999.0,9,   -999.0,9,   -999.0,9,   -999.0,9,     7.76,2, -999.00,  -999.0,-999.0000,-999.000,   25.00,  -999.0,  6.4898,-999.000
    31DSCG94_2,  P18S,    51,  3,    317,    427,2,19940313,1739,-43.9853,-102.9973, 3930,    404.4,   6.2100,  34.3042,2,  34.3043,2,    266.7,2,    265.1,2,     6.94,2,    21.53,2,     0.00,2,     1.52,2,    3.242,2,    1.596,2, -999.000,9, -999.000,9, -999.000,9,-999.0000,9,  -999.00,9,   -999.0,9,   -999.0,9,   -999.0,9,   -999.0,9,   -999.0,9,     7.76,2, -999.00,  -999.0,-999.0000,-999.000,   25.00,  -999.0,  6.1744,-999.000
    31DSCG94_2,  P18S,    51,  3,    316,    410,2,19940313,1739,-43.9853,-102.9973, 3930,    501.1,   5.9885,  34.2958,2,  34.2920,2,    265.4,2,    266.2,2,     7.83,2,    21.86,2,     0.00,2,     1.57,2, -999.000,5, -999.000,5, -999.000,9, -999.000,9, -999.000,9,-999.0000,9,  -999.00,9,   -999.0,9,   -999.0,9,   -999.0,9,   -999.0,9,   -999.0,9,     7.75,2, -999.00,  -999.0,-999.0000,-999.000,   25.00,  -999.0,  5.9449,-999.000
    31DSCG94_2,  P18S,    51,  3,    315,    422,2,19940313,1739,-43.9853,-102.9973, 3930,    602.5,   5.6852,  34.2734,2,  34.2737,2,    263.6,2,    266.7,2,     8.93,2,    22.87,2,     0.00,2,     1.62,2,    3.115,2,    1.515,2, -999.000,9, -999.000,9, -999.000,9,-999.0000,9,  -999.00,9,   -999.0,9,   -999.0,9,   -999.0,9,   -999.0,9,   -999.0,9,     7.75,2, -999.00,  -999.0,-999.0000,-999.000,   25.00,  -999.0,  5.6338,-999.000
    31DSCG94_2,  P18S,    51,  3,    314,    407,2,19940313,1739,-43.9853,-102.9973, 3930,    702.0,   5.3749,  34.2622,2,  34.2623,2,    257.5,2,    257.9,2,    10.95,2,    24.42,2,     0.00,2,     1.75,2,    2.479,2,    1.219,2, -999.000,9, -999.000,9, -999.000,9,-999.0000,9,  -999.00,9,   -999.0,9,   -999.0,9,   -999.0,9,   -999.0,9,   -999.0,9,     7.73,2, -999.00,  -999.0,-999.0000,-999.000,   25.00,  -999.0,  5.3162,-999.000
    31DSCG94_2,  P18S,    51,  3,    313,    419,2,19940313,1739,-43.9853,-102.9973, 3930,    799.5,   4.9381,  34.2472,2,  34.2472,2,    246.9,2,    250.1,2,    14.78,2,    25.68,2,     0.00,2,     1.81,2,    2.418,2,    1.166,2, -999.000,9, -999.000,9, -999.000,9,-999.0000,9,  -999.00,9,   -999.0,9,   -999.0,9,   -999.0,9,   -999.0,9,   -999.0,9,     7.71,2, -999.00,  -999.0,-999.0000,-999.000,   25.00,  -999.0,  4.8734,-999.000
    31DSCG94_2,  P18S,    51,  3,    312,    426,2,19940313,1739,-43.9853,-102.9973, 3930,   1002.7,   4.1856,  34.2941,2,  34.2940,2,    216.4,2,    209.7,2,    30.03,2,    30.55,2,     0.00,2,     2.12,2,    0.730,2,    0.361,2, -999.000,9, -999.000,9, -999.000,9,-999.0000,9,  -999.00,9,   -999.0,9,   -999.0,9,   -999.0,9,   -999.0,9,   -999.0,9,     7.64,2, -999.00,  -999.0,-999.0000,-999.000,   25.00,  -999.0,  4.1086,-999.000
    31DSCG94_2,  P18S,    51,  3,    311,    424,2,19940313,1739,-43.9853,-102.9973, 3930,   1199.6,   3.4751,  34.3666,2,  34.3663,2,    186.3,2,    183.9,2,    47.35,2,    33.72,2,     0.00,2,     2.39,2,    0.203,2,    0.104,2, -999.000,9, -999.000,9, -999.000,9,-999.0000,9,  -999.00,9,   -999.0,9,   -999.0,9,   -999.0,9,   -999.0,9,   -999.0,9,     7.59,2, -999.00,  -999.0,-999.0000,-999.000,   25.00,  -999.0,  3.3876,-999.000
    31DSCG94_2,  P18S,    51,  3,    310,    409,2,19940313,1739,-43.9853,-102.9973, 3930,   1400.8,   3.0464,  34.4699,2,  34.4687,2,    158.5,2,    154.0,2,    68.56,2,    35.84,2,     0.00,2,     2.56,2,    0.037,2,    0.022,2, -999.000,9, -999.000,9, -999.000,9,-999.0000,9,  -999.00,9,   -999.0,9,   -999.0,9,   -999.0,9,   -999.0,9,   -999.0,9,     7.55,2, -999.00,  -999.0,-999.0000,-999.000,   25.00,  -999.0,  2.9465,-999.000
    31DSCG94_2,  P18S,    51,  3,    309,    423,2,19940313,1739,-43.9853,-102.9973, 3930,   1699.7,   2.5901,  34.5638,2,  34.5631,2,    150.3,2,    156.1,2,    84.02,2,    34.72,2,     0.00,2,     2.49,2,    0.021,2,    0.013,2, -999.000,9, -999.000,9, -999.000,9,-999.0000,9,  -999.00,9,   -999.0,9,   -999.0,9,   -999.0,9,   -999.0,9,   -999.0,9,     7.56,2, -999.00,  -999.0,-999.0000,-999.000,   25.00,  -999.0,  2.4706,-999.000
    31DSCG94_2,  P18S,    51,  3,    308,    414,2,19940313,1739,-43.9853,-102.9973, 3930,   2002.5,   2.3072,  34.6305,2,  34.6297,2,    161.5,2,    160.9,2,    94.60,2,    34.23,2,     0.00,2,     2.42,2, -999.000,5, -999.000,5, -999.000,9, -999.000,9, -999.000,9,-999.0000,9,  -999.00,9,   -999.0,9,   -999.0,9,   -999.0,9,   -999.0,9,   -999.0,9,     7.57,2, -999.00,  -999.0,-999.0000,-999.000,   25.00,  -999.0,  2.1659,-999.000
    31DSCG94_2,  P18S,    51,  3,    307,    437,2,19940313,1739,-43.9853,-102.9973, 3930,   2297.5,   2.0792,  34.6797,2,  34.6785,2,    168.8,2,    169.0,2,   100.05,2,    33.17,2,     0.00,2,     2.35,2,    0.006,2,    0.004,2, -999.000,9, -999.000,9, -999.000,9,-999.0000,9,  -999.00,9,   -999.0,9,   -999.0,9,   -999.0,9,   -999.0,9,   -999.0,9,     7.58,2, -999.00,  -999.0,-999.0000,-999.000,   25.00,  -999.0,  1.9156,-999.000
    31DSCG94_2,  P18S,    51,  3,    306,    416,2,19940313,1739,-43.9853,-102.9973, 3930,   2598.1,   1.8461,  34.6949,2,  34.6952,2,    171.4,2,    171.3,2,   108.60,2,    33.03,2,     0.00,2,     2.34,2,    0.000,2,    0.002,2, -999.000,9, -999.000,9, -999.000,9,-999.0000,9,  -999.00,9,   -999.0,9,   -999.0,9,   -999.0,9,   -999.0,9,   -999.0,9,     7.59,2, -999.00,  -999.0,-999.0000,-999.000,   25.00,  -999.0,  1.6595,-999.000
    31DSCG94_2,  P18S,    51,  3,    305,    420,2,19940313,1739,-43.9853,-102.9973, 3930,   2897.7,   1.7051,  34.7023,2,  34.7014,2,    175.6,2,    175.2,2,   112.56,2,    32.94,2,     0.00,2,     2.30,2,    0.010,2,   -0.002,2, -999.000,9, -999.000,9, -999.000,9,-999.0000,9,  -999.00,9,   -999.0,9,   -999.0,9,   -999.0,9,   -999.0,9,   -999.0,9,     7.60,2, -999.00,  -999.0,-999.0000,-999.000,   25.00,  -999.0,  1.4934,-999.000
    31DSCG94_2,  P18S,    51,  3,    304,    436,2,19940313,1739,-43.9853,-102.9973, 3930,   3201.2,   1.5970,  34.7067,2,  34.7060,2,    180.7,2,    180.0,2,   116.33,2,    32.77,2,     0.00,2,     2.31,2,   -0.003,2,   -0.001,2, -999.000,9, -999.000,9, -999.000,9,-999.0000,9,  -999.00,9,   -999.0,9,   -999.0,9,   -999.0,9,   -999.0,9,   -999.0,9,     7.60,2, -999.00,  -999.0,-999.0000,-999.000,   25.00,  -999.0,  1.3583,-999.000
    31DSCG94_2,  P18S,    51,  3,    303,    425,2,19940313,1739,-43.9853,-102.9973, 3930,   3497.4,   1.3855,  34.7090,2,  34.7076,2,    187.2,2,    186.8,2,   122.37,2,    32.30,2,     0.00,2,     2.31,2,    0.002,2,   -0.001,2, -999.000,9, -999.000,9, -999.000,9,-999.0000,9,  -999.00,9,   -999.0,9,   -999.0,9,   -999.0,9,   -999.0,9,   -999.0,9,     7.61,2, -999.00,  -999.0,-999.0000,-999.000,   25.00,  -999.0,  1.1223,-999.000
    31DSCG94_2,  P18S,    51,  3,    302,    433,2,19940313,1739,-43.9853,-102.9973, 3930,   3799.5,   1.1589,  34.7083,2,  34.7090,2,    194.4,2,    193.2,2,   126.79,2,    32.33,2,     0.00,2,     2.29,2,    0.000,2,   -0.003,2, -999.000,9, -999.000,9, -999.000,9,-999.0000,9,  -999.00,9,   -999.0,9,   -999.0,9,   -999.0,9,   -999.0,9,   -999.0,9,  -999.00,9, -999.00,  -999.0,-999.0000,-999.000, -999.00,  -999.0,  0.8706,-999.000
    31DSCG94_2,  P18S,    51,  3,    301,    403,2,19940313,1739,-43.9853,-102.9973, 3930,   3999.7,   1.0977,  34.7086,2,  34.7084,2,    197.6,2,    196.0,2,   126.22,2,    32.37,2,     0.00,2,     2.33,2,    0.002,2,    0.002,2, -999.000,9, -999.000,9, -999.000,9,-999.0000,9,  -999.00,9,   -999.0,9,   -999.0,9,   -999.0,9,   -999.0,9,   -999.0,9,     7.62,2, -999.00,  -999.0,-999.0000,-999.000,   25.00,  -999.0,  0.7900,-999.000