BOTTLE,20220630CCHSIOAMB
EXPOCODE,SECT_ID,STNNBR,CASTNO,SAMPNO,BTLNBR,BTLNBR_FLAG_W,DATE,TIME,LATITUDE,LONGITUDE,DEPTH,CTDPRS,CTDTMP,CTDSAL,CTDSAL_FLAG_W,SALNTY,SALNTY_FLAG_W,CTDOXY,CTDOXY_FLAG_W,OXYGEN,OXYGEN_FLAG_W,SILCAT,SILCAT_FLAG_W,NITRAT,NITRAT_FLAG_W,NITRIT,NITRIT_FLAG_W,PHSPHT,PHSPHT_FLAG_W,CFC-11,CFC-11_FLAG_W,CFC-12,CFC-12_FLAG_W,CFC113,CFC113_FLAG_W,CCL4,CCL4_FLAG_W,TRITUM,TRITUM_FLAG_W,HELIUM,HELIUM_FLAG_W,DELHE3,DELHE3_FLAG_W,DELC14,DELC14_FLAG_W,DELC13,DELC13_FLAG_W,TCARBN,TCARBN_FLAG_W,PCO2,PCO2_FLAG_W,ALKALI,ALKALI_FLAG_W,PH,PH_FLAG_W,PCO2TMP,C14ERR,HELIER,DELHER,PH_TMP,C13ERR,THETA,TRITER
,,,,,,,,,,,,DBAR,ITS-90,PSS-78,,PSS-78,,UMOL/KG,,UMOL/KG,,UMOL/KG,,UMOL/KG,,UMOL/KG,,UMOL/KG,,PMOL/KG,,PMOL/KG,,PMOL/KG,,PMOL/KG,,TU,,NMOL/KG,,PERCNT,,/MILLE,,/MILLE,,UMOL/KG,,UATM,,UMOL/KG,,,,DEG C,/MILLE,NMOL/KG,PERCNT,DEG C,/MILLE,DEG C,TU
    31DSCG94_2,     x,     9,  3,    334,     -1,2,19940225,2048,-61.2200, -90.1815, 4917,     24.0,   4.7535,  34.0039,2,  34.0056,2,    393.7,2,   -999.0,9,     1.77,2,    19.98,2,     0.22,2,     1.54,2, -999.000,9, -999.000,9, -999.000,9, -999.000,9, -999.000,9,-999.0000,9,  -999.00,9,   -999.0,9,   -999.0,9,   -999.0,9,   -999.0,9,   -999.0,9,  -999.00,9, -999.00,  -999.0,-999.0000,-999.000, -999.00,  -999.0,  4.7517,-999.000
    31DSCG94_2,     x,     9,  3,    335,     -1,2,19940225,2048,-61.2200, -90.1815, 4917,     24.3,   4.7554,  34.0041,2,  34.0055,2,    348.9,2,   -999.0,9,     1.55,2,    20.03,2,     0.22,2,     1.53,2, -999.000,9, -999.000,9, -999.000,9, -999.000,9, -999.000,9,-999.0000,9,  -999.00,9,   -999.0,9,   -999.0,9,   -999.0,9,   -999.0,9,   -999.0,9,  -999.00,9, -999.00,  -999.0,-999.0000,-999.000, -999.00,  -999.0,  4.7536,-999.000
    31DSCG94_2,     x,     9,  3,    331,     -1,2,19940225,2048,-61.2200, -90.1815, 4917,     24.3,   4.7757,  34.0048,2,  34.0063,2,    348.9,2,   -999.0,9,     1.39,2,    19.88,2,     0.23,2,     1.53,2, -999.000,9, -999.000,9, -999.000,9, -999.000,9, -999.000,9,-999.0000,9,  -999.00,9,   -999.0,9,   -999.0,9,   -999.0,9,   -999.0,9,   -999.0,9,  -999.00,9, -999.00,  -999.0,-999.0000,-999.000, -999.00,  -999.0,  4.7739,-999.000
    31DSCG94_2,     x,     9,  3,    336,     -1,2,19940225,2048,-61.2200, -90.1815, 4917,     24.5,   4.7620,  34.0041,2,  34.0055,2,    348.9,2,   -999.0,9,     1.92,2,    19.95,2,     0.22,2,     1.60,2, -999.000,9, -999.000,9, -999.000,9, -999.000,9, -999.000,9,-999.0000,9,  -999.00,9,   -999.0,9,   -999.0,9,   -999.0,9,   -999.0,9,   -999.0,9,  -999.00,9, -999.00,  -999.0,-999.0000,-999.000, -999.00,  -999.0,  4.7602,-999.000
    31DSCG94_2,     x,     9,  3,    329,     -1,2,19940225,2048,-61.2200, -90.1815, 4917,     24.6,   4.7653,  34.0046,2,  34.0059,2,    348.9,2,   -999.0,9,     1.15,2,    19.93,2,     0.22,2,     1.53,2,   11.955,4,    2.521,2, -999.000,9, -999.000,9, -999.000,9,-999.0000,9,  -999.00,9,   -999.0,9,   -999.0,9,   -999.0,9,   -999.0,9,   -999.0,9,  -999.00,9, -999.00,  -999.0,-999.0000,-999.000, -999.00,  -999.0,  4.7635,-999.000
    31DSCG94_2,     x,     9,  3,    328,     -1,2,19940225,2048,-61.2200, -90.1815, 4917,     24.6,   4.7669,  34.0047,2,  34.0059,2,    348.9,2,   -999.0,9,     1.23,2,    20.06,2,     0.22,2,     1.48,2,    5.052,2,    2.505,2, -999.000,9, -999.000,9, -999.000,9,-999.0000,9,  -999.00,9,   -999.0,9,   -999.0,9,   -999.0,9,   -999.0,9,   -999.0,9,  -999.00,9, -999.00,  -999.0,-999.0000,-999.000, -999.00,  -999.0,  4.7651,-999.000
    31DSCG94_2,     x,     9,  3,    332,     -1,2,19940225,2048,-61.2200, -90.1815, 4917,     25.6,   4.7698,  34.0046,2,  34.0063,2,    357.3,2,   -999.0,9,     1.33,2,    19.95,2,     0.22,2,     1.29,2,    5.017,2,    2.506,2, -999.000,9, -999.000,9, -999.000,9,-999.0000,9,  -999.00,9,   -999.0,9,   -999.0,9,   -999.0,9,   -999.0,9,   -999.0,9,  -999.00,9, -999.00,  -999.0,-999.0000,-999.000, -999.00,  -999.0,  4.7679,-999.000
    31DSCG94_2,     x,     9,  3,    327,     -1,2,19940225,2048,-61.2200, -90.1815, 4917,     25.6,   4.7685,  34.0048,2,  34.0053,2,    357.3,2,   -999.0,9,     1.32,2,    20.13,2,     0.22,2,     1.46,2,    5.071,2,    2.500,2, -999.000,9, -999.000,9, -999.000,9,-999.0000,9,  -999.00,9,   -999.0,9,   -999.0,9,   -999.0,9,   -999.0,9,   -999.0,9,  -999.00,9, -999.00,  -999.0,-999.0000,-999.000, -999.00,  -999.0,  4.7666,-999.000
    31DSCG94_2,     x,     9,  3,    326,     -1,2,19940225,2048,-61.2200, -90.1815, 4917,     25.6,   4.7615,  34.0041,2,  34.0046,2,    357.3,2,   -999.0,9,     1.38,2,    20.04,2,     0.23,2,     1.47,2,    5.171,2,    2.502,2, -999.000,9, -999.000,9, -999.000,9,-999.0000,9,  -999.00,9,   -999.0,9,   -999.0,9,   -999.0,9,   -999.0,9,   -999.0,9,  -999.00,9, -999.00,  -999.0,-999.0000,-999.000, -999.00,  -999.0,  4.7596,-999.000
    31DSCG94_2,     x,     9,  3,    333,     -1,2,19940225,2048,-61.2200, -90.1815, 4917,     25.7,   4.7622,  34.0042,2,  34.0060,2,    357.3,2,   -999.0,9,     1.38,2,    19.89,2,     0.22,2,     1.62,2, -999.000,9, -999.000,9, -999.000,9, -999.000,9, -999.000,9,-999.0000,9,  -999.00,9,   -999.0,9,   -999.0,9,   -999.0,9,   -999.0,9,   -999.0,9,  -999.00,9, -999.00,  -999.0,-999.0000,-999.000, -999.00,  -999.0,  4.7603,-999.000
    31DSCG94_2,     x,     9,  3,    330,     -1,2,19940225,2048,-61.2200, -90.1815, 4917,     26.0,   4.7745,  34.0047,2,  34.0055,2,    314.9,2,   -999.0,9,     1.09,2,    19.87,2,     0.22,2,     1.49,2,    5.059,2,    2.508,2, -999.000,9, -999.000,9, -999.000,9,-999.0000,9,  -999.00,9,   -999.0,9,   -999.0,9,   -999.0,9,   -999.0,9,   -999.0,9,  -999.00,9, -999.00,  -999.0,-999.0000,-999.000, -999.00,  -999.0,  4.7725,-999.000
    31DSCG94_2,     x,     9,  3,    321,     -1,2,19940225,2048,-61.2200, -90.1815, 4917,    185.6,   2.3115,  34.0527,2,  34.0545,2,    325.2,2,   -999.0,9,    16.04,2,    26.77,2,     0.00,2,     1.82,2, -999.000,9, -999.000,9, -999.000,9, -999.000,9, -999.000,9,-999.0000,9,  -999.00,9,   -999.0,9,   -999.0,9,   -999.0,9,   -999.0,9,   -999.0,9,  -999.00,9, -999.00,  -999.0,-999.0000,-999.000, -999.00,  -999.0,  2.3013,-999.000
    31DSCG94_2,     x,     9,  3,    323,     -1,2,19940225,2048,-61.2200, -90.1815, 4917,    187.8,   2.3107,  34.0526,2,  34.0546,2,    324.4,2,   -999.0,9,    16.22,2,    26.73,2,     0.00,2,     1.85,2, -999.000,9, -999.000,9, -999.000,9, -999.000,9, -999.000,9,-999.0000,9,  -999.00,9,   -999.0,9,   -999.0,9,   -999.0,9,   -999.0,9,   -999.0,9,  -999.00,9, -999.00,  -999.0,-999.0000,-999.000, -999.00,  -999.0,  2.3004,-999.000
    31DSCG94_2,     x,     9,  3,    325,     -1,2,19940225,2048,-61.2200, -90.1815, 4917,    188.2,   2.3116,  34.0530,2,  34.0545,2,    324.2,2,   -999.0,9,    16.20,2,    26.88,2,     0.00,2,     1.81,2, -999.000,9, -999.000,9, -999.000,9, -999.000,9, -999.000,9,-999.0000,9,  -999.00,9,   -999.0,9,   -999.0,9,   -999.0,9,   -999.0,9,   -999.0,9,  -999.00,9, -999.00,  -999.0,-999.0000,-999.000, -999.00,  -999.0,  2.3013,-999.000
    31DSCG94_2,     x,     9,  3,    314,     -1,2,19940225,2048,-61.2200, -90.1815, 4917,   1379.3,   2.1304,  34.6720,2,  34.6721,2,    195.8,2,   -999.0,9,    82.45,2,    32.60,2,     0.00,2,     2.26,2,    0.874,4,    0.065,2, -999.000,9, -999.000,9, -999.000,9,-999.0000,9,  -999.00,9,   -999.0,9,   -999.0,9,   -999.0,9,   -999.0,9,   -999.0,9,  -999.00,9, -999.00,  -999.0,-999.0000,-999.000, -999.00,  -999.0,  2.0416,-999.000
    31DSCG94_2,     x,     9,  3,    311,     -1,2,19940225,2048,-61.2200, -90.1815, 4917,   1379.8,   2.1295,  34.6726,2,  34.6721,2,    195.8,2,   -999.0,9,    81.77,2,    32.71,2,     0.00,2,     2.25,2,    0.152,2,    0.066,2, -999.000,9, -999.000,9, -999.000,9,-999.0000,9,  -999.00,9,   -999.0,9,   -999.0,9,   -999.0,9,   -999.0,9,   -999.0,9,  -999.00,9, -999.00,  -999.0,-999.0000,-999.000, -999.00,  -999.0,  2.0406,-999.000
    31DSCG94_2,     x,     9,  3,    315,     -1,2,19940225,2048,-61.2200, -90.1815, 4917,   1380.1,   2.1307,  34.6724,2,  34.6720,2,    195.8,2,   -999.0,9,    82.20,2,    32.94,2,     0.00,2,     2.24,2,    0.205,3,    0.072,3, -999.000,9, -999.000,9, -999.000,9,-999.0000,9,  -999.00,9,   -999.0,9,   -999.0,9,   -999.0,9,   -999.0,9,   -999.0,9,  -999.00,9, -999.00,  -999.0,-999.0000,-999.000, -999.00,  -999.0,  2.0418,-999.000
    31DSCG94_2,     x,     9,  3,    318,     -1,2,19940225,2048,-61.2200, -90.1815, 4917,   1380.6,   2.1308,  34.6721,2,-999.0000,5,    195.8,2,   -999.0,9,  -999.00,9,  -999.00,9,  -999.00,9,  -999.00,9,   -0.004,4,   -0.003,4, -999.000,9, -999.000,9, -999.000,9,-999.0000,9,  -999.00,9,   -999.0,9,   -999.0,9,   -999.0,9,   -999.0,9,   -999.0,9,  -999.00,9, -999.00,  -999.0,-999.0000,-999.000, -999.00,  -999.0,  2.0419,-999.000
    31DSCG94_2,     x,     9,  3,    317,     -1,2,19940225,2048,-61.2200, -90.1815, 4917,   1380.9,   2.1310,  34.6717,2,-999.0000,5,    195.8,2,   -999.0,9,  -999.00,9,  -999.00,9,  -999.00,9,  -999.00,9,    0.078,4,    0.075,4, -999.000,9, -999.000,9, -999.000,9,-999.0000,9,  -999.00,9,   -999.0,9,   -999.0,9,   -999.0,9,   -999.0,9,   -999.0,9,  -999.00,9, -999.00,  -999.0,-999.0000,-999.000, -999.00,  -999.0,  2.0420,-999.000
    31DSCG94_2,     x,     9,  3,    316,     -1,2,19940225,2048,-61.2200, -90.1815, 4917,   1381.1,   2.1305,  34.6723,2,-999.0000,5,    195.9,2,   -999.0,9,  -999.00,9,  -999.00,9,  -999.00,9,  -999.00,9,    0.062,4,    0.041,4, -999.000,9, -999.000,9, -999.000,9,-999.0000,9,  -999.00,9,   -999.0,9,   -999.0,9,   -999.0,9,   -999.0,9,   -999.0,9,  -999.00,9, -999.00,  -999.0,-999.0000,-999.000, -999.00,  -999.0,  2.0415,-999.000
    31DSCG94_2,     x,     9,  3,    312,     -1,2,19940225,2048,-61.2200, -90.1815, 4917,   1382.0,   2.1303,  34.6721,2,  34.6722,2,    195.9,2,   -999.0,9,    81.77,2,    32.70,2,     0.00,2,     2.25,2,    0.190,3,    0.066,3, -999.000,9, -999.000,9, -999.000,9,-999.0000,9,  -999.00,9,   -999.0,9,   -999.0,9,   -999.0,9,   -999.0,9,   -999.0,9,  -999.00,9, -999.00,  -999.0,-999.0000,-999.000, -999.00,  -999.0,  2.0412,-999.000
    31DSCG94_2,     x,     9,  3,    319,     -1,2,19940225,2048,-61.2200, -90.1815, 4917,   1382.1,   2.1306,  34.6719,2,-999.0000,5,    195.9,2,   -999.0,9,  -999.00,9,  -999.00,9,  -999.00,9,  -999.00,9,    0.081,4,    0.028,4, -999.000,9, -999.000,9, -999.000,9,-999.0000,9,  -999.00,9,   -999.0,9,   -999.0,9,   -999.0,9,   -999.0,9,   -999.0,9,  -999.00,9, -999.00,  -999.0,-999.0000,-999.000, -999.00,  -999.0,  2.0415,-999.000
    31DSCG94_2,     x,     9,  3,    313,     -1,2,19940225,2048,-61.2200, -90.1815, 4917,   1382.3,   2.1293,  34.6729,2,  34.6721,2,    195.9,2,   -999.0,9,    82.20,2,    32.88,2,     0.00,2,     2.24,2,    0.148,2,    0.064,2, -999.000,9, -999.000,9, -999.000,9,-999.0000,9,  -999.00,9,   -999.0,9,   -999.0,9,   -999.0,9,   -999.0,9,   -999.0,9,  -999.00,9, -999.00,  -999.0,-999.0000,-999.000, -999.00,  -999.0,  2.0402,-999.000
    31DSCG94_2,     x,     9,  3,    308,     -1,2,19940225,2048,-61.2200, -90.1815, 4917,   1802.9,   1.8749,  34.7214,2,-999.0000,5,    201.7,2,   -999.0,9,  -999.00,9,  -999.00,9,  -999.00,9,  -999.00,9,    0.157,4,    0.080,4, -999.000,9, -999.000,9, -999.000,9,-999.0000,9,  -999.00,9,   -999.0,9,   -999.0,9,   -999.0,9,   -999.0,9,   -999.0,9,  -999.00,9, -999.00,  -999.0,-999.0000,-999.000, -999.00,  -999.0,  1.7561,-999.000
    31DSCG94_2,     x,     9,  3,    303,     -1,2,19940225,2048,-61.2200, -90.1815, 4917,   1803.3,   1.8750,  34.7214,2,  34.7212,2,    201.7,2,   -999.0,9,    90.09,2,    31.85,2,     0.00,2,     2.23,2,    0.060,2,    0.023,2, -999.000,9, -999.000,9, -999.000,9,-999.0000,9,  -999.00,9,   -999.0,9,   -999.0,9,   -999.0,9,   -999.0,9,   -999.0,9,  -999.00,9, -999.00,  -999.0,-999.0000,-999.000, -999.00,  -999.0,  1.7561,-999.000
    31DSCG94_2,     x,     9,  3,    302,     -1,3,19940225,2048,-61.2200, -90.1815, 4917,   1803.8,   1.8756,  34.7212,2,  34.7212,2,    201.7,2,   -999.0,9,  -999.00,9,  -999.00,9,  -999.00,9,  -999.00,9, -999.000,5, -999.000,5, -999.000,9, -999.000,9, -999.000,9,-999.0000,9,  -999.00,9,   -999.0,9,   -999.0,9,   -999.0,9,   -999.0,9,   -999.0,9,  -999.00,9, -999.00,  -999.0,-999.0000,-999.000, -999.00,  -999.0,  1.7568,-999.000
    31DSCG94_2,     x,     9,  3,    304,     -1,2,19940225,2048,-61.2200, -90.1815, 4917,   1803.9,   1.8751,  34.7215,2,  34.7215,2,    201.7,2,   -999.0,9,    89.99,2,    31.74,2,     0.00,2,     2.18,2,    7.951,4,    0.026,2, -999.000,9, -999.000,9, -999.000,9,-999.0000,9,  -999.00,9,   -999.0,9,   -999.0,9,   -999.0,9,   -999.0,9,   -999.0,9,  -999.00,9, -999.00,  -999.0,-999.0000,-999.000, -999.00,  -999.0,  1.7562,-999.000
    31DSCG94_2,     x,     9,  3,    306,     -1,2,19940225,2048,-61.2200, -90.1815, 4917,   1804.6,   1.8742,  34.7215,2,-999.0000,5,    201.9,2,   -999.0,9,  -999.00,9,  -999.00,9,  -999.00,9,  -999.00,9,    0.172,4,    0.072,4, -999.000,9, -999.000,9, -999.000,9,-999.0000,9,  -999.00,9,   -999.0,9,   -999.0,9,   -999.0,9,   -999.0,9,   -999.0,9,  -999.00,9, -999.00,  -999.0,-999.0000,-999.000, -999.00,  -999.0,  1.7553,-999.000
    31DSCG94_2,     x,     9,  3,    309,     -1,2,19940225,2048,-61.2200, -90.1815, 4917,   1805.5,   1.8742,  34.7211,2,-999.0000,5,    202.1,2,   -999.0,9,  -999.00,9,  -999.00,9,  -999.00,9,  -999.00,9,    0.188,4,    0.068,4, -999.000,9, -999.000,9, -999.000,9,-999.0000,9,  -999.00,9,   -999.0,9,   -999.0,9,   -999.0,9,   -999.0,9,   -999.0,9,  -999.00,9, -999.00,  -999.0,-999.0000,-999.000, -999.00,  -999.0,  1.7552,-999.000
    31DSCG94_2,     x,     9,  3,    310,     -1,2,19940225,2048,-61.2200, -90.1815, 4917,   1805.7,   1.8743,  34.7210,2,-999.0000,5,    202.1,2,   -999.0,9,  -999.00,9,  -999.00,9,  -999.00,9,  -999.00,9,    0.148,4,    0.069,4, -999.000,9, -999.000,9, -999.000,9,-999.0000,9,  -999.00,9,   -999.0,9,   -999.0,9,   -999.0,9,   -999.0,9,   -999.0,9,  -999.00,9, -999.00,  -999.0,-999.0000,-999.000, -999.00,  -999.0,  1.7553,-999.000
    31DSCG94_2,     x,     9,  3,    305,     -1,2,19940225,2048,-61.2200, -90.1815, 4917,   1805.9,   1.8740,  34.7216,2,  34.7212,2,    202.1,2,   -999.0,9,    89.87,2,    31.87,2,     0.00,2,     2.18,2,    0.062,2,    0.027,2, -999.000,9, -999.000,9, -999.000,9,-999.0000,9,  -999.00,9,   -999.0,9,   -999.0,9,   -999.0,9,   -999.0,9,   -999.0,9,  -999.00,9, -999.00,  -999.0,-999.0000,-999.000, -999.00,  -999.0,  1.7549,-999.000
    31DSCG94_2,     x,     9,  3,    301,     -1,2,19940225,2048,-61.2200, -90.1815, 4917,   1805.9,   1.8766,  34.7205,2,  34.7214,2,    202.1,2,   -999.0,9,    89.67,2,    31.79,2,     0.00,2,     2.23,2,    0.073,2,    0.028,2, -999.000,9, -999.000,9, -999.000,9,-999.0000,9,  -999.00,9,   -999.0,9,   -999.0,9,   -999.0,9,   -999.0,9,   -999.0,9,  -999.00,9, -999.00,  -999.0,-999.0000,-999.000, -999.00,  -999.0,  1.7576,-999.000
    31DSCG94_2,     x,     9,  3,    307,     -1,2,19940225,2048,-61.2200, -90.1815, 4917,   1806.8,   1.8736,  34.7209,2,-999.0000,5,    202.1,2,   -999.0,9,  -999.00,9,  -999.00,9,  -999.00,9,  -999.00,9, -999.000,9, -999.000,9, -999.000,9, -999.000,9, -999.000,9,-999.0000,9,  -999.00,9,   -999.0,9,   -999.0,9,   -999.0,9,   -999.0,9,   -999.0,9,  -999.00,9, -999.00,  -999.0,-999.0000,-999.000, -999.00,  -999.0,  1.7545,-999.000