BOTTLE,20220630CCHSIOAMB
EXPOCODE,SECT_ID,STNNBR,CASTNO,SAMPNO,BTLNBR,BTLNBR_FLAG_W,DATE,TIME,LATITUDE,LONGITUDE,DEPTH,CTDPRS,CTDTMP,CTDSAL,CTDSAL_FLAG_W,SALNTY,SALNTY_FLAG_W,CTDOXY,CTDOXY_FLAG_W,OXYGEN,OXYGEN_FLAG_W,SILCAT,SILCAT_FLAG_W,NITRAT,NITRAT_FLAG_W,NITRIT,NITRIT_FLAG_W,PHSPHT,PHSPHT_FLAG_W,CFC-11,CFC-11_FLAG_W,CFC-12,CFC-12_FLAG_W,CFC113,CFC113_FLAG_W,CCL4,CCL4_FLAG_W,TRITUM,TRITUM_FLAG_W,HELIUM,HELIUM_FLAG_W,DELHE3,DELHE3_FLAG_W,DELC14,DELC14_FLAG_W,DELC13,DELC13_FLAG_W,TCARBN,TCARBN_FLAG_W,PCO2,PCO2_FLAG_W,ALKALI,ALKALI_FLAG_W,PH,PH_FLAG_W,PCO2TMP,C14ERR,HELIER,DELHER,PH_TMP,C13ERR,THETA,TRITER
,,,,,,,,,,,,DBAR,ITS-90,PSS-78,,PSS-78,,UMOL/KG,,UMOL/KG,,UMOL/KG,,UMOL/KG,,UMOL/KG,,UMOL/KG,,PMOL/KG,,PMOL/KG,,PMOL/KG,,PMOL/KG,,TU,,NMOL/KG,,PERCNT,,/MILLE,,/MILLE,,UMOL/KG,,UATM,,UMOL/KG,,,,DEG C,/MILLE,NMOL/KG,PERCNT,DEG C,/MILLE,DEG C,TU
    31DSCG94_3,  P18N,   108,  1,    136,   1025,2,19940403,1539,-15.5017,-103.0003, 3703,      9.4,  24.4518,  36.4053,2,  36.4052,2,    208.6,2,    208.3,2,     0.70,2,     0.10,2,     0.00,2,     0.26,2, -999.000,9, -999.000,9, -999.000,9, -999.000,9, -999.000,9,-999.0000,9,  -999.00,9,   -999.0,9,   -999.0,9,   2067.6,3,    308.4,2,   2405.0,2,     8.07,2,   20.00,  -999.0,-999.0000,-999.000,   25.00,  -999.0, 24.4498,-999.000
    31DSCG94_3,  P18N,   108,  1,    135,   1247,2,19940403,1539,-15.5017,-103.0003, 3703,     25.1,  24.3047,  36.3787,2,  36.3773,2,    206.6,2,    209.0,2,     0.73,2,     0.08,2,     0.00,2,     0.26,2, -999.000,9, -999.000,9, -999.000,9, -999.000,9, -999.000,9,-999.0000,9,  -999.00,9,   -999.0,9,   -999.0,9,   -999.0,9,   -999.0,9,   -999.0,9,     8.07,2, -999.00,  -999.0,-999.0000,-999.000,   25.00,  -999.0, 24.2993,-999.000
    31DSCG94_3,  P18N,   108,  1,    134,   1216,2,19940403,1539,-15.5017,-103.0003, 3703,     49.4,  24.1491,  36.3749,2,  36.3749,2,    208.7,2,    209.6,2,     0.54,2,     0.05,2,     0.00,2,     0.28,2, -999.000,9, -999.000,9, -999.000,9, -999.000,9, -999.000,9,-999.0000,9,  -999.00,9,   -999.0,9,   -999.0,9,   2065.2,2,    308.9,6,   2397.0,2,     8.07,2,   20.00,  -999.0,-999.0000,-999.000,   25.00,  -999.0, 24.1386,-999.000
    31DSCG94_3,  P18N,   108,  1,    133,   1244,2,19940403,1539,-15.5017,-103.0003, 3703,     74.7,  22.7744,  36.2365,2,  36.2410,2,    215.7,2,    219.9,6,     0.54,2,     0.05,2,     0.00,2,     0.25,2, -999.000,9, -999.000,9, -999.000,9, -999.000,9, -999.000,9,-999.0000,9,  -999.00,9,   -999.0,9,   -999.0,9,   -999.0,9,   -999.0,9,   -999.0,9,     8.06,2, -999.00,  -999.0,-999.0000,-999.000,   25.00,  -999.0, 22.7592,-999.000
    31DSCG94_3,  P18N,   108,  1,    132,   1003,2,19940403,1539,-15.5017,-103.0003, 3703,     99.4,  22.2765,  36.1903,2,  36.1808,2,    212.6,2,    219.5,2,     0.39,2,     0.04,2,     0.00,2,     0.24,2, -999.000,9, -999.000,9, -999.000,9, -999.000,9, -999.000,9,-999.0000,9,  -999.00,9,   -999.0,9,   -999.0,9,   2067.1,2,    324.5,2,   2386.0,2,     8.05,2,   20.00,  -999.0,-999.0000,-999.000,   25.00,  -999.0, 22.2565,-999.000
    31DSCG94_3,  P18N,   108,  1,    131,   1211,2,19940403,1539,-15.5017,-103.0003, 3703,    125.0,  21.5358,  36.0667,2,  36.0518,2,    211.6,2,    216.0,2,     0.53,2,     0.03,2,     0.00,2,     0.25,2, -999.000,9, -999.000,9, -999.000,9, -999.000,9, -999.000,9,-999.0000,9,  -999.00,9,   -999.0,9,   -999.0,9,   -999.0,9,   -999.0,9,   -999.0,9,     8.03,2, -999.00,  -999.0,-999.0000,-999.000,   25.00,  -999.0, 21.5114,-999.000
    31DSCG94_3,  P18N,   108,  1,    130,   1241,2,19940403,1539,-15.5017,-103.0003, 3703,    150.5,  20.1943,  35.7743,2,  35.7435,3,    207.2,2,   -999.0,9,     0.43,2,     0.56,2,     0.18,2,     0.29,2, -999.000,9, -999.000,9, -999.000,9, -999.000,9, -999.000,9,-999.0000,9,  -999.00,9,   -999.0,9,   -999.0,9,   -999.0,9,   -999.0,9,   -999.0,9,     8.01,2, -999.00,  -999.0,-999.0000,-999.000,   25.00,  -999.0, 20.1661,-999.000
    31DSCG94_3,  P18N,   108,  1,    129,   1240,2,19940403,1539,-15.5017,-103.0003, 3703,    200.5,  16.9441,  35.1651,2,  35.1455,2,    191.3,2,    197.6,2,     1.16,2,     3.85,2,     0.01,2,     0.50,2, -999.000,9, -999.000,9, -999.000,9, -999.000,9, -999.000,9,-999.0000,9,  -999.00,9,   -999.0,9,   -999.0,9,   2075.7,2,    437.2,2,   2318.0,2,     7.94,2,   20.00,  -999.0,-999.0000,-999.000,   25.00,  -999.0, 16.9111,-999.000
    31DSCG94_3,  P18N,   108,  1,    128,   1032,2,19940403,1539,-15.5017,-103.0003, 3703,    251.8,  13.4170,  34.7296,2,  34.7226,2,    149.5,2,    152.2,2,     5.04,2,    12.19,2,     0.00,2,     1.16,2, -999.000,9, -999.000,9, -999.000,9, -999.000,9, -999.000,9,-999.0000,9,  -999.00,9,   -999.0,9,   -999.0,9,   -999.0,9,   -999.0,9,   -999.0,9,     7.78,2, -999.00,  -999.0,-999.0000,-999.000,   25.00,  -999.0, 13.3816,-999.000
    31DSCG94_3,  P18N,   108,  1,    127,   1008,2,19940403,1539,-15.5017,-103.0003, 3703,    303.4,  11.0153,  34.6215,2,  34.6267,2,     19.0,2,     45.8,2,    19.11,2,    24.60,2,     0.00,2,     2.35,2, -999.000,9, -999.000,9, -999.000,9, -999.000,9, -999.000,9,-999.0000,9,  -999.00,9,   -999.0,9,   -999.0,9,   2232.1,2,   1388.6,2,   2286.0,2,     7.49,2,   20.00,  -999.0,-999.0000,-999.000,   25.00,  -999.0, 10.9778,-999.000
    31DSCG94_3,  P18N,   108,  1,    126,   1007,2,19940403,1539,-15.5017,-103.0003, 3703,    352.4,   9.4720,  34.5708,2,  34.5699,2,     45.4,2,     41.0,2,    23.10,2,    31.79,2,     0.00,2,     2.56,2, -999.000,9, -999.000,9, -999.000,9, -999.000,9, -999.000,9,-999.0000,9,  -999.00,9,   -999.0,9,   -999.0,9,   -999.0,9,   -999.0,9,   -999.0,9,     7.44,2, -999.00,  -999.0,-999.0000,-999.000,   25.00,  -999.0,  9.4324,-999.000
    31DSCG94_3,  P18N,   108,  1,    125,   1203,2,19940403,1539,-15.5017,-103.0003, 3703,    399.3,   8.5922,  34.5684,2,  34.5684,2,     40.4,2,     37.7,2,    26.90,2,    35.50,2,     0.01,2,     2.63,2, -999.000,9, -999.000,9, -999.000,9, -999.000,9, -999.000,9,-999.0000,9,  -999.00,9,   -999.0,9,   -999.0,9,   2259.0,2,   1638.1,2,   2292.0,2,     7.42,2,   20.00,  -999.0,-999.0000,-999.000,   25.00,  -999.0,  8.5498,-999.000
    31DSCG94_3,  P18N,   108,  1,    123,   1220,2,19940403,1539,-15.5017,-103.0003, 3703,    496.4,   7.3904,  34.5410,2,  34.5403,2,     53.4,2,     47.0,2,    33.40,2,    39.24,2,     0.00,2,     2.70,2, -999.000,9, -999.000,9, -999.000,9, -999.000,9, -999.000,9,-999.0000,9,  -999.00,9,   -999.0,9,   -999.0,9,   2263.8,2,   1645.6,2,   2298.0,2,     7.42,2,   20.00,  -999.0,-999.0000,-999.000,   25.00,  -999.0,  7.3418,-999.000
    31DSCG94_3,  P18N,   108,  1,    122,   1245,2,19940403,1539,-15.5017,-103.0003, 3703,    600.5,   6.4497,  34.5073,2,  34.5063,2,     62.7,2,     58.7,6,    39.31,2,    40.78,2,     0.00,2,     2.76,2, -999.000,9, -999.000,9, -999.000,9, -999.000,9, -999.000,9,-999.0000,9,  -999.00,9,   -999.0,9,   -999.0,9,   2266.8,2,   1625.6,2,   2303.0,2,     7.43,2,   20.00,  -999.0,-999.0000,-999.000,   25.00,  -999.0,  6.3947,-999.000
    31DSCG94_3,  P18N,   108,  1,    121,   1206,2,19940403,1539,-15.5017,-103.0003, 3703,    701.4,   5.7758,  34.5038,2,  34.5033,2,     47.1,2,     46.9,2,    51.03,2,    42.81,2,     0.01,2,     2.97,2, -999.000,9, -999.000,9, -999.000,9, -999.000,9, -999.000,9,-999.0000,9,  -999.00,9,   -999.0,9,   -999.0,9,   2288.1,2,   1771.1,2,   2317.0,2,     7.40,2,   20.00,  -999.0,-999.0000,-999.000,   25.00,  -999.0,  5.7147,-999.000
    31DSCG94_3,  P18N,   108,  1,    120,   1028,2,19940403,1539,-15.5017,-103.0003, 3703,    801.6,   5.2578,  34.5061,2,  34.5052,2,     48.6,2,     47.5,2,    60.51,2,    43.71,2,     0.01,2,     3.03,2, -999.000,9, -999.000,9, -999.000,9, -999.000,9, -999.000,9,-999.0000,9,  -999.00,9,   -999.0,9,   -999.0,9,   2297.8,2,   1808.6,2,   2327.0,2,     7.39,2,   20.00,  -999.0,-999.0000,-999.000,   25.00,  -999.0,  5.1906,-999.000
    31DSCG94_3,  P18N,   108,  1,    119,   1248,2,19940403,1539,-15.5017,-103.0003, 3703,    899.8,   4.7474,  34.5153,2,  34.5140,2,     53.7,2,     54.5,2,    70.07,2,    43.67,2,     0.01,2,     3.02,2, -999.000,9, -999.000,9, -999.000,9, -999.000,9, -999.000,9,-999.0000,9,  -999.00,9,   -999.0,9,   -999.0,9,   2304.9,2,   1774.1,2,   2338.0,2,     7.40,2,   20.00,  -999.0,-999.0000,-999.000,   25.00,  -999.0,  4.6748,-999.000
    31DSCG94_3,  P18N,   108,  1,    118,   1115,2,19940403,1539,-15.5017,-103.0003, 3703,    999.4,   4.3432,  34.5270,2,  34.5278,2,     61.9,2,     62.8,2,    77.86,2,    42.95,2,     0.00,2,     2.98,2, -999.000,9, -999.000,9, -999.000,9, -999.000,9, -999.000,9,-999.0000,9,  -999.00,9,   -999.0,9,   -999.0,9,   2309.4,2,   1718.5,2,   2345.0,6,     7.42,2,   20.00,  -999.0,-999.0000,-999.000,   25.00,  -999.0,  4.2649,-999.000
    31DSCG94_3,  P18N,   108,  1,    117,   1119,2,19940403,1539,-15.5017,-103.0003, 3703,   1098.9,   3.9287,  34.5413,2,  34.5410,2,     70.9,2,     72.6,6,    86.09,2,    42.76,2,     0.00,2,     3.00,2, -999.000,9, -999.000,9, -999.000,9, -999.000,9, -999.000,9,-999.0000,9,  -999.00,9,   -999.0,9,   -999.0,9,   -999.0,9,   -999.0,9,   -999.0,9,     7.43,2, -999.00,  -999.0,-999.0000,-999.000,   25.00,  -999.0,  3.8452,-999.000
    31DSCG94_3,  P18N,   108,  1,    116,   1036,2,19940403,1539,-15.5017,-103.0003, 3703,   1196.3,   3.6483,  34.5538,2,  34.5523,2,     77.4,2,     78.2,2,    91.64,2,    41.13,2,     0.01,2,     2.99,2, -999.000,9, -999.000,9, -999.000,9, -999.000,9, -999.000,9,-999.0000,9,  -999.00,9,   -999.0,9,   -999.0,9,   -999.0,9,   -999.0,9,   -999.0,9,     7.45,2, -999.00,  -999.0,-999.0000,-999.000,   25.00,  -999.0,  3.5592,-999.000
    31DSCG94_3,  P18N,   108,  1,    115,   1017,2,19940403,1539,-15.5017,-103.0003, 3703,   1300.6,   3.3059,  34.5705,2,  34.5702,2,     83.8,2,     84.6,2,   101.15,2,    41.82,2,     0.00,2,     2.96,2, -999.000,9, -999.000,9, -999.000,9, -999.000,9, -999.000,9,-999.0000,9,  -999.00,9,   -999.0,9,   -999.0,9,   -999.0,9,   -999.0,9,   -999.0,9,     7.46,2, -999.00,  -999.0,-999.0000,-999.000,   25.00,  -999.0,  3.2113,-999.000
    31DSCG94_3,  P18N,   108,  1,    114,   1016,2,19940403,1539,-15.5017,-103.0003, 3703,   1399.7,   3.0439,  34.5855,2,  34.5838,2,     89.0,2,     91.4,2,   108.96,2,    40.85,2,     0.01,2,     2.87,2, -999.000,9, -999.000,9, -999.000,9, -999.000,9, -999.000,9,-999.0000,9,  -999.00,9,   -999.0,9,   -999.0,9,   -999.0,9,   -999.0,9,   -999.0,9,     7.47,2, -999.00,  -999.0,-999.0000,-999.000,   25.00,  -999.0,  2.9438,-999.000
    31DSCG94_3,  P18N,   108,  1,    113,   1209,2,19940403,1539,-15.5017,-103.0003, 3703,   1598.7,   2.6848,  34.6080,2,  34.6073,2,     99.9,2,    101.8,2,   118.29,2,    40.94,2,     0.01,2,     2.81,2, -999.000,9, -999.000,9, -999.000,9, -999.000,9, -999.000,9,-999.0000,9,  -999.00,9,   -999.0,9,   -999.0,9,   -999.0,9,   -999.0,9,   -999.0,9,     7.49,2, -999.00,  -999.0,-999.0000,-999.000,   25.00,  -999.0,  2.5724,-999.000
    31DSCG94_3,  P18N,   108,  1,    112,   1033,2,19940403,1539,-15.5017,-103.0003, 3703,   1801.7,   2.3645,  34.6274,2,  34.6274,2,    113.5,2,    116.5,2,   120.06,2,    39.46,2,     0.00,2,     2.66,2, -999.000,9, -999.000,9, -999.000,9, -999.000,9, -999.000,9,-999.0000,9,  -999.00,9,   -999.0,9,   -999.0,9,   -999.0,9,   -999.0,9,   -999.0,9,     7.52,2, -999.00,  -999.0,-999.0000,-999.000,   25.00,  -999.0,  2.2394,-999.000
    31DSCG94_3,  P18N,   108,  1,    111,   1240,2,19940403,1539,-15.5017,-103.0003, 3703,   2003.7,   2.1069,  34.6450,2,  34.6441,2,    128.5,2,    131.5,2,   121.94,2,    38.12,2,     0.00,2,     2.59,2, -999.000,9, -999.000,9, -999.000,9, -999.000,9, -999.000,9,-999.0000,9,  -999.00,9,   -999.0,9,   -999.0,9,   -999.0,9,   -999.0,9,   -999.0,9,  -999.00,9, -999.00,  -999.0,-999.0000,-999.000, -999.00,  -999.0,  1.9684,-999.000
    31DSCG94_3,  P18N,   108,  1,    110,   1005,2,19940403,1539,-15.5017,-103.0003, 3703,   2202.5,   1.9153,  34.6600,2,  34.6596,2,    142.8,2,    143.9,2,   125.06,2,    37.02,2,     0.00,2,     2.50,2, -999.000,9, -999.000,9, -999.000,9, -999.000,9, -999.000,9,-999.0000,9,  -999.00,9,   -999.0,9,   -999.0,9,   -999.0,9,   -999.0,9,   -999.0,9,     7.57,2, -999.00,  -999.0,-999.0000,-999.000,   25.00,  -999.0,  1.7629,-999.000
    31DSCG94_3,  P18N,   108,  1,    109,   1611,2,19940403,1539,-15.5017,-103.0003, 3703,   2397.7,   1.8439,  34.6679,2,  34.6668,2,    144.7,2,    145.3,2,   129.36,2,    36.37,2,     0.00,2,     2.52,2, -999.000,9, -999.000,9, -999.000,9, -999.000,9, -999.000,9,-999.0000,9,  -999.00,9,   -999.0,9,   -999.0,9,   -999.0,9,   -999.0,9,   -999.0,9,  -999.00,9, -999.00,  -999.0,-999.0000,-999.000, -999.00,  -999.0,  1.6755,-999.000
    31DSCG94_3,  P18N,   108,  1,    108,   1218,2,19940403,1539,-15.5017,-103.0003, 3703,   2600.2,   1.8088,  34.6727,2,  34.6710,2,    145.6,2,    145.4,2,   132.48,2,    36.55,2,     0.00,2,     2.52,2, -999.000,9, -999.000,9, -999.000,9, -999.000,9, -999.000,9,-999.0000,9,  -999.00,9,   -999.0,9,   -999.0,9,   -999.0,9,   -999.0,9,   -999.0,9,     7.58,2, -999.00,  -999.0,-999.0000,-999.000,   25.00,  -999.0,  1.6228,-999.000
    31DSCG94_3,  P18N,   108,  1,    107,   1257,2,19940403,1539,-15.5017,-103.0003, 3703,   2800.1,   1.7991,  34.6747,2,  34.6739,2,    145.4,2,    143.2,2,   133.04,2,    37.02,2,     0.00,2,     2.44,2, -999.000,9, -999.000,9, -999.000,9, -999.000,9, -999.000,9,-999.0000,9,  -999.00,9,   -999.0,9,   -999.0,9,   -999.0,9,   -999.0,9,   -999.0,9,  -999.00,9, -999.00,  -999.0,-999.0000,-999.000, -999.00,  -999.0,  1.5948,-999.000
    31DSCG94_3,  P18N,   108,  1,    106,   1224,2,19940403,1539,-15.5017,-103.0003, 3703,   2999.7,   1.7991,  34.6759,2,  34.6746,2,    143.1,2,    142.6,2,   133.50,2,    37.23,2,     0.00,2,     2.51,2, -999.000,9, -999.000,9, -999.000,9, -999.000,9, -999.000,9,-999.0000,9,  -999.00,9,   -999.0,9,   -999.0,9,   -999.0,9,   -999.0,9,   -999.0,9,     7.58,2, -999.00,  -999.0,-999.0000,-999.000,   25.00,  -999.0,  1.5757,-999.000
    31DSCG94_3,  P18N,   108,  1,    105,   1246,2,19940403,1539,-15.5017,-103.0003, 3703,   3201.0,   1.8052,  34.6766,2,  34.6752,2,    142.8,2,    141.5,2,   137.50,2,    36.69,2,     0.00,2,     2.49,2, -999.000,9, -999.000,9, -999.000,9, -999.000,9, -999.000,9,-999.0000,9,  -999.00,9,   -999.0,9,   -999.0,9,   -999.0,9,   -999.0,9,   -999.0,9,  -999.00,9, -999.00,  -999.0,-999.0000,-999.000, -999.00,  -999.0,  1.5618,-999.000
    31DSCG94_3,  P18N,   108,  1,    104,   1217,2,19940403,1539,-15.5017,-103.0003, 3703,   3397.8,   1.8061,  34.6768,2,  34.6746,2,    138.8,2,    138.9,2,   141.30,2,    37.17,2,     0.00,2,     2.50,2, -999.000,9, -999.000,9, -999.000,9, -999.000,9, -999.000,9,-999.0000,9,  -999.00,9,   -999.0,9,   -999.0,9,   -999.0,9,   -999.0,9,   -999.0,9,     7.58,2, -999.00,  -999.0,-999.0000,-999.000,   25.00,  -999.0,  1.5428,-999.000
    31DSCG94_3,  P18N,   108,  1,    103,   9999,2,19940403,1539,-15.5017,-103.0003, 3703,   3595.3,   1.8105,  34.6764,2,  34.6765,2,    137.2,2,    137.1,2,   144.11,2,    37.53,2,     0.00,2,     2.55,2, -999.000,9, -999.000,9, -999.000,9, -999.000,9, -999.000,9,-999.0000,9,  -999.00,9,   -999.0,9,   -999.0,9,   -999.0,9,   -999.0,9,   -999.0,9,  -999.00,9, -999.00,  -999.0,-999.0000,-999.000, -999.00,  -999.0,  1.5265,-999.000
    31DSCG94_3,  P18N,   108,  1,    102,   1223,2,19940403,1539,-15.5017,-103.0003, 3703,   3597.1,   1.8107,  34.6764,2,  34.6750,2,    136.6,2,    138.1,2,   141.39,2,    37.94,2,     0.00,2,     2.49,2, -999.000,9, -999.000,9, -999.000,9, -999.000,9, -999.000,9,-999.0000,9,  -999.00,9,   -999.0,9,   -999.0,9,   -999.0,9,   -999.0,9,   -999.0,9,     7.58,2, -999.00,  -999.0,-999.0000,-999.000,   25.00,  -999.0,  1.5265,-999.000
    31DSCG94_3,  P18N,   108,  1,    101,   1041,2,19940403,1539,-15.5017,-103.0003, 3703,   3774.8,   1.8183,  34.6759,2,  34.6752,2,    137.8,2,    135.9,2,   142.63,2,    37.90,2,     0.00,2,     2.53,2, -999.000,9, -999.000,9, -999.000,9, -999.000,9, -999.000,9,-999.0000,9,  -999.00,9,   -999.0,9,   -999.0,9,   -999.0,9,   -999.0,9,   -999.0,9,  -999.00,9, -999.00,  -999.0,-999.0000,-999.000, -999.00,  -999.0,  1.5150,-999.000