BOTTLE,20220630CCHSIOAMB
EXPOCODE,SECT_ID,STNNBR,CASTNO,SAMPNO,BTLNBR,BTLNBR_FLAG_W,DATE,TIME,LATITUDE,LONGITUDE,DEPTH,CTDPRS,CTDTMP,CTDSAL,CTDSAL_FLAG_W,SALNTY,SALNTY_FLAG_W,CTDOXY,CTDOXY_FLAG_W,OXYGEN,OXYGEN_FLAG_W,SILCAT,SILCAT_FLAG_W,NITRAT,NITRAT_FLAG_W,NITRIT,NITRIT_FLAG_W,PHSPHT,PHSPHT_FLAG_W,CFC-11,CFC-11_FLAG_W,CFC-12,CFC-12_FLAG_W,CFC113,CFC113_FLAG_W,CCL4,CCL4_FLAG_W,TRITUM,TRITUM_FLAG_W,HELIUM,HELIUM_FLAG_W,DELHE3,DELHE3_FLAG_W,DELC14,DELC14_FLAG_W,DELC13,DELC13_FLAG_W,TCARBN,TCARBN_FLAG_W,PCO2,PCO2_FLAG_W,ALKALI,ALKALI_FLAG_W,PH,PH_FLAG_W,PCO2TMP,C14ERR,HELIER,DELHER,PH_TMP,C13ERR,THETA,TRITER
,,,,,,,,,,,,DBAR,ITS-90,PSS-78,,PSS-78,,UMOL/KG,,UMOL/KG,,UMOL/KG,,UMOL/KG,,UMOL/KG,,UMOL/KG,,PMOL/KG,,PMOL/KG,,PMOL/KG,,PMOL/KG,,TU,,NMOL/KG,,PERCNT,,/MILLE,,/MILLE,,UMOL/KG,,UATM,,UMOL/KG,,,,DEG C,/MILLE,NMOL/KG,PERCNT,DEG C,/MILLE,DEG C,TU
    31DSCG94_2,  P18S,    34,  1,    136,   1025,2,19940308,2332,-53.8333,-102.9983, 4229,     12.5,   7.8237,  34.2536,2,  34.2555,2,    286.6,2,    287.5,2,     2.27,2,    15.64,2,     0.25,2,     1.22,2, -999.000,9, -999.000,9, -999.000,9, -999.000,9, -999.000,9,-999.0000,9,  -999.00,9,   -999.0,9,      1.7,2,   2093.3,2,    573.8,2,   2276.0,2,     7.83,2,   20.00,  -999.0,-999.0000,-999.000,   25.00,  -999.0,  7.8225,-999.000
    31DSCG94_2,  P18S,    34,  1,    135,   1247,2,19940308,2332,-53.8333,-102.9983, 4229,     23.5,   7.8125,  34.2529,2,  34.2528,2,    287.2,2,    286.9,2,     2.28,2,    15.27,2,     0.23,2,     0.58,4,    4.249,2,    2.124,2, -999.000,9, -999.000,9,    0.318,2,   1.7599,2,    -1.57,2,   -999.0,9,   -999.0,9,   2097.0,3,    573.8,2,   -999.0,5,     7.84,2,   20.00,  -999.0,-999.0000,-999.000,   25.00,  -999.0,  7.8102,   0.005
    31DSCG94_2,  P18S,    34,  1,    134,   1108,2,19940308,2332,-53.8333,-102.9983, 4229,     50.9,   7.7924,  34.2528,2,  34.2530,2,    286.9,2,    286.8,2,     2.23,2,    15.26,2,     0.23,2,     1.21,2, -999.000,9, -999.000,9, -999.000,9, -999.000,9, -999.000,9,-999.0000,9,  -999.00,9,   -999.0,9,   -999.0,9,   2092.7,2,    574.8,2,   2279.0,2,     7.83,2,   20.00,  -999.0,-999.0000,-999.000,   25.00,  -999.0,  7.7875,-999.000
    31DSCG94_2,  P18S,    34,  1,    133,   1244,2,19940308,2332,-53.8333,-102.9983, 4229,     75.0,   7.7897,  34.2524,2,  34.2532,2,    287.4,2,    286.9,2,     2.19,2,    15.50,2,     0.25,2,     1.23,2, -999.000,9, -999.000,9, -999.000,9, -999.000,9, -999.000,9,-999.0000,9,  -999.00,9,   -999.0,9,   -999.0,9,   -999.0,9,    574.6,2,   -999.0,9,     7.84,2,   20.00,  -999.0,-999.0000,-999.000,   25.00,  -999.0,  7.7824,-999.000
    31DSCG94_2,  P18S,    34,  1,    132,   1003,2,19940308,2332,-53.8333,-102.9983, 4229,     98.9,   7.1070,  34.2758,2,  34.2783,2,    287.1,2,    285.4,2,     4.08,2,    16.65,2,     0.37,2,     1.31,2,    4.309,2,    2.167,2, -999.000,9, -999.000,9, -999.000,9,   1.7634,2,    -1.65,2,   -999.0,9,   -999.0,9,   2106.1,2,    615.2,2,   2286.0,2,     7.81,2,   20.00,  -999.0,-999.0000,-999.000,   25.00,  -999.0,  7.0978,-999.000
    31DSCG94_2,  P18S,    34,  1,    131,   1211,2,19940308,2332,-53.8333,-102.9983, 4229,    125.9,   6.3618,  34.3000,2,  34.2998,2,    285.3,2,    284.4,2,     6.66,2,    18.24,2,     0.56,2,     1.42,2, -999.000,9, -999.000,9, -999.000,9, -999.000,9, -999.000,9,-999.0000,9,  -999.00,9,   -999.0,9,   -999.0,9,   -999.0,9,    662.0,2,   -999.0,9,     7.78,2,   20.00,  -999.0,-999.0000,-999.000,   25.00,  -999.0,  6.3508,-999.000
    31DSCG94_2,  P18S,    34,  1,    130,   1241,2,19940308,2332,-53.8333,-102.9983, 4229,    148.3,   6.2951,  34.3013,2,  34.3021,2,    283.4,2,    283.5,2,     6.90,2,    19.02,2,     0.37,2,     1.44,2, -999.000,9, -999.000,9, -999.000,9, -999.000,9, -999.000,9,-999.0000,9,  -999.00,9,   -999.0,9,   -999.0,9,   -999.0,9,    666.3,2,   -999.0,9,     7.78,2,   20.00,  -999.0,-999.0000,-999.000,   25.00,  -999.0,  6.2822,-999.000
    31DSCG94_2,  P18S,    34,  1,    129,   1031,2,19940308,2332,-53.8333,-102.9983, 4229,    201.7,   6.1599,  34.3038,2,  34.3047,2,    282.5,2,    282.2,2,     6.81,2,    19.46,2,     0.01,2,     1.45,2, -999.000,9, -999.000,9, -999.000,9, -999.000,9, -999.000,9,-999.0000,9,  -999.00,9,   -999.0,9,   -999.0,9,   2119.2,2,    672.1,2,   2276.0,2,     7.78,2,   20.00,  -999.0,-999.0000,-999.000,   25.00,  -999.0,  6.1425,-999.000
    31DSCG94_2,  P18S,    34,  1,    128,   1210,2,19940308,2332,-53.8333,-102.9983, 4229,    249.0,   6.0888,  34.3075,2,  34.3077,2,    282.2,2,    283.0,2,     7.15,2,    19.76,2,     0.03,2,     1.47,2, -999.000,9, -999.000,9, -999.000,9, -999.000,9, -999.000,9,-999.0000,9,  -999.00,9,   -999.0,9,   -999.0,9,   -999.0,9,    675.3,2,   -999.0,9,     7.77,2,   20.00,  -999.0,-999.0000,-999.000,   25.00,  -999.0,  6.0674,-999.000
    31DSCG94_2,  P18S,    34,  1,    127,   1008,2,19940308,2332,-53.8333,-102.9983, 4229,    300.1,   5.9921,  34.3048,2,  34.3056,2,    282.4,2,    282.2,2,     7.53,2,    19.89,2,     0.00,2,     1.48,2,    4.107,2,    2.073,2, -999.000,9, -999.000,9,    0.304,2,   1.7639,2,    -1.38,2,   -999.0,9,   -999.0,9,   2122.1,2,    678.3,2,   2276.0,2,     7.77,2,   20.00,  -999.0,-999.0000,-999.000,   25.00,  -999.0,  5.9664,   0.005
    31DSCG94_2,  P18S,    34,  1,    126,   1007,2,19940308,2332,-53.8333,-102.9983, 4229,    351.0,   5.9258,  34.3022,2,  34.3022,2,    280.7,2,    281.5,2,     7.76,2,    20.00,2,     0.00,2,     1.46,2, -999.000,9, -999.000,9, -999.000,9, -999.000,9, -999.000,9,-999.0000,9,  -999.00,9,   -999.0,9,   -999.0,9,   -999.0,9,    681.9,2,   -999.0,9,     7.77,2,   20.00,  -999.0,-999.0000,-999.000,   25.00,  -999.0,  5.8958,-999.000
    31DSCG94_2,  P18S,    34,  1,    125,   1203,2,19940308,2332,-53.8333,-102.9983, 4229,    398.6,   5.8032,  34.2911,2,  34.2920,2,    279.8,2,    281.4,2,     8.16,2,    20.59,2,     0.00,2,     1.51,2, -999.000,9, -999.000,9, -999.000,9, -999.000,9, -999.000,9,-999.0000,9,  -999.00,9,   -999.0,9,   -999.0,9,   2124.5,2,    689.8,2,   2278.0,2,     7.77,2,   20.00,  -999.0,-999.0000,-999.000,   25.00,  -999.0,  5.7694,-999.000
    31DSCG94_2,  P18S,    34,  1,    123,   1101,2,19940308,2332,-53.8333,-102.9983, 4229,    499.2,   5.6521,  34.2822,2,  34.2825,2,    281.3,2,    285.5,2,     7.97,2,    20.38,2,     0.00,2,     1.50,2,   12.807,4,    2.074,4, -999.000,9, -999.000,9,    0.285,2,   1.7706,2,    -1.56,2,   -999.0,9,   -999.0,9,   2123.1,2,    686.2,2,   2276.0,2,     7.77,2,   20.00,  -999.0,-999.0000,-999.000,   25.00,  -999.0,  5.6100,   0.005
    31DSCG94_2,  P18S,    34,  1,    121,   1206,2,19940308,2332,-53.8333,-102.9983, 4229,    599.8,   5.2541,  34.2435,2,  34.2433,2,    278.5,2,    282.9,2,     9.09,2,    21.56,2,     0.00,2,     1.59,2, -999.000,9, -999.000,9, -999.000,9, -999.000,9, -999.000,9,-999.0000,9,  -999.00,9,   -999.0,9,   -999.0,9,   2126.0,2,    705.6,2,   2273.0,2,     7.76,2,   20.00,  -999.0,-999.0000,-999.000,   25.00,  -999.0,  5.2050,-999.000
    31DSCG94_2,  P18S,    34,  1,    119,   1248,2,19940308,2332,-53.8333,-102.9983, 4229,    699.3,   4.9252,  34.2173,2,  34.2175,2,    273.3,2,    272.9,2,    11.64,2,    23.33,2,     0.00,2,     1.70,2,    3.731,2,    1.899,2, -999.000,9, -999.000,9,    0.206,2,   1.7840,2,    -0.74,2,   -999.0,9,   -999.0,9,   2136.1,2,    740.7,2,   2282.0,2,     7.74,2,   20.00,  -999.0,-999.0000,-999.000,   25.00,  -999.0,  4.8692,   0.004
    31DSCG94_2,  P18S,    34,  1,    118,   1207,2,19940308,2332,-53.8333,-102.9983, 4229,    787.6,   4.6762,  34.2305,2,  34.2304,2,    248.4,2,    245.4,2,    18.30,2,    26.30,2,     0.00,2,     1.85,2,    2.790,2,    1.352,2, -999.000,9, -999.000,9,    0.160,2,   1.7924,2,     0.53,2,   -999.0,9,   -999.0,9,   2156.7,2,    829.5,2,   2283.0,2,     7.69,2,   20.00,  -999.0,-999.0000,-999.000,   25.00,  -999.0,  4.6141,   0.004
    31DSCG94_2,  P18S,    34,  1,    117,   1119,2,19940308,2332,-53.8333,-102.9983, 4229,    899.5,   4.3164,  34.2826,2,  34.2999,4,    224.5,2,    219.8,2,    27.68,2,    29.01,2,     0.00,2,     2.11,2, -999.000,9, -999.000,9, -999.000,9, -999.000,9, -999.000,9,-999.0000,9,  -999.00,9,   -999.0,9,   -999.0,9,   2180.3,2,    931.4,2,   2291.0,2,     7.65,2,   20.00,  -999.0,-999.0000,-999.000,   25.00,  -999.0,  4.2471,-999.000
    31DSCG94_2,  P18S,    34,  1,    116,   1036,2,19940308,2332,-53.8333,-102.9983, 4229,    993.8,   3.9467,  34.2996,2,  34.3296,4,    215.8,2,    213.2,2,    33.38,2,    30.40,2,     0.00,2,     2.18,2,    1.337,2,    0.648,2, -999.000,9, -999.000,9,    0.093,2,   1.8072,2,     2.68,2,   -999.0,9,   -999.0,9,   2190.8,2,    973.2,2,   2292.0,2,     7.63,2,   20.00,  -999.0,-999.0000,-999.000,   25.00,  -999.0,  3.8722,   0.004
    31DSCG94_2,  P18S,    34,  1,    115,   1017,2,19940308,2332,-53.8333,-102.9983, 4229,   1098.8,   3.4984,  34.3298,2,  34.3289,2,    206.8,2,    204.1,2,    42.02,2,    31.48,2,     0.01,2,     2.24,2, -999.000,9, -999.000,9, -999.000,9, -999.000,9, -999.000,9,-999.0000,9,  -999.00,9,   -999.0,9,   -999.0,9,   -999.0,9,   1037.8,2,   -999.0,9,     7.61,2,   20.00,  -999.0,-999.0000,-999.000,   25.00,  -999.0,  3.4190,-999.000
    31DSCG94_2,  P18S,    34,  1,    114,   1016,2,19940308,2332,-53.8333,-102.9983, 4229,   1200.1,   3.1940,  34.3603,2,  34.3598,2,    198.0,2,    197.4,2,    48.90,2,    32.43,2,     0.00,2,     2.31,2, -999.000,9, -999.000,9, -999.000,9, -999.000,9, -999.000,9,-999.0000,9,  -999.00,9,   -999.0,9,   -999.0,9,   -999.0,9,   1068.5,2,   -999.0,9,     7.60,2,   20.00,  -999.0,-999.0000,-999.000,   25.00,  -999.0,  3.1092,-999.000
    31DSCG94_2,  P18S,    34,  1,    113,   1118,2,19940308,2332,-53.8333,-102.9983, 4229,   1399.0,   2.7610,  34.4526,2,  34.4529,2,    182.2,2,    181.4,2,    62.62,2,    33.21,2,     0.00,2,     2.44,2,    0.482,2,    0.232,2, -999.000,9, -999.000,9,    0.037,2,   1.8446,2,     7.20,2,   -999.0,9,   -999.0,9,   -999.0,9,   1151.6,2,   -999.0,9,     7.57,2,   20.00,  -999.0,-999.0000,-999.000,   25.00,  -999.0,  2.6644,   0.003
    31DSCG94_2,  P18S,    34,  1,    112,   1033,2,19940308,2332,-53.8333,-102.9983, 4229,   1600.5,   2.5533,  34.5365,2,  34.5343,2,    172.8,2,    171.9,2,    71.16,2,    33.30,2,     0.00,2,     2.44,2, -999.000,9, -999.000,9, -999.000,9, -999.000,9, -999.000,9,-999.0000,9,  -999.00,9,   -999.0,9,   -999.0,9,   -999.0,9,   1172.6,2,   -999.0,9,     7.57,2,   20.00,  -999.0,-999.0000,-999.000,   25.00,  -999.0,  2.4426,-999.000
    31DSCG94_2,  P18S,    34,  1,    111,   1263,2,19940308,2332,-53.8333,-102.9983, 4229,   1800.2,   2.4155,  34.6004,2,  34.5989,2,    169.2,2,    169.4,2,    78.99,2,    32.96,2,     0.00,2,     2.45,2,    0.110,2,    0.048,2, -999.000,9, -999.000,9,    0.010,2,   1.8598,2,    10.82,2,   -999.0,9,   -999.0,9,   -999.0,9,   1173.5,2,   -999.0,9,     7.57,2,   20.00,  -999.0,-999.0000,-999.000,   25.00,  -999.0,  2.2899,   0.003
    31DSCG94_2,  P18S,    34,  1,    110,   1005,2,19940308,2332,-53.8333,-102.9983, 4229,   1997.8,   2.2947,  34.6470,2,  34.6451,2,    169.6,2,    171.0,2,    83.89,2,    32.75,2,     0.00,2,     2.32,2, -999.000,9, -999.000,9, -999.000,9, -999.000,9, -999.000,9,-999.0000,9,  -999.00,9,   -999.0,9,   -999.0,9,   -999.0,9,   1156.7,2,   -999.0,9,     7.58,2,   20.00,  -999.0,-999.0000,-999.000,   25.00,  -999.0,  2.1540,-999.000
    31DSCG94_2,  P18S,    34,  1,    109,   1611,2,19940308,2332,-53.8333,-102.9983, 4229,   2247.2,   2.1307,  34.6889,2,  34.6871,2,    174.5,2,    174.6,6,    91.23,2,    31.93,2,     0.00,2,     2.34,2, -999.000,9, -999.000,9, -999.000,9, -999.000,9, -999.000,9,-999.0000,9,  -999.00,9,   -999.0,9,   -999.0,9,   -999.0,9,   -999.0,9,   -999.0,9,     7.59,2, -999.00,  -999.0,-999.0000,-999.000,   25.00,  -999.0,  1.9706,-999.000
    31DSCG94_2,  P18S,    34,  1,    108,   1218,2,19940308,2332,-53.8333,-102.9983, 4229,   2496.3,   1.9436,  34.7081,2,  34.7065,2,    177.4,2,    178.0,2,    95.72,2,    31.49,2,     0.00,2,     2.31,2,    0.020,2,    0.007,2, -999.000,9, -999.000,9,    0.010,2,   1.8883,2,    13.72,2,   -999.0,9,   -999.0,9,   -999.0,9,   1104.4,2,   -999.0,9,     7.59,2,   20.00,  -999.0,-999.0000,-999.000,   25.00,  -999.0,  1.7645,   0.005
    31DSCG94_2,  P18S,    34,  1,    107,   1257,2,19940308,2332,-53.8333,-102.9983, 4229,   2749.4,   1.7367,  34.7114,2,  34.7103,2,    180.3,2,    180.6,6,   102.28,2,    32.80,2,     0.00,2,     2.32,2, -999.000,9, -999.000,9, -999.000,9, -999.000,9, -999.000,9,-999.0000,9,  -999.00,9,   -999.0,9,   -999.0,9,   -999.0,9,   -999.0,9,   -999.0,9,     7.60,2, -999.00,  -999.0,-999.0000,-999.000,   25.00,  -999.0,  1.5383,-999.000
    31DSCG94_2,  P18S,    34,  1,    106,   1224,2,19940308,2332,-53.8333,-102.9983, 4229,   3001.8,   1.5979,  34.7170,2,  34.7154,2,    185.4,2,    185.5,2,   105.49,2,    31.49,2,     0.00,2,     2.21,2,    0.011,2,    0.003,2, -999.000,9, -999.000,9,    0.014,2,   1.8883,2,    13.41,2,   -999.0,9,   -999.0,9,   -999.0,9,   1086.7,2,   -999.0,9,     7.60,2,   20.00,  -999.0,-999.0000,-999.000,   25.00,  -999.0,  1.3785,   0.005
    31DSCG94_2,  P18S,    34,  1,    105,   1246,2,19940308,2332,-53.8333,-102.9983, 4229,   3245.9,   1.5049,  34.7194,2,  34.7173,2,    188.9,2,    190.5,2,   108.38,2,    31.24,2,     0.00,2,     2.23,2,    0.009,2,    0.004,2, -999.000,9, -999.000,9,    0.009,2,   1.8843,2,    12.18,2,   -999.0,9,   -999.0,9,   -999.0,9,   -999.0,9,   -999.0,9,     7.61,2, -999.00,  -999.0,-999.0000,-999.000,   25.00,  -999.0,  1.2639,   0.003
    31DSCG94_2,  P18S,    34,  1,    104,   1028,2,19940308,2332,-53.8333,-102.9983, 4229,   3498.9,   1.3253,  34.7177,2,  34.7164,2,    194.5,2,    194.6,2,   112.82,2,    31.35,2,     0.00,2,     2.27,2,    0.008,2,    0.003,2, -999.000,9, -999.000,9,    0.006,2,   1.8821,2,    11.28,2,   -999.0,9,   -999.0,9,   -999.0,9,   1066.4,2,   -999.0,9,     7.61,2,   20.00,  -999.0,-999.0000,-999.000,   25.00,  -999.0,  1.0634,   0.003
    31DSCG94_2,  P18S,    34,  1,    103,   9999,2,19940308,2332,-53.8333,-102.9983, 4229,   3748.3,   1.0679,  34.7137,2,  34.7120,2,    199.5,2,    196.9,2,   118.23,2,    31.47,2,     0.00,2,     2.28,2,    0.009,2,    0.006,2, -999.000,9, -999.000,9,    0.005,2,   1.8718,2,    10.88,2,   -999.0,9,   -999.0,9,   -999.0,9,   1063.6,2,   -999.0,9,     7.61,2,   20.00,  -999.0,-999.0000,-999.000,   25.00,  -999.0,  0.7873,   0.003
    31DSCG94_2,  P18S,    34,  1,    102,   1223,2,19940308,2332,-53.8333,-102.9983, 4229,   3996.7,   0.8172,  34.7094,2,  34.7075,2,    204.5,2,    204.5,2,   126.30,2,    31.91,2,     0.00,2,     1.99,4,    0.156,4,    0.004,2, -999.000,9, -999.000,9,    0.008,2,   1.8870,2,     9.97,2,   -999.0,9,   -999.0,9,   -999.0,9,   1055.3,2,   -999.0,9,     7.61,2,   20.00,  -999.0,-999.0000,-999.000,   25.00,  -999.0,  0.5178,   0.003
    31DSCG94_2,  P18S,    34,  1,    101,   1041,2,19940308,2332,-53.8333,-102.9983, 4229,   4276.0,   0.7392,  34.7076,2,  34.7105,3,    207.9,2,    206.0,2,   130.71,2,    31.96,2,     0.00,2,     2.29,2,    0.003,2,    0.004,2, -999.000,9, -999.000,9,    0.009,2,   1.9240,2,     9.58,2,   -999.0,9,   -999.0,9,   -999.0,9,   1057.7,2,   -999.0,9,  -999.00,9,   20.00,  -999.0,-999.0000,-999.000, -999.00,  -999.0,  0.4123,   0.003