BOTTLE,20220630CCHSIOAMB
EXPOCODE,SECT_ID,STNNBR,CASTNO,SAMPNO,BTLNBR,BTLNBR_FLAG_W,DATE,TIME,LATITUDE,LONGITUDE,DEPTH,CTDPRS,CTDTMP,CTDSAL,CTDSAL_FLAG_W,SALNTY,SALNTY_FLAG_W,CTDOXY,CTDOXY_FLAG_W,OXYGEN,OXYGEN_FLAG_W,SILCAT,SILCAT_FLAG_W,NITRAT,NITRAT_FLAG_W,NITRIT,NITRIT_FLAG_W,PHSPHT,PHSPHT_FLAG_W,CFC-11,CFC-11_FLAG_W,CFC-12,CFC-12_FLAG_W,CFC113,CFC113_FLAG_W,CCL4,CCL4_FLAG_W,TRITUM,TRITUM_FLAG_W,HELIUM,HELIUM_FLAG_W,DELHE3,DELHE3_FLAG_W,DELC14,DELC14_FLAG_W,DELC13,DELC13_FLAG_W,TCARBN,TCARBN_FLAG_W,PCO2,PCO2_FLAG_W,ALKALI,ALKALI_FLAG_W,PH,PH_FLAG_W,PCO2TMP,C14ERR,HELIER,DELHER,PH_TMP,C13ERR,THETA,TRITER
,,,,,,,,,,,,DBAR,ITS-90,PSS-78,,PSS-78,,UMOL/KG,,UMOL/KG,,UMOL/KG,,UMOL/KG,,UMOL/KG,,UMOL/KG,,PMOL/KG,,PMOL/KG,,PMOL/KG,,PMOL/KG,,TU,,NMOL/KG,,PERCNT,,/MILLE,,/MILLE,,UMOL/KG,,UATM,,UMOL/KG,,,,DEG C,/MILLE,NMOL/KG,PERCNT,DEG C,/MILLE,DEG C,TU
    31DSCG94_3,  P18N,    95,  1,    136,   1025,2,19940330,2320,-21.9933,-102.9900, 3955,     10.2,  24.8015,  36.3376,2,  36.3372,2,    206.4,2,    208.9,6,     0.99,2,     0.23,3,     0.00,2,     0.27,3,    1.871,2,    1.073,2, -999.000,9, -999.000,9, -999.000,9,-999.0000,9,  -999.00,9,   -999.0,9,   -999.0,9,   2068.6,2,    323.2,2,   2395.0,6,     8.06,2,   20.00,  -999.0,-999.0000,-999.000,   25.00,  -999.0, 24.7993,-999.000
    31DSCG94_3,  P18N,    95,  1,    135,   1247,2,19940330,2320,-21.9933,-102.9900, 3955,     11.1,  24.8016,  36.3376,2,  36.3380,2,    213.6,2,    209.0,2,     0.68,2,     0.03,2,     0.00,2,     0.22,2,    1.951,6,    1.063,6, -999.000,9, -999.000,9, -999.000,9,-999.0000,9,  -999.00,9,   -999.0,9,      1.7,2,   -999.0,9,   -999.0,9,   -999.0,9,     8.06,2, -999.00,  -999.0,-999.0000,-999.000,   25.00,  -999.0, 24.7992,-999.000
    31DSCG94_3,  P18N,    95,  1,    134,   1216,2,19940330,2320,-21.9933,-102.9900, 3955,     49.1,  24.5252,  36.3229,2,  36.3257,2,    213.2,2,    209.9,2,     0.89,2,     0.06,2,     0.00,2,     0.24,2,    1.938,2,    1.081,2, -999.000,9, -999.000,9, -999.000,9,-999.0000,9,  -999.00,9,   -999.0,9,   -999.0,9,   -999.0,9,   -999.0,9,   -999.0,9,     8.06,2, -999.00,  -999.0,-999.0000,-999.000,   25.00,  -999.0, 24.5147,-999.000
    31DSCG94_3,  P18N,    95,  1,    133,   1244,2,19940330,2320,-21.9933,-102.9900, 3955,     73.4,  22.8562,  36.0774,2,  36.0778,2,    220.6,2,    225.1,2,     0.91,2,     0.10,2,     0.01,2,     0.26,2,    2.115,2,    1.180,2, -999.000,9, -999.000,9, -999.000,9,-999.0000,9,  -999.00,9,   -999.0,9,   -999.0,9,   -999.0,9,   -999.0,9,   -999.0,9,     8.06,2, -999.00,  -999.0,-999.0000,-999.000,   25.00,  -999.0, 22.8412,-999.000
    31DSCG94_3,  P18N,    95,  1,    132,   1003,2,19940330,2320,-21.9933,-102.9900, 3955,    100.6,  22.4048,  36.1253,2,  36.1155,2,    224.1,2,    224.1,2,     0.81,2,     0.15,2,     0.01,2,     0.29,2,    2.132,6,    1.189,6, -999.000,9, -999.000,9, -999.000,9,-999.0000,9,  -999.00,9,   -999.0,9,   -999.0,9,   -999.0,9,   -999.0,9,   -999.0,9,     8.05,2, -999.00,  -999.0,-999.0000,-999.000,   25.00,  -999.0, 22.3846,-999.000
    31DSCG94_3,  P18N,    95,  1,    131,   1211,2,19940330,2320,-21.9933,-102.9900, 3955,    125.0,  21.3673,  35.9592,2,  35.9635,2,    220.3,2,    224.4,2,     0.66,2,     0.07,2,     0.00,2,     0.25,2,    2.181,2,    1.203,2, -999.000,9, -999.000,9, -999.000,9,-999.0000,9,  -999.00,9,   -999.0,9,   -999.0,9,   -999.0,9,   -999.0,9,   -999.0,9,     8.04,2, -999.00,  -999.0,-999.0000,-999.000,   25.00,  -999.0, 21.3430,-999.000
    31DSCG94_3,  P18N,    95,  1,    130,   1241,2,19940330,2320,-21.9933,-102.9900, 3955,    150.6,  20.9021,  35.8894,2,  35.8884,2,    223.4,2,    220.3,2,     0.62,2,     0.04,2,     0.00,2,     0.28,2, -999.000,5, -999.000,5, -999.000,9, -999.000,9, -999.000,9,-999.0000,9,  -999.00,9,   -999.0,9,   -999.0,9,   -999.0,9,   -999.0,9,   -999.0,9,     8.03,2, -999.00,  -999.0,-999.0000,-999.000,   25.00,  -999.0, 20.8732,-999.000
    31DSCG94_3,  P18N,    95,  1,    129,   1240,2,19940330,2320,-21.9933,-102.9900, 3955,    199.6,  19.3658,  35.5813,2,  35.5641,2,    219.3,2,    212.5,2,     0.72,2,     0.53,2,     0.16,2,     0.36,2,    2.248,2,    1.238,2, -999.000,9, -999.000,9, -999.000,9,-999.0000,9,  -999.00,9,   -999.0,9,   -999.0,9,   -999.0,9,   -999.0,9,   -999.0,9,     7.99,2, -999.00,  -999.0,-999.0000,-999.000,   25.00,  -999.0, 19.3295,-999.000
    31DSCG94_3,  P18N,    95,  1,    128,   1032,3,19940330,2320,-21.9933,-102.9900, 3955,    249.4,  17.2988,  35.1781,2,  35.1768,2,    196.9,2,    203.6,2,     1.06,2,     3.32,2,     0.00,2,     0.50,2,    2.368,2,    1.277,2, -999.000,9, -999.000,9, -999.000,9,-999.0000,9,  -999.00,9,   -999.0,9,   -999.0,9,   -999.0,9,   -999.0,9,   -999.0,9,  -999.00,9, -999.00,  -999.0,-999.0000,-999.000, -999.00,  -999.0, 17.2571,-999.000
    31DSCG94_3,  P18N,    95,  1,    127,   1008,2,19940330,2320,-21.9933,-102.9900, 3955,    298.4,  13.7182,  34.6589,2,  34.6623,2,    166.3,2,    176.4,2,     3.50,2,    10.06,2,     0.00,2,     0.97,2,    2.173,2,    1.141,2, -999.000,9, -999.000,9, -999.000,9,-999.0000,9,  -999.00,9,   -999.0,9,   -999.0,9,   -999.0,9,    571.0,2,   -999.0,9,     7.83,2,   20.00,  -999.0,-999.0000,-999.000,   25.00,  -999.0, 13.6756,-999.000
    31DSCG94_3,  P18N,    95,  1,    126,   1007,2,19940330,2320,-21.9933,-102.9900, 3955,    346.3,  11.1771,  34.4831,2,  34.4833,2,    123.7,2,    117.4,2,    11.15,2,    20.07,2,     0.00,2,     1.80,2,    1.362,6,    0.695,6, -999.000,9, -999.000,9, -999.000,9,-999.0000,9,  -999.00,9,   -999.0,9,   -999.0,9,   -999.0,9,   -999.0,9,   -999.0,9,     7.64,2, -999.00,  -999.0,-999.0000,-999.000,   25.00,  -999.0, 11.1339,-999.000
    31DSCG94_3,  P18N,    95,  1,    125,   1203,2,19940330,2320,-21.9933,-102.9900, 3955,    402.1,   9.6205,  34.4793,2,  34.4784,2,    123.5,2,     90.3,2,    16.27,2,    26.43,2,     0.00,2,     2.19,2,    0.754,2,    0.391,2, -999.000,9, -999.000,9, -999.000,9,-999.0000,9,  -999.00,9,   -999.0,9,   -999.0,9,   -999.0,9,   -999.0,9,   -999.0,9,     7.54,2, -999.00,  -999.0,-999.0000,-999.000,   25.00,  -999.0,  9.5748,-999.000
    31DSCG94_3,  P18N,    95,  1,    123,   1220,2,19940330,2320,-21.9933,-102.9900, 3955,    500.8,   7.3089,  34.4038,2,  34.4042,2,    128.0,2,    117.0,2,    18.89,2,    31.93,2,     0.00,2,     2.29,2,    0.431,2,    0.235,2, -999.000,9, -999.000,9, -999.000,9,-999.0000,9,  -999.00,9,   -999.0,9,   -999.0,9,   -999.0,9,   1240.8,2,   -999.0,9,     7.54,2,   20.00,  -999.0,-999.0000,-999.000,   25.00,  -999.0,  7.2603,-999.000
    31DSCG94_3,  P18N,    95,  1,    122,   1245,2,19940330,2320,-21.9933,-102.9900, 3955,    600.2,   5.9789,  34.3421,2,  34.3419,2,    156.1,2,    165.6,2,    19.42,2,    31.21,2,     0.01,2,     2.14,2,    0.295,2,    0.184,2, -999.000,9, -999.000,9, -999.000,9,-999.0000,9,  -999.00,9,   -999.0,9,   -999.0,9,   -999.0,9,   -999.0,9,   -999.0,9,     7.60,2, -999.00,  -999.0,-999.0000,-999.000,   25.00,  -999.0,  5.9263,-999.000
    31DSCG94_3,  P18N,    95,  1,    121,   1206,2,19940330,2320,-21.9933,-102.9900, 3955,    700.4,   5.2399,  34.3377,2,  34.3378,2,    153.2,2,    160.6,2,    27.38,2,    33.16,2,     0.02,2,     2.29,2,    0.136,2,    0.080,2, -999.000,9, -999.000,9, -999.000,9,-999.0000,9,  -999.00,9,   -999.0,9,   -999.0,9,   -999.0,9,   -999.0,9,   -999.0,9,     7.58,2, -999.00,  -999.0,-999.0000,-999.000,   25.00,  -999.0,  5.1820,-999.000
    31DSCG94_3,  P18N,    95,  1,    120,   1028,2,19940330,2320,-21.9933,-102.9900, 3955,    801.0,   4.7616,  34.3813,2,  34.3805,2,    128.3,2,    134.2,2,    40.81,2,    36.71,2,     0.02,2,     2.51,2,    0.020,2,    0.017,2, -999.000,9, -999.000,9, -999.000,9,-999.0000,9,  -999.00,9,   -999.0,9,   -999.0,9,   -999.0,9,   -999.0,9,   -999.0,9,     7.53,2, -999.00,  -999.0,-999.0000,-999.000,   25.00,  -999.0,  4.6976,-999.000
    31DSCG94_3,  P18N,    95,  1,    119,   1248,2,19940330,2320,-21.9933,-102.9900, 3955,    903.4,   4.3580,  34.4311,2,  34.4293,2,    125.1,2,    122.1,2,    54.05,2,    37.48,2,     0.02,2,     2.61,2,    0.002,6,    0.003,6, -999.000,9, -999.000,9, -999.000,9,-999.0000,9,  -999.00,9,   -999.0,9,   -999.0,9,   -999.0,9,   -999.0,9,   -999.0,9,     7.51,2, -999.00,  -999.0,-999.0000,-999.000,   25.00,  -999.0,  4.2879,-999.000
    31DSCG94_3,  P18N,    95,  1,    118,   1207,2,19940330,2320,-21.9933,-102.9900, 3955,    995.8,   4.1744,  34.4935,2,  34.4958,2,    117.8,2,    104.3,2,    68.61,2,    39.60,2,     0.00,2,     2.74,2,    0.002,2,    0.001,2, -999.000,9, -999.000,9, -999.000,9,-999.0000,9,  -999.00,9,   -999.0,9,   -999.0,9,   -999.0,9,   1415.3,2,   -999.0,9,     7.49,2,   20.00,  -999.0,-999.0000,-999.000,   25.00,  -999.0,  4.0978,-999.000
    31DSCG94_3,  P18N,    95,  1,    117,   1119,2,19940330,2320,-21.9933,-102.9900, 3955,   1100.8,   3.8967,  34.5174,2,  34.5174,2,    112.3,2,    107.2,2,    77.73,2,    39.36,2,     0.00,2,     2.72,2,    0.006,2,    0.002,2, -999.000,9, -999.000,9, -999.000,9,-999.0000,9,  -999.00,9,   -999.0,9,   -999.0,9,   -999.0,9,   -999.0,9,   -999.0,9,  -999.00,9, -999.00,  -999.0,-999.0000,-999.000, -999.00,  -999.0,  3.8134,-999.000
    31DSCG94_3,  P18N,    95,  1,    116,   1036,2,19940330,2320,-21.9933,-102.9900, 3955,   1193.7,   3.6760,  34.5325,2,  34.5320,2,    113.5,2,    112.5,2,    83.74,2,    38.41,2,     0.00,2,     2.67,2,    0.002,2,    0.000,2, -999.000,9, -999.000,9, -999.000,9,-999.0000,9,  -999.00,9,   -999.0,9,   -999.0,9,   -999.0,9,   -999.0,9,   -999.0,9,  -999.00,9, -999.00,  -999.0,-999.0000,-999.000, -999.00,  -999.0,  3.5869,-999.000
    31DSCG94_3,  P18N,    95,  1,    115,   1017,2,19940330,2320,-21.9933,-102.9900, 3955,   1300.2,   3.4364,  34.5489,2,  34.5486,2,    111.6,2,    109.5,2,    91.01,2,    38.67,2,     0.04,2,     2.71,2,    0.004,2,    0.002,2, -999.000,9, -999.000,9, -999.000,9,-999.0000,9,  -999.00,9,   -999.0,9,   -999.0,9,   -999.0,9,   -999.0,9,   -999.0,9,  -999.00,9, -999.00,  -999.0,-999.0000,-999.000, -999.00,  -999.0,  3.3406,-999.000
    31DSCG94_3,  P18N,    95,  1,    114,   1016,2,19940330,2320,-21.9933,-102.9900, 3955,   1396.8,   3.2079,  34.5622,2,  34.5631,2,    113.4,2,    111.8,2,    96.07,2,    38.89,2,     0.01,2,     2.73,2,    0.000,2,    0.001,2, -999.000,9, -999.000,9, -999.000,9,-999.0000,9,  -999.00,9,   -999.0,9,   -999.0,9,   -999.0,9,   -999.0,9,   -999.0,9,  -999.00,9, -999.00,  -999.0,-999.0000,-999.000, -999.00,  -999.0,  3.1064,-999.000
    31DSCG94_3,  P18N,    95,  1,    113,   1209,2,19940330,2320,-21.9933,-102.9900, 3955,   1497.6,   3.0086,  34.5740,2,  34.5738,2,    116.0,2,    113.7,2,   100.21,2,    38.85,2,     0.01,2,     2.74,2, -999.000,9, -999.000,9, -999.000,9, -999.000,9, -999.000,9,-999.0000,9,  -999.00,9,   -999.0,9,   -999.0,9,   -999.0,9,   -999.0,9,   -999.0,9,  -999.00,9, -999.00,  -999.0,-999.0000,-999.000, -999.00,  -999.0,  2.9008,-999.000
    31DSCG94_3,  P18N,    95,  1,    112,   1033,2,19940330,2320,-21.9933,-102.9900, 3955,   1600.5,   2.7867,  34.5864,2,  34.5863,2,    121.2,2,    120.3,6,   104.75,2,    38.09,2,     0.00,2,     2.70,2,   -0.001,2,    0.000,2, -999.000,9, -999.000,9, -999.000,9,-999.0000,9,  -999.00,9,   -999.0,9,   -999.0,9,   -999.0,9,   -999.0,9,   -999.0,9,  -999.00,9, -999.00,  -999.0,-999.0000,-999.000, -999.00,  -999.0,  2.6730,-999.000
    31DSCG94_3,  P18N,    95,  1,    111,   1240,2,19940330,2320,-21.9933,-102.9900, 3955,   1797.5,   2.4304,  34.6086,2,  34.6077,2,    136.0,2,    135.6,2,   109.58,2,    37.07,2,     0.00,2,     2.57,2, -999.000,9, -999.000,9, -999.000,9, -999.000,9, -999.000,9,-999.0000,9,  -999.00,9,   -999.0,9,   -999.0,9,   -999.0,9,   -999.0,9,   -999.0,9,  -999.00,9, -999.00,  -999.0,-999.0000,-999.000, -999.00,  -999.0,  2.3048,-999.000
    31DSCG94_3,  P18N,    95,  1,    110,   1005,2,19940330,2320,-21.9933,-102.9900, 3955,   1996.1,   2.1829,  34.6291,2,  34.6290,2,    146.9,2,    147.2,2,   113.65,2,    36.17,2,     0.00,2,     2.50,2, -999.000,9, -999.000,9, -999.000,9, -999.000,9, -999.000,9,-999.0000,9,  -999.00,9,   -999.0,9,   -999.0,9,   -999.0,9,   -999.0,9,   -999.0,9,  -999.00,9, -999.00,  -999.0,-999.0000,-999.000, -999.00,  -999.0,  2.0440,-999.000
    31DSCG94_3,  P18N,    95,  1,    109,   1611,2,19940330,2320,-21.9933,-102.9900, 3955,   2252.5,   1.9778,  34.6509,2,  34.6518,2,    153.8,2,    153.3,2,   117.85,2,    35.74,2,     0.00,2,     2.44,2,   -0.001,2,   -0.002,2, -999.000,9, -999.000,9, -999.000,9,-999.0000,9,  -999.00,9,   -999.0,9,   -999.0,9,   -999.0,9,   -999.0,9,   -999.0,9,  -999.00,9, -999.00,  -999.0,-999.0000,-999.000, -999.00,  -999.0,  1.8200,-999.000
    31DSCG94_3,  P18N,    95,  1,    108,   1218,2,19940330,2320,-21.9933,-102.9900, 3955,   2489.3,   1.8818,  34.6633,2,  34.6644,2,    156.0,2,    156.0,6,   119.88,2,    35.39,2,     0.00,2,     2.42,2, -999.000,9, -999.000,9, -999.000,9, -999.000,9, -999.000,9,-999.0000,9,  -999.00,9,   -999.0,9,   -999.0,9,   -999.0,9,   -999.0,9,   -999.0,9,  -999.00,9, -999.00,  -999.0,-999.0000,-999.000, -999.00,  -999.0,  1.7047,-999.000
    31DSCG94_3,  P18N,    95,  1,    107,   1257,2,19940330,2320,-21.9933,-102.9900, 3955,   2752.0,   1.8247,  34.6724,2,  34.6719,2,    156.5,2,    156.3,2,   122.41,2,    35.67,2,     0.01,2,     2.40,2, -999.000,9, -999.000,9, -999.000,9, -999.000,9, -999.000,9,-999.0000,9,  -999.00,9,   -999.0,9,   -999.0,9,   -999.0,9,   -999.0,9,   -999.0,9,  -999.00,9, -999.00,  -999.0,-999.0000,-999.000, -999.00,  -999.0,  1.6244,-999.000
    31DSCG94_3,  P18N,    95,  1,    106,   1224,2,19940330,2320,-21.9933,-102.9900, 3955,   3000.3,   1.7975,  34.6781,2,  34.6807,2,    154.9,2,    153.9,2,   124.98,2,    35.77,2,     0.02,2,     2.39,2, -999.000,9, -999.000,9, -999.000,9, -999.000,9, -999.000,9,-999.0000,9,  -999.00,9,   -999.0,9,   -999.0,9,   -999.0,9,   -999.0,9,   -999.0,9,  -999.00,9, -999.00,  -999.0,-999.0000,-999.000, -999.00,  -999.0,  1.5740,-999.000
    31DSCG94_3,  P18N,    95,  1,    105,   1246,2,19940330,2320,-21.9933,-102.9900, 3955,   3240.3,   1.7900,  34.6817,2,  34.6817,2,    151.1,2,    152.0,2,   127.12,2,    35.98,2,     0.04,2,     2.45,2, -999.000,9, -999.000,9, -999.000,9, -999.000,9, -999.000,9,-999.0000,9,  -999.00,9,   -999.0,9,   -999.0,9,   -999.0,9,   -999.0,9,   -999.0,9,  -999.00,9, -999.00,  -999.0,-999.0000,-999.000, -999.00,  -999.0,  1.5430,-999.000
    31DSCG94_3,  P18N,    95,  1,    104,   1217,2,19940330,2320,-21.9933,-102.9900, 3955,   3491.9,   1.7958,  34.6843,2,  34.6849,2,    149.6,2,    150.2,2,   129.49,2,    36.36,2,     0.04,2,     2.47,2, -999.000,9, -999.000,9, -999.000,9, -999.000,9, -999.000,9,-999.0000,9,  -999.00,9,   -999.0,9,   -999.0,9,   -999.0,9,   -999.0,9,   -999.0,9,  -999.00,9, -999.00,  -999.0,-999.0000,-999.000, -999.00,  -999.0,  1.5230,-999.000
    31DSCG94_3,  P18N,    95,  1,    102,   1223,2,19940330,2320,-21.9933,-102.9900, 3955,   3749.9,   1.8178,  34.6851,2,  34.6857,2,    149.3,2,    151.9,3,   132.27,2,    36.10,2,     0.03,3,     2.47,2, -999.000,9, -999.000,9, -999.000,9, -999.000,9, -999.000,9,-999.0000,9,  -999.00,9,   -999.0,9,   -999.0,9,   -999.0,9,   -999.0,9,   -999.0,9,  -999.00,9, -999.00,  -999.0,-999.0000,-999.000, -999.00,  -999.0,  1.5171,-999.000
    31DSCG94_3,  P18N,    95,  1,    103,   9999,2,19940330,2320,-21.9933,-102.9900, 3955,   3750.7,   1.8177,  34.6852,2,  34.6857,2,    149.1,2,    149.9,2,   131.31,2,    36.25,2,     0.00,2,     2.48,2, -999.000,9, -999.000,9, -999.000,9, -999.000,9, -999.000,9,-999.0000,9,  -999.00,9,   -999.0,9,   -999.0,9,   -999.0,9,   -999.0,9,   -999.0,9,  -999.00,9, -999.00,  -999.0,-999.0000,-999.000, -999.00,  -999.0,  1.5170,-999.000
    31DSCG94_3,  P18N,    95,  1,    101,   1041,2,19940330,2320,-21.9933,-102.9900, 3955,   3979.8,   1.8377,  34.6856,2,  34.6851,2,    146.5,2,    149.7,2,   132.54,2,    35.81,2,     0.01,2,     2.44,2, -999.000,9, -999.000,9, -999.000,9, -999.000,9, -999.000,9,-999.0000,9,  -999.00,9,   -999.0,9,   -999.0,9,   -999.0,9,   -999.0,9,   -999.0,9,  -999.00,9, -999.00,  -999.0,-999.0000,-999.000, -999.00,  -999.0,  1.5114,-999.000