BOTTLE,20220630CCHSIOAMB
EXPOCODE,SECT_ID,STNNBR,CASTNO,SAMPNO,BTLNBR,BTLNBR_FLAG_W,DATE,TIME,LATITUDE,LONGITUDE,DEPTH,CTDPRS,CTDTMP,CTDSAL,CTDSAL_FLAG_W,SALNTY,SALNTY_FLAG_W,CTDOXY,CTDOXY_FLAG_W,OXYGEN,OXYGEN_FLAG_W,SILCAT,SILCAT_FLAG_W,NITRAT,NITRAT_FLAG_W,NITRIT,NITRIT_FLAG_W,PHSPHT,PHSPHT_FLAG_W,CFC-11,CFC-11_FLAG_W,CFC-12,CFC-12_FLAG_W,CFC113,CFC113_FLAG_W,CCL4,CCL4_FLAG_W,TRITUM,TRITUM_FLAG_W,HELIUM,HELIUM_FLAG_W,DELHE3,DELHE3_FLAG_W,DELC14,DELC14_FLAG_W,DELC13,DELC13_FLAG_W,TCARBN,TCARBN_FLAG_W,PCO2,PCO2_FLAG_W,ALKALI,ALKALI_FLAG_W,PH,PH_FLAG_W,PCO2TMP,C14ERR,HELIER,DELHER,PH_TMP,C13ERR,THETA,TRITER
,,,,,,,,,,,,DBAR,ITS-90,PSS-78,,PSS-78,,UMOL/KG,,UMOL/KG,,UMOL/KG,,UMOL/KG,,UMOL/KG,,UMOL/KG,,PMOL/KG,,PMOL/KG,,PMOL/KG,,PMOL/KG,,TU,,NMOL/KG,,PERCNT,,/MILLE,,/MILLE,,UMOL/KG,,UATM,,UMOL/KG,,,,DEG C,/MILLE,NMOL/KG,PERCNT,DEG C,/MILLE,DEG C,TU
    31DSCG94_3,  P18N,   109,  1,    136,   1025,2,19940403,2141,-14.9998,-102.9992, 4208,     10.0,  24.8511,  36.4070,2,  36.4058,2,    216.2,2,    207.9,2,     1.46,2,     0.08,2,     0.00,2,     0.26,2,    1.933,2,    1.058,2, -999.000,9, -999.000,9, -999.000,9,-999.0000,9,  -999.00,9,   -999.0,9,      1.7,2,   2064.2,2,    304.4,2,   2404.0,6,     8.07,2,   20.00,  -999.0,-999.0000,-999.000,   25.00,  -999.0, 24.8490,-999.000
    31DSCG94_3,  P18N,   109,  1,    135,   1247,2,19940403,2141,-14.9998,-102.9992, 4208,     25.3,  24.5397,  36.3972,2,  36.4052,2,    211.2,2,    209.4,2,     1.57,2,     0.05,2,     0.00,2,     0.25,2,    1.946,2,    1.090,2, -999.000,9, -999.000,9, -999.000,9,-999.0000,9,  -999.00,9,   -999.0,9,   -999.0,9,   2063.1,2,   -999.0,9,   2405.0,2,     8.08,2, -999.00,  -999.0,-999.0000,-999.000,   25.00,  -999.0, 24.5343,-999.000
    31DSCG94_3,  P18N,   109,  1,    134,   1216,2,19940403,2141,-14.9998,-102.9992, 4208,     49.6,  24.2611,  36.3635,2,  36.3647,2,    213.7,2,    211.5,2,     1.34,2,     0.00,2,     0.00,2,     0.28,2,    1.963,2,    1.084,2, -999.000,9, -999.000,9, -999.000,9,-999.0000,9,  -999.00,9,   -999.0,9,   -999.0,9,   2063.2,2,    306.1,2,   2397.0,2,     8.07,2,   20.00,  -999.0,-999.0000,-999.000,   25.00,  -999.0, 24.2505,-999.000
    31DSCG94_3,  P18N,   109,  1,    133,   1244,2,19940403,2141,-14.9998,-102.9992, 4208,     73.4,  23.0502,  36.2833,2,  36.2823,2,    220.9,2,    219.6,2,     1.18,2,     0.03,2,     0.00,2,     0.28,2,    2.091,2,    1.138,2, -999.000,9, -999.000,9, -999.000,9,-999.0000,9,  -999.00,9,   -999.0,9,   -999.0,9,   2067.3,2,   -999.0,9,   2399.0,2,     8.06,2, -999.00,  -999.0,-999.0000,-999.000,   25.00,  -999.0, 23.0351,-999.000
    31DSCG94_3,  P18N,   109,  1,    132,   1003,2,19940403,2141,-14.9998,-102.9992, 4208,     98.8,  22.3155,  36.2296,2,  36.2271,2,    217.7,2,    216.6,2,     1.14,2,     0.04,2,     0.00,2,     0.28,2,    2.122,2,    1.173,2, -999.000,9, -999.000,9, -999.000,9,-999.0000,9,  -999.00,9,   -999.0,9,   -999.0,9,   2067.4,2,    324.8,2,   2395.0,2,     8.05,2,   20.00,  -999.0,-999.0000,-999.000,   25.00,  -999.0, 22.2957,-999.000
    31DSCG94_3,  P18N,   109,  1,    131,   1211,2,19940403,2141,-14.9998,-102.9992, 4208,    124.2,  21.5001,  36.0553,2,  36.0564,2,    216.1,2,    215.1,2,     1.20,2,     0.01,2,     0.00,2,     0.26,2,    2.169,6,    1.192,6, -999.000,9, -999.000,9, -999.000,9,-999.0000,9,  -999.00,9,   -999.0,9,   -999.0,9,   2069.8,2,   -999.0,9,   2376.0,2,     8.04,2, -999.00,  -999.0,-999.0000,-999.000,   25.00,  -999.0, 21.4759,-999.000
    31DSCG94_3,  P18N,   109,  1,    130,   1241,2,19940403,2141,-14.9998,-102.9992, 4208,    147.3,  20.8212,  35.9067,2,  35.9085,2,    217.3,2,    215.5,2,     1.12,2,     0.08,2,     0.03,2,     0.26,2,    2.252,2,    1.221,2, -999.000,9, -999.000,9, -999.000,9,-999.0000,9,  -999.00,9,   -999.0,9,   -999.0,9,   2068.7,2,   -999.0,9,   2368.0,2,     8.03,2, -999.00,  -999.0,-999.0000,-999.000,   25.00,  -999.0, 20.7931,-999.000
    31DSCG94_3,  P18N,   109,  1,    129,   1240,2,19940403,2141,-14.9998,-102.9992, 4208,    199.8,  17.4302,  35.2881,2,  35.2849,2,    181.0,2,    180.0,2,     2.46,2,     6.02,2,     0.00,2,     0.73,2,    2.264,2,    1.214,2, -999.000,9, -999.000,9, -999.000,9,-999.0000,9,  -999.00,9,   -999.0,9,   -999.0,9,   2099.7,2,    479.2,2,   2332.0,2,     7.91,2,   20.00,  -999.0,-999.0000,-999.000,   25.00,  -999.0, 17.3966,-999.000
    31DSCG94_3,  P18N,   109,  1,    128,   1032,2,19940403,2141,-14.9998,-102.9992, 4208,    247.8,  13.3236,  34.7602,2,  34.7556,2,     88.3,2,     81.3,2,    11.40,2,    17.39,2,     0.00,2,     1.82,2,    1.413,6,    0.745,6, -999.000,9, -999.000,9, -999.000,9,-999.0000,9,  -999.00,9,   -999.0,9,   -999.0,9,   2187.7,2,   -999.0,9,   2295.0,2,     7.63,2, -999.00,  -999.0,-999.0000,-999.000,   25.00,  -999.0, 13.2890,-999.000
    31DSCG94_3,  P18N,   109,  1,    127,   1008,2,19940403,2141,-14.9998,-102.9992, 4208,    298.2,  11.3752,  34.7036,2,  34.7013,2,     30.1,2,     15.2,6,    22.42,2,    25.79,2,     0.00,2,     2.57,2,    0.334,2,    0.194,2, -999.000,9, -999.000,9, -999.000,9,-999.0000,9,  -999.00,9,   -999.0,9,   -999.0,9,   2256.8,2,   1629.0,2,   2294.0,2,     7.43,2,   20.00,  -999.0,-999.0000,-999.000,   25.00,  -999.0, 11.3375,-999.000
    31DSCG94_3,  P18N,   109,  1,    126,   1007,2,19940403,2141,-14.9998,-102.9992, 4208,    348.9,  10.0918,  34.6647,2,  34.6629,2,     17.9,2,      9.1,2,    26.91,2,    32.12,2,     0.01,2,     2.73,2,    0.100,2,    0.057,2, -999.000,9, -999.000,9, -999.000,9,-999.0000,9,  -999.00,9,   -999.0,9,   -999.0,9,   2271.8,2,   -999.0,9,   2299.0,2,     7.39,2, -999.00,  -999.0,-999.0000,-999.000,   25.00,  -999.0, 10.0509,-999.000
    31DSCG94_3,  P18N,   109,  1,    125,   1203,2,19940403,2141,-14.9998,-102.9992, 4208,    400.1,   9.1813,  34.6305,2,  34.6254,2,     17.8,2,     12.8,6,    29.89,2,    36.32,2,     0.01,2,     2.76,2, -999.000,5, -999.000,5, -999.000,9, -999.000,9, -999.000,9,-999.0000,9,  -999.00,9,   -999.0,9,   -999.0,9,   2273.2,2,   1847.9,2,   2300.0,2,     7.38,2,   20.00,  -999.0,-999.0000,-999.000,   25.00,  -999.0,  9.1370,-999.000
    31DSCG94_3,  P18N,   109,  1,    123,   1220,2,19940403,2141,-14.9998,-102.9992, 4208,    500.3,   7.5423,  34.5541,2,  34.5527,2,     33.0,2,     30.9,2,    34.87,2,    40.26,2,     0.01,2,     2.83,2,    0.012,2,    0.007,2, -999.000,9, -999.000,9, -999.000,9,-999.0000,9,  -999.00,9,   -999.0,9,   -999.0,9,   2275.6,2,   1818.0,2,   2300.0,2,     7.39,2,   20.00,  -999.0,-999.0000,-999.000,   25.00,  -999.0,  7.4927,-999.000
    31DSCG94_3,  P18N,   109,  1,    122,   1245,2,19940403,2141,-14.9998,-102.9992, 4208,    598.6,   6.6362,  34.5195,2,  34.5194,2,     44.2,2,     40.9,2,    40.37,2,    41.81,2,     0.00,2,     2.88,2,    0.004,2,    0.004,2, -999.000,9, -999.000,9, -999.000,9,-999.0000,9,  -999.00,9,   -999.0,9,   -999.0,9,   2278.9,2,   1790.1,2,   2299.0,2,     7.40,2,   20.00,  -999.0,-999.0000,-999.000,   25.00,  -999.0,  6.5806,-999.000
    31DSCG94_3,  P18N,   109,  1,    121,   1206,2,19940403,2141,-14.9998,-102.9992, 4208,    698.3,   5.8407,  34.5021,2,  34.5010,2,     51.6,2,     47.3,2,    47.71,2,    43.20,2,     0.01,2,     2.93,2,   -0.001,2,    0.000,6, -999.000,9, -999.000,9, -999.000,9,-999.0000,9,  -999.00,9,   -999.0,9,   -999.0,9,   2286.7,2,   1780.1,2,   2315.0,2,     7.40,2,   20.00,  -999.0,-999.0000,-999.000,   25.00,  -999.0,  5.7796,-999.000
    31DSCG94_3,  P18N,   109,  1,    120,   1028,2,19940403,2141,-14.9998,-102.9992, 4208,    799.5,   5.2130,  34.5058,2,  34.5051,2,     50.0,2,     47.3,2,    59.04,2,    43.84,2,     0.01,2,     3.02,2,   -0.003,2,   -0.002,2, -999.000,9, -999.000,9, -999.000,9,-999.0000,9,  -999.00,9,   -999.0,9,   -999.0,9,   2301.4,2,   1828.9,2,   2326.0,2,     7.39,2,   20.00,  -999.0,-999.0000,-999.000,   25.00,  -999.0,  5.1463,-999.000
    31DSCG94_3,  P18N,   109,  1,    119,   1248,2,19940403,2141,-14.9998,-102.9992, 4208,    898.9,   4.6342,  34.5138,2,  34.5133,2,     61.3,2,     59.3,2,    70.83,2,    43.05,2,     0.01,2,     3.01,2,   -0.004,2,    0.001,2, -999.000,9, -999.000,9, -999.000,9,-999.0000,9,  -999.00,9,   -999.0,9,   -999.0,9,   2302.6,2,   1747.9,2,   2341.0,2,     7.41,2,   20.00,  -999.0,-999.0000,-999.000,   25.00,  -999.0,  4.5624,-999.000
    31DSCG94_3,  P18N,   109,  1,    118,   1115,2,19940403,2141,-14.9998,-102.9992, 4208,    998.1,   4.2506,  34.5267,2,  34.5270,2,     68.2,2,     67.1,2,    78.69,2,    42.18,2,     0.00,2,     2.97,2,   -0.001,2,    0.000,2, -999.000,9, -999.000,9, -999.000,9,-999.0000,9,  -999.00,9,   -999.0,9,   -999.0,9,   2307.5,2,   1944.5,3,   2343.0,6,     7.43,2,   20.00,  -999.0,-999.0000,-999.000,   25.00,  -999.0,  4.1731,-999.000
    31DSCG94_3,  P18N,   109,  1,    117,   1119,2,19940403,2141,-14.9998,-102.9992, 4208,   1099.2,   3.8775,  34.5431,2,  34.5413,2,     75.5,2,     74.4,2,    86.57,2,    41.87,2,     0.00,2,     2.97,2, -999.000,9, -999.000,9, -999.000,9, -999.000,9, -999.000,9,-999.0000,9,  -999.00,9,   -999.0,9,   -999.0,9,   2314.2,2,   -999.0,9,   2356.0,2,     7.44,2, -999.00,  -999.0,-999.0000,-999.000,   25.00,  -999.0,  3.7944,-999.000
    31DSCG94_3,  P18N,   109,  1,    116,   1036,2,19940403,2141,-14.9998,-102.9992, 4208,   1200.5,   3.5601,  34.5580,2,  34.5573,2,     81.5,2,     79.7,2,    94.17,2,    41.34,2,     0.00,2,     2.93,2,   -0.004,2,    0.000,2, -999.000,9, -999.000,9, -999.000,9,-999.0000,9,  -999.00,9,   -999.0,9,   -999.0,9,   2318.2,2,   1614.7,2,   2367.0,2,     7.45,2,   20.00,  -999.0,-999.0000,-999.000,   25.00,  -999.0,  3.4714,-999.000
    31DSCG94_3,  P18N,   109,  1,    115,   1017,2,19940403,2141,-14.9998,-102.9992, 4208,   1298.3,   3.2858,  34.5725,2,  34.5722,2,     87.6,2,     85.3,2,   102.90,2,    40.51,2,     0.00,2,     2.91,2, -999.000,9, -999.000,9, -999.000,9, -999.000,9, -999.000,9,-999.0000,9,  -999.00,9,   -999.0,9,   -999.0,9,   -999.0,9,   -999.0,9,   2369.0,2,     7.46,2, -999.00,  -999.0,-999.0000,-999.000,   25.00,  -999.0,  3.1916,-999.000
    31DSCG94_3,  P18N,   109,  1,    114,   1016,2,19940403,2141,-14.9998,-102.9992, 4208,   1399.6,   3.0402,  34.5841,2,  34.5842,2,     92.6,2,     93.4,2,   109.03,2,    39.93,2,     0.00,2,     2.86,2, -999.000,9, -999.000,9, -999.000,9, -999.000,9, -999.000,9,-999.0000,9,  -999.00,9,   -999.0,9,   -999.0,9,   2324.1,2,   1509.2,2,   -999.0,5,     7.47,2,   20.00,  -999.0,-999.0000,-999.000,   25.00,  -999.0,  2.9402,-999.000
    31DSCG94_3,  P18N,   109,  1,    113,   1209,2,19940403,2141,-14.9998,-102.9992, 4208,   1597.4,   2.6590,  34.6081,2,  34.6081,2,    103.9,2,    104.5,2,   116.78,2,    39.16,2,     0.00,2,     2.78,2,    0.002,2,    0.001,2, -999.000,9, -999.000,9, -999.000,9,-999.0000,9,  -999.00,9,   -999.0,9,   -999.0,9,   2327.0,2,   1452.9,2,   2389.0,2,     7.50,2,   20.00,  -999.0,-999.0000,-999.000,   25.00,  -999.0,  2.5470,-999.000
    31DSCG94_3,  P18N,   109,  1,    112,   1033,2,19940403,2141,-14.9998,-102.9992, 4208,   1799.4,   2.3330,  34.6297,2,  34.6296,2,    117.4,2,    117.8,2,   120.89,2,    37.77,2,     0.00,2,     2.68,2, -999.000,9, -999.000,9, -999.000,9, -999.000,9, -999.000,9,-999.0000,9,  -999.00,9,   -999.0,9,   -999.0,9,   2325.4,2,   1350.6,2,   2393.0,2,     7.52,2,   20.00,  -999.0,-999.0000,-999.000,   25.00,  -999.0,  2.2085,-999.000
    31DSCG94_3,  P18N,   109,  1,    111,   1240,2,19940403,2141,-14.9998,-102.9992, 4208,   1998.1,   2.0849,  34.6466,2,  34.6461,2,    131.4,2,    132.1,6,   121.52,2,    36.83,2,     0.00,2,     2.58,2,   -0.001,2,   -0.002,2, -999.000,9, -999.000,9, -999.000,9,-999.0000,9,  -999.00,9,   -999.0,9,   -999.0,9,   2319.6,2,   1276.4,2,   2399.0,2,     7.54,2,   20.00,  -999.0,-999.0000,-999.000,   25.00,  -999.0,  1.9473,-999.000
    31DSCG94_3,  P18N,   109,  1,    110,   1005,2,19940403,2141,-14.9998,-102.9992, 4208,   2246.1,   1.8917,  34.6628,2,  34.6626,2,    144.5,2,    144.2,2,   123.16,2,    35.84,2,     0.00,2,     2.49,2, -999.000,9, -999.000,9, -999.000,9, -999.000,9, -999.000,9,-999.0000,9,  -999.00,9,   -999.0,9,   -999.0,9,   2317.1,2,   -999.0,9,   2407.0,2,     7.57,2, -999.00,  -999.0,-999.0000,-999.000,   25.00,  -999.0,  1.7359,-999.000
    31DSCG94_3,  P18N,   109,  1,    109,   1611,2,19940403,2141,-14.9998,-102.9992, 4208,   2500.2,   1.8159,  34.6713,2,  34.6714,2,    147.0,2,    144.2,2,   130.74,2,    35.70,2,     0.00,2,     2.51,2, -999.000,9, -999.000,9, -999.000,9, -999.000,9, -999.000,9,-999.0000,9,  -999.00,9,   -999.0,9,   -999.0,9,   2321.9,2,   1190.8,2,   2417.0,2,     7.57,2,   20.00,  -999.0,-999.0000,-999.000,   25.00,  -999.0,  1.6389,-999.000
    31DSCG94_3,  P18N,   109,  1,    108,   1218,2,19940403,2141,-14.9998,-102.9992, 4208,   2747.3,   1.7891,  34.6749,2,  34.6756,2,    144.0,2,    141.8,2,   137.47,2,    35.91,2,     0.01,2,     2.51,2, -999.000,9, -999.000,9, -999.000,9, -999.000,9, -999.000,9,-999.0000,9,  -999.00,9,   -999.0,9,   -999.0,9,   2327.6,2,   -999.0,9,   -999.0,5,     7.58,2, -999.00,  -999.0,-999.0000,-999.000,   25.00,  -999.0,  1.5899,-999.000
    31DSCG94_3,  P18N,   109,  1,    107,   1257,2,19940403,2141,-14.9998,-102.9992, 4208,   3000.4,   1.7838,  34.6763,2,  34.6754,2,    141.5,2,    140.2,6,   139.96,2,    36.27,2,     0.00,2,     2.52,2,    0.004,2,    0.002,2, -999.000,9, -999.000,9, -999.000,9,-999.0000,9,  -999.00,9,   -999.0,9,   -999.0,9,   2332.0,2,   1193.6,2,   2423.0,2,     7.58,2,   20.00,  -999.0,-999.0000,-999.000,   25.00,  -999.0,  1.5607,-999.000
    31DSCG94_3,  P18N,   109,  1,    106,   1224,2,19940403,2141,-14.9998,-102.9992, 4208,   3250.1,   1.7866,  34.6764,2,  34.6765,2,    140.4,2,    138.0,2,   140.62,2,    36.80,2,     0.00,2,     2.52,2, -999.000,9, -999.000,9, -999.000,9, -999.000,9, -999.000,9,-999.0000,9,  -999.00,9,   -999.0,9,   -999.0,9,   2336.0,2,   1193.3,2,   2425.0,2,     7.58,2,   20.00,  -999.0,-999.0000,-999.000,   25.00,  -999.0,  1.5387,-999.000
    31DSCG94_3,  P18N,   109,  1,    105,   1246,2,19940403,2141,-14.9998,-102.9992, 4208,   3499.2,   1.7941,  34.6760,2,  34.6752,2,    137.9,2,    136.7,2,   141.37,2,    37.24,2,     0.00,2,     2.54,2, -999.000,9, -999.000,9, -999.000,9, -999.000,9, -999.000,9,-999.0000,9,  -999.00,9,   -999.0,9,   -999.0,9,   2339.1,2,   1200.5,2,   2427.0,2,     7.57,2,   20.00,  -999.0,-999.0000,-999.000,   25.00,  -999.0,  1.5206,-999.000
    31DSCG94_3,  P18N,   109,  1,    104,   1217,2,19940403,2141,-14.9998,-102.9992, 4208,   3747.1,   1.8063,  34.6763,2,  34.6753,2,    137.1,2,    135.8,2,   145.31,2,    37.04,2,     0.00,2,     2.57,2, -999.000,9, -999.000,9, -999.000,9, -999.000,9, -999.000,9,-999.0000,9,  -999.00,9,   -999.0,9,   -999.0,9,   2340.4,2,   -999.0,9,   2434.0,2,     7.57,2, -999.00,  -999.0,-999.0000,-999.000,   25.00,  -999.0,  1.5063,-999.000
    31DSCG94_3,  P18N,   109,  1,    102,   1223,2,19940403,2141,-14.9998,-102.9992, 4208,   4000.0,   1.8270,  34.6760,2,  34.6752,2,    137.4,2,    136.0,2,   148.86,2,    37.07,2,     0.00,2,     2.56,2, -999.000,9, -999.000,9, -999.000,9, -999.000,9, -999.000,9,-999.0000,9,  -999.00,9,   -999.0,9,   -999.0,9,   2339.9,2,   1204.0,2,   2429.0,2,     7.57,2,   20.00,  -999.0,-999.0000,-999.000,   25.00,  -999.0,  1.4988,-999.000
    31DSCG94_3,  P18N,   109,  1,    103,   9999,2,19940403,2141,-14.9998,-102.9992, 4208,   4000.1,   1.8269,  34.6762,2,  34.6764,2,    137.4,2,    135.3,2,   149.08,2,    36.64,2,     0.00,2,     2.55,2,   -0.002,2,   -0.002,2, -999.000,9, -999.000,9, -999.000,9,-999.0000,9,  -999.00,9,   -999.0,9,   -999.0,9,   2340.7,2,   -999.0,9,   2435.0,2,     7.57,2, -999.00,  -999.0,-999.0000,-999.000,   25.00,  -999.0,  1.4987,-999.000
    31DSCG94_3,  P18N,   109,  1,    101,   1041,2,19940403,2141,-14.9998,-102.9992, 4208,   4257.2,   1.8538,  34.6760,2,  34.6758,2,    137.5,2,    135.8,2,   146.95,2,    37.21,2,     0.00,2,     2.52,2, -999.000,9, -999.000,9, -999.000,9, -999.000,9, -999.000,9,-999.0000,9,  -999.00,9,   -999.0,9,   -999.0,9,   2340.8,2,   1201.5,2,   2431.0,2,     7.57,2,   20.00,  -999.0,-999.0000,-999.000,   25.00,  -999.0,  1.4959,-999.000