BOTTLE,20220630CCHSIOAMB
EXPOCODE,SECT_ID,STNNBR,CASTNO,SAMPNO,BTLNBR,BTLNBR_FLAG_W,DATE,TIME,LATITUDE,LONGITUDE,DEPTH,CTDPRS,CTDTMP,CTDSAL,CTDSAL_FLAG_W,SALNTY,SALNTY_FLAG_W,CTDOXY,CTDOXY_FLAG_W,OXYGEN,OXYGEN_FLAG_W,SILCAT,SILCAT_FLAG_W,NITRAT,NITRAT_FLAG_W,NITRIT,NITRIT_FLAG_W,PHSPHT,PHSPHT_FLAG_W,CFC-11,CFC-11_FLAG_W,CFC-12,CFC-12_FLAG_W,CFC113,CFC113_FLAG_W,CCL4,CCL4_FLAG_W,TRITUM,TRITUM_FLAG_W,HELIUM,HELIUM_FLAG_W,DELHE3,DELHE3_FLAG_W,DELC14,DELC14_FLAG_W,DELC13,DELC13_FLAG_W,TCARBN,TCARBN_FLAG_W,PCO2,PCO2_FLAG_W,ALKALI,ALKALI_FLAG_W,PH,PH_FLAG_W,PCO2TMP,C14ERR,HELIER,DELHER,PH_TMP,C13ERR,THETA,TRITER
,,,,,,,,,,,,DBAR,ITS-90,PSS-78,,PSS-78,,UMOL/KG,,UMOL/KG,,UMOL/KG,,UMOL/KG,,UMOL/KG,,UMOL/KG,,PMOL/KG,,PMOL/KG,,PMOL/KG,,PMOL/KG,,TU,,NMOL/KG,,PERCNT,,/MILLE,,/MILLE,,UMOL/KG,,UATM,,UMOL/KG,,,,DEG C,/MILLE,NMOL/KG,PERCNT,DEG C,/MILLE,DEG C,TU
    31DSCG94_3,  P18N,   185,  1,    135,   1247,2,19940424,0203, 19.5000,-109.9983, 3271,      9.2,  24.0747,  34.6062,2,  34.6131,2,    331.0,3,    215.0,6,     0.00,2,     0.00,2,     0.00,2,     0.24,2, -999.000,9, -999.000,9, -999.000,9, -999.000,9, -999.000,9,-999.0000,9,  -999.00,9,   -999.0,9,   -999.0,9,   1987.9,2,    304.7,2,   2295.0,2,     8.07,2,   20.00,  -999.0,-999.0000,-999.000,   25.00,  -999.0, 24.0728,-999.000
    31DSCG94_3,  P18N,   185,  1,    136,   1025,2,19940424,0203, 19.5000,-109.9983, 3271,      9.3,  23.9329,  34.5957,2,  34.6012,2,    331.0,3,    215.3,2,     0.00,2,     0.01,2,     0.00,2,     0.22,2, -999.000,9, -999.000,9, -999.000,9, -999.000,9, -999.000,9,-999.0000,9,  -999.00,9,   -999.0,9,   -999.0,9,   1988.3,2,    305.2,2,   2287.0,2,     8.06,2,   20.00,  -999.0,-999.0000,-999.000,   25.00,  -999.0, 23.9309,-999.000
    31DSCG94_3,  P18N,   185,  1,    134,   1216,2,19940424,0203, 19.5000,-109.9983, 3271,     23.0,  23.4032,  34.5513,2,  34.5541,2,    212.9,2,    219.1,2,     0.00,2,     0.00,2,     0.00,2,     0.23,2, -999.000,9, -999.000,9, -999.000,9, -999.000,9, -999.000,9,-999.0000,9,  -999.00,9,   -999.0,9,   -999.0,9,   -999.0,9,   -999.0,9,   -999.0,9,     8.07,2, -999.00,  -999.0,-999.0000,-999.000,   25.00,  -999.0, 23.3984,-999.000
    31DSCG94_3,  P18N,   185,  1,    133,   1244,2,19940424,0203, 19.5000,-109.9983, 3271,     49.4,  22.0770,  34.4592,2,  34.4600,2,    213.0,2,    222.0,2,     0.00,2,     0.00,2,     0.00,2,     0.28,2, -999.000,9, -999.000,9, -999.000,9, -999.000,9, -999.000,9,-999.0000,9,  -999.00,9,   -999.0,9,   -999.0,9,   1996.5,2,    324.2,2,   2284.0,2,     8.04,2,   20.00,  -999.0,-999.0000,-999.000,   25.00,  -999.0, 22.0673,-999.000
    31DSCG94_3,  P18N,   185,  1,    132,   1003,2,19940424,0203, 19.5000,-109.9983, 3271,     72.9,  17.2623,  34.0391,2,  34.0439,2,    219.6,2,    155.4,2,     4.91,2,     7.42,2,     0.40,2,     0.98,2, -999.000,9, -999.000,9, -999.000,9, -999.000,9, -999.000,9,-999.0000,9,  -999.00,9,   -999.0,9,   -999.0,9,   -999.0,9,   -999.0,9,   -999.0,9,     7.82,2, -999.00,  -999.0,-999.0000,-999.000,   25.00,  -999.0, 17.2502,-999.000
    31DSCG94_3,  P18N,   185,  1,    131,   1211,2,19940424,0203, 19.5000,-109.9983, 3271,     98.7,  14.8619,  34.4076,2,  34.3993,2,     63.7,2,     58.5,2,    16.43,2,    21.80,2,     0.01,2,     1.96,2, -999.000,9, -999.000,9, -999.000,9, -999.000,9, -999.000,9,-999.0000,9,  -999.00,9,   -999.0,9,   -999.0,9,   2188.1,2,   1097.0,2,   2270.0,2,     7.58,2,   20.00,  -999.0,-999.0000,-999.000,   25.00,  -999.0, 14.8472,-999.000
    31DSCG94_3,  P18N,   185,  1,    130,   1241,2,19940424,0203, 19.5000,-109.9983, 3271,    123.5,  13.5892,  34.6180,2,  34.6185,2,     39.1,2,     21.1,2,    24.00,2,    26.18,2,     0.00,2,     2.37,2, -999.000,9, -999.000,9, -999.000,9, -999.000,9, -999.000,9,-999.0000,9,  -999.00,9,   -999.0,9,   -999.0,9,   -999.0,9,   -999.0,9,   -999.0,9,     7.49,2, -999.00,  -999.0,-999.0000,-999.000,   25.00,  -999.0, 13.5719,-999.000
    31DSCG94_3,  P18N,   185,  1,    129,   1240,2,19940424,0203, 19.5000,-109.9983, 3271,    147.1,  13.0949,  34.7385,2,  34.7388,2,     32.3,2,      4.7,2,    27.39,2,    27.05,2,     0.00,2,     2.53,2, -999.000,9, -999.000,9, -999.000,9, -999.000,9, -999.000,9,-999.0000,9,  -999.00,9,   -999.0,9,   -999.0,9,   2250.3,2,   1514.8,2,   2291.0,2,     7.46,2,   20.00,  -999.0,-999.0000,-999.000,   25.00,  -999.0, 13.0746,-999.000
    31DSCG94_3,  P18N,   185,  1,    128,   1114,2,19940424,0203, 19.5000,-109.9983, 3271,    174.3,  12.5004,  34.7638,2,  34.7605,2,     19.4,2,      0.6,2,    29.30,2,    26.75,2,     0.09,2,     2.56,2, -999.000,9, -999.000,9, -999.000,9, -999.000,9, -999.000,9,-999.0000,9,  -999.00,9,   -999.0,9,   -999.0,9,   -999.0,9,   -999.0,9,   -999.0,9,     7.44,2, -999.00,  -999.0,-999.0000,-999.000,   25.00,  -999.0, 12.4771,-999.000
    31DSCG94_3,  P18N,   185,  1,    127,   1008,2,19940424,0203, 19.5000,-109.9983, 3271,    199.5,  12.0868,  34.7497,2,  34.7500,2,     17.6,2,      0.9,2,    30.65,2,    27.28,2,     0.00,2,     2.58,2, -999.000,9, -999.000,9, -999.000,9, -999.000,9, -999.000,9,-999.0000,9,  -999.00,9,   -999.0,9,   -999.0,9,   2262.0,2,   1607.5,2,   2296.0,2,     7.44,2,   20.00,  -999.0,-999.0000,-999.000,   25.00,  -999.0, 12.0607,-999.000
    31DSCG94_3,  P18N,   185,  1,    126,   1007,2,19940424,0203, 19.5000,-109.9983, 3271,    249.8,  11.2246,  34.7087,2,  34.7078,2,     10.5,2,      1.1,2,    32.86,2,    25.46,2,     1.04,2,     2.62,2, -999.000,9, -999.000,9, -999.000,9, -999.000,9, -999.000,9,-999.0000,9,  -999.00,9,   -999.0,9,   -999.0,9,   2271.4,2,   1713.7,2,   2305.0,2,     7.41,2,   20.00,  -999.0,-999.0000,-999.000,   25.00,  -999.0, 11.1934,-999.000
    31DSCG94_3,  P18N,   185,  1,    125,   1256,2,19940424,0203, 19.5000,-109.9983, 3271,    299.3,  10.3423,  34.6498,2,  34.6497,2,      6.0,2,      0.6,2,    38.95,2,    26.93,2,     0.04,2,     2.75,2, -999.000,9, -999.000,9, -999.000,9, -999.000,9, -999.000,9,-999.0000,9,  -999.00,9,   -999.0,9,   -999.0,9,   2281.4,2,   1813.4,2,   2301.0,2,     7.39,2,   20.00,  -999.0,-999.0000,-999.000,   25.00,  -999.0, 10.3068,-999.000
    31DSCG94_3,  P18N,   185,  1,    123,   1220,2,19940424,0203, 19.5000,-109.9983, 3271,    346.5,   9.5270,  34.6106,2,  34.6112,2,      4.8,2,      1.4,2,    45.83,2,    28.40,2,     0.00,2,     2.86,2, -999.000,9, -999.000,9, -999.000,9, -999.000,9, -999.000,9,-999.0000,9,  -999.00,9,   -999.0,9,   -999.0,9,   -999.0,9,   -999.0,9,   -999.0,9,     7.37,2, -999.00,  -999.0,-999.0000,-999.000,   25.00,  -999.0,  9.4879,-999.000
    31DSCG94_3,  P18N,   185,  1,    122,   1245,2,19940424,0203, 19.5000,-109.9983, 3271,    398.6,   8.5945,  34.5539,2,  34.5487,2,      3.7,2,      1.5,2,    51.61,2,    31.13,2,     0.00,2,     2.91,2, -999.000,9, -999.000,9, -999.000,9, -999.000,9, -999.000,9,-999.0000,9,  -999.00,9,   -999.0,9,   -999.0,9,   2297.7,2,   1949.6,2,   2311.0,2,     7.36,2,   20.00,  -999.0,-999.0000,-999.000,   25.00,  -999.0,  8.5522,-999.000
    31DSCG94_3,  P18N,   185,  1,    121,   1206,2,19940424,0203, 19.5000,-109.9983, 3271,    501.2,   7.5393,  34.5266,2,  34.5263,2,      2.0,2,      2.2,2,    61.37,2,    34.17,2,     0.00,2,     3.07,2, -999.000,9, -999.000,9, -999.000,9, -999.000,9, -999.000,9,-999.0000,9,  -999.00,9,   -999.0,9,   -999.0,9,   2312.8,2,   2005.3,2,   2321.0,2,     7.35,2,   20.00,  -999.0,-999.0000,-999.000,   25.00,  -999.0,  7.4896,-999.000
    31DSCG94_3,  P18N,   185,  1,    120,   1028,2,19940424,0203, 19.5000,-109.9983, 3271,    601.5,   6.6295,  34.5160,2,  34.5161,2,      1.2,2,      1.6,2,    70.95,2,    37.26,2,     0.00,2,     3.13,2, -999.000,9, -999.000,9, -999.000,9, -999.000,9, -999.000,9,-999.0000,9,  -999.00,9,   -999.0,9,   -999.0,9,   2326.3,2,   2101.4,2,   2329.0,2,     7.33,2,   20.00,  -999.0,-999.0000,-999.000,   25.00,  -999.0,  6.5736,-999.000
    31DSCG94_3,  P18N,   185,  1,    119,   1248,2,19940424,0203, 19.5000,-109.9983, 3271,    698.2,   5.8843,  34.5125,2,  34.5131,2,      0.9,2,      1.6,2,    80.38,2,    40.40,2,     0.00,2,     3.21,2, -999.000,9, -999.000,9, -999.000,9, -999.000,9, -999.000,9,-999.0000,9,  -999.00,9,   -999.0,9,   -999.0,9,   2337.2,2,   2116.9,2,   2346.0,2,     7.33,2,   20.00,  -999.0,-999.0000,-999.000,   25.00,  -999.0,  5.8229,-999.000
    31DSCG94_3,  P18N,   185,  1,    118,   1115,2,19940424,0203, 19.5000,-109.9983, 3271,    800.7,   5.2070,  34.5208,2,  34.5219,2,      1.5,2,      3.5,2,    94.18,2,    42.48,2,     0.00,2,     3.26,2, -999.000,9, -999.000,9, -999.000,9, -999.000,9, -999.000,9,-999.0000,9,  -999.00,9,   -999.0,9,   -999.0,9,   2349.1,2,   2159.6,2,   2351.0,2,     7.33,2,   20.00,  -999.0,-999.0000,-999.000,   25.00,  -999.0,  5.1401,-999.000
    31DSCG94_3,  P18N,   185,  1,    117,   1119,2,19940424,0203, 19.5000,-109.9983, 3271,    900.4,   4.7018,  34.5310,2,  34.5313,2,      6.1,2,      7.7,2,   102.16,2,    43.38,2,     0.00,2,     3.28,2, -999.000,9, -999.000,9, -999.000,9, -999.000,9, -999.000,9,-999.0000,9,  -999.00,9,   -999.0,9,   -999.0,9,   2355.9,2,   2132.6,2,   2365.0,2,     7.33,2,   20.00,  -999.0,-999.0000,-999.000,   25.00,  -999.0,  4.6294,-999.000
    31DSCG94_3,  P18N,   185,  1,    116,   1036,2,19940424,0203, 19.5000,-109.9983, 3271,   1000.2,   4.3142,  34.5410,2,  34.5417,2,     10.9,2,     12.5,2,   107.94,2,    43.83,2,     0.00,2,     3.29,2, -999.000,9, -999.000,9, -999.000,9, -999.000,9, -999.000,9,   1.8820,2,    21.55,2,   -999.0,9,   -999.0,9,   2362.6,2,   2129.1,2,   2373.0,6,     7.34,2,   20.00,  -999.0,-999.0000,-999.000,   25.00,  -999.0,  4.2360,-999.000
    31DSCG94_3,  P18N,   185,  1,    115,   1017,2,19940424,0203, 19.5000,-109.9983, 3271,   1098.0,   4.0196,  34.5528,2,  34.5538,2,     14.7,2,     17.9,6,   113.02,2,    44.28,2,     0.00,2,     3.25,2, -999.000,9, -999.000,9, -999.000,9, -999.000,9, -999.000,9,   1.8950,2,    23.53,2,   -999.0,9,   -999.0,9,   -999.0,9,   -999.0,9,   -999.0,9,     7.34,2, -999.00,  -999.0,-999.0000,-999.000,   25.00,  -999.0,  3.9355,-999.000
    31DSCG94_3,  P18N,   185,  1,    114,   1016,2,19940424,0203, 19.5000,-109.9983, 3271,   1200.8,   3.7231,  34.5652,2,  34.5670,2,     21.2,2,     24.3,2,   121.91,2,    43.80,2,     0.00,2,     3.24,2, -999.000,9, -999.000,9, -999.000,9, -999.000,9, -999.000,9,   1.9130,3,    23.58,3,   -999.0,9,   -999.0,9,   -999.0,9,   -999.0,9,   -999.0,9,  -999.00,9, -999.00,  -999.0,-999.0000,-999.000, -999.00,  -999.0,  3.6329,-999.000
    31DSCG94_3,  P18N,   185,  1,    113,   1209,2,19940424,0203, 19.5000,-109.9983, 3271,   1298.6,   3.4703,  34.5750,2,  34.5749,2,     27.7,2,     30.2,2,   130.04,2,    43.33,2,     0.00,2,     3.19,2, -999.000,9, -999.000,9, -999.000,9, -999.000,9, -999.000,9,   1.8960,2,    25.69,2,   -999.0,9,   -999.0,9,   -999.0,9,   -999.0,9,   -999.0,9,     7.37,2, -999.00,  -999.0,-999.0000,-999.000,   25.00,  -999.0,  3.3742,-999.000
    31DSCG94_3,  P18N,   185,  1,    112,   1033,2,19940424,0203, 19.5000,-109.9983, 3271,   1400.2,   3.1895,  34.5886,2,  34.5889,2,     35.9,2,     39.7,2,   133.61,2,    42.65,2,     0.00,2,     3.12,2, -999.000,9, -999.000,9, -999.000,9, -999.000,9, -999.000,9,   1.9040,2,    26.87,2,   -999.0,9,   -999.0,9,   -999.0,9,   -999.0,9,   -999.0,9,  -999.00,9, -999.00,  -999.0,-999.0000,-999.000, -999.00,  -999.0,  3.0879,-999.000
    31DSCG94_3,  P18N,   185,  1,    111,   1240,2,19940424,0203, 19.5000,-109.9983, 3271,   1600.5,   2.7777,  34.6079,2,  34.6095,2,     54.0,2,     56.0,2,   140.10,2,    41.95,2,     0.00,2,     3.01,2, -999.000,9, -999.000,9, -999.000,9, -999.000,9, -999.000,9,   1.9120,2,    28.56,2,   -999.0,9,   -999.0,9,   -999.0,9,   -999.0,9,   -999.0,9,     7.41,2, -999.00,  -999.0,-999.0000,-999.000,   25.00,  -999.0,  2.6641,-999.000
    31DSCG94_3,  P18N,   185,  1,    110,   1005,2,19940424,0203, 19.5000,-109.9983, 3271,   1799.3,   2.4249,  34.6249,2,  34.6262,2,     71.7,2,     71.2,2,   146.10,2,    40.89,2,     0.00,2,     2.90,2, -999.000,9, -999.000,9, -999.000,9, -999.000,9, -999.000,9,   1.9240,2,    30.40,2,   -999.0,9,   -999.0,9,   -999.0,9,   -999.0,9,   -999.0,9,  -999.00,9, -999.00,  -999.0,-999.0000,-999.000, -999.00,  -999.0,  2.2992,-999.000
    31DSCG94_3,  P18N,   185,  1,    109,   1611,2,19940424,0203, 19.5000,-109.9983, 3271,   2000.1,   2.1484,  34.6396,2,  34.6410,2,     88.8,2,     84.0,2,   151.26,2,    40.20,2,     0.00,2,     2.82,2, -999.000,9, -999.000,9, -999.000,9, -999.000,9, -999.000,9,   1.9290,2,    31.22,2,   -999.0,9,   -999.0,9,   -999.0,9,   -999.0,9,   -999.0,9,     7.47,2, -999.00,  -999.0,-999.0000,-999.000,   25.00,  -999.0,  2.0096,-999.000
    31DSCG94_3,  P18N,   185,  1,    108,   1218,2,19940424,0203, 19.5000,-109.9983, 3271,   2198.2,   1.9281,  34.6525,2,  34.6527,2,    102.1,2,     97.7,2,   156.93,2,    39.26,2,     0.00,2,     2.77,2, -999.000,9, -999.000,9, -999.000,9, -999.000,9, -999.000,9,   1.9290,2,    30.29,2,   -999.0,9,   -999.0,9,   -999.0,9,   -999.0,9,   -999.0,9,  -999.00,9, -999.00,  -999.0,-999.0000,-999.000, -999.00,  -999.0,  1.7759,-999.000
    31DSCG94_3,  P18N,   185,  1,    107,   1257,2,19940424,0203, 19.5000,-109.9983, 3271,   2401.0,   1.8163,  34.6604,2,  34.6611,2,    113.9,2,    105.7,2,   160.58,2,    38.70,2,     0.00,2,     2.71,2, -999.000,9, -999.000,9, -999.000,9, -999.000,9, -999.000,9,   1.9390,2,    29.17,2,   -999.0,9,   -999.0,9,   -999.0,9,   -999.0,9,   -999.0,9,     7.51,2, -999.00,  -999.0,-999.0000,-999.000,   25.00,  -999.0,  1.6482,-999.000
    31DSCG94_3,  P18N,   185,  1,    106,   1224,2,19940424,0203, 19.5000,-109.9983, 3271,   2600.7,   1.7652,  34.6642,2,  34.6640,2,    113.3,2,    109.6,2,   159.23,2,    38.19,2,     0.00,2,     2.66,2, -999.000,9, -999.000,9, -999.000,9, -999.000,9, -999.000,9,   1.9240,2,    27.53,2,   -999.0,9,   -999.0,9,   -999.0,9,   -999.0,9,   -999.0,9,  -999.00,9, -999.00,  -999.0,-999.0000,-999.000, -999.00,  -999.0,  1.5801,-999.000
    31DSCG94_3,  P18N,   185,  1,    105,   1246,2,19940424,0203, 19.5000,-109.9983, 3271,   2798.8,   1.6993,  34.6699,2,  34.6715,2,    117.3,2,    115.6,6,   157.33,2,    37.95,2,     0.00,2,     2.64,2, -999.000,9, -999.000,9, -999.000,9, -999.000,9, -999.000,9,   1.9160,2,    27.08,2,   -999.0,9,   -999.0,9,   -999.0,9,   -999.0,9,   -999.0,9,     7.53,2, -999.00,  -999.0,-999.0000,-999.000,   25.00,  -999.0,  1.4972,-999.000
    31DSCG94_3,  P18N,   185,  1,    104,   1217,2,19940424,0203, 19.5000,-109.9983, 3271,   2996.8,   1.6682,  34.6706,2,  34.6708,2,    116.8,2,    117.0,2,   158.41,6,    38.14,6,     0.00,6,     2.64,6, -999.000,9, -999.000,9, -999.000,9, -999.000,9, -999.000,9,   1.9220,2,    23.83,2,   -999.0,9,   -999.0,9,   -999.0,9,   -999.0,9,   -999.0,9,  -999.00,9, -999.00,  -999.0,-999.0000,-999.000, -999.00,  -999.0,  1.4480,-999.000
    31DSCG94_3,  P18N,   185,  1,    102,   1223,2,19940424,0203, 19.5000,-109.9983, 3271,   3199.9,   1.6754,  34.6710,2,  34.6715,2,    118.8,2,    117.7,2,   162.21,2,    37.84,2,     0.00,2,     2.62,2, -999.000,9, -999.000,9, -999.000,9, -999.000,9, -999.000,9,   1.9140,2,    23.61,2,   -999.0,9,   -999.0,9,   -999.0,9,   -999.0,9,   -999.0,9,     7.53,2, -999.00,  -999.0,-999.0000,-999.000,   25.00,  -999.0,  1.4352,-999.000
    31DSCG94_3,  P18N,   185,  1,    103,   9999,3,19940424,0203, 19.5000,-109.9983, 3271,   3200.4,   1.6756,  34.6710,2,-999.0000,5,    118.8,2,   -999.0,9,  -999.00,9,  -999.00,9,  -999.00,9,  -999.00,9, -999.000,9, -999.000,9, -999.000,9, -999.000,9, -999.000,9,-999.0000,9,  -999.00,9,   -999.0,9,   -999.0,9,   -999.0,9,   -999.0,9,   -999.0,9,  -999.00,9, -999.00,  -999.0,-999.0000,-999.000, -999.00,  -999.0,  1.4353,-999.000
    31DSCG94_3,  P18N,   185,  1,    101,   1041,2,19940424,0203, 19.5000,-109.9983, 3271,   3281.1,   1.6821,  34.6710,2,  34.6712,2,    118.8,2,    117.8,2,   161.09,2,    38.00,2,     0.00,2,     2.63,2, -999.000,9, -999.000,9, -999.000,9, -999.000,9, -999.000,9,   1.9070,2,    23.55,2,   -999.0,9,   -999.0,9,   -999.0,9,   -999.0,9,   -999.0,9,     7.53,2, -999.00,  -999.0,-999.0000,-999.000,   25.00,  -999.0,  1.4337,-999.000