BOTTLE,20220630CCHSIOAMB
EXPOCODE,SECT_ID,STNNBR,CASTNO,SAMPNO,BTLNBR,BTLNBR_FLAG_W,DATE,TIME,LATITUDE,LONGITUDE,DEPTH,CTDPRS,CTDTMP,CTDSAL,CTDSAL_FLAG_W,SALNTY,SALNTY_FLAG_W,CTDOXY,CTDOXY_FLAG_W,OXYGEN,OXYGEN_FLAG_W,SILCAT,SILCAT_FLAG_W,NITRAT,NITRAT_FLAG_W,NITRIT,NITRIT_FLAG_W,PHSPHT,PHSPHT_FLAG_W,CFC-11,CFC-11_FLAG_W,CFC-12,CFC-12_FLAG_W,CFC113,CFC113_FLAG_W,CCL4,CCL4_FLAG_W,TRITUM,TRITUM_FLAG_W,HELIUM,HELIUM_FLAG_W,DELHE3,DELHE3_FLAG_W,DELC14,DELC14_FLAG_W,DELC13,DELC13_FLAG_W,TCARBN,TCARBN_FLAG_W,PCO2,PCO2_FLAG_W,ALKALI,ALKALI_FLAG_W,PH,PH_FLAG_W,PCO2TMP,C14ERR,HELIER,DELHER,PH_TMP,C13ERR,THETA,TRITER
,,,,,,,,,,,,DBAR,ITS-90,PSS-78,,PSS-78,,UMOL/KG,,UMOL/KG,,UMOL/KG,,UMOL/KG,,UMOL/KG,,UMOL/KG,,PMOL/KG,,PMOL/KG,,PMOL/KG,,PMOL/KG,,TU,,NMOL/KG,,PERCNT,,/MILLE,,/MILLE,,UMOL/KG,,UATM,,UMOL/KG,,,,DEG C,/MILLE,NMOL/KG,PERCNT,DEG C,/MILLE,DEG C,TU
    31DSCG94_3,  P18N,   157,  3,    336,   1025,2,19940416,1905,  4.5000,-110.3333, 3973,      9.8,  28.6656,  33.8912,2,  33.8919,2,    161.4,2,    201.3,2,     1.45,2,     0.06,2,     0.00,2,     0.16,2,    1.692,2,    0.969,2, -999.000,9, -999.000,9, -999.000,9,-999.0000,9,  -999.00,9,   -999.0,9,   -999.0,9,   1908.8,2,    266.7,2,   2225.0,6,     8.11,2,   20.00,  -999.0,-999.0000,-999.000,   25.00,  -999.0, 28.6633,-999.000
    31DSCG94_3,  P18N,   157,  3,    335,   1247,2,19940416,1905,  4.5000,-110.3333, 3973,     25.5,  28.4148,  33.9835,2,  33.9626,2,    164.2,2,    204.2,2,     1.62,2,     0.03,2,     0.00,2,     0.15,2,    1.717,2,    0.984,2, -999.000,9, -999.000,9, -999.000,9,-999.0000,9,  -999.00,9,   -999.0,9,   -999.0,9,   -999.0,9,   -999.0,9,   -999.0,9,     8.11,2, -999.00,  -999.0,-999.0000,-999.000,   25.00,  -999.0, 28.4087,-999.000
    31DSCG94_3,  P18N,   157,  3,    334,   1216,2,19940416,1905,  4.5000,-110.3333, 3973,     49.5,  21.7494,  34.6892,2,  34.6936,2,    124.5,2,    145.3,2,     7.09,2,     9.37,2,     0.71,2,     0.95,2, -999.000,9, -999.000,9, -999.000,9, -999.000,9, -999.000,9,-999.0000,9,  -999.00,9,   -999.0,9,   -999.0,9,   -999.0,9,   -999.0,9,   -999.0,9,     7.89,2, -999.00,  -999.0,-999.0000,-999.000,   25.00,  -999.0, 21.7397,-999.000
    31DSCG94_3,  P18N,   157,  3,    333,   1244,2,19940416,1905,  4.5000,-110.3333, 3973,     75.4,  15.3527,  34.9156,2,  34.9114,2,     76.6,2,     72.5,2,    16.28,2,    22.17,2,     0.57,2,     1.71,2,    0.987,6,    0.516,6, -999.000,9, -999.000,9, -999.000,9,-999.0000,9,  -999.00,9,   -999.0,9,   -999.0,9,   -999.0,9,   -999.0,9,   -999.0,9,     7.69,2, -999.00,  -999.0,-999.0000,-999.000,   25.00,  -999.0, 15.3412,-999.000
    31DSCG94_3,  P18N,   157,  3,    332,   1003,2,19940416,1905,  4.5000,-110.3333, 3973,     99.9,  14.4455,  34.9500,2,  34.9494,2,     64.1,2,     67.8,2,    17.40,2,    24.13,2,     0.04,2,     1.76,2, -999.000,9, -999.000,9, -999.000,9, -999.000,9, -999.000,9,-999.0000,9,  -999.00,9,   -999.0,9,   -999.0,9,   -999.0,9,   -999.0,9,   -999.0,9,     7.67,2, -999.00,  -999.0,-999.0000,-999.000,   25.00,  -999.0, 14.4308,-999.000
    31DSCG94_3,  P18N,   157,  3,    331,   1211,2,19940416,1905,  4.5000,-110.3333, 3973,    125.6,  13.8199,  34.9396,2,  34.9379,2,     58.7,2,     60.8,6,    19.15,2,    25.30,2,     0.00,2,     1.86,2,    0.725,2,    0.391,2, -999.000,9, -999.000,9, -999.000,9,-999.0000,9,  -999.00,9,   -999.0,9,   -999.0,9,   -999.0,9,   -999.0,9,   -999.0,9,     7.64,2, -999.00,  -999.0,-999.0000,-999.000,   25.00,  -999.0, 13.8019,-999.000
    31DSCG94_3,  P18N,   157,  3,    330,   1241,2,19940416,1905,  4.5000,-110.3333, 3973,    149.8,  13.4169,  34.9205,2,  34.9218,2,     54.2,2,     53.0,2,    20.61,2,    26.66,2,     0.00,2,     1.92,2, -999.000,9, -999.000,9, -999.000,9, -999.000,9, -999.000,9,-999.0000,9,  -999.00,9,   -999.0,9,   -999.0,9,   -999.0,9,   -999.0,9,   -999.0,9,     7.62,2, -999.00,  -999.0,-999.0000,-999.000,   25.00,  -999.0, 13.3959,-999.000
    31DSCG94_3,  P18N,   157,  3,    329,   1240,2,19940416,1905,  4.5000,-110.3333, 3973,    175.5,  13.1015,  34.9035,2,  34.9018,2,     46.4,2,     43.4,2,    21.99,2,    28.26,2,     0.00,2,     2.04,2,    0.531,2,    0.287,2, -999.000,9, -999.000,9, -999.000,9,-999.0000,9,  -999.00,9,   -999.0,9,   -999.0,9,   -999.0,9,   -999.0,9,   -999.0,9,     7.59,2, -999.00,  -999.0,-999.0000,-999.000,   25.00,  -999.0, 13.0772,-999.000
    31DSCG94_3,  P18N,   157,  3,    328,   1032,2,19940416,1905,  4.5000,-110.3333, 3973,    201.6,  12.7437,  34.8803,2,  34.8778,2,     41.9,2,     40.2,2,    22.89,2,    28.69,2,     0.00,2,     2.09,2, -999.000,9, -999.000,9, -999.000,9, -999.000,9, -999.000,9,-999.0000,9,  -999.00,9,   -999.0,9,   -999.0,9,   -999.0,9,   -999.0,9,   -999.0,9,     7.57,2, -999.00,  -999.0,-999.0000,-999.000,   25.00,  -999.0, 12.7164,-999.000
    31DSCG94_3,  P18N,   157,  3,    327,   1008,2,19940416,1905,  4.5000,-110.3333, 3973,    250.6,  11.9660,  34.8251,2,  34.8195,2,     35.4,2,     32.9,2,    25.98,2,    30.55,2,     0.00,2,     2.23,2,    0.334,2,    0.179,2, -999.000,9, -999.000,9, -999.000,9,-999.0000,9,  -999.00,9,   -999.0,9,   -999.0,9,   -999.0,9,   -999.0,9,   -999.0,9,     7.53,2, -999.00,  -999.0,-999.0000,-999.000,   25.00,  -999.0, 11.9334,-999.000
    31DSCG94_3,  P18N,   157,  3,    326,   1007,2,19940416,1905,  4.5000,-110.3333, 3973,    300.4,  10.9898,  34.7314,2,  34.7314,2,     46.4,2,     74.2,2,    27.57,2,    27.90,2,     0.00,2,     2.05,2, -999.000,9, -999.000,9, -999.000,9, -999.000,9, -999.000,9,-999.0000,9,  -999.00,9,   -999.0,9,   -999.0,9,   -999.0,9,   -999.0,9,   -999.0,9,     7.60,3, -999.00,  -999.0,-999.0000,-999.000,   25.00,  -999.0, 10.9527,-999.000
    31DSCG94_3,  P18N,   157,  3,    325,   1256,2,19940416,1905,  4.5000,-110.3333, 3973,    350.8,  10.4074,  34.7188,2,  34.7191,2,     53.2,2,     43.3,2,    30.76,2,    32.20,2,     0.00,2,     2.31,2,    0.215,6,    0.116,6, -999.000,9, -999.000,9, -999.000,9,-999.0000,9,  -999.00,9,   -999.0,9,   -999.0,9,   -999.0,9,   -999.0,9,   -999.0,9,     7.51,2, -999.00,  -999.0,-999.0000,-999.000,   25.00,  -999.0, 10.3655,-999.000
    31DSCG94_3,  P18N,   157,  3,    323,   1220,2,19940416,1905,  4.5000,-110.3333, 3973,    400.3,   9.7147,  34.6874,2,  34.6862,2,     38.4,2,     31.2,2,    34.47,2,    34.34,2,     0.00,2,     2.50,2,    0.123,2,    0.068,2, -999.000,9, -999.000,9, -999.000,9,-999.0000,9,  -999.00,9,   -999.0,9,   -999.0,9,   -999.0,9,   -999.0,9,   -999.0,9,     7.47,2, -999.00,  -999.0,-999.0000,-999.000,   25.00,  -999.0,  9.6687,-999.000
    31DSCG94_3,  P18N,   157,  3,    322,   1245,2,19940416,1905,  4.5000,-110.3333, 3973,    500.5,   8.4143,  34.6363,2,  34.6363,2,     17.2,2,      5.9,2,    46.06,2,    38.60,2,     0.00,2,     2.96,2, -999.000,9, -999.000,9, -999.000,9, -999.000,9, -999.000,9,-999.0000,9,  -999.00,9,   -999.0,9,   -999.0,9,   -999.0,9,   -999.0,9,   -999.0,9,     7.38,2, -999.00,  -999.0,-999.0000,-999.000,   25.00,  -999.0,  8.3614,-999.000
    31DSCG94_3,  P18N,   157,  3,    321,   1206,2,19940416,1905,  4.5000,-110.3333, 3973,    601.1,   7.2715,  34.5918,2,  34.5912,2,     17.4,2,     18.4,2,    52.85,2,    40.94,2,     0.00,2,     3.09,2,    0.007,2,    0.003,2, -999.000,9, -999.000,9, -999.000,9,-999.0000,9,  -999.00,9,   -999.0,9,   -999.0,9,   -999.0,9,   -999.0,9,   -999.0,9,     7.39,2, -999.00,  -999.0,-999.0000,-999.000,   25.00,  -999.0,  7.2127,-999.000
    31DSCG94_3,  P18N,   157,  3,    320,   1028,2,19940416,1905,  4.5000,-110.3333, 3973,    698.4,   6.3973,  34.5649,2,  34.5652,2,     28.1,2,     32.4,2,    61.45,2,    42.02,2,     0.00,2,     3.09,2, -999.000,9, -999.000,9, -999.000,9, -999.000,9, -999.000,9,-999.0000,9,  -999.00,9,   -999.0,9,   -999.0,9,   -999.0,9,   -999.0,9,   -999.0,9,     7.40,2, -999.00,  -999.0,-999.0000,-999.000,   25.00,  -999.0,  6.3331,-999.000
    31DSCG94_3,  P18N,   157,  3,    319,   1248,2,19940416,1905,  4.5000,-110.3333, 3973,    800.7,   5.7684,  34.5528,2,  34.5527,2,     40.1,2,     45.5,2,    70.92,2,    41.45,2,     0.00,2,     3.07,2,    0.001,2,    0.000,2, -999.000,9, -999.000,9, -999.000,9,-999.0000,9,  -999.00,9,   -999.0,9,   -999.0,9,   -999.0,9,   -999.0,9,   -999.0,9,     7.42,2, -999.00,  -999.0,-999.0000,-999.000,   25.00,  -999.0,  5.6981,-999.000
    31DSCG94_3,  P18N,   157,  3,    318,   1115,2,19940416,1905,  4.5000,-110.3333, 3973,    899.4,   5.2989,  34.5521,2,  34.5521,2,     45.3,2,     47.4,2,    78.45,2,    42.33,2,     0.00,2,     3.08,2, -999.000,9, -999.000,9, -999.000,9, -999.000,9, -999.000,9,-999.0000,9,  -999.00,9,   -999.0,9,   -999.0,9,   -999.0,9,   -999.0,9,   -999.0,9,     7.42,2, -999.00,  -999.0,-999.0000,-999.000,   25.00,  -999.0,  5.2225,-999.000
    31DSCG94_3,  P18N,   157,  3,    317,   1119,2,19940416,1905,  4.5000,-110.3333, 3973,   1001.1,   4.8731,  34.5612,2,  34.5609,2,     40.7,2,     39.0,2,    88.75,2,    43.52,2,     0.00,2,     3.16,2,    0.003,2,    0.002,2, -999.000,9, -999.000,9, -999.000,9,-999.0000,9,  -999.00,9,   -999.0,9,   -999.0,9,   -999.0,9,   -999.0,9,   -999.0,9,     7.40,2, -999.00,  -999.0,-999.0000,-999.000,   25.00,  -999.0,  4.7906,-999.000
    31DSCG94_3,  P18N,   157,  3,    316,   1036,2,19940416,1905,  4.5000,-110.3333, 3973,   1100.0,   4.3974,  34.5667,2,  34.5674,2,     48.7,2,     51.0,2,    93.93,2,    43.12,2,     0.00,2,     3.03,2, -999.000,9, -999.000,9, -999.000,9, -999.000,9, -999.000,9,-999.0000,9,  -999.00,9,   -999.0,9,   -999.0,9,   -999.0,9,   -999.0,9,   -999.0,9,  -999.00,9, -999.00,  -999.0,-999.0000,-999.000, -999.00,  -999.0,  4.3099,-999.000
    31DSCG94_3,  P18N,   157,  3,    315,   1017,2,19940416,1905,  4.5000,-110.3333, 3973,   1199.7,   3.9028,  34.5780,2,  34.5773,2,     56.3,2,     59.5,2,   103.82,2,    42.86,2,     0.00,2,     3.03,2, -999.000,9, -999.000,9, -999.000,9, -999.000,9, -999.000,9,-999.0000,9,  -999.00,9,   -999.0,9,   -999.0,9,   -999.0,9,   -999.0,9,   -999.0,9,  -999.00,9, -999.00,  -999.0,-999.0000,-999.000, -999.00,  -999.0,  3.8109,-999.000
    31DSCG94_3,  P18N,   157,  3,    314,   1016,2,19940416,1905,  4.5000,-110.3333, 3973,   1298.3,   3.6031,  34.5867,2,  34.5867,2,     63.3,2,     65.2,2,   113.72,2,    41.78,2,     0.00,2,     3.01,2, -999.000,9, -999.000,9, -999.000,9, -999.000,9, -999.000,9,-999.0000,9,  -999.00,9,   -999.0,9,   -999.0,9,   -999.0,9,   -999.0,9,   -999.0,9,  -999.00,9, -999.00,  -999.0,-999.0000,-999.000, -999.00,  -999.0,  3.5058,-999.000
    31DSCG94_3,  P18N,   157,  3,    313,   1209,2,19940416,1905,  4.5000,-110.3333, 3973,   1400.5,   3.3595,  34.5953,2,  34.5956,2,     67.5,2,     69.4,2,   121.96,2,    41.44,2,     0.00,2,     2.98,2, -999.000,9, -999.000,9, -999.000,9, -999.000,9, -999.000,9,-999.0000,9,  -999.00,9,   -999.0,9,   -999.0,9,   -999.0,9,   -999.0,9,   -999.0,9,  -999.00,9, -999.00,  -999.0,-999.0000,-999.000, -999.00,  -999.0,  3.2560,-999.000
    31DSCG94_3,  P18N,   157,  3,    312,   1033,2,19940416,1905,  4.5000,-110.3333, 3973,   1597.6,   2.9066,  34.6132,2,  34.6137,2,     78.8,2,     78.9,2,   131.68,2,    41.07,2,     0.00,2,     2.91,2, -999.000,9, -999.000,9, -999.000,9, -999.000,9, -999.000,9,-999.0000,9,  -999.00,9,   -999.0,9,   -999.0,9,   -999.0,9,   -999.0,9,   -999.0,9,  -999.00,9, -999.00,  -999.0,-999.0000,-999.000, -999.00,  -999.0,  2.7916,-999.000
    31DSCG94_3,  P18N,   157,  3,    311,   1240,2,19940416,1905,  4.5000,-110.3333, 3973,   1801.3,   2.5723,  34.6278,2,  34.6281,2,     93.3,2,     90.8,2,   137.49,2,    40.06,2,     0.00,2,     2.85,2, -999.000,9, -999.000,9, -999.000,9, -999.000,9, -999.000,9,-999.0000,9,  -999.00,9,   -999.0,9,   -999.0,9,   -999.0,9,   -999.0,9,   -999.0,9,  -999.00,9, -999.00,  -999.0,-999.0000,-999.000, -999.00,  -999.0,  2.4443,-999.000
    31DSCG94_3,  P18N,   157,  3,    310,   1005,2,19940416,1905,  4.5000,-110.3333, 3973,   2000.6,   2.3460,  34.6385,2,  34.6389,2,    101.4,2,     98.1,2,   141.00,2,    39.63,2,     0.00,2,     2.80,2, -999.000,9, -999.000,9, -999.000,9, -999.000,9, -999.000,9,-999.0000,9,  -999.00,9,   -999.0,9,   -999.0,9,   -999.0,9,   -999.0,9,   -999.0,9,  -999.00,9, -999.00,  -999.0,-999.0000,-999.000, -999.00,  -999.0,  2.2042,-999.000
    31DSCG94_3,  P18N,   157,  3,    309,   1611,2,19940416,1905,  4.5000,-110.3333, 3973,   2251.3,   2.0096,  34.6558,2,  34.6555,2,    110.2,2,    109.7,2,   147.48,2,    39.20,2,     0.00,2,     2.71,2, -999.000,9, -999.000,9, -999.000,9, -999.000,9, -999.000,9,-999.0000,9,  -999.00,9,   -999.0,9,   -999.0,9,   -999.0,9,   -999.0,9,   -999.0,9,  -999.00,9, -999.00,  -999.0,-999.0000,-999.000, -999.00,  -999.0,  1.8514,-999.000
    31DSCG94_3,  P18N,   157,  3,    308,   1218,2,19940416,1905,  4.5000,-110.3333, 3973,   2500.0,   1.8765,  34.6634,2,  34.6636,2,    116.0,2,    113.2,2,   151.54,2,    38.53,2,     0.00,2,     2.70,2, -999.000,9, -999.000,9, -999.000,9, -999.000,9, -999.000,9,-999.0000,9,  -999.00,9,   -999.0,9,   -999.0,9,   -999.0,9,   -999.0,9,   -999.0,9,  -999.00,9, -999.00,  -999.0,-999.0000,-999.000, -999.00,  -999.0,  1.6985,-999.000
    31DSCG94_3,  P18N,   157,  3,    307,   1257,2,19940416,1905,  4.5000,-110.3333, 3973,   2748.2,   1.8240,  34.6681,2,  34.6672,2,    118.2,2,    115.1,2,   152.71,2,    38.41,2,     0.00,2,     2.67,2, -999.000,9, -999.000,9, -999.000,9, -999.000,9, -999.000,9,-999.0000,9,  -999.00,9,   -999.0,9,   -999.0,9,   -999.0,9,   -999.0,9,   -999.0,9,  -999.00,9, -999.00,  -999.0,-999.0000,-999.000, -999.00,  -999.0,  1.6241,-999.000
    31DSCG94_3,  P18N,   157,  3,    306,   1224,2,19940416,1905,  4.5000,-110.3333, 3973,   2998.7,   1.7417,  34.6729,2,  34.6723,2,    123.9,2,    119.6,2,   152.69,2,    37.77,2,     0.00,2,     2.65,2, -999.000,9, -999.000,9, -999.000,9, -999.000,9, -999.000,9,-999.0000,9,  -999.00,9,   -999.0,9,   -999.0,9,   -999.0,9,   -999.0,9,   -999.0,9,  -999.00,9, -999.00,  -999.0,-999.0000,-999.000, -999.00,  -999.0,  1.5197,-999.000
    31DSCG94_3,  P18N,   157,  3,    305,   1246,2,19940416,1905,  4.5000,-110.3333, 3973,   3249.4,   1.5930,  34.6805,2,  34.6806,2,    132.7,2,    133.3,6,   152.58,2,    37.52,2,     0.00,2,     2.61,2, -999.000,9, -999.000,9, -999.000,9, -999.000,9, -999.000,9,-999.0000,9,  -999.00,9,   -999.0,9,   -999.0,9,   -999.0,9,   -999.0,9,   -999.0,9,  -999.00,9, -999.00,  -999.0,-999.0000,-999.000, -999.00,  -999.0,  1.3498,-999.000
    31DSCG94_3,  P18N,   157,  3,    304,   1217,2,19940416,1905,  4.5000,-110.3333, 3973,   3499.9,   1.5044,  34.6858,2,  34.6859,2,    142.4,2,    142.1,2,   153.37,2,    36.93,2,     0.00,2,     2.55,2, -999.000,9, -999.000,9, -999.000,9, -999.000,9, -999.000,9,-999.0000,9,  -999.00,9,   -999.0,9,   -999.0,9,   -999.0,9,   -999.0,9,   -999.0,9,  -999.00,9, -999.00,  -999.0,-999.0000,-999.000, -999.00,  -999.0,  1.2381,-999.000
    31DSCG94_3,  P18N,   157,  3,    302,   1223,2,19940416,1905,  4.5000,-110.3333, 3973,   3749.5,   1.4602,  34.6888,2,  34.6889,2,    150.0,2,    148.6,2,   156.43,2,    36.57,2,     0.00,2,     2.52,2, -999.000,9, -999.000,9, -999.000,9, -999.000,9, -999.000,9,-999.0000,9,  -999.00,9,   -999.0,9,   -999.0,9,   -999.0,9,   -999.0,9,   -999.0,9,  -999.00,9, -999.00,  -999.0,-999.0000,-999.000, -999.00,  -999.0,  1.1692,-999.000
    31DSCG94_3,  P18N,   157,  3,    303,   9999,2,19940416,1905,  4.5000,-110.3333, 3973,   3750.4,   1.4604,  34.6885,2,  34.6904,2,    150.1,2,    152.9,3,   155.53,2,    36.30,2,     0.00,2,     2.51,2, -999.000,9, -999.000,9, -999.000,9, -999.000,9, -999.000,9,-999.0000,9,  -999.00,9,   -999.0,9,   -999.0,9,   -999.0,9,   -999.0,9,   -999.0,9,  -999.00,9, -999.00,  -999.0,-999.0000,-999.000, -999.00,  -999.0,  1.1693,-999.000
    31DSCG94_3,  P18N,   157,  3,    301,   1041,2,19940416,1905,  4.5000,-110.3333, 3973,   3990.0,   1.4834,  34.6887,2,  34.6888,2,    151.3,2,    149.3,6,   154.61,2,    36.55,2,     0.00,2,     2.50,2, -999.000,9, -999.000,9, -999.000,9, -999.000,9, -999.000,9,-999.0000,9,  -999.00,9,   -999.0,9,   -999.0,9,   -999.0,9,   -999.0,9,   -999.0,9,  -999.00,9, -999.00,  -999.0,-999.0000,-999.000, -999.00,  -999.0,  1.1660,-999.000