BOTTLE,20220630CCHSIOAMB
EXPOCODE,SECT_ID,STNNBR,CASTNO,SAMPNO,BTLNBR,BTLNBR_FLAG_W,DATE,TIME,LATITUDE,LONGITUDE,DEPTH,CTDPRS,CTDTMP,CTDSAL,CTDSAL_FLAG_W,SALNTY,SALNTY_FLAG_W,CTDOXY,CTDOXY_FLAG_W,OXYGEN,OXYGEN_FLAG_W,SILCAT,SILCAT_FLAG_W,NITRAT,NITRAT_FLAG_W,NITRIT,NITRIT_FLAG_W,PHSPHT,PHSPHT_FLAG_W,CFC-11,CFC-11_FLAG_W,CFC-12,CFC-12_FLAG_W,CFC113,CFC113_FLAG_W,CCL4,CCL4_FLAG_W,TRITUM,TRITUM_FLAG_W,HELIUM,HELIUM_FLAG_W,DELHE3,DELHE3_FLAG_W,DELC14,DELC14_FLAG_W,DELC13,DELC13_FLAG_W,TCARBN,TCARBN_FLAG_W,PCO2,PCO2_FLAG_W,ALKALI,ALKALI_FLAG_W,PH,PH_FLAG_W,PCO2TMP,C14ERR,HELIER,DELHER,PH_TMP,C13ERR,THETA,TRITER
,,,,,,,,,,,,DBAR,ITS-90,PSS-78,,PSS-78,,UMOL/KG,,UMOL/KG,,UMOL/KG,,UMOL/KG,,UMOL/KG,,UMOL/KG,,PMOL/KG,,PMOL/KG,,PMOL/KG,,PMOL/KG,,TU,,NMOL/KG,,PERCNT,,/MILLE,,/MILLE,,UMOL/KG,,UATM,,UMOL/KG,,,,DEG C,/MILLE,NMOL/KG,PERCNT,DEG C,/MILLE,DEG C,TU
    31DSCG94_3,  P18N,    92,  1,    136,   1025,2,19940330,0457,-23.4950,-102.9950, 3906,     11.2,  24.5513,  36.0449,2,  36.0441,2,    211.8,2,    210.2,2,     1.11,2,     0.05,2,     0.00,2,     0.17,2,    1.931,4,    1.115,4, -999.000,9, -999.000,9, -999.000,9,-999.0000,9,  -999.00,9,   -999.0,9,   -999.0,9,   2056.0,2,    333.9,2,   2372.0,6,     8.05,2,   20.00,  -999.0,-999.0000,-999.000,   25.00,  -999.0, 24.5489,-999.000
    31DSCG94_3,  P18N,    92,  1,    135,   1247,2,19940330,0457,-23.4950,-102.9950, 3906,     23.2,  24.4292,  36.0464,2,  36.0455,2,    210.4,2,   -999.0,9,     1.15,2,     0.14,2,     0.00,2,     0.17,2, -999.000,9, -999.000,9, -999.000,9, -999.000,9, -999.000,9,-999.0000,9,  -999.00,9,   -999.0,9,   -999.0,9,   -999.0,9,   -999.0,9,   -999.0,9,     8.05,2, -999.00,  -999.0,-999.0000,-999.000,   25.00,  -999.0, 24.4243,-999.000
    31DSCG94_3,  P18N,    92,  1,    134,   1108,3,19940330,0457,-23.4950,-102.9950, 3906,     49.8,  24.3080,  36.0906,2,-999.0000,5,    213.5,2,    213.7,2,  -999.00,9,  -999.00,9,  -999.00,9,  -999.00,9,    1.988,2,    1.099,2, -999.000,9, -999.000,9, -999.000,9,-999.0000,9,  -999.00,9,   -999.0,9,   -999.0,9,   -999.0,9,   -999.0,9,   -999.0,9,  -999.00,9, -999.00,  -999.0,-999.0000,-999.000, -999.00,  -999.0, 24.2974,-999.000
    31DSCG94_3,  P18N,    92,  1,    133,   1244,2,19940330,0457,-23.4950,-102.9950, 3906,     73.7,  22.0556,  35.7967,2,  35.7975,2,    225.8,2,    229.9,2,     1.09,2,     0.07,2,     0.00,2,     0.15,2, -999.000,9, -999.000,9, -999.000,9, -999.000,9, -999.000,9,-999.0000,9,  -999.00,9,   -999.0,9,   -999.0,9,   -999.0,9,   -999.0,9,   -999.0,9,     8.04,2, -999.00,  -999.0,-999.0000,-999.000,   25.00,  -999.0, 22.0410,-999.000
    31DSCG94_3,  P18N,    92,  1,    132,   1003,2,19940330,0457,-23.4950,-102.9950, 3906,     96.1,  21.0331,  35.7299,2,  35.7302,2,    228.2,2,    232.7,2,     1.13,2,     0.00,2,     0.00,2,     0.13,2, -999.000,5, -999.000,5, -999.000,9, -999.000,9, -999.000,9,-999.0000,9,  -999.00,9,   -999.0,9,   -999.0,9,   2040.3,2,    334.4,3,   2353.0,2,     8.05,2,   20.00,  -999.0,-999.0000,-999.000,   25.00,  -999.0, 21.0146,-999.000
    31DSCG94_3,  P18N,    92,  1,    131,   1211,2,19940330,0457,-23.4950,-102.9950, 3906,    123.8,  20.3982,  35.7021,2,  35.6966,2,    226.1,2,    229.2,2,     1.15,2,     0.02,2,     0.01,2,     0.19,2, -999.000,9, -999.000,9, -999.000,9, -999.000,9, -999.000,9,-999.0000,9,  -999.00,9,   -999.0,9,   -999.0,9,   -999.0,9,   -999.0,9,   -999.0,9,     8.04,2, -999.00,  -999.0,-999.0000,-999.000,   25.00,  -999.0, 20.3749,-999.000
    31DSCG94_3,  P18N,    92,  1,    130,   1241,2,19940330,0457,-23.4950,-102.9950, 3906,    149.0,  19.9250,  35.6390,2,  35.6381,2,    224.1,2,    226.6,6,     1.02,2,     0.01,2,     0.00,2,     0.20,2,    2.327,2,    1.263,2, -999.000,9, -999.000,9, -999.000,9,-999.0000,9,  -999.00,9,   -999.0,9,   -999.0,9,   -999.0,9,   -999.0,9,   -999.0,9,     8.03,2, -999.00,  -999.0,-999.0000,-999.000,   25.00,  -999.0, 19.8975,-999.000
    31DSCG94_3,  P18N,    92,  1,    129,   1240,2,19940330,0457,-23.4950,-102.9950, 3906,    198.7,  18.4455,  35.3325,2,  35.3345,2,    222.9,2,    220.7,2,     1.07,2,     0.15,2,     0.09,2,     0.24,2, -999.000,9, -999.000,9, -999.000,9, -999.000,9, -999.000,9,-999.0000,9,  -999.00,9,   -999.0,9,   -999.0,9,   2051.6,2,    369.6,2,   2328.0,2,     8.00,2,   20.00,  -999.0,-999.0000,-999.000,   25.00,  -999.0, 18.4107,-999.000
    31DSCG94_3,  P18N,    92,  1,    128,   1032,2,19940330,0457,-23.4950,-102.9950, 3906,    248.1,  15.3011,  34.7833,2,  34.7898,2,    211.7,2,    208.1,2,     1.53,2,     4.67,2,     0.00,2,     0.53,2,    2.537,2,    1.326,2, -999.000,9, -999.000,9, -999.000,9,-999.0000,9,  -999.00,9,   -999.0,9,   -999.0,9,   -999.0,9,   -999.0,9,   -999.0,9,     7.92,2, -999.00,  -999.0,-999.0000,-999.000,   25.00,  -999.0, 15.2631,-999.000
    31DSCG94_3,  P18N,    92,  1,    127,   1008,2,19940330,0457,-23.4950,-102.9950, 3906,    300.8,  12.7264,  34.5557,2,  34.5510,2,    197.3,2,    191.9,2,     3.38,2,    10.57,2,     0.00,2,     0.91,2,    2.209,2,    1.145,2, -999.000,9, -999.000,9, -999.000,9,-999.0000,9,  -999.00,9,   -999.0,9,   -999.0,9,   2093.9,2,    567.5,2,   2278.0,2,     7.83,2,   20.00,  -999.0,-999.0000,-999.000,   25.00,  -999.0, 12.6857,-999.000
    31DSCG94_3,  P18N,    92,  1,    126,   1007,2,19940330,0457,-23.4950,-102.9950, 3906,    349.8,  10.8310,  34.4708,2,  34.4688,2,    176.3,2,    170.1,2,     6.85,2,    16.85,2,     0.00,2,     1.36,2, -999.000,9, -999.000,9, -999.000,9, -999.000,9, -999.000,9,-999.0000,9,  -999.00,9,   -999.0,9,   -999.0,9,   -999.0,9,   -999.0,9,   -999.0,9,     7.73,2, -999.00,  -999.0,-999.0000,-999.000,   25.00,  -999.0, 10.7883,-999.000
    31DSCG94_3,  P18N,    92,  1,    125,   1203,2,19940330,0457,-23.4950,-102.9950, 3906,    397.3,   9.0372,  34.4187,2,  34.4177,2,    154.9,2,    147.6,6,    11.52,2,    23.54,2,     0.00,2,     1.83,2,    1.175,2,    0.595,2, -999.000,9, -999.000,9, -999.000,9,-999.0000,9,  -999.00,9,   -999.0,9,   -999.0,9,   2169.2,2,    951.9,2,   2276.0,2,  -999.00,9,   20.00,  -999.0,-999.0000,-999.000, -999.00,  -999.0,  8.9938,-999.000
    31DSCG94_3,  P18N,    92,  1,    123,   1220,2,19940330,0457,-23.4950,-102.9950, 3906,    498.0,   6.7208,  34.3576,2,  34.3568,2,    169.5,2,    167.5,2,    15.39,2,    28.74,2,     0.00,2,     2.05,2, -999.000,9, -999.000,9, -999.000,9, -999.000,9, -999.000,9,-999.0000,9,  -999.00,9,   -999.0,9,   -999.0,9,   2180.8,2,   1031.9,2,   2277.0,2,     7.61,2,   20.00,  -999.0,-999.0000,-999.000,   25.00,  -999.0,  6.6747,-999.000
    31DSCG94_3,  P18N,    92,  1,    122,   1245,2,19940330,0457,-23.4950,-102.9950, 3906,    601.1,   5.8214,  34.3206,2,  34.3218,2,    180.7,2,    187.6,2,    17.77,2,    29.27,2,     0.00,2,     2.01,2,    0.473,6,    0.264,6, -999.000,9, -999.000,9, -999.000,9,-999.0000,9,  -999.00,9,   -999.0,9,   -999.0,9,   2177.0,2,    977.4,2,   2281.0,2,     7.63,2,   20.00,  -999.0,-999.0000,-999.000,   25.00,  -999.0,  5.7694,-999.000
    31DSCG94_3,  P18N,    92,  1,    121,   1206,2,19940330,0457,-23.4950,-102.9950, 3906,    700.6,   5.1972,  34.3252,2,  34.3258,2,    173.3,2,    172.6,2,    26.25,2,    32.05,2,     0.00,2,     2.17,2,    0.227,2,    0.131,2, -999.000,9, -999.000,9, -999.000,9,-999.0000,9,  -999.00,9,   -999.0,9,   -999.0,9,   2196.9,2,   1072.0,2,   2289.0,2,     7.59,2,   20.00,  -999.0,-999.0000,-999.000,   25.00,  -999.0,  5.1394,-999.000
    31DSCG94_3,  P18N,    92,  1,    120,   1028,3,19940330,0457,-23.4950,-102.9950, 3906,    799.4,   4.7505,  34.3678,2,  34.3687,2,    147.6,2,   -999.0,9,    39.19,2,    35.30,2,     0.00,2,     2.41,2, -999.000,9, -999.000,9, -999.000,9, -999.000,9, -999.000,9,-999.0000,9,  -999.00,9,   -999.0,9,   -999.0,9,   2226.5,2,   1213.8,2,   2303.0,2,     7.54,2,   20.00,  -999.0,-999.0000,-999.000,   25.00,  -999.0,  4.6867,-999.000
    31DSCG94_3,  P18N,    92,  1,    119,   1248,2,19940330,0457,-23.4950,-102.9950, 3906,    900.3,   4.3090,  34.4127,2,  34.4130,2,    131.6,2,    129.9,2,    52.11,2,    36.92,2,     0.00,2,     2.54,2, -999.000,9, -999.000,9, -999.000,9, -999.000,9, -999.000,9,-999.0000,9,  -999.00,9,   -999.0,9,   -999.0,9,   2246.9,2,   1308.3,2,   2315.0,2,     7.52,2,   20.00,  -999.0,-999.0000,-999.000,   25.00,  -999.0,  4.2395,-999.000
    31DSCG94_3,  P18N,    92,  1,    118,   1207,3,19940330,0457,-23.4950,-102.9950, 3906,    998.9,   3.9588,  34.4629,2,  34.4622,2,    125.3,2,    123.8,2,    64.75,2,    37.63,2,     0.00,2,     2.61,2,    0.010,2,    0.004,2, -999.000,9, -999.000,9, -999.000,9,-999.0000,9,  -999.00,9,   -999.0,9,   -999.0,9,   2263.4,2,   1331.6,2,   2332.0,6,     7.52,2,   20.00,  -999.0,-999.0000,-999.000,   25.00,  -999.0,  3.8836,-999.000
    31DSCG94_3,  P18N,    92,  1,    117,   1119,2,19940330,0457,-23.4950,-102.9950, 3906,   1100.4,   3.6672,  34.5073,2,  34.5070,2,    128.2,2,    128.3,2,    74.82,2,    37.30,2,     0.00,2,     2.60,2, -999.000,9, -999.000,9, -999.000,9, -999.000,9, -999.000,9,   1.8640,2,    17.02,2,   -999.0,9,   -999.0,9,   -999.0,9,   -999.0,9,   -999.0,9,  -999.00,9, -999.00,  -999.0,-999.0000,-999.000, -999.00,  -999.0,  3.5859,-999.000
    31DSCG94_3,  P18N,    92,  1,    116,   1036,2,19940330,0457,-23.4950,-102.9950, 3906,   1198.7,   3.3793,  34.5307,2,  34.5298,2,    130.6,2,    132.1,6,    81.85,2,    36.80,2,     0.00,2,     2.57,2, -999.000,5, -999.000,5, -999.000,9, -999.000,9, -999.000,9,-999.0000,9,  -999.00,9,   -999.0,9,   -999.0,9,   -999.0,9,   -999.0,9,   -999.0,9,  -999.00,9, -999.00,  -999.0,-999.0000,-999.000, -999.00,  -999.0,  3.2925,-999.000
    31DSCG94_3,  P18N,    92,  1,    115,   1017,2,19940330,0457,-23.4950,-102.9950, 3906,   1299.5,   3.1648,  34.5476,2,  34.5471,2,    131.8,2,    138.8,3,    89.27,2,    36.98,2,     0.00,2,     2.55,2, -999.000,9, -999.000,9, -999.000,9, -999.000,9, -999.000,9,-999.0000,5,    18.69,3,   -999.0,9,   -999.0,9,   -999.0,9,   -999.0,9,   -999.0,9,  -999.00,9, -999.00,  -999.0,-999.0000,-999.000, -999.00,  -999.0,  3.0718,-999.000
    31DSCG94_3,  P18N,    92,  1,    114,   1016,2,19940330,0457,-23.4950,-102.9950, 3906,   1402.2,   2.9420,  34.5634,2,  34.5631,2,    132.7,2,    132.5,2,    96.25,2,    36.99,2,     0.00,2,     2.57,2, -999.000,9, -999.000,9, -999.000,9, -999.000,9, -999.000,9,   1.8990,2,    20.99,2,   -999.0,9,   -999.0,9,   -999.0,9,   -999.0,9,   -999.0,9,  -999.00,9, -999.00,  -999.0,-999.0000,-999.000, -999.00,  -999.0,  2.8429,-999.000
    31DSCG94_3,  P18N,    92,  1,    113,   1209,2,19940330,0457,-23.4950,-102.9950, 3906,   1498.6,   2.7606,  34.5795,2,  34.5783,2,    132.2,2,    131.2,2,   101.57,2,    37.01,2,     0.00,2,     2.58,2,    0.006,2,   -0.002,2, -999.000,9, -999.000,9, -999.000,9,   1.8870,2,    22.69,2,   -999.0,9,   -999.0,9,   -999.0,9,   -999.0,9,   -999.0,9,  -999.00,9, -999.00,  -999.0,-999.0000,-999.000, -999.00,  -999.0,  2.6556,-999.000
    31DSCG94_3,  P18N,    92,  1,    112,   1033,2,19940330,0457,-23.4950,-102.9950, 3906,   1600.9,   2.5967,  34.5919,2,  34.5916,2,    134.5,2,    133.7,2,   104.44,2,    36.57,2,     0.00,2,     2.56,2, -999.000,9, -999.000,9, -999.000,9, -999.000,9, -999.000,9,-999.0000,9,  -999.00,9,   -999.0,9,   -999.0,9,   -999.0,9,   -999.0,9,   -999.0,9,  -999.00,9, -999.00,  -999.0,-999.0000,-999.000, -999.00,  -999.0,  2.4852,-999.000
    31DSCG94_3,  P18N,    92,  1,    111,   1240,2,19940330,0457,-23.4950,-102.9950, 3906,   1800.2,   2.2848,  34.6170,2,  34.6164,2,    144.7,2,    146.2,2,   109.03,2,    35.87,2,     0.00,2,     2.49,2, -999.000,9, -999.000,9, -999.000,9, -999.000,9, -999.000,9,   1.9260,2,    26.61,2,   -999.0,9,   -999.0,9,   -999.0,9,   -999.0,9,   -999.0,9,  -999.00,9, -999.00,  -999.0,-999.0000,-999.000, -999.00,  -999.0,  2.1609,-999.000
    31DSCG94_3,  P18N,    92,  1,    110,   1005,2,19940330,0457,-23.4950,-102.9950, 3906,   1999.2,   2.0782,  34.6381,2,  34.6371,2,    150.9,2,    151.4,2,   113.50,2,    35.27,2,     0.00,2,     2.45,2, -999.000,9, -999.000,9, -999.000,9, -999.000,9, -999.000,9,   1.9200,2,    28.12,2,   -999.0,9,   -999.0,9,   -999.0,9,   -999.0,9,   -999.0,9,  -999.00,9, -999.00,  -999.0,-999.0000,-999.000, -999.00,  -999.0,  1.9406,-999.000
    31DSCG94_3,  P18N,    92,  1,    109,   1611,2,19940330,0457,-23.4950,-102.9950, 3906,   2247.0,   1.9384,  34.6546,2,  34.6536,2,    155.1,2,    155.3,2,   116.86,2,    35.00,2,     0.00,2,     2.42,2,    0.004,2,    0.001,2, -999.000,9, -999.000,9, -999.000,9,-999.0000,9,  -999.00,9,   -999.0,9,   -999.0,9,   -999.0,9,   -999.0,9,   -999.0,9,  -999.00,9, -999.00,  -999.0,-999.0000,-999.000, -999.00,  -999.0,  1.7818,-999.000
    31DSCG94_3,  P18N,    92,  1,    108,   1218,2,19940330,0457,-23.4950,-102.9950, 3906,   2499.4,   1.8661,  34.6651,2,  34.6643,2,    156.8,2,    157.3,2,   118.40,2,    35.00,2,     0.00,2,     2.38,2, -999.000,9, -999.000,9, -999.000,9, -999.000,9, -999.000,9,   1.9390,2,    30.19,2,   -999.0,9,   -999.0,9,   -999.0,9,   -999.0,9,   -999.0,9,  -999.00,9, -999.00,  -999.0,-999.0000,-999.000, -999.00,  -999.0,  1.6882,-999.000
    31DSCG94_3,  P18N,    92,  1,    107,   1257,2,19940330,0457,-23.4950,-102.9950, 3906,   2721.2,   1.8312,  34.6715,2,  34.6709,2,    156.9,2,    157.1,2,   120.32,2,    35.42,2,     0.00,2,     2.39,2, -999.000,9, -999.000,9, -999.000,9, -999.000,9, -999.000,9,-999.0000,9,  -999.00,9,   -999.0,9,   -999.0,9,   -999.0,9,   -999.0,9,   -999.0,9,  -999.00,9, -999.00,  -999.0,-999.0000,-999.000, -999.00,  -999.0,  1.6336,-999.000
    31DSCG94_3,  P18N,    92,  1,    106,   1224,2,19940330,0457,-23.4950,-102.9950, 3906,   3000.5,   1.8006,  34.6778,2,  34.6778,2,    155.4,2,    155.0,2,   123.82,2,    35.70,2,     0.00,2,     2.42,2, -999.000,9, -999.000,9, -999.000,9, -999.000,9, -999.000,9,-999.0000,9,  -999.00,9,   -999.0,9,   -999.0,9,   -999.0,9,   -999.0,9,   -999.0,9,  -999.00,9, -999.00,  -999.0,-999.0000,-999.000, -999.00,  -999.0,  1.5771,-999.000
    31DSCG94_3,  P18N,    92,  1,    105,   1246,2,19940330,0457,-23.4950,-102.9950, 3906,   3250.9,   1.7970,  34.6816,2,  34.6812,2,    153.1,2,   -999.0,9,   127.11,2,    35.75,2,     0.00,2,     2.45,2, -999.000,9, -999.000,9, -999.000,9, -999.000,9, -999.000,9,   1.9240,2,    25.43,2,   -999.0,9,   -999.0,9,   -999.0,9,   -999.0,9,   -999.0,9,  -999.00,9, -999.00,  -999.0,-999.0000,-999.000, -999.00,  -999.0,  1.5488,-999.000
    31DSCG94_3,  P18N,    92,  1,    104,   1217,2,19940330,0457,-23.4950,-102.9950, 3906,   3491.4,   1.8036,  34.6842,2,  34.6831,2,    152.0,2,    150.6,2,   130.68,2,    35.50,2,     0.00,2,     2.42,2, -999.000,9, -999.000,9, -999.000,9, -999.000,9, -999.000,9,   1.9270,2,    25.79,2,   -999.0,9,   -999.0,9,   -999.0,9,   -999.0,9,   -999.0,9,  -999.00,9, -999.00,  -999.0,-999.0000,-999.000, -999.00,  -999.0,  1.5306,-999.000
    31DSCG94_3,  P18N,    92,  1,    103,   9999,2,19940330,0457,-23.4950,-102.9950, 3906,   3747.2,   1.8240,  34.6852,2,  34.6852,2,    150.9,2,   -999.0,9,   132.14,2,    35.63,2,     0.00,2,     2.43,2, -999.000,9, -999.000,9, -999.000,9, -999.000,9, -999.000,9,-999.0000,9,  -999.00,9,   -999.0,9,   -999.0,9,   -999.0,9,   -999.0,9,   -999.0,9,  -999.00,9, -999.00,  -999.0,-999.0000,-999.000, -999.00,  -999.0,  1.5235,-999.000
    31DSCG94_3,  P18N,    92,  1,    102,   1223,2,19940330,0457,-23.4950,-102.9950, 3906,   3748.6,   1.8241,  34.6849,2,  34.6844,2,    150.9,2,    150.4,2,   131.61,2,    35.67,2,     0.00,2,     2.43,2, -999.000,9, -999.000,9, -999.000,9, -999.000,9, -999.000,9,   1.9350,2,    25.48,2,   -999.0,9,   -999.0,9,   -999.0,9,   -999.0,9,   -999.0,9,  -999.00,9, -999.00,  -999.0,-999.0000,-999.000, -999.00,  -999.0,  1.5234,-999.000
    31DSCG94_3,  P18N,    92,  1,    101,   1041,2,19940330,0457,-23.4950,-102.9950, 3906,   3955.5,   1.8464,  34.6851,2,  34.6865,2,    150.0,2,    149.6,2,   130.81,2,    35.88,2,     0.00,2,     2.44,2, -999.000,9, -999.000,9, -999.000,9, -999.000,9, -999.000,9,   1.9170,2,    24.62,2,   -999.0,9,   -999.0,9,   -999.0,9,   -999.0,9,   -999.0,9,  -999.00,9, -999.00,  -999.0,-999.0000,-999.000, -999.00,  -999.0,  1.5226,-999.000