BOTTLE,20220630CCHSIOAMB
EXPOCODE,SECT_ID,STNNBR,CASTNO,SAMPNO,BTLNBR,BTLNBR_FLAG_W,DATE,TIME,LATITUDE,LONGITUDE,DEPTH,CTDPRS,CTDTMP,CTDSAL,CTDSAL_FLAG_W,SALNTY,SALNTY_FLAG_W,CTDOXY,CTDOXY_FLAG_W,OXYGEN,OXYGEN_FLAG_W,SILCAT,SILCAT_FLAG_W,NITRAT,NITRAT_FLAG_W,NITRIT,NITRIT_FLAG_W,PHSPHT,PHSPHT_FLAG_W,CFC-11,CFC-11_FLAG_W,CFC-12,CFC-12_FLAG_W,CFC113,CFC113_FLAG_W,CCL4,CCL4_FLAG_W,TRITUM,TRITUM_FLAG_W,HELIUM,HELIUM_FLAG_W,DELHE3,DELHE3_FLAG_W,DELC14,DELC14_FLAG_W,DELC13,DELC13_FLAG_W,TCARBN,TCARBN_FLAG_W,PCO2,PCO2_FLAG_W,ALKALI,ALKALI_FLAG_W,PH,PH_FLAG_W,PCO2TMP,C14ERR,HELIER,DELHER,PH_TMP,C13ERR,THETA,TRITER
,,,,,,,,,,,,DBAR,ITS-90,PSS-78,,PSS-78,,UMOL/KG,,UMOL/KG,,UMOL/KG,,UMOL/KG,,UMOL/KG,,UMOL/KG,,PMOL/KG,,PMOL/KG,,PMOL/KG,,PMOL/KG,,TU,,NMOL/KG,,PERCNT,,/MILLE,,/MILLE,,UMOL/KG,,UATM,,UMOL/KG,,,,DEG C,/MILLE,NMOL/KG,PERCNT,DEG C,/MILLE,DEG C,TU
    31DSCG94_3,  P18N,   165,  1,    136,   1025,2,19940418,2234,  8.5017,-110.2517, 3877,      9.9,  28.9629,  34.0401,2,  34.0451,2,    200.2,2,    197.4,2,     0.00,2,     0.05,2,     0.00,2,     0.16,2,    1.689,2,    0.965,2, -999.000,9, -999.000,9, -999.000,9,-999.0000,9,  -999.00,9,   -999.0,9,   -999.0,9,   1913.7,2,    266.7,2,   2245.0,6,     8.12,2,   20.00,  -999.0,-999.0000,-999.000,   25.00,  -999.0, 28.9606,-999.000
    31DSCG94_3,  P18N,   165,  1,    135,   1247,2,19940418,2234,  8.5017,-110.2517, 3877,     24.8,  28.8848,  34.0391,2,  34.0449,2,    193.2,2,    197.4,2,     0.00,2,     0.00,2,     0.00,2,     0.15,2,    1.661,2,    0.967,2, -999.000,9, -999.000,9, -999.000,9,-999.0000,9,  -999.00,9,   -999.0,9,   -999.0,9,   -999.0,9,   -999.0,9,   -999.0,9,     8.12,2, -999.00,  -999.0,-999.0000,-999.000,   25.00,  -999.0, 28.8788,-999.000
    31DSCG94_3,  P18N,   165,  1,    134,   1216,2,19940418,2234,  8.5017,-110.2517, 3877,     50.3,  24.9177,  34.1471,2,  34.1337,2,    201.6,2,    152.8,2,     0.54,2,     4.84,2,     1.05,2,     0.73,2,    1.560,2,    0.940,2, -999.000,9, -999.000,9, -999.000,9,-999.0000,9,  -999.00,9,   -999.0,9,   -999.0,9,   -999.0,9,   -999.0,9,   -999.0,9,     7.97,2, -999.00,  -999.0,-999.0000,-999.000,   25.00,  -999.0, 24.9069,-999.000
    31DSCG94_3,  P18N,   165,  1,    133,   1244,2,19940418,2234,  8.5017,-110.2517, 3877,     73.9,  18.6352,  34.6195,2,  34.6238,2,     76.4,2,     41.7,6,    11.73,2,    23.19,2,     0.70,2,     1.92,2,    0.993,6,    0.548,6, -999.000,9, -999.000,9, -999.000,9,-999.0000,9,  -999.00,9,   -999.0,9,   -999.0,9,   -999.0,9,   -999.0,9,   -999.0,9,     7.64,2, -999.00,  -999.0,-999.0000,-999.000,   25.00,  -999.0, 18.6223,-999.000
    31DSCG94_3,  P18N,   165,  1,    132,   1003,2,19940418,2234,  8.5017,-110.2517, 3877,     97.3,  14.5074,  34.7196,2,  34.7262,2,     51.6,2,     39.8,2,    18.47,2,    27.30,2,     0.01,2,     2.05,2,    0.790,2,    0.423,2, -999.000,9, -999.000,9, -999.000,9,-999.0000,9,  -999.00,9,   -999.0,9,   -999.0,9,   -999.0,9,   -999.0,9,   -999.0,9,     7.58,2, -999.00,  -999.0,-999.0000,-999.000,   25.00,  -999.0, 14.4931,-999.000
    31DSCG94_3,  P18N,   165,  1,    131,   1211,2,19940418,2234,  8.5017,-110.2517, 3877,    123.2,  13.1123,  34.7466,2,  34.7464,2,     48.4,2,     44.5,2,    21.06,2,    28.34,2,     0.00,2,     2.09,2,    0.658,2,    0.344,2, -999.000,9, -999.000,9, -999.000,9,-999.0000,9,  -999.00,9,   -999.0,9,   -999.0,9,   -999.0,9,   -999.0,9,   -999.0,9,     7.58,2, -999.00,  -999.0,-999.0000,-999.000,   25.00,  -999.0, 13.0953,-999.000
    31DSCG94_3,  P18N,   165,  1,    130,   1241,2,19940418,2234,  8.5017,-110.2517, 3877,    152.3,  12.4932,  34.7821,2,  34.7816,2,     36.1,2,     24.5,2,    23.00,2,    31.30,2,     0.00,2,     2.27,2,    0.458,2,    0.246,2, -999.000,9, -999.000,9, -999.000,9,-999.0000,9,  -999.00,9,   -999.0,9,   -999.0,9,   -999.0,9,   -999.0,9,   -999.0,9,     7.52,2, -999.00,  -999.0,-999.0000,-999.000,   25.00,  -999.0, 12.4729,-999.000
    31DSCG94_3,  P18N,   165,  1,    129,   1240,2,19940418,2234,  8.5017,-110.2517, 3877,    174.9,  12.0666,  34.7751,2,  34.7749,2,     36.9,2,     30.0,2,    24.14,2,    31.16,2,     0.00,2,     2.27,2,    0.391,6,    0.221,6, -999.000,9, -999.000,9, -999.000,9,-999.0000,9,  -999.00,9,   -999.0,9,   -999.0,9,   -999.0,9,   -999.0,9,   -999.0,9,     7.53,2, -999.00,  -999.0,-999.0000,-999.000,   25.00,  -999.0, 12.0438,-999.000
    31DSCG94_3,  P18N,   165,  1,    128,   1032,2,19940418,2234,  8.5017,-110.2517, 3877,    200.1,  11.6001,  34.7563,2,  34.7554,2,     35.3,2,     31.8,2,    25.35,2,    31.82,2,     0.00,2,     2.29,2,    0.331,2,    0.183,2, -999.000,9, -999.000,9, -999.000,9,-999.0000,9,  -999.00,9,   -999.0,9,   -999.0,9,   -999.0,9,   -999.0,9,   -999.0,9,     7.52,2, -999.00,  -999.0,-999.0000,-999.000,   25.00,  -999.0, 11.5746,-999.000
    31DSCG94_3,  P18N,   165,  1,    127,   1008,2,19940418,2234,  8.5017,-110.2517, 3877,    224.9,  11.3904,  34.7555,2,  34.7550,2,     33.3,2,     29.0,2,    26.19,2,    32.21,2,     0.00,2,     2.31,2,    0.285,2,    0.159,2, -999.000,9, -999.000,9, -999.000,9,-999.0000,9,  -999.00,9,   -999.0,9,   -999.0,9,   -999.0,9,   -999.0,9,   -999.0,9,     7.51,2, -999.00,  -999.0,-999.0000,-999.000,   25.00,  -999.0, 11.3620,-999.000
    31DSCG94_3,  P18N,   165,  1,    126,   1007,2,19940418,2234,  8.5017,-110.2517, 3877,    249.9,  11.1785,  34.7503,2,  34.7506,2,     34.1,2,     30.6,2,    26.92,2,    32.53,2,     0.00,2,     2.34,2,    0.262,2,    0.147,2, -999.000,9, -999.000,9, -999.000,9,-999.0000,9,  -999.00,9,   -999.0,9,   -999.0,9,   -999.0,9,   -999.0,9,   -999.0,9,     7.50,2, -999.00,  -999.0,-999.0000,-999.000,   25.00,  -999.0, 11.1474,-999.000
    31DSCG94_3,  P18N,   165,  1,    125,   1256,2,19940418,2234,  8.5017,-110.2517, 3877,    297.9,  10.7268,  34.7331,2,  34.7322,2,     29.8,2,     31.1,2,    28.28,2,    33.41,2,     0.00,2,     2.38,2,    0.212,6,    0.121,6, -999.000,9, -999.000,9, -999.000,9,-999.0000,9,  -999.00,9,   -999.0,9,   -999.0,9,   -999.0,9,   -999.0,9,   -999.0,9,     7.49,2, -999.00,  -999.0,-999.0000,-999.000,   25.00,  -999.0, 10.6906,-999.000
    31DSCG94_3,  P18N,   165,  1,    123,   1220,2,19940418,2234,  8.5017,-110.2517, 3877,    400.1,   9.7456,  34.6882,2,  34.6885,2,     10.8,2,      6.8,2,    36.09,2,    35.58,2,     0.00,2,     2.72,2,    0.058,2,    0.032,2, -999.000,9, -999.000,9, -999.000,9,-999.0000,9,  -999.00,9,   -999.0,9,   -999.0,9,   -999.0,9,   -999.0,9,   -999.0,9,     7.41,2, -999.00,  -999.0,-999.0000,-999.000,   25.00,  -999.0,  9.6996,-999.000
    31DSCG94_3,  P18N,   165,  1,    122,   1245,2,19940418,2234,  8.5017,-110.2517, 3877,    499.4,   8.7418,  34.6439,2,  34.6431,2,      5.5,2,      1.7,2,    44.31,2,    36.95,2,     0.00,2,     2.94,2,    0.011,2,    0.007,2, -999.000,9, -999.000,9, -999.000,9,-999.0000,9,  -999.00,9,   -999.0,9,   -999.0,9,   -999.0,9,   -999.0,9,   -999.0,9,     7.38,2, -999.00,  -999.0,-999.0000,-999.000,   25.00,  -999.0,  8.6878,-999.000
    31DSCG94_3,  P18N,   165,  1,    121,   1206,2,19940418,2234,  8.5017,-110.2517, 3877,    600.4,   7.3403,  34.5808,2,-999.0000,5,      3.3,2,      1.6,2,    59.52,2,    40.45,2,     0.00,2,     3.25,2,    0.002,2,    0.000,2, -999.000,9, -999.000,9, -999.000,9,-999.0000,9,  -999.00,9,   -999.0,9,   -999.0,9,   -999.0,9,   -999.0,9,   -999.0,9,  -999.00,9, -999.00,  -999.0,-999.0000,-999.000, -999.00,  -999.0,  7.2813,-999.000
    31DSCG94_3,  P18N,   165,  1,    120,   1028,2,19940418,2234,  8.5017,-110.2517, 3877,    700.3,   6.3553,  34.5662,2,  34.5658,2,      2.7,2,      3.0,2,    66.85,2,    44.69,2,     0.00,2,     3.25,2,    0.002,2,    0.001,2, -999.000,9, -999.000,9, -999.000,9,-999.0000,9,  -999.00,9,   -999.0,9,   -999.0,9,   -999.0,9,   -999.0,9,   -999.0,9,     7.34,2, -999.00,  -999.0,-999.0000,-999.000,   25.00,  -999.0,  6.2911,-999.000
    31DSCG94_3,  P18N,   165,  1,    119,   1248,2,19940418,2234,  8.5017,-110.2517, 3877,    798.6,   5.5989,  34.5551,2,  34.5545,2,      7.6,2,     11.9,2,    78.58,2,    44.50,2,     0.00,2,     3.27,2,    0.001,2,    0.000,2, -999.000,9, -999.000,9, -999.000,9,-999.0000,9,  -999.00,9,   -999.0,9,   -999.0,9,   -999.0,9,   -999.0,9,   -999.0,9,     7.35,2, -999.00,  -999.0,-999.0000,-999.000,   25.00,  -999.0,  5.5298,-999.000
    31DSCG94_3,  P18N,   165,  1,    118,   1115,2,19940418,2234,  8.5017,-110.2517, 3877,    900.1,   5.1597,  34.5612,2,  34.5612,2,     15.4,2,     20.5,2,    87.77,2,    44.62,2,     0.00,2,     3.25,2, -999.000,9, -999.000,9, -999.000,9, -999.000,9, -999.000,9,-999.0000,9,  -999.00,9,   -999.0,9,   -999.0,9,   -999.0,9,   -999.0,9,   -999.0,9,     7.36,2, -999.00,  -999.0,-999.0000,-999.000,   25.00,  -999.0,  5.0841,-999.000
    31DSCG94_3,  P18N,   165,  1,    117,   1119,2,19940418,2234,  8.5017,-110.2517, 3877,    998.5,   4.6866,  34.5625,2,  34.5628,2,     25.2,2,     32.0,2,    95.60,2,    44.69,2,     0.00,2,     3.21,2,   -0.001,2,    0.000,2, -999.000,9, -999.000,9, -999.000,9,-999.0000,9,  -999.00,9,   -999.0,9,   -999.0,9,   -999.0,9,   -999.0,9,   -999.0,9,     7.38,2, -999.00,  -999.0,-999.0000,-999.000,   25.00,  -999.0,  4.6057,-999.000
    31DSCG94_3,  P18N,   165,  1,    116,   1036,2,19940418,2234,  8.5017,-110.2517, 3877,   1200.8,   3.9733,  34.5755,2,  34.5759,2,     38.0,2,     42.0,2,   109.90,2,    44.36,2,     0.00,2,     3.17,2, -999.000,9, -999.000,9, -999.000,9, -999.000,9, -999.000,9,-999.0000,9,  -999.00,9,   -999.0,9,   -999.0,9,   -999.0,9,   -999.0,9,   -999.0,9,  -999.00,9, -999.00,  -999.0,-999.0000,-999.000, -999.00,  -999.0,  3.8808,-999.000
    31DSCG94_3,  P18N,   165,  1,    115,   1017,2,19940418,2234,  8.5017,-110.2517, 3877,   1399.4,   3.3595,  34.5965,2,  34.5955,2,     54.6,2,     58.6,2,   121.53,2,    43.22,2,     0.00,2,     3.07,2, -999.000,9, -999.000,9, -999.000,9, -999.000,9, -999.000,9,-999.0000,9,  -999.00,9,   -999.0,9,   -999.0,9,   -999.0,9,   -999.0,9,   -999.0,9,  -999.00,9, -999.00,  -999.0,-999.0000,-999.000, -999.00,  -999.0,  3.2560,-999.000
    31DSCG94_3,  P18N,   165,  1,    114,   1016,2,19940418,2234,  8.5017,-110.2517, 3877,   1599.0,   2.9747,  34.6101,2,  34.6100,2,     69.9,2,     69.8,2,   128.99,2,    42.42,2,     0.00,2,     3.00,2, -999.000,9, -999.000,9, -999.000,9, -999.000,9, -999.000,9,-999.0000,9,  -999.00,9,   -999.0,9,   -999.0,9,   -999.0,9,   -999.0,9,   -999.0,9,  -999.00,9, -999.00,  -999.0,-999.0000,-999.000, -999.00,  -999.0,  2.8587,-999.000
    31DSCG94_3,  P18N,   165,  1,    113,   1209,2,19940418,2234,  8.5017,-110.2517, 3877,   1764.9,   2.6556,  34.6219,2,  34.6220,2,     82.3,2,     80.1,2,   135.07,2,    41.89,2,     0.00,2,     2.93,2, -999.000,9, -999.000,9, -999.000,9, -999.000,9, -999.000,9,-999.0000,9,  -999.00,9,   -999.0,9,   -999.0,9,   -999.0,9,   -999.0,9,   -999.0,9,  -999.00,9, -999.00,  -999.0,-999.0000,-999.000, -999.00,  -999.0,  2.5296,-999.000
    31DSCG94_3,  P18N,   165,  1,    112,   1033,2,19940418,2234,  8.5017,-110.2517, 3877,   1997.8,   2.2988,  34.6389,2,  34.6382,2,     91.1,2,     87.7,2,   143.94,2,    41.00,2,     0.00,2,     2.88,2, -999.000,9, -999.000,9, -999.000,9, -999.000,9, -999.000,9,-999.0000,9,  -999.00,9,   -999.0,9,   -999.0,9,   -999.0,9,   -999.0,9,   -999.0,9,  -999.00,9, -999.00,  -999.0,-999.0000,-999.000, -999.00,  -999.0,  2.1580,-999.000
    31DSCG94_3,  P18N,   165,  1,    111,   1240,2,19940418,2234,  8.5017,-110.2517, 3877,   2199.2,   2.0447,  34.6543,2,  34.6541,2,     99.2,2,     97.6,6,   149.68,2,    40.43,2,     0.00,2,     2.80,2, -999.000,9, -999.000,9, -999.000,9, -999.000,9, -999.000,9,-999.0000,9,  -999.00,9,   -999.0,9,   -999.0,9,   -999.0,9,   -999.0,9,   -999.0,9,  -999.00,9, -999.00,  -999.0,-999.0000,-999.000, -999.00,  -999.0,  1.8904,-999.000
    31DSCG94_3,  P18N,   165,  1,    110,   1005,2,19940418,2234,  8.5017,-110.2517, 3877,   2397.8,   1.9160,  34.6618,2,  34.6619,2,    105.5,2,    104.0,2,   150.85,2,    39.96,2,     0.00,2,     2.76,2, -999.000,9, -999.000,9, -999.000,9, -999.000,9, -999.000,9,-999.0000,9,  -999.00,9,   -999.0,9,   -999.0,9,   -999.0,9,   -999.0,9,   -999.0,9,  -999.00,9, -999.00,  -999.0,-999.0000,-999.000, -999.00,  -999.0,  1.7464,-999.000
    31DSCG94_3,  P18N,   165,  1,    109,   1611,2,19940418,2234,  8.5017,-110.2517, 3877,   2598.8,   1.8479,  34.6667,2,  34.6664,2,    109.4,2,    108.2,2,   157.93,2,    39.13,2,     0.00,2,     2.74,2, -999.000,9, -999.000,9, -999.000,9, -999.000,9, -999.000,9,-999.0000,9,  -999.00,9,   -999.0,9,   -999.0,9,   -999.0,9,   -999.0,9,   -999.0,9,  -999.00,9, -999.00,  -999.0,-999.0000,-999.000, -999.00,  -999.0,  1.6613,-999.000
    31DSCG94_3,  P18N,   165,  1,    108,   1218,2,19940418,2234,  8.5017,-110.2517, 3877,   2801.7,   1.8264,  34.6692,2,  34.6689,2,    111.3,2,    110.9,2,   156.47,2,    38.24,2,     0.00,2,     2.72,2, -999.000,9, -999.000,9, -999.000,9, -999.000,9, -999.000,9,-999.0000,9,  -999.00,9,   -999.0,9,   -999.0,9,   -999.0,9,   -999.0,9,   -999.0,9,  -999.00,9, -999.00,  -999.0,-999.0000,-999.000, -999.00,  -999.0,  1.6214,-999.000
    31DSCG94_3,  P18N,   165,  1,    107,   1257,2,19940418,2234,  8.5017,-110.2517, 3877,   2999.4,   1.7665,  34.6721,2,  34.6714,2,    116.7,2,    117.2,6,   154.08,2,    38.48,2,     0.00,2,     2.69,2, -999.000,9, -999.000,9, -999.000,9, -999.000,9, -999.000,9,-999.0000,9,  -999.00,9,   -999.0,9,   -999.0,9,   -999.0,9,   -999.0,9,   -999.0,9,  -999.00,9, -999.00,  -999.0,-999.0000,-999.000, -999.00,  -999.0,  1.5439,-999.000
    31DSCG94_3,  P18N,   165,  1,    106,   1224,2,19940418,2234,  8.5017,-110.2517, 3877,   3199.3,   1.6836,  34.6763,2,  34.6760,2,    123.4,2,    123.9,2,   153.11,2,    38.83,2,     0.00,2,     2.65,2, -999.000,9, -999.000,9, -999.000,9, -999.000,9, -999.000,9,-999.0000,9,  -999.00,9,   -999.0,9,   -999.0,9,   -999.0,9,   -999.0,9,   -999.0,9,  -999.00,9, -999.00,  -999.0,-999.0000,-999.000, -999.00,  -999.0,  1.4432,-999.000
    31DSCG94_3,  P18N,   165,  1,    105,   1246,2,19940418,2234,  8.5017,-110.2517, 3877,   3399.8,   1.6306,  34.6796,2,  34.6797,2,    129.1,2,    130.2,2,   155.03,2,    38.10,2,     0.00,2,     2.62,2, -999.000,9, -999.000,9, -999.000,9, -999.000,9, -999.000,9,-999.0000,9,  -999.00,9,   -999.0,9,   -999.0,9,   -999.0,9,   -999.0,9,   -999.0,9,  -999.00,9, -999.00,  -999.0,-999.0000,-999.000, -999.00,  -999.0,  1.3714,-999.000
    31DSCG94_3,  P18N,   165,  1,    103,   9999,2,19940418,2234,  8.5017,-110.2517, 3877,   3599.2,   1.5999,  34.6816,2,  34.6831,2,    133.5,2,    134.1,2,   152.16,2,    38.11,2,     0.00,2,     2.60,2, -999.000,9, -999.000,9, -999.000,9, -999.000,9, -999.000,9,-999.0000,9,  -999.00,9,   -999.0,9,   -999.0,9,   -999.0,9,   -999.0,9,   -999.0,9,  -999.00,9, -999.00,  -999.0,-999.0000,-999.000, -999.00,  -999.0,  1.3209,-999.000
    31DSCG94_3,  P18N,   165,  1,    104,   1217,2,19940418,2234,  8.5017,-110.2517, 3877,   3600.4,   1.6015,  34.6816,2,  34.6817,2,    133.6,2,    134.4,2,   154.49,2,    37.72,2,     0.00,2,     2.60,2, -999.000,9, -999.000,9, -999.000,9, -999.000,9, -999.000,9,-999.0000,9,  -999.00,9,   -999.0,9,   -999.0,9,   -999.0,9,   -999.0,9,   -999.0,9,  -999.00,9, -999.00,  -999.0,-999.0000,-999.000, -999.00,  -999.0,  1.3224,-999.000
    31DSCG94_3,  P18N,   165,  1,    102,   1223,2,19940418,2234,  8.5017,-110.2517, 3877,   3800.8,   1.5948,  34.6828,2,  34.6827,2,    136.2,2,    136.4,2,   151.40,2,    37.96,2,     0.00,2,     2.63,2, -999.000,9, -999.000,9, -999.000,9, -999.000,9, -999.000,9,-999.0000,9,  -999.00,9,   -999.0,9,   -999.0,9,   -999.0,9,   -999.0,9,   -999.0,9,  -999.00,9, -999.00,  -999.0,-999.0000,-999.000, -999.00,  -999.0,  1.2947,-999.000
    31DSCG94_3,  P18N,   165,  1,    101,   1041,2,19940418,2234,  8.5017,-110.2517, 3877,   3917.8,   1.6014,  34.6831,2,  34.6842,2,    137.9,2,    138.9,2,   150.68,2,    37.77,2,     0.00,2,     2.60,2, -999.000,9, -999.000,9, -999.000,9, -999.000,9, -999.000,9,-999.0000,9,  -999.00,9,   -999.0,9,   -999.0,9,   -999.0,9,   -999.0,9,   -999.0,9,  -999.00,9, -999.00,  -999.0,-999.0000,-999.000, -999.00,  -999.0,  1.2886,-999.000