BOTTLE,20220630CCHSIOAMB
EXPOCODE,SECT_ID,STNNBR,CASTNO,SAMPNO,BTLNBR,BTLNBR_FLAG_W,DATE,TIME,LATITUDE,LONGITUDE,DEPTH,CTDPRS,CTDTMP,CTDSAL,CTDSAL_FLAG_W,SALNTY,SALNTY_FLAG_W,CTDOXY,CTDOXY_FLAG_W,OXYGEN,OXYGEN_FLAG_W,SILCAT,SILCAT_FLAG_W,NITRAT,NITRAT_FLAG_W,NITRIT,NITRIT_FLAG_W,PHSPHT,PHSPHT_FLAG_W,CFC-11,CFC-11_FLAG_W,CFC-12,CFC-12_FLAG_W,CFC113,CFC113_FLAG_W,CCL4,CCL4_FLAG_W,TRITUM,TRITUM_FLAG_W,HELIUM,HELIUM_FLAG_W,DELHE3,DELHE3_FLAG_W,DELC14,DELC14_FLAG_W,DELC13,DELC13_FLAG_W,TCARBN,TCARBN_FLAG_W,PCO2,PCO2_FLAG_W,ALKALI,ALKALI_FLAG_W,PH,PH_FLAG_W,PCO2TMP,C14ERR,HELIER,DELHER,PH_TMP,C13ERR,THETA,TRITER
,,,,,,,,,,,,DBAR,ITS-90,PSS-78,,PSS-78,,UMOL/KG,,UMOL/KG,,UMOL/KG,,UMOL/KG,,UMOL/KG,,UMOL/KG,,PMOL/KG,,PMOL/KG,,PMOL/KG,,PMOL/KG,,TU,,NMOL/KG,,PERCNT,,/MILLE,,/MILLE,,UMOL/KG,,UATM,,UMOL/KG,,,,DEG C,/MILLE,NMOL/KG,PERCNT,DEG C,/MILLE,DEG C,TU
    31DSCG94_3,  P18N,    99,  1,    135,   1247,2,19940401,0003,-20.0000,-103.0000, 4234,      9.5,  24.4814,  36.3099,2,  36.3111,2,    207.9,2,    209.7,2,     1.41,2,     0.11,2,     0.00,2,     0.26,2,    1.961,2,    1.089,2, -999.000,9, -999.000,9, -999.000,9,-999.0000,9,  -999.00,9,   -999.0,9,   -999.0,9,   -999.0,9,    321.1,2,   2396.0,2,     8.05,2,   20.00,  -999.0,-999.0000,-999.000,   25.00,  -999.0, 24.4794,-999.000
    31DSCG94_3,  P18N,    99,  1,    136,   1025,2,19940401,0003,-20.0000,-103.0000, 4234,     10.1,  24.4855,  36.3101,2,  36.3087,2,    209.7,2,    210.2,2,     1.49,2,     0.09,2,     0.02,2,     0.28,2,    1.981,2,    1.084,2, -999.000,5, -999.000,5,    0.579,2,   1.7572,2,    -1.10,2,   -999.0,9,      1.7,2,   2070.9,2,    321.7,2,   2386.0,2,  -999.00,9,   20.00,  -999.0,-999.0000,-999.000, -999.00,  -999.0, 24.4834,   0.007
    31DSCG94_3,  P18N,    99,  1,    134,   1216,2,19940401,0003,-20.0000,-103.0000, 4234,     24.1,  24.2793,  36.3026,2,  36.3017,2,    211.4,2,    210.6,2,     1.30,2,     0.03,2,     0.00,2,     0.29,2,    1.960,2,    1.087,2, -999.000,9, -999.000,9,    0.582,2,   1.7674,2,    -0.96,2,   -999.0,9,   -999.0,9,   -999.0,9,   -999.0,9,   -999.0,9,     8.05,2, -999.00,  -999.0,-999.0000,-999.000,   25.00,  -999.0, 24.2741,   0.007
    31DSCG94_3,  P18N,    99,  1,    133,   1244,2,19940401,0003,-20.0000,-103.0000, 4234,     48.9,  24.1349,  36.2887,2,  36.2295,3,    213.5,2,    213.5,2,     1.14,2,     0.04,2,     0.00,2,     0.27,2,    2.028,2,    1.111,2, -999.000,9, -999.000,9, -999.000,9,-999.0000,9,  -999.00,9,   -999.0,9,   -999.0,9,   -999.0,9,    324.8,2,   -999.0,9,     8.05,2,   20.00,  -999.0,-999.0000,-999.000,   25.00,  -999.0, 24.1245,-999.000
    31DSCG94_3,  P18N,    99,  1,    132,   1003,2,19940401,0003,-20.0000,-103.0000, 4234,     75.8,  22.5598,  36.0437,2,  36.0619,2,    223.3,2,    220.3,2,     1.16,2,     0.05,2,     0.00,2,     0.26,2,    2.169,6,    1.198,6, -999.000,5, -999.000,5, -999.000,9,   1.7697,2,    -1.24,2,   -999.0,9,   -999.0,9,   -999.0,9,   -999.0,9,   -999.0,9,     8.05,2, -999.00,  -999.0,-999.0000,-999.000,   25.00,  -999.0, 22.5445,-999.000
    31DSCG94_3,  P18N,    99,  1,    131,   1211,2,19940401,0003,-20.0000,-103.0000, 4234,     99.2,  21.5492,  35.9188,2,  35.9175,2,    226.8,2,    227.7,2,     1.04,2,     0.00,2,     0.00,2,     0.25,2, -999.000,5, -999.000,5, -999.000,9, -999.000,9, -999.000,9,-999.0000,9,  -999.00,9,   -999.0,9,   -999.0,9,   -999.0,9,    333.5,2,   -999.0,9,     8.04,2,   20.00,  -999.0,-999.0000,-999.000,   25.00,  -999.0, 21.5298,-999.000
    31DSCG94_3,  P18N,    99,  1,    130,   1241,2,19940401,0003,-20.0000,-103.0000, 4234,    125.0,  20.9621,  35.8931,2,  35.9055,2,    224.4,2,    223.2,2,     1.01,2,     0.06,2,     0.00,2,     0.26,2,    2.262,2,    1.215,2, -999.000,5, -999.000,5, -999.000,9,-999.0000,9,  -999.00,9,   -999.0,9,   -999.0,9,   -999.0,9,   -999.0,9,   -999.0,9,  -999.00,9, -999.00,  -999.0,-999.0000,-999.000, -999.00,  -999.0, 20.9381,-999.000
    31DSCG94_3,  P18N,    99,  1,    129,   1240,2,19940401,0003,-20.0000,-103.0000, 4234,    150.0,  20.4866,  35.8044,2,  35.8239,2,    220.5,2,    221.5,6,     1.09,2,     0.03,2,     0.00,2,     0.23,2,    2.265,2,    1.241,2, -999.000,9, -999.000,9,    0.581,2,-999.0000,9,  -999.00,9,   -999.0,9,   -999.0,9,   -999.0,9,   -999.0,9,   -999.0,9,     8.03,2, -999.00,  -999.0,-999.0000,-999.000,   25.00,  -999.0, 20.4583,   0.007
    31DSCG94_3,  P18N,    99,  1,    128,   1032,2,19940401,0003,-20.0000,-103.0000, 4234,    199.1,  18.5617,  35.4247,2,  35.4453,2,    212.0,2,    211.1,2,     1.09,2,     0.86,2,     0.17,2,     0.36,2,    2.387,2,    1.275,2, -999.000,5, -999.000,5,    0.542,2,   1.7875,2,    -1.06,2,   -999.0,9,   -999.0,9,   -999.0,9,   -999.0,9,   -999.0,9,     7.98,2, -999.00,  -999.0,-999.0000,-999.000,   25.00,  -999.0, 18.5267,   0.006
    31DSCG94_3,  P18N,    99,  1,    127,   1008,2,19940401,0003,-20.0000,-103.0000, 4234,    249.1,  15.8410,  34.9522,2,  34.9488,2,    196.9,2,    198.7,2,     1.58,2,     5.07,2,     0.00,2,     0.61,2,    2.412,6,    1.260,6, -999.000,9, -999.000,9, -999.000,9,-999.0000,9,  -999.00,9,   -999.0,9,   -999.0,9,   -999.0,9,   -999.0,9,   -999.0,9,     7.92,2, -999.00,  -999.0,-999.0000,-999.000,   25.00,  -999.0, 15.8018,-999.000
    31DSCG94_3,  P18N,    99,  1,    126,   1007,2,19940401,0003,-20.0000,-103.0000, 4234,    300.5,  12.2036,  34.5072,2,  34.5043,2,    162.8,2,    149.3,2,     6.99,2,    15.16,2,     0.00,2,     1.38,2,    1.879,2,    0.966,2, -999.000,5, -999.000,5,    0.370,2,   1.8063,2,     0.84,2,   -999.0,9,   -999.0,9,   -999.0,9,   -999.0,9,   -999.0,9,     7.73,2, -999.00,  -999.0,-999.0000,-999.000,   25.00,  -999.0, 12.1640,   0.006
    31DSCG94_3,  P18N,    99,  1,    125,   1203,2,19940401,0003,-20.0000,-103.0000, 4234,    351.9,  10.4825,  34.5074,2,  34.5049,2,     82.1,2,     80.2,2,    16.09,2,    24.19,2,     0.00,2,     2.17,2,    0.907,2,    0.477,2, -999.000,5, -999.000,5,    0.202,2,   1.7875,2,     1.80,2,   -999.0,9,   -999.0,9,   -999.0,9,   -999.0,9,   -999.0,9,  -999.00,9, -999.00,  -999.0,-999.0000,-999.000, -999.00,  -999.0, 10.4403,   0.005
    31DSCG94_3,  P18N,    99,  1,    123,   1220,2,19940401,0003,-20.0000,-103.0000, 4234,    398.7,   9.2058,  34.4977,2,  34.4989,2,     66.1,2,     68.4,2,    19.66,2,    30.11,2,     0.00,2,     2.39,2,    0.445,2,    0.241,2, -999.000,9, -999.000,9,    0.052,2,   1.7951,2,     2.16,2,   -999.0,9,   -999.0,9,   -999.0,9,   -999.0,9,   -999.0,9,  -999.00,9, -999.00,  -999.0,-999.0000,-999.000, -999.00,  -999.0,  9.1617,   0.004
    31DSCG94_3,  P18N,    99,  1,    122,   1245,2,19940401,0003,-20.0000,-103.0000, 4234,    499.6,   7.2023,  34.4372,2,  34.4378,2,     95.4,2,     92.7,2,    23.34,2,    35.25,2,     0.00,2,     2.50,2,    0.199,2,    0.123,2, -999.000,5, -999.000,5,    0.046,2,   1.8098,2,     2.52,2,   -999.0,9,   -999.0,9,   -999.0,9,   -999.0,9,   -999.0,9,  -999.00,9, -999.00,  -999.0,-999.0000,-999.000, -999.00,  -999.0,  7.1541,   0.004
    31DSCG94_3,  P18N,    99,  1,    121,   1206,2,19940401,0003,-20.0000,-103.0000, 4234,    600.3,   6.0212,  34.3837,2,  34.3831,2,    124.0,2,    128.6,2,    25.84,2,    35.00,2,     0.00,2,     2.40,2,    0.111,2,    0.071,2, -999.000,9, -999.000,9,    0.032,2,   1.7996,2,     2.81,2,   -999.0,9,   -999.0,9,   -999.0,9,   -999.0,9,   -999.0,9,  -999.00,9, -999.00,  -999.0,-999.0000,-999.000, -999.00,  -999.0,  5.9683,   0.004
    31DSCG94_3,  P18N,    99,  1,    120,   1028,2,19940401,0003,-20.0000,-103.0000, 4234,    699.3,   5.4563,  34.4092,2,  34.4094,2,    106.2,2,    107.4,2,    36.63,2,    37.98,2,     0.00,2,     2.60,2,    0.030,6,    0.026,6, -999.000,9, -999.000,9,    0.008,2,-999.0000,9,  -999.00,9,   -999.0,9,   -999.0,9,   -999.0,9,   -999.0,9,   -999.0,9,  -999.00,9, -999.00,  -999.0,-999.0000,-999.000, -999.00,  -999.0,  5.3972,   0.003
    31DSCG94_3,  P18N,    99,  1,    119,   1248,2,19940401,0003,-20.0000,-103.0000, 4234,    798.6,   4.9780,  34.4523,2,  34.4523,2,     91.7,2,     89.9,2,    51.14,2,    40.52,2,     0.00,2,     2.78,2,   -0.003,2,   -0.002,2, -999.000,9, -999.000,9,    0.005,2,   1.8321,2,     9.09,2,   -999.0,9,   -999.0,9,   -999.0,9,   -999.0,9,   -999.0,9,  -999.00,9, -999.00,  -999.0,-999.0000,-999.000, -999.00,  -999.0,  4.9128,   0.003
    31DSCG94_3,  P18N,    99,  1,    118,   1207,2,19940401,0003,-20.0000,-103.0000, 4234,    899.7,   4.5776,  34.4873,2,  34.4866,2,     91.8,2,     83.1,2,    63.67,2,    41.71,2,     0.00,2,     2.89,2,    0.001,2,   -0.002,2, -999.000,5, -999.000,5, -999.000,9,-999.0000,9,  -999.00,9,   -999.0,9,   -999.0,9,   -999.0,9,   -999.0,9,   -999.0,9,  -999.00,9, -999.00,  -999.0,-999.0000,-999.000, -999.00,  -999.0,  4.5062,-999.000
    31DSCG94_3,  P18N,    99,  1,    117,   1119,2,19940401,0003,-20.0000,-103.0000, 4234,   1000.6,   4.2825,  34.5089,2,  34.5084,2,     88.2,2,     87.6,2,    71.96,2,    41.14,2,     0.01,2,     2.89,2,   -0.003,2,    0.001,2, -999.000,5, -999.000,5,    0.001,2,   1.8486,2,    15.22,2,   -999.0,9,   -999.0,9,   -999.0,9,   -999.0,9,   -999.0,9,  -999.00,9, -999.00,  -999.0,-999.0000,-999.000, -999.00,  -999.0,  4.2046,   0.003
    31DSCG94_3,  P18N,    99,  1,    116,   1036,2,19940401,0003,-20.0000,-103.0000, 4234,   1098.6,   3.9539,  34.5254,2,  34.5250,2,     93.8,2,     92.6,2,    79.65,2,    41.04,2,     0.00,2,     2.84,2,    0.000,2,    0.004,2, -999.000,5, -999.000,5, -999.000,9,-999.0000,9,  -999.00,9,   -999.0,9,   -999.0,9,   -999.0,9,   -999.0,9,   -999.0,9,  -999.00,9, -999.00,  -999.0,-999.0000,-999.000, -999.00,  -999.0,  3.8703,-999.000
    31DSCG94_3,  P18N,    99,  1,    115,   1017,2,19940401,0003,-20.0000,-103.0000, 4234,   1199.2,   3.6634,  34.5413,2,  34.5416,2,     94.3,2,     93.0,6,    87.25,2,    40.97,2,     0.00,2,     2.87,2,   -0.005,2,    0.002,2, -999.000,9, -999.000,9,    0.000,2,   1.8638,2,    18.67,2,   -999.0,9,   -999.0,9,   -999.0,9,   -999.0,9,   -999.0,9,  -999.00,9, -999.00,  -999.0,-999.0000,-999.000, -999.00,  -999.0,  3.5739,   0.003
    31DSCG94_3,  P18N,    99,  1,    114,   1016,2,19940401,0003,-20.0000,-103.0000, 4234,   1398.5,   3.2073,  34.5673,2,  34.5678,2,     99.2,2,     98.3,2,    98.39,2,    40.07,2,     0.00,2,     2.84,2,    0.002,2,   -0.002,2, -999.000,9, -999.000,9, -999.000,9,-999.0000,9,  -999.00,9,   -999.0,9,   -999.0,9,   -999.0,9,   -999.0,9,   -999.0,9,  -999.00,9, -999.00,  -999.0,-999.0000,-999.000, -999.00,  -999.0,  3.1057,-999.000
    31DSCG94_3,  P18N,    99,  1,    113,   1209,2,19940401,0003,-20.0000,-103.0000, 4234,   1600.3,   2.7746,  34.5952,2,  34.5951,2,    107.0,2,    107.9,2,   109.05,2,    39.36,2,     0.01,2,     2.78,2,   -0.002,2,   -0.002,2, -999.000,9, -999.000,9,    0.008,2,   1.8946,2,    24.06,2,   -999.0,9,   -999.0,9,   -999.0,9,   -999.0,9,   -999.0,9,  -999.00,9, -999.00,  -999.0,-999.0000,-999.000, -999.00,  -999.0,  2.6610,   0.003
    31DSCG94_3,  P18N,    99,  1,    112,   1033,2,19940401,0003,-20.0000,-103.0000, 4234,   1800.1,   2.4854,  34.6156,2,  34.6153,2,    114.3,2,    117.0,2,   115.44,2,    38.75,2,     0.00,2,     2.70,2, -999.000,9, -999.000,9, -999.000,9, -999.000,9,    0.008,2,   1.9026,2,    26.23,2,   -999.0,9,   -999.0,9,   -999.0,9,   -999.0,9,   -999.0,9,  -999.00,9, -999.00,  -999.0,-999.0000,-999.000, -999.00,  -999.0,  2.3588,   0.003
    31DSCG94_3,  P18N,    99,  1,    111,   1240,2,19940401,0003,-20.0000,-103.0000, 4234,   1991.2,   2.2059,  34.6269,2,  34.6263,2,    141.5,2,    143.6,2,   111.85,2,    36.77,2,     0.00,2,     2.52,2, -999.000,9, -999.000,9, -999.000,9, -999.000,9, -999.000,9,-999.0000,9,  -999.00,9,   -999.0,9,   -999.0,9,   -999.0,9,   -999.0,9,   -999.0,9,  -999.00,9, -999.00,  -999.0,-999.0000,-999.000, -999.00,  -999.0,  2.0670,-999.000
    31DSCG94_3,  P18N,    99,  1,    110,   1005,2,19940401,0003,-20.0000,-103.0000, 4234,   2246.1,   1.9910,  34.6509,2,  34.6497,2,    149.3,2,    149.0,2,   117.40,2,    36.16,2,     0.02,2,     2.49,2,    0.005,2,   -0.002,2, -999.000,9, -999.000,9, -999.000,9,-999.0000,9,  -999.00,9,   -999.0,9,   -999.0,9,   -999.0,9,   -999.0,9,   -999.0,9,  -999.00,9, -999.00,  -999.0,-999.0000,-999.000, -999.00,  -999.0,  1.8336,-999.000
    31DSCG94_3,  P18N,    99,  1,    109,   1611,2,19940401,0003,-20.0000,-103.0000, 4234,   2498.4,   1.8730,  34.6645,2,  34.6635,2,    154.5,2,    153.9,6,   119.55,2,    35.47,2,     0.00,2,     2.45,2, -999.000,9, -999.000,9, -999.000,9, -999.000,9, -999.000,9,-999.0000,9,  -999.00,9,   -999.0,9,   -999.0,9,   -999.0,9,   -999.0,9,   -999.0,9,  -999.00,9, -999.00,  -999.0,-999.0000,-999.000, -999.00,  -999.0,  1.6951,-999.000
    31DSCG94_3,  P18N,    99,  1,    108,   1218,2,19940401,0003,-20.0000,-103.0000, 4234,   2743.3,   1.8130,  34.6736,2,  34.6728,2,    155.2,2,    153.9,2,   122.60,2,    35.66,2,     0.02,2,     2.46,2, -999.000,9, -999.000,9, -999.000,9, -999.000,9, -999.000,9,-999.0000,9,  -999.00,9,   -999.0,9,   -999.0,9,   -999.0,9,   -999.0,9,   -999.0,9,  -999.00,9, -999.00,  -999.0,-999.0000,-999.000, -999.00,  -999.0,  1.6137,-999.000
    31DSCG94_3,  P18N,    99,  1,    107,   1257,2,19940401,0003,-20.0000,-103.0000, 4234,   2998.9,   1.7795,  34.6796,2,  34.6792,2,    151.8,2,    150.6,2,   126.24,2,    36.07,2,     0.03,2,     2.49,2,   -0.003,2,    0.004,2, -999.000,9, -999.000,9, -999.000,9,-999.0000,9,  -999.00,9,   -999.0,9,   -999.0,9,   -999.0,9,   -999.0,9,   -999.0,9,  -999.00,9, -999.00,  -999.0,-999.0000,-999.000, -999.00,  -999.0,  1.5566,-999.000
    31DSCG94_3,  P18N,    99,  1,    106,   1224,2,19940401,0003,-20.0000,-103.0000, 4234,   3250.0,   1.7732,  34.6831,2,  34.6813,2,    151.3,2,    149.9,2,   128.66,2,    35.09,2,     0.00,2,     2.49,2, -999.000,9, -999.000,9, -999.000,9, -999.000,9, -999.000,9,-999.0000,9,  -999.00,9,   -999.0,9,   -999.0,9,   -999.0,9,   -999.0,9,   -999.0,9,  -999.00,9, -999.00,  -999.0,-999.0000,-999.000, -999.00,  -999.0,  1.5256,-999.000
    31DSCG94_3,  P18N,    99,  1,    105,   1246,2,19940401,0003,-20.0000,-103.0000, 4234,   3499.8,   1.7826,  34.6846,2,  34.6833,2,    150.6,2,    150.0,2,   129.79,2,    36.02,2,     0.01,2,     2.49,2, -999.000,9, -999.000,9, -999.000,9, -999.000,9, -999.000,9,-999.0000,9,  -999.00,9,   -999.0,9,   -999.0,9,   -999.0,9,   -999.0,9,   -999.0,9,  -999.00,9, -999.00,  -999.0,-999.0000,-999.000, -999.00,  -999.0,  1.5093,-999.000
    31DSCG94_3,  P18N,    99,  1,    104,   1217,2,19940401,0003,-20.0000,-103.0000, 4234,   3748.2,   1.8003,  34.6857,2,  34.6855,2,    150.8,2,    149.3,2,   130.16,2,    36.04,2,     0.01,2,     2.48,2,   -0.005,2,   -0.002,2, -999.000,9, -999.000,9,    0.006,2,-999.0000,9,  -999.00,9,   -999.0,9,   -999.0,9,   -999.0,9,   -999.0,9,   -999.0,9,  -999.00,9, -999.00,  -999.0,-999.0000,-999.000, -999.00,  -999.0,  1.5003,   0.003
    31DSCG94_3,  P18N,    99,  1,    103,   9999,2,19940401,0003,-20.0000,-103.0000, 4234,   3998.7,   1.8248,  34.6859,2,  34.6864,2,    149.5,2,    148.9,2,   130.24,2,    35.99,2,     0.01,2,     2.49,2, -999.000,9, -999.000,9, -999.000,9, -999.000,9,    0.010,2,-999.0000,9,  -999.00,9,   -999.0,9,   -999.0,9,   -999.0,9,   -999.0,9,   -999.0,9,  -999.00,9, -999.00,  -999.0,-999.0000,-999.000, -999.00,  -999.0,  1.4968,   0.003
    31DSCG94_3,  P18N,    99,  1,    102,   1223,2,19940401,0003,-20.0000,-103.0000, 4234,   3999.1,   1.8247,  34.6859,2,  34.6861,2,    149.6,2,    149.7,2,   130.43,2,    35.96,2,     0.00,2,     2.49,2,   -0.001,2,   -0.002,2, -999.000,9, -999.000,9, -999.000,9,-999.0000,9,  -999.00,9,   -999.0,9,   -999.0,9,   -999.0,9,   -999.0,9,   -999.0,9,  -999.00,9, -999.00,  -999.0,-999.0000,-999.000, -999.00,  -999.0,  1.4967,-999.000
    31DSCG94_3,  P18N,    99,  1,    101,   1041,2,19940401,0003,-20.0000,-103.0000, 4234,   4222.0,   1.8494,  34.6861,2,  34.6866,2,    149.5,2,    149.8,2,   130.56,2,    36.71,2,     0.00,2,     2.50,2, -999.000,9, -999.000,9, -999.000,9, -999.000,9, -999.000,9,-999.0000,9,  -999.00,9,   -999.0,9,   -999.0,9,   -999.0,9,   -999.0,9,   -999.0,9,  -999.00,9, -999.00,  -999.0,-999.0000,-999.000, -999.00,  -999.0,  1.4956,-999.000