BOTTLE,20220630CCHSIOAMB
EXPOCODE,SECT_ID,STNNBR,CASTNO,SAMPNO,BTLNBR,BTLNBR_FLAG_W,DATE,TIME,LATITUDE,LONGITUDE,DEPTH,CTDPRS,CTDTMP,CTDSAL,CTDSAL_FLAG_W,SALNTY,SALNTY_FLAG_W,CTDOXY,CTDOXY_FLAG_W,OXYGEN,OXYGEN_FLAG_W,SILCAT,SILCAT_FLAG_W,NITRAT,NITRAT_FLAG_W,NITRIT,NITRIT_FLAG_W,PHSPHT,PHSPHT_FLAG_W,CFC-11,CFC-11_FLAG_W,CFC-12,CFC-12_FLAG_W,CFC113,CFC113_FLAG_W,CCL4,CCL4_FLAG_W,TRITUM,TRITUM_FLAG_W,HELIUM,HELIUM_FLAG_W,DELHE3,DELHE3_FLAG_W,DELC14,DELC14_FLAG_W,DELC13,DELC13_FLAG_W,TCARBN,TCARBN_FLAG_W,PCO2,PCO2_FLAG_W,ALKALI,ALKALI_FLAG_W,PH,PH_FLAG_W,PCO2TMP,C14ERR,HELIER,DELHER,PH_TMP,C13ERR,THETA,TRITER
,,,,,,,,,,,,DBAR,ITS-90,PSS-78,,PSS-78,,UMOL/KG,,UMOL/KG,,UMOL/KG,,UMOL/KG,,UMOL/KG,,UMOL/KG,,PMOL/KG,,PMOL/KG,,PMOL/KG,,PMOL/KG,,TU,,NMOL/KG,,PERCNT,,/MILLE,,/MILLE,,UMOL/KG,,UATM,,UMOL/KG,,,,DEG C,/MILLE,NMOL/KG,PERCNT,DEG C,/MILLE,DEG C,TU
    31DSCG94_3,  P18N,   135,  1,    136,   1025,3,19940411,0246, -3.4983,-110.3333, 3915,      7.7,  27.7759,  34.7647,2,-999.0000,5,    204.2,2,   -999.0,9,  -999.00,9,  -999.00,9,  -999.00,9,  -999.00,9, -999.000,5, -999.000,5, -999.000,9, -999.000,9, -999.000,9,-999.0000,9,  -999.00,9,   -999.0,9,   -999.0,9,   -999.0,9,    330.2,2,   -999.0,9,  -999.00,9,   20.00,  -999.0,-999.0000,-999.000, -999.00,  -999.0, 27.7741,-999.000
    31DSCG94_3,  P18N,   135,  1,    135,   1247,2,19940411,0246, -3.4983,-110.3333, 3915,      8.1,  27.7319,  34.7665,2,  34.7707,2,    204.4,2,    204.8,2,     3.77,2,     4.50,2,     0.07,2,     0.51,2,    1.735,2,    0.973,2, -999.000,9, -999.000,9, -999.000,9,-999.0000,9,  -999.00,9,   -999.0,9,   -999.0,9,   1997.3,2,   -999.0,9,   2284.0,2,     8.04,2, -999.00,  -999.0,-999.0000,-999.000,   25.00,  -999.0, 27.7300,-999.000
    31DSCG94_3,  P18N,   135,  1,    134,   1216,2,19940411,0246, -3.4983,-110.3333, 3915,     23.7,  27.3449,  34.7999,2,  34.8111,2,    199.6,2,    202.0,2,     3.63,2,     4.97,2,     0.09,2,     0.55,2,    1.728,2,    0.983,2, -999.000,9, -999.000,9, -999.000,9,-999.0000,9,  -999.00,9,   -999.0,9,   -999.0,9,   -999.0,9,   -999.0,9,   -999.0,9,     8.02,2, -999.00,  -999.0,-999.0000,-999.000,   25.00,  -999.0, 27.3395,-999.000
    31DSCG94_3,  P18N,   135,  1,    133,   1244,2,19940411,0246, -3.4983,-110.3333, 3915,     47.3,  15.5209,  35.0304,2,  35.0391,2,    163.2,2,     89.4,2,    14.58,2,    20.62,2,     0.35,2,     1.55,2,    0.928,6,    0.508,6, -999.000,9, -999.000,9, -999.000,9,-999.0000,9,  -999.00,9,   -999.0,9,   -999.0,9,   -999.0,9,   -999.0,9,   -999.0,9,     7.72,2, -999.00,  -999.0,-999.0000,-999.000,   25.00,  -999.0, 15.5136,-999.000
    31DSCG94_3,  P18N,   135,  1,    132,   1003,2,19940411,0246, -3.4983,-110.3333, 3915,     74.6,  14.1460,  34.9828,2,  34.9828,2,     79.7,2,     66.8,2,    17.61,2,    24.43,2,     0.35,2,     1.74,2,    0.778,2,    0.429,2, -999.000,9, -999.000,9, -999.000,9,-999.0000,9,  -999.00,9,   -999.0,9,   -999.0,9,   -999.0,9,   -999.0,9,   -999.0,9,     7.66,2, -999.00,  -999.0,-999.0000,-999.000,   25.00,  -999.0, 14.1352,-999.000
    31DSCG94_3,  P18N,   135,  1,    131,   1211,2,19940411,0246, -3.4983,-110.3333, 3915,    100.4,  13.6953,  34.9597,2,  34.9620,2,     61.0,2,     56.1,2,    18.67,2,    25.99,2,     0.28,2,     1.86,2,    0.687,2,    0.393,2, -999.000,9, -999.000,9, -999.000,9,-999.0000,9,  -999.00,9,   -999.0,9,   -999.0,9,   -999.0,9,   -999.0,9,   -999.0,9,     7.63,2, -999.00,  -999.0,-999.0000,-999.000,   25.00,  -999.0, 13.6811,-999.000
    31DSCG94_3,  P18N,   135,  1,    130,   1241,2,19940411,0246, -3.4983,-110.3333, 3915,    125.3,  13.5266,  34.9506,2,  34.9514,2,     63.5,2,     56.1,2,    19.05,2,    26.44,2,     0.07,2,     1.88,2,    0.687,2,    0.375,2, -999.000,9, -999.000,9, -999.000,9,-999.0000,9,  -999.00,9,   -999.0,9,   -999.0,9,   -999.0,9,   -999.0,9,   -999.0,9,     7.63,2, -999.00,  -999.0,-999.0000,-999.000,   25.00,  -999.0, 13.5089,-999.000
    31DSCG94_3,  P18N,   135,  1,    129,   1240,2,19940411,0246, -3.4983,-110.3333, 3915,    150.4,  13.2521,  34.9329,2,  34.9332,2,     62.4,2,     57.3,2,    19.72,2,    26.89,2,     0.00,2,     1.90,2,    0.637,6,    0.354,6, -999.000,9, -999.000,9, -999.000,9,-999.0000,9,  -999.00,9,   -999.0,9,   -999.0,9,   -999.0,9,   -999.0,9,   -999.0,9,     7.62,2, -999.00,  -999.0,-999.0000,-999.000,   25.00,  -999.0, 13.2312,-999.000
    31DSCG94_3,  P18N,   135,  1,    128,   1032,3,19940411,0246, -3.4983,-110.3333, 3915,    173.6,  13.0246,  34.9182,2,  34.9133,2,     47.6,2,     47.4,2,    21.01,2,    28.29,2,     0.00,2,     1.99,2,    0.551,2,    0.314,2, -999.000,9, -999.000,9, -999.000,9,-999.0000,9,  -999.00,9,   -999.0,9,   -999.0,9,   -999.0,9,   -999.0,9,   -999.0,9,  -999.00,9, -999.00,  -999.0,-999.0000,-999.000, -999.00,  -999.0, 13.0007,-999.000
    31DSCG94_3,  P18N,   135,  1,    127,   1008,2,19940411,0246, -3.4983,-110.3333, 3915,    201.5,  12.7623,  34.8990,2,  34.9010,2,     58.1,2,     57.8,2,    21.44,2,    27.09,2,     0.00,2,     1.92,2,    0.551,2,    0.313,2, -999.000,9, -999.000,9, -999.000,9,-999.0000,9,  -999.00,9,   -999.0,9,   -999.0,9,   -999.0,9,   -999.0,9,   -999.0,9,     7.61,2, -999.00,  -999.0,-999.0000,-999.000,   25.00,  -999.0, 12.7350,-999.000
    31DSCG94_3,  P18N,   135,  1,    126,   1007,2,19940411,0246, -3.4983,-110.3333, 3915,    224.8,  12.6681,  34.8918,2,  34.8923,2,     54.4,2,     55.3,2,    21.98,2,    27.99,2,     0.00,2,     1.96,2,    0.512,2,    0.292,2, -999.000,9, -999.000,9, -999.000,9,-999.0000,9,  -999.00,9,   -999.0,9,   -999.0,9,   -999.0,9,   -999.0,9,   -999.0,9,     7.60,2, -999.00,  -999.0,-999.0000,-999.000,   25.00,  -999.0, 12.6377,-999.000
    31DSCG94_3,  P18N,   135,  1,    125,   1203,2,19940411,0246, -3.4983,-110.3333, 3915,    250.8,  12.5759,  34.8858,2,  34.8849,2,     47.6,2,     49.7,2,    22.39,2,    28.29,2,     0.00,2,     2.01,2,    0.485,6,    0.269,6, -999.000,9, -999.000,9, -999.000,9,-999.0000,9,  -999.00,9,   -999.0,9,   -999.0,9,   -999.0,9,   -999.0,9,   -999.0,9,     7.59,2, -999.00,  -999.0,-999.0000,-999.000,   25.00,  -999.0, 12.5421,-999.000
    31DSCG94_3,  P18N,   135,  1,    123,   1220,2,19940411,0246, -3.4983,-110.3333, 3915,    350.8,  11.6658,  34.8429,2,  34.8452,2,      7.5,2,      6.3,2,    27.83,2,    33.10,2,     0.00,2,     2.44,2,    0.184,2,    0.108,2, -999.000,9, -999.000,9, -999.000,9,-999.0000,9,  -999.00,9,   -999.0,9,   -999.0,9,   -999.0,9,   -999.0,9,   -999.0,9,     7.46,2, -999.00,  -999.0,-999.0000,-999.000,   25.00,  -999.0, 11.6206,-999.000
    31DSCG94_3,  P18N,   135,  1,    122,   1245,2,19940411,0246, -3.4983,-110.3333, 3915,    395.0,  10.5164,  34.7722,2,  34.7704,2,      2.0,2,      2.6,2,    33.76,2,    34.54,2,     0.00,2,     2.66,2,    0.076,2,    0.044,2, -999.000,9, -999.000,9, -999.000,9,-999.0000,9,  -999.00,9,   -999.0,9,   -999.0,9,   -999.0,9,   -999.0,9,   -999.0,9,     7.41,2, -999.00,  -999.0,-999.0000,-999.000,   25.00,  -999.0, 10.4687,-999.000
    31DSCG94_3,  P18N,   135,  1,    121,   1206,3,19940411,0246, -3.4983,-110.3333, 3915,    449.6,   9.2076,  34.6969,2,  34.6960,2,      2.5,2,      5.4,2,    39.48,2,    38.27,2,     0.00,2,     2.81,2,    0.028,2,    0.016,2, -999.000,9, -999.000,9, -999.000,9,-999.0000,9,  -999.00,9,   -999.0,9,   -999.0,9,   -999.0,9,   -999.0,9,   -999.0,9,  -999.00,9, -999.00,  -999.0,-999.0000,-999.000, -999.00,  -999.0,  9.1575,-999.000
    31DSCG94_3,  P18N,   135,  1,    120,   1028,2,19940411,0246, -3.4983,-110.3333, 3915,    498.6,   8.3851,  34.6507,2,  34.6506,2,     10.0,2,     16.0,2,    42.52,2,    40.88,2,     0.00,2,     2.82,2, -999.000,9, -999.000,9, -999.000,9, -999.000,9, -999.000,9,-999.0000,9,  -999.00,9,   -999.0,9,   -999.0,9,   -999.0,9,   -999.0,9,   -999.0,9,     7.40,2, -999.00,  -999.0,-999.0000,-999.000,   25.00,  -999.0,  8.3325,-999.000
    31DSCG94_3,  P18N,   135,  1,    119,   1248,2,19940411,0246, -3.4983,-110.3333, 3915,    597.4,   7.2893,  34.5964,2,  34.5956,2,     37.6,2,     39.1,2,    48.07,2,    41.17,2,     0.00,2,     2.73,3,    0.018,2,    0.004,2, -999.000,9, -999.000,9, -999.000,9,-999.0000,9,  -999.00,9,   -999.0,9,   -999.0,9,   -999.0,9,   -999.0,9,   -999.0,9,     7.43,2, -999.00,  -999.0,-999.0000,-999.000,   25.00,  -999.0,  7.2307,-999.000
    31DSCG94_3,  P18N,   135,  1,    118,   1115,2,19940411,0246, -3.4983,-110.3333, 3915,    698.4,   6.3538,  34.5674,2,  34.5668,2,     43.4,2,     49.3,2,    57.84,2,    41.94,2,     0.00,2,     2.88,2,    0.016,2,    0.000,2, -999.000,9, -999.000,9, -999.000,9,-999.0000,9,  -999.00,9,   -999.0,9,   -999.0,9,   -999.0,9,   -999.0,9,   -999.0,9,     7.43,2, -999.00,  -999.0,-999.0000,-999.000,   25.00,  -999.0,  6.2898,-999.000
    31DSCG94_3,  P18N,   135,  1,    117,   1119,2,19940411,0246, -3.4983,-110.3333, 3915,    800.6,   5.7426,  34.5559,2,  34.5561,2,     54.9,2,     57.6,2,    65.71,2,    41.86,2,     0.00,2,     2.90,2, -999.000,9, -999.000,9, -999.000,9, -999.000,9, -999.000,9,-999.0000,9,  -999.00,9,   -999.0,9,   -999.0,9,   -999.0,9,   -999.0,9,   -999.0,9,     7.44,2, -999.00,  -999.0,-999.0000,-999.000,   25.00,  -999.0,  5.6725,-999.000
    31DSCG94_3,  P18N,   135,  1,    116,   1036,2,19940411,0246, -3.4983,-110.3333, 3915,    899.1,   5.0597,  34.5402,2,  34.5403,2,     74.3,2,     84.5,2,    69.92,2,    40.66,2,     0.00,2,     2.77,2,    0.007,2,    0.000,2, -999.000,9, -999.000,9, -999.000,9,-999.0000,9,  -999.00,9,   -999.0,9,   -999.0,9,   -999.0,9,   -999.0,9,   -999.0,9,     7.48,2, -999.00,  -999.0,-999.0000,-999.000,   25.00,  -999.0,  4.9850,-999.000
    31DSCG94_3,  P18N,   135,  1,    115,   1017,2,19940411,0246, -3.4983,-110.3333, 3915,    997.3,   4.5528,  34.5431,2,  34.5448,2,     89.3,2,     92.2,2,    81.13,2,    39.68,2,     0.00,2,     2.75,2, -999.000,9, -999.000,9, -999.000,9, -999.000,9, -999.000,9,-999.0000,9,  -999.00,9,   -999.0,9,   -999.0,9,   -999.0,9,   -999.0,9,   -999.0,9,  -999.00,9, -999.00,  -999.0,-999.0000,-999.000, -999.00,  -999.0,  4.4731,-999.000
    31DSCG94_3,  P18N,   135,  1,    114,   1016,2,19940411,0246, -3.4983,-110.3333, 3915,   1201.7,   3.8045,  34.5674,2,  34.5680,2,     92.2,2,     91.0,2,   100.18,2,    39.98,2,     0.00,2,     2.80,2, -999.000,9, -999.000,9, -999.000,9, -999.000,9, -999.000,9,-999.0000,9,  -999.00,9,   -999.0,9,   -999.0,9,   -999.0,9,   -999.0,9,   -999.0,9,  -999.00,9, -999.00,  -999.0,-999.0000,-999.000, -999.00,  -999.0,  3.7134,-999.000
    31DSCG94_3,  P18N,   135,  1,    113,   1209,2,19940411,0246, -3.4983,-110.3333, 3915,   1398.2,   3.1790,  34.5949,2,  34.5956,2,     92.3,2,     89.3,2,   118.86,2,    40.61,2,     0.00,2,     2.84,2, -999.000,9, -999.000,9, -999.000,9, -999.000,9, -999.000,9,-999.0000,9,  -999.00,9,   -999.0,9,   -999.0,9,   -999.0,9,   -999.0,9,   -999.0,9,  -999.00,9, -999.00,  -999.0,-999.0000,-999.000, -999.00,  -999.0,  3.0776,-999.000
    31DSCG94_3,  P18N,   135,  1,    112,   1033,2,19940411,0246, -3.4983,-110.3333, 3915,   1594.7,   2.7664,  34.6154,2,  34.6160,2,    104.4,2,     93.0,2,   131.24,2,    40.27,2,     0.00,2,     2.83,2, -999.000,9, -999.000,9, -999.000,9, -999.000,9, -999.000,9,-999.0000,9,  -999.00,9,   -999.0,9,   -999.0,9,   -999.0,9,   -999.0,9,   -999.0,9,  -999.00,9, -999.00,  -999.0,-999.0000,-999.000, -999.00,  -999.0,  2.6534,-999.000
    31DSCG94_3,  P18N,   135,  1,    111,   1240,2,19940411,0246, -3.4983,-110.3333, 3915,   1797.8,   2.4678,  34.6336,2,  34.6338,2,    115.2,2,     95.2,2,   141.90,2,    40.02,2,     0.00,2,     2.79,2, -999.000,9, -999.000,9, -999.000,9, -999.000,9, -999.000,9,-999.0000,9,  -999.00,9,   -999.0,9,   -999.0,9,   -999.0,9,   -999.0,9,   -999.0,9,  -999.00,9, -999.00,  -999.0,-999.0000,-999.000, -999.00,  -999.0,  2.3416,-999.000
    31DSCG94_3,  P18N,   135,  1,    110,   1005,2,19940411,0246, -3.4983,-110.3333, 3915,   2002.0,   2.2313,  34.6463,2,  34.6471,2,    122.3,2,    103.3,2,   147.58,2,    39.68,2,     0.00,2,     2.74,2, -999.000,9, -999.000,9, -999.000,9, -999.000,9, -999.000,9,-999.0000,9,  -999.00,9,   -999.0,9,   -999.0,9,   -999.0,9,   -999.0,9,   -999.0,9,  -999.00,9, -999.00,  -999.0,-999.0000,-999.000, -999.00,  -999.0,  2.0911,-999.000
    31DSCG94_3,  P18N,   135,  1,    109,   1611,2,19940411,0246, -3.4983,-110.3333, 3915,   2248.5,   2.0120,  34.6544,2,  34.6551,2,    126.6,2,    117.7,2,   146.39,2,    38.28,2,     0.00,2,     2.66,2, -999.000,9, -999.000,9, -999.000,9, -999.000,9, -999.000,9,-999.0000,9,  -999.00,9,   -999.0,9,   -999.0,9,   -999.0,9,   -999.0,9,   -999.0,9,  -999.00,9, -999.00,  -999.0,-999.0000,-999.000, -999.00,  -999.0,  1.8540,-999.000
    31DSCG94_3,  P18N,   135,  1,    108,   1218,2,19940411,0246, -3.4983,-110.3333, 3915,   2500.9,   1.8451,  34.6634,2,  34.6633,2,    133.9,2,    125.7,2,   146.88,2,    37.78,2,     0.00,2,     2.61,2, -999.000,9, -999.000,9, -999.000,9, -999.000,9, -999.000,9,-999.0000,9,  -999.00,9,   -999.0,9,   -999.0,9,   -999.0,9,   -999.0,9,   -999.0,9,  -999.00,9, -999.00,  -999.0,-999.0000,-999.000, -999.00,  -999.0,  1.6675,-999.000
    31DSCG94_3,  P18N,   135,  1,    107,   1257,2,19940411,0246, -3.4983,-110.3333, 3915,   2747.6,   1.7443,  34.6698,2,  34.6698,2,    138.7,2,    134.2,2,   148.53,2,    37.46,2,     0.00,2,     2.57,2, -999.000,9, -999.000,9, -999.000,9, -999.000,9, -999.000,9,-999.0000,9,  -999.00,9,   -999.0,9,   -999.0,9,   -999.0,9,   -999.0,9,   -999.0,9,  -999.00,9, -999.00,  -999.0,-999.0000,-999.000, -999.00,  -999.0,  1.5460,-999.000
    31DSCG94_3,  P18N,   135,  1,    106,   1224,2,19940411,0246, -3.4983,-110.3333, 3915,   2999.6,   1.6383,  34.6748,2,  34.6748,2,    143.9,2,    140.2,6,   148.62,2,    37.35,2,     0.00,2,     2.54,2, -999.000,9, -999.000,9, -999.000,9, -999.000,9, -999.000,9,-999.0000,9,  -999.00,9,   -999.0,9,   -999.0,9,   -999.0,9,   -999.0,9,   -999.0,9,  -999.00,9, -999.00,  -999.0,-999.0000,-999.000, -999.00,  -999.0,  1.4185,-999.000
    31DSCG94_3,  P18N,   135,  1,    105,   1246,2,19940411,0246, -3.4983,-110.3333, 3915,   3247.8,   1.5613,  34.6822,2,  34.6814,2,    147.9,2,    148.2,6,   148.36,2,    37.59,2,     0.00,2,     2.50,2, -999.000,9, -999.000,9, -999.000,9, -999.000,9, -999.000,9,-999.0000,9,  -999.00,9,   -999.0,9,   -999.0,9,   -999.0,9,   -999.0,9,   -999.0,9,  -999.00,9, -999.00,  -999.0,-999.0000,-999.000, -999.00,  -999.0,  1.3190,-999.000
    31DSCG94_3,  P18N,   135,  1,    104,   1217,2,19940411,0246, -3.4983,-110.3333, 3915,   3498.0,   1.4994,  34.6870,2,  34.6876,2,    154.5,2,    154.1,6,   148.76,2,    36.94,2,     0.00,2,     2.45,2, -999.000,9, -999.000,9, -999.000,9, -999.000,9, -999.000,9,-999.0000,9,  -999.00,9,   -999.0,9,   -999.0,9,   -999.0,9,   -999.0,9,   -999.0,9,  -999.00,9, -999.00,  -999.0,-999.0000,-999.000, -999.00,  -999.0,  1.2334,-999.000
    31DSCG94_3,  P18N,   135,  1,    102,   1223,2,19940411,0246, -3.4983,-110.3333, 3915,   3746.7,   1.4781,  34.6892,2,  34.6888,2,    157.7,2,    157.1,6,   149.56,2,    36.50,2,     0.00,2,     2.45,2, -999.000,9, -999.000,9, -999.000,9, -999.000,9, -999.000,9,-999.0000,9,  -999.00,9,   -999.0,9,   -999.0,9,   -999.0,9,   1099.4,2,   -999.0,9,  -999.00,9,   20.00,  -999.0,-999.0000,-999.000, -999.00,  -999.0,  1.1869,-999.000
    31DSCG94_3,  P18N,   135,  1,    103,   9999,2,19940411,0246, -3.4983,-110.3333, 3915,   3747.6,   1.4780,  34.6891,2,  34.6909,2,    157.7,2,    157.2,6,   149.84,2,    36.48,2,     0.00,2,     2.44,2, -999.000,9, -999.000,9, -999.000,9, -999.000,9, -999.000,9,-999.0000,9,  -999.00,9,   -999.0,9,   -999.0,9,   -999.0,9,   -999.0,9,   -999.0,9,  -999.00,9, -999.00,  -999.0,-999.0000,-999.000, -999.00,  -999.0,  1.1867,-999.000
    31DSCG94_3,  P18N,   135,  1,    101,   1041,2,19940411,0246, -3.4983,-110.3333, 3915,   3960.9,   1.4998,  34.6889,2,  34.6883,2,    157.1,2,    155.9,6,   149.15,2,    36.73,2,     0.00,2,     2.43,2, -999.000,9, -999.000,9, -999.000,9, -999.000,9, -999.000,9,-999.0000,9,  -999.00,9,   -999.0,9,   -999.0,9,   -999.0,9,   -999.0,9,   -999.0,9,  -999.00,9, -999.00,  -999.0,-999.0000,-999.000, -999.00,  -999.0,  1.1851,-999.000