BOTTLE,20220630CCHSIOAMB
EXPOCODE,SECT_ID,STNNBR,CASTNO,SAMPNO,BTLNBR,BTLNBR_FLAG_W,DATE,TIME,LATITUDE,LONGITUDE,DEPTH,CTDPRS,CTDTMP,CTDSAL,CTDSAL_FLAG_W,SALNTY,SALNTY_FLAG_W,CTDOXY,CTDOXY_FLAG_W,OXYGEN,OXYGEN_FLAG_W,SILCAT,SILCAT_FLAG_W,NITRAT,NITRAT_FLAG_W,NITRIT,NITRIT_FLAG_W,PHSPHT,PHSPHT_FLAG_W,CFC-11,CFC-11_FLAG_W,CFC-12,CFC-12_FLAG_W,CFC113,CFC113_FLAG_W,CCL4,CCL4_FLAG_W,TRITUM,TRITUM_FLAG_W,HELIUM,HELIUM_FLAG_W,DELHE3,DELHE3_FLAG_W,DELC14,DELC14_FLAG_W,DELC13,DELC13_FLAG_W,TCARBN,TCARBN_FLAG_W,PCO2,PCO2_FLAG_W,ALKALI,ALKALI_FLAG_W,PH,PH_FLAG_W,PCO2TMP,C14ERR,HELIER,DELHER,PH_TMP,C13ERR,THETA,TRITER
,,,,,,,,,,,,DBAR,ITS-90,PSS-78,,PSS-78,,UMOL/KG,,UMOL/KG,,UMOL/KG,,UMOL/KG,,UMOL/KG,,UMOL/KG,,PMOL/KG,,PMOL/KG,,PMOL/KG,,PMOL/KG,,TU,,NMOL/KG,,PERCNT,,/MILLE,,/MILLE,,UMOL/KG,,UATM,,UMOL/KG,,,,DEG C,/MILLE,NMOL/KG,PERCNT,DEG C,/MILLE,DEG C,TU
    31DSCG94_3,  P18N,   182,  1,    135,   1247,2,19940423,0852, 17.9983,-110.0000, 3269,      8.6,  25.5089,  34.5707,2,  34.5727,2,    201.0,2,    210.0,2,     0.00,2,     0.04,2,     0.00,2,     0.16,2,    1.990,2,    1.093,2, -999.000,9, -999.000,9, -999.000,9,   1.7688,2,    -0.70,2,   -999.0,9,   -999.0,9,   1969.2,2,    294.6,2,   -999.0,5,     8.09,2,   20.00,  -999.0,-999.0000,-999.000,   25.00,  -999.0, 25.5070,-999.000
    31DSCG94_3,  P18N,   182,  1,    136,   1025,2,19940423,0852, 17.9983,-110.0000, 3269,      8.8,  25.5128,  34.5706,2,  34.5737,2,    201.0,2,    209.9,2,     0.00,2,     0.08,2,     0.00,2,     0.27,2,    3.119,4,    1.124,2, -999.000,5, -999.000,5, -999.000,9,-999.0000,9,  -999.00,9,     65.8,2,      1.7,2,   1969.2,2,    292.1,2,   2291.0,2,     8.09,2,   20.00,     4.8,-999.0000,-999.000,   25.00,  -999.0, 25.5108,-999.000
    31DSCG94_3,  P18N,   182,  1,    134,   1216,2,19940423,0852, 17.9983,-110.0000, 3269,     24.1,  25.3336,  34.5537,2,  34.5557,2,    198.7,2,    211.0,2,     0.00,2,     0.01,2,     0.00,2,     0.19,2,    1.973,2,    1.103,2, -999.000,5, -999.000,5, -999.000,9,-999.0000,9,  -999.00,9,     74.6,2,      1.7,2,   1967.8,3,    288.1,2,   2311.0,2,     8.09,2,   20.00,     3.0,-999.0000,-999.000,   25.00,  -999.0, 25.3284,-999.000
    31DSCG94_3,  P18N,   182,  1,    133,   1244,2,19940423,0852, 17.9983,-110.0000, 3269,     48.2,  24.7763,  34.5175,2,  34.5266,2,    198.2,2,    213.7,2,     0.00,2,     0.00,2,     0.00,2,     0.17,2,    1.977,2,    1.095,2, -999.000,5, -999.000,5,    1.595,2,   1.7277,2,    -0.59,2,     76.1,2,      1.8,2,   1967.2,2,    290.0,2,   2296.0,2,     8.09,2,   20.00,     5.7,-999.0000,-999.000,   25.00,  -999.0, 24.7659,   0.011
    31DSCG94_3,  P18N,   182,  1,    132,   1003,2,19940423,0852, 17.9983,-110.0000, 3269,     74.4,  23.1569,  34.3624,2,  34.3666,2,    201.5,2,    214.4,6,     0.00,2,     0.02,2,     0.00,2,     0.28,2,    2.100,2,    1.164,2, -999.000,9, -999.000,9, -999.000,9,-999.0000,9,  -999.00,9,     72.4,2,      1.7,2,   1992.0,2,    329.1,2,   2284.0,2,     8.04,2,   20.00,     3.1,-999.0000,-999.000,   25.00,  -999.0, 23.1417,-999.000
    31DSCG94_3,  P18N,   182,  1,    131,   1211,2,19940423,0852, 17.9983,-110.0000, 3269,     97.9,  18.5555,  34.1557,2,  34.1678,2,    156.7,2,    156.6,2,     4.40,2,     6.70,2,     0.19,2,     0.88,2,    2.239,6,    1.184,6, -999.000,5, -999.000,5,    1.535,2,   1.7737,2,    10.82,2,     63.5,2,      1.0,2,   2076.6,3,    552.6,2,   2291.0,2,     7.85,2,   20.00,     2.8,-999.0000,-999.000,   25.00,  -999.0, 18.5385,   0.010
    31DSCG94_3,  P18N,   182,  1,    130,   1241,2,19940423,0852, 17.9983,-110.0000, 3269,    123.5,  14.8176,  34.2354,2,  34.2405,2,     84.4,2,     83.4,2,    13.56,2,    18.04,2,     0.01,2,     1.65,2,    1.906,2,    0.982,2, -999.000,5, -999.000,5,    1.391,2,   1.8303,2,    27.83,2,     33.8,2,      0.3,2,   2161.2,2,    976.2,2,   2266.0,2,     7.63,2,   20.00,     3.2,-999.0000,-999.000,   25.00,  -999.0, 14.7993,   0.010
    31DSCG94_3,  P18N,   182,  1,    129,   1240,2,19940423,0852, 17.9983,-110.0000, 3269,    150.3,  13.6042,  34.4533,2,  34.4805,3,     45.7,2,     36.7,2,    22.11,2,    24.55,2,     0.00,2,     2.17,2,    1.228,2,    0.629,2, -999.000,5, -999.000,5,    1.017,2,   1.8397,2,    30.32,2,      4.5,2,     -0.1,2,   2215.9,2,   1337.5,2,   2276.0,2,     7.51,2,   20.00,     3.1,-999.0000,-999.000,   25.00,  -999.0, 13.5831,   0.009
    31DSCG94_3,  P18N,   182,  1,    128,   1114,2,19940423,0852, 17.9983,-110.0000, 3269,    200.5,  12.3714,  34.7189,2,-999.0000,5,     19.2,2,      1.3,2,  -999.00,9,  -999.00,9,  -999.00,9,  -999.00,9,    0.362,2,    0.202,2, -999.000,5, -999.000,5,    0.530,2,   1.7893,2,    14.09,2,   -999.0,9,   -999.0,9,   2255.4,2,   1606.8,2,   -999.0,5,  -999.00,9,   20.00,  -999.0,-999.0000,-999.000, -999.00,  -999.0, 12.3448,   0.007
    31DSCG94_3,  P18N,   182,  1,    127,   1008,2,19940423,0852, 17.9983,-110.0000, 3269,    251.7,  11.4689,  34.7053,2,-999.0000,5,     11.1,2,      0.2,2,    32.83,2,    27.59,2,     0.03,2,     2.64,2,    0.171,2,    0.094,2, -999.000,9, -999.000,9,    0.351,2,   1.7777,2,     9.19,2,   -999.0,9,   -999.0,9,   2265.7,2,   1682.3,2,   2298.0,2,  -999.00,9,   20.00,  -999.0,-999.0000,-999.000, -999.00,  -999.0, 11.4371,   0.006
    31DSCG94_3,  P18N,   182,  1,    126,   1007,2,19940423,0852, 17.9983,-110.0000, 3269,    299.7,  10.6668,  34.6664,2,  34.6650,2,      7.0,2,      0.6,2,    36.52,2,    25.87,2,     0.29,2,     2.67,2,    0.106,2,    0.062,2, -999.000,5, -999.000,5,    0.240,2,   1.8027,2,    16.71,2,    -76.6,2,     -0.3,2,   2277.7,2,   1801.2,2,   2304.0,2,  -999.00,9,   20.00,     2.4,-999.0000,-999.000, -999.00,  -999.0, 10.6306,   0.005
    31DSCG94_3,  P18N,   182,  1,    125,   1256,2,19940423,0852, 17.9983,-110.0000, 3269,    351.2,   9.7426,  34.6248,2,  34.6249,2,      4.2,2,      0.6,2,    43.38,2,    27.16,2,     0.04,2,     2.77,2,    0.057,6,    0.029,6, -999.000,5, -999.000,5, -999.000,9,-999.0000,9,  -999.00,9,   -999.0,9,   -999.0,9,   2286.9,2,   1870.5,2,   2303.0,2,     7.38,2,   20.00,  -999.0,-999.0000,-999.000,   25.00,  -999.0,  9.7023,-999.000
    31DSCG94_3,  P18N,   182,  1,    123,   1220,2,19940423,0852, 17.9983,-110.0000, 3269,    399.2,   9.0546,  34.5915,2,  34.5917,2,      3.8,2,      1.4,2,    49.44,2,    28.83,2,     0.00,2,     2.84,2,    0.035,2,    0.020,2, -999.000,9, -999.000,9,    0.073,2,   1.8370,2,     9.22,2,   -106.9,6,     -0.3,6,   2294.5,2,   1912.2,2,   2318.0,2,     7.36,2,   20.00,     1.8,-999.0000,-999.000,   25.00,  -999.0,  9.0108,   0.004
    31DSCG94_3,  P18N,   182,  1,    122,   1245,2,19940423,0852, 17.9983,-110.0000, 3269,    500.2,   7.7068,  34.5322,2,  34.5303,2,      1.6,2,      0.8,2,    61.73,2,    33.42,2,     0.00,2,     3.00,2,    0.032,6,    0.007,6, -999.000,5, -999.000,5,    0.028,2,   1.8473,2,     9.51,2,   -129.9,2,     -0.3,2,   2311.9,2,   2010.9,2,   2320.0,2,     7.35,2,   20.00,     2.3,-999.0000,-999.000,   25.00,  -999.0,  7.6566,   0.004
    31DSCG94_3,  P18N,   182,  1,    121,   1206,3,19940423,0852, 17.9983,-110.0000, 3269,    598.7,   6.6277,  34.5199,2,  34.5193,2,      1.2,2,      1.5,2,    72.74,2,    37.38,2,     0.00,2,     3.11,2,    0.036,2,    0.002,2, -999.000,5, -999.000,5,    0.011,2,   1.8651,2,    11.99,2,   -153.9,2,     -0.3,2,   2327.6,2,   2083.6,3,   2326.0,2,  -999.00,9,   20.00,     2.4,-999.0000,-999.000, -999.00,  -999.0,  6.5721,   0.003
    31DSCG94_3,  P18N,   182,  1,    120,   1028,2,19940423,0852, 17.9983,-110.0000, 3269,    693.5,   5.9420,  34.5212,2,  34.5210,2,      1.1,2,      1.5,2,    78.85,2,    40.20,2,     0.01,2,     3.16,2,    0.001,2,   -0.002,2, -999.000,9, -999.000,9,    0.005,2,   1.8932,2,    17.72,2,   -165.7,2,     -0.4,2,   2335.3,2,   2130.6,2,   2338.0,2,     7.33,2,   20.00,     2.3,-999.0000,-999.000,   25.00,  -999.0,  5.8807,   0.003
    31DSCG94_3,  P18N,   182,  1,    119,   1248,2,19940423,0852, 17.9983,-110.0000, 3269,    801.6,   5.3624,  34.5236,2,  34.5250,2,      1.8,2,      2.6,2,    88.85,2,    42.08,2,     0.00,2,     3.19,2,    0.007,2,   -0.002,2, -999.000,5, -999.000,5, -999.000,9,-999.0000,9,  -999.00,9,   -179.5,2,     -0.4,2,   2344.7,2,   2161.2,2,   2345.0,2,     7.33,2,   20.00,     2.1,-999.0000,-999.000,   25.00,  -999.0,  5.2945,-999.000
    31DSCG94_3,  P18N,   182,  1,    118,   1115,2,19940423,0852, 17.9983,-110.0000, 3269,    901.6,   4.8572,  34.5286,2,  34.5295,2,      4.3,2,      6.3,2,    98.81,2,    43.37,2,     0.01,2,     3.23,2,    0.005,2,   -0.002,2, -999.000,9, -999.000,9,    0.004,2,   1.9031,2,    19.32,2,   -189.8,2,     -0.3,2,   2351.7,2,   2163.9,2,   2354.0,2,     7.33,2,   20.00,     2.1,-999.0000,-999.000,   25.00,  -999.0,  4.7837,   0.003
    31DSCG94_3,  P18N,   182,  1,    117,   1119,3,19940423,0852, 17.9983,-110.0000, 3269,   1001.0,   4.4695,  34.5393,2,  34.5395,2,      8.9,2,     10.6,2,   106.11,2,    43.68,2,     0.00,2,     3.23,2,    0.022,2,    0.000,2, -999.000,9, -999.000,9, -999.000,9,-999.0000,9,  -999.00,9,   -193.1,2,     -0.4,2,   2357.7,2,   2138.7,3,   2361.0,6,  -999.00,9,   20.00,     2.7,-999.0000,-999.000, -999.00,  -999.0,  4.3901,-999.000
    31DSCG94_3,  P18N,   182,  1,    116,   1036,2,19940423,0852, 17.9983,-110.0000, 3269,   1100.3,   4.0885,  34.5549,2,  34.5553,2,     13.0,2,     16.2,2,   112.55,2,    43.78,2,     0.00,2,     3.24,2,    0.000,2,    0.001,2, -999.000,5, -999.000,5,   -0.002,2,   1.9133,2,    21.98,2,   -999.0,9,   -999.0,9,   2362.6,2,   2105.5,2,   2373.0,2,     7.34,2,   20.00,  -999.0,-999.0000,-999.000,   25.00,  -999.0,  4.0036,   0.003
    31DSCG94_3,  P18N,   182,  1,    115,   1017,2,19940423,0852, 17.9983,-110.0000, 3269,   1199.8,   3.7799,  34.5684,2,  34.5695,2,     18.9,2,     23.3,2,   118.42,2,    43.67,2,     0.00,2,     3.19,2, -999.000,9, -999.000,9, -999.000,9, -999.000,9, -999.000,9,-999.0000,9,  -999.00,9,   -205.6,2,     -0.6,3,   2365.8,2,   2048.0,2,   2377.0,2,     7.35,2,   20.00,     2.1,-999.0000,-999.000,   25.00,  -999.0,  3.6892,-999.000
    31DSCG94_3,  P18N,   182,  1,    114,   1016,2,19940423,0852, 17.9983,-110.0000, 3269,   1298.5,   3.4795,  34.5800,2,  34.5802,2,     27.3,2,     32.7,6,   122.80,2,    43.20,2,     0.00,2,     3.11,2,   -0.001,2,   -0.002,2, -999.000,9, -999.000,9,    0.002,2,   1.9303,2,    24.47,2,   -999.0,9,   -999.0,9,   2366.4,2,   1968.4,2,   2383.0,2,     7.37,2,   20.00,  -999.0,-999.0000,-999.000,   25.00,  -999.0,  3.3833,   0.003
    31DSCG94_3,  P18N,   182,  1,    113,   1209,2,19940423,0852, 17.9983,-110.0000, 3269,   1400.8,   3.2519,  34.5867,2,  34.5876,2,     34.2,2,     39.5,2,   128.03,2,    42.81,2,     0.00,2,     3.10,2, -999.000,9, -999.000,9, -999.000,9, -999.000,9, -999.000,9,-999.0000,9,  -999.00,9,   -210.3,2,     -0.4,2,   2369.1,2,   1916.1,2,   2392.0,2,     7.38,2,   20.00,     3.2,-999.0000,-999.000,   25.00,  -999.0,  3.1495,-999.000
    31DSCG94_3,  P18N,   182,  1,    112,   1033,2,19940423,0852, 17.9983,-110.0000, 3269,   1487.2,   3.0412,  34.5967,2,  34.5975,2,     41.5,2,     47.7,2,   135.49,2,    42.89,2,     0.00,2,     3.08,2, -999.000,9, -999.000,9, -999.000,9, -999.000,9,    0.006,2,   1.9423,2,    26.91,2,   -999.0,9,   -999.0,9,   2368.1,2,   1859.6,2,   2395.0,2,     7.40,2,   20.00,  -999.0,-999.0000,-999.000,   25.00,  -999.0,  2.9339,   0.003
    31DSCG94_3,  P18N,   182,  1,    111,   1240,2,19940423,0852, 17.9983,-110.0000, 3269,   1600.1,   2.8008,  34.6086,2,  34.6104,2,     50.6,2,     56.3,2,   140.38,2,    42.32,2,     0.00,2,     3.02,2,    0.005,2,   -0.002,2, -999.000,9, -999.000,9, -999.000,9,-999.0000,9,  -999.00,9,   -214.6,2,     -0.3,2,   2367.8,2,   1740.3,2,   2399.0,2,     7.42,2,   20.00,     2.7,-999.0000,-999.000,   25.00,  -999.0,  2.6869,-999.000
    31DSCG94_3,  P18N,   182,  1,    110,   1005,2,19940423,0852, 17.9983,-110.0000, 3269,   1800.6,   2.4692,  34.6268,2,  34.6281,2,     68.8,2,     71.6,2,   143.60,2,    41.57,2,     0.00,2,     2.90,2, -999.000,9, -999.000,9, -999.000,9, -999.000,9, -999.000,9,-999.0000,9,  -999.00,9,   -213.0,2,     -0.2,2,   2366.4,2,   1674.8,2,   2408.0,2,     7.45,2,   20.00,     3.8,-999.0000,-999.000,   25.00,  -999.0,  2.3427,-999.000
    31DSCG94_3,  P18N,   182,  1,    109,   1611,2,19940423,0852, 17.9983,-110.0000, 3269,   1998.9,   2.2042,  34.6412,2,  34.6423,2,     84.0,2,     84.2,2,   149.13,2,    40.59,2,     0.00,2,     2.83,2, -999.000,9, -999.000,9, -999.000,9, -999.000,9, -999.000,9,-999.0000,9,  -999.00,9,   -215.8,2,     -0.2,2,   2365.3,2,   1557.0,2,   2417.0,2,     7.47,2,   20.00,     2.3,-999.0000,-999.000,   25.00,  -999.0,  2.0647,-999.000
    31DSCG94_3,  P18N,   182,  1,    108,   1218,2,19940423,0852, 17.9983,-110.0000, 3269,   2199.5,   1.9942,  34.6521,2,  34.6526,2,     94.3,2,     95.7,2,   155.01,2,    39.98,2,     0.01,2,     2.77,2,    0.032,4,    0.070,4, -999.000,9, -999.000,9, -999.000,9,-999.0000,9,  -999.00,9,   -999.0,9,   -999.0,9,   2365.2,2,   1471.0,2,   2424.0,2,     7.49,2,   20.00,  -999.0,-999.0000,-999.000,   25.00,  -999.0,  1.8408,-999.000
    31DSCG94_3,  P18N,   182,  1,    107,   1257,2,19940423,0852, 17.9983,-110.0000, 3269,   2399.5,   1.8729,  34.6601,2,  34.6607,2,    105.0,2,    103.8,2,   160.56,2,    39.46,2,     0.00,2,     2.71,2, -999.000,9, -999.000,9, -999.000,9, -999.000,9, -999.000,9,-999.0000,9,  -999.00,9,   -218.9,2,     -0.1,3,   2364.1,2,   -999.0,9,   2427.0,2,     7.51,2, -999.00,     2.3,-999.0000,-999.000,   25.00,  -999.0,  1.7039,-999.000
    31DSCG94_3,  P18N,   182,  1,    106,   1224,2,19940423,0852, 17.9983,-110.0000, 3269,   2597.8,   1.8023,  34.6648,2,  34.6657,2,    108.6,2,    108.5,6,   156.09,2,    39.06,2,     0.00,2,     2.67,2, -999.000,9, -999.000,9, -999.000,9, -999.000,9, -999.000,9,-999.0000,9,  -999.00,9,   -999.0,9,   -999.0,9,   2361.5,2,   1352.2,2,   2423.0,2,     7.52,2,   20.00,  -999.0,-999.0000,-999.000,   25.00,  -999.0,  1.6167,-999.000
    31DSCG94_3,  P18N,   182,  1,    105,   1246,2,19940423,0852, 17.9983,-110.0000, 3269,   2798.7,   1.7382,  34.6684,2,  34.6683,2,    111.3,2,    113.6,2,   156.83,2,    38.60,2,     0.00,2,     2.64,2,   -0.002,2,   -0.002,2, -999.000,9, -999.000,9, -999.000,9,-999.0000,9,  -999.00,9,   -999.0,9,   -999.0,9,   2359.2,2,   1335.0,2,   2435.0,2,     7.53,2,   20.00,  -999.0,-999.0000,-999.000,   25.00,  -999.0,  1.5353,-999.000
    31DSCG94_3,  P18N,   182,  1,    104,   1217,2,19940423,0852, 17.9983,-110.0000, 3269,   2999.5,   1.7029,  34.6713,2,-999.0000,5,    114.4,2,    117.1,2,   161.31,6,    39.60,6,     0.00,6,     2.70,6, -999.000,9, -999.000,9, -999.000,9, -999.000,9, -999.000,9,-999.0000,9,  -999.00,9,   -216.3,2,     -0.1,2,   2357.5,2,   1396.8,3,   -999.0,5,  -999.00,9,   20.00,     2.2,-999.0000,-999.000, -999.00,  -999.0,  1.4817,-999.000
    31DSCG94_3,  P18N,   182,  1,    102,   1223,2,19940423,0852, 17.9983,-110.0000, 3269,   3200.3,   1.7024,  34.6729,2,  34.6736,2,    116.8,2,    119.3,2,   159.18,2,    38.39,2,     0.00,2,     2.63,2, -999.000,9, -999.000,9, -999.000,9, -999.000,9, -999.000,9,-999.0000,9,  -999.00,9,   -999.0,9,   -999.0,9,   2356.2,2,   1316.2,2,   2433.0,2,     7.54,2,   20.00,  -999.0,-999.0000,-999.000,   25.00,  -999.0,  1.4615,-999.000
    31DSCG94_3,  P18N,   182,  1,    103,   9999,2,19940423,0852, 17.9983,-110.0000, 3269,   3201.6,   1.7027,  34.6728,2,  34.6735,2,    116.8,2,    118.9,2,   163.45,2,    38.37,2,     0.00,2,     2.62,2,    0.002,2,   -0.002,2, -999.000,5, -999.000,5, -999.000,9,-999.0000,9,  -999.00,9,   -999.0,9,   -999.0,9,   2356.4,2,   1343.8,2,   2435.0,2,     7.54,2,   20.00,  -999.0,-999.0000,-999.000,   25.00,  -999.0,  1.4617,-999.000
    31DSCG94_3,  P18N,   182,  1,    101,   1041,2,19940423,0852, 17.9983,-110.0000, 3269,   3298.3,   1.7048,  34.6737,2,  34.6747,2,    117.0,2,    119.6,2,   156.54,2,    38.09,2,     0.00,2,     2.61,2, -999.000,9, -999.000,9, -999.000,9, -999.000,9, -999.000,9,-999.0000,9,  -999.00,9,   -216.3,2,     -0.1,2,   2353.4,2,   1327.9,2,   2427.0,2,     7.54,2,   20.00,     3.6,-999.0000,-999.000,   25.00,  -999.0,  1.4541,-999.000