BOTTLE,20220630CCHSIOAMB
EXPOCODE,SECT_ID,STNNBR,CASTNO,SAMPNO,BTLNBR,BTLNBR_FLAG_W,DATE,TIME,LATITUDE,LONGITUDE,DEPTH,CTDPRS,CTDTMP,CTDSAL,CTDSAL_FLAG_W,SALNTY,SALNTY_FLAG_W,CTDOXY,CTDOXY_FLAG_W,OXYGEN,OXYGEN_FLAG_W,SILCAT,SILCAT_FLAG_W,NITRAT,NITRAT_FLAG_W,NITRIT,NITRIT_FLAG_W,PHSPHT,PHSPHT_FLAG_W,CFC-11,CFC-11_FLAG_W,CFC-12,CFC-12_FLAG_W,CFC113,CFC113_FLAG_W,CCL4,CCL4_FLAG_W,TRITUM,TRITUM_FLAG_W,HELIUM,HELIUM_FLAG_W,DELHE3,DELHE3_FLAG_W,DELC14,DELC14_FLAG_W,DELC13,DELC13_FLAG_W,TCARBN,TCARBN_FLAG_W,PCO2,PCO2_FLAG_W,ALKALI,ALKALI_FLAG_W,PH,PH_FLAG_W,PCO2TMP,C14ERR,HELIER,DELHER,PH_TMP,C13ERR,THETA,TRITER
,,,,,,,,,,,,DBAR,ITS-90,PSS-78,,PSS-78,,UMOL/KG,,UMOL/KG,,UMOL/KG,,UMOL/KG,,UMOL/KG,,UMOL/KG,,PMOL/KG,,PMOL/KG,,PMOL/KG,,PMOL/KG,,TU,,NMOL/KG,,PERCNT,,/MILLE,,/MILLE,,UMOL/KG,,UATM,,UMOL/KG,,,,DEG C,/MILLE,NMOL/KG,PERCNT,DEG C,/MILLE,DEG C,TU
    31DSCG94_2,  P18S,    56,  2,    224,    435,2,19940315,0322,-41.4933,-102.9917, 3803,     11.6,  14.9013,  33.9792,2,  33.9796,2,    257.2,2,    253.9,2,     2.27,2,    10.26,2,     0.18,2,     0.87,2, -999.000,9, -999.000,9, -999.000,9, -999.000,9, -999.000,9,-999.0000,9,  -999.00,9,   -999.0,9,   -999.0,9,   2040.3,2,    470.5,2,   2262.0,2,  -999.00,9,   20.00,  -999.0,-999.0000,-999.000, -999.00,  -999.0, 14.8996,-999.000
    31DSCG94_2,  P18S,    56,  2,    223,    421,2,19940315,0322,-41.4933,-102.9917, 3803,     25.4,  14.7344,  33.9822,2,  33.9814,2,    256.3,2,    254.8,2,     1.82,2,    10.48,2,     0.19,2,     0.83,2, -999.000,9, -999.000,9, -999.000,9, -999.000,9, -999.000,9,-999.0000,9,  -999.00,9,   -999.0,9,   -999.0,9,   2042.0,2,    472.0,2,   2253.0,2,  -999.00,9,   20.00,  -999.0,-999.0000,-999.000, -999.00,  -999.0, 14.7306,-999.000
    31DSCG94_2,  P18S,    56,  2,    222,    418,2,19940315,0322,-41.4933,-102.9917, 3803,     48.9,  14.3458,  33.9681,3,  33.9929,2,    256.7,2,    259.9,2,     1.64,2,    10.66,2,     0.16,2,     0.84,2, -999.000,9, -999.000,9, -999.000,9, -999.000,9, -999.000,9,-999.0000,9,  -999.00,9,   -999.0,9,   -999.0,9,   2044.7,2,    500.9,2,   2252.0,2,  -999.00,9,   20.00,  -999.0,-999.0000,-999.000, -999.00,  -999.0, 14.3387,-999.000
    31DSCG94_2,  P18S,    56,  2,    221,    413,2,19940315,0322,-41.4933,-102.9917, 3803,    100.3,   9.5135,  34.0879,2,  34.0850,2,    273.2,2,    271.7,2,     2.32,2,    12.17,2,     0.21,2,     0.98,2, -999.000,9, -999.000,9, -999.000,9, -999.000,9, -999.000,9,-999.0000,9,  -999.00,9,   -999.0,9,   -999.0,9,   2072.3,2,    532.7,2,   2264.0,2,  -999.00,9,   20.00,  -999.0,-999.0000,-999.000, -999.00,  -999.0,  9.5024,-999.000
    31DSCG94_2,  P18S,    56,  2,    220,    405,2,19940315,0322,-41.4933,-102.9917, 3803,    144.3,   8.1084,  34.1931,2,  34.1862,2,    264.3,2,    259.2,2,     3.36,2,    17.29,2,     0.16,2,     1.26,2, -999.000,9, -999.000,9, -999.000,9, -999.000,9, -999.000,9,-999.0000,9,  -999.00,9,   -999.0,9,   -999.0,9,   2102.3,2,    641.3,2,   2268.0,2,  -999.00,9,   20.00,  -999.0,-999.0000,-999.000, -999.00,  -999.0,  8.0939,-999.000
    31DSCG94_2,  P18S,    56,  2,    219,    417,2,19940315,0322,-41.4933,-102.9917, 3803,    195.1,   7.3044,  34.2769,2,  34.2746,2,    253.4,2,    252.9,2,     5.23,2,    20.21,2,     0.00,2,     1.41,2, -999.000,9, -999.000,9, -999.000,9, -999.000,9, -999.000,9,-999.0000,9,  -999.00,9,   -999.0,9,   -999.0,9,   2119.1,2,    694.7,2,   2272.0,2,  -999.00,9,   20.00,  -999.0,-999.0000,-999.000, -999.00,  -999.0,  7.2859,-999.000
    31DSCG94_2,  P18S,    56,  2,    218,    429,2,19940315,0322,-41.4933,-102.9917, 3803,    298.7,   6.5859,  34.3131,2,  34.3132,2,    258.8,2,    258.1,2,     7.20,2,    21.16,2,     0.00,2,     1.46,2, -999.000,9, -999.000,9, -999.000,9, -999.000,9, -999.000,9,-999.0000,9,  -999.00,9,   -999.0,9,   -999.0,9,   2125.9,2,    710.8,2,   2273.0,2,  -999.00,9,   20.00,  -999.0,-999.0000,-999.000, -999.00,  -999.0,  6.5590,-999.000
    31DSCG94_2,  P18S,    56,  2,    217,    427,2,19940315,0322,-41.4933,-102.9917, 3803,    399.6,   6.2718,  34.3121,2,  34.3122,2,    259.7,2,    261.5,2,     8.55,2,    22.36,2,     0.00,2,     1.49,2, -999.000,9, -999.000,9, -999.000,9, -999.000,9, -999.000,9,-999.0000,9,  -999.00,9,   -999.0,9,   -999.0,9,   2129.3,2,    713.6,2,   2280.0,2,  -999.00,9,   20.00,  -999.0,-999.0000,-999.000, -999.00,  -999.0,  6.2365,-999.000
    31DSCG94_2,  P18S,    56,  2,    216,    410,2,19940315,0322,-41.4933,-102.9917, 3803,    500.2,   5.9942,  34.2982,2,  34.2994,2,    259.9,2,    263.1,2,     9.33,2,    21.96,2,     0.00,2,     1.57,2, -999.000,9, -999.000,9, -999.000,9, -999.000,9, -999.000,9,-999.0000,9,  -999.00,9,   -999.0,9,   -999.0,9,   2130.6,2,    730.4,2,   2278.0,2,  -999.00,9,   20.00,  -999.0,-999.0000,-999.000, -999.00,  -999.0,  5.9506,-999.000
    31DSCG94_2,  P18S,    56,  2,    215,    422,2,19940315,0322,-41.4933,-102.9917, 3803,    599.8,   5.6830,  34.2808,2,  34.2812,2,    256.6,2,    259.2,2,    10.60,2,    23.81,2,     0.00,2,     1.65,2, -999.000,9, -999.000,9, -999.000,9, -999.000,9, -999.000,9,-999.0000,9,  -999.00,9,   -999.0,9,   -999.0,9,   2135.0,2,    745.1,2,   2280.0,2,  -999.00,9,   20.00,  -999.0,-999.0000,-999.000, -999.00,  -999.0,  5.6319,-999.000
    31DSCG94_2,  P18S,    56,  2,    214,    407,2,19940315,0322,-41.4933,-102.9917, 3803,    701.4,   5.2847,  34.2687,2,  34.2719,2,    245.4,2,    245.2,2,    13.57,2,    25.77,2,     0.00,2,     1.76,2, -999.000,9, -999.000,9, -999.000,9, -999.000,9, -999.000,9,-999.0000,9,  -999.00,9,   -999.0,9,   -999.0,9,   2147.0,2,    802.1,2,   -999.0,5,  -999.00,9,   20.00,  -999.0,-999.0000,-999.000, -999.00,  -999.0,  5.2265,-999.000
    31DSCG94_2,  P18S,    56,  2,    213,    419,2,19940315,0322,-41.4933,-102.9917, 3803,    800.4,   4.8918,  34.2691,2,  34.2697,2,    231.5,2,    229.0,2,    19.15,2,    27.84,2,     0.00,2,     1.90,2, -999.000,9, -999.000,9, -999.000,9, -999.000,9, -999.000,9,-999.0000,9,  -999.00,9,   -999.0,9,   -999.0,9,   2161.9,2,    864.3,2,   2284.0,2,  -999.00,9,   20.00,  -999.0,-999.0000,-999.000, -999.00,  -999.0,  4.8273,-999.000
    31DSCG94_2,  P18S,    56,  2,    212,    426,2,19940315,0322,-41.4933,-102.9917, 3803,    898.2,   4.5382,  34.2807,2,  34.2788,2,    214.4,2,    219.2,2,    23.40,2,    28.91,2,     0.00,2,     1.99,2, -999.000,9, -999.000,9, -999.000,9, -999.000,9, -999.000,9,-999.0000,9,  -999.00,9,   -999.0,9,   -999.0,9,   2172.2,2,    924.6,2,   2289.0,2,  -999.00,9,   20.00,  -999.0,-999.0000,-999.000, -999.00,  -999.0,  4.4675,-999.000
    31DSCG94_2,  P18S,    56,  2,    211,    424,2,19940315,0322,-41.4933,-102.9917, 3803,    999.9,   4.0498,  34.3087,2,  34.3069,2,    201.0,2,    202.6,2,    33.47,2,    31.13,2,     0.00,2,     2.18,2, -999.000,9, -999.000,9, -999.000,9, -999.000,9, -999.000,9,-999.0000,9,  -999.00,9,   -999.0,9,   -999.0,9,   2192.8,2,    998.8,2,   2300.0,2,  -999.00,9,   20.00,  -999.0,-999.0000,-999.000, -999.00,  -999.0,  3.9741,-999.000
    31DSCG94_2,  P18S,    56,  2,    210,    409,2,19940315,0322,-41.4933,-102.9917, 3803,   1199.6,   3.4210,  34.3874,2,  34.3809,3,    173.3,2,    174.0,2,    51.16,2,    34.10,2,     0.00,2,     2.41,2, -999.000,9, -999.000,9, -999.000,9, -999.000,9, -999.000,9,-999.0000,9,  -999.00,9,   -999.0,9,   -999.0,9,   -999.0,9,   1148.8,2,   -999.0,9,  -999.00,9,   20.00,  -999.0,-999.0000,-999.000, -999.00,  -999.0,  3.3340,-999.000
    31DSCG94_2,  P18S,    56,  2,    209,    423,2,19940315,0322,-41.4933,-102.9917, 3803,   1381.7,   3.0615,  34.4776,2,-999.0000,9,    150.8,2,    149.6,2,    71.77,2,    36.71,2,     0.00,2,     2.89,3, -999.000,9, -999.000,9, -999.000,9, -999.000,9, -999.000,9,-999.0000,9,  -999.00,9,   -999.0,9,   -999.0,9,   -999.0,9,   1254.1,2,   -999.0,9,  -999.00,9,   20.00,  -999.0,-999.0000,-999.000, -999.00,  -999.0,  2.9629,-999.000
    31DSCG94_2,  P18S,    56,  2,    208,    414,3,19940315,0322,-41.4933,-102.9917, 3803,   1699.2,   2.5835,  34.5700,2,-999.0000,9,    150.4,2,   -999.0,9,  -999.00,9,  -999.00,9,  -999.00,9,  -999.00,9, -999.000,9, -999.000,9, -999.000,9, -999.000,9, -999.000,9,-999.0000,9,  -999.00,9,   -999.0,9,   -999.0,9,   -999.0,9,   -999.0,9,   -999.0,9,  -999.00,9, -999.00,  -999.0,-999.0000,-999.000, -999.00,  -999.0,  2.4641,-999.000
    31DSCG94_2,  P18S,    56,  2,    207,    437,2,19940315,0322,-41.4933,-102.9917, 3803,   2028.3,   2.2270,  34.6447,2,  34.6308,4,    160.2,2,    162.3,2,    96.07,2,    33.82,2,     0.00,2,     2.47,2, -999.000,9, -999.000,9, -999.000,9, -999.000,9, -999.000,9,-999.0000,9,  -999.00,9,   -999.0,9,   -999.0,9,   -999.0,9,   1175.6,2,   -999.0,9,  -999.00,9,   20.00,  -999.0,-999.0000,-999.000, -999.00,  -999.0,  2.0846,-999.000
    31DSCG94_2,  P18S,    56,  2,    206,    416,2,19940315,0322,-41.4933,-102.9917, 3803,   2299.8,   2.0072,  34.6794,2,  34.6809,2,    165.5,2,    167.0,2,   103.72,2,    33.50,2,     0.02,2,     2.38,2, -999.000,9, -999.000,9, -999.000,9, -999.000,9, -999.000,9,-999.0000,9,  -999.00,9,   -999.0,9,   -999.0,9,   -999.0,9,   1140.7,2,   -999.0,9,  -999.00,9,   20.00,  -999.0,-999.0000,-999.000, -999.00,  -999.0,  1.8446,-999.000
    31DSCG94_2,  P18S,    56,  2,    205,    420,2,19940315,0322,-41.4933,-102.9917, 3803,   2600.1,   1.8173,  34.6907,2,  34.6904,2,    169.3,2,    168.2,2,   111.88,2,    33.38,2,     0.00,2,     2.40,2, -999.000,9, -999.000,9, -999.000,9, -999.000,9, -999.000,9,-999.0000,9,  -999.00,9,   -999.0,9,   -999.0,9,   -999.0,9,   1131.3,2,   -999.0,9,  -999.00,9,   20.00,  -999.0,-999.0000,-999.000, -999.00,  -999.0,  1.6311,-999.000
    31DSCG94_2,  P18S,    56,  2,    204,    436,2,19940315,0322,-41.4933,-102.9917, 3803,   2899.8,   1.7183,  34.6981,2,  34.6982,2,    173.3,2,    172.9,2,   114.26,2,    33.19,2,     0.00,2,     2.10,4, -999.000,9, -999.000,9, -999.000,9, -999.000,9, -999.000,9,-999.0000,9,  -999.00,9,   -999.0,9,   -999.0,9,   -999.0,9,   1116.4,2,   -999.0,9,  -999.00,9,   20.00,  -999.0,-999.0000,-999.000, -999.00,  -999.0,  1.5061,-999.000
    31DSCG94_2,  P18S,    56,  2,    203,    425,2,19940315,0322,-41.4933,-102.9917, 3803,   3202.2,   1.5782,  34.7050,2,  34.7039,2,    180.1,2,    179.2,2,   117.83,2,    32.74,2,     0.00,2,     2.33,2, -999.000,9, -999.000,9, -999.000,9, -999.000,9, -999.000,9,-999.0000,9,  -999.00,9,   -999.0,9,   -999.0,9,   -999.0,9,   1094.2,2,   -999.0,9,  -999.00,9,   20.00,  -999.0,-999.0000,-999.000, -999.00,  -999.0,  1.3399,-999.000
    31DSCG94_2,  P18S,    56,  2,    202,    433,2,19940315,0322,-41.4933,-102.9917, 3803,   3539.4,   1.2724,  34.7064,2,-999.0000,9,    189.6,2,    188.1,2,   126.37,2,    33.71,2,     0.00,2,     2.38,2, -999.000,9, -999.000,9, -999.000,9, -999.000,9, -999.000,9,-999.0000,9,  -999.00,9,   -999.0,9,   -999.0,9,   -999.0,9,   1060.6,2,   -999.0,9,  -999.00,9,   20.00,  -999.0,-999.0000,-999.000, -999.00,  -999.0,  1.0078,-999.000
    31DSCG94_2,  P18S,    56,  2,    201,    403,2,19940315,0322,-41.4933,-102.9917, 3803,   3844.3,   1.1276,  34.7082,2,  34.7182,3,    196.7,2,    194.0,2,   124.85,2,    33.18,2,     0.00,2,     2.35,2, -999.000,9, -999.000,9, -999.000,9, -999.000,9, -999.000,9,-999.0000,9,  -999.00,9,   -999.0,9,   -999.0,9,   -999.0,9,   1056.3,2,   -999.0,9,  -999.00,9,   20.00,  -999.0,-999.0000,-999.000, -999.00,  -999.0,  0.8355,-999.000