BOTTLE,20220630CCHSIOAMB
EXPOCODE,SECT_ID,STNNBR,CASTNO,SAMPNO,BTLNBR,BTLNBR_FLAG_W,DATE,TIME,LATITUDE,LONGITUDE,DEPTH,CTDPRS,CTDTMP,CTDSAL,CTDSAL_FLAG_W,SALNTY,SALNTY_FLAG_W,CTDOXY,CTDOXY_FLAG_W,OXYGEN,OXYGEN_FLAG_W,SILCAT,SILCAT_FLAG_W,NITRAT,NITRAT_FLAG_W,NITRIT,NITRIT_FLAG_W,PHSPHT,PHSPHT_FLAG_W,CFC-11,CFC-11_FLAG_W,CFC-12,CFC-12_FLAG_W,CFC113,CFC113_FLAG_W,CCL4,CCL4_FLAG_W,TRITUM,TRITUM_FLAG_W,HELIUM,HELIUM_FLAG_W,DELHE3,DELHE3_FLAG_W,DELC14,DELC14_FLAG_W,DELC13,DELC13_FLAG_W,TCARBN,TCARBN_FLAG_W,PCO2,PCO2_FLAG_W,ALKALI,ALKALI_FLAG_W,PH,PH_FLAG_W,PCO2TMP,C14ERR,HELIER,DELHER,PH_TMP,C13ERR,THETA,TRITER
,,,,,,,,,,,,DBAR,ITS-90,PSS-78,,PSS-78,,UMOL/KG,,UMOL/KG,,UMOL/KG,,UMOL/KG,,UMOL/KG,,UMOL/KG,,PMOL/KG,,PMOL/KG,,PMOL/KG,,PMOL/KG,,TU,,NMOL/KG,,PERCNT,,/MILLE,,/MILLE,,UMOL/KG,,UATM,,UMOL/KG,,,,DEG C,/MILLE,NMOL/KG,PERCNT,DEG C,/MILLE,DEG C,TU
    31DSCG94_3,  P18N,   137,  1,    136,   1025,2,19940411,1341, -2.6665,-110.3325, 3901,      8.5,  26.8518,  35.0974,2,  35.1019,2,    184.0,2,    201.8,2,     4.77,2,     6.66,2,     0.20,2,     0.68,2,    1.753,2,    1.016,4, -999.000,9, -999.000,9, -999.000,9,-999.0000,9,  -999.00,9,   -999.0,9,   -999.0,9,   2039.5,2,    385.4,2,   2311.0,2,     7.99,2,   20.00,  -999.0,-999.0000,-999.000,   25.00,  -999.0, 26.8498,-999.000
    31DSCG94_3,  P18N,   137,  1,    135,   1247,2,19940411,1341, -2.6665,-110.3325, 3901,     23.7,  26.7388,  35.0807,2,-999.0000,5,    189.6,2,    198.8,2,     4.91,2,     6.82,2,     0.21,2,     0.69,2,    1.743,2,    0.982,2, -999.000,9, -999.000,9, -999.000,9,-999.0000,9,  -999.00,9,   -999.0,9,   -999.0,9,   2040.8,2,    384.6,2,   2307.0,6,  -999.00,9,   20.00,  -999.0,-999.0000,-999.000, -999.00,  -999.0, 26.7334,-999.000
    31DSCG94_3,  P18N,   137,  1,    134,   1216,2,19940411,1341, -2.6665,-110.3325, 3901,     49.2,  16.9543,  35.0674,2,  35.0914,2,     89.1,2,    104.3,2,    13.64,2,    18.27,2,     0.43,2,     1.41,2,    1.071,2,    0.583,2, -999.000,9, -999.000,9, -999.000,9,-999.0000,9,  -999.00,9,   -999.0,9,   -999.0,9,   2147.8,2,    706.8,2,   2309.0,2,     7.76,2,   20.00,  -999.0,-999.0000,-999.000,   25.00,  -999.0, 16.9463,-999.000
    31DSCG94_3,  P18N,   137,  1,    133,   1244,2,19940411,1341, -2.6665,-110.3325, 3901,     74.5,  14.1794,  35.0005,2,  34.9995,2,     78.6,2,     78.1,2,    17.74,2,    22.81,2,     0.45,2,     1.68,2,    0.789,2,    0.438,2, -999.000,9, -999.000,9, -999.000,9,-999.0000,9,  -999.00,9,   -999.0,9,   -999.0,9,   2176.0,2,    856.9,2,   2301.0,2,     7.68,2,   20.00,  -999.0,-999.0000,-999.000,   25.00,  -999.0, 14.1686,-999.000
    31DSCG94_3,  P18N,   137,  1,    132,   1003,2,19940411,1341, -2.6665,-110.3325, 3901,    100.4,  13.3975,  34.9403,2,  34.9391,2,     70.3,2,     77.4,2,    19.41,2,    24.03,2,     0.19,2,     1.71,2,    0.719,6,    0.405,6, -999.000,9, -999.000,9, -999.000,9,-999.0000,9,  -999.00,9,   -999.0,9,   -999.0,9,   2180.4,2,    892.0,2,   2299.0,2,     7.67,2,   20.00,  -999.0,-999.0000,-999.000,   25.00,  -999.0, 13.3835,-999.000
    31DSCG94_3,  P18N,   137,  1,    131,   1211,2,19940411,1341, -2.6665,-110.3325, 3901,    121.8,  13.2455,  34.9252,2,  34.9250,2,     68.3,2,     69.3,2,    20.30,2,    25.44,2,     0.00,2,     1.79,2,    0.677,2,    0.371,2, -999.000,9, -999.000,9, -999.000,9,-999.0000,9,  -999.00,9,   -999.0,9,   -999.0,9,   2186.9,2,    947.3,2,   2299.0,2,     7.64,2,   20.00,  -999.0,-999.0000,-999.000,   25.00,  -999.0, 13.2286,-999.000
    31DSCG94_3,  P18N,   137,  1,    130,   1241,2,19940411,1341, -2.6665,-110.3325, 3901,    148.5,  13.1519,  34.9212,2,  34.9197,2,     60.3,2,     58.6,2,    20.92,2,    26.64,2,     0.00,2,     1.87,2,    0.646,2,    0.349,2, -999.000,9, -999.000,9, -999.000,9,-999.0000,9,  -999.00,9,   -999.0,9,   -999.0,9,   2195.2,2,   1008.7,2,   2299.0,2,     7.62,2,   20.00,  -999.0,-999.0000,-999.000,   25.00,  -999.0, 13.1314,-999.000
    31DSCG94_3,  P18N,   137,  1,    129,   1240,2,19940411,1341, -2.6665,-110.3325, 3901,    175.7,  12.9857,  34.9130,2,  34.9117,2,     48.6,2,     55.5,2,    21.60,2,    26.99,2,     0.00,2,     1.90,2,    0.581,2,    0.331,2, -999.000,9, -999.000,9, -999.000,9,-999.0000,9,  -999.00,9,   -999.0,9,   -999.0,9,   2200.0,2,   1032.9,2,   2299.0,2,     7.61,2,   20.00,  -999.0,-999.0000,-999.000,   25.00,  -999.0, 12.9616,-999.000
    31DSCG94_3,  P18N,   137,  1,    128,   1032,2,19940411,1341, -2.6665,-110.3325, 3901,    200.5,  12.8388,  34.9026,2,  34.9017,2,     45.5,2,     43.7,2,    23.13,2,    28.27,2,     0.00,2,     2.00,2,    0.522,6,    0.298,6, -999.000,9, -999.000,9, -999.000,9,-999.0000,9,  -999.00,9,   -999.0,9,   -999.0,9,   2209.6,2,   1116.0,2,   2300.0,2,     7.58,2,   20.00,  -999.0,-999.0000,-999.000,   25.00,  -999.0, 12.8115,-999.000
    31DSCG94_3,  P18N,   137,  1,    127,   1008,2,19940411,1341, -2.6665,-110.3325, 3901,    251.8,  12.5518,  34.8869,2,  34.8878,2,     42.7,2,     23.5,2,    25.36,2,    30.96,2,     0.00,2,     2.17,2,    0.402,2,    0.234,2, -999.000,9, -999.000,9, -999.000,9,-999.0000,9,  -999.00,9,   -999.0,9,   -999.0,9,   2227.8,2,   1288.9,2,   2300.0,2,     7.53,2,   20.00,  -999.0,-999.0000,-999.000,   25.00,  -999.0, 12.5179,-999.000
    31DSCG94_3,  P18N,   137,  1,    126,   1007,2,19940411,1341, -2.6665,-110.3325, 3901,    300.8,  11.8883,  34.8601,2,  34.8592,2,     17.0,2,     17.5,2,    26.53,2,    31.90,2,     0.00,2,     2.30,2,    0.240,6,    0.140,6, -999.000,9, -999.000,9, -999.000,9,-999.0000,9,  -999.00,9,   -999.0,9,   -999.0,9,   2240.9,2,   1406.3,2,   2300.0,2,     7.49,2,   20.00,  -999.0,-999.0000,-999.000,   25.00,  -999.0, 11.8492,-999.000
    31DSCG94_3,  P18N,   137,  1,    125,   1203,3,19940411,1341, -2.6665,-110.3325, 3901,    350.5,  10.9161,  34.7984,2,-999.0000,5,     15.8,2,   -999.0,9,  -999.00,9,  -999.00,9,  -999.00,9,  -999.00,9, -999.000,5, -999.000,5, -999.000,9, -999.000,9, -999.000,9,-999.0000,9,  -999.00,9,   -999.0,9,   -999.0,9,   -999.0,9,   -999.0,9,   -999.0,9,  -999.00,9, -999.00,  -999.0,-999.0000,-999.000, -999.00,  -999.0, 10.8729,-999.000
    31DSCG94_3,  P18N,   137,  1,    123,   1220,2,19940411,1341, -2.6665,-110.3325, 3901,    400.7,   9.8597,  34.7345,2,  34.7353,2,      6.5,2,      4.7,2,    36.71,2,    36.12,2,     0.00,2,     2.70,2,    0.048,2,    0.030,2, -999.000,9, -999.000,9, -999.000,9,-999.0000,9,  -999.00,9,   -999.0,9,   -999.0,9,   2274.4,2,   1767.0,2,   2303.0,2,     7.40,2,   20.00,  -999.0,-999.0000,-999.000,   25.00,  -999.0,  9.8133,-999.000
    31DSCG94_3,  P18N,   137,  1,    122,   1245,2,19940411,1341, -2.6665,-110.3325, 3901,    498.8,   8.0899,  34.6379,2,  34.6374,2,      8.8,2,     14.4,2,    46.01,2,    40.85,2,     0.00,2,     2.85,2,    0.022,2,    0.005,2, -999.000,9, -999.000,9, -999.000,9,-999.0000,9,  -999.00,9,   -999.0,9,   -999.0,9,   2284.5,2,   1807.4,2,   2306.0,2,     7.39,2,   20.00,  -999.0,-999.0000,-999.000,   25.00,  -999.0,  8.0383,-999.000
    31DSCG94_3,  P18N,   137,  1,    121,   1206,2,19940411,1341, -2.6665,-110.3325, 3901,    599.0,   7.1119,  34.5949,2,  34.5942,2,     21.2,2,     29.0,2,    52.61,2,    42.13,2,     0.00,2,     2.90,2,    0.016,2,    0.018,2, -999.000,9, -999.000,9, -999.000,9,-999.0000,9,  -999.00,9,   -999.0,9,   -999.0,9,   2284.7,2,   1765.7,2,   2312.0,2,     7.40,2,   20.00,  -999.0,-999.0000,-999.000,   25.00,  -999.0,  7.0540,-999.000
    31DSCG94_3,  P18N,   137,  1,    120,   1028,2,19940411,1341, -2.6665,-110.3325, 3901,    699.8,   6.1893,  34.5599,2,  34.5592,2,     34.4,2,     56.5,2,    58.70,2,    41.12,2,     0.00,2,     2.80,2,    0.001,2,   -0.002,2, -999.000,9, -999.000,9, -999.000,9,-999.0000,9,  -999.00,9,   -999.0,9,   -999.0,9,   2279.3,2,   1610.5,2,   2322.0,2,  -999.00,9,   20.00,  -999.0,-999.0000,-999.000, -999.00,  -999.0,  6.1261,-999.000
    31DSCG94_3,  P18N,   137,  1,    119,   1248,2,19940411,1341, -2.6665,-110.3325, 3901,    800.4,   5.5330,  34.5495,2,  34.5490,2,     53.3,2,     67.5,2,    67.75,2,    40.00,2,     0.00,2,     2.83,2,   -0.001,2,   -0.002,2, -999.000,9, -999.000,9, -999.000,9,-999.0000,9,  -999.00,9,   -999.0,9,   -999.0,9,   2286.1,2,   1572.2,2,   2329.0,2,     7.44,2,   20.00,  -999.0,-999.0000,-999.000,   25.00,  -999.0,  5.4641,-999.000
    31DSCG94_3,  P18N,   137,  1,    118,   1115,2,19940411,1341, -2.6665,-110.3325, 3901,    898.1,   5.0401,  34.5524,2,  34.5529,2,     60.8,2,     67.7,2,    77.87,2,    40.64,2,     0.00,2,     2.85,2,    0.000,2,   -0.002,2, -999.000,9, -999.000,9, -999.000,9,-999.0000,9,  -999.00,9,   -999.0,9,   -999.0,9,   2296.6,2,   1583.6,2,   2343.0,2,     7.45,2,   20.00,  -999.0,-999.0000,-999.000,   25.00,  -999.0,  4.9656,-999.000
    31DSCG94_3,  P18N,   137,  1,    117,   1119,2,19940411,1341, -2.6665,-110.3325, 3901,    999.6,   4.5243,  34.5550,2,  34.5525,2,     73.7,2,     79.4,2,    85.79,2,    39.88,2,     0.00,2,     2.82,2,    0.001,2,    0.000,2, -999.000,9, -999.000,9, -999.000,9,-999.0000,9,  -999.00,9,   -999.0,9,   -999.0,9,   2301.3,2,   1527.6,2,   2348.0,6,     7.47,2,   20.00,  -999.0,-999.0000,-999.000,   25.00,  -999.0,  4.4446,-999.000
    31DSCG94_3,  P18N,   137,  1,    116,   1036,2,19940411,1341, -2.6665,-110.3325, 3901,   1202.3,   3.6767,  34.5754,2,  34.5760,2,     84.8,2,     87.9,2,   103.41,2,    39.51,2,     0.00,2,     2.80,2,   -0.002,2,    0.000,2, -999.000,9, -999.000,9, -999.000,9,-999.0000,9,  -999.00,9,   -999.0,9,   -999.0,9,   2316.8,2,   1497.4,2,   2368.0,2,     7.48,2,   20.00,  -999.0,-999.0000,-999.000,   25.00,  -999.0,  3.5868,-999.000
    31DSCG94_3,  P18N,   137,  1,    115,   1017,2,19940411,1341, -2.6665,-110.3325, 3901,   1399.6,   3.1379,  34.5967,2,  34.5971,2,     87.2,2,     92.2,2,   117.08,2,    39.46,2,     0.00,2,     2.80,2,   -0.002,2,   -0.002,2, -999.000,9, -999.000,9, -999.000,9,-999.0000,9,  -999.00,9,   -999.0,9,   -999.0,9,   2328.5,2,   1478.6,3,   2384.0,2,     7.49,2,   20.00,  -999.0,-999.0000,-999.000,   25.00,  -999.0,  3.0369,-999.000
    31DSCG94_3,  P18N,   137,  1,    114,   1016,2,19940411,1341, -2.6665,-110.3325, 3901,   1601.4,   2.7343,  34.6150,2,  34.6166,2,    103.5,2,     98.6,2,   126.09,2,    39.23,2,     0.00,2,     2.75,2,   -0.002,2,   -0.002,2, -999.000,9, -999.000,9, -999.000,9,-999.0000,9,  -999.00,9,   -999.0,9,   -999.0,9,   2334.2,2,   1444.5,2,   2401.0,2,     7.50,2,   20.00,  -999.0,-999.0000,-999.000,   25.00,  -999.0,  2.6211,-999.000
    31DSCG94_3,  P18N,   137,  1,    113,   1209,2,19940411,1341, -2.6665,-110.3325, 3901,   1799.9,   2.4434,  34.6335,2,  34.6340,2,    106.9,2,     97.8,2,   137.05,2,    39.17,2,     0.00,2,     2.77,2, -999.000,9, -999.000,9, -999.000,9, -999.000,9, -999.000,9,-999.0000,9,  -999.00,9,   -999.0,9,   -999.0,9,   2348.7,2,   1441.8,2,   2410.0,2,     7.50,2,   20.00,  -999.0,-999.0000,-999.000,   25.00,  -999.0,  2.3173,-999.000
    31DSCG94_3,  P18N,   137,  1,    112,   1033,2,19940411,1341, -2.6665,-110.3325, 3901,   2001.0,   2.2770,  34.6433,2,  34.6443,2,    112.2,2,    103.6,2,   140.59,2,    40.04,2,     0.00,2,     2.73,2,    0.004,2,   -0.002,2, -999.000,9, -999.000,9, -999.000,9,-999.0000,9,  -999.00,9,   -999.0,9,   -999.0,9,   2348.6,2,   1405.9,2,   2411.0,2,     7.51,2,   20.00,  -999.0,-999.0000,-999.000,   25.00,  -999.0,  2.1362,-999.000
    31DSCG94_3,  P18N,   137,  1,    111,   1240,2,19940411,1341, -2.6665,-110.3325, 3901,   2200.8,   2.0992,  34.6524,2,  34.6530,2,    113.4,2,    109.0,2,   144.89,2,    38.83,2,     0.00,2,     2.71,2, -999.000,9, -999.000,9, -999.000,9, -999.000,9, -999.000,9,-999.0000,9,  -999.00,9,   -999.0,9,   -999.0,9,   2351.2,2,   1377.2,2,   2417.0,2,     7.52,2,   20.00,  -999.0,-999.0000,-999.000,   25.00,  -999.0,  1.9439,-999.000
    31DSCG94_3,  P18N,   137,  1,    110,   1005,2,19940411,1341, -2.6665,-110.3325, 3901,   2402.9,   1.9323,  34.6593,2,  34.6605,2,    118.7,2,    119.1,2,   145.99,2,    38.10,2,     0.00,2,     2.64,2,    0.000,2,   -0.002,2, -999.000,9, -999.000,9, -999.000,9,-999.0000,9,  -999.00,9,   -999.0,9,   -999.0,9,   2345.5,2,   1320.1,2,   2413.0,2,     7.54,2,   20.00,  -999.0,-999.0000,-999.000,   25.00,  -999.0,  1.7620,-999.000
    31DSCG94_3,  P18N,   137,  1,    109,   1611,2,19940411,1341, -2.6665,-110.3325, 3901,   2599.4,   1.8245,  34.6648,2,  34.6662,2,    124.0,2,    125.8,6,   147.86,2,    37.87,2,     0.00,2,     2.60,2, -999.000,9, -999.000,9, -999.000,9, -999.000,9, -999.000,9,-999.0000,9,  -999.00,9,   -999.0,9,   -999.0,9,   2342.4,2,   1278.3,2,   2416.0,2,     7.55,2,   20.00,  -999.0,-999.0000,-999.000,   25.00,  -999.0,  1.6383,-999.000
    31DSCG94_3,  P18N,   137,  1,    108,   1218,2,19940411,1341, -2.6665,-110.3325, 3901,   2801.4,   1.7352,  34.6707,2,  34.6710,2,    131.0,2,    134.4,2,   147.98,2,    36.99,2,     0.00,2,     2.56,2, -999.000,9, -999.000,9, -999.000,9, -999.000,9, -999.000,9,-999.0000,9,  -999.00,9,   -999.0,9,   -999.0,9,   2339.7,2,   1241.6,2,   2415.0,2,     7.56,2,   20.00,  -999.0,-999.0000,-999.000,   25.00,  -999.0,  1.5321,-999.000
    31DSCG94_3,  P18N,   137,  1,    107,   1257,2,19940411,1341, -2.6665,-110.3325, 3901,   3001.2,   1.6566,  34.6753,2,  34.6756,2,    136.3,2,    140.4,2,   147.38,2,    36.41,2,     0.00,2,     2.52,2, -999.000,9, -999.000,9, -999.000,9, -999.000,9, -999.000,9,-999.0000,9,  -999.00,9,   -999.0,9,   -999.0,9,   2335.9,2,   1209.1,2,   -999.0,5,     7.57,2,   20.00,  -999.0,-999.0000,-999.000,   25.00,  -999.0,  1.4362,-999.000
    31DSCG94_3,  P18N,   137,  1,    106,   1224,2,19940411,1341, -2.6665,-110.3325, 3901,   3200.5,   1.5947,  34.6788,2,  34.6790,2,    139.1,2,    144.0,2,   146.40,2,    36.29,2,     0.00,2,     2.51,2, -999.000,9, -999.000,9, -999.000,9, -999.000,9, -999.000,9,-999.0000,9,  -999.00,9,   -999.0,9,   -999.0,9,   2332.6,2,   1190.9,2,   2419.0,2,     7.58,2,   20.00,  -999.0,-999.0000,-999.000,   25.00,  -999.0,  1.3563,-999.000
    31DSCG94_3,  P18N,   137,  1,    105,   1246,2,19940411,1341, -2.6665,-110.3325, 3901,   3401.1,   1.5451,  34.6829,2,  34.6833,2,    142.8,2,    148.6,6,   146.18,2,    36.25,2,     0.00,2,     2.49,2, -999.000,9, -999.000,9, -999.000,9, -999.000,9, -999.000,9,-999.0000,9,  -999.00,9,   -999.0,9,   -999.0,9,   2331.9,2,   1162.9,2,   2422.0,2,     7.59,2,   20.00,  -999.0,-999.0000,-999.000,   25.00,  -999.0,  1.2878,-999.000
    31DSCG94_3,  P18N,   137,  1,    104,   1217,2,19940411,1341, -2.6665,-110.3325, 3901,   3600.8,   1.4728,  34.6884,2,  34.6882,2,    148.5,2,    155.6,2,   146.67,2,    35.38,2,     0.00,2,     2.44,2, -999.000,9, -999.000,9, -999.000,9, -999.000,9, -999.000,9,-999.0000,9,  -999.00,9,   -999.0,9,   -999.0,9,   2326.9,2,   1123.5,2,   2419.0,2,     7.60,2,   20.00,  -999.0,-999.0000,-999.000,   25.00,  -999.0,  1.1969,-999.000
    31DSCG94_3,  P18N,   137,  1,    103,   9999,2,19940411,1341, -2.6665,-110.3325, 3901,   3798.5,   1.4648,  34.6899,2,  34.6912,2,    151.0,2,    157.4,2,   147.48,2,    34.96,2,     0.00,2,     2.42,2,    0.013,2,    0.008,2, -999.000,9, -999.000,9, -999.000,9,-999.0000,9,  -999.00,9,   -999.0,9,   -999.0,9,   2327.1,2,   1103.7,2,   2424.0,2,     7.61,2,   20.00,  -999.0,-999.0000,-999.000,   25.00,  -999.0,  1.1685,-999.000
    31DSCG94_3,  P18N,   137,  1,    102,   1223,2,19940411,1341, -2.6665,-110.3325, 3901,   3800.0,   1.4645,  34.6901,2,  34.6893,2,    151.0,2,    158.8,2,   147.40,2,    35.41,2,     0.00,2,     2.42,2, -999.000,9, -999.000,9, -999.000,9, -999.000,9, -999.000,9,-999.0000,9,  -999.00,9,   -999.0,9,   -999.0,9,   2326.7,2,   1111.9,2,   2420.0,2,     7.60,2,   20.00,  -999.0,-999.0000,-999.000,   25.00,  -999.0,  1.1680,-999.000
    31DSCG94_3,  P18N,   137,  1,    101,   1041,3,19940411,1341, -2.6665,-110.3325, 3901,   3937.9,   1.4767,  34.6898,2,  34.6905,2,    150.0,2,    157.9,6,   146.47,2,    35.75,2,     0.00,2,     2.42,2, -999.000,9, -999.000,9, -999.000,9, -999.000,9, -999.000,9,-999.0000,9,  -999.00,9,   -999.0,9,   -999.0,9,   2327.5,2,   1108.8,2,   2423.0,2,  -999.00,9,   20.00,  -999.0,-999.0000,-999.000, -999.00,  -999.0,  1.1651,-999.000