BOTTLE,20220630CCHSIOAMB
EXPOCODE,SECT_ID,STNNBR,CASTNO,SAMPNO,BTLNBR,BTLNBR_FLAG_W,DATE,TIME,LATITUDE,LONGITUDE,DEPTH,CTDPRS,CTDTMP,CTDSAL,CTDSAL_FLAG_W,SALNTY,SALNTY_FLAG_W,CTDOXY,CTDOXY_FLAG_W,OXYGEN,OXYGEN_FLAG_W,SILCAT,SILCAT_FLAG_W,NITRAT,NITRAT_FLAG_W,NITRIT,NITRIT_FLAG_W,PHSPHT,PHSPHT_FLAG_W,CFC-11,CFC-11_FLAG_W,CFC-12,CFC-12_FLAG_W,CFC113,CFC113_FLAG_W,CCL4,CCL4_FLAG_W,TRITUM,TRITUM_FLAG_W,HELIUM,HELIUM_FLAG_W,DELHE3,DELHE3_FLAG_W,DELC14,DELC14_FLAG_W,DELC13,DELC13_FLAG_W,TCARBN,TCARBN_FLAG_W,PCO2,PCO2_FLAG_W,ALKALI,ALKALI_FLAG_W,PH,PH_FLAG_W,PCO2TMP,C14ERR,HELIER,DELHER,PH_TMP,C13ERR,THETA,TRITER
,,,,,,,,,,,,DBAR,ITS-90,PSS-78,,PSS-78,,UMOL/KG,,UMOL/KG,,UMOL/KG,,UMOL/KG,,UMOL/KG,,UMOL/KG,,PMOL/KG,,PMOL/KG,,PMOL/KG,,PMOL/KG,,TU,,NMOL/KG,,PERCNT,,/MILLE,,/MILLE,,UMOL/KG,,UATM,,UMOL/KG,,,,DEG C,/MILLE,NMOL/KG,PERCNT,DEG C,/MILLE,DEG C,TU
    31DSCG94_3,  P18N,   103,  1,    136,   1025,2,19940402,0912,-17.9980,-103.0037, 4184,      9.3,  24.3407,  36.3659,2,  36.3649,2,    205.7,2,    209.8,2,     2.69,2,     0.08,2,     0.00,2,     0.28,2,    1.963,2,    1.091,2, -999.000,5, -999.000,5, -999.000,9,-999.0000,9,  -999.00,9,   -999.0,9,      1.7,2,   2066.0,2,    313.2,2,   2405.0,6,     8.07,2,   20.00,  -999.0,-999.0000,-999.000,   25.00,  -999.0, 24.3387,-999.000
    31DSCG94_3,  P18N,   103,  1,    135,   1247,2,19940402,0912,-17.9980,-103.0037, 4184,      9.3,  24.3482,  36.3665,2,  36.3656,2,    205.7,2,    200.0,3,     2.51,2,     0.05,2,     0.00,2,     0.28,2,    1.969,6,    1.092,6, -999.000,5, -999.000,5, -999.000,9,-999.0000,9,  -999.00,9,   -999.0,9,   -999.0,9,   -999.0,9,   -999.0,9,   -999.0,9,     8.07,2, -999.00,  -999.0,-999.0000,-999.000,   25.00,  -999.0, 24.3462,-999.000
    31DSCG94_3,  P18N,   103,  1,    134,   1216,2,19940402,0912,-17.9980,-103.0037, 4184,     24.4,  24.2039,  36.3519,2,  36.3499,2,    215.5,2,    210.7,2,     2.59,2,     0.00,2,     0.00,2,     0.28,2,    1.980,2,    1.098,2, -999.000,9, -999.000,9,    0.601,2,   1.7661,2,    -0.98,2,   -999.0,9,   -999.0,9,   -999.0,9,   -999.0,9,   -999.0,9,     8.07,2, -999.00,  -999.0,-999.0000,-999.000,   25.00,  -999.0, 24.1987,   0.007
    31DSCG94_3,  P18N,   103,  1,    133,   1244,2,19940402,0912,-17.9980,-103.0037, 4184,     48.1,  24.1128,  36.3470,2,  36.3462,2,    215.9,2,    210.7,2,     2.45,2,     0.04,2,     0.00,2,     0.28,2,    1.992,6,    1.108,6, -999.000,5, -999.000,5, -999.000,9,-999.0000,9,  -999.00,9,   -999.0,9,   -999.0,9,   -999.0,9,   -999.0,9,   -999.0,9,     8.07,2, -999.00,  -999.0,-999.0000,-999.000,   25.00,  -999.0, 24.1026,-999.000
    31DSCG94_3,  P18N,   103,  1,    132,   1003,2,19940402,0912,-17.9980,-103.0037, 4184,     73.4,  22.9370,  36.2259,2,-999.0000,5,    220.4,2,    220.2,2,     2.23,2,     0.03,2,     0.00,2,     0.28,2,    2.186,2,    1.201,2, -999.000,9, -999.000,9,    0.584,2,   1.7536,2,    -1.02,2,   -999.0,9,   -999.0,9,   -999.0,9,   -999.0,9,   -999.0,9,  -999.00,9, -999.00,  -999.0,-999.0000,-999.000, -999.00,  -999.0, 22.9220,   0.007
    31DSCG94_3,  P18N,   103,  1,    131,   1211,2,19940402,0912,-17.9980,-103.0037, 4184,     97.2,  22.3682,  36.2205,2,  36.2320,2,    223.0,2,    220.2,6,     1.80,2,     0.10,2,     0.00,2,     0.28,2,    2.135,6,    1.176,6, -999.000,5, -999.000,5, -999.000,9,-999.0000,9,  -999.00,9,   -999.0,9,   -999.0,9,   -999.0,9,   -999.0,9,   -999.0,9,     8.06,2, -999.00,  -999.0,-999.0000,-999.000,   25.00,  -999.0, 22.3487,-999.000
    31DSCG94_3,  P18N,   103,  1,    130,   1241,2,19940402,0912,-17.9980,-103.0037, 4184,    125.2,  21.7379,  36.0945,2,  36.0912,2,    221.8,2,    218.6,2,     2.19,2,     0.31,2,     0.00,2,     0.28,2,    2.194,2,    1.194,2, -999.000,9, -999.000,9,    0.586,2,   1.7505,2,    -1.19,2,   -999.0,9,   -999.0,9,   -999.0,9,   -999.0,9,   -999.0,9,     8.04,2, -999.00,  -999.0,-999.0000,-999.000,   25.00,  -999.0, 21.7132,   0.007
    31DSCG94_3,  P18N,   103,  1,    129,   1240,2,19940402,0912,-17.9980,-103.0037, 4184,    149.4,  20.8079,  35.8917,2,  35.8987,2,    221.0,2,    219.8,2,     1.70,2,     0.11,2,     0.00,2,     0.28,2,    2.251,2,    1.228,2, -999.000,9, -999.000,9, -999.000,9,-999.0000,9,  -999.00,9,   -999.0,9,   -999.0,9,   -999.0,9,   -999.0,9,   -999.0,9,     8.03,2, -999.00,  -999.0,-999.0000,-999.000,   25.00,  -999.0, 20.7794,-999.000
    31DSCG94_3,  P18N,   103,  1,    128,   1032,3,19940402,0912,-17.9980,-103.0037, 4184,    200.9,  19.0645,  35.5474,2,  35.5723,2,    200.5,2,    205.9,2,     1.94,2,     1.52,2,     0.13,2,     0.40,2,    2.334,6,    1.240,6, -999.000,5, -999.000,5,    0.385,2,   1.7804,2,    -1.04,2,   -999.0,9,   -999.0,9,   -999.0,9,   -999.0,9,   -999.0,9,  -999.00,9, -999.00,  -999.0,-999.0000,-999.000, -999.00,  -999.0, 19.0285,   0.006
    31DSCG94_3,  P18N,   103,  1,    127,   1008,2,19940402,0912,-17.9980,-103.0037, 4184,    249.4,  15.7897,  34.9837,2,  35.0024,2,    192.4,2,    189.9,2,     2.89,2,     5.60,2,     0.00,2,     0.65,2,    2.316,2,    1.224,2, -999.000,9, -999.000,9, -999.000,9,-999.0000,9,  -999.00,9,   -999.0,9,   -999.0,9,   -999.0,9,   -999.0,9,   -999.0,9,  -999.00,9, -999.00,  -999.0,-999.0000,-999.000, -999.00,  -999.0, 15.7505,-999.000
    31DSCG94_3,  P18N,   103,  1,    126,   1007,2,19940402,0912,-17.9980,-103.0037, 4184,    300.3,  12.1624,  34.5463,2,  34.5456,2,    138.7,2,    142.0,2,     8.28,2,    15.20,2,     0.00,2,     1.42,2,    1.743,2,    0.922,2, -999.000,9, -999.000,9,    0.356,2,   1.7982,2,     1.10,2,   -999.0,9,   -999.0,9,   -999.0,9,   -999.0,9,   -999.0,9,  -999.00,9, -999.00,  -999.0,-999.0000,-999.000, -999.00,  -999.0, 12.1229,   0.006
    31DSCG94_3,  P18N,   103,  1,    125,   1203,3,19940402,0912,-17.9980,-103.0037, 4184,    337.5,  10.4289,  34.5387,2,  34.5392,2,     79.6,2,     80.1,2,    16.63,2,    23.91,2,     0.00,2,     2.14,2,    0.674,6,    0.360,6, -999.000,5, -999.000,5, -999.000,9,-999.0000,9,  -999.00,9,   -999.0,9,   -999.0,9,   -999.0,9,   -999.0,9,   -999.0,9,  -999.00,9, -999.00,  -999.0,-999.0000,-999.000, -999.00,  -999.0, 10.3886,-999.000
    31DSCG94_3,  P18N,   103,  1,    123,   1220,2,19940402,0912,-17.9980,-103.0037, 4184,    397.9,   8.6350,  34.4820,2,  34.4824,2,     79.0,2,     74.3,2,    21.00,2,    30.70,2,     0.01,2,     2.40,2,    0.301,2,    0.163,2, -999.000,9, -999.000,9,    0.087,2,   1.7799,2,     2.07,2,   -999.0,9,   -999.0,9,   -999.0,9,   -999.0,9,   -999.0,9,  -999.00,9, -999.00,  -999.0,-999.0000,-999.000, -999.00,  -999.0,  8.5927,   0.004
    31DSCG94_3,  P18N,   103,  1,    122,   1245,2,19940402,0912,-17.9980,-103.0037, 4184,    498.2,   7.0363,  34.4550,2,  34.4543,2,     89.7,2,     86.7,2,    26.67,2,    35.38,2,     0.01,2,     2.50,2,    0.088,2,    0.059,2, -999.000,5, -999.000,5,    0.029,2,   1.8259,2,     2.85,2,   -999.0,9,   -999.0,9,   -999.0,9,   -999.0,9,   -999.0,9,  -999.00,9, -999.00,  -999.0,-999.0000,-999.000, -999.00,  -999.0,  6.9889,   0.003
    31DSCG94_3,  P18N,   103,  1,    121,   1206,2,19940402,0912,-17.9980,-103.0037, 4184,    600.5,   6.1366,  34.4411,2,  34.4403,2,     92.5,2,     89.9,2,    33.57,2,    38.00,2,     0.00,2,     2.63,2,    0.023,6,    0.014,6, -999.000,9, -999.000,9, -999.000,9,-999.0000,9,  -999.00,9,   -999.0,9,   -999.0,9,   -999.0,9,   -999.0,9,   -999.0,9,  -999.00,9, -999.00,  -999.0,-999.0000,-999.000, -999.00,  -999.0,  6.0832,-999.000
    31DSCG94_3,  P18N,   103,  1,    120,   1028,2,19940402,0912,-17.9980,-103.0037, 4184,    700.9,   5.5106,  34.4595,2,  34.4592,2,     81.5,2,     77.9,6,    45.29,2,    40.31,2,     0.01,2,     2.79,2,    0.001,2,    0.002,2, -999.000,5, -999.000,5,    0.004,2,   1.8607,2,     7.49,2,   -999.0,9,   -999.0,9,   -999.0,9,   -999.0,9,   -999.0,9,  -999.00,9, -999.00,  -999.0,-999.0000,-999.000, -999.00,  -999.0,  5.4510,   0.003
    31DSCG94_3,  P18N,   103,  1,    119,   1248,2,19940402,0912,-17.9980,-103.0037, 4184,    799.6,   5.0721,  34.4847,2,  34.4836,2,     72.6,2,     69.3,2,    56.87,2,    41.40,2,     0.01,2,     2.89,2,    0.238,4,    0.011,4, -999.000,5, -999.000,5,    0.007,2,   1.8553,2,    10.62,2,   -999.0,9,   -999.0,9,   -999.0,9,   -999.0,9,   -999.0,9,  -999.00,9, -999.00,  -999.0,-999.0000,-999.000, -999.00,  -999.0,  5.0062,   0.003
    31DSCG94_3,  P18N,   103,  1,    118,   1115,2,19940402,0912,-17.9980,-103.0037, 4184,    900.0,   4.6518,  34.5066,2,  34.5065,2,     69.2,2,     65.4,2,    70.08,2,    42.65,2,     0.02,2,     2.96,2,   -0.002,2,   -0.002,2, -999.000,9, -999.000,9,    0.000,2,   1.9120,2,    13.41,2,   -999.0,9,   -999.0,9,   -999.0,9,   -999.0,9,   -999.0,9,  -999.00,9, -999.00,  -999.0,-999.0000,-999.000, -999.00,  -999.0,  4.5798,   0.003
    31DSCG94_3,  P18N,   103,  1,    117,   1119,2,19940402,0912,-17.9980,-103.0037, 4184,    999.8,   4.2405,  34.5218,2,  34.5209,2,     75.3,2,     73.7,2,    78.52,2,    42.13,2,     0.02,2,     2.95,2,   -0.002,2,    0.001,2, -999.000,5, -999.000,5,    0.007,2,   1.8480,2,    15.79,2,   -999.0,9,   -999.0,9,   -999.0,9,   -999.0,9,   -999.0,9,  -999.00,9, -999.00,  -999.0,-999.0000,-999.000, -999.00,  -999.0,  4.1630,   0.003
    31DSCG94_3,  P18N,   103,  1,    116,   1036,2,19940402,0912,-17.9980,-103.0037, 4184,   1099.0,   3.9169,  34.5330,2,  34.5328,2,     85.8,2,     85.7,2,    84.52,2,    40.69,2,     0.01,2,     2.86,2,    0.037,4,    0.011,4, -999.000,5, -999.000,5,    0.002,2,-999.0000,9,  -999.00,9,   -999.0,9,   -999.0,9,   -999.0,9,   -999.0,9,   -999.0,9,  -999.00,9, -999.00,  -999.0,-999.0000,-999.000, -999.00,  -999.0,  3.8335,   0.003
    31DSCG94_3,  P18N,   103,  1,    115,   1017,2,19940402,0912,-17.9980,-103.0037, 4184,   1201.1,   3.6005,  34.5479,2,  34.5477,2,     90.9,2,     90.8,2,    92.51,2,    39.89,2,     0.00,2,     2.84,2,   -0.003,2,    0.001,2, -999.000,9, -999.000,9,    0.003,2,   1.8670,2,    19.73,2,   -999.0,9,   -999.0,9,   -999.0,9,   -999.0,9,   -999.0,9,  -999.00,9, -999.00,  -999.0,-999.0000,-999.000, -999.00,  -999.0,  3.5114,   0.003
    31DSCG94_3,  P18N,   103,  1,    114,   1016,2,19940402,0912,-17.9980,-103.0037, 4184,   1402.1,   3.0798,  34.5784,2,  34.5787,2,     96.1,2,     95.3,2,   105.82,2,    39.78,2,     0.00,2,     2.83,2,    0.129,4,    0.004,2, -999.000,9, -999.000,9,    0.010,2,   1.9070,3,    21.88,2,   -999.0,9,   -999.0,9,   -999.0,9,   -999.0,9,   -999.0,9,  -999.00,9, -999.00,  -999.0,-999.0000,-999.000, -999.00,  -999.0,  2.9791,   0.003
    31DSCG94_3,  P18N,   103,  1,    113,   1209,2,19940402,0912,-17.9980,-103.0037, 4184,   1600.7,   2.7289,  34.6029,2,  34.6026,2,    102.7,2,    102.3,2,   114.03,2,    39.53,2,     0.00,2,     2.79,2, -999.000,9, -999.000,9, -999.000,9, -999.000,9,    0.004,2,   1.8910,2,    25.41,2,   -999.0,9,   -999.0,9,   -999.0,9,   -999.0,9,   -999.0,9,  -999.00,9, -999.00,  -999.0,-999.0000,-999.000, -999.00,  -999.0,  2.6159,   0.003
    31DSCG94_3,  P18N,   103,  1,    112,   1033,2,19940402,0912,-17.9980,-103.0037, 4184,   1800.9,   2.4477,  34.6219,2,  34.6215,2,    113.8,2,    112.1,2,   119.61,2,    38.45,2,     0.01,2,     2.72,2, -999.000,9, -999.000,9, -999.000,9, -999.000,9,    0.007,2,   1.9060,2,    26.94,2,   -999.0,9,   -999.0,9,   -999.0,9,   -999.0,9,   -999.0,9,  -999.00,9, -999.00,  -999.0,-999.0000,-999.000, -999.00,  -999.0,  2.3215,   0.003
    31DSCG94_3,  P18N,   103,  1,    111,   1240,2,19940402,0912,-17.9980,-103.0037, 4184,   1999.1,   2.2067,  34.6385,2,  34.6382,2,    125.2,2,    125.1,2,   123.45,2,    37.11,2,     0.00,2,     2.63,2,    0.240,4,    0.011,4, -999.000,9, -999.000,9, -999.000,9,   1.9210,2,    28.07,2,   -999.0,9,   -999.0,9,   -999.0,9,   -999.0,9,   -999.0,9,  -999.00,9, -999.00,  -999.0,-999.0000,-999.000, -999.00,  -999.0,  2.0671,-999.000
    31DSCG94_3,  P18N,   103,  1,    110,   1005,2,19940402,0912,-17.9980,-103.0037, 4184,   2251.4,   1.9863,  34.6536,2,  34.6516,2,    145.4,2,    144.0,2,   122.09,2,    35.73,2,     0.00,2,     2.49,2, -999.000,9, -999.000,9, -999.000,9, -999.000,9, -999.000,9,   1.9250,2,    28.30,2,   -999.0,9,   -999.0,9,   -999.0,9,   -999.0,9,   -999.0,9,  -999.00,9, -999.00,  -999.0,-999.0000,-999.000, -999.00,  -999.0,  1.8285,-999.000
    31DSCG94_3,  P18N,   103,  1,    109,   1611,2,19940402,0912,-17.9980,-103.0037, 4184,   2500.8,   1.8734,  34.6655,2,  34.6651,2,    151.6,2,    149.2,6,   123.22,2,    35.33,2,     0.00,2,     2.47,2, -999.000,9, -999.000,9, -999.000,9, -999.000,9, -999.000,9,-999.0000,9,  -999.00,9,   -999.0,9,   -999.0,9,   -999.0,9,   -999.0,9,   -999.0,9,  -999.00,9, -999.00,  -999.0,-999.0000,-999.000, -999.00,  -999.0,  1.6953,-999.000
    31DSCG94_3,  P18N,   103,  1,    108,   1218,2,19940402,0912,-17.9980,-103.0037, 4184,   2748.8,   1.8114,  34.6742,2,  34.6735,2,    152.2,2,    149.9,2,   125.95,2,    35.23,2,     0.00,2,     2.47,2,    0.209,4,    0.011,4, -999.000,9, -999.000,9, -999.000,9,   1.9250,2,    27.76,2,   -999.0,9,   -999.0,9,   -999.0,9,   -999.0,9,   -999.0,9,  -999.00,9, -999.00,  -999.0,-999.0000,-999.000, -999.00,  -999.0,  1.6116,-999.000
    31DSCG94_3,  P18N,   103,  1,    107,   1257,2,19940402,0912,-17.9980,-103.0037, 4184,   3000.2,   1.7858,  34.6788,2,  34.6782,2,    149.3,2,    149.0,2,   130.78,2,    35.27,2,     0.00,2,     2.47,2, -999.000,9, -999.000,9, -999.000,9, -999.000,9, -999.000,9,   1.9270,2,    27.14,2,   -999.0,9,   -999.0,9,   -999.0,9,   -999.0,9,   -999.0,9,  -999.00,9, -999.00,  -999.0,-999.0000,-999.000, -999.00,  -999.0,  1.5626,-999.000
    31DSCG94_3,  P18N,   103,  1,    106,   1224,2,19940402,0912,-17.9980,-103.0037, 4184,   3250.6,   1.7715,  34.6824,2,  34.6820,2,    149.2,2,    148.5,2,   132.14,2,    35.55,2,     0.00,2,     2.46,2, -999.000,9, -999.000,9, -999.000,9, -999.000,9, -999.000,9,   1.9190,2,    25.90,2,   -999.0,9,   -999.0,9,   -999.0,9,   -999.0,9,   -999.0,9,  -999.00,9, -999.00,  -999.0,-999.0000,-999.000, -999.00,  -999.0,  1.5239,-999.000
    31DSCG94_3,  P18N,   103,  1,    105,   1246,2,19940402,0912,-17.9980,-103.0037, 4184,   3499.1,   1.7798,  34.6850,2,  34.6840,2,    149.3,2,    149.1,2,   131.01,2,    35.41,2,     0.00,2,     2.47,2,    0.199,4,    0.012,4, -999.000,9, -999.000,9, -999.000,9,   1.9170,2,    25.72,2,   -999.0,9,   -999.0,9,   -999.0,9,   -999.0,9,   -999.0,9,  -999.00,9, -999.00,  -999.0,-999.0000,-999.000, -999.00,  -999.0,  1.5066,-999.000
    31DSCG94_3,  P18N,   103,  1,    104,   1217,2,19940402,0912,-17.9980,-103.0037, 4184,   3755.1,   1.7904,  34.6857,2,  34.6846,2,    149.2,2,    149.8,2,   130.68,2,    35.45,2,     0.00,2,     2.46,2, -999.000,9, -999.000,9, -999.000,9, -999.000,9, -999.000,9,   1.9150,2,    25.32,2,   -999.0,9,   -999.0,9,   -999.0,9,   -999.0,9,   -999.0,9,  -999.00,9, -999.00,  -999.0,-999.0000,-999.000, -999.00,  -999.0,  1.4899,-999.000
    31DSCG94_3,  P18N,   103,  1,    103,   9999,2,19940402,0912,-17.9980,-103.0037, 4184,   4001.0,   1.8144,  34.6858,2,  34.6865,2,    148.3,2,    148.9,2,   131.94,2,    35.25,2,     0.00,2,     2.46,2,    0.168,4,    0.010,4, -999.000,9, -999.000,9, -999.000,9,-999.0000,9,  -999.00,9,   -999.0,9,   -999.0,9,   -999.0,9,   -999.0,9,   -999.0,9,  -999.00,9, -999.00,  -999.0,-999.0000,-999.000, -999.00,  -999.0,  1.4864,-999.000
    31DSCG94_3,  P18N,   103,  1,    102,   1223,2,19940402,0912,-17.9980,-103.0037, 4184,   4001.4,   1.8146,  34.6857,2,  34.6861,2,    148.3,2,    149.3,2,   132.18,2,    34.96,2,     0.00,2,     2.45,2, -999.000,9, -999.000,9, -999.000,9, -999.000,9, -999.000,9,   1.9180,2,    25.58,2,   -999.0,9,   -999.0,9,   -999.0,9,   1153.2,3,   -999.0,9,  -999.00,9,   20.00,  -999.0,-999.0000,-999.000, -999.00,  -999.0,  1.4866,-999.000
    31DSCG94_3,  P18N,   103,  1,    101,   1041,2,19940402,0912,-17.9980,-103.0037, 4184,   4230.8,   1.8413,  34.6858,2,  34.6872,2,    146.8,2,    149.4,2,   131.10,2,    35.41,2,     0.00,2,     2.46,2,   -0.003,2,   -0.002,2, -999.000,5, -999.000,5, -999.000,9,   1.9090,2,    24.71,2,   -999.0,9,   -999.0,9,   -999.0,9,   -999.0,9,   -999.0,9,  -999.00,9, -999.00,  -999.0,-999.0000,-999.000, -999.00,  -999.0,  1.4868,-999.000