BOTTLE,20220630CCHSIOAMB
EXPOCODE,SECT_ID,STNNBR,CASTNO,SAMPNO,BTLNBR,BTLNBR_FLAG_W,DATE,TIME,LATITUDE,LONGITUDE,DEPTH,CTDPRS,CTDTMP,CTDSAL,CTDSAL_FLAG_W,SALNTY,SALNTY_FLAG_W,CTDOXY,CTDOXY_FLAG_W,OXYGEN,OXYGEN_FLAG_W,SILCAT,SILCAT_FLAG_W,NITRAT,NITRAT_FLAG_W,NITRIT,NITRIT_FLAG_W,PHSPHT,PHSPHT_FLAG_W,CFC-11,CFC-11_FLAG_W,CFC-12,CFC-12_FLAG_W,CFC113,CFC113_FLAG_W,CCL4,CCL4_FLAG_W,TRITUM,TRITUM_FLAG_W,HELIUM,HELIUM_FLAG_W,DELHE3,DELHE3_FLAG_W,DELC14,DELC14_FLAG_W,DELC13,DELC13_FLAG_W,TCARBN,TCARBN_FLAG_W,PCO2,PCO2_FLAG_W,ALKALI,ALKALI_FLAG_W,PH,PH_FLAG_W,PCO2TMP,C14ERR,HELIER,DELHER,PH_TMP,C13ERR,THETA,TRITER
,,,,,,,,,,,,DBAR,ITS-90,PSS-78,,PSS-78,,UMOL/KG,,UMOL/KG,,UMOL/KG,,UMOL/KG,,UMOL/KG,,UMOL/KG,,PMOL/KG,,PMOL/KG,,PMOL/KG,,PMOL/KG,,TU,,NMOL/KG,,PERCNT,,/MILLE,,/MILLE,,UMOL/KG,,UATM,,UMOL/KG,,,,DEG C,/MILLE,NMOL/KG,PERCNT,DEG C,/MILLE,DEG C,TU
    31DSCG94_3,  P18N,   167,  1,    135,   1247,2,19940419,1047,  9.5017,-110.0867, 3489,      8.1,  28.7477,  33.9644,2,  33.9663,2,    172.5,3,    197.0,2,     0.00,2,     0.00,2,     0.00,2,     0.14,2,    1.667,2,    0.967,2, -999.000,9, -999.000,9, -999.000,9,-999.0000,9,  -999.00,9,   -999.0,9,   -999.0,9,   1904.5,2,    262.6,2,   2230.0,2,     8.12,2,   20.00,  -999.0,-999.0000,-999.000,   25.00,  -999.0, 28.7458,-999.000
    31DSCG94_3,  P18N,   167,  1,    136,   1025,2,19940419,1047,  9.5017,-110.0867, 3489,      8.3,  28.7561,  33.9643,2,  33.9761,3,    172.5,3,    197.1,2,     0.00,2,     0.05,2,     0.00,2,     0.15,2,    1.640,2,    0.968,2, -999.000,9, -999.000,9, -999.000,9,-999.0000,9,  -999.00,9,   -999.0,9,   -999.0,9,   1908.3,2,    263.5,2,   2228.0,2,     8.11,2,   20.00,  -999.0,-999.0000,-999.000,   25.00,  -999.0, 28.7541,-999.000
    31DSCG94_3,  P18N,   167,  1,    134,   1216,2,19940419,1047,  9.5017,-110.0867, 3489,     24.0,  28.7615,  33.9625,2,  33.9709,2,    189.5,2,    197.1,2,     0.00,2,     0.00,2,     0.00,2,     0.17,2,    1.663,2,    0.965,2, -999.000,9, -999.000,9, -999.000,9,-999.0000,9,  -999.00,9,   -999.0,9,   -999.0,9,   -999.0,9,   -999.0,9,   -999.0,9,     8.12,2, -999.00,  -999.0,-999.0000,-999.000,   25.00,  -999.0, 28.7557,-999.000
    31DSCG94_3,  P18N,   167,  1,    133,   1244,2,19940419,1047,  9.5017,-110.0867, 3489,     49.8,  28.6110,  33.9708,2,  33.9805,2,    193.0,2,    197.6,2,     0.00,2,     0.00,2,     0.00,2,     0.16,2,    1.660,2,    0.967,2, -999.000,9, -999.000,9, -999.000,9,-999.0000,9,  -999.00,9,   -999.0,9,   -999.0,9,   1911.4,2,    278.7,2,   2225.0,3,     8.11,2,   20.00,  -999.0,-999.0000,-999.000,   25.00,  -999.0, 28.5991,-999.000
    31DSCG94_3,  P18N,   167,  1,    132,   1003,2,19940419,1047,  9.5017,-110.0867, 3489,     75.1,  22.8858,  34.3054,2,  34.2945,2,    135.4,2,    101.1,2,     4.98,2,    11.95,2,     1.32,2,     1.21,2,    1.376,2,    0.820,2, -999.000,9, -999.000,9, -999.000,9,-999.0000,9,  -999.00,9,   -999.0,9,   -999.0,9,   -999.0,9,   -999.0,9,   -999.0,9,     7.84,2, -999.00,  -999.0,-999.0000,-999.000,   25.00,  -999.0, 22.8706,-999.000
    31DSCG94_3,  P18N,   167,  1,    131,   1211,2,19940419,1047,  9.5017,-110.0867, 3489,    101.0,  15.8797,  34.7480,2,  34.7422,2,     31.2,2,     14.6,6,    17.53,2,    28.81,2,     0.04,2,     2.19,2,    0.749,6,    0.431,2, -999.000,9, -999.000,9, -999.000,9,-999.0000,9,  -999.00,9,   -999.0,9,   -999.0,9,   2210.9,2,   1224.6,2,   2275.0,2,     7.54,2,   20.00,  -999.0,-999.0000,-999.000,   25.00,  -999.0, 15.8639,-999.000
    31DSCG94_3,  P18N,   167,  1,    130,   1241,2,19940419,1047,  9.5017,-110.0867, 3489,    124.2,  13.5956,  34.7954,2,  34.7957,2,      5.1,2,      8.6,2,    21.88,2,    31.00,2,     0.00,2,     2.30,2,    0.527,2,    0.291,2, -999.000,9, -999.000,9, -999.000,9,-999.0000,9,  -999.00,9,   -999.0,9,   -999.0,9,   -999.0,9,   -999.0,9,   -999.0,9,     7.50,2, -999.00,  -999.0,-999.0000,-999.000,   25.00,  -999.0, 13.5781,-999.000
    31DSCG94_3,  P18N,   167,  1,    129,   1240,2,19940419,1047,  9.5017,-110.0867, 3489,    145.5,  12.8911,  34.8021,2,  34.8048,2,      8.0,2,     10.6,2,    23.44,2,    31.50,2,     0.00,2,     2.33,2,    0.411,2,    0.242,2, -999.000,9, -999.000,9, -999.000,9,-999.0000,9,  -999.00,9,   -999.0,9,   -999.0,9,   2235.3,2,   1398.8,2,   2296.0,2,     7.49,2,   20.00,  -999.0,-999.0000,-999.000,   25.00,  -999.0, 12.8713,-999.000
    31DSCG94_3,  P18N,   167,  1,    128,   1032,2,19940419,1047,  9.5017,-110.0867, 3489,    173.1,  12.2598,  34.7909,2,  34.7900,2,     12.1,2,     10.3,2,    25.95,2,    31.64,2,     0.00,2,     2.38,2,    0.323,2,    0.209,2, -999.000,9, -999.000,9, -999.000,9,-999.0000,9,  -999.00,9,   -999.0,9,   -999.0,9,   2240.3,2,   -999.0,9,   2295.0,2,     7.48,2, -999.00,  -999.0,-999.0000,-999.000,   25.00,  -999.0, 12.2369,-999.000
    31DSCG94_3,  P18N,   167,  1,    127,   1008,3,19940419,1047,  9.5017,-110.0867, 3489,    199.2,  11.9512,  34.7796,2,-999.0000,5,     15.0,2,   -999.0,9,  -999.00,9,  -999.00,9,  -999.00,9,  -999.00,9,    0.301,2,    0.179,2, -999.000,9, -999.000,9, -999.000,9,-999.0000,9,  -999.00,9,   -999.0,9,   -999.0,9,   -999.0,9,   -999.0,9,   -999.0,9,  -999.00,9, -999.00,  -999.0,-999.0000,-999.000, -999.00,  -999.0, 11.9254,-999.000
    31DSCG94_3,  P18N,   167,  1,    126,   1007,2,19940419,1047,  9.5017,-110.0867, 3489,    252.6,  11.1823,  34.7461,2,  34.7446,2,     17.8,2,     18.4,2,    29.85,2,    32.08,2,     0.00,2,     2.41,2,    0.210,2,    0.119,2, -999.000,9, -999.000,9, -999.000,9,-999.0000,9,  -999.00,9,   -999.0,9,   -999.0,9,   2246.1,2,   1467.4,2,   -999.0,5,     7.48,2,   20.00,  -999.0,-999.0000,-999.000,   25.00,  -999.0, 11.1509,-999.000
    31DSCG94_3,  P18N,   167,  1,    125,   1256,2,19940419,1047,  9.5017,-110.0867, 3489,    295.3,  10.6044,  34.7211,2,  34.7210,2,     15.3,2,     20.2,2,    32.14,2,    33.29,2,     0.00,2,     2.42,2,    0.157,6,    0.096,6, -999.000,9, -999.000,9, -999.000,9,-999.0000,9,  -999.00,9,   -999.0,9,   -999.0,9,   2251.3,2,   1507.9,2,   2297.0,2,     7.47,2,   20.00,  -999.0,-999.0000,-999.000,   25.00,  -999.0, 10.5687,-999.000
    31DSCG94_3,  P18N,   167,  1,    123,   1220,2,19940419,1047,  9.5017,-110.0867, 3489,    348.2,  10.2278,  34.7048,2,  34.7039,2,     17.3,2,     15.0,2,    34.06,2,    34.37,2,     0.00,2,     2.53,2,    0.103,2,    0.057,2, -999.000,9, -999.000,9, -999.000,9,-999.0000,9,  -999.00,9,   -999.0,9,   -999.0,9,   -999.0,9,   -999.0,9,   -999.0,9,     7.44,2, -999.00,  -999.0,-999.0000,-999.000,   25.00,  -999.0, 10.1867,-999.000
    31DSCG94_3,  P18N,   167,  1,    122,   1245,2,19940419,1047,  9.5017,-110.0867, 3489,    374.0,  10.0190,  34.6959,2,  34.6952,2,     13.8,2,     11.2,2,    35.73,2,    34.49,2,     0.00,2,     2.56,2,    0.083,2,    0.052,2, -999.000,9, -999.000,9, -999.000,9,-999.0000,9,  -999.00,9,   -999.0,9,   -999.0,9,   -999.0,9,   -999.0,9,   -999.0,9,     7.43,2, -999.00,  -999.0,-999.0000,-999.000,   25.00,  -999.0,  9.9753,-999.000
    31DSCG94_3,  P18N,   167,  1,    121,   1206,2,19940419,1047,  9.5017,-110.0867, 3489,    400.1,   9.6899,  34.6807,2,  34.6802,2,      9.5,2,      6.2,6,    38.63,2,    35.60,2,     0.00,2,     2.66,2,    0.049,2,    0.028,2, -999.000,9, -999.000,9, -999.000,9,-999.0000,9,  -999.00,9,   -999.0,9,   -999.0,9,   2273.1,2,   1730.6,2,   2296.0,2,     7.41,2,   20.00,  -999.0,-999.0000,-999.000,   25.00,  -999.0,  9.6440,-999.000
    31DSCG94_3,  P18N,   167,  1,    120,   1028,2,19940419,1047,  9.5017,-110.0867, 3489,    505.5,   8.5581,  34.6142,2,  34.6127,2,      3.7,2,      1.9,2,    48.65,2,    35.70,2,     0.00,2,     2.90,2,    0.009,2,    0.003,2, -999.000,9, -999.000,9, -999.000,9,-999.0000,9,  -999.00,9,   -999.0,9,   -999.0,9,   2292.7,2,   1885.4,2,   2309.0,2,     7.38,2,   20.00,  -999.0,-999.0000,-999.000,   25.00,  -999.0,  8.5042,-999.000
    31DSCG94_3,  P18N,   167,  1,    119,   1248,2,19940419,1047,  9.5017,-110.0867, 3489,    596.7,   7.3008,  34.5598,2,  34.5607,2,      2.6,2,      2.0,2,    61.69,2,    38.15,2,     0.00,2,     3.12,2,    0.002,2,    0.002,2, -999.000,9, -999.000,9, -999.000,9,-999.0000,9,  -999.00,9,   -999.0,9,   -999.0,9,   2311.4,2,   2000.1,2,   2323.0,2,     7.35,2,   20.00,  -999.0,-999.0000,-999.000,   25.00,  -999.0,  7.2424,-999.000
    31DSCG94_3,  P18N,   167,  1,    118,   1115,2,19940419,1047,  9.5017,-110.0867, 3489,    695.0,   6.3243,  34.5515,2,  34.5536,2,      2.6,2,      4.1,2,    71.51,2,    42.64,2,     0.00,2,     3.19,2, -999.000,9, -999.000,9, -999.000,9, -999.000,9, -999.000,9,-999.0000,9,  -999.00,9,   -999.0,9,   -999.0,9,   2325.0,2,   2043.7,2,   2326.0,2,     7.34,2,   20.00,  -999.0,-999.0000,-999.000,   25.00,  -999.0,  6.2608,-999.000
    31DSCG94_3,  P18N,   167,  1,    117,   1119,2,19940419,1047,  9.5017,-110.0867, 3489,    801.1,   5.7260,  34.5510,2,  34.5520,2,      6.0,2,      7.7,2,    79.38,6,    43.99,6,     0.00,6,     3.24,6,   -0.001,2,    0.001,2, -999.000,9, -999.000,9, -999.000,9,-999.0000,9,  -999.00,9,   -999.0,9,   -999.0,9,   2333.2,2,   2063.6,2,   2351.0,2,     7.34,2,   20.00,  -999.0,-999.0000,-999.000,   25.00,  -999.0,  5.6559,-999.000
    31DSCG94_3,  P18N,   167,  1,    116,   1036,2,19940419,1047,  9.5017,-110.0867, 3489,    896.9,   5.1668,  34.5505,2,  34.5487,2,     14.7,2,     16.2,2,    86.33,2,    45.37,2,     0.00,2,     3.23,2, -999.000,9, -999.000,9, -999.000,9, -999.000,9, -999.000,9,-999.0000,9,  -999.00,9,   -999.0,9,   -999.0,9,   2340.1,2,   2020.7,2,   2346.0,2,     7.35,2,   20.00,  -999.0,-999.0000,-999.000,   25.00,  -999.0,  5.0915,-999.000
    31DSCG94_3,  P18N,   167,  1,    115,   1017,2,19940419,1047,  9.5017,-110.0867, 3489,    997.9,   4.7101,  34.5558,2,  34.5559,2,     23.3,2,     26.6,2,    96.84,2,    44.44,2,     0.00,2,     3.22,2,    0.001,2,    0.001,2, -999.000,9, -999.000,9, -999.000,9,-999.0000,9,  -999.00,9,   -999.0,9,   -999.0,9,   2342.3,2,   1951.5,2,   2355.0,6,     7.39,4,   20.00,  -999.0,-999.0000,-999.000,   25.00,  -999.0,  4.6291,-999.000
    31DSCG94_3,  P18N,   167,  1,    114,   1016,2,19940419,1047,  9.5017,-110.0867, 3489,   1203.2,   4.0164,  34.5740,2,  34.5746,2,     39.2,2,     40.2,2,   114.09,2,    43.36,2,     0.00,2,     3.17,2, -999.000,9, -999.000,9, -999.000,9, -999.000,9, -999.000,9,-999.0000,9,  -999.00,9,   -999.0,9,   -999.0,9,   -999.0,9,   -999.0,9,   -999.0,9,  -999.00,9, -999.00,  -999.0,-999.0000,-999.000, -999.00,  -999.0,  3.9233,-999.000
    31DSCG94_3,  P18N,   167,  1,    113,   1209,2,19940419,1047,  9.5017,-110.0867, 3489,   1400.4,   3.4254,  34.5936,2,  34.5934,2,     54.8,2,     57.6,2,   127.55,2,    42.56,2,     0.00,2,     3.05,2, -999.000,9, -999.000,9, -999.000,9, -999.000,9, -999.000,9,-999.0000,9,  -999.00,9,   -999.0,9,   -999.0,9,   -999.0,9,   -999.0,9,   -999.0,9,     7.42,2, -999.00,  -999.0,-999.0000,-999.000,   25.00,  -999.0,  3.3211,-999.000
    31DSCG94_3,  P18N,   167,  1,    112,   1033,2,19940419,1047,  9.5017,-110.0867, 3489,   1600.4,   2.9787,  34.6074,2,  34.6069,2,     68.7,2,     69.5,2,   135.97,2,    41.70,2,     0.00,2,     2.98,2, -999.000,9, -999.000,9, -999.000,9, -999.000,9, -999.000,9,-999.0000,9,  -999.00,9,   -999.0,9,   -999.0,9,   -999.0,9,   -999.0,9,   -999.0,9,  -999.00,9, -999.00,  -999.0,-999.0000,-999.000, -999.00,  -999.0,  2.8626,-999.000
    31DSCG94_3,  P18N,   167,  1,    111,   1240,2,19940419,1047,  9.5017,-110.0867, 3489,   1804.9,   2.6068,  34.6242,2,  34.6244,2,     80.8,2,     75.7,2,   144.24,2,    41.47,2,     0.00,2,     2.94,2, -999.000,9, -999.000,9, -999.000,9, -999.000,9, -999.000,9,-999.0000,9,  -999.00,9,   -999.0,9,   -999.0,9,   -999.0,9,   -999.0,9,   -999.0,9,     7.46,2, -999.00,  -999.0,-999.0000,-999.000,   25.00,  -999.0,  2.4780,-999.000
    31DSCG94_3,  P18N,   167,  1,    110,   1005,2,19940419,1047,  9.5017,-110.0867, 3489,   1996.9,   2.2819,  34.6409,2,  34.6402,2,     90.8,2,     86.5,2,   150.47,2,    40.48,2,     0.00,2,     2.86,2, -999.000,9, -999.000,9, -999.000,9, -999.000,9, -999.000,9,-999.0000,9,  -999.00,9,   -999.0,9,   -999.0,9,   -999.0,9,   -999.0,9,   -999.0,9,  -999.00,9, -999.00,  -999.0,-999.0000,-999.000, -999.00,  -999.0,  2.1413,-999.000
    31DSCG94_3,  P18N,   167,  1,    109,   1611,2,19940419,1047,  9.5017,-110.0867, 3489,   2199.2,   1.9950,  34.6564,2,  34.6573,2,    101.4,2,     99.2,2,   155.23,2,    39.55,2,     0.00,2,     2.79,2, -999.000,9, -999.000,9, -999.000,9, -999.000,9, -999.000,9,-999.0000,9,  -999.00,9,   -999.0,9,   -999.0,9,   -999.0,9,   -999.0,9,   -999.0,9,     7.50,2, -999.00,  -999.0,-999.0000,-999.000,   25.00,  -999.0,  1.8416,-999.000
    31DSCG94_3,  P18N,   167,  1,    108,   1218,2,19940419,1047,  9.5017,-110.0867, 3489,   2398.9,   1.8985,  34.6623,2,  34.6603,2,    108.4,2,    105.1,2,   156.86,6,    40.22,6,     0.00,6,     2.75,6, -999.000,9, -999.000,9, -999.000,9, -999.000,9, -999.000,9,-999.0000,9,  -999.00,9,   -999.0,9,   -999.0,9,   -999.0,9,   -999.0,9,   -999.0,9,  -999.00,9, -999.00,  -999.0,-999.0000,-999.000, -999.00,  -999.0,  1.7292,-999.000
    31DSCG94_3,  P18N,   167,  1,    107,   1257,2,19940419,1047,  9.5017,-110.0867, 3489,   2599.9,   1.8424,  34.6671,2,  34.6665,2,    112.4,2,    109.0,2,   157.34,2,    40.15,2,     0.00,2,     2.74,2, -999.000,9, -999.000,9, -999.000,9, -999.000,9, -999.000,9,-999.0000,9,  -999.00,9,   -999.0,9,   -999.0,9,   -999.0,9,   -999.0,9,   -999.0,9,     7.52,2, -999.00,  -999.0,-999.0000,-999.000,   25.00,  -999.0,  1.6558,-999.000
    31DSCG94_3,  P18N,   167,  1,    106,   1224,3,19940419,1047,  9.5017,-110.0867, 3489,   2799.2,   1.8086,  34.6696,2,  34.6679,2,    115.2,2,    112.3,2,   155.61,2,    40.37,2,     0.00,2,     2.71,2, -999.000,9, -999.000,9, -999.000,9, -999.000,9, -999.000,9,-999.0000,9,  -999.00,9,   -999.0,9,   -999.0,9,   -999.0,9,   -999.0,9,   -999.0,9,  -999.00,9, -999.00,  -999.0,-999.0000,-999.000, -999.00,  -999.0,  1.6042,-999.000
    31DSCG94_3,  P18N,   167,  1,    105,   1246,2,19940419,1047,  9.5017,-110.0867, 3489,   2998.9,   1.7520,  34.6726,2,  34.6719,2,    120.5,2,    117.9,2,   155.74,6,    39.39,6,     0.00,6,     2.69,6, -999.000,9, -999.000,9, -999.000,9, -999.000,9, -999.000,9,-999.0000,9,  -999.00,9,   -999.0,9,   -999.0,9,   -999.0,9,   -999.0,9,   -999.0,9,     7.54,2, -999.00,  -999.0,-999.0000,-999.000,   25.00,  -999.0,  1.5297,-999.000
    31DSCG94_3,  P18N,   167,  1,    104,   1217,2,19940419,1047,  9.5017,-110.0867, 3489,   3199.2,   1.6975,  34.6758,2,  34.6757,2,    125.9,2,    123.0,2,   162.54,2,    39.12,2,     0.00,2,     2.66,2, -999.000,9, -999.000,9, -999.000,9, -999.000,9, -999.000,9,-999.0000,9,  -999.00,9,   -999.0,9,   -999.0,9,   -999.0,9,   -999.0,9,   -999.0,9,  -999.00,9, -999.00,  -999.0,-999.0000,-999.000, -999.00,  -999.0,  1.4568,-999.000
    31DSCG94_3,  P18N,   167,  1,    102,   1223,2,19940419,1047,  9.5017,-110.0867, 3489,   3398.1,   1.6214,  34.6796,2,  34.6791,2,    132.1,2,    130.3,2,   159.77,2,    38.94,2,     0.00,2,     2.63,2, -999.000,9, -999.000,9, -999.000,9, -999.000,9, -999.000,9,-999.0000,9,  -999.00,9,   -999.0,9,   -999.0,9,   -999.0,9,   -999.0,9,   -999.0,9,  -999.00,9, -999.00,  -999.0,-999.0000,-999.000, -999.00,  -999.0,  1.3626,-999.000
    31DSCG94_3,  P18N,   167,  1,    103,   9999,2,19940419,1047,  9.5017,-110.0867, 3489,   3398.6,   1.6215,  34.6796,2,  34.6792,2,    132.1,2,    130.1,6,   160.88,2,    38.76,2,     0.00,2,     2.62,2, -999.000,9, -999.000,9, -999.000,9, -999.000,9, -999.000,9,-999.0000,9,  -999.00,9,   -999.0,9,   -999.0,9,   -999.0,9,   -999.0,9,   -999.0,9,     7.56,2, -999.00,  -999.0,-999.0000,-999.000,   25.00,  -999.0,  1.3626,-999.000
    31DSCG94_3,  P18N,   167,  1,    101,   1041,2,19940419,1047,  9.5017,-110.0867, 3489,   3510.7,   1.6070,  34.6805,2,  34.6802,2,    134.8,2,    132.1,2,   158.55,6,    38.57,6,     0.00,6,     2.61,6, -999.000,9, -999.000,9, -999.000,9, -999.000,9, -999.000,9,-999.0000,9,  -999.00,9,   -999.0,9,   -999.0,9,   -999.0,9,   -999.0,9,   -999.0,9,     7.56,2, -999.00,  -999.0,-999.0000,-999.000,   25.00,  -999.0,  1.3370,-999.000