BOTTLE,20220630CCHSIOAMB
EXPOCODE,SECT_ID,STNNBR,CASTNO,SAMPNO,BTLNBR,BTLNBR_FLAG_W,DATE,TIME,LATITUDE,LONGITUDE,DEPTH,CTDPRS,CTDTMP,CTDSAL,CTDSAL_FLAG_W,SALNTY,SALNTY_FLAG_W,CTDOXY,CTDOXY_FLAG_W,OXYGEN,OXYGEN_FLAG_W,SILCAT,SILCAT_FLAG_W,NITRAT,NITRAT_FLAG_W,NITRIT,NITRIT_FLAG_W,PHSPHT,PHSPHT_FLAG_W,CFC-11,CFC-11_FLAG_W,CFC-12,CFC-12_FLAG_W,CFC113,CFC113_FLAG_W,CCL4,CCL4_FLAG_W,TRITUM,TRITUM_FLAG_W,HELIUM,HELIUM_FLAG_W,DELHE3,DELHE3_FLAG_W,DELC14,DELC14_FLAG_W,DELC13,DELC13_FLAG_W,TCARBN,TCARBN_FLAG_W,PCO2,PCO2_FLAG_W,ALKALI,ALKALI_FLAG_W,PH,PH_FLAG_W,PCO2TMP,C14ERR,HELIER,DELHER,PH_TMP,C13ERR,THETA,TRITER
,,,,,,,,,,,,DBAR,ITS-90,PSS-78,,PSS-78,,UMOL/KG,,UMOL/KG,,UMOL/KG,,UMOL/KG,,UMOL/KG,,UMOL/KG,,PMOL/KG,,PMOL/KG,,PMOL/KG,,PMOL/KG,,TU,,NMOL/KG,,PERCNT,,/MILLE,,/MILLE,,UMOL/KG,,UATM,,UMOL/KG,,,,DEG C,/MILLE,NMOL/KG,PERCNT,DEG C,/MILLE,DEG C,TU
    31DSCG94_3,  P18N,   139,  1,    135,   1247,2,19940412,0126, -2.0117,-110.3400, 3989,      9.1,  26.1589,  35.0583,2,  35.0809,3,    200.8,2,    199.9,2,     3.96,2,     6.65,2,     0.17,2,     0.66,2,    2.218,4,    0.984,2, -999.000,9, -999.000,9, -999.000,9,-999.0000,9,  -999.00,9,   -999.0,9,   -999.0,9,   2039.8,2,    378.2,2,   2306.0,2,     7.99,2,   20.00,  -999.0,-999.0000,-999.000,   25.00,  -999.0, 26.1569,-999.000
    31DSCG94_3,  P18N,   139,  1,    136,   1025,2,19940412,0126, -2.0117,-110.3400, 3989,      9.7,  26.2690,  35.0659,2,  34.6914,4,    200.8,2,    201.3,6,     3.96,2,     6.62,2,     0.18,2,     0.63,2,    2.014,4,    0.991,2, -999.000,9, -999.000,9, -999.000,9,-999.0000,9,  -999.00,9,   -999.0,9,      1.3,2,   2038.3,2,    376.6,2,   2302.0,2,     7.99,2,   20.00,  -999.0,-999.0000,-999.000,   25.00,  -999.0, 26.2668,-999.000
    31DSCG94_3,  P18N,   139,  1,    134,   1216,2,19940412,0126, -2.0117,-110.3400, 3989,     23.6,  22.0793,  35.0416,2,  35.0697,3,    198.4,2,    145.6,2,     8.34,2,    13.37,2,     0.33,2,     1.08,2,    1.397,2,    0.761,2, -999.000,9, -999.000,9,    0.694,2,   1.7866,2,     2.10,2,   -999.0,9,   -999.0,9,   -999.0,9,   -999.0,9,   -999.0,9,     7.86,2, -999.00,  -999.0,-999.0000,-999.000,   25.00,  -999.0, 22.0746,   0.007
    31DSCG94_3,  P18N,   139,  1,    133,   1244,2,19940412,0126, -2.0117,-110.3400, 3989,     49.6,  15.7678,  35.0987,2,  35.1055,2,     99.1,2,     81.7,2,    13.95,2,    21.16,2,     0.35,2,     1.56,2,    1.002,2,    0.535,2, -999.000,9, -999.000,9, -999.000,9,-999.0000,9,  -999.00,9,   -999.0,9,   -999.0,9,   -999.0,9,   -999.0,9,   -999.0,9,     7.71,2, -999.00,  -999.0,-999.0000,-999.000,   25.00,  -999.0, 15.7601,-999.000
    31DSCG94_3,  P18N,   139,  1,    132,   1003,3,19940412,0126, -2.0117,-110.3400, 3989,     74.7,  14.1864,  35.0193,2,  35.0101,2,     76.7,2,     76.7,2,    16.89,2,    22.85,2,     0.38,2,     1.66,2,    0.782,2,    0.429,2, -999.000,9, -999.000,9,    0.501,2,   1.7987,2,     4.46,2,   -999.0,9,   -999.0,9,   -999.0,9,   -999.0,9,   -999.0,9,  -999.00,9, -999.00,  -999.0,-999.0000,-999.000, -999.00,  -999.0, 14.1755,   0.006
    31DSCG94_3,  P18N,   139,  1,    131,   1211,2,19940412,0126, -2.0117,-110.3400, 3989,    100.1,  13.3341,  34.9331,2,  34.9308,2,     82.4,2,     83.3,2,    18.57,2,    23.73,2,     0.07,2,     1.66,2,    0.739,6,    0.403,6, -999.000,9, -999.000,9, -999.000,9,-999.0000,9,  -999.00,9,   -999.0,9,   -999.0,9,   -999.0,9,   -999.0,9,   -999.0,9,  -999.00,9, -999.00,  -999.0,-999.0000,-999.000, -999.00,  -999.0, 13.3202,-999.000
    31DSCG94_3,  P18N,   139,  1,    130,   1241,2,19940412,0126, -2.0117,-110.3400, 3989,    124.5,  13.1049,  34.9166,2,  34.9154,2,     72.3,2,     65.7,2,    20.25,2,    25.87,2,     0.00,2,     1.79,2,    0.644,2,    0.348,2, -999.000,9, -999.000,9, -999.000,9,   1.7884,2,     5.02,2,   -999.0,9,   -999.0,9,   -999.0,9,   -999.0,9,   -999.0,9,     7.63,2, -999.00,  -999.0,-999.0000,-999.000,   25.00,  -999.0, 13.0877,-999.000
    31DSCG94_3,  P18N,   139,  1,    129,   1240,2,19940412,0126, -2.0117,-110.3400, 3989,    147.8,  13.0075,  34.9085,2,  34.9083,2,     67.4,2,     72.4,2,    20.16,2,    25.36,2,     0.00,2,     1.76,2,    0.653,2,    0.358,2, -999.000,9, -999.000,9, -999.000,9,-999.0000,9,  -999.00,9,   -999.0,9,   -999.0,9,   -999.0,9,   -999.0,9,   -999.0,9,     7.65,2, -999.00,  -999.0,-999.0000,-999.000,   25.00,  -999.0, 12.9872,-999.000
    31DSCG94_3,  P18N,   139,  1,    128,   1032,3,19940412,0126, -2.0117,-110.3400, 3989,    171.6,  12.9615,  34.9109,2,  34.9106,2,     71.7,2,     50.9,2,    21.66,2,    27.95,2,     0.00,2,     1.91,2,    0.563,2,    0.316,4, -999.000,9, -999.000,9,    0.450,2,   1.7987,2,     5.21,2,   -999.0,9,   -999.0,9,   -999.0,9,   -999.0,9,   -999.0,9,     7.60,2, -999.00,  -999.0,-999.0000,-999.000,   25.00,  -999.0, 12.9380,   0.006
    31DSCG94_3,  P18N,   139,  1,    127,   1008,2,19940412,0126, -2.0117,-110.3400, 3989,    199.1,  12.8605,  34.9093,2,  34.9085,2,     66.7,2,     32.9,2,    22.91,2,    29.67,2,     0.00,2,     2.06,2,    0.469,6,    0.266,2, -999.000,9, -999.000,9,    0.436,2,   1.7982,2,     5.19,2,   -999.0,9,   -999.0,9,   -999.0,9,   -999.0,9,   -999.0,9,     7.55,2, -999.00,  -999.0,-999.0000,-999.000,   25.00,  -999.0, 12.8334,   0.006
    31DSCG94_3,  P18N,   139,  1,    126,   1007,2,19940412,0126, -2.0117,-110.3400, 3989,    248.8,  12.6476,  34.8955,2,  34.8951,2,     44.5,2,     35.8,2,    23.25,2,    29.74,2,     0.00,2,     2.05,2,    0.435,2,    0.244,2, -999.000,9, -999.000,9,    0.394,2,   1.7947,2,     5.32,2,   -999.0,9,   -999.0,9,   -999.0,9,   -999.0,9,   -999.0,9,     7.55,2, -999.00,  -999.0,-999.0000,-999.000,   25.00,  -999.0, 12.6139,   0.006
    31DSCG94_3,  P18N,   139,  1,    125,   1256,2,19940412,0126, -2.0117,-110.3400, 3989,    281.7,  12.3490,  34.8791,2,  34.8787,2,     31.3,2,     14.1,2,    25.75,2,    32.11,2,     0.00,2,     2.24,2, -999.000,5, -999.000,5, -999.000,9, -999.000,9, -999.000,9,-999.0000,9,  -999.00,9,   -999.0,9,   -999.0,9,   2241.7,2,   1367.6,2,   2295.0,2,     7.50,2,   20.00,  -999.0,-999.0000,-999.000,   25.00,  -999.0, 12.3115,-999.000
    31DSCG94_3,  P18N,   139,  1,    123,   1220,2,19940412,0126, -2.0117,-110.3400, 3989,    349.8,  11.0098,  34.8039,2,  34.8029,2,     11.4,2,      6.8,2,    31.10,2,    33.66,2,     0.00,2,     2.47,2,    0.124,6,    0.072,6, -999.000,9, -999.000,9,    0.153,2,   1.8005,2,     4.64,2,   -999.0,9,   -999.0,9,   -999.0,9,   -999.0,9,   -999.0,9,     7.43,2, -999.00,  -999.0,-999.0000,-999.000,   25.00,  -999.0, 10.9664,   0.004
    31DSCG94_3,  P18N,   139,  1,    122,   1245,2,19940412,0126, -2.0117,-110.3400, 3989,    399.8,   9.8500,  34.7334,2,  34.7303,2,      5.7,2,      3.5,2,    37.37,2,    35.64,2,     0.00,2,     2.67,2,    0.042,2,    0.023,2, -999.000,9, -999.000,9,    0.057,2,   1.8205,2,     5.23,2,   -999.0,9,   -999.0,9,   -999.0,9,   -999.0,9,   -999.0,9,     7.40,2, -999.00,  -999.0,-999.0000,-999.000,   25.00,  -999.0,  9.8038,   0.004
    31DSCG94_3,  P18N,   139,  1,    121,   1206,2,19940412,0126, -2.0117,-110.3400, 3989,    498.5,   8.0260,  34.6327,2,  34.6289,2,     13.5,2,     26.1,2,    44.70,2,    39.91,2,     0.00,2,     2.72,2,    0.021,2,    0.010,2, -999.000,9, -999.000,9,    0.029,2,   1.7947,2,     7.43,2,   -999.0,9,   -999.0,9,   -999.0,9,   -999.0,9,   -999.0,9,     7.41,2, -999.00,  -999.0,-999.0000,-999.000,   25.00,  -999.0,  7.9747,   0.004
    31DSCG94_3,  P18N,   139,  1,    120,   1028,2,19940412,0126, -2.0117,-110.3400, 3989,    600.7,   6.9194,  34.5759,2,  34.5774,2,     47.3,2,     56.1,2,    48.89,2,    39.34,2,     0.00,2,     2.67,2,    0.021,2,    0.013,2, -999.000,9, -999.000,9,    0.019,2,   1.8009,2,     9.21,2,   -999.0,9,   -999.0,9,   -999.0,9,   -999.0,9,   -999.0,9,     7.45,2, -999.00,  -999.0,-999.0000,-999.000,   25.00,  -999.0,  6.8623,   0.004
    31DSCG94_3,  P18N,   139,  1,    119,   1248,2,19940412,0126, -2.0117,-110.3400, 3989,    700.3,   6.0394,  34.5550,2,  34.5552,2,     61.2,2,     62.6,6,    58.65,2,    40.07,2,     0.00,2,     2.75,2,    0.005,2,   -0.002,2, -999.000,9, -999.000,9, -999.000,9,   1.8196,2,    11.56,2,   -999.0,9,   -999.0,9,   -999.0,9,   -999.0,9,   -999.0,9,     7.45,2, -999.00,  -999.0,-999.0000,-999.000,   25.00,  -999.0,  5.9769,-999.000
    31DSCG94_3,  P18N,   139,  1,    118,   1115,2,19940412,0126, -2.0117,-110.3400, 3989,    797.9,   5.5539,  34.5479,2,  34.5493,2,     66.8,2,     69.5,2,    66.13,2,    40.20,2,     0.00,2,     2.75,2,    0.003,2,    0.000,2, -999.000,9, -999.000,9,    0.011,2,-999.0000,9,  -999.00,9,   -999.0,9,   -999.0,9,   -999.0,9,   -999.0,9,   -999.0,9,     7.46,2, -999.00,  -999.0,-999.0000,-999.000,   25.00,  -999.0,  5.4851,   0.003
    31DSCG94_3,  P18N,   139,  1,    117,   1119,2,19940412,0126, -2.0117,-110.3400, 3989,    899.6,   5.0017,  34.5526,2,  34.5544,2,     66.3,2,     69.9,2,    78.04,2,    40.30,2,     0.00,2,     2.83,2,    0.006,2,    0.017,2, -999.000,9, -999.000,9, -999.000,9,-999.0000,9,  -999.00,9,   -999.0,9,   -999.0,9,   -999.0,9,   -999.0,9,   -999.0,9,     7.45,2, -999.00,  -999.0,-999.0000,-999.000,   25.00,  -999.0,  4.9273,-999.000
    31DSCG94_3,  P18N,   139,  1,    116,   1036,2,19940412,0126, -2.0117,-110.3400, 3989,    998.7,   4.5655,  34.5582,2,  34.5601,2,     71.3,2,     72.9,2,    87.43,2,    39.83,2,     0.00,2,     2.84,2, -999.000,9, -999.000,9, -999.000,9, -999.000,9,    0.007,2,   1.8937,2,    17.19,2,   -999.0,9,   -999.0,9,   -999.0,9,   -999.0,9,   -999.0,9,     7.46,2, -999.00,  -999.0,-999.0000,-999.000,   25.00,  -999.0,  4.4855,   0.003
    31DSCG94_3,  P18N,   139,  1,    115,   1017,2,19940412,0126, -2.0117,-110.3400, 3989,   1100.2,   4.1040,  34.5636,2,  34.5644,2,     80.5,2,     82.2,2,    95.54,2,    39.74,2,     0.00,2,     2.80,2,   -0.001,2,   -0.002,2, -999.000,9, -999.000,9, -999.000,9,-999.0000,9,  -999.00,9,   -999.0,9,   -999.0,9,   -999.0,9,   -999.0,9,   -999.0,9,  -999.00,9, -999.00,  -999.0,-999.0000,-999.000, -999.00,  -999.0,  4.0189,-999.000
    31DSCG94_3,  P18N,   139,  1,    114,   1016,2,19940412,0126, -2.0117,-110.3400, 3989,   1198.7,   3.7640,  34.5741,2,  34.5765,2,     83.8,2,     86.1,2,   102.04,2,    40.46,2,     0.00,2,     2.81,2, -999.000,9, -999.000,9, -999.000,9, -999.000,9,    0.003,2,-999.0000,9,  -999.00,9,   -999.0,9,   -999.0,9,   -999.0,9,   -999.0,9,   -999.0,9,  -999.00,9, -999.00,  -999.0,-999.0000,-999.000, -999.00,  -999.0,  3.6735,   0.003
    31DSCG94_3,  P18N,   139,  1,    113,   1209,2,19940412,0126, -2.0117,-110.3400, 3989,   1400.2,   3.2759,  34.5934,2,  34.5942,2,     90.1,2,     86.6,6,   114.00,2,    39.78,2,     0.00,2,     2.82,2,    0.014,2,    0.000,2, -999.000,9, -999.000,9, -999.000,9,-999.0000,9,  -999.00,9,   -999.0,9,   -999.0,9,   -999.0,9,   -999.0,9,   -999.0,9,  -999.00,9, -999.00,  -999.0,-999.0000,-999.000, -999.00,  -999.0,  3.1733,-999.000
    31DSCG94_3,  P18N,   139,  1,    112,   1033,2,19940412,0126, -2.0117,-110.3400, 3989,   1599.1,   2.9103,  34.6071,2,  34.6084,2,    103.2,2,     95.5,2,   122.00,2,    39.44,2,     0.00,2,     2.78,2, -999.000,9, -999.000,9, -999.000,9, -999.000,9, -999.000,9,-999.0000,9,  -999.00,9,   -999.0,9,   -999.0,9,   -999.0,9,   -999.0,9,   -999.0,9,  -999.00,9, -999.00,  -999.0,-999.0000,-999.000, -999.00,  -999.0,  2.7951,-999.000
    31DSCG94_3,  P18N,   139,  1,    111,   1240,2,19940412,0126, -2.0117,-110.3400, 3989,   1799.8,   2.5466,  34.6271,2,  34.6276,2,    111.1,2,     99.0,2,   134.31,2,    39.25,2,     0.00,2,     2.75,2,    0.000,2,   -0.002,2, -999.000,9, -999.000,9, -999.000,9,-999.0000,9,  -999.00,9,   -999.0,9,   -999.0,9,   -999.0,9,   -999.0,9,   -999.0,9,  -999.00,9, -999.00,  -999.0,-999.0000,-999.000, -999.00,  -999.0,  2.4191,-999.000
    31DSCG94_3,  P18N,   139,  1,    110,   1005,2,19940412,0126, -2.0117,-110.3400, 3989,   1998.1,   2.2680,  34.6437,2,  34.6442,2,    115.2,2,    104.0,2,   144.47,2,    38.56,2,     0.00,2,     2.71,2, -999.000,9, -999.000,9, -999.000,9, -999.000,9, -999.000,9,-999.0000,9,  -999.00,9,   -999.0,9,   -999.0,9,   -999.0,9,   -999.0,9,   -999.0,9,  -999.00,9, -999.00,  -999.0,-999.0000,-999.000, -999.00,  -999.0,  2.1275,-999.000
    31DSCG94_3,  P18N,   139,  1,    109,   1611,2,19940412,0126, -2.0117,-110.3400, 3989,   2250.4,   2.0416,  34.6556,2,  34.6556,2,    119.5,2,    111.7,6,   149.05,2,    38.22,2,     0.00,2,     2.67,2, -999.000,9, -999.000,9, -999.000,9, -999.000,9, -999.000,9,-999.0000,9,  -999.00,9,   -999.0,9,   -999.0,9,   -999.0,9,   -999.0,9,   -999.0,9,  -999.00,9, -999.00,  -999.0,-999.0000,-999.000, -999.00,  -999.0,  1.8829,-999.000
    31DSCG94_3,  P18N,   139,  1,    108,   1218,2,19940412,0126, -2.0117,-110.3400, 3989,   2446.3,   1.8820,  34.6614,2,  34.6614,2,    125.8,2,    124.6,2,   145.87,2,    37.11,2,     0.00,2,     2.59,2, -999.000,9, -999.000,9, -999.000,9, -999.000,9, -999.000,9,-999.0000,9,  -999.00,9,   -999.0,9,   -999.0,9,   -999.0,9,   -999.0,9,   -999.0,9,  -999.00,9, -999.00,  -999.0,-999.0000,-999.000, -999.00,  -999.0,  1.7087,-999.000
    31DSCG94_3,  P18N,   139,  1,    107,   1257,2,19940412,0126, -2.0117,-110.3400, 3989,   2749.2,   1.7398,  34.6691,2,  34.6699,2,    134.8,2,    134.1,2,   144.57,2,    36.90,2,     0.00,2,     2.55,2,   -0.001,2,   -0.002,2, -999.000,9, -999.000,9, -999.000,9,-999.0000,9,  -999.00,9,   -999.0,9,   -999.0,9,   -999.0,9,   -999.0,9,   -999.0,9,  -999.00,9, -999.00,  -999.0,-999.0000,-999.000, -999.00,  -999.0,  1.5415,-999.000
    31DSCG94_3,  P18N,   139,  1,    106,   1224,2,19940412,0126, -2.0117,-110.3400, 3989,   3002.8,   1.6517,  34.6730,2,  34.6729,2,    139.7,2,    139.7,2,   143.90,2,    36.71,2,     0.00,2,     2.52,2, -999.000,9, -999.000,9, -999.000,9, -999.000,9, -999.000,9,-999.0000,9,  -999.00,9,   -999.0,9,   -999.0,9,   -999.0,9,   -999.0,9,   -999.0,9,  -999.00,9, -999.00,  -999.0,-999.0000,-999.000, -999.00,  -999.0,  1.4313,-999.000
    31DSCG94_3,  P18N,   139,  1,    105,   1246,2,19940412,0126, -2.0117,-110.3400, 3989,   3249.5,   1.5889,  34.6782,2,  34.6791,2,    143.9,2,    144.0,6,   147.54,2,    36.67,2,     0.00,2,     2.48,2,    0.000,2,   -0.002,2, -999.000,9, -999.000,9, -999.000,9,-999.0000,9,  -999.00,9,   -999.0,9,   -999.0,9,   -999.0,9,   -999.0,9,   -999.0,9,  -999.00,9, -999.00,  -999.0,-999.0000,-999.000, -999.00,  -999.0,  1.3458,-999.000
    31DSCG94_3,  P18N,   139,  1,    104,   1217,2,19940412,0126, -2.0117,-110.3400, 3989,   3488.3,   1.5235,  34.6849,2,  34.6849,2,    147.5,2,    151.3,2,   149.20,2,    35.98,2,     0.00,2,     2.45,2, -999.000,9, -999.000,9, -999.000,9, -999.000,9, -999.000,9,-999.0000,9,  -999.00,9,   -999.0,9,   -999.0,9,   -999.0,9,   -999.0,9,   -999.0,9,  -999.00,9, -999.00,  -999.0,-999.0000,-999.000, -999.00,  -999.0,  1.2579,-999.000
    31DSCG94_3,  P18N,   139,  1,    103,   9999,2,19940412,0126, -2.0117,-110.3400, 3989,   3750.6,   1.4526,  34.6899,2,-999.0000,5,    155.6,2,   -999.0,9,  -999.00,9,  -999.00,9,  -999.00,9,  -999.00,9, -999.000,9, -999.000,9, -999.000,9, -999.000,9, -999.000,9,-999.0000,9,  -999.00,9,   -999.0,9,   -999.0,9,   -999.0,9,   -999.0,9,   -999.0,9,  -999.00,9, -999.00,  -999.0,-999.0000,-999.000, -999.00,  -999.0,  1.1616,-999.000
    31DSCG94_3,  P18N,   139,  1,    102,   1223,2,19940412,0126, -2.0117,-110.3400, 3989,   3751.9,   1.4526,  34.6899,2,  34.6901,2,    155.6,2,    158.6,2,   147.89,2,    35.58,2,     0.00,2,     2.41,2,    0.000,2,    0.003,2, -999.000,5, -999.000,5, -999.000,9,-999.0000,9,  -999.00,9,   -999.0,9,   -999.0,9,   -999.0,9,   -999.0,9,   -999.0,9,  -999.00,9, -999.00,  -999.0,-999.0000,-999.000, -999.00,  -999.0,  1.1614,-999.000
    31DSCG94_3,  P18N,   139,  1,    101,   1041,2,19940412,0126, -2.0117,-110.3400, 3989,   4019.5,   1.4732,  34.6905,2,  34.6905,2,    154.3,2,    158.8,6,   147.40,2,    35.28,2,     0.00,2,     2.41,2, -999.000,9, -999.000,9, -999.000,9, -999.000,9, -999.000,9,-999.0000,9,  -999.00,9,   -999.0,9,   -999.0,9,   -999.0,9,   -999.0,9,   -999.0,9,  -999.00,9, -999.00,  -999.0,-999.0000,-999.000, -999.00,  -999.0,  1.1529,-999.000