BOTTLE,20220630CCHSIOAMB
EXPOCODE,SECT_ID,STNNBR,CASTNO,SAMPNO,BTLNBR,BTLNBR_FLAG_W,DATE,TIME,LATITUDE,LONGITUDE,DEPTH,CTDPRS,CTDTMP,CTDSAL,CTDSAL_FLAG_W,SALNTY,SALNTY_FLAG_W,CTDOXY,CTDOXY_FLAG_W,OXYGEN,OXYGEN_FLAG_W,SILCAT,SILCAT_FLAG_W,NITRAT,NITRAT_FLAG_W,NITRIT,NITRIT_FLAG_W,PHSPHT,PHSPHT_FLAG_W,CFC-11,CFC-11_FLAG_W,CFC-12,CFC-12_FLAG_W,CFC113,CFC113_FLAG_W,CCL4,CCL4_FLAG_W,TRITUM,TRITUM_FLAG_W,HELIUM,HELIUM_FLAG_W,DELHE3,DELHE3_FLAG_W,DELC14,DELC14_FLAG_W,DELC13,DELC13_FLAG_W,TCARBN,TCARBN_FLAG_W,PCO2,PCO2_FLAG_W,ALKALI,ALKALI_FLAG_W,PH,PH_FLAG_W,PCO2TMP,C14ERR,HELIER,DELHER,PH_TMP,C13ERR,THETA,TRITER
,,,,,,,,,,,,DBAR,ITS-90,PSS-78,,PSS-78,,UMOL/KG,,UMOL/KG,,UMOL/KG,,UMOL/KG,,UMOL/KG,,UMOL/KG,,PMOL/KG,,PMOL/KG,,PMOL/KG,,PMOL/KG,,TU,,NMOL/KG,,PERCNT,,/MILLE,,/MILLE,,UMOL/KG,,UATM,,UMOL/KG,,,,DEG C,/MILLE,NMOL/KG,PERCNT,DEG C,/MILLE,DEG C,TU
    31DSCG94_2,  P18S,    69,  1,    136,   1025,2,19940318,0953,-35.0000,-103.0000, 3600,     11.2,  20.3362,  34.0774,2,  34.0775,2,    228.1,2,    229.5,2,     0.38,2,     1.83,2,     0.01,2,     0.23,2,    2.357,2,    1.258,2, -999.000,9, -999.000,9,    0.499,2,   1.7929,2,    -0.97,2,   -999.0,9,      1.9,2,   1996.7,2,    370.9,2,   2252.0,6,     7.99,2,   20.00,  -999.0,-999.0000,-999.000,   25.00,  -999.0, 20.3341,   0.006
    31DSCG94_2,  P18S,    69,  1,    135,   1247,2,19940318,0953,-35.0000,-103.0000, 3600,     24.3,  20.3411,  34.0754,2,  34.0776,2,    233.8,2,    229.6,2,     0.66,2,     1.59,2,     0.03,2,     0.26,2, -999.000,9, -999.000,9, -999.000,9, -999.000,9, -999.000,9,-999.0000,9,  -999.00,9,   -999.0,9,   -999.0,9,   1994.9,2,    370.5,2,   2252.0,2,     7.99,2,   20.00,  -999.0,-999.0000,-999.000,   25.00,  -999.0, 20.3366,-999.000
    31DSCG94_2,  P18S,    69,  1,    134,   1108,2,19940318,0953,-35.0000,-103.0000, 3600,     49.6,  16.3034,  34.1488,2,  34.1493,2,    271.9,2,    274.0,2,     0.24,2,     0.31,2,     0.01,2,     0.19,2,    3.031,2,    1.600,2, -999.000,9, -999.000,9,    0.549,2,   1.7884,2,    -1.57,2,   -999.0,9,   -999.0,9,   1997.7,2,    370.0,2,   2255.0,2,     7.99,2,   20.00,  -999.0,-999.0000,-999.000,   25.00,  -999.0, 16.2955,   0.007
    31DSCG94_2,  P18S,    69,  1,    133,   1244,2,19940318,0953,-35.0000,-103.0000, 3600,     77.7,  14.4624,  34.1393,2,  34.1384,2,    262.3,2,    263.3,2,     0.25,2,     1.43,2,     0.03,2,     0.23,2, -999.000,9, -999.000,9, -999.000,9, -999.000,9, -999.000,9,-999.0000,9,  -999.00,9,   -999.0,9,   -999.0,9,   2010.9,2,   -999.0,9,   -999.0,5,     7.96,2, -999.00,  -999.0,-999.0000,-999.000,   25.00,  -999.0, 14.4511,-999.000
    31DSCG94_2,  P18S,    69,  1,    132,   1003,2,19940318,0953,-35.0000,-103.0000, 3600,    102.3,  13.3886,  34.1098,2,  34.1130,2,    253.1,2,    253.9,2,     0.90,2,     3.21,2,     0.14,2,     0.39,2,    3.143,2,    1.643,2, -999.000,9, -999.000,9,    0.515,2,   1.6439,2,    -1.06,2,   -999.0,9,   -999.0,9,   2025.4,2,    434.0,2,   2254.0,2,     7.94,2,   20.00,  -999.0,-999.0000,-999.000,   25.00,  -999.0, 13.3744,   0.006
    31DSCG94_2,  P18S,    69,  1,    131,   1211,2,19940318,0953,-35.0000,-103.0000, 3600,    120.6,  12.9702,  34.1661,2,  34.1695,2,    252.0,2,    247.9,2,     0.65,2,     4.58,2,     0.27,2,     0.50,2, -999.000,9, -999.000,9, -999.000,9, -999.000,9, -999.000,9,-999.0000,9,  -999.00,9,   -999.0,9,   -999.0,9,   2039.3,2,    451.6,2,   2259.0,2,     7.92,2,   20.00,  -999.0,-999.0000,-999.000,   25.00,  -999.0, 12.9538,-999.000
    31DSCG94_2,  P18S,    69,  1,    130,   1241,2,19940318,0953,-35.0000,-103.0000, 3600,    149.7,  12.3172,  34.3585,2,  34.3574,2,    236.1,2,    231.6,2,     1.13,2,     7.84,2,     0.29,2,     0.75,2,    3.109,2,    1.571,2, -999.000,9, -999.000,9, -999.000,5,   1.7608,2,    -0.99,2,   -999.0,9,   -999.0,9,   2067.3,2,    510.8,2,   2257.0,3,     7.87,2,   20.00,  -999.0,-999.0000,-999.000,   25.00,  -999.0, 12.2975,-999.000
    31DSCG94_2,  P18S,    69,  1,    129,   1031,2,19940318,0953,-35.0000,-103.0000, 3600,    198.1,  11.0253,  34.4022,2,  34.4054,2,    225.7,2,    223.4,2,     1.67,2,    11.85,2,     0.01,2,     0.94,2, -999.000,9, -999.000,9, -999.000,9, -999.000,9, -999.000,9,-999.0000,9,  -999.00,9,   -999.0,9,   -999.0,9,   2089.4,2,    579.8,2,   2275.0,2,     7.83,2,   20.00,  -999.0,-999.0000,-999.000,   25.00,  -999.0, 11.0010,-999.000
    31DSCG94_2,  P18S,    69,  1,    128,   1210,2,19940318,0953,-35.0000,-103.0000, 3600,    249.4,   9.3276,  34.3767,2,  34.3758,2,    224.3,2,    219.5,2,     3.51,2,    16.44,2,     0.00,2,     1.26,2,    2.368,2,    1.148,2, -999.000,9, -999.000,9,    0.321,2,   1.7692,2,    -0.07,2,   -999.0,9,   -999.0,9,   2112.1,3,    660.5,2,   2268.0,2,     7.78,2,   20.00,  -999.0,-999.0000,-999.000,   25.00,  -999.0,  9.3000,   0.005
    31DSCG94_2,  P18S,    69,  1,    127,   1008,2,19940318,0953,-35.0000,-103.0000, 3600,    298.6,   7.9951,  34.3259,2,  34.3267,2,    227.3,2,    229.2,2,     4.57,2,    19.25,2,     0.00,2,     1.43,2, -999.000,9, -999.000,9, -999.000,9, -999.000,9, -999.000,9,-999.0000,9,  -999.00,9,   -999.0,9,   -999.0,9,   2125.9,3,    704.1,2,   2271.0,2,     7.75,2,   20.00,  -999.0,-999.0000,-999.000,   25.00,  -999.0,  7.9650,-999.000
    31DSCG94_2,  P18S,    69,  1,    126,   1007,2,19940318,0953,-35.0000,-103.0000, 3600,    348.9,   7.1182,  34.3292,2,  34.3291,2,    236.1,2,    237.4,2,     6.17,2,    20.94,2,     0.00,2,     1.52,2,    2.293,6,    1.104,6, -999.000,9, -999.000,9,    0.249,2,   1.8076,2,     0.06,2,   -999.0,9,   -999.0,9,   2130.9,3,    729.6,3,   2277.0,2,     7.74,2,   20.00,  -999.0,-999.0000,-999.000,   25.00,  -999.0,  7.0852,   0.005
    31DSCG94_2,  P18S,    69,  1,    125,   1203,3,19940318,0953,-35.0000,-103.0000, 3600,    396.6,   6.7652,  34.3358,2,  34.3358,2,    238.2,2,    243.2,2,     7.02,2,    21.52,2,     0.00,2,     1.55,2,    2.185,2,    1.049,2, -999.000,9, -999.000,9,    0.245,2,   1.7799,2,    -0.07,2,   -999.0,9,   -999.0,9,   2132.5,3,    731.8,2,   2279.0,2,     7.74,2,   20.00,  -999.0,-999.0000,-999.000,   25.00,  -999.0,  6.7286,   0.005
    31DSCG94_2,  P18S,    69,  1,    123,   1101,2,19940318,0953,-35.0000,-103.0000, 3600,    496.9,   6.2810,  34.3229,2,  34.3231,2,    246.7,2,    249.4,2,     8.16,2,    22.59,2,     0.00,2,     1.58,2,    1.824,2,    0.893,2, -999.000,9, -999.000,9,    0.220,2,   1.7947,2,     0.35,2,   -999.0,9,   -999.0,9,   2133.8,3,    741.2,3,   2277.0,2,     7.74,2,   20.00,  -999.0,-999.0000,-999.000,   25.00,  -999.0,  6.2367,   0.005
    31DSCG94_2,  P18S,    69,  1,    121,   1206,2,19940318,0953,-35.0000,-103.0000, 3600,    596.5,   5.8786,  34.2979,2,  34.2975,2,    245.5,2,    249.2,2,     9.59,2,    23.75,2,     0.00,2,     1.69,2,    1.392,2,    0.697,2, -999.000,9, -999.000,9,    0.183,2,   1.7947,2,     0.24,2,   -999.0,9,   -999.0,9,   2141.0,3,    753.1,3,   2285.0,2,     7.73,2,   20.00,  -999.0,-999.0000,-999.000,   25.00,  -999.0,  5.8268,   0.004
    31DSCG94_2,  P18S,    69,  1,    119,   1248,2,19940318,0953,-35.0000,-103.0000, 3600,    699.4,   5.4906,  34.2784,2,  34.2784,2,    239.2,2,    244.2,2,    11.67,2,    25.01,2,     0.01,2,     1.80,2,    0.922,2,    0.477,2, -999.000,9, -999.000,9,    0.151,2,   1.8000,2,     0.60,2,   -999.0,9,   -999.0,9,   2144.9,3,    773.6,2,   2284.0,2,     7.72,2,   20.00,  -999.0,-999.0000,-999.000,   25.00,  -999.0,  5.4315,   0.005
    31DSCG94_2,  P18S,    69,  1,    118,   1207,2,19940318,0953,-35.0000,-103.0000, 3600,    798.1,   5.0683,  34.2669,2,  34.2670,2,    230.5,2,    232.4,2,    15.84,2,    26.89,2,     0.00,2,     1.90,2,    0.567,2,    0.302,2, -999.000,9, -999.000,9,    0.105,2,   1.7969,2,     0.97,2,   -999.0,9,   -999.0,9,   2156.5,3,    831.0,2,   2273.0,2,     7.69,2,   20.00,  -999.0,-999.0000,-999.000,   25.00,  -999.0,  5.0028,   0.004
    31DSCG94_2,  P18S,    69,  1,    117,   1119,2,19940318,0953,-35.0000,-103.0000, 3600,    899.0,   4.6000,  34.2774,2,  34.2776,2,    212.9,2,    212.6,2,    23.25,2,    29.54,2,     0.00,2,     2.01,2,    0.256,6,    0.146,6, -999.000,9, -999.000,9,    0.051,2,   1.8067,2,     1.56,2,   -999.0,9,   -999.0,9,   2177.1,3,    930.0,2,   2284.0,2,     7.65,2,   20.00,  -999.0,-999.0000,-999.000,   25.00,  -999.0,  4.5288,   0.004
    31DSCG94_2,  P18S,    69,  1,    116,   1036,2,19940318,0953,-35.0000,-103.0000, 3600,    995.5,   4.1527,  34.3091,2,  34.3091,2,    194.5,2,    192.9,2,    32.94,2,    31.97,2,     0.01,2,     2.30,2,    0.102,2,    0.061,2, -999.000,9, -999.000,9,    0.026,2,   1.8152,2,     3.16,2,   -999.0,9,   -999.0,9,   2198.3,2,   1020.2,2,   2298.0,6,     7.61,2,   20.00,  -999.0,-999.0000,-999.000,   25.00,  -999.0,  4.0766,   0.003
    31DSCG94_2,  P18S,    69,  1,    115,   1017,2,19940318,0953,-35.0000,-103.0000, 3600,   1098.8,   3.7405,  34.3629,2,  34.3620,2,    173.8,2,    169.2,2,    45.86,2,    34.07,2,     0.01,2,     2.48,2, -999.000,9, -999.000,9, -999.000,9, -999.000,9, -999.000,9,-999.0000,9,  -999.00,9,   -999.0,9,   -999.0,9,   2225.5,2,   1150.2,2,   2304.0,2,     7.57,2,   20.00,  -999.0,-999.0000,-999.000,   25.00,  -999.0,  3.6590,-999.000
    31DSCG94_2,  P18S,    69,  1,    114,   1016,2,19940318,0953,-35.0000,-103.0000, 3600,   1204.0,   3.4945,  34.4232,2,  34.4208,2,    153.3,2,    147.6,2,    59.58,2,    35.85,2,     0.00,2,     2.58,2,    0.001,2,    0.003,2, -999.000,9, -999.000,9,    0.010,2,   1.8460,2,     9.12,2,   -999.0,9,   -999.0,9,   2248.7,2,   1245.7,2,   2321.0,2,     7.54,2,   20.00,  -999.0,-999.0000,-999.000,   25.00,  -999.0,  3.4063,   0.003
    31DSCG94_2,  P18S,    69,  1,    113,   1209,2,19940318,0953,-35.0000,-103.0000, 3600,   1298.5,   3.3220,  34.4775,2,  34.5024,4,    136.0,2,    131.8,2,    73.18,2,    37.00,2,     0.00,2,     2.66,2, -999.000,9, -999.000,9, -999.000,9, -999.000,9, -999.000,9,-999.0000,9,  -999.00,9,   -999.0,9,   -999.0,9,   2270.6,2,   1333.0,2,   2339.0,2,     7.52,2,   20.00,  -999.0,-999.0000,-999.000,   25.00,  -999.0,  3.2276,-999.000
    31DSCG94_2,  P18S,    69,  1,    112,   1033,2,19940318,0953,-35.0000,-103.0000, 3600,   1396.9,   3.1615,  34.5110,2,  34.5105,2,    129.9,2,    127.5,2,    81.05,2,    37.09,2,     0.00,2,     2.70,2, -999.000,9, -999.000,9, -999.000,9, -999.000,9, -999.000,9,-999.0000,9,  -999.00,9,   -999.0,9,   -999.0,9,   2280.6,2,   1341.4,2,   2344.0,2,     7.52,2,   20.00,  -999.0,-999.0000,-999.000,   25.00,  -999.0,  3.0606,-999.000
    31DSCG94_2,  P18S,    69,  1,    111,   1263,2,19940318,0953,-35.0000,-103.0000, 3600,   1599.5,   2.7880,  34.5588,2,  34.5581,2,    133.2,2,    134.2,2,    91.19,2,    36.89,2,     0.00,2,     2.65,2,    0.000,2,    0.000,2, -999.000,9, -999.000,9,    0.005,2,   1.8852,2,    18.66,2,   -999.0,9,   -999.0,9,   2286.5,2,   1309.9,2,   2353.0,2,     7.53,2,   20.00,  -999.0,-999.0000,-999.000,   25.00,  -999.0,  2.6744,   0.003
    31DSCG94_2,  P18S,    69,  1,    110,   1005,2,19940318,0953,-35.0000,-103.0000, 3600,   1800.9,   2.4650,  34.5955,2,  34.5999,3,    142.3,2,    144.0,6,    98.13,2,    35.72,2,     0.01,2,     2.60,2,    0.008,2,    0.003,2, -999.000,9, -999.000,9,    0.004,2,   1.9280,2,    20.61,2,   -999.0,9,   -999.0,9,   2287.5,2,   1254.7,2,   2369.0,2,     7.55,2,   20.00,  -999.0,-999.0000,-999.000,   25.00,  -999.0,  2.3387,   0.003
    31DSCG94_2,  P18S,    69,  1,    109,   1611,2,19940318,0953,-35.0000,-103.0000, 3600,   1996.9,   2.2132,  34.6296,2,  34.6301,2,    152.9,2,    154.4,2,   103.42,2,    35.18,2,     0.00,2,     2.48,2, -999.000,9, -999.000,9, -999.000,9, -999.000,9, -999.000,9,-999.0000,9,  -999.00,9,   -999.0,9,   -999.0,9,   2285.2,2,   1197.8,2,   2367.0,2,     7.57,2,   20.00,  -999.0,-999.0000,-999.000,   25.00,  -999.0,  2.0737,-999.000
    31DSCG94_2,  P18S,    69,  1,    108,   1218,2,19940318,0953,-35.0000,-103.0000, 3600,   2252.4,   1.9806,  34.6622,2,  34.6610,2,    159.0,2,    160.9,2,   110.58,2,    33.85,2,     0.00,2,     2.43,2, -999.000,9, -999.000,9, -999.000,9, -999.000,9, -999.000,9,-999.0000,9,  -999.00,9,   -999.0,9,   -999.0,9,   2287.6,2,   1162.0,2,   2380.0,2,     7.58,2,   20.00,  -999.0,-999.0000,-999.000,   25.00,  -999.0,  1.8227,-999.000
    31DSCG94_2,  P18S,    69,  1,    107,   1257,2,19940318,0953,-35.0000,-103.0000, 3600,   2413.7,   1.8717,  34.6734,2,  34.6724,2,    160.7,2,    163.1,2,   114.25,2,    33.80,2,     0.00,2,     2.41,2, -999.000,9, -999.000,9, -999.000,9, -999.000,9, -999.000,9,-999.0000,9,  -999.00,9,   -999.0,9,   -999.0,9,   2289.3,2,   1149.6,2,   2385.0,2,     7.58,2,   20.00,  -999.0,-999.0000,-999.000,   25.00,  -999.0,  1.7014,-999.000
    31DSCG94_2,  P18S,    69,  1,    106,   1224,2,19940318,0953,-35.0000,-103.0000, 3600,   2502.1,   1.8250,  34.6771,2,  34.6758,2,    162.4,2,    163.9,2,   115.34,2,    33.42,2,     0.00,2,     2.40,2,    0.005,2,    0.000,2, -999.000,9, -999.000,9, -999.000,9,-999.0000,9,  -999.00,9,   -999.0,9,   -999.0,9,   2291.3,2,   1142.0,2,   2382.0,2,     7.59,2,   20.00,  -999.0,-999.0000,-999.000,   25.00,  -999.0,  1.6476,-999.000
    31DSCG94_2,  P18S,    69,  1,    105,   1246,2,19940318,0953,-35.0000,-103.0000, 3600,   2749.6,   1.7551,  34.6836,2,  34.6824,2,    165.4,2,    166.2,2,   116.77,2,    33.29,2,     0.00,2,     2.38,2, -999.000,9, -999.000,9, -999.000,9, -999.000,9, -999.000,9,-999.0000,9,  -999.00,9,   -999.0,9,   -999.0,9,   2292.5,2,   1133.8,2,   2387.0,2,     7.59,2,   20.00,  -999.0,-999.0000,-999.000,   25.00,  -999.0,  1.5564,-999.000
    31DSCG94_2,  P18S,    69,  1,    104,   1217,2,19940318,0953,-35.0000,-103.0000, 3600,   2998.8,   1.7445,  34.6862,2,  34.6854,2,    167.3,2,    167.1,2,   116.72,2,    33.75,2,     0.01,2,     2.42,2, -999.000,9, -999.000,9, -999.000,9, -999.000,9, -999.000,9,-999.0000,9,  -999.00,9,   -999.0,9,   -999.0,9,   2293.0,2,   1123.7,2,   2386.0,2,     7.59,2,   20.00,  -999.0,-999.0000,-999.000,   25.00,  -999.0,  1.5223,-999.000
    31DSCG94_2,  P18S,    69,  1,    102,   1223,2,19940318,0953,-35.0000,-103.0000, 3600,   3249.1,   1.7566,  34.6880,2,  34.6868,2,    168.8,2,    168.3,2,   117.41,2,    33.61,2,     0.00,2,     2.37,2, -999.000,9, -999.000,9, -999.000,9, -999.000,9, -999.000,9,-999.0000,9,  -999.00,9,   -999.0,9,   -999.0,9,   2294.2,2,   1129.1,2,   2386.0,2,     7.59,2,   20.00,  -999.0,-999.0000,-999.000,   25.00,  -999.0,  1.5095,-999.000
    31DSCG94_2,  P18S,    69,  1,    103,   9999,2,19940318,0953,-35.0000,-103.0000, 3600,   3250.1,   1.7567,  34.6880,2,  34.6869,2,    168.8,2,    167.3,2,   116.49,2,    33.54,2,     0.01,2,     2.42,2,   -0.003,2,    0.001,2, -999.000,9, -999.000,9, -999.000,9,-999.0000,9,  -999.00,9,   -999.0,9,   -999.0,9,   2299.0,3,   -999.0,9,   2388.0,2,     7.60,2, -999.00,  -999.0,-999.0000,-999.000,   25.00,  -999.0,  1.5095,-999.000
    31DSCG94_2,  P18S,    69,  1,    101,   1041,2,19940318,0953,-35.0000,-103.0000, 3600,   3574.2,   1.7773,  34.6896,2,  34.6883,2,    170.3,2,    171.6,2,   118.22,2,    33.51,2,     0.00,2,     2.37,2, -999.000,9, -999.000,9, -999.000,9, -999.000,9, -999.000,9,-999.0000,9,  -999.00,9,   -999.0,9,   -999.0,9,   2291.9,2,   1123.4,2,   2392.0,2,     7.59,2,   20.00,  -999.0,-999.0000,-999.000,   25.00,  -999.0,  1.4963,-999.000