BOTTLE,20220630CCHSIOAMB
EXPOCODE,SECT_ID,STNNBR,CASTNO,SAMPNO,BTLNBR,BTLNBR_FLAG_W,DATE,TIME,LATITUDE,LONGITUDE,DEPTH,CTDPRS,CTDTMP,CTDSAL,CTDSAL_FLAG_W,SALNTY,SALNTY_FLAG_W,CTDOXY,CTDOXY_FLAG_W,OXYGEN,OXYGEN_FLAG_W,SILCAT,SILCAT_FLAG_W,NITRAT,NITRAT_FLAG_W,NITRIT,NITRIT_FLAG_W,PHSPHT,PHSPHT_FLAG_W,CFC-11,CFC-11_FLAG_W,CFC-12,CFC-12_FLAG_W,CFC113,CFC113_FLAG_W,CCL4,CCL4_FLAG_W,TRITUM,TRITUM_FLAG_W,HELIUM,HELIUM_FLAG_W,DELHE3,DELHE3_FLAG_W,DELC14,DELC14_FLAG_W,DELC13,DELC13_FLAG_W,TCARBN,TCARBN_FLAG_W,PCO2,PCO2_FLAG_W,ALKALI,ALKALI_FLAG_W,PH,PH_FLAG_W,PCO2TMP,C14ERR,HELIER,DELHER,PH_TMP,C13ERR,THETA,TRITER
,,,,,,,,,,,,DBAR,ITS-90,PSS-78,,PSS-78,,UMOL/KG,,UMOL/KG,,UMOL/KG,,UMOL/KG,,UMOL/KG,,UMOL/KG,,PMOL/KG,,PMOL/KG,,PMOL/KG,,PMOL/KG,,TU,,NMOL/KG,,PERCNT,,/MILLE,,/MILLE,,UMOL/KG,,UATM,,UMOL/KG,,,,DEG C,/MILLE,NMOL/KG,PERCNT,DEG C,/MILLE,DEG C,TU
    31DSCG94_3,  P18N,   187,  1,    136,   1025,2,19940424,1235, 20.4983,-110.0000, 3138,      7.8,  24.0700,  34.7910,2,  34.7925,2,    204.5,2,    214.3,2,     0.00,2,     0.02,2,     0.00,2,     0.29,2, -999.000,9, -999.000,9, -999.000,9, -999.000,9, -999.000,9,-999.0000,9,  -999.00,9,   -999.0,9,   -999.0,9,   2001.7,2,    320.6,2,   2310.0,2,     8.06,2,   20.00,  -999.0,-999.0000,-999.000,   25.00,  -999.0, 24.0684,-999.000
    31DSCG94_3,  P18N,   187,  1,    135,   1247,2,19940424,1235, 20.4983,-110.0000, 3138,     25.0,  24.0615,  34.7852,2,  34.7835,2,    207.2,2,    214.8,2,     0.00,2,     0.00,2,     0.00,2,     0.31,2, -999.000,9, -999.000,9, -999.000,9, -999.000,9, -999.000,9,-999.0000,9,  -999.00,9,   -999.0,9,   -999.0,9,   -999.0,9,   -999.0,9,   -999.0,9,     8.06,2, -999.00,  -999.0,-999.0000,-999.000,   25.00,  -999.0, 24.0563,-999.000
    31DSCG94_3,  P18N,   187,  1,    134,   1216,2,19940424,1235, 20.4983,-110.0000, 3138,     48.4,  21.3585,  34.6107,2,  34.6206,2,    216.8,2,    214.3,2,     0.62,2,     0.07,2,     0.00,2,     0.53,2, -999.000,9, -999.000,9, -999.000,9, -999.000,9, -999.000,9,-999.0000,9,  -999.00,9,   -999.0,9,   -999.0,9,   2030.4,3,    373.9,2,   2311.0,2,     8.00,2,   20.00,  -999.0,-999.0000,-999.000,   25.00,  -999.0, 21.3491,-999.000
    31DSCG94_3,  P18N,   187,  1,    133,   1244,2,19940424,1235, 20.4983,-110.0000, 3138,     74.6,  18.2911,  34.5840,2,  34.5915,2,     43.8,2,     82.1,2,    10.72,2,    15.99,2,     0.49,2,     1.61,2, -999.000,9, -999.000,9, -999.000,9, -999.000,9, -999.000,9,-999.0000,9,  -999.00,9,   -999.0,9,   -999.0,9,   -999.0,9,   -999.0,9,   -999.0,9,     7.71,2, -999.00,  -999.0,-999.0000,-999.000,   25.00,  -999.0, 18.2782,-999.000
    31DSCG94_3,  P18N,   187,  1,    132,   1003,2,19940424,1235, 20.4983,-110.0000, 3138,    100.3,  14.4597,  34.5765,2,  34.5811,2,     32.9,2,     29.9,2,    22.22,2,    24.61,2,     0.02,2,     2.24,2, -999.000,9, -999.000,9, -999.000,9, -999.000,9, -999.000,9,-999.0000,9,  -999.00,9,   -999.0,9,   -999.0,9,   2221.5,2,   1326.4,2,   2286.0,2,     7.52,2,   20.00,  -999.0,-999.0000,-999.000,   25.00,  -999.0, 14.4450,-999.000
    31DSCG94_3,  P18N,   187,  1,    131,   1211,2,19940424,1235, 20.4983,-110.0000, 3138,    123.7,  13.8094,  34.6593,2,  34.6582,2,     36.6,2,     19.1,2,    25.78,2,    25.63,2,     0.00,2,     2.35,2, -999.000,9, -999.000,9, -999.000,9, -999.000,9, -999.000,9,-999.0000,9,  -999.00,9,   -999.0,9,   -999.0,9,   -999.0,9,   -999.0,9,   -999.0,9,     7.48,2, -999.00,  -999.0,-999.0000,-999.000,   25.00,  -999.0, 13.7918,-999.000
    31DSCG94_3,  P18N,   187,  1,    130,   1241,2,19940424,1235, 20.4983,-110.0000, 3138,    148.5,  13.0894,  34.7314,2,  34.7253,2,      8.0,2,      4.5,2,    26.67,2,    26.52,2,     0.00,2,     2.46,2, -999.000,9, -999.000,9, -999.000,9, -999.000,9, -999.000,9,-999.0000,9,  -999.00,9,   -999.0,9,   -999.0,9,   2253.5,2,   1571.0,2,   2293.0,2,     7.45,2,   20.00,  -999.0,-999.0000,-999.000,   25.00,  -999.0, 13.0689,-999.000
    31DSCG94_3,  P18N,   187,  1,    129,   1240,2,19940424,1235, 20.4983,-110.0000, 3138,    173.5,  12.5760,  34.7290,2,  34.7276,2,     10.2,2,      3.5,6,    28.03,2,    27.06,2,     0.00,2,     2.49,2, -999.000,9, -999.000,9, -999.000,9, -999.000,9, -999.000,9,-999.0000,9,  -999.00,9,   -999.0,9,   -999.0,9,   -999.0,9,   -999.0,9,   -999.0,9,     7.44,2, -999.00,  -999.0,-999.0000,-999.000,   25.00,  -999.0, 12.5527,-999.000
    31DSCG94_3,  P18N,   187,  1,    128,   1114,2,19940424,1235, 20.4983,-110.0000, 3138,    197.9,  12.2465,  34.7400,2,  34.7408,2,      8.0,2,      1.0,2,    28.72,2,    27.11,2,     0.00,2,     2.52,2, -999.000,9, -999.000,9, -999.000,9, -999.000,9, -999.000,9,-999.0000,9,  -999.00,9,   -999.0,9,   -999.0,9,   2256.9,2,   1620.8,2,   2295.0,2,     7.44,2,   20.00,  -999.0,-999.0000,-999.000,   25.00,  -999.0, 12.2204,-999.000
    31DSCG94_3,  P18N,   187,  1,    127,   1008,2,19940424,1235, 20.4983,-110.0000, 3138,    248.2,  11.4420,  34.7150,2,  34.7172,2,      5.2,2,      0.3,2,    32.27,2,    26.42,2,     0.13,2,     2.60,2, -999.000,9, -999.000,9, -999.000,9, -999.000,9, -999.000,9,-999.0000,9,  -999.00,9,   -999.0,9,   -999.0,9,   2265.7,2,   1690.3,2,   2314.0,3,     7.42,2,   20.00,  -999.0,-999.0000,-999.000,   25.00,  -999.0, 11.4106,-999.000
    31DSCG94_3,  P18N,   187,  1,    126,   1007,2,19940424,1235, 20.4983,-110.0000, 3138,    299.8,  10.5264,  34.6677,2,  34.6666,2,      3.0,2,      0.9,2,    37.36,2,    25.92,2,     0.09,2,     2.67,2, -999.000,9, -999.000,9, -999.000,9, -999.000,9, -999.000,9,-999.0000,9,  -999.00,9,   -999.0,9,   -999.0,9,   2278.4,2,   1800.6,2,   2318.0,3,     7.39,2,   20.00,  -999.0,-999.0000,-999.000,   25.00,  -999.0, 10.4904,-999.000
    31DSCG94_3,  P18N,   187,  1,    125,   1256,2,19940424,1235, 20.4983,-110.0000, 3138,    351.4,   9.6213,  34.6097,2,  34.6073,2,      2.4,2,      0.6,2,    43.54,2,    27.67,2,     0.00,2,     2.78,2, -999.000,9, -999.000,9, -999.000,9, -999.000,9, -999.000,9,-999.0000,9,  -999.00,9,   -999.0,9,   -999.0,9,   -999.0,9,   -999.0,9,   -999.0,9,     7.38,2, -999.00,  -999.0,-999.0000,-999.000,   25.00,  -999.0,  9.5814,-999.000
    31DSCG94_3,  P18N,   187,  1,    123,   1220,2,19940424,1235, 20.4983,-110.0000, 3138,    401.3,   8.8464,  34.5686,2,  34.5675,2,      1.2,2,      2.0,2,    49.16,2,    29.75,2,     0.00,2,     2.87,2, -999.000,9, -999.000,9, -999.000,9, -999.000,9, -999.000,9,-999.0000,9,  -999.00,9,   -999.0,9,   -999.0,9,   2296.1,2,   1942.7,2,   2318.0,2,     7.36,2,   20.00,  -999.0,-999.0000,-999.000,   25.00,  -999.0,  8.8030,-999.000
    31DSCG94_3,  P18N,   187,  1,    122,   1245,2,19940424,1235, 20.4983,-110.0000, 3138,    448.4,   8.1399,  34.5347,2,  34.5334,2,      1.7,2,      1.4,2,    58.19,2,    32.12,2,     0.00,2,     2.92,2, -999.000,9, -999.000,9, -999.000,9, -999.000,9, -999.000,9,-999.0000,9,  -999.00,9,   -999.0,9,   -999.0,9,   -999.0,9,   -999.0,9,   -999.0,9,     7.35,2, -999.00,  -999.0,-999.0000,-999.000,   25.00,  -999.0,  8.0937,-999.000
    31DSCG94_3,  P18N,   187,  1,    121,   1206,2,19940424,1235, 20.4983,-110.0000, 3138,    501.2,   7.5762,  34.5256,2,  34.5244,2,      1.0,2,      1.0,2,    64.38,2,    33.52,2,     0.00,2,     3.02,2, -999.000,9, -999.000,9, -999.000,9, -999.000,9, -999.000,9,-999.0000,9,  -999.00,9,   -999.0,9,   -999.0,9,   2311.9,2,   2022.4,2,   2314.0,2,     7.35,2,   20.00,  -999.0,-999.0000,-999.000,   25.00,  -999.0,  7.5264,-999.000
    31DSCG94_3,  P18N,   187,  1,    120,   1028,2,19940424,1235, 20.4983,-110.0000, 3138,    599.7,   6.4883,  34.5003,2,  34.4994,2,      0.7,2,      1.6,2,    77.73,2,    37.71,2,     0.00,2,     3.10,2, -999.000,9, -999.000,9, -999.000,9, -999.000,9, -999.000,9,-999.0000,9,  -999.00,9,   -999.0,9,   -999.0,9,   2325.9,2,   2095.4,2,   2328.0,2,     7.34,2,   20.00,  -999.0,-999.0000,-999.000,   25.00,  -999.0,  6.4333,-999.000
    31DSCG94_3,  P18N,   187,  1,    119,   1248,2,19940424,1235, 20.4983,-110.0000, 3138,    699.1,   5.7680,  34.5016,2,  34.5009,2,      1.7,2,      2.9,2,    86.14,2,    40.19,2,     0.00,2,     3.16,2, -999.000,9, -999.000,9, -999.000,9, -999.000,9, -999.000,9,-999.0000,9,  -999.00,9,   -999.0,9,   -999.0,9,   2337.4,2,   2148.7,2,   2339.0,2,     7.33,2,   20.00,  -999.0,-999.0000,-999.000,   25.00,  -999.0,  5.7072,-999.000
    31DSCG94_3,  P18N,   187,  1,    118,   1115,2,19940424,1235, 20.4983,-110.0000, 3138,    801.1,   5.1706,  34.5124,2,  34.5130,2,      2.7,2,      4.4,2,    92.83,2,    42.22,2,     0.00,2,     3.20,2, -999.000,9, -999.000,9, -999.000,9, -999.000,9, -999.000,9,-999.0000,9,  -999.00,9,   -999.0,9,   -999.0,9,   2345.6,2,   2144.2,2,   2348.0,2,     7.33,2,   20.00,  -999.0,-999.0000,-999.000,   25.00,  -999.0,  5.1039,-999.000
    31DSCG94_3,  P18N,   187,  1,    117,   1119,2,19940424,1235, 20.4983,-110.0000, 3138,    902.2,   4.6951,  34.5285,2,  34.5271,2,      5.8,2,      7.7,2,   101.89,2,    44.31,2,     0.00,2,     3.23,2, -999.000,9, -999.000,9, -999.000,9, -999.000,9, -999.000,9,-999.0000,9,  -999.00,9,   -999.0,9,   -999.0,9,   2358.7,2,   2115.1,2,   2360.0,2,  -999.00,9,   20.00,  -999.0,-999.0000,-999.000, -999.00,  -999.0,  4.6226,-999.000
    31DSCG94_3,  P18N,   187,  1,    116,   1036,2,19940424,1235, 20.4983,-110.0000, 3138,   1001.3,   4.2883,  34.5449,2,  34.5437,2,      8.9,2,     12.1,2,   111.66,2,    43.47,2,     0.00,2,     3.24,2, -999.000,9, -999.000,9, -999.000,9, -999.000,9, -999.000,9,-999.0000,9,  -999.00,9,   -999.0,9,   -999.0,9,   2362.4,2,   2093.9,2,   2372.0,6,     7.34,2,   20.00,  -999.0,-999.0000,-999.000,   25.00,  -999.0,  4.2102,-999.000
    31DSCG94_3,  P18N,   187,  1,    115,   1017,2,19940424,1235, 20.4983,-110.0000, 3138,   1100.2,   3.9920,  34.5560,2,  34.5549,2,     12.4,2,     17.6,6,   118.64,2,    43.55,2,     0.00,2,     3.21,2, -999.000,9, -999.000,9, -999.000,9, -999.000,9, -999.000,9,-999.0000,9,  -999.00,9,   -999.0,9,   -999.0,9,   -999.0,9,   -999.0,9,   -999.0,9,     7.34,2, -999.00,  -999.0,-999.0000,-999.000,   25.00,  -999.0,  3.9079,-999.000
    31DSCG94_3,  P18N,   187,  1,    114,   1016,2,19940424,1235, 20.4983,-110.0000, 3138,   1198.9,   3.7427,  34.5660,2,  34.5652,2,     19.7,2,     23.4,2,   122.61,2,    43.44,2,     0.00,2,     3.18,2, -999.000,9, -999.000,9, -999.000,9, -999.000,9, -999.000,9,-999.0000,9,  -999.00,9,   -999.0,9,   -999.0,9,   -999.0,9,   -999.0,9,   -999.0,9,     7.35,2, -999.00,  -999.0,-999.0000,-999.000,   25.00,  -999.0,  3.6524,-999.000
    31DSCG94_3,  P18N,   187,  1,    113,   1209,2,19940424,1235, 20.4983,-110.0000, 3138,   1300.3,   3.4387,  34.5795,2,  34.5785,2,     28.1,2,     32.4,2,   127.77,2,    42.98,2,     0.00,2,     3.09,2, -999.000,9, -999.000,9, -999.000,9, -999.000,9, -999.000,9,-999.0000,9,  -999.00,9,   -999.0,9,   -999.0,9,   -999.0,9,   -999.0,9,   -999.0,9,     7.37,2, -999.00,  -999.0,-999.0000,-999.000,   25.00,  -999.0,  3.3428,-999.000
    31DSCG94_3,  P18N,   187,  1,    112,   1033,2,19940424,1235, 20.4983,-110.0000, 3138,   1401.4,   3.1859,  34.5897,2,  34.5894,2,     34.6,2,     41.2,2,   130.34,2,    42.58,2,     0.00,2,     3.02,2, -999.000,9, -999.000,9, -999.000,9, -999.000,9, -999.000,9,-999.0000,9,  -999.00,9,   -999.0,9,   -999.0,9,   -999.0,9,   -999.0,9,   -999.0,9,     7.39,2, -999.00,  -999.0,-999.0000,-999.000,   25.00,  -999.0,  3.0842,-999.000
    31DSCG94_3,  P18N,   187,  1,    111,   1240,2,19940424,1235, 20.4983,-110.0000, 3138,   1502.1,   3.0123,  34.5975,2,  34.5972,2,     41.8,2,     47.0,2,   134.57,2,    42.33,2,     0.00,2,     3.03,2, -999.000,9, -999.000,9, -999.000,9, -999.000,9, -999.000,9,-999.0000,9,  -999.00,9,   -999.0,9,   -999.0,9,   -999.0,9,   -999.0,9,   -999.0,9,  -999.00,9, -999.00,  -999.0,-999.0000,-999.000, -999.00,  -999.0,  2.9041,-999.000
    31DSCG94_3,  P18N,   187,  1,    110,   1005,2,19940424,1235, 20.4983,-110.0000, 3138,   1602.0,   2.8631,  34.6047,2,  34.6044,2,     47.9,2,   -999.0,9,   139.43,2,    42.16,2,     0.00,2,     3.01,2, -999.000,9, -999.000,9, -999.000,9, -999.000,9, -999.000,9,-999.0000,9,  -999.00,9,   -999.0,9,   -999.0,9,   -999.0,9,   -999.0,9,   -999.0,9,     7.41,2, -999.00,  -999.0,-999.0000,-999.000,   25.00,  -999.0,  2.7483,-999.000
    31DSCG94_3,  P18N,   187,  1,    109,   1611,2,19940424,1235, 20.4983,-110.0000, 3138,   1799.7,   2.4799,  34.6236,2,  34.6230,2,     62.7,2,     67.6,2,   149.41,2,    40.83,2,     0.00,2,     2.91,2, -999.000,9, -999.000,9, -999.000,9, -999.000,9, -999.000,9,-999.0000,9,  -999.00,9,   -999.0,9,   -999.0,9,   -999.0,9,   -999.0,9,   -999.0,9,  -999.00,9, -999.00,  -999.0,-999.0000,-999.000, -999.00,  -999.0,  2.3534,-999.000
    31DSCG94_3,  P18N,   187,  1,    108,   1218,2,19940424,1235, 20.4983,-110.0000, 3138,   1998.6,   2.1386,  34.6404,2,  34.6394,2,     82.7,2,     84.3,2,   154.68,2,    39.84,2,     0.00,2,     2.78,2, -999.000,9, -999.000,9, -999.000,9, -999.000,9, -999.000,9,-999.0000,9,  -999.00,9,   -999.0,9,   -999.0,9,   -999.0,9,   -999.0,9,   -999.0,9,     7.47,2, -999.00,  -999.0,-999.0000,-999.000,   25.00,  -999.0,  2.0001,-999.000
    31DSCG94_3,  P18N,   187,  1,    107,   1257,2,19940424,1235, 20.4983,-110.0000, 3138,   2198.3,   1.9376,  34.6521,2,  34.6512,2,     97.6,2,     97.1,2,   154.79,2,    38.91,2,     0.00,2,     2.70,2, -999.000,9, -999.000,9, -999.000,9, -999.000,9, -999.000,9,-999.0000,9,  -999.00,9,   -999.0,9,   -999.0,9,   -999.0,9,   -999.0,9,   -999.0,9,     7.49,2, -999.00,  -999.0,-999.0000,-999.000,   25.00,  -999.0,  1.7852,-999.000
    31DSCG94_3,  P18N,   187,  1,    106,   1224,3,19940424,1235, 20.4983,-110.0000, 3138,   2399.1,   1.8225,  34.6597,2,-999.0000,5,    111.1,2,   -999.0,9,  -999.00,9,  -999.00,9,  -999.00,9,  -999.00,9, -999.000,9, -999.000,9, -999.000,9, -999.000,9, -999.000,9,-999.0000,9,  -999.00,9,   -999.0,9,   -999.0,9,   -999.0,9,   -999.0,9,   -999.0,9,  -999.00,9, -999.00,  -999.0,-999.0000,-999.000, -999.00,  -999.0,  1.6544,-999.000
    31DSCG94_3,  P18N,   187,  1,    105,   1246,2,19940424,1235, 20.4983,-110.0000, 3138,   2600.4,   1.7669,  34.6640,2,  34.6631,2,    119.5,2,    109.9,2,   155.55,2,    38.24,2,     0.00,2,     2.61,2, -999.000,9, -999.000,9, -999.000,9, -999.000,9, -999.000,9,-999.0000,9,  -999.00,9,   -999.0,9,   -999.0,9,   -999.0,9,   -999.0,9,   -999.0,9,  -999.00,9, -999.00,  -999.0,-999.0000,-999.000, -999.00,  -999.0,  1.5818,-999.000
    31DSCG94_3,  P18N,   187,  1,    104,   1217,2,19940424,1235, 20.4983,-110.0000, 3138,   2800.7,   1.7292,  34.6669,2,  34.6665,2,    116.2,2,    112.8,2,   159.38,2,    38.01,2,     0.00,2,     2.61,2, -999.000,9, -999.000,9, -999.000,9, -999.000,9, -999.000,9,-999.0000,9,  -999.00,9,   -999.0,9,   -999.0,9,   -999.0,9,   -999.0,9,   -999.0,9,     7.52,2, -999.00,  -999.0,-999.0000,-999.000,   25.00,  -999.0,  1.5263,-999.000
    31DSCG94_3,  P18N,   187,  1,    103,   9999,2,19940424,1235, 20.4983,-110.0000, 3138,   2996.0,   1.7272,  34.6681,2,  34.6683,2,    116.2,2,    113.2,2,   163.68,2,    37.98,2,     0.00,2,     2.62,2, -999.000,9, -999.000,9, -999.000,9, -999.000,9, -999.000,9,-999.0000,9,  -999.00,9,   -999.0,9,   -999.0,9,   -999.0,9,   -999.0,9,   -999.0,9,  -999.00,9, -999.00,  -999.0,-999.0000,-999.000, -999.00,  -999.0,  1.5058,-999.000
    31DSCG94_3,  P18N,   187,  1,    102,   1223,2,19940424,1235, 20.4983,-110.0000, 3138,   2997.6,   1.7273,  34.6679,2,  34.6672,2,    116.2,2,    113.7,2,   159.56,6,    37.97,6,     0.00,6,     2.61,6, -999.000,9, -999.000,9, -999.000,9, -999.000,9, -999.000,9,-999.0000,9,  -999.00,9,   -999.0,9,   -999.0,9,   -999.0,9,   -999.0,9,   -999.0,9,     7.53,2, -999.00,  -999.0,-999.0000,-999.000,   25.00,  -999.0,  1.5057,-999.000
    31DSCG94_3,  P18N,   187,  1,    101,   1041,2,19940424,1235, 20.4983,-110.0000, 3138,   3134.2,   1.7227,  34.6686,2,  34.6679,2,    115.8,2,    114.1,2,   162.65,2,    38.08,2,     0.01,2,     2.60,2, -999.000,9, -999.000,9, -999.000,9, -999.000,9, -999.000,9,-999.0000,9,  -999.00,9,   -999.0,9,   -999.0,9,   -999.0,9,   -999.0,9,   -999.0,9,  -999.00,9, -999.00,  -999.0,-999.0000,-999.000, -999.00,  -999.0,  1.4879,-999.000