BOTTLE,20220630CCHSIOAMB
EXPOCODE,SECT_ID,STNNBR,CASTNO,SAMPNO,BTLNBR,BTLNBR_FLAG_W,DATE,TIME,LATITUDE,LONGITUDE,DEPTH,CTDPRS,CTDTMP,CTDSAL,CTDSAL_FLAG_W,SALNTY,SALNTY_FLAG_W,CTDOXY,CTDOXY_FLAG_W,OXYGEN,OXYGEN_FLAG_W,SILCAT,SILCAT_FLAG_W,NITRAT,NITRAT_FLAG_W,NITRIT,NITRIT_FLAG_W,PHSPHT,PHSPHT_FLAG_W,CFC-11,CFC-11_FLAG_W,CFC-12,CFC-12_FLAG_W,CFC113,CFC113_FLAG_W,CCL4,CCL4_FLAG_W,TRITUM,TRITUM_FLAG_W,HELIUM,HELIUM_FLAG_W,DELHE3,DELHE3_FLAG_W,DELC14,DELC14_FLAG_W,DELC13,DELC13_FLAG_W,TCARBN,TCARBN_FLAG_W,PCO2,PCO2_FLAG_W,ALKALI,ALKALI_FLAG_W,PH,PH_FLAG_W,PCO2TMP,C14ERR,HELIER,DELHER,PH_TMP,C13ERR,THETA,TRITER
,,,,,,,,,,,,DBAR,ITS-90,PSS-78,,PSS-78,,UMOL/KG,,UMOL/KG,,UMOL/KG,,UMOL/KG,,UMOL/KG,,UMOL/KG,,PMOL/KG,,PMOL/KG,,PMOL/KG,,PMOL/KG,,TU,,NMOL/KG,,PERCNT,,/MILLE,,/MILLE,,UMOL/KG,,UATM,,UMOL/KG,,,,DEG C,/MILLE,NMOL/KG,PERCNT,DEG C,/MILLE,DEG C,TU
    31DSCG94_2,  P18S,    15,  1,    136,   1025,2,19940301,0652,-64.4983,-102.9867, 4978,      8.9,   2.6553,  33.8564,2,  33.8583,2,    311.8,2,    322.1,2,     9.19,2,    22.93,2,     0.21,2,     1.70,2, -999.000,9, -999.000,9, -999.000,9, -999.000,9, -999.000,9,-999.0000,9,  -999.00,9,   -999.0,9,   -999.0,9,   2130.0,2,    635.2,3,   2281.0,2,  -999.00,9,   20.00,  -999.0,-999.0000,-999.000, -999.00,  -999.0,  2.6548,-999.000
    31DSCG94_2,  P18S,    15,  1,    135,   1247,2,19940301,0652,-64.4983,-102.9867, 4978,     26.0,   2.6524,  33.8578,2,  33.8578,2,    319.7,2,    322.1,2,     9.20,2,    22.73,2,     0.22,2,     1.70,2, -999.000,9, -999.000,9, -999.000,9, -999.000,9, -999.000,9,-999.0000,9,  -999.00,9,   -999.0,9,   -999.0,9,   2126.9,2,    710.1,2,   2285.0,2,  -999.00,9,   20.00,  -999.0,-999.0000,-999.000, -999.00,  -999.0,  2.6509,-999.000
    31DSCG94_2,  P18S,    15,  1,    134,   1108,2,19940301,0652,-64.4983,-102.9867, 4978,     50.3,   2.6467,  33.8591,2,  33.8593,2,    320.5,2,    322.2,2,     9.22,2,    22.79,2,     0.21,2,     1.70,2, -999.000,9, -999.000,9, -999.000,9, -999.000,9, -999.000,9,-999.0000,9,  -999.00,9,   -999.0,9,   -999.0,9,   2127.6,2,    709.4,2,   2282.0,2,  -999.00,9,   20.00,  -999.0,-999.0000,-999.000, -999.00,  -999.0,  2.6438,-999.000
    31DSCG94_2,  P18S,    15,  1,    133,   1244,2,19940301,0652,-64.4983,-102.9867, 4978,     74.6,   1.5478,  33.9853,2,  33.9833,2,    329.5,2,    328.5,2,    13.34,2,    24.28,2,     0.15,2,     1.89,2, -999.000,9, -999.000,9, -999.000,9, -999.000,9, -999.000,9,-999.0000,9,  -999.00,9,   -999.0,9,   -999.0,9,   2139.8,2,    749.3,2,   2279.0,2,  -999.00,9,   20.00,  -999.0,-999.0000,-999.000, -999.00,  -999.0,  1.5443,-999.000
    31DSCG94_2,  P18S,    15,  1,    132,   1003,2,19940301,0652,-64.4983,-102.9867, 4978,     99.0,   1.2629,  34.0117,2,  34.0122,2,    323.2,2,    324.3,2,    17.25,2,    25.65,2,     0.47,2,     1.88,2, -999.000,9, -999.000,9, -999.000,9, -999.000,9, -999.000,9,-999.0000,9,  -999.00,9,   -999.0,9,   -999.0,9,   2147.0,2,    780.6,2,   2288.0,2,  -999.00,9,   20.00,  -999.0,-999.0000,-999.000, -999.00,  -999.0,  1.2584,-999.000
    31DSCG94_2,  P18S,    15,  1,    131,   1211,2,19940301,0652,-64.4983,-102.9867, 4978,    150.6,   1.1451,  34.0123,2,  34.0127,2,    317.4,2,    322.1,2,    18.19,2,    26.62,2,     0.00,2,     1.89,2, -999.000,9, -999.000,9, -999.000,9, -999.000,9, -999.000,9,-999.0000,9,  -999.00,9,   -999.0,9,   -999.0,9,   2149.1,2,    803.9,2,   2283.0,2,  -999.00,9,   20.00,  -999.0,-999.0000,-999.000, -999.00,  -999.0,  1.1384,-999.000
    31DSCG94_2,  P18S,    15,  1,    130,   1241,2,19940301,0652,-64.4983,-102.9867, 4978,    200.6,   0.9477,  34.0103,2,  34.0143,2,    307.3,2,    320.6,2,    19.75,2,    26.92,2,     0.00,2,     1.90,2, -999.000,9, -999.000,9, -999.000,9, -999.000,9, -999.000,9,-999.0000,9,  -999.00,9,   -999.0,9,   -999.0,9,   2153.1,2,    823.5,2,   2292.0,2,  -999.00,9,   20.00,  -999.0,-999.0000,-999.000, -999.00,  -999.0,  0.9389,-999.000
    31DSCG94_2,  P18S,    15,  1,    129,   1031,2,19940301,0652,-64.4983,-102.9867, 4978,    297.8,   2.2989,  34.2375,2,  34.2368,2,    223.3,2,    229.9,6,    41.13,2,    31.60,2,     0.00,2,     2.21,2, -999.000,9, -999.000,9, -999.000,9, -999.000,9, -999.000,9,-999.0000,9,  -999.00,9,   -999.0,9,   -999.0,9,   2201.3,2,   1047.5,2,   2324.0,2,  -999.00,9,   20.00,  -999.0,-999.0000,-999.000, -999.00,  -999.0,  2.2822,-999.000
    31DSCG94_2,  P18S,    15,  1,    128,   1210,2,19940301,0652,-64.4983,-102.9867, 4978,    401.5,   2.4821,  34.3791,2,  34.3787,2,    332.5,3,    193.5,2,    55.93,2,    33.34,2,     0.00,2,     2.32,2, -999.000,9, -999.000,9, -999.000,9, -999.000,9, -999.000,9,-999.0000,9,  -999.00,9,   -999.0,9,   -999.0,9,   2228.2,2,   1149.7,2,   2317.0,2,  -999.00,9,   20.00,  -999.0,-999.0000,-999.000, -999.00,  -999.0,  2.4585,-999.000
    31DSCG94_2,  P18S,    15,  1,    127,   1008,2,19940301,0652,-64.4983,-102.9867, 4978,    485.8,   2.4130,  34.4369,2,  34.4362,2,    183.8,2,    184.1,2,    61.97,2,    33.66,2,     0.00,2,     2.36,2, -999.000,9, -999.000,9, -999.000,9, -999.000,9, -999.000,9,-999.0000,9,  -999.00,9,   -999.0,9,   -999.0,9,   2237.7,2,   1189.1,2,   2324.0,2,  -999.00,9,   20.00,  -999.0,-999.0000,-999.000, -999.00,  -999.0,  2.3844,-999.000
    31DSCG94_2,  P18S,    15,  1,    126,   1007,2,19940301,0652,-64.4983,-102.9867, 4978,    599.2,   2.3241,  34.5169,2,  34.5162,2,    175.7,2,    175.8,2,    68.39,2,    34.56,2,     0.00,2,     2.37,2, -999.000,9, -999.000,9, -999.000,9, -999.000,9, -999.000,9,-999.0000,9,  -999.00,9,   -999.0,9,   -999.0,9,   2246.8,2,   1197.7,2,   2331.0,2,  -999.00,9,   20.00,  -999.0,-999.0000,-999.000, -999.00,  -999.0,  2.2886,-999.000
    31DSCG94_2,  P18S,    15,  1,    125,   1203,2,19940301,0652,-64.4983,-102.9867, 4978,    698.2,   2.2394,  34.5638,2,  34.5629,2,    173.4,2,    173.1,2,    72.14,2,    33.27,2,     0.00,2,     2.35,2, -999.000,9, -999.000,9, -999.000,9, -999.000,9, -999.000,9,-999.0000,9,  -999.00,9,   -999.0,9,   -999.0,9,   2251.7,2,   1207.2,2,   -999.0,5,  -999.00,9,   20.00,  -999.0,-999.0000,-999.000, -999.00,  -999.0,  2.1978,-999.000
    31DSCG94_2,  P18S,    15,  1,    123,   1101,2,19940301,0652,-64.4983,-102.9867, 4978,    799.4,   2.1672,  34.6076,2,  34.6066,2,    171.6,2,    173.6,2,    75.98,2,    32.75,2,     0.00,2,     2.32,2, -999.000,9, -999.000,9, -999.000,9, -999.000,9, -999.000,9,-999.0000,9,  -999.00,9,   -999.0,9,   -999.0,9,   2253.7,2,   1185.2,2,   -999.0,5,  -999.00,9,   20.00,  -999.0,-999.0000,-999.000, -999.00,  -999.0,  2.1193,-999.000
    31DSCG94_2,  P18S,    15,  1,    121,   1206,2,19940301,0652,-64.4983,-102.9867, 4978,    895.9,   2.1642,  34.6436,2,  34.6440,2,    172.2,2,    174.0,2,    78.50,2,    32.48,2,     0.00,2,     2.28,2, -999.000,9, -999.000,9, -999.000,9, -999.000,9, -999.000,9,-999.0000,9,  -999.00,9,   -999.0,9,   -999.0,9,   2254.6,2,   1165.0,2,   2343.0,2,  -999.00,9,   20.00,  -999.0,-999.0000,-999.000, -999.00,  -999.0,  2.1098,-999.000
    31DSCG94_2,  P18S,    15,  1,    119,   1248,2,19940301,0652,-64.4983,-102.9867, 4978,    997.6,   2.1058,  34.6665,2,  34.6657,2,    174.7,2,    175.8,6,    80.58,2,    32.30,2,     0.00,2,     2.27,2, -999.000,9, -999.000,9, -999.000,9, -999.000,9, -999.000,9,-999.0000,9,  -999.00,9,   -999.0,9,   -999.0,9,   2255.1,2,   1146.2,2,   2345.0,2,  -999.00,9,   20.00,  -999.0,-999.0000,-999.000, -999.00,  -999.0,  2.0448,-999.000
    31DSCG94_2,  P18S,    15,  1,    118,   1207,2,19940301,0652,-64.4983,-102.9867, 4978,   1201.6,   2.0061,  34.7030,2,  34.7023,2,    179.9,2,    181.4,2,    86.05,2,    31.09,2,     0.00,2,     2.21,2, -999.000,9, -999.000,9, -999.000,9, -999.000,9, -999.000,9,-999.0000,9,  -999.00,9,   -999.0,9,   -999.0,9,   -999.0,9,   -999.0,9,   -999.0,9,  -999.00,9, -999.00,  -999.0,-999.0000,-999.000, -999.00,  -999.0,  1.9315,-999.000
    31DSCG94_2,  P18S,    15,  1,    117,   1119,2,19940301,0652,-64.4983,-102.9867, 4978,   1397.8,   1.8633,  34.7222,2,  34.7205,2,    185.0,2,    186.0,2,    89.85,2,    30.63,2,     0.00,2,     2.17,2, -999.000,9, -999.000,9, -999.000,9, -999.000,9, -999.000,9,-999.0000,9,  -999.00,9,   -999.0,9,   -999.0,9,   -999.0,9,   -999.0,9,   -999.0,9,  -999.00,9, -999.00,  -999.0,-999.0000,-999.000, -999.00,  -999.0,  1.7758,-999.000
    31DSCG94_2,  P18S,    15,  1,    116,   1036,2,19940301,0652,-64.4983,-102.9867, 4978,   1600.3,   1.7090,  34.7296,2,  34.7285,2,    189.0,2,    189.4,2,    94.14,2,    30.54,2,     0.00,2,     2.17,2, -999.000,9, -999.000,9, -999.000,9, -999.000,9, -999.000,9,-999.0000,9,  -999.00,9,   -999.0,9,   -999.0,9,   -999.0,9,   -999.0,9,   -999.0,9,  -999.00,9, -999.00,  -999.0,-999.0000,-999.000, -999.00,  -999.0,  1.6082,-999.000
    31DSCG94_2,  P18S,    15,  1,    115,   1017,2,19940301,0652,-64.4983,-102.9867, 4978,   1799.5,   1.5364,  34.7303,2,  34.7298,2,    192.7,2,    192.4,2,    99.54,2,    30.44,2,     0.00,2,     2.18,2, -999.000,9, -999.000,9, -999.000,9, -999.000,9, -999.000,9,-999.0000,9,  -999.00,9,   -999.0,9,   -999.0,9,   -999.0,9,   -999.0,9,   -999.0,9,  -999.00,9, -999.00,  -999.0,-999.0000,-999.000, -999.00,  -999.0,  1.4226,-999.000
    31DSCG94_2,  P18S,    15,  1,    114,   1016,2,19940301,0652,-64.4983,-102.9867, 4978,   1990.7,   1.4057,  34.7273,2,  34.7264,2,    194.6,2,    195.1,2,   104.54,2,    30.67,2,     0.00,2,     2.16,2, -999.000,9, -999.000,9, -999.000,9, -999.000,9, -999.000,9,-999.0000,9,  -999.00,9,   -999.0,9,   -999.0,9,   -999.0,9,   -999.0,9,   -999.0,9,  -999.00,9, -999.00,  -999.0,-999.0000,-999.000, -999.00,  -999.0,  1.2787,-999.000
    31DSCG94_2,  P18S,    15,  1,    113,   1118,2,19940301,0652,-64.4983,-102.9867, 4978,   2247.8,   1.2539,  34.7240,2,  34.7230,2,    197.3,2,    197.2,2,   109.10,2,    32.63,4,     0.00,2,     2.18,2, -999.000,9, -999.000,9, -999.000,9, -999.000,9, -999.000,9,-999.0000,9,  -999.00,9,   -999.0,9,   -999.0,9,   -999.0,9,   -999.0,9,   -999.0,9,  -999.00,9, -999.00,  -999.0,-999.0000,-999.000, -999.00,  -999.0,  1.1085,-999.000
    31DSCG94_2,  P18S,    15,  1,    112,   1033,2,19940301,0652,-64.4983,-102.9867, 4978,   2497.8,   1.0942,  34.7194,2,  34.7177,2,    199.7,2,    200.4,2,   111.50,2,    30.56,2,     0.00,2,     2.20,2, -999.000,9, -999.000,9, -999.000,9, -999.000,9, -999.000,9,-999.0000,9,  -999.00,9,   -999.0,9,   -999.0,9,   -999.0,9,   -999.0,9,   -999.0,9,  -999.00,9, -999.00,  -999.0,-999.0000,-999.000, -999.00,  -999.0,  0.9308,-999.000
    31DSCG94_2,  P18S,    15,  1,    111,   1263,2,19940301,0652,-64.4983,-102.9867, 4978,   2748.6,   0.9655,  34.7148,2,  34.7127,2,    201.0,2,    202.8,2,   115.71,2,    30.63,2,     0.00,2,     2.21,2, -999.000,9, -999.000,9, -999.000,9, -999.000,9, -999.000,9,-999.0000,9,  -999.00,9,   -999.0,9,   -999.0,9,   -999.0,9,   -999.0,9,   -999.0,9,  -999.00,9, -999.00,  -999.0,-999.0000,-999.000, -999.00,  -999.0,  0.7829,-999.000
    31DSCG94_2,  P18S,    15,  1,    110,   1005,2,19940301,0652,-64.4983,-102.9867, 4978,   3003.6,   0.8569,  34.7102,2,  34.7082,2,    204.3,2,    204.6,2,   120.03,2,    30.78,2,     0.00,2,     2.22,2, -999.000,9, -999.000,9, -999.000,9, -999.000,9, -999.000,9,-999.0000,9,  -999.00,9,   -999.0,9,   -999.0,9,   -999.0,9,   -999.0,9,   -999.0,9,  -999.00,9, -999.00,  -999.0,-999.0000,-999.000, -999.00,  -999.0,  0.6538,-999.000
    31DSCG94_2,  P18S,    15,  1,    109,   1611,2,19940301,0652,-64.4983,-102.9867, 4978,   3243.8,   0.7552,  34.7079,2,  34.7054,2,    206.6,2,    206.5,2,   124.03,2,    31.19,2,     0.00,2,     2.23,2, -999.000,9, -999.000,9, -999.000,9, -999.000,9, -999.000,9,-999.0000,9,  -999.00,9,   -999.0,9,   -999.0,9,   -999.0,9,   -999.0,9,   -999.0,9,  -999.00,9, -999.00,  -999.0,-999.0000,-999.000, -999.00,  -999.0,  0.5323,-999.000
    31DSCG94_2,  P18S,    15,  1,    108,   1218,2,19940301,0652,-64.4983,-102.9867, 4978,   3497.6,   0.6333,  34.7056,2,  34.7033,2,    207.7,2,    208.7,2,   126.93,2,    31.47,2,     0.00,2,     2.24,2, -999.000,9, -999.000,9, -999.000,9, -999.000,9, -999.000,9,-999.0000,9,  -999.00,9,   -999.0,9,   -999.0,9,   -999.0,9,   -999.0,9,   -999.0,9,  -999.00,9, -999.00,  -999.0,-999.0000,-999.000, -999.00,  -999.0,  0.3892,-999.000
    31DSCG94_2,  P18S,    15,  1,    107,   1257,2,19940301,0652,-64.4983,-102.9867, 4978,   3727.0,   0.5556,  34.7052,2,  34.7019,2,    210.0,2,    210.7,2,   129.65,2,    31.73,2,     0.00,2,     2.25,2, -999.000,9, -999.000,9, -999.000,9, -999.000,9, -999.000,9,-999.0000,9,  -999.00,9,   -999.0,9,   -999.0,9,   -999.0,9,   -999.0,9,   -999.0,9,  -999.00,9, -999.00,  -999.0,-999.0000,-999.000, -999.00,  -999.0,  0.2909,-999.000
    31DSCG94_2,  P18S,    15,  1,    106,   1224,2,19940301,0652,-64.4983,-102.9867, 4978,   4001.0,   0.4673,  34.7041,2,  34.7014,2,    212.1,2,    212.5,2,   131.53,2,    31.45,2,     0.00,2,     2.24,2, -999.000,9, -999.000,9, -999.000,9, -999.000,9, -999.000,9,-999.0000,9,  -999.00,9,   -999.0,9,   -999.0,9,   -999.0,9,   -999.0,9,   -999.0,9,  -999.00,9, -999.00,  -999.0,-999.0000,-999.000, -999.00,  -999.0,  0.1774,-999.000
    31DSCG94_2,  P18S,    15,  1,    105,   1246,2,19940301,0652,-64.4983,-102.9867, 4978,   4247.9,   0.4015,  34.7033,2,  34.7011,2,    212.4,2,    214.5,2,   133.54,2,    31.46,2,     0.00,2,     2.25,2, -999.000,9, -999.000,9, -999.000,9, -999.000,9, -999.000,9,-999.0000,9,  -999.00,9,   -999.0,9,   -999.0,9,   -999.0,9,   -999.0,9,   -999.0,9,  -999.00,9, -999.00,  -999.0,-999.0000,-999.000, -999.00,  -999.0,  0.0878,-999.000
    31DSCG94_2,  P18S,    15,  1,    104,   1028,2,19940301,0652,-64.4983,-102.9867, 4978,   4502.0,   0.3745,  34.7029,2,  34.7011,2,    215.7,2,    215.7,2,   135.36,2,    31.37,2,     0.00,2,     2.26,2, -999.000,9, -999.000,9, -999.000,9, -999.000,9, -999.000,9,-999.0000,9,  -999.00,9,   -999.0,9,   -999.0,9,   -999.0,9,   -999.0,9,   -999.0,9,  -999.00,9, -999.00,  -999.0,-999.0000,-999.000, -999.00,  -999.0,  0.0344,-999.000
    31DSCG94_2,  P18S,    15,  1,    102,   1223,2,19940301,0652,-64.4983,-102.9867, 4978,   4749.6,   0.3740,  34.7028,2,  34.7010,2,    217.1,2,    216.2,2,   137.02,2,    31.59,2,     0.00,2,     2.26,2, -999.000,9, -999.000,9, -999.000,9, -999.000,9, -999.000,9,-999.0000,9,  -999.00,9,   -999.0,9,   -999.0,9,   -999.0,9,   -999.0,9,   -999.0,9,  -999.00,9, -999.00,  -999.0,-999.0000,-999.000, -999.00,  -999.0,  0.0065,-999.000
    31DSCG94_2,  P18S,    15,  1,    103,   9999,2,19940301,0652,-64.4983,-102.9867, 4978,   4749.8,   0.3739,  34.7009,2,  34.7009,2,    217.1,2,    216.1,2,   136.77,2,    31.51,2,     0.00,2,     2.27,2, -999.000,9, -999.000,9, -999.000,9, -999.000,9, -999.000,9,-999.0000,9,  -999.00,9,   -999.0,9,   -999.0,9,   -999.0,9,   -999.0,9,   -999.0,9,  -999.00,9, -999.00,  -999.0,-999.0000,-999.000, -999.00,  -999.0,  0.0064,-999.000
    31DSCG94_2,  P18S,    15,  1,    101,   1041,2,19940301,0652,-64.4983,-102.9867, 4978,   5063.1,   0.3818,  34.7026,2,  34.7010,2,    217.7,2,    216.6,2,   142.52,2,    31.69,2,     0.00,2,     2.23,2, -999.000,9, -999.000,9, -999.000,9, -999.000,9, -999.000,9,-999.0000,9,  -999.00,9,   -999.0,9,   -999.0,9,   -999.0,9,   -999.0,9,   -999.0,9,  -999.00,9, -999.00,  -999.0,-999.0000,-999.000, -999.00,  -999.0, -0.0218,-999.000