BOTTLE,20220630CCHSIOAMB
EXPOCODE,SECT_ID,STNNBR,CASTNO,SAMPNO,BTLNBR,BTLNBR_FLAG_W,DATE,TIME,LATITUDE,LONGITUDE,DEPTH,CTDPRS,CTDTMP,CTDSAL,CTDSAL_FLAG_W,SALNTY,SALNTY_FLAG_W,CTDOXY,CTDOXY_FLAG_W,OXYGEN,OXYGEN_FLAG_W,SILCAT,SILCAT_FLAG_W,NITRAT,NITRAT_FLAG_W,NITRIT,NITRIT_FLAG_W,PHSPHT,PHSPHT_FLAG_W,CFC-11,CFC-11_FLAG_W,CFC-12,CFC-12_FLAG_W,CFC113,CFC113_FLAG_W,CCL4,CCL4_FLAG_W,TRITUM,TRITUM_FLAG_W,HELIUM,HELIUM_FLAG_W,DELHE3,DELHE3_FLAG_W,DELC14,DELC14_FLAG_W,DELC13,DELC13_FLAG_W,TCARBN,TCARBN_FLAG_W,PCO2,PCO2_FLAG_W,ALKALI,ALKALI_FLAG_W,PH,PH_FLAG_W,PCO2TMP,C14ERR,HELIER,DELHER,PH_TMP,C13ERR,THETA,TRITER
,,,,,,,,,,,,DBAR,ITS-90,PSS-78,,PSS-78,,UMOL/KG,,UMOL/KG,,UMOL/KG,,UMOL/KG,,UMOL/KG,,UMOL/KG,,PMOL/KG,,PMOL/KG,,PMOL/KG,,PMOL/KG,,TU,,NMOL/KG,,PERCNT,,/MILLE,,/MILLE,,UMOL/KG,,UATM,,UMOL/KG,,,,DEG C,/MILLE,NMOL/KG,PERCNT,DEG C,/MILLE,DEG C,TU
    31DSCG94_2,  P18S,    16,  1,    136,   1025,2,19940301,1411,-63.9887,-102.9873, 5018,      8.8,   2.7935,  33.8898,2,  33.8903,2,    337.7,2,    321.3,2,     8.18,2,    22.91,2,     0.20,2,     1.68,2,    5.725,2,    2.804,2, -999.000,9, -999.000,9, -999.000,9,-999.0000,9,  -999.00,9,    -63.9,2,      1.7,2,   2127.6,2,    701.7,2,   2284.0,2,  -999.00,9,   20.00,     3.2,-999.0000,-999.000, -999.00,  -999.0,  2.7930,-999.000
    31DSCG94_2,  P18S,    16,  1,    135,   1247,2,19940301,1411,-63.9887,-102.9873, 5018,     25.6,   2.7947,  33.8901,2,  33.8901,2,    320.9,2,    320.7,2,     7.98,2,    22.77,2,     0.19,2,     1.63,2,    5.814,6,    2.779,6, -999.000,9, -999.000,9, -999.000,9,-999.0000,9,  -999.00,9,    -53.9,2,      1.7,2,   -999.0,9,   -999.0,9,   -999.0,9,  -999.00,9, -999.00,     3.0,-999.0000,-999.000, -999.00,  -999.0,  2.7933,-999.000
    31DSCG94_2,  P18S,    16,  1,    134,   1108,2,19940301,1411,-63.9887,-102.9873, 5018,     49.1,   2.7933,  33.8910,2,  33.8912,2,    321.7,2,    320.4,2,     8.39,2,    23.26,2,     0.20,2,     1.66,2,    5.699,2,    2.789,2, -999.000,9, -999.000,9, -999.000,9,-999.0000,9,  -999.00,9,    -61.6,2,      1.6,2,   2126.4,2,   -999.0,9,   2279.0,2,  -999.00,9, -999.00,     2.6,-999.0000,-999.000, -999.00,  -999.0,  2.7905,-999.000
    31DSCG94_2,  P18S,    16,  1,    133,   1244,2,19940301,1411,-63.9887,-102.9873, 5018,     74.7,   2.0658,  33.9529,2,  33.9618,2,    332.5,2,    326.2,2,    12.00,2,    23.46,2,     0.15,2,     1.77,2,    5.834,2,    2.802,2, -999.000,9, -999.000,9, -999.000,9,-999.0000,9,  -999.00,9,    -57.9,2,      1.6,2,   -999.0,9,   -999.0,9,   -999.0,9,  -999.00,9, -999.00,     2.5,-999.0000,-999.000, -999.00,  -999.0,  2.0619,-999.000
    31DSCG94_2,  P18S,    16,  1,    132,   1003,2,19940301,1411,-63.9887,-102.9873, 5018,     97.8,   1.2059,  34.0052,2,  34.0048,2,    327.5,2,    326.1,2,    17.79,2,    25.11,2,     0.32,2,     1.86,2, -999.000,5, -999.000,5, -999.000,9, -999.000,9, -999.000,9,-999.0000,9,  -999.00,9,    -67.6,2,      1.4,2,   2147.5,2,   -999.0,9,   2309.0,2,  -999.00,9, -999.00,     2.7,-999.0000,-999.000, -999.00,  -999.0,  1.2015,-999.000
    31DSCG94_2,  P18S,    16,  1,    131,   1211,2,19940301,1411,-63.9887,-102.9873, 5018,    148.2,   1.1001,  34.0104,2,  34.0110,2,    323.9,2,    322.8,2,    18.83,2,    26.58,2,     0.00,2,     1.85,2,    5.820,2,    2.793,2, -999.000,9, -999.000,9, -999.000,9,-999.0000,9,  -999.00,9,    -59.8,2,      1.4,2,   -999.0,9,   -999.0,9,   -999.0,9,  -999.00,9, -999.00,     3.5,-999.0000,-999.000, -999.00,  -999.0,  1.0935,-999.000
    31DSCG94_2,  P18S,    16,  1,    130,   1241,2,19940301,1411,-63.9887,-102.9873, 5018,    207.0,   1.0029,  34.0195,2,  34.0181,2,    319.7,2,    315.9,2,    22.11,2,    26.85,2,     0.00,2,     1.86,2,    5.505,2,    2.602,2, -999.000,9, -999.000,9, -999.000,9,-999.0000,9,  -999.00,9,    -71.9,2,      1.3,2,   2157.3,2,   -999.0,9,   2299.0,2,  -999.00,9, -999.00,     2.6,-999.0000,-999.000, -999.00,  -999.0,  0.9937,-999.000
    31DSCG94_2,  P18S,    16,  1,    129,   1031,2,19940301,1411,-63.9887,-102.9873, 5018,    296.6,   2.3593,  34.2514,2,  34.2505,2,    247.1,2,    225.8,2,    43.37,2,    32.35,2,     0.00,2,     2.21,2,    2.371,2,    1.072,2, -999.000,9, -999.000,9, -999.000,9,-999.0000,9,  -999.00,9,   -100.8,6,      0.8,6,   2203.5,2,   -999.0,9,   2297.0,2,  -999.00,9, -999.00,     6.1,-999.0000,-999.000, -999.00,  -999.0,  2.3425,-999.000
    31DSCG94_2,  P18S,    16,  1,    128,   1210,2,19940301,1411,-63.9887,-102.9873, 5018,    398.5,   2.3535,  34.3462,2,  34.3449,2,    205.6,2,    202.5,2,    53.87,2,    32.69,2,     0.00,2,     2.50,2,    1.556,2,    0.702,2, -999.000,9, -999.000,9, -999.000,9,-999.0000,9,  -999.00,9,   -118.4,2,      0.6,2,   2226.0,2,   -999.0,9,   2293.0,2,  -999.00,9, -999.00,     3.1,-999.0000,-999.000, -999.00,  -999.0,  2.3306,-999.000
    31DSCG94_2,  P18S,    16,  1,    127,   1008,3,19940301,1411,-63.9887,-102.9873, 5018,    497.9,   2.3231,  34.4287,2,-999.0000,5,    188.9,2,   -999.0,9,  -999.00,9,  -999.00,9,  -999.00,9,  -999.00,9,    0.140,4,    0.057,4, -999.000,9, -999.000,9, -999.000,9,-999.0000,9,  -999.00,9,   -999.0,9,   -999.0,9,   -999.0,9,   -999.0,9,   -999.0,9,  -999.00,9, -999.00,  -999.0,-999.0000,-999.000, -999.00,  -999.0,  2.2941,-999.000
    31DSCG94_2,  P18S,    16,  1,    126,   1007,2,19940301,1411,-63.9887,-102.9873, 5018,    596.4,   2.2985,  34.5011,2,  34.5016,2,    179.6,2,    179.0,2,    68.26,2,    32.81,2,     0.00,2,     2.36,2, -999.000,5, -999.000,5, -999.000,9, -999.000,9, -999.000,9,-999.0000,9,  -999.00,9,   -149.4,2,      0.5,2,   2250.2,2,   -999.0,9,   2342.0,2,  -999.00,9, -999.00,     2.9,-999.0000,-999.000, -999.00,  -999.0,  2.2633,-999.000
    31DSCG94_2,  P18S,    16,  1,    125,   1203,2,19940301,1411,-63.9887,-102.9873, 5018,    700.8,   2.2256,  34.5627,2,  34.5608,2,    174.8,2,    173.9,2,    73.57,2,    32.92,2,     0.00,2,     2.34,2,    0.490,2,    0.214,2, -999.000,9, -999.000,9, -999.000,9,-999.0000,9,  -999.00,9,   -151.0,2,      0.4,2,   2253.3,2,   -999.0,9,   2327.0,2,  -999.00,9, -999.00,     2.7,-999.0000,-999.000, -999.00,  -999.0,  2.1839,-999.000
    31DSCG94_2,  P18S,    16,  1,    123,   1101,2,19940301,1411,-63.9887,-102.9873, 5018,    804.9,   2.1998,  34.6004,2,  34.5985,2,    173.6,2,    174.7,2,    77.39,2,    32.64,2,     0.00,2,     2.30,2,    0.375,2,    0.164,2, -999.000,9, -999.000,9, -999.000,9,-999.0000,9,  -999.00,9,   -999.0,9,   -999.0,9,   2254.3,2,   -999.0,9,   2342.0,2,  -999.00,9, -999.00,  -999.0,-999.0000,-999.000, -999.00,  -999.0,  2.1513,-999.000
    31DSCG94_2,  P18S,    16,  1,    121,   1206,2,19940301,1411,-63.9887,-102.9873, 5018,    901.5,   2.1549,  34.6374,2,  34.6361,2,    173.5,2,    174.2,2,    80.33,2,    31.89,2,     0.00,2,     2.26,2,    0.354,3,    0.114,2, -999.000,9, -999.000,9, -999.000,9,-999.0000,9,  -999.00,9,   -153.1,2,      0.4,2,   2254.9,2,   -999.0,9,   2357.0,2,  -999.00,9, -999.00,     3.7,-999.0000,-999.000, -999.00,  -999.0,  2.1002,-999.000
    31DSCG94_2,  P18S,    16,  1,    119,   1248,2,19940301,1411,-63.9887,-102.9873, 5018,   1003.4,   2.1040,  34.6641,2,  34.6632,2,    175.2,2,    176.6,2,    81.50,2,    31.82,2,     0.00,2,     2.24,2, -999.000,5, -999.000,5, -999.000,9, -999.000,9, -999.000,9,   1.8570,2,     9.53,2,   -999.0,9,   -999.0,9,   2255.6,2,   1145.1,6,   2345.0,2,  -999.00,9,   20.00,  -999.0,-999.0000,-999.000, -999.00,  -999.0,  2.0426,-999.000
    31DSCG94_2,  P18S,    16,  1,    118,   1207,2,19940301,1411,-63.9887,-102.9873, 5018,   1201.4,   2.0049,  34.7002,2,  34.6998,2,    180.7,2,    180.4,2,    84.53,2,    31.99,2,     0.00,2,     2.19,2,    0.196,3,    0.057,6, -999.000,9, -999.000,9, -999.000,9,   1.8580,2,     9.33,2,   -159.4,2,      0.4,2,   -999.0,9,   -999.0,9,   -999.0,9,  -999.00,9, -999.00,     3.2,-999.0000,-999.000, -999.00,  -999.0,  1.9304,-999.000
    31DSCG94_2,  P18S,    16,  1,    117,   1119,2,19940301,1411,-63.9887,-102.9873, 5018,   1399.9,   1.8551,  34.7227,2,  34.7222,2,    185.6,2,    185.9,2,    88.65,2,    30.44,2,     0.00,2,     2.16,2,    0.078,2,    0.029,2, -999.000,9, -999.000,9, -999.000,9,   1.8610,2,    10.02,2,   -999.0,9,   -999.0,9,   -999.0,9,   -999.0,9,   -999.0,9,  -999.00,9, -999.00,  -999.0,-999.0000,-999.000, -999.00,  -999.0,  1.7675,-999.000
    31DSCG94_2,  P18S,    16,  1,    116,   1036,2,19940301,1411,-63.9887,-102.9873, 5018,   1601.3,   1.7172,  34.7294,2,  34.7281,2,    188.4,2,    189.6,2,    92.89,2,    30.29,2,     0.00,2,     2.15,2,    0.125,4,    0.024,2, -999.000,9, -999.000,9, -999.000,9,   1.8770,2,     9.91,2,   -159.5,2,      0.5,2,   -999.0,9,   -999.0,9,   -999.0,9,  -999.00,9, -999.00,     2.9,-999.0000,-999.000, -999.00,  -999.0,  1.6162,-999.000
    31DSCG94_2,  P18S,    16,  1,    115,   1017,2,19940301,1411,-63.9887,-102.9873, 5018,   1801.3,   1.5442,  34.7304,2,  34.7313,2,    190.6,2,    192.9,2,    98.82,2,    30.49,2,     0.00,2,     2.15,2,    0.047,2,    0.019,2, -999.000,9, -999.000,9, -999.000,9,   1.8660,2,    10.17,2,   -999.0,9,   -999.0,9,   -999.0,9,   -999.0,9,   -999.0,9,  -999.00,9, -999.00,  -999.0,-999.0000,-999.000, -999.00,  -999.0,  1.4301,-999.000
    31DSCG94_2,  P18S,    16,  1,    114,   1016,2,19940301,1411,-63.9887,-102.9873, 5018,   2001.2,   1.4060,  34.7287,2,  34.7274,2,    192.1,2,    194.4,2,   104.16,2,    30.88,2,     0.00,2,     2.11,2,    0.051,2,    0.017,2, -999.000,9, -999.000,9, -999.000,9,   1.8730,2,    10.20,2,   -163.5,2,      0.5,2,   -999.0,9,   1069.4,6,   -999.0,9,  -999.00,9,   20.00,     3.5,-999.0000,-999.000, -999.00,  -999.0,  1.2781,-999.000
    31DSCG94_2,  P18S,    16,  1,    113,   1118,2,19940301,1411,-63.9887,-102.9873, 5018,   2249.5,   1.2569,  34.7249,2,  34.7228,2,    193.9,2,    197.2,2,   109.14,2,    30.87,2,     0.00,2,     2.15,2,    0.069,4,    0.019,2, -999.000,9, -999.000,9, -999.000,9,   1.8710,2,     9.75,2,   -999.0,9,   -999.0,9,   -999.0,9,   -999.0,9,   -999.0,9,  -999.00,9, -999.00,  -999.0,-999.0000,-999.000, -999.00,  -999.0,  1.1113,-999.000
    31DSCG94_2,  P18S,    16,  1,    112,   1033,2,19940301,1411,-63.9887,-102.9873, 5018,   2501.8,   1.0966,  34.7197,2,  34.7180,2,    196.2,2,    200.4,2,   112.07,2,    30.59,2,     0.00,2,     2.15,2,    0.043,2,    0.024,2, -999.000,9, -999.000,9, -999.000,9,   1.8820,2,     9.94,2,   -165.2,2,      0.5,2,   -999.0,9,   -999.0,9,   -999.0,9,  -999.00,9, -999.00,     2.7,-999.0000,-999.000, -999.00,  -999.0,  0.9328,-999.000
    31DSCG94_2,  P18S,    16,  1,    111,   1263,2,19940301,1411,-63.9887,-102.9873, 5018,   2752.2,   0.9944,  34.7159,2,  34.7140,2,    198.0,2,    202.5,2,   115.28,2,    30.86,2,     0.00,2,     2.19,2,    0.046,2,    0.033,2, -999.000,9, -999.000,9, -999.000,9,   1.8790,2,    10.36,2,   -999.0,9,   -999.0,9,   -999.0,9,   -999.0,9,   -999.0,9,  -999.00,9, -999.00,  -999.0,-999.0000,-999.000, -999.00,  -999.0,  0.8108,-999.000
    31DSCG94_2,  P18S,    16,  1,    110,   1005,2,19940301,1411,-63.9887,-102.9873, 5018,   2997.8,   0.8737,  34.7114,2,  34.7091,2,    199.6,2,    204.4,2,   120.85,2,    31.18,2,     0.00,2,     2.19,2,    0.398,4,    0.021,2, -999.000,9, -999.000,9, -999.000,9,   1.8890,2,    10.31,2,   -168.3,2,      0.4,2,   -999.0,9,   -999.0,9,   -999.0,9,  -999.00,9, -999.00,     2.7,-999.0000,-999.000, -999.00,  -999.0,  0.6707,-999.000
    31DSCG94_2,  P18S,    16,  1,    109,   1611,2,19940301,1411,-63.9887,-102.9873, 5018,   3250.3,   0.7779,  34.7087,2,  34.7061,2,    201.7,2,   -999.0,9,   124.93,2,    31.44,2,     0.00,2,     2.16,2,    0.050,2,    0.025,2, -999.000,9, -999.000,9, -999.000,9,   1.8850,2,    10.64,2,   -999.0,9,   -999.0,9,   -999.0,9,   -999.0,9,   -999.0,9,  -999.00,9, -999.00,  -999.0,-999.0000,-999.000, -999.00,  -999.0,  0.5538,-999.000
    31DSCG94_2,  P18S,    16,  1,    108,   1218,2,19940301,1411,-63.9887,-102.9873, 5018,   3500.7,   0.6687,  34.7063,2,  34.6984,3,    205.1,2,    208.8,2,   127.42,2,    31.54,2,     0.00,2,     2.19,2,    0.070,2,    0.032,2, -999.000,9, -999.000,9, -999.000,9,   1.8840,2,     9.97,2,   -163.8,2,      0.4,2,   -999.0,9,   -999.0,9,   -999.0,9,  -999.00,9, -999.00,     2.8,-999.0000,-999.000, -999.00,  -999.0,  0.4234,-999.000
    31DSCG94_2,  P18S,    16,  1,    107,   1257,2,19940301,1411,-63.9887,-102.9873, 5018,   3749.7,   0.5585,  34.7051,2,  34.7023,2,    208.1,2,    211.0,2,   127.82,2,    31.34,2,     0.00,2,     2.20,2, -999.000,5, -999.000,5, -999.000,9, -999.000,9, -999.000,9,   1.8930,2,     9.89,2,   -999.0,9,   -999.0,9,   -999.0,9,   -999.0,9,   -999.0,9,  -999.00,9, -999.00,  -999.0,-999.0000,-999.000, -999.00,  -999.0,  0.2915,-999.000
    31DSCG94_2,  P18S,    16,  1,    106,   1224,2,19940301,1411,-63.9887,-102.9873, 5018,   4000.5,   0.4682,  34.7040,2,  34.7018,2,    210.8,2,    212.4,2,   128.72,2,    31.95,2,     0.00,2,     2.22,2, -999.000,5, -999.000,5, -999.000,9, -999.000,9, -999.000,9,   1.9100,2,     9.14,2,   -170.3,2,      0.5,2,   -999.0,9,   1082.3,6,   -999.0,9,  -999.00,9,   20.00,     2.8,-999.0000,-999.000, -999.00,  -999.0,  0.1783,-999.000
    31DSCG94_2,  P18S,    16,  1,    105,   1246,2,19940301,1411,-63.9887,-102.9873, 5018,   4247.1,   0.4157,  34.7039,2,  34.7012,2,    214.5,2,    215.7,2,   131.33,2,    31.62,2,     0.00,2,     2.23,2,    0.105,2,    0.029,2, -999.000,9, -999.000,9, -999.000,9,   1.8940,2,     8.92,2,   -999.0,9,   -999.0,9,   -999.0,9,   -999.0,9,   -999.0,9,  -999.00,9, -999.00,  -999.0,-999.0000,-999.000, -999.00,  -999.0,  0.1017,-999.000
    31DSCG94_2,  P18S,    16,  1,    104,   1028,2,19940301,1411,-63.9887,-102.9873, 5018,   4498.9,   0.3929,  34.7035,2,  34.7009,2,    218.9,2,    213.1,3,   133.85,2,    31.67,2,     0.00,2,     2.21,2,    0.128,3,    0.036,2, -999.000,9, -999.000,9, -999.000,9,   1.8920,2,     9.02,2,   -164.9,2,      0.5,2,   -999.0,9,   -999.0,9,   -999.0,9,  -999.00,9, -999.00,     2.7,-999.0000,-999.000, -999.00,  -999.0,  0.0525,-999.000
    31DSCG94_2,  P18S,    16,  1,    103,   9999,2,19940301,1411,-63.9887,-102.9873, 5018,   4748.5,   0.3840,  34.7033,2,  34.7008,2,    222.8,2,    215.5,2,   137.82,2,    31.73,2,     0.00,2,     2.21,2,    0.110,3,    0.043,6, -999.000,9, -999.000,9, -999.000,9,   1.8840,2,     8.70,2,   -999.0,9,   -999.0,9,   -999.0,9,   -999.0,9,   -999.0,9,  -999.00,9, -999.00,  -999.0,-999.0000,-999.000, -999.00,  -999.0,  0.0163,-999.000
    31DSCG94_2,  P18S,    16,  1,    102,   1223,2,19940301,1411,-63.9887,-102.9873, 5018,   4998.5,   0.3809,  34.7027,2,  34.7009,2,    227.0,2,    216.8,6,   138.95,2,    32.00,2,     0.00,2,     2.21,2,    0.155,4,    0.053,2, -999.000,9, -999.000,9, -999.000,9,   1.8950,2,     8.56,2,   -161.8,2,      0.5,2,   -999.0,9,   -999.0,9,   -999.0,9,  -999.00,9, -999.00,     3.8,-999.0000,-999.000, -999.00,  -999.0, -0.0152,-999.000
    31DSCG94_2,  P18S,    16,  1,    101,   1041,2,19940301,1411,-63.9887,-102.9873, 5018,   5092.9,   0.3867,  34.7026,2,  34.7012,2,    226.8,2,    215.4,2,   140.70,2,    31.63,2,     0.00,2,     2.23,2,    0.118,2,    0.061,2, -999.000,9, -999.000,9, -999.000,9,   1.8970,2,     8.57,2,   -155.8,2,      0.4,2,   -999.0,9,   -999.0,9,   -999.0,9,  -999.00,9, -999.00,     2.5,-999.0000,-999.000, -999.00,  -999.0, -0.0206,-999.000