BOTTLE,20220630CCHSIOAMB
EXPOCODE,SECT_ID,STNNBR,CASTNO,SAMPNO,BTLNBR,BTLNBR_FLAG_W,DATE,TIME,LATITUDE,LONGITUDE,DEPTH,CTDPRS,CTDTMP,CTDSAL,CTDSAL_FLAG_W,SALNTY,SALNTY_FLAG_W,CTDOXY,CTDOXY_FLAG_W,OXYGEN,OXYGEN_FLAG_W,SILCAT,SILCAT_FLAG_W,NITRAT,NITRAT_FLAG_W,NITRIT,NITRIT_FLAG_W,PHSPHT,PHSPHT_FLAG_W,CFC-11,CFC-11_FLAG_W,CFC-12,CFC-12_FLAG_W,CFC113,CFC113_FLAG_W,CCL4,CCL4_FLAG_W,TRITUM,TRITUM_FLAG_W,HELIUM,HELIUM_FLAG_W,DELHE3,DELHE3_FLAG_W,DELC14,DELC14_FLAG_W,DELC13,DELC13_FLAG_W,TCARBN,TCARBN_FLAG_W,PCO2,PCO2_FLAG_W,ALKALI,ALKALI_FLAG_W,PH,PH_FLAG_W,PCO2TMP,C14ERR,HELIER,DELHER,PH_TMP,C13ERR,THETA,TRITER
,,,,,,,,,,,,DBAR,ITS-90,PSS-78,,PSS-78,,UMOL/KG,,UMOL/KG,,UMOL/KG,,UMOL/KG,,UMOL/KG,,UMOL/KG,,PMOL/KG,,PMOL/KG,,PMOL/KG,,PMOL/KG,,TU,,NMOL/KG,,PERCNT,,/MILLE,,/MILLE,,UMOL/KG,,UATM,,UMOL/KG,,,,DEG C,/MILLE,NMOL/KG,PERCNT,DEG C,/MILLE,DEG C,TU
    31DSCG94_2,  P18S,    86,  1,    136,   1025,2,19940323,0233,-26.4950,-103.0000, 3462,     10.5,  24.4644,  36.0322,2,  36.0281,2,    203.9,2,    211.1,2,     1.31,2,     0.09,2,     0.00,2,     0.12,2, -999.000,9, -999.000,9, -999.000,9, -999.000,9, -999.000,9,-999.0000,9,  -999.00,9,   -999.0,9,   -999.0,9,   2045.5,3,    315.1,2,   -999.0,5,     8.06,2,   20.00,  -999.0,-999.0000,-999.000,   25.00,  -999.0, 24.4622,-999.000
    31DSCG94_2,  P18S,    86,  1,    135,   1247,2,19940323,0233,-26.4950,-103.0000, 3462,     23.0,  24.3105,  36.0244,2,  36.0266,2,    213.7,2,    210.8,2,     1.15,2,     0.06,2,     0.00,2,     0.10,2, -999.000,9, -999.000,9, -999.000,9, -999.000,9, -999.000,9,-999.0000,9,  -999.00,9,   -999.0,9,   -999.0,9,   2044.0,2,    314.4,2,   -999.0,5,     8.06,2,   20.00,  -999.0,-999.0000,-999.000,   25.00,  -999.0, 24.3056,-999.000
    31DSCG94_2,  P18S,    86,  1,    134,   1108,2,19940323,0233,-26.4950,-103.0000, 3462,     49.0,  24.2905,  36.0283,2,  36.0294,2,    215.1,2,    211.2,2,     1.28,2,     0.06,2,     0.00,2,     0.10,2, -999.000,9, -999.000,9, -999.000,9, -999.000,9, -999.000,9,-999.0000,9,  -999.00,9,   -999.0,9,   -999.0,9,   2044.6,2,    314.0,2,   -999.0,5,     8.06,2,   20.00,  -999.0,-999.0000,-999.000,   25.00,  -999.0, 24.2800,-999.000
    31DSCG94_2,  P18S,    86,  1,    133,   1244,2,19940323,0233,-26.4950,-103.0000, 3462,     75.9,  22.4508,  35.8457,2,  35.8855,3,    222.8,2,    226.3,2,     1.38,2,     0.06,2,     0.00,2,     0.11,2, -999.000,9, -999.000,9, -999.000,9, -999.000,9, -999.000,9,-999.0000,9,  -999.00,9,   -999.0,9,   -999.0,9,   2036.3,2,    312.9,2,   -999.0,5,     8.06,2,   20.00,  -999.0,-999.0000,-999.000,   25.00,  -999.0, 22.4355,-999.000
    31DSCG94_2,  P18S,    86,  1,    132,   1003,2,19940323,0233,-26.4950,-103.0000, 3462,     99.5,  21.1607,  35.7403,2,  35.7388,2,    230.8,2,    231.4,2,     1.28,2,     0.10,2,     0.00,2,     0.13,2, -999.000,9, -999.000,9, -999.000,9, -999.000,9, -999.000,9,-999.0000,9,  -999.00,9,   -999.0,9,   -999.0,9,   2031.9,2,    317.5,2,   -999.0,5,     8.06,2,   20.00,  -999.0,-999.0000,-999.000,   25.00,  -999.0, 21.1415,-999.000
    31DSCG94_2,  P18S,    86,  1,    131,   1211,2,19940323,0233,-26.4950,-103.0000, 3462,    124.1,  20.4602,  35.6782,2,  35.6753,2,    226.9,2,    228.5,2,     1.38,2,     0.05,2,     0.00,2,     0.15,2, -999.000,9, -999.000,9, -999.000,9, -999.000,9, -999.000,9,-999.0000,9,  -999.00,9,   -999.0,9,   -999.0,9,   2033.8,2,    321.4,2,   -999.0,5,     8.05,2,   20.00,  -999.0,-999.0000,-999.000,   25.00,  -999.0, 20.4368,-999.000
    31DSCG94_2,  P18S,    86,  1,    130,   1241,2,19940323,0233,-26.4950,-103.0000, 3462,    148.8,  19.9326,  35.6169,2,  35.6253,2,    224.0,2,    224.5,2,     1.10,2,     0.05,2,     0.00,2,     0.13,2, -999.000,9, -999.000,9, -999.000,9, -999.000,9, -999.000,9,-999.0000,9,  -999.00,9,   -999.0,9,   -999.0,9,   2035.5,2,    330.8,2,   -999.0,5,     8.04,2,   20.00,  -999.0,-999.0000,-999.000,   25.00,  -999.0, 19.9051,-999.000
    31DSCG94_2,  P18S,    86,  1,    129,   1031,3,19940323,0233,-26.4950,-103.0000, 3462,    174.0,  19.2738,  35.4701,2,  35.5135,3,    223.9,2,    223.6,2,     1.22,2,     0.00,2,     0.00,2,     0.14,2, -999.000,9, -999.000,9, -999.000,9, -999.000,9, -999.000,9,-999.0000,9,  -999.00,9,   -999.0,9,   -999.0,9,   2033.6,2,    335.2,2,   -999.0,5,     8.03,2,   20.00,  -999.0,-999.0000,-999.000,   25.00,  -999.0, 19.2423,-999.000
    31DSCG94_2,  P18S,    86,  1,    128,   1032,2,19940323,0233,-26.4950,-103.0000, 3462,    199.6,  18.6440,  35.3570,2,  35.3501,2,    220.7,2,    221.8,2,     1.22,2,     0.19,2,     0.00,2,     0.18,2, -999.000,5, -999.000,5, -999.000,9, -999.000,9, -999.000,9,-999.0000,9,  -999.00,9,   -999.0,9,   -999.0,9,   2042.5,2,    358.1,2,   -999.0,5,     8.01,2,   20.00,  -999.0,-999.0000,-999.000,   25.00,  -999.0, 18.6088,-999.000
    31DSCG94_2,  P18S,    86,  1,    127,   1008,2,19940323,0233,-26.4950,-103.0000, 3462,    248.7,  15.5387,  34.8522,2,  34.8695,2,    212.1,2,    210.7,2,     1.54,2,     3.65,2,     0.00,2,     0.45,2, -999.000,9, -999.000,9, -999.000,9, -999.000,9, -999.000,9,-999.0000,9,  -999.00,9,   -999.0,9,   -999.0,9,   2058.9,2,    428.5,2,   -999.0,5,     7.94,2,   20.00,  -999.0,-999.0000,-999.000,   25.00,  -999.0, 15.5001,-999.000
    31DSCG94_2,  P18S,    86,  1,    126,   1007,2,19940323,0233,-26.4950,-103.0000, 3462,    297.0,  13.8075,  34.7162,2,  34.7186,2,    200.5,2,    202.3,2,     2.19,2,     7.59,2,     0.00,2,     0.70,2, -999.000,9, -999.000,9, -999.000,9, -999.000,9, -999.000,9,-999.0000,9,  -999.00,9,   -999.0,9,   -999.0,9,   2180.5,3,    503.2,2,   -999.0,5,     7.88,2,   20.00,  -999.0,-999.0000,-999.000,   25.00,  -999.0, 13.7649,-999.000
    31DSCG94_2,  P18S,    86,  1,    125,   1203,2,19940323,0233,-26.4950,-103.0000, 3462,    347.1,  11.3337,  34.4893,2,  34.4888,2,    195.8,2,    197.2,2,     3.59,2,    13.41,2,     0.00,2,     1.09,2, -999.000,9, -999.000,9, -999.000,9, -999.000,9, -999.000,9,-999.0000,9,  -999.00,9,   -999.0,9,   -999.0,9,   2103.3,2,    613.0,2,   -999.0,5,     7.80,2,   20.00,  -999.0,-999.0000,-999.000,   25.00,  -999.0, 11.2900,-999.000
    31DSCG94_2,  P18S,    86,  1,    123,   1220,2,19940323,0233,-26.4950,-103.0000, 3462,    398.9,   9.1074,  34.3927,2,  34.3930,2,    171.6,2,    164.0,2,     9.01,2,    22.27,2,     0.00,2,     1.73,2, -999.000,9, -999.000,9, -999.000,9, -999.000,9, -999.000,9,-999.0000,9,  -999.00,9,   -999.0,9,   -999.0,9,   2154.9,3,    877.5,2,   -999.0,5,     7.67,2,   20.00,  -999.0,-999.0000,-999.000,   25.00,  -999.0,  9.0636,-999.000
    31DSCG94_2,  P18S,    86,  1,    122,   1245,2,19940323,0233,-26.4950,-103.0000, 3462,    450.5,   7.9950,  34.3834,2,  34.3813,2,    161.8,2,    157.4,2,    12.33,2,    26.52,2,     0.00,2,     1.96,2, -999.000,9, -999.000,9, -999.000,9, -999.000,9, -999.000,9,-999.0000,9,  -999.00,9,   -999.0,9,   -999.0,9,   2174.3,3,    984.7,2,   -999.0,5,  -999.00,9,   20.00,  -999.0,-999.0000,-999.000, -999.00,  -999.0,  7.9491,-999.000
    31DSCG94_2,  P18S,    86,  1,    121,   1206,2,19940323,0233,-26.4950,-103.0000, 3462,    501.2,   7.0610,  34.3637,2,  34.3659,2,    150.8,2,    162.9,2,    14.31,2,    28.90,2,     0.00,2,     2.06,2, -999.000,9, -999.000,9, -999.000,9, -999.000,9, -999.000,9,-999.0000,9,  -999.00,9,   -999.0,9,   -999.0,9,   2161.3,2,   1027.5,2,   -999.0,5,     7.61,2,   20.00,  -999.0,-999.0000,-999.000,   25.00,  -999.0,  7.0133,-999.000
    31DSCG94_2,  P18S,    86,  1,    120,   1028,2,19940323,0233,-26.4950,-103.0000, 3462,    599.0,   5.8944,  34.2994,2,  34.3000,2,    218.1,2,    231.0,2,    11.26,2,    25.99,2,     0.00,2,     1.82,2, -999.000,9, -999.000,9, -999.000,9, -999.000,9, -999.000,9,-999.0000,9,  -999.00,9,   -999.0,9,   -999.0,9,   2146.8,2,    824.0,2,   -999.0,5,     7.70,2,   20.00,  -999.0,-999.0000,-999.000,   25.00,  -999.0,  5.8423,-999.000
    31DSCG94_2,  P18S,    86,  1,    119,   1248,2,19940323,0233,-26.4950,-103.0000, 3462,    698.9,   5.4455,  34.2909,2,  34.2930,2,    215.9,2,    213.0,2,    16.00,2,    28.62,2,     0.00,2,     2.01,2, -999.000,9, -999.000,9, -999.000,9, -999.000,9, -999.000,9,-999.0000,9,  -999.00,9,   -999.0,9,   -999.0,9,   -999.0,9,    897.4,2,   -999.0,9,     7.67,2,   20.00,  -999.0,-999.0000,-999.000,   25.00,  -999.0,  5.3866,-999.000
    31DSCG94_2,  P18S,    86,  1,    118,   1207,2,19940323,0233,-26.4950,-103.0000, 3462,    802.0,   4.9582,  34.3119,2,  34.3108,2,    184.7,2,    185.4,2,    25.53,2,    32.01,2,     0.00,2,     2.24,2, -999.000,9, -999.000,9, -999.000,9, -999.000,9, -999.000,9,-999.0000,9,  -999.00,9,   -999.0,9,   -999.0,9,   2190.8,2,   1023.9,2,   -999.0,5,     7.61,2,   20.00,  -999.0,-999.0000,-999.000,   25.00,  -999.0,  4.8930,-999.000
    31DSCG94_2,  P18S,    86,  1,    117,   1119,2,19940323,0233,-26.4950,-103.0000, 3462,    896.5,   4.5595,  34.3540,2,  34.3530,2,    161.4,2,    157.2,2,    37.60,2,    35.08,2,     0.00,2,     2.48,2, -999.000,9, -999.000,9, -999.000,9, -999.000,9, -999.000,9,-999.0000,9,  -999.00,9,   -999.0,9,   -999.0,9,   2217.9,2,   1156.9,2,   -999.0,5,     7.56,2,   20.00,  -999.0,-999.0000,-999.000,   25.00,  -999.0,  4.4887,-999.000
    31DSCG94_2,  P18S,    86,  1,    116,   1036,2,19940323,0233,-26.4950,-103.0000, 3462,   1000.7,   4.1112,  34.4057,2,  34.4047,2,    140.3,2,    138.5,2,    52.20,2,    37.18,2,     0.00,2,     2.63,2, -999.000,9, -999.000,9, -999.000,9, -999.000,9, -999.000,9,-999.0000,9,  -999.00,9,   -999.0,9,   -999.0,9,   2243.2,2,   1269.1,2,   -999.0,5,     7.53,2,   20.00,  -999.0,-999.0000,-999.000,   25.00,  -999.0,  4.0348,-999.000
    31DSCG94_2,  P18S,    86,  1,    115,   1017,2,19940323,0233,-26.4950,-103.0000, 3462,   1099.3,   3.8547,  34.4552,2,  34.4534,2,    128.6,2,    128.0,6,    64.76,2,    37.95,2,     0.00,2,     2.67,2, -999.000,9, -999.000,9, -999.000,9, -999.000,9, -999.000,9,-999.0000,9,  -999.00,9,   -999.0,9,   -999.0,9,   -999.0,9,   -999.0,9,   -999.0,9,  -999.00,9, -999.00,  -999.0,-999.0000,-999.000, -999.00,  -999.0,  3.7720,-999.000
    31DSCG94_2,  P18S,    86,  1,    114,   1016,2,19940323,0233,-26.4950,-103.0000, 3462,   1199.0,   3.5547,  34.4948,2,  34.4932,2,    125.7,2,    126.1,2,    74.62,2,    37.97,2,     0.00,2,     2.71,2, -999.000,9, -999.000,9, -999.000,9, -999.000,9, -999.000,9,-999.0000,9,  -999.00,9,   -999.0,9,   -999.0,9,   -999.0,9,   -999.0,9,   -999.0,9,     7.52,2, -999.00,  -999.0,-999.0000,-999.000,   25.00,  -999.0,  3.4663,-999.000
    31DSCG94_2,  P18S,    86,  1,    113,   1209,2,19940323,0233,-26.4950,-103.0000, 3462,   1297.8,   3.2713,  34.5209,2,  34.5225,2,    129.0,2,    131.0,2,    81.02,2,    37.52,2,     0.00,2,     2.68,2, -999.000,9, -999.000,9, -999.000,9, -999.000,9, -999.000,9,-999.0000,9,  -999.00,9,   -999.0,9,   -999.0,9,   -999.0,9,   -999.0,9,   -999.0,9,  -999.00,9, -999.00,  -999.0,-999.0000,-999.000, -999.00,  -999.0,  3.1774,-999.000
    31DSCG94_2,  P18S,    86,  1,    112,   1033,2,19940323,0233,-26.4950,-103.0000, 3462,   1398.8,   2.9453,  34.5453,2,  34.5453,2,    137.6,2,    139.7,2,    87.04,2,    36.68,2,     0.00,2,     2.62,2, -999.000,9, -999.000,9, -999.000,9, -999.000,9, -999.000,9,-999.0000,9,  -999.00,9,   -999.0,9,   -999.0,9,   -999.0,9,   -999.0,9,   -999.0,9,     7.55,2, -999.00,  -999.0,-999.0000,-999.000,   25.00,  -999.0,  2.8465,-999.000
    31DSCG94_2,  P18S,    86,  1,    111,   1240,2,19940323,0233,-26.4950,-103.0000, 3462,   1501.8,   2.6754,  34.5695,2,  34.5679,2,    143.5,2,    145.2,2,    92.71,2,    36.54,2,     0.00,2,     2.57,2, -999.000,9, -999.000,9, -999.000,9, -999.000,9, -999.000,9,-999.0000,9,  -999.00,9,   -999.0,9,   -999.0,9,   -999.0,9,   -999.0,9,   -999.0,9,  -999.00,9, -999.00,  -999.0,-999.0000,-999.000, -999.00,  -999.0,  2.5711,-999.000
    31DSCG94_2,  P18S,    86,  1,    110,   1005,2,19940323,0233,-26.4950,-103.0000, 3462,   1598.1,   2.4763,  34.5882,2,  34.5880,2,    147.5,2,    148.7,2,    96.98,2,    36.35,2,     0.00,2,     2.57,2, -999.000,9, -999.000,9, -999.000,9, -999.000,9, -999.000,9,-999.0000,9,  -999.00,9,   -999.0,9,   -999.0,9,   -999.0,9,   -999.0,9,   -999.0,9,     7.56,2, -999.00,  -999.0,-999.0000,-999.000,   25.00,  -999.0,  2.3666,-999.000
    31DSCG94_2,  P18S,    86,  1,    109,   1611,2,19940323,0233,-26.4950,-103.0000, 3462,   1799.1,   2.2045,  34.6193,2,  34.6183,2,    153.4,2,    152.4,2,   106.02,2,    36.01,2,     0.00,2,     2.54,2, -999.000,9, -999.000,9, -999.000,9, -999.000,9, -999.000,9,-999.0000,9,  -999.00,9,   -999.0,9,   -999.0,9,   -999.0,9,   -999.0,9,   -999.0,9,     7.57,2, -999.00,  -999.0,-999.0000,-999.000,   25.00,  -999.0,  2.0818,-999.000
    31DSCG94_2,  P18S,    86,  1,    108,   1218,2,19940323,0233,-26.4950,-103.0000, 3462,   1999.1,   2.0390,  34.6392,2,  34.6368,2,    157.3,2,    154.6,2,   113.16,2,    35.69,2,     0.00,2,     2.51,2, -999.000,9, -999.000,9, -999.000,9, -999.000,9, -999.000,9,-999.0000,9,  -999.00,9,   -999.0,9,   -999.0,9,   -999.0,9,   -999.0,9,   -999.0,9,  -999.00,9, -999.00,  -999.0,-999.0000,-999.000, -999.00,  -999.0,  1.9020,-999.000
    31DSCG94_2,  P18S,    86,  1,    107,   1257,2,19940323,0233,-26.4950,-103.0000, 3462,   2216.2,   1.9404,  34.6524,2,  34.6506,2,    157.9,2,    156.6,6,   117.66,2,    35.55,2,     0.00,2,     2.51,2, -999.000,9, -999.000,9, -999.000,9, -999.000,9, -999.000,9,-999.0000,9,  -999.00,9,   -999.0,9,   -999.0,9,   -999.0,9,   -999.0,9,   -999.0,9,  -999.00,9, -999.00,  -999.0,-999.0000,-999.000, -999.00,  -999.0,  1.7864,-999.000
    31DSCG94_2,  P18S,    86,  1,    106,   1224,2,19940323,0233,-26.4950,-103.0000, 3462,   2498.8,   1.8917,  34.6612,2,  34.6593,2,    156.5,2,    156.9,2,   119.36,2,    35.40,2,     0.00,2,     2.49,2, -999.000,9, -999.000,9, -999.000,9, -999.000,9, -999.000,9,-999.0000,9,  -999.00,9,   -999.0,9,   -999.0,9,   -999.0,9,   -999.0,9,   -999.0,9,  -999.00,9, -999.00,  -999.0,-999.0000,-999.000, -999.00,  -999.0,  1.7135,-999.000
    31DSCG94_2,  P18S,    86,  1,    105,   1246,2,19940323,0233,-26.4950,-103.0000, 3462,   2750.1,   1.8788,  34.6660,2,  34.6639,2,    157.2,2,    157.9,2,   119.45,2,    35.29,2,     0.00,2,     2.49,2, -999.000,9, -999.000,9, -999.000,9, -999.000,9, -999.000,9,-999.0000,9,  -999.00,9,   -999.0,9,   -999.0,9,   -999.0,9,   -999.0,9,   -999.0,9,  -999.00,9, -999.00,  -999.0,-999.0000,-999.000, -999.00,  -999.0,  1.6777,-999.000
    31DSCG94_2,  P18S,    86,  1,    104,   1217,2,19940323,0233,-26.4950,-103.0000, 3462,   3001.1,   1.8803,  34.6696,2,  34.6640,3,    158.4,2,    157.6,6,   119.08,2,    35.68,2,     0.00,2,     2.51,2, -999.000,9, -999.000,9, -999.000,9, -999.000,9, -999.000,9,-999.0000,9,  -999.00,9,   -999.0,9,   -999.0,9,   -999.0,9,   -999.0,9,   -999.0,9,  -999.00,9, -999.00,  -999.0,-999.0000,-999.000, -999.00,  -999.0,  1.6551,-999.000
    31DSCG94_2,  P18S,    86,  1,    103,   9999,2,19940323,0233,-26.4950,-103.0000, 3462,   3249.9,   1.8921,  34.6717,2,  34.6711,2,    160.1,2,    157.2,2,   119.96,2,    36.03,2,     0.00,2,     2.41,3, -999.000,9, -999.000,9, -999.000,9, -999.000,9, -999.000,9,-999.0000,9,  -999.00,9,   -999.0,9,   -999.0,9,   -999.0,9,   -999.0,9,   -999.0,9,  -999.00,9, -999.00,  -999.0,-999.0000,-999.000, -999.00,  -999.0,  1.6419,-999.000
    31DSCG94_2,  P18S,    86,  1,    102,   1223,2,19940323,0233,-26.4950,-103.0000, 3462,   3250.3,   1.8924,  34.6714,2,  34.6723,2,    160.0,2,    157.9,2,   121.66,2,    35.67,2,     0.00,2,     2.49,2, -999.000,9, -999.000,9, -999.000,9, -999.000,9, -999.000,9,-999.0000,9,  -999.00,9,   -999.0,9,   -999.0,9,   -999.0,9,   -999.0,9,   -999.0,9,  -999.00,9, -999.00,  -999.0,-999.0000,-999.000, -999.00,  -999.0,  1.6421,-999.000
    31DSCG94_2,  P18S,    86,  1,    101,   1041,2,19940323,0233,-26.4950,-103.0000, 3462,   3488.7,   1.9145,  34.6720,2,  34.6729,2,    160.3,2,    158.1,2,   121.84,2,    35.62,2,     0.00,2,     2.50,2, -999.000,9, -999.000,9, -999.000,9, -999.000,9, -999.000,9,-999.0000,9,  -999.00,9,   -999.0,9,   -999.0,9,   -999.0,9,   -999.0,9,   -999.0,9,  -999.00,9, -999.00,  -999.0,-999.0000,-999.000, -999.00,  -999.0,  1.6392,-999.000