BOTTLE,20220630CCHSIOAMB
EXPOCODE,SECT_ID,STNNBR,CASTNO,SAMPNO,BTLNBR,BTLNBR_FLAG_W,DATE,TIME,LATITUDE,LONGITUDE,DEPTH,CTDPRS,CTDTMP,CTDSAL,CTDSAL_FLAG_W,SALNTY,SALNTY_FLAG_W,CTDOXY,CTDOXY_FLAG_W,OXYGEN,OXYGEN_FLAG_W,SILCAT,SILCAT_FLAG_W,NITRAT,NITRAT_FLAG_W,NITRIT,NITRIT_FLAG_W,PHSPHT,PHSPHT_FLAG_W,CFC-11,CFC-11_FLAG_W,CFC-12,CFC-12_FLAG_W,CFC113,CFC113_FLAG_W,CCL4,CCL4_FLAG_W,TRITUM,TRITUM_FLAG_W,HELIUM,HELIUM_FLAG_W,DELHE3,DELHE3_FLAG_W,DELC14,DELC14_FLAG_W,DELC13,DELC13_FLAG_W,TCARBN,TCARBN_FLAG_W,PCO2,PCO2_FLAG_W,ALKALI,ALKALI_FLAG_W,PH,PH_FLAG_W,PCO2TMP,C14ERR,HELIER,DELHER,PH_TMP,C13ERR,THETA,TRITER
,,,,,,,,,,,,DBAR,ITS-90,PSS-78,,PSS-78,,UMOL/KG,,UMOL/KG,,UMOL/KG,,UMOL/KG,,UMOL/KG,,UMOL/KG,,PMOL/KG,,PMOL/KG,,PMOL/KG,,PMOL/KG,,TU,,NMOL/KG,,PERCNT,,/MILLE,,/MILLE,,UMOL/KG,,UATM,,UMOL/KG,,,,DEG C,/MILLE,NMOL/KG,PERCNT,DEG C,/MILLE,DEG C,TU
    31DSCG94_3,  P18N,   128,  1,    135,   1247,2,19940409,0648, -6.5610,-108.0727, 3125,      8.6,  27.8202,  34.7020,2,  34.7057,2,    168.6,2,    200.8,2,     2.10,2,     2.96,2,     0.05,2,     0.41,2,    1.710,2,    0.953,2, -999.000,5, -999.000,5, -999.000,9,-999.0000,9,  -999.00,9,   -999.0,9,   -999.0,9,   -999.0,9,   -999.0,9,   -999.0,9,     8.07,2, -999.00,  -999.0,-999.0000,-999.000,   25.00,  -999.0, 27.8182,-999.000
    31DSCG94_3,  P18N,   128,  1,    136,   1025,2,19940409,0648, -6.5610,-108.0727, 3125,      9.6,  27.8157,  34.7015,2,  34.7034,2,    171.7,2,    200.9,2,     2.36,2,     2.51,2,     0.06,2,     0.41,2,    1.706,2,    0.979,2, -999.000,9, -999.000,9, -999.000,9,-999.0000,9,  -999.00,9,   -999.0,9,      1.6,2,   1975.8,2,    298.7,2,   2289.0,6,     8.07,2,   20.00,  -999.0,-999.0000,-999.000,   25.00,  -999.0, 27.8135,-999.000
    31DSCG94_3,  P18N,   128,  1,    134,   1216,2,19940409,0648, -6.5610,-108.0727, 3125,     22.8,  27.8190,  34.7277,2,  34.7315,2,    168.4,2,   -999.0,9,     2.21,2,     3.01,2,     0.05,2,     0.43,2,    1.703,2,    0.976,2, -999.000,9, -999.000,9, -999.000,9,-999.0000,9,  -999.00,9,   -999.0,9,   -999.0,9,   -999.0,9,    297.1,2,   -999.0,9,     8.07,2,   20.00,  -999.0,-999.0000,-999.000,   25.00,  -999.0, 27.8137,-999.000
    31DSCG94_3,  P18N,   128,  1,    133,   1244,2,19940409,0648, -6.5610,-108.0727, 3125,     47.9,  27.1155,  34.9919,2,  35.0037,2,    170.2,2,    201.9,2,     2.15,2,     3.72,2,     0.08,2,     0.52,2,    1.764,2,    0.994,2, -999.000,9, -999.000,9, -999.000,9,-999.0000,9,  -999.00,9,   -999.0,9,   -999.0,9,   1975.1,2,   -999.0,9,   2284.0,2,     8.06,2, -999.00,  -999.0,-999.0000,-999.000,   25.00,  -999.0, 27.1045,-999.000
    31DSCG94_3,  P18N,   128,  1,    132,   1003,2,19940409,0648, -6.5610,-108.0727, 3125,     76.3,  21.2799,  35.3171,2,  35.3345,2,    149.3,2,    157.9,2,     4.73,2,     8.26,2,     1.12,2,     1.05,2,    1.962,2,    1.080,2, -999.000,9, -999.000,9, -999.000,9,-999.0000,9,  -999.00,9,   -999.0,9,   -999.0,9,   -999.0,9,    482.6,2,   -999.0,9,     7.90,2,   20.00,  -999.0,-999.0000,-999.000,   25.00,  -999.0, 21.2652,-999.000
    31DSCG94_3,  P18N,   128,  1,    131,   1211,2,19940409,0648, -6.5610,-108.0727, 3125,     99.9,  17.8756,  35.3069,2,  35.3022,2,     81.9,2,     81.5,2,     7.33,2,    16.82,2,     1.25,2,     1.57,2,    1.797,2,    0.975,2, -999.000,9, -999.000,9, -999.000,9,-999.0000,9,  -999.00,9,   -999.0,9,   -999.0,9,   2100.1,3,    759.7,2,   2324.0,2,     7.73,2,   20.00,  -999.0,-999.0000,-999.000,   25.00,  -999.0, 17.8585,-999.000
    31DSCG94_3,  P18N,   128,  1,    130,   1241,2,19940409,0648, -6.5610,-108.0727, 3125,    124.8,  14.5965,  35.0358,2,  35.0359,2,     49.1,2,     14.6,2,    15.00,2,    26.10,2,     0.02,2,     2.18,2,    1.000,2,    0.529,2, -999.000,9, -999.000,9, -999.000,9,-999.0000,9,  -999.00,9,   -999.0,9,   -999.0,9,   2174.7,3,   1235.8,2,   2318.0,2,     7.54,2,   20.00,  -999.0,-999.0000,-999.000,   25.00,  -999.0, 14.5780,-999.000
    31DSCG94_3,  P18N,   128,  1,    129,   1240,2,19940409,0648, -6.5610,-108.0727, 3125,    148.0,  13.1378,  34.9403,2,  34.9380,2,     17.9,2,     10.1,2,    19.55,2,    28.26,2,     0.00,2,     2.30,2,    0.509,2,    0.284,2, -999.000,9, -999.000,9, -999.000,9,-999.0000,9,  -999.00,9,   -999.0,9,   -999.0,9,   2228.8,2,   1352.3,2,   2297.0,2,     7.50,2,   20.00,  -999.0,-999.0000,-999.000,   25.00,  -999.0, 13.1174,-999.000
    31DSCG94_3,  P18N,   128,  1,    128,   1032,3,19940409,0648, -6.5610,-108.0727, 3125,    173.7,  12.5881,  34.9116,2,  34.9113,2,     18.5,2,     12.9,2,    23.04,2,    30.54,2,     0.00,2,     2.29,2,    0.324,2,    0.198,2, -999.000,9, -999.000,9, -999.000,9,-999.0000,9,  -999.00,9,   -999.0,9,   -999.0,9,   2239.2,2,   1369.4,2,   2294.0,2,  -999.00,9,   20.00,  -999.0,-999.0000,-999.000, -999.00,  -999.0, 12.5647,-999.000
    31DSCG94_3,  P18N,   128,  1,    127,   1008,2,19940409,0648, -6.5610,-108.0727, 3125,    201.8,  12.1754,  34.8837,2,  34.8820,2,     22.8,2,     17.7,2,    24.13,2,    31.57,2,     0.00,2,     2.29,2,    0.271,2,    0.161,2, -999.000,9, -999.000,9, -999.000,9,-999.0000,9,  -999.00,9,   -999.0,9,   -999.0,9,   2240.4,2,   -999.0,9,   2300.0,2,     7.50,2, -999.00,  -999.0,-999.0000,-999.000,   25.00,  -999.0, 12.1488,-999.000
    31DSCG94_3,  P18N,   128,  1,    126,   1007,2,19940409,0648, -6.5610,-108.0727, 3125,    224.3,  11.9272,  34.8680,2,  34.8673,2,     24.7,2,     26.2,2,    24.46,2,    31.55,2,     0.00,2,     2.26,2,    0.260,2,    0.146,2, -999.000,9, -999.000,9, -999.000,9,-999.0000,9,  -999.00,9,   -999.0,9,   -999.0,9,   -999.0,9,   1330.3,2,   -999.0,9,     7.51,2,   20.00,  -999.0,-999.0000,-999.000,   25.00,  -999.0, 11.8981,-999.000
    31DSCG94_3,  P18N,   128,  1,    125,   1203,2,19940409,0648, -6.5610,-108.0727, 3125,    252.2,  11.6173,  34.8484,2,  34.8476,2,     21.6,2,     23.2,2,    26.08,2,    31.33,2,     0.00,2,     2.29,2,    0.213,2,    0.127,2, -999.000,9, -999.000,9, -999.000,9,-999.0000,9,  -999.00,9,   -999.0,9,   -999.0,9,   2235.7,2,   1384.9,2,   2298.0,2,     7.50,2,   20.00,  -999.0,-999.0000,-999.000,   25.00,  -999.0, 11.5851,-999.000
    31DSCG94_3,  P18N,   128,  1,    123,   1220,2,19940409,0648, -6.5610,-108.0727, 3125,    299.5,  11.0838,  34.8119,2,  34.8130,2,      9.0,2,      7.9,2,    29.13,2,    33.75,2,     0.00,2,     2.46,2,    0.114,2,    0.075,2, -999.000,9, -999.000,9, -999.000,9,-999.0000,9,  -999.00,9,   -999.0,9,   -999.0,9,   2242.5,2,   -999.0,9,   2300.0,2,     7.44,2, -999.00,  -999.0,-999.0000,-999.000,   25.00,  -999.0, 11.0466,-999.000
    31DSCG94_3,  P18N,   128,  1,    122,   1245,2,19940409,0648, -6.5610,-108.0727, 3125,    401.1,   9.5487,  34.7132,2,  34.7122,2,      3.1,2,      4.9,2,    34.93,2,    36.67,2,     0.00,2,     2.72,2,    0.018,6,    0.018,6, -999.000,9, -999.000,9, -999.000,9,-999.0000,9,  -999.00,9,   -999.0,9,   -999.0,9,   2277.0,2,   1787.9,2,   2302.0,2,     7.40,2,   20.00,  -999.0,-999.0000,-999.000,   25.00,  -999.0,  9.5032,-999.000
    31DSCG94_3,  P18N,   128,  1,    121,   1206,2,19940409,0648, -6.5610,-108.0727, 3125,    499.6,   7.8757,  34.6189,2,  34.6181,2,      9.5,2,     11.1,2,    41.46,2,    42.27,2,     0.00,2,     2.91,2,    0.004,2,    0.003,2, -999.000,9, -999.000,9, -999.000,9,-999.0000,9,  -999.00,9,   -999.0,9,   -999.0,9,   2288.2,2,   1885.5,2,   2302.0,2,     7.37,2,   20.00,  -999.0,-999.0000,-999.000,   25.00,  -999.0,  7.8249,-999.000
    31DSCG94_3,  P18N,   128,  1,    120,   1028,2,19940409,0648, -6.5610,-108.0727, 3125,    599.8,   6.6004,  34.5647,2,  34.5640,2,     23.4,2,     33.8,2,    49.39,2,    43.63,2,     0.00,2,     2.93,2,    0.000,2,    0.013,2, -999.000,9, -999.000,9, -999.000,9,-999.0000,9,  -999.00,9,   -999.0,9,   -999.0,9,   2287.4,2,   1776.1,2,   2313.0,2,     7.40,2,   20.00,  -999.0,-999.0000,-999.000,   25.00,  -999.0,  6.5448,-999.000
    31DSCG94_3,  P18N,   128,  1,    119,   1248,2,19940409,0648, -6.5610,-108.0727, 3125,    701.6,   5.7576,  34.5460,2,  34.5467,2,     45.3,2,     54.8,2,    59.62,2,    42.51,2,     0.00,2,     2.87,2, -999.000,5, -999.000,5, -999.000,9, -999.000,9, -999.000,9,-999.0000,9,  -999.00,9,   -999.0,9,   -999.0,9,   2286.7,2,   1648.9,3,   2321.0,2,     7.43,2,   20.00,  -999.0,-999.0000,-999.000,   25.00,  -999.0,  5.6966,-999.000
    31DSCG94_3,  P18N,   128,  1,    118,   1115,3,19940409,0648, -6.5610,-108.0727, 3125,    799.0,   5.1078,  34.5365,2,  34.5369,2,     61.4,2,     76.9,2,    67.64,2,    40.86,2,     0.00,2,     2.80,2,    0.006,2,   -0.002,2, -999.000,9, -999.000,9, -999.000,9,-999.0000,9,  -999.00,9,   -999.0,9,   -999.0,9,   2285.7,2,   1522.1,2,   2331.0,2,  -999.00,9,   20.00,  -999.0,-999.0000,-999.000, -999.00,  -999.0,  5.0417,-999.000
    31DSCG94_3,  P18N,   128,  1,    117,   1119,2,19940409,0648, -6.5610,-108.0727, 3125,    903.2,   4.6105,  34.5410,2,  34.5404,2,     69.5,2,     84.2,2,    76.49,2,    40.31,2,     0.00,2,     2.79,2, -999.000,9, -999.000,9, -999.000,9, -999.000,9, -999.000,9,-999.0000,9,  -999.00,9,   -999.0,9,   -999.0,9,   2291.1,2,   1492.3,2,   2340.0,2,     7.48,2,   20.00,  -999.0,-999.0000,-999.000,   25.00,  -999.0,  4.5385,-999.000
    31DSCG94_3,  P18N,   128,  1,    116,   1036,2,19940409,0648, -6.5610,-108.0727, 3125,   1001.9,   4.2344,  34.5514,2,  34.5523,2,     75.9,2,     91.4,2,    84.84,2,    40.49,2,     0.00,2,     2.76,2, -999.000,9, -999.000,9, -999.000,9, -999.000,9, -999.000,9,-999.0000,9,  -999.00,9,   -999.0,9,   -999.0,9,   2296.0,2,   1443.3,2,   2354.0,2,     7.49,2,   20.00,  -999.0,-999.0000,-999.000,   25.00,  -999.0,  4.1567,-999.000
    31DSCG94_3,  P18N,   128,  1,    115,   1017,2,19940409,0648, -6.5610,-108.0727, 3125,   1102.3,   3.9108,  34.5619,2,  34.5624,2,     79.9,2,     89.4,6,    92.35,2,    40.06,2,     0.00,2,     2.81,2, -999.000,9, -999.000,9, -999.000,9, -999.000,9, -999.000,9,-999.0000,9,  -999.00,9,   -999.0,9,   -999.0,9,   -999.0,9,   -999.0,9,   -999.0,9,     7.48,2, -999.00,  -999.0,-999.0000,-999.000,   25.00,  -999.0,  3.8272,-999.000
    31DSCG94_3,  P18N,   128,  1,    114,   1016,2,19940409,0648, -6.5610,-108.0727, 3125,   1201.8,   3.6254,  34.5730,2,  34.5741,2,     80.3,2,     89.9,2,   100.50,2,    40.19,2,     0.00,2,     2.77,2, -999.000,9, -999.000,9, -999.000,9, -999.000,9, -999.000,9,-999.0000,9,  -999.00,9,   -999.0,9,   -999.0,9,   -999.0,9,   -999.0,9,   -999.0,9,     7.48,2, -999.00,  -999.0,-999.0000,-999.000,   25.00,  -999.0,  3.5360,-999.000
    31DSCG94_3,  P18N,   128,  1,    113,   1209,2,19940409,0648, -6.5610,-108.0727, 3125,   1272.2,   3.4633,  34.5793,2,  34.5797,2,     81.1,2,     90.1,2,   103.65,2,    40.29,2,     0.00,2,     2.78,2, -999.000,9, -999.000,9, -999.000,9, -999.000,9, -999.000,9,-999.0000,9,  -999.00,9,   -999.0,9,   -999.0,9,   -999.0,9,   -999.0,9,   -999.0,9,     7.48,2, -999.00,  -999.0,-999.0000,-999.000,   25.00,  -999.0,  3.3695,-999.000
    31DSCG94_3,  P18N,   128,  1,    112,   1033,2,19940409,0648, -6.5610,-108.0727, 3125,   1402.5,   3.2077,  34.5903,2,  34.5908,2,     84.4,2,     92.7,2,   108.67,2,    39.88,2,     0.00,2,     2.76,2, -999.000,9, -999.000,9, -999.000,9, -999.000,9, -999.000,9,-999.0000,9,  -999.00,9,   -999.0,9,   -999.0,9,   -999.0,9,   -999.0,9,   -999.0,9,     7.49,2, -999.00,  -999.0,-999.0000,-999.000,   25.00,  -999.0,  3.1057,-999.000
    31DSCG94_3,  P18N,   128,  1,    111,   1240,2,19940409,0648, -6.5610,-108.0727, 3125,   1597.5,   2.8010,  34.6112,2,  34.6115,2,     92.6,2,     95.2,6,   119.93,2,    40.99,2,     0.00,2,     2.76,2, -999.000,9, -999.000,9, -999.000,9, -999.000,9, -999.000,9,-999.0000,9,  -999.00,9,   -999.0,9,   -999.0,9,   -999.0,9,   -999.0,9,   -999.0,9,     7.49,2, -999.00,  -999.0,-999.0000,-999.000,   25.00,  -999.0,  2.6873,-999.000
    31DSCG94_3,  P18N,   128,  1,    110,   1005,2,19940409,0648, -6.5610,-108.0727, 3125,   1801.4,   2.5438,  34.6254,2,  34.6259,2,    104.9,2,    100.2,2,   126.04,2,    39.55,2,     0.00,2,     2.73,2, -999.000,9, -999.000,9, -999.000,9, -999.000,9, -999.000,9,-999.0000,9,  -999.00,9,   -999.0,9,   -999.0,9,   -999.0,9,   -999.0,9,   -999.0,9,     7.50,2, -999.00,  -999.0,-999.0000,-999.000,   25.00,  -999.0,  2.4162,-999.000
    31DSCG94_3,  P18N,   128,  1,    109,   1611,2,19940409,0648, -6.5610,-108.0727, 3125,   2002.5,   2.3037,  34.6398,2,  34.6409,2,    111.9,2,    105.8,2,   132.20,2,    39.69,2,     0.00,2,     2.71,2, -999.000,9, -999.000,9, -999.000,9, -999.000,9, -999.000,9,-999.0000,9,  -999.00,9,   -999.0,9,   -999.0,9,   -999.0,9,   -999.0,9,   -999.0,9,     7.51,2, -999.00,  -999.0,-999.0000,-999.000,   25.00,  -999.0,  2.1624,-999.000
    31DSCG94_3,  P18N,   128,  1,    108,   1218,2,19940409,0648, -6.5610,-108.0727, 3125,   2200.3,   2.1135,  34.6509,2,  34.6505,2,    113.2,2,    111.7,2,   138.15,2,    38.53,2,     0.00,2,     2.64,2, -999.000,9, -999.000,9, -999.000,9, -999.000,9, -999.000,9,-999.0000,9,  -999.00,9,   -999.0,9,   -999.0,9,   -999.0,9,   -999.0,9,   -999.0,9,  -999.00,9, -999.00,  -999.0,-999.0000,-999.000, -999.00,  -999.0,  1.9580,-999.000
    31DSCG94_3,  P18N,   128,  1,    107,   1257,2,19940409,0648, -6.5610,-108.0727, 3125,   2398.7,   1.9648,  34.6592,2,  34.6598,2,    119.5,2,    122.6,2,   140.65,2,    37.56,2,     0.00,2,     2.58,2, -999.000,9, -999.000,9, -999.000,9, -999.000,9, -999.000,9,-999.0000,9,  -999.00,9,   -999.0,9,   -999.0,9,   -999.0,9,   -999.0,9,   -999.0,9,     7.54,2, -999.00,  -999.0,-999.0000,-999.000,   25.00,  -999.0,  1.7943,-999.000
    31DSCG94_3,  P18N,   128,  1,    106,   1224,2,19940409,0648, -6.5610,-108.0727, 3125,   2600.1,   1.8355,  34.6679,2,  34.6677,2,    126.0,2,    128.5,2,   141.20,2,    37.35,2,     0.00,2,     2.52,2, -999.000,9, -999.000,9, -999.000,9, -999.000,9, -999.000,9,-999.0000,9,  -999.00,9,   -999.0,9,   -999.0,9,   -999.0,9,   -999.0,9,   -999.0,9,  -999.00,9, -999.00,  -999.0,-999.0000,-999.000, -999.00,  -999.0,  1.6491,-999.000
    31DSCG94_3,  P18N,   128,  1,    105,   1246,2,19940409,0648, -6.5610,-108.0727, 3125,   2802.7,   1.7816,  34.6735,2,  34.6737,2,    131.4,2,    135.8,6,   142.44,2,    36.61,2,     0.00,2,     2.49,2, -999.000,9, -999.000,9, -999.000,9, -999.000,9, -999.000,9,-999.0000,9,  -999.00,9,   -999.0,9,   -999.0,9,   -999.0,9,   -999.0,9,   -999.0,9,     7.57,2, -999.00,  -999.0,-999.0000,-999.000,   25.00,  -999.0,  1.5774,-999.000
    31DSCG94_3,  P18N,   128,  1,    104,   1217,2,19940409,0648, -6.5610,-108.0727, 3125,   2995.2,   1.7421,  34.6757,2,  34.6762,2,    132.8,2,    137.4,2,   142.71,2,    37.02,2,     0.00,2,     2.50,2, -999.000,9, -999.000,9, -999.000,9, -999.000,9, -999.000,9,-999.0000,9,  -999.00,9,   -999.0,9,   -999.0,9,   -999.0,9,   -999.0,9,   -999.0,9,  -999.00,9, -999.00,  -999.0,-999.0000,-999.000, -999.00,  -999.0,  1.5204,-999.000
    31DSCG94_3,  P18N,   128,  1,    103,   9999,2,19940409,0648, -6.5610,-108.0727, 3125,   3203.7,   1.7405,  34.6764,2,  34.6783,2,    133.8,2,    138.5,2,   143.03,2,    36.77,2,     0.00,2,     2.50,2, -999.000,9, -999.000,9, -999.000,9, -999.000,9, -999.000,9,-999.0000,9,  -999.00,9,   -999.0,9,   -999.0,9,   -999.0,9,   -999.0,9,   -999.0,9,     7.58,2, -999.00,  -999.0,-999.0000,-999.000,   25.00,  -999.0,  1.4984,-999.000
    31DSCG94_3,  P18N,   128,  1,    102,   1223,2,19940409,0648, -6.5610,-108.0727, 3125,   3204.3,   1.7402,  34.6764,2,  34.6765,2,    133.6,2,    138.8,2,   144.95,2,    36.34,2,     0.00,2,     2.49,2, -999.000,9, -999.000,9, -999.000,9, -999.000,9, -999.000,9,-999.0000,9,  -999.00,9,   -999.0,9,   -999.0,9,   -999.0,9,   -999.0,9,   -999.0,9,  -999.00,9, -999.00,  -999.0,-999.0000,-999.000, -999.00,  -999.0,  1.4980,-999.000
    31DSCG94_3,  P18N,   128,  1,    101,   1041,2,19940409,0648, -6.5610,-108.0727, 3125,   3275.0,   1.7474,  34.6763,2,  34.6771,2,    133.4,2,    139.1,2,   143.29,6,    36.69,6,     0.00,6,     2.50,6, -999.000,9, -999.000,9, -999.000,9, -999.000,9, -999.000,9,-999.0000,9,  -999.00,9,   -999.0,9,   -999.0,9,   -999.0,9,   -999.0,9,   -999.0,9,     7.57,2, -999.00,  -999.0,-999.0000,-999.000,   25.00,  -999.0,  1.4980,-999.000