BOTTLE,20220630CCHSIOAMB
EXPOCODE,SECT_ID,STNNBR,CASTNO,SAMPNO,BTLNBR,BTLNBR_FLAG_W,DATE,TIME,LATITUDE,LONGITUDE,DEPTH,CTDPRS,CTDTMP,CTDSAL,CTDSAL_FLAG_W,SALNTY,SALNTY_FLAG_W,CTDOXY,CTDOXY_FLAG_W,OXYGEN,OXYGEN_FLAG_W,SILCAT,SILCAT_FLAG_W,NITRAT,NITRAT_FLAG_W,NITRIT,NITRIT_FLAG_W,PHSPHT,PHSPHT_FLAG_W,CFC-11,CFC-11_FLAG_W,CFC-12,CFC-12_FLAG_W,CFC113,CFC113_FLAG_W,CCL4,CCL4_FLAG_W,TRITUM,TRITUM_FLAG_W,HELIUM,HELIUM_FLAG_W,DELHE3,DELHE3_FLAG_W,DELC14,DELC14_FLAG_W,DELC13,DELC13_FLAG_W,TCARBN,TCARBN_FLAG_W,PCO2,PCO2_FLAG_W,ALKALI,ALKALI_FLAG_W,PH,PH_FLAG_W,PCO2TMP,C14ERR,HELIER,DELHER,PH_TMP,C13ERR,THETA,TRITER
,,,,,,,,,,,,DBAR,ITS-90,PSS-78,,PSS-78,,UMOL/KG,,UMOL/KG,,UMOL/KG,,UMOL/KG,,UMOL/KG,,UMOL/KG,,PMOL/KG,,PMOL/KG,,PMOL/KG,,PMOL/KG,,TU,,NMOL/KG,,PERCNT,,/MILLE,,/MILLE,,UMOL/KG,,UATM,,UMOL/KG,,,,DEG C,/MILLE,NMOL/KG,PERCNT,DEG C,/MILLE,DEG C,TU
    31DSCG94_2,     x,     8,  3,    335,     -1,2,19940223,2039,-53.3817, -76.3667, 1888,      8.7,   9.4304,  33.7262,2,  34.7275,4,    347.8,2,   -999.0,9,     0.75,2,    10.79,2,     0.16,2,     1.02,2,    3.947,2,    2.018,2, -999.000,5, -999.000,5, -999.000,9,-999.0000,9,  -999.00,9,   -999.0,9,   -999.0,9,   -999.0,9,   -999.0,9,   -999.0,9,  -999.00,9, -999.00,  -999.0,-999.0000,-999.000, -999.00,  -999.0,  9.4295,-999.000
    31DSCG94_2,     x,     8,  3,    334,     -1,2,19940223,2039,-53.3817, -76.3667, 1888,     10.6,   9.4327,  33.7262,2,  34.7276,4,    346.2,2,   -999.0,9,     0.78,2,    10.91,2,     0.16,2,     1.00,2,    3.890,2,    1.985,2, -999.000,9, -999.000,9, -999.000,9,-999.0000,9,  -999.00,9,   -999.0,9,   -999.0,9,   -999.0,9,   -999.0,9,   -999.0,9,  -999.00,9, -999.00,  -999.0,-999.0000,-999.000, -999.00,  -999.0,  9.4316,-999.000
    31DSCG94_2,     x,     8,  3,    336,     -1,4,19940223,2039,-53.3817, -76.3667, 1888,     11.3,   9.4305,  33.7257,2,  34.7272,4,    343.9,2,   -999.0,9,  -999.00,9,  -999.00,9,  -999.00,9,  -999.00,9, -999.000,9, -999.000,9, -999.000,9, -999.000,9, -999.000,9,-999.0000,9,  -999.00,9,   -999.0,9,   -999.0,9,   -999.0,9,   -999.0,9,   -999.0,9,  -999.00,9, -999.00,  -999.0,-999.0000,-999.000, -999.00,  -999.0,  9.4293,-999.000
    31DSCG94_2,     x,     8,  3,    333,     -1,2,19940223,2039,-53.3817, -76.3667, 1888,    494.5,   5.2975,  34.2179,2,  34.2194,2,    311.4,2,   -999.0,9,     7.32,2,    22.46,2,     0.00,2,     1.62,2,    4.256,2,    2.110,2, -999.000,9, -999.000,9, -999.000,9,-999.0000,9,  -999.00,9,   -999.0,9,   -999.0,9,   -999.0,9,   -999.0,9,   -999.0,9,  -999.00,9, -999.00,  -999.0,-999.0000,-999.000, -999.00,  -999.0,  5.2572,-999.000
    31DSCG94_2,     x,     8,  3,    332,     -1,2,19940223,2039,-53.3817, -76.3667, 1888,    496.9,   5.2969,  34.2177,2,  34.2198,2,    311.2,2,   -999.0,9,     7.28,2,    22.00,2,     0.00,2,     1.57,2,    4.278,2,    2.137,2, -999.000,9, -999.000,9, -999.000,9,-999.0000,9,  -999.00,9,   -999.0,9,   -999.0,9,   -999.0,9,   -999.0,9,   -999.0,9,  -999.00,9, -999.00,  -999.0,-999.0000,-999.000, -999.00,  -999.0,  5.2564,-999.000
    31DSCG94_2,     x,     8,  3,    331,     -1,3,19940223,2039,-53.3817, -76.3667, 1888,    497.1,   5.2965,  34.2183,2,  34.2153,2,    311.2,2,   -999.0,9,     7.27,2,    22.42,2,     0.00,2,     1.61,2, -999.000,9, -999.000,9, -999.000,9, -999.000,9, -999.000,9,-999.0000,9,  -999.00,9,   -999.0,9,   -999.0,9,   -999.0,9,   -999.0,9,   -999.0,9,  -999.00,9, -999.00,  -999.0,-999.0000,-999.000, -999.00,  -999.0,  5.2560,-999.000
    31DSCG94_2,     x,     8,  3,    330,     -1,2,19940223,2039,-53.3817, -76.3667, 1888,    999.2,   3.7598,  34.2738,2,  34.2725,2,    237.4,2,   -999.0,9,    30.15,2,    31.76,2,     0.00,2,     2.28,2,    1.554,2,    0.728,2, -999.000,9, -999.000,9, -999.000,9,-999.0000,9,  -999.00,9,   -999.0,9,   -999.0,9,   -999.0,9,   -999.0,9,   -999.0,9,  -999.00,9, -999.00,  -999.0,-999.0000,-999.000, -999.00,  -999.0,  3.6864,-999.000
    31DSCG94_2,     x,     8,  3,    328,     -1,2,19940223,2039,-53.3817, -76.3667, 1888,   1000.7,   3.7492,  34.2751,2,  34.2751,2,    237.5,2,   -999.0,9,    31.38,2,    32.59,2,     0.00,2,     2.22,2, -999.000,5, -999.000,5, -999.000,9, -999.000,9, -999.000,9,-999.0000,9,  -999.00,9,   -999.0,9,   -999.0,9,   -999.0,9,   -999.0,9,   -999.0,9,  -999.00,9, -999.00,  -999.0,-999.0000,-999.000, -999.00,  -999.0,  3.6758,-999.000
    31DSCG94_2,     x,     8,  3,    329,     -1,2,19940223,2039,-53.3817, -76.3667, 1888,   1000.8,   3.7516,  34.2744,2,  34.2747,2,    237.5,2,   -999.0,9,    31.15,2,    32.31,2,     0.00,2,     2.26,2, -999.000,5, -999.000,5, -999.000,9, -999.000,9, -999.000,9,-999.0000,9,  -999.00,9,   -999.0,9,   -999.0,9,   -999.0,9,   -999.0,9,   -999.0,9,  -999.00,9, -999.00,  -999.0,-999.0000,-999.000, -999.00,  -999.0,  3.6782,-999.000
    31DSCG94_2,     x,     8,  3,    325,     -1,2,19940223,2039,-53.3817, -76.3667, 1888,   1001.1,   3.7484,  34.2746,2,  34.2744,2,    237.7,2,   -999.0,9,    30.63,2,    33.89,2,     0.00,2,     2.22,2,    1.526,2,    0.722,2, -999.000,9, -999.000,9, -999.000,9,-999.0000,9,  -999.00,9,   -999.0,9,   -999.0,9,   -999.0,9,   -999.0,9,   -999.0,9,  -999.00,9, -999.00,  -999.0,-999.0000,-999.000, -999.00,  -999.0,  3.6750,-999.000
    31DSCG94_2,     x,     8,  3,    327,     -1,2,19940223,2039,-53.3817, -76.3667, 1888,   1001.7,   3.7509,  34.2744,2,  34.2746,2,    237.7,2,   -999.0,9,    31.12,2,    31.56,2,     0.00,2,     2.18,2,    1.518,2,    0.716,2, -999.000,9, -999.000,9, -999.000,9,-999.0000,9,  -999.00,9,   -999.0,9,   -999.0,9,   -999.0,9,   -999.0,9,   -999.0,9,  -999.00,9, -999.00,  -999.0,-999.0000,-999.000, -999.00,  -999.0,  3.6774,-999.000
    31DSCG94_2,     x,     8,  3,    326,     -1,2,19940223,2039,-53.3817, -76.3667, 1888,   1001.9,   3.7498,  34.2754,2,  34.2746,2,    237.7,2,   -999.0,9,    30.93,2,    31.48,2,     0.00,2,     2.32,2,    1.627,2,    0.725,2, -999.000,9, -999.000,9, -999.000,9,-999.0000,9,  -999.00,9,   -999.0,9,   -999.0,9,   -999.0,9,   -999.0,9,   -999.0,9,  -999.00,9, -999.00,  -999.0,-999.0000,-999.000, -999.00,  -999.0,  3.6763,-999.000
    31DSCG94_2,     x,     8,  3,    316,     -1,2,19940223,2039,-53.3817, -76.3667, 1888,   1438.0,   2.7648,  34.5018,2,  34.5012,2,    168.2,2,   -999.0,9,    66.48,2,    36.15,2,     0.00,2,     2.48,2,    0.124,2,    0.050,2, -999.000,9, -999.000,9, -999.000,9,-999.0000,9,  -999.00,9,   -999.0,9,   -999.0,9,   2334.6,3,   -999.0,9,   -999.0,9,  -999.00,9, -999.00,  -999.0,-999.0000,-999.000, -999.00,  -999.0,  2.6649,-999.000
    31DSCG94_2,     x,     8,  3,    321,     -1,2,19940223,2039,-53.3817, -76.3667, 1888,   1440.0,   2.7609,  34.5029,2,  34.5023,2,    168.0,2,   -999.0,9,    68.84,2,    36.45,2,     0.00,2,     2.46,2,    0.133,2,    0.053,2, -999.000,9, -999.000,9, -999.000,9,-999.0000,9,  -999.00,9,   -999.0,9,   -999.0,9,   -999.0,9,   -999.0,9,   -999.0,9,  -999.00,9, -999.00,  -999.0,-999.0000,-999.000, -999.00,  -999.0,  2.6609,-999.000
    31DSCG94_2,     x,     8,  3,    318,     -1,2,19940223,2039,-53.3817, -76.3667, 1888,   1441.1,   2.7633,  34.5023,2,  34.5014,2,    167.5,2,   -999.0,9,    65.59,2,    36.03,2,     0.00,2,     2.51,2, -999.000,5, -999.000,5, -999.000,9, -999.000,9, -999.000,9,-999.0000,9,  -999.00,9,   -999.0,9,   -999.0,9,   2336.2,3,   -999.0,9,   -999.0,9,  -999.00,9, -999.00,  -999.0,-999.0000,-999.000, -999.00,  -999.0,  2.6632,-999.000
    31DSCG94_2,     x,     8,  3,    317,     -1,2,19940223,2039,-53.3817, -76.3667, 1888,   1441.3,   2.7620,  34.5024,2,  34.5017,2,    167.5,2,   -999.0,9,    65.29,2,    36.41,2,     0.00,2,     2.50,2,    0.132,2,    0.053,2, -999.000,9, -999.000,9, -999.000,9,-999.0000,9,  -999.00,9,   -999.0,9,   -999.0,9,   -999.0,9,   -999.0,9,   -999.0,9,  -999.00,9, -999.00,  -999.0,-999.0000,-999.000, -999.00,  -999.0,  2.6619,-999.000
    31DSCG94_2,     x,     8,  3,    323,     -1,2,19940223,2039,-53.3817, -76.3667, 1888,   1441.6,   2.7597,  34.5035,2,  34.5023,2,    167.5,2,   -999.0,9,    68.57,2,    36.04,2,     0.00,2,     2.44,2,    0.111,6,    0.054,6, -999.000,9, -999.000,9, -999.000,9,-999.0000,9,  -999.00,9,   -999.0,9,   -999.0,9,   -999.0,9,   -999.0,9,   -999.0,9,  -999.00,9, -999.00,  -999.0,-999.0000,-999.000, -999.00,  -999.0,  2.6596,-999.000
    31DSCG94_2,     x,     8,  3,    319,     -1,2,19940223,2039,-53.3817, -76.3667, 1888,   1441.9,   2.7625,  34.5030,2,  34.5076,3,    167.5,2,   -999.0,9,    66.74,2,    39.18,2,     0.00,2,     2.51,2,    0.116,6,    0.058,6, -999.000,9, -999.000,9, -999.000,9,-999.0000,9,  -999.00,9,   -999.0,9,   -999.0,9,   2335.4,3,   -999.0,9,   -999.0,9,  -999.00,9, -999.00,  -999.0,-999.0000,-999.000, -999.00,  -999.0,  2.6623,-999.000
    31DSCG94_2,     x,     8,  3,    315,     -1,2,19940223,2039,-53.3817, -76.3667, 1888,   1442.6,   2.7592,  34.5036,2,  34.5027,2,    167.5,2,   -999.0,9,    67.30,2,    36.05,2,     0.00,2,     2.47,2,    0.123,2,    0.049,2, -999.000,9, -999.000,9, -999.000,9,-999.0000,9,  -999.00,9,   -999.0,9,   -999.0,9,   2336.1,3,   -999.0,9,   -999.0,9,  -999.00,9, -999.00,  -999.0,-999.0000,-999.000, -999.00,  -999.0,  2.6590,-999.000
    31DSCG94_2,     x,     8,  3,    312,     -1,2,19940223,2039,-53.3817, -76.3667, 1888,   1638.3,   2.5759,  34.5655,2,  34.5646,2,    154.7,2,   -999.0,9,    79.90,2,    35.89,2,     0.00,2,     2.55,2,    0.066,2,    0.016,2, -999.000,9, -999.000,9, -999.000,9,-999.0000,9,  -999.00,9,   -999.0,9,   -999.0,9,   2351.1,3,   -999.0,9,   -999.0,9,  -999.00,9, -999.00,  -999.0,-999.0000,-999.000, -999.00,  -999.0,  2.4617,-999.000
    31DSCG94_2,     x,     8,  3,    314,     -1,2,19940223,2039,-53.3817, -76.3667, 1888,   1638.6,   2.5752,  34.5657,2,  34.5663,2,    154.7,2,   -999.0,9,    77.81,2,    35.87,2,     0.00,2,     2.56,2,    0.033,2,    0.016,2, -999.000,9, -999.000,9, -999.000,9,-999.0000,9,  -999.00,9,   -999.0,9,   -999.0,9,   -999.0,9,   -999.0,9,   -999.0,9,  -999.00,9, -999.00,  -999.0,-999.0000,-999.000, -999.00,  -999.0,  2.4610,-999.000
    31DSCG94_2,     x,     8,  3,    309,     -1,2,19940223,2039,-53.3817, -76.3667, 1888,   1639.5,   2.5743,  34.5657,2,  34.5692,2,    154.6,2,   -999.0,9,    78.21,2,    36.26,2,     0.00,2,     2.57,2,    0.032,2,    0.013,2, -999.000,9, -999.000,9, -999.000,9,-999.0000,9,  -999.00,9,   -999.0,9,   -999.0,9,   2352.1,3,   -999.0,9,   -999.0,9,  -999.00,9, -999.00,  -999.0,-999.0000,-999.000, -999.00,  -999.0,  2.4600,-999.000
    31DSCG94_2,     x,     8,  3,    313,     -1,2,19940223,2039,-53.3817, -76.3667, 1888,   1640.0,   2.5749,  34.5659,2,  34.5650,2,    154.4,2,   -999.0,9,    78.09,2,    36.19,2,     0.00,2,     2.57,2,    0.063,6,    0.016,6, -999.000,9, -999.000,9, -999.000,9,-999.0000,9,  -999.00,9,   -999.0,9,   -999.0,9,   -999.0,9,   -999.0,9,   -999.0,9,  -999.00,9, -999.00,  -999.0,-999.0000,-999.000, -999.00,  -999.0,  2.4606,-999.000
    31DSCG94_2,     x,     8,  3,    311,     -1,2,19940223,2039,-53.3817, -76.3667, 1888,   1640.9,   2.5740,  34.5657,2,  34.5648,2,    154.4,2,   -999.0,9,    79.60,2,    36.00,2,     0.00,2,     2.40,2,    0.233,4,    0.015,6, -999.000,9, -999.000,9, -999.000,9,-999.0000,9,  -999.00,9,   -999.0,9,   -999.0,9,   2351.3,3,   -999.0,9,   -999.0,9,  -999.00,9, -999.00,  -999.0,-999.0000,-999.000, -999.00,  -999.0,  2.4596,-999.000
    31DSCG94_2,     x,     8,  3,    308,     -1,2,19940223,2039,-53.3817, -76.3667, 1888,   1641.6,   2.5740,  34.5660,2,  34.5658,2,    154.2,2,   -999.0,9,    79.77,2,    36.06,2,     0.00,2,     2.55,2,    0.084,2,    0.015,2, -999.000,9, -999.000,9, -999.000,9,-999.0000,9,  -999.00,9,   -999.0,9,   -999.0,9,   2353.1,3,   -999.0,9,   -999.0,9,  -999.00,9, -999.00,  -999.0,-999.0000,-999.000, -999.00,  -999.0,  2.4595,-999.000
    31DSCG94_2,     x,     8,  3,    310,     -1,2,19940223,2039,-53.3817, -76.3667, 1888,   1641.9,   2.5737,  34.5665,2,  34.5646,2,    154.2,2,   -999.0,9,    78.98,2,    35.97,2,     0.00,2,     2.56,2,    0.096,2,    0.015,2, -999.000,9, -999.000,9, -999.000,9,-999.0000,9,  -999.00,9,   -999.0,9,   -999.0,9,   2351.4,3,   -999.0,9,   -999.0,9,  -999.00,9, -999.00,  -999.0,-999.0000,-999.000, -999.00,  -999.0,  2.4592,-999.000
    31DSCG94_2,     x,     8,  3,    306,     -1,2,19940223,2039,-53.3817, -76.3667, 1888,   1838.4,   2.3943,  34.6051,2,  34.6040,2,    152.2,2,   -999.0,9,    90.00,2,    36.18,2,     0.00,2,     2.58,2,    1.444,4,    0.008,2, -999.000,9, -999.000,9, -999.000,9,-999.0000,9,  -999.00,9,   -999.0,9,   -999.0,9,   -999.0,9,   -999.0,9,   -999.0,9,  -999.00,9, -999.00,  -999.0,-999.0000,-999.000, -999.00,  -999.0,  2.2658,-999.000
    31DSCG94_2,     x,     8,  3,    305,     -1,2,19940223,2039,-53.3817, -76.3667, 1888,   1838.4,   2.3936,  34.6047,2,  34.6037,2,    152.2,2,   -999.0,9,    89.92,2,    35.62,2,     0.00,2,     2.55,2,    0.063,2,    0.006,2, -999.000,9, -999.000,9, -999.000,9,-999.0000,9,  -999.00,9,   -999.0,9,   -999.0,9,   2360.1,3,   -999.0,9,   -999.0,9,  -999.00,9, -999.00,  -999.0,-999.0000,-999.000, -999.00,  -999.0,  2.2651,-999.000
    31DSCG94_2,     x,     8,  3,    301,     -1,2,19940223,2039,-53.3817, -76.3667, 1888,   1838.5,   2.3943,  34.6045,2,  34.6040,2,    152.2,2,   -999.0,9,    87.73,2,    35.62,2,     0.00,2,     2.56,2,    0.021,2,    0.005,2, -999.000,9, -999.000,9, -999.000,9,-999.0000,9,  -999.00,9,   -999.0,9,   -999.0,9,   2362.7,3,   -999.0,9,   -999.0,9,  -999.00,9, -999.00,  -999.0,-999.0000,-999.000, -999.00,  -999.0,  2.2658,-999.000
    31DSCG94_2,     x,     8,  3,    302,     -1,2,19940223,2039,-53.3817, -76.3667, 1888,   1840.6,   2.3953,  34.6043,2,  34.1225,4,    151.8,2,   -999.0,9,    88.57,2,    36.00,2,     0.00,2,     2.56,2,    0.438,4,    0.009,2, -999.000,5, -999.000,5, -999.000,9,-999.0000,9,  -999.00,9,   -999.0,9,   -999.0,9,   2362.4,3,   -999.0,9,   -999.0,9,  -999.00,9, -999.00,  -999.0,-999.0000,-999.000, -999.00,  -999.0,  2.2666,-999.000
    31DSCG94_2,     x,     8,  3,    304,     -1,2,19940223,2039,-53.3817, -76.3667, 1888,   1841.0,   2.3921,  34.6056,2,  34.6038,2,    151.3,2,   -999.0,9,    91.68,2,    36.33,2,     0.00,2,     2.54,2,   -0.007,2,   -0.003,2, -999.000,9, -999.000,9, -999.000,9,-999.0000,9,  -999.00,9,   -999.0,9,   -999.0,9,   2361.5,3,   -999.0,9,   -999.0,9,  -999.00,9, -999.00,  -999.0,-999.0000,-999.000, -999.00,  -999.0,  2.2634,-999.000
    31DSCG94_2,     x,     8,  3,    303,     -1,4,19940223,2039,-53.3817, -76.3667, 1888,   1841.3,   2.3934,  34.6051,2,  34.6037,2,    151.3,2,   -999.0,9,     2.58,3,    18.06,3,     0.05,3,     1.38,3, -999.000,5, -999.000,5, -999.000,9, -999.000,9, -999.000,9,-999.0000,9,  -999.00,9,   -999.0,9,   -999.0,9,   2361.1,3,   -999.0,9,   -999.0,9,  -999.00,9, -999.00,  -999.0,-999.0000,-999.000, -999.00,  -999.0,  2.2646,-999.000
    31DSCG94_2,     x,     8,  3,    307,     -1,2,19940223,2039,-53.3817, -76.3667, 1888,   1842.9,   2.3898,  34.6056,2,  34.6045,2,    151.0,2,   -999.0,9,    90.94,2,    36.28,2,     0.00,2,     2.57,2,    0.040,2,    0.004,2, -999.000,9, -999.000,9, -999.000,9,-999.0000,9,  -999.00,9,   -999.0,9,   -999.0,9,   -999.0,9,   -999.0,9,   -999.0,9,  -999.00,9, -999.00,  -999.0,-999.0000,-999.000, -999.00,  -999.0,  2.2609,-999.000