BOTTLE,20220630CCHSIOAMB
EXPOCODE,SECT_ID,STNNBR,CASTNO,SAMPNO,BTLNBR,BTLNBR_FLAG_W,DATE,TIME,LATITUDE,LONGITUDE,DEPTH,CTDPRS,CTDTMP,CTDSAL,CTDSAL_FLAG_W,SALNTY,SALNTY_FLAG_W,CTDOXY,CTDOXY_FLAG_W,OXYGEN,OXYGEN_FLAG_W,SILCAT,SILCAT_FLAG_W,NITRAT,NITRAT_FLAG_W,NITRIT,NITRIT_FLAG_W,PHSPHT,PHSPHT_FLAG_W,CFC-11,CFC-11_FLAG_W,CFC-12,CFC-12_FLAG_W,CFC113,CFC113_FLAG_W,CCL4,CCL4_FLAG_W,TRITUM,TRITUM_FLAG_W,HELIUM,HELIUM_FLAG_W,DELHE3,DELHE3_FLAG_W,DELC14,DELC14_FLAG_W,DELC13,DELC13_FLAG_W,TCARBN,TCARBN_FLAG_W,PCO2,PCO2_FLAG_W,ALKALI,ALKALI_FLAG_W,PH,PH_FLAG_W,PCO2TMP,C14ERR,HELIER,DELHER,PH_TMP,C13ERR,THETA,TRITER
,,,,,,,,,,,,DBAR,ITS-90,PSS-78,,PSS-78,,UMOL/KG,,UMOL/KG,,UMOL/KG,,UMOL/KG,,UMOL/KG,,UMOL/KG,,PMOL/KG,,PMOL/KG,,PMOL/KG,,PMOL/KG,,TU,,NMOL/KG,,PERCNT,,/MILLE,,/MILLE,,UMOL/KG,,UATM,,UMOL/KG,,,,DEG C,/MILLE,NMOL/KG,PERCNT,DEG C,/MILLE,DEG C,TU
    31DSCG94_3,  P18N,   121,  1,    136,   1025,2,19940407,0709, -9.2353,-104.1350, 4098,      8.0,  27.2242,  35.0080,2,  35.0053,2,    179.3,2,    201.8,2,     2.13,2,     2.99,2,     0.05,2,     0.42,2,    1.722,2,    0.990,2, -999.000,9, -999.000,9, -999.000,9,-999.0000,9,  -999.00,9,   -999.0,9,      1.6,2,   1988.7,2,    295.7,2,   2306.0,6,     8.08,2,   20.00,  -999.0,-999.0000,-999.000,   25.00,  -999.0, 27.2223,-999.000
    31DSCG94_3,  P18N,   121,  1,    135,   1247,2,19940407,0709, -9.2353,-104.1350, 4098,     28.9,  26.9239,  35.3855,2,  35.1722,4,    190.0,2,    203.8,2,     2.18,2,     3.72,2,     0.06,2,     0.45,2,    1.741,2,    0.973,2, -999.000,9, -999.000,9, -999.000,9,-999.0000,9,  -999.00,9,   -999.0,9,   -999.0,9,   1998.6,2,    298.8,2,   -999.0,5,     8.07,2,   20.00,  -999.0,-999.0000,-999.000,   25.00,  -999.0, 26.9173,-999.000
    31DSCG94_3,  P18N,   121,  1,    134,   1216,2,19940407,0709, -9.2353,-104.1350, 4098,     50.8,  26.2593,  35.4658,2,  35.4672,2,    193.4,2,    207.4,2,     2.56,2,     4.23,2,     0.06,2,     0.49,2,    1.815,2,    1.018,2, -999.000,9, -999.000,9, -999.000,9,-999.0000,9,  -999.00,9,   -999.0,9,   -999.0,9,   2018.6,2,    308.7,2,   2337.0,2,     8.06,2,   20.00,  -999.0,-999.0000,-999.000,   25.00,  -999.0, 26.2479,-999.000
    31DSCG94_3,  P18N,   121,  1,    133,   1244,2,19940407,0709, -9.2353,-104.1350, 4098,     74.9,  23.8147,  35.7709,2,  35.6933,3,    198.1,2,    198.2,2,     2.36,2,     2.76,2,     0.16,2,     0.55,2,    1.975,6,    1.099,6, -999.000,9, -999.000,9, -999.000,9,-999.0000,9,  -999.00,9,   -999.0,9,   -999.0,9,   2047.4,2,    334.3,2,   2362.0,3,     8.03,2,   20.00,  -999.0,-999.0000,-999.000,   25.00,  -999.0, 23.7990,-999.000
    31DSCG94_3,  P18N,   121,  1,    132,   1003,2,19940407,0709, -9.2353,-104.1350, 4098,    100.1,  22.5709,  35.9847,2,  35.9841,2,    192.0,2,    199.0,2,     1.82,2,     0.87,2,     0.32,2,     0.51,2,    2.086,2,    1.151,2, -999.000,9, -999.000,9, -999.000,9,-999.0000,9,  -999.00,9,   -999.0,9,   -999.0,9,   2066.4,2,    337.8,2,   2372.0,2,     8.03,2,   20.00,  -999.0,-999.0000,-999.000,   25.00,  -999.0, 22.5506,-999.000
    31DSCG94_3,  P18N,   121,  1,    131,   1211,2,19940407,0709, -9.2353,-104.1350, 4098,    123.6,  20.4267,  35.7844,2,  35.7879,2,    142.0,2,    188.9,2,     1.93,2,     2.84,2,     1.26,2,     0.65,2,    2.235,2,    1.230,2, -999.000,9, -999.000,9, -999.000,9,-999.0000,9,  -999.00,9,   -999.0,9,   -999.0,9,   2093.1,2,    399.5,2,   2360.0,2,     7.97,2,   20.00,  -999.0,-999.0000,-999.000,   25.00,  -999.0, 20.4034,-999.000
    31DSCG94_3,  P18N,   121,  1,    130,   1241,2,19940407,0709, -9.2353,-104.1350, 4098,    154.1,  16.2961,  35.1578,2,  35.1688,2,    139.9,2,    120.1,2,     5.64,2,    13.03,2,     0.01,2,     1.31,2,    1.966,2,    1.054,2, -999.000,9, -999.000,9, -999.000,9,-999.0000,9,  -999.00,9,   -999.0,9,   -999.0,9,   2150.4,2,    667.5,2,   2320.0,2,     7.78,2,   20.00,  -999.0,-999.0000,-999.000,   25.00,  -999.0, 16.2714,-999.000
    31DSCG94_3,  P18N,   121,  1,    129,   1240,2,19940407,0709, -9.2353,-104.1350, 4098,    175.4,  14.3086,  34.9791,2,  34.9781,2,     65.3,2,     64.4,2,    10.73,2,    18.83,2,     0.00,2,     1.82,2,    1.360,6,    0.729,6, -999.000,9, -999.000,9, -999.000,9,-999.0000,9,  -999.00,9,   -999.0,9,   -999.0,9,   2193.6,2,    952.6,2,   2301.0,2,     7.64,2,   20.00,  -999.0,-999.0000,-999.000,   25.00,  -999.0, 14.2829,-999.000
    31DSCG94_3,  P18N,   121,  1,    128,   1032,2,19940407,0709, -9.2353,-104.1350, 4098,    194.9,  13.4442,  34.9067,2,  34.9098,2,     44.2,2,     44.1,2,    14.04,2,    21.37,2,     0.00,2,     2.03,2,    0.966,2,    0.526,2, -999.000,9, -999.000,9, -999.000,9,-999.0000,9,  -999.00,9,   -999.0,9,   -999.0,9,   2211.3,2,   1119.2,2,   2299.0,2,     7.58,2,   20.00,  -999.0,-999.0000,-999.000,   25.00,  -999.0, 13.4168,-999.000
    31DSCG94_3,  P18N,   121,  1,    127,   1008,2,19940407,0709, -9.2353,-104.1350, 4098,    247.7,  11.6663,  34.8244,2,  34.8272,2,     42.8,2,     38.2,2,    20.59,2,    27.85,2,     0.00,2,     2.22,2,    0.400,2,    0.182,2, -999.000,9, -999.000,9, -999.000,9,-999.0000,9,  -999.00,9,   -999.0,9,   -999.0,9,   2230.2,2,   1265.7,2,   2298.0,2,     7.53,2,   20.00,  -999.0,-999.0000,-999.000,   25.00,  -999.0, 11.6346,-999.000
    31DSCG94_3,  P18N,   121,  1,    126,   1007,2,19940407,0709, -9.2353,-104.1350, 4098,    302.2,  10.6639,  34.7893,2,  34.7901,2,     61.5,2,     59.9,3,    23.82,2,    29.94,2,     0.00,2,     2.15,2,    0.200,2,    0.110,2, -999.000,9, -999.000,9, -999.000,9,-999.0000,9,  -999.00,9,   -999.0,9,   -999.0,9,   2222.0,2,   1196.5,2,   2304.0,2,     7.56,2,   20.00,  -999.0,-999.0000,-999.000,   25.00,  -999.0, 10.6273,-999.000
    31DSCG94_3,  P18N,   121,  1,    125,   1203,2,19940407,0709, -9.2353,-104.1350, 4098,    350.2,   9.9456,  34.7379,2,  34.7362,2,     34.4,2,     29.7,2,    29.29,2,    34.62,2,     0.00,2,     2.45,2,    0.065,2,    0.031,2, -999.000,9, -999.000,9, -999.000,9,-999.0000,9,  -999.00,9,   -999.0,9,   -999.0,9,   2251.0,2,   1481.7,2,   2301.0,2,     7.47,2,   20.00,  -999.0,-999.0000,-999.000,   25.00,  -999.0,  9.9049,-999.000
    31DSCG94_3,  P18N,   121,  1,    123,   1220,2,19940407,0709, -9.2353,-104.1350, 4098,    398.6,   9.5051,  34.7132,2,  34.7133,2,     28.8,2,     28.9,2,    31.63,2,    35.81,2,     0.00,2,     2.50,2,    0.042,2,    0.023,2, -999.000,9, -999.000,9, -999.000,9,-999.0000,9,  -999.00,9,   -999.0,9,   -999.0,9,   2253.5,2,   1540.4,2,   2301.0,2,     7.45,2,   20.00,  -999.0,-999.0000,-999.000,   25.00,  -999.0,  9.4600,-999.000
    31DSCG94_3,  P18N,   121,  1,    122,   1245,2,19940407,0709, -9.2353,-104.1350, 4098,    502.4,   8.2937,  34.6400,2,  34.6401,2,     19.1,2,     19.3,2,    37.98,2,    39.79,2,     0.00,2,     2.74,2,    0.006,2,    0.001,2, -999.000,9, -999.000,9, -999.000,9,-999.0000,9,  -999.00,9,   -999.0,9,   -999.0,9,   2273.5,2,   1753.4,2,   2303.0,2,     7.40,2,   20.00,  -999.0,-999.0000,-999.000,   25.00,  -999.0,  8.2410,-999.000
    31DSCG94_3,  P18N,   121,  1,    121,   1206,2,19940407,0709, -9.2353,-104.1350, 4098,    595.1,   7.1836,  34.5847,2,  34.5857,2,     22.4,2,     24.0,2,    45.00,2,    42.80,2,     0.00,2,     2.92,2,    0.000,2,   -0.002,2, -999.000,9, -999.000,9, -999.000,9,-999.0000,9,  -999.00,9,   -999.0,9,   -999.0,9,   2282.4,2,   1829.5,2,   2311.0,2,     7.39,2,   20.00,  -999.0,-999.0000,-999.000,   25.00,  -999.0,  7.1258,-999.000
    31DSCG94_3,  P18N,   121,  1,    120,   1028,2,19940407,0709, -9.2353,-104.1350, 4098,    698.6,   6.2601,  34.5480,2,  34.5483,2,     30.8,2,     30.4,2,    52.47,2,    44.42,2,     0.00,2,     2.99,2,    0.000,2,   -0.002,2, -999.000,9, -999.000,9, -999.000,9,-999.0000,9,  -999.00,9,   -999.0,9,   -999.0,9,   2292.5,2,   1857.8,2,   2317.0,2,     7.38,2,   20.00,  -999.0,-999.0000,-999.000,   25.00,  -999.0,  6.1967,-999.000
    31DSCG94_3,  P18N,   121,  1,    119,   1248,2,19940407,0709, -9.2353,-104.1350, 4098,    799.1,   5.3815,  34.5340,2,  34.5342,2,     46.2,2,     50.9,2,    64.79,2,    43.25,2,     0.00,2,     2.94,2,   -0.005,2,   -0.002,2, -999.000,9, -999.000,9, -999.000,9,-999.0000,9,  -999.00,9,   -999.0,9,   -999.0,9,   2294.7,2,   1733.1,2,   2327.0,2,     7.41,2,   20.00,  -999.0,-999.0000,-999.000,   25.00,  -999.0,  5.3137,-999.000
    31DSCG94_3,  P18N,   121,  1,    118,   1115,2,19940407,0709, -9.2353,-104.1350, 4098,    899.5,   4.8418,  34.5355,2,  34.5366,2,     62.6,2,     68.2,2,    72.82,2,    42.36,2,     0.00,2,     2.88,2, -999.000,9, -999.000,9, -999.000,9, -999.000,9, -999.000,9,-999.0000,9,  -999.00,9,   -999.0,9,   -999.0,9,   2294.9,2,   1608.8,6,   2337.0,2,     7.44,2,   20.00,  -999.0,-999.0000,-999.000,   25.00,  -999.0,  4.7686,-999.000
    31DSCG94_3,  P18N,   121,  1,    117,   1119,2,19940407,0709, -9.2353,-104.1350, 4098,   1001.5,   4.3659,  34.5419,2,  34.5429,2,     73.0,2,     78.7,2,    80.91,2,    41.65,2,     0.00,2,     2.85,2, -999.000,9, -999.000,9, -999.000,9, -999.000,9, -999.000,9,-999.0000,9,  -999.00,9,   -999.0,9,   -999.0,9,   2300.4,2,   1548.0,2,   2346.0,6,     7.46,2,   20.00,  -999.0,-999.0000,-999.000,   25.00,  -999.0,  4.2872,-999.000
    31DSCG94_3,  P18N,   121,  1,    116,   1036,2,19940407,0709, -9.2353,-104.1350, 4098,   1195.9,   3.7090,  34.5653,2,  34.5653,2,     81.9,2,     87.1,2,    97.37,2,    40.61,2,     0.01,2,     2.82,2, -999.000,9, -999.000,9, -999.000,9, -999.000,9, -999.000,9,-999.0000,9,  -999.00,9,   -999.0,9,   -999.0,9,   2312.1,2,   1520.3,2,   2365.0,2,     7.47,2,   20.00,  -999.0,-999.0000,-999.000,   25.00,  -999.0,  3.6193,-999.000
    31DSCG94_3,  P18N,   121,  1,    115,   1017,2,19940407,0709, -9.2353,-104.1350, 4098,   1400.9,   3.1675,  34.5876,2,  34.5887,2,     91.9,2,     96.9,2,   111.72,2,    39.43,2,     0.00,2,     2.77,2, -999.000,9, -999.000,9, -999.000,9, -999.000,9, -999.000,9,-999.0000,9,  -999.00,9,   -999.0,9,   -999.0,9,   2320.7,2,   1461.8,2,   -999.0,5,     7.49,2,   20.00,  -999.0,-999.0000,-999.000,   25.00,  -999.0,  3.0660,-999.000
    31DSCG94_3,  P18N,   121,  1,    114,   1016,2,19940407,0709, -9.2353,-104.1350, 4098,   1699.4,   2.5963,  34.6191,2,  34.6198,2,    105.0,2,    105.4,2,   126.90,2,    39.31,2,     0.00,2,     2.71,2, -999.000,9, -999.000,9, -999.000,9, -999.000,9, -999.000,9,-999.0000,9,  -999.00,9,   -999.0,9,   -999.0,9,   2332.9,2,   1418.6,2,   2398.0,2,     7.50,2,   20.00,  -999.0,-999.0000,-999.000,   25.00,  -999.0,  2.4766,-999.000
    31DSCG94_3,  P18N,   121,  1,    113,   1209,2,19940407,0709, -9.2353,-104.1350, 4098,   1798.3,   2.4938,  34.6258,2,  34.6259,2,    107.1,2,    106.7,2,   127.94,2,    39.18,2,     0.01,2,     2.70,2, -999.000,9, -999.000,9, -999.000,9, -999.000,9, -999.000,9,-999.0000,9,  -999.00,9,   -999.0,9,   -999.0,9,   2334.9,2,   1407.1,2,   2404.0,2,     7.51,2,   20.00,  -999.0,-999.0000,-999.000,   25.00,  -999.0,  2.3672,-999.000
    31DSCG94_3,  P18N,   121,  1,    112,   1033,2,19940407,0709, -9.2353,-104.1350, 4098,   1998.7,   2.2930,  34.6382,2,  34.6390,2,    112.8,2,    111.2,6,   134.90,2,    38.66,2,     0.00,2,     2.67,2, -999.000,9, -999.000,9, -999.000,9, -999.000,9, -999.000,9,-999.0000,9,  -999.00,9,   -999.0,9,   -999.0,9,   2339.3,2,   1377.2,2,   2405.0,2,     7.52,2,   20.00,  -999.0,-999.0000,-999.000,   25.00,  -999.0,  2.1522,-999.000
    31DSCG94_3,  P18N,   121,  1,    111,   1240,2,19940407,0709, -9.2353,-104.1350, 4098,   2202.9,   2.1014,  34.6506,2,  34.6506,2,    117.1,2,    117.5,2,   139.14,2,    38.51,2,     0.00,2,     2.64,2, -999.000,9, -999.000,9, -999.000,9, -999.000,9, -999.000,9,-999.0000,9,  -999.00,9,   -999.0,9,   -999.0,9,   2339.1,2,   1333.9,2,   2413.0,2,     7.53,2,   20.00,  -999.0,-999.0000,-999.000,   25.00,  -999.0,  1.9459,-999.000
    31DSCG94_3,  P18N,   121,  1,    110,   1005,2,19940407,0709, -9.2353,-104.1350, 4098,   2398.9,   1.9792,  34.6586,2,  34.6597,2,    120.4,2,    122.1,2,   141.01,2,    38.07,2,     0.00,2,     2.59,2, -999.000,9, -999.000,9, -999.000,9, -999.000,9, -999.000,9,-999.0000,9,  -999.00,9,   -999.0,9,   -999.0,9,   2339.8,2,   1308.3,2,   2419.0,2,     7.54,2,   20.00,  -999.0,-999.0000,-999.000,   25.00,  -999.0,  1.8084,-999.000
    31DSCG94_3,  P18N,   121,  1,    109,   1611,2,19940407,0709, -9.2353,-104.1350, 4098,   2593.1,   1.8839,  34.6651,2,  34.6669,2,    125.2,2,    127.8,2,   142.42,2,    37.73,2,     0.00,2,     2.56,2, -999.000,9, -999.000,9, -999.000,9, -999.000,9, -999.000,9,-999.0000,9,  -999.00,9,   -999.0,9,   -999.0,9,   2337.6,2,   1273.9,2,   2423.0,2,     7.55,2,   20.00,  -999.0,-999.0000,-999.000,   25.00,  -999.0,  1.6973,-999.000
    31DSCG94_3,  P18N,   121,  1,    108,   1218,2,19940407,0709, -9.2353,-104.1350, 4098,   2801.0,   1.8118,  34.6696,2,  34.6705,2,    128.8,2,    129.1,2,   144.99,2,    37.40,2,     0.00,2,     2.53,2, -999.000,9, -999.000,9, -999.000,9, -999.000,9, -999.000,9,-999.0000,9,  -999.00,9,   -999.0,9,   -999.0,9,   2338.4,2,   1250.6,2,   2424.0,2,     7.56,2,   20.00,  -999.0,-999.0000,-999.000,   25.00,  -999.0,  1.6072,-999.000
    31DSCG94_3,  P18N,   121,  1,    107,   1257,2,19940407,0709, -9.2353,-104.1350, 4098,   2999.3,   1.7774,  34.6720,2,  34.6732,2,    131.3,2,    133.3,2,   145.29,2,    37.60,2,     0.00,2,     2.55,2, -999.000,9, -999.000,9, -999.000,9, -999.000,9, -999.000,9,-999.0000,9,  -999.00,9,   -999.0,9,   -999.0,9,   2338.6,2,   1233.5,2,   2428.0,2,     7.56,2,   20.00,  -999.0,-999.0000,-999.000,   25.00,  -999.0,  1.5545,-999.000
    31DSCG94_3,  P18N,   121,  1,    106,   1224,2,19940407,0709, -9.2353,-104.1350, 4098,   3200.3,   1.7587,  34.6741,2,  34.6748,2,    133.3,2,    135.4,2,   146.63,2,    37.30,2,     0.00,2,     2.53,2, -999.000,9, -999.000,9, -999.000,9, -999.000,9, -999.000,9,-999.0000,9,  -999.00,9,   -999.0,9,   -999.0,9,   2338.6,2,   1223.4,2,   2425.0,2,     7.57,2,   20.00,  -999.0,-999.0000,-999.000,   25.00,  -999.0,  1.5165,-999.000
    31DSCG94_3,  P18N,   121,  1,    105,   1246,2,19940407,0709, -9.2353,-104.1350, 4098,   3401.8,   1.7477,  34.6756,2,  34.6763,2,    135.3,2,    137.2,2,   148.76,2,    36.83,2,     0.00,2,     2.51,2, -999.000,9, -999.000,9, -999.000,9, -999.000,9, -999.000,9,-999.0000,9,  -999.00,9,   -999.0,9,   -999.0,9,   2337.9,2,   1216.7,2,   2424.0,2,     7.57,2,   20.00,  -999.0,-999.0000,-999.000,   25.00,  -999.0,  1.4854,-999.000
    31DSCG94_3,  P18N,   121,  1,    104,   1217,2,19940407,0709, -9.2353,-104.1350, 4098,   3601.9,   1.7561,  34.6761,2,  34.6768,2,    136.6,2,    137.7,2,   150.03,2,    36.81,2,     0.00,2,     2.51,2, -999.000,9, -999.000,9, -999.000,9, -999.000,9, -999.000,9,-999.0000,9,  -999.00,9,   -999.0,9,   -999.0,9,   2339.1,2,   1207.5,2,   2433.0,2,     7.57,2,   20.00,  -999.0,-999.0000,-999.000,   25.00,  -999.0,  1.4728,-999.000
    31DSCG94_3,  P18N,   121,  1,    102,   1223,2,19940407,0709, -9.2353,-104.1350, 4098,   3789.3,   1.7707,  34.6766,2,  34.6772,2,    136.0,2,    138.2,2,   146.02,2,    37.07,2,     0.00,2,     2.49,2, -999.000,9, -999.000,9, -999.000,9, -999.000,9, -999.000,9,-999.0000,9,  -999.00,9,   -999.0,9,   -999.0,9,   2338.1,2,   1202.0,2,   2431.0,2,     7.57,2,   20.00,  -999.0,-999.0000,-999.000,   25.00,  -999.0,  1.4671,-999.000
    31DSCG94_3,  P18N,   121,  1,    103,   9999,2,19940407,0709, -9.2353,-104.1350, 4098,   3789.5,   1.7708,  34.6765,2,  34.6780,2,    136.0,2,    137.7,2,   148.43,2,    37.03,2,     0.00,2,     2.50,2, -999.000,9, -999.000,9, -999.000,9, -999.000,9, -999.000,9,-999.0000,9,  -999.00,9,   -999.0,9,   -999.0,9,   2337.3,2,   1197.1,2,   2432.0,2,     7.57,2,   20.00,  -999.0,-999.0000,-999.000,   25.00,  -999.0,  1.4672,-999.000
    31DSCG94_3,  P18N,   121,  1,    101,   1041,2,19940407,0709, -9.2353,-104.1350, 4098,   4076.6,   1.8028,  34.6764,2,  34.6774,2,    136.0,2,    138.4,6,   145.25,2,    37.29,2,     0.00,2,     2.53,2, -999.000,9, -999.000,9, -999.000,9, -999.000,9, -999.000,9,-999.0000,9,  -999.00,9,   -999.0,9,   -999.0,9,   2338.7,2,   1197.1,2,   2437.0,2,     7.57,2,   20.00,  -999.0,-999.0000,-999.000,   25.00,  -999.0,  1.4668,-999.000