BOTTLE,20220630CCHSIOAMB
EXPOCODE,SECT_ID,STNNBR,CASTNO,SAMPNO,BTLNBR,BTLNBR_FLAG_W,DATE,TIME,LATITUDE,LONGITUDE,DEPTH,CTDPRS,CTDTMP,CTDSAL,CTDSAL_FLAG_W,SALNTY,SALNTY_FLAG_W,CTDOXY,CTDOXY_FLAG_W,OXYGEN,OXYGEN_FLAG_W,SILCAT,SILCAT_FLAG_W,NITRAT,NITRAT_FLAG_W,NITRIT,NITRIT_FLAG_W,PHSPHT,PHSPHT_FLAG_W,CFC-11,CFC-11_FLAG_W,CFC-12,CFC-12_FLAG_W,CFC113,CFC113_FLAG_W,CCL4,CCL4_FLAG_W,TRITUM,TRITUM_FLAG_W,HELIUM,HELIUM_FLAG_W,DELHE3,DELHE3_FLAG_W,DELC14,DELC14_FLAG_W,DELC13,DELC13_FLAG_W,TCARBN,TCARBN_FLAG_W,PCO2,PCO2_FLAG_W,ALKALI,ALKALI_FLAG_W,PH,PH_FLAG_W,PCO2TMP,C14ERR,HELIER,DELHER,PH_TMP,C13ERR,THETA,TRITER
,,,,,,,,,,,,DBAR,ITS-90,PSS-78,,PSS-78,,UMOL/KG,,UMOL/KG,,UMOL/KG,,UMOL/KG,,UMOL/KG,,UMOL/KG,,PMOL/KG,,PMOL/KG,,PMOL/KG,,PMOL/KG,,TU,,NMOL/KG,,PERCNT,,/MILLE,,/MILLE,,UMOL/KG,,UATM,,UMOL/KG,,,,DEG C,/MILLE,NMOL/KG,PERCNT,DEG C,/MILLE,DEG C,TU
    31DSCG94_2,  P18S,    17,  1,    124,    435,2,19940302,0130,-63.5000,-102.9933, 5028,      4.5,   2.6754,  33.8376,2,-999.0000,5,    340.8,2,    322.5,2,    11.05,2,    23.83,2,     0.24,2,     1.77,2, -999.000,9, -999.000,9, -999.000,9, -999.000,9, -999.000,9,-999.0000,9,  -999.00,9,   -999.0,9,   -999.0,9,   2127.1,2,   -999.0,9,   2278.0,2,  -999.00,9, -999.00,  -999.0,-999.0000,-999.000, -999.00,  -999.0,  2.6751,-999.000
    31DSCG94_2,  P18S,    17,  1,    123,    421,2,19940302,0130,-63.5000,-102.9933, 5028,     25.1,   2.6868,  33.8420,2,  33.8360,2,    325.8,2,    322.7,2,    10.88,2,    24.35,2,     0.24,2,     1.72,2, -999.000,9, -999.000,9, -999.000,9, -999.000,9, -999.000,9,-999.0000,9,  -999.00,9,   -999.0,9,   -999.0,9,   2127.2,2,   -999.0,9,   2279.0,2,  -999.00,9, -999.00,  -999.0,-999.0000,-999.000, -999.00,  -999.0,  2.6853,-999.000
    31DSCG94_2,  P18S,    17,  1,    122,    418,2,19940302,0130,-63.5000,-102.9933, 5028,     48.0,   2.7768,  33.8789,2,  33.8720,2,    323.6,2,    322.1,2,    10.53,2,    23.10,2,     0.22,2,     1.73,2, -999.000,9, -999.000,9, -999.000,9, -999.000,9, -999.000,9,-999.0000,9,  -999.00,9,   -999.0,9,   -999.0,9,   -999.0,9,   -999.0,9,   -999.0,9,  -999.00,9, -999.00,  -999.0,-999.0000,-999.000, -999.00,  -999.0,  2.7741,-999.000
    31DSCG94_2,  P18S,    17,  1,    121,    413,2,19940302,0130,-63.5000,-102.9933, 5028,     75.9,   2.5777,  33.8849,2,-999.0000,5,    324.0,2,    322.3,2,    12.05,2,    24.05,2,     0.21,2,     1.75,2, -999.000,9, -999.000,9, -999.000,9, -999.000,9, -999.000,9,-999.0000,9,  -999.00,9,   -999.0,9,   -999.0,9,   2147.2,2,   -999.0,9,   2297.0,2,  -999.00,9, -999.00,  -999.0,-999.0000,-999.000, -999.00,  -999.0,  2.5734,-999.000
    31DSCG94_2,  P18S,    17,  1,    120,    405,2,19940302,0130,-63.5000,-102.9933, 5028,     99.4,   0.7644,  33.9438,2,-999.0000,9,    343.4,2,    337.1,2,  -999.00,9,  -999.00,9,  -999.00,9,  -999.00,9, -999.000,9, -999.000,9, -999.000,9, -999.000,9, -999.000,9,-999.0000,9,  -999.00,9,   -999.0,9,   -999.0,9,   2143.0,2,   -999.0,9,   2278.0,2,  -999.00,9, -999.00,  -999.0,-999.0000,-999.000, -999.00,  -999.0,  0.7603,-999.000
    31DSCG94_2,  P18S,    17,  1,    119,    417,2,19940302,0130,-63.5000,-102.9933, 5028,    196.9,   0.7689,  34.0216,2,  34.0266,2,    312.1,2,    306.4,2,    24.89,2,    27.74,2,     0.00,2,     1.96,2, -999.000,9, -999.000,9, -999.000,9, -999.000,9, -999.000,9,-999.0000,9,  -999.00,9,   -999.0,9,   -999.0,9,   2163.1,2,   -999.0,9,   2288.0,2,  -999.00,9, -999.00,  -999.0,-999.0000,-999.000, -999.00,  -999.0,  0.7606,-999.000
    31DSCG94_2,  P18S,    17,  1,    118,    429,2,19940302,0130,-63.5000,-102.9933, 5028,    302.6,   2.3318,  34.3025,2,  34.3010,2,    219.7,2,    211.8,2,    49.62,2,    32.78,2,     0.00,2,     2.31,2, -999.000,9, -999.000,9, -999.000,9, -999.000,9, -999.000,9,-999.0000,9,  -999.00,9,   -999.0,9,   -999.0,9,   2215.4,2,   -999.0,9,   2285.0,2,  -999.00,9, -999.00,  -999.0,-999.0000,-999.000, -999.00,  -999.0,  2.3147,-999.000
    31DSCG94_2,  P18S,    17,  1,    117,    427,2,19940302,0130,-63.5000,-102.9933, 5028,    397.1,   2.3913,  34.4057,2,-999.0000,5,    195.6,2,    189.7,2,    61.31,2,    34.70,2,     0.00,2,     2.45,2, -999.000,9, -999.000,9, -999.000,9, -999.000,9, -999.000,9,-999.0000,9,  -999.00,9,   -999.0,9,   -999.0,9,   2233.2,2,   -999.0,9,   2320.0,2,  -999.00,9, -999.00,  -999.0,-999.0000,-999.000, -999.00,  -999.0,  2.3683,-999.000
    31DSCG94_2,  P18S,    17,  1,    116,    410,2,19940302,0130,-63.5000,-102.9933, 5028,    501.5,   2.3347,  34.4748,2,  34.4735,2,    182.0,2,    180.2,2,    66.41,2,    33.92,2,     0.00,2,     2.40,2, -999.000,9, -999.000,9, -999.000,9, -999.000,9, -999.000,9,-999.0000,9,  -999.00,9,   -999.0,9,   -999.0,9,   2242.6,2,   -999.0,9,   2318.0,2,  -999.00,9, -999.00,  -999.0,-999.0000,-999.000, -999.00,  -999.0,  2.3054,-999.000
    31DSCG94_2,  P18S,    17,  1,    115,    422,2,19940302,0130,-63.5000,-102.9933, 5028,    597.7,   2.2694,  34.5350,2,  34.5340,2,    176.6,2,    175.5,2,    72.47,2,    33.84,2,     0.00,2,     2.42,2, -999.000,9, -999.000,9, -999.000,9, -999.000,9, -999.000,9,-999.0000,9,  -999.00,9,   -999.0,9,   -999.0,9,   2252.6,2,   -999.0,9,   2359.0,2,  -999.00,9, -999.00,  -999.0,-999.0000,-999.000, -999.00,  -999.0,  2.2341,-999.000
    31DSCG94_2,  P18S,    17,  1,    114,    407,2,19940302,0130,-63.5000,-102.9933, 5028,    803.2,   2.1684,  34.6224,2,  34.6207,2,    173.5,2,    173.8,2,    79.96,2,    33.14,2,     0.00,2,     2.31,2, -999.000,9, -999.000,9, -999.000,9, -999.000,9, -999.000,9,-999.0000,9,  -999.00,9,   -999.0,9,   -999.0,9,   2253.1,2,   -999.0,9,   2335.0,2,  -999.00,9, -999.00,  -999.0,-999.0000,-999.000, -999.00,  -999.0,  2.1202,-999.000
    31DSCG94_2,  P18S,    17,  1,    113,    419,2,19940302,0130,-63.5000,-102.9933, 5028,    998.1,   2.0903,  34.6753,2,-999.0000,9,    177.3,2,    177.4,2,  -999.00,9,  -999.00,9,  -999.00,9,  -999.00,9, -999.000,9, -999.000,9, -999.000,9, -999.000,9, -999.000,9,-999.0000,9,  -999.00,9,   -999.0,9,   -999.0,9,   2253.4,2,   -999.0,9,   2343.0,2,  -999.00,9, -999.00,  -999.0,-999.0000,-999.000, -999.00,  -999.0,  2.0294,-999.000
    31DSCG94_2,  P18S,    17,  1,    112,    426,2,19940302,0130,-63.5000,-102.9933, 5028,   1205.8,   1.9833,  34.7060,2,  34.7040,2,    182.5,2,    181.4,2,    86.63,2,    31.42,2,     0.00,2,     2.21,2, -999.000,9, -999.000,9, -999.000,9, -999.000,9, -999.000,9,-999.0000,9,  -999.00,9,   -999.0,9,   -999.0,9,   -999.0,9,   -999.0,9,   -999.0,9,  -999.00,9, -999.00,  -999.0,-999.0000,-999.000, -999.00,  -999.0,  1.9087,-999.000
    31DSCG94_2,  P18S,    17,  1,    111,    424,2,19940302,0130,-63.5000,-102.9933, 5028,   1399.6,   1.8524,  34.7232,2,-999.0000,5,    187.9,2,    186.1,2,    92.51,2,    31.64,2,     0.00,2,     2.26,2, -999.000,9, -999.000,9, -999.000,9, -999.000,9, -999.000,9,-999.0000,9,  -999.00,9,   -999.0,9,   -999.0,9,   -999.0,9,   -999.0,9,   -999.0,9,  -999.00,9, -999.00,  -999.0,-999.0000,-999.000, -999.00,  -999.0,  1.7649,-999.000
    31DSCG94_2,  P18S,    17,  1,    110,    409,2,19940302,0130,-63.5000,-102.9933, 5028,   1798.9,   1.5323,  34.7297,2,  34.7283,2,    193.6,2,    193.1,2,    98.85,2,    31.20,2,     0.00,2,     2.24,2, -999.000,9, -999.000,9, -999.000,9, -999.000,9, -999.000,9,-999.0000,9,  -999.00,9,   -999.0,9,   -999.0,9,   -999.0,9,   -999.0,9,   -999.0,9,  -999.00,9, -999.00,  -999.0,-999.0000,-999.000, -999.00,  -999.0,  1.4186,-999.000
    31DSCG94_2,  P18S,    17,  1,    109,    423,2,19940302,0130,-63.5000,-102.9933, 5028,   2196.9,   1.2708,  34.7247,2,  34.7236,2,    196.3,2,    197.5,2,   106.77,2,    30.96,2,     0.00,2,     2.24,2, -999.000,9, -999.000,9, -999.000,9, -999.000,9, -999.000,9,-999.0000,9,  -999.00,9,   -999.0,9,   -999.0,9,   -999.0,9,   -999.0,9,   -999.0,9,  -999.00,9, -999.00,  -999.0,-999.0000,-999.000, -999.00,  -999.0,  1.1293,-999.000
    31DSCG94_2,  P18S,    17,  1,    108,    414,2,19940302,0130,-63.5000,-102.9933, 5028,   2602.3,   1.0431,  34.7169,2,  34.7169,2,    199.1,2,    202.1,2,   115.43,2,    31.18,2,     0.00,2,     2.17,2, -999.000,9, -999.000,9, -999.000,9, -999.000,9, -999.000,9,-999.0000,9,  -999.00,9,   -999.0,9,   -999.0,9,   -999.0,9,   1078.8,2,   -999.0,9,  -999.00,9,   20.00,  -999.0,-999.0000,-999.000, -999.00,  -999.0,  0.8717,-999.000
    31DSCG94_2,  P18S,    17,  1,    107,    437,2,19940302,0130,-63.5000,-102.9933, 5028,   3000.5,   0.8661,  34.7111,2,  34.7135,2,    202.5,2,    204.6,2,   122.08,2,    31.32,2,     0.00,2,     2.22,2, -999.000,9, -999.000,9, -999.000,9, -999.000,9, -999.000,9,-999.0000,9,  -999.00,9,   -999.0,9,   -999.0,9,   -999.0,9,   1076.8,2,   -999.0,9,  -999.00,9,   20.00,  -999.0,-999.0000,-999.000, -999.00,  -999.0,  0.6631,-999.000
    31DSCG94_2,  P18S,    17,  1,    106,    416,2,19940302,0130,-63.5000,-102.9933, 5028,   3404.0,   0.7004,  34.7060,2,  34.7051,2,    207.1,2,    207.8,2,   125.22,2,    31.35,2,     0.00,2,     2.26,2, -999.000,9, -999.000,9, -999.000,9, -999.000,9, -999.000,9,-999.0000,9,  -999.00,9,   -999.0,9,   -999.0,9,   -999.0,9,   1087.6,2,   -999.0,9,  -999.00,9,   20.00,  -999.0,-999.0000,-999.000, -999.00,  -999.0,  0.4636,-999.000
    31DSCG94_2,  P18S,    17,  1,    105,    420,2,19940302,0130,-63.5000,-102.9933, 5028,   3798.8,   0.5225,  34.7040,2,  34.7027,2,    211.6,2,    211.5,2,   128.10,2,    31.28,2,     0.00,2,     2.26,2, -999.000,9, -999.000,9, -999.000,9, -999.000,9, -999.000,9,-999.0000,9,  -999.00,9,   -999.0,9,   -999.0,9,   -999.0,9,   -999.0,9,   -999.0,9,  -999.00,9, -999.00,  -999.0,-999.0000,-999.000, -999.00,  -999.0,  0.2516,-999.000
    31DSCG94_2,  P18S,    17,  1,    104,    436,2,19940302,0130,-63.5000,-102.9933, 5028,   4203.6,   0.4113,  34.7027,2,  34.7017,2,    215.4,2,    215.3,2,   132.77,2,    31.77,2,     0.00,2,     2.30,2, -999.000,9, -999.000,9, -999.000,9, -999.000,9, -999.000,9,-999.0000,9,  -999.00,9,   -999.0,9,   -999.0,9,   -999.0,9,   -999.0,9,   -999.0,9,  -999.00,9, -999.00,  -999.0,-999.0000,-999.000, -999.00,  -999.0,  0.1020,-999.000
    31DSCG94_2,  P18S,    17,  1,    103,    425,2,19940302,0130,-63.5000,-102.9933, 5028,   4600.5,   0.3786,  34.7031,2,  34.7014,2,    218.7,2,    215.9,2,   136.96,2,    32.01,2,     0.00,2,     2.24,2, -999.000,9, -999.000,9, -999.000,9, -999.000,9, -999.000,9,-999.0000,9,  -999.00,9,   -999.0,9,   -999.0,9,   -999.0,9,   1079.3,2,   -999.0,9,  -999.00,9,   20.00,  -999.0,-999.0000,-999.000, -999.00,  -999.0,  0.0275,-999.000
    31DSCG94_2,  P18S,    17,  1,    102,    433,2,19940302,0130,-63.5000,-102.9933, 5028,   4998.5,   0.3830,  34.7024,2,  34.7012,2,    222.1,2,    216.9,2,   140.23,2,    32.14,2,     0.00,2,     2.27,2, -999.000,9, -999.000,9, -999.000,9, -999.000,9, -999.000,9,-999.0000,9,  -999.00,9,   -999.0,9,   -999.0,9,   -999.0,9,   -999.0,9,   -999.0,9,  -999.00,9, -999.00,  -999.0,-999.0000,-999.000, -999.00,  -999.0, -0.0132,-999.000
    31DSCG94_2,  P18S,    17,  1,    101,    403,2,19940302,0130,-63.5000,-102.9933, 5028,   5108.1,   0.3892,  34.7018,2,-999.0000,9,    222.2,2,    216.5,2,   146.44,2,    32.65,2,     0.00,2,     2.33,2, -999.000,9, -999.000,9, -999.000,9, -999.000,9, -999.000,9,-999.0000,9,  -999.00,9,   -999.0,9,   -999.0,9,   -999.0,9,   1136.5,2,   -999.0,9,  -999.00,9,   20.00,  -999.0,-999.0000,-999.000, -999.00,  -999.0, -0.0199,-999.000