BOTTLE,20220630CCHSIOAMB
EXPOCODE,SECT_ID,STNNBR,CASTNO,SAMPNO,BTLNBR,BTLNBR_FLAG_W,DATE,TIME,LATITUDE,LONGITUDE,DEPTH,CTDPRS,CTDTMP,CTDSAL,CTDSAL_FLAG_W,SALNTY,SALNTY_FLAG_W,CTDOXY,CTDOXY_FLAG_W,OXYGEN,OXYGEN_FLAG_W,SILCAT,SILCAT_FLAG_W,NITRAT,NITRAT_FLAG_W,NITRIT,NITRIT_FLAG_W,PHSPHT,PHSPHT_FLAG_W,CFC-11,CFC-11_FLAG_W,CFC-12,CFC-12_FLAG_W,CFC113,CFC113_FLAG_W,CCL4,CCL4_FLAG_W,TRITUM,TRITUM_FLAG_W,HELIUM,HELIUM_FLAG_W,DELHE3,DELHE3_FLAG_W,DELC14,DELC14_FLAG_W,DELC13,DELC13_FLAG_W,TCARBN,TCARBN_FLAG_W,PCO2,PCO2_FLAG_W,ALKALI,ALKALI_FLAG_W,PH,PH_FLAG_W,PCO2TMP,C14ERR,HELIER,DELHER,PH_TMP,C13ERR,THETA,TRITER
,,,,,,,,,,,,DBAR,ITS-90,PSS-78,,PSS-78,,UMOL/KG,,UMOL/KG,,UMOL/KG,,UMOL/KG,,UMOL/KG,,UMOL/KG,,PMOL/KG,,PMOL/KG,,PMOL/KG,,PMOL/KG,,TU,,NMOL/KG,,PERCNT,,/MILLE,,/MILLE,,UMOL/KG,,UATM,,UMOL/KG,,,,DEG C,/MILLE,NMOL/KG,PERCNT,DEG C,/MILLE,DEG C,TU
    31DSCG94_2,  P18S,    53,  1,    136,   1025,2,19940314,0536,-43.0033,-102.9983, 3827,      9.3,  13.6014,  34.0557,2,  34.0563,2,    260.0,2,    259.9,2,     0.86,2,    11.79,2,     0.27,2,     0.97,2,    3.253,2,    1.677,2, -999.000,9, -999.000,9, -999.000,9,-999.0000,9,  -999.00,9,   -156.8,4,      1.9,2,   2054.2,2,    491.8,2,   2263.0,2,     7.89,2,   20.00,     4.2,-999.0000,-999.000,   25.00,  -999.0, 13.6001,-999.000
    31DSCG94_2,  P18S,    53,  1,    135,   1247,2,19940314,0536,-43.0033,-102.9983, 3827,     26.3,  13.4289,  34.0575,2,  34.0577,2,    260.8,2,    260.7,2,     0.84,2,    11.82,2,     0.20,2,     0.95,2,    3.280,6,    1.687,6, -999.000,5, -999.000,5,    0.364,2,   1.7621,2,    -0.81,2,     61.4,2,      2.0,2,   2058.7,2,    489.8,2,   2261.0,2,     7.89,2,   20.00,     3.4,-999.0000,-999.000,   25.00,  -999.0, 13.4252,   0.006
    31DSCG94_2,  P18S,    53,  1,    134,   1108,4,19940314,0536,-43.0033,-102.9983, 3827,     50.5,  13.4077,  34.0559,2,-999.0000,9,    260.6,2,   -999.0,9,  -999.00,9,  -999.00,9,  -999.00,9,  -999.00,9, -999.000,5, -999.000,5, -999.000,9, -999.000,9, -999.000,9,-999.0000,9,  -999.00,9,   -999.0,9,   -999.0,9,   -999.0,9,   -999.0,9,   -999.0,9,  -999.00,9, -999.00,  -999.0,-999.0000,-999.000, -999.00,  -999.0, 13.4007,-999.000
    31DSCG94_2,  P18S,    53,  1,    133,   1244,2,19940314,0536,-43.0033,-102.9983, 3827,     74.6,  10.1610,  34.0496,2,  34.0526,2,    277.2,2,    285.2,2,     0.78,2,    11.77,2,     0.13,2,     0.94,2,    3.902,2,    1.952,2, -999.000,9, -999.000,9, -999.000,9,-999.0000,9,  -999.00,9,     58.7,2,      1.9,2,   2062.5,2,    509.1,2,   2262.0,2,     7.87,2,   20.00,     3.7,-999.0000,-999.000,   25.00,  -999.0, 10.1524,-999.000
    31DSCG94_2,  P18S,    53,  1,    132,   1003,2,19940314,0536,-43.0033,-102.9983, 3827,    100.9,   8.8290,  34.0978,2,  34.0987,2,    276.1,2,    279.4,2,     1.11,6,    13.28,6,     0.30,6,     1.07,6,    4.018,2,    2.029,2, -999.000,9, -999.000,9,    0.361,2,-999.0000,9,  -999.00,9,     60.2,2,      1.8,2,   2078.6,2,    558.1,2,   2258.0,2,     7.84,2,   20.00,     4.8,-999.0000,-999.000,   25.00,  -999.0,  8.8183,   0.006
    31DSCG94_2,  P18S,    53,  1,    131,   1211,2,19940314,0536,-43.0033,-102.9983, 3827,    122.7,   8.2381,  34.1466,2,  34.1472,2,    276.7,2,    277.0,2,     1.64,2,    14.17,2,     0.34,2,     1.12,2,    4.073,2,    2.037,2, -999.000,9, -999.000,9, -999.000,9,-999.0000,9,  -999.00,9,     61.1,2,      1.7,2,   2087.0,2,    577.3,2,   2270.0,2,     7.83,2,   20.00,     5.4,-999.0000,-999.000,   25.00,  -999.0,  8.2257,-999.000
    31DSCG94_2,  P18S,    53,  1,    130,   1241,2,19940314,0536,-43.0033,-102.9983, 3827,    149.0,   7.8461,  34.1789,2,  34.1783,2,    270.8,2,    269.5,2,     2.02,2,    15.92,2,     0.40,2,     1.22,2,    4.008,2,    1.988,2, -999.000,9, -999.000,9, -999.000,9,-999.0000,9,  -999.00,9,     39.4,2,      1.6,2,   2097.1,2,    617.7,2,   2269.0,2,     7.81,2,   20.00,     4.8,-999.0000,-999.000,   25.00,  -999.0,  7.8314,-999.000
    31DSCG94_2,  P18S,    53,  1,    129,   1031,2,19940314,0536,-43.0033,-102.9983, 3827,    198.4,   6.9883,  34.2518,2,  34.2536,2,    269.1,2,    270.2,2,     3.66,2,    18.28,2,     0.00,2,     1.32,2,    4.053,2,    1.955,2, -999.000,9, -999.000,9,    0.318,2,   1.7737,2,    -1.32,2,     39.2,2,      1.5,2,   2110.4,2,    646.5,2,   2268.0,2,     7.78,2,   20.00,     6.8,-999.0000,-999.000,   25.00,  -999.0,  6.9700,   0.005
    31DSCG94_2,  P18S,    53,  1,    128,   1210,2,19940314,0536,-43.0033,-102.9983, 3827,    249.6,   6.6920,  34.2982,2,  34.2981,2,    262.4,2,    260.6,2,     5.23,2,    20.26,2,     0.00,2,     1.43,2,    3.469,2,    1.682,2, -999.000,9, -999.000,9, -999.000,9,-999.0000,9,  -999.00,9,     52.6,2,      1.4,2,   2123.4,2,    702.7,3,   2276.0,2,     7.76,2,   20.00,     9.0,-999.0000,-999.000,   25.00,  -999.0,  6.6694,-999.000
    31DSCG94_2,  P18S,    53,  1,    127,   1008,2,19940314,0536,-43.0033,-102.9983, 3827,    299.9,   6.5561,  34.3122,2,  34.3129,2,    265.3,2,    264.5,2,     6.21,2,    20.20,2,     0.00,2,     1.42,2,    3.499,2,    1.693,2, -999.000,9, -999.000,9, -999.000,9,-999.0000,9,  -999.00,9,     43.1,2,      1.4,2,   2123.1,2,    669.4,2,   2279.0,2,     7.76,2,   20.00,     5.1,-999.0000,-999.000,   25.00,  -999.0,  6.5292,-999.000
    31DSCG94_2,  P18S,    53,  1,    126,   1007,2,19940314,0536,-43.0033,-102.9983, 3827,    348.6,   6.4390,  34.3132,2,  34.3131,2,    264.0,2,    264.0,2,     6.59,2,    20.78,2,     0.00,2,     1.49,2,    3.351,2,    1.631,2, -999.000,9, -999.000,9,    0.276,2,-999.0000,9,  -999.00,9,   -156.9,4,      1.4,2,   2125.4,2,    704.5,3,   2268.0,3,     7.76,2,   20.00,     4.6,-999.0000,-999.000,   25.00,  -999.0,  6.4078,   0.006
    31DSCG94_2,  P18S,    53,  1,    125,   1203,2,19940314,0536,-43.0033,-102.9983, 3827,    402.2,   6.3384,  34.3153,2,  34.3161,2,    262.5,2,    263.4,2,     7.05,2,    21.02,2,     0.00,2,     1.49,2,    3.141,2,    1.542,2, -999.000,9, -999.000,9, -999.000,9,-999.0000,9,  -999.00,9,     32.9,2,      1.4,2,   2126.8,2,    687.2,2,   2276.0,2,     7.76,2,   20.00,     5.3,-999.0000,-999.000,   25.00,  -999.0,  6.3026,-999.000
    31DSCG94_2,  P18S,    53,  1,    123,   1101,2,19940314,0536,-43.0033,-102.9983, 3827,    500.5,   6.0759,  34.3039,2,  34.3052,2,    262.0,2,    263.8,2,     7.91,2,    21.73,2,     0.00,2,     1.54,2,    2.913,2,    1.396,2, -999.000,9, -999.000,9,    0.247,2,   1.7804,2,    -0.41,2,     35.7,2,      1.4,2,   2129.3,2,    707.8,2,   2275.0,2,     7.75,2,   20.00,     5.0,-999.0000,-999.000,   25.00,  -999.0,  6.0321,   0.005
    31DSCG94_2,  P18S,    53,  1,    121,   1206,2,19940314,0536,-43.0033,-102.9983, 3827,    594.8,   5.7774,  34.2867,2,  34.2863,2,    258.1,2,    261.0,2,     9.29,2,    22.75,2,     0.00,2,     1.58,2,    2.959,3,    1.296,2, -999.000,9, -999.000,9, -999.000,9,-999.0000,9,  -999.00,9,     10.1,2,      1.4,2,   2135.6,2,    737.2,2,   2279.0,2,     7.74,2,   20.00,     3.2,-999.0000,-999.000,   25.00,  -999.0,  5.7263,-999.000
    31DSCG94_2,  P18S,    53,  1,    119,   1248,2,19940314,0536,-43.0033,-102.9983, 3827,    698.5,   5.3910,  34.2694,2,  34.2695,2,    249.3,2,    252.0,2,    12.50,2,    24.49,2,     0.00,2,     1.68,2,    2.226,2,    1.061,2, -999.000,9, -999.000,9,    0.171,2,   1.7795,2,     0.14,2,    -10.1,2,      1.3,2,   2143.6,2,   -999.0,9,   -999.0,5,     7.72,2, -999.00,     3.1,-999.0000,-999.000,   25.00,  -999.0,  5.3325,   0.004
    31DSCG94_2,  P18S,    53,  1,    118,   1207,2,19940314,0536,-43.0033,-102.9983, 3827,    799.1,   4.9579,  34.2675,2,  34.2673,2,    236.9,2,    235.2,2,    17.53,2,    26.76,2,     0.00,2,     1.86,2,    1.504,2,    0.721,2, -999.000,9, -999.000,9,    0.132,2,   1.7978,2,     0.97,2,    -35.2,2,      1.2,2,   2159.4,2,    833.6,2,   2285.0,2,     7.69,2,   20.00,     4.7,-999.0000,-999.000,   25.00,  -999.0,  4.8931,   0.004
    31DSCG94_2,  P18S,    53,  1,    117,   1119,2,19940314,0536,-43.0033,-102.9983, 3827,    901.3,   4.5416,  34.2802,2,  34.2803,2,    221.7,2,    220.1,2,    23.76,2,    28.86,2,     0.00,2,     2.01,2,    1.008,2,    0.500,2, -999.000,9, -999.000,9, -999.000,9,-999.0000,9,  -999.00,9,    -60.9,2,      1.1,2,   2175.6,2,    910.5,2,   2290.0,2,     7.66,2,   20.00,     3.9,-999.0000,-999.000,   25.00,  -999.0,  4.4707,-999.000
    31DSCG94_2,  P18S,    53,  1,    116,   1036,2,19940314,0536,-43.0033,-102.9983, 3827,    999.4,   4.1331,  34.3011,2,  34.3003,2,    209.5,2,    208.5,2,    30.41,2,    30.60,2,     0.00,2,     2.12,2,    0.659,2,    0.334,2, -999.000,9, -999.000,9,    0.064,2,   1.8049,2,     2.81,2,    -78.0,2,      1.0,2,   2188.6,2,    966.7,2,   2291.0,2,     7.64,2,   20.00,     3.0,-999.0000,-999.000,   25.00,  -999.0,  4.0568,   0.004
    31DSCG94_2,  P18S,    53,  1,    115,   1017,2,19940314,0536,-43.0033,-102.9983, 3827,   1201.1,   3.4239,  34.3794,2,  34.3801,2,    183.1,2,    179.6,6,    49.45,2,    33.61,2,     0.00,2,     2.25,2,    0.197,2,    0.084,2, -999.000,9, -999.000,9, -999.000,9,-999.0000,9,  -999.00,9,   -130.4,2,      0.7,2,   2224.0,2,   1074.0,2,   2310.0,2,     7.58,2,   20.00,     4.3,-999.0000,-999.000,   25.00,  -999.0,  3.3367,-999.000
    31DSCG94_2,  P18S,    53,  1,    114,   1016,2,19940314,0536,-43.0033,-102.9983, 3827,   1398.9,   3.0340,  34.4699,2,  34.4701,2,    159.7,2,    156.2,2,    67.58,6,    35.44,6,     0.00,6,     2.50,6,    0.043,2,    0.028,2, -999.000,9, -999.000,9, -999.000,9,-999.0000,9,  -999.00,9,     15.1,4,      0.5,2,   2254.4,2,   1179.3,2,   -999.0,5,     7.55,2,   20.00,     5.0,-999.0000,-999.000,   25.00,  -999.0,  2.9344,-999.000
    31DSCG94_2,  P18S,    53,  1,    113,   1209,2,19940314,0536,-43.0033,-102.9983, 3827,   1598.0,   2.6914,  34.5398,2,  34.5396,2,    155.4,2,    155.9,2,    78.96,2,    35.07,2,     0.00,2,     2.46,2,    0.036,2,    0.012,2, -999.000,9, -999.000,9,    0.009,2,   1.8616,2,    13.55,2,   -999.0,9,      0.4,2,   2264.7,2,   1231.3,2,   2342.0,2,     7.55,2,   20.00,  -999.0,-999.0000,-999.000,   25.00,  -999.0,  2.5791,   0.003
    31DSCG94_2,  P18S,    53,  1,    112,   1033,2,19940314,0536,-43.0033,-102.9983, 3827,   1800.8,   2.4517,  34.5954,2,  34.5948,2,    159.7,2,    161.0,6,    86.21,2,    34.21,2,     0.00,2,     2.40,2,    0.021,2,    0.014,2, -999.000,9, -999.000,9, -999.000,9,-999.0000,9,  -999.00,9,   -172.7,2,      0.4,2,   2267.0,2,   -999.0,9,   2352.0,2,     7.56,2, -999.00,     2.8,-999.0000,-999.000,   25.00,  -999.0,  2.3255,-999.000
    31DSCG94_2,  P18S,    53,  1,    111,   1263,2,19940314,0536,-43.0033,-102.9983, 3827,   2000.2,   2.2738,  34.6428,2,  34.6415,2,    163.7,2,    164.9,2,    90.58,2,    33.66,2,     0.00,2,     2.36,2,    0.024,2,    0.048,4, -999.000,9, -999.000,9, -999.000,9,-999.0000,9,  -999.00,9,   -169.2,2,      0.4,2,   2270.5,2,   1143.0,2,   2354.0,2,     7.57,2,   20.00,     4.4,-999.0000,-999.000,   25.00,  -999.0,  2.1331,-999.000
    31DSCG94_2,  P18S,    53,  1,    110,   1005,2,19940314,0536,-43.0033,-102.9983, 3827,   2248.8,   2.0770,  34.6820,2,  34.6827,2,    168.3,2,    169.4,2,    96.03,2,    32.94,2,     0.00,2,     2.30,2,    0.013,2,    0.007,2, -999.000,9, -999.000,9,    0.007,2,-999.0000,9,  -999.00,9,   -185.0,2,      0.3,2,   -999.0,9,   1133.1,2,   2367.0,2,     7.58,2,   20.00,     3.9,-999.0000,-999.000,   25.00,  -999.0,  1.9177,   0.003
    31DSCG94_2,  P18S,    53,  1,    109,   1611,2,19940314,0536,-43.0033,-102.9983, 3827,   2499.9,   1.8816,  34.6957,2,  34.6951,2,    171.1,2,    171.9,6,   105.22,6,    32.74,6,     0.00,6,     2.29,6,    0.007,2,    0.003,2, -999.000,9, -999.000,9, -999.000,9,-999.0000,9,  -999.00,9,   -183.7,2,      0.4,2,   2277.0,2,   1126.7,2,   2370.0,2,     7.59,2,   20.00,     7.1,-999.0000,-999.000,   25.00,  -999.0,  1.7034,-999.000
    31DSCG94_2,  P18S,    53,  1,    108,   1218,2,19940314,0536,-43.0033,-102.9983, 3827,   2749.5,   1.7408,  34.7009,2,  34.6994,2,    173.5,2,    173.9,2,   109.43,2,    32.97,2,     0.00,2,     2.31,2,    0.000,2,    0.000,2, -999.000,9, -999.000,9,    0.009,2,   1.8928,2,    17.76,2,   -999.0,5,      0.3,2,   2285.4,3,   1097.6,2,   -999.0,5,     7.60,2,   20.00,  -999.0,-999.0000,-999.000,   25.00,  -999.0,  1.5423,   0.003
    31DSCG94_2,  P18S,    53,  1,    107,   1257,2,19940314,0536,-43.0033,-102.9983, 3827,   2996.6,   1.6548,  34.7047,2,  34.7041,2,    177.3,2,    177.4,2,   113.46,2,    33.21,2,     0.00,2,     2.30,2,   -0.001,6,    0.001,6, -999.000,9, -999.000,9, -999.000,9,-999.0000,9,  -999.00,9,   -185.4,2,      0.4,2,   2278.5,2,   1082.5,2,   2373.0,2,     7.60,2,   20.00,     2.9,-999.0000,-999.000,   25.00,  -999.0,  1.4347,-999.000
    31DSCG94_2,  P18S,    53,  1,    106,   1224,2,19940314,0536,-43.0033,-102.9983, 3827,   3246.3,   1.5266,  34.7077,2,  34.7070,2,    182.4,2,    185.2,2,   116.00,2,    32.83,2,     0.00,2,     2.32,2,    0.005,2,    0.001,2, -999.000,9, -999.000,9,    0.004,2,   1.8973,2,    15.51,2,   -183.5,2,      0.4,2,   2278.0,2,   1082.0,2,   2377.0,2,     7.60,2,   20.00,     3.2,-999.0000,-999.000,   25.00,  -999.0,  1.2851,   0.003
    31DSCG94_2,  P18S,    53,  1,    105,   1246,2,19940314,0536,-43.0033,-102.9983, 3827,   3499.3,   1.2990,  34.7071,2,  34.7065,2,    188.3,2,    188.1,2,   120.52,2,    32.85,2,     0.00,2,     2.29,2,    0.021,2,    0.000,2, -999.000,9, -999.000,9,    0.002,2,-999.0000,9,  -999.00,9,   -184.2,2,      0.4,2,   2279.7,2,   1072.5,2,   2384.0,2,     7.61,2,   20.00,     2.9,-999.0000,-999.000,   25.00,  -999.0,  1.0378,   0.003
    31DSCG94_2,  P18S,    53,  1,    103,   9999,2,19940314,0536,-43.0033,-102.9983, 3827,   3748.6,   1.1741,  34.7081,2,  34.7073,2,    193.1,2,    191.8,2,   123.77,2,    32.63,2,     0.00,2,     2.29,2,   -0.003,6,    0.002,6, -999.000,9, -999.000,9, -999.000,9,-999.0000,9,  -999.00,9,   -999.0,9,   -999.0,9,   2279.2,2,   -999.0,9,   2385.0,2,     7.61,2, -999.00,  -999.0,-999.0000,-999.000,   25.00,  -999.0,  0.8907,-999.000
    31DSCG94_2,  P18S,    53,  1,    104,   1028,2,19940314,0536,-43.0033,-102.9983, 3827,   3750.4,   1.1734,  34.7082,2,  34.7074,2,    192.9,2,   -999.0,9,   124.85,6,    32.54,6,     0.00,6,     2.27,6, -999.000,9, -999.000,9, -999.000,9, -999.000,9, -999.000,9,-999.0000,9,  -999.00,9,   -999.0,9,   -999.0,9,   -999.0,9,   -999.0,9,   -999.0,9,  -999.00,9, -999.00,  -999.0,-999.0000,-999.000, -999.00,  -999.0,  0.8898,-999.000
    31DSCG94_2,  P18S,    53,  1,    102,   1223,2,19940314,0536,-43.0033,-102.9983, 3827,   3750.7,   1.1738,  34.7080,2,  34.7076,2,    192.9,2,    192.1,2,   124.72,6,    32.85,6,     0.00,6,     2.28,6,    0.000,2,    0.002,2, -999.000,9, -999.000,9,    0.006,2,   1.8955,2,    12.86,2,   -169.7,2,      0.4,2,   2278.5,2,   1057.2,2,   -999.0,5,     7.62,2,   20.00,     4.2,-999.0000,-999.000,   25.00,  -999.0,  0.8902,   0.003
    31DSCG94_2,  P18S,    53,  1,    101,   1041,2,19940314,0536,-43.0033,-102.9983, 3827,   3862.7,   1.0860,  34.7086,2,  34.7092,2,    196.2,2,    195.3,2,   127.17,2,    32.74,2,     0.00,2,     2.25,2,    0.050,4,    0.171,4, -999.000,9, -999.000,9,    0.008,2,   1.9249,2,    12.13,2,   -182.0,2,      0.4,2,   2275.6,2,   1061.9,2,   2381.0,2,     7.62,2,   20.00,     2.9,-999.0000,-999.000,   25.00,  -999.0,  0.7931,   0.003