BOTTLE,20220630CCHSIOAMB
EXPOCODE,SECT_ID,STNNBR,CASTNO,SAMPNO,BTLNBR,BTLNBR_FLAG_W,DATE,TIME,LATITUDE,LONGITUDE,DEPTH,CTDPRS,CTDTMP,CTDSAL,CTDSAL_FLAG_W,SALNTY,SALNTY_FLAG_W,CTDOXY,CTDOXY_FLAG_W,OXYGEN,OXYGEN_FLAG_W,SILCAT,SILCAT_FLAG_W,NITRAT,NITRAT_FLAG_W,NITRIT,NITRIT_FLAG_W,PHSPHT,PHSPHT_FLAG_W,CFC-11,CFC-11_FLAG_W,CFC-12,CFC-12_FLAG_W,CFC113,CFC113_FLAG_W,CCL4,CCL4_FLAG_W,TRITUM,TRITUM_FLAG_W,HELIUM,HELIUM_FLAG_W,DELHE3,DELHE3_FLAG_W,DELC14,DELC14_FLAG_W,DELC13,DELC13_FLAG_W,TCARBN,TCARBN_FLAG_W,PCO2,PCO2_FLAG_W,ALKALI,ALKALI_FLAG_W,PH,PH_FLAG_W,PCO2TMP,C14ERR,HELIER,DELHER,PH_TMP,C13ERR,THETA,TRITER
,,,,,,,,,,,,DBAR,ITS-90,PSS-78,,PSS-78,,UMOL/KG,,UMOL/KG,,UMOL/KG,,UMOL/KG,,UMOL/KG,,UMOL/KG,,PMOL/KG,,PMOL/KG,,PMOL/KG,,PMOL/KG,,TU,,NMOL/KG,,PERCNT,,/MILLE,,/MILLE,,UMOL/KG,,UATM,,UMOL/KG,,,,DEG C,/MILLE,NMOL/KG,PERCNT,DEG C,/MILLE,DEG C,TU
    31DSCG94_3,  P18N,   179,  1,    136,   1025,2,19940422,1522, 16.5000,-110.0017, 3397,      8.3,  27.0056,  34.2138,2,  34.2146,2,    217.8,2,    203.5,2,     0.33,2,     0.06,2,     0.00,2,     0.10,2, -999.000,9, -999.000,9, -999.000,9, -999.000,9, -999.000,9,-999.0000,9,  -999.00,9,   -999.0,9,   -999.0,9,   1930.9,2,    267.5,2,   2252.0,6,     8.10,2,   20.00,  -999.0,-999.0000,-999.000,   25.00,  -999.0, 27.0037,-999.000
    31DSCG94_3,  P18N,   179,  1,    135,   1247,2,19940422,1522, 16.5000,-110.0017, 3397,     24.3,  25.3613,  34.5271,2,  34.4736,3,    217.2,2,    213.9,2,     0.37,2,     0.01,2,     0.00,2,     0.18,2, -999.000,9, -999.000,9, -999.000,9, -999.000,9, -999.000,9,-999.0000,9,  -999.00,9,   -999.0,9,   -999.0,9,   -999.0,9,   -999.0,9,   -999.0,9,     8.08,2, -999.00,  -999.0,-999.0000,-999.000,   25.00,  -999.0, 25.3560,-999.000
    31DSCG94_3,  P18N,   179,  1,    134,   1216,2,19940422,1522, 16.5000,-110.0017, 3397,     49.3,  23.2353,  34.4272,2,  34.4168,2,    218.7,2,    214.2,2,     0.73,2,     0.12,2,     0.00,2,     0.32,2, -999.000,9, -999.000,9, -999.000,9, -999.000,9, -999.000,9,-999.0000,9,  -999.00,9,   -999.0,9,   -999.0,9,   2001.3,2,    330.1,2,   2284.0,2,     8.03,2,   20.00,  -999.0,-999.0000,-999.000,   25.00,  -999.0, 23.2252,-999.000
    31DSCG94_3,  P18N,   179,  1,    133,   1244,2,19940422,1522, 16.5000,-110.0017, 3397,     76.1,  19.1910,  34.3922,2,  34.3779,2,    111.7,2,    118.9,2,     6.31,2,    10.61,2,     0.35,2,     1.17,2, -999.000,9, -999.000,9, -999.000,9, -999.000,9, -999.000,9,-999.0000,9,  -999.00,9,   -999.0,9,   -999.0,9,   -999.0,9,   -999.0,9,   -999.0,9,     7.81,2, -999.00,  -999.0,-999.0000,-999.000,   25.00,  -999.0, 19.1774,-999.000
    31DSCG94_3,  P18N,   179,  1,    132,   1003,2,19940422,1522, 16.5000,-110.0017, 3397,    100.4,  16.4361,  34.2778,2,  34.2948,2,    105.0,2,     82.0,2,    12.34,2,    16.89,2,     0.08,2,     1.62,2, -999.000,9, -999.000,9, -999.000,9, -999.000,9, -999.000,9,-999.0000,9,  -999.00,9,   -999.0,9,   -999.0,9,   2152.3,2,    892.3,2,   2273.0,2,     7.67,2,   20.00,  -999.0,-999.0000,-999.000,   25.00,  -999.0, 16.4200,-999.000
    31DSCG94_3,  P18N,   179,  1,    131,   1211,2,19940422,1522, 16.5000,-110.0017, 3397,    124.4,  14.5408,  34.6065,2,  34.6080,2,     25.8,2,     15.1,2,    22.07,2,    25.67,2,     0.02,2,     2.31,2, -999.000,9, -999.000,9, -999.000,9, -999.000,9, -999.000,9,-999.0000,9,  -999.00,9,   -999.0,9,   -999.0,9,   -999.0,9,   -999.0,9,   -999.0,9,     7.49,2, -999.00,  -999.0,-999.0000,-999.000,   25.00,  -999.0, 14.5225,-999.000
    31DSCG94_3,  P18N,   179,  1,    130,   1241,2,19940422,1522, 16.5000,-110.0017, 3397,    150.4,  13.3649,  34.7299,2,  34.7315,2,     16.8,2,      0.5,2,    26.06,2,    26.72,2,     0.01,2,     2.47,2, -999.000,9, -999.000,9, -999.000,9, -999.000,9, -999.000,9,-999.0000,9,  -999.00,9,   -999.0,9,   -999.0,9,   -999.0,9,   -999.0,9,   -999.0,9,     7.45,2, -999.00,  -999.0,-999.0000,-999.000,   25.00,  -999.0, 13.3439,-999.000
    31DSCG94_3,  P18N,   179,  1,    129,   1240,2,19940422,1522, 16.5000,-110.0017, 3397,    173.8,  12.6100,  34.7629,2,  34.7630,2,     13.1,2,      0.9,2,    27.79,2,    24.91,2,     1.84,2,     2.52,2, -999.000,9, -999.000,9, -999.000,9, -999.000,9, -999.000,9,-999.0000,9,  -999.00,9,   -999.0,9,   -999.0,9,   -999.0,9,   -999.0,9,   -999.0,9,     7.45,2, -999.00,  -999.0,-999.0000,-999.000,   25.00,  -999.0, 12.5866,-999.000
    31DSCG94_3,  P18N,   179,  1,    128,   1114,2,19940422,1522, 16.5000,-110.0017, 3397,    199.2,  12.1611,  34.7630,2,  34.7628,2,      9.8,2,      0.7,2,    29.82,2,    24.19,2,     2.72,2,     2.54,2, -999.000,9, -999.000,9, -999.000,9, -999.000,9, -999.000,9,-999.0000,9,  -999.00,9,   -999.0,9,   -999.0,9,   2258.7,2,   1576.8,2,   2305.0,2,     7.44,2,   20.00,  -999.0,-999.0000,-999.000,   25.00,  -999.0, 12.1349,-999.000
    31DSCG94_3,  P18N,   179,  1,    127,   1008,2,19940422,1522, 16.5000,-110.0017, 3397,    248.2,  11.3622,  34.7291,2,  34.7282,2,      6.1,2,      0.6,2,    33.26,2,    24.10,2,     2.32,2,     2.62,2, -999.000,9, -999.000,9, -999.000,9, -999.000,9, -999.000,9,-999.0000,9,  -999.00,9,   -999.0,9,   -999.0,9,   -999.0,9,   -999.0,9,   -999.0,9,     7.42,2, -999.00,  -999.0,-999.0000,-999.000,   25.00,  -999.0, 11.3309,-999.000
    31DSCG94_3,  P18N,   179,  1,    126,   1007,2,19940422,1522, 16.5000,-110.0017, 3397,    299.1,  10.5684,  34.6795,2,  34.6801,2,      4.3,2,      0.5,6,    37.71,2,    23.72,2,     1.78,2,     2.70,2, -999.000,9, -999.000,9, -999.000,9, -999.000,9, -999.000,9,-999.0000,9,  -999.00,9,   -999.0,9,   -999.0,9,   2278.9,2,   1761.8,2,   2312.0,2,     7.40,2,   20.00,  -999.0,-999.0000,-999.000,   25.00,  -999.0, 10.5324,-999.000
    31DSCG94_3,  P18N,   179,  1,    125,   1256,2,19940422,1522, 16.5000,-110.0017, 3397,    349.7,   9.7999,  34.6370,2,  34.6348,2,      3.9,2,      0.6,2,    42.50,2,    26.52,2,     0.49,2,     2.79,2, -999.000,9, -999.000,9, -999.000,9, -999.000,9, -999.000,9,-999.0000,9,  -999.00,9,   -999.0,9,   -999.0,9,   -999.0,9,   -999.0,9,   -999.0,9,     7.38,2, -999.00,  -999.0,-999.0000,-999.000,   25.00,  -999.0,  9.7597,-999.000
    31DSCG94_3,  P18N,   179,  1,    123,   1220,2,19940422,1522, 16.5000,-110.0017, 3397,    400.1,   9.0686,  34.5961,2,  34.5960,2,      2.2,2,      0.5,2,    46.87,2,    29.30,2,     0.03,2,     2.86,2, -999.000,9, -999.000,9, -999.000,9, -999.000,9, -999.000,9,-999.0000,9,  -999.00,9,   -999.0,9,   -999.0,9,   2294.4,2,   1908.1,2,   2305.0,2,     7.37,2,   20.00,  -999.0,-999.0000,-999.000,   25.00,  -999.0,  9.0247,-999.000
    31DSCG94_3,  P18N,   179,  1,    122,   1245,2,19940422,1522, 16.5000,-110.0017, 3397,    451.1,   8.5306,  34.5837,2,  34.5831,2,      2.2,2,      0.2,2,    51.65,2,    30.33,2,     0.10,2,     2.95,2, -999.000,9, -999.000,9, -999.000,9, -999.000,9, -999.000,9,-999.0000,9,  -999.00,9,   -999.0,9,   -999.0,9,   -999.0,9,   -999.0,9,   -999.0,9,     7.36,2, -999.00,  -999.0,-999.0000,-999.000,   25.00,  -999.0,  8.4826,-999.000
    31DSCG94_3,  P18N,   179,  1,    121,   1206,3,19940422,1522, 16.5000,-110.0017, 3397,    501.1,   7.9191,  34.5568,2,  34.5571,2,      1.6,2,      0.5,2,    56.85,2,    32.65,2,     0.01,2,     3.01,2, -999.000,9, -999.000,9, -999.000,9, -999.000,9, -999.000,9,-999.0000,9,  -999.00,9,   -999.0,9,   -999.0,9,   2307.7,2,   -999.0,9,   2320.0,2,  -999.00,9, -999.00,  -999.0,-999.0000,-999.000, -999.00,  -999.0,  7.8680,-999.000
    31DSCG94_3,  P18N,   179,  1,    120,   1028,2,19940422,1522, 16.5000,-110.0017, 3397,    599.3,   6.8853,  34.5319,2,  34.5325,2,      1.7,2,      0.5,2,    70.68,2,    36.61,2,     0.02,2,     3.13,2, -999.000,9, -999.000,9, -999.000,9, -999.000,9, -999.000,9,-999.0000,9,  -999.00,9,   -999.0,9,   -999.0,9,   2323.8,2,   2041.5,2,   2330.0,2,     7.34,2,   20.00,  -999.0,-999.0000,-999.000,   25.00,  -999.0,  6.8285,-999.000
    31DSCG94_3,  P18N,   179,  1,    119,   1248,2,19940422,1522, 16.5000,-110.0017, 3397,    702.0,   5.9356,  34.5252,2,  34.5250,2,      1.2,2,      1.0,2,    83.08,2,    40.05,2,     0.01,2,     3.21,2, -999.000,9, -999.000,9, -999.000,9, -999.000,9, -999.000,9,-999.0000,9,  -999.00,9,   -999.0,9,   -999.0,9,   2336.6,2,   2110.7,2,   2339.0,2,     7.33,2,   20.00,  -999.0,-999.0000,-999.000,   25.00,  -999.0,  5.8736,-999.000
    31DSCG94_3,  P18N,   179,  1,    118,   1115,2,19940422,1522, 16.5000,-110.0017, 3397,    800.5,   5.2282,  34.5310,2,  34.5315,2,      2.6,2,      2.7,2,    93.30,2,    42.75,2,     0.00,2,     3.22,2, -999.000,9, -999.000,9, -999.000,9, -999.000,9, -999.000,9,-999.0000,9,  -999.00,9,   -999.0,9,   -999.0,9,   2347.8,2,   2154.8,2,   2347.0,2,     7.33,2,   20.00,  -999.0,-999.0000,-999.000,   25.00,  -999.0,  5.1613,-999.000
    31DSCG94_3,  P18N,   179,  1,    117,   1119,2,19940422,1522, 16.5000,-110.0017, 3397,    900.9,   4.8028,  34.5379,2,  34.5372,2,      5.6,2,      7.0,2,    98.14,2,    43.79,2,     0.00,2,     3.24,2, -999.000,9, -999.000,9, -999.000,9, -999.000,9, -999.000,9,-999.0000,9,  -999.00,9,   -999.0,9,   -999.0,9,   2355.6,2,   2137.0,2,   2360.0,2,     7.33,2,   20.00,  -999.0,-999.0000,-999.000,   25.00,  -999.0,  4.7297,-999.000
    31DSCG94_3,  P18N,   179,  1,    116,   1036,2,19940422,1522, 16.5000,-110.0017, 3397,   1000.6,   4.3527,  34.5464,2,  34.5456,2,      8.9,2,     12.5,2,   105.76,2,    43.65,2,     0.00,2,     3.17,3, -999.000,9, -999.000,9, -999.000,9, -999.000,9, -999.000,9,-999.0000,9,  -999.00,9,   -999.0,9,   -999.0,9,   2360.4,2,   2135.1,2,   2374.0,2,     7.34,2,   20.00,  -999.0,-999.0000,-999.000,   25.00,  -999.0,  4.2741,-999.000
    31DSCG94_3,  P18N,   179,  1,    115,   1017,2,19940422,1522, 16.5000,-110.0017, 3397,   1101.1,   3.9893,  34.5578,2,  34.5574,2,     18.1,2,     21.1,2,   111.45,2,    43.62,2,     0.00,2,     3.14,3, -999.000,9, -999.000,9, -999.000,9, -999.000,9, -999.000,9,-999.0000,9,  -999.00,9,   -999.0,9,   -999.0,9,   -999.0,9,   -999.0,9,   -999.0,9,  -999.00,9, -999.00,  -999.0,-999.0000,-999.000, -999.00,  -999.0,  3.9052,-999.000
    31DSCG94_3,  P18N,   179,  1,    114,   1016,2,19940422,1522, 16.5000,-110.0017, 3397,   1201.8,   3.7194,  34.5680,2,  34.5679,2,     25.8,2,     28.7,2,   114.99,2,    43.58,2,     0.00,2,     3.08,3, -999.000,9, -999.000,9, -999.000,9, -999.000,9, -999.000,9,-999.0000,9,  -999.00,9,   -999.0,9,   -999.0,9,   -999.0,9,   -999.0,9,   -999.0,9,     7.36,2, -999.00,  -999.0,-999.0000,-999.000,   25.00,  -999.0,  3.6291,-999.000
    31DSCG94_3,  P18N,   179,  1,    113,   1209,2,19940422,1522, 16.5000,-110.0017, 3397,   1399.5,   3.2332,  34.5886,2,  34.5888,2,     41.2,2,     43.1,2,   126.60,2,    42.84,2,     0.00,2,     2.99,3, -999.000,9, -999.000,9, -999.000,9, -999.000,9, -999.000,9,-999.0000,9,  -999.00,9,   -999.0,9,   -999.0,9,   -999.0,9,   -999.0,9,   -999.0,9,  -999.00,9, -999.00,  -999.0,-999.0000,-999.000, -999.00,  -999.0,  3.1311,-999.000
    31DSCG94_3,  P18N,   179,  1,    112,   1033,2,19940422,1522, 16.5000,-110.0017, 3397,   1599.5,   2.7970,  34.6097,2,  34.6092,2,     56.2,2,     58.5,2,   138.60,2,    41.65,2,     0.00,2,     2.92,3, -999.000,9, -999.000,9, -999.000,9, -999.000,9, -999.000,9,-999.0000,9,  -999.00,9,   -999.0,9,   -999.0,9,   -999.0,9,   -999.0,9,   -999.0,9,     7.42,2, -999.00,  -999.0,-999.0000,-999.000,   25.00,  -999.0,  2.6832,-999.000
    31DSCG94_3,  P18N,   179,  1,    111,   1240,2,19940422,1522, 16.5000,-110.0017, 3397,   1800.2,   2.4878,  34.6270,2,  34.6271,2,     76.1,2,     71.6,2,   147.18,2,    42.00,3,     0.00,2,     2.80,3, -999.000,9, -999.000,9, -999.000,9, -999.000,9, -999.000,9,-999.0000,9,  -999.00,9,   -999.0,9,   -999.0,9,   -999.0,9,   -999.0,9,   -999.0,9,  -999.00,9, -999.00,  -999.0,-999.0000,-999.000, -999.00,  -999.0,  2.3611,-999.000
    31DSCG94_3,  P18N,   179,  1,    110,   1005,2,19940422,1522, 16.5000,-110.0017, 3397,   1999.5,   2.2020,  34.6408,2,  34.6413,2,     92.3,2,     86.9,2,   150.92,2,    39.54,2,     0.00,2,     2.71,3, -999.000,9, -999.000,9, -999.000,9, -999.000,9, -999.000,9,-999.0000,9,  -999.00,9,   -999.0,9,   -999.0,9,   -999.0,9,   -999.0,9,   -999.0,9,     7.47,2, -999.00,  -999.0,-999.0000,-999.000,   25.00,  -999.0,  2.0625,-999.000
    31DSCG94_3,  P18N,   179,  1,    109,   1611,2,19940422,1522, 16.5000,-110.0017, 3397,   2199.4,   1.9726,  34.6530,2,  34.6527,2,     99.8,2,     97.2,2,   152.58,2,    38.61,2,     0.00,2,     2.61,3, -999.000,9, -999.000,9, -999.000,9, -999.000,9, -999.000,9,-999.0000,9,  -999.00,9,   -999.0,9,   -999.0,9,   -999.0,9,   -999.0,9,   -999.0,9,  -999.00,9, -999.00,  -999.0,-999.0000,-999.000, -999.00,  -999.0,  1.8195,-999.000
    31DSCG94_3,  P18N,   179,  1,    108,   1218,2,19940422,1522, 16.5000,-110.0017, 3397,   2398.6,   1.8440,  34.6612,2,  34.6608,2,    108.7,2,    105.4,2,   154.23,2,    37.90,2,     0.00,2,     2.56,3, -999.000,9, -999.000,9, -999.000,9, -999.000,9, -999.000,9,-999.0000,9,  -999.00,9,   -999.0,9,   -999.0,9,   -999.0,9,   -999.0,9,   -999.0,9,     7.51,2, -999.00,  -999.0,-999.0000,-999.000,   25.00,  -999.0,  1.6756,-999.000
    31DSCG94_3,  P18N,   179,  1,    107,   1257,2,19940422,1522, 16.5000,-110.0017, 3397,   2601.7,   1.7641,  34.6666,2,  34.6657,2,    113.7,2,    111.5,6,   156.25,2,    37.77,2,     0.00,2,     2.52,3, -999.000,9, -999.000,9, -999.000,9, -999.000,9, -999.000,9,-999.0000,9,  -999.00,9,   -999.0,9,   -999.0,9,   -999.0,9,   -999.0,9,   -999.0,9,  -999.00,9, -999.00,  -999.0,-999.0000,-999.000, -999.00,  -999.0,  1.5789,-999.000
    31DSCG94_3,  P18N,   179,  1,    106,   1224,2,19940422,1522, 16.5000,-110.0017, 3397,   2799.3,   1.7172,  34.6692,2,  34.6688,2,    116.9,2,    114.8,2,   157.26,2,    37.59,2,     0.00,2,     2.53,3, -999.000,9, -999.000,9, -999.000,9, -999.000,9, -999.000,9,-999.0000,9,  -999.00,9,   -999.0,9,   -999.0,9,   -999.0,9,   -999.0,9,   -999.0,9,     7.53,2, -999.00,  -999.0,-999.0000,-999.000,   25.00,  -999.0,  1.5147,-999.000
    31DSCG94_3,  P18N,   179,  1,    105,   1246,2,19940422,1522, 16.5000,-110.0017, 3397,   3000.4,   1.7025,  34.6713,2,  34.6708,2,    119.4,2,    117.7,2,   158.56,6,    37.53,6,     0.00,6,     2.57,6, -999.000,9, -999.000,9, -999.000,9, -999.000,9, -999.000,9,-999.0000,9,  -999.00,9,   -999.0,9,   -999.0,9,   -999.0,9,   -999.0,9,   -999.0,9,  -999.00,9, -999.00,  -999.0,-999.0000,-999.000, -999.00,  -999.0,  1.4812,-999.000
    31DSCG94_3,  P18N,   179,  1,    104,   1217,2,19940422,1522, 16.5000,-110.0017, 3397,   3197.1,   1.6986,  34.6732,2,  34.6730,2,    120.8,2,    120.3,2,   158.67,2,    37.43,2,     0.01,2,     2.58,2, -999.000,9, -999.000,9, -999.000,9, -999.000,9, -999.000,9,-999.0000,9,  -999.00,9,   -999.0,9,   -999.0,9,   -999.0,9,   -999.0,9,   -999.0,9,     7.54,2, -999.00,  -999.0,-999.0000,-999.000,   25.00,  -999.0,  1.4581,-999.000
    31DSCG94_3,  P18N,   179,  1,    102,   1223,2,19940422,1522, 16.5000,-110.0017, 3397,   3399.4,   1.7080,  34.6740,2,  34.6738,2,    122.2,2,    121.4,6,   160.31,2,    37.21,2,     0.00,2,     2.56,2, -999.000,9, -999.000,9, -999.000,9, -999.000,9, -999.000,9,-999.0000,9,  -999.00,9,   -999.0,9,   -999.0,9,   -999.0,9,   -999.0,9,   -999.0,9,     7.54,2, -999.00,  -999.0,-999.0000,-999.000,   25.00,  -999.0,  1.4469,-999.000
    31DSCG94_3,  P18N,   179,  1,    103,   9999,2,19940422,1522, 16.5000,-110.0017, 3397,   3399.5,   1.7081,  34.6740,2,  34.6749,2,    122.2,2,    121.3,2,   161.20,2,    37.30,2,     0.01,2,     2.56,2, -999.000,9, -999.000,9, -999.000,9, -999.000,9, -999.000,9,-999.0000,9,  -999.00,9,   -999.0,9,   -999.0,9,   -999.0,9,   -999.0,9,   -999.0,9,  -999.00,9, -999.00,  -999.0,-999.0000,-999.000, -999.00,  -999.0,  1.4470,-999.000
    31DSCG94_3,  P18N,   179,  1,    101,   1041,2,19940422,1522, 16.5000,-110.0017, 3397,   3480.8,   1.7147,  34.6744,2,  34.6745,2,    121.4,2,    121.7,2,   158.16,2,    36.99,2,     0.00,2,     2.56,2, -999.000,9, -999.000,9, -999.000,9, -999.000,9, -999.000,9,-999.0000,9,  -999.00,9,   -999.0,9,   -999.0,9,   -999.0,9,   -999.0,9,   -999.0,9,  -999.00,9, -999.00,  -999.0,-999.0000,-999.000, -999.00,  -999.0,  1.4451,-999.000