BOTTLE,20220630CCHSIOAMB
EXPOCODE,SECT_ID,STNNBR,CASTNO,SAMPNO,BTLNBR,BTLNBR_FLAG_W,DATE,TIME,LATITUDE,LONGITUDE,DEPTH,CTDPRS,CTDTMP,CTDSAL,CTDSAL_FLAG_W,SALNTY,SALNTY_FLAG_W,CTDOXY,CTDOXY_FLAG_W,OXYGEN,OXYGEN_FLAG_W,SILCAT,SILCAT_FLAG_W,NITRAT,NITRAT_FLAG_W,NITRIT,NITRIT_FLAG_W,PHSPHT,PHSPHT_FLAG_W,CFC-11,CFC-11_FLAG_W,CFC-12,CFC-12_FLAG_W,CFC113,CFC113_FLAG_W,CCL4,CCL4_FLAG_W,TRITUM,TRITUM_FLAG_W,HELIUM,HELIUM_FLAG_W,DELHE3,DELHE3_FLAG_W,DELC14,DELC14_FLAG_W,DELC13,DELC13_FLAG_W,TCARBN,TCARBN_FLAG_W,PCO2,PCO2_FLAG_W,ALKALI,ALKALI_FLAG_W,PH,PH_FLAG_W,PCO2TMP,C14ERR,HELIER,DELHER,PH_TMP,C13ERR,THETA,TRITER
,,,,,,,,,,,,DBAR,ITS-90,PSS-78,,PSS-78,,UMOL/KG,,UMOL/KG,,UMOL/KG,,UMOL/KG,,UMOL/KG,,UMOL/KG,,PMOL/KG,,PMOL/KG,,PMOL/KG,,PMOL/KG,,TU,,NMOL/KG,,PERCNT,,/MILLE,,/MILLE,,UMOL/KG,,UATM,,UMOL/KG,,,,DEG C,/MILLE,NMOL/KG,PERCNT,DEG C,/MILLE,DEG C,TU
    31DSCG94_2,  P18S,    18,  1,    124,    435,2,19940302,0840,-63.0000,-102.9667, 5038,      7.5,   3.3731,  33.9370,2,  33.9366,2,    315.4,2,    315.2,2,     2.76,2,    20.83,2,     0.23,2,     1.67,2,    5.487,2,    2.700,2, -999.000,9, -999.000,9, -999.000,9,-999.0000,9,  -999.00,9,   -999.0,9,   -999.0,9,   2121.9,2,    673.7,2,   2281.0,2,  -999.00,9,   20.00,  -999.0,-999.0000,-999.000, -999.00,  -999.0,  3.3726,-999.000
    31DSCG94_2,  P18S,    18,  1,    123,    421,2,19940302,0840,-63.0000,-102.9667, 5038,     25.4,   3.3642,  33.9356,2,  33.9359,2,    317.9,2,    315.3,2,     2.69,2,    20.96,2,     0.23,2,     1.66,2,    5.434,2,    2.638,2, -999.000,9, -999.000,9, -999.000,9,-999.0000,9,  -999.00,9,   -999.0,9,   -999.0,9,   2122.4,2,    673.5,2,   2276.0,2,  -999.00,9,   20.00,  -999.0,-999.0000,-999.000, -999.00,  -999.0,  3.3626,-999.000
    31DSCG94_2,  P18S,    18,  1,    122,    418,2,19940302,0840,-63.0000,-102.9667, 5038,     52.1,   3.3845,  33.9393,2,  33.9402,2,    317.4,2,    315.3,2,     2.81,2,    20.95,2,     0.23,2,     1.64,2, -999.000,5, -999.000,5, -999.000,9, -999.000,9, -999.000,9,-999.0000,9,  -999.00,9,   -999.0,9,   -999.0,9,   2122.3,2,    677.0,2,   2280.0,2,  -999.00,9,   20.00,  -999.0,-999.0000,-999.000, -999.00,  -999.0,  3.3812,-999.000
    31DSCG94_2,  P18S,    18,  1,    121,    413,2,19940302,0840,-63.0000,-102.9667, 5038,     95.9,   1.8350,  34.0254,2,-999.0000,9,    311.5,2,    313.7,2,  -999.00,9,  -999.00,9,  -999.00,9,  -999.00,9,    5.498,2,    2.629,2, -999.000,9, -999.000,9, -999.000,9,-999.0000,9,  -999.00,9,   -999.0,9,   -999.0,9,   2149.5,2,    802.1,2,   2287.0,2,  -999.00,9,   20.00,  -999.0,-999.0000,-999.000, -999.00,  -999.0,  1.8301,-999.000
    31DSCG94_2,  P18S,    18,  1,    120,    405,2,19940302,0840,-63.0000,-102.9667, 5038,    150.5,   1.4872,  34.0261,2,  34.0266,2,    317.6,2,    314.1,2,    19.14,2,    26.11,2,     0.25,2,     1.88,2,    5.494,2,    2.756,2, -999.000,9, -999.000,9, -999.000,9,-999.0000,9,  -999.00,9,   -999.0,9,   -999.0,9,   2151.1,2,    811.6,2,   2281.0,2,  -999.00,9,   20.00,  -999.0,-999.0000,-999.000, -999.00,  -999.0,  1.4800,-999.000
    31DSCG94_2,  P18S,    18,  1,    119,    417,2,19940302,0840,-63.0000,-102.9667, 5038,    197.9,   1.2160,  34.0181,2,-999.0000,9,    320.3,2,    316.3,2,    20.91,2,    27.55,2,     0.00,2,     1.98,2,    5.578,2,    2.654,2, -999.000,9, -999.000,9, -999.000,9,-999.0000,9,  -999.00,9,   -999.0,9,   -999.0,9,   -999.0,9,    821.6,2,   2282.0,2,  -999.00,9,   20.00,  -999.0,-999.0000,-999.000, -999.00,  -999.0,  1.2069,-999.000
    31DSCG94_2,  P18S,    18,  1,    118,    429,2,19940302,0840,-63.0000,-102.9667, 5038,    303.3,   2.0438,  34.1783,2,-999.0000,9,    273.1,2,   -999.0,9,  -999.00,9,  -999.00,9,  -999.00,9,  -999.00,9, -999.000,9, -999.000,9, -999.000,9, -999.000,9, -999.000,9,-999.0000,9,  -999.00,9,   -999.0,9,   -999.0,9,   -999.0,9,   -999.0,9,   -999.0,9,  -999.00,9, -999.00,  -999.0,-999.0000,-999.000, -999.00,  -999.0,  2.0274,-999.000
    31DSCG94_2,  P18S,    18,  1,    117,    427,2,19940302,0840,-63.0000,-102.9667, 5038,    400.1,   2.4916,  34.3242,2,-999.0000,9,    170.9,2,    205.9,2,    51.42,2,    33.23,2,     0.00,2,     2.41,2,    1.634,3,    0.624,3, -999.000,9, -999.000,9, -999.000,9,-999.0000,9,  -999.00,9,   -999.0,9,   -999.0,9,   2217.6,2,   1128.7,2,   2309.0,2,  -999.00,9,   20.00,  -999.0,-999.0000,-999.000, -999.00,  -999.0,  2.4681,-999.000
    31DSCG94_2,  P18S,    18,  1,    116,    410,2,19940302,0840,-63.0000,-102.9667, 5038,    498.2,   2.4415,  34.4117,2,-999.0000,9,    197.1,2,    188.1,2,    61.92,2,    33.95,2,     0.00,2,     2.54,2,    1.004,2,    0.463,2, -999.000,9, -999.000,9, -999.000,9,-999.0000,9,  -999.00,9,   -999.0,9,   -999.0,9,   2233.5,2,   1175.3,2,   2318.0,2,  -999.00,9,   20.00,  -999.0,-999.0000,-999.000, -999.00,  -999.0,  2.4120,-999.000
    31DSCG94_2,  P18S,    18,  1,    115,    422,2,19940302,0840,-63.0000,-102.9667, 5038,    601.8,   2.4126,  34.4933,2,-999.0000,9,    184.2,2,    178.1,2,    70.34,2,    34.28,2,     0.00,2,     2.44,2,    0.587,2,    0.287,2, -999.000,9, -999.000,9, -999.000,9,-999.0000,9,  -999.00,9,   -999.0,9,   -999.0,9,   2243.8,2,   1198.7,2,   2322.0,2,  -999.00,9,   20.00,  -999.0,-999.0000,-999.000, -999.00,  -999.0,  2.3765,-999.000
    31DSCG94_2,  P18S,    18,  1,    114,    407,2,19940302,0840,-63.0000,-102.9667, 5038,    702.7,   2.3350,  34.5443,2,  34.5442,2,    177.3,2,    173.7,2,    73.85,2,    32.97,2,     0.00,2,     2.39,2,    0.416,2,    0.197,2, -999.000,9, -999.000,9, -999.000,9,-999.0000,9,  -999.00,9,   -999.0,9,   -999.0,9,   2250.5,2,   1198.1,2,   2331.0,2,  -999.00,9,   20.00,  -999.0,-999.0000,-999.000, -999.00,  -999.0,  2.2926,-999.000
    31DSCG94_2,  P18S,    18,  1,    113,    419,2,19940302,0840,-63.0000,-102.9667, 5038,    800.5,   2.2791,  34.5878,2,-999.0000,9,    175.7,2,    172.3,2,  -999.00,9,  -999.00,9,  -999.00,9,  -999.00,9,    0.299,2,    3.354,4, -999.000,9, -999.000,9, -999.000,9,-999.0000,9,  -999.00,9,   -999.0,9,   -999.0,9,   2252.4,2,   1189.7,2,   2338.0,2,  -999.00,9,   20.00,  -999.0,-999.0000,-999.000, -999.00,  -999.0,  2.2304,-999.000
    31DSCG94_2,  P18S,    18,  1,    112,    426,2,19940302,0840,-63.0000,-102.9667, 5038,   1010.4,   2.1760,  34.6501,2,-999.0000,9,    177.1,2,    174.3,2,    83.14,2,    32.80,2,     0.00,2,     2.38,2,    0.189,2,    0.081,2, -999.000,9, -999.000,9, -999.000,9,-999.0000,9,  -999.00,9,   -999.0,9,   -999.0,9,   2253.4,2,   1159.4,2,   2349.0,2,  -999.00,9,   20.00,  -999.0,-999.0000,-999.000, -999.00,  -999.0,  2.1136,-999.000
    31DSCG94_2,  P18S,    18,  1,    111,    424,2,19940302,0840,-63.0000,-102.9667, 5038,   1196.1,   2.0714,  34.6884,2,  34.6873,2,    180.7,2,    178.8,2,    82.78,2,    31.14,2,     0.00,2,     2.29,2,    0.155,3,    0.059,2, -999.000,9, -999.000,9, -999.000,9,-999.0000,9,  -999.00,9,   -999.0,9,   -999.0,9,   2254.1,2,   1134.3,2,   2343.0,2,  -999.00,9,   20.00,  -999.0,-999.0000,-999.000, -999.00,  -999.0,  1.9966,-999.000
    31DSCG94_2,  P18S,    18,  1,    110,    409,2,19940302,0840,-63.0000,-102.9667, 5038,   1395.4,   1.9430,  34.7146,2,  34.7134,2,    185.3,2,    183.6,2,    85.94,2,    30.40,2,     0.00,2,     2.22,2,    0.093,2,    0.039,2, -999.000,9, -999.000,9, -999.000,9,-999.0000,9,  -999.00,9,   -999.0,9,   -999.0,9,   2252.0,2,   1101.5,2,   2348.0,2,  -999.00,9,   20.00,  -999.0,-999.0000,-999.000, -999.00,  -999.0,  1.8549,-999.000
    31DSCG94_2,  P18S,    18,  1,    109,    423,3,19940302,0840,-63.0000,-102.9667, 5038,   1790.8,   1.6217,  34.7299,2,  34.7281,2,    192.6,2,   -999.0,9,    97.49,2,    30.16,2,     0.00,2,     2.20,2, -999.000,5, -999.000,5, -999.000,9, -999.000,9, -999.000,9,-999.0000,9,  -999.00,9,   -999.0,9,   -999.0,9,   -999.0,9,   -999.0,9,   -999.0,9,  -999.00,9, -999.00,  -999.0,-999.0000,-999.000, -999.00,  -999.0,  1.5074,-999.000
    31DSCG94_2,  P18S,    18,  1,    108,    414,2,19940302,0840,-63.0000,-102.9667, 5038,   2197.3,   1.3232,  34.7263,2,-999.0000,9,    196.3,2,    196.2,2,  -999.00,9,  -999.00,9,  -999.00,9,  -999.00,9,    0.058,2,    0.015,2, -999.000,9, -999.000,9, -999.000,9,-999.0000,9,  -999.00,9,   -999.0,9,   -999.0,9,   2257.6,2,   1073.0,2,   2355.0,2,  -999.00,9,   20.00,  -999.0,-999.0000,-999.000, -999.00,  -999.0,  1.1808,-999.000
    31DSCG94_2,  P18S,    18,  1,    107,    437,2,19940302,0840,-63.0000,-102.9667, 5038,   2595.9,   1.1065,  34.7198,2,-999.0000,9,    199.6,2,    200.3,2,   115.60,2,    31.57,2,     0.00,2,     2.31,2,    0.038,2,    0.014,2, -999.000,9, -999.000,9, -999.000,9,-999.0000,9,  -999.00,9,   -999.0,9,   -999.0,9,   2258.1,2,   1069.9,2,   2358.0,2,  -999.00,9,   20.00,  -999.0,-999.0000,-999.000, -999.00,  -999.0,  0.9344,-999.000
    31DSCG94_2,  P18S,    18,  1,    106,    416,2,19940302,0840,-63.0000,-102.9667, 5038,   2987.0,   0.8982,  34.7121,2,  34.7108,2,    201.9,2,    203.9,2,   120.33,2,    30.87,2,     0.00,2,     2.21,2,    0.053,2,    0.025,2, -999.000,9, -999.000,9, -999.000,9,-999.0000,9,  -999.00,9,   -999.0,9,   -999.0,9,   2256.7,2,   1079.9,2,   2358.0,2,  -999.00,9,   20.00,  -999.0,-999.0000,-999.000, -999.00,  -999.0,  0.6957,-999.000
    31DSCG94_2,  P18S,    18,  1,    105,    420,2,19940302,0840,-63.0000,-102.9667, 5038,   3405.1,   0.7317,  34.7063,2,  34.7055,2,    205.9,2,    207.3,2,   126.99,2,    31.31,2,     0.00,2,     2.27,2,    0.052,2,    0.020,2, -999.000,9, -999.000,9, -999.000,9,-999.0000,9,  -999.00,9,   -999.0,9,   -999.0,9,   2260.9,2,   1078.0,2,   2361.0,2,  -999.00,9,   20.00,  -999.0,-999.0000,-999.000, -999.00,  -999.0,  0.4940,-999.000
    31DSCG94_2,  P18S,    18,  1,    104,    436,2,19940302,0840,-63.0000,-102.9667, 5038,   3800.1,   0.5443,  34.7043,2,-999.0000,9,    209.9,2,    211.4,2,   131.75,2,    31.89,2,     0.00,2,     2.35,2,    0.068,2,    0.035,2, -999.000,9, -999.000,9, -999.000,9,-999.0000,9,  -999.00,9,   -999.0,9,   -999.0,9,   2261.1,2,   1085.9,2,   2361.0,2,  -999.00,9,   20.00,  -999.0,-999.0000,-999.000, -999.00,  -999.0,  0.2727,-999.000
    31DSCG94_2,  P18S,    18,  1,    103,    425,2,19940302,0840,-63.0000,-102.9667, 5038,   4202.6,   0.4284,  34.7034,2,  34.7025,2,    213.9,2,    212.9,2,   129.00,3,    31.11,2,     0.00,2,     2.31,2,   13.242,4,    0.035,2, -999.000,9, -999.000,9, -999.000,9,-999.0000,9,  -999.00,9,   -999.0,9,   -999.0,9,   2260.7,2,   1083.7,2,   2359.0,2,  -999.00,9,   20.00,  -999.0,-999.0000,-999.000, -999.00,  -999.0,  0.1187,-999.000
    31DSCG94_2,  P18S,    18,  1,    102,    433,2,19940302,0840,-63.0000,-102.9667, 5038,   4601.0,   0.3791,  34.7029,2,-999.0000,9,    216.0,2,    217.1,2,   138.46,2,    32.10,2,     0.00,2,     2.41,3,    0.093,2,    0.047,2, -999.000,9, -999.000,9, -999.000,9,-999.0000,9,  -999.00,9,   -999.0,9,   -999.0,9,   2260.5,2,   1079.8,2,   2366.0,2,  -999.00,9,   20.00,  -999.0,-999.0000,-999.000, -999.00,  -999.0,  0.0280,-999.000
    31DSCG94_2,  P18S,    18,  1,    101,    403,2,19940302,0840,-63.0000,-102.9667, 5038,   4910.3,   0.3773,  34.7023,2,  34.7016,2,    218.2,2,   -999.0,9,   138.13,2,    31.61,2,     0.00,2,     2.27,2,    0.106,2,    0.055,2, -999.000,9, -999.000,9, -999.000,9,-999.0000,9,  -999.00,9,   -999.0,9,   -999.0,9,   2261.1,2,   1076.5,2,   2363.0,2,  -999.00,9,   20.00,  -999.0,-999.0000,-999.000, -999.00,  -999.0, -0.0085,-999.000