BOTTLE,20220630CCHSIOAMB
EXPOCODE,SECT_ID,STNNBR,CASTNO,SAMPNO,BTLNBR,BTLNBR_FLAG_W,DATE,TIME,LATITUDE,LONGITUDE,DEPTH,CTDPRS,CTDTMP,CTDSAL,CTDSAL_FLAG_W,SALNTY,SALNTY_FLAG_W,CTDOXY,CTDOXY_FLAG_W,OXYGEN,OXYGEN_FLAG_W,SILCAT,SILCAT_FLAG_W,NITRAT,NITRAT_FLAG_W,NITRIT,NITRIT_FLAG_W,PHSPHT,PHSPHT_FLAG_W,CFC-11,CFC-11_FLAG_W,CFC-12,CFC-12_FLAG_W,CFC113,CFC113_FLAG_W,CCL4,CCL4_FLAG_W,TRITUM,TRITUM_FLAG_W,HELIUM,HELIUM_FLAG_W,DELHE3,DELHE3_FLAG_W,DELC14,DELC14_FLAG_W,DELC13,DELC13_FLAG_W,TCARBN,TCARBN_FLAG_W,PCO2,PCO2_FLAG_W,ALKALI,ALKALI_FLAG_W,PH,PH_FLAG_W,PCO2TMP,C14ERR,HELIER,DELHER,PH_TMP,C13ERR,THETA,TRITER
,,,,,,,,,,,,DBAR,ITS-90,PSS-78,,PSS-78,,UMOL/KG,,UMOL/KG,,UMOL/KG,,UMOL/KG,,UMOL/KG,,UMOL/KG,,PMOL/KG,,PMOL/KG,,PMOL/KG,,PMOL/KG,,TU,,NMOL/KG,,PERCNT,,/MILLE,,/MILLE,,UMOL/KG,,UATM,,UMOL/KG,,,,DEG C,/MILLE,NMOL/KG,PERCNT,DEG C,/MILLE,DEG C,TU
    31DSCG94_2,  P18S,    45,  1,    136,   1025,2,19940312,0137,-46.9983,-102.9983, 4062,     10.7,  10.8110,  34.1454,2,  34.1462,2,    275.4,2,    274.4,2,     0.00,2,    13.20,2,     0.20,2,     1.13,2, -999.000,9, -999.000,9, -999.000,9, -999.000,9, -999.000,9,-999.0000,9,  -999.00,9,   -999.0,9,      1.9,2,   2068.4,2,    520.1,2,   -999.0,5,     7.87,2,   20.00,  -999.0,-999.0000,-999.000,   25.00,  -999.0, 10.8097,-999.000
    31DSCG94_2,  P18S,    45,  1,    135,   1247,2,19940312,0137,-46.9983,-102.9983, 4062,     25.1,  10.5801,  34.1443,2,  34.1443,2,    275.6,2,    274.1,2,     0.00,2,    13.30,2,     0.16,2,     1.09,2, -999.000,9, -999.000,9, -999.000,9, -999.000,9, -999.000,9,-999.0000,9,  -999.00,9,   -999.0,9,   -999.0,9,   2069.5,2,    522.9,2,   2265.0,2,     7.87,2,   20.00,  -999.0,-999.0000,-999.000,   25.00,  -999.0, 10.5771,-999.000
    31DSCG94_2,  P18S,    45,  1,    134,   1108,2,19940312,0137,-46.9983,-102.9983, 4062,     48.4,  10.5524,  34.1446,2,  34.1445,2,    274.8,2,    273.6,2,     0.00,2,    13.29,2,     0.17,2,     1.14,2, -999.000,9, -999.000,9, -999.000,9, -999.000,9, -999.000,9,-999.0000,9,  -999.00,9,   -999.0,9,   -999.0,9,   2068.3,2,    520.1,2,   2264.0,2,     7.87,2,   20.00,  -999.0,-999.0000,-999.000,   25.00,  -999.0, 10.5467,-999.000
    31DSCG94_2,  P18S,    45,  1,    133,   1244,2,19940312,0137,-46.9983,-102.9983, 4062,     74.6,  10.4884,  34.1423,2,  34.1496,2,    278.2,2,    274.4,2,     0.00,2,    13.91,2,     0.17,2,     1.17,2, -999.000,9, -999.000,9, -999.000,9, -999.000,9, -999.000,9,-999.0000,9,  -999.00,9,   -999.0,9,   -999.0,9,   2071.9,2,   -999.0,9,   2264.0,2,     7.86,2, -999.00,  -999.0,-999.0000,-999.000,   25.00,  -999.0, 10.4796,-999.000
    31DSCG94_2,  P18S,    45,  1,    132,   1003,2,19940312,0137,-46.9983,-102.9983, 4062,     98.2,   8.1252,  34.1922,2,  34.1988,2,    281.1,2,    284.8,2,     0.77,2,    14.56,2,     0.21,2,     1.28,2, -999.000,9, -999.000,9, -999.000,9, -999.000,9, -999.000,9,-999.0000,9,  -999.00,9,   -999.0,9,   -999.0,9,   2090.3,2,    584.6,2,   2273.0,2,     7.83,2,   20.00,  -999.0,-999.0000,-999.000,   25.00,  -999.0,  8.1154,-999.000
    31DSCG94_2,  P18S,    45,  1,    131,   1211,2,19940312,0137,-46.9983,-102.9983, 4062,    123.4,   7.4202,  34.2271,2,  34.2274,2,    278.3,2,    278.8,2,     1.75,2,    16.12,2,     0.25,2,     1.32,2, -999.000,9, -999.000,9, -999.000,9, -999.000,9, -999.000,9,-999.0000,9,  -999.00,9,   -999.0,9,   -999.0,9,   2098.4,2,   -999.0,9,   2272.0,2,     7.81,2, -999.00,  -999.0,-999.0000,-999.000,   25.00,  -999.0,  7.4085,-999.000
    31DSCG94_2,  P18S,    45,  1,    130,   1241,2,19940312,0137,-46.9983,-102.9983, 4062,    148.8,   7.0317,  34.2536,2,  34.2549,2,    274.5,2,    273.8,2,     2.55,2,    17.69,2,     0.11,2,     1.42,2, -999.000,9, -999.000,9, -999.000,9, -999.000,9, -999.000,9,-999.0000,9,  -999.00,9,   -999.0,9,   -999.0,9,   2106.9,2,    644.5,2,   2269.0,2,     7.79,2,   20.00,  -999.0,-999.0000,-999.000,   25.00,  -999.0,  7.0180,-999.000
    31DSCG94_2,  P18S,    45,  1,    129,   1031,2,19940312,0137,-46.9983,-102.9983, 4062,    199.1,   6.7122,  34.2912,2,  34.2904,2,    273.6,2,    276.4,2,     3.44,2,    18.53,2,     0.00,2,     1.47,2, -999.000,9, -999.000,9, -999.000,9, -999.000,9, -999.000,9,-999.0000,9,  -999.00,9,   -999.0,9,   -999.0,9,   2113.0,2,    657.7,2,   2275.0,2,     7.78,2,   20.00,  -999.0,-999.0000,-999.000,   25.00,  -999.0,  6.6942,-999.000
    31DSCG94_2,  P18S,    45,  1,    128,   1210,2,19940312,0137,-46.9983,-102.9983, 4062,    251.6,   6.6556,  34.3187,2,  34.3182,2,    266.7,2,    264.2,2,     4.78,2,    20.14,2,     0.00,2,     1.58,2, -999.000,9, -999.000,9, -999.000,9, -999.000,9, -999.000,9,-999.0000,9,  -999.00,9,   -999.0,9,   -999.0,9,   2118.8,2,    695.0,2,   2271.0,2,     7.77,2,   20.00,  -999.0,-999.0000,-999.000,   25.00,  -999.0,  6.6329,-999.000
    31DSCG94_2,  P18S,    45,  1,    127,   1008,2,19940312,0137,-46.9983,-102.9983, 4062,    294.9,   6.5388,  34.3216,2,  34.3221,2,    262.1,2,    262.4,2,     5.53,2,    20.77,2,     0.00,2,     1.56,2, -999.000,9, -999.000,9, -999.000,9, -999.000,9, -999.000,9,-999.0000,9,  -999.00,9,   -999.0,9,   -999.0,9,   2126.4,2,    701.1,6,   -999.0,5,     7.76,2,   20.00,  -999.0,-999.0000,-999.000,   25.00,  -999.0,  6.5124,-999.000
    31DSCG94_2,  P18S,    45,  1,    126,   1007,2,19940312,0137,-46.9983,-102.9983, 4062,    296.9,   6.5263,  34.3208,2,  34.3210,2,    262.1,2,    263.0,2,     5.73,2,    20.83,2,     0.00,2,     1.61,2, -999.000,9, -999.000,9, -999.000,9, -999.000,9, -999.000,9,-999.0000,9,  -999.00,9,   -999.0,9,   -999.0,9,   2125.9,2,   -999.0,9,   2273.0,2,     7.76,2, -999.00,  -999.0,-999.0000,-999.000,   25.00,  -999.0,  6.4997,-999.000
    31DSCG94_2,  P18S,    45,  1,    125,   1203,2,19940312,0137,-46.9983,-102.9983, 4062,    399.4,   6.2369,  34.3097,2,  34.3099,2,    261.6,2,    264.5,2,     6.77,2,    21.64,2,     0.00,2,     1.66,2, -999.000,9, -999.000,9, -999.000,9, -999.000,9, -999.000,9,-999.0000,9,  -999.00,9,   -999.0,9,   -999.0,9,   2127.7,2,    706.5,2,   2276.0,2,     7.75,2,   20.00,  -999.0,-999.0000,-999.000,   25.00,  -999.0,  6.2017,-999.000
    31DSCG94_2,  P18S,    45,  1,    123,   1101,2,19940312,0137,-46.9983,-102.9983, 4062,    502.6,   5.9996,  34.2998,2,  34.3004,2,    258.9,2,    264.1,2,     7.30,2,    22.66,2,     0.01,2,     1.71,2, -999.000,9, -999.000,9, -999.000,9, -999.000,9, -999.000,9,-999.0000,9,  -999.00,9,   -999.0,9,   -999.0,9,   2131.5,2,    715.6,2,   2275.0,2,     7.75,2,   20.00,  -999.0,-999.0000,-999.000,   25.00,  -999.0,  5.9558,-999.000
    31DSCG94_2,  P18S,    45,  1,    121,   1206,2,19940312,0137,-46.9983,-102.9983, 4062,    600.2,   5.6709,  34.2793,2,  34.2799,2,    254.9,2,    258.8,2,     9.05,2,    24.01,2,     0.00,2,     1.75,2, -999.000,9, -999.000,9, -999.000,9, -999.000,9, -999.000,9,-999.0000,9,  -999.00,9,   -999.0,9,   -999.0,9,   2135.7,2,    743.4,2,   -999.0,5,     7.74,2,   20.00,  -999.0,-999.0000,-999.000,   25.00,  -999.0,  5.6198,-999.000
    31DSCG94_2,  P18S,    45,  1,    119,   1248,2,19940312,0137,-46.9983,-102.9983, 4062,    701.7,   5.3492,  34.2684,2,  34.2685,2,    246.9,2,    249.6,2,    12.06,2,    25.06,2,     0.00,2,     1.87,2, -999.000,9, -999.000,9, -999.000,9, -999.000,9, -999.000,9,-999.0000,9,  -999.00,9,   -999.0,9,   -999.0,9,   2145.4,2,    781.2,2,   2284.0,2,     7.72,2,   20.00,  -999.0,-999.0000,-999.000,   25.00,  -999.0,  5.2907,-999.000
    31DSCG94_2,  P18S,    45,  1,    118,   1207,2,19940312,0137,-46.9983,-102.9983, 4062,    799.4,   4.9288,  34.2683,2,  34.2689,2,    233.1,2,    234.7,2,    17.03,2,    27.29,2,     0.00,2,     2.06,2, -999.000,9, -999.000,9, -999.000,9, -999.000,9, -999.000,9,-999.0000,9,  -999.00,9,   -999.0,9,   -999.0,9,   2159.8,2,    845.3,2,   2285.0,2,     7.69,2,   20.00,  -999.0,-999.0000,-999.000,   25.00,  -999.0,  4.8641,-999.000
    31DSCG94_2,  P18S,    45,  1,    117,   1119,2,19940312,0137,-46.9983,-102.9983, 4062,    900.2,   4.4679,  34.2831,2,  34.2835,2,    217.4,2,    219.3,2,    23.71,2,    29.38,2,     0.00,2,     2.24,2, -999.000,9, -999.000,9, -999.000,9, -999.000,9, -999.000,9,-999.0000,9,  -999.00,9,   -999.0,9,   -999.0,9,   2177.6,2,    922.5,2,   -999.0,5,     7.66,2,   20.00,  -999.0,-999.0000,-999.000,   25.00,  -999.0,  4.3976,-999.000
    31DSCG94_2,  P18S,    45,  1,    116,   1036,2,19940312,0137,-46.9983,-102.9983, 4062,    999.1,   3.9912,  34.3055,2,  34.3067,2,    207.7,2,    208.1,2,    32.08,2,    30.69,2,     0.00,2,     2.21,2, -999.000,9, -999.000,9, -999.000,9, -999.000,9, -999.000,9,-999.0000,9,  -999.00,9,   -999.0,9,   -999.0,9,   2192.5,2,    991.9,2,   2297.0,2,     7.63,2,   20.00,  -999.0,-999.0000,-999.000,   25.00,  -999.0,  3.9160,-999.000
    31DSCG94_2,  P18S,    45,  1,    115,   1017,2,19940312,0137,-46.9983,-102.9983, 4062,   1202.8,   3.3356,  34.3701,2,  34.3689,2,    187.2,2,    188.9,2,    46.47,2,    33.08,2,     0.00,2,     2.40,2, -999.000,9, -999.000,9, -999.000,9, -999.000,9, -999.000,9,-999.0000,9,  -999.00,9,   -999.0,9,   -999.0,9,   2218.4,2,   1094.8,2,   2313.0,2,     7.59,2,   20.00,  -999.0,-999.0000,-999.000,   25.00,  -999.0,  3.2492,-999.000
    31DSCG94_2,  P18S,    45,  1,    114,   1016,2,19940312,0137,-46.9983,-102.9983, 4062,   1399.5,   2.8889,  34.4570,2,  34.4580,2,    172.9,2,    173.3,2,    62.04,2,    34.03,2,     0.00,2,     2.47,2, -999.000,9, -999.000,9, -999.000,9, -999.000,9, -999.000,9,-999.0000,9,  -999.00,9,   -999.0,9,   -999.0,9,   2242.6,2,   1173.5,2,   2330.0,2,     7.57,2,   20.00,  -999.0,-999.0000,-999.000,   25.00,  -999.0,  2.7908,-999.000
    31DSCG94_2,  P18S,    45,  1,    113,   1118,2,19940312,0137,-46.9983,-102.9983, 4062,   1599.4,   2.6276,  34.5333,2,  34.5329,2,    165.0,2,    166.2,2,    73.63,2,    34.25,2,     0.00,2,     2.44,2, -999.000,9, -999.000,9, -999.000,9, -999.000,9, -999.000,9,-999.0000,9,  -999.00,9,   -999.0,9,   -999.0,9,   2252.4,2,   1194.4,2,   2338.0,2,     7.56,2,   20.00,  -999.0,-999.0000,-999.000,   25.00,  -999.0,  2.5160,-999.000
    31DSCG94_2,  P18S,    45,  1,    112,   1033,2,19940312,0137,-46.9983,-102.9983, 4062,   1797.6,   2.4214,  34.6029,2,  34.6025,2,    162.1,2,    162.9,2,    83.22,2,    33.95,2,     0.00,2,     2.44,2, -999.000,9, -999.000,9, -999.000,9, -999.000,9, -999.000,9,-999.0000,9,  -999.00,9,   -999.0,9,   -999.0,9,   2265.4,2,   1192.8,2,   2352.0,2,     7.57,2,   20.00,  -999.0,-999.0000,-999.000,   25.00,  -999.0,  2.2959,-999.000
    31DSCG94_2,  P18S,    45,  1,    111,   1263,2,19940312,0137,-46.9983,-102.9983, 4062,   1999.0,   2.2775,  34.6477,2,  34.6466,2,    165.4,2,    167.9,2,    85.80,2,    33.50,2,     0.00,2,     2.41,2, -999.000,9, -999.000,9, -999.000,9, -999.000,9, -999.000,9,-999.0000,9,  -999.00,9,   -999.0,9,   -999.0,9,   2264.2,2,   1159.9,2,   2355.0,2,     7.58,2,   20.00,  -999.0,-999.0000,-999.000,   25.00,  -999.0,  2.1368,-999.000
    31DSCG94_2,  P18S,    45,  1,    110,   1005,2,19940312,0137,-46.9983,-102.9983, 4062,   2251.4,   2.1064,  34.6827,2,  34.6822,2,    168.6,2,    170.5,6,    92.84,2,    32.85,2,     0.00,2,     2.38,2, -999.000,9, -999.000,9, -999.000,9, -999.000,9, -999.000,9,-999.0000,9,  -999.00,9,   -999.0,9,   -999.0,9,   2268.4,2,   -999.0,9,   2361.0,2,     7.59,2, -999.00,  -999.0,-999.0000,-999.000,   25.00,  -999.0,  1.9464,-999.000
    31DSCG94_2,  P18S,    45,  1,    109,   1611,2,19940312,0137,-46.9983,-102.9983, 4062,   2499.7,   1.8995,  34.6957,2,  34.6962,2,    169.6,2,    171.0,2,   103.02,2,    32.90,2,     0.00,2,     2.32,2, -999.000,9, -999.000,9, -999.000,9, -999.000,9, -999.000,9,-999.0000,9,  -999.00,9,   -999.0,9,   -999.0,9,   2275.3,2,   1123.3,2,   2369.0,2,     7.59,2,   20.00,  -999.0,-999.0000,-999.000,   25.00,  -999.0,  1.7209,-999.000
    31DSCG94_2,  P18S,    45,  1,    108,   1218,2,19940312,0137,-46.9983,-102.9983, 4062,   2748.1,   1.7489,  34.7019,2,  34.7006,2,    172.5,2,    173.8,6,   107.78,2,    32.83,2,     0.00,2,     2.37,2, -999.000,9, -999.000,9, -999.000,9, -999.000,9, -999.000,9,-999.0000,9,  -999.00,9,   -999.0,9,   -999.0,9,   2277.8,2,   -999.0,9,   2374.0,2,     7.60,2, -999.00,  -999.0,-999.0000,-999.000,   25.00,  -999.0,  1.5504,-999.000
    31DSCG94_2,  P18S,    45,  1,    107,   1257,2,19940312,0137,-46.9983,-102.9983, 4062,   3001.1,   1.6457,  34.7065,2,  34.7059,2,    176.5,2,    178.2,2,   108.56,2,    32.73,2,     0.00,2,     2.38,2, -999.000,9, -999.000,9, -999.000,9, -999.000,9, -999.000,9,-999.0000,9,  -999.00,9,   -999.0,9,   -999.0,9,   2277.1,2,   1102.0,2,   2373.0,2,     7.60,2,   20.00,  -999.0,-999.0000,-999.000,   25.00,  -999.0,  1.4254,-999.000
    31DSCG94_2,  P18S,    45,  1,    106,   1224,2,19940312,0137,-46.9983,-102.9983, 4062,   3248.2,   1.5403,  34.7110,2,  34.7099,2,    181.8,2,    183.0,6,   109.37,2,    32.44,2,     0.00,2,     2.36,2, -999.000,9, -999.000,9, -999.000,9, -999.000,9, -999.000,9,-999.0000,9,  -999.00,9,   -999.0,9,   -999.0,9,   2274.3,2,   -999.0,9,   2372.0,3,     7.60,2, -999.00,  -999.0,-999.0000,-999.000,   25.00,  -999.0,  1.2983,-999.000
    31DSCG94_2,  P18S,    45,  1,    105,   1246,2,19940312,0137,-46.9983,-102.9983, 4062,   3500.0,   1.3200,  34.7106,2,  34.7094,2,    187.5,2,    189.0,2,   118.20,2,    32.55,2,     0.00,2,     2.31,2, -999.000,9, -999.000,9, -999.000,9, -999.000,9, -999.000,9,-999.0000,9,  -999.00,9,   -999.0,9,   -999.0,9,   2275.6,2,   1071.1,2,   -999.0,5,     7.61,2,   20.00,  -999.0,-999.0000,-999.000,   25.00,  -999.0,  1.0582,-999.000
    31DSCG94_2,  P18S,    45,  1,    104,   1028,2,19940312,0137,-46.9983,-102.9983, 4062,   3749.6,   1.0719,  34.7091,2,  34.7089,2,    193.5,2,    195.5,2,   124.33,2,    32.55,2,     0.00,2,     2.32,2, -999.000,9, -999.000,9, -999.000,9, -999.000,9, -999.000,9,-999.0000,9,  -999.00,9,   -999.0,9,   -999.0,9,   2274.8,2,   -999.0,9,   2378.0,2,     7.62,2, -999.00,  -999.0,-999.0000,-999.000,   25.00,  -999.0,  0.7911,-999.000
    31DSCG94_2,  P18S,    45,  1,    102,   1223,2,19940312,0137,-46.9983,-102.9983, 4062,   3998.6,   0.9072,  34.7091,2,  34.7080,2,    199.2,2,    200.4,2,   125.92,2,    32.43,2,     0.00,2,     2.34,2, -999.000,9, -999.000,9, -999.000,9, -999.000,9, -999.000,9,-999.0000,9,  -999.00,9,   -999.0,9,   -999.0,9,   2273.8,2,   1051.6,2,   2379.0,2,     7.62,2,   20.00,  -999.0,-999.0000,-999.000,   25.00,  -999.0,  0.6050,-999.000
    31DSCG94_2,  P18S,    45,  1,    103,   9999,2,19940312,0137,-46.9983,-102.9983, 4062,   3999.6,   0.9082,  34.7089,2,  34.7077,2,    199.3,2,    200.1,2,   126.14,2,    32.37,2,     0.00,2,     2.34,2, -999.000,9, -999.000,9, -999.000,9, -999.000,9, -999.000,9,-999.0000,9,  -999.00,9,   -999.0,9,   -999.0,9,   2274.5,2,   -999.0,9,   2378.0,2,     7.62,2, -999.00,  -999.0,-999.0000,-999.000,   25.00,  -999.0,  0.6059,-999.000
    31DSCG94_2,  P18S,    45,  1,    101,   1041,2,19940312,0137,-46.9983,-102.9983, 4062,   4095.2,   0.8785,  34.7089,2,  34.7078,2,    200.6,2,    201.3,2,   128.20,2,    32.48,2,     0.00,2,     2.33,2, -999.000,9, -999.000,9, -999.000,9, -999.000,9, -999.000,9,-999.0000,9,  -999.00,9,   -999.0,9,   -999.0,9,   2273.3,2,   1053.3,2,   2380.0,2,     7.62,2,   20.00,  -999.0,-999.0000,-999.000,   25.00,  -999.0,  0.5669,-999.000