BOTTLE,20220630CCHSIOAMB
EXPOCODE,SECT_ID,STNNBR,CASTNO,SAMPNO,BTLNBR,BTLNBR_FLAG_W,DATE,TIME,LATITUDE,LONGITUDE,DEPTH,CTDPRS,CTDTMP,CTDSAL,CTDSAL_FLAG_W,SALNTY,SALNTY_FLAG_W,CTDOXY,CTDOXY_FLAG_W,OXYGEN,OXYGEN_FLAG_W,SILCAT,SILCAT_FLAG_W,NITRAT,NITRAT_FLAG_W,NITRIT,NITRIT_FLAG_W,PHSPHT,PHSPHT_FLAG_W,CFC-11,CFC-11_FLAG_W,CFC-12,CFC-12_FLAG_W,CFC113,CFC113_FLAG_W,CCL4,CCL4_FLAG_W,TRITUM,TRITUM_FLAG_W,HELIUM,HELIUM_FLAG_W,DELHE3,DELHE3_FLAG_W,DELC14,DELC14_FLAG_W,DELC13,DELC13_FLAG_W,TCARBN,TCARBN_FLAG_W,PCO2,PCO2_FLAG_W,ALKALI,ALKALI_FLAG_W,PH,PH_FLAG_W,PCO2TMP,C14ERR,HELIER,DELHER,PH_TMP,C13ERR,THETA,TRITER
,,,,,,,,,,,,DBAR,ITS-90,PSS-78,,PSS-78,,UMOL/KG,,UMOL/KG,,UMOL/KG,,UMOL/KG,,UMOL/KG,,UMOL/KG,,PMOL/KG,,PMOL/KG,,PMOL/KG,,PMOL/KG,,TU,,NMOL/KG,,PERCNT,,/MILLE,,/MILLE,,UMOL/KG,,UATM,,UMOL/KG,,,,DEG C,/MILLE,NMOL/KG,PERCNT,DEG C,/MILLE,DEG C,TU
    31DSCG94_2,  P18S,    62,  3,    336,   1025,2,19940316,1715,-38.5050,-102.9963, 3990,     11.0,  18.8278,  33.9601,2,  33.9606,2,    233.9,2,    234.0,2,     0.00,2,     2.68,2,     0.05,2,     0.40,2, -999.000,9, -999.000,9, -999.000,9, -999.000,9, -999.000,9,-999.0000,9,  -999.00,9,   -999.0,9,      2.0,2,   2001.0,2,    386.6,2,   -999.0,5,  -999.00,9,   20.00,  -999.0,-999.0000,-999.000, -999.00,  -999.0, 18.8258,-999.000
    31DSCG94_2,  P18S,    62,  3,    335,   1247,2,19940316,1715,-38.5050,-102.9963, 3990,     25.5,  18.6847,  33.9619,2,  33.9619,2,    234.4,2,    236.0,2,     0.10,2,     2.60,2,     0.05,2,     0.42,2, -999.000,9, -999.000,9, -999.000,9, -999.000,9, -999.000,9,-999.0000,9,  -999.00,9,   -999.0,9,   -999.0,9,   2001.2,2,    387.0,2,   2253.0,2,  -999.00,9,   20.00,  -999.0,-999.0000,-999.000, -999.00,  -999.0, 18.6803,-999.000
    31DSCG94_2,  P18S,    62,  3,    334,   1108,2,19940316,1715,-38.5050,-102.9963, 3990,     47.6,  18.6378,  33.9590,2,  33.9598,2,    235.0,2,    235.3,2,     0.06,2,     2.57,2,     0.04,2,     0.37,2, -999.000,9, -999.000,9, -999.000,9, -999.000,9, -999.000,9,-999.0000,9,  -999.00,9,   -999.0,9,   -999.0,9,   2001.7,2,    387.1,2,   -999.0,5,  -999.00,9,   20.00,  -999.0,-999.0000,-999.000, -999.00,  -999.0, 18.6295,-999.000
    31DSCG94_2,  P18S,    62,  3,    333,   1244,2,19940316,1715,-38.5050,-102.9963, 3990,     74.5,  14.6388,  33.9388,2,  33.9391,2,    265.7,2,    271.3,2,     0.08,2,     5.80,2,     0.07,2,     0.61,2, -999.000,9, -999.000,9, -999.000,9, -999.000,9, -999.000,9,-999.0000,9,  -999.00,9,   -999.0,9,   -999.0,9,   2024.8,2,    434.9,2,   2256.0,2,  -999.00,9,   20.00,  -999.0,-999.0000,-999.000, -999.00,  -999.0, 14.6278,-999.000
    31DSCG94_2,  P18S,    62,  3,    332,   1003,2,19940316,1715,-38.5050,-102.9963, 3990,     99.7,  12.9052,  33.9689,2,  33.9700,2,    263.6,2,    268.9,2,     0.15,2,     5.26,2,     0.12,2,     0.60,2, -999.000,9, -999.000,9, -999.000,9, -999.000,9, -999.000,9,-999.0000,9,  -999.00,9,   -999.0,9,   -999.0,9,   2028.3,2,    442.4,2,   2252.0,2,  -999.00,9,   20.00,  -999.0,-999.0000,-999.000, -999.00,  -999.0, 12.8917,-999.000
    31DSCG94_2,  P18S,    62,  3,    331,   1211,2,19940316,1715,-38.5050,-102.9963, 3990,    125.2,  12.1489,  34.0737,2,  34.0737,2,    254.8,2,    254.7,2,     0.92,2,     6.59,2,     0.36,2,     0.72,2, -999.000,9, -999.000,9, -999.000,9, -999.000,9, -999.000,9,-999.0000,9,  -999.00,9,   -999.0,9,   -999.0,9,   2043.9,2,    479.6,2,   2253.0,2,  -999.00,9,   20.00,  -999.0,-999.0000,-999.000, -999.00,  -999.0, 12.1326,-999.000
    31DSCG94_2,  P18S,    62,  3,    330,   1241,2,19940316,1715,-38.5050,-102.9963, 3990,    151.0,  11.3309,  34.1902,2,  34.1846,2,    241.3,2,    241.8,2,     0.96,2,     9.65,2,     0.45,2,     0.84,2, -999.000,9, -999.000,9, -999.000,9, -999.000,9, -999.000,9,-999.0000,9,  -999.00,9,   -999.0,9,   -999.0,9,   2067.5,2,    531.4,2,   2267.0,2,  -999.00,9,   20.00,  -999.0,-999.0000,-999.000, -999.00,  -999.0, 11.3121,-999.000
    31DSCG94_2,  P18S,    62,  3,    329,   1031,2,19940316,1715,-38.5050,-102.9963, 3990,    204.3,   9.8389,  34.3185,2,  34.3149,2,    231.9,2,    229.7,2,     1.80,2,    14.64,2,     0.00,2,     1.09,2, -999.000,9, -999.000,9, -999.000,9, -999.000,9, -999.000,9,-999.0000,9,  -999.00,9,   -999.0,9,   -999.0,9,   2097.8,2,    618.0,2,   2264.0,2,  -999.00,9,   20.00,  -999.0,-999.0000,-999.000, -999.00,  -999.0,  9.8157,-999.000
    31DSCG94_2,  P18S,    62,  3,    328,   1210,2,19940316,1715,-38.5050,-102.9963, 3990,    249.1,   8.8997,  34.3588,2,  34.3588,2,    228.3,2,    227.7,2,     2.83,2,    17.17,2,     0.01,2,     1.26,2, -999.000,9, -999.000,9, -999.000,9, -999.000,9, -999.000,9,-999.0000,9,  -999.00,9,   -999.0,9,   -999.0,9,   2113.1,2,    666.4,2,   2277.0,2,  -999.00,9,   20.00,  -999.0,-999.0000,-999.000, -999.00,  -999.0,  8.8729,-999.000
    31DSCG94_2,  P18S,    62,  3,    327,   1008,2,19940316,1715,-38.5050,-102.9963, 3990,    301.5,   7.7544,  34.3103,2,  34.3096,2,    236.5,2,    236.3,2,     3.93,2,    19.66,2,     0.00,2,     1.40,2, -999.000,9, -999.000,9, -999.000,9, -999.000,9, -999.000,9,-999.0000,9,  -999.00,9,   -999.0,9,   -999.0,9,   2121.9,2,    706.9,2,   2290.0,2,  -999.00,9,   20.00,  -999.0,-999.0000,-999.000, -999.00,  -999.0,  7.7246,-999.000
    31DSCG94_2,  P18S,    62,  3,    326,   1007,2,19940316,1715,-38.5050,-102.9963, 3990,    348.4,   7.0600,  34.3150,2,  34.3147,2,    239.0,2,    236.6,2,     5.22,2,    21.71,2,     0.01,2,     1.46,2, -999.000,9, -999.000,9, -999.000,9, -999.000,9, -999.000,9,-999.0000,9,  -999.00,9,   -999.0,9,   -999.0,9,   2130.1,2,    735.3,2,   2277.0,2,  -999.00,9,   20.00,  -999.0,-999.0000,-999.000, -999.00,  -999.0,  7.0272,-999.000
    31DSCG94_2,  P18S,    62,  3,    325,   1203,2,19940316,1715,-38.5050,-102.9963, 3990,    402.8,   6.7011,  34.3336,2,  34.3341,2,    244.2,2,    242.2,2,     6.57,2,    21.94,2,     0.00,2,     1.47,2, -999.000,9, -999.000,9, -999.000,9, -999.000,9, -999.000,9,-999.0000,9,  -999.00,9,   -999.0,9,   -999.0,9,   2132.9,2,    737.1,2,   2277.0,2,  -999.00,9,   20.00,  -999.0,-999.0000,-999.000, -999.00,  -999.0,  6.6641,-999.000
    31DSCG94_2,  P18S,    62,  3,    323,   1101,3,19940316,1715,-38.5050,-102.9963, 3990,    499.2,   6.2369,  34.3186,2,  34.3178,2,    247.8,2,    245.7,2,     7.67,2,    22.81,2,     0.01,2,     1.55,2, -999.000,9, -999.000,9, -999.000,9, -999.000,9, -999.000,9,-999.0000,9,  -999.00,9,   -999.0,9,   -999.0,9,   2133.2,2,    741.7,2,   2280.0,2,  -999.00,9,   20.00,  -999.0,-999.0000,-999.000, -999.00,  -999.0,  6.1925,-999.000
    31DSCG94_2,  P18S,    62,  3,    321,   1206,2,19940316,1715,-38.5050,-102.9963, 3990,    600.5,   5.8792,  34.2950,2,  34.2950,2,    246.9,2,    254.3,2,     8.58,2,    23.27,2,     0.00,2,     1.58,2, -999.000,9, -999.000,9, -999.000,9, -999.000,9, -999.000,9,-999.0000,9,  -999.00,9,   -999.0,9,   -999.0,9,   2133.5,2,    738.7,2,   2282.0,2,  -999.00,9,   20.00,  -999.0,-999.0000,-999.000, -999.00,  -999.0,  5.8270,-999.000
    31DSCG94_2,  P18S,    62,  3,    319,   1248,2,19940316,1715,-38.5050,-102.9963, 3990,    702.4,   5.5321,  34.2765,2,  34.2763,2,    240.1,2,    248.8,2,    10.15,2,    24.56,2,     0.00,2,     1.61,2, -999.000,9, -999.000,9, -999.000,9, -999.000,9, -999.000,9,-999.0000,9,  -999.00,9,   -999.0,9,   -999.0,9,   2140.5,2,    767.2,2,   2280.0,2,  -999.00,9,   20.00,  -999.0,-999.0000,-999.000, -999.00,  -999.0,  5.4725,-999.000
    31DSCG94_2,  P18S,    62,  3,    318,   1207,2,19940316,1715,-38.5050,-102.9963, 3990,    799.7,   5.1105,  34.2659,2,  34.2653,2,    232.6,2,    233.1,2,    14.81,2,    26.71,2,     0.00,2,     1.78,2, -999.000,9, -999.000,9, -999.000,9, -999.000,9, -999.000,9,-999.0000,9,  -999.00,9,   -999.0,9,   -999.0,9,   2153.0,2,    824.1,2,   2283.0,2,  -999.00,9,   20.00,  -999.0,-999.0000,-999.000, -999.00,  -999.0,  5.0446,-999.000
    31DSCG94_2,  P18S,    62,  3,    317,   1119,2,19940316,1715,-38.5050,-102.9963, 3990,    900.8,   4.7032,  34.2765,2,  34.2761,2,    217.3,2,    214.4,2,    22.43,2,    29.18,2,     0.00,2,     2.00,2, -999.000,9, -999.000,9, -999.000,9, -999.000,9, -999.000,9,-999.0000,9,  -999.00,9,   -999.0,9,   -999.0,9,   2171.3,2,    915.8,2,   2279.0,2,  -999.00,9,   20.00,  -999.0,-999.0000,-999.000, -999.00,  -999.0,  4.6311,-999.000
    31DSCG94_2,  P18S,    62,  3,    316,   1036,2,19940316,1715,-38.5050,-102.9963, 3990,    995.0,   4.3233,  34.3017,2,  34.3012,2,    198.9,2,    196.4,2,    30.28,2,    31.12,2,     0.00,2,     2.14,2, -999.000,9, -999.000,9, -999.000,9, -999.000,9, -999.000,9,   1.7980,2,     2.61,2,   -999.0,9,   -999.0,9,   2189.5,2,    995.5,2,   2291.0,6,  -999.00,9,   20.00,  -999.0,-999.0000,-999.000, -999.00,  -999.0,  4.2459,-999.000
    31DSCG94_2,  P18S,    62,  3,    315,   1017,2,19940316,1715,-38.5050,-102.9963, 3990,   1100.8,   3.9095,  34.3401,2,  34.3390,2,    180.4,2,    180.0,2,    40.80,2,    33.28,2,     0.00,2,     2.31,2, -999.000,9, -999.000,9, -999.000,9, -999.000,9, -999.000,9,   1.8190,2,     4.05,2,   -999.0,9,   -999.0,9,   -999.0,9,   -999.0,9,   -999.0,9,  -999.00,9, -999.00,  -999.0,-999.0000,-999.000, -999.00,  -999.0,  3.8264,-999.000
    31DSCG94_2,  P18S,    62,  3,    314,   1016,2,19940316,1715,-38.5050,-102.9963, 3990,   1199.1,   3.5471,  34.3815,2,  34.3805,2,    166.2,2,    164.4,2,    51.49,2,    34.75,2,     0.00,2,     2.41,2, -999.000,9, -999.000,9, -999.000,9, -999.000,9, -999.000,9,   1.8240,2,     6.84,2,   -999.0,9,   -999.0,9,   -999.0,9,   -999.0,9,   -999.0,9,  -999.00,9, -999.00,  -999.0,-999.0000,-999.000, -999.00,  -999.0,  3.4590,-999.000
    31DSCG94_2,  P18S,    62,  3,    313,   1209,2,19940316,1715,-38.5050,-102.9963, 3990,   1402.6,   3.1635,  34.4880,2,  34.4888,2,    135.9,2,    134.6,2,    75.33,2,    36.67,2,     0.00,2,     2.57,2, -999.000,9, -999.000,9, -999.000,9, -999.000,9, -999.000,9,   1.8550,2,    13.72,2,   -999.0,9,   -999.0,9,   -999.0,9,   -999.0,9,   -999.0,9,  -999.00,9, -999.00,  -999.0,-999.0000,-999.000, -999.00,  -999.0,  3.0622,-999.000
    31DSCG94_2,  P18S,    62,  3,    312,   1033,2,19940316,1715,-38.5050,-102.9963, 3990,   1608.8,   2.8230,  34.5499,2,  34.5484,2,    132.0,2,    134.9,2,    87.90,2,    36.46,2,     0.00,2,     2.58,2, -999.000,9, -999.000,9, -999.000,9, -999.000,9, -999.000,9,   1.8680,2,    18.39,2,   -999.0,9,   -999.0,9,   -999.0,9,   -999.0,9,   -999.0,9,  -999.00,9, -999.00,  -999.0,-999.0000,-999.000, -999.00,  -999.0,  2.7083,-999.000
    31DSCG94_2,  P18S,    62,  3,    311,   1263,2,19940316,1715,-38.5050,-102.9963, 3990,   1804.8,   2.5141,  34.5885,2,  34.5873,2,    142.2,2,    144.7,2,    94.92,2,    35.57,2,     0.00,2,     2.52,2, -999.000,9, -999.000,9, -999.000,9, -999.000,9, -999.000,9,   1.8820,2,    19.53,2,   -999.0,9,   -999.0,9,   -999.0,9,   -999.0,9,   -999.0,9,  -999.00,9, -999.00,  -999.0,-999.0000,-999.000, -999.00,  -999.0,  2.3868,-999.000
    31DSCG94_2,  P18S,    62,  3,    310,   1005,2,19940316,1715,-38.5050,-102.9963, 3990,   1993.8,   2.2880,  34.6203,2,  34.6204,2,    150.6,2,    153.0,2,   100.02,2,    35.19,2,     0.00,2,     2.47,2, -999.000,9, -999.000,9, -999.000,9, -999.000,9, -999.000,9,   1.8830,2,    21.22,2,   -999.0,9,   -999.0,9,   -999.0,9,   -999.0,9,   -999.0,9,  -999.00,9, -999.00,  -999.0,-999.0000,-999.000, -999.00,  -999.0,  2.1477,-999.000
    31DSCG94_2,  P18S,    62,  3,    309,   1611,2,19940316,1715,-38.5050,-102.9963, 3990,   2249.9,   2.0551,  34.6570,2,  34.6559,2,    157.4,2,    158.7,6,   107.46,2,    33.96,2,     0.00,2,     2.36,2, -999.000,9, -999.000,9, -999.000,9, -999.000,9, -999.000,9,   1.8990,2,    26.14,2,   -999.0,9,   -999.0,9,   -999.0,9,   -999.0,9,   -999.0,9,  -999.00,9, -999.00,  -999.0,-999.0000,-999.000, -999.00,  -999.0,  1.8962,-999.000
    31DSCG94_2,  P18S,    62,  3,    308,   1218,2,19940316,1715,-38.5050,-102.9963, 3990,   2496.5,   1.9027,  34.6796,2,  34.6788,2,    161.0,2,    164.7,6,   112.11,2,    33.86,2,     0.00,2,     2.35,2, -999.000,9, -999.000,9, -999.000,9, -999.000,9, -999.000,9,   1.9260,2,    30.10,2,   -999.0,9,   -999.0,9,   -999.0,9,   -999.0,9,   -999.0,9,  -999.00,9, -999.00,  -999.0,-999.0000,-999.000, -999.00,  -999.0,  1.7244,-999.000
    31DSCG94_2,  P18S,    62,  3,    307,   1257,2,19940316,1715,-38.5050,-102.9963, 3990,   2658.2,   1.8453,  34.6860,2,  34.6852,2,    163.7,2,    166.4,6,   112.68,2,    33.74,2,     0.00,2,     2.35,2, -999.000,9, -999.000,9, -999.000,9, -999.000,9, -999.000,9,   1.9180,2,    27.87,2,   -999.0,9,   -999.0,9,   -999.0,9,   -999.0,9,   -999.0,9,  -999.00,9, -999.00,  -999.0,-999.0000,-999.000, -999.00,  -999.0,  1.6532,-999.000
    31DSCG94_2,  P18S,    62,  3,    306,   1224,2,19940316,1715,-38.5050,-102.9963, 3990,   2992.7,   1.7726,  34.6933,2,  34.6927,2,    167.5,2,    169.4,2,   114.66,2,    33.38,2,     0.00,2,     2.30,2, -999.000,9, -999.000,9, -999.000,9, -999.000,9, -999.000,9,   1.9020,2,    21.95,2,   -999.0,9,   -999.0,9,   -999.0,9,   -999.0,9,   -999.0,9,  -999.00,9, -999.00,  -999.0,-999.0000,-999.000, -999.00,  -999.0,  1.5504,-999.000
    31DSCG94_2,  P18S,    62,  3,    305,   1246,2,19940316,1715,-38.5050,-102.9963, 3990,   3251.4,   1.6631,  34.6981,2,  34.6976,2,    172.9,2,    174.7,2,   117.85,2,    32.87,2,     0.00,2,     2.27,2, -999.000,9, -999.000,9, -999.000,9, -999.000,9, -999.000,9,   1.8950,2,    18.87,2,   -999.0,9,   -999.0,9,   -999.0,9,   -999.0,9,   -999.0,9,  -999.00,9, -999.00,  -999.0,-999.0000,-999.000, -999.00,  -999.0,  1.4179,-999.000
    31DSCG94_2,  P18S,    62,  3,    304,   1217,2,19940316,1715,-38.5050,-102.9963, 3990,   3493.0,   1.4604,  34.7034,2,  34.7019,2,    180.7,2,    181.4,2,   120.65,2,    32.78,2,     0.00,2,     2.33,2, -999.000,9, -999.000,9, -999.000,9, -999.000,9, -999.000,9,   1.8910,2,    16.45,2,   -999.0,9,   -999.0,9,   -999.0,9,   -999.0,9,   -999.0,9,  -999.00,9, -999.00,  -999.0,-999.0000,-999.000, -999.00,  -999.0,  1.1958,-999.000
    31DSCG94_2,  P18S,    62,  3,    303,   9999,2,19940316,1715,-38.5050,-102.9963, 3990,   3743.1,   1.1899,  34.7073,2,  34.7067,2,    190.3,2,    190.6,2,   124.92,2,    31.92,2,     0.00,2,     2.30,2, -999.000,9, -999.000,9, -999.000,9, -999.000,9, -999.000,9,-999.0000,9,  -999.00,9,   -999.0,9,   -999.0,9,   -999.0,9,   -999.0,9,   -999.0,9,  -999.00,9, -999.00,  -999.0,-999.0000,-999.000, -999.00,  -999.0,  0.9066,-999.000
    31DSCG94_2,  P18S,    62,  3,    302,   1223,2,19940316,1715,-38.5050,-102.9963, 3990,   3743.4,   1.1890,  34.7073,2,  34.7056,2,    190.3,2,    191.1,2,   124.31,2,    32.49,2,     0.00,2,     2.28,2, -999.000,9, -999.000,9, -999.000,9, -999.000,9, -999.000,9,   1.8980,2,    13.17,2,   -999.0,9,   -999.0,9,   -999.0,9,   -999.0,9,   -999.0,9,  -999.00,9, -999.00,  -999.0,-999.0000,-999.000, -999.00,  -999.0,  0.9057,-999.000
    31DSCG94_2,  P18S,    62,  3,    301,   1041,2,19940316,1715,-38.5050,-102.9963, 3990,   4037.2,   1.1388,  34.7080,2,  34.7071,2,    195.4,2,   -999.0,9,   128.19,2,    32.58,2,     0.00,2,     2.26,2, -999.000,9, -999.000,9, -999.000,9, -999.000,9, -999.000,9,   1.8830,2,    12.56,2,   -999.0,9,   -999.0,9,   -999.0,9,   -999.0,9,   -999.0,9,  -999.00,9, -999.00,  -999.0,-999.0000,-999.000, -999.00,  -999.0,  0.8259,-999.000