BOTTLE,20220630CCHSIOAMB
EXPOCODE,SECT_ID,STNNBR,CASTNO,SAMPNO,BTLNBR,BTLNBR_FLAG_W,DATE,TIME,LATITUDE,LONGITUDE,DEPTH,CTDPRS,CTDTMP,CTDSAL,CTDSAL_FLAG_W,SALNTY,SALNTY_FLAG_W,CTDOXY,CTDOXY_FLAG_W,OXYGEN,OXYGEN_FLAG_W,SILCAT,SILCAT_FLAG_W,NITRAT,NITRAT_FLAG_W,NITRIT,NITRIT_FLAG_W,PHSPHT,PHSPHT_FLAG_W,CFC-11,CFC-11_FLAG_W,CFC-12,CFC-12_FLAG_W,CFC113,CFC113_FLAG_W,CCL4,CCL4_FLAG_W,TRITUM,TRITUM_FLAG_W,HELIUM,HELIUM_FLAG_W,DELHE3,DELHE3_FLAG_W,DELC14,DELC14_FLAG_W,DELC13,DELC13_FLAG_W,TCARBN,TCARBN_FLAG_W,PCO2,PCO2_FLAG_W,ALKALI,ALKALI_FLAG_W,PH,PH_FLAG_W,PCO2TMP,C14ERR,HELIER,DELHER,PH_TMP,C13ERR,THETA,TRITER
,,,,,,,,,,,,DBAR,ITS-90,PSS-78,,PSS-78,,UMOL/KG,,UMOL/KG,,UMOL/KG,,UMOL/KG,,UMOL/KG,,UMOL/KG,,PMOL/KG,,PMOL/KG,,PMOL/KG,,PMOL/KG,,TU,,NMOL/KG,,PERCNT,,/MILLE,,/MILLE,,UMOL/KG,,UATM,,UMOL/KG,,,,DEG C,/MILLE,NMOL/KG,PERCNT,DEG C,/MILLE,DEG C,TU
    31DSCG94_3,  P18N,   116,  1,    136,   1025,2,19940405,2026,-11.5045,-103.0002, 4096,     10.0,  26.6730,  35.5271,2,  35.5282,2,    209.6,2,    207.1,6,     2.69,2,     3.77,2,     0.11,2,     0.48,2,    1.791,2,    0.997,2, -999.000,9, -999.000,9, -999.000,9,-999.0000,9,  -999.00,9,   -999.0,9,   -999.0,9,   2018.2,2,    304.2,2,   2341.0,6,     8.07,2,   20.00,  -999.0,-999.0000,-999.000,   25.00,  -999.0, 26.6707,-999.000
    31DSCG94_3,  P18N,   116,  1,    135,   1247,2,19940405,2026,-11.5045,-103.0002, 4096,     23.7,  26.5144,  35.5171,2,  35.5185,2,    209.4,2,    206.6,2,     2.53,2,     4.20,2,     0.08,2,     0.50,2,    1.784,2,    1.011,2, -999.000,9, -999.000,9, -999.000,9,-999.0000,9,  -999.00,9,   -999.0,9,   -999.0,9,   -999.0,9,   -999.0,9,   -999.0,9,     8.07,2, -999.00,  -999.0,-999.0000,-999.000,   25.00,  -999.0, 26.5091,-999.000
    31DSCG94_3,  P18N,   116,  1,    134,   1216,2,19940405,2026,-11.5045,-103.0002, 4096,     49.0,  26.0392,  35.7209,2,  35.7289,2,    212.1,2,    208.0,2,     2.32,2,     3.04,2,     0.04,2,     0.45,2,    1.811,2,    1.027,2, -999.000,9, -999.000,9, -999.000,9,-999.0000,9,  -999.00,9,   -999.0,9,   -999.0,9,   2023.3,2,    303.1,2,   2354.0,2,     8.08,2,   20.00,  -999.0,-999.0000,-999.000,   25.00,  -999.0, 26.0282,-999.000
    31DSCG94_3,  P18N,   116,  1,    133,   1244,2,19940405,2026,-11.5045,-103.0002, 4096,     75.5,  22.2897,  35.8334,2,  35.8352,2,    211.0,2,    210.1,2,     2.16,2,     0.61,2,     0.04,2,     0.42,2,    2.119,2,    1.176,2, -999.000,9, -999.000,9, -999.000,9,-999.0000,9,  -999.00,9,   -999.0,9,   -999.0,9,   -999.0,9,   -999.0,9,   -999.0,9,     8.06,2, -999.00,  -999.0,-999.0000,-999.000,   25.00,  -999.0, 22.2745,-999.000
    31DSCG94_3,  P18N,   116,  1,    132,   1003,2,19940405,2026,-11.5045,-103.0002, 4096,     98.6,  20.0002,  35.7010,2,  35.7371,3,    185.8,2,    188.5,2,     2.26,2,     2.98,2,     1.39,2,     0.68,2,    2.252,6,    1.227,6, -999.000,9, -999.000,9, -999.000,9,-999.0000,9,  -999.00,9,   -999.0,9,   -999.0,9,   2091.6,2,    408.5,2,   2355.0,2,     7.97,2,   20.00,  -999.0,-999.0000,-999.000,   25.00,  -999.0, 19.9819,-999.000
    31DSCG94_3,  P18N,   116,  1,    131,   1211,2,19940405,2026,-11.5045,-103.0002, 4096,    123.8,  18.1308,  35.3995,2,  35.4010,2,    160.0,2,    166.0,2,     3.20,2,     8.55,2,     0.04,2,     0.93,2,    2.291,2,    1.226,2, -999.000,9, -999.000,9, -999.000,9,-999.0000,9,  -999.00,9,   -999.0,9,   -999.0,9,   2117.0,2,   -999.0,9,   2338.0,2,     7.88,2, -999.00,  -999.0,-999.0000,-999.000,   25.00,  -999.0, 18.1095,-999.000
    31DSCG94_3,  P18N,   116,  1,    130,   1241,2,19940405,2026,-11.5045,-103.0002, 4096,    148.4,  15.2133,  34.9947,2,  35.0002,2,    130.5,2,    124.0,6,     6.58,2,    12.85,2,     0.00,2,     1.34,2, -999.000,5, -999.000,5, -999.000,9, -999.000,9, -999.000,9,-999.0000,9,  -999.00,9,   -999.0,9,   -999.0,9,   -999.0,9,    704.6,2,   -999.0,9,     7.77,2,   20.00,  -999.0,-999.0000,-999.000,   25.00,  -999.0, 15.1907,-999.000
    31DSCG94_3,  P18N,   116,  1,    129,   1240,2,19940405,2026,-11.5045,-103.0002, 4096,    173.5,  13.1910,  34.8311,2,  34.8330,2,     52.5,2,     18.9,2,    17.26,2,    20.78,2,     0.01,2,     2.38,2, -999.000,5, -999.000,5, -999.000,9, -999.000,9, -999.000,9,-999.0000,9,  -999.00,9,   -999.0,9,   -999.0,9,   2238.8,2,   -999.0,9,   2297.0,2,     7.50,2, -999.00,  -999.0,-999.0000,-999.000,   25.00,  -999.0, 13.1670,-999.000
    31DSCG94_3,  P18N,   116,  1,    128,   1032,3,19940405,2026,-11.5045,-103.0002, 4096,    201.6,  12.1453,  34.8083,2,  34.8087,2,     15.9,2,      6.5,2,    22.12,2,    25.25,2,     0.00,2,     2.53,2,    0.353,2,    0.201,2, -999.000,9, -999.000,9, -999.000,9,-999.0000,9,  -999.00,9,   -999.0,9,   -999.0,9,   2253.7,2,   -999.0,9,   2301.0,2,  -999.00,9, -999.00,  -999.0,-999.0000,-999.000, -999.00,  -999.0, 12.1188,-999.000
    31DSCG94_3,  P18N,   116,  1,    127,   1008,2,19940405,2026,-11.5045,-103.0002, 4096,    225.6,  11.5374,  34.8042,2,  34.8017,2,     11.7,2,      9.6,2,    24.55,2,    28.98,2,     0.00,2,     2.49,2,    0.211,2,    0.118,2, -999.000,9, -999.000,9, -999.000,9,-999.0000,9,  -999.00,9,   -999.0,9,   -999.0,9,   -999.0,9,   -999.0,9,   -999.0,9,     7.45,2, -999.00,  -999.0,-999.0000,-999.000,   25.00,  -999.0, 11.5088,-999.000
    31DSCG94_3,  P18N,   116,  1,    126,   1007,2,19940405,2026,-11.5045,-103.0002, 4096,    249.5,  11.0860,  34.7922,2,  34.7896,2,     19.0,2,     17.5,2,    26.38,2,    31.42,2,     0.00,2,     2.45,2,    0.137,6,    0.078,6, -999.000,9, -999.000,9, -999.000,9,-999.0000,9,  -999.00,9,   -999.0,9,   -999.0,9,   2251.8,2,   1507.8,2,   2303.0,2,     7.46,2,   20.00,  -999.0,-999.0000,-999.000,   25.00,  -999.0, 11.0551,-999.000
    31DSCG94_3,  P18N,   116,  1,    125,   1203,2,19940405,2026,-11.5045,-103.0002, 4096,    300.6,  10.2851,  34.7574,2,  34.7586,2,     29.3,2,     22.3,2,    29.00,2,    33.91,2,     0.00,2,     2.46,2,    0.073,2,    0.042,2, -999.000,9, -999.000,9, -999.000,9,-999.0000,9,  -999.00,9,   -999.0,9,   -999.0,9,   2253.1,2,   1509.3,2,   2299.0,2,     7.46,2,   20.00,  -999.0,-999.0000,-999.000,   25.00,  -999.0, 10.2495,-999.000
    31DSCG94_3,  P18N,   116,  1,    123,   1220,2,19940405,2026,-11.5045,-103.0002, 4096,    351.4,   9.7649,  34.7248,2,  34.7224,2,     20.5,2,     16.3,2,    31.58,2,    35.41,2,     0.00,2,     2.58,2,    0.034,6,    0.023,6, -999.000,9, -999.000,9, -999.000,9,-999.0000,9,  -999.00,9,   -999.0,9,   -999.0,9,   -999.0,9,   -999.0,9,   -999.0,9,     7.43,2, -999.00,  -999.0,-999.0000,-999.000,   25.00,  -999.0,  9.7245,-999.000
    31DSCG94_3,  P18N,   116,  1,    122,   1245,2,19940405,2026,-11.5045,-103.0002, 4096,    399.6,   9.1792,  34.6896,2,  34.6869,2,     22.1,2,     18.6,2,    33.64,2,    37.22,2,     0.00,2,     2.63,2,    0.016,2,    0.007,2, -999.000,9, -999.000,9, -999.000,9,-999.0000,9,  -999.00,9,   -999.0,9,   -999.0,9,   2266.8,2,   1677.4,2,   2303.0,2,     7.42,2,   20.00,  -999.0,-999.0000,-999.000,   25.00,  -999.0,  9.1349,-999.000
    31DSCG94_3,  P18N,   116,  1,    121,   1206,2,19940405,2026,-11.5045,-103.0002, 4096,    496.8,   7.9979,  34.6244,2,  34.6226,2,     17.2,2,     18.4,2,    39.51,2,    40.95,2,     0.01,2,     2.83,2, -999.000,9, -999.000,9, -999.000,9, -999.000,9, -999.000,9,-999.0000,9,  -999.00,9,   -999.0,9,   -999.0,9,   2279.6,2,   1787.4,2,   2305.0,2,     7.39,2,   20.00,  -999.0,-999.0000,-999.000,   25.00,  -999.0,  7.9469,-999.000
    31DSCG94_3,  P18N,   116,  1,    120,   1028,2,19940405,2026,-11.5045,-103.0002, 4096,    597.6,   6.9482,  34.5678,2,  34.5667,2,     21.8,2,     20.6,2,    45.91,2,    42.86,2,     0.00,2,     2.99,2,    0.000,2,   -0.002,2, -999.000,9, -999.000,9, -999.000,9,-999.0000,9,  -999.00,9,   -999.0,9,   -999.0,9,   2288.8,2,   1890.1,2,   2310.0,2,     7.37,2,   20.00,  -999.0,-999.0000,-999.000,   25.00,  -999.0,  6.8913,-999.000
    31DSCG94_3,  P18N,   116,  1,    119,   1248,2,19940405,2026,-11.5045,-103.0002, 4096,    697.8,   6.1584,  34.5426,2,  34.5420,2,     24.3,2,     24.5,2,    55.63,2,    44.48,2,     0.00,2,     3.07,2, -999.000,9, -999.000,9, -999.000,9, -999.000,9, -999.000,9,-999.0000,9,  -999.00,9,   -999.0,9,   -999.0,9,   2298.9,2,   1915.2,2,   2317.0,2,     7.37,2,   20.00,  -999.0,-999.0000,-999.000,   25.00,  -999.0,  6.0956,-999.000
    31DSCG94_3,  P18N,   116,  1,    118,   1115,2,19940405,2026,-11.5045,-103.0002, 4096,    802.5,   5.4774,  34.5332,2,  34.5321,2,     34.0,2,     36.0,2,    63.70,2,    44.89,2,     0.00,2,     3.07,2, -999.000,9, -999.000,9, -999.000,9, -999.000,9, -999.000,9,-999.0000,9,  -999.00,9,   -999.0,9,   -999.0,9,   2303.4,2,   1873.4,2,   2327.0,2,     7.38,2,   20.00,  -999.0,-999.0000,-999.000,   25.00,  -999.0,  5.4087,-999.000
    31DSCG94_3,  P18N,   116,  1,    117,   1119,2,19940405,2026,-11.5045,-103.0002, 4096,    898.8,   4.9295,  34.5336,2,  34.5331,2,     46.1,2,     49.0,2,    71.85,2,    43.87,2,     0.01,2,     3.07,2, -999.000,9, -999.000,9, -999.000,9, -999.000,9, -999.000,9,-999.0000,9,  -999.00,9,   -999.0,9,   -999.0,9,   2303.1,2,   1746.5,2,   2347.0,2,     7.40,2,   20.00,  -999.0,-999.0000,-999.000,   25.00,  -999.0,  4.8557,-999.000
    31DSCG94_3,  P18N,   116,  1,    116,   1036,2,19940405,2026,-11.5045,-103.0002, 4096,   1000.3,   4.4887,  34.5381,2,  34.5380,2,     65.2,2,     69.9,2,    80.49,2,    42.25,2,     0.00,2,     2.95,2, -999.000,9, -999.000,9, -999.000,9, -999.000,9, -999.000,9,-999.0000,9,  -999.00,9,   -999.0,9,   -999.0,9,   2300.4,2,   1602.4,2,   2349.0,6,     7.44,2,   20.00,  -999.0,-999.0000,-999.000,   25.00,  -999.0,  4.4092,-999.000
    31DSCG94_3,  P18N,   116,  1,    115,   1017,2,19940405,2026,-11.5045,-103.0002, 4096,   1197.3,   3.8485,  34.5568,2,  34.5558,2,     80.1,2,     77.1,6,    94.61,2,    42.44,2,     0.00,2,     2.94,2, -999.000,9, -999.000,9, -999.000,9, -999.000,9, -999.000,9,-999.0000,9,  -999.00,9,   -999.0,9,   -999.0,9,   -999.0,9,   -999.0,9,   -999.0,9,  -999.00,9, -999.00,  -999.0,-999.0000,-999.000, -999.00,  -999.0,  3.7574,-999.000
    31DSCG94_3,  P18N,   116,  1,    114,   1016,2,19940405,2026,-11.5045,-103.0002, 4096,   1398.2,   3.2959,  34.5779,2,  34.5777,2,     89.4,2,     89.2,2,   104.91,2,    40.77,2,     0.00,2,     2.87,2, -999.000,9, -999.000,9, -999.000,9, -999.000,9, -999.000,9,-999.0000,9,  -999.00,9,   -999.0,9,   -999.0,9,   -999.0,9,   -999.0,9,   -999.0,9,  -999.00,9, -999.00,  -999.0,-999.0000,-999.000, -999.00,  -999.0,  3.1933,-999.000
    31DSCG94_3,  P18N,   116,  1,    113,   1209,2,19940405,2026,-11.5045,-103.0002, 4096,   1600.1,   2.8240,  34.6020,2,  34.6009,2,    104.7,2,    102.4,2,   114.04,2,    40.00,2,     0.00,2,     2.79,2, -999.000,9, -999.000,9, -999.000,9, -999.000,9, -999.000,9,-999.0000,9,  -999.00,9,   -999.0,9,   -999.0,9,   -999.0,9,   -999.0,9,   -999.0,9,  -999.00,9, -999.00,  -999.0,-999.0000,-999.000, -999.00,  -999.0,  2.7098,-999.000
    31DSCG94_3,  P18N,   116,  1,    112,   1033,2,19940405,2026,-11.5045,-103.0002, 4096,   1803.4,   2.5263,  34.6206,2,  34.6202,2,    114.4,2,    109.2,2,   121.52,2,    39.70,2,     0.00,2,     2.74,2, -999.000,9, -999.000,9, -999.000,9, -999.000,9, -999.000,9,-999.0000,9,  -999.00,9,   -999.0,9,   -999.0,9,   -999.0,9,   -999.0,9,   -999.0,9,  -999.00,9, -999.00,  -999.0,-999.0000,-999.000, -999.00,  -999.0,  2.3988,-999.000
    31DSCG94_3,  P18N,   116,  1,    111,   1240,2,19940405,2026,-11.5045,-103.0002, 4096,   2000.6,   2.2791,  34.6378,2,  34.6368,2,    117.6,2,    114.5,2,   132.88,2,    38.47,2,     0.00,2,     2.70,2, -999.000,9, -999.000,9, -999.000,9, -999.000,9, -999.000,9,-999.0000,9,  -999.00,9,   -999.0,9,   -999.0,9,   -999.0,9,   -999.0,9,   -999.0,9,  -999.00,9, -999.00,  -999.0,-999.0000,-999.000, -999.00,  -999.0,  2.1383,-999.000
    31DSCG94_3,  P18N,   116,  1,    110,   1005,2,19940405,2026,-11.5045,-103.0002, 4096,   2249.5,   2.0325,  34.6549,2,  34.6553,2,    125.0,2,    125.2,2,   138.36,2,    37.60,2,     0.00,2,     2.63,2, -999.000,9, -999.000,9, -999.000,9, -999.000,9, -999.000,9,-999.0000,9,  -999.00,9,   -999.0,9,   -999.0,9,   -999.0,9,   -999.0,9,   -999.0,9,  -999.00,9, -999.00,  -999.0,-999.0000,-999.000, -999.00,  -999.0,  1.8740,-999.000
    31DSCG94_3,  P18N,   116,  1,    109,   1611,2,19940405,2026,-11.5045,-103.0002, 4096,   2499.7,   1.8738,  34.6668,2,  34.6659,2,    134.5,2,    135.0,6,   137.87,2,    37.07,2,     0.00,2,     2.54,2, -999.000,9, -999.000,9, -999.000,9, -999.000,9, -999.000,9,-999.0000,9,  -999.00,9,   -999.0,9,   -999.0,9,   -999.0,9,   -999.0,9,   -999.0,9,  -999.00,9, -999.00,  -999.0,-999.0000,-999.000, -999.00,  -999.0,  1.6958,-999.000
    31DSCG94_3,  P18N,   116,  1,    108,   1218,2,19940405,2026,-11.5045,-103.0002, 4096,   2750.0,   1.8004,  34.6722,2,  34.6722,2,    134.4,2,    147.6,3,   140.22,2,    37.06,2,     0.00,2,     2.55,2, -999.000,9, -999.000,9, -999.000,9, -999.000,9, -999.000,9,-999.0000,9,  -999.00,9,   -999.0,9,   -999.0,9,   -999.0,9,   -999.0,9,   -999.0,9,  -999.00,9, -999.00,  -999.0,-999.0000,-999.000, -999.00,  -999.0,  1.6008,-999.000
    31DSCG94_3,  P18N,   116,  1,    107,   1257,2,19940405,2026,-11.5045,-103.0002, 4096,   2998.5,   1.7775,  34.6750,2,  34.6717,2,    136.5,2,    137.7,2,   140.15,2,    37.34,2,     0.00,2,     2.54,2, -999.000,9, -999.000,9, -999.000,9, -999.000,9, -999.000,9,-999.0000,9,  -999.00,9,   -999.0,9,   -999.0,9,   -999.0,9,   -999.0,9,   -999.0,9,  -999.00,9, -999.00,  -999.0,-999.0000,-999.000, -999.00,  -999.0,  1.5547,-999.000
    31DSCG94_3,  P18N,   116,  1,    106,   1224,2,19940405,2026,-11.5045,-103.0002, 4096,   3249.6,   1.7622,  34.6750,2,  34.6739,2,    134.8,2,    136.1,2,   147.01,2,    37.23,2,     0.00,2,     2.56,2, -999.000,9, -999.000,9, -999.000,9, -999.000,9, -999.000,9,-999.0000,9,  -999.00,9,   -999.0,9,   -999.0,9,   -999.0,9,   -999.0,9,   -999.0,9,  -999.00,9, -999.00,  -999.0,-999.0000,-999.000, -999.00,  -999.0,  1.5150,-999.000
    31DSCG94_3,  P18N,   116,  1,    105,   1246,2,19940405,2026,-11.5045,-103.0002, 4096,   3499.1,   1.7662,  34.6755,2,  34.6748,2,    134.7,2,    136.6,2,   150.76,2,    36.74,2,     0.00,2,     2.54,2, -999.000,9, -999.000,9, -999.000,9, -999.000,9, -999.000,9,-999.0000,9,  -999.00,9,   -999.0,9,   -999.0,9,   -999.0,9,   -999.0,9,   -999.0,9,  -999.00,9, -999.00,  -999.0,-999.0000,-999.000, -999.00,  -999.0,  1.4934,-999.000
    31DSCG94_3,  P18N,   116,  1,    104,   1217,2,19940405,2026,-11.5045,-103.0002, 4096,   3750.2,   1.7805,  34.6763,2,  34.6752,2,    135.1,2,    136.7,2,   151.16,2,    37.18,2,     0.00,2,     2.54,2, -999.000,9, -999.000,9, -999.000,9, -999.000,9, -999.000,9,-999.0000,9,  -999.00,9,   -999.0,9,   -999.0,9,   -999.0,9,   -999.0,9,   -999.0,9,  -999.00,9, -999.00,  -999.0,-999.0000,-999.000, -999.00,  -999.0,  1.4809,-999.000
    31DSCG94_3,  P18N,   116,  1,    103,   9999,2,19940405,2026,-11.5045,-103.0002, 4096,   3999.6,   1.8058,  34.6762,2,  34.6784,2,    135.5,2,    136.2,2,   149.15,2,    37.27,2,     0.00,2,     2.51,2, -999.000,9, -999.000,9, -999.000,9, -999.000,9, -999.000,9,-999.0000,9,  -999.00,9,   -999.0,9,   -999.0,9,   -999.0,9,   -999.0,9,   -999.0,9,  -999.00,9, -999.00,  -999.0,-999.0000,-999.000, -999.00,  -999.0,  1.4783,-999.000
    31DSCG94_3,  P18N,   116,  1,    102,   1223,3,19940405,2026,-11.5045,-103.0002, 4096,   3999.6,   1.8058,  34.6760,2,  34.6768,2,    135.5,2,    136.5,2,   147.68,2,    37.30,2,     0.00,2,     2.53,2, -999.000,9, -999.000,9, -999.000,9, -999.000,9, -999.000,9,-999.0000,9,  -999.00,9,   -999.0,9,   -999.0,9,   -999.0,9,   -999.0,9,   -999.0,9,  -999.00,9, -999.00,  -999.0,-999.0000,-999.000, -999.00,  -999.0,  1.4783,-999.000
    31DSCG94_3,  P18N,   116,  1,    101,   1041,2,19940405,2026,-11.5045,-103.0002, 4096,   4138.2,   1.8197,  34.6765,2,  34.6764,2,    135.4,2,    136.9,2,   147.39,2,    37.10,2,     0.00,2,     2.52,2, -999.000,9, -999.000,9, -999.000,9, -999.000,9, -999.000,9,-999.0000,9,  -999.00,9,   -999.0,9,   -999.0,9,   -999.0,9,   -999.0,9,   -999.0,9,  -999.00,9, -999.00,  -999.0,-999.0000,-999.000, -999.00,  -999.0,  1.4763,-999.000