BOTTLE,20220630CCHSIOAMB
EXPOCODE,SECT_ID,STNNBR,CASTNO,SAMPNO,BTLNBR,BTLNBR_FLAG_W,DATE,TIME,LATITUDE,LONGITUDE,DEPTH,CTDPRS,CTDTMP,CTDSAL,CTDSAL_FLAG_W,SALNTY,SALNTY_FLAG_W,CTDOXY,CTDOXY_FLAG_W,OXYGEN,OXYGEN_FLAG_W,SILCAT,SILCAT_FLAG_W,NITRAT,NITRAT_FLAG_W,NITRIT,NITRIT_FLAG_W,PHSPHT,PHSPHT_FLAG_W,CFC-11,CFC-11_FLAG_W,CFC-12,CFC-12_FLAG_W,CFC113,CFC113_FLAG_W,CCL4,CCL4_FLAG_W,TRITUM,TRITUM_FLAG_W,HELIUM,HELIUM_FLAG_W,DELHE3,DELHE3_FLAG_W,DELC14,DELC14_FLAG_W,DELC13,DELC13_FLAG_W,TCARBN,TCARBN_FLAG_W,PCO2,PCO2_FLAG_W,ALKALI,ALKALI_FLAG_W,PH,PH_FLAG_W,PCO2TMP,C14ERR,HELIER,DELHER,PH_TMP,C13ERR,THETA,TRITER
,,,,,,,,,,,,DBAR,ITS-90,PSS-78,,PSS-78,,UMOL/KG,,UMOL/KG,,UMOL/KG,,UMOL/KG,,UMOL/KG,,UMOL/KG,,PMOL/KG,,PMOL/KG,,PMOL/KG,,PMOL/KG,,TU,,NMOL/KG,,PERCNT,,/MILLE,,/MILLE,,UMOL/KG,,UATM,,UMOL/KG,,,,DEG C,/MILLE,NMOL/KG,PERCNT,DEG C,/MILLE,DEG C,TU
    31DSCG94_2,  P18S,    58,  3,    336,   1025,2,19940315,1810,-40.5035,-102.9868, 3901,     11.4,  15.5875,  34.0071,2,  34.0076,2,    251.9,2,    251.4,2,     2.59,2,     8.37,2,     0.19,2,     0.81,2, -999.000,9, -999.000,9, -999.000,9, -999.000,9, -999.000,9,-999.0000,9,  -999.00,9,   -999.0,9,   -999.0,9,   2034.9,2,    456.7,2,   2262.0,2,     7.92,2,   20.00,  -999.0,-999.0000,-999.000,   25.00,  -999.0, 15.5857,-999.000
    31DSCG94_2,  P18S,    58,  3,    335,   1247,2,19940315,1810,-40.5035,-102.9868, 3901,     23.9,  15.5416,  34.0104,2,  34.0092,2,    252.4,2,    251.2,2,     2.63,2,     8.40,2,     0.19,2,     0.85,2, -999.000,9, -999.000,9, -999.000,9, -999.000,9, -999.000,9,-999.0000,9,  -999.00,9,   -999.0,9,   -999.0,9,   2035.7,2,    457.0,2,   2256.0,2,     7.92,2,   20.00,  -999.0,-999.0000,-999.000,   25.00,  -999.0, 15.5379,-999.000
    31DSCG94_2,  P18S,    58,  3,    334,   1108,2,19940315,1810,-40.5035,-102.9868, 3901,     48.6,  15.1266,  34.0129,2,  34.0122,2,    253.3,2,    255.0,2,     2.52,2,     8.38,2,     0.17,2,     0.80,2, -999.000,9, -999.000,9, -999.000,9, -999.000,9, -999.000,9,-999.0000,9,  -999.00,9,   -999.0,9,   -999.0,9,   2039.2,2,    458.7,2,   2256.0,2,     7.92,2,   20.00,  -999.0,-999.0000,-999.000,   25.00,  -999.0, 15.1193,-999.000
    31DSCG94_2,  P18S,    58,  3,    333,   1244,2,19940315,1810,-40.5035,-102.9868, 3901,     75.3,  11.4669,  34.0158,2,  34.0149,2,    274.3,2,    276.9,2,     2.49,2,     7.76,2,     0.10,2,     0.72,2, -999.000,9, -999.000,9, -999.000,9, -999.000,9, -999.000,9,-999.0000,9,  -999.00,9,   -999.0,9,   -999.0,9,   2044.4,2,    492.3,2,   2257.0,2,     7.90,2,   20.00,  -999.0,-999.0000,-999.000,   25.00,  -999.0, 11.4576,-999.000
    31DSCG94_2,  P18S,    58,  3,    332,   1003,2,19940315,1810,-40.5035,-102.9868, 3901,     97.8,  10.5717,  34.0422,2,  34.0455,2,    268.0,2,    272.0,2,     2.73,2,     9.51,2,     0.20,2,     0.94,2, -999.000,9, -999.000,9, -999.000,9, -999.000,9, -999.000,9,-999.0000,9,  -999.00,9,   -999.0,9,   -999.0,9,   2054.8,2,    506.0,2,   2261.0,2,     7.88,2,   20.00,  -999.0,-999.0000,-999.000,   25.00,  -999.0, 10.5601,-999.000
    31DSCG94_2,  P18S,    58,  3,    331,   1211,2,19940315,1810,-40.5035,-102.9868, 3901,    126.1,   9.6624,  34.0962,2,  34.0930,2,    268.5,2,    271.8,2,     2.94,2,    11.48,2,     0.24,2,     1.06,2, -999.000,9, -999.000,9, -999.000,9, -999.000,9, -999.000,9,-999.0000,9,  -999.00,9,   -999.0,9,   -999.0,9,   2068.5,2,    553.1,2,   2264.0,2,     7.86,2,   20.00,  -999.0,-999.0000,-999.000,   25.00,  -999.0,  9.6483,-999.000
    31DSCG94_2,  P18S,    58,  3,    330,   1241,2,19940315,1810,-40.5035,-102.9868, 3901,    148.8,   9.0363,  34.1330,2,  34.1908,3,    265.8,2,    266.6,2,     3.39,2,    13.23,2,     0.32,2,     1.14,2, -999.000,9, -999.000,9, -999.000,9, -999.000,9, -999.000,9,-999.0000,9,  -999.00,9,   -999.0,9,   -999.0,9,   2080.9,2,    574.2,2,   2263.0,2,     7.83,2,   20.00,  -999.0,-999.0000,-999.000,   25.00,  -999.0,  9.0204,-999.000
    31DSCG94_2,  P18S,    58,  3,    329,   1031,4,19940315,1810,-40.5035,-102.9868, 3901,    195.5,   8.1999,  34.2618,2,-999.0000,9,    255.3,2,   -999.0,9,  -999.00,9,  -999.00,9,  -999.00,9,  -999.00,9, -999.000,9, -999.000,9, -999.000,9, -999.000,9, -999.000,9,-999.0000,9,  -999.00,9,   -999.0,9,   -999.0,9,   -999.0,9,   -999.0,9,   -999.0,9,  -999.00,9, -999.00,  -999.0,-999.0000,-999.000, -999.00,  -999.0,  8.1801,-999.000
    31DSCG94_2,  P18S,    58,  3,    328,   1210,2,19940315,1810,-40.5035,-102.9868, 3901,    250.7,   7.2348,  34.3000,2,  34.3007,2,    244.4,2,    243.9,2,     6.67,2,    20.16,2,     0.00,2,     1.53,2, -999.000,9, -999.000,9, -999.000,9, -999.000,9, -999.000,9,-999.0000,9,  -999.00,9,   -999.0,9,   -999.0,9,   2120.4,2,    714.7,2,   2272.0,2,     7.75,2,   20.00,  -999.0,-999.0000,-999.000,   25.00,  -999.0,  7.2110,-999.000
    31DSCG94_2,  P18S,    58,  3,    327,   1008,2,19940315,1810,-40.5035,-102.9868, 3901,    300.7,   6.8099,  34.3180,2,  34.3172,2,    249.1,2,    249.9,2,     7.61,2,    20.57,2,     0.00,2,     1.56,2, -999.000,9, -999.000,9, -999.000,9, -999.000,9, -999.000,9,-999.0000,9,  -999.00,9,   -999.0,9,   -999.0,9,   2127.0,2,    718.8,2,   2278.0,2,     7.75,2,   20.00,  -999.0,-999.0000,-999.000,   25.00,  -999.0,  6.7822,-999.000
    31DSCG94_2,  P18S,    58,  3,    326,   1007,2,19940315,1810,-40.5035,-102.9868, 3901,    339.8,   6.6046,  34.3200,2,  34.3198,2,    252.7,2,    254.6,2,     8.19,2,    21.03,2,     0.00,2,     1.61,2, -999.000,9, -999.000,9, -999.000,9, -999.000,9, -999.000,9,-999.0000,9,  -999.00,9,   -999.0,9,   -999.0,9,   2128.4,2,    715.0,2,   2268.0,3,     7.75,2,   20.00,  -999.0,-999.0000,-999.000,   25.00,  -999.0,  6.5738,-999.000
    31DSCG94_2,  P18S,    58,  3,    325,   1203,2,19940315,1810,-40.5035,-102.9868, 3901,    399.3,   6.3932,  34.3193,2,  34.3191,2,    254.0,2,    254.7,2,     8.59,2,    21.50,2,     0.00,2,     1.63,2, -999.000,9, -999.000,9, -999.000,9, -999.000,9, -999.000,9,-999.0000,9,  -999.00,9,   -999.0,9,   -999.0,9,   2128.7,2,    724.4,2,   2271.0,2,     7.75,2,   20.00,  -999.0,-999.0000,-999.000,   25.00,  -999.0,  6.3575,-999.000
    31DSCG94_2,  P18S,    58,  3,    323,   1101,2,19940315,1810,-40.5035,-102.9868, 3901,    448.7,   6.2599,  34.3171,2,  34.3168,2,    254.9,2,    256.4,2,     9.58,2,    21.91,2,     0.00,2,     1.62,2, -999.000,9, -999.000,9, -999.000,9, -999.000,9, -999.000,9,-999.0000,9,  -999.00,9,   -999.0,9,   -999.0,9,   2130.3,2,    722.8,2,   -999.0,5,     7.75,2,   20.00,  -999.0,-999.0000,-999.000,   25.00,  -999.0,  6.2201,-999.000
    31DSCG94_2,  P18S,    58,  3,    321,   1206,2,19940315,1810,-40.5035,-102.9868, 3901,    500.4,   6.1046,  34.3101,2,  34.3095,2,    255.6,2,    255.7,2,    10.11,2,    22.51,2,     0.00,2,     1.64,2, -999.000,9, -999.000,9, -999.000,9, -999.000,9, -999.000,9,-999.0000,9,  -999.00,9,   -999.0,9,   -999.0,9,   2131.6,2,    750.9,2,   2274.0,2,     7.74,2,   20.00,  -999.0,-999.0000,-999.000,   25.00,  -999.0,  6.0607,-999.000
    31DSCG94_2,  P18S,    58,  3,    319,   1248,2,19940315,1810,-40.5035,-102.9868, 3901,    701.8,   5.4491,  34.2738,2,  34.2747,2,    244.7,2,    245.7,2,    12.85,2,    24.88,2,     0.00,2,     1.85,2, -999.000,9, -999.000,9, -999.000,9, -999.000,9, -999.000,9,-999.0000,9,  -999.00,9,   -999.0,9,   -999.0,9,   2141.1,2,    777.7,2,   2276.0,2,     7.72,2,   20.00,  -999.0,-999.0000,-999.000,   25.00,  -999.0,  5.3900,-999.000
    31DSCG94_2,  P18S,    58,  3,    318,   1207,4,19940315,1810,-40.5035,-102.9868, 3901,    799.4,   5.0503,  34.2670,2,-999.0000,9,    234.2,2,   -999.0,9,  -999.00,9,  -999.00,9,  -999.00,9,  -999.00,9, -999.000,9, -999.000,9, -999.000,9, -999.000,9, -999.000,9,-999.0000,9,  -999.00,9,   -999.0,9,   -999.0,9,   -999.0,9,   -999.0,9,   -999.0,9,  -999.00,9, -999.00,  -999.0,-999.0000,-999.000, -999.00,  -999.0,  4.9848,-999.000
    31DSCG94_2,  P18S,    58,  3,    317,   1119,2,19940315,1810,-40.5035,-102.9868, 3901,    899.0,   4.6367,  34.2809,2,  34.2796,2,    218.0,2,    216.5,2,    23.98,2,    29.24,2,     0.00,2,     2.15,2, -999.000,9, -999.000,9, -999.000,9, -999.000,9, -999.000,9,-999.0000,9,  -999.00,9,   -999.0,9,   -999.0,9,   2171.3,2,    926.3,2,   2288.0,2,     7.66,2,   20.00,  -999.0,-999.0000,-999.000,   25.00,  -999.0,  4.5653,-999.000
    31DSCG94_2,  P18S,    58,  3,    316,   1036,2,19940315,1810,-40.5035,-102.9868, 3901,    998.4,   4.1844,  34.3070,2,  34.3067,2,    202.2,2,    200.3,2,    31.51,2,    31.18,2,     0.00,2,     2.18,2, -999.000,9, -999.000,9, -999.000,9, -999.000,9, -999.000,9,-999.0000,9,  -999.00,9,   -999.0,9,   -999.0,9,   2194.9,2,   1017.2,2,   2291.0,6,     7.63,2,   20.00,  -999.0,-999.0000,-999.000,   25.00,  -999.0,  4.1078,-999.000
    31DSCG94_2,  P18S,    58,  3,    315,   1017,2,19940315,1810,-40.5035,-102.9868, 3901,   1093.0,   3.8276,  34.3347,2,  34.3334,2,    189.0,2,    188.1,2,    39.64,2,    32.53,2,     0.00,2,     2.26,2, -999.000,9, -999.000,9, -999.000,9, -999.000,9, -999.000,9,-999.0000,9,  -999.00,9,   -999.0,9,   -999.0,9,   -999.0,9,   1066.0,2,   -999.0,9,     7.60,2,   20.00,  -999.0,-999.0000,-999.000,   25.00,  -999.0,  3.7459,-999.000
    31DSCG94_2,  P18S,    58,  3,    314,   1016,2,19940315,1810,-40.5035,-102.9868, 3901,   1199.9,   3.5054,  34.3888,2,  34.3863,2,    169.0,2,    167.2,2,    51.58,2,    34.34,2,     0.00,2,     2.40,2, -999.000,9, -999.000,9, -999.000,9, -999.000,9, -999.000,9,-999.0000,9,  -999.00,9,   -999.0,9,   -999.0,9,   -999.0,9,   1171.4,2,   -999.0,9,     7.57,2,   20.00,  -999.0,-999.0000,-999.000,   25.00,  -999.0,  3.4176,-999.000
    31DSCG94_2,  P18S,    58,  3,    313,   1209,2,19940315,1810,-40.5035,-102.9868, 3901,   1393.5,   3.1231,  34.4894,2,  34.4873,2,    141.2,2,    137.6,2,    73.27,2,    36.21,2,     0.00,2,     2.59,2, -999.000,9, -999.000,9, -999.000,9, -999.000,9, -999.000,9,-999.0000,9,  -999.00,9,   -999.0,9,   -999.0,9,   -999.0,9,   1302.2,2,   -999.0,9,     7.53,2,   20.00,  -999.0,-999.0000,-999.000,   25.00,  -999.0,  3.0229,-999.000
    31DSCG94_2,  P18S,    58,  3,    312,   1033,2,19940315,1810,-40.5035,-102.9868, 3901,   1598.6,   2.7502,  34.5520,2,  34.5530,2,    139.6,2,    141.3,2,    85.13,2,    36.03,2,     0.00,2,     2.55,2, -999.000,9, -999.000,9, -999.000,9, -999.000,9, -999.000,9,-999.0000,9,  -999.00,9,   -999.0,9,   -999.0,9,   -999.0,9,   1260.2,2,   -999.0,9,     7.54,2,   20.00,  -999.0,-999.0000,-999.000,   25.00,  -999.0,  2.6372,-999.000
    31DSCG94_2,  P18S,    58,  3,    311,   1263,2,19940315,1810,-40.5035,-102.9868, 3901,   1801.7,   2.4694,  34.5929,2,  34.5925,2,    148.3,2,    148.4,2,    91.38,2,    35.29,2,     0.00,2,     2.47,2, -999.000,9, -999.000,9, -999.000,9, -999.000,9, -999.000,9,-999.0000,9,  -999.00,9,   -999.0,9,   -999.0,9,   -999.0,9,   1234.6,2,   -999.0,9,     7.55,2,   20.00,  -999.0,-999.0000,-999.000,   25.00,  -999.0,  2.3429,-999.000
    31DSCG94_2,  P18S,    58,  3,    310,   1005,2,19940315,1810,-40.5035,-102.9868, 3901,   1995.3,   2.2880,  34.6329,2,  34.6324,2,    158.9,2,    162.0,6,    92.30,2,    33.70,2,     0.00,2,     2.39,2, -999.000,9, -999.000,9, -999.000,9, -999.000,9, -999.000,9,-999.0000,9,  -999.00,9,   -999.0,9,   -999.0,9,   -999.0,9,   1166.6,2,   -999.0,9,     7.57,2,   20.00,  -999.0,-999.0000,-999.000,   25.00,  -999.0,  2.1475,-999.000
    31DSCG94_2,  P18S,    58,  3,    309,   1611,2,19940315,1810,-40.5035,-102.9868, 3901,   2247.9,   2.0680,  34.6724,2,  34.6722,2,    163.3,2,    165.2,2,   101.15,2,    33.20,2,     0.00,2,     2.37,2, -999.000,9, -999.000,9, -999.000,9, -999.000,9, -999.000,9,-999.0000,9,  -999.00,9,   -999.0,9,   -999.0,9,   -999.0,9,   1141.6,2,   -999.0,9,     7.58,2,   20.00,  -999.0,-999.0000,-999.000,   25.00,  -999.0,  1.9090,-999.000
    31DSCG94_2,  P18S,    58,  3,    308,   1218,2,19940315,1810,-40.5035,-102.9868, 3901,   2501.8,   1.8784,  34.6881,2,  34.6866,2,    165.3,2,    167.1,6,   108.19,2,    33.23,2,     0.00,2,     2.39,2, -999.000,9, -999.000,9, -999.000,9, -999.000,9, -999.000,9,-999.0000,9,  -999.00,9,   -999.0,9,   -999.0,9,   -999.0,9,   1137.4,2,   -999.0,9,     7.59,2,   20.00,  -999.0,-999.0000,-999.000,   25.00,  -999.0,  1.7001,-999.000
    31DSCG94_2,  P18S,    58,  3,    307,   1257,2,19940315,1810,-40.5035,-102.9868, 3901,   2749.6,   1.7975,  34.6929,2,  34.6917,2,    167.0,2,    168.5,6,   109.61,2,    33.21,2,     0.00,2,     2.39,2, -999.000,9, -999.000,9, -999.000,9, -999.000,9, -999.000,9,-999.0000,9,  -999.00,9,   -999.0,9,   -999.0,9,   -999.0,9,   1119.2,2,   -999.0,9,     7.59,2,   20.00,  -999.0,-999.0000,-999.000,   25.00,  -999.0,  1.5979,-999.000
    31DSCG94_2,  P18S,    58,  3,    306,   1224,2,19940315,1810,-40.5035,-102.9868, 3901,   3002.1,   1.7065,  34.6985,2,  34.6988,2,    171.5,2,    172.9,2,   112.40,2,    33.24,2,     0.00,2,     2.38,2, -999.000,9, -999.000,9, -999.000,9, -999.000,9, -999.000,9,-999.0000,9,  -999.00,9,   -999.0,9,   -999.0,9,   2285.7,2,   1113.3,2,   2380.0,2,     7.60,2,   20.00,  -999.0,-999.0000,-999.000,   25.00,  -999.0,  1.4848,-999.000
    31DSCG94_2,  P18S,    58,  3,    305,   1246,2,19940315,1810,-40.5035,-102.9868, 3901,   3232.4,   1.5806,  34.7029,2,  34.7021,2,    177.0,2,    178.1,2,   116.02,2,    32.98,2,     0.00,2,     2.33,2, -999.000,9, -999.000,9, -999.000,9, -999.000,9, -999.000,9,-999.0000,9,  -999.00,9,   -999.0,9,   -999.0,9,   -999.0,9,   1079.4,2,   -999.0,9,     7.60,2,   20.00,  -999.0,-999.0000,-999.000,   25.00,  -999.0,  1.3393,-999.000
    31DSCG94_2,  P18S,    58,  3,    304,   1217,2,19940315,1810,-40.5035,-102.9868, 3901,   3500.5,   1.3192,  34.7064,2,  34.7053,2,    185.5,2,    186.7,2,   122.62,2,    32.65,2,     0.00,2,     2.32,2, -999.000,9, -999.000,9, -999.000,9, -999.000,9, -999.000,9,-999.0000,9,  -999.00,9,   -999.0,9,   -999.0,9,   -999.0,9,   -999.0,9,   -999.0,9,     7.61,2, -999.00,  -999.0,-999.0000,-999.000,   25.00,  -999.0,  1.0574,-999.000
    31DSCG94_2,  P18S,    58,  3,    302,   1223,2,19940315,1810,-40.5035,-102.9868, 3901,   3747.6,   1.1862,  34.7078,2,  34.7059,2,    191.5,2,    191.0,2,   122.28,2,    32.69,2,     0.00,2,     2.33,2, -999.000,9, -999.000,9, -999.000,9, -999.000,9, -999.000,9,-999.0000,9,  -999.00,9,   -999.0,9,   -999.0,9,   -999.0,9,   1047.3,2,   -999.0,9,     7.61,2,   20.00,  -999.0,-999.0000,-999.000,   25.00,  -999.0,  0.9026,-999.000
    31DSCG94_2,  P18S,    58,  3,    303,   9999,2,19940315,1810,-40.5035,-102.9868, 3901,   3750.2,   1.1845,  34.7074,2,  34.7070,2,    191.6,2,    190.8,2,   122.95,2,    32.51,2,     0.00,2,     2.31,2, -999.000,9, -999.000,9, -999.000,9, -999.000,9, -999.000,9,-999.0000,9,  -999.00,9,   -999.0,9,   -999.0,9,   -999.0,9,   1060.9,2,   -999.0,9,     7.61,2,   20.00,  -999.0,-999.0000,-999.000,   25.00,  -999.0,  0.9006,-999.000
    31DSCG94_2,  P18S,    58,  3,    301,   1041,2,19940315,1810,-40.5035,-102.9868, 3901,   3969.7,   1.1268,  34.7083,2,  34.7073,2,    195.2,2,    196.0,2,   124.85,2,    32.69,2,     0.00,2,     2.31,2, -999.000,9, -999.000,9, -999.000,9, -999.000,9, -999.000,9,-999.0000,9,  -999.00,9,   -999.0,9,   -999.0,9,   -999.0,9,   1052.3,2,   -999.0,9,     7.62,2,   20.00,  -999.0,-999.0000,-999.000,   25.00,  -999.0,  0.8215,-999.000