BOTTLE,20220630CCHSIOAMB
EXPOCODE,SECT_ID,STNNBR,CASTNO,SAMPNO,BTLNBR,BTLNBR_FLAG_W,DATE,TIME,LATITUDE,LONGITUDE,DEPTH,CTDPRS,CTDTMP,CTDSAL,CTDSAL_FLAG_W,SALNTY,SALNTY_FLAG_W,CTDOXY,CTDOXY_FLAG_W,OXYGEN,OXYGEN_FLAG_W,SILCAT,SILCAT_FLAG_W,NITRAT,NITRAT_FLAG_W,NITRIT,NITRIT_FLAG_W,PHSPHT,PHSPHT_FLAG_W,CFC-11,CFC-11_FLAG_W,CFC-12,CFC-12_FLAG_W,CFC113,CFC113_FLAG_W,CCL4,CCL4_FLAG_W,TRITUM,TRITUM_FLAG_W,HELIUM,HELIUM_FLAG_W,DELHE3,DELHE3_FLAG_W,DELC14,DELC14_FLAG_W,DELC13,DELC13_FLAG_W,TCARBN,TCARBN_FLAG_W,PCO2,PCO2_FLAG_W,ALKALI,ALKALI_FLAG_W,PH,PH_FLAG_W,PCO2TMP,C14ERR,HELIER,DELHER,PH_TMP,C13ERR,THETA,TRITER
,,,,,,,,,,,,DBAR,ITS-90,PSS-78,,PSS-78,,UMOL/KG,,UMOL/KG,,UMOL/KG,,UMOL/KG,,UMOL/KG,,UMOL/KG,,PMOL/KG,,PMOL/KG,,PMOL/KG,,PMOL/KG,,TU,,NMOL/KG,,PERCNT,,/MILLE,,/MILLE,,UMOL/KG,,UATM,,UMOL/KG,,,,DEG C,/MILLE,NMOL/KG,PERCNT,DEG C,/MILLE,DEG C,TU
    31DSCG94_2,  P18S,    76,  1,    136,   1025,2,19940320,0153,-31.4917,-103.0000, 3529,     10.3,  22.8070,  35.4121,2,  35.4126,2,    213.5,2,    215.5,2,     1.06,2,     0.07,2,     0.01,2,     0.10,2,    2.064,2,    1.137,2, -999.000,9, -999.000,9, -999.000,9,-999.0000,9,  -999.00,9,   -999.0,9,   -999.0,9,   2019.9,2,    324.8,2,   2327.0,6,     8.05,2,   20.00,  -999.0,-999.0000,-999.000,   25.00,  -999.0, 22.8049,-999.000
    31DSCG94_2,  P18S,    76,  1,    135,   1247,2,19940320,0153,-31.4917,-103.0000, 3529,     24.1,  22.8086,  35.4114,2,  35.4134,2,    217.4,2,    215.4,2,     1.05,2,     0.03,2,     0.00,2,     0.10,2,    2.072,2,    1.117,2, -999.000,9, -999.000,9, -999.000,9,-999.0000,9,  -999.00,9,   -999.0,9,   -999.0,9,   2020.0,2,    322.6,2,   2322.0,2,     8.05,2,   20.00,  -999.0,-999.0000,-999.000,   25.00,  -999.0, 22.8037,-999.000
    31DSCG94_2,  P18S,    76,  1,    134,   1108,3,19940320,0153,-31.4917,-103.0000, 3529,     48.7,  21.4895,  35.3266,2,-999.0000,5,    217.9,2,   -999.0,9,     0.90,2,     0.00,2,     0.00,2,     0.09,2, -999.000,9, -999.000,9, -999.000,9, -999.000,9, -999.000,9,-999.0000,9,  -999.00,9,   -999.0,9,   -999.0,9,   -999.0,9,   -999.0,9,   -999.0,9,  -999.00,9, -999.00,  -999.0,-999.0000,-999.000, -999.00,  -999.0, 21.4801,-999.000
    31DSCG94_2,  P18S,    76,  1,    133,   1244,2,19940320,0153,-31.4917,-103.0000, 3529,     99.0,  18.5187,  35.1355,2,  35.1489,2,    236.1,2,    239.7,2,     0.95,2,     0.00,2,     0.00,2,     0.09,2, -999.000,9, -999.000,9, -999.000,9, -999.000,9, -999.000,9,-999.0000,9,  -999.00,9,   -999.0,9,   -999.0,9,   2017.1,2,    333.3,2,   2310.0,2,     8.03,2,   20.00,  -999.0,-999.0000,-999.000,   25.00,  -999.0, 18.5013,-999.000
    31DSCG94_2,  P18S,    76,  1,    132,   1003,2,19940320,0153,-31.4917,-103.0000, 3529,    152.0,  17.2181,  34.9632,2,  34.9643,2,    232.9,2,    238.6,2,  -999.00,9,  -999.00,9,  -999.00,9,  -999.00,9,    2.635,2,    1.417,2, -999.000,9, -999.000,9, -999.000,9,-999.0000,9,  -999.00,9,   -999.0,9,   -999.0,9,   2020.9,2,    355.1,2,   2293.0,2,     8.01,2,   20.00,  -999.0,-999.0000,-999.000,   25.00,  -999.0, 17.1928,-999.000
    31DSCG94_2,  P18S,    76,  1,    131,   1211,2,19940320,0153,-31.4917,-103.0000, 3529,    202.1,  16.2625,  34.8804,2,  34.8856,2,    224.2,2,    226.0,2,     0.91,2,     0.31,2,     0.05,2,     0.19,2, -999.000,9, -999.000,9, -999.000,9, -999.000,9, -999.000,9,-999.0000,9,  -999.00,9,   -999.0,9,   -999.0,9,   2037.0,2,    387.5,2,   -999.0,5,     7.98,2,   20.00,  -999.0,-999.0000,-999.000,   25.00,  -999.0, 16.2302,-999.000
    31DSCG94_2,  P18S,    76,  1,    130,   1241,2,19940320,0153,-31.4917,-103.0000, 3529,    246.4,  14.6279,  34.8301,2,  34.8240,2,    211.6,2,    210.0,2,     1.35,2,     4.64,2,     0.00,2,     0.50,2,    2.472,2,    1.235,2, -999.000,9, -999.000,9, -999.000,9,-999.0000,9,  -999.00,9,   -999.0,9,   -999.0,9,   2066.9,2,    466.1,2,   2289.0,2,     7.91,2,   20.00,  -999.0,-999.0000,-999.000,   25.00,  -999.0, 14.5912,-999.000
    31DSCG94_2,  P18S,    76,  1,    129,   1031,2,19940320,0153,-31.4917,-103.0000, 3529,    297.6,  12.1787,  34.5690,2,  34.5694,2,    207.3,2,    206.9,2,     1.97,2,     9.81,2,     0.00,2,     0.85,2, -999.000,9, -999.000,9, -999.000,9, -999.000,9, -999.000,9,-999.0000,9,  -999.00,9,   -999.0,9,   -999.0,9,   2088.1,2,    541.4,2,   2279.0,2,     7.84,2,   20.00,  -999.0,-999.0000,-999.000,   25.00,  -999.0, 12.1395,-999.000
    31DSCG94_2,  P18S,    76,  1,    128,   1210,3,19940320,0153,-31.4917,-103.0000, 3529,    350.8,   9.5791,  34.3850,2,  34.3884,2,    205.3,2,    205.3,2,     3.97,2,    16.65,2,     0.00,2,     1.27,2,    2.075,2,    1.016,2, -999.000,9, -999.000,9, -999.000,9,-999.0000,9,  -999.00,9,   -999.0,9,   -999.0,9,   2119.6,2,    682.0,2,   -999.0,5,     7.77,2,   20.00,  -999.0,-999.0000,-999.000,   25.00,  -999.0,  9.5395,-999.000
    31DSCG94_2,  P18S,    76,  1,    127,   1008,2,19940320,0153,-31.4917,-103.0000, 3529,    401.3,   8.2612,  34.3447,2,  34.3431,2,    205.5,2,    204.3,2,     6.03,2,    20.73,2,     0.00,2,     1.49,2, -999.000,9, -999.000,9, -999.000,9, -999.000,9, -999.000,9,-999.0000,9,  -999.00,9,   -999.0,9,   -999.0,9,   2137.3,2,    752.7,2,   2267.0,2,     7.72,2,   20.00,  -999.0,-999.0000,-999.000,   25.00,  -999.0,  8.2197,-999.000
    31DSCG94_2,  P18S,    76,  1,    126,   1007,2,19940320,0153,-31.4917,-103.0000, 3529,    496.6,   6.6596,  34.3259,2,  34.3260,2,    212.3,2,    224.0,2,     8.30,2,    23.55,2,     0.00,2,     1.62,2,    1.641,2,    0.794,2, -999.000,9, -999.000,9, -999.000,9,-999.0000,9,  -999.00,9,   -999.0,9,   -999.0,9,   2145.2,2,    793.9,2,   2269.0,2,     7.71,2,   20.00,  -999.0,-999.0000,-999.000,   25.00,  -999.0,  6.6139,-999.000
    31DSCG94_2,  P18S,    76,  1,    125,   1203,2,19940320,0153,-31.4917,-103.0000, 3529,    602.0,   6.0286,  34.3063,2,  34.3075,2,    228.1,2,    229.0,2,    10.30,2,    25.21,2,     0.00,2,     1.72,2,    1.124,2,    0.559,2, -999.000,9, -999.000,9, -999.000,9,-999.0000,9,  -999.00,9,   -999.0,9,   -999.0,9,   2148.4,2,    808.2,6,   2277.0,2,     7.70,2,   20.00,  -999.0,-999.0000,-999.000,   25.00,  -999.0,  5.9756,-999.000
    31DSCG94_2,  P18S,    76,  1,    123,   1101,2,19940320,0153,-31.4917,-103.0000, 3529,    703.7,   5.5252,  34.2821,2,  34.2825,2,    229.3,2,    231.5,2,    12.14,2,    25.71,2,     0.00,2,     1.80,2,    0.833,2,    0.438,2, -999.000,9, -999.000,9, -999.000,9,-999.0000,9,  -999.00,9,   -999.0,9,   -999.0,9,   2151.5,2,    818.7,2,   2276.0,2,     7.70,2,   20.00,  -999.0,-999.0000,-999.000,   25.00,  -999.0,  5.4655,-999.000
    31DSCG94_2,  P18S,    76,  1,    121,   1206,2,19940320,0153,-31.4917,-103.0000, 3529,    801.7,   5.0450,  34.2673,2,  34.2670,2,    227.6,2,    225.7,2,    16.04,2,    27.69,2,     0.00,2,     1.91,2, -999.000,9, -999.000,9, -999.000,9, -999.000,9, -999.000,9,-999.0000,9,  -999.00,9,   -999.0,9,   -999.0,9,   2160.6,2,    859.4,2,   2278.0,2,     7.68,2,   20.00,  -999.0,-999.0000,-999.000,   25.00,  -999.0,  4.9794,-999.000
    31DSCG94_2,  P18S,    76,  1,    119,   1248,2,19940320,0153,-31.4917,-103.0000, 3529,    896.0,   4.5973,  34.2759,2,  34.2764,2,    214.2,2,    212.1,2,    24.51,2,    29.56,2,     0.04,2,     2.04,2,    0.269,2,    0.151,2, -999.000,9, -999.000,9, -999.000,9,-999.0000,9,  -999.00,9,   -999.0,9,   -999.0,9,   2176.3,2,    922.7,2,   2289.0,2,     7.65,2,   20.00,  -999.0,-999.0000,-999.000,   25.00,  -999.0,  4.5264,-999.000
    31DSCG94_2,  P18S,    76,  1,    118,   1207,2,19940320,0153,-31.4917,-103.0000, 3529,   1002.5,   4.1374,  34.3287,2,  34.3290,2,    193.3,2,    177.7,2,    38.50,2,    32.54,2,     0.02,2,     2.29,2, -999.000,9, -999.000,9, -999.000,9, -999.000,9, -999.000,9,-999.0000,9,  -999.00,9,   -999.0,9,   -999.0,9,   2210.2,2,   1133.7,3,   2296.0,2,     7.59,2,   20.00,  -999.0,-999.0000,-999.000,   25.00,  -999.0,  4.0608,-999.000
    31DSCG94_2,  P18S,    76,  1,    117,   1119,2,19940320,0153,-31.4917,-103.0000, 3529,   1102.1,   3.8649,  34.3857,2,  34.3288,4,    156.9,2,    152.7,2,    51.16,2,    35.45,2,     0.03,2,     2.47,2,    0.009,2,    0.009,2, -999.000,9, -999.000,9, -999.000,9,-999.0000,9,  -999.00,9,   -999.0,9,   -999.0,9,   2236.9,2,   1214.0,2,   2309.0,6,     7.55,2,   20.00,  -999.0,-999.0000,-999.000,   25.00,  -999.0,  3.7820,-999.000
    31DSCG94_2,  P18S,    76,  1,    115,   1017,2,19940320,0153,-31.4917,-103.0000, 3529,   1201.3,   3.6547,  34.4440,2,  34.4429,2,    137.0,2,    133.2,2,    63.70,2,    36.80,2,     0.00,2,     2.62,2, -999.000,9, -999.000,9, -999.000,9, -999.000,9, -999.000,9,-999.0000,9,  -999.00,9,   -999.0,9,   -999.0,9,   -999.0,9,   -999.0,9,   -999.0,9,     7.52,2, -999.00,  -999.0,-999.0000,-999.000,   25.00,  -999.0,  3.5653,-999.000
    31DSCG94_2,  P18S,    76,  1,    116,   1036,2,19940320,0153,-31.4917,-103.0000, 3529,   1201.6,   3.6548,  34.4441,2,  34.4446,2,    137.0,2,    133.4,2,    64.13,2,    37.26,2,     0.00,2,     2.61,2, -999.000,9, -999.000,9, -999.000,9, -999.000,9, -999.000,9,-999.0000,9,  -999.00,9,   -999.0,9,   -999.0,9,   -999.0,9,   -999.0,9,   -999.0,9,  -999.00,9, -999.00,  -999.0,-999.0000,-999.000, -999.00,  -999.0,  3.5654,-999.000
    31DSCG94_2,  P18S,    76,  1,    114,   1016,2,19940320,0153,-31.4917,-103.0000, 3529,   1298.7,   3.3933,  34.4841,2,  34.4835,2,    128.7,2,    128.9,2,    74.13,2,    37.10,2,     0.04,2,     2.63,2, -999.000,9, -999.000,9, -999.000,9, -999.000,9, -999.000,9,-999.0000,9,  -999.00,9,   -999.0,9,   -999.0,9,   -999.0,9,   -999.0,9,   -999.0,9,  -999.00,9, -999.00,  -999.0,-999.0000,-999.000, -999.00,  -999.0,  3.2982,-999.000
    31DSCG94_2,  P18S,    76,  1,    113,   1209,2,19940320,0153,-31.4917,-103.0000, 3529,   1401.6,   3.1410,  34.5159,2,  34.5142,2,    131.4,2,    133.5,2,    81.93,2,    36.56,2,     0.00,2,     2.57,2, -999.000,9, -999.000,9, -999.000,9, -999.000,9, -999.000,9,-999.0000,9,  -999.00,9,   -999.0,9,   -999.0,9,   -999.0,9,   -999.0,9,   -999.0,9,     7.53,2, -999.00,  -999.0,-999.0000,-999.000,   25.00,  -999.0,  3.0399,-999.000
    31DSCG94_2,  P18S,    76,  1,    112,   1033,2,19940320,0153,-31.4917,-103.0000, 3529,   1500.1,   2.9056,  34.5394,2,  34.5391,2,    134.5,2,    138.4,2,    86.93,2,    36.17,2,     0.00,2,     2.55,2,    0.001,2,   -0.003,2, -999.000,9, -999.000,9, -999.000,9,-999.0000,9,  -999.00,9,   -999.0,9,   -999.0,9,   -999.0,9,   -999.0,9,   -999.0,9,  -999.00,9, -999.00,  -999.0,-999.0000,-999.000, -999.00,  -999.0,  2.7989,-999.000
    31DSCG94_2,  P18S,    76,  1,    111,   1263,2,19940320,0153,-31.4917,-103.0000, 3529,   1604.3,   2.6976,  34.5623,2,  34.5603,2,    140.1,2,    144.5,2,    90.79,2,    35.95,2,     0.00,2,     2.53,2, -999.000,9, -999.000,9, -999.000,9, -999.000,9, -999.000,9,-999.0000,9,  -999.00,9,   -999.0,9,   -999.0,9,   -999.0,9,   -999.0,9,   -999.0,9,     7.55,2, -999.00,  -999.0,-999.0000,-999.000,   25.00,  -999.0,  2.5847,-999.000
    31DSCG94_2,  P18S,    76,  1,    110,   1005,2,19940320,0153,-31.4917,-103.0000, 3529,   1697.3,   2.5291,  34.5819,2,  34.5807,2,    142.7,2,    148.4,2,    94.65,2,    35.65,2,     0.00,2,     2.51,2, -999.000,9, -999.000,9, -999.000,9, -999.000,9, -999.000,9,-999.0000,9,  -999.00,9,   -999.0,9,   -999.0,9,   -999.0,9,   -999.0,9,   -999.0,9,  -999.00,9, -999.00,  -999.0,-999.0000,-999.000, -999.00,  -999.0,  2.4106,-999.000
    31DSCG94_2,  P18S,    76,  1,    109,   1611,2,19940320,0153,-31.4917,-103.0000, 3529,   1801.4,   2.3707,  34.6021,2,  34.6007,2,    148.3,2,    151.7,2,    99.48,2,    35.82,2,     0.00,2,     2.46,2, -999.000,9, -999.000,9, -999.000,9, -999.000,9, -999.000,9,-999.0000,9,  -999.00,9,   -999.0,9,   -999.0,9,   -999.0,9,   -999.0,9,   -999.0,9,     7.56,2, -999.00,  -999.0,-999.0000,-999.000,   25.00,  -999.0,  2.2456,-999.000
    31DSCG94_2,  P18S,    76,  1,    108,   1218,2,19940320,0153,-31.4917,-103.0000, 3529,   1971.0,   2.1566,  34.6343,2,  34.6336,2,    152.1,2,    156.0,2,   106.33,2,    34.46,2,     0.00,2,     2.40,2,    0.000,2,    0.000,2, -999.000,9, -999.000,9, -999.000,9,-999.0000,9,  -999.00,9,   -999.0,9,   -999.0,9,   -999.0,9,   -999.0,9,   -999.0,9,  -999.00,9, -999.00,  -999.0,-999.0000,-999.000, -999.00,  -999.0,  2.0202,-999.000
    31DSCG94_2,  P18S,    76,  1,    107,   1257,2,19940320,0153,-31.4917,-103.0000, 3529,   2201.1,   1.9400,  34.6617,2,  34.6599,2,    156.8,2,    160.3,6,   113.26,2,    34.39,2,     0.00,2,     2.37,2, -999.000,9, -999.000,9, -999.000,9, -999.000,9, -999.000,9,-999.0000,9,  -999.00,9,   -999.0,9,   -999.0,9,   -999.0,9,   -999.0,9,   -999.0,9,  -999.00,9, -999.00,  -999.0,-999.0000,-999.000, -999.00,  -999.0,  1.7873,-999.000
    31DSCG94_2,  P18S,    76,  1,    106,   1224,2,19940320,0153,-31.4917,-103.0000, 3529,   2497.6,   1.8087,  34.6759,2,  34.6759,2,    159.2,2,    163.1,2,   116.79,2,    33.84,2,     0.00,2,     2.40,2, -999.000,9, -999.000,9, -999.000,9, -999.000,9, -999.000,9,-999.0000,9,  -999.00,9,   -999.0,9,   -999.0,9,   -999.0,9,   -999.0,9,   -999.0,9,  -999.00,9, -999.00,  -999.0,-999.0000,-999.000, -999.00,  -999.0,  1.6320,-999.000
    31DSCG94_2,  P18S,    76,  1,    105,   1246,2,19940320,0153,-31.4917,-103.0000, 3529,   2749.4,   1.7714,  34.6815,2,  34.6801,2,    162.3,2,    164.8,6,   118.56,2,    34.18,2,     0.00,2,     2.40,2, -999.000,9, -999.000,9, -999.000,9, -999.000,9, -999.000,9,-999.0000,9,  -999.00,9,   -999.0,9,   -999.0,9,   -999.0,9,   -999.0,9,   -999.0,9,  -999.00,9, -999.00,  -999.0,-999.0000,-999.000, -999.00,  -999.0,  1.5724,-999.000
    31DSCG94_2,  P18S,    76,  1,    104,   1217,2,19940320,0153,-31.4917,-103.0000, 3529,   2999.3,   1.7665,  34.6857,2,  34.6842,2,    163.9,2,    165.8,2,   119.92,2,    33.96,2,     0.00,2,     2.36,2, -999.000,9, -999.000,9, -999.000,9, -999.000,9, -999.000,9,-999.0000,9,  -999.00,9,   -999.0,9,   -999.0,9,   -999.0,9,   -999.0,9,   -999.0,9,  -999.00,9, -999.00,  -999.0,-999.0000,-999.000, -999.00,  -999.0,  1.5438,-999.000
    31DSCG94_2,  P18S,    76,  1,    103,   9999,2,19940320,0153,-31.4917,-103.0000, 3529,   3001.6,   1.7664,  34.6858,2,  34.6854,2,    164.0,2,    165.6,6,   120.91,2,    33.88,2,     0.00,2,     2.35,2, -999.000,9, -999.000,9, -999.000,9, -999.000,9, -999.000,9,-999.0000,9,  -999.00,9,   -999.0,9,   -999.0,9,   -999.0,9,   -999.0,9,   -999.0,9,  -999.00,9, -999.00,  -999.0,-999.0000,-999.000, -999.00,  -999.0,  1.5435,-999.000
    31DSCG94_2,  P18S,    76,  1,    102,   1223,2,19940320,0153,-31.4917,-103.0000, 3529,   3245.7,   1.7748,  34.6881,2,  34.6867,2,    165.1,2,    166.8,2,   119.95,2,    33.74,2,     0.00,2,     2.35,2, -999.000,9, -999.000,9, -999.000,9, -999.000,9, -999.000,9,-999.0000,9,  -999.00,9,   -999.0,9,   -999.0,9,   -999.0,9,   -999.0,9,   -999.0,9,  -999.00,9, -999.00,  -999.0,-999.0000,-999.000, -999.00,  -999.0,  1.5276,-999.000
    31DSCG94_2,  P18S,    76,  1,    101,   1041,2,19940320,0153,-31.4917,-103.0000, 3529,   3564.1,   1.7944,  34.6891,2,  34.6878,2,    165.6,2,    166.3,2,   118.64,2,    34.00,2,     0.00,2,     2.37,2, -999.000,9, -999.000,9, -999.000,9, -999.000,9, -999.000,9,-999.0000,9,  -999.00,9,   -999.0,9,   -999.0,9,   -999.0,9,   -999.0,9,   -999.0,9,  -999.00,9, -999.00,  -999.0,-999.0000,-999.000, -999.00,  -999.0,  1.5141,-999.000