BOTTLE,20220630CCHSIOAMB
EXPOCODE,SECT_ID,STNNBR,CASTNO,SAMPNO,BTLNBR,BTLNBR_FLAG_W,DATE,TIME,LATITUDE,LONGITUDE,DEPTH,CTDPRS,CTDTMP,CTDSAL,CTDSAL_FLAG_W,SALNTY,SALNTY_FLAG_W,CTDOXY,CTDOXY_FLAG_W,OXYGEN,OXYGEN_FLAG_W,SILCAT,SILCAT_FLAG_W,NITRAT,NITRAT_FLAG_W,NITRIT,NITRIT_FLAG_W,PHSPHT,PHSPHT_FLAG_W,CFC-11,CFC-11_FLAG_W,CFC-12,CFC-12_FLAG_W,CFC113,CFC113_FLAG_W,CCL4,CCL4_FLAG_W,TRITUM,TRITUM_FLAG_W,HELIUM,HELIUM_FLAG_W,DELHE3,DELHE3_FLAG_W,DELC14,DELC14_FLAG_W,DELC13,DELC13_FLAG_W,TCARBN,TCARBN_FLAG_W,PCO2,PCO2_FLAG_W,ALKALI,ALKALI_FLAG_W,PH,PH_FLAG_W,PCO2TMP,C14ERR,HELIER,DELHER,PH_TMP,C13ERR,THETA,TRITER
,,,,,,,,,,,,DBAR,ITS-90,PSS-78,,PSS-78,,UMOL/KG,,UMOL/KG,,UMOL/KG,,UMOL/KG,,UMOL/KG,,UMOL/KG,,PMOL/KG,,PMOL/KG,,PMOL/KG,,PMOL/KG,,TU,,NMOL/KG,,PERCNT,,/MILLE,,/MILLE,,UMOL/KG,,UATM,,UMOL/KG,,,,DEG C,/MILLE,NMOL/KG,PERCNT,DEG C,/MILLE,DEG C,TU
    31DSCG94_2,  P18S,    63,  1,    136,   1025,2,19940316,2252,-37.9977,-102.9982, 4141,     10.5,  18.8117,  33.9002,2,  33.9002,2,    234.0,2,    236.1,2,     0.41,2,     2.77,2,     0.02,2,     0.39,2,    2.569,2,    1.362,2, -999.000,9, -999.000,9, -999.000,9,-999.0000,9,  -999.00,9,   -999.0,9,      2.0,2,   2001.1,2,    391.1,2,   2251.0,6,     7.97,2,   20.00,  -999.0,-999.0000,-999.000,   25.00,  -999.0, 18.8098,-999.000
    31DSCG94_2,  P18S,    63,  1,    135,   1247,2,19940316,2252,-37.9977,-102.9982, 4141,     25.2,  18.7729,  33.9005,2,  33.9014,2,    240.4,2,    237.0,2,     0.34,2,     2.78,2,     0.01,2,     0.44,2,    2.556,2,    1.358,2, -999.000,9, -999.000,9, -999.000,9,-999.0000,9,  -999.00,9,   -999.0,9,   -999.0,9,   -999.0,9,   -999.0,9,   -999.0,9,     7.97,2, -999.00,  -999.0,-999.0000,-999.000,   25.00,  -999.0, 18.7685,-999.000
    31DSCG94_2,  P18S,    63,  1,    134,   1108,2,19940316,2252,-37.9977,-102.9982, 4141,     51.1,  15.5637,  33.9165,2,  33.9176,2,    254.6,2,    270.7,2,     0.43,2,     2.78,2,     0.02,2,     0.43,2,    3.127,2,    1.585,2, -999.000,9, -999.000,9, -999.000,9,-999.0000,9,  -999.00,9,   -999.0,9,   -999.0,9,   -999.0,9,    394.9,2,   -999.0,9,     7.97,2,   20.00,  -999.0,-999.0000,-999.000,   25.00,  -999.0, 15.5558,-999.000
    31DSCG94_2,  P18S,    63,  1,    133,   1244,2,19940316,2252,-37.9977,-102.9982, 4141,     76.4,  13.8390,  33.9239,2,  33.9249,2,    270.9,2,    271.1,2,     0.62,2,     3.45,2,     0.05,2,     0.49,2,    3.391,2,    1.773,2, -999.000,9, -999.000,9, -999.000,9,-999.0000,9,  -999.00,9,   -999.0,9,   -999.0,9,   -999.0,9,   -999.0,9,   -999.0,9,     7.95,2, -999.00,  -999.0,-999.0000,-999.000,   25.00,  -999.0, 13.8282,-999.000
    31DSCG94_2,  P18S,    63,  1,    132,   1003,2,19940316,2252,-37.9977,-102.9982, 4141,     99.3,  12.3977,  33.9323,2,  33.9317,2,    263.0,2,    265.9,2,     0.62,2,     5.76,2,     0.19,2,     0.61,2,    3.395,2,    1.710,2, -999.000,9, -999.000,9, -999.000,9,-999.0000,9,  -999.00,9,   -999.0,9,   -999.0,9,   -999.0,9,    460.5,2,   -999.0,9,     7.92,2,   20.00,  -999.0,-999.0000,-999.000,   25.00,  -999.0, 12.3847,-999.000
    31DSCG94_2,  P18S,    63,  1,    131,   1211,2,19940316,2252,-37.9977,-102.9982, 4141,    124.5,  11.7591,  34.0228,2,  34.0169,2,    253.8,2,    256.4,2,     0.98,2,     7.58,2,     0.48,2,     0.77,2, -999.000,5, -999.000,5, -999.000,9, -999.000,9, -999.000,9,-999.0000,9,  -999.00,9,   -999.0,9,   -999.0,9,   -999.0,9,   -999.0,9,   -999.0,9,     7.89,2, -999.00,  -999.0,-999.0000,-999.000,   25.00,  -999.0, 11.7433,-999.000
    31DSCG94_2,  P18S,    63,  1,    130,   1241,2,19940316,2252,-37.9977,-102.9982, 4141,    147.6,  11.1021,  34.1455,2,  34.1434,2,    246.5,2,    245.2,2,     1.02,2,    10.30,2,     0.50,2,     0.93,2,    3.429,2,    1.676,2, -999.000,9, -999.000,9, -999.000,9,-999.0000,9,  -999.00,9,   -999.0,9,   -999.0,9,   -999.0,9,    541.8,2,   -999.0,9,  -999.00,9,   20.00,  -999.0,-999.0000,-999.000, -999.00,  -999.0, 11.0840,-999.000
    31DSCG94_2,  P18S,    63,  1,    129,   1031,2,19940316,2252,-37.9977,-102.9982, 4141,    198.3,   9.5740,  34.2554,2,  34.2553,2,    237.8,2,    232.7,2,     2.07,2,    15.51,2,     0.00,2,     1.20,2,    3.155,2,    1.537,2, -999.000,9, -999.000,9, -999.000,9,-999.0000,9,  -999.00,9,   -999.0,9,   -999.0,9,   -999.0,9,   -999.0,9,   -999.0,9,  -999.00,9, -999.00,  -999.0,-999.0000,-999.000, -999.00,  -999.0,  9.5518,-999.000
    31DSCG94_2,  P18S,    63,  1,    128,   1210,2,19940316,2252,-37.9977,-102.9982, 4141,    246.9,   8.5017,  34.3053,2,  34.3083,2,    236.5,2,    233.1,2,     3.17,2,    17.77,2,     0.00,2,     1.30,2,    2.816,2,    1.353,2, -999.000,9, -999.000,9, -999.000,9,-999.0000,9,  -999.00,9,   -999.0,9,   -999.0,9,   -999.0,9,    682.1,2,   -999.0,9,  -999.00,9,   20.00,  -999.0,-999.0000,-999.000, -999.00,  -999.0,  8.4759,-999.000
    31DSCG94_2,  P18S,    63,  1,    127,   1008,2,19940316,2252,-37.9977,-102.9982, 4141,    300.7,   7.6317,  34.3335,2,  34.3333,2,    238.8,2,    235.6,2,     4.73,2,    19.83,2,     0.00,2,     1.43,2,    2.501,2,    1.204,2, -999.000,9, -999.000,9, -999.000,9,-999.0000,9,  -999.00,9,   -999.0,9,   -999.0,9,   -999.0,9,   -999.0,9,   -999.0,9,  -999.00,9, -999.00,  -999.0,-999.0000,-999.000, -999.00,  -999.0,  7.6022,-999.000
    31DSCG94_2,  P18S,    63,  1,    126,   1007,2,19940316,2252,-37.9977,-102.9982, 4141,    349.4,   7.0884,  34.3443,2,  34.3439,2,    241.7,2,    239.8,2,     6.18,2,    20.95,2,     0.00,2,     1.56,2,    2.257,2,    1.084,2, -999.000,9, -999.000,9, -999.000,9,-999.0000,9,  -999.00,9,   -999.0,9,   -999.0,9,   -999.0,9,   -999.0,9,   -999.0,9,  -999.00,9, -999.00,  -999.0,-999.0000,-999.000, -999.00,  -999.0,  7.0554,-999.000
    31DSCG94_2,  P18S,    63,  1,    125,   1203,2,19940316,2252,-37.9977,-102.9982, 4141,    396.8,   6.7636,  34.3431,2,  34.3425,2,    247.6,2,    246.6,2,     6.93,2,    21.20,2,     0.00,2,     1.58,2,    2.345,2,    1.155,2, -999.000,9, -999.000,9, -999.000,9,-999.0000,9,  -999.00,9,   -999.0,9,   -999.0,9,   -999.0,9,   -999.0,9,   -999.0,9,  -999.00,9, -999.00,  -999.0,-999.0000,-999.000, -999.00,  -999.0,  6.7270,-999.000
    31DSCG94_2,  P18S,    63,  1,    123,   1101,2,19940316,2252,-37.9977,-102.9982, 4141,    499.2,   6.3308,  34.3276,2,  34.3261,2,    250.1,2,    250.3,2,     8.08,2,    22.15,2,     0.00,2,     1.58,2,    1.973,2,    0.954,2, -999.000,9, -999.000,9, -999.000,9,-999.0000,9,  -999.00,9,   -999.0,9,   -999.0,9,   -999.0,9,    733.7,2,   -999.0,9,  -999.00,9,   20.00,  -999.0,-999.0000,-999.000, -999.00,  -999.0,  6.2860,-999.000
    31DSCG94_2,  P18S,    63,  1,    121,   1206,2,19940316,2252,-37.9977,-102.9982, 4141,    597.8,   5.9448,  34.3031,2,  34.3024,2,    250.8,2,    250.4,2,     9.52,2,    22.99,2,     0.00,2,     1.63,2,    1.621,2,    0.785,2, -999.000,9, -999.000,9, -999.000,9,-999.0000,9,  -999.00,9,   -999.0,9,   -999.0,9,   -999.0,9,   -999.0,9,   -999.0,9,  -999.00,9, -999.00,  -999.0,-999.0000,-999.000, -999.00,  -999.0,  5.8926,-999.000
    31DSCG94_2,  P18S,    63,  1,    119,   1248,2,19940316,2252,-37.9977,-102.9982, 4141,    697.7,   5.5294,  34.2792,2,  34.2788,2,    246.8,2,    247.2,2,    11.64,2,    24.48,2,     0.00,2,     1.75,2,    1.259,2,    0.632,2, -999.000,9, -999.000,9, -999.000,9,-999.0000,9,  -999.00,9,   -999.0,9,   -999.0,9,   -999.0,9,    773.8,2,   -999.0,9,  -999.00,9,   20.00,  -999.0,-999.0000,-999.000, -999.00,  -999.0,  5.4702,-999.000
    31DSCG94_2,  P18S,    63,  1,    118,   1207,2,19940316,2252,-37.9977,-102.9982, 4141,    795.8,   5.0936,  34.2678,2,  34.2670,2,    236.0,2,    234.1,2,    15.69,2,    26.60,2,     0.00,2,     1.89,2,    0.706,6,    0.369,6, -999.000,9, -999.000,9, -999.000,9,-999.0000,9,  -999.00,9,   -999.0,9,   -999.0,9,   -999.0,9,   -999.0,9,   -999.0,9,  -999.00,9, -999.00,  -999.0,-999.0000,-999.000, -999.00,  -999.0,  5.0282,-999.000
    31DSCG94_2,  P18S,    63,  1,    117,   1119,2,19940316,2252,-37.9977,-102.9982, 4141,    898.1,   4.6849,  34.2774,2,  34.2769,2,    218.6,2,    215.7,2,    22.01,2,    29.06,2,     0.00,2,     2.03,2,    0.367,2,    0.191,2, -999.000,9, -999.000,9, -999.000,9,-999.0000,9,  -999.00,9,   -999.0,9,   -999.0,9,   -999.0,9,   -999.0,9,   -999.0,9,  -999.00,9, -999.00,  -999.0,-999.0000,-999.000, -999.00,  -999.0,  4.6132,-999.000
    31DSCG94_2,  P18S,    63,  1,    116,   1036,2,19940316,2252,-37.9977,-102.9982, 4141,    999.5,   4.2348,  34.3040,2,  34.3033,2,    200.5,2,    197.4,2,    31.34,2,    31.17,2,     0.00,2,     2.16,2,    0.133,6,    0.080,6, -999.000,9, -999.000,9, -999.000,9,-999.0000,9,  -999.00,9,   -999.0,9,   -999.0,9,   -999.0,9,   1001.4,2,   -999.0,9,  -999.00,9,   20.00,  -999.0,-999.0000,-999.000, -999.00,  -999.0,  4.1577,-999.000
    31DSCG94_2,  P18S,    63,  1,    115,   1017,2,19940316,2252,-37.9977,-102.9982, 4141,   1200.3,   3.5773,  34.3907,2,  34.3892,2,    164.4,2,    161.9,2,    52.31,2,    35.04,2,     0.00,2,     2.49,2,    0.009,2,    0.003,2, -999.000,9, -999.000,9, -999.000,9,-999.0000,9,  -999.00,9,   -999.0,9,   -999.0,9,   -999.0,9,   -999.0,9,   -999.0,9,  -999.00,9, -999.00,  -999.0,-999.0000,-999.000, -999.00,  -999.0,  3.4888,-999.000
    31DSCG94_2,  P18S,    63,  1,    114,   1016,2,19940316,2252,-37.9977,-102.9982, 4141,   1394.8,   3.2001,  34.4895,2,  34.4884,2,    137.4,2,    135.2,2,    73.84,2,    36.92,2,     0.00,2,     2.67,2, -999.000,5, -999.000,5, -999.000,9, -999.000,9, -999.000,9,-999.0000,9,  -999.00,9,   -999.0,9,   -999.0,9,   -999.0,9,   -999.0,9,   -999.0,9,  -999.00,9, -999.00,  -999.0,-999.0000,-999.000, -999.00,  -999.0,  3.0990,-999.000
    31DSCG94_2,  P18S,    63,  1,    113,   1209,2,19940316,2252,-37.9977,-102.9982, 4141,   1595.7,   2.8482,  34.5482,2,  34.5467,2,    133.9,2,    134.2,2,    87.58,2,    36.62,2,     0.00,2,     2.62,2,   -0.003,2,    0.000,2, -999.000,9, -999.000,9, -999.000,9,-999.0000,9,  -999.00,9,   -999.0,9,   -999.0,9,   -999.0,9,   -999.0,9,   -999.0,9,  -999.00,9, -999.00,  -999.0,-999.0000,-999.000, -999.00,  -999.0,  2.7342,-999.000
    31DSCG94_2,  P18S,    63,  1,    112,   1033,2,19940316,2252,-37.9977,-102.9982, 4141,   1797.8,   2.5146,  34.5865,2,  34.5849,2,    147.0,2,    148.3,2,    94.50,2,    35.58,2,     0.00,2,     2.52,2,   -0.002,2,   -0.003,2, -999.000,9, -999.000,9, -999.000,9,-999.0000,9,  -999.00,9,   -999.0,9,   -999.0,9,   -999.0,9,   -999.0,9,   -999.0,9,  -999.00,9, -999.00,  -999.0,-999.0000,-999.000, -999.00,  -999.0,  2.3878,-999.000
    31DSCG94_2,  P18S,    63,  1,    111,   1263,2,19940316,2252,-37.9977,-102.9982, 4141,   1994.7,   2.2565,  34.6249,2,  34.6236,2,    155.4,2,    157.2,2,   100.52,2,    34.20,2,     0.00,2,     2.49,2,    0.042,4,    0.002,2, -999.000,9, -999.000,9, -999.000,9,-999.0000,9,  -999.00,9,   -999.0,9,   -999.0,9,   -999.0,9,   -999.0,9,   -999.0,9,  -999.00,9, -999.00,  -999.0,-999.0000,-999.000, -999.00,  -999.0,  2.1166,-999.000
    31DSCG94_2,  P18S,    63,  1,    110,   1005,2,19940316,2252,-37.9977,-102.9982, 4141,   2247.8,   2.0078,  34.6644,2,  34.6627,2,    161.5,2,   -999.0,9,   107.35,2,    33.95,2,     0.00,2,     2.46,2,    0.001,2,    0.001,2, -999.000,9, -999.000,9, -999.000,9,-999.0000,9,  -999.00,9,   -999.0,9,   -999.0,9,   -999.0,9,   -999.0,9,   -999.0,9,  -999.00,9, -999.00,  -999.0,-999.0000,-999.000, -999.00,  -999.0,  1.8499,-999.000
    31DSCG94_2,  P18S,    63,  1,    109,   1611,3,19940316,2252,-37.9977,-102.9982, 4141,   2498.5,   1.8659,  34.6796,2,  34.6777,2,    163.5,2,    165.1,2,   111.85,2,    33.85,2,     0.00,2,     2.44,2, -999.000,9, -999.000,9, -999.000,9, -999.000,9, -999.000,9,-999.0000,9,  -999.00,9,   -999.0,9,   -999.0,9,   -999.0,9,   -999.0,9,   -999.0,9,  -999.00,9, -999.00,  -999.0,-999.0000,-999.000, -999.00,  -999.0,  1.6881,-999.000
    31DSCG94_2,  P18S,    63,  1,    108,   1218,2,19940316,2252,-37.9977,-102.9982, 4141,   2748.5,   1.8073,  34.6858,2,  34.6850,2,    166.7,2,    166.4,2,   115.30,2,    33.70,2,     0.00,2,     2.42,2,   -0.006,2,    0.000,2, -999.000,9, -999.000,9, -999.000,9,-999.0000,9,  -999.00,9,   -999.0,9,   -999.0,9,   -999.0,9,   -999.0,9,   -999.0,9,  -999.00,9, -999.00,  -999.0,-999.0000,-999.000, -999.00,  -999.0,  1.6076,-999.000
    31DSCG94_2,  P18S,    63,  1,    107,   1257,2,19940316,2252,-37.9977,-102.9982, 4141,   2995.5,   1.7623,  34.6908,2,  34.6892,2,    169.8,2,    169.1,6,   117.40,2,    33.47,2,     0.00,2,     2.40,2, -999.000,9, -999.000,9, -999.000,9, -999.000,9, -999.000,9,-999.0000,9,  -999.00,9,   -999.0,9,   -999.0,9,   -999.0,9,   -999.0,9,   -999.0,9,  -999.00,9, -999.00,  -999.0,-999.0000,-999.000, -999.00,  -999.0,  1.5400,-999.000
    31DSCG94_2,  P18S,    63,  1,    106,   1224,2,19940316,2252,-37.9977,-102.9982, 4141,   3243.6,   1.6670,  34.6964,2,  34.6951,2,    174.7,2,    173.4,2,   118.23,2,    33.24,2,     0.00,2,     2.43,2,   -0.007,2,   -0.003,2, -999.000,9, -999.000,9, -999.000,9,-999.0000,9,  -999.00,9,   -999.0,9,   -999.0,9,   -999.0,9,   -999.0,9,   -999.0,9,  -999.00,9, -999.00,  -999.0,-999.0000,-999.000, -999.00,  -999.0,  1.4225,-999.000
    31DSCG94_2,  P18S,    63,  1,    105,   1246,2,19940316,2252,-37.9977,-102.9982, 4141,   3497.6,   1.4430,  34.7038,2,  34.7019,2,    183.4,2,    182.2,6,   119.83,2,    32.90,2,     0.00,2,     2.39,2, -999.000,9, -999.000,9, -999.000,9, -999.000,9, -999.000,9,-999.0000,9,  -999.00,9,   -999.0,9,   -999.0,9,   -999.0,9,   -999.0,9,   -999.0,9,  -999.00,9, -999.00,  -999.0,-999.0000,-999.000, -999.00,  -999.0,  1.1783,-999.000
    31DSCG94_2,  P18S,    63,  1,    104,   1217,2,19940316,2252,-37.9977,-102.9982, 4141,   3746.6,   1.2254,  34.7072,2,  34.7060,2,    192.8,2,    189.5,2,   124.53,2,    32.87,2,     0.00,2,     2.33,2,   -0.002,2,    0.001,2, -999.000,9, -999.000,9, -999.000,9,-999.0000,9,  -999.00,9,   -999.0,9,   -999.0,9,   -999.0,9,   -999.0,9,   -999.0,9,  -999.00,9, -999.00,  -999.0,-999.0000,-999.000, -999.00,  -999.0,  0.9408,-999.000
    31DSCG94_2,  P18S,    63,  1,    103,   9999,2,19940316,2252,-37.9977,-102.9982, 4141,   3998.2,   1.1480,  34.7081,2,  34.7072,2,    198.0,2,    192.9,6,   126.85,2,    32.73,2,     0.00,2,     2.31,2, -999.000,9, -999.000,9, -999.000,9, -999.000,9, -999.000,9,-999.0000,9,  -999.00,9,   -999.0,9,   -999.0,9,   -999.0,9,   -999.0,9,   -999.0,9,  -999.00,9, -999.00,  -999.0,-999.0000,-999.000, -999.00,  -999.0,  0.8390,-999.000
    31DSCG94_2,  P18S,    63,  1,    102,   1223,2,19940316,2252,-37.9977,-102.9982, 4141,   3999.3,   1.1482,  34.7079,2,  34.7061,2,    198.1,2,   -999.0,9,   126.11,2,    32.80,2,     0.00,2,     2.36,2,   -0.007,2,    0.000,2, -999.000,9, -999.000,9, -999.000,9,-999.0000,9,  -999.00,9,   -999.0,9,   -999.0,9,   -999.0,9,   -999.0,9,   -999.0,9,  -999.00,9, -999.00,  -999.0,-999.0000,-999.000, -999.00,  -999.0,  0.8391,-999.000
    31DSCG94_2,  P18S,    63,  1,    101,   1041,2,19940316,2252,-37.9977,-102.9982, 4141,   4192.1,   1.1555,  34.7078,2,  34.7065,2,    199.6,2,    193.4,2,   124.19,2,    33.00,2,     0.00,2,     2.33,2,   -0.005,2,    0.000,2, -999.000,9, -999.000,9, -999.000,9,-999.0000,9,  -999.00,9,   -999.0,9,   -999.0,9,   -999.0,9,   -999.0,9,   -999.0,9,  -999.00,9, -999.00,  -999.0,-999.0000,-999.000, -999.00,  -999.0,  0.8254,-999.000