BOTTLE,20220630CCHSIOAMB
EXPOCODE,SECT_ID,STNNBR,CASTNO,SAMPNO,BTLNBR,BTLNBR_FLAG_W,DATE,TIME,LATITUDE,LONGITUDE,DEPTH,CTDPRS,CTDTMP,CTDSAL,CTDSAL_FLAG_W,SALNTY,SALNTY_FLAG_W,CTDOXY,CTDOXY_FLAG_W,OXYGEN,OXYGEN_FLAG_W,SILCAT,SILCAT_FLAG_W,NITRAT,NITRAT_FLAG_W,NITRIT,NITRIT_FLAG_W,PHSPHT,PHSPHT_FLAG_W,CFC-11,CFC-11_FLAG_W,CFC-12,CFC-12_FLAG_W,CFC113,CFC113_FLAG_W,CCL4,CCL4_FLAG_W,TRITUM,TRITUM_FLAG_W,HELIUM,HELIUM_FLAG_W,DELHE3,DELHE3_FLAG_W,DELC14,DELC14_FLAG_W,DELC13,DELC13_FLAG_W,TCARBN,TCARBN_FLAG_W,PCO2,PCO2_FLAG_W,ALKALI,ALKALI_FLAG_W,PH,PH_FLAG_W,PCO2TMP,C14ERR,HELIER,DELHER,PH_TMP,C13ERR,THETA,TRITER
,,,,,,,,,,,,DBAR,ITS-90,PSS-78,,PSS-78,,UMOL/KG,,UMOL/KG,,UMOL/KG,,UMOL/KG,,UMOL/KG,,UMOL/KG,,PMOL/KG,,PMOL/KG,,PMOL/KG,,PMOL/KG,,TU,,NMOL/KG,,PERCNT,,/MILLE,,/MILLE,,UMOL/KG,,UATM,,UMOL/KG,,,,DEG C,/MILLE,NMOL/KG,PERCNT,DEG C,/MILLE,DEG C,TU
    31DSCG94_1,     x,     3,  1,    132,     -1,2,19940128,1302, 44.2000,-129.7167, 2795,   1147.7,   3.1827,  34.4525,2,  34.4547,2,     -7.7,3,   -999.0,9,  -999.00,9,  -999.00,9,  -999.00,9,  -999.00,9, -999.000,9, -999.000,9, -999.000,9, -999.000,9, -999.000,9,-999.0000,9,  -999.00,9,   -999.0,9,   -999.0,9,   -999.0,9,   -999.0,9,   -999.0,9,  -999.00,9, -999.00,  -999.0,-999.0000,-999.000, -999.00,  -999.0,  3.1019,-999.000
    31DSCG94_1,     x,     3,  1,    123,     -1,2,19940128,1302, 44.2000,-129.7167, 2795,   1148.2,   3.1817,  34.4528,2,  34.4500,2,     -7.7,3,   -999.0,9,  -999.00,9,  -999.00,9,  -999.00,9,  -999.00,9, -999.000,9, -999.000,9, -999.000,9, -999.000,9, -999.000,9,-999.0000,9,  -999.00,9,   -999.0,9,   -999.0,9,   -999.0,9,   -999.0,9,   -999.0,9,  -999.00,9, -999.00,  -999.0,-999.0000,-999.000, -999.00,  -999.0,  3.1009,-999.000
    31DSCG94_1,     x,     3,  1,    127,     -1,2,19940128,1302, 44.2000,-129.7167, 2795,   1148.4,   3.1827,  34.4529,2,  34.4507,2,     -7.7,3,   -999.0,9,  -999.00,9,  -999.00,9,  -999.00,9,  -999.00,9, -999.000,9, -999.000,9, -999.000,9, -999.000,9, -999.000,9,-999.0000,9,  -999.00,9,   -999.0,9,   -999.0,9,   -999.0,9,   -999.0,9,   -999.0,9,  -999.00,9, -999.00,  -999.0,-999.0000,-999.000, -999.00,  -999.0,  3.1019,-999.000
    31DSCG94_1,     x,     3,  1,    133,     -1,2,19940128,1302, 44.2000,-129.7167, 2795,   1148.5,   3.1811,  34.4530,2,  34.4491,2,     -7.7,3,   -999.0,9,  -999.00,9,  -999.00,9,  -999.00,9,  -999.00,9, -999.000,9, -999.000,9, -999.000,9, -999.000,9, -999.000,9,-999.0000,9,  -999.00,9,   -999.0,9,   -999.0,9,   -999.0,9,   -999.0,9,   -999.0,9,  -999.00,9, -999.00,  -999.0,-999.0000,-999.000, -999.00,  -999.0,  3.1003,-999.000
    31DSCG94_1,     x,     3,  1,    128,     -1,2,19940128,1302, 44.2000,-129.7167, 2795,   1148.6,   3.1812,  34.4531,2,-999.0000,5,     -7.7,3,   -999.0,9,  -999.00,9,  -999.00,9,  -999.00,9,  -999.00,9, -999.000,9, -999.000,9, -999.000,9, -999.000,9, -999.000,9,-999.0000,9,  -999.00,9,   -999.0,9,   -999.0,9,   -999.0,9,   -999.0,9,   -999.0,9,  -999.00,9, -999.00,  -999.0,-999.0000,-999.000, -999.00,  -999.0,  3.1004,-999.000
    31DSCG94_1,     x,     3,  1,    135,     -1,2,19940128,1302, 44.2000,-129.7167, 2795,   1149.0,   3.1841,  34.4521,2,  34.4505,2,     -7.7,3,   -999.0,9,  -999.00,9,  -999.00,9,  -999.00,9,  -999.00,9, -999.000,9, -999.000,9, -999.000,9, -999.000,9, -999.000,9,-999.0000,9,  -999.00,9,   -999.0,9,   -999.0,9,   -999.0,9,   -999.0,9,   -999.0,9,  -999.00,9, -999.00,  -999.0,-999.0000,-999.000, -999.00,  -999.0,  3.1032,-999.000
    31DSCG94_1,     x,     3,  1,    131,     -1,2,19940128,1302, 44.2000,-129.7167, 2795,   1149.0,   3.1808,  34.4525,2,  34.4444,3,     -7.7,3,   -999.0,9,  -999.00,9,  -999.00,9,  -999.00,9,  -999.00,9, -999.000,9, -999.000,9, -999.000,9, -999.000,9, -999.000,9,-999.0000,9,  -999.00,9,   -999.0,9,   -999.0,9,   -999.0,9,   -999.0,9,   -999.0,9,  -999.00,9, -999.00,  -999.0,-999.0000,-999.000, -999.00,  -999.0,  3.1000,-999.000
    31DSCG94_1,     x,     3,  1,    118,     -1,2,19940128,1302, 44.2000,-129.7167, 2795,   1149.1,   3.1754,  34.4532,2,  34.4522,2,     -7.7,3,   -999.0,9,  -999.00,9,  -999.00,9,  -999.00,9,  -999.00,9, -999.000,9, -999.000,9, -999.000,9, -999.000,9, -999.000,9,-999.0000,9,  -999.00,9,   -999.0,9,   -999.0,9,   -999.0,9,   -999.0,9,   -999.0,9,  -999.00,9, -999.00,  -999.0,-999.0000,-999.000, -999.00,  -999.0,  3.0946,-999.000
    31DSCG94_1,     x,     3,  1,    130,     -1,2,19940128,1302, 44.2000,-129.7167, 2795,   1149.2,   3.1797,  34.4533,2,  34.4560,2,     -7.7,3,   -999.0,9,  -999.00,9,  -999.00,9,  -999.00,9,  -999.00,9, -999.000,9, -999.000,9, -999.000,9, -999.000,9, -999.000,9,-999.0000,9,  -999.00,9,   -999.0,9,   -999.0,9,   -999.0,9,   -999.0,9,   -999.0,9,  -999.00,9, -999.00,  -999.0,-999.0000,-999.000, -999.00,  -999.0,  3.0989,-999.000
    31DSCG94_1,     x,     3,  1,    121,     -1,2,19940128,1302, 44.2000,-129.7167, 2795,   1149.3,   3.1819,  34.4523,2,  34.4507,2,     -7.7,3,   -999.0,9,  -999.00,9,  -999.00,9,  -999.00,9,  -999.00,9, -999.000,9, -999.000,9, -999.000,9, -999.000,9, -999.000,9,-999.0000,9,  -999.00,9,   -999.0,9,   -999.0,9,   -999.0,9,   -999.0,9,   -999.0,9,  -999.00,9, -999.00,  -999.0,-999.0000,-999.000, -999.00,  -999.0,  3.1010,-999.000
    31DSCG94_1,     x,     3,  1,    136,     -1,2,19940128,1302, 44.2000,-129.7167, 2795,   1149.5,   3.1839,  34.4525,2,  34.4510,2,     -7.7,3,   -999.0,9,  -999.00,9,  -999.00,9,  -999.00,9,  -999.00,9, -999.000,9, -999.000,9, -999.000,9, -999.000,9, -999.000,9,-999.0000,9,  -999.00,9,   -999.0,9,   -999.0,9,   -999.0,9,   -999.0,9,   -999.0,9,  -999.00,9, -999.00,  -999.0,-999.0000,-999.000, -999.00,  -999.0,  3.1030,-999.000
    31DSCG94_1,     x,     3,  1,    120,     -1,2,19940128,1302, 44.2000,-129.7167, 2795,   1149.7,   3.1796,  34.4527,2,  34.4509,2,     -7.7,3,   -999.0,9,  -999.00,9,  -999.00,9,  -999.00,9,  -999.00,9, -999.000,9, -999.000,9, -999.000,9, -999.000,9, -999.000,9,-999.0000,9,  -999.00,9,   -999.0,9,   -999.0,9,   -999.0,9,   -999.0,9,   -999.0,9,  -999.00,9, -999.00,  -999.0,-999.0000,-999.000, -999.00,  -999.0,  3.0987,-999.000
    31DSCG94_1,     x,     3,  1,    125,     -1,2,19940128,1302, 44.2000,-129.7167, 2795,   1150.2,   3.1803,  34.4528,2,  34.4531,2,     -7.7,3,   -999.0,9,  -999.00,9,  -999.00,9,  -999.00,9,  -999.00,9, -999.000,9, -999.000,9, -999.000,9, -999.000,9, -999.000,9,-999.0000,9,  -999.00,9,   -999.0,9,   -999.0,9,   -999.0,9,   -999.0,9,   -999.0,9,  -999.00,9, -999.00,  -999.0,-999.0000,-999.000, -999.00,  -999.0,  3.0994,-999.000
    31DSCG94_1,     x,     3,  1,    124,     -1,2,19940128,1302, 44.2000,-129.7167, 2795,   1150.2,   3.1809,  34.4525,2,  34.4498,2,     -7.7,3,   -999.0,9,  -999.00,9,  -999.00,9,  -999.00,9,  -999.00,9, -999.000,9, -999.000,9, -999.000,9, -999.000,9, -999.000,9,-999.0000,9,  -999.00,9,   -999.0,9,   -999.0,9,   -999.0,9,   -999.0,9,   -999.0,9,  -999.00,9, -999.00,  -999.0,-999.0000,-999.000, -999.00,  -999.0,  3.1000,-999.000
    31DSCG94_1,     x,     3,  1,    122,     -1,2,19940128,1302, 44.2000,-129.7167, 2795,   1150.3,   3.1812,  34.4507,2,  34.4520,2,     -7.7,3,   -999.0,9,  -999.00,9,  -999.00,9,  -999.00,9,  -999.00,9, -999.000,9, -999.000,9, -999.000,9, -999.000,9, -999.000,9,-999.0000,9,  -999.00,9,   -999.0,9,   -999.0,9,   -999.0,9,   -999.0,9,   -999.0,9,  -999.00,9, -999.00,  -999.0,-999.0000,-999.000, -999.00,  -999.0,  3.1003,-999.000
    31DSCG94_1,     x,     3,  1,    119,     -1,2,19940128,1302, 44.2000,-129.7167, 2795,   1150.3,   3.1778,  34.4524,2,  34.4500,2,     -7.7,3,   -999.0,9,  -999.00,9,  -999.00,9,  -999.00,9,  -999.00,9, -999.000,9, -999.000,9, -999.000,9, -999.000,9, -999.000,9,-999.0000,9,  -999.00,9,   -999.0,9,   -999.0,9,   -999.0,9,   -999.0,9,   -999.0,9,  -999.00,9, -999.00,  -999.0,-999.0000,-999.000, -999.00,  -999.0,  3.0969,-999.000
    31DSCG94_1,     x,     3,  1,    129,     -1,2,19940128,1302, 44.2000,-129.7167, 2795,   1150.4,   3.1793,  34.4530,2,  34.4499,2,     -7.7,3,   -999.0,9,  -999.00,9,  -999.00,9,  -999.00,9,  -999.00,9, -999.000,9, -999.000,9, -999.000,9, -999.000,9, -999.000,9,-999.0000,9,  -999.00,9,   -999.0,9,   -999.0,9,   -999.0,9,   -999.0,9,   -999.0,9,  -999.00,9, -999.00,  -999.0,-999.0000,-999.000, -999.00,  -999.0,  3.0984,-999.000
    31DSCG94_1,     x,     3,  1,    117,     -1,2,19940128,1302, 44.2000,-129.7167, 2795,   1150.5,   3.1731,  34.4537,2,  34.4493,3,     -7.7,3,   -999.0,9,  -999.00,9,  -999.00,9,  -999.00,9,  -999.00,9, -999.000,9, -999.000,9, -999.000,9, -999.000,9, -999.000,9,-999.0000,9,  -999.00,9,   -999.0,9,   -999.0,9,   -999.0,9,   -999.0,9,   -999.0,9,  -999.00,9, -999.00,  -999.0,-999.0000,-999.000, -999.00,  -999.0,  3.0922,-999.000
    31DSCG94_1,     x,     3,  1,    126,     -1,2,19940128,1302, 44.2000,-129.7167, 2795,   1150.9,   3.1789,  34.4530,2,  34.4504,2,     -7.7,3,   -999.0,9,  -999.00,9,  -999.00,9,  -999.00,9,  -999.00,9, -999.000,9, -999.000,9, -999.000,9, -999.000,9, -999.000,9,-999.0000,9,  -999.00,9,   -999.0,9,   -999.0,9,   -999.0,9,   -999.0,9,   -999.0,9,  -999.00,9, -999.00,  -999.0,-999.0000,-999.000, -999.00,  -999.0,  3.0979,-999.000
    31DSCG94_1,     x,     3,  1,    134,     -1,2,19940128,1302, 44.2000,-129.7167, 2795,   1151.1,   3.1805,  34.4528,2,  34.4500,2,     -7.8,3,   -999.0,9,  -999.00,9,  -999.00,9,  -999.00,9,  -999.00,9, -999.000,9, -999.000,9, -999.000,9, -999.000,9, -999.000,9,-999.0000,9,  -999.00,9,   -999.0,9,   -999.0,9,   -999.0,9,   -999.0,9,   -999.0,9,  -999.00,9, -999.00,  -999.0,-999.0000,-999.000, -999.00,  -999.0,  3.0995,-999.000
    31DSCG94_1,     x,     3,  1,    116,     -1,2,19940128,1302, 44.2000,-129.7167, 2795,   1249.6,   2.9932,  34.4755,2,  34.4692,3,     -5.9,3,   -999.0,9,  -999.00,9,  -999.00,9,  -999.00,9,  -999.00,9, -999.000,9, -999.000,9, -999.000,9, -999.000,9, -999.000,9,-999.0000,9,  -999.00,9,   -999.0,9,   -999.0,9,   -999.0,9,   -999.0,9,   -999.0,9,  -999.00,9, -999.00,  -999.0,-999.0000,-999.000, -999.00,  -999.0,  2.9060,-999.000
    31DSCG94_1,     x,     3,  1,    115,     -1,2,19940128,1302, 44.2000,-129.7167, 2795,   1348.8,   2.7770,  34.4916,2,  34.4959,3,     -3.8,3,   -999.0,9,  -999.00,9,  -999.00,9,  -999.00,9,  -999.00,9, -999.000,9, -999.000,9, -999.000,9, -999.000,9, -999.000,9,-999.0000,9,  -999.00,9,   -999.0,9,   -999.0,9,   -999.0,9,   -999.0,9,   -999.0,9,  -999.00,9, -999.00,  -999.0,-999.0000,-999.000, -999.00,  -999.0,  2.6841,-999.000
    31DSCG94_1,     x,     3,  1,    114,     -1,2,19940128,1302, 44.2000,-129.7167, 2795,   1450.5,   2.5962,  34.5125,2,  34.5059,3,      2.8,2,   -999.0,9,  -999.00,9,  -999.00,9,  -999.00,9,  -999.00,9, -999.000,9, -999.000,9, -999.000,9, -999.000,9, -999.000,9,-999.0000,9,  -999.00,9,   -999.0,9,   -999.0,9,   -999.0,9,   -999.0,9,   -999.0,9,  -999.00,9, -999.00,  -999.0,-999.0000,-999.000, -999.00,  -999.0,  2.4971,-999.000
    31DSCG94_1,     x,     3,  1,    113,     -1,2,19940128,1302, 44.2000,-129.7167, 2795,   1553.6,   2.4708,  34.5298,2,  34.5262,2,      7.0,2,   -999.0,9,  -999.00,9,  -999.00,9,  -999.00,9,  -999.00,9, -999.000,9, -999.000,9, -999.000,9, -999.000,9, -999.000,9,-999.0000,9,  -999.00,9,   -999.0,9,   -999.0,9,   -999.0,9,   -999.0,9,   -999.0,9,  -999.00,9, -999.00,  -999.0,-999.0000,-999.000, -999.00,  -999.0,  2.3649,-999.000
    31DSCG94_1,     x,     3,  1,    112,     -1,2,19940128,1302, 44.2000,-129.7167, 2795,   1648.2,   2.2706,  34.5496,2,  34.5461,2,     15.5,2,   -999.0,9,  -999.00,9,  -999.00,9,  -999.00,9,  -999.00,9, -999.000,9, -999.000,9, -999.000,9, -999.000,9, -999.000,9,-999.0000,9,  -999.00,9,   -999.0,9,   -999.0,9,   -999.0,9,   -999.0,9,   -999.0,9,  -999.00,9, -999.00,  -999.0,-999.0000,-999.000, -999.00,  -999.0,  2.1594,-999.000
    31DSCG94_1,     x,     3,  1,    111,     -1,2,19940128,1302, 44.2000,-129.7167, 2795,   1750.8,   2.0922,  34.5710,2,  34.5721,2,     22.1,2,   -999.0,9,  -999.00,9,  -999.00,9,  -999.00,9,  -999.00,9, -999.000,9, -999.000,9, -999.000,9, -999.000,9, -999.000,9,-999.0000,9,  -999.00,9,   -999.0,9,   -999.0,9,   -999.0,9,   -999.0,9,   -999.0,9,  -999.00,9, -999.00,  -999.0,-999.0000,-999.000, -999.00,  -999.0,  1.9751,-999.000
    31DSCG94_1,     x,     3,  1,    110,     -1,2,19940128,1302, 44.2000,-129.7167, 2795,   1850.3,   2.0167,  34.5822,2,  34.5776,3,     27.0,2,   -999.0,9,  -999.00,9,  -999.00,9,  -999.00,9,  -999.00,9, -999.000,9, -999.000,9, -999.000,9, -999.000,9, -999.000,9,-999.0000,9,  -999.00,9,   -999.0,9,   -999.0,9,   -999.0,9,   -999.0,9,   -999.0,9,  -999.00,9, -999.00,  -999.0,-999.0000,-999.000, -999.00,  -999.0,  1.8926,-999.000
    31DSCG94_1,     x,     3,  1,    109,     -1,2,19940128,1302, 44.2000,-129.7167, 2795,   1952.6,   1.9280,  34.5974,2,  34.5923,3,     34.2,2,   -999.0,9,  -999.00,9,  -999.00,9,  -999.00,9,  -999.00,9, -999.000,9, -999.000,9, -999.000,9, -999.000,9, -999.000,9,-999.0000,9,  -999.00,9,   -999.0,9,   -999.0,9,   -999.0,9,   -999.0,9,   -999.0,9,  -999.00,9, -999.00,  -999.0,-999.0000,-999.000, -999.00,  -999.0,  1.7967,-999.000
    31DSCG94_1,     x,     3,  1,    108,     -1,2,19940128,1302, 44.2000,-129.7167, 2795,   2051.5,   1.8814,  34.6066,2,  34.6023,3,     38.4,2,   -999.0,9,  -999.00,9,  -999.00,9,  -999.00,9,  -999.00,9, -999.000,9, -999.000,9, -999.000,9, -999.000,9, -999.000,9,-999.0000,9,  -999.00,9,   -999.0,9,   -999.0,9,   -999.0,9,   -999.0,9,   -999.0,9,  -999.00,9, -999.00,  -999.0,-999.0000,-999.000, -999.00,  -999.0,  1.7426,-999.000
    31DSCG94_1,     x,     3,  1,    107,     -1,2,19940128,1302, 44.2000,-129.7167, 2795,   2152.8,   1.8452,  34.6138,2,  34.6107,2,     42.3,2,   -999.0,9,  -999.00,9,  -999.00,9,  -999.00,9,  -999.00,9, -999.000,9, -999.000,9, -999.000,9, -999.000,9, -999.000,9,-999.0000,9,  -999.00,9,   -999.0,9,   -999.0,9,   -999.0,9,   -999.0,9,   -999.0,9,  -999.00,9, -999.00,  -999.0,-999.0000,-999.000, -999.00,  -999.0,  1.6983,-999.000
    31DSCG94_1,     x,     3,  1,    106,     -1,2,19940128,1302, 44.2000,-129.7167, 2795,   2251.9,   1.8281,  34.6184,2,  34.6145,2,     44.7,2,   -999.0,9,  -999.00,9,  -999.00,9,  -999.00,9,  -999.00,9, -999.000,9, -999.000,9, -999.000,9, -999.000,9, -999.000,9,-999.0000,9,  -999.00,9,   -999.0,9,   -999.0,9,   -999.0,9,   -999.0,9,   -999.0,9,  -999.00,9, -999.00,  -999.0,-999.0000,-999.000, -999.00,  -999.0,  1.6730,-999.000
    31DSCG94_1,     x,     3,  1,    105,     -1,2,19940128,1302, 44.2000,-129.7167, 2795,   2352.0,   1.8229,  34.6207,2,  34.6183,2,     45.3,2,   -999.0,9,  -999.00,9,  -999.00,9,  -999.00,9,  -999.00,9, -999.000,9, -999.000,9, -999.000,9, -999.000,9, -999.000,9,-999.0000,9,  -999.00,9,   -999.0,9,   -999.0,9,   -999.0,9,   -999.0,9,   -999.0,9,  -999.00,9, -999.00,  -999.0,-999.0000,-999.000, -999.00,  -999.0,  1.6591,-999.000
    31DSCG94_1,     x,     3,  1,    104,     -1,2,19940128,1302, 44.2000,-129.7167, 2795,   2448.8,   1.8138,  34.6239,2,  34.6201,2,     46.2,2,   -999.0,9,  -999.00,9,  -999.00,9,  -999.00,9,  -999.00,9, -999.000,9, -999.000,9, -999.000,9, -999.000,9, -999.000,9,-999.0000,9,  -999.00,9,   -999.0,9,   -999.0,9,   -999.0,9,   -999.0,9,   -999.0,9,  -999.00,9, -999.00,  -999.0,-999.0000,-999.000, -999.00,  -999.0,  1.6416,-999.000
    31DSCG94_1,     x,     3,  1,    103,     -1,2,19940128,1302, 44.2000,-129.7167, 2795,   2553.9,   1.8117,  34.6258,2,  34.6240,2,     47.2,2,   -999.0,9,  -999.00,9,  -999.00,9,  -999.00,9,  -999.00,9, -999.000,9, -999.000,9, -999.000,9, -999.000,9, -999.000,9,-999.0000,9,  -999.00,9,   -999.0,9,   -999.0,9,   -999.0,9,   -999.0,9,   -999.0,9,  -999.00,9, -999.00,  -999.0,-999.0000,-999.000, -999.00,  -999.0,  1.6301,-999.000
    31DSCG94_1,     x,     3,  1,    102,     -1,2,19940128,1302, 44.2000,-129.7167, 2795,   2652.2,   1.8170,  34.6271,2,  34.6186,3,     47.2,2,   -999.0,9,  -999.00,9,  -999.00,9,  -999.00,9,  -999.00,9, -999.000,9, -999.000,9, -999.000,9, -999.000,9, -999.000,9,-999.0000,9,  -999.00,9,   -999.0,9,   -999.0,9,   -999.0,9,   -999.0,9,   -999.0,9,  -999.00,9, -999.00,  -999.0,-999.0000,-999.000, -999.00,  -999.0,  1.6263,-999.000
    31DSCG94_1,     x,     3,  1,    101,     -1,2,19940128,1302, 44.2000,-129.7167, 2795,   2746.9,   1.8244,  34.6274,2,  34.6334,3,     47.0,2,   -999.0,9,  -999.00,9,  -999.00,9,  -999.00,9,  -999.00,9, -999.000,9, -999.000,9, -999.000,9, -999.000,9, -999.000,9,-999.0000,9,  -999.00,9,   -999.0,9,   -999.0,9,   -999.0,9,   -999.0,9,   -999.0,9,  -999.00,9, -999.00,  -999.0,-999.0000,-999.000, -999.00,  -999.0,  1.6248,-999.000