BOTTLE,20220630CCHSIOAMB
EXPOCODE,SECT_ID,STNNBR,CASTNO,SAMPNO,BTLNBR,BTLNBR_FLAG_W,DATE,TIME,LATITUDE,LONGITUDE,DEPTH,CTDPRS,CTDTMP,CTDSAL,CTDSAL_FLAG_W,SALNTY,SALNTY_FLAG_W,CTDOXY,CTDOXY_FLAG_W,OXYGEN,OXYGEN_FLAG_W,SILCAT,SILCAT_FLAG_W,NITRAT,NITRAT_FLAG_W,NITRIT,NITRIT_FLAG_W,PHSPHT,PHSPHT_FLAG_W,CFC-11,CFC-11_FLAG_W,CFC-12,CFC-12_FLAG_W,CFC113,CFC113_FLAG_W,CCL4,CCL4_FLAG_W,TRITUM,TRITUM_FLAG_W,HELIUM,HELIUM_FLAG_W,DELHE3,DELHE3_FLAG_W,DELC14,DELC14_FLAG_W,DELC13,DELC13_FLAG_W,TCARBN,TCARBN_FLAG_W,PCO2,PCO2_FLAG_W,ALKALI,ALKALI_FLAG_W,PH,PH_FLAG_W,PCO2TMP,C14ERR,HELIER,DELHER,PH_TMP,C13ERR,THETA,TRITER
,,,,,,,,,,,,DBAR,ITS-90,PSS-78,,PSS-78,,UMOL/KG,,UMOL/KG,,UMOL/KG,,UMOL/KG,,UMOL/KG,,UMOL/KG,,PMOL/KG,,PMOL/KG,,PMOL/KG,,PMOL/KG,,TU,,NMOL/KG,,PERCNT,,/MILLE,,/MILLE,,UMOL/KG,,UATM,,UMOL/KG,,,,DEG C,/MILLE,NMOL/KG,PERCNT,DEG C,/MILLE,DEG C,TU
    31DSCG94_2,  P18S,    33,  2,    236,   1025,2,19940308,1642,-54.5010,-103.0013, 4086,     13.6,   7.9109,  34.2552,2,  34.2551,2,    289.1,2,    286.3,2,     5.42,2,    14.98,2,     0.20,2,     1.17,2,    4.208,2,    2.148,2, -999.000,9, -999.000,9, -999.000,9,-999.0000,9,  -999.00,9,     24.3,2,      1.8,2,   2092.1,2,    568.1,2,   2277.0,2,     7.84,2,   20.00,     7.7,-999.0000,-999.000,   25.00,  -999.0,  7.9096,-999.000
    31DSCG94_2,  P18S,    33,  2,    235,   1247,2,19940308,1642,-54.5010,-103.0013, 4086,     24.5,   7.9095,  34.2551,2,  34.2562,2,    290.2,2,    286.4,2,     5.56,6,    14.95,6,     0.19,6,     1.15,6,    4.195,2,    2.101,2, -999.000,9, -999.000,9, -999.000,9,-999.0000,9,  -999.00,9,     33.1,2,      1.9,2,   2091.2,2,    569.2,2,   2275.0,2,     7.84,2,   20.00,     4.1,-999.0000,-999.000,   25.00,  -999.0,  7.9071,-999.000
    31DSCG94_2,  P18S,    33,  2,    234,   1108,2,19940308,1642,-54.5010,-103.0013, 4086,     49.1,   7.9079,  34.2556,2,  34.2569,2,    287.9,2,    286.4,2,     5.83,2,    15.13,2,     0.19,2,     1.17,2,    4.195,2,    2.147,2, -999.000,9, -999.000,9, -999.000,9,-999.0000,9,  -999.00,9,     30.1,2,      1.7,2,   2091.6,2,    528.4,4,   -999.0,5,     7.84,2,   20.00,     5.2,-999.0000,-999.000,   25.00,  -999.0,  7.9031,-999.000
    31DSCG94_2,  P18S,    33,  2,    233,   1244,2,19940308,1642,-54.5010,-103.0013, 4086,     69.6,   7.8948,  34.2553,2,  34.2564,2,    286.0,2,    286.0,2,     5.94,2,    15.28,2,     0.19,2,     1.16,2,    4.254,2,    2.114,2, -999.000,9, -999.000,9, -999.000,9,-999.0000,9,  -999.00,9,     31.9,6,      1.8,6,   2090.9,2,    546.7,3,   2274.0,2,     7.84,2,   20.00,     7.4,-999.0000,-999.000,   25.00,  -999.0,  7.8879,-999.000
    31DSCG94_2,  P18S,    33,  2,    232,   1003,3,19940308,1642,-54.5010,-103.0013, 4086,    100.8,   7.8714,  34.2552,2,-999.0000,5,    288.8,2,   -999.0,9,  -999.00,9,  -999.00,9,  -999.00,9,  -999.00,9, -999.000,5, -999.000,5, -999.000,9, -999.000,9, -999.000,9,-999.0000,9,  -999.00,9,   -999.0,9,   -999.0,9,   -999.0,9,   -999.0,9,   -999.0,9,  -999.00,9, -999.00,  -999.0,-999.0000,-999.000, -999.00,  -999.0,  7.8615,-999.000
    31DSCG94_2,  P18S,    33,  2,    231,   1211,2,19940308,1642,-54.5010,-103.0013, 4086,    125.0,   6.7381,  34.2857,2,  34.2888,2,    288.7,2,    284.5,2,     9.05,2,    17.15,2,     0.51,2,     1.30,2,    4.350,2,    2.213,2, -999.000,9, -999.000,9, -999.000,9,-999.0000,9,  -999.00,9,     23.5,2,      1.5,2,   2109.4,2,    639.9,2,   2276.0,2,     7.80,2,   20.00,     4.4,-999.0000,-999.000,   25.00,  -999.0,  6.7268,-999.000
    31DSCG94_2,  P18S,    33,  2,    230,   1241,2,19940308,1642,-54.5010,-103.0013, 4086,    148.4,   6.3531,  34.2977,2,  34.2983,2,    284.3,2,    281.8,6,    10.26,2,    18.71,2,     0.33,2,     1.35,2,    4.330,2,    2.172,2, -999.000,9, -999.000,9, -999.000,9,-999.0000,9,  -999.00,9,     25.2,2,      1.5,2,   2116.0,2,    667.5,2,   2280.0,2,     7.78,2,   20.00,     6.2,-999.0000,-999.000,   25.00,  -999.0,  6.3401,-999.000
    31DSCG94_2,  P18S,    33,  2,    229,   1031,2,19940308,1642,-54.5010,-103.0013, 4086,    198.3,   6.2714,  34.3150,2,  34.3148,2,    283.5,2,    281.5,2,    10.14,2,    19.06,2,     0.00,2,     1.38,2,    4.214,6,    2.115,6, -999.000,9, -999.000,9, -999.000,9,-999.0000,9,  -999.00,9,     31.5,2,      1.5,2,   2116.6,2,    672.2,2,   2280.0,2,     7.78,2,   20.00,     7.5,-999.0000,-999.000,   25.00,  -999.0,  6.2541,-999.000
    31DSCG94_2,  P18S,    33,  2,    228,   1210,2,19940308,1642,-54.5010,-103.0013, 4086,    249.2,   6.1249,  34.3098,2,  34.3105,2,    282.3,2,    280.1,2,    10.94,2,    19.68,2,     0.00,2,     1.42,2,    4.072,2,    2.056,2, -999.000,9, -999.000,9, -999.000,9,-999.0000,9,  -999.00,9,     22.1,2,      1.5,2,   2119.9,2,    677.9,2,   2280.0,2,     7.77,2,   20.00,     4.7,-999.0000,-999.000,   25.00,  -999.0,  6.1034,-999.000
    31DSCG94_2,  P18S,    33,  2,    227,   1008,2,19940308,1642,-54.5010,-103.0013, 4086,    300.5,   6.0028,  34.3039,2,  34.3037,2,    281.8,2,    280.3,2,    11.43,2,    19.66,2,     0.00,2,     1.44,2,    4.046,2,    2.010,2, -999.000,9, -999.000,9, -999.000,9,-999.0000,9,  -999.00,9,     -0.2,2,      1.4,2,   2120.2,2,    683.7,2,   2281.0,2,     7.77,2,   20.00,     4.2,-999.0000,-999.000,   25.00,  -999.0,  5.9770,-999.000
    31DSCG94_2,  P18S,    33,  2,    226,   1007,2,19940308,1642,-54.5010,-103.0013, 4086,    351.3,   5.9308,  34.3022,2,  34.3017,2,    279.2,2,    280.5,2,    11.82,2,    19.91,2,     0.00,2,     1.44,2,    4.026,6,    2.012,2, -999.000,9, -999.000,9, -999.000,9,-999.0000,9,  -999.00,9,     11.0,2,      1.4,2,   2121.4,2,    684.2,2,   -999.0,5,     7.77,2,   20.00,     4.1,-999.0000,-999.000,   25.00,  -999.0,  5.9007,-999.000
    31DSCG94_2,  P18S,    33,  2,    225,   1203,2,19940308,1642,-54.5010,-103.0013, 4086,    401.0,   5.8417,  34.2948,2,  34.2949,2,    278.7,2,    279.3,2,    12.02,2,    20.57,2,     0.00,2,     1.46,2,    3.986,2,    2.012,2, -999.000,9, -999.000,9, -999.000,9,-999.0000,9,  -999.00,9,      7.2,2,      1.4,2,   2122.7,2,    697.7,2,   2281.0,2,     7.76,2,   20.00,     5.6,-999.0000,-999.000,   25.00,  -999.0,  5.8076,-999.000
    31DSCG94_2,  P18S,    33,  2,    223,   1101,2,19940308,1642,-54.5010,-103.0013, 4086,    501.0,   5.5318,  34.2661,2,  34.2663,2,    276.3,2,    277.3,2,    13.10,2,    21.45,2,     0.00,2,     1.54,2,    3.885,6,    1.937,6, -999.000,9, -999.000,9, -999.000,9,-999.0000,9,  -999.00,9,     -9.5,2,      1.4,2,   2126.8,2,    713.4,2,   2281.0,2,     7.76,2,   20.00,     4.5,-999.0000,-999.000,   25.00,  -999.0,  5.4900,-999.000
    31DSCG94_2,  P18S,    33,  2,    221,   1206,2,19940308,1642,-54.5010,-103.0013, 4086,    601.0,   5.2000,  34.2403,2,  34.2393,2,    266.2,2,    269.3,2,    15.23,6,    23.13,6,     0.00,6,     1.62,6,    3.650,2,    1.751,2, -999.000,9, -999.000,9, -999.000,9,-999.0000,9,  -999.00,9,     -4.6,6,      1.4,2,   2135.0,2,    776.1,2,   2286.0,2,     7.74,2,   20.00,     3.3,-999.0000,-999.000,   25.00,  -999.0,  5.1510,-999.000
    31DSCG94_2,  P18S,    33,  2,    219,   1248,2,19940308,1642,-54.5010,-103.0013, 4086,    700.0,   4.8463,  34.2366,2,  34.2361,2,    250.5,2,    247.2,6,    20.33,2,    25.82,2,     0.00,2,     1.80,2,    2.804,2,    1.355,2, -999.000,9, -999.000,9, -999.000,9,-999.0000,9,  -999.00,9,    -52.8,2,      1.2,2,   2152.7,2,    852.1,2,   2285.0,2,     7.70,2,   20.00,     5.5,-999.0000,-999.000,   25.00,  -999.0,  4.7907,-999.000
    31DSCG94_2,  P18S,    33,  2,    218,   1207,2,19940308,1642,-54.5010,-103.0013, 4086,    796.6,   4.5530,  34.2707,2,  34.2698,2,    230.0,2,    226.1,2,    26.15,2,    29.01,2,     0.00,2,     1.91,2,    2.031,6,    0.956,6, -999.000,9, -999.000,9, -999.000,9,-999.0000,9,  -999.00,9,    -59.0,2,      1.1,2,   2171.1,2,    910.7,2,   2291.0,2,     7.66,2,   20.00,     5.6,-999.0000,-999.000,   25.00,  -999.0,  4.4909,-999.000
    31DSCG94_2,  P18S,    33,  2,    217,   1119,2,19940308,1642,-54.5010,-103.0013, 4086,    903.9,   4.1308,  34.2900,2,  34.2902,2,    217.2,2,    216.9,2,    32.83,2,    29.30,2,     0.00,2,     2.07,2,    1.632,2,    0.774,2, -999.000,9, -999.000,9, -999.000,9,-999.0000,9,  -999.00,9,    -75.5,2,      1.0,2,   2184.0,2,    964.3,2,   2295.0,2,     7.64,2,   20.00,     3.4,-999.0000,-999.000,   25.00,  -999.0,  4.0625,-999.000
    31DSCG94_2,  P18S,    33,  2,    216,   1036,2,19940308,1642,-54.5010,-103.0013, 4086,   1003.2,   3.7052,  34.3155,2,  34.3150,2,    209.3,2,    208.4,2,    40.10,2,    30.26,2,     0.00,2,     2.18,2,    1.266,3,    0.563,3, -999.000,9, -999.000,9, -999.000,9,-999.0000,9,  -999.00,9,    -82.1,2,      0.9,2,   2197.9,2,   1017.3,2,   2302.0,2,     7.62,2,   20.00,     9.4,-999.0000,-999.000,   25.00,  -999.0,  3.6319,-999.000
    31DSCG94_2,  P18S,    33,  2,    215,   1017,2,19940308,1642,-54.5010,-103.0013, 4086,   1201.1,   3.0811,  34.3799,2,  34.3796,2,    193.9,2,    192.6,2,    53.69,2,    32.03,2,     0.00,2,     2.31,2,    0.663,2,    0.297,2, -999.000,9, -999.000,9, -999.000,9,-999.0000,9,  -999.00,9,   -104.1,2,      0.7,2,   2220.3,2,   1106.2,2,   2308.0,2,     7.59,2,   20.00,     3.3,-999.0000,-999.000,   25.00,  -999.0,  2.9971,-999.000
    31DSCG94_2,  P18S,    33,  2,    214,   1016,2,19940308,1642,-54.5010,-103.0013, 4086,   1400.5,   2.7277,  34.4615,2,  34.4615,2,    180.2,2,    180.6,2,    66.46,6,    32.79,6,     0.00,6,     2.37,6,    0.466,2,    0.228,2, -999.000,9, -999.000,9, -999.000,9,-999.0000,9,  -999.00,9,   -145.3,2,      0.5,2,   2238.7,2,   1162.6,2,   2325.0,2,     7.57,2,   20.00,     2.8,-999.0000,-999.000,   25.00,  -999.0,  2.6313,-999.000
    31DSCG94_2,  P18S,    33,  2,    213,   1118,2,19940308,1642,-54.5010,-103.0013, 4086,   1598.3,   2.5170,  34.5435,2,  34.5425,2,    171.4,2,    172.8,2,    75.58,2,    32.76,2,     0.00,2,     2.33,2,    0.285,2,    0.130,2, -999.000,9, -999.000,9, -999.000,9,-999.0000,9,  -999.00,9,   -154.1,2,      0.5,2,   2249.1,2,   1182.0,2,   2330.0,2,     7.57,2,   20.00,     5.6,-999.0000,-999.000,   25.00,  -999.0,  2.4069,-999.000
    31DSCG94_2,  P18S,    33,  2,    212,   1033,2,19940308,1642,-54.5010,-103.0013, 4086,   1799.0,   2.3783,  34.6101,2,  34.6096,2,    168.4,2,    170.1,2,    83.86,2,    32.38,2,     0.00,2,     2.33,2,    0.132,6,    0.061,6, -999.000,9, -999.000,9, -999.000,9,-999.0000,9,  -999.00,9,   -153.6,2,      0.4,2,   2256.5,2,   1179.6,2,   2342.0,2,     7.57,2,   20.00,     4.3,-999.0000,-999.000,   25.00,  -999.0,  2.2533,-999.000
    31DSCG94_2,  P18S,    33,  2,    211,   1263,2,19940308,1642,-54.5010,-103.0013, 4086,   2002.1,   2.2503,  34.6589,2,  34.6580,2,    169.5,2,    173.0,2,    88.12,2,    31.68,2,     0.00,2,     2.30,2,    1.075,4,    0.035,2, -999.000,9, -999.000,9, -999.000,9,-999.0000,9,  -999.00,9,   -183.3,2,      0.4,2,   2257.7,3,   1158.2,2,   2348.0,2,     7.58,2,   20.00,     7.8,-999.0000,-999.000,   25.00,  -999.0,  2.1097,-999.000
    31DSCG94_2,  P18S,    33,  2,    210,   1005,2,19940308,1642,-54.5010,-103.0013, 4086,   2249.7,   2.1065,  34.6914,2,  34.6898,2,    171.8,2,    174.1,2,    92.98,2,    31.32,2,     0.00,2,     2.27,2,    0.036,2,    0.012,2, -999.000,9, -999.000,9, -999.000,9,-999.0000,9,  -999.00,9,   -194.1,2,      0.4,2,   2262.3,2,   1131.3,2,   2351.0,2,     7.59,2,   20.00,     5.4,-999.0000,-999.000,   25.00,  -999.0,  1.9466,-999.000
    31DSCG94_2,  P18S,    33,  2,    209,   1611,2,19940308,1642,-54.5010,-103.0013, 4086,   2498.9,   1.8855,  34.7066,2,  34.7056,2,    174.3,2,    176.8,2,   102.09,2,    31.31,2,     0.00,2,     2.28,2, -999.000,5, -999.000,5, -999.000,9, -999.000,9, -999.000,9,-999.0000,9,  -999.00,9,   -187.2,2,      0.4,2,   2268.1,2,   1116.1,2,   2366.0,2,     7.59,2,   20.00,     6.3,-999.0000,-999.000,   25.00,  -999.0,  1.7072,-999.000
    31DSCG94_2,  P18S,    33,  2,    208,   1218,2,19940308,1642,-54.5010,-103.0013, 4086,   2748.4,   1.7147,  34.7107,2,  34.7105,2,    177.5,2,    179.6,2,   109.19,2,    31.56,2,     0.00,2,     2.22,2,    0.007,2,    0.002,2, -999.000,9, -999.000,9, -999.000,9,-999.0000,9,  -999.00,9,   -178.8,2,      0.4,2,   2272.0,2,   1096.4,2,   2370.0,6,     7.60,2,   20.00,     4.0,-999.0000,-999.000,   25.00,  -999.0,  1.5168,-999.000
    31DSCG94_2,  P18S,    33,  2,    207,   1257,2,19940308,1642,-54.5010,-103.0013, 4086,   2999.4,   1.6009,  34.7158,2,  34.7145,2,    182.6,2,    185.0,6,   111.80,2,    31.32,2,     0.00,2,     2.26,2,    0.007,2,    0.003,2, -999.000,9, -999.000,9, -999.000,9,-999.0000,9,  -999.00,9,   -175.9,2,      0.4,2,   2269.2,2,   1088.9,2,   -999.0,5,     7.60,2,   20.00,     3.3,-999.0000,-999.000,   25.00,  -999.0,  1.3817,-999.000
    31DSCG94_2,  P18S,    33,  2,    206,   1224,2,19940308,1642,-54.5010,-103.0013, 4086,   3247.3,   1.5013,  34.7208,2,  34.7201,2,    188.4,2,    190.5,2,   109.72,2,    30.65,2,     0.00,2,     2.22,2,    0.016,6,    0.005,6, -999.000,9, -999.000,9, -999.000,9,-999.0000,9,  -999.00,9,   -176.1,2,      0.4,2,   2264.4,2,   1074.7,2,   2359.0,2,     7.61,2,   20.00,     4.1,-999.0000,-999.000,   25.00,  -999.0,  1.2603,-999.000
    31DSCG94_2,  P18S,    33,  2,    205,   1246,2,19940308,1642,-54.5010,-103.0013, 4086,   3496.9,   1.3159,  34.7168,2,  34.7157,2,    191.9,2,    193.7,2,   115.79,2,    30.89,2,     0.00,2,     2.28,2,    0.014,2,    0.004,2, -999.000,9, -999.000,9, -999.000,9,-999.0000,9,  -999.00,9,   -169.5,2,      0.4,2,   2268.8,2,   1074.1,2,   2369.0,2,     7.61,2,   20.00,     4.3,-999.0000,-999.000,   25.00,  -999.0,  1.0544,-999.000
    31DSCG94_2,  P18S,    33,  2,    204,   1028,2,19940308,1642,-54.5010,-103.0013, 4086,   3750.1,   1.0637,  34.7130,2,  34.7115,2,    197.8,2,    199.6,2,   124.15,2,    31.12,2,     0.00,2,     2.28,2,    0.003,2,    0.005,2, -999.000,9, -999.000,9, -999.000,9,-999.0000,9,  -999.00,9,   -174.1,2,      0.4,2,   2268.4,2,   1065.0,2,   2370.0,2,     7.61,2,   20.00,     3.8,-999.0000,-999.000,   25.00,  -999.0,  0.7831,-999.000
    31DSCG94_2,  P18S,    33,  2,    203,   9999,2,19940308,1642,-54.5010,-103.0013, 4086,   3998.9,   0.8597,  34.7099,2,  34.7080,2,    202.8,2,    203.5,2,   131.29,2,    31.27,2,     0.00,2,     2.25,2,    0.031,6,    0.013,6, -999.000,9, -999.000,9, -999.000,9,-999.0000,9,  -999.00,9,   -176.6,2,      0.4,2,   2267.8,2,   1064.5,2,   2371.0,2,     7.61,2,   20.00,     6.7,-999.0000,-999.000,   25.00,  -999.0,  0.5588,-999.000
    31DSCG94_2,  P18S,    33,  2,    201,   1041,2,19940308,1642,-54.5010,-103.0013, 4086,   4149.8,   0.8123,  34.7089,2,  34.7070,2,    204.8,2,    204.4,2,   133.38,2,    31.63,2,     0.00,2,     2.24,2,    0.014,2,    0.012,6, -999.000,9, -999.000,9, -999.000,9,-999.0000,9,  -999.00,9,   -170.5,2,      0.3,2,   2272.7,3,   1054.3,2,   2372.0,2,     7.61,2,   20.00,     6.0,-999.0000,-999.000,   25.00,  -999.0,  0.4968,-999.000
    31DSCG94_2,  P18S,    33,  2,    202,   1223,2,19940308,1642,-54.5010,-103.0013, 4086,   4149.9,   0.8127,  34.7087,2,  34.7073,2,    204.8,2,    204.3,2,   132.77,6,    31.23,6,     0.00,6,     2.29,6,    0.017,2,    0.012,2, -999.000,9, -999.000,9, -999.000,9,-999.0000,9,  -999.00,9,   -999.0,9,      0.4,2,   2266.4,2,   1048.2,2,   -999.0,5,     7.61,2,   20.00,  -999.0,-999.0000,-999.000,   25.00,  -999.0,  0.4972,-999.000