BOTTLE,20220630CCHSIOAMB
EXPOCODE,SECT_ID,STNNBR,CASTNO,SAMPNO,BTLNBR,BTLNBR_FLAG_W,DATE,TIME,LATITUDE,LONGITUDE,DEPTH,CTDPRS,CTDTMP,CTDSAL,CTDSAL_FLAG_W,SALNTY,SALNTY_FLAG_W,CTDOXY,CTDOXY_FLAG_W,OXYGEN,OXYGEN_FLAG_W,SILCAT,SILCAT_FLAG_W,NITRAT,NITRAT_FLAG_W,NITRIT,NITRIT_FLAG_W,PHSPHT,PHSPHT_FLAG_W,CFC-11,CFC-11_FLAG_W,CFC-12,CFC-12_FLAG_W,CFC113,CFC113_FLAG_W,CCL4,CCL4_FLAG_W,TRITUM,TRITUM_FLAG_W,HELIUM,HELIUM_FLAG_W,DELHE3,DELHE3_FLAG_W,DELC14,DELC14_FLAG_W,DELC13,DELC13_FLAG_W,TCARBN,TCARBN_FLAG_W,PCO2,PCO2_FLAG_W,ALKALI,ALKALI_FLAG_W,PH,PH_FLAG_W,PCO2TMP,C14ERR,HELIER,DELHER,PH_TMP,C13ERR,THETA,TRITER
,,,,,,,,,,,,DBAR,ITS-90,PSS-78,,PSS-78,,UMOL/KG,,UMOL/KG,,UMOL/KG,,UMOL/KG,,UMOL/KG,,UMOL/KG,,PMOL/KG,,PMOL/KG,,PMOL/KG,,PMOL/KG,,TU,,NMOL/KG,,PERCNT,,/MILLE,,/MILLE,,UMOL/KG,,UATM,,UMOL/KG,,,,DEG C,/MILLE,NMOL/KG,PERCNT,DEG C,/MILLE,DEG C,TU
    31DSCG94_2,  P18S,    64,  1,    136,   1025,2,19940317,0430,-37.4983,-102.9833, 3538,      9.0,  18.6838,  33.9048,2,  33.9107,2,    236.6,2,    236.0,2,     0.00,2,     3.31,2,     0.05,2,     0.38,2,    2.546,2,    1.360,2, -999.000,9, -999.000,9,    0.484,2,-999.0000,9,  -999.00,9,   -999.0,9,   -999.0,9,   2002.3,2,    393.6,2,   2247.0,2,     7.97,2,   20.00,  -999.0,-999.0000,-999.000,   25.00,  -999.0, 18.6822,   0.006
    31DSCG94_2,  P18S,    64,  1,    135,   1247,2,19940317,0430,-37.4983,-102.9833, 3538,     25.0,  18.7000,  33.9085,2,  33.9118,2,    237.0,2,    235.9,2,     0.00,2,     3.17,2,     0.05,2,     0.32,2, -999.000,9, -999.000,9, -999.000,9, -999.000,9, -999.000,9,-999.0000,9,  -999.00,9,   -999.0,9,   -999.0,9,   2002.8,2,    392.2,2,   -999.0,5,     7.97,2,   20.00,  -999.0,-999.0000,-999.000,   25.00,  -999.0, 18.6957,-999.000
    31DSCG94_2,  P18S,    64,  1,    134,   1108,2,19940317,0430,-37.4983,-102.9833, 3538,     50.4,  16.4254,  34.0947,2,  34.0977,2,    256.5,2,    272.1,2,     0.00,2,     0.89,2,     0.00,2,     0.16,2,    3.055,2,    1.559,2, -999.000,9, -999.000,9, -999.000,9,   1.8031,2,    -1.52,2,   -999.0,9,   -999.0,9,   2005.3,2,    377.3,2,   2244.0,3,     7.98,2,   20.00,  -999.0,-999.0000,-999.000,   25.00,  -999.0, 16.4173,-999.000
    31DSCG94_2,  P18S,    64,  1,    133,   1244,2,19940317,0430,-37.4983,-102.9833, 3538,     68.1,  14.9596,  34.0853,2,  34.0856,2,    269.6,2,    272.3,2,     0.19,2,     1.53,2,     0.02,2,     0.26,2, -999.000,9, -999.000,9, -999.000,9, -999.000,9, -999.000,9,-999.0000,9,  -999.00,9,   -999.0,9,   -999.0,9,   2008.7,2,    397.5,3,   2256.0,2,     7.97,2,   20.00,  -999.0,-999.0000,-999.000,   25.00,  -999.0, 14.9494,-999.000
    31DSCG94_2,  P18S,    64,  1,    132,   1003,2,19940317,0430,-37.4983,-102.9833, 3538,     98.1,  12.9499,  33.9894,2,  33.9932,2,    262.0,2,    263.2,2,     0.32,2,     4.97,2,     0.17,2,     0.51,2,    3.358,2,    1.717,2, -999.000,9, -999.000,9,    0.472,2,   1.7612,2,    -1.44,2,   -999.0,9,   -999.0,9,   2028.8,2,    448.6,2,   2246.0,2,     7.93,2,   20.00,  -999.0,-999.0000,-999.000,   25.00,  -999.0, 12.9366,   0.006
    31DSCG94_2,  P18S,    64,  1,    131,   1211,2,19940317,0430,-37.4983,-102.9833, 3538,    126.1,  12.1080,  34.0453,2,  34.0490,2,    258.7,2,    259.0,2,     0.02,2,     6.16,2,     0.26,2,     0.56,2, -999.000,9, -999.000,9, -999.000,9, -999.000,9, -999.000,9,-999.0000,9,  -999.00,9,   -999.0,9,   -999.0,9,   2042.3,2,    477.5,2,   2247.0,3,     7.90,2,   20.00,  -999.0,-999.0000,-999.000,   25.00,  -999.0, 12.0917,-999.000
    31DSCG94_2,  P18S,    64,  1,    130,   1241,2,19940317,0430,-37.4983,-102.9833, 3538,    148.1,  11.2746,  34.1706,2,  34.1717,2,    248.3,2,    244.4,2,     0.32,2,     9.32,2,     0.43,2,     0.75,2,    3.370,2,    1.664,2, -999.000,9, -999.000,9,    0.389,2,   1.7661,2,    -1.04,2,   -999.0,9,   -999.0,9,   2067.4,2,    535.7,2,   2259.0,2,     7.86,2,   20.00,  -999.0,-999.0000,-999.000,   25.00,  -999.0, 11.2563,   0.006
    31DSCG94_2,  P18S,    64,  1,    129,   1031,2,19940317,0430,-37.4983,-102.9833, 3538,    200.9,  10.1789,  34.3356,2,  34.3356,2,    230.3,2,    227.4,2,     1.43,2,    14.17,2,     0.00,2,     1.02,2, -999.000,9, -999.000,9, -999.000,9, -999.000,9, -999.000,9,-999.0000,9,  -999.00,9,   -999.0,9,   -999.0,9,   2096.6,2,    615.5,2,   2276.0,2,     7.81,2,   20.00,  -999.0,-999.0000,-999.000,   25.00,  -999.0, 10.1555,-999.000
    31DSCG94_2,  P18S,    64,  1,    128,   1210,2,19940317,0430,-37.4983,-102.9833, 3538,    247.3,   8.5869,  34.2799,2,  34.2804,2,    236.7,2,    235.2,2,     2.42,2,    17.91,2,     0.01,2,     1.24,2,    3.086,2,    1.505,2, -999.000,9, -999.000,9,    0.263,2,   1.7737,2,    -0.35,2,   -999.0,9,   -999.0,9,   2111.3,2,    670.9,2,   2274.0,2,     7.78,2,   20.00,  -999.0,-999.0000,-999.000,   25.00,  -999.0,  8.5610,   0.005
    31DSCG94_2,  P18S,    64,  1,    127,   1008,2,19940317,0430,-37.4983,-102.9833, 3538,    299.4,   7.6724,  34.3206,2,  34.3218,2,    238.4,2,    237.5,2,     4.42,2,    19.83,2,     0.00,2,     1.38,2, -999.000,9, -999.000,9, -999.000,9, -999.000,9, -999.000,9,-999.0000,9,  -999.00,9,   -999.0,9,   -999.0,9,   2123.3,2,    710.3,2,   2266.0,2,     7.75,2,   20.00,  -999.0,-999.0000,-999.000,   25.00,  -999.0,  7.6429,-999.000
    31DSCG94_2,  P18S,    64,  1,    126,   1007,2,19940317,0430,-37.4983,-102.9833, 3538,    354.3,   6.9168,  34.3214,2,  34.3198,2,    241.6,2,    241.2,2,     5.93,2,    21.34,2,     0.00,2,     1.47,2,    2.462,2,    1.242,2, -999.000,9, -999.000,9,    0.242,2,   1.8344,2,    -0.12,2,   -999.0,9,   -999.0,9,   2128.9,2,    730.8,2,   2274.0,2,     7.74,2,   20.00,  -999.0,-999.0000,-999.000,   25.00,  -999.0,  6.8839,   0.005
    31DSCG94_2,  P18S,    64,  1,    125,   1203,2,19940317,0430,-37.4983,-102.9833, 3538,    399.1,   6.6737,  34.3300,2,  34.3301,2,    247.4,2,    248.7,2,     6.74,2,    21.68,2,     0.00,2,     1.51,2,    2.519,2,    1.217,2, -999.000,9, -999.000,9,    0.262,2,   1.7759,2,    -0.36,2,   -999.0,9,   -999.0,9,   2128.6,2,    725.6,2,   2279.0,2,     7.74,2,   20.00,  -999.0,-999.0000,-999.000,   25.00,  -999.0,  6.6372,   0.005
    31DSCG94_2,  P18S,    64,  1,    123,   1101,2,19940317,0430,-37.4983,-102.9833, 3538,    498.3,   6.2155,  34.3166,2,  34.3175,2,    249.0,2,    251.6,2,     8.03,2,    22.88,2,     0.00,2,     1.59,2,    2.025,2,    0.979,2, -999.000,9, -999.000,9,    0.231,2,   1.7924,2,    -0.07,2,   -999.0,9,   -999.0,9,   2133.5,2,    733.5,3,   2280.0,2,     7.74,2,   20.00,  -999.0,-999.0000,-999.000,   25.00,  -999.0,  6.1713,   0.005
    31DSCG94_2,  P18S,    64,  1,    121,   1206,2,19940317,0430,-37.4983,-102.9833, 3538,    605.8,   5.8379,  34.2937,2,  34.2943,2,    248.2,2,    252.0,2,     9.41,2,    23.60,2,     0.00,2,     1.59,2,    1.673,2,    0.826,2, -999.000,9, -999.000,9,    0.198,2,   1.7844,2,     0.26,2,   -999.0,9,   -999.0,9,   2136.9,2,    745.2,2,   -999.0,5,     7.73,2,   20.00,  -999.0,-999.0000,-999.000,   25.00,  -999.0,  5.7855,   0.004
    31DSCG94_2,  P18S,    64,  1,    119,   1248,2,19940317,0430,-37.4983,-102.9833, 3538,    701.0,   5.5047,  34.2753,2,  34.2762,2,    243.2,2,    248.5,2,    11.42,2,    25.33,2,     0.00,2,     1.70,2,    1.370,2,    0.670,2, -999.000,9, -999.000,9,    0.164,2,   1.7902,2,     0.40,2,   -999.0,9,   -999.0,9,   2142.6,2,    770.2,3,   2277.0,2,     7.72,2,   20.00,  -999.0,-999.0000,-999.000,   25.00,  -999.0,  5.4453,   0.004
    31DSCG94_2,  P18S,    64,  1,    118,   1207,2,19940317,0430,-37.4983,-102.9833, 3538,    799.7,   5.1339,  34.2654,2,  34.2662,2,    233.3,2,    237.3,2,    14.81,2,    26.47,2,     0.00,2,     1.84,2,    0.882,2,    0.449,2, -999.000,9, -999.000,9,    0.138,2,   1.7906,2,     0.89,2,   -999.0,9,   -999.0,9,   2151.7,2,    819.5,2,   2281.0,2,     7.70,2,   20.00,  -999.0,-999.0000,-999.000,   25.00,  -999.0,  5.0679,   0.005
    31DSCG94_2,  P18S,    64,  1,    117,   1119,2,19940317,0430,-37.4983,-102.9833, 3538,    900.3,   4.6485,  34.2749,2,  34.2752,2,    216.2,2,    217.6,2,    21.82,2,    29.54,2,     0.00,2,     1.99,2,    0.414,3,    0.121,3, -999.000,9, -999.000,9,    0.067,2,   1.7991,2,     1.44,2,   -999.0,9,   -999.0,9,   2172.5,2,    901.0,2,   2288.0,2,     7.66,2,   20.00,  -999.0,-999.0000,-999.000,   25.00,  -999.0,  4.5769,   0.004
    31DSCG94_2,  P18S,    64,  1,    116,   1036,2,19940317,0430,-37.4983,-102.9833, 3538,    998.8,   4.1865,  34.3039,2,  34.3040,2,    199.6,2,    198.3,2,    31.25,2,    29.30,2,     0.00,2,     2.24,2,    0.152,2,    0.092,2, -999.000,9, -999.000,9,    0.034,2,   1.8107,2,     2.76,2,   -999.0,9,   -999.0,9,   2193.5,2,    993.6,2,   2293.0,6,     7.62,2,   20.00,  -999.0,-999.0000,-999.000,   25.00,  -999.0,  4.1098,   0.003
    31DSCG94_2,  P18S,    64,  1,    115,   1017,2,19940317,0430,-37.4983,-102.9833, 3538,   1099.4,   3.8060,  34.3428,2,  34.3429,2,    181.2,2,    180.5,6,    43.14,2,    32.71,2,     0.00,2,     2.33,2, -999.000,9, -999.000,9, -999.000,9, -999.000,9, -999.000,9,-999.0000,9,  -999.00,9,   -999.0,9,   -999.0,9,   -999.0,9,   -999.0,9,   -999.0,9,     7.59,2, -999.00,  -999.0,-999.0000,-999.000,   25.00,  -999.0,  3.7239,-999.000
    31DSCG94_2,  P18S,    64,  1,    114,   1016,2,19940317,0430,-37.4983,-102.9833, 3538,   1196.3,   3.5305,  34.3905,2,  34.3901,2,    164.2,2,    162.4,2,    54.53,2,    34.78,2,     0.00,2,     2.48,2,    0.013,2,    0.014,2, -999.000,9, -999.000,9,    0.012,2,   1.8375,2,     7.06,2,   -999.0,9,   -999.0,9,   -999.0,9,   -999.0,9,   -999.0,9,     7.56,2, -999.00,  -999.0,-999.0000,-999.000,   25.00,  -999.0,  3.4427,   0.003
    31DSCG94_2,  P18S,    64,  1,    113,   1209,2,19940317,0430,-37.4983,-102.9833, 3538,   1297.6,   3.3289,  34.4456,2,  34.4455,2,    144.9,2,    144.2,2,    65.61,2,    36.61,2,     0.00,2,     2.60,2, -999.000,9, -999.000,9, -999.000,9, -999.000,9, -999.000,9,-999.0000,9,  -999.00,9,   -999.0,9,   -999.0,9,   -999.0,9,   -999.0,9,   -999.0,9,     7.53,2, -999.00,  -999.0,-999.0000,-999.000,   25.00,  -999.0,  3.2346,-999.000
    31DSCG94_2,  P18S,    64,  1,    112,   1033,2,19940317,0430,-37.4983,-102.9833, 3538,   1396.5,   3.1423,  34.4981,2,  34.4971,2,    132.9,2,    132.6,2,    77.34,2,    37.14,2,     0.01,2,     2.68,2,   -0.003,2,   -0.001,2, -999.000,9, -999.000,9, -999.000,9,   1.8625,2,    14.26,2,   -999.0,9,   -999.0,9,   -999.0,9,   -999.0,9,   -999.0,9,     7.52,2, -999.00,  -999.0,-999.0000,-999.000,   25.00,  -999.0,  3.0417,-999.000
    31DSCG94_2,  P18S,    64,  1,    111,   1263,2,19940317,0430,-37.4983,-102.9833, 3538,   1501.9,   2.9545,  34.5341,2,  34.5328,2,    129.1,2,    130.4,2,    86.35,2,    37.35,2,     0.01,2,     2.66,2, -999.000,9, -999.000,9, -999.000,9, -999.000,9, -999.000,9,-999.0000,9,  -999.00,9,   -999.0,9,   -999.0,9,   -999.0,9,   -999.0,9,   -999.0,9,     7.52,2, -999.00,  -999.0,-999.0000,-999.000,   25.00,  -999.0,  2.8471,-999.000
    31DSCG94_2,  P18S,    64,  1,    110,   1005,2,19940317,0430,-37.4983,-102.9833, 3538,   1598.5,   2.8150,  34.5547,2,  34.5531,2,    129.8,2,    131.9,6,    92.35,2,    36.90,2,     0.00,2,     2.62,2, -999.000,9, -999.000,9, -999.000,9, -999.000,9, -999.000,9,-999.0000,9,  -999.00,9,   -999.0,9,   -999.0,9,   -999.0,9,   -999.0,9,   -999.0,9,     7.53,2, -999.00,  -999.0,-999.0000,-999.000,   25.00,  -999.0,  2.7012,-999.000
    31DSCG94_2,  P18S,    64,  1,    109,   1611,2,19940317,0430,-37.4983,-102.9833, 3538,   1800.9,   2.4995,  34.5929,2,  34.5918,2,    138.6,2,    141.0,2,    97.96,2,    36.43,2,     0.01,2,     2.61,2,   -0.005,2,   -0.003,2, -999.000,9, -999.000,9, -999.000,9,   1.9254,2,    20.54,2,   -999.0,9,   -999.0,9,   -999.0,9,   -999.0,9,   -999.0,9,     7.54,2, -999.00,  -999.0,-999.0000,-999.000,   25.00,  -999.0,  2.3727,-999.000
    31DSCG94_2,  P18S,    64,  1,    108,   1218,2,19940317,0430,-37.4983,-102.9833, 3538,   1995.8,   2.2587,  34.6244,2,  34.6250,2,    149.3,2,    152.6,2,   100.37,2,    35.23,2,     0.00,2,     2.53,2, -999.000,9, -999.000,9, -999.000,9, -999.000,9, -999.000,9,-999.0000,9,  -999.00,9,   -999.0,9,   -999.0,9,   -999.0,9,   -999.0,9,   -999.0,9,     7.56,2, -999.00,  -999.0,-999.0000,-999.000,   25.00,  -999.0,  2.1186,-999.000
    31DSCG94_2,  P18S,    64,  1,    107,   1257,2,19940317,0430,-37.4983,-102.9833, 3538,   2246.7,   2.0383,  34.6602,2,  34.6592,2,    158.5,2,    161.0,2,   106.03,2,    34.00,2,     0.00,2,     2.37,2, -999.000,9, -999.000,9, -999.000,9, -999.000,9, -999.000,9,-999.0000,9,  -999.00,9,   -999.0,9,   -999.0,9,   -999.0,9,   -999.0,9,   -999.0,9,  -999.00,9, -999.00,  -999.0,-999.0000,-999.000, -999.00,  -999.0,  1.8800,-999.000
    31DSCG94_2,  P18S,    64,  1,    106,   1224,2,19940317,0430,-37.4983,-102.9833, 3538,   2497.8,   1.8620,  34.6795,2,  34.6789,2,    162.3,2,    164.5,6,   113.83,2,    33.79,2,     0.00,2,     2.37,2, -999.000,9, -999.000,9, -999.000,9, -999.000,9, -999.000,9,-999.0000,9,  -999.00,9,   -999.0,9,   -999.0,9,   -999.0,9,   -999.0,9,   -999.0,9,  -999.00,9, -999.00,  -999.0,-999.0000,-999.000, -999.00,  -999.0,  1.6843,-999.000
    31DSCG94_2,  P18S,    64,  1,    105,   1246,2,19940317,0430,-37.4983,-102.9833, 3538,   2747.3,   1.8052,  34.6849,2,  34.6831,2,    164.7,2,    165.6,2,   114.90,2,    33.97,2,     0.00,2,     2.39,2, -999.000,9, -999.000,9, -999.000,9, -999.000,9, -999.000,9,-999.0000,9,  -999.00,9,   -999.0,9,   -999.0,9,   -999.0,9,   -999.0,9,   -999.0,9,  -999.00,9, -999.00,  -999.0,-999.0000,-999.000, -999.00,  -999.0,  1.6057,-999.000
    31DSCG94_2,  P18S,    64,  1,    104,   1217,2,19940317,0430,-37.4983,-102.9833, 3538,   2999.9,   1.7473,  34.6921,2,  34.6904,2,    168.7,2,    169.6,2,   115.04,2,    33.97,2,     0.01,2,     2.35,2, -999.000,9, -999.000,9, -999.000,9, -999.000,9, -999.000,9,-999.0000,9,  -999.00,9,   -999.0,9,   -999.0,9,   -999.0,9,   -999.0,9,   -999.0,9,  -999.00,9, -999.00,  -999.0,-999.0000,-999.000, -999.00,  -999.0,  1.5249,-999.000
    31DSCG94_2,  P18S,    64,  1,    103,   9999,2,19940317,0430,-37.4983,-102.9833, 3538,   3244.8,   1.6590,  34.6969,2,  34.6970,2,    174.0,2,    173.3,2,   117.71,2,    33.49,2,     0.00,2,     2.32,2, -999.000,9, -999.000,9, -999.000,9, -999.000,9, -999.000,9,-999.0000,9,  -999.00,9,   -999.0,9,   -999.0,9,   -999.0,9,   -999.0,9,   -999.0,9,  -999.00,9, -999.00,  -999.0,-999.0000,-999.000, -999.00,  -999.0,  1.4146,-999.000
    31DSCG94_2,  P18S,    64,  1,    102,   1223,2,19940317,0430,-37.4983,-102.9833, 3538,   3246.3,   1.6556,  34.6967,2,  34.6946,2,    174.1,2,    173.6,2,   117.62,2,    33.78,2,     0.00,2,     2.36,2, -999.000,9, -999.000,9, -999.000,9, -999.000,9, -999.000,9,-999.0000,9,  -999.00,9,   -999.0,9,   -999.0,9,   -999.0,9,   -999.0,9,   -999.0,9,  -999.00,9, -999.00,  -999.0,-999.0000,-999.000, -999.00,  -999.0,  1.4111,-999.000
    31DSCG94_2,  P18S,    64,  1,    101,   1041,2,19940317,0430,-37.4983,-102.9833, 3538,   3529.1,   1.4352,  34.7028,2,  34.7016,2,    182.7,2,    182.6,2,   120.59,2,    33.23,2,     0.00,2,     2.35,2, -999.000,9, -999.000,9, -999.000,9, -999.000,9, -999.000,9,-999.0000,9,  -999.00,9,   -999.0,9,   -999.0,9,   -999.0,9,   -999.0,9,   -999.0,9,  -999.00,9, -999.00,  -999.0,-999.0000,-999.000, -999.00,  -999.0,  1.1675,-999.000