BOTTLE,20220630CCHSIOAMB
EXPOCODE,SECT_ID,STNNBR,CASTNO,SAMPNO,BTLNBR,BTLNBR_FLAG_W,DATE,TIME,LATITUDE,LONGITUDE,DEPTH,CTDPRS,CTDTMP,CTDSAL,CTDSAL_FLAG_W,SALNTY,SALNTY_FLAG_W,CTDOXY,CTDOXY_FLAG_W,OXYGEN,OXYGEN_FLAG_W,SILCAT,SILCAT_FLAG_W,NITRAT,NITRAT_FLAG_W,NITRIT,NITRIT_FLAG_W,PHSPHT,PHSPHT_FLAG_W,CFC-11,CFC-11_FLAG_W,CFC-12,CFC-12_FLAG_W,CFC113,CFC113_FLAG_W,CCL4,CCL4_FLAG_W,TRITUM,TRITUM_FLAG_W,HELIUM,HELIUM_FLAG_W,DELHE3,DELHE3_FLAG_W,DELC14,DELC14_FLAG_W,DELC13,DELC13_FLAG_W,TCARBN,TCARBN_FLAG_W,PCO2,PCO2_FLAG_W,ALKALI,ALKALI_FLAG_W,PH,PH_FLAG_W,PCO2TMP,C14ERR,HELIER,DELHER,PH_TMP,C13ERR,THETA,TRITER
,,,,,,,,,,,,DBAR,ITS-90,PSS-78,,PSS-78,,UMOL/KG,,UMOL/KG,,UMOL/KG,,UMOL/KG,,UMOL/KG,,UMOL/KG,,PMOL/KG,,PMOL/KG,,PMOL/KG,,PMOL/KG,,TU,,NMOL/KG,,PERCNT,,/MILLE,,/MILLE,,UMOL/KG,,UATM,,UMOL/KG,,,,DEG C,/MILLE,NMOL/KG,PERCNT,DEG C,/MILLE,DEG C,TU
    31DSCG94_2,  P18S,    50,  1,    124,    435,2,19940313,1102,-44.4833,-103.0000, 3900,     10.7,  13.0644,  34.0534,2,  34.0525,2,    260.1,2,    260.0,2,     1.85,2,    11.99,2,     0.21,2,     0.99,2, -999.000,9, -999.000,9, -999.000,9, -999.000,9, -999.000,9,-999.0000,9,  -999.00,9,   -999.0,9,   -999.0,9,   2052.1,2,    493.8,2,   2250.0,2,  -999.00,9,   20.00,  -999.0,-999.0000,-999.000, -999.00,  -999.0, 13.0629,-999.000
    31DSCG94_2,  P18S,    50,  1,    123,    421,2,19940313,1102,-44.4833,-103.0000, 3900,     24.6,  13.0653,  34.0539,2,  34.0529,2,    259.3,2,    260.3,2,     1.37,2,    11.88,2,     0.22,2,     0.99,2, -999.000,9, -999.000,9, -999.000,9, -999.000,9, -999.000,9,-999.0000,9,  -999.00,9,   -999.0,9,   -999.0,9,   2055.6,2,    495.8,2,   2259.0,2,  -999.00,9,   20.00,  -999.0,-999.0000,-999.000, -999.00,  -999.0, 13.0619,-999.000
    31DSCG94_2,  P18S,    50,  1,    122,    418,2,19940313,1102,-44.4833,-103.0000, 3900,     49.6,  12.7539,  34.0887,2,  34.0798,2,    261.9,2,    261.9,2,     1.62,2,    12.13,2,     0.17,2,     0.98,2, -999.000,9, -999.000,9, -999.000,9, -999.000,9, -999.000,9,-999.0000,9,  -999.00,9,   -999.0,9,   -999.0,9,   2058.1,2,    498.0,2,   2262.0,2,  -999.00,9,   20.00,  -999.0,-999.0000,-999.000, -999.00,  -999.0, 12.7473,-999.000
    31DSCG94_2,  P18S,    50,  1,    121,    413,2,19940313,1102,-44.4833,-103.0000, 3900,     98.9,   9.6500,  34.0910,2,  34.0950,2,    275.9,2,    285.0,2,     1.88,2,    13.01,2,     0.14,2,     1.09,2, -999.000,9, -999.000,9, -999.000,9, -999.000,9, -999.000,9,-999.0000,9,  -999.00,9,   -999.0,9,   -999.0,9,   2072.6,2,    539.3,2,   2260.0,2,  -999.00,9,   20.00,  -999.0,-999.0000,-999.000, -999.00,  -999.0,  9.6389,-999.000
    31DSCG94_2,  P18S,    50,  1,    120,    405,2,19940313,1102,-44.4833,-103.0000, 3900,    148.5,   7.8143,  34.1511,2,  34.1516,2,    280.5,2,    278.4,2,     2.42,2,    15.06,2,     0.42,2,     1.24,2, -999.000,9, -999.000,9, -999.000,9, -999.000,9, -999.000,9,-999.0000,9,  -999.00,9,   -999.0,9,   -999.0,9,   2092.8,2,    599.0,2,   2265.0,2,  -999.00,9,   20.00,  -999.0,-999.0000,-999.000, -999.00,  -999.0,  7.7997,-999.000
    31DSCG94_2,  P18S,    50,  1,    119,    417,2,19940313,1102,-44.4833,-103.0000, 3900,    200.9,   7.0025,  34.2397,2,  34.2346,2,    272.9,2,    269.0,2,     3.98,2,    18.25,2,     0.00,2,     1.36,2, -999.000,9, -999.000,9, -999.000,9, -999.000,9, -999.000,9,-999.0000,9,  -999.00,9,   -999.0,9,   -999.0,9,   2108.8,2,    659.8,2,   2264.0,2,  -999.00,9,   20.00,  -999.0,-999.0000,-999.000, -999.00,  -999.0,  6.9839,-999.000
    31DSCG94_2,  P18S,    50,  1,    118,    429,2,19940313,1102,-44.4833,-103.0000, 3900,    299.1,   6.4951,  34.3017,2,  34.3008,2,    268.5,2,    266.2,2,     6.74,2,    20.15,2,     0.00,2,     1.45,2, -999.000,9, -999.000,9, -999.000,9, -999.000,9, -999.000,9,-999.0000,9,  -999.00,9,   -999.0,9,   -999.0,9,   2124.0,2,    697.4,2,   2273.0,2,  -999.00,9,   20.00,  -999.0,-999.0000,-999.000, -999.00,  -999.0,  6.4684,-999.000
    31DSCG94_2,  P18S,    50,  1,    117,    427,2,19940313,1102,-44.4833,-103.0000, 3900,    400.0,   6.2401,  34.3060,2,  34.3062,2,    266.0,2,    265.1,2,     8.05,2,    21.05,2,     0.00,2,     1.55,2, -999.000,9, -999.000,9, -999.000,9, -999.000,9, -999.000,9,-999.0000,9,  -999.00,9,   -999.0,9,   -999.0,9,   2127.1,2,    710.1,2,   2280.0,2,  -999.00,9,   20.00,  -999.0,-999.0000,-999.000, -999.00,  -999.0,  6.2048,-999.000
    31DSCG94_2,  P18S,    50,  1,    116,    410,2,19940313,1102,-44.4833,-103.0000, 3900,    496.1,   6.0225,  34.2973,2,  34.2972,2,    264.8,2,    265.6,2,     8.73,2,    21.50,2,     0.00,2,     1.59,2, -999.000,9, -999.000,9, -999.000,9, -999.000,9, -999.000,9,-999.0000,9,  -999.00,9,   -999.0,9,   -999.0,9,   2127.4,2,    710.3,2,   2267.0,2,  -999.00,9,   20.00,  -999.0,-999.0000,-999.000, -999.00,  -999.0,  5.9792,-999.000
    31DSCG94_2,  P18S,    50,  1,    115,    422,2,19940313,1102,-44.4833,-103.0000, 3900,    599.3,   5.7314,  34.2790,2,  34.2804,2,    262.5,2,    263.5,2,     9.95,2,    22.44,2,     0.00,2,     1.63,2, -999.000,9, -999.000,9, -999.000,9, -999.000,9, -999.000,9,-999.0000,9,  -999.00,9,   -999.0,9,   -999.0,9,   2132.3,2,    728.4,2,   2279.0,2,  -999.00,9,   20.00,  -999.0,-999.0000,-999.000, -999.00,  -999.0,  5.6801,-999.000
    31DSCG94_2,  P18S,    50,  1,    114,    407,2,19940313,1102,-44.4833,-103.0000, 3900,    700.6,   5.4229,  34.2611,2,  34.2630,2,    254.9,2,    261.1,2,    11.33,2,    23.76,2,     0.00,2,     1.65,2, -999.000,9, -999.000,9, -999.000,9, -999.000,9, -999.000,9,-999.0000,9,  -999.00,9,   -999.0,9,   -999.0,9,   2136.8,2,    747.8,2,   2277.0,2,  -999.00,9,   20.00,  -999.0,-999.0000,-999.000, -999.00,  -999.0,  5.3640,-999.000
    31DSCG94_2,  P18S,    50,  1,    113,    419,2,19940313,1102,-44.4833,-103.0000, 3900,    800.6,   5.0406,  34.2593,2,  34.2602,2,    244.4,2,    242.8,2,    15.93,2,    25.86,2,     0.00,2,     1.85,2, -999.000,9, -999.000,9, -999.000,9, -999.000,9, -999.000,9,-999.0000,9,  -999.00,9,   -999.0,9,   -999.0,9,   2159.1,2,    818.3,2,   2266.0,2,  -999.00,9,   20.00,  -999.0,-999.0000,-999.000, -999.00,  -999.0,  4.9751,-999.000
    31DSCG94_2,  P18S,    50,  1,    112,    426,2,19940313,1102,-44.4833,-103.0000, 3900,   1001.3,   4.2226,  34.2867,2,  34.2858,2,    212.2,2,    214.7,2,    28.92,2,    30.05,2,     0.00,2,     2.16,2, -999.000,9, -999.000,9, -999.000,9, -999.000,9, -999.000,9,-999.0000,9,  -999.00,9,   -999.0,9,   -999.0,9,   2185.1,2,    951.5,2,   2289.0,2,  -999.00,9,   20.00,  -999.0,-999.0000,-999.000, -999.00,  -999.0,  4.1455,-999.000
    31DSCG94_2,  P18S,    50,  1,    111,    424,2,19940313,1102,-44.4833,-103.0000, 3900,   1201.7,   3.4931,  34.3616,2,  34.3607,2,    185.1,2,    185.7,2,    46.43,2,    33.18,2,     0.00,2,     2.40,2, -999.000,9, -999.000,9, -999.000,9, -999.000,9, -999.000,9,-999.0000,9,  -999.00,9,   -999.0,9,   -999.0,9,   2235.4,2,   1099.3,2,   2310.0,2,  -999.00,9,   20.00,  -999.0,-999.0000,-999.000, -999.00,  -999.0,  3.4053,-999.000
    31DSCG94_2,  P18S,    50,  1,    110,    409,2,19940313,1102,-44.4833,-103.0000, 3900,   1402.3,   3.0801,  34.4559,2,  34.4528,2,    160.2,2,    158.9,2,    65.57,2,    35.24,2,     0.00,2,     2.52,2, -999.000,9, -999.000,9, -999.000,9, -999.000,9, -999.000,9,-999.0000,9,  -999.00,9,   -999.0,9,   -999.0,9,   -999.0,9,   1212.1,2,   -999.0,9,  -999.00,9,   20.00,  -999.0,-999.0000,-999.000, -999.00,  -999.0,  2.9797,-999.000
    31DSCG94_2,  P18S,    50,  1,    109,    423,2,19940313,1102,-44.4833,-103.0000, 3900,   1697.1,   2.5885,  34.5606,2,  34.5595,2,    158.9,2,    162.5,2,    82.55,2,    34.47,2,     0.00,2,     2.50,2, -999.000,9, -999.000,9, -999.000,9, -999.000,9, -999.000,9,-999.0000,9,  -999.00,9,   -999.0,9,   -999.0,9,   2266.0,2,   1215.0,2,   2347.0,2,  -999.00,9,   20.00,  -999.0,-999.0000,-999.000, -999.00,  -999.0,  2.4693,-999.000
    31DSCG94_2,  P18S,    50,  1,    108,    414,2,19940313,1102,-44.4833,-103.0000, 3900,   2004.6,   2.2864,  34.6401,2,  34.6387,2,    164.4,2,    164.0,2,    90.67,2,    33.49,2,     0.00,2,     2.42,2, -999.000,9, -999.000,9, -999.000,9, -999.000,9, -999.000,9,-999.0000,9,  -999.00,9,   -999.0,9,   -999.0,9,   -999.0,9,   1163.3,2,   -999.0,9,  -999.00,9,   20.00,  -999.0,-999.0000,-999.000, -999.00,  -999.0,  2.1451,-999.000
    31DSCG94_2,  P18S,    50,  1,    107,    437,2,19940313,1102,-44.4833,-103.0000, 3900,   2303.6,   2.0873,  34.6819,2,  34.6820,2,    169.4,2,    169.3,2,    96.94,2,    32.97,2,     0.00,2,     2.40,2, -999.000,9, -999.000,9, -999.000,9, -999.000,9, -999.000,9,-999.0000,9,  -999.00,9,   -999.0,9,   -999.0,9,   2273.3,2,   1142.4,2,   2361.0,2,  -999.00,9,   20.00,  -999.0,-999.0000,-999.000, -999.00,  -999.0,  1.9230,-999.000
    31DSCG94_2,  P18S,    50,  1,    106,    416,2,19940313,1102,-44.4833,-103.0000, 3900,   2606.4,   1.8387,  34.6975,2,  34.6970,2,    172.2,2,    172.1,2,   108.04,2,    32.93,2,     0.00,2,     2.34,2, -999.000,9, -999.000,9, -999.000,9, -999.000,9, -999.000,9,-999.0000,9,  -999.00,9,   -999.0,9,   -999.0,9,   -999.0,9,   1116.9,2,   -999.0,9,  -999.00,9,   20.00,  -999.0,-999.0000,-999.000, -999.00,  -999.0,  1.6515,-999.000
    31DSCG94_2,  P18S,    50,  1,    105,    420,2,19940313,1102,-44.4833,-103.0000, 3900,   2894.6,   1.6931,  34.7034,2,  34.7028,2,    175.4,2,    175.4,2,   113.56,2,    32.76,2,     0.00,2,     2.33,2, -999.000,9, -999.000,9, -999.000,9, -999.000,9, -999.000,9,-999.0000,9,  -999.00,9,   -999.0,9,   -999.0,9,   2283.2,2,   1110.0,2,   2377.0,2,  -999.00,9,   20.00,  -999.0,-999.0000,-999.000, -999.00,  -999.0,  1.4819,-999.000
    31DSCG94_2,  P18S,    50,  1,    104,    436,2,19940313,1102,-44.4833,-103.0000, 3900,   3179.4,   1.5704,  34.7080,2,  34.7063,2,    180.3,2,    180.7,2,   114.50,2,    32.79,2,     0.00,2,     2.32,2, -999.000,9, -999.000,9, -999.000,9, -999.000,9, -999.000,9,-999.0000,9,  -999.00,9,   -999.0,9,   -999.0,9,   -999.0,9,   1092.9,2,   -999.0,9,  -999.00,9,   20.00,  -999.0,-999.0000,-999.000, -999.00,  -999.0,  1.3345,-999.000
    31DSCG94_2,  P18S,    50,  1,    103,    425,2,19940313,1102,-44.4833,-103.0000, 3900,   3495.7,   1.3282,  34.7082,2,  34.7069,2,    186.5,2,    186.7,2,   120.74,2,    32.58,2,     0.00,2,     2.35,2, -999.000,9, -999.000,9, -999.000,9, -999.000,9, -999.000,9,-999.0000,9,  -999.00,9,   -999.0,9,   -999.0,9,   2280.5,2,   1071.7,2,   2382.0,2,  -999.00,9,   20.00,  -999.0,-999.0000,-999.000, -999.00,  -999.0,  1.0666,-999.000
    31DSCG94_2,  P18S,    50,  1,    102,    433,2,19940313,1102,-44.4833,-103.0000, 3900,   3698.7,   1.1826,  34.7080,2,  34.7067,2,    190.8,2,    191.4,2,   124.59,2,    32.48,2,     0.00,2,     2.30,2, -999.000,9, -999.000,9, -999.000,9, -999.000,9, -999.000,9,-999.0000,9,  -999.00,9,   -999.0,9,   -999.0,9,   -999.0,9,   1058.7,2,   -999.0,9,  -999.00,9,   20.00,  -999.0,-999.0000,-999.000, -999.00,  -999.0,  0.9041,-999.000
    31DSCG94_2,  P18S,    50,  1,    101,    403,2,19940313,1102,-44.4833,-103.0000, 3900,   3843.2,   1.1175,  34.7079,2,  34.7083,2,    194.1,2,    194.6,2,   127.95,2,    32.23,2,     0.00,2,     2.26,2, -999.000,9, -999.000,9, -999.000,9, -999.000,9, -999.000,9,-999.0000,9,  -999.00,9,   -999.0,9,   -999.0,9,   2278.6,2,   1052.9,2,   2383.0,2,  -999.00,9,   20.00,  -999.0,-999.0000,-999.000, -999.00,  -999.0,  0.8258,-999.000