BOTTLE,20220630CCHSIOAMB
EXPOCODE,SECT_ID,STNNBR,CASTNO,SAMPNO,BTLNBR,BTLNBR_FLAG_W,DATE,TIME,LATITUDE,LONGITUDE,DEPTH,CTDPRS,CTDTMP,CTDSAL,CTDSAL_FLAG_W,SALNTY,SALNTY_FLAG_W,CTDOXY,CTDOXY_FLAG_W,OXYGEN,OXYGEN_FLAG_W,SILCAT,SILCAT_FLAG_W,NITRAT,NITRAT_FLAG_W,NITRIT,NITRIT_FLAG_W,PHSPHT,PHSPHT_FLAG_W,CFC-11,CFC-11_FLAG_W,CFC-12,CFC-12_FLAG_W,CFC113,CFC113_FLAG_W,CCL4,CCL4_FLAG_W,TRITUM,TRITUM_FLAG_W,HELIUM,HELIUM_FLAG_W,DELHE3,DELHE3_FLAG_W,DELC14,DELC14_FLAG_W,DELC13,DELC13_FLAG_W,TCARBN,TCARBN_FLAG_W,PCO2,PCO2_FLAG_W,ALKALI,ALKALI_FLAG_W,PH,PH_FLAG_W,PCO2TMP,C14ERR,HELIER,DELHER,PH_TMP,C13ERR,THETA,TRITER
,,,,,,,,,,,,DBAR,ITS-90,PSS-78,,PSS-78,,UMOL/KG,,UMOL/KG,,UMOL/KG,,UMOL/KG,,UMOL/KG,,UMOL/KG,,PMOL/KG,,PMOL/KG,,PMOL/KG,,PMOL/KG,,TU,,NMOL/KG,,PERCNT,,/MILLE,,/MILLE,,UMOL/KG,,UATM,,UMOL/KG,,,,DEG C,/MILLE,NMOL/KG,PERCNT,DEG C,/MILLE,DEG C,TU
    31DSCG94_3,  P18N,   180,  1,    136,   1025,2,19940422,2136, 17.0000,-110.0000, 3521,      8.3,  27.3192,  34.0786,2,  34.0822,2,    214.5,2,    203.9,2,     0.03,2,     0.08,2,     0.02,2,     0.13,2,    1.772,2,    1.039,2, -999.000,9, -999.000,9, -999.000,9,-999.0000,9,  -999.00,9,   -999.0,9,      1.6,2,   1919.0,2,    271.4,3,   2244.0,6,     8.11,2,   20.00,  -999.0,-999.0000,-999.000,   25.00,  -999.0, 27.3173,-999.000
    31DSCG94_3,  P18N,   180,  1,    135,   1247,2,19940422,2136, 17.0000,-110.0000, 3521,     25.0,  26.8981,  34.0596,2,  34.0670,2,    209.7,2,    205.3,2,     0.00,2,     0.04,2,     0.00,2,     0.13,2,    1.778,2,    1.020,2, -999.000,9, -999.000,9, -999.000,9,-999.0000,9,  -999.00,9,   -999.0,9,   -999.0,9,   -999.0,9,   -999.0,9,   -999.0,9,     8.11,2, -999.00,  -999.0,-999.0000,-999.000,   25.00,  -999.0, 26.8924,-999.000
    31DSCG94_3,  P18N,   180,  1,    134,   1216,2,19940422,2136, 17.0000,-110.0000, 3521,     48.9,  24.9593,  34.5120,2,  34.5169,2,    211.0,2,    213.3,2,     0.24,2,     0.02,2,     0.00,2,     0.18,2,    1.954,2,    1.104,2, -999.000,9, -999.000,9, -999.000,9,-999.0000,9,  -999.00,9,   -999.0,9,   -999.0,9,   -999.0,9,   -999.0,9,   -999.0,9,     8.08,2, -999.00,  -999.0,-999.0000,-999.000,   25.00,  -999.0, 24.9487,-999.000
    31DSCG94_3,  P18N,   180,  1,    133,   1244,2,19940422,2136, 17.0000,-110.0000, 3521,     75.5,  23.8631,  34.4869,2,  34.4921,2,    220.7,2,    213.8,2,     0.30,2,     0.13,2,     0.01,2,     0.23,2,    2.015,6,    1.136,6, -999.000,9, -999.000,9, -999.000,9,-999.0000,9,  -999.00,9,   -999.0,9,   -999.0,9,   -999.0,9,   -999.0,9,   -999.0,9,     8.06,2, -999.00,  -999.0,-999.0000,-999.000,   25.00,  -999.0, 23.8473,-999.000
    31DSCG94_3,  P18N,   180,  1,    132,   1003,2,19940422,2136, 17.0000,-110.0000, 3521,     99.3,  18.3856,  34.4366,2,  34.4382,2,     16.8,2,     69.2,2,    10.26,2,    17.95,2,     0.26,2,     1.59,2,    1.483,2,    0.807,2, -999.000,9, -999.000,9, -999.000,9,-999.0000,9,  -999.00,9,   -999.0,9,   -999.0,9,   -999.0,9,   -999.0,9,   -999.0,9,     7.69,2, -999.00,  -999.0,-999.0000,-999.000,   25.00,  -999.0, 18.3684,-999.000
    31DSCG94_3,  P18N,   180,  1,    131,   1211,2,19940422,2136, 17.0000,-110.0000, 3521,    123.5,  15.3987,  34.4830,2,  34.4530,3,    -65.7,3,     42.7,6,    16.93,2,    22.39,2,     0.04,2,     1.99,2,    1.428,2,    0.755,2, -999.000,9, -999.000,9, -999.000,9,-999.0000,9,  -999.00,9,   -999.0,9,   -999.0,9,   -999.0,9,   -999.0,9,   -999.0,9,     7.56,2, -999.00,  -999.0,-999.0000,-999.000,   25.00,  -999.0, 15.3798,-999.000
    31DSCG94_3,  P18N,   180,  1,    130,   1241,2,19940422,2136, 17.0000,-110.0000, 3521,    149.3,  13.4891,  34.7379,2,  34.7449,2,     14.6,2,      0.6,2,    25.28,2,    25.95,2,     0.83,2,     2.46,2,    0.482,2,    0.277,2, -999.000,9, -999.000,9, -999.000,9,-999.0000,9,  -999.00,9,   -999.0,9,   -999.0,9,   -999.0,9,   -999.0,9,   -999.0,9,     7.46,2, -999.00,  -999.0,-999.0000,-999.000,   25.00,  -999.0, 13.4681,-999.000
    31DSCG94_3,  P18N,   180,  1,    129,   1240,2,19940422,2136, 17.0000,-110.0000, 3521,    174.2,  12.7943,  34.7594,2,  34.7591,2,     13.9,2,      0.7,2,    26.80,2,    24.95,2,     2.10,2,     2.50,2,    0.353,2,    0.209,2, -999.000,9, -999.000,9, -999.000,9,-999.0000,9,  -999.00,9,   -999.0,9,   -999.0,9,   -999.0,9,   -999.0,9,   -999.0,9,     7.45,2, -999.00,  -999.0,-999.0000,-999.000,   25.00,  -999.0, 12.7707,-999.000
    31DSCG94_3,  P18N,   180,  1,    128,   1114,2,19940422,2136, 17.0000,-110.0000, 3521,    199.2,  12.1958,  34.7557,2,  34.7568,2,     10.8,2,      0.7,2,    29.06,2,    24.73,2,     2.73,2,     2.55,2,    0.221,2,    0.133,2, -999.000,9, -999.000,9, -999.000,9,-999.0000,9,  -999.00,9,   -999.0,9,   -999.0,9,   -999.0,9,   -999.0,9,   -999.0,9,     7.44,2, -999.00,  -999.0,-999.0000,-999.000,   25.00,  -999.0, 12.1696,-999.000
    31DSCG94_3,  P18N,   180,  1,    127,   1008,2,19940422,2136, 17.0000,-110.0000, 3521,    248.6,  11.5209,  34.7394,2,  34.7376,2,      7.5,2,      0.6,2,    32.32,2,    23.81,2,     2.62,2,     2.61,2,    0.118,2,    0.071,2, -999.000,9, -999.000,9, -999.000,9,-999.0000,9,  -999.00,9,   -999.0,9,   -999.0,9,   -999.0,9,   -999.0,9,   -999.0,9,     7.42,2, -999.00,  -999.0,-999.0000,-999.000,   25.00,  -999.0, 11.4894,-999.000
    31DSCG94_3,  P18N,   180,  1,    126,   1007,2,19940422,2136, 17.0000,-110.0000, 3521,    299.4,  10.7745,  34.6951,2,  34.6963,2,      4.4,2,      1.6,2,    36.48,2,    23.52,2,     2.11,2,     2.67,2,    0.075,2,    0.058,2, -999.000,9, -999.000,9, -999.000,9,-999.0000,9,  -999.00,9,   -999.0,9,   -999.0,9,   -999.0,9,   -999.0,9,   -999.0,9,     7.40,2, -999.00,  -999.0,-999.0000,-999.000,   25.00,  -999.0, 10.7380,-999.000
    31DSCG94_3,  P18N,   180,  1,    125,   1256,2,19940422,2136, 17.0000,-110.0000, 3521,    349.1,   9.8325,  34.6347,2,  34.6383,2,      3.1,2,      0.4,2,    41.77,2,    26.89,2,     0.33,2,     2.76,2,    0.050,6,    0.030,6, -999.000,9, -999.000,9, -999.000,9,-999.0000,9,  -999.00,9,   -999.0,9,   -999.0,9,   -999.0,9,   -999.0,9,   -999.0,9,     7.38,2, -999.00,  -999.0,-999.0000,-999.000,   25.00,  -999.0,  9.7923,-999.000
    31DSCG94_3,  P18N,   180,  1,    123,   1220,2,19940422,2136, 17.0000,-110.0000, 3521,    398.8,   9.1268,  34.6006,2,  34.6008,2,      2.2,2,      0.8,2,    46.88,2,    29.19,2,     0.01,2,     2.86,2,    0.030,2,    0.016,2, -999.000,9, -999.000,9, -999.000,9,-999.0000,9,  -999.00,9,   -999.0,9,   -999.0,9,   -999.0,9,   -999.0,9,   -999.0,9,     7.37,2, -999.00,  -999.0,-999.0000,-999.000,   25.00,  -999.0,  9.0828,-999.000
    31DSCG94_3,  P18N,   180,  1,    122,   1245,2,19940422,2136, 17.0000,-110.0000, 3521,    501.4,   7.5995,  34.5404,2,  34.5412,2,      1.3,2,      0.6,2,    60.86,2,    34.27,2,     0.00,2,     3.04,2,    0.013,2,    0.005,2, -999.000,9, -999.000,9, -999.000,9,-999.0000,9,  -999.00,9,   -999.0,9,   -999.0,9,   -999.0,9,   -999.0,9,   -999.0,9,     7.35,2, -999.00,  -999.0,-999.0000,-999.000,   25.00,  -999.0,  7.5496,-999.000
    31DSCG94_3,  P18N,   180,  1,    121,   1206,2,19940422,2136, 17.0000,-110.0000, 3521,    599.7,   6.6515,  34.5297,2,  34.5296,2,      1.7,2,      0.7,6,    70.69,2,    38.55,2,     0.00,2,     3.14,2,    0.002,6,   -0.001,6, -999.000,9, -999.000,9, -999.000,9,-999.0000,9,  -999.00,9,   -999.0,9,   -999.0,9,   -999.0,9,   -999.0,9,   -999.0,9,     7.34,2, -999.00,  -999.0,-999.0000,-999.000,   25.00,  -999.0,  6.5957,-999.000
    31DSCG94_3,  P18N,   180,  1,    120,   1028,2,19940422,2136, 17.0000,-110.0000, 3521,    699.4,   5.9445,  34.5307,2,  34.5304,2,      1.2,2,      1.0,2,    80.14,2,    41.53,2,     0.01,2,     3.22,2,    0.002,2,    0.011,2, -999.000,9, -999.000,9, -999.000,9,-999.0000,9,  -999.00,9,   -999.0,9,   -999.0,9,   -999.0,9,   -999.0,9,   -999.0,9,     7.33,2, -999.00,  -999.0,-999.0000,-999.000,   25.00,  -999.0,  5.8826,-999.000
    31DSCG94_3,  P18N,   180,  1,    119,   1248,2,19940422,2136, 17.0000,-110.0000, 3521,    801.5,   5.2517,  34.5303,2,  34.5307,2,      1.2,2,      2.5,2,    91.81,2,    43.88,2,     0.00,2,     3.27,2,    0.000,2,   -0.002,2, -999.000,9, -999.000,9, -999.000,9,-999.0000,9,  -999.00,9,   -999.0,9,   -999.0,9,   -999.0,9,   -999.0,9,   -999.0,9,     7.33,2, -999.00,  -999.0,-999.0000,-999.000,   25.00,  -999.0,  5.1845,-999.000
    31DSCG94_3,  P18N,   180,  1,    118,   1115,2,19940422,2136, 17.0000,-110.0000, 3521,    899.1,   4.8315,  34.5354,2,  34.5364,2,      3.2,2,      5.8,2,   101.53,2,    44.05,2,     0.00,2,     3.30,2,    0.006,2,    0.001,2, -999.000,9, -999.000,9, -999.000,9,-999.0000,9,  -999.00,9,   -999.0,9,   -999.0,9,   -999.0,9,   -999.0,9,   -999.0,9,     7.33,2, -999.00,  -999.0,-999.0000,-999.000,   25.00,  -999.0,  4.7584,-999.000
    31DSCG94_3,  P18N,   180,  1,    117,   1119,2,19940422,2136, 17.0000,-110.0000, 3521,    998.9,   4.4051,  34.5453,2,  34.5456,2,      8.5,2,     11.5,2,   107.69,2,    44.34,2,     0.00,2,     3.31,2,    0.000,2,   -0.002,2, -999.000,9, -999.000,9, -999.000,9,-999.0000,9,  -999.00,9,   -999.0,9,   -999.0,9,   -999.0,9,   -999.0,9,   -999.0,9,     7.34,2, -999.00,  -999.0,-999.0000,-999.000,   25.00,  -999.0,  4.3264,-999.000
    31DSCG94_3,  P18N,   180,  1,    116,   1036,2,19940422,2136, 17.0000,-110.0000, 3521,   1099.4,   4.0044,  34.5576,2,  34.5571,2,     15.6,2,     20.6,2,   112.76,2,    44.39,2,     0.00,2,     3.24,2, -999.000,9, -999.000,9, -999.000,9, -999.000,9, -999.000,9,-999.0000,9,  -999.00,9,   -999.0,9,   -999.0,9,   -999.0,9,   -999.0,9,   -999.0,9,  -999.00,9, -999.00,  -999.0,-999.0000,-999.000, -999.00,  -999.0,  3.9203,-999.000
    31DSCG94_3,  P18N,   180,  1,    115,   1017,2,19940422,2136, 17.0000,-110.0000, 3521,   1199.0,   3.6825,  34.5694,2,  34.5693,2,     24.4,2,     29.0,2,   117.65,2,    44.24,2,     0.00,2,     3.19,2, -999.000,9, -999.000,9, -999.000,9, -999.000,9, -999.000,9,-999.0000,9,  -999.00,9,   -999.0,9,   -999.0,9,   -999.0,9,   -999.0,9,   -999.0,9,  -999.00,9, -999.00,  -999.0,-999.0000,-999.000, -999.00,  -999.0,  3.5928,-999.000
    31DSCG94_3,  P18N,   180,  1,    114,   1016,2,19940422,2136, 17.0000,-110.0000, 3521,   1300.9,   3.4403,  34.5842,2,  34.5846,2,     30.2,2,     34.8,2,   123.62,2,    45.10,3,     0.00,2,     3.16,2,   -0.002,2,   -0.001,2, -999.000,9, -999.000,9, -999.000,9,-999.0000,9,  -999.00,9,   -999.0,9,   -999.0,9,   -999.0,9,   -999.0,9,   -999.0,9,  -999.00,9, -999.00,  -999.0,-999.0000,-999.000, -999.00,  -999.0,  3.3443,-999.000
    31DSCG94_3,  P18N,   180,  1,    113,   1209,2,19940422,2136, 17.0000,-110.0000, 3521,   1399.7,   3.2146,  34.5939,2,  34.5954,2,     39.2,2,     43.0,2,   131.99,2,    43.58,2,     0.00,2,     3.15,2, -999.000,9, -999.000,9, -999.000,9, -999.000,9, -999.000,9,-999.0000,9,  -999.00,9,   -999.0,9,   -999.0,9,   -999.0,9,   -999.0,9,   -999.0,9,  -999.00,9, -999.00,  -999.0,-999.0000,-999.000, -999.00,  -999.0,  3.1127,-999.000
    31DSCG94_3,  P18N,   180,  1,    112,   1033,2,19940422,2136, 17.0000,-110.0000, 3521,   1598.7,   2.8043,  34.6115,2,  34.6108,2,     55.9,2,     57.8,2,   141.63,2,    42.26,2,     0.00,2,     3.00,2, -999.000,9, -999.000,9, -999.000,9, -999.000,9, -999.000,9,-999.0000,9,  -999.00,9,   -999.0,9,   -999.0,9,   -999.0,9,   -999.0,9,   -999.0,9,  -999.00,9, -999.00,  -999.0,-999.0000,-999.000, -999.00,  -999.0,  2.6905,-999.000
    31DSCG94_3,  P18N,   180,  1,    111,   1240,2,19940422,2136, 17.0000,-110.0000, 3521,   1800.0,   2.4725,  34.6280,2,  34.6272,2,     79.0,2,     72.0,2,   146.60,2,    41.23,2,     0.00,2,     2.91,2,   -0.001,2,    0.001,2, -999.000,9, -999.000,9, -999.000,9,-999.0000,9,  -999.00,9,   -999.0,9,   -999.0,9,   -999.0,9,   -999.0,9,   -999.0,9,  -999.00,9, -999.00,  -999.0,-999.0000,-999.000, -999.00,  -999.0,  2.3460,-999.000
    31DSCG94_3,  P18N,   180,  1,    110,   1005,2,19940422,2136, 17.0000,-110.0000, 3521,   1999.3,   2.1926,  34.6422,2,  34.6421,2,     90.1,2,     85.7,2,   149.75,2,    40.56,2,     0.00,2,     2.79,2, -999.000,9, -999.000,9, -999.000,9, -999.000,9, -999.000,9,-999.0000,9,  -999.00,9,   -999.0,9,   -999.0,9,   -999.0,9,   -999.0,9,   -999.0,9,  -999.00,9, -999.00,  -999.0,-999.0000,-999.000, -999.00,  -999.0,  2.0532,-999.000
    31DSCG94_3,  P18N,   180,  1,    109,   1611,2,19940422,2136, 17.0000,-110.0000, 3521,   2200.0,   2.0066,  34.6524,2,  34.6531,2,    100.8,2,     95.9,2,   154.73,2,    39.76,2,     0.00,2,     2.76,2,    0.000,2,   -0.002,2, -999.000,9, -999.000,9, -999.000,9,-999.0000,9,  -999.00,9,   -999.0,9,   -999.0,9,   -999.0,9,   -999.0,9,   -999.0,9,  -999.00,9, -999.00,  -999.0,-999.0000,-999.000, -999.00,  -999.0,  1.8529,-999.000
    31DSCG94_3,  P18N,   180,  1,    108,   1218,3,19940422,2136, 17.0000,-110.0000, 3521,   2401.0,   1.8613,  34.6605,2,  34.6610,2,    107.5,2,    104.6,2,   153.31,2,    39.21,2,     0.00,2,     2.74,2, -999.000,9, -999.000,9, -999.000,9, -999.000,9, -999.000,9,-999.0000,9,  -999.00,9,   -999.0,9,   -999.0,9,   -999.0,9,   -999.0,9,   -999.0,9,  -999.00,9, -999.00,  -999.0,-999.0000,-999.000, -999.00,  -999.0,  1.6924,-999.000
    31DSCG94_3,  P18N,   180,  1,    107,   1257,2,19940422,2136, 17.0000,-110.0000, 3521,   2600.0,   1.7733,  34.6656,2,  34.6653,2,    112.5,2,    110.5,2,   154.28,2,    38.72,2,     0.00,2,     2.67,2, -999.000,9, -999.000,9, -999.000,9, -999.000,9, -999.000,9,-999.0000,9,  -999.00,9,   -999.0,9,   -999.0,9,   -999.0,9,   -999.0,9,   -999.0,9,  -999.00,9, -999.00,  -999.0,-999.0000,-999.000, -999.00,  -999.0,  1.5881,-999.000
    31DSCG94_3,  P18N,   180,  1,    106,   1224,2,19940422,2136, 17.0000,-110.0000, 3521,   2799.0,   1.7180,  34.6692,2,  34.6692,2,    116.2,2,    115.1,2,   154.98,2,    38.35,2,     0.00,2,     2.64,2, -999.000,9, -999.000,9, -999.000,9, -999.000,9, -999.000,9,-999.0000,9,  -999.00,9,   -999.0,9,   -999.0,9,   -999.0,9,   -999.0,9,   -999.0,9,  -999.00,9, -999.00,  -999.0,-999.0000,-999.000, -999.00,  -999.0,  1.5155,-999.000
    31DSCG94_3,  P18N,   180,  1,    105,   1246,2,19940422,2136, 17.0000,-110.0000, 3521,   2997.8,   1.6991,  34.6719,2,  34.6723,2,    118.4,2,    118.0,2,   158.21,6,    38.45,6,     0.00,6,     2.63,6,   -0.001,2,   -0.002,2, -999.000,9, -999.000,9, -999.000,9,-999.0000,9,  -999.00,9,   -999.0,9,   -999.0,9,   -999.0,9,   -999.0,9,   -999.0,9,  -999.00,9, -999.00,  -999.0,-999.0000,-999.000, -999.00,  -999.0,  1.4781,-999.000
    31DSCG94_3,  P18N,   180,  1,    104,   1217,2,19940422,2136, 17.0000,-110.0000, 3521,   3199.3,   1.6916,  34.6741,2,  34.6744,2,    121.2,2,    120.5,2,   161.08,2,    38.19,2,     0.00,2,     2.60,2, -999.000,9, -999.000,9, -999.000,9, -999.000,9, -999.000,9,-999.0000,9,  -999.00,9,   -999.0,9,   -999.0,9,   -999.0,9,   -999.0,9,   -999.0,9,  -999.00,9, -999.00,  -999.0,-999.0000,-999.000, -999.00,  -999.0,  1.4511,-999.000
    31DSCG94_3,  P18N,   180,  1,    102,   1223,2,19940422,2136, 17.0000,-110.0000, 3521,   3400.1,   1.7005,  34.6747,2,  34.6747,2,    122.5,2,    122.0,2,   156.61,2,    38.08,2,     0.00,2,     2.60,2, -999.000,9, -999.000,9, -999.000,9, -999.000,9, -999.000,9,-999.0000,9,  -999.00,9,   -999.0,9,   -999.0,9,   -999.0,9,   -999.0,9,   -999.0,9,  -999.00,9, -999.00,  -999.0,-999.0000,-999.000, -999.00,  -999.0,  1.4396,-999.000
    31DSCG94_3,  P18N,   180,  1,    103,   9999,2,19940422,2136, 17.0000,-110.0000, 3521,   3401.2,   1.7007,  34.6745,2,  34.6759,2,    122.8,2,    121.6,2,   158.05,2,    38.36,2,     0.00,2,     2.63,2,    0.000,2,   -0.002,2, -999.000,9, -999.000,9, -999.000,9,-999.0000,9,  -999.00,9,   -999.0,9,   -999.0,9,   -999.0,9,   -999.0,9,   -999.0,9,  -999.00,9, -999.00,  -999.0,-999.0000,-999.000, -999.00,  -999.0,  1.4396,-999.000
    31DSCG94_3,  P18N,   180,  1,    101,   1041,2,19940422,2136, 17.0000,-110.0000, 3521,   3550.8,   1.7107,  34.6749,2,  34.6745,2,    124.3,2,    122.6,6,   155.07,2,    38.48,2,     0.00,2,     2.59,2, -999.000,9, -999.000,9, -999.000,9, -999.000,9, -999.000,9,-999.0000,9,  -999.00,9,   -999.0,9,   -999.0,9,   -999.0,9,   -999.0,9,   -999.0,9,  -999.00,9, -999.00,  -999.0,-999.0000,-999.000, -999.00,  -999.0,  1.4340,-999.000