BOTTLE,20220630CCHSIOAMB
EXPOCODE,SECT_ID,STNNBR,CASTNO,SAMPNO,BTLNBR,BTLNBR_FLAG_W,DATE,TIME,LATITUDE,LONGITUDE,DEPTH,CTDPRS,CTDTMP,CTDSAL,CTDSAL_FLAG_W,SALNTY,SALNTY_FLAG_W,CTDOXY,CTDOXY_FLAG_W,OXYGEN,OXYGEN_FLAG_W,SILCAT,SILCAT_FLAG_W,NITRAT,NITRAT_FLAG_W,NITRIT,NITRIT_FLAG_W,PHSPHT,PHSPHT_FLAG_W,CFC-11,CFC-11_FLAG_W,CFC-12,CFC-12_FLAG_W,CFC113,CFC113_FLAG_W,CCL4,CCL4_FLAG_W,TRITUM,TRITUM_FLAG_W,HELIUM,HELIUM_FLAG_W,DELHE3,DELHE3_FLAG_W,DELC14,DELC14_FLAG_W,DELC13,DELC13_FLAG_W,TCARBN,TCARBN_FLAG_W,PCO2,PCO2_FLAG_W,ALKALI,ALKALI_FLAG_W,PH,PH_FLAG_W,PCO2TMP,C14ERR,HELIER,DELHER,PH_TMP,C13ERR,THETA,TRITER
,,,,,,,,,,,,DBAR,ITS-90,PSS-78,,PSS-78,,UMOL/KG,,UMOL/KG,,UMOL/KG,,UMOL/KG,,UMOL/KG,,UMOL/KG,,PMOL/KG,,PMOL/KG,,PMOL/KG,,PMOL/KG,,TU,,NMOL/KG,,PERCNT,,/MILLE,,/MILLE,,UMOL/KG,,UATM,,UMOL/KG,,,,DEG C,/MILLE,NMOL/KG,PERCNT,DEG C,/MILLE,DEG C,TU
    31DSCG94_2,  P18S,    68,  1,    136,   1025,2,19940318,0431,-35.5000,-102.9983, 3137,      9.7,  19.8005,  34.0514,2,  34.0522,2,    231.9,2,    232.0,2,     0.80,2,     1.91,2,     0.01,2,     0.32,2,    2.424,2,    1.311,2, -999.000,9, -999.000,9, -999.000,9,-999.0000,9,  -999.00,9,   -999.0,9,   -999.0,9,   1999.1,2,    375.7,2,   2254.0,2,     7.99,2,   20.00,  -999.0,-999.0000,-999.000,   25.00,  -999.0, 19.7988,-999.000
    31DSCG94_2,  P18S,    68,  1,    135,   1247,2,19940318,0431,-35.5000,-102.9983, 3137,     25.8,  19.7761,  34.0510,2,  34.0526,2,    232.9,2,    232.4,2,     0.84,2,     1.85,2,     0.00,2,     0.31,2,    2.456,2,    1.298,2, -999.000,9, -999.000,9, -999.000,9,-999.0000,9,  -999.00,9,   -999.0,9,   -999.0,9,   1997.6,2,    376.9,2,   2255.0,2,     7.99,2,   20.00,  -999.0,-999.0000,-999.000,   25.00,  -999.0, 19.7714,-999.000
    31DSCG94_2,  P18S,    68,  1,    134,   1108,2,19940318,0431,-35.5000,-102.9983, 3137,     52.2,  15.8313,  34.1284,2,  34.1430,2,    264.4,2,    275.1,2,     0.83,2,     1.04,2,     0.00,2,     0.27,2,    3.127,2,    1.596,2, -999.000,9, -999.000,9, -999.000,9,-999.0000,9,  -999.00,9,   -999.0,9,   -999.0,9,   2005.6,2,    384.8,2,   2255.0,2,     7.98,2,   20.00,  -999.0,-999.0000,-999.000,   25.00,  -999.0, 15.8232,-999.000
    31DSCG94_2,  P18S,    68,  1,    133,   1244,2,19940318,0431,-35.5000,-102.9983, 3137,     75.7,  14.1248,  34.0568,2,  34.0588,2,    267.5,2,    272.1,2,     0.87,2,     2.71,2,     0.04,2,     0.40,2,    3.271,2,    1.688,2, -999.000,9, -999.000,9, -999.000,9,-999.0000,9,  -999.00,9,   -999.0,9,   -999.0,9,   2014.4,2,    410.5,2,   2251.0,2,     7.96,2,   20.00,  -999.0,-999.0000,-999.000,   25.00,  -999.0, 14.1139,-999.000
    31DSCG94_2,  P18S,    68,  1,    132,   1003,3,19940318,0431,-35.5000,-102.9983, 3137,    100.5,  12.6550,  34.0109,2,  34.0221,2,    259.9,2,    262.1,2,     1.05,2,     4.70,2,     0.16,2,     0.53,2,    3.537,6,    1.763,6, -999.000,9, -999.000,9, -999.000,9,-999.0000,9,  -999.00,9,   -999.0,9,   -999.0,9,   2029.5,2,    450.4,2,   -999.0,5,     7.92,2,   20.00,  -999.0,-999.0000,-999.000,   25.00,  -999.0, 12.6416,-999.000
    31DSCG94_2,  P18S,    68,  1,    131,   1211,2,19940318,0431,-35.5000,-102.9983, 3137,    119.9,  12.0811,  34.0954,2,  34.1195,2,    252.5,2,    252.8,2,     1.18,2,     6.38,2,     0.31,2,     0.67,2,    3.378,2,    1.727,2, -999.000,9, -999.000,9, -999.000,9,-999.0000,9,  -999.00,9,   -999.0,9,   -999.0,9,   2048.5,2,    489.0,2,   2261.0,2,     7.89,2,   20.00,  -999.0,-999.0000,-999.000,   25.00,  -999.0, 12.0656,-999.000
    31DSCG94_2,  P18S,    68,  1,    130,   1241,2,19940318,0431,-35.5000,-102.9983, 3137,    151.8,  11.7360,  34.3231,2,  34.3234,2,    242.4,2,    232.8,2,     1.63,2,     9.19,2,     0.32,2,     0.84,2,    3.165,2,    1.570,2, -999.000,9, -999.000,9, -999.000,9,-999.0000,9,  -999.00,9,   -999.0,9,   -999.0,9,   2072.8,2,    535.3,2,   2271.0,2,     7.86,2,   20.00,  -999.0,-999.0000,-999.000,   25.00,  -999.0, 11.7166,-999.000
    31DSCG94_2,  P18S,    68,  1,    129,   1031,4,19940318,0431,-35.5000,-102.9983, 3137,    198.9,  10.0523,  34.3102,2,-999.0000,9,    235.6,2,   -999.0,9,  -999.00,9,  -999.00,9,  -999.00,9,  -999.00,9, -999.000,9, -999.000,9, -999.000,9, -999.000,9, -999.000,9,-999.0000,9,  -999.00,9,   -999.0,9,   -999.0,9,   -999.0,9,   -999.0,9,   -999.0,9,  -999.00,9, -999.00,  -999.0,-999.0000,-999.000, -999.00,  -999.0, 10.0293,-999.000
    31DSCG94_2,  P18S,    68,  1,    128,   1210,2,19940318,0431,-35.5000,-102.9983, 3137,    248.9,   8.7342,  34.3443,2,  34.3448,2,    231.2,2,    226.4,2,     3.94,2,    17.86,2,     0.00,2,     1.36,2,    2.542,2,    1.237,2, -999.000,9, -999.000,9, -999.000,9,-999.0000,9,  -999.00,9,   -999.0,9,   -999.0,9,   2115.0,2,    680.7,2,   2267.0,2,     7.77,2,   20.00,  -999.0,-999.0000,-999.000,   25.00,  -999.0,  8.7078,-999.000
    31DSCG94_2,  P18S,    68,  1,    127,   1008,2,19940318,0431,-35.5000,-102.9983, 3137,    297.6,   7.5645,  34.2992,2,  34.3004,2,    238.2,2,    237.4,2,     4.87,2,    20.20,2,     0.00,2,     1.49,2,    2.686,2,    1.274,2, -999.000,9, -999.000,9, -999.000,9,-999.0000,9,  -999.00,9,   -999.0,9,   -999.0,9,   2124.6,2,    717.7,3,   -999.0,5,     7.75,2,   20.00,  -999.0,-999.0000,-999.000,   25.00,  -999.0,  7.5354,-999.000
    31DSCG94_2,  P18S,    68,  1,    126,   1007,2,19940318,0431,-35.5000,-102.9983, 3137,    350.9,   6.9468,  34.3177,2,  34.3182,2,    241.4,2,    240.3,2,     6.37,2,    21.81,2,     0.00,2,     1.54,2,    2.576,2,    1.160,2, -999.000,9, -999.000,9, -999.000,9,-999.0000,9,  -999.00,9,   -999.0,9,   -999.0,9,   2131.4,2,    737.0,2,   2277.0,2,     7.74,2,   20.00,  -999.0,-999.0000,-999.000,   25.00,  -999.0,  6.9141,-999.000
    31DSCG94_2,  P18S,    68,  1,    125,   1203,2,19940318,0431,-35.5000,-102.9983, 3137,    399.8,   6.6352,  34.3342,2,  34.3347,2,    245.6,2,    246.8,2,     7.32,2,    21.96,2,     0.00,2,     1.55,2,    2.273,2,    1.099,2, -999.000,9, -999.000,9, -999.000,9,-999.0000,9,  -999.00,9,   -999.0,9,   -999.0,9,   2132.8,2,    734.7,2,   2275.0,2,     7.74,2,   20.00,  -999.0,-999.0000,-999.000,   25.00,  -999.0,  6.5987,-999.000
    31DSCG94_2,  P18S,    68,  1,    123,   1101,2,19940318,0431,-35.5000,-102.9983, 3137,    496.0,   6.2280,  34.3184,2,  34.3185,2,    249.9,2,    250.8,2,     8.52,2,    23.00,2,     0.00,2,     1.65,2,    1.920,2,    0.933,2, -999.000,9, -999.000,9, -999.000,9,-999.0000,9,  -999.00,9,   -999.0,9,   -999.0,9,   2133.7,2,   -999.0,9,   2282.0,2,     7.74,2, -999.00,  -999.0,-999.0000,-999.000,   25.00,  -999.0,  6.1840,-999.000
    31DSCG94_2,  P18S,    68,  1,    121,   1206,2,19940318,0431,-35.5000,-102.9983, 3137,    601.6,   5.8257,  34.2942,2,  34.2950,2,    248.6,2,    250.9,6,     9.87,2,    23.73,2,     0.00,2,     1.72,2,    1.512,2,    0.747,2, -999.000,9, -999.000,9, -999.000,9,-999.0000,9,  -999.00,9,   -999.0,9,   -999.0,9,   2137.6,2,    749.0,2,   2280.0,2,     7.73,2,   20.00,  -999.0,-999.0000,-999.000,   25.00,  -999.0,  5.7737,-999.000
    31DSCG94_2,  P18S,    68,  1,    119,   1248,2,19940318,0431,-35.5000,-102.9983, 3137,    698.6,   5.4414,  34.2741,2,  34.2758,2,    243.0,2,    245.9,2,    12.08,2,    25.15,2,     0.00,2,     1.79,2,    1.140,2,    0.563,2, -999.000,9, -999.000,9, -999.000,9,-999.0000,9,  -999.00,9,   -999.0,9,   -999.0,9,   2146.2,2,    780.3,3,   2277.0,2,     7.72,2,   20.00,  -999.0,-999.0000,-999.000,   25.00,  -999.0,  5.3826,-999.000
    31DSCG94_2,  P18S,    68,  1,    118,   1207,2,19940318,0431,-35.5000,-102.9983, 3137,    798.3,   4.9863,  34.2652,2,  34.2663,2,    230.4,2,    231.2,2,    17.06,2,    27.54,2,     0.00,2,     1.93,2,    0.646,6,    0.340,6, -999.000,9, -999.000,9, -999.000,9,-999.0000,9,  -999.00,9,   -999.0,9,   -999.0,9,   2157.7,2,    847.3,2,   2284.0,2,     7.69,2,   20.00,  -999.0,-999.0000,-999.000,   25.00,  -999.0,  4.9213,-999.000
    31DSCG94_2,  P18S,    68,  1,    117,   1119,2,19940318,0431,-35.5000,-102.9983, 3137,    900.4,   4.5800,  34.2787,2,  34.2793,2,    212.8,2,    213.5,2,    24.00,2,    29.72,2,     0.00,2,     2.08,2,    0.315,2,    0.167,2, -999.000,9, -999.000,9, -999.000,9,-999.0000,9,  -999.00,9,   -999.0,9,   -999.0,9,   2176.6,2,    929.1,2,   2292.0,2,     7.65,2,   20.00,  -999.0,-999.0000,-999.000,   25.00,  -999.0,  4.5089,-999.000
    31DSCG94_2,  P18S,    68,  1,    116,   1036,2,19940318,0431,-35.5000,-102.9983, 3137,    999.6,   4.1204,  34.3082,2,  34.3082,2,    196.2,2,    195.7,2,    32.05,2,    31.67,2,     0.00,2,     2.22,2,    0.125,6,    0.074,6, -999.000,9, -999.000,9, -999.000,9,-999.0000,9,  -999.00,9,   -999.0,9,   -999.0,9,   2194.2,2,   1016.8,2,   2292.0,2,     7.62,2,   20.00,  -999.0,-999.0000,-999.000,   25.00,  -999.0,  4.0442,-999.000
    31DSCG94_2,  P18S,    68,  1,    115,   1017,2,19940318,0431,-35.5000,-102.9983, 3137,   1098.9,   3.7511,  34.3627,2,  34.3622,2,    171.5,2,    169.6,6,    44.29,2,    34.28,2,     0.00,2,     2.40,2,    0.022,2,    0.013,2, -999.000,9, -999.000,9, -999.000,9,-999.0000,9,  -999.00,9,   -999.0,9,   -999.0,9,   -999.0,9,   -999.0,9,   -999.0,9,  -999.00,9, -999.00,  -999.0,-999.0000,-999.000, -999.00,  -999.0,  3.6695,-999.000
    31DSCG94_2,  P18S,    68,  1,    114,   1016,2,19940318,0431,-35.5000,-102.9983, 3137,   1195.8,   3.4358,  34.4339,2,  34.4324,2,    154.4,2,    146.1,2,    60.05,2,    36.10,2,     0.00,2,     2.55,2,    0.000,2,    0.001,2, -999.000,9, -999.000,9, -999.000,9,-999.0000,9,  -999.00,9,   -999.0,9,   -999.0,9,   -999.0,9,   -999.0,9,   -999.0,9,     7.54,2, -999.00,  -999.0,-999.0000,-999.000,   25.00,  -999.0,  3.3489,-999.000
    31DSCG94_2,  P18S,    68,  1,    113,   1209,2,19940318,0431,-35.5000,-102.9983, 3137,   1301.0,   3.2537,  34.4817,2,  34.4796,2,    137.4,2,    134.1,2,    71.92,2,    37.71,2,     0.00,2,     2.60,2,    0.018,2,    0.001,2, -999.000,9, -999.000,9, -999.000,9,-999.0000,9,  -999.00,9,   -999.0,9,   -999.0,9,   -999.0,9,   -999.0,9,   -999.0,9,  -999.00,9, -999.00,  -999.0,-999.0000,-999.000, -999.00,  -999.0,  3.1598,-999.000
    31DSCG94_2,  P18S,    68,  1,    112,   1033,2,19940318,0431,-35.5000,-102.9983, 3137,   1396.3,   3.0982,  34.5136,2,  34.5130,2,    129.6,2,    128.9,2,    79.63,2,    37.22,2,     0.00,2,     2.62,2,   -0.004,2,    0.001,2, -999.000,9, -999.000,9, -999.000,9,-999.0000,9,  -999.00,9,   -999.0,9,   -999.0,9,   -999.0,9,   -999.0,9,   -999.0,9,     7.52,2, -999.00,  -999.0,-999.0000,-999.000,   25.00,  -999.0,  2.9980,-999.000
    31DSCG94_2,  P18S,    68,  1,    111,   1263,2,19940318,0431,-35.5000,-102.9983, 3137,   1502.7,   2.9130,  34.5418,2,  34.5416,2,    129.4,2,    132.3,2,    85.16,2,    37.26,2,     0.00,2,     2.64,2,   -0.002,2,   -0.003,2, -999.000,9, -999.000,9, -999.000,9,-999.0000,9,  -999.00,9,   -999.0,9,   -999.0,9,   -999.0,9,   -999.0,9,   -999.0,9,     7.53,2, -999.00,  -999.0,-999.0000,-999.000,   25.00,  -999.0,  2.8060,-999.000
    31DSCG94_2,  P18S,    68,  1,    110,   1005,2,19940318,0431,-35.5000,-102.9983, 3137,   1596.1,   2.7639,  34.5612,2,  34.5608,2,    133.1,2,    134.9,6,    89.09,2,    36.89,2,     0.00,2,     2.63,2, -999.000,9, -999.000,9, -999.000,9, -999.000,9, -999.000,9,-999.0000,9,  -999.00,9,   -999.0,9,   -999.0,9,   -999.0,9,   -999.0,9,   -999.0,9,     7.53,2, -999.00,  -999.0,-999.0000,-999.000,   25.00,  -999.0,  2.6509,-999.000
    31DSCG94_2,  P18S,    68,  1,    109,   1611,2,19940318,0431,-35.5000,-102.9983, 3137,   1799.4,   2.4437,  34.5965,2,  34.5960,2,    143.0,2,    147.0,2,    95.75,2,    35.90,2,     0.00,2,     2.52,2,   -0.003,2,   -0.004,2, -999.000,9, -999.000,9, -999.000,9,-999.0000,9,  -999.00,9,   -999.0,9,   -999.0,9,   -999.0,9,   -999.0,9,   -999.0,9,     7.55,2, -999.00,  -999.0,-999.0000,-999.000,   25.00,  -999.0,  2.3178,-999.000
    31DSCG94_2,  P18S,    68,  1,    108,   1218,2,19940318,0431,-35.5000,-102.9983, 3137,   1997.8,   2.2240,  34.6273,2,  34.6272,2,    151.8,2,    155.2,2,   101.41,2,    34.76,2,     0.00,2,     2.43,2, -999.000,9, -999.000,9, -999.000,9, -999.000,9, -999.000,9,-999.0000,9,  -999.00,9,   -999.0,9,   -999.0,9,   -999.0,9,   -999.0,9,   -999.0,9,     7.57,2, -999.00,  -999.0,-999.0000,-999.000,   25.00,  -999.0,  2.0843,-999.000
    31DSCG94_2,  P18S,    68,  1,    107,   1257,2,19940318,0431,-35.5000,-102.9983, 3137,   2200.2,   2.0137,  34.6573,2,  34.6565,2,    158.1,2,    160.0,2,   107.43,2,    34.46,2,     0.00,2,     2.40,2,   -0.002,2,   -0.002,2, -999.000,9, -999.000,9, -999.000,9,-999.0000,9,  -999.00,9,   -999.0,9,   -999.0,9,   -999.0,9,   -999.0,9,   -999.0,9,     7.58,2, -999.00,  -999.0,-999.0000,-999.000,   25.00,  -999.0,  1.8598,-999.000
    31DSCG94_2,  P18S,    68,  1,    106,   1224,2,19940318,0431,-35.5000,-102.9983, 3137,   2396.9,   1.8640,  34.6717,2,  34.6717,2,    161.3,2,    162.7,2,   111.95,2,    33.77,2,     0.00,2,     2.38,2, -999.000,9, -999.000,9, -999.000,9, -999.000,9, -999.000,9,-999.0000,9,  -999.00,9,   -999.0,9,   -999.0,9,   -999.0,9,   -999.0,9,   -999.0,9,  -999.00,9, -999.00,  -999.0,-999.0000,-999.000, -999.00,  -999.0,  1.6953,-999.000
    31DSCG94_2,  P18S,    68,  1,    105,   1246,2,19940318,0431,-35.5000,-102.9983, 3137,   2599.2,   1.7884,  34.6780,2,  34.6779,2,    163.7,2,    164.4,2,   113.81,2,    34.12,2,     0.00,2,     2.38,2,   -0.004,2,    0.002,2, -999.000,9, -999.000,9, -999.000,9,-999.0000,9,  -999.00,9,   -999.0,9,   -999.0,9,   -999.0,9,   -999.0,9,   -999.0,9,  -999.00,9, -999.00,  -999.0,-999.0000,-999.000, -999.00,  -999.0,  1.6029,-999.000
    31DSCG94_2,  P18S,    68,  1,    104,   1217,2,19940318,0431,-35.5000,-102.9983, 3137,   2800.2,   1.7583,  34.6823,2,  34.6821,2,    165.8,2,    165.8,2,   114.14,2,    33.94,2,     0.00,2,     2.41,2, -999.000,9, -999.000,9, -999.000,9, -999.000,9, -999.000,9,-999.0000,9,  -999.00,9,   -999.0,9,   -999.0,9,   -999.0,9,   -999.0,9,   -999.0,9,  -999.00,9, -999.00,  -999.0,-999.0000,-999.000, -999.00,  -999.0,  1.5548,-999.000
    31DSCG94_2,  P18S,    68,  1,    102,   1223,2,19940318,0431,-35.5000,-102.9983, 3137,   2997.2,   1.7542,  34.6845,2,  34.6846,2,    167.4,2,    166.8,2,   116.18,2,    34.38,2,     0.00,2,     2.37,2, -999.000,9, -999.000,9, -999.000,9, -999.000,9, -999.000,9,-999.0000,9,  -999.00,9,   -999.0,9,   -999.0,9,   -999.0,9,   -999.0,9,   -999.0,9,  -999.00,9, -999.00,  -999.0,-999.0000,-999.000, -999.00,  -999.0,  1.5320,-999.000
    31DSCG94_2,  P18S,    68,  1,    103,   9999,2,19940318,0431,-35.5000,-102.9983, 3137,   2997.9,   1.7546,  34.6844,2,  34.6844,2,    167.4,2,    165.9,2,   114.38,2,    33.94,2,     0.00,2,     2.40,2,   -0.003,2,    0.002,2, -999.000,9, -999.000,9, -999.000,9,-999.0000,9,  -999.00,9,   -999.0,9,   -999.0,9,   -999.0,9,   -999.0,9,   -999.0,9,  -999.00,9, -999.00,  -999.0,-999.0000,-999.000, -999.00,  -999.0,  1.5323,-999.000
    31DSCG94_2,  P18S,    68,  1,    101,   1041,2,19940318,0431,-35.5000,-102.9983, 3137,   3156.0,   1.7685,  34.6843,2,  34.6839,2,    167.6,2,    166.8,2,   117.03,2,    33.61,2,     0.00,2,     2.41,2,    0.000,2,    0.010,2, -999.000,9, -999.000,9, -999.000,9,-999.0000,9,  -999.00,9,   -999.0,9,   -999.0,9,   -999.0,9,   -999.0,9,   -999.0,9,  -999.00,9, -999.00,  -999.0,-999.0000,-999.000, -999.00,  -999.0,  1.5304,-999.000