BOTTLE,20220630CCHSIOAMB
EXPOCODE,SECT_ID,STNNBR,CASTNO,SAMPNO,BTLNBR,BTLNBR_FLAG_W,DATE,TIME,LATITUDE,LONGITUDE,DEPTH,CTDPRS,CTDTMP,CTDSAL,CTDSAL_FLAG_W,SALNTY,SALNTY_FLAG_W,CTDOXY,CTDOXY_FLAG_W,OXYGEN,OXYGEN_FLAG_W,SILCAT,SILCAT_FLAG_W,NITRAT,NITRAT_FLAG_W,NITRIT,NITRIT_FLAG_W,PHSPHT,PHSPHT_FLAG_W,CFC-11,CFC-11_FLAG_W,CFC-12,CFC-12_FLAG_W,CFC113,CFC113_FLAG_W,CCL4,CCL4_FLAG_W,TRITUM,TRITUM_FLAG_W,HELIUM,HELIUM_FLAG_W,DELHE3,DELHE3_FLAG_W,DELC14,DELC14_FLAG_W,DELC13,DELC13_FLAG_W,TCARBN,TCARBN_FLAG_W,PCO2,PCO2_FLAG_W,ALKALI,ALKALI_FLAG_W,PH,PH_FLAG_W,PCO2TMP,C14ERR,HELIER,DELHER,PH_TMP,C13ERR,THETA,TRITER
,,,,,,,,,,,,DBAR,ITS-90,PSS-78,,PSS-78,,UMOL/KG,,UMOL/KG,,UMOL/KG,,UMOL/KG,,UMOL/KG,,UMOL/KG,,PMOL/KG,,PMOL/KG,,PMOL/KG,,PMOL/KG,,TU,,NMOL/KG,,PERCNT,,/MILLE,,/MILLE,,UMOL/KG,,UATM,,UMOL/KG,,,,DEG C,/MILLE,NMOL/KG,PERCNT,DEG C,/MILLE,DEG C,TU
    31DSCG94_3,  P18N,    89,  1,    136,   1025,2,19940329,1153,-24.9880,-103.0008, 3833,     10.2,  24.4613,  36.0196,2,  36.0177,2,    220.3,2,   -999.0,9,     1.35,2,     0.15,2,     0.00,2,     0.12,2,    1.933,2,    1.101,2, -999.000,5, -999.000,5,    0.682,2,   1.7536,2,    -1.14,2,    117.9,2,      1.6,2,   2051.0,2,    318.6,2,   2368.0,6,     8.06,2,   20.00,     5.8,-999.0000,-999.000,   25.00,  -999.0, 24.4591,   0.007
    31DSCG94_3,  P18N,    89,  1,    135,   1247,2,19940329,1153,-24.9880,-103.0008, 3833,     24.1,  24.4724,  36.0184,2,  36.0180,2,    215.2,2,   -999.0,9,     1.44,2,     0.03,2,     0.00,2,     0.14,2,    1.962,2,    1.081,2, -999.000,9, -999.000,9, -999.000,9,-999.0000,9,  -999.00,9,    137.3,2,      1.6,2,   2047.6,2,    316.3,2,   -999.0,5,     8.06,2,   20.00,     3.3,-999.0000,-999.000,   25.00,  -999.0, 24.4673,-999.000
    31DSCG94_3,  P18N,    89,  1,    134,   1108,2,19940329,1153,-24.9880,-103.0008, 3833,     49.6,  24.3193,  35.9923,2,  36.0061,2,    215.9,2,   -999.0,9,     1.38,2,     0.00,2,     0.00,2,     0.12,2,    1.969,2,    1.108,2, -999.000,9, -999.000,9,    0.669,2,   1.7532,2,    -0.75,2,    130.3,2,      1.6,2,   2047.6,2,    319.0,2,   2371.0,2,     8.06,2,   20.00,     3.5,-999.0000,-999.000,   25.00,  -999.0, 24.3087,   0.007
    31DSCG94_3,  P18N,    89,  1,    133,   1244,2,19940329,1153,-24.9880,-103.0008, 3833,     74.6,  21.4373,  35.6650,2,  35.6708,2,    236.7,2,   -999.0,9,     1.38,2,     0.00,2,     0.00,2,     0.11,2,    2.302,2,    1.253,2, -999.000,9, -999.000,9, -999.000,9,-999.0000,9,  -999.00,9,    122.5,2,      1.6,2,   2036.9,2,    325.7,2,   2352.0,2,     8.05,2,   20.00,     4.4,-999.0000,-999.000,   25.00,  -999.0, 21.4227,-999.000
    31DSCG94_3,  P18N,    89,  1,    132,   1003,2,19940329,1153,-24.9880,-103.0008, 3833,    101.4,  20.6535,  35.6684,2,  35.6708,2,    228.8,2,   -999.0,9,     1.29,2,     0.04,2,     0.00,2,     0.10,2,    2.300,2,    1.254,2, -999.000,5, -999.000,5,    0.693,2,   1.8812,2,    -1.40,2,    143.5,2,      1.5,2,   2032.1,2,    331.5,2,   2348.0,2,     8.05,2,   20.00,     6.5,-999.0000,-999.000,   25.00,  -999.0, 20.6343,   0.007
    31DSCG94_3,  P18N,    89,  1,    131,   1211,2,19940329,1153,-24.9880,-103.0008, 3833,    125.0,  20.3226,  35.6758,2,  35.6754,2,    225.7,2,   -999.0,9,     1.44,2,     0.05,2,     0.00,2,     0.13,2,    2.288,2,    1.232,2, -999.000,9, -999.000,9,    0.655,2,   1.7755,2,    -1.34,2,    136.0,2,      1.5,2,   2037.0,2,    324.9,2,   2348.0,2,     8.05,2,   20.00,     4.2,-999.0000,-999.000,   25.00,  -999.0, 20.2992,   0.007
    31DSCG94_3,  P18N,    89,  1,    130,   1241,2,19940329,1153,-24.9880,-103.0008, 3833,    150.0,  19.8252,  35.5883,2,  35.5888,2,    223.8,2,   -999.0,9,     1.37,2,     0.01,2,     0.00,2,     0.13,2,    2.336,2,    1.261,2, -999.000,9, -999.000,9,    0.688,2,   1.8286,2,    -1.32,2,    134.6,2,      1.5,2,   2038.8,2,    341.3,2,   2346.0,2,     8.03,2,   20.00,     5.7,-999.0000,-999.000,   25.00,  -999.0, 19.7976,   0.007
    31DSCG94_3,  P18N,    89,  1,    129,   1031,2,19940329,1153,-24.9880,-103.0008, 3833,    201.2,  18.4339,  35.2773,2,  35.3009,2,    224.2,2,   -999.0,9,     1.31,2,     0.00,2,     0.00,2,     0.15,2,    2.461,2,    1.338,2, -999.000,5, -999.000,5,    0.659,2,   1.7996,2,    -1.28,2,   -999.0,9,      1.5,2,   2037.1,2,    354.1,2,   2323.0,2,     8.01,2,   20.00,  -999.0,-999.0000,-999.000,   25.00,  -999.0, 18.3987,   0.007
    31DSCG94_3,  P18N,    89,  1,    128,   1032,3,19940329,1153,-24.9880,-103.0008, 3833,    250.9,  16.0460,  34.9418,2,-999.0000,9,    207.0,2,   -999.0,9,  -999.00,9,  -999.00,9,  -999.00,9,  -999.00,9,    2.272,2,    1.237,2, -999.000,9, -999.000,9, -999.000,9,-999.0000,9,  -999.00,9,   -999.0,9,   -999.0,9,   2078.6,3,    439.9,2,   2285.0,3,  -999.00,9,   20.00,  -999.0,-999.0000,-999.000, -999.00,  -999.0, 16.0062,-999.000
    31DSCG94_3,  P18N,    89,  1,    127,   1008,2,19940329,1153,-24.9880,-103.0008, 3833,    298.6,  13.8879,  34.7451,2,  34.7463,2,    196.9,2,   -999.0,9,     2.31,2,     7.11,2,     0.00,2,     0.63,2,    2.225,2,    1.133,2, -999.000,9, -999.000,9,    0.499,2,   1.9388,2,     0.20,2,   -999.0,9,      1.4,2,   2108.4,3,    502.7,2,   2274.0,2,     7.88,2,   20.00,  -999.0,-999.0000,-999.000,   25.00,  -999.0, 13.8449,   0.006
    31DSCG94_3,  P18N,    89,  1,    126,   1007,2,19940329,1153,-24.9880,-103.0008, 3833,    349.7,  11.2170,  34.4847,2,  34.4810,2,    194.1,2,   -999.0,9,     4.38,2,    13.79,2,     0.00,2,     1.08,2,    2.024,6,    1.030,6, -999.000,5, -999.000,5,    0.358,2,   1.8156,2,     0.38,2,     88.8,2,      1.3,2,   2144.2,3,    631.3,2,   2277.0,2,  -999.00,9,   20.00,     3.3,-999.0000,-999.000, -999.00,  -999.0, 11.1733,   0.006
    31DSCG94_3,  P18N,    89,  1,    125,   1203,2,19940329,1153,-24.9880,-103.0008, 3833,    397.9,   9.3136,  34.3873,2,  34.3846,2,    181.5,2,   -999.0,9,     7.86,2,    20.21,2,     0.00,2,     1.50,2,    1.667,2,    0.814,2, -999.000,9, -999.000,9,    0.259,2,   1.8259,2,     0.91,2,     45.2,2,      1.1,2,   2170.0,3,    804.2,2,   2274.0,2,     7.70,2,   20.00,     3.5,-999.0000,-999.000,   25.00,  -999.0,  9.2693,   0.005
    31DSCG94_3,  P18N,    89,  1,    123,   1220,2,19940329,1153,-24.9880,-103.0008, 3833,    502.1,   6.8333,  34.3461,2,  34.3461,2,    180.1,2,   -999.0,9,    13.14,2,    26.85,2,     0.01,2,     1.87,2,    0.985,2,    0.507,2, -999.000,5, -999.000,5,    0.128,2,   1.8143,2,     1.01,2,    -11.2,2,      1.0,2,   2157.1,2,    931.7,2,   2278.0,3,     7.64,2,   20.00,     3.1,-999.0000,-999.000,   25.00,  -999.0,  6.7863,   0.004
    31DSCG94_3,  P18N,    89,  1,    122,   1245,2,19940329,1153,-24.9880,-103.0008, 3833,    600.1,   5.8602,  34.3043,2,  34.3039,2,    203.3,2,   -999.0,9,    13.58,2,    26.41,2,     0.00,2,     1.80,2,    0.820,2,    0.438,2, -999.000,9, -999.000,9,    0.133,2,   1.8054,2,     1.11,2,   -999.0,9,   -999.0,5,   2172.5,2,    857.2,2,   2286.0,2,     7.68,2,   20.00,  -999.0,-999.0000,-999.000,   25.00,  -999.0,  5.8082,   0.004
    31DSCG94_3,  P18N,    89,  1,    121,   1206,2,19940329,1153,-24.9880,-103.0008, 3833,    698.2,   5.2562,  34.2924,2,  34.2922,2,    191.5,2,   -999.0,9,    19.42,2,    28.79,2,     0.00,2,     1.94,2,    0.447,2,    0.248,2, -999.000,9, -999.000,9, -999.000,9,-999.0000,9,  -999.00,9,    -55.2,2,      1.1,2,   2172.8,2,    911.0,2,   2283.0,2,     7.65,2,   20.00,     4.9,-999.0000,-999.000,   25.00,  -999.0,  5.1985,-999.000
    31DSCG94_3,  P18N,    89,  1,    120,   1028,2,19940329,1153,-24.9880,-103.0008, 3833,    799.3,   4.8467,  34.3352,2,  34.3365,2,    161.9,2,   -999.0,9,    32.87,2,    33.24,2,     0.00,2,     2.24,2,    0.123,2,    0.076,2, -999.000,9, -999.000,9,    0.011,2,   1.8156,2,     3.84,2,   -101.1,2,      0.8,2,   2209.1,2,   1115.7,2,   2291.0,2,     7.58,2,   20.00,     3.0,-999.0000,-999.000,   25.00,  -999.0,  4.7825,   0.003
    31DSCG94_3,  P18N,    89,  1,    119,   1248,2,19940329,1153,-24.9880,-103.0008, 3833,    900.5,   4.4430,  34.3844,2,  34.3852,2,    144.9,2,   -999.0,9,    45.79,2,    35.91,2,     0.00,2,     2.42,2,    0.038,6,    0.025,6, -999.000,5, -999.000,5, -999.000,9,-999.0000,9,  -999.00,9,   -144.7,2,      0.6,2,   2235.6,2,   1243.4,2,   2313.0,2,     7.54,2,   20.00,     8.8,-999.0000,-999.000,   25.00,  -999.0,  4.3727,-999.000
    31DSCG94_3,  P18N,    89,  1,    118,   1207,2,19940329,1153,-24.9880,-103.0008, 3833,   1000.9,   4.0684,  34.4381,2,  34.4379,2,    133.8,2,   -999.0,9,    59.81,2,    36.79,2,     0.01,2,     2.58,2,    0.027,2,    0.008,2, -999.000,9, -999.000,9,    0.009,2,   1.8928,2,    10.43,2,   -156.0,2,      0.5,2,   2255.1,2,   1319.1,2,   2326.0,6,     7.52,2,   20.00,     3.7,-999.0000,-999.000,   25.00,  -999.0,  3.9923,   0.003
    31DSCG94_3,  P18N,    89,  1,    117,   1119,2,19940329,1153,-24.9880,-103.0008, 3833,   1101.0,   3.7827,  34.4756,2,  34.4742,2,    133.9,2,   -999.0,9,    68.96,2,    36.90,2,     0.00,2,     2.59,2,    0.006,2,    0.001,2, -999.000,9, -999.000,9, -999.000,9,-999.0000,9,  -999.00,9,   -162.0,2,      0.4,2,   2266.2,2,   1310.0,2,   2332.0,2,     7.52,2,   20.00,     2.9,-999.0000,-999.000,   25.00,  -999.0,  3.7004,-999.000
    31DSCG94_3,  P18N,    89,  1,    116,   1036,2,19940329,1153,-24.9880,-103.0008, 3833,   1201.8,   3.4874,  34.5120,2,  34.5121,2,    137.9,2,   -999.0,9,    77.91,2,    36.07,2,     0.02,2,     2.55,2,    0.006,2,    0.001,2, -999.000,9, -999.000,9, -999.000,9,-999.0000,9,  -999.00,9,   -182.3,2,      0.3,2,   2270.7,2,   1281.0,2,   2346.0,2,     7.53,2,   20.00,     3.0,-999.0000,-999.000,   25.00,  -999.0,  3.3993,-999.000
    31DSCG94_3,  P18N,    89,  1,    115,   1017,2,19940329,1153,-24.9880,-103.0008, 3833,   1297.8,   3.2457,  34.5314,2,  34.5320,2,    141.6,2,   -999.0,9,    83.74,2,    35.81,2,     0.00,2,     2.53,2,    0.009,2,    0.000,2, -999.000,9, -999.000,9,    0.003,2,   2.0547,2,    17.18,2,   -200.5,2,      0.3,2,   2274.2,2,   -999.0,9,   2354.0,2,     7.54,2, -999.00,     3.3,-999.0000,-999.000,   25.00,  -999.0,  3.1521,   0.003
    31DSCG94_3,  P18N,    89,  1,    114,   1016,2,19940329,1153,-24.9880,-103.0008, 3833,   1400.0,   2.9750,  34.5517,2,  34.5525,2,    145.0,2,   -999.0,9,    89.89,2,    35.90,2,     0.00,2,     2.52,2,    0.013,2,    0.007,2, -999.000,9, -999.000,9, -999.000,9,-999.0000,9,  -999.00,9,   -189.3,2,      0.4,2,   2279.5,2,   1238.5,2,   2364.0,2,     7.55,2,   20.00,     2.7,-999.0000,-999.000,   25.00,  -999.0,  2.8757,-999.000
    31DSCG94_3,  P18N,    89,  1,    113,   1209,2,19940329,1153,-24.9880,-103.0008, 3833,   1499.8,   2.7571,  34.5694,2,  34.5694,2,    146.6,2,   -999.0,9,    95.20,2,    36.23,2,     0.00,2,     2.52,2, -999.000,9, -999.000,9, -999.000,9, -999.000,9,    0.007,2,   1.9156,2,    21.33,2,   -191.1,2,      0.3,2,   2285.0,2,   1243.7,2,   2364.0,2,     7.55,2,   20.00,     3.3,-999.0000,-999.000,   25.00,  -999.0,  2.6521,   0.003
    31DSCG94_3,  P18N,    89,  1,    112,   1033,2,19940329,1153,-24.9880,-103.0008, 3833,   1599.7,   2.5902,  34.5844,2,  34.5850,2,    148.2,2,   -999.0,9,   100.05,2,    36.23,2,     0.00,2,     2.52,2,    0.003,2,    0.002,2, -999.000,9, -999.000,9, -999.000,9,-999.0000,9,  -999.00,9,   -201.0,2,      0.3,2,   2289.1,2,   1237.6,2,   2374.0,2,     7.55,2,   20.00,     2.6,-999.0000,-999.000,   25.00,  -999.0,  2.4789,-999.000
    31DSCG94_3,  P18N,    89,  1,    111,   1240,2,19940329,1153,-24.9880,-103.0008, 3833,   1799.6,   2.2650,  34.6151,2,  34.6156,2,    154.7,2,   -999.0,9,   108.70,2,    35.65,2,     0.00,2,     2.45,2, -999.000,9, -999.000,9, -999.000,9, -999.000,9,    0.006,2,-999.0000,9,  -999.00,9,   -202.1,2,      0.3,2,   2292.0,2,   1207.2,2,   2376.0,2,     7.56,2,   20.00,     6.0,-999.0000,-999.000,   25.00,  -999.0,  2.1414,   0.003
    31DSCG94_3,  P18N,    89,  1,    110,   1005,2,19940329,1153,-24.9880,-103.0008, 3833,   2001.5,   2.0815,  34.6359,2,  34.6361,2,    158.3,2,   -999.0,9,   114.83,2,    35.25,2,     0.00,2,     2.42,2,    0.017,2,    0.001,2, -999.000,9, -999.000,9, -999.000,9,-999.0000,9,  -999.00,9,   -206.0,2,      0.1,2,   2295.6,2,   -999.0,9,   2391.0,2,     7.57,2, -999.00,     2.8,-999.0000,-999.000,   25.00,  -999.0,  1.9437,-999.000
    31DSCG94_3,  P18N,    89,  1,    109,   1611,2,19940329,1153,-24.9880,-103.0008, 3833,   2248.2,   1.9360,  34.6545,2,  34.6552,2,    163.1,2,   -999.0,9,   118.90,2,    34.94,2,     0.00,2,     2.41,2, -999.000,9, -999.000,9, -999.000,9, -999.000,9, -999.000,9,-999.0000,9,  -999.00,9,   -218.3,2,      0.2,2,   2298.4,2,   1172.1,2,   2387.0,2,     7.58,2,   20.00,     3.9,-999.0000,-999.000,   25.00,  -999.0,  1.7793,-999.000
    31DSCG94_3,  P18N,    89,  1,    108,   1218,2,19940329,1153,-24.9880,-103.0008, 3833,   2499.7,   1.8723,  34.6642,2,  34.6654,2,    165.7,2,   -999.0,9,   120.28,2,    34.59,2,     0.00,2,     2.39,2,   -0.008,2,   -0.002,2, -999.000,5, -999.000,5, -999.000,9,-999.0000,9,  -999.00,9,   -215.6,2,      0.2,2,   2301.1,2,   1149.4,2,   2394.0,2,     7.58,2,   20.00,     2.9,-999.0000,-999.000,   25.00,  -999.0,  1.6943,-999.000
    31DSCG94_3,  P18N,    89,  1,    107,   1257,2,19940329,1153,-24.9880,-103.0008, 3833,   2746.4,   1.8384,  34.6711,2,  34.6705,2,    166.4,2,   -999.0,9,   122.33,2,    34.61,2,     0.00,2,     2.40,2, -999.000,9, -999.000,9, -999.000,9, -999.000,9, -999.000,9,-999.0000,9,  -999.00,9,   -210.0,2,      0.2,2,   2304.1,2,   1153.5,2,   2403.0,2,     7.59,2,   20.00,     2.7,-999.0000,-999.000,   25.00,  -999.0,  1.6383,-999.000
    31DSCG94_3,  P18N,    89,  1,    106,   1224,2,19940329,1153,-24.9880,-103.0008, 3833,   2999.4,   1.8132,  34.6777,2,  34.6782,2,    165.1,2,   -999.0,9,   125.69,2,    34.79,2,     0.00,2,     2.42,2,    0.003,2,    0.002,2, -999.000,9, -999.000,9, -999.000,9,-999.0000,9,  -999.00,9,   -216.8,2,      0.2,2,   2311.2,2,   1147.4,2,   2405.0,2,     7.59,2,   20.00,     2.8,-999.0000,-999.000,   25.00,  -999.0,  1.5895,-999.000
    31DSCG94_3,  P18N,    89,  1,    105,   1246,2,19940329,1153,-24.9880,-103.0008, 3833,   3251.7,   1.8084,  34.6815,2,  34.6822,2,    163.3,2,   -999.0,9,   127.80,2,    34.93,2,     0.00,2,     2.46,2, -999.000,9, -999.000,9, -999.000,9, -999.000,9, -999.000,9,-999.0000,9,  -999.00,9,   -224.8,2,      0.2,2,   2316.5,2,   -999.0,9,   2414.0,2,     7.59,2, -999.00,     3.8,-999.0000,-999.000,   25.00,  -999.0,  1.5598,-999.000
    31DSCG94_3,  P18N,    89,  1,    104,   1217,2,19940329,1153,-24.9880,-103.0008, 3833,   3498.4,   1.8265,  34.6826,2,  34.6833,2,    161.7,2,   -999.0,9,   129.16,2,    35.08,2,     0.00,2,     2.47,2,    0.004,2,    0.000,2, -999.000,9, -999.000,9, -999.000,9,-999.0000,9,  -999.00,9,   -209.3,2,      0.2,2,   2320.6,2,   1150.3,2,   2418.0,2,     7.59,2,   20.00,     3.0,-999.0000,-999.000,   25.00,  -999.0,  1.5522,-999.000
    31DSCG94_3,  P18N,    89,  1,    103,   9999,2,19940329,1153,-24.9880,-103.0008, 3833,   3749.7,   1.8484,  34.6831,2,  34.6834,2,    161.5,2,   -999.0,9,   131.26,2,    35.27,2,     0.00,2,     2.44,2,    0.002,2,    0.001,2, -999.000,5, -999.000,5, -999.000,9,-999.0000,9,  -999.00,9,   -999.0,9,   -999.0,9,   2320.9,2,   1144.0,2,   2412.0,2,     7.59,2,   20.00,  -999.0,-999.0000,-999.000,   25.00,  -999.0,  1.5469,-999.000
    31DSCG94_3,  P18N,    89,  1,    102,   1223,2,19940329,1153,-24.9880,-103.0008, 3833,   3751.4,   1.8483,  34.6831,2,  34.6838,2,    161.4,2,   -999.0,9,   131.61,2,    35.23,2,     0.00,2,     2.43,2,    0.001,2,    0.012,2, -999.000,9, -999.000,9, -999.000,9,-999.0000,9,  -999.00,9,   -219.9,2,      0.1,2,   2319.9,2,   1160.7,2,   2409.0,2,     7.59,2,   20.00,     2.8,-999.0000,-999.000,   25.00,  -999.0,  1.5467,-999.000
    31DSCG94_3,  P18N,    89,  1,    101,   1041,2,19940329,1153,-24.9880,-103.0008, 3833,   3860.3,   1.8578,  34.6836,2,  34.6853,2,    158.1,2,   -999.0,9,   131.31,2,    35.53,2,     0.00,2,     2.44,2, -999.000,9, -999.000,9, -999.000,9, -999.000,9, -999.000,9,-999.0000,9,  -999.00,9,   -212.1,2,      0.2,2,   2320.6,2,   1155.8,2,   2418.0,2,     7.59,2,   20.00,     3.1,-999.0000,-999.000,   25.00,  -999.0,  1.5441,-999.000