BOTTLE,20220630CCHSIOAMB
EXPOCODE,SECT_ID,STNNBR,CASTNO,SAMPNO,BTLNBR,BTLNBR_FLAG_W,DATE,TIME,LATITUDE,LONGITUDE,DEPTH,CTDPRS,CTDTMP,CTDSAL,CTDSAL_FLAG_W,SALNTY,SALNTY_FLAG_W,CTDOXY,CTDOXY_FLAG_W,OXYGEN,OXYGEN_FLAG_W,SILCAT,SILCAT_FLAG_W,NITRAT,NITRAT_FLAG_W,NITRIT,NITRIT_FLAG_W,PHSPHT,PHSPHT_FLAG_W,CFC-11,CFC-11_FLAG_W,CFC-12,CFC-12_FLAG_W,CFC113,CFC113_FLAG_W,CCL4,CCL4_FLAG_W,TRITUM,TRITUM_FLAG_W,HELIUM,HELIUM_FLAG_W,DELHE3,DELHE3_FLAG_W,DELC14,DELC14_FLAG_W,DELC13,DELC13_FLAG_W,TCARBN,TCARBN_FLAG_W,PCO2,PCO2_FLAG_W,ALKALI,ALKALI_FLAG_W,PH,PH_FLAG_W,PCO2TMP,C14ERR,HELIER,DELHER,PH_TMP,C13ERR,THETA,TRITER
,,,,,,,,,,,,DBAR,ITS-90,PSS-78,,PSS-78,,UMOL/KG,,UMOL/KG,,UMOL/KG,,UMOL/KG,,UMOL/KG,,UMOL/KG,,PMOL/KG,,PMOL/KG,,PMOL/KG,,PMOL/KG,,TU,,NMOL/KG,,PERCNT,,/MILLE,,/MILLE,,UMOL/KG,,UATM,,UMOL/KG,,,,DEG C,/MILLE,NMOL/KG,PERCNT,DEG C,/MILLE,DEG C,TU
    31DSCG94_3,  P18N,   153,  3,    336,   1025,2,19940415,1747,  2.6665,-110.3328, 3710,      9.1,  27.4120,  34.4220,2,  34.4254,2,    170.4,2,    202.8,6,     3.30,2,     4.33,2,     0.06,2,     0.57,2, -999.000,9, -999.000,9, -999.000,9, -999.000,9, -999.000,9,-999.0000,9,  -999.00,9,   -999.0,9,   -999.0,9,   1995.7,2,    353.4,2,   2290.0,3,     8.01,2,   20.00,  -999.0,-999.0000,-999.000,   25.00,  -999.0, 27.4099,-999.000
    31DSCG94_3,  P18N,   153,  3,    335,   1247,2,19940415,1747,  2.6665,-110.3328, 3710,     25.2,  27.3698,  34.4442,2,  34.4494,2,    168.1,2,    202.4,2,     3.24,2,     4.32,2,     0.06,2,     0.58,2, -999.000,9, -999.000,9, -999.000,9, -999.000,9, -999.000,9,-999.0000,9,  -999.00,9,   -999.0,9,   -999.0,9,   -999.0,9,   -999.0,9,   -999.0,9,     8.02,2, -999.00,  -999.0,-999.0000,-999.000,   25.00,  -999.0, 27.3640,-999.000
    31DSCG94_3,  P18N,   153,  3,    334,   1216,2,19940415,1747,  2.6665,-110.3328, 3710,     50.2,  18.3621,  34.8543,2,  34.8541,2,    118.5,2,    127.7,2,    10.69,2,    14.64,2,     0.23,2,     1.27,2, -999.000,9, -999.000,9, -999.000,9, -999.000,9, -999.000,9,-999.0000,9,  -999.00,9,   -999.0,9,   -999.0,9,   -999.0,9,   -999.0,9,   -999.0,9,     7.82,2, -999.00,  -999.0,-999.0000,-999.000,   25.00,  -999.0, 18.3534,-999.000
    31DSCG94_3,  P18N,   153,  3,    333,   1244,2,19940415,1747,  2.6665,-110.3328, 3710,     73.3,  15.6177,  34.9417,2,  34.9446,2,     85.5,2,     80.4,2,    15.30,2,    20.64,2,     0.37,2,     1.63,2, -999.000,9, -999.000,9, -999.000,9, -999.000,9, -999.000,9,-999.0000,9,  -999.00,9,   -999.0,9,   -999.0,9,   -999.0,9,   -999.0,9,   -999.0,9,     7.71,2, -999.00,  -999.0,-999.0000,-999.000,   25.00,  -999.0, 15.6063,-999.000
    31DSCG94_3,  P18N,   153,  3,    332,   1003,2,19940415,1747,  2.6665,-110.3328, 3710,     99.5,  14.7493,  34.9602,2,  34.9590,2,     64.6,2,     62.8,2,    18.09,2,    23.28,2,     0.17,2,     1.72,2, -999.000,9, -999.000,9, -999.000,9, -999.000,9, -999.000,9,-999.0000,9,  -999.00,9,   -999.0,9,   -999.0,9,   -999.0,9,   -999.0,9,   -999.0,9,  -999.00,9, -999.00,  -999.0,-999.0000,-999.000, -999.00,  -999.0, 14.7344,-999.000
    31DSCG94_3,  P18N,   153,  3,    331,   1211,2,19940415,1747,  2.6665,-110.3328, 3710,    122.8,  14.1072,  34.9460,2,  34.9448,2,     62.7,2,     67.2,2,    19.44,2,    23.57,2,     0.00,2,     1.75,2, -999.000,9, -999.000,9, -999.000,9, -999.000,9, -999.000,9,-999.0000,9,  -999.00,9,   -999.0,9,   -999.0,9,   -999.0,9,   -999.0,9,   -999.0,9,     7.66,2, -999.00,  -999.0,-999.0000,-999.000,   25.00,  -999.0, 14.0894,-999.000
    31DSCG94_3,  P18N,   153,  3,    330,   1241,2,19940415,1747,  2.6665,-110.3328, 3710,    148.7,  13.7914,  34.9418,2,  34.9403,2,     56.5,2,     50.6,2,    21.03,2,    26.29,2,     0.00,2,     1.93,2, -999.000,9, -999.000,9, -999.000,9, -999.000,9, -999.000,9,-999.0000,9,  -999.00,9,   -999.0,9,   -999.0,9,   -999.0,9,   -999.0,9,   -999.0,9,     7.62,2, -999.00,  -999.0,-999.0000,-999.000,   25.00,  -999.0, 13.7702,-999.000
    31DSCG94_3,  P18N,   153,  3,    329,   1240,2,19940415,1747,  2.6665,-110.3328, 3710,    173.9,  13.4439,  34.9207,2,  34.9201,2,     51.8,2,     48.7,2,    21.81,2,    26.88,2,     0.00,2,     1.98,2, -999.000,9, -999.000,9, -999.000,9, -999.000,9, -999.000,9,-999.0000,9,  -999.00,9,   -999.0,9,   -999.0,9,   -999.0,9,   -999.0,9,   -999.0,9,     7.61,2, -999.00,  -999.0,-999.0000,-999.000,   25.00,  -999.0, 13.4194,-999.000
    31DSCG94_3,  P18N,   153,  3,    328,   1032,2,19940415,1747,  2.6665,-110.3328, 3710,    199.6,  13.0772,  34.9029,2,  34.9123,2,     49.9,2,     44.4,2,    22.85,2,    27.78,2,     0.00,2,     2.03,2, -999.000,9, -999.000,9, -999.000,9, -999.000,9, -999.000,9,-999.0000,9,  -999.00,9,   -999.0,9,   -999.0,9,   -999.0,9,   -999.0,9,   -999.0,9,     7.59,2, -999.00,  -999.0,-999.0000,-999.000,   25.00,  -999.0, 13.0496,-999.000
    31DSCG94_3,  P18N,   153,  3,    327,   1008,2,19940415,1747,  2.6665,-110.3328, 3710,    220.7,  12.7418,  34.8759,2,  34.8742,2,     39.7,2,     32.0,2,    24.55,2,    29.81,2,     0.00,2,     2.13,2, -999.000,9, -999.000,9, -999.000,9, -999.000,9, -999.000,9,-999.0000,9,  -999.00,9,   -999.0,9,   -999.0,9,   -999.0,9,   -999.0,9,   -999.0,9,     7.55,2, -999.00,  -999.0,-999.0000,-999.000,   25.00,  -999.0, 12.7119,-999.000
    31DSCG94_3,  P18N,   153,  3,    326,   1007,2,19940415,1747,  2.6665,-110.3328, 3710,    248.9,  12.3004,  34.8407,2,  34.8377,2,     32.4,2,     30.2,2,    26.68,2,    30.40,2,     0.00,2,     2.22,2, -999.000,9, -999.000,9, -999.000,9, -999.000,9, -999.000,9,-999.0000,9,  -999.00,9,   -999.0,9,   -999.0,9,   -999.0,9,   -999.0,9,   -999.0,9,     7.53,2, -999.00,  -999.0,-999.0000,-999.000,   25.00,  -999.0, 12.2674,-999.000
    31DSCG94_3,  P18N,   153,  3,    325,   1256,2,19940415,1747,  2.6665,-110.3328, 3710,    301.5,  11.4279,  34.7761,2,  34.7790,2,     33.2,2,     34.2,2,    29.65,2,    30.81,2,     0.00,2,     2.24,2, -999.000,9, -999.000,9, -999.000,9, -999.000,9, -999.000,9,-999.0000,9,  -999.00,9,   -999.0,9,   -999.0,9,   -999.0,9,   -999.0,9,   -999.0,9,     7.52,2, -999.00,  -999.0,-999.0000,-999.000,   25.00,  -999.0, 11.3897,-999.000
    31DSCG94_3,  P18N,   153,  3,    323,   1220,2,19940415,1747,  2.6665,-110.3328, 3710,    349.5,  10.6620,  34.7383,2,  34.7342,2,     27.9,2,     24.0,2,    34.98,2,    33.04,2,     0.00,2,     2.43,2, -999.000,9, -999.000,9, -999.000,9, -999.000,9, -999.000,9,-999.0000,9,  -999.00,9,   -999.0,9,   -999.0,9,   -999.0,9,   -999.0,9,   -999.0,9,     7.47,2, -999.00,  -999.0,-999.0000,-999.000,   25.00,  -999.0, 10.6196,-999.000
    31DSCG94_3,  P18N,   153,  3,    322,   1245,2,19940415,1747,  2.6665,-110.3328, 3710,    399.6,   9.4860,  34.6824,2,  34.6809,2,     20.4,2,     14.5,2,    41.80,2,    35.60,2,     0.00,2,     2.67,2, -999.000,9, -999.000,9, -999.000,9, -999.000,9, -999.000,9,-999.0000,9,  -999.00,9,   -999.0,9,   -999.0,9,   -999.0,9,   -999.0,9,   -999.0,9,     7.42,2, -999.00,  -999.0,-999.0000,-999.000,   25.00,  -999.0,  9.4409,-999.000
    31DSCG94_3,  P18N,   153,  3,    321,   1206,2,19940415,1747,  2.6665,-110.3328, 3710,    498.3,   8.1168,  34.6202,2,  34.6183,2,     30.2,2,     33.9,2,    46.05,2,    38.59,2,     0.00,2,     2.73,2, -999.000,9, -999.000,9, -999.000,9, -999.000,9, -999.000,9,-999.0000,9,  -999.00,9,   -999.0,9,   -999.0,9,   -999.0,9,   -999.0,9,   -999.0,9,     7.44,2, -999.00,  -999.0,-999.0000,-999.000,   25.00,  -999.0,  8.0652,-999.000
    31DSCG94_3,  P18N,   153,  3,    320,   1028,2,19940415,1747,  2.6665,-110.3328, 3710,    601.7,   7.0412,  34.5832,2,  34.5822,2,     42.8,2,     42.6,2,    54.23,2,    39.91,2,     0.00,2,     2.85,2, -999.000,9, -999.000,9, -999.000,9, -999.000,9, -999.000,9,-999.0000,9,  -999.00,9,   -999.0,9,   -999.0,9,   -999.0,9,   -999.0,9,   -999.0,9,     7.43,2, -999.00,  -999.0,-999.0000,-999.000,   25.00,  -999.0,  6.9834,-999.000
    31DSCG94_3,  P18N,   153,  3,    319,   1248,2,19940415,1747,  2.6665,-110.3328, 3710,    700.5,   6.4974,  34.5736,2,  34.5717,2,     40.2,2,     36.7,2,    61.03,2,    41.50,2,     0.00,2,     2.96,2, -999.000,9, -999.000,9, -999.000,9, -999.000,9, -999.000,9,-999.0000,9,  -999.00,9,   -999.0,9,   -999.0,9,   -999.0,9,   -999.0,9,   -999.0,9,     7.41,2, -999.00,  -999.0,-999.0000,-999.000,   25.00,  -999.0,  6.4325,-999.000
    31DSCG94_3,  P18N,   153,  3,    318,   1115,2,19940415,1747,  2.6665,-110.3328, 3710,    797.0,   5.8208,  34.5625,2,  34.5619,2,     38.9,2,     39.8,2,    70.27,2,    42.44,2,     0.00,2,     3.01,2, -999.000,9, -999.000,9, -999.000,9, -999.000,9, -999.000,9,-999.0000,9,  -999.00,9,   -999.0,9,   -999.0,9,   -999.0,9,   -999.0,9,   -999.0,9,     7.41,2, -999.00,  -999.0,-999.0000,-999.000,   25.00,  -999.0,  5.7505,-999.000
    31DSCG94_3,  P18N,   153,  3,    317,   1119,2,19940415,1747,  2.6665,-110.3328, 3710,    902.8,   5.1875,  34.5579,2,  34.5574,2,     46.7,2,     49.4,2,    78.65,2,    43.49,2,     0.00,2,     3.02,2, -999.000,9, -999.000,9, -999.000,9, -999.000,9, -999.000,9,-999.0000,9,  -999.00,9,   -999.0,9,   -999.0,9,   -999.0,9,   -999.0,9,   -999.0,9,     7.42,2, -999.00,  -999.0,-999.0000,-999.000,   25.00,  -999.0,  5.1115,-999.000
    31DSCG94_3,  P18N,   153,  3,    316,   1036,2,19940415,1747,  2.6665,-110.3328, 3710,   1001.6,   4.5208,  34.5612,2,  34.5608,2,     56.3,2,     61.2,2,    91.06,2,    42.36,2,     0.00,2,     3.03,2, -999.000,9, -999.000,9, -999.000,9, -999.000,9, -999.000,9,-999.0000,9,  -999.00,9,   -999.0,9,   -999.0,9,   -999.0,9,   -999.0,9,   -999.0,9,     7.44,2, -999.00,  -999.0,-999.0000,-999.000,   25.00,  -999.0,  4.4409,-999.000
    31DSCG94_3,  P18N,   153,  3,    315,   1017,2,19940415,1747,  2.6665,-110.3328, 3710,   1098.0,   4.1199,  34.5724,2,  34.5712,2,     61.8,2,     65.0,2,   103.00,2,    41.73,2,     0.00,2,     3.01,2, -999.000,9, -999.000,9, -999.000,9, -999.000,9, -999.000,9,-999.0000,9,  -999.00,9,   -999.0,9,   -999.0,9,   -999.0,9,   -999.0,9,   -999.0,9,  -999.00,9, -999.00,  -999.0,-999.0000,-999.000, -999.00,  -999.0,  4.0349,-999.000
    31DSCG94_3,  P18N,   153,  3,    314,   1016,2,19940415,1747,  2.6665,-110.3328, 3710,   1197.7,   3.7840,  34.5810,2,  34.5808,2,     66.5,2,     69.2,2,   109.59,2,    42.06,2,     0.00,2,     2.99,2, -999.000,9, -999.000,9, -999.000,9, -999.000,9, -999.000,9,-999.0000,9,  -999.00,9,   -999.0,9,   -999.0,9,   -999.0,9,   -999.0,9,   -999.0,9,  -999.00,9, -999.00,  -999.0,-999.0000,-999.000, -999.00,  -999.0,  3.6934,-999.000
    31DSCG94_3,  P18N,   153,  3,    313,   1209,2,19940415,1747,  2.6665,-110.3328, 3710,   1300.2,   3.4855,  34.5892,2,  34.5896,2,     72.8,2,     77.7,2,   113.43,2,    41.74,2,     0.00,2,     2.95,2, -999.000,9, -999.000,9, -999.000,9, -999.000,9, -999.000,9,-999.0000,9,  -999.00,9,   -999.0,9,   -999.0,9,   -999.0,9,   -999.0,9,   -999.0,9,  -999.00,9, -999.00,  -999.0,-999.0000,-999.000, -999.00,  -999.0,  3.3891,-999.000
    31DSCG94_3,  P18N,   153,  3,    312,   1033,2,19940415,1747,  2.6665,-110.3328, 3710,   1401.3,   3.2749,  34.5958,2,  34.5954,2,     78.9,2,     81.8,2,   116.72,2,    41.52,2,     0.00,2,     2.91,2, -999.000,9, -999.000,9, -999.000,9, -999.000,9, -999.000,9,-999.0000,9,  -999.00,9,   -999.0,9,   -999.0,9,   -999.0,9,   -999.0,9,   -999.0,9,  -999.00,9, -999.00,  -999.0,-999.0000,-999.000, -999.00,  -999.0,  3.1722,-999.000
    31DSCG94_3,  P18N,   153,  3,    311,   1240,2,19940415,1747,  2.6665,-110.3328, 3710,   1602.2,   2.9279,  34.6127,2,  34.6121,2,     87.1,2,     85.2,6,   126.60,2,    41.07,2,     0.00,2,     2.92,2, -999.000,9, -999.000,9, -999.000,9, -999.000,9, -999.000,9,-999.0000,9,  -999.00,9,   -999.0,9,   -999.0,9,   -999.0,9,   -999.0,9,   -999.0,9,  -999.00,9, -999.00,  -999.0,-999.0000,-999.000, -999.00,  -999.0,  2.8122,-999.000
    31DSCG94_3,  P18N,   153,  3,    310,   1005,2,19940415,1747,  2.6665,-110.3328, 3710,   1799.4,   2.6304,  34.6254,2,  34.6251,2,     96.8,2,     92.4,2,   134.01,2,    40.89,2,     0.00,2,     2.87,2, -999.000,9, -999.000,9, -999.000,9, -999.000,9, -999.000,9,-999.0000,9,  -999.00,9,   -999.0,9,   -999.0,9,   -999.0,9,   -999.0,9,   -999.0,9,  -999.00,9, -999.00,  -999.0,-999.0000,-999.000, -999.00,  -999.0,  2.5018,-999.000
    31DSCG94_3,  P18N,   153,  3,    309,   1611,2,19940415,1747,  2.6665,-110.3328, 3710,   1999.8,   2.4081,  34.6351,2,  34.6351,2,    102.5,2,     99.2,6,   140.30,2,    39.76,2,     0.00,2,     2.84,2, -999.000,9, -999.000,9, -999.000,9, -999.000,9, -999.000,9,-999.0000,9,  -999.00,9,   -999.0,9,   -999.0,9,   -999.0,9,   -999.0,9,   -999.0,9,  -999.00,9, -999.00,  -999.0,-999.0000,-999.000, -999.00,  -999.0,  2.2655,-999.000
    31DSCG94_3,  P18N,   153,  3,    308,   1218,2,19940415,1747,  2.6665,-110.3328, 3710,   2247.5,   2.1078,  34.6510,2,  34.6503,2,    109.7,2,    108.0,2,   150.93,2,    39.05,2,     0.00,2,     2.76,2, -999.000,9, -999.000,9, -999.000,9, -999.000,9, -999.000,9,-999.0000,9,  -999.00,9,   -999.0,9,   -999.0,9,   -999.0,9,   -999.0,9,   -999.0,9,  -999.00,9, -999.00,  -999.0,-999.0000,-999.000, -999.00,  -999.0,  1.9482,-999.000
    31DSCG94_3,  P18N,   153,  3,    307,   1257,2,19940415,1747,  2.6665,-110.3328, 3710,   2499.7,   1.8730,  34.6637,2,  34.6650,2,    117.8,2,    117.1,2,   154.17,2,    38.94,2,     0.00,2,     2.70,2, -999.000,9, -999.000,9, -999.000,9, -999.000,9, -999.000,9,-999.0000,9,  -999.00,9,   -999.0,9,   -999.0,9,   -999.0,9,   -999.0,9,   -999.0,9,  -999.00,9, -999.00,  -999.0,-999.0000,-999.000, -999.00,  -999.0,  1.6950,-999.000
    31DSCG94_3,  P18N,   153,  3,    306,   1224,2,19940415,1747,  2.6665,-110.3328, 3710,   2749.3,   1.7924,  34.6689,2,  34.6684,2,    123.1,2,    122.1,2,   153.38,2,    38.65,2,     0.00,2,     2.68,2, -999.000,9, -999.000,9, -999.000,9, -999.000,9, -999.000,9,-999.0000,9,  -999.00,9,   -999.0,9,   -999.0,9,   -999.0,9,   -999.0,9,   -999.0,9,  -999.00,9, -999.00,  -999.0,-999.0000,-999.000, -999.00,  -999.0,  1.5930,-999.000
    31DSCG94_3,  P18N,   153,  3,    305,   1246,2,19940415,1747,  2.6665,-110.3328, 3710,   2998.7,   1.7288,  34.6727,2,  34.6718,2,    126.4,2,    125.2,2,   154.95,2,    38.59,2,     0.00,2,     2.67,2, -999.000,9, -999.000,9, -999.000,9, -999.000,9, -999.000,9,-999.0000,9,  -999.00,9,   -999.0,9,   -999.0,9,   -999.0,9,   -999.0,9,   -999.0,9,  -999.00,9, -999.00,  -999.0,-999.0000,-999.000, -999.00,  -999.0,  1.5071,-999.000
    31DSCG94_3,  P18N,   153,  3,    304,   1217,2,19940415,1747,  2.6665,-110.3328, 3710,   3249.5,   1.6104,  34.6780,2,  34.6773,2,    135.6,2,    137.3,2,   149.30,2,    37.65,2,     0.00,2,     2.60,2, -999.000,9, -999.000,9, -999.000,9, -999.000,9, -999.000,9,-999.0000,9,  -999.00,9,   -999.0,9,   -999.0,9,   -999.0,9,   -999.0,9,   -999.0,9,  -999.00,9, -999.00,  -999.0,-999.0000,-999.000, -999.00,  -999.0,  1.3668,-999.000
    31DSCG94_3,  P18N,   153,  3,    302,   1223,2,19940415,1747,  2.6665,-110.3328, 3710,   3500.8,   1.5000,  34.6856,2,  34.6848,2,    144.0,2,    145.1,2,   154.48,2,    37.24,2,     0.00,2,     2.55,2, -999.000,9, -999.000,9, -999.000,9, -999.000,9, -999.000,9,-999.0000,9,  -999.00,9,   -999.0,9,   -999.0,9,   -999.0,9,   -999.0,9,   -999.0,9,  -999.00,9, -999.00,  -999.0,-999.0000,-999.000, -999.00,  -999.0,  1.2337,-999.000
    31DSCG94_3,  P18N,   153,  3,    303,   9999,2,19940415,1747,  2.6665,-110.3328, 3710,   3502.0,   1.5008,  34.6852,2,  34.6861,2,    144.1,2,    144.2,2,   150.98,2,    37.08,2,     0.00,2,     2.55,2, -999.000,9, -999.000,9, -999.000,9, -999.000,9, -999.000,9,-999.0000,9,  -999.00,9,   -999.0,9,   -999.0,9,   -999.0,9,   -999.0,9,   -999.0,9,  -999.00,9, -999.00,  -999.0,-999.0000,-999.000, -999.00,  -999.0,  1.2344,-999.000
    31DSCG94_3,  P18N,   153,  3,    301,   1041,2,19940415,1747,  2.6665,-110.3328, 3710,   3741.6,   1.4664,  34.6881,2,  34.6891,2,    149.2,2,    147.8,2,   155.66,2,    37.38,2,     0.00,2,     2.52,2, -999.000,9, -999.000,9, -999.000,9, -999.000,9, -999.000,9,-999.0000,9,  -999.00,9,   -999.0,9,   -999.0,9,   -999.0,9,   -999.0,9,   -999.0,9,  -999.00,9, -999.00,  -999.0,-999.0000,-999.000, -999.00,  -999.0,  1.1760,-999.000