BOTTLE,20220630CCHSIOAMB
EXPOCODE,SECT_ID,STNNBR,CASTNO,SAMPNO,BTLNBR,BTLNBR_FLAG_W,DATE,TIME,LATITUDE,LONGITUDE,DEPTH,CTDPRS,CTDTMP,CTDSAL,CTDSAL_FLAG_W,SALNTY,SALNTY_FLAG_W,CTDOXY,CTDOXY_FLAG_W,OXYGEN,OXYGEN_FLAG_W,SILCAT,SILCAT_FLAG_W,NITRAT,NITRAT_FLAG_W,NITRIT,NITRIT_FLAG_W,PHSPHT,PHSPHT_FLAG_W,CFC-11,CFC-11_FLAG_W,CFC-12,CFC-12_FLAG_W,CFC113,CFC113_FLAG_W,CCL4,CCL4_FLAG_W,TRITUM,TRITUM_FLAG_W,HELIUM,HELIUM_FLAG_W,DELHE3,DELHE3_FLAG_W,DELC14,DELC14_FLAG_W,DELC13,DELC13_FLAG_W,TCARBN,TCARBN_FLAG_W,PCO2,PCO2_FLAG_W,ALKALI,ALKALI_FLAG_W,PH,PH_FLAG_W,PCO2TMP,C14ERR,HELIER,DELHER,PH_TMP,C13ERR,THETA,TRITER
,,,,,,,,,,,,DBAR,ITS-90,PSS-78,,PSS-78,,UMOL/KG,,UMOL/KG,,UMOL/KG,,UMOL/KG,,UMOL/KG,,UMOL/KG,,PMOL/KG,,PMOL/KG,,PMOL/KG,,PMOL/KG,,TU,,NMOL/KG,,PERCNT,,/MILLE,,/MILLE,,UMOL/KG,,UATM,,UMOL/KG,,,,DEG C,/MILLE,NMOL/KG,PERCNT,DEG C,/MILLE,DEG C,TU
    31DSCG94_2,  P18S,    25,  1,    124,    435,2,19940304,1207,-59.5048,-103.0268, 4931,      9.7,   5.6119,  34.0762,2,  34.0815,2,    296.5,2,    298.4,2,     3.38,2,    19.14,2,     0.14,2,     1.38,2, -999.000,9, -999.000,9, -999.000,9, -999.000,9, -999.000,9,-999.0000,9,  -999.00,9,   -999.0,9,   -999.0,9,   -999.0,9,    617.4,2,   2285.0,2,  -999.00,9,   20.00,  -999.0,-999.0000,-999.000, -999.00,  -999.0,  5.6111,-999.000
    31DSCG94_2,  P18S,    25,  1,    123,    421,2,19940304,1207,-59.5048,-103.0268, 4931,     23.2,   5.6126,  34.0760,2,  34.0775,2,    298.4,2,    298.4,2,     3.28,2,    19.11,2,     0.13,2,     1.41,2, -999.000,9, -999.000,9, -999.000,9, -999.000,9, -999.000,9,-999.0000,9,  -999.00,9,   -999.0,9,   -999.0,9,   2103.8,2,    616.8,2,   2271.0,2,  -999.00,9,   20.00,  -999.0,-999.0000,-999.000, -999.00,  -999.0,  5.6107,-999.000
    31DSCG94_2,  P18S,    25,  1,    122,    418,2,19940304,1207,-59.5048,-103.0268, 4931,     48.7,   5.6165,  34.0762,2,  34.0784,2,    298.6,2,    296.6,2,     3.25,2,    19.08,2,     0.16,2,     1.38,2, -999.000,9, -999.000,9, -999.000,9, -999.000,9, -999.000,9,-999.0000,9,  -999.00,9,   -999.0,9,   -999.0,9,   2102.0,2,    617.6,2,   2275.0,2,  -999.00,9,   20.00,  -999.0,-999.0000,-999.000, -999.00,  -999.0,  5.6125,-999.000
    31DSCG94_2,  P18S,    25,  1,    121,    413,3,19940304,1207,-59.5048,-103.0268, 4931,     97.7,   5.1083,  34.1214,2,  34.1119,2,    296.6,2,    296.4,2,     6.88,2,    21.83,2,     0.25,2,     1.53,2, -999.000,9, -999.000,9, -999.000,9, -999.000,9, -999.000,9,-999.0000,9,  -999.00,9,   -999.0,9,   -999.0,9,   2118.7,2,    690.4,2,   2276.0,2,  -999.00,9,   20.00,  -999.0,-999.0000,-999.000, -999.00,  -999.0,  5.1008,-999.000
    31DSCG94_2,  P18S,    25,  1,    120,    405,2,19940304,1207,-59.5048,-103.0268, 4931,    155.1,   4.3514,  34.1473,2,  34.1355,2,    297.4,2,    297.2,2,     9.49,2,    22.73,2,     0.03,2,     1.60,2, -999.000,9, -999.000,9, -999.000,9, -999.000,9, -999.000,9,-999.0000,9,  -999.00,9,   -999.0,9,   -999.0,9,   2127.2,2,    716.2,2,   2274.0,2,  -999.00,9,   20.00,  -999.0,-999.0000,-999.000, -999.00,  -999.0,  4.3403,-999.000
    31DSCG94_2,  P18S,    25,  1,    119,    417,2,19940304,1207,-59.5048,-103.0268, 4931,    195.4,   4.3002,  34.1525,2,  34.1539,2,    295.4,2,    297.2,2,    10.10,2,    23.18,2,     0.00,2,     1.60,2, -999.000,9, -999.000,9, -999.000,9, -999.000,9, -999.000,9,-999.0000,9,  -999.00,9,   -999.0,9,   -999.0,9,   2125.2,2,    716.1,2,   2270.0,2,  -999.00,9,   20.00,  -999.0,-999.0000,-999.000, -999.00,  -999.0,  4.2862,-999.000
    31DSCG94_2,  P18S,    25,  1,    118,    429,2,19940304,1207,-59.5048,-103.0268, 4931,    301.9,   4.0765,  34.1506,2,  34.1530,2,    295.7,2,    295.1,2,    10.61,2,    23.59,2,     0.00,2,     1.60,2, -999.000,9, -999.000,9, -999.000,9, -999.000,9, -999.000,9,-999.0000,9,  -999.00,9,   -999.0,9,   -999.0,9,   -999.0,9,    720.3,2,   -999.0,5,  -999.00,9,   20.00,  -999.0,-999.0000,-999.000, -999.00,  -999.0,  4.0553,-999.000
    31DSCG94_2,  P18S,    25,  1,    117,    427,2,19940304,1207,-59.5048,-103.0268, 4931,    397.7,   3.5330,  34.1150,2,  34.1170,2,    282.3,2,    284.2,2,    15.25,2,    26.01,2,     0.00,2,     1.77,2, -999.000,9, -999.000,9, -999.000,9, -999.000,9, -999.000,9,-999.0000,9,  -999.00,9,   -999.0,9,   -999.0,9,   2143.4,2,    787.2,2,   2280.0,2,  -999.00,9,   20.00,  -999.0,-999.0000,-999.000, -999.00,  -999.0,  3.5064,-999.000
    31DSCG94_2,  P18S,    25,  1,    116,    410,2,19940304,1207,-59.5048,-103.0268, 4931,    499.9,   3.2393,  34.1367,2,  34.1381,2,    273.2,2,    271.2,2,    19.99,2,    27.98,2,     0.00,2,     1.87,2, -999.000,9, -999.000,9, -999.000,9, -999.000,9, -999.000,9,-999.0000,9,  -999.00,9,   -999.0,9,   -999.0,9,   2155.9,2,    837.6,2,   2284.0,2,  -999.00,9,   20.00,  -999.0,-999.0000,-999.000, -999.00,  -999.0,  3.2067,-999.000
    31DSCG94_2,  P18S,    25,  1,    115,    422,2,19940304,1207,-59.5048,-103.0268, 4931,    602.5,   3.2745,  34.2178,2,  34.2194,2,    239.2,2,    238.9,2,    29.92,2,    29.96,2,     0.00,2,     2.00,2, -999.000,9, -999.000,9, -999.000,9, -999.000,9, -999.000,9,-999.0000,9,  -999.00,9,   -999.0,9,   -999.0,9,   2178.6,2,    948.5,2,   2286.0,2,  -999.00,9,   20.00,  -999.0,-999.0000,-999.000, -999.00,  -999.0,  3.2345,-999.000
    31DSCG94_2,  P18S,    25,  1,    114,    407,2,19940304,1207,-59.5048,-103.0268, 4931,    718.6,   3.2384,  34.3179,2,  34.3196,2,    212.9,2,    206.6,2,    42.92,2,    32.24,2,     0.00,2,     2.18,2, -999.000,9, -999.000,9, -999.000,9, -999.000,9, -999.000,9,-999.0000,9,  -999.00,9,   -999.0,9,   -999.0,9,   2205.1,2,   1049.4,2,   2296.0,2,  -999.00,9,   20.00,  -999.0,-999.0000,-999.000, -999.00,  -999.0,  3.1901,-999.000
    31DSCG94_2,  P18S,    25,  1,    113,    419,2,19940304,1207,-59.5048,-103.0268, 4931,    797.8,   3.0365,  34.3572,2,  34.3587,2,    199.8,2,    197.3,2,    48.53,2,    33.36,2,     0.00,2,     2.18,2, -999.000,9, -999.000,9, -999.000,9, -999.000,9, -999.000,9,-999.0000,9,  -999.00,9,   -999.0,9,   -999.0,9,   2215.2,2,   1089.0,2,   2305.0,2,  -999.00,9,   20.00,  -999.0,-999.0000,-999.000, -999.00,  -999.0,  2.9835,-999.000
    31DSCG94_2,  P18S,    25,  1,    112,    426,2,19940304,1207,-59.5048,-103.0268, 4931,   1001.7,   2.6390,  34.4702,2,  34.4699,2,    181.2,2,    179.1,2,    63.45,2,    34.38,2,     0.00,2,     2.35,2, -999.000,9, -999.000,9, -999.000,9, -999.000,9, -999.000,9,-999.0000,9,  -999.00,9,   -999.0,9,   -999.0,9,   2237.9,2,   1163.7,2,   2326.0,2,  -999.00,9,   20.00,  -999.0,-999.0000,-999.000, -999.00,  -999.0,  2.5738,-999.000
    31DSCG94_2,  P18S,    25,  1,    111,    424,2,19940304,1207,-59.5048,-103.0268, 4931,   1198.7,   2.4582,  34.5505,2,  34.5517,2,    173.6,2,    172.7,2,    72.29,2,    33.98,2,     0.00,2,     2.33,2, -999.000,9, -999.000,9, -999.000,9, -999.000,9, -999.000,9,-999.0000,9,  -999.00,9,   -999.0,9,   -999.0,9,   -999.0,9,   -999.0,9,   -999.0,9,  -999.00,9, -999.00,  -999.0,-999.0000,-999.000, -999.00,  -999.0,  2.3799,-999.000
    31DSCG94_2,  P18S,    25,  1,    110,    409,2,19940304,1207,-59.5048,-103.0268, 4931,   1405.5,   2.3311,  34.6146,2,  34.6146,2,    171.9,2,    172.0,2,    78.18,2,    33.75,2,     0.00,2,     2.29,2, -999.000,9, -999.000,9, -999.000,9, -999.000,9, -999.000,9,-999.0000,9,  -999.00,9,   -999.0,9,   -999.0,9,   -999.0,9,   -999.0,9,   -999.0,9,  -999.00,9, -999.00,  -999.0,-999.0000,-999.000, -999.00,  -999.0,  2.2383,-999.000
    31DSCG94_2,  P18S,    25,  1,    109,    423,2,19940304,1207,-59.5048,-103.0268, 4931,   1795.3,   2.0853,  34.6979,2,  34.6981,2,    177.7,2,    179.8,2,    84.66,2,    32.16,2,     0.00,2,     2.21,2, -999.000,9, -999.000,9, -999.000,9, -999.000,9, -999.000,9,-999.0000,9,  -999.00,9,   -999.0,9,   -999.0,9,   -999.0,9,   -999.0,9,   -999.0,9,  -999.00,9, -999.00,  -999.0,-999.0000,-999.000, -999.00,  -999.0,  1.9643,-999.000
    31DSCG94_2,  P18S,    25,  1,    108,    414,2,19940304,1207,-59.5048,-103.0268, 4931,   2201.1,   1.7895,  34.7273,2,  34.7279,2,    186.7,2,    187.9,2,    93.76,2,    31.55,2,     0.00,2,     2.14,2, -999.000,9, -999.000,9, -999.000,9, -999.000,9, -999.000,9,-999.0000,9,  -999.00,9,   -999.0,9,   -999.0,9,   -999.0,9,   -999.0,9,   -999.0,9,  -999.00,9, -999.00,  -999.0,-999.0000,-999.000, -999.00,  -999.0,  1.6390,-999.000
    31DSCG94_2,  P18S,    25,  1,    107,    437,2,19940304,1207,-59.5048,-103.0268, 4931,   2597.3,   1.4924,  34.7267,2,  34.7266,2,    190.9,2,    193.3,2,   103.51,2,    31.92,2,     0.00,2,     2.17,2, -999.000,9, -999.000,9, -999.000,9, -999.000,9, -999.000,9,-999.0000,9,  -999.00,9,   -999.0,9,   -999.0,9,   -999.0,9,   -999.0,9,   -999.0,9,  -999.00,9, -999.00,  -999.0,-999.0000,-999.000, -999.00,  -999.0,  1.3127,-999.000
    31DSCG94_2,  P18S,    25,  1,    106,    416,2,19940304,1207,-59.5048,-103.0268, 4931,   3002.7,   1.2495,  34.7211,2,  34.7210,2,    196.5,2,    197.9,2,   111.18,2,    31.93,2,     0.00,2,     2.13,2, -999.000,9, -999.000,9, -999.000,9, -999.000,9, -999.000,9,-999.0000,9,  -999.00,9,   -999.0,9,   -999.0,9,   -999.0,9,   -999.0,9,   -999.0,9,  -999.00,9, -999.00,  -999.0,-999.0000,-999.000, -999.00,  -999.0,  1.0377,-999.000
    31DSCG94_2,  P18S,    25,  1,    105,    420,2,19940304,1207,-59.5048,-103.0268, 4931,   3400.4,   1.0190,  34.7144,2,  34.7152,2,    201.9,2,    202.3,2,   117.31,2,    32.20,2,     0.00,2,     2.18,2, -999.000,9, -999.000,9, -999.000,9, -999.000,9, -999.000,9,-999.0000,9,  -999.00,9,   -999.0,9,   -999.0,9,   -999.0,9,   -999.0,9,   -999.0,9,  -999.00,9, -999.00,  -999.0,-999.0000,-999.000, -999.00,  -999.0,  0.7745,-999.000
    31DSCG94_2,  P18S,    25,  1,    104,    436,2,19940304,1207,-59.5048,-103.0268, 4931,   3799.6,   0.7913,  34.7085,2,  34.7078,2,    206.3,2,    206.4,2,   121.43,2,    32.64,2,     0.00,2,     2.19,2, -999.000,9, -999.000,9, -999.000,9, -999.000,9, -999.000,9,-999.0000,9,  -999.00,9,   -999.0,9,   -999.0,9,   -999.0,9,   -999.0,9,   -999.0,9,  -999.00,9, -999.00,  -999.0,-999.0000,-999.000, -999.00,  -999.0,  0.5130,-999.000
    31DSCG94_2,  P18S,    25,  1,    103,    425,2,19940304,1207,-59.5048,-103.0268, 4931,   4205.1,   0.5794,  34.7053,2,  34.7045,2,    212.2,2,    210.9,2,   127.90,2,    32.71,2,     0.00,2,     2.20,2, -999.000,9, -999.000,9, -999.000,9, -999.000,9, -999.000,9,-999.0000,9,  -999.00,9,   -999.0,9,   -999.0,9,   -999.0,9,   -999.0,9,   -999.0,9,  -999.00,9, -999.00,  -999.0,-999.0000,-999.000, -999.00,  -999.0,  0.2649,-999.000
    31DSCG94_2,  P18S,    25,  1,    101,    403,2,19940304,1207,-59.5048,-103.0268, 4931,   4480.0,   0.4984,  34.7040,2,  34.7084,3,    214.5,2,    205.7,3,   123.88,4,    32.40,2,     0.00,2,     2.20,2, -999.000,9, -999.000,9, -999.000,9, -999.000,9, -999.000,9,-999.0000,9,  -999.00,9,   -999.0,9,   -999.0,9,   -999.0,9,   -999.0,9,   -999.0,9,  -999.00,9, -999.00,  -999.0,-999.0000,-999.000, -999.00,  -999.0,  0.1567,-999.000
    31DSCG94_2,  P18S,    25,  1,    102,    433,2,19940304,1207,-59.5048,-103.0268, 4931,   4491.8,   0.4999,  34.7038,2,  34.7031,2,    214.9,2,    213.1,2,   132.64,2,    32.63,2,     0.00,2,     2.23,2, -999.000,9, -999.000,9, -999.000,9, -999.000,9, -999.000,9,-999.0000,9,  -999.00,9,   -999.0,9,   -999.0,9,   -999.0,9,   -999.0,9,   -999.0,9,  -999.00,9, -999.00,  -999.0,-999.0000,-999.000, -999.00,  -999.0,  0.1569,-999.000