BOTTLE,20220630CCHSIOAMB
EXPOCODE,SECT_ID,STNNBR,CASTNO,SAMPNO,BTLNBR,BTLNBR_FLAG_W,DATE,TIME,LATITUDE,LONGITUDE,DEPTH,CTDPRS,CTDTMP,CTDSAL,CTDSAL_FLAG_W,SALNTY,SALNTY_FLAG_W,CTDOXY,CTDOXY_FLAG_W,OXYGEN,OXYGEN_FLAG_W,SILCAT,SILCAT_FLAG_W,NITRAT,NITRAT_FLAG_W,NITRIT,NITRIT_FLAG_W,PHSPHT,PHSPHT_FLAG_W,CFC-11,CFC-11_FLAG_W,CFC-12,CFC-12_FLAG_W,CFC113,CFC113_FLAG_W,CCL4,CCL4_FLAG_W,TRITUM,TRITUM_FLAG_W,HELIUM,HELIUM_FLAG_W,DELHE3,DELHE3_FLAG_W,DELC14,DELC14_FLAG_W,DELC13,DELC13_FLAG_W,TCARBN,TCARBN_FLAG_W,PCO2,PCO2_FLAG_W,ALKALI,ALKALI_FLAG_W,PH,PH_FLAG_W,PCO2TMP,C14ERR,HELIER,DELHER,PH_TMP,C13ERR,THETA,TRITER
,,,,,,,,,,,,DBAR,ITS-90,PSS-78,,PSS-78,,UMOL/KG,,UMOL/KG,,UMOL/KG,,UMOL/KG,,UMOL/KG,,UMOL/KG,,PMOL/KG,,PMOL/KG,,PMOL/KG,,PMOL/KG,,TU,,NMOL/KG,,PERCNT,,/MILLE,,/MILLE,,UMOL/KG,,UATM,,UMOL/KG,,,,DEG C,/MILLE,NMOL/KG,PERCNT,DEG C,/MILLE,DEG C,TU
    31DSCG94_3,  P18N,   133,  1,    136,   1025,2,19940410,1440, -4.4952,-110.3265, 3833,      5.9,  27.8298,  34.7047,2,  34.7079,2,    168.6,2,    201.4,2,     5.01,2,     4.48,2,     0.09,2,     0.48,2,    1.698,2,    0.996,2, -999.000,5, -999.000,5, -999.000,9,-999.0000,9,  -999.00,9,   -999.0,9,      1.5,2,   1989.5,2,    325.1,2,   2283.0,6,     8.04,2,   20.00,  -999.0,-999.0000,-999.000,   25.00,  -999.0, 27.8284,-999.000
    31DSCG94_3,  P18N,   133,  1,    135,   1247,2,19940410,1440, -4.4952,-110.3265, 3833,     25.2,  27.7556,  34.7755,2,  34.7779,2,    166.4,2,    199.5,2,     5.29,2,     4.83,2,     0.09,2,     0.52,2,    1.689,2,    0.964,2, -999.000,9, -999.000,9, -999.000,9,-999.0000,9,  -999.00,9,   -999.0,9,   -999.0,9,   1999.2,2,    331.7,2,   2285.0,2,     8.04,2,   20.00,  -999.0,-999.0000,-999.000,   25.00,  -999.0, 27.7497,-999.000
    31DSCG94_3,  P18N,   133,  1,    134,   1216,2,19940410,1440, -4.4952,-110.3265, 3833,     50.9,  19.4480,  35.1541,2,  35.1527,2,     81.8,2,    127.8,2,     9.75,2,    14.78,2,     0.56,2,     1.28,2,    1.450,2,    0.790,2, -999.000,5, -999.000,5, -999.000,9,-999.0000,9,  -999.00,9,   -999.0,9,   -999.0,9,   2129.0,2,    610.0,2,   2308.0,2,     7.82,2,   20.00,  -999.0,-999.0000,-999.000,   25.00,  -999.0, 19.4388,-999.000
    31DSCG94_3,  P18N,   133,  1,    133,   1244,2,19940410,1440, -4.4952,-110.3265, 3833,     76.2,  15.5532,  35.1310,2,  35.1405,2,     47.4,2,     59.5,2,    13.73,2,    21.65,2,     0.87,2,     1.75,2,    1.186,2,    0.626,2, -999.000,5, -999.000,5, -999.000,9,-999.0000,9,  -999.00,9,   -999.0,9,   -999.0,9,   2191.0,2,   -999.0,9,   2296.0,3,     7.67,2, -999.00,  -999.0,-999.0000,-999.000,   25.00,  -999.0, 15.5414,-999.000
    31DSCG94_3,  P18N,   133,  1,    132,   1003,2,19940410,1440, -4.4952,-110.3265, 3833,    101.8,  13.8564,  34.9982,2,  35.0020,2,     37.1,2,     31.7,2,    19.96,2,    28.09,2,     0.32,2,     2.02,2,    0.697,6,    0.382,6, -999.000,5, -999.000,5, -999.000,9,-999.0000,9,  -999.00,9,   -999.0,9,   -999.0,9,   2213.9,2,   1133.6,2,   2295.0,2,     7.58,2,   20.00,  -999.0,-999.0000,-999.000,   25.00,  -999.0, 13.8418,-999.000
    31DSCG94_3,  P18N,   133,  1,    131,   1211,2,19940410,1440, -4.4952,-110.3265, 3833,    127.3,  13.3256,  34.9441,2,  34.9435,2,     45.3,2,     47.8,6,    21.62,2,    28.18,2,     0.02,2,     1.96,2,    0.617,2,    0.345,2, -999.000,5, -999.000,5, -999.000,9,-999.0000,9,  -999.00,9,   -999.0,9,   -999.0,9,   2204.2,2,   1058.4,2,   2297.0,2,     7.60,2,   20.00,  -999.0,-999.0000,-999.000,   25.00,  -999.0, 13.3079,-999.000
    31DSCG94_3,  P18N,   133,  1,    130,   1241,2,19940410,1440, -4.4952,-110.3265, 3833,    151.2,  13.1777,  34.9360,2,  34.9365,2,     30.0,2,     26.6,2,    23.05,2,    30.38,2,     0.01,2,     2.12,2,    0.546,2,    0.298,2, -999.000,5, -999.000,5, -999.000,9,-999.0000,9,  -999.00,9,   -999.0,9,   -999.0,9,   2219.1,2,   1206.5,2,   2299.0,2,     7.55,2,   20.00,  -999.0,-999.0000,-999.000,   25.00,  -999.0, 13.1568,-999.000
    31DSCG94_3,  P18N,   133,  1,    129,   1240,2,19940410,1440, -4.4952,-110.3265, 3833,    180.2,  12.9955,  34.9203,2,  34.9189,2,     26.2,2,     24.5,2,    24.33,2,    30.09,2,     0.00,2,     2.14,2,    0.478,2,    0.267,2, -999.000,5, -999.000,5, -999.000,9,-999.0000,9,  -999.00,9,   -999.0,9,   -999.0,9,   2222.2,2,   1239.0,2,   2290.0,2,     7.54,2,   20.00,  -999.0,-999.0000,-999.000,   25.00,  -999.0, 12.9707,-999.000
    31DSCG94_3,  P18N,   133,  1,    128,   1032,2,19940410,1440, -4.4952,-110.3265, 3833,    199.9,  12.8428,  34.9115,2,  34.9104,2,     21.5,2,     18.2,2,    25.18,2,    31.37,2,     0.00,2,     2.21,2,    0.420,6,    0.234,6, -999.000,5, -999.000,5, -999.000,9,-999.0000,9,  -999.00,9,   -999.0,9,   -999.0,9,   2230.4,2,   1296.5,2,   2298.0,2,     7.52,2,   20.00,  -999.0,-999.0000,-999.000,   25.00,  -999.0, 12.8156,-999.000
    31DSCG94_3,  P18N,   133,  1,    127,   1008,2,19940410,1440, -4.4952,-110.3265, 3833,    220.7,  12.6495,  34.8986,2,  34.8970,2,     18.4,2,     16.3,2,    26.13,2,    31.63,2,     0.00,2,     2.24,2,    0.357,2,    0.203,2, -999.000,5, -999.000,5, -999.000,9,-999.0000,9,  -999.00,9,   -999.0,9,   -999.0,9,   2234.1,2,   1335.0,2,   2301.0,2,     7.51,2,   20.00,  -999.0,-999.0000,-999.000,   25.00,  -999.0, 12.6197,-999.000
    31DSCG94_3,  P18N,   133,  1,    126,   1007,2,19940410,1440, -4.4952,-110.3265, 3833,    249.6,  12.3857,  34.8830,2,  34.8825,2,     16.9,2,      9.5,2,    27.39,2,    32.45,2,     0.00,2,     2.32,2,    0.277,2,    0.161,2, -999.000,9, -999.000,9, -999.000,9,-999.0000,9,  -999.00,9,   -999.0,9,   -999.0,9,   2242.0,2,   1417.4,2,   2294.0,2,     7.49,2,   20.00,  -999.0,-999.0000,-999.000,   25.00,  -999.0, 12.3524,-999.000
    31DSCG94_3,  P18N,   133,  1,    125,   1203,2,19940410,1440, -4.4952,-110.3265, 3833,    298.9,  11.8948,  34.8577,2,  34.8557,2,      7.5,2,     10.1,2,    28.81,2,    32.88,2,     0.00,2,     2.38,2,    0.210,2,    0.120,2, -999.000,5, -999.000,5, -999.000,9,-999.0000,9,  -999.00,9,   -999.0,9,   -999.0,9,   2248.4,2,   -999.0,9,   2297.0,2,  -999.00,9, -999.00,  -999.0,-999.0000,-999.000, -999.00,  -999.0, 11.8560,-999.000
    31DSCG94_3,  P18N,   133,  1,    123,   1220,2,19940410,1440, -4.4952,-110.3265, 3833,    352.2,  11.1517,  34.8131,2,  34.8158,2,      3.5,2,      7.4,2,    31.58,2,    33.72,2,     0.00,2,     2.47,2,    0.134,6,    0.082,6, -999.000,5, -999.000,5, -999.000,9,-999.0000,9,  -999.00,9,   -999.0,9,   -999.0,9,   2258.5,2,   1577.9,2,   2308.0,2,     7.45,2,   20.00,  -999.0,-999.0000,-999.000,   25.00,  -999.0, 11.1077,-999.000
    31DSCG94_3,  P18N,   133,  1,    122,   1245,2,19940410,1440, -4.4952,-110.3265, 3833,    400.4,   9.8391,  34.7332,2,  34.7336,2,     -0.2,3,      5.4,2,    38.08,2,    36.35,2,     0.00,2,     2.67,2,    0.049,2,    0.030,2, -999.000,5, -999.000,5, -999.000,9,-999.0000,9,  -999.00,9,   -999.0,9,   -999.0,9,   2273.9,2,   1742.9,2,   2293.0,2,     7.40,2,   20.00,  -999.0,-999.0000,-999.000,   25.00,  -999.0,  9.7928,-999.000
    31DSCG94_3,  P18N,   133,  1,    121,   1206,2,19940410,1440, -4.4952,-110.3265, 3833,    502.0,   8.3657,  34.6491,2,  34.6491,2,      5.4,2,     19.0,2,    43.93,2,    40.47,2,     0.00,2,     2.77,2,    0.020,2,    0.011,2, -999.000,5, -999.000,5, -999.000,9,-999.0000,9,  -999.00,9,   -999.0,9,   -999.0,9,   2276.8,2,   1754.0,2,   2304.0,2,     7.41,2,   20.00,  -999.0,-999.0000,-999.000,   25.00,  -999.0,  8.3128,-999.000
    31DSCG94_3,  P18N,   133,  1,    120,   1028,2,19940410,1440, -4.4952,-110.3265, 3833,    598.4,   7.2768,  34.5941,2,  34.5937,2,     22.9,2,     39.8,2,    47.69,2,    41.31,2,     0.00,2,     2.79,2,    0.009,2,    0.003,2, -999.000,5, -999.000,5, -999.000,9,-999.0000,9,  -999.00,9,   -999.0,9,   -999.0,9,   2273.8,2,   1672.1,2,   2315.0,2,     7.43,2,   20.00,  -999.0,-999.0000,-999.000,   25.00,  -999.0,  7.2182,-999.000
    31DSCG94_3,  P18N,   133,  1,    119,   1248,2,19940410,1440, -4.4952,-110.3265, 3833,    700.6,   6.2851,  34.5574,2,  34.5587,2,     32.1,2,     51.0,2,    54.96,2,    42.63,2,     0.00,2,     2.87,2,    0.006,2,   -0.002,2, -999.000,5, -999.000,5, -999.000,9,-999.0000,9,  -999.00,9,   -999.0,9,   -999.0,9,   2279.9,2,   1667.3,2,   2310.0,2,     7.43,2,   20.00,  -999.0,-999.0000,-999.000,   25.00,  -999.0,  6.2213,-999.000
    31DSCG94_3,  P18N,   133,  1,    118,   1115,2,19940410,1440, -4.4952,-110.3265, 3833,    800.5,   5.6365,  34.5439,2,  34.5443,2,     54.2,2,     73.1,2,    61.39,2,    40.03,2,     0.00,2,     2.76,2,    0.004,2,    0.002,2, -999.000,5, -999.000,5, -999.000,9,-999.0000,9,  -999.00,9,   -999.0,9,   -999.0,9,   2278.1,2,   1520.0,2,   2322.0,2,     7.47,2,   20.00,  -999.0,-999.0000,-999.000,   25.00,  -999.0,  5.5671,-999.000
    31DSCG94_3,  P18N,   133,  1,    117,   1119,2,19940410,1440, -4.4952,-110.3265, 3833,    901.1,   5.1015,  34.5373,2,  34.5376,2,     71.8,2,     84.7,2,    69.50,2,    39.76,2,     0.00,2,     2.79,2,    0.006,2,    0.002,2, -999.000,9, -999.000,9, -999.000,9,-999.0000,9,  -999.00,9,   -999.0,9,   -999.0,9,   2281.4,2,   1478.0,2,   2330.0,2,     7.48,2,   20.00,  -999.0,-999.0000,-999.000,   25.00,  -999.0,  5.0263,-999.000
    31DSCG94_3,  P18N,   133,  1,    116,   1036,2,19940410,1440, -4.4952,-110.3265, 3833,    999.5,   4.4761,  34.5432,2,  34.5424,2,     81.6,2,     96.1,2,    79.06,2,    38.88,2,     0.00,2,     2.73,2,    0.004,2,   -0.002,2, -999.000,9, -999.000,9, -999.000,9,   1.8480,2,    17.33,2,   -999.0,9,   -999.0,9,   2286.6,2,   1416.8,2,   2344.0,6,     7.50,2,   20.00,  -999.0,-999.0000,-999.000,   25.00,  -999.0,  4.3968,-999.000
    31DSCG94_3,  P18N,   133,  1,    115,   1017,2,19940410,1440, -4.4952,-110.3265, 3833,   1200.4,   3.7446,  34.5689,2,  34.5695,2,     86.1,2,     94.3,2,    99.14,2,    39.43,2,     0.00,2,     2.78,2,    0.003,2,    0.000,2, -999.000,9, -999.000,9, -999.000,9,   1.8630,2,    21.30,2,   -999.0,9,   -999.0,9,   2307.9,2,   1450.8,2,   2366.0,2,     7.49,2,   20.00,  -999.0,-999.0000,-999.000,   25.00,  -999.0,  3.6542,-999.000
    31DSCG94_3,  P18N,   133,  1,    114,   1016,2,19940410,1440, -4.4952,-110.3265, 3833,   1398.5,   3.3090,  34.5891,2,  34.5897,2,     85.2,2,     90.3,2,   112.33,2,    39.74,2,     0.00,2,     2.84,2,    0.001,2,   -0.002,2, -999.000,9, -999.000,9, -999.000,9,   1.8800,2,    23.69,2,   -999.0,9,   -999.0,9,   2326.0,2,   1495.5,2,   2377.0,2,     7.48,2,   20.00,  -999.0,-999.0000,-999.000,   25.00,  -999.0,  3.2062,-999.000
    31DSCG94_3,  P18N,   133,  1,    113,   1209,2,19940410,1440, -4.4952,-110.3265, 3833,   1597.6,   2.9323,  34.6056,2,  34.6066,2,     97.6,2,     94.9,2,   121.07,2,    39.80,2,     0.00,2,     2.81,2, -999.000,9, -999.000,9, -999.000,9, -999.000,9, -999.000,9,   1.8830,2,    25.62,2,   -999.0,9,   -999.0,9,   2332.4,2,   1471.1,2,   2387.0,2,     7.49,2,   20.00,  -999.0,-999.0000,-999.000,   25.00,  -999.0,  2.8170,-999.000
    31DSCG94_3,  P18N,   133,  1,    112,   1033,2,19940410,1440, -4.4952,-110.3265, 3833,   1798.1,   2.5167,  34.6251,2,  34.6261,2,    112.7,2,    104.8,2,   128.83,2,    39.26,2,     0.00,2,     2.74,2,    0.005,2,   -0.002,2, -999.000,9, -999.000,9, -999.000,9,   1.8780,3,    27.25,6,   -999.0,9,   -999.0,9,   2335.6,2,   1412.9,2,   -999.0,5,     7.51,2,   20.00,  -999.0,-999.0000,-999.000,   25.00,  -999.0,  2.3898,-999.000
    31DSCG94_3,  P18N,   133,  1,    111,   1240,2,19940410,1440, -4.4952,-110.3265, 3833,   1990.8,   2.2719,  34.6412,2,  34.6409,2,    117.1,2,    108.5,2,   136.98,2,    39.33,2,     0.00,2,     2.74,2, -999.000,9, -999.000,9, -999.000,9, -999.000,9, -999.000,9,   1.9180,2,    28.24,2,   -999.0,9,   -999.0,9,   2342.8,2,   1393.7,2,   2410.0,2,     7.52,2,   20.00,  -999.0,-999.0000,-999.000,   25.00,  -999.0,  2.1320,-999.000
    31DSCG94_3,  P18N,   133,  1,    110,   1005,2,19940410,1440, -4.4952,-110.3265, 3833,   2186.9,   2.0887,  34.6508,2,  34.6529,2,    115.6,2,    115.8,6,   141.49,2,    38.52,2,     0.00,2,     2.68,2, -999.000,9, -999.000,9, -999.000,9, -999.000,9, -999.000,9,   1.9140,2,    28.49,2,   -999.0,9,   -999.0,9,   2339.4,2,   1346.2,2,   -999.0,5,     7.53,2,   20.00,  -999.0,-999.0000,-999.000,   25.00,  -999.0,  1.9348,-999.000
    31DSCG94_3,  P18N,   133,  1,    109,   1611,2,19940410,1440, -4.4952,-110.3265, 3833,   2402.9,   1.9249,  34.6587,2,  34.6592,2,    125.7,2,    126.1,2,   142.16,2,    37.96,2,     0.00,2,     2.61,2,    0.006,2,    0.001,2, -999.000,9, -999.000,9, -999.000,9,   1.9310,2,    29.38,2,   -999.0,9,   -999.0,9,   2337.9,2,   1292.8,2,   2412.0,2,     7.54,2,   20.00,  -999.0,-999.0000,-999.000,   25.00,  -999.0,  1.7547,-999.000
    31DSCG94_3,  P18N,   133,  1,    108,   1218,2,19940410,1440, -4.4952,-110.3265, 3833,   2604.2,   1.8279,  34.6671,2,  34.6675,2,    130.2,2,    131.0,2,   143.32,2,    37.95,2,     0.00,2,     2.59,2, -999.000,9, -999.000,9, -999.000,9, -999.000,9, -999.000,9,   1.9230,2,    31.40,2,   -999.0,9,   -999.0,9,   2339.2,2,   1266.5,2,   2420.0,2,     7.56,2,   20.00,  -999.0,-999.0000,-999.000,   25.00,  -999.0,  1.6412,-999.000
    31DSCG94_3,  P18N,   133,  1,    107,   1257,2,19940410,1440, -4.4952,-110.3265, 3833,   2798.6,   1.7368,  34.6732,2,  34.6729,2,    134.6,2,    136.9,2,   142.40,2,    37.54,2,     0.00,2,     2.51,2, -999.000,9, -999.000,9, -999.000,9, -999.000,9, -999.000,9,   1.9300,2,    28.95,2,   -999.0,9,   -999.0,9,   2337.0,2,   1225.4,2,   2420.0,2,     7.57,2,   20.00,  -999.0,-999.0000,-999.000,   25.00,  -999.0,  1.5339,-999.000
    31DSCG94_3,  P18N,   133,  1,    106,   1224,2,19940410,1440, -4.4952,-110.3265, 3833,   3001.2,   1.6416,  34.6777,2,  34.6782,2,    140.2,2,    143.4,2,   142.34,2,    36.93,2,     0.00,2,     2.45,2,    0.002,2,   -0.002,2, -999.000,9, -999.000,9, -999.000,9,   1.9120,2,    24.82,2,   -999.0,9,   -999.0,9,   2333.4,2,   1195.2,2,   2423.0,2,     7.58,2,   20.00,  -999.0,-999.0000,-999.000,   25.00,  -999.0,  1.4215,-999.000
    31DSCG94_3,  P18N,   133,  1,    105,   1246,2,19940410,1440, -4.4952,-110.3265, 3833,   3200.0,   1.5766,  34.6819,2,  34.6824,2,    145.8,2,    148.5,2,   144.11,2,    37.08,2,     0.00,2,     2.50,2, -999.000,9, -999.000,9, -999.000,9, -999.000,9, -999.000,9,   1.9120,2,    22.54,2,   -999.0,9,   -999.0,9,   2331.0,2,   1158.2,2,   2426.0,2,     7.59,2,   20.00,  -999.0,-999.0000,-999.000,   25.00,  -999.0,  1.3387,-999.000
    31DSCG94_3,  P18N,   133,  1,    104,   1217,2,19940410,1440, -4.4952,-110.3265, 3833,   3400.6,   1.5455,  34.6845,2,  34.6849,2,    148.3,2,    151.8,2,   145.38,2,    36.46,2,     0.00,2,     2.47,2, -999.000,9, -999.000,9, -999.000,9, -999.000,9, -999.000,9,   1.8960,2,    21.44,2,   -999.0,9,   -999.0,9,   2330.0,2,   1145.6,2,   -999.0,5,     7.59,2,   20.00,  -999.0,-999.0000,-999.000,   25.00,  -999.0,  1.2883,-999.000
    31DSCG94_3,  P18N,   133,  1,    102,   1223,2,19940410,1440, -4.4952,-110.3265, 3833,   3603.1,   1.5261,  34.6863,2,  34.6853,2,    150.2,2,    154.5,6,   146.55,2,    36.24,2,     0.00,2,     2.43,2, -999.000,9, -999.000,9, -999.000,9, -999.000,9, -999.000,9,   1.9010,2,    20.07,2,   -999.0,9,   -999.0,9,   2328.7,2,   1135.2,2,   2422.0,2,     7.60,2,   20.00,  -999.0,-999.0000,-999.000,   25.00,  -999.0,  1.2486,-999.000
    31DSCG94_3,  P18N,   133,  1,    103,   9999,2,19940410,1440, -4.4952,-110.3265, 3833,   3603.3,   1.5261,  34.6863,2,  34.6884,2,    150.2,2,    153.8,2,   147.62,2,    35.99,2,     0.00,2,     2.45,2,   -0.001,2,   -0.002,2, -999.000,9, -999.000,9, -999.000,9,-999.0000,9,  -999.00,9,   -999.0,9,   -999.0,9,   2328.3,2,   1127.6,2,   2426.0,2,     7.60,2,   20.00,  -999.0,-999.0000,-999.000,   25.00,  -999.0,  1.2486,-999.000
    31DSCG94_3,  P18N,   133,  1,    101,   1041,2,19940410,1440, -4.4952,-110.3265, 3833,   3869.8,   1.5435,  34.6867,2,  34.6872,2,    149.7,2,    154.3,2,   146.57,2,    36.05,2,     0.00,2,     2.46,2,   -0.001,2,    0.000,2, -999.000,9, -999.000,9, -999.000,9,   1.8910,2,    19.86,2,   -999.0,9,   -999.0,9,   2327.3,2,   1131.1,2,   2421.0,2,     7.60,2,   20.00,  -999.0,-999.0000,-999.000,   25.00,  -999.0,  1.2374,-999.000