BOTTLE,20220630CCHSIOAMB
EXPOCODE,SECT_ID,STNNBR,CASTNO,SAMPNO,BTLNBR,BTLNBR_FLAG_W,DATE,TIME,LATITUDE,LONGITUDE,DEPTH,CTDPRS,CTDTMP,CTDSAL,CTDSAL_FLAG_W,SALNTY,SALNTY_FLAG_W,CTDOXY,CTDOXY_FLAG_W,OXYGEN,OXYGEN_FLAG_W,SILCAT,SILCAT_FLAG_W,NITRAT,NITRAT_FLAG_W,NITRIT,NITRIT_FLAG_W,PHSPHT,PHSPHT_FLAG_W,CFC-11,CFC-11_FLAG_W,CFC-12,CFC-12_FLAG_W,CFC113,CFC113_FLAG_W,CCL4,CCL4_FLAG_W,TRITUM,TRITUM_FLAG_W,HELIUM,HELIUM_FLAG_W,DELHE3,DELHE3_FLAG_W,DELC14,DELC14_FLAG_W,DELC13,DELC13_FLAG_W,TCARBN,TCARBN_FLAG_W,PCO2,PCO2_FLAG_W,ALKALI,ALKALI_FLAG_W,PH,PH_FLAG_W,PCO2TMP,C14ERR,HELIER,DELHER,PH_TMP,C13ERR,THETA,TRITER
,,,,,,,,,,,,DBAR,ITS-90,PSS-78,,PSS-78,,UMOL/KG,,UMOL/KG,,UMOL/KG,,UMOL/KG,,UMOL/KG,,UMOL/KG,,PMOL/KG,,PMOL/KG,,PMOL/KG,,PMOL/KG,,TU,,NMOL/KG,,PERCNT,,/MILLE,,/MILLE,,UMOL/KG,,UATM,,UMOL/KG,,,,DEG C,/MILLE,NMOL/KG,PERCNT,DEG C,/MILLE,DEG C,TU
    31DSCG94_2,  P18S,    41,  1,    136,   1025,2,19940311,0107,-49.1633,-103.0033, 4203,     11.6,  10.2814,  34.1552,2,  34.1556,2,    277.2,2,    275.6,2,     0.00,2,    13.53,2,     0.19,2,     1.08,2, -999.000,9, -999.000,9, -999.000,9, -999.000,9, -999.000,9,-999.0000,9,  -999.00,9,     52.3,2,      1.9,2,   2071.2,2,    525.3,2,   2269.0,6,     7.87,2,   20.00,     4.4,-999.0000,-999.000,   25.00,  -999.0, 10.2801,-999.000
    31DSCG94_2,  P18S,    41,  1,    135,   1247,2,19940311,0107,-49.1633,-103.0033, 4203,     24.5,  10.2513,  34.1564,2,  34.1568,2,    276.9,2,    275.8,2,     0.00,2,    13.50,2,     0.19,2,     1.10,2,    3.769,2,    1.938,2, -999.000,9, -999.000,9, -999.000,9,-999.0000,9,  -999.00,9,     46.6,2,      1.9,2,   2070.6,2,   -999.0,9,   2270.0,6,     7.87,2, -999.00,     4.4,-999.0000,-999.000,   25.00,  -999.0, 10.2485,-999.000
    31DSCG94_2,  P18S,    41,  1,    134,   1108,2,19940311,0107,-49.1633,-103.0033, 4203,     49.1,  10.0062,  34.1602,2,  34.1603,2,    276.3,2,    276.3,2,     0.00,2,    13.77,2,     0.18,2,     1.10,2, -999.000,9, -999.000,9, -999.000,9, -999.000,9, -999.000,9,-999.0000,9,  -999.00,9,     59.6,2,      1.9,2,   2072.2,2,    529.2,6,   2268.0,2,     7.86,2,   20.00,     6.1,-999.0000,-999.000,   25.00,  -999.0, 10.0006,-999.000
    31DSCG94_2,  P18S,    41,  1,    133,   1244,2,19940311,0107,-49.1633,-103.0033, 4203,     73.8,   9.3540,  34.1949,2,  34.2102,2,    283.5,2,    286.0,2,     0.05,2,    14.38,2,     0.18,2,     1.16,2,    4.166,2,    2.073,2, -999.000,9, -999.000,9, -999.000,9,-999.0000,9,  -999.00,9,     71.1,2,      1.8,2,   2086.1,3,    558.1,2,   2277.0,2,     7.84,2,   20.00,     4.3,-999.0000,-999.000,   25.00,  -999.0,  9.3459,-999.000
    31DSCG94_2,  P18S,    41,  1,    132,   1003,3,19940311,0107,-49.1633,-103.0033, 4203,     99.6,   7.4725,  34.2424,2,  34.2531,2,    285.9,2,    287.3,2,     1.52,2,    15.68,2,     0.23,2,     1.27,2, -999.000,9, -999.000,9, -999.000,9, -999.000,9, -999.000,9,-999.0000,9,  -999.00,9,     47.3,2,      1.6,2,   2099.3,3,   -999.0,9,   2273.0,3,  -999.00,9, -999.00,     3.4,-999.0000,-999.000, -999.00,  -999.0,  7.4630,-999.000
    31DSCG94_2,  P18S,    41,  1,    131,   1211,2,19940311,0107,-49.1633,-103.0033, 4203,    123.8,   6.9907,  34.2707,2,  34.2716,2,    277.3,2,    274.7,2,     2.49,2,    17.71,2,     0.20,2,     1.35,2,    4.097,2,    1.836,3, -999.000,9, -999.000,9, -999.000,9,-999.0000,9,  -999.00,9,     39.8,2,      1.5,2,   2108.1,3,   -999.0,9,   2275.0,2,     7.79,2, -999.00,     5.4,-999.0000,-999.000,   25.00,  -999.0,  6.9793,-999.000
    31DSCG94_2,  P18S,    41,  1,    130,   1241,2,19940311,0107,-49.1633,-103.0033, 4203,    149.5,   6.8210,  34.2901,2,  34.2913,2,    273.7,2,    274.7,2,     3.03,2,    19.01,2,     0.00,2,     1.34,2, -999.000,9, -999.000,9, -999.000,9, -999.000,9, -999.000,9,-999.0000,9,  -999.00,9,     50.8,2,      1.5,2,   2109.1,3,    647.6,2,   -999.0,5,     7.79,2,   20.00,     7.4,-999.0000,-999.000,   25.00,  -999.0,  6.8074,-999.000
    31DSCG94_2,  P18S,    41,  1,    129,   1031,2,19940311,0107,-49.1633,-103.0033, 4203,    200.7,   6.6587,  34.3205,2,  34.3207,2,    273.6,2,    275.3,2,     4.21,2,    18.92,2,     0.00,2,     1.40,2,    4.018,2,    1.989,2, -999.000,9, -999.000,9, -999.000,9,-999.0000,9,  -999.00,9,     51.5,2,      1.5,2,   2117.1,2,   -999.0,9,   2277.0,2,     7.78,2, -999.00,     4.4,-999.0000,-999.000,   25.00,  -999.0,  6.6406,-999.000
    31DSCG94_2,  P18S,    41,  1,    128,   1210,2,19940311,0107,-49.1633,-103.0033, 4203,    249.0,   6.5878,  34.3239,2,  34.3247,2,    279.3,2,    283.5,2,     3.60,2,    18.27,2,     0.00,2,     1.35,2, -999.000,9, -999.000,9, -999.000,9, -999.000,9, -999.000,9,-999.0000,9,  -999.00,9,     36.6,2,      1.5,2,   2113.0,2,   -999.0,9,   2276.0,2,     7.79,2, -999.00,     6.1,-999.0000,-999.000,   25.00,  -999.0,  6.5655,-999.000
    31DSCG94_2,  P18S,    41,  1,    127,   1008,2,19940311,0107,-49.1633,-103.0033, 4203,    300.6,   6.5685,  34.3258,2,  34.3254,2,    281.2,2,    284.4,2,     3.65,2,    18.26,2,     0.00,2,     1.36,2,    4.206,2,    2.132,2, -999.000,9, -999.000,9, -999.000,9,-999.0000,9,  -999.00,9,     31.1,2,      1.5,2,   2112.1,2,    644.8,2,   -999.0,5,     7.79,2,   20.00,     4.0,-999.0000,-999.000,   25.00,  -999.0,  6.5415,-999.000
    31DSCG94_2,  P18S,    41,  1,    126,   1007,2,19940311,0107,-49.1633,-103.0033, 4203,    349.4,   6.5376,  34.3269,2,  34.3264,2,    277.6,2,    282.3,2,     3.88,2,    18.42,2,     0.00,2,     1.36,2, -999.000,9, -999.000,9, -999.000,9, -999.000,9, -999.000,9,-999.0000,9,  -999.00,9,     40.3,2,      1.6,2,   2113.9,2,   -999.0,9,   2277.0,2,     7.79,2, -999.00,     5.0,-999.0000,-999.000,   25.00,  -999.0,  6.5061,-999.000
    31DSCG94_2,  P18S,    41,  1,    125,   1203,2,19940311,0107,-49.1633,-103.0033, 4203,    398.6,   6.4471,  34.3247,2,  34.3246,2,    272.1,2,    279.7,2,     4.44,2,    19.10,2,     0.00,2,     1.40,2,    4.015,2,    1.996,2, -999.000,9, -999.000,9, -999.000,9,-999.0000,9,  -999.00,9,     33.0,2,      1.5,2,   2117.0,2,   -999.0,9,   2275.0,2,     7.78,2, -999.00,     3.2,-999.0000,-999.000,   25.00,  -999.0,  6.4113,-999.000
    31DSCG94_2,  P18S,    41,  1,    123,   1101,2,19940311,0107,-49.1633,-103.0033, 4203,    498.6,   6.1387,  34.3022,2,  34.3015,2,    264.1,2,    267.1,2,     6.71,2,    21.41,2,     0.00,2,     1.59,2,    3.387,2,    1.656,2, -999.000,9, -999.000,9, -999.000,9,-999.0000,9,  -999.00,9,     32.6,2,      1.4,2,   2127.1,2,    711.9,2,   2278.0,2,     7.76,2,   20.00,     5.6,-999.0000,-999.000,   25.00,  -999.0,  6.0948,-999.000
    31DSCG94_2,  P18S,    41,  1,    121,   1206,2,19940311,0107,-49.1633,-103.0033, 4203,    599.5,   5.7212,  34.2799,2,  34.2798,2,    258.7,2,    259.8,2,     8.74,2,    23.22,2,     0.00,2,     1.68,2,    2.988,2,    1.483,2, -999.000,9, -999.000,9, -999.000,9,-999.0000,9,  -999.00,9,      8.1,2,      1.4,2,   2135.1,2,   -999.0,9,   2282.0,2,     7.74,2, -999.00,     4.3,-999.0000,-999.000,   25.00,  -999.0,  5.6699,-999.000
    31DSCG94_2,  P18S,    41,  1,    119,   1248,2,19940311,0107,-49.1633,-103.0033, 4203,    697.6,   5.3195,  34.2610,2,  34.2612,2,    250.0,2,    253.3,2,    11.50,2,    24.63,2,     0.00,2,     1.77,2,    2.663,2,    1.286,2, -999.000,9, -999.000,9, -999.000,9,-999.0000,9,  -999.00,9,     -9.2,2,      1.3,2,   2143.6,2,   -999.0,9,   2281.0,2,     7.72,2, -999.00,     5.1,-999.0000,-999.000,   25.00,  -999.0,  5.2615,-999.000
    31DSCG94_2,  P18S,    41,  1,    118,   1207,2,19940311,0107,-49.1633,-103.0033, 4203,    800.6,   4.9363,  34.2612,2,  34.2610,2,    239.0,2,    240.4,2,    16.22,2,    26.66,2,     0.00,2,     1.90,2, -999.000,9, -999.000,9, -999.000,9, -999.000,9, -999.000,9,-999.0000,9,  -999.00,9,   -999.0,9,      1.2,2,   2157.7,2,    840.0,2,   2285.0,2,     7.69,2,   20.00,  -999.0,-999.0000,-999.000,   25.00,  -999.0,  4.8715,-999.000
    31DSCG94_2,  P18S,    41,  1,    117,   1119,2,19940311,0107,-49.1633,-103.0033, 4203,    899.9,   4.4915,  34.2748,2,  34.2752,2,    223.9,2,    223.8,2,    22.81,2,    28.79,2,     0.00,2,     2.07,2,    1.542,2,    0.731,2, -999.000,9, -999.000,9, -999.000,9,-999.0000,9,  -999.00,9,    -36.0,2,      1.1,2,   2175.1,2,   -999.0,9,   2292.0,2,     7.66,2, -999.00,     4.0,-999.0000,-999.000,   25.00,  -999.0,  4.4210,-999.000
    31DSCG94_2,  P18S,    41,  1,    116,   1036,2,19940311,0107,-49.1633,-103.0033, 4203,    998.7,   3.9963,  34.2975,2,  34.2967,2,    214.0,2,    212.9,2,    29.98,2,    30.57,2,     0.00,2,     2.19,2, -999.000,9, -999.000,9, -999.000,9, -999.000,9, -999.000,9,-999.0000,9,  -999.00,9,    -78.4,2,      0.9,2,   2189.9,2,    973.1,2,   2290.0,6,     7.64,2,   20.00,     4.6,-999.0000,-999.000,   25.00,  -999.0,  3.9211,-999.000
    31DSCG94_2,  P18S,    41,  1,    115,   1017,2,19940311,0107,-49.1633,-103.0033, 4203,   1201.0,   3.3051,  34.3695,2,  34.3679,2,    192.7,2,    189.8,2,    46.47,2,    33.02,2,     0.00,2,     2.31,2,    0.402,2,    0.202,2, -999.000,9, -999.000,9, -999.000,9,-999.0000,9,  -999.00,9,   -109.8,2,      0.8,2,   2217.2,2,   -999.0,9,   2311.0,2,     7.59,2, -999.00,     3.9,-999.0000,-999.000,   25.00,  -999.0,  3.2191,-999.000
    31DSCG94_2,  P18S,    41,  1,    114,   1016,2,19940311,0107,-49.1633,-103.0033, 4203,   1399.7,   2.8786,  34.4561,2,  34.4551,2,    176.8,2,    173.4,2,    61.65,2,    34.32,2,     0.00,2,     2.41,2, -999.000,9, -999.000,9, -999.000,9, -999.000,9, -999.000,9,-999.0000,9,  -999.00,9,   -129.6,2,      0.6,2,   2245.4,2,   -999.0,9,   2323.0,2,     7.57,2, -999.00,     4.2,-999.0000,-999.000,   25.00,  -999.0,  2.7806,-999.000
    31DSCG94_2,  P18S,    41,  1,    113,   1118,2,19940311,0107,-49.1633,-103.0033, 4203,   1598.2,   2.6160,  34.5295,2,  34.5281,2,    169.5,2,    168.7,2,    72.39,2,    34.66,2,     0.00,2,     2.39,2,    0.146,4,    0.072,2, -999.000,9, -999.000,9, -999.000,9,-999.0000,9,  -999.00,9,   -151.7,2,      0.5,2,   2254.1,2,   -999.0,9,   2334.0,2,     7.56,2, -999.00,     3.0,-999.0000,-999.000,   25.00,  -999.0,  2.5047,-999.000
    31DSCG94_2,  P18S,    41,  1,    112,   1033,2,19940311,0107,-49.1633,-103.0033, 4203,   1798.6,   2.4469,  34.5952,2,  34.5942,2,    165.2,2,    164.1,2,    82.77,2,    34.23,2,     0.00,2,     2.37,2, -999.000,9, -999.000,9, -999.000,9, -999.000,9, -999.000,9,-999.0000,9,  -999.00,9,   -161.4,2,      0.4,2,   2263.9,2,   -999.0,9,   2346.0,2,     7.57,2, -999.00,     4.4,-999.0000,-999.000,   25.00,  -999.0,  2.3210,-999.000
    31DSCG94_2,  P18S,    41,  1,    111,   1263,2,19940311,0107,-49.1633,-103.0033, 4203,   1999.4,   2.2907,  34.6446,2,  34.6431,2,    166.5,2,    167.2,2,    89.44,2,    33.46,2,     0.00,2,     2.32,2,    0.024,2,    0.015,2, -999.000,9, -999.000,9, -999.000,9,-999.0000,9,  -999.00,9,   -155.8,2,      0.4,2,   2264.5,2,   -999.0,9,   2351.0,2,     7.58,2, -999.00,     3.7,-999.0000,-999.000,   25.00,  -999.0,  2.1498,-999.000
    31DSCG94_2,  P18S,    41,  1,    110,   1005,2,19940311,0107,-49.1633,-103.0033, 4203,   2249.3,   2.1275,  34.6817,2,  34.6803,2,    169.4,2,    170.6,2,    94.88,2,    32.88,2,     0.00,2,     2.32,2, -999.000,9, -999.000,9, -999.000,9, -999.000,9, -999.000,9,-999.0000,9,  -999.00,9,   -168.4,2,      0.4,2,   2266.3,2,   -999.0,9,   2358.0,2,     7.58,2, -999.00,     4.2,-999.0000,-999.000,   25.00,  -999.0,  1.9673,-999.000
    31DSCG94_2,  P18S,    41,  1,    109,   1611,2,19940311,0107,-49.1633,-103.0033, 4203,   2500.1,   1.9379,  34.6995,2,  34.6980,2,    172.5,2,    172.8,6,    99.86,2,    32.67,2,     0.00,2,     2.33,2,    0.003,2,    0.003,2, -999.000,9, -999.000,9, -999.000,9,-999.0000,9,  -999.00,9,   -174.9,2,      0.3,2,   2272.0,2,   -999.0,9,   2366.0,2,     7.59,2, -999.00,     3.0,-999.0000,-999.000,   25.00,  -999.0,  1.7586,-999.000
    31DSCG94_2,  P18S,    41,  1,    108,   1218,2,19940311,0107,-49.1633,-103.0033, 4203,   2750.6,   1.7576,  34.7049,2,  34.7038,2,    175.1,2,    175.8,6,   106.69,2,    32.78,2,     0.00,2,     2.33,2, -999.000,9, -999.000,9, -999.000,9, -999.000,9, -999.000,9,-999.0000,9,  -999.00,9,   -173.1,2,      0.4,2,   2275.0,2,   -999.0,9,   2366.0,2,     7.59,2, -999.00,     3.7,-999.0000,-999.000,   25.00,  -999.0,  1.5586,-999.000
    31DSCG94_2,  P18S,    41,  1,    107,   1257,2,19940311,0107,-49.1633,-103.0033, 4203,   2983.7,   1.6547,  34.7089,2,  34.7075,2,    179.0,2,    179.7,2,   110.72,2,    32.48,2,     0.00,2,     2.24,2,    0.000,2,   -0.003,2, -999.000,9, -999.000,9, -999.000,9,-999.0000,9,  -999.00,9,     36.9,4,      0.4,2,   2274.6,2,   -999.0,9,   2369.0,2,     7.60,2, -999.00,     6.7,-999.0000,-999.000,   25.00,  -999.0,  1.4359,-999.000
    31DSCG94_2,  P18S,    41,  1,    106,   1224,2,19940311,0107,-49.1633,-103.0033, 4203,   3249.4,   1.5298,  34.7140,2,  34.7130,2,    184.6,2,    185.4,2,   113.38,2,    32.41,2,     0.00,2,     2.27,2, -999.000,9, -999.000,9, -999.000,9, -999.000,9, -999.000,9,-999.0000,9,  -999.00,9,   -178.1,2,      0.4,2,   2271.4,2,   -999.0,9,   2369.0,2,     7.60,2, -999.00,     5.0,-999.0000,-999.000,   25.00,  -999.0,  1.2879,-999.000
    31DSCG94_2,  P18S,    41,  1,    105,   1246,2,19940311,0107,-49.1633,-103.0033, 4203,   3499.8,   1.3258,  34.7132,2,  34.7109,2,    189.6,2,    190.3,2,   117.19,2,    32.37,2,     0.00,2,     2.24,2,    0.023,4,    0.006,2, -999.000,9, -999.000,9, -999.000,9,-999.0000,9,  -999.00,9,   -182.1,2,      0.3,2,   2272.2,2,   -999.0,9,   2373.0,2,  -999.00,9, -999.00,     3.5,-999.0000,-999.000, -999.00,  -999.0,  1.0638,-999.000
    31DSCG94_2,  P18S,    41,  1,    104,   1028,2,19940311,0107,-49.1633,-103.0033, 4203,   3751.5,   1.0617,  34.7107,2,  34.7093,2,    196.3,2,    196.6,2,   123.79,2,    32.72,2,     0.00,2,     2.22,2, -999.000,9, -999.000,9, -999.000,9, -999.000,9, -999.000,9,-999.0000,9,  -999.00,9,   -175.4,2,      0.4,2,   2272.3,2,   -999.0,9,   2375.0,2,     7.61,2, -999.00,     2.9,-999.0000,-999.000,   25.00,  -999.0,  0.7810,-999.000
    31DSCG94_2,  P18S,    41,  1,    103,   9999,2,19940311,0107,-49.1633,-103.0033, 4203,   3997.3,   0.8390,  34.7095,2,  34.7073,2,    202.8,2,    202.4,2,   129.83,2,    32.32,2,     0.00,2,     2.28,2,    0.000,6,   -0.001,6, -999.000,9, -999.000,9, -999.000,9,-999.0000,9,  -999.00,9,   -999.0,9,   -999.0,9,   2270.8,2,   -999.0,9,   2373.0,2,     7.62,2, -999.00,  -999.0,-999.0000,-999.000,   25.00,  -999.0,  0.5389,-999.000
    31DSCG94_2,  P18S,    41,  1,    102,   1223,2,19940311,0107,-49.1633,-103.0033, 4203,   3998.8,   0.8387,  34.7091,2,  34.7077,2,    202.6,2,    202.4,2,   131.58,2,    32.32,2,     0.00,2,     2.22,2, -999.000,9, -999.000,9, -999.000,9, -999.000,9, -999.000,9,-999.0000,9,  -999.00,9,   -168.4,2,      0.4,2,   2271.5,2,   -999.0,9,   2372.0,2,     7.62,2, -999.00,     3.8,-999.0000,-999.000,   25.00,  -999.0,  0.5384,-999.000
    31DSCG94_2,  P18S,    41,  1,    101,   1041,2,19940311,0107,-49.1633,-103.0033, 4203,   4286.7,   0.7673,  34.7081,2,  34.7063,2,    206.1,2,    207.3,2,   133.30,2,    32.49,2,     0.00,2,     2.24,2,    0.002,2,    0.000,2, -999.000,9, -999.000,9, -999.000,9,-999.0000,9,  -999.00,9,   -175.2,2,      0.4,2,   2270.1,2,   -999.0,9,   2372.0,2,  -999.00,9, -999.00,     3.5,-999.0000,-999.000, -999.00,  -999.0,  0.4384,-999.000