BOTTLE,20220630CCHSIOAMB
EXPOCODE,SECT_ID,STNNBR,CASTNO,SAMPNO,BTLNBR,BTLNBR_FLAG_W,DATE,TIME,LATITUDE,LONGITUDE,DEPTH,CTDPRS,CTDTMP,CTDSAL,CTDSAL_FLAG_W,SALNTY,SALNTY_FLAG_W,CTDOXY,CTDOXY_FLAG_W,OXYGEN,OXYGEN_FLAG_W,SILCAT,SILCAT_FLAG_W,NITRAT,NITRAT_FLAG_W,NITRIT,NITRIT_FLAG_W,PHSPHT,PHSPHT_FLAG_W,CFC-11,CFC-11_FLAG_W,CFC-12,CFC-12_FLAG_W,CFC113,CFC113_FLAG_W,CCL4,CCL4_FLAG_W,TRITUM,TRITUM_FLAG_W,HELIUM,HELIUM_FLAG_W,DELHE3,DELHE3_FLAG_W,DELC14,DELC14_FLAG_W,DELC13,DELC13_FLAG_W,TCARBN,TCARBN_FLAG_W,PCO2,PCO2_FLAG_W,ALKALI,ALKALI_FLAG_W,PH,PH_FLAG_W,PCO2TMP,C14ERR,HELIER,DELHER,PH_TMP,C13ERR,THETA,TRITER
,,,,,,,,,,,,DBAR,ITS-90,PSS-78,,PSS-78,,UMOL/KG,,UMOL/KG,,UMOL/KG,,UMOL/KG,,UMOL/KG,,UMOL/KG,,PMOL/KG,,PMOL/KG,,PMOL/KG,,PMOL/KG,,TU,,NMOL/KG,,PERCNT,,/MILLE,,/MILLE,,UMOL/KG,,UATM,,UMOL/KG,,,,DEG C,/MILLE,NMOL/KG,PERCNT,DEG C,/MILLE,DEG C,TU
    31DSCG94_2,  P18S,    71,  1,    136,   1025,2,19940318,2206,-34.0067,-103.0017, 3667,     10.0,  20.9432,  34.3025,2,  34.3026,2,    223.8,2,    226.4,2,     3.26,2,     0.51,2,     0.00,2,     0.23,2,    2.286,2,    1.231,2, -999.000,9, -999.000,9, -999.000,9,-999.0000,9,  -999.00,9,    116.1,2,      1.8,2,   1999.5,2,    358.3,2,   2266.0,6,     8.00,2,   20.00,     3.7,-999.0000,-999.000,   25.00,  -999.0, 20.9413,-999.000
    31DSCG94_2,  P18S,    71,  1,    135,   1247,2,19940318,2206,-34.0067,-103.0017, 3667,     23.0,  20.8802,  34.2881,2,  34.2827,2,    229.9,2,    226.6,2,     3.13,2,     0.36,2,     0.00,2,     0.24,2,    2.277,2,    1.231,2, -999.000,9, -999.000,9, -999.000,9,-999.0000,9,  -999.00,9,    115.2,2,      1.9,2,   -999.0,9,   -999.0,9,   -999.0,9,     8.00,2, -999.00,     3.4,-999.0000,-999.000,   25.00,  -999.0, 20.8758,-999.000
    31DSCG94_2,  P18S,    71,  1,    134,   1108,2,19940318,2206,-34.0067,-103.0017, 3667,     48.5,  18.4382,  34.2503,2,  34.2700,2,    239.9,2,    256.4,2,     2.95,2,     0.41,2,     0.00,2,     0.19,2,    2.754,2,    1.456,2, -999.000,9, -999.000,9, -999.000,9,-999.0000,9,  -999.00,9,    122.9,2,      1.9,2,   -999.0,9,    365.5,2,   -999.0,9,     7.99,2,   20.00,     4.4,-999.0000,-999.000,   25.00,  -999.0, 18.4298,-999.000
    31DSCG94_2,  P18S,    71,  1,    133,   1244,2,19940318,2206,-34.0067,-103.0017, 3667,     73.0,  15.1490,  34.1724,2,  34.1780,2,    264.8,2,    266.9,2,     2.64,2,     0.72,2,     0.00,2,     0.24,2,    3.130,2,    1.610,2, -999.000,9, -999.000,9, -999.000,9,-999.0000,9,  -999.00,9,    120.7,2,      1.9,2,   -999.0,9,   -999.0,9,   -999.0,9,     7.98,2, -999.00,     2.9,-999.0000,-999.000,   25.00,  -999.0, 15.1380,-999.000
    31DSCG94_2,  P18S,    71,  1,    132,   1003,2,19940318,2206,-34.0067,-103.0017, 3667,    102.5,  14.2972,  34.2200,2,  34.2272,2,    252.0,2,    254.0,2,     2.47,2,     1.53,2,     0.04,2,     0.28,2,    3.090,2,    1.626,2, -999.000,9, -999.000,9, -999.000,9,-999.0000,9,  -999.00,9,    100.2,2,      1.8,2,   -999.0,9,    409.8,2,   -999.0,9,     7.96,2,   20.00,     3.8,-999.0000,-999.000,   25.00,  -999.0, 14.2823,-999.000
    31DSCG94_2,  P18S,    71,  1,    131,   1211,2,19940318,2206,-34.0067,-103.0017, 3667,    125.2,  13.6867,  34.1749,2,  34.1817,2,    248.9,2,    251.6,2,     2.36,2,     2.37,2,     0.10,2,     0.38,2, -999.000,5, -999.000,5, -999.000,9, -999.000,9, -999.000,9,-999.0000,9,  -999.00,9,   -999.0,9,   -999.0,9,   -999.0,9,   -999.0,9,   -999.0,9,     7.94,2, -999.00,  -999.0,-999.0000,-999.000,   25.00,  -999.0, 13.6691,-999.000
    31DSCG94_2,  P18S,    71,  1,    130,   1241,2,19940318,2206,-34.0067,-103.0017, 3667,    147.4,  12.9102,  34.1773,2,  34.1620,2,    244.1,2,    247.3,2,     2.51,2,     4.61,2,     0.31,2,     0.54,2,    3.250,2,    1.614,2, -999.000,9, -999.000,9, -999.000,9,-999.0000,9,  -999.00,9,     94.3,2,      1.7,2,   -999.0,9,   -999.0,9,   -999.0,9,     7.91,2, -999.00,     4.6,-999.0000,-999.000,   25.00,  -999.0, 12.8902,-999.000
    31DSCG94_2,  P18S,    71,  1,    129,   1031,2,19940318,2206,-34.0067,-103.0017, 3667,    198.1,  12.3787,  34.5136,2,  34.5108,2,    222.1,2,    216.6,2,     3.06,2,     8.98,2,     0.00,2,     0.80,2,    2.757,2,    1.379,2, -999.000,9, -999.000,9, -999.000,9,-999.0000,9,  -999.00,9,    108.8,2,      1.4,2,   -999.0,9,   -999.0,9,   -999.0,9,     7.86,2, -999.00,     4.6,-999.0000,-999.000,   25.00,  -999.0, 12.3525,-999.000
    31DSCG94_2,  P18S,    71,  1,    128,   1210,2,19940318,2206,-34.0067,-103.0017, 3667,    248.3,  10.7858,  34.4460,2,  34.4455,2,    220.0,2,    216.7,2,     3.61,2,    12.85,2,     0.00,2,     1.04,2,    2.541,2,    1.241,2, -999.000,9, -999.000,9, -999.000,9,-999.0000,9,  -999.00,9,   -999.0,9,   -999.0,9,   -999.0,9,    578.5,2,   -999.0,9,     7.82,2,   20.00,  -999.0,-999.0000,-999.000,   25.00,  -999.0, 10.7557,-999.000
    31DSCG94_2,  P18S,    71,  1,    127,   1008,2,19940318,2206,-34.0067,-103.0017, 3667,    298.2,   9.0589,  34.3629,2,  34.3636,2,    225.0,2,    221.0,2,     4.93,2,    17.00,2,     0.00,2,     1.28,2,    2.367,2,    1.126,2, -999.000,9, -999.000,9, -999.000,9,-999.0000,9,  -999.00,9,     69.1,2,      1.4,2,   -999.0,9,   -999.0,9,   -999.0,9,     7.77,2, -999.00,     3.7,-999.0000,-999.000,   25.00,  -999.0,  9.0265,-999.000
    31DSCG94_2,  P18S,    71,  1,    126,   1007,2,19940318,2206,-34.0067,-103.0017, 3667,    349.4,   7.5860,  34.3251,2,  34.3253,2,    235.9,2,    233.4,2,     6.28,2,    20.27,2,     0.00,2,     1.44,2,    2.371,2,    1.147,2, -999.000,9, -999.000,9, -999.000,9,-999.0000,9,  -999.00,9,   -999.0,9,   -999.0,9,   -999.0,9,   -999.0,9,   -999.0,9,     7.75,2, -999.00,  -999.0,-999.0000,-999.000,   25.00,  -999.0,  7.5517,-999.000
    31DSCG94_2,  P18S,    71,  1,    125,   1203,2,19940318,2206,-34.0067,-103.0017, 3667,    401.8,   6.9565,  34.3364,2,  34.3351,2,    237.2,2,    237.4,2,     7.54,2,    21.61,2,     0.00,2,     1.49,2,    2.147,2,    1.031,2, -999.000,9, -999.000,9, -999.000,9,-999.0000,9,  -999.00,9,     28.1,2,      1.4,2,   -999.0,9,   -999.0,9,   -999.0,9,     7.74,2, -999.00,     4.0,-999.0000,-999.000,   25.00,  -999.0,  6.9189,-999.000
    31DSCG94_2,  P18S,    71,  1,    123,   1101,2,19940318,2206,-34.0067,-103.0017, 3667,    502.2,   6.3178,  34.3261,2,  34.3263,2,    247.9,2,    248.5,2,     9.21,2,    22.39,2,     0.00,2,     1.55,2,    1.785,6,    0.850,6, -999.000,9, -999.000,9, -999.000,9,-999.0000,9,  -999.00,9,      1.5,2,      1.4,2,   -999.0,9,    734.6,2,   -999.0,9,     7.74,2,   20.00,     4.4,-999.0000,-999.000,   25.00,  -999.0,  6.2728,-999.000
    31DSCG94_2,  P18S,    71,  1,    121,   1206,2,19940318,2206,-34.0067,-103.0017, 3667,    599.0,   5.8889,  34.2979,2,  34.2971,2,    249.2,2,    249.9,2,    10.48,2,    23.26,2,     0.00,2,     1.62,2,    1.488,2,    0.720,2, -999.000,9, -999.000,9, -999.000,9,-999.0000,9,  -999.00,9,     -1.7,2,      1.4,2,   -999.0,9,   -999.0,9,   -999.0,9,     7.73,2, -999.00,     3.9,-999.0000,-999.000,   25.00,  -999.0,  5.8368,-999.000
    31DSCG94_2,  P18S,    71,  1,    119,   1248,2,19940318,2206,-34.0067,-103.0017, 3667,    699.4,   5.5220,  34.2777,2,  34.2774,2,    245.5,2,    247.1,2,    12.23,2,    24.70,2,     0.00,2,     1.74,2,    1.174,2,    0.582,2, -999.000,9, -999.000,9, -999.000,9,-999.0000,9,  -999.00,9,    -20.5,2,      1.4,6,   -999.0,9,   -999.0,9,   -999.0,9,     7.72,2, -999.00,     4.0,-999.0000,-999.000,   25.00,  -999.0,  5.4627,-999.000
    31DSCG94_2,  P18S,    71,  1,    118,   1207,2,19940318,2206,-34.0067,-103.0017, 3667,    799.9,   5.0396,  34.2652,2,  34.2649,2,    236.2,2,    233.0,2,    16.71,2,    26.93,2,     0.00,2,     1.90,2,    0.687,2,    0.361,2, -999.000,9, -999.000,9, -999.000,9,-999.0000,9,  -999.00,9,    -51.8,2,      1.3,2,   -999.0,9,   -999.0,9,   -999.0,9,     7.69,2, -999.00,     3.4,-999.0000,-999.000,   25.00,  -999.0,  4.9742,-999.000
    31DSCG94_2,  P18S,    71,  1,    117,   1119,2,19940318,2206,-34.0067,-103.0017, 3667,    897.3,   4.5837,  34.2724,2,  34.2715,2,    218.5,2,    212.8,2,    23.77,2,    29.53,2,     0.00,2,     2.04,2,    0.352,2,    0.205,2, -999.000,9, -999.000,9, -999.000,9,-999.0000,9,  -999.00,9,    -80.1,2,      1.1,2,   -999.0,9,    922.1,2,   -999.0,9,     7.65,2,   20.00,     4.3,-999.0000,-999.000,   25.00,  -999.0,  4.5128,-999.000
    31DSCG94_2,  P18S,    71,  1,    116,   1036,2,19940318,2206,-34.0067,-103.0017, 3667,    994.7,   4.1147,  34.3066,2,  34.3057,2,    197.3,2,    193.0,2,    34.21,2,    31.88,2,     0.00,2,     2.22,2,    0.119,2,    0.073,2, -999.000,9, -999.000,9, -999.000,9,   1.8150,2,     3.26,2,   -108.6,2,      0.9,2,   -999.0,9,   1017.7,2,   -999.0,9,     7.61,2,   20.00,     3.1,-999.0000,-999.000,   25.00,  -999.0,  4.0389,-999.000
    31DSCG94_2,  P18S,    71,  1,    115,   1017,2,19940318,2206,-34.0067,-103.0017, 3667,   1099.5,   3.7268,  34.3578,2,  34.3566,2,    176.3,2,    172.3,2,    47.52,2,    34.24,2,     0.00,2,     2.36,2,    0.104,2,    0.127,4, -999.000,9, -999.000,9, -999.000,9,-999.0000,9,  -999.00,9,   -121.7,2,      0.8,2,   -999.0,9,   -999.0,9,   -999.0,9,  -999.00,9, -999.00,     4.0,-999.0000,-999.000, -999.00,  -999.0,  3.6454,-999.000
    31DSCG94_2,  P18S,    71,  1,    114,   1016,2,19940318,2206,-34.0067,-103.0017, 3667,   1197.3,   3.4857,  34.4197,2,  34.4190,2,    154.8,2,    147.3,2,    60.93,2,    35.79,2,     0.00,2,     2.54,2,    0.003,2,    0.002,2, -999.000,9, -999.000,9, -999.000,9,   1.8260,2,     9.37,2,   -153.9,2,      0.7,2,   -999.0,9,   -999.0,9,   -999.0,9,  -999.00,9, -999.00,     4.1,-999.0000,-999.000, -999.00,  -999.0,  3.3982,-999.000
    31DSCG94_2,  P18S,    71,  1,    113,   1209,2,19940318,2206,-34.0067,-103.0017, 3667,   1400.8,   3.1239,  34.5134,2,  34.5114,2,    130.4,2,    128.6,6,    82.27,2,    37.47,2,     0.01,2,     2.66,2,   -0.002,2,    0.000,2, -999.000,9, -999.000,9, -999.000,9,   1.8660,2,    15.94,2,   -999.0,9,   -999.0,9,   -999.0,9,   -999.0,9,   -999.0,9,  -999.00,9, -999.00,  -999.0,-999.0000,-999.000, -999.00,  -999.0,  3.0230,-999.000
    31DSCG94_2,  P18S,    71,  1,    112,   1033,2,19940318,2206,-34.0067,-103.0017, 3667,   1600.0,   2.7428,  34.5641,2,  34.5638,2,    134.5,2,    136.4,2,    94.98,2,    37.05,2,     0.00,2,     2.58,2,    0.003,2,   -0.003,2, -999.000,9, -999.000,9, -999.000,9,   1.8760,2,    19.52,2,   -182.4,2,      0.3,2,   -999.0,9,   -999.0,9,   -999.0,9,  -999.00,9, -999.00,     6.0,-999.0000,-999.000, -999.00,  -999.0,  2.6297,-999.000
    31DSCG94_2,  P18S,    71,  1,    111,   1263,2,19940318,2206,-34.0067,-103.0017, 3667,   1805.8,   2.4036,  34.6026,2,  34.6018,2,    145.5,2,    146.5,6,   102.60,2,    36.15,2,     0.00,2,     2.50,2,    0.001,2,   -0.001,2, -999.000,9, -999.000,9, -999.000,9,   1.8820,2,    20.57,2,   -999.0,9,   -999.0,9,   -999.0,9,   -999.0,9,   -999.0,9,  -999.00,9, -999.00,  -999.0,-999.0000,-999.000, -999.00,  -999.0,  2.2777,-999.000
    31DSCG94_2,  P18S,    71,  1,    110,   1005,2,19940318,2206,-34.0067,-103.0017, 3667,   1997.9,   2.1715,  34.6349,2,  34.6340,2,    153.7,2,    155.9,2,   106.69,2,    34.52,2,     0.00,2,     2.41,2,   -0.001,2,    0.002,2, -999.000,9, -999.000,9, -999.000,9,   1.8950,2,    22.65,2,   -196.9,2,      0.3,2,   -999.0,9,   -999.0,9,   -999.0,9,  -999.00,9, -999.00,     2.8,-999.0000,-999.000, -999.00,  -999.0,  2.0326,-999.000
    31DSCG94_2,  P18S,    71,  1,    109,   1611,2,19940318,2206,-34.0067,-103.0017, 3667,   2253.4,   1.9510,  34.6653,2,  34.6638,2,    160.6,2,    160.5,6,   112.50,2,    34.37,2,     0.00,2,     2.40,2,   -0.002,2,   -0.003,2, -999.000,9, -999.000,9, -999.000,9,   1.9120,2,    28.18,2,   -999.0,9,   -999.0,9,   -999.0,9,   -999.0,9,   -999.0,9,  -999.00,9, -999.00,  -999.0,-999.0000,-999.000, -999.00,  -999.0,  1.7935,-999.000
    31DSCG94_2,  P18S,    71,  1,    108,   1218,2,19940318,2206,-34.0067,-103.0017, 3667,   2498.1,   1.8140,  34.6796,2,  34.6786,2,    164.4,2,    164.4,2,   116.99,2,    33.91,2,     0.00,2,     2.39,2, -999.000,9, -999.000,9, -999.000,9, -999.000,9, -999.000,9,   1.9230,2,    29.37,2,   -186.0,2,      0.3,2,   -999.0,9,   -999.0,9,   -999.0,9,  -999.00,9, -999.00,     5.6,-999.0000,-999.000, -999.00,  -999.0,  1.6372,-999.000
    31DSCG94_2,  P18S,    71,  1,    107,   1257,2,19940318,2206,-34.0067,-103.0017, 3667,   2739.4,   1.7563,  34.6841,2,  34.6824,2,    167.2,2,    166.2,2,   120.28,2,    33.91,2,     0.00,2,     2.37,2, -999.000,9, -999.000,9, -999.000,9, -999.000,9, -999.000,9,   1.9090,2,    27.23,2,   -999.0,9,   -999.0,9,   -999.0,9,   -999.0,9,   -999.0,9,  -999.00,9, -999.00,  -999.0,-999.0000,-999.000, -999.00,  -999.0,  1.5585,-999.000
    31DSCG94_2,  P18S,    71,  1,    106,   1224,2,19940318,2206,-34.0067,-103.0017, 3667,   2994.7,   1.7432,  34.6870,2,  34.6856,2,    169.3,2,    167.4,2,   121.93,2,    33.76,2,     0.00,2,     2.37,2,   -0.002,2,   -0.003,2, -999.000,9, -999.000,9, -999.000,9,-999.0000,9,  -999.00,9,   -181.6,2,      0.7,3,   -999.0,9,   -999.0,9,   -999.0,9,  -999.00,9, -999.00,     4.3,-999.0000,-999.000, -999.00,  -999.0,  1.5214,-999.000
    31DSCG94_2,  P18S,    71,  1,    105,   1246,2,19940318,2206,-34.0067,-103.0017, 3667,   3246.2,   1.7540,  34.6888,2,  34.6869,2,    170.3,2,    168.5,2,   121.17,2,    33.73,2,     0.00,2,     2.35,2, -999.000,9, -999.000,9, -999.000,9, -999.000,9, -999.000,9,-999.0000,9,  -999.00,9,   -999.0,9,   -999.0,9,   -999.0,9,   -999.0,9,   -999.0,9,  -999.00,9, -999.00,  -999.0,-999.0000,-999.000, -999.00,  -999.0,  1.5072,-999.000
    31DSCG94_2,  P18S,    71,  1,    104,   1217,2,19940318,2206,-34.0067,-103.0017, 3667,   3246.8,   1.7541,  34.6877,2,  34.6870,2,    170.3,2,    166.2,2,   120.51,2,    33.72,2,     0.00,2,     2.34,2, -999.000,9, -999.000,9, -999.000,9, -999.000,9, -999.000,9,-999.0000,9,  -999.00,9,   -999.0,9,   -999.0,9,   -999.0,9,   -999.0,9,   -999.0,9,  -999.00,9, -999.00,  -999.0,-999.0000,-999.000, -999.00,  -999.0,  1.5073,-999.000
    31DSCG94_2,  P18S,    71,  1,    103,   9999,2,19940318,2206,-34.0067,-103.0017, 3667,   3247.9,   1.7542,  34.6888,2,  34.6881,2,    170.4,2,    167.8,2,   119.24,2,    33.50,2,     0.00,2,     2.33,2,    0.308,4,    0.004,2, -999.000,9, -999.000,9, -999.000,9,   1.9070,2,    24.29,2,   -999.0,9,   -999.0,9,   -999.0,9,   -999.0,9,   -999.0,9,  -999.00,9, -999.00,  -999.0,-999.0000,-999.000, -999.00,  -999.0,  1.5073,-999.000
    31DSCG94_2,  P18S,    71,  1,    102,   1223,2,19940318,2206,-34.0067,-103.0017, 3667,   3494.8,   1.7737,  34.6895,2,  34.6878,2,    170.9,2,    168.5,2,   118.36,2,    33.58,2,     0.00,2,     2.34,2, -999.000,9, -999.000,9, -999.000,9, -999.000,9, -999.000,9,-999.0000,9,  -999.00,9,   -203.5,2,      0.3,2,   -999.0,9,   -999.0,9,   -999.0,9,  -999.00,9, -999.00,     3.4,-999.0000,-999.000, -999.00,  -999.0,  1.5011,-999.000
    31DSCG94_2,  P18S,    71,  1,    101,   1041,2,19940318,2206,-34.0067,-103.0017, 3667,   3687.9,   1.7913,  34.6896,2,  34.6881,2,    171.4,2,    168.9,2,   117.38,2,    33.89,2,     0.00,2,     2.37,2, -999.000,9, -999.000,9, -999.000,9, -999.000,9, -999.000,9,   1.9110,2,    23.72,2,   -999.0,9,      0.3,2,   -999.0,9,   -999.0,9,   -999.0,9,  -999.00,9, -999.00,  -999.0,-999.0000,-999.000, -999.00,  -999.0,  1.4979,-999.000