BOTTLE,20220630CCHSIOAMB
EXPOCODE,SECT_ID,STNNBR,CASTNO,SAMPNO,BTLNBR,BTLNBR_FLAG_W,DATE,TIME,LATITUDE,LONGITUDE,DEPTH,CTDPRS,CTDTMP,CTDSAL,CTDSAL_FLAG_W,SALNTY,SALNTY_FLAG_W,CTDOXY,CTDOXY_FLAG_W,OXYGEN,OXYGEN_FLAG_W,SILCAT,SILCAT_FLAG_W,NITRAT,NITRAT_FLAG_W,NITRIT,NITRIT_FLAG_W,PHSPHT,PHSPHT_FLAG_W,CFC-11,CFC-11_FLAG_W,CFC-12,CFC-12_FLAG_W,CFC113,CFC113_FLAG_W,CCL4,CCL4_FLAG_W,TRITUM,TRITUM_FLAG_W,HELIUM,HELIUM_FLAG_W,DELHE3,DELHE3_FLAG_W,DELC14,DELC14_FLAG_W,DELC13,DELC13_FLAG_W,TCARBN,TCARBN_FLAG_W,PCO2,PCO2_FLAG_W,ALKALI,ALKALI_FLAG_W,PH,PH_FLAG_W,PCO2TMP,C14ERR,HELIER,DELHER,PH_TMP,C13ERR,THETA,TRITER
,,,,,,,,,,,,DBAR,ITS-90,PSS-78,,PSS-78,,UMOL/KG,,UMOL/KG,,UMOL/KG,,UMOL/KG,,UMOL/KG,,UMOL/KG,,PMOL/KG,,PMOL/KG,,PMOL/KG,,PMOL/KG,,TU,,NMOL/KG,,PERCNT,,/MILLE,,/MILLE,,UMOL/KG,,UATM,,UMOL/KG,,,,DEG C,/MILLE,NMOL/KG,PERCNT,DEG C,/MILLE,DEG C,TU
    31DSCG94_3,  P18N,    91,  1,    136,   1025,2,19940329,2325,-23.9983,-103.0017, 3855,      9.6,  24.5018,  36.0584,2,  36.0587,2,    209.5,2,    210.5,2,     1.08,2,     0.11,2,     0.00,2,     0.14,2,    1.947,2,    1.100,2, -999.000,9, -999.000,9, -999.000,9,-999.0000,9,  -999.00,9,   -999.0,9,      1.6,2,   2057.1,2,    325.5,2,   2374.0,2,     8.05,2,   20.00,  -999.0,-999.0000,-999.000,   25.00,  -999.0, 24.4998,-999.000
    31DSCG94_3,  P18N,    91,  1,    135,   1247,2,19940329,2325,-23.9983,-103.0017, 3855,     25.0,  24.4719,  36.0652,2,  36.0651,2,    217.1,2,    210.3,2,     1.01,2,     0.06,2,     0.00,2,     0.17,2,    1.961,2,    1.099,2, -999.000,9, -999.000,9, -999.000,9,-999.0000,9,  -999.00,9,   -999.0,9,   -999.0,9,   -999.0,9,   -999.0,9,   -999.0,9,  -999.00,9, -999.00,  -999.0,-999.0000,-999.000, -999.00,  -999.0, 24.4666,-999.000
    31DSCG94_3,  P18N,    91,  1,    134,   1108,3,19940329,2325,-23.9983,-103.0017, 3855,     48.0,  23.8286,  35.9805,2,-999.0000,5,    223.2,2,   -999.0,9,  -999.00,9,  -999.00,9,  -999.00,9,  -999.00,9,    2.042,2,    1.134,2, -999.000,9, -999.000,9, -999.000,9,-999.0000,9,  -999.00,9,   -999.0,9,   -999.0,9,   -999.0,9,   -999.0,9,   -999.0,9,  -999.00,9, -999.00,  -999.0,-999.0000,-999.000, -999.00,  -999.0, 23.8185,-999.000
    31DSCG94_3,  P18N,    91,  1,    133,   1244,2,19940329,2325,-23.9983,-103.0017, 3855,     72.5,  21.9669,  35.7517,2,  35.7515,2,    236.6,2,    231.5,2,     1.01,2,     0.05,2,     0.00,2,     0.13,2,    2.255,2,    1.221,2, -999.000,9, -999.000,9, -999.000,9,-999.0000,9,  -999.00,9,   -999.0,9,   -999.0,9,   -999.0,9,   -999.0,9,   -999.0,9,     8.05,2, -999.00,  -999.0,-999.0000,-999.000,   25.00,  -999.0, 21.9526,-999.000
    31DSCG94_3,  P18N,    91,  1,    132,   1003,3,19940329,2325,-23.9983,-103.0017, 3855,     97.3,  20.7511,  35.6328,2,  35.6322,2,    235.4,2,    234.3,2,     0.93,2,     0.01,2,     0.00,2,     0.13,2,    2.321,2,    1.265,2, -999.000,9, -999.000,9, -999.000,9,-999.0000,9,  -999.00,9,   -999.0,9,   -999.0,9,   -999.0,9,   -999.0,9,   -999.0,9,  -999.00,9, -999.00,  -999.0,-999.0000,-999.000, -999.00,  -999.0, 20.7326,-999.000
    31DSCG94_3,  P18N,    91,  1,    131,   1211,2,19940329,2325,-23.9983,-103.0017, 3855,    123.4,  20.2245,  35.6216,2,  35.6220,2,    232.0,2,    231.1,2,     0.86,2,     0.02,2,     0.00,2,     0.12,2,    2.334,2,    1.263,2, -999.000,9, -999.000,9, -999.000,9,-999.0000,9,  -999.00,9,   -999.0,9,   -999.0,9,   -999.0,9,   -999.0,9,   -999.0,9,  -999.00,9, -999.00,  -999.0,-999.0000,-999.000, -999.00,  -999.0, 20.2015,-999.000
    31DSCG94_3,  P18N,    91,  1,    130,   1241,2,19940329,2325,-23.9983,-103.0017, 3855,    149.8,  19.8757,  35.5957,2,  35.5985,2,    230.6,2,    228.7,2,     0.91,2,     0.03,2,     0.00,2,     0.13,2,    2.350,2,    1.271,2, -999.000,9, -999.000,9, -999.000,9,-999.0000,9,  -999.00,9,   -999.0,9,   -999.0,9,   -999.0,9,   -999.0,9,   -999.0,9,  -999.00,9, -999.00,  -999.0,-999.0000,-999.000, -999.00,  -999.0, 19.8481,-999.000
    31DSCG94_3,  P18N,    91,  1,    129,   1240,2,19940329,2325,-23.9983,-103.0017, 3855,    198.3,  19.1116,  35.4594,2,  35.4612,2,    225.2,2,    221.9,2,     0.99,2,     0.06,2,     0.00,2,     0.18,2,    2.372,2,    1.292,2, -999.000,9, -999.000,9, -999.000,9,-999.0000,9,  -999.00,9,   -999.0,9,   -999.0,9,   -999.0,9,   -999.0,9,   -999.0,9,  -999.00,9, -999.00,  -999.0,-999.0000,-999.000, -999.00,  -999.0, 19.0760,-999.000
    31DSCG94_3,  P18N,    91,  1,    128,   1032,2,19940329,2325,-23.9983,-103.0017, 3855,    250.0,  16.0785,  34.9269,2,  34.9166,2,    212.5,2,    211.2,2,     1.09,2,     2.93,2,     0.00,2,     0.40,2,    2.495,2,    1.324,2, -999.000,9, -999.000,9, -999.000,9,-999.0000,9,  -999.00,9,   -999.0,9,   -999.0,9,   -999.0,9,    427.9,2,   -999.0,9,  -999.00,9,   20.00,  -999.0,-999.0000,-999.000, -999.00,  -999.0, 16.0388,-999.000
    31DSCG94_3,  P18N,    91,  1,    127,   1008,2,19940329,2325,-23.9983,-103.0017, 3855,    298.9,  12.9451,  34.5783,2,  34.5766,2,    203.4,2,    193.7,2,     2.91,2,     9.98,2,     0.00,2,     0.84,2,    2.259,6,    1.160,6, -999.000,9, -999.000,9, -999.000,9,-999.0000,9,  -999.00,9,   -999.0,9,   -999.0,9,   -999.0,9,   -999.0,9,   -999.0,9,  -999.00,9, -999.00,  -999.0,-999.0000,-999.000, -999.00,  -999.0, 12.9041,-999.000
    31DSCG94_3,  P18N,    91,  1,    126,   1007,2,19940329,2325,-23.9983,-103.0017, 3855,    348.0,  10.4335,  34.4553,2,  34.4593,2,    172.4,2,    161.5,2,     7.81,2,    18.14,2,     0.00,2,     1.44,2,    1.589,2,    0.808,2, -999.000,9, -999.000,9, -999.000,9,-999.0000,9,  -999.00,9,   -999.0,9,   -999.0,9,   -999.0,9,   -999.0,9,   -999.0,9,  -999.00,9, -999.00,  -999.0,-999.0000,-999.000, -999.00,  -999.0, 10.3920,-999.000
    31DSCG94_3,  P18N,    91,  1,    125,   1203,2,19940329,2325,-23.9983,-103.0017, 3855,    402.3,   8.9881,  34.4291,2,  34.4282,2,    147.0,2,    129.1,2,    13.26,2,    24.76,2,     0.00,2,     1.91,2,    0.972,2,    0.497,2, -999.000,9, -999.000,9, -999.000,9,-999.0000,9,  -999.00,9,   -999.0,9,   -999.0,9,   -999.0,9,   -999.0,9,   -999.0,9,  -999.00,9, -999.00,  -999.0,-999.0000,-999.000, -999.00,  -999.0,  8.9443,-999.000
    31DSCG94_3,  P18N,    91,  1,    123,   1220,2,19940329,2325,-23.9983,-103.0017, 3855,    500.4,   6.8017,  34.3505,2,  34.3507,2,    179.4,2,    178.2,2,    13.71,2,    27.23,2,     0.00,2,     1.91,2,    0.867,2,    0.462,2, -999.000,9, -999.000,9, -999.000,9,-999.0000,9,  -999.00,9,   -999.0,9,   -999.0,9,   -999.0,9,    986.7,2,   -999.0,9,     7.63,2,   20.00,  -999.0,-999.0000,-999.000,   25.00,  -999.0,  6.7550,-999.000
    31DSCG94_3,  P18N,    91,  1,    122,   1245,2,19940329,2325,-23.9983,-103.0017, 3855,    597.3,   5.8745,  34.3110,2,  34.3114,2,    196.6,2,    206.5,6,    14.72,2,    27.28,2,     0.00,2,     1.89,2,    0.717,2,    0.388,2, -999.000,9, -999.000,9, -999.000,9,-999.0000,9,  -999.00,9,   -999.0,9,   -999.0,9,   -999.0,9,   -999.0,9,   -999.0,9,  -999.00,9, -999.00,  -999.0,-999.0000,-999.000, -999.00,  -999.0,  5.8226,-999.000
    31DSCG94_3,  P18N,    91,  1,    121,   1206,2,19940329,2325,-23.9983,-103.0017, 3855,    694.6,   5.2585,  34.3075,2,  34.3094,2,    187.1,2,    191.5,2,    21.56,2,    29.92,2,     0.00,2,     2.08,2,    0.366,2,    0.209,2, -999.000,9, -999.000,9, -999.000,9,-999.0000,9,  -999.00,9,   -999.0,9,   -999.0,9,   -999.0,9,    988.7,2,   -999.0,9,     7.63,2,   20.00,  -999.0,-999.0000,-999.000,   25.00,  -999.0,  5.2010,-999.000
    31DSCG94_3,  P18N,    91,  1,    120,   1028,2,19940329,2325,-23.9983,-103.0017, 3855,    798.9,   4.8263,  34.3533,2,  34.3532,2,    156.5,2,    153.4,2,    35.27,2,    34.08,2,     0.00,2,     2.35,2,    0.094,6,    0.058,6, -999.000,9, -999.000,9, -999.000,9,-999.0000,9,  -999.00,9,   -999.0,9,   -999.0,9,   -999.0,9,   -999.0,9,   -999.0,9,  -999.00,9, -999.00,  -999.0,-999.0000,-999.000, -999.00,  -999.0,  4.7622,-999.000
    31DSCG94_3,  P18N,    91,  1,    119,   1248,2,19940329,2325,-23.9983,-103.0017, 3855,    897.6,   4.3734,  34.4082,2,  34.4074,2,    135.2,2,    131.2,6,    50.81,2,    36.52,2,     0.00,2,     2.52,2, -999.000,5, -999.000,5, -999.000,9, -999.000,9, -999.000,9,-999.0000,9,  -999.00,9,   -999.0,9,   -999.0,9,   -999.0,9,   -999.0,9,   -999.0,9,  -999.00,9, -999.00,  -999.0,-999.0000,-999.000, -999.00,  -999.0,  4.3037,-999.000
    31DSCG94_3,  P18N,    91,  1,    118,   1207,2,19940329,2325,-23.9983,-103.0017, 3855,   1000.3,   4.0334,  34.4553,2,  34.4560,2,    126.0,2,    122.7,2,    62.76,2,    37.38,2,     0.00,2,     2.59,2,    0.002,2,    0.001,2, -999.000,9, -999.000,9, -999.000,9,-999.0000,9,  -999.00,9,   -999.0,9,   -999.0,9,   -999.0,9,   1337.9,6,   -999.0,9,     7.52,2,   20.00,  -999.0,-999.0000,-999.000,   25.00,  -999.0,  3.9576,-999.000
    31DSCG94_3,  P18N,    91,  1,    117,   1119,2,19940329,2325,-23.9983,-103.0017, 3855,   1098.0,   3.7427,  34.4948,2,  34.4944,2,    126.8,2,    126.4,2,    73.88,2,    37.23,2,     0.00,2,     2.55,2,    0.000,2,    0.000,2, -999.000,9, -999.000,9, -999.000,9,-999.0000,9,  -999.00,9,   -999.0,9,   -999.0,9,   -999.0,9,   -999.0,9,   -999.0,9,  -999.00,9, -999.00,  -999.0,-999.0000,-999.000, -999.00,  -999.0,  3.6610,-999.000
    31DSCG94_3,  P18N,    91,  1,    116,   1036,2,19940329,2325,-23.9983,-103.0017, 3855,   1199.6,   3.4459,  34.5207,2,  34.5200,2,    128.2,2,    127.7,2,    80.68,2,    37.21,2,     0.00,2,     2.57,2,    0.000,2,    0.000,2, -999.000,9, -999.000,9, -999.000,9,-999.0000,9,  -999.00,9,   -999.0,9,   -999.0,9,   -999.0,9,   -999.0,9,   -999.0,9,  -999.00,9, -999.00,  -999.0,-999.0000,-999.000, -999.00,  -999.0,  3.3584,-999.000
    31DSCG94_3,  P18N,    91,  1,    115,   1017,2,19940329,2325,-23.9983,-103.0017, 3855,   1298.1,   3.1932,  34.5416,2,  34.5428,2,    130.3,2,    131.9,6,    87.28,2,    36.49,2,     0.00,2,     2.56,2, -999.000,5, -999.000,5, -999.000,9, -999.000,9, -999.000,9,-999.0000,9,  -999.00,9,   -999.0,9,   -999.0,9,   -999.0,9,   -999.0,9,   -999.0,9,  -999.00,9, -999.00,  -999.0,-999.0000,-999.000, -999.00,  -999.0,  3.1001,-999.000
    31DSCG94_3,  P18N,    91,  1,    114,   1016,2,19940329,2325,-23.9983,-103.0017, 3855,   1399.5,   2.9644,  34.5595,2,  34.5604,2,    132.2,2,    134.0,2,    93.76,2,    36.35,2,     0.00,2,     2.52,2,    0.001,2,    0.001,2, -999.000,9, -999.000,9, -999.000,9,-999.0000,9,  -999.00,9,   -999.0,9,   -999.0,9,   -999.0,9,   -999.0,9,   -999.0,9,  -999.00,9, -999.00,  -999.0,-999.0000,-999.000, -999.00,  -999.0,  2.8653,-999.000
    31DSCG94_3,  P18N,    91,  1,    113,   1209,2,19940329,2325,-23.9983,-103.0017, 3855,   1499.4,   2.7732,  34.5745,2,  34.5739,2,    134.2,2,    134.7,2,    99.28,2,    36.11,2,     0.00,2,     2.53,2,   -0.001,2,    0.000,2, -999.000,9, -999.000,9, -999.000,9,-999.0000,9,  -999.00,9,   -999.0,9,   -999.0,9,   -999.0,9,   -999.0,9,   -999.0,9,  -999.00,9, -999.00,  -999.0,-999.0000,-999.000, -999.00,  -999.0,  2.6680,-999.000
    31DSCG94_3,  P18N,    91,  1,    112,   1033,2,19940329,2325,-23.9983,-103.0017, 3855,   1796.7,   2.2924,  34.6153,2,  34.6148,2,    142.6,2,    145.2,2,   108.80,2,    35.25,2,     0.00,2,     2.44,2, -999.000,9, -999.000,9, -999.000,9, -999.000,9, -999.000,9,-999.0000,9,  -999.00,9,   -999.0,9,   -999.0,9,   -999.0,9,   -999.0,9,   -999.0,9,  -999.00,9, -999.00,  -999.0,-999.0000,-999.000, -999.00,  -999.0,  2.1688,-999.000
    31DSCG94_3,  P18N,    91,  1,    111,   1240,2,19940329,2325,-23.9983,-103.0017, 3855,   2000.8,   2.0769,  34.6379,2,  34.6389,2,    147.8,2,    151.3,2,   113.01,2,    34.97,2,     0.00,2,     2.42,2,   -0.002,2,   -0.001,2, -999.000,9, -999.000,9, -999.000,9,-999.0000,9,  -999.00,9,   -999.0,9,   -999.0,9,   -999.0,9,   -999.0,9,   -999.0,9,  -999.00,9, -999.00,  -999.0,-999.0000,-999.000, -999.00,  -999.0,  1.9392,-999.000
    31DSCG94_3,  P18N,    91,  1,    110,   1005,2,19940329,2325,-23.9983,-103.0017, 3855,   2200.0,   1.9522,  34.6525,2,  34.6521,2,    151.6,2,    154.5,2,   116.11,2,    34.74,2,     0.00,2,     2.41,2, -999.000,9, -999.000,9, -999.000,9, -999.000,9, -999.000,9,-999.0000,9,  -999.00,9,   -999.0,9,   -999.0,9,   -999.0,9,   -999.0,9,   -999.0,9,  -999.00,9, -999.00,  -999.0,-999.0000,-999.000, -999.00,  -999.0,  1.7994,-999.000
    31DSCG94_3,  P18N,    91,  1,    109,   1611,2,19940329,2325,-23.9983,-103.0017, 3855,   2400.4,   1.8881,  34.6610,2,  34.6612,2,    153.4,2,    156.2,2,   119.74,2,    34.89,2,     0.00,2,     2.38,2,   -0.001,2,    0.000,2, -999.000,9, -999.000,9, -999.000,9,-999.0000,9,  -999.00,9,   -999.0,9,   -999.0,9,   -999.0,9,   -999.0,9,   -999.0,9,  -999.00,9, -999.00,  -999.0,-999.0000,-999.000, -999.00,  -999.0,  1.7188,-999.000
    31DSCG94_3,  P18N,    91,  1,    108,   1218,2,19940329,2325,-23.9983,-103.0017, 3855,   2598.9,   1.8467,  34.6681,2,  34.6673,2,    154.4,2,    156.9,2,   122.13,2,    34.70,2,     0.00,2,     2.37,2, -999.000,9, -999.000,9, -999.000,9, -999.000,9, -999.000,9,-999.0000,9,  -999.00,9,   -999.0,9,   -999.0,9,   -999.0,9,   -999.0,9,   -999.0,9,  -999.00,9, -999.00,  -999.0,-999.0000,-999.000, -999.00,  -999.0,  1.6601,-999.000
    31DSCG94_3,  P18N,    91,  1,    107,   1257,2,19940329,2325,-23.9983,-103.0017, 3855,   2799.6,   1.8231,  34.6730,2,  34.6723,2,    154.1,2,    156.0,2,   123.54,2,    34.88,2,     0.00,2,     2.37,2,   -0.004,2,   -0.001,2, -999.000,9, -999.000,9, -999.000,9,-999.0000,9,  -999.00,9,   -999.0,9,   -999.0,9,   -999.0,9,   -999.0,9,   -999.0,9,  -999.00,9, -999.00,  -999.0,-999.0000,-999.000, -999.00,  -999.0,  1.6183,-999.000
    31DSCG94_3,  P18N,    91,  1,    106,   1224,2,19940329,2325,-23.9983,-103.0017, 3855,   2996.4,   1.8080,  34.6773,2,  34.6758,2,    153.3,2,    154.4,2,   124.15,2,    35.07,2,     0.00,2,     2.41,2, -999.000,9, -999.000,9, -999.000,9, -999.000,9, -999.000,9,-999.0000,9,  -999.00,9,   -999.0,9,   -999.0,9,   -999.0,9,   -999.0,9,   -999.0,9,  -999.00,9, -999.00,  -999.0,-999.0000,-999.000, -999.00,  -999.0,  1.5847,-999.000
    31DSCG94_3,  P18N,    91,  1,    105,   1246,2,19940329,2325,-23.9983,-103.0017, 3855,   3199.5,   1.8011,  34.6805,2,  34.6802,2,    149.3,2,    152.0,2,   125.76,2,    35.21,2,     0.00,2,     2.44,2,    0.001,2,    0.012,2, -999.000,9, -999.000,9, -999.000,9,-999.0000,9,  -999.00,9,   -999.0,9,   -999.0,9,   -999.0,9,   -999.0,9,   -999.0,9,  -999.00,9, -999.00,  -999.0,-999.0000,-999.000, -999.00,  -999.0,  1.5579,-999.000
    31DSCG94_3,  P18N,    91,  1,    104,   1217,2,19940329,2325,-23.9983,-103.0017, 3855,   3400.5,   1.8044,  34.6827,2,  34.6817,2,    147.8,2,    151.2,2,   128.96,2,    35.19,2,     0.00,2,     2.42,2, -999.000,9, -999.000,9, -999.000,9, -999.000,9, -999.000,9,-999.0000,9,  -999.00,9,   -999.0,9,   -999.0,9,   -999.0,9,   -999.0,9,   -999.0,9,  -999.00,9, -999.00,  -999.0,-999.0000,-999.000, -999.00,  -999.0,  1.5408,-999.000
    31DSCG94_3,  P18N,    91,  1,    102,   1223,2,19940329,2325,-23.9983,-103.0017, 3855,   3599.9,   1.8165,  34.6838,2,  34.6836,2,    147.5,2,    150.1,2,   130.94,2,    34.66,3,     0.00,2,     2.42,2,   -0.002,2,    0.001,2, -999.000,9, -999.000,9, -999.000,9,-999.0000,9,  -999.00,9,   -999.0,9,   -999.0,9,   -999.0,9,   -999.0,9,   -999.0,9,  -999.00,9, -999.00,  -999.0,-999.0000,-999.000, -999.00,  -999.0,  1.5318,-999.000
    31DSCG94_3,  P18N,    91,  1,    103,   9999,2,19940329,2325,-23.9983,-103.0017, 3855,   3600.0,   1.8163,  34.6842,2,  34.6842,2,    147.1,2,    150.0,2,   131.33,2,    35.05,2,     0.00,2,     2.41,2,   -0.001,2,    0.002,2, -999.000,9, -999.000,9, -999.000,9,-999.0000,9,  -999.00,9,   -999.0,9,   -999.0,9,   -999.0,9,   -999.0,9,   -999.0,9,  -999.00,9, -999.00,  -999.0,-999.0000,-999.000, -999.00,  -999.0,  1.5316,-999.000
    31DSCG94_3,  P18N,    91,  1,    101,   1041,2,19940329,2325,-23.9983,-103.0017, 3855,   3856.6,   1.8427,  34.6847,2,  34.6843,2,    145.2,2,    149.8,2,   130.45,2,    35.08,2,     0.00,2,     2.42,2,   -0.003,2,    0.000,2, -999.000,9, -999.000,9, -999.000,9,-999.0000,9,  -999.00,9,   -999.0,9,   -999.0,9,   -999.0,9,   -999.0,9,   -999.0,9,  -999.00,9, -999.00,  -999.0,-999.0000,-999.000, -999.00,  -999.0,  1.5298,-999.000