BOTTLE,20220630CCHSIOAMB
EXPOCODE,SECT_ID,STNNBR,CASTNO,SAMPNO,BTLNBR,BTLNBR_FLAG_W,DATE,TIME,LATITUDE,LONGITUDE,DEPTH,CTDPRS,CTDTMP,CTDSAL,CTDSAL_FLAG_W,SALNTY,SALNTY_FLAG_W,CTDOXY,CTDOXY_FLAG_W,OXYGEN,OXYGEN_FLAG_W,SILCAT,SILCAT_FLAG_W,NITRAT,NITRAT_FLAG_W,NITRIT,NITRIT_FLAG_W,PHSPHT,PHSPHT_FLAG_W,CFC-11,CFC-11_FLAG_W,CFC-12,CFC-12_FLAG_W,CFC113,CFC113_FLAG_W,CCL4,CCL4_FLAG_W,TRITUM,TRITUM_FLAG_W,HELIUM,HELIUM_FLAG_W,DELHE3,DELHE3_FLAG_W,DELC14,DELC14_FLAG_W,DELC13,DELC13_FLAG_W,TCARBN,TCARBN_FLAG_W,PCO2,PCO2_FLAG_W,ALKALI,ALKALI_FLAG_W,PH,PH_FLAG_W,PCO2TMP,C14ERR,HELIER,DELHER,PH_TMP,C13ERR,THETA,TRITER
,,,,,,,,,,,,DBAR,ITS-90,PSS-78,,PSS-78,,UMOL/KG,,UMOL/KG,,UMOL/KG,,UMOL/KG,,UMOL/KG,,UMOL/KG,,PMOL/KG,,PMOL/KG,,PMOL/KG,,PMOL/KG,,TU,,NMOL/KG,,PERCNT,,/MILLE,,/MILLE,,UMOL/KG,,UATM,,UMOL/KG,,,,DEG C,/MILLE,NMOL/KG,PERCNT,DEG C,/MILLE,DEG C,TU
    31DSCG94_2,  P18S,    27,  1,    124,    435,2,19940305,1348,-58.5048,-102.9945, 4735,     10.8,   5.3384,  34.0044,2,  34.0061,2,    302.5,2,    300.0,2,     2.92,2,    19.81,2,     0.26,2,     1.43,2,    4.597,2,    2.421,2, -999.000,9, -999.000,9, -999.000,9,-999.0000,9,  -999.00,9,   -999.0,9,   -999.0,9,   -999.0,9,   -999.0,9,   2272.0,2,     7.80,2, -999.00,  -999.0,-999.0000,-999.000,   25.00,  -999.0,  5.3376,-999.000
    31DSCG94_2,  P18S,    27,  1,    123,    421,2,19940305,1348,-58.5048,-102.9945, 4735,     27.5,   5.2829,  33.9945,2,  34.0016,2,    299.2,2,    300.3,2,     2.90,2,    19.90,2,     0.26,2,     1.46,2,    4.687,2,    2.436,2, -999.000,9, -999.000,9, -999.000,9,-999.0000,9,  -999.00,9,   -999.0,9,   -999.0,9,   2107.0,2,   -999.0,9,   2276.0,2,     7.80,2, -999.00,  -999.0,-999.0000,-999.000,   25.00,  -999.0,  5.2808,-999.000
    31DSCG94_2,  P18S,    27,  1,    122,    418,2,19940305,1348,-58.5048,-102.9945, 4735,     50.4,   5.2894,  33.9947,2,  33.9970,2,    298.7,2,    300.4,2,     2.82,2,    19.80,2,     0.27,2,     1.41,2,    4.824,2,    2.445,2, -999.000,9, -999.000,9, -999.000,9,-999.0000,9,  -999.00,9,   -999.0,9,   -999.0,9,   2092.9,2,   -999.0,9,   2277.0,3,     7.80,2, -999.00,  -999.0,-999.0000,-999.000,   25.00,  -999.0,  5.2855,-999.000
    31DSCG94_2,  P18S,    27,  1,    121,    413,2,19940305,1348,-58.5048,-102.9945, 4735,     96.5,   5.1568,  33.9917,2,  33.9952,2,    298.7,2,    301.4,2,     2.99,2,    19.85,2,     0.25,2,     1.45,2,    4.703,2,    2.402,2, -999.000,9, -999.000,9, -999.000,9,-999.0000,9,  -999.00,9,   -999.0,9,   -999.0,9,   2109.1,2,   -999.0,9,   2274.0,2,     7.80,2, -999.00,  -999.0,-999.0000,-999.000,   25.00,  -999.0,  5.1493,-999.000
    31DSCG94_2,  P18S,    27,  1,    120,    405,2,19940305,1348,-58.5048,-102.9945, 4735,    152.5,   4.3158,  34.1135,2,  34.1136,2,    290.6,2,    293.9,2,     9.29,2,    23.23,2,     0.00,2,     1.61,2,    4.493,2,    2.296,2, -999.000,9, -999.000,9, -999.000,9,-999.0000,9,  -999.00,9,   -999.0,9,   -999.0,9,   2129.6,2,   -999.0,9,   -999.0,5,     7.75,2, -999.00,  -999.0,-999.0000,-999.000,   25.00,  -999.0,  4.3049,-999.000
    31DSCG94_2,  P18S,    27,  1,    119,    417,2,19940305,1348,-58.5048,-102.9945, 4735,    206.2,   4.0798,  34.1061,2,  34.0943,2,    286.3,2,    293.5,2,    10.52,2,    24.07,2,     0.00,2,     1.67,2,    4.618,2,    2.368,2, -999.000,9, -999.000,9, -999.000,9,-999.0000,9,  -999.00,9,   -999.0,9,   -999.0,9,   2134.1,2,   -999.0,9,   2280.0,2,     7.74,2, -999.00,  -999.0,-999.0000,-999.000,   25.00,  -999.0,  4.0655,-999.000
    31DSCG94_2,  P18S,    27,  1,    118,    429,2,19940305,1348,-58.5048,-102.9945, 4735,    299.2,   3.7035,  34.1039,2,  34.1119,2,    284.4,2,    289.4,2,    12.80,2,    23.69,2,     0.00,2,     1.73,2,    4.354,2,    2.186,2, -999.000,9, -999.000,9, -999.000,9,-999.0000,9,  -999.00,9,   -999.0,9,   -999.0,9,   2138.7,2,   -999.0,9,   2273.0,2,     7.73,2, -999.00,  -999.0,-999.0000,-999.000,   25.00,  -999.0,  3.6834,-999.000
    31DSCG94_2,  P18S,    27,  1,    117,    427,2,19940305,1348,-58.5048,-102.9945, 4735,    399.9,   3.3891,  34.1176,2,  34.1210,2,    276.4,2,    278.4,2,    17.04,2,    26.43,2,     0.00,2,     1.81,2,    3.950,2,    2.002,2, -999.000,9, -999.000,9, -999.000,9,-999.0000,9,  -999.00,9,   -999.0,9,   -999.0,9,   2152.2,2,   -999.0,9,   2280.0,2,     7.71,2, -999.00,  -999.0,-999.0000,-999.000,   25.00,  -999.0,  3.3629,-999.000
    31DSCG94_2,  P18S,    27,  1,    116,    410,2,19940305,1348,-58.5048,-102.9945, 4735,    499.5,   3.3374,  34.1780,2,  34.1799,2,    250.6,2,    253.5,2,    24.46,2,    28.55,2,     0.00,2,     1.95,2,    3.089,2,    1.505,2, -999.000,9, -999.000,9, -999.000,9,-999.0000,9,  -999.00,9,   -999.0,9,   -999.0,9,   2170.1,2,   -999.0,9,   2287.0,2,     7.67,2, -999.00,  -999.0,-999.0000,-999.000,   25.00,  -999.0,  3.3044,-999.000
    31DSCG94_2,  P18S,    27,  1,    115,    422,2,19940305,1348,-58.5048,-102.9945, 4735,    601.2,   3.4905,  34.2711,2,  34.2694,2,    235.5,2,    222.4,2,    33.76,2,    30.80,2,     0.00,2,     2.10,2,    1.963,2,    0.931,2, -999.000,9, -999.000,9, -999.000,9,-999.0000,9,  -999.00,9,   -999.0,9,   -999.0,9,   2191.1,2,   -999.0,9,   2297.0,2,     7.63,2, -999.00,  -999.0,-999.0000,-999.000,   25.00,  -999.0,  3.4494,-999.000
    31DSCG94_2,  P18S,    27,  1,    114,    407,2,19940305,1348,-58.5048,-102.9945, 4735,    703.9,   3.1991,  34.3128,2,  34.3129,2,    213.7,2,    208.5,2,    41.74,2,    33.59,2,     0.00,2,     2.21,2,    1.452,2,    0.689,2, -999.000,9, -999.000,9, -999.000,9,-999.0000,9,  -999.00,9,   -999.0,9,   -999.0,9,   2189.1,2,   -999.0,9,   2304.0,3,     7.61,2, -999.00,  -999.0,-999.0000,-999.000,   25.00,  -999.0,  3.1521,-999.000
    31DSCG94_2,  P18S,    27,  1,    113,    419,2,19940305,1348,-58.5048,-102.9945, 4735,    809.6,   2.9157,  34.3555,2,  34.3540,2,    199.1,2,    198.5,2,    49.39,2,    33.30,2,     0.00,2,     2.29,2,    1.191,2,    0.562,2, -999.000,9, -999.000,9, -999.000,9,-999.0000,9,  -999.00,9,   -999.0,9,   -999.0,9,   2216.7,2,   -999.0,9,   2307.0,2,     7.59,2, -999.00,  -999.0,-999.0000,-999.000,   25.00,  -999.0,  2.8627,-999.000
    31DSCG94_2,  P18S,    27,  1,    112,    426,2,19940305,1348,-58.5048,-102.9945, 4735,    998.4,   2.6555,  34.4638,2,  34.4247,4,    182.9,2,    186.4,2,    58.97,2,    33.95,2,     0.00,2,     2.30,2,    1.058,3,    0.365,2, -999.000,9, -999.000,9, -999.000,9,-999.0000,9,  -999.00,9,   -999.0,9,   -999.0,9,   2230.1,2,   -999.0,9,   2318.0,2,     7.58,2, -999.00,  -999.0,-999.0000,-999.000,   25.00,  -999.0,  2.5904,-999.000
    31DSCG94_2,  P18S,    27,  1,    111,    424,2,19940305,1348,-58.5048,-102.9945, 4735,   1204.3,   2.3881,  34.5455,2,  34.5813,4,    175.3,2,    177.6,2,    81.07,4,    33.71,2,     0.00,2,     2.29,2,    0.079,2,    0.035,2, -999.000,9, -999.000,9, -999.000,9,-999.0000,9,  -999.00,9,   -999.0,9,   -999.0,9,   2250.5,2,   -999.0,9,   2335.0,2,     7.57,2, -999.00,  -999.0,-999.0000,-999.000,   25.00,  -999.0,  2.3101,-999.000
    31DSCG94_2,  P18S,    27,  1,    110,    409,2,19940305,1348,-58.5048,-102.9945, 4735,   1401.8,   2.3164,  34.6207,2,  34.6195,2,    174.3,2,    171.6,2,    78.89,2,    33.40,2,     0.00,2,     2.30,2,    0.190,6,    0.079,6, -999.000,9, -999.000,9, -999.000,9,-999.0000,9,  -999.00,9,   -999.0,9,   -999.0,9,   2245.7,2,   -999.0,9,   2353.0,3,     7.57,2, -999.00,  -999.0,-999.0000,-999.000,   25.00,  -999.0,  2.2240,-999.000
    31DSCG94_2,  P18S,    27,  1,    109,    423,2,19940305,1348,-58.5048,-102.9945, 4735,   1805.4,   2.0716,  34.6980,2,  34.6970,2,    178.8,2,    178.1,2,    86.23,2,    32.31,2,     0.00,2,     2.21,2,    0.078,2,    0.030,2, -999.000,9, -999.000,9, -999.000,9,-999.0000,9,  -999.00,9,   -999.0,9,   -999.0,9,   2255.2,2,   -999.0,9,   -999.0,5,     7.59,2, -999.00,  -999.0,-999.0000,-999.000,   25.00,  -999.0,  1.9500,-999.000
    31DSCG94_2,  P18S,    27,  1,    108,    414,2,19940305,1348,-58.5048,-102.9945, 4735,   2204.7,   1.7443,  34.7229,2,  34.7224,2,    185.3,2,    186.4,2,    95.57,2,    31.75,2,     0.00,2,     2.18,2,    0.179,4,    0.015,2, -999.000,9, -999.000,9, -999.000,9,-999.0000,9,  -999.00,9,   -999.0,9,   -999.0,9,   2255.5,2,   -999.0,9,   2360.0,2,     7.60,2, -999.00,  -999.0,-999.0000,-999.000,   25.00,  -999.0,  1.5943,-999.000
    31DSCG94_2,  P18S,    27,  1,    107,    437,2,19940305,1348,-58.5048,-102.9945, 4735,   2604.5,   1.5005,  34.7251,2,  34.7249,2,    191.3,2,    192.2,2,   104.09,2,    31.70,2,     0.00,2,     2.15,2,    0.037,2,    0.013,2, -999.000,9, -999.000,9, -999.000,9,-999.0000,9,  -999.00,9,   -999.0,9,   -999.0,9,   2257.1,2,   -999.0,9,   2360.0,2,     7.61,2, -999.00,  -999.0,-999.0000,-999.000,   25.00,  -999.0,  1.3200,-999.000
    31DSCG94_2,  P18S,    27,  1,    106,    416,2,19940305,1348,-58.5048,-102.9945, 4735,   3004.4,   1.2453,  34.7208,2,  34.7205,2,    196.7,2,    197.7,2,   111.90,2,    31.68,2,     0.00,2,     2.18,2,    0.062,2,    0.013,2, -999.000,9, -999.000,9, -999.000,9,-999.0000,9,  -999.00,9,   -999.0,9,   -999.0,9,   2257.1,2,   -999.0,9,   2361.0,2,     7.61,2, -999.00,  -999.0,-999.0000,-999.000,   25.00,  -999.0,  1.0334,-999.000
    31DSCG94_2,  P18S,    27,  1,    105,    420,2,19940305,1348,-58.5048,-102.9945, 4735,   3404.5,   1.0052,  34.7140,2,  34.7122,2,    201.8,2,    202.4,2,   117.26,2,    31.96,2,     0.00,2,     2.20,2,    0.141,4,    0.017,2, -999.000,9, -999.000,9, -999.000,9,-999.0000,9,  -999.00,9,   -999.0,9,   -999.0,9,   2256.9,2,   -999.0,9,   2359.0,2,     7.61,2, -999.00,  -999.0,-999.0000,-999.000,   25.00,  -999.0,  0.7607,-999.000
    31DSCG94_2,  P18S,    27,  1,    104,    436,2,19940305,1348,-58.5048,-102.9945, 4735,   3803.1,   0.7621,  34.7078,2,  34.7077,2,    206.7,2,    207.1,2,   123.04,2,    32.38,2,     0.00,2,     2.21,2,    0.043,2,    0.019,2, -999.000,9, -999.000,9, -999.000,9,-999.0000,9,  -999.00,9,   -999.0,9,   -999.0,9,   2260.1,2,   -999.0,9,   2356.0,2,     7.61,2, -999.00,  -999.0,-999.0000,-999.000,   25.00,  -999.0,  0.4842,-999.000
    31DSCG94_2,  P18S,    27,  1,    103,    425,2,19940305,1348,-58.5048,-102.9945, 4735,   4209.2,   0.5526,  34.7046,2,  34.7051,2,    212.0,2,    211.5,2,   130.02,2,    32.58,2,     0.00,2,     2.22,2,    0.065,2,    0.029,2, -999.000,9, -999.000,9, -999.000,9,-999.0000,9,  -999.00,9,   -999.0,9,   -999.0,9,   2260.1,2,   -999.0,9,   2362.0,2,     7.60,2, -999.00,  -999.0,-999.0000,-999.000,   25.00,  -999.0,  0.2384,-999.000
    31DSCG94_2,  P18S,    27,  1,    102,    433,2,19940305,1348,-58.5048,-102.9945, 4735,   4596.1,   0.4890,  34.7034,2,  34.7025,2,    216.7,2,   -999.0,9,   130.64,2,    32.39,2,     0.00,2,     2.21,2,    0.079,2,    0.037,2, -999.000,9, -999.000,9, -999.000,9,-999.0000,9,  -999.00,9,   -999.0,9,   -999.0,9,   2258.8,2,   -999.0,9,   -999.0,5,     7.60,2, -999.00,  -999.0,-999.0000,-999.000,   25.00,  -999.0,  0.1348,-999.000
    31DSCG94_2,  P18S,    27,  1,    101,    403,2,19940305,1348,-58.5048,-102.9945, 4735,   4824.3,   0.5068,  34.7033,2,  34.7030,2,    218.3,2,   -999.0,9,   135.98,2,    32.45,2,     0.00,2,     2.21,2,    0.066,2,    0.035,2, -999.000,9, -999.000,9, -999.000,9,-999.0000,9,  -999.00,9,   -999.0,9,   -999.0,9,   2258.9,2,   -999.0,9,   2362.0,2,     7.60,2, -999.00,  -999.0,-999.0000,-999.000,   25.00,  -999.0,  0.1264,-999.000