BOTTLE,20220630CCHSIOAMB
EXPOCODE,SECT_ID,STNNBR,CASTNO,SAMPNO,BTLNBR,BTLNBR_FLAG_W,DATE,TIME,LATITUDE,LONGITUDE,DEPTH,CTDPRS,CTDTMP,CTDSAL,CTDSAL_FLAG_W,SALNTY,SALNTY_FLAG_W,CTDOXY,CTDOXY_FLAG_W,OXYGEN,OXYGEN_FLAG_W,SILCAT,SILCAT_FLAG_W,NITRAT,NITRAT_FLAG_W,NITRIT,NITRIT_FLAG_W,PHSPHT,PHSPHT_FLAG_W,CFC-11,CFC-11_FLAG_W,CFC-12,CFC-12_FLAG_W,CFC113,CFC113_FLAG_W,CCL4,CCL4_FLAG_W,TRITUM,TRITUM_FLAG_W,HELIUM,HELIUM_FLAG_W,DELHE3,DELHE3_FLAG_W,DELC14,DELC14_FLAG_W,DELC13,DELC13_FLAG_W,TCARBN,TCARBN_FLAG_W,PCO2,PCO2_FLAG_W,ALKALI,ALKALI_FLAG_W,PH,PH_FLAG_W,PCO2TMP,C14ERR,HELIER,DELHER,PH_TMP,C13ERR,THETA,TRITER
,,,,,,,,,,,,DBAR,ITS-90,PSS-78,,PSS-78,,UMOL/KG,,UMOL/KG,,UMOL/KG,,UMOL/KG,,UMOL/KG,,UMOL/KG,,PMOL/KG,,PMOL/KG,,PMOL/KG,,PMOL/KG,,TU,,NMOL/KG,,PERCNT,,/MILLE,,/MILLE,,UMOL/KG,,UATM,,UMOL/KG,,,,DEG C,/MILLE,NMOL/KG,PERCNT,DEG C,/MILLE,DEG C,TU
    31DSCG94_3,  P18N,   134,  1,    136,   1025,2,19940410,2051, -4.0030,-110.3287, 3841,      9.7,  27.9231,  34.7418,2,  34.7443,2,    203.8,2,    201.8,2,     3.35,2,     4.08,2,     0.06,2,     0.50,2,    1.712,2,    0.991,2, -999.000,9, -999.000,9,    0.841,2,   1.7344,2,    -0.76,2,   -999.0,9,   -999.0,9,   1991.6,2,    322.6,2,   2275.0,3,     8.05,2,   20.00,  -999.0,-999.0000,-999.000,   25.00,  -999.0, 27.9208,   0.008
    31DSCG94_3,  P18N,   134,  1,    135,   1247,2,19940410,2051, -4.0030,-110.3287, 3841,     25.6,  27.7112,  34.7757,2,  34.7741,2,    199.5,2,    200.8,2,     3.45,2,     4.33,2,     0.08,2,     0.52,2,    1.709,2,    0.985,2, -999.000,9, -999.000,9, -999.000,9,-999.0000,9,  -999.00,9,     70.3,2,      1.5,2,   -999.0,9,   -999.0,9,   -999.0,9,     8.04,2, -999.00,     4.0,-999.0000,-999.000,   25.00,  -999.0, 27.7052,-999.000
    31DSCG94_3,  P18N,   134,  1,    134,   1216,2,19940410,2051, -4.0030,-110.3287, 3841,     48.6,  17.6546,  35.0717,2,  35.0805,2,    112.3,2,    108.7,2,    11.21,2,    17.93,2,     0.47,2,     1.44,2,    1.175,2,    0.647,2, -999.000,9, -999.000,9,    0.601,2,   1.7853,2,     2.85,2,     26.8,2,      0.7,2,   2143.6,2,    688.8,2,   2303.0,2,     7.77,2,   20.00,     7.3,-999.0000,-999.000,   25.00,  -999.0, 17.6464,   0.007
    31DSCG94_3,  P18N,   134,  1,    133,   1244,2,19940410,2051, -4.0030,-110.3287, 3841,     75.7,  14.3795,  34.9960,2,  34.9961,2,     73.3,2,     69.2,2,    16.84,6,    23.89,6,     0.35,6,     1.76,6,    0.795,2,    0.425,2, -999.000,9, -999.000,9, -999.000,9,-999.0000,9,  -999.00,9,     15.3,2,      0.4,2,   -999.0,9,   -999.0,9,   -999.0,9,     7.67,2, -999.00,     5.8,-999.0000,-999.000,   25.00,  -999.0, 14.3685,-999.000
    31DSCG94_3,  P18N,   134,  1,    132,   1003,2,19940410,2051, -4.0030,-110.3287, 3841,     98.2,  13.9914,  34.9771,2,-999.0000,9,     67.1,2,     61.3,6,  -999.00,9,  -999.00,9,  -999.00,9,  -999.00,9,    0.762,6,    0.423,6, -999.000,9, -999.000,9, -999.000,9,   1.7862,2,     4.65,2,   -999.0,9,   -999.0,9,   2187.3,2,    954.4,2,   2293.0,2,  -999.00,9,   20.00,  -999.0,-999.0000,-999.000, -999.00,  -999.0, 13.9773,-999.000
    31DSCG94_3,  P18N,   134,  1,    131,   1211,2,19940410,2051, -4.0030,-110.3287, 3841,    123.6,  13.5245,  34.9518,2,  34.9504,2,     61.2,2,     56.5,2,    19.10,2,    26.56,2,     0.06,2,     1.87,2,    0.674,2,    0.376,2, -999.000,9, -999.000,9, -999.000,9,-999.0000,9,  -999.00,9,     14.3,2,      0.3,2,   -999.0,9,   -999.0,9,   -999.0,9,     7.62,2, -999.00,     3.3,-999.0000,-999.000,   25.00,  -999.0, 13.5071,-999.000
    31DSCG94_3,  P18N,   134,  1,    130,   1241,2,19940410,2051, -4.0030,-110.3287, 3841,    151.9,  13.3182,  34.9408,2,  34.9405,2,     58.0,2,     58.0,2,    19.49,2,    27.00,2,     0.04,2,     1.90,2,    0.650,2,    0.366,2, -999.000,9, -999.000,9,    0.431,2,   1.7973,2,     4.92,2,     11.4,2,      0.3,2,   -999.0,9,   1015.5,2,   -999.0,9,     7.62,2,   20.00,     7.3,-999.0000,-999.000,   25.00,  -999.0, 13.2970,   0.006
    31DSCG94_3,  P18N,   134,  1,    129,   1240,2,19940410,2051, -4.0030,-110.3287, 3841,    175.7,  12.9555,  34.9147,2,  34.9138,2,     57.7,2,     54.5,2,    20.72,2,    27.96,2,     0.00,2,     1.96,2,    0.570,2,    0.329,2, -999.000,9, -999.000,9, -999.000,9,-999.0000,9,  -999.00,9,   -999.0,9,   -999.0,9,   2196.8,2,   1057.7,2,   2301.0,2,     7.61,2,   20.00,  -999.0,-999.0000,-999.000,   25.00,  -999.0, 12.9314,-999.000
    31DSCG94_3,  P18N,   134,  1,    128,   1032,2,19940410,2051, -4.0030,-110.3287, 3841,    197.9,  12.8467,  34.9068,2,  34.9060,2,     52.7,2,     54.3,2,    21.21,2,    27.65,2,     0.01,2,     1.96,2,    0.547,2,    0.310,2, -999.000,9, -999.000,9,    0.425,2,   1.8054,2,     5.12,2,    -11.2,2,      0.3,2,   2203.4,2,   1064.8,2,   2290.0,2,     7.60,2,   20.00,     3.8,-999.0000,-999.000,   25.00,  -999.0, 12.8197,   0.006
    31DSCG94_3,  P18N,   134,  1,    127,   1008,2,19940410,2051, -4.0030,-110.3287, 3841,    225.5,  12.7462,  34.9013,2,  34.8999,2,     41.2,2,     39.7,2,    22.58,2,    29.50,2,     0.00,2,     2.06,2,    0.473,2,    0.272,2, -999.000,9, -999.000,9,    0.406,2,   1.8094,2,     5.33,2,   -999.0,9,   -999.0,9,   -999.0,9,   -999.0,9,   -999.0,9,     7.57,2, -999.00,  -999.0,-999.0000,-999.000,   25.00,  -999.0, 12.7156,   0.006
    31DSCG94_3,  P18N,   134,  1,    126,   1007,2,19940410,2051, -4.0030,-110.3287, 3841,    246.9,  12.6862,  34.8996,2,  34.8980,2,     27.9,2,     27.0,2,    23.32,2,    31.29,2,     0.00,2,     2.19,2,    0.414,2,    0.239,2, -999.000,9, -999.000,9, -999.000,9,-999.0000,9,  -999.00,9,   -999.0,9,   -999.0,9,   2225.9,2,   -999.0,9,   2294.0,2,     7.54,2, -999.00,  -999.0,-999.0000,-999.000,   25.00,  -999.0, 12.6527,-999.000
    31DSCG94_3,  P18N,   134,  1,    125,   1203,2,19940410,2051, -4.0030,-110.3287, 3841,    298.8,  12.3203,  34.8818,2,  34.8811,2,     13.1,2,      9.8,2,    25.47,2,    33.21,2,     0.00,2,     2.35,2,    0.267,6,    0.151,6, -999.000,9, -999.000,9,    0.290,2,   1.7906,2,     5.26,2,    -26.8,2,      0.0,2,   2242.2,2,   1428.6,2,   2294.0,2,     7.49,2,   20.00,     3.8,-999.0000,-999.000,   25.00,  -999.0, 12.2806,   0.005
    31DSCG94_3,  P18N,   134,  1,    123,   1220,2,19940410,2051, -4.0030,-110.3287, 3841,    349.0,  11.3635,  34.8248,2,  34.8261,2,      9.0,2,      7.2,2,    28.85,2,    33.99,2,     0.00,2,     2.48,2,    0.167,2,    0.098,2, -999.000,9, -999.000,9,    0.170,2,   1.8040,2,     4.86,2,   -999.0,9,   -999.0,9,   -999.0,9,   -999.0,9,   -999.0,9,     7.45,2, -999.00,  -999.0,-999.0000,-999.000,   25.00,  -999.0, 11.3193,   0.004
    31DSCG94_3,  P18N,   134,  1,    122,   1245,2,19940410,2051, -4.0030,-110.3287, 3841,    403.5,   9.8923,  34.7360,2,  34.7371,2,      4.5,2,      4.4,2,    35.80,2,    36.56,2,     0.00,2,     2.72,2,    0.058,6,    0.030,6, -999.000,9, -999.000,9, -999.000,9,-999.0000,9,  -999.00,9,   -116.7,3,     -0.0,2,   2275.1,2,   1763.1,2,   2306.0,2,     7.40,2,   20.00,     3.1,-999.0000,-999.000,   25.00,  -999.0,  9.8455,-999.000
    31DSCG94_3,  P18N,   134,  1,    121,   1206,2,19940410,2051, -4.0030,-110.3287, 3841,    500.7,   8.3479,  34.6496,2,  34.6491,2,     11.6,2,     13.0,2,    43.98,2,    40.84,2,     0.01,2,     2.84,2,    0.026,2,    0.013,2, -999.000,9, -999.000,9,    0.040,2,   1.7991,2,     6.98,2,   -106.9,6,      0.0,6,   2282.2,2,   1803.9,2,   2301.0,2,     7.39,2,   20.00,     2.0,-999.0000,-999.000,   25.00,  -999.0,  8.2952,   0.004
    31DSCG94_3,  P18N,   134,  1,    120,   1028,2,19940410,2051, -4.0030,-110.3287, 3841,    548.3,   7.7136,  34.6173,2,  34.6171,2,     30.0,2,     26.7,6,    47.06,6,    41.67,6,     0.00,6,     2.85,6,    0.014,2,    0.006,2, -999.000,9, -999.000,9,    0.018,2,   1.7996,2,     7.86,2,   -109.1,2,      0.1,2,   2279.3,2,   1731.2,2,   2309.0,2,     7.41,2,   20.00,     4.2,-999.0000,-999.000,   25.00,  -999.0,  7.6584,   0.003
    31DSCG94_3,  P18N,   134,  1,    119,   1248,2,19940410,2051, -4.0030,-110.3287, 3841,    600.2,   7.2661,  34.6015,2,  34.5999,2,     32.0,2,     25.6,2,    50.78,2,    43.35,2,     0.00,2,     2.92,2,    0.013,2,    0.003,2, -999.000,9, -999.000,9,    0.023,2,-999.0000,9,  -999.00,9,   -123.9,2,      0.0,2,   2286.1,2,   1778.9,2,   -999.0,5,     7.40,2,   20.00,     2.9,-999.0000,-999.000,   25.00,  -999.0,  7.2074,   0.003
    31DSCG94_3,  P18N,   134,  1,    118,   1115,2,19940410,2051, -4.0030,-110.3287, 3841,    699.0,   6.4987,  34.5724,2,  34.5723,2,     34.1,2,     38.6,2,    56.18,2,    44.11,2,     0.00,2,     2.92,2,    0.007,2,   -0.002,2, -999.000,9, -999.000,9,    0.006,2,   1.8134,2,    10.31,2,   -132.9,2,      0.1,2,   2287.7,2,   1742.3,2,   2317.0,2,     7.41,2,   20.00,     2.7,-999.0000,-999.000,   25.00,  -999.0,  6.4340,   0.003
    31DSCG94_3,  P18N,   134,  1,    117,   1119,2,19940410,2051, -4.0030,-110.3287, 3841,    799.1,   5.7109,  34.5456,2,  34.5458,2,     60.2,2,     69.8,2,    61.42,2,    40.75,2,     0.00,2,     2.81,2, -999.000,5, -999.000,5, -999.000,9, -999.000,9,    0.007,2,-999.0000,9,  -999.00,9,   -131.7,2,      0.2,2,   2278.2,2,   1538.4,2,   2319.0,2,     7.46,2,   20.00,     2.9,-999.0000,-999.000,   25.00,  -999.0,  5.6411,   0.003
    31DSCG94_3,  P18N,   134,  1,    116,   1036,2,19940410,2051, -4.0030,-110.3287, 3841,    898.3,   4.9620,  34.5372,2,  34.5376,2,     80.9,2,     88.5,2,    69.33,2,    39.69,2,     0.00,2,     2.76,2,    0.005,2,    0.001,2, -999.000,9, -999.000,9,    0.004,2,-999.0000,9,  -999.00,9,   -159.7,2,      0.4,3,   2279.7,2,   1444.3,2,   2335.0,2,     7.49,2,   20.00,     3.8,-999.0000,-999.000,   25.00,  -999.0,  4.8880,   0.003
    31DSCG94_3,  P18N,   134,  1,    115,   1017,2,19940410,2051, -4.0030,-110.3287, 3841,    998.4,   4.3389,  34.5469,2,  34.5472,2,     92.8,2,     96.6,2,    82.44,2,    38.45,2,     0.00,2,     2.74,2, -999.000,9, -999.000,9, -999.000,9, -999.000,9,    0.004,2,   1.8759,2,    17.53,2,   -999.0,9,   -999.0,9,   2288.1,2,   1409.2,2,   2346.0,6,     7.50,2,   20.00,  -999.0,-999.0000,-999.000,   25.00,  -999.0,  4.2607,   0.003
    31DSCG94_3,  P18N,   134,  1,    114,   1016,2,19940410,2051, -4.0030,-110.3287, 3841,   1197.4,   3.6607,  34.5724,2,  34.5733,2,     95.0,2,     91.8,2,   101.06,6,    40.07,6,     0.00,6,     2.82,6,    0.007,2,    0.001,2, -999.000,9, -999.000,9, -999.000,9,-999.0000,9,  -999.00,9,   -999.0,5,      0.1,2,   -999.0,9,   -999.0,9,   -999.0,9,     7.48,2, -999.00,  -999.0,-999.0000,-999.000,   25.00,  -999.0,  3.5713,-999.000
    31DSCG94_3,  P18N,   134,  1,    113,   1209,2,19940410,2051, -4.0030,-110.3287, 3841,   1399.3,   3.2142,  34.5932,2,  34.5931,2,     92.5,2,     89.7,2,   111.73,2,    40.77,2,     0.00,2,     2.79,2, -999.000,5, -999.000,5, -999.000,9, -999.000,9,    0.005,2,   1.8781,2,    23.80,2,   -217.1,2,     -0.0,2,   -999.0,9,   -999.0,9,   -999.0,9,  -999.00,9, -999.00,     2.8,-999.0000,-999.000, -999.00,  -999.0,  3.1124,   0.003
    31DSCG94_3,  P18N,   134,  1,    112,   1033,2,19940410,2051, -4.0030,-110.3287, 3841,   1600.9,   2.8080,  34.6121,2,  34.6122,2,    104.9,2,     98.1,2,   121.07,2,    40.49,2,     0.00,2,     2.74,2, -999.000,9, -999.000,9, -999.000,9, -999.000,9, -999.000,9,-999.0000,9,  -999.00,9,   -220.8,2,     -0.1,2,   -999.0,9,   -999.0,9,   -999.0,9,     7.49,2, -999.00,     2.6,-999.0000,-999.000,   25.00,  -999.0,  2.6939,-999.000
    31DSCG94_3,  P18N,   134,  1,    111,   1240,2,19940410,2051, -4.0030,-110.3287, 3841,   1797.7,   2.4903,  34.6274,2,  34.6278,2,    121.1,2,    104.9,2,   127.67,2,    40.13,2,     0.00,2,     2.71,2, -999.000,9, -999.000,9, -999.000,9, -999.000,9, -999.000,9,-999.0000,9,  -999.00,9,   -999.0,9,   -999.0,9,   -999.0,9,   -999.0,9,   -999.0,9,  -999.00,9, -999.00,  -999.0,-999.0000,-999.000, -999.00,  -999.0,  2.3638,-999.000
    31DSCG94_3,  P18N,   134,  1,    110,   1005,2,19940410,2051, -4.0030,-110.3287, 3841,   1994.7,   2.2437,  34.6436,2,  34.6436,2,    125.3,2,    107.5,2,   138.82,2,    39.37,2,     0.00,2,     2.67,2, -999.000,9, -999.000,9, -999.000,9, -999.000,9, -999.000,9,-999.0000,9,  -999.00,9,   -225.6,2,     -0.1,2,   -999.0,9,   -999.0,9,   -999.0,9,     7.51,2, -999.00,     2.7,-999.0000,-999.000,   25.00,  -999.0,  2.1039,-999.000
    31DSCG94_3,  P18N,   134,  1,    109,   1611,2,19940410,2051, -4.0030,-110.3287, 3841,   2249.7,   2.0658,  34.6521,2,  34.6523,2,    126.8,2,    115.5,2,   141.31,6,    39.17,6,     0.00,6,     2.65,6, -999.000,9, -999.000,9, -999.000,9, -999.000,9, -999.000,9,-999.0000,9,  -999.00,9,   -231.7,2,     -0.1,2,   -999.0,9,   -999.0,9,   -999.0,9,  -999.00,9, -999.00,     4.3,-999.0000,-999.000, -999.00,  -999.0,  1.9067,-999.000
    31DSCG94_3,  P18N,   134,  1,    108,   1218,3,19940410,2051, -4.0030,-110.3287, 3841,   2493.0,   1.8826,  34.6622,2,-999.0000,5,    132.6,2,   -999.0,9,  -999.00,9,  -999.00,9,  -999.00,9,  -999.00,9, -999.000,9, -999.000,9, -999.000,9, -999.000,9, -999.000,9,-999.0000,9,  -999.00,9,   -999.0,9,   -999.0,9,   -999.0,9,   -999.0,9,   -999.0,9,  -999.00,9, -999.00,  -999.0,-999.0000,-999.000, -999.00,  -999.0,  1.7051,-999.000
    31DSCG94_3,  P18N,   134,  1,    107,   1257,3,19940410,2051, -4.0030,-110.3287, 3841,   2748.1,   1.7804,  34.6703,2,  34.6705,2,    138.6,2,    134.1,2,   141.94,2,    38.05,2,     0.00,2,     2.58,2, -999.000,9, -999.000,9, -999.000,9, -999.000,9, -999.000,9,-999.0000,9,  -999.00,9,   -999.0,9,   -999.0,9,   -999.0,9,   -999.0,9,   -999.0,9,  -999.00,9, -999.00,  -999.0,-999.0000,-999.000, -999.00,  -999.0,  1.5814,-999.000
    31DSCG94_3,  P18N,   134,  1,    106,   1224,2,19940410,2051, -4.0030,-110.3287, 3841,   2999.4,   1.6612,  34.6758,2,  34.6762,2,    145.2,2,    141.4,2,   143.14,2,    37.34,2,     0.00,2,     2.53,2, -999.000,9, -999.000,9, -999.000,9, -999.000,9, -999.000,9,-999.0000,9,  -999.00,9,   -224.6,2,      0.0,2,   -999.0,9,   -999.0,9,   -999.0,9,     7.57,2, -999.00,     2.6,-999.0000,-999.000,   25.00,  -999.0,  1.4409,-999.000
    31DSCG94_3,  P18N,   134,  1,    105,   1246,2,19940410,2051, -4.0030,-110.3287, 3841,   3248.2,   1.5736,  34.6817,2,  34.6825,2,    150.6,2,    148.4,2,   146.41,2,    37.11,2,     0.00,2,     2.49,2, -999.000,9, -999.000,9, -999.000,9, -999.000,9, -999.000,9,-999.0000,9,  -999.00,9,   -999.0,9,   -999.0,9,   -999.0,9,   -999.0,9,   -999.0,9,  -999.00,9, -999.00,  -999.0,-999.0000,-999.000, -999.00,  -999.0,  1.3310,-999.000
    31DSCG94_3,  P18N,   134,  1,    104,   1217,2,19940410,2051, -4.0030,-110.3287, 3841,   3502.6,   1.5021,  34.6867,2,  34.6870,2,    154.9,2,    154.3,2,   146.90,2,    36.75,2,     0.00,2,     2.44,2, -999.000,9, -999.000,9, -999.000,9, -999.000,9, -999.000,9,-999.0000,9,  -999.00,9,   -999.0,5,      0.1,2,   -999.0,9,   -999.0,9,   -999.0,9,     7.60,2, -999.00,  -999.0,-999.0000,-999.000,   25.00,  -999.0,  1.2356,-999.000
    31DSCG94_3,  P18N,   134,  1,    103,   9999,2,19940410,2051, -4.0030,-110.3287, 3841,   3749.1,   1.4973,  34.6883,2,  34.6901,2,    156.1,2,    156.1,2,   145.60,2,    36.59,2,     0.00,2,     2.44,2, -999.000,9, -999.000,9, -999.000,9, -999.000,9, -999.000,9,-999.0000,9,  -999.00,9,   -999.0,9,   -999.0,9,   -999.0,9,   -999.0,9,   -999.0,9,  -999.00,9, -999.00,  -999.0,-999.0000,-999.000, -999.00,  -999.0,  1.2053,-999.000
    31DSCG94_3,  P18N,   134,  1,    102,   1223,2,19940410,2051, -4.0030,-110.3287, 3841,   3750.3,   1.4974,  34.6881,2,  34.6885,2,    156.2,2,    156.9,2,   144.67,2,    36.71,2,     0.00,2,     2.42,2, -999.000,9, -999.000,9, -999.000,9, -999.000,9, -999.000,9,-999.0000,9,  -999.00,9,   -999.0,9,   -999.0,9,   -999.0,9,   -999.0,9,   -999.0,9,     7.60,2, -999.00,  -999.0,-999.0000,-999.000,   25.00,  -999.0,  1.2053,-999.000
    31DSCG94_3,  P18N,   134,  1,    101,   1041,2,19940410,2051, -4.0030,-110.3287, 3841,   3907.7,   1.5109,  34.6882,2,  34.6886,2,    156.4,2,    156.6,6,   144.76,6,    36.84,6,     0.00,6,     2.43,6, -999.000,9, -999.000,9, -999.000,9, -999.000,9, -999.000,9,-999.0000,9,  -999.00,9,   -207.3,2,      0.1,2,   -999.0,9,   -999.0,9,   -999.0,9,  -999.00,9, -999.00,     3.1,-999.0000,-999.000, -999.00,  -999.0,  1.2016,-999.000