BOTTLE,20220630CCHSIOAMB
EXPOCODE,SECT_ID,STNNBR,CASTNO,SAMPNO,BTLNBR,BTLNBR_FLAG_W,DATE,TIME,LATITUDE,LONGITUDE,DEPTH,CTDPRS,CTDTMP,CTDSAL,CTDSAL_FLAG_W,SALNTY,SALNTY_FLAG_W,CTDOXY,CTDOXY_FLAG_W,OXYGEN,OXYGEN_FLAG_W,SILCAT,SILCAT_FLAG_W,NITRAT,NITRAT_FLAG_W,NITRIT,NITRIT_FLAG_W,PHSPHT,PHSPHT_FLAG_W,CFC-11,CFC-11_FLAG_W,CFC-12,CFC-12_FLAG_W,CFC113,CFC113_FLAG_W,CCL4,CCL4_FLAG_W,TRITUM,TRITUM_FLAG_W,HELIUM,HELIUM_FLAG_W,DELHE3,DELHE3_FLAG_W,DELC14,DELC14_FLAG_W,DELC13,DELC13_FLAG_W,TCARBN,TCARBN_FLAG_W,PCO2,PCO2_FLAG_W,ALKALI,ALKALI_FLAG_W,PH,PH_FLAG_W,PCO2TMP,C14ERR,HELIER,DELHER,PH_TMP,C13ERR,THETA,TRITER
,,,,,,,,,,,,DBAR,ITS-90,PSS-78,,PSS-78,,UMOL/KG,,UMOL/KG,,UMOL/KG,,UMOL/KG,,UMOL/KG,,UMOL/KG,,PMOL/KG,,PMOL/KG,,PMOL/KG,,PMOL/KG,,TU,,NMOL/KG,,PERCNT,,/MILLE,,/MILLE,,UMOL/KG,,UATM,,UMOL/KG,,,,DEG C,/MILLE,NMOL/KG,PERCNT,DEG C,/MILLE,DEG C,TU
    31DSCG94_2,  P18S,    42,  1,    136,   1025,2,19940311,0733,-48.4833,-103.0000, 4247,     10.6,  10.2638,  34.1625,2,  34.1619,2,    280.9,2,    276.4,2,     0.56,2,    13.55,2,     0.17,2,     1.07,2,    3.764,2,    1.929,2, -999.000,9, -999.000,9, -999.000,9,-999.0000,9,  -999.00,9,   -999.0,9,   -999.0,9,   2074.3,2,    531.3,2,   2268.0,2,     7.86,2,   20.00,  -999.0,-999.0000,-999.000,   25.00,  -999.0, 10.2626,-999.000
    31DSCG94_2,  P18S,    42,  1,    135,   1247,2,19940311,0733,-48.4833,-103.0000, 4247,     24.3,  10.2249,  34.1633,2,  34.1643,2,    280.6,2,    276.5,2,     0.46,2,    13.45,2,     0.17,2,     1.07,2,    3.793,2,    1.942,2, -999.000,9, -999.000,9, -999.000,9,-999.0000,9,  -999.00,9,   -999.0,9,   -999.0,9,   2073.0,2,    531.3,2,   2268.0,2,     7.86,2,   20.00,  -999.0,-999.0000,-999.000,   25.00,  -999.0, 10.2221,-999.000
    31DSCG94_2,  P18S,    42,  1,    134,   1108,2,19940311,0733,-48.4833,-103.0000, 4247,     49.6,   9.9462,  34.1721,2,  34.1726,2,    279.0,2,    277.2,2,     0.54,2,    13.76,2,     0.16,2,     1.01,2,    3.829,2,    1.943,2, -999.000,9, -999.000,9, -999.000,9,-999.0000,9,  -999.00,9,   -999.0,9,   -999.0,9,   2075.9,2,    534.5,2,   2267.0,2,     7.86,2,   20.00,  -999.0,-999.0000,-999.000,   25.00,  -999.0,  9.9406,-999.000
    31DSCG94_2,  P18S,    42,  1,    133,   1244,2,19940311,0733,-48.4833,-103.0000, 4247,     75.3,   9.2866,  34.1848,2,  34.1866,2,    278.7,2,    278.4,2,     0.70,2,    14.03,2,     0.17,2,     1.09,2,    3.940,2,    2.012,2, -999.000,9, -999.000,9, -999.000,9,-999.0000,9,  -999.00,9,   -999.0,9,   -999.0,9,   2077.9,2,   -999.0,9,   2269.0,2,     7.86,2, -999.00,  -999.0,-999.0000,-999.000,   25.00,  -999.0,  9.2784,-999.000
    31DSCG94_2,  P18S,    42,  1,    132,   1003,2,19940311,0733,-48.4833,-103.0000, 4247,     98.9,   7.5564,  34.1949,2,  34.1956,2,    287.7,2,    289.1,2,     2.27,2,    15.32,2,     0.18,2,     1.20,2,    4.252,6,    2.161,6, -999.000,9, -999.000,9, -999.000,9,-999.0000,9,  -999.00,9,   -999.0,9,   -999.0,9,   2094.0,2,    594.6,2,   2272.0,2,     7.82,2,   20.00,  -999.0,-999.0000,-999.000,   25.00,  -999.0,  7.5469,-999.000
    31DSCG94_2,  P18S,    42,  1,    131,   1211,2,19940311,0733,-48.4833,-103.0000, 4247,    125.1,   7.0899,  34.2247,2,  34.2257,2,    286.7,2,    288.8,2,     2.84,2,    15.96,2,     0.22,2,     1.25,2, -999.000,5, -999.000,5, -999.000,9, -999.000,9, -999.000,9,-999.0000,9,  -999.00,9,   -999.0,9,   -999.0,9,   2099.8,2,   -999.0,9,   2271.0,2,     7.81,2, -999.00,  -999.0,-999.0000,-999.000,   25.00,  -999.0,  7.0783,-999.000
    31DSCG94_2,  P18S,    42,  1,    130,   1241,2,19940311,0733,-48.4833,-103.0000, 4247,    152.1,   6.7086,  34.2319,2,  34.2317,2,    286.8,2,    285.5,2,     3.43,2,    17.14,2,     0.37,2,     1.24,2,    4.372,2,    2.194,2, -999.000,9, -999.000,9, -999.000,9,-999.0000,9,  -999.00,9,   -999.0,9,   -999.0,9,   2117.1,2,    638.0,2,   -999.0,5,     7.80,2,   20.00,  -999.0,-999.0000,-999.000,   25.00,  -999.0,  6.6949,-999.000
    31DSCG94_2,  P18S,    42,  1,    129,   1031,3,19940311,0733,-48.4833,-103.0000, 4247,    196.4,   6.5468,  34.2762,2,  34.2783,2,    284.7,2,   -999.0,9,     4.62,2,    18.63,2,     0.00,2,     1.35,2,    4.797,2,    2.085,2, -999.000,9, -999.000,9, -999.000,9,-999.0000,9,  -999.00,9,   -999.0,9,   -999.0,9,   2115.0,2,    660.7,2,   2266.0,3,     7.78,2,   20.00,  -999.0,-999.0000,-999.000,   25.00,  -999.0,  6.5293,-999.000
    31DSCG94_2,  P18S,    42,  1,    128,   1210,2,19940311,0733,-48.4833,-103.0000, 4247,    249.1,   6.5052,  34.2963,2,  34.2996,2,    281.2,2,    271.9,2,     5.51,2,    19.57,2,     0.00,2,     1.42,2,    4.651,4,    1.936,2, -999.000,9, -999.000,9, -999.000,9,-999.0000,9,  -999.00,9,   -999.0,9,   -999.0,9,   2120.3,2,    680.7,2,   2274.0,2,     7.77,2,   20.00,  -999.0,-999.0000,-999.000,   25.00,  -999.0,  6.4830,-999.000
    31DSCG94_2,  P18S,    42,  1,    127,   1008,2,19940311,0733,-48.4833,-103.0000, 4247,    300.9,   6.4512,  34.3076,2,  34.3131,2,    274.1,2,    269.7,2,     6.10,2,    20.24,2,     0.00,2,     1.45,2,    3.754,6,    1.843,6, -999.000,9, -999.000,9, -999.000,9,-999.0000,9,  -999.00,9,   -999.0,9,   -999.0,9,   2122.6,2,    697.5,2,   2282.0,2,     7.77,2,   20.00,  -999.0,-999.0000,-999.000,   25.00,  -999.0,  6.4243,-999.000
    31DSCG94_2,  P18S,    42,  1,    126,   1007,2,19940311,0733,-48.4833,-103.0000, 4247,    350.2,   6.3153,  34.3000,2,  34.3014,2,    271.5,2,    271.3,2,     6.55,2,    20.82,2,     0.00,2,     1.49,2,    3.651,2,    1.770,2, -999.000,9, -999.000,9, -999.000,9,-999.0000,9,  -999.00,9,   -999.0,9,   -999.0,9,   2133.6,2,    711.7,2,   2286.0,2,     7.76,2,   20.00,  -999.0,-999.0000,-999.000,   25.00,  -999.0,  6.2843,-999.000
    31DSCG94_2,  P18S,    42,  1,    125,   1203,2,19940311,0733,-48.4833,-103.0000, 4247,    400.7,   6.2604,  34.3055,2,  34.3035,2,    268.9,2,    267.9,2,     7.22,2,    21.08,2,     0.00,2,     1.44,2,    3.507,2,    1.705,2, -999.000,9, -999.000,9, -999.000,9,-999.0000,9,  -999.00,9,   -999.0,9,   -999.0,9,   2123.2,2,    711.0,2,   2280.0,2,     7.76,2,   20.00,  -999.0,-999.0000,-999.000,   25.00,  -999.0,  6.2250,-999.000
    31DSCG94_2,  P18S,    42,  1,    123,   1101,3,19940311,0733,-48.4833,-103.0000, 4247,    499.0,   5.9924,  34.2931,2,  34.2926,2,    266.1,2,    266.4,2,     8.43,2,    21.93,2,     0.00,2,     1.55,2,    3.294,2,    1.581,2, -999.000,9, -999.000,9, -999.000,9,-999.0000,9,  -999.00,9,   -999.0,9,   -999.0,9,   -999.0,9,   -999.0,9,   2279.0,2,  -999.00,9, -999.00,  -999.0,-999.0000,-999.000, -999.00,  -999.0,  5.9490,-999.000
    31DSCG94_2,  P18S,    42,  1,    121,   1206,2,19940311,0733,-48.4833,-103.0000, 4247,    595.4,   5.7406,  34.2797,2,  34.2792,2,    262.1,2,    263.6,2,     9.36,2,    22.95,2,     0.00,2,     1.62,2,    3.067,2,    1.504,2, -999.000,9, -999.000,9, -999.000,9,-999.0000,9,  -999.00,9,   -999.0,9,   -999.0,9,   2135.4,2,    746.8,2,   2279.0,2,     7.74,2,   20.00,  -999.0,-999.0000,-999.000,   25.00,  -999.0,  5.6896,-999.000
    31DSCG94_2,  P18S,    42,  1,    119,   1248,2,19940311,0733,-48.4833,-103.0000, 4247,    699.0,   5.3249,  34.2598,2,  34.2607,2,    253.7,2,    255.8,2,    12.13,2,    24.92,2,     0.00,2,     1.74,2,    2.778,2,    1.337,2, -999.000,9, -999.000,9, -999.000,9,-999.0000,9,  -999.00,9,   -999.0,9,   -999.0,9,   2145.5,2,    778.7,2,   2281.0,2,     7.72,2,   20.00,  -999.0,-999.0000,-999.000,   25.00,  -999.0,  5.2667,-999.000
    31DSCG94_2,  P18S,    42,  1,    118,   1207,2,19940311,0733,-48.4833,-103.0000, 4247,    798.1,   4.9453,  34.2616,2,-999.0000,5,    242.4,2,    240.1,2,    17.85,2,    27.27,2,     0.00,2,     1.87,2,    2.138,2,    1.003,2, -999.000,9, -999.000,9, -999.000,9,-999.0000,9,  -999.00,9,   -999.0,9,   -999.0,9,   2159.2,2,    841.9,2,   2284.0,2,  -999.00,9,   20.00,  -999.0,-999.0000,-999.000, -999.00,  -999.0,  4.8806,-999.000
    31DSCG94_2,  P18S,    42,  1,    117,   1119,2,19940311,0733,-48.4833,-103.0000, 4247,    895.4,   4.5418,  34.2757,2,  34.2750,2,    226.7,2,    224.1,2,    23.89,2,    28.81,2,     0.00,2,     2.01,2,    1.395,2,    0.680,2, -999.000,9, -999.000,9, -999.000,9,-999.0000,9,  -999.00,9,   -999.0,9,   -999.0,9,   2174.2,2,    909.6,2,   2288.0,2,     7.66,2,   20.00,  -999.0,-999.0000,-999.000,   25.00,  -999.0,  4.4714,-999.000
    31DSCG94_2,  P18S,    42,  1,    116,   1036,2,19940311,0733,-48.4833,-103.0000, 4247,   1000.6,   4.0772,  34.2950,2,  34.2949,2,    213.1,2,    213.2,2,    30.75,2,    30.36,2,     0.00,2,     2.11,2,    1.052,2,    0.515,2, -999.000,9, -999.000,9, -999.000,9,-999.0000,9,  -999.00,9,   -999.0,9,   -999.0,9,   2190.0,2,    966.5,2,   2296.0,6,     7.64,2,   20.00,  -999.0,-999.0000,-999.000,   25.00,  -999.0,  4.0013,-999.000
    31DSCG94_2,  P18S,    42,  1,    115,   1017,2,19940311,0733,-48.4833,-103.0000, 4247,   1199.0,   3.3670,  34.3650,2,  34.3643,2,    193.6,2,    190.4,2,    47.62,2,    32.97,2,     0.00,2,     2.29,2,    0.407,2,    0.199,2, -999.000,9, -999.000,9, -999.000,9,-999.0000,9,  -999.00,9,   -999.0,9,   -999.0,9,   -999.0,9,   -999.0,9,   -999.0,9,  -999.00,9, -999.00,  -999.0,-999.0000,-999.000, -999.00,  -999.0,  3.2806,-999.000
    31DSCG94_2,  P18S,    42,  1,    114,   1016,2,19940311,0733,-48.4833,-103.0000, 4247,   1400.3,   2.9299,  34.4584,2,  34.4582,2,    174.4,2,    169.1,6,    63.92,2,    34.44,2,     0.00,2,     2.43,2,    0.155,2,    0.078,2, -999.000,9, -999.000,9, -999.000,9,-999.0000,9,  -999.00,9,   -999.0,9,   -999.0,9,   -999.0,9,   -999.0,9,   -999.0,9,  -999.00,9, -999.00,  -999.0,-999.0000,-999.000, -999.00,  -999.0,  2.8313,-999.000
    31DSCG94_2,  P18S,    42,  1,    113,   1118,2,19940311,0733,-48.4833,-103.0000, 4247,   1600.3,   2.6884,  34.5358,2,  34.5339,2,    161.1,2,    157.4,2,    76.22,2,    34.97,2,     0.00,2,     2.47,2,    0.052,2,    0.023,2, -999.000,9, -999.000,9, -999.000,9,-999.0000,9,  -999.00,9,   -999.0,9,   -999.0,9,   -999.0,9,   -999.0,9,   -999.0,9,  -999.00,9, -999.00,  -999.0,-999.0000,-999.000, -999.00,  -999.0,  2.5760,-999.000
    31DSCG94_2,  P18S,    42,  1,    112,   1033,2,19940311,0733,-48.4833,-103.0000, 4247,   1798.8,   2.4508,  34.5953,2,  34.5932,2,    161.9,2,    162.1,2,    82.93,2,    34.22,2,     0.00,2,     2.41,2, -999.000,5, -999.000,5, -999.000,9, -999.000,9, -999.000,9,-999.0000,9,  -999.00,9,   -999.0,9,   -999.0,9,   -999.0,9,   -999.0,9,   -999.0,9,  -999.00,9, -999.00,  -999.0,-999.0000,-999.000, -999.00,  -999.0,  2.3248,-999.000
    31DSCG94_2,  P18S,    42,  1,    111,   1263,4,19940311,0733,-48.4833,-103.0000, 4247,   1999.5,   2.2947,  34.6375,2,-999.0000,9,    163.4,2,   -999.0,9,  -999.00,9,  -999.00,9,  -999.00,9,  -999.00,9,    0.032,2,    0.017,2, -999.000,9, -999.000,9, -999.000,9,-999.0000,9,  -999.00,9,   -999.0,9,   -999.0,9,   -999.0,9,   -999.0,9,   -999.0,9,  -999.00,9, -999.00,  -999.0,-999.0000,-999.000, -999.00,  -999.0,  2.1538,-999.000
    31DSCG94_2,  P18S,    42,  1,    110,   1005,2,19940311,0733,-48.4833,-103.0000, 4247,   2248.7,   2.1161,  34.6751,2,  34.6742,2,    167.4,2,    167.6,6,    97.06,2,    33.06,2,     0.00,2,     2.29,2, -999.000,9, -999.000,9, -999.000,9, -999.000,9, -999.000,9,-999.0000,9,  -999.00,9,   -999.0,9,   -999.0,9,   -999.0,9,   -999.0,9,   -999.0,9,  -999.00,9, -999.00,  -999.0,-999.0000,-999.000, -999.00,  -999.0,  1.9562,-999.000
    31DSCG94_2,  P18S,    42,  1,    109,   1611,2,19940311,0733,-48.4833,-103.0000, 4247,   2500.1,   1.9336,  34.6940,2,  34.6928,2,    170.4,2,    170.9,2,   103.90,2,    32.76,2,     0.00,2,     2.31,2,    0.011,2,    0.007,2, -999.000,9, -999.000,9, -999.000,9,-999.0000,9,  -999.00,9,   -999.0,9,   -999.0,9,   -999.0,9,   -999.0,9,   -999.0,9,  -999.00,9, -999.00,  -999.0,-999.0000,-999.000, -999.00,  -999.0,  1.7544,-999.000
    31DSCG94_2,  P18S,    42,  1,    108,   1218,2,19940311,0733,-48.4833,-103.0000, 4247,   2751.1,   1.7760,  34.7007,2,  34.6991,2,    173.6,2,    173.9,2,   107.49,2,    32.87,2,     0.00,2,     2.32,2, -999.000,9, -999.000,9, -999.000,9, -999.000,9, -999.000,9,-999.0000,9,  -999.00,9,   -999.0,9,   -999.0,9,   -999.0,9,   -999.0,9,   -999.0,9,  -999.00,9, -999.00,  -999.0,-999.0000,-999.000, -999.00,  -999.0,  1.5766,-999.000
    31DSCG94_2,  P18S,    42,  1,    107,   1257,2,19940311,0733,-48.4833,-103.0000, 4247,   2991.3,   1.6705,  34.7061,2,  34.7048,2,    177.9,2,    178.1,2,   109.87,2,    32.61,2,     0.00,2,     2.31,2,   -0.001,2,    0.002,2, -999.000,9, -999.000,9, -999.000,9,-999.0000,9,  -999.00,9,   -999.0,9,   -999.0,9,   -999.0,9,   -999.0,9,   -999.0,9,  -999.00,9, -999.00,  -999.0,-999.0000,-999.000, -999.00,  -999.0,  1.4506,-999.000
    31DSCG94_2,  P18S,    42,  1,    106,   1224,2,19940311,0733,-48.4833,-103.0000, 4247,   3251.9,   1.5798,  34.7118,2,  34.7101,2,    183.5,2,    183.1,2,   112.50,2,    32.24,2,     0.00,2,     2.22,2, -999.000,9, -999.000,9, -999.000,9, -999.000,9, -999.000,9,-999.0000,9,  -999.00,9,   -999.0,9,   -999.0,9,   -999.0,9,   -999.0,9,   -999.0,9,  -999.00,9, -999.00,  -999.0,-999.0000,-999.000, -999.00,  -999.0,  1.3365,-999.000
    31DSCG94_2,  P18S,    42,  1,    105,   1246,2,19940311,0733,-48.4833,-103.0000, 4247,   3496.2,   1.3862,  34.7116,2,  34.7100,2,    188.4,2,    188.6,2,   119.00,2,    32.19,2,     0.00,2,     2.26,2,   -0.004,2,    0.000,2, -999.000,9, -999.000,9, -999.000,9,-999.0000,9,  -999.00,9,   -999.0,9,   -999.0,9,   -999.0,9,   -999.0,9,   -999.0,9,  -999.00,9, -999.00,  -999.0,-999.0000,-999.000, -999.00,  -999.0,  1.1231,-999.000
    31DSCG94_2,  P18S,    42,  1,    103,   9999,2,19940311,0733,-48.4833,-103.0000, 4247,   3748.8,   1.0826,  34.7105,2,  34.7086,2,    196.4,2,    196.1,2,   123.37,2,    32.54,2,     0.00,2,     2.26,2,    0.005,6,    0.003,6, -999.000,9, -999.000,9, -999.000,9,-999.0000,9,  -999.00,9,   -999.0,9,   -999.0,9,   -999.0,9,   -999.0,9,   -999.0,9,  -999.00,9, -999.00,  -999.0,-999.0000,-999.000, -999.00,  -999.0,  0.8016,-999.000
    31DSCG94_2,  P18S,    42,  1,    104,   1028,2,19940311,0733,-48.4833,-103.0000, 4247,   3750.1,   1.0852,  34.7104,2,  34.7085,2,    196.5,2,    196.2,2,   123.80,2,    32.19,2,     0.00,2,     2.27,2,    0.001,2,    0.002,2, -999.000,9, -999.000,9, -999.000,9,-999.0000,9,  -999.00,9,   -999.0,9,   -999.0,9,   -999.0,9,   -999.0,9,   -999.0,9,  -999.00,9, -999.00,  -999.0,-999.0000,-999.000, -999.00,  -999.0,  0.8040,-999.000
    31DSCG94_2,  P18S,    42,  1,    102,   1223,2,19940311,0733,-48.4833,-103.0000, 4247,   3999.8,   0.8685,  34.7091,2,  34.7072,2,    202.5,2,    201.8,2,   130.58,2,    32.42,2,     0.00,2,     2.22,2, -999.000,9, -999.000,9, -999.000,9, -999.000,9, -999.000,9,-999.0000,9,  -999.00,9,   -999.0,9,   -999.0,9,   -999.0,9,   -999.0,9,   -999.0,9,  -999.00,9, -999.00,  -999.0,-999.0000,-999.000, -999.00,  -999.0,  0.5673,-999.000
    31DSCG94_2,  P18S,    42,  1,    101,   1041,2,19940311,0733,-48.4833,-103.0000, 4247,   4269.4,   0.7646,  34.7077,2,  34.7067,2,    207.6,2,    205.1,2,   134.70,2,    32.26,2,     0.00,2,     2.25,2,    0.114,4,    0.032,2, -999.000,9, -999.000,9, -999.000,9,-999.0000,9,  -999.00,9,   -999.0,9,   -999.0,9,   -999.0,9,   -999.0,9,   -999.0,9,  -999.00,9, -999.00,  -999.0,-999.0000,-999.000, -999.00,  -999.0,  0.4377,-999.000