BOTTLE,20220630CCHSIOAMB
EXPOCODE,SECT_ID,STNNBR,CASTNO,SAMPNO,BTLNBR,BTLNBR_FLAG_W,DATE,TIME,LATITUDE,LONGITUDE,DEPTH,CTDPRS,CTDTMP,CTDSAL,CTDSAL_FLAG_W,SALNTY,SALNTY_FLAG_W,CTDOXY,CTDOXY_FLAG_W,OXYGEN,OXYGEN_FLAG_W,SILCAT,SILCAT_FLAG_W,NITRAT,NITRAT_FLAG_W,NITRIT,NITRIT_FLAG_W,PHSPHT,PHSPHT_FLAG_W,CFC-11,CFC-11_FLAG_W,CFC-12,CFC-12_FLAG_W,CFC113,CFC113_FLAG_W,CCL4,CCL4_FLAG_W,TRITUM,TRITUM_FLAG_W,HELIUM,HELIUM_FLAG_W,DELHE3,DELHE3_FLAG_W,DELC14,DELC14_FLAG_W,DELC13,DELC13_FLAG_W,TCARBN,TCARBN_FLAG_W,PCO2,PCO2_FLAG_W,ALKALI,ALKALI_FLAG_W,PH,PH_FLAG_W,PCO2TMP,C14ERR,HELIER,DELHER,PH_TMP,C13ERR,THETA,TRITER
,,,,,,,,,,,,DBAR,ITS-90,PSS-78,,PSS-78,,UMOL/KG,,UMOL/KG,,UMOL/KG,,UMOL/KG,,UMOL/KG,,UMOL/KG,,PMOL/KG,,PMOL/KG,,PMOL/KG,,PMOL/KG,,TU,,NMOL/KG,,PERCNT,,/MILLE,,/MILLE,,UMOL/KG,,UATM,,UMOL/KG,,,,DEG C,/MILLE,NMOL/KG,PERCNT,DEG C,/MILLE,DEG C,TU
    31DSCG94_2,  P18S,    47,  1,    136,   1025,2,19940312,1305,-45.9930,-102.9993, 3907,     12.0,  11.2463,  34.1225,2,  34.1235,2,    272.4,2,    270.1,2,     4.51,2,    12.24,2,     0.19,2,     1.02,2,    3.611,2,    1.851,2, -999.000,9, -999.000,9, -999.000,9,-999.0000,9,  -999.00,9,     53.6,2,      1.9,2,   2066.4,2,    509.3,2,   2268.0,2,     7.87,2,   20.00,     4.2,-999.0000,-999.000,   25.00,  -999.0, 11.2448,-999.000
    31DSCG94_2,  P18S,    47,  1,    135,   1247,2,19940312,1305,-45.9930,-102.9993, 3907,     24.0,  11.2358,  34.1231,2,  34.1236,2,    272.2,2,    270.2,2,     4.16,2,    13.22,2,     0.18,2,     1.03,2,    3.625,2,    1.844,2, -999.000,9, -999.000,9,    0.350,2,   1.7777,2,    -1.16,2,     59.8,2,      1.9,2,   -999.0,9,    515.3,2,   -999.0,9,     7.87,2,   20.00,     6.6,-999.0000,-999.000,   25.00,  -999.0, 11.2329,   0.005
    31DSCG94_2,  P18S,    47,  1,    134,   1108,2,19940312,1305,-45.9930,-102.9993, 3907,     51.4,  11.1139,  34.1267,2,  34.1274,2,    272.1,2,    270.3,2,     4.13,2,    12.81,2,     0.19,2,     0.99,2,    3.520,2,    1.833,2, -999.000,9, -999.000,9, -999.000,9,-999.0000,9,  -999.00,9,     62.6,2,      1.9,2,   -999.0,9,    519.2,2,   -999.0,9,     7.87,2,   20.00,     4.3,-999.0000,-999.000,   25.00,  -999.0, 11.1077,-999.000
    31DSCG94_2,  P18S,    47,  1,    133,   1244,2,19940312,1305,-45.9930,-102.9993, 3907,     76.3,   8.8679,  34.1524,2,  34.1525,2,    277.6,2,    282.7,2,     4.82,2,    14.25,2,     0.17,2,     1.09,2,    4.144,2,    2.045,2, -999.000,9, -999.000,9, -999.000,9,-999.0000,9,  -999.00,9,     61.8,2,      1.8,2,   -999.0,9,   -999.0,9,   -999.0,9,     7.84,2, -999.00,     6.6,-999.0000,-999.000,   25.00,  -999.0,  8.8598,-999.000
    31DSCG94_2,  P18S,    47,  1,    132,   1003,2,19940312,1305,-45.9930,-102.9993, 3907,    101.4,   7.8334,  34.1623,2,  34.1625,2,    281.7,2,    282.8,2,     5.89,2,    15.25,2,     0.27,2,     1.21,2,    4.254,2,    2.088,2, -999.000,9, -999.000,9, -999.000,9,   1.7764,2,    -1.69,2,     55.3,2,      1.7,2,   -999.0,9,   -999.0,9,   -999.0,9,     7.82,2, -999.00,     3.2,-999.0000,-999.000,   25.00,  -999.0,  7.8235,-999.000
    31DSCG94_2,  P18S,    47,  1,    131,   1211,2,19940312,1305,-45.9930,-102.9993, 3907,    124.9,   7.3095,  34.1905,2,  34.1902,2,    281.2,2,    279.9,2,     6.19,2,    16.14,2,     0.44,2,     1.25,2,    4.010,2,    1.995,2, -999.000,9, -999.000,9, -999.000,9,-999.0000,9,  -999.00,9,   -999.0,9,   -999.0,9,   -999.0,9,    614.9,2,   -999.0,9,     7.81,2,   20.00,  -999.0,-999.0000,-999.000,   25.00,  -999.0,  7.2978,-999.000
    31DSCG94_2,  P18S,    47,  1,    130,   1241,2,19940312,1305,-45.9930,-102.9993, 3907,    150.2,   7.0350,  34.2347,2,  34.2350,2,    279.0,2,    277.1,2,     6.40,2,    17.68,2,     0.06,2,     1.28,2,    4.243,2,    2.096,2, -999.000,9, -999.000,9, -999.000,9,-999.0000,9,  -999.00,9,   -999.0,9,      1.6,2,   -999.0,9,   -999.0,9,   -999.0,9,     7.80,2, -999.00,  -999.0,-999.0000,-999.000,   25.00,  -999.0,  7.0211,-999.000
    31DSCG94_2,  P18S,    47,  1,    129,   1031,2,19940312,1305,-45.9930,-102.9993, 3907,    202.4,   6.7763,  34.2931,2,  34.2954,2,    271.8,2,    270.3,2,     8.09,2,    19.47,2,     0.00,2,     1.34,2,    4.039,2,    1.948,2, -999.000,9, -999.000,9,    0.334,2,   1.7764,2,    -1.18,2,   -999.0,9,   -999.0,5,   -999.0,9,   -999.0,9,   -999.0,9,     7.78,2, -999.00,  -999.0,-999.0000,-999.000,   25.00,  -999.0,  6.7579,   0.007
    31DSCG94_2,  P18S,    47,  1,    128,   1210,2,19940312,1305,-45.9930,-102.9993, 3907,    246.2,   6.6356,  34.3081,2,  34.3085,2,    270.7,2,    268.0,2,     9.16,2,    19.72,2,     0.00,2,     1.42,2,    3.854,2,    1.862,2, -999.000,9, -999.000,9, -999.000,9,-999.0000,9,  -999.00,9,   -999.0,9,   -999.0,9,   -999.0,9,   -999.0,9,   -999.0,9,     7.77,2, -999.00,  -999.0,-999.0000,-999.000,   25.00,  -999.0,  6.6134,-999.000
    31DSCG94_2,  P18S,    47,  1,    127,   1008,2,19940312,1305,-45.9930,-102.9993, 3907,    301.6,   6.4557,  34.3035,2,  34.3043,2,    268.1,2,    267.3,2,     9.88,2,    21.19,2,     0.00,2,     1.47,2,    3.620,6,    1.764,6, -999.000,9, -999.000,9,    0.290,2,   1.7795,2,  -999.00,2,     43.2,2,      1.4,2,   -999.0,9,    695.5,2,   -999.0,9,     7.76,2,   20.00,     5.3,-999.0000,-999.000,   25.00,  -999.0,  6.4288,   0.005
    31DSCG94_2,  P18S,    47,  1,    126,   1007,2,19940312,1305,-45.9930,-102.9993, 3907,    351.2,   6.3356,  34.3025,2,  34.3050,2,    265.6,2,    266.9,2,     9.90,2,    20.32,2,     0.00,2,     1.50,2, -999.000,5, -999.000,5, -999.000,9, -999.000,9, -999.000,9,-999.0000,9,  -999.00,9,   -999.0,9,   -999.0,9,   -999.0,9,   -999.0,9,   -999.0,9,     7.76,2, -999.00,  -999.0,-999.0000,-999.000,   25.00,  -999.0,  6.3045,-999.000
    31DSCG94_2,  P18S,    47,  1,    125,   1203,2,19940312,1305,-45.9930,-102.9993, 3907,    399.2,   6.2307,  34.3017,2,  34.3020,2,    264.8,2,    266.7,2,    10.38,2,    20.61,2,     0.00,2,     1.49,2,    3.439,2,    1.617,2, -999.000,9, -999.000,9,    0.284,2,   1.7813,2,    -0.79,2,     30.6,2,      1.4,2,   -999.0,9,   -999.0,9,   -999.0,9,     7.76,2, -999.00,     3.2,-999.0000,-999.000,   25.00,  -999.0,  6.1955,   0.005
    31DSCG94_2,  P18S,    47,  1,    123,   1101,3,19940312,1305,-45.9930,-102.9993, 3907,    499.1,   6.0026,  34.2946,2,  34.2949,2,    262.9,2,    266.5,2,    11.45,2,    22.25,2,     0.00,2,     1.54,2,    3.142,6,    1.505,6, -999.000,9, -999.000,9,    0.255,2,   1.7826,2,    -0.49,2,     26.2,2,      1.4,2,   -999.0,9,   -999.0,9,   -999.0,9,     7.75,2, -999.00,     4.1,-999.0000,-999.000,   25.00,  -999.0,  5.9591,   0.005
    31DSCG94_2,  P18S,    47,  1,    121,   1206,2,19940312,1305,-45.9930,-102.9993, 3907,    603.1,   5.6990,  34.2774,2,  34.2779,2,    258.8,2,    260.8,2,    12.68,2,    22.19,2,     0.00,2,     1.64,2,    2.958,2,    1.408,2, -999.000,9, -999.000,9, -999.000,9,-999.0000,9,  -999.00,9,     16.5,2,      1.4,2,   -999.0,9,    732.1,2,   -999.0,9,     7.74,2,   20.00,     4.7,-999.0000,-999.000,   25.00,  -999.0,  5.6475,-999.000
    31DSCG94_2,  P18S,    47,  1,    119,   1248,2,19940312,1305,-45.9930,-102.9993, 3907,    699.4,   5.3391,  34.2632,2,  34.2659,2,    250.4,2,    254.0,2,    15.21,2,    24.85,2,     0.00,2,     1.75,2,    2.433,2,    1.143,2, -999.000,9, -999.000,9,    0.190,2,   1.7857,2,     0.12,2,     17.2,2,      1.3,2,   -999.0,9,   -999.0,9,   -999.0,9,     7.72,2, -999.00,     5.1,-999.0000,-999.000,   25.00,  -999.0,  5.2808,   0.004
    31DSCG94_2,  P18S,    47,  1,    118,   1207,2,19940312,1305,-45.9930,-102.9993, 3907,    805.8,   4.9008,  34.2656,2,  34.2647,2,    236.4,2,    236.0,2,    21.03,2,    26.65,2,     0.00,2,     1.91,2,    1.760,2,    0.835,2, -999.000,9, -999.000,9,    0.141,2,   1.8005,2,     0.89,2,    -35.4,6,      1.2,6,   -999.0,9,   -999.0,9,   -999.0,9,     7.69,2, -999.00,     4.3,-999.0000,-999.000,   25.00,  -999.0,  4.8357,   0.004
    31DSCG94_2,  P18S,    47,  1,    117,   1119,2,19940312,1305,-45.9930,-102.9993, 3907,    899.6,   4.5205,  34.2772,2,  34.2794,2,    221.7,2,    222.2,2,    27.10,2,    29.06,2,     0.00,2,     1.99,2,    1.275,2,    0.616,2, -999.000,9, -999.000,9, -999.000,9,-999.0000,9,  -999.00,9,    -62.4,2,      1.1,2,   -999.0,9,   -999.0,9,   -999.0,9,     7.66,2, -999.00,     4.1,-999.0000,-999.000,   25.00,  -999.0,  4.4498,-999.000
    31DSCG94_2,  P18S,    47,  1,    116,   1036,2,19940312,1305,-45.9930,-102.9993, 3907,   1001.9,   4.0521,  34.3003,2,  34.3004,2,    209.5,2,    203.5,2,    34.23,2,    30.63,2,     0.00,2,     2.11,2,    0.912,6,    0.433,6, -999.000,9, -999.000,9,    0.081,2,   1.8094,2,     2.81,2,    -63.6,2,      1.0,2,   -999.0,9,    976.1,2,   -999.0,9,     7.64,2,   20.00,     3.0,-999.0000,-999.000,   25.00,  -999.0,  3.9762,   0.004
    31DSCG94_2,  P18S,    47,  1,    115,   1017,2,19940312,1305,-45.9930,-102.9993, 3907,   1099.3,   3.6480,  34.3259,2,  34.3255,2,    201.3,2,    201.4,2,    40.93,2,    32.05,2,     0.00,2,     2.22,2, -999.000,9, -999.000,9, -999.000,9, -999.000,9, -999.000,9,-999.0000,9,  -999.00,9,    -93.6,2,      0.8,2,   -999.0,9,   -999.0,9,   -999.0,9,     7.62,2, -999.00,     4.8,-999.0000,-999.000,   25.00,  -999.0,  3.5673,-999.000
    31DSCG94_2,  P18S,    47,  1,    114,   1016,2,19940312,1305,-45.9930,-102.9993, 3907,   1198.3,   3.3719,  34.3636,2,  34.3631,2,    190.0,2,    190.1,2,    48.21,2,    33.31,2,     0.01,2,     2.28,2,    0.417,2,    0.208,2, -999.000,9, -999.000,9, -999.000,9,-999.0000,9,  -999.00,9,    -66.5,3,      0.8,2,   -999.0,9,   -999.0,9,   -999.0,9,     7.58,2, -999.00,     5.1,-999.0000,-999.000,   25.00,  -999.0,  3.2855,-999.000
    31DSCG94_2,  P18S,    47,  1,    113,   1209,2,19940312,1305,-45.9930,-102.9993, 3907,   1398.6,   2.9668,  34.4558,2,  34.4546,2,    165.8,2,   -999.0,9,    64.87,2,    35.03,2,     0.00,2,     2.49,2, -999.000,5, -999.000,5, -999.000,9, -999.000,9, -999.000,9,-999.0000,9,  -999.00,9,   -999.0,9,   -999.0,9,   -999.0,9,   -999.0,9,   -999.0,9,  -999.00,9, -999.00,  -999.0,-999.0000,-999.000, -999.00,  -999.0,  2.8680,-999.000
    31DSCG94_2,  P18S,    47,  1,    112,   1033,2,19940312,1305,-45.9930,-102.9993, 3907,   1598.8,   2.7026,  34.5337,2,  34.5335,2,    155.9,2,    156.1,2,    78.96,2,    35.23,2,     0.00,2,     2.47,2,    0.043,2,    0.019,2, -999.000,9, -999.000,9,    0.008,2,   1.8745,2,    12.89,2,   -104.6,3,      0.4,2,   -999.0,9,   -999.0,9,   -999.0,9,     7.55,2, -999.00,     4.7,-999.0000,-999.000,   25.00,  -999.0,  2.5901,   0.003
    31DSCG94_2,  P18S,    47,  1,    111,   1263,2,19940312,1305,-45.9930,-102.9993, 3907,   1800.7,   2.4609,  34.5933,2,  34.5933,2,    158.7,2,    160.1,2,    86.63,2,    34.59,2,     0.00,2,     2.44,2,    0.030,6,    0.010,6, -999.000,9, -999.000,9, -999.000,9,-999.0000,9,  -999.00,9,   -999.0,9,   -999.0,9,   -999.0,9,   -999.0,9,   -999.0,9,     7.56,2, -999.00,  -999.0,-999.0000,-999.000,   25.00,  -999.0,  2.3346,-999.000
    31DSCG94_2,  P18S,    47,  1,    110,   1005,2,19940312,1305,-45.9930,-102.9993, 3907,   2001.1,   2.2926,  34.6405,2,  34.6397,2,    164.7,2,    164.4,2,    89.46,2,    33.80,2,     0.00,2,     2.33,2, -999.000,9, -999.000,9, -999.000,9, -999.000,9, -999.000,9,-999.0000,9,  -999.00,9,   -162.2,2,      0.4,2,   -999.0,9,   -999.0,9,   -999.0,9,     7.57,2, -999.00,     3.3,-999.0000,-999.000,   25.00,  -999.0,  2.1515,-999.000
    31DSCG94_2,  P18S,    47,  1,    109,   1611,2,19940312,1305,-45.9930,-102.9993, 3907,   2248.2,   2.1065,  34.6783,2,  34.6769,2,    167.8,2,    168.2,2,    94.77,2,    33.64,2,     0.00,2,     2.31,2,    0.006,2,    0.001,2, -999.000,9, -999.000,9,    0.010,2,   1.8874,2,    16.70,2,   -999.0,9,   -999.0,9,   -999.0,9,   -999.0,9,   -999.0,9,  -999.00,9, -999.00,  -999.0,-999.0000,-999.000, -999.00,  -999.0,  1.9468,   0.003
    31DSCG94_2,  P18S,    47,  1,    108,   1218,2,19940312,1305,-45.9930,-102.9993, 3907,   2501.0,   1.9130,  34.6946,2,  34.6938,2,    170.5,2,    170.4,6,   103.24,2,    33.42,2,     0.00,2,     2.36,2, -999.000,9, -999.000,9, -999.000,9, -999.000,9, -999.000,9,-999.0000,9,  -999.00,9,   -180.1,2,      0.3,2,   -999.0,9,   -999.0,9,   -999.0,9,  -999.00,9, -999.00,     3.6,-999.0000,-999.000, -999.00,  -999.0,  1.7341,-999.000
    31DSCG94_2,  P18S,    47,  1,    107,   1257,2,19940312,1305,-45.9930,-102.9993, 3907,   2751.0,   1.7462,  34.7013,2,  34.6997,2,    173.3,2,    173.8,2,   110.08,2,    33.13,2,     0.00,2,     2.30,2, -999.000,9, -999.000,9, -999.000,9, -999.000,9,    0.002,2,   1.8977,2,    17.40,2,   -999.0,9,   -999.0,9,   -999.0,9,   -999.0,9,   -999.0,9,  -999.00,9, -999.00,  -999.0,-999.0000,-999.000, -999.00,  -999.0,  1.5475,   0.003
    31DSCG94_2,  P18S,    47,  1,    106,   1224,2,19940312,1305,-45.9930,-102.9993, 3907,   2993.4,   1.6507,  34.7055,2,  34.7049,2,    177.4,2,    177.7,2,   113.02,2,    32.83,2,     0.00,2,     2.29,2,   -0.004,2,   -0.001,2, -999.000,9, -999.000,9,    0.008,2,   1.8977,2,    16.36,2,   -171.5,2,      0.4,2,   -999.0,9,   -999.0,9,   -999.0,9,  -999.00,9, -999.00,     4.2,-999.0000,-999.000, -999.00,  -999.0,  1.4310,   0.003
    31DSCG94_2,  P18S,    47,  1,    105,   1246,2,19940312,1305,-45.9930,-102.9993, 3907,   3251.6,   1.5548,  34.7094,2,  34.7079,2,    182.0,2,    182.4,6,   112.45,2,    32.66,2,     0.00,2,     2.32,2, -999.000,9, -999.000,9, -999.000,9, -999.000,9, -999.000,9,-999.0000,9,  -999.00,9,   -999.0,9,   -999.0,9,   -999.0,9,   -999.0,9,   -999.0,9,  -999.00,9, -999.00,  -999.0,-999.0000,-999.000, -999.00,  -999.0,  1.3121,-999.000
    31DSCG94_2,  P18S,    47,  1,    104,   1028,2,19940312,1305,-45.9930,-102.9993, 3907,   3499.2,   1.3414,  34.7097,2,  34.7087,2,    187.1,2,    186.5,2,   115.71,2,    32.30,2,     0.00,2,     2.30,2, -999.000,9, -999.000,9, -999.000,9, -999.000,9,    0.006,2,   1.9017,2,    13.68,2,   -999.0,9,   -999.0,5,   -999.0,9,   -999.0,9,   -999.0,9,  -999.00,9, -999.00,  -999.0,-999.0000,-999.000, -999.00,  -999.0,  1.0791,   0.003
    31DSCG94_2,  P18S,    47,  1,    102,   1223,2,19940312,1305,-45.9930,-102.9993, 3907,   3751.5,   1.1451,  34.7088,2,  34.7067,2,    192.7,2,    192.9,2,   123.61,2,    32.65,2,     0.00,2,     2.28,2, -999.000,9, -999.000,9, -999.000,9, -999.000,9,    0.008,2,   1.9200,2,    12.44,2,   -160.0,2,      0.4,2,   -999.0,9,   -999.0,9,   -999.0,9,  -999.00,9, -999.00,     5.2,-999.0000,-999.000, -999.00,  -999.0,  0.8622,   0.003
    31DSCG94_2,  P18S,    47,  1,    103,   9999,2,19940312,1305,-45.9930,-102.9993, 3907,   3752.0,   1.1449,  34.7089,2,  34.7074,2,    192.7,2,    192.8,6,   121.68,2,    33.03,2,     0.00,2,     2.31,2,   -0.004,2,    0.001,2, -999.000,9, -999.000,9, -999.000,9,-999.0000,9,  -999.00,9,   -999.0,9,   -999.0,9,   -999.0,9,   -999.0,9,   -999.0,9,  -999.00,9, -999.00,  -999.0,-999.0000,-999.000, -999.00,  -999.0,  0.8619,-999.000
    31DSCG94_2,  P18S,    47,  1,    101,   1041,2,19940312,1305,-45.9930,-102.9993, 3907,   3971.6,   0.9504,  34.7090,2,  34.7068,2,    198.8,2,    199.0,2,   128.89,2,    32.55,2,     0.00,2,     2.25,2,   -0.003,2,    0.002,2, -999.000,9, -999.000,9,    0.006,2,   1.9330,2,    11.49,2,   -163.6,2,      0.4,2,   -999.0,9,   -999.0,9,   -999.0,9,  -999.00,9, -999.00,     2.8,-999.0000,-999.000, -999.00,  -999.0,  0.6498,   0.003