BOTTLE,20220630CCHSIOAMB
EXPOCODE,SECT_ID,STNNBR,CASTNO,SAMPNO,BTLNBR,BTLNBR_FLAG_W,DATE,TIME,LATITUDE,LONGITUDE,DEPTH,CTDPRS,CTDTMP,CTDSAL,CTDSAL_FLAG_W,SALNTY,SALNTY_FLAG_W,CTDOXY,CTDOXY_FLAG_W,OXYGEN,OXYGEN_FLAG_W,SILCAT,SILCAT_FLAG_W,NITRAT,NITRAT_FLAG_W,NITRIT,NITRIT_FLAG_W,PHSPHT,PHSPHT_FLAG_W,CFC-11,CFC-11_FLAG_W,CFC-12,CFC-12_FLAG_W,CFC113,CFC113_FLAG_W,CCL4,CCL4_FLAG_W,TRITUM,TRITUM_FLAG_W,HELIUM,HELIUM_FLAG_W,DELHE3,DELHE3_FLAG_W,DELC14,DELC14_FLAG_W,DELC13,DELC13_FLAG_W,TCARBN,TCARBN_FLAG_W,PCO2,PCO2_FLAG_W,ALKALI,ALKALI_FLAG_W,PH,PH_FLAG_W,PCO2TMP,C14ERR,HELIER,DELHER,PH_TMP,C13ERR,THETA,TRITER
,,,,,,,,,,,,DBAR,ITS-90,PSS-78,,PSS-78,,UMOL/KG,,UMOL/KG,,UMOL/KG,,UMOL/KG,,UMOL/KG,,UMOL/KG,,PMOL/KG,,PMOL/KG,,PMOL/KG,,PMOL/KG,,TU,,NMOL/KG,,PERCNT,,/MILLE,,/MILLE,,UMOL/KG,,UATM,,UMOL/KG,,,,DEG C,/MILLE,NMOL/KG,PERCNT,DEG C,/MILLE,DEG C,TU
    31DSCG94_3,  P18N,   163,  1,    136,   1025,2,19940418,0923,  7.4983,-110.3350, 3939,      8.5,  28.9278,  33.9314,2,  33.9364,2,    197.1,2,    197.1,2,     1.23,2,     0.06,2,     0.00,2,     0.15,2,    1.651,6,    0.952,2, -999.000,5, -999.000,5, -999.000,9,-999.0000,9,  -999.00,9,     79.4,2,      1.5,2,   1902.4,2,    255.2,2,   2229.0,2,     8.12,2,   20.00,     5.3,-999.0000,-999.000,   25.00,  -999.0, 28.9257,-999.000
    31DSCG94_3,  P18N,   163,  1,    135,   1247,2,19940418,0923,  7.4983,-110.3350, 3939,     25.0,  28.9352,  33.9336,2,  33.9374,2,    193.6,2,    197.0,2,     1.24,2,     0.06,2,     0.00,2,     0.14,2,    1.623,2,    0.920,2, -999.000,5, -999.000,5, -999.000,9,-999.0000,9,  -999.00,9,     82.5,2,      1.6,2,   1899.4,2,    264.3,2,   2243.0,3,     8.12,2,   20.00,     3.1,-999.0000,-999.000,   25.00,  -999.0, 28.9291,-999.000
    31DSCG94_3,  P18N,   163,  1,    134,   1216,2,19940418,0923,  7.4983,-110.3350, 3939,     49.6,  27.2314,  34.0123,2,  34.0215,2,    202.8,2,    197.5,2,     1.32,2,     0.13,2,     0.00,2,     0.25,2,    1.639,2,    0.934,2, -999.000,5, -999.000,5, -999.000,9,-999.0000,9,  -999.00,9,     78.4,2,      1.6,2,   1928.8,2,    286.2,2,   2246.0,2,     8.09,2,   20.00,     3.6,-999.0000,-999.000,   25.00,  -999.0, 27.2200,-999.000
    31DSCG94_3,  P18N,   163,  1,    133,   1244,2,19940418,0923,  7.4983,-110.3350, 3939,     74.7,  14.9438,  34.7394,2,  34.7360,2,     65.5,2,     32.6,2,    19.69,2,    27.69,2,     0.09,2,     2.04,2,    0.814,2,    0.430,2, -999.000,9, -999.000,9, -999.000,9,-999.0000,9,  -999.00,9,     26.0,2,      0.0,2,   2198.4,2,   1125.5,2,   2283.0,2,     7.58,2,   20.00,     2.7,-999.0000,-999.000,   25.00,  -999.0, 14.9326,-999.000
    31DSCG94_3,  P18N,   163,  1,    132,   1003,2,19940418,0923,  7.4983,-110.3350, 3939,    100.2,  13.1627,  34.7844,2,  34.8176,3,     46.3,2,     35.8,2,    22.49,2,    29.25,2,     0.00,2,     2.08,2,    0.574,6,    0.312,6, -999.000,5, -999.000,5, -999.000,9,-999.0000,9,  -999.00,9,     11.9,2,      0.1,2,   2212.1,2,   1172.7,3,   2297.0,2,     7.56,2,   20.00,     3.5,-999.0000,-999.000,   25.00,  -999.0, 13.1489,-999.000
    31DSCG94_3,  P18N,   163,  1,    131,   1211,2,19940418,0923,  7.4983,-110.3350, 3939,    125.3,  12.8502,  34.8425,2,  34.8423,2,     41.3,2,     28.8,2,    23.53,2,    30.07,2,     0.00,2,     2.17,2,    0.463,2,    0.253,2, -999.000,9, -999.000,9, -999.000,9,-999.0000,9,  -999.00,9,   -999.0,9,   -999.0,9,   2221.1,2,   1237.4,2,   2301.0,2,     7.54,2,   20.00,  -999.0,-999.0000,-999.000,   25.00,  -999.0, 12.8332,-999.000
    31DSCG94_3,  P18N,   163,  1,    130,   1241,2,19940418,0923,  7.4983,-110.3350, 3939,    150.7,  11.9769,  34.7858,2,  34.7843,2,     35.6,2,     29.1,2,    26.02,2,    31.40,2,     0.00,2,     2.22,2,    0.369,2,    0.206,2, -999.000,5, -999.000,5, -999.000,9,-999.0000,9,  -999.00,9,    -24.3,2,      0.0,2,   2228.6,2,   1297.9,2,   2300.0,2,     7.52,2,   20.00,     2.7,-999.0000,-999.000,   25.00,  -999.0, 11.9574,-999.000
    31DSCG94_3,  P18N,   163,  1,    129,   1240,2,19940418,0923,  7.4983,-110.3350, 3939,    175.5,  11.6116,  34.7671,2,  34.7650,2,     31.7,2,     30.7,6,    26.98,2,    31.69,2,     0.00,2,     2.23,2,    0.324,2,    0.176,2, -999.000,9, -999.000,9, -999.000,9,-999.0000,9,  -999.00,9,   -999.0,9,   -999.0,9,   2231.9,2,   1312.3,2,   2291.0,2,     7.52,2,   20.00,  -999.0,-999.0000,-999.000,   25.00,  -999.0, 11.5893,-999.000
    31DSCG94_3,  P18N,   163,  1,    128,   1032,2,19940418,0923,  7.4983,-110.3350, 3939,    200.0,  11.2863,  34.7514,2,  34.7504,2,     29.2,2,     38.4,2,    27.75,2,    31.07,2,     0.00,2,     2.24,2,    0.314,2,    0.176,2, -999.000,5, -999.000,5, -999.000,9,-999.0000,9,  -999.00,9,    -43.5,2,      0.1,2,   2230.1,2,   1284.1,2,   2295.0,2,     7.52,2,   20.00,     2.7,-999.0000,-999.000,   25.00,  -999.0, 11.2613,-999.000
    31DSCG94_3,  P18N,   163,  1,    127,   1008,2,19940418,0923,  7.4983,-110.3350, 3939,    249.4,  10.8696,  34.7393,2,  34.7384,2,     27.7,2,     31.5,2,    29.76,2,    32.68,2,     0.00,2,     2.33,2,    0.232,2,    0.134,2, -999.000,9, -999.000,9, -999.000,9,-999.0000,9,  -999.00,9,   -999.0,9,   -999.0,9,   2240.1,2,   1378.9,2,   2294.0,2,     7.50,2,   20.00,  -999.0,-999.0000,-999.000,   25.00,  -999.0, 10.8391,-999.000
    31DSCG94_3,  P18N,   163,  1,    126,   1007,2,19940418,0923,  7.4983,-110.3350, 3939,    301.0,  10.4260,  34.7197,2,  34.7194,2,     29.1,2,     31.8,2,    31.33,2,    33.74,2,     0.00,2,     2.37,2,    0.185,6,    0.101,6, -999.000,5, -999.000,5, -999.000,9,-999.0000,9,  -999.00,9,    -64.4,2,      0.1,2,   2244.4,2,   1420.6,2,   2300.0,2,     7.49,2,   20.00,     2.9,-999.0000,-999.000,   25.00,  -999.0, 10.3901,-999.000
    31DSCG94_3,  P18N,   163,  1,    125,   1256,2,19940418,0923,  7.4983,-110.3350, 3939,    351.2,  10.1059,  34.7048,2,  34.7040,2,     29.3,2,      5.4,2,    32.92,2,    34.05,2,     0.00,2,     2.42,2,    0.145,2,    0.084,2, -999.000,9, -999.000,9, -999.000,9,-999.0000,9,  -999.00,9,   -999.0,9,   -999.0,9,   2249.1,2,   1451.1,2,   2299.0,2,     7.48,2,   20.00,  -999.0,-999.0000,-999.000,   25.00,  -999.0, 10.0647,-999.000
    31DSCG94_3,  P18N,   163,  1,    123,   1220,2,19940418,0923,  7.4983,-110.3350, 3939,    400.8,   9.5891,  34.6750,2,  34.6711,2,     21.0,2,      4.8,2,    38.86,2,    35.53,2,     0.00,2,     2.72,2,    0.038,6,    0.021,6, -999.000,5, -999.000,5, -999.000,9,-999.0000,9,  -999.00,9,    -95.3,2,     -0.1,2,   2277.2,2,   1750.6,2,   2299.0,2,     7.40,2,   20.00,     3.5,-999.0000,-999.000,   25.00,  -999.0,  9.5435,-999.000
    31DSCG94_3,  P18N,   163,  1,    122,   1245,2,19940418,0923,  7.4983,-110.3350, 3939,    499.3,   8.2238,  34.6196,2,  34.6186,2,      5.4,2,      1.3,2,    51.37,2,    37.10,2,     0.00,2,     3.02,2,    0.009,2,    0.003,2, -999.000,5, -999.000,5, -999.000,9,-999.0000,9,  -999.00,9,   -117.1,2,     -0.2,6,   2301.6,2,   1920.2,2,   2316.0,2,     7.37,2,   20.00,     4.0,-999.0000,-999.000,   25.00,  -999.0,  8.1718,-999.000
    31DSCG94_3,  P18N,   163,  1,    121,   1206,2,19940418,0923,  7.4983,-110.3350, 3939,    600.0,   7.1826,  34.5870,2,  34.5856,2,      4.0,2,      2.8,2,    59.96,2,    41.06,2,     0.00,2,     3.13,2,    0.003,2,    0.000,2, -999.000,9, -999.000,9, -999.000,9,-999.0000,9,  -999.00,9,   -130.5,2,     -0.2,2,   2313.8,2,   1988.8,2,   2319.0,2,     7.35,2,   20.00,     3.2,-999.0000,-999.000,   25.00,  -999.0,  7.1243,-999.000
    31DSCG94_3,  P18N,   163,  1,    120,   1028,2,19940418,0923,  7.4983,-110.3350, 3939,    701.3,   6.3838,  34.5719,2,  34.5704,2,      5.9,2,      5.7,2,    69.32,2,    42.78,2,     0.00,2,     3.19,2,    0.010,2,    0.000,2, -999.000,5, -999.000,5, -999.000,9,-999.0000,9,  -999.00,9,   -151.8,2,     -0.1,2,   2322.2,2,   2013.8,2,   2325.0,2,     7.35,2,   20.00,     2.4,-999.0000,-999.000,   25.00,  -999.0,  6.3194,-999.000
    31DSCG94_3,  P18N,   163,  1,    119,   1248,2,19940418,0923,  7.4983,-110.3350, 3939,    800.9,   5.7328,  34.5626,2,  34.5623,2,     12.1,2,     14.7,2,    78.46,2,    43.90,2,     0.00,2,     3.22,2,    0.004,2,    0.002,2, -999.000,9, -999.000,9, -999.000,9,-999.0000,9,  -999.00,9,   -152.7,2,     -0.2,2,   2327.6,2,   1989.0,2,   2337.0,2,     7.35,2,   20.00,     2.4,-999.0000,-999.000,   25.00,  -999.0,  5.6627,-999.000
    31DSCG94_3,  P18N,   163,  1,    118,   1115,2,19940418,0923,  7.4983,-110.3350, 3939,    898.8,   5.1838,  34.5606,2,  34.5600,2,     20.0,2,     24.1,2,    87.04,2,    44.73,2,     0.00,2,     3.20,2,    0.004,2,    0.001,2, -999.000,9, -999.000,9, -999.000,9,-999.0000,9,  -999.00,9,   -174.9,6,     -0.2,2,   2333.5,2,   1929.9,2,   2345.0,2,     7.37,2,   20.00,     8.4,-999.0000,-999.000,   25.00,  -999.0,  5.1082,-999.000
    31DSCG94_3,  P18N,   163,  1,    117,   1119,2,19940418,0923,  7.4983,-110.3350, 3939,   1000.7,   4.7411,  34.5629,2,  34.5616,2,     31.9,2,     38.1,2,    92.15,2,    44.00,2,     0.00,2,     3.15,2,   -0.001,2,    0.000,2, -999.000,5, -999.000,5, -999.000,9,-999.0000,9,  -999.00,9,   -174.6,2,     -0.1,2,   2336.0,2,   1839.4,2,   2350.0,3,     7.39,2,   20.00,     2.4,-999.0000,-999.000,   25.00,  -999.0,  4.6596,-999.000
    31DSCG94_3,  P18N,   163,  1,    116,   1036,2,19940418,0923,  7.4983,-110.3350, 3939,   1199.9,   4.0283,  34.5734,2,  34.5736,2,     49.9,2,     52.8,2,   105.97,2,    42.64,2,     0.00,2,     3.09,2, -999.000,9, -999.000,9, -999.000,9, -999.000,9, -999.000,9,   1.8570,2,    20.71,2,   -212.2,2,     -0.1,2,   2338.5,2,   1739.6,2,   2372.0,2,     7.42,2,   20.00,     3.5,-999.0000,-999.000,   25.00,  -999.0,  3.9353,-999.000
    31DSCG94_3,  P18N,   163,  1,    115,   1017,2,19940418,0923,  7.4983,-110.3350, 3939,   1398.1,   3.4300,  34.5935,2,  34.5930,2,     55.4,2,     58.1,2,   121.61,2,    42.05,2,     0.00,2,     3.07,2,   -0.002,2,    0.001,2, -999.000,5, -999.000,5, -999.000,9,-999.0000,9,  -999.00,9,   -221.9,2,     -0.2,2,   2354.7,2,   1720.0,2,   2383.0,2,     7.43,2,   20.00,     3.5,-999.0000,-999.000,   25.00,  -999.0,  3.3259,-999.000
    31DSCG94_3,  P18N,   163,  1,    114,   1016,2,19940418,0923,  7.4983,-110.3350, 3939,   1599.5,   3.0039,  34.6085,2,  34.6096,2,     70.3,2,     70.4,2,   130.38,2,    41.92,2,     0.00,2,     3.00,2, -999.000,9, -999.000,9, -999.000,9, -999.000,9, -999.000,9,   1.8840,2,    25.86,2,   -229.2,2,     -0.2,2,   2355.4,2,   1624.6,2,   2399.0,2,     7.45,2,   20.00,     4.8,-999.0000,-999.000,   25.00,  -999.0,  2.8875,-999.000
    31DSCG94_3,  P18N,   163,  1,    113,   1209,2,19940418,0923,  7.4983,-110.3350, 3939,   1798.2,   2.6369,  34.6214,2,  34.6227,2,     83.2,2,     81.5,6,   137.52,2,    41.03,2,     0.00,2,     2.92,2, -999.000,9, -999.000,9, -999.000,9, -999.000,9, -999.000,9,   1.8700,3,    26.63,2,   -999.0,9,   -999.0,9,   2357.0,2,   1562.8,2,   2403.0,2,     7.47,2,   20.00,  -999.0,-999.0000,-999.000,   25.00,  -999.0,  2.5083,-999.000
    31DSCG94_3,  P18N,   163,  1,    112,   1033,2,19940418,0923,  7.4983,-110.3350, 3939,   1999.8,   2.3391,  34.6353,2,  34.6347,2,     93.3,2,     89.4,2,   144.42,2,    40.13,2,     0.00,2,     2.87,2,    0.002,2,    0.001,2, -999.000,9, -999.000,9, -999.000,9,   1.9180,2,    27.87,2,   -234.2,2,     -0.1,2,   2357.7,2,   1506.2,2,   2413.0,2,     7.48,2,   20.00,     2.9,-999.0000,-999.000,   25.00,  -999.0,  2.1975,-999.000
    31DSCG94_3,  P18N,   163,  1,    111,   1240,2,19940418,0923,  7.4983,-110.3350, 3939,   2198.3,   2.0778,  34.6520,2,  34.6513,2,     98.6,2,     96.6,2,   151.91,2,    39.53,2,     0.00,2,     2.81,2, -999.000,9, -999.000,9, -999.000,9, -999.000,9, -999.000,9,-999.0000,9,  -999.00,9,   -999.0,9,   -999.0,9,   2362.6,2,   1462.0,2,   2425.0,2,     7.50,2,   20.00,  -999.0,-999.0000,-999.000,   25.00,  -999.0,  1.9231,-999.000
    31DSCG94_3,  P18N,   163,  1,    110,   1005,2,19940418,0923,  7.4983,-110.3350, 3939,   2400.9,   1.9040,  34.6620,2,  34.6626,2,    104.5,2,    105.2,2,   155.79,2,    38.81,2,     0.00,2,     2.75,2, -999.000,9, -999.000,9, -999.000,9, -999.000,9, -999.000,9,   1.9500,2,    34.22,2,   -240.3,2,     -0.1,2,   2361.5,2,   1392.7,2,   2426.0,2,     7.52,2,   20.00,     2.5,-999.0000,-999.000,   25.00,  -999.0,  1.7344,-999.000
    31DSCG94_3,  P18N,   163,  1,    109,   1611,2,19940418,0923,  7.4983,-110.3350, 3939,   2601.7,   1.8523,  34.6661,2,  34.6670,2,    108.9,2,    108.5,2,   160.58,2,    38.46,2,     0.00,2,     2.72,2,   -0.001,2,    0.000,2, -999.000,5, -999.000,5, -999.000,9,-999.0000,9,  -999.00,9,   -999.0,9,   -999.0,9,   2360.9,2,   1367.9,2,   2427.0,2,     7.52,2,   20.00,  -999.0,-999.0000,-999.000,   25.00,  -999.0,  1.6654,-999.000
    31DSCG94_3,  P18N,   163,  1,    108,   1218,2,19940418,0923,  7.4983,-110.3350, 3939,   2800.0,   1.7899,  34.6704,2,  34.6703,2,    113.5,2,    113.2,2,   160.51,2,    39.07,2,     0.00,2,     2.70,2, -999.000,9, -999.000,9, -999.000,9, -999.000,9, -999.000,9,   1.9310,2,    33.44,2,   -999.0,9,   -999.0,9,   2358.9,2,   1334.1,2,   2432.0,2,     7.53,2,   20.00,  -999.0,-999.0000,-999.000,   25.00,  -999.0,  1.5858,-999.000
    31DSCG94_3,  P18N,   163,  1,    107,   1257,2,19940418,0923,  7.4983,-110.3350, 3939,   2999.5,   1.6896,  34.6755,2,  34.6750,2,    120.4,2,    125.0,3,   160.36,2,    37.80,3,     0.00,2,     2.66,2, -999.000,9, -999.000,9, -999.000,9, -999.000,9, -999.000,9,-999.0000,9,  -999.00,9,   -248.5,2,     -0.1,2,   2353.9,2,   1285.8,2,   2433.0,2,     7.55,2,   20.00,     6.1,-999.0000,-999.000,   25.00,  -999.0,  1.4686,-999.000
    31DSCG94_3,  P18N,   163,  1,    106,   1224,2,19940418,0923,  7.4983,-110.3350, 3939,   3201.0,   1.6311,  34.6786,2,  34.6783,2,    126.2,2,    128.8,2,   158.59,2,    38.07,2,     0.00,2,     2.63,2,    0.000,2,    0.001,2, -999.000,5, -999.000,5, -999.000,9,   1.9260,2,    25.90,2,   -999.0,9,   -999.0,9,   2350.4,2,   1259.1,2,   2433.0,2,     7.56,2,   20.00,  -999.0,-999.0000,-999.000,   25.00,  -999.0,  1.3918,-999.000
    31DSCG94_3,  P18N,   163,  1,    105,   1246,2,19940418,0923,  7.4983,-110.3350, 3939,   3400.9,   1.5666,  34.6823,2,  34.6816,2,    133.0,2,    135.7,2,   157.01,2,    37.61,2,     0.02,2,     2.58,2, -999.000,9, -999.000,9, -999.000,9, -999.000,9, -999.000,9,   1.9130,2,    22.33,2,   -235.8,2,     -0.0,2,   2345.8,2,   1219.0,2,   2438.0,2,     7.57,2,   20.00,     5.9,-999.0000,-999.000,   25.00,  -999.0,  1.3088,-999.000
    31DSCG94_3,  P18N,   163,  1,    104,   1217,2,19940418,0923,  7.4983,-110.3350, 3939,   3598.3,   1.5489,  34.6839,2,  34.6845,2,    137.2,2,    138.8,2,   155.55,2,    37.84,2,     0.00,2,     2.58,2, -999.000,9, -999.000,9, -999.000,9, -999.000,9, -999.000,9,   1.9060,2,    21.33,2,   -999.0,9,   -999.0,9,   2343.4,2,   1200.9,2,   2438.0,2,     7.57,2,   20.00,  -999.0,-999.0000,-999.000,   25.00,  -999.0,  1.2714,-999.000
    31DSCG94_3,  P18N,   163,  1,    103,   9999,2,19940418,0923,  7.4983,-110.3350, 3939,   3795.8,   1.5478,  34.6850,2,  34.6856,2,    140.3,2,    140.7,6,   154.98,2,    37.35,2,     0.00,2,     2.56,2,    0.004,2,   -0.002,2, -999.000,5, -999.000,5, -999.000,9,-999.0000,9,  -999.00,9,   -999.0,9,   -999.0,9,   2341.7,2,   1190.1,2,   2436.0,2,     7.58,2,   20.00,  -999.0,-999.0000,-999.000,   25.00,  -999.0,  1.2495,-999.000
    31DSCG94_3,  P18N,   163,  1,    102,   1223,2,19940418,0923,  7.4983,-110.3350, 3939,   3797.2,   1.5477,  34.6850,2,  34.6851,2,    140.3,2,    141.1,2,   154.62,2,    37.34,2,     0.00,2,     2.57,2, -999.000,9, -999.000,9, -999.000,9, -999.000,9, -999.000,9,   1.8980,2,    19.99,2,   -999.0,9,   -999.0,9,   2341.5,2,   1182.4,3,   2430.0,2,     7.58,2,   20.00,  -999.0,-999.0000,-999.000,   25.00,  -999.0,  1.2493,-999.000
    31DSCG94_3,  P18N,   163,  1,    101,   1041,2,19940418,0923,  7.4983,-110.3350, 3939,   3984.0,   1.5467,  34.6860,2,  34.6855,2,    141.1,2,    142.8,2,   154.15,2,    37.21,2,     0.00,2,     2.55,2, -999.000,9, -999.000,9, -999.000,9, -999.000,9, -999.000,9,-999.0000,9,  -999.00,9,   -233.7,2,      0.0,2,   2340.9,2,   1172.5,2,   2435.0,2,     7.58,2,   20.00,     2.6,-999.0000,-999.000,   25.00,  -999.0,  1.2282,-999.000