BOTTLE,20220630CCHSIOAMB
EXPOCODE,SECT_ID,STNNBR,CASTNO,SAMPNO,BTLNBR,BTLNBR_FLAG_W,DATE,TIME,LATITUDE,LONGITUDE,DEPTH,CTDPRS,CTDTMP,CTDSAL,CTDSAL_FLAG_W,SALNTY,SALNTY_FLAG_W,CTDOXY,CTDOXY_FLAG_W,OXYGEN,OXYGEN_FLAG_W,SILCAT,SILCAT_FLAG_W,NITRAT,NITRAT_FLAG_W,NITRIT,NITRIT_FLAG_W,PHSPHT,PHSPHT_FLAG_W,CFC-11,CFC-11_FLAG_W,CFC-12,CFC-12_FLAG_W,CFC113,CFC113_FLAG_W,CCL4,CCL4_FLAG_W,TRITUM,TRITUM_FLAG_W,HELIUM,HELIUM_FLAG_W,DELHE3,DELHE3_FLAG_W,DELC14,DELC14_FLAG_W,DELC13,DELC13_FLAG_W,TCARBN,TCARBN_FLAG_W,PCO2,PCO2_FLAG_W,ALKALI,ALKALI_FLAG_W,PH,PH_FLAG_W,PCO2TMP,C14ERR,HELIER,DELHER,PH_TMP,C13ERR,THETA,TRITER
,,,,,,,,,,,,DBAR,ITS-90,PSS-78,,PSS-78,,UMOL/KG,,UMOL/KG,,UMOL/KG,,UMOL/KG,,UMOL/KG,,UMOL/KG,,PMOL/KG,,PMOL/KG,,PMOL/KG,,PMOL/KG,,TU,,NMOL/KG,,PERCNT,,/MILLE,,/MILLE,,UMOL/KG,,UATM,,UMOL/KG,,,,DEG C,/MILLE,NMOL/KG,PERCNT,DEG C,/MILLE,DEG C,TU
    31DSCG94_3,  P18N,   156,  1,    136,   1025,2,19940416,1212,  4.0020,-110.3348, 3868,      9.2,  27.9636,  34.4501,2,  34.4523,2,    168.7,2,    205.5,6,     1.65,2,     1.53,2,     0.00,2,     0.35,2,    1.825,2,    0.971,2, -999.000,5, -999.000,5,    1.026,2,   1.7581,2,    -0.76,2,     71.8,2,      1.6,2,   1966.7,2,    305.9,2,   2264.0,2,     8.06,2,   20.00,     4.6,-999.0000,-999.000,   25.00,  -999.0, 27.9614,   0.009
    31DSCG94_3,  P18N,   156,  1,    135,   1247,2,19940416,1212,  4.0020,-110.3348, 3868,     24.7,  25.9790,  34.4048,2,  34.4239,2,    170.0,2,    199.5,2,     2.49,2,     0.97,2,     0.04,2,     0.37,2,    1.732,2,    0.956,2, -999.000,5, -999.000,5, -999.000,9,-999.0000,9,  -999.00,9,     79.8,2,      1.4,2,   -999.0,9,   -999.0,9,   -999.0,9,  -999.00,9, -999.00,     8.0,-999.0000,-999.000, -999.00,  -999.0, 25.9735,-999.000
    31DSCG94_3,  P18N,   156,  1,    134,   1216,2,19940416,1212,  4.0020,-110.3348, 3868,     50.7,  19.7167,  34.7169,2,  34.7226,2,    103.4,2,    115.8,2,    10.37,2,    13.48,2,     0.69,2,     1.19,2,    1.458,2,    0.796,2, -999.000,5, -999.000,5,    1.113,2,-999.0000,9,  -999.00,9,     51.8,2,      0.6,2,   2102.5,2,    593.6,2,   2279.0,2,  -999.00,9,   20.00,     4.3,-999.0000,-999.000, -999.00,  -999.0, 19.7074,   0.009
    31DSCG94_3,  P18N,   156,  1,    133,   1244,2,19940416,1212,  4.0020,-110.3348, 3868,     76.4,  15.9599,  34.9062,2,  34.9242,2,     72.6,2,     72.6,2,    15.92,2,    21.72,2,     0.77,2,     1.66,2,    1.002,2,    0.531,2, -999.000,9, -999.000,9, -999.000,9,-999.0000,9,  -999.00,9,     32.5,2,      0.4,2,   -999.0,9,   -999.0,9,   -999.0,9,     7.69,2, -999.00,     5.8,-999.0000,-999.000,   25.00,  -999.0, 15.9478,-999.000
    31DSCG94_3,  P18N,   156,  1,    132,   1003,2,19940416,1212,  4.0020,-110.3348, 3868,     99.7,  14.4943,  34.9468,2,  34.9467,2,     60.1,2,     61.9,2,    17.54,2,    24.59,2,     0.04,2,     1.78,2,    0.872,6,    0.457,6, -999.000,5, -999.000,5,    0.638,2,   1.7898,2,     5.39,2,     34.3,2,      0.3,2,   2183.7,2,    905.2,2,   2293.0,2,     7.66,2,   20.00,     3.9,-999.0000,-999.000,   25.00,  -999.0, 14.4796,   0.007
    31DSCG94_3,  P18N,   156,  1,    131,   1211,2,19940416,1212,  4.0020,-110.3348, 3868,    124.5,  13.9602,  34.9368,2,  34.9368,2,     54.1,2,     55.5,2,    18.86,2,    25.86,2,     0.00,2,     1.85,2,    0.735,2,    0.394,2, -999.000,9, -999.000,9, -999.000,9,-999.0000,9,  -999.00,9,   -999.0,9,      0.2,2,   -999.0,9,   -999.0,9,   -999.0,9,     7.63,2, -999.00,  -999.0,-999.0000,-999.000,   25.00,  -999.0, 13.9423,-999.000
    31DSCG94_3,  P18N,   156,  1,    130,   1241,2,19940416,1212,  4.0020,-110.3348, 3868,    148.5,  13.6871,  34.9305,2,  34.9300,2,     49.3,2,     52.2,2,    19.80,2,    26.55,2,     0.00,2,     1.91,2,    0.671,2,    0.357,2, -999.000,9, -999.000,9,    0.539,2,   1.7973,2,     5.74,2,     14.8,2,      0.3,2,   2197.5,2,   -999.0,9,   2294.0,2,     7.62,2, -999.00,     4.5,-999.0000,-999.000,   25.00,  -999.0, 13.6660,   0.007
    31DSCG94_3,  P18N,   156,  1,    129,   1240,2,19940416,1212,  4.0020,-110.3348, 3868,    168.5,  13.4624,  34.9204,2,  34.9194,2,     46.0,2,     46.9,2,    21.27,2,    26.93,2,     0.00,2,     1.98,2,    0.603,2,    0.327,2, -999.000,9, -999.000,9, -999.000,9,-999.0000,9,  -999.00,9,      2.5,2,      0.2,2,   -999.0,9,   -999.0,9,   -999.0,9,     7.60,2, -999.00,     4.3,-999.0000,-999.000,   25.00,  -999.0, 13.4387,-999.000
    31DSCG94_3,  P18N,   156,  1,    128,   1032,2,19940416,1212,  4.0020,-110.3348, 3868,    197.6,  13.1325,  34.9020,2,  34.9010,2,     39.8,2,     41.8,2,    22.78,2,    28.12,2,     0.00,2,     2.04,2,    0.540,2,    0.308,2, -999.000,5, -999.000,5,    0.421,2,   1.7951,2,     5.95,2,     -3.9,2,      0.2,2,   2209.9,2,   1105.3,2,   2296.0,2,     7.58,2,   20.00,     8.0,-999.0000,-999.000,   25.00,  -999.0, 13.1052,   0.006
    31DSCG94_3,  P18N,   156,  1,    127,   1008,2,19940416,1212,  4.0020,-110.3348, 3868,    249.6,  12.4492,  34.8539,2,  34.8529,2,     29.4,2,     25.5,2,    25.66,2,    30.93,2,     0.00,2,     2.19,2,    0.378,2,    0.211,2, -999.000,9, -999.000,9,    0.415,2,   1.8094,2,     6.21,2,    -22.6,2,      0.1,2,   2229.4,2,   -999.0,9,   2293.0,2,     7.53,2, -999.00,     3.1,-999.0000,-999.000,   25.00,  -999.0, 12.4158,   0.007
    31DSCG94_3,  P18N,   156,  1,    126,   1007,2,19940416,1212,  4.0020,-110.3348, 3868,    302.6,  11.7922,  34.8095,2,  34.8079,2,     25.4,2,     22.8,2,    27.92,2,    31.95,2,     0.00,2,     2.28,2,    0.306,6,    0.165,2, -999.000,5, -999.000,5,    0.258,2,   1.8130,2,     6.42,2,   -999.0,5,      0.0,2,   2237.4,2,   1348.6,2,   2298.0,2,     7.50,2,   20.00,  -999.0,-999.0000,-999.000,   25.00,  -999.0, 11.7530,   0.005
    31DSCG94_3,  P18N,   156,  1,    125,   1256,2,19940416,1212,  4.0020,-110.3348, 3868,    350.4,  10.9522,  34.7487,2,  34.7500,2,     33.4,2,     54.2,2,    28.70,2,    30.16,2,     0.00,2,     2.15,2,    0.332,2,    0.184,2, -999.000,9, -999.000,9,    0.353,2,   1.8094,2,     6.57,2,    -63.2,2,      0.3,2,   -999.0,9,   -999.0,9,   -999.0,9,     7.55,3, -999.00,     5.7,-999.0000,-999.000,   25.00,  -999.0, 10.9089,   0.006
    31DSCG94_3,  P18N,   156,  1,    123,   1220,2,19940416,1212,  4.0020,-110.3348, 3868,    399.8,  10.2529,  34.7117,2,  34.7125,2,     32.5,2,     34.9,2,    32.49,2,    33.15,2,     0.00,2,     2.37,2,    0.181,2,    0.098,2, -999.000,9, -999.000,9, -999.000,9,   1.8237,2,     7.11,2,    -73.9,2,      0.1,2,   2244.1,2,   1406.5,2,   2299.0,2,     7.49,2,   20.00,     5.9,-999.0000,-999.000,   25.00,  -999.0, 10.2055,-999.000
    31DSCG94_3,  P18N,   156,  1,    122,   1245,2,19940416,1212,  4.0020,-110.3348, 3868,    498.8,   8.4277,  34.6419,2,  34.6433,2,     17.1,2,      8.0,2,    46.12,2,    38.79,2,     0.00,2,     2.88,2,    0.020,6,    0.008,6, -999.000,5, -999.000,5,    0.030,2,   1.8187,2,     7.42,2,   -117.9,2,     -0.1,2,   2287.8,2,   1810.0,2,   2306.0,2,     7.39,3,   20.00,     3.4,-999.0000,-999.000,   25.00,  -999.0,  8.3749,   0.004
    31DSCG94_3,  P18N,   156,  1,    121,   1206,2,19940416,1212,  4.0020,-110.3348, 3868,    601.6,   7.3220,  34.5916,2,  34.5898,2,     38.2,2,     40.0,2,    49.10,2,    39.88,2,     0.00,2,     2.80,2,    0.019,2,    0.011,2, -999.000,5, -999.000,5,    0.022,2,   1.8259,2,     8.68,2,   -126.9,2,      0.1,2,   2275.0,2,   1636.8,2,   2309.0,2,     7.43,2,   20.00,     2.6,-999.0000,-999.000,   25.00,  -999.0,  7.2630,   0.003
    31DSCG94_3,  P18N,   156,  1,    120,   1028,2,19940416,1212,  4.0020,-110.3348, 3868,    699.3,   6.5662,  34.5642,2,  34.5630,2,     45.5,2,     49.8,2,    55.12,2,    40.56,2,     0.00,2,     2.85,2,    0.019,2,    0.003,2, -999.000,9, -999.000,9,    0.010,2,   1.8254,2,    10.27,2,   -152.6,2,      0.2,2,   2278.9,2,   1614.8,2,   2319.0,2,     7.44,2,   20.00,     5.0,-999.0000,-999.000,   25.00,  -999.0,  6.5011,   0.003
    31DSCG94_3,  P18N,   156,  1,    119,   1248,2,19940416,1212,  4.0020,-110.3348, 3868,    801.7,   6.0103,  34.5562,2,  34.5568,2,     47.4,2,     49.2,2,    62.86,2,    42.08,2,     0.00,2,     2.91,2,    0.002,2,   -0.001,2, -999.000,9, -999.000,9,    0.005,2,   1.8482,2,    12.33,2,   -141.9,2,     -0.4,3,   2290.5,2,   1659.9,2,   2325.0,2,     7.43,2,   20.00,     2.5,-999.0000,-999.000,   25.00,  -999.0,  5.9384,   0.003
    31DSCG94_3,  P18N,   156,  1,    118,   1115,2,19940416,1212,  4.0020,-110.3348, 3868,    901.7,   5.3715,  34.5516,2,  34.5515,2,     51.2,2,     50.8,2,    73.41,2,    42.84,2,     0.00,2,     2.97,2,    0.000,2,   -0.002,2, -999.000,9, -999.000,9, -999.000,9,-999.0000,9,  -999.00,9,   -999.0,5,      0.0,2,   2301.6,2,   1680.0,2,   2334.0,2,     7.42,2,   20.00,  -999.0,-999.0000,-999.000,   25.00,  -999.0,  5.2944,-999.000
    31DSCG94_3,  P18N,   156,  1,    117,   1119,2,19940416,1212,  4.0020,-110.3348, 3868,   1001.9,   4.8465,  34.5551,2,  34.5551,2,     52.1,2,     53.2,2,    85.38,2,    43.07,2,     0.00,2,     3.07,2,    0.003,2,    0.001,2, -999.000,9, -999.000,9,    0.005,2,-999.0000,9,  -999.00,9,   -184.0,2,      0.0,2,   2313.7,2,   1695.6,2,   2348.0,2,     7.42,2,   20.00,     2.5,-999.0000,-999.000,   25.00,  -999.0,  4.7641,   0.003
    31DSCG94_3,  P18N,   156,  1,    116,   1036,2,19940416,1212,  4.0020,-110.3348, 3868,   1100.7,   4.4728,  34.5637,2,  34.5630,2,     54.5,2,     53.8,2,    97.05,2,    43.10,2,     0.00,2,     3.08,2, -999.000,9, -999.000,9, -999.000,9, -999.000,9,    0.007,2,-999.0000,9,  -999.00,9,   -194.1,2,     -0.0,2,   -999.0,9,   -999.0,9,   -999.0,9,     7.42,2, -999.00,     2.5,-999.0000,-999.000,   25.00,  -999.0,  4.3846,   0.005
    31DSCG94_3,  P18N,   156,  1,    115,   1017,2,19940416,1212,  4.0020,-110.3348, 3868,   1199.7,   4.0147,  34.5752,2,  34.5752,2,     59.9,2,     59.0,2,   107.58,2,    42.80,2,     0.00,2,     3.08,2,    0.014,2,    0.001,2, -999.000,9, -999.000,9, -999.000,9,-999.0000,9,  -999.00,9,   -999.0,5,     -0.1,2,   -999.0,9,   -999.0,9,   -999.0,9,  -999.00,9, -999.00,  -999.0,-999.0000,-999.000, -999.00,  -999.0,  3.9219,-999.000
    31DSCG94_3,  P18N,   156,  1,    114,   1016,2,19940416,1212,  4.0020,-110.3348, 3868,   1301.3,   3.6917,  34.5831,2,  34.5830,2,     66.3,2,     67.2,2,   112.89,2,    42.24,2,     0.00,2,     3.02,2, -999.000,9, -999.000,9, -999.000,9, -999.000,9,    0.007,2,-999.0000,9,  -999.00,9,   -202.4,2,     -0.1,2,   -999.0,9,   -999.0,9,   -999.0,9,     7.45,2, -999.00,     2.8,-999.0000,-999.000,   25.00,  -999.0,  3.5932,   0.003
    31DSCG94_3,  P18N,   156,  1,    113,   1209,2,19940416,1212,  4.0020,-110.3348, 3868,   1400.4,   3.4263,  34.5930,2,  34.5930,2,     71.9,2,     71.2,2,   117.47,2,    41.96,2,     0.00,2,     2.96,2,    0.002,2,    0.000,2, -999.000,9, -999.000,9, -999.000,9,-999.0000,9,  -999.00,9,   -999.0,9,   -999.0,5,   -999.0,9,   -999.0,9,   -999.0,9,  -999.00,9, -999.00,  -999.0,-999.0000,-999.000, -999.00,  -999.0,  3.3220,-999.000
    31DSCG94_3,  P18N,   156,  1,    112,   1033,2,19940416,1212,  4.0020,-110.3348, 3868,   1600.9,   2.9412,  34.6140,2,  34.6141,2,     80.5,2,     80.2,2,   129.79,2,    41.43,2,     0.00,2,     2.96,2, -999.000,9, -999.000,9, -999.000,9, -999.000,9, -999.000,9,-999.0000,9,  -999.00,9,   -220.9,2,     -0.1,2,   -999.0,9,   -999.0,9,   -999.0,9,     7.47,2, -999.00,     3.1,-999.0000,-999.000,   25.00,  -999.0,  2.8255,-999.000
    31DSCG94_3,  P18N,   156,  1,    111,   1240,2,19940416,1212,  4.0020,-110.3348, 3868,   1802.0,   2.5612,  34.6286,2,  34.6295,2,     93.4,2,     90.6,6,   135.64,2,    40.89,2,     0.00,2,     2.89,2,    0.004,2,   -0.002,2, -999.000,9, -999.000,9, -999.000,9,-999.0000,9,  -999.00,9,   -237.9,2,     -0.1,2,   -999.0,9,   -999.0,9,   -999.0,9,  -999.00,9, -999.00,     3.4,-999.0000,-999.000, -999.00,  -999.0,  2.4333,-999.000
    31DSCG94_3,  P18N,   156,  1,    110,   1005,2,19940416,1212,  4.0020,-110.3348, 3868,   1999.5,   2.3200,  34.6399,2,  34.6397,2,    101.7,2,     98.4,2,   141.93,2,    40.23,2,     0.00,2,     2.84,2, -999.000,9, -999.000,9, -999.000,9, -999.000,9, -999.000,9,-999.0000,9,  -999.00,9,   -232.4,2,     -0.1,2,   -999.0,9,   -999.0,9,   -999.0,9,     7.50,2, -999.00,     3.2,-999.0000,-999.000,   25.00,  -999.0,  2.1787,-999.000
    31DSCG94_3,  P18N,   156,  1,    109,   1611,2,19940416,1212,  4.0020,-110.3348, 3868,   2239.9,   2.0758,  34.6526,2,  34.6529,2,    109.7,2,    108.8,2,   150.37,2,    39.48,2,     0.00,2,     2.77,2,    0.004,2,    0.007,2, -999.000,9, -999.000,9, -999.000,9,-999.0000,9,  -999.00,9,   -242.3,2,     -0.1,2,   -999.0,9,   -999.0,9,   -999.0,9,  -999.00,9, -999.00,     2.6,-999.0000,-999.000, -999.00,  -999.0,  1.9174,-999.000
    31DSCG94_3,  P18N,   156,  1,    108,   1218,2,19940416,1212,  4.0020,-110.3348, 3868,   2501.0,   1.8759,  34.6635,2,  34.6637,2,    117.2,2,    115.2,2,   156.15,2,    38.79,2,     0.00,2,     2.69,2, -999.000,9, -999.000,9, -999.000,9, -999.000,9, -999.000,9,-999.0000,9,  -999.00,9,   -238.6,2,     -0.1,2,   -999.0,9,   -999.0,9,   -999.0,9,     7.53,2, -999.00,     2.4,-999.0000,-999.000,   25.00,  -999.0,  1.6978,-999.000
    31DSCG94_3,  P18N,   156,  1,    107,   1257,2,19940416,1212,  4.0020,-110.3348, 3868,   2751.3,   1.8175,  34.6684,2,  34.6680,2,    117.0,2,    115.4,2,   157.19,2,    38.82,2,     0.00,2,     2.68,2, -999.000,9, -999.000,9, -999.000,9, -999.000,9, -999.000,9,-999.0000,9,  -999.00,9,   -999.0,5,     -0.1,2,   -999.0,9,   -999.0,9,   -999.0,9,  -999.00,9, -999.00,  -999.0,-999.0000,-999.000, -999.00,  -999.0,  1.6174,-999.000
    31DSCG94_3,  P18N,   156,  1,    106,   1224,2,19940416,1212,  4.0020,-110.3348, 3868,   2998.7,   1.7629,  34.6719,2,  34.6717,2,    123.1,2,    120.7,2,   155.31,2,    36.97,3,     0.00,2,     2.54,3,    0.008,2,   -0.002,2, -999.000,9, -999.000,9, -999.000,9,-999.0000,9,  -999.00,9,   -228.7,2,     -0.0,2,   -999.0,9,   -999.0,9,   -999.0,9,     7.55,2, -999.00,     2.3,-999.0000,-999.000,   25.00,  -999.0,  1.5404,-999.000
    31DSCG94_3,  P18N,   156,  1,    105,   1246,2,19940416,1212,  4.0020,-110.3348, 3868,   3251.7,   1.6168,  34.6789,2,  34.6784,2,    132.0,2,    133.2,2,   154.73,2,    37.56,2,     0.00,2,     2.59,2, -999.000,9, -999.000,9, -999.000,9, -999.000,9, -999.000,9,-999.0000,9,  -999.00,9,   -230.7,2,      0.0,2,   -999.0,9,   -999.0,9,   -999.0,9,  -999.00,9, -999.00,     2.4,-999.0000,-999.000, -999.00,  -999.0,  1.3728,-999.000
    31DSCG94_3,  P18N,   156,  1,    104,   1217,2,19940416,1212,  4.0020,-110.3348, 3868,   3499.9,   1.4943,  34.6858,2,  34.6861,2,    141.9,2,    143.2,2,   153.44,2,    36.74,2,     0.00,2,     2.53,2, -999.000,9, -999.000,9, -999.000,9, -999.000,9, -999.000,9,-999.0000,9,  -999.00,9,   -229.3,2,      0.1,2,   -999.0,9,   -999.0,9,   -999.0,9,     7.58,2, -999.00,     2.4,-999.0000,-999.000,   25.00,  -999.0,  1.2283,-999.000
    31DSCG94_3,  P18N,   156,  1,    103,   9999,2,19940416,1212,  4.0020,-110.3348, 3868,   3750.4,   1.4649,  34.6884,2,  34.6895,2,    149.3,2,    148.2,6,   151.77,2,    36.49,2,     0.00,2,     2.52,2,    0.002,2,    0.003,2, -999.000,5, -999.000,5, -999.000,9,-999.0000,9,  -999.00,9,   -999.0,9,   -999.0,9,   -999.0,9,   -999.0,9,   -999.0,9,  -999.00,9, -999.00,  -999.0,-999.0000,-999.000, -999.00,  -999.0,  1.1737,-999.000
    31DSCG94_3,  P18N,   156,  1,    102,   1223,2,19940416,1212,  4.0020,-110.3348, 3868,   3750.8,   1.4650,  34.6882,2,  34.6881,2,    149.3,2,    148.4,2,   151.02,2,    36.23,2,     0.00,2,     2.49,2, -999.000,9, -999.000,9, -999.000,9, -999.000,9, -999.000,9,-999.0000,9,  -999.00,9,   -221.2,2,      0.1,2,   -999.0,9,   -999.0,9,   -999.0,9,     7.59,2, -999.00,     2.5,-999.0000,-999.000,   25.00,  -999.0,  1.1737,-999.000
    31DSCG94_3,  P18N,   156,  1,    101,   1041,2,19940416,1212,  4.0020,-110.3348, 3868,   3902.1,   1.4767,  34.6885,2,  34.6890,2,    150.3,2,    149.3,2,   150.96,2,    36.03,2,     0.00,2,     2.51,2,    0.002,2,    0.012,2, -999.000,9, -999.000,9, -999.000,9,-999.0000,9,  -999.00,9,   -999.0,9,   -999.0,9,   -999.0,9,   -999.0,9,   -999.0,9,  -999.00,9, -999.00,  -999.0,-999.0000,-999.000, -999.00,  -999.0,  1.1690,-999.000