BOTTLE,20220630CCHSIOAMB
EXPOCODE,SECT_ID,STNNBR,CASTNO,SAMPNO,BTLNBR,BTLNBR_FLAG_W,DATE,TIME,LATITUDE,LONGITUDE,DEPTH,CTDPRS,CTDTMP,CTDSAL,CTDSAL_FLAG_W,SALNTY,SALNTY_FLAG_W,CTDOXY,CTDOXY_FLAG_W,OXYGEN,OXYGEN_FLAG_W,SILCAT,SILCAT_FLAG_W,NITRAT,NITRAT_FLAG_W,NITRIT,NITRIT_FLAG_W,PHSPHT,PHSPHT_FLAG_W,CFC-11,CFC-11_FLAG_W,CFC-12,CFC-12_FLAG_W,CFC113,CFC113_FLAG_W,CCL4,CCL4_FLAG_W,TRITUM,TRITUM_FLAG_W,HELIUM,HELIUM_FLAG_W,DELHE3,DELHE3_FLAG_W,DELC14,DELC14_FLAG_W,DELC13,DELC13_FLAG_W,TCARBN,TCARBN_FLAG_W,PCO2,PCO2_FLAG_W,ALKALI,ALKALI_FLAG_W,PH,PH_FLAG_W,PCO2TMP,C14ERR,HELIER,DELHER,PH_TMP,C13ERR,THETA,TRITER
,,,,,,,,,,,,DBAR,ITS-90,PSS-78,,PSS-78,,UMOL/KG,,UMOL/KG,,UMOL/KG,,UMOL/KG,,UMOL/KG,,UMOL/KG,,PMOL/KG,,PMOL/KG,,PMOL/KG,,PMOL/KG,,TU,,NMOL/KG,,PERCNT,,/MILLE,,/MILLE,,UMOL/KG,,UATM,,UMOL/KG,,,,DEG C,/MILLE,NMOL/KG,PERCNT,DEG C,/MILLE,DEG C,TU
    31DSCG94_2,  P18S,    24,  1,    136,   1025,2,19940304,0456,-60.0050,-103.0017, 5130,     13.6,   5.6373,  34.0825,2,  34.0835,2,    298.7,2,    298.7,2,     3.09,2,    18.85,2,     0.17,2,     1.39,2,    4.823,2,    2.336,2, -999.000,9, -999.000,9, -999.000,9,-999.0000,9,  -999.00,9,   -999.0,9,      1.8,2,   2102.3,2,    614.4,2,   2277.0,2,     7.81,2,   20.00,  -999.0,-999.0000,-999.000,   25.00,  -999.0,  5.6363,-999.000
    31DSCG94_2,  P18S,    24,  1,    135,   1247,2,19940304,0456,-60.0050,-103.0017, 5130,     24.5,   5.6417,  34.0839,2,  34.0838,2,    298.6,2,    298.7,2,     1.90,2,    19.04,2,     0.17,2,     1.41,2,    4.842,2,    2.230,2, -999.000,5, -999.000,5, -999.000,9,-999.0000,9,  -999.00,9,   -999.0,9,   -999.0,9,   2103.1,2,   -999.0,9,   2273.0,2,     7.81,2, -999.00,  -999.0,-999.0000,-999.000,   25.00,  -999.0,  5.6398,-999.000
    31DSCG94_2,  P18S,    24,  1,    134,   1108,2,19940304,0456,-60.0050,-103.0017, 5130,     51.8,   5.6349,  34.0846,2,  34.0859,2,    298.5,2,    298.7,2,     2.35,2,    19.04,2,     0.19,2,     1.41,2,    4.816,6,    2.334,6, -999.000,5, -999.000,5, -999.000,9,-999.0000,9,  -999.00,9,   -999.0,9,   -999.0,9,   2103.8,2,    615.6,2,   2276.0,2,  -999.00,9,   20.00,  -999.0,-999.0000,-999.000, -999.00,  -999.0,  5.6308,-999.000
    31DSCG94_2,  P18S,    24,  1,    133,   1244,2,19940304,0456,-60.0050,-103.0017, 5130,     73.9,   5.5759,  34.0912,2,  34.0912,2,    298.4,2,    298.8,2,     2.43,2,    19.09,2,     0.19,2,     1.42,2,    5.051,2,    2.405,2, -999.000,9, -999.000,9, -999.000,9,-999.0000,9,  -999.00,9,   -999.0,9,   -999.0,9,   2104.3,2,   -999.0,9,   2276.0,2,  -999.00,9, -999.00,  -999.0,-999.0000,-999.000, -999.00,  -999.0,  5.5699,-999.000
    31DSCG94_2,  P18S,    24,  1,    132,   1003,2,19940304,0456,-60.0050,-103.0017, 5130,     95.6,   4.4765,  34.1521,2,  34.1532,2,    298.4,2,    296.8,2,     8.36,2,    22.48,2,     0.41,2,     1.65,2,    4.994,2,    2.362,2, -999.000,9, -999.000,9, -999.000,9,-999.0000,9,  -999.00,9,   -999.0,9,   -999.0,9,   2126.9,2,    706.8,2,   2268.0,2,  -999.00,9,   20.00,  -999.0,-999.0000,-999.000, -999.00,  -999.0,  4.4697,-999.000
    31DSCG94_2,  P18S,    24,  1,    131,   1211,2,19940304,0456,-60.0050,-103.0017, 5130,    153.8,   4.3695,  34.1525,2,  34.1534,2,    296.7,2,    298.3,2,     8.66,2,    22.96,2,     0.00,2,     1.63,2,    4.961,2,    2.328,2, -999.000,5, -999.000,5, -999.000,9,-999.0000,9,  -999.00,9,   -999.0,9,   -999.0,9,   2125.7,2,   -999.0,9,   2276.0,2,  -999.00,9, -999.00,  -999.0,-999.0000,-999.000, -999.00,  -999.0,  4.3585,-999.000
    31DSCG94_2,  P18S,    24,  1,    130,   1241,2,19940304,0456,-60.0050,-103.0017, 5130,    204.8,   4.1851,  34.1445,2,  34.1466,2,    295.3,2,    295.0,6,     9.58,2,    23.50,2,     0.00,2,     1.62,2,    5.061,2,    2.277,2, -999.000,9, -999.000,9, -999.000,9,-999.0000,9,  -999.00,9,   -999.0,9,   -999.0,9,   2130.4,2,    725.3,2,   2277.0,2,  -999.00,9,   20.00,  -999.0,-999.0000,-999.000, -999.00,  -999.0,  4.1707,-999.000
    31DSCG94_2,  P18S,    24,  1,    129,   1031,2,19940304,0456,-60.0050,-103.0017, 5130,    295.4,   4.0123,  34.1427,2,  34.1447,2,    295.5,2,    295.7,2,    10.30,2,    23.61,2,     0.00,2,     1.66,2,    4.791,2,    2.278,2, -999.000,9, -999.000,9, -999.000,9,-999.0000,9,  -999.00,9,   -999.0,9,   -999.0,9,   2132.0,2,   -999.0,9,   -999.0,5,  -999.00,9, -999.00,  -999.0,-999.0000,-999.000, -999.00,  -999.0,  3.9917,-999.000
    31DSCG94_2,  P18S,    24,  1,    128,   1210,2,19940304,0456,-60.0050,-103.0017, 5130,    391.1,   3.4648,  34.1138,2,  34.1154,2,    278.7,2,    282.4,2,    15.09,2,    25.92,2,     0.00,2,     1.85,2,    4.282,2,    2.015,6, -999.000,5, -999.000,5, -999.000,9,-999.0000,9,  -999.00,9,   -999.0,9,   -999.0,9,   2147.1,2,    785.4,2,   2279.0,2,  -999.00,9,   20.00,  -999.0,-999.0000,-999.000, -999.00,  -999.0,  3.4389,-999.000
    31DSCG94_2,  P18S,    24,  1,    127,   1008,2,19940304,0456,-60.0050,-103.0017, 5130,    515.5,   3.3922,  34.1707,2,  34.1664,3,    265.1,2,    258.9,2,    21.84,2,    28.20,2,     0.00,2,     1.98,2,    3.397,2,    1.567,2, -999.000,9, -999.000,9, -999.000,9,-999.0000,9,  -999.00,9,   -999.0,9,   -999.0,9,   2165.3,2,    874.4,2,   2283.0,2,  -999.00,9,   20.00,  -999.0,-999.0000,-999.000, -999.00,  -999.0,  3.3578,-999.000
    31DSCG94_2,  P18S,    24,  1,    126,   1007,2,19940304,0456,-60.0050,-103.0017, 5130,    606.7,   3.1962,  34.2118,2,  34.2126,2,    243.1,2,    240.8,2,    28.97,2,    29.72,2,     0.00,2,     2.10,2,    2.708,3,    1.164,3, -999.000,5, -999.000,5, -999.000,9,-999.0000,9,  -999.00,9,   -999.0,9,   -999.0,9,   2180.1,2,    931.8,2,   2289.0,2,  -999.00,9,   20.00,  -999.0,-999.0000,-999.000, -999.00,  -999.0,  3.1563,-999.000
    31DSCG94_2,  P18S,    24,  1,    125,   1203,2,19940304,0456,-60.0050,-103.0017, 5130,    700.1,   3.2872,  34.3057,2,  34.3054,2,    210.8,2,    209.7,2,    40.53,2,    31.79,2,     0.00,2,     2.20,2,    1.469,3,    0.592,2, -999.000,9, -999.000,9, -999.000,9,-999.0000,9,  -999.00,9,   -999.0,9,   -999.0,9,   2201.8,2,   -999.0,9,   2296.0,2,  -999.00,9, -999.00,  -999.0,-999.0000,-999.000, -999.00,  -999.0,  3.2400,-999.000
    31DSCG94_2,  P18S,    24,  1,    123,   1101,2,19940304,0456,-60.0050,-103.0017, 5130,    804.3,   3.0153,  34.3620,2,  34.3611,2,    197.9,2,    196.6,2,    49.82,2,    32.75,2,     0.00,2,     2.33,2,    1.018,2,    0.472,2, -999.000,9, -999.000,9, -999.000,9,-999.0000,9,  -999.00,9,   -999.0,9,   -999.0,9,   2218.5,2,   1099.5,2,   2309.0,2,  -999.00,9,   20.00,  -999.0,-999.0000,-999.000, -999.00,  -999.0,  2.9620,-999.000
    31DSCG94_2,  P18S,    24,  1,    121,   1206,2,19940304,0456,-60.0050,-103.0017, 5130,    901.8,   2.8106,  34.4134,2,  34.4128,2,    186.4,2,    186.4,2,    56.33,2,    33.89,2,     0.00,2,     2.38,2,    0.758,2,    0.341,2, -999.000,5, -999.000,5, -999.000,9,-999.0000,9,  -999.00,9,   -999.0,9,   -999.0,9,   2231.5,2,   -999.0,9,   2316.0,2,  -999.00,9, -999.00,  -999.0,-999.0000,-999.000, -999.00,  -999.0,  2.7516,-999.000
    31DSCG94_2,  P18S,    24,  1,    119,   1248,2,19940304,0456,-60.0050,-103.0017, 5130,   1001.9,   2.6810,  34.4582,2,  34.4580,2,    179.3,2,    180.3,2,    61.91,2,    34.21,2,     0.00,2,     2.40,2,    0.543,2,    0.134,3, -999.000,9, -999.000,9, -999.000,9,   1.8390,2,     7.26,2,   -999.0,9,   -999.0,9,   2236.8,2,   1163.4,2,   2324.0,2,  -999.00,9,   20.00,  -999.0,-999.0000,-999.000, -999.00,  -999.0,  2.6155,-999.000
    31DSCG94_2,  P18S,    24,  1,    118,   1207,2,19940304,0456,-60.0050,-103.0017, 5130,   1202.6,   2.4608,  34.5491,2,  34.5485,2,    170.8,2,    172.6,2,    73.83,2,    33.37,2,     0.00,2,     2.40,2,    0.303,3,    0.129,2, -999.000,9, -999.000,9, -999.000,9,   1.8480,2,     9.13,2,   -999.0,9,   -999.0,9,   -999.0,9,   -999.0,9,   -999.0,9,  -999.00,9, -999.00,  -999.0,-999.0000,-999.000, -999.00,  -999.0,  2.3822,-999.000
    31DSCG94_2,  P18S,    24,  1,    117,   1119,2,19940304,0456,-60.0050,-103.0017, 5130,   1397.7,   2.3286,  34.6154,2,  34.6143,2,    168.6,2,    171.5,6,    79.58,2,    32.54,2,     0.00,2,     2.32,2,    0.190,2,    0.023,2, -999.000,5, -999.000,5, -999.000,9,   1.8620,2,    10.16,2,   -999.0,9,   -999.0,9,   -999.0,9,   -999.0,9,   -999.0,9,  -999.00,9, -999.00,  -999.0,-999.0000,-999.000, -999.00,  -999.0,  2.2364,-999.000
    31DSCG94_2,  P18S,    24,  1,    116,   1036,2,19940304,0456,-60.0050,-103.0017, 5130,   1597.5,   2.2151,  34.6641,2,  34.6638,2,    170.5,2,    174.6,2,    83.06,2,    31.95,2,     0.00,2,     2.29,2,    0.125,2,    0.052,2, -999.000,9, -999.000,9, -999.000,9,   1.8650,2,     9.93,2,   -999.0,9,   -999.0,9,   -999.0,9,   -999.0,9,   -999.0,9,  -999.00,9, -999.00,  -999.0,-999.0000,-999.000, -999.00,  -999.0,  2.1084,-999.000
    31DSCG94_2,  P18S,    24,  1,    115,   1017,2,19940304,0456,-60.0050,-103.0017, 5130,   1795.9,   2.0952,  34.6958,2,  34.6952,2,    174.0,2,    178.1,2,    85.14,2,    31.57,2,     0.00,2,     2.26,2,    0.077,2,    0.024,2, -999.000,5, -999.000,5, -999.000,9,   1.8640,2,    11.20,2,   -999.0,9,   -999.0,9,   -999.0,9,   -999.0,9,   -999.0,9,  -999.00,9, -999.00,  -999.0,-999.0000,-999.000, -999.00,  -999.0,  1.9740,-999.000
    31DSCG94_2,  P18S,    24,  1,    114,   1016,2,19940304,0456,-60.0050,-103.0017, 5130,   1996.4,   1.9619,  34.7171,2,  34.7163,2,    179.0,2,    183.5,2,    87.65,2,    31.17,2,     0.00,2,     2.23,2,    0.076,2,    0.025,2, -999.000,9, -999.000,9, -999.000,9,   1.8670,2,    10.29,2,   -999.0,9,   -999.0,9,   -999.0,9,   1086.2,2,   -999.0,9,  -999.00,9,   20.00,  -999.0,-999.0000,-999.000, -999.00,  -999.0,  1.8261,-999.000
    31DSCG94_2,  P18S,    24,  1,    113,   1118,2,19940304,0456,-60.0050,-103.0017, 5130,   2240.3,   1.7632,  34.7277,2,  34.7277,2,    184.2,2,    188.5,2,    93.52,2,    31.14,2,     0.00,2,     2.21,2,    0.065,2,    0.017,2, -999.000,5, -999.000,5, -999.000,9,   1.8720,2,    10.40,2,   -999.0,9,   -999.0,9,   -999.0,9,   -999.0,9,   -999.0,9,  -999.00,9, -999.00,  -999.0,-999.0000,-999.000, -999.00,  -999.0,  1.6098,-999.000
    31DSCG94_2,  P18S,    24,  1,    112,   1033,2,19940304,0456,-60.0050,-103.0017, 5130,   2490.9,   1.5574,  34.7262,2,  34.7252,2,    187.5,2,    191.2,2,   101.91,2,    31.02,2,     0.00,2,     2.22,2,    0.106,4,    0.007,2, -999.000,9, -999.000,9, -999.000,9,   1.8790,2,     9.96,2,   -999.0,9,   -999.0,9,   -999.0,9,   1071.7,2,   -999.0,9,  -999.00,9,   20.00,  -999.0,-999.0000,-999.000, -999.00,  -999.0,  1.3859,-999.000
    31DSCG94_2,  P18S,    24,  1,    111,   1263,2,19940304,0456,-60.0050,-103.0017, 5130,   2736.7,   1.4148,  34.7250,2,  34.7255,2,    191.0,2,    194.5,2,   106.65,2,    30.94,2,     0.00,2,     2.19,2,    0.291,4,    0.011,2, -999.000,5, -999.000,5, -999.000,9,   1.8790,2,    10.18,2,   -999.0,9,   -999.0,9,   -999.0,9,   -999.0,9,   -999.0,9,  -999.00,9, -999.00,  -999.0,-999.0000,-999.000, -999.00,  -999.0,  1.2240,-999.000
    31DSCG94_2,  P18S,    24,  1,    110,   1005,2,19940304,0456,-60.0050,-103.0017, 5130,   3001.3,   1.2852,  34.7229,2,  34.7219,2,    194.6,2,    197.3,2,   109.51,2,    31.29,2,     0.00,2,     2.24,2,    0.086,2,    0.013,2, -999.000,5, -999.000,5, -999.000,9,-999.0000,9,  -999.00,9,   -999.0,9,   -999.0,9,   -999.0,9,   1056.8,2,   -999.0,9,  -999.00,9,   20.00,  -999.0,-999.0000,-999.000, -999.00,  -999.0,  1.0727,-999.000
    31DSCG94_2,  P18S,    24,  1,    109,   1611,2,19940304,0456,-60.0050,-103.0017, 5130,   3238.2,   1.1261,  34.7179,2,  34.7167,2,    196.9,2,    200.1,2,   112.49,2,    30.80,2,     0.00,2,     2.24,2, -999.000,5, -999.000,5, -999.000,9, -999.000,9, -999.000,9,   1.8750,2,    10.07,2,   -999.0,9,   -999.0,9,   -999.0,9,   -999.0,9,   -999.0,9,  -999.00,9, -999.00,  -999.0,-999.0000,-999.000, -999.00,  -999.0,  0.8948,-999.000
    31DSCG94_2,  P18S,    24,  1,    108,   1218,2,19940304,0456,-60.0050,-103.0017, 5130,   3496.9,   0.9808,  34.7137,2,  34.7126,2,    200.3,2,    202.7,2,   121.10,2,    31.07,2,     0.00,2,     2.24,2,    0.037,2,    0.016,2, -999.000,5, -999.000,5, -999.000,9,   1.8800,2,    10.06,2,   -999.0,9,   -999.0,9,   -999.0,9,   1072.5,2,   -999.0,9,  -999.00,9,   20.00,  -999.0,-999.0000,-999.000, -999.00,  -999.0,  0.7278,-999.000
    31DSCG94_2,  P18S,    24,  1,    107,   1257,2,19940304,0456,-60.0050,-103.0017, 5130,   3735.2,   0.8372,  34.7093,2,  34.7083,2,    203.6,2,    205.6,2,   122.82,2,    31.41,2,     0.00,2,     2.26,2,    0.084,6,    0.013,2, -999.000,9, -999.000,9, -999.000,9,   1.9000,2,    10.53,2,   -999.0,9,   -999.0,9,   -999.0,9,   -999.0,9,   -999.0,9,  -999.00,9, -999.00,  -999.0,-999.0000,-999.000, -999.00,  -999.0,  0.5642,-999.000
    31DSCG94_2,  P18S,    24,  1,    106,   1224,2,19940304,0456,-60.0050,-103.0017, 5130,   3992.1,   0.6764,  34.7065,2,  34.7053,2,    206.9,2,    208.6,2,   128.16,2,    32.08,2,     0.00,2,     2.26,2,    0.049,2,    0.018,2, -999.000,5, -999.000,5, -999.000,9,   1.8870,2,     9.44,2,   -999.0,9,   -999.0,9,   -999.0,9,   1070.9,2,   -999.0,9,  -999.00,9,   20.00,  -999.0,-999.0000,-999.000, -999.00,  -999.0,  0.3815,-999.000
    31DSCG94_2,  P18S,    24,  1,    105,   1246,2,19940304,0456,-60.0050,-103.0017, 5130,   4243.3,   0.5712,  34.7050,2,  34.7031,2,    209.7,2,    211.1,2,   131.11,2,    32.07,2,     0.00,2,     2.24,2,    0.074,2,    0.024,2, -999.000,5, -999.000,5, -999.000,9,   1.8920,2,     9.67,2,   -999.0,9,   -999.0,9,   -999.0,9,   -999.0,9,   -999.0,9,  -999.00,9, -999.00,  -999.0,-999.0000,-999.000, -999.00,  -999.0,  0.2529,-999.000
    31DSCG94_2,  P18S,    24,  1,    104,   1028,2,19940304,0456,-60.0050,-103.0017, 5130,   4490.8,   0.4757,  34.7037,2,  34.7015,2,    213.0,2,    213.1,2,   132.37,2,    32.28,2,     0.00,2,     2.26,2,    0.227,4,    0.029,2, -999.000,5, -999.000,5, -999.000,9,   1.8910,2,     9.05,2,   -999.0,9,   -999.0,9,   -999.0,9,   1083.3,2,   -999.0,9,  -999.00,9,   20.00,  -999.0,-999.0000,-999.000, -999.00,  -999.0,  0.1336,-999.000
    31DSCG94_2,  P18S,    24,  1,    103,   9999,2,19940304,0456,-60.0050,-103.0017, 5130,   4748.0,   0.4410,  34.7030,2,  34.7017,2,    214.9,2,    213.9,2,   132.09,2,    31.92,2,     0.00,2,     2.28,2,    0.079,2,    0.035,2, -999.000,9, -999.000,9, -999.000,9,-999.0000,9,  -999.00,9,   -999.0,9,   -999.0,9,   -999.0,9,   -999.0,9,   -999.0,9,  -999.00,9, -999.00,  -999.0,-999.0000,-999.000, -999.00,  -999.0,  0.0714,-999.000
    31DSCG94_2,  P18S,    24,  1,    102,   1223,2,19940304,0456,-60.0050,-103.0017, 5130,   4750.7,   0.4404,  34.7032,2,  34.7017,2,    215.0,2,    214.4,2,   131.75,2,    31.72,2,     0.00,2,     2.29,2,    0.076,2,    0.032,2, -999.000,5, -999.000,5, -999.000,9,   1.8840,2,     8.54,2,   -999.0,9,   -999.0,9,   -999.0,9,   -999.0,9,   -999.0,9,  -999.00,9, -999.00,  -999.0,-999.0000,-999.000, -999.00,  -999.0,  0.0705,-999.000
    31DSCG94_2,  P18S,    24,  1,    101,   1041,2,19940304,0456,-60.0050,-103.0017, 5130,   5023.4,   0.4467,  34.7024,2,  34.7013,2,    216.5,2,    214.9,2,   134.31,2,    32.08,2,     0.00,2,     2.29,2,    0.075,6,    0.035,6, -999.000,5, -999.000,5, -999.000,9,   1.8950,2,     8.50,2,   -999.0,9,   -999.0,9,   -999.0,9,   1076.4,2,   -999.0,9,  -999.00,9,   20.00,  -999.0,-999.0000,-999.000, -999.00,  -999.0,  0.0454,-999.000