BOTTLE,20220630CCHSIOAMB
EXPOCODE,SECT_ID,STNNBR,CASTNO,SAMPNO,BTLNBR,BTLNBR_FLAG_W,DATE,TIME,LATITUDE,LONGITUDE,DEPTH,CTDPRS,CTDTMP,CTDSAL,CTDSAL_FLAG_W,SALNTY,SALNTY_FLAG_W,CTDOXY,CTDOXY_FLAG_W,OXYGEN,OXYGEN_FLAG_W,SILCAT,SILCAT_FLAG_W,NITRAT,NITRAT_FLAG_W,NITRIT,NITRIT_FLAG_W,PHSPHT,PHSPHT_FLAG_W,CFC-11,CFC-11_FLAG_W,CFC-12,CFC-12_FLAG_W,CFC113,CFC113_FLAG_W,CCL4,CCL4_FLAG_W,TRITUM,TRITUM_FLAG_W,HELIUM,HELIUM_FLAG_W,DELHE3,DELHE3_FLAG_W,DELC14,DELC14_FLAG_W,DELC13,DELC13_FLAG_W,TCARBN,TCARBN_FLAG_W,PCO2,PCO2_FLAG_W,ALKALI,ALKALI_FLAG_W,PH,PH_FLAG_W,PCO2TMP,C14ERR,HELIER,DELHER,PH_TMP,C13ERR,THETA,TRITER
,,,,,,,,,,,,DBAR,ITS-90,PSS-78,,PSS-78,,UMOL/KG,,UMOL/KG,,UMOL/KG,,UMOL/KG,,UMOL/KG,,UMOL/KG,,PMOL/KG,,PMOL/KG,,PMOL/KG,,PMOL/KG,,TU,,NMOL/KG,,PERCNT,,/MILLE,,/MILLE,,UMOL/KG,,UATM,,UMOL/KG,,,,DEG C,/MILLE,NMOL/KG,PERCNT,DEG C,/MILLE,DEG C,TU
    31DSCG94_3,  P18N,   170,  1,    136,   1025,2,19940420,0625, 11.3333,-110.0000, 3521,      9.9,  28.8407,  33.7986,2,  33.8036,2,    289.6,3,    197.8,2,     2.31,2,     0.00,2,     0.00,2,     0.14,2,    1.644,2,    0.957,2, -999.000,5, -999.000,5, -999.000,9,-999.0000,9,  -999.00,9,   -999.0,9,      1.7,2,   1898.5,2,    254.9,2,   2224.0,2,     8.13,2,   20.00,  -999.0,-999.0000,-999.000,   25.00,  -999.0, 28.8383,-999.000
    31DSCG94_3,  P18N,   170,  1,    135,   1247,2,19940420,0625, 11.3333,-110.0000, 3521,      9.9,  28.8400,  33.7979,2,  33.8000,2,    289.6,3,    197.8,6,     2.38,2,     0.00,2,     0.00,2,     0.13,2,    1.646,2,    0.955,2, -999.000,5, -999.000,5, -999.000,9,-999.0000,9,  -999.00,9,   -999.0,9,   -999.0,9,   1901.9,2,    254.1,2,   2221.0,3,     8.13,2,   20.00,  -999.0,-999.0000,-999.000,   25.00,  -999.0, 28.8376,-999.000
    31DSCG94_3,  P18N,   170,  1,    134,   1216,2,19940420,0625, 11.3333,-110.0000, 3521,     24.3,  28.8497,  33.7998,2,  33.8028,2,    203.4,2,    198.3,2,     2.54,2,     0.03,2,     0.00,2,     0.11,2,    1.651,2,    0.977,2, -999.000,5, -999.000,5, -999.000,9,-999.0000,9,  -999.00,9,   -999.0,9,   -999.0,9,   -999.0,9,   -999.0,9,   -999.0,9,     8.12,2, -999.00,  -999.0,-999.0000,-999.000,   25.00,  -999.0, 28.8438,-999.000
    31DSCG94_3,  P18N,   170,  1,    133,   1244,2,19940420,0625, 11.3333,-110.0000, 3521,     49.9,  28.8532,  33.8007,2,  33.8051,2,    199.5,2,    197.5,2,     3.03,2,     0.00,2,     0.00,2,     0.12,2,    1.652,6,    0.964,6, -999.000,9, -999.000,9, -999.000,9,-999.0000,9,  -999.00,9,   -999.0,9,   -999.0,9,   1899.8,2,    263.9,2,   2225.0,2,     8.13,2,   20.00,  -999.0,-999.0000,-999.000,   25.00,  -999.0, 28.8412,-999.000
    31DSCG94_3,  P18N,   170,  1,    132,   1003,2,19940420,0625, 11.3333,-110.0000, 3521,     74.5,  27.2361,  33.8134,2,  33.8162,2,    200.3,2,    182.6,2,     3.20,2,     0.85,2,     0.17,2,     0.28,2,    1.667,2,    0.981,2, -999.000,5, -999.000,5, -999.000,9,-999.0000,9,  -999.00,9,   -999.0,9,   -999.0,9,   -999.0,9,   -999.0,9,   -999.0,9,     8.06,2, -999.00,  -999.0,-999.0000,-999.000,   25.00,  -999.0, 27.2189,-999.000
    31DSCG94_3,  P18N,   170,  1,    131,   1211,2,19940420,0625, 11.3333,-110.0000, 3521,     99.4,  22.4327,  34.2768,2,  34.2599,2,    139.8,2,     88.8,2,     8.91,2,    16.43,2,     0.03,2,     1.31,2,    1.533,2,    0.816,2, -999.000,5, -999.000,5, -999.000,9,-999.0000,9,  -999.00,9,   -999.0,9,   -999.0,9,   2089.4,3,    635.6,2,   2246.0,2,     7.79,2,   20.00,  -999.0,-999.0000,-999.000,   25.00,  -999.0, 22.4129,-999.000
    31DSCG94_3,  P18N,   170,  1,    130,   1241,2,19940420,0625, 11.3333,-110.0000, 3521,    124.9,  16.7691,  34.7046,2,  34.7168,2,     30.4,2,      9.2,2,    19.82,2,    28.61,2,     0.00,2,     2.21,2,    0.800,2,    0.441,2, -999.000,5, -999.000,5, -999.000,9,-999.0000,9,  -999.00,9,   -999.0,9,   -999.0,9,   -999.0,9,   -999.0,9,   -999.0,9,     7.54,2, -999.00,  -999.0,-999.0000,-999.000,   25.00,  -999.0, 16.7487,-999.000
    31DSCG94_3,  P18N,   170,  1,    129,   1240,2,19940420,0625, 11.3333,-110.0000, 3521,    149.4,  14.2190,  34.7834,2,  34.7921,2,     13.7,2,      3.6,2,    24.15,2,    31.44,2,     0.00,2,     2.35,2,    0.505,2,    0.285,2, -999.000,5, -999.000,5, -999.000,9,-999.0000,9,  -999.00,9,   -999.0,9,   -999.0,9,   2234.1,2,   1400.4,2,   2283.0,2,     7.49,2,   20.00,  -999.0,-999.0000,-999.000,   25.00,  -999.0, 14.1972,-999.000
    31DSCG94_3,  P18N,   170,  1,    128,   1032,3,19940420,0625, 11.3333,-110.0000, 3521,    173.7,  13.1683,  34.8068,2,  34.8072,2,     16.2,2,      4.4,2,    25.75,2,    31.91,2,     0.00,2,     2.36,2,    0.416,2,    0.237,2, -999.000,5, -999.000,5, -999.000,9,-999.0000,9,  -999.00,9,   -999.0,9,   -999.0,9,   -999.0,9,   -999.0,9,   -999.0,9,  -999.00,9, -999.00,  -999.0,-999.0000,-999.000, -999.00,  -999.0, 13.1443,-999.000
    31DSCG94_3,  P18N,   170,  1,    127,   1008,2,19940420,0625, 11.3333,-110.0000, 3521,    200.1,  12.6326,  34.8056,2,  34.8034,2,     12.0,2,      3.5,2,    27.13,2,    32.40,2,     0.00,2,     2.38,2,    0.293,6,    0.167,6, -999.000,9, -999.000,9, -999.000,9,-999.0000,9,  -999.00,9,   -999.0,9,   -999.0,9,   2242.5,2,   1464.9,2,   2288.0,2,     7.47,2,   20.00,  -999.0,-999.0000,-999.000,   25.00,  -999.0, 12.6056,-999.000
    31DSCG94_3,  P18N,   170,  1,    126,   1007,2,19940420,0625, 11.3333,-110.0000, 3521,    250.2,  11.8980,  34.7761,2,  34.7740,2,     11.6,2,      5.8,2,    29.02,2,    33.03,2,     0.00,2,     2.40,2, -999.000,5, -999.000,5, -999.000,5, -999.000,5, -999.000,9,-999.0000,9,  -999.00,9,   -999.0,9,   -999.0,9,   2248.3,2,   1504.0,2,   2289.0,2,     7.46,2,   20.00,  -999.0,-999.0000,-999.000,   25.00,  -999.0, 11.8656,-999.000
    31DSCG94_3,  P18N,   170,  1,    125,   1256,2,19940420,0625, 11.3333,-110.0000, 3521,    300.1,  11.2048,  34.7446,2,  34.7441,2,      9.2,2,      5.2,2,    31.93,2,    33.22,2,     0.00,2,     2.50,2,    0.152,2,    0.091,2, -999.000,5, -999.000,5, -999.000,9,-999.0000,9,  -999.00,9,   -999.0,9,   -999.0,9,   2258.1,2,   1592.4,2,   2295.0,2,     7.44,2,   20.00,  -999.0,-999.0000,-999.000,   25.00,  -999.0, 11.1673,-999.000
    31DSCG94_3,  P18N,   170,  1,    123,   1220,2,19940420,0625, 11.3333,-110.0000, 3521,    347.3,  10.7447,  34.7217,2,  34.7212,2,      4.5,2,      4.6,2,    34.08,2,    32.84,2,     0.00,2,     2.55,2,    0.098,2,    0.057,2, -999.000,5, -999.000,5, -999.000,9,-999.0000,9,  -999.00,9,   -999.0,9,   -999.0,9,   -999.0,9,   -999.0,9,   -999.0,9,     7.42,2, -999.00,  -999.0,-999.0000,-999.000,   25.00,  -999.0, 10.7024,-999.000
    31DSCG94_3,  P18N,   170,  1,    122,   1245,2,19940420,0625, 11.3333,-110.0000, 3521,    400.0,   9.9966,  34.6798,2,  34.6789,2,      3.0,2,      0.6,2,    39.63,2,    31.25,2,     0.00,2,     2.70,2,    0.040,2,    0.024,2, -999.000,5, -999.000,5, -999.000,9,-999.0000,9,  -999.00,9,   -999.0,9,   -999.0,9,   2282.2,2,   1794.5,2,   2294.0,3,     7.40,2,   20.00,  -999.0,-999.0000,-999.000,   25.00,  -999.0,  9.9499,-999.000
    31DSCG94_3,  P18N,   170,  1,    121,   1206,2,19940420,0625, 11.3333,-110.0000, 3521,    497.8,   8.6043,  34.6123,2,  34.6112,2,      2.6,2,      1.0,2,    51.43,2,    31.66,2,     0.00,2,     2.95,2, -999.000,9, -999.000,9, -999.000,9, -999.000,9, -999.000,9,-999.0000,9,  -999.00,9,   -999.0,9,   -999.0,9,   2301.7,2,   1914.7,2,   2316.0,2,     7.37,2,   20.00,  -999.0,-999.0000,-999.000,   25.00,  -999.0,  8.5510,-999.000
    31DSCG94_3,  P18N,   170,  1,    120,   1028,2,19940420,0625, 11.3333,-110.0000, 3521,    599.0,   7.2889,  34.5708,2,  34.5678,2,      1.7,2,      1.5,2,    63.62,2,    36.62,2,     0.00,2,     3.13,2,    0.045,2,    0.020,2, -999.000,5, -999.000,5, -999.000,9,-999.0000,9,  -999.00,9,   -999.0,9,   -999.0,9,   2317.8,2,   2003.0,2,   2327.0,2,     7.35,2,   20.00,  -999.0,-999.0000,-999.000,   25.00,  -999.0,  7.2302,-999.000
    31DSCG94_3,  P18N,   170,  1,    119,   1248,2,19940420,0625, 11.3333,-110.0000, 3521,    699.3,   6.2883,  34.5538,2,  34.5532,2,      3.1,2,      1.6,2,    74.64,2,    41.47,2,     0.00,2,     3.23,2, -999.000,9, -999.000,9, -999.000,9, -999.000,9, -999.000,9,-999.0000,9,  -999.00,9,   -999.0,9,   -999.0,9,   2331.7,2,   2083.0,2,   2339.0,2,     7.34,2,   20.00,  -999.0,-999.0000,-999.000,   25.00,  -999.0,  6.2246,-999.000
    31DSCG94_3,  P18N,   170,  1,    118,   1115,2,19940420,0625, 11.3333,-110.0000, 3521,    798.2,   5.7103,  34.5509,2,  34.5498,2,      3.5,2,      3.2,2,    81.42,2,    43.72,2,     0.00,2,     3.27,2, -999.000,9, -999.000,9, -999.000,9, -999.000,9, -999.000,9,-999.0000,9,  -999.00,9,   -999.0,9,   -999.0,9,   2339.6,2,   2105.5,2,   2340.0,2,  -999.00,9,   20.00,  -999.0,-999.0000,-999.000, -999.00,  -999.0,  5.6406,-999.000
    31DSCG94_3,  P18N,   170,  1,    117,   1119,2,19940420,0625, 11.3333,-110.0000, 3521,    901.7,   4.9871,  34.5536,2,  34.5538,2,     10.5,2,     14.4,2,    89.32,2,    44.18,2,     0.00,2,     3.48,4,    0.003,2,    0.003,2, -999.000,5, -999.000,5, -999.000,9,-999.0000,9,  -999.00,9,   -999.0,9,   -999.0,9,   2345.4,2,   2053.3,2,   2350.0,2,     7.35,2,   20.00,  -999.0,-999.0000,-999.000,   25.00,  -999.0,  4.9126,-999.000
    31DSCG94_3,  P18N,   170,  1,    116,   1036,2,19940420,0625, 11.3333,-110.0000, 3521,    997.6,   4.5688,  34.5580,2,  34.5577,2,     19.2,2,     26.2,2,    95.72,2,    43.83,2,     0.00,2,     3.20,2, -999.000,9, -999.000,9, -999.000,9, -999.000,9, -999.000,9,-999.0000,9,  -999.00,9,   -999.0,9,   -999.0,9,   2345.9,2,   1978.5,2,   2361.0,6,     7.37,2,   20.00,  -999.0,-999.0000,-999.000,   25.00,  -999.0,  4.4889,-999.000
    31DSCG94_3,  P18N,   170,  1,    115,   1017,2,19940420,0625, 11.3333,-110.0000, 3521,   1098.9,   4.2806,  34.5631,2,  34.5635,2,     28.4,2,     33.2,2,   100.84,2,    43.37,2,     0.00,2,     3.18,2,    0.007,2,   -0.001,2, -999.000,9, -999.000,9, -999.000,9,-999.0000,9,  -999.00,9,   -999.0,9,   -999.0,9,   -999.0,9,   -999.0,9,   -999.0,9,     7.38,2, -999.00,  -999.0,-999.0000,-999.000,   25.00,  -999.0,  4.1941,-999.000
    31DSCG94_3,  P18N,   170,  1,    114,   1016,2,19940420,0625, 11.3333,-110.0000, 3521,   1198.1,   3.9230,  34.5750,2,  34.5746,2,     34.9,2,     39.8,2,   108.04,2,    43.30,2,     0.00,2,     3.14,2, -999.000,9, -999.000,9, -999.000,9, -999.000,9, -999.000,9,-999.0000,9,  -999.00,9,   -999.0,9,   -999.0,9,   -999.0,9,   -999.0,9,   -999.0,9,  -999.00,9, -999.00,  -999.0,-999.0000,-999.000, -999.00,  -999.0,  3.8311,-999.000
    31DSCG94_3,  P18N,   170,  1,    113,   1209,2,19940420,0625, 11.3333,-110.0000, 3521,   1296.8,   3.6426,  34.5841,2,  34.5846,2,     40.7,2,     43.9,2,   113.91,2,    42.96,2,     0.00,2,     3.12,2,    0.001,2,   -0.001,2, -999.000,5, -999.000,5, -999.000,9,-999.0000,9,  -999.00,9,   -999.0,9,   -999.0,9,   -999.0,9,   -999.0,9,   -999.0,9,     7.39,2, -999.00,  -999.0,-999.0000,-999.000,   25.00,  -999.0,  3.5450,-999.000
    31DSCG94_3,  P18N,   170,  1,    112,   1033,2,19940420,0625, 11.3333,-110.0000, 3521,   1399.7,   3.4022,  34.5920,2,  34.5907,2,     48.4,2,     50.5,2,   119.22,2,    42.69,2,     0.00,2,     3.07,2, -999.000,9, -999.000,9, -999.000,9, -999.000,9, -999.000,9,-999.0000,9,  -999.00,9,   -999.0,9,   -999.0,9,   -999.0,9,   -999.0,9,   -999.0,9,  -999.00,9, -999.00,  -999.0,-999.0000,-999.000, -999.00,  -999.0,  3.2983,-999.000
    31DSCG94_3,  P18N,   170,  1,    111,   1240,2,19940420,0625, 11.3333,-110.0000, 3521,   1499.7,   3.1735,  34.6004,2,  34.6011,2,     54.8,2,     57.5,2,   126.21,2,    42.22,2,     0.00,2,     3.03,2, -999.000,9, -999.000,9, -999.000,9, -999.000,9, -999.000,9,-999.0000,9,  -999.00,9,   -999.0,9,   -999.0,9,   -999.0,9,   -999.0,9,   -999.0,9,     7.42,2, -999.00,  -999.0,-999.0000,-999.000,   25.00,  -999.0,  3.0637,-999.000
    31DSCG94_3,  P18N,   170,  1,    110,   1005,2,19940420,0625, 11.3333,-110.0000, 3521,   1590.0,   2.9782,  34.6081,2,  34.6085,2,     60.2,2,     63.4,2,   130.63,2,    41.85,2,     0.00,2,     2.98,2, -999.000,9, -999.000,9, -999.000,9, -999.000,9, -999.000,9,-999.0000,9,  -999.00,9,   -999.0,9,   -999.0,9,   -999.0,9,   -999.0,9,   -999.0,9,  -999.00,9, -999.00,  -999.0,-999.0000,-999.000, -999.00,  -999.0,  2.8629,-999.000
    31DSCG94_3,  P18N,   170,  1,    109,   1611,2,19940420,0625, 11.3333,-110.0000, 3521,   1799.3,   2.6075,  34.6237,2,  34.6229,2,     75.5,2,     74.3,2,   138.92,2,    40.51,2,     0.00,2,     2.91,2, -999.000,9, -999.000,9, -999.000,9, -999.000,9, -999.000,9,-999.0000,9,  -999.00,9,   -999.0,9,   -999.0,9,   -999.0,9,   -999.0,9,   -999.0,9,     7.45,2, -999.00,  -999.0,-999.0000,-999.000,   25.00,  -999.0,  2.4792,-999.000
    31DSCG94_3,  P18N,   170,  1,    108,   1218,2,19940420,0625, 11.3333,-110.0000, 3521,   2002.2,   2.2759,  34.6398,2,  34.6388,2,     90.6,2,     85.4,2,   146.08,2,    40.25,2,     0.00,2,     2.83,2, -999.000,9, -999.000,9, -999.000,9, -999.000,9, -999.000,9,-999.0000,9,  -999.00,9,   -999.0,9,   -999.0,9,   -999.0,9,   -999.0,9,   -999.0,9,  -999.00,9, -999.00,  -999.0,-999.0000,-999.000, -999.00,  -999.0,  2.1350,-999.000
    31DSCG94_3,  P18N,   170,  1,    107,   1257,2,19940420,0625, 11.3333,-110.0000, 3521,   2247.6,   2.0145,  34.6541,2,  34.6535,2,    101.7,2,     98.8,6,   151.65,2,    39.29,2,     0.00,2,     2.76,2, -999.000,9, -999.000,9, -999.000,9, -999.000,9, -999.000,9,-999.0000,9,  -999.00,9,   -999.0,9,   -999.0,9,   -999.0,9,   -999.0,9,   -999.0,9,     7.50,2, -999.00,  -999.0,-999.0000,-999.000,   25.00,  -999.0,  1.8565,-999.000
    31DSCG94_3,  P18N,   170,  1,    106,   1224,2,19940420,0625, 11.3333,-110.0000, 3521,   2497.9,   1.8900,  34.6616,2,  34.6614,2,    108.0,2,    105.9,2,   153.01,2,    38.64,2,     0.00,2,     2.67,2, -999.000,9, -999.000,9, -999.000,9, -999.000,9, -999.000,9,-999.0000,9,  -999.00,9,   -999.0,9,   -999.0,9,   -999.0,9,   -999.0,9,   -999.0,9,  -999.00,9, -999.00,  -999.0,-999.0000,-999.000, -999.00,  -999.0,  1.7119,-999.000
    31DSCG94_3,  P18N,   170,  1,    105,   1246,2,19940420,0625, 11.3333,-110.0000, 3521,   2747.4,   1.7724,  34.6676,2,  34.6672,2,    114.6,2,    114.2,6,   156.09,2,    38.45,2,     0.00,2,     2.67,2, -999.000,9, -999.000,9, -999.000,9, -999.000,9, -999.000,9,-999.0000,9,  -999.00,9,   -999.0,9,   -999.0,9,   -999.0,9,   -999.0,9,   -999.0,9,     7.53,2, -999.00,  -999.0,-999.0000,-999.000,   25.00,  -999.0,  1.5736,-999.000
    31DSCG94_3,  P18N,   170,  1,    104,   1217,2,19940420,0625, 11.3333,-110.0000, 3521,   3001.4,   1.7004,  34.6725,2,  34.6714,2,    119.6,2,    120.0,2,   156.89,2,    37.50,2,     0.00,2,     2.62,2, -999.000,9, -999.000,9, -999.000,9, -999.000,9, -999.000,9,-999.0000,9,  -999.00,9,   -999.0,9,   -999.0,9,   -999.0,9,   -999.0,9,   -999.0,9,  -999.00,9, -999.00,  -999.0,-999.0000,-999.000, -999.00,  -999.0,  1.4790,-999.000
    31DSCG94_3,  P18N,   170,  1,    102,   1223,2,19940420,0625, 11.3333,-110.0000, 3521,   3247.5,   1.6341,  34.6765,2,  34.6764,2,    125.6,2,    127.8,2,   155.42,2,    37.17,2,     0.00,2,     2.58,2, -999.000,9, -999.000,9, -999.000,9, -999.000,9, -999.000,9,-999.0000,9,  -999.00,9,   -999.0,9,   -999.0,9,   -999.0,9,   -999.0,9,   -999.0,9,  -999.00,9, -999.00,  -999.0,-999.0000,-999.000, -999.00,  -999.0,  1.3901,-999.000
    31DSCG94_3,  P18N,   170,  1,    103,   9999,2,19940420,0625, 11.3333,-110.0000, 3521,   3249.0,   1.6343,  34.6764,2,  34.6781,2,    126.2,2,    126.9,2,   155.71,2,    37.22,2,     0.00,2,     2.58,2, -999.000,9, -999.000,9, -999.000,9, -999.000,9, -999.000,9,-999.0000,9,  -999.00,9,   -999.0,9,   -999.0,9,   -999.0,9,   -999.0,9,   -999.0,9,     7.55,2, -999.00,  -999.0,-999.0000,-999.000,   25.00,  -999.0,  1.3902,-999.000
    31DSCG94_3,  P18N,   170,  1,    101,   1041,2,19940420,0625, 11.3333,-110.0000, 3521,   3542.3,   1.5228,  34.6829,2,  34.6829,2,    136.1,2,    140.6,2,   153.90,2,    36.62,2,     0.00,2,     2.52,2, -999.000,9, -999.000,9, -999.000,9, -999.000,9, -999.000,9,-999.0000,9,  -999.00,9,   -999.0,9,   -999.0,9,   -999.0,9,   -999.0,9,   -999.0,9,     7.57,2, -999.00,  -999.0,-999.0000,-999.000,   25.00,  -999.0,  1.2517,-999.000