BOTTLE,20220630CCHSIOAMB
EXPOCODE,SECT_ID,STNNBR,CASTNO,SAMPNO,BTLNBR,BTLNBR_FLAG_W,DATE,TIME,LATITUDE,LONGITUDE,DEPTH,CTDPRS,CTDTMP,CTDSAL,CTDSAL_FLAG_W,SALNTY,SALNTY_FLAG_W,CTDOXY,CTDOXY_FLAG_W,OXYGEN,OXYGEN_FLAG_W,SILCAT,SILCAT_FLAG_W,NITRAT,NITRAT_FLAG_W,NITRIT,NITRIT_FLAG_W,PHSPHT,PHSPHT_FLAG_W,CFC-11,CFC-11_FLAG_W,CFC-12,CFC-12_FLAG_W,CFC113,CFC113_FLAG_W,CCL4,CCL4_FLAG_W,TRITUM,TRITUM_FLAG_W,HELIUM,HELIUM_FLAG_W,DELHE3,DELHE3_FLAG_W,DELC14,DELC14_FLAG_W,DELC13,DELC13_FLAG_W,TCARBN,TCARBN_FLAG_W,PCO2,PCO2_FLAG_W,ALKALI,ALKALI_FLAG_W,PH,PH_FLAG_W,PCO2TMP,C14ERR,HELIER,DELHER,PH_TMP,C13ERR,THETA,TRITER
,,,,,,,,,,,,DBAR,ITS-90,PSS-78,,PSS-78,,UMOL/KG,,UMOL/KG,,UMOL/KG,,UMOL/KG,,UMOL/KG,,UMOL/KG,,PMOL/KG,,PMOL/KG,,PMOL/KG,,PMOL/KG,,TU,,NMOL/KG,,PERCNT,,/MILLE,,/MILLE,,UMOL/KG,,UATM,,UMOL/KG,,,,DEG C,/MILLE,NMOL/KG,PERCNT,DEG C,/MILLE,DEG C,TU
    31DSCG94_3,  P18N,   175,  1,    136,   1025,2,19940421,1522, 14.4983,-109.9983, 3677,      8.0,  28.2966,  33.8729,2,  33.8813,2,    204.4,2,    199.6,2,     0.00,2,     0.06,2,     0.00,2,     0.17,2, -999.000,9, -999.000,9, -999.000,9, -999.000,9, -999.000,9,-999.0000,9,  -999.00,9,   -999.0,9,   -999.0,9,   1902.0,3,    259.2,2,   2241.0,2,     8.12,2,   20.00,  -999.0,-999.0000,-999.000,   25.00,  -999.0, 28.2947,-999.000
    31DSCG94_3,  P18N,   175,  1,    135,   1247,2,19940421,1522, 14.4983,-109.9983, 3677,     24.8,  26.9963,  34.0502,2,  34.0498,2,    204.8,2,    205.4,2,     0.00,2,     0.02,2,     0.00,2,     0.13,2, -999.000,9, -999.000,9, -999.000,9, -999.000,9, -999.000,9,-999.0000,9,  -999.00,9,   -999.0,9,   -999.0,9,   -999.0,9,   -999.0,9,   -999.0,9,     8.12,2, -999.00,  -999.0,-999.0000,-999.000,   25.00,  -999.0, 26.9907,-999.000
    31DSCG94_3,  P18N,   175,  1,    134,   1216,2,19940421,1522, 14.4983,-109.9983, 3677,     48.7,  26.3609,  34.0667,2,  34.0692,2,    202.8,2,    208.4,2,     0.00,2,     0.00,2,     0.00,2,     0.13,2, -999.000,9, -999.000,9, -999.000,9, -999.000,9, -999.000,9,-999.0000,9,  -999.00,9,   -999.0,9,   -999.0,9,   1916.2,3,    269.5,2,   2241.0,2,     8.12,2,   20.00,  -999.0,-999.0000,-999.000,   25.00,  -999.0, 26.3499,-999.000
    31DSCG94_3,  P18N,   175,  1,    133,   1244,2,19940421,1522, 14.4983,-109.9983, 3677,     73.1,  25.5986,  34.2856,2,  34.2825,2,    199.9,2,    210.8,2,     0.00,2,     0.04,2,     0.00,2,     0.17,2, -999.000,9, -999.000,9, -999.000,9, -999.000,9, -999.000,9,-999.0000,9,  -999.00,9,   -999.0,9,   -999.0,9,   -999.0,9,   -999.0,9,   -999.0,9,     8.09,2, -999.00,  -999.0,-999.0000,-999.000,   25.00,  -999.0, 25.5825,-999.000
    31DSCG94_3,  P18N,   175,  1,    132,   1003,2,19940421,1522, 14.4983,-109.9983, 3677,     98.6,  20.9261,  34.2284,2,  34.2434,2,    200.6,2,    156.9,2,     1.99,2,     4.89,2,     0.53,2,     0.78,2, -999.000,9, -999.000,9, -999.000,9, -999.000,9, -999.000,9,-999.0000,9,  -999.00,9,   -999.0,9,   -999.0,9,   2061.2,3,    514.8,3,   2268.0,2,     7.89,2,   20.00,  -999.0,-999.0000,-999.000,   25.00,  -999.0, 20.9074,-999.000
    31DSCG94_3,  P18N,   175,  1,    131,   1211,2,19940421,1522, 14.4983,-109.9983, 3677,    124.3,  16.2423,  34.6571,2,  34.6404,2,    152.8,2,      8.5,6,    14.77,2,    26.38,2,     0.03,2,     2.21,2, -999.000,9, -999.000,9, -999.000,9, -999.000,9, -999.000,9,-999.0000,9,  -999.00,9,   -999.0,9,   -999.0,9,   -999.0,9,   -999.0,9,   -999.0,9,     7.54,2, -999.00,  -999.0,-999.0000,-999.000,   25.00,  -999.0, 16.2225,-999.000
    31DSCG94_3,  P18N,   175,  1,    130,   1241,2,19940421,1522, 14.4983,-109.9983, 3677,    148.4,  14.0552,  34.7306,2,  34.7381,2,     22.5,2,      0.3,2,    21.62,2,    27.36,2,     0.20,2,     2.44,2, -999.000,9, -999.000,9, -999.000,9, -999.000,9, -999.000,9,-999.0000,9,  -999.00,9,   -999.0,9,   -999.0,9,   2238.5,3,   1493.4,2,   2286.0,2,     7.47,2,   20.00,  -999.0,-999.0000,-999.000,   25.00,  -999.0, 14.0338,-999.000
    31DSCG94_3,  P18N,   175,  1,    129,   1240,2,19940421,1522, 14.4983,-109.9983, 3677,    175.6,  12.7588,  34.7544,2,  34.7563,2,     19.7,2,      2.8,2,    24.48,2,    26.52,2,     2.15,2,     2.50,2, -999.000,9, -999.000,9, -999.000,9, -999.000,9, -999.000,9,-999.0000,9,  -999.00,9,   -999.0,9,   -999.0,9,   -999.0,9,   -999.0,9,   -999.0,9,     7.46,2, -999.00,  -999.0,-999.0000,-999.000,   25.00,  -999.0, 12.7351,-999.000
    31DSCG94_3,  P18N,   175,  1,    128,   1114,2,19940421,1522, 14.4983,-109.9983, 3677,    199.5,  12.0914,  34.7530,2,  34.7531,2,     15.5,2,      1.0,2,    26.66,2,    28.93,2,     1.62,2,     2.51,2, -999.000,9, -999.000,9, -999.000,9, -999.000,9, -999.000,9,-999.0000,9,  -999.00,9,   -999.0,9,   -999.0,9,   2253.5,3,   1614.1,2,   2289.0,2,     7.44,2,   20.00,  -999.0,-999.0000,-999.000,   25.00,  -999.0, 12.0653,-999.000
    31DSCG94_3,  P18N,   175,  1,    127,   1008,2,19940421,1522, 14.4983,-109.9983, 3677,    250.9,  11.3529,  34.7319,2,  34.7312,2,      9.4,2,      0.2,2,    29.84,2,    30.69,2,     0.22,2,     2.55,2, -999.000,9, -999.000,9, -999.000,9, -999.000,9, -999.000,9,-999.0000,9,  -999.00,9,   -999.0,9,   -999.0,9,   2262.4,3,   1617.9,3,   2295.0,2,     7.43,2,   20.00,  -999.0,-999.0000,-999.000,   25.00,  -999.0, 11.3213,-999.000
    31DSCG94_3,  P18N,   175,  1,    126,   1007,2,19940421,1522, 14.4983,-109.9983, 3677,    300.0,  10.9117,  34.7077,2,  34.7061,2,      5.9,2,      0.9,2,    32.15,2,    29.91,2,     0.54,2,     2.61,2, -999.000,9, -999.000,9, -999.000,9, -999.000,9, -999.000,9,-999.0000,9,  -999.00,9,   -999.0,9,   -999.0,9,   2267.4,3,   1711.5,2,   2296.0,2,     7.41,2,   20.00,  -999.0,-999.0000,-999.000,   25.00,  -999.0, 10.8748,-999.000
    31DSCG94_3,  P18N,   175,  1,    125,   1256,2,19940421,1522, 14.4983,-109.9983, 3677,    349.5,  10.3142,  34.6768,2,  34.6762,2,      4.4,2,      0.6,2,    34.81,2,    29.56,2,     0.56,2,     2.67,2, -999.000,9, -999.000,9, -999.000,9, -999.000,9, -999.000,9,-999.0000,9,  -999.00,9,   -999.0,9,   -999.0,9,   -999.0,9,   -999.0,9,   -999.0,9,     7.40,2, -999.00,  -999.0,-999.0000,-999.000,   25.00,  -999.0, 10.2727,-999.000
    31DSCG94_3,  P18N,   175,  1,    123,   1220,2,19940421,1522, 14.4983,-109.9983, 3677,    399.4,   9.6276,  34.6372,2,  34.6367,2,      3.8,2,      0.9,6,    38.39,2,    31.61,2,     0.00,2,     2.76,2, -999.000,9, -999.000,9, -999.000,9, -999.000,9, -999.000,9,-999.0000,9,  -999.00,9,   -999.0,9,   -999.0,9,   2283.7,3,   1842.4,2,   2302.0,2,     7.38,2,   20.00,  -999.0,-999.0000,-999.000,   25.00,  -999.0,  9.5821,-999.000
    31DSCG94_3,  P18N,   175,  1,    122,   1245,2,19940421,1522, 14.4983,-109.9983, 3677,    499.2,   8.2550,  34.5717,2,  34.5707,2,      2.5,2,      2.0,2,    49.36,2,    34.76,2,     0.00,2,     2.94,2, -999.000,9, -999.000,9, -999.000,9, -999.000,9, -999.000,9,-999.0000,9,  -999.00,9,   -999.0,9,   -999.0,9,   2299.6,3,   1929.7,2,   2308.0,2,     7.37,2,   20.00,  -999.0,-999.0000,-999.000,   25.00,  -999.0,  8.2029,-999.000
    31DSCG94_3,  P18N,   175,  1,    121,   1206,2,19940421,1522, 14.4983,-109.9983, 3677,    601.0,   7.3880,  34.5401,2,  34.5397,2,      3.1,2,      3.6,2,    56.98,2,    36.97,2,     0.00,2,     3.02,2, -999.000,9, -999.000,9, -999.000,9, -999.000,9, -999.000,9,-999.0000,9,  -999.00,9,   -999.0,9,   -999.0,9,   2309.9,3,   1967.2,2,   2313.0,2,     7.36,2,   20.00,  -999.0,-999.0000,-999.000,   25.00,  -999.0,  7.3288,-999.000
    31DSCG94_3,  P18N,   175,  1,    120,   1028,2,19940421,1522, 14.4983,-109.9983, 3677,    701.6,   6.6405,  34.5408,2,  34.5406,2,      1.6,2,      1.5,2,    66.47,2,    39.20,2,     0.01,2,     3.16,2, -999.000,9, -999.000,9, -999.000,9, -999.000,9, -999.000,9,-999.0000,9,  -999.00,9,   -999.0,9,   -999.0,9,   2326.2,3,   2046.2,2,   2326.0,2,     7.34,2,   20.00,  -999.0,-999.0000,-999.000,   25.00,  -999.0,  6.5748,-999.000
    31DSCG94_3,  P18N,   175,  1,    119,   1248,2,19940421,1522, 14.4983,-109.9983, 3677,    798.9,   5.9565,  34.5359,2,  34.5363,2,      2.3,2,      1.6,2,    77.06,2,    41.39,2,     0.00,2,     3.25,2, -999.000,9, -999.000,9, -999.000,9, -999.000,9, -999.000,9,-999.0000,9,  -999.00,9,   -999.0,9,   -999.0,9,   2338.1,3,   2096.1,2,   2335.0,2,     7.33,2,   20.00,  -999.0,-999.0000,-999.000,   25.00,  -999.0,  5.8852,-999.000
    31DSCG94_3,  P18N,   175,  1,    118,   1115,2,19940421,1522, 14.4983,-109.9983, 3677,    900.0,   5.3085,  34.5352,2,  34.5356,2,      3.2,2,      3.4,2,    86.26,2,    42.67,2,     0.06,4,     3.29,2, -999.000,9, -999.000,9, -999.000,9, -999.000,9, -999.000,9,-999.0000,9,  -999.00,9,   -999.0,9,   -999.0,9,   2348.0,3,   2112.0,2,   2346.0,2,     7.33,2,   20.00,  -999.0,-999.0000,-999.000,   25.00,  -999.0,  5.2320,-999.000
    31DSCG94_3,  P18N,   175,  1,    117,   1119,2,19940421,1522, 14.4983,-109.9983, 3677,   1001.9,   4.7842,  34.5437,2,  34.5433,2,      7.6,2,      9.5,2,    92.65,2,    43.85,2,     0.00,2,     3.28,2, -999.000,9, -999.000,9, -999.000,9, -999.000,9, -999.000,9,-999.0000,9,  -999.00,9,   -999.0,9,   -999.0,9,   2355.6,3,   2094.0,2,   2355.0,6,     7.33,2,   20.00,  -999.0,-999.0000,-999.000,   25.00,  -999.0,  4.7022,-999.000
    31DSCG94_3,  P18N,   175,  1,    116,   1036,2,19940421,1522, 14.4983,-109.9983, 3677,   1100.2,   4.3741,  34.5536,2,  34.5537,2,     13.4,2,     16.7,2,   101.96,2,    44.34,2,     0.01,2,     3.31,2, -999.000,9, -999.000,9, -999.000,9, -999.000,9, -999.000,9,-999.0000,9,  -999.00,9,   -999.0,9,   -999.0,9,   -999.0,9,   -999.0,9,   -999.0,9,     7.34,2, -999.00,  -999.0,-999.0000,-999.000,   25.00,  -999.0,  4.2867,-999.000
    31DSCG94_3,  P18N,   175,  1,    115,   1017,2,19940421,1522, 14.4983,-109.9983, 3677,   1179.4,   4.0909,  34.5601,2,  34.5603,2,     17.9,2,     21.4,2,   109.93,2,    43.94,2,     0.02,2,     3.27,2, -999.000,9, -999.000,9, -999.000,9, -999.000,9, -999.000,9,-999.0000,9,  -999.00,9,   -999.0,9,   -999.0,9,   -999.0,9,   -999.0,9,   -999.0,9,     7.35,2, -999.00,  -999.0,-999.0000,-999.000,   25.00,  -999.0,  3.9992,-999.000
    31DSCG94_3,  P18N,   175,  1,    114,   1016,2,19940421,1522, 14.4983,-109.9983, 3677,   1299.8,   3.7301,  34.5733,2,  34.5731,2,     25.9,2,     29.8,2,   119.20,2,    43.55,2,     0.01,2,     3.23,2, -999.000,9, -999.000,9, -999.000,9, -999.000,9, -999.000,9,-999.0000,9,  -999.00,9,   -999.0,9,   -999.0,9,   -999.0,9,   -999.0,9,   -999.0,9,     7.37,2, -999.00,  -999.0,-999.0000,-999.000,   25.00,  -999.0,  3.6314,-999.000
    31DSCG94_3,  P18N,   175,  1,    113,   1209,2,19940421,1522, 14.4983,-109.9983, 3677,   1399.7,   3.4371,  34.5851,2,  34.5852,2,     33.8,2,     38.4,2,   123.68,2,    42.75,2,     0.00,2,     3.16,2, -999.000,9, -999.000,9, -999.000,9, -999.000,9, -999.000,9,-999.0000,9,  -999.00,9,   -999.0,9,   -999.0,9,   -999.0,9,   -999.0,9,   -999.0,9,     7.38,2, -999.00,  -999.0,-999.0000,-999.000,   25.00,  -999.0,  3.3328,-999.000
    31DSCG94_3,  P18N,   175,  1,    112,   1033,2,19940421,1522, 14.4983,-109.9983, 3677,   1600.3,   3.0631,  34.6008,2,  34.6007,2,     53.3,2,     51.0,2,   129.57,2,    41.78,2,     0.01,2,     3.07,2, -999.000,9, -999.000,9, -999.000,9, -999.000,9, -999.000,9,-999.0000,9,  -999.00,9,   -999.0,9,   -999.0,9,   -999.0,9,   -999.0,9,   -999.0,9,     7.41,2, -999.00,  -999.0,-999.0000,-999.000,   25.00,  -999.0,  2.9459,-999.000
    31DSCG94_3,  P18N,   175,  1,    111,   1240,2,19940421,1522, 14.4983,-109.9983, 3677,   1799.6,   2.6328,  34.6212,2,  34.6207,2,     68.5,2,     68.9,2,   137.24,2,    40.77,2,     0.00,2,     2.95,2, -999.000,9, -999.000,9, -999.000,9, -999.000,9, -999.000,9,-999.0000,9,  -999.00,9,   -999.0,9,   -999.0,9,   -999.0,9,   -999.0,9,   -999.0,9,     7.44,2, -999.00,  -999.0,-999.0000,-999.000,   25.00,  -999.0,  2.5041,-999.000
    31DSCG94_3,  P18N,   175,  1,    110,   1005,2,19940421,1522, 14.4983,-109.9983, 3677,   1999.4,   2.3234,  34.6356,2,  34.6337,2,     85.8,2,     81.6,2,   142.58,2,    40.10,2,     0.00,2,     2.84,2, -999.000,9, -999.000,9, -999.000,9, -999.000,9, -999.000,9,-999.0000,9,  -999.00,9,   -999.0,9,   -999.0,9,   -999.0,9,   -999.0,9,   -999.0,9,     7.47,2, -999.00,  -999.0,-999.0000,-999.000,   25.00,  -999.0,  2.1821,-999.000
    31DSCG94_3,  P18N,   175,  1,    109,   1611,2,19940421,1522, 14.4983,-109.9983, 3677,   2196.7,   2.1002,  34.6476,2,  34.6468,2,     93.2,2,     92.2,2,   146.51,2,    39.28,2,     0.01,2,     2.79,2, -999.000,9, -999.000,9, -999.000,9, -999.000,9, -999.000,9,-999.0000,9,  -999.00,9,   -999.0,9,   -999.0,9,   -999.0,9,   -999.0,9,   -999.0,9,  -999.00,9, -999.00,  -999.0,-999.0000,-999.000, -999.00,  -999.0,  1.9452,-999.000
    31DSCG94_3,  P18N,   175,  1,    108,   1218,2,19940421,1522, 14.4983,-109.9983, 3677,   2399.2,   1.9301,  34.6570,2,  34.6568,2,    104.1,2,    101.3,2,   151.06,2,    38.51,2,     0.02,2,     2.75,2, -999.000,9, -999.000,9, -999.000,9, -999.000,9, -999.000,9,-999.0000,9,  -999.00,9,   -999.0,9,   -999.0,9,   -999.0,9,   -999.0,9,   -999.0,9,     7.50,2, -999.00,  -999.0,-999.0000,-999.000,   25.00,  -999.0,  1.7602,-999.000
    31DSCG94_3,  P18N,   175,  1,    107,   1257,2,19940421,1522, 14.4983,-109.9983, 3677,   2599.6,   1.7710,  34.6660,2,  34.6656,2,    112.4,2,    112.2,2,   152.89,2,    37.86,2,     0.01,2,     2.69,2, -999.000,9, -999.000,9, -999.000,9, -999.000,9, -999.000,9,-999.0000,9,  -999.00,9,   -999.0,9,   -999.0,9,   -999.0,9,   -999.0,9,   -999.0,9,  -999.00,9, -999.00,  -999.0,-999.0000,-999.000, -999.00,  -999.0,  1.5859,-999.000
    31DSCG94_3,  P18N,   175,  1,    106,   1224,2,19940421,1522, 14.4983,-109.9983, 3677,   2799.2,   1.7095,  34.6703,2,  34.6705,2,    117.1,2,    117.1,6,   157.64,2,    37.63,2,     0.00,2,     2.65,2, -999.000,9, -999.000,9, -999.000,9, -999.000,9, -999.000,9,-999.0000,9,  -999.00,9,   -999.0,9,   -999.0,9,   -999.0,9,   -999.0,9,   -999.0,9,     7.53,2, -999.00,  -999.0,-999.0000,-999.000,   25.00,  -999.0,  1.5072,-999.000
    31DSCG94_3,  P18N,   175,  1,    105,   1246,2,19940421,1522, 14.4983,-109.9983, 3677,   3002.9,   1.6757,  34.6731,2,  34.6728,2,    120.7,2,    122.2,2,   155.37,6,    37.33,6,     0.01,6,     2.61,6, -999.000,9, -999.000,9, -999.000,9, -999.000,9, -999.000,9,-999.0000,9,  -999.00,9,   -999.0,9,   -999.0,9,   -999.0,9,   -999.0,9,   -999.0,9,  -999.00,9, -999.00,  -999.0,-999.0000,-999.000, -999.00,  -999.0,  1.4547,-999.000
    31DSCG94_3,  P18N,   175,  1,    104,   1217,2,19940421,1522, 14.4983,-109.9983, 3677,   3199.8,   1.6618,  34.6748,2,  34.6741,2,    122.1,2,    124.2,2,   157.31,2,    36.97,2,     0.01,2,     2.62,2, -999.000,9, -999.000,9, -999.000,9, -999.000,9, -999.000,9,-999.0000,9,  -999.00,9,   -999.0,9,   -999.0,9,   -999.0,9,   -999.0,9,   -999.0,9,  -999.00,9, -999.00,  -999.0,-999.0000,-999.000, -999.00,  -999.0,  1.4219,-999.000
    31DSCG94_3,  P18N,   175,  1,    103,   9999,2,19940421,1522, 14.4983,-109.9983, 3677,   3399.2,   1.6405,  34.6771,2,  34.6781,2,    125.4,2,    127.5,2,   159.30,2,    36.65,2,     0.01,2,     2.58,2, -999.000,9, -999.000,9, -999.000,9, -999.000,9, -999.000,9,-999.0000,9,  -999.00,9,   -999.0,9,   -999.0,9,   -999.0,9,   -999.0,9,   -999.0,9,  -999.00,9, -999.00,  -999.0,-999.0000,-999.000, -999.00,  -999.0,  1.3811,-999.000
    31DSCG94_3,  P18N,   175,  1,    102,   1223,2,19940421,1522, 14.4983,-109.9983, 3677,   3399.4,   1.6410,  34.6771,2,  34.6765,2,    125.4,2,    127.7,2,   156.45,2,    36.76,2,     0.00,2,     2.59,2, -999.000,9, -999.000,9, -999.000,9, -999.000,9, -999.000,9,-999.0000,9,  -999.00,9,   -999.0,9,   -999.0,9,   -999.0,9,   -999.0,9,   -999.0,9,  -999.00,9, -999.00,  -999.0,-999.0000,-999.000, -999.00,  -999.0,  1.3816,-999.000
    31DSCG94_3,  P18N,   175,  1,    101,   1041,2,19940421,1522, 14.4983,-109.9983, 3677,   3524.9,   1.6402,  34.6778,2,  34.6766,2,    127.8,2,    129.2,2,   154.83,2,    36.47,2,     0.00,2,     2.59,2, -999.000,9, -999.000,9, -999.000,9, -999.000,9, -999.000,9,-999.0000,9,  -999.00,9,   -999.0,9,   -999.0,9,   -999.0,9,   -999.0,9,   -999.0,9,  -999.00,9, -999.00,  -999.0,-999.0000,-999.000, -999.00,  -999.0,  1.3679,-999.000