BOTTLE,20220630CCHSIOAMB
EXPOCODE,SECT_ID,STNNBR,CASTNO,SAMPNO,BTLNBR,BTLNBR_FLAG_W,DATE,TIME,LATITUDE,LONGITUDE,DEPTH,CTDPRS,CTDTMP,CTDSAL,CTDSAL_FLAG_W,SALNTY,SALNTY_FLAG_W,CTDOXY,CTDOXY_FLAG_W,OXYGEN,OXYGEN_FLAG_W,SILCAT,SILCAT_FLAG_W,NITRAT,NITRAT_FLAG_W,NITRIT,NITRIT_FLAG_W,PHSPHT,PHSPHT_FLAG_W,CFC-11,CFC-11_FLAG_W,CFC-12,CFC-12_FLAG_W,CFC113,CFC113_FLAG_W,CCL4,CCL4_FLAG_W,TRITUM,TRITUM_FLAG_W,HELIUM,HELIUM_FLAG_W,DELHE3,DELHE3_FLAG_W,DELC14,DELC14_FLAG_W,DELC13,DELC13_FLAG_W,TCARBN,TCARBN_FLAG_W,PCO2,PCO2_FLAG_W,ALKALI,ALKALI_FLAG_W,PH,PH_FLAG_W,PCO2TMP,C14ERR,HELIER,DELHER,PH_TMP,C13ERR,THETA,TRITER
,,,,,,,,,,,,DBAR,ITS-90,PSS-78,,PSS-78,,UMOL/KG,,UMOL/KG,,UMOL/KG,,UMOL/KG,,UMOL/KG,,UMOL/KG,,PMOL/KG,,PMOL/KG,,PMOL/KG,,PMOL/KG,,TU,,NMOL/KG,,PERCNT,,/MILLE,,/MILLE,,UMOL/KG,,UATM,,UMOL/KG,,,,DEG C,/MILLE,NMOL/KG,PERCNT,DEG C,/MILLE,DEG C,TU
    31DSCG94_3,  P18N,   168,  3,    336,   1025,2,19940419,1727, 10.0002,-110.0005, 3310,      8.9,  28.8209,  33.9920,2,  33.9954,2,    123.0,3,    197.8,2,     0.42,2,     0.06,2,     0.00,2,     0.17,2,    1.658,2,    0.976,2, -999.000,9, -999.000,9,    1.100,2,   1.7175,2,    -0.95,2,     74.7,2,      1.6,2,   1908.5,2,    264.4,2,   2235.0,2,     8.12,2,   20.00,     3.1,-999.0000,-999.000,   25.00,  -999.0, 28.8187,   0.009
    31DSCG94_3,  P18N,   168,  3,    335,   1247,2,19940419,1727, 10.0002,-110.0005, 3310,     24.2,  28.7443,  34.0000,2,  34.0032,2,    189.8,2,    198.1,2,     0.42,2,     0.00,2,     0.00,2,     0.17,2,    1.661,2,    1.036,2, -999.000,9, -999.000,9, -999.000,9,-999.0000,9,  -999.00,9,     78.6,2,      1.7,2,   1908.8,2,    260.6,2,   2232.0,2,     8.12,2,   20.00,     3.5,-999.0000,-999.000,   25.00,  -999.0, 28.7385,-999.000
    31DSCG94_3,  P18N,   168,  3,    334,   1216,2,19940419,1727, 10.0002,-110.0005, 3310,     49.6,  28.2357,  34.0893,2,  34.0954,2,    187.5,2,    202.0,2,     0.73,2,     0.00,2,     0.00,2,     0.17,2,    1.707,2,    0.971,2, -999.000,9, -999.000,9,    1.099,2,   1.6996,2,    -0.76,2,     55.3,2,      1.6,2,   1914.2,2,    269.2,2,   2238.0,2,     8.11,2,   20.00,     4.2,-999.0000,-999.000,   25.00,  -999.0, 28.2240,   0.009
    31DSCG94_3,  P18N,   168,  3,    333,   1244,2,19940419,1727, 10.0002,-110.0005, 3310,     73.7,  23.6710,  34.1974,2,  34.2352,3,    192.8,2,    104.4,2,     5.34,2,    10.29,2,     1.55,2,     1.14,2,    1.424,2,    0.804,2, -999.000,9, -999.000,9, -999.000,9,-999.0000,9,  -999.00,9,     53.9,2,      0.7,2,   2059.9,2,    545.2,2,   2252.0,2,     7.86,2,   20.00,     3.7,-999.0000,-999.000,   25.00,  -999.0, 23.6557,-999.000
    31DSCG94_3,  P18N,   168,  3,    332,   1003,2,19940419,1727, 10.0002,-110.0005, 3310,    100.7,  16.7473,  34.7042,2,  34.7081,2,     50.8,2,     13.2,2,    17.47,2,    27.87,2,     0.02,2,     2.19,2,    0.790,2,    0.438,2, -999.000,9, -999.000,9, -999.000,9,   1.7572,2,     6.59,2,   -999.0,9,   -999.0,5,   2204.6,2,   1194.8,2,   2277.0,2,     7.55,2,   20.00,  -999.0,-999.0000,-999.000,   25.00,  -999.0, 16.7309,-999.000
    31DSCG94_3,  P18N,   168,  3,    331,   1211,2,19940419,1727, 10.0002,-110.0005, 3310,    124.9,  14.2647,  34.7823,2,  34.7827,2,     22.1,2,      5.4,6,    21.63,2,    30.78,2,     0.00,2,     2.33,2,    0.571,6,    0.319,6, -999.000,9, -999.000,9,    0.705,2,   1.7469,2,     7.59,2,     21.3,2,     -0.1,2,   2229.2,2,   1368.2,2,   2286.0,2,     7.50,2,   20.00,     3.5,-999.0000,-999.000,   25.00,  -999.0, 14.2465,   0.007
    31DSCG94_3,  P18N,   168,  3,    330,   1241,2,19940419,1727, 10.0002,-110.0005, 3310,    149.8,  12.7575,  34.7949,2,  34.7933,2,     20.9,2,     13.8,2,    24.42,2,    31.19,2,     0.00,2,     2.31,2,    0.425,2,    0.231,2, -999.000,9, -999.000,9, -999.000,9,-999.0000,9,  -999.00,9,   -999.0,9,     -0.1,2,   2233.0,2,   1373.2,2,   -999.0,5,     7.50,2,   20.00,  -999.0,-999.0000,-999.000,   25.00,  -999.0, 12.7373,-999.000
    31DSCG94_3,  P18N,   168,  3,    329,   1240,2,19940419,1727, 10.0002,-110.0005, 3310,    174.2,  12.1813,  34.7859,2,  34.7847,2,     14.0,2,      8.4,2,    26.12,2,    32.45,2,     0.00,2,     2.38,2,    0.299,2,    0.170,2, -999.000,9, -999.000,9,    0.445,2,   1.7621,2,     7.67,2,     -3.8,2,     -0.1,2,   2243.7,2,   1464.0,2,   2292.0,2,  -999.00,9,   20.00,     4.4,-999.0000,-999.000, -999.00,  -999.0, 12.1584,   0.006
    31DSCG94_3,  P18N,   168,  3,    328,   1032,2,19940419,1727, 10.0002,-110.0005, 3310,    193.9,  11.8842,  34.7750,2,  34.7742,2,     14.9,2,     10.7,2,    26.73,2,    32.75,2,     0.00,2,     2.36,2,    0.279,2,    0.154,2, -999.000,9, -999.000,9,    0.434,2,   1.7643,2,     7.54,2,    -18.3,2,     -0.1,2,   2245.2,2,   1461.1,2,   2294.0,2,     7.47,2,   20.00,     5.4,-999.0000,-999.000,   25.00,  -999.0, 11.8592,   0.006
    31DSCG94_3,  P18N,   168,  3,    327,   1008,2,19940419,1727, 10.0002,-110.0005, 3310,    249.4,  11.2838,  34.7491,2,  34.7488,2,     18.1,2,     13.0,2,    28.55,2,    33.14,2,     0.00,2,     2.43,2,    0.201,2,    0.117,2, -999.000,9, -999.000,9,    0.338,2,-999.0000,9,  -999.00,9,    -59.5,2,     -0.1,2,   2249.1,2,   1494.5,2,   2299.0,2,     7.47,2,   20.00,     3.3,-999.0000,-999.000,   25.00,  -999.0, 11.2526,   0.006
    31DSCG94_3,  P18N,   168,  3,    326,   1007,2,19940419,1727, 10.0002,-110.0005, 3310,    299.8,  10.7671,  34.7275,2,  34.7254,2,     24.0,2,     25.8,2,    30.13,2,    32.31,2,     0.00,2,     2.39,2,    0.198,2,    0.110,2, -999.000,9, -999.000,9,    0.282,2,-999.0000,9,  -999.00,9,    -65.1,2,      0.0,2,   2246.7,2,   1443.9,2,   2302.0,2,     7.48,2,   20.00,     2.8,-999.0000,-999.000,   25.00,  -999.0, 10.7306,   0.005
    31DSCG94_3,  P18N,   168,  3,    325,   1256,2,19940419,1727, 10.0002,-110.0005, 3310,    348.8,  10.3081,  34.7018,2,  34.6997,2,     17.4,2,     10.7,2,    33.75,2,    33.44,2,     0.00,2,     2.52,2,    0.091,6,    0.053,6, -999.000,9, -999.000,9,    0.185,2,   1.8277,2,     6.19,2,    -89.2,2,     -0.1,2,   2262.4,2,   1629.8,2,   2297.0,2,     7.43,2,   20.00,     2.8,-999.0000,-999.000,   25.00,  -999.0, 10.2667,   0.005
    31DSCG94_3,  P18N,   168,  3,    323,   1220,2,19940419,1727, 10.0002,-110.0005, 3310,    399.1,   9.8153,  34.6764,2,  34.6741,2,      6.7,2,      2.9,2,    37.51,2,    34.57,2,     0.00,2,     2.68,2,    0.032,2,    0.021,2, -999.000,9, -999.000,9,    0.083,2,   1.8094,2,     5.92,2,   -106.3,2,     -0.1,2,   2277.6,2,   1767.0,2,   2309.0,2,     7.40,2,   20.00,     3.3,-999.0000,-999.000,   25.00,  -999.0,  9.7693,   0.004
    31DSCG94_3,  P18N,   168,  3,    322,   1245,2,19940419,1727, 10.0002,-110.0005, 3310,    500.2,   8.5435,  34.6047,2,  34.6028,2,      4.1,2,      2.2,2,    47.90,2,    35.25,2,     0.00,2,     2.90,2,    0.007,2,    0.003,2, -999.000,9, -999.000,9,    0.021,2,   1.8259,2,     6.79,2,   -134.8,2,     -0.2,2,   2296.9,2,   1883.5,3,   2322.0,2,     7.37,2,   20.00,     3.5,-999.0000,-999.000,   25.00,  -999.0,  8.4902,   0.003
    31DSCG94_3,  P18N,   168,  3,    321,   1206,2,19940419,1727, 10.0002,-110.0005, 3310,    599.6,   7.2276,  34.5693,2,  34.5685,2,      2.6,2,      1.0,2,    61.52,2,    37.39,2,     0.00,2,     3.14,2,    0.002,2,    0.002,2, -999.000,9, -999.000,9, -999.000,9,-999.0000,9,  -999.00,9,   -154.9,2,     -0.2,2,   2316.6,2,   2002.9,2,   2326.0,2,     7.35,2,   20.00,     3.4,-999.0000,-999.000,   25.00,  -999.0,  7.1691,-999.000
    31DSCG94_3,  P18N,   168,  3,    320,   1028,2,19940419,1727, 10.0002,-110.0005, 3310,    698.7,   6.4024,  34.5584,2,  34.5586,2,      2.7,2,      1.7,2,    70.43,2,    41.06,2,     0.00,2,     3.23,2,    0.000,2,    0.002,2, -999.000,9, -999.000,9,    0.006,2,   1.8634,2,    11.99,2,   -155.0,2,     -0.2,2,   2327.7,2,   2064.8,2,   2336.0,2,     7.34,2,   20.00,     7.2,-999.0000,-999.000,   25.00,  -999.0,  6.3382,   0.003
    31DSCG94_3,  P18N,   168,  3,    319,   1248,2,19940419,1727, 10.0002,-110.0005, 3310,    798.9,   5.7098,  34.5499,2,  34.5503,2,      6.2,2,      7.2,2,    78.49,2,    42.96,2,     0.00,2,     3.27,2, -999.000,9, -999.000,9, -999.000,9, -999.000,9,    0.002,2,-999.0000,9,  -999.00,9,   -169.6,2,     -0.2,2,   2333.4,2,   2061.8,2,   2345.0,2,     7.34,2,   20.00,     4.7,-999.0000,-999.000,   25.00,  -999.0,  5.6400,   0.003
    31DSCG94_3,  P18N,   168,  3,    318,   1115,2,19940419,1727, 10.0002,-110.0005, 3310,    898.2,   5.2342,  34.5516,2,  34.5512,2,     12.8,2,     14.6,2,    85.66,2,    44.04,2,     0.00,2,     3.24,2,   -0.001,2,    0.001,2, -999.000,9, -999.000,9,   -0.004,2,   1.8910,2,    15.56,2,   -999.0,5,     -0.3,2,   2335.1,2,   2025.6,2,   2346.0,2,     7.35,2,   20.00,  -999.0,-999.0000,-999.000,   25.00,  -999.0,  5.1584,   0.003
    31DSCG94_3,  P18N,   168,  3,    317,   1119,3,19940419,1727, 10.0002,-110.0005, 3310,    999.2,   4.7793,  34.5571,2,  34.5563,2,     16.0,2,   -999.0,9,    92.49,2,    44.58,2,     0.00,2,     3.28,2, -999.000,9, -999.000,9, -999.000,9, -999.000,9, -999.000,9,-999.0000,9,  -999.00,9,   -188.8,2,     -0.3,2,   -999.0,9,   -999.0,9,   -999.0,9,  -999.00,9, -999.00,     3.6,-999.0000,-999.000, -999.00,  -999.0,  4.6976,-999.000
    31DSCG94_3,  P18N,   168,  3,    316,   1036,2,19940419,1727, 10.0002,-110.0005, 3310,   1099.5,   4.3409,  34.5646,2,  34.5640,2,     24.1,2,     29.4,2,    99.27,2,    43.92,2,     0.00,2,     3.23,2, -999.000,9, -999.000,9, -999.000,9, -999.000,9, -999.000,9,-999.0000,9,  -999.00,9,   -204.8,2,     -0.3,2,   2347.7,2,   1930.3,2,   2372.0,2,     7.37,2,   20.00,     4.7,-999.0000,-999.000,   25.00,  -999.0,  4.2539,-999.000
    31DSCG94_3,  P18N,   168,  3,    315,   1017,2,19940419,1727, 10.0002,-110.0005, 3310,   1199.0,   3.9978,  34.5734,2,  34.5737,2,     32.1,2,     36.1,6,   105.34,2,    43.68,2,     0.00,2,     3.18,2,    0.001,2,    0.002,2, -999.000,9, -999.000,9,    0.002,2,   1.9129,2,    20.72,2,   -208.5,2,     -0.2,2,   2350.7,2,   1876.0,2,   2381.0,2,     7.38,2,   20.00,     3.9,-999.0000,-999.000,   25.00,  -999.0,  3.9052,   0.003
    31DSCG94_3,  P18N,   168,  3,    314,   1016,2,19940419,1727, 10.0002,-110.0005, 3310,   1299.2,   3.6706,  34.5833,2,  34.5828,2,     39.6,2,     44.0,2,   110.89,2,    43.98,2,     0.00,2,     3.13,2, -999.000,9, -999.000,9, -999.000,9, -999.000,9, -999.000,9,   1.8870,2,    22.30,2,   -217.6,2,     -0.3,2,   2354.8,2,   1824.0,2,   2389.0,2,     7.40,2,   20.00,     5.0,-999.0000,-999.000,   25.00,  -999.0,  3.5725,-999.000
    31DSCG94_3,  P18N,   168,  3,    313,   1209,2,19940419,1727, 10.0002,-110.0005, 3310,   1398.0,   3.4830,  34.5893,2,-999.0000,5,     45.8,2,     49.6,2,  -999.00,9,  -999.00,9,  -999.00,9,  -999.00,9, -999.000,9, -999.000,9, -999.000,9, -999.000,9,    0.015,2,   1.8870,2,    23.47,2,   -230.5,2,     -0.2,2,   2356.0,2,   1789.5,2,   2389.0,2,  -999.00,9,   20.00,     5.2,-999.0000,-999.000, -999.00,  -999.0,  3.3783,   0.005
    31DSCG94_3,  P18N,   168,  3,    312,   1033,2,19940419,1727, 10.0002,-110.0005, 3310,   1498.3,   3.2389,  34.5985,2,  34.5981,2,     53.8,2,     54.6,2,   123.34,2,    42.66,2,     0.00,2,     3.10,2, -999.000,9, -999.000,9, -999.000,9, -999.000,9, -999.000,9,-999.0000,9,  -999.00,9,   -224.0,2,     -0.2,2,   2361.2,2,   1758.3,2,   2403.0,2,     7.42,2,   20.00,     3.7,-999.0000,-999.000,   25.00,  -999.0,  3.1284,-999.000
    31DSCG94_3,  P18N,   168,  3,    311,   1240,2,19940419,1727, 10.0002,-110.0005, 3310,   1598.7,   2.9964,  34.6074,2,  34.6064,2,     62.3,2,     62.6,2,   132.70,2,    41.49,2,     0.00,2,     3.03,2,   -0.009,2,   -0.002,2, -999.000,9, -999.000,9, -999.000,9,   1.9040,2,    26.06,2,   -230.7,2,     -0.2,2,   2361.6,2,   1704.4,2,   2399.0,2,     7.43,2,   20.00,     2.8,-999.0000,-999.000,   25.00,  -999.0,  2.8802,-999.000
    31DSCG94_3,  P18N,   168,  3,    310,   1005,2,19940419,1727, 10.0002,-110.0005, 3310,   1798.4,   2.6368,  34.6237,2,  34.6255,2,     76.8,2,     73.7,2,   140.90,2,    41.16,2,     0.00,2,     2.95,2, -999.000,9, -999.000,9, -999.000,9, -999.000,9, -999.000,9,   1.9210,2,    27.79,2,   -233.7,2,     -0.3,2,   2362.4,2,   1612.5,2,   2411.0,2,     7.45,2,   20.00,     2.8,-999.0000,-999.000,   25.00,  -999.0,  2.5082,-999.000
    31DSCG94_3,  P18N,   168,  3,    309,   1611,2,19940419,1727, 10.0002,-110.0005, 3310,   1997.1,   2.2977,  34.6410,2,  34.6405,2,     88.0,2,     85.6,2,   147.50,2,    40.18,2,     0.00,2,     2.82,2, -999.000,9, -999.000,9, -999.000,9, -999.000,9, -999.000,9,   1.9260,2,    30.71,2,   -236.9,2,     -0.2,2,   2365.0,2,   1535.8,2,   2432.0,3,     7.47,2,   20.00,     4.3,-999.0000,-999.000,   25.00,  -999.0,  2.1570,-999.000
    31DSCG94_3,  P18N,   168,  3,    308,   1218,2,19940419,1727, 10.0002,-110.0005, 3310,   2193.3,   2.0425,  34.6539,2,  34.6535,2,     96.2,2,     96.8,2,   151.69,2,    39.23,2,     0.00,2,     2.79,2, -999.000,9, -999.000,9, -999.000,9, -999.000,9, -999.000,9,   1.9470,2,    33.20,2,   -233.9,2,     -0.1,2,   2364.1,2,   1457.3,2,   2427.0,2,     7.50,2,   20.00,     3.8,-999.0000,-999.000,   25.00,  -999.0,  1.8888,-999.000
    31DSCG94_3,  P18N,   168,  3,    307,   1257,2,19940419,1727, 10.0002,-110.0005, 3310,   2399.0,   1.9231,  34.6613,2,  34.6609,2,    104.2,2,    103.7,2,   153.38,2,    38.73,2,     0.00,2,     2.75,2, -999.000,9, -999.000,9, -999.000,9, -999.000,9, -999.000,9,   1.9420,2,    34.65,2,   -242.4,2,     -0.1,2,   2363.7,2,   1411.1,2,   2435.0,2,     7.51,2,   20.00,     2.5,-999.0000,-999.000,   25.00,  -999.0,  1.7533,-999.000
    31DSCG94_3,  P18N,   168,  3,    306,   1224,2,19940419,1727, 10.0002,-110.0005, 3310,   2600.6,   1.8369,  34.6671,2,  34.6662,2,    110.2,2,    109.6,2,   152.31,2,    38.33,2,     0.00,2,     2.71,2, -999.000,9, -999.000,9, -999.000,9, -999.000,9, -999.000,9,   1.9560,2,    34.19,2,   -243.0,2,     -0.1,2,   2361.3,2,   1364.0,2,   2437.0,2,     7.52,2,   20.00,     2.3,-999.0000,-999.000,   25.00,  -999.0,  1.6504,-999.000
    31DSCG94_3,  P18N,   168,  3,    305,   1246,2,19940419,1727, 10.0002,-110.0005, 3310,   2801.3,   1.7659,  34.6712,2,  34.6703,2,    115.2,2,    115.5,6,   151.81,2,    38.05,2,     0.00,2,     2.67,2, -999.000,9, -999.000,9, -999.000,9, -999.000,9, -999.000,9,   1.9400,2,    32.26,2,   -241.9,2,     -0.0,2,   2360.9,2,   1335.9,2,   2429.0,2,     7.53,2,   20.00,     2.5,-999.0000,-999.000,   25.00,  -999.0,  1.5622,-999.000
    31DSCG94_3,  P18N,   168,  3,    304,   1217,2,19940419,1727, 10.0002,-110.0005, 3310,   2999.4,   1.7180,  34.6740,2,  34.6739,2,    119.8,2,    120.2,2,   150.83,2,    38.11,2,     0.00,2,     2.63,2, -999.000,9, -999.000,9, -999.000,9, -999.000,9, -999.000,9,   1.9260,2,    29.62,2,   -242.8,2,     -0.1,2,   2356.5,2,   1304.8,2,   2435.0,2,     7.54,2,   20.00,     3.5,-999.0000,-999.000,   25.00,  -999.0,  1.4964,-999.000
    31DSCG94_3,  P18N,   168,  3,    302,   1223,2,19940419,1727, 10.0002,-110.0005, 3310,   3196.4,   1.6828,  34.6764,2,  34.6761,2,    123.4,2,    123.8,2,   153.18,2,    37.12,2,     0.00,2,     2.63,2, -999.000,9, -999.000,9, -999.000,9, -999.000,9, -999.000,9,   1.9200,2,    28.14,2,   -241.1,2,     -0.0,2,   2354.7,2,   1269.4,2,   2425.0,3,     7.55,2,   20.00,     4.1,-999.0000,-999.000,   25.00,  -999.0,  1.4427,-999.000
    31DSCG94_3,  P18N,   168,  3,    303,   9999,2,19940419,1727, 10.0002,-110.0005, 3310,   3198.7,   1.6834,  34.6763,2,  34.6790,3,    123.8,2,    123.8,2,   149.93,2,    38.20,2,     0.00,2,     2.59,2, -999.000,9, -999.000,9, -999.000,9, -999.000,9, -999.000,9,-999.0000,9,  -999.00,9,   -999.0,9,   -999.0,9,   2354.2,2,   1284.1,2,   2428.0,2,     7.55,2,   20.00,  -999.0,-999.0000,-999.000,   25.00,  -999.0,  1.4431,-999.000
    31DSCG94_3,  P18N,   168,  3,    301,   1041,2,19940419,1727, 10.0002,-110.0005, 3310,   3342.1,   1.6506,  34.6780,2,  34.6787,2,    127.4,2,    127.5,2,   157.09,2,    36.91,2,     0.00,2,     2.62,2, -999.000,9, -999.000,9, -999.000,9, -999.000,9, -999.000,9,   1.9270,2,    25.80,2,   -236.7,2,     -0.0,2,   2355.4,2,   1258.0,2,   2433.0,2,     7.55,2,   20.00,     4.0,-999.0000,-999.000,   25.00,  -999.0,  1.3967,-999.000