BOTTLE,20220630CCHSIOAMB
EXPOCODE,SECT_ID,STNNBR,CASTNO,SAMPNO,BTLNBR,BTLNBR_FLAG_W,DATE,TIME,LATITUDE,LONGITUDE,DEPTH,CTDPRS,CTDTMP,CTDSAL,CTDSAL_FLAG_W,SALNTY,SALNTY_FLAG_W,CTDOXY,CTDOXY_FLAG_W,OXYGEN,OXYGEN_FLAG_W,SILCAT,SILCAT_FLAG_W,NITRAT,NITRAT_FLAG_W,NITRIT,NITRIT_FLAG_W,PHSPHT,PHSPHT_FLAG_W,CFC-11,CFC-11_FLAG_W,CFC-12,CFC-12_FLAG_W,CFC113,CFC113_FLAG_W,CCL4,CCL4_FLAG_W,TRITUM,TRITUM_FLAG_W,HELIUM,HELIUM_FLAG_W,DELHE3,DELHE3_FLAG_W,DELC14,DELC14_FLAG_W,DELC13,DELC13_FLAG_W,TCARBN,TCARBN_FLAG_W,PCO2,PCO2_FLAG_W,ALKALI,ALKALI_FLAG_W,PH,PH_FLAG_W,PCO2TMP,C14ERR,HELIER,DELHER,PH_TMP,C13ERR,THETA,TRITER
,,,,,,,,,,,,DBAR,ITS-90,PSS-78,,PSS-78,,UMOL/KG,,UMOL/KG,,UMOL/KG,,UMOL/KG,,UMOL/KG,,UMOL/KG,,PMOL/KG,,PMOL/KG,,PMOL/KG,,PMOL/KG,,TU,,NMOL/KG,,PERCNT,,/MILLE,,/MILLE,,UMOL/KG,,UATM,,UMOL/KG,,,,DEG C,/MILLE,NMOL/KG,PERCNT,DEG C,/MILLE,DEG C,TU
    31DSCG94_2,  P18S,    13,  1,    136,   1025,2,19940228,1547,-65.4995,-102.9993, 4897,      8.8,   2.0573,  33.7066,2,  33.7086,2,    406.4,3,    328.6,2,    11.74,2,    24.26,2,     0.31,2,     1.67,2, -999.000,9, -999.000,9, -999.000,9, -999.000,9, -999.000,9,-999.0000,9,  -999.00,9,   -999.0,9,   -999.0,9,   2128.3,2,    727.1,6,   2275.0,2,  -999.00,9,   20.00,  -999.0,-999.0000,-999.000, -999.00,  -999.0,  2.0569,-999.000
    31DSCG94_2,  P18S,    13,  1,    135,   1247,2,19940228,1547,-65.4995,-102.9993, 4897,     26.6,   2.0571,  33.7071,2,  33.7079,2,    323.9,2,    328.1,2,    11.79,2,    23.11,2,     0.28,2,     1.66,2, -999.000,9, -999.000,9, -999.000,9, -999.000,9, -999.000,9,-999.0000,9,  -999.00,9,   -999.0,9,   -999.0,9,   -999.0,9,   -999.0,9,   -999.0,9,  -999.00,9, -999.00,  -999.0,-999.0000,-999.000, -999.00,  -999.0,  2.0558,-999.000
    31DSCG94_2,  P18S,    13,  1,    134,   1108,2,19940228,1547,-65.4995,-102.9993, 4897,     50.0,   1.9986,  33.7019,2,  33.7099,2,    324.2,2,    328.7,2,    11.87,2,    23.94,2,     0.28,2,     1.67,2, -999.000,9, -999.000,9, -999.000,9, -999.000,9, -999.000,9,-999.0000,9,  -999.00,9,   -999.0,9,   -999.0,9,   2128.7,2,    712.7,6,   2278.0,2,  -999.00,9,   20.00,  -999.0,-999.0000,-999.000, -999.00,  -999.0,  1.9961,-999.000
    31DSCG94_2,  P18S,    13,  1,    133,   1103,3,19940228,1547,-65.4995,-102.9993, 4897,     73.2,  -0.7859,  33.8040,2,  33.8058,2,    350.9,2,    350.1,2,    18.25,2,    24.87,2,     0.19,2,     1.83,2, -999.000,9, -999.000,9, -999.000,9, -999.000,9, -999.000,9,-999.0000,9,  -999.00,9,   -999.0,9,   -999.0,9,   -999.0,9,   -999.0,9,   -999.0,9,  -999.00,9, -999.00,  -999.0,-999.0000,-999.000, -999.00,  -999.0, -0.7879,-999.000
    31DSCG94_2,  P18S,    13,  1,    132,   1003,2,19940228,1547,-65.4995,-102.9993, 4897,     99.3,  -0.1692,  33.8976,2,  33.8957,2,    339.0,2,    342.3,2,    20.64,2,    26.20,2,     0.16,2,     1.87,2, -999.000,9, -999.000,9, -999.000,9, -999.000,9, -999.000,9,-999.0000,9,  -999.00,9,   -999.0,9,   -999.0,9,   2149.5,2,    794.3,6,   2297.0,2,  -999.00,9,   20.00,  -999.0,-999.0000,-999.000, -999.00,  -999.0, -0.1725,-999.000
    31DSCG94_2,  P18S,    13,  1,    131,   1224,3,19940228,1547,-65.4995,-102.9993, 4897,    149.3,   0.0184,  33.9658,2,-999.0000,5,    313.5,2,   -999.0,9,  -999.00,9,  -999.00,9,  -999.00,9,  -999.00,9, -999.000,9, -999.000,9, -999.000,9, -999.000,9, -999.000,9,-999.0000,9,  -999.00,9,   -999.0,9,   -999.0,9,   -999.0,9,   -999.0,9,   -999.0,9,  -999.00,9, -999.00,  -999.0,-999.0000,-999.000, -999.00,  -999.0,  0.0131,-999.000
    31DSCG94_2,  P18S,    13,  1,    130,   1241,2,19940228,1547,-65.4995,-102.9993, 4897,    200.8,   1.0014,  34.0937,2,  34.0829,2,    284.1,2,    283.9,2,    33.51,2,    29.63,2,     0.00,2,     2.09,2, -999.000,9, -999.000,9, -999.000,9, -999.000,9, -999.000,9,-999.0000,9,  -999.00,9,   -999.0,9,   -999.0,9,   2181.3,2,   -999.0,9,   2287.0,2,  -999.00,9, -999.00,  -999.0,-999.0000,-999.000, -999.00,  -999.0,  0.9925,-999.000
    31DSCG94_2,  P18S,    13,  1,    129,   1031,2,19940228,1547,-65.4995,-102.9993, 4897,    250.3,   1.9918,  34.2586,2,  34.2586,2,    224.1,2,    225.6,2,    48.78,2,    33.94,2,     0.00,2,     2.28,2, -999.000,9, -999.000,9, -999.000,9, -999.000,9, -999.000,9,-999.0000,9,  -999.00,9,   -999.0,9,   -999.0,9,   -999.0,9,   1053.9,6,   -999.0,9,  -999.00,9,   20.00,  -999.0,-999.0000,-999.000, -999.00,  -999.0,  1.9785,-999.000
    31DSCG94_2,  P18S,    13,  1,    128,   1210,2,19940228,1547,-65.4995,-102.9993, 4897,    296.3,   2.1471,  34.3325,2,  34.3321,2,    205.3,2,    206.4,2,    55.41,2,    33.57,2,     0.00,2,     2.35,2, -999.000,9, -999.000,9, -999.000,9, -999.000,9, -999.000,9,-999.0000,9,  -999.00,9,   -999.0,9,   -999.0,9,   2226.1,2,   -999.0,9,   2310.0,2,  -999.00,9, -999.00,  -999.0,-999.0000,-999.000, -999.00,  -999.0,  2.1308,-999.000
    31DSCG94_2,  P18S,    13,  1,    127,   1008,2,19940228,1547,-65.4995,-102.9993, 4897,    402.4,   2.1359,  34.4307,2,  34.4304,2,    175.4,2,    189.1,2,    65.11,2,    34.31,2,     0.00,2,     2.36,2, -999.000,9, -999.000,9, -999.000,9, -999.000,9, -999.000,9,-999.0000,9,  -999.00,9,   -999.0,9,   -999.0,9,   2240.9,2,   -999.0,9,   2334.0,2,  -999.00,9, -999.00,  -999.0,-999.0000,-999.000, -999.00,  -999.0,  2.1133,-999.000
    31DSCG94_2,  P18S,    13,  1,    126,   1007,2,19940228,1547,-65.4995,-102.9993, 4897,    496.1,   2.1496,  34.5062,2,  34.5057,2,    179.6,2,    179.9,2,    71.27,2,    33.95,2,     0.00,2,     2.37,2, -999.000,9, -999.000,9, -999.000,9, -999.000,9, -999.000,9,-999.0000,9,  -999.00,9,   -999.0,9,   -999.0,9,   2249.3,2,   1191.0,6,   2323.0,2,  -999.00,9,   20.00,  -999.0,-999.0000,-999.000, -999.00,  -999.0,  2.1213,-999.000
    31DSCG94_2,  P18S,    13,  1,    125,   1203,2,19940228,1547,-65.4995,-102.9993, 4897,    598.9,   2.1971,  34.5731,2,  34.5730,2,    174.0,2,    173.6,2,    74.15,2,    34.13,2,     0.00,2,     2.35,2, -999.000,9, -999.000,9, -999.000,9, -999.000,9, -999.000,9,-999.0000,9,  -999.00,9,   -999.0,9,   -999.0,9,   2253.4,2,   -999.0,9,   2341.0,2,  -999.00,9, -999.00,  -999.0,-999.0000,-999.000, -999.00,  -999.0,  2.1621,-999.000
    31DSCG94_2,  P18S,    13,  1,    123,   1101,2,19940228,1547,-65.4995,-102.9993, 4897,    699.5,   2.1726,  34.6173,2,  34.6174,2,    173.1,2,    173.0,2,    76.62,2,    33.42,2,     0.00,2,     2.33,2, -999.000,9, -999.000,9, -999.000,9, -999.000,9, -999.000,9,-999.0000,9,  -999.00,9,   -999.0,9,   -999.0,9,   2254.9,2,   -999.0,9,   2337.0,2,  -999.00,9, -999.00,  -999.0,-999.0000,-999.000, -999.00,  -999.0,  2.1312,-999.000
    31DSCG94_2,  P18S,    13,  1,    121,   1206,2,19940228,1547,-65.4995,-102.9993, 4897,    797.0,   2.1399,  34.6475,2,  34.6477,2,    174.5,2,    174.2,2,    79.22,2,    32.77,2,     0.00,2,     2.29,2, -999.000,9, -999.000,9, -999.000,9, -999.000,9, -999.000,9,-999.0000,9,  -999.00,9,   -999.0,9,   -999.0,9,   2255.2,2,   1173.1,2,   2346.0,2,  -999.00,9,   20.00,  -999.0,-999.0000,-999.000, -999.00,  -999.0,  2.0923,-999.000
    31DSCG94_2,  P18S,    13,  1,    119,   1248,2,19940228,1547,-65.4995,-102.9993, 4897,    836.4,   2.1187,  34.6580,2,  34.6588,2,    175.0,2,    175.2,2,    80.53,2,    32.61,2,     0.00,2,     2.27,2, -999.000,9, -999.000,9, -999.000,9, -999.000,9, -999.000,9,-999.0000,9,  -999.00,9,   -999.0,9,   -999.0,9,   2255.4,2,   -999.0,9,   2344.0,2,  -999.00,9, -999.00,  -999.0,-999.0000,-999.000, -999.00,  -999.0,  2.0686,-999.000
    31DSCG94_2,  P18S,    13,  1,    118,   1207,2,19940228,1547,-65.4995,-102.9993, 4897,    997.2,   2.0300,  34.6940,2,  34.6932,2,    179.4,2,    179.2,2,    82.97,2,    31.57,2,     0.00,2,     2.23,2, -999.000,9, -999.000,9, -999.000,9, -999.000,9, -999.000,9,-999.0000,9,  -999.00,9,   -999.0,9,   -999.0,9,   2254.9,2,   1105.4,2,   2348.0,2,  -999.00,9,   20.00,  -999.0,-999.0000,-999.000, -999.00,  -999.0,  1.9696,-999.000
    31DSCG94_2,  P18S,    13,  1,    117,   1119,2,19940228,1547,-65.4995,-102.9993, 4897,   1204.3,   1.9113,  34.7159,2,  34.7151,2,    184.3,2,    184.4,2,    86.45,2,    32.87,3,     0.00,2,     2.19,2, -999.000,9, -999.000,9, -999.000,9, -999.000,9, -999.000,9,-999.0000,9,  -999.00,9,   -999.0,9,   -999.0,9,   -999.0,9,   -999.0,9,   -999.0,9,  -999.00,9, -999.00,  -999.0,-999.0000,-999.000, -999.00,  -999.0,  1.8374,-999.000
    31DSCG94_2,  P18S,    13,  1,    116,   1036,2,19940228,1547,-65.4995,-102.9993, 4897,   1399.2,   1.7582,  34.7275,2,  34.7275,2,    188.9,2,    188.9,2,    91.14,2,    31.60,2,     0.00,2,     2.16,2, -999.000,9, -999.000,9, -999.000,9, -999.000,9, -999.000,9,-999.0000,9,  -999.00,9,   -999.0,9,   -999.0,9,   -999.0,9,   -999.0,9,   -999.0,9,  -999.00,9, -999.00,  -999.0,-999.0000,-999.000, -999.00,  -999.0,  1.6718,-999.000
    31DSCG94_2,  P18S,    13,  1,    115,   1017,2,19940228,1547,-65.4995,-102.9993, 4897,   1598.4,   1.5934,  34.7304,2,  34.7308,2,    192.5,2,    192.0,2,    96.57,2,    31.59,2,     0.00,2,     2.18,2, -999.000,9, -999.000,9, -999.000,9, -999.000,9, -999.000,9,-999.0000,9,  -999.00,9,   -999.0,9,   -999.0,9,   -999.0,9,   -999.0,9,   -999.0,9,  -999.00,9, -999.00,  -999.0,-999.0000,-999.000, -999.00,  -999.0,  1.4942,-999.000
    31DSCG94_2,  P18S,    13,  1,    114,   1016,2,19940228,1547,-65.4995,-102.9993, 4897,   1796.6,   1.4445,  34.7292,2,  34.7287,2,    194.7,2,    194.0,2,   101.82,2,    32.18,2,     0.00,2,     2.14,2, -999.000,9, -999.000,9, -999.000,9, -999.000,9, -999.000,9,-999.0000,9,  -999.00,9,   -999.0,9,   -999.0,9,   -999.0,9,   -999.0,9,   -999.0,9,  -999.00,9, -999.00,  -999.0,-999.0000,-999.000, -999.00,  -999.0,  1.3321,-999.000
    31DSCG94_2,  P18S,    13,  1,    113,   1118,2,19940228,1547,-65.4995,-102.9993, 4897,   1998.9,   1.3138,  34.7258,2,  34.7256,2,    196.8,2,    196.2,2,   105.11,2,    31.13,2,     0.00,2,     2.17,2, -999.000,9, -999.000,9, -999.000,9, -999.000,9, -999.000,9,-999.0000,9,  -999.00,9,   -999.0,9,   -999.0,9,   -999.0,9,   -999.0,9,   -999.0,9,  -999.00,9, -999.00,  -999.0,-999.0000,-999.000, -999.00,  -999.0,  1.1876,-999.000
    31DSCG94_2,  P18S,    13,  1,    112,   1033,2,19940228,1547,-65.4995,-102.9993, 4897,   2250.6,   1.1672,  34.7216,2,  34.7206,2,    199.0,2,    198.9,2,   108.54,2,    31.13,2,     0.00,2,     2.17,2, -999.000,9, -999.000,9, -999.000,9, -999.000,9, -999.000,9,-999.0000,9,  -999.00,9,   -999.0,9,   -999.0,9,   -999.0,9,   -999.0,9,   -999.0,9,  -999.00,9, -999.00,  -999.0,-999.0000,-999.000, -999.00,  -999.0,  1.0231,-999.000
    31DSCG94_2,  P18S,    13,  1,    111,   1263,2,19940228,1547,-65.4995,-102.9993, 4897,   2496.9,   1.0327,  34.7170,2,  34.7167,2,    202.0,2,    201.4,2,   112.09,2,    31.22,2,     0.00,2,     2.19,2, -999.000,9, -999.000,9, -999.000,9, -999.000,9, -999.000,9,-999.0000,9,  -999.00,9,   -999.0,9,   -999.0,9,   -999.0,9,   1062.0,6,   -999.0,9,  -999.00,9,   20.00,  -999.0,-999.0000,-999.000, -999.00,  -999.0,  0.8705,-999.000
    31DSCG94_2,  P18S,    13,  1,    110,   1005,2,19940228,1547,-65.4995,-102.9993, 4897,   2749.3,   0.9196,  34.7132,2,  34.7119,2,    203.7,2,    203.6,2,   117.02,2,    31.90,2,     0.00,2,     2.19,2, -999.000,9, -999.000,9, -999.000,9, -999.000,9, -999.000,9,-999.0000,9,  -999.00,9,   -999.0,9,   -999.0,9,   -999.0,9,   -999.0,9,   -999.0,9,  -999.00,9, -999.00,  -999.0,-999.0000,-999.000, -999.00,  -999.0,  0.7379,-999.000
    31DSCG94_2,  P18S,    13,  1,    109,   1611,2,19940228,1547,-65.4995,-102.9993, 4897,   2995.7,   0.8118,  34.7091,2,  34.7080,2,    206.0,2,    205.7,2,   121.90,2,    35.11,4,     0.00,2,     2.21,2, -999.000,9, -999.000,9, -999.000,9, -999.000,9, -999.000,9,-999.0000,9,  -999.00,9,   -999.0,9,   -999.0,9,   -999.0,9,   -999.0,9,   -999.0,9,  -999.00,9, -999.00,  -999.0,-999.0000,-999.000, -999.00,  -999.0,  0.6104,-999.000
    31DSCG94_2,  P18S,    13,  1,    108,   1218,2,19940228,1547,-65.4995,-102.9993, 4897,   3245.6,   0.7140,  34.7069,2,  34.7058,2,    207.5,2,    208.1,2,   124.65,2,    31.36,2,     0.00,2,     2.22,2, -999.000,9, -999.000,9, -999.000,9, -999.000,9, -999.000,9,-999.0000,9,  -999.00,9,   -999.0,9,   -999.0,9,   -999.0,9,   -999.0,9,   -999.0,9,  -999.00,9, -999.00,  -999.0,-999.0000,-999.000, -999.00,  -999.0,  0.4919,-999.000
    31DSCG94_2,  P18S,    13,  1,    107,   1257,2,19940228,1547,-65.4995,-102.9993, 4897,   3499.1,   0.6065,  34.7048,2,  34.7036,2,    210.3,2,    209.9,2,   127.06,2,    31.77,2,     0.00,2,     2.24,2, -999.000,9, -999.000,9, -999.000,9, -999.000,9, -999.000,9,-999.0000,9,  -999.00,9,   -999.0,9,   -999.0,9,   -999.0,9,   -999.0,9,   -999.0,9,  -999.00,9, -999.00,  -999.0,-999.0000,-999.000, -999.00,  -999.0,  0.3629,-999.000
    31DSCG94_2,  P18S,    13,  1,    106,   1224,2,19940228,1547,-65.4995,-102.9993, 4897,   3748.7,   0.5071,  34.7040,2,  34.7021,2,    213.0,2,    212.0,2,   129.60,2,    31.84,2,     0.00,2,     2.23,2, -999.000,9, -999.000,9, -999.000,9, -999.000,9, -999.000,9,-999.0000,9,  -999.00,9,   -999.0,9,   -999.0,9,   -999.0,9,   -999.0,9,   -999.0,9,  -999.00,9, -999.00,  -999.0,-999.0000,-999.000, -999.00,  -999.0,  0.2416,-999.000
    31DSCG94_2,  P18S,    13,  1,    105,   1246,3,19940228,1547,-65.4995,-102.9993, 4897,   3996.0,   0.4376,  34.7035,2,-999.0000,5,    214.8,2,   -999.0,9,  -999.00,9,  -999.00,9,  -999.00,9,  -999.00,9, -999.000,9, -999.000,9, -999.000,9, -999.000,9, -999.000,9,-999.0000,9,  -999.00,9,   -999.0,9,   -999.0,9,   -999.0,9,   -999.0,9,   -999.0,9,  -999.00,9, -999.00,  -999.0,-999.0000,-999.000, -999.00,  -999.0,  0.1491,-999.000
    31DSCG94_2,  P18S,    13,  1,    104,   1028,2,19940228,1547,-65.4995,-102.9993, 4897,   4250.4,   0.3927,  34.7032,2,  34.7015,2,    216.1,2,    215.2,2,   133.57,2,    37.24,4,     0.00,2,     2.25,2, -999.000,9, -999.000,9, -999.000,9, -999.000,9, -999.000,9,-999.0000,9,  -999.00,9,   -999.0,9,   -999.0,9,   -999.0,9,   1074.1,6,   -999.0,9,  -999.00,9,   20.00,  -999.0,-999.0000,-999.000, -999.00,  -999.0,  0.0790,-999.000
    31DSCG94_2,  P18S,    13,  1,    103,   9999,2,19940228,1547,-65.4995,-102.9993, 4897,   4500.0,   0.3702,  34.7028,2,  34.7012,2,    217.6,2,    216.3,6,   134.68,2,    34.14,4,     0.02,2,     2.24,2, -999.000,9, -999.000,9, -999.000,9, -999.000,9, -999.000,9,-999.0000,9,  -999.00,9,   -999.0,9,   -999.0,9,   -999.0,9,   -999.0,9,   -999.0,9,  -999.00,9, -999.00,  -999.0,-999.0000,-999.000, -999.00,  -999.0,  0.0304,-999.000
    31DSCG94_2,  P18S,    13,  1,    102,   1223,2,19940228,1547,-65.4995,-102.9993, 4897,   4749.1,   0.3633,  34.7025,2,  34.7010,2,    219.4,2,    217.2,6,   136.04,2,    31.89,2,     0.00,2,     2.22,2, -999.000,9, -999.000,9, -999.000,9, -999.000,9, -999.000,9,-999.0000,9,  -999.00,9,   -999.0,9,   -999.0,9,   -999.0,9,   -999.0,9,   -999.0,9,  -999.00,9, -999.00,  -999.0,-999.0000,-999.000, -999.00,  -999.0, -0.0038,-999.000
    31DSCG94_2,  P18S,    13,  1,    101,   1041,2,19940228,1547,-65.4995,-102.9993, 4897,   4972.8,   0.3702,  34.7019,2,  34.7012,2,    219.8,2,    216.3,6,   143.14,2,    32.56,2,     0.00,2,     2.24,2, -999.000,9, -999.000,9, -999.000,9, -999.000,9, -999.000,9,-999.0000,9,  -999.00,9,   -999.0,9,   -999.0,9,   -999.0,9,   -999.0,9,   -999.0,9,  -999.00,9, -999.00,  -999.0,-999.0000,-999.000, -999.00,  -999.0, -0.0226,-999.000