BOTTLE,20220630CCHSIOAMB
EXPOCODE,SECT_ID,STNNBR,CASTNO,SAMPNO,BTLNBR,BTLNBR_FLAG_W,DATE,TIME,LATITUDE,LONGITUDE,DEPTH,CTDPRS,CTDTMP,CTDSAL,CTDSAL_FLAG_W,SALNTY,SALNTY_FLAG_W,CTDOXY,CTDOXY_FLAG_W,OXYGEN,OXYGEN_FLAG_W,SILCAT,SILCAT_FLAG_W,NITRAT,NITRAT_FLAG_W,NITRIT,NITRIT_FLAG_W,PHSPHT,PHSPHT_FLAG_W,CFC-11,CFC-11_FLAG_W,CFC-12,CFC-12_FLAG_W,CFC113,CFC113_FLAG_W,CCL4,CCL4_FLAG_W,TRITUM,TRITUM_FLAG_W,HELIUM,HELIUM_FLAG_W,DELHE3,DELHE3_FLAG_W,DELC14,DELC14_FLAG_W,DELC13,DELC13_FLAG_W,TCARBN,TCARBN_FLAG_W,PCO2,PCO2_FLAG_W,ALKALI,ALKALI_FLAG_W,PH,PH_FLAG_W,PCO2TMP,C14ERR,HELIER,DELHER,PH_TMP,C13ERR,THETA,TRITER
,,,,,,,,,,,,DBAR,ITS-90,PSS-78,,PSS-78,,UMOL/KG,,UMOL/KG,,UMOL/KG,,UMOL/KG,,UMOL/KG,,UMOL/KG,,PMOL/KG,,PMOL/KG,,PMOL/KG,,PMOL/KG,,TU,,NMOL/KG,,PERCNT,,/MILLE,,/MILLE,,UMOL/KG,,UATM,,UMOL/KG,,,,DEG C,/MILLE,NMOL/KG,PERCNT,DEG C,/MILLE,DEG C,TU
    31DSCG94_3,  P18N,   131,  1,    124,    435,2,19940410,0152, -5.3925,-109.7668, 3605,     10.0,  27.7913,  34.5578,2,  34.5287,3,    216.0,2,    203.5,2,     2.45,2,     2.13,2,     0.05,2,     0.37,2,    1.696,2,    0.967,2, -999.000,9, -999.000,9, -999.000,9,-999.0000,9,  -999.00,9,   -999.0,9,   -999.0,9,   -999.0,9,   -999.0,9,   -999.0,9,     8.08,2, -999.00,  -999.0,-999.0000,-999.000,   25.00,  -999.0, 27.7890,-999.000
    31DSCG94_3,  P18N,   131,  1,    123,    421,2,19940410,0152, -5.3925,-109.7668, 3605,     10.0,  27.7913,  34.5578,2,  34.5269,3,    216.0,2,    203.6,2,     2.31,2,     2.52,2,     0.03,2,     0.37,2,    1.693,2,    0.979,2, -999.000,9, -999.000,9, -999.000,9,-999.0000,9,  -999.00,9,   -999.0,9,   -999.0,9,   -999.0,9,   -999.0,9,   -999.0,9,     8.08,2, -999.00,  -999.0,-999.0000,-999.000,   25.00,  -999.0, 27.7890,-999.000
    31DSCG94_3,  P18N,   131,  1,    122,    418,2,19940410,0152, -5.3925,-109.7668, 3605,     24.0,  27.6941,  34.6355,2,  34.6469,2,    205.7,2,    204.3,2,     2.27,2,     2.76,2,     0.04,2,     0.39,2,    1.722,2,    0.998,2, -999.000,9, -999.000,9, -999.000,9,-999.0000,9,  -999.00,9,   -999.0,9,   -999.0,9,   -999.0,9,   -999.0,9,   -999.0,9,     8.08,2, -999.00,  -999.0,-999.0000,-999.000,   25.00,  -999.0, 27.6885,-999.000
    31DSCG94_3,  P18N,   131,  1,    121,    413,2,19940410,0152, -5.3925,-109.7668, 3605,     49.0,  25.4678,  35.2816,2,  35.2931,2,    200.6,2,    204.4,2,     3.47,2,     6.06,2,     0.11,2,     0.69,2,    1.919,2,    1.082,2, -999.000,9, -999.000,9, -999.000,9,-999.0000,9,  -999.00,9,   -999.0,9,   -999.0,9,   -999.0,9,   -999.0,9,   -999.0,9,     8.01,2, -999.00,  -999.0,-999.0000,-999.000,   25.00,  -999.0, 25.4570,-999.000
    31DSCG94_3,  P18N,   131,  1,    120,    405,2,19940410,0152, -5.3925,-109.7668, 3605,     99.0,  17.3558,  35.2851,2,  35.2584,3,    102.7,2,     92.9,2,     7.13,2,    15.47,2,     0.40,2,     1.45,2,    1.754,2,    0.950,2, -999.000,9, -999.000,9, -999.000,9,-999.0000,9,  -999.00,9,   -999.0,9,   -999.0,9,   -999.0,9,   -999.0,9,   -999.0,9,     7.75,2, -999.00,  -999.0,-999.0000,-999.000,   25.00,  -999.0, 17.3393,-999.000
    31DSCG94_3,  P18N,   131,  1,    119,    417,2,19940410,0152, -5.3925,-109.7668, 3605,    147.0,  13.1530,  34.9558,2,  34.9564,2,     27.2,2,     13.7,2,    18.46,2,    28.37,2,     0.01,2,     2.29,2,    0.598,2,    0.349,2, -999.000,9, -999.000,9, -999.000,9,-999.0000,9,  -999.00,9,   -999.0,9,   -999.0,9,   -999.0,9,   -999.0,9,   -999.0,9,     7.51,2, -999.00,  -999.0,-999.0000,-999.000,   25.00,  -999.0, 13.1327,-999.000
    31DSCG94_3,  P18N,   131,  1,    118,    429,2,19940410,0152, -5.3925,-109.7668, 3605,    201.0,  12.2481,  34.8970,2,  34.8834,2,     20.0,2,   -999.0,9,    23.30,2,    30.24,2,     0.00,2,     2.28,2, -999.000,5, -999.000,5, -999.000,9, -999.000,9, -999.000,9,-999.0000,9,  -999.00,9,   -999.0,9,   -999.0,9,   -999.0,9,   -999.0,9,   -999.0,9,  -999.00,9, -999.00,  -999.0,-999.0000,-999.000, -999.00,  -999.0, 12.2215,-999.000
    31DSCG94_3,  P18N,   131,  1,    117,    427,2,19940410,0152, -5.3925,-109.7668, 3605,    299.0,  11.1411,  34.8222,2,  34.8049,2,     22.0,2,     15.1,2,    28.86,2,    33.57,2,     0.00,2,     2.40,2,    0.141,2,    0.078,2, -999.000,9, -999.000,9, -999.000,9,-999.0000,9,  -999.00,9,   -999.0,9,   -999.0,9,   -999.0,9,   -999.0,9,   -999.0,9,     7.46,2, -999.00,  -999.0,-999.0000,-999.000,   25.00,  -999.0, 11.1039,-999.000
    31DSCG94_3,  P18N,   131,  1,    116,    410,2,19940410,0152, -5.3925,-109.7668, 3605,    400.0,   9.6788,  34.7286,2,  34.7093,2,     -0.7,3,      6.5,2,    36.79,2,    37.32,2,     0.00,2,     2.69,2,    0.022,2,    0.013,2, -999.000,9, -999.000,9, -999.000,9,-999.0000,9,  -999.00,9,   -999.0,9,   -999.0,9,   -999.0,9,   -999.0,9,   -999.0,9,     7.40,2, -999.00,  -999.0,-999.0000,-999.000,   25.00,  -999.0,  9.6330,-999.000
    31DSCG94_3,  P18N,   131,  1,    115,    422,2,19940410,0152, -5.3925,-109.7668, 3605,    500.0,   8.3512,  34.6527,2,  34.6379,4,      2.3,2,      6.6,2,    43.49,2,    41.47,2,     0.00,2,     2.89,2,    0.014,2,    0.009,2, -999.000,9, -999.000,9, -999.000,9,-999.0000,9,  -999.00,9,   -999.0,9,   -999.0,9,   -999.0,9,   -999.0,9,   -999.0,9,     7.37,2, -999.00,  -999.0,-999.0000,-999.000,   25.00,  -999.0,  8.2986,-999.000
    31DSCG94_3,  P18N,   131,  1,    114,    407,2,19940410,0152, -5.3925,-109.7668, 3605,    602.0,   7.0077,  34.5866,2,  34.5848,2,      6.9,2,     23.7,2,    49.36,2,    43.28,2,     0.00,2,     2.94,2, -999.000,5, -999.000,5, -999.000,9, -999.000,9, -999.000,9,-999.0000,9,  -999.00,9,   -999.0,9,   -999.0,9,   -999.0,9,   -999.0,9,   -999.0,9,     7.39,2, -999.00,  -999.0,-999.0000,-999.000,   25.00,  -999.0,  6.9500,-999.000
    31DSCG94_3,  P18N,   131,  1,    113,    419,2,19940410,0152, -5.3925,-109.7668, 3605,    699.0,   6.1495,  34.5562,2,  34.5552,2,     31.4,2,     46.1,2,    56.94,2,    42.91,2,     0.00,2,     2.90,2,    0.009,2,    0.002,2, -999.000,9, -999.000,9, -999.000,9,-999.0000,9,  -999.00,9,   -999.0,9,   -999.0,9,   -999.0,9,   -999.0,9,   -999.0,9,     7.42,2, -999.00,  -999.0,-999.0000,-999.000,   25.00,  -999.0,  6.0866,-999.000
    31DSCG94_3,  P18N,   131,  1,    112,    426,2,19940410,0152, -5.3925,-109.7668, 3605,    798.0,   5.4539,  34.5422,2,-999.0000,9,     56.8,2,     65.4,2,    66.54,2,    42.71,2,     0.00,2,     2.91,2,    0.009,2,   -0.002,2, -999.000,9, -999.000,9, -999.000,9,-999.0000,9,  -999.00,9,   -999.0,9,   -999.0,9,   -999.0,9,   -999.0,9,   -999.0,9,  -999.00,9, -999.00,  -999.0,-999.0000,-999.000, -999.00,  -999.0,  5.3858,-999.000
    31DSCG94_3,  P18N,   131,  1,    111,    424,2,19940410,0152, -5.3925,-109.7668, 3605,    999.0,   4.4348,  34.5450,2,  34.5455,2,     91.6,2,     95.3,2,    80.84,2,    39.02,2,     0.00,2,     2.70,2,    0.004,2,    0.006,2, -999.000,9, -999.000,9, -999.000,9,-999.0000,9,  -999.00,9,   -999.0,9,   -999.0,9,   -999.0,9,   -999.0,9,   -999.0,9,     7.50,2, -999.00,  -999.0,-999.0000,-999.000,   25.00,  -999.0,  4.3558,-999.000
    31DSCG94_3,  P18N,   131,  1,    110,    409,2,19940410,0152, -5.3925,-109.7668, 3605,   1198.0,   3.7079,  34.5689,2,  34.5697,2,     99.0,2,     96.6,2,    99.40,2,    40.06,2,     0.00,2,     2.75,2, -999.000,9, -999.000,9, -999.000,9, -999.000,9, -999.000,9,-999.0000,9,  -999.00,9,   -999.0,9,   -999.0,9,   -999.0,9,   -999.0,9,   -999.0,9,  -999.00,9, -999.00,  -999.0,-999.0000,-999.000, -999.00,  -999.0,  3.6180,-999.000
    31DSCG94_3,  P18N,   131,  1,    109,    423,2,19940410,0152, -5.3925,-109.7668, 3605,   1403.0,   3.2464,  34.5906,2,  34.5916,2,     96.3,2,     90.3,2,   112.51,2,    40.88,2,     0.00,2,     2.83,2, -999.000,9, -999.000,9, -999.000,9, -999.000,9, -999.000,9,-999.0000,9,  -999.00,9,   -999.0,9,   -999.0,9,   -999.0,9,   -999.0,9,   -999.0,9,  -999.00,9, -999.00,  -999.0,-999.0000,-999.000, -999.00,  -999.0,  3.1439,-999.000
    31DSCG94_3,  P18N,   131,  1,    108,    414,2,19940410,0152, -5.3925,-109.7668, 3605,   1598.0,   2.8255,  34.6094,2,  34.6087,2,    111.3,2,     96.2,2,   123.61,2,    41.00,2,     0.00,2,     2.80,2, -999.000,9, -999.000,9, -999.000,9, -999.000,9, -999.000,9,-999.0000,9,  -999.00,9,   -999.0,9,   -999.0,9,   -999.0,9,   -999.0,9,   -999.0,9,  -999.00,9, -999.00,  -999.0,-999.0000,-999.000, -999.00,  -999.0,  2.7115,-999.000
    31DSCG94_3,  P18N,   131,  1,    107,    437,2,19940410,0152, -5.3925,-109.7668, 3605,   1797.0,   2.5002,  34.6251,2,  34.6230,2,    134.4,2,    109.7,2,   128.93,2,    39.74,2,     0.00,2,     2.69,2, -999.000,9, -999.000,9, -999.000,9, -999.000,9, -999.000,9,-999.0000,9,  -999.00,9,   -999.0,9,   -999.0,9,   -999.0,9,   -999.0,9,   -999.0,9,  -999.00,9, -999.00,  -999.0,-999.0000,-999.000, -999.00,  -999.0,  2.3736,-999.000
    31DSCG94_3,  P18N,   131,  1,    106,    416,2,19940410,0152, -5.3925,-109.7668, 3605,   2097.0,   2.1665,  34.6468,2,  34.6452,2,    135.1,2,    111.8,2,   140.85,2,    39.43,2,     0.00,2,     2.68,2, -999.000,9, -999.000,9, -999.000,9, -999.000,9, -999.000,9,-999.0000,9,  -999.00,9,   -999.0,9,   -999.0,9,   -999.0,9,   -999.0,9,   -999.0,9,  -999.00,9, -999.00,  -999.0,-999.0000,-999.000, -999.00,  -999.0,  2.0191,-999.000
    31DSCG94_3,  P18N,   131,  1,    105,    420,2,19940410,0152, -5.3925,-109.7668, 3605,   2398.0,   1.9063,  34.6620,2,  34.6606,2,    140.6,2,    124.8,2,   142.88,2,    39.06,2,     0.00,2,     2.59,2, -999.000,9, -999.000,9, -999.000,9, -999.000,9, -999.000,9,-999.0000,9,  -999.00,9,   -999.0,9,   -999.0,9,   -999.0,9,   -999.0,9,   -999.0,9,  -999.00,9, -999.00,  -999.0,-999.0000,-999.000, -999.00,  -999.0,  1.7369,-999.000
    31DSCG94_3,  P18N,   131,  1,    104,    436,2,19940410,0152, -5.3925,-109.7668, 3605,   2700.0,   1.7797,  34.6711,2,  34.6714,2,    149.5,2,    133.8,2,   143.64,2,    38.25,2,     0.00,2,     2.53,2, -999.000,9, -999.000,9, -999.000,9, -999.000,9, -999.000,9,-999.0000,9,  -999.00,9,   -999.0,9,   -999.0,9,   -999.0,9,   -999.0,9,   -999.0,9,  -999.00,9, -999.00,  -999.0,-999.0000,-999.000, -999.00,  -999.0,  1.5851,-999.000
    31DSCG94_3,  P18N,   131,  1,    103,    425,2,19940410,0152, -5.3925,-109.7668, 3605,   2999.0,   1.6827,  34.6767,2,  34.6770,2,    154.8,2,    140.5,2,   143.25,2,    38.48,2,     0.00,2,     2.51,2, -999.000,9, -999.000,9, -999.000,9, -999.000,9, -999.000,9,-999.0000,9,  -999.00,9,   -999.0,9,   -999.0,9,   -999.0,9,   -999.0,9,   -999.0,9,  -999.00,9, -999.00,  -999.0,-999.0000,-999.000, -999.00,  -999.0,  1.4619,-999.000
    31DSCG94_3,  P18N,   131,  1,    102,    433,2,19940410,0152, -5.3925,-109.7668, 3605,   3303.0,   1.5717,  34.6834,2,  34.6835,2,    162.5,2,    150.0,2,   142.30,2,    37.69,2,     0.00,2,     2.48,2, -999.000,9, -999.000,9, -999.000,9, -999.000,9, -999.000,9,-999.0000,9,  -999.00,9,   -999.0,9,   -999.0,9,   -999.0,9,   -999.0,9,   -999.0,9,  -999.00,9, -999.00,  -999.0,-999.0000,-999.000, -999.00,  -999.0,  1.3237,-999.000
    31DSCG94_3,  P18N,   131,  1,    101,    403,2,19940410,0152, -5.3925,-109.7668, 3605,   3655.0,   1.5903,  34.6847,2,  34.6846,2,    162.6,2,    151.4,2,   142.11,2,    37.26,2,     0.00,2,     2.46,2, -999.000,9, -999.000,9, -999.000,9, -999.000,9, -999.000,9,-999.0000,9,  -999.00,9,   -999.0,9,   -999.0,9,   -999.0,9,   -999.0,9,   -999.0,9,  -999.00,9, -999.00,  -999.0,-999.0000,-999.000, -999.00,  -999.0,  1.3058,-999.000