BOTTLE,20220630CCHSIOAMB
EXPOCODE,SECT_ID,STNNBR,CASTNO,SAMPNO,BTLNBR,BTLNBR_FLAG_W,DATE,TIME,LATITUDE,LONGITUDE,DEPTH,CTDPRS,CTDTMP,CTDSAL,CTDSAL_FLAG_W,SALNTY,SALNTY_FLAG_W,CTDOXY,CTDOXY_FLAG_W,OXYGEN,OXYGEN_FLAG_W,SILCAT,SILCAT_FLAG_W,NITRAT,NITRAT_FLAG_W,NITRIT,NITRIT_FLAG_W,PHSPHT,PHSPHT_FLAG_W,CFC-11,CFC-11_FLAG_W,CFC-12,CFC-12_FLAG_W,CFC113,CFC113_FLAG_W,CCL4,CCL4_FLAG_W,TRITUM,TRITUM_FLAG_W,HELIUM,HELIUM_FLAG_W,DELHE3,DELHE3_FLAG_W,DELC14,DELC14_FLAG_W,DELC13,DELC13_FLAG_W,TCARBN,TCARBN_FLAG_W,PCO2,PCO2_FLAG_W,ALKALI,ALKALI_FLAG_W,PH,PH_FLAG_W,PCO2TMP,C14ERR,HELIER,DELHER,PH_TMP,C13ERR,THETA,TRITER
,,,,,,,,,,,,DBAR,ITS-90,PSS-78,,PSS-78,,UMOL/KG,,UMOL/KG,,UMOL/KG,,UMOL/KG,,UMOL/KG,,UMOL/KG,,PMOL/KG,,PMOL/KG,,PMOL/KG,,PMOL/KG,,TU,,NMOL/KG,,PERCNT,,/MILLE,,/MILLE,,UMOL/KG,,UATM,,UMOL/KG,,,,DEG C,/MILLE,NMOL/KG,PERCNT,DEG C,/MILLE,DEG C,TU
    31DSCG94_2,  P18S,    52,  1,    136,   1025,2,19940313,2345,-43.5000,-103.0133, 3757,      9.9,  13.3542,  34.0469,2,  34.0494,2,    261.8,2,    261.6,2,     0.00,2,    11.99,2,     0.22,2,     1.03,2, -999.000,9, -999.000,9, -999.000,9, -999.000,9, -999.000,9,-999.0000,9,  -999.00,9,   -999.0,9,      1.9,2,   2056.3,2,    490.8,2,   2259.0,2,     7.89,2,   20.00,  -999.0,-999.0000,-999.000,   25.00,  -999.0, 13.3528,-999.000
    31DSCG94_2,  P18S,    52,  1,    135,   1247,2,19940313,2345,-43.5000,-103.0133, 3757,     24.7,  13.1886,  34.0495,2,  34.0499,2,    265.0,2,    261.4,2,     0.00,2,    11.94,2,     0.19,2,     0.98,2, -999.000,9, -999.000,9, -999.000,9, -999.000,9, -999.000,9,-999.0000,9,  -999.00,9,   -999.0,9,   -999.0,9,   2055.9,2,    492.3,2,   2263.0,2,     7.89,2,   20.00,  -999.0,-999.0000,-999.000,   25.00,  -999.0, 13.1853,-999.000
    31DSCG94_2,  P18S,    52,  1,    134,   1108,2,19940313,2345,-43.5000,-103.0133, 3757,     50.1,  13.1677,  34.0484,2,  34.0497,2,    264.7,2,    261.9,2,     0.00,2,    11.90,2,     0.19,2,     1.01,2, -999.000,9, -999.000,9, -999.000,9, -999.000,9, -999.000,9,-999.0000,9,  -999.00,9,   -999.0,9,   -999.0,9,   2056.3,2,    491.4,2,   2266.0,2,     7.89,2,   20.00,  -999.0,-999.0000,-999.000,   25.00,  -999.0, 13.1609,-999.000
    31DSCG94_2,  P18S,    52,  1,    133,   1244,2,19940313,2345,-43.5000,-103.0133, 3757,     74.7,  11.2329,  34.0899,2,  34.0903,2,    270.1,2,    275.4,2,     0.00,2,    12.75,2,     0.17,2,     1.08,2, -999.000,9, -999.000,9, -999.000,9, -999.000,9, -999.000,9,-999.0000,9,  -999.00,9,   -999.0,9,   -999.0,9,   2068.9,2,    522.1,2,   2266.0,2,     7.87,2,   20.00,  -999.0,-999.0000,-999.000,   25.00,  -999.0, 11.2237,-999.000
    31DSCG94_2,  P18S,    52,  1,    132,   1003,2,19940313,2345,-43.5000,-103.0133, 3757,     98.2,   9.2697,  34.0987,2,  34.1004,2,    285.2,2,    286.0,2,     0.00,2,    13.11,2,     0.16,2,     1.14,2, -999.000,9, -999.000,9, -999.000,9, -999.000,9, -999.000,9,-999.0000,9,  -999.00,9,   -999.0,9,   -999.0,9,   2077.7,2,    545.9,2,   2266.0,2,     7.85,2,   20.00,  -999.0,-999.0000,-999.000,   25.00,  -999.0,  9.2590,-999.000
    31DSCG94_2,  P18S,    52,  1,    131,   1211,2,19940313,2345,-43.5000,-103.0133, 3757,    124.2,   8.0040,  34.1265,2,  34.1336,2,    286.4,2,    284.1,2,     0.15,2,    14.52,2,     0.32,2,     1.13,2, -999.000,9, -999.000,9, -999.000,9, -999.000,9, -999.000,9,-999.0000,9,  -999.00,9,   -999.0,9,   -999.0,9,   2089.6,2,    583.8,2,   2267.0,2,     7.83,2,   20.00,  -999.0,-999.0000,-999.000,   25.00,  -999.0,  7.9916,-999.000
    31DSCG94_2,  P18S,    52,  1,    130,   1241,2,19940313,2345,-43.5000,-103.0133, 3757,    148.1,   7.5106,  34.1631,2,  34.1657,2,    284.1,2,    278.5,2,     0.61,2,    15.80,2,     0.47,2,     1.22,2, -999.000,9, -999.000,9, -999.000,9, -999.000,9, -999.000,9,-999.0000,9,  -999.00,9,   -999.0,9,   -999.0,9,   2097.8,2,    613.1,2,   2269.0,2,     7.81,2,   20.00,  -999.0,-999.0000,-999.000,   25.00,  -999.0,  7.4964,-999.000
    31DSCG94_2,  P18S,    52,  1,    129,   1031,2,19940313,2345,-43.5000,-103.0133, 3757,    201.0,   6.8140,  34.2474,2,  34.2509,2,    273.8,2,    267.8,2,     2.81,2,    19.36,2,     0.01,2,     1.40,2, -999.000,9, -999.000,9, -999.000,9, -999.000,9, -999.000,9,-999.0000,9,  -999.00,9,   -999.0,9,   -999.0,9,   2117.0,2,    672.8,2,   2273.0,2,     7.77,2,   20.00,  -999.0,-999.0000,-999.000,   25.00,  -999.0,  6.7957,-999.000
    31DSCG94_2,  P18S,    52,  1,    128,   1210,3,19940313,2345,-43.5000,-103.0133, 3757,    248.6,   6.5467,  34.2834,2,  34.2845,2,    271.4,2,    268.0,2,     3.99,2,    20.25,2,     0.00,2,     1.50,2, -999.000,9, -999.000,9, -999.000,9, -999.000,9, -999.000,9,-999.0000,9,  -999.00,9,   -999.0,9,   -999.0,9,   2122.9,2,    695.1,2,   2286.0,2,  -999.00,9,   20.00,  -999.0,-999.0000,-999.000, -999.00,  -999.0,  6.5245,-999.000
    31DSCG94_2,  P18S,    52,  1,    127,   1008,3,19940313,2345,-43.5000,-103.0133, 3757,    299.8,   6.4334,  34.3010,2,-999.0000,5,    269.5,2,   -999.0,9,  -999.00,9,  -999.00,9,  -999.00,9,  -999.00,9, -999.000,9, -999.000,9, -999.000,9, -999.000,9, -999.000,9,-999.0000,9,  -999.00,9,   -999.0,9,   -999.0,9,   -999.0,9,   -999.0,9,   -999.0,9,  -999.00,9, -999.00,  -999.0,-999.0000,-999.000, -999.00,  -999.0,  6.4067,-999.000
    31DSCG94_2,  P18S,    52,  1,    126,   1007,2,19940313,2345,-43.5000,-103.0133, 3757,    350.1,   6.3294,  34.3053,2,  34.3053,2,    266.6,2,    266.4,2,     5.01,2,    20.89,2,     0.00,2,     1.49,2, -999.000,9, -999.000,9, -999.000,9, -999.000,9, -999.000,9,-999.0000,9,  -999.00,9,   -999.0,9,   -999.0,9,   2125.2,2,    706.1,2,   2279.0,2,     7.76,2,   20.00,  -999.0,-999.0000,-999.000,   25.00,  -999.0,  6.2984,-999.000
    31DSCG94_2,  P18S,    52,  1,    125,   1203,2,19940313,2345,-43.5000,-103.0133, 3757,    398.9,   6.2124,  34.3030,2,  34.3031,2,    265.3,2,    266.5,2,     5.77,2,    21.46,2,     0.00,2,     1.52,2, -999.000,9, -999.000,9, -999.000,9, -999.000,9, -999.000,9,-999.0000,9,  -999.00,9,   -999.0,9,   -999.0,9,   2126.4,2,    701.4,2,   2277.0,2,     7.76,2,   20.00,  -999.0,-999.0000,-999.000,   25.00,  -999.0,  6.1773,-999.000
    31DSCG94_2,  P18S,    52,  1,    123,   1101,2,19940313,2345,-43.5000,-103.0133, 3757,    493.2,   5.9989,  34.2958,2,  34.2953,2,    263.1,2,    266.7,2,     6.74,2,    22.05,2,     0.00,2,     1.55,2, -999.000,9, -999.000,9, -999.000,9, -999.000,9, -999.000,9,-999.0000,9,  -999.00,9,   -999.0,9,   -999.0,9,   2128.5,2,    709.8,2,   2283.0,2,     7.75,2,   20.00,  -999.0,-999.0000,-999.000,   25.00,  -999.0,  5.9560,-999.000
    31DSCG94_2,  P18S,    52,  1,    121,   1206,2,19940313,2345,-43.5000,-103.0133, 3757,    599.6,   5.7070,  34.2788,2,  34.2787,2,    258.7,2,    263.8,2,     8.14,2,    22.89,2,     0.00,2,     1.67,2, -999.000,9, -999.000,9, -999.000,9, -999.000,9, -999.000,9,-999.0000,9,  -999.00,9,   -999.0,9,   -999.0,9,   2132.9,2,    725.7,2,   2280.0,2,     7.74,2,   20.00,  -999.0,-999.0000,-999.000,   25.00,  -999.0,  5.6558,-999.000
    31DSCG94_2,  P18S,    52,  1,    119,   1248,2,19940313,2345,-43.5000,-103.0133, 3757,    699.5,   5.3468,  34.2641,2,  34.2643,2,    251.8,2,    254.6,2,    10.45,2,    24.72,2,     0.00,2,     1.78,2, -999.000,9, -999.000,9, -999.000,9, -999.000,9, -999.000,9,-999.0000,9,  -999.00,9,   -999.0,9,   -999.0,9,   2141.6,2,    769.0,2,   2279.0,2,     7.72,2,   20.00,  -999.0,-999.0000,-999.000,   25.00,  -999.0,  5.2885,-999.000
    31DSCG94_2,  P18S,    52,  1,    118,   1207,2,19940313,2345,-43.5000,-103.0133, 3757,    798.0,   4.9677,  34.2604,2,  34.2602,2,    237.9,2,    240.5,2,    15.02,2,    27.40,2,     0.00,2,     1.91,2, -999.000,9, -999.000,9, -999.000,9, -999.000,9, -999.000,9,-999.0000,9,  -999.00,9,   -999.0,9,   -999.0,9,   2155.3,2,    827.5,2,   2283.0,2,     7.70,2,   20.00,  -999.0,-999.0000,-999.000,   25.00,  -999.0,  4.9029,-999.000
    31DSCG94_2,  P18S,    52,  1,    117,   1119,2,19940313,2345,-43.5000,-103.0133, 3757,    899.7,   4.5794,  34.2752,2,  34.2757,2,    221.4,2,    222.0,2,    22.01,2,    28.72,2,     0.00,2,     2.05,2, -999.000,9, -999.000,9, -999.000,9, -999.000,9, -999.000,9,-999.0000,9,  -999.00,9,   -999.0,9,   -999.0,9,   2174.6,2,    904.3,2,   2289.0,2,     7.66,2,   20.00,  -999.0,-999.0000,-999.000,   25.00,  -999.0,  4.5083,-999.000
    31DSCG94_2,  P18S,    52,  1,    116,   1036,2,19940313,2345,-43.5000,-103.0133, 3757,   1001.3,   4.1448,  34.3012,2,  34.3001,2,    206.9,2,    208.2,2,    30.00,2,    30.45,2,     0.00,2,     2.18,2, -999.000,9, -999.000,9, -999.000,9, -999.000,9, -999.000,9,-999.0000,9,  -999.00,9,   -999.0,9,   -999.0,9,   2190.3,2,    977.2,6,   2290.0,6,     7.63,2,   20.00,  -999.0,-999.0000,-999.000,   25.00,  -999.0,  4.0682,-999.000
    31DSCG94_2,  P18S,    52,  1,    115,   1017,2,19940313,2345,-43.5000,-103.0133, 3757,   1096.5,   3.7066,  34.3314,2,  34.3307,2,    198.6,2,    197.8,2,    39.48,2,    32.25,2,     0.00,2,     2.26,2, -999.000,9, -999.000,9, -999.000,9, -999.000,9, -999.000,9,-999.0000,9,  -999.00,9,   -999.0,9,   -999.0,9,   -999.0,9,   -999.0,9,   -999.0,9,     7.61,2, -999.00,  -999.0,-999.0000,-999.000,   25.00,  -999.0,  3.6256,-999.000
    31DSCG94_2,  P18S,    52,  1,    114,   1016,2,19940313,2345,-43.5000,-103.0133, 3757,   1197.5,   3.3583,  34.3743,2,  34.3743,2,    186.9,2,    185.4,2,    48.32,2,    33.51,2,     0.00,2,     2.33,2, -999.000,9, -999.000,9, -999.000,9, -999.000,9, -999.000,9,-999.0000,9,  -999.00,9,   -999.0,9,   -999.0,9,   -999.0,9,   1104.0,2,   -999.0,9,     7.59,2,   20.00,  -999.0,-999.0000,-999.000,   25.00,  -999.0,  3.2721,-999.000
    31DSCG94_2,  P18S,    52,  1,    113,   1209,2,19940313,2345,-43.5000,-103.0133, 3757,   1303.6,   3.1360,  34.4199,2,  34.4192,2,    176.3,2,    172.8,2,    57.89,2,    35.44,2,     0.00,2,     2.43,2, -999.000,9, -999.000,9, -999.000,9, -999.000,9, -999.000,9,-999.0000,9,  -999.00,9,   -999.0,9,   -999.0,9,   -999.0,9,   -999.0,9,   -999.0,9,     7.57,2, -999.00,  -999.0,-999.0000,-999.000,   25.00,  -999.0,  3.0433,-999.000
    31DSCG94_2,  P18S,    52,  1,    112,   1033,2,19940313,2345,-43.5000,-103.0133, 3757,   1402.3,   2.9524,  34.4664,2,  34.4647,2,    168.0,2,    164.5,2,    67.31,2,    34.83,2,     0.00,2,     2.41,2, -999.000,9, -999.000,9, -999.000,9, -999.000,9, -999.000,9,-999.0000,9,  -999.00,9,   -999.0,9,   -999.0,9,   -999.0,9,   -999.0,9,   -999.0,9,     7.56,2, -999.00,  -999.0,-999.0000,-999.000,   25.00,  -999.0,  2.8534,-999.000
    31DSCG94_2,  P18S,    52,  1,    111,   1263,2,19940313,2345,-43.5000,-103.0133, 3757,   1583.4,   2.6632,  34.5354,2,  34.5339,2,    162.3,2,    162.1,2,    77.92,2,    34.71,2,     0.00,2,     2.41,2, -999.000,9, -999.000,9, -999.000,9, -999.000,9, -999.000,9,-999.0000,9,  -999.00,9,   -999.0,9,   -999.0,9,   -999.0,9,   1208.6,2,   -999.0,9,     7.56,2,   20.00,  -999.0,-999.0000,-999.000,   25.00,  -999.0,  2.5525,-999.000
    31DSCG94_2,  P18S,    52,  1,    110,   1005,2,19940313,2345,-43.5000,-103.0133, 3757,   1800.0,   2.4235,  34.6022,2,  34.6007,2,    161.7,2,    161.6,2,    85.89,2,    34.51,2,     0.00,2,     2.44,2, -999.000,9, -999.000,9, -999.000,9, -999.000,9, -999.000,9,-999.0000,9,  -999.00,9,   -999.0,9,   -999.0,9,   -999.0,9,   -999.0,9,   -999.0,9,     7.57,2, -999.00,  -999.0,-999.0000,-999.000,   25.00,  -999.0,  2.2978,-999.000
    31DSCG94_2,  P18S,    52,  1,    109,   1611,2,19940313,2345,-43.5000,-103.0133, 3757,   1998.6,   2.2509,  34.6421,2,  34.6406,2,    162.2,2,    162.4,2,    92.72,2,    33.96,2,     0.00,2,     2.39,2, -999.000,9, -999.000,9, -999.000,9, -999.000,9, -999.000,9,-999.0000,9,  -999.00,9,   -999.0,9,   -999.0,9,   -999.0,9,   1180.9,2,   -999.0,9,     7.57,2,   20.00,  -999.0,-999.0000,-999.000,   25.00,  -999.0,  2.1107,-999.000
    31DSCG94_2,  P18S,    52,  1,    108,   1218,2,19940313,2345,-43.5000,-103.0133, 3757,   2245.6,   2.0597,  34.6755,2,  34.6734,2,    166.1,2,    166.1,2,   100.43,2,    33.55,2,     0.00,2,     2.38,2, -999.000,9, -999.000,9, -999.000,9, -999.000,9, -999.000,9,-999.0000,9,  -999.00,9,   -999.0,9,   -999.0,9,   -999.0,9,   1152.8,2,   -999.0,9,     7.58,2,   20.00,  -999.0,-999.0000,-999.000,   25.00,  -999.0,  1.9010,-999.000
    31DSCG94_2,  P18S,    52,  1,    107,   1257,2,19940313,2345,-43.5000,-103.0133, 3757,   2497.5,   1.8639,  34.6899,2,  34.6881,2,    168.6,2,    168.4,2,   110.53,2,    33.45,2,     0.00,2,     2.33,2, -999.000,9, -999.000,9, -999.000,9, -999.000,9, -999.000,9,-999.0000,9,  -999.00,9,   -999.0,9,   -999.0,9,   -999.0,9,   1138.6,2,   -999.0,9,     7.59,2,   20.00,  -999.0,-999.0000,-999.000,   25.00,  -999.0,  1.6861,-999.000
    31DSCG94_2,  P18S,    52,  1,    106,   1224,2,19940313,2345,-43.5000,-103.0133, 3757,   2742.2,   1.7802,  34.6972,2,  34.6964,2,    171.4,2,    171.9,6,   113.13,2,    33.20,2,     0.00,2,     2.32,2, -999.000,9, -999.000,9, -999.000,9, -999.000,9, -999.000,9,-999.0000,9,  -999.00,9,   -999.0,9,   -999.0,9,   -999.0,9,   -999.0,9,   -999.0,9,     7.59,2, -999.00,  -999.0,-999.0000,-999.000,   25.00,  -999.0,  1.5816,-999.000
    31DSCG94_2,  P18S,    52,  1,    105,   1246,2,19940313,2345,-43.5000,-103.0133, 3757,   2997.8,   1.6712,  34.7039,2,  34.7029,2,    177.1,2,    177.1,2,   112.71,2,    32.99,2,     0.00,2,     2.36,2, -999.000,9, -999.000,9, -999.000,9, -999.000,9, -999.000,9,-999.0000,9,  -999.00,9,   -999.0,9,   -999.0,9,   -999.0,9,   1108.5,2,   -999.0,9,     7.60,2,   20.00,  -999.0,-999.0000,-999.000,   25.00,  -999.0,  1.4507,-999.000
    31DSCG94_2,  P18S,    52,  1,    104,   1028,2,19940313,2345,-43.5000,-103.0133, 3757,   3250.4,   1.5728,  34.7061,2,  34.7056,2,    181.7,2,    180.8,6,   115.02,2,    32.92,2,     0.00,2,     2.34,2, -999.000,9, -999.000,9, -999.000,9, -999.000,9, -999.000,9,-999.0000,9,  -999.00,9,   -999.0,9,   -999.0,9,   -999.0,9,   -999.0,9,   -999.0,9,     7.60,2, -999.00,  -999.0,-999.0000,-999.000,   25.00,  -999.0,  1.3298,-999.000
    31DSCG94_2,  P18S,    52,  1,    103,   9999,2,19940313,2345,-43.5000,-103.0133, 3757,   3495.8,   1.3477,  34.7074,2,  34.7056,2,    187.0,2,    186.6,6,   121.72,2,    32.95,2,     0.00,2,     2.30,2, -999.000,9, -999.000,9, -999.000,9, -999.000,9, -999.000,9,-999.0000,9,  -999.00,9,   -999.0,9,   -999.0,9,   -999.0,9,   -999.0,9,   -999.0,9,     7.61,2, -999.00,  -999.0,-999.0000,-999.000,   25.00,  -999.0,  1.0856,-999.000
    31DSCG94_2,  P18S,    52,  1,    102,   1223,2,19940313,2345,-43.5000,-103.0133, 3757,   3497.7,   1.3474,  34.7074,2,  34.7061,2,    187.0,2,   -999.0,9,   122.95,2,    33.01,2,     0.00,2,     2.30,2, -999.000,9, -999.000,9, -999.000,9, -999.000,9, -999.000,9,-999.0000,9,  -999.00,9,   -999.0,9,   -999.0,9,   -999.0,9,   1067.3,2,   -999.0,9,     7.61,2,   20.00,  -999.0,-999.0000,-999.000,   25.00,  -999.0,  1.0851,-999.000
    31DSCG94_2,  P18S,    52,  1,    101,   1041,2,19940313,2345,-43.5000,-103.0133, 3757,   3791.1,   1.2455,  34.7072,2,  34.7063,2,    191.9,2,    190.3,2,   124.30,2,    32.58,2,     0.00,2,     2.33,2, -999.000,9, -999.000,9, -999.000,9, -999.000,9, -999.000,9,-999.0000,9,  -999.00,9,   -999.0,9,   -999.0,9,   -999.0,9,   1059.9,2,   -999.0,9,     7.61,2,   20.00,  -999.0,-999.0000,-999.000,   25.00,  -999.0,  0.9557,-999.000