BOTTLE,20220630CCHSIOAMB
EXPOCODE,SECT_ID,STNNBR,CASTNO,SAMPNO,BTLNBR,BTLNBR_FLAG_W,DATE,TIME,LATITUDE,LONGITUDE,DEPTH,CTDPRS,CTDTMP,CTDSAL,CTDSAL_FLAG_W,SALNTY,SALNTY_FLAG_W,CTDOXY,CTDOXY_FLAG_W,OXYGEN,OXYGEN_FLAG_W,SILCAT,SILCAT_FLAG_W,NITRAT,NITRAT_FLAG_W,NITRIT,NITRIT_FLAG_W,PHSPHT,PHSPHT_FLAG_W,CFC-11,CFC-11_FLAG_W,CFC-12,CFC-12_FLAG_W,CFC113,CFC113_FLAG_W,CCL4,CCL4_FLAG_W,TRITUM,TRITUM_FLAG_W,HELIUM,HELIUM_FLAG_W,DELHE3,DELHE3_FLAG_W,DELC14,DELC14_FLAG_W,DELC13,DELC13_FLAG_W,TCARBN,TCARBN_FLAG_W,PCO2,PCO2_FLAG_W,ALKALI,ALKALI_FLAG_W,PH,PH_FLAG_W,PCO2TMP,C14ERR,HELIER,DELHER,PH_TMP,C13ERR,THETA,TRITER
,,,,,,,,,,,,DBAR,ITS-90,PSS-78,,PSS-78,,UMOL/KG,,UMOL/KG,,UMOL/KG,,UMOL/KG,,UMOL/KG,,UMOL/KG,,PMOL/KG,,PMOL/KG,,PMOL/KG,,PMOL/KG,,TU,,NMOL/KG,,PERCNT,,/MILLE,,/MILLE,,UMOL/KG,,UATM,,UMOL/KG,,,,DEG C,/MILLE,NMOL/KG,PERCNT,DEG C,/MILLE,DEG C,TU
    31DSCG94_2,  P18S,    85,  1,    136,   1025,2,19940322,2130,-26.9193,-103.0093, 3129,      8.9,  24.3577,  35.9794,2,  35.9813,2,    210.3,2,    211.8,2,  -999.00,9,  -999.00,9,  -999.00,9,  -999.00,9,    1.951,2,    1.087,2, -999.000,5, -999.000,5, -999.000,9,-999.0000,9,  -999.00,9,   -999.0,9,      1.5,2,   2039.9,2,    313.6,2,   -999.0,5,     8.06,2,   20.00,  -999.0,-999.0000,-999.000,   25.00,  -999.0, 24.3558,-999.000
    31DSCG94_2,  P18S,    85,  1,    135,   1247,2,19940322,2130,-26.9193,-103.0093, 3129,     25.4,  24.2693,  35.9755,2,  35.9736,2,    211.7,2,    211.3,2,     2.39,2,     0.02,2,     0.00,2,     0.13,2,    1.952,2,    1.079,2, -999.000,9, -999.000,9, -999.000,9,-999.0000,9,  -999.00,9,   -999.0,9,   -999.0,9,   2038.1,2,    314.3,2,   -999.0,5,     8.06,2,   20.00,  -999.0,-999.0000,-999.000,   25.00,  -999.0, 24.2639,-999.000
    31DSCG94_2,  P18S,    85,  1,    134,   1108,2,19940322,2130,-26.9193,-103.0093, 3129,     51.5,  24.2585,  35.9794,2,  35.9808,2,    212.5,2,    211.2,2,     1.10,2,     0.03,2,     0.00,2,     0.12,2,    1.954,2,    1.087,2, -999.000,5, -999.000,5, -999.000,9,-999.0000,9,  -999.00,9,   -999.0,9,   -999.0,9,   2040.9,2,    315.7,2,   -999.0,5,     8.06,2,   20.00,  -999.0,-999.0000,-999.000,   25.00,  -999.0, 24.2475,-999.000
    31DSCG94_2,  P18S,    85,  1,    133,   1244,2,19940322,2130,-26.9193,-103.0093, 3129,     76.5,  21.3215,  35.5906,2,  35.6013,2,    232.6,2,    234.9,2,     0.98,2,     0.08,2,     0.00,2,     0.13,2,    2.334,2,    1.266,2, -999.000,9, -999.000,9, -999.000,9,-999.0000,9,  -999.00,9,   -999.0,9,   -999.0,9,   2030.3,2,    326.5,2,   -999.0,5,     8.05,2,   20.00,  -999.0,-999.0000,-999.000,   25.00,  -999.0, 21.3067,-999.000
    31DSCG94_2,  P18S,    85,  1,    132,   1003,3,19940322,2130,-26.9193,-103.0093, 3129,    101.2,  20.6020,  35.5705,2,  35.5692,2,    231.2,2,    236.3,2,     1.11,2,     0.01,2,     0.00,2,     0.13,2, -999.000,5, -999.000,5, -999.000,9, -999.000,9, -999.000,9,-999.0000,9,  -999.00,9,   -999.0,9,   -999.0,9,   2033.2,2,   -999.0,9,   -999.0,5,  -999.00,9, -999.00,  -999.0,-999.0000,-999.000, -999.00,  -999.0, 20.5828,-999.000
    31DSCG94_2,  P18S,    85,  1,    131,   1211,2,19940322,2130,-26.9193,-103.0093, 3129,    123.9,  20.1301,  35.5590,2,  35.5570,2,    228.3,2,    234.0,2,     1.01,2,     0.22,2,     0.01,2,     0.17,2,    2.354,6,    1.270,6, -999.000,5, -999.000,5, -999.000,9,-999.0000,9,  -999.00,9,   -999.0,9,   -999.0,9,   2036.0,2,   -999.0,9,   -999.0,5,     8.04,2, -999.00,  -999.0,-999.0000,-999.000,   25.00,  -999.0, 20.1070,-999.000
    31DSCG94_2,  P18S,    85,  1,    130,   1241,2,19940322,2130,-26.9193,-103.0093, 3129,    152.5,  19.6550,  35.5293,2,  35.5351,2,    227.1,2,    230.7,2,     0.83,2,     0.00,2,     0.00,2,     0.16,2,    2.400,2,    1.269,2, -999.000,9, -999.000,9, -999.000,9,-999.0000,9,  -999.00,9,   -999.0,9,   -999.0,9,   2039.2,2,    339.6,2,   -999.0,5,     8.03,2,   20.00,  -999.0,-999.0000,-999.000,   25.00,  -999.0, 19.6271,-999.000
    31DSCG94_2,  P18S,    85,  1,    129,   1031,2,19940322,2130,-26.9193,-103.0093, 3129,    176.3,  19.2080,  35.4506,2,  35.4503,2,    226.1,2,    227.2,2,     0.90,2,     0.21,2,     0.00,2,     0.16,2,    2.398,2,    1.279,2, -999.000,5, -999.000,5, -999.000,9,-999.0000,9,  -999.00,9,   -999.0,9,   -999.0,9,   2039.8,2,   -999.0,9,   -999.0,5,     8.02,2, -999.00,  -999.0,-999.0000,-999.000,   25.00,  -999.0, 19.1762,-999.000
    31DSCG94_2,  P18S,    85,  1,    128,   1032,2,19940322,2130,-26.9193,-103.0093, 3129,    201.6,  18.4506,  35.3154,2,  35.3368,2,    221.8,2,    223.4,2,     0.86,2,     0.08,2,     0.00,2,     0.17,2,    2.448,2,    1.321,2, -999.000,9, -999.000,9, -999.000,9,-999.0000,9,  -999.00,9,   -999.0,9,   -999.0,9,   2043.7,2,    365.9,2,   -999.0,5,     8.01,2,   20.00,  -999.0,-999.0000,-999.000,   25.00,  -999.0, 18.4153,-999.000
    31DSCG94_2,  P18S,    85,  1,    127,   1008,2,19940322,2130,-26.9193,-103.0093, 3129,    251.4,  16.0421,  34.9239,2,  34.9381,2,    213.8,2,    212.2,2,     1.13,2,     2.54,2,     0.00,2,     0.37,2,    2.513,2,    1.307,2, -999.000,5, -999.000,5, -999.000,9,-999.0000,9,  -999.00,9,   -999.0,9,   -999.0,9,   2056.8,2,   -999.0,9,   -999.0,5,     7.95,2, -999.00,  -999.0,-999.0000,-999.000,   25.00,  -999.0, 16.0022,-999.000
    31DSCG94_2,  P18S,    85,  1,    126,   1007,2,19940322,2130,-26.9193,-103.0093, 3129,    299.7,  13.6856,  34.6270,2,  34.6306,2,    207.0,2,    205.0,2,     1.67,2,     7.01,2,     0.00,2,     0.71,2,    2.461,2,    1.244,2, -999.000,9, -999.000,9, -999.000,9,-999.0000,9,  -999.00,9,   -999.0,9,   -999.0,9,   2075.1,2,    509.4,2,   -999.0,5,     7.88,2,   20.00,  -999.0,-999.0000,-999.000,   25.00,  -999.0, 13.6429,-999.000
    31DSCG94_2,  P18S,    85,  1,    125,   1203,2,19940322,2130,-26.9193,-103.0093, 3129,    350.8,  10.7848,  34.4265,2,  34.4283,2,    191.3,2,    185.8,2,     4.80,2,    15.47,2,     0.00,2,     1.29,2,    1.985,6,    0.993,6, -999.000,5, -999.000,5, -999.000,9,-999.0000,9,  -999.00,9,   -999.0,9,   -999.0,9,   2118.5,3,   -999.0,9,   -999.0,5,     7.77,2, -999.00,  -999.0,-999.0000,-999.000,   25.00,  -999.0, 10.7421,-999.000
    31DSCG94_2,  P18S,    85,  1,    123,   1220,2,19940322,2130,-26.9193,-103.0093, 3129,    400.6,   8.8226,  34.3819,2,  34.3813,2,    167.7,2,    160.4,2,     9.96,2,    22.94,2,     0.00,2,     1.80,2,    1.353,2,    0.673,2, -999.000,5, -999.000,5, -999.000,9,-999.0000,9,  -999.00,9,   -999.0,9,   -999.0,9,   2160.2,3,    922.3,2,   -999.0,5,     7.65,2,   20.00,  -999.0,-999.0000,-999.000,   25.00,  -999.0,  8.7794,-999.000
    31DSCG94_2,  P18S,    85,  1,    122,   1245,2,19940322,2130,-26.9193,-103.0093, 3129,    451.6,   7.6272,  34.3608,2,  34.3605,2,    165.4,2,    161.6,2,    12.29,2,    26.22,2,     0.00,2,     1.98,2,    1.119,6,    0.554,6, -999.000,5, -999.000,5, -999.000,9,-999.0000,9,  -999.00,9,   -999.0,9,   -999.0,9,   2174.6,3,   -999.0,9,   -999.0,5,     7.62,2, -999.00,  -999.0,-999.0000,-999.000,   25.00,  -999.0,  7.5824,-999.000
    31DSCG94_2,  P18S,    85,  1,    121,   1206,2,19940322,2130,-26.9193,-103.0093, 3129,    501.7,   6.8861,  34.3490,2,  34.3495,2,    185.7,2,    174.1,2,    13.33,2,    27.68,2,     0.00,2,     2.02,2,    0.957,2,    0.477,2, -999.000,5, -999.000,5, -999.000,9,-999.0000,9,  -999.00,9,   -999.0,9,   -999.0,9,   2176.3,3,    993.9,2,   -999.0,5,     7.62,2,   20.00,  -999.0,-999.0000,-999.000,   25.00,  -999.0,  6.8390,-999.000
    31DSCG94_2,  P18S,    85,  1,    120,   1028,2,19940322,2130,-26.9193,-103.0093, 3129,    598.5,   6.0081,  34.3094,2,-999.0000,5,    209.1,2,    212.9,2,    13.02,2,    27.50,2,     0.00,2,     1.96,2,    0.957,6,    0.486,6, -999.000,5, -999.000,5, -999.000,9,-999.0000,9,  -999.00,9,   -999.0,9,   -999.0,9,   2159.2,2,    880.7,2,   -999.0,5,  -999.00,9,   20.00,  -999.0,-999.0000,-999.000, -999.00,  -999.0,  5.9555,-999.000
    31DSCG94_2,  P18S,    85,  1,    119,   1248,2,19940322,2130,-26.9193,-103.0093, 3129,    696.3,   5.2891,  34.2709,2,  34.2727,2,    229.9,2,    229.6,2,    14.46,2,    27.20,2,     0.00,2,     1.93,2,    0.750,2,    0.398,2, -999.000,5, -999.000,5, -999.000,9,-999.0000,9,  -999.00,9,   -999.0,9,   -999.0,9,   2155.7,2,    855.0,2,   -999.0,5,     7.69,2,   20.00,  -999.0,-999.0000,-999.000,   25.00,  -999.0,  5.2314,-999.000
    31DSCG94_2,  P18S,    85,  1,    118,   1207,2,19940322,2130,-26.9193,-103.0093, 3129,    795.9,   4.8408,  34.2819,2,  34.2835,2,    207.0,2,    206.2,2,    22.30,2,    29.74,2,     0.00,2,     2.10,2,    0.341,6,    0.185,6, -999.000,5, -999.000,5, -999.000,9,-999.0000,9,  -999.00,9,   -999.0,9,   -999.0,9,   2177.2,2,    955.6,2,   -999.0,5,     7.64,2,   20.00,  -999.0,-999.0000,-999.000,   25.00,  -999.0,  4.7770,-999.000
    31DSCG94_2,  P18S,    85,  1,    117,   1119,2,19940322,2130,-26.9193,-103.0093, 3129,    896.6,   4.4573,  34.3372,2,  34.3369,2,    177.4,2,    169.3,2,    36.51,2,    33.31,2,     0.00,2,     2.37,2, -999.000,9, -999.000,9, -999.000,9, -999.000,9, -999.000,9,-999.0000,9,  -999.00,9,   -999.0,9,   -999.0,9,   2212.6,2,   1130.3,2,   -999.0,5,     7.58,2,   20.00,  -999.0,-999.0000,-999.000,   25.00,  -999.0,  4.3873,-999.000
    31DSCG94_2,  P18S,    85,  1,    116,   1036,2,19940322,2130,-26.9193,-103.0093, 3129,    996.3,   4.0689,  34.4050,2,  34.4062,2,    146.1,2,    140.6,2,    53.28,2,    36.04,2,     0.00,2,     2.58,2,    0.014,2,    0.011,2, -999.000,9, -999.000,9, -999.000,9,-999.0000,9,  -999.00,9,   -999.0,9,   -999.0,9,   2246.0,2,   1272.1,2,   -999.0,5,     7.53,2,   20.00,  -999.0,-999.0000,-999.000,   25.00,  -999.0,  3.9932,-999.000
    31DSCG94_2,  P18S,    85,  1,    115,   1017,2,19940322,2130,-26.9193,-103.0093, 3129,   1097.1,   3.7391,  34.4637,2,  34.4637,2,    131.8,2,    128.2,2,    67.78,2,    36.73,2,     0.00,2,     2.63,2, -999.000,9, -999.000,9, -999.000,9, -999.000,9, -999.000,9,-999.0000,9,  -999.00,9,   -999.0,9,   -999.0,9,   2263.4,2,   1330.4,2,   -999.0,5,     7.52,2,   20.00,  -999.0,-999.0000,-999.000,   25.00,  -999.0,  3.6576,-999.000
    31DSCG94_2,  P18S,    85,  1,    114,   1016,2,19940322,2130,-26.9193,-103.0093, 3129,   1198.9,   3.5168,  34.4956,2,  34.4952,2,    129.3,2,    127.6,2,    75.33,2,    37.01,2,     0.00,2,     2.62,2, -999.000,9, -999.000,9, -999.000,9, -999.000,9, -999.000,9,-999.0000,9,  -999.00,9,   -999.0,9,   -999.0,9,   2271.4,2,   -999.0,9,   -999.0,5,     7.52,2, -999.00,  -999.0,-999.0000,-999.000,   25.00,  -999.0,  3.4287,-999.000
    31DSCG94_2,  P18S,    85,  1,    113,   1209,2,19940322,2130,-26.9193,-103.0093, 3129,   1300.3,   3.2731,  34.5199,2,  34.5221,2,    132.3,2,    131.1,6,    81.05,2,    36.77,2,     0.00,2,     2.63,2,    0.002,2,   -0.001,2, -999.000,5, -999.000,5, -999.000,9,-999.0000,9,  -999.00,9,   -999.0,9,   -999.0,9,   2274.4,2,   -999.0,9,   -999.0,5,     7.53,2, -999.00,  -999.0,-999.0000,-999.000,   25.00,  -999.0,  3.1790,-999.000
    31DSCG94_2,  P18S,    85,  1,    112,   1033,3,19940322,2130,-26.9193,-103.0093, 3129,   1399.0,   2.9669,  34.5422,2,  34.5448,2,    139.0,2,    138.6,2,    85.75,2,    36.26,2,     0.00,2,     2.58,2, -999.000,9, -999.000,9, -999.000,9, -999.000,9, -999.000,9,-999.0000,9,  -999.00,9,   -999.0,9,   -999.0,9,   -999.0,9,   -999.0,9,   -999.0,9,  -999.00,9, -999.00,  -999.0,-999.0000,-999.000, -999.00,  -999.0,  2.8678,-999.000
    31DSCG94_2,  P18S,    85,  1,    111,   1240,2,19940322,2130,-26.9193,-103.0093, 3129,   1495.9,   2.7432,  34.5607,2,  34.5600,2,    144.3,2,    144.7,2,    91.05,2,    35.88,2,     0.00,2,     2.53,2, -999.000,9, -999.000,9, -999.000,9, -999.000,9, -999.000,9,-999.0000,9,  -999.00,9,   -999.0,9,   -999.0,9,   2280.1,2,   1235.2,2,   -999.0,5,     7.55,2,   20.00,  -999.0,-999.0000,-999.000,   25.00,  -999.0,  2.6387,-999.000
    31DSCG94_2,  P18S,    85,  1,    110,   1005,3,19940322,2130,-26.9193,-103.0093, 3129,   1598.7,   2.5256,  34.5805,2,  34.5815,2,    150.0,2,    150.5,2,    96.79,2,    35.27,2,     0.00,2,     2.48,2,   -0.001,2,    0.011,2, -999.000,5, -999.000,5, -999.000,9,-999.0000,9,  -999.00,9,   -999.0,9,   -999.0,9,   2281.9,2,   1214.7,2,   -999.0,5,     7.56,2,   20.00,  -999.0,-999.0000,-999.000,   25.00,  -999.0,  2.4152,-999.000
    31DSCG94_2,  P18S,    85,  1,    109,   1611,2,19940322,2130,-26.9193,-103.0093, 3129,   1797.8,   2.2332,  34.6143,2,  34.6150,2,    155.3,2,    154.8,2,   105.95,2,    34.66,2,     0.00,2,     2.45,2, -999.000,9, -999.000,9, -999.000,9, -999.000,9, -999.000,9,-999.0000,9,  -999.00,9,   -999.0,9,   -999.0,9,   2286.9,2,   1178.5,2,   -999.0,5,     7.57,2,   20.00,  -999.0,-999.0000,-999.000,   25.00,  -999.0,  2.1102,-999.000
    31DSCG94_2,  P18S,    85,  1,    108,   1218,2,19940322,2130,-26.9193,-103.0093, 3129,   2000.8,   2.0425,  34.6381,2,  34.6418,2,    155.9,2,    155.3,2,   113.53,2,    34.81,2,     0.00,2,     2.46,2,   -0.005,2,   -0.002,2, -999.000,5, -999.000,5, -999.000,9,-999.0000,9,  -999.00,9,   -999.0,9,   -999.0,9,   2294.8,2,   1171.8,2,   -999.0,5,     7.58,2,   20.00,  -999.0,-999.0000,-999.000,   25.00,  -999.0,  1.9053,-999.000
    31DSCG94_2,  P18S,    85,  1,    107,   1257,2,19940322,2130,-26.9193,-103.0093, 3129,   2195.5,   1.9596,  34.6493,2,  34.6487,2,    156.4,2,    156.1,2,   116.26,2,    35.14,2,     0.00,2,     2.49,2, -999.000,9, -999.000,9, -999.000,9, -999.000,9, -999.000,9,-999.0000,9,  -999.00,9,   -999.0,9,   -999.0,9,   2297.7,2,   -999.0,9,   -999.0,5,     7.58,2, -999.00,  -999.0,-999.0000,-999.000,   25.00,  -999.0,  1.8071,-999.000
    31DSCG94_2,  P18S,    85,  1,    106,   1224,2,19940322,2130,-26.9193,-103.0093, 3129,   2398.6,   1.8848,  34.6601,2,  34.6617,2,    156.7,2,    157.4,2,   120.05,2,    34.84,2,     0.00,2,     2.48,2, -999.000,9, -999.000,9, -999.000,9, -999.000,9, -999.000,9,-999.0000,9,  -999.00,9,   -999.0,9,   -999.0,9,   2300.5,2,   1146.0,2,   -999.0,5,     7.58,2,   20.00,  -999.0,-999.0000,-999.000,   25.00,  -999.0,  1.7157,-999.000
    31DSCG94_2,  P18S,    85,  1,    105,   1246,2,19940322,2130,-26.9193,-103.0093, 3129,   2596.3,   1.8728,  34.6644,2,  34.6653,2,    156.6,2,    158.3,6,   122.13,2,    34.69,2,     0.00,2,     2.44,2, -999.000,9, -999.000,9, -999.000,9, -999.000,9, -999.000,9,-999.0000,9,  -999.00,9,   -999.0,9,   -999.0,9,   2300.1,2,   -999.0,9,   -999.0,5,     7.59,2, -999.00,  -999.0,-999.0000,-999.000,   25.00,  -999.0,  1.6860,-999.000
    31DSCG94_2,  P18S,    85,  1,    104,   1217,2,19940322,2130,-26.9193,-103.0093, 3129,   2793.3,   1.8568,  34.6699,2,  34.6725,2,    156.2,2,    159.2,2,   122.39,2,    34.55,2,     0.00,2,     2.42,2, -999.000,9, -999.000,9, -999.000,9, -999.000,9, -999.000,9,-999.0000,9,  -999.00,9,   -999.0,9,   -999.0,9,   2301.2,2,   1135.1,2,   -999.0,5,     7.59,2,   20.00,  -999.0,-999.0000,-999.000,   25.00,  -999.0,  1.6519,-999.000
    31DSCG94_2,  P18S,    85,  1,    103,   9999,2,19940322,2130,-26.9193,-103.0093, 3129,   2795.2,   1.8565,  34.6699,2,  34.6713,2,    156.4,2,    158.8,2,   121.45,2,    34.87,2,     0.00,2,     2.43,2, -999.000,9, -999.000,9, -999.000,9, -999.000,9, -999.000,9,-999.0000,9,  -999.00,9,   -999.0,9,   -999.0,9,   2299.0,2,   1119.2,2,   -999.0,5,     7.59,2,   20.00,  -999.0,-999.0000,-999.000,   25.00,  -999.0,  1.6515,-999.000
    31DSCG94_2,  P18S,    85,  1,    102,   1223,2,19940322,2130,-26.9193,-103.0093, 3129,   3000.3,   1.8694,  34.6712,2,  34.6728,2,    156.5,2,    159.5,2,   120.44,2,    34.64,2,     0.00,2,     2.46,2, -999.000,9, -999.000,9, -999.000,9, -999.000,9, -999.000,9,-999.0000,9,  -999.00,9,   -999.0,9,   -999.0,9,   2301.4,3,   -999.0,9,   -999.0,5,     7.59,2, -999.00,  -999.0,-999.0000,-999.000,   25.00,  -999.0,  1.6444,-999.000
    31DSCG94_2,  P18S,    85,  1,    101,   1041,2,19940322,2130,-26.9193,-103.0093, 3129,   3172.7,   1.8844,  34.6717,2,  34.6801,3,    154.4,2,    162.6,2,   120.08,2,    34.92,2,     0.00,2,     2.47,2, -999.000,9, -999.000,9, -999.000,9, -999.000,9, -999.000,9,-999.0000,9,  -999.00,9,   -999.0,9,   -999.0,9,   2302.6,2,   1130.0,2,   -999.0,5,     7.59,2,   20.00,  -999.0,-999.0000,-999.000,   25.00,  -999.0,  1.6421,-999.000