BOTTLE,20220630CCHSIOAMB
EXPOCODE,SECT_ID,STNNBR,CASTNO,SAMPNO,BTLNBR,BTLNBR_FLAG_W,DATE,TIME,LATITUDE,LONGITUDE,DEPTH,CTDPRS,CTDTMP,CTDSAL,CTDSAL_FLAG_W,SALNTY,SALNTY_FLAG_W,CTDOXY,CTDOXY_FLAG_W,OXYGEN,OXYGEN_FLAG_W,SILCAT,SILCAT_FLAG_W,NITRAT,NITRAT_FLAG_W,NITRIT,NITRIT_FLAG_W,PHSPHT,PHSPHT_FLAG_W,CFC-11,CFC-11_FLAG_W,CFC-12,CFC-12_FLAG_W,CFC113,CFC113_FLAG_W,CCL4,CCL4_FLAG_W,TRITUM,TRITUM_FLAG_W,HELIUM,HELIUM_FLAG_W,DELHE3,DELHE3_FLAG_W,DELC14,DELC14_FLAG_W,DELC13,DELC13_FLAG_W,TCARBN,TCARBN_FLAG_W,PCO2,PCO2_FLAG_W,ALKALI,ALKALI_FLAG_W,PH,PH_FLAG_W,PCO2TMP,C14ERR,HELIER,DELHER,PH_TMP,C13ERR,THETA,TRITER
,,,,,,,,,,,,DBAR,ITS-90,PSS-78,,PSS-78,,UMOL/KG,,UMOL/KG,,UMOL/KG,,UMOL/KG,,UMOL/KG,,UMOL/KG,,PMOL/KG,,PMOL/KG,,PMOL/KG,,PMOL/KG,,TU,,NMOL/KG,,PERCNT,,/MILLE,,/MILLE,,UMOL/KG,,UATM,,UMOL/KG,,,,DEG C,/MILLE,NMOL/KG,PERCNT,DEG C,/MILLE,DEG C,TU
    31DSCG94_3,  P18N,   118,  1,    136,   1025,2,19940406,0911,-10.5067,-103.0017, 4684,      9.4,  26.6009,  35.5052,2,  35.5051,2,    207.7,2,    205.2,2,     2.07,2,     3.76,2,     0.07,2,     0.46,2,    1.779,2,    1.010,2, -999.000,9, -999.000,9, -999.000,9,-999.0000,9,  -999.00,9,   -999.0,9,   -999.0,9,   2018.4,2,    311.1,2,   2342.0,2,     8.07,2,   20.00,  -999.0,-999.0000,-999.000,   25.00,  -999.0, 26.5988,-999.000
    31DSCG94_3,  P18N,   118,  1,    135,   1247,2,19940406,0911,-10.5067,-103.0017, 4684,     25.6,  26.6053,  35.5046,2,  35.5056,2,    205.3,2,    205.2,2,     2.20,2,     4.13,2,     0.06,2,     0.46,2,    1.842,2,    1.033,2, -999.000,9, -999.000,9, -999.000,9,-999.0000,9,  -999.00,9,   -999.0,9,   -999.0,9,   -999.0,9,   -999.0,9,   -999.0,9,     8.07,2, -999.00,  -999.0,-999.0000,-999.000,   25.00,  -999.0, 26.5995,-999.000
    31DSCG94_3,  P18N,   118,  1,    134,   1216,2,19940406,0911,-10.5067,-103.0017, 4684,     49.5,  26.5289,  35.5294,2,  35.5365,2,    208.7,2,    206.4,6,     2.07,2,     4.03,2,     0.05,2,     0.46,2,    1.811,2,    1.019,2, -999.000,9, -999.000,9, -999.000,9,-999.0000,9,  -999.00,9,   -999.0,9,   -999.0,9,   2017.8,2,    311.7,2,   2344.0,2,     8.07,2,   20.00,  -999.0,-999.0000,-999.000,   25.00,  -999.0, 26.5177,-999.000
    31DSCG94_3,  P18N,   118,  1,    133,   1244,2,19940406,0911,-10.5067,-103.0017, 4684,     74.4,  22.9757,  35.9414,2,  35.9516,2,    199.1,2,    206.5,2,     1.59,2,     0.55,2,     0.08,2,     0.39,2,    2.069,2,    1.147,2, -999.000,9, -999.000,9, -999.000,9,-999.0000,9,  -999.00,9,   -999.0,9,   -999.0,9,   -999.0,9,   -999.0,9,   -999.0,9,     8.06,2, -999.00,  -999.0,-999.0000,-999.000,   25.00,  -999.0, 22.9605,-999.000
    31DSCG94_3,  P18N,   118,  1,    132,   1003,2,19940406,0911,-10.5067,-103.0017, 4684,    100.8,  21.0487,  35.9108,2,  35.9148,2,    194.2,2,    197.9,2,     1.49,2,     1.38,2,     0.93,2,     0.53,2,    2.229,2,    1.217,2, -999.000,9, -999.000,9, -999.000,9,-999.0000,9,  -999.00,9,   -999.0,9,   -999.0,9,   2082.5,2,    371.3,2,   2372.0,2,     8.00,2,   20.00,  -999.0,-999.0000,-999.000,   25.00,  -999.0, 21.0294,-999.000
    31DSCG94_3,  P18N,   118,  1,    131,   1211,2,19940406,0911,-10.5067,-103.0017, 4684,    126.0,  18.7706,  35.5163,2,  35.5517,3,    183.2,2,    174.1,2,     2.25,2,     6.52,2,     0.30,2,     0.79,2,    2.266,2,    1.227,2, -999.000,9, -999.000,9, -999.000,9,-999.0000,9,  -999.00,9,   -999.0,9,   -999.0,9,   -999.0,9,   -999.0,9,   -999.0,9,     7.92,2, -999.00,  -999.0,-999.0000,-999.000,   25.00,  -999.0, 18.7483,-999.000
    31DSCG94_3,  P18N,   118,  1,    130,   1241,2,19940406,0911,-10.5067,-103.0017, 4684,    148.1,  14.8892,  34.9719,2,  34.9936,2,    125.4,2,    112.7,2,     6.82,2,    14.06,2,     0.00,2,     1.43,2,    1.876,2,    0.987,2, -999.000,9, -999.000,9, -999.000,9,-999.0000,9,  -999.00,9,   -999.0,9,   -999.0,9,   -999.0,9,   -999.0,9,   -999.0,9,     7.74,2, -999.00,  -999.0,-999.0000,-999.000,   25.00,  -999.0, 14.8670,-999.000
    31DSCG94_3,  P18N,   118,  1,    129,   1240,2,19940406,0911,-10.5067,-103.0017, 4684,    200.5,  12.0142,  34.8099,2,  34.8086,2,     12.4,2,      4.8,2,    22.89,2,    25.39,2,     0.00,2,     2.55,2,    0.290,6,    0.164,6, -999.000,9, -999.000,9, -999.000,9,-999.0000,9,  -999.00,9,   -999.0,9,   -999.0,9,   2256.4,2,   1586.4,2,   2296.0,2,     7.44,2,   20.00,  -999.0,-999.0000,-999.000,   25.00,  -999.0, 11.9881,-999.000
    31DSCG94_3,  P18N,   118,  1,    128,   1032,2,19940406,0911,-10.5067,-103.0017, 4684,    249.5,  10.8495,  34.7787,2,  34.7784,2,     25.6,2,     25.8,2,    25.09,2,    31.41,2,     0.00,2,     2.40,2,    0.139,2,    0.080,2, -999.000,9, -999.000,9, -999.000,9,-999.0000,9,  -999.00,9,   -999.0,9,   -999.0,9,   -999.0,9,   -999.0,9,   -999.0,9,     7.48,2, -999.00,  -999.0,-999.0000,-999.000,   25.00,  -999.0, 10.8190,-999.000
    31DSCG94_3,  P18N,   118,  1,    127,   1008,2,19940406,0911,-10.5067,-103.0017, 4684,    299.2,  10.1553,  34.7511,2,  34.7493,2,     34.8,2,     24.5,2,    29.20,2,    34.60,2,     0.00,2,     2.44,2,    0.067,2,    0.042,2, -999.000,9, -999.000,9, -999.000,9,-999.0000,9,  -999.00,9,   -999.0,9,   -999.0,9,   2252.4,2,   1506.2,2,   2301.0,2,     7.46,2,   20.00,  -999.0,-999.0000,-999.000,   25.00,  -999.0, 10.1201,-999.000
    31DSCG94_3,  P18N,   118,  1,    126,   1007,2,19940406,0911,-10.5067,-103.0017, 4684,    348.4,   9.7709,  34.7286,2,  34.7265,2,     19.7,2,     22.0,2,    31.33,2,    37.30,2,     0.00,2,     2.53,2,    0.049,2,    0.023,2, -999.000,9, -999.000,9, -999.000,9,-999.0000,9,  -999.00,9,   -999.0,9,   -999.0,9,   -999.0,9,   -999.0,9,   -999.0,9,     7.44,2, -999.00,  -999.0,-999.0000,-999.000,   25.00,  -999.0,  9.7308,-999.000
    31DSCG94_3,  P18N,   118,  1,    125,   1203,2,19940406,0911,-10.5067,-103.0017, 4684,    400.9,   9.2919,  34.6984,2,  34.6967,2,     21.3,2,      4.5,2,    36.45,2,    37.38,2,     0.00,2,     2.74,2,    0.013,2,    0.004,2, -999.000,9, -999.000,9, -999.000,9,-999.0000,9,  -999.00,9,   -999.0,9,   -999.0,9,   2278.3,2,   1799.1,2,   2304.0,2,     7.39,2,   20.00,  -999.0,-999.0000,-999.000,   25.00,  -999.0,  9.2471,-999.000
    31DSCG94_3,  P18N,   118,  1,    123,   1220,2,19940406,0911,-10.5067,-103.0017, 4684,    500.3,   8.1039,  34.6310,2,  34.6294,2,     11.1,2,     12.3,2,    39.93,2,    40.93,2,     0.00,2,     2.86,2,    0.003,2,    0.001,2, -999.000,9, -999.000,9, -999.000,9,-999.0000,9,  -999.00,9,   -999.0,9,   -999.0,9,   2281.5,2,   1840.2,2,   2305.0,2,     7.38,2,   20.00,  -999.0,-999.0000,-999.000,   25.00,  -999.0,  8.0521,-999.000
    31DSCG94_3,  P18N,   118,  1,    122,   1245,2,19940406,0911,-10.5067,-103.0017, 4684,    596.5,   7.0925,  34.5752,2,  34.5750,2,     20.1,2,     20.5,2,    44.33,2,    43.41,2,     0.00,2,     2.96,2, -999.000,9, -999.000,9, -999.000,9, -999.000,9, -999.000,9,-999.0000,9,  -999.00,9,   -999.0,9,   -999.0,9,   2287.4,2,   1880.6,2,   2314.0,2,     7.37,2,   20.00,  -999.0,-999.0000,-999.000,   25.00,  -999.0,  7.0350,-999.000
    31DSCG94_3,  P18N,   118,  1,    121,   1206,2,19940406,0911,-10.5067,-103.0017, 4684,    701.1,   6.1214,  34.5438,2,  34.5432,2,     28.2,2,     26.8,2,    54.53,2,    44.54,2,     0.00,2,     3.05,2, -999.000,9, -999.000,9, -999.000,9, -999.000,9, -999.000,9,-999.0000,9,  -999.00,9,   -999.0,9,   -999.0,9,   2297.0,2,   1905.9,2,   2316.0,2,     7.37,2,   20.00,  -999.0,-999.0000,-999.000,   25.00,  -999.0,  6.0585,-999.000
    31DSCG94_3,  P18N,   118,  1,    120,   1028,2,19940406,0911,-10.5067,-103.0017, 4684,    800.0,   5.4226,  34.5326,2,  34.5322,2,     40.3,2,     42.0,2,    63.43,2,    44.00,2,     0.00,2,     3.02,2, -999.000,9, -999.000,9, -999.000,9, -999.000,9, -999.000,9,-999.0000,9,  -999.00,9,   -999.0,9,   -999.0,9,   2300.2,2,   1826.3,2,   2326.0,2,     7.39,2,   20.00,  -999.0,-999.0000,-999.000,   25.00,  -999.0,  5.3545,-999.000
    31DSCG94_3,  P18N,   118,  1,    119,   1248,2,19940406,0911,-10.5067,-103.0017, 4684,    900.8,   4.8801,  34.5341,2,  34.5337,2,     51.6,2,     52.6,6,    72.41,2,    43.36,2,     0.00,2,     3.01,2, -999.000,9, -999.000,9, -999.000,9, -999.000,9, -999.000,9,-999.0000,9,  -999.00,9,   -999.0,9,   -999.0,9,   2303.7,2,   1761.4,2,   2342.0,2,     7.41,2,   20.00,  -999.0,-999.0000,-999.000,   25.00,  -999.0,  4.8065,-999.000
    31DSCG94_3,  P18N,   118,  1,    118,   1115,2,19940406,0911,-10.5067,-103.0017, 4684,   1001.0,   4.5003,  34.5387,2,  34.5388,2,     64.2,2,     65.4,2,    78.31,2,    42.95,2,     0.00,2,     2.98,2, -999.000,9, -999.000,9, -999.000,9, -999.000,9, -999.000,9,-999.0000,9,  -999.00,9,   -999.0,9,   -999.0,9,   2304.8,2,   1672.1,2,   2342.0,2,  -999.00,9,   20.00,  -999.0,-999.0000,-999.000, -999.00,  -999.0,  4.4207,-999.000
    31DSCG94_3,  P18N,   118,  1,    117,   1119,2,19940406,0911,-10.5067,-103.0017, 4684,   1148.9,   3.8823,  34.5544,2,  34.5536,2,     81.2,2,     82.6,2,    89.93,2,    41.09,2,     0.00,2,     2.88,2, -999.000,9, -999.000,9, -999.000,9, -999.000,9, -999.000,9,-999.0000,9,  -999.00,9,   -999.0,9,   -999.0,9,   -999.0,9,   -999.0,9,   -999.0,9,  -999.00,9, -999.00,  -999.0,-999.0000,-999.000, -999.00,  -999.0,  3.7950,-999.000
    31DSCG94_3,  P18N,   118,  1,    116,   1036,2,19940406,0911,-10.5067,-103.0017, 4684,   1302.2,   3.4118,  34.5741,2,  34.5724,2,     88.8,2,     87.6,2,   104.05,2,    40.54,2,     0.00,2,     2.88,2, -999.000,9, -999.000,9, -999.000,9, -999.000,9, -999.000,9,-999.0000,9,  -999.00,9,   -999.0,9,   -999.0,9,   -999.0,9,   -999.0,9,   -999.0,9,  -999.00,9, -999.00,  -999.0,-999.0000,-999.000, -999.00,  -999.0,  3.3160,-999.000
    31DSCG94_3,  P18N,   118,  1,    115,   1017,2,19940406,0911,-10.5067,-103.0017, 4684,   1598.9,   2.8059,  34.6056,2,  34.6058,2,     98.2,2,     97.5,2,   121.29,2,    39.86,2,     0.00,2,     2.81,2, -999.000,9, -999.000,9, -999.000,9, -999.000,9, -999.000,9,-999.0000,9,  -999.00,9,   -999.0,9,   -999.0,9,   -999.0,9,   -999.0,9,   -999.0,9,  -999.00,9, -999.00,  -999.0,-999.0000,-999.000, -999.00,  -999.0,  2.6920,-999.000
    31DSCG94_3,  P18N,   118,  1,    114,   1016,2,19940406,0911,-10.5067,-103.0017, 4684,   1794.6,   2.4900,  34.6241,2,  34.6250,2,    110.5,2,    109.4,2,   126.67,2,    39.38,2,     0.00,2,     2.71,2, -999.000,9, -999.000,9, -999.000,9, -999.000,9, -999.000,9,-999.0000,9,  -999.00,9,   -999.0,9,   -999.0,9,   -999.0,9,   -999.0,9,   -999.0,9,  -999.00,9, -999.00,  -999.0,-999.0000,-999.000, -999.00,  -999.0,  2.3637,-999.000
    31DSCG94_3,  P18N,   118,  1,    113,   1209,2,19940406,0911,-10.5067,-103.0017, 4684,   1993.9,   2.2799,  34.6381,2,  34.6373,2,    116.0,2,    115.4,2,   131.43,2,    38.60,2,     0.00,2,     2.68,2, -999.000,9, -999.000,9, -999.000,9, -999.000,9, -999.000,9,-999.0000,9,  -999.00,9,   -999.0,9,   -999.0,9,   -999.0,9,   -999.0,9,   -999.0,9,  -999.00,9, -999.00,  -999.0,-999.0000,-999.000, -999.00,  -999.0,  2.1396,-999.000
    31DSCG94_3,  P18N,   118,  1,    112,   1033,2,19940406,0911,-10.5067,-103.0017, 4684,   2247.5,   2.0600,  34.6535,2,  34.6534,2,    121.1,2,    120.3,2,   138.46,2,    38.13,2,     0.00,2,     2.65,2, -999.000,9, -999.000,9, -999.000,9, -999.000,9, -999.000,9,-999.0000,9,  -999.00,9,   -999.0,9,   -999.0,9,   -999.0,9,   -999.0,9,   -999.0,9,  -999.00,9, -999.00,  -999.0,-999.0000,-999.000, -999.00,  -999.0,  1.9012,-999.000
    31DSCG94_3,  P18N,   118,  1,    111,   1240,2,19940406,0911,-10.5067,-103.0017, 4684,   2500.3,   1.8989,  34.6647,2,  34.6642,2,    126.6,2,    127.1,2,   144.85,2,    37.59,2,     0.00,2,     2.60,2, -999.000,9, -999.000,9, -999.000,9, -999.000,9, -999.000,9,-999.0000,9,  -999.00,9,   -999.0,9,   -999.0,9,   -999.0,9,   -999.0,9,   -999.0,9,  -999.00,9, -999.00,  -999.0,-999.0000,-999.000, -999.00,  -999.0,  1.7204,-999.000
    31DSCG94_3,  P18N,   118,  1,    110,   1005,2,19940406,0911,-10.5067,-103.0017, 4684,   2750.8,   1.8162,  34.6698,2,  34.6695,2,    130.5,2,    131.2,2,   145.18,2,    37.21,2,     0.00,2,     2.58,2, -999.000,9, -999.000,9, -999.000,9, -999.000,9, -999.000,9,-999.0000,9,  -999.00,9,   -999.0,9,   -999.0,9,   -999.0,9,   -999.0,9,   -999.0,9,  -999.00,9, -999.00,  -999.0,-999.0000,-999.000, -999.00,  -999.0,  1.6162,-999.000
    31DSCG94_3,  P18N,   118,  1,    109,   1611,2,19940406,0911,-10.5067,-103.0017, 4684,   2999.6,   1.7782,  34.6721,2,  34.6726,2,    132.0,2,    133.8,2,   146.60,2,    37.25,2,     0.00,2,     2.56,2, -999.000,9, -999.000,9, -999.000,9, -999.000,9, -999.000,9,-999.0000,9,  -999.00,9,   -999.0,9,   -999.0,9,   -999.0,9,   -999.0,9,   -999.0,9,  -999.00,9, -999.00,  -999.0,-999.0000,-999.000, -999.00,  -999.0,  1.5553,-999.000
    31DSCG94_3,  P18N,   118,  1,    108,   1218,2,19940406,0911,-10.5067,-103.0017, 4684,   3200.3,   1.7675,  34.6736,2,  34.6739,2,    133.7,2,    132.2,2,   145.85,2,    37.12,2,     0.00,2,     2.55,2, -999.000,9, -999.000,9, -999.000,9, -999.000,9, -999.000,9,-999.0000,9,  -999.00,9,   -999.0,9,   -999.0,9,   -999.0,9,   -999.0,9,   -999.0,9,  -999.00,9, -999.00,  -999.0,-999.0000,-999.000, -999.00,  -999.0,  1.5251,-999.000
    31DSCG94_3,  P18N,   118,  1,    107,   1257,2,19940406,0911,-10.5067,-103.0017, 4684,   3498.1,   1.7676,  34.6753,2,  34.6752,2,    135.3,2,    136.4,2,   145.98,2,    36.95,2,     0.00,2,     2.55,2, -999.000,9, -999.000,9, -999.000,9, -999.000,9, -999.000,9,-999.0000,9,  -999.00,9,   -999.0,9,   -999.0,9,   -999.0,9,   -999.0,9,   -999.0,9,  -999.00,9, -999.00,  -999.0,-999.0000,-999.000, -999.00,  -999.0,  1.4949,-999.000
    31DSCG94_3,  P18N,   118,  1,    106,   1224,2,19940406,0911,-10.5067,-103.0017, 4684,   3748.3,   1.7811,  34.6763,2,  34.6765,2,    136.1,2,    137.6,6,   147.46,2,    36.79,2,     0.00,2,     2.56,2, -999.000,9, -999.000,9, -999.000,9, -999.000,9, -999.000,9,-999.0000,9,  -999.00,9,   -999.0,9,   -999.0,9,   -999.0,9,   -999.0,9,   -999.0,9,  -999.00,9, -999.00,  -999.0,-999.0000,-999.000, -999.00,  -999.0,  1.4816,-999.000
    31DSCG94_3,  P18N,   118,  1,    105,   1246,2,19940406,0911,-10.5067,-103.0017, 4684,   3997.2,   1.8014,  34.6763,2,  34.6781,2,    137.4,2,    137.7,2,   146.82,2,    37.03,2,     0.00,2,     2.55,2, -999.000,9, -999.000,9, -999.000,9, -999.000,9, -999.000,9,-999.0000,9,  -999.00,9,   -999.0,9,   -999.0,9,   -999.0,9,   -999.0,9,   -999.0,9,  -999.00,9, -999.00,  -999.0,-999.0000,-999.000, -999.00,  -999.0,  1.4743,-999.000
    31DSCG94_3,  P18N,   118,  1,    104,   1217,2,19940406,0911,-10.5067,-103.0017, 4684,   4250.6,   1.8256,  34.6763,2,  34.6759,2,    138.2,2,    138.2,2,   148.65,2,    36.82,2,     0.00,2,     2.54,2, -999.000,9, -999.000,9, -999.000,9, -999.000,9, -999.000,9,-999.0000,9,  -999.00,9,   -999.0,9,   -999.0,9,   -999.0,9,   -999.0,9,   -999.0,9,  -999.00,9, -999.00,  -999.0,-999.0000,-999.000, -999.00,  -999.0,  1.4693,-999.000
    31DSCG94_3,  P18N,   118,  1,    102,   1223,2,19940406,0911,-10.5067,-103.0017, 4684,   4500.8,   1.8514,  34.6766,2,  34.6765,2,    139.1,2,    138.7,2,   149.79,2,    36.95,2,     0.00,2,     2.54,2, -999.000,9, -999.000,9, -999.000,9, -999.000,9, -999.000,9,-999.0000,9,  -999.00,9,   -999.0,9,   -999.0,9,   -999.0,9,   -999.0,9,   -999.0,9,  -999.00,9, -999.00,  -999.0,-999.0000,-999.000, -999.00,  -999.0,  1.4654,-999.000
    31DSCG94_3,  P18N,   118,  1,    103,   9999,2,19940406,0911,-10.5067,-103.0017, 4684,   4501.8,   1.8515,  34.6765,2,  34.6788,2,    138.9,2,    137.8,2,   150.43,2,    36.92,2,     0.00,2,     2.53,2, -999.000,9, -999.000,9, -999.000,9, -999.000,9, -999.000,9,-999.0000,9,  -999.00,9,   -999.0,9,   -999.0,9,   -999.0,9,   -999.0,9,   -999.0,9,  -999.00,9, -999.00,  -999.0,-999.0000,-999.000, -999.00,  -999.0,  1.4654,-999.000
    31DSCG94_3,  P18N,   118,  1,    101,   1041,2,19940406,0911,-10.5067,-103.0017, 4684,   4754.3,   1.8825,  34.6767,2,  34.6755,2,    138.3,2,    138.8,2,   147.68,2,    37.05,2,     0.00,2,     2.54,2, -999.000,9, -999.000,9, -999.000,9, -999.000,9, -999.000,9,-999.0000,9,  -999.00,9,   -999.0,9,   -999.0,9,   -999.0,9,   -999.0,9,   -999.0,9,  -999.00,9, -999.00,  -999.0,-999.0000,-999.000, -999.00,  -999.0,  1.4654,-999.000