BOTTLE,20220630CCHSIOAMB
EXPOCODE,SECT_ID,STNNBR,CASTNO,SAMPNO,BTLNBR,BTLNBR_FLAG_W,DATE,TIME,LATITUDE,LONGITUDE,DEPTH,CTDPRS,CTDTMP,CTDSAL,CTDSAL_FLAG_W,SALNTY,SALNTY_FLAG_W,CTDOXY,CTDOXY_FLAG_W,OXYGEN,OXYGEN_FLAG_W,SILCAT,SILCAT_FLAG_W,NITRAT,NITRAT_FLAG_W,NITRIT,NITRIT_FLAG_W,PHSPHT,PHSPHT_FLAG_W,CFC-11,CFC-11_FLAG_W,CFC-12,CFC-12_FLAG_W,CFC113,CFC113_FLAG_W,CCL4,CCL4_FLAG_W,TRITUM,TRITUM_FLAG_W,HELIUM,HELIUM_FLAG_W,DELHE3,DELHE3_FLAG_W,DELC14,DELC14_FLAG_W,DELC13,DELC13_FLAG_W,TCARBN,TCARBN_FLAG_W,PCO2,PCO2_FLAG_W,ALKALI,ALKALI_FLAG_W,PH,PH_FLAG_W,PCO2TMP,C14ERR,HELIER,DELHER,PH_TMP,C13ERR,THETA,TRITER
,,,,,,,,,,,,DBAR,ITS-90,PSS-78,,PSS-78,,UMOL/KG,,UMOL/KG,,UMOL/KG,,UMOL/KG,,UMOL/KG,,UMOL/KG,,PMOL/KG,,PMOL/KG,,PMOL/KG,,PMOL/KG,,TU,,NMOL/KG,,PERCNT,,/MILLE,,/MILLE,,UMOL/KG,,UATM,,UMOL/KG,,,,DEG C,/MILLE,NMOL/KG,PERCNT,DEG C,/MILLE,DEG C,TU
    31DSCG94_3,  P18N,   112,  1,    135,   1247,2,19940404,1613,-13.4995,-103.0030, 4127,      8.9,  25.5471,  36.0618,2,  36.0626,2,    209.8,2,    207.3,2,     3.53,3,     0.92,2,     0.00,2,     0.32,2,    1.860,2,    1.039,2, -999.000,9, -999.000,9, -999.000,9,-999.0000,9,  -999.00,9,   -999.0,9,      1.7,2,   2037.7,2,   -999.0,9,   2378.0,2,     8.08,2, -999.00,  -999.0,-999.0000,-999.000,   25.00,  -999.0, 25.5451,-999.000
    31DSCG94_3,  P18N,   112,  1,    136,   1025,2,19940404,1613,-13.4995,-103.0030, 4127,      9.6,  25.5453,  36.0613,2,  36.0620,2,    210.2,2,    207.0,2,     2.31,3,     0.86,2,     0.01,2,     0.34,2,    1.861,2,    1.049,2, -999.000,5, -999.000,5, -999.000,9,-999.0000,9,  -999.00,9,   -999.0,9,   -999.0,9,   2034.5,2,    289.2,2,   2378.0,2,     8.09,2,   20.00,  -999.0,-999.0000,-999.000,   25.00,  -999.0, 25.5432,-999.000
    31DSCG94_3,  P18N,   112,  1,    134,   1216,2,19940404,1613,-13.4995,-103.0030, 4127,     25.5,  25.4946,  36.0613,2,  36.0638,2,    205.7,2,    207.2,2,     3.64,3,     0.88,2,     0.01,2,     0.34,2,    1.867,2,    1.039,2, -999.000,9, -999.000,9, -999.000,9,-999.0000,9,  -999.00,9,   -999.0,9,   -999.0,9,   -999.0,9,   -999.0,9,   -999.0,9,     8.09,2, -999.00,  -999.0,-999.0000,-999.000,   25.00,  -999.0, 25.4890,-999.000
    31DSCG94_3,  P18N,   112,  1,    133,   1244,2,19940404,1613,-13.4995,-103.0030, 4127,     49.7,  25.1079,  36.1478,2,  36.1489,2,    208.1,2,    209.8,6,     3.54,3,     0.05,2,     0.00,2,     0.28,2,    1.919,2,    1.064,2, -999.000,5, -999.000,5,    0.704,2,   1.7054,2,    -0.50,2,   -999.0,9,   -999.0,9,   2040.2,2,    338.4,3,   2387.0,2,     8.09,2,   20.00,  -999.0,-999.0000,-999.000,   25.00,  -999.0, 25.0970,   0.007
    31DSCG94_3,  P18N,   112,  1,    132,   1003,2,19940404,1613,-13.4995,-103.0030, 4127,     73.3,  23.4186,  36.0814,2,  36.0821,2,    212.5,2,    217.8,2,     3.35,3,     0.01,2,     0.00,2,     0.28,2,    2.085,2,    1.144,2, -999.000,9, -999.000,9, -999.000,9,-999.0000,9,  -999.00,9,   -999.0,9,   -999.0,9,   -999.0,9,   -999.0,9,   -999.0,9,     8.08,2, -999.00,  -999.0,-999.0000,-999.000,   25.00,  -999.0, 23.4034,-999.000
    31DSCG94_3,  P18N,   112,  1,    131,   1211,2,19940404,1613,-13.4995,-103.0030, 4127,     99.7,  22.4054,  36.1397,2,  36.1449,2,    208.6,2,    212.2,2,     3.49,3,     0.11,2,     0.00,2,     0.35,2,    2.107,6,    1.155,6, -999.000,5, -999.000,5,    0.588,2,   1.6938,2,    -1.33,2,   -999.0,9,   -999.0,9,   2060.1,2,    314.9,2,   2386.0,2,     8.06,2,   20.00,  -999.0,-999.0000,-999.000,   25.00,  -999.0, 22.3853,   0.007
    31DSCG94_3,  P18N,   112,  1,    130,   1241,2,19940404,1613,-13.4995,-103.0030, 4127,    150.0,  19.5806,  35.6664,2,  35.6697,2,    190.4,2,    186.5,2,     3.92,3,     4.26,2,     0.13,2,     0.65,2,    2.279,2,    1.235,2, -999.000,9, -999.000,9, -999.000,9,-999.0000,9,  -999.00,9,   -999.0,9,   -999.0,9,   -999.0,9,   -999.0,9,   -999.0,9,     7.95,2, -999.00,  -999.0,-999.0000,-999.000,   25.00,  -999.0, 19.5532,-999.000
    31DSCG94_3,  P18N,   112,  1,    129,   1240,2,19940404,1613,-13.4995,-103.0030, 4127,    200.0,  15.8563,  35.0741,2,  35.0714,2,    126.3,2,    123.1,2,     7.74,3,    13.20,2,     0.00,2,     1.34,2,    1.974,2,    1.049,2, -999.000,5, -999.000,5,    0.445,2,   1.6956,2,     0.22,2,   -999.0,9,   -999.0,9,   2147.2,2,    676.9,2,   2310.0,2,     7.77,2,   20.00,  -999.0,-999.0000,-999.000,   25.00,  -999.0, 15.8248,   0.006
    31DSCG94_3,  P18N,   112,  1,    128,   1032,2,19940404,1613,-13.4995,-103.0030, 4127,    250.4,  12.6301,  34.7628,2,  34.7613,2,     58.5,2,     37.5,2,    18.92,2,    21.16,2,     0.00,2,     2.25,2,    0.843,2,    0.452,2, -999.000,9, -999.000,9,    0.280,2,   1.7683,2,     2.64,2,   -999.0,9,   -999.0,9,   -999.0,9,   -999.0,9,   -999.0,9,     7.52,2, -999.00,  -999.0,-999.0000,-999.000,   25.00,  -999.0, 12.5963,   0.005
    31DSCG94_3,  P18N,   112,  1,    127,   1008,2,19940404,1613,-13.4995,-103.0030, 4127,    300.1,  10.9232,  34.7077,2,  34.7103,2,     20.3,2,     13.3,2,    26.79,2,    29.59,2,     0.00,2,     2.58,2,    0.177,2,    0.100,2, -999.000,9, -999.000,9,    0.103,2,-999.0000,9,  -999.00,9,   -999.0,9,   -999.0,9,   2256.9,2,   1618.7,2,   2294.0,2,     7.43,2,   20.00,  -999.0,-999.0000,-999.000,   25.00,  -999.0, 10.8863,   0.004
    31DSCG94_3,  P18N,   112,  1,    126,   1007,2,19940404,1613,-13.4995,-103.0030, 4127,    350.4,   9.6931,  34.6810,2,  34.6798,2,     26.8,2,     29.8,2,    30.25,2,    33.86,2,     0.00,2,     2.54,2,    0.058,6,    0.036,6, -999.000,5, -999.000,5,    0.047,2,   1.7857,2,     3.60,2,   -999.0,9,   -999.0,9,   -999.0,9,   -999.0,9,   -999.0,9,     7.45,2, -999.00,  -999.0,-999.0000,-999.000,   25.00,  -999.0,  9.6530,   0.004
    31DSCG94_3,  P18N,   112,  1,    125,   1203,2,19940404,1613,-13.4995,-103.0030, 4127,    399.2,   8.9649,  34.6540,2,  34.6531,2,     42.2,2,     40.7,2,    32.09,2,    35.61,2,     0.00,2,     2.49,2,    0.028,2,    0.017,2, -999.000,5, -999.000,5,    0.029,2,   1.8210,2,     4.30,2,   -999.0,9,   -999.0,9,   2251.7,2,   1510.1,2,   2303.0,2,     7.46,2,   20.00,  -999.0,-999.0000,-999.000,   25.00,  -999.0,  8.9214,   0.004
    31DSCG94_3,  P18N,   112,  1,    123,   1220,2,19940404,1613,-13.4995,-103.0030, 4127,    500.9,   7.7725,  34.6002,2,  34.6006,2,     49.6,2,     51.7,2,    37.92,2,    37.79,2,     0.00,2,     2.61,2,    0.010,6,    0.004,6, -999.000,9, -999.000,9,    0.011,2,   1.8005,2,     5.81,2,   -999.0,9,   -999.0,9,   -999.0,9,   1515.2,2,   -999.0,9,     7.46,2,   20.00,  -999.0,-999.0000,-999.000,   25.00,  -999.0,  7.7220,   0.003
    31DSCG94_3,  P18N,   112,  1,    122,   1245,2,19940404,1613,-13.4995,-103.0030, 4127,    601.4,   7.0043,  34.5624,2,  34.5608,2,     59.2,2,     57.2,2,    43.51,2,    38.94,2,     0.00,2,     2.70,2,   -0.002,2,    0.000,2, -999.000,9, -999.000,9,    0.002,2,   1.8531,2,     7.11,2,   -999.0,9,   -999.0,9,   2264.4,3,   1547.2,3,   2312.0,2,     7.45,2,   20.00,  -999.0,-999.0000,-999.000,   25.00,  -999.0,  6.9467,   0.003
    31DSCG94_3,  P18N,   112,  1,    121,   1206,2,19940404,1613,-13.4995,-103.0030, 4127,    700.8,   6.2656,  34.5303,2,  34.5294,2,     48.8,2,     50.1,2,    50.88,2,    41.82,2,     0.00,2,     2.86,2,   -0.004,2,   -0.003,2, -999.000,9, -999.000,9,    0.005,2,   1.8535,2,     8.67,2,   -999.0,9,   -999.0,9,   2277.4,3,   1678.6,2,   2310.0,2,     7.42,2,   20.00,  -999.0,-999.0000,-999.000,   25.00,  -999.0,  6.2019,   0.003
    31DSCG94_3,  P18N,   112,  1,    120,   1028,2,19940404,1613,-13.4995,-103.0030, 4127,    799.8,   5.5626,  34.5168,2,  34.5165,2,     48.1,2,     47.4,2,    59.82,2,    43.09,2,     0.00,2,     3.03,2,   -0.003,2,   -0.003,2, -999.000,9, -999.000,9,    0.004,2,   1.8585,2,    10.91,2,   -999.0,9,   -999.0,9,   2291.4,3,   1756.5,2,   2321.0,2,     7.40,2,   20.00,  -999.0,-999.0000,-999.000,   25.00,  -999.0,  5.4936,   0.004
    31DSCG94_3,  P18N,   112,  1,    119,   1248,2,19940404,1613,-13.4995,-103.0030, 4127,    898.8,   4.9845,  34.5182,2,  34.5173,2,     52.5,2,     52.0,2,    68.47,2,    43.50,2,     0.00,2,     3.05,2,    0.021,4,   -0.003,2, -999.000,9, -999.000,9,    0.009,2,   1.8714,2,    13.37,2,   -999.0,9,   -999.0,9,   2301.5,3,   1769.7,2,   2331.0,2,     7.40,2,   20.00,  -999.0,-999.0000,-999.000,   25.00,  -999.0,  4.9104,   0.003
    31DSCG94_3,  P18N,   112,  1,    118,   1115,2,19940404,1613,-13.4995,-103.0030, 4127,    998.3,   4.4987,  34.5284,2,-999.0000,5,     61.4,2,     61.2,2,    78.48,2,    44.22,2,     0.04,2,     3.09,2,    0.097,4,    0.133,4, -999.000,9, -999.000,9, -999.000,9,   1.8440,2,    16.09,2,   -999.0,9,   -999.0,9,   2308.6,3,   1714.6,2,   2344.0,6,  -999.00,9,   20.00,  -999.0,-999.0000,-999.000, -999.00,  -999.0,  4.4193,-999.000
    31DSCG94_3,  P18N,   112,  1,    117,   1119,2,19940404,1613,-13.4995,-103.0030, 4127,   1198.4,   3.7644,  34.5538,2,  34.5523,2,     77.7,2,     76.8,2,    94.69,2,    41.74,2,     0.03,2,     2.98,2,   -0.004,2,    0.000,2, -999.000,9, -999.000,9,    0.006,2,   1.8640,2,    20.37,2,   -999.0,9,   -999.0,9,   -999.0,9,   -999.0,9,   -999.0,9,     7.44,2, -999.00,  -999.0,-999.0000,-999.000,   25.00,  -999.0,  3.6740,   0.003
    31DSCG94_3,  P18N,   112,  1,    116,   1036,2,19940404,1613,-13.4995,-103.0030, 4127,   1399.4,   3.1645,  34.5819,2,  34.5822,2,     91.7,2,     92.8,2,   107.77,2,    40.62,2,     0.02,2,     2.86,2, -999.000,9, -999.000,9, -999.000,9, -999.000,9,    0.000,2,   1.8840,2,    23.44,2,   -999.0,9,   -999.0,9,   -999.0,9,   -999.0,9,   -999.0,9,     7.48,2, -999.00,  -999.0,-999.0000,-999.000,   25.00,  -999.0,  3.0632,   0.003
    31DSCG94_3,  P18N,   112,  1,    115,   1017,2,19940404,1613,-13.4995,-103.0030, 4127,   1601.0,   2.7900,  34.6031,2,  34.6015,2,    100.5,2,    102.7,2,   114.85,2,    39.76,2,     0.03,2,     2.79,2,   -0.001,2,   -0.003,2, -999.000,5, -999.000,5,    0.003,2,   1.9010,2,    25.86,2,   -999.0,9,   -999.0,9,   -999.0,9,   -999.0,9,   -999.0,9,     7.49,2, -999.00,  -999.0,-999.0000,-999.000,   25.00,  -999.0,  2.6762,   0.003
    31DSCG94_3,  P18N,   112,  1,    114,   1016,2,19940404,1613,-13.4995,-103.0030, 4127,   1800.6,   2.4549,  34.6234,2,-999.0000,4,    112.9,2,    115.0,2,   121.26,2,    38.95,2,     0.03,2,     2.69,2, -999.000,9, -999.000,9, -999.000,9, -999.000,9, -999.000,9,   1.9080,2,    28.13,2,   -999.0,9,   -999.0,9,   -999.0,9,   -999.0,9,   -999.0,9,     7.52,2, -999.00,  -999.0,-999.0000,-999.000,   25.00,  -999.0,  2.3286,-999.000
    31DSCG94_3,  P18N,   112,  1,    113,   1209,2,19940404,1613,-13.4995,-103.0030, 4127,   1998.5,   2.2146,  34.6396,2,  34.6396,4,    120.6,2,    122.1,2,   128.93,2,    37.89,2,     0.03,2,     2.67,2,   -0.001,2,   -0.003,2, -999.000,9, -999.000,9, -999.000,9,   1.9010,2,    29.18,2,   -999.0,9,   -999.0,9,   -999.0,9,   -999.0,9,   -999.0,9,     7.53,2, -999.00,  -999.0,-999.0000,-999.000,   25.00,  -999.0,  2.0749,-999.000
    31DSCG94_3,  P18N,   112,  1,    112,   1033,2,19940404,1613,-13.4995,-103.0030, 4127,   2200.9,   1.9950,  34.6556,2,  34.6555,5,    131.2,2,    133.6,2,   135.62,2,    38.11,2,     0.02,2,     2.66,2, -999.000,9, -999.000,9, -999.000,9, -999.000,9, -999.000,9,   1.9130,2,    29.51,2,   -999.0,9,   -999.0,9,   -999.0,9,   -999.0,9,   -999.0,9,  -999.00,9, -999.00,  -999.0,-999.0000,-999.000, -999.00,  -999.0,  1.8414,-999.000
    31DSCG94_3,  P18N,   112,  1,    111,   1240,2,19940404,1613,-13.4995,-103.0030, 4127,   2400.0,   1.8732,  34.6658,2,  34.6646,2,    138.4,2,    140.4,6,   131.03,2,    36.70,2,     0.02,2,     2.53,2,   -0.002,2,   -0.003,2, -999.000,9, -999.000,9, -999.000,9,   1.9150,2,    28.54,2,   -999.0,9,   -999.0,9,   -999.0,9,   -999.0,9,   -999.0,9,  -999.00,9, -999.00,  -999.0,-999.0000,-999.000, -999.00,  -999.0,  1.7041,-999.000
    31DSCG94_3,  P18N,   112,  1,    110,   1005,2,19940404,1613,-13.4995,-103.0030, 4127,   2600.6,   1.8091,  34.6722,2,  34.6711,2,    140.8,2,    141.8,2,   131.96,2,    36.86,2,     0.02,2,     2.52,2, -999.000,9, -999.000,9, -999.000,9, -999.000,9, -999.000,9,   1.9220,2,    27.84,2,   -999.0,9,   -999.0,9,   -999.0,9,   -999.0,9,   -999.0,9,     7.57,2, -999.00,  -999.0,-999.0000,-999.000,   25.00,  -999.0,  1.6231,-999.000
    31DSCG94_3,  P18N,   112,  1,    109,   1611,2,19940404,1613,-13.4995,-103.0030, 4127,   2796.8,   1.7832,  34.6749,2,  34.6743,2,    140.2,2,    141.1,2,   135.86,2,    36.58,2,     0.02,2,     2.52,2,   -0.003,2,   -0.003,2, -999.000,9, -999.000,9, -999.000,9,   1.9120,2,    27.48,2,   -999.0,9,   -999.0,9,   -999.0,9,   -999.0,9,   -999.0,9,  -999.00,9, -999.00,  -999.0,-999.0000,-999.000, -999.00,  -999.0,  1.5795,-999.000
    31DSCG94_3,  P18N,   112,  1,    108,   1218,2,19940404,1613,-13.4995,-103.0030, 4127,   3000.2,   1.7759,  34.6756,2,  34.6748,2,    137.0,2,    138.6,2,   142.96,2,    36.53,2,     0.02,2,     2.55,2, -999.000,9, -999.000,9, -999.000,9, -999.000,9, -999.000,9,   1.9220,2,    27.24,2,   -999.0,9,   -999.0,9,   -999.0,9,   -999.0,9,   -999.0,9,     7.57,2, -999.00,  -999.0,-999.0000,-999.000,   25.00,  -999.0,  1.5529,-999.000
    31DSCG94_3,  P18N,   112,  1,    107,   1257,2,19940404,1613,-13.4995,-103.0030, 4127,   3197.8,   1.7735,  34.6758,2,  34.6748,2,    135.2,2,    137.3,2,   146.75,2,    36.82,2,     0.02,2,     2.55,2,   -0.006,2,   -0.003,2, -999.000,9, -999.000,9, -999.000,9,-999.0000,9,  -999.00,9,   -999.0,9,   -999.0,9,   -999.0,9,   -999.0,9,   -999.0,9,  -999.00,9, -999.00,  -999.0,-999.0000,-999.000, -999.00,  -999.0,  1.5312,-999.000
    31DSCG94_3,  P18N,   112,  1,    106,   1224,2,19940404,1613,-13.4995,-103.0030, 4127,   3404.5,   1.7772,  34.6754,2,  34.6754,2,    134.8,2,    135.3,2,   145.70,2,    37.65,2,     0.02,2,     2.57,2, -999.000,9, -999.000,9, -999.000,9, -999.000,9, -999.000,9,   1.8980,3,    27.04,2,   -999.0,9,   -999.0,9,   -999.0,9,   -999.0,9,   -999.0,9,     7.57,2, -999.00,  -999.0,-999.0000,-999.000,   25.00,  -999.0,  1.5139,-999.000
    31DSCG94_3,  P18N,   112,  1,    105,   1246,2,19940404,1613,-13.4995,-103.0030, 4127,   3601.3,   1.7865,  34.6759,2,  34.6755,2,    134.5,2,    136.1,2,   144.25,2,    37.58,2,     0.02,2,     2.54,2,   -0.003,2,   -0.003,2, -999.000,9, -999.000,9, -999.000,9,   1.9180,2,    26.85,2,   -999.0,9,   -999.0,9,   -999.0,9,   -999.0,9,   -999.0,9,  -999.00,9, -999.00,  -999.0,-999.0000,-999.000, -999.00,  -999.0,  1.5025,-999.000
    31DSCG94_3,  P18N,   112,  1,    104,   1217,2,19940404,1613,-13.4995,-103.0030, 4127,   3799.3,   1.7973,  34.6759,2,  34.6746,2,    134.5,2,    135.6,2,   146.93,2,    37.05,2,     0.02,2,     2.58,2, -999.000,9, -999.000,9, -999.000,9, -999.000,9, -999.000,9,   1.9190,2,    26.68,2,   -999.0,9,   -999.0,9,   -999.0,9,   -999.0,9,   -999.0,9,     7.57,2, -999.00,  -999.0,-999.0000,-999.000,   25.00,  -999.0,  1.4919,-999.000
    31DSCG94_3,  P18N,   112,  1,    103,   9999,2,19940404,1613,-13.4995,-103.0030, 4127,   3995.5,   1.8125,  34.6757,2,  34.6766,2,    134.9,2,    136.2,2,   150.16,2,    36.82,2,     0.02,2,     2.56,2,   -0.005,2,   -0.003,2, -999.000,9, -999.000,9, -999.000,9,-999.0000,9,  -999.00,9,   -999.0,9,   -999.0,9,   -999.0,9,   -999.0,9,   -999.0,9,  -999.00,9, -999.00,  -999.0,-999.0000,-999.000, -999.00,  -999.0,  1.4853,-999.000
    31DSCG94_3,  P18N,   112,  1,    102,   1223,2,19940404,1613,-13.4995,-103.0030, 4127,   3997.6,   1.8126,  34.6759,2,  34.6752,2,    134.9,2,    136.6,2,   149.80,2,    37.32,2,     0.02,2,     2.57,2, -999.000,9, -999.000,9, -999.000,9, -999.000,9, -999.000,9,   1.9190,2,    25.84,2,   -999.0,9,   -999.0,9,   -999.0,9,   -999.0,9,   -999.0,9,     7.57,2, -999.00,  -999.0,-999.0000,-999.000,   25.00,  -999.0,  1.4851,-999.000
    31DSCG94_3,  P18N,   112,  1,    101,   1041,2,19940404,1613,-13.4995,-103.0030, 4127,   4180.6,   1.8317,  34.6760,2,  34.6752,2,    135.4,2,    136.8,6,   146.42,2,    37.50,2,     0.01,2,     2.55,2,    0.344,4,    0.001,2, -999.000,9, -999.000,9, -999.000,9,-999.0000,9,  -999.00,9,   -999.0,9,   -999.0,9,   -999.0,9,   -999.0,9,   -999.0,9,  -999.00,9, -999.00,  -999.0,-999.0000,-999.000, -999.00,  -999.0,  1.4832,-999.000