BOTTLE,20220630CCHSIOAMB
# Changed the units of DELHE3 from /MILLE to PERCNT
# Changed PHTEMP to PH_TMP, units from DEC C to DEG C
#BOTTLE,20150121CCHSIOHU
# HELIUM units changed from NCC/G to NMOL/KG
#BOTTLE,20020606WHPSIOSA
#code : jjward hyd_to_exchange.pl 
#original files copied from HTML directory: June 6, 2002
#original HYD file: p18hy.txt   Thu Jun  6 09:58:43 2002
#original SUM file: p18su.txt   Wed Oct 24 07:25:05 2001
EXPOCODE,SECT_ID,STNNBR,CASTNO,SAMPNO,BTLNBR,BTLNBR_FLAG_W,DATE,TIME,LATITUDE,LONGITUDE,DEPTH,CTDPRS,CTDTMP,CTDSAL,CTDSAL_FLAG_W,SALNTY,SALNTY_FLAG_W,CTDOXY,CTDOXY_FLAG_W,OXYGEN,OXYGEN_FLAG_W,SILCAT,SILCAT_FLAG_W,NITRAT,NITRAT_FLAG_W,NITRIT,NITRIT_FLAG_W,PHSPHT,PHSPHT_FLAG_W,CFC-11,CFC-11_FLAG_W,CFC-12,CFC-12_FLAG_W,CFC113,CFC113_FLAG_W,CCL4,CCL4_FLAG_W,TRITUM,TRITUM_FLAG_W,HELIUM,HELIUM_FLAG_W,DELHE3,DELHE3_FLAG_W,DELC14,DELC14_FLAG_W,DELC13,DELC13_FLAG_W,TCARBN,TCARBN_FLAG_W,PCO2,PCO2_FLAG_W,ALKALI,ALKALI_FLAG_W,PH,PH_FLAG_W,PCO2TMP,C14ERR,HELIER,DELHER,PH_TMP,C13ERR,THETA,TRITER
,,,,,,,,,,,,DBAR,ITS-90,PSS-78,,PSS-78,,UMOL/KG,,UMOL/KG,,UMOL/KG,,UMOL/KG,,UMOL/KG,,UMOL/KG,,PMOL/KG,,PMOL/KG,,PMOL/KG,,PMOL/KG,,TU,,NMOL/KG,,PERCNT,,/MILLE,,/MILLE,,UMOL/KG,,UATM,,UMOL/KG,,,,DEG C,/MILLE,NMOL/KG,PERCNT,DEG C,/MILLE,DEG C,TU
    31DSCG94_1,     x,     2,  1,    123,     -1,2,19940128,0754, 44.2350,-129.6750, 3671,     10.1,  11.7153,  32.5364,2,  32.5277,2,    290.4,2,   -999.0,9,  -999.00,9,  -999.00,9,  -999.00,9,  -999.00,9,    3.878,2,    1.915,2, -999.000,9, -999.000,9, -999.000,9,-999.0000,9,  -999.00,9,   -999.0,9,   -999.0,9,   -999.0,9,   -999.0,9,   -999.0,9,  -999.00,9, -999.00,  -999.0,-999.0000,-999.000, -999.00,  -999.0, 11.7140,-999.000
    31DSCG94_1,     x,     2,  1,    122,     -1,2,19940128,0754, 44.2350,-129.6750, 3671,    399.6,   5.3032,  33.9583,2,  33.9471,2,     82.6,2,   -999.0,9,  -999.00,9,  -999.00,9,  -999.00,9,  -999.00,9,    1.225,2,    0.560,2, -999.000,9, -999.000,9, -999.000,9,-999.0000,9,  -999.00,9,   -999.0,9,   -999.0,9,   -999.0,9,   -999.0,9,   -999.0,9,  -999.00,9, -999.00,  -999.0,-999.0000,-999.000, -999.00,  -999.0,  5.2711,-999.000
    31DSCG94_1,     x,     2,  1,    121,     -1,2,19940128,0754, 44.2350,-129.6750, 3671,    800.7,   3.8236,  34.2876,2,  34.2771,4,     -6.7,3,   -999.0,9,  -999.00,9,  -999.00,9,  -999.00,9,  -999.00,9,    0.035,2,    0.014,2, -999.000,9, -999.000,9, -999.000,9,-999.0000,9,  -999.00,9,   -999.0,9,   -999.0,9,   -999.0,9,   -999.0,9,   -999.0,9,  -999.00,9, -999.00,  -999.0,-999.0000,-999.000, -999.00,  -999.0,  3.7656,-999.000
    31DSCG94_1,     x,     2,  1,    120,     -1,2,19940128,0754, 44.2350,-129.6750, 3671,   1274.6,   2.9218,  34.4747,2,  34.4655,3,     -4.3,3,   -999.0,9,  -999.00,9,  -999.00,9,  -999.00,9,  -999.00,9,    0.082,4,    0.005,2, -999.000,9, -999.000,9, -999.000,9,-999.0000,9,  -999.00,9,   -999.0,9,   -999.0,9,   -999.0,9,   -999.0,9,   -999.0,9,  -999.00,9, -999.00,  -999.0,-999.0000,-999.000, -999.00,  -999.0,  2.8334,-999.000
    31DSCG94_1,     x,     2,  1,    119,     -1,2,19940128,0754, 44.2350,-129.6750, 3671,   1399.7,   2.7170,  34.4971,2,  34.4990,2,     -0.2,3,   -999.0,9,  -999.00,9,  -999.00,9,  -999.00,9,  -999.00,9,    0.128,4,    0.007,2, -999.000,9, -999.000,9, -999.000,9,-999.0000,9,  -999.00,9,   -999.0,9,   -999.0,9,   -999.0,9,   -999.0,9,   -999.0,9,  -999.00,9, -999.00,  -999.0,-999.0000,-999.000, -999.00,  -999.0,  2.6207,-999.000
    31DSCG94_1,     x,     2,  1,    118,     -1,2,19940128,0754, 44.2350,-129.6750, 3671,   1524.0,   2.4716,  34.5261,2,  34.5051,4,      6.8,2,   -999.0,9,  -999.00,9,  -999.00,9,  -999.00,9,  -999.00,9,    0.123,4,    0.011,2, -999.000,9, -999.000,9, -999.000,9,-999.0000,9,  -999.00,9,   -999.0,9,   -999.0,9,   -999.0,9,   -999.0,9,   -999.0,9,  -999.00,9, -999.00,  -999.0,-999.0000,-999.000, -999.00,  -999.0,  2.3681,-999.000
    31DSCG94_1,     x,     2,  1,    117,     -1,2,19940128,0754, 44.2350,-129.6750, 3671,   1648.1,   2.2589,  34.5523,2,  34.5526,2,     15.4,2,   -999.0,9,  -999.00,9,  -999.00,9,  -999.00,9,  -999.00,9,    0.251,4,    0.009,2, -999.000,9, -999.000,9, -999.000,9,-999.0000,9,  -999.00,9,   -999.0,9,   -999.0,9,   -999.0,9,   -999.0,9,   -999.0,9,  -999.00,9, -999.00,  -999.0,-999.0000,-999.000, -999.00,  -999.0,  2.1479,-999.000
    31DSCG94_1,     x,     2,  1,    116,     -1,2,19940128,0754, 44.2350,-129.6750, 3671,   1777.7,   2.0798,  34.5715,2,  34.5633,3,     22.7,2,   -999.0,9,  -999.00,9,  -999.00,9,  -999.00,9,  -999.00,9,    0.046,4,    0.005,2, -999.000,9, -999.000,9, -999.000,9,-999.0000,9,  -999.00,9,   -999.0,9,   -999.0,9,   -999.0,9,   -999.0,9,   -999.0,9,  -999.00,9, -999.00,  -999.0,-999.0000,-999.000, -999.00,  -999.0,  1.9607,-999.000
    31DSCG94_1,     x,     2,  1,    115,     -1,2,19940128,0754, 44.2350,-129.6750, 3671,   1893.7,   1.9586,  34.5917,2,  34.5839,3,     32.0,2,   -999.0,9,  -999.00,9,  -999.00,9,  -999.00,9,  -999.00,9,    0.112,4,    0.005,2, -999.000,9, -999.000,9, -999.000,9,-999.0000,9,  -999.00,9,   -999.0,9,   -999.0,9,   -999.0,9,   -999.0,9,   -999.0,9,  -999.00,9, -999.00,  -999.0,-999.0000,-999.000, -999.00,  -999.0,  1.8317,-999.000
    31DSCG94_1,     x,     2,  1,    114,     -1,2,19940128,0754, 44.2350,-129.6750, 3671,   2023.2,   1.8845,  34.6056,2,  34.5973,3,     37.5,2,   -999.0,9,  -999.00,9,  -999.00,9,  -999.00,9,  -999.00,9, -999.000,9, -999.000,9, -999.000,9, -999.000,9, -999.000,9,-999.0000,9,  -999.00,9,   -999.0,9,   -999.0,9,   -999.0,9,   -999.0,9,   -999.0,9,  -999.00,9, -999.00,  -999.0,-999.0000,-999.000, -999.00,  -999.0,  1.7480,-999.000
    31DSCG94_1,     x,     2,  1,    113,     -1,2,19940128,0754, 44.2350,-129.6750, 3671,   2149.6,   1.8489,  34.6132,2,  34.6077,3,     41.0,2,   -999.0,9,  -999.00,9,  -999.00,9,  -999.00,9,  -999.00,9,    0.099,4,    0.011,6, -999.000,9, -999.000,9, -999.000,9,-999.0000,9,  -999.00,9,   -999.0,9,   -999.0,9,   -999.0,9,   -999.0,9,   -999.0,9,  -999.00,9, -999.00,  -999.0,-999.0000,-999.000, -999.00,  -999.0,  1.7022,-999.000
    31DSCG94_1,     x,     2,  1,    112,     -1,2,19940128,0754, 44.2350,-129.6750, 3671,   2275.6,   1.8231,  34.6194,2,  34.6107,3,     45.4,2,   -999.0,9,  -999.00,9,  -999.00,9,  -999.00,9,  -999.00,9,    0.004,2,   -0.001,2, -999.000,9, -999.000,9, -999.000,9,-999.0000,9,  -999.00,9,   -999.0,9,   -999.0,9,   -999.0,9,   -999.0,9,   -999.0,9,  -999.00,9, -999.00,  -999.0,-999.0000,-999.000, -999.00,  -999.0,  1.6660,-999.000
    31DSCG94_1,     x,     2,  1,    111,     -1,2,19940128,0754, 44.2350,-129.6750, 3671,   2398.3,   1.8183,  34.6222,2,  34.6158,3,     46.6,2,   -999.0,9,  -999.00,9,  -999.00,9,  -999.00,9,  -999.00,9,   -0.002,2,    0.003,2, -999.000,9, -999.000,9, -999.000,9,-999.0000,9,  -999.00,9,   -999.0,9,   -999.0,9,   -999.0,9,   -999.0,9,   -999.0,9,  -999.00,9, -999.00,  -999.0,-999.0000,-999.000, -999.00,  -999.0,  1.6505,-999.000
    31DSCG94_1,     x,     2,  1,    110,     -1,2,19940128,0754, 44.2350,-129.6750, 3671,   2525.4,   1.8153,  34.6247,2,  34.6208,2,     47.4,2,   -999.0,9,  -999.00,9,  -999.00,9,  -999.00,9,  -999.00,9,    0.000,2,    0.004,2, -999.000,9, -999.000,9, -999.000,9,-999.0000,9,  -999.00,9,   -999.0,9,   -999.0,9,   -999.0,9,   -999.0,9,   -999.0,9,  -999.00,9, -999.00,  -999.0,-999.0000,-999.000, -999.00,  -999.0,  1.6362,-999.000
    31DSCG94_1,     x,     2,  1,    109,     -1,2,19940128,0754, 44.2350,-129.6750, 3671,   2651.2,   1.8162,  34.6273,2,  34.6217,3,     48.2,2,   -999.0,9,  -999.00,9,  -999.00,9,  -999.00,9,  -999.00,9,    0.010,2,    0.011,2, -999.000,9, -999.000,9, -999.000,9,-999.0000,9,  -999.00,9,   -999.0,9,   -999.0,9,   -999.0,9,   -999.0,9,   -999.0,9,  -999.00,9, -999.00,  -999.0,-999.0000,-999.000, -999.00,  -999.0,  1.6256,-999.000
    31DSCG94_1,     x,     2,  1,    108,     -1,2,19940128,0754, 44.2350,-129.6750, 3671,   2777.5,   1.8258,  34.6275,2,  34.6210,3,     47.3,2,   -999.0,9,  -999.00,9,  -999.00,9,  -999.00,9,  -999.00,9,    0.003,2,   -0.005,2, -999.000,9, -999.000,9, -999.000,9,-999.0000,9,  -999.00,9,   -999.0,9,   -999.0,9,   -999.0,9,   -999.0,9,   -999.0,9,  -999.00,9, -999.00,  -999.0,-999.0000,-999.000, -999.00,  -999.0,  1.6233,-999.000
    31DSCG94_1,     x,     2,  1,    107,     -1,2,19940128,0754, 44.2350,-129.6750, 3671,   2899.5,   1.8372,  34.6276,2,  34.6273,2,     47.2,2,   -999.0,9,  -999.00,9,  -999.00,9,  -999.00,9,  -999.00,9,    0.021,4,    0.045,4, -999.000,9, -999.000,9, -999.000,9,-999.0000,9,  -999.00,9,   -999.0,9,   -999.0,9,   -999.0,9,   -999.0,9,   -999.0,9,  -999.00,9, -999.00,  -999.0,-999.0000,-999.000, -999.00,  -999.0,  1.6228,-999.000
    31DSCG94_1,     x,     2,  1,    106,     -1,2,19940128,0754, 44.2350,-129.6750, 3671,   3025.9,   1.8495,  34.6273,2,  34.6225,3,     46.8,2,   -999.0,9,  -999.00,9,  -999.00,9,  -999.00,9,  -999.00,9,    0.015,2,   -0.003,2, -999.000,9, -999.000,9, -999.000,9,-999.0000,9,  -999.00,9,   -999.0,9,   -999.0,9,   -999.0,9,   -999.0,9,   -999.0,9,  -999.00,9, -999.00,  -999.0,-999.0000,-999.000, -999.00,  -999.0,  1.6226,-999.000
    31DSCG94_1,     x,     2,  1,    105,     -1,2,19940128,0754, 44.2350,-129.6750, 3671,   3151.7,   1.8601,  34.6275,2,  34.6232,3,     46.1,2,   -999.0,9,  -999.00,9,  -999.00,9,  -999.00,9,  -999.00,9,    0.044,4,    0.107,4, -999.000,9, -999.000,9, -999.000,9,-999.0000,9,  -999.00,9,   -999.0,9,   -999.0,9,   -999.0,9,   -999.0,9,   -999.0,9,  -999.00,9, -999.00,  -999.0,-999.0000,-999.000, -999.00,  -999.0,  1.6206,-999.000
    31DSCG94_1,     x,     2,  1,    104,     -1,2,19940128,0754, 44.2350,-129.6750, 3671,   3273.5,   1.8723,  34.6280,2,  34.6217,3,     45.6,2,   -999.0,9,  -999.00,9,  -999.00,9,  -999.00,9,  -999.00,9,    0.005,2,    0.000,2, -999.000,9, -999.000,9, -999.000,9,-999.0000,9,  -999.00,9,   -999.0,9,   -999.0,9,   -999.0,9,   -999.0,9,   -999.0,9,  -999.00,9, -999.00,  -999.0,-999.0000,-999.000, -999.00,  -999.0,  1.6203,-999.000
    31DSCG94_1,     x,     2,  1,    103,     -1,2,19940128,0754, 44.2350,-129.6750, 3671,   3400.0,   1.8849,  34.6281,2,  34.6225,3,     44.5,2,   -999.0,9,  -999.00,9,  -999.00,9,  -999.00,9,  -999.00,9,    0.007,2,    0.003,2, -999.000,9, -999.000,9, -999.000,9,-999.0000,9,  -999.00,9,   -999.0,9,   -999.0,9,   -999.0,9,   -999.0,9,   -999.0,9,  -999.00,9, -999.00,  -999.0,-999.0000,-999.000, -999.00,  -999.0,  1.6198,-999.000
    31DSCG94_1,     x,     2,  1,    102,     -1,2,19940128,0754, 44.2350,-129.6750, 3671,   3526.0,   1.8984,  34.6281,2,  34.6230,3,     43.8,2,   -999.0,9,  -999.00,9,  -999.00,9,  -999.00,9,  -999.00,9,    0.009,2,    0.000,2, -999.000,9, -999.000,9, -999.000,9,-999.0000,9,  -999.00,9,   -999.0,9,   -999.0,9,   -999.0,9,   -999.0,9,   -999.0,9,  -999.00,9, -999.00,  -999.0,-999.0000,-999.000, -999.00,  -999.0,  1.6198,-999.000
    31DSCG94_1,     x,     2,  1,    101,     -1,2,19940128,0754, 44.2350,-129.6750, 3671,   3660.2,   1.9135,  34.6279,2,  34.6238,3,     42.9,2,   -999.0,9,  -999.00,9,  -999.00,9,  -999.00,9,  -999.00,9,    0.029,4,    0.000,2, -999.000,9, -999.000,9, -999.000,9,-999.0000,9,  -999.00,9,   -999.0,9,   -999.0,9,   -999.0,9,   -999.0,9,   -999.0,9,  -999.00,9, -999.00,  -999.0,-999.0000,-999.000, -999.00,  -999.0,  1.6203,-999.000