BOTTLE,20220630CCHSIOAMB
EXPOCODE,SECT_ID,STNNBR,CASTNO,SAMPNO,BTLNBR,BTLNBR_FLAG_W,DATE,TIME,LATITUDE,LONGITUDE,DEPTH,CTDPRS,CTDTMP,CTDSAL,CTDSAL_FLAG_W,SALNTY,SALNTY_FLAG_W,CTDOXY,CTDOXY_FLAG_W,OXYGEN,OXYGEN_FLAG_W,SILCAT,SILCAT_FLAG_W,NITRAT,NITRAT_FLAG_W,NITRIT,NITRIT_FLAG_W,PHSPHT,PHSPHT_FLAG_W,CFC-11,CFC-11_FLAG_W,CFC-12,CFC-12_FLAG_W,CFC113,CFC113_FLAG_W,CCL4,CCL4_FLAG_W,TRITUM,TRITUM_FLAG_W,HELIUM,HELIUM_FLAG_W,DELHE3,DELHE3_FLAG_W,DELC14,DELC14_FLAG_W,DELC13,DELC13_FLAG_W,TCARBN,TCARBN_FLAG_W,PCO2,PCO2_FLAG_W,ALKALI,ALKALI_FLAG_W,PH,PH_FLAG_W,PCO2TMP,C14ERR,HELIER,DELHER,PH_TMP,C13ERR,THETA,TRITER
,,,,,,,,,,,,DBAR,ITS-90,PSS-78,,PSS-78,,UMOL/KG,,UMOL/KG,,UMOL/KG,,UMOL/KG,,UMOL/KG,,UMOL/KG,,PMOL/KG,,PMOL/KG,,PMOL/KG,,PMOL/KG,,TU,,NMOL/KG,,PERCNT,,/MILLE,,/MILLE,,UMOL/KG,,UATM,,UMOL/KG,,,,DEG C,/MILLE,NMOL/KG,PERCNT,DEG C,/MILLE,DEG C,TU
    31DSCG94_2,  P18S,    57,  1,    124,    435,2,19940315,0925,-40.9833,-103.0000, 4058,      9.8,  15.7937,  33.9965,2,  33.9972,2,    246.1,2,    248.1,2,     1.45,2,     8.57,2,     0.19,2,     0.81,2,    2.899,2,    1.517,2, -999.000,9, -999.000,9, -999.000,9,-999.0000,9,  -999.00,9,   -999.0,9,      2.4,2,   2038.6,2,   -999.0,9,   2259.0,2,     7.92,2, -999.00,  -999.0,-999.0000,-999.000,   25.00,  -999.0, 15.7922,-999.000
    31DSCG94_2,  P18S,    57,  1,    123,    421,2,19940315,0925,-40.9833,-103.0000, 4058,     24.2,  15.6147,  34.0023,2,  34.0017,2,    253.6,2,    249.6,2,     1.25,2,     8.46,2,     0.18,2,     0.85,2,    2.922,2,    1.529,2, -999.000,9, -999.000,9, -999.000,9,-999.0000,9,  -999.00,9,   -999.0,9,   -999.0,9,   2039.1,2,   -999.0,9,   2258.0,2,     7.92,2, -999.00,  -999.0,-999.0000,-999.000,   25.00,  -999.0, 15.6109,-999.000
    31DSCG94_2,  P18S,    57,  1,    122,    418,2,19940315,0925,-40.9833,-103.0000, 4058,     50.4,  14.6131,  34.0071,2,  34.0191,2,    254.7,2,    258.7,2,     1.45,2,     8.46,2,     0.14,2,     0.80,2,    3.123,2,    1.635,2, -999.000,9, -999.000,9, -999.000,9,-999.0000,9,  -999.00,9,   -999.0,9,   -999.0,9,   2041.8,2,   -999.0,9,   2256.0,2,     7.91,2, -999.00,  -999.0,-999.0000,-999.000,   25.00,  -999.0, 14.6057,-999.000
    31DSCG94_2,  P18S,    57,  1,    121,    413,2,19940315,0925,-40.9833,-103.0000, 4058,     97.2,   9.5161,  34.1003,2,  34.1011,2,    272.7,2,    273.2,2,     2.02,2,    11.70,2,     0.19,2,     1.03,2,    3.829,2,    1.929,2, -999.000,9, -999.000,9, -999.000,9,-999.0000,9,  -999.00,9,   -999.0,9,   -999.0,9,   2073.2,2,   -999.0,9,   2255.0,3,     7.85,2, -999.00,  -999.0,-999.0000,-999.000,   25.00,  -999.0,  9.5054,-999.000
    31DSCG94_2,  P18S,    57,  1,    120,    405,2,19940315,0925,-40.9833,-103.0000, 4058,    147.7,   8.3757,  34.1963,2,  34.1965,2,    264.6,2,    258.4,2,     2.74,2,    15.71,2,     0.10,2,     1.25,2,    3.742,2,    1.842,2, -999.000,9, -999.000,9, -999.000,9,-999.0000,9,  -999.00,9,   -999.0,9,   -999.0,9,   2098.9,2,   -999.0,9,   2265.0,2,     7.80,2, -999.00,  -999.0,-999.0000,-999.000,   25.00,  -999.0,  8.3605,-999.000
    31DSCG94_2,  P18S,    57,  1,    119,    417,2,19940315,0925,-40.9833,-103.0000, 4058,    198.8,   7.6713,  34.2897,2,  34.2907,2,    249.8,2,    242.4,2,     4.68,2,    19.28,2,     0.00,2,     1.47,2,    3.086,2,    1.506,2, -999.000,9, -999.000,9, -999.000,9,-999.0000,9,  -999.00,9,   -999.0,9,   -999.0,9,   2121.7,2,   -999.0,9,   2269.0,2,     7.76,2, -999.00,  -999.0,-999.0000,-999.000,   25.00,  -999.0,  7.6518,-999.000
    31DSCG94_2,  P18S,    57,  1,    118,    429,2,19940315,0925,-40.9833,-103.0000, 4058,    246.2,   7.0916,  34.3003,2,  34.3020,2,    254.4,2,    253.1,2,     5.38,2,    19.67,2,     0.00,2,     1.45,2,    3.286,2,    1.609,2, -999.000,9, -999.000,9, -999.000,9,-999.0000,9,  -999.00,9,   -999.0,9,   -999.0,9,   2123.8,2,   -999.0,9,   2269.0,2,     7.76,2, -999.00,  -999.0,-999.0000,-999.000,   25.00,  -999.0,  7.0686,-999.000
    31DSCG94_2,  P18S,    57,  1,    117,    427,2,19940315,0925,-40.9833,-103.0000, 4058,    300.9,   6.6952,  34.3219,2,  34.3222,2,    255.1,2,    256.0,2,     6.52,2,    20.51,2,     0.00,2,     1.49,2,    3.054,2,    1.474,2, -999.000,9, -999.000,9, -999.000,9,-999.0000,9,  -999.00,9,   -999.0,9,   -999.0,9,   2128.4,2,   -999.0,9,   2275.0,2,     7.75,2, -999.00,  -999.0,-999.0000,-999.000,   25.00,  -999.0,  6.6678,-999.000
    31DSCG94_2,  P18S,    57,  1,    116,    410,2,19940315,0925,-40.9833,-103.0000, 4058,    398.0,   6.4073,  34.3265,2,  34.3263,2,    258.4,2,    257.5,2,     7.71,2,    21.27,2,     0.00,2,     1.57,2,    2.729,2,    1.317,2, -999.000,9, -999.000,9, -999.000,9,-999.0000,9,  -999.00,9,   -999.0,9,   -999.0,9,   2130.4,2,   -999.0,9,   2270.0,3,     7.75,2, -999.00,  -999.0,-999.0000,-999.000,   25.00,  -999.0,  6.3716,-999.000
    31DSCG94_2,  P18S,    57,  1,    115,    422,2,19940315,0925,-40.9833,-103.0000, 4058,    498.2,   6.1195,  34.3113,2,  34.3123,2,    253.0,2,    254.0,2,     8.60,2,    22.40,2,     0.00,2,     1.65,2,    2.092,2,    1.021,2, -999.000,9, -999.000,9, -999.000,9,-999.0000,9,  -999.00,9,   -999.0,9,   -999.0,9,   2136.0,2,   -999.0,9,   2275.0,2,     7.74,2, -999.00,  -999.0,-999.0000,-999.000,   25.00,  -999.0,  6.0757,-999.000
    31DSCG94_2,  P18S,    57,  1,    114,    407,2,19940315,0925,-40.9833,-103.0000, 4058,    597.1,   5.7372,  34.2864,2,  34.2878,2,    251.4,2,    254.3,2,    10.03,2,    23.37,2,     0.00,2,     1.66,2,    1.937,2,    0.948,2, -999.000,9, -999.000,9, -999.000,9,-999.0000,9,  -999.00,9,   -999.0,9,   -999.0,9,   2136.5,2,   -999.0,9,   2275.0,2,     7.74,2, -999.00,  -999.0,-999.0000,-999.000,   25.00,  -999.0,  5.6860,-999.000
    31DSCG94_2,  P18S,    57,  1,    113,    419,2,19940315,0925,-40.9833,-103.0000, 4058,    803.4,   4.9875,  34.2681,2,  34.6613,4,    231.9,2,    232.5,2,    17.33,2,    26.51,2,     0.00,2,     1.91,2,    0.949,2,    0.484,2, -999.000,9, -999.000,9, -999.000,9,-999.0000,9,  -999.00,9,   -999.0,9,   -999.0,9,   2160.0,3,   -999.0,9,   2284.0,2,     7.69,2, -999.00,  -999.0,-999.0000,-999.000,   25.00,  -999.0,  4.9221,-999.000
    31DSCG94_2,  P18S,    57,  1,    112,    426,2,19940315,0925,-40.9833,-103.0000, 4058,    996.2,   4.1510,  34.3033,2,  34.3037,2,    201.1,2,    201.3,2,    31.54,2,    30.75,2,     0.00,2,     2.23,2,    0.293,2,    0.162,2, -999.000,9, -999.000,9, -999.000,9,-999.0000,9,  -999.00,9,   -999.0,9,   -999.0,9,   2193.6,2,   -999.0,9,   2298.0,2,     7.63,2, -999.00,  -999.0,-999.0000,-999.000,   25.00,  -999.0,  4.0748,-999.000
    31DSCG94_2,  P18S,    57,  1,    111,    424,2,19940315,0925,-40.9833,-103.0000, 4058,   1198.7,   3.4819,  34.3848,2,  34.3843,2,    168.9,2,    170.6,2,    49.75,2,    34.42,2,     0.00,2,     2.44,2,    0.061,2,    0.025,2, -999.000,9, -999.000,9, -999.000,9,-999.0000,9,  -999.00,9,   -999.0,9,   -999.0,9,   2228.9,2,   -999.0,9,   2310.0,2,     7.57,2, -999.00,  -999.0,-999.0000,-999.000,   25.00,  -999.0,  3.3944,-999.000
    31DSCG94_2,  P18S,    57,  1,    110,    409,2,19940315,0925,-40.9833,-103.0000, 4058,   1399.0,   3.1001,  34.4876,2,  34.4870,2,    141.9,2,    140.8,2,    72.18,2,    36.03,2,     0.00,2,     2.62,2,    0.013,2,    0.002,2, -999.000,9, -999.000,9, -999.000,9,-999.0000,9,  -999.00,9,   -999.0,9,   -999.0,9,   2268.7,2,   -999.0,9,   2338.0,2,     7.53,2, -999.00,  -999.0,-999.0000,-999.000,   25.00,  -999.0,  2.9997,-999.000
    31DSCG94_2,  P18S,    57,  1,    109,    423,2,19940315,0925,-40.9833,-103.0000, 4058,   1704.6,   2.5935,  34.5666,2,  34.5656,2,    150.7,2,    153.0,2,    84.79,2,    34.67,2,     0.00,2,     2.48,2,    0.018,2,    0.006,2, -999.000,9, -999.000,9, -999.000,9,-999.0000,9,  -999.00,9,   -999.0,9,   -999.0,9,   2273.1,2,   -999.0,9,   2350.0,2,     7.55,2, -999.00,  -999.0,-999.0000,-999.000,   25.00,  -999.0,  2.4736,-999.000
    31DSCG94_2,  P18S,    57,  1,    108,    414,2,19940315,0925,-40.9833,-103.0000, 4058,   1996.4,   2.2714,  34.6370,2,  34.6369,2,    158.9,2,    162.5,2,    92.31,2,    33.46,2,     0.00,2,     2.44,2,    0.013,2,    0.004,2, -999.000,9, -999.000,9, -999.000,9,-999.0000,9,  -999.00,9,   -999.0,9,   -999.0,9,   2274.6,2,   -999.0,9,   2363.0,2,     7.57,2, -999.00,  -999.0,-999.0000,-999.000,   25.00,  -999.0,  2.1311,-999.000
    31DSCG94_2,  P18S,    57,  1,    107,    437,2,19940315,0925,-40.9833,-103.0000, 4058,   2300.9,   2.0024,  34.6798,2,  34.6797,2,    164.5,2,    166.7,2,   101.55,2,    33.08,2,     0.00,2,     2.40,2,    0.008,2,    0.003,2, -999.000,9, -999.000,9, -999.000,9,-999.0000,9,  -999.00,9,   -999.0,9,   -999.0,9,   2281.1,2,   -999.0,9,   2368.0,2,     7.58,2, -999.00,  -999.0,-999.0000,-999.000,   25.00,  -999.0,  1.8398,-999.000
    31DSCG94_2,  P18S,    57,  1,    106,    416,2,19940315,0925,-40.9833,-103.0000, 4058,   2599.5,   1.8275,  34.6913,2,  34.6906,2,    167.2,2,    168.5,2,   109.19,2,    32.97,2,     0.00,2,     2.36,2,    0.039,4,    0.000,2, -999.000,9, -999.000,9, -999.000,9,-999.0000,9,  -999.00,9,   -999.0,9,   -999.0,9,   2285.3,2,   -999.0,9,   2376.0,2,     7.59,2, -999.00,  -999.0,-999.0000,-999.000,   25.00,  -999.0,  1.6412,-999.000
    31DSCG94_2,  P18S,    57,  1,    105,    420,2,19940315,0925,-40.9833,-103.0000, 4058,   2903.1,   1.7271,  34.6989,2,  34.6984,2,    171.5,2,    173.2,2,   112.67,2,    32.99,2,     0.00,2,     2.34,2,    0.004,2,   -0.002,2, -999.000,9, -999.000,9, -999.000,9,-999.0000,9,  -999.00,9,   -999.0,9,   -999.0,9,   2284.2,2,   -999.0,9,   2377.0,2,     7.60,2, -999.00,  -999.0,-999.0000,-999.000,   25.00,  -999.0,  1.5144,-999.000
    31DSCG94_2,  P18S,    57,  1,    104,    436,2,19940315,0925,-40.9833,-103.0000, 4058,   3203.4,   1.5778,  34.7034,2,  34.7030,2,    177.1,2,    178.4,2,   114.63,2,    32.57,2,     0.00,2,     2.36,2,    0.006,2,    0.000,2, -999.000,9, -999.000,9, -999.000,9,-999.0000,9,  -999.00,9,   -999.0,9,   -999.0,9,   2282.3,2,   -999.0,9,   2375.0,2,     7.60,2, -999.00,  -999.0,-999.0000,-999.000,   25.00,  -999.0,  1.3394,-999.000
    31DSCG94_2,  P18S,    57,  1,    103,    425,2,19940315,0925,-40.9833,-103.0000, 4058,   3499.9,   1.3000,  34.7065,2,  34.7059,2,    186.1,2,    187.2,2,   118.78,2,    32.26,2,     0.00,2,     2.33,2,    0.013,2,   -0.003,2, -999.000,9, -999.000,9, -999.000,9,-999.0000,9,  -999.00,9,   -999.0,9,   -999.0,9,   2281.2,2,   -999.0,9,   2384.0,2,     7.61,2, -999.00,  -999.0,-999.0000,-999.000,   25.00,  -999.0,  1.0387,-999.000
    31DSCG94_2,  P18S,    57,  1,    102,    433,2,19940315,0925,-40.9833,-103.0000, 4058,   3798.3,   1.1644,  34.7079,2,  34.7086,2,    192.6,2,    192.0,2,   122.78,2,    32.43,2,     0.00,2,     2.32,2,    0.010,2,    0.000,2, -999.000,9, -999.000,9, -999.000,9,-999.0000,9,  -999.00,9,   -999.0,9,   -999.0,9,   2279.2,2,   -999.0,9,   2386.0,2,     7.62,2, -999.00,  -999.0,-999.0000,-999.000,   25.00,  -999.0,  0.8761,-999.000
    31DSCG94_2,  P18S,    57,  1,    101,    403,2,19940315,0925,-40.9833,-103.0000, 4058,   4081.2,   1.1267,  34.7085,2,  34.7076,2,    196.2,2,    194.6,2,   125.56,2,    32.10,2,     0.00,2,     2.28,2,    0.000,2,    0.000,2, -999.000,9, -999.000,9, -999.000,9,-999.0000,9,  -999.00,9,   -999.0,9,   -999.0,9,   2278.8,2,   -999.0,9,   2384.0,2,     7.62,2, -999.00,  -999.0,-999.0000,-999.000,   25.00,  -999.0,  0.8094,-999.000