BOTTLE,20220630CCHSIOAMB
EXPOCODE,SECT_ID,STNNBR,CASTNO,SAMPNO,BTLNBR,BTLNBR_FLAG_W,DATE,TIME,LATITUDE,LONGITUDE,DEPTH,CTDPRS,CTDTMP,CTDSAL,CTDSAL_FLAG_W,SALNTY,SALNTY_FLAG_W,CTDOXY,CTDOXY_FLAG_W,OXYGEN,OXYGEN_FLAG_W,SILCAT,SILCAT_FLAG_W,NITRAT,NITRAT_FLAG_W,NITRIT,NITRIT_FLAG_W,PHSPHT,PHSPHT_FLAG_W,CFC-11,CFC-11_FLAG_W,CFC-12,CFC-12_FLAG_W,CFC113,CFC113_FLAG_W,CCL4,CCL4_FLAG_W,TRITUM,TRITUM_FLAG_W,HELIUM,HELIUM_FLAG_W,DELHE3,DELHE3_FLAG_W,DELC14,DELC14_FLAG_W,DELC13,DELC13_FLAG_W,TCARBN,TCARBN_FLAG_W,PCO2,PCO2_FLAG_W,ALKALI,ALKALI_FLAG_W,PH,PH_FLAG_W,PCO2TMP,C14ERR,HELIER,DELHER,PH_TMP,C13ERR,THETA,TRITER
,,,,,,,,,,,,DBAR,ITS-90,PSS-78,,PSS-78,,UMOL/KG,,UMOL/KG,,UMOL/KG,,UMOL/KG,,UMOL/KG,,UMOL/KG,,PMOL/KG,,PMOL/KG,,PMOL/KG,,PMOL/KG,,TU,,NMOL/KG,,PERCNT,,/MILLE,,/MILLE,,UMOL/KG,,UATM,,UMOL/KG,,,,DEG C,/MILLE,NMOL/KG,PERCNT,DEG C,/MILLE,DEG C,TU
    31DSCG94_3,  P18N,   110,  1,    135,   1247,2,19940404,0352,-14.5033,-102.9883, 4021,     10.2,  25.4213,  36.0669,3,  36.0757,2,    203.2,2,    207.4,2,     5.36,3,     0.71,2,     0.00,2,     0.30,2,    1.859,2,    1.033,2, -999.000,9, -999.000,9, -999.000,9,-999.0000,9,  -999.00,9,   -999.0,9,   -999.0,9,   2034.5,2,    290.8,2,   2373.0,2,     8.09,2,   20.00,  -999.0,-999.0000,-999.000,   25.00,  -999.0, 25.4191,-999.000
    31DSCG94_3,  P18N,   110,  1,    136,   1025,2,19940404,0352,-14.5033,-102.9883, 4021,     10.7,  25.4205,  36.0756,2,  36.0728,2,    203.2,2,    206.9,2,     3.09,3,     0.62,2,     0.00,2,     0.30,2,    1.870,2,    1.043,2, -999.000,9, -999.000,9, -999.000,9,-999.0000,9,  -999.00,9,   -999.0,9,   -999.0,9,   2035.0,2,   -999.0,9,   2381.0,2,     8.09,2, -999.00,  -999.0,-999.0000,-999.000,   25.00,  -999.0, 25.4181,-999.000
    31DSCG94_3,  P18N,   110,  1,    134,   1216,2,19940404,0352,-14.5033,-102.9883, 4021,     24.3,  24.8770,  36.2873,2,  36.2854,2,    206.2,2,    208.3,2,     6.87,3,     0.06,2,     0.00,2,     0.30,2, -999.000,9, -999.000,9, -999.000,9, -999.000,9, -999.000,9,-999.0000,9,  -999.00,9,   -999.0,9,   -999.0,9,   -999.0,9,   -999.0,9,   -999.0,9,     8.08,2, -999.00,  -999.0,-999.0000,-999.000,   25.00,  -999.0, 24.8718,-999.000
    31DSCG94_3,  P18N,   110,  1,    133,   1244,2,19940404,0352,-14.5033,-102.9883, 4021,     49.3,  23.8772,  36.2233,2,  36.2329,2,    210.8,2,    214.7,6,     7.63,3,     0.27,2,     0.00,2,     0.30,2,    2.008,2,    1.106,2, -999.000,9, -999.000,9, -999.000,9,-999.0000,9,  -999.00,9,   -999.0,9,   -999.0,9,   2053.9,2,   -999.0,9,   2385.0,2,     8.07,2, -999.00,  -999.0,-999.0000,-999.000,   25.00,  -999.0, 23.8668,-999.000
    31DSCG94_3,  P18N,   110,  1,    132,   1003,2,19940404,0352,-14.5033,-102.9883, 4021,     74.5,  22.3423,  36.1777,2,  36.1847,2,    218.3,2,    221.6,2,     7.40,3,     0.03,2,     0.00,2,     0.27,2, -999.000,9, -999.000,9, -999.000,9, -999.000,9, -999.000,9,-999.0000,9,  -999.00,9,   -999.0,9,   -999.0,9,   -999.0,9,   -999.0,9,   -999.0,9,     8.06,2, -999.00,  -999.0,-999.0000,-999.000,   25.00,  -999.0, 22.3274,-999.000
    31DSCG94_3,  P18N,   110,  1,    131,   1211,2,19940404,0352,-14.5033,-102.9883, 4021,     98.5,  21.7429,  36.1206,2,  36.1305,2,    215.8,2,    217.6,2,     8.18,3,     0.02,2,     0.00,2,     0.32,2,    2.230,2,    1.183,2, -999.000,9, -999.000,9, -999.000,9,-999.0000,9,  -999.00,9,   -999.0,9,   -999.0,9,   2069.4,2,    328.5,2,   2382.0,2,     8.04,2,   20.00,  -999.0,-999.0000,-999.000,   25.00,  -999.0, 21.7235,-999.000
    31DSCG94_3,  P18N,   110,  1,    130,   1241,2,19940404,0352,-14.5033,-102.9883, 4021,    122.1,  21.1782,  36.0059,2,  36.0089,2,    215.1,2,    212.2,2,     9.38,3,     0.29,2,     0.12,2,     0.37,2, -999.000,9, -999.000,9, -999.000,9, -999.000,9, -999.000,9,-999.0000,9,  -999.00,9,   -999.0,9,   -999.0,9,   -999.0,9,   -999.0,9,   -999.0,9,     8.03,2, -999.00,  -999.0,-999.0000,-999.000,   25.00,  -999.0, 21.1546,-999.000
    31DSCG94_3,  P18N,   110,  1,    129,   1240,2,19940404,0352,-14.5033,-102.9883, 4021,    149.2,  19.9093,  35.7453,2,  35.7312,2,    202.9,2,    199.3,2,     8.80,3,     2.37,2,     0.14,2,     0.51,2,    2.274,2,    1.234,2, -999.000,9, -999.000,9, -999.000,9,-999.0000,9,  -999.00,9,   -999.0,9,   -999.0,9,   -999.0,9,   -999.0,9,   -999.0,9,     7.98,2, -999.00,  -999.0,-999.0000,-999.000,   25.00,  -999.0, 19.8817,-999.000
    31DSCG94_3,  P18N,   110,  1,    128,   1032,2,19940404,0352,-14.5033,-102.9883, 4021,    199.1,  16.9610,  35.2148,2,  35.1993,2,    187.5,2,    173.2,2,     9.85,3,     7.30,2,     0.00,2,     0.86,2, -999.000,9, -999.000,9, -999.000,9, -999.000,9, -999.000,9,-999.0000,9,  -999.00,9,   -999.0,9,   -999.0,9,   2105.5,2,    503.7,2,   2320.0,2,     7.88,2,   20.00,  -999.0,-999.0000,-999.000,   25.00,  -999.0, 16.9282,-999.000
    31DSCG94_3,  P18N,   110,  1,    127,   1008,2,19940404,0352,-14.5033,-102.9883, 4021,    247.9,  13.1649,  34.7579,2,  34.7497,2,     97.9,2,     76.7,2,    18.90,2,    18.49,2,     0.00,2,     1.90,2,    1.297,2,    0.684,2, -999.000,9, -999.000,9, -999.000,9,-999.0000,9,  -999.00,9,   -999.0,9,   -999.0,9,   2191.9,2,   1003.8,2,   2289.0,2,     7.62,2,   20.00,  -999.0,-999.0000,-999.000,   25.00,  -999.0, 13.1306,-999.000
    31DSCG94_3,  P18N,   110,  1,    126,   1007,3,19940404,0352,-14.5033,-102.9883, 4021,    298.8,  11.1406,  34.6868,2,  34.6855,2,     27.2,2,     18.4,2,    29.10,2,    26.64,2,     0.00,2,     2.59,2, -999.000,9, -999.000,9, -999.000,9, -999.000,9, -999.000,9,-999.0000,9,  -999.00,9,   -999.0,9,   -999.0,9,   -999.0,9,   -999.0,9,   -999.0,9,     7.43,2, -999.00,  -999.0,-999.0000,-999.000,   25.00,  -999.0, 11.1034,-999.000
    31DSCG94_3,  P18N,   110,  1,    125,   1203,2,19940404,0352,-14.5033,-102.9883, 4021,    349.9,   9.9929,  34.6595,2,  34.6582,2,     18.2,2,     12.2,2,    32.43,2,    32.74,2,     0.00,2,     2.69,2,    0.093,2,    0.054,2, -999.000,9, -999.000,9, -999.000,9,-999.0000,9,  -999.00,9,   -999.0,9,   -999.0,9,   -999.0,9,   -999.0,9,   -999.0,9,     7.40,2, -999.00,  -999.0,-999.0000,-999.000,   25.00,  -999.0,  9.9522,-999.000
    31DSCG94_3,  P18N,   110,  1,    123,   1220,2,19940404,0352,-14.5033,-102.9883, 4021,    400.2,   8.9516,  34.6195,2,  34.6190,2,     22.0,2,     19.8,2,    34.15,2,    36.85,2,     0.00,2,     2.73,2,    0.035,2,    0.025,2, -999.000,9, -999.000,9, -999.000,9,-999.0000,9,  -999.00,9,   -999.0,9,   -999.0,9,   2268.6,2,   -999.0,9,   2298.0,2,     7.40,2, -999.00,  -999.0,-999.0000,-999.000,   25.00,  -999.0,  8.9079,-999.000
    31DSCG94_3,  P18N,   110,  1,    122,   1245,2,19940404,0352,-14.5033,-102.9883, 4021,    499.8,   7.7425,  34.5716,2,  34.5710,2,     35.4,2,     30.4,2,    38.75,2,    40.12,2,     0.01,2,     2.79,2, -999.000,9, -999.000,9, -999.000,9, -999.000,9, -999.000,9,-999.0000,9,  -999.00,9,   -999.0,9,   -999.0,9,   2270.5,2,   1744.7,2,   2299.0,2,     7.40,2,   20.00,  -999.0,-999.0000,-999.000,   25.00,  -999.0,  7.6922,-999.000
    31DSCG94_3,  P18N,   110,  1,    121,   1206,2,19940404,0352,-14.5033,-102.9883, 4021,    599.7,   6.7279,  34.5346,2,  34.5344,2,     42.5,2,     40.1,2,    46.50,2,    41.89,2,     0.00,2,     2.91,2,    0.003,6,    0.001,6, -999.000,9, -999.000,9, -999.000,9,-999.0000,9,  -999.00,9,   -999.0,9,   -999.0,9,   2275.5,2,   1746.8,2,   2303.0,2,     7.40,2,   20.00,  -999.0,-999.0000,-999.000,   25.00,  -999.0,  6.6717,-999.000
    31DSCG94_3,  P18N,   110,  1,    120,   1028,2,19940404,0352,-14.5033,-102.9883, 4021,    699.6,   5.9060,  34.5122,2,  34.5121,2,     42.5,2,     40.8,2,    55.34,2,    43.27,2,     0.01,2,     3.01,2, -999.000,9, -999.000,9, -999.000,9, -999.000,9, -999.000,9,-999.0000,9,  -999.00,9,   -999.0,9,   -999.0,9,   2287.4,2,   1816.3,2,   2316.0,2,     7.39,2,   20.00,  -999.0,-999.0000,-999.000,   25.00,  -999.0,  5.8444,-999.000
    31DSCG94_3,  P18N,   110,  1,    119,   1248,2,19940404,0352,-14.5033,-102.9883, 4021,    799.9,   5.2434,  34.5107,2,  34.5104,2,     45.3,2,     45.1,2,    65.22,2,    44.40,2,     0.01,2,     3.09,2,    0.000,2,    0.000,2, -999.000,9, -999.000,9, -999.000,9,-999.0000,9,  -999.00,9,   -999.0,9,   -999.0,9,   2298.8,2,   1827.5,2,   2322.0,2,     7.39,2,   20.00,  -999.0,-999.0000,-999.000,   25.00,  -999.0,  5.1765,-999.000
    31DSCG94_3,  P18N,   110,  1,    118,   1115,2,19940404,0352,-14.5033,-102.9883, 4021,    900.4,   4.7097,  34.5204,2,  34.5210,2,     52.1,2,     52.6,2,    76.95,2,    43.80,2,     0.01,2,     3.08,2, -999.000,9, -999.000,9, -999.000,9, -999.000,9, -999.000,9,-999.0000,9,  -999.00,9,   -999.0,9,   -999.0,9,   2304.8,2,   1776.1,2,   2335.0,2,     7.40,2,   20.00,  -999.0,-999.0000,-999.000,   25.00,  -999.0,  4.6373,-999.000
    31DSCG94_3,  P18N,   110,  1,    117,   1119,2,19940404,0352,-14.5033,-102.9883, 4021,   1000.0,   4.2885,  34.5326,2,  34.5329,2,     61.6,2,     64.0,2,    84.65,2,    43.00,2,     0.00,2,     3.02,2,   -0.008,2,   -0.002,2, -999.000,9, -999.000,9, -999.000,9,-999.0000,9,  -999.00,9,   -999.0,9,   -999.0,9,   2310.2,2,   1700.0,2,   2350.0,6,     7.42,2,   20.00,  -999.0,-999.0000,-999.000,   25.00,  -999.0,  4.2105,-999.000
    31DSCG94_3,  P18N,   110,  1,    116,   1036,2,19940404,0352,-14.5033,-102.9883, 4021,   1096.4,   3.8918,  34.5472,2,  34.5462,2,     69.5,2,     71.2,2,    92.20,2,    42.82,2,     0.00,2,     3.01,2, -999.000,9, -999.000,9, -999.000,9, -999.000,9, -999.000,9,-999.0000,9,  -999.00,9,   -999.0,9,   -999.0,9,   -999.0,9,   -999.0,9,   -999.0,9,  -999.00,9, -999.00,  -999.0,-999.0000,-999.000, -999.00,  -999.0,  3.8088,-999.000
    31DSCG94_3,  P18N,   110,  1,    115,   1017,2,19940404,0352,-14.5033,-102.9883, 4021,   1199.3,   3.5890,  34.5601,2,  34.5591,2,     77.9,2,     79.8,6,    98.72,2,    42.53,2,     0.02,2,     2.95,2, -999.000,9, -999.000,9, -999.000,9, -999.000,9, -999.000,9,-999.0000,9,  -999.00,9,   -999.0,9,   -999.0,9,   -999.0,9,   -999.0,9,   -999.0,9,  -999.00,9, -999.00,  -999.0,-999.0000,-999.000, -999.00,  -999.0,  3.5002,-999.000
    31DSCG94_3,  P18N,   110,  1,    114,   1016,2,19940404,0352,-14.5033,-102.9883, 4021,   1297.3,   3.3055,  34.5734,2,  34.5724,2,     85.1,2,     86.8,2,   102.52,2,    41.15,2,     0.00,2,     2.87,2, -999.000,9, -999.000,9, -999.000,9, -999.000,9, -999.000,9,-999.0000,9,  -999.00,9,   -999.0,9,   -999.0,9,   -999.0,9,   -999.0,9,   -999.0,9,  -999.00,9, -999.00,  -999.0,-999.0000,-999.000, -999.00,  -999.0,  3.2112,-999.000
    31DSCG94_3,  P18N,   110,  1,    113,   1209,2,19940404,0352,-14.5033,-102.9883, 4021,   1398.6,   3.0975,  34.5844,2,  34.5826,2,     91.6,2,     93.2,2,   110.08,2,    40.54,2,     0.01,2,     2.88,2, -999.000,9, -999.000,9, -999.000,9, -999.000,9, -999.000,9,-999.0000,9,  -999.00,9,   -999.0,9,   -999.0,9,   -999.0,9,   -999.0,9,   -999.0,9,  -999.00,9, -999.00,  -999.0,-999.0000,-999.000, -999.00,  -999.0,  2.9969,-999.000
    31DSCG94_3,  P18N,   110,  1,    112,   1033,2,19940404,0352,-14.5033,-102.9883, 4021,   1600.2,   2.7134,  34.6066,2,  34.6045,2,    102.4,2,    104.0,2,   120.23,2,    39.52,2,     0.00,2,     2.78,2, -999.000,9, -999.000,9, -999.000,9, -999.000,9, -999.000,9,-999.0000,9,  -999.00,9,   -999.0,9,   -999.0,9,   -999.0,9,   -999.0,9,   -999.0,9,  -999.00,9, -999.00,  -999.0,-999.0000,-999.000, -999.00,  -999.0,  2.6006,-999.000
    31DSCG94_3,  P18N,   110,  1,    111,   1240,2,19940404,0352,-14.5033,-102.9883, 4021,   1802.1,   2.4303,  34.6245,2,  34.6246,2,    111.9,2,    113.7,2,   123.97,2,    38.89,2,     0.00,2,     2.72,2, -999.000,9, -999.000,9, -999.000,9, -999.000,9, -999.000,9,-999.0000,9,  -999.00,9,   -999.0,9,   -999.0,9,   -999.0,9,   -999.0,9,   -999.0,9,  -999.00,9, -999.00,  -999.0,-999.0000,-999.000, -999.00,  -999.0,  2.3042,-999.000
    31DSCG94_3,  P18N,   110,  1,    110,   1005,2,19940404,0352,-14.5033,-102.9883, 4021,   1996.1,   2.1567,  34.6433,2,  34.6417,2,    121.9,2,    125.4,2,   127.18,2,    37.72,2,     0.00,2,     2.62,2, -999.000,9, -999.000,9, -999.000,9, -999.000,9, -999.000,9,-999.0000,9,  -999.00,9,   -999.0,9,   -999.0,9,   -999.0,9,   -999.0,9,   -999.0,9,  -999.00,9, -999.00,  -999.0,-999.0000,-999.000, -999.00,  -999.0,  2.0181,-999.000
    31DSCG94_3,  P18N,   110,  1,    109,   1611,2,19940404,0352,-14.5033,-102.9883, 4021,   2247.2,   1.9325,  34.6602,2,  34.6591,2,    137.1,2,    139.5,6,   125.93,2,    36.71,2,     0.00,2,     2.52,2, -999.000,9, -999.000,9, -999.000,9, -999.000,9, -999.000,9,-999.0000,9,  -999.00,9,   -999.0,9,   -999.0,9,   -999.0,9,   -999.0,9,   -999.0,9,  -999.00,9, -999.00,  -999.0,-999.0000,-999.000, -999.00,  -999.0,  1.7759,-999.000
    31DSCG94_3,  P18N,   110,  1,    108,   1218,2,19940404,0352,-14.5033,-102.9883, 4021,   2498.2,   1.8265,  34.6705,2,  34.6709,2,    143.1,2,    144.6,2,   127.53,2,    37.06,2,     0.00,2,     2.48,2, -999.000,9, -999.000,9, -999.000,9, -999.000,9, -999.000,9,-999.0000,9,  -999.00,9,   -999.0,9,   -999.0,9,   -999.0,9,   -999.0,9,   -999.0,9,  -999.00,9, -999.00,  -999.0,-999.0000,-999.000, -999.00,  -999.0,  1.6495,-999.000
    31DSCG94_3,  P18N,   110,  1,    107,   1257,2,19940404,0352,-14.5033,-102.9883, 4021,   2746.5,   1.7864,  34.6751,2,  34.6742,2,    141.2,2,    142.3,2,   136.26,2,    36.45,2,     0.00,2,     2.54,2, -999.000,9, -999.000,9, -999.000,9, -999.000,9, -999.000,9,-999.0000,9,  -999.00,9,   -999.0,9,   -999.0,9,   -999.0,9,   -999.0,9,   -999.0,9,  -999.00,9, -999.00,  -999.0,-999.0000,-999.000, -999.00,  -999.0,  1.5874,-999.000
    31DSCG94_3,  P18N,   110,  1,    106,   1224,2,19940404,0352,-14.5033,-102.9883, 4021,   2999.5,   1.7786,  34.6765,2,  34.6753,2,    137.9,2,    140.5,2,   142.84,2,    36.59,2,     0.00,2,     2.53,2,    0.005,2,    0.000,2, -999.000,9, -999.000,9, -999.000,9,-999.0000,9,  -999.00,9,   -999.0,9,   -999.0,9,   -999.0,9,   -999.0,9,   -999.0,9,  -999.00,9, -999.00,  -999.0,-999.0000,-999.000, -999.00,  -999.0,  1.5557,-999.000
    31DSCG94_3,  P18N,   110,  1,    105,   1246,2,19940404,0352,-14.5033,-102.9883, 4021,   3250.1,   1.7766,  34.6761,2,  34.6755,2,    135.8,2,    138.0,2,   144.41,2,    37.07,2,     0.00,2,     2.54,2, -999.000,9, -999.000,9, -999.000,9, -999.000,9, -999.000,9,-999.0000,9,  -999.00,9,   -999.0,9,   -999.0,9,   -999.0,9,   -999.0,9,   -999.0,9,  -999.00,9, -999.00,  -999.0,-999.0000,-999.000, -999.00,  -999.0,  1.5290,-999.000
    31DSCG94_3,  P18N,   110,  1,    104,   1217,2,19940404,0352,-14.5033,-102.9883, 4021,   3501.1,   1.7817,  34.6759,2,  34.6753,2,    134.1,2,    136.4,2,   144.07,2,    37.19,2,     0.00,2,     2.54,2, -999.000,9, -999.000,9, -999.000,9, -999.000,9, -999.000,9,-999.0000,9,  -999.00,9,   -999.0,9,   -999.0,9,   -999.0,9,   -999.0,9,   -999.0,9,  -999.00,9, -999.00,  -999.0,-999.0000,-999.000, -999.00,  -999.0,  1.5083,-999.000
    31DSCG94_3,  P18N,   110,  1,    102,   1223,2,19940404,0352,-14.5033,-102.9883, 4021,   3744.3,   1.7986,  34.6761,2,  34.6749,2,    133.8,2,    136.4,2,   141.41,2,    37.57,2,     0.00,2,     2.53,2, -999.000,9, -999.000,9, -999.000,9, -999.000,9, -999.000,9,-999.0000,9,  -999.00,9,   -999.0,9,   -999.0,9,   -999.0,9,   -999.0,9,   -999.0,9,  -999.00,9, -999.00,  -999.0,-999.0000,-999.000, -999.00,  -999.0,  1.4991,-999.000
    31DSCG94_3,  P18N,   110,  1,    103,   9999,2,19940404,0352,-14.5033,-102.9883, 4021,   3745.5,   1.7989,  34.6760,2,  34.6763,2,    133.8,2,    135.9,2,   141.76,2,    37.50,2,     0.00,2,     2.53,2, -999.000,9, -999.000,9, -999.000,9, -999.000,9, -999.000,9,-999.0000,9,  -999.00,9,   -999.0,9,   -999.0,9,   -999.0,9,   -999.0,9,   -999.0,9,  -999.00,9, -999.00,  -999.0,-999.0000,-999.000, -999.00,  -999.0,  1.4993,-999.000
    31DSCG94_3,  P18N,   110,  1,    101,   1041,2,19940404,0352,-14.5033,-102.9883, 4021,   4035.9,   1.8233,  34.6758,2,  34.6754,2,    134.1,2,    136.5,2,   147.45,2,    37.02,2,     0.00,2,     2.56,2, -999.000,9, -999.000,9, -999.000,9, -999.000,9, -999.000,9,-999.0000,9,  -999.00,9,   -999.0,9,   -999.0,9,   -999.0,9,   -999.0,9,   -999.0,9,  -999.00,9, -999.00,  -999.0,-999.0000,-999.000, -999.00,  -999.0,  1.4913,-999.000