BOTTLE,20220630CCHSIOAMB
EXPOCODE,SECT_ID,STNNBR,CASTNO,SAMPNO,BTLNBR,BTLNBR_FLAG_W,DATE,TIME,LATITUDE,LONGITUDE,DEPTH,CTDPRS,CTDTMP,CTDSAL,CTDSAL_FLAG_W,SALNTY,SALNTY_FLAG_W,CTDOXY,CTDOXY_FLAG_W,OXYGEN,OXYGEN_FLAG_W,SILCAT,SILCAT_FLAG_W,NITRAT,NITRAT_FLAG_W,NITRIT,NITRIT_FLAG_W,PHSPHT,PHSPHT_FLAG_W,CFC-11,CFC-11_FLAG_W,CFC-12,CFC-12_FLAG_W,CFC113,CFC113_FLAG_W,CCL4,CCL4_FLAG_W,TRITUM,TRITUM_FLAG_W,HELIUM,HELIUM_FLAG_W,DELHE3,DELHE3_FLAG_W,DELC14,DELC14_FLAG_W,DELC13,DELC13_FLAG_W,TCARBN,TCARBN_FLAG_W,PCO2,PCO2_FLAG_W,ALKALI,ALKALI_FLAG_W,PH,PH_FLAG_W,PCO2TMP,C14ERR,HELIER,DELHER,PH_TMP,C13ERR,THETA,TRITER
,,,,,,,,,,,,DBAR,ITS-90,PSS-78,,PSS-78,,UMOL/KG,,UMOL/KG,,UMOL/KG,,UMOL/KG,,UMOL/KG,,UMOL/KG,,PMOL/KG,,PMOL/KG,,PMOL/KG,,PMOL/KG,,TU,,NMOL/KG,,PERCNT,,/MILLE,,/MILLE,,UMOL/KG,,UATM,,UMOL/KG,,,,DEG C,/MILLE,NMOL/KG,PERCNT,DEG C,/MILLE,DEG C,TU
    31DSCG94_3,  P18N,   138,  1,    136,   1025,2,19940411,1940, -2.3332,-110.3343, 3987,      8.7,  26.6731,  35.0678,2,  35.0739,2,    201.6,2,    201.6,2,     4.60,2,     6.70,2,     0.19,2,     0.66,2,    1.757,2,    1.002,2, -999.000,9, -999.000,9, -999.000,9,-999.0000,9,  -999.00,9,     75.4,2,      1.2,2,   2039.1,2,    382.5,2,   2311.0,6,     7.99,2,   20.00,     3.1,-999.0000,-999.000,   25.00,  -999.0, 26.6711,-999.000
    31DSCG94_3,  P18N,   138,  1,    135,   1247,2,19940411,1940, -2.3332,-110.3343, 3987,     25.2,  23.1525,  35.0657,2,  35.0906,2,    187.1,2,    169.3,2,     7.09,2,    10.51,2,     0.33,2,     0.92,2,    1.617,2,    0.899,2, -999.000,9, -999.000,9, -999.000,9,-999.0000,9,  -999.00,9,     68.9,2,      1.1,2,   -999.0,9,   -999.0,9,   -999.0,9,  -999.00,9, -999.00,     3.0,-999.0000,-999.000, -999.00,  -999.0, 23.1474,-999.000
    31DSCG94_3,  P18N,   138,  1,    134,   1216,2,19940411,1940, -2.3332,-110.3343, 3987,     49.8,  15.4622,  35.0584,2,  35.0542,2,    115.9,2,     79.4,2,    15.89,2,    22.09,2,     0.35,2,     1.61,2, -999.000,9, -999.000,9, -999.000,9, -999.000,9, -999.000,9,-999.0000,9,  -999.00,9,     34.5,2,      0.5,2,   2173.2,2,    833.1,2,   2301.0,2,     7.70,2,   20.00,     3.0,-999.0000,-999.000,   25.00,  -999.0, 15.4545,-999.000
    31DSCG94_3,  P18N,   138,  1,    133,   1244,2,19940411,1940, -2.3332,-110.3343, 3987,     75.3,  13.6506,  34.9605,2,  34.9619,2,     78.5,2,     80.6,2,    18.66,2,    23.56,2,     0.43,2,     1.69,2,    0.768,2,    0.418,2, -999.000,9, -999.000,9, -999.000,9,-999.0000,9,  -999.00,9,   -999.0,9,   -999.0,9,   -999.0,9,   -999.0,9,   -999.0,9,     7.68,2, -999.00,  -999.0,-999.0000,-999.000,   25.00,  -999.0, 13.6400,-999.000
    31DSCG94_3,  P18N,   138,  1,    132,   1003,2,19940411,1940, -2.3332,-110.3343, 3987,     99.9,  13.2547,  34.9245,2,  34.9238,2,     82.1,2,     76.2,2,    19.84,2,    24.58,2,     0.05,2,     1.74,2, -999.000,9, -999.000,9, -999.000,9, -999.000,9, -999.000,9,-999.0000,9,  -999.00,9,   -999.0,5,      0.5,2,   2184.9,2,    914.8,2,   2298.0,2,     7.66,2,   20.00,  -999.0,-999.0000,-999.000,   25.00,  -999.0, 13.2409,-999.000
    31DSCG94_3,  P18N,   138,  1,    131,   1211,2,19940411,1940, -2.3332,-110.3343, 3987,    124.7,  13.1300,  34.9200,2,  34.9195,2,     67.8,2,     67.4,2,    20.80,2,    26.05,2,     0.00,2,     1.80,2,    0.646,2,    0.357,2, -999.000,9, -999.000,9, -999.000,9,-999.0000,9,  -999.00,9,   -999.0,9,   -999.0,9,   -999.0,9,    968.4,2,   -999.0,9,  -999.00,9,   20.00,  -999.0,-999.0000,-999.000, -999.00,  -999.0, 13.1128,-999.000
    31DSCG94_3,  P18N,   138,  1,    130,   1241,2,19940411,1940, -2.3332,-110.3343, 3987,    148.7,  13.0225,  34.9149,2,  34.9143,2,     59.9,2,     53.9,2,    22.10,2,    27.45,2,     0.00,2,     1.91,2, -999.000,9, -999.000,9, -999.000,9, -999.000,9, -999.000,9,-999.0000,9,  -999.00,9,      3.0,2,      0.3,2,   2201.4,2,   1053.3,2,   2300.0,2,     7.61,2,   20.00,     2.9,-999.0000,-999.000,   25.00,  -999.0, 13.0021,-999.000
    31DSCG94_3,  P18N,   138,  1,    129,   1240,2,19940411,1940, -2.3332,-110.3343, 3987,    173.4,  12.9160,  34.9089,2,  34.9091,2,     50.4,2,     48.5,2,    22.61,2,    28.33,2,     0.00,2,     1.96,2,    0.540,6,    0.304,6, -999.000,9, -999.000,9, -999.000,9,-999.0000,9,  -999.00,9,      9.4,2,      0.2,2,   2207.3,2,   -999.0,9,   2294.0,2,     7.59,2, -999.00,     3.8,-999.0000,-999.000,   25.00,  -999.0, 12.8923,-999.000
    31DSCG94_3,  P18N,   138,  1,    128,   1032,3,19940411,1940, -2.3332,-110.3343, 3987,    199.7,  12.8175,  34.9019,2,  34.9016,2,     49.3,2,     46.4,2,    22.86,2,    28.76,2,     0.00,2,     1.98,2, -999.000,9, -999.000,9, -999.000,9, -999.000,9, -999.000,9,-999.0000,9,  -999.00,9,   -999.0,9,   -999.0,9,   -999.0,9,   -999.0,9,   -999.0,9,  -999.00,9, -999.00,  -999.0,-999.0000,-999.000, -999.00,  -999.0, 12.7903,-999.000
    31DSCG94_3,  P18N,   138,  1,    127,   1008,2,19940411,1940, -2.3332,-110.3343, 3987,    251.7,  12.6439,  34.8917,2,  34.8907,2,     31.1,2,     31.5,2,    24.68,2,    30.54,2,     0.00,2,     2.09,2,    0.448,2,    0.253,2, -999.000,9, -999.000,9, -999.000,9,-999.0000,9,  -999.00,9,   -999.0,9,   -999.0,9,   2222.6,2,   1224.9,2,   2295.0,2,     7.55,2,   20.00,  -999.0,-999.0000,-999.000,   25.00,  -999.0, 12.6098,-999.000
    31DSCG94_3,  P18N,   138,  1,    126,   1007,2,19940411,1940, -2.3332,-110.3343, 3987,    302.6,  12.3563,  34.8832,2,  34.8821,2,     11.9,2,     11.5,2,    26.31,2,    32.53,2,     0.00,2,     2.28,2, -999.000,9, -999.000,9, -999.000,9, -999.000,9, -999.000,9,-999.0000,9,  -999.00,9,    -22.7,2,      0.0,2,   2240.4,2,   -999.0,9,   2296.0,2,     7.49,2, -999.00,     3.1,-999.0000,-999.000,   25.00,  -999.0, 12.3160,-999.000
    31DSCG94_3,  P18N,   138,  1,    125,   1256,2,19940411,1940, -2.3332,-110.3343, 3987,    352.3,  11.5403,  34.8364,2,  34.8367,2,     12.8,2,      9.0,2,    29.20,2,    33.40,2,     0.00,2,     2.39,2,    0.197,2,    0.107,2, -999.000,9, -999.000,9, -999.000,9,-999.0000,9,  -999.00,9,   -999.0,9,   -999.0,9,   -999.0,9,   1413.0,3,   -999.0,9,     7.46,2,   20.00,  -999.0,-999.0000,-999.000,   25.00,  -999.0, 11.4953,-999.000
    31DSCG94_3,  P18N,   138,  1,    123,   1220,2,19940411,1940, -2.3332,-110.3343, 3987,    401.5,  10.7393,  34.7864,2,  34.7862,2,      6.2,2,      5.9,2,    33.16,2,    34.88,2,     0.00,2,     2.55,2,    0.112,2,    0.062,2, -999.000,9, -999.000,9, -999.000,9,-999.0000,9,  -999.00,9,    -63.2,2,     -0.0,2,   2265.7,2,   1667.9,2,   2299.0,2,     7.43,2,   20.00,     4.1,-999.0000,-999.000,   25.00,  -999.0, 10.6902,-999.000
    31DSCG94_3,  P18N,   138,  1,    122,   1245,2,19940411,1940, -2.3332,-110.3343, 3987,    499.2,   8.6920,  34.6660,2,  34.6674,2,     14.2,2,     13.8,2,    41.95,2,    39.55,2,     0.00,2,     2.73,2, -999.000,9, -999.000,9, -999.000,9, -999.000,9, -999.000,9,-999.0000,9,  -999.00,9,    -98.9,2,     -0.0,2,   2277.2,2,   1766.6,2,   2307.0,2,     7.40,2,   20.00,     3.1,-999.0000,-999.000,   25.00,  -999.0,  8.6382,-999.000
    31DSCG94_3,  P18N,   138,  1,    121,   1206,2,19940411,1940, -2.3332,-110.3343, 3987,    600.5,   7.4575,  34.6097,2,  34.6097,2,     20.3,2,     22.1,2,    50.53,2,    42.35,2,     0.00,2,     2.88,2,    0.011,2,    0.003,2, -999.000,9, -999.000,9, -999.000,9,-999.0000,9,  -999.00,9,   -999.0,9,   -999.0,9,   2286.3,2,   1801.9,2,   2312.0,2,     7.39,2,   20.00,  -999.0,-999.0000,-999.000,   25.00,  -999.0,  7.3979,-999.000
    31DSCG94_3,  P18N,   138,  1,    120,   1028,2,19940411,1940, -2.3332,-110.3343, 3987,    699.7,   6.4393,  34.5687,2,  34.5691,2,     42.4,2,     47.5,2,    56.88,2,    41.72,2,     0.00,2,     2.85,2, -999.000,9, -999.000,9, -999.000,9, -999.000,9, -999.000,9,-999.0000,9,  -999.00,9,   -999.0,9,   -999.0,9,   2282.8,2,   1668.9,2,   2316.0,2,     7.43,2,   20.00,  -999.0,-999.0000,-999.000,   25.00,  -999.0,  6.3747,-999.000
    31DSCG94_3,  P18N,   138,  1,    119,   1248,2,19940411,1940, -2.3332,-110.3343, 3987,    798.4,   5.7600,  34.5547,2,  34.5578,2,     56.1,2,     59.9,2,    65.32,2,    41.34,2,     0.00,2,     2.82,2,    0.010,2,    0.054,4, -999.000,9, -999.000,9, -999.000,9,-999.0000,9,  -999.00,9,   -143.4,2,      0.1,2,   2287.6,2,   1613.1,2,   2328.0,2,     7.44,2,   20.00,     3.8,-999.0000,-999.000,   25.00,  -999.0,  5.6900,-999.000
    31DSCG94_3,  P18N,   138,  1,    118,   1115,2,19940411,1940, -2.3332,-110.3343, 3987,    900.7,   4.9157,  34.5533,2,  34.5542,2,     66.7,2,     68.8,2,    79.45,2,    41.44,2,     0.00,2,     2.85,2, -999.000,9, -999.000,9, -999.000,9, -999.000,9, -999.000,9,-999.0000,9,  -999.00,9,   -999.0,9,   -999.0,9,   2299.2,2,   1579.6,2,   2345.0,6,     7.45,2,   20.00,  -999.0,-999.0000,-999.000,   25.00,  -999.0,  4.8418,-999.000
    31DSCG94_3,  P18N,   138,  1,    117,   1119,2,19940411,1940, -2.3332,-110.3343, 3987,   1001.9,   4.4980,  34.5588,2,  34.5603,2,     72.3,2,     73.7,2,    87.62,2,    40.22,2,     0.00,2,     2.83,2,    0.001,2,   -0.002,2, -999.000,9, -999.000,9, -999.000,9,   1.8690,2,    18.48,2,   -999.0,9,   -999.0,9,   2306.8,2,   1557.2,2,   2350.0,2,     7.46,2,   20.00,  -999.0,-999.0000,-999.000,   25.00,  -999.0,  4.4183,-999.000
    31DSCG94_3,  P18N,   138,  1,    116,   1036,2,19940411,1940, -2.3332,-110.3343, 3987,   1200.7,   3.7541,  34.5742,2,  34.5752,2,     83.5,2,   -999.0,9,   103.46,2,    39.86,2,     0.00,2,     2.81,2, -999.000,9, -999.000,9, -999.000,9, -999.000,9, -999.000,9,   1.8850,2,    21.56,2,   -999.0,9,   -999.0,9,   -999.0,9,   -999.0,9,   -999.0,9,     7.47,2, -999.00,  -999.0,-999.0000,-999.000,   25.00,  -999.0,  3.6636,-999.000
    31DSCG94_3,  P18N,   138,  1,    115,   1017,2,19940411,1940, -2.3332,-110.3343, 3987,   1401.3,   3.2014,  34.5940,2,  34.5941,2,     89.8,2,     90.8,6,   115.67,2,    39.57,2,     0.00,2,     2.78,2, -999.000,9, -999.000,9, -999.000,9, -999.000,9, -999.000,9,   1.8850,2,    23.76,2,   -999.0,9,   -999.0,9,   -999.0,9,   -999.0,9,   -999.0,9,  -999.00,9, -999.00,  -999.0,-999.0000,-999.000, -999.00,  -999.0,  3.0995,-999.000
    31DSCG94_3,  P18N,   138,  1,    114,   1016,2,19940411,1940, -2.3332,-110.3343, 3987,   1601.5,   2.8212,  34.6097,2,  34.6095,2,    101.5,2,     98.9,2,   123.42,2,    39.58,2,     0.00,2,     2.74,2, -999.000,9, -999.000,9, -999.000,9, -999.000,9, -999.000,9,   1.9070,2,    25.45,2,   -999.0,9,   -999.0,9,   -999.0,9,   -999.0,9,   -999.0,9,     7.50,2, -999.00,  -999.0,-999.0000,-999.000,   25.00,  -999.0,  2.7069,-999.000
    31DSCG94_3,  P18N,   138,  1,    113,   1209,2,19940411,1940, -2.3332,-110.3343, 3987,   1799.3,   2.4398,  34.6337,2,  34.6337,2,    109.7,2,     98.2,6,   137.20,2,    39.80,2,     0.00,2,     2.75,2, -999.000,9, -999.000,9, -999.000,9, -999.000,9, -999.000,9,   1.9180,2,    28.19,2,   -999.0,9,   -999.0,9,   -999.0,9,   -999.0,9,   -999.0,9,  -999.00,9, -999.00,  -999.0,-999.0000,-999.000, -999.00,  -999.0,  2.3138,-999.000
    31DSCG94_3,  P18N,   138,  1,    112,   1033,2,19940411,1940, -2.3332,-110.3343, 3987,   1999.7,   2.2265,  34.6460,2,  34.6461,2,    116.3,2,    104.3,2,   142.99,2,    39.19,2,     0.00,2,     2.70,2, -999.000,9, -999.000,9, -999.000,9, -999.000,9, -999.000,9,   1.8980,3,    29.19,6,   -999.0,9,   -999.0,9,   -999.0,9,   -999.0,9,   -999.0,9,     7.51,2, -999.00,  -999.0,-999.0000,-999.000,   25.00,  -999.0,  2.0865,-999.000
    31DSCG94_3,  P18N,   138,  1,    111,   1240,2,19940411,1940, -2.3332,-110.3343, 3987,   2197.9,   2.0681,  34.6535,2,  34.6541,2,    117.6,2,    110.7,2,   146.77,2,    38.95,2,     0.00,2,     2.66,2, -999.000,9, -999.000,9, -999.000,9, -999.000,9, -999.000,9,   1.9410,2,    28.80,2,   -999.0,9,   -999.0,9,   -999.0,9,   -999.0,9,   -999.0,9,  -999.00,9, -999.00,  -999.0,-999.0000,-999.000, -999.00,  -999.0,  1.9136,-999.000
    31DSCG94_3,  P18N,   138,  1,    110,   1005,2,19940411,1940, -2.3332,-110.3343, 3987,   2400.1,   1.9303,  34.6586,2,  34.6591,2,    123.0,2,    119.1,2,   146.13,2,    38.15,2,     0.00,2,     2.62,2, -999.000,9, -999.000,9, -999.000,9, -999.000,9, -999.000,9,   1.9290,2,    28.08,2,   -999.0,9,   -999.0,9,   -999.0,9,   -999.0,9,   -999.0,9,     7.54,2, -999.00,  -999.0,-999.0000,-999.000,   25.00,  -999.0,  1.7603,-999.000
    31DSCG94_3,  P18N,   138,  1,    109,   1611,2,19940411,1940, -2.3332,-110.3343, 3987,   2600.3,   1.8286,  34.6641,2,  34.6638,2,    128.7,2,    125.1,2,   144.44,2,    37.81,2,     0.00,2,     2.59,2, -999.000,9, -999.000,9, -999.000,9, -999.000,9, -999.000,9,   1.9340,2,    27.38,2,   -999.0,9,   -999.0,9,   -999.0,9,   -999.0,9,   -999.0,9,  -999.00,9, -999.00,  -999.0,-999.0000,-999.000, -999.00,  -999.0,  1.6423,-999.000
    31DSCG94_3,  P18N,   138,  1,    108,   1218,2,19940411,1940, -2.3332,-110.3343, 3987,   2798.5,   1.7211,  34.6702,2,  34.6707,2,    135.1,2,    133.9,2,   144.89,2,    36.99,2,     0.00,2,     2.52,2, -999.000,9, -999.000,9, -999.000,9, -999.000,9, -999.000,9,   1.9380,2,    25.66,2,   -999.0,9,   -999.0,9,   -999.0,9,   -999.0,9,   -999.0,9,     7.56,2, -999.00,  -999.0,-999.0000,-999.000,   25.00,  -999.0,  1.5186,-999.000
    31DSCG94_3,  P18N,   138,  1,    107,   1257,2,19940411,1940, -2.3332,-110.3343, 3987,   2998.9,   1.6656,  34.6728,2,  34.6728,2,    138.2,2,    137.9,2,   145.31,2,    36.80,2,     0.00,2,     2.51,2, -999.000,9, -999.000,9, -999.000,9, -999.000,9, -999.000,9,   1.9220,2,    23.62,2,   -999.0,9,   -999.0,9,   -999.0,9,   -999.0,9,   -999.0,9,  -999.00,9, -999.00,  -999.0,-999.0000,-999.000, -999.00,  -999.0,  1.4452,-999.000
    31DSCG94_3,  P18N,   138,  1,    106,   1224,2,19940411,1940, -2.3332,-110.3343, 3987,   3197.4,   1.5922,  34.6783,2,  34.6798,2,    142.4,2,    143.4,2,   145.80,2,    36.42,2,     0.00,2,     2.49,2, -999.000,9, -999.000,9, -999.000,9, -999.000,9, -999.000,9,   1.9210,2,    21.93,2,   -999.0,9,   -999.0,9,   -999.0,9,   -999.0,9,   -999.0,9,     7.57,2, -999.00,  -999.0,-999.0000,-999.000,   25.00,  -999.0,  1.3542,-999.000
    31DSCG94_3,  P18N,   138,  1,    105,   1246,2,19940411,1940, -2.3332,-110.3343, 3987,   3398.7,   1.5378,  34.6834,2,  34.6838,2,    145.9,2,    149.8,2,   144.85,2,    36.66,2,     0.00,2,     2.45,2, -999.000,9, -999.000,9, -999.000,9, -999.000,9, -999.000,9,   1.9110,2,    21.06,2,   -999.0,9,   -999.0,9,   -999.0,9,   -999.0,9,   -999.0,9,  -999.00,9, -999.00,  -999.0,-999.0000,-999.000, -999.00,  -999.0,  1.2810,-999.000
    31DSCG94_3,  P18N,   138,  1,    104,   1217,2,19940411,1940, -2.3332,-110.3343, 3987,   3598.6,   1.4590,  34.6889,2,  34.6899,2,    152.9,2,    156.6,2,   144.24,2,    36.11,2,     0.00,2,     2.42,2, -999.000,9, -999.000,9, -999.000,9, -999.000,9, -999.000,9,   1.9050,2,    18.56,2,   -999.0,9,   -999.0,9,   -999.0,9,   -999.0,9,   -999.0,9,  -999.00,9, -999.00,  -999.0,-999.0000,-999.000, -999.00,  -999.0,  1.1837,-999.000
    31DSCG94_3,  P18N,   138,  1,    102,   1223,2,19940411,1940, -2.3332,-110.3343, 3987,   3797.8,   1.4524,  34.6900,2,  34.6901,2,    153.6,2,    157.8,6,   146.25,2,    35.91,2,     0.00,2,     2.40,2, -999.000,9, -999.000,9, -999.000,9, -999.000,9, -999.000,9,-999.0000,9,  -999.00,9,   -999.0,9,   -999.0,9,   -999.0,9,   -999.0,9,   -999.0,9,  -999.00,9, -999.00,  -999.0,-999.0000,-999.000, -999.00,  -999.0,  1.1564,-999.000
    31DSCG94_3,  P18N,   138,  1,    103,   9999,2,19940411,1940, -2.3332,-110.3343, 3987,   3798.2,   1.4522,  34.6903,2,  34.6922,2,    153.7,2,    157.3,2,   145.43,2,    35.86,2,     0.00,2,     2.41,2, -999.000,9, -999.000,9, -999.000,9, -999.000,9, -999.000,9,   1.8920,2,    17.61,2,   -999.0,9,   -999.0,9,   -999.0,9,   -999.0,9,   -999.0,9,  -999.00,9, -999.00,  -999.0,-999.0000,-999.000, -999.00,  -999.0,  1.1561,-999.000
    31DSCG94_3,  P18N,   138,  1,    101,   1041,2,19940411,1940, -2.3332,-110.3343, 3987,   4022.5,   1.4763,  34.6899,2,  34.6911,2,    153.1,2,    157.5,2,   145.81,2,    35.79,2,     0.00,2,     2.42,2, -999.000,9, -999.000,9, -999.000,9, -999.000,9, -999.000,9,   1.8950,2,    17.30,2,   -999.0,9,   -999.0,9,   -999.0,9,   -999.0,9,   -999.0,9,  -999.00,9, -999.00,  -999.0,-999.0000,-999.000, -999.00,  -999.0,  1.1556,-999.000