BOTTLE,20220630CCHSIOAMB
EXPOCODE,SECT_ID,STNNBR,CASTNO,SAMPNO,BTLNBR,BTLNBR_FLAG_W,DATE,TIME,LATITUDE,LONGITUDE,DEPTH,CTDPRS,CTDTMP,CTDSAL,CTDSAL_FLAG_W,SALNTY,SALNTY_FLAG_W,CTDOXY,CTDOXY_FLAG_W,OXYGEN,OXYGEN_FLAG_W,SILCAT,SILCAT_FLAG_W,NITRAT,NITRAT_FLAG_W,NITRIT,NITRIT_FLAG_W,PHSPHT,PHSPHT_FLAG_W,CFC-11,CFC-11_FLAG_W,CFC-12,CFC-12_FLAG_W,CFC113,CFC113_FLAG_W,CCL4,CCL4_FLAG_W,TRITUM,TRITUM_FLAG_W,HELIUM,HELIUM_FLAG_W,DELHE3,DELHE3_FLAG_W,DELC14,DELC14_FLAG_W,DELC13,DELC13_FLAG_W,TCARBN,TCARBN_FLAG_W,PCO2,PCO2_FLAG_W,ALKALI,ALKALI_FLAG_W,PH,PH_FLAG_W,PCO2TMP,C14ERR,HELIER,DELHER,PH_TMP,C13ERR,THETA,TRITER
,,,,,,,,,,,,DBAR,ITS-90,PSS-78,,PSS-78,,UMOL/KG,,UMOL/KG,,UMOL/KG,,UMOL/KG,,UMOL/KG,,UMOL/KG,,PMOL/KG,,PMOL/KG,,PMOL/KG,,PMOL/KG,,TU,,NMOL/KG,,PERCNT,,/MILLE,,/MILLE,,UMOL/KG,,UATM,,UMOL/KG,,,,DEG C,/MILLE,NMOL/KG,PERCNT,DEG C,/MILLE,DEG C,TU
    31DSCG94_3,  P18N,    93,  1,    136,   1025,2,19940330,1042,-23.0017,-102.9973, 4021,     10.3,  24.6396,  36.2886,2,  36.2883,2,    207.6,2,    205.1,2,     1.32,2,     0.08,2,     0.01,2,     0.22,2,    1.928,2,    1.076,2, -999.000,9, -999.000,9, -999.000,9,-999.0000,9,  -999.00,9,   -999.0,9,      1.7,2,   2063.2,2,    345.2,3,   2390.0,2,     8.06,2,   20.00,  -999.0,-999.0000,-999.000,   25.00,  -999.0, 24.6374,-999.000
    31DSCG94_3,  P18N,    93,  1,    135,   1247,2,19940330,1042,-23.0017,-102.9973, 4021,     24.5,  24.5945,  36.2971,2,  36.2954,2,    209.0,2,    205.9,2,     1.25,2,     0.04,2,     0.00,2,     0.21,2,    1.943,6,    1.079,6, -999.000,9, -999.000,9, -999.000,9,-999.0000,9,  -999.00,9,   -999.0,9,   -999.0,9,   2063.3,2,   -999.0,9,   2391.0,6,     8.06,2, -999.00,  -999.0,-999.0000,-999.000,   25.00,  -999.0, 24.5892,-999.000
    31DSCG94_3,  P18N,    93,  1,    134,   1216,2,19940330,1042,-23.0017,-102.9973, 4021,     53.8,  24.2692,  36.3001,2,  36.2998,2,    211.4,2,    213.8,2,     1.27,2,     0.04,2,     0.00,2,     0.25,2,    2.002,2,    1.084,2, -999.000,9, -999.000,9, -999.000,9,-999.0000,9,  -999.00,9,   -999.0,9,   -999.0,9,   2068.6,2,    326.2,2,   2389.0,2,     8.06,2,   20.00,  -999.0,-999.0000,-999.000,   25.00,  -999.0, 24.2577,-999.000
    31DSCG94_3,  P18N,    93,  1,    133,   1244,2,19940330,1042,-23.0017,-102.9973, 4021,     75.0,  21.8140,  35.8521,2,  35.8795,3,    223.0,2,    229.2,2,     1.29,2,     0.00,2,     0.00,2,     0.14,2,    2.277,2,    1.225,2, -999.000,9, -999.000,9, -999.000,9,-999.0000,9,  -999.00,9,   -999.0,9,   -999.0,9,   2040.6,2,    326.2,2,   2359.0,2,     8.06,2,   20.00,  -999.0,-999.0000,-999.000,   25.00,  -999.0, 21.7992,-999.000
    31DSCG94_3,  P18N,    93,  1,    132,   1003,2,19940330,1042,-23.0017,-102.9973, 4021,     99.5,  21.5052,  35.9378,2,  35.9619,2,    224.6,2,    225.6,2,     1.26,2,     0.07,2,     0.00,2,     0.22,2,    2.200,6,    1.211,6, -999.000,9, -999.000,9, -999.000,9,-999.0000,9,  -999.00,9,   -999.0,9,   -999.0,9,   2055.9,2,    327.4,2,   -999.0,5,     8.05,2,   20.00,  -999.0,-999.0000,-999.000,   25.00,  -999.0, 21.4858,-999.000
    31DSCG94_3,  P18N,    93,  1,    131,   1211,2,19940330,1042,-23.0017,-102.9973, 4021,    126.4,  20.9506,  35.8819,2,  35.9020,2,    220.3,2,    222.6,2,     1.18,2,     0.04,2,     0.00,2,     0.25,2,    2.234,2,    1.197,2, -999.000,9, -999.000,9, -999.000,9,-999.0000,9,  -999.00,9,   -999.0,9,   -999.0,9,   2059.1,2,    340.8,2,   2368.0,2,     8.04,2,   20.00,  -999.0,-999.0000,-999.000,   25.00,  -999.0, 20.9263,-999.000
    31DSCG94_3,  P18N,    93,  1,    130,   1241,2,19940330,1042,-23.0017,-102.9973, 4021,    144.6,  20.6263,  35.8162,2,  35.8142,2,    218.0,2,    221.1,6,     1.23,2,     0.05,2,     0.00,2,     0.18,2,    2.270,2,    1.210,2, -999.000,9, -999.000,9, -999.000,9,-999.0000,9,  -999.00,9,   -999.0,9,   -999.0,9,   2046.6,2,    330.9,2,   2354.0,2,     8.04,2,   20.00,  -999.0,-999.0000,-999.000,   25.00,  -999.0, 20.5988,-999.000
    31DSCG94_3,  P18N,    93,  1,    129,   1240,2,19940330,1042,-23.0017,-102.9973, 4021,    201.8,  19.0331,  35.4915,2,  35.4832,2,    211.9,2,    214.2,2,     1.15,2,     0.16,2,     0.09,2,     0.23,2,    2.331,2,    1.260,2, -999.000,9, -999.000,9, -999.000,9,-999.0000,9,  -999.00,9,   -999.0,9,   -999.0,9,   2049.9,2,    366.3,3,   2334.0,2,     8.00,2,   20.00,  -999.0,-999.0000,-999.000,   25.00,  -999.0, 18.9970,-999.000
    31DSCG94_3,  P18N,    93,  1,    128,   1032,2,19940330,1042,-23.0017,-102.9973, 4021,    248.8,  16.7221,  35.0866,2,  35.0888,2,    203.4,2,    207.1,2,     1.24,2,     2.22,2,     0.00,2,     0.35,2,    2.394,2,    1.271,2, -999.000,9, -999.000,9, -999.000,9,-999.0000,9,  -999.00,9,   -999.0,9,   -999.0,9,   2057.6,2,    414.9,2,   2309.0,2,     7.95,2,   20.00,  -999.0,-999.0000,-999.000,   25.00,  -999.0, 16.6814,-999.000
    31DSCG94_3,  P18N,    93,  1,    127,   1008,2,19940330,1042,-23.0017,-102.9973, 4021,    299.9,  13.6651,  34.7083,2,  34.7019,2,    188.7,2,    192.9,2,     2.61,2,     8.33,2,     0.00,2,     0.78,2,    1.421,4,    1.106,2, -999.000,9, -999.000,9, -999.000,9,-999.0000,9,  -999.00,9,   -999.0,9,   -999.0,9,   2085.8,2,    530.9,3,   2288.0,2,     7.86,2,   20.00,  -999.0,-999.0000,-999.000,   25.00,  -999.0, 13.6224,-999.000
    31DSCG94_3,  P18N,    93,  1,    126,   1007,2,19940330,1042,-23.0017,-102.9973, 4021,    353.6,  11.0420,  34.5044,2,  34.5023,2,    169.6,2,    164.9,2,     6.78,2,    16.38,2,     0.00,2,     1.35,2,    1.609,6,    0.813,6, -999.000,9, -999.000,9, -999.000,9,-999.0000,9,  -999.00,9,   -999.0,9,   -999.0,9,   2131.6,2,    733.6,2,   2278.0,2,     7.74,2,   20.00,  -999.0,-999.0000,-999.000,   25.00,  -999.0, 10.9982,-999.000
    31DSCG94_3,  P18N,    93,  1,    125,   1203,2,19940330,1042,-23.0017,-102.9973, 4021,    400.8,   9.0890,  34.4305,2,  34.4307,2,    135.8,2,    130.6,2,    12.76,2,    24.76,2,     0.00,2,     1.93,2,    0.981,2,    0.514,2, -999.000,9, -999.000,9, -999.000,9,-999.0000,9,  -999.00,9,   -999.0,9,   -999.0,9,   2181.8,2,   1032.2,3,   2276.0,2,     7.61,2,   20.00,  -999.0,-999.0000,-999.000,   25.00,  -999.0,  9.0450,-999.000
    31DSCG94_3,  P18N,    93,  1,    123,   1220,2,19940330,1042,-23.0017,-102.9973, 4021,    499.3,   6.8666,  34.3694,2,  34.3701,2,    146.3,2,    151.5,2,    16.26,2,    29.80,2,     0.00,2,     2.11,2,    0.548,2,    0.300,2, -999.000,9, -999.000,9, -999.000,9,-999.0000,9,  -999.00,9,   -999.0,9,   -999.0,9,   2191.7,2,   1098.2,2,   2277.0,2,     7.58,2,   20.00,  -999.0,-999.0000,-999.000,   25.00,  -999.0,  6.8197,-999.000
    31DSCG94_3,  P18N,    93,  1,    122,   1245,2,19940330,1042,-23.0017,-102.9973, 4021,    599.6,   5.8009,  34.3193,2,  34.3192,2,    174.5,2,    188.0,2,    17.31,2,    29.49,2,     0.01,2,     2.05,2,    0.448,2,    0.248,2, -999.000,9, -999.000,9, -999.000,9,-999.0000,9,  -999.00,9,   -999.0,9,   -999.0,9,   2178.2,2,    978.0,2,   2284.0,2,     7.63,2,   20.00,  -999.0,-999.0000,-999.000,   25.00,  -999.0,  5.7492,-999.000
    31DSCG94_3,  P18N,    93,  1,    121,   1206,2,19940330,1042,-23.0017,-102.9973, 4021,    699.5,   5.2396,  34.3278,2,  34.3289,2,    163.2,2,    169.1,2,    25.36,2,    32.62,2,     0.00,2,     2.26,2,    0.173,2,    0.108,2, -999.000,9, -999.000,9, -999.000,9,-999.0000,9,  -999.00,9,   -999.0,9,   -999.0,9,   2199.1,2,   1083.7,2,   2293.0,2,     7.59,2,   20.00,  -999.0,-999.0000,-999.000,   25.00,  -999.0,  5.1818,-999.000
    31DSCG94_3,  P18N,    93,  1,    120,   1028,2,19940330,1042,-23.0017,-102.9973, 4021,    800.0,   4.7284,  34.3705,2,  34.3698,2,    141.0,2,    132.8,6,    38.86,2,    35.82,2,     0.00,2,     2.46,2,    0.040,2,    0.025,2, -999.000,9, -999.000,9, -999.000,9,-999.0000,9,  -999.00,9,   -999.0,9,   -999.0,9,   2228.2,2,   1238.5,2,   2302.0,2,     7.54,2,   20.00,  -999.0,-999.0000,-999.000,   25.00,  -999.0,  4.6647,-999.000
    31DSCG94_3,  P18N,    93,  1,    119,   1248,2,19940330,1042,-23.0017,-102.9973, 4021,    882.5,   4.3846,  34.4054,2,  34.4058,2,    129.8,2,    128.1,2,    49.97,2,    37.07,2,     0.00,2,     2.56,2,    0.008,6,    0.003,6, -999.000,9, -999.000,9, -999.000,9,-999.0000,9,  -999.00,9,   -999.0,9,   -999.0,9,   2263.9,2,   1305.5,2,   2333.0,2,     7.52,2,   20.00,  -999.0,-999.0000,-999.000,   25.00,  -999.0,  4.3162,-999.000
    31DSCG94_3,  P18N,    93,  1,    118,   1207,2,19940330,1042,-23.0017,-102.9973, 4021,    997.3,   3.9741,  34.4722,2,  34.4736,2,    124.7,2,    113.2,2,    66.00,2,    37.35,2,     0.00,2,     2.60,2,   -0.002,2,    0.003,2, -999.000,9, -999.000,9, -999.000,9,-999.0000,9,  -999.00,9,   -999.0,9,   -999.0,9,   2263.3,2,   1316.4,2,   2332.0,6,     7.52,2,   20.00,  -999.0,-999.0000,-999.000,   25.00,  -999.0,  3.8990,-999.000
    31DSCG94_3,  P18N,    93,  1,    117,   1119,2,19940330,1042,-23.0017,-102.9973, 4021,   1098.6,   3.7507,  34.5120,2,  34.5132,2,    125.7,2,    102.0,3,    75.66,2,    37.51,2,     0.05,4,     2.58,2, -999.000,5, -999.000,5, -999.000,9, -999.000,9, -999.000,9,-999.0000,9,  -999.00,9,   -999.0,9,   -999.0,9,   2272.2,2,   1298.9,2,   2344.0,2,     7.53,3,   20.00,  -999.0,-999.0000,-999.000,   25.00,  -999.0,  3.6688,-999.000
    31DSCG94_3,  P18N,    93,  1,    116,   1036,2,19940330,1042,-23.0017,-102.9973, 4021,   1183.8,   3.5358,  34.5288,2,  34.5286,2,    125.8,2,    126.0,2,    81.35,2,    37.31,2,     0.01,2,     2.57,2,    0.001,2,    0.001,2, -999.000,9, -999.000,9, -999.000,9,-999.0000,9,  -999.00,9,   -999.0,9,   -999.0,9,   2277.8,2,   1298.1,2,   2354.0,2,     7.53,2,   20.00,  -999.0,-999.0000,-999.000,   25.00,  -999.0,  3.4487,-999.000
    31DSCG94_3,  P18N,    93,  1,    115,   1017,2,19940330,1042,-23.0017,-102.9973, 4021,   1400.1,   3.0241,  34.5653,2,  34.5648,2,    124.2,2,    122.6,2,    95.69,2,    37.41,2,     0.00,2,     2.64,2,   -0.002,6,    0.001,6, -999.000,9, -999.000,9, -999.000,9,-999.0000,9,  -999.00,9,   -999.0,9,   -999.0,9,   2295.7,2,   1329.7,2,   2364.0,2,     7.52,2,   20.00,  -999.0,-999.0000,-999.000,   25.00,  -999.0,  2.9242,-999.000
    31DSCG94_3,  P18N,    93,  1,    114,   1016,2,19940330,1042,-23.0017,-102.9973, 4021,   1583.3,   2.6823,  34.5862,2,  34.5870,2,    131.2,2,    131.1,2,   101.32,2,    37.19,2,     0.00,2,     2.56,2,    0.002,2,    0.003,2, -999.000,9, -999.000,9, -999.000,9,-999.0000,9,  -999.00,9,   -999.0,9,   -999.0,9,   2298.2,2,   1294.8,2,   2373.0,2,     7.54,2,   20.00,  -999.0,-999.0000,-999.000,   25.00,  -999.0,  2.5712,-999.000
    31DSCG94_3,  P18N,    93,  1,    113,   1209,2,19940330,1042,-23.0017,-102.9973, 4021,   1803.2,   2.3391,  34.6130,2,  34.6122,2,    141.7,2,    142.3,2,   107.09,2,    36.04,2,     0.02,4,     2.50,2, -999.000,9, -999.000,9, -999.000,9, -999.000,9, -999.000,9,-999.0000,9,  -999.00,9,   -999.0,9,   -999.0,9,   2293.3,2,   1232.2,2,   2382.0,2,     7.55,2,   20.00,  -999.0,-999.0000,-999.000,   25.00,  -999.0,  2.2143,-999.000
    31DSCG94_3,  P18N,    93,  1,    112,   1033,2,19940330,1042,-23.0017,-102.9973, 4021,   2000.3,   2.1114,  34.6350,2,  34.6357,2,    148.3,2,    149.4,2,   111.63,2,    35.19,2,     0.00,2,     2.44,2,    0.001,2,    0.001,2, -999.000,9, -999.000,9, -999.000,9,-999.0000,9,  -999.00,9,   -999.0,9,   -999.0,9,   2298.4,2,   1201.9,2,   2389.0,2,     7.57,2,   20.00,  -999.0,-999.0000,-999.000,   25.00,  -999.0,  1.9732,-999.000
    31DSCG94_3,  P18N,    93,  1,    111,   1240,2,19940330,1042,-23.0017,-102.9973, 4021,   2200.4,   1.9787,  34.6505,2,  34.6496,2,    152.2,2,    153.5,2,   115.01,2,    34.96,2,     0.05,4,     2.41,2, -999.000,9, -999.000,9, -999.000,9, -999.000,9, -999.000,9,-999.0000,9,  -999.00,9,   -999.0,9,   -999.0,9,   2301.8,2,   1172.6,2,   2386.0,2,     7.58,2,   20.00,  -999.0,-999.0000,-999.000,   25.00,  -999.0,  1.8254,-999.000
    31DSCG94_3,  P18N,    93,  1,    110,   1005,2,19940330,1042,-23.0017,-102.9973, 4021,   2400.1,   1.8928,  34.6613,2,  34.6608,2,    154.5,2,    156.2,6,   117.22,2,    35.08,2,     0.05,4,     2.41,2, -999.000,9, -999.000,9, -999.000,9, -999.000,9, -999.000,9,-999.0000,9,  -999.00,9,   -999.0,9,   -999.0,9,   2306.8,2,   1168.8,2,   2393.0,2,     7.58,2,   20.00,  -999.0,-999.0000,-999.000,   25.00,  -999.0,  1.7235,-999.000
    31DSCG94_3,  P18N,    93,  1,    109,   1611,2,19940330,1042,-23.0017,-102.9973, 4021,   2601.1,   1.8451,  34.6684,2,  34.6700,2,    156.2,2,    156.7,2,   118.78,2,    34.76,2,     0.05,4,     2.39,2,    0.002,2,    0.004,2, -999.000,9, -999.000,9, -999.000,9,-999.0000,9,  -999.00,9,   -999.0,9,   -999.0,9,   2301.7,2,   1149.4,2,   2401.0,2,     7.59,2,   20.00,  -999.0,-999.0000,-999.000,   25.00,  -999.0,  1.6584,-999.000
    31DSCG94_3,  P18N,    93,  1,    108,   1218,2,19940330,1042,-23.0017,-102.9973, 4021,   2800.9,   1.8185,  34.6737,2,  34.6732,2,    156.0,2,    155.1,2,   120.67,2,    34.93,2,     0.04,4,     2.39,2, -999.000,9, -999.000,9, -999.000,9, -999.000,9, -999.000,9,-999.0000,9,  -999.00,9,   -999.0,9,   -999.0,9,   2305.1,2,   1157.7,3,   2397.0,2,     7.59,2,   20.00,  -999.0,-999.0000,-999.000,   25.00,  -999.0,  1.6137,-999.000
    31DSCG94_3,  P18N,    93,  1,    107,   1257,2,19940330,1042,-23.0017,-102.9973, 4021,   2996.1,   1.7977,  34.6781,2,  34.6776,2,    154.8,2,    144.0,3,   123.29,2,    35.57,2,     0.05,4,     2.41,2, -999.000,9, -999.000,9, -999.000,9, -999.000,9, -999.000,9,-999.0000,9,  -999.00,9,   -999.0,9,   -999.0,9,   2309.6,2,   1148.6,2,   2405.0,2,     7.59,2,   20.00,  -999.0,-999.0000,-999.000,   25.00,  -999.0,  1.5746,-999.000
    31DSCG94_3,  P18N,    93,  1,    106,   1224,2,19940330,1042,-23.0017,-102.9973, 4021,   3246.2,   1.7889,  34.6821,2,  34.6810,2,    153.2,2,    146.1,3,   126.07,2,    35.50,2,     0.05,4,     2.43,2,    0.002,2,    0.004,2, -999.000,9, -999.000,9, -999.000,9,-999.0000,9,  -999.00,9,   -999.0,9,   -999.0,9,   2316.1,2,   1155.3,2,   2417.0,2,     7.59,2,   20.00,  -999.0,-999.0000,-999.000,   25.00,  -999.0,  1.5413,-999.000
    31DSCG94_3,  P18N,    93,  1,    105,   1246,2,19940330,1042,-23.0017,-102.9973, 4021,   3478.9,   1.7972,  34.6840,2,  34.6828,2,    152.4,2,    150.6,2,   129.17,2,    35.94,2,     0.03,4,     2.45,2, -999.000,9, -999.000,9, -999.000,9, -999.000,9, -999.000,9,-999.0000,9,  -999.00,9,   -999.0,9,   -999.0,9,   2317.4,2,   1153.0,2,   -999.0,5,     7.58,2,   20.00,  -999.0,-999.0000,-999.000,   25.00,  -999.0,  1.5257,-999.000
    31DSCG94_3,  P18N,    93,  1,    104,   1217,2,19940330,1042,-23.0017,-102.9973, 4021,   3750.0,   1.8197,  34.6851,2,  34.6851,2,    151.2,2,    150.2,2,   131.67,2,    35.95,2,     0.01,2,     2.43,2, -999.000,9, -999.000,9, -999.000,9, -999.000,9, -999.000,9,-999.0000,9,  -999.00,9,   -999.0,9,   -999.0,9,   2320.7,2,   1160.6,2,   2413.0,2,     7.59,2,   20.00,  -999.0,-999.0000,-999.000,   25.00,  -999.0,  1.5190,-999.000
    31DSCG94_3,  P18N,    93,  1,    102,   1223,2,19940330,1042,-23.0017,-102.9973, 4021,   3999.9,   1.8457,  34.6857,2,  34.6850,2,    150.8,2,    150.1,2,   131.52,2,    35.46,2,     0.00,2,     2.42,2, -999.000,9, -999.000,9, -999.000,9, -999.000,9, -999.000,9,-999.0000,9,  -999.00,9,   -999.0,9,   -999.0,9,   2321.3,2,   1164.0,2,   2416.0,2,     7.58,2,   20.00,  -999.0,-999.0000,-999.000,   25.00,  -999.0,  1.5170,-999.000
    31DSCG94_3,  P18N,    93,  1,    103,   9999,2,19940330,1042,-23.0017,-102.9973, 4021,   4000.3,   1.8460,  34.6856,2,  34.6847,2,    150.9,2,    149.2,2,   132.25,2,    35.52,2,     0.00,2,     2.42,2,    0.001,2,    0.005,2, -999.000,9, -999.000,9, -999.000,9,-999.0000,9,  -999.00,9,   -999.0,9,   -999.0,9,   2321.5,2,   1151.9,2,   2420.0,2,     7.59,2,   20.00,  -999.0,-999.0000,-999.000,   25.00,  -999.0,  1.5172,-999.000
    31DSCG94_3,  P18N,    93,  1,    101,   1041,2,19940330,1042,-23.0017,-102.9973, 4021,   4052.6,   1.8525,  34.6853,2,  34.6855,2,    150.0,2,    149.9,2,   130.96,2,    35.42,2,     0.00,2,     2.43,2, -999.000,9, -999.000,9, -999.000,9, -999.000,9, -999.000,9,-999.0000,9,  -999.00,9,   -999.0,9,   -999.0,9,   2322.6,2,   1155.4,2,   2419.0,2,     7.58,2,   20.00,  -999.0,-999.0000,-999.000,   25.00,  -999.0,  1.5177,-999.000