BOTTLE,20220630CCHSIOAMB
EXPOCODE,SECT_ID,STNNBR,CASTNO,SAMPNO,BTLNBR,BTLNBR_FLAG_W,DATE,TIME,LATITUDE,LONGITUDE,DEPTH,CTDPRS,CTDTMP,CTDSAL,CTDSAL_FLAG_W,SALNTY,SALNTY_FLAG_W,CTDOXY,CTDOXY_FLAG_W,OXYGEN,OXYGEN_FLAG_W,SILCAT,SILCAT_FLAG_W,NITRAT,NITRAT_FLAG_W,NITRIT,NITRIT_FLAG_W,PHSPHT,PHSPHT_FLAG_W,CFC-11,CFC-11_FLAG_W,CFC-12,CFC-12_FLAG_W,CFC113,CFC113_FLAG_W,CCL4,CCL4_FLAG_W,TRITUM,TRITUM_FLAG_W,HELIUM,HELIUM_FLAG_W,DELHE3,DELHE3_FLAG_W,DELC14,DELC14_FLAG_W,DELC13,DELC13_FLAG_W,TCARBN,TCARBN_FLAG_W,PCO2,PCO2_FLAG_W,ALKALI,ALKALI_FLAG_W,PH,PH_FLAG_W,PCO2TMP,C14ERR,HELIER,DELHER,PH_TMP,C13ERR,THETA,TRITER
,,,,,,,,,,,,DBAR,ITS-90,PSS-78,,PSS-78,,UMOL/KG,,UMOL/KG,,UMOL/KG,,UMOL/KG,,UMOL/KG,,UMOL/KG,,PMOL/KG,,PMOL/KG,,PMOL/KG,,PMOL/KG,,TU,,NMOL/KG,,PERCNT,,/MILLE,,/MILLE,,UMOL/KG,,UATM,,UMOL/KG,,,,DEG C,/MILLE,NMOL/KG,PERCNT,DEG C,/MILLE,DEG C,TU
    31DSCG94_3,  P18N,   117,  1,    136,   1025,2,19940406,0305,-11.0000,-103.0133, 4248,      9.6,  26.5953,  35.5101,2,  35.5116,2,    210.4,2,    205.9,2,     2.16,2,     4.39,2,     0.08,2,     0.50,2,    1.790,2,    1.013,2, -999.000,9, -999.000,9, -999.000,9,-999.0000,9,  -999.00,9,     59.8,2,      1.6,2,   2014.9,2,    303.6,2,   2342.0,6,     8.07,2,   20.00,     5.6,-999.0000,-999.000,   25.00,  -999.0, 26.5931,-999.000
    31DSCG94_3,  P18N,   117,  1,    135,   1247,2,19940406,0305,-11.0000,-103.0133, 4248,     25.1,  26.6039,  35.5090,2,  35.5108,2,    208.5,2,    205.8,2,     2.18,2,     4.40,2,     0.08,2,     0.49,2,    1.776,6,    1.015,6, -999.000,9, -999.000,9, -999.000,9,-999.0000,9,  -999.00,9,     75.8,2,      1.6,2,   2016.2,2,   -999.0,9,   2343.0,2,     8.07,2, -999.00,     3.5,-999.0000,-999.000,   25.00,  -999.0, 26.5982,-999.000
    31DSCG94_3,  P18N,   117,  1,    134,   1216,2,19940406,0305,-11.0000,-103.0133, 4248,     48.3,  25.9230,  35.7472,2,  35.7295,2,    219.4,2,    212.7,2,     1.70,2,     2.81,2,     0.03,2,     0.41,2,    1.851,2,    1.041,2, -999.000,9, -999.000,9, -999.000,9,-999.0000,9,  -999.00,9,     79.1,2,      1.7,2,   2019.4,3,    296.8,2,   2365.0,2,     8.08,2,   20.00,     7.1,-999.0000,-999.000,   25.00,  -999.0, 25.9122,-999.000
    31DSCG94_3,  P18N,   117,  1,    133,   1244,2,19940406,0305,-11.0000,-103.0133, 4248,     74.1,  22.7692,  36.0291,2,  36.0283,2,    209.0,2,    216.0,2,     1.49,2,     0.29,2,     0.01,2,     0.35,2,    2.114,2,    1.171,2, -999.000,9, -999.000,9, -999.000,9,-999.0000,9,  -999.00,9,     82.7,2,      1.8,2,   2050.9,2,   -999.0,9,   2373.0,2,     8.06,2, -999.00,     3.4,-999.0000,-999.000,   25.00,  -999.0, 22.7542,-999.000
    31DSCG94_3,  P18N,   117,  1,    132,   1003,2,19940406,0305,-11.0000,-103.0133, 4248,     98.5,  20.8319,  35.9113,2,  35.9044,2,    194.0,2,    199.5,2,     1.44,2,     1.43,2,     1.25,2,     0.54,2,    2.237,2,    1.207,2, -999.000,9, -999.000,9, -999.000,9,-999.0000,9,  -999.00,9,     98.8,2,      1.6,2,   2083.5,2,    371.9,2,   2368.0,2,     8.00,2,   20.00,     3.5,-999.0000,-999.000,   25.00,  -999.0, 20.8131,-999.000
    31DSCG94_3,  P18N,   117,  1,    131,   1211,3,19940406,0305,-11.0000,-103.0133, 4248,    123.4,  18.9301,  35.5497,2,-999.0000,5,    188.9,2,   -999.0,9,  -999.00,9,  -999.00,9,  -999.00,9,  -999.00,9, -999.000,5, -999.000,5, -999.000,9, -999.000,9, -999.000,9,-999.0000,9,  -999.00,9,   -999.0,9,   -999.0,9,   -999.0,9,   -999.0,9,   -999.0,9,  -999.00,9, -999.00,  -999.0,-999.0000,-999.000, -999.00,  -999.0, 18.9081,-999.000
    31DSCG94_3,  P18N,   117,  1,    130,   1241,2,19940406,0305,-11.0000,-103.0133, 4248,    149.8,  15.8084,  35.0714,2,  35.0794,2,    158.0,2,    129.8,2,     5.68,2,    12.67,2,     0.01,2,     1.32,2,    2.035,2,    1.069,2, -999.000,9, -999.000,9, -999.000,9,-999.0000,9,  -999.00,9,     94.1,2,      0.9,2,   2142.0,2,    655.2,2,   2315.0,2,     7.79,2,   20.00,     3.3,-999.0000,-999.000,   25.00,  -999.0, 15.7849,-999.000
    31DSCG94_3,  P18N,   117,  1,    129,   1240,2,19940406,0305,-11.0000,-103.0133, 4248,    198.0,  12.3832,  34.8177,2,  34.8344,2,     27.3,2,      7.8,2,    21.49,2,    24.66,2,     0.00,2,     2.54,2,    0.429,2,    0.245,2, -999.000,9, -999.000,9, -999.000,9,-999.0000,9,  -999.00,9,   -999.0,5,      0.0,2,   2249.9,3,   1507.0,2,   2297.0,2,     7.46,2,   20.00,  -999.0,-999.0000,-999.000,   25.00,  -999.0, 12.3569,-999.000
    31DSCG94_3,  P18N,   117,  1,    128,   1032,2,19940406,0305,-11.0000,-103.0133, 4248,    251.1,  11.0017,  34.7831,2,  34.7814,2,     25.0,2,     20.9,2,    25.01,2,    31.57,2,     0.00,2,     2.44,2,    0.145,2,    0.079,2, -999.000,9, -999.000,9, -999.000,9,-999.0000,9,  -999.00,9,   -999.0,9,   -999.0,9,   2247.7,2,   -999.0,9,   2299.0,2,     7.47,2, -999.00,  -999.0,-999.0000,-999.000,   25.00,  -999.0, 10.9707,-999.000
    31DSCG94_3,  P18N,   117,  1,    127,   1008,2,19940406,0305,-11.0000,-103.0133, 4248,    300.3,  10.2846,  34.7574,2,  34.7556,2,     23.6,2,     20.1,2,    28.70,2,    34.48,2,     0.00,2,     2.51,2,    0.067,6,    0.039,6, -999.000,9, -999.000,9, -999.000,9,-999.0000,9,  -999.00,9,   -999.0,5,      0.1,2,   2256.0,2,   1524.0,2,   2301.0,2,     7.45,2,   20.00,  -999.0,-999.0000,-999.000,   25.00,  -999.0, 10.2491,-999.000
    31DSCG94_3,  P18N,   117,  1,    126,   1007,2,19940406,0305,-11.0000,-103.0133, 4248,    350.2,   9.7171,  34.7258,2,  34.7240,2,     25.0,2,     18.9,2,    31.88,2,    35.75,2,     0.00,2,     2.59,2,    0.042,2,    0.022,2, -999.000,9, -999.000,9, -999.000,9,-999.0000,9,  -999.00,9,   -999.0,9,   -999.0,9,   2262.9,2,   -999.0,9,   2306.0,2,     7.44,2, -999.00,  -999.0,-999.0000,-999.000,   25.00,  -999.0,  9.6770,-999.000
    31DSCG94_3,  P18N,   117,  1,    125,   1203,2,19940406,0305,-11.0000,-103.0133, 4248,    400.8,   9.0799,  34.6879,2,  34.6854,2,     26.9,2,     22.4,2,    34.07,2,    37.09,2,     0.00,2,     2.65,2,    0.021,2,    0.009,2, -999.000,9, -999.000,9, -999.000,9,-999.0000,9,  -999.00,9,    -71.5,2,      0.1,2,   2266.7,2,   1644.3,2,   2299.0,2,     7.43,2,   20.00,     4.0,-999.0000,-999.000,   25.00,  -999.0,  9.0358,-999.000
    31DSCG94_3,  P18N,   117,  1,    123,   1220,2,19940406,0305,-11.0000,-103.0133, 4248,    500.8,   8.1136,  34.6311,2,  34.6291,2,     21.7,2,     21.4,2,    38.28,2,    39.88,2,     0.00,2,     2.82,2,    0.004,6,    0.000,6, -999.000,9, -999.000,9, -999.000,9,-999.0000,9,  -999.00,9,    -87.5,2,      0.1,2,   2276.3,2,   1753.8,2,   2305.0,2,     7.40,2,   20.00,     4.6,-999.0000,-999.000,   25.00,  -999.0,  8.0617,-999.000
    31DSCG94_3,  P18N,   117,  1,    122,   1245,2,19940406,0305,-11.0000,-103.0133, 4248,    601.2,   7.1149,  34.5804,2,  34.5753,3,     20.5,2,     20.2,2,    44.75,2,    43.09,2,     0.00,2,     3.01,2,    0.000,2,   -0.002,2, -999.000,9, -999.000,9, -999.000,9,-999.0000,9,  -999.00,9,   -999.0,9,   -999.0,5,   -999.0,9,   1872.3,2,   2309.0,2,     7.38,2,   20.00,  -999.0,-999.0000,-999.000,   25.00,  -999.0,  7.0568,-999.000
    31DSCG94_3,  P18N,   117,  1,    121,   1206,3,19940406,0305,-11.0000,-103.0133, 4248,    698.8,   6.2335,  34.5476,2,  34.5477,2,     25.8,2,     25.8,2,    52.26,2,    45.15,2,     0.00,2,     3.12,2,    0.001,2,   -0.002,2, -999.000,9, -999.000,9, -999.000,9,-999.0000,9,  -999.00,9,   -133.4,2,      0.1,2,   2297.7,2,   -999.0,9,   2311.0,2,     7.37,2, -999.00,     3.6,-999.0000,-999.000,   25.00,  -999.0,  6.1702,-999.000
    31DSCG94_3,  P18N,   117,  1,    120,   1028,2,19940406,0305,-11.0000,-103.0133, 4248,    801.4,   5.5694,  34.5342,2,  34.5328,2,     36.6,2,     38.0,2,    61.04,2,    44.15,2,     0.00,2,     3.11,2,    0.001,2,   -0.002,2, -999.000,9, -999.000,9, -999.000,9,-999.0000,9,  -999.00,9,   -999.0,9,   -999.0,9,   2301.3,2,   1831.0,2,   2324.0,2,     7.39,2,   20.00,  -999.0,-999.0000,-999.000,   25.00,  -999.0,  5.5002,-999.000
    31DSCG94_3,  P18N,   117,  1,    119,   1248,2,19940406,0305,-11.0000,-103.0133, 4248,    901.8,   4.9670,  34.5324,2,  34.5309,2,     54.2,2,     54.6,6,    71.38,2,    42.39,2,     0.00,2,     3.06,2,   -0.001,2,   -0.002,2, -999.000,9, -999.000,9, -999.000,9,-999.0000,9,  -999.00,9,   -156.1,2,      0.1,2,   2301.2,2,   1735.4,4,   2339.0,2,     7.41,2,   20.00,     2.8,-999.0000,-999.000,   25.00,  -999.0,  4.8927,-999.000
    31DSCG94_3,  P18N,   117,  1,    118,   1115,2,19940406,0305,-11.0000,-103.0133, 4248,   1000.1,   4.4955,  34.5386,2,-999.0000,9,     68.6,2,     67.8,2,  -999.00,9,  -999.00,9,  -999.00,9,  -999.00,9,   -0.001,2,   -0.002,2, -999.000,9, -999.000,9, -999.000,9,-999.0000,9,  -999.00,9,   -167.0,2,      0.1,2,   2301.5,2,   1638.4,2,   2341.0,2,  -999.00,9,   20.00,     7.2,-999.0000,-999.000, -999.00,  -999.0,  4.4160,-999.000
    31DSCG94_3,  P18N,   117,  1,    117,   1119,2,19940406,0305,-11.0000,-103.0133, 4248,   1100.4,   4.1536,  34.5460,2,  34.5459,2,     75.3,2,     76.7,2,    87.12,2,    41.35,2,     0.01,2,     2.92,2, -999.000,9, -999.000,9, -999.000,9, -999.000,9, -999.000,9,-999.0000,9,  -999.00,9,   -999.0,9,   -999.0,9,   2305.5,2,   1588.0,2,   2352.0,2,     7.45,2,   20.00,  -999.0,-999.0000,-999.000,   25.00,  -999.0,  4.0681,-999.000
    31DSCG94_3,  P18N,   117,  1,    116,   1036,2,19940406,0305,-11.0000,-103.0133, 4248,   1199.4,   3.7872,  34.5580,2,  34.5576,2,     83.0,2,     84.6,2,    93.59,2,    41.30,2,     0.00,2,     2.86,2, -999.000,9, -999.000,9, -999.000,9, -999.000,9, -999.000,9,-999.0000,9,  -999.00,9,   -183.6,2,      0.1,2,   2309.9,2,   1534.4,2,   2362.0,2,     7.46,2,   20.00,     4.4,-999.0000,-999.000,   25.00,  -999.0,  3.6965,-999.000
    31DSCG94_3,  P18N,   117,  1,    115,   1017,2,19940406,0305,-11.0000,-103.0133, 4248,   1261.7,   3.5963,  34.5654,2,  34.5654,2,     85.6,2,     83.6,2,    98.09,2,    41.26,2,     0.01,2,     2.89,2, -999.000,9, -999.000,9, -999.000,9, -999.000,9, -999.000,9,-999.0000,9,  -999.00,9,   -999.0,9,   -999.0,9,   2317.4,2,   1560.2,2,   2372.0,2,     7.46,2,   20.00,  -999.0,-999.0000,-999.000,   25.00,  -999.0,  3.5022,-999.000
    31DSCG94_3,  P18N,   117,  1,    114,   1016,2,19940406,0305,-11.0000,-103.0133, 4248,   1400.0,   3.2505,  34.5820,2,  34.5815,2,     88.3,2,     89.5,2,   105.95,2,    41.25,2,     0.00,2,     2.87,2, -999.000,9, -999.000,9, -999.000,9, -999.000,9, -999.000,9,-999.0000,9,  -999.00,9,   -206.8,2,      0.0,2,   2323.7,2,   1529.7,2,   2380.0,2,     7.47,2,   20.00,     2.8,-999.0000,-999.000,   25.00,  -999.0,  3.1482,-999.000
    31DSCG94_3,  P18N,   117,  1,    113,   1209,2,19940406,0305,-11.0000,-103.0133, 4248,   1601.0,   2.7783,  34.6042,2,  34.6042,2,    102.6,2,    105.2,6,   113.69,2,    39.88,2,     0.00,2,     2.76,2,   -0.003,2,   -0.002,2, -999.000,9, -999.000,9, -999.000,9,-999.0000,9,  -999.00,9,   -223.7,2,      0.1,2,   2324.8,2,   1437.7,2,   2389.0,2,     7.50,2,   20.00,     3.7,-999.0000,-999.000,   25.00,  -999.0,  2.6646,-999.000
    31DSCG94_3,  P18N,   117,  1,    112,   1033,2,19940406,0305,-11.0000,-103.0133, 4248,   1800.4,   2.4642,  34.6242,2,  34.6241,2,    112.6,2,    111.9,2,   121.07,2,    39.70,2,     0.00,2,     2.72,2, -999.000,9, -999.000,9, -999.000,9, -999.000,9, -999.000,9,-999.0000,9,  -999.00,9,   -999.0,9,   -999.0,9,   2330.0,2,   1392.2,3,   2399.0,2,     7.51,2,   20.00,  -999.0,-999.0000,-999.000,   25.00,  -999.0,  2.3378,-999.000
    31DSCG94_3,  P18N,   117,  1,    111,   1240,2,19940406,0305,-11.0000,-103.0133, 4248,   2000.3,   2.2659,  34.6388,2,  34.6382,2,    117.6,2,    115.4,2,   128.33,2,    38.92,2,     0.00,2,     2.69,2, -999.000,9, -999.000,9, -999.000,9, -999.000,9, -999.000,9,-999.0000,9,  -999.00,9,   -225.6,2,     -0.0,2,   2333.9,2,   1364.8,2,   2403.0,2,     7.52,2,   20.00,     2.6,-999.0000,-999.000,   25.00,  -999.0,  2.1253,-999.000
    31DSCG94_3,  P18N,   117,  1,    110,   1005,2,19940406,0305,-11.0000,-103.0133, 4248,   2251.2,   2.0480,  34.6539,2,  34.6534,2,    125.2,2,    124.1,2,   135.01,2,    38.13,2,     0.00,2,     2.64,2, -999.000,9, -999.000,9, -999.000,9, -999.000,9, -999.000,9,-999.0000,9,  -999.00,9,   -999.0,9,   -999.0,9,   2333.1,2,   1311.9,2,   2412.0,2,     7.54,2,   20.00,  -999.0,-999.0000,-999.000,   25.00,  -999.0,  1.8891,-999.000
    31DSCG94_3,  P18N,   117,  1,    109,   1611,2,19940406,0305,-11.0000,-103.0133, 4248,   2500.3,   1.8746,  34.6663,2,  35.3409,4,    134.8,2,    121.0,3,    22.27,4,    12.94,4,     0.06,3,     1.13,4, -999.000,9, -999.000,9, -999.000,9, -999.000,9, -999.000,9,-999.0000,9,  -999.00,9,     10.9,4,      1.1,4,   2140.8,3,    635.5,4,   -999.0,5,  -999.00,9,   20.00,     4.2,-999.0000,-999.000, -999.00,  -999.0,  1.6965,-999.000
    31DSCG94_3,  P18N,   117,  1,    108,   1218,2,19940406,0305,-11.0000,-103.0133, 4248,   2747.1,   1.7988,  34.6717,2,  34.6719,2,    136.2,2,    140.5,2,   139.62,2,    37.15,2,     0.00,2,     2.54,2,   -0.002,2,   -0.002,2, -999.000,9, -999.000,9, -999.000,9,-999.0000,9,  -999.00,9,   -999.0,9,   -999.0,9,   2333.4,2,   1218.0,2,   2422.0,2,     7.57,2,   20.00,  -999.0,-999.0000,-999.000,   25.00,  -999.0,  1.5995,-999.000
    31DSCG94_3,  P18N,   117,  1,    107,   1257,2,19940406,0305,-11.0000,-103.0133, 4248,   2999.4,   1.7755,  34.6744,2,  34.6740,2,    136.7,2,    137.1,2,   140.01,2,    37.65,2,     0.00,2,     2.54,2, -999.000,9, -999.000,9, -999.000,9, -999.000,9, -999.000,9,-999.0000,9,  -999.00,9,   -217.2,2,      0.0,2,   2335.2,2,   1221.9,2,   2421.0,2,     7.57,2,   20.00,     6.8,-999.0000,-999.000,   25.00,  -999.0,  1.5526,-999.000
    31DSCG94_3,  P18N,   117,  1,    106,   1224,2,19940406,0305,-11.0000,-103.0133, 4248,   3249.6,   1.7656,  34.6741,2,  34.6740,2,    135.3,2,    136.9,2,   141.80,2,    37.62,2,     0.00,2,     2.55,2, -999.000,9, -999.000,9, -999.000,9, -999.000,9, -999.000,9,-999.0000,9,  -999.00,9,   -999.0,9,   -999.0,9,   2338.3,2,   1230.0,2,   -999.0,5,     7.57,2,   20.00,  -999.0,-999.0000,-999.000,   25.00,  -999.0,  1.5183,-999.000
    31DSCG94_3,  P18N,   117,  1,    105,   1246,2,19940406,0305,-11.0000,-103.0133, 4248,   3496.3,   1.7721,  34.6751,2,  34.6752,2,    136.4,2,    136.1,6,   142.08,2,    37.85,2,     0.00,2,     2.57,2, -999.000,9, -999.000,9, -999.000,9, -999.000,9, -999.000,9,-999.0000,9,  -999.00,9,   -207.1,2,      0.0,2,   2338.4,2,   1213.5,2,   2428.0,2,     7.57,2,   20.00,     2.9,-999.0000,-999.000,   25.00,  -999.0,  1.4995,-999.000
    31DSCG94_3,  P18N,   117,  1,    104,   1217,2,19940406,0305,-11.0000,-103.0133, 4248,   3750.8,   1.7833,  34.6759,2,  34.6752,2,    136.2,2,    135.4,2,   142.66,3,    37.91,2,     0.00,2,     2.57,2, -999.000,9, -999.000,9, -999.000,9, -999.000,9, -999.000,9,-999.0000,9,  -999.00,9,   -999.0,9,   -999.0,9,   2339.0,2,   1206.2,2,   2432.0,2,     7.57,2,   20.00,  -999.0,-999.0000,-999.000,   25.00,  -999.0,  1.4835,-999.000
    31DSCG94_3,  P18N,   117,  1,    103,   9999,2,19940406,0305,-11.0000,-103.0133, 4248,   3750.8,   1.7835,  34.6758,2,  34.6760,2,    136.2,2,    137.0,2,   146.24,2,    37.88,2,     0.00,2,     2.56,2,   -0.002,2,   -0.002,2, -999.000,9, -999.000,9, -999.000,9,-999.0000,9,  -999.00,9,   -999.0,9,   -999.0,9,   2338.4,2,   1202.7,2,   -999.0,5,     7.57,2,   20.00,  -999.0,-999.0000,-999.000,   25.00,  -999.0,  1.4837,-999.000
    31DSCG94_3,  P18N,   117,  1,    102,   1223,2,19940406,0305,-11.0000,-103.0133, 4248,   3997.4,   1.8033,  34.6763,2,  34.6745,2,    137.5,2,    137.5,2,   148.99,2,    37.85,2,     0.00,2,     2.54,2, -999.000,9, -999.000,9, -999.000,9, -999.000,9, -999.000,9,-999.0000,9,  -999.00,9,   -202.4,2,      0.1,2,   2339.4,2,   1203.3,2,   -999.0,5,     7.57,2,   20.00,     2.8,-999.0000,-999.000,   25.00,  -999.0,  1.4761,-999.000
    31DSCG94_3,  P18N,   117,  1,    101,   1041,2,19940406,0305,-11.0000,-103.0133, 4248,   4294.4,   1.8363,  34.6761,2,-999.0000,9,    138.1,2,    137.5,2,   153.62,2,    38.26,2,     0.00,2,     2.62,3, -999.000,9, -999.000,9, -999.000,9, -999.000,9, -999.000,9,-999.0000,9,  -999.00,9,   -216.7,2,      0.0,2,   2338.9,2,   1206.6,2,   2431.0,2,  -999.00,9,   20.00,     3.8,-999.0000,-999.000, -999.00,  -999.0,  1.4747,-999.000