BOTTLE,20220630CCHSIOAMB
EXPOCODE,SECT_ID,STNNBR,CASTNO,SAMPNO,BTLNBR,BTLNBR_FLAG_W,DATE,TIME,LATITUDE,LONGITUDE,DEPTH,CTDPRS,CTDTMP,CTDSAL,CTDSAL_FLAG_W,SALNTY,SALNTY_FLAG_W,CTDOXY,CTDOXY_FLAG_W,OXYGEN,OXYGEN_FLAG_W,SILCAT,SILCAT_FLAG_W,NITRAT,NITRAT_FLAG_W,NITRIT,NITRIT_FLAG_W,PHSPHT,PHSPHT_FLAG_W,CFC-11,CFC-11_FLAG_W,CFC-12,CFC-12_FLAG_W,CFC113,CFC113_FLAG_W,CCL4,CCL4_FLAG_W,TRITUM,TRITUM_FLAG_W,HELIUM,HELIUM_FLAG_W,DELHE3,DELHE3_FLAG_W,DELC14,DELC14_FLAG_W,DELC13,DELC13_FLAG_W,TCARBN,TCARBN_FLAG_W,PCO2,PCO2_FLAG_W,ALKALI,ALKALI_FLAG_W,PH,PH_FLAG_W,PCO2TMP,C14ERR,HELIER,DELHER,PH_TMP,C13ERR,THETA,TRITER
,,,,,,,,,,,,DBAR,ITS-90,PSS-78,,PSS-78,,UMOL/KG,,UMOL/KG,,UMOL/KG,,UMOL/KG,,UMOL/KG,,UMOL/KG,,PMOL/KG,,PMOL/KG,,PMOL/KG,,PMOL/KG,,TU,,NMOL/KG,,PERCNT,,/MILLE,,/MILLE,,UMOL/KG,,UATM,,UMOL/KG,,,,DEG C,/MILLE,NMOL/KG,PERCNT,DEG C,/MILLE,DEG C,TU
    31DSCG94_3,  P18N,   151,  1,    136,   1025,2,19940415,0549,  2.0000,-110.3350, 3772,     10.0,  26.5854,  34.6086,2,  34.6091,2,    166.5,2,    203.5,6,     4.68,2,     4.61,2,     0.05,2,     0.52,2,    1.699,2,    0.969,2, -999.000,9, -999.000,9,    1.003,2,   1.7594,2,    -0.13,2,   -999.0,9,      1.4,2,   2003.9,2,    353.6,2,   2281.0,2,     8.01,2,   20.00,  -999.0,-999.0000,-999.000,   25.00,  -999.0, 26.5832,   0.009
    31DSCG94_3,  P18N,   151,  1,    135,   1247,2,19940415,0549,  2.0000,-110.3350, 3772,     24.4,  26.0179,  34.6841,2,  34.6943,2,    165.9,2,    199.7,2,     5.00,2,     5.43,2,     0.07,2,     0.57,2,    1.672,2,    0.947,2, -999.000,5, -999.000,5, -999.000,9,-999.0000,9,  -999.00,9,   -999.0,9,   -999.0,9,   2015.7,2,    377.5,2,   2280.0,2,     7.99,2,   20.00,  -999.0,-999.0000,-999.000,   25.00,  -999.0, 26.0124,-999.000
    31DSCG94_3,  P18N,   151,  1,    134,   1216,2,19940415,0549,  2.0000,-110.3350, 3772,     48.4,  17.7013,  34.8558,2,  34.8470,2,    119.9,2,    117.2,2,    13.70,2,    16.80,2,     0.27,2,     1.30,2,    1.216,2,    0.652,2, -999.000,5, -999.000,5, -999.000,9,   1.7898,2,     4.72,2,   -999.0,9,   -999.0,9,   2117.9,2,    639.0,2,   2291.0,2,     7.80,2,   20.00,  -999.0,-999.0000,-999.000,   25.00,  -999.0, 17.6931,-999.000
    31DSCG94_3,  P18N,   151,  1,    133,   1244,2,19940415,0549,  2.0000,-110.3350, 3772,     74.1,  15.3110,  34.9273,2,  34.9311,2,     76.4,2,     72.0,2,    18.04,2,    22.91,2,     0.69,2,     1.69,2,    0.964,6,    0.520,6, -999.000,5, -999.000,5, -999.000,9,-999.0000,9,  -999.00,9,   -999.0,9,   -999.0,9,   2167.5,2,    857.1,2,   2293.0,2,     7.68,2,   20.00,  -999.0,-999.0000,-999.000,   25.00,  -999.0, 15.2997,-999.000
    31DSCG94_3,  P18N,   151,  1,    132,   1003,2,19940415,0549,  2.0000,-110.3350, 3772,     98.8,  14.3998,  34.9506,2,  34.9500,2,     66.2,2,     64.2,2,    19.39,2,    25.16,2,     0.00,2,     1.77,2,    0.833,2,    0.449,2, -999.000,5, -999.000,5,    0.639,2,   1.7898,2,     5.34,2,   -999.0,9,   -999.0,9,   2179.5,2,    915.6,2,   2294.0,2,     7.66,2,   20.00,  -999.0,-999.0000,-999.000,   25.00,  -999.0, 14.3853,   0.007
    31DSCG94_3,  P18N,   151,  1,    131,   1211,2,19940415,0549,  2.0000,-110.3350, 3772,    123.9,  13.9728,  34.9387,2,  34.9379,2,     61.1,2,     60.0,2,    20.63,2,    25.77,2,     0.00,2,     1.84,2,    0.749,2,    0.409,2, -999.000,9, -999.000,9,    0.581,2,   1.8009,2,     5.39,2,   -999.0,9,   -999.0,9,   2186.7,2,    959.3,2,   2295.0,2,     7.64,2,   20.00,  -999.0,-999.0000,-999.000,   25.00,  -999.0, 13.9550,   0.007
    31DSCG94_3,  P18N,   151,  1,    130,   1241,2,19940415,0549,  2.0000,-110.3350, 3772,    149.3,  13.6789,  34.9292,2,  34.9304,2,     55.5,2,     53.6,2,    21.95,2,    27.16,2,     0.00,2,     1.91,2,    0.681,2,    0.365,2, -999.000,9, -999.000,9,    0.554,2,   1.8165,2,     5.51,2,   -999.0,9,   -999.0,9,   2193.4,2,   1008.1,2,   2296.0,2,     7.62,2,   20.00,  -999.0,-999.0000,-999.000,   25.00,  -999.0, 13.6577,   0.007
    31DSCG94_3,  P18N,   151,  1,    129,   1240,2,19940415,0549,  2.0000,-110.3350, 3772,    173.7,  13.1633,  34.9015,2,  34.9019,2,     47.3,2,     39.0,2,    24.00,2,    29.28,2,     0.00,2,     2.05,2,    0.530,2,    0.286,2, -999.000,9, -999.000,9, -999.000,9,-999.0000,9,  -999.00,9,   -999.0,9,   -999.0,9,   2208.7,2,   1125.5,2,   2292.0,2,     7.58,2,   20.00,  -999.0,-999.0000,-999.000,   25.00,  -999.0, 13.1393,-999.000
    31DSCG94_3,  P18N,   151,  1,    128,   1032,2,19940415,0549,  2.0000,-110.3350, 3772,    199.0,  12.7721,  34.8796,2,  34.8790,2,     40.0,2,     33.0,2,    25.67,2,    30.62,2,     0.00,2,     2.15,2,    0.427,2,    0.239,2, -999.000,9, -999.000,9,    0.415,2,   1.8000,2,     6.15,2,   -999.0,9,   -999.0,9,   2217.1,2,   1198.9,2,   2295.0,2,     7.55,2,   20.00,  -999.0,-999.0000,-999.000,   25.00,  -999.0, 12.7451,   0.006
    31DSCG94_3,  P18N,   151,  1,    127,   1008,2,19940415,0549,  2.0000,-110.3350, 3772,    199.7,  12.7717,  34.8793,2,  34.8784,2,     40.0,2,     32.5,2,    25.84,2,    30.32,2,     0.00,2,     2.14,2,    0.436,6,    0.241,6, -999.000,5, -999.000,5,    0.433,2,   1.7938,2,     6.08,2,   -999.0,9,   -999.0,9,   2216.9,2,   1201.4,2,   2292.0,2,     7.55,2,   20.00,  -999.0,-999.0000,-999.000,   25.00,  -999.0, 12.7446,   0.006
    31DSCG94_3,  P18N,   151,  1,    126,   1007,2,19940415,0549,  2.0000,-110.3350, 3772,    250.7,  12.1849,  34.8443,2,  34.8436,2,     30.3,2,     23.3,2,    28.31,2,    32.45,2,     0.00,2,     2.26,2,    0.358,2,    0.191,2, -999.000,5, -999.000,5,    0.381,2,   1.8031,2,     6.30,2,   -999.0,9,   -999.0,9,   2230.5,2,   1319.7,2,   2295.0,2,     7.52,2,   20.00,  -999.0,-999.0000,-999.000,   25.00,  -999.0, 12.1518,   0.006
    31DSCG94_3,  P18N,   151,  1,    125,   1256,2,19940415,0549,  2.0000,-110.3350, 3772,    296.6,  11.7090,  34.8122,2,  34.8117,2,     24.4,2,     20.9,2,    29.94,2,    33.06,2,     0.00,2,     2.28,2,    0.282,2,    0.157,2, -999.000,9, -999.000,9, -999.000,9,-999.0000,9,  -999.00,9,   -999.0,9,   -999.0,9,   2237.2,2,   1389.2,2,   2294.0,2,     7.50,2,   20.00,  -999.0,-999.0000,-999.000,   25.00,  -999.0, 11.6708,-999.000
    31DSCG94_3,  P18N,   151,  1,    123,   1220,2,19940415,0549,  2.0000,-110.3350, 3772,    395.3,   9.7990,  34.6927,2,  34.6931,2,     24.6,2,     25.0,2,    37.24,2,    35.04,2,     0.00,2,     2.51,2,    0.110,6,    0.064,6, -999.000,5, -999.000,5,    0.150,2,   1.7759,2,     6.59,2,   -999.0,9,   -999.0,9,   2254.6,2,   1537.2,2,   2313.0,3,     7.46,2,   20.00,  -999.0,-999.0000,-999.000,   25.00,  -999.0,  9.7535,   0.004
    31DSCG94_3,  P18N,   151,  1,    122,   1245,2,19940415,0549,  2.0000,-110.3350, 3772,    498.9,   8.1652,  34.6206,2,  34.6194,2,     31.2,2,     30.9,2,    45.49,2,    39.51,2,     0.00,2,     2.70,2,    0.024,2,    0.012,2, -999.000,5, -999.000,5,    0.041,2,   1.7541,2,     7.43,2,   -999.0,9,   -999.0,9,   2271.9,2,   1641.6,2,   2305.0,2,     7.43,2,   20.00,  -999.0,-999.0000,-999.000,   25.00,  -999.0,  8.1134,   0.004
    31DSCG94_3,  P18N,   151,  1,    121,   1206,3,19940415,0549,  2.0000,-110.3350, 3772,    599.9,   7.3173,  34.5878,2,  34.5870,2,     43.9,2,     50.2,2,    49.63,2,    39.26,2,     0.00,2,     2.73,2,    0.025,2,    0.007,2, -999.000,5, -999.000,5,    0.028,2,   1.8161,2,     8.55,2,   -999.0,9,   -999.0,9,   2269.7,2,   -999.0,9,   2309.0,3,  -999.00,9, -999.00,  -999.0,-999.0000,-999.000, -999.00,  -999.0,  7.2585,   0.004
    31DSCG94_3,  P18N,   151,  1,    120,   1028,2,19940415,0549,  2.0000,-110.3350, 3772,    700.3,   6.5530,  34.5664,2,  34.5659,2,     49.4,2,     49.5,2,    57.97,2,    41.03,2,     0.00,2,     2.87,2,    0.004,2,    0.002,2, -999.000,5, -999.000,5,    0.009,2,   1.8201,2,    10.47,2,   -999.0,9,   -999.0,9,   2281.3,2,   1623.6,2,   2317.0,2,     7.44,2,   20.00,  -999.0,-999.0000,-999.000,   25.00,  -999.0,  6.4879,   0.003
    31DSCG94_3,  P18N,   151,  1,    119,   1248,2,19940415,0549,  2.0000,-110.3350, 3772,    800.0,   5.7206,  34.5583,2,  34.5579,2,     45.6,2,     48.7,2,    70.61,2,    42.20,2,     0.00,2,     3.00,2,    0.008,2,    0.001,2, -999.000,5, -999.000,5,    0.013,2,-999.0000,9,  -999.00,9,   -999.0,9,   -999.0,9,   2300.9,2,   1698.5,2,   2333.0,2,     7.42,2,   20.00,  -999.0,-999.0000,-999.000,   25.00,  -999.0,  5.6507,   0.003
    31DSCG94_3,  P18N,   151,  1,    118,   1115,2,19940415,0549,  2.0000,-110.3350, 3772,    900.9,   5.0820,  34.5574,2,  34.5581,2,     49.2,2,     52.3,2,    81.99,2,    42.70,2,     0.00,2,     3.02,2,    0.000,2,   -0.002,2, -999.000,9, -999.000,9,    0.009,2,-999.0000,9,  -999.00,9,   -999.0,9,   -999.0,9,   2311.5,2,   1698.9,2,   2345.0,2,     7.42,2,   20.00,  -999.0,-999.0000,-999.000,   25.00,  -999.0,  5.0069,   0.003
    31DSCG94_3,  P18N,   151,  1,    117,   1119,2,19940415,0549,  2.0000,-110.3350, 3772,   1001.4,   4.4621,  34.5654,2,  34.5654,2,     56.9,2,     62.5,2,    93.40,2,    41.98,2,     0.00,2,     3.00,2,    0.003,2,    0.000,2, -999.000,9, -999.000,9,    0.006,2,   1.8549,2,    18.38,2,   -999.0,9,   -999.0,9,   -999.0,9,   1649.7,2,   -999.0,5,     7.44,2,   20.00,  -999.0,-999.0000,-999.000,   25.00,  -999.0,  4.3827,   0.003
    31DSCG94_3,  P18N,   151,  1,    116,   1036,2,19940415,0549,  2.0000,-110.3350, 3772,   1099.8,   4.1375,  34.5695,2,  34.5701,2,     63.8,2,     69.8,2,    99.50,2,    41.83,2,     0.00,2,     2.98,2, -999.000,9, -999.000,9, -999.000,9, -999.000,9, -999.000,9,-999.0000,9,  -999.00,9,   -999.0,9,   -999.0,9,   2322.1,2,   1602.8,2,   2368.0,2,     7.45,2,   20.00,  -999.0,-999.0000,-999.000,   25.00,  -999.0,  4.0522,-999.000
    31DSCG94_3,  P18N,   151,  1,    115,   1017,2,19940415,0549,  2.0000,-110.3350, 3772,   1199.5,   3.8698,  34.5779,2,  34.5782,2,     68.0,2,     71.7,2,   105.82,2,    41.71,2,     0.00,2,     2.95,2,   -0.001,2,   -0.002,2, -999.000,9, -999.000,9,    0.002,2,-999.0000,9,  -999.00,9,   -999.0,9,   -999.0,9,   2327.5,2,   1600.1,2,   2368.0,2,     7.45,2,   20.00,  -999.0,-999.0000,-999.000,   25.00,  -999.0,  3.7783,   0.004
    31DSCG94_3,  P18N,   151,  1,    114,   1016,2,19940415,0549,  2.0000,-110.3350, 3772,   1300.7,   3.5488,  34.5874,2,  34.5881,2,     72.4,2,     77.0,2,   114.93,2,    41.35,2,     0.00,2,     2.96,2, -999.000,9, -999.000,9, -999.000,9, -999.000,9, -999.000,9,-999.0000,9,  -999.00,9,   -999.0,9,   -999.0,9,   2330.8,2,   1566.8,2,   2381.0,2,     7.46,2,   20.00,  -999.0,-999.0000,-999.000,   25.00,  -999.0,  3.4518,-999.000
    31DSCG94_3,  P18N,   151,  1,    113,   1209,2,19940415,0549,  2.0000,-110.3350, 3772,   1399.7,   3.3159,  34.5939,2,  34.5951,2,     77.9,2,     81.2,2,   120.03,2,    41.39,2,     0.00,2,     2.95,2,   -0.002,2,   -0.002,2, -999.000,9, -999.000,9, -999.000,9,-999.0000,9,  -999.00,9,   -999.0,9,   -999.0,9,   2334.3,2,   1542.9,2,   2382.0,2,     7.47,2,   20.00,  -999.0,-999.0000,-999.000,   25.00,  -999.0,  3.2129,-999.000
    31DSCG94_3,  P18N,   151,  1,    112,   1033,2,19940415,0549,  2.0000,-110.3350, 3772,   1600.3,   2.9596,  34.6088,2,  34.6098,2,     85.7,2,     86.5,2,   127.81,2,    41.10,2,     0.00,2,     2.89,2, -999.000,9, -999.000,9, -999.000,9, -999.000,9, -999.000,9,-999.0000,9,  -999.00,9,   -999.0,9,   -999.0,9,   2342.3,2,   1506.9,2,   2396.0,2,     7.48,2,   20.00,  -999.0,-999.0000,-999.000,   25.00,  -999.0,  2.8437,-999.000
    31DSCG94_3,  P18N,   151,  1,    111,   1240,2,19940415,0549,  2.0000,-110.3350, 3772,   1800.4,   2.6119,  34.6272,2,  34.6271,2,     94.6,2,     93.2,2,   137.39,2,    40.60,2,     0.00,2,     2.84,2, -999.000,9, -999.000,9, -999.000,9, -999.000,9, -999.000,9,-999.0000,9,  -999.00,9,   -999.0,9,   -999.0,9,   2348.5,2,   1472.0,2,   2406.0,2,     7.49,2,   20.00,  -999.0,-999.0000,-999.000,   25.00,  -999.0,  2.4834,-999.000
    31DSCG94_3,  P18N,   151,  1,    110,   1005,2,19940415,0549,  2.0000,-110.3350, 3772,   2001.8,   2.3367,  34.6379,2,  34.6375,2,    103.4,2,    101.5,2,   141.72,2,    40.21,2,     0.00,2,     2.81,2,   -0.001,2,   -0.002,2, -999.000,5, -999.000,5, -999.000,9,-999.0000,9,  -999.00,9,   -999.0,9,   -999.0,9,   2350.8,2,   1415.5,2,   2415.0,2,     7.51,2,   20.00,  -999.0,-999.0000,-999.000,   25.00,  -999.0,  2.1950,-999.000
    31DSCG94_3,  P18N,   151,  1,    109,   1611,2,19940415,0549,  2.0000,-110.3350, 3772,   2247.7,   2.0689,  34.6513,2,  34.6516,2,    110.1,2,    109.9,2,   148.31,2,    39.46,2,     0.00,2,     2.73,2, -999.000,9, -999.000,9, -999.000,9, -999.000,9, -999.000,9,-999.0000,9,  -999.00,9,   -999.0,9,   -999.0,9,   2349.6,2,   1370.5,2,   2416.0,2,     7.52,2,   20.00,  -999.0,-999.0000,-999.000,   25.00,  -999.0,  1.9100,-999.000
    31DSCG94_3,  P18N,   151,  1,    108,   1218,2,19940415,0549,  2.0000,-110.3350, 3772,   2500.5,   1.8402,  34.6642,2,  34.6647,2,    118.1,2,    119.4,2,   152.24,2,    38.89,2,     0.00,2,     2.68,2, -999.000,9, -999.000,9, -999.000,9, -999.000,9, -999.000,9,-999.0000,9,  -999.00,9,   -999.0,9,   -999.0,9,   2349.6,2,   1310.9,2,   2425.0,2,     7.54,2,   20.00,  -999.0,-999.0000,-999.000,   25.00,  -999.0,  1.6627,-999.000
    31DSCG94_3,  P18N,   151,  1,    107,   1257,2,19940415,0549,  2.0000,-110.3350, 3772,   2743.1,   1.7735,  34.6679,2,  34.6678,2,    122.6,2,    124.0,2,   154.18,2,    38.50,2,     0.00,2,     2.64,2,    0.001,2,   -0.001,2, -999.000,9, -999.000,9, -999.000,9,-999.0000,9,  -999.00,9,   -999.0,9,   -999.0,9,   2346.9,2,   1289.1,2,   2427.0,2,     7.54,2,   20.00,  -999.0,-999.0000,-999.000,   25.00,  -999.0,  1.5751,-999.000
    31DSCG94_3,  P18N,   151,  1,    106,   1224,2,19940415,0549,  2.0000,-110.3350, 3772,   2997.6,   1.7100,  34.6715,2,  34.6717,2,    128.2,2,    130.3,2,   152.06,2,    38.09,2,     0.00,2,     2.62,2, -999.000,9, -999.000,9, -999.000,9, -999.000,9, -999.000,9,-999.0000,9,  -999.00,9,   -999.0,9,   -999.0,9,   2342.1,2,   1263.0,2,   2427.0,2,     7.55,2,   20.00,  -999.0,-999.0000,-999.000,   25.00,  -999.0,  1.4888,-999.000
    31DSCG94_3,  P18N,   151,  1,    105,   1246,2,19940415,0549,  2.0000,-110.3350, 3772,   3247.6,   1.6018,  34.6784,2,  34.6781,2,    134.9,2,    139.1,2,   152.56,2,    37.94,2,     0.00,2,     2.58,2, -999.000,5, -999.000,5, -999.000,9, -999.000,9, -999.000,9,-999.0000,9,  -999.00,9,   -999.0,9,   -999.0,9,   2337.1,2,   1222.2,2,   2429.0,2,     7.57,2,   20.00,  -999.0,-999.0000,-999.000,   25.00,  -999.0,  1.3586,-999.000
    31DSCG94_3,  P18N,   151,  1,    104,   1217,2,19940415,0549,  2.0000,-110.3350, 3772,   3499.2,   1.5065,  34.6852,2,  34.6852,2,    142.0,2,    145.3,2,   154.58,2,    37.75,2,     0.00,2,     2.57,2, -999.000,9, -999.000,9, -999.000,9, -999.000,9, -999.000,9,-999.0000,9,  -999.00,9,   -999.0,9,   -999.0,9,   2336.9,2,   1170.4,2,   2429.0,2,     7.59,2,   20.00,  -999.0,-999.0000,-999.000,   25.00,  -999.0,  1.2402,-999.000
    31DSCG94_3,  P18N,   151,  1,    102,   1223,2,19940415,0549,  2.0000,-110.3350, 3772,   3747.7,   1.4773,  34.6880,2,  34.6882,2,    147.1,2,    148.2,2,   155.19,2,    37.38,2,     0.00,2,     2.52,2, -999.000,9, -999.000,9, -999.000,9, -999.000,9, -999.000,9,-999.0000,9,  -999.00,9,   -999.0,9,   -999.0,9,   2337.1,2,   1146.3,2,   2437.0,2,     7.59,2,   20.00,  -999.0,-999.0000,-999.000,   25.00,  -999.0,  1.1860,-999.000
    31DSCG94_3,  P18N,   151,  1,    103,   9999,2,19940415,0549,  2.0000,-110.3350, 3772,   3748.1,   1.4773,  34.6882,2,  34.6894,2,    147.1,2,    148.1,2,   155.25,2,    37.26,2,     0.00,2,     2.51,2,    0.002,2,    0.000,2, -999.000,5, -999.000,5, -999.000,9,-999.0000,9,  -999.00,9,   -999.0,9,   -999.0,9,   2336.8,2,   1149.2,2,   2432.0,2,     7.59,2,   20.00,  -999.0,-999.0000,-999.000,   25.00,  -999.0,  1.1860,-999.000
    31DSCG94_3,  P18N,   151,  1,    101,   1041,2,19940415,0549,  2.0000,-110.3350, 3772,   3838.6,   1.4867,  34.6881,2,  34.6882,2,    147.5,2,    147.9,2,   155.08,2,    37.41,2,     0.00,2,     2.54,2, -999.000,9, -999.000,9, -999.000,9, -999.000,9, -999.000,9,-999.0000,9,  -999.00,9,   -999.0,9,   -999.0,9,   2336.2,2,   1143.2,2,   2440.0,2,     7.59,2,   20.00,  -999.0,-999.0000,-999.000,   25.00,  -999.0,  1.1855,-999.000