BOTTLE,20220630CCHSIOAMB
EXPOCODE,SECT_ID,STNNBR,CASTNO,SAMPNO,BTLNBR,BTLNBR_FLAG_W,DATE,TIME,LATITUDE,LONGITUDE,DEPTH,CTDPRS,CTDTMP,CTDSAL,CTDSAL_FLAG_W,SALNTY,SALNTY_FLAG_W,CTDOXY,CTDOXY_FLAG_W,OXYGEN,OXYGEN_FLAG_W,SILCAT,SILCAT_FLAG_W,NITRAT,NITRAT_FLAG_W,NITRIT,NITRIT_FLAG_W,PHSPHT,PHSPHT_FLAG_W,CFC-11,CFC-11_FLAG_W,CFC-12,CFC-12_FLAG_W,CFC113,CFC113_FLAG_W,CCL4,CCL4_FLAG_W,TRITUM,TRITUM_FLAG_W,HELIUM,HELIUM_FLAG_W,DELHE3,DELHE3_FLAG_W,DELC14,DELC14_FLAG_W,DELC13,DELC13_FLAG_W,TCARBN,TCARBN_FLAG_W,PCO2,PCO2_FLAG_W,ALKALI,ALKALI_FLAG_W,PH,PH_FLAG_W,PCO2TMP,C14ERR,HELIER,DELHER,PH_TMP,C13ERR,THETA,TRITER
,,,,,,,,,,,,DBAR,ITS-90,PSS-78,,PSS-78,,UMOL/KG,,UMOL/KG,,UMOL/KG,,UMOL/KG,,UMOL/KG,,UMOL/KG,,PMOL/KG,,PMOL/KG,,PMOL/KG,,PMOL/KG,,TU,,NMOL/KG,,PERCNT,,/MILLE,,/MILLE,,UMOL/KG,,UATM,,UMOL/KG,,,,DEG C,/MILLE,NMOL/KG,PERCNT,DEG C,/MILLE,DEG C,TU
    31DSCG94_3,  P18N,   146,  1,    136,   1025,2,19940414,0106,  0.3350,-110.3333, 3850,     10.3,  24.6343,  35.0666,2,  35.0671,2,    252.0,2,    185.0,6,     5.44,2,     5.84,2,     0.25,2,     0.66,4,    1.770,2,    0.981,2, -999.000,5, -999.000,5, -999.000,9,-999.0000,9,  -999.00,9,   -999.0,9,   -999.0,9,   2044.8,2,    391.3,2,   2305.0,6,     7.97,2,   20.00,  -999.0,-999.0000,-999.000,   25.00,  -999.0, 24.6321,-999.000
    31DSCG94_3,  P18N,   146,  1,    135,   1247,2,19940414,0106,  0.3350,-110.3333, 3850,     24.8,  24.1985,  35.0558,2,  35.0592,2,    182.3,2,    180.1,6,     5.37,2,     6.00,2,     0.25,2,     0.66,4,    1.746,2,    0.963,2, -999.000,9, -999.000,9, -999.000,9,-999.0000,9,  -999.00,9,   -999.0,9,   -999.0,9,   -999.0,9,   -999.0,9,   -999.0,9,     7.97,2, -999.00,  -999.0,-999.0000,-999.000,   25.00,  -999.0, 24.1932,-999.000
    31DSCG94_3,  P18N,   146,  1,    134,   1216,2,19940414,0106,  0.3350,-110.3333, 3850,     49.3,  20.0403,  34.7602,2,  34.7698,2,     72.9,2,    134.4,6,     9.43,2,    11.59,2,     0.44,2,     1.04,4,    1.455,2,    0.815,2, -999.000,5, -999.000,5, -999.000,9,-999.0000,9,  -999.00,9,   -999.0,9,   -999.0,9,   2084.4,2,    526.0,2,   -999.0,5,     7.86,2,   20.00,  -999.0,-999.0000,-999.000,   25.00,  -999.0, 20.0312,-999.000
    31DSCG94_3,  P18N,   146,  1,    133,   1244,2,19940414,0106,  0.3350,-110.3333, 3850,     73.6,  14.6416,  34.7555,2,  34.7582,2,    108.9,2,    112.4,6,    18.28,2,    17.36,2,     0.10,2,     1.35,4,    1.220,2,    0.652,2, -999.000,5, -999.000,5, -999.000,9,-999.0000,9,  -999.00,9,   -999.0,9,   -999.0,9,   -999.0,9,   -999.0,9,   -999.0,9,     7.76,2, -999.00,  -999.0,-999.0000,-999.000,   25.00,  -999.0, 14.6307,-999.000
    31DSCG94_3,  P18N,   146,  1,    132,   1003,2,19940414,0106,  0.3350,-110.3333, 3850,     97.6,  13.9903,  34.8084,2,  34.8098,2,     98.5,2,    107.1,6,    19.13,2,    18.55,2,     0.03,2,     1.45,4, -999.000,9, -999.000,9, -999.000,9, -999.000,9, -999.000,9,-999.0000,9,  -999.00,9,   -999.0,9,   -999.0,9,   2148.7,2,    729.4,2,   2295.0,2,     7.74,2,   20.00,  -999.0,-999.0000,-999.000,   25.00,  -999.0, 13.9763,-999.000
    31DSCG94_3,  P18N,   146,  1,    131,   1211,2,19940414,0106,  0.3350,-110.3333, 3850,    123.6,  13.6875,  34.8951,2,  34.8946,2,    113.4,2,    113.1,2,    17.94,2,    18.34,2,     0.01,2,     1.43,4,    0.971,2,    0.528,2, -999.000,5, -999.000,5, -999.000,9,-999.0000,9,  -999.00,9,   -999.0,9,   -999.0,9,   -999.0,9,   -999.0,9,   -999.0,9,     7.75,2, -999.00,  -999.0,-999.0000,-999.000,   25.00,  -999.0, 13.6700,-999.000
    31DSCG94_3,  P18N,   146,  1,    130,   1241,2,19940414,0106,  0.3350,-110.3333, 3850,    151.9,  13.4132,  34.8853,2,  34.8846,2,    106.8,2,    103.5,6,    18.91,2,    20.02,2,     0.00,2,     1.52,4, -999.000,9, -999.000,9, -999.000,9, -999.000,9, -999.000,9,-999.0000,9,  -999.00,9,   -999.0,9,   -999.0,9,   2159.8,2,    763.4,2,   2296.0,2,     7.72,2,   20.00,  -999.0,-999.0000,-999.000,   25.00,  -999.0, 13.3919,-999.000
    31DSCG94_3,  P18N,   146,  1,    129,   1240,2,19940414,0106,  0.3350,-110.3333, 3850,    171.8,  13.2004,  34.8827,2,  34.8815,2,     97.5,2,     88.6,2,    19.84,2,    22.23,2,     0.00,2,     1.64,4,    0.794,2,    0.430,2, -999.000,5, -999.000,5, -999.000,9,-999.0000,9,  -999.00,9,   -999.0,9,   -999.0,9,   -999.0,9,   -999.0,9,   -999.0,9,     7.69,2, -999.00,  -999.0,-999.0000,-999.000,   25.00,  -999.0, 13.1766,-999.000
    31DSCG94_3,  P18N,   146,  1,    128,   1032,2,19940414,0106,  0.3350,-110.3333, 3850,    197.7,  12.9616,  34.8841,2,  34.8837,2,     78.8,2,     70.9,6,    21.10,2,    24.68,2,     0.00,2,     1.81,4, -999.000,9, -999.000,9, -999.000,9, -999.000,9, -999.000,9,-999.0000,9,  -999.00,9,   -999.0,9,   -999.0,9,   2189.4,2,    941.2,2,   2298.0,2,     7.64,2,   20.00,  -999.0,-999.0000,-999.000,   25.00,  -999.0, 12.9345,-999.000
    31DSCG94_3,  P18N,   146,  1,    127,   1008,2,19940414,0106,  0.3350,-110.3333, 3850,    249.0,  12.6206,  34.8834,2,  34.8820,2,     57.3,2,     36.1,2,    23.59,2,    29.13,2,     0.00,2,     2.11,4,    0.489,2,    0.260,2, -999.000,9, -999.000,9, -999.000,9,-999.0000,9,  -999.00,9,   -999.0,9,   -999.0,9,   2219.9,2,   1167.7,2,   2298.0,2,     7.56,2,   20.00,  -999.0,-999.0000,-999.000,   25.00,  -999.0, 12.5870,-999.000
    31DSCG94_3,  P18N,   146,  1,    126,   1007,2,19940414,0106,  0.3350,-110.3333, 3850,    299.7,  12.1254,  34.8553,2,  34.8542,2,     29.3,2,     19.0,6,    26.43,2,    32.11,2,     0.00,2,     2.30,4, -999.000,9, -999.000,9, -999.000,9, -999.000,9, -999.000,9,-999.0000,9,  -999.00,9,   -999.0,9,   -999.0,9,   2237.8,2,   1361.7,2,   2294.0,2,     7.50,2,   20.00,  -999.0,-999.0000,-999.000,   25.00,  -999.0, 12.0859,-999.000
    31DSCG94_3,  P18N,   146,  1,    125,   1256,2,19940414,0106,  0.3350,-110.3333, 3850,    350.5,  11.0326,  34.7960,2,  34.7959,2,     19.6,2,     22.4,2,    29.19,2,    32.85,2,     0.00,2,     2.36,4,    0.194,2,    0.107,2, -999.000,9, -999.000,9, -999.000,9,-999.0000,9,  -999.00,9,   -999.0,9,   -999.0,9,   -999.0,9,   -999.0,9,   -999.0,9,     7.48,2, -999.00,  -999.0,-999.0000,-999.000,   25.00,  -999.0, 10.9890,-999.000
    31DSCG94_3,  P18N,   146,  1,    123,   1220,2,19940414,0106,  0.3350,-110.3333, 3850,    400.1,   9.6897,  34.7078,2,  34.7129,2,     29.6,2,     34.7,2,    33.37,2,    34.51,2,     0.01,2,     2.42,4,    0.120,2,    0.064,2, -999.000,9, -999.000,9, -999.000,9,-999.0000,9,  -999.00,9,   -999.0,9,   -999.0,9,   2246.6,2,   1442.1,2,   2307.0,2,     7.47,2,   20.00,  -999.0,-999.0000,-999.000,   25.00,  -999.0,  9.6438,-999.000
    31DSCG94_3,  P18N,   146,  1,    122,   1245,2,19940414,0106,  0.3350,-110.3333, 3850,    498.5,   8.0518,  34.6263,2,  34.6250,2,     29.3,2,     32.2,2,    43.19,2,    39.40,2,     0.00,2,     2.71,4, -999.000,9, -999.000,9, -999.000,9, -999.000,9, -999.000,9,-999.0000,9,  -999.00,9,   -999.0,9,   -999.0,9,   2269.9,2,   1636.5,2,   2312.0,2,     7.43,2,   20.00,  -999.0,-999.0000,-999.000,   25.00,  -999.0,  8.0004,-999.000
    31DSCG94_3,  P18N,   146,  1,    121,   1206,2,19940414,0106,  0.3350,-110.3333, 3850,    599.5,   7.2025,  34.5929,2,  34.5923,2,     39.0,2,     40.2,2,    50.33,2,    40.41,2,     0.00,2,     2.78,4,    0.016,2,    0.006,2, -999.000,5, -999.000,5, -999.000,9,-999.0000,9,  -999.00,9,   -999.0,9,   -999.0,9,   2274.6,2,   1631.3,2,   2311.0,2,     7.43,2,   20.00,  -999.0,-999.0000,-999.000,   25.00,  -999.0,  7.1441,-999.000
    31DSCG94_3,  P18N,   146,  1,    120,   1028,2,19940414,0106,  0.3350,-110.3333, 3850,    696.8,   6.1874,  34.5602,2,  34.5595,2,     48.0,2,     56.2,2,    57.96,2,    40.81,2,     0.00,2,     2.83,4, -999.000,9, -999.000,9, -999.000,9, -999.000,9, -999.000,9,-999.0000,9,  -999.00,9,   -999.0,9,   -999.0,9,   2278.2,2,   1586.8,2,   2325.0,2,     7.45,2,   20.00,  -999.0,-999.0000,-999.000,   25.00,  -999.0,  6.1245,-999.000
    31DSCG94_3,  P18N,   146,  1,    119,   1248,2,19940414,0106,  0.3350,-110.3333, 3850,    796.9,   5.3363,  34.5500,2,  34.5496,2,     59.4,2,     67.7,2,    68.78,2,    40.82,2,     0.00,2,     2.83,4,    0.009,2,    0.001,2, -999.000,9, -999.000,9, -999.000,9,-999.0000,9,  -999.00,9,   -999.0,9,   -999.0,9,   2287.6,2,   1547.6,2,   2330.0,2,     7.46,2,   20.00,  -999.0,-999.0000,-999.000,   25.00,  -999.0,  5.2690,-999.000
    31DSCG94_3,  P18N,   146,  1,    118,   1115,2,19940414,0106,  0.3350,-110.3333, 3850,    901.2,   4.9830,  34.5498,2,  34.5507,2,     71.2,2,     73.8,2,    76.80,2,    39.99,2,     0.00,2,     2.84,4, -999.000,9, -999.000,9, -999.000,9, -999.000,9, -999.000,9,-999.0000,9,  -999.00,9,   -999.0,9,   -999.0,9,   2291.3,2,   1531.8,2,   2338.0,2,     7.46,2,   20.00,  -999.0,-999.0000,-999.000,   25.00,  -999.0,  4.9086,-999.000
    31DSCG94_3,  P18N,   146,  1,    117,   1119,2,19940414,0106,  0.3350,-110.3333, 3850,    999.8,   4.5916,  34.5539,2,  34.5543,2,     75.1,2,     78.9,2,    84.70,2,    41.31,2,     0.00,2,     2.86,2,    0.000,2,    0.001,2, -999.000,9, -999.000,9, -999.000,9,-999.0000,9,  -999.00,9,   -999.0,9,   -999.0,9,   2299.0,2,   1517.3,2,   2343.0,2,     7.47,2,   20.00,  -999.0,-999.0000,-999.000,   25.00,  -999.0,  4.5113,-999.000
    31DSCG94_3,  P18N,   146,  1,    116,   1036,2,19940414,0106,  0.3350,-110.3333, 3850,   1097.5,   4.2431,  34.5640,2,  34.5635,2,     77.1,2,     78.0,2,    93.13,2,    41.68,2,     0.00,2,     2.88,2, -999.000,9, -999.000,9, -999.000,9, -999.000,9, -999.000,9,-999.0000,9,  -999.00,9,   -999.0,9,   -999.0,9,   -999.0,9,   -999.0,9,   -999.0,9,     7.47,2, -999.00,  -999.0,-999.0000,-999.000,   25.00,  -999.0,  4.1571,-999.000
    31DSCG94_3,  P18N,   146,  1,    115,   1017,2,19940414,0106,  0.3350,-110.3333, 3850,   1199.9,   3.9456,  34.5706,2,-999.0000,9,     79.5,2,     79.6,2,   101.73,2,    42.61,2,     0.00,2,     2.96,2, -999.000,9, -999.000,9, -999.000,9, -999.000,9, -999.000,9,-999.0000,9,  -999.00,9,   -999.0,9,   -999.0,9,   -999.0,9,   -999.0,9,   -999.0,9,  -999.00,9, -999.00,  -999.0,-999.0000,-999.000, -999.00,  -999.0,  3.8533,-999.000
    31DSCG94_3,  P18N,   146,  1,    114,   1016,2,19940414,0106,  0.3350,-110.3333, 3850,   1290.1,   3.6233,  34.5830,2,-999.0000,9,     84.5,2,     78.4,2,   109.80,2,    42.78,2,     0.00,2,     2.96,2, -999.000,9, -999.000,9, -999.000,9, -999.000,9, -999.000,9,-999.0000,9,  -999.00,9,   -999.0,9,   -999.0,9,   -999.0,9,   -999.0,9,   -999.0,9,  -999.00,9, -999.00,  -999.0,-999.0000,-999.000, -999.00,  -999.0,  3.5265,-999.000
    31DSCG94_3,  P18N,   146,  1,    113,   1209,2,19940414,0106,  0.3350,-110.3333, 3850,   1398.8,   3.2965,  34.5942,2,-999.0000,9,     84.0,2,     83.2,2,   118.92,2,    43.06,2,     0.00,2,     2.96,2, -999.000,9, -999.000,9, -999.000,9, -999.000,9, -999.000,9,-999.0000,9,  -999.00,9,   -999.0,9,   -999.0,9,   -999.0,9,   -999.0,9,   -999.0,9,  -999.00,9, -999.00,  -999.0,-999.0000,-999.000, -999.00,  -999.0,  3.1938,-999.000
    31DSCG94_3,  P18N,   146,  1,    112,   1033,2,19940414,0106,  0.3350,-110.3333, 3850,   1599.9,   2.8649,  34.6106,2,  34.6099,2,     96.6,2,     92.0,2,   124.67,2,    41.13,2,     0.00,2,     2.84,2, -999.000,9, -999.000,9, -999.000,9, -999.000,9, -999.000,9,-999.0000,9,  -999.00,9,   -999.0,9,   -999.0,9,   -999.0,9,   -999.0,9,   -999.0,9,     7.49,2, -999.00,  -999.0,-999.0000,-999.000,   25.00,  -999.0,  2.7502,-999.000
    31DSCG94_3,  P18N,   146,  1,    111,   1240,2,19940414,0106,  0.3350,-110.3333, 3850,   1794.6,   2.5555,  34.6266,2,  34.6266,2,    104.7,2,     96.5,2,   133.63,2,    41.01,2,     0.00,2,     2.81,2, -999.000,9, -999.000,9, -999.000,9, -999.000,9, -999.000,9,-999.0000,9,  -999.00,9,   -999.0,9,   -999.0,9,   -999.0,9,   -999.0,9,   -999.0,9,  -999.00,9, -999.00,  -999.0,-999.0000,-999.000, -999.00,  -999.0,  2.4283,-999.000
    31DSCG94_3,  P18N,   146,  1,    110,   1005,2,19940414,0106,  0.3350,-110.3333, 3850,   2000.1,   2.2584,  34.6405,2,  34.6400,2,    112.5,2,    105.1,2,   140.13,2,    40.34,2,     0.00,2,     2.77,2, -999.000,9, -999.000,9, -999.000,9, -999.000,9, -999.000,9,-999.0000,9,  -999.00,9,   -999.0,9,   -999.0,9,   -999.0,9,   -999.0,9,   -999.0,9,     7.51,2, -999.00,  -999.0,-999.0000,-999.000,   25.00,  -999.0,  2.1179,-999.000
    31DSCG94_3,  P18N,   146,  1,    109,   1611,2,19940414,0106,  0.3350,-110.3333, 3850,   2247.6,   2.0783,  34.6510,2,  34.6506,2,    117.0,2,    110.5,2,   144.54,2,    39.87,2,     0.00,2,     2.72,2, -999.000,9, -999.000,9, -999.000,9, -999.000,9, -999.000,9,-999.0000,9,  -999.00,9,   -999.0,9,   -999.0,9,   -999.0,9,   -999.0,9,   -999.0,9,  -999.00,9, -999.00,  -999.0,-999.0000,-999.000, -999.00,  -999.0,  1.9192,-999.000
    31DSCG94_3,  P18N,   146,  1,    108,   1218,2,19940414,0106,  0.3350,-110.3333, 3850,   2498.7,   1.9113,  34.6599,2,  34.6604,2,    122.5,2,    118.6,2,   147.17,2,    39.77,2,     0.00,2,     2.67,2, -999.000,9, -999.000,9, -999.000,9, -999.000,9, -999.000,9,-999.0000,9,  -999.00,9,   -999.0,9,   -999.0,9,   -999.0,9,   -999.0,9,   -999.0,9,     7.54,2, -999.00,  -999.0,-999.0000,-999.000,   25.00,  -999.0,  1.7328,-999.000
    31DSCG94_3,  P18N,   146,  1,    107,   1257,2,19940414,0106,  0.3350,-110.3333, 3850,   2747.7,   1.7952,  34.6680,2,  34.6673,2,    126.3,2,    124.1,2,   149.17,2,    39.03,2,     0.00,2,     2.64,2, -999.000,9, -999.000,9, -999.000,9, -999.000,9, -999.000,9,-999.0000,9,  -999.00,9,   -999.0,9,   -999.0,9,   -999.0,9,   -999.0,9,   -999.0,9,  -999.00,9, -999.00,  -999.0,-999.0000,-999.000, -999.00,  -999.0,  1.5959,-999.000
    31DSCG94_3,  P18N,   146,  1,    106,   1224,2,19940414,0106,  0.3350,-110.3333, 3850,   2999.6,   1.6942,  34.6731,2,  34.6721,2,    133.9,2,    131.6,2,   148.71,2,    38.70,2,     0.00,2,     2.59,2, -999.000,9, -999.000,9, -999.000,9, -999.000,9, -999.000,9,-999.0000,9,  -999.00,9,   -999.0,9,   -999.0,9,   -999.0,9,   -999.0,9,   -999.0,9,     7.56,2, -999.00,  -999.0,-999.0000,-999.000,   25.00,  -999.0,  1.4731,-999.000
    31DSCG94_3,  P18N,   146,  1,    105,   1246,2,19940414,0106,  0.3350,-110.3333, 3850,   3248.7,   1.6137,  34.6774,2,  34.6767,2,    138.8,2,    138.4,2,   148.05,2,    38.30,2,     0.00,2,     2.56,2, -999.000,9, -999.000,9, -999.000,9, -999.000,9, -999.000,9,-999.0000,9,  -999.00,9,   -999.0,9,   -999.0,9,   -999.0,9,   -999.0,9,   -999.0,9,  -999.00,9, -999.00,  -999.0,-999.0000,-999.000, -999.00,  -999.0,  1.3701,-999.000
    31DSCG94_3,  P18N,   146,  1,    104,   1217,2,19940414,0106,  0.3350,-110.3333, 3850,   3499.3,   1.5412,  34.6841,2,  34.6834,2,    144.5,2,    142.3,2,   150.49,2,    38.03,2,     0.00,2,     2.51,2, -999.000,9, -999.000,9, -999.000,9, -999.000,9, -999.000,9,-999.0000,9,  -999.00,9,   -999.0,9,   -999.0,9,   -999.0,9,   -999.0,9,   -999.0,9,     7.59,2, -999.00,  -999.0,-999.0000,-999.000,   25.00,  -999.0,  1.2741,-999.000
    31DSCG94_3,  P18N,   146,  1,    103,   9999,2,19940414,0106,  0.3350,-110.3333, 3850,   3748.8,   1.4599,  34.6896,2,  34.6910,2,    152.7,2,    153.5,2,   149.11,2,    37.27,2,     0.00,2,     2.46,2, -999.000,9, -999.000,9, -999.000,9, -999.000,9, -999.000,9,-999.0000,9,  -999.00,9,   -999.0,9,   -999.0,9,   -999.0,9,   -999.0,9,   -999.0,9,  -999.00,9, -999.00,  -999.0,-999.0000,-999.000, -999.00,  -999.0,  1.1690,-999.000
    31DSCG94_3,  P18N,   146,  1,    102,   1223,2,19940414,0106,  0.3350,-110.3333, 3850,   3748.8,   1.4597,  34.6897,2,  34.6894,2,    152.7,2,    154.8,2,   148.60,2,    37.46,2,     0.00,2,     2.45,2, -999.000,9, -999.000,9, -999.000,9, -999.000,9, -999.000,9,-999.0000,9,  -999.00,9,   -999.0,9,   -999.0,9,   -999.0,9,   -999.0,9,   -999.0,9,     7.60,2, -999.00,  -999.0,-999.0000,-999.000,   25.00,  -999.0,  1.1687,-999.000
    31DSCG94_3,  P18N,   146,  1,    101,   1041,2,19940414,0106,  0.3350,-110.3333, 3850,   3887.3,   1.4709,  34.6899,2,  34.6899,2,    153.3,2,    155.2,2,   149.13,2,    37.43,2,     0.00,2,     2.46,2, -999.000,9, -999.000,9, -999.000,9, -999.000,9, -999.000,9,-999.0000,9,  -999.00,9,   -999.0,9,   -999.0,9,   -999.0,9,   -999.0,9,   -999.0,9,  -999.00,9, -999.00,  -999.0,-999.0000,-999.000, -999.00,  -999.0,  1.1649,-999.000