BOTTLE,20220630CCHSIOAMB
EXPOCODE,SECT_ID,STNNBR,CASTNO,SAMPNO,BTLNBR,BTLNBR_FLAG_W,DATE,TIME,LATITUDE,LONGITUDE,DEPTH,CTDPRS,CTDTMP,CTDSAL,CTDSAL_FLAG_W,SALNTY,SALNTY_FLAG_W,CTDOXY,CTDOXY_FLAG_W,OXYGEN,OXYGEN_FLAG_W,SILCAT,SILCAT_FLAG_W,NITRAT,NITRAT_FLAG_W,NITRIT,NITRIT_FLAG_W,PHSPHT,PHSPHT_FLAG_W,CFC-11,CFC-11_FLAG_W,CFC-12,CFC-12_FLAG_W,CFC113,CFC113_FLAG_W,CCL4,CCL4_FLAG_W,TRITUM,TRITUM_FLAG_W,HELIUM,HELIUM_FLAG_W,DELHE3,DELHE3_FLAG_W,DELC14,DELC14_FLAG_W,DELC13,DELC13_FLAG_W,TCARBN,TCARBN_FLAG_W,PCO2,PCO2_FLAG_W,ALKALI,ALKALI_FLAG_W,PH,PH_FLAG_W,PCO2TMP,C14ERR,HELIER,DELHER,PH_TMP,C13ERR,THETA,TRITER
,,,,,,,,,,,,DBAR,ITS-90,PSS-78,,PSS-78,,UMOL/KG,,UMOL/KG,,UMOL/KG,,UMOL/KG,,UMOL/KG,,UMOL/KG,,PMOL/KG,,PMOL/KG,,PMOL/KG,,PMOL/KG,,TU,,NMOL/KG,,PERCNT,,/MILLE,,/MILLE,,UMOL/KG,,UATM,,UMOL/KG,,,,DEG C,/MILLE,NMOL/KG,PERCNT,DEG C,/MILLE,DEG C,TU
    31DSCG94_2,  P18S,    26,  3,    324,    435,3,19940304,2009,-58.9967,-103.0200, 4681,      7.8,   5.6319,  34.0837,2,-999.0000,9,    283.5,2,   -999.0,9,  -999.00,9,  -999.00,9,  -999.00,9,  -999.00,9, -999.000,9, -999.000,9, -999.000,9, -999.000,9, -999.000,9,-999.0000,9,  -999.00,9,   -999.0,9,   -999.0,9,   -999.0,9,   -999.0,9,   -999.0,9,  -999.00,9, -999.00,  -999.0,-999.0000,-999.000, -999.00,  -999.0,  5.6313,-999.000
    31DSCG94_2,  P18S,    26,  3,    323,    421,3,19940304,2009,-58.9967,-103.0200, 4681,     24.4,   5.6340,  34.0830,2,  34.0842,2,    286.5,2,   -999.0,9,     4.81,2,    18.88,2,     0.22,2,     1.42,2, -999.000,9, -999.000,9, -999.000,9, -999.000,9, -999.000,9,-999.0000,9,  -999.00,9,   -999.0,9,   -999.0,9,   -999.0,9,   -999.0,9,   -999.0,9,  -999.00,9, -999.00,  -999.0,-999.0000,-999.000, -999.00,  -999.0,  5.6321,-999.000
    31DSCG94_2,  P18S,    26,  3,    322,    418,3,19940304,2009,-58.9967,-103.0200, 4681,     48.8,   5.6351,  34.0838,2,  34.0859,2,    286.6,2,   -999.0,9,     4.85,2,    18.85,2,     0.20,2,     1.37,2, -999.000,9, -999.000,9, -999.000,9, -999.000,9, -999.000,9,-999.0000,9,  -999.00,9,   -999.0,9,   -999.0,9,   -999.0,9,   -999.0,9,   -999.0,9,  -999.00,9, -999.00,  -999.0,-999.0000,-999.000, -999.00,  -999.0,  5.6312,-999.000
    31DSCG94_2,  P18S,    26,  3,    321,    413,3,19940304,2009,-58.9967,-103.0200, 4681,     97.6,   4.6630,  34.1219,2,  34.1270,2,    286.1,2,   -999.0,9,    10.08,2,    22.65,2,     0.00,2,     1.59,2, -999.000,9, -999.000,9, -999.000,9, -999.000,9, -999.000,9,-999.0000,9,  -999.00,9,   -999.0,9,   -999.0,9,   -999.0,9,   -999.0,9,   -999.0,9,  -999.00,9, -999.00,  -999.0,-999.0000,-999.000, -999.00,  -999.0,  4.6558,-999.000
    31DSCG94_2,  P18S,    26,  3,    320,    405,3,19940304,2009,-58.9967,-103.0200, 4681,    151.9,   4.4167,  34.1471,2,  34.1486,2,    285.1,2,   -999.0,9,    11.01,2,    22.79,2,     0.00,2,     1.61,2, -999.000,9, -999.000,9, -999.000,9, -999.000,9, -999.000,9,-999.0000,9,  -999.00,9,   -999.0,9,   -999.0,9,   -999.0,9,   -999.0,9,   -999.0,9,  -999.00,9, -999.00,  -999.0,-999.0000,-999.000, -999.00,  -999.0,  4.4058,-999.000
    31DSCG94_2,  P18S,    26,  3,    319,    417,3,19940304,2009,-58.9967,-103.0200, 4681,    199.5,   4.2348,  34.1388,2,  34.1402,2,    283.6,2,   -999.0,9,    11.55,2,    23.41,2,     0.00,2,     1.63,2, -999.000,9, -999.000,9, -999.000,9, -999.000,9, -999.000,9,-999.0000,9,  -999.00,9,   -999.0,9,   -999.0,9,   -999.0,9,   -999.0,9,   -999.0,9,  -999.00,9, -999.00,  -999.0,-999.0000,-999.000, -999.00,  -999.0,  4.2207,-999.000
    31DSCG94_2,  P18S,    26,  3,    318,    429,3,19940304,2009,-58.9967,-103.0200, 4681,    298.2,   4.0283,  34.1428,2,  34.1444,2,    282.5,2,   -999.0,9,    12.33,2,    23.60,2,     0.00,2,     1.66,2, -999.000,9, -999.000,9, -999.000,9, -999.000,9, -999.000,9,-999.0000,9,  -999.00,9,   -999.0,9,   -999.0,9,   -999.0,9,   -999.0,9,   -999.0,9,  -999.00,9, -999.00,  -999.0,-999.0000,-999.000, -999.00,  -999.0,  4.0075,-999.000
    31DSCG94_2,  P18S,    26,  3,    317,    427,3,19940304,2009,-58.9967,-103.0200, 4681,    402.7,   3.5623,  34.1208,2,  34.1219,2,    270.3,2,   -999.0,9,    17.40,2,    26.30,2,     0.00,2,     1.96,3, -999.000,9, -999.000,9, -999.000,9, -999.000,9, -999.000,9,-999.0000,9,  -999.00,9,   -999.0,9,   -999.0,9,   -999.0,9,   -999.0,9,   -999.0,9,  -999.00,9, -999.00,  -999.0,-999.0000,-999.000, -999.00,  -999.0,  3.5354,-999.000
    31DSCG94_2,  P18S,    26,  3,    316,    410,3,19940304,2009,-58.9967,-103.0200, 4681,    501.8,   3.1932,  34.1228,2,  34.1200,2,    263.3,2,   -999.0,9,    18.69,2,    26.54,2,     0.00,2,     1.82,2, -999.000,9, -999.000,9, -999.000,9, -999.000,9, -999.000,9,-999.0000,9,  -999.00,9,   -999.0,9,   -999.0,9,   -999.0,9,   -999.0,9,   -999.0,9,  -999.00,9, -999.00,  -999.0,-999.0000,-999.000, -999.00,  -999.0,  3.1607,-999.000
    31DSCG94_2,  P18S,    26,  3,    315,    422,3,19940304,2009,-58.9967,-103.0200, 4681,    587.7,   3.3020,  34.2048,2,  34.2010,2,    244.4,2,   -999.0,9,    28.94,2,    29.24,2,     0.00,2,     2.04,2, -999.000,9, -999.000,9, -999.000,9, -999.000,9, -999.000,9,-999.0000,9,  -999.00,9,   -999.0,9,   -999.0,9,   -999.0,9,   -999.0,9,   -999.0,9,  -999.00,9, -999.00,  -999.0,-999.0000,-999.000, -999.00,  -999.0,  3.2629,-999.000
    31DSCG94_2,  P18S,    26,  3,    314,    407,3,19940304,2009,-58.9967,-103.0200, 4681,    803.6,   3.0836,  34.3465,2,  34.3446,2,    196.3,2,   -999.0,9,    47.06,2,    32.56,2,     0.00,2,     2.26,2, -999.000,9, -999.000,9, -999.000,9, -999.000,9, -999.000,9,-999.0000,9,  -999.00,9,   -999.0,9,   -999.0,9,   -999.0,9,   -999.0,9,   -999.0,9,  -999.00,9, -999.00,  -999.0,-999.0000,-999.000, -999.00,  -999.0,  3.0299,-999.000
    31DSCG94_2,  P18S,    26,  3,    313,    419,3,19940304,2009,-58.9967,-103.0200, 4681,   1006.9,   2.6953,  34.4490,2,  34.4498,2,    176.0,2,   -999.0,9,    61.49,2,    33.83,2,     0.00,2,     2.36,2, -999.000,9, -999.000,9, -999.000,9, -999.000,9, -999.000,9,-999.0000,9,  -999.00,9,   -999.0,9,   -999.0,9,   -999.0,9,   -999.0,9,   -999.0,9,  -999.00,9, -999.00,  -999.0,-999.0000,-999.000, -999.00,  -999.0,  2.6293,-999.000
    31DSCG94_2,  P18S,    26,  3,    312,    426,3,19940304,2009,-58.9967,-103.0200, 4681,   1202.5,   2.4677,  34.5461,2,  34.5142,4,    167.4,2,   -999.0,9,    69.67,2,    33.87,2,     0.00,2,     2.37,2, -999.000,9, -999.000,9, -999.000,9, -999.000,9, -999.000,9,-999.0000,9,  -999.00,9,   -999.0,9,   -999.0,9,   -999.0,9,   -999.0,9,   -999.0,9,  -999.00,9, -999.00,  -999.0,-999.0000,-999.000, -999.00,  -999.0,  2.3890,-999.000
    31DSCG94_2,  P18S,    26,  3,    311,    424,3,19940304,2009,-58.9967,-103.0200, 4681,   1406.5,   2.3315,  34.6149,2,  34.6145,2,    165.2,2,   -999.0,9,    79.47,2,    33.56,2,     0.00,2,     2.30,2, -999.000,9, -999.000,9, -999.000,9, -999.000,9, -999.000,9,-999.0000,9,  -999.00,9,   -999.0,9,   -999.0,9,   -999.0,9,   -999.0,9,   -999.0,9,  -999.00,9, -999.00,  -999.0,-999.0000,-999.000, -999.00,  -999.0,  2.2386,-999.000
    31DSCG94_2,  P18S,    26,  3,    310,    409,3,19940304,2009,-58.9967,-103.0200, 4681,   1598.4,   2.2202,  34.6621,2,  34.6624,2,    166.8,2,   -999.0,9,    84.13,2,    32.75,2,     0.00,2,     2.24,2, -999.000,9, -999.000,9, -999.000,9, -999.000,9, -999.000,9,-999.0000,9,  -999.00,9,   -999.0,9,   -999.0,9,   -999.0,9,   -999.0,9,   -999.0,9,  -999.00,9, -999.00,  -999.0,-999.0000,-999.000, -999.00,  -999.0,  2.1134,-999.000
    31DSCG94_2,  P18S,    26,  3,    309,    423,3,19940304,2009,-58.9967,-103.0200, 4681,   1796.1,   2.0893,  34.6951,2,  34.6950,2,    170.9,2,   -999.0,9,    86.88,2,    32.07,2,     0.00,2,     2.21,2, -999.000,9, -999.000,9, -999.000,9, -999.000,9, -999.000,9,-999.0000,9,  -999.00,9,   -999.0,9,   -999.0,9,   -999.0,9,   -999.0,9,   -999.0,9,  -999.00,9, -999.00,  -999.0,-999.0000,-999.000, -999.00,  -999.0,  1.9682,-999.000
    31DSCG94_2,  P18S,    26,  3,    308,    414,3,19940304,2009,-58.9967,-103.0200, 4681,   2166.8,   1.8328,  34.7266,2,  34.7265,2,    175.6,2,   -999.0,9,    92.49,2,    32.82,2,     0.00,2,     2.17,2, -999.000,9, -999.000,9, -999.000,9, -999.000,9, -999.000,9,-999.0000,9,  -999.00,9,   -999.0,9,   -999.0,9,   -999.0,9,   -999.0,9,   -999.0,9,  -999.00,9, -999.00,  -999.0,-999.0000,-999.000, -999.00,  -999.0,  1.6845,-999.000
    31DSCG94_2,  P18S,    26,  3,    307,    437,3,19940304,2009,-58.9967,-103.0200, 4681,   2598.4,   1.4952,  34.7270,2,  34.7276,2,    179.3,2,   -999.0,9,   102.53,2,    31.49,2,     0.00,2,     2.18,2, -999.000,9, -999.000,9, -999.000,9, -999.000,9, -999.000,9,-999.0000,9,  -999.00,9,   -999.0,9,   -999.0,9,   -999.0,9,   -999.0,9,   -999.0,9,  -999.00,9, -999.00,  -999.0,-999.0000,-999.000, -999.00,  -999.0,  1.3153,-999.000
    31DSCG94_2,  P18S,    26,  3,    306,    416,3,19940304,2009,-58.9967,-103.0200, 4681,   2999.8,   1.2457,  34.7217,2,  34.7212,2,    184.9,2,   -999.0,9,   110.54,2,    31.58,2,     0.00,2,     2.20,2, -999.000,9, -999.000,9, -999.000,9, -999.000,9, -999.000,9,-999.0000,9,  -999.00,9,   -999.0,9,   -999.0,9,   -999.0,9,   -999.0,9,   -999.0,9,  -999.00,9, -999.00,  -999.0,-999.0000,-999.000, -999.00,  -999.0,  1.0343,-999.000
    31DSCG94_2,  P18S,    26,  3,    305,    420,3,19940304,2009,-58.9967,-103.0200, 4681,   3396.8,   1.0129,  34.7142,2,  34.7221,3,    189.5,2,   -999.0,9,   119.40,2,    31.63,2,     0.00,2,     2.22,2, -999.000,9, -999.000,9, -999.000,9, -999.000,9, -999.000,9,-999.0000,9,  -999.00,9,   -999.0,9,   -999.0,9,   -999.0,9,   -999.0,9,   -999.0,9,  -999.00,9, -999.00,  -999.0,-999.0000,-999.000, -999.00,  -999.0,  0.7689,-999.000
    31DSCG94_2,  P18S,    26,  3,    304,    436,3,19940304,2009,-58.9967,-103.0200, 4681,   3796.9,   0.7822,  34.7087,2,  34.7071,2,    193.4,2,   -999.0,9,   127.32,2,    31.96,2,     0.00,2,     2.19,2, -999.000,9, -999.000,9, -999.000,9, -999.000,9, -999.000,9,-999.0000,9,  -999.00,9,   -999.0,9,   -999.0,9,   -999.0,9,   -999.0,9,   -999.0,9,  -999.00,9, -999.00,  -999.0,-999.0000,-999.000, -999.00,  -999.0,  0.5044,-999.000
    31DSCG94_2,  P18S,    26,  3,    303,    425,3,19940304,2009,-58.9967,-103.0200, 4681,   4206.8,   0.5567,  34.7047,2,  34.7036,2,    198.4,2,   -999.0,9,   132.68,2,    32.34,2,     0.00,2,     2.23,2, -999.000,9, -999.000,9, -999.000,9, -999.000,9, -999.000,9,-999.0000,9,  -999.00,9,   -999.0,9,   -999.0,9,   -999.0,9,   -999.0,9,   -999.0,9,  -999.00,9, -999.00,  -999.0,-999.0000,-999.000, -999.00,  -999.0,  0.2427,-999.000
    31DSCG94_2,  P18S,    26,  3,    302,    433,3,19940304,2009,-58.9967,-103.0200, 4681,   4495.2,   0.4863,  34.7039,2,  34.7029,2,    200.7,2,   -999.0,9,   133.17,2,    32.42,2,     0.00,2,     2.25,2, -999.000,9, -999.000,9, -999.000,9, -999.000,9, -999.000,9,-999.0000,9,  -999.00,9,   -999.0,9,   -999.0,9,   -999.0,9,   -999.0,9,   -999.0,9,  -999.00,9, -999.00,  -999.0,-999.0000,-999.000, -999.00,  -999.0,  0.1434,-999.000
    31DSCG94_2,  P18S,    26,  3,    301,    403,3,19940304,2009,-58.9967,-103.0200, 4681,   4684.1,   0.4741,  34.7032,2,  34.7024,2,    201.8,2,   -999.0,9,   133.92,2,    32.16,2,     0.00,2,     2.25,2, -999.000,9, -999.000,9, -999.000,9, -999.000,9, -999.000,9,-999.0000,9,  -999.00,9,   -999.0,9,   -999.0,9,   -999.0,9,   -999.0,9,   -999.0,9,  -999.00,9, -999.00,  -999.0,-999.0000,-999.000, -999.00,  -999.0,  0.1106,-999.000