BOTTLE,20220630CCHSIOAMB
EXPOCODE,SECT_ID,STNNBR,CASTNO,SAMPNO,BTLNBR,BTLNBR_FLAG_W,DATE,TIME,LATITUDE,LONGITUDE,DEPTH,CTDPRS,CTDTMP,CTDSAL,CTDSAL_FLAG_W,SALNTY,SALNTY_FLAG_W,CTDOXY,CTDOXY_FLAG_W,OXYGEN,OXYGEN_FLAG_W,SILCAT,SILCAT_FLAG_W,NITRAT,NITRAT_FLAG_W,NITRIT,NITRIT_FLAG_W,PHSPHT,PHSPHT_FLAG_W,CFC-11,CFC-11_FLAG_W,CFC-12,CFC-12_FLAG_W,CFC113,CFC113_FLAG_W,CCL4,CCL4_FLAG_W,TRITUM,TRITUM_FLAG_W,HELIUM,HELIUM_FLAG_W,DELHE3,DELHE3_FLAG_W,DELC14,DELC14_FLAG_W,DELC13,DELC13_FLAG_W,TCARBN,TCARBN_FLAG_W,PCO2,PCO2_FLAG_W,ALKALI,ALKALI_FLAG_W,PH,PH_FLAG_W,PCO2TMP,C14ERR,HELIER,DELHER,PH_TMP,C13ERR,THETA,TRITER
,,,,,,,,,,,,DBAR,ITS-90,PSS-78,,PSS-78,,UMOL/KG,,UMOL/KG,,UMOL/KG,,UMOL/KG,,UMOL/KG,,UMOL/KG,,PMOL/KG,,PMOL/KG,,PMOL/KG,,PMOL/KG,,TU,,NMOL/KG,,PERCNT,,/MILLE,,/MILLE,,UMOL/KG,,UATM,,UMOL/KG,,,,DEG C,/MILLE,NMOL/KG,PERCNT,DEG C,/MILLE,DEG C,TU
    31DSCG94_3,  P18N,   107,  1,    136,   1025,2,19940403,0939,-16.0000,-103.0000, 3772,     10.1,  24.3433,  36.3313,2,  36.3311,2,    214.5,2,    209.1,2,     1.49,2,     0.06,2,     0.00,2,     0.29,2,    1.961,2,    1.081,2, -999.000,5, -999.000,5, -999.000,9,-999.0000,9,  -999.00,9,   -999.0,9,      1.8,2,   2064.4,2,    315.0,2,   2396.0,6,     8.07,2,   20.00,  -999.0,-999.0000,-999.000,   25.00,  -999.0, 24.3411,-999.000
    31DSCG94_3,  P18N,   107,  1,    135,   1247,2,19940403,0939,-16.0000,-103.0000, 3772,     10.4,  24.3383,  36.3302,2,  36.3299,2,    214.5,2,    209.1,2,     1.51,2,     0.03,2,     0.00,2,     0.27,2,    1.972,2,    1.089,2, -999.000,5, -999.000,5,    0.597,2,   1.7652,2,    -0.79,2,   -999.0,9,   -999.0,9,   -999.0,9,   -999.0,9,   -999.0,9,     8.07,2, -999.00,  -999.0,-999.0000,-999.000,   25.00,  -999.0, 24.3360,   0.007
    31DSCG94_3,  P18N,   107,  1,    134,   1216,2,19940403,0939,-16.0000,-103.0000, 3772,     25.2,  24.1959,  36.3023,2,  36.3013,2,    210.4,2,    209.8,2,     1.47,2,     0.00,2,     0.00,2,     0.26,2,    1.983,2,    1.098,2, -999.000,9, -999.000,9, -999.000,9,-999.0000,9,  -999.00,9,   -999.0,9,   -999.0,9,   -999.0,9,   -999.0,9,   -999.0,9,     8.07,2, -999.00,  -999.0,-999.0000,-999.000,   25.00,  -999.0, 24.1905,-999.000
    31DSCG94_3,  P18N,   107,  1,    133,   1244,2,19940403,0939,-16.0000,-103.0000, 3772,     49.7,  24.0703,  36.2859,2,  36.2882,2,    212.7,2,    210.4,2,     1.39,2,     0.00,2,     0.00,2,     0.28,2,    2.009,2,    1.102,2, -999.000,9, -999.000,9,    0.618,2,   1.7398,2,    -1.07,2,   -999.0,9,   -999.0,9,   -999.0,9,   -999.0,9,   -999.0,9,     8.07,2, -999.00,  -999.0,-999.0000,-999.000,   25.00,  -999.0, 24.0598,   0.007
    31DSCG94_3,  P18N,   107,  1,    132,   1003,2,19940403,0939,-16.0000,-103.0000, 3772,     74.7,  23.3665,  36.2547,2,  36.2546,2,    219.3,2,    216.0,2,     1.38,2,     0.01,2,     0.00,2,     0.28,2,    2.055,2,    1.156,2, -999.000,5, -999.000,5, -999.000,9,-999.0000,9,  -999.00,9,   -999.0,9,   -999.0,9,   -999.0,9,   -999.0,9,   -999.0,9,     8.07,2, -999.00,  -999.0,-999.0000,-999.000,   25.00,  -999.0, 23.3510,-999.000
    31DSCG94_3,  P18N,   107,  1,    131,   1211,2,19940403,0939,-16.0000,-103.0000, 3772,    104.0,  22.0576,  36.1692,2,  36.1645,2,    217.0,2,    212.1,2,     1.48,2,     0.15,2,     0.00,2,     0.27,2,    2.155,6,    1.171,6, -999.000,5, -999.000,5,    0.578,2,   1.7782,2,    -1.50,2,   -999.0,9,   -999.0,9,   -999.0,9,   -999.0,9,   -999.0,9,     8.05,2, -999.00,  -999.0,-999.0000,-999.000,   25.00,  -999.0, 22.0369,   0.007
    31DSCG94_3,  P18N,   107,  1,    130,   1241,2,19940403,0939,-16.0000,-103.0000, 3772,    125.4,  21.6161,  36.1052,2,  36.1058,2,    208.4,2,   -999.0,9,     1.27,2,     0.06,2,     0.00,2,     0.31,2,    2.173,2,    1.191,2, -999.000,5, -999.000,5, -999.000,9,-999.0000,9,  -999.00,9,   -999.0,9,   -999.0,9,   -999.0,9,   -999.0,9,   -999.0,9,     8.04,2, -999.00,  -999.0,-999.0000,-999.000,   25.00,  -999.0, 21.5915,-999.000
    31DSCG94_3,  P18N,   107,  1,    129,   1240,2,19940403,0939,-16.0000,-103.0000, 3772,    149.4,  20.9021,  35.9473,2,  35.9478,2,    191.0,2,    203.6,6,     1.39,2,     0.97,2,     0.45,2,     0.39,2,    2.215,2,    1.217,2, -999.000,9, -999.000,9, -999.000,9,-999.0000,9,  -999.00,9,   -999.0,9,   -999.0,9,   -999.0,9,   -999.0,9,   -999.0,9,  -999.00,9, -999.00,  -999.0,-999.0000,-999.000, -999.00,  -999.0, 20.8735,-999.000
    31DSCG94_3,  P18N,   107,  1,    128,   1032,2,19940403,0939,-16.0000,-103.0000, 3772,    199.8,  18.2907,  35.4251,2,  35.3740,4,    198.6,2,    185.3,2,     2.26,2,     5.71,2,     0.00,2,     0.71,2,    2.334,6,    1.248,6, -999.000,5, -999.000,5,    0.492,2,   1.7880,2,    -0.92,2,   -999.0,9,   -999.0,9,   -999.0,9,   -999.0,9,   -999.0,9,  -999.00,9, -999.00,  -999.0,-999.0000,-999.000, -999.00,  -999.0, 18.2559,   0.006
    31DSCG94_3,  P18N,   107,  1,    127,   1008,2,19940403,0939,-16.0000,-103.0000, 3772,    249.3,  14.4015,  34.8316,2,  34.8294,4,    143.9,2,     86.4,2,     3.87,2,     9.37,2,     0.00,2,     0.96,2,    2.054,2,    1.075,2, -999.000,5, -999.000,5,    0.436,2,   1.8138,2,     0.27,2,   -999.0,9,   -999.0,9,   -999.0,9,   -999.0,9,   -999.0,9,  -999.00,9, -999.00,  -999.0,-999.0000,-999.000, -999.00,  -999.0, 14.3648,   0.006
    31DSCG94_3,  P18N,   107,  1,    126,   1007,2,19940403,0939,-16.0000,-103.0000, 3772,    300.0,  11.0452,  34.5702,2,  34.5688,4,     71.0,2,     42.7,2,    14.45,2,    21.94,2,     0.00,2,     2.00,2,    0.813,2,    0.432,2, -999.000,5, -999.000,5,    0.231,2,   1.8741,2,     2.16,2,   -999.0,9,   -999.0,9,   -999.0,9,   -999.0,9,   -999.0,9,  -999.00,9, -999.00,  -999.0,-999.0000,-999.000, -999.00,  -999.0, 11.0082,   0.005
    31DSCG94_3,  P18N,   107,  1,    125,   1203,2,19940403,0939,-16.0000,-103.0000, 3772,    351.4,   9.5163,  34.5608,2,  34.5596,3,     51.4,2,     41.9,2,    23.11,2,    31.49,2,     0.00,2,     2.55,2,    0.211,2,    0.114,2, -999.000,9, -999.000,9,    0.078,2,   1.8353,2,     2.37,2,   -999.0,9,   -999.0,9,   -999.0,9,   -999.0,9,   -999.0,9,  -999.00,9, -999.00,  -999.0,-999.0000,-999.000, -999.00,  -999.0,  9.4767,   0.004
    31DSCG94_3,  P18N,   107,  1,    123,   1220,2,19940403,0939,-16.0000,-103.0000, 3772,    402.0,   8.3437,  34.5425,2,  34.5413,3,     43.9,2,     46.0,2,    26.49,2,    35.61,2,     0.00,2,     2.61,2,    0.071,6,    0.043,6, -999.000,5, -999.000,5,    0.019,2,   1.8192,2,     2.88,2,   -999.0,9,   -999.0,9,   -999.0,9,   -999.0,9,   -999.0,9,  -999.00,9, -999.00,  -999.0,-999.0000,-999.000, -999.00,  -999.0,  8.3017,   0.003
    31DSCG94_3,  P18N,   107,  1,    122,   1245,2,19940403,0939,-16.0000,-103.0000, 3772,    499.5,   7.0383,  34.4935,2,  34.4926,4,     78.1,2,     75.4,2,    30.34,2,    37.28,2,     0.00,2,     2.56,2,    0.023,2,    0.015,2, -999.000,5, -999.000,5,    0.008,2,   1.8072,2,     4.45,2,   -999.0,9,   -999.0,9,   -999.0,9,   -999.0,9,   -999.0,9,  -999.00,9, -999.00,  -999.0,-999.0000,-999.000, -999.00,  -999.0,  6.9907,   0.003
    31DSCG94_3,  P18N,   107,  1,    121,   1206,2,19940403,0939,-16.0000,-103.0000, 3772,    606.9,   6.2286,  34.5040,2,  34.5037,4,     67.0,2,     65.3,2,    41.51,2,    40.58,2,     0.00,2,     2.75,2,    0.013,6,    0.002,6, -999.000,5, -999.000,5,    0.003,2,   1.8241,2,     7.48,2,   -999.0,9,   -999.0,9,   -999.0,9,   -999.0,9,   -999.0,9,  -999.00,9, -999.00,  -999.0,-999.0000,-999.000, -999.00,  -999.0,  6.1741,   0.003
    31DSCG94_3,  P18N,   107,  1,    120,   1028,2,19940403,0939,-16.0000,-103.0000, 3772,    700.3,   5.7105,  34.5012,2,  34.5015,3,     54.8,2,     51.8,2,    51.03,2,    42.68,2,     0.00,2,     2.97,2,    0.004,2,    0.001,2, -999.000,9, -999.000,9,    0.006,2,   1.8232,2,     9.34,2,   -999.0,9,   -999.0,9,   -999.0,9,   -999.0,9,   -999.0,9,  -999.00,9, -999.00,  -999.0,-999.0000,-999.000, -999.00,  -999.0,  5.6499,   0.003
    31DSCG94_3,  P18N,   107,  1,    119,   1248,2,19940403,0939,-16.0000,-103.0000, 3772,    800.8,   5.1204,  34.5050,2,  34.5049,3,     53.8,2,     53.1,2,    59.83,2,    44.12,2,     0.00,2,     2.96,2,    0.006,2,    0.003,2, -999.000,5, -999.000,5,    0.010,2,-999.0000,9,  -999.00,9,   -999.0,9,   -999.0,9,   -999.0,9,   -999.0,9,   -999.0,9,  -999.00,9, -999.00,  -999.0,-999.0000,-999.000, -999.00,  -999.0,  5.0541,   0.004
    31DSCG94_3,  P18N,   107,  1,    118,   1115,2,19940403,0939,-16.0000,-103.0000, 3772,    900.5,   4.6667,  34.5157,2,  34.5167,4,     59.1,2,     58.6,6,    68.42,2,    43.57,2,     0.01,2,     2.98,2,    0.001,2,    0.001,2, -999.000,9, -999.000,9, -999.000,9,-999.0000,9,  -999.00,9,   -999.0,9,   -999.0,9,   -999.0,9,   -999.0,9,   -999.0,9,  -999.00,9, -999.00,  -999.0,-999.0000,-999.000, -999.00,  -999.0,  4.5946,-999.000
    31DSCG94_3,  P18N,   107,  1,    117,   1119,2,19940403,0939,-16.0000,-103.0000, 3772,    999.5,   4.1350,  34.5320,2,  34.5309,4,     65.0,2,     68.8,2,    78.99,2,    42.31,2,     0.03,2,     2.96,2,   -0.002,2,   -0.002,2, -999.000,5, -999.000,5,    0.008,2,   1.8558,2,    16.80,2,   -999.0,9,   -999.0,9,   -999.0,9,   -999.0,9,   -999.0,9,  -999.00,9, -999.00,  -999.0,-999.0000,-999.000, -999.00,  -999.0,  4.0583,   0.003
    31DSCG94_3,  P18N,   107,  1,    116,   1036,2,19940403,0939,-16.0000,-103.0000, 3772,   1099.9,   3.8378,  34.5443,2,  34.5450,4,     72.9,2,     76.3,2,    87.70,2,    41.66,2,     0.01,2,     2.91,2, -999.000,9, -999.000,9, -999.000,9, -999.000,9,    0.014,2,   1.8669,2,    18.82,2,   -999.0,9,   -999.0,9,   -999.0,9,   -999.0,9,   -999.0,9,  -999.00,9, -999.00,  -999.0,-999.0000,-999.000, -999.00,  -999.0,  3.7550,   0.003
    31DSCG94_3,  P18N,   107,  1,    115,   1017,2,19940403,0939,-16.0000,-103.0000, 3772,   1202.7,   3.5226,  34.5597,2,  34.5598,4,     79.8,2,     81.1,2,    94.70,2,    41.06,2,     0.00,2,     2.88,2,    0.010,2,    0.003,2, -999.000,9, -999.000,9, -999.000,9,-999.0000,9,  -999.00,9,   -999.0,9,   -999.0,9,   -999.0,9,   -999.0,9,   -999.0,9,  -999.00,9, -999.00,  -999.0,-999.0000,-999.000, -999.00,  -999.0,  3.4340,-999.000
    31DSCG94_3,  P18N,   107,  1,    114,   1016,2,19940403,0939,-16.0000,-103.0000, 3772,   1302.8,   3.3128,  34.5697,2,-999.0000,3,     85.7,2,     86.4,2,    97.37,2,    41.02,2,     0.00,2,     2.86,2, -999.000,9, -999.000,9, -999.000,9, -999.000,9, -999.000,9,-999.0000,9,  -999.00,9,   -999.0,9,   -999.0,9,   -999.0,9,   -999.0,9,   -999.0,9,  -999.00,9, -999.00,  -999.0,-999.0000,-999.000, -999.00,  -999.0,  3.2180,-999.000
    31DSCG94_3,  P18N,   107,  1,    113,   1209,2,19940403,0939,-16.0000,-103.0000, 3772,   1403.1,   3.1016,  34.5829,2,  34.5833,2,     89.0,2,     89.7,2,   103.72,2,    40.47,2,     0.00,2,     2.84,2, -999.000,9, -999.000,9, -999.000,9, -999.000,9,    0.007,2,   1.8883,2,    23.03,2,   -999.0,9,   -999.0,9,   -999.0,9,   -999.0,9,   -999.0,9,  -999.00,9, -999.00,  -999.0,-999.0000,-999.000, -999.00,  -999.0,  3.0006,   0.005
    31DSCG94_3,  P18N,   107,  1,    112,   1033,2,19940403,0939,-16.0000,-103.0000, 3772,   1497.8,   2.9123,  34.5940,2,  34.5938,2,     94.4,2,     95.4,2,   109.63,2,    40.17,2,     0.00,2,     2.82,2, -999.000,9, -999.000,9, -999.000,9, -999.000,9, -999.000,9,-999.0000,9,  -999.00,9,   -999.0,9,   -999.0,9,   -999.0,9,   -999.0,9,   -999.0,9,  -999.00,9, -999.00,  -999.0,-999.0000,-999.000, -999.00,  -999.0,  2.8056,-999.000
    31DSCG94_3,  P18N,   107,  1,    111,   1240,2,19940403,0939,-16.0000,-103.0000, 3772,   1598.4,   2.6900,  34.6070,2,  34.6084,2,     99.9,2,    102.1,2,   115.53,2,    39.44,2,     0.00,2,     2.77,2, -999.000,9, -999.000,9, -999.000,9, -999.000,9,    0.006,2,   1.8959,2,    25.46,2,   -999.0,9,   -999.0,9,   -999.0,9,   -999.0,9,   -999.0,9,  -999.00,9, -999.00,  -999.0,-999.0000,-999.000, -999.00,  -999.0,  2.5775,   0.003
    31DSCG94_3,  P18N,   107,  1,    110,   1005,2,19940403,0939,-16.0000,-103.0000, 3772,   1800.5,   2.4139,  34.6242,2,  34.6250,2,    113.2,2,    114.3,2,   121.12,2,    38.63,2,     0.00,2,     2.67,2, -999.000,9, -999.000,9, -999.000,9, -999.000,9, -999.000,9,-999.0000,9,  -999.00,9,   -999.0,9,   -999.0,9,   -999.0,9,   -999.0,9,   -999.0,9,  -999.00,9, -999.00,  -999.0,-999.0000,-999.000, -999.00,  -999.0,  2.2882,-999.000
    31DSCG94_3,  P18N,   107,  1,    109,   1611,2,19940403,0939,-16.0000,-103.0000, 3772,   2000.2,   2.1257,  34.6428,2,  34.6417,2,    126.5,2,    131.8,2,   122.81,2,    37.44,2,     0.00,2,     2.55,2, -999.000,9, -999.000,9, -999.000,9, -999.000,9, -999.000,9,-999.0000,9,  -999.00,9,   -999.0,9,   -999.0,9,   -999.0,9,   -999.0,9,   -999.0,9,  -999.00,9, -999.00,  -999.0,-999.0000,-999.000, -999.00,  -999.0,  1.9873,-999.000
    31DSCG94_3,  P18N,   107,  1,    108,   1218,2,19940403,0939,-16.0000,-103.0000, 3772,   2249.6,   1.9324,  34.6584,2,  34.6593,2,    144.7,2,    144.6,2,   124.76,2,    35.94,2,     0.00,2,     2.47,2, -999.000,9, -999.000,9, -999.000,9, -999.000,9, -999.000,9,-999.0000,9,  -999.00,9,   -999.0,9,   -999.0,9,   -999.0,9,   -999.0,9,   -999.0,9,  -999.00,9, -999.00,  -999.0,-999.0000,-999.000, -999.00,  -999.0,  1.7756,-999.000
    31DSCG94_3,  P18N,   107,  1,    107,   1257,2,19940403,0939,-16.0000,-103.0000, 3772,   2499.9,   1.8324,  34.6698,2,  34.6704,2,    146.7,2,    145.7,6,   128.99,2,    36.16,2,     0.00,2,     2.47,2, -999.000,9, -999.000,9, -999.000,9, -999.000,9, -999.000,9,-999.0000,9,  -999.00,9,   -999.0,9,   -999.0,9,   -999.0,9,   1179.3,2,   -999.0,9,  -999.00,9,   20.00,  -999.0,-999.0000,-999.000, -999.00,  -999.0,  1.6551,-999.000
    31DSCG94_3,  P18N,   107,  1,    106,   1224,2,19940403,0939,-16.0000,-103.0000, 3772,   2749.6,   1.8013,  34.6743,2,  34.6750,2,    145.8,2,    143.2,2,   132.06,2,    37.50,3,     0.00,2,     2.48,2, -999.000,9, -999.000,9, -999.000,9, -999.000,9, -999.000,9,-999.0000,9,  -999.00,9,   -999.0,9,   -999.0,9,   -999.0,9,   -999.0,9,   -999.0,9,  -999.00,9, -999.00,  -999.0,-999.0000,-999.000, -999.00,  -999.0,  1.6017,-999.000
    31DSCG94_3,  P18N,   107,  1,    105,   1246,2,19940403,0939,-16.0000,-103.0000, 3772,   2999.3,   1.7988,  34.6764,2,  34.6773,2,    145.1,2,    143.0,2,   136.08,2,    36.29,2,     0.00,2,     2.48,2, -999.000,9, -999.000,9, -999.000,9, -999.000,9, -999.000,9,-999.0000,9,  -999.00,9,   -999.0,9,   -999.0,9,   -999.0,9,   -999.0,9,   -999.0,9,  -999.00,9, -999.00,  -999.0,-999.0000,-999.000, -999.00,  -999.0,  1.5754,-999.000
    31DSCG94_3,  P18N,   107,  1,    104,   1217,2,19940403,0939,-16.0000,-103.0000, 3772,   3248.4,   1.8034,  34.6769,2,  34.6769,2,    141.5,2,    140.6,2,   138.82,2,    36.70,2,     0.00,2,     2.50,2, -999.000,9, -999.000,9, -999.000,9, -999.000,9, -999.000,9,-999.0000,9,  -999.00,9,   -999.0,9,   -999.0,9,   -999.0,9,   -999.0,9,   -999.0,9,  -999.00,9, -999.00,  -999.0,-999.0000,-999.000, -999.00,  -999.0,  1.5553,-999.000
    31DSCG94_3,  P18N,   107,  1,    103,   9999,2,19940403,0939,-16.0000,-103.0000, 3772,   3498.3,   1.8046,  34.6767,2,  34.6781,2,    139.9,2,    137.3,2,   143.00,2,    37.39,2,     0.00,2,     2.52,2,    0.047,4,    0.001,4, -999.000,9, -999.000,9, -999.000,9,-999.0000,9,  -999.00,9,   -999.0,9,   -999.0,9,   -999.0,9,   -999.0,9,   -999.0,9,  -999.00,9, -999.00,  -999.0,-999.0000,-999.000, -999.00,  -999.0,  1.5309,-999.000
    31DSCG94_3,  P18N,   107,  1,    102,   1223,2,19940403,0939,-16.0000,-103.0000, 3772,   3498.7,   1.8047,  34.6766,2,  34.6779,2,    139.9,2,    138.0,2,   143.01,2,    37.20,2,     0.00,2,     2.53,2,    0.025,4,    0.000,4, -999.000,9, -999.000,9, -999.000,9,-999.0000,9,  -999.00,9,   -999.0,9,   -999.0,9,   -999.0,9,   -999.0,9,   -999.0,9,  -999.00,9, -999.00,  -999.0,-999.0000,-999.000, -999.00,  -999.0,  1.5310,-999.000
    31DSCG94_3,  P18N,   107,  1,    101,   1041,2,19940403,0939,-16.0000,-103.0000, 3772,   3790.5,   1.8240,  34.6762,2,  34.6774,2,    138.1,2,    136.7,2,   145.07,2,    36.31,2,     0.00,2,     2.53,2, -999.000,9, -999.000,9, -999.000,9, -999.000,9, -999.000,9,-999.0000,9,  -999.00,9,   -999.0,9,   -999.0,9,   -999.0,9,   -999.0,9,   -999.0,9,  -999.00,9, -999.00,  -999.0,-999.0000,-999.000, -999.00,  -999.0,  1.5189,-999.000