BOTTLE,20220630CCHSIOAMB
EXPOCODE,SECT_ID,STNNBR,CASTNO,SAMPNO,BTLNBR,BTLNBR_FLAG_W,DATE,TIME,LATITUDE,LONGITUDE,DEPTH,CTDPRS,CTDTMP,CTDSAL,CTDSAL_FLAG_W,SALNTY,SALNTY_FLAG_W,CTDOXY,CTDOXY_FLAG_W,OXYGEN,OXYGEN_FLAG_W,SILCAT,SILCAT_FLAG_W,NITRAT,NITRAT_FLAG_W,NITRIT,NITRIT_FLAG_W,PHSPHT,PHSPHT_FLAG_W,CFC-11,CFC-11_FLAG_W,CFC-12,CFC-12_FLAG_W,CFC113,CFC113_FLAG_W,CCL4,CCL4_FLAG_W,TRITUM,TRITUM_FLAG_W,HELIUM,HELIUM_FLAG_W,DELHE3,DELHE3_FLAG_W,DELC14,DELC14_FLAG_W,DELC13,DELC13_FLAG_W,TCARBN,TCARBN_FLAG_W,PCO2,PCO2_FLAG_W,ALKALI,ALKALI_FLAG_W,PH,PH_FLAG_W,PCO2TMP,C14ERR,HELIER,DELHER,PH_TMP,C13ERR,THETA,TRITER
,,,,,,,,,,,,DBAR,ITS-90,PSS-78,,PSS-78,,UMOL/KG,,UMOL/KG,,UMOL/KG,,UMOL/KG,,UMOL/KG,,UMOL/KG,,PMOL/KG,,PMOL/KG,,PMOL/KG,,PMOL/KG,,TU,,NMOL/KG,,PERCNT,,/MILLE,,/MILLE,,UMOL/KG,,UATM,,UMOL/KG,,,,DEG C,/MILLE,NMOL/KG,PERCNT,DEG C,/MILLE,DEG C,TU
    31DSCG94_2,  P18S,    19,  1,    124,    435,2,19940302,1604,-62.5000,-103.0000, 5069,     12.5,   3.4472,  33.9411,2,-999.0000,9,    316.3,2,    315.5,2,  -999.00,9,  -999.00,9,  -999.00,9,  -999.00,9, -999.000,9, -999.000,9, -999.000,9, -999.000,9, -999.000,9,-999.0000,9,  -999.00,9,   -999.0,9,   -999.0,9,   -999.0,9,    671.8,2,   -999.0,9,  -999.00,9,   20.00,  -999.0,-999.0000,-999.000, -999.00,  -999.0,  3.4464,-999.000
    31DSCG94_2,  P18S,    19,  1,    123,    421,2,19940302,1604,-62.5000,-103.0000, 5069,     20.2,   3.4479,  33.9411,2,  33.9417,2,    316.4,2,    314.7,2,     2.81,2,    21.29,2,     0.25,2,     1.64,2, -999.000,9, -999.000,9, -999.000,9, -999.000,9, -999.000,9,-999.0000,9,  -999.00,9,   -999.0,9,   -999.0,9,   2121.8,2,    669.5,2,   2285.0,2,  -999.00,9,   20.00,  -999.0,-999.0000,-999.000, -999.00,  -999.0,  3.4466,-999.000
    31DSCG94_2,  P18S,    19,  1,    122,    418,2,19940302,1604,-62.5000,-103.0000, 5069,     47.1,   3.4411,  33.9412,2,  33.9435,2,    316.2,2,    315.7,2,     2.89,2,    21.46,2,     0.26,2,     1.64,2, -999.000,9, -999.000,9, -999.000,9, -999.000,9, -999.000,9,-999.0000,9,  -999.00,9,   -999.0,9,   -999.0,9,   2121.1,2,    685.8,2,   2285.0,2,  -999.00,9,   20.00,  -999.0,-999.0000,-999.000, -999.00,  -999.0,  3.4381,-999.000
    31DSCG94_2,  P18S,    19,  1,    121,    413,2,19940302,1604,-62.5000,-103.0000, 5069,     98.6,   1.8850,  34.0148,2,  34.0396,3,    317.7,2,    315.3,2,    15.30,2,    25.26,2,     0.38,2,     1.85,2, -999.000,9, -999.000,9, -999.000,9, -999.000,9, -999.000,9,-999.0000,9,  -999.00,9,   -999.0,9,   -999.0,9,   2146.7,2,    787.8,2,   2290.0,2,  -999.00,9,   20.00,  -999.0,-999.0000,-999.000, -999.00,  -999.0,  1.8800,-999.000
    31DSCG94_2,  P18S,    19,  1,    120,    405,2,19940302,1604,-62.5000,-103.0000, 5069,    152.9,   1.6477,  34.0227,2,  34.0253,2,    318.9,2,    317.8,2,    17.76,2,    26.10,2,     0.11,2,     1.87,2, -999.000,9, -999.000,9, -999.000,9, -999.000,9, -999.000,9,-999.0000,9,  -999.00,9,   -999.0,9,   -999.0,9,   2148.7,2,    799.8,2,   2281.0,2,  -999.00,9,   20.00,  -999.0,-999.0000,-999.000, -999.00,  -999.0,  1.6402,-999.000
    31DSCG94_2,  P18S,    19,  1,    119,    417,2,19940302,1604,-62.5000,-103.0000, 5069,    197.5,   1.5581,  34.0272,2,  34.0295,2,    318.7,2,    316.5,2,    18.21,2,    26.49,2,     0.00,2,     1.88,2, -999.000,9, -999.000,9, -999.000,9, -999.000,9, -999.000,9,-999.0000,9,  -999.00,9,   -999.0,9,   -999.0,9,   2149.1,2,    808.1,2,   2289.0,2,  -999.00,9,   20.00,  -999.0,-999.0000,-999.000, -999.00,  -999.0,  1.5485,-999.000
    31DSCG94_2,  P18S,    19,  1,    118,    429,2,19940302,1604,-62.5000,-103.0000, 5069,    298.0,   1.5541,  34.0612,2,  34.0611,2,    309.1,2,   -999.0,9,    22.46,2,    27.26,2,     0.00,2,     1.94,2, -999.000,9, -999.000,9, -999.000,9, -999.000,9, -999.000,9,-999.0000,9,  -999.00,9,   -999.0,9,   -999.0,9,   2159.6,2,    854.9,2,   2286.0,2,  -999.00,9,   20.00,  -999.0,-999.0000,-999.000, -999.00,  -999.0,  1.5393,-999.000
    31DSCG94_2,  P18S,    19,  1,    117,    427,2,19940302,1604,-62.5000,-103.0000, 5069,    396.8,   2.3369,  34.2150,2,  34.2273,2,    237.1,2,    234.3,2,    39.41,2,    31.12,2,     0.00,2,     2.16,2, -999.000,9, -999.000,9, -999.000,9, -999.000,9, -999.000,9,-999.0000,9,  -999.00,9,   -999.0,9,   -999.0,9,   2197.7,2,   1023.7,2,   2303.0,2,  -999.00,9,   20.00,  -999.0,-999.0000,-999.000, -999.00,  -999.0,  2.3142,-999.000
    31DSCG94_2,  P18S,    19,  1,    116,    410,2,19940302,1604,-62.5000,-103.0000, 5069,    495.7,   2.5834,  34.3517,2,  34.3514,2,    201.4,2,    199.5,2,    52.61,2,    32.87,2,     0.00,2,     2.32,2, -999.000,9, -999.000,9, -999.000,9, -999.000,9, -999.000,9,-999.0000,9,  -999.00,9,   -999.0,9,   -999.0,9,   2223.0,2,   1139.4,2,   2311.0,2,  -999.00,9,   20.00,  -999.0,-999.0000,-999.000, -999.00,  -999.0,  2.5535,-999.000
    31DSCG94_2,  P18S,    19,  1,    115,    422,2,19940302,1604,-62.5000,-103.0000, 5069,    599.9,   2.4941,  34.4233,2,  34.6177,4,    187.6,2,    186.0,2,    59.77,2,    33.21,2,     0.00,2,     2.38,2, -999.000,9, -999.000,9, -999.000,9, -999.000,9, -999.000,9,-999.0000,9,  -999.00,9,   -999.0,9,   -999.0,9,   2234.8,3,   1174.6,2,   2318.0,2,  -999.00,9,   20.00,  -999.0,-999.0000,-999.000, -999.00,  -999.0,  2.4578,-999.000
    31DSCG94_2,  P18S,    19,  1,    114,    407,2,19940302,1604,-62.5000,-103.0000, 5069,    800.6,   2.3212,  34.5526,2,  34.5526,2,    174.9,2,    174.0,2,    71.80,2,    33.03,2,     0.00,2,     2.34,2, -999.000,9, -999.000,9, -999.000,9, -999.000,9, -999.000,9,-999.0000,9,  -999.00,9,   -999.0,9,   -999.0,9,   2247.9,2,   1198.5,2,   2341.0,2,  -999.00,9,   20.00,  -999.0,-999.0000,-999.000, -999.00,  -999.0,  2.2724,-999.000
    31DSCG94_2,  P18S,    19,  1,    113,    419,2,19940302,1604,-62.5000,-103.0000, 5069,    998.3,   2.2031,  34.6277,2,  34.6238,2,    173.9,2,    173.7,2,    78.67,2,    33.35,2,     0.00,2,     2.29,2, -999.000,9, -999.000,9, -999.000,9, -999.000,9, -999.000,9,-999.0000,9,  -999.00,9,   -999.0,9,   -999.0,9,   2252.3,2,   1176.2,2,   2339.0,2,  -999.00,9,   20.00,  -999.0,-999.0000,-999.000, -999.00,  -999.0,  2.1413,-999.000
    31DSCG94_2,  P18S,    19,  1,    112,    426,2,19940302,1604,-62.5000,-103.0000, 5069,   1201.8,   2.0730,  34.6894,2,-999.0000,9,    177.9,2,    178.5,2,  -999.00,9,  -999.00,9,  -999.00,9,  -999.00,9, -999.000,9, -999.000,9, -999.000,9, -999.000,9, -999.000,9,-999.0000,9,  -999.00,9,   -999.0,9,   -999.0,9,   2251.5,2,   1128.3,2,   2342.0,2,  -999.00,9,   20.00,  -999.0,-999.0000,-999.000, -999.00,  -999.0,  1.9978,-999.000
    31DSCG94_2,  P18S,    19,  1,    111,    424,2,19940302,1604,-62.5000,-103.0000, 5069,   1400.2,   1.9032,  34.7178,2,  34.7179,2,    183.2,2,    184.7,2,    88.50,2,    30.65,2,     0.00,2,     2.18,2, -999.000,9, -999.000,9, -999.000,9, -999.000,9, -999.000,9,-999.0000,9,  -999.00,9,   -999.0,9,   -999.0,9,   2251.5,2,   1094.5,2,   2350.0,2,  -999.00,9,   20.00,  -999.0,-999.0000,-999.000, -999.00,  -999.0,  1.8152,-999.000
    31DSCG94_2,  P18S,    19,  1,    110,    409,2,19940302,1604,-62.5000,-103.0000, 5069,   1803.0,   1.4804,  34.7223,2,  34.7240,2,    187.9,2,    190.0,2,   102.65,2,    30.49,2,     0.00,2,     2.22,2, -999.000,9, -999.000,9, -999.000,9, -999.000,9, -999.000,9,-999.0000,9,  -999.00,9,   -999.0,9,   -999.0,9,   2260.0,2,   1075.0,2,   2361.0,2,  -999.00,9,   20.00,  -999.0,-999.0000,-999.000, -999.00,  -999.0,  1.3671,-999.000
    31DSCG94_2,  P18S,    19,  1,    109,    423,2,19940302,1604,-62.5000,-103.0000, 5069,   2199.3,   1.4192,  34.7219,2,  34.7217,2,    188.0,2,    192.0,2,   105.11,2,    30.67,2,     0.00,2,     2.21,2, -999.000,9, -999.000,9, -999.000,9, -999.000,9, -999.000,9,-999.0000,9,  -999.00,9,   -999.0,9,   -999.0,9,   2260.9,2,   1069.6,2,   2366.0,2,  -999.00,9,   20.00,  -999.0,-999.0000,-999.000, -999.00,  -999.0,  1.2750,-999.000
    31DSCG94_2,  P18S,    19,  1,    108,    414,2,19940302,1604,-62.5000,-103.0000, 5069,   2603.6,   1.3278,  34.7215,2,  34.7193,2,    191.3,2,    195.6,2,   108.58,2,    30.72,2,     0.00,2,     2.03,4, -999.000,9, -999.000,9, -999.000,9, -999.000,9, -999.000,9,-999.0000,9,  -999.00,9,   -999.0,9,   -999.0,9,   2259.7,2,   1070.4,2,   2363.0,2,  -999.00,9,   20.00,  -999.0,-999.0000,-999.000, -999.00,  -999.0,  1.1507,-999.000
    31DSCG94_2,  P18S,    19,  1,    107,    437,2,19940302,1604,-62.5000,-103.0000, 5069,   2999.7,   1.0474,  34.7168,2,  34.7191,3,    197.9,2,    199.5,2,   112.41,2,    30.53,2,     0.00,2,     2.20,2, -999.000,9, -999.000,9, -999.000,9, -999.000,9, -999.000,9,-999.0000,9,  -999.00,9,   -999.0,9,   -999.0,9,   2259.6,2,   1072.3,2,   2360.0,2,  -999.00,9,   20.00,  -999.0,-999.0000,-999.000, -999.00,  -999.0,  0.8404,-999.000
    31DSCG94_2,  P18S,    19,  1,    106,    416,2,19940302,1604,-62.5000,-103.0000, 5069,   3397.9,   0.8288,  34.7092,2,  34.7094,2,    202.7,2,    205.8,2,   120.88,2,    30.76,2,     0.00,2,     2.23,2, -999.000,9, -999.000,9, -999.000,9, -999.000,9, -999.000,9,-999.0000,9,  -999.00,9,   -999.0,9,   -999.0,9,   2257.7,2,   1083.9,2,   2358.0,2,  -999.00,9,   20.00,  -999.0,-999.0000,-999.000, -999.00,  -999.0,  0.5894,-999.000
    31DSCG94_2,  P18S,    19,  1,    105,    420,2,19940302,1604,-62.5000,-103.0000, 5069,   3795.6,   0.5958,  34.7054,2,  34.7047,2,    207.6,2,    209.9,2,   125.52,2,    31.27,2,     0.00,2,     2.25,2, -999.000,9, -999.000,9, -999.000,9, -999.000,9, -999.000,9,-999.0000,9,  -999.00,9,   -999.0,9,   -999.0,9,   2258.8,2,   1087.5,2,   2358.0,2,  -999.00,9,   20.00,  -999.0,-999.0000,-999.000, -999.00,  -999.0,  0.3232,-999.000
    31DSCG94_2,  P18S,    19,  1,    104,    436,2,19940302,1604,-62.5000,-103.0000, 5069,   4196.0,   0.4552,  34.7039,2,-999.0000,9,    212.1,2,    214.4,2,   133.85,2,    31.88,2,     0.00,2,     2.32,2, -999.000,9, -999.000,9, -999.000,9, -999.000,9, -999.000,9,-999.0000,9,  -999.00,9,   -999.0,9,   -999.0,9,   2260.1,2,   1089.0,2,   2362.0,2,  -999.00,9,   20.00,  -999.0,-999.0000,-999.000, -999.00,  -999.0,  0.1454,-999.000
    31DSCG94_2,  P18S,    19,  1,    103,    425,2,19940302,1604,-62.5000,-103.0000, 5069,   4599.5,   0.3898,  34.7029,2,  34.7022,2,    215.4,2,    215.3,2,   133.03,2,    31.32,2,     0.00,2,     2.26,2, -999.000,9, -999.000,9, -999.000,9, -999.000,9, -999.000,9,-999.0000,9,  -999.00,9,   -999.0,9,   -999.0,9,   2258.8,2,   1087.3,2,   2362.0,2,  -999.00,9,   20.00,  -999.0,-999.0000,-999.000, -999.00,  -999.0,  0.0385,-999.000
    31DSCG94_2,  P18S,    19,  1,    102,    433,2,19940302,1604,-62.5000,-103.0000, 5069,   4993.5,   0.3856,  34.7029,2,  34.7015,2,    218.1,2,    216.5,2,   134.21,2,    31.26,2,     0.00,2,     2.27,2, -999.000,9, -999.000,9, -999.000,9, -999.000,9, -999.000,9,-999.0000,9,  -999.00,9,   -999.0,9,   -999.0,9,   2258.1,2,   1086.7,2,   2363.0,2,  -999.00,9,   20.00,  -999.0,-999.0000,-999.000, -999.00,  -999.0, -0.0101,-999.000
    31DSCG94_2,  P18S,    19,  1,    101,    403,2,19940302,1604,-62.5000,-103.0000, 5069,   5158.0,   0.3943,  34.7024,2,  34.7017,2,    218.5,2,    216.6,2,   135.54,2,    30.98,2,     0.00,2,     2.41,4, -999.000,9, -999.000,9, -999.000,9, -999.000,9, -999.000,9,-999.0000,9,  -999.00,9,   -999.0,9,   -999.0,9,   2268.4,2,   1086.5,2,   -999.0,5,  -999.00,9,   20.00,  -999.0,-999.0000,-999.000, -999.00,  -999.0, -0.0209,-999.000