BOTTLE,20220630CCHSIOAMB
EXPOCODE,SECT_ID,STNNBR,CASTNO,SAMPNO,BTLNBR,BTLNBR_FLAG_W,DATE,TIME,LATITUDE,LONGITUDE,DEPTH,CTDPRS,CTDTMP,CTDSAL,CTDSAL_FLAG_W,SALNTY,SALNTY_FLAG_W,CTDOXY,CTDOXY_FLAG_W,OXYGEN,OXYGEN_FLAG_W,SILCAT,SILCAT_FLAG_W,NITRAT,NITRAT_FLAG_W,NITRIT,NITRIT_FLAG_W,PHSPHT,PHSPHT_FLAG_W,CFC-11,CFC-11_FLAG_W,CFC-12,CFC-12_FLAG_W,CFC113,CFC113_FLAG_W,CCL4,CCL4_FLAG_W,TRITUM,TRITUM_FLAG_W,HELIUM,HELIUM_FLAG_W,DELHE3,DELHE3_FLAG_W,DELC14,DELC14_FLAG_W,DELC13,DELC13_FLAG_W,TCARBN,TCARBN_FLAG_W,PCO2,PCO2_FLAG_W,ALKALI,ALKALI_FLAG_W,PH,PH_FLAG_W,PCO2TMP,C14ERR,HELIER,DELHER,PH_TMP,C13ERR,THETA,TRITER
,,,,,,,,,,,,DBAR,ITS-90,PSS-78,,PSS-78,,UMOL/KG,,UMOL/KG,,UMOL/KG,,UMOL/KG,,UMOL/KG,,UMOL/KG,,PMOL/KG,,PMOL/KG,,PMOL/KG,,PMOL/KG,,TU,,NMOL/KG,,PERCNT,,/MILLE,,/MILLE,,UMOL/KG,,UATM,,UMOL/KG,,,,DEG C,/MILLE,NMOL/KG,PERCNT,DEG C,/MILLE,DEG C,TU
    31DSCG94_2,  P18S,    84,  1,    135,   1247,2,19940322,1335,-27.5017,-103.0183, 3089,     10.6,  23.7412,  35.7968,2,  35.7978,2,    206.5,2,    213.3,2,     1.08,2,     0.00,2,     0.00,2,     0.11,2, -999.000,9, -999.000,9, -999.000,9, -999.000,9, -999.000,9,-999.0000,9,  -999.00,9,   -999.0,9,   -999.0,9,   2040.4,2,    326.6,2,   2349.0,2,     8.05,2,   20.00,  -999.0,-999.0000,-999.000,   25.00,  -999.0, 23.7390,-999.000
    31DSCG94_2,  P18S,    84,  1,    136,   1025,2,19940322,1335,-27.5017,-103.0183, 3089,     11.4,  23.7391,  35.7972,2,  35.7972,2,    210.8,2,    213.4,2,     1.25,2,     0.05,2,     0.00,2,     0.14,2,    1.994,2,    1.113,2, -999.000,9, -999.000,9,    0.663,2,   1.7719,2,    -0.97,2,   -999.0,9,   -999.0,9,   2042.5,2,    324.1,2,   2353.0,2,     8.05,2,   20.00,  -999.0,-999.0000,-999.000,   25.00,  -999.0, 23.7367,   0.007
    31DSCG94_2,  P18S,    84,  1,    134,   1108,2,19940322,1335,-27.5017,-103.0183, 3089,     23.8,  23.7358,  35.7959,2,  35.8101,2,    214.9,2,    213.4,2,     1.11,2,     0.00,2,     0.00,2,     0.11,2,    1.991,2,    1.078,2, -999.000,9, -999.000,9,    0.566,2,   1.7603,2,    -1.12,2,   -999.0,9,   -999.0,9,   2040.5,2,    324.6,2,   2356.0,2,     8.05,2,   20.00,  -999.0,-999.0000,-999.000,   25.00,  -999.0, 23.7308,   0.007
    31DSCG94_2,  P18S,    84,  1,    133,   1244,2,19940322,1335,-27.5017,-103.0183, 3089,     50.6,  22.7425,  35.6974,2,  35.7130,2,    222.0,2,    223.7,2,     1.14,2,     0.00,2,     0.00,2,     0.10,2, -999.000,9, -999.000,9, -999.000,9, -999.000,9, -999.000,9,-999.0000,9,  -999.00,9,   -999.0,9,   -999.0,9,   2034.9,2,    326.3,2,   2344.0,2,     8.05,2,   20.00,  -999.0,-999.0000,-999.000,   25.00,  -999.0, 22.7323,-999.000
    31DSCG94_2,  P18S,    84,  1,    132,   1003,2,19940322,1335,-27.5017,-103.0183, 3089,     74.9,  20.5009,  35.4994,2,  35.5073,2,    235.0,2,    236.2,2,     1.14,2,     0.00,2,     0.00,2,     0.08,2,    2.369,2,    1.281,2, -999.000,9, -999.000,9,    0.723,2,   1.7362,2,    -1.50,2,   -999.0,9,   -999.0,9,   2022.8,2,    325.6,2,   2332.0,2,     8.05,2,   20.00,  -999.0,-999.0000,-999.000,   25.00,  -999.0, 20.4868,   0.007
    31DSCG94_2,  P18S,    84,  1,    131,   1211,2,19940322,1335,-27.5017,-103.0183, 3089,    100.3,  19.9931,  35.5039,2,  35.5007,2,    233.4,2,    233.7,2,     1.11,2,     0.00,2,     0.00,2,     0.09,2, -999.000,9, -999.000,9, -999.000,9, -999.000,9, -999.000,9,-999.0000,9,  -999.00,9,   -999.0,9,   -999.0,9,   2025.8,2,    328.4,2,   2330.0,2,     8.04,2,   20.00,  -999.0,-999.0000,-999.000,   25.00,  -999.0, 19.9745,-999.000
    31DSCG94_2,  P18S,    84,  1,    130,   1241,2,19940322,1335,-27.5017,-103.0183, 3089,    125.2,  19.5247,  35.4642,2,  35.4662,2,    233.1,2,    232.7,2,     1.16,2,     0.03,2,     0.00,2,     0.12,2,    2.404,6,    1.286,6, -999.000,9, -999.000,9,    0.478,2,   1.7434,2,    -1.53,2,   -999.0,9,   -999.0,9,   2034.2,2,    342.5,2,   2331.0,2,     8.04,2,   20.00,  -999.0,-999.0000,-999.000,   25.00,  -999.0, 19.5019,   0.006
    31DSCG94_2,  P18S,    84,  1,    129,   1031,2,19940322,1335,-27.5017,-103.0183, 3089,    146.5,  19.3350,  35.4631,2,  35.4678,2,    230.5,2,    230.2,2,     1.16,2,     0.03,2,     0.00,2,     0.15,2, -999.000,9, -999.000,9, -999.000,9, -999.000,9, -999.000,9,-999.0000,9,  -999.00,9,   -999.0,9,   -999.0,9,   2038.7,2,    346.2,2,   2329.0,2,     8.03,2,   20.00,  -999.0,-999.0000,-999.000,   25.00,  -999.0, 19.3085,-999.000
    31DSCG94_2,  P18S,    84,  1,    128,   1032,2,19940322,1335,-27.5017,-103.0183, 3089,    174.4,  19.1452,  35.4330,2,  35.4361,2,    228.1,2,    228.6,2,     1.14,2,     0.00,2,     0.00,2,     0.18,2, -999.000,5, -999.000,5, -999.000,9, -999.000,9, -999.000,9,-999.0000,9,  -999.00,9,   -999.0,9,   -999.0,9,   2042.0,2,    354.4,2,   2325.0,2,     8.02,2,   20.00,  -999.0,-999.0000,-999.000,   25.00,  -999.0, 19.1139,-999.000
    31DSCG94_2,  P18S,    84,  1,    127,   1008,2,19940322,1335,-27.5017,-103.0183, 3089,    214.7,  17.9168,  35.1788,2,  35.2120,3,    224.4,2,    226.0,2,     0.95,2,     0.05,2,     0.00,2,     0.14,2, -999.000,9, -999.000,9, -999.000,9, -999.000,9, -999.000,9,-999.0000,9,  -999.00,9,   -999.0,9,   -999.0,9,   2034.2,2,    362.9,2,   2315.0,2,     8.01,2,   20.00,  -999.0,-999.0000,-999.000,   25.00,  -999.0, 17.8800,-999.000
    31DSCG94_2,  P18S,    84,  1,    126,   1007,2,19940322,1335,-27.5017,-103.0183, 3089,    250.2,  16.4981,  35.0248,2,  35.0333,2,    219.3,2,    211.1,2,     1.22,2,     1.78,2,     0.00,2,     0.31,2,    2.438,6,    1.287,6, -999.000,9, -999.000,9,    0.627,2,   1.7518,2,    -0.56,2,   -999.0,9,   -999.0,9,   2053.9,3,    426.4,2,   2278.0,2,     7.96,2,   20.00,  -999.0,-999.0000,-999.000,   25.00,  -999.0, 16.4576,   0.007
    31DSCG94_2,  P18S,    84,  1,    125,   1203,2,19940322,1335,-27.5017,-103.0183, 3089,    300.8,  13.7817,  34.6352,2,  34.6344,2,    205.3,2,    205.6,2,     1.81,2,     7.13,2,     0.00,2,     0.65,2, -999.000,9, -999.000,9, -999.000,9, -999.000,9, -999.000,9,-999.0000,9,  -999.00,9,   -999.0,9,   -999.0,9,   2074.3,2,    508.6,2,   2279.0,2,     7.88,2,   20.00,  -999.0,-999.0000,-999.000,   25.00,  -999.0, 13.7387,-999.000
    31DSCG94_2,  P18S,    84,  1,    124,     -1,2,19940322,1335,-27.5017,-103.0183, 3089,    349.5,  12.0922,  34.5768,2,  34.5819,2,    203.6,2,    201.4,2,     2.81,2,    10.65,2,     0.00,2,     0.88,2,    2.170,2,    1.098,2, -999.000,9, -999.000,9,    0.413,2,   1.8161,2,     0.11,2,   -999.0,9,   -999.0,9,   2092.1,2,    585.1,2,   2277.0,2,     7.83,2,   20.00,  -999.0,-999.0000,-999.000,   25.00,  -999.0, 12.0463,   0.006
    31DSCG94_2,  P18S,    84,  1,    123,   1220,2,19940322,1335,-27.5017,-103.0183, 3089,    402.2,   9.3567,  34.3452,2,  34.3517,2,    184.3,2,    192.2,2,     5.79,2,    18.35,2,     0.00,2,     1.46,2,    2.067,2,    1.020,2, -999.000,9, -999.000,9,    0.291,2,   1.7732,2,     0.33,2,   -999.0,9,   -999.0,9,   2128.2,2,    749.5,2,   2270.0,2,     7.73,2,   20.00,  -999.0,-999.0000,-999.000,   25.00,  -999.0,  9.3118,   0.005
    31DSCG94_2,  P18S,    84,  1,    122,   1245,2,19940322,1335,-27.5017,-103.0183, 3089,    449.2,   8.0824,  34.3347,2,  34.3392,2,    189.3,2,    187.1,2,     8.20,2,    22.65,2,     0.00,2,     1.70,2, -999.000,5, -999.000,5, -999.000,9, -999.000,9, -999.000,9,-999.0000,9,  -999.00,9,   -999.0,9,   -999.0,9,   2149.2,2,    856.8,2,   2269.0,2,     7.68,2,   20.00,  -999.0,-999.0000,-999.000,   25.00,  -999.0,  8.0363,-999.000
    31DSCG94_2,  P18S,    84,  1,    121,   1206,2,19940322,1335,-27.5017,-103.0183, 3089,    501.9,   7.0008,  34.3342,2,  34.3366,2,    195.8,2,    194.1,2,    10.56,2,    25.43,2,     0.00,2,     1.83,2,    1.406,2,    0.703,2, -999.000,9, -999.000,9,    0.197,2,   1.7898,2,     0.54,2,   -999.0,9,   -999.0,9,   2158.2,2,    904.3,2,   2280.0,2,     7.66,2,   20.00,  -999.0,-999.0000,-999.000,   25.00,  -999.0,  6.9533,   0.005
    31DSCG94_2,  P18S,    84,  1,    120,   1028,2,19940322,1335,-27.5017,-103.0183, 3089,    549.3,   6.3876,  34.3237,2,  34.3237,2,    200.0,2,    207.3,2,    11.74,2,    26.16,2,     0.00,2,     1.85,2, -999.000,5, -999.000,5, -999.000,9, -999.000,9, -999.000,9,-999.0000,9,  -999.00,9,   -999.0,9,   -999.0,9,   2160.8,2,    878.9,2,   2276.0,2,     7.67,2,   20.00,  -999.0,-999.0000,-999.000,   25.00,  -999.0,  6.3379,-999.000
    31DSCG94_2,  P18S,    84,  1,    119,   1248,2,19940322,1335,-27.5017,-103.0183, 3089,    598.8,   5.9687,  34.3036,2,  34.3049,2,    210.6,2,    222.0,2,    11.97,2,    25.83,2,     0.00,2,     1.81,2,    1.091,2,    0.553,2, -999.000,9, -999.000,9,    0.158,2,   1.7875,2,     0.94,2,   -999.0,9,   -999.0,9,   2154.3,2,    849.2,2,   2278.0,2,     7.69,2,   20.00,  -999.0,-999.0000,-999.000,   25.00,  -999.0,  5.9163,   0.004
    31DSCG94_2,  P18S,    84,  1,    118,   1207,2,19940322,1335,-27.5017,-103.0183, 3089,    700.5,   5.5020,  34.2812,2,  34.2838,2,    214.2,2,    223.5,2,    13.99,2,    26.61,2,     0.00,2,     1.88,2,    0.795,2,    0.430,2, -999.000,9, -999.000,9,    0.133,2,   1.7996,2,     1.16,2,   -999.0,9,   -999.0,9,   2157.7,2,    859.4,2,   2281.0,2,     7.68,2,   20.00,  -999.0,-999.0000,-999.000,   25.00,  -999.0,  5.4427,   0.004
    31DSCG94_2,  P18S,    84,  1,    117,   1119,2,19940322,1335,-27.5017,-103.0183, 3089,    801.0,   4.8953,  34.2788,2,  34.2782,2,    203.1,2,    209.4,2,    20.65,2,    29.31,2,     0.00,2,     2.07,2,    0.400,2,    0.223,2, -999.000,9, -999.000,9, -999.000,9,   1.8014,2,     1.63,2,   -999.0,9,   -999.0,9,   2174.8,2,    937.7,2,   2286.0,2,     7.65,2,   20.00,  -999.0,-999.0000,-999.000,   25.00,  -999.0,  4.8307,-999.000
    31DSCG94_2,  P18S,    84,  1,    116,   1036,2,19940322,1335,-27.5017,-103.0183, 3089,    899.6,   4.3099,  34.3113,2,  34.3119,2,    184.8,2,    183.9,2,    32.91,2,    32.49,2,     0.00,2,     2.26,2,    0.112,2,    0.065,2, -999.000,9, -999.000,9,    0.033,2,   1.8130,2,     3.23,2,   -999.0,9,   -999.0,9,   2203.7,2,   1055.5,2,   -999.0,5,     7.60,2,   20.00,  -999.0,-999.0000,-999.000,   25.00,  -999.0,  4.2406,   0.003
    31DSCG94_2,  P18S,    84,  1,    115,   1017,2,19940322,1335,-27.5017,-103.0183, 3089,   1002.2,   3.9028,  34.3840,2,  34.3837,2,    151.5,2,    150.2,2,    49.83,2,    35.63,2,     0.00,2,     2.49,2,    0.009,2,    0.010,2, -999.000,9, -999.000,9,    0.007,2,   1.8714,2,     7.02,2,   -999.0,9,   -999.0,9,   2238.8,2,   1225.4,2,   2310.0,6,     7.55,2,   20.00,  -999.0,-999.0000,-999.000,   25.00,  -999.0,  3.8279,   0.003
    31DSCG94_2,  P18S,    84,  1,    114,   1016,2,19940322,1335,-27.5017,-103.0183, 3089,   1100.5,   3.7902,  34.4651,2,  34.4667,2,    124.9,2,    122.6,2,    66.91,2,    37.68,2,     0.00,2,     2.66,2, -999.000,9, -999.000,9, -999.000,9, -999.000,9, -999.000,9,-999.0000,9,  -999.00,9,   -999.0,9,   -999.0,9,   -999.0,9,   -999.0,9,   -999.0,9,  -999.00,9, -999.00,  -999.0,-999.0000,-999.000, -999.00,  -999.0,  3.7079,-999.000
    31DSCG94_2,  P18S,    84,  1,    113,   1209,2,19940322,1335,-27.5017,-103.0183, 3089,   1202.1,   3.5341,  34.4972,2,  34.4976,2,    125.1,2,    124.7,2,    75.02,2,    37.47,2,     0.00,2,     2.63,2,   -0.006,2,    0.000,2, -999.000,9, -999.000,9,    0.007,2,   1.8616,2,    14.96,2,   -999.0,9,   -999.0,9,   -999.0,9,   -999.0,9,   -999.0,9,     7.52,2, -999.00,  -999.0,-999.0000,-999.000,   25.00,  -999.0,  3.4456,   0.003
    31DSCG94_2,  P18S,    84,  1,    112,   1033,2,19940322,1335,-27.5017,-103.0183, 3089,   1301.1,   3.2331,  34.5244,2,  34.5299,3,    127.8,2,    130.0,2,    81.78,2,    37.01,2,     0.00,2,     2.61,2, -999.000,9, -999.000,9, -999.000,9, -999.000,9, -999.000,9,-999.0000,9,  -999.00,9,   -999.0,9,   -999.0,9,   -999.0,9,   -999.0,9,   -999.0,9,  -999.00,9, -999.00,  -999.0,-999.0000,-999.000, -999.00,  -999.0,  3.1393,-999.000
    31DSCG94_2,  P18S,    84,  1,    111,   1240,2,19940322,1335,-27.5017,-103.0183, 3089,   1399.7,   2.9588,  34.5404,2,  34.5413,2,    136.3,2,    139.1,2,    85.28,2,    36.26,2,     0.00,2,     2.53,2, -999.000,9, -999.000,9, -999.000,9, -999.000,9, -999.000,9,-999.0000,9,  -999.00,9,   -999.0,9,   -999.0,9,   -999.0,9,   -999.0,9,   -999.0,9,     7.54,2, -999.00,  -999.0,-999.0000,-999.000,   25.00,  -999.0,  2.8598,-999.000
    31DSCG94_2,  P18S,    84,  1,    110,   1005,2,19940322,1335,-27.5017,-103.0183, 3089,   1499.4,   2.7030,  34.5603,2,  34.5653,3,    143.4,2,    145.8,2,    89.39,2,    35.66,2,     0.00,2,     2.51,2, -999.000,9, -999.000,9, -999.000,9, -999.000,9, -999.000,9,-999.0000,9,  -999.00,9,   -999.0,9,   -999.0,9,   -999.0,9,   -999.0,9,   -999.0,9,  -999.00,9, -999.00,  -999.0,-999.0000,-999.000, -999.00,  -999.0,  2.5986,-999.000
    31DSCG94_2,  P18S,    84,  1,    109,   1611,2,19940322,1335,-27.5017,-103.0183, 3089,   1599.7,   2.4786,  34.5831,2,  34.5827,2,    148.9,2,    151.9,2,    94.14,2,    35.19,2,     0.00,2,     2.47,2,   -0.006,2,    0.000,2, -999.000,9, -999.000,9,    0.006,2,   1.8941,2,    20.30,2,   -999.0,9,   -999.0,9,   -999.0,9,   -999.0,9,   -999.0,9,     7.56,2, -999.00,  -999.0,-999.0000,-999.000,   25.00,  -999.0,  2.3687,   0.003
    31DSCG94_2,  P18S,    84,  1,    108,   1218,2,19940322,1335,-27.5017,-103.0183, 3089,   1802.3,   2.2146,  34.6165,2,  34.6247,3,    153.2,2,    154.6,2,   103.72,2,    35.05,2,     0.00,2,     2.47,2, -999.000,9, -999.000,9, -999.000,9, -999.000,9,    0.007,2,   1.9057,2,    24.13,2,   -999.0,9,   -999.0,9,   -999.0,9,   -999.0,9,   -999.0,9,  -999.00,9, -999.00,  -999.0,-999.0000,-999.000, -999.00,  -999.0,  2.0915,   0.003
    31DSCG94_2,  P18S,    84,  1,    107,   1257,2,19940322,1335,-27.5017,-103.0183, 3089,   2002.1,   2.0155,  34.6410,2,  34.6398,2,    154.1,2,    155.2,2,   113.24,2,    34.96,2,     0.00,2,     2.47,2, -999.000,9, -999.000,9, -999.000,9, -999.000,9, -999.000,9,-999.0000,9,  -999.00,9,   -999.0,9,   -999.0,9,   -999.0,9,   -999.0,9,   -999.0,9,  -999.00,9, -999.00,  -999.0,-999.0000,-999.000, -999.00,  -999.0,  1.8786,-999.000
    31DSCG94_2,  P18S,    84,  1,    106,   1224,2,19940322,1335,-27.5017,-103.0183, 3089,   2247.2,   1.9111,  34.6556,2,  34.6540,2,    156.5,2,    156.4,2,   119.50,2,    34.85,2,     0.00,2,     2.44,2, -999.000,9, -999.000,9, -999.000,9, -999.000,9, -999.000,9,-999.0000,9,  -999.00,9,   -999.0,9,   -999.0,9,   -999.0,9,   -999.0,9,   -999.0,9,  -999.00,9, -999.00,  -999.0,-999.0000,-999.000, -999.00,  -999.0,  1.7549,-999.000
    31DSCG94_2,  P18S,    84,  1,    105,   1246,2,19940322,1335,-27.5017,-103.0183, 3089,   2498.1,   1.8763,  34.6623,2,  34.6622,2,    157.8,2,    157.4,2,   121.81,2,    34.81,2,     0.00,2,     2.42,2, -999.000,9, -999.000,9, -999.000,9, -999.000,9, -999.000,9,-999.0000,9,  -999.00,9,   -999.0,9,   -999.0,9,   -999.0,9,   -999.0,9,   -999.0,9,  -999.00,9, -999.00,  -999.0,-999.0000,-999.000, -999.00,  -999.0,  1.6985,-999.000
    31DSCG94_2,  P18S,    84,  1,    104,   1217,2,19940322,1335,-27.5017,-103.0183, 3089,   2749.6,   1.8739,  34.6654,2,  34.6646,2,    159.7,2,    158.3,6,   121.58,2,    34.59,2,     0.00,2,     2.42,2, -999.000,9, -999.000,9, -999.000,9, -999.000,9, -999.000,9,-999.0000,9,  -999.00,9,   -999.0,9,   -999.0,9,   -999.0,9,   -999.0,9,   -999.0,9,  -999.00,9, -999.00,  -999.0,-999.0000,-999.000, -999.00,  -999.0,  1.6728,-999.000
    31DSCG94_2,  P18S,    84,  1,    103,   9999,2,19940322,1335,-27.5017,-103.0183, 3089,   2998.8,   1.8650,  34.6707,2,  34.6727,2,    162.1,2,    160.0,2,   120.71,2,    34.44,2,     0.00,2,     2.41,2, -999.000,9, -999.000,9, -999.000,9, -999.000,9, -999.000,9,-999.0000,9,  -999.00,9,   -999.0,9,   -999.0,9,   -999.0,9,   -999.0,9,   -999.0,9,  -999.00,9, -999.00,  -999.0,-999.0000,-999.000, -999.00,  -999.0,  1.6402,-999.000
    31DSCG94_2,  P18S,    84,  1,    102,   1223,2,19940322,1335,-27.5017,-103.0183, 3089,   2998.9,   1.8650,  34.6709,2,  34.6705,2,    162.1,2,    160.9,6,   119.97,2,    34.44,2,     0.00,2,     2.40,2, -999.000,9, -999.000,9, -999.000,9, -999.000,9, -999.000,9,-999.0000,9,  -999.00,9,   -999.0,9,   -999.0,9,   -999.0,9,   -999.0,9,   -999.0,9,  -999.00,9, -999.00,  -999.0,-999.0000,-999.000, -999.00,  -999.0,  1.6402,-999.000
    31DSCG94_2,  P18S,    84,  1,    101,   1041,2,19940322,1335,-27.5017,-103.0183, 3089,   3071.2,   1.8626,  34.6728,2,  34.6721,2,    163.0,2,    160.7,2,   119.16,2,    34.52,2,     0.00,2,     2.40,2, -999.000,9, -999.000,9, -999.000,9, -999.000,9, -999.000,9,-999.0000,9,  -999.00,9,   -999.0,9,   -999.0,9,   -999.0,9,   -999.0,9,   -999.0,9,  -999.00,9, -999.00,  -999.0,-999.0000,-999.000, -999.00,  -999.0,  1.6308,-999.000