BOTTLE,20220630CCHSIOAMB
EXPOCODE,SECT_ID,STNNBR,CASTNO,SAMPNO,BTLNBR,BTLNBR_FLAG_W,DATE,TIME,LATITUDE,LONGITUDE,DEPTH,CTDPRS,CTDTMP,CTDSAL,CTDSAL_FLAG_W,SALNTY,SALNTY_FLAG_W,CTDOXY,CTDOXY_FLAG_W,OXYGEN,OXYGEN_FLAG_W,SILCAT,SILCAT_FLAG_W,NITRAT,NITRAT_FLAG_W,NITRIT,NITRIT_FLAG_W,PHSPHT,PHSPHT_FLAG_W,CFC-11,CFC-11_FLAG_W,CFC-12,CFC-12_FLAG_W,CFC113,CFC113_FLAG_W,CCL4,CCL4_FLAG_W,TRITUM,TRITUM_FLAG_W,HELIUM,HELIUM_FLAG_W,DELHE3,DELHE3_FLAG_W,DELC14,DELC14_FLAG_W,DELC13,DELC13_FLAG_W,TCARBN,TCARBN_FLAG_W,PCO2,PCO2_FLAG_W,ALKALI,ALKALI_FLAG_W,PH,PH_FLAG_W,PCO2TMP,C14ERR,HELIER,DELHER,PH_TMP,C13ERR,THETA,TRITER
,,,,,,,,,,,,DBAR,ITS-90,PSS-78,,PSS-78,,UMOL/KG,,UMOL/KG,,UMOL/KG,,UMOL/KG,,UMOL/KG,,UMOL/KG,,PMOL/KG,,PMOL/KG,,PMOL/KG,,PMOL/KG,,TU,,NMOL/KG,,PERCNT,,/MILLE,,/MILLE,,UMOL/KG,,UATM,,UMOL/KG,,,,DEG C,/MILLE,NMOL/KG,PERCNT,DEG C,/MILLE,DEG C,TU
    31DSCG94_2,  P18S,    48,  1,    124,    435,2,19940312,2125,-45.4817,-102.9717, 3638,     10.6,  11.9390,  34.1039,2,  34.1037,2,    219.8,3,    267.2,2,     5.64,2,    12.80,2,     0.22,2,     1.06,2, -999.000,9, -999.000,9, -999.000,9, -999.000,9, -999.000,9,-999.0000,9,  -999.00,9,   -999.0,9,   -999.0,9,   2060.9,2,    506.7,2,   2252.0,2,  -999.00,9,   20.00,  -999.0,-999.0000,-999.000, -999.00,  -999.0, 11.9377,-999.000
    31DSCG94_2,  P18S,    48,  1,    123,    421,2,19940312,2125,-45.4817,-102.9717, 3638,     23.3,  11.9106,  34.1047,2,  34.1047,2,    269.0,2,    269.0,2,     5.74,2,    12.68,2,     0.23,2,     1.05,2, -999.000,9, -999.000,9, -999.000,9, -999.000,9, -999.000,9,-999.0000,9,  -999.00,9,   -999.0,9,   -999.0,9,   2060.7,2,    508.0,2,   2265.0,2,  -999.00,9,   20.00,  -999.0,-999.0000,-999.000, -999.00,  -999.0, 11.9077,-999.000
    31DSCG94_2,  P18S,    48,  1,    122,    418,2,19940312,2125,-45.4817,-102.9717, 3638,     50.2,  11.3478,  34.1257,2,-999.0000,5,    269.3,2,    269.0,2,     5.22,2,    13.35,2,     0.21,2,     1.07,2, -999.000,9, -999.000,9, -999.000,9, -999.000,9, -999.000,9,-999.0000,9,  -999.00,9,   -999.0,9,   -999.0,9,   2064.6,2,    514.6,2,   2264.0,2,  -999.00,9,   20.00,  -999.0,-999.0000,-999.000, -999.00,  -999.0, 11.3416,-999.000
    31DSCG94_2,  P18S,    48,  1,    121,    413,2,19940312,2125,-45.4817,-102.9717, 3638,    104.0,   8.1160,  34.1492,2,  34.1506,2,    280.5,2,    282.0,2,     6.22,2,    14.34,2,     0.26,2,     1.14,2, -999.000,9, -999.000,9, -999.000,9, -999.000,9, -999.000,9,-999.0000,9,  -999.00,9,   -999.0,9,   -999.0,9,   2083.7,2,    575.8,2,   2267.0,2,  -999.00,9,   20.00,  -999.0,-999.0000,-999.000, -999.00,  -999.0,  8.1055,-999.000
    31DSCG94_2,  P18S,    48,  1,    120,    405,2,19940312,2125,-45.4817,-102.9717, 3638,    153.5,   7.2239,  34.2149,2,  34.2119,2,    272.1,2,    270.3,2,     7.41,2,    17.52,2,     0.19,2,     1.32,2, -999.000,9, -999.000,9, -999.000,9, -999.000,9, -999.000,9,-999.0000,9,  -999.00,9,   -999.0,9,   -999.0,9,   2104.0,2,    644.9,2,   2267.0,2,  -999.00,9,   20.00,  -999.0,-999.0000,-999.000, -999.00,  -999.0,  7.2095,-999.000
    31DSCG94_2,  P18S,    48,  1,    119,    417,2,19940312,2125,-45.4817,-102.9717, 3638,    195.1,   6.9306,  34.2983,2,  34.3010,2,    264.2,2,    258.4,2,     9.07,2,    20.05,2,     0.03,2,     1.43,2, -999.000,9, -999.000,9, -999.000,9, -999.000,9, -999.000,9,-999.0000,9,  -999.00,9,   -999.0,9,   -999.0,9,   2121.6,3,    698.3,2,   2273.0,2,  -999.00,9,   20.00,  -999.0,-999.0000,-999.000, -999.00,  -999.0,  6.9127,-999.000
    31DSCG94_2,  P18S,    48,  1,    118,    429,2,19940312,2125,-45.4817,-102.9717, 3638,    301.3,   6.4402,  34.3033,2,  34.3048,2,    266.6,2,    265.6,2,    10.52,2,    20.75,2,     0.01,2,     1.40,2, -999.000,9, -999.000,9, -999.000,9, -999.000,9, -999.000,9,-999.0000,9,  -999.00,9,   -999.0,9,   -999.0,9,   -999.0,9,    695.2,2,   -999.0,9,  -999.00,9,   20.00,  -999.0,-999.0000,-999.000, -999.00,  -999.0,  6.4133,-999.000
    31DSCG94_2,  P18S,    48,  1,    117,    427,2,19940312,2125,-45.4817,-102.9717, 3638,    400.0,   6.1831,  34.3014,2,  34.3018,2,    264.0,2,    266.1,2,    11.83,2,    21.37,2,     0.00,2,     1.48,2, -999.000,9, -999.000,9, -999.000,9, -999.000,9, -999.000,9,-999.0000,9,  -999.00,9,   -999.0,9,   -999.0,9,   2124.8,3,    709.9,2,   2278.0,2,  -999.00,9,   20.00,  -999.0,-999.0000,-999.000, -999.00,  -999.0,  6.1480,-999.000
    31DSCG94_2,  P18S,    48,  1,    116,    410,2,19940312,2125,-45.4817,-102.9717, 3638,    497.7,   5.9752,  34.2975,2,  34.2984,2,    263.0,2,    263.1,2,    12.52,2,    22.10,2,     0.00,2,     1.55,2, -999.000,9, -999.000,9, -999.000,9, -999.000,9, -999.000,9,-999.0000,9,  -999.00,9,   -999.0,9,   -999.0,9,   2130.1,3,    718.3,2,   2277.0,2,  -999.00,9,   20.00,  -999.0,-999.0000,-999.000, -999.00,  -999.0,  5.9319,-999.000
    31DSCG94_2,  P18S,    48,  1,    115,    422,2,19940312,2125,-45.4817,-102.9717, 3638,    598.0,   5.7128,  34.2817,2,  34.2824,2,    256.8,2,    259.4,2,    14.28,2,    23.11,2,     0.00,2,     1.65,2, -999.000,9, -999.000,9, -999.000,9, -999.000,9, -999.000,9,-999.0000,9,  -999.00,9,   -999.0,9,   -999.0,9,   2135.3,3,    740.3,2,   -999.0,5,  -999.00,9,   20.00,  -999.0,-999.0000,-999.000, -999.00,  -999.0,  5.6617,-999.000
    31DSCG94_2,  P18S,    48,  1,    114,    407,2,19940312,2125,-45.4817,-102.9717, 3638,    699.5,   5.3625,  34.2665,2,  34.2673,2,    248.7,2,    251.4,2,    16.61,2,    25.08,2,     0.00,2,     1.78,2, -999.000,9, -999.000,9, -999.000,9, -999.000,9, -999.000,9,-999.0000,9,  -999.00,9,   -999.0,9,   -999.0,9,   2143.0,3,   -999.0,9,   2280.0,2,  -999.00,9, -999.00,  -999.0,-999.0000,-999.000, -999.00,  -999.0,  5.3041,-999.000
    31DSCG94_2,  P18S,    48,  1,    113,    419,2,19940312,2125,-45.4817,-102.9717, 3638,    801.0,   4.9628,  34.2593,2,  34.2602,2,    238.1,2,    240.8,2,    20.15,2,    26.69,2,     0.01,2,     1.88,2, -999.000,9, -999.000,9, -999.000,9, -999.000,9, -999.000,9,-999.0000,9,  -999.00,9,   -999.0,9,   -999.0,9,   2156.8,3,    825.8,2,   2282.0,2,  -999.00,9,   20.00,  -999.0,-999.0000,-999.000, -999.00,  -999.0,  4.8978,-999.000
    31DSCG94_2,  P18S,    48,  1,    112,    426,3,19940312,2125,-45.4817,-102.9717, 3638,    900.2,   4.5342,  34.2715,2,-999.0000,5,    220.5,2,   -999.0,9,  -999.00,9,  -999.00,9,  -999.00,9,  -999.00,9, -999.000,9, -999.000,9, -999.000,9, -999.000,9, -999.000,9,-999.0000,9,  -999.00,9,   -999.0,9,   -999.0,9,   -999.0,9,   -999.0,9,   -999.0,9,  -999.00,9, -999.00,  -999.0,-999.0000,-999.000, -999.00,  -999.0,  4.4634,-999.000
    31DSCG94_2,  P18S,    48,  1,    111,    424,2,19940312,2125,-45.4817,-102.9717, 3638,   1000.0,   4.0845,  34.3022,2,  34.3013,2,    208.6,2,   -999.0,9,    35.22,2,    30.44,2,     0.00,2,     2.15,2, -999.000,9, -999.000,9, -999.000,9, -999.000,9, -999.000,9,-999.0000,9,  -999.00,9,   -999.0,9,   -999.0,9,   2182.9,3,   -999.0,9,   2295.0,6,  -999.00,9, -999.00,  -999.0,-999.0000,-999.000, -999.00,  -999.0,  4.0085,-999.000
    31DSCG94_2,  P18S,    48,  1,    110,    409,2,19940312,2125,-45.4817,-102.9717, 3638,   1100.2,   3.6869,  34.3319,2,  34.3315,2,    198.0,2,   -999.0,9,    43.21,2,    32.57,2,     0.00,2,     2.28,2, -999.000,9, -999.000,9, -999.000,9, -999.000,9, -999.000,9,-999.0000,9,  -999.00,9,   -999.0,9,   -999.0,9,   -999.0,9,   1040.7,2,   -999.0,9,  -999.00,9,   20.00,  -999.0,-999.0000,-999.000, -999.00,  -999.0,  3.6058,-999.000
    31DSCG94_2,  P18S,    48,  1,    109,    423,3,19940312,2125,-45.4817,-102.9717, 3638,   1201.2,   3.3600,  34.3714,2,-999.0000,9,    186.9,2,   -999.0,9,  -999.00,9,  -999.00,9,  -999.00,9,  -999.00,9, -999.000,9, -999.000,9, -999.000,9, -999.000,9, -999.000,9,-999.0000,9,  -999.00,9,   -999.0,9,   -999.0,9,   -999.0,9,   -999.0,9,   -999.0,9,  -999.00,9, -999.00,  -999.0,-999.0000,-999.000, -999.00,  -999.0,  3.2735,-999.000
    31DSCG94_2,  P18S,    48,  1,    108,    414,3,19940312,2125,-45.4817,-102.9717, 3638,   1501.0,   2.8431,  34.4977,2,-999.0000,9,    162.4,2,   -999.0,9,  -999.00,9,  -999.00,9,  -999.00,9,  -999.00,9, -999.000,9, -999.000,9, -999.000,9, -999.000,9, -999.000,9,-999.0000,9,  -999.00,9,   -999.0,9,   -999.0,9,   -999.0,9,   -999.0,9,   -999.0,9,  -999.00,9, -999.00,  -999.0,-999.0000,-999.000, -999.00,  -999.0,  2.7372,-999.000
    31DSCG94_2,  P18S,    48,  1,    107,    437,2,19940312,2125,-45.4817,-102.9717, 3638,   1804.7,   2.4667,  34.5912,2,  34.5897,2,    161.5,2,    161.2,2,    84.41,2,    34.27,2,     0.01,2,     2.47,2, -999.000,9, -999.000,9, -999.000,9, -999.000,9, -999.000,9,-999.0000,9,  -999.00,9,   -999.0,9,   -999.0,9,   -999.0,9,   1196.1,2,   -999.0,9,  -999.00,9,   20.00,  -999.0,-999.0000,-999.000, -999.00,  -999.0,  2.3400,-999.000
    31DSCG94_2,  P18S,    48,  1,    106,    416,2,19940312,2125,-45.4817,-102.9717, 3638,   2108.2,   2.2069,  34.6580,2,  34.6559,2,    165.2,2,    165.1,2,    93.00,2,    33.68,2,     0.01,2,     2.42,2, -999.000,9, -999.000,9, -999.000,9, -999.000,9, -999.000,9,-999.0000,9,  -999.00,9,   -999.0,9,   -999.0,9,   -999.0,9,   -999.0,9,   -999.0,9,  -999.00,9, -999.00,  -999.0,-999.0000,-999.000, -999.00,  -999.0,  2.0579,-999.000
    31DSCG94_2,  P18S,    48,  1,    105,    420,2,19940312,2125,-45.4817,-102.9717, 3638,   2397.6,   1.9789,  34.6874,2,  34.6865,2,    169.0,2,    168.5,2,   103.50,2,    33.20,2,     0.01,2,     2.34,2, -999.000,9, -999.000,9, -999.000,9, -999.000,9, -999.000,9,-999.0000,9,  -999.00,9,   -999.0,9,   -999.0,9,   -999.0,9,   1138.4,2,   -999.0,9,  -999.00,9,   20.00,  -999.0,-999.0000,-999.000, -999.00,  -999.0,  1.8081,-999.000
    31DSCG94_2,  P18S,    48,  1,    104,    436,2,19940312,2125,-45.4817,-102.9717, 3638,   2703.5,   1.7956,  34.6981,2,  34.6977,2,    173.0,2,    172.4,2,   110.51,2,    33.56,2,     0.00,2,     2.36,2, -999.000,9, -999.000,9, -999.000,9, -999.000,9, -999.000,9,-999.0000,9,  -999.00,9,   -999.0,9,   -999.0,9,   -999.0,9,   -999.0,9,   -999.0,9,  -999.00,9, -999.00,  -999.0,-999.0000,-999.000, -999.00,  -999.0,  1.6003,-999.000
    31DSCG94_2,  P18S,    48,  1,    103,    425,2,19940312,2125,-45.4817,-102.9717, 3638,   3001.2,   1.6480,  34.7054,2,  34.7043,2,    178.6,2,    177.8,2,   111.58,2,    32.85,2,     0.00,2,     2.31,2, -999.000,9, -999.000,9, -999.000,9, -999.000,9, -999.000,9,-999.0000,9,  -999.00,9,   -999.0,9,   -999.0,9,   -999.0,9,   1089.9,2,   -999.0,9,  -999.00,9,   20.00,  -999.0,-999.0000,-999.000, -999.00,  -999.0,  1.4276,-999.000
    31DSCG94_2,  P18S,    48,  1,    102,    433,2,19940312,2125,-45.4817,-102.9717, 3638,   3391.3,   1.4111,  34.7071,2,  34.7066,2,    186.0,2,    185.0,2,   116.97,2,    33.14,2,     0.00,2,     2.33,2, -999.000,9, -999.000,9, -999.000,9, -999.000,9, -999.000,9,-999.0000,9,  -999.00,9,   -999.0,9,   -999.0,9,   -999.0,9,   -999.0,9,   -999.0,9,  -999.00,9, -999.00,  -999.0,-999.0000,-999.000, -999.00,  -999.0,  1.1579,-999.000
    31DSCG94_2,  P18S,    48,  1,    101,    403,2,19940312,2125,-45.4817,-102.9717, 3638,   3784.6,   1.1786,  34.7080,2,  34.7073,2,    191.9,2,    191.8,2,   123.80,2,    33.37,2,     0.02,2,     2.36,2, -999.000,9, -999.000,9, -999.000,9, -999.000,9, -999.000,9,-999.0000,9,  -999.00,9,   -999.0,9,   -999.0,9,   -999.0,9,   1055.2,2,   -999.0,9,  -999.00,9,   20.00,  -999.0,-999.0000,-999.000, -999.00,  -999.0,  0.8913,-999.000