BOTTLE,20220630CCHSIOAMB
EXPOCODE,SECT_ID,STNNBR,CASTNO,SAMPNO,BTLNBR,BTLNBR_FLAG_W,DATE,TIME,LATITUDE,LONGITUDE,DEPTH,CTDPRS,CTDTMP,CTDSAL,CTDSAL_FLAG_W,SALNTY,SALNTY_FLAG_W,CTDOXY,CTDOXY_FLAG_W,OXYGEN,OXYGEN_FLAG_W,SILCAT,SILCAT_FLAG_W,NITRAT,NITRAT_FLAG_W,NITRIT,NITRIT_FLAG_W,PHSPHT,PHSPHT_FLAG_W,CFC-11,CFC-11_FLAG_W,CFC-12,CFC-12_FLAG_W,CFC113,CFC113_FLAG_W,CCL4,CCL4_FLAG_W,TRITUM,TRITUM_FLAG_W,HELIUM,HELIUM_FLAG_W,DELHE3,DELHE3_FLAG_W,DELC14,DELC14_FLAG_W,DELC13,DELC13_FLAG_W,TCARBN,TCARBN_FLAG_W,PCO2,PCO2_FLAG_W,ALKALI,ALKALI_FLAG_W,PH,PH_FLAG_W,PCO2TMP,C14ERR,HELIER,DELHER,PH_TMP,C13ERR,THETA,TRITER
,,,,,,,,,,,,DBAR,ITS-90,PSS-78,,PSS-78,,UMOL/KG,,UMOL/KG,,UMOL/KG,,UMOL/KG,,UMOL/KG,,UMOL/KG,,PMOL/KG,,PMOL/KG,,PMOL/KG,,PMOL/KG,,TU,,NMOL/KG,,PERCNT,,/MILLE,,/MILLE,,UMOL/KG,,UATM,,UMOL/KG,,,,DEG C,/MILLE,NMOL/KG,PERCNT,DEG C,/MILLE,DEG C,TU
    31DSCG94_1,     x,     6,  1,    126,     -1,2,19940129,0227, 44.2053,-129.6218, 3292,     10.7,  11.4611,  32.5037,2,  32.5034,2,    292.4,2,   -999.0,9,  -999.00,9,  -999.00,9,  -999.00,9,  -999.00,9, -999.000,9, -999.000,9, -999.000,9, -999.000,9, -999.000,9,-999.0000,9,  -999.00,9,   -999.0,9,   -999.0,9,   -999.0,9,   -999.0,9,   -999.0,9,  -999.00,9, -999.00,  -999.0,-999.0000,-999.000, -999.00,  -999.0, 11.4598,-999.000
    31DSCG94_1,     x,     6,  1,    125,     -1,2,19940129,0227, 44.2053,-129.6218, 3292,    194.1,   7.1409,  33.7393,2,  33.7458,2,    179.6,2,   -999.0,9,  -999.00,9,  -999.00,9,  -999.00,9,  -999.00,9, -999.000,9, -999.000,9, -999.000,9, -999.000,9, -999.000,9,-999.0000,9,  -999.00,9,   -999.0,9,   -999.0,9,   -999.0,9,   -999.0,9,   -999.0,9,  -999.00,9, -999.00,  -999.0,-999.0000,-999.000, -999.00,  -999.0,  7.1229,-999.000
    31DSCG94_1,     x,     6,  1,    124,     -1,2,19940129,0227, 44.2053,-129.6218, 3292,    400.7,   5.2709,  33.9664,2,  33.9676,2,     80.6,2,   -999.0,9,  -999.00,9,  -999.00,9,  -999.00,9,  -999.00,9, -999.000,9, -999.000,9, -999.000,9, -999.000,9, -999.000,9,-999.0000,9,  -999.00,9,   -999.0,9,   -999.0,9,   -999.0,9,   -999.0,9,   -999.0,9,  -999.00,9, -999.00,  -999.0,-999.0000,-999.000, -999.00,  -999.0,  5.2388,-999.000
    31DSCG94_1,     x,     6,  1,    123,     -1,2,19940129,0227, 44.2053,-129.6218, 3292,    800.4,   3.8831,  34.2719,2,  34.2770,3,    -11.6,3,   -999.0,9,  -999.00,9,  -999.00,9,  -999.00,9,  -999.00,9, -999.000,9, -999.000,9, -999.000,9, -999.000,9, -999.000,9,-999.0000,9,  -999.00,9,   -999.0,9,   -999.0,9,   -999.0,9,   -999.0,9,   -999.0,9,  -999.00,9, -999.00,  -999.0,-999.0000,-999.000, -999.00,  -999.0,  3.8247,-999.000
    31DSCG94_1,     x,     6,  1,    122,     -1,2,19940129,0227, 44.2053,-129.6218, 3292,   1200.2,   3.1226,  34.4590,2,  34.4602,2,     -8.5,3,   -999.0,9,  -999.00,9,  -999.00,9,  -999.00,9,  -999.00,9, -999.000,9, -999.000,9, -999.000,9, -999.000,9, -999.000,9,-999.0000,9,  -999.00,9,   -999.0,9,   -999.0,9,   -999.0,9,   -999.0,9,   -999.0,9,  -999.00,9, -999.00,  -999.0,-999.0000,-999.000, -999.00,  -999.0,  3.0381,-999.000
    31DSCG94_1,     x,     6,  1,    121,     -1,2,19940129,0227, 44.2053,-129.6218, 3292,   1398.0,   2.7178,  34.4974,2,  34.5016,3,     -3.9,3,   -999.0,9,  -999.00,9,  -999.00,9,  -999.00,9,  -999.00,9, -999.000,9, -999.000,9, -999.000,9, -999.000,9, -999.000,9,-999.0000,9,  -999.00,9,   -999.0,9,   -999.0,9,   -999.0,9,   -999.0,9,   -999.0,9,  -999.00,9, -999.00,  -999.0,-999.0000,-999.000, -999.00,  -999.0,  2.6217,-999.000
    31DSCG94_1,     x,     6,  1,    120,     -1,2,19940129,0227, 44.2053,-129.6218, 3292,   1497.0,   2.5001,  34.5229,2,  34.5223,2,      3.8,2,   -999.0,9,  -999.00,9,  -999.00,9,  -999.00,9,  -999.00,9, -999.000,9, -999.000,9, -999.000,9, -999.000,9, -999.000,9,-999.0000,9,  -999.00,9,   -999.0,9,   -999.0,9,   -999.0,9,   -999.0,9,   -999.0,9,  -999.00,9, -999.00,  -999.0,-999.0000,-999.000, -999.00,  -999.0,  2.3984,-999.000
    31DSCG94_1,     x,     6,  1,    119,     -1,2,19940129,0227, 44.2053,-129.6218, 3292,   1599.7,   2.3417,  34.5428,2,  34.5464,2,      8.5,2,   -999.0,9,  -999.00,9,  -999.00,9,  -999.00,9,  -999.00,9, -999.000,9, -999.000,9, -999.000,9, -999.000,9, -999.000,9,-999.0000,9,  -999.00,9,   -999.0,9,   -999.0,9,   -999.0,9,   -999.0,9,   -999.0,9,  -999.00,9, -999.00,  -999.0,-999.0000,-999.000, -999.00,  -999.0,  2.2337,-999.000
    31DSCG94_1,     x,     6,  1,    118,     -1,2,19940129,0227, 44.2053,-129.6218, 3292,   1699.3,   2.2056,  34.5603,2,  34.5598,2,     15.7,2,   -999.0,9,  -999.00,9,  -999.00,9,  -999.00,9,  -999.00,9, -999.000,9, -999.000,9, -999.000,9, -999.000,9, -999.000,9,-999.0000,9,  -999.00,9,   -999.0,9,   -999.0,9,   -999.0,9,   -999.0,9,   -999.0,9,  -999.00,9, -999.00,  -999.0,-999.0000,-999.000, -999.00,  -999.0,  2.0912,-999.000
    31DSCG94_1,     x,     6,  1,    117,     -1,2,19940129,0227, 44.2053,-129.6218, 3292,   1799.3,   2.0877,  34.5742,2,  34.5723,2,     23.0,2,   -999.0,9,  -999.00,9,  -999.00,9,  -999.00,9,  -999.00,9, -999.000,9, -999.000,9, -999.000,9, -999.000,9, -999.000,9,-999.0000,9,  -999.00,9,   -999.0,9,   -999.0,9,   -999.0,9,   -999.0,9,   -999.0,9,  -999.00,9, -999.00,  -999.0,-999.0000,-999.000, -999.00,  -999.0,  1.9667,-999.000
    31DSCG94_1,     x,     6,  1,    116,     -1,2,19940129,0227, 44.2053,-129.6218, 3292,   1900.3,   1.9810,  34.5889,2,  34.5920,2,     29.4,2,   -999.0,9,  -999.00,9,  -999.00,9,  -999.00,9,  -999.00,9, -999.000,9, -999.000,9, -999.000,9, -999.000,9, -999.000,9,-999.0000,9,  -999.00,9,   -999.0,9,   -999.0,9,   -999.0,9,   -999.0,9,   -999.0,9,  -999.00,9, -999.00,  -999.0,-999.0000,-999.000, -999.00,  -999.0,  1.8533,-999.000
    31DSCG94_1,     x,     6,  1,    115,     -1,2,19940129,0227, 44.2053,-129.6218, 3292,   2001.9,   1.8969,  34.6032,2,  34.6008,2,     34.3,2,   -999.0,9,  -999.00,9,  -999.00,9,  -999.00,9,  -999.00,9, -999.000,9, -999.000,9, -999.000,9, -999.000,9, -999.000,9,-999.0000,9,  -999.00,9,   -999.0,9,   -999.0,9,   -999.0,9,   -999.0,9,   -999.0,9,  -999.00,9, -999.00,  -999.0,-999.0000,-999.000, -999.00,  -999.0,  1.7620,-999.000
    31DSCG94_1,     x,     6,  1,    114,     -1,2,19940129,0227, 44.2053,-129.6218, 3292,   2101.5,   1.8506,  34.6126,2,-999.0000,5,     39.2,2,   -999.0,9,  -999.00,9,  -999.00,9,  -999.00,9,  -999.00,9, -999.000,9, -999.000,9, -999.000,9, -999.000,9, -999.000,9,-999.0000,9,  -999.00,9,   -999.0,9,   -999.0,9,   -999.0,9,   -999.0,9,   -999.0,9,  -999.00,9, -999.00,  -999.0,-999.0000,-999.000, -999.00,  -999.0,  1.7080,-999.000
    31DSCG94_1,     x,     6,  1,    113,     -1,2,19940129,0227, 44.2053,-129.6218, 3292,   2201.1,   1.8366,  34.6165,2,  34.6161,2,     41.5,2,   -999.0,9,  -999.00,9,  -999.00,9,  -999.00,9,  -999.00,9, -999.000,9, -999.000,9, -999.000,9, -999.000,9, -999.000,9,-999.0000,9,  -999.00,9,   -999.0,9,   -999.0,9,   -999.0,9,   -999.0,9,   -999.0,9,  -999.00,9, -999.00,  -999.0,-999.0000,-999.000, -999.00,  -999.0,  1.6857,-999.000
    31DSCG94_1,     x,     6,  1,    112,     -1,2,19940129,0227, 44.2053,-129.6218, 3292,   2303.2,   1.8230,  34.6205,2,  34.6170,2,     43.0,2,   -999.0,9,  -999.00,9,  -999.00,9,  -999.00,9,  -999.00,9, -999.000,9, -999.000,9, -999.000,9, -999.000,9, -999.000,9,-999.0000,9,  -999.00,9,   -999.0,9,   -999.0,9,   -999.0,9,   -999.0,9,   -999.0,9,  -999.00,9, -999.00,  -999.0,-999.0000,-999.000, -999.00,  -999.0,  1.6635,-999.000
    31DSCG94_1,     x,     6,  1,    111,     -1,2,19940129,0227, 44.2053,-129.6218, 3292,   2403.8,   1.8198,  34.6225,2,  34.6252,2,     44.3,2,   -999.0,9,  -999.00,9,  -999.00,9,  -999.00,9,  -999.00,9, -999.000,9, -999.000,9, -999.000,9, -999.000,9, -999.000,9,-999.0000,9,  -999.00,9,   -999.0,9,   -999.0,9,   -999.0,9,   -999.0,9,   -999.0,9,  -999.00,9, -999.00,  -999.0,-999.0000,-999.000, -999.00,  -999.0,  1.6515,-999.000
    31DSCG94_1,     x,     6,  1,    110,     -1,2,19940129,0227, 44.2053,-129.6218, 3292,   2502.3,   1.8171,  34.6247,2,  34.6207,3,     44.8,2,   -999.0,9,  -999.00,9,  -999.00,9,  -999.00,9,  -999.00,9, -999.000,9, -999.000,9, -999.000,9, -999.000,9, -999.000,9,-999.0000,9,  -999.00,9,   -999.0,9,   -999.0,9,   -999.0,9,   -999.0,9,   -999.0,9,  -999.00,9, -999.00,  -999.0,-999.0000,-999.000, -999.00,  -999.0,  1.6401,-999.000
    31DSCG94_1,     x,     6,  1,    109,     -1,2,19940129,0227, 44.2053,-129.6218, 3292,   2502.3,   1.8151,  34.6247,2,-999.0000,5,     44.8,2,   -999.0,9,  -999.00,9,  -999.00,9,  -999.00,9,  -999.00,9, -999.000,9, -999.000,9, -999.000,9, -999.000,9, -999.000,9,-999.0000,9,  -999.00,9,   -999.0,9,   -999.0,9,   -999.0,9,   -999.0,9,   -999.0,9,  -999.00,9, -999.00,  -999.0,-999.0000,-999.000, -999.00,  -999.0,  1.6381,-999.000
    31DSCG94_1,     x,     6,  1,    108,     -1,2,19940129,0227, 44.2053,-129.6218, 3292,   2600.9,   1.8179,  34.6259,2,  34.6335,3,     45.6,2,   -999.0,9,  -999.00,9,  -999.00,9,  -999.00,9,  -999.00,9, -999.000,9, -999.000,9, -999.000,9, -999.000,9, -999.000,9,-999.0000,9,  -999.00,9,   -999.0,9,   -999.0,9,   -999.0,9,   -999.0,9,   -999.0,9,  -999.00,9, -999.00,  -999.0,-999.0000,-999.000, -999.00,  -999.0,  1.6319,-999.000
    31DSCG94_1,     x,     6,  1,    107,     -1,2,19940129,0227, 44.2053,-129.6218, 3292,   2700.8,   1.8231,  34.6277,2,  34.6251,2,     45.8,2,   -999.0,9,  -999.00,9,  -999.00,9,  -999.00,9,  -999.00,9, -999.000,9, -999.000,9, -999.000,9, -999.000,9, -999.000,9,-999.0000,9,  -999.00,9,   -999.0,9,   -999.0,9,   -999.0,9,   -999.0,9,   -999.0,9,  -999.00,9, -999.00,  -999.0,-999.0000,-999.000, -999.00,  -999.0,  1.6278,-999.000
    31DSCG94_1,     x,     6,  1,    106,     -1,2,19940129,0227, 44.2053,-129.6218, 3292,   2800.1,   1.8322,  34.6283,2,  34.6256,2,     45.1,2,   -999.0,9,  -999.00,9,  -999.00,9,  -999.00,9,  -999.00,9, -999.000,9, -999.000,9, -999.000,9, -999.000,9, -999.000,9,-999.0000,9,  -999.00,9,   -999.0,9,   -999.0,9,   -999.0,9,   -999.0,9,   -999.0,9,  -999.00,9, -999.00,  -999.0,-999.0000,-999.000, -999.00,  -999.0,  1.6274,-999.000
    31DSCG94_1,     x,     6,  1,    105,     -1,2,19940129,0227, 44.2053,-129.6218, 3292,   2892.5,   1.8381,  34.6281,2,  34.6243,2,     45.1,2,   -999.0,9,  -999.00,9,  -999.00,9,  -999.00,9,  -999.00,9, -999.000,9, -999.000,9, -999.000,9, -999.000,9, -999.000,9,-999.0000,9,  -999.00,9,   -999.0,9,   -999.0,9,   -999.0,9,   -999.0,9,   -999.0,9,  -999.00,9, -999.00,  -999.0,-999.0000,-999.000, -999.00,  -999.0,  1.6244,-999.000
    31DSCG94_1,     x,     6,  1,    104,     -1,2,19940129,0227, 44.2053,-129.6218, 3292,   3001.3,   1.8469,  34.6284,2,  34.6268,2,     44.6,2,   -999.0,9,  -999.00,9,  -999.00,9,  -999.00,9,  -999.00,9, -999.000,9, -999.000,9, -999.000,9, -999.000,9, -999.000,9,-999.0000,9,  -999.00,9,   -999.0,9,   -999.0,9,   -999.0,9,   -999.0,9,   -999.0,9,  -999.00,9, -999.00,  -999.0,-999.0000,-999.000, -999.00,  -999.0,  1.6225,-999.000
    31DSCG94_1,     x,     6,  1,    103,     -1,2,19940129,0227, 44.2053,-129.6218, 3292,   3094.8,   1.8550,  34.6287,2,  34.6247,3,     44.0,2,   -999.0,9,  -999.00,9,  -999.00,9,  -999.00,9,  -999.00,9, -999.000,9, -999.000,9, -999.000,9, -999.000,9, -999.000,9,-999.0000,9,  -999.00,9,   -999.0,9,   -999.0,9,   -999.0,9,   -999.0,9,   -999.0,9,  -999.00,9, -999.00,  -999.0,-999.0000,-999.000, -999.00,  -999.0,  1.6213,-999.000
    31DSCG94_1,     x,     6,  1,    102,     -1,2,19940129,0227, 44.2053,-129.6218, 3292,   3197.1,   1.8645,  34.6287,2,  34.6267,2,     43.9,2,   -999.0,9,  -999.00,9,  -999.00,9,  -999.00,9,  -999.00,9, -999.000,9, -999.000,9, -999.000,9, -999.000,9, -999.000,9,-999.0000,9,  -999.00,9,   -999.0,9,   -999.0,9,   -999.0,9,   -999.0,9,   -999.0,9,  -999.00,9, -999.00,  -999.0,-999.0000,-999.000, -999.00,  -999.0,  1.6204,-999.000
    31DSCG94_1,     x,     6,  1,    101,     -1,2,19940129,0227, 44.2053,-129.6218, 3292,   3296.7,   1.8751,  34.6283,2,  34.6387,4,     43.0,2,   -999.0,9,  -999.00,9,  -999.00,9,  -999.00,9,  -999.00,9, -999.000,9, -999.000,9, -999.000,9, -999.000,9, -999.000,9,-999.0000,9,  -999.00,9,   -999.0,9,   -999.0,9,   -999.0,9,   -999.0,9,   -999.0,9,  -999.00,9, -999.00,  -999.0,-999.0000,-999.000, -999.00,  -999.0,  1.6207,-999.000
    31DSCG94_1,     x,     7,  1,    114,     -1,2,19940129,0610, 44.3000,-129.5883, 2494,   1201.5,   3.0228,  34.4634,2,  34.4620,2,     -9.4,3,   -999.0,9,  -999.00,9,  -999.00,9,  -999.00,9,  -999.00,9, -999.000,9, -999.000,9, -999.000,9, -999.000,9, -999.000,9,-999.0000,9,  -999.00,9,   -999.0,9,   -999.0,9,   -999.0,9,   -999.0,9,   -999.0,9,  -999.00,9, -999.00,  -999.0,-999.0000,-999.000, -999.00,  -999.0,  2.9392,-999.000
    31DSCG94_1,     x,     7,  1,    113,     -1,2,19940129,0610, 44.3000,-129.5883, 2494,   1300.5,   2.7935,  34.4894,2,  34.4880,2,     -5.8,3,   -999.0,9,  -999.00,9,  -999.00,9,  -999.00,9,  -999.00,9, -999.000,9, -999.000,9, -999.000,9, -999.000,9, -999.000,9,-999.0000,9,  -999.00,9,   -999.0,9,   -999.0,9,   -999.0,9,   -999.0,9,   -999.0,9,  -999.00,9, -999.00,  -999.0,-999.0000,-999.000, -999.00,  -999.0,  2.7043,-999.000
    31DSCG94_1,     x,     7,  1,    112,     -1,2,19940129,0610, 44.3000,-129.5883, 2494,   1400.4,   2.6155,  34.5097,2,  34.5090,2,     -1.5,3,   -999.0,9,  -999.00,9,  -999.00,9,  -999.00,9,  -999.00,9, -999.000,9, -999.000,9, -999.000,9, -999.000,9, -999.000,9,-999.0000,9,  -999.00,9,   -999.0,9,   -999.0,9,   -999.0,9,   -999.0,9,   -999.0,9,  -999.00,9, -999.00,  -999.0,-999.0000,-999.000, -999.00,  -999.0,  2.5202,-999.000
    31DSCG94_1,     x,     7,  1,    111,     -1,2,19940129,0610, 44.3000,-129.5883, 2494,   1500.3,   2.3854,  34.5227,2,  34.5222,2,      2.4,2,   -999.0,9,  -999.00,9,  -999.00,9,  -999.00,9,  -999.00,9, -999.000,9, -999.000,9, -999.000,9, -999.000,9, -999.000,9,-999.0000,9,  -999.00,9,   -999.0,9,   -999.0,9,   -999.0,9,   -999.0,9,   -999.0,9,  -999.00,9, -999.00,  -999.0,-999.0000,-999.000, -999.00,  -999.0,  2.2848,-999.000
    31DSCG94_1,     x,     7,  1,    110,     -1,2,19940129,0610, 44.3000,-129.5883, 2494,   1600.8,   2.2594,  34.5406,2,  34.5401,2,      7.6,2,   -999.0,9,  -999.00,9,  -999.00,9,  -999.00,9,  -999.00,9, -999.000,9, -999.000,9, -999.000,9, -999.000,9, -999.000,9,-999.0000,9,  -999.00,9,   -999.0,9,   -999.0,9,   -999.0,9,   -999.0,9,   -999.0,9,  -999.00,9, -999.00,  -999.0,-999.0000,-999.000, -999.00,  -999.0,  2.1522,-999.000
    31DSCG94_1,     x,     7,  1,    109,     -1,2,19940129,0610, 44.3000,-129.5883, 2494,   1699.5,   2.1585,  34.5547,2,  34.5564,2,     14.3,2,   -999.0,9,  -999.00,9,  -999.00,9,  -999.00,9,  -999.00,9, -999.000,9, -999.000,9, -999.000,9, -999.000,9, -999.000,9,-999.0000,9,  -999.00,9,   -999.0,9,   -999.0,9,   -999.0,9,   -999.0,9,   -999.0,9,  -999.00,9, -999.00,  -999.0,-999.0000,-999.000, -999.00,  -999.0,  2.0447,-999.000
    31DSCG94_1,     x,     7,  1,    108,     -1,2,19940129,0610, 44.3000,-129.5883, 2494,   1798.1,   2.0730,  34.5720,2,  34.5743,2,     19.6,2,   -999.0,9,  -999.00,9,  -999.00,9,  -999.00,9,  -999.00,9, -999.000,9, -999.000,9, -999.000,9, -999.000,9, -999.000,9,-999.0000,9,  -999.00,9,   -999.0,9,   -999.0,9,   -999.0,9,   -999.0,9,   -999.0,9,  -999.00,9, -999.00,  -999.0,-999.0000,-999.000, -999.00,  -999.0,  1.9523,-999.000
    31DSCG94_1,     x,     7,  1,    107,     -1,2,19940129,0610, 44.3000,-129.5883, 2494,   1901.1,   1.9662,  34.5906,2,  34.5895,2,     28.9,2,   -999.0,9,  -999.00,9,  -999.00,9,  -999.00,9,  -999.00,9, -999.000,9, -999.000,9, -999.000,9, -999.000,9, -999.000,9,-999.0000,9,  -999.00,9,   -999.0,9,   -999.0,9,   -999.0,9,   -999.0,9,   -999.0,9,  -999.00,9, -999.00,  -999.0,-999.0000,-999.000, -999.00,  -999.0,  1.8386,-999.000
    31DSCG94_1,     x,     7,  1,    106,     -1,2,19940129,0610, 44.3000,-129.5883, 2494,   1998.8,   1.9243,  34.5986,2,  34.5989,2,     32.8,2,   -999.0,9,  -999.00,9,  -999.00,9,  -999.00,9,  -999.00,9, -999.000,9, -999.000,9, -999.000,9, -999.000,9, -999.000,9,-999.0000,9,  -999.00,9,   -999.0,9,   -999.0,9,   -999.0,9,   -999.0,9,   -999.0,9,  -999.00,9, -999.00,  -999.0,-999.0000,-999.000, -999.00,  -999.0,  1.7892,-999.000
    31DSCG94_1,     x,     7,  1,    105,     -1,2,19940129,0610, 44.3000,-129.5883, 2494,   2099.2,   1.8642,  34.6099,2,  34.6232,4,     37.7,2,   -999.0,9,  -999.00,9,  -999.00,9,  -999.00,9,  -999.00,9, -999.000,9, -999.000,9, -999.000,9, -999.000,9, -999.000,9,-999.0000,9,  -999.00,9,   -999.0,9,   -999.0,9,   -999.0,9,   -999.0,9,   -999.0,9,  -999.00,9, -999.00,  -999.0,-999.0000,-999.000, -999.00,  -999.0,  1.7215,-999.000
    31DSCG94_1,     x,     7,  1,    104,     -1,2,19940129,0610, 44.3000,-129.5883, 2494,   2201.3,   1.8391,  34.6153,2,  34.6152,2,     40.4,2,   -999.0,9,  -999.00,9,  -999.00,9,  -999.00,9,  -999.00,9, -999.000,9, -999.000,9, -999.000,9, -999.000,9, -999.000,9,-999.0000,9,  -999.00,9,   -999.0,9,   -999.0,9,   -999.0,9,   -999.0,9,   -999.0,9,  -999.00,9, -999.00,  -999.0,-999.0000,-999.000, -999.00,  -999.0,  1.6882,-999.000
    31DSCG94_1,     x,     7,  1,    103,     -1,2,19940129,0610, 44.3000,-129.5883, 2494,   2298.5,   1.8321,  34.6182,2,  34.6179,2,     41.8,2,   -999.0,9,  -999.00,9,  -999.00,9,  -999.00,9,  -999.00,9, -999.000,9, -999.000,9, -999.000,9, -999.000,9, -999.000,9,-999.0000,9,  -999.00,9,   -999.0,9,   -999.0,9,   -999.0,9,   -999.0,9,   -999.0,9,  -999.00,9, -999.00,  -999.0,-999.0000,-999.000, -999.00,  -999.0,  1.6729,-999.000
    31DSCG94_1,     x,     7,  1,    102,     -1,2,19940129,0610, 44.3000,-129.5883, 2494,   2398.0,   1.8224,  34.6212,2,  34.6243,2,     43.6,2,   -999.0,9,  -999.00,9,  -999.00,9,  -999.00,9,  -999.00,9, -999.000,9, -999.000,9, -999.000,9, -999.000,9, -999.000,9,-999.0000,9,  -999.00,9,   -999.0,9,   -999.0,9,   -999.0,9,   -999.0,9,   -999.0,9,  -999.00,9, -999.00,  -999.0,-999.0000,-999.000, -999.00,  -999.0,  1.6546,-999.000
    31DSCG94_1,     x,     7,  1,    101,     -1,2,19940129,0610, 44.3000,-129.5883, 2494,   2477.7,   1.8071,  34.6251,2,  34.6241,2,     44.2,2,   -999.0,9,  -999.00,9,  -999.00,9,  -999.00,9,  -999.00,9, -999.000,9, -999.000,9, -999.000,9, -999.000,9, -999.000,9,-999.0000,9,  -999.00,9,   -999.0,9,   -999.0,9,   -999.0,9,   -999.0,9,   -999.0,9,  -999.00,9, -999.00,  -999.0,-999.0000,-999.000, -999.00,  -999.0,  1.6325,-999.000