BOTTLE,20220630CCHSIOAMB
EXPOCODE,SECT_ID,STNNBR,CASTNO,SAMPNO,BTLNBR,BTLNBR_FLAG_W,DATE,TIME,LATITUDE,LONGITUDE,DEPTH,CTDPRS,CTDTMP,CTDSAL,CTDSAL_FLAG_W,SALNTY,SALNTY_FLAG_W,CTDOXY,CTDOXY_FLAG_W,OXYGEN,OXYGEN_FLAG_W,SILCAT,SILCAT_FLAG_W,NITRAT,NITRAT_FLAG_W,NITRIT,NITRIT_FLAG_W,PHSPHT,PHSPHT_FLAG_W,CFC-11,CFC-11_FLAG_W,CFC-12,CFC-12_FLAG_W,CFC113,CFC113_FLAG_W,CCL4,CCL4_FLAG_W,TRITUM,TRITUM_FLAG_W,HELIUM,HELIUM_FLAG_W,DELHE3,DELHE3_FLAG_W,DELC14,DELC14_FLAG_W,DELC13,DELC13_FLAG_W,TCARBN,TCARBN_FLAG_W,PCO2,PCO2_FLAG_W,ALKALI,ALKALI_FLAG_W,PH,PH_FLAG_W,PCO2TMP,C14ERR,HELIER,DELHER,PH_TMP,C13ERR,THETA,TRITER
,,,,,,,,,,,,DBAR,ITS-90,PSS-78,,PSS-78,,UMOL/KG,,UMOL/KG,,UMOL/KG,,UMOL/KG,,UMOL/KG,,UMOL/KG,,PMOL/KG,,PMOL/KG,,PMOL/KG,,PMOL/KG,,TU,,NMOL/KG,,PERCNT,,/MILLE,,/MILLE,,UMOL/KG,,UATM,,UMOL/KG,,,,DEG C,/MILLE,NMOL/KG,PERCNT,DEG C,/MILLE,DEG C,TU
    31DSCG94_3,  P18N,   113,  1,    135,   1247,2,19940405,0040,-13.0100,-103.0083, 4252,     10.2,  25.5910,  35.9926,2,  35.9918,2,    212.3,2,    207.0,2,     6.40,3,     0.75,2,     0.02,2,     0.30,2,    1.861,6,    1.032,6, -999.000,9, -999.000,9, -999.000,9,-999.0000,9,  -999.00,9,     97.1,2,      1.7,2,   2031.4,2,   -999.0,9,   2371.0,2,     8.09,2, -999.00,     4.4,-999.0000,-999.000,   25.00,  -999.0, 25.5887,-999.000
    31DSCG94_3,  P18N,   113,  1,    136,   1025,2,19940405,0040,-13.0100,-103.0083, 4252,     10.4,  25.5898,  35.9925,2,  35.9914,2,    212.3,2,   -999.0,9,     3.43,3,     0.74,2,     0.02,2,     0.32,2,    1.853,2,    1.062,2, -999.000,9, -999.000,9, -999.000,9,-999.0000,9,  -999.00,9,     65.6,2,      1.8,2,   2032.1,2,    292.6,2,   2370.0,6,     8.09,2,   20.00,     7.2,-999.0000,-999.000,   25.00,  -999.0, 25.5875,-999.000
    31DSCG94_3,  P18N,   113,  1,    134,   1216,2,19940405,0040,-13.0100,-103.0083, 4252,     24.5,  25.5948,  35.9888,2,  35.9974,2,    207.7,2,    208.6,2,     7.33,3,     0.72,2,     0.01,2,     0.32,2,    1.869,2,    1.046,2, -999.000,9, -999.000,9, -999.000,9,-999.0000,9,  -999.00,9,     63.0,2,      1.7,2,   2032.4,2,    293.5,2,   2367.0,2,     8.09,2,   20.00,     3.8,-999.0000,-999.000,   25.00,  -999.0, 25.5893,-999.000
    31DSCG94_3,  P18N,   113,  1,    133,   1244,2,19940405,0040,-13.0100,-103.0083, 4252,     49.9,  24.0986,  36.1820,2,  36.1874,2,    210.8,2,    213.3,6,     7.90,3,     0.14,2,     0.00,2,     0.28,2,    1.986,2,    1.103,2, -999.000,9, -999.000,9, -999.000,9,-999.0000,9,  -999.00,9,     83.9,2,      1.9,2,   2046.3,2,    304.2,2,   2396.0,2,  -999.00,9,   20.00,     5.6,-999.0000,-999.000, -999.00,  -999.0, 24.0880,-999.000
    31DSCG94_3,  P18N,   113,  1,    132,   1003,3,19940405,0040,-13.0100,-103.0083, 4252,     77.5,  22.6916,  36.2876,2,  36.2854,2,    210.7,2,    214.8,2,     8.44,3,     0.03,2,     0.00,2,     0.29,2,    2.144,2,    1.149,2, -999.000,9, -999.000,9, -999.000,9,-999.0000,9,  -999.00,9,    100.9,2,      1.8,2,   -999.0,9,   -999.0,9,   -999.0,9,  -999.00,9, -999.00,     5.6,-999.0000,-999.000, -999.00,  -999.0, 22.6758,-999.000
    31DSCG94_3,  P18N,   113,  1,    131,   1211,2,19940405,0040,-13.0100,-103.0083, 4252,     98.1,  22.1449,  36.1880,2,  36.1816,2,    210.8,2,    209.5,2,     7.76,3,     0.07,2,     0.08,2,     0.34,2,    2.153,6,    1.243,6, -999.000,9, -999.000,9, -999.000,9,-999.0000,9,  -999.00,9,    117.7,2,      1.8,2,   2069.4,2,   -999.0,9,   2387.0,2,     8.05,2, -999.00,     4.5,-999.0000,-999.000,   25.00,  -999.0, 22.1253,-999.000
    31DSCG94_3,  P18N,   113,  1,    130,   1241,2,19940405,0040,-13.0100,-103.0083, 4252,    124.1,  20.9972,  35.9583,2,  35.9642,2,    197.8,2,    200.2,2,     6.90,3,     1.04,2,     0.88,2,     0.46,2,    2.201,2,    1.214,2, -999.000,9, -999.000,9, -999.000,9,-999.0000,9,  -999.00,9,     92.0,2,      1.6,2,   2081.4,2,    371.1,2,   2380.0,2,     8.01,2,   20.00,     5.1,-999.0000,-999.000,   25.00,  -999.0, 20.9733,-999.000
    31DSCG94_3,  P18N,   113,  1,    129,   1240,3,19940405,0040,-13.0100,-103.0083, 4252,    148.7,  19.3280,  35.6228,2,  35.6335,2,    185.4,2,    185.0,2,     7.87,3,     4.74,2,     0.05,2,     0.66,2,    2.282,2,    1.234,2, -999.000,9, -999.000,9, -999.000,9,-999.0000,9,  -999.00,9,    106.3,2,      1.4,2,   -999.0,9,   -999.0,9,   -999.0,9,  -999.00,9, -999.00,     4.2,-999.0000,-999.000, -999.00,  -999.0, 19.3010,-999.000
    31DSCG94_3,  P18N,   113,  1,    128,   1032,3,19940405,0040,-13.0100,-103.0083, 4252,    198.5,  15.4690,  35.0389,2,  35.0428,2,    109.4,2,    110.8,2,    12.90,3,    14.71,2,     0.01,2,     1.44,2,    1.895,2,    1.003,2, -999.000,9, -999.000,9, -999.000,9,-999.0000,9,  -999.00,9,     90.3,2,      0.7,2,   -999.0,9,   -999.0,9,   -999.0,9,  -999.00,9, -999.00,     4.5,-999.0000,-999.000, -999.00,  -999.0, 15.4383,-999.000
    31DSCG94_3,  P18N,   113,  1,    127,   1008,2,19940405,0040,-13.0100,-103.0083, 4252,    237.3,  12.8310,  34.7816,2,  34.7814,2,     42.0,2,     30.1,2,    23.12,2,    21.30,2,     0.01,2,     2.28,2,    0.848,2,    0.459,2, -999.000,9, -999.000,9, -999.000,9,-999.0000,9,  -999.00,9,     32.4,2,      0.2,2,   2230.5,2,   1331.2,2,   2294.0,2,     7.51,2,   20.00,     6.5,-999.0000,-999.000,   25.00,  -999.0, 12.7987,-999.000
    31DSCG94_3,  P18N,   113,  1,    126,   1007,2,19940405,0040,-13.0100,-103.0083, 4252,    300.2,  10.6028,  34.7045,2,  35.0430,4,     20.7,2,     15.8,2,    30.80,2,    31.21,2,     0.01,2,     2.58,2,    0.131,6,    0.076,6, -999.000,9, -999.000,9, -999.000,9,-999.0000,9,  -999.00,9,    -47.0,2,      0.1,2,   2256.2,2,   -999.0,9,   2299.0,2,     7.43,2, -999.00,     3.8,-999.0000,-999.000,   25.00,  -999.0, 10.5665,-999.000
    31DSCG94_3,  P18N,   113,  1,    125,   1203,2,19940405,0040,-13.0100,-103.0083, 4252,    350.9,   9.5289,  34.6776,2,  34.6749,2,     32.1,2,     24.7,2,    33.69,2,    34.55,2,     0.03,2,     2.55,2,    0.065,2,    0.025,2, -999.000,9, -999.000,9, -999.000,9,-999.0000,9,  -999.00,9,    -72.4,2,      0.2,2,   2256.1,2,   1574.8,2,   2307.0,2,     7.44,2,   20.00,     4.2,-999.0000,-999.000,   25.00,  -999.0,  9.4892,-999.000
    31DSCG94_3,  P18N,   113,  1,    123,   1220,2,19940405,0040,-13.0100,-103.0083, 4252,    495.9,   7.8518,  34.6019,2,  34.5989,2,     54.2,2,     53.6,2,    41.94,2,    37.21,2,     0.02,2,     2.56,2, -999.000,5, -999.000,5, -999.000,9, -999.000,9, -999.000,9,-999.0000,9,  -999.00,9,    -94.2,6,      0.3,6,   2254.6,2,   1510.3,2,   2306.0,2,     7.46,2,   20.00,     5.8,-999.0000,-999.000,   25.00,  -999.0,  7.8015,-999.000
    31DSCG94_3,  P18N,   113,  1,    122,   1245,2,19940405,0040,-13.0100,-103.0083, 4252,    601.6,   6.9893,  34.5595,2,  34.5574,2,     59.5,2,     59.2,2,    47.34,2,    39.60,2,     0.01,2,     2.65,2,    0.001,6,    0.001,6, -999.000,9, -999.000,9, -999.000,9,-999.0000,9,  -999.00,9,   -109.5,2,      0.2,2,   2260.4,2,   1534.3,2,   2316.0,2,     7.46,2,   20.00,     3.7,-999.0000,-999.000,   25.00,  -999.0,  6.9318,-999.000
    31DSCG94_3,  P18N,   113,  1,    121,   1206,2,19940405,0040,-13.0100,-103.0083, 4252,    703.1,   6.1824,  34.5278,2,  34.5252,2,     53.4,2,     53.4,2,    54.06,2,    41.97,2,     0.00,2,     2.84,2,   -0.001,2,   -0.002,2, -999.000,9, -999.000,9, -999.000,9,-999.0000,9,  -999.00,9,   -120.6,2,      0.2,2,   2276.5,2,   1671.2,2,   2328.0,3,     7.42,2,   20.00,     4.1,-999.0000,-999.000,   25.00,  -999.0,  6.1190,-999.000
    31DSCG94_3,  P18N,   113,  1,    120,   1028,2,19940405,0040,-13.0100,-103.0083, 4252,    794.5,   5.5386,  34.5159,2,  34.5138,2,     53.1,2,     52.4,2,    61.90,2,    43.25,2,     0.00,2,     2.95,2,   -0.001,2,   -0.002,2, -999.000,9, -999.000,9, -999.000,9,-999.0000,9,  -999.00,9,   -132.6,2,      0.1,2,   2288.5,2,   1710.0,2,   2323.0,2,     7.41,2,   20.00,     4.8,-999.0000,-999.000,   25.00,  -999.0,  5.4703,-999.000
    31DSCG94_3,  P18N,   113,  1,    119,   1248,2,19940405,0040,-13.0100,-103.0083, 4252,    895.5,   4.9275,  34.5173,2,  34.5151,2,     52.2,2,     52.8,6,    70.68,2,    44.24,2,     0.00,2,     3.04,2,    0.000,2,   -0.002,2, -999.000,9, -999.000,9, -999.000,9,-999.0000,9,  -999.00,9,   -151.9,2,      0.1,2,   2299.9,2,   1775.1,2,   2338.0,2,     7.40,2,   20.00,     3.5,-999.0000,-999.000,   25.00,  -999.0,  4.8541,-999.000
    31DSCG94_3,  P18N,   113,  1,    118,   1115,2,19940405,0040,-13.0100,-103.0083, 4252,   1000.4,   4.4065,  34.5280,2,-999.0000,5,     61.6,2,     61.6,2,  -999.00,9,  -999.00,9,  -999.00,9,  -999.00,9,   -0.002,2,   -0.002,2, -999.000,9, -999.000,9, -999.000,9,-999.0000,9,  -999.00,9,   -999.0,9,   -999.0,9,   2304.0,2,   1708.7,2,   2345.0,6,  -999.00,9,   20.00,  -999.0,-999.0000,-999.000, -999.00,  -999.0,  4.3277,-999.000
    31DSCG94_3,  P18N,   113,  1,    117,   1119,2,19940405,0040,-13.0100,-103.0083, 4252,   1100.6,   4.0547,  34.5412,2,  34.5397,2,     71.5,2,     73.0,2,    87.48,2,    42.87,2,     0.00,2,     2.98,2, -999.000,9, -999.000,9, -999.000,9, -999.000,9, -999.000,9,-999.0000,9,  -999.00,9,   -181.0,2,      0.0,2,   2310.2,2,   1630.6,2,   2357.0,2,     7.44,2,   20.00,     4.0,-999.0000,-999.000,   25.00,  -999.0,  3.9701,-999.000
    31DSCG94_3,  P18N,   113,  1,    116,   1036,2,19940405,0040,-13.0100,-103.0083, 4252,   1198.9,   3.7083,  34.5556,2,  34.5538,2,     78.5,2,     78.3,2,    94.14,2,    42.47,2,     0.00,2,     2.94,2, -999.000,9, -999.000,9, -999.000,9, -999.000,9, -999.000,9,-999.0000,9,  -999.00,9,   -201.5,2,      0.0,2,   2315.7,2,   1609.3,2,   2362.0,2,     7.45,2,   20.00,     6.9,-999.0000,-999.000,   25.00,  -999.0,  3.6184,-999.000
    31DSCG94_3,  P18N,   113,  1,    115,   1017,2,19940405,0040,-13.0100,-103.0083, 4252,   1299.6,   3.4035,  34.5701,2,-999.0000,5,     85.8,2,     86.0,2,   102.78,2,    42.84,2,     0.01,2,     2.98,2, -999.000,9, -999.000,9, -999.000,9, -999.000,9, -999.000,9,-999.0000,9,  -999.00,9,   -195.2,2,     -0.0,2,   2318.3,2,   1549.8,2,   2381.0,2,  -999.00,9,   20.00,     3.5,-999.0000,-999.000, -999.00,  -999.0,  3.3080,-999.000
    31DSCG94_3,  P18N,   113,  1,    114,   1016,2,19940405,0040,-13.0100,-103.0083, 4252,   1399.8,   3.1449,  34.5830,2,  34.5810,2,     93.8,2,     93.8,2,   106.01,2,    40.88,2,     0.00,2,     2.85,2,    0.043,4,   -0.002,2, -999.000,9, -999.000,9, -999.000,9,-999.0000,9,  -999.00,9,   -999.0,9,   -999.0,5,   2321.1,2,   1493.3,2,   2379.0,2,     7.48,2,   20.00,  -999.0,-999.0000,-999.000,   25.00,  -999.0,  3.0438,-999.000
    31DSCG94_3,  P18N,   113,  1,    113,   1209,2,19940405,0040,-13.0100,-103.0083, 4252,   1600.3,   2.7656,  34.6048,2,  34.6027,2,    107.3,2,    104.2,2,   116.96,2,    39.71,2,     0.00,2,     2.78,2, -999.000,9, -999.000,9, -999.000,9, -999.000,9, -999.000,9,-999.0000,9,  -999.00,9,   -217.7,2,      0.0,2,   2324.4,2,   1426.1,2,   2387.0,2,     7.50,2,   20.00,     5.0,-999.0000,-999.000,   25.00,  -999.0,  2.6521,-999.000
    31DSCG94_3,  P18N,   113,  1,    112,   1033,2,19940405,0040,-13.0100,-103.0083, 4252,   1800.5,   2.4465,  34.6239,2,  34.6227,2,    117.1,2,    114.8,6,   124.27,2,    38.74,2,     0.00,2,     2.71,2, -999.000,9, -999.000,9, -999.000,9, -999.000,9, -999.000,9,-999.0000,9,  -999.00,9,   -210.6,2,      0.1,2,   2325.7,2,   1366.4,2,   2400.0,2,     7.52,2,   20.00,     4.4,-999.0000,-999.000,   25.00,  -999.0,  2.3204,-999.000
    31DSCG94_3,  P18N,   113,  1,    111,   1240,2,19940405,0040,-13.0100,-103.0083, 4252,   1998.8,   2.2325,  34.6380,2,  34.6363,2,    125.1,2,    124.1,2,   126.64,2,    38.37,2,     0.00,2,     2.65,2, -999.000,9, -999.000,9, -999.000,9, -999.000,9, -999.000,9,-999.0000,9,  -999.00,9,   -218.4,2,      0.0,2,   2325.6,2,   1320.5,2,   2400.0,2,     7.53,2,   20.00,     3.2,-999.0000,-999.000,   25.00,  -999.0,  2.0925,-999.000
    31DSCG94_3,  P18N,   113,  1,    110,   1005,2,19940405,0040,-13.0100,-103.0083, 4252,   2250.6,   1.9909,  34.6562,2,  34.6561,2,    134.8,2,    132.9,2,   129.19,2,    36.92,2,     0.00,2,     2.56,2, -999.000,9, -999.000,9, -999.000,9, -999.000,9, -999.000,9,-999.0000,9,  -999.00,9,   -229.5,2,      0.0,2,   2325.1,2,   1263.4,2,   2414.0,2,     7.55,2,   20.00,     3.8,-999.0000,-999.000,   25.00,  -999.0,  1.8330,-999.000
    31DSCG94_3,  P18N,   113,  1,    109,   1611,2,19940405,0040,-13.0100,-103.0083, 4252,   2498.7,   1.8503,  34.6685,2,  34.6668,2,    143.2,2,    141.4,2,   129.37,2,    37.03,2,     0.00,2,     2.53,2,    0.001,2,   -0.003,2, -999.000,9, -999.000,9, -999.000,9,-999.0000,9,  -999.00,9,   -216.6,2,      0.1,2,   2322.3,2,   1215.8,2,   2420.0,2,     7.57,2,   20.00,     3.2,-999.0000,-999.000,   25.00,  -999.0,  1.6728,-999.000
    31DSCG94_3,  P18N,   113,  1,    108,   1218,2,19940405,0040,-13.0100,-103.0083, 4252,   2748.4,   1.7915,  34.6740,2,  34.6734,2,    142.6,2,    140.4,2,   133.99,2,    37.03,2,     0.00,2,     2.54,2, -999.000,9, -999.000,9, -999.000,9, -999.000,9, -999.000,9,-999.0000,9,  -999.00,9,   -219.5,2,      0.1,2,   2329.8,2,   1203.6,2,   2419.0,2,     7.57,2,   20.00,     3.1,-999.0000,-999.000,   25.00,  -999.0,  1.5922,-999.000
    31DSCG94_3,  P18N,   113,  1,    107,   1257,2,19940405,0040,-13.0100,-103.0083, 4252,   2997.7,   1.7746,  34.6751,2,  34.6746,2,    139.9,2,    138.3,2,   141.33,2,    37.03,2,     0.00,2,     2.54,2, -999.000,9, -999.000,9, -999.000,9, -999.000,9, -999.000,9,-999.0000,9,  -999.00,9,   -207.2,2,      0.1,2,   2336.2,2,   1210.4,2,   2424.0,2,     7.57,2,   20.00,     3.3,-999.0000,-999.000,   25.00,  -999.0,  1.5519,-999.000
    31DSCG94_3,  P18N,   113,  1,    106,   1224,2,19940405,0040,-13.0100,-103.0083, 4252,   3249.2,   1.7637,  34.6742,2,  34.6733,2,    137.2,2,    134.8,2,   149.83,2,    37.51,2,     0.00,2,     2.55,2,    0.000,2,    0.000,2, -999.000,9, -999.000,9, -999.000,9,-999.0000,9,  -999.00,9,   -999.0,5,     -0.0,2,   2338.8,2,   1223.6,2,   2427.0,2,     7.57,2,   20.00,  -999.0,-999.0000,-999.000,   25.00,  -999.0,  1.5165,-999.000
    31DSCG94_3,  P18N,   113,  1,    105,   1246,2,19940405,0040,-13.0100,-103.0083, 4252,   3498.6,   1.7708,  34.6757,2,  34.6738,2,    137.3,2,    135.9,2,   148.82,2,    37.43,2,     0.00,2,     2.55,2, -999.000,9, -999.000,9, -999.000,9, -999.000,9, -999.000,9,-999.0000,9,  -999.00,9,   -214.2,2,      0.0,2,   2339.0,2,   1210.0,2,   2429.0,2,     7.57,2,   20.00,     3.4,-999.0000,-999.000,   25.00,  -999.0,  1.4980,-999.000
    31DSCG94_3,  P18N,   113,  1,    104,   1217,2,19940405,0040,-13.0100,-103.0083, 4252,   3746.3,   1.7856,  34.6761,2,  34.6744,2,    137.8,2,    135.7,2,   147.21,2,    37.44,2,     0.00,2,     2.56,2, -999.000,9, -999.000,9, -999.000,9, -999.000,9, -999.000,9,-999.0000,9,  -999.00,9,   -999.0,9,   -999.0,9,   2339.6,2,   1208.2,2,   -999.0,5,     7.57,2,   20.00,  -999.0,-999.0000,-999.000,   25.00,  -999.0,  1.4862,-999.000
    31DSCG94_3,  P18N,   113,  1,    103,   9999,2,19940405,0040,-13.0100,-103.0083, 4252,   3747.9,   1.7859,  34.6760,2,  34.6748,2,    137.7,2,    135.8,2,   145.87,2,    37.42,2,     0.00,2,     2.54,2,   -0.002,2,   -0.003,2, -999.000,9, -999.000,9, -999.000,9,-999.0000,9,  -999.00,9,   -222.5,2,     -0.1,2,   2338.6,2,   1201.5,2,   2431.0,2,     7.57,2,   20.00,     3.3,-999.0000,-999.000,   25.00,  -999.0,  1.4864,-999.000
    31DSCG94_3,  P18N,   113,  1,    102,   1223,2,19940405,0040,-13.0100,-103.0083, 4252,   4000.4,   1.8082,  34.6759,2,  34.6746,2,    137.1,2,    136.8,2,   145.72,2,    37.28,2,     0.00,2,     2.54,2, -999.000,9, -999.000,9, -999.000,9, -999.000,9, -999.000,9,-999.0000,9,  -999.00,9,   -221.1,2,     -0.1,2,   2338.2,2,   1203.7,2,   2429.0,2,     7.57,2,   20.00,     4.0,-999.0000,-999.000,   25.00,  -999.0,  1.4805,-999.000
    31DSCG94_3,  P18N,   113,  1,    101,   1041,2,19940405,0040,-13.0100,-103.0083, 4252,   4345.0,   1.8456,  34.6763,2,  34.6748,2,    136.9,2,    136.8,2,   145.43,2,    36.97,2,     0.00,2,     2.56,2, -999.000,9, -999.000,9, -999.000,9, -999.000,9, -999.000,9,-999.0000,9,  -999.00,9,   -228.1,2,      0.0,2,   2337.7,2,   1195.5,2,   2434.0,2,     7.57,2,   20.00,     2.9,-999.0000,-999.000,   25.00,  -999.0,  1.4779,-999.000