BOTTLE,20220630CCHSIOAMB
EXPOCODE,SECT_ID,STNNBR,CASTNO,SAMPNO,BTLNBR,BTLNBR_FLAG_W,DATE,TIME,LATITUDE,LONGITUDE,DEPTH,CTDPRS,CTDTMP,CTDSAL,CTDSAL_FLAG_W,SALNTY,SALNTY_FLAG_W,CTDOXY,CTDOXY_FLAG_W,OXYGEN,OXYGEN_FLAG_W,SILCAT,SILCAT_FLAG_W,NITRAT,NITRAT_FLAG_W,NITRIT,NITRIT_FLAG_W,PHSPHT,PHSPHT_FLAG_W,CFC-11,CFC-11_FLAG_W,CFC-12,CFC-12_FLAG_W,CFC113,CFC113_FLAG_W,CCL4,CCL4_FLAG_W,TRITUM,TRITUM_FLAG_W,HELIUM,HELIUM_FLAG_W,DELHE3,DELHE3_FLAG_W,DELC14,DELC14_FLAG_W,DELC13,DELC13_FLAG_W,TCARBN,TCARBN_FLAG_W,PCO2,PCO2_FLAG_W,ALKALI,ALKALI_FLAG_W,PH,PH_FLAG_W,PCO2TMP,C14ERR,HELIER,DELHER,PH_TMP,C13ERR,THETA,TRITER
,,,,,,,,,,,,DBAR,ITS-90,PSS-78,,PSS-78,,UMOL/KG,,UMOL/KG,,UMOL/KG,,UMOL/KG,,UMOL/KG,,UMOL/KG,,PMOL/KG,,PMOL/KG,,PMOL/KG,,PMOL/KG,,TU,,NMOL/KG,,PERCNT,,/MILLE,,/MILLE,,UMOL/KG,,UATM,,UMOL/KG,,,,DEG C,/MILLE,NMOL/KG,PERCNT,DEG C,/MILLE,DEG C,TU
    31DSCG94_3,  P18N,   130,  3,    324,    435,2,19940409,1938, -5.7732,-109.2027, 3491,      7.3,  27.8544,  34.5790,2,  34.5810,2,    215.0,2,    203.4,2,     3.52,2,     3.07,2,     0.05,2,     0.41,2, -999.000,9, -999.000,9, -999.000,9, -999.000,9, -999.000,9,-999.0000,9,  -999.00,9,   -999.0,9,      1.6,2,   1971.2,2,   -999.0,9,   2276.0,2,     8.07,2, -999.00,  -999.0,-999.0000,-999.000,   25.00,  -999.0, 27.8527,-999.000
    31DSCG94_3,  P18N,   130,  3,    323,    421,2,19940409,1938, -5.7732,-109.2027, 3491,     26.0,  27.7035,  34.6135,2,  34.5948,2,    177.5,2,    203.8,2,     3.35,2,     3.03,2,     0.05,2,     0.42,2, -999.000,9, -999.000,9, -999.000,9, -999.000,9, -999.000,9,-999.0000,9,  -999.00,9,   -999.0,9,   -999.0,9,   -999.0,9,   -999.0,9,   -999.0,9,     8.07,2, -999.00,  -999.0,-999.0000,-999.000,   25.00,  -999.0, 27.6974,-999.000
    31DSCG94_3,  P18N,   130,  3,    322,    418,2,19940409,1938, -5.7732,-109.2027, 3491,     49.7,  25.6312,  35.3385,2,-999.0000,9,    179.4,2,    202.8,2,     3.57,2,     5.37,2,     0.10,2,     0.67,2, -999.000,9, -999.000,9, -999.000,9, -999.000,9, -999.000,9,-999.0000,9,  -999.00,9,   -999.0,9,   -999.0,9,   2033.4,2,   -999.0,9,   2324.0,2,  -999.00,9, -999.00,  -999.0,-999.0000,-999.000, -999.00,  -999.0, 25.6203,-999.000
    31DSCG94_3,  P18N,   130,  3,    321,    413,2,19940409,1938, -5.7732,-109.2027, 3491,    100.1,  18.8162,  35.4667,2,  35.4795,2,    124.6,2,    138.8,2,     4.56,2,     8.94,2,     1.38,2,     1.07,2, -999.000,9, -999.000,9, -999.000,9, -999.000,9, -999.000,9,-999.0000,9,  -999.00,9,   -999.0,9,   -999.0,9,   2133.3,2,   -999.0,9,   2335.0,2,     7.85,2, -999.00,  -999.0,-999.0000,-999.000,   25.00,  -999.0, 18.7984,-999.000
    31DSCG94_3,  P18N,   130,  3,    320,    405,2,19940409,1938, -5.7732,-109.2027, 3491,    150.6,  13.7121,  34.9658,2,  34.9771,2,     29.6,2,     11.5,2,    18.48,2,    26.31,2,     0.01,2,     2.24,2, -999.000,9, -999.000,9, -999.000,9, -999.000,9, -999.000,9,-999.0000,9,  -999.00,9,   -999.0,9,   -999.0,9,   2234.6,2,   -999.0,9,   2300.0,2,     7.52,2, -999.00,  -999.0,-999.0000,-999.000,   25.00,  -999.0, 13.6907,-999.000
    31DSCG94_3,  P18N,   130,  3,    319,    417,2,19940409,1938, -5.7732,-109.2027, 3491,    202.0,  12.1875,  34.8895,2,  34.8887,2,     23.2,2,   -999.0,9,    23.25,2,    30.23,2,     0.00,2,     2.25,2, -999.000,9, -999.000,9, -999.000,9, -999.000,9, -999.000,9,-999.0000,9,  -999.00,9,   -999.0,9,   -999.0,9,   2235.5,2,   -999.0,9,   2296.0,2,     7.51,2, -999.00,  -999.0,-999.0000,-999.000,   25.00,  -999.0, 12.1609,-999.000
    31DSCG94_3,  P18N,   130,  3,    318,    429,2,19940409,1938, -5.7732,-109.2027, 3491,    249.9,  11.4600,  34.8384,2,  34.8392,2,     15.8,2,     19.0,2,    26.83,2,    32.37,2,     0.01,2,     2.32,2, -999.000,9, -999.000,9, -999.000,9, -999.000,9, -999.000,9,-999.0000,9,  -999.00,9,   -999.0,9,   -999.0,9,   2243.6,2,   -999.0,9,   2303.0,2,     7.48,2, -999.00,  -999.0,-999.0000,-999.000,   25.00,  -999.0, 11.4284,-999.000
    31DSCG94_3,  P18N,   130,  3,    317,    427,2,19940409,1938, -5.7732,-109.2027, 3491,    299.3,  10.8242,  34.7964,2,  34.7975,2,      8.4,2,     10.3,2,    30.88,2,    33.45,2,     0.01,2,     2.47,2, -999.000,9, -999.000,9, -999.000,9, -999.000,9, -999.000,9,-999.0000,9,  -999.00,9,   -999.0,9,   -999.0,9,   2257.6,2,   -999.0,9,   2301.0,2,     7.44,2, -999.00,  -999.0,-999.0000,-999.000,   25.00,  -999.0, 10.7876,-999.000
    31DSCG94_3,  P18N,   130,  3,    316,    410,2,19940409,1938, -5.7732,-109.2027, 3491,    400.3,   9.2773,  34.6998,2,  34.7033,2,     -1.2,3,      5.8,2,    37.70,2,    37.13,2,     0.00,2,     2.71,2, -999.000,9, -999.000,9, -999.000,9, -999.000,9, -999.000,9,-999.0000,9,  -999.00,9,   -999.0,9,   -999.0,9,   2276.1,2,   -999.0,9,   2298.0,2,     7.40,2, -999.00,  -999.0,-999.0000,-999.000,   25.00,  -999.0,  9.2326,-999.000
    31DSCG94_3,  P18N,   130,  3,    315,    422,2,19940409,1938, -5.7732,-109.2027, 3491,    502.0,   7.6993,  34.6159,2,  34.6193,2,     -1.9,3,      9.8,2,    46.26,2,    43.10,2,     0.00,2,     2.92,2, -999.000,9, -999.000,9, -999.000,9, -999.000,9, -999.000,9,-999.0000,9,  -999.00,9,   -999.0,9,   -999.0,9,   2288.6,2,   -999.0,9,   2306.0,2,     7.37,2, -999.00,  -999.0,-999.0000,-999.000,   25.00,  -999.0,  7.6488,-999.000
    31DSCG94_3,  P18N,   130,  3,    314,    407,2,19940409,1938, -5.7732,-109.2027, 3491,    599.1,   6.6937,  34.5738,2,  34.5743,2,     11.9,2,     31.0,2,    52.46,2,    43.00,2,     0.00,2,     2.91,2, -999.000,9, -999.000,9, -999.000,9, -999.000,9, -999.000,9,-999.0000,9,  -999.00,9,   -999.0,9,   -999.0,9,   2286.4,2,   -999.0,9,   2311.0,2,     7.39,2, -999.00,  -999.0,-999.0000,-999.000,   25.00,  -999.0,  6.6377,-999.000
    31DSCG94_3,  P18N,   130,  3,    313,    419,2,19940409,1938, -5.7732,-109.2027, 3491,    701.0,   6.0226,  34.5515,2,  34.5519,2,     33.6,2,     48.6,2,    58.94,2,    42.16,2,     0.01,2,     2.87,2, -999.000,9, -999.000,9, -999.000,9, -999.000,9, -999.000,9,-999.0000,9,  -999.00,9,   -999.0,9,   -999.0,9,   2285.5,2,   -999.0,9,   2313.0,2,     7.42,2, -999.00,  -999.0,-999.0000,-999.000,   25.00,  -999.0,  5.9601,-999.000
    31DSCG94_3,  P18N,   130,  3,    312,    426,2,19940409,1938, -5.7732,-109.2027, 3491,    800.8,   5.4487,  34.5423,2,  34.5425,2,     52.5,2,     64.6,2,    66.86,2,    40.80,2,     0.00,2,     2.83,2, -999.000,9, -999.000,9, -999.000,9, -999.000,9, -999.000,9,-999.0000,9,  -999.00,9,   -999.0,9,   -999.0,9,   2285.4,2,   -999.0,9,   2328.0,2,     7.45,2, -999.00,  -999.0,-999.0000,-999.000,   25.00,  -999.0,  5.3803,-999.000
    31DSCG94_3,  P18N,   130,  3,    311,    424,2,19940409,1938, -5.7732,-109.2027, 3491,    898.3,   4.8193,  34.5412,2,  34.5406,2,     66.8,2,     79.3,2,    77.10,2,    39.97,2,     0.00,2,     2.79,2, -999.000,9, -999.000,9, -999.000,9, -999.000,9, -999.000,9,-999.0000,9,  -999.00,9,   -999.0,9,   -999.0,9,   2289.1,2,   -999.0,9,   2343.0,2,     7.47,2, -999.00,  -999.0,-999.0000,-999.000,   25.00,  -999.0,  4.7463,-999.000
    31DSCG94_3,  P18N,   130,  3,    310,    409,2,19940409,1938, -5.7732,-109.2027, 3491,   1001.5,   4.3656,  34.5475,2,  34.5496,2,     82.2,2,     90.9,2,    85.03,2,    39.97,2,     0.00,2,     2.74,2, -999.000,9, -999.000,9, -999.000,9, -999.000,9, -999.000,9,-999.0000,9,  -999.00,9,   -999.0,9,   -999.0,9,   2293.4,2,   -999.0,9,   2345.0,2,     7.49,2, -999.00,  -999.0,-999.0000,-999.000,   25.00,  -999.0,  4.2869,-999.000
    31DSCG94_3,  P18N,   130,  3,    309,    423,2,19940409,1938, -5.7732,-109.2027, 3491,   1202.6,   3.8184,  34.5659,2,  34.5658,2,     86.8,2,     91.7,2,    98.52,2,    39.26,2,     0.00,2,     2.79,2, -999.000,9, -999.000,9, -999.000,9, -999.000,9, -999.000,9,-999.0000,9,  -999.00,9,   -999.0,9,   -999.0,9,   -999.0,9,   -999.0,9,   -999.0,9,     7.49,2, -999.00,  -999.0,-999.0000,-999.000,   25.00,  -999.0,  3.7271,-999.000
    31DSCG94_3,  P18N,   130,  3,    308,    414,2,19940409,1938, -5.7732,-109.2027, 3491,   1399.9,   3.3186,  34.5866,2,  34.5858,2,     88.8,2,     89.9,2,   111.69,2,    40.12,2,     0.00,2,     2.79,2, -999.000,9, -999.000,9, -999.000,9, -999.000,9, -999.000,9,-999.0000,9,  -999.00,9,   -999.0,9,   -999.0,9,   -999.0,9,   -999.0,9,   -999.0,9,     7.48,2, -999.00,  -999.0,-999.0000,-999.000,   25.00,  -999.0,  3.2156,-999.000
    31DSCG94_3,  P18N,   130,  3,    307,    437,2,19940409,1938, -5.7732,-109.2027, 3491,   1702.2,   2.6439,  34.6174,2,  34.6173,2,    122.2,2,    103.6,2,   127.35,2,    39.00,2,     0.00,2,     2.72,2, -999.000,9, -999.000,9, -999.000,9, -999.000,9, -999.000,9,-999.0000,9,  -999.00,9,   -999.0,9,   -999.0,9,   -999.0,9,   -999.0,9,   -999.0,9,     7.50,2, -999.00,  -999.0,-999.0000,-999.000,   25.00,  -999.0,  2.5233,-999.000
    31DSCG94_3,  P18N,   130,  3,    306,    416,2,19940409,1938, -5.7732,-109.2027, 3491,   2002.3,   2.2660,  34.6391,2,  34.6400,2,    130.7,2,    112.6,2,   135.95,2,    39.03,2,     0.00,2,     2.69,2, -999.000,9, -999.000,9, -999.000,9, -999.000,9, -999.000,9,-999.0000,9,  -999.00,9,   -999.0,9,   -999.0,9,   -999.0,9,   -999.0,9,   -999.0,9,     7.52,2, -999.00,  -999.0,-999.0000,-999.000,   25.00,  -999.0,  2.1252,-999.000
    31DSCG94_3,  P18N,   130,  3,    305,    420,2,19940409,1938, -5.7732,-109.2027, 3491,   2299.1,   1.9878,  34.6566,2,  34.6567,2,    133.2,2,    120.0,2,   143.02,2,    38.23,2,     0.00,2,     2.63,2, -999.000,9, -999.000,9, -999.000,9, -999.000,9, -999.000,9,-999.0000,9,  -999.00,9,   -999.0,9,   -999.0,9,   -999.0,9,   -999.0,9,   -999.0,9,     7.54,2, -999.00,  -999.0,-999.0000,-999.000,   25.00,  -999.0,  1.8257,-999.000
    31DSCG94_3,  P18N,   130,  3,    304,    436,2,19940409,1938, -5.7732,-109.2027, 3491,   2600.9,   1.7886,  34.6696,2,  34.6707,2,    143.8,2,    132.2,2,   146.03,2,    37.22,2,     0.00,2,     2.54,2, -999.000,9, -999.000,9, -999.000,9, -999.000,9, -999.000,9,-999.0000,9,  -999.00,9,   -999.0,9,   -999.0,9,   -999.0,9,   -999.0,9,   -999.0,9,     7.56,2, -999.00,  -999.0,-999.0000,-999.000,   25.00,  -999.0,  1.6030,-999.000
    31DSCG94_3,  P18N,   130,  3,    303,    425,2,19940409,1938, -5.7732,-109.2027, 3491,   2901.5,   1.7429,  34.6743,2,  34.6765,2,    148.8,2,    137.3,2,   147.84,2,    36.96,2,     0.00,2,     2.52,2, -999.000,9, -999.000,9, -999.000,9, -999.000,9, -999.000,9,-999.0000,9,  -999.00,9,   -999.0,9,   -999.0,9,   -999.0,9,   -999.0,9,   -999.0,9,     7.57,2, -999.00,  -999.0,-999.0000,-999.000,   25.00,  -999.0,  1.5302,-999.000
    31DSCG94_3,  P18N,   130,  3,    302,    433,2,19940409,1938, -5.7732,-109.2027, 3491,   3200.8,   1.6599,  34.6792,2,  34.6812,2,    154.8,2,    145.6,2,   147.82,2,    36.28,2,     0.00,2,     2.48,2, -999.000,9, -999.000,9, -999.000,9, -999.000,9, -999.000,9,-999.0000,9,  -999.00,9,   -999.0,9,   -999.0,9,   -999.0,9,   -999.0,9,   -999.0,9,     7.58,2, -999.00,  -999.0,-999.0000,-999.000,   25.00,  -999.0,  1.4199,-999.000
    31DSCG94_3,  P18N,   130,  3,    301,    403,2,19940409,1938, -5.7732,-109.2027, 3491,   3504.3,   1.6226,  34.6824,2,  34.6812,2,    157.6,2,    146.3,2,   146.80,2,    36.68,2,     0.00,2,     2.47,2, -999.000,9, -999.000,9, -999.000,9, -999.000,9, -999.000,9,-999.0000,9,  -999.00,9,   -999.0,9,   -999.0,9,   -999.0,9,   -999.0,9,   -999.0,9,     7.59,2, -999.00,  -999.0,-999.0000,-999.000,   25.00,  -999.0,  1.3529,-999.000