BOTTLE,20220630CCHSIOAMB
EXPOCODE,SECT_ID,STNNBR,CASTNO,SAMPNO,BTLNBR,BTLNBR_FLAG_W,DATE,TIME,LATITUDE,LONGITUDE,DEPTH,CTDPRS,CTDTMP,CTDSAL,CTDSAL_FLAG_W,SALNTY,SALNTY_FLAG_W,CTDOXY,CTDOXY_FLAG_W,OXYGEN,OXYGEN_FLAG_W,SILCAT,SILCAT_FLAG_W,NITRAT,NITRAT_FLAG_W,NITRIT,NITRIT_FLAG_W,PHSPHT,PHSPHT_FLAG_W,CFC-11,CFC-11_FLAG_W,CFC-12,CFC-12_FLAG_W,CFC113,CFC113_FLAG_W,CCL4,CCL4_FLAG_W,TRITUM,TRITUM_FLAG_W,HELIUM,HELIUM_FLAG_W,DELHE3,DELHE3_FLAG_W,DELC14,DELC14_FLAG_W,DELC13,DELC13_FLAG_W,TCARBN,TCARBN_FLAG_W,PCO2,PCO2_FLAG_W,ALKALI,ALKALI_FLAG_W,PH,PH_FLAG_W,PCO2TMP,C14ERR,HELIER,DELHER,PH_TMP,C13ERR,THETA,TRITER
,,,,,,,,,,,,DBAR,ITS-90,PSS-78,,PSS-78,,UMOL/KG,,UMOL/KG,,UMOL/KG,,UMOL/KG,,UMOL/KG,,UMOL/KG,,PMOL/KG,,PMOL/KG,,PMOL/KG,,PMOL/KG,,TU,,NMOL/KG,,PERCNT,,/MILLE,,/MILLE,,UMOL/KG,,UATM,,UMOL/KG,,,,DEG C,/MILLE,NMOL/KG,PERCNT,DEG C,/MILLE,DEG C,TU
    31DSCG94_3,  P18N,   106,  1,    134,   1216,2,19940403,0420,-16.4983,-102.9983, 3113,      9.3,  24.5715,  36.2612,2,  36.2781,3,    209.8,2,    207.3,2,     1.11,2,     0.00,2,     0.00,2,     0.25,2, -999.000,9, -999.000,9, -999.000,9, -999.000,9, -999.000,9,-999.0000,9,  -999.00,9,   -999.0,9,   -999.0,9,   -999.0,9,    309.7,2,   -999.0,9,     8.07,2,   20.00,  -999.0,-999.0000,-999.000,   25.00,  -999.0, 24.5695,-999.000
    31DSCG94_3,  P18N,   106,  1,    136,   1025,2,19940403,0420,-16.4983,-102.9983, 3113,      9.4,  24.5761,  36.2616,2,  36.2604,2,    209.8,2,    208.5,2,     1.10,2,     0.01,2,     0.00,2,     0.28,2,    1.957,2,    1.095,2, -999.000,9, -999.000,9, -999.000,9,-999.0000,9,  -999.00,9,   -999.0,9,   -999.0,9,   2060.2,2,    310.9,2,   -999.0,5,     8.07,2,   20.00,  -999.0,-999.0000,-999.000,   25.00,  -999.0, 24.5741,-999.000
    31DSCG94_3,  P18N,   106,  1,    135,   1247,2,19940403,0420,-16.4983,-102.9983, 3113,     10.0,  24.5863,  36.2615,2,  36.2617,2,    209.8,2,    211.9,2,     1.26,2,     0.00,2,     0.00,2,     0.29,2, -999.000,9, -999.000,9, -999.000,9, -999.000,9, -999.000,9,-999.0000,9,  -999.00,9,   -999.0,9,   -999.0,9,   2062.7,2,    309.9,2,   2393.0,2,     8.07,2,   20.00,  -999.0,-999.0000,-999.000,   25.00,  -999.0, 24.5841,-999.000
    31DSCG94_3,  P18N,   106,  1,    133,   1244,2,19940403,0420,-16.4983,-102.9983, 3113,     10.0,  24.5901,  36.2606,2,  36.2591,2,    213.5,2,    208.6,2,     1.03,2,     0.00,2,     0.00,2,     0.28,2, -999.000,5, -999.000,5, -999.000,9, -999.000,9, -999.000,9,-999.0000,9,  -999.00,9,   -999.0,9,   -999.0,9,   -999.0,9,   -999.0,9,   -999.0,9,     8.07,2, -999.00,  -999.0,-999.0000,-999.000,   25.00,  -999.0, 24.5879,-999.000
    31DSCG94_3,  P18N,   106,  1,    132,   1003,3,19940403,0420,-16.4983,-102.9983, 3113,     24.7,  24.2064,  36.2776,2,  36.2762,2,    208.1,2,    210.4,2,     1.11,2,     0.00,2,     0.00,2,     0.29,2,    1.985,6,    1.112,6, -999.000,9, -999.000,9, -999.000,9,-999.0000,9,  -999.00,9,   -999.0,9,   -999.0,9,   2063.4,2,    308.4,2,   2395.0,2,  -999.00,9,   20.00,  -999.0,-999.0000,-999.000, -999.00,  -999.0, 24.2011,-999.000
    31DSCG94_3,  P18N,   106,  1,    131,   1211,2,19940403,0420,-16.4983,-102.9983, 3113,     48.3,  23.9665,  36.2959,2,  36.2906,2,    208.5,2,    211.8,2,     1.19,2,     0.00,2,     0.00,2,     0.27,2, -999.000,9, -999.000,9, -999.000,9, -999.000,9, -999.000,9,-999.0000,9,  -999.00,9,   -999.0,9,   -999.0,9,   -999.0,9,   -999.0,9,   -999.0,9,     8.07,2, -999.00,  -999.0,-999.0000,-999.000,   25.00,  -999.0, 23.9564,-999.000
    31DSCG94_3,  P18N,   106,  1,    130,   1241,2,19940403,0420,-16.4983,-102.9983, 3113,     74.6,  23.3634,  36.2610,2,  36.2589,2,    213.5,2,    216.6,2,     1.00,2,     0.00,2,     0.00,2,     0.27,2,    2.146,2,    1.131,2, -999.000,9, -999.000,9, -999.000,9,-999.0000,9,  -999.00,9,   -999.0,9,   -999.0,9,   2061.2,2,    309.8,2,   2387.0,2,     8.07,2,   20.00,  -999.0,-999.0000,-999.000,   25.00,  -999.0, 23.3479,-999.000
    31DSCG94_3,  P18N,   106,  1,    129,   1240,2,19940403,0420,-16.4983,-102.9983, 3113,    100.6,  22.2581,  36.1898,2,  36.1855,2,    217.6,2,    219.6,2,     0.90,2,     0.00,2,     0.00,2,     0.26,2, -999.000,9, -999.000,9, -999.000,9, -999.000,9, -999.000,9,-999.0000,9,  -999.00,9,   -999.0,9,   -999.0,9,   -999.0,9,   -999.0,9,   -999.0,9,     8.05,2, -999.00,  -999.0,-999.0000,-999.000,   25.00,  -999.0, 22.2379,-999.000
    31DSCG94_3,  P18N,   106,  1,    128,   1032,2,19940403,0420,-16.4983,-102.9983, 3113,    149.3,  20.9614,  35.9644,2,  35.9693,2,    199.1,2,    203.7,2,     1.08,2,     0.83,2,     0.57,2,     0.40,2,    2.266,2,    1.216,2, -999.000,9, -999.000,9, -999.000,9,-999.0000,9,  -999.00,9,   -999.0,9,   -999.0,9,   -999.0,9,   -999.0,9,   -999.0,9,     8.01,2, -999.00,  -999.0,-999.0000,-999.000,   25.00,  -999.0, 20.9327,-999.000
    31DSCG94_3,  P18N,   106,  1,    127,   1008,2,19940403,0420,-16.4983,-102.9983, 3113,    200.1,  17.8681,  35.3036,2,  35.2605,3,    205.1,2,    203.9,2,     1.08,2,     2.64,2,     0.00,2,     0.42,2, -999.000,9, -999.000,9, -999.000,9, -999.000,9, -999.000,9,-999.0000,9,  -999.00,9,   -999.0,9,   -999.0,9,   2074.7,2,    411.6,2,   2324.0,2,     7.96,2,   20.00,  -999.0,-999.0000,-999.000,   25.00,  -999.0, 17.8339,-999.000
    31DSCG94_3,  P18N,   106,  1,    126,   1007,2,19940403,0420,-16.4983,-102.9983, 3113,    249.7,  13.9133,  34.7594,2,  34.7578,2,    171.9,2,    165.9,2,     3.87,2,    10.06,2,     0.00,2,     0.96,2,    2.005,2,    1.045,2, -999.000,9, -999.000,9, -999.000,9,-999.0000,9,  -999.00,9,   -999.0,9,   -999.0,9,   -999.0,9,   -999.0,9,   -999.0,9,     7.82,2, -999.00,  -999.0,-999.0000,-999.000,   25.00,  -999.0, 13.8773,-999.000
    31DSCG94_3,  P18N,   106,  1,    125,   1203,2,19940403,0420,-16.4983,-102.9983, 3113,    299.5,  10.6887,  34.5347,2,  34.5372,2,    123.4,2,    100.7,2,    13.26,2,    21.97,2,     0.00,2,     1.90,2, -999.000,9, -999.000,9, -999.000,9, -999.000,9, -999.000,9,-999.0000,9,  -999.00,9,   -999.0,9,   -999.0,9,   2190.0,2,   1044.7,2,   2281.0,2,     7.60,2,   20.00,  -999.0,-999.0000,-999.000,   25.00,  -999.0, 10.6525,-999.000
    31DSCG94_3,  P18N,   106,  1,    123,   1220,2,19940403,0420,-16.4983,-102.9983, 3113,    349.6,   9.3326,  34.5351,2,  34.5413,2,     63.4,2,     50.4,6,    21.79,2,    31.18,2,     0.00,2,     2.46,2, -999.000,9, -999.000,9, -999.000,9, -999.000,9, -999.000,9,-999.0000,9,  -999.00,9,   -999.0,9,   -999.0,9,   -999.0,9,   -999.0,9,   -999.0,9,     7.45,2, -999.00,  -999.0,-999.0000,-999.000,   25.00,  -999.0,  9.2936,-999.000
    31DSCG94_3,  P18N,   106,  1,    122,   1245,2,19940403,0420,-16.4983,-102.9983, 3113,    399.2,   8.4601,  34.5380,2,  34.5370,2,     50.0,2,     45.7,2,    26.19,2,    35.11,2,     0.00,2,     2.58,2, -999.000,5, -999.000,5, -999.000,9, -999.000,9, -999.000,9,-999.0000,9,  -999.00,9,   -999.0,9,   -999.0,9,   2255.1,2,   1624.3,3,   2289.0,2,     7.43,2,   20.00,  -999.0,-999.0000,-999.000,   25.00,  -999.0,  8.4180,-999.000
    31DSCG94_3,  P18N,   106,  1,    121,   1206,2,19940403,0420,-16.4983,-102.9983, 3113,    499.5,   6.8982,  34.4850,2,  34.4862,2,     76.8,2,     74.5,2,    31.75,2,    37.36,2,     0.00,2,     2.55,2, -999.000,9, -999.000,9, -999.000,9, -999.000,9, -999.000,9,-999.0000,9,  -999.00,9,   -999.0,9,   -999.0,9,   2248.9,2,   1494.7,2,   2299.0,2,     7.46,2,   20.00,  -999.0,-999.0000,-999.000,   25.00,  -999.0,  6.8512,-999.000
    31DSCG94_3,  P18N,   106,  1,    120,   1028,2,19940403,0420,-16.4983,-102.9983, 3113,    599.9,   6.0413,  34.4816,2,  34.4818,2,     76.9,2,     70.8,2,    41.38,2,    39.91,2,     0.00,2,     2.71,2,    0.000,6,    0.001,6, -999.000,9, -999.000,9, -999.000,9,-999.0000,9,  -999.00,9,   -999.0,9,   -999.0,9,   2262.4,2,   1569.1,2,   2305.0,2,     7.45,2,   20.00,  -999.0,-999.0000,-999.000,   25.00,  -999.0,  5.9882,-999.000
    31DSCG94_3,  P18N,   106,  1,    119,   1248,2,19940403,0420,-16.4983,-102.9983, 3113,    698.1,   5.4589,  34.4942,2,  34.4948,2,     66.9,2,     64.2,2,    52.20,2,    42.05,2,     0.00,2,     2.85,2, -999.000,9, -999.000,9, -999.000,9, -999.000,9, -999.000,9,-999.0000,9,  -999.00,9,   -999.0,9,   -999.0,9,   2279.7,2,   1640.2,2,   2316.0,2,     7.43,2,   20.00,  -999.0,-999.0000,-999.000,   25.00,  -999.0,  5.3998,-999.000
    31DSCG94_3,  P18N,   106,  1,    118,   1115,2,19940403,0420,-16.4983,-102.9983, 3113,    801.2,   4.9413,  34.5034,2,  34.5043,2,     64.6,2,     63.8,2,    61.72,2,    42.31,2,     0.00,2,     2.87,2,    0.000,2,   -0.002,2, -999.000,9, -999.000,9, -999.000,9,-999.0000,9,  -999.00,9,   -999.0,9,   -999.0,9,   2293.1,2,   1675.0,2,   2333.0,2,     7.42,2,   20.00,  -999.0,-999.0000,-999.000,   25.00,  -999.0,  4.8761,-999.000
    31DSCG94_3,  P18N,   106,  1,    117,   1119,2,19940403,0420,-16.4983,-102.9983, 3113,    898.9,   4.5225,  34.5169,2,  34.5170,2,     65.5,2,     64.4,6,    70.37,2,    43.08,2,     0.00,2,     2.93,2, -999.000,9, -999.000,9, -999.000,9, -999.000,9, -999.000,9,-999.0000,9,  -999.00,9,   -999.0,9,   -999.0,9,   2303.6,2,   1700.9,2,   2337.0,2,     7.42,2,   20.00,  -999.0,-999.0000,-999.000,   25.00,  -999.0,  4.4515,-999.000
    31DSCG94_3,  P18N,   106,  1,    116,   1036,2,19940403,0420,-16.4983,-102.9983, 3113,   1000.3,   4.1860,  34.5322,2,  34.5328,2,     65.0,2,     66.6,2,    78.85,2,    42.74,2,     0.00,2,     2.94,2,    0.001,2,    0.001,2, -999.000,9, -999.000,9, -999.000,9,-999.0000,9,  -999.00,9,   -999.0,9,   -999.0,9,   2311.0,2,   1687.2,2,   2352.0,6,     7.43,2,   20.00,  -999.0,-999.0000,-999.000,   25.00,  -999.0,  4.1088,-999.000
    31DSCG94_3,  P18N,   106,  1,    115,   1017,2,19940403,0420,-16.4983,-102.9983, 3113,   1097.8,   3.8762,  34.5443,2,  34.5439,2,     71.7,2,     73.0,6,    87.21,2,    41.74,2,     0.01,2,     2.89,2, -999.000,9, -999.000,9, -999.000,9, -999.000,9, -999.000,9,-999.0000,9,  -999.00,9,   -999.0,9,   -999.0,9,   -999.0,9,   -999.0,9,   -999.0,9,     7.44,2, -999.00,  -999.0,-999.0000,-999.000,   25.00,  -999.0,  3.7933,-999.000
    31DSCG94_3,  P18N,   106,  1,    114,   1016,2,19940403,0420,-16.4983,-102.9983, 3113,   1200.4,   3.5987,  34.5564,2,  34.5561,2,     78.3,2,     78.6,2,    93.59,2,    41.35,2,     0.00,2,     2.86,2, -999.000,9, -999.000,9, -999.000,9, -999.000,9, -999.000,9,-999.0000,9,  -999.00,9,   -999.0,9,   -999.0,9,   -999.0,9,   -999.0,9,   -999.0,9,  -999.00,9, -999.00,  -999.0,-999.0000,-999.000, -999.00,  -999.0,  3.5097,-999.000
    31DSCG94_3,  P18N,   106,  1,    113,   1209,2,19940403,0420,-16.4983,-102.9983, 3113,   1298.2,   3.3412,  34.5691,2,  34.5692,2,     84.6,2,     84.8,2,    98.20,2,    41.18,2,     0.00,2,     2.85,2, -999.000,9, -999.000,9, -999.000,9, -999.000,9, -999.000,9,-999.0000,9,  -999.00,9,   -999.0,9,   -999.0,9,   -999.0,9,   -999.0,9,   -999.0,9,  -999.00,9, -999.00,  -999.0,-999.0000,-999.000, -999.00,  -999.0,  3.2465,-999.000
    31DSCG94_3,  P18N,   106,  1,    112,   1033,2,19940403,0420,-16.4983,-102.9983, 3113,   1385.3,   3.1212,  34.5807,2,  34.5820,2,     89.9,2,     90.8,2,   101.47,2,    40.45,2,     0.00,2,     2.81,2, -999.000,9, -999.000,9, -999.000,9, -999.000,9, -999.000,9,-999.0000,9,  -999.00,9,   -999.0,9,   -999.0,9,   -999.0,9,   -999.0,9,   -999.0,9,  -999.00,9, -999.00,  -999.0,-999.0000,-999.000, -999.00,  -999.0,  3.0215,-999.000
    31DSCG94_3,  P18N,   106,  1,    111,   1240,2,19940403,0420,-16.4983,-102.9983, 3113,   1499.5,   2.8855,  34.5942,2,  34.5949,2,     95.5,2,     97.0,2,   107.84,2,    40.26,2,     0.00,2,     2.78,2, -999.000,9, -999.000,9, -999.000,9, -999.000,9, -999.000,9,-999.0000,9,  -999.00,9,   -999.0,9,   -999.0,9,   -999.0,9,   -999.0,9,   -999.0,9,  -999.00,9, -999.00,  -999.0,-999.0000,-999.000, -999.00,  -999.0,  2.7790,-999.000
    31DSCG94_3,  P18N,   106,  1,    110,   1005,2,19940403,0420,-16.4983,-102.9983, 3113,   1598.2,   2.7113,  34.6051,2,  34.6046,2,    101.1,2,    102.5,2,   113.07,2,    39.49,2,     0.00,2,     2.74,2, -999.000,9, -999.000,9, -999.000,9, -999.000,9, -999.000,9,-999.0000,9,  -999.00,9,   -999.0,9,   -999.0,9,   -999.0,9,   -999.0,9,   -999.0,9,  -999.00,9, -999.00,  -999.0,-999.0000,-999.000, -999.00,  -999.0,  2.5987,-999.000
    31DSCG94_3,  P18N,   106,  1,    109,   1611,2,19940403,0420,-16.4983,-102.9983, 3113,   1801.3,   2.3942,  34.6256,2,  34.6255,2,    114.3,2,    116.9,2,   120.15,2,    38.70,2,     0.00,2,     2.67,2, -999.000,9, -999.000,9, -999.000,9, -999.000,9, -999.000,9,-999.0000,9,  -999.00,9,   -999.0,9,   -999.0,9,   -999.0,9,   -999.0,9,   -999.0,9,  -999.00,9, -999.00,  -999.0,-999.0000,-999.000, -999.00,  -999.0,  2.2687,-999.000
    31DSCG94_3,  P18N,   106,  1,    108,   1218,2,19940403,0420,-16.4983,-102.9983, 3113,   1997.4,   2.1097,  34.6440,2,  34.6434,2,    131.6,2,    133.2,2,   123.11,2,    36.74,2,     0.00,2,     2.52,2, -999.000,9, -999.000,9, -999.000,9, -999.000,9, -999.000,9,-999.0000,9,  -999.00,9,   -999.0,9,   -999.0,9,   -999.0,9,   -999.0,9,   -999.0,9,  -999.00,9, -999.00,  -999.0,-999.0000,-999.000, -999.00,  -999.0,  1.9717,-999.000
    31DSCG94_3,  P18N,   106,  1,    107,   1257,2,19940403,0420,-16.4983,-102.9983, 3113,   2198.8,   1.9441,  34.6571,2,  34.6566,2,    142.6,2,    144.2,2,   125.17,2,    35.66,2,     0.00,2,     2.44,2, -999.000,9, -999.000,9, -999.000,9, -999.000,9, -999.000,9,-999.0000,9,  -999.00,9,   -999.0,9,   -999.0,9,   -999.0,9,   -999.0,9,   -999.0,9,  -999.00,9, -999.00,  -999.0,-999.0000,-999.000, -999.00,  -999.0,  1.7915,-999.000
    31DSCG94_3,  P18N,   106,  1,    106,   1224,2,19940403,0420,-16.4983,-102.9983, 3113,   2395.5,   1.8626,  34.6658,2,  34.6659,2,    146.1,2,    146.6,2,   125.56,2,    35.44,2,     0.00,2,     2.42,2, -999.000,9, -999.000,9, -999.000,9, -999.000,9, -999.000,9,-999.0000,9,  -999.00,9,   -999.0,9,   -999.0,9,   -999.0,9,   -999.0,9,   -999.0,9,  -999.00,9, -999.00,  -999.0,-999.0000,-999.000, -999.00,  -999.0,  1.6941,-999.000
    31DSCG94_3,  P18N,   106,  1,    105,   1246,2,19940403,0420,-16.4983,-102.9983, 3113,   2587.5,   1.8226,  34.6713,2,  34.6754,3,    146.3,2,    146.2,2,   127.39,2,    36.54,2,     0.00,2,     2.46,2, -999.000,9, -999.000,9, -999.000,9, -999.000,9, -999.000,9,-999.0000,9,  -999.00,9,   -999.0,9,   -999.0,9,   -999.0,9,   -999.0,9,   -999.0,9,  -999.00,9, -999.00,  -999.0,-999.0000,-999.000, -999.00,  -999.0,  1.6375,-999.000
    31DSCG94_3,  P18N,   106,  1,    104,   1217,2,19940403,0420,-16.4983,-102.9983, 3113,   2798.5,   1.8013,  34.6751,2,  34.6787,2,    145.4,2,    145.5,2,   132.05,2,    36.37,2,     0.00,2,     2.45,2, -999.000,9, -999.000,9, -999.000,9, -999.000,9, -999.000,9,-999.0000,9,  -999.00,9,   -999.0,9,   -999.0,9,   -999.0,9,   -999.0,9,   -999.0,9,  -999.00,9, -999.00,  -999.0,-999.0000,-999.000, -999.00,  -999.0,  1.5971,-999.000
    31DSCG94_3,  P18N,   106,  1,    102,   1223,2,19940403,0420,-16.4983,-102.9983, 3113,   2996.4,   1.8035,  34.6766,2,  34.6779,2,    142.9,2,    144.9,2,   132.83,2,    36.36,2,     0.00,2,     2.45,2,    0.000,2,   -0.002,2, -999.000,9, -999.000,9, -999.000,9,-999.0000,9,  -999.00,9,   -999.0,9,   -999.0,9,   -999.0,9,   -999.0,9,   -999.0,9,  -999.00,9, -999.00,  -999.0,-999.0000,-999.000, -999.00,  -999.0,  1.5803,-999.000
    31DSCG94_3,  P18N,   106,  1,    103,   9999,2,19940403,0420,-16.4983,-102.9983, 3113,   2997.7,   1.8045,  34.6763,2,  34.6773,2,    142.6,2,    143.6,2,   135.34,2,    35.81,2,     0.00,2,     2.45,2, -999.000,9, -999.000,9, -999.000,9, -999.000,9, -999.000,9,-999.0000,9,  -999.00,9,   -999.0,9,   -999.0,9,   -999.0,9,   -999.0,9,   -999.0,9,  -999.00,9, -999.00,  -999.0,-999.0000,-999.000, -999.00,  -999.0,  1.5812,-999.000
    31DSCG94_3,  P18N,   106,  1,    101,   1041,2,19940403,0420,-16.4983,-102.9983, 3113,   3153.2,   1.8004,  34.6777,2,-999.0000,5,    142.2,2,    142.6,2,   136.44,2,    37.64,2,     0.00,2,     2.54,2, -999.000,9, -999.000,9, -999.000,9, -999.000,9, -999.000,9,-999.0000,9,  -999.00,9,   -999.0,9,   -999.0,9,   -999.0,9,   -999.0,9,   -999.0,9,  -999.00,9, -999.00,  -999.0,-999.0000,-999.000, -999.00,  -999.0,  1.5619,-999.000