BOTTLE,20220630CCHSIOAMB
EXPOCODE,SECT_ID,STNNBR,CASTNO,SAMPNO,BTLNBR,BTLNBR_FLAG_W,DATE,TIME,LATITUDE,LONGITUDE,DEPTH,CTDPRS,CTDTMP,CTDSAL,CTDSAL_FLAG_W,SALNTY,SALNTY_FLAG_W,CTDOXY,CTDOXY_FLAG_W,OXYGEN,OXYGEN_FLAG_W,SILCAT,SILCAT_FLAG_W,NITRAT,NITRAT_FLAG_W,NITRIT,NITRIT_FLAG_W,PHSPHT,PHSPHT_FLAG_W,CFC-11,CFC-11_FLAG_W,CFC-12,CFC-12_FLAG_W,CFC113,CFC113_FLAG_W,CCL4,CCL4_FLAG_W,TRITUM,TRITUM_FLAG_W,HELIUM,HELIUM_FLAG_W,DELHE3,DELHE3_FLAG_W,DELC14,DELC14_FLAG_W,DELC13,DELC13_FLAG_W,TCARBN,TCARBN_FLAG_W,PCO2,PCO2_FLAG_W,ALKALI,ALKALI_FLAG_W,PH,PH_FLAG_W,PCO2TMP,C14ERR,HELIER,DELHER,PH_TMP,C13ERR,THETA,TRITER
,,,,,,,,,,,,DBAR,ITS-90,PSS-78,,PSS-78,,UMOL/KG,,UMOL/KG,,UMOL/KG,,UMOL/KG,,UMOL/KG,,UMOL/KG,,PMOL/KG,,PMOL/KG,,PMOL/KG,,PMOL/KG,,TU,,NMOL/KG,,PERCNT,,/MILLE,,/MILLE,,UMOL/KG,,UATM,,UMOL/KG,,,,DEG C,/MILLE,NMOL/KG,PERCNT,DEG C,/MILLE,DEG C,TU
    31DSCG94_3,  P18N,   164,  1,    136,   1025,2,19940418,1534,  7.9982,-110.3368, 3969,      8.4,  28.9073,  33.8918,2,  33.8965,2,    198.8,2,    197.2,2,     0.41,2,     0.00,2,     0.00,2,     0.17,2,    1.654,2,    0.958,2, -999.000,9, -999.000,9, -999.000,9,-999.0000,9,  -999.00,9,   -999.0,9,      1.6,2,   1901.5,2,    260.8,2,   2219.0,3,     8.12,2,   20.00,  -999.0,-999.0000,-999.000,   25.00,  -999.0, 28.9052,-999.000
    31DSCG94_3,  P18N,   164,  1,    135,   1247,2,19940418,1534,  7.9982,-110.3368, 3969,     23.9,  28.8630,  33.8898,2,  33.8995,2,    191.6,2,    196.8,2,     0.48,2,     0.00,2,     0.00,2,     0.16,2,    1.666,2,    0.963,2, -999.000,9, -999.000,9,    1.095,2,   1.7331,2,    -0.96,2,   -999.0,9,   -999.0,9,   -999.0,9,   -999.0,9,   -999.0,9,     8.12,2, -999.00,  -999.0,-999.0000,-999.000,   25.00,  -999.0, 28.8572,   0.009
    31DSCG94_3,  P18N,   164,  1,    134,   1216,2,19940418,1534,  7.9982,-110.3368, 3969,     49.5,  22.3117,  34.3587,2,  34.3481,2,    207.2,2,    130.4,2,     1.27,2,     9.84,2,     0.24,2,     1.04,2,    1.327,2,    0.731,2, -999.000,9, -999.000,9, -999.000,9,   1.7255,2,     2.97,2,   -999.0,9,   -999.0,9,   2055.1,2,    486.5,2,   2258.0,2,     7.89,2,   20.00,  -999.0,-999.0000,-999.000,   25.00,  -999.0, 22.3019,-999.000
    31DSCG94_3,  P18N,   164,  1,    133,   1244,2,19940418,1534,  7.9982,-110.3368, 3969,     74.8,  14.7859,  34.7249,2,  34.7252,2,     59.1,2,     33.1,2,    19.67,2,    27.34,2,     0.19,2,     2.11,2, -999.000,9, -999.000,9, -999.000,9, -999.000,9,    0.929,2,   1.7478,2,     7.85,2,   -999.0,9,   -999.0,9,   -999.0,9,   -999.0,9,   -999.0,9,     7.57,2, -999.00,  -999.0,-999.0000,-999.000,   25.00,  -999.0, 14.7747,   0.008
    31DSCG94_3,  P18N,   164,  1,    132,   1003,2,19940418,1534,  7.9982,-110.3368, 3969,     99.2,  13.6098,  34.7701,2,  34.7675,2,     40.5,2,     32.3,2,    22.45,2,    28.51,2,     0.00,2,     2.13,2,    0.650,6,    0.355,6, -999.000,9, -999.000,9, -999.000,9,-999.0000,9,  -999.00,9,   -999.0,9,   -999.0,9,   2210.8,2,   1162.5,2,   2282.0,2,  -999.00,9,   20.00,  -999.0,-999.0000,-999.000, -999.00,  -999.0, 13.5958,-999.000
    31DSCG94_3,  P18N,   164,  1,    131,   1211,2,19940418,1534,  7.9982,-110.3368, 3969,    124.2,  13.1186,  34.8004,2,  34.8015,2,     39.5,2,     31.0,2,    22.90,2,    29.74,2,     0.00,2,     2.17,2, -999.000,9, -999.000,9, -999.000,9, -999.000,9,    0.634,2,   1.7898,2,     7.24,2,   -999.0,9,   -999.0,9,   -999.0,9,   -999.0,9,   -999.0,9,     7.55,2, -999.00,  -999.0,-999.0000,-999.000,   25.00,  -999.0, 13.1014,   0.007
    31DSCG94_3,  P18N,   164,  1,    130,   1241,2,19940418,1534,  7.9982,-110.3368, 3969,    150.4,  12.5197,  34.8027,2,  34.8018,2,     38.6,2,     32.9,2,    24.70,2,    30.07,2,     0.00,2,     2.22,2,    0.465,2,    0.255,2, -999.000,9, -999.000,9,    0.539,2,   1.6470,2,     7.65,2,   -999.0,9,   -999.0,9,   2221.5,2,   1221.0,2,   2292.0,2,     7.54,2,   20.00,  -999.0,-999.0000,-999.000,   25.00,  -999.0, 12.4996,   0.006
    31DSCG94_3,  P18N,   164,  1,    129,   1240,2,19940418,1534,  7.9982,-110.3368, 3969,    174.4,  11.9707,  34.7804,2,  34.7777,2,     34.6,2,     33.7,2,    26.00,2,    30.78,2,     0.00,2,     2.24,2, -999.000,9, -999.000,9, -999.000,9, -999.000,9, -999.000,9,-999.0000,9,  -999.00,9,   -999.0,9,   -999.0,9,   -999.0,9,   -999.0,9,   -999.0,9,     7.53,2, -999.00,  -999.0,-999.0000,-999.000,   25.00,  -999.0, 11.9481,-999.000
    31DSCG94_3,  P18N,   164,  1,    128,   1032,2,19940418,1534,  7.9982,-110.3368, 3969,    198.4,  11.6433,  34.7687,2,  34.7674,2,     34.1,2,     31.7,2,    26.71,2,    31.41,2,     0.00,2,     2.29,2,    0.338,2,    0.185,2, -999.000,9, -999.000,9,    0.422,2,   1.7594,2,     6.99,2,   -999.0,9,   -999.0,9,   2231.1,2,   1300.4,2,   2287.0,3,     7.52,2,   20.00,  -999.0,-999.0000,-999.000,   25.00,  -999.0, 11.6180,   0.006
    31DSCG94_3,  P18N,   164,  1,    127,   1008,2,19940418,1534,  7.9982,-110.3368, 3969,    250.3,  11.0494,  34.7475,2,  34.7468,2,     31.8,2,     27.5,6,    28.63,2,    32.87,2,     0.00,2,     2.37,2, -999.000,9, -999.000,9, -999.000,9, -999.000,9,    0.312,2,-999.0000,9,  -999.00,9,   -999.0,9,   -999.0,9,   -999.0,9,   -999.0,9,   -999.0,9,     7.49,2, -999.00,  -999.0,-999.0000,-999.000,   25.00,  -999.0, 11.0185,   0.005
    31DSCG94_3,  P18N,   164,  1,    126,   1007,2,19940418,1534,  7.9982,-110.3368, 3969,    301.2,  10.7535,  34.7345,2,  34.7342,2,     28.1,2,     25.4,2,    29.88,2,    33.51,2,     0.00,2,     2.42,2,    0.201,2,    0.112,2, -999.000,9, -999.000,9,    0.265,2,-999.0000,9,  -999.00,9,   -999.0,9,   -999.0,9,   2246.6,2,   1431.8,2,   2294.0,2,     7.48,2,   20.00,  -999.0,-999.0000,-999.000,   25.00,  -999.0, 10.7169,   0.005
    31DSCG94_3,  P18N,   164,  1,    125,   1256,2,19940418,1534,  7.9982,-110.3368, 3969,    349.9,  10.2181,  34.7107,2,  34.7103,2,     20.6,2,     16.1,2,    33.60,2,    34.19,2,     0.00,2,     2.56,2, -999.000,9, -999.000,9, -999.000,9, -999.000,9,    0.185,2,   1.8112,2,     6.36,2,   -999.0,9,   -999.0,9,   -999.0,9,   -999.0,9,   -999.0,9,     7.45,2, -999.00,  -999.0,-999.0000,-999.000,   25.00,  -999.0, 10.1768,   0.005
    31DSCG94_3,  P18N,   164,  1,    123,   1220,2,19940418,1534,  7.9982,-110.3368, 3969,    400.2,   9.6447,  34.6820,2,  34.6828,2,     13.2,2,      6.1,2,    39.34,2,    34.74,2,     0.00,2,     2.75,2,    0.051,2,    0.030,2, -999.000,9, -999.000,9,    0.094,2,   1.8375,2,     6.00,2,   -999.0,9,   -999.0,9,   2277.1,2,   1720.0,2,   2297.0,2,     7.40,2,   20.00,  -999.0,-999.0000,-999.000,   25.00,  -999.0,  9.5990,   0.004
    31DSCG94_3,  P18N,   164,  1,    122,   1245,2,19940418,1534,  7.9982,-110.3368, 3969,    500.0,   8.2837,  34.6239,2,  34.6235,2,      4.4,2,      1.0,2,    51.10,2,    36.93,2,     0.00,2,     3.03,2, -999.000,9, -999.000,9, -999.000,9, -999.000,9,    0.016,2,   1.8295,2,     7.46,2,   -999.0,9,   -999.0,9,   2298.9,2,   1892.1,2,   2309.0,2,     7.37,2,   20.00,  -999.0,-999.0000,-999.000,   25.00,  -999.0,  8.2313,   0.003
    31DSCG94_3,  P18N,   164,  1,    121,   1206,2,19940418,1534,  7.9982,-110.3368, 3969,    600.2,   7.3769,  34.5925,2,  34.5914,2,      3.7,2,      2.2,2,    61.31,2,    39.46,2,     0.00,2,     3.11,2,    0.006,2,    0.001,2, -999.000,9, -999.000,9,    0.010,2,-999.0000,9,  -999.00,9,   -999.0,9,   -999.0,9,   2311.4,2,   1970.4,2,   2322.0,2,     7.36,2,   20.00,  -999.0,-999.0000,-999.000,   25.00,  -999.0,  7.3177,   0.003
    31DSCG94_3,  P18N,   164,  1,    120,   1028,2,19940418,1534,  7.9982,-110.3368, 3969,    700.8,   6.1534,  34.5670,2,  34.5661,2,      4.8,2,      7.4,2,    72.25,2,    44.11,2,     0.00,2,     3.19,2, -999.000,9, -999.000,9, -999.000,9, -999.000,9, -999.000,9,-999.0000,9,  -999.00,9,   -999.0,9,   -999.0,9,   2323.4,2,   2017.2,2,   2329.0,2,     7.35,2,   20.00,  -999.0,-999.0000,-999.000,   25.00,  -999.0,  6.0903,-999.000
    31DSCG94_3,  P18N,   164,  1,    119,   1248,2,19940418,1534,  7.9982,-110.3368, 3969,    801.9,   5.5567,  34.5609,2,  34.5608,2,     12.8,2,     18.8,2,    78.54,2,    44.91,2,     0.00,2,     3.17,2,    0.008,2,    0.002,2, -999.000,9, -999.000,9,    0.011,2,   1.8803,2,    14.24,2,   -999.0,9,   -999.0,9,   2326.6,2,   1967.4,2,   2330.0,3,     7.36,2,   20.00,  -999.0,-999.0000,-999.000,   25.00,  -999.0,  5.4875,   0.004
    31DSCG94_3,  P18N,   164,  1,    118,   1115,2,19940418,1534,  7.9982,-110.3368, 3969,    902.5,   5.1866,  34.5603,2,  34.5599,2,     22.6,2,     25.5,2,    83.86,2,    44.93,2,     0.00,2,     3.16,2, -999.000,9, -999.000,9, -999.000,9, -999.000,9, -999.000,9,-999.0000,9,  -999.00,9,   -999.0,9,   -999.0,9,   2328.0,2,   1921.9,3,   2346.0,6,     7.37,2,   20.00,  -999.0,-999.0000,-999.000,   25.00,  -999.0,  5.1106,-999.000
    31DSCG94_3,  P18N,   164,  1,    117,   1119,2,19940418,1534,  7.9982,-110.3368, 3969,   1000.6,   4.7742,  34.5605,2,  34.5602,2,     28.6,2,     34.3,2,    90.55,2,    44.52,2,     0.00,2,     3.14,2,    0.002,2,    0.003,2, -999.000,9, -999.000,9,    0.004,2,   1.9423,2,    16.83,2,   -999.0,9,   -999.0,9,   2332.3,2,   1875.4,2,   2353.0,2,     7.38,2,   20.00,  -999.0,-999.0000,-999.000,   25.00,  -999.0,  4.6924,   0.004
    31DSCG94_3,  P18N,   164,  1,    116,   1036,2,19940418,1534,  7.9982,-110.3368, 3969,   1098.3,   4.3436,  34.5668,2,  34.5664,2,     37.0,2,     42.7,2,    98.89,2,    44.21,2,     0.00,2,     3.12,2, -999.000,9, -999.000,9, -999.000,9, -999.000,9, -999.000,9,-999.0000,9,  -999.00,9,   -999.0,9,   -999.0,9,   -999.0,9,   -999.0,9,   -999.0,9,     7.40,2, -999.00,  -999.0,-999.0000,-999.000,   25.00,  -999.0,  4.2566,-999.000
    31DSCG94_3,  P18N,   164,  1,    115,   1017,2,19940418,1534,  7.9982,-110.3368, 3969,   1202.2,   3.9929,  34.5755,2,  34.5755,2,     38.8,2,     40.5,2,   111.40,2,    43.67,2,     0.00,2,     3.15,2,    0.003,2,    0.002,2, -999.000,9, -999.000,9,    0.000,2,   1.9004,2,    20.95,2,   -999.0,9,   -999.0,9,   -999.0,9,   -999.0,9,   -999.0,9,     7.39,2, -999.00,  -999.0,-999.0000,-999.000,   25.00,  -999.0,  3.9001,   0.003
    31DSCG94_3,  P18N,   164,  1,    114,   1016,2,19940418,1534,  7.9982,-110.3368, 3969,   1299.3,   3.6662,  34.5856,2,  34.5846,2,     46.1,2,     48.6,2,   120.12,2,    43.24,2,     0.00,2,     3.10,2, -999.000,9, -999.000,9, -999.000,9, -999.000,9, -999.000,9,-999.0000,9,  -999.00,9,   -999.0,9,   -999.0,9,   -999.0,9,   -999.0,9,   -999.0,9,     7.41,2, -999.00,  -999.0,-999.0000,-999.000,   25.00,  -999.0,  3.5681,-999.000
    31DSCG94_3,  P18N,   164,  1,    113,   1209,2,19940418,1534,  7.9982,-110.3368, 3969,   1401.6,   3.4372,  34.5934,2,  34.5931,2,     53.1,2,     55.5,6,   123.21,2,    43.34,2,     0.00,2,     3.06,2, -999.000,9, -999.000,9, -999.000,9, -999.000,9,    0.006,2,   1.9236,2,    23.34,2,   -999.0,9,   -999.0,9,   -999.0,9,   -999.0,9,   -999.0,9,     7.42,2, -999.00,  -999.0,-999.0000,-999.000,   25.00,  -999.0,  3.3327,   0.003
    31DSCG94_3,  P18N,   164,  1,    112,   1033,2,19940418,1534,  7.9982,-110.3368, 3969,   1600.3,   2.9582,  34.6097,2,  34.6102,2,     69.9,2,     69.4,2,   131.97,2,    42.37,2,     0.00,2,     2.96,2, -999.000,9, -999.000,9, -999.000,9, -999.000,9, -999.000,9,-999.0000,9,  -999.00,9,   -999.0,9,   -999.0,9,   -999.0,9,   -999.0,9,   -999.0,9,     7.45,2, -999.00,  -999.0,-999.0000,-999.000,   25.00,  -999.0,  2.8423,-999.000
    31DSCG94_3,  P18N,   164,  1,    111,   1240,2,19940418,1534,  7.9982,-110.3368, 3969,   1800.0,   2.6280,  34.6231,2,  34.6227,2,     83.6,2,     81.4,2,   137.59,2,    41.33,2,     0.00,2,     2.88,2, -999.000,9, -999.000,9, -999.000,9, -999.000,9, -999.000,9,-999.0000,9,  -999.00,9,   -999.0,9,   -999.0,9,   -999.0,9,   -999.0,9,   -999.0,9,     7.47,2, -999.00,  -999.0,-999.0000,-999.000,   25.00,  -999.0,  2.4994,-999.000
    31DSCG94_3,  P18N,   164,  1,    110,   1005,2,19940418,1534,  7.9982,-110.3368, 3969,   2000.0,   2.3412,  34.6372,2,  34.6368,2,     89.6,2,     85.7,2,   147.93,2,    40.83,2,     0.00,2,     2.86,2, -999.000,9, -999.000,9, -999.000,9, -999.000,9, -999.000,9,-999.0000,9,  -999.00,9,   -999.0,9,   -999.0,9,   -999.0,9,   -999.0,9,   -999.0,9,  -999.00,9, -999.00,  -999.0,-999.0000,-999.000, -999.00,  -999.0,  2.1996,-999.000
    31DSCG94_3,  P18N,   164,  1,    109,   1611,2,19940418,1534,  7.9982,-110.3368, 3969,   2240.9,   1.9678,  34.6586,2,  34.6594,2,    101.2,2,    100.9,2,   156.01,2,    39.94,2,     0.00,2,     2.76,2, -999.000,9, -999.000,9, -999.000,9, -999.000,9, -999.000,9,-999.0000,9,  -999.00,9,   -999.0,9,   -999.0,9,   -999.0,9,   -999.0,9,   -999.0,9,     7.51,2, -999.00,  -999.0,-999.0000,-999.000,   25.00,  -999.0,  1.8112,-999.000
    31DSCG94_3,  P18N,   164,  1,    108,   1218,2,19940418,1534,  7.9982,-110.3368, 3969,   2498.1,   1.8485,  34.6661,2,  34.6665,2,    109.0,2,    108.8,2,   156.39,2,    39.15,2,     0.00,2,     2.71,2, -999.000,9, -999.000,9, -999.000,9, -999.000,9, -999.000,9,-999.0000,9,  -999.00,9,   -999.0,9,   -999.0,9,   -999.0,9,   -999.0,9,   -999.0,9,  -999.00,9, -999.00,  -999.0,-999.0000,-999.000, -999.00,  -999.0,  1.6711,-999.000
    31DSCG94_3,  P18N,   164,  1,    107,   1257,2,19940418,1534,  7.9982,-110.3368, 3969,   2750.5,   1.8089,  34.6694,2,  34.6686,2,    111.7,2,    111.7,2,   155.64,2,    39.13,2,     0.00,2,     2.68,2, -999.000,9, -999.000,9, -999.000,9, -999.000,9, -999.000,9,-999.0000,9,  -999.00,9,   -999.0,9,   -999.0,9,   -999.0,9,   -999.0,9,   -999.0,9,     7.53,2, -999.00,  -999.0,-999.0000,-999.000,   25.00,  -999.0,  1.6091,-999.000
    31DSCG94_3,  P18N,   164,  1,    106,   1224,2,19940418,1534,  7.9982,-110.3368, 3969,   2999.7,   1.7030,  34.6749,2,  34.6737,2,    119.3,2,    121.0,2,   154.33,2,    38.85,2,     0.00,2,     2.62,2, -999.000,9, -999.000,9, -999.000,9, -999.000,9, -999.000,9,-999.0000,9,  -999.00,9,   -999.0,9,   -999.0,9,   -999.0,9,   -999.0,9,   -999.0,9,  -999.00,9, -999.00,  -999.0,-999.0000,-999.000, -999.00,  -999.0,  1.4817,-999.000
    31DSCG94_3,  P18N,   164,  1,    105,   1246,2,19940418,1534,  7.9982,-110.3368, 3969,   3248.8,   1.6058,  34.6801,2,  34.6791,2,    127.9,2,    130.5,6,   157.28,2,    37.58,2,     0.00,2,     2.60,2, -999.000,9, -999.000,9, -999.000,9, -999.000,9, -999.000,9,-999.0000,9,  -999.00,9,   -999.0,9,   -999.0,9,   -999.0,9,   -999.0,9,   -999.0,9,     7.56,2, -999.00,  -999.0,-999.0000,-999.000,   25.00,  -999.0,  1.3623,-999.000
    31DSCG94_3,  P18N,   164,  1,    104,   1217,2,19940418,1534,  7.9982,-110.3368, 3969,   3500.8,   1.5887,  34.6814,2,  34.6815,2,    133.2,2,    133.9,2,   161.88,2,    36.88,2,     0.00,2,     2.59,2, -999.000,9, -999.000,9, -999.000,9, -999.000,9, -999.000,9,-999.0000,9,  -999.00,9,   -999.0,9,   -999.0,9,   -999.0,9,   -999.0,9,   -999.0,9,  -999.00,9, -999.00,  -999.0,-999.0000,-999.000, -999.00,  -999.0,  1.3202,-999.000
    31DSCG94_3,  P18N,   164,  1,    103,   9999,2,19940418,1534,  7.9982,-110.3368, 3969,   3749.2,   1.5927,  34.6827,2,  34.6842,2,    135.8,2,    135.7,2,   159.15,2,    37.48,2,     0.00,2,     2.54,2,    0.005,2,    0.002,2, -999.000,9, -999.000,9, -999.000,9,-999.0000,9,  -999.00,9,   -999.0,9,   -999.0,9,   -999.0,9,   -999.0,9,   -999.0,9,     7.57,2, -999.00,  -999.0,-999.0000,-999.000,   25.00,  -999.0,  1.2982,-999.000
    31DSCG94_3,  P18N,   164,  1,    102,   1223,2,19940418,1534,  7.9982,-110.3368, 3969,   3749.6,   1.5923,  34.6829,2,  34.6828,2,    135.8,2,    136.0,2,   157.54,2,    37.43,2,     0.00,2,     2.56,2, -999.000,9, -999.000,9, -999.000,9, -999.000,9, -999.000,9,-999.0000,9,  -999.00,9,   -999.0,9,   -999.0,9,   -999.0,9,   -999.0,9,   -999.0,9,  -999.00,9, -999.00,  -999.0,-999.0000,-999.000, -999.00,  -999.0,  1.2977,-999.000
    31DSCG94_3,  P18N,   164,  1,    101,   1041,2,19940418,1534,  7.9982,-110.3368, 3969,   3989.8,   1.6004,  34.6833,2,  34.6840,2,    137.5,2,    137.3,2,   158.98,2,    37.20,2,     0.00,2,     2.55,2, -999.000,9, -999.000,9, -999.000,9, -999.000,9, -999.000,9,-999.0000,9,  -999.00,9,   -999.0,9,   -999.0,9,   -999.0,9,   -999.0,9,   -999.0,9,     7.57,2, -999.00,  -999.0,-999.0000,-999.000,   25.00,  -999.0,  1.2797,-999.000