BOTTLE,20220630CCHSIOAMB
EXPOCODE,SECT_ID,STNNBR,CASTNO,SAMPNO,BTLNBR,BTLNBR_FLAG_W,DATE,TIME,LATITUDE,LONGITUDE,DEPTH,CTDPRS,CTDTMP,CTDSAL,CTDSAL_FLAG_W,SALNTY,SALNTY_FLAG_W,CTDOXY,CTDOXY_FLAG_W,OXYGEN,OXYGEN_FLAG_W,SILCAT,SILCAT_FLAG_W,NITRAT,NITRAT_FLAG_W,NITRIT,NITRIT_FLAG_W,PHSPHT,PHSPHT_FLAG_W,CFC-11,CFC-11_FLAG_W,CFC-12,CFC-12_FLAG_W,CFC113,CFC113_FLAG_W,CCL4,CCL4_FLAG_W,TRITUM,TRITUM_FLAG_W,HELIUM,HELIUM_FLAG_W,DELHE3,DELHE3_FLAG_W,DELC14,DELC14_FLAG_W,DELC13,DELC13_FLAG_W,TCARBN,TCARBN_FLAG_W,PCO2,PCO2_FLAG_W,ALKALI,ALKALI_FLAG_W,PH,PH_FLAG_W,PCO2TMP,C14ERR,HELIER,DELHER,PH_TMP,C13ERR,THETA,TRITER
,,,,,,,,,,,,DBAR,ITS-90,PSS-78,,PSS-78,,UMOL/KG,,UMOL/KG,,UMOL/KG,,UMOL/KG,,UMOL/KG,,UMOL/KG,,PMOL/KG,,PMOL/KG,,PMOL/KG,,PMOL/KG,,TU,,NMOL/KG,,PERCNT,,/MILLE,,/MILLE,,UMOL/KG,,UATM,,UMOL/KG,,,,DEG C,/MILLE,NMOL/KG,PERCNT,DEG C,/MILLE,DEG C,TU
    31DSCG94_2,  P18S,    70,  1,    136,   1025,2,19940318,1530,-34.5167,-103.0000, 3434,     10.1,  20.6204,  34.1882,2,  34.1870,2,    225.1,2,    227.7,2,     0.70,2,     0.41,2,     0.00,2,     0.18,2, -999.000,9, -999.000,9, -999.000,9, -999.000,9, -999.000,9,-999.0000,9,  -999.00,9,   -999.0,9,   -999.0,9,   1996.6,2,    360.9,2,   2262.0,6,     8.00,2,   20.00,  -999.0,-999.0000,-999.000,   25.00,  -999.0, 20.6185,-999.000
    31DSCG94_2,  P18S,    70,  1,    135,   1247,2,19940318,1530,-34.5167,-103.0000, 3434,     25.8,  20.6128,  34.1875,2,  34.1876,2,    231.1,2,    225.6,2,     0.51,2,     0.37,2,     0.00,2,     0.19,2, -999.000,9, -999.000,9, -999.000,9, -999.000,9, -999.000,9,-999.0000,9,  -999.00,9,   -999.0,9,   -999.0,9,   1996.2,2,    360.5,2,   2257.0,2,     8.00,2,   20.00,  -999.0,-999.0000,-999.000,   25.00,  -999.0, 20.6079,-999.000
    31DSCG94_2,  P18S,    70,  1,    134,   1108,2,19940318,1530,-34.5167,-103.0000, 3434,     52.3,  16.6114,  34.1309,2,  34.1475,2,    268.9,2,    271.5,2,     0.58,2,     0.40,2,     0.00,2,     0.18,2, -999.000,9, -999.000,9, -999.000,9, -999.000,9, -999.000,9,-999.0000,9,  -999.00,9,   -999.0,9,   -999.0,9,   2001.5,2,    373.2,2,   2257.0,2,     7.99,2,   20.00,  -999.0,-999.0000,-999.000,   25.00,  -999.0, 16.6030,-999.000
    31DSCG94_2,  P18S,    70,  1,    133,   1244,2,19940318,1530,-34.5167,-103.0000, 3434,     74.7,  15.3591,  34.2131,2,  34.2131,2,    261.5,2,    269.0,2,     0.59,2,     0.43,2,     0.00,2,     0.20,2, -999.000,9, -999.000,9, -999.000,9, -999.000,9, -999.000,9,-999.0000,9,  -999.00,9,   -999.0,9,   -999.0,9,   2007.0,2,    381.2,2,   2256.0,2,  -999.00,9,   20.00,  -999.0,-999.0000,-999.000, -999.00,  -999.0, 15.3477,-999.000
    31DSCG94_2,  P18S,    70,  1,    132,   1003,2,19940318,1530,-34.5167,-103.0000, 3434,     99.6,  14.6525,  34.3268,2,  34.3268,2,    245.1,2,    245.3,2,     0.71,2,     1.38,2,     0.10,2,     0.27,2, -999.000,9, -999.000,9, -999.000,9, -999.000,9, -999.000,9,-999.0000,9,  -999.00,9,   -999.0,9,   -999.0,9,   2024.5,2,    413.6,2,   2267.0,2,     7.96,2,   20.00,  -999.0,-999.0000,-999.000,   25.00,  -999.0, 14.6378,-999.000
    31DSCG94_2,  P18S,    70,  1,    131,   1211,2,19940318,1530,-34.5167,-103.0000, 3434,    122.7,  13.8606,  34.2273,2,  34.2252,2,    246.8,2,    247.4,6,     0.41,2,     2.82,2,     0.19,2,     0.41,2, -999.000,9, -999.000,9, -999.000,9, -999.000,9, -999.000,9,-999.0000,9,  -999.00,9,   -999.0,9,   -999.0,9,   2032.3,2,    434.7,2,   2253.0,2,  -999.00,9,   20.00,  -999.0,-999.0000,-999.000, -999.00,  -999.0, 13.8431,-999.000
    31DSCG94_2,  P18S,    70,  1,    130,   1241,2,19940318,1530,-34.5167,-103.0000, 3434,    149.2,  13.5709,  34.5104,2,  34.5119,2,    225.1,2,    221.9,2,     1.33,2,     5.76,2,     0.23,2,     0.60,2, -999.000,9, -999.000,9, -999.000,9, -999.000,9, -999.000,9,-999.0000,9,  -999.00,9,   -999.0,9,   -999.0,9,   2064.1,2,    493.4,2,   2268.0,3,     7.90,2,   20.00,  -999.0,-999.0000,-999.000,   25.00,  -999.0, 13.5500,-999.000
    31DSCG94_2,  P18S,    70,  1,    129,   1031,2,19940318,1530,-34.5167,-103.0000, 3434,    200.0,  11.8430,  34.5089,2,  34.5093,2,    217.5,2,    213.8,2,     1.89,2,    10.72,2,     0.00,2,     0.85,2, -999.000,9, -999.000,9, -999.000,9, -999.000,9, -999.000,9,-999.0000,9,  -999.00,9,   -999.0,9,   -999.0,9,   2088.4,2,    560.2,2,   2279.0,2,  -999.00,9,   20.00,  -999.0,-999.0000,-999.000, -999.00,  -999.0, 11.8172,-999.000
    31DSCG94_2,  P18S,    70,  1,    128,   1210,2,19940318,1530,-34.5167,-103.0000, 3434,    254.1,   9.8636,  34.4037,2,  34.4070,2,    221.1,2,    219.7,6,     2.92,2,    15.01,2,     0.00,2,     1.11,2, -999.000,9, -999.000,9, -999.000,9, -999.000,9, -999.000,9,-999.0000,9,  -999.00,9,   -999.0,9,   -999.0,9,   2106.7,2,    637.3,2,   2277.0,2,     7.80,2,   20.00,  -999.0,-999.0000,-999.000,   25.00,  -999.0,  9.8345,-999.000
    31DSCG94_2,  P18S,    70,  1,    127,   1008,2,19940318,1530,-34.5167,-103.0000, 3434,    305.8,   8.2797,  34.3381,2,  34.3397,2,    227.1,2,    227.4,2,     4.26,2,    18.86,2,     0.00,2,     1.33,2, -999.000,9, -999.000,9, -999.000,9, -999.000,9, -999.000,9,-999.0000,9,  -999.00,9,   -999.0,9,   -999.0,9,   2120.9,2,    701.4,2,   2282.0,2,     7.76,2,   20.00,  -999.0,-999.0000,-999.000,   25.00,  -999.0,  8.2482,-999.000
    31DSCG94_2,  P18S,    70,  1,    126,   1007,2,19940318,1530,-34.5167,-103.0000, 3434,    355.3,   7.4117,  34.3137,2,  34.3139,2,    235.4,2,    237.1,2,     5.20,2,    20.49,2,     0.00,2,     1.40,2, -999.000,9, -999.000,9, -999.000,9, -999.000,9, -999.000,9,-999.0000,9,  -999.00,9,   -999.0,9,   -999.0,9,   2125.6,2,    721.5,2,   2269.0,2,  -999.00,9,   20.00,  -999.0,-999.0000,-999.000, -999.00,  -999.0,  7.3773,-999.000
    31DSCG94_2,  P18S,    70,  1,    125,   1203,2,19940318,1530,-34.5167,-103.0000, 3434,    400.4,   6.8765,  34.3194,2,  34.3193,2,    242.5,2,    243.9,6,     6.31,2,    21.35,2,     0.00,2,     1.49,2, -999.000,9, -999.000,9, -999.000,9, -999.000,9, -999.000,9,-999.0000,9,  -999.00,9,   -999.0,9,   -999.0,9,   2129.8,2,    730.0,2,   2267.0,2,     7.74,2,   20.00,  -999.0,-999.0000,-999.000,   25.00,  -999.0,  6.8393,-999.000
    31DSCG94_2,  P18S,    70,  1,    123,   1101,2,19940318,1530,-34.5167,-103.0000, 3434,    497.2,   6.3958,  34.3305,2,  34.3302,2,    243.4,2,    243.3,2,     8.09,2,    22.76,2,     0.00,2,     1.54,2, -999.000,9, -999.000,9, -999.000,9, -999.000,9, -999.000,9,-999.0000,9,  -999.00,9,   -999.0,9,   -999.0,9,   2130.7,2,    739.8,2,   2278.0,2,     7.74,2,   20.00,  -999.0,-999.0000,-999.000,   25.00,  -999.0,  6.3510,-999.000
    31DSCG94_2,  P18S,    70,  1,    121,   1206,2,19940318,1530,-34.5167,-103.0000, 3434,    592.1,   5.9547,  34.3017,2,  34.3012,2,    246.4,2,    249.4,2,     9.16,2,    23.50,2,     0.00,2,     1.59,2, -999.000,9, -999.000,9, -999.000,9, -999.000,9, -999.000,9,-999.0000,9,  -999.00,9,   -999.0,9,   -999.0,9,   2136.7,2,    748.7,2,   2281.0,2,  -999.00,9,   20.00,  -999.0,-999.0000,-999.000, -999.00,  -999.0,  5.9029,-999.000
    31DSCG94_2,  P18S,    70,  1,    119,   1248,2,19940318,1530,-34.5167,-103.0000, 3434,    695.1,   5.5420,  34.2802,2,  34.2802,2,    241.6,2,    245.0,2,    11.33,2,    24.98,2,     0.00,2,     1.70,2, -999.000,9, -999.000,9, -999.000,9, -999.000,9, -999.000,9,-999.0000,9,  -999.00,9,   -999.0,9,   -999.0,9,   2143.3,2,    777.5,2,   2274.0,2,     7.72,2,   20.00,  -999.0,-999.0000,-999.000,   25.00,  -999.0,  5.4830,-999.000
    31DSCG94_2,  P18S,    70,  1,    118,   1207,2,19940318,1530,-34.5167,-103.0000, 3434,    796.3,   5.1138,  34.2669,2,  34.2669,2,    232.6,2,    234.9,2,    15.00,2,    26.98,2,     0.00,2,     1.84,2, -999.000,9, -999.000,9, -999.000,9, -999.000,9, -999.000,9,-999.0000,9,  -999.00,9,   -999.0,9,   -999.0,9,   2154.6,2,    826.4,2,   2280.0,2,     7.70,2,   20.00,  -999.0,-999.0000,-999.000,   25.00,  -999.0,  5.0482,-999.000
    31DSCG94_2,  P18S,    70,  1,    117,   1119,2,19940318,1530,-34.5167,-103.0000, 3434,    900.0,   4.6689,  34.2744,2,  34.2744,2,    214.2,2,    216.2,2,    21.76,2,    29.48,2,     0.00,2,     2.01,2, -999.000,9, -999.000,9, -999.000,9, -999.000,9, -999.000,9,-999.0000,9,  -999.00,9,   -999.0,9,   -999.0,9,   2172.7,2,    921.1,2,   2291.0,6,  -999.00,9,   20.00,  -999.0,-999.0000,-999.000, -999.00,  -999.0,  4.5972,-999.000
    31DSCG94_2,  P18S,    70,  1,    116,   1036,2,19940318,1530,-34.5167,-103.0000, 3434,    994.1,   4.2221,  34.3060,2,  34.3057,2,    194.3,2,    194.0,2,    32.50,2,    31.58,2,     0.00,2,     2.18,2, -999.000,9, -999.000,9, -999.000,9, -999.000,9, -999.000,9,-999.0000,9,  -999.00,9,   -999.0,9,   -999.0,9,   2194.4,2,   1018.8,2,   2297.0,2,     7.62,2,   20.00,  -999.0,-999.0000,-999.000,   25.00,  -999.0,  4.1455,-999.000
    31DSCG94_2,  P18S,    70,  1,    115,   1017,2,19940318,1530,-34.5167,-103.0000, 3434,   1095.8,   3.8120,  34.3549,2,  34.3519,2,    176.6,2,    172.0,2,    44.42,2,    33.90,2,     0.00,2,     2.37,2, -999.000,9, -999.000,9, -999.000,9, -999.000,9, -999.000,9,-999.0000,9,  -999.00,9,   -999.0,9,   -999.0,9,   -999.0,9,   -999.0,9,   -999.0,9,  -999.00,9, -999.00,  -999.0,-999.0000,-999.000, -999.00,  -999.0,  3.7301,-999.000
    31DSCG94_2,  P18S,    70,  1,    114,   1016,2,19940318,1530,-34.5167,-103.0000, 3434,   1198.3,   3.5463,  34.4108,2,  34.4093,2,    152.6,2,    151.6,2,    57.01,2,    35.90,2,     0.01,2,     2.52,2, -999.000,9, -999.000,9, -999.000,9, -999.000,9, -999.000,9,-999.0000,9,  -999.00,9,   -999.0,9,   -999.0,9,   -999.0,9,   -999.0,9,   -999.0,9,     7.55,2, -999.00,  -999.0,-999.0000,-999.000,   25.00,  -999.0,  3.4583,-999.000
    31DSCG94_2,  P18S,    70,  1,    113,   1209,2,19940318,1530,-34.5167,-103.0000, 3434,   1299.1,   3.3128,  34.4658,2,  34.4642,2,    137.9,2,    137.0,2,    70.49,2,    37.21,2,     0.00,2,     2.59,2, -999.000,9, -999.000,9, -999.000,9, -999.000,9, -999.000,9,-999.0000,9,  -999.00,9,   -999.0,9,   -999.0,9,   -999.0,9,   -999.0,9,   -999.0,9,  -999.00,9, -999.00,  -999.0,-999.0000,-999.000, -999.00,  -999.0,  3.2185,-999.000
    31DSCG94_2,  P18S,    70,  1,    112,   1033,2,19940318,1530,-34.5167,-103.0000, 3434,   1395.0,   3.1430,  34.5064,2,  34.5068,2,    130.1,2,    130.0,2,    81.29,2,    37.19,2,     0.00,2,     2.62,2, -999.000,9, -999.000,9, -999.000,9, -999.000,9, -999.000,9,-999.0000,9,  -999.00,9,   -999.0,9,   -999.0,9,   -999.0,9,   -999.0,9,   -999.0,9,  -999.00,9, -999.00,  -999.0,-999.0000,-999.000, -999.00,  -999.0,  3.0425,-999.000
    31DSCG94_2,  P18S,    70,  1,    111,   1263,2,19940318,1530,-34.5167,-103.0000, 3434,   1500.3,   2.9533,  34.5374,2,  34.5372,2,    127.7,2,    130.1,2,    88.53,2,    37.32,2,     0.00,2,     2.60,2, -999.000,9, -999.000,9, -999.000,9, -999.000,9, -999.000,9,-999.0000,9,  -999.00,9,   -999.0,9,   -999.0,9,   -999.0,9,   -999.0,9,   -999.0,9,  -999.00,9, -999.00,  -999.0,-999.0000,-999.000, -999.00,  -999.0,  2.8460,-999.000
    31DSCG94_2,  P18S,    70,  1,    110,   1005,2,19940318,1530,-34.5167,-103.0000, 3434,   1599.5,   2.7817,  34.5594,2,  34.5585,2,    131.3,2,    133.7,2,    93.04,2,    36.46,2,     0.00,2,     2.57,2, -999.000,9, -999.000,9, -999.000,9, -999.000,9, -999.000,9,-999.0000,9,  -999.00,9,   -999.0,9,   -999.0,9,   -999.0,9,   -999.0,9,   -999.0,9,     7.53,2, -999.00,  -999.0,-999.0000,-999.000,   25.00,  -999.0,  2.6682,-999.000
    31DSCG94_2,  P18S,    70,  1,    109,   1611,2,19940318,1530,-34.5167,-103.0000, 3434,   1799.8,   2.4346,  34.5988,2,  34.5972,2,    141.9,2,    146.2,2,    98.85,2,    35.61,2,     0.00,2,     2.47,2, -999.000,9, -999.000,9, -999.000,9, -999.000,9, -999.000,9,-999.0000,9,  -999.00,9,   -999.0,9,   -999.0,9,   -999.0,9,   -999.0,9,   -999.0,9,  -999.00,9, -999.00,  -999.0,-999.0000,-999.000, -999.00,  -999.0,  2.3088,-999.000
    31DSCG94_2,  P18S,    70,  1,    108,   1218,2,19940318,1530,-34.5167,-103.0000, 3434,   1999.6,   2.1830,  34.6336,2,  34.6331,2,    151.1,2,    156.4,2,   103.28,2,    34.65,2,     0.00,2,     2.41,2, -999.000,9, -999.000,9, -999.000,9, -999.000,9, -999.000,9,-999.0000,9,  -999.00,9,   -999.0,9,   -999.0,9,   -999.0,9,   -999.0,9,   -999.0,9,  -999.00,9, -999.00,  -999.0,-999.0000,-999.000, -999.00,  -999.0,  2.0438,-999.000
    31DSCG94_2,  P18S,    70,  1,    107,   1257,2,19940318,1530,-34.5167,-103.0000, 3434,   2248.1,   1.9519,  34.6652,2,  34.6640,2,    156.8,2,    162.0,2,   110.41,2,    34.57,2,     0.01,2,     2.40,2, -999.000,9, -999.000,9, -999.000,9, -999.000,9, -999.000,9,-999.0000,9,  -999.00,9,   -999.0,9,   -999.0,9,   -999.0,9,   -999.0,9,   -999.0,9,  -999.00,9, -999.00,  -999.0,-999.0000,-999.000, -999.00,  -999.0,  1.7949,-999.000
    31DSCG94_2,  P18S,    70,  1,    106,   1224,2,19940318,1530,-34.5167,-103.0000, 3434,   2500.4,   1.8138,  34.6789,2,  34.6793,2,    160.6,2,    164.5,2,   116.09,2,    34.19,2,     0.00,2,     2.37,2, -999.000,9, -999.000,9, -999.000,9, -999.000,9, -999.000,9,-999.0000,9,  -999.00,9,   -999.0,9,   -999.0,9,   -999.0,9,   -999.0,9,   -999.0,9,     7.59,2, -999.00,  -999.0,-999.0000,-999.000,   25.00,  -999.0,  1.6368,-999.000
    31DSCG94_2,  P18S,    70,  1,    105,   1246,2,19940318,1530,-34.5167,-103.0000, 3434,   2750.7,   1.7535,  34.6834,2,  34.6821,2,    163.1,2,    166.0,2,   120.53,2,    34.08,2,     0.00,2,     2.35,2, -999.000,9, -999.000,9, -999.000,9, -999.000,9, -999.000,9,-999.0000,9,  -999.00,9,   -999.0,9,   -999.0,9,   -999.0,9,   -999.0,9,   -999.0,9,  -999.00,9, -999.00,  -999.0,-999.0000,-999.000, -999.00,  -999.0,  1.5547,-999.000
    31DSCG94_2,  P18S,    70,  1,    104,   1217,2,19940318,1530,-34.5167,-103.0000, 3434,   2999.4,   1.7446,  34.6868,2,  34.6857,2,    165.2,2,    167.0,2,   120.86,2,    34.29,2,     0.00,2,     2.34,2, -999.000,9, -999.000,9, -999.000,9, -999.000,9, -999.000,9,-999.0000,9,  -999.00,9,   -999.0,9,   -999.0,9,   -999.0,9,   -999.0,9,   -999.0,9,  -999.00,9, -999.00,  -999.0,-999.0000,-999.000, -999.00,  -999.0,  1.5224,-999.000
    31DSCG94_2,  P18S,    70,  1,    102,   1223,2,19940318,1530,-34.5167,-103.0000, 3434,   3249.0,   1.7533,  34.6889,2,  34.6875,2,    166.2,2,    168.3,2,   119.04,2,    33.85,2,     0.00,2,     2.35,2, -999.000,9, -999.000,9, -999.000,9, -999.000,9, -999.000,9,-999.0000,9,  -999.00,9,   -999.0,9,   -999.0,9,   -999.0,9,   -999.0,9,   -999.0,9,     7.59,2, -999.00,  -999.0,-999.0000,-999.000,   25.00,  -999.0,  1.5063,-999.000
    31DSCG94_2,  P18S,    70,  1,    103,   9999,2,19940318,1530,-34.5167,-103.0000, 3434,   3253.8,   1.7536,  34.6884,2,  34.6880,2,    166.1,2,    167.4,2,   120.01,2,    34.16,2,     0.00,2,     2.35,2, -999.000,9, -999.000,9, -999.000,9, -999.000,9, -999.000,9,-999.0000,9,  -999.00,9,   -999.0,9,   -999.0,9,   -999.0,9,   -999.0,9,   -999.0,9,  -999.00,9, -999.00,  -999.0,-999.0000,-999.000, -999.00,  -999.0,  1.5061,-999.000
    31DSCG94_2,  P18S,    70,  1,    101,   1041,2,19940318,1530,-34.5167,-103.0000, 3434,   3455.4,   1.7674,  34.6895,2,  34.6879,2,    166.8,2,    167.7,2,   118.37,2,    33.84,2,     0.00,2,     2.33,2, -999.000,9, -999.000,9, -999.000,9, -999.000,9, -999.000,9,-999.0000,9,  -999.00,9,   -999.0,9,   -999.0,9,   -999.0,9,   -999.0,9,   -999.0,9,  -999.00,9, -999.00,  -999.0,-999.0000,-999.000, -999.00,  -999.0,  1.4990,-999.000