BOTTLE,20220630CCHSIOAMB
EXPOCODE,SECT_ID,STNNBR,CASTNO,SAMPNO,BTLNBR,BTLNBR_FLAG_W,DATE,TIME,LATITUDE,LONGITUDE,DEPTH,CTDPRS,CTDTMP,CTDSAL,CTDSAL_FLAG_W,SALNTY,SALNTY_FLAG_W,CTDOXY,CTDOXY_FLAG_W,OXYGEN,OXYGEN_FLAG_W,SILCAT,SILCAT_FLAG_W,NITRAT,NITRAT_FLAG_W,NITRIT,NITRIT_FLAG_W,PHSPHT,PHSPHT_FLAG_W,CFC-11,CFC-11_FLAG_W,CFC-12,CFC-12_FLAG_W,CFC113,CFC113_FLAG_W,CCL4,CCL4_FLAG_W,TRITUM,TRITUM_FLAG_W,HELIUM,HELIUM_FLAG_W,DELHE3,DELHE3_FLAG_W,DELC14,DELC14_FLAG_W,DELC13,DELC13_FLAG_W,TCARBN,TCARBN_FLAG_W,PCO2,PCO2_FLAG_W,ALKALI,ALKALI_FLAG_W,PH,PH_FLAG_W,PCO2TMP,C14ERR,HELIER,DELHER,PH_TMP,C13ERR,THETA,TRITER
,,,,,,,,,,,,DBAR,ITS-90,PSS-78,,PSS-78,,UMOL/KG,,UMOL/KG,,UMOL/KG,,UMOL/KG,,UMOL/KG,,UMOL/KG,,PMOL/KG,,PMOL/KG,,PMOL/KG,,PMOL/KG,,TU,,NMOL/KG,,PERCNT,,/MILLE,,/MILLE,,UMOL/KG,,UATM,,UMOL/KG,,,,DEG C,/MILLE,NMOL/KG,PERCNT,DEG C,/MILLE,DEG C,TU
    31DSCG94_3,  P18N,   102,  1,    136,   1025,2,19940402,0331,-18.4950,-103.0017, 4058,      9.3,  24.4898,  36.4098,2,  36.4208,2,    201.8,2,    209.5,6,     1.05,2,     0.02,2,     0.00,2,     0.30,2, -999.000,9, -999.000,9, -999.000,9, -999.000,9, -999.000,9,-999.0000,9,  -999.00,9,   -999.0,9,      1.7,2,   2069.6,2,    311.4,2,   2404.0,2,  -999.00,9,   20.00,  -999.0,-999.0000,-999.000, -999.00,  -999.0, 24.4878,-999.000
    31DSCG94_3,  P18N,   102,  1,    135,   1247,2,19940402,0331,-18.4950,-103.0017, 4058,     24.9,  24.3051,  36.3859,2,  36.3866,2,    209.6,2,    210.2,2,     0.98,2,     0.10,2,     0.00,2,     0.29,2, -999.000,9, -999.000,9, -999.000,9, -999.000,9, -999.000,9,-999.0000,9,  -999.00,9,   -999.0,9,   -999.0,9,   -999.0,9,   -999.0,9,   -999.0,9,     8.06,2, -999.00,  -999.0,-999.0000,-999.000,   25.00,  -999.0, 24.2998,-999.000
    31DSCG94_3,  P18N,   102,  1,    134,   1216,2,19940402,0331,-18.4950,-103.0017, 4058,     44.2,  24.1375,  36.3723,2,  36.3763,2,    209.0,2,    212.1,2,     0.80,2,     0.06,2,     0.00,2,     0.29,2, -999.000,9, -999.000,9, -999.000,9, -999.000,9, -999.000,9,-999.0000,9,  -999.00,9,   -999.0,9,   -999.0,9,   2067.4,2,    312.0,2,   2397.0,2,     8.06,2,   20.00,  -999.0,-999.0000,-999.000,   25.00,  -999.0, 24.1281,-999.000
    31DSCG94_3,  P18N,   102,  1,    133,   1244,2,19940402,0331,-18.4950,-103.0017, 4058,     72.6,  23.8001,  36.3896,2,  36.3975,2,    212.3,2,    213.6,2,     0.87,2,     0.07,2,     0.00,2,     0.26,2, -999.000,9, -999.000,9, -999.000,9, -999.000,9, -999.000,9,-999.0000,9,  -999.00,9,   -999.0,9,   -999.0,9,   -999.0,9,   -999.0,9,   -999.0,9,     8.07,2, -999.00,  -999.0,-999.0000,-999.000,   25.00,  -999.0, 23.7848,-999.000
    31DSCG94_3,  P18N,   102,  1,    132,   1003,2,19940402,0331,-18.4950,-103.0017, 4058,     99.4,  22.6148,  36.2459,2,  36.2565,2,    218.3,2,    220.5,2,     0.64,2,     0.26,2,     0.00,2,     0.26,2, -999.000,9, -999.000,9, -999.000,9, -999.000,9, -999.000,9,-999.0000,9,  -999.00,9,   -999.0,9,   -999.0,9,   2064.7,2,    317.8,2,   2393.0,2,     8.06,2,   20.00,  -999.0,-999.0000,-999.000,   25.00,  -999.0, 22.5946,-999.000
    31DSCG94_3,  P18N,   102,  1,    131,   1211,2,19940402,0331,-18.4950,-103.0017, 4058,    124.4,  21.5159,  36.0477,2,  36.0624,2,    214.1,2,    219.2,2,     0.75,2,     0.02,2,     0.00,2,     0.27,2, -999.000,9, -999.000,9, -999.000,9, -999.000,9, -999.000,9,-999.0000,9,  -999.00,9,   -999.0,9,   -999.0,9,   -999.0,9,   -999.0,9,   -999.0,9,     8.04,2, -999.00,  -999.0,-999.0000,-999.000,   25.00,  -999.0, 21.4916,-999.000
    31DSCG94_3,  P18N,   102,  1,    130,   1241,2,19940402,0331,-18.4950,-103.0017, 4058,    148.4,  20.8102,  35.8918,2,  35.8703,2,    213.5,2,    219.5,2,     0.69,2,     0.07,2,     0.00,2,     0.28,2, -999.000,9, -999.000,9, -999.000,9, -999.000,9, -999.000,9,-999.0000,9,  -999.00,9,   -999.0,9,   -999.0,9,   -999.0,9,   -999.0,9,   -999.0,9,     8.02,2, -999.00,  -999.0,-999.0000,-999.000,   25.00,  -999.0, 20.7819,-999.000
    31DSCG94_3,  P18N,   102,  1,    129,   1240,2,19940402,0331,-18.4950,-103.0017, 4058,    201.8,  19.8840,  35.6807,2,  35.6808,2,    216.6,2,    215.1,2,     0.74,2,     0.32,2,     0.14,2,     0.32,2, -999.000,9, -999.000,9, -999.000,9, -999.000,9, -999.000,9,-999.0000,9,  -999.00,9,   -999.0,9,   -999.0,9,   2067.5,2,    362.9,2,   2351.0,2,     8.01,2,   20.00,  -999.0,-999.0000,-999.000,   25.00,  -999.0, 19.8467,-999.000
    31DSCG94_3,  P18N,   102,  1,    128,   1032,3,19940402,0331,-18.4950,-103.0017, 4058,    249.7,  15.9249,  35.0025,2,  34.9805,2,    190.7,2,    193.8,2,     1.49,2,     5.04,2,     0.00,2,     0.61,2, -999.000,9, -999.000,9, -999.000,9, -999.000,9, -999.000,9,-999.0000,9,  -999.00,9,   -999.0,9,   -999.0,9,   -999.0,9,   -999.0,9,   -999.0,9,  -999.00,9, -999.00,  -999.0,-999.0000,-999.000, -999.00,  -999.0, 15.8854,-999.000
    31DSCG94_3,  P18N,   102,  1,    127,   1008,2,19940402,0331,-18.4950,-103.0017, 4058,    298.0,  12.2966,  34.5815,2,  34.5886,2,    165.3,2,    148.6,2,     6.53,2,    14.60,2,     0.00,2,     1.36,2, -999.000,9, -999.000,9, -999.000,9, -999.000,9, -999.000,9,-999.0000,9,  -999.00,9,   -999.0,9,   -999.0,9,   2134.4,2,    723.7,2,   2281.0,2,     7.75,2,   20.00,  -999.0,-999.0000,-999.000,   25.00,  -999.0, 12.2571,-999.000
    31DSCG94_3,  P18N,   102,  1,    126,   1007,2,19940402,0331,-18.4950,-103.0017, 4058,    349.6,  10.2536,  34.4968,2,  34.4976,2,    108.3,2,    102.5,2,    13.53,2,    23.34,2,     0.00,2,     2.02,2, -999.000,9, -999.000,9, -999.000,9, -999.000,9, -999.000,9,-999.0000,9,  -999.00,9,   -999.0,9,   -999.0,9,   -999.0,9,   -999.0,9,   -999.0,9,     7.59,2, -999.00,  -999.0,-999.0000,-999.000,   25.00,  -999.0, 10.2124,-999.000
    31DSCG94_3,  P18N,   102,  1,    125,   1203,2,19940402,0331,-18.4950,-103.0017, 4058,    399.6,   8.5935,  34.4849,2,  34.4842,2,     76.8,2,     73.0,2,    19.96,2,    31.30,2,     0.01,2,     2.46,2, -999.000,9, -999.000,9, -999.000,9, -999.000,9, -999.000,9,-999.0000,9,  -999.00,9,   -999.0,9,   -999.0,9,   2232.0,2,   1442.2,2,   2285.0,2,     7.48,2,   20.00,  -999.0,-999.0000,-999.000,   25.00,  -999.0,  8.5511,-999.000
    31DSCG94_3,  P18N,   102,  1,    123,   1220,2,19940402,0331,-18.4950,-103.0017, 4058,    498.8,   7.0073,  34.4499,2,  34.4506,2,     93.3,2,     91.2,2,    25.08,2,    35.88,2,     0.00,2,     2.55,2, -999.000,9, -999.000,9, -999.000,9, -999.000,9, -999.000,9,-999.0000,9,  -999.00,9,   -999.0,9,   -999.0,9,   2235.5,2,   1421.5,2,   2286.0,2,     7.48,2,   20.00,  -999.0,-999.0000,-999.000,   25.00,  -999.0,  6.9600,-999.000
    31DSCG94_3,  P18N,   102,  1,    122,   1245,2,19940402,0331,-18.4950,-103.0017, 4058,    598.2,   6.0575,  34.4354,2,  34.4351,2,     98.9,2,     95.1,2,    32.17,2,    38.20,2,     0.01,2,     2.64,2, -999.000,9, -999.000,9, -999.000,9, -999.000,9, -999.000,9,-999.0000,9,  -999.00,9,   -999.0,9,   -999.0,9,   2242.7,2,   1436.5,2,   2295.0,2,     7.48,2,   20.00,  -999.0,-999.0000,-999.000,   25.00,  -999.0,  6.0047,-999.000
    31DSCG94_3,  P18N,   102,  1,    121,   1206,2,19940402,0331,-18.4950,-103.0017, 4058,    698.3,   5.5392,  34.4574,2,  34.4577,2,     77.4,2,     80.4,2,    43.79,2,    40.15,2,     0.01,2,     2.82,2, -999.000,9, -999.000,9, -999.000,9, -999.000,9, -999.000,9,-999.0000,9,  -999.00,9,   -999.0,9,   -999.0,9,   2264.3,2,   1553.2,2,   2306.0,2,     7.45,2,   20.00,  -999.0,-999.0000,-999.000,   25.00,  -999.0,  5.4797,-999.000
    31DSCG94_3,  P18N,   102,  1,    120,   1028,2,19940402,0331,-18.4950,-103.0017, 4058,    800.2,   5.0690,  34.4800,2,  34.4817,2,     77.7,2,     74.0,2,    55.27,2,    41.67,2,     0.00,2,     2.91,2, -999.000,9, -999.000,9, -999.000,9, -999.000,9, -999.000,9,-999.0000,9,  -999.00,9,   -999.0,9,   -999.0,9,   2279.8,2,   1602.4,6,   2321.0,2,     7.44,2,   20.00,  -999.0,-999.0000,-999.000,   25.00,  -999.0,  5.0031,-999.000
    31DSCG94_3,  P18N,   102,  1,    119,   1248,2,19940402,0331,-18.4950,-103.0017, 4058,    900.8,   4.6265,  34.5047,2,  34.5042,2,     72.5,2,     71.3,2,    66.97,2,    42.03,2,     0.00,2,     2.97,2, -999.000,9, -999.000,9, -999.000,9, -999.000,9, -999.000,9,-999.0000,9,  -999.00,9,   -999.0,9,   -999.0,9,   2294.9,2,   1647.0,2,   2331.0,2,     7.43,2,   20.00,  -999.0,-999.0000,-999.000,   25.00,  -999.0,  4.5547,-999.000
    31DSCG94_3,  P18N,   102,  1,    118,   1207,2,19940402,0331,-18.4950,-103.0017, 4058,    999.5,   4.2657,  34.5209,2,  34.5200,2,     74.8,2,     73.7,2,    75.89,2,    42.06,2,     0.01,2,     2.97,2, -999.000,9, -999.000,9, -999.000,9, -999.000,9, -999.000,9,-999.0000,9,  -999.00,9,   -999.0,9,   -999.0,9,   2301.7,2,   1640.5,2,   2344.0,6,     7.44,2,   20.00,  -999.0,-999.0000,-999.000,   25.00,  -999.0,  4.1880,-999.000
    31DSCG94_3,  P18N,   102,  1,    117,   1119,2,19940402,0331,-18.4950,-103.0017, 4058,   1097.7,   3.9264,  34.5338,2,  34.5338,2,     83.0,2,     87.2,2,    83.06,2,    41.20,2,     0.01,2,     2.91,2, -999.000,9, -999.000,9, -999.000,9, -999.000,9, -999.000,9,-999.0000,9,  -999.00,9,   -999.0,9,   -999.0,9,   -999.0,9,   -999.0,9,   -999.0,9,     7.46,2, -999.00,  -999.0,-999.0000,-999.000,   25.00,  -999.0,  3.8431,-999.000
    31DSCG94_3,  P18N,   102,  1,    116,   1036,2,19940402,0331,-18.4950,-103.0017, 4058,   1199.1,   3.6246,  34.5480,2,  34.5466,2,     86.7,2,     87.8,2,    90.56,2,    40.81,2,     0.00,2,     2.91,2, -999.000,9, -999.000,9, -999.000,9, -999.000,9, -999.000,9,-999.0000,9,  -999.00,9,   -999.0,9,   -999.0,9,   -999.0,9,   -999.0,9,   -999.0,9,     7.46,2, -999.00,  -999.0,-999.0000,-999.000,   25.00,  -999.0,  3.5355,-999.000
    31DSCG94_3,  P18N,   102,  1,    115,   1017,2,19940402,0331,-18.4950,-103.0017, 4058,   1292.6,   3.3860,  34.5602,2,  34.5606,2,     89.5,2,     90.5,2,    96.84,2,    40.99,2,     0.00,2,     2.89,2, -999.000,9, -999.000,9, -999.000,9, -999.000,9, -999.000,9,-999.0000,9,  -999.00,9,   -999.0,9,   -999.0,9,   -999.0,9,   -999.0,9,   -999.0,9,     7.47,2, -999.00,  -999.0,-999.0000,-999.000,   25.00,  -999.0,  3.2913,-999.000
    31DSCG94_3,  P18N,   102,  1,    114,   1016,2,19940402,0331,-18.4950,-103.0017, 4058,   1399.3,   3.1280,  34.5760,2,  34.5747,2,     93.3,2,     94.1,2,   102.61,2,    40.20,2,     0.00,2,     2.87,2, -999.000,9, -999.000,9, -999.000,9, -999.000,9, -999.000,9,-999.0000,9,  -999.00,9,   -999.0,9,   -999.0,9,   -999.0,9,   -999.0,9,   -999.0,9,     7.47,2, -999.00,  -999.0,-999.0000,-999.000,   25.00,  -999.0,  3.0271,-999.000
    31DSCG94_3,  P18N,   102,  1,    113,   1209,2,19940402,0331,-18.4950,-103.0017, 4058,   1600.1,   2.7702,  34.5996,2,  34.5995,2,    101.3,2,    101.5,2,   111.94,2,    39.87,2,     0.00,2,     2.84,2, -999.000,9, -999.000,9, -999.000,9, -999.000,9, -999.000,9,-999.0000,9,  -999.00,9,   -999.0,9,   -999.0,9,   -999.0,9,   -999.0,9,   -999.0,9,     7.49,2, -999.00,  -999.0,-999.0000,-999.000,   25.00,  -999.0,  2.6567,-999.000
    31DSCG94_3,  P18N,   102,  1,    112,   1033,2,19940402,0331,-18.4950,-103.0017, 4058,   1800.5,   2.4606,  34.6190,2,  34.6187,2,    112.8,2,    115.1,2,   117.75,2,    38.13,2,     0.00,2,     2.73,2, -999.000,9, -999.000,9, -999.000,9, -999.000,9, -999.000,9,-999.0000,9,  -999.00,9,   -999.0,9,   -999.0,9,   -999.0,9,   -999.0,9,   -999.0,9,     7.51,2, -999.00,  -999.0,-999.0000,-999.000,   25.00,  -999.0,  2.3343,-999.000
    31DSCG94_3,  P18N,   102,  1,    111,   1240,2,19940402,0331,-18.4950,-103.0017, 4058,   1984.9,   2.2173,  34.6352,2,  34.6347,2,    126.0,2,    128.7,6,   120.81,2,    37.12,2,     0.00,2,     2.63,2, -999.000,9, -999.000,9, -999.000,9, -999.000,9, -999.000,9,-999.0000,9,  -999.00,9,   -999.0,9,   -999.0,9,   -999.0,9,   -999.0,9,   -999.0,9,     7.54,2, -999.00,  -999.0,-999.0000,-999.000,   25.00,  -999.0,  2.0788,-999.000
    31DSCG94_3,  P18N,   102,  1,    110,   1005,2,19940402,0331,-18.4950,-103.0017, 4058,   2248.9,   1.9758,  34.6546,2,  34.6535,2,    142.6,2,    143.5,2,   122.11,2,    36.37,2,     0.00,2,     2.52,2, -999.000,9, -999.000,9, -999.000,9, -999.000,9, -999.000,9,-999.0000,9,  -999.00,9,   -999.0,9,   -999.0,9,   -999.0,9,   -999.0,9,   -999.0,9,  -999.00,9, -999.00,  -999.0,-999.0000,-999.000, -999.00,  -999.0,  1.8184,-999.000
    31DSCG94_3,  P18N,   102,  1,    109,   1611,2,19940402,0331,-18.4950,-103.0017, 4058,   2500.8,   1.8647,  34.6662,2,  34.6680,2,    150.7,2,    151.1,6,   122.68,2,    35.98,2,     0.00,2,     2.45,2, -999.000,9, -999.000,9, -999.000,9, -999.000,9, -999.000,9,-999.0000,9,  -999.00,9,   -999.0,9,   -999.0,9,   -999.0,9,   -999.0,9,   -999.0,9,     7.58,2, -999.00,  -999.0,-999.0000,-999.000,   25.00,  -999.0,  1.6867,-999.000
    31DSCG94_3,  P18N,   102,  1,    108,   1218,2,19940402,0331,-18.4950,-103.0017, 4058,   2749.3,   1.8042,  34.6749,2,  34.6740,2,    150.0,2,    150.1,2,   126.62,2,    35.79,2,     0.00,2,     2.48,2, -999.000,9, -999.000,9, -999.000,9, -999.000,9, -999.000,9,-999.0000,9,  -999.00,9,   -999.0,9,   -999.0,9,   -999.0,9,   -999.0,9,   -999.0,9,  -999.00,9, -999.00,  -999.0,-999.0000,-999.000, -999.00,  -999.0,  1.6045,-999.000
    31DSCG94_3,  P18N,   102,  1,    107,   1257,2,19940402,0331,-18.4950,-103.0017, 4058,   2982.1,   1.7806,  34.6795,2,  34.6793,2,    147.6,2,    148.3,2,   131.66,2,    36.00,2,     0.00,2,     2.50,2, -999.000,9, -999.000,9, -999.000,9, -999.000,9, -999.000,9,-999.0000,9,  -999.00,9,   -999.0,9,   -999.0,9,   -999.0,9,   -999.0,9,   -999.0,9,  -999.00,9, -999.00,  -999.0,-999.0000,-999.000, -999.00,  -999.0,  1.5593,-999.000
    31DSCG94_3,  P18N,   102,  1,    106,   1224,2,19940402,0331,-18.4950,-103.0017, 4058,   3248.7,   1.7746,  34.6825,2,  34.6805,2,    147.4,2,    147.4,2,   131.98,2,    35.86,2,     0.00,2,     2.47,2, -999.000,9, -999.000,9, -999.000,9, -999.000,9, -999.000,9,-999.0000,9,  -999.00,9,   -999.0,9,   -999.0,9,   -999.0,9,   -999.0,9,   -999.0,9,  -999.00,9, -999.00,  -999.0,-999.0000,-999.000, -999.00,  -999.0,  1.5271,-999.000
    31DSCG94_3,  P18N,   102,  1,    105,   1246,2,19940402,0331,-18.4950,-103.0017, 4058,   3497.9,   1.7770,  34.6849,2,  34.6845,2,    147.3,2,    149.2,2,   131.22,2,    36.06,2,     0.00,2,     2.49,2, -999.000,9, -999.000,9, -999.000,9, -999.000,9, -999.000,9,-999.0000,9,  -999.00,9,   -999.0,9,   -999.0,9,   -999.0,9,   -999.0,9,   -999.0,9,     7.58,2, -999.00,  -999.0,-999.0000,-999.000,   25.00,  -999.0,  1.5040,-999.000
    31DSCG94_3,  P18N,   102,  1,    104,   1217,2,19940402,0331,-18.4950,-103.0017, 4058,   3746.9,   1.7898,  34.6859,2,  34.6860,2,    148.8,2,    149.8,2,   130.58,2,    35.80,2,     0.00,2,     2.48,2, -999.000,9, -999.000,9, -999.000,9, -999.000,9, -999.000,9,-999.0000,9,  -999.00,9,   -999.0,9,   -999.0,9,   -999.0,9,   -999.0,9,   -999.0,9,  -999.00,9, -999.00,  -999.0,-999.0000,-999.000, -999.00,  -999.0,  1.4902,-999.000
    31DSCG94_3,  P18N,   102,  1,    102,   1223,2,19940402,0331,-18.4950,-103.0017, 4058,   3998.5,   1.8131,  34.6860,2,  34.6864,2,    148.3,2,    150.8,2,   131.91,2,    35.58,2,     0.00,2,     2.49,2, -999.000,9, -999.000,9, -999.000,9, -999.000,9, -999.000,9,-999.0000,9,  -999.00,9,   -999.0,9,   -999.0,9,   -999.0,9,   -999.0,9,   -999.0,9,  -999.00,9, -999.00,  -999.0,-999.0000,-999.000, -999.00,  -999.0,  1.4854,-999.000
    31DSCG94_3,  P18N,   102,  1,    103,   9999,2,19940402,0331,-18.4950,-103.0017, 4058,   3999.5,   1.8133,  34.6859,2,  34.6858,2,    148.4,2,    148.7,2,   131.61,2,    35.58,2,     0.00,2,     2.48,2, -999.000,9, -999.000,9, -999.000,9, -999.000,9, -999.000,9,-999.0000,9,  -999.00,9,   -999.0,9,   -999.0,9,   -999.0,9,   -999.0,9,   -999.0,9,     7.59,2, -999.00,  -999.0,-999.0000,-999.000,   25.00,  -999.0,  1.4855,-999.000
    31DSCG94_3,  P18N,   102,  1,    101,   1041,2,19940402,0331,-18.4950,-103.0017, 4058,   4104.5,   1.8244,  34.6861,2,  34.6854,2,    147.4,2,    149.4,2,   131.08,2,    35.75,2,     0.00,2,     2.46,2, -999.000,9, -999.000,9, -999.000,9, -999.000,9, -999.000,9,-999.0000,9,  -999.00,9,   -999.0,9,   -999.0,9,   -999.0,9,   -999.0,9,   -999.0,9,  -999.00,9, -999.00,  -999.0,-999.0000,-999.000, -999.00,  -999.0,  1.4846,-999.000