BOTTLE,20220630CCHSIOAMB
EXPOCODE,SECT_ID,STNNBR,CASTNO,SAMPNO,BTLNBR,BTLNBR_FLAG_W,DATE,TIME,LATITUDE,LONGITUDE,DEPTH,CTDPRS,CTDTMP,CTDSAL,CTDSAL_FLAG_W,SALNTY,SALNTY_FLAG_W,CTDOXY,CTDOXY_FLAG_W,OXYGEN,OXYGEN_FLAG_W,SILCAT,SILCAT_FLAG_W,NITRAT,NITRAT_FLAG_W,NITRIT,NITRIT_FLAG_W,PHSPHT,PHSPHT_FLAG_W,CFC-11,CFC-11_FLAG_W,CFC-12,CFC-12_FLAG_W,CFC113,CFC113_FLAG_W,CCL4,CCL4_FLAG_W,TRITUM,TRITUM_FLAG_W,HELIUM,HELIUM_FLAG_W,DELHE3,DELHE3_FLAG_W,DELC14,DELC14_FLAG_W,DELC13,DELC13_FLAG_W,TCARBN,TCARBN_FLAG_W,PCO2,PCO2_FLAG_W,ALKALI,ALKALI_FLAG_W,PH,PH_FLAG_W,PCO2TMP,C14ERR,HELIER,DELHER,PH_TMP,C13ERR,THETA,TRITER
,,,,,,,,,,,,DBAR,ITS-90,PSS-78,,PSS-78,,UMOL/KG,,UMOL/KG,,UMOL/KG,,UMOL/KG,,UMOL/KG,,UMOL/KG,,PMOL/KG,,PMOL/KG,,PMOL/KG,,PMOL/KG,,TU,,NMOL/KG,,PERCNT,,/MILLE,,/MILLE,,UMOL/KG,,UATM,,UMOL/KG,,,,DEG C,/MILLE,NMOL/KG,PERCNT,DEG C,/MILLE,DEG C,TU
    31DSCG94_2,  P18S,    72,  1,    136,   1025,2,19940319,0320,-33.4950,-102.9983, 3594,      9.6,  21.6550,  34.8483,2,  34.8475,2,    217.9,2,    221.7,2,     1.62,2,     0.17,2,     0.00,2,     0.10,2, -999.000,9, -999.000,9, -999.000,9, -999.000,9, -999.000,9,-999.0000,9,  -999.00,9,   -999.0,9,   -999.0,9,   2008.3,2,    352.5,2,   2289.0,2,     8.02,2,   20.00,  -999.0,-999.0000,-999.000,   25.00,  -999.0, 21.6531,-999.000
    31DSCG94_2,  P18S,    72,  1,    135,   1247,2,19940319,0320,-33.4950,-102.9983, 3594,     24.6,  21.6581,  34.8491,2,  34.8489,2,    227.4,2,    221.5,2,     1.57,2,     0.14,2,     0.00,2,     0.11,2, -999.000,9, -999.000,9, -999.000,9, -999.000,9, -999.000,9,-999.0000,9,  -999.00,9,   -999.0,9,   -999.0,9,   2009.6,2,    346.7,2,   2296.0,2,     8.02,2,   20.00,  -999.0,-999.0000,-999.000,   25.00,  -999.0, 21.6533,-999.000
    31DSCG94_2,  P18S,    72,  1,    134,   1108,2,19940319,0320,-33.4950,-102.9983, 3594,     49.3,  21.4038,  34.8368,2,  34.8373,2,    230.6,2,    224.0,2,     1.44,2,     0.12,2,     0.00,2,     0.12,2, -999.000,9, -999.000,9, -999.000,9, -999.000,9, -999.000,9,-999.0000,9,  -999.00,9,   -999.0,9,   -999.0,9,   2009.5,2,    356.3,2,   2294.0,2,     8.02,2,   20.00,  -999.0,-999.0000,-999.000,   25.00,  -999.0, 21.3942,-999.000
    31DSCG94_2,  P18S,    72,  1,    133,   1244,2,19940319,0320,-33.4950,-102.9983, 3594,     73.4,  17.5826,  34.6063,2,  34.6016,2,    252.8,2,    256.2,2,     1.41,2,     0.09,2,     0.00,2,     0.12,2, -999.000,9, -999.000,9, -999.000,9, -999.000,9, -999.000,9,-999.0000,9,  -999.00,9,   -999.0,9,   -999.0,9,   2006.9,2,    357.7,2,   2278.0,2,     8.01,2,   20.00,  -999.0,-999.0000,-999.000,   25.00,  -999.0, 17.5702,-999.000
    31DSCG94_2,  P18S,    72,  1,    132,   1003,2,19940319,0320,-33.4950,-102.9983, 3594,     99.7,  16.4029,  34.5849,2,  34.6194,3,    251.6,2,    254.4,2,     1.37,2,     0.10,2,     0.00,2,     0.12,2, -999.000,9, -999.000,9, -999.000,9, -999.000,9, -999.000,9,-999.0000,9,  -999.00,9,   -999.0,9,   -999.0,9,   2010.6,2,    368.3,2,   2270.0,2,     8.00,2,   20.00,  -999.0,-999.0000,-999.000,   25.00,  -999.0, 16.3869,-999.000
    31DSCG94_2,  P18S,    72,  1,    131,   1211,2,19940319,0320,-33.4950,-102.9983, 3594,    124.4,  16.2018,  34.6810,2,  34.6764,2,    247.4,2,    246.9,2,     1.34,2,     0.13,2,     0.00,2,     0.11,2, -999.000,9, -999.000,9, -999.000,9, -999.000,9, -999.000,9,-999.0000,9,  -999.00,9,   -999.0,9,   -999.0,9,   2016.6,2,    375.3,2,   2283.0,2,     7.99,2,   20.00,  -999.0,-999.0000,-999.000,   25.00,  -999.0, 16.1820,-999.000
    31DSCG94_2,  P18S,    72,  1,    130,   1241,2,19940319,0320,-33.4950,-102.9983, 3594,    147.9,  15.6621,  34.6802,2,  34.6749,2,    241.5,2,    239.1,2,     1.89,2,     0.63,2,     0.03,2,     0.12,2, -999.000,9, -999.000,9, -999.000,9, -999.000,9, -999.000,9,-999.0000,9,  -999.00,9,   -999.0,9,   -999.0,9,   2027.7,2,    400.8,2,   2284.0,2,     7.97,2,   20.00,  -999.0,-999.0000,-999.000,   25.00,  -999.0, 15.6392,-999.000
    31DSCG94_2,  P18S,    72,  1,    129,   1031,2,19940319,0320,-33.4950,-102.9983, 3594,    198.2,  13.9396,  34.6918,2,  34.6869,2,    219.8,2,    214.1,2,     2.67,2,     5.84,2,     0.01,2,     0.55,2, -999.000,9, -999.000,9, -999.000,9, -999.000,9, -999.000,9,-999.0000,9,  -999.00,9,   -999.0,9,   -999.0,9,   2069.3,2,    491.5,2,   2284.0,2,     7.90,2,   20.00,  -999.0,-999.0000,-999.000,   25.00,  -999.0, 13.9111,-999.000
    31DSCG94_2,  P18S,    72,  1,    128,   1210,2,19940319,0320,-33.4950,-102.9983, 3594,    249.8,  12.0648,  34.5966,2,  34.5765,2,    213.3,2,    211.7,2,     2.76,2,    10.32,2,     0.00,2,     0.81,2, -999.000,9, -999.000,9, -999.000,9, -999.000,9, -999.000,9,-999.0000,9,  -999.00,9,   -999.0,9,   -999.0,9,   2090.1,2,    566.9,2,   2284.0,2,     7.84,2,   20.00,  -999.0,-999.0000,-999.000,   25.00,  -999.0, 12.0322,-999.000
    31DSCG94_2,  P18S,    72,  1,    127,   1008,2,19940319,0320,-33.4950,-102.9983, 3594,    301.0,   9.8968,  34.4056,2,  34.4054,2,    219.4,2,    217.9,2,     3.50,2,    15.11,2,     0.00,2,     1.08,2, -999.000,9, -999.000,9, -999.000,9, -999.000,9, -999.000,9,-999.0000,9,  -999.00,9,   -999.0,9,   -999.0,9,   2105.8,2,    632.9,2,   2274.0,2,     7.80,2,   20.00,  -999.0,-999.0000,-999.000,   25.00,  -999.0,  9.8622,-999.000
    31DSCG94_2,  P18S,    72,  1,    126,   1007,2,19940319,0320,-33.4950,-102.9983, 3594,    351.3,   8.3595,  34.3346,2,  34.3357,2,    220.8,2,    221.9,2,     5.06,2,    18.92,2,     0.00,2,     1.30,2, -999.000,9, -999.000,9, -999.000,9, -999.000,9, -999.000,9,-999.0000,9,  -999.00,9,   -999.0,9,   -999.0,9,   2122.3,2,   -999.0,9,   2272.0,2,     7.75,2, -999.00,  -999.0,-999.0000,-999.000,   25.00,  -999.0,  8.3230,-999.000
    31DSCG94_2,  P18S,    72,  1,    125,   1203,2,19940319,0320,-33.4950,-102.9983, 3594,    398.6,   7.3898,  34.3229,2,  34.3234,2,    224.9,2,    225.6,2,     6.70,2,    21.68,2,     0.00,2,     1.49,2, -999.000,9, -999.000,9, -999.000,9, -999.000,9, -999.000,9,-999.0000,9,  -999.00,9,   -999.0,9,   -999.0,9,   2133.6,2,   -999.0,9,   2275.0,2,     7.73,2, -999.00,  -999.0,-999.0000,-999.000,   25.00,  -999.0,  7.3512,-999.000
    31DSCG94_2,  P18S,    72,  1,    123,   1101,2,19940319,0320,-33.4950,-102.9983, 3594,    497.3,   6.4468,  34.3246,2,  34.3246,2,    238.4,2,    240.4,2,     8.66,2,    23.01,2,     0.00,2,     1.55,2, -999.000,9, -999.000,9, -999.000,9, -999.000,9, -999.000,9,-999.0000,9,  -999.00,9,   -999.0,9,   -999.0,9,   2136.5,2,    756.5,2,   2279.0,2,     7.73,2,   20.00,  -999.0,-999.0000,-999.000,   25.00,  -999.0,  6.4018,-999.000
    31DSCG94_2,  P18S,    72,  1,    121,   1206,2,19940319,0320,-33.4950,-102.9983, 3594,    600.6,   5.9533,  34.3018,2,  34.3017,2,    246.6,2,    247.9,2,     9.99,2,    23.61,2,     0.00,2,     1.58,2, -999.000,9, -999.000,9, -999.000,9, -999.000,9, -999.000,9,-999.0000,9,  -999.00,9,   -999.0,9,   -999.0,9,   2136.1,2,    754.5,2,   2277.0,2,     7.73,2,   20.00,  -999.0,-999.0000,-999.000,   25.00,  -999.0,  5.9008,-999.000
    31DSCG94_2,  P18S,    72,  1,    119,   1248,2,19940319,0320,-33.4950,-102.9983, 3594,    699.2,   5.5084,  34.2759,2,  34.2766,2,    244.1,2,    245.6,2,    12.05,2,    24.72,2,     0.00,2,     1.66,2, -999.000,9, -999.000,9, -999.000,9, -999.000,9, -999.000,9,-999.0000,9,  -999.00,9,   -999.0,9,   -999.0,9,   2143.7,2,    780.6,2,   2278.0,2,     7.72,2,   20.00,  -999.0,-999.0000,-999.000,   25.00,  -999.0,  5.4492,-999.000
    31DSCG94_2,  P18S,    72,  1,    118,   1207,2,19940319,0320,-33.4950,-102.9983, 3594,    799.2,   5.0805,  34.2613,2,  34.2616,2,    234.8,2,    236.3,2,    15.62,2,    26.62,2,     0.00,2,     1.78,2, -999.000,9, -999.000,9, -999.000,9, -999.000,9, -999.000,9,-999.0000,9,  -999.00,9,   -999.0,9,   -999.0,9,   2154.3,2,    830.3,2,   2283.0,2,     7.70,2,   20.00,  -999.0,-999.0000,-999.000,   25.00,  -999.0,  5.0149,-999.000
    31DSCG94_2,  P18S,    72,  1,    117,   1119,2,19940319,0320,-33.4950,-102.9983, 3594,    901.0,   4.6377,  34.2726,2,  34.2727,2,    216.7,2,    216.1,2,    22.75,2,    29.26,2,     0.00,2,     1.99,2, -999.000,9, -999.000,9, -999.000,9, -999.000,9, -999.000,9,-999.0000,9,  -999.00,9,   -999.0,9,   -999.0,9,   2174.7,2,   -999.0,9,   2289.0,2,     7.66,2, -999.00,  -999.0,-999.0000,-999.000,   25.00,  -999.0,  4.5661,-999.000
    31DSCG94_2,  P18S,    72,  1,    116,   1036,2,19940319,0320,-33.4950,-102.9983, 3594,    999.9,   4.1637,  34.3084,2,  34.3088,2,    194.0,2,    192.7,2,    33.68,2,    31.76,2,     0.00,2,     2.21,2, -999.000,9, -999.000,9, -999.000,9, -999.000,9, -999.000,9,-999.0000,9,  -999.00,9,   -999.0,9,   -999.0,9,   2199.4,2,   -999.0,9,   2296.0,6,     7.61,2, -999.00,  -999.0,-999.0000,-999.000,   25.00,  -999.0,  4.0871,-999.000
    31DSCG94_2,  P18S,    72,  1,    115,   1017,2,19940319,0320,-33.4950,-102.9983, 3594,   1057.9,   3.8900,  34.3357,2,  34.3355,2,    183.1,2,    180.3,2,    40.31,2,    33.48,2,     0.00,2,     2.32,2, -999.000,9, -999.000,9, -999.000,9, -999.000,9, -999.000,9,-999.0000,9,  -999.00,9,   -999.0,9,   -999.0,9,   -999.0,9,   -999.0,9,   -999.0,9,  -999.00,9, -999.00,  -999.0,-999.0000,-999.000, -999.00,  -999.0,  3.8106,-999.000
    31DSCG94_2,  P18S,    72,  1,    114,   1016,2,19940319,0320,-33.4950,-102.9983, 3594,   1197.8,   3.4979,  34.4176,2,  34.4169,2,    152.4,2,    150.0,2,    58.57,2,    36.05,2,     0.00,2,     2.54,2, -999.000,9, -999.000,9, -999.000,9, -999.000,9, -999.000,9,-999.0000,9,  -999.00,9,   -999.0,9,   -999.0,9,   -999.0,9,   -999.0,9,   -999.0,9,     7.54,2, -999.00,  -999.0,-999.0000,-999.000,   25.00,  -999.0,  3.4102,-999.000
    31DSCG94_2,  P18S,    72,  1,    113,   1209,2,19940319,0320,-33.4950,-102.9983, 3594,   1237.2,   3.4175,  34.4407,2,  34.4400,2,    145.3,2,    141.8,2,    64.52,2,    36.37,2,     0.00,2,     2.56,2, -999.000,9, -999.000,9, -999.000,9, -999.000,9, -999.000,9,-999.0000,9,  -999.00,9,   -999.0,9,   -999.0,9,   -999.0,9,   -999.0,9,   -999.0,9,  -999.00,9, -999.00,  -999.0,-999.0000,-999.000, -999.00,  -999.0,  3.3273,-999.000
    31DSCG94_2,  P18S,    72,  1,    112,   1033,2,19940319,0320,-33.4950,-102.9983, 3594,   1400.8,   3.1287,  34.5136,2,  34.5123,2,    126.9,2,    125.2,2,    82.92,2,    37.72,2,     0.00,2,     2.65,2, -999.000,9, -999.000,9, -999.000,9, -999.000,9, -999.000,9,-999.0000,9,  -999.00,9,   -999.0,9,   -999.0,9,   -999.0,9,   -999.0,9,   -999.0,9,     7.51,2, -999.00,  -999.0,-999.0000,-999.000,   25.00,  -999.0,  3.0279,-999.000
    31DSCG94_2,  P18S,    72,  1,    111,   1263,2,19940319,0320,-33.4950,-102.9983, 3594,   1600.8,   2.7589,  34.5672,2,  34.5664,2,    131.1,2,    131.3,2,    95.67,2,    37.13,2,     0.00,2,     2.60,2, -999.000,9, -999.000,9, -999.000,9, -999.000,9, -999.000,9,-999.0000,9,  -999.00,9,   -999.0,9,   -999.0,9,   -999.0,9,   -999.0,9,   -999.0,9,     7.53,2, -999.00,  -999.0,-999.0000,-999.000,   25.00,  -999.0,  2.6456,-999.000
    31DSCG94_2,  P18S,    72,  1,    110,   1005,2,19940319,0320,-33.4950,-102.9983, 3594,   1799.0,   2.4471,  34.5981,2,  34.5969,2,    142.4,2,    143.8,2,   100.96,2,    35.59,2,     0.00,2,     2.50,2, -999.000,9, -999.000,9, -999.000,9, -999.000,9, -999.000,9,-999.0000,9,  -999.00,9,   -999.0,9,   -999.0,9,   -999.0,9,   -999.0,9,   -999.0,9,     7.55,2, -999.00,  -999.0,-999.0000,-999.000,   25.00,  -999.0,  2.3211,-999.000
    31DSCG94_2,  P18S,    72,  1,    109,   1611,2,19940319,0320,-33.4950,-102.9983, 3594,   2001.1,   2.2077,  34.6289,2,  34.6288,2,    150.4,2,    151.2,2,   104.98,2,    34.91,2,     0.00,2,     2.47,2, -999.000,9, -999.000,9, -999.000,9, -999.000,9, -999.000,9,-999.0000,9,  -999.00,9,   -999.0,9,   -999.0,9,   -999.0,9,   -999.0,9,   -999.0,9,     7.56,2, -999.00,  -999.0,-999.0000,-999.000,   25.00,  -999.0,  2.0680,-999.000
    31DSCG94_2,  P18S,    72,  1,    108,   1218,2,19940319,0320,-33.4950,-102.9983, 3594,   2251.3,   1.9536,  34.6646,2,  34.6638,2,    159.3,2,    160.4,2,   110.29,2,    34.29,2,     0.00,2,     2.39,2, -999.000,9, -999.000,9, -999.000,9, -999.000,9, -999.000,9,-999.0000,9,  -999.00,9,   -999.0,9,   -999.0,9,   -999.0,9,   -999.0,9,   -999.0,9,     7.58,2, -999.00,  -999.0,-999.0000,-999.000,   25.00,  -999.0,  1.7963,-999.000
    31DSCG94_2,  P18S,    72,  1,    107,   1257,2,19940319,0320,-33.4950,-102.9983, 3594,   2498.6,   1.8267,  34.6780,2,  34.6771,2,    162.5,2,    164.0,2,   114.22,2,    33.80,2,     0.00,2,     2.36,2, -999.000,9, -999.000,9, -999.000,9, -999.000,9, -999.000,9,-999.0000,9,  -999.00,9,   -999.0,9,   -999.0,9,   -999.0,9,   -999.0,9,   -999.0,9,  -999.00,9, -999.00,  -999.0,-999.0000,-999.000, -999.00,  -999.0,  1.6496,-999.000
    31DSCG94_2,  P18S,    72,  1,    106,   1224,2,19940319,0320,-33.4950,-102.9983, 3594,   2750.4,   1.7615,  34.6835,2,  34.6830,2,    165.4,2,    166.1,2,   116.20,2,    33.56,2,     0.00,2,     2.35,2, -999.000,9, -999.000,9, -999.000,9, -999.000,9, -999.000,9,-999.0000,9,  -999.00,9,   -999.0,9,   -999.0,9,   -999.0,9,   -999.0,9,   -999.0,9,  -999.00,9, -999.00,  -999.0,-999.0000,-999.000, -999.00,  -999.0,  1.5626,-999.000
    31DSCG94_2,  P18S,    72,  1,    105,   1246,2,19940319,0320,-33.4950,-102.9983, 3594,   3002.4,   1.7502,  34.6865,2,  34.6861,2,    167.1,2,    167.1,6,   116.61,2,    34.01,2,     0.00,2,     2.35,2, -999.000,9, -999.000,9, -999.000,9, -999.000,9, -999.000,9,-999.0000,9,  -999.00,9,   -999.0,9,   -999.0,9,   -999.0,9,   -999.0,9,   -999.0,9,  -999.00,9, -999.00,  -999.0,-999.0000,-999.000, -999.00,  -999.0,  1.5276,-999.000
    31DSCG94_2,  P18S,    72,  1,    104,   1217,2,19940319,0320,-33.4950,-102.9983, 3594,   3250.2,   1.7635,  34.6882,2,  34.6872,2,    167.8,2,    167.3,6,   116.34,2,    33.93,2,     0.00,2,     2.37,2, -999.000,9, -999.000,9, -999.000,9, -999.000,9, -999.000,9,-999.0000,9,  -999.00,9,   -999.0,9,   -999.0,9,   -999.0,9,   -999.0,9,   -999.0,9,  -999.00,9, -999.00,  -999.0,-999.0000,-999.000, -999.00,  -999.0,  1.5161,-999.000
    31DSCG94_2,  P18S,    72,  1,    103,   9999,2,19940319,0320,-33.4950,-102.9983, 3594,   3250.4,   1.7640,  34.6879,2,  34.6891,2,    167.8,2,    166.9,6,   117.65,2,    34.01,2,     0.00,2,     2.36,2, -999.000,9, -999.000,9, -999.000,9, -999.000,9, -999.000,9,-999.0000,9,  -999.00,9,   -999.0,9,   -999.0,9,   -999.0,9,   -999.0,9,   -999.0,9,  -999.00,9, -999.00,  -999.0,-999.0000,-999.000, -999.00,  -999.0,  1.5166,-999.000
    31DSCG94_2,  P18S,    72,  1,    102,   1223,2,19940319,0320,-33.4950,-102.9983, 3594,   3499.1,   1.7827,  34.6895,2,  34.6880,2,    168.7,2,    168.3,2,   119.29,2,    33.92,2,     0.00,2,     2.34,2, -999.000,9, -999.000,9, -999.000,9, -999.000,9, -999.000,9,-999.0000,9,  -999.00,9,   -999.0,9,   -999.0,9,   -999.0,9,   -999.0,9,   -999.0,9,  -999.00,9, -999.00,  -999.0,-999.0000,-999.000, -999.00,  -999.0,  1.5094,-999.000
    31DSCG94_2,  P18S,    72,  1,    101,   1041,2,19940319,0320,-33.4950,-102.9983, 3594,   3629.1,   1.7930,  34.6896,2,  34.6880,2,    168.7,2,    167.7,2,   119.25,2,    33.85,2,     0.00,2,     2.35,2, -999.000,9, -999.000,9, -999.000,9, -999.000,9, -999.000,9,-999.0000,9,  -999.00,9,   -999.0,9,   -999.0,9,   -999.0,9,   -999.0,9,   -999.0,9,  -999.00,9, -999.00,  -999.0,-999.0000,-999.000, -999.00,  -999.0,  1.5058,-999.000