BOTTLE,20220630CCHSIOAMB
EXPOCODE,SECT_ID,STNNBR,CASTNO,SAMPNO,BTLNBR,BTLNBR_FLAG_W,DATE,TIME,LATITUDE,LONGITUDE,DEPTH,CTDPRS,CTDTMP,CTDSAL,CTDSAL_FLAG_W,SALNTY,SALNTY_FLAG_W,CTDOXY,CTDOXY_FLAG_W,OXYGEN,OXYGEN_FLAG_W,SILCAT,SILCAT_FLAG_W,NITRAT,NITRAT_FLAG_W,NITRIT,NITRIT_FLAG_W,PHSPHT,PHSPHT_FLAG_W,CFC-11,CFC-11_FLAG_W,CFC-12,CFC-12_FLAG_W,CFC113,CFC113_FLAG_W,CCL4,CCL4_FLAG_W,TRITUM,TRITUM_FLAG_W,HELIUM,HELIUM_FLAG_W,DELHE3,DELHE3_FLAG_W,DELC14,DELC14_FLAG_W,DELC13,DELC13_FLAG_W,TCARBN,TCARBN_FLAG_W,PCO2,PCO2_FLAG_W,ALKALI,ALKALI_FLAG_W,PH,PH_FLAG_W,PCO2TMP,C14ERR,HELIER,DELHER,PH_TMP,C13ERR,THETA,TRITER
,,,,,,,,,,,,DBAR,ITS-90,PSS-78,,PSS-78,,UMOL/KG,,UMOL/KG,,UMOL/KG,,UMOL/KG,,UMOL/KG,,UMOL/KG,,PMOL/KG,,PMOL/KG,,PMOL/KG,,PMOL/KG,,TU,,NMOL/KG,,PERCNT,,/MILLE,,/MILLE,,UMOL/KG,,UATM,,UMOL/KG,,,,DEG C,/MILLE,NMOL/KG,PERCNT,DEG C,/MILLE,DEG C,TU
    31DSCG94_1,     x,     5,  1,    136,     -1,2,19940128,2144, 44.1638,-129.7483, 2491,     10.1,  11.7510,  32.5513,2,  32.5504,2,    287.6,2,   -999.0,9,  -999.00,9,  -999.00,9,  -999.00,9,  -999.00,9, -999.000,9, -999.000,9, -999.000,9, -999.000,9, -999.000,9,-999.0000,9,  -999.00,9,   -999.0,9,   -999.0,9,   -999.0,9,   -999.0,9,   -999.0,9,  -999.00,9, -999.00,  -999.0,-999.0000,-999.000, -999.00,  -999.0, 11.7497,-999.000
    31DSCG94_1,     x,     5,  1,    135,     -1,2,19940128,2144, 44.1638,-129.7483, 2491,     50.4,  11.7452,  32.5514,2,  32.5517,2,    290.6,2,   -999.0,9,  -999.00,9,  -999.00,9,  -999.00,9,  -999.00,9, -999.000,9, -999.000,9, -999.000,9, -999.000,9, -999.000,9,-999.0000,9,  -999.00,9,   -999.0,9,   -999.0,9,   -999.0,9,   -999.0,9,   -999.0,9,  -999.00,9, -999.00,  -999.0,-999.0000,-999.000, -999.00,  -999.0, 11.7389,-999.000
    31DSCG94_1,     x,     5,  1,    134,     -1,2,19940128,2144, 44.1638,-129.7483, 2491,    101.0,   9.1352,  32.8044,2,  32.7769,3,    273.9,2,   -999.0,9,  -999.00,9,  -999.00,9,  -999.00,9,  -999.00,9, -999.000,9, -999.000,9, -999.000,9, -999.000,9, -999.000,9,-999.0000,9,  -999.00,9,   -999.0,9,   -999.0,9,   -999.0,9,   -999.0,9,   -999.0,9,  -999.00,9, -999.00,  -999.0,-999.0000,-999.000, -999.00,  -999.0,  9.1245,-999.000
    31DSCG94_1,     x,     5,  1,    133,     -1,2,19940128,2144, 44.1638,-129.7483, 2491,    149.1,   7.5171,  33.5383,2,  33.4982,3,    203.9,2,   -999.0,9,  -999.00,9,  -999.00,9,  -999.00,9,  -999.00,9, -999.000,9, -999.000,9, -999.000,9, -999.000,9, -999.000,9,-999.0000,9,  -999.00,9,   -999.0,9,   -999.0,9,   -999.0,9,   -999.0,9,   -999.0,9,  -999.00,9, -999.00,  -999.0,-999.0000,-999.000, -999.00,  -999.0,  7.5029,-999.000
    31DSCG94_1,     x,     5,  1,    132,     -1,2,19940128,2144, 44.1638,-129.7483, 2491,    199.5,   7.0582,  33.7677,2,  33.7758,2,    182.0,2,   -999.0,9,  -999.00,9,  -999.00,9,  -999.00,9,  -999.00,9, -999.000,9, -999.000,9, -999.000,9, -999.000,9, -999.000,9,-999.0000,9,  -999.00,9,   -999.0,9,   -999.0,9,   -999.0,9,   -999.0,9,   -999.0,9,  -999.00,9, -999.00,  -999.0,-999.0000,-999.000, -999.00,  -999.0,  7.0398,-999.000
    31DSCG94_1,     x,     5,  1,    131,     -1,2,19940128,2144, 44.1638,-129.7483, 2491,    251.4,   6.4731,  33.8832,2,  33.8833,2,    162.4,2,   -999.0,9,  -999.00,9,  -999.00,9,  -999.00,9,  -999.00,9, -999.000,9, -999.000,9, -999.000,9, -999.000,9, -999.000,9,-999.0000,9,  -999.00,9,   -999.0,9,   -999.0,9,   -999.0,9,   -999.0,9,   -999.0,9,  -999.00,9, -999.00,  -999.0,-999.0000,-999.000, -999.00,  -999.0,  6.4510,-999.000
    31DSCG94_1,     x,     5,  1,    130,     -1,2,19940128,2144, 44.1638,-129.7483, 2491,    301.4,   6.0436,  33.8946,2,  33.8954,2,    142.1,2,   -999.0,9,  -999.00,9,  -999.00,9,  -999.00,9,  -999.00,9, -999.000,9, -999.000,9, -999.000,9, -999.000,9, -999.000,9,-999.0000,9,  -999.00,9,   -999.0,9,   -999.0,9,   -999.0,9,   -999.0,9,   -999.0,9,  -999.00,9, -999.00,  -999.0,-999.0000,-999.000, -999.00,  -999.0,  6.0178,-999.000
    31DSCG94_1,     x,     5,  1,    129,     -1,2,19940128,2144, 44.1638,-129.7483, 2491,    400.7,   5.1829,  33.9468,2,  33.9455,2,     76.7,2,   -999.0,9,  -999.00,9,  -999.00,9,  -999.00,9,  -999.00,9, -999.000,9, -999.000,9, -999.000,9, -999.000,9, -999.000,9,-999.0000,9,  -999.00,9,   -999.0,9,   -999.0,9,   -999.0,9,   -999.0,9,   -999.0,9,  -999.00,9, -999.00,  -999.0,-999.0000,-999.000, -999.00,  -999.0,  5.1510,-999.000
    31DSCG94_1,     x,     5,  1,    128,     -1,2,19940128,2144, 44.1638,-129.7483, 2491,    497.9,   4.7190,  34.0367,2,  34.0379,2,     37.1,2,   -999.0,9,  -999.00,9,  -999.00,9,  -999.00,9,  -999.00,9, -999.000,9, -999.000,9, -999.000,9, -999.000,9, -999.000,9,-999.0000,9,  -999.00,9,   -999.0,9,   -999.0,9,   -999.0,9,   -999.0,9,   -999.0,9,  -999.00,9, -999.00,  -999.0,-999.0000,-999.000, -999.00,  -999.0,  4.6808,-999.000
    31DSCG94_1,     x,     5,  1,    127,     -1,2,19940128,2144, 44.1638,-129.7483, 2491,    498.2,   4.7178,  34.0368,2,  34.0381,2,     36.6,2,   -999.0,9,  -999.00,9,  -999.00,9,  -999.00,9,  -999.00,9, -999.000,9, -999.000,9, -999.000,9, -999.000,9, -999.000,9,-999.0000,9,  -999.00,9,   -999.0,9,   -999.0,9,   -999.0,9,   -999.0,9,   -999.0,9,  -999.00,9, -999.00,  -999.0,-999.0000,-999.000, -999.00,  -999.0,  4.6796,-999.000
    31DSCG94_1,     x,     5,  1,    126,     -1,2,19940128,2144, 44.1638,-129.7483, 2491,    498.3,   4.7185,  34.0365,2,  34.0376,2,     36.6,2,   -999.0,9,  -999.00,9,  -999.00,9,  -999.00,9,  -999.00,9, -999.000,9, -999.000,9, -999.000,9, -999.000,9, -999.000,9,-999.0000,9,  -999.00,9,   -999.0,9,   -999.0,9,   -999.0,9,   -999.0,9,   -999.0,9,  -999.00,9, -999.00,  -999.0,-999.0000,-999.000, -999.00,  -999.0,  4.6802,-999.000
    31DSCG94_1,     x,     5,  1,    124,     -1,2,19940128,2144, 44.1638,-129.7483, 2491,    498.4,   4.7180,  34.0367,2,  34.0361,2,     36.6,2,   -999.0,9,  -999.00,9,  -999.00,9,  -999.00,9,  -999.00,9, -999.000,9, -999.000,9, -999.000,9, -999.000,9, -999.000,9,-999.0000,9,  -999.00,9,   -999.0,9,   -999.0,9,   -999.0,9,   -999.0,9,   -999.0,9,  -999.00,9, -999.00,  -999.0,-999.0000,-999.000, -999.00,  -999.0,  4.6797,-999.000
    31DSCG94_1,     x,     5,  1,    125,     -1,2,19940128,2144, 44.1638,-129.7483, 2491,    499.1,   4.7173,  34.0365,2,  34.0352,2,     35.5,2,   -999.0,9,  -999.00,9,  -999.00,9,  -999.00,9,  -999.00,9, -999.000,9, -999.000,9, -999.000,9, -999.000,9, -999.000,9,-999.0000,9,  -999.00,9,   -999.0,9,   -999.0,9,   -999.0,9,   -999.0,9,   -999.0,9,  -999.00,9, -999.00,  -999.0,-999.0000,-999.000, -999.00,  -999.0,  4.6790,-999.000
    31DSCG94_1,     x,     5,  1,    123,     -1,2,19940128,2144, 44.1638,-129.7483, 2491,    499.4,   4.7158,  34.0371,2,  34.0384,2,     35.5,2,   -999.0,9,  -999.00,9,  -999.00,9,  -999.00,9,  -999.00,9, -999.000,9, -999.000,9, -999.000,9, -999.000,9, -999.000,9,-999.0000,9,  -999.00,9,   -999.0,9,   -999.0,9,   -999.0,9,   -999.0,9,   -999.0,9,  -999.00,9, -999.00,  -999.0,-999.0000,-999.000, -999.00,  -999.0,  4.6775,-999.000
    31DSCG94_1,     x,     5,  1,    122,     -1,2,19940128,2144, 44.1638,-129.7483, 2491,    500.9,   4.7170,  34.0403,2,  34.0463,3,     35.5,2,   -999.0,9,  -999.00,9,  -999.00,9,  -999.00,9,  -999.00,9,    0.585,4,    0.244,2, -999.000,9, -999.000,9, -999.000,9,-999.0000,9,  -999.00,9,   -999.0,9,   -999.0,9,   -999.0,9,   -999.0,9,   -999.0,9,  -999.00,9, -999.00,  -999.0,-999.0000,-999.000, -999.00,  -999.0,  4.6785,-999.000
    31DSCG94_1,     x,     5,  1,    121,     -1,2,19940128,2144, 44.1638,-129.7483, 2491,    598.0,   4.4135,  34.1305,2,  34.1318,2,      9.8,2,   -999.0,9,  -999.00,9,  -999.00,9,  -999.00,9,  -999.00,9,    0.356,4,    0.100,2, -999.000,9, -999.000,9, -999.000,9,-999.0000,9,  -999.00,9,   -999.0,9,   -999.0,9,   -999.0,9,   -999.0,9,   -999.0,9,  -999.00,9, -999.00,  -999.0,-999.0000,-999.000, -999.00,  -999.0,  4.3686,-999.000
    31DSCG94_1,     x,     5,  1,    120,     -1,2,19940128,2144, 44.1638,-129.7483, 2491,    701.5,   4.1018,  34.2011,2,  34.2048,2,     -2.8,3,   -999.0,9,  -999.00,9,  -999.00,9,  -999.00,9,  -999.00,9,    0.131,4,    0.041,2, -999.000,9, -999.000,9, -999.000,9,-999.0000,9,  -999.00,9,   -999.0,9,   -999.0,9,   -999.0,9,   -999.0,9,   -999.0,9,  -999.00,9, -999.00,  -999.0,-999.0000,-999.000, -999.00,  -999.0,  4.0501,-999.000
    31DSCG94_1,     x,     5,  1,    119,     -1,2,19940128,2144, 44.1638,-129.7483, 2491,    800.5,   3.8525,  34.2807,2,  34.2834,2,     -8.4,3,   -999.0,9,  -999.00,9,  -999.00,9,  -999.00,9,  -999.00,9,    0.099,4,    0.010,2, -999.000,9, -999.000,9, -999.000,9,-999.0000,9,  -999.00,9,   -999.0,9,   -999.0,9,   -999.0,9,   -999.0,9,   -999.0,9,  -999.00,9, -999.00,  -999.0,-999.0000,-999.000, -999.00,  -999.0,  3.7943,-999.000
    31DSCG94_1,     x,     5,  1,    118,     -1,2,19940128,2144, 44.1638,-129.7483, 2491,    898.7,   3.6094,  34.3375,2,  34.3382,2,    -11.4,3,   -999.0,9,  -999.00,9,  -999.00,9,  -999.00,9,  -999.00,9,   -0.016,4,   -0.003,2, -999.000,9, -999.000,9, -999.000,9,-999.0000,9,  -999.00,9,   -999.0,9,   -999.0,9,   -999.0,9,   -999.0,9,   -999.0,9,  -999.00,9, -999.00,  -999.0,-999.0000,-999.000, -999.00,  -999.0,  3.5451,-999.000
    31DSCG94_1,     x,     5,  1,    117,     -1,2,19940128,2144, 44.1638,-129.7483, 2491,   1006.7,   3.5413,  34.4042,2,  34.4047,2,    -11.4,3,   -999.0,9,  -999.00,9,  -999.00,9,  -999.00,9,  -999.00,9,    0.041,4,    0.017,2, -999.000,9, -999.000,9, -999.000,9,-999.0000,9,  -999.00,9,   -999.0,9,   -999.0,9,   -999.0,9,   -999.0,9,   -999.0,9,  -999.00,9, -999.00,  -999.0,-999.0000,-999.000, -999.00,  -999.0,  3.4688,-999.000
    31DSCG94_1,     x,     5,  1,    116,     -1,2,19940128,2144, 44.1638,-129.7483, 2491,   1099.3,   3.2943,  34.4351,2,  34.4357,2,     -9.3,3,   -999.0,9,  -999.00,9,  -999.00,9,  -999.00,9,  -999.00,9,    0.124,4,    0.016,2, -999.000,9, -999.000,9, -999.000,9,-999.0000,9,  -999.00,9,   -999.0,9,   -999.0,9,   -999.0,9,   -999.0,9,   -999.0,9,  -999.00,9, -999.00,  -999.0,-999.0000,-999.000, -999.00,  -999.0,  3.2164,-999.000
    31DSCG94_1,     x,     5,  1,    115,     -1,2,19940128,2144, 44.1638,-129.7483, 2491,   1197.9,   3.0993,  34.4644,2,  34.4639,2,     -7.0,3,   -999.0,9,  -999.00,9,  -999.00,9,  -999.00,9,  -999.00,9,    0.002,2,    0.018,2, -999.000,9, -999.000,9, -999.000,9,-999.0000,9,  -999.00,9,   -999.0,9,   -999.0,9,   -999.0,9,   -999.0,9,   -999.0,9,  -999.00,9, -999.00,  -999.0,-999.0000,-999.000, -999.00,  -999.0,  3.0152,-999.000
    31DSCG94_1,     x,     5,  1,    114,     -1,2,19940128,2144, 44.1638,-129.7483, 2491,   1298.8,   2.8744,  34.4881,2,  34.4902,2,     -3.8,3,   -999.0,9,  -999.00,9,  -999.00,9,  -999.00,9,  -999.00,9,    0.032,4,    0.009,2, -999.000,9, -999.000,9, -999.000,9,-999.0000,9,  -999.00,9,   -999.0,9,   -999.0,9,   -999.0,9,   -999.0,9,   -999.0,9,  -999.00,9, -999.00,  -999.0,-999.0000,-999.000, -999.00,  -999.0,  2.7845,-999.000
    31DSCG94_1,     x,     5,  1,    113,     -1,2,19940128,2144, 44.1638,-129.7483, 2491,   1400.8,   2.6583,  34.5096,2,  34.5111,2,      0.1,2,   -999.0,9,  -999.00,9,  -999.00,9,  -999.00,9,  -999.00,9,    0.001,2,   -0.003,2, -999.000,9, -999.000,9, -999.000,9,-999.0000,9,  -999.00,9,   -999.0,9,   -999.0,9,   -999.0,9,   -999.0,9,   -999.0,9,  -999.00,9, -999.00,  -999.0,-999.0000,-999.000, -999.00,  -999.0,  2.5625,-999.000
    31DSCG94_1,     x,     5,  1,    112,     -1,2,19940128,2144, 44.1638,-129.7483, 2491,   1503.2,   2.5151,  34.5238,2,  34.5237,2,      3.7,2,   -999.0,9,  -999.00,9,  -999.00,9,  -999.00,9,  -999.00,9,    0.008,2,   -0.003,2, -999.000,9, -999.000,9, -999.000,9,-999.0000,9,  -999.00,9,   -999.0,9,   -999.0,9,   -999.0,9,   -999.0,9,   -999.0,9,  -999.00,9, -999.00,  -999.0,-999.0000,-999.000, -999.00,  -999.0,  2.4127,-999.000
    31DSCG94_1,     x,     5,  1,    111,     -1,2,19940128,2144, 44.1638,-129.7483, 2491,   1600.6,   2.3461,  34.5420,2,  34.5414,2,      8.7,2,   -999.0,9,  -999.00,9,  -999.00,9,  -999.00,9,  -999.00,9,    0.165,4,    0.007,2, -999.000,9, -999.000,9, -999.000,9,-999.0000,9,  -999.00,9,   -999.0,9,   -999.0,9,   -999.0,9,   -999.0,9,   -999.0,9,  -999.00,9, -999.00,  -999.0,-999.0000,-999.000, -999.00,  -999.0,  2.2379,-999.000
    31DSCG94_1,     x,     5,  1,    110,     -1,2,19940128,2144, 44.1638,-129.7483, 2491,   1700.8,   2.2269,  34.5558,2,  34.5574,2,     14.9,2,   -999.0,9,  -999.00,9,  -999.00,9,  -999.00,9,  -999.00,9,    0.012,2,    0.004,2, -999.000,9, -999.000,9, -999.000,9,-999.0000,9,  -999.00,9,   -999.0,9,   -999.0,9,   -999.0,9,   -999.0,9,   -999.0,9,  -999.00,9, -999.00,  -999.0,-999.0000,-999.000, -999.00,  -999.0,  2.1121,-999.000
    31DSCG94_1,     x,     5,  1,    109,     -1,2,19940128,2144, 44.1638,-129.7483, 2491,   1803.6,   2.0903,  34.5711,2,  34.5713,2,     21.2,2,   -999.0,9,  -999.00,9,  -999.00,9,  -999.00,9,  -999.00,9,    0.197,4,    0.032,4, -999.000,9, -999.000,9, -999.000,9,-999.0000,9,  -999.00,9,   -999.0,9,   -999.0,9,   -999.0,9,   -999.0,9,   -999.0,9,  -999.00,9, -999.00,  -999.0,-999.0000,-999.000, -999.00,  -999.0,  1.9689,-999.000
    31DSCG94_1,     x,     5,  1,    108,     -1,2,19940128,2144, 44.1638,-129.7483, 2491,   1899.4,   2.0090,  34.5839,2,  34.5828,2,     26.6,2,   -999.0,9,  -999.00,9,  -999.00,9,  -999.00,9,  -999.00,9,    1.512,4,    0.022,4, -999.000,9, -999.000,9, -999.000,9,-999.0000,9,  -999.00,9,   -999.0,9,   -999.0,9,   -999.0,9,   -999.0,9,   -999.0,9,  -999.00,9, -999.00,  -999.0,-999.0000,-999.000, -999.00,  -999.0,  1.8809,-999.000
    31DSCG94_1,     x,     5,  1,    107,     -1,2,19940128,2144, 44.1638,-129.7483, 2491,   1996.9,   1.9084,  34.6008,2,  34.5997,2,     34.8,2,   -999.0,9,  -999.00,9,  -999.00,9,  -999.00,9,  -999.00,9,    0.430,4,    0.002,2, -999.000,9, -999.000,9, -999.000,9,-999.0000,9,  -999.00,9,   -999.0,9,   -999.0,9,   -999.0,9,   -999.0,9,   -999.0,9,  -999.00,9, -999.00,  -999.0,-999.0000,-999.000, -999.00,  -999.0,  1.7737,-999.000
    31DSCG94_1,     x,     5,  1,    106,     -1,2,19940128,2144, 44.1638,-129.7483, 2491,   2098.9,   1.8772,  34.6078,2,  34.6079,2,     38.4,2,   -999.0,9,  -999.00,9,  -999.00,9,  -999.00,9,  -999.00,9,    0.006,2,    0.002,2, -999.000,9, -999.000,9, -999.000,9,-999.0000,9,  -999.00,9,   -999.0,9,   -999.0,9,   -999.0,9,   -999.0,9,   -999.0,9,  -999.00,9, -999.00,  -999.0,-999.0000,-999.000, -999.00,  -999.0,  1.7345,-999.000
    31DSCG94_1,     x,     5,  1,    105,     -1,2,19940128,2144, 44.1638,-129.7483, 2491,   2199.9,   1.8514,  34.6135,2,  34.6139,2,     39.8,2,   -999.0,9,  -999.00,9,  -999.00,9,  -999.00,9,  -999.00,9,    0.014,2,    0.002,2, -999.000,9, -999.000,9, -999.000,9,-999.0000,9,  -999.00,9,   -999.0,9,   -999.0,9,   -999.0,9,   -999.0,9,   -999.0,9,  -999.00,9, -999.00,  -999.0,-999.0000,-999.000, -999.00,  -999.0,  1.7004,-999.000
    31DSCG94_1,     x,     5,  1,    104,     -1,2,19940128,2144, 44.1638,-129.7483, 2491,   2272.6,   1.8305,  34.6184,2,  34.6201,2,     42.1,2,   -999.0,9,  -999.00,9,  -999.00,9,  -999.00,9,  -999.00,9,    0.027,4,    0.021,4, -999.000,9, -999.000,9, -999.000,9,-999.0000,9,  -999.00,9,   -999.0,9,   -999.0,9,   -999.0,9,   -999.0,9,   -999.0,9,  -999.00,9, -999.00,  -999.0,-999.0000,-999.000, -999.00,  -999.0,  1.6735,-999.000
    31DSCG94_1,     x,     5,  1,    103,     -1,2,19940128,2144, 44.1638,-129.7483, 2491,   2399.9,   1.8243,  34.6214,2,  34.6214,2,     44.3,2,   -999.0,9,  -999.00,9,  -999.00,9,  -999.00,9,  -999.00,9,    0.030,4,    0.021,4, -999.000,9, -999.000,9, -999.000,9,-999.0000,9,  -999.00,9,   -999.0,9,   -999.0,9,   -999.0,9,   -999.0,9,   -999.0,9,  -999.00,9, -999.00,  -999.0,-999.0000,-999.000, -999.00,  -999.0,  1.6563,-999.000
    31DSCG94_1,     x,     5,  1,    102,     -1,2,19940128,2144, 44.1638,-129.7483, 2491,   2501.6,   1.8260,  34.6225,2,  34.6220,2,     44.3,2,   -999.0,9,  -999.00,9,  -999.00,9,  -999.00,9,  -999.00,9,    0.541,4,    0.010,2, -999.000,9, -999.000,9, -999.000,9,-999.0000,9,  -999.00,9,   -999.0,9,   -999.0,9,   -999.0,9,   -999.0,9,   -999.0,9,  -999.00,9, -999.00,  -999.0,-999.0000,-999.000, -999.00,  -999.0,  1.6489,-999.000
    31DSCG94_1,     x,     5,  1,    101,     -1,2,19940128,2144, 44.1638,-129.7483, 2491,   2569.8,   1.8310,  34.6226,2,  32.6698,4,     44.3,2,   -999.0,9,  -999.00,9,  -999.00,9,  -999.00,9,  -999.00,9,    0.743,4,    0.036,4, -999.000,9, -999.000,9, -999.000,9,-999.0000,9,  -999.00,9,   -999.0,9,   -999.0,9,   -999.0,9,   -999.0,9,   -999.0,9,  -999.00,9, -999.00,  -999.0,-999.0000,-999.000, -999.00,  -999.0,  1.6476,-999.000