BOTTLE,20220630CCHSIOAMB
EXPOCODE,SECT_ID,STNNBR,CASTNO,SAMPNO,BTLNBR,BTLNBR_FLAG_W,DATE,TIME,LATITUDE,LONGITUDE,DEPTH,CTDPRS,CTDTMP,CTDSAL,CTDSAL_FLAG_W,SALNTY,SALNTY_FLAG_W,CTDOXY,CTDOXY_FLAG_W,OXYGEN,OXYGEN_FLAG_W,SILCAT,SILCAT_FLAG_W,NITRAT,NITRAT_FLAG_W,NITRIT,NITRIT_FLAG_W,PHSPHT,PHSPHT_FLAG_W,CFC-11,CFC-11_FLAG_W,CFC-12,CFC-12_FLAG_W,CFC113,CFC113_FLAG_W,CCL4,CCL4_FLAG_W,TRITUM,TRITUM_FLAG_W,HELIUM,HELIUM_FLAG_W,DELHE3,DELHE3_FLAG_W,DELC14,DELC14_FLAG_W,DELC13,DELC13_FLAG_W,TCARBN,TCARBN_FLAG_W,PCO2,PCO2_FLAG_W,ALKALI,ALKALI_FLAG_W,PH,PH_FLAG_W,PCO2TMP,C14ERR,HELIER,DELHER,PH_TMP,C13ERR,THETA,TRITER
,,,,,,,,,,,,DBAR,ITS-90,PSS-78,,PSS-78,,UMOL/KG,,UMOL/KG,,UMOL/KG,,UMOL/KG,,UMOL/KG,,UMOL/KG,,PMOL/KG,,PMOL/KG,,PMOL/KG,,PMOL/KG,,TU,,NMOL/KG,,PERCNT,,/MILLE,,/MILLE,,UMOL/KG,,UATM,,UMOL/KG,,,,DEG C,/MILLE,NMOL/KG,PERCNT,DEG C,/MILLE,DEG C,TU
    31DSCG94_1,     x,     4,  1,    136,     -1,2,19940128,1739, 44.2763,-129.7480, 3017,     25.8,  11.5924,  32.5203,2,  32.5238,2,    290.8,2,   -999.0,9,  -999.00,9,  -999.00,9,  -999.00,9,  -999.00,9, -999.000,9, -999.000,9, -999.000,9, -999.000,9, -999.000,9,-999.0000,9,  -999.00,9,   -999.0,9,   -999.0,9,   -999.0,9,   -999.0,9,   -999.0,9,  -999.00,9, -999.00,  -999.0,-999.0000,-999.000, -999.00,  -999.0, 11.5892,-999.000
    31DSCG94_1,     x,     4,  1,    135,     -1,2,19940128,1739, 44.2763,-129.7480, 3017,     51.8,  11.5940,  32.5210,2,  32.5210,2,    291.1,2,   -999.0,9,  -999.00,9,  -999.00,9,  -999.00,9,  -999.00,9, -999.000,9, -999.000,9, -999.000,9, -999.000,9, -999.000,9,-999.0000,9,  -999.00,9,   -999.0,9,   -999.0,9,   -999.0,9,   -999.0,9,   -999.0,9,  -999.00,9, -999.00,  -999.0,-999.0000,-999.000, -999.00,  -999.0, 11.5876,-999.000
    31DSCG94_1,     x,     4,  1,    134,     -1,2,19940128,1739, 44.2763,-129.7480, 3017,     73.9,  11.5688,  32.5216,2,  32.5229,2,    292.0,2,   -999.0,9,  -999.00,9,  -999.00,9,  -999.00,9,  -999.00,9, -999.000,9, -999.000,9, -999.000,9, -999.000,9, -999.000,9,-999.0000,9,  -999.00,9,   -999.0,9,   -999.0,9,   -999.0,9,   -999.0,9,   -999.0,9,  -999.00,9, -999.00,  -999.0,-999.0000,-999.000, -999.00,  -999.0, 11.5597,-999.000
    31DSCG94_1,     x,     4,  1,    133,     -1,2,19940128,1739, 44.2763,-129.7480, 3017,     96.5,   9.2352,  32.7306,2,  32.7391,2,    293.3,2,   -999.0,9,  -999.00,9,  -999.00,9,  -999.00,9,  -999.00,9, -999.000,9, -999.000,9, -999.000,9, -999.000,9, -999.000,9,-999.0000,9,  -999.00,9,   -999.0,9,   -999.0,9,   -999.0,9,   -999.0,9,   -999.0,9,  -999.00,9, -999.00,  -999.0,-999.0000,-999.000, -999.00,  -999.0,  9.2249,-999.000
    31DSCG94_1,     x,     4,  1,    132,     -1,2,19940128,1739, 44.2763,-129.7480, 3017,    123.0,   8.2007,  33.0271,2,  33.0312,2,    266.8,2,   -999.0,9,  -999.00,9,  -999.00,9,  -999.00,9,  -999.00,9, -999.000,9, -999.000,9, -999.000,9, -999.000,9, -999.000,9,-999.0000,9,  -999.00,9,   -999.0,9,   -999.0,9,   -999.0,9,   -999.0,9,   -999.0,9,  -999.00,9, -999.00,  -999.0,-999.0000,-999.000, -999.00,  -999.0,  8.1885,-999.000
    31DSCG94_1,     x,     4,  1,    131,     -1,2,19940128,1739, 44.2763,-129.7480, 3017,    147.7,   7.6377,  33.3921,2,  33.4028,2,    243.8,2,   -999.0,9,  -999.00,9,  -999.00,9,  -999.00,9,  -999.00,9, -999.000,9, -999.000,9, -999.000,9, -999.000,9, -999.000,9,-999.0000,9,  -999.00,9,   -999.0,9,   -999.0,9,   -999.0,9,   -999.0,9,   -999.0,9,  -999.00,9, -999.00,  -999.0,-999.0000,-999.000, -999.00,  -999.0,  7.6235,-999.000
    31DSCG94_1,     x,     4,  1,    130,     -1,2,19940128,1739, 44.2763,-129.7480, 3017,    197.8,   7.0574,  33.7526,2,  33.7583,2,    193.6,2,   -999.0,9,  -999.00,9,  -999.00,9,  -999.00,9,  -999.00,9, -999.000,9, -999.000,9, -999.000,9, -999.000,9, -999.000,9,-999.0000,9,  -999.00,9,   -999.0,9,   -999.0,9,   -999.0,9,   -999.0,9,   -999.0,9,  -999.00,9, -999.00,  -999.0,-999.0000,-999.000, -999.00,  -999.0,  7.0392,-999.000
    31DSCG94_1,     x,     4,  1,    129,     -1,2,19940128,1739, 44.2763,-129.7480, 3017,    247.3,   6.5596,  33.8753,2,  33.8761,2,    173.3,2,   -999.0,9,  -999.00,9,  -999.00,9,  -999.00,9,  -999.00,9, -999.000,9, -999.000,9, -999.000,9, -999.000,9, -999.000,9,-999.0000,9,  -999.00,9,   -999.0,9,   -999.0,9,   -999.0,9,   -999.0,9,   -999.0,9,  -999.00,9, -999.00,  -999.0,-999.0000,-999.000, -999.00,  -999.0,  6.5376,-999.000
    31DSCG94_1,     x,     4,  1,    128,     -1,2,19940128,1739, 44.2763,-129.7480, 3017,    299.5,   6.0225,  33.9106,2,  33.9134,2,    137.0,2,   -999.0,9,  -999.00,9,  -999.00,9,  -999.00,9,  -999.00,9, -999.000,9, -999.000,9, -999.000,9, -999.000,9, -999.000,9,-999.0000,9,  -999.00,9,   -999.0,9,   -999.0,9,   -999.0,9,   -999.0,9,   -999.0,9,  -999.00,9, -999.00,  -999.0,-999.0000,-999.000, -999.00,  -999.0,  5.9969,-999.000
    31DSCG94_1,     x,     4,  1,    127,     -1,2,19940128,1739, 44.2763,-129.7480, 3017,    399.6,   5.1767,  33.9605,2,  33.9611,2,     80.2,2,   -999.0,9,  -999.00,9,  -999.00,9,  -999.00,9,  -999.00,9, -999.000,9, -999.000,9, -999.000,9, -999.000,9, -999.000,9,-999.0000,9,  -999.00,9,   -999.0,9,   -999.0,9,   -999.0,9,   -999.0,9,   -999.0,9,  -999.00,9, -999.00,  -999.0,-999.0000,-999.000, -999.00,  -999.0,  5.1449,-999.000
    31DSCG94_1,     x,     4,  1,    126,     -1,2,19940128,1739, 44.2763,-129.7480, 3017,    498.5,   4.6411,  34.0493,2,  34.0515,2,     37.2,2,   -999.0,9,  -999.00,9,  -999.00,9,  -999.00,9,  -999.00,9, -999.000,9, -999.000,9, -999.000,9, -999.000,9, -999.000,9,-999.0000,9,  -999.00,9,   -999.0,9,   -999.0,9,   -999.0,9,   -999.0,9,   -999.0,9,  -999.00,9, -999.00,  -999.0,-999.0000,-999.000, -999.00,  -999.0,  4.6031,-999.000
    31DSCG94_1,     x,     4,  1,    125,     -1,2,19940128,1739, 44.2763,-129.7480, 3017,    599.8,   4.3070,  34.1255,2,  34.1246,2,     18.0,2,   -999.0,9,  -999.00,9,  -999.00,9,  -999.00,9,  -999.00,9, -999.000,9, -999.000,9, -999.000,9, -999.000,9, -999.000,9,-999.0000,9,  -999.00,9,   -999.0,9,   -999.0,9,   -999.0,9,   -999.0,9,   -999.0,9,  -999.00,9, -999.00,  -999.0,-999.0000,-999.000, -999.00,  -999.0,  4.2623,-999.000
    31DSCG94_1,     x,     4,  1,    124,     -1,2,19940128,1739, 44.2763,-129.7480, 3017,    699.3,   4.0438,  34.2088,2,  34.2094,2,     -0.3,3,   -999.0,9,  -999.00,9,  -999.00,9,  -999.00,9,  -999.00,9, -999.000,9, -999.000,9, -999.000,9, -999.000,9, -999.000,9,-999.0000,9,  -999.00,9,   -999.0,9,   -999.0,9,   -999.0,9,   -999.0,9,   -999.0,9,  -999.00,9, -999.00,  -999.0,-999.0000,-999.000, -999.00,  -999.0,  3.9926,-999.000
    31DSCG94_1,     x,     4,  1,    123,     -1,2,19940128,1739, 44.2763,-129.7480, 3017,    801.2,   3.8505,  34.2762,2,  34.2756,2,     -8.3,3,   -999.0,9,  -999.00,9,  -999.00,9,  -999.00,9,  -999.00,9, -999.000,9, -999.000,9, -999.000,9, -999.000,9, -999.000,9,-999.0000,9,  -999.00,9,   -999.0,9,   -999.0,9,   -999.0,9,   -999.0,9,   -999.0,9,  -999.00,9, -999.00,  -999.0,-999.0000,-999.000, -999.00,  -999.0,  3.7923,-999.000
    31DSCG94_1,     x,     4,  1,    122,     -1,2,19940128,1739, 44.2763,-129.7480, 3017,    902.8,   3.6197,  34.3379,2,  34.3380,2,    -11.5,3,   -999.0,9,  -999.00,9,  -999.00,9,  -999.00,9,  -999.00,9, -999.000,9, -999.000,9, -999.000,9, -999.000,9, -999.000,9,-999.0000,9,  -999.00,9,   -999.0,9,   -999.0,9,   -999.0,9,   -999.0,9,   -999.0,9,  -999.00,9, -999.00,  -999.0,-999.0000,-999.000, -999.00,  -999.0,  3.5550,-999.000
    31DSCG94_1,     x,     4,  1,    121,     -1,2,19940128,1739, 44.2763,-129.7480, 3017,   1000.3,   3.3636,  34.3836,2,  34.3839,2,    -11.8,3,   -999.0,9,  -999.00,9,  -999.00,9,  -999.00,9,  -999.00,9, -999.000,9, -999.000,9, -999.000,9, -999.000,9, -999.000,9,-999.0000,9,  -999.00,9,   -999.0,9,   -999.0,9,   -999.0,9,   -999.0,9,   -999.0,9,  -999.00,9, -999.00,  -999.0,-999.0000,-999.000, -999.00,  -999.0,  3.2930,-999.000
    31DSCG94_1,     x,     4,  1,    120,     -1,2,19940128,1739, 44.2763,-129.7480, 3017,   1100.5,   3.2045,  34.4184,2,  34.4213,2,    -10.7,3,   -999.0,9,  -999.00,9,  -999.00,9,  -999.00,9,  -999.00,9, -999.000,9, -999.000,9, -999.000,9, -999.000,9, -999.000,9,-999.0000,9,  -999.00,9,   -999.0,9,   -999.0,9,   -999.0,9,   -999.0,9,   -999.0,9,  -999.00,9, -999.00,  -999.0,-999.0000,-999.000, -999.00,  -999.0,  3.1273,-999.000
    31DSCG94_1,     x,     4,  1,    119,     -1,2,19940128,1739, 44.2763,-129.7480, 3017,   1199.7,   3.0452,  34.4529,2,  34.4522,2,     -7.6,3,   -999.0,9,  -999.00,9,  -999.00,9,  -999.00,9,  -999.00,9, -999.000,9, -999.000,9, -999.000,9, -999.000,9, -999.000,9,-999.0000,9,  -999.00,9,   -999.0,9,   -999.0,9,   -999.0,9,   -999.0,9,   -999.0,9,  -999.00,9, -999.00,  -999.0,-999.0000,-999.000, -999.00,  -999.0,  2.9615,-999.000
    31DSCG94_1,     x,     4,  1,    118,     -1,2,19940128,1739, 44.2763,-129.7480, 3017,   1299.2,   2.8343,  34.4848,2,  34.4830,2,     -4.3,3,   -999.0,9,  -999.00,9,  -999.00,9,  -999.00,9,  -999.00,9, -999.000,9, -999.000,9, -999.000,9, -999.000,9, -999.000,9,-999.0000,9,  -999.00,9,   -999.0,9,   -999.0,9,   -999.0,9,   -999.0,9,   -999.0,9,  -999.00,9, -999.00,  -999.0,-999.0000,-999.000, -999.00,  -999.0,  2.7448,-999.000
    31DSCG94_1,     x,     4,  1,    117,     -1,2,19940128,1739, 44.2763,-129.7480, 3017,   1396.4,   2.6291,  34.5065,2,  34.5051,2,     -0.2,3,   -999.0,9,  -999.00,9,  -999.00,9,  -999.00,9,  -999.00,9, -999.000,9, -999.000,9, -999.000,9, -999.000,9, -999.000,9,-999.0000,9,  -999.00,9,   -999.0,9,   -999.0,9,   -999.0,9,   -999.0,9,   -999.0,9,  -999.00,9, -999.00,  -999.0,-999.0000,-999.000, -999.00,  -999.0,  2.5339,-999.000
    31DSCG94_1,     x,     4,  1,    116,     -1,2,19940128,1739, 44.2763,-129.7480, 3017,   1499.3,   2.4318,  34.5316,2,  34.5293,2,      5.1,2,   -999.0,9,  -999.00,9,  -999.00,9,  -999.00,9,  -999.00,9, -999.000,9, -999.000,9, -999.000,9, -999.000,9, -999.000,9,-999.0000,9,  -999.00,9,   -999.0,9,   -999.0,9,   -999.0,9,   -999.0,9,   -999.0,9,  -999.00,9, -999.00,  -999.0,-999.0000,-999.000, -999.00,  -999.0,  2.3307,-999.000
    31DSCG94_1,     x,     4,  1,    115,     -1,2,19940128,1739, 44.2763,-129.7480, 3017,   1598.8,   2.2833,  34.5480,2,  34.5461,2,     10.6,2,   -999.0,9,  -999.00,9,  -999.00,9,  -999.00,9,  -999.00,9, -999.000,9, -999.000,9, -999.000,9, -999.000,9, -999.000,9,-999.0000,9,  -999.00,9,   -999.0,9,   -999.0,9,   -999.0,9,   -999.0,9,   -999.0,9,  -999.00,9, -999.00,  -999.0,-999.0000,-999.000, -999.00,  -999.0,  2.1759,-999.000
    31DSCG94_1,     x,     4,  1,    114,     -1,2,19940128,1739, 44.2763,-129.7480, 3017,   1700.5,   2.1619,  34.5548,2,  34.5528,2,     16.2,2,   -999.0,9,  -999.00,9,  -999.00,9,  -999.00,9,  -999.00,9, -999.000,9, -999.000,9, -999.000,9, -999.000,9, -999.000,9,-999.0000,9,  -999.00,9,   -999.0,9,   -999.0,9,   -999.0,9,   -999.0,9,   -999.0,9,  -999.00,9, -999.00,  -999.0,-999.0000,-999.000, -999.00,  -999.0,  2.0480,-999.000
    31DSCG94_1,     x,     4,  1,    113,     -1,2,19940128,1739, 44.2763,-129.7480, 3017,   1799.8,   2.0780,  34.5734,2,  34.5745,2,     22.4,2,   -999.0,9,  -999.00,9,  -999.00,9,  -999.00,9,  -999.00,9, -999.000,9, -999.000,9, -999.000,9, -999.000,9, -999.000,9,-999.0000,9,  -999.00,9,   -999.0,9,   -999.0,9,   -999.0,9,   -999.0,9,   -999.0,9,  -999.00,9, -999.00,  -999.0,-999.0000,-999.000, -999.00,  -999.0,  1.9571,-999.000
    31DSCG94_1,     x,     4,  1,    112,     -1,2,19940128,1739, 44.2763,-129.7480, 3017,   1899.3,   1.9760,  34.5890,2,  34.5880,2,     31.3,2,   -999.0,9,  -999.00,9,  -999.00,9,  -999.00,9,  -999.00,9, -999.000,9, -999.000,9, -999.000,9, -999.000,9, -999.000,9,-999.0000,9,  -999.00,9,   -999.0,9,   -999.0,9,   -999.0,9,   -999.0,9,   -999.0,9,  -999.00,9, -999.00,  -999.0,-999.0000,-999.000, -999.00,  -999.0,  1.8484,-999.000
    31DSCG94_1,     x,     4,  1,    111,     -1,2,19940128,1739, 44.2763,-129.7480, 3017,   1999.9,   1.9147,  34.5997,2,  34.5980,2,     34.8,2,   -999.0,9,  -999.00,9,  -999.00,9,  -999.00,9,  -999.00,9, -999.000,9, -999.000,9, -999.000,9, -999.000,9, -999.000,9,-999.0000,9,  -999.00,9,   -999.0,9,   -999.0,9,   -999.0,9,   -999.0,9,   -999.0,9,  -999.00,9, -999.00,  -999.0,-999.0000,-999.000, -999.00,  -999.0,  1.7797,-999.000
    31DSCG94_1,     x,     4,  1,    110,     -1,2,19940128,1739, 44.2763,-129.7480, 3017,   2096.5,   1.8678,  34.6090,2,  34.6068,2,     39.3,2,   -999.0,9,  -999.00,9,  -999.00,9,  -999.00,9,  -999.00,9, -999.000,9, -999.000,9, -999.000,9, -999.000,9, -999.000,9,-999.0000,9,  -999.00,9,   -999.0,9,   -999.0,9,   -999.0,9,   -999.0,9,   -999.0,9,  -999.00,9, -999.00,  -999.0,-999.0000,-999.000, -999.00,  -999.0,  1.7253,-999.000
    31DSCG94_1,     x,     4,  1,    109,     -1,2,19940128,1739, 44.2763,-129.7480, 3017,   2199.6,   1.8277,  34.6169,2,  34.6190,2,     44.3,2,   -999.0,9,  -999.00,9,  -999.00,9,  -999.00,9,  -999.00,9, -999.000,9, -999.000,9, -999.000,9, -999.000,9, -999.000,9,-999.0000,9,  -999.00,9,   -999.0,9,   -999.0,9,   -999.0,9,   -999.0,9,   -999.0,9,  -999.00,9, -999.00,  -999.0,-999.0000,-999.000, -999.00,  -999.0,  1.6771,-999.000
    31DSCG94_1,     x,     4,  1,    108,     -1,2,19940128,1739, 44.2763,-129.7480, 3017,   2299.2,   1.8200,  34.6200,2,  34.6174,2,     45.6,2,   -999.0,9,  -999.00,9,  -999.00,9,  -999.00,9,  -999.00,9, -999.000,9, -999.000,9, -999.000,9, -999.000,9, -999.000,9,-999.0000,9,  -999.00,9,   -999.0,9,   -999.0,9,   -999.0,9,   -999.0,9,   -999.0,9,  -999.00,9, -999.00,  -999.0,-999.0000,-999.000, -999.00,  -999.0,  1.6609,-999.000
    31DSCG94_1,     x,     4,  1,    107,     -1,2,19940128,1739, 44.2763,-129.7480, 3017,   2396.5,   1.8195,  34.6217,2,  34.6294,3,     46.5,2,   -999.0,9,  -999.00,9,  -999.00,9,  -999.00,9,  -999.00,9, -999.000,9, -999.000,9, -999.000,9, -999.000,9, -999.000,9,-999.0000,9,  -999.00,9,   -999.0,9,   -999.0,9,   -999.0,9,   -999.0,9,   -999.0,9,  -999.00,9, -999.00,  -999.0,-999.0000,-999.000, -999.00,  -999.0,  1.6519,-999.000
    31DSCG94_1,     x,     4,  1,    106,     -1,2,19940128,1739, 44.2763,-129.7480, 3017,   2501.1,   1.8169,  34.6236,2,  34.6239,2,     46.7,2,   -999.0,9,  -999.00,9,  -999.00,9,  -999.00,9,  -999.00,9, -999.000,9, -999.000,9, -999.000,9, -999.000,9, -999.000,9,-999.0000,9,  -999.00,9,   -999.0,9,   -999.0,9,   -999.0,9,   -999.0,9,   -999.0,9,  -999.00,9, -999.00,  -999.0,-999.0000,-999.000, -999.00,  -999.0,  1.6400,-999.000
    31DSCG94_1,     x,     4,  1,    105,     -1,2,19940128,1739, 44.2763,-129.7480, 3017,   2599.5,   1.8178,  34.6251,2,  34.6235,2,     47.2,2,   -999.0,9,  -999.00,9,  -999.00,9,  -999.00,9,  -999.00,9, -999.000,9, -999.000,9, -999.000,9, -999.000,9, -999.000,9,-999.0000,9,  -999.00,9,   -999.0,9,   -999.0,9,   -999.0,9,   -999.0,9,   -999.0,9,  -999.00,9, -999.00,  -999.0,-999.0000,-999.000, -999.00,  -999.0,  1.6319,-999.000
    31DSCG94_1,     x,     4,  1,    104,     -1,2,19940128,1739, 44.2763,-129.7480, 3017,   2700.5,   1.8218,  34.6265,2,  34.6245,2,     47.4,2,   -999.0,9,  -999.00,9,  -999.00,9,  -999.00,9,  -999.00,9, -999.000,9, -999.000,9, -999.000,9, -999.000,9, -999.000,9,-999.0000,9,  -999.00,9,   -999.0,9,   -999.0,9,   -999.0,9,   -999.0,9,   -999.0,9,  -999.00,9, -999.00,  -999.0,-999.0000,-999.000, -999.00,  -999.0,  1.6265,-999.000
    31DSCG94_1,     x,     4,  1,    103,     -1,2,19940128,1739, 44.2763,-129.7480, 3017,   2794.6,   1.8278,  34.6273,2,  34.6242,2,     47.2,2,   -999.0,9,  -999.00,9,  -999.00,9,  -999.00,9,  -999.00,9, -999.000,9, -999.000,9, -999.000,9, -999.000,9, -999.000,9,-999.0000,9,  -999.00,9,   -999.0,9,   -999.0,9,   -999.0,9,   -999.0,9,   -999.0,9,  -999.00,9, -999.00,  -999.0,-999.0000,-999.000, -999.00,  -999.0,  1.6236,-999.000
    31DSCG94_1,     x,     4,  1,    102,     -1,2,19940128,1739, 44.2763,-129.7480, 3017,   2896.0,   1.8337,  34.6276,2,  34.6324,3,     47.2,2,   -999.0,9,  -999.00,9,  -999.00,9,  -999.00,9,  -999.00,9, -999.000,9, -999.000,9, -999.000,9, -999.000,9, -999.000,9,-999.0000,9,  -999.00,9,   -999.0,9,   -999.0,9,   -999.0,9,   -999.0,9,   -999.0,9,  -999.00,9, -999.00,  -999.0,-999.0000,-999.000, -999.00,  -999.0,  1.6198,-999.000
    31DSCG94_1,     x,     4,  1,    101,     -1,2,19940128,1739, 44.2763,-129.7480, 3017,   3016.9,   1.8421,  34.6287,2,  34.6425,4,     46.7,2,   -999.0,9,  -999.00,9,  -999.00,9,  -999.00,9,  -999.00,9, -999.000,9, -999.000,9, -999.000,9, -999.000,9, -999.000,9,-999.0000,9,  -999.00,9,   -999.0,9,   -999.0,9,   -999.0,9,   -999.0,9,   -999.0,9,  -999.00,9, -999.00,  -999.0,-999.0000,-999.000, -999.00,  -999.0,  1.6163,-999.000