BOTTLE,20220630CCHSIOAMB
EXPOCODE,SECT_ID,STNNBR,CASTNO,SAMPNO,BTLNBR,BTLNBR_FLAG_W,DATE,TIME,LATITUDE,LONGITUDE,DEPTH,CTDPRS,CTDTMP,CTDSAL,CTDSAL_FLAG_W,SALNTY,SALNTY_FLAG_W,CTDOXY,CTDOXY_FLAG_W,OXYGEN,OXYGEN_FLAG_W,SILCAT,SILCAT_FLAG_W,NITRAT,NITRAT_FLAG_W,NITRIT,NITRIT_FLAG_W,PHSPHT,PHSPHT_FLAG_W,CFC-11,CFC-11_FLAG_W,CFC-12,CFC-12_FLAG_W,CFC113,CFC113_FLAG_W,CCL4,CCL4_FLAG_W,TRITUM,TRITUM_FLAG_W,HELIUM,HELIUM_FLAG_W,DELHE3,DELHE3_FLAG_W,DELC14,DELC14_FLAG_W,DELC13,DELC13_FLAG_W,TCARBN,TCARBN_FLAG_W,PCO2,PCO2_FLAG_W,ALKALI,ALKALI_FLAG_W,PH,PH_FLAG_W,PCO2TMP,C14ERR,HELIER,DELHER,PH_TMP,C13ERR,THETA,TRITER
,,,,,,,,,,,,DBAR,ITS-90,PSS-78,,PSS-78,,UMOL/KG,,UMOL/KG,,UMOL/KG,,UMOL/KG,,UMOL/KG,,UMOL/KG,,PMOL/KG,,PMOL/KG,,PMOL/KG,,PMOL/KG,,TU,,NMOL/KG,,PERCNT,,/MILLE,,/MILLE,,UMOL/KG,,UATM,,UMOL/KG,,,,DEG C,/MILLE,NMOL/KG,PERCNT,DEG C,/MILLE,DEG C,TU
    31DSCG94_2,  P18S,    28,  1,    136,   1025,2,19940305,2126,-57.8267,-102.9900, 4591,      8.3,   5.4266,  33.9613,2,  33.9631,2,    302.6,2,    301.9,2,     2.29,2,    20.67,2,     0.22,2,     1.49,2,    4.905,2,    2.423,2, -999.000,9, -999.000,9, -999.000,9,-999.0000,9,  -999.00,9,    -29.7,2,      1.8,2,   2106.6,2,    631.4,2,   2277.0,2,     7.80,2,   20.00,     3.7,-999.0000,-999.000,   25.00,  -999.0,  5.4259,-999.000
    31DSCG94_2,  P18S,    28,  1,    135,   1247,2,19940305,2126,-57.8267,-102.9900, 4591,     25.7,   5.4262,  33.9613,2,  33.9629,2,    303.0,2,    301.6,2,     2.12,2,    20.03,2,     0.21,2,     1.49,2,    4.825,2,    2.253,6, -999.000,9, -999.000,9, -999.000,9,-999.0000,9,  -999.00,9,    -14.2,2,      1.8,2,   -999.0,9,    630.3,2,   2272.0,2,     7.80,2,   20.00,     4.7,-999.0000,-999.000,   25.00,  -999.0,  5.4242,-999.000
    31DSCG94_2,  P18S,    28,  1,    134,   1108,2,19940305,2126,-57.8267,-102.9900, 4591,     50.4,   5.4117,  33.9610,2,  33.9630,2,    302.5,2,    301.4,2,     2.36,2,    20.51,2,     0.19,2,     1.49,2,    4.587,2,    2.374,2, -999.000,9, -999.000,9, -999.000,9,-999.0000,9,  -999.00,9,   -999.0,5,      1.8,2,   -999.0,9,    633.2,2,   2274.0,2,     7.80,2,   20.00,  -999.0,-999.0000,-999.000,   25.00,  -999.0,  5.4077,-999.000
    31DSCG94_2,  P18S,    28,  1,    133,   1244,2,19940305,2126,-57.8267,-102.9900, 4591,     77.3,   5.4098,  33.9651,2,  33.9664,2,    302.0,2,    301.2,2,     2.31,2,    20.39,2,     0.21,2,     1.49,2,    4.914,2,    2.396,2, -999.000,5, -999.000,5,    0.210,2,   1.7451,2,    -1.65,2,      9.5,2,      1.9,2,   -999.0,9,    637.1,2,   2274.0,2,     7.80,2,   20.00,     5.3,-999.0000,-999.000,   25.00,  -999.0,  5.4037,   0.005
    31DSCG94_2,  P18S,    28,  1,    132,   1003,2,19940305,2126,-57.8267,-102.9900, 4591,     93.8,   5.3579,  34.1348,2,  34.1396,2,    299.6,2,    290.7,2,     4.67,2,    20.60,2,     0.26,2,     1.49,2,    4.226,2,    2.188,2, -999.000,9, -999.000,9, -999.000,9,-999.0000,9,  -999.00,9,     -1.8,2,      1.6,2,   -999.0,9,    663.7,2,   2272.0,2,     7.78,2,   20.00,     3.7,-999.0000,-999.000,   25.00,  -999.0,  5.3505,-999.000
    31DSCG94_2,  P18S,    28,  1,    131,   1211,2,19940305,2126,-57.8267,-102.9900, 4591,    149.1,   4.9983,  34.1566,2,  34.1571,2,    288.3,2,    289.0,2,     8.13,2,    22.51,2,     0.00,2,     1.58,2,    4.503,2,    2.234,2, -999.000,9, -999.000,9, -999.000,9,-999.0000,9,  -999.00,9,      0.0,2,      1.5,2,   -999.0,9,    707.5,2,   2276.0,2,     7.76,2,   20.00,     3.5,-999.0000,-999.000,   25.00,  -999.0,  4.9869,-999.000
    31DSCG94_2,  P18S,    28,  1,    130,   1241,2,19940305,2126,-57.8267,-102.9900, 4591,    202.8,   5.0615,  34.1909,2,  34.1916,2,    286.9,2,    288.2,2,     8.42,2,    22.33,2,     0.00,2,     1.56,2,    4.321,6,    2.188,6, -999.000,9, -999.000,9,    0.246,2,   1.7746,2,    -1.26,2,    -54.9,6,      1.5,2,   -999.0,9,    699.6,2,   2273.0,2,     7.76,2,   20.00,     2.9,-999.0000,-999.000,   25.00,  -999.0,  5.0458,   0.005
    31DSCG94_2,  P18S,    28,  1,    129,   1031,2,19940305,2126,-57.8267,-102.9900, 4591,    303.1,   4.5571,  34.1529,2,  34.1549,2,    281.8,2,    283.6,2,    16.32,2,    26.04,2,     0.00,2,     1.83,2,    3.613,2,    1.814,2, -999.000,9, -999.000,9,    0.220,2,   1.7777,2,    -0.98,2,      1.9,2,      1.4,2,   -999.0,9,    743.2,2,   2276.0,2,     7.74,2,   20.00,     3.9,-999.0000,-999.000,   25.00,  -999.0,  4.5346,   0.005
    31DSCG94_2,  P18S,    28,  1,    128,   1210,2,19940305,2126,-57.8267,-102.9900, 4591,    399.8,   4.2688,  34.1673,2,  34.1668,2,    264.9,2,    259.8,2,    22.12,2,    27.93,2,     0.00,2,     1.92,2,    3.559,2,    1.704,2, -999.000,9, -999.000,9,    0.172,2,   1.7911,2,     0.23,2,    -22.7,2,      1.3,2,   -999.0,9,    818.2,2,   2279.0,2,     7.70,2,   20.00,     5.2,-999.0000,-999.000,   25.00,  -999.0,  4.2397,   0.004
    31DSCG94_2,  P18S,    28,  1,    127,   1008,2,19940305,2126,-57.8267,-102.9900, 4591,    495.5,   3.8941,  34.1913,2,  34.1938,2,    247.2,2,    246.8,2,    32.15,2,    30.30,2,     0.00,2,     2.10,2,    2.854,2,    1.416,6, -999.000,5, -999.000,5, -999.000,9,-999.0000,9,  -999.00,9,   -158.7,4,      1.1,2,   -999.0,9,    881.8,2,   2280.0,2,     7.67,2,   20.00,     2.6,-999.0000,-999.000,   25.00,  -999.0,  3.8591,-999.000
    31DSCG94_2,  P18S,    28,  1,    126,   1007,2,19940305,2126,-57.8267,-102.9900, 4591,    605.0,   3.8326,  34.2824,2,  34.2862,2,    221.6,2,    219.5,2,    38.32,2,    31.54,2,     0.00,2,     2.18,2,    1.458,2,    0.687,2, -999.000,9, -999.000,9,    0.095,2,   1.8036,2,     2.68,2,    -70.5,2,      1.0,2,   -999.0,9,    977.9,2,   2296.0,2,     7.64,2,   20.00,     3.5,-999.0000,-999.000,   25.00,  -999.0,  3.7896,   0.004
    31DSCG94_2,  P18S,    28,  1,    125,   1203,2,19940305,2126,-57.8267,-102.9900, 4591,    700.2,   3.4895,  34.3118,2,  34.3135,2,    211.4,2,    209.3,2,    38.24,2,    31.61,2,     0.00,2,     2.19,2,    1.395,2,    0.660,2, -999.000,5, -999.000,5,   -0.002,2,   1.8107,2,     3.53,2,    -81.5,2,      0.9,2,   2200.3,2,   1026.3,2,   2291.0,2,     7.62,2,   20.00,     3.0,-999.0000,-999.000,   25.00,  -999.0,  3.4411,   0.003
    31DSCG94_2,  P18S,    28,  1,    123,   1101,2,19940305,2126,-57.8267,-102.9900, 4591,    792.5,   3.2656,  34.3576,2,  34.3586,2,    201.1,2,    197.6,2,    46.17,2,    32.36,2,     0.00,2,     2.27,2,    1.195,3,    0.436,3, -999.000,5, -999.000,5, -999.000,9,-999.0000,9,  -999.00,9,    -97.0,2,      0.7,2,   2213.0,2,   1079.6,2,   2307.0,2,     7.60,2,   20.00,     2.8,-999.0000,-999.000,   25.00,  -999.0,  3.2116,-999.000
    31DSCG94_2,  P18S,    28,  1,    121,   1206,2,19940305,2126,-57.8267,-102.9900, 4591,    901.5,   2.9940,  34.4003,2,  34.4011,2,    192.1,2,    189.1,2,    53.94,2,    33.03,2,     0.00,2,     2.32,2,    1.554,4,    1.640,4, -999.000,9, -999.000,9, -999.000,9,-999.0000,9,  -999.00,9,   -101.4,2,      0.7,2,   2224.7,2,   1114.7,2,   2316.0,2,     7.59,2,   20.00,     5.0,-999.0000,-999.000,   25.00,  -999.0,  2.9337,-999.000
    31DSCG94_2,  P18S,    28,  1,    119,   1248,2,19940305,2126,-57.8267,-102.9900, 4591,   1003.0,   2.7707,  34.4376,2,  34.4362,2,    185.5,2,    183.9,2,    59.81,2,    33.59,2,     0.00,2,     2.35,2,    0.607,2,    0.292,2, -999.000,9, -999.000,9,    0.042,2,   1.8286,2,     6.82,2,   -999.0,9,   -999.0,9,   2233.4,2,   1146.9,2,   2323.0,2,     7.58,2,   20.00,  -999.0,-999.0000,-999.000,   25.00,  -999.0,  2.7045,   0.004
    31DSCG94_2,  P18S,    28,  1,    118,   1207,2,19940305,2126,-57.8267,-102.9900, 4591,   1199.8,   2.5221,  34.5273,2,  34.5282,2,    176.9,2,    174.0,2,    69.60,2,    33.71,2,     0.00,2,     2.39,2,    0.334,2,    0.162,6, -999.000,5, -999.000,5,    0.020,2,   1.8384,2,     8.43,2,   -147.6,2,      0.5,2,   2236.9,2,   -999.0,9,   2331.0,2,     7.57,2, -999.00,     2.8,-999.0000,-999.000,   25.00,  -999.0,  2.4432,   0.003
    31DSCG94_2,  P18S,    28,  1,    117,   1119,2,19940305,2126,-57.8267,-102.9900, 4591,   1405.5,   2.3508,  34.6081,2,  34.6087,2,    173.7,2,    171.5,2,    76.96,2,    33.14,2,     0.00,2,     2.35,2,    0.210,3,    0.082,2, -999.000,9, -999.000,9, -999.000,9,-999.0000,9,  -999.00,9,   -999.0,9,   -999.0,9,   2235.8,2,   1166.2,2,   -999.0,5,     7.57,2,   20.00,  -999.0,-999.0000,-999.000,   25.00,  -999.0,  2.2578,-999.000
    31DSCG94_2,  P18S,    28,  1,    116,   1036,2,19940305,2126,-57.8267,-102.9900, 4591,   1597.6,   2.2321,  34.6595,2,  34.6601,2,    175.5,2,    174.3,2,    81.28,2,    32.50,2,     0.00,2,     2.29,2,    0.264,3,    0.049,2, -999.000,5, -999.000,5,    0.009,2,   1.8669,2,    10.09,2,   -149.0,2,      0.4,2,   2246.8,2,   -999.0,9,   2339.0,2,     7.58,2, -999.00,     4.2,-999.0000,-999.000,   25.00,  -999.0,  2.1252,   0.003
    31DSCG94_2,  P18S,    28,  1,    115,   1017,2,19940305,2126,-57.8267,-102.9900, 4591,   1797.7,   2.1613,  34.6856,2,  34.6855,2,    177.9,2,    177.2,2,    84.38,2,    32.13,2,     0.00,2,     2.25,2, -999.000,5, -999.000,5, -999.000,9, -999.000,9, -999.000,9,-999.0000,9,  -999.00,9,   -999.0,9,   -999.0,9,   2255.7,2,   1128.6,2,   -999.0,5,     7.59,2,   20.00,  -999.0,-999.0000,-999.000,   25.00,  -999.0,  2.0391,-999.000
    31DSCG94_2,  P18S,    28,  1,    114,   1016,2,19940305,2126,-57.8267,-102.9900, 4591,   1999.9,   2.0429,  34.7096,2,  34.7096,2,    180.9,2,    181.9,2,    87.88,2,    31.60,2,     0.00,2,     2.22,2,    0.155,4,    0.030,2, -999.000,5, -999.000,5,    0.015,2,   1.8736,2,    10.23,2,   -143.1,2,      0.4,2,   2253.4,2,   1100.2,2,   2349.0,2,     7.59,2,   20.00,     3.2,-999.0000,-999.000,   25.00,  -999.0,  1.9055,   0.004
    31DSCG94_2,  P18S,    28,  1,    113,   1118,2,19940305,2126,-57.8267,-102.9900, 4591,   2254.1,   1.8514,  34.7259,2,  34.7257,2,    185.2,2,    187.7,6,    93.07,2,    31.05,2,     0.00,2,     2.16,2,    0.068,2,    0.040,2, -999.000,9, -999.000,9, -999.000,9,-999.0000,9,  -999.00,9,   -999.0,9,   -999.0,9,   2253.6,2,   -999.0,9,   2356.0,2,     7.60,2, -999.00,  -999.0,-999.0000,-999.000,   25.00,  -999.0,  1.6953,-999.000
    31DSCG94_2,  P18S,    28,  1,    112,   1033,2,19940305,2126,-57.8267,-102.9900, 4591,   2499.2,   1.6244,  34.7271,2,  34.7273,2,    189.0,2,    190.9,2,   100.28,2,    30.83,2,     0.00,2,     2.19,2,    0.044,2,    0.015,2, -999.000,9, -999.000,9,    0.010,2,   1.8812,2,    10.84,2,   -161.7,2,      0.5,2,   2257.9,2,   1075.6,2,   2360.0,2,     7.61,2,   20.00,     3.2,-999.0000,-999.000,   25.00,  -999.0,  1.4509,   0.003
    31DSCG94_2,  P18S,    28,  1,    111,   1263,2,19940305,2126,-57.8267,-102.9900, 4591,   2748.8,   1.4609,  34.7262,2,  34.7255,2,    191.9,2,    194.0,2,   102.35,2,    31.19,2,     0.00,2,     2.20,2,    0.049,2,    0.009,2, -999.000,5, -999.000,5,    0.005,2,   1.8705,2,    10.38,2,   -999.0,9,   -999.0,9,   2256.2,2,   -999.0,9,   2358.0,2,     7.61,2, -999.00,  -999.0,-999.0000,-999.000,   25.00,  -999.0,  1.2681,   0.003
    31DSCG94_2,  P18S,    28,  1,    110,   1005,2,19940305,2126,-57.8267,-102.9900, 4591,   2995.6,   1.2799,  34.7217,2,  34.7215,2,    194.9,2,    197.1,2,   107.77,2,    31.40,2,     0.00,2,     2.21,2,    0.408,4,    0.012,2, -999.000,9, -999.000,9, -999.000,9,-999.0000,9,  -999.00,9,   -176.4,2,      0.4,2,   2259.2,2,   1066.6,2,   2361.0,2,     7.61,2,   20.00,     4.7,-999.0000,-999.000,   25.00,  -999.0,  1.0681,-999.000
    31DSCG94_2,  P18S,    28,  1,    109,   1611,2,19940305,2126,-57.8267,-102.9900, 4591,   3251.0,   1.1356,  34.7176,2,  34.7177,2,    197.8,2,    200.1,2,   113.51,2,    31.37,2,     0.00,2,     2.22,2,    0.040,2,    0.012,2, -999.000,5, -999.000,5,    0.010,2,   1.8803,2,    10.03,2,   -999.0,9,   -999.0,9,   2260.3,2,   -999.0,9,   2359.0,2,     7.61,2, -999.00,  -999.0,-999.0000,-999.000,   25.00,  -999.0,  0.9029,   0.003
    31DSCG94_2,  P18S,    28,  1,    108,   1218,2,19940305,2126,-57.8267,-102.9900, 4591,   3499.5,   0.9792,  34.7134,2,  34.7134,2,    200.9,2,    203.2,2,   120.02,2,    31.78,2,     0.00,2,     2.24,2,    0.041,2,    0.017,2, -999.000,9, -999.000,9, -999.000,9,-999.0000,9,  -999.00,9,   -158.1,2,      0.5,2,   2258.9,2,   1077.0,2,   2357.0,2,     7.61,2,   20.00,     6.1,-999.0000,-999.000,   25.00,  -999.0,  0.7260,-999.000
    31DSCG94_2,  P18S,    28,  1,    107,   1257,2,19940305,2126,-57.8267,-102.9900, 4591,   3752.7,   0.8483,  34.7094,2,  34.7091,2,    203.9,2,    205.6,6,   124.55,2,    30.22,4,     0.00,2,     2.23,2,    0.058,2,    0.020,2, -999.000,9, -999.000,9,    0.013,2,   1.8906,2,    10.01,2,   -999.0,9,   -999.0,9,   2261.3,2,   -999.0,9,   2357.0,2,     7.60,2, -999.00,  -999.0,-999.0000,-999.000,   25.00,  -999.0,  0.5732,   0.003
    31DSCG94_2,  P18S,    28,  1,    106,   1224,2,19940305,2126,-57.8267,-102.9900, 4591,   3998.2,   0.6939,  34.7068,2,  34.7066,2,    207.0,2,    208.6,2,   129.40,2,    32.18,2,     0.00,2,     2.25,2,    0.052,6,    0.021,6, -999.000,5, -999.000,5,    0.006,2,   1.8866,2,     9.68,2,   -159.9,2,      0.4,2,   2260.7,2,   1073.2,2,   2366.0,2,     7.60,2,   20.00,     2.7,-999.0000,-999.000,   25.00,  -999.0,  0.3979,   0.003
    31DSCG94_2,  P18S,    28,  1,    105,   1246,2,19940305,2126,-57.8267,-102.9900, 4591,   4244.8,   0.5844,  34.7056,2,  34.7064,2,    209.6,2,    210.9,2,   133.20,2,    32.56,2,     0.00,2,     2.26,2,    0.063,2,    0.028,2, -999.000,5, -999.000,5, -999.000,9,-999.0000,9,  -999.00,9,   -999.0,9,   -999.0,9,   2263.1,2,   1081.0,2,   2361.0,2,     7.61,2,   20.00,  -999.0,-999.0000,-999.000,   25.00,  -999.0,  0.2655,-999.000
    31DSCG94_2,  P18S,    28,  1,    104,   1028,2,19940305,2126,-57.8267,-102.9900, 4591,   4247.0,   0.5846,  34.7050,2,  34.7049,2,    209.7,2,    210.5,2,   133.07,2,    31.88,2,     0.00,2,     2.26,2,    0.060,6,    0.025,6, -999.000,5, -999.000,5, -999.000,9,-999.0000,9,  -999.00,9,   -999.0,9,   -999.0,9,   2261.7,2,   -999.0,9,   2364.0,2,     7.60,2, -999.00,  -999.0,-999.0000,-999.000,   25.00,  -999.0,  0.2655,-999.000
    31DSCG94_2,  P18S,    28,  1,    102,   1223,2,19940305,2126,-57.8267,-102.9900, 4591,   4500.0,   0.5321,  34.7044,2,  34.7035,2,    212.7,2,    212.1,2,   137.28,2,    32.43,2,     0.00,2,     2.25,2,    0.071,2,    0.029,2, -999.000,9, -999.000,9, -999.000,9,-999.0000,9,  -999.00,9,     -5.5,4,      0.5,2,   2262.2,2,   1071.5,2,   2362.0,2,     7.60,2,   20.00,     3.3,-999.0000,-999.000,   25.00,  -999.0,  0.1872,-999.000
    31DSCG94_2,  P18S,    28,  1,    103,   9999,2,19940305,2126,-57.8267,-102.9900, 4591,   4500.4,   0.5326,  34.7044,2,  34.7042,2,    212.7,2,    211.7,2,   136.09,2,    32.43,2,     0.00,2,     2.26,2,    0.065,2,    0.030,2, -999.000,5, -999.000,5, -999.000,9,-999.0000,9,  -999.00,9,   -999.0,9,   -999.0,9,   2262.1,2,   -999.0,9,   2363.0,2,     7.60,2, -999.00,  -999.0,-999.0000,-999.000,   25.00,  -999.0,  0.1876,-999.000
    31DSCG94_2,  P18S,    28,  1,    101,   1041,2,19940305,2126,-57.8267,-102.9900, 4591,   4734.3,   0.5227,  34.7039,2,  34.7037,2,    214.8,2,    212.4,2,   135.73,2,    32.15,2,     0.00,2,     2.25,2,    0.064,2,    0.031,6, -999.000,5, -999.000,5,    0.014,2,   1.9205,2,     8.64,2,   -161.9,2,      0.5,2,   2259.9,2,   1079.8,2,   2361.0,2,     7.60,2,   20.00,     3.1,-999.0000,-999.000,   25.00,  -999.0,  0.1520,   0.003