BOTTLE,20220630CCHSIOAMB
EXPOCODE,SECT_ID,STNNBR,CASTNO,SAMPNO,BTLNBR,BTLNBR_FLAG_W,DATE,TIME,LATITUDE,LONGITUDE,DEPTH,CTDPRS,CTDTMP,CTDSAL,CTDSAL_FLAG_W,SALNTY,SALNTY_FLAG_W,CTDOXY,CTDOXY_FLAG_W,OXYGEN,OXYGEN_FLAG_W,SILCAT,SILCAT_FLAG_W,NITRAT,NITRAT_FLAG_W,NITRIT,NITRIT_FLAG_W,PHSPHT,PHSPHT_FLAG_W,CFC-11,CFC-11_FLAG_W,CFC-12,CFC-12_FLAG_W,CFC113,CFC113_FLAG_W,CCL4,CCL4_FLAG_W,TRITUM,TRITUM_FLAG_W,HELIUM,HELIUM_FLAG_W,DELHE3,DELHE3_FLAG_W,DELC14,DELC14_FLAG_W,DELC13,DELC13_FLAG_W,TCARBN,TCARBN_FLAG_W,PCO2,PCO2_FLAG_W,ALKALI,ALKALI_FLAG_W,PH,PH_FLAG_W,PCO2TMP,C14ERR,HELIER,DELHER,PH_TMP,C13ERR,THETA,TRITER
,,,,,,,,,,,,DBAR,ITS-90,PSS-78,,PSS-78,,UMOL/KG,,UMOL/KG,,UMOL/KG,,UMOL/KG,,UMOL/KG,,UMOL/KG,,PMOL/KG,,PMOL/KG,,PMOL/KG,,PMOL/KG,,TU,,NMOL/KG,,PERCNT,,/MILLE,,/MILLE,,UMOL/KG,,UATM,,UMOL/KG,,,,DEG C,/MILLE,NMOL/KG,PERCNT,DEG C,/MILLE,DEG C,TU
    31DSCG94_2,  P18S,    30,  1,    124,    435,2,19940307,1808,-56.5262,-103.0667, 4527,     20.7,   6.4264,  34.0935,2,-999.0000,9,    293.9,2,    294.5,2,     1.90,2,    18.53,2,     0.17,2,     1.41,2,    4.541,2,    2.265,2, -999.000,9, -999.000,9, -999.000,9,-999.0000,9,  -999.00,9,   -999.0,9,   -999.0,9,   2099.4,2,    600.8,2,   -999.0,5,  -999.00,9,   20.00,  -999.0,-999.0000,-999.000, -999.00,  -999.0,  6.4246,-999.000
    31DSCG94_2,  P18S,    30,  1,    123,    421,2,19940307,1808,-56.5262,-103.0667, 4527,     46.3,   6.4277,  34.0939,2,  34.0963,2,    293.6,2,    294.5,2,     1.83,2,    18.14,2,     0.16,2,     1.37,2,    4.562,2,    2.296,2, -999.000,9, -999.000,9, -999.000,9,-999.0000,9,  -999.00,9,   -999.0,9,   -999.0,9,   2099.9,2,    601.4,2,   2247.0,2,  -999.00,9,   20.00,  -999.0,-999.0000,-999.000, -999.00,  -999.0,  6.4236,-999.000
    31DSCG94_2,  P18S,    30,  1,    122,    418,2,19940307,1808,-56.5262,-103.0667, 4527,     72.1,   6.4289,  34.0939,2,-999.0000,9,    293.2,2,    294.5,2,  -999.00,9,  -999.00,9,  -999.00,9,  -999.00,9,    4.523,2,    2.268,2, -999.000,9, -999.000,9, -999.000,9,-999.0000,9,  -999.00,9,   -999.0,9,   -999.0,9,   2097.8,2,    602.9,2,   2280.0,2,  -999.00,9,   20.00,  -999.0,-999.0000,-999.000, -999.00,  -999.0,  6.4226,-999.000
    31DSCG94_2,  P18S,    30,  1,    121,    413,2,19940307,1808,-56.5262,-103.0667, 4527,    103.1,   6.0784,  34.1023,2,  34.0972,2,    300.5,2,    294.5,2,     1.99,2,    18.41,2,     0.19,2,     1.37,2,    4.573,2,    2.281,2, -999.000,9, -999.000,9, -999.000,9,-999.0000,9,  -999.00,9,   -999.0,9,   -999.0,9,   2100.5,2,    622.3,2,   2279.0,2,  -999.00,9,   20.00,  -999.0,-999.0000,-999.000, -999.00,  -999.0,  6.0697,-999.000
    31DSCG94_2,  P18S,    30,  1,    120,    405,2,19940307,1808,-56.5262,-103.0667, 4527,    151.5,   4.7030,  34.1524,2,  34.1605,2,    290.8,2,    294.0,2,     8.04,2,    22.42,2,     0.00,2,     1.57,2,    4.694,2,    2.340,2, -999.000,9, -999.000,9, -999.000,9,-999.0000,9,  -999.00,9,   -999.0,9,   -999.0,9,   2125.0,2,    707.6,2,   2276.0,2,  -999.00,9,   20.00,  -999.0,-999.0000,-999.000, -999.00,  -999.0,  4.6917,-999.000
    31DSCG94_2,  P18S,    30,  1,    119,    417,2,19940307,1808,-56.5262,-103.0667, 4527,    199.1,   4.5359,  34.1379,2,-999.0000,9,    290.3,2,    294.4,2,     9.16,2,    23.34,2,     0.00,2,     1.67,2,    4.647,2,    2.311,2, -999.000,9, -999.000,9, -999.000,9,-999.0000,9,  -999.00,9,   -999.0,9,   -999.0,9,   2128.0,2,    733.9,2,   2280.0,2,  -999.00,9,   20.00,  -999.0,-999.0000,-999.000, -999.00,  -999.0,  4.5213,-999.000
    31DSCG94_2,  P18S,    30,  1,    118,    429,4,19940307,1808,-56.5262,-103.0667, 4527,    302.4,   4.1716,  34.1272,2,-999.0000,9,    283.0,2,   -999.0,9,  -999.00,9,  -999.00,9,  -999.00,9,  -999.00,9, -999.000,9, -999.000,9, -999.000,9, -999.000,9, -999.000,9,-999.0000,9,  -999.00,9,   -999.0,9,   -999.0,9,   -999.0,9,   -999.0,9,   -999.0,9,  -999.00,9, -999.00,  -999.0,-999.0000,-999.000, -999.00,  -999.0,  4.1501,-999.000
    31DSCG94_2,  P18S,    30,  1,    117,    427,2,19940307,1808,-56.5262,-103.0667, 4527,    400.4,   3.9826,  34.1407,2,-999.0000,9,    262.3,2,    271.2,2,    15.47,2,    26.13,2,     0.00,2,     1.88,2,    3.804,2,    1.842,2, -999.000,9, -999.000,9, -999.000,9,-999.0000,9,  -999.00,9,   -999.0,9,   -999.0,9,   2147.5,2,    802.5,2,   2279.0,2,  -999.00,9,   20.00,  -999.0,-999.0000,-999.000, -999.00,  -999.0,  3.9545,-999.000
    31DSCG94_2,  P18S,    30,  1,    116,    410,2,19940307,1808,-56.5262,-103.0667, 4527,    503.7,   3.8447,  34.1894,2,  34.1906,2,    257.1,2,    249.9,2,    21.67,2,    27.80,2,     0.00,2,     1.98,2,    3.123,2,    1.489,2, -999.000,9, -999.000,9, -999.000,9,-999.0000,9,  -999.00,9,   -999.0,9,   -999.0,9,   2164.7,2,    895.3,2,   2288.0,2,  -999.00,9,   20.00,  -999.0,-999.0000,-999.000, -999.00,  -999.0,  3.8093,-999.000
    31DSCG94_2,  P18S,    30,  1,    115,    422,2,19940307,1808,-56.5262,-103.0667, 4527,    587.3,   3.7622,  34.2476,2,  34.2508,2,    233.9,2,    227.7,2,    29.43,2,    28.09,2,     0.00,2,     2.08,2,    2.280,3,    1.008,3, -999.000,9, -999.000,9, -999.000,9,-999.0000,9,  -999.00,9,   -999.0,9,   -999.0,9,   2181.8,2,    954.8,2,   2297.0,2,  -999.00,9,   20.00,  -999.0,-999.0000,-999.000, -999.00,  -999.0,  3.7209,-999.000
    31DSCG94_2,  P18S,    30,  1,    114,    407,3,19940307,1808,-56.5262,-103.0667, 4527,    638.6,   3.6854,  34.2697,2,  34.2749,3,    235.0,2,   -999.0,9,    33.40,2,    30.22,2,     0.00,2,     2.13,2, -999.000,5, -999.000,5, -999.000,9, -999.000,9, -999.000,9,-999.0000,9,  -999.00,9,   -999.0,9,   -999.0,9,   2187.0,2,    991.0,2,   2293.0,2,  -999.00,9,   20.00,  -999.0,-999.0000,-999.000, -999.00,  -999.0,  3.6407,-999.000
    31DSCG94_2,  P18S,    30,  1,    113,    419,2,19940307,1808,-56.5262,-103.0667, 4527,    801.6,   3.1949,  34.3405,2,  34.3425,2,    207.9,2,    204.4,2,    45.86,2,    32.06,2,     0.00,2,     2.29,2,    1.181,2,    0.577,2, -999.000,9, -999.000,9, -999.000,9,-999.0000,9,  -999.00,9,   -999.0,9,   -999.0,9,   2211.9,2,   1071.3,2,   2309.0,2,  -999.00,9,   20.00,  -999.0,-999.0000,-999.000, -999.00,  -999.0,  3.1407,-999.000
    31DSCG94_2,  P18S,    30,  1,    112,    426,3,19940307,1808,-56.5262,-103.0667, 4527,   1003.0,   2.7921,  34.4314,2,  34.4312,2,    190.0,2,   -999.0,9,    58.41,2,    34.70,2,     0.00,2,     2.39,2, -999.000,9, -999.000,9, -999.000,9, -999.000,9, -999.000,9,-999.0000,9,  -999.00,9,   -999.0,9,   -999.0,9,   -999.0,9,   1143.9,2,   -999.0,9,  -999.00,9,   20.00,  -999.0,-999.0000,-999.000, -999.00,  -999.0,  2.7257,-999.000
    31DSCG94_2,  P18S,    30,  1,    111,    424,3,19940307,1808,-56.5262,-103.0667, 4527,   1208.5,   2.5449,  34.5172,2,  34.5150,2,    178.5,2,   -999.0,9,    68.62,2,    33.68,2,     0.00,2,     2.41,2, -999.000,5, -999.000,5, -999.000,9, -999.000,9, -999.000,9,-999.0000,9,  -999.00,9,   -999.0,9,   -999.0,9,   2244.3,2,   1163.8,2,   2332.0,2,  -999.00,9,   20.00,  -999.0,-999.0000,-999.000, -999.00,  -999.0,  2.4651,-999.000
    31DSCG94_2,  P18S,    30,  1,    110,    409,2,19940307,1808,-56.5262,-103.0667, 4527,   1400.0,   2.3882,  34.5908,2,  34.5921,2,    173.8,2,    171.5,2,    76.69,2,    33.19,2,     0.00,2,     2.39,2,    0.204,2,    0.099,2, -999.000,9, -999.000,9, -999.000,9,-999.0000,9,  -999.00,9,   -999.0,9,   -999.0,9,   2252.6,2,   1184.8,2,   -999.0,5,  -999.00,9,   20.00,  -999.0,-999.0000,-999.000, -999.00,  -999.0,  2.2952,-999.000
    31DSCG94_2,  P18S,    30,  1,    109,    423,2,19940307,1808,-56.5262,-103.0667, 4527,   1799.6,   2.1470,  34.6869,2,-999.0000,9,    176.1,2,    176.5,2,    88.38,2,    33.00,2,     0.00,2,     2.29,2,    0.077,2,    0.037,2, -999.000,9, -999.000,9, -999.000,9,-999.0000,9,  -999.00,9,   -999.0,9,   -999.0,9,   -999.0,9,   1126.2,2,   -999.0,9,  -999.00,9,   20.00,  -999.0,-999.0000,-999.000, -999.00,  -999.0,  2.0248,-999.000
    31DSCG94_2,  P18S,    30,  1,    108,    414,3,19940307,1808,-56.5262,-103.0667, 4527,   2198.7,   1.8715,  34.7182,2,-999.0000,9,    181.2,2,   -999.0,9,  -999.00,9,  -999.00,9,  -999.00,9,  -999.00,9, -999.000,9, -999.000,9, -999.000,9, -999.000,9, -999.000,9,-999.0000,9,  -999.00,9,   -999.0,9,   -999.0,9,   -999.0,9,   -999.0,9,   -999.0,9,  -999.00,9, -999.00,  -999.0,-999.0000,-999.000, -999.00,  -999.0,  1.7198,-999.000
    31DSCG94_2,  P18S,    30,  1,    107,    437,3,19940307,1808,-56.5262,-103.0667, 4527,   2591.2,   1.5598,  34.7194,2,  34.7208,2,    185.0,2,   -999.0,9,   106.88,2,    31.46,2,     0.00,2,     2.26,2, -999.000,9, -999.000,9, -999.000,9, -999.000,9, -999.000,9,-999.0000,9,  -999.00,9,   -999.0,9,   -999.0,9,   2265.0,2,   1072.3,2,   2363.0,2,  -999.00,9,   20.00,  -999.0,-999.0000,-999.000, -999.00,  -999.0,  1.3793,-999.000
    31DSCG94_2,  P18S,    30,  1,    106,    416,2,19940307,1808,-56.5262,-103.0667, 4527,   3005.2,   1.3839,  34.7219,2,  34.7227,2,    192.5,2,    194.6,2,   106.62,2,    31.28,2,     0.00,2,     2.23,2,    0.073,4,    0.008,2, -999.000,9, -999.000,9, -999.000,9,-999.0000,9,  -999.00,9,   -999.0,9,   -999.0,9,   2259.2,2,   1063.5,2,   2362.0,2,  -999.00,9,   20.00,  -999.0,-999.0000,-999.000, -999.00,  -999.0,  1.1689,-999.000
    31DSCG94_2,  P18S,    30,  1,    105,    420,2,19940307,1808,-56.5262,-103.0667, 4527,   3403.4,   1.1044,  34.7162,2,-999.0000,9,    198.2,2,    200.0,2,  -999.00,9,  -999.00,9,  -999.00,9,  -999.00,9,    0.020,2,    0.013,2, -999.000,9, -999.000,9, -999.000,9,-999.0000,9,  -999.00,9,   -999.0,9,   -999.0,9,   2261.4,2,   1065.0,2,   2366.0,2,  -999.00,9,   20.00,  -999.0,-999.0000,-999.000, -999.00,  -999.0,  0.8576,-999.000
    31DSCG94_2,  P18S,    30,  1,    104,    436,2,19940307,1808,-56.5262,-103.0667, 4527,   3791.5,   0.8154,  34.7097,2,-999.0000,9,    204.0,2,    205.2,2,  -999.00,9,  -999.00,9,  -999.00,9,  -999.00,9,    0.014,2,    0.011,2, -999.000,9, -999.000,9, -999.000,9,-999.0000,9,  -999.00,9,   -999.0,9,   -999.0,9,   2263.8,2,   1061.8,2,   2368.0,2,  -999.00,9,   20.00,  -999.0,-999.0000,-999.000, -999.00,  -999.0,  0.5372,-999.000
    31DSCG94_2,  P18S,    30,  1,    103,    425,2,19940307,1808,-56.5262,-103.0667, 4527,   4189.6,   0.6468,  34.7069,2,-999.0000,9,    210.2,2,    208.9,2,   131.43,2,    32.43,2,     0.00,2,     2.35,2,    0.023,2,    0.016,2, -999.000,9, -999.000,9, -999.000,9,-999.0000,9,  -999.00,9,   -999.0,9,   -999.0,9,   2264.9,2,   1074.8,2,   2369.0,2,  -999.00,9,   20.00,  -999.0,-999.0000,-999.000, -999.00,  -999.0,  0.3320,-999.000