BOTTLE,20220630CCHSIOAMB
EXPOCODE,SECT_ID,STNNBR,CASTNO,SAMPNO,BTLNBR,BTLNBR_FLAG_W,DATE,TIME,LATITUDE,LONGITUDE,DEPTH,CTDPRS,CTDTMP,CTDSAL,CTDSAL_FLAG_W,SALNTY,SALNTY_FLAG_W,CTDOXY,CTDOXY_FLAG_W,OXYGEN,OXYGEN_FLAG_W,SILCAT,SILCAT_FLAG_W,NITRAT,NITRAT_FLAG_W,NITRIT,NITRIT_FLAG_W,PHSPHT,PHSPHT_FLAG_W,CFC-11,CFC-11_FLAG_W,CFC-12,CFC-12_FLAG_W,CFC113,CFC113_FLAG_W,CCL4,CCL4_FLAG_W,TRITUM,TRITUM_FLAG_W,HELIUM,HELIUM_FLAG_W,DELHE3,DELHE3_FLAG_W,DELC14,DELC14_FLAG_W,DELC13,DELC13_FLAG_W,TCARBN,TCARBN_FLAG_W,PCO2,PCO2_FLAG_W,ALKALI,ALKALI_FLAG_W,PH,PH_FLAG_W,PCO2TMP,C14ERR,HELIER,DELHER,PH_TMP,C13ERR,THETA,TRITER
,,,,,,,,,,,,DBAR,ITS-90,PSS-78,,PSS-78,,UMOL/KG,,UMOL/KG,,UMOL/KG,,UMOL/KG,,UMOL/KG,,UMOL/KG,,PMOL/KG,,PMOL/KG,,PMOL/KG,,PMOL/KG,,TU,,NMOL/KG,,PERCNT,,/MILLE,,/MILLE,,UMOL/KG,,UATM,,UMOL/KG,,,,DEG C,/MILLE,NMOL/KG,PERCNT,DEG C,/MILLE,DEG C,TU
    31DSCG94_3,  P18N,   145,  3,    336,   1025,2,19940413,1922, -0.0003,-110.3338, 3785,      9.0,  24.7227,  35.1316,2,  35.1337,2,    219.2,2,    191.0,2,     4.71,2,     6.23,2,     0.31,2,     0.66,2,    1.759,2,    0.984,2, -999.000,5, -999.000,5, -999.000,9,-999.0000,9,  -999.00,9,     54.4,2,      1.1,2,   2047.8,2,    394.9,2,   2305.0,2,     7.98,2,   20.00,     4.5,-999.0000,-999.000,   25.00,  -999.0, 24.7207,-999.000
    31DSCG94_3,  P18N,   145,  3,    335,   1247,2,19940413,1922, -0.0003,-110.3338, 3785,     26.1,  23.9851,  35.1203,2,  35.1279,2,    180.5,2,    183.2,2,     4.94,2,     6.69,2,     0.33,2,     0.68,2,    1.730,2,    0.972,2, -999.000,5, -999.000,5,    0.639,2,   1.7456,2,    -0.30,2,   -999.0,5,      1.1,2,   2048.8,2,    398.1,2,   2303.0,2,     7.97,2,   20.00,  -999.0,-999.0000,-999.000,   25.00,  -999.0, 23.9797,   0.007
    31DSCG94_3,  P18N,   145,  3,    334,   1216,2,19940413,1922, -0.0003,-110.3338, 3785,     52.2,  17.4789,  34.8689,2,  34.8587,2,    123.6,2,    128.7,2,    12.69,2,    13.41,2,     0.28,2,     1.07,2,    1.410,2,    0.751,2, -999.000,9, -999.000,9, -999.000,9,-999.0000,9,  -999.00,9,     63.2,2,      0.7,2,   2103.4,2,    578.2,2,   2290.0,2,     7.84,2,   20.00,     4.3,-999.0000,-999.000,   25.00,  -999.0, 17.4702,-999.000
    31DSCG94_3,  P18N,   145,  3,    333,   1244,2,19940413,1922, -0.0003,-110.3338, 3785,     76.1,  15.8559,  34.9197,2,  34.9114,2,    120.8,2,    126.0,2,    14.44,2,    14.70,2,     0.08,2,     1.13,2,    1.329,2,    0.708,2, -999.000,5, -999.000,5, -999.000,9,   1.7563,2,     5.47,2,   -999.0,9,   -999.0,9,   2119.3,2,    611.3,2,   2297.0,2,     7.81,2,   20.00,  -999.0,-999.0000,-999.000,   25.00,  -999.0, 15.8440,-999.000
    31DSCG94_3,  P18N,   145,  3,    332,   1003,2,19940413,1922, -0.0003,-110.3338, 3785,    101.6,  14.7073,  34.9455,2,  34.9522,2,    123.5,2,    128.3,2,    14.83,2,    16.06,2,     0.03,2,     1.23,2,    1.169,2,    0.631,2, -999.000,9, -999.000,9,    0.746,2,   1.7679,2,     5.17,2,     37.7,2,      0.7,2,   2132.2,2,    650.0,2,   2299.0,2,     7.79,2,   20.00,     6.2,-999.0000,-999.000,   25.00,  -999.0, 14.6921,   0.008
    31DSCG94_3,  P18N,   145,  3,    331,   1211,2,19940413,1922, -0.0003,-110.3338, 3785,    124.1,  14.0040,  34.9249,2,  34.9244,2,    120.1,2,    123.0,2,    16.02,2,    17.80,2,     0.01,2,     1.35,2,    1.038,2,    0.559,2, -999.000,9, -999.000,9, -999.000,9,-999.0000,9,  -999.00,9,   -999.0,9,   -999.0,9,   2142.0,2,    692.6,2,   2313.0,2,     7.77,2,   20.00,  -999.0,-999.0000,-999.000,   25.00,  -999.0, 13.9862,-999.000
    31DSCG94_3,  P18N,   145,  3,    330,   1241,2,19940413,1922, -0.0003,-110.3338, 3785,    148.8,  13.7263,  34.9389,2,  34.9380,2,    114.5,2,    113.8,2,    16.18,2,    18.28,2,     0.01,2,     1.41,2,    0.941,2,    0.508,2, -999.000,9, -999.000,9,    0.597,2,   1.7697,2,     4.83,2,   -999.0,5,      0.5,2,   2151.0,2,    728.0,2,   2299.0,2,     7.75,2,   20.00,  -999.0,-999.0000,-999.000,   25.00,  -999.0, 13.7051,   0.007
    31DSCG94_3,  P18N,   145,  3,    329,   1240,2,19940413,1922, -0.0003,-110.3338, 3785,    171.7,  13.4018,  34.9027,2,  34.9027,2,    108.1,2,    107.2,2,    17.95,2,    19.92,2,     0.00,2,     1.51,2,    0.869,2,    0.470,2, -999.000,5, -999.000,5, -999.000,9,-999.0000,9,  -999.00,9,   -999.0,9,   -999.0,9,   2160.6,2,    772.1,2,   2299.0,2,     7.73,2,   20.00,  -999.0,-999.0000,-999.000,   25.00,  -999.0, 13.3777,-999.000
    31DSCG94_3,  P18N,   145,  3,    328,   1032,3,19940413,1922, -0.0003,-110.3338, 3785,    195.2,  13.1347,  34.8839,2,  34.8829,2,     99.3,2,     92.1,2,    19.59,2,    22.40,2,     0.00,2,     1.63,2,    0.772,2,    0.411,2, -999.000,9, -999.000,9,    0.545,2,   1.7866,2,     5.56,2,     13.9,2,      0.5,2,   2174.0,2,    854.7,2,   2299.0,2,     7.69,2,   20.00,     4.5,-999.0000,-999.000,   25.00,  -999.0, 13.1077,   0.007
    31DSCG94_3,  P18N,   145,  3,    327,   1008,2,19940413,1922, -0.0003,-110.3338, 3785,    224.6,  12.8431,  34.8884,2,  34.8876,2,     81.9,2,     72.4,2,    20.78,2,    25.03,2,     0.00,2,     1.79,2,    0.632,2,    0.339,2, -999.000,9, -999.000,9,    0.484,2,-999.0000,9,  -999.00,9,   -999.0,9,   -999.0,9,   2191.5,2,    962.6,2,   2296.0,2,     7.64,2,   20.00,  -999.0,-999.0000,-999.000,   25.00,  -999.0, 12.8125,   0.006
    31DSCG94_3,  P18N,   145,  3,    326,   1007,3,19940413,1922, -0.0003,-110.3338, 3785,    248.8,  12.7282,  34.8881,2,  34.8871,2,     77.8,2,     52.7,2,    22.44,2,    26.88,2,     0.00,2,     1.95,2,    0.547,2,    0.288,2, -999.000,5, -999.000,5,    0.427,2,   1.7608,2,     5.54,2,   -999.0,9,   -999.0,9,   2205.8,2,   1082.8,2,   2298.0,2,     7.60,2,   20.00,  -999.0,-999.0000,-999.000,   25.00,  -999.0, 12.6945,   0.006
    31DSCG94_3,  P18N,   145,  3,    325,   1256,2,19940413,1922, -0.0003,-110.3338, 3785,    299.8,  12.1576,  34.8588,2,  34.8529,2,     37.2,2,     18.0,2,    26.61,2,    31.84,2,     0.00,2,     2.27,2,    0.315,2,    0.168,2, -999.000,5, -999.000,5,    0.316,2,   1.7616,2,     5.50,2,   -999.0,5,      0.0,2,   2239.7,2,   1389.3,2,   2297.0,2,     7.50,2,   20.00,  -999.0,-999.0000,-999.000,   25.00,  -999.0, 12.1180,   0.005
    31DSCG94_3,  P18N,   145,  3,    323,   1220,2,19940413,1922, -0.0003,-110.3338, 3785,    348.6,  10.7742,  34.7798,2,  34.7773,2,     22.1,2,     24.5,2,    29.57,2,    33.62,2,     0.00,2,     2.38,2,    0.181,2,    0.096,2, -999.000,9, -999.000,9,    0.182,2,   1.8210,2,     5.38,2,   -999.0,9,   -999.0,9,   2249.1,2,   1465.9,2,   2297.0,2,     7.48,2,   20.00,  -999.0,-999.0000,-999.000,   25.00,  -999.0, 10.7316,   0.005
    31DSCG94_3,  P18N,   145,  3,    322,   1245,2,19940413,1922, -0.0003,-110.3338, 3785,    398.5,   9.4750,  34.6987,2,  34.6988,2,     27.0,2,     27.4,2,    34.46,2,    36.10,2,     0.00,2,     2.51,2,    0.084,2,    0.046,2, -999.000,5, -999.000,5,    0.093,2,   1.8152,2,     5.68,2,    -68.3,2,      0.1,2,   2257.6,2,   1557.7,2,   2299.0,2,     7.45,2,   20.00,     4.8,-999.0000,-999.000,   25.00,  -999.0,  9.4300,   0.004
    31DSCG94_3,  P18N,   145,  3,    321,   1206,2,19940413,1922, -0.0003,-110.3338, 3785,    498.9,   8.0571,  34.6259,2,  34.6257,2,     30.7,2,     34.1,2,    42.95,2,    38.35,2,     0.00,2,     2.67,2,    0.024,2,    0.013,2, -999.000,9, -999.000,9,    0.037,2,   1.8317,2,     7.02,2,   -999.0,5,      0.1,2,   2269.9,2,   1629.9,2,   2305.0,2,     7.43,2,   20.00,  -999.0,-999.0000,-999.000,   25.00,  -999.0,  8.0056,   0.004
    31DSCG94_3,  P18N,   145,  3,    320,   1028,2,19940413,1922, -0.0003,-110.3338, 3785,    598.6,   7.2724,  34.5928,2,  34.5916,2,     41.9,2,     45.8,2,    48.67,2,    39.16,2,     0.00,2,     2.72,2,    0.014,2,    0.007,2, -999.000,9, -999.000,9,    0.022,2,   1.8469,2,     8.64,2,   -999.0,9,   -999.0,9,   2271.6,2,   1605.7,2,   2310.0,2,     7.44,2,   20.00,  -999.0,-999.0000,-999.000,   25.00,  -999.0,  7.2138,   0.003
    31DSCG94_3,  P18N,   145,  3,    319,   1248,2,19940413,1922, -0.0003,-110.3338, 3785,    700.4,   6.5028,  34.5677,2,  34.5677,2,     48.0,2,     52.1,2,    56.98,2,    40.27,2,     0.00,2,     2.82,2,    0.006,2,    0.003,2, -999.000,9, -999.000,9,    0.012,2,   1.8647,2,    10.44,2,   -999.0,9,   -999.0,9,   2279.9,2,   1606.5,2,   2322.0,2,     7.44,2,   20.00,  -999.0,-999.0000,-999.000,   25.00,  -999.0,  6.4379,   0.003
    31DSCG94_3,  P18N,   145,  3,    318,   1115,2,19940413,1922, -0.0003,-110.3338, 3785,    800.0,   5.6692,  34.5503,2,  34.5582,3,     64.5,2,     66.5,2,    66.43,2,    39.81,2,     0.00,2,     2.80,2,    0.000,2,    0.003,2, -999.000,5, -999.000,5, -999.000,9,-999.0000,9,  -999.00,9,   -137.0,2,      0.2,2,   2283.3,2,   1549.9,2,   2329.0,2,     7.46,2,   20.00,     4.0,-999.0000,-999.000,   25.00,  -999.0,  5.5996,-999.000
    31DSCG94_3,  P18N,   145,  3,    317,   1119,2,19940413,1922, -0.0003,-110.3338, 3785,    898.5,   5.0784,  34.5466,2,  34.5474,2,     71.1,2,     75.4,2,    75.12,2,    39.99,2,     0.00,2,     2.79,2,    0.006,2,    0.005,2, -999.000,9, -999.000,9,    0.009,2,   1.8959,2,    14.93,2,   -999.0,9,   -999.0,9,   2290.8,2,   1520.5,2,   2350.0,2,     7.47,2,   20.00,  -999.0,-999.0000,-999.000,   25.00,  -999.0,  5.0036,   0.003
    31DSCG94_3,  P18N,   145,  3,    316,   1036,2,19940413,1922, -0.0003,-110.3338, 3785,    998.2,   4.7862,  34.5509,2,  34.5511,2,     75.3,2,     77.3,2,    79.44,2,    40.35,2,     0.00,2,     2.84,2,    0.002,2,    0.002,2, -999.000,5, -999.000,5,    0.004,2,   1.8520,2,    17.13,2,   -999.0,9,   -999.0,9,   2297.8,2,   1516.5,2,   2354.0,2,     7.47,2,   20.00,  -999.0,-999.0000,-999.000,   25.00,  -999.0,  4.7045,   0.003
    31DSCG94_3,  P18N,   145,  3,    315,   1017,2,19940413,1922, -0.0003,-110.3338, 3785,   1200.6,   3.9585,  34.5702,2,  34.5692,2,     80.7,2,     80.9,2,    96.71,2,    41.19,2,     0.00,2,     2.86,2,   -0.003,2,   -0.002,2, -999.000,5, -999.000,5,    0.011,2,   1.8800,2,    20.60,2,   -999.0,9,   -999.0,9,   2320.1,2,   1529.7,2,   2369.0,2,     7.47,2,   20.00,  -999.0,-999.0000,-999.000,   25.00,  -999.0,  3.8661,   0.003
    31DSCG94_3,  P18N,   145,  3,    314,   1016,2,19940413,1922, -0.0003,-110.3338, 3785,   1400.8,   3.3143,  34.5932,2,  34.5941,2,     85.0,2,     84.4,2,   112.90,2,    40.34,2,     0.02,2,     2.86,2, -999.000,9, -999.000,9, -999.000,9, -999.000,9, -999.000,9,   1.8890,2,    23.74,2,   -999.0,9,   -999.0,9,   2335.0,2,   1513.0,2,   2387.0,2,     7.47,2,   20.00,  -999.0,-999.0000,-999.000,   25.00,  -999.0,  3.2112,-999.000
    31DSCG94_3,  P18N,   145,  3,    313,   1209,2,19940413,1922, -0.0003,-110.3338, 3785,   1599.5,   2.8813,  34.6097,2,  34.6093,2,     97.6,2,     92.4,2,   123.03,2,    39.75,2,     0.02,2,     2.81,2,    0.003,2,   -0.002,2, -999.000,5, -999.000,5, -999.000,9,   1.9090,2,    25.68,2,   -999.0,9,   -999.0,9,   2342.6,2,   1470.9,2,   2400.0,2,     7.49,2,   20.00,  -999.0,-999.0000,-999.000,   25.00,  -999.0,  2.7664,-999.000
    31DSCG94_3,  P18N,   145,  3,    312,   1033,2,19940413,1922, -0.0003,-110.3338, 3785,   1801.9,   2.5371,  34.6275,2,  34.6268,2,    106.2,2,     96.6,2,   132.76,2,    39.41,2,     0.03,2,     2.78,2, -999.000,9, -999.000,9, -999.000,9, -999.000,9, -999.000,9,   1.9180,2,    27.64,2,   -999.0,9,   -999.0,9,   2351.8,2,   1440.7,2,   2411.0,2,     7.50,2,   20.00,  -999.0,-999.0000,-999.000,   25.00,  -999.0,  2.4096,-999.000
    31DSCG94_3,  P18N,   145,  3,    311,   1240,2,19940413,1922, -0.0003,-110.3338, 3785,   1999.6,   2.2514,  34.6418,2,  34.6412,2,    112.8,2,    104.9,2,   137.90,2,    39.59,2,     0.02,2,     2.75,2,    0.016,4,   -0.002,2, -999.000,9, -999.000,9, -999.000,9,   1.9150,2,    27.91,2,   -999.0,9,   -999.0,9,   2353.6,2,   1403.2,2,   2416.0,2,     7.51,2,   20.00,  -999.0,-999.0000,-999.000,   25.00,  -999.0,  2.1111,-999.000
    31DSCG94_3,  P18N,   145,  3,    310,   1005,2,19940413,1922, -0.0003,-110.3338, 3785,   2200.5,   2.1172,  34.6488,2,  34.6486,2,    114.9,2,    108.9,2,   139.58,2,    38.93,2,     0.00,2,     2.72,2, -999.000,9, -999.000,9, -999.000,9, -999.000,9, -999.000,9,   1.9220,2,    28.51,2,   -999.0,9,   -999.0,9,   2352.4,2,   1371.7,2,   2418.0,2,     7.52,2,   20.00,  -999.0,-999.0000,-999.000,   25.00,  -999.0,  1.9616,-999.000
    31DSCG94_3,  P18N,   145,  3,    309,   1611,2,19940413,1922, -0.0003,-110.3338, 3785,   2400.4,   1.9752,  34.6560,2,  34.6552,2,    119.3,2,    115.7,2,   142.82,2,    38.06,2,     0.00,2,     2.66,2,   -0.002,2,   -0.002,2, -999.000,5, -999.000,5, -999.000,9,   1.9350,2,    28.50,2,   -999.0,9,   -999.0,9,   2351.9,2,   1336.6,2,   2422.0,2,     7.53,2,   20.00,  -999.0,-999.0000,-999.000,   25.00,  -999.0,  1.8044,-999.000
    31DSCG94_3,  P18N,   145,  3,    308,   1218,2,19940413,1922, -0.0003,-110.3338, 3785,   2600.0,   1.8637,  34.6628,2,  34.6627,2,    123.5,2,    121.3,2,   146.39,2,    37.47,2,     0.00,2,     2.65,2, -999.000,9, -999.000,9, -999.000,9, -999.000,9, -999.000,9,   1.9210,2,    28.58,2,   -999.0,9,   -999.0,9,   2350.5,2,   1299.6,2,   2421.0,2,     7.54,2,   20.00,  -999.0,-999.0000,-999.000,   25.00,  -999.0,  1.6767,-999.000
    31DSCG94_3,  P18N,   145,  3,    307,   1257,2,19940413,1922, -0.0003,-110.3338, 3785,   2798.7,   1.7784,  34.6683,2,  34.6674,2,    128.5,2,    127.8,2,   145.71,2,    37.93,2,     0.00,2,     2.62,2,    0.000,2,   -0.002,2, -999.000,9, -999.000,9, -999.000,9,   1.9320,2,    27.80,2,   -999.0,9,   -999.0,9,   2347.7,2,   1264.3,2,   2433.0,2,     7.55,2,   20.00,  -999.0,-999.0000,-999.000,   25.00,  -999.0,  1.5747,-999.000
    31DSCG94_3,  P18N,   145,  3,    306,   1224,2,19940413,1922, -0.0003,-110.3338, 3785,   2999.8,   1.6980,  34.6735,2,  34.6728,2,    134.7,2,    133.3,2,   145.93,2,    37.61,2,     0.00,2,     2.59,2, -999.000,9, -999.000,9, -999.000,9, -999.000,9, -999.000,9,   1.9250,2,    26.65,2,   -999.0,9,   -999.0,9,   2344.5,2,   1237.9,2,   2432.0,2,     7.56,2,   20.00,  -999.0,-999.0000,-999.000,   25.00,  -999.0,  1.4768,-999.000
    31DSCG94_3,  P18N,   145,  3,    305,   1246,2,19940413,1922, -0.0003,-110.3338, 3785,   3198.1,   1.6188,  34.6768,2,  34.6761,2,    138.7,2,    139.2,2,   146.42,2,    36.99,2,     0.00,2,     2.54,2,    0.000,2,   -0.002,2, -999.000,9, -999.000,9, -999.000,9,   1.9120,2,    22.58,2,   -999.0,9,   -999.0,9,   2340.9,2,   1216.7,2,   2419.0,3,     7.57,2,   20.00,  -999.0,-999.0000,-999.000,   25.00,  -999.0,  1.3801,-999.000
    31DSCG94_3,  P18N,   145,  3,    304,   1217,2,19940413,1922, -0.0003,-110.3338, 3785,   3398.7,   1.5503,  34.6822,2,  34.6819,2,    143.4,2,    144.6,2,   149.14,2,    36.76,2,     0.00,2,     2.50,2, -999.000,9, -999.000,9, -999.000,9, -999.000,9, -999.000,9,-999.0000,9,  -999.00,9,   -999.0,9,   -999.0,9,   2339.2,2,   1171.8,2,   2423.0,2,     7.58,2,   20.00,  -999.0,-999.0000,-999.000,   25.00,  -999.0,  1.2932,-999.000
    31DSCG94_3,  P18N,   145,  3,    302,   1223,2,19940413,1922, -0.0003,-110.3338, 3785,   3598.7,   1.5041,  34.6868,2,  34.6855,2,    147.5,2,    148.5,2,   149.93,2,    37.11,2,     0.01,2,     2.50,2, -999.000,9, -999.000,9, -999.000,9, -999.000,9, -999.000,9,-999.0000,9,  -999.00,9,   -999.0,9,   -999.0,9,   2339.6,2,   1151.0,2,   2431.0,2,     7.59,2,   20.00,  -999.0,-999.0000,-999.000,   25.00,  -999.0,  1.2277,-999.000
    31DSCG94_3,  P18N,   145,  3,    303,   9999,2,19940413,1922, -0.0003,-110.3338, 3785,   3600.0,   1.5053,  34.6867,2,  34.6878,2,    147.3,2,    147.4,2,   150.59,2,    36.96,2,     0.01,2,     2.50,2,    0.010,2,   -0.002,2, -999.000,9, -999.000,9, -999.000,9,   1.8980,2,    19.55,2,   -999.0,9,   -999.0,9,   -999.0,9,   1143.4,2,   2432.0,2,     7.59,2,   20.00,  -999.0,-999.0000,-999.000,   25.00,  -999.0,  1.2287,-999.000
    31DSCG94_3,  P18N,   145,  3,    301,   1041,2,19940413,1922, -0.0003,-110.3338, 3785,   3836.1,   1.4635,  34.6899,2,  34.6897,2,    154.2,2,    156.0,2,   147.22,2,    36.06,2,     0.02,2,     2.44,2,    0.001,2,   -0.002,2, -999.000,9, -999.000,9, -999.000,9,   1.9030,2,    17.83,2,   -999.0,9,   -999.0,9,   2332.2,3,   1115.5,2,   2391.0,2,     7.60,2,   20.00,  -999.0,-999.0000,-999.000,   25.00,  -999.0,  1.1632,-999.000