BOTTLE,20220630CCHSIOAMB
EXPOCODE,SECT_ID,STNNBR,CASTNO,SAMPNO,BTLNBR,BTLNBR_FLAG_W,DATE,TIME,LATITUDE,LONGITUDE,DEPTH,CTDPRS,CTDTMP,CTDSAL,CTDSAL_FLAG_W,SALNTY,SALNTY_FLAG_W,CTDOXY,CTDOXY_FLAG_W,OXYGEN,OXYGEN_FLAG_W,SILCAT,SILCAT_FLAG_W,NITRAT,NITRAT_FLAG_W,NITRIT,NITRIT_FLAG_W,PHSPHT,PHSPHT_FLAG_W,CFC-11,CFC-11_FLAG_W,CFC-12,CFC-12_FLAG_W,CFC113,CFC113_FLAG_W,CCL4,CCL4_FLAG_W,TRITUM,TRITUM_FLAG_W,HELIUM,HELIUM_FLAG_W,DELHE3,DELHE3_FLAG_W,DELC14,DELC14_FLAG_W,DELC13,DELC13_FLAG_W,TCARBN,TCARBN_FLAG_W,PCO2,PCO2_FLAG_W,ALKALI,ALKALI_FLAG_W,PH,PH_FLAG_W,PCO2TMP,C14ERR,HELIER,DELHER,PH_TMP,C13ERR,THETA,TRITER
,,,,,,,,,,,,DBAR,ITS-90,PSS-78,,PSS-78,,UMOL/KG,,UMOL/KG,,UMOL/KG,,UMOL/KG,,UMOL/KG,,UMOL/KG,,PMOL/KG,,PMOL/KG,,PMOL/KG,,PMOL/KG,,TU,,NMOL/KG,,PERCNT,,/MILLE,,/MILLE,,UMOL/KG,,UATM,,UMOL/KG,,,,DEG C,/MILLE,NMOL/KG,PERCNT,DEG C,/MILLE,DEG C,TU
    31DSCG94_2,  P18S,    77,  1,    136,   1025,2,19940320,0653,-31.0000,-103.0000, 3504,     11.0,  23.1361,  35.4761,2,  35.4791,2,    216.0,2,    214.2,2,     1.58,2,     0.01,2,     0.00,2,     0.12,2,    2.016,2,    1.141,2, -999.000,9, -999.000,9, -999.000,9,-999.0000,9,  -999.00,9,    133.5,2,      1.4,2,   2021.0,2,    324.7,2,   2325.0,6,     8.05,2,   20.00,     5.6,-999.0000,-999.000,   25.00,  -999.0, 23.1339,-999.000
    31DSCG94_2,  P18S,    77,  1,    135,   1247,2,19940320,0653,-31.0000,-103.0000, 3504,     26.0,  23.1409,  35.4751,2,  35.4859,2,    220.1,2,    214.6,2,     1.61,2,     0.00,2,     0.00,2,     0.12,2,    2.196,2,    1.236,2, -999.000,9, -999.000,9, -999.000,9,-999.0000,9,  -999.00,9,    135.6,2,      1.4,2,   2021.9,2,    327.0,2,   2328.0,2,     8.05,2,   20.00,     6.0,-999.0000,-999.000,   25.00,  -999.0, 23.1356,-999.000
    31DSCG94_2,  P18S,    77,  1,    134,   1108,3,19940320,0653,-31.0000,-103.0000, 3504,     47.9,  20.7476,  35.3167,2,  35.3121,2,    220.0,2,   -999.0,9,     1.62,2,     0.00,2,     0.00,2,     0.13,2, -999.000,9, -999.000,9, -999.000,9, -999.000,9, -999.000,9,-999.0000,9,  -999.00,9,   -999.0,9,   -999.0,9,   -999.0,9,   -999.0,9,   -999.0,9,  -999.00,9, -999.00,  -999.0,-999.0000,-999.000, -999.00,  -999.0, 20.7385,-999.000
    31DSCG94_2,  P18S,    77,  1,    133,   1244,2,19940320,0653,-31.0000,-103.0000, 3504,     75.4,  19.7565,  35.3463,2,  35.3543,2,    237.2,2,    237.4,2,     1.60,2,     0.00,2,     0.00,2,     0.14,2,    2.441,2,    1.298,2, -999.000,9, -999.000,9, -999.000,9,-999.0000,9,  -999.00,9,    116.0,2,      1.4,2,   2017.8,2,    331.6,2,   2322.0,2,     8.05,2,   20.00,     4.8,-999.0000,-999.000,   25.00,  -999.0, 19.7426,-999.000
    31DSCG94_2,  P18S,    77,  1,    132,   1003,2,19940320,0653,-31.0000,-103.0000, 3504,     95.8,  19.1013,  35.3009,2,  35.2996,2,    235.9,2,    235.9,2,     1.55,2,     0.00,2,     0.00,2,     0.14,2,    2.452,6,    1.315,6, -999.000,9, -999.000,9, -999.000,9,-999.0000,9,  -999.00,9,    133.3,2,      1.4,2,   2020.1,2,    339.1,2,   2308.0,3,     8.04,2,   20.00,     5.4,-999.0000,-999.000,   25.00,  -999.0, 19.0842,-999.000
    31DSCG94_2,  P18S,    77,  1,    131,   1211,2,19940320,0653,-31.0000,-103.0000, 3504,    127.9,  17.9766,  35.0905,2,  35.0975,2,    235.4,2,    236.8,2,     1.46,2,     0.00,2,     0.00,2,     0.13,2,    2.412,2,    1.277,2, -999.000,9, -999.000,9, -999.000,9,-999.0000,9,  -999.00,9,    136.7,2,      1.5,2,   2021.4,2,    349.2,2,   2298.0,3,     8.02,2,   20.00,     3.7,-999.0000,-999.000,   25.00,  -999.0, 17.9547,-999.000
    31DSCG94_2,  P18S,    77,  1,    130,   1241,2,19940320,0653,-31.0000,-103.0000, 3504,    151.6,  17.2458,  34.9748,2,  34.9816,2,    237.4,2,    235.4,2,     1.41,2,     0.00,2,     0.00,2,     0.13,2,    2.637,2,    1.387,2, -999.000,9, -999.000,9, -999.000,9,-999.0000,9,  -999.00,9,    127.5,2,      1.5,2,   2021.1,2,    369.8,2,   2298.0,2,     8.01,2,   20.00,     3.8,-999.0000,-999.000,   25.00,  -999.0, 17.2205,-999.000
    31DSCG94_2,  P18S,    77,  1,    129,   1031,2,19940320,0653,-31.0000,-103.0000, 3504,    202.4,  16.1919,  34.9337,2,  34.9321,2,    227.6,2,    217.6,2,     1.64,2,     1.23,2,     0.14,2,     0.33,2,    2.523,2,    1.316,2, -999.000,9, -999.000,9, -999.000,9,-999.0000,9,  -999.00,9,    122.1,2,      1.3,2,   2049.3,2,    411.0,2,   2300.0,2,     7.96,2,   20.00,     6.4,-999.0000,-999.000,   25.00,  -999.0, 16.1596,-999.000
    31DSCG94_2,  P18S,    77,  1,    128,   1210,2,19940320,0653,-31.0000,-103.0000, 3504,    251.6,  14.2304,  34.7521,2,  34.7512,2,    212.6,2,    208.8,2,     1.96,2,     5.56,2,     0.00,2,     0.61,2,    2.493,2,    1.254,2, -999.000,9, -999.000,9, -999.000,9,-999.0000,9,  -999.00,9,    107.8,2,      1.4,2,   2070.7,2,    492.8,2,   2289.0,2,     7.90,2,   20.00,     5.0,-999.0000,-999.000,   25.00,  -999.0, 14.1936,-999.000
    31DSCG94_2,  P18S,    77,  1,    127,   1008,2,19940320,0653,-31.0000,-103.0000, 3504,    299.6,  12.1968,  34.5739,2,  34.5752,2,    210.4,2,    207.6,2,     2.68,2,     9.94,2,     0.00,2,     0.88,2,    2.355,6,    1.181,6, -999.000,9, -999.000,9, -999.000,9,-999.0000,9,  -999.00,9,    108.2,2,      1.4,2,   2088.6,2,    556.3,2,   2274.0,2,     7.85,2,   20.00,     3.8,-999.0000,-999.000,   25.00,  -999.0, 12.1573,-999.000
    31DSCG94_2,  P18S,    77,  1,    126,   1007,2,19940320,0653,-31.0000,-103.0000, 3504,    349.9,  10.3033,  34.4453,2,  34.4461,2,    212.4,2,    212.1,2,     3.75,2,    14.66,2,     0.00,2,     1.14,2,    2.272,2,    1.111,2, -999.000,9, -999.000,9, -999.000,9,-999.0000,9,  -999.00,9,     75.6,2,      1.4,2,   2105.9,2,    632.0,2,   2275.0,2,     7.80,2,   20.00,     4.6,-999.0000,-999.000,   25.00,  -999.0, 10.2619,-999.000
    31DSCG94_2,  P18S,    77,  1,    125,   1203,2,19940320,0653,-31.0000,-103.0000, 3504,    401.1,   8.4285,  34.3563,2,  34.3564,2,    212.6,2,    208.5,6,     6.43,2,    20.02,2,     0.00,2,     1.47,2,    1.896,2,    0.925,2, -999.000,9, -999.000,9, -999.000,9,-999.0000,9,  -999.00,9,     15.3,2,      1.3,2,   2128.9,2,    749.9,3,   2271.0,2,     7.74,2,   20.00,     5.6,-999.0000,-999.000,   25.00,  -999.0,  8.3865,-999.000
    31DSCG94_2,  P18S,    77,  1,    123,   1101,2,19940320,0653,-31.0000,-103.0000, 3504,    501.2,   6.6843,  34.3271,2,  34.3270,2,    213.7,2,    221.9,2,     9.64,2,    24.04,2,     0.00,2,     1.74,2,    1.607,2,    0.793,2, -999.000,9, -999.000,9, -999.000,9,-999.0000,9,  -999.00,9,     -2.5,2,      1.3,2,   2145.1,2,    808.0,2,   2276.0,2,     7.70,2,   20.00,     4.0,-999.0000,-999.000,   25.00,  -999.0,  6.6380,-999.000
    31DSCG94_2,  P18S,    77,  1,    121,   1206,2,19940320,0653,-31.0000,-103.0000, 3504,    600.3,   5.9444,  34.2977,2,  34.2987,2,    236.8,2,    241.8,2,    10.58,2,    24.28,2,     0.00,2,     1.75,2,    1.387,2,    0.679,2, -999.000,9, -999.000,9, -999.000,9,-999.0000,9,  -999.00,9,     -7.3,2,      1.5,2,   2140.2,2,    778.9,2,   2272.0,2,     7.72,2,   20.00,     4.4,-999.0000,-999.000,   25.00,  -999.0,  5.8920,-999.000
    31DSCG94_2,  P18S,    77,  1,    119,   1248,2,19940320,0653,-31.0000,-103.0000, 3504,    701.4,   5.4953,  34.2750,2,  34.2757,2,    237.8,2,    240.2,2,    12.90,2,    25.53,2,     0.00,2,     1.80,2, -999.000,5, -999.000,5, -999.000,9, -999.000,9, -999.000,9,-999.0000,9,  -999.00,9,    -21.7,2,      1.3,2,   2146.4,2,    804.4,2,   2276.0,2,     7.71,2,   20.00,     3.4,-999.0000,-999.000,   25.00,  -999.0,  5.4360,-999.000
    31DSCG94_2,  P18S,    77,  1,    118,   1207,2,19940320,0653,-31.0000,-103.0000, 3504,    801.7,   4.9987,  34.2649,2,  34.2648,2,    227.3,2,    225.8,2,    18.29,2,    27.83,2,     0.00,2,     1.95,2,    0.540,6,    0.319,6, -999.000,9, -999.000,9, -999.000,9,-999.0000,9,  -999.00,9,    -48.7,2,      1.2,2,   2162.4,2,    872.0,2,   2287.0,2,     7.68,2,   20.00,     3.6,-999.0000,-999.000,   25.00,  -999.0,  4.9334,-999.000
    31DSCG94_2,  P18S,    77,  1,    117,   1119,2,19940320,0653,-31.0000,-103.0000, 3504,    904.1,   4.5567,  34.2842,2,  34.2850,2,    204.3,2,    201.9,2,    27.20,2,    30.75,2,     0.00,2,     2.16,2, -999.000,9, -999.000,9, -999.000,9, -999.000,9, -999.000,9,-999.0000,9,  -999.00,9,    -91.1,2,      1.1,2,   2185.0,2,    987.2,2,   2292.0,2,     7.63,2,   20.00,     4.0,-999.0000,-999.000,   25.00,  -999.0,  4.4854,-999.000
    31DSCG94_2,  P18S,    77,  1,    116,   1036,2,19940320,0653,-31.0000,-103.0000, 3504,    999.4,   4.1195,  34.3276,2,  34.3286,2,    179.6,2,    177.6,2,    37.61,2,    33.81,2,     0.00,2,     2.39,2,    0.051,2,    0.035,2, -999.000,9, -999.000,9, -999.000,9,-999.0000,9,  -999.00,9,   -112.2,2,      0.8,2,   2211.4,2,   1102.3,2,   2302.0,6,     7.59,2,   20.00,     4.2,-999.0000,-999.000,   25.00,  -999.0,  4.0433,-999.000
    31DSCG94_2,  P18S,    77,  1,    115,   1017,2,19940320,0653,-31.0000,-103.0000, 3504,   1095.2,   3.8328,  34.3835,2,  34.3835,2,    154.0,2,    153.5,6,    51.02,2,    35.52,2,     0.00,2,     2.54,2, -999.000,9, -999.000,9, -999.000,9, -999.000,9, -999.000,9,-999.0000,9,  -999.00,9,   -999.0,9,      0.6,2,   2236.7,2,   1228.2,2,   2310.0,2,     7.55,2,   20.00,  -999.0,-999.0000,-999.000,   25.00,  -999.0,  3.7508,-999.000
    31DSCG94_2,  P18S,    77,  1,    114,   1016,2,19940320,0653,-31.0000,-103.0000, 3504,   1197.5,   3.6026,  34.4565,2,  34.4563,2,    134.3,2,    129.5,2,    68.09,2,    37.63,2,     0.00,2,     2.66,2,    0.000,2,   -0.001,2, -999.000,9, -999.000,9, -999.000,9,-999.0000,9,  -999.00,9,   -158.8,2,      0.4,2,   2263.6,2,   1342.7,3,   2328.0,2,     7.52,2,   20.00,     3.9,-999.0000,-999.000,   25.00,  -999.0,  3.5140,-999.000
    31DSCG94_2,  P18S,    77,  1,    113,   1209,2,19940320,0653,-31.0000,-103.0000, 3504,   1297.6,   3.4177,  34.4968,2,  34.4966,2,    125.1,2,    123.9,2,    77.13,2,    37.93,2,     0.00,2,     2.69,2, -999.000,9, -999.000,9, -999.000,9, -999.000,9, -999.000,9,-999.0000,9,  -999.00,9,   -177.5,2,      0.4,3,   2277.9,2,   1353.2,2,   2340.0,2,     7.51,2,   20.00,     6.6,-999.0000,-999.000,   25.00,  -999.0,  3.3224,-999.000
    31DSCG94_2,  P18S,    77,  1,    112,   1033,2,19940320,0653,-31.0000,-103.0000, 3504,   1399.0,   3.1363,  34.5258,2,  34.5262,2,    126.5,2,    126.5,2,    83.82,2,    37.73,2,     0.00,2,     2.71,2,   -0.005,2,    0.000,2, -999.000,9, -999.000,9, -999.000,9,-999.0000,9,  -999.00,9,   -189.8,2,      0.3,2,   2284.4,2,   1347.8,2,   2353.0,2,     7.52,2,   20.00,     4.0,-999.0000,-999.000,   25.00,  -999.0,  3.0355,-999.000
    31DSCG94_2,  P18S,    77,  1,    111,   1263,2,19940320,0653,-31.0000,-103.0000, 3504,   1501.7,   2.8911,  34.5442,2,  34.5445,2,    131.9,2,    136.2,2,    87.54,2,    36.99,2,     0.00,2,     2.65,2, -999.000,9, -999.000,9, -999.000,9, -999.000,9, -999.000,9,-999.0000,9,  -999.00,9,   -185.9,2,      0.3,2,   2281.1,2,   1254.4,3,   2354.0,2,     7.54,2,   20.00,     4.4,-999.0000,-999.000,   25.00,  -999.0,  2.7844,-999.000
    31DSCG94_2,  P18S,    77,  1,    110,   1005,2,19940320,0653,-31.0000,-103.0000, 3504,   1602.0,   2.6695,  34.5670,2,  34.5668,2,    141.4,2,    142.6,2,    93.07,2,    36.29,2,     0.00,2,     2.59,2,   -0.005,2,   -0.002,2, -999.000,9, -999.000,9, -999.000,9,-999.0000,9,  -999.00,9,   -180.1,2,      0.4,2,   2281.8,2,   1290.5,2,   2359.0,2,     7.55,2,   20.00,     4.4,-999.0000,-999.000,   25.00,  -999.0,  2.5571,-999.000
    31DSCG94_2,  P18S,    77,  1,    109,   1611,2,19940320,0653,-31.0000,-103.0000, 3504,   1798.6,   2.3463,  34.6055,2,  34.6074,2,    149.3,2,    151.5,2,   101.59,2,    35.19,2,     0.00,2,     2.52,2, -999.000,9, -999.000,9, -999.000,9, -999.000,9, -999.000,9,-999.0000,9,  -999.00,9,   -192.2,2,      0.3,2,   2284.8,2,   1203.6,2,   2373.0,2,     7.56,2,   20.00,     4.7,-999.0000,-999.000,   25.00,  -999.0,  2.2218,-999.000
    31DSCG94_2,  P18S,    77,  1,    108,   1218,2,19940320,0653,-31.0000,-103.0000, 3504,   2003.4,   2.0989,  34.6408,2,  34.6408,2,    154.9,2,    157.1,2,   108.78,2,    34.22,2,     0.00,2,     2.44,2, -999.000,9, -999.000,9, -999.000,9, -999.000,9, -999.000,9,-999.0000,9,  -999.00,9,   -999.0,5,      0.3,2,   2287.6,2,   1178.8,2,   2375.0,2,     7.57,2,   20.00,  -999.0,-999.0000,-999.000,   25.00,  -999.0,  1.9606,-999.000
    31DSCG94_2,  P18S,    77,  1,    107,   1257,2,19940320,0653,-31.0000,-103.0000, 3504,   2253.5,   1.8980,  34.6637,2,  34.6631,2,    158.5,2,    160.3,2,   115.38,2,    34.48,2,     0.00,2,     2.43,2,   -0.003,2,   -0.003,2, -999.000,9, -999.000,9, -999.000,9,-999.0000,9,  -999.00,9,   -192.6,2,      0.3,2,   2293.7,2,   1153.0,2,   2384.0,2,     7.58,2,   20.00,     3.1,-999.0000,-999.000,   25.00,  -999.0,  1.7415,-999.000
    31DSCG94_2,  P18S,    77,  1,    106,   1224,2,19940320,0653,-31.0000,-103.0000, 3504,   2501.5,   1.8171,  34.6744,2,  34.6751,2,    161.2,2,    162.2,2,   116.95,2,    34.54,2,     0.00,2,     2.43,2, -999.000,9, -999.000,9, -999.000,9, -999.000,9, -999.000,9,-999.0000,9,  -999.00,9,   -201.9,2,      0.3,2,   2296.4,2,   1146.3,2,   2388.0,2,     7.59,2,   20.00,     3.2,-999.0000,-999.000,   25.00,  -999.0,  1.6399,-999.000
    31DSCG94_2,  P18S,    77,  1,    105,   1246,2,19940320,0653,-31.0000,-103.0000, 3504,   2749.6,   1.7792,  34.6807,2,  34.6806,2,    164.0,2,    164.1,2,   118.99,2,    34.28,2,     0.00,2,     2.43,2, -999.000,9, -999.000,9, -999.000,9, -999.000,9, -999.000,9,-999.0000,9,  -999.00,9,   -200.2,2,      0.2,3,   2295.7,2,   1133.8,2,   2386.0,2,     7.59,2,   20.00,     4.4,-999.0000,-999.000,   25.00,  -999.0,  1.5800,-999.000
    31DSCG94_2,  P18S,    77,  1,    104,   1217,2,19940320,0653,-31.0000,-103.0000, 3504,   2999.1,   1.7769,  34.6850,2,-999.0000,9,    165.6,2,    165.0,6,  -999.00,9,  -999.00,9,  -999.00,9,  -999.00,9, -999.000,5, -999.000,5, -999.000,9, -999.000,9, -999.000,9,-999.0000,9,  -999.00,9,   -208.0,2,      0.3,2,   2296.1,2,   1128.8,2,   -999.0,5,  -999.00,9,   20.00,     4.3,-999.0000,-999.000, -999.00,  -999.0,  1.5540,-999.000
    31DSCG94_2,  P18S,    77,  1,    102,   1223,2,19940320,0653,-31.0000,-103.0000, 3504,   3245.7,   1.7866,  34.6870,2,  34.6868,2,    166.7,2,    165.9,2,   121.02,2,    34.17,2,     0.00,2,     2.40,2, -999.000,9, -999.000,9, -999.000,9, -999.000,9, -999.000,9,-999.0000,9,  -999.00,9,   -200.3,2,      0.3,2,   2294.4,2,   1124.2,2,   2392.0,2,     7.60,2,   20.00,     3.2,-999.0000,-999.000,   25.00,  -999.0,  1.5391,-999.000
    31DSCG94_2,  P18S,    77,  1,    103,   9999,3,19940320,0653,-31.0000,-103.0000, 3504,   3248.3,   1.7872,  34.6868,2,-999.0000,5,    166.8,2,   -999.0,9,  -999.00,9,  -999.00,9,  -999.00,9,  -999.00,9,   -0.005,2,    0.000,2, -999.000,9, -999.000,9, -999.000,9,-999.0000,9,  -999.00,9,   -999.0,9,   -999.0,9,   -999.0,9,   -999.0,9,   -999.0,9,  -999.00,9, -999.00,  -999.0,-999.0000,-999.000, -999.00,  -999.0,  1.5395,-999.000
    31DSCG94_2,  P18S,    77,  1,    101,   1041,2,19940320,0653,-31.0000,-103.0000, 3504,   3477.5,   1.7980,  34.6885,2,  34.6880,2,    167.7,2,    166.3,2,   121.34,2,    33.82,2,     0.00,2,     2.38,2, -999.000,9, -999.000,9, -999.000,9, -999.000,9, -999.000,9,-999.0000,9,  -999.00,9,   -215.4,2,      0.3,2,   2295.6,2,   1125.3,2,   2393.0,2,     7.59,2,   20.00,     4.3,-999.0000,-999.000,   25.00,  -999.0,  1.5266,-999.000