BOTTLE,20220630CCHSIOAMB
EXPOCODE,SECT_ID,STNNBR,CASTNO,SAMPNO,BTLNBR,BTLNBR_FLAG_W,DATE,TIME,LATITUDE,LONGITUDE,DEPTH,CTDPRS,CTDTMP,CTDSAL,CTDSAL_FLAG_W,SALNTY,SALNTY_FLAG_W,CTDOXY,CTDOXY_FLAG_W,OXYGEN,OXYGEN_FLAG_W,SILCAT,SILCAT_FLAG_W,NITRAT,NITRAT_FLAG_W,NITRIT,NITRIT_FLAG_W,PHSPHT,PHSPHT_FLAG_W,CFC-11,CFC-11_FLAG_W,CFC-12,CFC-12_FLAG_W,CFC113,CFC113_FLAG_W,CCL4,CCL4_FLAG_W,TRITUM,TRITUM_FLAG_W,HELIUM,HELIUM_FLAG_W,DELHE3,DELHE3_FLAG_W,DELC14,DELC14_FLAG_W,DELC13,DELC13_FLAG_W,TCARBN,TCARBN_FLAG_W,PCO2,PCO2_FLAG_W,ALKALI,ALKALI_FLAG_W,PH,PH_FLAG_W,PCO2TMP,C14ERR,HELIER,DELHER,PH_TMP,C13ERR,THETA,TRITER
,,,,,,,,,,,,DBAR,ITS-90,PSS-78,,PSS-78,,UMOL/KG,,UMOL/KG,,UMOL/KG,,UMOL/KG,,UMOL/KG,,UMOL/KG,,PMOL/KG,,PMOL/KG,,PMOL/KG,,PMOL/KG,,TU,,NMOL/KG,,PERCNT,,/MILLE,,/MILLE,,UMOL/KG,,UATM,,UMOL/KG,,,,DEG C,/MILLE,NMOL/KG,PERCNT,DEG C,/MILLE,DEG C,TU
    31DSCG94_3,  P18N,   155,  1,    136,   1025,2,19940416,0521,  3.5000,-110.3333, 3930,      9.2,  27.6904,  34.8429,2,  34.8452,2,    170.5,2,    202.2,6,     2.88,2,     4.43,2,     0.08,2,     0.53,2,    1.715,2,    0.977,2, -999.000,9, -999.000,9, -999.000,9,-999.0000,9,  -999.00,9,   -999.0,9,   -999.0,9,   2012.3,2,    347.0,2,   2294.0,6,     8.02,2,   20.00,  -999.0,-999.0000,-999.000,   25.00,  -999.0, 27.6882,-999.000
    31DSCG94_3,  P18N,   155,  1,    135,   1247,2,19940416,0521,  3.5000,-110.3333, 3930,     24.0,  27.6627,  34.8644,2,  34.8678,2,    168.9,2,    202.1,2,     3.03,2,     4.51,2,     0.09,2,     0.56,2,    1.719,2,    0.977,2, -999.000,5, -999.000,5, -999.000,9,-999.0000,9,  -999.00,9,   -999.0,9,   -999.0,9,   2014.6,2,    355.9,2,   2291.0,2,     8.01,2,   20.00,  -999.0,-999.0000,-999.000,   25.00,  -999.0, 27.6571,-999.000
    31DSCG94_3,  P18N,   155,  1,    134,   1216,2,19940416,0521,  3.5000,-110.3333, 3930,     49.0,  18.9563,  34.7936,2,  34.8182,2,    117.6,2,    121.5,2,    11.17,2,    14.16,2,     0.40,2,     1.24,2,    1.292,2,    0.685,2, -999.000,9, -999.000,9, -999.000,9,-999.0000,9,  -999.00,9,   -999.0,9,   -999.0,9,   2112.2,2,    607.8,2,   2293.0,2,     7.81,2,   20.00,  -999.0,-999.0000,-999.000,   25.00,  -999.0, 18.9476,-999.000
    31DSCG94_3,  P18N,   155,  1,    133,   1244,2,19940416,0521,  3.5000,-110.3333, 3930,     73.3,  15.2825,  34.9388,2,  34.9374,2,     76.6,2,     74.6,2,    16.63,2,    21.02,2,     0.55,2,     1.64,2,    0.991,2,    0.525,2, -999.000,9, -999.000,9, -999.000,9,-999.0000,9,  -999.00,9,   -999.0,9,   -999.0,9,   2167.2,2,    835.6,2,   2300.0,2,     7.69,2,   20.00,  -999.0,-999.0000,-999.000,   25.00,  -999.0, 15.2713,-999.000
    31DSCG94_3,  P18N,   155,  1,    132,   1003,2,19940416,0521,  3.5000,-110.3333, 3930,     99.1,  14.5763,  34.9515,2,  34.9503,2,     65.9,2,     70.2,2,    17.75,2,    22.83,2,     0.09,2,     1.69,2,    0.901,2,    0.489,2, -999.000,5, -999.000,5, -999.000,9,-999.0000,9,  -999.00,9,   -999.0,9,   -999.0,9,   2176.1,2,    877.5,2,   2297.0,2,     7.67,2,   20.00,  -999.0,-999.0000,-999.000,   25.00,  -999.0, 14.5616,-999.000
    31DSCG94_3,  P18N,   155,  1,    131,   1211,2,19940416,0521,  3.5000,-110.3333, 3930,    124.5,  14.2803,  34.9505,2,  34.9481,2,     64.2,2,     69.9,2,    18.32,2,    23.00,2,     0.00,2,     1.72,2,    0.868,6,    0.456,6, -999.000,9, -999.000,9, -999.000,9,-999.0000,9,  -999.00,9,   -999.0,9,   -999.0,9,   2179.5,2,    892.7,2,   2298.0,2,     7.67,2,   20.00,  -999.0,-999.0000,-999.000,   25.00,  -999.0, 14.2621,-999.000
    31DSCG94_3,  P18N,   155,  1,    130,   1241,2,19940416,0521,  3.5000,-110.3333, 3930,    149.2,  13.8843,  34.9344,2,  34.9334,2,     55.1,2,     60.3,2,    19.39,2,    24.74,2,     0.00,2,     1.81,2,    0.746,2,    0.409,2, -999.000,5, -999.000,5, -999.000,9,-999.0000,9,  -999.00,9,   -999.0,9,   -999.0,9,   2189.3,2,    960.1,2,   2301.0,2,     7.64,2,   20.00,  -999.0,-999.0000,-999.000,   25.00,  -999.0, 13.8629,-999.000
    31DSCG94_3,  P18N,   155,  1,    129,   1240,2,19940416,0521,  3.5000,-110.3333, 3930,    174.2,  13.5877,  34.9297,2,  34.9273,2,     55.0,2,     55.0,2,    20.17,2,    25.85,2,     0.00,2,     1.88,2,    0.656,6,    0.352,6, -999.000,5, -999.000,5, -999.000,9,-999.0000,9,  -999.00,9,   -999.0,9,   -999.0,9,   2196.4,2,   1006.2,2,   2296.0,2,     7.62,2,   20.00,  -999.0,-999.0000,-999.000,   25.00,  -999.0, 13.5631,-999.000
    31DSCG94_3,  P18N,   155,  1,    128,   1032,2,19940416,0521,  3.5000,-110.3333, 3930,    198.6,  13.3001,  34.9155,2,  34.9126,2,     48.1,2,     51.8,2,    21.10,2,    26.76,2,     0.00,2,     1.92,2,    0.591,2,    0.332,2, -999.000,9, -999.000,9, -999.000,9,-999.0000,9,  -999.00,9,   -999.0,9,   -999.0,9,   2200.9,2,   1035.7,2,   2291.0,2,     7.61,2,   20.00,  -999.0,-999.0000,-999.000,   25.00,  -999.0, 13.2724,-999.000
    31DSCG94_3,  P18N,   155,  1,    127,   1008,2,19940416,0521,  3.5000,-110.3333, 3930,    249.3,  12.6628,  34.8722,2,  34.8680,2,     33.6,2,     30.2,2,    24.52,2,    29.55,2,     0.00,2,     2.14,2,    0.413,2,    0.225,2, -999.000,9, -999.000,9, -999.000,9,-999.0000,9,  -999.00,9,   -999.0,9,   -999.0,9,   2223.5,2,   1222.5,2,   2293.0,2,     7.54,2,   20.00,  -999.0,-999.0000,-999.000,   25.00,  -999.0, 12.6290,-999.000
    31DSCG94_3,  P18N,   155,  1,    126,   1007,2,19940416,0521,  3.5000,-110.3333, 3930,    299.8,  11.6381,  34.7952,2,  34.7854,2,     33.8,2,     35.1,2,    28.76,2,    30.03,2,     0.00,2,     2.18,2,    0.324,2,    0.173,2, -999.000,9, -999.000,9, -999.000,9,-999.0000,9,  -999.00,9,   -999.0,9,   -999.0,9,   2232.0,2,   1284.2,2,   2294.0,2,     7.52,2,   20.00,  -999.0,-999.0000,-999.000,   25.00,  -999.0, 11.5997,-999.000
    31DSCG94_3,  P18N,   155,  1,    125,   1256,2,19940416,0521,  3.5000,-110.3333, 3930,    350.7,  10.7214,  34.7308,2,  34.7296,2,     42.4,2,     48.3,2,    31.23,2,    30.13,2,     0.00,2,     2.19,2,    0.281,2,    0.154,2, -999.000,5, -999.000,5, -999.000,9,-999.0000,9,  -999.00,9,   -999.0,9,   -999.0,9,   2231.3,2,   1264.1,2,   2305.0,2,     7.53,2,   20.00,  -999.0,-999.0000,-999.000,   25.00,  -999.0, 10.6787,-999.000
    31DSCG94_3,  P18N,   155,  1,    123,   1220,2,19940416,0521,  3.5000,-110.3333, 3930,    400.3,   9.9594,  34.6986,2,  34.6974,2,     31.9,2,     29.0,6,    35.82,2,    33.65,2,     0.00,2,     2.44,2,    0.135,2,    0.073,2, -999.000,9, -999.000,9, -999.000,9,-999.0000,9,  -999.00,9,   -999.0,9,   -999.0,9,   2255.1,2,   1492.5,2,   2303.0,2,     7.46,2,   20.00,  -999.0,-999.0000,-999.000,   25.00,  -999.0,  9.9128,-999.000
    31DSCG94_3,  P18N,   155,  1,    122,   1245,2,19940416,0521,  3.5000,-110.3333, 3930,    500.3,   8.0408,  34.6250,2,  34.6226,2,     19.8,2,     15.5,2,    49.23,2,    39.11,2,     0.00,2,     2.85,2,    0.019,2,    0.003,2, -999.000,5, -999.000,5, -999.000,9,-999.0000,9,  -999.00,9,   -999.0,9,   -999.0,9,   2287.2,2,   1796.3,2,   2313.0,2,     7.39,2,   20.00,  -999.0,-999.0000,-999.000,   25.00,  -999.0,  7.9893,-999.000
    31DSCG94_3,  P18N,   155,  1,    121,   1206,2,19940416,0521,  3.5000,-110.3333, 3930,    600.9,   7.3408,  34.6053,2,  34.6034,2,     30.2,2,     21.3,2,    54.78,2,    40.68,2,     0.00,2,     2.89,2,    0.009,2,    0.003,2, -999.000,9, -999.000,9, -999.000,9,-999.0000,9,  -999.00,9,   -999.0,9,   -999.0,9,   2291.8,2,   1803.3,2,   2313.0,2,     7.39,2,   20.00,  -999.0,-999.0000,-999.000,   25.00,  -999.0,  7.2817,-999.000
    31DSCG94_3,  P18N,   155,  1,    120,   1028,2,19940416,0521,  3.5000,-110.3333, 3930,    700.4,   6.4103,  34.5682,2,  34.5662,2,     41.7,2,     42.9,2,    60.37,2,    40.69,2,     0.00,2,     2.87,2,    0.012,2,    0.003,2, -999.000,9, -999.000,9, -999.000,9,-999.0000,9,  -999.00,9,   -999.0,9,   -999.0,9,   2289.1,2,   1689.7,2,   -999.0,5,     7.42,2,   20.00,  -999.0,-999.0000,-999.000,   25.00,  -999.0,  6.3458,-999.000
    31DSCG94_3,  P18N,   155,  1,    119,   1248,2,19940416,0521,  3.5000,-110.3333, 3930,    800.6,   5.8334,  34.5614,2,  34.5605,2,     40.6,2,     40.7,2,    69.96,2,    41.80,2,     0.00,2,     2.97,2,    0.002,2,   -0.002,2, -999.000,5, -999.000,5, -999.000,9,-999.0000,9,  -999.00,9,   -999.0,9,   -999.0,9,   2302.1,2,   1751.5,2,   2328.0,2,     7.41,2,   20.00,  -999.0,-999.0000,-999.000,   25.00,  -999.0,  5.7627,-999.000
    31DSCG94_3,  P18N,   155,  1,    118,   1115,2,19940416,0521,  3.5000,-110.3333, 3930,    901.5,   5.2070,  34.5525,2,  34.5514,2,     51.1,2,     54.7,2,    81.09,2,    40.96,2,     0.00,2,     2.95,2, -999.000,9, -999.000,9, -999.000,9, -999.000,9, -999.000,9,-999.0000,9,  -999.00,9,   -999.0,9,   -999.0,9,   2304.1,2,   1660.4,2,   2336.0,2,     7.43,2,   20.00,  -999.0,-999.0000,-999.000,   25.00,  -999.0,  5.1310,-999.000
    31DSCG94_3,  P18N,   155,  1,    117,   1119,2,19940416,0521,  3.5000,-110.3333, 3930,   1001.0,   4.7098,  34.5578,2,  34.5581,2,     58.1,2,     61.6,2,    91.36,2,    41.74,2,     0.00,2,     2.96,2, -999.000,9, -999.000,9, -999.000,9, -999.000,9, -999.000,9,-999.0000,9,  -999.00,9,   -999.0,9,   -999.0,9,   2310.9,2,   1635.2,2,   2349.0,6,     7.44,2,   20.00,  -999.0,-999.0000,-999.000,   25.00,  -999.0,  4.6285,-999.000
    31DSCG94_3,  P18N,   155,  1,    116,   1036,2,19940416,0521,  3.5000,-110.3333, 3930,   1099.2,   4.3002,  34.5661,2,  34.5680,2,     62.4,2,     65.5,2,    98.61,2,    41.64,2,     0.00,2,     2.95,2, -999.000,9, -999.000,9, -999.000,9, -999.000,9, -999.000,9,-999.0000,9,  -999.00,9,   -999.0,9,   -999.0,9,   2320.2,2,   1621.6,2,   2358.0,2,     7.44,2,   20.00,  -999.0,-999.0000,-999.000,   25.00,  -999.0,  4.2135,-999.000
    31DSCG94_3,  P18N,   155,  1,    115,   1017,2,19940416,0521,  3.5000,-110.3333, 3930,   1203.1,   3.8425,  34.5778,2,  34.5771,2,     66.9,2,     70.3,2,   107.55,2,    41.37,2,     0.00,2,     2.96,2, -999.000,9, -999.000,9, -999.000,9, -999.000,9, -999.000,9,-999.0000,9,  -999.00,9,   -999.0,9,   -999.0,9,   2329.4,2,   1608.4,2,   2372.0,2,     7.45,2,   20.00,  -999.0,-999.0000,-999.000,   25.00,  -999.0,  3.7509,-999.000
    31DSCG94_3,  P18N,   155,  1,    114,   1016,3,19940416,0521,  3.5000,-110.3333, 3930,   1299.9,   3.5638,  34.5885,2,  34.5867,2,     69.8,2,     71.7,2,   113.65,2,    41.71,2,     0.00,2,     2.80,3, -999.000,9, -999.000,9, -999.000,9, -999.000,9, -999.000,9,-999.0000,9,  -999.00,9,   -999.0,9,   -999.0,9,   2334.3,2,   1597.8,2,   2383.0,2,     7.45,2,   20.00,  -999.0,-999.0000,-999.000,   25.00,  -999.0,  3.4667,-999.000
    31DSCG94_3,  P18N,   155,  1,    113,   1209,2,19940416,0521,  3.5000,-110.3333, 3930,   1398.6,   3.3277,  34.5982,2,  34.5975,2,     73.0,2,     74.4,2,   119.32,2,    41.56,2,     0.00,2,     2.94,2, -999.000,9, -999.000,9, -999.000,9, -999.000,9, -999.000,9,-999.0000,9,  -999.00,9,   -999.0,9,   -999.0,9,   2342.0,2,   -999.0,9,   2385.0,2,  -999.00,9, -999.00,  -999.0,-999.0000,-999.000, -999.00,  -999.0,  3.2247,-999.000
    31DSCG94_3,  P18N,   155,  1,    112,   1033,2,19940416,0521,  3.5000,-110.3333, 3930,   1599.6,   2.8673,  34.6158,2,  34.6149,2,     82.3,2,     82.3,2,   133.36,2,    40.02,2,     0.00,2,     2.91,2, -999.000,9, -999.000,9, -999.000,9, -999.000,9, -999.000,9,-999.0000,9,  -999.00,9,   -999.0,9,   -999.0,9,   2348.7,2,   1534.1,2,   2395.0,2,     7.47,2,   20.00,  -999.0,-999.0000,-999.000,   25.00,  -999.0,  2.7526,-999.000
    31DSCG94_3,  P18N,   155,  1,    111,   1240,2,19940416,0521,  3.5000,-110.3333, 3930,   1801.5,   2.5442,  34.6292,2,  34.6286,2,     94.8,2,     92.7,6,   143.53,2,    39.57,2,     0.00,2,     2.83,2, -999.000,9, -999.000,9, -999.000,9, -999.000,9, -999.000,9,-999.0000,9,  -999.00,9,   -999.0,9,   -999.0,9,   2351.1,2,   1474.5,2,   2403.0,2,     7.49,2,   20.00,  -999.0,-999.0000,-999.000,   25.00,  -999.0,  2.4166,-999.000
    31DSCG94_3,  P18N,   155,  1,    110,   1005,2,19940416,0521,  3.5000,-110.3333, 3930,   1999.3,   2.3416,  34.6380,2,  34.6373,2,    103.3,2,    100.5,2,   145.54,2,    39.28,2,     0.00,2,     2.76,2, -999.000,9, -999.000,9, -999.000,9, -999.000,9, -999.000,9,-999.0000,9,  -999.00,9,   -999.0,9,   -999.0,9,   2349.8,2,   1420.9,2,   2412.0,2,     7.50,2,   20.00,  -999.0,-999.0000,-999.000,   25.00,  -999.0,  2.2000,-999.000
    31DSCG94_3,  P18N,   155,  1,    109,   1611,2,19940416,0521,  3.5000,-110.3333, 3930,   2246.3,   2.1173,  34.6501,2,  34.6493,2,    109.7,2,    108.9,2,   149.14,2,    38.60,2,     0.00,2,     2.72,2, -999.000,9, -999.000,9, -999.000,9, -999.000,9, -999.000,9,-999.0000,9,  -999.00,9,   -999.0,9,   -999.0,9,   2350.9,2,   1376.7,2,   2424.0,2,     7.52,2,   20.00,  -999.0,-999.0000,-999.000,   25.00,  -999.0,  1.9577,-999.000
    31DSCG94_3,  P18N,   155,  1,    108,   1218,2,19940416,0521,  3.5000,-110.3333, 3930,   2498.0,   1.8778,  34.6634,2,  34.6634,2,    117.1,2,    116.3,2,   154.87,2,    38.23,2,     0.00,2,     2.67,2, -999.000,9, -999.000,9, -999.000,9, -999.000,9, -999.000,9,-999.0000,9,  -999.00,9,   -999.0,9,   -999.0,9,   2352.7,2,   1325.5,2,   2422.0,2,     7.53,2,   20.00,  -999.0,-999.0000,-999.000,   25.00,  -999.0,  1.6999,-999.000
    31DSCG94_3,  P18N,   155,  1,    107,   1257,2,19940416,0521,  3.5000,-110.3333, 3930,   2749.4,   1.8214,  34.6683,2,  34.6679,2,    121.8,2,    117.6,2,   155.46,2,    38.40,2,     0.00,2,     2.66,2, -999.000,9, -999.000,9, -999.000,9, -999.000,9, -999.000,9,-999.0000,9,  -999.00,9,   -999.0,9,   -999.0,9,   2354.7,2,   1320.9,2,   2431.0,2,     7.54,2,   20.00,  -999.0,-999.0000,-999.000,   25.00,  -999.0,  1.6214,-999.000
    31DSCG94_3,  P18N,   155,  1,    106,   1224,2,19940416,0521,  3.5000,-110.3333, 3930,   2998.3,   1.7519,  34.6722,2,  34.6716,2,    124.4,2,   -999.0,9,   152.97,2,    38.36,2,     0.00,2,     2.62,2, -999.000,9, -999.000,9, -999.000,9, -999.000,9, -999.000,9,-999.0000,9,  -999.00,9,   -999.0,9,   -999.0,9,   2353.0,2,   1286.7,2,   2431.0,2,     7.55,2,   20.00,  -999.0,-999.0000,-999.000,   25.00,  -999.0,  1.5297,-999.000
    31DSCG94_3,  P18N,   155,  1,    105,   1246,2,19940416,0521,  3.5000,-110.3333, 3930,   3247.5,   1.6010,  34.6798,2,  34.6784,2,    133.7,2,    134.7,2,   150.71,2,    37.66,2,     0.00,2,     2.58,2,    0.003,2,    0.003,2, -999.000,9, -999.000,9, -999.000,9,-999.0000,9,  -999.00,9,   -999.0,9,   -999.0,9,   2345.6,2,   1226.5,2,   2429.0,2,     7.57,2,   20.00,  -999.0,-999.0000,-999.000,   25.00,  -999.0,  1.3578,-999.000
    31DSCG94_3,  P18N,   155,  1,    104,   1217,2,19940416,0521,  3.5000,-110.3333, 3930,   3498.2,   1.4768,  34.6863,2,  34.6858,2,    144.1,2,    145.0,2,   150.81,2,    36.88,2,     0.00,2,     2.52,2, -999.000,9, -999.000,9, -999.000,9, -999.000,9, -999.000,9,-999.0000,9,  -999.00,9,   -999.0,9,   -999.0,9,   2339.1,2,   1168.9,2,   2433.0,2,     7.59,2,   20.00,  -999.0,-999.0000,-999.000,   25.00,  -999.0,  1.2114,-999.000
    31DSCG94_3,  P18N,   155,  1,    102,   1223,3,19940416,0521,  3.5000,-110.3333, 3930,   3748.2,   1.4629,  34.6888,2,  34.6875,2,    150.0,2,    148.8,2,   156.22,2,    36.23,2,     0.00,2,     2.48,2, -999.000,9, -999.000,9, -999.000,9, -999.000,9, -999.000,9,-999.0000,9,  -999.00,9,   -999.0,9,   -999.0,9,   2337.5,2,   1144.4,2,   2436.0,2,  -999.00,9,   20.00,  -999.0,-999.0000,-999.000, -999.00,  -999.0,  1.1719,-999.000
    31DSCG94_3,  P18N,   155,  1,    103,   9999,2,19940416,0521,  3.5000,-110.3333, 3930,   3748.5,   1.4630,  34.6886,2,  34.6896,2,    150.0,2,    148.4,2,   154.95,2,    35.97,2,     0.00,2,     2.50,2, -999.000,9, -999.000,9, -999.000,9, -999.000,9, -999.000,9,-999.0000,9,  -999.00,9,   -999.0,9,   -999.0,9,   2337.3,2,   1145.0,2,   2434.0,2,     7.59,2,   20.00,  -999.0,-999.0000,-999.000,   25.00,  -999.0,  1.1720,-999.000
    31DSCG94_3,  P18N,   155,  1,    101,   1041,2,19940416,0521,  3.5000,-110.3333, 3930,   3973.0,   1.4868,  34.6884,2,  34.6886,2,    150.9,2,    144.9,3,   156.60,2,    36.51,2,     0.00,2,     2.50,2, -999.000,9, -999.000,9, -999.000,9, -999.000,9, -999.000,9,-999.0000,9,  -999.00,9,   -999.0,9,   -999.0,9,   2337.6,2,   1137.8,2,   2436.0,2,     7.59,2,   20.00,  -999.0,-999.0000,-999.000,   25.00,  -999.0,  1.1712,-999.000