BOTTLE,20220630CCHSIOAMB
EXPOCODE,SECT_ID,STNNBR,CASTNO,SAMPNO,BTLNBR,BTLNBR_FLAG_W,DATE,TIME,LATITUDE,LONGITUDE,DEPTH,CTDPRS,CTDTMP,CTDSAL,CTDSAL_FLAG_W,SALNTY,SALNTY_FLAG_W,CTDOXY,CTDOXY_FLAG_W,OXYGEN,OXYGEN_FLAG_W,SILCAT,SILCAT_FLAG_W,NITRAT,NITRAT_FLAG_W,NITRIT,NITRIT_FLAG_W,PHSPHT,PHSPHT_FLAG_W,CFC-11,CFC-11_FLAG_W,CFC-12,CFC-12_FLAG_W,CFC113,CFC113_FLAG_W,CCL4,CCL4_FLAG_W,TRITUM,TRITUM_FLAG_W,HELIUM,HELIUM_FLAG_W,DELHE3,DELHE3_FLAG_W,DELC14,DELC14_FLAG_W,DELC13,DELC13_FLAG_W,TCARBN,TCARBN_FLAG_W,PCO2,PCO2_FLAG_W,ALKALI,ALKALI_FLAG_W,PH,PH_FLAG_W,PCO2TMP,C14ERR,HELIER,DELHER,PH_TMP,C13ERR,THETA,TRITER
,,,,,,,,,,,,DBAR,ITS-90,PSS-78,,PSS-78,,UMOL/KG,,UMOL/KG,,UMOL/KG,,UMOL/KG,,UMOL/KG,,UMOL/KG,,PMOL/KG,,PMOL/KG,,PMOL/KG,,PMOL/KG,,TU,,NMOL/KG,,PERCNT,,/MILLE,,/MILLE,,UMOL/KG,,UATM,,UMOL/KG,,,,DEG C,/MILLE,NMOL/KG,PERCNT,DEG C,/MILLE,DEG C,TU
    31DSCG94_2,  P18S,    49,  1,    124,    435,2,19940313,0441,-45.0017,-102.9983, 3757,     10.3,  12.3236,  34.1196,2,  34.1191,2,    271.6,2,   -999.0,9,     2.09,2,    12.45,2,     0.21,2,     1.06,2,    3.436,2,    1.777,2, -999.000,5, -999.000,5, -999.000,9,-999.0000,9,  -999.00,9,   -999.0,9,   -999.0,9,   2064.1,2,   -999.0,9,   2270.0,2,     7.88,2, -999.00,  -999.0,-999.0000,-999.000,   25.00,  -999.0, 12.3223,-999.000
    31DSCG94_2,  P18S,    49,  1,    123,    421,4,19940313,0441,-45.0017,-102.9983, 3757,     24.7,  12.3231,  34.1193,2,-999.0000,9,    272.7,2,   -999.0,9,  -999.00,9,  -999.00,9,  -999.00,9,  -999.00,9, -999.000,5, -999.000,5, -999.000,9, -999.000,9, -999.000,9,-999.0000,9,  -999.00,9,   -999.0,9,   -999.0,9,   -999.0,9,   -999.0,9,   -999.0,9,  -999.00,9, -999.00,  -999.0,-999.0000,-999.000, -999.00,  -999.0, 12.3199,-999.000
    31DSCG94_2,  P18S,    49,  1,    122,    418,2,19940313,0441,-45.0017,-102.9983, 3757,     51.3,  12.3226,  34.1197,2,  34.1194,2,    272.3,2,    264.4,2,     1.99,2,    12.38,2,     0.22,2,     1.00,2,    3.454,2,    1.786,2, -999.000,5, -999.000,5, -999.000,9,-999.0000,9,  -999.00,9,   -999.0,9,   -999.0,9,   2063.1,2,   -999.0,9,   2265.0,2,     7.88,2, -999.00,  -999.0,-999.0000,-999.000,   25.00,  -999.0, 12.3159,-999.000
    31DSCG94_2,  P18S,    49,  1,    121,    413,2,19940313,0441,-45.0017,-102.9983, 3757,    102.0,   8.4157,  34.1493,2,  34.1454,2,    284.5,2,    283.0,2,     2.34,2,    13.86,2,     0.20,2,     1.11,2,    4.145,2,    2.055,2, -999.000,5, -999.000,5, -999.000,9,-999.0000,9,  -999.00,9,   -999.0,9,   -999.0,9,   2083.1,2,   -999.0,9,   2262.0,2,     7.84,2, -999.00,  -999.0,-999.0000,-999.000,   25.00,  -999.0,  8.4052,-999.000
    31DSCG94_2,  P18S,    49,  1,    120,    405,2,19940313,0441,-45.0017,-102.9983, 3757,    202.6,   6.8439,  34.2750,2,  34.2747,2,    277.9,2,    271.2,2,     4.80,2,    18.75,2,     0.01,2,     1.37,2,    4.091,2,    1.979,2, -999.000,5, -999.000,5, -999.000,9,-999.0000,9,  -999.00,9,   -999.0,9,   -999.0,9,   2114.6,2,   -999.0,9,   2270.0,2,     7.78,2, -999.00,  -999.0,-999.0000,-999.000,   25.00,  -999.0,  6.8253,-999.000
    31DSCG94_2,  P18S,    49,  1,    119,    417,2,19940313,0441,-45.0017,-102.9983, 3757,    302.3,   6.5712,  34.3176,2,  34.3172,2,    271.7,2,    266.0,2,     6.71,2,    20.56,2,     0.01,2,     1.48,2,    3.666,2,    1.789,2, -999.000,9, -999.000,9, -999.000,9,-999.0000,9,  -999.00,9,   -999.0,9,   -999.0,9,   2126.1,2,   -999.0,9,   2276.0,2,     7.76,2, -999.00,  -999.0,-999.0000,-999.000,   25.00,  -999.0,  6.5440,-999.000
    31DSCG94_2,  P18S,    49,  1,    118,    429,2,19940313,0441,-45.0017,-102.9983, 3757,    397.4,   6.3159,  34.3070,2,  34.3067,2,    268.5,2,    265.7,2,     7.64,2,    21.35,2,     0.00,2,     1.51,2,    3.450,2,    1.659,2, -999.000,5, -999.000,5, -999.000,9,-999.0000,9,  -999.00,9,   -999.0,9,   -999.0,9,   2128.6,2,   -999.0,9,   2277.0,2,     7.76,2, -999.00,  -999.0,-999.0000,-999.000,   25.00,  -999.0,  6.2806,-999.000
    31DSCG94_2,  P18S,    49,  1,    117,    427,2,19940313,0441,-45.0017,-102.9983, 3757,    500.6,   6.0335,  34.2959,2,  34.2960,2,    265.9,2,    266.8,2,     8.64,2,    22.03,2,     0.00,2,     1.51,2, -999.000,5, -999.000,5, -999.000,5, -999.000,5, -999.000,9,-999.0000,9,  -999.00,9,   -999.0,9,   -999.0,9,   2129.2,2,   -999.0,9,   2275.0,2,     7.75,2, -999.00,  -999.0,-999.0000,-999.000,   25.00,  -999.0,  5.9897,-999.000
    31DSCG94_2,  P18S,    49,  1,    116,    410,2,19940313,0441,-45.0017,-102.9983, 3757,    596.7,   5.7807,  34.2813,2,  34.2821,2,    264.1,2,    265.2,2,     9.60,2,    22.83,2,     0.00,2,     1.61,2,    3.066,2,    1.437,2, -999.000,5, -999.000,5, -999.000,9,-999.0000,9,  -999.00,9,   -999.0,9,   -999.0,9,   2130.8,2,   -999.0,9,   2280.0,2,     7.75,2, -999.00,  -999.0,-999.0000,-999.000,   25.00,  -999.0,  5.7294,-999.000
    31DSCG94_2,  P18S,    49,  1,    115,    422,2,19940313,0441,-45.0017,-102.9983, 3757,    702.6,   5.4652,  34.2677,2,  34.2678,2,    256.0,2,    256.8,2,    11.25,2,    24.77,2,     0.00,2,     1.71,2,    2.519,2,    1.204,2, -999.000,5, -999.000,5, -999.000,9,-999.0000,9,  -999.00,9,   -999.0,9,   -999.0,9,   2139.8,2,   -999.0,9,   2281.0,2,     7.73,2, -999.00,  -999.0,-999.0000,-999.000,   25.00,  -999.0,  5.4059,-999.000
    31DSCG94_2,  P18S,    49,  1,    114,    407,2,19940313,0441,-45.0017,-102.9983, 3757,    804.5,   5.0759,  34.2658,2,  34.2646,2,    241.0,2,    242.1,2,    15.64,2,    26.71,2,     0.00,2,     1.84,2,    2.104,2,    1.012,2, -999.000,5, -999.000,5, -999.000,9,-999.0000,9,  -999.00,9,   -999.0,9,   -999.0,9,   2153.5,2,   -999.0,9,   2285.0,2,     7.70,2, -999.00,  -999.0,-999.0000,-999.000,   25.00,  -999.0,  5.0098,-999.000
    31DSCG94_2,  P18S,    49,  1,    113,    419,2,19940313,0441,-45.0017,-102.9983, 3757,    901.2,   4.6129,  34.2779,2,  34.2768,2,    226.1,2,    224.1,2,    23.03,2,    28.88,2,     0.00,2,     1.96,2,    1.385,2,    0.670,2, -999.000,5, -999.000,5, -999.000,9,-999.0000,9,  -999.00,9,   -999.0,9,   -999.0,9,   2171.8,2,   -999.0,9,   2291.0,2,     7.67,2, -999.00,  -999.0,-999.0000,-999.000,   25.00,  -999.0,  4.5415,-999.000
    31DSCG94_2,  P18S,    49,  1,    112,    426,2,19940313,0441,-45.0017,-102.9983, 3757,    983.1,   4.2572,  34.2948,2,  34.2942,2,    213.1,2,    210.1,2,    28.69,2,    30.90,2,     0.00,2,     2.12,2,    0.696,2,    0.351,2, -999.000,5, -999.000,5, -999.000,9,-999.0000,9,  -999.00,9,   -999.0,9,   -999.0,9,   2185.0,2,   -999.0,9,   2300.0,2,     7.64,2, -999.00,  -999.0,-999.0000,-999.000,   25.00,  -999.0,  4.1813,-999.000
    31DSCG94_2,  P18S,    49,  1,    111,    424,2,19940313,0441,-45.0017,-102.9983, 3757,   1104.2,   3.7031,  34.3262,2,  34.3260,2,    203.6,2,    199.5,2,    38.54,2,    32.51,2,     0.00,2,     2.26,2,    0.541,2,    0.271,2, -999.000,5, -999.000,5, -999.000,9,-999.0000,9,  -999.00,9,   -999.0,9,   -999.0,9,   2203.8,2,   -999.0,9,   2302.0,2,     7.61,2, -999.00,  -999.0,-999.0000,-999.000,   25.00,  -999.0,  3.6215,-999.000
    31DSCG94_2,  P18S,    49,  1,    110,    409,2,19940313,0441,-45.0017,-102.9983, 3757,   1199.7,   3.4531,  34.3681,2,  34.3683,2,    191.2,2,    185.6,2,    47.05,2,    34.79,2,     0.00,2,     2.34,2,    0.265,2,    0.136,2, -999.000,5, -999.000,5, -999.000,9,-999.0000,9,  -999.00,9,   -999.0,9,   -999.0,9,   2218.8,2,   -999.0,9,   2310.0,2,     7.59,2, -999.00,  -999.0,-999.0000,-999.000,   25.00,  -999.0,  3.3658,-999.000
    31DSCG94_2,  P18S,    49,  1,    109,    423,2,19940313,0441,-45.0017,-102.9983, 3757,   1400.8,   2.9861,  34.4623,2,  34.4623,2,    170.1,2,    162.4,2,    65.31,2,    33.13,2,     0.00,2,     2.43,2,    0.086,4,    0.051,2, -999.000,9, -999.000,9, -999.000,9,-999.0000,9,  -999.00,9,   -999.0,9,   -999.0,9,   2248.2,2,   -999.0,9,   2333.0,2,     7.56,2, -999.00,  -999.0,-999.0000,-999.000,   25.00,  -999.0,  2.8868,-999.000
    31DSCG94_2,  P18S,    49,  1,    108,    414,4,19940313,0441,-45.0017,-102.9983, 3757,   1699.6,   2.5734,  34.5639,2,-999.0000,9,    163.8,2,   -999.0,9,  -999.00,9,  -999.00,9,  -999.00,9,  -999.00,9, -999.000,9, -999.000,9, -999.000,9, -999.000,9, -999.000,9,-999.0000,9,  -999.00,9,   -999.0,9,   -999.0,9,   -999.0,9,   -999.0,9,   -999.0,9,  -999.00,9, -999.00,  -999.0,-999.0000,-999.000, -999.00,  -999.0,  2.4541,-999.000
    31DSCG94_2,  P18S,    49,  1,    107,    437,2,19940313,0441,-45.0017,-102.9983, 3757,   2002.6,   2.2768,  34.6414,2,  34.1857,4,    169.0,2,   -999.0,9,     7.39,4,    16.39,4,     0.13,3,     1.21,4,    3.259,4,    1.681,4, -999.000,5, -999.000,5, -999.000,9,-999.0000,9,  -999.00,9,   -999.0,9,   -999.0,9,   2088.4,3,   -999.0,9,   -999.0,5,  -999.00,5, -999.00,  -999.0,-999.0000,-999.000, -999.00,  -999.0,  2.1358,-999.000
    31DSCG94_2,  P18S,    49,  1,    106,    416,2,19940313,0441,-45.0017,-102.9983, 3757,   2301.5,   2.0467,  34.6826,2,  34.6822,2,    174.2,2,    168.4,2,    98.22,2,    33.90,2,     0.00,2,     2.35,2,    0.003,2,    0.006,2, -999.000,5, -999.000,5, -999.000,9,-999.0000,9,  -999.00,9,   -999.0,9,   -999.0,9,   2272.8,2,   -999.0,9,   2369.0,2,     7.58,2, -999.00,  -999.0,-999.0000,-999.000,   25.00,  -999.0,  1.8833,-999.000
    31DSCG94_2,  P18S,    49,  1,    105,    420,2,19940313,0441,-45.0017,-102.9983, 3757,   2602.1,   1.8296,  34.6976,2,  34.6975,2,    178.3,2,    172.5,2,   108.00,2,    33.62,2,     0.00,2,     2.27,2,    0.002,2,    0.004,2, -999.000,5, -999.000,5, -999.000,9,-999.0000,9,  -999.00,9,   -999.0,9,   -999.0,9,   2278.6,2,   -999.0,9,   2375.0,2,     7.59,2, -999.00,  -999.0,-999.0000,-999.000,   25.00,  -999.0,  1.6430,-999.000
    31DSCG94_2,  P18S,    49,  1,    104,    436,4,19940313,0441,-45.0017,-102.9983, 3757,   2898.8,   1.6731,  34.7037,2,-999.0000,9,    183.3,2,   -999.0,9,  -999.00,9,  -999.00,9,  -999.00,9,  -999.00,9, -999.000,5, -999.000,5, -999.000,9, -999.000,9, -999.000,9,-999.0000,9,  -999.00,9,   -999.0,9,   -999.0,9,   -999.0,9,   -999.0,9,   -999.0,9,  -999.00,9, -999.00,  -999.0,-999.0000,-999.000, -999.00,  -999.0,  1.4620,-999.000
    31DSCG94_2,  P18S,    49,  1,    103,    425,2,19940313,0441,-45.0017,-102.9983, 3757,   3197.3,   1.5574,  34.7076,2,  34.7046,2,    188.5,2,    181.6,2,   113.22,2,    33.60,2,     0.00,2,     2.31,2,    0.050,4,    0.153,4, -999.000,5, -999.000,5, -999.000,9,-999.0000,9,  -999.00,9,   -999.0,9,   -999.0,9,   2279.1,2,   -999.0,9,   2381.0,2,     7.60,2, -999.00,  -999.0,-999.0000,-999.000,   25.00,  -999.0,  1.3200,-999.000
    31DSCG94_2,  P18S,    49,  1,    102,    433,2,19940313,0441,-45.0017,-102.9983, 3757,   3499.9,   1.3046,  34.7067,2,  34.7077,2,    195.3,2,    187.4,2,   119.91,2,    33.52,2,     0.00,2,     2.33,2,   -0.003,2,    0.001,2, -999.000,5, -999.000,5, -999.000,9,-999.0000,9,  -999.00,9,   -999.0,9,   -999.0,9,   2277.6,2,   -999.0,9,   2383.0,2,     7.61,2, -999.00,  -999.0,-999.0000,-999.000,   25.00,  -999.0,  1.0432,-999.000
    31DSCG94_2,  P18S,    49,  1,    101,    403,2,19940313,0441,-45.0017,-102.9983, 3757,   3802.3,   1.1685,  34.7078,2,-999.0000,5,    201.7,2,    192.3,2,   126.55,2,    34.13,2,     0.00,2,     2.40,2,    0.006,2,    0.001,2, -999.000,5, -999.000,5, -999.000,9,-999.0000,9,  -999.00,9,   -999.0,9,   -999.0,9,   2277.0,2,   -999.0,9,   2385.0,2,  -999.00,9, -999.00,  -999.0,-999.0000,-999.000, -999.00,  -999.0,  0.8796,-999.000