BOTTLE,20220630CCHSIOAMB
EXPOCODE,SECT_ID,STNNBR,CASTNO,SAMPNO,BTLNBR,BTLNBR_FLAG_W,DATE,TIME,LATITUDE,LONGITUDE,DEPTH,CTDPRS,CTDTMP,CTDSAL,CTDSAL_FLAG_W,SALNTY,SALNTY_FLAG_W,CTDOXY,CTDOXY_FLAG_W,OXYGEN,OXYGEN_FLAG_W,SILCAT,SILCAT_FLAG_W,NITRAT,NITRAT_FLAG_W,NITRIT,NITRIT_FLAG_W,PHSPHT,PHSPHT_FLAG_W,CFC-11,CFC-11_FLAG_W,CFC-12,CFC-12_FLAG_W,CFC113,CFC113_FLAG_W,CCL4,CCL4_FLAG_W,TRITUM,TRITUM_FLAG_W,HELIUM,HELIUM_FLAG_W,DELHE3,DELHE3_FLAG_W,DELC14,DELC14_FLAG_W,DELC13,DELC13_FLAG_W,TCARBN,TCARBN_FLAG_W,PCO2,PCO2_FLAG_W,ALKALI,ALKALI_FLAG_W,PH,PH_FLAG_W,PCO2TMP,C14ERR,HELIER,DELHER,PH_TMP,C13ERR,THETA,TRITER
,,,,,,,,,,,,DBAR,ITS-90,PSS-78,,PSS-78,,UMOL/KG,,UMOL/KG,,UMOL/KG,,UMOL/KG,,UMOL/KG,,UMOL/KG,,PMOL/KG,,PMOL/KG,,PMOL/KG,,PMOL/KG,,TU,,NMOL/KG,,PERCNT,,/MILLE,,/MILLE,,UMOL/KG,,UATM,,UMOL/KG,,,,DEG C,/MILLE,NMOL/KG,PERCNT,DEG C,/MILLE,DEG C,TU
    31DSCG94_2,  P18S,    31,  1,    124,    435,2,19940308,0124,-55.8367,-102.9983, 4687,     10.5,   6.0451,  34.0520,2,-999.0000,9,    292.0,2,    297.0,2,  -999.00,9,  -999.00,9,  -999.00,9,  -999.00,9,    4.654,2,    2.437,2, -999.000,9, -999.000,9, -999.000,9,-999.0000,9,  -999.00,9,   -999.0,9,      1.6,2,   -999.0,9,   -999.0,9,   2277.0,2,  -999.00,9, -999.00,  -999.0,-999.0000,-999.000, -999.00,  -999.0,  6.0443,-999.000
    31DSCG94_2,  P18S,    31,  1,    123,    421,2,19940308,0124,-55.8367,-102.9983, 4687,     21.5,   6.0457,  34.0519,2,  34.0538,2,    302.7,2,    297.4,2,     2.09,2,    18.28,2,     0.21,2,     1.34,2, -999.000,9, -999.000,9, -999.000,9, -999.000,9, -999.000,9,-999.0000,9,  -999.00,9,   -999.0,9,   -999.0,9,   2104.3,2,   -999.0,9,   2268.0,2,     7.81,2, -999.00,  -999.0,-999.0000,-999.000,   25.00,  -999.0,  6.0440,-999.000
    31DSCG94_2,  P18S,    31,  1,    122,    418,2,19940308,0124,-55.8367,-102.9983, 4687,     53.2,   6.0485,  34.0524,2,  34.0555,2,    305.8,2,    297.5,2,     2.19,2,    18.30,2,     0.21,2,     1.40,3,    4.620,2,    2.331,2, -999.000,9, -999.000,9, -999.000,9,-999.0000,9,  -999.00,9,   -999.0,9,   -999.0,9,   2104.3,2,   -999.0,9,   2279.0,2,     7.81,2, -999.00,  -999.0,-999.0000,-999.000,   25.00,  -999.0,  6.0441,-999.000
    31DSCG94_2,  P18S,    31,  1,    121,    413,2,19940308,0124,-55.8367,-102.9983, 4687,     98.8,   6.0296,  34.0843,2,  34.0861,2,    307.6,2,    294.7,2,     2.74,2,    18.38,2,     0.19,2,     1.38,2, -999.000,9, -999.000,9, -999.000,9, -999.000,9, -999.000,9,-999.0000,9,  -999.00,9,   -999.0,9,   -999.0,9,   2106.9,2,   -999.0,9,   2276.0,2,     7.80,2, -999.00,  -999.0,-999.0000,-999.000,   25.00,  -999.0,  6.0212,-999.000
    31DSCG94_2,  P18S,    31,  1,    120,    405,2,19940308,0124,-55.8367,-102.9983, 4687,    150.3,   5.5294,  34.2435,2,  34.2472,2,    296.6,2,    285.8,2,     7.43,2,    20.30,2,     0.00,2,     1.48,2,    4.368,2,    2.202,2, -999.000,9, -999.000,9, -999.000,9,-999.0000,9,  -999.00,9,   -999.0,9,   -999.0,9,   2124.4,2,   -999.0,9,   2281.0,2,     7.77,2, -999.00,  -999.0,-999.0000,-999.000,   25.00,  -999.0,  5.5172,-999.000
    31DSCG94_2,  P18S,    31,  1,    119,    417,2,19940308,0124,-55.8367,-102.9983, 4687,    198.0,   5.3989,  34.2397,2,  34.2414,2,    293.7,2,    285.0,2,     8.19,2,    20.55,2,     0.00,2,     1.49,2, -999.000,9, -999.000,9, -999.000,9, -999.000,9, -999.000,9,-999.0000,9,  -999.00,9,   -999.0,9,   -999.0,9,   2125.0,2,   -999.0,9,   2279.0,2,     7.76,2, -999.00,  -999.0,-999.0000,-999.000,   25.00,  -999.0,  5.3830,-999.000
    31DSCG94_2,  P18S,    31,  1,    118,    429,2,19940308,0124,-55.8367,-102.9983, 4687,    300.7,   4.7453,  34.1713,2,  34.1732,2,    291.2,2,    289.6,2,     9.29,2,    21.99,2,     0.00,2,     1.59,2,    4.436,2,    2.219,2, -999.000,9, -999.000,9, -999.000,9,-999.0000,9,  -999.00,9,   -999.0,9,   -999.0,9,   2130.4,2,   -999.0,9,   2281.0,2,     7.75,2, -999.00,  -999.0,-999.0000,-999.000,   25.00,  -999.0,  4.7225,-999.000
    31DSCG94_2,  P18S,    31,  1,    117,    427,2,19940308,0124,-55.8367,-102.9983, 4687,    401.5,   4.2496,  34.1423,2,  34.1446,2,    266.3,2,    288.5,2,    10.94,2,    23.38,2,     0.00,2,     1.62,2, -999.000,9, -999.000,9, -999.000,9, -999.000,9, -999.000,9,-999.0000,9,  -999.00,9,   -999.0,9,   -999.0,9,   2139.4,2,   -999.0,9,   -999.0,5,     7.74,2, -999.00,  -999.0,-999.0000,-999.000,   25.00,  -999.0,  4.2205,-999.000
    31DSCG94_2,  P18S,    31,  1,    116,    410,2,19940308,0124,-55.8367,-102.9983, 4687,    498.8,   4.0500,  34.1833,2,  34.1448,4,    259.6,2,    289.0,3,    10.93,3,    22.65,3,     0.00,3,     1.66,3,    4.333,2,    2.143,2, -999.000,9, -999.000,9, -999.000,9,-999.0000,9,  -999.00,9,   -999.0,9,   -999.0,9,   2135.1,2,   -999.0,9,   2279.0,2,     7.74,2, -999.00,  -999.0,-999.0000,-999.000,   25.00,  -999.0,  4.0143,-999.000
    31DSCG94_2,  P18S,    31,  1,    115,    422,2,19940308,0124,-55.8367,-102.9983, 4687,    598.6,   4.1750,  34.2673,2,  34.2711,2,    231.5,2,    223.7,2,    26.72,2,    28.58,2,     0.00,2,     2.00,2, -999.000,9, -999.000,9, -999.000,9, -999.000,9, -999.000,9,-999.0000,9,  -999.00,9,   -999.0,9,   -999.0,9,   2178.5,2,   -999.0,9,   2296.0,2,     7.65,2, -999.00,  -999.0,-999.0000,-999.000,   25.00,  -999.0,  4.1309,-999.000
    31DSCG94_2,  P18S,    31,  1,    114,    407,2,19940308,0124,-55.8367,-102.9983, 4687,    799.0,   3.3072,  34.3057,2,  34.3076,2,    213.0,2,    210.4,2,    39.60,2,    30.96,2,     0.00,2,     2.18,2,    1.491,2,    0.702,2, -999.000,9, -999.000,9, -999.000,9,-999.0000,9,  -999.00,9,   -999.0,9,   -999.0,9,   2199.9,2,   -999.0,9,   2303.0,2,     7.61,2, -999.00,  -999.0,-999.0000,-999.000,   25.00,  -999.0,  3.2525,-999.000
    31DSCG94_2,  P18S,    31,  1,    113,    419,2,19940308,0124,-55.8367,-102.9983, 4687,   1001.1,   2.8880,  34.4072,2,  34.4057,2,    190.8,2,    189.0,2,    55.15,2,    32.73,2,     0.00,2,     2.31,2, -999.000,9, -999.000,9, -999.000,9, -999.000,9, -999.000,9,-999.0000,9,  -999.00,9,   -999.0,9,   -999.0,9,   2227.5,2,   -999.0,9,   2319.0,2,     7.58,2, -999.00,  -999.0,-999.0000,-999.000,   25.00,  -999.0,  2.8211,-999.000
    31DSCG94_2,  P18S,    31,  1,    112,    426,2,19940308,0124,-55.8367,-102.9983, 4687,   1202.2,   2.5854,  34.5008,2,-999.0000,9,    178.6,2,    176.5,2,    69.62,2,    34.28,2,     0.00,2,     2.37,2,    0.430,2,    0.205,2, -999.000,9, -999.000,9, -999.000,9,-999.0000,9,  -999.00,9,   -999.0,9,   -999.0,9,   2245.0,2,   -999.0,9,   2332.0,2,  -999.00,9, -999.00,  -999.0,-999.0000,-999.000, -999.00,  -999.0,  2.5057,-999.000
    31DSCG94_2,  P18S,    31,  1,    111,    424,2,19940308,0124,-55.8367,-102.9983, 4687,   1404.1,   2.4199,  34.5762,2,  34.5769,2,    172.9,2,    171.9,2,    76.00,2,    32.98,2,     0.00,2,     2.32,2, -999.000,9, -999.000,9, -999.000,9, -999.000,9, -999.000,9,-999.0000,9,  -999.00,9,   -999.0,9,   -999.0,9,   2251.1,2,   -999.0,9,   2339.0,2,     7.57,2, -999.00,  -999.0,-999.0000,-999.000,   25.00,  -999.0,  2.3263,-999.000
    31DSCG94_2,  P18S,    31,  1,    110,    409,2,19940308,0124,-55.8367,-102.9983, 4687,   1702.6,   2.2403,  34.6605,2,  34.6604,2,    173.3,2,    173.5,2,    84.12,2,    32.16,2,     0.00,2,     2.20,2,    0.104,2,    0.048,2, -999.000,9, -999.000,9, -999.000,9,-999.0000,9,  -999.00,9,   -999.0,9,   -999.0,9,   2256.5,2,   -999.0,9,   2344.0,2,     7.58,2, -999.00,  -999.0,-999.0000,-999.000,   25.00,  -999.0,  2.1248,-999.000
    31DSCG94_2,  P18S,    31,  1,    109,    423,2,19940308,0124,-55.8367,-102.9983, 4687,   1998.2,   2.0366,  34.7019,2,-999.0000,9,    176.4,2,    177.4,2,    94.67,2,    32.48,2,     0.00,2,     2.24,2, -999.000,9, -999.000,9, -999.000,9, -999.000,9, -999.000,9,-999.0000,9,  -999.00,9,   -999.0,9,   -999.0,9,   2258.9,2,   -999.0,9,   2358.0,2,  -999.00,9, -999.00,  -999.0,-999.0000,-999.000, -999.00,  -999.0,  1.8995,-999.000
    31DSCG94_2,  P18S,    31,  1,    108,    414,4,19940308,0124,-55.8367,-102.9983, 4687,   2297.4,   1.7871,  34.7173,2,-999.0000,9,    181.4,2,   -999.0,9,  -999.00,9,  -999.00,9,  -999.00,9,  -999.00,9, -999.000,9, -999.000,9, -999.000,9, -999.000,9, -999.000,9,-999.0000,9,  -999.00,9,   -999.0,9,   -999.0,9,   -999.0,9,   -999.0,9,   -999.0,9,  -999.00,9, -999.00,  -999.0,-999.0000,-999.000, -999.00,  -999.0,  1.6284,-999.000
    31DSCG94_2,  P18S,    31,  1,    107,    437,2,19940308,0124,-55.8367,-102.9983, 4687,   2599.6,   1.5789,  34.7160,2,  34.7162,2,    184.0,2,    186.4,2,   105.30,2,    31.42,2,     0.00,2,     2.19,2, -999.000,9, -999.000,9, -999.000,9, -999.000,9, -999.000,9,-999.0000,9,  -999.00,9,   -999.0,9,   -999.0,9,   2268.1,2,   -999.0,9,   2366.0,2,     7.61,2, -999.00,  -999.0,-999.0000,-999.000,   25.00,  -999.0,  1.3973,-999.000
    31DSCG94_2,  P18S,    31,  1,    106,    416,2,19940308,0124,-55.8367,-102.9983, 4687,   2998.2,   1.4016,  34.7217,2,  34.7216,2,    191.9,2,    193.8,2,   106.71,2,    30.94,2,     0.00,2,     2.18,2, -999.000,5, -999.000,5, -999.000,9, -999.000,9, -999.000,9,-999.0000,9,  -999.00,9,   -999.0,9,   -999.0,9,   2261.4,2,   -999.0,9,   2361.0,2,     7.61,2, -999.00,  -999.0,-999.0000,-999.000,   25.00,  -999.0,  1.1868,-999.000
    31DSCG94_2,  P18S,    31,  1,    105,    420,2,19940308,0124,-55.8367,-102.9983, 4687,   3401.8,   1.1280,  34.7164,2,  34.7172,2,    199.2,2,    200.8,2,   114.60,2,    31.36,2,     0.00,2,     2.18,2, -999.000,9, -999.000,9, -999.000,9, -999.000,9, -999.000,9,-999.0000,9,  -999.00,9,   -999.0,9,   -999.0,9,   2260.6,2,   -999.0,9,   2365.0,2,     7.61,2, -999.00,  -999.0,-999.0000,-999.000,   25.00,  -999.0,  0.8808,-999.000
    31DSCG94_2,  P18S,    31,  1,    104,    436,2,19940308,0124,-55.8367,-102.9983, 4687,   3801.3,   0.8435,  34.7105,2,  34.7102,2,    204.3,2,    204.4,2,   125.93,2,    31.67,2,     0.00,2,     2.20,2,    1.648,4,    0.012,2, -999.000,9, -999.000,9, -999.000,9,-999.0000,9,  -999.00,9,   -999.0,9,   -999.0,9,   2264.3,2,   -999.0,9,   2365.0,2,     7.61,2, -999.00,  -999.0,-999.0000,-999.000,   25.00,  -999.0,  0.5635,-999.000
    31DSCG94_2,  P18S,    31,  1,    103,    425,2,19940308,0124,-55.8367,-102.9983, 4687,   4201.6,   0.6691,  34.7067,2,  34.7070,2,    209.9,2,    208.0,2,   132.20,2,    31.78,2,     0.00,2,     2.18,2, -999.000,9, -999.000,9, -999.000,9, -999.000,9, -999.000,9,-999.0000,9,  -999.00,9,   -999.0,9,   -999.0,9,   2265.6,2,   -999.0,9,   2364.0,2,     7.61,2, -999.00,  -999.0,-999.0000,-999.000,   25.00,  -999.0,  0.3523,-999.000
    31DSCG94_2,  P18S,    31,  1,    102,    433,2,19940308,0124,-55.8367,-102.9983, 4687,   4600.9,   0.6338,  34.7058,2,  34.7054,2,    213.8,2,    210.4,2,   131.85,2,    32.73,2,     0.00,2,     2.20,2,    0.044,2,    0.020,2, -999.000,9, -999.000,9, -999.000,9,-999.0000,9,  -999.00,9,   -999.0,9,   -999.0,9,   2264.1,2,   -999.0,9,   2366.0,2,     7.61,2, -999.00,  -999.0,-999.0000,-999.000,   25.00,  -999.0,  0.2745,-999.000
    31DSCG94_2,  P18S,    31,  1,    101,    403,2,19940308,0124,-55.8367,-102.9983, 4687,   4753.4,   0.6381,  34.7053,2,  34.7055,2,    215.1,2,    210.1,2,   130.63,2,    31.15,2,     0.00,2,     2.22,2,    0.040,2,    0.023,2, -999.000,9, -999.000,9, -999.000,9,-999.0000,9,  -999.00,9,   -999.0,9,   -999.0,9,   2263.9,2,   -999.0,9,   2365.0,2,     7.61,2, -999.00,  -999.0,-999.0000,-999.000,   25.00,  -999.0,  0.2615,-999.000