BOTTLE,20220630CCHSIOAMB
EXPOCODE,SECT_ID,STNNBR,CASTNO,SAMPNO,BTLNBR,BTLNBR_FLAG_W,DATE,TIME,LATITUDE,LONGITUDE,DEPTH,CTDPRS,CTDTMP,CTDSAL,CTDSAL_FLAG_W,SALNTY,SALNTY_FLAG_W,CTDOXY,CTDOXY_FLAG_W,OXYGEN,OXYGEN_FLAG_W,SILCAT,SILCAT_FLAG_W,NITRAT,NITRAT_FLAG_W,NITRIT,NITRIT_FLAG_W,PHSPHT,PHSPHT_FLAG_W,CFC-11,CFC-11_FLAG_W,CFC-12,CFC-12_FLAG_W,CFC113,CFC113_FLAG_W,CCL4,CCL4_FLAG_W,TRITUM,TRITUM_FLAG_W,HELIUM,HELIUM_FLAG_W,DELHE3,DELHE3_FLAG_W,DELC14,DELC14_FLAG_W,DELC13,DELC13_FLAG_W,TCARBN,TCARBN_FLAG_W,PCO2,PCO2_FLAG_W,ALKALI,ALKALI_FLAG_W,PH,PH_FLAG_W,PCO2TMP,C14ERR,HELIER,DELHER,PH_TMP,C13ERR,THETA,TRITER
,,,,,,,,,,,,DBAR,ITS-90,PSS-78,,PSS-78,,UMOL/KG,,UMOL/KG,,UMOL/KG,,UMOL/KG,,UMOL/KG,,UMOL/KG,,PMOL/KG,,PMOL/KG,,PMOL/KG,,PMOL/KG,,TU,,NMOL/KG,,PERCNT,,/MILLE,,/MILLE,,UMOL/KG,,UATM,,UMOL/KG,,,,DEG C,/MILLE,NMOL/KG,PERCNT,DEG C,/MILLE,DEG C,TU
    31DSCG94_3,  P18N,    96,  1,    136,   1025,2,19940331,0507,-21.5000,-102.9983, 3973,      9.6,  24.5572,  36.2656,2,  36.2642,2,    204.6,2,    210.3,2,     1.04,2,     0.11,2,     0.00,2,     0.28,2, -999.000,9, -999.000,9, -999.000,9, -999.000,9, -999.000,9,-999.0000,9,  -999.00,9,   -999.0,9,   -999.0,9,   2069.9,2,    331.7,2,   2395.0,6,     8.05,2,   20.00,  -999.0,-999.0000,-999.000,   25.00,  -999.0, 24.5552,-999.000
    31DSCG94_3,  P18N,    96,  1,    135,   1247,2,19940331,0507,-21.5000,-102.9983, 3973,     24.0,  24.4861,  36.2523,2,  36.2411,2,    211.7,2,    210.6,6,     0.96,2,     0.03,2,     0.00,2,     0.25,2, -999.000,9, -999.000,9, -999.000,9, -999.000,9, -999.000,9,-999.0000,9,  -999.00,9,   -999.0,9,   -999.0,9,   -999.0,9,   -999.0,9,   -999.0,9,     8.05,2, -999.00,  -999.0,-999.0000,-999.000,   25.00,  -999.0, 24.4810,-999.000
    31DSCG94_3,  P18N,    96,  1,    134,   1216,2,19940331,0507,-21.5000,-102.9983, 3973,     48.7,  24.2252,  36.2351,2,  36.2372,2,    213.6,2,    211.0,2,     1.00,2,     0.05,2,     0.00,2,     0.26,2, -999.000,9, -999.000,9, -999.000,9, -999.000,9, -999.000,9,-999.0000,9,  -999.00,9,   -999.0,9,   -999.0,9,   2069.0,2,    324.2,2,   2390.0,2,     8.05,2,   20.00,  -999.0,-999.0000,-999.000,   25.00,  -999.0, 24.2148,-999.000
    31DSCG94_3,  P18N,    96,  1,    133,   1244,2,19940331,0507,-21.5000,-102.9983, 3973,     74.1,  22.7558,  36.0543,2,  36.0532,2,    229.1,2,    225.1,2,     0.89,2,     0.04,2,     0.00,2,     0.25,2, -999.000,9, -999.000,9, -999.000,9, -999.000,9, -999.000,9,-999.0000,9,  -999.00,9,   -999.0,9,   -999.0,9,   -999.0,9,   -999.0,9,   -999.0,9,     8.05,2, -999.00,  -999.0,-999.0000,-999.000,   25.00,  -999.0, 22.7408,-999.000
    31DSCG94_3,  P18N,    96,  1,    132,   1003,3,19940331,0507,-21.5000,-102.9983, 3973,     97.7,  22.0228,  35.9859,2,-999.0000,5,    224.4,2,    227.0,2,     1.07,2,     0.03,2,     0.00,2,     0.28,2, -999.000,9, -999.000,9, -999.000,9, -999.000,9, -999.000,9,-999.0000,9,  -999.00,9,   -999.0,9,   -999.0,9,   -999.0,9,   -999.0,9,   -999.0,9,  -999.00,9, -999.00,  -999.0,-999.0000,-999.000, -999.00,  -999.0, 22.0034,-999.000
    31DSCG94_3,  P18N,    96,  1,    131,   1211,2,19940331,0507,-21.5000,-102.9983, 3973,    124.3,  20.9518,  35.8442,2,  35.8448,2,    226.2,2,    228.2,2,     0.86,2,     0.03,2,     0.00,2,     0.22,2, -999.000,9, -999.000,9, -999.000,9, -999.000,9, -999.000,9,-999.0000,9,  -999.00,9,   -999.0,9,   -999.0,9,   -999.0,9,    339.0,2,   -999.0,9,     8.04,2,   20.00,  -999.0,-999.0000,-999.000,   25.00,  -999.0, 20.9279,-999.000
    31DSCG94_3,  P18N,    96,  1,    130,   1241,2,19940331,0507,-21.5000,-102.9983, 3973,    150.1,  20.5969,  35.8075,2,  35.8090,2,    222.1,2,    223.2,2,     0.81,2,     0.05,2,     0.01,2,     0.25,2, -999.000,9, -999.000,9, -999.000,9, -999.000,9, -999.000,9,-999.0000,9,  -999.00,9,   -999.0,9,   -999.0,9,   -999.0,9,   -999.0,9,   -999.0,9,     8.03,2, -999.00,  -999.0,-999.0000,-999.000,   25.00,  -999.0, 20.5684,-999.000
    31DSCG94_3,  P18N,    96,  1,    129,   1240,2,19940331,0507,-21.5000,-102.9983, 3973,    199.7,  19.2090,  35.5456,2,  35.5319,2,    218.1,2,    214.6,2,     1.02,2,     0.44,2,     0.18,2,     0.34,2, -999.000,9, -999.000,9, -999.000,9, -999.000,9, -999.000,9,-999.0000,9,  -999.00,9,   -999.0,9,   -999.0,9,   2065.5,2,    377.3,2,   2343.0,2,     7.99,2,   20.00,  -999.0,-999.0000,-999.000,   25.00,  -999.0, 19.1730,-999.000
    31DSCG94_3,  P18N,    96,  1,    128,   1032,2,19940331,0507,-21.5000,-102.9983, 3973,    250.2,  16.0535,  34.9669,2,  34.9541,2,    202.5,2,    202.3,2,     1.40,2,     4.16,2,     0.00,2,     0.56,2, -999.000,9, -999.000,9, -999.000,9, -999.000,9, -999.000,9,-999.0000,9,  -999.00,9,   -999.0,9,   -999.0,9,   -999.0,9,    460.1,2,   -999.0,9,     7.92,2,   20.00,  -999.0,-999.0000,-999.000,   25.00,  -999.0, 16.0138,-999.000
    31DSCG94_3,  P18N,    96,  1,    127,   1008,2,19940331,0507,-21.5000,-102.9983, 3973,    300.8,  12.8623,  34.5625,2,  34.5651,2,    166.3,2,    167.1,2,     4.86,2,    12.25,2,     0.02,2,     1.23,2, -999.000,9, -999.000,9, -999.000,9, -999.000,9, -999.000,9,-999.0000,9,  -999.00,9,   -999.0,9,   -999.0,9,   2115.0,2,    649.8,2,   2280.0,2,     7.79,2,   20.00,  -999.0,-999.0000,-999.000,   25.00,  -999.0, 12.8213,-999.000
    31DSCG94_3,  P18N,    96,  1,    126,   1007,2,19940331,0507,-21.5000,-102.9983, 3973,    350.4,  10.9184,  34.5027,2,  34.5025,2,    103.8,2,     98.6,2,    13.23,2,    21.56,2,     0.00,2,     2.08,2, -999.000,9, -999.000,9, -999.000,9, -999.000,9, -999.000,9,-999.0000,9,  -999.00,9,   -999.0,9,   -999.0,9,   -999.0,9,   -999.0,9,   -999.0,9,     7.59,2, -999.00,  -999.0,-999.0000,-999.000,   25.00,  -999.0, 10.8753,-999.000
    31DSCG94_3,  P18N,    96,  1,    125,   1203,2,19940331,0507,-21.5000,-102.9983, 3973,    400.5,   9.7041,  34.5107,2,  34.5109,2,     74.8,2,     67.4,2,    18.72,2,    27.73,2,     0.01,2,     2.48,2, -999.000,9, -999.000,9, -999.000,9, -999.000,9, -999.000,9,-999.0000,9,  -999.00,9,   -999.0,9,   -999.0,9,   2225.1,2,   1406.4,2,   2283.0,2,     7.49,2,   20.00,  -999.0,-999.0000,-999.000,   25.00,  -999.0,  9.6583,-999.000
    31DSCG94_3,  P18N,    96,  1,    123,   1220,2,19940331,0507,-21.5000,-102.9983, 3973,    499.6,   7.4419,  34.4239,2,  34.4236,2,    104.4,2,    105.0,2,    20.16,2,    32.33,2,     0.00,2,     2.49,2, -999.000,9, -999.000,9, -999.000,9, -999.000,9, -999.000,9,-999.0000,9,  -999.00,9,   -999.0,9,   -999.0,9,   2219.3,2,   1337.4,2,   2281.0,2,     7.51,2,   20.00,  -999.0,-999.0000,-999.000,   25.00,  -999.0,  7.3929,-999.000
    31DSCG94_3,  P18N,    96,  1,    122,   1245,2,19940331,0507,-21.5000,-102.9983, 3973,    600.9,   6.0891,  34.3629,2,  34.3629,2,    135.1,2,    147.4,2,    21.78,2,    32.41,2,     0.00,2,     2.30,2, -999.000,9, -999.000,9, -999.000,9, -999.000,9, -999.000,9,-999.0000,9,  -999.00,9,   -999.0,9,   -999.0,9,   2203.5,2,   1165.9,2,   2289.0,2,     7.57,2,   20.00,  -999.0,-999.0000,-999.000,   25.00,  -999.0,  6.0359,-999.000
    31DSCG94_3,  P18N,    96,  1,    121,   1206,2,19940331,0507,-21.5000,-102.9983, 3973,    701.0,   5.4600,  34.3781,2,  34.3787,2,    133.3,2,    128.6,2,    31.73,2,    35.59,2,     0.00,2,     2.55,2, -999.000,9, -999.000,9, -999.000,9, -999.000,9, -999.000,9,-999.0000,9,  -999.00,9,   -999.0,9,   -999.0,9,   2224.0,2,   1289.3,2,   2293.0,2,     7.53,2,   20.00,  -999.0,-999.0000,-999.000,   25.00,  -999.0,  5.4008,-999.000
    31DSCG94_3,  P18N,    96,  1,    120,   1028,2,19940331,0507,-21.5000,-102.9983, 3973,    800.5,   4.9080,  34.4104,2,  34.4106,2,    115.3,2,    113.9,2,    44.30,2,    37.90,2,     0.00,2,     2.68,2, -999.000,9, -999.000,9, -999.000,9, -999.000,9, -999.000,9,-999.0000,9,  -999.00,9,   -999.0,9,   -999.0,9,   2246.6,2,   1379.3,2,   -999.0,5,     7.50,2,   20.00,  -999.0,-999.0000,-999.000,   25.00,  -999.0,  4.8432,-999.000
    31DSCG94_3,  P18N,    96,  1,    119,   1248,2,19940331,0507,-21.5000,-102.9983, 3973,    901.0,   4.4836,  34.4591,2,  34.4601,2,    107.7,2,    106.7,2,    58.48,2,    39.69,2,     0.00,2,     2.77,2, -999.000,9, -999.000,9, -999.000,9, -999.000,9, -999.000,9,-999.0000,9,  -999.00,9,   -999.0,9,   -999.0,9,   2264.2,2,   1414.5,2,   2329.0,2,     7.49,2,   20.00,  -999.0,-999.0000,-999.000,   25.00,  -999.0,  4.4128,-999.000
    31DSCG94_3,  P18N,    96,  1,    118,   1207,2,19940331,0507,-21.5000,-102.9983, 3973,    999.7,   4.2245,  34.4952,2,  34.4953,2,    103.2,2,    103.1,2,    68.39,2,    38.67,2,     0.00,2,     2.80,2, -999.000,9, -999.000,9, -999.000,9, -999.000,9, -999.000,9,-999.0000,9,  -999.00,9,   -999.0,9,   -999.0,9,   2274.7,2,   1421.4,2,   2336.0,6,     7.49,2,   20.00,  -999.0,-999.0000,-999.000,   25.00,  -999.0,  4.1471,-999.000
    31DSCG94_3,  P18N,    96,  1,    117,   1119,2,19940331,0507,-21.5000,-102.9983, 3973,   1100.6,   3.9576,  34.5205,2,  34.5210,2,    100.0,2,    100.1,2,    77.71,2,    39.18,2,     0.00,2,     2.84,2, -999.000,9, -999.000,9, -999.000,9, -999.000,9, -999.000,9,-999.0000,9,  -999.00,9,   -999.0,9,   -999.0,9,   -999.0,9,   -999.0,9,   -999.0,9,     7.49,2, -999.00,  -999.0,-999.0000,-999.000,   25.00,  -999.0,  3.8738,-999.000
    31DSCG94_3,  P18N,    96,  1,    116,   1036,2,19940331,0507,-21.5000,-102.9983, 3973,   1199.9,   3.7160,  34.5352,2,  34.5365,2,    102.9,2,    100.5,2,    83.93,2,    39.04,2,     0.00,2,     2.85,2, -999.000,9, -999.000,9, -999.000,9, -999.000,9, -999.000,9,-999.0000,9,  -999.00,9,   -999.0,9,   -999.0,9,   -999.0,9,   -999.0,9,   -999.0,9,     7.49,2, -999.00,  -999.0,-999.0000,-999.000,   25.00,  -999.0,  3.6260,-999.000
    31DSCG94_3,  P18N,    96,  1,    115,   1017,2,19940331,0507,-21.5000,-102.9983, 3973,   1299.7,   3.4790,  34.5471,2,  34.5474,2,    101.4,2,    104.0,2,    89.14,2,    39.04,2,     0.00,2,     2.81,2, -999.000,9, -999.000,9, -999.000,9, -999.000,9, -999.000,9,-999.0000,9,  -999.00,9,   -999.0,9,   -999.0,9,   -999.0,9,   -999.0,9,   -999.0,9,     7.49,2, -999.00,  -999.0,-999.0000,-999.000,   25.00,  -999.0,  3.3828,-999.000
    31DSCG94_3,  P18N,    96,  1,    114,   1016,2,19940331,0507,-21.5000,-102.9983, 3973,   1398.3,   3.2333,  34.5587,2,  34.5596,2,    109.5,2,    110.8,2,    93.66,2,    38.63,2,     0.00,2,     2.77,2, -999.000,9, -999.000,9, -999.000,9, -999.000,9, -999.000,9,-999.0000,9,  -999.00,9,   -999.0,9,   -999.0,9,   -999.0,9,   -999.0,9,   -999.0,9,     7.51,2, -999.00,  -999.0,-999.0000,-999.000,   25.00,  -999.0,  3.1314,-999.000
    31DSCG94_3,  P18N,    96,  1,    113,   1209,2,19940331,0507,-21.5000,-102.9983, 3973,   1500.1,   2.9896,  34.5731,2,  34.5733,2,    113.8,2,    115.7,6,    98.74,2,    38.39,2,     0.00,2,     2.74,2, -999.000,9, -999.000,9, -999.000,9, -999.000,9, -999.000,9,-999.0000,9,  -999.00,9,   -999.0,9,   -999.0,9,   -999.0,9,   -999.0,9,   -999.0,9,     7.51,2, -999.00,  -999.0,-999.0000,-999.000,   25.00,  -999.0,  2.8818,-999.000
    31DSCG94_3,  P18N,    96,  1,    112,   1033,2,19940331,0507,-21.5000,-102.9983, 3973,   1599.1,   2.7706,  34.5853,2,  34.5852,2,    118.4,2,    122.7,2,   102.33,2,    37.55,2,     0.00,2,     2.70,2, -999.000,9, -999.000,9, -999.000,9, -999.000,9, -999.000,9,-999.0000,9,  -999.00,9,   -999.0,9,   -999.0,9,   -999.0,9,   -999.0,9,   -999.0,9,     7.52,2, -999.00,  -999.0,-999.0000,-999.000,   25.00,  -999.0,  2.6572,-999.000
    31DSCG94_3,  P18N,    96,  1,    111,   1240,2,19940331,0507,-21.5000,-102.9983, 3973,   1801.0,   2.4392,  34.6087,2,  34.6084,2,    130.6,2,    133.8,2,   107.96,2,    37.00,2,     0.00,2,     2.63,2, -999.000,9, -999.000,9, -999.000,9, -999.000,9, -999.000,9,-999.0000,9,  -999.00,9,   -999.0,9,   -999.0,9,   -999.0,9,   -999.0,9,   -999.0,9,  -999.00,9, -999.00,  -999.0,-999.0000,-999.000, -999.00,  -999.0,  2.3132,-999.000
    31DSCG94_3,  P18N,    96,  1,    110,   1005,2,19940331,0507,-21.5000,-102.9983, 3973,   2000.1,   2.1790,  34.6297,2,  34.6297,2,    143.3,2,    146.8,6,   111.04,2,    35.77,2,     0.00,2,     2.52,2, -999.000,9, -999.000,9, -999.000,9, -999.000,9, -999.000,9,-999.0000,9,  -999.00,9,   -999.0,9,   -999.0,9,   -999.0,9,   -999.0,9,   -999.0,9,     7.56,2, -999.00,  -999.0,-999.0000,-999.000,   25.00,  -999.0,  2.0398,-999.000
    31DSCG94_3,  P18N,    96,  1,    109,   1611,2,19940331,0507,-21.5000,-102.9983, 3973,   2251.3,   1.9713,  34.6518,2,  34.6518,2,    151.9,2,    155.8,3,   115.69,2,    35.29,2,     0.00,2,     2.47,2, -999.000,9, -999.000,9, -999.000,9, -999.000,9, -999.000,9,-999.0000,9,  -999.00,9,   -999.0,9,   -999.0,9,   -999.0,9,   -999.0,9,   -999.0,9,  -999.00,9, -999.00,  -999.0,-999.0000,-999.000, -999.00,  -999.0,  1.8137,-999.000
    31DSCG94_3,  P18N,    96,  1,    108,   1218,2,19940331,0507,-21.5000,-102.9983, 3973,   2499.2,   1.8742,  34.6642,2,  34.6648,2,    155.6,2,    155.7,2,   118.60,2,    34.81,2,     0.00,2,     2.44,2, -999.000,9, -999.000,9, -999.000,9, -999.000,9, -999.000,9,-999.0000,9,  -999.00,9,   -999.0,9,   -999.0,9,   -999.0,9,   -999.0,9,   -999.0,9,     7.57,2, -999.00,  -999.0,-999.0000,-999.000,   25.00,  -999.0,  1.6962,-999.000
    31DSCG94_3,  P18N,    96,  1,    107,   1257,2,19940331,0507,-21.5000,-102.9983, 3973,   2747.9,   1.8185,  34.6732,2,  34.6723,2,    157.1,2,    153.6,3,   121.22,2,    34.82,2,     0.00,2,     2.46,2, -999.000,9, -999.000,9, -999.000,9, -999.000,9, -999.000,9,-999.0000,9,  -999.00,9,   -999.0,9,   -999.0,9,   -999.0,9,   -999.0,9,   -999.0,9,  -999.00,9, -999.00,  -999.0,-999.0000,-999.000, -999.00,  -999.0,  1.6187,-999.000
    31DSCG94_3,  P18N,    96,  1,    106,   1224,2,19940331,0507,-21.5000,-102.9983, 3973,   3000.5,   1.7939,  34.6782,2,  34.6779,2,    155.9,2,    153.9,2,   124.19,2,    34.84,2,     0.00,2,     2.46,2, -999.000,9, -999.000,9, -999.000,9, -999.000,9, -999.000,9,-999.0000,9,  -999.00,9,   -999.0,9,   -999.0,9,   -999.0,9,   -999.0,9,   -999.0,9,     7.59,2, -999.00,  -999.0,-999.0000,-999.000,   25.00,  -999.0,  1.5705,-999.000
    31DSCG94_3,  P18N,    96,  1,    105,   1246,2,19940331,0507,-21.5000,-102.9983, 3973,   3250.1,   1.7851,  34.6819,2,  34.6826,2,    153.3,2,    151.6,2,   127.26,2,    35.19,2,     0.00,2,     2.49,2, -999.000,9, -999.000,9, -999.000,9, -999.000,9, -999.000,9,-999.0000,9,  -999.00,9,   -999.0,9,   -999.0,9,   -999.0,9,   -999.0,9,   -999.0,9,  -999.00,9, -999.00,  -999.0,-999.0000,-999.000, -999.00,  -999.0,  1.5372,-999.000
    31DSCG94_3,  P18N,    96,  1,    104,   1217,2,19940331,0507,-21.5000,-102.9983, 3973,   3500.6,   1.7931,  34.6843,2,  34.6849,2,    151.7,2,    152.5,2,   129.06,2,    35.13,2,     0.00,2,     2.49,2, -999.000,9, -999.000,9, -999.000,9, -999.000,9, -999.000,9,-999.0000,9,  -999.00,9,   -999.0,9,   -999.0,9,   -999.0,9,   -999.0,9,   -999.0,9,     7.59,2, -999.00,  -999.0,-999.0000,-999.000,   25.00,  -999.0,  1.5194,-999.000
    31DSCG94_3,  P18N,    96,  1,    102,   1223,2,19940331,0507,-21.5000,-102.9983, 3973,   3747.8,   1.8118,  34.6855,2,  34.6854,2,    151.7,2,    150.0,2,   129.38,2,    35.38,2,     0.00,2,     2.48,2, -999.000,9, -999.000,9, -999.000,9, -999.000,9, -999.000,9,-999.0000,9,  -999.00,9,   -999.0,9,   -999.0,9,   -999.0,9,   -999.0,9,   -999.0,9,     7.59,2, -999.00,  -999.0,-999.0000,-999.000,   25.00,  -999.0,  1.5115,-999.000
    31DSCG94_3,  P18N,    96,  1,    103,   9999,2,19940331,0507,-21.5000,-102.9983, 3973,   3750.0,   1.8121,  34.6853,2,  34.6856,2,    152.4,2,    149.5,2,   129.71,2,    35.18,2,     0.00,2,     2.50,2, -999.000,9, -999.000,9, -999.000,9, -999.000,9, -999.000,9,-999.0000,9,  -999.00,9,   -999.0,9,   -999.0,9,   -999.0,9,   -999.0,9,   -999.0,9,  -999.00,9, -999.00,  -999.0,-999.0000,-999.000, -999.00,  -999.0,  1.5116,-999.000
    31DSCG94_3,  P18N,    96,  1,    101,   1041,2,19940331,0507,-21.5000,-102.9983, 3973,   4002.7,   1.8378,  34.6857,2,  34.6855,2,    153.7,2,    149.2,2,   129.56,2,    35.38,2,     0.00,2,     2.49,2, -999.000,9, -999.000,9, -999.000,9, -999.000,9, -999.000,9,-999.0000,9,  -999.00,9,   -999.0,9,   -999.0,9,   -999.0,9,   -999.0,9,   -999.0,9,  -999.00,9, -999.00,  -999.0,-999.0000,-999.000, -999.00,  -999.0,  1.5090,-999.000