BOTTLE,20220630CCHSIOAMB
EXPOCODE,SECT_ID,STNNBR,CASTNO,SAMPNO,BTLNBR,BTLNBR_FLAG_W,DATE,TIME,LATITUDE,LONGITUDE,DEPTH,CTDPRS,CTDTMP,CTDSAL,CTDSAL_FLAG_W,SALNTY,SALNTY_FLAG_W,CTDOXY,CTDOXY_FLAG_W,OXYGEN,OXYGEN_FLAG_W,SILCAT,SILCAT_FLAG_W,NITRAT,NITRAT_FLAG_W,NITRIT,NITRIT_FLAG_W,PHSPHT,PHSPHT_FLAG_W,CFC-11,CFC-11_FLAG_W,CFC-12,CFC-12_FLAG_W,CFC113,CFC113_FLAG_W,CCL4,CCL4_FLAG_W,TRITUM,TRITUM_FLAG_W,HELIUM,HELIUM_FLAG_W,DELHE3,DELHE3_FLAG_W,DELC14,DELC14_FLAG_W,DELC13,DELC13_FLAG_W,TCARBN,TCARBN_FLAG_W,PCO2,PCO2_FLAG_W,ALKALI,ALKALI_FLAG_W,PH,PH_FLAG_W,PCO2TMP,C14ERR,HELIER,DELHER,PH_TMP,C13ERR,THETA,TRITER
,,,,,,,,,,,,DBAR,ITS-90,PSS-78,,PSS-78,,UMOL/KG,,UMOL/KG,,UMOL/KG,,UMOL/KG,,UMOL/KG,,UMOL/KG,,PMOL/KG,,PMOL/KG,,PMOL/KG,,PMOL/KG,,TU,,NMOL/KG,,PERCNT,,/MILLE,,/MILLE,,UMOL/KG,,UATM,,UMOL/KG,,,,DEG C,/MILLE,NMOL/KG,PERCNT,DEG C,/MILLE,DEG C,TU
    31DSCG94_2,  P18S,    82,  1,    133,   1244,2,19940322,0103,-28.4950,-102.9967, 3278,      9.8,  23.5742,  35.5967,2,  35.6023,2,    213.4,2,    213.2,2,     1.89,2,     0.00,2,     0.01,2,     0.08,2,    1.979,2,    0.602,4, -999.000,9, -999.000,9, -999.000,9,-999.0000,9,  -999.00,9,   -999.0,9,   -999.0,9,   2025.1,2,    320.4,2,   2336.0,2,     8.05,2,   20.00,  -999.0,-999.0000,-999.000,   25.00,  -999.0, 23.5722,-999.000
    31DSCG94_2,  P18S,    82,  1,    134,   1108,2,19940322,0103,-28.4950,-102.9967, 3278,     10.4,  23.5754,  35.5986,2,  35.5999,2,    215.3,2,    212.9,2,     2.10,2,     0.05,2,     0.00,2,     0.11,2, -999.000,9, -999.000,9, -999.000,9, -999.000,9, -999.000,9,-999.0000,9,  -999.00,9,   -999.0,9,   -999.0,9,   2025.7,2,    321.5,2,   2336.0,2,  -999.00,9,   20.00,  -999.0,-999.0000,-999.000, -999.00,  -999.0, 23.5733,-999.000
    31DSCG94_2,  P18S,    82,  1,    136,   1025,2,19940322,0103,-28.4950,-102.9967, 3278,     10.7,  23.5611,  35.5919,2,  35.5916,2,    215.3,2,    213.8,2,     1.92,2,     0.08,2,     0.00,2,     0.09,2, -999.000,9, -999.000,9, -999.000,9, -999.000,9, -999.000,9,-999.0000,9,  -999.00,9,   -999.0,9,   -999.0,9,   2028.0,2,   -999.0,9,   2338.0,6,  -999.00,9, -999.00,  -999.0,-999.0000,-999.000, -999.00,  -999.0, 23.5589,-999.000
    31DSCG94_2,  P18S,    82,  1,    135,   1247,2,19940322,0103,-28.4950,-102.9967, 3278,     11.0,  23.5539,  35.5907,2,  35.5945,2,    215.3,2,   -999.0,9,     1.96,2,     0.04,2,     0.00,2,     0.10,2, -999.000,9, -999.000,9, -999.000,9, -999.000,9, -999.000,9,-999.0000,9,  -999.00,9,   -999.0,9,   -999.0,9,   2027.4,2,   -999.0,9,   2336.0,2,  -999.00,9, -999.00,  -999.0,-999.0000,-999.000, -999.00,  -999.0, 23.5517,-999.000
    31DSCG94_2,  P18S,    82,  1,    132,   1003,2,19940322,0103,-28.4950,-102.9967, 3278,     23.7,  23.7375,  35.7001,2,  35.7005,2,    215.4,2,    213.3,2,     1.92,2,     0.00,2,     0.00,2,     0.06,2,    1.990,3,    0.943,3, -999.000,9, -999.000,9, -999.000,9,-999.0000,9,  -999.00,9,   -999.0,9,   -999.0,9,   2027.4,2,    314.9,2,   2343.0,2,     8.06,2,   20.00,  -999.0,-999.0000,-999.000,   25.00,  -999.0, 23.7325,-999.000
    31DSCG94_2,  P18S,    82,  1,    131,   1211,2,19940322,0103,-28.4950,-102.9967, 3278,     49.7,  22.2174,  35.5654,2,  35.5732,2,    216.6,2,    230.2,2,     1.98,2,     0.04,2,     0.00,2,     0.05,2,    2.280,2,    1.224,2, -999.000,9, -999.000,9, -999.000,9,-999.0000,9,  -999.00,9,   -999.0,9,   -999.0,9,   2021.1,2,    316.7,2,   2336.0,2,     8.06,2,   20.00,  -999.0,-999.0000,-999.000,   25.00,  -999.0, 22.2075,-999.000
    31DSCG94_2,  P18S,    82,  1,    130,   1241,2,19940322,0103,-28.4950,-102.9967, 3278,     76.2,  20.4619,  35.4441,2,  35.4445,2,    231.4,2,    238.1,2,     1.86,2,     0.05,2,     0.00,2,     0.09,2,    2.384,2,    1.249,2, -999.000,9, -999.000,9, -999.000,9,-999.0000,9,  -999.00,9,   -999.0,9,   -999.0,9,   2017.8,2,    318.8,2,   2326.0,2,     8.05,2,   20.00,  -999.0,-999.0000,-999.000,   25.00,  -999.0, 20.4476,-999.000
    31DSCG94_2,  P18S,    82,  1,    129,   1031,2,19940322,0103,-28.4950,-102.9967, 3278,    101.1,  19.6992,  35.4142,2,  35.4179,2,    230.5,2,    235.0,2,     1.93,2,     0.02,2,     0.00,2,     0.11,2,    2.388,2,    1.286,2, -999.000,9, -999.000,9, -999.000,9,-999.0000,9,  -999.00,9,   -999.0,9,   -999.0,9,   2020.9,2,    325.0,2,   2325.0,2,     8.05,2,   20.00,  -999.0,-999.0000,-999.000,   25.00,  -999.0, 19.6807,-999.000
    31DSCG94_2,  P18S,    82,  1,    128,   1210,3,19940322,0103,-28.4950,-102.9967, 3278,    126.7,  19.2302,  35.3952,2,  35.3986,2,    229.9,2,    231.3,2,     1.74,2,     0.00,2,     0.01,2,     0.09,2, -999.000,9, -999.000,9, -999.000,9, -999.000,9, -999.000,9,-999.0000,9,  -999.00,9,   -999.0,9,   -999.0,9,   -999.0,9,   -999.0,9,   -999.0,9,  -999.00,9, -999.00,  -999.0,-999.0000,-999.000, -999.00,  -999.0, 19.2074,-999.000
    31DSCG94_2,  P18S,    82,  1,    127,   1008,2,19940322,0103,-28.4950,-102.9967, 3278,    149.6,  18.5419,  35.2590,2,  35.2617,2,    227.5,2,    230.8,2,     1.75,2,     0.00,2,     0.00,2,     0.09,2, -999.000,9, -999.000,9, -999.000,9, -999.000,9, -999.000,9,-999.0000,9,  -999.00,9,   -999.0,9,   -999.0,9,   2024.3,2,    342.3,2,   2317.0,2,     8.03,2,   20.00,  -999.0,-999.0000,-999.000,   25.00,  -999.0, 18.5156,-999.000
    31DSCG94_2,  P18S,    82,  1,    126,   1007,2,19940322,0103,-28.4950,-102.9967, 3278,    201.8,  17.0520,  35.0574,2,  35.0608,2,    225.6,2,    222.8,2,     1.84,2,     0.15,2,     0.07,2,     0.16,2,    2.508,2,    1.320,2, -999.000,9, -999.000,9, -999.000,9,-999.0000,9,  -999.00,9,   -999.0,9,   -999.0,9,   2036.4,2,    372.7,2,   2304.0,2,     7.99,2,   20.00,  -999.0,-999.0000,-999.000,   25.00,  -999.0, 17.0186,-999.000
    31DSCG94_2,  P18S,    82,  1,    125,   1203,2,19940322,0103,-28.4950,-102.9967, 3278,    248.7,  15.4607,  34.9089,2,  34.9134,2,    210.8,2,    208.3,2,     2.23,2,     3.43,2,     0.02,2,     0.43,2, -999.000,9, -999.000,9, -999.000,9, -999.000,9, -999.000,9,-999.0000,9,  -999.00,9,   -999.0,9,   -999.0,9,   2058.9,2,    441.1,2,   2294.0,2,     7.93,2,   20.00,  -999.0,-999.0000,-999.000,   25.00,  -999.0, 15.4222,-999.000
    31DSCG94_2,  P18S,    82,  1,    124,   1240,2,19940322,0103,-28.4950,-102.9967, 3278,    295.7,  13.0131,  34.6609,2,  34.6606,2,    204.9,2,    205.8,2,     2.80,2,     8.41,2,     0.01,2,     0.76,2,    2.272,6,    1.123,6, -999.000,9, -999.000,9, -999.000,9,-999.0000,9,  -999.00,9,   -999.0,9,   -999.0,9,   2081.5,2,    528.0,2,   2282.0,2,     7.87,2,   20.00,  -999.0,-999.0000,-999.000,   25.00,  -999.0, 12.9724,-999.000
    31DSCG94_2,  P18S,    82,  1,    123,   1220,2,19940322,0103,-28.4950,-102.9967, 3278,    352.9,  10.4801,  34.4504,2,  34.4546,2,    204.9,2,    205.9,2,     4.01,2,    14.09,2,     0.01,2,     1.12,2, -999.000,9, -999.000,9, -999.000,9, -999.000,9, -999.000,9,-999.0000,9,  -999.00,9,   -999.0,9,   -999.0,9,   2105.2,2,    626.8,2,   2273.0,2,     7.80,2,   20.00,  -999.0,-999.0000,-999.000,   25.00,  -999.0, 10.4379,-999.000
    31DSCG94_2,  P18S,    82,  1,    122,   1245,2,19940322,0103,-28.4950,-102.9967, 3278,    398.9,   8.8497,  34.3716,2,  34.3723,2,    206.4,2,    206.9,2,     5.96,2,    18.52,2,     0.00,2,     1.39,2,    1.875,2,    1.198,2, -999.000,9, -999.000,9, -999.000,9,-999.0000,9,  -999.00,9,   -999.0,9,   -999.0,9,   2125.8,2,    726.3,2,   2269.0,2,     7.75,2,   20.00,  -999.0,-999.0000,-999.000,   25.00,  -999.0,  8.8066,-999.000
    31DSCG94_2,  P18S,    82,  1,    121,   1206,2,19940322,0103,-28.4950,-102.9967, 3278,    500.4,   6.7817,  34.3335,2,  34.3345,2,    234.3,2,    228.6,2,     8.83,2,    22.61,2,     0.00,2,     1.60,2, -999.000,9, -999.000,9, -999.000,9, -999.000,9, -999.000,9,-999.0000,9,  -999.00,9,   -999.0,9,   -999.0,9,   2139.6,2,    770.5,2,   2278.0,2,     7.72,2,   20.00,  -999.0,-999.0000,-999.000,   25.00,  -999.0,  6.7351,-999.000
    31DSCG94_2,  P18S,    82,  1,    120,   1028,2,19940322,0103,-28.4950,-102.9967, 3278,    596.1,   6.0639,  34.3086,2,  34.3099,2,    244.1,2,    246.2,2,    10.08,2,    23.05,2,     0.00,2,     1.62,2,    1.421,2,    0.692,2, -999.000,9, -999.000,9, -999.000,9,-999.0000,9,  -999.00,9,   -999.0,9,   -999.0,9,   2135.7,2,    751.6,2,   2273.0,2,     7.73,2,   20.00,  -999.0,-999.0000,-999.000,   25.00,  -999.0,  6.0113,-999.000
    31DSCG94_2,  P18S,    82,  1,    119,   1248,2,19940322,0103,-28.4950,-102.9967, 3278,    698.2,   5.4871,  34.2794,2,-999.0000,5,    242.5,2,   -999.0,9,  -999.00,9,  -999.00,9,  -999.00,9,  -999.00,9, -999.000,9, -999.000,9, -999.000,9, -999.000,9, -999.000,9,-999.0000,9,  -999.00,9,   -999.0,9,   -999.0,9,   -999.0,9,   -999.0,9,   -999.0,5,  -999.00,9, -999.00,  -999.0,-999.0000,-999.000, -999.00,  -999.0,  5.4281,-999.000
    31DSCG94_2,  P18S,    82,  1,    118,   1207,2,19940322,0103,-28.4950,-102.9967, 3278,    804.0,   4.9574,  34.2753,2,  34.2768,2,    219.7,2,    214.1,2,    20.04,2,    28.47,2,     0.00,2,     2.00,2,    0.393,2,    0.183,2, -999.000,9, -999.000,9, -999.000,9,-999.0000,9,  -999.00,9,   -999.0,9,   -999.0,9,   2169.3,2,    899.8,2,   2278.0,2,     7.66,2,   20.00,  -999.0,-999.0000,-999.000,   25.00,  -999.0,  4.8921,-999.000
    31DSCG94_2,  P18S,    82,  1,    117,   1119,2,19940322,0103,-28.4950,-102.9967, 3278,    901.4,   4.5613,  34.3269,2,  34.3265,2,    190.5,2,    172.6,2,    33.45,2,    32.71,2,     0.00,2,     2.32,2, -999.000,9, -999.000,9, -999.000,9, -999.000,9, -999.000,9,-999.0000,9,  -999.00,9,   -999.0,9,   -999.0,9,   2205.6,2,   1087.0,2,   2296.0,2,     7.59,2,   20.00,  -999.0,-999.0000,-999.000,   25.00,  -999.0,  4.4901,-999.000
    31DSCG94_2,  P18S,    82,  1,    116,   1036,2,19940322,0103,-28.4950,-102.9967, 3278,   1005.0,   4.1551,  34.3890,2,  34.3899,2,    149.8,2,    143.8,2,    49.36,2,    35.13,2,     0.01,2,     2.52,2,    0.014,2,    0.010,2, -999.000,9, -999.000,9, -999.000,9,-999.0000,9,  -999.00,9,   -999.0,9,   -999.0,9,   2237.4,2,   1246.3,2,   2309.0,6,     7.54,2,   20.00,  -999.0,-999.0000,-999.000,   25.00,  -999.0,  4.0780,-999.000
    31DSCG94_2,  P18S,    82,  1,    115,   1017,2,19940322,0103,-28.4950,-102.9967, 3278,   1099.6,   3.8085,  34.4329,2,  34.4317,2,    134.9,2,    132.3,2,    61.35,2,    36.51,2,     0.00,2,     2.60,2, -999.000,9, -999.000,9, -999.000,9, -999.000,9, -999.000,9,-999.0000,9,  -999.00,9,   -999.0,9,   -999.0,9,   -999.0,9,   -999.0,9,   -999.0,9,  -999.00,9, -999.00,  -999.0,-999.0000,-999.000, -999.00,  -999.0,  3.7262,-999.000
    31DSCG94_2,  P18S,    82,  1,    114,   1016,2,19940322,0103,-28.4950,-102.9967, 3278,   1201.6,   3.6130,  34.4798,2,  34.4787,2,    124.0,2,    123.0,2,    72.92,2,    37.16,2,     0.00,2,     2.65,2, -999.000,9, -999.000,9, -999.000,9, -999.000,9, -999.000,9,-999.0000,9,  -999.00,9,   -999.0,9,   -999.0,9,   -999.0,9,   -999.0,9,   -999.0,9,     7.51,2, -999.00,  -999.0,-999.0000,-999.000,   25.00,  -999.0,  3.5239,-999.000
    31DSCG94_2,  P18S,    82,  1,    113,   1209,2,19940322,0103,-28.4950,-102.9967, 3278,   1297.5,   3.3454,  34.5135,2,  34.5122,2,    125.4,2,    126.2,2,    80.38,2,    36.75,2,     0.00,2,     2.65,2, -999.000,9, -999.000,9, -999.000,9, -999.000,9, -999.000,9,-999.0000,9,  -999.00,9,   -999.0,9,   -999.0,9,   -999.0,9,   -999.0,9,   -999.0,9,     7.52,2, -999.00,  -999.0,-999.0000,-999.000,   25.00,  -999.0,  3.2508,-999.000
    31DSCG94_2,  P18S,    82,  1,    112,   1033,3,19940322,0103,-28.4950,-102.9967, 3278,   1397.5,   3.0695,  34.5350,2,-999.0000,9,    131.1,2,   -999.0,9,  -999.00,9,  -999.00,9,  -999.00,9,  -999.00,9, -999.000,9, -999.000,9, -999.000,9, -999.000,9, -999.000,9,-999.0000,9,  -999.00,9,   -999.0,9,   -999.0,9,   -999.0,9,   -999.0,9,   -999.0,9,  -999.00,9, -999.00,  -999.0,-999.0000,-999.000, -999.00,  -999.0,  2.9694,-999.000
    31DSCG94_2,  P18S,    82,  1,    111,   1263,2,19940322,0103,-28.4950,-102.9967, 3278,   1506.3,   2.7701,  34.5570,2,  34.5555,2,    139.1,2,    143.5,2,    89.73,2,    35.35,2,     0.00,2,     2.55,2, -999.000,9, -999.000,9, -999.000,9, -999.000,9, -999.000,9,-999.0000,9,  -999.00,9,   -999.0,9,   -999.0,9,   -999.0,9,   -999.0,9,   -999.0,9,     7.55,2, -999.00,  -999.0,-999.0000,-999.000,   25.00,  -999.0,  2.6645,-999.000
    31DSCG94_2,  P18S,    82,  1,    110,   1005,2,19940322,0103,-28.4950,-102.9967, 3278,   1602.7,   2.5667,  34.5748,2,  34.5749,2,    146.3,2,    149.7,2,    94.04,2,    34.57,2,     0.00,2,     2.48,2, -999.000,9, -999.000,9, -999.000,9, -999.000,9, -999.000,9,-999.0000,9,  -999.00,9,   -999.0,9,   -999.0,9,   -999.0,9,   -999.0,9,   -999.0,9,     7.56,2, -999.00,  -999.0,-999.0000,-999.000,   25.00,  -999.0,  2.4555,-999.000
    31DSCG94_2,  P18S,    82,  1,    109,   1611,2,19940322,0103,-28.4950,-102.9967, 3278,   1750.3,   2.3460,  34.6009,2,  34.6022,2,    151.1,2,    154.2,2,   101.31,2,    34.39,2,     0.00,2,     2.43,2, -999.000,9, -999.000,9, -999.000,9, -999.000,9, -999.000,9,-999.0000,9,  -999.00,9,   -999.0,9,   -999.0,9,   -999.0,9,   -999.0,9,   -999.0,9,     7.57,2, -999.00,  -999.0,-999.0000,-999.000,   25.00,  -999.0,  2.2255,-999.000
    31DSCG94_2,  P18S,    82,  1,    108,   1218,2,19940322,0103,-28.4950,-102.9967, 3278,   1751.1,   2.3453,  34.6008,2,  34.6007,2,    151.1,2,    153.9,6,   100.81,2,    34.55,2,     0.00,2,     2.43,2, -999.000,9, -999.000,9, -999.000,9, -999.000,9, -999.000,9,-999.0000,9,  -999.00,9,   -999.0,9,   -999.0,9,   -999.0,9,   -999.0,9,   -999.0,9,  -999.00,9, -999.00,  -999.0,-999.0000,-999.000, -999.00,  -999.0,  2.2247,-999.000
    31DSCG94_2,  P18S,    82,  1,    107,   1257,2,19940322,0103,-28.4950,-102.9967, 3278,   2248.8,   1.8991,  34.6564,2,  34.6546,2,    155.7,2,    157.2,2,   117.91,2,    34.22,2,     0.00,2,     2.44,2, -999.000,9, -999.000,9, -999.000,9, -999.000,9, -999.000,9,-999.0000,9,  -999.00,9,   -999.0,9,   -999.0,9,   -999.0,9,   -999.0,9,   -999.0,9,     7.58,2, -999.00,  -999.0,-999.0000,-999.000,   25.00,  -999.0,  1.7430,-999.000
    31DSCG94_2,  P18S,    82,  1,    106,   1224,2,19940322,0103,-28.4950,-102.9967, 3278,   2499.1,   1.8576,  34.6638,2,  34.6625,2,    157.4,2,    158.6,2,   119.35,2,    34.07,2,     0.00,2,     2.44,2, -999.000,9, -999.000,9, -999.000,9, -999.000,9, -999.000,9,-999.0000,9,  -999.00,9,   -999.0,9,   -999.0,9,   -999.0,9,   -999.0,9,   -999.0,9,  -999.00,9, -999.00,  -999.0,-999.0000,-999.000, -999.00,  -999.0,  1.6799,-999.000
    31DSCG94_2,  P18S,    82,  1,    105,   1246,2,19940322,0103,-28.4950,-102.9967, 3278,   2747.2,   1.8490,  34.6684,2,  34.6673,2,    159.8,2,    160.0,2,   120.47,2,    34.08,2,     0.00,2,     2.43,2, -999.000,9, -999.000,9, -999.000,9, -999.000,9, -999.000,9,-999.0000,9,  -999.00,9,   -999.0,9,   -999.0,9,   -999.0,9,   -999.0,9,   -999.0,9,     7.59,2, -999.00,  -999.0,-999.0000,-999.000,   25.00,  -999.0,  1.6486,-999.000
    31DSCG94_2,  P18S,    82,  1,    104,   1217,2,19940322,0103,-28.4950,-102.9967, 3278,   2997.4,   1.8421,  34.6748,2,  34.6736,2,    162.7,2,    162.1,6,   121.03,2,    33.91,2,     0.00,2,     2.38,2, -999.000,9, -999.000,9, -999.000,9, -999.000,9, -999.000,9,-999.0000,9,  -999.00,9,   -999.0,9,   -999.0,9,   -999.0,9,   -999.0,9,   -999.0,9,  -999.00,9, -999.00,  -999.0,-999.0000,-999.000, -999.00,  -999.0,  1.6180,-999.000
    31DSCG94_2,  P18S,    82,  1,    103,   9999,2,19940322,0103,-28.4950,-102.9967, 3278,   3248.8,   1.8445,  34.6798,2,  34.6808,2,    164.6,2,    163.4,2,   120.60,2,    33.49,2,     0.00,2,     2.38,2, -999.000,9, -999.000,9, -999.000,9, -999.000,9, -999.000,9,-999.0000,9,  -999.00,9,   -999.0,9,   -999.0,9,   -999.0,9,   -999.0,9,   -999.0,9,  -999.00,9, -999.00,  -999.0,-999.0000,-999.000, -999.00,  -999.0,  1.5954,-999.000
    31DSCG94_2,  P18S,    82,  1,    102,   1223,2,19940322,0103,-28.4950,-102.9967, 3278,   3250.0,   1.8441,  34.6797,2,  34.6788,2,    164.5,2,    163.7,2,   119.34,2,    33.92,2,     0.00,2,     2.39,2, -999.000,9, -999.000,9, -999.000,9, -999.000,9, -999.000,9,-999.0000,9,  -999.00,9,   -999.0,9,   -999.0,9,   -999.0,9,   -999.0,9,   -999.0,9,  -999.00,9, -999.00,  -999.0,-999.0000,-999.000, -999.00,  -999.0,  1.5949,-999.000
    31DSCG94_2,  P18S,    82,  1,    101,   1041,2,19940322,0103,-28.4950,-102.9967, 3278,   3341.5,   1.8515,  34.6801,2,  34.6818,2,    164.7,2,    163.7,2,   118.44,2,    33.86,2,     0.00,2,     2.41,2, -999.000,9, -999.000,9, -999.000,9, -999.000,9, -999.000,9,-999.0000,9,  -999.00,9,   -999.0,9,   -999.0,9,   -999.0,9,   -999.0,9,   -999.0,9,  -999.00,9, -999.00,  -999.0,-999.0000,-999.000, -999.00,  -999.0,  1.5928,-999.000