BOTTLE,20220630CCHSIOAMB
EXPOCODE,SECT_ID,STNNBR,CASTNO,SAMPNO,BTLNBR,BTLNBR_FLAG_W,DATE,TIME,LATITUDE,LONGITUDE,DEPTH,CTDPRS,CTDTMP,CTDSAL,CTDSAL_FLAG_W,SALNTY,SALNTY_FLAG_W,CTDOXY,CTDOXY_FLAG_W,OXYGEN,OXYGEN_FLAG_W,SILCAT,SILCAT_FLAG_W,NITRAT,NITRAT_FLAG_W,NITRIT,NITRIT_FLAG_W,PHSPHT,PHSPHT_FLAG_W,CFC-11,CFC-11_FLAG_W,CFC-12,CFC-12_FLAG_W,CFC113,CFC113_FLAG_W,CCL4,CCL4_FLAG_W,TRITUM,TRITUM_FLAG_W,HELIUM,HELIUM_FLAG_W,DELHE3,DELHE3_FLAG_W,DELC14,DELC14_FLAG_W,DELC13,DELC13_FLAG_W,TCARBN,TCARBN_FLAG_W,PCO2,PCO2_FLAG_W,ALKALI,ALKALI_FLAG_W,PH,PH_FLAG_W,PCO2TMP,C14ERR,HELIER,DELHER,PH_TMP,C13ERR,THETA,TRITER
,,,,,,,,,,,,DBAR,ITS-90,PSS-78,,PSS-78,,UMOL/KG,,UMOL/KG,,UMOL/KG,,UMOL/KG,,UMOL/KG,,UMOL/KG,,PMOL/KG,,PMOL/KG,,PMOL/KG,,PMOL/KG,,TU,,NMOL/KG,,PERCNT,,/MILLE,,/MILLE,,UMOL/KG,,UATM,,UMOL/KG,,,,DEG C,/MILLE,NMOL/KG,PERCNT,DEG C,/MILLE,DEG C,TU
    31DSCG94_3,  P18N,   158,  1,    136,   1025,2,19940417,0145,  4.9950,-110.3350, 4219,      9.7,  28.9877,  33.6918,2,  33.6974,2,    157.4,2,    198.8,6,     2.09,2,     0.08,2,     0.00,2,     0.15,2,    1.676,2,    0.984,2, -999.000,9, -999.000,9, -999.000,9,-999.0000,9,  -999.00,9,   -999.0,9,      1.5,2,   1893.1,2,    255.8,2,   2218.0,6,     8.12,2,   20.00,  -999.0,-999.0000,-999.000,   25.00,  -999.0, 28.9854,-999.000
    31DSCG94_3,  P18N,   158,  1,    135,   1247,2,19940417,0145,  4.9950,-110.3350, 4219,     23.1,  28.8723,  33.7012,2,  33.7069,2,    155.3,2,    199.0,2,     1.36,2,     0.05,2,     0.00,2,     0.12,2,    1.682,6,    0.967,6, -999.000,9, -999.000,9, -999.000,9,-999.0000,9,  -999.00,9,   -999.0,9,   -999.0,9,   -999.0,9,   -999.0,9,   -999.0,9,     8.12,2, -999.00,  -999.0,-999.0000,-999.000,   25.00,  -999.0, 28.8667,-999.000
    31DSCG94_3,  P18N,   158,  1,    134,   1216,2,19940417,0145,  4.9950,-110.3350, 4219,     49.4,  24.9357,  34.2377,2,  34.2558,2,    158.4,2,    158.3,2,     3.71,2,     5.31,2,     0.25,2,     0.65,2, -999.000,5, -999.000,5, -999.000,9, -999.000,9, -999.000,9,-999.0000,9,  -999.00,9,   -999.0,9,   -999.0,9,   2002.8,2,    379.0,2,   2264.0,2,     7.98,2,   20.00,  -999.0,-999.0000,-999.000,   25.00,  -999.0, 24.9251,-999.000
    31DSCG94_3,  P18N,   158,  1,    133,   1244,2,19940417,0145,  4.9950,-110.3350, 4219,     75.1,  17.2410,  34.6855,2,  34.6900,2,     88.2,2,     73.2,2,    14.38,2,    19.61,2,     0.88,2,     1.54,2,    1.393,6,    0.750,6, -999.000,9, -999.000,9, -999.000,9,-999.0000,9,  -999.00,9,   -999.0,9,   -999.0,9,   -999.0,9,   -999.0,9,   -999.0,9,     7.71,2, -999.00,  -999.0,-999.0000,-999.000,   25.00,  -999.0, 17.2285,-999.000
    31DSCG94_3,  P18N,   158,  1,    132,   1003,3,19940417,0145,  4.9950,-110.3350, 4219,    101.4,  13.7746,  34.6768,2,  34.6769,2,     54.2,2,     41.9,2,    22.59,2,    27.70,2,     0.01,2,     2.05,2,    0.764,2,    0.408,2, -999.000,9, -999.000,9, -999.000,9,-999.0000,9,  -999.00,9,   -999.0,9,   -999.0,9,   2199.0,2,   1103.0,3,   2289.0,2,  -999.00,9,   20.00,  -999.0,-999.0000,-999.000, -999.00,  -999.0, 13.7602,-999.000
    31DSCG94_3,  P18N,   158,  1,    131,   1211,2,19940417,0145,  4.9950,-110.3350, 4219,    123.6,  12.7142,  34.6792,2,  34.6798,2,     49.7,2,     54.7,2,    25.47,2,    27.66,2,     0.00,2,     2.03,2,    0.684,2,    0.360,2, -999.000,9, -999.000,9, -999.000,9,-999.0000,9,  -999.00,9,   -999.0,9,   -999.0,9,   -999.0,9,   -999.0,9,   -999.0,9,     7.59,2, -999.00,  -999.0,-999.0000,-999.000,   25.00,  -999.0, 12.6976,-999.000
    31DSCG94_3,  P18N,   158,  1,    130,   1241,2,19940417,0145,  4.9950,-110.3350, 4219,    146.8,  12.0087,  34.6384,2,  34.6371,2,     65.0,2,     96.4,2,    26.24,2,    24.42,2,     0.00,2,     1.78,2,    0.826,2,    0.426,2, -999.000,9, -999.000,9, -999.000,9,-999.0000,9,  -999.00,9,   -999.0,9,   -999.0,9,   2176.2,2,    892.4,2,   2291.0,2,     7.66,2,   20.00,  -999.0,-999.0000,-999.000,   25.00,  -999.0, 11.9897,-999.000
    31DSCG94_3,  P18N,   158,  1,    129,   1240,2,19940417,0145,  4.9950,-110.3350, 4219,    199.7,  11.6020,  34.7368,2,  34.7340,2,     37.4,2,     30.0,2,    28.48,2,    32.06,2,     0.00,2,     2.40,2,    0.324,2,    0.179,2, -999.000,9, -999.000,9, -999.000,9,-999.0000,9,  -999.00,9,   -999.0,9,   -999.0,9,   2232.1,3,   1314.9,2,   2296.0,2,     7.51,2,   20.00,  -999.0,-999.0000,-999.000,   25.00,  -999.0, 11.5766,-999.000
    31DSCG94_3,  P18N,   158,  1,    128,   1032,3,19940417,0145,  4.9950,-110.3350, 4219,    250.3,  10.6460,  34.6729,2,  34.6747,2,     57.9,2,     85.8,2,    29.32,2,    28.22,2,     0.00,2,     1.98,2,    0.471,2,    0.257,2, -999.000,9, -999.000,9, -999.000,9,-999.0000,9,  -999.00,9,   -999.0,9,   -999.0,9,   2201.6,3,   1030.2,3,   2299.0,2,  -999.00,9,   20.00,  -999.0,-999.0000,-999.000, -999.00,  -999.0, 10.6159,-999.000
    31DSCG94_3,  P18N,   158,  1,    127,   1008,2,19940417,0145,  4.9950,-110.3350, 4219,    299.7,  10.3723,  34.7032,2,  34.7036,2,     44.5,2,     51.7,2,    30.50,2,    31.93,2,     0.00,2,     2.22,2,    0.255,6,    0.141,6, -999.000,9, -999.000,9, -999.000,9,-999.0000,9,  -999.00,9,   -999.0,9,   -999.0,9,   2228.6,3,   1256.2,2,   2306.0,2,     7.53,2,   20.00,  -999.0,-999.0000,-999.000,   25.00,  -999.0, 10.3367,-999.000
    31DSCG94_3,  P18N,   158,  1,    126,   1007,2,19940417,0145,  4.9950,-110.3350, 4219,    348.8,   9.9539,  34.6964,2,  34.6965,2,     37.5,2,     37.9,2,    32.72,2,    34.13,2,     0.00,2,     2.44,2,    0.154,2,    0.086,2, -999.000,9, -999.000,9, -999.000,9,-999.0000,9,  -999.00,9,   -999.0,9,   -999.0,9,   -999.0,9,   -999.0,9,   -999.0,9,     7.49,2, -999.00,  -999.0,-999.0000,-999.000,   25.00,  -999.0,  9.9134,-999.000
    31DSCG94_3,  P18N,   158,  1,    125,   1256,2,19940417,0145,  4.9950,-110.3350, 4219,    399.2,   9.5025,  34.6770,2,  34.6762,2,     32.7,2,     26.5,2,    35.71,2,    35.96,2,     0.00,2,     2.58,2,    0.084,2,    0.048,2, -999.000,9, -999.000,9, -999.000,9,-999.0000,9,  -999.00,9,   -999.0,9,   -999.0,9,   2258.7,2,   1537.3,2,   2312.0,2,     7.45,2,   20.00,  -999.0,-999.0000,-999.000,   25.00,  -999.0,  9.4573,-999.000
    31DSCG94_3,  P18N,   158,  1,    123,   1220,2,19940417,0145,  4.9950,-110.3350, 4219,    499.8,   8.2981,  34.6292,2,  34.6284,2,     14.6,2,      4.6,2,    46.77,2,    39.20,2,     0.00,2,     2.97,2,    0.016,2,    0.005,2, -999.000,9, -999.000,9, -999.000,9,-999.0000,9,  -999.00,9,   -999.0,9,   -999.0,9,   2292.9,2,   1857.6,2,   2311.0,2,     7.38,2,   20.00,  -999.0,-999.0000,-999.000,   25.00,  -999.0,  8.2457,-999.000
    31DSCG94_3,  P18N,   158,  1,    122,   1245,2,19940417,0145,  4.9950,-110.3350, 4219,    601.5,   7.1919,  34.5880,2,  34.5877,2,     12.4,2,      6.9,2,    55.72,2,    41.99,2,     0.00,2,     3.13,2,    0.300,4,    0.003,2, -999.000,9, -999.000,9, -999.000,9,-999.0000,9,  -999.00,9,   -999.0,9,   -999.0,9,   2306.1,2,   1947.4,2,   2323.0,2,     7.36,2,   20.00,  -999.0,-999.0000,-999.000,   25.00,  -999.0,  7.1334,-999.000
    31DSCG94_3,  P18N,   158,  1,    121,   1206,2,19940417,0145,  4.9950,-110.3350, 4219,    701.6,   6.4035,  34.5650,2,  34.5656,2,     20.4,2,     20.9,2,    62.41,2,    43.26,2,     0.00,2,     3.14,2, -999.000,9, -999.000,9, -999.000,9, -999.000,9, -999.000,9,-999.0000,9,  -999.00,9,   -999.0,9,   -999.0,9,   2306.7,2,   1876.7,2,   2333.0,2,     7.38,2,   20.00,  -999.0,-999.0000,-999.000,   25.00,  -999.0,  6.3390,-999.000
    31DSCG94_3,  P18N,   158,  1,    120,   1028,2,19940417,0145,  4.9950,-110.3350, 4219,    801.6,   5.7822,  34.5599,2,  34.5604,2,     27.8,2,     25.1,2,    73.11,2,    44.26,2,     0.00,2,     3.14,2,    0.000,2,   -0.001,2, -999.000,9, -999.000,9, -999.000,9,-999.0000,9,  -999.00,9,   -999.0,9,   -999.0,9,   2314.6,2,   1891.5,2,   2336.0,2,     7.38,2,   20.00,  -999.0,-999.0000,-999.000,   25.00,  -999.0,  5.7117,-999.000
    31DSCG94_3,  P18N,   158,  1,    119,   1248,2,19940417,0145,  4.9950,-110.3350, 4219,    900.0,   5.1811,  34.5574,2,  34.5575,2,     30.9,2,     33.6,2,    82.94,2,    44.27,2,     0.00,2,     3.15,2, -999.000,9, -999.000,9, -999.000,9, -999.000,9, -999.000,9,-999.0000,9,  -999.00,9,   -999.0,9,   -999.0,9,   2322.3,2,   1852.1,2,   2345.0,2,     7.39,2,   20.00,  -999.0,-999.0000,-999.000,   25.00,  -999.0,  5.1054,-999.000
    31DSCG94_3,  P18N,   158,  1,    118,   1115,2,19940417,0145,  4.9950,-110.3350, 4219,    999.7,   4.7155,  34.5633,2,  34.5640,2,     38.7,2,     43.4,2,    90.72,2,    43.85,2,     0.00,2,     3.10,2,    0.002,2,    0.000,2, -999.000,9, -999.000,9, -999.000,9,   1.8520,2,    17.83,2,   -999.0,9,   -999.0,9,   2326.3,2,   1789.3,2,   2356.0,6,     7.40,2,   20.00,  -999.0,-999.0000,-999.000,   25.00,  -999.0,  4.6342,-999.000
    31DSCG94_3,  P18N,   158,  1,    117,   1119,2,19940417,0145,  4.9950,-110.3350, 4219,   1200.7,   3.9096,  34.5782,2,  34.5769,2,     53.6,2,     58.5,2,   107.66,2,    42.75,2,     0.00,2,     3.05,2, -999.000,9, -999.000,9, -999.000,9, -999.000,9, -999.000,9,   1.8800,2,    21.21,2,   -999.0,9,   -999.0,9,   -999.0,9,   -999.0,9,   -999.0,9,  -999.00,9, -999.00,  -999.0,-999.0000,-999.000, -999.00,  -999.0,  3.8176,-999.000
    31DSCG94_3,  P18N,   158,  1,    116,   1036,2,19940417,0145,  4.9950,-110.3350, 4219,   1399.4,   3.3847,  34.5942,2,  34.5950,2,     64.3,2,     67.9,2,   121.48,2,    42.21,2,     0.00,2,     3.01,2, -999.000,9, -999.000,9, -999.000,9, -999.000,9, -999.000,9,   1.8780,2,    23.96,2,   -999.0,9,   -999.0,9,   -999.0,9,   -999.0,9,   -999.0,9,     7.45,2, -999.00,  -999.0,-999.0000,-999.000,   25.00,  -999.0,  3.2810,-999.000
    31DSCG94_3,  P18N,   158,  1,    115,   1017,2,19940417,0145,  4.9950,-110.3350, 4219,   1600.7,   2.9261,  34.6114,2,  34.6117,2,     75.3,2,     76.1,2,   132.04,2,    41.87,2,     0.00,2,     2.96,2, -999.000,9, -999.000,9, -999.000,9, -999.000,9, -999.000,9,   1.9020,2,    26.26,2,   -999.0,9,   -999.0,9,   -999.0,9,   -999.0,9,   -999.0,9,  -999.00,9, -999.00,  -999.0,-999.0000,-999.000, -999.00,  -999.0,  2.8106,-999.000
    31DSCG94_3,  P18N,   158,  1,    114,   1016,2,19940417,0145,  4.9950,-110.3350, 4219,   1798.1,   2.5976,  34.6259,2,  34.6251,2,     86.9,2,     85.8,2,   140.20,2,    41.11,2,     0.00,2,     2.92,2, -999.000,9, -999.000,9, -999.000,9, -999.000,9, -999.000,9,   1.8990,2,    27.63,2,   -999.0,9,   -999.0,9,   -999.0,9,   -999.0,9,   -999.0,9,     7.48,2, -999.00,  -999.0,-999.0000,-999.000,   25.00,  -999.0,  2.4695,-999.000
    31DSCG94_3,  P18N,   158,  1,    113,   1209,2,19940417,0145,  4.9950,-110.3350, 4219,   1999.4,   2.3240,  34.6393,2,  34.6388,2,     96.5,2,     94.8,2,   144.73,2,    40.35,2,     0.00,2,     2.83,2, -999.000,9, -999.000,9, -999.000,9, -999.000,9, -999.000,9,   1.9180,2,    29.27,2,   -999.0,9,   -999.0,9,   -999.0,9,   -999.0,9,   -999.0,9,  -999.00,9, -999.00,  -999.0,-999.0000,-999.000, -999.00,  -999.0,  2.1827,-999.000
    31DSCG94_3,  P18N,   158,  1,    112,   1033,2,19940417,0145,  4.9950,-110.3350, 4219,   2197.6,   2.0833,  34.6522,2,  34.6524,2,    104.8,2,    105.4,2,   148.31,2,    39.65,2,     0.00,2,     2.76,2, -999.000,9, -999.000,9, -999.000,9, -999.000,9, -999.000,9,-999.0000,9,  -999.00,9,   -999.0,9,   -999.0,9,   -999.0,9,   -999.0,9,   -999.0,9,     7.51,2, -999.00,  -999.0,-999.0000,-999.000,   25.00,  -999.0,  1.9285,-999.000
    31DSCG94_3,  P18N,   158,  1,    111,   1240,2,19940417,0145,  4.9950,-110.3350, 4219,   2398.7,   1.9377,  34.6603,2,  34.6598,2,    110.2,2,    110.5,2,   151.81,2,    39.02,2,     0.00,2,     2.75,2, -999.000,9, -999.000,9, -999.000,9, -999.000,9, -999.000,9,   1.9240,6,    31.72,6,   -999.0,9,   -999.0,9,   -999.0,9,   -999.0,9,   -999.0,9,  -999.00,9, -999.00,  -999.0,-999.0000,-999.000, -999.00,  -999.0,  1.7677,-999.000
    31DSCG94_3,  P18N,   158,  1,    110,   1005,2,19940417,0145,  4.9950,-110.3350, 4219,   2601.8,   1.8543,  34.6658,2,  34.6658,2,    112.7,2,    111.1,2,   155.89,2,    38.93,2,     0.00,2,     2.72,2, -999.000,9, -999.000,9, -999.000,9, -999.000,9, -999.000,9,   1.9520,2,    34.38,2,   -999.0,9,   -999.0,9,   -999.0,9,   -999.0,9,   -999.0,9,     7.53,2, -999.00,  -999.0,-999.0000,-999.000,   25.00,  -999.0,  1.6673,-999.000
    31DSCG94_3,  P18N,   158,  1,    109,   1611,2,19940417,0145,  4.9950,-110.3350, 4219,   2798.8,   1.8176,  34.6691,2,  34.6687,2,    113.6,2,    112.6,6,   157.20,2,    38.59,2,     0.00,2,     2.70,2, -999.000,9, -999.000,9, -999.000,9, -999.000,9, -999.000,9,   1.9530,2,    34.22,2,   -999.0,9,   -999.0,9,   -999.0,9,   -999.0,9,   -999.0,9,  -999.00,9, -999.00,  -999.0,-999.0000,-999.000, -999.00,  -999.0,  1.6130,-999.000
    31DSCG94_3,  P18N,   158,  1,    108,   1218,2,19940417,0145,  4.9950,-110.3350, 4219,   2999.3,   1.7557,  34.6724,2,  34.6721,2,    119.5,2,    120.4,2,   155.99,2,    38.33,2,     0.00,2,     2.66,2, -999.000,9, -999.000,9, -999.000,9, -999.000,9, -999.000,9,   1.9350,2,    30.97,2,   -999.0,9,   -999.0,9,   -999.0,9,   -999.0,9,   -999.0,9,     7.54,2, -999.00,  -999.0,-999.0000,-999.000,   25.00,  -999.0,  1.5333,-999.000
    31DSCG94_3,  P18N,   158,  1,    107,   1257,2,19940417,0145,  4.9950,-110.3350, 4219,   3200.2,   1.6272,  34.6788,2,  34.6783,2,    128.5,2,    130.9,2,   154.15,2,    37.69,2,     0.00,2,     2.64,2, -999.000,9, -999.000,9, -999.000,9, -999.000,9, -999.000,9,   1.9210,2,    24.96,2,   -999.0,9,   -999.0,9,   -999.0,9,   -999.0,9,   -999.0,9,  -999.00,9, -999.00,  -999.0,-999.0000,-999.000, -999.00,  -999.0,  1.3881,-999.000
    31DSCG94_3,  P18N,   158,  1,    106,   1224,2,19940417,0145,  4.9950,-110.3350, 4219,   3398.6,   1.5556,  34.6832,2,  34.6831,2,    134.4,2,    136.6,2,   153.75,2,    37.39,2,     0.00,2,     2.59,2, -999.000,9, -999.000,9, -999.000,9, -999.000,9, -999.000,9,   1.9370,3,    21.77,2,   -999.0,9,   -999.0,9,   -999.0,9,   -999.0,9,   -999.0,9,     7.57,2, -999.00,  -999.0,-999.0000,-999.000,   25.00,  -999.0,  1.2983,-999.000
    31DSCG94_3,  P18N,   158,  1,    105,   1246,2,19940417,0145,  4.9950,-110.3350, 4219,   3599.0,   1.5230,  34.6854,2,  34.6879,2,    139.8,2,    141.5,2,   152.26,2,    37.25,2,     0.00,2,     2.56,2, -999.000,9, -999.000,9, -999.000,9, -999.000,9, -999.000,9,   1.9080,2,    20.35,2,   -999.0,9,   -999.0,9,   -999.0,9,   -999.0,9,   -999.0,9,  -999.00,9, -999.00,  -999.0,-999.0000,-999.000, -999.00,  -999.0,  1.2461,-999.000
    31DSCG94_3,  P18N,   158,  1,    104,   1217,2,19940417,0145,  4.9950,-110.3350, 4219,   3701.1,   1.5115,  34.6863,2,  34.6856,2,    142.0,2,    143.4,2,   151.69,2,    37.00,2,     0.00,2,     2.55,2, -999.000,9, -999.000,9, -999.000,9, -999.000,9, -999.000,9,   1.9070,2,    19.33,2,   -999.0,9,   -999.0,9,   -999.0,9,   -999.0,9,   -999.0,9,     7.58,2, -999.00,  -999.0,-999.0000,-999.000,   25.00,  -999.0,  1.2242,-999.000
    31DSCG94_3,  P18N,   158,  1,    103,   9999,2,19940417,0145,  4.9950,-110.3350, 4219,   3997.2,   1.4952,  34.6885,2,  34.6894,2,    147.7,2,    147.4,2,   153.91,2,    36.59,2,     0.00,2,     2.53,2, -999.000,9, -999.000,9, -999.000,9, -999.000,9, -999.000,9,-999.0000,9,  -999.00,9,   -999.0,9,   -999.0,9,   -999.0,9,   -999.0,9,   -999.0,9,  -999.00,9, -999.00,  -999.0,-999.0000,-999.000, -999.00,  -999.0,  1.1767,-999.000
    31DSCG94_3,  P18N,   158,  1,    102,   1223,2,19940417,0145,  4.9950,-110.3350, 4219,   3998.2,   1.4954,  34.6883,2,  34.6867,2,    147.7,2,    148.6,2,   153.21,2,    36.86,2,     0.00,2,     2.51,2, -999.000,9, -999.000,9, -999.000,9, -999.000,9, -999.000,9,   1.9090,2,    17.77,2,   -999.0,9,   -999.0,9,   -999.0,9,   -999.0,9,   -999.0,9,     7.59,2, -999.00,  -999.0,-999.0000,-999.000,   25.00,  -999.0,  1.1768,-999.000
    31DSCG94_3,  P18N,   158,  1,    101,   1041,2,19940417,0145,  4.9950,-110.3350, 4219,   4265.6,   1.5215,  34.6886,2,  34.6880,2,    149.5,2,    148.5,6,   153.62,2,    36.61,2,     0.00,2,     2.52,2, -999.000,9, -999.000,9, -999.000,9, -999.000,9, -999.000,9,   1.8960,2,    17.35,2,   -999.0,9,   -999.0,9,   -999.0,9,   -999.0,9,   -999.0,9,  -999.00,9, -999.00,  -999.0,-999.0000,-999.000, -999.00,  -999.0,  1.1725,-999.000