BOTTLE,20220630CCHSIOAMB
EXPOCODE,SECT_ID,STNNBR,CASTNO,SAMPNO,BTLNBR,BTLNBR_FLAG_W,DATE,TIME,LATITUDE,LONGITUDE,DEPTH,CTDPRS,CTDTMP,CTDSAL,CTDSAL_FLAG_W,SALNTY,SALNTY_FLAG_W,CTDOXY,CTDOXY_FLAG_W,OXYGEN,OXYGEN_FLAG_W,SILCAT,SILCAT_FLAG_W,NITRAT,NITRAT_FLAG_W,NITRIT,NITRIT_FLAG_W,PHSPHT,PHSPHT_FLAG_W,CFC-11,CFC-11_FLAG_W,CFC-12,CFC-12_FLAG_W,CFC113,CFC113_FLAG_W,CCL4,CCL4_FLAG_W,TRITUM,TRITUM_FLAG_W,HELIUM,HELIUM_FLAG_W,DELHE3,DELHE3_FLAG_W,DELC14,DELC14_FLAG_W,DELC13,DELC13_FLAG_W,TCARBN,TCARBN_FLAG_W,PCO2,PCO2_FLAG_W,ALKALI,ALKALI_FLAG_W,PH,PH_FLAG_W,PCO2TMP,C14ERR,HELIER,DELHER,PH_TMP,C13ERR,THETA,TRITER
,,,,,,,,,,,,DBAR,ITS-90,PSS-78,,PSS-78,,UMOL/KG,,UMOL/KG,,UMOL/KG,,UMOL/KG,,UMOL/KG,,UMOL/KG,,PMOL/KG,,PMOL/KG,,PMOL/KG,,PMOL/KG,,TU,,NMOL/KG,,PERCNT,,/MILLE,,/MILLE,,UMOL/KG,,UATM,,UMOL/KG,,,,DEG C,/MILLE,NMOL/KG,PERCNT,DEG C,/MILLE,DEG C,TU
    31DSCG94_3,  P18N,   183,  1,    136,   1025,2,19940423,1424, 18.5000,-110.0000, 3453,      8.8,  25.3952,  34.3637,2,  34.3681,2,    214.8,2,    209.4,2,     0.00,2,     0.06,2,     0.00,2,     0.14,2,    1.902,2,    1.089,2, -999.000,9, -999.000,9, -999.000,9,-999.0000,9,  -999.00,9,   -999.0,9,   -999.0,9,   1947.7,3,    280.8,2,   2276.0,2,     8.10,2,   20.00,  -999.0,-999.0000,-999.000,   25.00,  -999.0, 25.3933,-999.000
    31DSCG94_3,  P18N,   183,  1,    135,   1247,2,19940423,1424, 18.5000,-110.0000, 3453,     24.9,  25.1998,  34.5476,2,  34.5509,2,    207.1,2,    211.7,2,     0.00,2,     0.00,2,     0.00,2,     0.20,2, -999.000,9, -999.000,9, -999.000,9, -999.000,9, -999.000,9,-999.0000,9,  -999.00,9,   -999.0,9,   -999.0,9,   -999.0,9,   -999.0,9,   -999.0,9,     8.08,2, -999.00,  -999.0,-999.0000,-999.000,   25.00,  -999.0, 25.1943,-999.000
    31DSCG94_3,  P18N,   183,  1,    134,   1216,2,19940423,1424, 18.5000,-110.0000, 3453,     50.5,  24.0234,  34.5014,2,  34.5023,2,    203.9,2,    216.0,2,     0.00,2,     0.01,2,     0.00,2,     0.23,2,    2.020,2,    1.136,2, -999.000,9, -999.000,9, -999.000,9,-999.0000,9,  -999.00,9,   -999.0,9,   -999.0,9,   1978.8,2,    305.8,2,   2284.0,2,     8.07,2,   20.00,  -999.0,-999.0000,-999.000,   25.00,  -999.0, 24.0128,-999.000
    31DSCG94_3,  P18N,   183,  1,    133,   1244,2,19940423,1424, 18.5000,-110.0000, 3453,     75.1,  22.2034,  34.3722,2,  34.3968,2,    203.0,2,    217.1,2,     0.14,2,     0.00,2,     0.00,2,     0.29,2,    2.137,2,    1.193,2, -999.000,9, -999.000,9, -999.000,9,-999.0000,9,  -999.00,9,   -999.0,9,   -999.0,9,   -999.0,9,   -999.0,9,   -999.0,9,     8.02,2, -999.00,  -999.0,-999.0000,-999.000,   25.00,  -999.0, 22.1885,-999.000
    31DSCG94_3,  P18N,   183,  1,    132,   1003,2,19940423,1424, 18.5000,-110.0000, 3453,    101.5,  17.1186,  34.1071,2,  34.1259,2,    117.5,2,    137.9,2,     6.27,2,     9.31,2,     0.12,2,     1.09,2,    2.212,6,    1.168,6, -999.000,9, -999.000,9, -999.000,9,-999.0000,9,  -999.00,9,   -999.0,9,   -999.0,9,   2096.3,2,    659.2,2,   -999.0,5,     7.79,2,   20.00,  -999.0,-999.0000,-999.000,   25.00,  -999.0, 17.1019,-999.000
    31DSCG94_3,  P18N,   183,  1,    131,   1211,2,19940423,1424, 18.5000,-110.0000, 3453,    123.4,  14.3329,  34.4154,2,  34.4482,3,     38.5,2,     41.1,2,    19.16,2,    23.54,2,     0.00,2,     2.10,2,    1.363,2,    0.715,2, -999.000,9, -999.000,9, -999.000,9,-999.0000,9,  -999.00,9,   -999.0,9,   -999.0,9,   -999.0,9,   -999.0,9,   -999.0,9,     7.53,2, -999.00,  -999.0,-999.0000,-999.000,   25.00,  -999.0, 14.3149,-999.000
    31DSCG94_3,  P18N,   183,  1,    130,   1241,2,19940423,1424, 18.5000,-110.0000, 3453,    150.6,  13.2175,  34.6753,2,  34.6764,2,     11.9,2,      4.6,2,    25.20,2,    27.34,2,     0.00,2,     2.47,2,    0.624,2,    0.347,2, -999.000,9, -999.000,9, -999.000,9,-999.0000,9,  -999.00,9,   -999.0,9,   -999.0,9,   2246.0,2,   1546.1,2,   2292.0,2,     7.46,2,   20.00,  -999.0,-999.0000,-999.000,   25.00,  -999.0, 13.1967,-999.000
    31DSCG94_3,  P18N,   183,  1,    129,   1240,2,19940423,1424, 18.5000,-110.0000, 3453,    170.0,  12.8506,  34.6966,2,  34.6973,2,     19.2,2,      3.3,2,    27.12,2,    27.57,2,     0.00,2,     2.53,2,    0.500,2,    0.299,2, -999.000,9, -999.000,9, -999.000,9,-999.0000,9,  -999.00,9,   -999.0,9,   -999.0,9,   -999.0,9,   -999.0,9,   -999.0,9,     7.45,2, -999.00,  -999.0,-999.0000,-999.000,   25.00,  -999.0, 12.8275,-999.000
    31DSCG94_3,  P18N,   183,  1,    128,   1114,2,19940423,1424, 18.5000,-110.0000, 3453,    194.7,  12.2603,  34.7100,2,  34.7113,2,     14.4,2,      1.3,2,    29.50,2,    27.61,2,     0.00,2,     2.57,2,    0.342,2,    0.197,2, -999.000,9, -999.000,9, -999.000,9,-999.0000,9,  -999.00,9,   -999.0,9,   -999.0,9,   -999.0,9,   -999.0,9,   -999.0,9,     7.44,2, -999.00,  -999.0,-999.0000,-999.000,   25.00,  -999.0, 12.2346,-999.000
    31DSCG94_3,  P18N,   183,  1,    127,   1008,2,19940423,1424, 18.5000,-110.0000, 3453,    249.1,  11.2311,  34.6968,2,  34.6954,2,      7.9,2,      0.2,2,    33.71,2,    26.50,2,     0.17,2,     2.63,2, -999.000,9, -999.000,9, -999.000,9, -999.000,9, -999.000,9,-999.0000,9,  -999.00,9,   -999.0,9,   -999.0,9,   2269.6,2,   1718.6,2,   2304.0,2,     7.41,2,   20.00,  -999.0,-999.0000,-999.000,   25.00,  -999.0, 11.2000,-999.000
    31DSCG94_3,  P18N,   183,  1,    126,   1007,2,19940423,1424, 18.5000,-110.0000, 3453,    299.4,  10.6109,  34.6711,2,  34.6701,2,      4.5,2,      0.4,2,    36.78,2,    25.53,2,     0.42,2,     2.69,2,    0.104,2,    0.059,2, -999.000,9, -999.000,9, -999.000,9,-999.0000,9,  -999.00,9,   -999.0,9,   -999.0,9,   2299.8,3,   1798.2,2,   2305.0,2,     7.39,2,   20.00,  -999.0,-999.0000,-999.000,   25.00,  -999.0, 10.5747,-999.000
    31DSCG94_3,  P18N,   183,  1,    125,   1256,2,19940423,1424, 18.5000,-110.0000, 3453,    349.0,   9.7494,  34.6251,2,  34.6253,2,      3.9,2,      0.4,2,    41.23,2,    27.23,2,     0.11,2,     2.76,2, -999.000,9, -999.000,9, -999.000,9, -999.000,9, -999.000,9,-999.0000,9,  -999.00,9,   -999.0,9,   -999.0,9,   -999.0,9,   -999.0,9,   -999.0,9,     7.38,2, -999.00,  -999.0,-999.0000,-999.000,   25.00,  -999.0,  9.7094,-999.000
    31DSCG94_3,  P18N,   183,  1,    123,   1220,2,19940423,1424, 18.5000,-110.0000, 3453,    400.8,   9.0206,  34.5930,2,  34.5951,2,      2.1,2,      1.3,6,    46.72,2,    29.31,2,     0.01,2,     2.87,2,    0.025,2,    0.036,2, -999.000,9, -999.000,9, -999.000,9,-999.0000,9,  -999.00,9,   -999.0,9,   -999.0,9,   2296.5,2,   1920.3,2,   2311.0,2,     7.37,2,   20.00,  -999.0,-999.0000,-999.000,   25.00,  -999.0,  8.9767,-999.000
    31DSCG94_3,  P18N,   183,  1,    122,   1245,2,19940423,1424, 18.5000,-110.0000, 3453,    498.3,   7.6996,  34.5366,2,  34.5369,2,      0.7,2,      1.6,2,    59.38,2,    34.10,2,     0.00,2,     3.02,2, -999.000,9, -999.000,9, -999.000,9, -999.000,9, -999.000,9,-999.0000,9,  -999.00,9,   -999.0,9,   -999.0,9,   2310.9,2,   2005.6,2,   2316.0,2,     7.35,2,   20.00,  -999.0,-999.0000,-999.000,   25.00,  -999.0,  7.6496,-999.000
    31DSCG94_3,  P18N,   183,  1,    121,   1206,2,19940423,1424, 18.5000,-110.0000, 3453,    599.2,   6.7892,  34.5279,2,  34.5272,2,      1.1,2,      0.6,2,    70.92,2,    37.08,2,     0.00,2,     3.16,2,    0.006,2,    0.004,2, -999.000,9, -999.000,9, -999.000,9,-999.0000,9,  -999.00,9,   -999.0,9,   -999.0,9,   2325.0,2,   2061.5,2,   2334.0,2,     7.34,2,   20.00,  -999.0,-999.0000,-999.000,   25.00,  -999.0,  6.7328,-999.000
    31DSCG94_3,  P18N,   183,  1,    120,   1028,2,19940423,1424, 18.5000,-110.0000, 3453,    701.6,   6.0719,  34.5301,2,  34.5298,2,      0.7,2,      1.3,2,    80.01,2,    39.91,2,     0.00,2,     3.21,2, -999.000,9, -999.000,9, -999.000,9, -999.000,9, -999.000,9,-999.0000,9,  -999.00,9,   -999.0,9,   -999.0,9,   2336.4,2,   2102.1,2,   2335.0,2,     7.33,2,   20.00,  -999.0,-999.0000,-999.000,   25.00,  -999.0,  6.0092,-999.000
    31DSCG94_3,  P18N,   183,  1,    119,   1248,2,19940423,1424, 18.5000,-110.0000, 3453,    799.8,   5.2996,  34.5294,2,  34.5300,2,      1.5,2,      2.5,2,    90.30,2,    42.87,2,     0.00,2,     3.28,2,   -0.002,2,   -0.002,2, -999.000,9, -999.000,9, -999.000,9,-999.0000,9,  -999.00,9,   -999.0,9,   -999.0,9,   2348.7,2,   2158.5,2,   2353.0,2,     7.33,2,   20.00,  -999.0,-999.0000,-999.000,   25.00,  -999.0,  5.2323,-999.000
    31DSCG94_3,  P18N,   183,  1,    118,   1115,2,19940423,1424, 18.5000,-110.0000, 3453,    900.8,   4.7387,  34.5318,2,  34.5337,2,      4.2,2,      6.5,2,    99.92,2,    43.69,2,     0.00,2,     3.27,2, -999.000,9, -999.000,9, -999.000,9, -999.000,9, -999.000,9,-999.0000,9,  -999.00,9,   -999.0,9,   -999.0,9,   2357.6,2,   2153.8,2,   2362.0,2,     7.33,2,   20.00,  -999.0,-999.0000,-999.000,   25.00,  -999.0,  4.6660,-999.000
    31DSCG94_3,  P18N,   183,  1,    117,   1119,2,19940423,1424, 18.5000,-110.0000, 3453,    999.7,   4.2538,  34.5452,2,  34.5451,2,     11.4,2,   -999.0,9,   108.61,2,    43.70,2,     0.00,2,     3.28,2,    0.010,2,    0.016,2, -999.000,9, -999.000,9, -999.000,9,-999.0000,9,  -999.00,9,   -999.0,9,   -999.0,9,   -999.0,9,   2108.9,3,   -999.0,9,  -999.00,9,   20.00,  -999.0,-999.0000,-999.000, -999.00,  -999.0,  4.1761,-999.000
    31DSCG94_3,  P18N,   183,  1,    116,   1036,2,19940423,1424, 18.5000,-110.0000, 3453,   1099.6,   3.9766,  34.5558,2,  34.5556,2,     14.7,2,     17.7,2,   116.69,2,    44.05,2,     0.00,2,     3.25,2, -999.000,9, -999.000,9, -999.000,9, -999.000,9, -999.000,9,-999.0000,9,  -999.00,9,   -999.0,9,   -999.0,9,   -999.0,9,   -999.0,9,   -999.0,9,     7.35,2, -999.00,  -999.0,-999.0000,-999.000,   25.00,  -999.0,  3.8927,-999.000
    31DSCG94_3,  P18N,   183,  1,    115,   1017,2,19940423,1424, 18.5000,-110.0000, 3453,   1198.4,   3.7624,  34.5650,2,  34.5644,2,     20.0,2,     22.0,2,   123.76,2,    43.60,2,     0.00,2,     3.26,2, -999.000,9, -999.000,9, -999.000,9, -999.000,9, -999.000,9,-999.0000,9,  -999.00,9,   -999.0,9,   -999.0,9,   -999.0,9,   -999.0,9,   -999.0,9,     7.35,2, -999.00,  -999.0,-999.0000,-999.000,   25.00,  -999.0,  3.6720,-999.000
    31DSCG94_3,  P18N,   183,  1,    114,   1016,2,19940423,1424, 18.5000,-110.0000, 3453,   1300.4,   3.6230,  34.5713,2,  34.5714,2,     23.3,2,     25.7,2,   126.99,2,    43.38,2,     0.00,2,     3.22,2, -999.000,9, -999.000,9, -999.000,9, -999.000,9, -999.000,9,-999.0000,9,  -999.00,9,   -999.0,9,   -999.0,9,   -999.0,9,   -999.0,9,   -999.0,9,     7.36,2, -999.00,  -999.0,-999.0000,-999.000,   25.00,  -999.0,  3.5253,-999.000
    31DSCG94_3,  P18N,   183,  1,    113,   1209,2,19940423,1424, 18.5000,-110.0000, 3453,   1399.7,   3.4630,  34.5786,2,  34.5786,2,     27.4,2,     30.5,2,   125.89,2,    43.03,2,     0.00,2,     3.19,2, -999.000,9, -999.000,9, -999.000,9, -999.000,9, -999.000,9,-999.0000,9,  -999.00,9,   -999.0,9,   -999.0,9,   -999.0,9,   -999.0,9,   -999.0,9,     7.37,2, -999.00,  -999.0,-999.0000,-999.000,   25.00,  -999.0,  3.3584,-999.000
    31DSCG94_3,  P18N,   183,  1,    112,   1033,2,19940423,1424, 18.5000,-110.0000, 3453,   1600.1,   2.9249,  34.6034,2,  34.6029,2,     47.7,2,     51.7,2,   133.40,2,    42.70,2,     0.00,2,     3.04,2, -999.000,9, -999.000,9, -999.000,9, -999.000,9, -999.000,9,-999.0000,9,  -999.00,9,   -999.0,9,   -999.0,9,   -999.0,9,   -999.0,9,   -999.0,9,     7.41,2, -999.00,  -999.0,-999.0000,-999.000,   25.00,  -999.0,  2.8095,-999.000
    31DSCG94_3,  P18N,   183,  1,    111,   1240,2,19940423,1424, 18.5000,-110.0000, 3453,   1799.7,   2.5607,  34.6209,2,  34.6203,2,     65.3,2,     66.5,2,   144.58,2,    41.69,2,     0.00,2,     2.99,2, -999.000,9, -999.000,9, -999.000,9, -999.000,9, -999.000,9,-999.0000,9,  -999.00,9,   -999.0,9,   -999.0,9,   -999.0,9,   -999.0,9,   -999.0,9,  -999.00,9, -999.00,  -999.0,-999.0000,-999.000, -999.00,  -999.0,  2.4330,-999.000
    31DSCG94_3,  P18N,   183,  1,    110,   1005,2,19940423,1424, 18.5000,-110.0000, 3453,   1997.0,   2.2039,  34.6400,2,  34.6398,2,     86.2,2,     84.2,2,   153.60,2,    40.39,2,     0.00,2,     2.87,2, -999.000,9, -999.000,9, -999.000,9, -999.000,9, -999.000,9,-999.0000,9,  -999.00,9,   -999.0,9,   -999.0,9,   -999.0,9,   -999.0,9,   -999.0,9,     7.47,2, -999.00,  -999.0,-999.0000,-999.000,   25.00,  -999.0,  2.0645,-999.000
    31DSCG94_3,  P18N,   183,  1,    109,   1611,2,19940423,1424, 18.5000,-110.0000, 3453,   2198.8,   2.0110,  34.6513,2,  34.6513,2,     97.0,2,     95.0,2,   155.68,2,    39.54,2,     0.00,2,     2.77,2, -999.000,9, -999.000,9, -999.000,9, -999.000,9, -999.000,9,-999.0000,9,  -999.00,9,   -999.0,9,   -999.0,9,   -999.0,9,   -999.0,9,   -999.0,9,  -999.00,9, -999.00,  -999.0,-999.0000,-999.000, -999.00,  -999.0,  1.8573,-999.000
    31DSCG94_3,  P18N,   183,  1,    108,   1218,2,19940423,1424, 18.5000,-110.0000, 3453,   2398.3,   1.8711,  34.6593,2,  34.6589,2,    109.1,2,    105.5,2,   155.03,2,    38.86,2,     0.00,2,     2.72,2, -999.000,9, -999.000,9, -999.000,9, -999.000,9, -999.000,9,-999.0000,9,  -999.00,9,   -999.0,9,   -999.0,9,   -999.0,9,   -999.0,9,   -999.0,9,     7.51,2, -999.00,  -999.0,-999.0000,-999.000,   25.00,  -999.0,  1.7022,-999.000
    31DSCG94_3,  P18N,   183,  1,    107,   1257,2,19940423,1424, 18.5000,-110.0000, 3453,   2598.1,   1.7973,  34.6633,2,  34.6628,2,    110.6,2,    109.0,6,   155.74,2,    38.75,2,     0.00,2,     2.68,2, -999.000,9, -999.000,9, -999.000,9, -999.000,9, -999.000,9,-999.0000,9,  -999.00,9,   -999.0,9,   -999.0,9,   -999.0,9,   -999.0,9,   -999.0,9,  -999.00,9, -999.00,  -999.0,-999.0000,-999.000, -999.00,  -999.0,  1.6118,-999.000
    31DSCG94_3,  P18N,   183,  1,    106,   1224,2,19940423,1424, 18.5000,-110.0000, 3453,   2799.0,   1.7509,  34.6670,2,  34.6660,2,    112.5,2,    112.4,2,   159.11,2,    38.52,2,     0.00,2,     2.66,2, -999.000,9, -999.000,9, -999.000,9, -999.000,9, -999.000,9,-999.0000,9,  -999.00,9,   -999.0,9,   -999.0,9,   -999.0,9,   -999.0,9,   -999.0,9,  -999.00,9, -999.00,  -999.0,-999.0000,-999.000, -999.00,  -999.0,  1.5477,-999.000
    31DSCG94_3,  P18N,   183,  1,    105,   1246,2,19940423,1424, 18.5000,-110.0000, 3453,   3001.5,   1.7196,  34.6699,2,  34.6698,2,    114.9,2,    116.2,2,   156.50,6,    38.18,6,     0.00,6,     2.66,6, -999.000,9, -999.000,9, -999.000,9, -999.000,9, -999.000,9,-999.0000,9,  -999.00,9,   -999.0,9,   -999.0,9,   -999.0,9,   -999.0,9,   -999.0,9,  -999.00,9, -999.00,  -999.0,-999.0000,-999.000, -999.00,  -999.0,  1.4978,-999.000
    31DSCG94_3,  P18N,   183,  1,    104,   1217,2,19940423,1424, 18.5000,-110.0000, 3453,   3199.5,   1.7056,  34.6728,2,  34.6733,2,    117.4,2,    117.8,2,   157.06,2,    38.20,2,     0.00,2,     2.62,2, -999.000,9, -999.000,9, -999.000,9, -999.000,9, -999.000,9,-999.0000,9,  -999.00,9,   -999.0,9,   -999.0,9,   -999.0,9,   -999.0,9,   -999.0,9,     7.54,2, -999.00,  -999.0,-999.0000,-999.000,   25.00,  -999.0,  1.4647,-999.000
    31DSCG94_3,  P18N,   183,  1,    103,   9999,2,19940423,1424, 18.5000,-110.0000, 3453,   3398.4,   1.7105,  34.6743,2,  34.6749,2,    118.6,2,    120.4,2,   159.44,2,    38.13,2,     0.00,2,     2.64,2, -999.000,9, -999.000,9, -999.000,9, -999.000,9, -999.000,9,-999.0000,9,  -999.00,9,   -999.0,9,   -999.0,9,   -999.0,9,   -999.0,9,   -999.0,9,  -999.00,9, -999.00,  -999.0,-999.0000,-999.000, -999.00,  -999.0,  1.4495,-999.000
    31DSCG94_3,  P18N,   183,  1,    102,   1223,2,19940423,1424, 18.5000,-110.0000, 3453,   3399.1,   1.7105,  34.6741,2,  34.6753,2,    118.7,2,    120.6,2,   162.46,2,    38.17,2,     0.00,2,     2.64,2, -999.000,9, -999.000,9, -999.000,9, -999.000,9, -999.000,9,-999.0000,9,  -999.00,9,   -999.0,9,   -999.0,9,   -999.0,9,   -999.0,9,   -999.0,9,     7.54,2, -999.00,  -999.0,-999.0000,-999.000,   25.00,  -999.0,  1.4494,-999.000
    31DSCG94_3,  P18N,   183,  1,    101,   1041,2,19940423,1424, 18.5000,-110.0000, 3453,   3471.4,   1.7179,  34.6745,2,  34.6749,2,    118.5,2,    120.5,2,   161.25,2,    37.78,2,     0.00,2,     2.62,2, -999.000,9, -999.000,9, -999.000,9, -999.000,9, -999.000,9,-999.0000,9,  -999.00,9,   -999.0,9,   -999.0,9,   -999.0,9,   -999.0,9,   -999.0,9,  -999.00,9, -999.00,  -999.0,-999.0000,-999.000, -999.00,  -999.0,  1.4492,-999.000