BOTTLE,20220630CCHSIOAMB
EXPOCODE,SECT_ID,STNNBR,CASTNO,SAMPNO,BTLNBR,BTLNBR_FLAG_W,DATE,TIME,LATITUDE,LONGITUDE,DEPTH,CTDPRS,CTDTMP,CTDSAL,CTDSAL_FLAG_W,SALNTY,SALNTY_FLAG_W,CTDOXY,CTDOXY_FLAG_W,OXYGEN,OXYGEN_FLAG_W,SILCAT,SILCAT_FLAG_W,NITRAT,NITRAT_FLAG_W,NITRIT,NITRIT_FLAG_W,PHSPHT,PHSPHT_FLAG_W,CFC-11,CFC-11_FLAG_W,CFC-12,CFC-12_FLAG_W,CFC113,CFC113_FLAG_W,CCL4,CCL4_FLAG_W,TRITUM,TRITUM_FLAG_W,HELIUM,HELIUM_FLAG_W,DELHE3,DELHE3_FLAG_W,DELC14,DELC14_FLAG_W,DELC13,DELC13_FLAG_W,TCARBN,TCARBN_FLAG_W,PCO2,PCO2_FLAG_W,ALKALI,ALKALI_FLAG_W,PH,PH_FLAG_W,PCO2TMP,C14ERR,HELIER,DELHER,PH_TMP,C13ERR,THETA,TRITER
,,,,,,,,,,,,DBAR,ITS-90,PSS-78,,PSS-78,,UMOL/KG,,UMOL/KG,,UMOL/KG,,UMOL/KG,,UMOL/KG,,UMOL/KG,,PMOL/KG,,PMOL/KG,,PMOL/KG,,PMOL/KG,,TU,,NMOL/KG,,PERCNT,,/MILLE,,/MILLE,,UMOL/KG,,UATM,,UMOL/KG,,,,DEG C,/MILLE,NMOL/KG,PERCNT,DEG C,/MILLE,DEG C,TU
    31DSCG94_2,  P18S,    55,  3,    336,   1025,2,19940314,1816,-41.9942,-103.0032, 3982,     12.5,  13.7304,  34.0339,2,  34.0343,2,    259.2,2,    259.9,2,     1.11,2,    11.15,2,     0.19,2,     0.92,2,    3.243,2,    1.687,2, -999.000,9, -999.000,9, -999.000,9,-999.0000,9,  -999.00,9,   -999.0,9,      1.9,2,   2052.8,2,    481.3,2,   2253.0,3,     7.90,2,   20.00,  -999.0,-999.0000,-999.000,   25.00,  -999.0, 13.7286,-999.000
    31DSCG94_2,  P18S,    55,  3,    335,   1247,2,19940314,1816,-41.9942,-103.0032, 3982,     24.6,  13.5784,  34.0310,2,  34.2985,4,    261.5,2,   -999.0,9,    29.75,4,    30.79,4,     0.00,3,     2.08,4,    0.443,4,    0.232,4, -999.000,9, -999.000,9, -999.000,9,-999.0000,9,  -999.00,9,   -999.0,9,   -999.0,9,   -999.0,9,   -999.0,9,   -999.0,9,  -999.00,9, -999.00,  -999.0,-999.0000,-999.000, -999.00,  -999.0, 13.5750,-999.000
    31DSCG94_2,  P18S,    55,  3,    334,   1108,2,19940314,1816,-41.9942,-103.0032, 3982,     50.5,  13.2089,  34.0296,2,  34.0323,2,    262.2,2,    262.5,2,     1.07,2,    11.12,2,     0.17,2,     0.88,2,    3.367,2,    1.741,2, -999.000,9, -999.000,9, -999.000,9,-999.0000,9,  -999.00,9,   -999.0,9,   -999.0,9,   -999.0,9,    485.4,2,   -999.0,9,     7.90,2,   20.00,  -999.0,-999.0000,-999.000,   25.00,  -999.0, 13.2020,-999.000
    31DSCG94_2,  P18S,    55,  3,    333,   1244,2,19940314,1816,-41.9942,-103.0032, 3982,     75.1,   9.9989,  34.0652,2,  34.0629,2,    280.8,2,    283.4,2,     1.18,2,    11.82,2,     0.13,2,     0.95,2,    3.909,2,    1.987,2, -999.000,9, -999.000,9, -999.000,9,-999.0000,9,  -999.00,9,   -999.0,9,   -999.0,9,   -999.0,9,   -999.0,9,   -999.0,9,     7.87,2, -999.00,  -999.0,-999.0000,-999.000,   25.00,  -999.0,  9.9903,-999.000
    31DSCG94_2,  P18S,    55,  3,    332,   1003,2,19940314,1816,-41.9942,-103.0032, 3982,    100.3,   9.0093,  34.0988,2,  34.1004,2,    279.9,2,   -999.0,9,     1.35,2,    12.74,2,     0.22,2,     1.05,2,    4.010,2,    2.002,2, -999.000,9, -999.000,9, -999.000,9,-999.0000,9,  -999.00,9,   -999.0,9,   -999.0,9,   -999.0,9,    549.5,6,   -999.0,9,     7.85,2,   20.00,  -999.0,-999.0000,-999.000,   25.00,  -999.0,  8.9986,-999.000
    31DSCG94_2,  P18S,    55,  3,    331,   1211,2,19940314,1816,-41.9942,-103.0032, 3982,    122.4,   8.1533,  34.1556,2,  34.1554,2,    271.2,2,    272.6,2,     1.76,2,    14.89,2,     0.48,2,     1.13,2,    4.003,6,    2.003,6, -999.000,9, -999.000,9, -999.000,9,-999.0000,9,  -999.00,9,   -999.0,9,   -999.0,9,   -999.0,9,   -999.0,9,   -999.0,9,     7.82,2, -999.00,  -999.0,-999.0000,-999.000,   25.00,  -999.0,  8.1410,-999.000
    31DSCG94_2,  P18S,    55,  3,    330,   1241,2,19940314,1816,-41.9942,-103.0032, 3982,    149.2,   7.6616,  34.1970,2,  34.1962,2,    271.5,2,    270.2,2,     2.50,2,    16.82,2,     0.06,2,     1.21,2,    4.009,2,    2.000,2, -999.000,9, -999.000,9, -999.000,9,-999.0000,9,  -999.00,9,   -999.0,9,   -999.0,9,   -999.0,9,   -999.0,9,   -999.0,9,     7.80,2, -999.00,  -999.0,-999.0000,-999.000,   25.00,  -999.0,  7.6471,-999.000
    31DSCG94_2,  P18S,    55,  3,    329,   1031,2,19940314,1816,-41.9942,-103.0032, 3982,    199.8,   7.1769,  34.2781,2,  34.2781,2,    264.7,2,    260.5,2,     4.02,2,    18.92,2,     0.00,2,     1.35,2,    3.719,2,    1.820,2, -999.000,9, -999.000,9, -999.000,9,-999.0000,9,  -999.00,9,   -999.0,9,   -999.0,9,   -999.0,9,   -999.0,9,   -999.0,9,     7.77,2, -999.00,  -999.0,-999.0000,-999.000,   25.00,  -999.0,  7.1581,-999.000
    31DSCG94_2,  P18S,    55,  3,    328,   1210,2,19940314,1816,-41.9942,-103.0032, 3982,    247.7,   6.7917,  34.3074,2,  34.3070,2,    265.8,2,    263.8,2,     5.44,2,    19.76,2,     0.00,2,     1.41,2,    3.692,2,    1.802,2, -999.000,9, -999.000,9, -999.000,9,-999.0000,9,  -999.00,9,   -999.0,9,   -999.0,9,   -999.0,9,   -999.0,9,   -999.0,9,     7.77,2, -999.00,  -999.0,-999.0000,-999.000,   25.00,  -999.0,  6.7690,-999.000
    31DSCG94_2,  P18S,    55,  3,    327,   1008,2,19940314,1816,-41.9942,-103.0032, 3982,    300.3,   6.6559,  34.3186,2,  34.3188,2,    266.0,2,    263.8,2,     6.09,2,    20.11,2,     0.00,2,     1.40,2,    3.527,2,    1.696,2, -999.000,9, -999.000,9, -999.000,9,-999.0000,9,  -999.00,9,   -999.0,9,   -999.0,9,   -999.0,9,   -999.0,9,   -999.0,9,     7.76,2, -999.00,  -999.0,-999.0000,-999.000,   25.00,  -999.0,  6.6287,-999.000
    31DSCG94_2,  P18S,    55,  3,    326,   1007,2,19940314,1816,-41.9942,-103.0032, 3982,    349.7,   6.4940,  34.3218,2,  34.3218,2,    262.9,2,    262.6,2,     6.96,2,    20.15,2,     0.00,2,     1.46,2,    3.371,2,    1.626,2, -999.000,9, -999.000,9, -999.000,9,-999.0000,9,  -999.00,9,   -999.0,9,   -999.0,9,   -999.0,9,   -999.0,9,   -999.0,9,     7.76,2, -999.00,  -999.0,-999.0000,-999.000,   25.00,  -999.0,  6.4626,-999.000
    31DSCG94_2,  P18S,    55,  3,    325,   1203,2,19940314,1816,-41.9942,-103.0032, 3982,    403.7,   6.3195,  34.3173,2,  34.3181,2,    262.2,2,    262.3,2,     7.61,2,    21.27,2,     0.00,2,     1.49,2,    3.046,6,    1.485,6, -999.000,9, -999.000,9, -999.000,9,-999.0000,9,  -999.00,9,   -999.0,9,   -999.0,9,   -999.0,9,    690.3,6,   -999.0,9,     7.75,2,   20.00,  -999.0,-999.0000,-999.000,   25.00,  -999.0,  6.2836,-999.000
    31DSCG94_2,  P18S,    55,  3,    323,   1101,2,19940314,1816,-41.9942,-103.0032, 3982,    498.0,   6.0286,  34.3034,2,  34.3032,2,    262.2,2,    262.0,6,     8.59,2,    22.24,2,     0.00,2,     1.56,2,    2.756,2,    1.338,2, -999.000,9, -999.000,9, -999.000,9,-999.0000,9,  -999.00,9,   -999.0,9,   -999.0,9,   -999.0,9,   -999.0,9,   -999.0,9,     7.75,2, -999.00,  -999.0,-999.0000,-999.000,   25.00,  -999.0,  5.9851,-999.000
    31DSCG94_2,  P18S,    55,  3,    321,   1206,2,19940314,1816,-41.9942,-103.0032, 3982,    602.4,   5.7217,  34.2824,2,  34.2826,2,    256.8,2,    261.1,6,    10.00,2,    23.20,2,     0.00,2,     1.63,2,    2.726,2,    1.337,2, -999.000,9, -999.000,9, -999.000,9,-999.0000,9,  -999.00,9,   -999.0,9,   -999.0,9,   -999.0,9,   -999.0,9,   -999.0,9,     7.74,2, -999.00,  -999.0,-999.0000,-999.000,   25.00,  -999.0,  5.6701,-999.000
    31DSCG94_2,  P18S,    55,  3,    319,   1248,2,19940314,1816,-41.9942,-103.0032, 3982,    699.6,   5.3723,  34.2646,2,  34.2646,2,    250.8,2,    255.0,2,    12.40,2,    24.53,2,     0.00,2,     1.67,2,    2.510,2,    1.208,2, -999.000,9, -999.000,9, -999.000,9,-999.0000,9,  -999.00,9,   -999.0,9,   -999.0,9,   -999.0,9,   -999.0,9,   -999.0,9,     7.72,2, -999.00,  -999.0,-999.0000,-999.000,   25.00,  -999.0,  5.3138,-999.000
    31DSCG94_2,  P18S,    55,  3,    318,   1207,2,19940314,1816,-41.9942,-103.0032, 3982,    801.2,   4.9455,  34.2685,2,  34.2683,2,    232.8,2,    234.4,6,    18.14,2,    26.99,2,     0.00,2,     1.85,2,    1.422,2,    0.700,2, -999.000,9, -999.000,9, -999.000,9,-999.0000,9,  -999.00,9,   -999.0,9,   -999.0,9,   -999.0,9,   -999.0,9,   -999.0,9,     7.69,2, -999.00,  -999.0,-999.0000,-999.000,   25.00,  -999.0,  4.8806,-999.000
    31DSCG94_2,  P18S,    55,  3,    317,   1119,2,19940314,1816,-41.9942,-103.0032, 3982,    900.2,   4.4739,  34.2834,2,  34.2826,2,    215.2,2,    215.5,2,    25.15,2,    29.31,2,     0.00,2,     2.04,2,    0.646,6,    0.334,6, -999.000,9, -999.000,9, -999.000,9,-999.0000,9,  -999.00,9,   -999.0,9,   -999.0,9,   -999.0,9,   -999.0,9,   -999.0,9,     7.65,2, -999.00,  -999.0,-999.0000,-999.000,   25.00,  -999.0,  4.4035,-999.000
    31DSCG94_2,  P18S,    55,  3,    316,   1036,2,19940314,1816,-41.9942,-103.0032, 3982,    998.7,   4.1089,  34.3052,2,  34.3056,2,    202.4,2,    203.1,2,    32.16,2,    30.70,2,     0.00,2,     2.15,2,    0.376,2,    0.204,2, -999.000,9, -999.000,9, -999.000,9,   1.8070,2,     3.00,2,   -999.0,9,   -999.0,9,   -999.0,9,    978.6,2,   -999.0,9,     7.63,2,   20.00,  -999.0,-999.0000,-999.000,   25.00,  -999.0,  4.0328,-999.000
    31DSCG94_2,  P18S,    55,  3,    315,   1017,2,19940314,1816,-41.9942,-103.0032, 3982,   1100.2,   3.7394,  34.3395,2,  34.3383,2,    189.7,2,    189.9,2,    40.73,2,    32.32,2,     0.00,2,     2.26,2,    0.198,2,    0.105,2, -999.000,9, -999.000,9, -999.000,9,   1.8100,2,     4.41,2,   -999.0,9,   -999.0,9,   -999.0,9,   -999.0,9,   -999.0,9,     7.60,2, -999.00,  -999.0,-999.0000,-999.000,   25.00,  -999.0,  3.6578,-999.000
    31DSCG94_2,  P18S,    55,  3,    314,   1016,2,19940314,1816,-41.9942,-103.0032, 3982,   1183.4,   3.4806,  34.3781,2,  34.3773,2,    176.7,2,    175.6,2,    49.30,2,    35.54,2,     0.00,2,     2.31,2,    0.085,2,    0.048,2, -999.000,9, -999.000,9, -999.000,9,   1.8260,2,     6.47,2,   -999.0,9,   -999.0,9,   -999.0,9,   -999.0,9,   -999.0,9,     7.58,2, -999.00,  -999.0,-999.0000,-999.000,   25.00,  -999.0,  3.3944,-999.000
    31DSCG94_2,  P18S,    55,  3,    313,   1209,2,19940314,1816,-41.9942,-103.0032, 3982,   1394.3,   3.0170,  34.4828,2,  34.4815,2,    154.6,2,    150.4,2,    70.04,2,    35.08,2,     0.00,2,     2.41,2,    0.021,6,    0.012,6, -999.000,9, -999.000,9, -999.000,9,   1.8440,2,    12.34,2,   -999.0,9,   -999.0,9,   -999.0,9,   -999.0,9,   -999.0,9,     7.54,2, -999.00,  -999.0,-999.0000,-999.000,   25.00,  -999.0,  2.9179,-999.000
    31DSCG94_2,  P18S,    55,  3,    312,   1033,2,19940314,1816,-41.9942,-103.0032, 3982,   1598.9,   2.6904,  34.5510,2,  34.5495,2,    149.2,2,    149.2,2,    81.79,2,    34.86,2,     0.00,2,     2.42,2,    0.009,2,    0.005,2, -999.000,9, -999.000,9, -999.000,9,   1.8660,2,    16.16,2,   -999.0,9,   -999.0,9,   -999.0,9,   -999.0,9,   -999.0,9,     7.55,2, -999.00,  -999.0,-999.0000,-999.000,   25.00,  -999.0,  2.5780,-999.000
    31DSCG94_2,  P18S,    55,  3,    311,   1263,2,19940314,1816,-41.9942,-103.0032, 3982,   1798.8,   2.4354,  34.5987,2,  34.5978,2,    155.7,2,    155.5,2,    87.70,2,    34.29,2,     0.00,2,     2.42,2,    0.035,4,    0.002,2, -999.000,9, -999.000,9, -999.000,9,   1.8740,2,    16.98,2,   -999.0,9,   -999.0,9,   -999.0,9,   -999.0,9,   -999.0,9,     7.56,2, -999.00,  -999.0,-999.0000,-999.000,   25.00,  -999.0,  2.3096,-999.000
    31DSCG94_2,  P18S,    55,  3,    310,   1005,2,19940314,1816,-41.9942,-103.0032, 3982,   1999.4,   2.2576,  34.6378,2,  34.6369,2,    161.5,2,    161.2,2,    92.73,2,    33.44,2,     0.00,2,     2.33,2, -999.000,9, -999.000,9, -999.000,9, -999.000,9, -999.000,9,   1.8790,2,    18.03,2,   -999.0,9,   -999.0,9,   -999.0,9,   -999.0,9,   -999.0,9,     7.57,2, -999.00,  -999.0,-999.0000,-999.000,   25.00,  -999.0,  2.1172,-999.000
    31DSCG94_2,  P18S,    55,  3,    309,   1611,2,19940314,1816,-41.9942,-103.0032, 3982,   2250.1,   2.0584,  34.6756,2,  34.6740,2,    166.5,2,    166.4,2,    99.81,2,    32.97,2,     0.00,2,     2.32,2,    0.002,2,    0.000,2, -999.000,9, -999.000,9, -999.000,9,   1.8910,2,    21.30,2,   -999.0,9,   -999.0,9,   -999.0,9,   -999.0,9,   -999.0,9,     7.58,2, -999.00,  -999.0,-999.0000,-999.000,   25.00,  -999.0,  1.8994,-999.000
    31DSCG94_2,  P18S,    55,  3,    308,   1218,2,19940314,1816,-41.9942,-103.0032, 3982,   2502.1,   1.8792,  34.6911,2,  34.6904,2,    169.6,2,    169.2,2,   107.42,2,    33.26,2,     0.00,2,     2.31,2, -999.000,9, -999.000,9, -999.000,9, -999.000,9, -999.000,9,   1.9010,2,    21.61,2,   -999.0,9,   -999.0,9,   -999.0,9,   -999.0,9,   -999.0,9,     7.59,2, -999.00,  -999.0,-999.0000,-999.000,   25.00,  -999.0,  1.7008,-999.000
    31DSCG94_2,  P18S,    55,  3,    307,   1257,2,19940314,1816,-41.9942,-103.0032, 3982,   2747.6,   1.7736,  34.6963,2,  34.6952,2,    171.9,2,    171.8,2,   112.73,2,    33.14,2,     0.00,2,     2.28,2,    0.000,2,    0.001,2, -999.000,9, -999.000,9, -999.000,9,   1.9130,2,    20.11,2,   -999.0,9,   -999.0,9,   -999.0,9,   -999.0,9,   -999.0,9,     7.59,2, -999.00,  -999.0,-999.0000,-999.000,   25.00,  -999.0,  1.5746,-999.000
    31DSCG94_2,  P18S,    55,  3,    306,   1224,2,19940314,1816,-41.9942,-103.0032, 3982,   2999.0,   1.6766,  34.7019,2,  34.7005,2,    175.2,2,    177.6,2,   115.50,2,    32.56,2,     0.00,2,     2.27,2, -999.000,9, -999.000,9, -999.000,9, -999.000,9, -999.000,9,   1.8980,2,    18.00,2,   -999.0,9,   -999.0,9,   -999.0,9,   -999.0,9,   -999.0,9,     7.60,2, -999.00,  -999.0,-999.0000,-999.000,   25.00,  -999.0,  1.4558,-999.000
    31DSCG94_2,  P18S,    55,  3,    305,   1246,2,19940314,1816,-41.9942,-103.0032, 3982,   3246.4,   1.5221,  34.7040,2,  34.7027,2,    180.4,2,    180.6,2,   117.19,2,    32.79,2,     0.00,2,     2.24,2,    0.003,2,    0.001,2, -999.000,9, -999.000,9, -999.000,9,   1.9120,2,    17.72,2,   -999.0,9,   -999.0,9,   -999.0,9,   -999.0,9,   -999.0,9,     7.60,2, -999.00,  -999.0,-999.0000,-999.000,   25.00,  -999.0,  1.2808,-999.000
    31DSCG94_2,  P18S,    55,  3,    303,   9999,2,19940314,1816,-41.9942,-103.0032, 3982,   3497.8,   1.3190,  34.7063,2,  34.7057,2,    187.4,2,    186.8,2,   121.66,2,    32.68,2,     0.00,2,     2.22,2,    0.003,2,   -0.002,2, -999.000,9, -999.000,9, -999.000,9,-999.0000,9,  -999.00,9,   -999.0,9,   -999.0,9,   -999.0,9,   -999.0,9,   -999.0,9,     7.61,2, -999.00,  -999.0,-999.0000,-999.000,   25.00,  -999.0,  1.0574,-999.000
    31DSCG94_2,  P18S,    55,  3,    304,   1217,2,19940314,1816,-41.9942,-103.0032, 3982,   3497.9,   1.3223,  34.7066,2,  34.7055,2,    187.4,2,    187.4,2,   121.36,2,    32.84,2,     0.00,2,     2.21,2, -999.000,9, -999.000,9, -999.000,9, -999.000,9, -999.000,9,   1.9070,2,    14.71,2,   -999.0,9,   -999.0,9,   -999.0,9,   -999.0,9,   -999.0,9,     7.61,2, -999.00,  -999.0,-999.0000,-999.000,   25.00,  -999.0,  1.0606,-999.000
    31DSCG94_2,  P18S,    55,  3,    301,   1041,2,19940314,1816,-41.9942,-103.0032, 3982,   3741.2,   1.1614,  34.7076,2,  34.7066,2,    193.0,2,   -999.0,9,   126.81,2,    32.38,2,     0.00,2,     2.19,2,   -0.003,2,   -0.003,2, -999.000,9, -999.000,9, -999.000,9,   1.8950,2,    13.34,2,   -999.0,9,   -999.0,9,   -999.0,9,   -999.0,9,   -999.0,9,     7.61,2, -999.00,  -999.0,-999.0000,-999.000,   25.00,  -999.0,  0.8791,-999.000
    31DSCG94_2,  P18S,    55,  3,    302,   1223,2,19940314,1816,-41.9942,-103.0032, 3982,   3741.3,   1.1642,  34.7075,2,  34.7063,2,    193.0,2,    192.0,2,   126.39,2,    32.48,2,     0.00,2,     2.17,2, -999.000,9, -999.000,9, -999.000,9, -999.000,9, -999.000,9,-999.0000,9,  -999.00,9,   -999.0,9,   -999.0,9,   -999.0,9,   -999.0,9,   -999.0,9,     7.61,2, -999.00,  -999.0,-999.0000,-999.000,   25.00,  -999.0,  0.8818,-999.000