BOTTLE,20220630CCHSIOAMB
EXPOCODE,SECT_ID,STNNBR,CASTNO,SAMPNO,BTLNBR,BTLNBR_FLAG_W,DATE,TIME,LATITUDE,LONGITUDE,DEPTH,CTDPRS,CTDTMP,CTDSAL,CTDSAL_FLAG_W,SALNTY,SALNTY_FLAG_W,CTDOXY,CTDOXY_FLAG_W,OXYGEN,OXYGEN_FLAG_W,SILCAT,SILCAT_FLAG_W,NITRAT,NITRAT_FLAG_W,NITRIT,NITRIT_FLAG_W,PHSPHT,PHSPHT_FLAG_W,CFC-11,CFC-11_FLAG_W,CFC-12,CFC-12_FLAG_W,CFC113,CFC113_FLAG_W,CCL4,CCL4_FLAG_W,TRITUM,TRITUM_FLAG_W,HELIUM,HELIUM_FLAG_W,DELHE3,DELHE3_FLAG_W,DELC14,DELC14_FLAG_W,DELC13,DELC13_FLAG_W,TCARBN,TCARBN_FLAG_W,PCO2,PCO2_FLAG_W,ALKALI,ALKALI_FLAG_W,PH,PH_FLAG_W,PCO2TMP,C14ERR,HELIER,DELHER,PH_TMP,C13ERR,THETA,TRITER
,,,,,,,,,,,,DBAR,ITS-90,PSS-78,,PSS-78,,UMOL/KG,,UMOL/KG,,UMOL/KG,,UMOL/KG,,UMOL/KG,,UMOL/KG,,PMOL/KG,,PMOL/KG,,PMOL/KG,,PMOL/KG,,TU,,NMOL/KG,,PERCNT,,/MILLE,,/MILLE,,UMOL/KG,,UATM,,UMOL/KG,,,,DEG C,/MILLE,NMOL/KG,PERCNT,DEG C,/MILLE,DEG C,TU
    31DSCG94_3,  P18N,   192,  1,    127,   1008,2,19940425,1444, 22.7317,-110.0067, 2018,      6.7,  16.8993,  34.3179,2,  34.3177,2,    143.9,2,    143.4,2,    12.57,2,    11.23,2,     0.34,2,     1.35,2, -999.000,9, -999.000,9, -999.000,9, -999.000,9, -999.000,9,-999.0000,9,  -999.00,9,   -999.0,9,   -999.0,9,   2123.4,2,    707.6,2,   2273.0,6,     7.76,2,   20.00,  -999.0,-999.0000,-999.000,   25.00,  -999.0, 16.8983,-999.000
    31DSCG94_3,  P18N,   192,  1,    126,   1007,2,19940425,1444, 22.7317,-110.0067, 2018,     25.4,  15.9254,  34.3507,2,  34.3492,2,    119.9,2,    112.9,2,    15.81,2,    16.27,2,     0.31,2,     1.65,2, -999.000,9, -999.000,9, -999.000,9, -999.000,9, -999.000,9,-999.0000,9,  -999.00,9,   -999.0,9,   -999.0,9,   -999.0,9,   -999.0,9,   -999.0,9,     7.68,2, -999.00,  -999.0,-999.0000,-999.000,   25.00,  -999.0, 15.9214,-999.000
    31DSCG94_3,  P18N,   192,  1,    125,   1256,2,19940425,1444, 22.7317,-110.0067, 2018,     49.5,  14.0638,  34.4680,2,  34.4628,2,     26.7,2,     44.8,2,    22.24,2,    23.68,2,     0.11,2,     2.14,2, -999.000,9, -999.000,9, -999.000,9, -999.000,9, -999.000,9,-999.0000,9,  -999.00,9,   -999.0,9,   -999.0,9,   -999.0,9,   -999.0,9,   -999.0,9,     7.54,2, -999.00,  -999.0,-999.0000,-999.000,   25.00,  -999.0, 14.0567,-999.000
    31DSCG94_3,  P18N,   192,  1,    123,   1220,2,19940425,1444, 22.7317,-110.0067, 2018,     75.1,  13.3104,  34.6344,2,  34.6336,2,     30.4,2,     21.7,6,    28.49,2,    26.48,2,     0.07,2,     2.42,2, -999.000,9, -999.000,9, -999.000,9, -999.000,9, -999.000,9,-999.0000,9,  -999.00,9,   -999.0,9,   -999.0,9,   -999.0,9,   -999.0,9,   -999.0,9,  -999.00,9, -999.00,  -999.0,-999.0000,-999.000, -999.00,  -999.0, 13.3000,-999.000
    31DSCG94_3,  P18N,   192,  1,    122,   1245,2,19940425,1444, 22.7317,-110.0067, 2018,     99.5,  13.0529,  34.6622,2,  34.6640,2,     13.2,2,     17.2,2,    30.56,2,    26.89,2,     0.07,2,     2.51,2, -999.000,9, -999.000,9, -999.000,9, -999.000,9, -999.000,9,-999.0000,9,  -999.00,9,   -999.0,9,   -999.0,9,   -999.0,9,   -999.0,9,   -999.0,9,     7.47,2, -999.00,  -999.0,-999.0000,-999.000,   25.00,  -999.0, 13.0392,-999.000
    31DSCG94_3,  P18N,   192,  1,    121,   1206,2,19940425,1444, 22.7317,-110.0067, 2018,    150.5,  12.3016,  34.7169,2,  34.7169,2,      8.8,2,      6.4,2,    34.21,2,    27.50,2,     0.00,2,     2.61,2, -999.000,9, -999.000,9, -999.000,9, -999.000,9, -999.000,9,-999.0000,9,  -999.00,9,   -999.0,9,   -999.0,9,   -999.0,9,   -999.0,9,   -999.0,9,     7.44,2, -999.00,  -999.0,-999.0000,-999.000,   25.00,  -999.0, 12.2818,-999.000
    31DSCG94_3,  P18N,   192,  1,    120,   1028,2,19940425,1444, 22.7317,-110.0067, 2018,    199.3,  11.8097,  34.7135,2,  34.7126,2,      6.1,2,      4.1,2,    35.20,2,    27.41,2,     0.01,2,     2.65,2, -999.000,9, -999.000,9, -999.000,9, -999.000,9, -999.000,9,-999.0000,9,  -999.00,9,   -999.0,9,   -999.0,9,   -999.0,9,   -999.0,9,   -999.0,9,     7.43,2, -999.00,  -999.0,-999.0000,-999.000,   25.00,  -999.0, 11.7840,-999.000
    31DSCG94_3,  P18N,   192,  1,    119,   1248,2,19940425,1444, 22.7317,-110.0067, 2018,    250.1,  10.9204,  34.6687,2,  34.6678,2,      3.8,2,      1.8,2,    37.64,2,    27.32,2,     0.00,2,     2.70,2, -999.000,9, -999.000,9, -999.000,9, -999.000,9, -999.000,9,-999.0000,9,  -999.00,9,   -999.0,9,   -999.0,9,   -999.0,9,   -999.0,9,   -999.0,9,     7.40,2, -999.00,  -999.0,-999.0000,-999.000,   25.00,  -999.0, 10.8897,-999.000
    31DSCG94_3,  P18N,   192,  1,    118,   1115,2,19940425,1444, 22.7317,-110.0067, 2018,    300.4,  10.1577,  34.6305,2,  34.6294,2,      1.9,2,      1.0,2,    42.87,2,    27.94,2,     0.00,2,     2.79,2, -999.000,9, -999.000,9, -999.000,9, -999.000,9, -999.000,9,-999.0000,9,  -999.00,9,   -999.0,9,   -999.0,9,   -999.0,9,   -999.0,9,   -999.0,9,     7.39,2, -999.00,  -999.0,-999.0000,-999.000,   25.00,  -999.0, 10.1224,-999.000
    31DSCG94_3,  P18N,   192,  1,    117,   1119,2,19940425,1444, 22.7317,-110.0067, 2018,    400.8,   8.5364,  34.5553,2,  34.5545,2,      0.6,2,      2.3,2,    56.32,2,    31.50,2,     0.00,2,     2.97,2, -999.000,9, -999.000,9, -999.000,9, -999.000,9, -999.000,9,-999.0000,9,  -999.00,9,   -999.0,9,   -999.0,9,   -999.0,9,   -999.0,9,   -999.0,9,     7.36,2, -999.00,  -999.0,-999.0000,-999.000,   25.00,  -999.0,  8.4939,-999.000
    31DSCG94_3,  P18N,   192,  1,    116,   1036,2,19940425,1444, 22.7317,-110.0067, 2018,    498.8,   7.4640,  34.5173,2,  34.5157,2,      0.3,2,      1.4,2,    66.04,2,    34.35,2,     0.00,2,     3.07,2, -999.000,9, -999.000,9, -999.000,9, -999.000,9, -999.000,9,-999.0000,9,  -999.00,9,   -999.0,9,   -999.0,9,   -999.0,9,   -999.0,9,   -999.0,9,     7.35,2, -999.00,  -999.0,-999.0000,-999.000,   25.00,  -999.0,  7.4149,-999.000
    31DSCG94_3,  P18N,   192,  1,    115,   1017,2,19940425,1444, 22.7317,-110.0067, 2018,    599.7,   6.5017,  34.5029,2,  34.5025,2,      0.9,2,      1.5,2,    76.99,2,    37.91,2,     0.00,2,     3.16,2, -999.000,9, -999.000,9, -999.000,9, -999.000,9, -999.000,9,-999.0000,9,  -999.00,9,   -999.0,9,   -999.0,9,   -999.0,9,   -999.0,9,   -999.0,9,     7.34,2, -999.00,  -999.0,-999.0000,-999.000,   25.00,  -999.0,  6.4466,-999.000
    31DSCG94_3,  P18N,   192,  1,    114,   1016,2,19940425,1444, 22.7317,-110.0067, 2018,    699.9,   6.0358,  34.5098,2,  34.5089,2,      0.4,2,      1.9,2,    81.55,2,    39.64,2,     0.00,2,     3.19,2, -999.000,9, -999.000,9, -999.000,9, -999.000,9, -999.000,9,-999.0000,9,  -999.00,9,   -999.0,9,   -999.0,9,   -999.0,9,   -999.0,9,   -999.0,9,     7.33,2, -999.00,  -999.0,-999.0000,-999.000,   25.00,  -999.0,  5.9734,-999.000
    31DSCG94_3,  P18N,   192,  1,    113,   1209,2,19940425,1444, 22.7317,-110.0067, 2018,    802.0,   5.4081,  34.5114,2,  34.5104,2,      1.9,2,      3.6,2,    90.99,2,    41.48,2,     0.00,2,     3.30,2, -999.000,9, -999.000,9, -999.000,9, -999.000,9, -999.000,9,-999.0000,9,  -999.00,9,   -999.0,9,   -999.0,9,   -999.0,9,   -999.0,9,   -999.0,9,     7.33,2, -999.00,  -999.0,-999.0000,-999.000,   25.00,  -999.0,  5.3399,-999.000
    31DSCG94_3,  P18N,   192,  1,    112,   1033,2,19940425,1444, 22.7317,-110.0067, 2018,    899.8,   4.8556,  34.5239,2,  34.5228,2,      3.9,2,      6.3,2,   100.58,2,    42.84,2,     0.00,2,     3.31,2, -999.000,9, -999.000,9, -999.000,9, -999.000,9, -999.000,9,-999.0000,9,  -999.00,9,   -999.0,9,   -999.0,9,   -999.0,9,   -999.0,9,   -999.0,9,  -999.00,9, -999.00,  -999.0,-999.0000,-999.000, -999.00,  -999.0,  4.7823,-999.000
    31DSCG94_3,  P18N,   192,  1,    110,   1005,2,19940425,1444, 22.7317,-110.0067, 2018,   1000.8,   4.4269,  34.5366,2,  34.5360,2,      7.5,2,     10.1,2,   107.03,2,    43.62,2,     0.00,2,     3.32,2, -999.000,9, -999.000,9, -999.000,9, -999.000,9, -999.000,9,-999.0000,9,  -999.00,9,   -999.0,9,   -999.0,9,   2359.9,2,   -999.0,9,   2373.0,6,  -999.00,9, -999.00,  -999.0,-999.0000,-999.000, -999.00,  -999.0,  4.3479,-999.000
    31DSCG94_3,  P18N,   192,  1,    108,   1218,2,19940425,1444, 22.7317,-110.0067, 2018,   1000.8,   4.4198,  34.5366,2,  34.5357,2,      7.5,2,     10.1,2,   108.52,2,    43.39,2,     0.00,2,     3.32,2, -999.000,9, -999.000,9, -999.000,9, -999.000,9, -999.000,9,-999.0000,9,  -999.00,9,   -999.0,9,   -999.0,9,   2360.0,2,   -999.0,9,   2371.0,6,  -999.00,9, -999.00,  -999.0,-999.0000,-999.000, -999.00,  -999.0,  4.3408,-999.000
    31DSCG94_3,  P18N,   192,  1,    107,   1257,2,19940425,1444, 22.7317,-110.0067, 2018,   1001.0,   4.4252,  34.5362,2,  34.5357,2,      7.5,2,   -999.0,3,   107.54,2,    43.27,2,     0.00,2,     3.30,2, -999.000,9, -999.000,9, -999.000,9, -999.000,9, -999.000,9,-999.0000,9,  -999.00,9,   -999.0,9,   -999.0,9,   2358.7,2,   -999.0,9,   2373.0,6,  -999.00,9, -999.00,  -999.0,-999.0000,-999.000, -999.00,  -999.0,  4.3462,-999.000
    31DSCG94_3,  P18N,   192,  1,    109,   1611,2,19940425,1444, 22.7317,-110.0067, 2018,   1001.5,   4.4245,  34.5370,2,  34.5357,2,      7.5,2,     10.0,2,   107.15,2,    43.38,2,     0.00,2,     3.32,2, -999.000,9, -999.000,9, -999.000,9, -999.000,9, -999.000,9,-999.0000,9,  -999.00,9,   -999.0,9,   -999.0,9,   2359.2,2,   -999.0,9,   2373.0,6,  -999.00,9, -999.00,  -999.0,-999.0000,-999.000, -999.00,  -999.0,  4.3454,-999.000
    31DSCG94_3,  P18N,   192,  1,    111,   1240,2,19940425,1444, 22.7317,-110.0067, 2018,   1003.8,   4.4146,  34.5369,2,  34.5360,2,      7.2,2,     10.2,6,   107.64,2,    43.37,2,     0.00,2,     3.32,2, -999.000,9, -999.000,9, -999.000,9, -999.000,9, -999.000,9,-999.0000,9,  -999.00,9,   -999.0,9,   -999.0,9,   2359.3,2,   -999.0,9,   2375.0,2,  -999.00,9, -999.00,  -999.0,-999.0000,-999.000, -999.00,  -999.0,  4.3354,-999.000
    31DSCG94_3,  P18N,   192,  1,    106,   1224,2,19940425,1444, 22.7317,-110.0067, 2018,   1199.6,   3.8092,  34.5607,2,  34.5606,2,     14.5,2,     21.0,3,   119.87,2,    43.06,2,     0.00,2,     3.24,2, -999.000,9, -999.000,9, -999.000,9, -999.000,9, -999.000,9,-999.0000,9,  -999.00,9,   -999.0,9,   -999.0,9,   -999.0,9,   -999.0,9,   -999.0,9,  -999.00,9, -999.00,  -999.0,-999.0000,-999.000, -999.00,  -999.0,  3.7183,-999.000
    31DSCG94_3,  P18N,   192,  1,    105,   1246,2,19940425,1444, 22.7317,-110.0067, 2018,   1400.5,   3.3432,  34.5835,2,  34.5828,2,     27.4,2,     34.1,3,   127.97,2,    42.69,2,     0.00,2,     3.18,2, -999.000,9, -999.000,9, -999.000,9, -999.000,9, -999.000,9,-999.0000,9,  -999.00,9,   -999.0,9,   -999.0,9,   -999.0,9,   -999.0,9,   -999.0,9,  -999.00,9, -999.00,  -999.0,-999.0000,-999.000, -999.00,  -999.0,  3.2399,-999.000
    31DSCG94_3,  P18N,   192,  1,    104,   1217,2,19940425,1444, 22.7317,-110.0067, 2018,   1601.1,   3.0832,  34.5967,2,  34.5964,2,     38.7,2,     42.0,9,   135.77,2,    42.14,2,     0.00,2,     3.15,2, -999.000,9, -999.000,9, -999.000,9, -999.000,9, -999.000,9,-999.0000,9,  -999.00,9,   -999.0,9,   -999.0,9,   -999.0,9,   -999.0,9,   -999.0,9,  -999.00,9, -999.00,  -999.0,-999.0000,-999.000, -999.00,  -999.0,  2.9657,-999.000
    31DSCG94_3,  P18N,   192,  1,    102,   1223,2,19940425,1444, 22.7317,-110.0067, 2018,   1798.9,   2.6337,  34.6170,2,  34.6165,2,     52.6,2,     60.3,2,   142.35,2,    41.27,2,     0.00,2,     3.01,2, -999.000,9, -999.000,9, -999.000,9, -999.000,9, -999.000,9,-999.0000,9,  -999.00,9,   -999.0,9,   -999.0,9,   -999.0,9,   -999.0,9,   -999.0,9,  -999.00,9, -999.00,  -999.0,-999.0000,-999.000, -999.00,  -999.0,  2.5051,-999.000
    31DSCG94_3,  P18N,   192,  1,    103,   9999,2,19940425,1444, 22.7317,-110.0067, 2018,   1799.6,   2.6336,  34.6171,2,  34.6168,2,     53.1,2,     61.2,6,   145.42,2,    41.22,2,     0.00,2,     3.03,2, -999.000,9, -999.000,9, -999.000,9, -999.000,9, -999.000,9,-999.0000,9,  -999.00,9,   -999.0,9,   -999.0,9,   -999.0,9,   -999.0,9,   -999.0,9,  -999.00,9, -999.00,  -999.0,-999.0000,-999.000, -999.00,  -999.0,  2.5049,-999.000
    31DSCG94_3,  P18N,   192,  1,    101,   1041,2,19940425,1444, 22.7317,-110.0067, 2018,   2085.7,   2.1482,  34.6422,2,  34.6422,2,     80.0,2,     83.6,2,   147.77,2,    39.83,2,     0.00,2,     2.86,2, -999.000,9, -999.000,9, -999.000,9, -999.000,9, -999.000,9,-999.0000,9,  -999.00,9,   -999.0,9,   -999.0,9,   -999.0,9,   -999.0,9,   -999.0,9,  -999.00,9, -999.00,  -999.0,-999.0000,-999.000, -999.00,  -999.0,  2.0021,-999.000
    31DSCG94_3,  P18N,   193,  1,    117,   1119,2,19940425,1744, 22.7983,-110.0050,  950,      9.0,  18.5543,  34.2990,2,  34.3075,2,    199.6,2,    188.0,2,     8.83,2,     4.73,2,     0.22,2,     0.90,2,    2.232,6,    1.203,6, -999.000,5, -999.000,5, -999.000,9,-999.0000,9,  -999.00,9,   -999.0,9,   -999.0,9,   2076.7,2,    513.5,2,   2281.0,6,     7.88,2,   20.00,  -999.0,-999.0000,-999.000,   25.00,  -999.0, 18.5528,-999.000
    31DSCG94_3,  P18N,   193,  1,    116,   1036,2,19940425,1744, 22.7983,-110.0050,  950,     24.0,  16.3860,  34.3342,2,  34.3375,2,     69.7,2,    110.8,2,    13.93,2,    13.91,2,     0.34,2,     1.50,2,    1.968,2,    1.051,2, -999.000,5, -999.000,5, -999.000,9,-999.0000,9,  -999.00,9,   -999.0,9,   -999.0,9,   -999.0,9,   -999.0,9,   -999.0,9,     7.71,2, -999.00,  -999.0,-999.0000,-999.000,   25.00,  -999.0, 16.3821,-999.000
    31DSCG94_3,  P18N,   193,  1,    115,   1017,2,19940425,1744, 22.7983,-110.0050,  950,     45.9,  14.6527,  34.4546,2,  34.4606,2,     62.1,2,     51.3,6,    20.38,2,    22.22,2,     0.20,2,     2.08,2,    1.570,2,    0.823,2, -999.000,5, -999.000,5, -999.000,9,-999.0000,9,  -999.00,9,   -999.0,9,   -999.0,9,   2201.3,2,   1164.2,2,   2280.0,2,     7.56,2,   20.00,  -999.0,-999.0000,-999.000,   25.00,  -999.0, 14.6459,-999.000
    31DSCG94_3,  P18N,   193,  1,    114,   1016,2,19940425,1744, 22.7983,-110.0050,  950,     74.8,  13.4312,  34.6236,2,  34.6247,2,     43.0,2,     23.7,2,    27.40,2,    26.05,2,     0.08,2,     2.40,2,    1.046,2,    0.550,2, -999.000,5, -999.000,5, -999.000,9,-999.0000,9,  -999.00,9,   -999.0,9,   -999.0,9,   -999.0,9,   -999.0,9,   -999.0,9,     7.49,2, -999.00,  -999.0,-999.0000,-999.000,   25.00,  -999.0, 13.4207,-999.000
    31DSCG94_3,  P18N,   193,  1,    113,   1209,2,19940425,1744, 22.7983,-110.0050,  950,     98.5,  13.1624,  34.6659,2,  34.6588,2,     23.2,2,     19.2,2,    29.89,2,    26.39,2,     0.08,2,     2.46,2,    0.919,6,    0.489,6, -999.000,5, -999.000,5, -999.000,9,-999.0000,9,  -999.00,9,   -999.0,9,   -999.0,9,   2244.2,2,   1453.7,2,   -999.0,5,     7.47,2,   20.00,  -999.0,-999.0000,-999.000,   25.00,  -999.0, 13.1489,-999.000
    31DSCG94_3,  P18N,   193,  1,    112,   1033,2,19940425,1744, 22.7983,-110.0050,  950,    151.1,  12.5129,  34.7217,2,  34.7224,2,     11.7,2,      8.2,2,    34.05,2,    27.33,2,     0.01,2,     2.62,2,    0.597,2,    0.324,2, -999.000,9, -999.000,9, -999.000,9,-999.0000,9,  -999.00,9,   -999.0,9,   -999.0,9,   2260.4,2,   1579.8,2,   2309.0,2,     7.45,2,   20.00,  -999.0,-999.0000,-999.000,   25.00,  -999.0, 12.4927,-999.000
    31DSCG94_3,  P18N,   193,  1,    111,   1240,2,19940425,1744, 22.7983,-110.0050,  950,    199.4,  11.7814,  34.7050,2,  34.7061,2,      5.0,2,      3.7,2,    35.57,2,    27.16,2,     0.00,2,     2.64,2,    0.370,6,    0.207,6, -999.000,5, -999.000,5, -999.000,9,-999.0000,9,  -999.00,9,   -999.0,9,   -999.0,9,   2268.2,2,   1658.5,2,   2308.0,2,     7.43,2,   20.00,  -999.0,-999.0000,-999.000,   25.00,  -999.0, 11.7557,-999.000
    31DSCG94_3,  P18N,   193,  1,    110,   1005,2,19940425,1744, 22.7983,-110.0050,  950,    250.5,  11.1939,  34.6839,2,  34.6844,2,      3.2,2,      1.7,2,    36.77,2,    27.17,2,     0.00,2,     2.71,2,    0.263,2,    0.143,2, -999.000,5, -999.000,5, -999.000,9,-999.0000,9,  -999.00,9,   -999.0,9,   -999.0,9,   2276.8,2,   1714.7,2,   2303.0,2,     7.41,2,   20.00,  -999.0,-999.0000,-999.000,   25.00,  -999.0, 11.1627,-999.000
    31DSCG94_3,  P18N,   193,  1,    109,   1611,2,19940425,1744, 22.7983,-110.0050,  950,    298.1,  10.6440,  34.6565,2,  34.6573,2,      2.3,2,      1.2,6,    39.72,2,    27.30,2,     0.00,2,     2.77,2,    0.188,6,    0.104,6, -999.000,5, -999.000,5, -999.000,9,-999.0000,9,  -999.00,9,   -999.0,9,   -999.0,9,   2277.9,3,   1775.7,2,   2325.0,2,     7.40,2,   20.00,  -999.0,-999.0000,-999.000,   25.00,  -999.0, 10.6080,-999.000
    31DSCG94_3,  P18N,   193,  1,    108,   1218,2,19940425,1744, 22.7983,-110.0050,  950,    403.4,   8.9183,  34.5713,2,  34.5726,2,      0.0,3,      1.1,2,    53.06,2,    30.17,2,     0.00,2,     2.96,2,    0.086,2,    0.042,2, -999.000,5, -999.000,5, -999.000,9,-999.0000,9,  -999.00,9,   -999.0,9,   -999.0,9,   2295.8,2,   1926.2,2,   2316.0,2,     7.37,2,   20.00,  -999.0,-999.0000,-999.000,   25.00,  -999.0,  8.8744,-999.000
    31DSCG94_3,  P18N,   193,  1,    106,   1224,2,19940425,1744, 22.7983,-110.0050,  950,    499.8,   7.5139,  34.5238,2,  34.5237,2,      0.3,2,      1.1,2,    63.65,2,    34.18,2,     0.00,2,     3.10,2,    0.049,6,    0.018,6, -999.000,5, -999.000,5, -999.000,9,-999.0000,9,  -999.00,9,   -999.0,9,   -999.0,9,   -999.0,9,   2021.8,2,   2329.0,2,     7.35,2,   20.00,  -999.0,-999.0000,-999.000,   25.00,  -999.0,  7.4645,-999.000
    31DSCG94_3,  P18N,   193,  1,    107,   1257,2,19940425,1744, 22.7983,-110.0050,  950,    501.1,   7.5342,  34.5245,2,  34.5241,2,      0.3,2,   -999.0,9,    65.25,2,    34.02,2,     0.00,2,     3.08,2, -999.000,5, -999.000,5, -999.000,9, -999.000,9, -999.000,9,-999.0000,9,  -999.00,9,   -999.0,9,     -0.3,6,   -999.0,9,   -999.0,9,   -999.0,9,  -999.00,9, -999.00,  -999.0,-999.0000,-999.000, -999.00,  -999.0,  7.4846,-999.000
    31DSCG94_3,  P18N,   193,  1,    105,   1246,2,19940425,1744, 22.7983,-110.0050,  950,    598.2,   6.8362,  34.5146,2,  34.5151,2,      0.0,3,      1.1,2,    72.84,2,    36.13,2,     0.00,2,     3.17,2,    0.040,2,    0.012,2, -999.000,5, -999.000,5, -999.000,9,-999.0000,9,  -999.00,9,   -999.0,9,   -999.0,9,   2323.2,3,   2069.9,2,   2328.0,2,     7.34,2,   20.00,  -999.0,-999.0000,-999.000,   25.00,  -999.0,  6.7797,-999.000
    31DSCG94_3,  P18N,   193,  1,    104,   1217,2,19940425,1744, 22.7983,-110.0050,  950,    700.0,   6.2814,  34.5063,2,  34.5082,2,      0.4,2,      1.9,2,    79.85,2,    38.04,2,     0.00,2,     3.22,2, -999.000,9, -999.000,9, -999.000,9, -999.000,9, -999.000,9,-999.0000,9,  -999.00,9,   -999.0,9,   -999.0,9,   2330.8,2,   2102.1,2,   2348.0,3,     7.34,2,   20.00,  -999.0,-999.0000,-999.000,   25.00,  -999.0,  6.2178,-999.000
    31DSCG94_3,  P18N,   193,  1,    102,   1223,2,19940425,1744, 22.7983,-110.0050,  950,    803.4,   5.5029,  34.5118,2,  34.5112,2,      1.9,2,      3.5,2,    89.05,2,    40.51,2,     0.00,2,     3.25,2, -999.000,9, -999.000,9, -999.000,9, -999.000,9, -999.000,9,-999.0000,9,  -999.00,9,   -999.0,9,   -999.0,9,   2345.8,2,   2137.1,2,   2346.0,2,     7.33,2,   20.00,  -999.0,-999.0000,-999.000,   25.00,  -999.0,  5.4340,-999.000
    31DSCG94_3,  P18N,   193,  1,    103,   9999,2,19940425,1744, 22.7983,-110.0050,  950,    805.4,   5.5139,  34.5115,2,  34.5127,2,      2.0,2,      3.5,2,    90.48,2,    40.71,2,     0.00,2,     3.27,2,    0.010,6,   -0.001,6, -999.000,5, -999.000,5, -999.000,9,-999.0000,9,  -999.00,9,   -999.0,9,   -999.0,9,   2343.2,2,   2131.0,2,   2349.0,2,  -999.00,9,   20.00,  -999.0,-999.0000,-999.000, -999.00,  -999.0,  5.4447,-999.000
    31DSCG94_3,  P18N,   193,  1,    101,   1041,2,19940425,1744, 22.7983,-110.0050,  950,    951.7,   4.4705,  34.5353,2,-999.0000,5,      7.2,2,     11.4,6,   108.47,2,    43.70,2,     0.00,2,     3.40,2,    0.013,2,    0.001,2, -999.000,5, -999.000,5, -999.000,9,-999.0000,9,  -999.00,9,   -999.0,9,   -999.0,9,   2358.0,2,   2107.7,2,   2365.0,6,  -999.00,9,   20.00,  -999.0,-999.0000,-999.000, -999.00,  -999.0,  4.3954,-999.000