BOTTLE,20220630CCHSIOAMB
EXPOCODE,SECT_ID,STNNBR,CASTNO,SAMPNO,BTLNBR,BTLNBR_FLAG_W,DATE,TIME,LATITUDE,LONGITUDE,DEPTH,CTDPRS,CTDTMP,CTDSAL,CTDSAL_FLAG_W,SALNTY,SALNTY_FLAG_W,CTDOXY,CTDOXY_FLAG_W,OXYGEN,OXYGEN_FLAG_W,SILCAT,SILCAT_FLAG_W,NITRAT,NITRAT_FLAG_W,NITRIT,NITRIT_FLAG_W,PHSPHT,PHSPHT_FLAG_W,CFC-11,CFC-11_FLAG_W,CFC-12,CFC-12_FLAG_W,CFC113,CFC113_FLAG_W,CCL4,CCL4_FLAG_W,TRITUM,TRITUM_FLAG_W,HELIUM,HELIUM_FLAG_W,DELHE3,DELHE3_FLAG_W,DELC14,DELC14_FLAG_W,DELC13,DELC13_FLAG_W,TCARBN,TCARBN_FLAG_W,PCO2,PCO2_FLAG_W,ALKALI,ALKALI_FLAG_W,PH,PH_FLAG_W,PCO2TMP,C14ERR,HELIER,DELHER,PH_TMP,C13ERR,THETA,TRITER
,,,,,,,,,,,,DBAR,ITS-90,PSS-78,,PSS-78,,UMOL/KG,,UMOL/KG,,UMOL/KG,,UMOL/KG,,UMOL/KG,,UMOL/KG,,PMOL/KG,,PMOL/KG,,PMOL/KG,,PMOL/KG,,TU,,NMOL/KG,,PERCNT,,/MILLE,,/MILLE,,UMOL/KG,,UATM,,UMOL/KG,,,,DEG C,/MILLE,NMOL/KG,PERCNT,DEG C,/MILLE,DEG C,TU
    31DSCG94_2,  P18S,    61,  1,    135,   1247,2,19940316,1053,-39.0000,-103.0000, 3835,     11.0,  17.9653,  33.8923,2,  33.8929,2,    242.5,2,    239.4,2,     1.10,2,     4.50,2,     0.24,2,     0.47,2,    2.653,2,    1.410,2, -999.000,9, -999.000,9, -999.000,9,-999.0000,9,  -999.00,9,   -999.0,9,   -999.0,9,   2006.6,2,   -999.0,9,   2251.0,2,     7.96,2, -999.00,  -999.0,-999.0000,-999.000,   25.00,  -999.0, 17.9634,-999.000
    31DSCG94_2,  P18S,    61,  1,    136,   1025,2,19940316,1053,-39.0000,-103.0000, 3835,     11.5,  17.9611,  33.8917,2,  33.8918,2,    242.9,2,    239.3,2,     0.75,2,     4.37,2,     0.14,2,     0.52,2,    2.642,2,    1.207,4, -999.000,9, -999.000,9, -999.000,9,-999.0000,9,  -999.00,9,   -999.0,9,   -999.0,9,   2008.8,2,    403.7,2,   2247.0,6,     7.96,2,   20.00,  -999.0,-999.0000,-999.000,   25.00,  -999.0, 17.9591,-999.000
    31DSCG94_2,  P18S,    61,  1,    134,   1108,2,19940316,1053,-39.0000,-103.0000, 3835,     17.9,  17.7852,  33.8890,2,  33.8900,2,    242.5,2,    240.7,2,     0.91,2,     4.45,2,     0.12,2,     0.46,2,    2.676,2,    1.411,2, -999.000,9, -999.000,9, -999.000,9,-999.0000,9,  -999.00,9,   -999.0,9,   -999.0,9,   2006.4,2,    408.8,2,   2251.0,2,     7.96,2,   20.00,  -999.0,-999.0000,-999.000,   25.00,  -999.0, 17.7822,-999.000
    31DSCG94_2,  P18S,    61,  1,    133,   1244,2,19940316,1053,-39.0000,-103.0000, 3835,     51.4,  14.3547,  33.9637,2,  33.9731,2,    263.0,2,    276.4,2,     1.77,2,     3.16,2,     0.08,2,     0.41,2,    3.297,6,    1.708,6, -999.000,9, -999.000,9, -999.000,9,-999.0000,9,  -999.00,9,   -999.0,9,   -999.0,9,   2010.8,2,    408.5,2,   2250.0,2,     7.96,2,   20.00,  -999.0,-999.0000,-999.000,   25.00,  -999.0, 14.3472,-999.000
    31DSCG94_2,  P18S,    61,  1,    132,   1003,2,19940316,1053,-39.0000,-103.0000, 3835,     71.2,  13.1181,  33.9577,2,  33.9574,2,    268.7,2,    272.7,2,     2.01,2,     4.70,2,     0.12,2,     0.54,2,    3.428,6,    1.754,6, -999.000,9, -999.000,9, -999.000,9,-999.0000,9,  -999.00,9,   -999.0,9,   -999.0,9,   2021.3,2,   -999.0,9,   2252.0,2,     7.93,2, -999.00,  -999.0,-999.0000,-999.000,   25.00,  -999.0, 13.1083,-999.000
    31DSCG94_2,  P18S,    61,  1,    131,   1211,2,19940316,1053,-39.0000,-103.0000, 3835,     95.9,  12.3232,  34.0210,2,  34.0226,2,    256.6,2,    261.0,2,     1.91,2,     5.95,2,     0.31,2,     0.63,2,    3.453,6,    1.739,6, -999.000,9, -999.000,9, -999.000,9,-999.0000,9,  -999.00,9,   -999.0,9,   -999.0,9,   2036.2,2,    465.6,2,   2253.0,2,     7.91,2,   20.00,  -999.0,-999.0000,-999.000,   25.00,  -999.0, 12.3107,-999.000
    31DSCG94_2,  P18S,    61,  1,    130,   1241,2,19940316,1053,-39.0000,-103.0000, 3835,    147.3,  11.2976,  34.2471,2,  34.2546,2,    240.2,2,    235.4,2,     2.28,2,    10.40,2,     0.35,2,     0.86,2,    6.142,4,    5.554,4, -999.000,9, -999.000,9, -999.000,9,-999.0000,9,  -999.00,9,   -999.0,9,   -999.0,9,   2073.2,2,    547.5,2,   2267.0,2,     7.85,2,   20.00,  -999.0,-999.0000,-999.000,   25.00,  -999.0, 11.2793,-999.000
    31DSCG94_2,  P18S,    61,  1,    129,   1031,2,19940316,1053,-39.0000,-103.0000, 3835,    196.3,   9.8502,  34.3061,2,  34.3035,2,    236.6,2,    230.0,2,     2.87,2,    14.93,2,     0.09,2,     1.11,2,    3.081,2,    1.523,2, -999.000,9, -999.000,9, -999.000,9,-999.0000,9,  -999.00,9,   -999.0,9,   -999.0,9,   2098.8,2,    621.2,2,   2270.0,2,     7.80,2,   20.00,  -999.0,-999.0000,-999.000,   25.00,  -999.0,  9.8279,-999.000
    31DSCG94_2,  P18S,    61,  1,    128,   1210,2,19940316,1053,-39.0000,-103.0000, 3835,    246.9,   8.6480,  34.3158,2,  34.3108,2,    236.5,2,    233.0,2,     3.59,2,    17.78,2,     0.05,2,     1.32,2,    2.877,2,    1.403,2, -999.000,9, -999.000,9, -999.000,9,-999.0000,9,  -999.00,9,   -999.0,9,   -999.0,9,   2112.8,2,    674.7,2,   2271.0,2,     7.77,2,   20.00,  -999.0,-999.0000,-999.000,   25.00,  -999.0,  8.6220,-999.000
    31DSCG94_2,  P18S,    61,  1,    127,   1008,2,19940316,1053,-39.0000,-103.0000, 3835,    298.8,   7.5619,  34.3279,2,  34.3285,2,    237.6,2,    234.6,2,     5.22,2,    20.39,2,     0.04,3,     0.76,4,    2.502,2,    1.230,2, -999.000,9, -999.000,9, -999.000,9,-999.0000,9,  -999.00,9,   -999.0,9,   -999.0,9,   2125.2,2,    722.0,2,   2276.0,2,     7.75,2,   20.00,  -999.0,-999.0000,-999.000,   25.00,  -999.0,  7.5327,-999.000
    31DSCG94_2,  P18S,    61,  1,    126,   1007,2,19940316,1053,-39.0000,-103.0000, 3835,    344.5,   7.0273,  34.3312,2,  34.3319,2,    241.4,2,    239.2,2,    12.30,4,    21.53,2,     0.07,3,     1.54,2,    2.344,2,    1.111,2, -999.000,9, -999.000,9, -999.000,9,-999.0000,9,  -999.00,9,   -999.0,9,   -999.0,9,   2130.6,2,    735.0,2,   -999.0,5,     7.74,2,   20.00,  -999.0,-999.0000,-999.000,   25.00,  -999.0,  6.9950,-999.000
    31DSCG94_2,  P18S,    61,  1,    125,   1203,2,19940316,1053,-39.0000,-103.0000, 3835,    398.4,   6.6867,  34.3379,2,  34.3414,2,    246.6,2,    245.2,2,    15.30,4,    21.84,2,     0.05,3,     1.52,2,    2.228,2,    1.088,2, -999.000,9, -999.000,9, -999.000,9,-999.0000,9,  -999.00,9,   -999.0,9,   -999.0,9,   2131.1,2,    735.0,2,   2279.0,2,     7.74,2,   20.00,  -999.0,-999.0000,-999.000,   25.00,  -999.0,  6.6502,-999.000
    31DSCG94_2,  P18S,    61,  1,    123,   1101,2,19940316,1053,-39.0000,-103.0000, 3835,    495.4,   6.2450,  34.3226,2,  34.3222,2,    248.5,2,    247.4,2,    16.39,4,    22.73,2,     0.04,4,     1.58,2,    1.649,2,    0.810,2, -999.000,9, -999.000,9, -999.000,9,-999.0000,9,  -999.00,9,   -999.0,9,   -999.0,9,   2133.6,2,    740.1,2,   2285.0,2,     7.74,2,   20.00,  -999.0,-999.0000,-999.000,   25.00,  -999.0,  6.2009,-999.000
    31DSCG94_2,  P18S,    61,  1,    121,   1206,2,19940316,1053,-39.0000,-103.0000, 3835,    600.0,   5.8653,  34.2967,2,  34.2980,2,    247.8,2,    249.8,2,    18.21,4,    23.69,2,     0.02,3,     1.64,2,    1.434,2,    0.719,2, -999.000,9, -999.000,9, -999.000,9,-999.0000,9,  -999.00,9,   -999.0,9,   -999.0,9,   2135.8,2,    749.2,2,   2279.0,2,     7.73,2,   20.00,  -999.0,-999.0000,-999.000,   25.00,  -999.0,  5.8133,-999.000
    31DSCG94_2,  P18S,    61,  1,    119,   1248,2,19940316,1053,-39.0000,-103.0000, 3835,    699.7,   5.5067,  34.2787,2,  34.2779,2,    242.8,2,    244.6,2,    20.06,4,    25.38,2,     0.02,3,     1.65,4,    0.972,2,    0.505,2, -999.000,9, -999.000,9, -999.000,9,-999.0000,9,  -999.00,9,   -999.0,9,   -999.0,9,   2160.2,3,    780.2,2,   2279.0,2,     7.72,2,   20.00,  -999.0,-999.0000,-999.000,   25.00,  -999.0,  5.4474,-999.000
    31DSCG94_2,  P18S,    61,  1,    118,   1207,2,19940316,1053,-39.0000,-103.0000, 3835,    797.1,   5.1677,  34.2692,2,  34.2688,2,    233.7,2,    234.5,2,    23.00,4,    27.01,2,     0.04,4,     1.62,4,    0.646,2,    0.353,2, -999.000,9, -999.000,9, -999.000,9,-999.0000,9,  -999.00,9,   -999.0,9,   -999.0,9,   2157.2,2,    825.3,2,   2279.0,2,     7.70,2,   20.00,  -999.0,-999.0000,-999.000,   25.00,  -999.0,  5.1017,-999.000
    31DSCG94_2,  P18S,    61,  1,    117,   1119,2,19940316,1053,-39.0000,-103.0000, 3835,    892.9,   4.7303,  34.2746,2,  34.2743,2,    218.9,2,    219.4,2,    28.68,4,    28.78,2,     0.04,4,     2.00,2,    0.438,2,    0.237,2, -999.000,9, -999.000,9, -999.000,9,-999.0000,9,  -999.00,9,   -999.0,9,   -999.0,9,   2171.9,2,    900.2,2,   2291.0,2,  -999.00,9,   20.00,  -999.0,-999.0000,-999.000, -999.00,  -999.0,  4.6587,-999.000
    31DSCG94_2,  P18S,    61,  1,    116,   1036,2,19940316,1053,-39.0000,-103.0000, 3835,    997.3,   4.2475,  34.3011,2,  34.3011,2,    201.0,2,    199.4,2,    29.90,2,    31.29,2,     0.02,3,     2.17,2,    0.160,2,    0.091,2, -999.000,9, -999.000,9, -999.000,9,-999.0000,9,  -999.00,9,   -999.0,9,   -999.0,9,   2193.3,2,    998.2,2,   2298.0,2,     7.63,2,   20.00,  -999.0,-999.0000,-999.000,   25.00,  -999.0,  4.1705,-999.000
    31DSCG94_2,  P18S,    61,  1,    115,   1017,2,19940316,1053,-39.0000,-103.0000, 3835,   1094.7,   3.8839,  34.3441,2,  34.3443,2,    181.1,2,    177.8,2,    40.52,2,    33.54,2,     0.02,3,     2.32,2,    0.034,2,    0.022,2, -999.000,9, -999.000,9, -999.000,9,-999.0000,9,  -999.00,9,   -999.0,9,   -999.0,9,   2214.9,2,   1111.3,2,   2302.0,2,     7.59,2,   20.00,  -999.0,-999.0000,-999.000,   25.00,  -999.0,  3.8015,-999.000
    31DSCG94_2,  P18S,    61,  1,    114,   1016,2,19940316,1053,-39.0000,-103.0000, 3835,   1195.5,   3.5869,  34.3997,2,  34.3987,2,    161.1,2,    157.3,2,    53.59,2,    35.37,2,     0.00,2,     2.44,2,    0.004,6,    0.004,6, -999.000,9, -999.000,9, -999.000,9,-999.0000,9,  -999.00,9,   -999.0,9,   -999.0,9,   2239.0,2,   1208.3,2,   2313.0,2,     7.56,2,   20.00,  -999.0,-999.0000,-999.000,   25.00,  -999.0,  3.4987,-999.000
    31DSCG94_2,  P18S,    61,  1,    113,   1209,2,19940316,1053,-39.0000,-103.0000, 3835,   1396.3,   3.2035,  34.4872,2,  34.4864,2,    139.0,2,    136.6,2,    72.95,2,    36.81,2,     0.00,2,     2.63,2,    0.004,2,    0.000,2, -999.000,9, -999.000,9, -999.000,9,-999.0000,9,  -999.00,9,   -999.0,9,   -999.0,9,   2273.6,2,   1305.0,2,   2339.0,2,     7.53,2,   20.00,  -999.0,-999.0000,-999.000,   25.00,  -999.0,  3.1023,-999.000
    31DSCG94_2,  P18S,    61,  1,    112,   1033,2,19940316,1053,-39.0000,-103.0000, 3835,   1596.6,   2.8428,  34.5447,2,  34.5436,2,    137.5,2,    137.1,2,    85.21,2,    36.60,2,     0.01,2,     2.63,2,   -0.003,6,   -0.002,6, -999.000,9, -999.000,9, -999.000,9,-999.0000,9,  -999.00,9,   -999.0,9,   -999.0,9,   2283.1,2,   1304.6,2,   2351.0,2,     7.53,2,   20.00,  -999.0,-999.0000,-999.000,   25.00,  -999.0,  2.7288,-999.000
    31DSCG94_2,  P18S,    61,  1,    111,   1263,2,19940316,1053,-39.0000,-103.0000, 3835,   1795.9,   2.5584,  34.5850,2,  34.5845,2,    140.8,2,    140.7,2,    94.71,2,    36.41,2,     0.01,2,     2.61,2,    0.002,2,    0.003,2, -999.000,9, -999.000,9, -999.000,9,-999.0000,9,  -999.00,9,   -999.0,9,   -999.0,9,   2288.9,2,   1255.8,2,   2366.0,2,     7.54,2,   20.00,  -999.0,-999.0000,-999.000,   25.00,  -999.0,  2.4312,-999.000
    31DSCG94_2,  P18S,    61,  1,    110,   1005,2,19940316,1053,-39.0000,-103.0000, 3835,   1999.6,   2.3075,  34.6182,2,  34.6173,2,    146.3,2,    145.9,2,   102.90,2,    35.54,2,     0.01,2,     2.54,2, -999.000,9, -999.000,9, -999.000,9, -999.000,9, -999.000,9,-999.0000,9,  -999.00,9,   -999.0,9,   -999.0,9,   2293.1,3,   1238.4,2,   2373.0,2,     7.55,2,   20.00,  -999.0,-999.0000,-999.000,   25.00,  -999.0,  2.1665,-999.000
    31DSCG94_2,  P18S,    61,  1,    109,   1611,2,19940316,1053,-39.0000,-103.0000, 3835,   2248.5,   2.0958,  34.6596,2,  34.6585,2,    160.4,2,    161.5,2,   103.21,2,    33.82,2,     0.00,2,     2.38,2, -999.000,5, -999.000,5, -999.000,9, -999.000,9, -999.000,9,-999.0000,9,  -999.00,9,   -999.0,9,   -999.0,9,   2283.3,2,   1157.7,2,   2366.0,2,     7.58,2,   20.00,  -999.0,-999.0000,-999.000,   25.00,  -999.0,  1.9363,-999.000
    31DSCG94_2,  P18S,    61,  1,    108,   1218,2,19940316,1053,-39.0000,-103.0000, 3835,   2499.2,   1.9236,  34.6813,2,  34.6809,2,    164.7,2,    164.9,6,   108.59,2,    33.53,2,     0.00,2,     2.35,2, -999.000,9, -999.000,9, -999.000,9, -999.000,9, -999.000,9,-999.0000,9,  -999.00,9,   -999.0,9,   -999.0,9,   2285.0,2,   1146.2,2,   2377.0,2,     7.58,2,   20.00,  -999.0,-999.0000,-999.000,   25.00,  -999.0,  1.7447,-999.000
    31DSCG94_2,  P18S,    61,  1,    107,   1257,2,19940316,1053,-39.0000,-103.0000, 3835,   2747.3,   1.8239,  34.6895,2,  34.6884,2,    166.7,2,    167.8,2,   110.79,2,    33.67,2,     0.00,2,     2.35,2,    0.000,2,    0.004,2, -999.000,9, -999.000,9, -999.000,9,-999.0000,9,  -999.00,9,   -999.0,9,   -999.0,9,   2287.2,2,   1125.0,2,   2381.0,2,     7.59,2,   20.00,  -999.0,-999.0000,-999.000,   25.00,  -999.0,  1.6240,-999.000
    31DSCG94_2,  P18S,    61,  1,    106,   1224,2,19940316,1053,-39.0000,-103.0000, 3835,   2997.8,   1.7544,  34.6964,2,  34.6951,2,    170.9,2,    171.2,6,   111.43,2,    33.25,2,     0.01,2,     2.33,2, -999.000,9, -999.000,9, -999.000,9, -999.000,9, -999.000,9,-999.0000,9,  -999.00,9,   -999.0,9,   -999.0,9,   2284.9,2,   1116.5,2,   2377.0,2,     7.59,2,   20.00,  -999.0,-999.0000,-999.000,   25.00,  -999.0,  1.5321,-999.000
    31DSCG94_2,  P18S,    61,  1,    105,   1246,2,19940316,1053,-39.0000,-103.0000, 3835,   3245.6,   1.6422,  34.7019,2,  34.7013,2,    176.0,2,    176.7,2,   113.58,2,    33.06,2,     0.04,4,     2.33,2,   -0.001,2,    0.000,2, -999.000,9, -999.000,9, -999.000,9,-999.0000,9,  -999.00,9,   -999.0,9,   -999.0,9,   2283.8,2,   1098.6,2,   2377.0,2,     7.60,2,   20.00,  -999.0,-999.0000,-999.000,   25.00,  -999.0,  1.3981,-999.000
    31DSCG94_2,  P18S,    61,  1,    103,   9999,2,19940316,1053,-39.0000,-103.0000, 3835,   3497.8,   1.4275,  34.7049,2,  34.7043,2,    183.8,2,    183.0,2,   119.38,2,    32.73,2,     0.00,2,     2.29,2,   -0.011,2,   -0.003,2, -999.000,9, -999.000,9, -999.000,9,-999.0000,9,  -999.00,9,   -999.0,9,   -999.0,9,   2281.8,2,   1086.6,2,   2378.0,2,     7.61,2,   20.00,  -999.0,-999.0000,-999.000,   25.00,  -999.0,  1.1632,-999.000
    31DSCG94_2,  P18S,    61,  1,    104,   1217,2,19940316,1053,-39.0000,-103.0000, 3835,   3499.8,   1.4275,  34.7050,2,  34.7041,2,    183.8,2,    183.2,2,   118.74,2,    32.72,2,     0.02,3,     2.29,2, -999.000,9, -999.000,9, -999.000,9, -999.000,9, -999.000,9,-999.0000,9,  -999.00,9,   -999.0,9,   -999.0,9,   2281.7,2,   -999.0,9,   2380.0,2,     7.60,2, -999.00,  -999.0,-999.0000,-999.000,   25.00,  -999.0,  1.1630,-999.000
    31DSCG94_2,  P18S,    61,  1,    102,   1223,2,19940316,1053,-39.0000,-103.0000, 3835,   3748.8,   1.1710,  34.7073,2,  34.7060,2,    193.2,2,    191.6,6,   123.16,2,    32.52,2,     0.01,2,     2.33,2, -999.000,9, -999.000,9, -999.000,9, -999.000,9, -999.000,9,-999.0000,9,  -999.00,9,   -999.0,9,   -999.0,9,   2277.8,2,   1047.1,2,   2380.0,2,     7.61,2,   20.00,  -999.0,-999.0000,-999.000,   25.00,  -999.0,  0.8876,-999.000
    31DSCG94_2,  P18S,    61,  1,    101,   1041,2,19940316,1053,-39.0000,-103.0000, 3835,   3852.5,   1.1564,  34.7079,2,  34.7065,2,    195.2,2,    192.1,2,   121.60,2,    32.64,2,     0.00,2,     2.33,2,   -0.003,2,    0.000,2, -999.000,9, -999.000,9, -999.000,9,-999.0000,9,  -999.00,9,   -999.0,9,   -999.0,9,   2279.0,2,   1050.2,2,   -999.0,5,     7.61,2,   20.00,  -999.0,-999.0000,-999.000,   25.00,  -999.0,  0.8626,-999.000