BOTTLE,20220630CCHSIOAMB
EXPOCODE,SECT_ID,STNNBR,CASTNO,SAMPNO,BTLNBR,BTLNBR_FLAG_W,DATE,TIME,LATITUDE,LONGITUDE,DEPTH,CTDPRS,CTDTMP,CTDSAL,CTDSAL_FLAG_W,SALNTY,SALNTY_FLAG_W,CTDOXY,CTDOXY_FLAG_W,OXYGEN,OXYGEN_FLAG_W,SILCAT,SILCAT_FLAG_W,NITRAT,NITRAT_FLAG_W,NITRIT,NITRIT_FLAG_W,PHSPHT,PHSPHT_FLAG_W,CFC-11,CFC-11_FLAG_W,CFC-12,CFC-12_FLAG_W,CFC113,CFC113_FLAG_W,CCL4,CCL4_FLAG_W,TRITUM,TRITUM_FLAG_W,HELIUM,HELIUM_FLAG_W,DELHE3,DELHE3_FLAG_W,DELC14,DELC14_FLAG_W,DELC13,DELC13_FLAG_W,TCARBN,TCARBN_FLAG_W,PCO2,PCO2_FLAG_W,ALKALI,ALKALI_FLAG_W,PH,PH_FLAG_W,PCO2TMP,C14ERR,HELIER,DELHER,PH_TMP,C13ERR,THETA,TRITER
,,,,,,,,,,,,DBAR,ITS-90,PSS-78,,PSS-78,,UMOL/KG,,UMOL/KG,,UMOL/KG,,UMOL/KG,,UMOL/KG,,UMOL/KG,,PMOL/KG,,PMOL/KG,,PMOL/KG,,PMOL/KG,,TU,,NMOL/KG,,PERCNT,,/MILLE,,/MILLE,,UMOL/KG,,UATM,,UMOL/KG,,,,DEG C,/MILLE,NMOL/KG,PERCNT,DEG C,/MILLE,DEG C,TU
    31DSCG94_3,  P18N,   188,  3,    336,   1025,2,19940424,1824, 21.0000,-110.0000, 3251,      8.8,  22.2492,  34.4627,2,  34.4641,2,    198.3,2,    220.9,2,     1.16,2,     0.07,2,     0.00,2,     0.29,2,    2.219,6,    1.234,6, -999.000,9, -999.000,9, -999.000,9,-999.0000,9,  -999.00,9,   -999.0,9,      1.8,2,   2000.0,2,    332.8,2,   2297.0,6,     8.04,2,   20.00,  -999.0,-999.0000,-999.000,   25.00,  -999.0, 22.2474,-999.000
    31DSCG94_3,  P18N,   188,  3,    335,   1247,2,19940424,1824, 21.0000,-110.0000, 3251,     24.4,  22.1118,  34.4418,2,  34.4432,2,    230.1,2,    221.2,2,     1.08,2,     0.05,2,     0.00,2,     0.27,2, -999.000,5, -999.000,5, -999.000,9, -999.000,9, -999.000,9,-999.0000,9,  -999.00,9,   -999.0,9,   -999.0,9,   -999.0,9,   -999.0,9,   -999.0,9,     8.03,2, -999.00,  -999.0,-999.0000,-999.000,   25.00,  -999.0, 22.1070,-999.000
    31DSCG94_3,  P18N,   188,  3,    334,   1216,2,19940424,1824, 21.0000,-110.0000, 3251,     49.7,  21.4869,  34.3810,2,  34.3875,2,    219.7,2,    225.5,2,     1.12,2,     0.03,2,     0.00,2,     0.29,2,    2.291,2,    1.265,2, -999.000,9, -999.000,9, -999.000,9,-999.0000,9,  -999.00,9,   -999.0,9,   -999.0,9,   -999.0,9,   -999.0,9,   -999.0,9,     8.03,2, -999.00,  -999.0,-999.0000,-999.000,   25.00,  -999.0, 21.4773,-999.000
    31DSCG94_3,  P18N,   188,  3,    333,   1244,2,19940424,1824, 21.0000,-110.0000, 3251,     74.9,  19.1915,  34.3612,2,  34.3783,2,    155.2,2,    184.0,2,     5.13,2,     4.01,2,     0.44,2,     0.77,2,    2.249,2,    1.217,2, -999.000,9, -999.000,9, -999.000,9,-999.0000,9,  -999.00,9,   -999.0,9,   -999.0,9,   -999.0,9,   -999.0,9,   -999.0,9,     7.91,2, -999.00,  -999.0,-999.0000,-999.000,   25.00,  -999.0, 19.1781,-999.000
    31DSCG94_3,  P18N,   188,  3,    332,   1003,2,19940424,1824, 21.0000,-110.0000, 3251,    100.3,  15.9568,  34.3756,2,  34.3636,2,     67.6,2,     88.3,2,    14.62,2,    17.12,2,     0.11,2,     1.65,2,    1.902,2,    1.002,2, -999.000,9, -999.000,9, -999.000,9,-999.0000,9,  -999.00,9,   -999.0,9,   -999.0,9,   -999.0,9,   -999.0,9,   -999.0,9,     7.67,2, -999.00,  -999.0,-999.0000,-999.000,   25.00,  -999.0, 15.9410,-999.000
    31DSCG94_3,  P18N,   188,  3,    331,   1211,2,19940424,1824, 21.0000,-110.0000, 3251,    123.4,  13.9688,  34.6064,2,  34.6080,2,     31.6,2,     27.4,6,    25.88,2,    25.05,2,     0.01,2,     2.26,2,    1.140,6,    0.600,6, -999.000,9, -999.000,9, -999.000,9,-999.0000,9,  -999.00,9,   -999.0,9,   -999.0,9,   -999.0,9,   -999.0,9,   -999.0,9,     7.50,2, -999.00,  -999.0,-999.0000,-999.000,   25.00,  -999.0, 13.9511,-999.000
    31DSCG94_3,  P18N,   188,  3,    330,   1241,2,19940424,1824, 21.0000,-110.0000, 3251,    150.0,  13.1347,  34.7013,2,  34.7017,2,     17.2,2,      9.8,2,    28.56,2,    26.74,2,     0.00,2,     2.43,2,    0.723,2,    0.381,2, -999.000,9, -999.000,9, -999.000,9,-999.0000,9,  -999.00,9,   -999.0,9,   -999.0,9,   -999.0,9,   -999.0,9,   -999.0,9,     7.46,2, -999.00,  -999.0,-999.0000,-999.000,   25.00,  -999.0, 13.1141,-999.000
    31DSCG94_3,  P18N,   188,  3,    329,   1240,2,19940424,1824, 21.0000,-110.0000, 3251,    174.1,  12.5868,  34.7158,2,  34.7138,2,     16.1,2,      4.2,2,    30.06,2,    27.50,2,     0.01,2,     2.49,2,    0.501,2,    0.282,2, -999.000,9, -999.000,9, -999.000,9,-999.0000,9,  -999.00,9,   -999.0,9,   -999.0,9,   -999.0,9,   -999.0,9,   -999.0,9,     7.44,2, -999.00,  -999.0,-999.0000,-999.000,   25.00,  -999.0, 12.5634,-999.000
    31DSCG94_3,  P18N,   188,  3,    328,   1114,2,19940424,1824, 21.0000,-110.0000, 3251,    197.8,  12.1659,  34.7266,2,  34.7247,2,      6.7,2,      2.0,2,    32.18,2,    27.41,2,     0.00,2,     2.55,2,    0.376,2,    0.209,2, -999.000,9, -999.000,9, -999.000,9,-999.0000,9,  -999.00,9,   -999.0,9,   -999.0,9,   -999.0,9,   -999.0,9,   -999.0,9,     7.43,2, -999.00,  -999.0,-999.0000,-999.000,   25.00,  -999.0, 12.1399,-999.000
    31DSCG94_3,  P18N,   188,  3,    327,   1008,2,19940424,1824, 21.0000,-110.0000, 3251,    250.7,  11.4369,  34.7221,2,  34.7245,2,      4.3,2,      0.2,2,    33.44,2,    24.83,2,     1.38,2,     2.57,2,    0.179,2,    0.104,2, -999.000,9, -999.000,9, -999.000,9,-999.0000,9,  -999.00,9,   -999.0,9,   -999.0,9,   -999.0,9,   -999.0,9,   -999.0,9,     7.42,2, -999.00,  -999.0,-999.0000,-999.000,   25.00,  -999.0, 11.4052,-999.000
    31DSCG94_3,  P18N,   188,  3,    326,   1007,2,19940424,1824, 21.0000,-110.0000, 3251,    299.8,  10.7042,  34.6719,2,  34.6702,2,      2.6,2,      0.0,2,    37.55,2,    25.97,2,     0.14,2,     2.60,2,    0.155,2,    0.086,2, -999.000,9, -999.000,9, -999.000,9,-999.0000,9,  -999.00,9,   -999.0,9,   -999.0,9,   -999.0,9,   -999.0,9,   -999.0,9,     7.40,2, -999.00,  -999.0,-999.0000,-999.000,   25.00,  -999.0, 10.6679,-999.000
    31DSCG94_3,  P18N,   188,  3,    325,   1256,2,19940424,1824, 21.0000,-110.0000, 3251,    350.3,   9.8300,  34.6227,2,  34.6203,2,      2.3,2,      0.2,2,    42.71,2,    27.09,2,     0.00,2,     2.72,2,    0.084,6,    0.044,6, -999.000,9, -999.000,9, -999.000,9,-999.0000,9,  -999.00,9,   -999.0,9,   -999.0,9,   -999.0,9,   -999.0,9,   -999.0,9,     7.38,2, -999.00,  -999.0,-999.0000,-999.000,   25.00,  -999.0,  9.7897,-999.000
    31DSCG94_3,  P18N,   188,  3,    323,   1220,2,19940424,1824, 21.0000,-110.0000, 3251,    400.8,   8.9543,  34.5732,2,  34.5722,2,      1.7,2,      0.9,2,    50.09,2,    29.73,2,     0.00,2,     2.82,2,    0.062,2,    0.027,2, -999.000,9, -999.000,9, -999.000,9,-999.0000,9,  -999.00,9,   -999.0,9,   -999.0,9,   -999.0,9,   -999.0,9,   -999.0,9,     7.37,2, -999.00,  -999.0,-999.0000,-999.000,   25.00,  -999.0,  8.9106,-999.000
    31DSCG94_3,  P18N,   188,  3,    322,   1245,2,19940424,1824, 21.0000,-110.0000, 3251,    500.3,   7.5366,  34.5165,2,  34.5158,2,      0.8,2,      1.1,2,    64.25,2,    34.01,2,     0.00,2,     2.99,2,    0.045,6,    0.015,6, -999.000,9, -999.000,9, -999.000,9,-999.0000,9,  -999.00,9,   -999.0,9,   -999.0,9,   -999.0,9,   -999.0,9,   -999.0,9,     7.35,2, -999.00,  -999.0,-999.0000,-999.000,   25.00,  -999.0,  7.4871,-999.000
    31DSCG94_3,  P18N,   188,  3,    321,   1206,2,19940424,1824, 21.0000,-110.0000, 3251,    599.8,   6.7951,  34.5065,2,  34.5048,2,      0.7,2,      1.2,2,    72.00,2,    36.53,2,     0.00,2,     2.97,2,    0.009,2,    0.002,2, -999.000,9, -999.000,9, -999.000,9,-999.0000,9,  -999.00,9,   -999.0,9,   -999.0,9,   -999.0,9,   -999.0,9,   -999.0,9,     7.34,2, -999.00,  -999.0,-999.0000,-999.000,   25.00,  -999.0,  6.7386,-999.000
    31DSCG94_3,  P18N,   188,  3,    320,   1028,2,19940424,1824, 21.0000,-110.0000, 3251,    697.8,   6.0100,  34.5009,2,  34.4994,2,      0.7,2,      1.8,2,    80.45,2,    39.41,2,     0.00,2,     3.11,2,    0.008,2,    0.001,2, -999.000,9, -999.000,9, -999.000,9,-999.0000,9,  -999.00,9,   -999.0,9,   -999.0,9,   -999.0,9,   -999.0,9,   -999.0,9,     7.33,2, -999.00,  -999.0,-999.0000,-999.000,   25.00,  -999.0,  5.9480,-999.000
    31DSCG94_3,  P18N,   188,  3,    319,   1248,2,19940424,1824, 21.0000,-110.0000, 3251,    800.4,   5.3685,  34.5039,2,  34.5031,2,      2.7,2,      3.9,2,    88.18,2,    41.53,2,     0.00,2,     3.14,2,    0.004,2,   -0.001,2, -999.000,9, -999.000,9, -999.000,9,-999.0000,9,  -999.00,9,   -999.0,9,   -999.0,9,   -999.0,9,   -999.0,9,   -999.0,9,     7.33,2, -999.00,  -999.0,-999.0000,-999.000,   25.00,  -999.0,  5.3007,-999.000
    31DSCG94_3,  P18N,   188,  3,    318,   1115,2,19940424,1824, 21.0000,-110.0000, 3251,    902.1,   4.8663,  34.5174,2,  34.5169,2,      6.1,2,      6.4,2,    97.53,2,    42.78,2,     0.00,2,     3.09,2,    0.022,2,   -0.001,2, -999.000,9, -999.000,9, -999.000,9,-999.0000,9,  -999.00,9,   -999.0,9,   -999.0,9,   -999.0,9,   -999.0,9,   -999.0,9,     7.33,2, -999.00,  -999.0,-999.0000,-999.000,   25.00,  -999.0,  4.7927,-999.000
    31DSCG94_3,  P18N,   188,  3,    317,   1119,2,19940424,1824, 21.0000,-110.0000, 3251,   1001.4,   4.4326,  34.5302,2,  34.5289,2,      9.4,2,     10.9,6,   107.27,2,    43.39,2,     0.00,2,     3.15,2,    0.014,2,    0.001,2, -999.000,9, -999.000,9, -999.000,9,-999.0000,9,  -999.00,9,   -999.0,9,   -999.0,9,   -999.0,9,   -999.0,9,   -999.0,9,     7.33,2, -999.00,  -999.0,-999.0000,-999.000,   25.00,  -999.0,  4.3535,-999.000
    31DSCG94_3,  P18N,   188,  3,    316,   1036,2,19940424,1824, 21.0000,-110.0000, 3251,   1101.8,   4.1141,  34.5486,2,  34.5477,2,     12.0,2,     15.1,2,   115.55,2,    43.40,2,     0.00,2,     3.16,2, -999.000,9, -999.000,9, -999.000,9, -999.000,9, -999.000,9,-999.0000,9,  -999.00,9,   -999.0,9,   -999.0,9,   -999.0,9,   -999.0,9,   -999.0,9,  -999.00,9, -999.00,  -999.0,-999.0000,-999.000, -999.00,  -999.0,  4.0289,-999.000
    31DSCG94_3,  P18N,   188,  3,    315,   1017,2,19940424,1824, 21.0000,-110.0000, 3251,   1201.5,   3.7388,  34.5640,2,  34.5631,2,     19.7,2,     22.6,2,   118.46,2,    42.85,2,     0.00,2,     3.04,2,    0.006,2,    0.000,2, -999.000,9, -999.000,9, -999.000,9,-999.0000,9,  -999.00,9,   -999.0,9,   -999.0,9,   -999.0,9,   -999.0,9,   -999.0,9,  -999.00,9, -999.00,  -999.0,-999.0000,-999.000, -999.00,  -999.0,  3.6484,-999.000
    31DSCG94_3,  P18N,   188,  3,    314,   1016,2,19940424,1824, 21.0000,-110.0000, 3251,   1300.0,   3.4672,  34.5755,2,  34.5742,2,     26.3,2,     29.6,2,   123.39,2,    42.80,2,     0.00,2,     2.98,2, -999.000,9, -999.000,9, -999.000,9, -999.000,9, -999.000,9,-999.0000,9,  -999.00,9,   -999.0,9,   -999.0,9,   -999.0,9,   -999.0,9,   -999.0,9,  -999.00,9, -999.00,  -999.0,-999.0000,-999.000, -999.00,  -999.0,  3.3710,-999.000
    31DSCG94_3,  P18N,   188,  3,    313,   1209,2,19940424,1824, 21.0000,-110.0000, 3251,   1399.3,   3.2592,  34.5875,2,  34.5869,2,     32.1,2,     36.1,2,   126.75,2,    42.47,2,     0.00,2,     3.01,2,    0.015,2,   -0.002,2, -999.000,9, -999.000,9, -999.000,9,-999.0000,9,  -999.00,9,   -999.0,9,   -999.0,9,   -999.0,9,   -999.0,9,   -999.0,9,  -999.00,9, -999.00,  -999.0,-999.0000,-999.000, -999.00,  -999.0,  3.1569,-999.000
    31DSCG94_3,  P18N,   188,  3,    312,   1033,2,19940424,1824, 21.0000,-110.0000, 3251,   1499.6,   3.0603,  34.5972,2,  34.5964,2,     39.2,2,     41.4,2,   133.08,2,    41.80,2,     0.00,2,     2.98,2, -999.000,9, -999.000,9, -999.000,9, -999.000,9, -999.000,9,-999.0000,9,  -999.00,9,   -999.0,9,   -999.0,9,   -999.0,9,   -999.0,9,   -999.0,9,  -999.00,9, -999.00,  -999.0,-999.0000,-999.000, -999.00,  -999.0,  2.9517,-999.000
    31DSCG94_3,  P18N,   188,  3,    311,   1240,2,19940424,1824, 21.0000,-110.0000, 3251,   1600.2,   2.8688,  34.6060,2,  34.6047,2,     46.7,2,     50.7,2,   138.75,2,    41.73,2,     0.00,2,     2.95,2, -999.000,9, -999.000,9, -999.000,9, -999.000,9, -999.000,9,-999.0000,9,  -999.00,9,   -999.0,9,   -999.0,9,   -999.0,9,   -999.0,9,   -999.0,9,  -999.00,9, -999.00,  -999.0,-999.0000,-999.000, -999.00,  -999.0,  2.7540,-999.000
    31DSCG94_3,  P18N,   188,  3,    310,   1005,2,19940424,1824, 21.0000,-110.0000, 3251,   1799.6,   2.4459,  34.6265,2,  34.6255,2,     67.0,2,     69.4,2,   145.11,2,    40.33,2,     0.00,2,     2.82,2,    0.025,4,    0.000,2, -999.000,9, -999.000,9, -999.000,9,-999.0000,9,  -999.00,9,   -999.0,9,   -999.0,9,   -999.0,9,   -999.0,9,   -999.0,9,  -999.00,9, -999.00,  -999.0,-999.0000,-999.000, -999.00,  -999.0,  2.3198,-999.000
    31DSCG94_3,  P18N,   188,  3,    309,   1611,2,19940424,1824, 21.0000,-110.0000, 3251,   1998.4,   2.1744,  34.6404,2,  34.6393,2,     81.8,2,     82.6,6,   147.44,2,    39.72,2,     0.00,2,     2.71,2, -999.000,9, -999.000,9, -999.000,9, -999.000,9, -999.000,9,-999.0000,9,  -999.00,9,   -999.0,9,   -999.0,9,   -999.0,9,   -999.0,9,   -999.0,9,  -999.00,9, -999.00,  -999.0,-999.0000,-999.000, -999.00,  -999.0,  2.0354,-999.000
    31DSCG94_3,  P18N,   188,  3,    308,   1218,2,19940424,1824, 21.0000,-110.0000, 3251,   2200.5,   1.9696,  34.6507,2,  34.6501,2,    103.8,2,     94.2,2,   148.63,2,    38.92,2,     0.00,2,     2.64,2, -999.000,9, -999.000,9, -999.000,9, -999.000,9, -999.000,9,-999.0000,9,  -999.00,9,   -999.0,9,   -999.0,9,   -999.0,9,   -999.0,9,   -999.0,9,  -999.00,9, -999.00,  -999.0,-999.0000,-999.000, -999.00,  -999.0,  1.8165,-999.000
    31DSCG94_3,  P18N,   188,  3,    307,   1257,2,19940424,1824, 21.0000,-110.0000, 3251,   2398.2,   1.8422,  34.6592,2,  34.6585,2,    108.8,2,    102.3,2,   153.39,2,    38.36,2,     0.00,2,     2.61,2,    0.031,4,   -0.001,2, -999.000,9, -999.000,9, -999.000,9,-999.0000,9,  -999.00,9,   -999.0,9,   -999.0,9,   -999.0,9,   -999.0,9,   -999.0,9,  -999.00,9, -999.00,  -999.0,-999.0000,-999.000, -999.00,  -999.0,  1.6739,-999.000
    31DSCG94_3,  P18N,   188,  3,    306,   1224,2,19940424,1824, 21.0000,-110.0000, 3251,   2601.0,   1.7537,  34.6643,2,  34.6634,2,    117.8,2,    109.8,2,   156.43,2,    38.18,2,     0.00,2,     2.58,2, -999.000,9, -999.000,9, -999.000,9, -999.000,9, -999.000,9,-999.0000,9,  -999.00,9,   -999.0,9,   -999.0,9,   -999.0,9,   -999.0,9,   -999.0,9,  -999.00,9, -999.00,  -999.0,-999.0000,-999.000, -999.00,  -999.0,  1.5688,-999.000
    31DSCG94_3,  P18N,   188,  3,    305,   1246,2,19940424,1824, 21.0000,-110.0000, 3251,   2796.5,   1.6898,  34.6688,2,  34.6679,2,    118.0,2,    114.5,2,   158.60,2,    37.59,2,     0.00,2,     2.55,2, -999.000,9, -999.000,9, -999.000,9, -999.000,9, -999.000,9,-999.0000,9,  -999.00,9,   -999.0,9,   -999.0,9,   -999.0,9,   -999.0,9,   -999.0,9,  -999.00,9, -999.00,  -999.0,-999.0000,-999.000, -999.00,  -999.0,  1.4881,-999.000
    31DSCG94_3,  P18N,   188,  3,    304,   1217,2,19940424,1824, 21.0000,-110.0000, 3251,   3000.0,   1.6725,  34.6703,2,  34.6693,2,    118.3,2,    115.4,2,   158.31,6,    37.61,6,     0.00,6,     2.52,6, -999.000,9, -999.000,9, -999.000,9, -999.000,9, -999.000,9,-999.0000,9,  -999.00,9,   -999.0,9,   -999.0,9,   -999.0,9,   -999.0,9,   -999.0,9,  -999.00,9, -999.00,  -999.0,-999.0000,-999.000, -999.00,  -999.0,  1.4519,-999.000
    31DSCG94_3,  P18N,   188,  3,    302,   1223,2,19940424,1824, 21.0000,-110.0000, 3251,   3148.6,   1.6749,  34.6712,2,  34.6704,2,    119.3,2,    116.0,2,   157.00,2,    37.51,2,     0.00,2,     2.52,2, -999.000,9, -999.000,9, -999.000,9, -999.000,9, -999.000,9,-999.0000,9,  -999.00,9,   -999.0,9,   -999.0,9,   -999.0,9,   -999.0,9,   -999.0,9,  -999.00,9, -999.00,  -999.0,-999.0000,-999.000, -999.00,  -999.0,  1.4398,-999.000
    31DSCG94_3,  P18N,   188,  3,    303,   9999,2,19940424,1824, 21.0000,-110.0000, 3251,   3149.4,   1.6753,  34.6710,2,  34.6716,2,    119.3,2,    115.8,2,   156.57,2,    38.66,3,     0.00,2,     2.51,2,    0.005,2,    0.002,2, -999.000,9, -999.000,9, -999.000,9,-999.0000,9,  -999.00,9,   -999.0,9,   -999.0,9,   -999.0,9,   -999.0,9,   -999.0,9,  -999.00,9, -999.00,  -999.0,-999.0000,-999.000, -999.00,  -999.0,  1.4401,-999.000
    31DSCG94_3,  P18N,   188,  3,    301,   1041,2,19940424,1824, 21.0000,-110.0000, 3251,   3239.3,   1.6811,  34.6713,2,  34.6705,2,    117.6,2,    116.2,2,   159.19,2,    37.67,2,     0.00,2,     2.53,2,    0.048,4,    0.003,2, -999.000,9, -999.000,9, -999.000,9,-999.0000,9,  -999.00,9,   -999.0,9,   -999.0,9,   -999.0,9,   -999.0,9,   -999.0,9,  -999.00,9, -999.00,  -999.0,-999.0000,-999.000, -999.00,  -999.0,  1.4369,-999.000