BOTTLE,20220630CCHSIOAMB
EXPOCODE,SECT_ID,STNNBR,CASTNO,SAMPNO,BTLNBR,BTLNBR_FLAG_W,DATE,TIME,LATITUDE,LONGITUDE,DEPTH,CTDPRS,CTDTMP,CTDSAL,CTDSAL_FLAG_W,SALNTY,SALNTY_FLAG_W,CTDOXY,CTDOXY_FLAG_W,OXYGEN,OXYGEN_FLAG_W,SILCAT,SILCAT_FLAG_W,NITRAT,NITRAT_FLAG_W,NITRIT,NITRIT_FLAG_W,PHSPHT,PHSPHT_FLAG_W,CFC-11,CFC-11_FLAG_W,CFC-12,CFC-12_FLAG_W,CFC113,CFC113_FLAG_W,CCL4,CCL4_FLAG_W,TRITUM,TRITUM_FLAG_W,HELIUM,HELIUM_FLAG_W,DELHE3,DELHE3_FLAG_W,DELC14,DELC14_FLAG_W,DELC13,DELC13_FLAG_W,TCARBN,TCARBN_FLAG_W,PCO2,PCO2_FLAG_W,ALKALI,ALKALI_FLAG_W,PH,PH_FLAG_W,PCO2TMP,C14ERR,HELIER,DELHER,PH_TMP,C13ERR,THETA,TRITER
,,,,,,,,,,,,DBAR,ITS-90,PSS-78,,PSS-78,,UMOL/KG,,UMOL/KG,,UMOL/KG,,UMOL/KG,,UMOL/KG,,UMOL/KG,,PMOL/KG,,PMOL/KG,,PMOL/KG,,PMOL/KG,,TU,,NMOL/KG,,PERCNT,,/MILLE,,/MILLE,,UMOL/KG,,UATM,,UMOL/KG,,,,DEG C,/MILLE,NMOL/KG,PERCNT,DEG C,/MILLE,DEG C,TU
    31DSCG94_3,  P18N,   141,  1,    135,   1247,2,19940412,1455, -1.3335,-110.3348, 3820,      8.9,  26.6415,  35.0283,2,  35.0323,2,    195.6,2,    200.6,2,     4.82,2,     6.46,2,     0.15,2,     0.69,2,    1.748,2,    0.982,2, -999.000,9, -999.000,9, -999.000,9,-999.0000,9,  -999.00,9,   -999.0,9,   -999.0,9,   2034.3,2,    370.8,2,   2300.0,2,     7.99,2,   20.00,  -999.0,-999.0000,-999.000,   25.00,  -999.0, 26.6395,-999.000
    31DSCG94_3,  P18N,   141,  1,    136,   1025,2,19940412,1455, -1.3335,-110.3348, 3820,      9.3,  26.6309,  35.0282,2,  35.0327,2,    199.0,2,    200.7,6,     4.38,2,     6.50,2,     0.15,2,     0.67,2,    1.756,2,    0.994,2, -999.000,9, -999.000,9, -999.000,9,-999.0000,9,  -999.00,9,   -999.0,9,   -999.0,9,   2034.3,2,    374.7,2,   2299.0,2,     7.99,2,   20.00,  -999.0,-999.0000,-999.000,   25.00,  -999.0, 26.6288,-999.000
    31DSCG94_3,  P18N,   141,  1,    134,   1216,2,19940412,1455, -1.3335,-110.3348, 3820,     24.6,  26.5666,  35.0114,2,  35.0319,2,    195.2,2,    198.2,2,     5.26,2,     6.57,2,     0.14,2,     0.67,2,    1.754,2,    0.974,2, -999.000,9, -999.000,9, -999.000,9,-999.0000,9,  -999.00,9,   -999.0,9,   -999.0,9,   2033.9,2,    377.8,2,   2303.0,2,     7.99,2,   20.00,  -999.0,-999.0000,-999.000,   25.00,  -999.0, 26.5611,-999.000
    31DSCG94_3,  P18N,   141,  1,    133,   1244,2,19940412,1455, -1.3335,-110.3348, 3820,     50.2,  16.3476,  35.0827,2,  35.0904,2,     47.0,2,     83.4,2,    14.91,2,    20.85,2,     0.70,2,     1.67,2,    1.034,2,    0.568,2, -999.000,9, -999.000,9, -999.000,9,-999.0000,9,  -999.00,9,   -999.0,9,   -999.0,9,   2169.4,2,    783.8,2,   2305.0,2,     7.72,2,   20.00,  -999.0,-999.0000,-999.000,   25.00,  -999.0, 16.3395,-999.000
    31DSCG94_3,  P18N,   141,  1,    132,   1003,3,19940412,1455, -1.3335,-110.3348, 3820,     71.3,  14.2994,  35.0076,2,  35.0075,2,     58.1,2,     58.9,2,    18.99,2,    25.12,2,     0.42,2,     1.91,2,    0.791,6,    0.431,6, -999.000,9, -999.000,9, -999.000,9,-999.0000,9,  -999.00,9,   -999.0,9,   -999.0,9,   2190.6,2,    941.5,2,   2299.0,2,     7.65,2,   20.00,  -999.0,-999.0000,-999.000,   25.00,  -999.0, 14.2890,-999.000
    31DSCG94_3,  P18N,   141,  1,    131,   1211,2,19940412,1455, -1.3335,-110.3348, 3820,     87.8,  13.4810,  34.9661,2,  34.9747,2,     62.5,2,     57.3,2,    20.72,2,    26.32,2,     0.05,2,     1.97,2,    0.686,2,    0.370,2, -999.000,9, -999.000,9, -999.000,9,-999.0000,9,  -999.00,9,   -999.0,9,   -999.0,9,   2196.0,2,    987.9,2,   2303.0,2,     7.63,2,   20.00,  -999.0,-999.0000,-999.000,   25.00,  -999.0, 13.4686,-999.000
    31DSCG94_3,  P18N,   141,  1,    130,   1241,2,19940412,1455, -1.3335,-110.3348, 3820,    107.4,  13.2288,  34.9434,2,  34.9448,2,     60.6,2,     63.0,2,    21.55,2,    26.35,2,     0.04,2,     1.96,2,    0.642,2,    0.346,2, -999.000,9, -999.000,9, -999.000,9,-999.0000,9,  -999.00,9,   -999.0,9,   -999.0,9,   2194.8,2,    980.4,2,   2304.0,2,     7.63,2,   20.00,  -999.0,-999.0000,-999.000,   25.00,  -999.0, 13.2139,-999.000
    31DSCG94_3,  P18N,   141,  1,    129,   1240,2,19940412,1455, -1.3335,-110.3348, 3820,    148.6,  12.9565,  34.9156,2,  34.9143,2,     65.5,2,     61.0,2,    22.61,2,    26.98,2,     0.01,2,     1.97,2,    0.622,2,    0.343,2, -999.000,9, -999.000,9, -999.000,9,-999.0000,9,  -999.00,9,   -999.0,9,   -999.0,9,   2198.6,2,   1011.1,2,   2300.0,2,     7.62,2,   20.00,  -999.0,-999.0000,-999.000,   25.00,  -999.0, 12.9361,-999.000
    31DSCG94_3,  P18N,   141,  1,    128,   1032,2,19940412,1455, -1.3335,-110.3348, 3820,    199.7,  12.8954,  34.9122,2,  34.9111,2,     46.7,2,     34.6,2,    23.88,2,    29.72,2,     0.00,2,     2.12,2,    0.491,2,    0.280,2, -999.000,9, -999.000,9, -999.000,9,-999.0000,9,  -999.00,9,   -999.0,9,   -999.0,9,   2217.7,2,   1176.8,2,   -999.0,5,     7.56,2,   20.00,  -999.0,-999.0000,-999.000,   25.00,  -999.0, 12.8681,-999.000
    31DSCG94_3,  P18N,   141,  1,    127,   1008,2,19940412,1455, -1.3335,-110.3348, 3820,    251.2,  12.6901,  34.8993,2,  34.8967,2,     27.5,2,     21.2,2,    26.31,2,    31.45,2,     0.00,2,     2.29,2,    0.391,6,    0.225,6, -999.000,9, -999.000,9, -999.000,9,-999.0000,9,  -999.00,9,   -999.0,9,   -999.0,9,   2230.0,2,   1287.1,2,   2297.0,2,     7.52,2,   20.00,  -999.0,-999.0000,-999.000,   25.00,  -999.0, 12.6560,-999.000
    31DSCG94_3,  P18N,   141,  1,    126,   1007,2,19940412,1455, -1.3335,-110.3348, 3820,    300.8,  12.3714,  34.8804,2,  34.8807,2,     20.0,2,     16.4,2,    27.94,2,    32.13,2,     0.00,2,     2.36,2,    0.317,2,    0.177,2, -999.000,9, -999.000,9, -999.000,9,-999.0000,9,  -999.00,9,   -999.0,9,   -999.0,9,   2238.2,2,   1362.3,2,   2296.0,2,     7.50,2,   20.00,  -999.0,-999.0000,-999.000,   25.00,  -999.0, 12.3313,-999.000
    31DSCG94_3,  P18N,   141,  1,    125,   1256,2,19940412,1455, -1.3335,-110.3348, 3820,    349.6,  11.4817,  34.8308,2,  34.8262,2,     12.2,2,     10.1,2,    31.45,2,    33.47,2,     0.00,2,     2.53,2,    0.170,6,    0.095,6, -999.000,9, -999.000,9, -999.000,9,-999.0000,9,  -999.00,9,   -999.0,9,   -999.0,9,   2254.8,2,   1526.2,2,   2295.0,2,     7.46,2,   20.00,  -999.0,-999.0000,-999.000,   25.00,  -999.0, 11.4372,-999.000
    31DSCG94_3,  P18N,   141,  1,    123,   1220,2,19940412,1455, -1.3335,-110.3348, 3820,    399.7,  10.4953,  34.7709,2,  34.7666,2,     15.9,2,     18.0,2,    34.19,2,    34.62,2,     0.00,2,     2.60,2,    0.119,2,    0.062,2, -999.000,9, -999.000,9, -999.000,9,-999.0000,9,  -999.00,9,   -999.0,9,   -999.0,9,   2258.7,2,   1554.2,2,   2299.0,2,     7.45,2,   20.00,  -999.0,-999.0000,-999.000,   25.00,  -999.0, 10.4471,-999.000
    31DSCG94_3,  P18N,   141,  1,    122,   1245,2,19940412,1455, -1.3335,-110.3348, 3820,    499.7,   8.4946,  34.6492,2,  34.6440,2,     36.2,2,     40.2,2,    40.74,2,    38.04,2,     0.00,2,     2.67,2,    0.037,2,    0.016,2, -999.000,9, -999.000,9, -999.000,9,-999.0000,9,  -999.00,9,   -999.0,9,   -999.0,9,   2262.1,2,   1551.3,2,   2308.0,2,     7.45,2,   20.00,  -999.0,-999.0000,-999.000,   25.00,  -999.0,  8.4414,-999.000
    31DSCG94_3,  P18N,   141,  1,    121,   1206,2,19940412,1455, -1.3335,-110.3348, 3820,    599.5,   7.0802,  34.5801,2,  34.5782,2,     56.1,2,     60.6,2,    49.74,2,    38.67,2,     0.00,2,     2.76,2,    0.024,2,    0.044,2, -999.000,9, -999.000,9, -999.000,9,-999.0000,9,  -999.00,9,   -999.0,9,   -999.0,9,   2265.7,2,   1505.1,2,   2317.0,2,     7.47,2,   20.00,  -999.0,-999.0000,-999.000,   25.00,  -999.0,  7.0224,-999.000
    31DSCG94_3,  P18N,   141,  1,    120,   1028,2,19940412,1455, -1.3335,-110.3348, 3820,    695.8,   6.2234,  34.5531,2,  34.5524,2,     65.5,2,     70.9,2,    57.71,2,    39.30,2,     0.00,2,     2.76,2,    0.008,2,    0.003,2, -999.000,9, -999.000,9, -999.000,9,-999.0000,9,  -999.00,9,   -999.0,9,   -999.0,9,   2271.4,2,   1491.2,2,   2322.0,2,     7.47,2,   20.00,  -999.0,-999.0000,-999.000,   25.00,  -999.0,  6.1604,-999.000
    31DSCG94_3,  P18N,   141,  1,    119,   1248,2,19940412,1455, -1.3335,-110.3348, 3820,    800.8,   5.6353,  34.5443,2,  34.5437,2,     72.6,2,     76.7,2,    65.72,2,    39.43,2,     0.00,2,     2.80,2,    0.005,2,    0.002,2, -999.000,9, -999.000,9, -999.000,9,-999.0000,9,  -999.00,9,   -999.0,9,   -999.0,9,   2277.0,2,   1484.1,2,   2327.0,2,     7.48,2,   20.00,  -999.0,-999.0000,-999.000,   25.00,  -999.0,  5.5658,-999.000
    31DSCG94_3,  P18N,   141,  1,    118,   1115,2,19940412,1455, -1.3335,-110.3348, 3820,    899.0,   5.0355,  34.5503,2,  34.5499,2,     69.0,2,     69.9,2,    78.52,2,    40.86,2,     0.00,2,     2.89,2,    0.001,2,   -0.002,2, -999.000,9, -999.000,9, -999.000,9,-999.0000,9,  -999.00,9,   -999.0,9,   -999.0,9,   2291.7,2,   1568.9,3,   2338.0,2,  -999.00,9,   20.00,  -999.0,-999.0000,-999.000, -999.00,  -999.0,  4.9609,-999.000
    31DSCG94_3,  P18N,   141,  1,    117,   1119,2,19940412,1455, -1.3335,-110.3348, 3820,   1000.8,   4.5672,  34.5511,2,  34.5472,2,     81.7,2,     83.5,2,    84.40,2,    39.89,2,     0.00,2,     2.79,2,    0.002,2,    0.000,2, -999.000,9, -999.000,9, -999.000,9,-999.0000,9,  -999.00,9,   -999.0,9,   -999.0,9,   2297.5,2,   1483.5,2,   2351.0,2,     7.48,2,   20.00,  -999.0,-999.0000,-999.000,   25.00,  -999.0,  4.4870,-999.000
    31DSCG94_3,  P18N,   141,  1,    116,   1036,2,19940412,1455, -1.3335,-110.3348, 3820,   1097.2,   4.1882,  34.5589,2,  34.5579,2,     86.5,2,     88.4,2,    92.34,2,    39.74,2,     0.00,2,     2.82,2,    0.011,2,    0.000,2, -999.000,9, -999.000,9, -999.000,9,-999.0000,9,  -999.00,9,   -999.0,9,   -999.0,9,   2301.7,2,   1468.0,2,   2345.0,3,     7.49,2,   20.00,  -999.0,-999.0000,-999.000,   25.00,  -999.0,  4.1027,-999.000
    31DSCG94_3,  P18N,   141,  1,    115,   1017,2,19940412,1455, -1.3335,-110.3348, 3820,   1197.7,   3.8721,  34.5687,2,  34.5682,2,     88.2,2,     88.6,2,   100.33,2,    39.94,2,     0.00,2,     2.83,2, -999.000,9, -999.000,9, -999.000,9, -999.000,9, -999.000,9,-999.0000,9,  -999.00,9,   -999.0,9,   -999.0,9,   2310.5,2,   1477.1,2,   2363.0,2,     7.48,2,   20.00,  -999.0,-999.0000,-999.000,   25.00,  -999.0,  3.7807,-999.000
    31DSCG94_3,  P18N,   141,  1,    114,   1016,2,19940412,1455, -1.3335,-110.3348, 3820,   1400.6,   3.2815,  34.5953,2,  34.5960,2,     88.0,2,     83.7,2,   120.74,2,    40.82,2,     0.00,2,     2.89,2, -999.000,9, -999.000,9, -999.000,9, -999.000,9, -999.000,9,-999.0000,9,  -999.00,9,   -999.0,9,   -999.0,9,   2332.6,2,   1526.9,2,   2386.0,2,     7.47,2,   20.00,  -999.0,-999.0000,-999.000,   25.00,  -999.0,  3.1788,-999.000
    31DSCG94_3,  P18N,   141,  1,    113,   1209,2,19940412,1455, -1.3335,-110.3348, 3820,   1600.4,   2.8837,  34.6083,2,  34.6086,2,     98.3,2,     96.3,2,   127.62,2,    39.99,2,     0.00,2,     2.82,2, -999.000,9, -999.000,9, -999.000,9, -999.000,9, -999.000,9,-999.0000,9,  -999.00,9,   -999.0,9,   -999.0,9,   -999.0,9,   -999.0,9,   -999.0,9,  -999.00,9, -999.00,  -999.0,-999.0000,-999.000, -999.00,  -999.0,  2.7687,-999.000
    31DSCG94_3,  P18N,   141,  1,    112,   1033,2,19940412,1455, -1.3335,-110.3348, 3820,   1800.8,   2.5131,  34.6311,2,  34.6309,2,    103.6,2,     95.8,2,   141.37,2,    40.05,2,     0.00,2,     2.81,2,    0.000,2,   -0.002,2, -999.000,9, -999.000,9, -999.000,9,-999.0000,9,  -999.00,9,   -999.0,9,   -999.0,9,   2348.2,2,   1457.3,2,   2403.0,2,     7.50,2,   20.00,  -999.0,-999.0000,-999.000,   25.00,  -999.0,  2.3860,-999.000
    31DSCG94_3,  P18N,   141,  1,    111,   1240,2,19940412,1455, -1.3335,-110.3348, 3820,   1999.1,   2.2924,  34.6442,2,  34.6439,2,    105.9,2,    101.0,2,   146.93,2,    39.48,2,     0.00,2,     2.73,2, -999.000,9, -999.000,9, -999.000,9, -999.000,9, -999.000,9,-999.0000,9,  -999.00,9,   -999.0,9,   -999.0,9,   2352.3,2,   1421.8,2,   2416.0,2,     7.51,2,   20.00,  -999.0,-999.0000,-999.000,   25.00,  -999.0,  2.1515,-999.000
    31DSCG94_3,  P18N,   141,  1,    110,   1005,2,19940412,1455, -1.3335,-110.3348, 3820,   2205.7,   2.0157,  34.6535,2,  34.6536,2,    114.8,2,    113.9,2,   149.05,2,    38.88,2,     0.00,2,     2.71,2,   -0.002,2,   -0.002,2, -999.000,9, -999.000,9, -999.000,9,-999.0000,9,  -999.00,9,   -999.0,9,   -999.0,9,   2347.7,2,   1354.7,2,   -999.0,5,     7.53,2,   20.00,  -999.0,-999.0000,-999.000,   25.00,  -999.0,  1.8614,-999.000
    31DSCG94_3,  P18N,   141,  1,    109,   1611,2,19940412,1455, -1.3335,-110.3348, 3820,   2403.8,   1.9321,  34.6574,2,  34.6573,2,    120.1,2,    119.5,6,   147.96,2,    38.35,2,     0.00,2,     2.66,2, -999.000,9, -999.000,9, -999.000,9, -999.000,9, -999.000,9,-999.0000,9,  -999.00,9,   -999.0,9,   -999.0,9,   2343.7,2,   1321.8,2,   2427.0,2,     7.54,2,   20.00,  -999.0,-999.0000,-999.000,   25.00,  -999.0,  1.7617,-999.000
    31DSCG94_3,  P18N,   141,  1,    108,   1218,2,19940412,1455, -1.3335,-110.3348, 3820,   2595.3,   1.7945,  34.6647,2,  34.6648,2,    124.9,2,    127.5,2,   148.29,2,    37.85,2,     0.00,2,     2.62,2, -999.000,9, -999.000,9, -999.000,9, -999.000,9, -999.000,9,-999.0000,9,  -999.00,9,   -999.0,9,   -999.0,9,   2342.7,2,   1283.4,2,   2420.0,2,     7.55,2,   20.00,  -999.0,-999.0000,-999.000,   25.00,  -999.0,  1.6093,-999.000
    31DSCG94_3,  P18N,   141,  1,    107,   1257,2,19940412,1455, -1.3335,-110.3348, 3820,   2799.1,   1.7342,  34.6704,2,  34.6695,2,    129.1,2,    130.5,2,   151.25,2,    37.47,2,     0.00,2,     2.61,2, -999.000,9, -999.000,9, -999.000,9, -999.000,9, -999.000,9,-999.0000,9,  -999.00,9,   -999.0,9,   -999.0,9,   2344.4,2,   1259.7,2,   2425.0,2,     7.56,2,   20.00,  -999.0,-999.0000,-999.000,   25.00,  -999.0,  1.5313,-999.000
    31DSCG94_3,  P18N,   141,  1,    106,   1224,2,19940412,1455, -1.3335,-110.3348, 3820,   2998.6,   1.7113,  34.6715,2,  34.6721,2,    130.5,2,    132.6,2,   151.30,2,    37.76,2,     0.00,2,     2.61,2, -999.000,9, -999.000,9, -999.000,9, -999.000,9, -999.000,9,-999.0000,9,  -999.00,9,   -999.0,9,   -999.0,9,   2342.2,2,   1252.3,2,   2427.0,2,     7.56,2,   20.00,  -999.0,-999.0000,-999.000,   25.00,  -999.0,  1.4900,-999.000
    31DSCG94_3,  P18N,   141,  1,    105,   1246,2,19940412,1455, -1.3335,-110.3348, 3820,   3196.6,   1.6192,  34.6766,2,  34.6739,2,    136.1,2,    139.6,2,   151.02,2,    37.37,2,     0.00,2,     2.57,2,    0.001,2,   -0.002,2, -999.000,9, -999.000,9, -999.000,9,-999.0000,9,  -999.00,9,   -999.0,9,   -999.0,9,   2336.9,2,   1217.7,2,   2428.0,2,     7.57,2,   20.00,  -999.0,-999.0000,-999.000,   25.00,  -999.0,  1.3806,-999.000
    31DSCG94_3,  P18N,   141,  1,    104,   1217,2,19940412,1455, -1.3335,-110.3348, 3820,   3399.1,   1.5770,  34.6802,2,  34.6791,2,    139.1,2,    142.8,2,   152.97,2,    36.81,2,     0.00,2,     2.53,2, -999.000,9, -999.000,9, -999.000,9, -999.000,9, -999.000,9,-999.0000,9,  -999.00,9,   -999.0,9,   -999.0,9,   2336.2,2,   1191.4,2,   2427.0,2,     7.58,2,   20.00,  -999.0,-999.0000,-999.000,   25.00,  -999.0,  1.3192,-999.000
    31DSCG94_3,  P18N,   141,  1,    103,   9999,2,19940412,1455, -1.3335,-110.3348, 3820,   3596.5,   1.5119,  34.6853,2,  34.6872,2,    144.2,2,    148.8,6,   154.57,2,    36.69,2,     0.00,2,     2.51,2,    0.000,2,   -0.002,2, -999.000,9, -999.000,9, -999.000,9,-999.0000,9,  -999.00,9,   -999.0,9,   -999.0,9,   2334.3,2,   1145.4,2,   2434.0,2,     7.59,2,   20.00,  -999.0,-999.0000,-999.000,   25.00,  -999.0,  1.2355,-999.000
    31DSCG94_3,  P18N,   141,  1,    102,   1223,2,19940412,1455, -1.3335,-110.3348, 3820,   3597.2,   1.4995,  34.6862,2,  34.6840,2,    144.2,2,    149.4,2,   154.21,2,    36.68,2,     0.00,2,     2.49,2, -999.000,9, -999.000,9, -999.000,9, -999.000,9, -999.000,9,-999.0000,9,  -999.00,9,   -999.0,9,   -999.0,9,   2334.5,2,   1150.0,2,   2431.0,2,     7.59,2,   20.00,  -999.0,-999.0000,-999.000,   25.00,  -999.0,  1.2233,-999.000
    31DSCG94_3,  P18N,   141,  1,    101,   1041,2,19940412,1455, -1.3335,-110.3348, 3820,   3865.3,   1.4579,  34.6902,2,  34.6910,2,    150.3,2,    157.5,2,   151.01,2,    36.09,2,     0.00,2,     2.48,2,    0.001,2,    0.001,2, -999.000,9, -999.000,9, -999.000,9,-999.0000,9,  -999.00,9,   -999.0,9,   -999.0,9,   2329.7,2,   1111.0,2,   2435.0,2,     7.61,2,   20.00,  -999.0,-999.0000,-999.000,   25.00,  -999.0,  1.1545,-999.000