BOTTLE,20220630CCHSIOAMB
EXPOCODE,SECT_ID,STNNBR,CASTNO,SAMPNO,BTLNBR,BTLNBR_FLAG_W,DATE,TIME,LATITUDE,LONGITUDE,DEPTH,CTDPRS,CTDTMP,CTDSAL,CTDSAL_FLAG_W,SALNTY,SALNTY_FLAG_W,CTDOXY,CTDOXY_FLAG_W,OXYGEN,OXYGEN_FLAG_W,SILCAT,SILCAT_FLAG_W,NITRAT,NITRAT_FLAG_W,NITRIT,NITRIT_FLAG_W,PHSPHT,PHSPHT_FLAG_W,CFC-11,CFC-11_FLAG_W,CFC-12,CFC-12_FLAG_W,CFC113,CFC113_FLAG_W,CCL4,CCL4_FLAG_W,TRITUM,TRITUM_FLAG_W,HELIUM,HELIUM_FLAG_W,DELHE3,DELHE3_FLAG_W,DELC14,DELC14_FLAG_W,DELC13,DELC13_FLAG_W,TCARBN,TCARBN_FLAG_W,PCO2,PCO2_FLAG_W,ALKALI,ALKALI_FLAG_W,PH,PH_FLAG_W,PCO2TMP,C14ERR,HELIER,DELHER,PH_TMP,C13ERR,THETA,TRITER
,,,,,,,,,,,,DBAR,ITS-90,PSS-78,,PSS-78,,UMOL/KG,,UMOL/KG,,UMOL/KG,,UMOL/KG,,UMOL/KG,,UMOL/KG,,PMOL/KG,,PMOL/KG,,PMOL/KG,,PMOL/KG,,TU,,NMOL/KG,,PERCNT,,/MILLE,,/MILLE,,UMOL/KG,,UATM,,UMOL/KG,,,,DEG C,/MILLE,NMOL/KG,PERCNT,DEG C,/MILLE,DEG C,TU
    31DSCG94_3,  P18N,   191,  1,    127,   1008,2,19940425,1052, 22.4967,-109.9952, 3071,      6.9,  18.1737,  34.1648,2,  34.1646,2,    191.0,2,    215.5,2,     7.47,2,     2.48,2,     0.18,2,     0.68,2,    2.477,2,    1.332,2, -999.000,9, -999.000,9, -999.000,9,-999.0000,9,  -999.00,9,   -999.0,9,   -999.0,9,   2053.0,2,    473.2,2,   2270.0,6,     7.91,2,   20.00,  -999.0,-999.0000,-999.000,   25.00,  -999.0, 18.1726,-999.000
    31DSCG94_3,  P18N,   191,  1,    126,   1007,2,19940425,1052, 22.4967,-109.9952, 3071,     24.7,  17.2017,  34.2042,2,  34.1931,2,    185.2,2,    185.4,2,     9.96,2,     6.71,2,     0.25,2,     0.99,2,    2.352,2,    1.268,2, -999.000,9, -999.000,9, -999.000,9,-999.0000,9,  -999.00,9,   -999.0,9,   -999.0,9,   -999.0,9,   -999.0,9,   -999.0,9,     7.84,2, -999.00,  -999.0,-999.0000,-999.000,   25.00,  -999.0, 17.1976,-999.000
    31DSCG94_3,  P18N,   191,  1,    125,   1256,2,19940425,1052, 22.4967,-109.9952, 3071,     49.8,  16.3794,  34.2881,2,  34.2899,2,    178.2,2,    141.7,2,    13.89,2,    12.86,2,     0.36,2,     1.41,2,    2.124,2,    1.110,2, -999.000,9, -999.000,9, -999.000,9,-999.0000,9,  -999.00,9,   -999.0,9,   -999.0,9,   2132.7,2,    762.4,2,   2271.0,2,     7.73,2,   20.00,  -999.0,-999.0000,-999.000,   25.00,  -999.0, 16.3714,-999.000
    31DSCG94_3,  P18N,   191,  1,    123,   1220,2,19940425,1052, 22.4967,-109.9952, 3071,     74.1,  14.4538,  34.4532,2,  34.4560,2,     39.9,2,     47.2,2,    21.78,2,    23.22,2,     0.16,2,     2.11,2,    1.525,6,    0.794,6, -999.000,9, -999.000,9, -999.000,9,-999.0000,9,  -999.00,9,   -999.0,9,   -999.0,9,   -999.0,9,   -999.0,9,   -999.0,9,     7.55,2, -999.00,  -999.0,-999.0000,-999.000,   25.00,  -999.0, 14.4430,-999.000
    31DSCG94_3,  P18N,   191,  1,    122,   1245,2,19940425,1052, 22.4967,-109.9952, 3071,    100.0,  13.3805,  34.5958,2,  34.5955,2,     31.3,2,     26.3,2,    28.37,2,    26.25,2,     0.03,2,     2.40,2,    1.069,2,    0.561,2, -999.000,9, -999.000,9, -999.000,9,-999.0000,9,  -999.00,9,   -999.0,9,   -999.0,9,   2232.0,2,   1428.5,2,   2289.0,2,     7.49,2,   20.00,  -999.0,-999.0000,-999.000,   25.00,  -999.0, 13.3666,-999.000
    31DSCG94_3,  P18N,   191,  1,    121,   1206,2,19940425,1052, 22.4967,-109.9952, 3071,    149.0,  12.0339,  34.6611,2,  34.6533,2,     21.0,2,     12.5,2,    32.53,2,    27.52,2,     0.00,2,     2.52,2,    0.552,2,    0.297,2, -999.000,9, -999.000,9, -999.000,9,-999.0000,9,  -999.00,9,   -999.0,9,   -999.0,9,   2252.7,2,   1580.8,2,   2295.0,2,     7.45,2,   20.00,  -999.0,-999.0000,-999.000,   25.00,  -999.0, 12.0145,-999.000
    31DSCG94_3,  P18N,   191,  1,    120,   1028,2,19940425,1052, 22.4967,-109.9952, 3071,    199.2,  11.3826,  34.6449,2,  34.6437,2,     13.9,2,      8.9,2,    34.72,2,    27.72,2,     0.00,2,     2.58,2,    0.371,2,    0.204,2, -999.000,9, -999.000,9, -999.000,9,-999.0000,9,  -999.00,9,   -999.0,9,   -999.0,9,   2260.9,2,   1645.9,2,   2297.0,2,     7.43,2,   20.00,  -999.0,-999.0000,-999.000,   25.00,  -999.0, 11.3576,-999.000
    31DSCG94_3,  P18N,   191,  1,    119,   1248,2,19940425,1052, 22.4967,-109.9952, 3071,    251.1,  10.6590,  34.6237,2,  34.6239,2,      7.6,2,      5.9,2,    37.63,2,    27.60,2,     0.00,2,     2.67,2, -999.000,9, -999.000,9, -999.000,9, -999.000,9, -999.000,9,-999.0000,9,  -999.00,9,   -999.0,9,   -999.0,9,   2271.8,2,   1755.9,2,   2297.0,2,     7.40,2,   20.00,  -999.0,-999.0000,-999.000,   25.00,  -999.0, 10.6288,-999.000
    31DSCG94_3,  P18N,   191,  1,    118,   1115,2,19940425,1052, 22.4967,-109.9952, 3071,    303.0,   9.9231,  34.6023,2,  34.6048,2,      4.0,2,      2.0,2,    42.60,2,    28.21,2,     0.00,2,     2.78,2,    0.110,2,    0.060,2, -999.000,9, -999.000,9, -999.000,9,-999.0000,9,  -999.00,9,   -999.0,9,   -999.0,9,   2281.6,2,   1842.7,2,   2303.0,2,     7.38,2,   20.00,  -999.0,-999.0000,-999.000,   25.00,  -999.0,  9.8881,-999.000
    31DSCG94_3,  P18N,   191,  1,    117,   1119,2,19940425,1052, 22.4967,-109.9952, 3071,    399.7,   8.6095,  34.5636,2,  34.5627,2,      2.3,2,      1.6,2,    57.85,2,    31.50,2,     0.00,2,     2.98,2,    0.092,2,    0.041,2, -999.000,9, -999.000,9, -999.000,9,-999.0000,9,  -999.00,9,   -999.0,9,   -999.0,9,   2301.7,2,   1952.9,2,   2317.0,2,     7.36,2,   20.00,  -999.0,-999.0000,-999.000,   25.00,  -999.0,  8.5670,-999.000
    31DSCG94_3,  P18N,   191,  1,    116,   1036,2,19940425,1052, 22.4967,-109.9952, 3071,    503.3,   7.4401,  34.5210,2,  34.5195,2,      0.7,2,      1.0,2,    68.44,2,    34.72,2,     0.00,2,     3.07,2, -999.000,9, -999.000,9, -999.000,9, -999.000,9, -999.000,9,-999.0000,9,  -999.00,9,   -999.0,9,   -999.0,9,   2315.0,2,   2035.7,2,   2327.0,2,     7.35,2,   20.00,  -999.0,-999.0000,-999.000,   25.00,  -999.0,  7.3906,-999.000
    31DSCG94_3,  P18N,   191,  1,    115,   1017,2,19940425,1052, 22.4967,-109.9952, 3071,    600.8,   6.4377,  34.5095,2,  34.5077,2,      0.7,2,      1.4,6,    78.82,2,    38.13,2,     0.00,2,     3.18,2,    0.022,2,    0.007,2, -999.000,9, -999.000,9, -999.000,9,-999.0000,9,  -999.00,9,   -999.0,9,   -999.0,9,   2327.9,2,   2083.4,2,   2337.0,2,     7.34,2,   20.00,  -999.0,-999.0000,-999.000,   25.00,  -999.0,  6.3827,-999.000
    31DSCG94_3,  P18N,   191,  1,    114,   1016,2,19940425,1052, 22.4967,-109.9952, 3071,    698.8,   5.6942,  34.5109,2,  34.4286,4,      1.4,2,      2.4,3,    38.09,4,    24.57,4,     0.10,3,     2.20,4, -999.000,9, -999.000,9, -999.000,9, -999.000,9, -999.000,9,-999.0000,9,  -999.00,9,   -999.0,9,   -999.0,9,   2263.1,3,   2047.4,2,   2314.0,2,  -999.00,9,   20.00,  -999.0,-999.0000,-999.000, -999.00,  -999.0,  5.6338,-999.000
    31DSCG94_3,  P18N,   191,  1,    113,   1209,2,19940425,1052, 22.4967,-109.9952, 3071,    799.2,   5.1807,  34.5154,2,  34.5145,2,      2.3,2,      4.0,2,    93.44,2,    42.36,2,     0.00,2,     3.23,2,    0.010,2,    0.002,2, -999.000,9, -999.000,9, -999.000,9,-999.0000,9,  -999.00,9,   -999.0,9,   -999.0,9,   2348.4,2,   2155.1,2,   2350.0,2,     7.33,2,   20.00,  -999.0,-999.0000,-999.000,   25.00,  -999.0,  5.1141,-999.000
    31DSCG94_3,  P18N,   191,  1,    112,   1033,2,19940425,1052, 22.4967,-109.9952, 3071,    898.7,   4.7024,  34.5276,2,  34.5271,2,      5.0,2,      7.5,2,   103.01,2,    43.34,2,     0.00,2,     3.27,2, -999.000,9, -999.000,9, -999.000,9, -999.000,9, -999.000,9,-999.0000,9,  -999.00,9,   -999.0,9,   -999.0,9,   2358.8,2,   2111.5,2,   -999.0,5,     7.33,2,   20.00,  -999.0,-999.0000,-999.000,   25.00,  -999.0,  4.6302,-999.000
    31DSCG94_3,  P18N,   191,  1,    111,   1240,2,19940425,1052, 22.4967,-109.9952, 3071,   1000.3,   4.4330,  34.5357,2,  34.5354,2,      8.1,2,     10.7,2,   111.15,2,    43.63,2,     0.00,2,     3.28,2,    0.014,2,   -0.001,2, -999.000,9, -999.000,9, -999.000,9,-999.0000,9,  -999.00,9,   -999.0,9,   -999.0,9,   2361.8,2,   2111.6,2,   2367.0,6,     7.33,2,   20.00,  -999.0,-999.0000,-999.000,   25.00,  -999.0,  4.3540,-999.000
    31DSCG94_3,  P18N,   191,  1,    110,   1005,2,19940425,1052, 22.4967,-109.9952, 3071,   1199.7,   4.0220,  34.5510,2,  34.5499,2,     14.0,2,     16.9,2,   119.92,2,    43.88,2,     0.00,2,     3.28,2, -999.000,9, -999.000,9, -999.000,9, -999.000,9, -999.000,9,-999.0000,9,  -999.00,9,   -999.0,9,   -999.0,9,   -999.0,9,   -999.0,9,   -999.0,9,     7.34,2, -999.00,  -999.0,-999.0000,-999.000,   25.00,  -999.0,  3.9292,-999.000
    31DSCG94_3,  P18N,   191,  1,    109,   1611,2,19940425,1052, 22.4967,-109.9952, 3071,   1400.4,   3.3623,  34.5832,2,  34.5825,2,     30.1,2,     32.8,2,   134.67,2,    42.96,2,     0.01,2,     3.18,2,    0.009,2,   -0.001,2, -999.000,9, -999.000,9, -999.000,9,-999.0000,9,  -999.00,9,   -999.0,9,   -999.0,9,   -999.0,9,   -999.0,9,   -999.0,9,     7.37,2, -999.00,  -999.0,-999.0000,-999.000,   25.00,  -999.0,  3.2588,-999.000
    31DSCG94_3,  P18N,   191,  1,    108,   1218,2,19940425,1052, 22.4967,-109.9952, 3071,   1600.6,   2.9464,  34.6030,2,  34.6015,2,     44.2,2,     47.3,2,   137.16,2,    43.23,2,     0.00,2,     3.09,2, -999.000,9, -999.000,9, -999.000,9, -999.000,9, -999.000,9,-999.0000,9,  -999.00,9,   -999.0,9,   -999.0,9,   -999.0,9,   -999.0,9,   -999.0,9,     7.40,2, -999.00,  -999.0,-999.0000,-999.000,   25.00,  -999.0,  2.8307,-999.000
    31DSCG94_3,  P18N,   191,  1,    107,   1257,2,19940425,1052, 22.4967,-109.9952, 3071,   1796.7,   2.5254,  34.6230,2,  34.6222,2,     63.3,2,     64.8,6,   147.20,2,    41.16,2,     0.03,2,     3.01,2, -999.000,9, -999.000,9, -999.000,9, -999.000,9, -999.000,9,-999.0000,9,  -999.00,9,   -999.0,9,   -999.0,9,   -999.0,9,   -999.0,9,   -999.0,9,  -999.00,9, -999.00,  -999.0,-999.0000,-999.000, -999.00,  -999.0,  2.3985,-999.000
    31DSCG94_3,  P18N,   191,  1,    106,   1224,2,19940425,1052, 22.4967,-109.9952, 3071,   2000.9,   2.2081,  34.6393,2,  34.6380,2,     81.2,2,     80.0,2,   153.64,2,    40.08,2,     0.00,2,     2.88,2, -999.000,9, -999.000,9, -999.000,9, -999.000,9, -999.000,9,-999.0000,9,  -999.00,9,   -999.0,9,   -999.0,9,   -999.0,9,   -999.0,9,   -999.0,9,     7.46,2, -999.00,  -999.0,-999.0000,-999.000,   25.00,  -999.0,  2.0683,-999.000
    31DSCG94_3,  P18N,   191,  1,    105,   1246,2,19940425,1052, 22.4967,-109.9952, 3071,   2249.4,   2.0005,  34.6521,2,  34.6508,2,     93.7,2,     90.6,2,   155.29,6,    39.44,6,     0.00,6,     2.79,6, -999.000,9, -999.000,9, -999.000,9, -999.000,9, -999.000,9,-999.0000,9,  -999.00,9,   -999.0,9,   -999.0,9,   -999.0,9,   -999.0,9,   -999.0,9,  -999.00,9, -999.00,  -999.0,-999.0000,-999.000, -999.00,  -999.0,  1.8426,-999.000
    31DSCG94_3,  P18N,   191,  1,    104,   1217,2,19940425,1052, 22.4967,-109.9952, 3071,   2501.9,   1.8898,  34.6592,2,  34.6579,2,    108.2,2,     97.4,2,   157.91,2,    39.20,2,     0.00,2,     2.75,2, -999.000,9, -999.000,9, -999.000,9, -999.000,9, -999.000,9,-999.0000,9,  -999.00,9,   -999.0,9,   -999.0,9,   -999.0,9,   -999.0,9,   -999.0,9,     7.50,2, -999.00,  -999.0,-999.0000,-999.000,   25.00,  -999.0,  1.7114,-999.000
    31DSCG94_3,  P18N,   191,  1,    103,   9999,2,19940425,1052, 22.4967,-109.9952, 3071,   2748.6,   1.8229,  34.6644,2,  34.6636,2,    112.0,2,    103.0,2,   155.90,2,    38.50,2,     0.00,2,     2.69,2, -999.000,9, -999.000,9, -999.000,9, -999.000,9, -999.000,9,-999.0000,9,  -999.00,9,   -999.0,9,   -999.0,9,   -999.0,9,   -999.0,9,   -999.0,9,  -999.00,9, -999.00,  -999.0,-999.0000,-999.000, -999.00,  -999.0,  1.6230,-999.000
    31DSCG94_3,  P18N,   191,  1,    102,   1223,2,19940425,1052, 22.4967,-109.9952, 3071,   2749.3,   1.8227,  34.6643,2,  34.6634,2,    111.5,2,    102.8,2,   154.27,2,    38.72,2,     0.00,2,     2.71,2, -999.000,9, -999.000,9, -999.000,9, -999.000,9, -999.000,9,-999.0000,9,  -999.00,9,   -999.0,9,   -999.0,9,   -999.0,9,   -999.0,9,   -999.0,9,     7.51,2, -999.00,  -999.0,-999.0000,-999.000,   25.00,  -999.0,  1.6227,-999.000
    31DSCG94_3,  P18N,   191,  1,    101,   1041,2,19940425,1052, 22.4967,-109.9952, 3071,   3080.1,   1.7300,  34.6688,2,  34.6682,2,    113.0,2,    110.2,2,   159.30,2,    38.63,2,     0.00,2,     2.67,2, -999.000,9, -999.000,9, -999.000,9, -999.000,9, -999.000,9,-999.0000,9,  -999.00,9,   -999.0,9,   -999.0,9,   -999.0,9,   -999.0,9,   -999.0,9,  -999.00,9, -999.00,  -999.0,-999.0000,-999.000, -999.00,  -999.0,  1.5003,-999.000