BOTTLE,20220630CCHSIOAMB
EXPOCODE,SECT_ID,STNNBR,CASTNO,SAMPNO,BTLNBR,BTLNBR_FLAG_W,DATE,TIME,LATITUDE,LONGITUDE,DEPTH,CTDPRS,CTDTMP,CTDSAL,CTDSAL_FLAG_W,SALNTY,SALNTY_FLAG_W,CTDOXY,CTDOXY_FLAG_W,OXYGEN,OXYGEN_FLAG_W,SILCAT,SILCAT_FLAG_W,NITRAT,NITRAT_FLAG_W,NITRIT,NITRIT_FLAG_W,PHSPHT,PHSPHT_FLAG_W,CFC-11,CFC-11_FLAG_W,CFC-12,CFC-12_FLAG_W,CFC113,CFC113_FLAG_W,CCL4,CCL4_FLAG_W,TRITUM,TRITUM_FLAG_W,HELIUM,HELIUM_FLAG_W,DELHE3,DELHE3_FLAG_W,DELC14,DELC14_FLAG_W,DELC13,DELC13_FLAG_W,TCARBN,TCARBN_FLAG_W,PCO2,PCO2_FLAG_W,ALKALI,ALKALI_FLAG_W,PH,PH_FLAG_W,PCO2TMP,C14ERR,HELIER,DELHER,PH_TMP,C13ERR,THETA,TRITER
,,,,,,,,,,,,DBAR,ITS-90,PSS-78,,PSS-78,,UMOL/KG,,UMOL/KG,,UMOL/KG,,UMOL/KG,,UMOL/KG,,UMOL/KG,,PMOL/KG,,PMOL/KG,,PMOL/KG,,PMOL/KG,,TU,,NMOL/KG,,PERCNT,,/MILLE,,/MILLE,,UMOL/KG,,UATM,,UMOL/KG,,,,DEG C,/MILLE,NMOL/KG,PERCNT,DEG C,/MILLE,DEG C,TU
    31DSCG94_3,  P18N,    97,  1,    136,   1025,2,19940331,1118,-20.9983,-103.0020, 4086,      9.6,  24.3764,  36.2576,2,  36.2571,2,    211.5,2,    210.0,2,     0.92,2,     0.18,2,     0.00,2,     0.24,2,    1.921,2,    1.074,2, -999.000,5, -999.000,5, -999.000,9,-999.0000,9,  -999.00,9,   -999.0,9,      1.8,2,   2070.9,2,    329.1,2,   2390.0,6,     8.05,2,   20.00,  -999.0,-999.0000,-999.000,   25.00,  -999.0, 24.3744,-999.000
    31DSCG94_3,  P18N,    97,  1,    135,   1247,2,19940331,1118,-20.9983,-103.0020, 4086,     25.5,  24.3825,  36.2609,2,  36.2589,2,    212.5,2,    210.0,2,     0.83,2,     0.05,2,     0.00,2,     0.23,2,    1.937,6,    1.092,6, -999.000,5, -999.000,5, -999.000,9,-999.0000,9,  -999.00,9,   -999.0,9,      1.8,2,   -999.0,9,   -999.0,9,   -999.0,9,     8.05,2, -999.00,  -999.0,-999.0000,-999.000,   25.00,  -999.0, 24.3771,-999.000
    31DSCG94_3,  P18N,    97,  1,    134,   1216,2,19940331,1118,-20.9983,-103.0020, 4086,     50.5,  24.0871,  36.2080,2,  36.2112,2,    215.0,2,    212.5,2,     0.88,2,     0.08,2,     0.00,2,     0.23,2,    2.455,4,    1.144,2, -999.000,5, -999.000,5, -999.000,9,-999.0000,9,  -999.00,9,   -999.0,9,   -999.0,5,   2069.1,2,    325.3,2,   2369.0,2,     8.05,2,   20.00,  -999.0,-999.0000,-999.000,   25.00,  -999.0, 24.0764,-999.000
    31DSCG94_3,  P18N,    97,  1,    133,   1244,2,19940331,1118,-20.9983,-103.0020, 4086,     71.2,  23.0137,  36.0907,2,  36.0773,2,    224.9,2,    223.8,2,     0.87,2,     0.09,2,     0.00,2,     0.24,2,    2.086,2,    1.195,2, -999.000,9, -999.000,9, -999.000,9,-999.0000,9,  -999.00,9,   -999.0,9,      1.8,2,   -999.0,9,   -999.0,9,   -999.0,9,     8.05,2, -999.00,  -999.0,-999.0000,-999.000,   25.00,  -999.0, 22.9991,-999.000
    31DSCG94_3,  P18N,    97,  1,    132,   1003,2,19940331,1118,-20.9983,-103.0020, 4086,     97.6,  21.5835,  35.9062,2,  35.9091,2,    226.9,2,    229.0,2,     0.87,2,     0.07,2,     0.00,2,     0.25,2,    2.181,6,    1.222,6, -999.000,5, -999.000,5, -999.000,9,-999.0000,9,  -999.00,9,   -999.0,9,      1.8,2,   2057.7,2,    331.1,2,   2343.0,2,  -999.00,9,   20.00,  -999.0,-999.0000,-999.000, -999.00,  -999.0, 21.5644,-999.000
    31DSCG94_3,  P18N,    97,  1,    131,   1211,2,19940331,1118,-20.9983,-103.0020, 4086,    126.5,  20.9161,  35.8573,2,  35.8558,2,    224.1,2,    225.7,2,     0.89,2,     0.05,2,     0.00,2,     0.23,2,    2.172,2,    1.217,2, -999.000,9, -999.000,9, -999.000,9,-999.0000,9,  -999.00,9,   -999.0,9,   -999.0,9,   -999.0,9,   -999.0,9,   -999.0,9,     8.04,2, -999.00,  -999.0,-999.0000,-999.000,   25.00,  -999.0, 20.8918,-999.000
    31DSCG94_3,  P18N,    97,  1,    130,   1241,2,19940331,1118,-20.9983,-103.0020, 4086,    149.3,  20.5876,  35.8171,2,  35.8175,2,    222.0,2,    222.5,2,     0.94,2,     0.02,2,     0.00,2,     0.22,2,    2.237,2,    1.260,2, -999.000,9, -999.000,9, -999.000,9,-999.0000,9,  -999.00,9,   -999.0,9,      1.7,2,   -999.0,9,   -999.0,9,   -999.0,9,     8.03,2, -999.00,  -999.0,-999.0000,-999.000,   25.00,  -999.0, 20.5593,-999.000
    31DSCG94_3,  P18N,    97,  1,    129,   1240,2,19940331,1118,-20.9983,-103.0020, 4086,    200.0,  19.1582,  35.5300,2,  35.5437,2,    210.3,2,    214.5,2,     0.96,2,     0.44,2,     0.10,2,     0.28,2,    2.273,2,    1.308,2, -999.000,9, -999.000,9, -999.000,9,-999.0000,9,  -999.00,9,   -999.0,9,      1.4,2,   2065.4,3,    371.1,2,   2280.0,2,     8.00,2,   20.00,  -999.0,-999.0000,-999.000,   25.00,  -999.0, 19.1222,-999.000
    31DSCG94_3,  P18N,    97,  1,    128,   1032,2,19940331,1118,-20.9983,-103.0020, 4086,    251.0,  15.8612,  34.9432,2,  34.9347,2,    200.9,2,    199.5,2,     1.74,2,     4.78,2,     0.00,2,     0.58,2,    2.349,6,    1.245,6, -999.000,5, -999.000,5, -999.000,9,-999.0000,9,  -999.00,9,   -999.0,9,   -999.0,9,   -999.0,9,   -999.0,9,   -999.0,9,  -999.00,9, -999.00,  -999.0,-999.0000,-999.000, -999.00,  -999.0, 15.8217,-999.000
    31DSCG94_3,  P18N,    97,  1,    127,   1008,2,19940331,1118,-20.9983,-103.0020, 4086,    299.2,  12.7653,  34.5544,2,  34.5461,2,    161.1,2,    155.1,2,     6.05,2,    13.59,2,     0.00,2,     1.25,2,    1.914,2,    1.016,2, -999.000,9, -999.000,9, -999.000,9,-999.0000,9,  -999.00,9,   -999.0,9,      0.9,2,   2125.8,2,    693.7,2,   2288.0,2,     7.76,2,   20.00,  -999.0,-999.0000,-999.000,   25.00,  -999.0, 12.7247,-999.000
    31DSCG94_3,  P18N,    97,  1,    126,   1007,2,19940331,1118,-20.9983,-103.0020, 4086,    349.4,  10.8105,  34.5051,2,  34.5053,2,    103.0,2,     89.4,2,    14.58,2,    22.41,2,     0.00,2,     2.03,2,    1.072,2,    0.558,2, -999.000,9, -999.000,9, -999.000,9,-999.0000,9,  -999.00,9,   -999.0,9,   -999.0,9,   -999.0,9,   -999.0,9,   -999.0,9,     7.57,2, -999.00,  -999.0,-999.0000,-999.000,   25.00,  -999.0, 10.7678,-999.000
    31DSCG94_3,  P18N,    97,  1,    125,   1203,2,19940331,1118,-20.9983,-103.0020, 4086,    402.1,   9.2211,  34.4939,2,  34.4931,2,     77.9,2,     72.1,2,    19.02,2,    29.10,2,     0.00,2,     2.36,2,    0.471,6,    0.248,6, -999.000,5, -999.000,5, -999.000,9,-999.0000,9,  -999.00,9,   -999.0,9,      0.4,2,   2226.4,2,   1416.5,6,   2283.0,2,     7.49,2,   20.00,  -999.0,-999.0000,-999.000,   25.00,  -999.0,  9.1765,-999.000
    31DSCG94_3,  P18N,    97,  1,    123,   1220,2,19940331,1118,-20.9983,-103.0020, 4086,    500.5,   7.1093,  34.4063,2,  34.4042,2,    122.8,2,    119.1,6,    19.76,2,    32.28,2,     0.00,2,     2.31,2,    0.276,2,    0.154,2, -999.000,5, -999.000,5, -999.000,9,-999.0000,9,  -999.00,9,   -999.0,9,      0.6,6,   2213.6,2,   1265.0,2,   2284.0,2,     7.53,2,   20.00,  -999.0,-999.0000,-999.000,   25.00,  -999.0,  7.0614,-999.000
    31DSCG94_3,  P18N,    97,  1,    122,   1245,2,19940331,1118,-20.9983,-103.0020, 4086,    599.6,   5.9465,  34.3498,2,  34.3491,2,    157.8,2,    160.0,6,    20.38,2,    32.02,2,     0.00,2,     2.20,2,    0.177,2,    0.108,2, -999.000,5, -999.000,5, -999.000,9,-999.0000,9,  -999.00,9,   -999.0,9,      0.8,4,   2194.9,2,   1080.5,2,   2295.0,3,     7.59,2,   20.00,  -999.0,-999.0000,-999.000,   25.00,  -999.0,  5.8941,-999.000
    31DSCG94_3,  P18N,    97,  1,    121,   1206,2,19940331,1118,-20.9983,-103.0020, 4086,    699.2,   5.2721,  34.3612,2,  34.3618,2,    142.3,2,    142.9,6,    30.45,2,    35.08,2,     0.00,2,     2.38,2,    0.051,2,    0.028,2, -999.000,9, -999.000,9, -999.000,9,-999.0000,9,  -999.00,9,   -999.0,9,      0.6,2,   2217.2,3,   1201.6,2,   2316.0,2,     7.55,2,   20.00,  -999.0,-999.0000,-999.000,   25.00,  -999.0,  5.2141,-999.000
    31DSCG94_3,  P18N,    97,  1,    120,   1028,2,19940331,1118,-20.9983,-103.0020, 4086,    798.7,   4.9341,  34.4349,2,  34.4342,2,    104.5,2,    102.6,2,    48.58,2,    38.87,2,     0.00,2,     2.69,2,    0.008,6,    0.002,6, -999.000,9, -999.000,9, -999.000,9,-999.0000,9,  -999.00,9,   -999.0,9,   -999.0,9,   2254.4,2,   1438.0,2,   2325.0,3,     7.49,2,   20.00,  -999.0,-999.0000,-999.000,   25.00,  -999.0,  4.8692,-999.000
    31DSCG94_3,  P18N,    97,  1,    119,   1248,2,19940331,1118,-20.9983,-103.0020, 4086,    900.0,   4.4577,  34.4697,2,  34.4695,2,    105.3,2,    105.7,2,    60.96,2,    38.79,2,     0.02,2,     2.67,2,    0.003,2,    0.000,2, -999.000,9, -999.000,9, -999.000,9,-999.0000,9,  -999.00,9,   -999.0,9,      0.4,2,   2265.4,2,   1414.0,2,   2341.0,3,     7.49,2,   20.00,  -999.0,-999.0000,-999.000,   25.00,  -999.0,  4.3872,-999.000
    31DSCG94_3,  P18N,    97,  1,    118,   1207,2,19940331,1118,-20.9983,-103.0020, 4086,    999.4,   4.2166,  34.5031,2,  34.5047,2,    102.1,2,    101.1,2,    70.82,2,    39.35,2,     0.00,2,     2.71,2,    0.005,2,    0.001,2, -999.000,5, -999.000,5, -999.000,9,-999.0000,9,  -999.00,9,   -999.0,9,   -999.0,9,   2278.9,2,   1432.0,2,   -999.0,5,     7.49,2,   20.00,  -999.0,-999.0000,-999.000,   25.00,  -999.0,  4.1393,-999.000
    31DSCG94_3,  P18N,    97,  1,    117,   1119,2,19940331,1118,-20.9983,-103.0020, 4086,   1101.0,   3.9155,  34.5243,2,  34.5237,2,     98.1,2,     98.1,2,    79.91,2,    40.10,2,     0.02,2,     2.82,2,   -0.001,2,   -0.002,2, -999.000,9, -999.000,9, -999.000,9,-999.0000,9,  -999.00,9,   -999.0,9,   -999.0,9,   -999.0,9,   -999.0,9,   -999.0,9,     7.48,2, -999.00,  -999.0,-999.0000,-999.000,   25.00,  -999.0,  3.8320,-999.000
    31DSCG94_3,  P18N,    97,  1,    116,   1036,2,19940331,1118,-20.9983,-103.0020, 4086,   1200.3,   3.6204,  34.5402,2,  34.5403,2,    101.5,2,    101.7,2,    88.19,2,    39.67,2,     0.00,2,     2.79,2,    0.009,2,    0.003,2, -999.000,9, -999.000,9, -999.000,9,-999.0000,9,  -999.00,9,   -999.0,9,      0.2,2,   -999.0,9,   -999.0,9,   -999.0,9,     7.49,2, -999.00,  -999.0,-999.0000,-999.000,   25.00,  -999.0,  3.5312,-999.000
    31DSCG94_3,  P18N,    97,  1,    115,   1017,2,19940331,1118,-20.9983,-103.0020, 4086,   1399.6,   3.1874,  34.5658,2,  34.5660,2,    104.5,2,    105.2,2,   100.71,2,    39.70,2,     0.00,2,     2.78,2,    0.000,2,   -0.002,2, -999.000,9, -999.000,9, -999.000,9,-999.0000,9,  -999.00,9,   -999.0,9,   -999.0,9,   -999.0,9,   -999.0,9,   -999.0,9,     7.49,2, -999.00,  -999.0,-999.0000,-999.000,   25.00,  -999.0,  3.0859,-999.000
    31DSCG94_3,  P18N,    97,  1,    114,   1016,2,19940331,1118,-20.9983,-103.0020, 4086,   1600.9,   2.8305,  34.5878,2,  34.5895,2,    110.1,2,    113.2,2,   108.99,2,    39.34,2,     0.00,2,     2.74,2,    0.002,2,    0.009,2, -999.000,9, -999.000,9, -999.000,9,-999.0000,9,  -999.00,9,   -999.0,9,      0.1,2,   -999.0,9,   -999.0,9,   -999.0,9,     7.51,2, -999.00,  -999.0,-999.0000,-999.000,   25.00,  -999.0,  2.7162,-999.000
    31DSCG94_3,  P18N,    97,  1,    113,   1209,2,19940331,1118,-20.9983,-103.0020, 4086,   1799.2,   2.5012,  34.6081,2,  34.6067,2,    123.3,2,    126.8,2,   112.93,2,    38.01,2,     0.00,2,     2.62,2, -999.000,9, -999.000,9, -999.000,9, -999.000,9, -999.000,9,-999.0000,9,  -999.00,9,   -999.0,9,   -999.0,9,   -999.0,9,   -999.0,9,   -999.0,9,     7.53,2, -999.00,  -999.0,-999.0000,-999.000,   25.00,  -999.0,  2.3744,-999.000
    31DSCG94_3,  P18N,    97,  1,    112,   1033,2,19940331,1118,-20.9983,-103.0020, 4086,   2000.0,   2.2154,  34.6268,2,  34.6268,2,    142.3,2,    144.2,2,   113.07,2,    36.74,2,     0.00,2,     2.51,2,    0.007,2,    0.000,2, -999.000,9, -999.000,9, -999.000,9,-999.0000,9,  -999.00,9,   -999.0,9,      0.2,2,   -999.0,9,   -999.0,9,   -999.0,9,     7.56,2, -999.00,  -999.0,-999.0000,-999.000,   25.00,  -999.0,  2.0756,-999.000
    31DSCG94_3,  P18N,    97,  1,    111,   1240,2,19940331,1118,-20.9983,-103.0020, 4086,   2201.8,   2.0166,  34.6471,2,  34.6463,2,    149.1,2,    151.2,2,   116.42,2,    35.79,2,     0.06,4,     2.47,2, -999.000,9, -999.000,9, -999.000,9, -999.000,9, -999.000,9,-999.0000,9,  -999.00,9,   -999.0,9,   -999.0,9,   -999.0,9,   -999.0,9,   -999.0,9,     7.57,2, -999.00,  -999.0,-999.0000,-999.000,   25.00,  -999.0,  1.8626,-999.000
    31DSCG94_3,  P18N,    97,  1,    110,   1005,2,19940331,1118,-20.9983,-103.0020, 4086,   2400.1,   1.9082,  34.6601,2,  34.6594,2,    153.2,2,    154.4,2,   118.84,2,    35.58,2,     0.04,4,     2.47,2, -999.000,9, -999.000,9, -999.000,9, -999.000,9, -999.000,9,-999.0000,9,  -999.00,9,   -999.0,9,   -999.0,9,   -999.0,9,   -999.0,9,   -999.0,9,  -999.00,9, -999.00,  -999.0,-999.0000,-999.000, -999.00,  -999.0,  1.7386,-999.000
    31DSCG94_3,  P18N,    97,  1,    109,   1611,2,19940331,1118,-20.9983,-103.0020, 4086,   2603.7,   1.8486,  34.6682,2,  34.6689,2,    154.2,2,    155.4,2,   122.20,2,    35.41,2,     0.02,4,     2.47,2,   -0.003,2,   -0.002,2, -999.000,9, -999.000,9, -999.000,9,-999.0000,9,  -999.00,9,   -999.0,9,      0.1,2,   -999.0,9,   -999.0,9,   -999.0,9,     7.58,2, -999.00,  -999.0,-999.0000,-999.000,   25.00,  -999.0,  1.6616,-999.000
    31DSCG94_3,  P18N,    97,  1,    108,   1218,2,19940331,1118,-20.9983,-103.0020, 4086,   2801.6,   1.8085,  34.6747,2,  34.6731,2,    153.4,2,    154.6,2,   126.25,2,    35.45,2,     0.00,2,     2.43,2, -999.000,9, -999.000,9, -999.000,9, -999.000,9, -999.000,9,-999.0000,9,  -999.00,9,   -999.0,9,   -999.0,9,   -999.0,9,   -999.0,9,   -999.0,9,  -999.00,9, -999.00,  -999.0,-999.0000,-999.000, -999.00,  -999.0,  1.6038,-999.000
    31DSCG94_3,  P18N,    97,  1,    107,   1257,2,19940331,1118,-20.9983,-103.0020, 4086,   2998.6,   1.7860,  34.6788,2,  34.6787,2,    151.8,2,    152.4,2,   130.47,2,    35.73,2,     0.00,2,     2.45,2, -999.000,9, -999.000,9, -999.000,9, -999.000,9, -999.000,9,-999.0000,9,  -999.00,9,   -999.0,9,      0.1,2,   -999.0,9,   -999.0,9,   -999.0,9,     7.58,2, -999.00,  -999.0,-999.0000,-999.000,   25.00,  -999.0,  1.5630,-999.000
    31DSCG94_3,  P18N,    97,  1,    106,   1224,2,19940331,1118,-20.9983,-103.0020, 4086,   3247.5,   1.7761,  34.6827,2,  34.6831,2,    150.9,2,    151.1,2,   131.45,2,    35.89,2,     0.00,2,     2.47,2,    0.004,2,   -0.002,2, -999.000,9, -999.000,9, -999.000,9,-999.0000,9,  -999.00,9,   -999.0,9,   -999.0,9,   -999.0,9,   -999.0,9,   -999.0,9,  -999.00,9, -999.00,  -999.0,-999.0000,-999.000, -999.00,  -999.0,  1.5287,-999.000
    31DSCG94_3,  P18N,    97,  1,    105,   1246,2,19940331,1118,-20.9983,-103.0020, 4086,   3500.1,   1.7862,  34.6847,2,  34.6842,2,    150.3,2,    150.1,2,   131.44,2,    36.26,2,     0.01,2,     2.48,2, -999.000,9, -999.000,9, -999.000,9, -999.000,9, -999.000,9,-999.0000,9,  -999.00,9,   -999.0,9,      0.1,2,   -999.0,9,   -999.0,9,   -999.0,9,     7.59,2, -999.00,  -999.0,-999.0000,-999.000,   25.00,  -999.0,  1.5128,-999.000
    31DSCG94_3,  P18N,    97,  1,    104,   1217,2,19940331,1118,-20.9983,-103.0020, 4086,   3728.2,   1.8041,  34.6855,2,  34.6852,2,    149.5,2,    152.3,2,   132.26,2,    36.35,2,     0.00,2,     2.50,2, -999.000,9, -999.000,9, -999.000,9, -999.000,9, -999.000,9,-999.0000,9,  -999.00,9,   -999.0,9,      0.1,2,   -999.0,9,   -999.0,9,   -999.0,9,  -999.00,9, -999.00,  -999.0,-999.0000,-999.000, -999.00,  -999.0,  1.5061,-999.000
    31DSCG94_3,  P18N,    97,  1,    103,   9999,2,19940331,1118,-20.9983,-103.0020, 4086,   4000.5,   1.8302,  34.6860,2,  34.6863,2,    151.6,2,    149.0,2,   134.04,2,    36.33,2,     0.00,2,     2.45,2,    0.000,2,   -0.002,2, -999.000,9, -999.000,9, -999.000,9,-999.0000,9,  -999.00,9,   -999.0,9,   -999.0,9,   -999.0,9,   -999.0,9,   -999.0,9,     7.59,2, -999.00,  -999.0,-999.0000,-999.000,   25.00,  -999.0,  1.5018,-999.000
    31DSCG94_3,  P18N,    97,  1,    102,   1223,2,19940331,1118,-20.9983,-103.0020, 4086,   4001.9,   1.8301,  34.6861,2,  34.6858,2,    151.6,2,    150.1,2,   134.99,2,    36.53,2,     0.00,2,     2.46,2, -999.000,9, -999.000,9, -999.000,9, -999.000,9, -999.000,9,-999.0000,9,  -999.00,9,   -999.0,9,      0.1,2,   -999.0,9,   -999.0,9,   -999.0,9,  -999.00,9, -999.00,  -999.0,-999.0000,-999.000, -999.00,  -999.0,  1.5016,-999.000
    31DSCG94_3,  P18N,    97,  1,    101,   1041,2,19940331,1118,-20.9983,-103.0020, 4086,   4124.3,   1.8443,  34.6860,2,  34.6862,2,    149.9,2,    149.4,2,   134.51,2,    36.42,2,     0.00,2,     2.47,2,   -0.002,2,    0.000,2, -999.000,9, -999.000,9, -999.000,9,-999.0000,9,  -999.00,9,   -999.0,9,      0.1,2,   -999.0,9,   -999.0,9,   -999.0,9,     7.58,2, -999.00,  -999.0,-999.0000,-999.000,   25.00,  -999.0,  1.5017,-999.000