BOTTLE,20220630CCHSIOAMB
EXPOCODE,SECT_ID,STNNBR,CASTNO,SAMPNO,BTLNBR,BTLNBR_FLAG_W,DATE,TIME,LATITUDE,LONGITUDE,DEPTH,CTDPRS,CTDTMP,CTDSAL,CTDSAL_FLAG_W,SALNTY,SALNTY_FLAG_W,CTDOXY,CTDOXY_FLAG_W,OXYGEN,OXYGEN_FLAG_W,SILCAT,SILCAT_FLAG_W,NITRAT,NITRAT_FLAG_W,NITRIT,NITRIT_FLAG_W,PHSPHT,PHSPHT_FLAG_W,CFC-11,CFC-11_FLAG_W,CFC-12,CFC-12_FLAG_W,CFC113,CFC113_FLAG_W,CCL4,CCL4_FLAG_W,TRITUM,TRITUM_FLAG_W,HELIUM,HELIUM_FLAG_W,DELHE3,DELHE3_FLAG_W,DELC14,DELC14_FLAG_W,DELC13,DELC13_FLAG_W,TCARBN,TCARBN_FLAG_W,PCO2,PCO2_FLAG_W,ALKALI,ALKALI_FLAG_W,PH,PH_FLAG_W,PCO2TMP,C14ERR,HELIER,DELHER,PH_TMP,C13ERR,THETA,TRITER
,,,,,,,,,,,,DBAR,ITS-90,PSS-78,,PSS-78,,UMOL/KG,,UMOL/KG,,UMOL/KG,,UMOL/KG,,UMOL/KG,,UMOL/KG,,PMOL/KG,,PMOL/KG,,PMOL/KG,,PMOL/KG,,TU,,NMOL/KG,,PERCNT,,/MILLE,,/MILLE,,UMOL/KG,,UATM,,UMOL/KG,,,,DEG C,/MILLE,NMOL/KG,PERCNT,DEG C,/MILLE,DEG C,TU
    31DSCG94_2,  P18S,    36,  1,    136,   1025,2,19940309,1253,-52.5038,-103.0097, 4412,     13.0,   8.0493,  34.2512,2,  34.2505,2,    286.7,2,    286.5,2,     1.52,2,    14.61,2,     0.21,2,     1.13,2, -999.000,9, -999.000,9, -999.000,9, -999.000,9, -999.000,9,-999.0000,9,  -999.00,9,   -999.0,9,   -999.0,9,   2089.4,2,    558.8,2,   2276.0,2,     7.84,2,   20.00,  -999.0,-999.0000,-999.000,   25.00,  -999.0,  8.0480,-999.000
    31DSCG94_2,  P18S,    36,  1,    135,   1247,2,19940309,1253,-52.5038,-103.0097, 4412,     25.0,   8.0502,  34.2512,2,  34.2500,2,    286.5,2,    286.6,2,     1.62,2,    14.63,2,     0.21,2,     1.13,2, -999.000,9, -999.000,9, -999.000,9, -999.000,9, -999.000,9,-999.0000,9,  -999.00,9,   -999.0,9,   -999.0,9,   2089.1,2,    561.2,2,   2276.0,2,     7.84,2,   20.00,  -999.0,-999.0000,-999.000,   25.00,  -999.0,  8.0477,-999.000
    31DSCG94_2,  P18S,    36,  1,    134,   1108,2,19940309,1253,-52.5038,-103.0097, 4412,     45.4,   8.0516,  34.2514,2,  34.2498,2,    286.2,2,    286.0,2,     1.47,2,    14.62,2,     0.21,2,     1.12,2, -999.000,9, -999.000,9, -999.000,9, -999.000,9, -999.000,9,-999.0000,9,  -999.00,9,   -999.0,9,   -999.0,9,   2090.0,2,    564.6,2,   2274.0,2,     7.84,2,   20.00,  -999.0,-999.0000,-999.000,   25.00,  -999.0,  8.0470,-999.000
    31DSCG94_2,  P18S,    36,  1,    133,   1244,2,19940309,1253,-52.5038,-103.0097, 4412,     74.5,   8.0330,  34.2515,2,  34.2503,2,    285.5,2,    286.0,2,     1.51,2,    14.67,2,     0.19,2,     1.09,2, -999.000,9, -999.000,9, -999.000,9, -999.000,9, -999.000,9,-999.0000,9,  -999.00,9,   -999.0,9,   -999.0,9,   2090.2,2,    566.5,2,   2274.0,2,     7.84,2,   20.00,  -999.0,-999.0000,-999.000,   25.00,  -999.0,  8.0256,-999.000
    31DSCG94_2,  P18S,    36,  1,    132,   1003,2,19940309,1253,-52.5038,-103.0097, 4412,     99.1,   7.9507,  34.2574,2,  34.2581,2,    287.5,2,    286.0,2,     1.67,2,    14.75,2,     0.20,2,     1.14,2, -999.000,9, -999.000,9, -999.000,9, -999.000,9, -999.000,9,-999.0000,9,  -999.00,9,   -999.0,9,   -999.0,9,   2091.5,2,    569.7,2,   2274.0,2,     7.84,2,   20.00,  -999.0,-999.0000,-999.000,   25.00,  -999.0,  7.9409,-999.000
    31DSCG94_2,  P18S,    36,  1,    131,   1211,2,19940309,1253,-52.5038,-103.0097, 4412,    125.4,   6.7064,  34.3071,2,  34.3067,2,    281.8,2,    282.5,2,     5.10,2,    17.39,2,     0.56,2,     1.32,2, -999.000,9, -999.000,9, -999.000,9, -999.000,9, -999.000,9,-999.0000,9,  -999.00,9,   -999.0,9,   -999.0,9,   2113.6,2,    643.8,2,   2275.0,2,     7.79,2,   20.00,  -999.0,-999.0000,-999.000,   25.00,  -999.0,  6.6951,-999.000
    31DSCG94_2,  P18S,    36,  1,    130,   1241,2,19940309,1253,-52.5038,-103.0097, 4412,    151.5,   6.5075,  34.3238,2,  34.3224,2,    278.6,2,    280.0,2,     5.09,2,    18.25,2,     0.06,2,     1.34,2, -999.000,9, -999.000,9, -999.000,9, -999.000,9, -999.000,9,-999.0000,9,  -999.00,9,   -999.0,9,   -999.0,9,   2117.2,2,    661.8,2,   2280.0,2,     7.78,2,   20.00,  -999.0,-999.0000,-999.000,   25.00,  -999.0,  6.4941,-999.000
    31DSCG94_2,  P18S,    36,  1,    129,   1031,2,19940309,1253,-52.5038,-103.0097, 4412,    201.1,   6.3752,  34.3231,2,  34.3210,2,    278.9,2,    279.0,2,     6.31,2,    19.32,2,     0.00,2,     1.31,2, -999.000,9, -999.000,9, -999.000,9, -999.000,9, -999.000,9,-999.0000,9,  -999.00,9,   -999.0,9,   -999.0,9,   2118.6,2,    668.3,2,   2279.0,2,     7.78,2,   20.00,  -999.0,-999.0000,-999.000,   25.00,  -999.0,  6.3575,-999.000
    31DSCG94_2,  P18S,    36,  1,    128,   1210,2,19940309,1253,-52.5038,-103.0097, 4412,    250.3,   6.3472,  34.3355,2,  34.3342,2,    278.5,2,    279.2,2,     7.04,2,    19.25,2,     0.00,2,     1.36,2, -999.000,9, -999.000,9, -999.000,9, -999.000,9, -999.000,9,-999.0000,9,  -999.00,9,   -999.0,9,   -999.0,9,   2117.8,2,    671.1,2,   2278.0,2,     7.78,2,   20.00,  -999.0,-999.0000,-999.000,   25.00,  -999.0,  6.3251,-999.000
    31DSCG94_2,  P18S,    36,  1,    127,   1008,2,19940309,1253,-52.5038,-103.0097, 4412,    299.6,   6.1729,  34.3157,2,  34.3135,2,    278.7,2,    277.6,2,     7.41,2,    19.97,2,     0.00,2,     1.41,2, -999.000,9, -999.000,9, -999.000,9, -999.000,9, -999.000,9,-999.0000,9,  -999.00,9,   -999.0,9,   -999.0,9,   2122.1,2,    682.8,2,   2272.0,2,     7.77,2,   20.00,  -999.0,-999.0000,-999.000,   25.00,  -999.0,  6.1469,-999.000
    31DSCG94_2,  P18S,    36,  1,    126,   1007,2,19940309,1253,-52.5038,-103.0097, 4412,    347.1,   5.9537,  34.2918,2,  34.2903,2,    275.9,2,    271.1,2,     8.55,2,    21.16,2,     0.01,2,     1.50,2, -999.000,9, -999.000,9, -999.000,9, -999.000,9, -999.000,9,-999.0000,9,  -999.00,9,   -999.0,9,   -999.0,9,   2127.2,2,    706.7,2,   -999.0,5,     7.76,2,   20.00,  -999.0,-999.0000,-999.000,   25.00,  -999.0,  5.9240,-999.000
    31DSCG94_2,  P18S,    36,  1,    125,   1203,2,19940309,1253,-52.5038,-103.0097, 4412,    398.5,   5.8710,  34.2889,2,  34.2889,2,    278.6,2,    271.6,2,     8.86,2,    21.48,2,     0.00,2,     1.46,2, -999.000,9, -999.000,9, -999.000,9, -999.000,9, -999.000,9,-999.0000,9,  -999.00,9,   -999.0,9,   -999.0,9,   2127.7,2,    709.2,2,   2278.0,2,     7.76,2,   20.00,  -999.0,-999.0000,-999.000,   25.00,  -999.0,  5.8370,-999.000
    31DSCG94_2,  P18S,    36,  1,    123,   1101,3,19940309,1253,-52.5038,-103.0097, 4412,    500.3,   5.6727,  34.2777,2,  34.2777,2,    276.5,2,    277.4,2,     8.98,2,    21.36,2,     0.02,2,     1.48,2, -999.000,9, -999.000,9, -999.000,9, -999.000,9, -999.000,9,-999.0000,9,  -999.00,9,   -999.0,9,   -999.0,9,   -999.0,9,   -999.0,9,   -999.0,9,  -999.00,9, -999.00,  -999.0,-999.0000,-999.000, -999.00,  -999.0,  5.6305,-999.000
    31DSCG94_2,  P18S,    36,  1,    121,   1206,2,19940309,1253,-52.5038,-103.0097, 4412,    599.4,   5.2430,  34.2448,2,  34.2453,2,    266.1,2,    263.1,2,    12.10,2,    23.49,2,     0.03,2,     1.63,2, -999.000,9, -999.000,9, -999.000,9, -999.000,9, -999.000,9,-999.0000,9,  -999.00,9,   -999.0,9,   -999.0,9,   2135.9,2,    761.2,2,   2278.0,2,     7.73,2,   20.00,  -999.0,-999.0000,-999.000,   25.00,  -999.0,  5.1940,-999.000
    31DSCG94_2,  P18S,    36,  1,    119,   1248,2,19940309,1253,-52.5038,-103.0097, 4412,    698.7,   4.9537,  34.2536,2,  34.2537,2,    247.8,2,    242.2,2,    17.47,2,    26.03,2,     0.03,2,     1.80,2, -999.000,9, -999.000,9, -999.000,9, -999.000,9, -999.000,9,-999.0000,9,  -999.00,9,   -999.0,9,   -999.0,9,   2154.6,2,    825.6,2,   2284.0,2,     7.70,2,   20.00,  -999.0,-999.0000,-999.000,   25.00,  -999.0,  4.8976,-999.000
    31DSCG94_2,  P18S,    36,  1,    118,   1207,2,19940309,1253,-52.5038,-103.0097, 4412,    799.4,   4.6162,  34.2804,2,  34.2802,2,    224.0,2,    223.7,2,    24.45,2,    28.28,2,     0.03,2,     1.92,2, -999.000,9, -999.000,9, -999.000,9, -999.000,9, -999.000,9,-999.0000,9,  -999.00,9,   -999.0,9,   -999.0,9,   2173.8,2,    898.0,2,   2288.0,2,     7.66,2,   20.00,  -999.0,-999.0000,-999.000,   25.00,  -999.0,  4.5534,-999.000
    31DSCG94_2,  P18S,    36,  1,    117,   1119,2,19940309,1253,-52.5038,-103.0097, 4412,    900.2,   4.1206,  34.2940,2,  34.2943,2,    214.1,2,    215.4,2,    31.33,2,    31.20,2,     0.00,2,     2.05,2, -999.000,9, -999.000,9, -999.000,9, -999.000,9, -999.000,9,-999.0000,9,  -999.00,9,   -999.0,9,   -999.0,9,   2187.2,2,    966.4,2,   2302.0,2,     7.64,2,   20.00,  -999.0,-999.0000,-999.000,   25.00,  -999.0,  4.0526,-999.000
    31DSCG94_2,  P18S,    36,  1,    116,   1036,2,19940309,1253,-52.5038,-103.0097, 4412,    994.2,   3.7105,  34.3147,2,  34.3150,2,    206.8,2,    208.1,2,    37.61,2,    31.31,2,     0.00,2,     2.15,2, -999.000,9, -999.000,9, -999.000,9, -999.000,9, -999.000,9,-999.0000,9,  -999.00,9,   -999.0,9,   -999.0,9,   2198.8,2,   1008.0,2,   2300.0,2,     7.62,2,   20.00,  -999.0,-999.0000,-999.000,   25.00,  -999.0,  3.6379,-999.000
    31DSCG94_2,  P18S,    36,  1,    115,   1017,2,19940309,1253,-52.5038,-103.0097, 4412,   1203.6,   3.0524,  34.3855,2,  34.3837,2,    191.4,2,    192.6,2,    52.48,2,    33.04,2,     0.00,2,     2.27,2, -999.000,9, -999.000,9, -999.000,9, -999.000,9, -999.000,9,-999.0000,9,  -999.00,9,   -999.0,9,   -999.0,9,   -999.0,9,   -999.0,9,   -999.0,9,     7.59,2, -999.00,  -999.0,-999.0000,-999.000,   25.00,  -999.0,  2.9685,-999.000
    31DSCG94_2,  P18S,    36,  1,    114,   1016,2,19940309,1253,-52.5038,-103.0097, 4412,   1400.0,   2.7115,  34.4736,2,  34.4722,2,    178.3,2,    179.0,6,    66.13,2,    33.83,2,     0.00,2,     2.31,2, -999.000,9, -999.000,9, -999.000,9, -999.000,9, -999.000,9,-999.0000,9,  -999.00,9,   -999.0,9,   -999.0,9,   -999.0,9,   -999.0,9,   -999.0,9,     7.57,2, -999.00,  -999.0,-999.0000,-999.000,   25.00,  -999.0,  2.6153,-999.000
    31DSCG94_2,  P18S,    36,  1,    113,   1118,2,19940309,1253,-52.5038,-103.0097, 4412,   1601.3,   2.5053,  34.5543,2,  34.5544,2,    171.3,2,    172.2,2,    75.39,2,    33.54,2,     0.00,2,     2.31,2, -999.000,9, -999.000,9, -999.000,9, -999.000,9, -999.000,9,-999.0000,9,  -999.00,9,   -999.0,9,   -999.0,9,   -999.0,9,   -999.0,9,   -999.0,9,     7.57,2, -999.00,  -999.0,-999.0000,-999.000,   25.00,  -999.0,  2.3950,-999.000
    31DSCG94_2,  P18S,    36,  1,    112,   1033,2,19940309,1253,-52.5038,-103.0097, 4412,   1800.7,   2.3676,  34.6173,2,  34.6169,2,    169.1,2,    169.6,6,    80.90,2,    33.51,2,     0.00,2,     2.30,2, -999.000,9, -999.000,9, -999.000,9, -999.000,9, -999.000,9,-999.0000,9,  -999.00,9,   -999.0,9,   -999.0,9,   -999.0,9,   -999.0,9,   -999.0,9,     7.57,2, -999.00,  -999.0,-999.0000,-999.000,   25.00,  -999.0,  2.2426,-999.000
    31DSCG94_2,  P18S,    36,  1,    111,   1263,2,19940309,1253,-52.5038,-103.0097, 4412,   2000.6,   2.2288,  34.6631,2,  34.6615,2,    169.0,2,    170.3,2,    88.43,2,    34.21,2,     0.00,2,     2.28,2,    0.487,4,    0.038,2, -999.000,9, -999.000,9, -999.000,9,-999.0000,9,  -999.00,9,   -999.0,9,   -999.0,9,   -999.0,9,   -999.0,9,   -999.0,9,     7.58,2, -999.00,  -999.0,-999.0000,-999.000,   25.00,  -999.0,  2.0887,-999.000
    31DSCG94_2,  P18S,    36,  1,    110,   1005,2,19940309,1253,-52.5038,-103.0097, 4412,   2238.8,   2.0848,  34.6944,2,  34.6929,2,    173.2,2,    174.5,2,    93.77,2,    32.40,2,     0.00,2,     2.19,2, -999.000,9, -999.000,9, -999.000,9, -999.000,9, -999.000,9,-999.0000,9,  -999.00,9,   -999.0,9,   -999.0,9,   -999.0,9,   -999.0,9,   -999.0,9,  -999.00,9, -999.00,  -999.0,-999.0000,-999.000, -999.00,  -999.0,  1.9262,-999.000
    31DSCG94_2,  P18S,    36,  1,    109,   1611,2,19940309,1253,-52.5038,-103.0097, 4412,   2498.7,   1.8699,  34.7053,2,-999.0000,5,    175.0,2,    175.9,2,   106.86,2,    33.15,2,     0.00,2,     2.30,2,    0.018,2,    0.003,2, -999.000,9, -999.000,9, -999.000,9,-999.0000,9,  -999.00,9,   -999.0,9,   -999.0,9,   -999.0,9,   -999.0,9,   -999.0,9,  -999.00,9, -999.00,  -999.0,-999.0000,-999.000, -999.00,  -999.0,  1.6919,-999.000
    31DSCG94_2,  P18S,    36,  1,    108,   1218,2,19940309,1253,-52.5038,-103.0097, 4412,   2751.3,   1.6990,  34.7081,2,  34.7057,2,    177.2,2,    178.4,2,   108.10,2,    32.64,2,     0.00,2,     2.25,2, -999.000,9, -999.000,9, -999.000,9, -999.000,9, -999.000,9,-999.0000,9,  -999.00,9,   -999.0,9,   -999.0,9,   -999.0,9,   -999.0,9,   -999.0,9,  -999.00,9, -999.00,  -999.0,-999.0000,-999.000, -999.00,  -999.0,  1.5012,-999.000
    31DSCG94_2,  P18S,    36,  1,    107,   1257,2,19940309,1253,-52.5038,-103.0097, 4412,   3000.0,   1.6066,  34.7134,2,  34.7112,2,    181.8,2,    183.3,2,   108.59,2,    32.38,2,     0.00,2,     2.24,2,    0.004,6,   -0.001,6, -999.000,9, -999.000,9, -999.000,9,-999.0000,9,  -999.00,9,   -999.0,9,   -999.0,9,   -999.0,9,   -999.0,9,   -999.0,9,  -999.00,9, -999.00,  -999.0,-999.0000,-999.000, -999.00,  -999.0,  1.3872,-999.000
    31DSCG94_2,  P18S,    36,  1,    106,   1224,2,19940309,1253,-52.5038,-103.0097, 4412,   3250.8,   1.4934,  34.7175,2,  34.7162,2,    188.3,2,    188.9,2,   110.14,2,    31.95,2,     0.00,2,     2.22,2, -999.000,9, -999.000,9, -999.000,9, -999.000,9, -999.000,9,-999.0000,9,  -999.00,9,   -999.0,9,   -999.0,9,   -999.0,9,   -999.0,9,   -999.0,9,  -999.00,9, -999.00,  -999.0,-999.0000,-999.000, -999.00,  -999.0,  1.2522,-999.000
    31DSCG94_2,  P18S,    36,  1,    105,   1246,2,19940309,1253,-52.5038,-103.0097, 4412,   3499.5,   1.2728,  34.7166,2,  34.7137,2,    193.4,2,    194.6,2,   117.56,2,    32.02,2,     0.00,2,     2.17,2,    0.001,2,    0.000,2, -999.000,9, -999.000,9, -999.000,9,-999.0000,9,  -999.00,9,   -999.0,9,   -999.0,9,   -999.0,9,   -999.0,9,   -999.0,9,  -999.00,9, -999.00,  -999.0,-999.0000,-999.000, -999.00,  -999.0,  1.0122,-999.000
    31DSCG94_2,  P18S,    36,  1,    104,   1028,2,19940309,1253,-52.5038,-103.0097, 4412,   3749.8,   1.0306,  34.7128,2,  34.7108,2,    199.5,2,    199.4,2,   123.98,2,    32.01,2,     0.00,2,     2.20,2,    0.025,2,    0.003,2, -999.000,9, -999.000,9, -999.000,9,-999.0000,9,  -999.00,9,   -999.0,9,   -999.0,9,   -999.0,9,   -999.0,9,   -999.0,9,  -999.00,9, -999.00,  -999.0,-999.0000,-999.000, -999.00,  -999.0,  0.7508,-999.000
    31DSCG94_2,  P18S,    36,  1,    103,   9999,2,19940309,1253,-52.5038,-103.0097, 4412,   4002.3,   0.8489,  34.7094,2,-999.0000,5,    204.0,2,    202.7,2,   131.21,2,    33.07,2,     0.00,2,     2.28,2,   -0.004,2,    0.000,2, -999.000,9, -999.000,9, -999.000,9,-999.0000,9,  -999.00,9,   -999.0,9,   -999.0,9,   -999.0,9,   -999.0,9,   -999.0,9,  -999.00,9, -999.00,  -999.0,-999.0000,-999.000, -999.00,  -999.0,  0.5480,-999.000
    31DSCG94_2,  P18S,    36,  1,    102,   1223,2,19940309,1253,-52.5038,-103.0097, 4412,   4250.9,   0.7435,  34.7080,2,  34.7061,2,    207.5,2,    205.6,2,   131.24,2,    32.38,2,     0.00,2,     2.22,2,   -0.004,2,    0.001,2, -999.000,9, -999.000,9, -999.000,9,-999.0000,9,  -999.00,9,   -999.0,9,   -999.0,9,   -999.0,9,   -999.0,9,   -999.0,9,  -999.00,9, -999.00,  -999.0,-999.0000,-999.000, -999.00,  -999.0,  0.4192,-999.000
    31DSCG94_2,  P18S,    36,  1,    101,   1041,2,19940309,1253,-52.5038,-103.0097, 4412,   4501.2,   0.7265,  34.7073,2,  34.7060,2,    210.0,2,    206.6,2,   134.27,2,    32.46,2,     0.00,2,     2.22,2,   -0.001,6,    0.001,6, -999.000,9, -999.000,9, -999.000,9,-999.0000,9,  -999.00,9,   -999.0,9,   -999.0,9,   -999.0,9,   -999.0,9,   -999.0,9,  -999.00,9, -999.00,  -999.0,-999.0000,-999.000, -999.00,  -999.0,  0.3754,-999.000