BOTTLE,20220630CCHSIOAMB
EXPOCODE,SECT_ID,STNNBR,CASTNO,SAMPNO,BTLNBR,BTLNBR_FLAG_W,DATE,TIME,LATITUDE,LONGITUDE,DEPTH,CTDPRS,CTDTMP,CTDSAL,CTDSAL_FLAG_W,SALNTY,SALNTY_FLAG_W,CTDOXY,CTDOXY_FLAG_W,OXYGEN,OXYGEN_FLAG_W,SILCAT,SILCAT_FLAG_W,NITRAT,NITRAT_FLAG_W,NITRIT,NITRIT_FLAG_W,PHSPHT,PHSPHT_FLAG_W,CFC-11,CFC-11_FLAG_W,CFC-12,CFC-12_FLAG_W,CFC113,CFC113_FLAG_W,CCL4,CCL4_FLAG_W,TRITUM,TRITUM_FLAG_W,HELIUM,HELIUM_FLAG_W,DELHE3,DELHE3_FLAG_W,DELC14,DELC14_FLAG_W,DELC13,DELC13_FLAG_W,TCARBN,TCARBN_FLAG_W,PCO2,PCO2_FLAG_W,ALKALI,ALKALI_FLAG_W,PH,PH_FLAG_W,PCO2TMP,C14ERR,HELIER,DELHER,PH_TMP,C13ERR,THETA,TRITER
,,,,,,,,,,,,DBAR,ITS-90,PSS-78,,PSS-78,,UMOL/KG,,UMOL/KG,,UMOL/KG,,UMOL/KG,,UMOL/KG,,UMOL/KG,,PMOL/KG,,PMOL/KG,,PMOL/KG,,PMOL/KG,,TU,,NMOL/KG,,PERCNT,,/MILLE,,/MILLE,,UMOL/KG,,UATM,,UMOL/KG,,,,DEG C,/MILLE,NMOL/KG,PERCNT,DEG C,/MILLE,DEG C,TU
    31DSCG94_3,  P18N,   159,  1,    136,   1025,2,19940417,0757,  5.5000,-110.3350, 3932,     23.2,  28.9653,  33.7607,2,  33.7690,2,    199.4,2,    199.7,2,     1.92,2,     0.08,2,     0.00,2,     0.17,2,    1.682,2,    0.975,2, -999.000,9, -999.000,9, -999.000,9,-999.0000,9,  -999.00,9,   -999.0,9,   -999.0,9,   1904.0,2,    264.6,2,   2227.0,2,     8.11,2,   20.00,  -999.0,-999.0000,-999.000,   25.00,  -999.0, 28.9597,-999.000
    31DSCG94_3,  P18N,   159,  1,    135,   1247,2,19940417,0757,  5.5000,-110.3350, 3932,     48.5,  28.4186,  34.1038,2,  34.1165,2,    201.6,2,    202.1,2,     2.72,2,     0.03,2,     0.00,2,     0.16,2,    1.716,2,    0.971,2, -999.000,9, -999.000,9, -999.000,9,-999.0000,9,  -999.00,9,   -999.0,9,   -999.0,9,   1909.4,2,    265.7,2,   2240.0,2,     8.12,2,   20.00,  -999.0,-999.0000,-999.000,   25.00,  -999.0, 28.4070,-999.000
    31DSCG94_3,  P18N,   159,  1,    134,   1216,2,19940417,0757,  5.5000,-110.3350, 3932,     75.4,  17.7738,  34.6710,2,  34.6734,2,     55.0,2,     38.8,2,    15.20,2,    24.37,2,     0.63,2,     2.03,2,    0.604,4,    0.325,4, -999.000,9, -999.000,9, -999.000,9,-999.0000,9,  -999.00,9,   -999.0,9,   -999.0,9,   2177.3,3,    986.4,2,   2280.0,2,     7.63,2,   20.00,  -999.0,-999.0000,-999.000,   25.00,  -999.0, 17.7611,-999.000
    31DSCG94_3,  P18N,   159,  1,    133,   1244,2,19940417,0757,  5.5000,-110.3350, 3932,     97.5,  14.3369,  34.7737,2,  34.7768,2,     28.1,2,     11.1,2,    22.24,2,    30.67,2,     0.01,2,     2.39,2,    0.444,2,    0.247,2, -999.000,9, -999.000,9, -999.000,9,-999.0000,9,  -999.00,9,   -999.0,9,   -999.0,9,   2223.3,2,   1309.7,2,   2293.0,2,     7.51,2,   20.00,  -999.0,-999.0000,-999.000,   25.00,  -999.0, 14.3226,-999.000
    31DSCG94_3,  P18N,   159,  1,    132,   1003,2,19940417,0757,  5.5000,-110.3350, 3932,    125.4,  12.6361,  34.7713,2,  34.7728,2,     25.5,2,     20.7,2,    25.74,2,    31.44,2,     0.00,2,     2.29,2,    0.447,2,    0.248,2, -999.000,9, -999.000,9, -999.000,9,-999.0000,9,  -999.00,9,   -999.0,9,   -999.0,9,   2227.1,2,   1325.9,2,   2291.0,2,     7.51,2,   20.00,  -999.0,-999.0000,-999.000,   25.00,  -999.0, 12.6192,-999.000
    31DSCG94_3,  P18N,   159,  1,    131,   1211,2,19940417,0757,  5.5000,-110.3350, 3932,    150.1,  12.0766,  34.7705,2,  34.7715,2,     26.9,2,     22.8,2,    27.51,2,    31.72,2,     0.00,2,     2.33,2,    0.368,2,    0.209,2, -999.000,9, -999.000,9, -999.000,9,-999.0000,9,  -999.00,9,   -999.0,9,   -999.0,9,   2231.7,2,   1339.8,2,   2296.0,2,     7.51,2,   20.00,  -999.0,-999.0000,-999.000,   25.00,  -999.0, 12.0570,-999.000
    31DSCG94_3,  P18N,   159,  1,    130,   1241,2,19940417,0757,  5.5000,-110.3350, 3932,    174.2,  11.5887,  34.7507,2,  34.7511,2,     29.3,2,     27.9,2,    29.80,2,    31.74,2,     0.00,2,     2.33,2,    0.321,6,    0.174,6, -999.000,5, -999.000,5, -999.000,9,-999.0000,9,  -999.00,9,   -999.0,9,   -999.0,9,   2234.5,2,   1337.7,2,   2297.0,2,     7.51,2,   20.00,  -999.0,-999.0000,-999.000,   25.00,  -999.0, 11.5666,-999.000
    31DSCG94_3,  P18N,   159,  1,    129,   1240,2,19940417,0757,  5.5000,-110.3350, 3932,    199.8,  11.1220,  34.7429,2,  34.7429,2,     35.2,2,     33.5,2,    29.79,2,    31.86,2,     0.00,2,     2.31,2,    0.273,2,    0.157,2, -999.000,9, -999.000,9, -999.000,9,-999.0000,9,  -999.00,9,   -999.0,9,   -999.0,9,   2234.6,2,   1334.5,2,   2299.0,2,     7.51,2,   20.00,  -999.0,-999.0000,-999.000,   25.00,  -999.0, 11.0973,-999.000
    31DSCG94_3,  P18N,   159,  1,    128,   1032,2,19940417,0757,  5.5000,-110.3350, 3932,    249.1,  10.5427,  34.7222,2,  34.7222,2,     35.6,2,     34.3,2,    30.86,2,    32.67,2,     0.00,2,     2.34,2,    0.196,2,    0.110,2, -999.000,9, -999.000,9, -999.000,9,-999.0000,9,  -999.00,9,   -999.0,9,   -999.0,9,   2241.1,2,   1382.2,2,   2306.0,2,     7.50,2,   20.00,  -999.0,-999.0000,-999.000,   25.00,  -999.0, 10.5128,-999.000
    31DSCG94_3,  P18N,   159,  1,    127,   1008,2,19940417,0757,  5.5000,-110.3350, 3932,    300.4,  10.0817,  34.7019,2,  34.7014,2,     35.3,2,     34.8,6,    32.67,2,    33.48,2,     0.00,2,     2.38,2,    0.157,2,    0.085,2, -999.000,9, -999.000,9, -999.000,9,-999.0000,9,  -999.00,9,   -999.0,9,   -999.0,9,   2244.9,2,   1415.5,2,   2305.0,2,     7.49,2,   20.00,  -999.0,-999.0000,-999.000,   25.00,  -999.0, 10.0466,-999.000
    31DSCG94_3,  P18N,   159,  1,    126,   1007,3,19940417,0757,  5.5000,-110.3350, 3932,    349.3,   9.6238,  34.6820,2,  34.6809,2,     30.8,2,     25.6,2,    35.67,2,    35.45,2,     0.00,2,     2.54,2,    0.096,6,    0.051,6, -999.000,9, -999.000,9, -999.000,9,-999.0000,9,  -999.00,9,   -999.0,9,   -999.0,9,   2257.1,2,   1539.7,2,   2303.0,2,     7.45,2,   20.00,  -999.0,-999.0000,-999.000,   25.00,  -999.0,  9.5841,-999.000
    31DSCG94_3,  P18N,   159,  1,    125,   1256,2,19940417,0757,  5.5000,-110.3350, 3932,    399.7,   9.2319,  34.6672,2,  34.6663,2,     19.2,2,     11.9,2,    40.22,2,    36.49,2,     0.00,2,     2.71,2,    0.045,2,    0.026,2, -999.000,9, -999.000,9, -999.000,9,-999.0000,9,  -999.00,9,   -999.0,9,   -999.0,9,   2273.1,2,   1703.1,6,   2307.0,2,  -999.00,9,   20.00,  -999.0,-999.0000,-999.000, -999.00,  -999.0,  9.1874,-999.000
    31DSCG94_3,  P18N,   159,  1,    123,   1220,3,19940417,0757,  5.5000,-110.3350, 3932,    501.8,   8.0439,  34.6160,2,  34.6142,2,      8.3,2,      2.9,6,    51.89,2,    38.26,2,     0.00,2,     3.05,2,    0.008,2,    0.004,2, -999.000,9, -999.000,9, -999.000,9,-999.0000,9,  -999.00,9,   -999.0,9,   -999.0,9,   2298.0,2,   -999.0,9,   2321.0,2,  -999.00,9, -999.00,  -999.0,-999.0000,-999.000, -999.00,  -999.0,  7.9922,-999.000
    31DSCG94_3,  P18N,   159,  1,    122,   1245,2,19940417,0757,  5.5000,-110.3350, 3932,    598.9,   6.9038,  34.5811,2,  34.5790,2,     13.3,2,     16.2,2,    58.15,2,    42.10,2,     0.00,2,     3.09,2,    0.004,2,    0.000,2, -999.000,9, -999.000,9, -999.000,9,-999.0000,9,  -999.00,9,   -999.0,9,   -999.0,9,   2301.6,2,   1879.6,2,   2322.0,2,     7.38,2,   20.00,  -999.0,-999.0000,-999.000,   25.00,  -999.0,  6.8469,-999.000
    31DSCG94_3,  P18N,   159,  1,    121,   1206,2,19940417,0757,  5.5000,-110.3350, 3932,    699.9,   6.1491,  34.5618,2,  34.5617,2,     15.8,2,     19.5,2,    67.07,2,    43.11,2,     0.00,2,     3.14,2,    0.010,2,    0.002,2, -999.000,9, -999.000,9, -999.000,9,-999.0000,9,  -999.00,9,   -999.0,9,   -999.0,9,   2313.7,3,   1909.2,2,   2343.0,3,     7.37,2,   20.00,  -999.0,-999.0000,-999.000,   25.00,  -999.0,  6.0861,-999.000
    31DSCG94_3,  P18N,   159,  1,    120,   1028,2,19940417,0757,  5.5000,-110.3350, 3932,    800.5,   5.4831,  34.5582,2,  34.5586,2,     25.9,2,     28.7,2,    77.50,2,    44.14,2,     0.00,2,     3.14,2,    0.005,2,   -0.002,2, -999.000,9, -999.000,9, -999.000,9,-999.0000,9,  -999.00,9,   -999.0,9,   -999.0,9,   2321.4,3,   1879.8,2,   2333.0,2,     7.38,2,   20.00,  -999.0,-999.0000,-999.000,   25.00,  -999.0,  5.4145,-999.000
    31DSCG94_3,  P18N,   159,  1,    119,   1248,2,19940417,0757,  5.5000,-110.3350, 3932,    900.4,   5.0538,  34.5572,2,  34.5581,2,     32.8,2,     35.3,2,    84.02,2,    44.67,2,     0.00,2,     3.12,2,    0.009,2,    0.004,2, -999.000,5, -999.000,5, -999.000,9,-999.0000,9,  -999.00,9,   -999.0,9,   -999.0,9,   2325.4,3,   1831.5,2,   2344.0,2,     7.39,2,   20.00,  -999.0,-999.0000,-999.000,   25.00,  -999.0,  4.9790,-999.000
    31DSCG94_3,  P18N,   159,  1,    118,   1115,2,19940417,0757,  5.5000,-110.3350, 3932,   1001.9,   4.4955,  34.5644,2,  34.5645,2,     42.7,2,     44.8,2,    94.57,2,    44.25,2,     0.00,2,     3.15,2,    0.004,2,    0.002,2, -999.000,9, -999.000,9, -999.000,9,-999.0000,9,  -999.00,9,   -999.0,9,   -999.0,9,   2355.1,3,   1773.4,2,   -999.0,5,     7.40,2,   20.00,  -999.0,-999.0000,-999.000,   25.00,  -999.0,  4.4158,-999.000
    31DSCG94_3,  P18N,   159,  1,    117,   1119,2,19940417,0757,  5.5000,-110.3350, 3932,   1098.9,   4.1844,  34.5733,2,  34.5735,2,     50.3,2,     52.6,2,   101.02,2,    43.57,2,     0.00,2,     3.08,2,    0.003,2,    0.002,2, -999.000,5, -999.000,5, -999.000,9,-999.0000,9,  -999.00,9,   -999.0,9,   -999.0,9,   2335.6,3,   1721.5,2,   2364.0,2,     7.42,2,   20.00,  -999.0,-999.0000,-999.000,   25.00,  -999.0,  4.0987,-999.000
    31DSCG94_3,  P18N,   159,  1,    116,   1036,2,19940417,0757,  5.5000,-110.3350, 3932,   1200.0,   3.8719,  34.5826,2,  34.5833,2,     55.2,2,     57.3,2,   107.59,2,    43.49,2,     0.00,2,     3.04,2, -999.000,9, -999.000,9, -999.000,9, -999.000,9, -999.000,9,-999.0000,9,  -999.00,9,   -999.0,9,   -999.0,9,   2340.9,3,   1695.1,2,   2374.0,2,     7.43,2,   20.00,  -999.0,-999.0000,-999.000,   25.00,  -999.0,  3.7803,-999.000
    31DSCG94_3,  P18N,   159,  1,    115,   1017,2,19940417,0757,  5.5000,-110.3350, 3932,   1301.2,   3.5845,  34.5878,2,  34.5877,2,     61.4,2,     63.7,6,   114.82,2,    42.77,2,     0.00,2,     3.02,2,    0.006,2,    0.003,2, -999.000,9, -999.000,9, -999.000,9,-999.0000,9,  -999.00,9,   -999.0,9,   -999.0,9,   2343.2,3,   1657.0,2,   2374.0,2,     7.44,2,   20.00,  -999.0,-999.0000,-999.000,   25.00,  -999.0,  3.4871,-999.000
    31DSCG94_3,  P18N,   159,  1,    114,   1016,2,19940417,0757,  5.5000,-110.3350, 3932,   1400.2,   3.3314,  34.5972,2,  34.5974,2,     67.6,2,     68.5,2,   121.31,2,    42.44,2,     0.00,2,     3.02,2, -999.000,9, -999.000,9, -999.000,9, -999.000,9, -999.000,9,-999.0000,9,  -999.00,9,   -999.0,9,   -999.0,9,   2347.6,3,   1632.6,2,   2380.0,2,     7.45,2,   20.00,  -999.0,-999.0000,-999.000,   25.00,  -999.0,  3.2282,-999.000
    31DSCG94_3,  P18N,   159,  1,    113,   1209,2,19940417,0757,  5.5000,-110.3350, 3932,   1600.2,   2.8915,  34.6134,2,  34.6151,2,     77.4,2,     77.3,2,   131.61,2,    42.11,2,     0.00,2,     2.98,2, -999.000,9, -999.000,9, -999.000,9, -999.000,9, -999.000,9,-999.0000,9,  -999.00,9,   -999.0,9,   -999.0,9,   2331.2,3,   1585.1,2,   2399.0,2,     7.46,2,   20.00,  -999.0,-999.0000,-999.000,   25.00,  -999.0,  2.7765,-999.000
    31DSCG94_3,  P18N,   159,  1,    112,   1033,2,19940417,0757,  5.5000,-110.3350, 3932,   1800.6,   2.5902,  34.6270,2,  34.6266,2,     88.5,2,     84.8,2,   137.66,2,    41.63,2,     0.00,2,     2.89,2,    0.001,2,   -0.001,2, -999.000,9, -999.000,9, -999.000,9,-999.0000,9,  -999.00,9,   -999.0,9,   -999.0,9,   2355.7,3,   1529.3,2,   2402.0,2,     7.48,2,   20.00,  -999.0,-999.0000,-999.000,   25.00,  -999.0,  2.4620,-999.000
    31DSCG94_3,  P18N,   159,  1,    111,   1240,2,19940417,0757,  5.5000,-110.3350, 3932,   1999.8,   2.3029,  34.6407,2,  34.6412,2,     97.7,2,     95.1,2,   143.72,2,    40.71,2,     0.00,2,     2.83,2, -999.000,9, -999.000,9, -999.000,9, -999.000,9, -999.000,9,-999.0000,9,  -999.00,9,   -999.0,9,   -999.0,9,   2358.1,3,   1468.2,2,   2417.0,2,     7.49,2,   20.00,  -999.0,-999.0000,-999.000,   25.00,  -999.0,  2.1619,-999.000
    31DSCG94_3,  P18N,   159,  1,    110,   1005,2,19940417,0757,  5.5000,-110.3350, 3932,   2249.2,   2.0222,  34.6555,2,  34.6555,2,    106.0,2,    106.3,2,   149.68,2,    39.93,2,     0.00,2,     2.78,2, -999.000,9, -999.000,9, -999.000,9, -999.000,9, -999.000,9,-999.0000,9,  -999.00,9,   -999.0,9,   -999.0,9,   2356.7,3,   1388.9,2,   2421.0,2,     7.52,2,   20.00,  -999.0,-999.0000,-999.000,   25.00,  -999.0,  1.8639,-999.000
    31DSCG94_3,  P18N,   159,  1,    109,   1611,2,19940417,0757,  5.5000,-110.3350, 3932,   2498.9,   1.8640,  34.6650,2,  34.6658,2,    112.2,2,    111.2,2,   154.36,2,    39.47,2,     0.00,2,     2.75,2,    0.005,2,    0.005,2, -999.000,9, -999.000,9, -999.000,9,-999.0000,9,  -999.00,9,   -999.0,9,   -999.0,9,   2359.2,3,   1360.4,2,   2432.0,2,     7.53,2,   20.00,  -999.0,-999.0000,-999.000,   25.00,  -999.0,  1.6862,-999.000
    31DSCG94_3,  P18N,   159,  1,    108,   1218,2,19940417,0757,  5.5000,-110.3350, 3932,   2750.2,   1.8212,  34.6687,2,  34.6677,2,    114.4,2,    113.4,2,   156.82,2,    39.10,2,     0.00,2,     2.71,2, -999.000,9, -999.000,9, -999.000,9, -999.000,9, -999.000,9,-999.0000,9,  -999.00,9,   -999.0,9,   -999.0,9,   2361.8,3,   1295.3,2,   2447.0,2,     7.53,2,   20.00,  -999.0,-999.0000,-999.000,   25.00,  -999.0,  1.6211,-999.000
    31DSCG94_3,  P18N,   159,  1,    107,   1257,2,19940417,0757,  5.5000,-110.3350, 3932,   2999.2,   1.7438,  34.6732,2,  34.6723,2,    119.2,2,    119.3,2,   158.79,2,    39.02,2,     0.00,2,     2.70,2,   -0.001,2,    0.001,2, -999.000,9, -999.000,9, -999.000,9,-999.0000,9,  -999.00,9,   -999.0,9,   -999.0,9,   2358.1,3,   1314.8,2,   2434.0,2,     7.54,2,   20.00,  -999.0,-999.0000,-999.000,   25.00,  -999.0,  1.5217,-999.000
    31DSCG94_3,  P18N,   159,  1,    106,   1224,2,19940417,0757,  5.5000,-110.3350, 3932,   3252.2,   1.5893,  34.6809,2,  34.6810,2,    130.6,2,    132.1,2,   155.32,2,    38.39,2,     0.00,2,     2.61,2, -999.000,9, -999.000,9, -999.000,9, -999.000,9, -999.000,9,-999.0000,9,  -999.00,9,   -999.0,9,   -999.0,9,   2348.6,3,   1258.0,2,   2458.0,2,     7.57,2,   20.00,  -999.0,-999.0000,-999.000,   25.00,  -999.0,  1.3459,-999.000
    31DSCG94_3,  P18N,   159,  1,    105,   1246,2,19940417,0757,  5.5000,-110.3350, 3932,   3501.1,   1.5508,  34.6838,2,  34.6839,2,    137.6,2,    138.3,2,   153.33,2,    38.18,2,     0.00,2,     2.56,2,    0.002,2,    0.002,2, -999.000,9, -999.000,9, -999.000,9,-999.0000,9,  -999.00,9,   -999.0,9,   -999.0,9,   2344.9,2,   1205.7,2,   2434.0,2,     7.57,2,   20.00,  -999.0,-999.0000,-999.000,   25.00,  -999.0,  1.2832,-999.000
    31DSCG94_3,  P18N,   159,  1,    104,   1217,2,19940417,0757,  5.5000,-110.3350, 3932,   3746.6,   1.5060,  34.6867,2,  34.6873,2,    143.3,2,    144.1,2,   150.99,2,    37.78,2,     0.00,2,     2.52,2, -999.000,9, -999.000,9, -999.000,9, -999.000,9, -999.000,9,-999.0000,9,  -999.00,9,   -999.0,9,   -999.0,9,   2341.4,2,   1173.7,2,   2435.0,2,     7.58,2,   20.00,  -999.0,-999.0000,-999.000,   25.00,  -999.0,  1.2141,-999.000
    31DSCG94_3,  P18N,   159,  1,    103,   9999,2,19940417,0757,  5.5000,-110.3350, 3932,   3747.8,   1.5039,  34.6868,2,  34.6903,3,    143.3,2,    144.1,2,   150.68,2,    37.73,2,     0.00,2,     2.53,2,    0.010,2,   -0.002,2, -999.000,9, -999.000,9, -999.000,9,-999.0000,9,  -999.00,9,   -999.0,9,   -999.0,9,   2340.5,2,   1164.2,2,   2433.0,2,     7.59,2,   20.00,  -999.0,-999.0000,-999.000,   25.00,  -999.0,  1.2119,-999.000
    31DSCG94_3,  P18N,   159,  1,    102,   1223,2,19940417,0757,  5.5000,-110.3350, 3932,   3966.0,   1.5069,  34.6878,2,  34.6867,2,    147.5,2,    147.2,2,   150.17,2,    37.75,2,     0.00,2,     2.51,2, -999.000,9, -999.000,9, -999.000,9, -999.000,9, -999.000,9,-999.0000,9,  -999.00,9,   -999.0,9,   -999.0,9,   2339.3,2,   1153.9,2,   2433.0,2,     7.59,2,   20.00,  -999.0,-999.0000,-999.000,   25.00,  -999.0,  1.1914,-999.000