BOTTLE,20220630CCHSIOAMB
EXPOCODE,SECT_ID,STNNBR,CASTNO,SAMPNO,BTLNBR,BTLNBR_FLAG_W,DATE,TIME,LATITUDE,LONGITUDE,DEPTH,CTDPRS,CTDTMP,CTDSAL,CTDSAL_FLAG_W,SALNTY,SALNTY_FLAG_W,CTDOXY,CTDOXY_FLAG_W,OXYGEN,OXYGEN_FLAG_W,SILCAT,SILCAT_FLAG_W,NITRAT,NITRAT_FLAG_W,NITRIT,NITRIT_FLAG_W,PHSPHT,PHSPHT_FLAG_W,CFC-11,CFC-11_FLAG_W,CFC-12,CFC-12_FLAG_W,CFC113,CFC113_FLAG_W,CCL4,CCL4_FLAG_W,TRITUM,TRITUM_FLAG_W,HELIUM,HELIUM_FLAG_W,DELHE3,DELHE3_FLAG_W,DELC14,DELC14_FLAG_W,DELC13,DELC13_FLAG_W,TCARBN,TCARBN_FLAG_W,PCO2,PCO2_FLAG_W,ALKALI,ALKALI_FLAG_W,PH,PH_FLAG_W,PCO2TMP,C14ERR,HELIER,DELHER,PH_TMP,C13ERR,THETA,TRITER
,,,,,,,,,,,,DBAR,ITS-90,PSS-78,,PSS-78,,UMOL/KG,,UMOL/KG,,UMOL/KG,,UMOL/KG,,UMOL/KG,,UMOL/KG,,PMOL/KG,,PMOL/KG,,PMOL/KG,,PMOL/KG,,TU,,NMOL/KG,,PERCNT,,/MILLE,,/MILLE,,UMOL/KG,,UATM,,UMOL/KG,,,,DEG C,/MILLE,NMOL/KG,PERCNT,DEG C,/MILLE,DEG C,TU
    31DSCG94_2,  P18S,    74,  1,    136,   1025,2,19940319,1414,-32.5000,-103.0000, 3568,     11.5,  22.1148,  34.9316,2,  34.9318,2,    223.6,2,    218.6,2,     1.67,2,     0.06,2,     0.00,2,     0.17,2,    2.144,2,    1.167,2, -999.000,9, -999.000,9,    0.607,2,   1.7697,2,    -1.25,2,   -999.0,9,   -999.0,9,   2012.3,3,    342.9,2,   2296.0,6,     8.03,2,   20.00,  -999.0,-999.0000,-999.000,   25.00,  -999.0, 22.1125,   0.007
    31DSCG94_2,  P18S,    74,  1,    135,   1247,2,19940319,1414,-32.5000,-103.0000, 3568,     23.9,  22.1171,  34.9351,2,  34.9347,2,    222.1,2,    218.6,2,     1.51,2,     0.05,2,     0.00,2,     0.13,2, -999.000,9, -999.000,9, -999.000,9, -999.000,9, -999.000,9,-999.0000,9,  -999.00,9,   -999.0,9,   -999.0,9,   2012.4,3,    341.5,2,   2295.0,2,     8.03,2,   20.00,  -999.0,-999.0000,-999.000,   25.00,  -999.0, 22.1124,-999.000
    31DSCG94_2,  P18S,    74,  1,    134,   1108,2,19940319,1414,-32.5000,-103.0000, 3568,     48.4,  19.3926,  34.7075,2,  34.7075,2,    231.9,2,    247.2,2,     1.37,2,     0.01,2,     0.00,2,     0.11,2,    2.685,2,    1.414,2, -999.000,9, -999.000,9,    0.666,2,   1.7688,2,    -1.58,2,   -999.0,9,   -999.0,9,   2011.3,3,    354.2,2,   2283.0,2,     8.01,2,   20.00,  -999.0,-999.0000,-999.000,   25.00,  -999.0, 19.3839,   0.007
    31DSCG94_2,  P18S,    74,  1,    133,   1244,2,19940319,1414,-32.5000,-103.0000, 3568,     72.9,  17.9642,  34.7068,2,  34.7112,2,    245.4,2,    251.3,2,     1.52,2,     0.01,2,     0.00,2,     0.13,2, -999.000,9, -999.000,9, -999.000,9, -999.000,9, -999.000,9,-999.0000,9,  -999.00,9,   -999.0,9,   -999.0,9,   2009.1,3,    352.2,2,   2281.0,2,     8.01,2,   20.00,  -999.0,-999.0000,-999.000,   25.00,  -999.0, 17.9517,-999.000
    31DSCG94_2,  P18S,    74,  1,    132,   1003,2,19940319,1414,-32.5000,-103.0000, 3568,    101.3,  16.7208,  34.6687,2,  34.6948,3,    244.3,2,    248.8,2,     1.54,2,     0.02,2,     0.00,2,     0.17,2,    2.769,2,    1.442,2, -999.000,9, -999.000,9,    0.649,2,   1.7429,2,    -1.36,2,   -999.0,9,   -999.0,9,   2010.8,3,    356.9,2,   2284.0,2,     8.01,2,   20.00,  -999.0,-999.0000,-999.000,   25.00,  -999.0, 16.7043,   0.007
    31DSCG94_2,  P18S,    74,  1,    131,   1211,2,19940319,1414,-32.5000,-103.0000, 3568,    125.0,  15.8851,  34.5707,2,  34.5775,2,    242.5,2,    245.9,2,     1.32,2,     0.00,2,     0.00,2,     0.19,2, -999.000,9, -999.000,9, -999.000,9, -999.000,9, -999.000,9,-999.0000,9,  -999.00,9,   -999.0,9,   -999.0,9,   2016.8,3,    378.1,3,   2273.0,2,     7.99,2,   20.00,  -999.0,-999.0000,-999.000,   25.00,  -999.0, 15.8655,-999.000
    31DSCG94_2,  P18S,    74,  1,    130,   1241,2,19940319,1414,-32.5000,-103.0000, 3568,    151.4,  15.2554,  34.5498,2,  34.5486,2,    238.1,2,    235.1,2,     1.52,2,     0.94,2,     0.14,2,     0.26,2, -999.000,9, -999.000,9, -999.000,9, -999.000,9, -999.000,9,-999.0000,9,  -999.00,9,   -999.0,9,   -999.0,9,   2030.1,2,    401.5,2,   2271.0,2,     7.96,2,   20.00,  -999.0,-999.0000,-999.000,   25.00,  -999.0, 15.2324,-999.000
    31DSCG94_2,  P18S,    74,  1,    129,   1031,2,19940319,1414,-32.5000,-103.0000, 3568,    196.4,  13.9517,  34.6702,2,  34.6691,2,    218.0,2,   -999.0,9,     1.95,2,     5.40,2,     0.00,2,     0.54,2, -999.000,5, -999.000,5, -999.000,9, -999.000,9,    0.311,2,   1.7505,2,    -0.41,2,   -999.0,9,   -999.0,9,   2067.6,2,    484.8,2,   2282.0,2,     7.90,2,   20.00,  -999.0,-999.0000,-999.000,   25.00,  -999.0, 13.9234,   0.006
    31DSCG94_2,  P18S,    74,  1,    128,   1210,3,19940319,1414,-32.5000,-103.0000, 3568,    247.5,  12.3136,  34.5639,2,  34.5643,2,    213.2,2,   -999.0,9,     2.38,2,     9.28,2,     0.00,2,     0.82,2,    2.666,2,    1.350,2, -999.000,9, -999.000,9, -999.000,9,-999.0000,9,  -999.00,9,   -999.0,9,   -999.0,9,   -999.0,9,   -999.0,9,   -999.0,9,  -999.00,9, -999.00,  -999.0,-999.0000,-999.000, -999.00,  -999.0, 12.2809,-999.000
    31DSCG94_2,  P18S,    74,  1,    127,   1008,2,19940319,1414,-32.5000,-103.0000, 3568,    299.8,  10.1289,  34.4125,2,  34.4099,2,    216.2,2,    217.5,6,     3.46,2,    14.13,2,     0.00,2,     1.12,2, -999.000,9, -999.000,9, -999.000,9, -999.000,9, -999.000,9,-999.0000,9,  -999.00,9,   -999.0,9,   -999.0,9,   2104.9,2,    609.9,2,   2267.0,2,     7.80,2,   20.00,  -999.0,-999.0000,-999.000,   25.00,  -999.0, 10.0939,-999.000
    31DSCG94_2,  P18S,    74,  1,    126,   1007,3,19940319,1414,-32.5000,-103.0000, 3568,    349.6,   8.5278,  34.3492,2,  34.3556,2,    215.5,2,    210.8,2,     5.64,2,    18.86,2,     0.00,2,     1.37,2,    2.010,6,    0.978,6, -999.000,9, -999.000,9,    0.007,2,   1.7643,2,     0.26,2,   -999.0,9,   -999.0,9,   2127.7,2,    725.8,3,   2271.0,2,     7.74,2,   20.00,  -999.0,-999.0000,-999.000,   25.00,  -999.0,  8.4910,   0.003
    31DSCG94_2,  P18S,    74,  1,    125,   1203,2,19940319,1414,-32.5000,-103.0000, 3568,    401.0,   7.4879,  34.3321,2,  34.3312,2,    201.4,2,    196.9,2,     9.14,2,    23.44,2,     0.00,2,     1.67,2,    1.519,2,    0.745,2, -999.000,9, -999.000,9,    0.204,2,   1.8147,2,     0.47,2,   -999.0,9,   -999.0,9,   2151.8,3,    839.2,2,   2271.0,2,     7.68,2,   20.00,  -999.0,-999.0000,-999.000,   25.00,  -999.0,  7.4487,   0.005
    31DSCG94_2,  P18S,    74,  1,    123,   1101,2,19940319,1414,-32.5000,-103.0000, 3568,    500.4,   6.3875,  34.3210,2,  34.3210,2,    220.8,2,    217.6,2,    10.64,2,    24.96,2,     0.00,2,     1.71,2,    1.276,2,    0.632,2, -999.000,9, -999.000,9,    0.190,2,   1.7831,2,     0.44,2,   -999.0,9,   -999.0,9,   2152.3,3,    840.2,2,   2284.0,2,     7.69,2,   20.00,  -999.0,-999.0000,-999.000,   25.00,  -999.0,  6.3424,   0.004
    31DSCG94_2,  P18S,    74,  1,    121,   1206,2,19940319,1414,-32.5000,-103.0000, 3568,    600.6,   5.8404,  34.2936,2,  34.2976,2,    241.7,2,    246.0,2,    10.52,2,    23.88,2,     0.00,2,     1.67,2,    1.298,2,    0.657,2, -999.000,9, -999.000,9,    0.188,2,   1.7960,2,     0.49,2,   -999.0,9,   -999.0,9,   2138.4,2,    762.7,2,   2271.0,2,     7.73,2,   20.00,  -999.0,-999.0000,-999.000,   25.00,  -999.0,  5.7884,   0.005
    31DSCG94_2,  P18S,    74,  1,    119,   1248,2,19940319,1414,-32.5000,-103.0000, 3568,    700.5,   5.4005,  34.2719,2,  34.2719,2,    239.0,2,    241.3,2,    12.74,2,    24.97,2,     0.00,2,     1.74,2,    0.904,2,    0.472,2, -999.000,9, -999.000,9,    0.137,2,   1.7933,2,     0.57,2,   -999.0,9,   -999.0,9,   2142.0,3,    789.2,2,   2221.0,3,     7.71,2,   20.00,  -999.0,-999.0000,-999.000,   25.00,  -999.0,  5.3418,   0.004
    31DSCG94_2,  P18S,    74,  1,    118,   1207,2,19940319,1414,-32.5000,-103.0000, 3568,    800.3,   5.0175,  34.2630,2,  34.2629,2,    228.7,2,    229.9,2,    16.98,2,    27.03,2,     0.00,2,     1.84,2,    0.605,6,    0.317,6, -999.000,9, -999.000,9,    0.097,2,   1.8000,2,     0.98,2,   -999.0,9,   -999.0,9,   2158.1,2,    842.0,2,   2287.0,2,     7.69,2,   20.00,  -999.0,-999.0000,-999.000,   25.00,  -999.0,  4.9522,   0.004
    31DSCG94_2,  P18S,    74,  1,    117,   1119,2,19940319,1414,-32.5000,-103.0000, 3568,    901.2,   4.5498,  34.2735,2,  34.2748,2,    212.1,2,    213.5,2,    24.13,2,    29.79,2,     0.00,2,     2.01,2,    0.334,2,    0.190,2, -999.000,9, -999.000,9,    0.067,2,   1.8036,2,     1.55,2,   -999.0,9,   -999.0,9,   2176.9,2,    932.3,2,   -999.0,9,     7.65,2,   20.00,  -999.0,-999.0000,-999.000,   25.00,  -999.0,  4.4788,   0.005
    31DSCG94_2,  P18S,    74,  1,    116,   1036,2,19940319,1414,-32.5000,-103.0000, 3568,   1000.5,   4.0995,  34.3171,2,  34.3169,2,    188.0,2,    186.9,2,    35.79,2,    32.30,2,     0.00,2,     2.24,2,    0.068,2,    0.044,2, -999.000,9, -999.000,9,    0.023,2,-999.0000,9,  -999.00,9,   -999.0,9,   -999.0,9,   2203.0,2,   1042.8,2,   2302.0,6,     7.61,2,   20.00,  -999.0,-999.0000,-999.000,   25.00,  -999.0,  4.0233,   0.003
    31DSCG94_2,  P18S,    74,  1,    115,   1017,2,19940319,1414,-32.5000,-103.0000, 3568,   1100.3,   3.6971,  34.3705,2,  34.3696,2,    168.4,2,    164.5,2,    48.99,2,    34.33,2,     0.00,2,     2.38,2, -999.000,9, -999.000,9, -999.000,9, -999.000,9, -999.000,9,-999.0000,9,  -999.00,9,   -999.0,9,   -999.0,9,   -999.0,9,   -999.0,9,   -999.0,9,  -999.00,9, -999.00,  -999.0,-999.0000,-999.000, -999.00,  -999.0,  3.6158,-999.000
    31DSCG94_2,  P18S,    74,  1,    114,   1016,2,19940319,1414,-32.5000,-103.0000, 3568,   1200.5,   3.4378,  34.4351,2,  34.4339,2,    147.3,2,    142.4,2,    62.69,2,    36.32,2,     0.00,2,     2.53,2,    0.007,2,    0.000,2, -999.000,9, -999.000,9,   -0.001,2,   1.8513,2,     9.87,2,   -999.0,9,   -999.0,9,   -999.0,9,   -999.0,9,   -999.0,9,     7.53,2, -999.00,  -999.0,-999.0000,-999.000,   25.00,  -999.0,  3.3505,   0.003
    31DSCG94_2,  P18S,    74,  1,    113,   1209,2,19940319,1414,-32.5000,-103.0000, 3568,   1299.1,   3.2663,  34.4821,2,  34.4799,2,    132.9,2,    131.5,2,    72.61,2,    37.05,2,     0.00,2,     2.61,2, -999.000,9, -999.000,9, -999.000,9, -999.000,9, -999.000,9,-999.0000,9,  -999.00,9,   -999.0,9,   -999.0,9,   -999.0,9,   -999.0,9,   -999.0,9,  -999.00,9, -999.00,  -999.0,-999.0000,-999.000, -999.00,  -999.0,  3.1725,-999.000
    31DSCG94_2,  P18S,    74,  1,    112,   1033,2,19940319,1414,-32.5000,-103.0000, 3568,   1399.2,   3.0779,  34.5209,2,  34.5192,2,    127.5,2,    126.8,2,    81.80,2,    37.37,2,     0.00,2,     2.62,2, -999.000,9, -999.000,9, -999.000,9, -999.000,9, -999.000,9,-999.0000,9,  -999.00,9,   -999.0,9,   -999.0,9,   -999.0,9,   -999.0,9,   -999.0,9,     7.52,2, -999.00,  -999.0,-999.0000,-999.000,   25.00,  -999.0,  2.9776,-999.000
    31DSCG94_2,  P18S,    74,  1,    111,   1263,2,19940319,1414,-32.5000,-103.0000, 3568,   1596.4,   2.6755,  34.5723,2,  34.5705,2,    134.1,2,    136.7,2,    94.66,2,    36.59,2,     0.00,2,     2.50,2,   -0.004,2,    0.000,2, -999.000,9, -999.000,9,    0.003,2,   1.8906,2,    19.63,2,   -999.0,9,   -999.0,9,   -999.0,9,   -999.0,9,   -999.0,9,     7.54,2, -999.00,  -999.0,-999.0000,-999.000,   25.00,  -999.0,  2.5635,   0.003
    31DSCG94_2,  P18S,    74,  1,    110,   1005,2,19940319,1414,-32.5000,-103.0000, 3568,   1800.2,   2.3773,  34.6042,2,  34.6025,2,    147.3,2,    149.4,2,   100.14,2,    34.98,2,     0.00,2,     2.45,2,   -0.002,2,   -0.001,2, -999.000,9, -999.000,9,    0.001,2,   1.9254,2,    20.54,2,   -999.0,9,   -999.0,9,   -999.0,9,   -999.0,9,   -999.0,9,  -999.00,9, -999.00,  -999.0,-999.0000,-999.000, -999.00,  -999.0,  2.2522,   0.003
    31DSCG94_2,  P18S,    74,  1,    109,   1611,2,19940319,1414,-32.5000,-103.0000, 3568,   2003.0,   2.1244,  34.6395,2,  34.6378,2,    153.2,2,    156.6,6,   105.86,2,    34.33,2,     0.00,2,     2.40,2, -999.000,9, -999.000,9, -999.000,9, -999.000,9, -999.000,9,-999.0000,9,  -999.00,9,   -999.0,9,   -999.0,9,   -999.0,9,   -999.0,9,   -999.0,9,     7.57,2, -999.00,  -999.0,-999.0000,-999.000,   25.00,  -999.0,  1.9858,-999.000
    31DSCG94_2,  P18S,    74,  1,    108,   1218,2,19940319,1414,-32.5000,-103.0000, 3568,   2249.6,   1.9033,  34.6683,2,  34.6662,2,    159.4,2,    160.5,2,   112.11,2,    33.83,2,     0.00,2,     2.35,2,   -0.004,2,    0.000,2, -999.000,9, -999.000,9, -999.000,9,-999.0000,9,  -999.00,9,   -999.0,9,   -999.0,9,   -999.0,9,   -999.0,9,   -999.0,9,  -999.00,9, -999.00,  -999.0,-999.0000,-999.000, -999.00,  -999.0,  1.7470,-999.000
    31DSCG94_2,  P18S,    74,  1,    107,   1257,2,19940319,1414,-32.5000,-103.0000, 3568,   2498.7,   1.7957,  34.6794,2,  34.6779,2,    162.7,2,    164.3,2,   114.49,2,    33.50,2,     0.00,2,     2.35,2, -999.000,9, -999.000,9, -999.000,9, -999.000,9, -999.000,9,-999.0000,9,  -999.00,9,   -999.0,9,   -999.0,9,   -999.0,9,   -999.0,9,   -999.0,9,     7.59,2, -999.00,  -999.0,-999.0000,-999.000,   25.00,  -999.0,  1.6192,-999.000
    31DSCG94_2,  P18S,    74,  1,    106,   1224,2,19940319,1414,-32.5000,-103.0000, 3568,   2747.7,   1.7528,  34.6841,2,  34.6831,2,    165.4,2,    164.0,2,   115.22,2,    33.32,2,     0.00,2,     2.32,2, -999.000,9, -999.000,9, -999.000,9, -999.000,9, -999.000,9,-999.0000,9,  -999.00,9,   -999.0,9,   -999.0,9,   -999.0,9,   -999.0,9,   -999.0,9,  -999.00,9, -999.00,  -999.0,-999.0000,-999.000, -999.00,  -999.0,  1.5543,-999.000
    31DSCG94_2,  P18S,    74,  1,    105,   1246,2,19940319,1414,-32.5000,-103.0000, 3568,   3001.7,   1.7531,  34.6872,2,  34.6854,2,    166.3,2,    166.6,2,   115.15,2,    33.47,2,     0.00,2,     2.33,2, -999.000,9, -999.000,9, -999.000,9, -999.000,9, -999.000,9,-999.0000,9,  -999.00,9,   -999.0,9,   -999.0,9,   -999.0,9,   -999.0,9,   -999.0,9,     7.59,2, -999.00,  -999.0,-999.0000,-999.000,   25.00,  -999.0,  1.5305,-999.000
    31DSCG94_2,  P18S,    74,  1,    104,   1217,2,19940319,1414,-32.5000,-103.0000, 3568,   3248.0,   1.7667,  34.6886,2,  34.6871,2,    167.0,2,    165.6,6,   114.28,2,    33.64,2,     0.00,2,     2.35,2, -999.000,9, -999.000,9, -999.000,9, -999.000,9, -999.000,9,-999.0000,9,  -999.00,9,   -999.0,9,   -999.0,9,   -999.0,9,   -999.0,9,   -999.0,9,  -999.00,9, -999.00,  -999.0,-999.0000,-999.000, -999.00,  -999.0,  1.5195,-999.000
    31DSCG94_2,  P18S,    74,  1,    103,   9999,2,19940319,1414,-32.5000,-103.0000, 3568,   3497.8,   1.7810,  34.6899,2,  34.6879,2,    167.3,2,    167.1,2,   114.80,2,    33.98,2,     0.00,2,     2.36,2, -999.000,9, -999.000,9, -999.000,9, -999.000,9, -999.000,9,-999.0000,9,  -999.00,9,   -999.0,9,   -999.0,9,   -999.0,9,   -999.0,9,   -999.0,9,  -999.00,9, -999.00,  -999.0,-999.0000,-999.000, -999.00,  -999.0,  1.5079,-999.000
    31DSCG94_2,  P18S,    74,  1,    102,   1223,2,19940319,1414,-32.5000,-103.0000, 3568,   3501.0,   1.7811,  34.6896,2,  34.6879,2,    167.5,2,    167.4,2,   116.00,2,    33.72,2,     0.00,2,     2.37,2, -999.000,9, -999.000,9, -999.000,9, -999.000,9, -999.000,9,-999.0000,9,  -999.00,9,   -999.0,9,   -999.0,9,   -999.0,9,   -999.0,9,   -999.0,9,  -999.00,9, -999.00,  -999.0,-999.0000,-999.000, -999.00,  -999.0,  1.5077,-999.000
    31DSCG94_2,  P18S,    74,  1,    101,   1041,2,19940319,1414,-32.5000,-103.0000, 3568,   3623.8,   1.7940,  34.6899,2,  34.6883,2,    168.1,2,    168.0,2,   117.60,2,    33.76,2,     0.00,2,     2.33,2, -999.000,9, -999.000,9, -999.000,9, -999.000,9, -999.000,9,-999.0000,9,  -999.00,9,   -999.0,9,   -999.0,9,   -999.0,9,   -999.0,9,   -999.0,9,  -999.00,9, -999.00,  -999.0,-999.0000,-999.000, -999.00,  -999.0,  1.5074,-999.000