BOTTLE,20220630CCHSIOAMB
EXPOCODE,SECT_ID,STNNBR,CASTNO,SAMPNO,BTLNBR,BTLNBR_FLAG_W,DATE,TIME,LATITUDE,LONGITUDE,DEPTH,CTDPRS,CTDTMP,CTDSAL,CTDSAL_FLAG_W,SALNTY,SALNTY_FLAG_W,CTDOXY,CTDOXY_FLAG_W,OXYGEN,OXYGEN_FLAG_W,SILCAT,SILCAT_FLAG_W,NITRAT,NITRAT_FLAG_W,NITRIT,NITRIT_FLAG_W,PHSPHT,PHSPHT_FLAG_W,CFC-11,CFC-11_FLAG_W,CFC-12,CFC-12_FLAG_W,CFC113,CFC113_FLAG_W,CCL4,CCL4_FLAG_W,TRITUM,TRITUM_FLAG_W,HELIUM,HELIUM_FLAG_W,DELHE3,DELHE3_FLAG_W,DELC14,DELC14_FLAG_W,DELC13,DELC13_FLAG_W,TCARBN,TCARBN_FLAG_W,PCO2,PCO2_FLAG_W,ALKALI,ALKALI_FLAG_W,PH,PH_FLAG_W,PCO2TMP,C14ERR,HELIER,DELHER,PH_TMP,C13ERR,THETA,TRITER
,,,,,,,,,,,,DBAR,ITS-90,PSS-78,,PSS-78,,UMOL/KG,,UMOL/KG,,UMOL/KG,,UMOL/KG,,UMOL/KG,,UMOL/KG,,PMOL/KG,,PMOL/KG,,PMOL/KG,,PMOL/KG,,TU,,NMOL/KG,,PERCNT,,/MILLE,,/MILLE,,UMOL/KG,,UATM,,UMOL/KG,,,,DEG C,/MILLE,NMOL/KG,PERCNT,DEG C,/MILLE,DEG C,TU
    31DSCG94_3,  P18N,   105,  1,    136,   1025,2,19940402,2205,-16.9983,-102.9950, 3928,     10.1,  24.4702,  36.2864,2,  36.2825,2,    210.9,2,    210.2,2,  -999.00,9,  -999.00,9,  -999.00,9,  -999.00,9,    1.976,2,    1.087,2, -999.000,9, -999.000,9, -999.000,9,-999.0000,9,  -999.00,9,     81.3,2,      1.8,2,   2060.1,2,    309.2,2,   2393.0,6,     8.07,2,   20.00,     2.9,-999.0000,-999.000,   25.00,  -999.0, 24.4681,-999.000
    31DSCG94_3,  P18N,   105,  1,    135,   1247,2,19940402,2205,-16.9983,-102.9950, 3928,     23.8,  24.2265,  36.2786,2,  36.2769,2,    213.4,2,    210.2,6,     1.73,2,     0.05,2,     0.00,2,     0.25,2,    1.967,2,    1.097,2, -999.000,9, -999.000,9, -999.000,9,-999.0000,9,  -999.00,9,    101.1,2,      1.8,2,   2060.3,2,   -999.0,9,   2394.0,2,     8.07,2, -999.00,     5.5,-999.0000,-999.000,   25.00,  -999.0, 24.2214,-999.000
    31DSCG94_3,  P18N,   105,  1,    134,   1216,2,19940402,2205,-16.9983,-102.9950, 3928,     50.9,  24.1280,  36.3052,2,  36.3030,2,    213.4,2,    210.4,2,     1.88,2,     0.00,2,     0.00,2,     0.25,2,    1.974,6,    1.143,6, -999.000,9, -999.000,9, -999.000,9,-999.0000,9,  -999.00,9,     88.2,2,      1.8,2,   2060.3,2,    307.8,2,   2395.0,2,     8.07,2,   20.00,     4.4,-999.0000,-999.000,   25.00,  -999.0, 24.1172,-999.000
    31DSCG94_3,  P18N,   105,  1,    133,   1244,2,19940402,2205,-16.9983,-102.9950, 3928,     74.0,  23.6368,  36.2732,2,  36.2747,2,    217.2,2,    214.7,2,     2.09,2,     0.01,2,     0.00,2,     0.31,2,    2.007,2,    1.092,2, -999.000,9, -999.000,9, -999.000,9,-999.0000,9,  -999.00,9,     87.6,2,      1.8,2,   2059.7,2,   -999.0,9,   2395.0,2,     8.07,2, -999.00,     3.4,-999.0000,-999.000,   25.00,  -999.0, 23.6213,-999.000
    31DSCG94_3,  P18N,   105,  1,    132,   1003,2,19940402,2205,-16.9983,-102.9950, 3928,    100.3,  22.4244,  36.1815,2,  36.1777,2,    219.5,2,    218.2,2,     2.04,2,     0.01,2,     0.00,2,     0.31,2,    2.127,2,    1.172,2, -999.000,9, -999.000,9, -999.000,9,-999.0000,9,  -999.00,9,     94.8,2,      1.9,2,   2061.5,2,    317.1,2,   2387.0,2,     8.06,2,   20.00,     4.8,-999.0000,-999.000,   25.00,  -999.0, 22.4042,-999.000
    31DSCG94_3,  P18N,   105,  1,    131,   1211,2,19940402,2205,-16.9983,-102.9950, 3928,    121.8,  22.0058,  36.1688,2,  36.1566,2,    214.7,2,    216.9,2,     2.02,2,     0.00,2,     0.00,2,     0.33,2, -999.000,5, -999.000,5, -999.000,9, -999.000,9, -999.000,9,-999.0000,9,  -999.00,9,   -999.0,9,   -999.0,9,   2068.1,2,   -999.0,9,   2390.0,2,     8.05,2, -999.00,  -999.0,-999.0000,-999.000,   25.00,  -999.0, 21.9816,-999.000
    31DSCG94_3,  P18N,   105,  1,    130,   1241,2,19940402,2205,-16.9983,-102.9950, 3928,    147.9,  21.1552,  35.9883,2,  35.9809,2,    214.0,2,    214.2,2,     1.78,2,     0.11,2,     0.09,2,     0.33,2,    2.222,6,    1.210,6, -999.000,9, -999.000,9, -999.000,9,-999.0000,9,  -999.00,9,    115.1,2,      1.7,2,   2070.5,2,   -999.0,9,   2375.0,2,     8.03,2, -999.00,     3.6,-999.0000,-999.000,   25.00,  -999.0, 21.1266,-999.000
    31DSCG94_3,  P18N,   105,  1,    129,   1240,2,19940402,2205,-16.9983,-102.9950, 3928,    199.4,  18.4935,  35.4275,2,  35.4603,3,    202.4,2,    206.6,2,     1.86,2,     1.61,2,     0.11,2,     0.42,2,    2.361,2,    1.266,2, -999.000,9, -999.000,9, -999.000,9,-999.0000,9,  -999.00,9,    119.2,2,      1.6,2,   2072.3,2,    398.3,2,   2339.0,2,     7.98,2,   20.00,     4.2,-999.0000,-999.000,   25.00,  -999.0, 18.4585,-999.000
    31DSCG94_3,  P18N,   105,  1,    128,   1032,2,19940402,2205,-16.9983,-102.9950, 3928,    247.4,  14.8549,  34.8641,2,  34.8569,2,    179.8,2,    181.3,2,     3.50,2,     7.74,2,     0.00,2,     0.80,2,    2.220,2,    1.147,2, -999.000,9, -999.000,9, -999.000,9,-999.0000,9,  -999.00,9,   -999.0,9,   -999.0,9,   2092.6,3,   -999.0,9,   2301.0,2,     7.87,2, -999.00,  -999.0,-999.0000,-999.000,   25.00,  -999.0, 14.8177,-999.000
    31DSCG94_3,  P18N,   105,  1,    127,   1008,2,19940402,2205,-16.9983,-102.9950, 3928,    294.0,  11.9734,  34.5772,2,-999.0000,5,    146.3,2,    133.1,2,  -999.00,9,  -999.00,9,  -999.00,9,  -999.00,9,    1.484,6,    0.760,6, -999.000,9, -999.000,9, -999.000,9,-999.0000,9,  -999.00,9,     65.5,2,      0.9,2,   2148.3,3,    807.9,2,   2284.0,2,  -999.00,9,   20.00,     4.2,-999.0000,-999.000, -999.00,  -999.0, 11.9351,-999.000
    31DSCG94_3,  P18N,   105,  1,    126,   1007,2,19940402,2205,-16.9983,-102.9950, 3928,    349.0,  10.0355,  34.5364,2,  34.5361,2,     73.5,2,     69.4,2,    18.94,2,    26.61,2,     0.00,2,     2.26,2,    0.494,2,    0.273,2, -999.000,9, -999.000,9, -999.000,9,-999.0000,9,  -999.00,9,   -999.0,9,   -999.0,9,   2219.7,3,   -999.0,9,   2284.0,2,     7.51,2, -999.00,  -999.0,-999.0000,-999.000,   25.00,  -999.0,  9.9948,-999.000
    31DSCG94_3,  P18N,   105,  1,    125,   1203,2,19940402,2205,-16.9983,-102.9950, 3928,    400.3,   8.7503,  34.5127,2,  34.5119,2,     58.7,2,     58.4,2,    22.84,2,    32.49,2,     0.00,2,     2.53,2,    0.197,2,    0.118,2, -999.000,9, -999.000,9, -999.000,9,-999.0000,9,  -999.00,9,    -57.6,2,      0.4,2,   2240.6,3,   1547.5,3,   2288.0,2,     7.45,2,   20.00,     2.8,-999.0000,-999.000,   25.00,  -999.0,  8.7073,-999.000
    31DSCG94_3,  P18N,   105,  1,    123,   1220,2,19940402,2205,-16.9983,-102.9950, 3928,    498.9,   7.0855,  34.4725,2,  34.4717,2,     83.6,2,     79.8,2,    28.12,2,    36.44,2,     0.00,2,     2.58,2,    0.054,6,    0.031,6, -999.000,9, -999.000,9, -999.000,9,-999.0000,9,  -999.00,9,    -95.2,2,      0.4,2,   2239.6,3,   1486.3,2,   2289.0,2,     7.47,2,   20.00,     4.1,-999.0000,-999.000,   25.00,  -999.0,  7.0378,-999.000
    31DSCG94_3,  P18N,   105,  1,    122,   1245,2,19940402,2205,-16.9983,-102.9950, 3928,    597.9,   6.1691,  34.4630,2,  34.4635,2,     83.6,2,     78.1,2,    36.65,2,    39.14,2,     0.00,2,     2.76,2,    0.011,2,    0.007,2, -999.000,9, -999.000,9, -999.000,9,-999.0000,9,  -999.00,9,   -999.0,9,      0.4,2,   2254.1,3,   1538.9,2,   2298.0,2,     7.46,2,   20.00,  -999.0,-999.0000,-999.000,   25.00,  -999.0,  6.1157,-999.000
    31DSCG94_3,  P18N,   105,  1,    121,   1206,2,19940402,2205,-16.9983,-102.9950, 3928,    698.8,   5.5477,  34.4760,2,  34.4759,2,     74.5,2,     69.6,2,    48.80,2,    40.56,2,     0.00,2,     2.89,2,    0.000,2,   -0.002,2, -999.000,9, -999.000,9, -999.000,9,-999.0000,9,  -999.00,9,   -134.6,2,      0.3,2,   2270.8,3,   1616.3,2,   2313.0,2,     7.44,2,   20.00,     4.6,-999.0000,-999.000,   25.00,  -999.0,  5.4881,-999.000
    31DSCG94_3,  P18N,   105,  1,    120,   1028,2,19940402,2205,-16.9983,-102.9950, 3928,    798.2,   5.0386,  34.4869,2,  34.4876,2,     73.0,2,     71.7,2,    59.71,2,    41.39,2,     0.00,2,     2.94,2,    0.002,2,   -0.002,2, -999.000,9, -999.000,9, -999.000,9,-999.0000,9,  -999.00,9,   -999.0,9,   -999.0,9,   2280.8,2,   1630.0,2,   2330.0,2,     7.44,2,   20.00,  -999.0,-999.0000,-999.000,   25.00,  -999.0,  4.9730,-999.000
    31DSCG94_3,  P18N,   105,  1,    119,   1248,2,19940402,2205,-16.9983,-102.9950, 3928,    899.7,   4.6259,  34.5029,2,  34.5029,2,     74.1,2,     72.8,2,    69.15,2,    41.74,2,     0.00,2,     2.97,2,    0.002,2,   -0.002,2, -999.000,9, -999.000,9, -999.000,9,-999.0000,9,  -999.00,9,   -164.6,2,      0.1,2,   2291.3,2,   1629.8,2,   2331.0,2,     7.44,2,   20.00,     2.6,-999.0000,-999.000,   25.00,  -999.0,  4.5542,-999.000
    31DSCG94_3,  P18N,   105,  1,    118,   1115,2,19940402,2205,-16.9983,-102.9950, 3928,   1000.7,   4.2155,  34.5189,2,  34.5207,2,     81.1,2,     79.9,2,    80.83,2,    41.39,2,     0.01,2,     2.93,2,   -0.001,2,   -0.002,2, -999.000,9, -999.000,9, -999.000,9,-999.0000,9,  -999.00,9,   -177.6,2,      0.1,2,   2299.8,2,   1593.5,2,   2340.0,6,     7.45,2,   20.00,     3.1,-999.0000,-999.000,   25.00,  -999.0,  4.1381,-999.000
    31DSCG94_3,  P18N,   105,  1,    117,   1119,2,19940402,2205,-16.9983,-102.9950, 3928,   1100.8,   3.8990,  34.5356,2,  34.5355,2,     81.7,2,     81.7,2,    88.30,2,    41.44,2,     0.00,2,     2.94,2, -999.000,9, -999.000,9, -999.000,9, -999.000,9, -999.000,9,-999.0000,9,  -999.00,9,   -999.0,9,   -999.0,9,   2306.4,2,   1582.1,2,   2355.0,2,     7.45,2,   20.00,  -999.0,-999.0000,-999.000,   25.00,  -999.0,  3.8156,-999.000
    31DSCG94_3,  P18N,   105,  1,    116,   1036,2,19940402,2205,-16.9983,-102.9950, 3928,   1200.6,   3.6006,  34.5507,2,  34.5512,2,     85.9,2,     85.1,2,    93.87,2,    41.30,2,     0.00,2,     2.93,2, -999.000,9, -999.000,9, -999.000,9, -999.000,9, -999.000,9,-999.0000,9,  -999.00,9,   -196.8,2,      0.1,2,   2312.6,2,   1567.9,2,   2359.0,2,     7.46,2,   20.00,     3.2,-999.0000,-999.000,   25.00,  -999.0,  3.5116,-999.000
    31DSCG94_3,  P18N,   105,  1,    115,   1017,2,19940402,2205,-16.9983,-102.9950, 3928,   1298.0,   3.3562,  34.5650,2,  34.5654,2,     88.0,2,     87.9,2,    99.09,2,    41.70,2,     0.00,2,     2.89,2, -999.000,9, -999.000,9, -999.000,9, -999.000,9, -999.000,9,-999.0000,9,  -999.00,9,   -999.0,9,   -999.0,9,   2317.9,2,   1552.8,2,   2367.0,2,     7.46,2,   20.00,  -999.0,-999.0000,-999.000,   25.00,  -999.0,  3.2613,-999.000
    31DSCG94_3,  P18N,   105,  1,    114,   1016,2,19940402,2205,-16.9983,-102.9950, 3928,   1392.3,   3.1100,  34.5796,2,  34.5811,2,     92.9,2,     92.2,2,   104.35,2,    41.05,2,     0.00,2,     2.86,2, -999.000,9, -999.000,9, -999.000,9, -999.000,9, -999.000,9,-999.0000,9,  -999.00,9,   -212.9,2,      0.1,2,   2323.2,2,   1523.4,2,   2376.0,2,     7.47,2,   20.00,     3.0,-999.0000,-999.000,   25.00,  -999.0,  3.0098,-999.000
    31DSCG94_3,  P18N,   105,  1,    113,   1209,2,19940402,2205,-16.9983,-102.9950, 3928,   1499.0,   2.8782,  34.5934,2,  34.5944,2,     98.0,2,     97.1,2,   109.38,2,    40.57,2,     0.00,2,     2.84,2, -999.000,5, -999.000,5, -999.000,9, -999.000,9, -999.000,9,-999.0000,9,  -999.00,9,   -999.0,9,   -999.0,9,   2325.0,2,   1490.1,2,   2382.0,2,     7.48,2,   20.00,  -999.0,-999.0000,-999.000,   25.00,  -999.0,  2.7718,-999.000
    31DSCG94_3,  P18N,   105,  1,    112,   1033,2,19940402,2205,-16.9983,-102.9950, 3928,   1597.5,   2.7206,  34.6037,2,  34.6045,2,    102.7,2,    101.8,2,   113.01,2,    40.10,2,     0.00,2,     2.79,2, -999.000,9, -999.000,9, -999.000,9, -999.000,9, -999.000,9,-999.0000,9,  -999.00,9,   -222.8,2,      0.1,2,   2328.6,2,   1456.4,2,   2383.0,2,     7.49,2,   20.00,     3.0,-999.0000,-999.000,   25.00,  -999.0,  2.6079,-999.000
    31DSCG94_3,  P18N,   105,  1,    111,   1240,2,19940402,2205,-16.9983,-102.9950, 3928,   1798.4,   2.4246,  34.6230,2,  34.6244,2,    114.3,2,    113.8,2,   118.02,2,    39.14,2,     0.00,2,     2.72,2, -999.000,9, -999.000,9, -999.000,9, -999.000,9, -999.000,9,-999.0000,9,  -999.00,9,   -223.5,2,      0.1,2,   2326.9,2,   1378.7,2,   2396.0,2,     7.51,2,   20.00,     3.2,-999.0000,-999.000,   25.00,  -999.0,  2.2989,-999.000
    31DSCG94_3,  P18N,   105,  1,    110,   1005,2,19940402,2205,-16.9983,-102.9950, 3928,   1997.7,   2.1530,  34.6405,2,  34.6423,2,    130.6,2,    130.6,2,   118.49,2,    37.37,2,     0.00,2,     2.56,2, -999.000,9, -999.000,9, -999.000,9, -999.000,9, -999.000,9,-999.0000,9,  -999.00,9,   -999.0,9,   -999.0,5,   2317.8,2,   1287.7,2,   2395.0,2,     7.54,2,   20.00,  -999.0,-999.0000,-999.000,   25.00,  -999.0,  2.0144,-999.000
    31DSCG94_3,  P18N,   105,  1,    109,   1611,2,19940402,2205,-16.9983,-102.9950, 3928,   2248.5,   1.9310,  34.6577,2,  34.6587,2,    146.8,2,    146.4,6,   118.38,2,    36.22,2,     0.00,2,     2.46,2, -999.000,9, -999.000,9, -999.000,9, -999.000,9, -999.000,9,-999.0000,9,  -999.00,9,   -999.0,9,   -999.0,9,   2308.8,2,   1198.7,2,   2397.0,2,     7.57,2,   20.00,  -999.0,-999.0000,-999.000,   25.00,  -999.0,  1.7744,-999.000
    31DSCG94_3,  P18N,   105,  1,    108,   1218,2,19940402,2205,-16.9983,-102.9950, 3928,   2499.4,   1.8367,  34.6692,2,  34.6693,2,    151.2,2,    149.8,2,   120.82,2,    36.28,2,     0.00,2,     2.46,2, -999.000,9, -999.000,9, -999.000,9, -999.000,9, -999.000,9,-999.0000,9,  -999.00,9,   -218.2,2,      0.2,2,   2312.0,2,   1173.6,2,   2405.0,2,     7.58,2,   20.00,     3.1,-999.0000,-999.000,   25.00,  -999.0,  1.6594,-999.000
    31DSCG94_3,  P18N,   105,  1,    107,   1257,2,19940402,2205,-16.9983,-102.9950, 3928,   2749.5,   1.7987,  34.6758,2,  34.6761,2,    148.2,2,    147.1,2,   131.32,2,    36.63,2,     0.00,2,     2.47,2, -999.000,9, -999.000,9, -999.000,9, -999.000,9, -999.000,9,-999.0000,9,  -999.00,9,   -999.0,9,   -999.0,9,   2321.3,2,   -999.0,9,   2413.0,2,     7.58,2, -999.00,  -999.0,-999.0000,-999.000,   25.00,  -999.0,  1.5991,-999.000
    31DSCG94_3,  P18N,   105,  1,    106,   1224,2,19940402,2205,-16.9983,-102.9950, 3928,   3000.2,   1.7926,  34.6777,2,  34.6791,2,    144.7,2,   -999.0,9,   135.02,2,    36.64,2,     0.00,2,     2.47,2, -999.000,9, -999.000,9, -999.000,9, -999.000,9, -999.000,9,-999.0000,9,  -999.00,9,   -226.8,2,      0.1,2,   2327.1,2,   1177.6,2,   2423.0,2,     7.58,2,   20.00,     2.6,-999.0000,-999.000,   25.00,  -999.0,  1.5693,-999.000
    31DSCG94_3,  P18N,   105,  1,    105,   1246,2,19940402,2205,-16.9983,-102.9950, 3928,   3247.9,   1.7973,  34.6791,2,  34.6789,2,    142.9,2,    143.8,2,   135.86,2,    36.31,2,     0.00,2,     2.48,2, -999.000,9, -999.000,9, -999.000,9, -999.000,9, -999.000,9,-999.0000,9,  -999.00,9,   -999.0,9,   -999.0,9,   2328.2,2,   -999.0,9,   2426.0,2,  -999.00,9, -999.00,  -999.0,-999.0000,-999.000, -999.00,  -999.0,  1.5494,-999.000
    31DSCG94_3,  P18N,   105,  1,    104,   1217,2,19940402,2205,-16.9983,-102.9950, 3928,   3498.4,   1.8070,  34.6818,2,  34.6824,2,    146.8,2,   -999.0,9,   133.52,2,    35.97,2,     0.00,2,     2.47,2, -999.000,9, -999.000,9, -999.000,9, -999.000,9, -999.000,9,-999.0000,9,  -999.00,9,   -220.0,2,      0.1,2,   2325.0,2,   1165.7,2,   2416.0,2,     7.58,2,   20.00,     3.2,-999.0000,-999.000,   25.00,  -999.0,  1.5332,-999.000
    31DSCG94_3,  P18N,   105,  1,    103,   9999,2,19940402,2205,-16.9983,-102.9950, 3928,   3750.0,   1.8213,  34.6837,2,  34.6846,2,    149.0,2,    147.7,6,   128.88,2,    35.87,2,     0.00,2,     2.44,2,    0.001,2,   -0.001,2, -999.000,9, -999.000,9, -999.000,9,-999.0000,9,  -999.00,9,   -999.0,9,   -999.0,9,   -999.0,9,   1155.5,2,   2420.0,2,  -999.00,9,   20.00,  -999.0,-999.0000,-999.000, -999.00,  -999.0,  1.5205,-999.000
    31DSCG94_3,  P18N,   105,  1,    102,   1223,2,19940402,2205,-16.9983,-102.9950, 3928,   3750.0,   1.8210,  34.6838,2,  34.6843,2,    149.0,2,   -999.0,9,   128.08,2,    36.41,2,     0.00,2,     2.46,2, -999.000,9, -999.000,9, -999.000,9, -999.000,9, -999.000,9,-999.0000,9,  -999.00,9,   -219.9,2,      0.1,2,   2325.4,2,   1159.7,2,   2428.0,2,     7.58,2,   20.00,     2.7,-999.0000,-999.000,   25.00,  -999.0,  1.5202,-999.000
    31DSCG94_3,  P18N,   105,  1,    101,   1041,2,19940402,2205,-16.9983,-102.9950, 3928,   3973.3,   1.8377,  34.6846,2,  34.6850,2,    149.9,2,    148.2,2,   126.97,2,    36.32,2,     0.00,2,     2.50,2, -999.000,9, -999.000,9, -999.000,9, -999.000,9, -999.000,9,-999.0000,9,  -999.00,9,   -999.0,9,   -999.0,9,   2324.1,2,   1159.1,2,   2416.0,2,  -999.00,9,   20.00,  -999.0,-999.0000,-999.000, -999.00,  -999.0,  1.5122,-999.000