BOTTLE,20220630CCHSIOAMB
EXPOCODE,SECT_ID,STNNBR,CASTNO,SAMPNO,BTLNBR,BTLNBR_FLAG_W,DATE,TIME,LATITUDE,LONGITUDE,DEPTH,CTDPRS,CTDTMP,CTDSAL,CTDSAL_FLAG_W,SALNTY,SALNTY_FLAG_W,CTDOXY,CTDOXY_FLAG_W,OXYGEN,OXYGEN_FLAG_W,SILCAT,SILCAT_FLAG_W,NITRAT,NITRAT_FLAG_W,NITRIT,NITRIT_FLAG_W,PHSPHT,PHSPHT_FLAG_W,CFC-11,CFC-11_FLAG_W,CFC-12,CFC-12_FLAG_W,CFC113,CFC113_FLAG_W,CCL4,CCL4_FLAG_W,TRITUM,TRITUM_FLAG_W,HELIUM,HELIUM_FLAG_W,DELHE3,DELHE3_FLAG_W,DELC14,DELC14_FLAG_W,DELC13,DELC13_FLAG_W,TCARBN,TCARBN_FLAG_W,PCO2,PCO2_FLAG_W,ALKALI,ALKALI_FLAG_W,PH,PH_FLAG_W,PCO2TMP,C14ERR,HELIER,DELHER,PH_TMP,C13ERR,THETA,TRITER
,,,,,,,,,,,,DBAR,ITS-90,PSS-78,,PSS-78,,UMOL/KG,,UMOL/KG,,UMOL/KG,,UMOL/KG,,UMOL/KG,,UMOL/KG,,PMOL/KG,,PMOL/KG,,PMOL/KG,,PMOL/KG,,TU,,NMOL/KG,,PERCNT,,/MILLE,,/MILLE,,UMOL/KG,,UATM,,UMOL/KG,,,,DEG C,/MILLE,NMOL/KG,PERCNT,DEG C,/MILLE,DEG C,TU
    31DSCG94_2,  P18S,    40,  3,    336,   1025,2,19940310,1831,-49.8333,-102.9997, 4186,      9.0,  10.0875,  34.1590,2,  34.1583,2,    281.7,2,    275.9,2,     0.00,2,    13.66,2,     0.18,2,     1.09,2, -999.000,5, -999.000,5, -999.000,9, -999.000,9, -999.000,9,-999.0000,9,  -999.00,9,   -999.0,9,      1.9,2,   2073.3,2,    529.2,2,   2268.0,6,     7.86,2,   20.00,  -999.0,-999.0000,-999.000,   25.00,  -999.0, 10.0865,-999.000
    31DSCG94_2,  P18S,    40,  3,    335,   1247,2,19940310,1831,-49.8333,-102.9997, 4186,     24.4,   9.9227,  34.1680,2,  34.1708,3,    281.4,2,    277.0,2,     0.00,2,    13.83,2,     0.17,2,     1.07,2,    3.852,2,    1.968,2, -999.000,9, -999.000,9,    0.352,2,   1.7558,2,    -1.67,2,   -999.0,9,   -999.0,9,   2075.4,2,    531.2,2,   2264.0,2,     7.86,2,   20.00,  -999.0,-999.0000,-999.000,   25.00,  -999.0,  9.9200,   0.005
    31DSCG94_2,  P18S,    40,  3,    334,   1108,2,19940310,1831,-49.8333,-102.9997, 4186,     49.7,   9.0094,  34.2260,2,  34.2269,3,    281.1,2,    281.4,2,     0.00,2,    14.64,2,     0.17,2,     1.08,2,    4.032,2,    2.031,2, -999.000,9, -999.000,9, -999.000,9,-999.0000,9,  -999.00,9,   -999.0,9,   -999.0,9,   2084.7,2,    549.0,2,   2276.0,2,     7.85,2,   20.00,  -999.0,-999.0000,-999.000,   25.00,  -999.0,  9.0041,-999.000
    31DSCG94_2,  P18S,    40,  3,    333,   1244,2,19940310,1831,-49.8333,-102.9997, 4186,     73.5,   8.9662,  34.2293,2,  34.2296,2,    279.5,2,    280.3,2,     0.00,2,    14.70,2,     0.17,2,     1.14,2,    4.033,2,    2.037,2, -999.000,9, -999.000,9, -999.000,9,-999.0000,9,  -999.00,9,   -999.0,9,   -999.0,9,   2086.1,2,   -999.0,9,   2275.0,2,     7.85,2, -999.00,  -999.0,-999.0000,-999.000,   25.00,  -999.0,  8.9584,-999.000
    31DSCG94_2,  P18S,    40,  3,    332,   1003,2,19940310,1831,-49.8333,-102.9997, 4186,    100.2,   7.6630,  34.2347,2,  34.2351,2,    286.7,2,    288.1,2,     0.80,2,    15.43,2,     0.18,2,     1.22,2,    4.305,2,    2.182,2, -999.000,9, -999.000,9,    0.335,2,   1.7692,2,    -1.69,2,   -999.0,9,   -999.0,9,   2095.3,2,    592.3,2,   2267.0,2,     7.82,2,   20.00,  -999.0,-999.0000,-999.000,   25.00,  -999.0,  7.6533,   0.005
    31DSCG94_2,  P18S,    40,  3,    331,   1211,2,19940310,1831,-49.8333,-102.9997, 4186,    117.9,   7.0166,  34.2346,2,  34.2359,2,    282.1,2,    285.8,2,     2.02,2,    16.36,2,     0.24,2,     1.30,2,    4.346,2,    2.159,2, -999.000,9, -999.000,9, -999.000,9,-999.0000,9,  -999.00,9,   -999.0,9,   -999.0,9,   2102.4,2,   -999.0,9,   2278.0,2,     7.81,2, -999.00,  -999.0,-999.0000,-999.000,   25.00,  -999.0,  7.0058,-999.000
    31DSCG94_2,  P18S,    40,  3,    330,   1241,2,19940310,1831,-49.8333,-102.9997, 4186,    159.2,   6.6743,  34.2701,2,  34.2656,3,    274.6,2,    278.8,2,     2.89,2,    18.18,2,     0.08,2,     1.32,2,    4.228,2,    2.100,2, -999.000,9, -999.000,9, -999.000,9,-999.0000,9,  -999.00,9,   -999.0,9,   -999.0,9,   2109.9,2,    656.5,2,   2274.0,2,     7.79,2,   20.00,  -999.0,-999.0000,-999.000,   25.00,  -999.0,  6.6600,-999.000
    31DSCG94_2,  P18S,    40,  3,    329,   1031,2,19940310,1831,-49.8333,-102.9997, 4186,    207.0,   6.5686,  34.3075,2,  34.3042,3,    271.7,2,    272.5,2,     4.41,2,    19.34,2,     0.00,2,     1.42,2,    3.931,6,    1.957,6, -999.000,9, -999.000,9,    0.331,2,   1.7701,2,    -1.02,2,   -999.0,9,   -999.0,9,   2118.7,2,    671.5,2,   2279.0,2,     7.77,2,   20.00,  -999.0,-999.0000,-999.000,   25.00,  -999.0,  6.5501,   0.005
    31DSCG94_2,  P18S,    40,  3,    328,   1210,2,19940310,1831,-49.8333,-102.9997, 4186,    207.0,   6.5686,  34.3075,2,  34.3043,2,    271.7,2,    273.1,2,     4.95,2,    20.04,2,     0.00,2,     1.46,2,    3.904,2,    1.915,2, -999.000,9, -999.000,9, -999.000,9,-999.0000,9,  -999.00,9,   -999.0,9,   -999.0,9,   2120.9,2,    676.7,2,   2279.0,2,     7.77,2,   20.00,  -999.0,-999.0000,-999.000,   25.00,  -999.0,  6.5501,-999.000
    31DSCG94_2,  P18S,    40,  3,    327,   1008,2,19940310,1831,-49.8333,-102.9997, 4186,    257.3,   6.3700,  34.2988,2,  34.2983,2,    268.0,2,    271.0,2,     5.52,2,    20.68,2,     0.00,2,     1.51,2,    3.731,2,    1.818,2, -999.000,9, -999.000,9,    0.299,2,   1.7786,2,    -0.86,2,   -999.0,9,   -999.0,9,   2123.5,2,    689.4,2,   2280.0,2,     7.76,2,   20.00,  -999.0,-999.0000,-999.000,   25.00,  -999.0,  6.3473,   0.005
    31DSCG94_2,  P18S,    40,  3,    326,   1007,2,19940310,1831,-49.8333,-102.9997, 4186,    311.0,   6.3471,  34.3131,2,  34.3119,3,    268.5,2,    269.7,2,     5.93,2,    21.11,2,     0.00,2,     1.51,2,    3.594,2,    1.754,2, -999.000,9, -999.000,9, -999.000,9,-999.0000,9,  -999.00,9,   -999.0,9,   -999.0,9,   2126.5,2,    697.1,2,   2278.0,2,     7.76,2,   20.00,  -999.0,-999.0000,-999.000,   25.00,  -999.0,  6.3196,-999.000
    31DSCG94_2,  P18S,    40,  3,    325,   1203,2,19940310,1831,-49.8333,-102.9997, 4186,    363.1,   6.1464,  34.2949,2,  34.2986,2,    266.6,2,    266.7,2,     6.89,2,    21.59,2,     0.00,2,     1.53,2,    3.413,2,    1.647,2, -999.000,9, -999.000,9,    0.249,2,   1.7822,2,    -0.74,2,   -999.0,9,   -999.0,9,   2127.4,2,    702.7,2,   2280.0,2,     7.75,2,   20.00,  -999.0,-999.0000,-999.000,   25.00,  -999.0,  6.1148,   0.005
    31DSCG94_2,  P18S,    40,  3,    323,   1101,2,19940310,1831,-49.8333,-102.9997, 4186,    481.8,   5.9235,  34.2883,2,  34.2867,2,    263.0,2,    265.2,2,     7.86,2,    22.41,2,     0.00,2,     1.64,2,    3.265,2,    1.563,2, -999.000,9, -999.000,9,    0.238,2,   1.7853,2,    -0.62,2,   -999.0,9,   -999.0,9,   2130.5,2,    722.0,2,   2281.0,2,     7.75,2,   20.00,  -999.0,-999.0000,-999.000,   25.00,  -999.0,  5.8819,   0.005
    31DSCG94_2,  P18S,    40,  3,    321,   1206,2,19940310,1831,-49.8333,-102.9997, 4186,    577.1,   5.6096,  34.2718,2,  34.2700,2,    260.0,2,    257.7,2,     9.81,2,    24.11,2,     0.00,2,     1.73,2,    2.801,6,    1.340,6, -999.000,9, -999.000,9,    0.204,2,   1.7929,2,    -0.15,2,   -999.0,9,   -999.0,9,   2138.6,2,    742.3,2,   2281.0,2,     7.73,2,   20.00,  -999.0,-999.0000,-999.000,   25.00,  -999.0,  5.5608,   0.004
    31DSCG94_2,  P18S,    40,  3,    319,   1248,2,19940310,1831,-49.8333,-102.9997, 4186,    687.6,   5.2045,  34.2588,2,  34.2592,2,    247.3,2,    249.4,2,    13.02,2,    25.67,2,     0.00,2,     1.83,2,    2.484,2,    1.175,2, -999.000,9, -999.000,9, -999.000,9,-999.0000,9,  -999.00,9,   -999.0,9,   -999.0,9,   2147.8,2,    805.7,6,   2276.0,2,     7.71,2,   20.00,  -999.0,-999.0000,-999.000,   25.00,  -999.0,  5.1479,-999.000
    31DSCG94_2,  P18S,    40,  3,    318,   1207,2,19940310,1831,-49.8333,-102.9997, 4186,    766.5,   4.8734,  34.2595,2,  34.2631,2,    238.0,2,    234.0,2,    18.67,2,    27.61,2,     0.00,2,     1.95,2,    1.929,2,    0.911,2, -999.000,9, -999.000,9,    0.139,2,   1.7991,2,     1.01,2,   -999.0,9,   -999.0,9,   2163.6,2,    879.4,2,   2284.0,2,     7.68,2,   20.00,  -999.0,-999.0000,-999.000,   25.00,  -999.0,  4.8119,   0.004
    31DSCG94_2,  P18S,    40,  3,    317,   1119,2,19940310,1831,-49.8333,-102.9997, 4186,    865.2,   4.4564,  34.2727,2,  34.2786,3,    224.9,2,    220.7,2,    25.51,2,    29.77,2,     0.00,2,     2.11,2,    1.305,2,    0.628,2, -999.000,9, -999.000,9, -999.000,9,-999.0000,9,  -999.00,9,   -999.0,9,   -999.0,9,   2178.4,2,    941.3,2,   2289.0,2,     7.65,2,   20.00,  -999.0,-999.0000,-999.000,   25.00,  -999.0,  4.3891,-999.000
    31DSCG94_2,  P18S,    40,  3,    316,   1036,2,19940310,1831,-49.8333,-102.9997, 4186,    964.5,   4.0793,  34.2927,2,  34.3022,3,    213.9,2,    211.5,2,    32.48,2,    31.78,2,     0.00,2,     2.21,2,    1.087,2,    0.532,2, -999.000,9, -999.000,9,    0.080,2,   1.8321,2,     3.02,2,   -999.0,9,   -999.0,9,   2192.8,2,    976.9,2,   2298.0,6,     7.63,2,   20.00,  -999.0,-999.0000,-999.000,   25.00,  -999.0,  4.0063,   0.004
    31DSCG94_2,  P18S,    40,  3,    315,   1017,2,19940310,1831,-49.8333,-102.9997, 4186,   1163.2,   3.3602,  34.3511,2,  34.3646,4,    197.3,2,    195.0,2,    48.29,2,    32.69,2,     0.00,2,     2.32,2,    0.629,2,    0.299,2, -999.000,9, -999.000,9, -999.000,9,-999.0000,9,  -999.00,9,   -999.0,9,   -999.0,9,   -999.0,9,   -999.0,9,   -999.0,9,     7.60,2, -999.00,  -999.0,-999.0000,-999.000,   25.00,  -999.0,  3.2768,-999.000
    31DSCG94_2,  P18S,    40,  3,    314,   1016,2,19940310,1831,-49.8333,-102.9997, 4186,   1361.4,   2.8570,  34.4405,2,  34.4561,4,    182.4,2,    178.9,2,    62.67,2,    33.97,2,     0.00,2,     2.40,2,    0.339,2,    0.161,2, -999.000,9, -999.000,9,    0.023,2,   1.8477,2,     7.89,2,   -999.0,9,   -999.0,9,   -999.0,9,   -999.0,9,   -999.0,9,     7.57,2, -999.00,  -999.0,-999.0000,-999.000,   25.00,  -999.0,  2.7624,   0.003
    31DSCG94_2,  P18S,    40,  3,    313,   1118,2,19940310,1831,-49.8333,-102.9997, 4186,   1577.1,   2.5846,  34.5286,2,  34.5351,3,    171.8,2,    170.9,2,    73.35,2,    34.15,2,     0.00,2,     2.41,2, -999.000,5, -999.000,5, -999.000,9, -999.000,9, -999.000,9,-999.0000,9,  -999.00,9,   -999.0,9,   -999.0,9,   -999.0,9,   -999.0,9,   -999.0,9,  -999.00,9, -999.00,  -999.0,-999.0000,-999.000, -999.00,  -999.0,  2.4754,-999.000
    31DSCG94_2,  P18S,    40,  3,    312,   1033,2,19940310,1831,-49.8333,-102.9997, 4186,   1771.5,   2.4319,  34.5946,2,  34.6022,3,    168.5,2,    169.0,2,    82.24,2,    33.55,2,     0.00,2,     2.34,2,    0.115,2,    0.050,2, -999.000,9, -999.000,9, -999.000,9,-999.0000,9,  -999.00,9,   -999.0,9,   -999.0,9,   -999.0,9,   -999.0,9,   -999.0,9,     7.57,2, -999.00,  -999.0,-999.0000,-999.000,   25.00,  -999.0,  2.3085,-999.000
    31DSCG94_2,  P18S,    40,  3,    311,   1263,2,19940310,1831,-49.8333,-102.9997, 4186,   1975.2,   2.3022,  34.6439,2,  34.6469,2,    168.5,2,    168.8,2,    88.02,2,    33.05,2,     0.00,2,     2.34,2,    0.090,2,    0.037,2, -999.000,9, -999.000,9, -999.000,9,-999.0000,9,  -999.00,9,   -999.0,9,   -999.0,9,   -999.0,9,   -999.0,9,   -999.0,9,     7.58,2, -999.00,  -999.0,-999.0000,-999.000,   25.00,  -999.0,  2.1633,-999.000
    31DSCG94_2,  P18S,    40,  3,    310,   1005,2,19940310,1831,-49.8333,-102.9997, 4186,   2215.2,   2.1458,  34.6815,2,  34.6842,2,    170.8,2,    171.8,2,    92.77,2,    32.61,2,     0.00,2,     2.32,2,    0.026,2,    0.011,2, -999.000,9, -999.000,9,    0.007,2,   1.8799,2,    14.32,2,   -999.0,9,   -999.0,9,   -999.0,9,   -999.0,9,   -999.0,9,     7.59,2, -999.00,  -999.0,-999.0000,-999.000,   25.00,  -999.0,  1.9883,   0.003
    31DSCG94_2,  P18S,    40,  3,    309,   1611,2,19940310,1831,-49.8333,-102.9997, 4186,   2469.0,   1.9648,  34.6999,2,  34.7005,2,    173.4,2,    173.9,6,   100.05,2,    32.71,2,     0.00,2,     2.32,2,    0.011,2,    0.007,2, -999.000,9, -999.000,9, -999.000,9,-999.0000,9,  -999.00,9,   -999.0,9,   -999.0,9,   -999.0,9,   -999.0,9,   -999.0,9,  -999.00,9, -999.00,  -999.0,-999.0000,-999.000, -999.00,  -999.0,  1.7878,-999.000
    31DSCG94_2,  P18S,    40,  3,    308,   1218,2,19940310,1831,-49.8333,-102.9997, 4186,   2712.1,   1.7751,  34.7055,2,  34.7055,2,    176.1,2,    176.9,2,   108.65,2,    32.58,2,     0.00,2,     2.30,2,    0.004,2,    0.003,2, -999.000,9, -999.000,9,    0.007,2,   1.8906,2,    16.23,2,   -999.0,9,   -999.0,9,   -999.0,9,   -999.0,9,   -999.0,9,  -999.00,9, -999.00,  -999.0,-999.0000,-999.000, -999.00,  -999.0,  1.5794,   0.003
    31DSCG94_2,  P18S,    40,  3,    307,   1257,2,19940310,1831,-49.8333,-102.9997, 4186,   2977.0,   1.6456,  34.7087,2,  34.7094,2,    180.0,2,    181.2,2,   112.71,2,    32.53,2,     0.00,2,     2.27,2,    0.200,4,    0.026,2, -999.000,9, -999.000,9, -999.000,9,-999.0000,9,  -999.00,9,   -999.0,9,   -999.0,9,   -999.0,9,   -999.0,9,   -999.0,9,  -999.00,9, -999.00,  -999.0,-999.0000,-999.000, -999.00,  -999.0,  1.4276,-999.000
    31DSCG94_2,  P18S,    40,  3,    306,   1224,2,19940310,1831,-49.8333,-102.9997, 4186,   3217.0,   1.5440,  34.7132,2,  34.7122,2,    184.8,2,    185.0,3,   113.23,2,    32.28,2,     0.00,2,     2.27,2,   -0.003,2,    0.000,2, -999.000,9, -999.000,9, -999.000,9,-999.0000,9,  -999.00,9,   -999.0,9,   -999.0,9,   -999.0,9,   -999.0,9,   -999.0,9,  -999.00,9, -999.00,  -999.0,-999.0000,-999.000, -999.00,  -999.0,  1.3050,-999.000
    31DSCG94_2,  P18S,    40,  3,    305,   1246,2,19940310,1831,-49.8333,-102.9997, 4186,   3468.1,   1.3308,  34.7131,2,  34.7125,2,    190.6,2,    191.4,2,   117.76,2,    32.16,2,     0.00,2,     2.30,2,    0.002,2,    0.001,2, -999.000,9, -999.000,9,    0.009,2,   1.8883,2,    12.76,2,   -999.0,9,   -999.0,9,   -999.0,9,   -999.0,9,   -999.0,9,  -999.00,9, -999.00,  -999.0,-999.0000,-999.000, -999.00,  -999.0,  1.0719,   0.003
    31DSCG94_2,  P18S,    40,  3,    304,   1028,2,19940310,1831,-49.8333,-102.9997, 4186,   3710.2,   1.0634,  34.7103,2,  34.7087,2,    196.7,2,    197.8,2,   125.68,2,    32.46,2,     0.00,2,     2.29,2,    0.001,2,    0.001,2, -999.000,9, -999.000,9,    0.003,2,   1.8937,2,    11.37,2,   -999.0,9,   -999.0,9,   -999.0,9,   1048.7,2,   -999.0,9,  -999.00,9,   20.00,  -999.0,-999.0000,-999.000, -999.00,  -999.0,  0.7869,   0.003
    31DSCG94_2,  P18S,    40,  3,    303,   9999,2,19940310,1831,-49.8333,-102.9997, 4186,   3963.2,   0.8435,  34.7087,2,  34.7072,2,    203.2,2,    202.7,2,   132.62,2,    32.28,2,     0.00,2,     2.24,2,   -0.002,2,   -0.001,6, -999.000,9, -999.000,9, -999.000,9,-999.0000,9,  -999.00,9,   -999.0,9,   -999.0,9,   -999.0,9,   -999.0,9,   -999.0,9,  -999.00,9, -999.00,  -999.0,-999.0000,-999.000, -999.00,  -999.0,  0.5468,-999.000
    31DSCG94_2,  P18S,    40,  3,    302,   1223,2,19940310,1831,-49.8333,-102.9997, 4186,   3979.8,   0.8378,  34.7086,2,  34.7074,2,    203.5,2,    202.9,2,   133.54,2,    32.28,2,     0.00,2,     2.27,2,   -0.002,2,    0.001,2, -999.000,9, -999.000,9,    0.004,2,   1.8919,2,    10.16,2,   -999.0,9,   -999.0,9,   -999.0,9,   -999.0,9,   -999.0,9,  -999.00,9, -999.00,  -999.0,-999.0000,-999.000, -999.00,  -999.0,  0.5395,   0.003
    31DSCG94_2,  P18S,    40,  3,    301,   1041,2,19940310,1831,-49.8333,-102.9997, 4186,   4232.9,   0.7885,  34.7080,2,  34.7074,2,    206.9,2,    203.6,2,   131.77,2,    32.46,2,     0.00,2,     2.29,2,   -0.002,6,    0.000,6, -999.000,9, -999.000,9,    0.003,2,   1.9218,2,     9.80,2,   -999.0,9,   -999.0,9,   -999.0,9,   -999.0,9,   -999.0,9,  -999.00,9, -999.00,  -999.0,-999.0000,-999.000, -999.00,  -999.0,  0.4648,   0.003