BOTTLE,20220630CCHSIOAMB
EXPOCODE,SECT_ID,STNNBR,CASTNO,SAMPNO,BTLNBR,BTLNBR_FLAG_W,DATE,TIME,LATITUDE,LONGITUDE,DEPTH,CTDPRS,CTDTMP,CTDSAL,CTDSAL_FLAG_W,SALNTY,SALNTY_FLAG_W,CTDOXY,CTDOXY_FLAG_W,OXYGEN,OXYGEN_FLAG_W,SILCAT,SILCAT_FLAG_W,NITRAT,NITRAT_FLAG_W,NITRIT,NITRIT_FLAG_W,PHSPHT,PHSPHT_FLAG_W,CFC-11,CFC-11_FLAG_W,CFC-12,CFC-12_FLAG_W,CFC113,CFC113_FLAG_W,CCL4,CCL4_FLAG_W,TRITUM,TRITUM_FLAG_W,HELIUM,HELIUM_FLAG_W,DELHE3,DELHE3_FLAG_W,DELC14,DELC14_FLAG_W,DELC13,DELC13_FLAG_W,TCARBN,TCARBN_FLAG_W,PCO2,PCO2_FLAG_W,ALKALI,ALKALI_FLAG_W,PH,PH_FLAG_W,PCO2TMP,C14ERR,HELIER,DELHER,PH_TMP,C13ERR,THETA,TRITER
,,,,,,,,,,,,DBAR,ITS-90,PSS-78,,PSS-78,,UMOL/KG,,UMOL/KG,,UMOL/KG,,UMOL/KG,,UMOL/KG,,UMOL/KG,,PMOL/KG,,PMOL/KG,,PMOL/KG,,PMOL/KG,,TU,,NMOL/KG,,PERCNT,,/MILLE,,/MILLE,,UMOL/KG,,UATM,,UMOL/KG,,,,DEG C,/MILLE,NMOL/KG,PERCNT,DEG C,/MILLE,DEG C,TU
    31DSCG94_3,  P18N,   140,  1,    135,   1247,2,19940412,0831, -1.6667,-110.3317, 3906,      8.2,  26.8028,  35.0755,2,  35.0784,2,    194.6,2,    201.0,2,     4.39,2,     6.63,2,     0.17,2,     0.68,2,    1.762,2,    0.987,2, -999.000,5, -999.000,5, -999.000,9,-999.0000,9,  -999.00,9,   -999.0,9,   -999.0,9,   2037.9,2,   -999.0,9,   2311.0,2,     7.99,2, -999.00,  -999.0,-999.0000,-999.000,   25.00,  -999.0, 26.8009,-999.000
    31DSCG94_3,  P18N,   140,  1,    136,   1025,2,19940412,0831, -1.6667,-110.3317, 3906,      9.1,  26.7986,  35.0761,2,  35.0921,3,    197.0,2,    200.6,2,     4.99,2,     6.63,2,     0.18,2,     0.69,2, -999.000,9, -999.000,9, -999.000,9, -999.000,9, -999.000,9,-999.0000,9,  -999.00,9,   -999.0,9,   -999.0,9,   2037.3,2,    374.3,2,   2304.0,2,     7.99,2,   20.00,  -999.0,-999.0000,-999.000,   25.00,  -999.0, 26.7965,-999.000
    31DSCG94_3,  P18N,   140,  1,    134,   1216,2,19940412,0831, -1.6667,-110.3317, 3906,     23.5,  26.5183,  35.0430,2,  35.0510,2,    201.3,2,    190.9,2,     4.50,2,     6.82,2,     0.16,2,     0.66,2,    1.729,2,    0.959,2, -999.000,5, -999.000,5, -999.000,9,-999.0000,9,  -999.00,9,   -999.0,9,   -999.0,9,   -999.0,9,   -999.0,9,   -999.0,9,     7.99,2, -999.00,  -999.0,-999.0000,-999.000,   25.00,  -999.0, 26.5130,-999.000
    31DSCG94_3,  P18N,   140,  1,    133,   1244,2,19940412,0831, -1.6667,-110.3317, 3906,     49.7,  18.7563,  35.0871,2,  35.1029,2,     98.9,2,    120.9,6,    10.99,2,    16.58,2,     0.41,2,     1.28,2,    1.238,2,    0.669,2, -999.000,5, -999.000,5, -999.000,9,-999.0000,9,  -999.00,9,   -999.0,9,   -999.0,9,   2133.6,2,    626.3,2,   2311.0,2,     7.80,2,   20.00,  -999.0,-999.0000,-999.000,   25.00,  -999.0, 18.7475,-999.000
    31DSCG94_3,  P18N,   140,  1,    132,   1003,2,19940412,0831, -1.6667,-110.3317, 3906,     75.9,  15.2367,  35.0651,2,  35.0756,2,     78.8,2,     76.9,2,    15.11,2,    21.84,2,     0.39,2,     1.62,2,    0.954,2,    0.516,2, -999.000,5, -999.000,5, -999.000,9,-999.0000,9,  -999.00,9,   -999.0,9,   -999.0,9,   -999.0,9,   -999.0,9,   -999.0,9,     7.71,2, -999.00,  -999.0,-999.0000,-999.000,   25.00,  -999.0, 15.2252,-999.000
    31DSCG94_3,  P18N,   140,  1,    131,   1211,2,19940412,0831, -1.6667,-110.3317, 3906,    100.4,  14.1866,  35.0063,2,  35.0192,2,     71.4,2,     69.6,2,    18.02,2,    24.01,2,     0.45,2,     1.75,2,    0.797,2,    0.425,2, -999.000,5, -999.000,5, -999.000,9,-999.0000,9,  -999.00,9,   -999.0,9,   -999.0,9,   2184.5,2,    898.0,2,   2303.0,2,     7.66,2,   20.00,  -999.0,-999.0000,-999.000,   25.00,  -999.0, 14.1720,-999.000
    31DSCG94_3,  P18N,   140,  1,    130,   1241,2,19940412,0831, -1.6667,-110.3317, 3906,    125.3,  13.7612,  34.9753,2,  34.9801,2,     73.3,2,     69.9,2,    18.96,2,    24.23,2,     0.37,2,     1.74,2, -999.000,9, -999.000,9, -999.000,9, -999.000,9, -999.000,9,-999.0000,9,  -999.00,9,   -999.0,9,   -999.0,9,   -999.0,9,   -999.0,9,   -999.0,9,     7.67,2, -999.00,  -999.0,-999.0000,-999.000,   25.00,  -999.0, 13.7433,-999.000
    31DSCG94_3,  P18N,   140,  1,    129,   1240,2,19940412,0831, -1.6667,-110.3317, 3906,    149.6,  13.3145,  34.9384,2,  34.9363,2,     73.2,2,     74.1,2,    20.01,2,    24.47,2,     0.08,2,     1.76,2,    0.711,2,    0.382,2, -999.000,5, -999.000,5, -999.000,9,-999.0000,9,  -999.00,9,   -999.0,9,   -999.0,9,   2184.2,2,   -999.0,9,   2300.0,2,     7.66,2, -999.00,  -999.0,-999.0000,-999.000,   25.00,  -999.0, 13.2936,-999.000
    31DSCG94_3,  P18N,   140,  1,    128,   1032,2,19940412,0831, -1.6667,-110.3317, 3906,    175.3,  13.0739,  34.9151,2,  34.9143,2,     66.7,2,     70.1,2,    21.68,2,    25.61,2,     0.00,2,     1.86,2, -999.000,9, -999.000,9, -999.000,9, -999.000,9, -999.000,9,-999.0000,9,  -999.00,9,   -999.0,9,   -999.0,9,   -999.0,9,   -999.0,9,   -999.0,9,     7.65,2, -999.00,  -999.0,-999.0000,-999.000,   25.00,  -999.0, 13.0497,-999.000
    31DSCG94_3,  P18N,   140,  1,    127,   1008,2,19940412,0831, -1.6667,-110.3317, 3906,    200.6,  12.9929,  34.9096,2,  34.9090,2,     62.9,2,     64.8,2,    21.88,2,    26.41,2,     0.00,2,     1.90,2,    0.636,2,    0.339,2, -999.000,5, -999.000,5, -999.000,9,-999.0000,9,  -999.00,9,   -999.0,9,   -999.0,9,   2194.8,2,    978.3,2,   2300.0,2,     7.63,2,   20.00,  -999.0,-999.0000,-999.000,   25.00,  -999.0, 12.9653,-999.000
    31DSCG94_3,  P18N,   140,  1,    126,   1007,2,19940412,0831, -1.6667,-110.3317, 3906,    249.6,  12.8375,  34.9036,2,  34.9028,2,     47.5,2,     49.8,2,    23.58,2,    28.17,2,     0.00,2,     2.04,2, -999.000,9, -999.000,9, -999.000,9, -999.000,9, -999.000,9,-999.0000,9,  -999.00,9,   -999.0,9,   -999.0,9,   2207.6,2,   -999.0,9,   2295.0,2,     7.59,2, -999.00,  -999.0,-999.0000,-999.000,   25.00,  -999.0, 12.8034,-999.000
    31DSCG94_3,  P18N,   140,  1,    125,   1256,2,19940412,0831, -1.6667,-110.3317, 3906,    299.6,  12.5619,  34.8873,2,  34.8870,2,     29.7,2,     23.8,2,    26.29,2,    31.09,2,     0.00,2,     2.20,2,    0.400,2,    0.221,2, -999.000,9, -999.000,9, -999.000,9,-999.0000,9,  -999.00,9,   -999.0,9,   -999.0,9,   2230.2,2,   1277.6,2,   2295.0,2,     7.53,2,   20.00,  -999.0,-999.0000,-999.000,   25.00,  -999.0, 12.5215,-999.000
    31DSCG94_3,  P18N,   140,  1,    123,   1220,2,19940412,0831, -1.6667,-110.3317, 3906,    351.6,  11.9941,  34.8584,2,  34.8582,2,     12.7,2,     10.2,2,    28.60,2,    32.86,2,     0.00,2,     2.35,2, -999.000,9, -999.000,9, -999.000,9, -999.000,9, -999.000,9,-999.0000,9,  -999.00,9,   -999.0,9,   -999.0,9,   -999.0,9,   -999.0,9,   -999.0,9,     7.48,2, -999.00,  -999.0,-999.0000,-999.000,   25.00,  -999.0, 11.9480,-999.000
    31DSCG94_3,  P18N,   140,  1,    122,   1245,2,19940412,0831, -1.6667,-110.3317, 3906,    399.9,  10.8344,  34.7915,2,  34.7901,2,      8.7,2,      9.7,2,    32.98,2,    34.32,2,     0.00,2,     2.51,2,    0.121,2,    0.066,2, -999.000,5, -999.000,5, -999.000,9,-999.0000,9,  -999.00,9,   -999.0,9,   -999.0,9,   2260.6,2,   1595.5,2,   2301.0,2,     7.44,2,   20.00,  -999.0,-999.0000,-999.000,   25.00,  -999.0, 10.7852,-999.000
    31DSCG94_3,  P18N,   140,  1,    121,   1206,2,19940412,0831, -1.6667,-110.3317, 3906,    501.1,   8.4578,  34.6523,2,  34.6534,2,     22.5,2,     23.7,2,    42.05,2,    39.32,2,     0.00,2,     2.72,2, -999.000,9, -999.000,9, -999.000,9, -999.000,9, -999.000,9,-999.0000,9,  -999.00,9,   -999.0,9,   -999.0,9,   2271.1,2,   1679.5,2,   2305.0,2,     7.42,2,   20.00,  -999.0,-999.0000,-999.000,   25.00,  -999.0,  8.4046,-999.000
    31DSCG94_3,  P18N,   140,  1,    120,   1028,2,19940412,0831, -1.6667,-110.3317, 3906,    601.7,   6.9353,  34.5778,2,  34.5780,2,     52.9,2,     56.2,2,    50.16,2,    39.60,2,     0.00,2,     2.75,2,    0.011,2,    0.005,2, -999.000,5, -999.000,5, -999.000,9,-999.0000,9,  -999.00,9,   -999.0,9,   -999.0,9,   2267.7,2,   1550.4,2,   2314.0,2,     7.46,2,   20.00,  -999.0,-999.0000,-999.000,   25.00,  -999.0,  6.8780,-999.000
    31DSCG94_3,  P18N,   140,  1,    119,   1248,2,19940412,0831, -1.6667,-110.3317, 3906,    700.1,   6.1929,  34.5570,2,  34.5571,4,     58.2,2,     59.7,2,    58.99,2,    40.58,2,     0.00,2,     2.80,2, -999.000,9, -999.000,9, -999.000,9, -999.000,9, -999.000,9,-999.0000,9,  -999.00,9,   -999.0,9,   -999.0,9,   2278.1,2,   1578.0,2,   2319.0,2,     7.45,2,   20.00,  -999.0,-999.0000,-999.000,   25.00,  -999.0,  6.1297,-999.000
    31DSCG94_3,  P18N,   140,  1,    118,   1115,2,19940412,0831, -1.6667,-110.3317, 3906,    802.3,   5.5957,  34.5499,2,  34.5509,3,     62.8,2,     64.4,2,    70.35,2,    40.62,2,     0.00,2,     2.93,3,    0.004,2,   -0.001,2, -999.000,5, -999.000,5, -999.000,9,-999.0000,9,  -999.00,9,   -999.0,9,   -999.0,9,   2286.5,2,   1579.8,2,   2333.0,2,     7.45,2,   20.00,  -999.0,-999.0000,-999.000,   25.00,  -999.0,  5.5263,-999.000
    31DSCG94_3,  P18N,   140,  1,    117,   1119,2,19940412,0831, -1.6667,-110.3317, 3906,    898.2,   5.0048,  34.5521,2,  34.5528,3,     65.9,2,     68.6,2,    81.68,2,    40.79,2,     0.00,2,     2.97,3, -999.000,9, -999.000,9, -999.000,9, -999.000,9, -999.000,9,-999.0000,9,  -999.00,9,   -999.0,9,   -999.0,9,   2299.0,2,   1579.3,6,   2339.0,2,     7.45,2,   20.00,  -999.0,-999.0000,-999.000,   25.00,  -999.0,  4.9305,-999.000
    31DSCG94_3,  P18N,   140,  1,    116,   1036,2,19940412,0831, -1.6667,-110.3317, 3906,    999.1,   4.5341,  34.5598,2,  34.5613,3,     71.1,2,     70.4,2,    91.31,2,    40.62,2,     0.00,2,     3.00,3,    0.002,2,    0.001,2, -999.000,5, -999.000,5, -999.000,9,-999.0000,9,  -999.00,9,   -999.0,9,   -999.0,9,   2307.5,2,   1576.1,2,   2353.0,6,     7.46,2,   20.00,  -999.0,-999.0000,-999.000,   25.00,  -999.0,  4.4543,-999.000
    31DSCG94_3,  P18N,   140,  1,    115,   1017,2,19940412,0831, -1.6667,-110.3317, 3906,   1098.7,   4.1064,  34.5632,2,  34.5637,3,     81.0,2,     83.4,2,    97.78,2,    40.01,2,     0.00,2,     2.93,3, -999.000,9, -999.000,9, -999.000,9, -999.000,9, -999.000,9,-999.0000,9,  -999.00,9,   -999.0,9,   -999.0,9,   -999.0,9,   -999.0,9,   -999.0,9,  -999.00,9, -999.00,  -999.0,-999.0000,-999.000, -999.00,  -999.0,  4.0215,-999.000
    31DSCG94_3,  P18N,   140,  1,    114,   1016,2,19940412,0831, -1.6667,-110.3317, 3906,   1199.4,   3.7474,  34.5736,2,  34.5744,3,     85.6,2,     85.0,2,   105.87,2,    40.44,2,     0.00,2,     2.93,3, -999.000,9, -999.000,9, -999.000,9, -999.000,9, -999.000,9,-999.0000,9,  -999.00,9,   -999.0,9,   -999.0,9,   -999.0,9,   -999.0,9,   -999.0,9,     7.48,2, -999.00,  -999.0,-999.0000,-999.000,   25.00,  -999.0,  3.6570,-999.000
    31DSCG94_3,  P18N,   140,  1,    113,   1209,2,19940412,0831, -1.6667,-110.3317, 3906,   1402.0,   3.1831,  34.5951,2,  34.5961,4,     89.7,2,     89.2,2,   119.26,2,    40.13,2,     0.00,2,     2.88,3, -999.000,9, -999.000,9, -999.000,9, -999.000,9, -999.000,9,-999.0000,9,  -999.00,9,   -999.0,9,   -999.0,9,   -999.0,9,   -999.0,9,   -999.0,9,  -999.00,9, -999.00,  -999.0,-999.0000,-999.000, -999.00,  -999.0,  3.0814,-999.000
    31DSCG94_3,  P18N,   140,  1,    112,   1033,2,19940412,0831, -1.6667,-110.3317, 3906,   1562.4,   2.9441,  34.6050,2,  34.6056,3,     95.5,2,     93.3,2,   125.57,2,    39.64,2,     0.00,2,     2.86,3, -999.000,9, -999.000,9, -999.000,9, -999.000,9, -999.000,9,-999.0000,9,  -999.00,9,   -999.0,9,   -999.0,9,   -999.0,9,   -999.0,9,   -999.0,9,     7.49,2, -999.00,  -999.0,-999.0000,-999.000,   25.00,  -999.0,  2.8316,-999.000
    31DSCG94_3,  P18N,   140,  1,    111,   1240,2,19940412,0831, -1.6667,-110.3317, 3906,   1801.3,   2.5095,  34.6328,2,  34.6329,4,    102.7,2,     92.6,2,   142.07,2,    40.31,2,     0.00,2,     2.80,3, -999.000,9, -999.000,9, -999.000,9, -999.000,9, -999.000,9,-999.0000,9,  -999.00,9,   -999.0,9,   -999.0,9,   -999.0,9,   -999.0,9,   -999.0,9,  -999.00,9, -999.00,  -999.0,-999.0000,-999.000, -999.00,  -999.0,  2.3824,-999.000
    31DSCG94_3,  P18N,   140,  1,    110,   1005,2,19940412,0831, -1.6667,-110.3317, 3906,   1998.3,   2.2320,  34.6465,2,  34.6466,4,    104.6,2,     97.8,2,   148.53,2,    39.57,2,     0.00,2,     2.84,3, -999.000,9, -999.000,9, -999.000,9, -999.000,9, -999.000,9,-999.0000,9,  -999.00,9,   -999.0,9,   -999.0,9,   -999.0,9,   -999.0,9,   -999.0,9,     7.51,2, -999.00,  -999.0,-999.0000,-999.000,   25.00,  -999.0,  2.0921,-999.000
    31DSCG94_3,  P18N,   140,  1,    109,   1611,2,19940412,0831, -1.6667,-110.3317, 3906,   2247.2,   1.9984,  34.6556,2,  34.6554,3,    114.7,2,    115.1,6,   148.36,2,    38.78,2,     0.00,2,     2.76,3, -999.000,9, -999.000,9, -999.000,9, -999.000,9, -999.000,9,-999.0000,9,  -999.00,9,   -999.0,9,   -999.0,9,   -999.0,9,   -999.0,9,   -999.0,9,  -999.00,9, -999.00,  -999.0,-999.0000,-999.000, -999.00,  -999.0,  1.8407,-999.000
    31DSCG94_3,  P18N,   140,  1,    108,   1218,2,19940412,0831, -1.6667,-110.3317, 3906,   2491.7,   1.8386,  34.6624,2,  34.6629,3,    123.3,2,    125.0,2,   148.70,2,    38.14,2,     0.00,2,     2.73,3, -999.000,9, -999.000,9, -999.000,9, -999.000,9, -999.000,9,-999.0000,9,  -999.00,9,   -999.0,9,   -999.0,9,   -999.0,9,   -999.0,9,   -999.0,9,     7.55,2, -999.00,  -999.0,-999.0000,-999.000,   25.00,  -999.0,  1.6620,-999.000
    31DSCG94_3,  P18N,   140,  1,    107,   1257,2,19940412,0831, -1.6667,-110.3317, 3906,   2752.8,   1.7205,  34.6686,2,  34.6687,3,    129.8,2,    131.3,6,   150.88,2,    37.44,2,     0.00,2,     2.67,3, -999.000,9, -999.000,9, -999.000,9, -999.000,9, -999.000,9,-999.0000,9,  -999.00,9,   -999.0,9,   -999.0,9,   -999.0,9,   -999.0,9,   -999.0,9,  -999.00,9, -999.00,  -999.0,-999.0000,-999.000, -999.00,  -999.0,  1.5223,-999.000
    31DSCG94_3,  P18N,   140,  1,    106,   1224,2,19940412,0831, -1.6667,-110.3317, 3906,   3000.5,   1.6566,  34.6724,2,  34.6724,3,    133.8,2,    137.6,2,   151.29,2,    37.12,2,     0.00,2,     2.66,3, -999.000,9, -999.000,9, -999.000,9, -999.000,9, -999.000,9,-999.0000,9,  -999.00,9,   -999.0,9,   -999.0,9,   -999.0,9,   -999.0,9,   -999.0,9,     7.56,2, -999.00,  -999.0,-999.0000,-999.000,   25.00,  -999.0,  1.4363,-999.000
    31DSCG94_3,  P18N,   140,  1,    105,   1246,2,19940412,0831, -1.6667,-110.3317, 3906,   3248.5,   1.5894,  34.6781,2,  34.6783,3,    137.2,2,    141.9,2,   151.94,2,    37.00,2,     0.00,2,     2.62,3, -999.000,9, -999.000,9, -999.000,9, -999.000,9, -999.000,9,-999.0000,9,  -999.00,9,   -999.0,9,   -999.0,9,   -999.0,9,   -999.0,9,   -999.0,9,  -999.00,9, -999.00,  -999.0,-999.0000,-999.000, -999.00,  -999.0,  1.3464,-999.000
    31DSCG94_3,  P18N,   140,  1,    104,   1217,2,19940412,0831, -1.6667,-110.3317, 3906,   3501.3,   1.5106,  34.6847,2,  34.6853,3,    142.1,2,    148.7,2,   152.42,2,    36.71,2,     0.00,2,     2.57,3, -999.000,9, -999.000,9, -999.000,9, -999.000,9, -999.000,9,-999.0000,9,  -999.00,9,   -999.0,9,   -999.0,9,   -999.0,9,   -999.0,9,   -999.0,9,     7.59,2, -999.00,  -999.0,-999.0000,-999.000,   25.00,  -999.0,  1.2440,-999.000
    31DSCG94_3,  P18N,   140,  1,    102,   1223,2,19940412,0831, -1.6667,-110.3317, 3906,   3747.3,   1.4489,  34.6902,2,  34.6915,2,    149.9,2,    153.7,2,   150.63,2,    36.21,2,     0.00,2,     2.50,3, -999.000,9, -999.000,9, -999.000,9, -999.000,9, -999.000,9,-999.0000,9,  -999.00,9,   -999.0,9,   -999.0,9,   -999.0,9,   -999.0,9,   -999.0,9,     7.61,2, -999.00,  -999.0,-999.0000,-999.000,   25.00,  -999.0,  1.1583,-999.000
    31DSCG94_3,  P18N,   140,  1,    103,   9999,2,19940412,0831, -1.6667,-110.3317, 3906,   3748.0,   1.4491,  34.6901,2,  34.6915,3,    149.9,2,    156.9,2,   149.52,2,    36.11,2,     0.00,2,     2.50,3,    0.003,2,   -0.002,2, -999.000,5, -999.000,5, -999.000,9,-999.0000,9,  -999.00,9,   -999.0,9,   -999.0,9,   -999.0,9,   -999.0,9,   -999.0,9,  -999.00,9, -999.00,  -999.0,-999.0000,-999.000, -999.00,  -999.0,  1.1584,-999.000
    31DSCG94_3,  P18N,   140,  1,    101,   1041,2,19940412,0831, -1.6667,-110.3317, 3906,   3951.4,   1.4669,  34.6904,2,  34.6905,2,    149.5,2,    157.9,2,   151.16,2,    33.79,3,     0.00,2,     2.51,3, -999.000,9, -999.000,9, -999.000,9, -999.000,9, -999.000,9,-999.0000,9,  -999.00,9,   -999.0,9,   -999.0,9,   -999.0,9,   -999.0,9,   -999.0,9,  -999.00,9, -999.00,  -999.0,-999.0000,-999.000, -999.00,  -999.0,  1.1541,-999.000