BOTTLE,20220630CCHSIOAMB
EXPOCODE,SECT_ID,STNNBR,CASTNO,SAMPNO,BTLNBR,BTLNBR_FLAG_W,DATE,TIME,LATITUDE,LONGITUDE,DEPTH,CTDPRS,CTDTMP,CTDSAL,CTDSAL_FLAG_W,SALNTY,SALNTY_FLAG_W,CTDOXY,CTDOXY_FLAG_W,OXYGEN,OXYGEN_FLAG_W,SILCAT,SILCAT_FLAG_W,NITRAT,NITRAT_FLAG_W,NITRIT,NITRIT_FLAG_W,PHSPHT,PHSPHT_FLAG_W,CFC-11,CFC-11_FLAG_W,CFC-12,CFC-12_FLAG_W,CFC113,CFC113_FLAG_W,CCL4,CCL4_FLAG_W,TRITUM,TRITUM_FLAG_W,HELIUM,HELIUM_FLAG_W,DELHE3,DELHE3_FLAG_W,DELC14,DELC14_FLAG_W,DELC13,DELC13_FLAG_W,TCARBN,TCARBN_FLAG_W,PCO2,PCO2_FLAG_W,ALKALI,ALKALI_FLAG_W,PH,PH_FLAG_W,PCO2TMP,C14ERR,HELIER,DELHER,PH_TMP,C13ERR,THETA,TRITER
,,,,,,,,,,,,DBAR,ITS-90,PSS-78,,PSS-78,,UMOL/KG,,UMOL/KG,,UMOL/KG,,UMOL/KG,,UMOL/KG,,UMOL/KG,,PMOL/KG,,PMOL/KG,,PMOL/KG,,PMOL/KG,,TU,,NMOL/KG,,PERCNT,,/MILLE,,/MILLE,,UMOL/KG,,UATM,,UMOL/KG,,,,DEG C,/MILLE,NMOL/KG,PERCNT,DEG C,/MILLE,DEG C,TU
    31DSCG94_3,  P18N,   178,  1,    136,   1025,2,19940422,0939, 16.0017,-110.0000, 3307,      8.1,  26.9999,  34.1838,2,  34.1895,2,    205.9,2,    209.5,2,     0.00,2,     0.05,2,     0.01,2,     0.14,2,    1.845,2,    1.046,2, -999.000,5, -999.000,5, -999.000,9,-999.0000,9,  -999.00,9,   -999.0,9,      1.6,2,   1931.2,2,    268.6,2,   2251.0,2,     8.11,2,   20.00,  -999.0,-999.0000,-999.000,   25.00,  -999.0, 26.9981,-999.000
    31DSCG94_3,  P18N,   178,  1,    135,   1247,2,19940422,0939, 16.0017,-110.0000, 3307,      8.3,  26.8039,  34.2136,2,  34.2059,2,    205.9,2,    209.3,2,     0.00,2,     0.05,2,     0.00,2,     0.15,2,    1.850,2,    1.043,2, -999.000,5, -999.000,5,    1.307,2,   1.7634,2,    -0.76,2,   -999.0,9,   -999.0,9,   1930.9,2,    267.4,2,   2255.0,2,     8.11,2,   20.00,  -999.0,-999.0000,-999.000,   25.00,  -999.0, 26.8020,   0.009
    31DSCG94_3,  P18N,   178,  1,    134,   1216,2,19940422,0939, 16.0017,-110.0000, 3307,     25.1,  25.1695,  34.4973,2,  34.4979,2,    204.9,2,    215.3,2,     0.00,2,     0.04,2,     0.00,2,     0.17,2,    1.944,2,    1.092,2, -999.000,5, -999.000,5, -999.000,9,-999.0000,9,  -999.00,9,     87.1,2,      1.7,2,   1962.5,2,    287.6,2,   2287.0,2,     8.09,2,   20.00,     3.2,-999.0000,-999.000,   25.00,  -999.0, 25.1640,-999.000
    31DSCG94_3,  P18N,   178,  1,    133,   1244,2,19940422,0939, 16.0017,-110.0000, 3307,     48.3,  24.1556,  34.4843,2,  34.5033,2,    205.1,2,    217.0,2,     0.00,2,     0.02,2,     0.00,2,     0.24,2,    2.021,2,    1.129,2, -999.000,5, -999.000,5,    1.530,2,   1.7492,2,    -0.78,2,     68.9,2,      1.7,2,   1978.0,2,    304.1,2,   2292.0,2,     8.07,2,   20.00,     3.5,-999.0000,-999.000,   25.00,  -999.0, 24.1454,   0.010
    31DSCG94_3,  P18N,   178,  1,    132,   1003,2,19940422,0939, 16.0017,-110.0000, 3307,     73.3,  21.4686,  34.2509,2,  34.3375,3,    205.7,2,    207.5,2,     0.54,2,     0.20,2,     0.03,2,     0.39,2,    2.138,2,    1.170,2, -999.000,5, -999.000,5, -999.000,9,-999.0000,9,  -999.00,9,     68.9,2,      1.5,2,   2010.5,2,    373.1,2,   2284.0,2,     8.01,2,   20.00,     4.8,-999.0000,-999.000,   25.00,  -999.0, 21.4545,-999.000
    31DSCG94_3,  P18N,   178,  1,    131,   1211,2,19940422,0939, 16.0017,-110.0000, 3307,    100.8,  16.7744,  34.2457,2,  34.2540,2,    101.0,2,    108.4,2,     9.58,2,    13.78,2,     0.08,2,     1.39,2,    2.029,6,    1.061,6, -999.000,5, -999.000,5,    1.534,2,   1.8000,2,     9.62,2,     48.5,2,      0.5,2,   2131.2,2,    775.2,2,   2272.0,2,     7.72,2,   20.00,     3.1,-999.0000,-999.000,   25.00,  -999.0, 16.7580,   0.010
    31DSCG94_3,  P18N,   178,  1,    130,   1241,2,19940422,0939, 16.0017,-110.0000, 3307,    125.2,  14.8294,  34.4815,2,  34.4821,2,     31.2,2,     34.8,2,    17.76,2,    23.82,2,     0.02,2,     2.08,2,    1.298,2,    0.682,2, -999.000,9, -999.000,9,    1.094,2,   1.8161,2,    12.34,2,   -999.0,5,     -0.0,2,   2204.6,2,   1250.7,2,   2290.0,3,     7.54,2,   20.00,  -999.0,-999.0000,-999.000,   25.00,  -999.0, 14.8107,   0.009
    31DSCG94_3,  P18N,   178,  1,    129,   1240,2,19940422,0939, 16.0017,-110.0000, 3307,    149.4,  13.3980,  34.6790,2,  34.6782,2,     22.4,2,      6.4,2,    24.69,2,    26.73,2,     0.01,2,     2.43,2,    0.651,2,    0.357,2, -999.000,5, -999.000,5,    0.730,2,   1.8219,2,    15.19,2,   -999.0,9,   -999.0,5,   2243.1,2,   1523.2,2,   2292.0,2,     7.46,2,   20.00,  -999.0,-999.0000,-999.000,   25.00,  -999.0, 13.3771,   0.007
    31DSCG94_3,  P18N,   178,  1,    128,   1114,2,19940422,0939, 16.0017,-110.0000, 3307,    174.8,  12.4633,  34.7431,2,  34.7449,2,     23.0,2,      0.7,2,    27.36,2,    27.35,2,     0.01,2,     2.53,2,    0.349,2,    0.206,2, -999.000,9, -999.000,9,    0.542,2,   1.8125,2,    11.48,2,    -26.5,2,     -0.3,2,   2253.1,2,   1583.1,2,   2305.0,2,     7.45,2,   20.00,     6.7,-999.0000,-999.000,   25.00,  -999.0, 12.4400,   0.007
    31DSCG94_3,  P18N,   178,  1,    127,   1008,2,19940422,0939, 16.0017,-110.0000, 3307,    199.7,  12.1228,  34.7386,2,-999.0000,5,     18.7,2,   -999.0,9,  -999.00,9,  -999.00,9,  -999.00,9,  -999.00,9,    0.250,2,    0.148,2, -999.000,5, -999.000,5,    0.434,2,   1.8214,2,    11.05,2,   -999.0,9,   -999.0,9,   2260.9,2,   1630.8,2,   2293.0,2,  -999.00,9,   20.00,  -999.0,-999.0000,-999.000, -999.00,  -999.0, 12.0966,   0.006
    31DSCG94_3,  P18N,   178,  1,    126,   1007,2,19940422,0939, 16.0017,-110.0000, 3307,    250.8,  11.2589,  34.7065,2,  34.7059,2,     11.8,2,      0.6,2,    31.81,2,    26.29,2,     0.45,2,     2.58,2,    0.146,2,    0.079,2, -999.000,5, -999.000,5, -999.000,9,-999.0000,9,  -999.00,9,    -74.3,2,     -0.2,2,   2270.5,2,   1714.5,2,   2299.0,2,     7.41,2,   20.00,     3.0,-999.0000,-999.000,   25.00,  -999.0, 11.2275,-999.000
    31DSCG94_3,  P18N,   178,  1,    125,   1256,2,19940422,0939, 16.0017,-110.0000, 3307,    301.5,  10.7946,  34.6941,2,  34.6929,2,      8.0,2,      0.8,2,    33.22,2,    24.35,2,     1.85,2,     2.62,2,    0.079,6,    0.045,6, -999.000,5, -999.000,5,    0.193,2,   1.8116,2,     7.01,2,    -75.8,2,     -0.3,2,   2276.4,2,   1762.0,2,   2303.0,2,     7.40,2,   20.00,     2.8,-999.0000,-999.000,   25.00,  -999.0, 10.7578,   0.005
    31DSCG94_3,  P18N,   178,  1,    123,   1220,2,19940422,0939, 16.0017,-110.0000, 3307,    348.9,   9.9786,  34.6491,2,  34.6486,2,      6.1,2,      0.6,2,    37.85,2,    26.17,2,     1.00,2,     2.70,2,    0.032,2,    0.019,2, -999.000,9, -999.000,9, -999.000,9,-999.0000,9,  -999.00,9,    -87.9,2,     -0.3,2,   2285.1,2,   1841.3,2,   2301.0,2,  -999.00,9,   20.00,     4.1,-999.0000,-999.000, -999.00,  -999.0,  9.9380,-999.000
    31DSCG94_3,  P18N,   178,  1,    122,   1245,2,19940422,0939, 16.0017,-110.0000, 3307,    400.0,   9.1658,  34.6156,2,  34.6155,2,      5.3,2,      0.6,2,    44.66,2,    28.02,2,     0.35,2,     2.84,2,    0.021,6,    0.010,6, -999.000,5, -999.000,5,    0.081,2,   1.8785,2,     6.44,2,   -110.8,2,     -0.3,2,   2296.0,2,   1900.0,2,   2311.0,2,     7.37,2,   20.00,     3.9,-999.0000,-999.000,   25.00,  -999.0,  9.1216,   0.006
    31DSCG94_3,  P18N,   178,  1,    121,   1206,2,19940422,0939, 16.0017,-110.0000, 3307,    449.4,   8.5235,  34.5797,2,  34.5787,2,      4.1,2,      0.5,6,    50.40,2,    30.71,2,     0.03,2,     2.91,2,    0.019,2,    0.005,2, -999.000,9, -999.000,9, -999.000,9,-999.0000,9,  -999.00,9,   -112.1,2,     -0.3,2,   2302.1,2,   1940.6,2,   2315.0,2,     7.37,2,   20.00,     4.5,-999.0000,-999.000,   25.00,  -999.0,  8.4758,-999.000
    31DSCG94_3,  P18N,   178,  1,    120,   1028,2,19940422,0939, 16.0017,-110.0000, 3307,    498.7,   7.8731,  34.5535,2,  34.5526,2,      3.5,2,      1.8,2,    56.07,2,    33.28,2,     0.00,2,     2.98,2,    0.005,2,    0.003,2, -999.000,5, -999.000,5,    0.019,2,   1.8245,2,     8.40,2,   -117.6,2,     -0.2,2,   2308.2,2,   1990.3,2,   2311.0,2,     7.36,2,   20.00,     2.8,-999.0000,-999.000,   25.00,  -999.0,  7.8225,   0.003
    31DSCG94_3,  P18N,   178,  1,    119,   1248,2,19940422,0939, 16.0017,-110.0000, 3307,    600.3,   6.7831,  34.5372,2,  34.5372,2,      2.0,2,      0.6,2,    67.75,2,    37.32,2,     0.00,2,     3.10,2,    0.000,2,    0.001,2, -999.000,9, -999.000,9,    0.012,2,   1.8317,2,    10.91,2,   -134.9,2,     -0.3,2,   2322.5,2,   2055.9,2,   2330.0,2,     7.34,2,   20.00,     4.4,-999.0000,-999.000,   25.00,  -999.0,  6.7266,   0.003
    31DSCG94_3,  P18N,   178,  1,    118,   1115,2,19940422,0939, 16.0017,-110.0000, 3307,    682.6,   6.1021,  34.5314,2,  34.5313,2,      2.2,2,      0.9,2,    75.01,2,    40.19,2,     0.00,2,     3.16,2,    0.001,2,    0.002,2, -999.000,5, -999.000,5,    0.007,2,   1.8397,2,    13.05,2,   -152.2,2,     -0.3,2,   2334.8,2,   2101.0,2,   2338.0,2,     7.33,2,   20.00,     3.1,-999.0000,-999.000,   25.00,  -999.0,  6.0411,   0.003
    31DSCG94_3,  P18N,   178,  1,    117,   1119,2,19940422,0939, 16.0017,-110.0000, 3307,    799.9,   5.3765,  34.5329,2,  34.5326,2,      2.7,2,      2.9,2,    83.94,2,    42.48,2,     0.00,2,     3.21,2,    0.003,2,    0.003,2, -999.000,9, -999.000,9, -999.000,9,-999.0000,9,  -999.00,9,   -173.8,2,     -0.3,2,   2344.0,2,   2134.2,3,   2349.0,2,     7.33,2,   20.00,     3.7,-999.0000,-999.000,   25.00,  -999.0,  5.3087,-999.000
    31DSCG94_3,  P18N,   178,  1,    116,   1036,2,19940422,0939, 16.0017,-110.0000, 3307,    903.3,   4.9457,  34.5374,2,  34.5380,2,      5.8,2,      5.6,2,    90.12,2,    43.56,2,     0.00,2,     3.25,2,    0.001,2,    0.002,2, -999.000,5, -999.000,5,    0.002,2,   1.8589,2,    17.54,2,   -181.4,2,     -0.4,2,   2353.6,2,   2140.9,2,   2352.0,2,     7.33,2,   20.00,     3.0,-999.0000,-999.000,   25.00,  -999.0,  4.8714,   0.003
    31DSCG94_3,  P18N,   178,  1,    115,   1017,2,19940422,0939, 16.0017,-110.0000, 3307,    998.0,   4.4722,  34.5461,2,  34.5470,2,      9.4,2,     12.2,2,    98.07,2,    44.10,2,     0.00,2,     3.23,2, -999.000,9, -999.000,9, -999.000,9, -999.000,9, -999.000,9,-999.0000,9,  -999.00,9,   -201.2,2,     -0.4,2,   2359.9,2,   2104.9,2,   2359.0,6,     7.34,2,   20.00,     4.1,-999.0000,-999.000,   25.00,  -999.0,  4.3930,-999.000
    31DSCG94_3,  P18N,   178,  1,    114,   1016,2,19940422,0939, 16.0017,-110.0000, 3307,   1099.6,   4.0907,  34.5561,2,  34.5563,2,     16.1,2,     19.8,2,   104.99,2,    44.05,2,     0.00,2,     3.22,2, -999.000,9, -999.000,9, -999.000,9, -999.000,9,   -0.005,2,   1.8759,2,    21.43,2,   -193.9,2,     -0.4,2,   2363.8,2,   2053.5,2,   2368.0,2,     7.35,2,   20.00,     3.0,-999.0000,-999.000,   25.00,  -999.0,  4.0058,   0.003
    31DSCG94_3,  P18N,   178,  1,    113,   1209,2,19940422,0939, 16.0017,-110.0000, 3307,   1300.2,   3.6147,  34.5759,2,  34.5763,2,     29.2,2,     30.4,2,   117.93,2,    43.82,2,     0.00,2,     3.16,2,   -0.001,2,    0.000,2, -999.000,9, -999.000,9,    0.015,2,   1.8821,2,    23.71,2,   -219.1,2,     -0.4,2,   2368.1,2,   1976.3,2,   2379.0,2,     7.37,2,   20.00,     2.6,-999.0000,-999.000,   25.00,  -999.0,  3.5171,   0.004
    31DSCG94_3,  P18N,   178,  1,    112,   1033,2,19940422,0939, 16.0017,-110.0000, 3307,   1500.0,   3.0733,  34.5983,2,  34.5994,2,     47.4,2,     48.6,2,   132.12,2,    43.05,2,     0.00,2,     3.07,2, -999.000,9, -999.000,9, -999.000,9, -999.000,9,   -0.002,2,   1.8955,2,    25.92,2,   -226.3,2,     -0.3,2,   2370.5,2,   1823.3,2,   2392.0,2,     7.40,2,   20.00,     3.9,-999.0000,-999.000,   25.00,  -999.0,  2.9645,   0.003
    31DSCG94_3,  P18N,   178,  1,    111,   1240,2,19940422,0939, 16.0017,-110.0000, 3307,   1699.4,   2.7206,  34.6152,2,  34.6163,2,     63.5,2,     62.9,6,   137.30,2,    41.95,2,     0.00,2,     2.96,2, -999.000,9, -999.000,9, -999.000,9, -999.000,9, -999.000,9,-999.0000,9,  -999.00,9,   -236.6,2,     -0.3,2,   2370.6,2,   1721.6,2,   2413.0,2,     7.43,2,   20.00,     2.7,-999.0000,-999.000,   25.00,  -999.0,  2.5994,-999.000
    31DSCG94_3,  P18N,   178,  1,    110,   1005,2,19940422,0939, 16.0017,-110.0000, 3307,   1900.7,   2.3476,  34.6333,2,  34.6335,2,     81.6,2,     79.2,2,   143.16,2,    40.86,2,     0.00,2,     2.84,2,    0.001,2,   -0.002,2, -999.000,9, -999.000,9, -999.000,9,-999.0000,9,  -999.00,9,   -240.7,2,     -0.3,2,   2367.5,2,   1598.3,2,   2415.0,2,     7.46,2,   20.00,     2.7,-999.0000,-999.000,   25.00,  -999.0,  2.2144,-999.000
    31DSCG94_3,  P18N,   178,  1,    109,   1611,2,19940422,0939, 16.0017,-110.0000, 3307,   2099.5,   2.0959,  34.6465,2,  34.6468,2,     91.5,2,     90.4,2,   147.87,2,    39.69,2,     0.00,2,     2.75,2, -999.000,9, -999.000,9, -999.000,9, -999.000,9, -999.000,9,-999.0000,9,  -999.00,9,   -246.2,2,     -0.3,2,   2367.0,2,   1523.0,3,   2425.0,2,     7.48,2,   20.00,     3.0,-999.0000,-999.000,   25.00,  -999.0,  1.9494,-999.000
    31DSCG94_3,  P18N,   178,  1,    108,   1218,2,19940422,0939, 16.0017,-110.0000, 3307,   2298.3,   1.9329,  34.6569,2,  34.6570,2,    102.4,2,    100.7,2,   154.16,2,    38.96,2,     0.00,2,     2.74,2, -999.000,9, -999.000,9, -999.000,9, -999.000,9, -999.000,9,-999.0000,9,  -999.00,9,   -240.1,2,     -0.2,2,   2364.8,2,   1449.0,2,   2414.0,2,  -999.00,9,   20.00,     3.0,-999.0000,-999.000, -999.00,  -999.0,  1.7719,-999.000
    31DSCG94_3,  P18N,   178,  1,    107,   1257,2,19940422,0939, 16.0017,-110.0000, 3307,   2499.5,   1.8023,  34.6647,2,  34.6647,2,    109.7,2,    109.5,2,   158.80,2,    38.63,2,     0.00,2,     2.67,2,    0.000,2,    0.001,2, -999.000,9, -999.000,9, -999.000,9,-999.0000,9,  -999.00,9,   -233.3,2,     -0.1,2,   2359.9,2,   -999.0,9,   2434.0,2,     7.52,2, -999.00,     2.8,-999.0000,-999.000,   25.00,  -999.0,  1.6256,-999.000
    31DSCG94_3,  P18N,   178,  1,    106,   1224,2,19940422,0939, 16.0017,-110.0000, 3307,   2698.8,   1.7425,  34.6686,2,  34.6706,2,    114.5,2,    114.3,2,   158.92,2,    38.13,2,     0.00,2,     2.64,2, -999.000,9, -999.000,9, -999.000,9, -999.000,9, -999.000,9,-999.0000,9,  -999.00,9,   -999.0,9,     -0.1,2,   2358.9,2,   1363.4,2,   2436.0,2,     7.53,2,   20.00,  -999.0,-999.0000,-999.000,   25.00,  -999.0,  1.5488,-999.000
    31DSCG94_3,  P18N,   178,  1,    105,   1246,2,19940422,0939, 16.0017,-110.0000, 3307,   2897.4,   1.6969,  34.6720,2,  34.6717,2,    118.0,2,    119.1,2,   156.70,2,    37.92,2,     0.00,2,     2.62,2, -999.000,9, -999.000,9, -999.000,9, -999.000,9, -999.000,9,-999.0000,9,  -999.00,9,   -230.8,2,     -0.1,2,   2355.5,2,   1330.8,2,   2424.0,2,     7.54,2,   20.00,     3.7,-999.0000,-999.000,   25.00,  -999.0,  1.4856,-999.000
    31DSCG94_3,  P18N,   178,  1,    103,   9999,2,19940422,0939, 16.0017,-110.0000, 3307,   3098.7,   1.6817,  34.6736,2,  34.6741,2,    120.9,2,   -999.0,9,   159.95,2,    37.92,2,     0.00,2,     2.58,2,    0.000,2,    0.002,2, -999.000,5, -999.000,5, -999.000,9,-999.0000,9,  -999.00,9,   -999.0,9,   -999.0,9,   2353.8,2,   1319.8,2,   2427.0,2,     7.54,2,   20.00,  -999.0,-999.0000,-999.000,   25.00,  -999.0,  1.4513,-999.000
    31DSCG94_3,  P18N,   178,  1,    104,   1217,2,19940422,0939, 16.0017,-110.0000, 3307,   3099.1,   1.6818,  34.6737,2,  34.6738,2,    120.9,2,    121.6,2,   154.42,6,    38.11,6,     0.00,6,     2.58,6, -999.000,9, -999.000,9, -999.000,9, -999.000,9, -999.000,9,-999.0000,9,  -999.00,9,   -223.8,2,     -0.1,2,   2354.2,2,   1321.7,2,   2424.0,2,     7.54,2,   20.00,     5.8,-999.0000,-999.000,   25.00,  -999.0,  1.4514,-999.000
    31DSCG94_3,  P18N,   178,  1,    101,   1041,2,19940422,0939, 16.0017,-110.0000, 3307,   3307.1,   1.6783,  34.6752,2,  34.6755,2,    120.4,2,    123.6,2,   158.08,2,    37.62,2,     0.00,2,     2.58,2, -999.000,9, -999.000,9, -999.000,9, -999.000,9, -999.000,9,-999.0000,9,  -999.00,9,   -248.4,2,     -0.1,2,   2349.4,3,   1299.8,2,   2380.0,2,     7.54,2,   20.00,     4.5,-999.0000,-999.000,   25.00,  -999.0,  1.4273,-999.000
    31DSCG94_3,  P18N,   178,  1,    102,   1223,2,19940422,0939, 16.0017,-110.0000, 3307,   3307.4,   1.6778,  34.6752,2,  34.6756,2,    120.4,2,    123.4,2,   161.09,2,    37.70,2,     0.00,2,     2.58,2,    0.002,2,    0.000,2, -999.000,5, -999.000,5, -999.000,9,-999.0000,9,  -999.00,9,   -999.0,9,   -999.0,9,   2352.9,2,   1305.1,2,   2427.0,2,     7.54,2,   20.00,  -999.0,-999.0000,-999.000,   25.00,  -999.0,  1.4268,-999.000