BOTTLE,20220630CCHSIOAMB
EXPOCODE,SECT_ID,STNNBR,CASTNO,SAMPNO,BTLNBR,BTLNBR_FLAG_W,DATE,TIME,LATITUDE,LONGITUDE,DEPTH,CTDPRS,CTDTMP,CTDSAL,CTDSAL_FLAG_W,SALNTY,SALNTY_FLAG_W,CTDOXY,CTDOXY_FLAG_W,OXYGEN,OXYGEN_FLAG_W,SILCAT,SILCAT_FLAG_W,NITRAT,NITRAT_FLAG_W,NITRIT,NITRIT_FLAG_W,PHSPHT,PHSPHT_FLAG_W,CFC-11,CFC-11_FLAG_W,CFC-12,CFC-12_FLAG_W,CFC113,CFC113_FLAG_W,CCL4,CCL4_FLAG_W,TRITUM,TRITUM_FLAG_W,HELIUM,HELIUM_FLAG_W,DELHE3,DELHE3_FLAG_W,DELC14,DELC14_FLAG_W,DELC13,DELC13_FLAG_W,TCARBN,TCARBN_FLAG_W,PCO2,PCO2_FLAG_W,ALKALI,ALKALI_FLAG_W,PH,PH_FLAG_W,PCO2TMP,C14ERR,HELIER,DELHER,PH_TMP,C13ERR,THETA,TRITER
,,,,,,,,,,,,DBAR,ITS-90,PSS-78,,PSS-78,,UMOL/KG,,UMOL/KG,,UMOL/KG,,UMOL/KG,,UMOL/KG,,UMOL/KG,,PMOL/KG,,PMOL/KG,,PMOL/KG,,PMOL/KG,,TU,,NMOL/KG,,PERCNT,,/MILLE,,/MILLE,,UMOL/KG,,UATM,,UMOL/KG,,,,DEG C,/MILLE,NMOL/KG,PERCNT,DEG C,/MILLE,DEG C,TU
    31DSCG94_3,  P18N,   120,  1,    136,   1025,2,19940406,2345, -9.6190,-103.5667, 4364,     11.3,  27.1735,  35.1352,2,  35.1459,2,    204.3,2,    202.4,2,     1.83,2,     3.53,2,     0.06,2,     0.46,2,    1.723,2,    0.997,2, -999.000,9, -999.000,9, -999.000,9,-999.0000,9,  -999.00,9,   -999.0,9,   -999.0,9,   1993.2,2,    297.0,2,   2315.0,6,     8.08,2,   20.00,  -999.0,-999.0000,-999.000,   25.00,  -999.0, 27.1709,-999.000
    31DSCG94_3,  P18N,   120,  1,    135,   1247,2,19940406,2345, -9.6190,-103.5667, 4364,     23.0,  27.1773,  35.1437,2,  35.1455,2,    199.1,2,    200.8,2,     1.78,2,     3.78,2,     0.06,2,     0.45,2,    1.726,2,    0.990,2, -999.000,9, -999.000,9, -999.000,9,-999.0000,9,  -999.00,9,   -999.0,9,   -999.0,9,   -999.0,9,   -999.0,9,   -999.0,9,     8.08,2, -999.00,  -999.0,-999.0000,-999.000,   25.00,  -999.0, 27.1720,-999.000
    31DSCG94_3,  P18N,   120,  1,    134,   1216,2,19940406,2345, -9.6190,-103.5667, 4364,     51.2,  26.4220,  35.6062,2,  35.5917,2,    208.2,2,    208.4,2,     1.89,2,     3.45,2,     0.05,2,     0.44,2,    1.807,2,    1.018,2, -999.000,9, -999.000,9, -999.000,9,-999.0000,9,  -999.00,9,   -999.0,9,   -999.0,9,   2016.4,2,    305.5,2,   2340.0,2,     8.07,2,   20.00,  -999.0,-999.0000,-999.000,   25.00,  -999.0, 26.4104,-999.000
    31DSCG94_3,  P18N,   120,  1,    133,   1244,2,19940406,2345, -9.6190,-103.5667, 4364,     74.4,  24.2207,  35.8910,2,  35.8880,2,    202.7,2,    215.7,2,     1.33,2,     0.67,2,     0.00,2,     0.35,2,    1.990,2,    1.117,2, -999.000,9, -999.000,9, -999.000,9,-999.0000,9,  -999.00,9,   -999.0,9,   -999.0,9,   -999.0,9,   -999.0,9,   -999.0,9,     8.08,2, -999.00,  -999.0,-999.0000,-999.000,   25.00,  -999.0, 24.2049,-999.000
    31DSCG94_3,  P18N,   120,  1,    132,   1003,3,19940406,2345, -9.6190,-103.5667, 4364,     99.3,  21.9744,  36.0008,2,  36.0102,2,    178.6,2,    195.1,2,     1.37,2,     0.98,2,     0.52,2,     0.51,2, -999.000,5, -999.000,5, -999.000,9, -999.000,9, -999.000,9,-999.0000,9,  -999.00,9,   -999.0,9,   -999.0,9,   2077.8,2,    360.2,2,   2401.0,2,  -999.00,9,   20.00,  -999.0,-999.0000,-999.000, -999.00,  -999.0, 21.9547,-999.000
    31DSCG94_3,  P18N,   120,  1,    131,   1211,2,19940406,2345, -9.6190,-103.5667, 4364,    126.0,  19.8966,  35.7171,2,  35.7385,2,    141.5,2,    185.2,2,     1.46,2,     3.92,2,     0.73,2,     0.63,2,    2.171,6,    1.194,6, -999.000,9, -999.000,9, -999.000,9,-999.0000,9,  -999.00,9,   -999.0,9,   -999.0,9,   2096.3,2,   -999.0,9,   2361.0,2,     7.96,2, -999.00,  -999.0,-999.0000,-999.000,   25.00,  -999.0, 19.8733,-999.000
    31DSCG94_3,  P18N,   120,  1,    130,   1241,2,19940406,2345, -9.6190,-103.5667, 4364,    153.0,  16.4078,  35.1624,2,  35.1697,2,    112.6,2,    142.1,2,     4.28,2,    11.18,2,     0.00,2,     1.14,2,    2.093,2,    1.119,2, -999.000,9, -999.000,9, -999.000,9,-999.0000,9,  -999.00,9,   -999.0,9,   -999.0,9,   -999.0,9,    611.2,2,   -999.0,9,     7.82,2,   20.00,  -999.0,-999.0000,-999.000,   25.00,  -999.0, 16.3831,-999.000
    31DSCG94_3,  P18N,   120,  1,    129,   1240,2,19940406,2345, -9.6190,-103.5667, 4364,    176.1,  14.7458,  34.9689,2,  34.9730,2,     65.3,2,     90.7,2,     8.30,2,    16.12,2,     0.00,2,     1.64,2,    1.697,2,    0.898,2, -999.000,9, -999.000,9, -999.000,9,-999.0000,9,  -999.00,9,   -999.0,9,   -999.0,9,   2173.9,2,   -999.0,9,   2312.0,2,     7.69,2, -999.00,  -999.0,-999.0000,-999.000,   25.00,  -999.0, 14.7194,-999.000
    31DSCG94_3,  P18N,   120,  1,    128,   1032,3,19940406,2345, -9.6190,-103.5667, 4364,    201.4,  13.2709,  34.8414,2,  34.8469,2,     14.9,2,     22.5,2,    16.33,2,    21.38,2,     0.00,2,     2.34,2,    1.002,2,    0.515,2, -999.000,9, -999.000,9, -999.000,9,-999.0000,9,  -999.00,9,   -999.0,9,   -999.0,9,   2233.9,2,   1353.3,2,   2303.0,2,  -999.00,9,   20.00,  -999.0,-999.0000,-999.000, -999.00,  -999.0, 13.2429,-999.000
    31DSCG94_3,  P18N,   120,  1,    127,   1008,2,19940406,2345, -9.6190,-103.5667, 4364,    248.9,  11.5219,  34.7944,2,  34.7953,2,     18.1,2,      9.9,2,    24.22,2,    29.19,2,     0.00,2,     2.51,2,    0.199,2,    0.117,2, -999.000,9, -999.000,9, -999.000,9,-999.0000,9,  -999.00,9,   -999.0,9,   -999.0,9,   2253.3,2,   1554.7,2,   2299.0,2,     7.45,2,   20.00,  -999.0,-999.0000,-999.000,   25.00,  -999.0, 11.4903,-999.000
    31DSCG94_3,  P18N,   120,  1,    126,   1007,2,19940406,2345, -9.6190,-103.5667, 4364,    294.6,  10.7359,  34.7798,2,  34.7807,2,     18.4,2,     18.6,2,    27.47,2,    32.65,2,     0.00,2,     2.44,2,    0.098,6,    0.057,6, -999.000,9, -999.000,9, -999.000,9,-999.0000,9,  -999.00,9,   -999.0,9,   -999.0,9,   2251.5,2,   1516.8,2,   2305.0,2,     7.46,2,   20.00,  -999.0,-999.0000,-999.000,   25.00,  -999.0, 10.7001,-999.000
    31DSCG94_3,  P18N,   120,  1,    125,   1203,2,19940406,2345, -9.6190,-103.5667, 4364,    349.8,   9.9806,  34.7354,2,  34.7344,2,     16.0,2,     18.3,2,    30.30,2,    34.76,2,     0.00,2,     2.53,2,    0.048,2,    0.023,2, -999.000,9, -999.000,9, -999.000,9,-999.0000,9,  -999.00,9,   -999.0,9,   -999.0,9,   -999.0,9,   -999.0,9,   -999.0,9,     7.44,2, -999.00,  -999.0,-999.0000,-999.000,   25.00,  -999.0,  9.9399,-999.000
    31DSCG94_3,  P18N,   120,  1,    122,   1245,2,19940406,2345, -9.6190,-103.5667, 4364,    406.5,   9.2291,  34.6936,2,  34.6929,2,     18.1,2,     16.6,2,    33.86,2,    36.64,2,     0.00,2,     2.63,2, -999.000,9, -999.000,9, -999.000,9, -999.000,9, -999.000,9,-999.0000,9,  -999.00,9,   -999.0,9,   -999.0,9,   2266.9,2,   -999.0,9,   2309.0,2,     7.42,2, -999.00,  -999.0,-999.0000,-999.000,   25.00,  -999.0,  9.1839,-999.000
    31DSCG94_3,  P18N,   120,  1,    121,   1206,2,19940406,2345, -9.6190,-103.5667, 4364,    407.5,   9.2187,  34.6925,2,  34.6936,2,     18.2,2,     16.6,2,    33.99,2,    37.06,2,     0.00,2,     2.64,2, -999.000,9, -999.000,9, -999.000,9, -999.000,9, -999.000,9,-999.0000,9,  -999.00,9,   -999.0,9,   -999.0,9,   2267.6,2,   -999.0,9,   2298.0,2,     7.42,2, -999.00,  -999.0,-999.0000,-999.000,   25.00,  -999.0,  9.1734,-999.000
    31DSCG94_3,  P18N,   120,  1,    123,   1220,2,19940406,2345, -9.6190,-103.5667, 4364,    407.7,   9.2182,  34.6926,2,  34.6918,2,     18.2,2,     16.7,2,    33.90,2,    36.82,2,     0.00,2,     2.64,2,    0.015,2,    0.009,2, -999.000,9, -999.000,9, -999.000,9,-999.0000,9,  -999.00,9,   -999.0,9,   -999.0,9,   2266.4,2,   1692.2,2,   2309.0,2,     7.42,2,   20.00,  -999.0,-999.0000,-999.000,   25.00,  -999.0,  9.1729,-999.000
    31DSCG94_3,  P18N,   120,  1,    120,   1028,2,19940406,2345, -9.6190,-103.5667, 4364,    701.1,   6.1577,  34.5479,2,  34.5484,2,     34.6,2,     33.5,2,    53.96,2,    43.02,2,     0.00,2,     2.98,2, -999.000,9, -999.000,9, -999.000,9, -999.000,9, -999.000,9,-999.0000,9,  -999.00,9,   -999.0,9,   -999.0,9,   2291.4,2,   1831.2,2,   2319.0,2,     7.39,2,   20.00,  -999.0,-999.0000,-999.000,   25.00,  -999.0,  6.0946,-999.000
    31DSCG94_3,  P18N,   120,  1,    119,   1248,2,19940406,2345, -9.6190,-103.5667, 4364,    793.0,   5.4298,  34.5356,2,  34.5352,2,     46.6,2,     49.1,2,    63.73,2,    43.70,2,     0.00,2,     2.97,2, -999.000,9, -999.000,9, -999.000,9, -999.000,9, -999.000,9,-999.0000,9,  -999.00,9,   -999.0,9,   -999.0,9,   2294.4,2,   1745.7,2,   2325.0,2,     7.41,2,   20.00,  -999.0,-999.0000,-999.000,   25.00,  -999.0,  5.3623,-999.000
    31DSCG94_3,  P18N,   120,  1,    118,   1115,2,19940406,2345, -9.6190,-103.5667, 4364,    901.6,   4.8562,  34.5355,2,  34.5356,2,     61.2,2,     63.8,2,    73.10,2,    42.71,2,     0.00,2,     2.92,2, -999.000,9, -999.000,9, -999.000,9, -999.000,9, -999.000,9,-999.0000,9,  -999.00,9,   -999.0,9,   -999.0,9,   2297.6,2,   1651.4,2,   2344.0,2,     7.43,2,   20.00,  -999.0,-999.0000,-999.000,   25.00,  -999.0,  4.7827,-999.000
    31DSCG94_3,  P18N,   120,  1,    117,   1119,2,19940406,2345, -9.6190,-103.5667, 4364,    987.7,   4.5857,  34.5379,2,  34.5384,2,     68.8,2,     70.9,2,    78.92,2,    41.79,2,     0.00,2,     2.89,2, -999.000,9, -999.000,9, -999.000,9, -999.000,9, -999.000,9,-999.0000,9,  -999.00,9,   -999.0,9,   -999.0,9,   2299.0,2,   1612.9,2,   2350.0,6,     7.44,2,   20.00,  -999.0,-999.0000,-999.000,   25.00,  -999.0,  4.5066,-999.000
    31DSCG94_3,  P18N,   120,  1,    116,   1036,2,19940406,2345, -9.6190,-103.5667, 4364,   1203.6,   3.7091,  34.5604,2,  34.5601,2,     88.5,2,     91.5,2,    95.47,2,    40.43,2,     0.00,2,     2.81,2, -999.000,9, -999.000,9, -999.000,9, -999.000,9, -999.000,9,-999.0000,9,  -999.00,9,   -999.0,9,   -999.0,9,   -999.0,9,   -999.0,9,   -999.0,9,  -999.00,9, -999.00,  -999.0,-999.0000,-999.000, -999.00,  -999.0,  3.6188,-999.000
    31DSCG94_3,  P18N,   120,  1,    115,   1017,2,19940406,2345, -9.6190,-103.5667, 4364,   1397.0,   3.1949,  34.5846,2,  34.5850,2,     93.7,2,     95.0,2,   108.59,2,    40.29,2,     0.00,2,     2.80,2, -999.000,9, -999.000,9, -999.000,9, -999.000,9, -999.000,9,-999.0000,9,  -999.00,9,   -999.0,9,   -999.0,9,   -999.0,9,   1476.8,2,   -999.0,9,  -999.00,9,   20.00,  -999.0,-999.0000,-999.000, -999.00,  -999.0,  3.0935,-999.000
    31DSCG94_3,  P18N,   120,  1,    114,   1016,2,19940406,2345, -9.6190,-103.5667, 4364,   1598.4,   2.7660,  34.6081,2,  34.6084,2,    103.6,2,    101.5,2,   119.68,2,    40.00,2,     0.00,2,     2.77,2, -999.000,9, -999.000,9, -999.000,9, -999.000,9, -999.000,9,-999.0000,9,  -999.00,9,   -999.0,9,   -999.0,9,   -999.0,9,   -999.0,9,   -999.0,9,  -999.00,9, -999.00,  -999.0,-999.0000,-999.000, -999.00,  -999.0,  2.6527,-999.000
    31DSCG94_3,  P18N,   120,  1,    113,   1209,2,19940406,2345, -9.6190,-103.5667, 4364,   1790.8,   2.4866,  34.6254,2,  34.6260,2,    111.1,2,    107.2,2,   127.85,2,    39.13,2,     0.00,2,     2.72,2, -999.000,9, -999.000,9, -999.000,9, -999.000,9, -999.000,9,-999.0000,9,  -999.00,9,   -999.0,9,   -999.0,9,   -999.0,9,   -999.0,9,   -999.0,9,  -999.00,9, -999.00,  -999.0,-999.0000,-999.000, -999.00,  -999.0,  2.3607,-999.000
    31DSCG94_3,  P18N,   120,  1,    112,   1033,2,19940406,2345, -9.6190,-103.5667, 4364,   1993.6,   2.3089,  34.6368,2,  34.6384,2,    115.8,2,    112.2,2,   134.80,2,    39.24,2,     0.00,2,     2.69,2, -999.000,9, -999.000,9, -999.000,9, -999.000,9, -999.000,9,-999.0000,9,  -999.00,9,   -999.0,9,   -999.0,9,   -999.0,9,   1370.0,2,   -999.0,9,  -999.00,9,   20.00,  -999.0,-999.0000,-999.000, -999.00,  -999.0,  2.1683,-999.000
    31DSCG94_3,  P18N,   120,  1,    111,   1240,2,19940406,2345, -9.6190,-103.5667, 4364,   2243.0,   2.0870,  34.6526,2,  34.6526,2,    119.5,2,    116.4,2,   141.88,2,    38.70,2,     0.00,2,     2.67,2, -999.000,9, -999.000,9, -999.000,9, -999.000,9, -999.000,9,-999.0000,9,  -999.00,9,   -999.0,9,   -999.0,9,   -999.0,9,   -999.0,9,   -999.0,9,  -999.00,9, -999.00,  -999.0,-999.0000,-999.000, -999.00,  -999.0,  1.9282,-999.000
    31DSCG94_3,  P18N,   120,  1,    110,   1005,2,19940406,2345, -9.6190,-103.5667, 4364,   2493.0,   1.9226,  34.6630,2,  34.6635,2,    127.1,2,    125.1,2,   142.21,2,    38.22,2,     0.00,2,     2.61,2, -999.000,9, -999.000,9, -999.000,9, -999.000,9, -999.000,9,-999.0000,9,  -999.00,9,   -999.0,9,   -999.0,9,   -999.0,9,   1271.2,2,   -999.0,9,  -999.00,9,   20.00,  -999.0,-999.0000,-999.000, -999.00,  -999.0,  1.7444,-999.000
    31DSCG94_3,  P18N,   120,  1,    109,   1611,2,19940406,2345, -9.6190,-103.5667, 4364,   2739.7,   1.8197,  34.6689,2,  34.6704,2,    132.1,2,    130.1,6,   143.93,2,    37.91,2,     0.00,2,     2.58,2, -999.000,9, -999.000,9, -999.000,9, -999.000,9, -999.000,9,-999.0000,9,  -999.00,9,   -999.0,9,   -999.0,9,   -999.0,9,   -999.0,9,   -999.0,9,  -999.00,9, -999.00,  -999.0,-999.0000,-999.000, -999.00,  -999.0,  1.6206,-999.000
    31DSCG94_3,  P18N,   120,  1,    108,   1218,2,19940406,2345, -9.6190,-103.5667, 4364,   2995.3,   1.7808,  34.6735,2,  34.6733,2,    136.8,2,    135.4,2,   142.08,2,    37.82,2,     0.00,2,     2.55,2, -999.000,9, -999.000,9, -999.000,9, -999.000,9, -999.000,9,-999.0000,9,  -999.00,9,   -999.0,9,   -999.0,9,   -999.0,9,   -999.0,9,   -999.0,9,  -999.00,9, -999.00,  -999.0,-999.0000,-999.000, -999.00,  -999.0,  1.5582,-999.000
    31DSCG94_3,  P18N,   120,  1,    107,   1257,2,19940406,2345, -9.6190,-103.5667, 4364,   3250.5,   1.7605,  34.6748,2,  34.6751,2,    137.4,2,    135.8,6,   146.50,2,    37.45,2,     0.01,2,     2.55,2, -999.000,9, -999.000,9, -999.000,9, -999.000,9, -999.000,9,-999.0000,9,  -999.00,9,   -999.0,9,   -999.0,9,   -999.0,9,   -999.0,9,   -999.0,9,  -999.00,9, -999.00,  -999.0,-999.0000,-999.000, -999.00,  -999.0,  1.5132,-999.000
    31DSCG94_3,  P18N,   120,  1,    106,   1224,2,19940406,2345, -9.6190,-103.5667, 4364,   3499.2,   1.7640,  34.6758,2,  34.6764,2,    138.1,2,    137.9,2,   150.98,2,    37.27,2,     0.00,2,     2.53,2, -999.000,9, -999.000,9, -999.000,9, -999.000,9, -999.000,9,-999.0000,9,  -999.00,9,   -999.0,9,   -999.0,9,   -999.0,9,   -999.0,9,   -999.0,9,  -999.00,9, -999.00,  -999.0,-999.0000,-999.000, -999.00,  -999.0,  1.4913,-999.000
    31DSCG94_3,  P18N,   120,  1,    105,   1246,2,19940406,2345, -9.6190,-103.5667, 4364,   3750.9,   1.7785,  34.6761,2,  34.6757,2,    138.9,2,    136.6,6,   149.89,2,    37.65,2,     0.00,2,     2.54,2, -999.000,9, -999.000,9, -999.000,9, -999.000,9, -999.000,9,-999.0000,9,  -999.00,9,   -999.0,9,   -999.0,9,   -999.0,9,   -999.0,9,   -999.0,9,  -999.00,9, -999.00,  -999.0,-999.0000,-999.000, -999.00,  -999.0,  1.4788,-999.000
    31DSCG94_3,  P18N,   120,  1,    104,   1217,2,19940406,2345, -9.6190,-103.5667, 4364,   3996.8,   1.7956,  34.6765,2,  34.6761,2,    139.6,2,    137.7,2,   148.57,2,    38.10,3,     0.00,2,     2.53,2, -999.000,9, -999.000,9, -999.000,9, -999.000,9, -999.000,9,-999.0000,9,  -999.00,9,   -999.0,9,   -999.0,9,   -999.0,9,   -999.0,9,   -999.0,9,  -999.00,9, -999.00,  -999.0,-999.0000,-999.000, -999.00,  -999.0,  1.4687,-999.000
    31DSCG94_3,  P18N,   120,  1,    102,   1223,2,19940406,2345, -9.6190,-103.5667, 4364,   4248.5,   1.8205,  34.6768,2,  34.6780,2,    140.2,2,    138.1,2,   150.39,2,    37.32,2,     0.00,2,     2.53,2, -999.000,9, -999.000,9, -999.000,9, -999.000,9, -999.000,9,-999.0000,9,  -999.00,9,   -999.0,9,   -999.0,9,   -999.0,9,   -999.0,9,   -999.0,9,  -999.00,9, -999.00,  -999.0,-999.0000,-999.000, -999.00,  -999.0,  1.4646,-999.000
    31DSCG94_3,  P18N,   120,  1,    103,   9999,2,19940406,2345, -9.6190,-103.5667, 4364,   4249.0,   1.8205,  34.6769,2,  34.6780,2,    140.2,2,    137.7,2,   149.87,2,    37.73,2,     0.00,2,     2.52,2, -999.000,9, -999.000,9, -999.000,9, -999.000,9, -999.000,9,-999.0000,9,  -999.00,9,   -999.0,9,   -999.0,9,   -999.0,9,   -999.0,9,   -999.0,9,  -999.00,9, -999.00,  -999.0,-999.0000,-999.000, -999.00,  -999.0,  1.4646,-999.000
    31DSCG94_3,  P18N,   120,  1,    101,   1041,2,19940406,2345, -9.6190,-103.5667, 4364,   4500.0,   1.8470,  34.6771,2,  34.6764,2,    140.4,2,    138.3,2,   150.45,2,    37.68,2,     0.00,2,     2.51,2, -999.000,9, -999.000,9, -999.000,9, -999.000,9, -999.000,9,-999.0000,9,  -999.00,9,   -999.0,9,   -999.0,9,   -999.0,9,   -999.0,9,   -999.0,9,  -999.00,9, -999.00,  -999.0,-999.0000,-999.000, -999.00,  -999.0,  1.4612,-999.000