BOTTLE,20220630CCHSIOAMB
EXPOCODE,SECT_ID,STNNBR,CASTNO,SAMPNO,BTLNBR,BTLNBR_FLAG_W,DATE,TIME,LATITUDE,LONGITUDE,DEPTH,CTDPRS,CTDTMP,CTDSAL,CTDSAL_FLAG_W,SALNTY,SALNTY_FLAG_W,CTDOXY,CTDOXY_FLAG_W,OXYGEN,OXYGEN_FLAG_W,SILCAT,SILCAT_FLAG_W,NITRAT,NITRAT_FLAG_W,NITRIT,NITRIT_FLAG_W,PHSPHT,PHSPHT_FLAG_W,CFC-11,CFC-11_FLAG_W,CFC-12,CFC-12_FLAG_W,CFC113,CFC113_FLAG_W,CCL4,CCL4_FLAG_W,TRITUM,TRITUM_FLAG_W,HELIUM,HELIUM_FLAG_W,DELHE3,DELHE3_FLAG_W,DELC14,DELC14_FLAG_W,DELC13,DELC13_FLAG_W,TCARBN,TCARBN_FLAG_W,PCO2,PCO2_FLAG_W,ALKALI,ALKALI_FLAG_W,PH,PH_FLAG_W,PCO2TMP,C14ERR,HELIER,DELHER,PH_TMP,C13ERR,THETA,TRITER
,,,,,,,,,,,,DBAR,ITS-90,PSS-78,,PSS-78,,UMOL/KG,,UMOL/KG,,UMOL/KG,,UMOL/KG,,UMOL/KG,,UMOL/KG,,PMOL/KG,,PMOL/KG,,PMOL/KG,,PMOL/KG,,TU,,NMOL/KG,,PERCNT,,/MILLE,,/MILLE,,UMOL/KG,,UATM,,UMOL/KG,,,,DEG C,/MILLE,NMOL/KG,PERCNT,DEG C,/MILLE,DEG C,TU
    31DSCG94_2,  P18S,    14,  1,    136,   1025,2,19940228,2345,-65.0000,-103.0000, 4949,     10.5,   2.6351,  33.8186,2,-999.0000,5,    323.6,2,    322.4,2,     8.70,2,    23.36,2,     0.24,2,     1.71,2,    5.923,2,    2.792,2, -999.000,9, -999.000,9, -999.000,9,-999.0000,9,  -999.00,9,   -999.0,9,      1.7,2,   2125.8,2,    705.6,2,   2285.0,2,  -999.00,9,   20.00,  -999.0,-999.0000,-999.000, -999.00,  -999.0,  2.6345,-999.000
    31DSCG94_2,  P18S,    14,  1,    135,   1247,2,19940228,2345,-65.0000,-103.0000, 4949,     25.1,   2.6382,  33.8194,2,  33.8202,2,    318.8,2,    322.3,2,     8.52,2,    22.79,2,     0.22,2,     1.66,2,    5.928,2,    2.830,2, -999.000,9, -999.000,9, -999.000,9,-999.0000,9,  -999.00,9,   -999.0,9,   -999.0,9,   2126.6,2,    647.9,3,   -999.0,5,  -999.00,9,   20.00,  -999.0,-999.0000,-999.000, -999.00,  -999.0,  2.6368,-999.000
    31DSCG94_2,  P18S,    14,  1,    134,   1108,2,19940228,2345,-65.0000,-103.0000, 4949,     49.8,   2.6399,  33.8244,2,  33.8258,2,    319.9,2,    322.3,2,     8.82,2,    22.88,2,     0.23,2,     1.67,2,    5.923,2,    2.781,2, -999.000,9, -999.000,9, -999.000,9,-999.0000,9,  -999.00,9,   -999.0,9,   -999.0,9,   2128.0,2,    706.2,6,   2279.0,2,  -999.00,9,   20.00,  -999.0,-999.0000,-999.000, -999.00,  -999.0,  2.6371,-999.000
    31DSCG94_2,  P18S,    14,  1,    133,   1244,2,19940228,2345,-65.0000,-103.0000, 4949,     73.1,   0.8393,  33.9072,2,  33.9069,2,    330.3,2,    339.3,2,    15.74,2,    24.33,2,     0.15,2,     1.80,2,    6.474,2,    2.966,2, -999.000,9, -999.000,9, -999.000,9,-999.0000,9,  -999.00,9,   -999.0,9,   -999.0,9,   2141.9,2,   -999.0,9,   2278.0,2,  -999.00,9, -999.00,  -999.0,-999.0000,-999.000, -999.00,  -999.0,  0.8363,-999.000
    31DSCG94_2,  P18S,    14,  1,    132,   1003,2,19940228,2345,-65.0000,-103.0000, 4949,     98.2,   0.4519,  33.9492,2,  33.9515,2,    340.2,2,    335.9,2,    21.07,2,    25.79,2,     0.16,2,     1.88,2,    6.361,2,    2.991,2, -999.000,9, -999.000,9, -999.000,9,-999.0000,9,  -999.00,9,   -999.0,9,   -999.0,9,   2149.5,2,    795.0,6,   -999.0,5,  -999.00,9,   20.00,  -999.0,-999.0000,-999.000, -999.00,  -999.0,  0.4481,-999.000
    31DSCG94_2,  P18S,    14,  1,    131,   1211,2,19940228,2345,-65.0000,-103.0000, 4949,    150.2,   0.1551,  33.9751,2,  33.9777,2,    316.4,2,    325.3,2,    23.90,2,    29.41,2,     0.07,2,     1.94,2,    6.167,2,    2.801,2, -999.000,9, -999.000,9, -999.000,9,-999.0000,9,  -999.00,9,   -999.0,9,   -999.0,9,   2162.9,3,    849.4,2,   -999.0,5,  -999.00,9,   20.00,  -999.0,-999.0000,-999.000, -999.00,  -999.0,  0.1496,-999.000
    31DSCG94_2,  P18S,    14,  1,    130,   1241,2,19940228,2345,-65.0000,-103.0000, 4949,    197.1,   0.3845,  34.0206,2,  34.0198,2,    308.8,2,    311.7,2,    26.64,2,    29.02,2,     0.00,2,     1.98,2,    5.603,2,    2.663,2, -999.000,9, -999.000,9, -999.000,9,-999.0000,9,  -999.00,9,   -999.0,9,   -999.0,9,   2167.6,3,    875.8,2,   2300.0,2,  -999.00,9,   20.00,  -999.0,-999.0000,-999.000, -999.00,  -999.0,  0.3768,-999.000
    31DSCG94_2,  P18S,    14,  1,    129,   1031,2,19940228,2345,-65.0000,-103.0000, 4949,    298.6,   2.2595,  34.3174,2,  34.3173,2,    213.6,2,    207.7,2,    51.68,2,    33.51,2,     0.00,2,     2.33,2,    1.878,3,    0.828,2, -999.000,9, -999.000,9, -999.000,9,-999.0000,9,  -999.00,9,   -999.0,9,   -999.0,9,   2224.6,3,   1145.1,2,   -999.0,5,  -999.00,9,   20.00,  -999.0,-999.0000,-999.000, -999.00,  -999.0,  2.2427,-999.000
    31DSCG94_2,  P18S,    14,  1,    128,   1210,2,19940228,2345,-65.0000,-103.0000, 4949,    399.4,   2.3348,  34.4314,2,  34.4315,2,    189.0,2,    185.9,2,    62.28,2,    34.23,2,     0.00,2,     2.37,2,    0.994,2,    0.451,2, -999.000,9, -999.000,9, -999.000,9,-999.0000,9,  -999.00,9,   -999.0,9,   -999.0,9,   2242.4,3,   1188.4,2,   2320.0,2,  -999.00,9,   20.00,  -999.0,-999.0000,-999.000, -999.00,  -999.0,  2.3118,-999.000
    31DSCG94_2,  P18S,    14,  1,    127,   1008,2,19940228,2345,-65.0000,-103.0000, 4949,    502.5,   2.2812,  34.4956,2,  34.4968,2,    179.3,2,    178.2,2,    68.20,2,    34.34,2,     0.00,2,     2.40,2,    1.178,4,    0.317,2, -999.000,9, -999.000,9, -999.000,9,-999.0000,9,  -999.00,9,   -999.0,9,   -999.0,9,   2282.4,3,   1207.9,6,   2320.0,2,  -999.00,9,   20.00,  -999.0,-999.0000,-999.000, -999.00,  -999.0,  2.2519,-999.000
    31DSCG94_2,  P18S,    14,  1,    126,   1007,2,19940228,2345,-65.0000,-103.0000, 4949,    603.0,   2.2101,  34.5522,2,  34.5515,2,    174.9,2,    175.4,2,    72.94,2,    34.12,2,     0.00,2,     2.38,2,    0.556,3,    0.242,2, -999.000,9, -999.000,9, -999.000,9,-999.0000,9,  -999.00,9,   -999.0,9,   -999.0,9,   2256.9,3,   1198.7,2,   2343.0,2,  -999.00,9,   20.00,  -999.0,-999.0000,-999.000, -999.00,  -999.0,  2.1748,-999.000
    31DSCG94_2,  P18S,    14,  1,    125,   1203,2,19940228,2345,-65.0000,-103.0000, 4949,    698.8,   2.2093,  34.6008,2,  34.6004,2,    171.4,2,    173.0,2,    76.29,2,    33.67,2,     0.00,2,     2.33,2,    0.385,3,    0.141,2, -999.000,9, -999.000,9, -999.000,9,-999.0000,9,  -999.00,9,   -999.0,9,   -999.0,9,   2256.1,3,   -999.0,9,   2328.0,2,  -999.00,9, -999.00,  -999.0,-999.0000,-999.000, -999.00,  -999.0,  2.1678,-999.000
    31DSCG94_2,  P18S,    14,  1,    123,   1101,2,19940228,2345,-65.0000,-103.0000, 4949,    799.2,   2.1468,  34.6340,2,  34.6335,2,    171.5,2,    173.7,2,    78.58,2,    33.01,2,     0.00,2,     2.32,2,    0.441,4,    0.125,2, -999.000,9, -999.000,9, -999.000,9,-999.0000,9,  -999.00,9,   -999.0,9,   -999.0,9,   2292.0,3,   1178.5,2,   2335.0,2,  -999.00,9,   20.00,  -999.0,-999.0000,-999.000, -999.00,  -999.0,  2.0990,-999.000
    31DSCG94_2,  P18S,    14,  1,    121,   1206,2,19940228,2345,-65.0000,-103.0000, 4949,    898.4,   2.1117,  34.6610,2,  34.6608,2,    172.9,2,    175.1,2,    80.35,2,    32.77,2,     0.00,2,     2.28,2,    0.328,4,    0.089,2, -999.000,9, -999.000,9, -999.000,9,-999.0000,9,  -999.00,9,   -999.0,9,   -999.0,9,   2256.6,3,   -999.0,9,   2348.0,2,  -999.00,9, -999.00,  -999.0,-999.0000,-999.000, -999.00,  -999.0,  2.0575,-999.000
    31DSCG94_2,  P18S,    14,  1,    119,   1248,2,19940228,2345,-65.0000,-103.0000, 4949,    998.7,   2.0641,  34.6853,2,  34.6846,2,    175.2,2,    177.9,2,    82.22,2,    32.28,2,     0.00,2,     2.23,2,    0.179,3,    0.064,2, -999.000,9, -999.000,9, -999.000,9,-999.0000,9,  -999.00,9,   -999.0,9,   -999.0,9,   2255.7,2,   1131.6,6,   -999.0,5,  -999.00,9,   20.00,  -999.0,-999.0000,-999.000, -999.00,  -999.0,  2.0033,-999.000
    31DSCG94_2,  P18S,    14,  1,    118,   1207,2,19940228,2345,-65.0000,-103.0000, 4949,   1197.1,   1.9417,  34.7117,2,  34.7116,2,    180.6,2,    182.6,2,    86.66,2,    31.33,2,     0.00,2,     2.20,2,    0.136,3,    0.050,6, -999.000,9, -999.000,9, -999.000,9,-999.0000,9,  -999.00,9,   -999.0,9,   -999.0,9,   2251.8,2,   1109.7,2,   2354.0,2,  -999.00,9,   20.00,  -999.0,-999.0000,-999.000, -999.00,  -999.0,  1.8681,-999.000
    31DSCG94_2,  P18S,    14,  1,    117,   1119,2,19940228,2345,-65.0000,-103.0000, 4949,   1398.4,   1.7917,  34.7268,2,  34.7253,2,    185.6,2,    187.4,2,    90.86,2,    31.09,2,     0.00,2,     2.17,2,    0.125,3,    0.034,2, -999.000,9, -999.000,9, -999.000,9,-999.0000,9,  -999.00,9,   -999.0,9,   -999.0,9,   2253.4,2,   1082.7,2,   2337.0,2,  -999.00,9,   20.00,  -999.0,-999.0000,-999.000, -999.00,  -999.0,  1.7050,-999.000
    31DSCG94_2,  P18S,    14,  1,    116,   1036,2,19940228,2345,-65.0000,-103.0000, 4949,   1601.0,   1.6321,  34.7307,2,  34.7301,2,    190.0,2,    190.7,2,    96.22,2,    30.94,2,     0.00,2,     2.16,2,    0.141,4,    0.029,2, -999.000,9, -999.000,9, -999.000,9,-999.0000,9,  -999.00,9,   -999.0,9,   -999.0,9,   2254.2,2,   1073.6,6,   2355.0,2,  -999.00,9,   20.00,  -999.0,-999.0000,-999.000, -999.00,  -999.0,  1.5322,-999.000
    31DSCG94_2,  P18S,    14,  1,    115,   1017,2,19940228,2345,-65.0000,-103.0000, 4949,   1801.5,   1.4825,  34.7301,2,  34.7295,2,    192.5,2,    193.2,2,   101.00,2,    31.00,2,     0.00,2,     2.16,2,    0.068,4,    0.020,2, -999.000,9, -999.000,9, -999.000,9,-999.0000,9,  -999.00,9,   -999.0,9,   -999.0,9,   2256.1,2,   -999.0,9,   2365.0,2,  -999.00,9, -999.00,  -999.0,-999.0000,-999.000, -999.00,  -999.0,  1.3693,-999.000
    31DSCG94_2,  P18S,    14,  1,    114,   1016,2,19940228,2345,-65.0000,-103.0000, 4949,   1995.5,   1.3635,  34.7279,2,  34.7271,2,    195.1,2,    195.2,2,   104.44,2,    31.32,2,     0.00,2,     2.16,2,    0.134,4,    0.019,2, -999.000,9, -999.000,9, -999.000,9,-999.0000,9,  -999.00,9,   -999.0,9,   -999.0,9,   2257.6,2,   1070.1,6,   2355.0,2,  -999.00,9,   20.00,  -999.0,-999.0000,-999.000, -999.00,  -999.0,  1.2368,-999.000
    31DSCG94_2,  P18S,    14,  1,    113,   1118,2,19940228,2345,-65.0000,-103.0000, 4949,   2249.4,   1.1983,  34.7232,2,  34.7241,2,    198.0,2,    197.9,2,   109.51,2,    31.18,2,     0.00,2,     2.20,2,    0.047,6,    0.017,6, -999.000,9, -999.000,9, -999.000,9,-999.0000,9,  -999.00,9,   -999.0,9,   -999.0,9,   2258.2,2,   1069.9,6,   2357.0,2,  -999.00,9,   20.00,  -999.0,-999.0000,-999.000, -999.00,  -999.0,  1.0538,-999.000
    31DSCG94_2,  P18S,    14,  1,    112,   1033,3,19940228,2345,-65.0000,-103.0000, 4949,   2499.6,   1.0416,  34.7175,2,-999.0000,5,    200.5,2,   -999.0,9,  -999.00,9,  -999.00,9,  -999.00,9,  -999.00,9, -999.000,5, -999.000,5, -999.000,9, -999.000,9, -999.000,9,-999.0000,9,  -999.00,9,   -999.0,9,   -999.0,9,   -999.0,9,   -999.0,9,   -999.0,9,  -999.00,9, -999.00,  -999.0,-999.0000,-999.000, -999.00,  -999.0,  0.8790,-999.000
    31DSCG94_2,  P18S,    14,  1,    111,   1263,2,19940228,2345,-65.0000,-103.0000, 4949,   2752.2,   0.9269,  34.7128,2,  34.7122,2,    201.9,2,    203.0,2,   119.13,2,    31.58,2,     0.00,2,     2.23,2,    0.064,4,    0.018,2, -999.000,9, -999.000,9, -999.000,9,-999.0000,9,  -999.00,9,   -999.0,9,   -999.0,9,   2260.1,2,   -999.0,9,   2350.0,2,  -999.00,9, -999.00,  -999.0,-999.0000,-999.000, -999.00,  -999.0,  0.7448,-999.000
    31DSCG94_2,  P18S,    14,  1,    110,   1005,2,19940228,2345,-65.0000,-103.0000, 4949,   2998.4,   0.8204,  34.7096,2,  34.7085,2,    204.2,2,    205.0,2,   123.30,2,    30.57,2,     0.00,2,     2.20,2,    0.130,2,    0.021,2, -999.000,9, -999.000,9, -999.000,9,-999.0000,9,  -999.00,9,   -999.0,9,   -999.0,9,   2258.9,2,   1079.6,6,   2365.0,2,  -999.00,9,   20.00,  -999.0,-999.0000,-999.000, -999.00,  -999.0,  0.6186,-999.000
    31DSCG94_2,  P18S,    14,  1,    109,   1611,2,19940228,2345,-65.0000,-103.0000, 4949,   3223.0,   0.7400,  34.7074,2,  34.7059,2,    205.9,2,    206.6,2,   125.38,2,    32.16,2,     0.00,2,     2.21,2,    0.187,4,    0.022,2, -999.000,9, -999.000,9, -999.000,9,-999.0000,9,  -999.00,9,   -999.0,9,   -999.0,9,   2261.2,2,   -999.0,9,   2362.0,2,  -999.00,9, -999.00,  -999.0,-999.0000,-999.000, -999.00,  -999.0,  0.5194,-999.000
    31DSCG94_2,  P18S,    14,  1,    108,   1218,2,19940228,2345,-65.0000,-103.0000, 4949,   3495.6,   0.6300,  34.7054,2,  34.7038,2,    208.6,2,    208.8,2,   126.89,2,    32.17,2,     0.00,2,     2.23,2,    0.151,4,    0.034,2, -999.000,9, -999.000,9, -999.000,9,-999.0000,9,  -999.00,9,   -999.0,9,   -999.0,9,   2258.8,2,   1083.4,6,   2360.0,2,  -999.00,9,   20.00,  -999.0,-999.0000,-999.000, -999.00,  -999.0,  0.3862,-999.000
    31DSCG94_2,  P18S,    14,  1,    107,   1257,2,19940228,2345,-65.0000,-103.0000, 4949,   3749.4,   0.5218,  34.7040,2,  34.7027,2,    211.5,2,    211.4,2,   127.63,2,    31.58,2,     0.00,2,     2.23,2,    0.097,3,    0.031,2, -999.000,9, -999.000,9, -999.000,9,-999.0000,9,  -999.00,9,   -999.0,9,   -999.0,9,   2259.2,2,   -999.0,9,   2361.0,2,  -999.00,9, -999.00,  -999.0,-999.0000,-999.000, -999.00,  -999.0,  0.2558,-999.000
    31DSCG94_2,  P18S,    14,  1,    106,   1224,2,19940228,2345,-65.0000,-103.0000, 4949,   4000.6,   0.4442,  34.7033,2,  34.7024,2,    214.1,2,    213.4,2,   128.99,2,    32.19,2,     0.00,2,     2.23,2,    0.060,2,    0.031,6, -999.000,9, -999.000,9, -999.000,9,-999.0000,9,  -999.00,9,   -999.0,9,   -999.0,9,   2259.4,2,   1075.6,6,   2368.0,2,  -999.00,9,   20.00,  -999.0,-999.0000,-999.000, -999.00,  -999.0,  0.1550,-999.000
    31DSCG94_2,  P18S,    14,  1,    105,   1246,2,19940228,2345,-65.0000,-103.0000, 4949,   4237.4,   0.3993,  34.7028,2,  34.7013,2,    215.5,2,    214.6,2,   130.83,2,    31.51,2,     0.00,2,     2.24,2,    0.090,2,    0.042,2, -999.000,9, -999.000,9, -999.000,9,-999.0000,9,  -999.00,9,   -999.0,9,   -999.0,9,   2260.9,2,   1089.0,2,   2373.0,2,  -999.00,9,   20.00,  -999.0,-999.0000,-999.000, -999.00,  -999.0,  0.0868,-999.000
    31DSCG94_2,  P18S,    14,  1,    104,   1028,2,19940228,2345,-65.0000,-103.0000, 4949,   4499.7,   0.3732,  34.7033,2,  34.7010,2,    217.8,2,    215.7,2,   133.13,2,    31.71,2,     0.00,2,     2.24,2,    3.004,4,    0.039,2, -999.000,9, -999.000,9, -999.000,9,-999.0000,9,  -999.00,9,   -999.0,9,   -999.0,9,   2260.0,2,   1078.6,6,   2360.0,2,  -999.00,9,   20.00,  -999.0,-999.0000,-999.000, -999.00,  -999.0,  0.0333,-999.000
    31DSCG94_2,  P18S,    14,  1,    102,   1223,2,19940228,2345,-65.0000,-103.0000, 4949,   4749.0,   0.3684,  34.7028,2,  34.7011,2,    219.0,2,    216.1,2,   135.03,2,    31.59,2,     0.00,2,     2.25,2,    0.152,3,    0.048,2, -999.000,9, -999.000,9, -999.000,9,-999.0000,9,  -999.00,9,   -999.0,9,   -999.0,9,   2261.2,2,   1081.7,2,   2363.0,2,  -999.00,9,   20.00,  -999.0,-999.0000,-999.000, -999.00,  -999.0,  0.0011,-999.000
    31DSCG94_2,  P18S,    14,  1,    103,   9999,3,19940228,2345,-65.0000,-103.0000, 4949,   4751.7,   0.3682,  34.7031,2,-999.0000,5,    219.5,2,   -999.0,9,  -999.00,9,  -999.00,9,  -999.00,9,  -999.00,9, -999.000,5, -999.000,5, -999.000,9, -999.000,9, -999.000,9,-999.0000,9,  -999.00,9,   -999.0,9,   -999.0,9,   -999.0,9,   -999.0,9,   -999.0,9,  -999.00,9, -999.00,  -999.0,-999.0000,-999.000, -999.00,  -999.0,  0.0006,-999.000
    31DSCG94_2,  P18S,    14,  1,    101,   1041,2,19940228,2345,-65.0000,-103.0000, 4949,   5025.1,   0.3752,  34.7020,2,-999.0000,9,    219.3,2,    215.9,2,  -999.00,9,  -999.00,9,  -999.00,9,  -999.00,9,    0.137,6,    0.065,6, -999.000,9, -999.000,9, -999.000,9,-999.0000,9,  -999.00,9,   -999.0,9,   -999.0,9,   2263.4,2,   1073.6,2,   -999.0,5,  -999.00,9,   20.00,  -999.0,-999.0000,-999.000, -999.00,  -999.0, -0.0238,-999.000