BOTTLE,20220630CCHSIOAMB
EXPOCODE,SECT_ID,STNNBR,CASTNO,SAMPNO,BTLNBR,BTLNBR_FLAG_W,DATE,TIME,LATITUDE,LONGITUDE,DEPTH,CTDPRS,CTDTMP,CTDSAL,CTDSAL_FLAG_W,SALNTY,SALNTY_FLAG_W,CTDOXY,CTDOXY_FLAG_W,OXYGEN,OXYGEN_FLAG_W,SILCAT,SILCAT_FLAG_W,NITRAT,NITRAT_FLAG_W,NITRIT,NITRIT_FLAG_W,PHSPHT,PHSPHT_FLAG_W,CFC-11,CFC-11_FLAG_W,CFC-12,CFC-12_FLAG_W,CFC113,CFC113_FLAG_W,CCL4,CCL4_FLAG_W,TRITUM,TRITUM_FLAG_W,HELIUM,HELIUM_FLAG_W,DELHE3,DELHE3_FLAG_W,DELC14,DELC14_FLAG_W,DELC13,DELC13_FLAG_W,TCARBN,TCARBN_FLAG_W,PCO2,PCO2_FLAG_W,ALKALI,ALKALI_FLAG_W,PH,PH_FLAG_W,PCO2TMP,C14ERR,HELIER,DELHER,PH_TMP,C13ERR,THETA,TRITER
,,,,,,,,,,,,DBAR,ITS-90,PSS-78,,PSS-78,,UMOL/KG,,UMOL/KG,,UMOL/KG,,UMOL/KG,,UMOL/KG,,UMOL/KG,,PMOL/KG,,PMOL/KG,,PMOL/KG,,PMOL/KG,,TU,,NMOL/KG,,PERCNT,,/MILLE,,/MILLE,,UMOL/KG,,UATM,,UMOL/KG,,,,DEG C,/MILLE,NMOL/KG,PERCNT,DEG C,/MILLE,DEG C,TU
    31DSCG94_3,  P18N,   152,  1,    136,   1025,2,19940415,1141,  2.3330,-110.3333, 3701,      8.0,  27.0368,  34.3869,2,  34.3918,2,    198.3,2,    201.8,2,     4.02,2,     4.27,2,     0.05,2,     0.53,2,    1.824,6,    0.969,6, -999.000,9, -999.000,9, -999.000,9,-999.0000,9,  -999.00,9,   -999.0,5,      1.4,2,   1996.3,2,    354.1,2,   2261.0,3,     8.01,2,   20.00,  -999.0,-999.0000,-999.000,   25.00,  -999.0, 27.0350,-999.000
    31DSCG94_3,  P18N,   152,  1,    135,   1247,2,19940415,1141,  2.3330,-110.3333, 3701,     24.9,  27.0574,  34.5017,2,  34.5009,2,    193.2,2,    201.7,2,     3.90,2,     4.49,2,     0.06,2,     0.54,2,    1.698,2,    0.969,2, -999.000,9, -999.000,9, -999.000,9,-999.0000,9,  -999.00,9,     40.9,2,      1.3,2,   -999.0,9,   -999.0,9,   -999.0,9,  -999.00,9, -999.00,     7.0,-999.0000,-999.000, -999.00,  -999.0, 27.0517,-999.000
    31DSCG94_3,  P18N,   152,  1,    134,   1216,2,19940415,1141,  2.3330,-110.3333, 3701,     49.9,  18.8351,  34.8142,2,  34.8139,2,    126.4,2,    126.3,2,    10.62,2,    14.40,2,     0.28,2,     1.21,2,    1.263,2,    0.682,2, -999.000,9, -999.000,9, -999.000,9,-999.0000,9,  -999.00,9,     47.4,2,      0.8,2,   2109.1,2,    588.4,2,   2284.0,2,     7.82,2,   20.00,     4.3,-999.0000,-999.000,   25.00,  -999.0, 18.8263,-999.000
    31DSCG94_3,  P18N,   152,  1,    133,   1244,2,19940415,1141,  2.3330,-110.3333, 3701,     74.9,  15.5690,  34.9422,2,  34.9449,2,     68.0,2,     45.1,2,    17.71,2,    24.70,2,     0.93,2,     1.84,2,    0.895,2,    0.491,2, -999.000,9, -999.000,9, -999.000,9,-999.0000,9,  -999.00,9,   -999.0,9,   -999.0,9,   -999.0,9,   -999.0,9,   -999.0,9,     7.63,2, -999.00,  -999.0,-999.0000,-999.000,   25.00,  -999.0, 15.5574,-999.000
    31DSCG94_3,  P18N,   152,  1,    132,   1003,2,19940415,1141,  2.3330,-110.3333, 3701,    101.0,  14.9551,  34.9572,2,  34.9557,2,     65.6,2,     74.2,2,    17.32,2,    22.44,2,     0.17,2,     1.65,2, -999.000,9, -999.000,9, -999.000,9, -999.000,9, -999.000,9,-999.0000,9,  -999.00,9,     33.6,2,      0.4,2,   2169.7,2,    824.5,2,   2292.0,2,     7.69,2,   20.00,     4.8,-999.0000,-999.000,   25.00,  -999.0, 14.9399,-999.000
    31DSCG94_3,  P18N,   152,  1,    131,   1211,2,19940415,1141,  2.3330,-110.3333, 3701,    126.4,  14.1777,  34.9484,2,  34.9482,2,     62.0,2,     64.0,2,    19.22,2,    24.67,2,     0.00,2,     1.79,2,    0.797,2,    0.437,2, -999.000,9, -999.000,9, -999.000,9,-999.0000,9,  -999.00,9,   -999.0,9,   -999.0,9,   -999.0,9,   -999.0,9,   -999.0,9,     7.65,2, -999.00,  -999.0,-999.0000,-999.000,   25.00,  -999.0, 14.1593,-999.000
    31DSCG94_3,  P18N,   152,  1,    130,   1241,2,19940415,1141,  2.3330,-110.3333, 3701,    153.3,  13.6337,  34.9316,2,  34.9319,2,     55.5,2,     53.2,2,    21.00,2,    26.51,2,     0.00,2,     1.90,2, -999.000,9, -999.000,9, -999.000,9, -999.000,9, -999.000,9,-999.0000,9,  -999.00,9,      2.9,2,      0.3,2,   2197.5,2,   -999.0,9,   2295.0,2,     7.62,2, -999.00,     6.3,-999.0000,-999.000,   25.00,  -999.0, 13.6120,-999.000
    31DSCG94_3,  P18N,   152,  1,    129,   1240,2,19940415,1141,  2.3330,-110.3333, 3701,    175.0,  13.3050,  34.9117,2,  34.9129,2,     55.4,2,     47.7,6,    21.96,2,    27.18,2,     0.00,2,     1.95,2,    0.582,2,    0.321,2, -999.000,9, -999.000,9, -999.000,9,-999.0000,9,  -999.00,9,   -999.0,9,   -999.0,9,   -999.0,9,   -999.0,9,   -999.0,9,     7.60,2, -999.00,  -999.0,-999.0000,-999.000,   25.00,  -999.0, 13.2806,-999.000
    31DSCG94_3,  P18N,   152,  1,    128,   1032,2,19940415,1141,  2.3330,-110.3333, 3701,    200.3,  12.9047,  34.8870,2,  34.8852,2,     42.4,2,     35.4,2,    24.18,2,    29.33,2,     0.00,2,     2.09,2, -999.000,9, -999.000,9, -999.000,9, -999.000,9, -999.000,9,-999.0000,9,  -999.00,9,   -999.0,5,      0.2,2,   2217.8,2,   1154.1,2,   2296.0,2,     7.56,2,   20.00,  -999.0,-999.0000,-999.000,   25.00,  -999.0, 12.8773,-999.000
    31DSCG94_3,  P18N,   152,  1,    127,   1008,2,19940415,1141,  2.3330,-110.3333, 3701,    227.3,  12.5465,  34.8603,2,  34.8589,2,     36.2,2,     30.9,2,    25.41,2,    30.36,2,     0.00,2,     2.15,2,    1.326,4,    0.585,4, -999.000,9, -999.000,9, -999.000,9,-999.0000,9,  -999.00,9,   -999.0,9,   -999.0,9,   -999.0,9,   -999.0,9,   -999.0,9,     7.54,2, -999.00,  -999.0,-999.0000,-999.000,   25.00,  -999.0, 12.5160,-999.000
    31DSCG94_3,  P18N,   152,  1,    126,   1007,2,19940415,1141,  2.3330,-110.3333, 3701,    248.4,  12.1647,  34.8325,2,  34.8311,2,     32.5,2,     30.5,2,    26.77,2,    30.94,2,     0.00,2,     2.17,2, -999.000,9, -999.000,9, -999.000,9, -999.000,9, -999.000,9,-999.0000,9,  -999.00,9,   -999.0,9,   -999.0,9,   2228.8,2,   -999.0,9,   2293.0,2,  -999.00,9, -999.00,  -999.0,-999.0000,-999.000, -999.00,  -999.0, 12.1320,-999.000
    31DSCG94_3,  P18N,   152,  1,    125,   1256,2,19940415,1141,  2.3330,-110.3333, 3701,    302.0,  11.2662,  34.7742,2,  34.7738,2,     26.9,2,     29.3,2,    29.96,2,    32.06,2,     0.00,2,     2.27,2,    0.274,2,    0.147,2, -999.000,9, -999.000,9, -999.000,9,-999.0000,9,  -999.00,9,    -43.2,2,      0.1,2,   2238.8,2,   1347.2,2,   2293.0,2,     7.51,2,   20.00,     3.8,-999.0000,-999.000,   25.00,  -999.0, 11.2283,-999.000
    31DSCG94_3,  P18N,   152,  1,    123,   1220,2,19940415,1141,  2.3330,-110.3333, 3701,    348.6,  10.3082,  34.7189,2,  34.7189,2,     25.1,2,     23.9,2,    35.05,2,    34.25,2,     0.00,2,     2.44,2, -999.000,9, -999.000,9, -999.000,9, -999.000,9, -999.000,9,-999.0000,9,  -999.00,9,   -999.0,9,   -999.0,9,   -999.0,9,   -999.0,9,   -999.0,9,     7.47,2, -999.00,  -999.0,-999.0000,-999.000,   25.00,  -999.0, 10.2668,-999.000
    31DSCG94_3,  P18N,   152,  1,    122,   1245,2,19940415,1141,  2.3330,-110.3333, 3701,    401.5,   9.2760,  34.6723,2,  34.6705,2,     20.1,2,     21.1,2,    40.23,2,    36.68,2,     0.00,2,     2.60,2,    0.067,2,    0.031,2, -999.000,9, -999.000,9, -999.000,9,-999.0000,9,  -999.00,9,    -93.6,2,      0.1,2,   2267.5,2,   1607.9,2,   2301.0,2,     7.44,2,   20.00,     4.4,-999.0000,-999.000,   25.00,  -999.0,  9.2312,-999.000
    31DSCG94_3,  P18N,   152,  1,    121,   1206,2,19940415,1141,  2.3330,-110.3333, 3701,    500.5,   8.0791,  34.6170,2,  34.6152,2,     28.1,2,     36.2,2,    45.20,2,    38.26,2,     0.00,2,     2.69,2,    0.028,2,    0.013,2, -999.000,9, -999.000,9, -999.000,9,-999.0000,9,  -999.00,9,   -999.0,5,      0.1,2,   2269.3,2,   1597.3,2,   2303.0,2,     7.44,2,   20.00,  -999.0,-999.0000,-999.000,   25.00,  -999.0,  8.0274,-999.000
    31DSCG94_3,  P18N,   152,  1,    120,   1028,2,19940415,1141,  2.3330,-110.3333, 3701,    602.1,   7.0911,  34.5799,2,  34.5779,2,     44.7,2,     49.3,2,    51.60,2,    39.42,2,     0.00,2,     2.76,2,    0.017,2,    0.004,2, -999.000,9, -999.000,9, -999.000,9,-999.0000,9,  -999.00,9,   -999.0,9,   -999.0,9,   2273.7,2,   1574.2,2,   2311.0,2,     7.45,2,   20.00,  -999.0,-999.0000,-999.000,   25.00,  -999.0,  7.0330,-999.000
    31DSCG94_3,  P18N,   152,  1,    119,   1248,2,19940415,1141,  2.3330,-110.3333, 3701,    700.5,   6.4321,  34.5621,2,  34.5623,2,     45.7,2,     52.4,6,    58.52,2,    40.25,2,     0.00,2,     2.83,2, -999.000,9, -999.000,9, -999.000,9, -999.000,9, -999.000,9,-999.0000,9,  -999.00,9,   -999.0,9,   -999.0,9,   2281.2,2,   1600.0,2,   2316.0,2,     7.44,2,   20.00,  -999.0,-999.0000,-999.000,   25.00,  -999.0,  6.3675,-999.000
    31DSCG94_3,  P18N,   152,  1,    118,   1115,2,19940415,1141,  2.3330,-110.3333, 3701,    800.4,   5.7470,  34.5607,2,  34.5600,2,     40.3,2,     41.9,2,    71.46,2,    42.40,2,     0.00,2,     2.99,2,    0.005,2,    0.001,2, -999.000,9, -999.000,9, -999.000,9,-999.0000,9,  -999.00,9,   -999.0,5,      0.1,2,   2302.9,2,   1745.0,2,   2329.0,2,     7.41,2,   20.00,  -999.0,-999.0000,-999.000,   25.00,  -999.0,  5.6769,-999.000
    31DSCG94_3,  P18N,   152,  1,    117,   1119,2,19940415,1141,  2.3330,-110.3333, 3701,    901.6,   5.0625,  34.5589,2,  34.5588,2,     47.3,2,     52.9,6,    82.90,2,    42.30,2,     0.00,2,     2.99,2, -999.000,9, -999.000,9, -999.000,9, -999.000,9, -999.000,9,-999.0000,9,  -999.00,9,   -999.0,9,   -999.0,9,   2310.4,2,   1681.3,2,   2344.0,6,     7.42,2,   20.00,  -999.0,-999.0000,-999.000,   25.00,  -999.0,  4.9875,-999.000
    31DSCG94_3,  P18N,   152,  1,    116,   1036,2,19940415,1141,  2.3330,-110.3333, 3701,   1001.3,   4.4992,  34.5642,2,  34.5630,2,     56.4,2,     61.1,2,    93.37,2,    41.74,2,     0.00,2,     2.97,2, -999.000,9, -999.000,9, -999.000,9, -999.000,9, -999.000,9,   1.8610,2,    18.43,2,   -999.0,9,   -999.0,9,   2318.0,2,   1654.9,2,   2354.0,2,     7.44,2,   20.00,  -999.0,-999.0000,-999.000,   25.00,  -999.0,  4.4195,-999.000
    31DSCG94_3,  P18N,   152,  1,    115,   1017,2,19940415,1141,  2.3330,-110.3333, 3701,   1201.2,   3.7728,  34.5821,2,  34.5809,2,     65.7,2,     69.7,2,   109.01,2,    41.62,2,     0.00,2,     3.00,2, -999.000,9, -999.000,9, -999.000,9, -999.000,9, -999.000,9,   1.8840,2,    21.70,2,   -999.0,9,   -999.0,9,   -999.0,9,   -999.0,9,   -999.0,9,     7.45,2, -999.00,  -999.0,-999.0000,-999.000,   25.00,  -999.0,  3.6820,-999.000
    31DSCG94_3,  P18N,   152,  1,    114,   1016,2,19940415,1141,  2.3330,-110.3333, 3701,   1399.4,   3.3267,  34.5944,2,  34.5932,2,     78.5,2,     80.6,2,   116.45,2,    40.85,2,     0.00,2,     2.92,2, -999.000,9, -999.000,9, -999.000,9, -999.000,9, -999.000,9,   1.8820,2,    23.87,2,   -999.0,9,   -999.0,9,   -999.0,9,   -999.0,9,   -999.0,9,     7.47,2, -999.00,  -999.0,-999.0000,-999.000,   25.00,  -999.0,  3.2236,-999.000
    31DSCG94_3,  P18N,   152,  1,    113,   1209,2,19940415,1141,  2.3330,-110.3333, 3701,   1599.6,   2.9289,  34.6112,2,  34.6110,2,     87.7,2,     92.9,3,   125.89,2,    40.93,2,     0.00,2,     2.88,2, -999.000,9, -999.000,9, -999.000,9, -999.000,9, -999.000,9,   1.9050,2,    26.90,2,   -999.0,9,   -999.0,9,   -999.0,9,   -999.0,9,   -999.0,9,     7.48,2, -999.00,  -999.0,-999.0000,-999.000,   25.00,  -999.0,  2.8134,-999.000
    31DSCG94_3,  P18N,   152,  1,    112,   1033,2,19940415,1141,  2.3330,-110.3333, 3701,   1800.1,   2.5924,  34.6279,2,  34.6265,2,     96.7,2,     93.4,2,   133.53,2,    40.47,2,     0.00,2,     2.85,2, -999.000,9, -999.000,9, -999.000,9, -999.000,9, -999.000,9,   1.9150,6,    29.39,6,   -999.0,9,   -999.0,9,   -999.0,9,   -999.0,9,   -999.0,9,     7.49,2, -999.00,  -999.0,-999.0000,-999.000,   25.00,  -999.0,  2.4642,-999.000
    31DSCG94_3,  P18N,   152,  1,    111,   1240,2,19940415,1141,  2.3330,-110.3333, 3701,   2003.4,   2.3730,  34.6366,2,  34.6363,2,    102.6,2,     99.7,2,   143.39,2,    39.63,2,     0.00,2,     2.82,2, -999.000,9, -999.000,9, -999.000,9, -999.000,9, -999.000,9,   1.9190,6,    28.60,6,   -999.0,9,   -999.0,9,   -999.0,9,   -999.0,9,   -999.0,9,  -999.00,9, -999.00,  -999.0,-999.0000,-999.000, -999.00,  -999.0,  2.2306,-999.000
    31DSCG94_3,  P18N,   152,  1,    110,   1005,2,19940415,1141,  2.3330,-110.3333, 3701,   2201.5,   2.1825,  34.6467,2,  34.6459,2,    108.0,2,    115.1,3,   151.05,2,    39.22,2,     0.00,2,     2.75,2, -999.000,9, -999.000,9, -999.000,9, -999.000,9, -999.000,9,   1.9320,2,    29.47,2,   -999.0,9,   -999.0,9,   -999.0,9,   -999.0,9,   -999.0,9,     7.52,2, -999.00,  -999.0,-999.0000,-999.000,   25.00,  -999.0,  2.0257,-999.000
    31DSCG94_3,  P18N,   152,  1,    109,   1611,2,19940415,1141,  2.3330,-110.3333, 3701,   2394.0,   1.9141,  34.6608,2,  34.6601,2,    115.0,2,    115.1,2,   153.82,2,    38.55,2,     0.00,2,     2.69,2, -999.000,9, -999.000,9, -999.000,9, -999.000,9, -999.000,9,   1.9270,2,    30.24,2,   -999.0,9,   -999.0,9,   -999.0,9,   -999.0,9,   -999.0,9,  -999.00,9, -999.00,  -999.0,-999.0000,-999.000, -999.00,  -999.0,  1.7449,-999.000
    31DSCG94_3,  P18N,   152,  1,    108,   1218,2,19940415,1141,  2.3330,-110.3333, 3701,   2599.5,   1.8215,  34.6665,2,  34.6663,2,    120.5,2,    119.8,2,   154.10,2,    38.32,2,     0.00,2,     2.67,2, -999.000,9, -999.000,9, -999.000,9, -999.000,9, -999.000,9,   1.9530,2,    30.58,2,   -999.0,9,   -999.0,9,   -999.0,9,   -999.0,9,   -999.0,9,     7.54,2, -999.00,  -999.0,-999.0000,-999.000,   25.00,  -999.0,  1.6354,-999.000
    31DSCG94_3,  P18N,   152,  1,    107,   1257,2,19940415,1141,  2.3330,-110.3333, 3701,   2799.1,   1.7701,  34.6694,2,  34.6689,2,    124.2,2,    124.4,2,   151.36,2,    37.88,2,     0.00,2,     2.63,2, -999.000,9, -999.000,9, -999.000,9, -999.000,9, -999.000,9,   1.9360,2,    28.99,2,   -999.0,9,   -999.0,9,   -999.0,9,   -999.0,9,   -999.0,9,  -999.00,9, -999.00,  -999.0,-999.0000,-999.000, -999.00,  -999.0,  1.5665,-999.000
    31DSCG94_3,  P18N,   152,  1,    106,   1224,2,19940415,1141,  2.3330,-110.3333, 3701,   2998.7,   1.6987,  34.6726,2,  34.6709,2,    128.4,2,    131.4,2,   148.05,2,    37.98,2,     0.00,2,     2.60,2, -999.000,9, -999.000,9, -999.000,9, -999.000,9, -999.000,9,   1.9530,2,    25.83,2,   -999.0,9,   -999.0,9,   -999.0,9,   -999.0,9,   -999.0,9,     7.56,2, -999.00,  -999.0,-999.0000,-999.000,   25.00,  -999.0,  1.4776,-999.000
    31DSCG94_3,  P18N,   152,  1,    105,   1246,2,19940415,1141,  2.3330,-110.3333, 3701,   3201.2,   1.6120,  34.6776,2,  34.6780,2,    133.8,2,    136.5,2,   147.64,2,    37.40,2,     0.00,2,     2.58,2, -999.000,9, -999.000,9, -999.000,9, -999.000,9, -999.000,9,   1.9320,2,    23.04,2,   -999.0,9,   -999.0,9,   -999.0,9,   -999.0,9,   -999.0,9,  -999.00,9, -999.00,  -999.0,-999.0000,-999.000, -999.00,  -999.0,  1.3731,-999.000
    31DSCG94_3,  P18N,   152,  1,    104,   1217,2,19940415,1141,  2.3330,-110.3333, 3701,   3401.2,   1.5490,  34.6827,2,  34.6819,2,    137.2,2,    140.7,2,   152.72,2,    37.23,2,     0.00,2,     2.55,2, -999.000,9, -999.000,9, -999.000,9, -999.000,9, -999.000,9,   1.9070,2,    21.22,2,   -999.0,9,   -999.0,9,   -999.0,9,   -999.0,9,   -999.0,9,     7.57,2, -999.00,  -999.0,-999.0000,-999.000,   25.00,  -999.0,  1.2917,-999.000
    31DSCG94_3,  P18N,   152,  1,    103,   9999,2,19940415,1141,  2.3330,-110.3333, 3701,   3524.4,   1.4973,  34.6857,2,  34.6865,2,    140.3,2,    145.2,2,   156.36,2,    36.58,2,     0.00,2,     2.52,2, -999.000,9, -999.000,9, -999.000,9, -999.000,9, -999.000,9,   1.8970,2,    19.60,2,   -999.0,9,   -999.0,9,   -999.0,9,   -999.0,9,   -999.0,9,  -999.00,9, -999.00,  -999.0,-999.0000,-999.000, -999.00,  -999.0,  1.2287,-999.000
    31DSCG94_3,  P18N,   152,  1,    102,   1223,2,19940415,1141,  2.3330,-110.3333, 3701,   3600.5,   1.4704,  34.6877,2,  34.6880,2,    142.9,2,    147.8,2,   156.68,2,    36.88,2,     0.00,2,     2.51,2, -999.000,9, -999.000,9, -999.000,9, -999.000,9, -999.000,9,   1.9030,2,    18.50,2,   -999.0,9,   -999.0,9,   -999.0,9,   -999.0,9,   -999.0,9,     7.59,2, -999.00,  -999.0,-999.0000,-999.000,   25.00,  -999.0,  1.1947,-999.000
    31DSCG94_3,  P18N,   152,  1,    101,   1041,2,19940415,1141,  2.3330,-110.3333, 3701,   3731.2,   1.4721,  34.6880,2,  34.6908,2,    144.3,2,    147.7,2,   154.75,2,    36.86,2,     0.00,2,     2.51,2, -999.000,9, -999.000,9, -999.000,9, -999.000,9, -999.000,9,   1.9040,2,    17.94,2,   -999.0,9,   -999.0,5,   -999.0,9,   -999.0,9,   -999.0,9,  -999.00,9, -999.00,  -999.0,-999.0000,-999.000, -999.00,  -999.0,  1.1827,-999.000