BOTTLE,20220630CCHSIOAMB
EXPOCODE,SECT_ID,STNNBR,CASTNO,SAMPNO,BTLNBR,BTLNBR_FLAG_W,DATE,TIME,LATITUDE,LONGITUDE,DEPTH,CTDPRS,CTDTMP,CTDSAL,CTDSAL_FLAG_W,SALNTY,SALNTY_FLAG_W,CTDOXY,CTDOXY_FLAG_W,OXYGEN,OXYGEN_FLAG_W,SILCAT,SILCAT_FLAG_W,NITRAT,NITRAT_FLAG_W,NITRIT,NITRIT_FLAG_W,PHSPHT,PHSPHT_FLAG_W,CFC-11,CFC-11_FLAG_W,CFC-12,CFC-12_FLAG_W,CFC113,CFC113_FLAG_W,CCL4,CCL4_FLAG_W,TRITUM,TRITUM_FLAG_W,HELIUM,HELIUM_FLAG_W,DELHE3,DELHE3_FLAG_W,DELC14,DELC14_FLAG_W,DELC13,DELC13_FLAG_W,TCARBN,TCARBN_FLAG_W,PCO2,PCO2_FLAG_W,ALKALI,ALKALI_FLAG_W,PH,PH_FLAG_W,PCO2TMP,C14ERR,HELIER,DELHER,PH_TMP,C13ERR,THETA,TRITER
,,,,,,,,,,,,DBAR,ITS-90,PSS-78,,PSS-78,,UMOL/KG,,UMOL/KG,,UMOL/KG,,UMOL/KG,,UMOL/KG,,UMOL/KG,,PMOL/KG,,PMOL/KG,,PMOL/KG,,PMOL/KG,,TU,,NMOL/KG,,PERCNT,,/MILLE,,/MILLE,,UMOL/KG,,UATM,,UMOL/KG,,,,DEG C,/MILLE,NMOL/KG,PERCNT,DEG C,/MILLE,DEG C,TU
    31DSCG94_2,  P18S,    20,  1,    136,   1025,2,19940302,2330,-61.9967,-103.0000, 5058,      8.7,   3.4769,  33.9756,2,  33.9762,2,    311.7,2,    314.3,2,     2.05,2,    21.33,2,     0.25,2,     1.64,2,    5.897,2,    2.725,2, -999.000,9, -999.000,9, -999.000,9,-999.0000,9,  -999.00,9,   -999.0,9,      1.8,2,   2121.1,2,   -999.0,9,   2285.0,2,     7.78,2, -999.00,  -999.0,-999.0000,-999.000,   25.00,  -999.0,  3.4763,-999.000
    31DSCG94_2,  P18S,    20,  1,    134,   1108,2,19940302,2330,-61.9967,-103.0000, 5058,      9.1,   3.4954,  33.9749,2,-999.0000,9,    312.2,2,    314.5,2,     1.70,2,    21.87,2,     0.26,2,     1.68,2,    5.692,2,    2.623,2, -999.000,9, -999.000,9, -999.000,9,   1.7572,2,    -1.66,2,   -999.0,9,   -999.0,9,   2120.3,2,    677.9,2,   2281.0,2,  -999.00,9,   20.00,  -999.0,-999.0000,-999.000, -999.00,  -999.0,  3.4948,-999.000
    31DSCG94_2,  P18S,    20,  1,    135,   1247,2,19940302,2330,-61.9967,-103.0000, 5058,      9.2,   3.4938,  33.9753,2,  33.9761,2,    312.2,2,    315.1,2,     1.73,2,    21.26,2,     0.25,2,     1.65,2,    7.301,4,    2.656,2, -999.000,9, -999.000,9, -999.000,9,-999.0000,9,  -999.00,9,   -999.0,9,   -999.0,9,   2122.1,2,    662.9,2,   2282.0,2,     7.78,2,   20.00,  -999.0,-999.0000,-999.000,   25.00,  -999.0,  3.4932,-999.000
    31DSCG94_2,  P18S,    20,  1,    133,   1244,2,19940302,2330,-61.9967,-103.0000, 5058,     25.5,   3.4841,  33.9791,2,  33.9800,2,    314.8,2,    314.9,2,     1.77,2,    21.72,2,     0.26,2,     1.62,2,    5.715,2,    2.651,2, -999.000,9, -999.000,9, -999.000,9,-999.0000,9,  -999.00,9,   -999.0,9,   -999.0,9,   2121.1,2,   -999.0,9,   2281.0,2,     7.78,2, -999.00,  -999.0,-999.0000,-999.000,   25.00,  -999.0,  3.4825,-999.000
    31DSCG94_2,  P18S,    20,  1,    132,   1003,2,19940302,2330,-61.9967,-103.0000, 5058,     48.6,   3.4717,  33.9803,2,  33.9808,2,    315.1,2,    314.5,2,     1.70,2,    21.47,2,     0.26,2,     1.64,2,    5.703,2,    2.646,2, -999.000,9, -999.000,9,    0.170,2,   1.7599,2,    -1.63,2,   -999.0,9,   -999.0,9,   2120.4,2,   -999.0,9,   2282.0,2,     7.78,2, -999.00,  -999.0,-999.0000,-999.000,   25.00,  -999.0,  3.4686,   0.004
    31DSCG94_2,  P18S,    20,  1,    131,   1211,2,19940302,2330,-61.9967,-103.0000, 5058,     75.7,   3.2797,  33.9796,2,  33.9839,2,    315.0,2,    315.4,2,     2.75,2,    21.60,2,     0.26,2,     1.67,2,    5.726,2,    2.657,2, -999.000,9, -999.000,9, -999.000,9,-999.0000,9,  -999.00,9,   -999.0,9,   -999.0,9,   2122.1,2,   -999.0,9,   2282.0,2,     7.78,2, -999.00,  -999.0,-999.0000,-999.000,   25.00,  -999.0,  3.2750,-999.000
    31DSCG94_2,  P18S,    20,  1,    130,   1241,2,19940302,2330,-61.9967,-103.0000, 5058,    102.0,   1.9268,  34.0253,2,  34.0271,2,    320.6,2,    319.5,2,    12.79,2,    25.47,2,     0.51,2,     1.83,2,    5.974,2,    2.730,2, -999.000,9, -999.000,9,    0.153,2,   1.7773,2,    -1.60,2,   -999.0,9,   -999.0,9,   2144.4,2,    776.4,2,   2282.0,2,     7.72,2,   20.00,  -999.0,-999.0000,-999.000,   25.00,  -999.0,  1.9216,   0.004
    31DSCG94_2,  P18S,    20,  1,    129,   1031,2,19940302,2330,-61.9967,-103.0000, 5058,    151.8,   1.7878,  34.0263,2,  34.0279,2,     48.4,3,    317.6,2,    15.44,2,    26.26,2,     0.23,2,     1.84,2,    5.922,2,    2.721,2, -999.000,9, -999.000,9, -999.000,9,-999.0000,9,  -999.00,9,   -999.0,9,   -999.0,9,   2146.4,2,   -999.0,9,   2276.0,2,     7.71,2, -999.00,  -999.0,-999.0000,-999.000,   25.00,  -999.0,  1.7801,-999.000
    31DSCG94_2,  P18S,    20,  1,    128,   1210,2,19940302,2330,-61.9967,-103.0000, 5058,    201.5,   1.6593,  34.0255,2,-999.0000,9,    156.2,3,    317.5,2,  -999.00,9,  -999.00,9,  -999.00,9,  -999.00,9,    6.255,3,    2.673,2, -999.000,9, -999.000,9,    0.151,2,   1.7840,2,    -1.58,2,   -999.0,9,   -999.0,9,   2148.1,2,    799.9,2,   2281.0,2,  -999.00,9,   20.00,  -999.0,-999.0000,-999.000, -999.00,  -999.0,  1.6493,   0.004
    31DSCG94_2,  P18S,    20,  1,    127,   1008,2,19940302,2330,-61.9967,-103.0000, 5058,    299.3,   1.4661,  34.0360,2,-999.0000,5,    311.5,2,    311.6,2,    18.93,2,    28.21,2,     0.00,2,     1.95,2,    5.532,2,    2.537,2, -999.000,9, -999.000,9, -999.000,9,-999.0000,9,  -999.00,9,   -999.0,9,   -999.0,9,   2153.8,2,   -999.0,9,   2283.0,2,  -999.00,9, -999.00,  -999.0,-999.0000,-999.000, -999.00,  -999.0,  1.4515,-999.000
    31DSCG94_2,  P18S,    20,  1,    126,   1007,2,19940302,2330,-61.9967,-103.0000, 5058,    300.0,   1.4697,  34.0371,2,  34.0394,2,   1077.0,3,    311.2,2,    18.62,2,    27.54,2,     0.00,2,     1.88,2, -999.000,5, -999.000,5, -999.000,9, -999.000,9,    0.134,2,   1.7938,2,    -1.21,2,   -999.0,9,   -999.0,9,   2153.8,2,   -999.0,9,   2286.0,2,     7.70,2, -999.00,  -999.0,-999.0000,-999.000,   25.00,  -999.0,  1.4550,   0.004
    31DSCG94_2,  P18S,    20,  1,    125,   1203,3,19940302,2330,-61.9967,-103.0000, 5058,    400.4,   2.3683,  34.1977,2,-999.0000,5,    261.7,2,   -999.0,9,  -999.00,9,  -999.00,9,  -999.00,9,  -999.00,9, -999.000,9, -999.000,9, -999.000,9, -999.000,9, -999.000,9,-999.0000,9,  -999.00,9,   -999.0,9,   -999.0,9,   -999.0,9,   -999.0,9,   -999.0,9,  -999.00,9, -999.00,  -999.0,-999.0000,-999.000, -999.00,  -999.0,  2.3453,-999.000
    31DSCG94_2,  P18S,    20,  1,    123,   1101,2,19940302,2330,-61.9967,-103.0000, 5058,    599.6,   2.5646,  34.4011,2,  34.4017,2,    198.0,2,    190.7,2,    55.74,2,    34.26,2,     0.00,2,     2.35,2,    1.013,3,    0.437,2, -999.000,9, -999.000,9,    0.050,2,   1.8335,2,     5.81,2,   -999.0,9,   -999.0,9,   2231.7,2,   1155.1,6,   2316.0,2,     7.57,2,   20.00,  -999.0,-999.0000,-999.000,   25.00,  -999.0,  2.5280,   0.003
    31DSCG94_2,  P18S,    20,  1,    121,   1206,2,19940302,2330,-61.9967,-103.0000, 5058,    800.4,   2.3645,  34.5230,2,  34.5231,2,    180.3,2,    175.4,2,    68.88,2,    34.27,2,     0.00,2,     2.39,2,    1.282,4,    0.220,4, -999.000,9, -999.000,9, -999.000,9,-999.0000,9,  -999.00,9,   -999.0,9,   -999.0,9,   2249.0,2,   -999.0,9,   2327.0,2,     7.56,2, -999.00,  -999.0,-999.0000,-999.000,   25.00,  -999.0,  2.3154,-999.000
    31DSCG94_2,  P18S,    20,  1,    119,   1248,2,19940302,2330,-61.9967,-103.0000, 5058,    972.0,   2.2469,  34.6091,2,  34.6099,2,    176.1,2,    172.7,2,    78.46,2,    33.81,2,     0.03,4,     2.35,2,    0.267,2,    0.120,2, -999.000,9, -999.000,9,    0.014,2,   1.8634,2,     9.09,2,   -999.0,9,   -999.0,9,   2253.7,2,   -999.0,9,   2336.0,2,     7.57,2, -999.00,  -999.0,-999.0000,-999.000,   25.00,  -999.0,  2.1867,   0.003
    31DSCG94_2,  P18S,    20,  1,    118,   1207,2,19940302,2330,-61.9967,-103.0000, 5058,   1199.0,   2.1427,  34.6652,2,  34.6649,2,    178.9,2,    175.9,2,    82.31,2,    32.50,2,     0.00,2,     2.24,2,    0.174,2,    0.076,2, -999.000,9, -999.000,9, -999.000,9,-999.0000,9,  -999.00,9,   -999.0,9,   -999.0,9,   -999.0,9,   -999.0,9,   -999.0,9,     7.58,2, -999.00,  -999.0,-999.0000,-999.000,   25.00,  -999.0,  2.0671,-999.000
    31DSCG94_2,  P18S,    20,  1,    117,   1119,2,19940302,2330,-61.9967,-103.0000, 5058,   1403.5,   2.0049,  34.7057,2,  34.7047,2,    182.7,2,    181.4,2,    86.87,2,    31.52,2,     0.01,2,     2.21,2,    3.630,4,    0.042,2, -999.000,9, -999.000,9, -999.000,9,-999.0000,9,  -999.00,9,   -999.0,9,   -999.0,9,   -999.0,9,   -999.0,9,   -999.0,9,     7.59,2, -999.00,  -999.0,-999.0000,-999.000,   25.00,  -999.0,  1.9155,-999.000
    31DSCG94_2,  P18S,    20,  1,    116,   1036,2,19940302,2330,-61.9967,-103.0000, 5058,   1600.6,   1.8327,  34.7247,2,  34.7244,2,    186.4,2,    187.0,2,    89.51,2,    30.53,2,     0.02,4,     2.20,2,    0.100,3,    0.031,2, -999.000,9, -999.000,9, -999.000,9,   1.8732,2,     9.80,2,   -999.0,9,   -999.0,9,   -999.0,9,   -999.0,9,   -999.0,9,     7.60,2, -999.00,  -999.0,-999.0000,-999.000,   25.00,  -999.0,  1.7303,-999.000
    31DSCG94_2,  P18S,    20,  1,    115,   1017,2,19940302,2330,-61.9967,-103.0000, 5058,   1801.1,   1.6438,  34.7303,2,  34.7292,2,    190.2,2,    191.3,2,    94.64,2,    31.33,2,     0.02,4,     2.19,2,    0.057,2,    0.022,2, -999.000,9, -999.000,9, -999.000,9,-999.0000,9,  -999.00,9,   -999.0,9,   -999.0,9,   -999.0,9,   -999.0,9,   -999.0,9,  -999.00,9, -999.00,  -999.0,-999.0000,-999.000, -999.00,  -999.0,  1.5283,-999.000
    31DSCG94_2,  P18S,    20,  1,    114,   1016,2,19940302,2330,-61.9967,-103.0000, 5058,   2001.2,   1.4376,  34.7276,2,  34.7277,2,    192.7,2,    194.9,2,   101.92,2,    31.50,2,     0.03,4,     2.20,2,    0.047,2,    0.020,2, -999.000,9, -999.000,9, -999.000,9,   1.8776,2,     9.87,2,   -999.0,9,   -999.0,9,   -999.0,9,   1069.9,2,   -999.0,9,  -999.00,9,   20.00,  -999.0,-999.0000,-999.000, -999.00,  -999.0,  1.3093,-999.000
    31DSCG94_2,  P18S,    20,  1,    113,   1118,2,19940302,2330,-61.9967,-103.0000, 5058,   2251.7,   1.2692,  34.7247,2,  34.7240,2,    195.0,2,    197.2,2,   107.99,2,    31.45,2,     0.05,4,     2.19,2, -999.000,5, -999.000,5, -999.000,9, -999.000,9,    0.010,2,   1.8843,2,     9.65,2,   -999.0,9,   -999.0,9,   -999.0,9,   -999.0,9,   -999.0,9,  -999.00,9, -999.00,  -999.0,-999.0000,-999.000, -999.00,  -999.0,  1.1233,   0.003
    31DSCG94_2,  P18S,    20,  1,    112,   1033,3,19940302,2330,-61.9967,-103.0000, 5058,   2500.5,   1.1417,  34.7207,2,-999.0000,9,    196.6,2,   -999.0,9,  -999.00,9,  -999.00,9,  -999.00,9,  -999.00,9, -999.000,5, -999.000,5, -999.000,9, -999.000,9, -999.000,9,-999.0000,9,  -999.00,9,   -999.0,9,   -999.0,9,   -999.0,9,   -999.0,9,   -999.0,9,  -999.00,9, -999.00,  -999.0,-999.0000,-999.000, -999.00,  -999.0,  0.9772,-999.000
    31DSCG94_2,  P18S,    20,  1,    111,   1263,2,19940302,2330,-61.9967,-103.0000, 5058,   2749.4,   1.0572,  34.7176,2,  34.7161,2,    197.5,2,    200.1,2,   116.39,2,    32.13,2,     0.00,2,     2.22,2,    0.027,2,    0.009,2, -999.000,9, -999.000,9, -999.000,9,-999.0000,9,  -999.00,9,   -999.0,9,   -999.0,9,   -999.0,9,   -999.0,9,   -999.0,9,  -999.00,9, -999.00,  -999.0,-999.0000,-999.000, -999.00,  -999.0,  0.8727,-999.000
    31DSCG94_2,  P18S,    20,  1,    110,   1005,2,19940302,2330,-61.9967,-103.0000, 5058,   3000.5,   1.0192,  34.7152,2,  34.7139,2,    198.7,2,    201.7,2,   117.41,2,    32.12,2,     0.01,2,     2.22,2,    0.020,2,    0.010,2, -999.000,9, -999.000,9,    0.007,2,   1.8821,2,    10.05,2,   -999.0,9,   -999.0,9,   -999.0,9,   1074.6,2,   -999.0,9,  -999.00,9,   20.00,  -999.0,-999.0000,-999.000, -999.00,  -999.0,  0.8127,   0.003
    31DSCG94_2,  P18S,    20,  1,    109,   1611,2,19940302,2330,-61.9967,-103.0000, 5058,   3250.3,   0.9565,  34.7124,2,  34.7115,2,    199.9,2,    203.2,2,   117.67,2,    32.06,2,     0.02,2,     2.24,2,    0.051,2,    0.011,2, -999.000,9, -999.000,9, -999.000,9,-999.0000,9,  -999.00,9,   -999.0,9,   -999.0,9,   -999.0,9,   -999.0,9,   -999.0,9,  -999.00,9, -999.00,  -999.0,-999.0000,-999.000, -999.00,  -999.0,  0.7281,-999.000
    31DSCG94_2,  P18S,    20,  1,    108,   1218,2,19940302,2330,-61.9967,-103.0000, 5058,   3494.6,   0.8581,  34.7091,2,  34.7081,2,    202.9,2,    205.3,2,   121.53,2,    32.38,2,     0.02,2,     2.26,2,    0.106,4,    0.014,2, -999.000,9, -999.000,9,    0.008,2,   1.8897,2,    10.42,2,   -999.0,9,   -999.0,9,   -999.0,9,   -999.0,9,   -999.0,9,  -999.00,9, -999.00,  -999.0,-999.0000,-999.000, -999.00,  -999.0,  0.6085,   0.003
    31DSCG94_2,  P18S,    20,  1,    107,   1257,2,19940302,2330,-61.9967,-103.0000, 5058,   3747.2,   0.7190,  34.7058,2,  34.7042,2,    205.9,2,    208.1,2,   125.06,2,    32.63,2,     0.01,2,     2.25,2,    0.299,4,    0.029,2, -999.000,9, -999.000,9, -999.000,9,-999.0000,9,  -999.00,9,   -999.0,9,   -999.0,9,   -999.0,9,   -999.0,9,   -999.0,9,  -999.00,9, -999.00,  -999.0,-999.0000,-999.000, -999.00,  -999.0,  0.4480,-999.000
    31DSCG94_2,  P18S,    20,  1,    106,   1224,2,19940302,2330,-61.9967,-103.0000, 5058,   4001.6,   0.5854,  34.7035,2,  34.7024,2,    209.5,2,    211.0,2,   127.98,2,    32.24,2,     0.03,4,     2.23,2,    0.093,2,    0.040,2, -999.000,9, -999.000,9,    0.017,2,   1.8919,2,     9.68,2,   -999.0,9,   -999.0,9,   -999.0,9,   1082.7,2,   -999.0,9,  -999.00,9,   20.00,  -999.0,-999.0000,-999.000, -999.00,  -999.0,  0.2921,   0.003
    31DSCG94_2,  P18S,    20,  1,    105,   1246,2,19940302,2330,-61.9967,-103.0000, 5058,   4247.0,   0.4819,  34.7032,2,  34.7017,2,    212.3,2,    213.4,2,   130.94,2,    32.15,2,     0.00,2,     2.24,2,    0.078,2,    0.034,2, -999.000,9, -999.000,9, -999.000,9,-999.0000,9,  -999.00,9,   -999.0,9,   -999.0,9,   -999.0,9,   -999.0,9,   -999.0,9,  -999.00,9, -999.00,  -999.0,-999.0000,-999.000, -999.00,  -999.0,  0.1659,-999.000
    31DSCG94_2,  P18S,    20,  1,    104,   1028,2,19940302,2330,-61.9967,-103.0000, 5058,   4504.1,   0.4237,  34.7025,2,  34.7013,2,    214.7,2,    215.5,2,   131.44,2,    32.39,2,     0.00,2,     2.25,2,    0.085,2,    0.034,2, -999.000,9, -999.000,9,    0.017,2,   1.8317,2,     8.82,2,   -999.0,9,   -999.0,9,   -999.0,9,   -999.0,9,   -999.0,9,  -999.00,9, -999.00,  -999.0,-999.0000,-999.000, -999.00,  -999.0,  0.0818,   0.003
    31DSCG94_2,  P18S,    20,  1,    103,   9999,2,19940302,2330,-61.9967,-103.0000, 5058,   4750.8,   0.3994,  34.7028,2,  34.7008,2,    216.3,2,    216.0,6,   131.47,2,    32.53,2,     0.00,2,     2.27,2,    0.098,2,    0.046,2, -999.000,9, -999.000,9, -999.000,9,-999.0000,9,  -999.00,9,   -999.0,9,   -999.0,9,   -999.0,9,   -999.0,9,   -999.0,9,  -999.00,9, -999.00,  -999.0,-999.0000,-999.000, -999.00,  -999.0,  0.0309,-999.000
    31DSCG94_2,  P18S,    20,  1,    102,   1223,2,19940302,2330,-61.9967,-103.0000, 5058,   4999.8,   0.3954,  34.7015,2,  34.7010,2,    218.2,2,    216.5,6,   133.52,2,    32.55,2,     0.01,2,     2.28,2,    0.120,2,    0.054,2, -999.000,9, -999.000,9, -999.000,9,-999.0000,9,  -999.00,9,   -999.0,9,   -999.0,9,   -999.0,9,   1081.0,2,   -999.0,9,  -999.00,9,   20.00,  -999.0,-999.0000,-999.000, -999.00,  -999.0, -0.0014,-999.000
    31DSCG94_2,  P18S,    20,  1,    101,   1041,2,19940302,2330,-61.9967,-103.0000, 5058,   5130.8,   0.3935,  34.7021,2,  34.7010,2,    218.2,2,    217.0,2,   137.47,2,    32.71,2,     0.01,2,     2.29,2,    0.131,6,    0.061,6, -999.000,9, -999.000,9,    0.026,2,   1.9240,2,     8.18,2,   -999.0,9,   -999.0,9,   -999.0,9,   1080.3,2,   -999.0,9,  -999.00,9,   20.00,  -999.0,-999.0000,-999.000, -999.00,  -999.0, -0.0185,   0.003