BOTTLE,20220630CCHSIOAMB
EXPOCODE,SECT_ID,STNNBR,CASTNO,SAMPNO,BTLNBR,BTLNBR_FLAG_W,DATE,TIME,LATITUDE,LONGITUDE,DEPTH,CTDPRS,CTDTMP,CTDSAL,CTDSAL_FLAG_W,SALNTY,SALNTY_FLAG_W,CTDOXY,CTDOXY_FLAG_W,OXYGEN,OXYGEN_FLAG_W,SILCAT,SILCAT_FLAG_W,NITRAT,NITRAT_FLAG_W,NITRIT,NITRIT_FLAG_W,PHSPHT,PHSPHT_FLAG_W,CFC-11,CFC-11_FLAG_W,CFC-12,CFC-12_FLAG_W,CFC113,CFC113_FLAG_W,CCL4,CCL4_FLAG_W,TRITUM,TRITUM_FLAG_W,HELIUM,HELIUM_FLAG_W,DELHE3,DELHE3_FLAG_W,DELC14,DELC14_FLAG_W,DELC13,DELC13_FLAG_W,TCARBN,TCARBN_FLAG_W,PCO2,PCO2_FLAG_W,ALKALI,ALKALI_FLAG_W,PH,PH_FLAG_W,PCO2TMP,C14ERR,HELIER,DELHER,PH_TMP,C13ERR,THETA,TRITER
,,,,,,,,,,,,DBAR,ITS-90,PSS-78,,PSS-78,,UMOL/KG,,UMOL/KG,,UMOL/KG,,UMOL/KG,,UMOL/KG,,UMOL/KG,,PMOL/KG,,PMOL/KG,,PMOL/KG,,PMOL/KG,,TU,,NMOL/KG,,PERCNT,,/MILLE,,/MILLE,,UMOL/KG,,UATM,,UMOL/KG,,,,DEG C,/MILLE,NMOL/KG,PERCNT,DEG C,/MILLE,DEG C,TU
    31DSCG94_3,  P18N,   174,  1,    136,   1025,2,19940421,1011, 14.0017,-109.9983, 3275,      9.1,  28.5033,  33.8912,2,  33.8928,2,    207.0,2,    198.6,2,     0.15,2,     0.05,2,     0.00,2,     0.12,2,    1.666,2,    0.994,2, -999.000,5, -999.000,5, -999.000,9,-999.0000,9,  -999.00,9,     62.0,2,      1.6,2,   1898.8,2,    263.4,2,   2229.0,2,     8.12,2,   20.00,     4.4,-999.0000,-999.000,   25.00,  -999.0, 28.5011,-999.000
    31DSCG94_3,  P18N,   174,  1,    135,   1247,2,19940421,1011, 14.0017,-109.9983, 3275,      9.4,  28.5022,  33.8914,2,  33.8940,2,    207.0,2,    198.9,2,     0.13,2,     0.03,2,     0.00,2,     0.14,2,    1.674,2,    0.974,2, -999.000,5, -999.000,5,    1.141,2,   1.7474,2,    -0.96,2,   -999.0,9,   -999.0,9,   1899.3,2,    266.2,2,   2229.0,2,     8.12,2,   20.00,  -999.0,-999.0000,-999.000,   25.00,  -999.0, 28.4999,   0.009
    31DSCG94_3,  P18N,   174,  1,    134,   1216,2,19940421,1011, 14.0017,-109.9983, 3275,     25.2,  28.4090,  33.9030,2,  33.9050,2,    199.0,2,    199.0,2,     0.23,2,     0.00,2,     0.00,2,     0.13,2,    1.684,2,    1.016,2, -999.000,5, -999.000,5, -999.000,9,-999.0000,9,  -999.00,9,     82.6,2,      1.6,2,   1899.2,2,    258.0,2,   2231.0,2,     8.12,2,   20.00,     4.2,-999.0000,-999.000,   25.00,  -999.0, 28.4030,-999.000
    31DSCG94_3,  P18N,   174,  1,    133,   1244,2,19940421,1011, 14.0017,-109.9983, 3275,     49.3,  28.1583,  33.8813,2,  33.8855,2,    198.5,2,    200.4,2,     0.10,2,     0.02,2,     0.00,2,     0.13,2,    1.699,2,    0.988,2, -999.000,5, -999.000,5,    1.058,2,   1.9495,2,    -0.75,2,     80.7,2,      1.6,2,   1897.3,2,    258.7,2,   2231.0,2,     8.12,2,   20.00,     5.4,-999.0000,-999.000,   25.00,  -999.0, 28.1467,   0.009
    31DSCG94_3,  P18N,   174,  1,    132,   1003,2,19940421,1011, 14.0017,-109.9983, 3275,     73.8,  27.1908,  33.9497,2,  33.9387,2,    204.5,2,    205.3,2,     0.59,2,     0.03,2,     0.00,2,     0.11,2,    1.757,2,    1.029,2, -999.000,5, -999.000,5,    1.260,2,   1.7335,2,    -0.68,2,     75.4,2,      1.6,2,   1905.6,2,    259.2,2,   2237.0,2,     8.11,2,   20.00,     4.5,-999.0000,-999.000,   25.00,  -999.0, 27.1738,   0.009
    31DSCG94_3,  P18N,   174,  1,    131,   1211,2,19940421,1011, 14.0017,-109.9983, 3275,     98.7,  22.0516,  34.4050,2,  34.3878,2,    137.4,2,    112.3,2,     4.91,2,     9.71,2,     0.94,2,     1.04,2,    1.541,6,    0.863,6, -999.000,5, -999.000,5, -999.000,9,-999.0000,9,  -999.00,9,     55.8,2,      0.8,2,   2074.0,2,    535.1,2,   2276.0,2,     7.85,2,   20.00,     5.1,-999.0000,-999.000,   25.00,  -999.0, 22.0321,-999.000
    31DSCG94_3,  P18N,   174,  1,    130,   1241,2,19940421,1011, 14.0017,-109.9983, 3275,    124.3,  16.0959,  34.7404,2,  34.7308,2,     32.7,2,      4.4,2,    17.54,2,    29.18,2,     0.02,2,     2.22,2,    0.772,2,    0.429,2, -999.000,5, -999.000,5,    0.628,2,   1.7969,2,     6.91,2,   -999.0,9,   -999.0,9,   2212.2,2,   1275.0,2,   2286.0,2,     7.52,2,   20.00,  -999.0,-999.0000,-999.000,   25.00,  -999.0, 16.0763,   0.008
    31DSCG94_3,  P18N,   174,  1,    129,   1240,2,19940421,1011, 14.0017,-109.9983, 3275,    148.4,  14.0379,  34.7859,2,  34.7762,2,     16.7,2,      1.0,2,    23.03,2,    30.28,2,     0.04,2,     2.37,2,    0.460,2,    0.261,2, -999.000,5, -999.000,5, -999.000,9,-999.0000,9,  -999.00,9,    -27.1,2,     -0.2,2,   2233.6,2,   1422.0,2,   2291.0,2,     7.48,2,   20.00,     3.0,-999.0000,-999.000,   25.00,  -999.0, 14.0165,-999.000
    31DSCG94_3,  P18N,   174,  1,    128,   1114,2,19940421,1011, 14.0017,-109.9983, 3275,    173.3,  12.8452,  34.7653,2,  34.7692,2,     15.1,2,      0.6,2,    25.76,2,    29.30,2,     0.74,2,     2.45,2,    0.328,2,    0.189,2, -999.000,9, -999.000,9,    0.570,2,   1.8058,2,     8.29,2,   -999.0,9,   -999.0,9,   2243.0,2,   1508.3,2,   2292.0,2,     7.46,2,   20.00,  -999.0,-999.0000,-999.000,   25.00,  -999.0, 12.8216,   0.007
    31DSCG94_3,  P18N,   174,  1,    127,   1008,2,19940421,1011, 14.0017,-109.9983, 3275,    200.2,  12.3188,  34.7589,2,  34.7592,2,     13.1,2,      0.8,2,    26.98,2,    30.90,2,     0.45,2,     2.44,2,    0.253,2,    0.159,2, -999.000,5, -999.000,5,    0.474,2,   1.8018,2,     8.30,2,    -41.8,2,     -0.1,2,   2246.1,2,   1525.1,2,   2296.0,2,     7.45,2,   20.00,     2.3,-999.0000,-999.000,   25.00,  -999.0, 12.2923,   0.006
    31DSCG94_3,  P18N,   174,  1,    126,   1007,2,19940421,1011, 14.0017,-109.9983, 3275,    250.5,  11.5311,  34.7217,2,  34.7156,2,      7.3,2,      2.3,2,    29.66,2,    31.70,2,     0.00,2,     2.48,2,    0.154,2,    0.092,2, -999.000,5, -999.000,5,    0.378,2,   1.8058,2,     8.00,2,   -999.0,9,   -999.0,9,   2253.1,2,   1609.4,2,   -999.0,5,     7.44,2,   20.00,  -999.0,-999.0000,-999.000,   25.00,  -999.0, 11.4993,   0.006
    31DSCG94_3,  P18N,   174,  1,    125,   1256,2,19940421,1011, 14.0017,-109.9983, 3275,    301.0,  10.6870,  34.6874,2,  34.6875,2,      6.3,2,      3.0,2,    32.59,2,    31.81,2,     0.00,2,     2.55,2,    0.091,6,    0.061,6, -999.000,5, -999.000,5,    0.192,2,   1.8107,2,     6.82,2,    -75.3,2,     -0.2,2,   2262.9,2,   1679.9,2,   -999.0,5,     7.42,2,   20.00,     2.6,-999.0000,-999.000,   25.00,  -999.0, 10.6506,   0.021
    31DSCG94_3,  P18N,   174,  1,    123,   1220,2,19940421,1011, 14.0017,-109.9983, 3275,    348.3,  10.1973,  34.6625,2,  34.6598,2,      3.6,2,      1.3,6,    35.88,2,    31.13,2,     0.00,2,     2.63,2,    0.040,2,    0.025,2, -999.000,9, -999.000,9, -999.000,9,-999.0000,9,  -999.00,9,   -999.0,9,   -999.0,9,   2274.2,2,   1790.0,2,   2302.0,2,     7.39,2,   20.00,  -999.0,-999.0000,-999.000,   25.00,  -999.0, 10.1562,-999.000
    31DSCG94_3,  P18N,   174,  1,    122,   1245,2,19940421,1011, 14.0017,-109.9983, 3275,    399.7,   9.5967,  34.6327,2,  34.6302,2,      2.2,2,      0.9,2,    39.82,2,    32.26,2,     0.00,2,     2.73,2,    0.021,6,    0.013,6, -999.000,5, -999.000,5,    0.069,2,   1.7942,2,     5.93,2,    -93.9,2,     -0.2,2,   2280.4,2,   1842.0,2,   2306.0,2,     7.38,2,   20.00,     2.4,-999.0000,-999.000,   25.00,  -999.0,  9.5512,   0.004
    31DSCG94_3,  P18N,   174,  1,    121,   1206,2,19940421,1011, 14.0017,-109.9983, 3275,    500.3,   8.4346,  34.5770,2,  34.5759,2,      3.7,2,      5.2,6,    47.38,2,    35.46,2,     0.00,2,     2.83,2,    0.009,2,    0.005,2, -999.000,9, -999.000,9,    0.036,2,   1.8098,2,     6.78,2,   -107.3,2,     -0.2,2,   2287.7,2,   1874.7,2,   2308.0,2,  -999.00,9,   20.00,     2.7,-999.0000,-999.000, -999.00,  -999.0,  8.3816,   0.004
    31DSCG94_3,  P18N,   174,  1,    120,   1028,2,19940421,1011, 14.0017,-109.9983, 3275,    600.7,   7.4629,  34.5460,2,  34.5448,2,      5.2,2,      5.8,2,    57.19,2,    37.27,2,     0.00,2,     2.97,2,    0.000,2,    0.002,2, -999.000,5, -999.000,5,    0.011,2,-999.0000,9,  -999.00,9,   -126.2,2,     -0.2,2,   2308.9,2,   1933.1,2,   2319.0,2,     7.36,2,   20.00,     2.1,-999.0000,-999.000,   25.00,  -999.0,  7.4033,   0.003
    31DSCG94_3,  P18N,   174,  1,    119,   1248,2,19940421,1011, 14.0017,-109.9983, 3275,    700.7,   6.6536,  34.5283,2,  34.5281,2,      5.4,2,      6.3,2,    66.04,2,    39.58,2,     0.00,2,     3.06,2,    0.002,2,   -0.001,2, -999.000,9, -999.000,9,    0.007,2,   1.8214,2,    10.53,2,   -157.9,2,     -0.2,2,   2318.5,2,   2002.9,2,   2326.0,2,     7.35,2,   20.00,     3.1,-999.0000,-999.000,   25.00,  -999.0,  6.5879,   0.003
    31DSCG94_3,  P18N,   174,  1,    118,   1115,2,19940421,1011, 14.0017,-109.9983, 3275,    800.3,   5.9416,  34.5392,2,-999.0000,5,      2.7,2,      1.9,2,    79.38,2,    43.20,2,     0.00,2,     3.31,2,    0.000,2,    0.000,2, -999.000,5, -999.000,5,    0.001,2,   1.8366,2,    13.43,2,   -177.6,2,     -0.3,2,   2333.3,2,   2104.7,2,   2346.0,2,  -999.00,9,   20.00,     3.9,-999.0000,-999.000, -999.00,  -999.0,  5.8703,   0.003
    31DSCG94_3,  P18N,   174,  1,    117,   1119,2,19940421,1011, 14.0017,-109.9983, 3275,    898.3,   5.3811,  34.5404,2,  34.5414,2,      3.2,2,      3.5,2,    86.01,2,    43.55,2,     0.00,2,     3.24,2,   -0.004,2,    0.000,2, -999.000,9, -999.000,9, -999.000,9,-999.0000,9,  -999.00,9,   -181.6,2,     -0.3,2,   2346.0,2,   2137.3,2,   2340.0,2,     7.33,2,   20.00,     2.7,-999.0000,-999.000,   25.00,  -999.0,  5.3043,-999.000
    31DSCG94_3,  P18N,   174,  1,    116,   1036,2,19940421,1011, 14.0017,-109.9983, 3275,   1000.3,   4.8184,  34.5442,2,  34.5450,2,      7.7,2,      9.6,2,    95.83,2,    44.51,2,     0.00,2,     3.27,2, -999.000,9, -999.000,9, -999.000,9, -999.000,9,    0.002,2,-999.0000,9,  -999.00,9,   -196.9,2,     -0.3,2,   2352.9,2,   2113.8,2,   2353.0,2,     7.34,2,   20.00,     2.3,-999.0000,-999.000,   25.00,  -999.0,  4.7364,   0.003
    31DSCG94_3,  P18N,   174,  1,    115,   1017,2,19940421,1011, 14.0017,-109.9983, 3275,   1100.7,   4.4295,  34.5530,2,  34.5544,2,     13.5,2,     14.9,2,   103.17,2,    44.67,2,     0.00,2,     3.27,2,   -0.003,2,   -0.002,2, -999.000,5, -999.000,5, -999.000,9,-999.0000,9,  -999.00,9,   -999.0,9,   -999.0,9,   2360.1,2,   2091.8,2,   2358.0,2,     7.34,2,   20.00,  -999.0,-999.0000,-999.000,   25.00,  -999.0,  4.3417,-999.000
    31DSCG94_3,  P18N,   174,  1,    114,   1016,2,19940421,1011, 14.0017,-109.9983, 3275,   1200.7,   4.0615,  34.5629,2,  34.5654,2,     19.4,2,     22.2,2,   110.96,2,    44.52,2,     0.00,2,     3.24,2, -999.000,9, -999.000,9, -999.000,9, -999.000,9, -999.000,9,-999.0000,9,  -999.00,9,   -207.9,2,     -0.3,2,   2363.1,2,   2030.1,2,   2371.0,2,     7.35,2,   20.00,     2.3,-999.0000,-999.000,   25.00,  -999.0,  3.9682,-999.000
    31DSCG94_3,  P18N,   174,  1,    113,   1209,2,19940421,1011, 14.0017,-109.9983, 3275,   1300.6,   3.8003,  34.5728,2,  34.5719,2,     27.1,2,     29.4,2,   115.36,2,    44.19,2,     0.05,4,     3.18,2,    0.007,2,    0.004,2, -999.000,9, -999.000,9,    0.004,2,   1.8781,2,    22.00,2,   -999.0,9,   -999.0,9,   2363.4,2,   1981.9,2,   2375.0,2,     7.37,2,   20.00,  -999.0,-999.0000,-999.000,   25.00,  -999.0,  3.7008,   0.003
    31DSCG94_3,  P18N,   174,  1,    112,   1033,2,19940421,1011, 14.0017,-109.9983, 3275,   1399.7,   3.5174,  34.5842,2,  34.5844,2,     37.4,2,     37.6,2,   123.77,2,    43.62,2,     0.02,2,     3.12,2, -999.000,9, -999.000,9, -999.000,9, -999.000,9, -999.000,9,-999.0000,9,  -999.00,9,   -215.6,2,     -0.3,2,   2365.6,2,   1913.6,2,   2379.0,2,     7.38,2,   20.00,     2.9,-999.0000,-999.000,   25.00,  -999.0,  3.4122,-999.000
    31DSCG94_3,  P18N,   174,  1,    111,   1240,2,19940421,1011, 14.0017,-109.9983, 3275,   1599.2,   2.9253,  34.6086,2,  34.6082,2,     57.3,2,     58.0,2,   136.82,2,    42.01,2,     0.01,2,     2.99,2,   -0.005,2,   -0.002,2, -999.000,5, -999.000,5,   -0.002,2,   1.8986,2,    26.07,2,   -227.8,2,     -0.2,2,   2367.3,2,   1748.0,2,   2398.0,2,     7.42,2,   20.00,     2.2,-999.0000,-999.000,   25.00,  -999.0,  2.8099,   0.003
    31DSCG94_3,  P18N,   174,  1,    110,   1005,2,19940421,1011, 14.0017,-109.9983, 3275,   1802.2,   2.5426,  34.6241,2,  34.6241,2,     74.6,2,     71.6,6,   145.69,2,    41.19,2,     0.02,2,     2.89,2, -999.000,9, -999.000,9, -999.000,9, -999.000,9, -999.000,9,-999.0000,9,  -999.00,9,   -236.4,2,     -0.3,2,   2368.6,2,   1652.9,2,   2401.0,3,     7.45,2,   20.00,     3.2,-999.0000,-999.000,   25.00,  -999.0,  2.4150,-999.000
    31DSCG94_3,  P18N,   174,  1,    109,   1611,2,19940421,1011, 14.0017,-109.9983, 3275,   1999.4,   2.2562,  34.6392,2,  34.6398,2,     88.5,2,     84.8,2,   149.32,2,    40.46,2,     0.02,2,     2.81,2,   -0.003,2,    0.001,2, -999.000,9, -999.000,9, -999.000,9,-999.0000,9,  -999.00,9,   -230.0,2,     -0.2,2,   2367.0,2,   1560.1,2,   2417.0,2,     7.47,2,   20.00,     2.9,-999.0000,-999.000,   25.00,  -999.0,  2.1158,-999.000
    31DSCG94_3,  P18N,   174,  1,    108,   1218,2,19940421,1011, 14.0017,-109.9983, 3275,   2197.2,   2.0786,  34.6498,2,  34.6493,2,     95.7,2,     94.3,2,   152.23,2,    39.57,2,     0.04,2,     2.75,2, -999.000,9, -999.000,9, -999.000,9, -999.000,9, -999.000,9,-999.0000,9,  -999.00,9,   -999.0,9,   -999.0,9,   2364.2,2,   1494.5,2,   2417.0,2,     7.49,2,   20.00,  -999.0,-999.0000,-999.000,   25.00,  -999.0,  1.9239,-999.000
    31DSCG94_3,  P18N,   174,  1,    107,   1257,2,19940421,1011, 14.0017,-109.9983, 3275,   2399.3,   1.9591,  34.6579,2,  34.6584,2,    102.6,2,    101.9,2,   154.25,2,    39.04,2,     0.00,2,     2.69,2,   -0.004,2,    0.000,2, -999.000,5, -999.000,5, -999.000,9,-999.0000,9,  -999.00,9,   -240.0,2,     -0.2,2,   2361.7,2,   1436.1,2,   2426.0,2,     7.51,2,   20.00,     2.7,-999.0000,-999.000,   25.00,  -999.0,  1.7886,-999.000
    31DSCG94_3,  P18N,   174,  1,    106,   1224,2,19940421,1011, 14.0017,-109.9983, 3275,   2600.1,   1.8481,  34.6642,2,  34.6646,2,    107.9,2,    108.5,2,   157.32,2,    38.52,2,     0.01,2,     2.64,2, -999.000,9, -999.000,9, -999.000,9, -999.000,9, -999.000,9,-999.0000,9,  -999.00,9,   -999.0,9,   -999.0,9,   2360.5,2,   1391.5,2,   2433.0,2,     7.52,2,   20.00,  -999.0,-999.0000,-999.000,   25.00,  -999.0,  1.6614,-999.000
    31DSCG94_3,  P18N,   174,  1,    105,   1246,2,19940421,1011, 14.0017,-109.9983, 3275,   2799.4,   1.7890,  34.6684,2,  34.6686,2,    112.9,2,    113.8,2,   156.41,2,    38.11,2,     0.01,2,     2.63,2,   -0.003,2,    0.000,2, -999.000,9, -999.000,9, -999.000,9,-999.0000,9,  -999.00,9,   -999.0,9,   -999.0,9,   2358.4,2,   1365.0,2,   2429.0,2,  -999.00,9,   20.00,  -999.0,-999.0000,-999.000, -999.00,  -999.0,  1.5850,-999.000
    31DSCG94_3,  P18N,   174,  1,    104,   1217,2,19940421,1011, 14.0017,-109.9983, 3275,   3001.8,   1.7269,  34.6713,2,  34.6741,2,    117.4,2,    118.3,2,   156.39,6,    37.95,6,     0.00,6,     2.60,6, -999.000,9, -999.000,9, -999.000,9, -999.000,9, -999.000,9,-999.0000,9,  -999.00,9,   -236.5,2,     -0.1,2,   2357.5,2,   1339.8,2,   2428.0,2,     7.53,2,   20.00,     3.1,-999.0000,-999.000,   25.00,  -999.0,  1.5049,-999.000
    31DSCG94_3,  P18N,   174,  1,    103,   9999,2,19940421,1011, 14.0017,-109.9983, 3275,   3199.8,   1.6710,  34.6749,2,  34.6759,2,    120.5,2,    123.4,2,   155.56,2,    37.80,2,     0.00,2,     2.56,2,   -0.002,2,    0.003,2, -999.000,5, -999.000,5, -999.000,9,-999.0000,9,  -999.00,9,   -999.0,9,   -999.0,9,   2352.4,2,   1302.3,2,   2431.0,2,     7.54,2,   20.00,  -999.0,-999.0000,-999.000,   25.00,  -999.0,  1.4309,-999.000
    31DSCG94_3,  P18N,   174,  1,    102,   1223,2,19940421,1011, 14.0017,-109.9983, 3275,   3200.3,   1.6709,  34.6746,2,  34.6756,2,    120.6,2,    123.7,2,   155.49,2,    38.18,2,     0.00,2,     2.57,2,   -0.002,2,    0.001,2, -999.000,9, -999.000,9, -999.000,9,-999.0000,9,  -999.00,9,   -999.0,9,   -999.0,9,   2351.8,2,   1304.0,2,   2432.0,2,     7.54,2,   20.00,  -999.0,-999.0000,-999.000,   25.00,  -999.0,  1.4308,-999.000
    31DSCG94_3,  P18N,   174,  1,    101,   1041,2,19940421,1011, 14.0017,-109.9983, 3275,   3316.3,   1.6712,  34.6752,2,  34.6754,2,    122.4,2,    124.3,2,   154.94,2,    38.32,2,     0.00,2,     2.57,2,   -0.002,2,    0.002,2, -999.000,5, -999.000,5, -999.000,9,-999.0000,9,  -999.00,9,   -235.7,2,     -0.1,2,   2350.8,2,   1302.9,2,   2426.0,2,     7.54,2,   20.00,     3.3,-999.0000,-999.000,   25.00,  -999.0,  1.4195,-999.000