BOTTLE,20220630CCHSIOAMB
EXPOCODE,SECT_ID,STNNBR,CASTNO,SAMPNO,BTLNBR,BTLNBR_FLAG_W,DATE,TIME,LATITUDE,LONGITUDE,DEPTH,CTDPRS,CTDTMP,CTDSAL,CTDSAL_FLAG_W,SALNTY,SALNTY_FLAG_W,CTDOXY,CTDOXY_FLAG_W,OXYGEN,OXYGEN_FLAG_W,SILCAT,SILCAT_FLAG_W,NITRAT,NITRAT_FLAG_W,NITRIT,NITRIT_FLAG_W,PHSPHT,PHSPHT_FLAG_W,CFC-11,CFC-11_FLAG_W,CFC-12,CFC-12_FLAG_W,CFC113,CFC113_FLAG_W,CCL4,CCL4_FLAG_W,TRITUM,TRITUM_FLAG_W,HELIUM,HELIUM_FLAG_W,DELHE3,DELHE3_FLAG_W,DELC14,DELC14_FLAG_W,DELC13,DELC13_FLAG_W,TCARBN,TCARBN_FLAG_W,PCO2,PCO2_FLAG_W,ALKALI,ALKALI_FLAG_W,PH,PH_FLAG_W,PCO2TMP,C14ERR,HELIER,DELHER,PH_TMP,C13ERR,THETA,TRITER
,,,,,,,,,,,,DBAR,ITS-90,PSS-78,,PSS-78,,UMOL/KG,,UMOL/KG,,UMOL/KG,,UMOL/KG,,UMOL/KG,,UMOL/KG,,PMOL/KG,,PMOL/KG,,PMOL/KG,,PMOL/KG,,TU,,NMOL/KG,,PERCNT,,/MILLE,,/MILLE,,UMOL/KG,,UATM,,UMOL/KG,,,,DEG C,/MILLE,NMOL/KG,PERCNT,DEG C,/MILLE,DEG C,TU
    31DSCG94_3,  P18N,   171,  1,    135,   1247,2,19940420,1245, 12.0017,-110.0000, 3142,      8.5,  28.9430,  33.8472,2,  33.8482,2,    204.3,2,    196.8,2,     0.00,2,     0.05,2,     0.00,2,     0.14,2,    1.639,2,    0.948,2, -999.000,9, -999.000,9, -999.000,9,-999.0000,9,  -999.00,9,   -999.0,9,   -999.0,9,   1903.1,2,    254.3,2,   2237.0,2,     8.12,2,   20.00,  -999.0,-999.0000,-999.000,   25.00,  -999.0, 28.9409,-999.000
    31DSCG94_3,  P18N,   171,  1,    136,   1025,2,19940420,1245, 12.0017,-110.0000, 3142,      9.0,  28.9460,  33.8474,2,  33.8476,2,    240.5,3,    196.7,2,     0.00,2,     0.10,2,     0.00,2,     0.12,2,    1.639,2,    0.962,2, -999.000,9, -999.000,9, -999.000,9,-999.0000,9,  -999.00,9,   -999.0,9,      1.8,2,   1903.1,2,    255.3,2,   2229.0,2,     8.12,2,   20.00,  -999.0,-999.0000,-999.000,   25.00,  -999.0, 28.9438,-999.000
    31DSCG94_3,  P18N,   171,  1,    134,   1216,2,19940420,1245, 12.0017,-110.0000, 3142,     23.9,  28.9446,  33.8466,2,  33.8482,2,    203.9,2,    196.8,2,     0.00,2,     0.03,2,     0.00,2,     0.14,2,    1.642,2,    0.951,2, -999.000,9, -999.000,9,    1.132,2,   1.7255,2,    -0.72,2,   -999.0,9,   -999.0,9,   1903.3,2,    255.1,2,   2235.0,2,     8.12,2,   20.00,  -999.0,-999.0000,-999.000,   25.00,  -999.0, 28.9388,   0.009
    31DSCG94_3,  P18N,   171,  1,    133,   1244,2,19940420,1245, 12.0017,-110.0000, 3142,     48.0,  28.9512,  33.8457,2,  33.8472,2,    203.1,2,    196.7,2,     0.00,2,     0.05,2,     0.00,2,     0.14,2,    1.635,2,    0.949,2, -999.000,9, -999.000,9, -999.000,9,-999.0000,9,  -999.00,9,   -999.0,9,   -999.0,9,   1903.0,2,    255.3,2,   2231.0,2,     8.12,2,   20.00,  -999.0,-999.0000,-999.000,   25.00,  -999.0, 28.9396,-999.000
    31DSCG94_3,  P18N,   171,  1,    132,   1003,2,19940420,1245, 12.0017,-110.0000, 3142,     74.0,  28.9084,  33.8427,2,  33.8482,2,    199.4,2,    196.0,2,     0.00,2,     0.02,2,     0.00,2,     0.13,2, -999.000,9, -999.000,9, -999.000,9, -999.000,9,    1.157,2,   1.7193,2,    -0.66,2,   -999.0,9,   -999.0,9,   1903.6,2,    255.7,2,   2232.0,2,     8.12,2,   20.00,  -999.0,-999.0000,-999.000,   25.00,  -999.0, 28.8906,   0.009
    31DSCG94_3,  P18N,   171,  1,    131,   1211,2,19940420,1245, 12.0017,-110.0000, 3142,     99.9,  26.3521,  33.8098,2,  33.8188,2,    131.4,2,    154.1,6,     0.43,2,     5.97,2,     0.38,2,     0.62,2,    1.648,2,    0.960,2, -999.000,9, -999.000,9,    1.079,2,   1.7103,2,    -0.60,2,   -999.0,9,   -999.0,9,   1977.2,2,    376.4,2,   2236.0,2,     7.98,2,   20.00,  -999.0,-999.0000,-999.000,   25.00,  -999.0, 26.3297,   0.009
    31DSCG94_3,  P18N,   171,  1,    130,   1241,2,19940420,1245, 12.0017,-110.0000, 3142,    124.9,  22.4414,  34.2658,2,  34.2340,3,     61.0,2,     91.7,2,     5.65,2,    16.04,2,     0.06,2,     1.30,2, -999.000,9, -999.000,9, -999.000,9, -999.000,9, -999.000,9,-999.0000,9,  -999.00,9,   -999.0,9,   -999.0,9,   2081.0,3,    604.8,2,   2254.0,2,     7.80,2,   20.00,  -999.0,-999.0000,-999.000,   25.00,  -999.0, 22.4164,-999.000
    31DSCG94_3,  P18N,   171,  1,    129,   1240,2,19940420,1245, 12.0017,-110.0000, 3142,    149.4,  16.3787,  34.7241,2,  34.7185,2,    -12.0,3,     91.6,3,    17.01,2,    29.18,2,     0.01,2,     2.24,2,    0.769,2,    0.433,2, -999.000,9, -999.000,9,    0.829,2,   1.7594,2,     6.57,2,   -999.0,9,   -999.0,9,   2209.1,2,   1228.6,2,   2285.0,2,     7.54,2,   20.00,  -999.0,-999.0000,-999.000,   25.00,  -999.0, 16.3547,   0.008
    31DSCG94_3,  P18N,   171,  1,    128,   1032,3,19940420,1245, 12.0017,-110.0000, 3142,    175.6,  13.9292,  34.8009,2,-999.0000,5,     15.0,2,      9.4,2,  -999.00,9,  -999.00,9,  -999.00,9,  -999.00,9, -999.000,9, -999.000,9, -999.000,9, -999.000,9, -999.000,9,-999.0000,9,  -999.00,9,   -999.0,9,   -999.0,9,   -999.0,9,   -999.0,9,   -999.0,9,  -999.00,9, -999.00,  -999.0,-999.0000,-999.000, -999.00,  -999.0, 13.9039,-999.000
    31DSCG94_3,  P18N,   171,  1,    127,   1008,2,19940420,1245, 12.0017,-110.0000, 3142,    199.6,  13.1777,  34.8236,2,-999.0000,5,     11.7,2,      0.9,2,  -999.00,9,  -999.00,9,  -999.00,9,  -999.00,9,    0.369,2,    0.216,2, -999.000,9, -999.000,9,    0.541,2,   1.7228,2,     7.72,2,   -999.0,9,   -999.0,9,   2242.2,2,   1442.0,2,   2304.0,2,  -999.00,9,   20.00,  -999.0,-999.0000,-999.000, -999.00,  -999.0, 13.1501,   0.007
    31DSCG94_3,  P18N,   171,  1,    126,   1007,3,19940420,1245, 12.0017,-110.0000, 3142,    250.6,  12.2153,  34.7953,2,-999.0000,5,      7.3,2,   -999.0,9,  -999.00,9,  -999.00,9,  -999.00,9,  -999.00,9, -999.000,9, -999.000,9, -999.000,9, -999.000,9, -999.000,9,-999.0000,9,  -999.00,9,   -999.0,9,   -999.0,9,   -999.0,9,   -999.0,9,   -999.0,9,  -999.00,9, -999.00,  -999.0,-999.0000,-999.000, -999.00,  -999.0, 12.1822,-999.000
    31DSCG94_3,  P18N,   171,  1,    125,   1256,2,19940420,1245, 12.0017,-110.0000, 3142,    302.0,  11.4204,  34.7542,2,  34.7532,2,      4.5,2,      0.6,2,    30.41,2,    28.53,2,     1.67,2,     2.56,2,    0.130,2,    0.077,2, -999.000,9, -999.000,9,    0.292,2,-999.0000,9,  -999.00,9,   -999.0,9,   -999.0,9,   2262.8,2,   1633.7,2,   2303.0,2,     7.43,2,   20.00,  -999.0,-999.0000,-999.000,   25.00,  -999.0, 11.3821,   0.005
    31DSCG94_3,  P18N,   171,  1,    123,   1220,2,19940420,1245, 12.0017,-110.0000, 3142,    350.5,  10.6117,  34.7071,2,  34.7073,2,      4.1,2,      0.9,2,    34.04,2,    28.97,2,     1.13,2,     2.64,2,    0.066,2,    0.040,2, -999.000,9, -999.000,9,    0.151,2,-999.0000,9,  -999.00,9,   -999.0,9,   -999.0,9,   2274.0,2,   1722.4,2,   2317.0,3,     7.41,2,   20.00,  -999.0,-999.0000,-999.000,   25.00,  -999.0, 10.5693,   0.004
    31DSCG94_3,  P18N,   171,  1,    122,   1245,2,19940420,1245, 12.0017,-110.0000, 3142,    404.9,   9.7751,  34.6553,2,  34.6541,2,      4.0,2,      2.7,6,    37.40,2,    33.23,2,     0.02,2,     2.71,2,    0.038,2,    0.025,2, -999.000,9, -999.000,9,    0.089,2,   1.8585,2,     5.90,2,   -999.0,9,   -999.0,9,   2276.9,2,   1774.1,2,   2302.0,2,     7.40,2,   20.00,  -999.0,-999.0000,-999.000,   25.00,  -999.0,  9.7284,   0.004
    31DSCG94_3,  P18N,   171,  1,    121,   1206,2,19940420,1245, 12.0017,-110.0000, 3142,    499.0,   8.5572,  34.5892,2,  34.5861,2,      2.6,2,      1.9,2,    48.24,2,    33.88,2,     0.00,2,     2.92,2, -999.000,9, -999.000,9, -999.000,9, -999.000,9,    0.027,2,   1.8393,2,     6.60,2,   -999.0,9,   -999.0,9,   2295.6,2,   1898.0,3,   2314.0,2,  -999.00,9,   20.00,  -999.0,-999.0000,-999.000, -999.00,  -999.0,  8.5040,   0.004
    31DSCG94_3,  P18N,   171,  1,    120,   1028,2,19940420,1245, 12.0017,-110.0000, 3142,    600.6,   7.3141,  34.5516,2,  34.5504,2,      2.8,2,      1.5,2,    61.15,2,    36.95,2,     0.00,2,     3.10,2,    2.194,4,    0.002,6, -999.000,9, -999.000,9,    0.011,2,-999.0000,9,  -999.00,9,   -999.0,9,   -999.0,9,   2313.4,2,   1985.5,2,   2317.0,2,     7.35,2,   20.00,  -999.0,-999.0000,-999.000,   25.00,  -999.0,  7.2552,   0.003
    31DSCG94_3,  P18N,   171,  1,    119,   1248,2,19940420,1245, 12.0017,-110.0000, 3142,    701.0,   6.3940,  34.5453,2,  34.5447,2,      3.5,2,      1.6,2,    71.30,2,    40.81,2,     0.00,2,     3.23,2, -999.000,9, -999.000,9, -999.000,9, -999.000,9,    0.010,2,   1.8544,2,    11.78,2,   -999.0,9,   -999.0,9,   2326.2,2,   2065.6,2,   2330.0,2,     7.34,2,   20.00,  -999.0,-999.0000,-999.000,   25.00,  -999.0,  6.3296,   0.003
    31DSCG94_3,  P18N,   171,  1,    118,   1115,2,19940420,1245, 12.0017,-110.0000, 3142,    799.2,   5.7482,  34.5381,2,  34.5372,2,      4.0,2,      3.6,2,    79.05,2,    43.53,2,     0.00,2,     3.26,2,    0.000,2,    0.000,2, -999.000,9, -999.000,9, -999.000,9,-999.0000,9,  -999.00,9,   -999.0,9,   -999.0,9,   2341.1,3,   2089.3,2,   2337.0,2,     7.33,2,   20.00,  -999.0,-999.0000,-999.000,   25.00,  -999.0,  5.6782,-999.000
    31DSCG94_3,  P18N,   171,  1,    117,   1119,2,19940420,1245, 12.0017,-110.0000, 3142,    902.0,   5.1689,  34.5415,2,  34.5404,2,      7.1,2,      6.5,2,    86.87,2,    44.36,2,     0.11,4,     3.21,2, -999.000,9, -999.000,9, -999.000,9, -999.000,9,    0.018,2,   1.9298,2,    16.10,2,   -999.0,9,   -999.0,9,   2349.1,3,   2107.9,2,   2344.0,2,     7.33,2,   20.00,  -999.0,-999.0000,-999.000,   25.00,  -999.0,  5.0931,   0.005
    31DSCG94_3,  P18N,   171,  1,    116,   1036,2,19940420,1245, 12.0017,-110.0000, 3142,    983.5,   4.7345,  34.5490,2,  34.5488,2,     12.5,2,     13.8,2,    93.16,2,    44.78,2,     0.10,4,     3.26,2,    0.001,2,   -0.001,2, -999.000,9, -999.000,9, -999.000,9,-999.0000,9,  -999.00,9,   -999.0,9,   -999.0,9,   2354.4,3,   2068.1,2,   2355.0,2,     7.34,2,   20.00,  -999.0,-999.0000,-999.000,   25.00,  -999.0,  4.6545,-999.000
    31DSCG94_3,  P18N,   171,  1,    115,   1017,2,19940420,1245, 12.0017,-110.0000, 3142,   1098.6,   4.2470,  34.5610,2,  34.5608,2,     21.8,2,     22.9,2,   102.34,2,    44.81,2,     0.10,4,     3.24,2, -999.000,9, -999.000,9, -999.000,9, -999.000,9,    0.003,2,   1.9008,2,    20.06,2,   -999.0,9,   -999.0,9,   2360.1,3,   2011.6,2,   2363.0,2,     7.36,2,   20.00,  -999.0,-999.0000,-999.000,   25.00,  -999.0,  4.1609,   0.004
    31DSCG94_3,  P18N,   171,  1,    114,   1016,2,19940420,1245, 12.0017,-110.0000, 3142,   1199.5,   3.9368,  34.5723,2,  34.5725,2,     27.5,2,     29.8,2,   110.95,2,    44.47,2,     0.10,4,     3.20,2, -999.000,9, -999.000,9, -999.000,9, -999.000,9, -999.000,9,-999.0000,9,  -999.00,9,   -999.0,9,   -999.0,9,   2362.3,3,   1954.6,2,   2382.0,2,  -999.00,9,   20.00,  -999.0,-999.0000,-999.000, -999.00,  -999.0,  3.8446,-999.000
    31DSCG94_3,  P18N,   171,  1,    113,   1209,2,19940420,1245, 12.0017,-110.0000, 3142,   1298.0,   3.6291,  34.5803,2,  34.5779,2,     33.2,2,     35.7,2,   118.62,2,    43.69,2,     0.10,4,     3.16,2, -999.000,9, -999.000,9, -999.000,9, -999.000,9,    0.004,2,   1.9205,2,    22.75,2,   -999.0,9,   -999.0,9,   2365.3,3,   1922.6,2,   2386.0,2,     7.38,2,   20.00,  -999.0,-999.0000,-999.000,   25.00,  -999.0,  3.5315,   0.003
    31DSCG94_3,  P18N,   171,  1,    112,   1033,2,19940420,1245, 12.0017,-110.0000, 3142,   1402.2,   3.3600,  34.5921,2,  34.5920,2,     43.8,2,     45.2,2,   124.00,2,    43.24,2,     0.11,4,     3.09,2,    0.004,2,   -0.002,2, -999.000,9, -999.000,9, -999.000,9,-999.0000,9,  -999.00,9,   -999.0,9,   -999.0,9,   2367.1,3,   1840.0,2,   2390.0,2,     7.40,2,   20.00,  -999.0,-999.0000,-999.000,   25.00,  -999.0,  3.2563,-999.000
    31DSCG94_3,  P18N,   171,  1,    111,   1240,2,19940420,1245, 12.0017,-110.0000, 3142,   1499.7,   3.1258,  34.6013,2,  34.6006,2,     52.1,2,     52.5,2,   129.15,2,    42.26,2,     0.10,4,     3.04,2, -999.000,9, -999.000,9, -999.000,9, -999.000,9,    0.004,2,   1.9343,2,    24.85,2,   -999.0,9,   -999.0,9,   2367.5,3,   1792.9,2,   2394.0,2,     7.41,2,   20.00,  -999.0,-999.0000,-999.000,   25.00,  -999.0,  3.0165,   0.003
    31DSCG94_3,  P18N,   171,  1,    110,   1005,2,19940420,1245, 12.0017,-110.0000, 3142,   1599.7,   2.9059,  34.6099,2,  34.6100,2,     62.0,2,   -999.0,9,   131.36,2,    41.76,2,     0.00,2,     2.98,2, -999.000,9, -999.000,9, -999.000,9, -999.000,9, -999.000,9,-999.0000,9,  -999.00,9,   -999.0,9,   -999.0,9,   -999.0,9,   1712.7,2,   2403.0,2,     7.43,2,   20.00,  -999.0,-999.0000,-999.000,   25.00,  -999.0,  2.7907,-999.000
    31DSCG94_3,  P18N,   171,  1,    109,   1611,2,19940420,1245, 12.0017,-110.0000, 3142,   1798.8,   2.4826,  34.6293,2,  34.6299,2,     82.8,2,     77.8,2,   140.36,2,    40.48,2,     0.00,2,     2.87,2, -999.000,9, -999.000,9, -999.000,9, -999.000,9, -999.000,9,-999.0000,9,  -999.00,9,   -999.0,9,   -999.0,9,   2367.3,3,   1604.0,2,   2414.0,2,     7.46,2,   20.00,  -999.0,-999.0000,-999.000,   25.00,  -999.0,  2.3561,-999.000
    31DSCG94_3,  P18N,   171,  1,    108,   1218,2,19940420,1245, 12.0017,-110.0000, 3142,   2000.7,   2.2234,  34.6429,2,  34.6429,2,     91.9,2,     89.9,2,   145.77,2,    39.57,2,     0.00,2,     2.80,2, -999.000,9, -999.000,9, -999.000,9, -999.000,9, -999.000,9,-999.0000,9,  -999.00,9,   -999.0,9,   -999.0,9,   2365.6,2,   1527.5,2,   2421.0,2,     7.48,2,   20.00,  -999.0,-999.0000,-999.000,   25.00,  -999.0,  2.0834,-999.000
    31DSCG94_3,  P18N,   171,  1,    107,   1257,2,19940420,1245, 12.0017,-110.0000, 3142,   2198.9,   2.0561,  34.6523,2,  34.6519,2,     98.9,2,     96.6,6,   149.11,2,    38.97,2,     0.00,2,     2.74,2, -999.000,9, -999.000,9, -999.000,9, -999.000,9, -999.000,9,-999.0000,9,  -999.00,9,   -999.0,9,   -999.0,9,   2365.1,2,   1469.7,2,   2424.0,2,     7.49,2,   20.00,  -999.0,-999.0000,-999.000,   25.00,  -999.0,  1.9017,-999.000
    31DSCG94_3,  P18N,   171,  1,    106,   1224,2,19940420,1245, 12.0017,-110.0000, 3142,   2398.6,   1.9570,  34.6582,2,  34.6581,2,    105.3,2,    102.2,2,   150.23,2,    38.56,2,     0.00,2,     2.71,2, -999.000,9, -999.000,9, -999.000,9, -999.000,9, -999.000,9,-999.0000,9,  -999.00,9,   -999.0,9,   -999.0,9,   2364.8,2,   1429.5,2,   2426.0,2,     7.51,2,   20.00,  -999.0,-999.0000,-999.000,   25.00,  -999.0,  1.7866,-999.000
    31DSCG94_3,  P18N,   171,  1,    105,   1246,2,19940420,1245, 12.0017,-110.0000, 3142,   2600.0,   1.8549,  34.6643,2,  34.6629,2,    109.6,2,    108.4,2,   151.66,2,    38.24,2,     0.00,2,     2.68,2, -999.000,9, -999.000,9, -999.000,9, -999.000,9, -999.000,9,-999.0000,9,  -999.00,9,   -999.0,9,   -999.0,9,   2361.6,2,   1397.5,2,   2430.0,2,     7.52,2,   20.00,  -999.0,-999.0000,-999.000,   25.00,  -999.0,  1.6681,-999.000
    31DSCG94_3,  P18N,   171,  1,    104,   1217,2,19940420,1245, 12.0017,-110.0000, 3142,   2798.1,   1.7556,  34.6704,2,  34.6699,2,    114.2,2,    115.7,2,   151.58,2,    37.69,2,     0.00,2,     2.62,2, -999.000,9, -999.000,9, -999.000,9, -999.000,9, -999.000,9,-999.0000,9,  -999.00,9,   -999.0,9,   -999.0,9,   2358.4,2,   1355.2,2,   2429.0,2,     7.53,2,   20.00,  -999.0,-999.0000,-999.000,   25.00,  -999.0,  1.5524,-999.000
    31DSCG94_3,  P18N,   171,  1,    102,   1223,2,19940420,1245, 12.0017,-110.0000, 3142,   3000.6,   1.7273,  34.6721,2,  34.6724,2,    120.3,2,    119.2,2,   156.36,2,    37.69,2,     0.00,2,     2.63,2, -999.000,9, -999.000,9, -999.000,9, -999.000,9, -999.000,9,-999.0000,9,  -999.00,9,   -999.0,9,   -999.0,9,   2356.1,2,   1329.0,2,   2432.0,2,     7.54,2,   20.00,  -999.0,-999.0000,-999.000,   25.00,  -999.0,  1.5054,-999.000
    31DSCG94_3,  P18N,   171,  1,    103,   9999,2,19940420,1245, 12.0017,-110.0000, 3142,   3000.8,   1.7272,  34.6720,2,  34.6720,2,    120.3,2,    118.9,2,   152.45,2,    37.67,2,     0.00,2,     2.61,2, -999.000,9, -999.000,9, -999.000,9, -999.000,9, -999.000,9,-999.0000,9,  -999.00,9,   -999.0,9,   -999.0,9,   2355.9,2,   1324.2,2,   2429.0,2,     7.54,2,   20.00,  -999.0,-999.0000,-999.000,   25.00,  -999.0,  1.5053,-999.000
    31DSCG94_3,  P18N,   171,  1,    101,   1041,2,19940420,1245, 12.0017,-110.0000, 3142,   3245.8,   1.5891,  34.6784,2,  34.6791,2,    130.4,2,    130.8,2,   158.07,6,    36.87,6,     0.00,6,     2.55,6, -999.000,9, -999.000,9, -999.000,9, -999.000,9, -999.000,9,-999.0000,9,  -999.00,9,   -999.0,9,   -999.0,9,   2347.4,2,   1267.7,2,   2425.0,2,  -999.00,9,   20.00,  -999.0,-999.0000,-999.000, -999.00,  -999.0,  1.3464,-999.000