BOTTLE,20220630CCHSIOAMB
EXPOCODE,SECT_ID,STNNBR,CASTNO,SAMPNO,BTLNBR,BTLNBR_FLAG_W,DATE,TIME,LATITUDE,LONGITUDE,DEPTH,CTDPRS,CTDTMP,CTDSAL,CTDSAL_FLAG_W,SALNTY,SALNTY_FLAG_W,CTDOXY,CTDOXY_FLAG_W,OXYGEN,OXYGEN_FLAG_W,SILCAT,SILCAT_FLAG_W,NITRAT,NITRAT_FLAG_W,NITRIT,NITRIT_FLAG_W,PHSPHT,PHSPHT_FLAG_W,CFC-11,CFC-11_FLAG_W,CFC-12,CFC-12_FLAG_W,CFC113,CFC113_FLAG_W,CCL4,CCL4_FLAG_W,TRITUM,TRITUM_FLAG_W,HELIUM,HELIUM_FLAG_W,DELHE3,DELHE3_FLAG_W,DELC14,DELC14_FLAG_W,DELC13,DELC13_FLAG_W,TCARBN,TCARBN_FLAG_W,PCO2,PCO2_FLAG_W,ALKALI,ALKALI_FLAG_W,PH,PH_FLAG_W,PCO2TMP,C14ERR,HELIER,DELHER,PH_TMP,C13ERR,THETA,TRITER
,,,,,,,,,,,,DBAR,ITS-90,PSS-78,,PSS-78,,UMOL/KG,,UMOL/KG,,UMOL/KG,,UMOL/KG,,UMOL/KG,,UMOL/KG,,PMOL/KG,,PMOL/KG,,PMOL/KG,,PMOL/KG,,TU,,NMOL/KG,,PERCNT,,/MILLE,,/MILLE,,UMOL/KG,,UATM,,UMOL/KG,,,,DEG C,/MILLE,NMOL/KG,PERCNT,DEG C,/MILLE,DEG C,TU
    31DSCG94_2,  P18S,    44,  1,    136,   1025,2,19940311,1950,-47.4995,-103.0015, 4247,      9.8,  10.7033,  34.1264,2,  34.1274,2,    275.4,2,    273.0,2,     0.42,2,    13.44,2,     0.19,2,     1.05,2,    3.716,2,    1.950,2, -999.000,9, -999.000,9, -999.000,9,-999.0000,9,  -999.00,9,   -999.0,9,   -999.0,9,   2071.1,2,    525.3,4,   2268.0,6,  -999.00,9,   20.00,  -999.0,-999.0000,-999.000, -999.00,  -999.0, 10.7022,-999.000
    31DSCG94_2,  P18S,    44,  1,    135,   1247,2,19940311,1950,-47.4995,-103.0015, 4247,     24.1,  10.6172,  34.1275,2,  34.1278,2,    281.2,2,    273.0,2,     0.40,2,    13.37,2,     0.18,2,     1.06,2,    3.732,2,    1.886,2, -999.000,9, -999.000,9, -999.000,9,-999.0000,9,  -999.00,9,   -999.0,9,   -999.0,9,   2071.9,2,   -999.0,9,   2269.0,2,     7.87,2, -999.00,  -999.0,-999.0000,-999.000,   25.00,  -999.0, 10.6143,-999.000
    31DSCG94_2,  P18S,    44,  1,    134,   1108,2,19940311,1950,-47.4995,-103.0015, 4247,     48.4,  10.5375,  34.1288,2,  34.1290,2,    279.3,2,    273.0,2,     0.31,2,    13.32,2,     0.17,2,     1.00,2,    3.707,2,    1.925,2, -999.000,9, -999.000,9, -999.000,9,-999.0000,9,  -999.00,9,   -999.0,9,   -999.0,9,   2072.2,2,    526.7,2,   2260.0,2,     7.86,2,   20.00,  -999.0,-999.0000,-999.000,   25.00,  -999.0, 10.5318,-999.000
    31DSCG94_2,  P18S,    44,  1,    133,   1244,2,19940311,1950,-47.4995,-103.0015, 4247,     74.7,  10.4945,  34.1292,2,  34.1309,2,    277.6,2,    273.4,2,     0.40,2,    13.40,2,     0.16,2,     1.06,2,    3.703,2,    1.920,2, -999.000,9, -999.000,9, -999.000,9,-999.0000,9,  -999.00,9,   -999.0,9,   -999.0,9,   2071.6,2,   -999.0,9,   2268.0,2,     7.86,2, -999.00,  -999.0,-999.0000,-999.000,   25.00,  -999.0, 10.4857,-999.000
    31DSCG94_2,  P18S,    44,  1,    132,   1003,2,19940311,1950,-47.4995,-103.0015, 4247,     98.8,   8.1212,  34.1589,2,  34.1622,2,    288.1,2,    289.8,2,     1.69,2,    14.68,2,     0.14,2,     1.15,2,    4.275,2,    2.167,2, -999.000,9, -999.000,9, -999.000,9,-999.0000,9,  -999.00,9,   -999.0,9,   -999.0,9,   2087.9,2,    526.2,4,   2273.0,2,     7.83,2,   20.00,  -999.0,-999.0000,-999.000,   25.00,  -999.0,  8.1112,-999.000
    31DSCG94_2,  P18S,    44,  1,    131,   1211,2,19940311,1950,-47.4995,-103.0015, 4247,    123.6,   7.2213,  34.1681,2,  34.1738,2,    287.8,2,    288.4,2,     2.44,2,    15.89,2,     0.19,2,     1.23,2,    4.383,2,    2.214,2, -999.000,9, -999.000,9, -999.000,9,-999.0000,9,  -999.00,9,   -999.0,9,   -999.0,9,   2095.7,2,   -999.0,9,   2271.0,2,     7.81,2, -999.00,  -999.0,-999.0000,-999.000,   25.00,  -999.0,  7.2097,-999.000
    31DSCG94_2,  P18S,    44,  1,    130,   1241,2,19940311,1950,-47.4995,-103.0015, 4247,    149.5,   6.6490,  34.2032,2,  34.2061,2,    285.1,2,    283.7,2,     3.18,2,    17.34,2,     0.18,2,     1.27,2,    4.331,2,    2.196,2, -999.000,9, -999.000,9, -999.000,9,-999.0000,9,  -999.00,9,   -999.0,9,   -999.0,9,   2103.9,2,    525.0,4,   2274.0,2,     7.80,2,   20.00,  -999.0,-999.0000,-999.000,   25.00,  -999.0,  6.6356,-999.000
    31DSCG94_2,  P18S,    44,  1,    129,   1031,2,19940311,1950,-47.4995,-103.0015, 4247,    200.7,   6.3809,  34.2571,2,  34.2584,2,    276.7,2,    279.1,2,     4.89,2,    19.63,2,     0.00,2,     1.38,2,    4.142,2,    2.030,2, -999.000,9, -999.000,9, -999.000,9,-999.0000,9,  -999.00,9,   -999.0,9,   -999.0,9,   2116.7,2,    676.7,2,   2274.0,2,     7.77,2,   20.00,  -999.0,-999.0000,-999.000,   25.00,  -999.0,  6.3632,-999.000
    31DSCG94_2,  P18S,    44,  1,    128,   1210,3,19940311,1950,-47.4995,-103.0015, 4247,    248.2,   6.2068,  34.2728,2,  34.2736,2,    275.2,2,    273.3,2,     5.95,2,    20.45,2,     0.00,2,     1.45,2,    3.930,4,    1.957,4, -999.000,9, -999.000,9, -999.000,9,-999.0000,9,  -999.00,9,   -999.0,9,   -999.0,9,   2120.1,2,   -999.0,9,   2277.0,2,  -999.00,9, -999.00,  -999.0,-999.0000,-999.000, -999.00,  -999.0,  6.1853,-999.000
    31DSCG94_2,  P18S,    44,  1,    127,   1008,2,19940311,1950,-47.4995,-103.0015, 4247,    298.7,   6.1273,  34.2814,2,  34.2832,2,    273.4,2,    272.1,2,     6.52,2,    20.91,2,     0.00,2,     1.49,2,    3.743,2,    1.855,2, -999.000,9, -999.000,9, -999.000,9,-999.0000,9,  -999.00,9,   -999.0,9,   -999.0,9,   2123.0,2,    673.0,4,   2279.0,2,     7.76,2,   20.00,  -999.0,-999.0000,-999.000,   25.00,  -999.0,  6.1015,-999.000
    31DSCG94_2,  P18S,    44,  1,    126,   1007,2,19940311,1950,-47.4995,-103.0015, 4247,    349.7,   6.0721,  34.2846,2,  34.2850,2,    270.2,2,    270.2,2,     6.82,2,    21.09,2,     0.00,2,     1.46,2,    3.653,2,    1.790,2, -999.000,9, -999.000,9, -999.000,9,-999.0000,9,  -999.00,9,   -999.0,9,   -999.0,9,   2123.6,2,    699.8,2,   2278.0,2,     7.76,2,   20.00,  -999.0,-999.0000,-999.000,   25.00,  -999.0,  6.0419,-999.000
    31DSCG94_2,  P18S,    44,  1,    125,   1203,3,19940311,1950,-47.4995,-103.0015, 4247,    398.9,   6.0289,  34.2895,2,  34.2908,2,    267.9,2,    267.0,2,     7.60,2,    21.59,2,     0.00,2,     1.48,2,    3.437,2,    1.655,2, -999.000,9, -999.000,9, -999.000,9,-999.0000,9,  -999.00,9,   -999.0,9,   -999.0,9,   2125.7,2,    708.2,2,   2279.0,2,     7.76,2,   20.00,  -999.0,-999.0000,-999.000,   25.00,  -999.0,  5.9943,-999.000
    31DSCG94_2,  P18S,    44,  1,    123,   1101,2,19940311,1950,-47.4995,-103.0015, 4247,    449.4,   5.9251,  34.2854,2,  34.2863,2,    265.7,2,    267.9,2,     8.04,2,    21.82,2,     0.00,2,     1.53,2,    3.356,2,    1.625,2, -999.000,9, -999.000,9, -999.000,9,-999.0000,9,  -999.00,9,   -999.0,9,   -999.0,9,   2127.0,2,    705.3,2,   2278.0,2,     7.75,2,   20.00,  -999.0,-999.0000,-999.000,   25.00,  -999.0,  5.8864,-999.000
    31DSCG94_2,  P18S,    44,  1,    121,   1206,2,19940311,1950,-47.4995,-103.0015, 4247,    501.6,   5.7955,  34.2793,2,  34.2801,2,    264.4,2,    266.7,2,     8.50,2,    22.39,2,     0.00,2,     1.58,2,    3.233,2,    1.571,2, -999.000,9, -999.000,9, -999.000,9,-999.0000,9,  -999.00,9,   -999.0,9,   -999.0,9,   2129.3,2,    717.1,2,   2281.0,2,     7.75,2,   20.00,  -999.0,-999.0000,-999.000,   25.00,  -999.0,  5.7526,-999.000
    31DSCG94_2,  P18S,    44,  1,    119,   1248,2,19940311,1950,-47.4995,-103.0015, 4247,    696.7,   5.1757,  34.2522,2,  34.2532,2,    250.6,2,    253.8,2,    12.93,2,    25.02,2,     0.00,2,     1.70,2,    2.728,2,    1.321,2, -999.000,9, -999.000,9, -999.000,9,-999.0000,9,  -999.00,9,   -999.0,9,   -999.0,9,   2143.5,2,    775.4,2,   2282.0,2,     7.72,2,   20.00,  -999.0,-999.0000,-999.000,   25.00,  -999.0,  5.1185,-999.000
    31DSCG94_2,  P18S,    44,  1,    118,   1207,2,19940311,1950,-47.4995,-103.0015, 4247,    798.5,   4.7806,  34.2563,2,  34.2575,2,    236.2,2,    238.3,2,    18.30,2,    27.08,2,     0.00,2,     1.83,2,    2.055,2,    0.964,2, -999.000,9, -999.000,9, -999.000,9,-999.0000,9,  -999.00,9,   -999.0,9,   -999.0,9,   2159.0,2,    843.5,2,   2284.0,2,     7.69,2,   20.00,  -999.0,-999.0000,-999.000,   25.00,  -999.0,  4.7169,-999.000
    31DSCG94_2,  P18S,    44,  1,    117,   1119,2,19940311,1950,-47.4995,-103.0015, 4247,    866.5,   4.5171,  34.2662,2,  34.2668,2,    226.7,2,    227.9,2,    22.40,2,    28.63,2,     0.00,2,     1.96,2,    1.608,2,    0.782,2, -999.000,9, -999.000,9, -999.000,9,-999.0000,9,  -999.00,9,   -999.0,9,   -999.0,9,   2169.6,2,    893.0,2,   2289.0,2,     7.67,2,   20.00,  -999.0,-999.0000,-999.000,   25.00,  -999.0,  4.4493,-999.000
    31DSCG94_2,  P18S,    44,  1,    116,   1036,2,19940311,1950,-47.4995,-103.0015, 4247,    999.8,   3.9487,  34.2944,2,  34.2949,2,    210.1,2,    211.8,2,    33.57,2,    30.72,2,     0.02,2,     2.16,2,    0.996,2,    0.486,2, -999.000,9, -999.000,9, -999.000,9,-999.0000,9,  -999.00,9,   -999.0,9,   -999.0,9,   2190.2,2,    979.1,2,   2294.0,6,     7.63,2,   20.00,  -999.0,-999.0000,-999.000,   25.00,  -999.0,  3.8737,-999.000
    31DSCG94_2,  P18S,    44,  1,    115,   1017,2,19940311,1950,-47.4995,-103.0015, 4247,   1199.2,   3.2961,  34.3704,2,  34.3701,2,    188.5,2,    188.2,2,    49.16,2,    33.13,2,     0.00,2,     2.34,2,    0.379,2,    0.194,2, -999.000,9, -999.000,9, -999.000,9,-999.0000,9,  -999.00,9,   -999.0,9,   -999.0,9,   -999.0,9,   -999.0,9,   -999.0,9,     7.59,2, -999.00,  -999.0,-999.0000,-999.000,   25.00,  -999.0,  3.2103,-999.000
    31DSCG94_2,  P18S,    44,  1,    114,   1016,2,19940311,1950,-47.4995,-103.0015, 4247,   1400.0,   2.8588,  34.4647,2,  34.4620,2,    173.9,2,    171.6,2,    64.23,2,    34.38,2,     0.00,2,     2.46,2,    0.188,2,    0.099,2, -999.000,9, -999.000,9, -999.000,9,-999.0000,9,  -999.00,9,   -999.0,9,   -999.0,9,   -999.0,9,   -999.0,9,   -999.0,9,     7.57,2, -999.00,  -999.0,-999.0000,-999.000,   25.00,  -999.0,  2.7610,-999.000
    31DSCG94_2,  P18S,    44,  1,    113,   1118,2,19940311,1950,-47.4995,-103.0015, 4247,   1600.2,   2.6226,  34.5401,2,  34.5397,2,    163.3,2,    163.7,2,    75.72,2,    34.67,2,     0.00,2,     2.48,2,    0.081,2,    0.042,2, -999.000,9, -999.000,9, -999.000,9,-999.0000,9,  -999.00,9,   -999.0,9,   -999.0,9,   -999.0,9,   -999.0,9,   -999.0,9,     7.56,2, -999.00,  -999.0,-999.0000,-999.000,   25.00,  -999.0,  2.5110,-999.000
    31DSCG94_2,  P18S,    44,  1,    112,   1033,2,19940311,1950,-47.4995,-103.0015, 4247,   1799.1,   2.4333,  34.5997,2,  34.5994,2,    159.0,2,    159.0,2,    87.06,2,    34.49,2,     0.00,2,     2.42,2,    0.023,2,    0.009,2, -999.000,9, -999.000,9, -999.000,9,-999.0000,9,  -999.00,9,   -999.0,9,   -999.0,9,   -999.0,9,   -999.0,9,   -999.0,9,     7.56,2, -999.00,  -999.0,-999.0000,-999.000,   25.00,  -999.0,  2.3075,-999.000
    31DSCG94_2,  P18S,    44,  1,    111,   1263,2,19940311,1950,-47.4995,-103.0015, 4247,   2001.2,   2.2630,  34.6390,2,  34.6385,2,    161.3,2,    160.5,2,    95.38,2,    34.24,2,     0.00,2,     2.40,2,    0.016,2,    0.010,2, -999.000,9, -999.000,9, -999.000,9,-999.0000,9,  -999.00,9,   -999.0,9,   -999.0,9,   -999.0,9,   -999.0,9,   -999.0,9,     7.57,2, -999.00,  -999.0,-999.0000,-999.000,   25.00,  -999.0,  2.1224,-999.000
    31DSCG94_2,  P18S,    44,  1,    110,   1005,2,19940311,1950,-47.4995,-103.0015, 4247,   2248.4,   2.0856,  34.6727,2,  34.6728,2,    164.1,2,    164.2,2,   100.73,2,    33.64,2,     0.00,2,     2.39,2,    0.000,2,    0.001,2, -999.000,9, -999.000,9, -999.000,9,-999.0000,9,  -999.00,9,   -999.0,9,   -999.0,9,   -999.0,9,   -999.0,9,   -999.0,9,     7.58,2, -999.00,  -999.0,-999.0000,-999.000,   25.00,  -999.0,  1.9262,-999.000
    31DSCG94_2,  P18S,    44,  1,    109,   1611,2,19940311,1950,-47.4995,-103.0015, 4247,   2499.1,   1.9156,  34.6918,2,  34.6914,2,    168.1,2,    168.8,2,   105.37,2,    33.36,2,     0.00,2,     2.38,2,    0.000,2,    0.003,2, -999.000,9, -999.000,9, -999.000,9,-999.0000,9,  -999.00,9,   -999.0,9,   -999.0,9,   -999.0,9,   -999.0,9,   -999.0,9,  -999.00,9, -999.00,  -999.0,-999.0000,-999.000, -999.00,  -999.0,  1.7368,-999.000
    31DSCG94_2,  P18S,    44,  1,    108,   1218,2,19940311,1950,-47.4995,-103.0015, 4247,   2749.5,   1.7689,  34.7014,2,  34.7008,2,    173.1,2,    173.5,6,   109.87,2,    33.14,2,     0.00,2,     2.33,2,    0.001,2,   -0.002,2, -999.000,9, -999.000,9, -999.000,9,-999.0000,9,  -999.00,9,   -999.0,9,   -999.0,9,   -999.0,9,   -999.0,9,   -999.0,9,  -999.00,9, -999.00,  -999.0,-999.0000,-999.000, -999.00,  -999.0,  1.5698,-999.000
    31DSCG94_2,  P18S,    44,  1,    107,   1257,2,19940311,1950,-47.4995,-103.0015, 4247,   2997.9,   1.6483,  34.7063,2,  34.7061,2,    177.2,2,    178.5,2,   113.31,2,    32.75,2,     0.00,2,     2.32,2,    0.000,2,   -0.003,2, -999.000,9, -999.000,9, -999.000,9,-999.0000,9,  -999.00,9,   -999.0,9,   -999.0,9,   -999.0,9,   -999.0,9,   -999.0,9,  -999.00,9, -999.00,  -999.0,-999.0000,-999.000, -999.00,  -999.0,  1.4282,-999.000
    31DSCG94_2,  P18S,    44,  1,    106,   1224,2,19940311,1950,-47.4995,-103.0015, 4247,   3248.3,   1.5386,  34.7105,2,  34.7097,2,    181.7,2,    182.6,6,   114.58,2,    32.53,2,     0.00,2,     2.33,2, -999.000,9, -999.000,9, -999.000,9, -999.000,9, -999.000,9,-999.0000,9,  -999.00,9,   -999.0,9,   -999.0,9,   -999.0,9,   -999.0,9,   -999.0,9,  -999.00,9, -999.00,  -999.0,-999.0000,-999.000, -999.00,  -999.0,  1.2966,-999.000
    31DSCG94_2,  P18S,    44,  1,    105,   1246,2,19940311,1950,-47.4995,-103.0015, 4247,   3499.7,   1.3493,  34.7106,2,  34.7099,2,    187.9,2,    188.8,2,   117.93,2,    32.50,2,     0.00,2,     2.33,2,   -0.001,2,    0.000,2, -999.000,9, -999.000,9, -999.000,9,-999.0000,9,  -999.00,9,   -999.0,9,   -999.0,9,   -999.0,9,   -999.0,9,   -999.0,9,  -999.00,9, -999.00,  -999.0,-999.0000,-999.000, -999.00,  -999.0,  1.0867,-999.000
    31DSCG94_2,  P18S,    44,  1,    104,   1028,2,19940311,1950,-47.4995,-103.0015, 4247,   3749.2,   1.0782,  34.7092,2,  34.7088,2,    194.5,2,    195.7,6,   125.09,2,    32.47,2,     0.00,2,     2.32,2, -999.000,9, -999.000,9, -999.000,9, -999.000,9, -999.000,9,-999.0000,9,  -999.00,9,   -999.0,9,   -999.0,9,   -999.0,9,   -999.0,9,   -999.0,9,  -999.00,9, -999.00,  -999.0,-999.0000,-999.000, -999.00,  -999.0,  0.7973,-999.000
    31DSCG94_2,  P18S,    44,  1,    102,   1223,2,19940311,1950,-47.4995,-103.0015, 4247,   3999.8,   0.8757,  34.7092,2,  34.7077,2,    201.0,2,    201.4,2,   131.71,2,    32.31,2,     0.00,2,     2.31,2, -999.000,9, -999.000,9, -999.000,9, -999.000,9, -999.000,9,-999.0000,9,  -999.00,9,   -999.0,9,   -999.0,9,   -999.0,9,   1052.9,2,   -999.0,9,  -999.00,9,   20.00,  -999.0,-999.0000,-999.000, -999.00,  -999.0,  0.5743,-999.000
    31DSCG94_2,  P18S,    44,  1,    103,   9999,2,19940311,1950,-47.4995,-103.0015, 4247,   4000.2,   0.8753,  34.7089,2,  34.7087,2,    201.1,2,   -999.0,9,   131.50,2,    32.80,2,     0.00,2,     2.28,2,   -0.001,6,   -0.002,6, -999.000,9, -999.000,9, -999.000,9,-999.0000,9,  -999.00,9,   -999.0,9,   -999.0,9,   -999.0,9,   1049.9,6,   -999.0,9,  -999.00,9,   20.00,  -999.0,-999.0000,-999.000, -999.00,  -999.0,  0.5738,-999.000
    31DSCG94_2,  P18S,    44,  1,    101,   1041,2,19940311,1950,-47.4995,-103.0015, 4247,   4318.5,   0.7798,  34.7082,2,  34.7068,2,    206.1,2,    204.0,2,   131.81,2,    34.24,2,     0.00,2,     2.31,2,    0.014,2,    0.012,2, -999.000,9, -999.000,9, -999.000,9,-999.0000,9,  -999.00,9,   -999.0,9,   -999.0,9,   -999.0,9,   -999.0,9,   -999.0,9,  -999.00,9, -999.00,  -999.0,-999.0000,-999.000, -999.00,  -999.0,  0.4471,-999.000