BOTTLE,20220630CCHSIOAMB
EXPOCODE,SECT_ID,STNNBR,CASTNO,SAMPNO,BTLNBR,BTLNBR_FLAG_W,DATE,TIME,LATITUDE,LONGITUDE,DEPTH,CTDPRS,CTDTMP,CTDSAL,CTDSAL_FLAG_W,SALNTY,SALNTY_FLAG_W,CTDOXY,CTDOXY_FLAG_W,OXYGEN,OXYGEN_FLAG_W,SILCAT,SILCAT_FLAG_W,NITRAT,NITRAT_FLAG_W,NITRIT,NITRIT_FLAG_W,PHSPHT,PHSPHT_FLAG_W,CFC-11,CFC-11_FLAG_W,CFC-12,CFC-12_FLAG_W,CFC113,CFC113_FLAG_W,CCL4,CCL4_FLAG_W,TRITUM,TRITUM_FLAG_W,HELIUM,HELIUM_FLAG_W,DELHE3,DELHE3_FLAG_W,DELC14,DELC14_FLAG_W,DELC13,DELC13_FLAG_W,TCARBN,TCARBN_FLAG_W,PCO2,PCO2_FLAG_W,ALKALI,ALKALI_FLAG_W,PH,PH_FLAG_W,PCO2TMP,C14ERR,HELIER,DELHER,PH_TMP,C13ERR,THETA,TRITER
,,,,,,,,,,,,DBAR,ITS-90,PSS-78,,PSS-78,,UMOL/KG,,UMOL/KG,,UMOL/KG,,UMOL/KG,,UMOL/KG,,UMOL/KG,,PMOL/KG,,PMOL/KG,,PMOL/KG,,PMOL/KG,,TU,,NMOL/KG,,PERCNT,,/MILLE,,/MILLE,,UMOL/KG,,UATM,,UMOL/KG,,,,DEG C,/MILLE,NMOL/KG,PERCNT,DEG C,/MILLE,DEG C,TU
    31DSCG94_2,  P18S,    39,  1,    124,    435,2,19940310,1014,-50.5000,-103.0000, 4268,     10.9,   8.9424,  34.2238,2,-999.0000,5,    282.4,2,    282.5,2,     0.00,2,    15.49,2,     0.19,2,     1.14,2,    4.059,2,    2.023,2, -999.000,9, -999.000,9, -999.000,9,-999.0000,9,  -999.00,9,   -999.0,9,   -999.0,9,   2085.4,2,    554.8,2,   2275.0,2,  -999.00,9,   20.00,  -999.0,-999.0000,-999.000, -999.00,  -999.0,  8.9412,-999.000
    31DSCG94_2,  P18S,    39,  1,    123,    421,2,19940310,1014,-50.5000,-103.0000, 4268,     22.9,   8.9399,  34.2243,2,  34.2252,2,    281.1,2,    282.2,2,     0.00,2,    14.84,2,     0.20,2,     0.38,4,    4.039,2,    2.063,2, -999.000,9, -999.000,9, -999.000,9,-999.0000,9,  -999.00,9,   -999.0,9,   -999.0,9,   2084.1,2,    553.6,2,   2272.0,2,     7.85,2,   20.00,  -999.0,-999.0000,-999.000,   25.00,  -999.0,  8.9374,-999.000
    31DSCG94_2,  P18S,    39,  1,    122,    418,2,19940310,1014,-50.5000,-103.0000, 4268,     48.7,   8.8886,  34.2241,2,-999.0000,5,    279.9,2,    282.0,2,  -999.00,9,  -999.00,9,  -999.00,9,  -999.00,9,    4.069,2,    2.049,2, -999.000,9, -999.000,9, -999.000,9,-999.0000,9,  -999.00,9,   -999.0,9,   -999.0,9,   -999.0,9,    553.5,2,   -999.0,9,  -999.00,9,   20.00,  -999.0,-999.0000,-999.000, -999.00,  -999.0,  8.8834,-999.000
    31DSCG94_2,  P18S,    39,  1,    121,    413,2,19940310,1014,-50.5000,-103.0000, 4268,    100.3,   7.2417,  34.2733,2,-999.0000,5,    283.0,2,    288.1,2,     1.73,2,    16.67,2,     0.17,2,     1.22,2,    4.381,2,    2.180,2, -999.000,9, -999.000,9, -999.000,9,-999.0000,9,  -999.00,9,   -999.0,9,   -999.0,9,   2102.0,2,    608.9,2,   2271.0,2,  -999.00,9,   20.00,  -999.0,-999.0000,-999.000, -999.00,  -999.0,  7.2323,-999.000
    31DSCG94_2,  P18S,    39,  1,    120,    405,2,19940310,1014,-50.5000,-103.0000, 4268,    148.2,   6.4958,  34.2966,2,  34.2971,2,    277.0,2,    278.7,2,     4.71,2,    19.27,2,     0.00,2,     0.45,4,    4.203,2,    2.017,2, -999.000,9, -999.000,9, -999.000,9,-999.0000,9,  -999.00,9,   -999.0,9,   -999.0,9,   2112.6,2,    665.7,2,   2274.0,2,     7.78,2,   20.00,  -999.0,-999.0000,-999.000,   25.00,  -999.0,  6.4827,-999.000
    31DSCG94_2,  P18S,    39,  1,    119,    417,2,19940310,1014,-50.5000,-103.0000, 4268,    201.7,   6.2878,  34.2950,2,-999.0000,5,    275.3,2,    278.9,2,     4.88,2,    20.37,2,     0.00,2,     1.43,2,    4.125,2,    2.048,2, -999.000,9, -999.000,9, -999.000,9,-999.0000,9,  -999.00,9,   -999.0,9,   -999.0,9,   2116.6,2,    677.1,2,   2277.0,2,  -999.00,9,   20.00,  -999.0,-999.0000,-999.000, -999.00,  -999.0,  6.2702,-999.000
    31DSCG94_2,  P18S,    39,  1,    118,    429,2,19940310,1014,-50.5000,-103.0000, 4268,    299.5,   6.1071,  34.2973,2,  34.2982,2,    273.7,2,    273.2,2,     6.08,2,    20.89,2,     0.00,2,     1.51,2,    3.789,2,    1.847,2, -999.000,9, -999.000,9, -999.000,9,-999.0000,9,  -999.00,9,   -999.0,9,   -999.0,9,   2123.1,2,    698.0,2,   2277.0,2,     7.76,2,   20.00,  -999.0,-999.0000,-999.000,   25.00,  -999.0,  6.0812,-999.000
    31DSCG94_2,  P18S,    39,  1,    117,    427,2,19940310,1014,-50.5000,-103.0000, 4268,    399.3,   6.0093,  34.3066,2,  34.3061,2,    273.8,2,    279.4,2,     6.04,2,    20.66,2,     0.00,2,     1.42,2,    3.986,2,    1.962,2, -999.000,9, -999.000,9, -999.000,9,-999.0000,9,  -999.00,9,   -999.0,9,   -999.0,9,   2123.3,2,    686.1,2,   2278.0,2,     7.77,2,   20.00,  -999.0,-999.0000,-999.000,   25.00,  -999.0,  5.9748,-999.000
    31DSCG94_2,  P18S,    39,  1,    116,    410,2,19940310,1014,-50.5000,-103.0000, 4268,    499.0,   5.7608,  34.2856,2,-999.0000,5,    273.4,2,    277.6,2,  -999.00,9,  -999.00,9,  -999.00,9,  -999.00,9,    3.867,2,    1.932,2, -999.000,9, -999.000,9, -999.000,9,-999.0000,9,  -999.00,9,   -999.0,9,   -999.0,9,   2124.7,2,    696.9,2,   2276.0,2,  -999.00,9,   20.00,  -999.0,-999.0000,-999.000, -999.00,  -999.0,  5.7183,-999.000
    31DSCG94_2,  P18S,    39,  1,    115,    422,2,19940310,1014,-50.5000,-103.0000, 4268,    598.3,   5.4086,  34.2573,2,  34.2576,2,    264.1,2,    266.7,2,     9.56,2,    23.24,2,     0.00,2,     1.64,2,    3.430,2,    1.668,2, -999.000,9, -999.000,9, -999.000,9,-999.0000,9,  -999.00,9,   -999.0,9,   -999.0,9,   2135.9,2,    741.1,2,   2283.0,2,     7.74,2,   20.00,  -999.0,-999.0000,-999.000,   25.00,  -999.0,  5.3589,-999.000
    31DSCG94_2,  P18S,    39,  1,    114,    407,2,19940310,1014,-50.5000,-103.0000, 4268,    698.7,   5.0521,  34.2480,2,  34.2486,2,    250.6,2,    250.5,2,    13.69,2,    25.70,2,     0.00,2,     1.80,2,    2.768,2,    1.289,2, -999.000,9, -999.000,9, -999.000,9,-999.0000,9,  -999.00,9,   -999.0,9,   -999.0,9,   2150.2,2,    799.2,2,   2284.0,2,     7.71,2,   20.00,  -999.0,-999.0000,-999.000,   25.00,  -999.0,  4.9954,-999.000
    31DSCG94_2,  P18S,    39,  1,    113,    419,2,19940310,1014,-50.5000,-103.0000, 4268,    798.5,   4.6903,  34.2660,2,  34.2665,2,    233.2,2,    231.8,2,    19.59,2,    27.97,2,     0.00,2,     1.96,2,    1.982,2,    0.931,2, -999.000,9, -999.000,9, -999.000,9,-999.0000,9,  -999.00,9,   -999.0,9,   -999.0,9,   2166.3,2,    879.4,2,   2288.0,2,     7.68,2,   20.00,  -999.0,-999.0000,-999.000,   25.00,  -999.0,  4.6271,-999.000
    31DSCG94_2,  P18S,    39,  1,    112,    426,2,19940310,1014,-50.5000,-103.0000, 4268,   1001.4,   3.7513,  34.3033,2,-999.0000,5,    211.3,2,    210.9,2,  -999.00,9,  -999.00,9,  -999.00,9,  -999.00,9,    1.159,2,    0.552,2, -999.000,9, -999.000,9, -999.000,9,-999.0000,9,  -999.00,9,   -999.0,9,   -999.0,9,   -999.0,9,    995.1,2,   -999.0,9,  -999.00,9,   20.00,  -999.0,-999.0000,-999.000, -999.00,  -999.0,  3.6778,-999.000
    31DSCG94_2,  P18S,    39,  1,    111,    424,2,19940310,1014,-50.5000,-103.0000, 4268,   1200.3,   3.0969,  34.3788,2,  34.3796,2,    193.9,2,    192.7,2,    50.20,2,    33.21,2,     0.00,2,     2.31,2,    0.637,2,    0.309,2, -999.000,9, -999.000,9, -999.000,9,-999.0000,9,  -999.00,9,   -999.0,9,   -999.0,9,   -999.0,9,   -999.0,9,   -999.0,9,     7.59,2, -999.00,  -999.0,-999.0000,-999.000,   25.00,  -999.0,  3.0128,-999.000
    31DSCG94_2,  P18S,    39,  1,    110,    409,2,19940310,1014,-50.5000,-103.0000, 4268,   1400.1,   2.7427,  34.4596,2,  34.4604,2,    180.2,2,    181.2,2,    63.40,2,    33.97,2,     0.00,2,     2.31,2,    0.424,2,    0.204,2, -999.000,9, -999.000,9, -999.000,9,-999.0000,9,  -999.00,9,   -999.0,9,   -999.0,9,   -999.0,9,   -999.0,9,   -999.0,9,     7.57,2, -999.00,  -999.0,-999.0000,-999.000,   25.00,  -999.0,  2.6462,-999.000
    31DSCG94_2,  P18S,    39,  1,    109,    423,2,19940310,1014,-50.5000,-103.0000, 4268,   1600.2,   2.5230,  34.5499,2,  34.5480,2,    171.4,2,    170.8,2,    73.45,2,    34.06,2,     0.00,2,     2.40,2,    0.178,2,    0.084,2, -999.000,9, -999.000,9, -999.000,9,-999.0000,9,  -999.00,9,   -999.0,9,   -999.0,9,   -999.0,9,   -999.0,9,   -999.0,9,     7.57,2, -999.00,  -999.0,-999.0000,-999.000,   25.00,  -999.0,  2.4126,-999.000
    31DSCG94_2,  P18S,    39,  1,    108,    414,4,19940310,1014,-50.5000,-103.0000, 4268,   1881.7,   2.3249,  34.6346,2,-999.0000,9,    168.0,2,   -999.0,9,  -999.00,9,  -999.00,9,  -999.00,9,  -999.00,9, -999.000,9, -999.000,9, -999.000,9, -999.000,9, -999.000,9,-999.0000,9,  -999.00,9,   -999.0,9,   -999.0,9,   -999.0,9,   -999.0,9,   -999.0,9,  -999.00,9, -999.00,  -999.0,-999.0000,-999.000, -999.00,  -999.0,  2.1936,-999.000
    31DSCG94_2,  P18S,    39,  1,    107,    437,2,19940310,1014,-50.5000,-103.0000, 4268,   2199.6,   2.1047,  34.6834,2,  34.6826,2,    169.1,2,    171.1,6,    92.47,2,    33.30,2,     0.00,2,     2.33,2,    0.017,2,    0.015,2, -999.000,9, -999.000,9, -999.000,9,-999.0000,9,  -999.00,9,   -999.0,9,   -999.0,9,   -999.0,9,   -999.0,9,   -999.0,9,  -999.00,9, -999.00,  -999.0,-999.0000,-999.000, -999.00,  -999.0,  1.9493,-999.000
    31DSCG94_2,  P18S,    39,  1,    106,    416,2,19940310,1014,-50.5000,-103.0000, 4268,   2599.8,   1.7937,  34.7020,2,  34.7001,2,    172.5,2,    174.1,2,   104.94,2,    32.91,2,     0.00,2,     2.33,2,    0.004,2,    0.003,2, -999.000,9, -999.000,9, -999.000,9,-999.0000,9,  -999.00,9,   -999.0,9,   -999.0,9,   -999.0,9,   -999.0,9,   -999.0,9,  -999.00,9, -999.00,  -999.0,-999.0000,-999.000, -999.00,  -999.0,  1.6080,-999.000
    31DSCG94_2,  P18S,    39,  1,    105,    420,2,19940310,1014,-50.5000,-103.0000, 4268,   2998.6,   1.6172,  34.7099,2,  34.7085,2,    178.7,2,    181.2,2,   110.66,2,    32.15,2,     0.00,2,     2.28,2,    0.011,2,   -0.001,2, -999.000,9, -999.000,9, -999.000,9,-999.0000,9,  -999.00,9,   -999.0,9,   -999.0,9,   -999.0,9,   -999.0,9,   -999.0,9,  -999.00,9, -999.00,  -999.0,-999.0000,-999.000, -999.00,  -999.0,  1.3978,-999.000
    31DSCG94_2,  P18S,    39,  1,    104,    436,2,19940310,1014,-50.5000,-103.0000, 4268,   3401.2,   1.3902,  34.7139,2,  34.7120,2,    187.0,2,    189.5,2,   115.96,2,    32.14,2,     0.00,2,     1.98,4,    0.005,2,    0.007,2, -999.000,9, -999.000,9, -999.000,9,-999.0000,9,  -999.00,9,   -999.0,9,   -999.0,9,   -999.0,9,   -999.0,9,   -999.0,9,  -999.00,9, -999.00,  -999.0,-999.0000,-999.000, -999.00,  -999.0,  1.1365,-999.000
    31DSCG94_2,  P18S,    39,  1,    103,    425,2,19940310,1014,-50.5000,-103.0000, 4268,   3797.7,   0.9792,  34.7107,2,  34.7084,2,    197.0,2,    199.2,2,   123.55,2,    32.20,2,     0.00,2,     2.29,2,    0.000,2,    0.001,2, -999.000,9, -999.000,9, -999.000,9,-999.0000,9,  -999.00,9,   -999.0,9,   -999.0,9,   -999.0,9,   -999.0,9,   -999.0,9,  -999.00,9, -999.00,  -999.0,-999.0000,-999.000, -999.00,  -999.0,  0.6959,-999.000
    31DSCG94_2,  P18S,    39,  1,    102,    433,2,19940310,1014,-50.5000,-103.0000, 4268,   4200.9,   0.7800,  34.7083,2,  34.7069,2,    204.0,2,    204.7,2,   128.50,2,    32.38,2,     0.00,2,     2.29,2,    0.229,4,    0.010,2, -999.000,9, -999.000,9, -999.000,9,-999.0000,9,  -999.00,9,   -999.0,9,   -999.0,9,   -999.0,9,   -999.0,9,   -999.0,9,  -999.00,9, -999.00,  -999.0,-999.0000,-999.000, -999.00,  -999.0,  0.4600,-999.000
    31DSCG94_2,  P18S,    39,  1,    101,    403,2,19940310,1014,-50.5000,-103.0000, 4268,   4306.0,   0.7828,  34.7081,2,  34.7067,2,    204.9,2,    204.9,2,   130.03,2,    32.65,2,     0.00,2,     2.24,2,    0.005,2,    0.003,2, -999.000,9, -999.000,9, -999.000,9,-999.0000,9,  -999.00,9,   -999.0,9,   -999.0,9,   -999.0,9,   -999.0,9,   -999.0,9,  -999.00,9, -999.00,  -999.0,-999.0000,-999.000, -999.00,  -999.0,  0.4513,-999.000