BOTTLE,20220630CCHSIOAMB
EXPOCODE,SECT_ID,STNNBR,CASTNO,SAMPNO,BTLNBR,BTLNBR_FLAG_W,DATE,TIME,LATITUDE,LONGITUDE,DEPTH,CTDPRS,CTDTMP,CTDSAL,CTDSAL_FLAG_W,SALNTY,SALNTY_FLAG_W,CTDOXY,CTDOXY_FLAG_W,OXYGEN,OXYGEN_FLAG_W,SILCAT,SILCAT_FLAG_W,NITRAT,NITRAT_FLAG_W,NITRIT,NITRIT_FLAG_W,PHSPHT,PHSPHT_FLAG_W,CFC-11,CFC-11_FLAG_W,CFC-12,CFC-12_FLAG_W,CFC113,CFC113_FLAG_W,CCL4,CCL4_FLAG_W,TRITUM,TRITUM_FLAG_W,HELIUM,HELIUM_FLAG_W,DELHE3,DELHE3_FLAG_W,DELC14,DELC14_FLAG_W,DELC13,DELC13_FLAG_W,TCARBN,TCARBN_FLAG_W,PCO2,PCO2_FLAG_W,ALKALI,ALKALI_FLAG_W,PH,PH_FLAG_W,PCO2TMP,C14ERR,HELIER,DELHER,PH_TMP,C13ERR,THETA,TRITER
,,,,,,,,,,,,DBAR,ITS-90,PSS-78,,PSS-78,,UMOL/KG,,UMOL/KG,,UMOL/KG,,UMOL/KG,,UMOL/KG,,UMOL/KG,,PMOL/KG,,PMOL/KG,,PMOL/KG,,PMOL/KG,,TU,,NMOL/KG,,PERCNT,,/MILLE,,/MILLE,,UMOL/KG,,UATM,,UMOL/KG,,,,DEG C,/MILLE,NMOL/KG,PERCNT,DEG C,/MILLE,DEG C,TU
    31DSCG94_3,  P18N,   149,  2,    236,   1025,2,19940414,1850,  1.3327,-110.3337, 3775,      9.7,  25.9433,  34.7897,2,  34.7941,2,    189.8,2,    200.3,6,     4.28,2,     5.10,2,     0.15,2,     0.59,2,    1.741,2,    0.981,2, -999.000,9, -999.000,9, -999.000,9,-999.0000,9,  -999.00,9,   -999.0,9,   -999.0,9,   2021.8,2,    372.9,2,   2288.0,2,  -999.00,9,   20.00,  -999.0,-999.0000,-999.000, -999.00,  -999.0, 25.9411,-999.000
    31DSCG94_3,  P18N,   149,  2,    235,   1247,2,19940414,1850,  1.3327,-110.3337, 3775,     24.6,  25.0766,  34.9973,2,  35.0129,2,    186.6,2,    196.0,2,     4.60,2,     6.00,2,     0.21,2,     0.66,2,    1.738,2,    0.980,2, -999.000,9, -999.000,9, -999.000,9,-999.0000,9,  -999.00,9,   -999.0,9,   -999.0,9,   -999.0,9,   -999.0,9,   -999.0,9,     7.98,2, -999.00,  -999.0,-999.0000,-999.000,   25.00,  -999.0, 25.0712,-999.000
    31DSCG94_3,  P18N,   149,  2,    234,   1216,2,19940414,1850,  1.3327,-110.3337, 3775,     49.7,  18.7259,  34.8277,2,  34.8411,2,    118.8,2,    118.3,2,    11.61,2,    15.84,2,     0.44,2,     1.25,2,    1.258,2,    0.672,2, -999.000,9, -999.000,9, -999.000,9,-999.0000,9,  -999.00,9,   -999.0,9,   -999.0,9,   2115.4,2,    625.7,2,   2287.0,2,     7.80,2,   20.00,  -999.0,-999.0000,-999.000,   25.00,  -999.0, 18.7172,-999.000
    31DSCG94_3,  P18N,   149,  2,    233,   1244,2,19940414,1850,  1.3327,-110.3337, 3775,     74.8,  15.7616,  34.9347,2,  34.9372,2,     90.2,2,     84.7,2,    14.82,2,    20.69,2,     0.45,2,     1.55,2,    1.029,2,    0.552,2, -999.000,9, -999.000,9, -999.000,9,-999.0000,9,  -999.00,9,   -999.0,9,   -999.0,9,   -999.0,9,   -999.0,9,   -999.0,9,     7.71,2, -999.00,  -999.0,-999.0000,-999.000,   25.00,  -999.0, 15.7500,-999.000
    31DSCG94_3,  P18N,   149,  2,    232,   1003,2,19940414,1850,  1.3327,-110.3337, 3775,    101.4,  14.5846,  34.9518,2,  34.9503,2,     68.4,2,     64.0,2,    17.24,2,    23.73,2,     0.45,2,     1.72,2,    0.879,6,    0.472,6, -999.000,9, -999.000,9, -999.000,9,-999.0000,9,  -999.00,9,   -999.0,9,   -999.0,9,   2180.2,2,    903.3,2,   2297.0,2,     7.66,2,   20.00,  -999.0,-999.0000,-999.000,   25.00,  -999.0, 14.5696,-999.000
    31DSCG94_3,  P18N,   149,  2,    231,   1211,2,19940414,1850,  1.3327,-110.3337, 3775,    127.4,  13.8668,  34.9201,2,  34.9201,2,     71.8,2,     70.0,2,    18.78,2,    23.90,2,     0.10,2,     1.73,2, -999.000,9, -999.000,9, -999.000,9, -999.000,9, -999.000,9,-999.0000,9,  -999.00,9,   -999.0,9,   -999.0,9,   -999.0,9,   -999.0,9,   -999.0,9,     7.66,2, -999.00,  -999.0,-999.0000,-999.000,   25.00,  -999.0, 13.8485,-999.000
    31DSCG94_3,  P18N,   149,  2,    230,   1241,2,19940414,1850,  1.3327,-110.3337, 3775,    148.8,  13.4435,  34.9068,2,  34.9060,2,     68.0,2,     67.6,2,    20.15,2,    25.37,2,     0.04,2,     1.77,2,    0.726,2,    0.390,2, -999.000,9, -999.000,9, -999.000,9,-999.0000,9,  -999.00,9,   -999.0,9,   -999.0,9,   2187.1,2,   -999.0,9,   2303.0,2,     7.65,2, -999.00,  -999.0,-999.0000,-999.000,   25.00,  -999.0, 13.4226,-999.000
    31DSCG94_3,  P18N,   149,  2,    229,   1240,2,19940414,1850,  1.3327,-110.3337, 3775,    167.0,  13.0273,  34.8988,2,  34.8978,2,     63.6,2,     62.0,2,    21.19,2,    26.70,2,     0.04,2,     1.87,2, -999.000,9, -999.000,9, -999.000,9, -999.000,9, -999.000,9,-999.0000,9,  -999.00,9,   -999.0,9,   -999.0,9,   -999.0,9,   -999.0,9,   -999.0,9,     7.62,2, -999.00,  -999.0,-999.0000,-999.000,   25.00,  -999.0, 13.0043,-999.000
    31DSCG94_3,  P18N,   149,  2,    228,   1032,2,19940414,1850,  1.3327,-110.3337, 3775,    199.6,  12.7893,  34.8908,2,  34.8892,2,     54.8,2,     46.5,2,    23.00,2,    28.66,2,     0.05,3,     1.97,2,    0.519,2,    0.285,6, -999.000,9, -999.000,9, -999.000,9,-999.0000,9,  -999.00,9,   -999.0,9,   -999.0,9,   2209.6,2,   1099.7,2,   2300.0,2,     7.58,2,   20.00,  -999.0,-999.0000,-999.000,   25.00,  -999.0, 12.7622,-999.000
    31DSCG94_3,  P18N,   149,  2,    227,   1008,2,19940414,1850,  1.3327,-110.3337, 3775,    251.0,  12.3482,  34.8580,2,  34.8542,2,     41.6,2,     27.3,2,    25.72,2,    31.56,2,     0.04,4,     2.16,2, -999.000,9, -999.000,9, -999.000,9, -999.000,9, -999.000,9,-999.0000,9,  -999.00,9,   -999.0,9,   -999.0,9,   2229.9,2,   -999.0,9,   2302.0,2,     7.53,2, -999.00,  -999.0,-999.0000,-999.000,   25.00,  -999.0, 12.3148,-999.000
    31DSCG94_3,  P18N,   149,  2,    226,   1007,2,19940414,1850,  1.3327,-110.3337, 3775,    302.0,  11.5507,  34.8084,2,  34.8082,2,     23.7,2,     18.8,2,    29.16,2,    33.88,2,     0.03,4,     2.29,2,    0.257,2,    0.143,2, -999.000,9, -999.000,9, -999.000,9,-999.0000,9,  -999.00,9,   -999.0,9,   -999.0,9,   2243.5,2,   1408.7,2,   2301.0,2,     7.49,2,   20.00,  -999.0,-999.0000,-999.000,   25.00,  -999.0, 11.5122,-999.000
    31DSCG94_3,  P18N,   149,  2,    225,   1256,2,19940414,1850,  1.3327,-110.3337, 3775,    349.4,  10.9494,  34.7660,2,  34.7649,2,     20.9,2,     23.9,2,    30.85,2,    34.70,2,     0.04,4,     2.36,2, -999.000,9, -999.000,9, -999.000,9, -999.000,9, -999.000,9,-999.0000,9,  -999.00,9,   -999.0,9,   -999.0,9,   -999.0,9,   -999.0,9,   -999.0,9,     7.48,2, -999.00,  -999.0,-999.0000,-999.000,   25.00,  -999.0, 10.9062,-999.000
    31DSCG94_3,  P18N,   149,  2,    223,   1220,2,19940414,1850,  1.3327,-110.3337, 3775,    399.3,   9.5366,  34.6881,2,  34.6864,2,     25.9,2,     28.0,2,    35.73,2,    37.37,2,     0.05,4,     2.49,2,    0.089,2,    0.055,2, -999.000,9, -999.000,9, -999.000,9,-999.0000,9,  -999.00,9,   -999.0,9,   -999.0,9,   2258.1,2,   1535.9,2,   2303.0,2,     7.45,2,   20.00,  -999.0,-999.0000,-999.000,   25.00,  -999.0,  9.4913,-999.000
    31DSCG94_3,  P18N,   149,  2,    222,   1245,2,19940414,1850,  1.3327,-110.3337, 3775,    499.6,   8.2345,  34.6288,2,  34.6278,2,     32.7,2,     35.4,2,    41.84,2,    39.66,2,     0.04,4,     2.64,2, -999.000,9, -999.000,9, -999.000,9, -999.000,9, -999.000,9,-999.0000,9,  -999.00,9,   -999.0,9,   -999.0,9,   2266.6,2,   1590.0,2,   2304.0,2,     7.44,2,   20.00,  -999.0,-999.0000,-999.000,   25.00,  -999.0,  8.1824,-999.000
    31DSCG94_3,  P18N,   149,  2,    221,   1206,2,19940414,1850,  1.3327,-110.3337, 3775,    600.2,   7.2393,  34.5858,2,  34.5855,2,     43.7,2,     48.0,6,    48.72,2,    40.89,2,     0.04,4,     2.72,2,    0.000,2,    0.001,2, -999.000,9, -999.000,9, -999.000,9,-999.0000,9,  -999.00,9,   -999.0,9,   -999.0,9,   2270.4,2,   1575.3,2,   2321.0,2,     7.45,2,   20.00,  -999.0,-999.0000,-999.000,   25.00,  -999.0,  7.1807,-999.000
    31DSCG94_3,  P18N,   149,  2,    220,   1028,2,19940414,1850,  1.3327,-110.3337, 3775,    699.9,   6.1755,  34.5630,2,  34.5619,2,     41.5,2,     50.3,2,    61.70,2,    42.85,2,     0.05,4,     2.88,2, -999.000,9, -999.000,9, -999.000,9, -999.000,9, -999.000,9,-999.0000,9,  -999.00,9,   -999.0,9,   -999.0,9,   2288.1,2,   1642.3,2,   2319.0,2,     7.43,2,   20.00,  -999.0,-999.0000,-999.000,   25.00,  -999.0,  6.1124,-999.000
    31DSCG94_3,  P18N,   149,  2,    219,   1248,2,19940414,1850,  1.3327,-110.3337, 3775,    798.0,   5.5038,  34.5538,2,  34.5535,2,     49.9,2,     54.3,2,    71.30,2,    43.18,2,     0.00,2,     2.91,2,    0.006,2,    0.001,2, -999.000,9, -999.000,9, -999.000,9,-999.0000,9,  -999.00,9,   -999.0,9,   -999.0,9,   2298.1,2,   1650.3,2,   2333.0,2,     7.43,2,   20.00,  -999.0,-999.0000,-999.000,   25.00,  -999.0,  5.4353,-999.000
    31DSCG94_3,  P18N,   149,  2,    218,   1115,3,19940414,1850,  1.3327,-110.3337, 3775,    899.9,   4.9929,  34.5504,2,-999.0000,5,     55.9,2,   -999.0,9,  -999.00,9,  -999.00,9,  -999.00,9,  -999.00,9, -999.000,9, -999.000,9, -999.000,9, -999.000,9, -999.000,9,-999.0000,9,  -999.00,9,   -999.0,9,   -999.0,9,   -999.0,9,   -999.0,9,   -999.0,5,  -999.00,9, -999.00,  -999.0,-999.0000,-999.000, -999.00,  -999.0,  4.9186,-999.000
    31DSCG94_3,  P18N,   149,  2,    217,   1119,2,19940414,1850,  1.3327,-110.3337, 3775,   1000.0,   4.4281,  34.5588,2,  34.5577,2,     69.8,2,     72.1,2,    90.69,2,    40.77,2,     0.04,4,     2.85,2,    0.001,2,    0.000,2, -999.000,9, -999.000,9, -999.000,9,-999.0000,9,  -999.00,9,   -999.0,9,   -999.0,9,   2308.9,2,   1557.6,2,   2353.0,6,     7.46,2,   20.00,  -999.0,-999.0000,-999.000,   25.00,  -999.0,  4.3491,-999.000
    31DSCG94_3,  P18N,   149,  2,    216,   1036,2,19940414,1850,  1.3327,-110.3337, 3775,   1100.8,   4.0979,  34.5665,2,  34.5635,2,     73.9,2,     78.6,2,    95.76,2,    40.88,2,     0.05,4,     2.82,2, -999.000,9, -999.000,9, -999.000,9, -999.000,9, -999.000,9,-999.0000,9,  -999.00,9,   -999.0,9,   -999.0,9,   -999.0,9,   -999.0,9,   -999.0,9,  -999.00,9, -999.00,  -999.0,-999.0000,-999.000, -999.00,  -999.0,  4.0128,-999.000
    31DSCG94_3,  P18N,   149,  2,    215,   1017,2,19940414,1850,  1.3327,-110.3337, 3775,   1199.8,   3.9124,  34.5704,2,  34.5700,2,     76.5,2,     88.5,2,   101.42,2,    40.48,2,     0.03,4,     2.78,2, -999.000,9, -999.000,9, -999.000,9, -999.000,9, -999.000,9,-999.0000,9,  -999.00,9,   -999.0,9,   -999.0,9,   -999.0,9,   -999.0,9,   -999.0,9,     7.47,2, -999.00,  -999.0,-999.0000,-999.000,   25.00,  -999.0,  3.8205,-999.000
    31DSCG94_3,  P18N,   149,  2,    214,   1016,2,19940414,1850,  1.3327,-110.3337, 3775,   1400.0,   3.3486,  34.5925,2,  34.5919,2,     79.9,2,     81.3,2,   116.95,2,    41.05,2,     0.03,4,     2.84,2, -999.000,9, -999.000,9, -999.000,9, -999.000,9, -999.000,9,-999.0000,9,  -999.00,9,   -999.0,9,   -999.0,9,   -999.0,9,   -999.0,9,   -999.0,9,     7.47,2, -999.00,  -999.0,-999.0000,-999.000,   25.00,  -999.0,  3.2452,-999.000
    31DSCG94_3,  P18N,   149,  2,    213,   1209,2,19940414,1850,  1.3327,-110.3337, 3775,   1597.4,   2.8569,  34.6129,2,  34.6106,2,     89.2,2,     92.2,2,   128.53,2,    40.57,2,     0.03,4,     2.81,2, -999.000,9, -999.000,9, -999.000,9, -999.000,9, -999.000,9,-999.0000,9,  -999.00,9,   -999.0,9,   -999.0,9,   -999.0,9,   -999.0,9,   -999.0,9,  -999.00,9, -999.00,  -999.0,-999.0000,-999.000, -999.00,  -999.0,  2.7425,-999.000
    31DSCG94_3,  P18N,   149,  2,    212,   1033,2,19940414,1850,  1.3327,-110.3337, 3775,   1801.0,   2.4658,  34.6297,2,  34.6292,2,    100.2,2,     98.6,2,   136.50,2,    40.15,2,     0.02,4,     2.73,2, -999.000,9, -999.000,9, -999.000,9, -999.000,9, -999.000,9,-999.0000,9,  -999.00,9,   -999.0,9,   -999.0,9,   -999.0,9,   -999.0,9,   -999.0,9,     7.50,2, -999.00,  -999.0,-999.0000,-999.000,   25.00,  -999.0,  2.3393,-999.000
    31DSCG94_3,  P18N,   149,  2,    211,   1240,2,19940414,1850,  1.3327,-110.3337, 3775,   2000.7,   2.2207,  34.6421,2,  34.6403,2,    108.6,2,    107.8,2,   142.78,2,    39.32,2,     0.02,4,     2.68,2, -999.000,9, -999.000,9, -999.000,9, -999.000,9, -999.000,9,-999.0000,9,  -999.00,9,   -999.0,9,   -999.0,9,   -999.0,9,   -999.0,9,   -999.0,9,  -999.00,9, -999.00,  -999.0,-999.0000,-999.000, -999.00,  -999.0,  2.0808,-999.000
    31DSCG94_3,  P18N,   149,  2,    210,   1005,2,19940414,1850,  1.3327,-110.3337, 3775,   2200.8,   2.0694,  34.6509,2,  34.6498,2,    112.7,2,    110.4,2,   146.87,2,    39.36,2,     0.01,2,     2.66,2, -999.000,9, -999.000,9, -999.000,9, -999.000,9, -999.000,9,-999.0000,9,  -999.00,9,   -999.0,9,   -999.0,9,   -999.0,9,   -999.0,9,   -999.0,9,     7.52,2, -999.00,  -999.0,-999.0000,-999.000,   25.00,  -999.0,  1.9146,-999.000
    31DSCG94_3,  P18N,   149,  2,    209,   1611,2,19940414,1850,  1.3327,-110.3337, 3775,   2399.4,   1.9565,  34.6568,2,  34.6559,2,    116.5,2,    116.3,6,   147.93,2,    39.23,2,     0.02,4,     2.65,2, -999.000,9, -999.000,9, -999.000,9, -999.000,9, -999.000,9,-999.0000,9,  -999.00,9,   -999.0,9,   -999.0,9,   -999.0,9,   -999.0,9,   -999.0,9,  -999.00,9, -999.00,  -999.0,-999.0000,-999.000, -999.00,  -999.0,  1.7861,-999.000
    31DSCG94_3,  P18N,   149,  2,    208,   1218,2,19940414,1850,  1.3327,-110.3337, 3775,   2599.3,   1.8128,  34.6661,2,  34.6658,2,    123.1,2,    123.4,2,   148.80,2,    38.49,2,     0.03,4,     2.59,2, -999.000,9, -999.000,9, -999.000,9, -999.000,9, -999.000,9,-999.0000,9,  -999.00,9,   -999.0,9,   -999.0,9,   -999.0,9,   -999.0,9,   -999.0,9,     7.55,2, -999.00,  -999.0,-999.0000,-999.000,   25.00,  -999.0,  1.6269,-999.000
    31DSCG94_3,  P18N,   149,  2,    207,   1257,2,19940414,1850,  1.3327,-110.3337, 3775,   2798.8,   1.7761,  34.6689,2,  34.6669,2,    126.5,2,    127.1,2,   150.76,2,    38.19,2,     0.02,4,     2.55,2, -999.000,9, -999.000,9, -999.000,9, -999.000,9, -999.000,9,-999.0000,9,  -999.00,9,   -999.0,9,   -999.0,9,   -999.0,9,   -999.0,9,   -999.0,9,  -999.00,9, -999.00,  -999.0,-999.0000,-999.000, -999.00,  -999.0,  1.5724,-999.000
    31DSCG94_3,  P18N,   149,  2,    206,   1224,2,19940414,1850,  1.3327,-110.3337, 3775,   3001.1,   1.7325,  34.6712,2,  34.6705,2,    128.7,2,    130.5,2,   151.36,2,    38.16,2,     0.01,2,     2.56,2, -999.000,9, -999.000,9, -999.000,9, -999.000,9, -999.000,9,-999.0000,9,  -999.00,9,   -999.0,9,   -999.0,9,   -999.0,9,   -999.0,9,   -999.0,9,     7.56,2, -999.00,  -999.0,-999.0000,-999.000,   25.00,  -999.0,  1.5104,-999.000
    31DSCG94_3,  P18N,   149,  2,    205,   1246,2,19940414,1850,  1.3327,-110.3337, 3775,   3198.4,   1.6579,  34.6749,2,  34.6732,2,    132.3,2,    135.9,2,   150.22,2,    37.91,2,     0.01,2,     2.54,2, -999.000,9, -999.000,9, -999.000,9, -999.000,9, -999.000,9,-999.0000,9,  -999.00,9,   -999.0,9,   -999.0,9,   -999.0,9,   -999.0,9,   -999.0,9,  -999.00,9, -999.00,  -999.0,-999.0000,-999.000, -999.00,  -999.0,  1.4182,-999.000
    31DSCG94_3,  P18N,   149,  2,    204,   1217,2,19940414,1850,  1.3327,-110.3337, 3775,   3402.3,   1.5678,  34.6815,2,  34.6808,2,    137.1,2,    141.6,2,   150.63,2,    37.93,2,     0.02,4,     2.50,2, -999.000,9, -999.000,9, -999.000,9, -999.000,9, -999.000,9,-999.0000,9,  -999.00,9,   -999.0,9,   -999.0,9,   -999.0,9,   -999.0,9,   -999.0,9,     7.58,2, -999.00,  -999.0,-999.0000,-999.000,   25.00,  -999.0,  1.3099,-999.000
    31DSCG94_3,  P18N,   149,  2,    202,   1223,2,19940414,1850,  1.3327,-110.3337, 3775,   3598.9,   1.5000,  34.6864,2,  34.6856,2,    141.2,2,    146.2,2,   153.88,2,    37.42,2,     0.01,2,     2.45,2, -999.000,9, -999.000,9, -999.000,9, -999.000,9, -999.000,9,-999.0000,9,  -999.00,9,   -999.0,9,   -999.0,9,   -999.0,9,   -999.0,9,   -999.0,9,     7.59,2, -999.00,  -999.0,-999.0000,-999.000,   25.00,  -999.0,  1.2236,-999.000
    31DSCG94_3,  P18N,   149,  2,    203,   9999,2,19940414,1850,  1.3327,-110.3337, 3775,   3600.0,   1.5017,  34.6865,2,  34.6869,2,    141.2,2,    146.1,2,   152.11,2,    37.36,2,     0.02,4,     2.45,2, -999.000,9, -999.000,9, -999.000,9, -999.000,9, -999.000,9,-999.0000,9,  -999.00,9,   -999.0,9,   -999.0,9,   -999.0,9,   -999.0,9,   -999.0,9,  -999.00,9, -999.00,  -999.0,-999.0000,-999.000, -999.00,  -999.0,  1.2252,-999.000
    31DSCG94_3,  P18N,   149,  2,    201,   1041,2,19940414,1850,  1.3327,-110.3337, 3775,   3806.5,   1.4874,  34.6880,2,  34.6872,2,    143.7,2,    148.0,2,   153.97,2,    37.92,2,     0.01,2,     2.45,2, -999.000,9, -999.000,9, -999.000,9, -999.000,9, -999.000,9,-999.0000,9,  -999.00,9,   -999.0,9,   -999.0,9,   -999.0,9,   -999.0,9,   -999.0,9,  -999.00,9, -999.00,  -999.0,-999.0000,-999.000, -999.00,  -999.0,  1.1896,-999.000