BOTTLE,20220630CCHSIOAMB
EXPOCODE,SECT_ID,STNNBR,CASTNO,SAMPNO,BTLNBR,BTLNBR_FLAG_W,DATE,TIME,LATITUDE,LONGITUDE,DEPTH,CTDPRS,CTDTMP,CTDSAL,CTDSAL_FLAG_W,SALNTY,SALNTY_FLAG_W,CTDOXY,CTDOXY_FLAG_W,OXYGEN,OXYGEN_FLAG_W,SILCAT,SILCAT_FLAG_W,NITRAT,NITRAT_FLAG_W,NITRIT,NITRIT_FLAG_W,PHSPHT,PHSPHT_FLAG_W,CFC-11,CFC-11_FLAG_W,CFC-12,CFC-12_FLAG_W,CFC113,CFC113_FLAG_W,CCL4,CCL4_FLAG_W,TRITUM,TRITUM_FLAG_W,HELIUM,HELIUM_FLAG_W,DELHE3,DELHE3_FLAG_W,DELC14,DELC14_FLAG_W,DELC13,DELC13_FLAG_W,TCARBN,TCARBN_FLAG_W,PCO2,PCO2_FLAG_W,ALKALI,ALKALI_FLAG_W,PH,PH_FLAG_W,PCO2TMP,C14ERR,HELIER,DELHER,PH_TMP,C13ERR,THETA,TRITER
,,,,,,,,,,,,DBAR,ITS-90,PSS-78,,PSS-78,,UMOL/KG,,UMOL/KG,,UMOL/KG,,UMOL/KG,,UMOL/KG,,UMOL/KG,,PMOL/KG,,PMOL/KG,,PMOL/KG,,PMOL/KG,,TU,,NMOL/KG,,PERCNT,,/MILLE,,/MILLE,,UMOL/KG,,UATM,,UMOL/KG,,,,DEG C,/MILLE,NMOL/KG,PERCNT,DEG C,/MILLE,DEG C,TU
    31DSCG94_2,  P18S,    81,  3,    336,   1025,2,19940321,1926,-29.0017,-103.0133, 3561,     10.7,  23.4035,  35.4013,2,  35.4021,2,    206.8,2,    214.7,2,     1.11,2,     0.09,2,     0.00,2,     0.11,2,    1.995,2,    1.135,2, -999.000,9, -999.000,9, -999.000,9,-999.0000,9,  -999.00,9,   -999.0,9,      1.9,2,   2019.6,2,    323.8,2,   2323.0,6,     8.05,2,   20.00,  -999.0,-999.0000,-999.000,   25.00,  -999.0, 23.4013,-999.000
    31DSCG94_2,  P18S,    81,  3,    335,   1247,2,19940321,1926,-29.0017,-103.0133, 3561,     24.7,  23.4117,  35.4144,2,  35.4203,2,    213.0,2,    214.5,2,     1.04,2,     0.01,2,     0.00,2,     0.10,2,    2.019,2,    1.100,2, -999.000,9, -999.000,9, -999.000,9,-999.0000,9,  -999.00,9,   -999.0,9,   -999.0,9,   2019.4,2,    323.8,2,   2325.0,2,     8.05,2,   20.00,  -999.0,-999.0000,-999.000,   25.00,  -999.0, 23.4066,-999.000
    31DSCG94_2,  P18S,    81,  3,    334,   1108,2,19940321,1926,-29.0017,-103.0133, 3561,     52.0,  22.8190,  35.4120,2,  35.5094,3,    223.1,2,    218.7,2,     0.95,2,     0.00,2,     0.00,2,     0.07,2,    2.073,2,    1.136,2, -999.000,9, -999.000,9, -999.000,9,-999.0000,9,  -999.00,9,   -999.0,9,   -999.0,9,   2024.3,2,    323.6,2,   2329.0,2,     8.05,2,   20.00,  -999.0,-999.0000,-999.000,   25.00,  -999.0, 22.8085,-999.000
    31DSCG94_2,  P18S,    81,  3,    333,   1244,2,19940321,1926,-29.0017,-103.0133, 3561,     75.1,  19.4260,  35.0883,2,  35.0904,2,    238.8,2,    243.3,2,     0.93,2,     0.00,2,     0.00,2,     0.06,2,    2.502,2,    1.324,2, -999.000,9, -999.000,9, -999.000,9,-999.0000,9,  -999.00,9,   -999.0,9,   -999.0,9,   2014.1,2,    338.1,2,   2301.0,2,     8.03,2,   20.00,  -999.0,-999.0000,-999.000,   25.00,  -999.0, 19.4125,-999.000
    31DSCG94_2,  P18S,    81,  3,    332,   1003,2,19940321,1926,-29.0017,-103.0133, 3561,     99.0,  18.7261,  35.1234,2,  35.1289,2,    237.8,2,    242.2,2,     1.04,2,     0.00,2,     0.00,2,     0.06,2,    2.498,6,    1.360,2, -999.000,9, -999.000,9, -999.000,9,-999.0000,9,  -999.00,9,   -999.0,9,   -999.0,9,   2012.6,2,    337.7,2,   2307.0,2,     8.03,2,   20.00,  -999.0,-999.0000,-999.000,   25.00,  -999.0, 18.7086,-999.000
    31DSCG94_2,  P18S,    81,  3,    331,   1211,2,19940321,1926,-29.0017,-103.0133, 3561,    121.6,  17.8220,  35.0215,2,  35.0228,2,    235.9,2,    240.6,2,     1.00,2,     0.00,2,     0.00,2,     0.12,2,    2.547,2,    1.370,2, -999.000,9, -999.000,9, -999.000,9,-999.0000,9,  -999.00,9,   -999.0,9,   -999.0,9,   2015.0,2,    351.1,2,   2303.0,2,     8.02,2,   20.00,  -999.0,-999.0000,-999.000,   25.00,  -999.0, 17.8013,-999.000
    31DSCG94_2,  P18S,    81,  3,    330,   1241,2,19940321,1926,-29.0017,-103.0133, 3561,    150.5,  16.9587,  34.8881,2,  34.8894,2,    237.8,2,    239.0,2,     0.98,2,     0.01,2,     0.00,2,     0.16,2,    2.673,6,    1.403,6, -999.000,9, -999.000,9, -999.000,9,-999.0000,9,  -999.00,9,   -999.0,9,   -999.0,9,   2019.9,2,    362.6,2,   2298.0,2,     8.00,2,   20.00,  -999.0,-999.0000,-999.000,   25.00,  -999.0, 16.9340,-999.000
    31DSCG94_2,  P18S,    81,  3,    329,   1031,2,19940321,1926,-29.0017,-103.0133, 3561,    173.0,  16.6210,  34.8844,2,  34.8821,2,    234.2,2,    231.7,2,     0.93,2,     0.09,2,     0.00,2,     0.18,2,    2.622,2,    1.391,2, -999.000,9, -999.000,9, -999.000,9,-999.0000,9,  -999.00,9,   -999.0,9,   -999.0,9,   2028.6,2,    384.1,2,   2300.0,2,     7.99,2,   20.00,  -999.0,-999.0000,-999.000,   25.00,  -999.0, 16.5929,-999.000
    31DSCG94_2,  P18S,    81,  3,    328,   1210,3,19940321,1926,-29.0017,-103.0133, 3561,    200.6,  15.8767,  34.9128,2,  34.8919,2,    227.8,2,    220.6,2,     1.03,2,     1.43,2,     0.17,2,     0.28,2,    2.566,2,    1.296,2, -999.000,9, -999.000,9, -999.000,9,-999.0000,9,  -999.00,9,   -999.0,9,   -999.0,9,   2048.8,2,   -999.0,9,   2295.0,2,  -999.00,9, -999.00,  -999.0,-999.0000,-999.000, -999.00,  -999.0, 15.8451,-999.000
    31DSCG94_2,  P18S,    81,  3,    327,   1008,2,19940321,1926,-29.0017,-103.0133, 3561,    224.6,  14.6643,  34.8258,2,  34.8240,2,    207.7,2,    209.3,2,     1.39,2,     4.78,2,     0.00,2,     0.46,2,    2.463,2,    1.227,2, -999.000,9, -999.000,9, -999.000,9,-999.0000,9,  -999.00,9,   -999.0,9,   -999.0,9,   2035.1,3,    470.6,2,   2289.0,2,     7.91,2,   20.00,  -999.0,-999.0000,-999.000,   25.00,  -999.0, 14.6308,-999.000
    31DSCG94_2,  P18S,    81,  3,    326,   1007,2,19940321,1926,-29.0017,-103.0133, 3561,    250.4,  13.5645,  34.6907,2,  34.6905,2,    210.1,2,    207.1,2,     1.66,2,     7.05,2,     0.00,2,     0.65,2,    2.398,2,    1.229,2, -999.000,9, -999.000,9, -999.000,9,-999.0000,9,  -999.00,9,   -999.0,9,   -999.0,9,   2074.6,2,    509.0,2,   2284.0,2,  -999.00,9,   20.00,  -999.0,-999.0000,-999.000, -999.00,  -999.0, 13.5291,-999.000
    31DSCG94_2,  P18S,    81,  3,    325,   1203,2,19940321,1926,-29.0017,-103.0133, 3561,    297.9,  11.3825,  34.5086,2,  34.5086,2,    210.9,2,    208.7,2,     2.51,2,    12.22,2,     0.00,2,     0.98,2,    2.241,6,    1.118,6, -999.000,9, -999.000,9, -999.000,9,-999.0000,9,  -999.00,9,   -999.0,9,   -999.0,9,   2097.4,2,    596.3,2,   2276.0,2,     7.82,2,   20.00,  -999.0,-999.0000,-999.000,   25.00,  -999.0, 11.3450,-999.000
    31DSCG94_2,  P18S,    81,  3,    324,   1240,3,19940321,1926,-29.0017,-103.0133, 3561,    345.7,   9.4693,  34.3984,2,  34.4016,2,    209.0,2,    207.0,2,     4.20,2,    17.06,2,     0.00,2,     1.31,2,    1.987,2,    0.932,2, -999.000,9, -999.000,9, -999.000,9,-999.0000,9,  -999.00,9,   -999.0,9,   -999.0,9,   2117.4,2,    689.7,2,   2273.0,2,     7.77,2,   20.00,  -999.0,-999.0000,-999.000,   25.00,  -999.0,  9.4306,-999.000
    31DSCG94_2,  P18S,    81,  3,    323,   1220,2,19940321,1926,-29.0017,-103.0133, 3561,    402.3,   7.8211,  34.3456,2,  34.3453,2,    218.7,2,    208.3,2,     6.71,2,    21.70,2,     0.00,2,     1.57,2,    1.691,2,    0.790,2, -999.000,9, -999.000,9, -999.000,9,-999.0000,9,  -999.00,9,   -999.0,9,   -999.0,9,   2140.3,2,    785.3,2,   2272.0,2,     7.71,2,   20.00,  -999.0,-999.0000,-999.000,   25.00,  -999.0,  7.7808,-999.000
    31DSCG94_2,  P18S,    81,  3,    322,   1245,2,19940321,1926,-29.0017,-103.0133, 3561,    500.7,   6.6755,  34.3362,2,  34.3359,2,    236.1,2,    235.3,2,     7.80,2,    22.54,2,     0.00,2,     1.57,2,    1.703,6,    0.839,6, -999.000,9, -999.000,9, -999.000,9,-999.0000,9,  -999.00,9,   -999.0,9,   -999.0,9,   2136.9,2,    763.8,2,   -999.0,5,     7.73,2,   20.00,  -999.0,-999.0000,-999.000,   25.00,  -999.0,  6.6293,-999.000
    31DSCG94_2,  P18S,    81,  3,    321,   1206,2,19940321,1926,-29.0017,-103.0133, 3561,    601.7,   6.0167,  34.3048,2,  34.3056,2,    243.2,2,    239.5,2,     9.77,2,    23.83,2,     0.00,2,     1.66,2,    1.237,2,    0.605,2, -999.000,9, -999.000,9, -999.000,9,-999.0000,9,  -999.00,9,   -999.0,9,   -999.0,9,   2142.3,2,    783.7,2,   2281.0,2,     7.72,2,   20.00,  -999.0,-999.0000,-999.000,   25.00,  -999.0,  5.9638,-999.000
    31DSCG94_2,  P18S,    81,  3,    320,   1028,2,19940321,1926,-29.0017,-103.0133, 3561,    698.2,   5.4574,  34.2739,2,  34.2742,2,    240.8,2,    239.1,2,    12.13,2,    25.64,2,     0.00,2,     1.78,2,    0.910,6,    0.468,6, -999.000,9, -999.000,9, -999.000,9,-999.0000,9,  -999.00,9,   -999.0,9,   -999.0,9,   2147.8,2,    807.5,2,   2278.0,2,     7.71,2,   20.00,  -999.0,-999.0000,-999.000,   25.00,  -999.0,  5.3986,-999.000
    31DSCG94_2,  P18S,    81,  3,    319,   1248,4,19940321,1926,-29.0017,-103.0133, 3561,    798.8,   4.9862,  34.2651,2,-999.0000,9,    225.5,2,   -999.0,9,  -999.00,9,  -999.00,9,  -999.00,9,  -999.00,9, -999.000,5, -999.000,5, -999.000,9, -999.000,9, -999.000,9,-999.0000,9,  -999.00,9,   -999.0,9,   -999.0,9,   -999.0,9,   -999.0,9,   -999.0,9,  -999.00,9, -999.00,  -999.0,-999.0000,-999.000, -999.00,  -999.0,  4.9212,-999.000
    31DSCG94_2,  P18S,    81,  3,    318,   1207,2,19940321,1926,-29.0017,-103.0133, 3561,    899.5,   4.4887,  34.3018,2,  34.3032,2,    191.5,2,    190.8,2,    30.48,2,    31.34,2,     0.00,2,     2.14,2,    0.169,2,    0.083,2, -999.000,9, -999.000,9, -999.000,9,-999.0000,9,  -999.00,9,   -999.0,9,   -999.0,9,   2193.2,2,   1039.1,2,   2294.0,2,     7.61,2,   20.00,  -999.0,-999.0000,-999.000,   25.00,  -999.0,  4.4182,-999.000
    31DSCG94_2,  P18S,    81,  3,    317,   1119,2,19940321,1926,-29.0017,-103.0133, 3561,    998.0,   4.0551,  34.3471,2,  34.3459,2,    170.6,2,    168.0,2,    42.27,2,    33.81,2,     0.00,2,     2.33,2,    0.038,2,    0.020,2, -999.000,9, -999.000,9, -999.000,9,-999.0000,9,  -999.00,9,   -999.0,9,   -999.0,9,   2219.5,2,   1156.5,2,   2303.0,6,     7.57,2,   20.00,  -999.0,-999.0000,-999.000,   25.00,  -999.0,  3.9795,-999.000
    31DSCG94_2,  P18S,    81,  3,    316,   1036,2,19940321,1926,-29.0017,-103.0133, 3561,   1101.3,   3.7672,  34.4246,2,  34.4248,2,    140.2,2,    136.6,2,    59.20,2,    36.42,2,     0.00,2,     2.57,2,   -0.001,2,    0.003,2, -999.000,9, -999.000,9, -999.000,9,-999.0000,9,  -999.00,9,   -999.0,9,   -999.0,9,   2253.8,2,   1309.0,2,   2322.0,2,     7.53,2,   20.00,  -999.0,-999.0000,-999.000,   25.00,  -999.0,  3.6851,-999.000
    31DSCG94_2,  P18S,    81,  3,    315,   1017,2,19940321,1926,-29.0017,-103.0133, 3561,   1200.5,   3.5753,  34.4770,2,  34.4754,2,    127.8,2,    124.2,2,    71.78,2,    37.43,2,     0.00,2,     2.65,2, -999.000,9, -999.000,9, -999.000,9, -999.000,9, -999.000,9,-999.0000,9,  -999.00,9,   -999.0,9,   -999.0,9,   2271.2,2,   1360.8,2,   2338.0,2,     7.51,2,   20.00,  -999.0,-999.0000,-999.000,   25.00,  -999.0,  3.4867,-999.000
    31DSCG94_2,  P18S,    81,  3,    314,   1016,2,19940321,1926,-29.0017,-103.0133, 3561,   1303.6,   3.3276,  34.5097,2,  34.5101,2,    126.9,2,    125.8,2,    80.89,2,    37.09,2,     0.00,2,     2.60,2,    0.000,2,   -0.001,2, -999.000,9, -999.000,9, -999.000,9,-999.0000,9,  -999.00,9,   -999.0,9,   -999.0,9,   2279.2,2,   1338.8,2,   2346.0,2,     7.52,2,   20.00,  -999.0,-999.0000,-999.000,   25.00,  -999.0,  3.2327,-999.000
    31DSCG94_2,  P18S,    81,  3,    313,   1209,2,19940321,1926,-29.0017,-103.0133, 3561,   1402.7,   3.0422,  34.5332,2,  34.5320,2,    134.3,2,    134.5,2,    86.63,2,    36.31,2,     0.00,2,     2.54,2, -999.000,9, -999.000,9, -999.000,9, -999.000,9, -999.000,9,-999.0000,9,  -999.00,9,   -999.0,9,   -999.0,9,   2279.1,2,   1301.6,2,   2353.0,2,     7.53,2,   20.00,  -999.0,-999.0000,-999.000,   25.00,  -999.0,  2.9420,-999.000
    31DSCG94_2,  P18S,    81,  3,    312,   1033,2,19940321,1926,-29.0017,-103.0133, 3561,   1502.9,   2.7792,  34.5529,2,  34.5525,2,    142.5,2,    143.4,2,    89.53,2,    35.57,2,     0.00,2,     2.48,2,   -0.002,2,    0.000,2, -999.000,9, -999.000,9, -999.000,9,-999.0000,9,  -999.00,9,   -999.0,9,   -999.0,9,   2276.4,2,   1245.8,2,   2356.0,2,     7.55,2,   20.00,  -999.0,-999.0000,-999.000,   25.00,  -999.0,  2.6737,-999.000
    31DSCG94_2,  P18S,    81,  3,    311,   1263,2,19940321,1926,-29.0017,-103.0133, 3561,   1602.9,   2.5477,  34.5754,2,  34.5740,2,    148.2,2,    150.9,2,    92.71,2,    35.13,2,     0.00,2,     2.47,2, -999.000,9, -999.000,9, -999.000,9, -999.000,9, -999.000,9,-999.0000,9,  -999.00,9,   -999.0,9,   -999.0,9,   2277.3,2,   1216.2,2,   2359.0,2,     7.56,2,   20.00,  -999.0,-999.0000,-999.000,   25.00,  -999.0,  2.4367,-999.000
    31DSCG94_2,  P18S,    81,  3,    310,   1005,2,19940321,1926,-29.0017,-103.0133, 3561,   1797.7,   2.2406,  34.6147,2,  34.6144,2,    154.1,2,    155.6,2,   103.23,2,    34.74,2,     0.00,2,     2.43,2,   -0.006,2,   -0.003,2, -999.000,9, -999.000,9, -999.000,9,-999.0000,9,  -999.00,9,   -999.0,9,   -999.0,9,   2284.6,2,   1179.0,2,   2377.0,2,     7.57,2,   20.00,  -999.0,-999.0000,-999.000,   25.00,  -999.0,  2.1175,-999.000
    31DSCG94_2,  P18S,    81,  3,    309,   1611,2,19940321,1926,-29.0017,-103.0133, 3561,   1999.3,   2.0548,  34.6377,2,  34.6376,2,    155.7,2,    156.4,2,   112.77,2,    34.68,2,     0.00,2,     2.43,2, -999.000,9, -999.000,9, -999.000,9, -999.000,9, -999.000,9,-999.0000,9,  -999.00,9,   -999.0,9,   -999.0,9,   2292.4,2,   1174.8,2,   2385.0,2,     7.58,2,   20.00,  -999.0,-999.0000,-999.000,   25.00,  -999.0,  1.9175,-999.000
    31DSCG94_2,  P18S,    81,  3,    308,   1218,2,19940321,1926,-29.0017,-103.0133, 3561,   2250.9,   1.8980,  34.6568,2,  34.6568,2,    157.0,2,    157.8,2,   120.78,2,    34.13,2,     0.00,2,     2.38,2,   -0.002,2,   -0.003,2, -999.000,9, -999.000,9, -999.000,9,-999.0000,9,  -999.00,9,   -999.0,9,   -999.0,9,   2297.2,2,   1156.1,2,   2386.0,2,     7.58,2,   20.00,  -999.0,-999.0000,-999.000,   25.00,  -999.0,  1.7417,-999.000
    31DSCG94_2,  P18S,    81,  3,    307,   1257,2,19940321,1926,-29.0017,-103.0133, 3561,   2502.8,   1.8444,  34.6651,2,  34.6648,2,    158.9,2,    159.3,2,   123.57,2,    34.29,2,     0.00,2,     2.37,2, -999.000,9, -999.000,9, -999.000,9, -999.000,9, -999.000,9,-999.0000,9,  -999.00,9,   -999.0,9,   -999.0,9,   2299.8,2,   1149.9,2,   2390.0,2,     7.59,2,   20.00,  -999.0,-999.0000,-999.000,   25.00,  -999.0,  1.6666,-999.000
    31DSCG94_2,  P18S,    81,  3,    306,   1224,2,19940321,1926,-29.0017,-103.0133, 3561,   2751.1,   1.8363,  34.6698,2,  34.6695,2,    160.8,2,    160.7,2,   121.05,2,    34.23,2,     0.00,2,     2.40,2, -999.000,9, -999.000,9, -999.000,9, -999.000,9, -999.000,9,-999.0000,9,  -999.00,9,   -999.0,9,   -999.0,9,   2296.8,2,   1137.4,2,   2388.0,2,     7.59,2,   20.00,  -999.0,-999.0000,-999.000,   25.00,  -999.0,  1.6358,-999.000
    31DSCG94_2,  P18S,    81,  3,    305,   1246,2,19940321,1926,-29.0017,-103.0133, 3561,   2992.9,   1.8355,  34.6756,2,  34.6749,2,    161.7,2,    162.7,2,   120.02,2,    34.08,2,     0.00,2,     2.39,2, -999.000,5, -999.000,5, -999.000,9, -999.000,9, -999.000,9,-999.0000,9,  -999.00,9,   -999.0,9,   -999.0,9,   2298.0,2,   1135.0,2,   2392.0,2,     7.59,2,   20.00,  -999.0,-999.0000,-999.000,   25.00,  -999.0,  1.6119,-999.000
    31DSCG94_2,  P18S,    81,  3,    304,   1217,2,19940321,1926,-29.0017,-103.0133, 3561,   3249.6,   1.8440,  34.6792,2,  34.6781,2,    163.2,2,    163.7,6,   120.62,2,    34.00,2,     0.00,2,     2.38,2, -999.000,9, -999.000,9, -999.000,9, -999.000,9, -999.000,9,-999.0000,9,  -999.00,9,   -999.0,9,   -999.0,9,   2296.9,2,   -999.0,9,   2391.0,2,     7.59,2, -999.00,  -999.0,-999.0000,-999.000,   25.00,  -999.0,  1.5948,-999.000
    31DSCG94_2,  P18S,    81,  3,    303,   9999,2,19940321,1926,-29.0017,-103.0133, 3561,   3496.1,   1.8591,  34.6812,2,  34.6809,2,    164.1,2,    163.9,2,   121.80,2,    33.82,2,     0.00,2,     2.34,2,    0.003,2,   -0.003,2, -999.000,9, -999.000,9, -999.000,9,-999.0000,9,  -999.00,9,   -999.0,9,   -999.0,9,   2296.2,2,   -999.0,9,   2388.0,2,     7.59,2, -999.00,  -999.0,-999.0000,-999.000,   25.00,  -999.0,  1.5843,-999.000
    31DSCG94_2,  P18S,    81,  3,    302,   1223,2,19940321,1926,-29.0017,-103.0133, 3561,   3497.5,   1.8589,  34.6813,2,  34.6807,2,    164.1,2,    165.2,2,   122.19,2,    33.75,2,     0.00,2,     2.32,2, -999.000,9, -999.000,9, -999.000,9, -999.000,9, -999.000,9,-999.0000,9,  -999.00,9,   -999.0,9,   -999.0,9,   2295.4,2,   1106.3,2,   -999.0,5,     7.59,2,   20.00,  -999.0,-999.0000,-999.000,   25.00,  -999.0,  1.5839,-999.000
    31DSCG94_2,  P18S,    81,  3,    301,   1041,2,19940321,1926,-29.0017,-103.0133, 3561,   3566.4,   1.8585,  34.6822,2,  34.6821,2,    164.5,2,    164.6,2,   120.27,2,    33.69,2,     0.00,2,     2.37,2,    0.000,6,   -0.002,6, -999.000,9, -999.000,9, -999.000,9,-999.0000,9,  -999.00,9,   -999.0,9,   -999.0,9,   2296.9,2,   1119.4,3,   2391.0,2,     7.59,2,   20.00,  -999.0,-999.0000,-999.000,   25.00,  -999.0,  1.5763,-999.000