BOTTLE,20220629CCHSIOAMB
EXPOCODE,SECT_ID,STNNBR,CASTNO,SAMPNO,BTLNBR,BTLNBR_FLAG_W,DATE,TIME,LATITUDE,LONGITUDE,DEPTH,CTDPRS,CTDTMP,CTDSAL,CTDSAL_FLAG_W,SALNTY,SALNTY_FLAG_W,CTDOXY,CTDOXY_FLAG_W,OXYGEN,OXYGEN_FLAG_W,SILCAT,SILCAT_FLAG_W,NITRAT,NITRAT_FLAG_W,NITRIT,NITRIT_FLAG_W,PHSPHT,PHSPHT_FLAG_W,CFC-11,CFC-11_FLAG_W,CFC-12,CFC-12_FLAG_W,TRITUM,TRITUM_FLAG_W,HELIUM,HELIUM_FLAG_W,DELHE3,DELHE3_FLAG_W,TCARBN,TCARBN_FLAG_W,PCO2,PCO2_FLAG_W,ALKALI,ALKALI_FLAG_W,PH,PH_FLAG_W,PH_TMP,PCO2TMP,CTDRAW,HELIER,DELHER,THETA,TRITER
,,,,,,,,,,,,DBAR,ITS-90,PSS-78,,PSS-78,,UMOL/KG,,UMOL/KG,,UMOL/KG,,UMOL/KG,,UMOL/KG,,UMOL/KG,,PMOL/KG,,PMOL/KG,,TU,,NMOL/KG,,PERCNT,,UMOL/KG,,UATM,,UMOL/KG,,,,DEG C,DEG C,,NMOL/KG,PERCNT,DEG C,TU
     316N151_2,   A24,    30,  1,     24,     24,2,19970606,0454, 48.4033, -12.6105, 3233,      3.2,  15.0539,  35.6971,2,  35.6978,2,    231.9,2,    262.5,2,     0.51,2,     0.13,2,     0.02,2,     0.07,2,    3.111,2,    1.647,2, -999.000,9,-999.0000,9,  -999.00,9,   2069.6,2,   -999.0,9,   2350.5,2,     7.97,2,25, -999.00,   -999,-999.0000,-999.000, 15.0534,-999.000
     316N151_2,   A24,    30,  1,     23,     23,2,19970606,0454, 48.4033, -12.6105, 3233,     36.0,  13.8452,  35.6808,2,  35.6812,2,    242.0,2,    266.1,2,     0.50,2,     1.48,2,     0.09,2,     0.14,2,    3.237,2,    1.733,2, -999.000,9,-999.0000,9,  -999.00,9,   2080.9,2,   -999.0,9,   2346.3,2,     7.94,2,25, -999.00,   -999,-999.0000,-999.000, 13.8401,-999.000
     316N151_2,   A24,    30,  1,     22,     22,2,19970606,0454, 48.4033, -12.6105, 3233,     65.2,  13.1146,  35.6940,2,  35.6944,2,    258.7,2,    258.4,2,     1.35,2,     3.24,2,     0.20,2,     0.26,2,    3.277,2,    1.751,2, -999.000,9,-999.0000,9,  -999.00,9,   2094.1,2,   -999.0,9,   2348.3,2,     7.92,2,25, -999.00,   -999,-999.0000,-999.000, 13.1056,-999.000
     316N151_2,   A24,    30,  1,     21,     21,2,19970606,0454, 48.4033, -12.6105, 3233,    114.2,  12.1750,  35.6534,2,  35.6535,2,    243.9,2,    245.9,2,     3.14,2,     8.06,2,     0.04,2,     0.50,2,    3.250,2,    1.718,2, -999.000,9,-999.0000,9,  -999.00,9,   2118.8,2,   -999.0,9,   2343.1,2,     7.87,2,25, -999.00,   -999,-999.0000,-999.000, 12.1599,-999.000
     316N151_2,   A24,    30,  1,     20,     20,2,19970606,0454, 48.4033, -12.6105, 3233,    177.9,  11.8123,  35.6146,2,  35.6152,2,    241.7,2,    243.8,2,     3.45,2,     8.93,2,     0.02,2,     0.56,2,    3.277,2,    1.734,2, -999.000,9,-999.0000,9,  -999.00,9,   2121.5,2,   -999.0,9,   2341.5,2,     7.86,2,25, -999.00,   -999,-999.0000,-999.000, 11.7892,-999.000
     316N151_2,   A24,    30,  1,     19,     19,2,19970606,0454, 48.4033, -12.6105, 3233,    264.2,  11.4651,  35.5697,2,  35.5688,2,    240.3,2,    242.8,2,     3.98,2,     9.90,2,     0.02,2,     0.62,2,    3.286,2,    1.728,2, -999.000,9,-999.0000,9,  -999.00,9,   2126.4,2,   -999.0,9,   2338.2,2,     7.84,2,25, -999.00,   -999,-999.0000,-999.000, 11.4313,-999.000
     316N151_2,   A24,    30,  1,     18,     18,2,19970606,0454, 48.4033, -12.6105, 3233,    344.3,  11.2314,  35.5451,2,  35.5459,2,    247.1,2,    243.1,2,     4.19,2,    10.31,2,     0.01,2,     0.65,2,    3.295,2,    1.738,2, -999.000,9,-999.0000,9,  -999.00,9,   2128.5,2,   -999.0,9,   2337.2,2,     7.83,2,25, -999.00,   -999,-999.0000,-999.000, 11.1878,-999.000
     316N151_2,   A24,    30,  1,     17,     17,2,19970606,0454, 48.4033, -12.6105, 3233,    425.6,  11.0653,  35.5276,2,  35.5272,2,    244.9,2,    244.6,2,     4.29,2,    10.51,2,     0.01,2,     0.66,2,    3.295,2,    1.737,2, -999.000,9,-999.0000,9,  -999.00,9,   2128.6,2,   -999.0,9,   2335.2,2,     7.83,2,25, -999.00,   -999,-999.0000,-999.000, 11.0118,-999.000
     316N151_2,   A24,    30,  1,     16,     16,2,19970606,0454, 48.4033, -12.6105, 3233,    525.0,  10.6563,  35.4847,2,  35.4853,2,    229.3,2,    227.0,2,     5.56,2,    12.89,2,     0.01,2,     0.80,2,    3.058,2,    1.577,2, -999.000,9,-999.0000,9,  -999.00,9,   2142.4,2,   -999.0,9,   2335.1,2,     7.80,2,25, -999.00,   -999,-999.0000,-999.000, 10.5915,-999.000
     316N151_2,   A24,    30,  1,     15,     15,2,19970606,0454, 48.4033, -12.6105, 3233,    625.3,  10.1760,  35.4446,2,  35.4437,2,    214.7,2,    216.2,2,     6.93,2,    14.57,2,     0.01,2,     0.92,2,    2.715,2,    1.369,2, -999.000,9,-999.0000,9,  -999.00,9,   2150.6,2,   -999.0,9,   2333.8,2,     7.78,2,25, -999.00,   -999,-999.0000,-999.000, 10.1006,-999.000
     316N151_2,   A24,    30,  1,     14,     14,2,19970606,0454, 48.4033, -12.6105, 3233,    747.3,   9.5288,  35.4178,2,  35.4198,2,    202.1,2,    198.1,2,     9.14,2,    16.90,2,     0.00,2,     1.07,2,    2.067,2,    1.031,2, -999.000,9,-999.0000,9,  -999.00,9,   2165.3,2,   -999.0,9,   2336.8,2,     7.75,2,25, -999.00,   -999,-999.0000,-999.000,  9.4417,-999.000
     316N151_2,   A24,    30,  1,     13,     13,2,19970606,0454, 48.4033, -12.6105, 3233,    886.3,   9.1936,  35.5317,2,  35.5304,2,    191.4,2,    192.5,2,    10.20,2,    17.45,2,     0.00,2,     1.10,2,    1.616,2,    0.802,2, -999.000,9,-999.0000,9,  -999.00,9,   2176.5,2,   -999.0,9,   2346.4,2,     7.75,2,25, -999.00,   -999,-999.0000,-999.000,  9.0916,-999.000
     316N151_2,   A24,    30,  1,     12,     12,2,19970606,0454, 48.4033, -12.6105, 3233,    949.9,   9.0459,  35.5617,2,  35.5616,2,    192.6,2,    193.4,2,    10.41,2,    17.50,2,     0.00,2,     1.11,2,    1.502,2,    0.744,2, -999.000,9,-999.0000,9,  -999.00,9,   2180.6,2,   -999.0,9,   2351.7,2,     7.75,2,25, -999.00,   -999,-999.0000,-999.000,  8.9372,-999.000
     316N151_2,   A24,    30,  1,     11,     11,2,19970606,0454, 48.4033, -12.6105, 3233,   1058.9,   8.1264,  35.4871,2,  35.4854,2,    199.5,2,    201.9,2,    11.25,2,    17.85,2,     0.00,2,     1.14,2,    1.420,2,    0.701,2, -999.000,9,-999.0000,9,  -999.00,9,   2180.8,2,   -999.0,9,   2347.0,2,     7.74,2,25, -999.00,   -999,-999.0000,-999.000,  8.0116,-999.000
     316N151_2,   A24,    30,  1,     10,     10,2,19970606,0454, 48.4033, -12.6105, 3233,   1210.9,   6.9518,  35.3489,2,  35.3464,2,    219.5,2,    216.0,2,    11.78,2,    18.11,2,     0.00,2,     1.17,2,    1.477,2,    0.716,2, -999.000,9,-999.0000,9,  -999.00,9,   2176.5,2,   -999.0,9,   2336.9,2,     7.73,2,25, -999.00,   -999,-999.0000,-999.000,  6.8300,-999.000
     316N151_2,   A24,    30,  1,      9,      9,2,19970606,0454, 48.4033, -12.6105, 3233,   1413.9,   4.8792,  35.0605,2,  35.0580,2,    246.0,2,    246.1,2,    12.20,2,    18.16,2,     0.00,2,     1.19,2,    1.834,2,    0.885,2, -999.000,9,-999.0000,9,  -999.00,9,   2165.8,2,   -999.0,9,   2316.0,2,     7.71,2,25, -999.00,   -999,-999.0000,-999.000,  4.7572,-999.000
     316N151_2,   A24,    30,  1,      8,      8,2,19970606,0454, 48.4033, -12.6105, 3233,   1615.2,   3.9816,  34.9426,2,  34.9411,2,    264.6,2,    265.3,2,    12.09,2,    17.70,2,     0.00,2,     1.17,2,    2.033,3,    0.983,3, -999.000,9,-999.0000,9,  -999.00,9,   2158.4,2,   -999.0,9,   2308.3,2,     7.71,2,25, -999.00,   -999,-999.0000,-999.000,  3.8511,-999.000
     316N151_2,   A24,    30,  1,      7,      7,2,19970606,0454, 48.4033, -12.6105, 3233,   1818.2,   3.6633,  34.9216,2,  34.9226,2,    270.5,2,    271.7,2,    12.30,2,    17.45,2,     0.00,2,     1.16,2,    1.836,2,    0.876,2, -999.000,9,-999.0000,9,  -999.00,9,   2155.6,2,   -999.0,9,   2308.8,2,     7.72,2,25, -999.00,   -999,-999.0000,-999.000,  3.5181,-999.000
     316N151_2,   A24,    30,  1,      6,      6,2,19970606,0454, 48.4033, -12.6105, 3233,   2020.2,   3.5478,  34.9344,2,  34.9350,2,    269.6,2,    269.7,2,    13.88,2,    17.49,2,     0.00,2,     1.17,2,    1.368,2,    0.668,2, -999.000,9,-999.0000,9,  -999.00,9,   2156.2,2,   -999.0,9,   2312.7,2,     7.72,2,25, -999.00,   -999,-999.0000,-999.000,  3.3852,-999.000
     316N151_2,   A24,    30,  1,      5,      5,2,19970606,0454, 48.4033, -12.6105, 3233,   2223.0,   3.3942,  34.9583,2,  34.9594,2,    261.1,2,    260.3,2,    19.48,2,    18.25,2,     0.00,2,     1.23,2,    0.724,2,    0.355,2, -999.000,9,-999.0000,9,  -999.00,9,   2165.1,2,   -999.0,9,   2320.0,2,     7.72,2,25, -999.00,   -999,-999.0000,-999.000,  3.2144,-999.000
     316N151_2,   A24,    30,  1,      4,      4,2,19970606,0454, 48.4033, -12.6105, 3233,   2425.9,   3.2133,  34.9611,2,  34.9613,2,    255.1,2,    255.3,2,    24.34,2,    18.96,2,     0.00,2,     1.27,2,    0.413,2,    0.217,2, -999.000,9,-999.0000,9,  -999.00,9,   2173.4,2,   -999.0,9,   2326.9,2,     7.72,2,25, -999.00,   -999,-999.0000,-999.000,  3.0167,-999.000
     316N151_2,   A24,    30,  1,      3,      3,2,19970606,0454, 48.4033, -12.6105, 3233,   2629.0,   3.0461,  34.9562,2,  34.9564,2,    251.0,2,    252.0,2,    28.15,2,    19.56,2,     0.00,2,     1.32,2,    0.234,2,    0.127,2, -999.000,9,-999.0000,9,  -999.00,9,   2176.8,2,   -999.0,9,   2332.1,2,     7.72,2,25, -999.00,   -999,-999.0000,-999.000,  2.8324,-999.000
     316N151_2,   A24,    30,  1,      2,      2,2,19970606,0454, 48.4033, -12.6105, 3233,   2833.6,   2.8889,  34.9472,2,  34.9481,2,    249.2,2,    249.2,2,    31.63,2,    20.12,2,     0.00,2,     1.36,2,    0.150,2,    0.079,2, -999.000,9,-999.0000,9,  -999.00,9,   2182.4,2,   -999.0,9,   2339.6,2,     7.72,2,25, -999.00,   -999,-999.0000,-999.000,  2.6577,-999.000
     316N151_2,   A24,    30,  1,      1,      1,2,19970606,0454, 48.4033, -12.6105, 3233,   3127.9,   2.7321,  34.9331,2,  34.9325,2,    245.4,2,    244.7,2,    36.81,2,    20.98,2,     0.00,2,     1.43,2,    0.089,2,    0.047,2, -999.000,9,-999.0000,9,  -999.00,9,   2190.3,2,   -999.0,9,   2345.4,2,     7.72,2,25, -999.00,   -999,-999.0000,-999.000,  2.4738,-999.000
     316N151_2,   A24,    31,  1,     20,     20,2,19970606,0754, 48.5373, -12.4062, 2259,      2.2,  14.9625,  35.6972,2,  35.6976,2,    260.3,2,    260.8,2,     0.71,2,     0.22,2,     0.03,2,     0.07,2, -999.000,9, -999.000,9, -999.000,9,-999.0000,9,  -999.00,9,   -999.0,9,   -999.0,9,   2349.0,6,     7.96,6,25, -999.00,   -999,-999.0000,-999.000, 14.9622,-999.000
     316N151_2,   A24,    31,  1,     19,     19,2,19970606,0754, 48.5373, -12.4062, 2259,     44.8,  13.8602,  35.6920,2,  35.6914,2,    258.7,2,    259.4,2,     0.83,2,     1.60,2,     0.11,2,     0.16,2, -999.000,9, -999.000,9, -999.000,9,-999.0000,9,  -999.00,9,   -999.0,9,   -999.0,9,   -999.0,9,  -999.00,9,25, -999.00,   -999,-999.0000,-999.000, 13.8538,-999.000
     316N151_2,   A24,    31,  1,     18,     18,2,19970606,0754, 48.5373, -12.4062, 2259,     75.0,  12.4301,  35.6323,2,  35.6427,2,    255.6,2,    251.3,2,     2.12,2,     5.53,2,     0.29,2,     0.40,2, -999.000,9, -999.000,9, -999.000,9,-999.0000,9,  -999.00,9,   -999.0,9,   -999.0,9,   -999.0,9,  -999.00,9,25, -999.00,   -999,-999.0000,-999.000, 12.4200,-999.000
     316N151_2,   A24,    31,  1,     17,     17,2,19970606,0754, 48.5373, -12.4062, 2259,    135.4,  11.7778,  35.6078,2,  35.6049,2,    245.5,2,    245.8,2,     3.83,2,     9.19,2,     0.03,2,     0.57,2, -999.000,9, -999.000,9, -999.000,9,-999.0000,9,  -999.00,9,   -999.0,9,   -999.0,9,   -999.0,9,  -999.00,9,25, -999.00,   -999,-999.0000,-999.000, 11.7603,-999.000
     316N151_2,   A24,    31,  1,     16,     16,2,19970606,0754, 48.5373, -12.4062, 2259,    204.8,  11.4895,  35.5805,2,  35.5816,2,    248.9,2,    252.7,2,     3.62,2,     8.84,2,     0.02,2,     0.56,2, -999.000,9, -999.000,9, -999.000,9,-999.0000,9,  -999.00,9,   -999.0,9,   -999.0,9,   -999.0,9,  -999.00,9,25, -999.00,   -999,-999.0000,-999.000, 11.4634,-999.000
     316N151_2,   A24,    31,  1,     15,     15,2,19970606,0754, 48.5373, -12.4062, 2259,    285.5,  11.3172,  35.5581,2,  35.5587,2,    250.2,2,    249.2,2,     3.95,2,     9.35,2,     0.01,2,     0.59,2, -999.000,9, -999.000,9, -999.000,9,-999.0000,9,  -999.00,9,   -999.0,9,   -999.0,9,   -999.0,9,  -999.00,9,25, -999.00,   -999,-999.0000,-999.000, 11.2810,-999.000
     316N151_2,   A24,    31,  1,     14,     14,2,19970606,0754, 48.5373, -12.4062, 2259,    406.6,  10.9365,  35.5129,2,  35.5155,2,    238.5,2,    239.3,2,     4.70,2,    11.13,2,     0.01,2,     0.69,2, -999.000,9, -999.000,9, -999.000,9,-999.0000,9,  -999.00,9,   -999.0,9,   -999.0,9,   -999.0,9,  -999.00,9,25, -999.00,   -999,-999.0000,-999.000, 10.8858,-999.000
     316N151_2,   A24,    31,  1,     13,     13,2,19970606,0754, 48.5373, -12.4062, 2259,    546.7,  10.3770,  35.4525,2,  35.4530,2,    222.1,2,    224.0,2,     6.30,2,    13.57,2,     0.01,2,     0.84,2, -999.000,9, -999.000,9, -999.000,9,-999.0000,9,  -999.00,9,   -999.0,9,   -999.0,9,   -999.0,9,  -999.00,9,25, -999.00,   -999,-999.0000,-999.000, 10.3106,-999.000
     316N151_2,   A24,    31,  1,     12,     12,2,19970606,0754, 48.5373, -12.4062, 2259,    657.5,   9.9093,  35.4281,2,  35.4281,2,    207.3,2,    209.0,2,     8.12,2,    15.45,2,     0.01,2,     0.97,2, -999.000,9, -999.000,9, -999.000,9,-999.0000,9,  -999.00,9,   -999.0,9,   -999.0,9,   -999.0,9,  -999.00,9,25, -999.00,   -999,-999.0000,-999.000,  9.8312,-999.000
     316N151_2,   A24,    31,  1,     11,     11,2,19970606,0754, 48.5373, -12.4062, 2259,    807.8,   9.6139,  35.5287,2,  35.5263,2,    194.5,2,    193.6,2,     9.61,2,    16.88,2,     0.00,2,     1.06,2, -999.000,9, -999.000,9, -999.000,9,-999.0000,9,  -999.00,9,   -999.0,9,   -999.0,9,   -999.0,9,  -999.00,9,25, -999.00,   -999,-999.0000,-999.000,  9.5189,-999.000
     316N151_2,   A24,    31,  1,     10,     10,2,19970606,0754, 48.5373, -12.4062, 2259,    977.9,   8.9150,  35.5580,2,  35.5584,2,    197.1,2,    196.0,2,    10.57,2,    17.29,2,     0.00,2,     1.09,2, -999.000,9, -999.000,9, -999.000,9,-999.0000,9,  -999.00,9,   -999.0,9,   -999.0,9,   -999.0,9,  -999.00,9,25, -999.00,   -999,-999.0000,-999.000,  8.8038,-999.000
     316N151_2,   A24,    31,  1,      9,      9,2,19970606,0754, 48.5373, -12.4062, 2259,   1110.4,   8.0836,  35.4941,2,  35.4880,2,    202.3,2,    203.4,2,    11.42,2,    17.69,2,     0.00,2,     1.12,2, -999.000,9, -999.000,9, -999.000,9,-999.0000,9,  -999.00,9,   -999.0,9,   -999.0,9,   -999.0,9,  -999.00,9,25, -999.00,   -999,-999.0000,-999.000,  7.9632,-999.000
     316N151_2,   A24,    31,  1,      8,      8,2,19970606,0754, 48.5373, -12.4062, 2259,   1232.8,   6.7369,  35.3250,2,  35.3229,2,    218.2,2,    218.2,2,    12.38,2,    18.05,2,     0.00,2,     1.16,2, -999.000,9, -999.000,9, -999.000,9,-999.0000,9,  -999.00,9,   -999.0,9,   -999.0,9,   -999.0,9,  -999.00,9,25, -999.00,   -999,-999.0000,-999.000,  6.6147,-999.000
     316N151_2,   A24,    31,  1,      7,      7,2,19970606,0754, 48.5373, -12.4062, 2259,   1353.9,   6.1646,  35.2494,2,  35.2516,2,    226.9,2,    226.1,2,    13.03,2,    18.10,2,     0.00,2,     1.17,2, -999.000,9, -999.000,9, -999.000,9,-999.0000,9,  -999.00,9,   -999.0,9,   -999.0,9,   -999.0,9,  -999.00,9,25, -999.00,   -999,-999.0000,-999.000,  6.0351,-999.000
     316N151_2,   A24,    31,  1,      6,      6,2,19970606,0754, 48.5373, -12.4062, 2259,   1515.6,   4.7159,  35.0549,2,  35.0544,2,    247.9,2,    248.9,2,    13.56,2,    18.00,2,     0.00,2,     1.18,2, -999.000,9, -999.000,9, -999.000,9,-999.0000,9,  -999.00,9,   -999.0,9,   -999.0,9,   -999.0,9,  -999.00,9,25, -999.00,   -999,-999.0000,-999.000,  4.5859,-999.000
     316N151_2,   A24,    31,  1,      5,      5,2,19970606,0754, 48.5373, -12.4062, 2259,   1667.4,   4.1741,  35.0033,2,  35.0058,2,    256.3,2,    256.3,2,    14.73,2,    17.90,2,     0.00,2,     1.19,2, -999.000,9, -999.000,9, -999.000,9,-999.0000,9,  -999.00,9,   -999.0,9,   -999.0,9,   -999.0,9,  -999.00,9,25, -999.00,   -999,-999.0000,-999.000,  4.0362,-999.000
     316N151_2,   A24,    31,  1,      4,      4,2,19970606,0754, 48.5373, -12.4062, 2259,   1768.8,   3.8836,  34.9745,2,  34.9733,2,    262.6,2,    261.5,2,    15.48,2,    17.85,2,     0.00,2,     1.19,2, -999.000,9, -999.000,9, -999.000,9,-999.0000,9,  -999.00,9,   -999.0,9,   -999.0,9,   -999.0,9,  -999.00,9,25, -999.00,   -999,-999.0000,-999.000,  3.7399,-999.000
     316N151_2,   A24,    31,  1,      3,      3,2,19970606,0754, 48.5373, -12.4062, 2259,   1920.5,   3.6802,  34.9723,2,  34.9729,2,    259.4,2,    258.8,2,    18.23,2,    18.26,2,     0.00,2,     1.21,2, -999.000,9, -999.000,9, -999.000,9,-999.0000,9,  -999.00,9,   -999.0,9,   -999.0,9,   -999.0,9,  -999.00,9,25, -999.00,   -999,-999.0000,-999.000,  3.5250,-999.000
     316N151_2,   A24,    31,  1,      2,      2,2,19970606,0754, 48.5373, -12.4062, 2259,   2123.5,   3.4014,  34.9600,2,  34.9621,2,    256.6,2,    257.9,2,    20.88,2,    18.51,2,     0.00,2,     1.24,2, -999.000,9, -999.000,9, -999.000,9,-999.0000,9,  -999.00,9,   -999.0,9,   -999.0,9,   -999.0,9,  -999.00,9,25, -999.00,   -999,-999.0000,-999.000,  3.2311,-999.000
     316N151_2,   A24,    31,  1,      1,      1,2,19970606,0754, 48.5373, -12.4062, 2259,   2275.4,   3.2989,  34.9611,2,  34.9640,2,    253.0,2,    253.8,2,    24.27,2,    19.07,2,     0.00,2,     1.28,2, -999.000,9, -999.000,9, -999.000,9,-999.0000,9,  -999.00,9,   -999.0,9,   -999.0,9,   -999.0,9,  -999.00,9,25, -999.00,   -999,-999.0000,-999.000,  3.1155,-999.000