BOTTLE,20220629CCHSIOAMB
EXPOCODE,SECT_ID,STNNBR,CASTNO,SAMPNO,BTLNBR,BTLNBR_FLAG_W,DATE,TIME,LATITUDE,LONGITUDE,DEPTH,CTDPRS,CTDTMP,CTDSAL,CTDSAL_FLAG_W,SALNTY,SALNTY_FLAG_W,CTDOXY,CTDOXY_FLAG_W,OXYGEN,OXYGEN_FLAG_W,SILCAT,SILCAT_FLAG_W,NITRAT,NITRAT_FLAG_W,NITRIT,NITRIT_FLAG_W,PHSPHT,PHSPHT_FLAG_W,CFC-11,CFC-11_FLAG_W,CFC-12,CFC-12_FLAG_W,TRITUM,TRITUM_FLAG_W,HELIUM,HELIUM_FLAG_W,DELHE3,DELHE3_FLAG_W,TCARBN,TCARBN_FLAG_W,PCO2,PCO2_FLAG_W,ALKALI,ALKALI_FLAG_W,PH,PH_FLAG_W,PH_TMP,PCO2TMP,CTDRAW,HELIER,DELHER,THETA,TRITER
,,,,,,,,,,,,DBAR,ITS-90,PSS-78,,PSS-78,,UMOL/KG,,UMOL/KG,,UMOL/KG,,UMOL/KG,,UMOL/KG,,UMOL/KG,,PMOL/KG,,PMOL/KG,,TU,,NMOL/KG,,PERCNT,,UMOL/KG,,UATM,,UMOL/KG,,,,DEG C,DEG C,,NMOL/KG,PERCNT,DEG C,TU
     316N151_2,   A24,   122,  1,     29,     29,2,19970623,1028, 51.4493, -33.9340, 3627,      5.0,  11.6517,  35.0011,2,  34.9990,2,    280.9,2,    278.9,2,     1.56,2,     4.40,2,     0.10,2,     0.35,2, -999.000,9, -999.000,9, -999.000,9,-999.0000,9,  -999.00,9,   2074.1,2,   -999.0,9,   2314.4,6,     7.91,6,25, -999.00,   -999,-999.0000,-999.000, 11.6511,-999.000
     316N151_2,   A24,   122,  1,     28,     28,2,19970623,1028, 51.4493, -33.9340, 3627,     35.8,  10.1696,  35.0713,2,  35.0660,2,    274.3,2,    270.6,2,     3.71,2,     6.74,2,     0.21,2,     0.59,2, -999.000,9, -999.000,9, -999.000,9,-999.0000,9,  -999.00,9,   -999.0,9,   -999.0,9,   -999.0,9,  -999.00,9,25, -999.00,   -999,-999.0000,-999.000, 10.1654,-999.000
     316N151_2,   A24,   122,  1,     27,     27,2,19970623,1028, 51.4493, -33.9340, 3627,     66.8,   9.3190,  35.0352,2,  35.0280,2,    258.5,2,    261.4,2,     5.37,2,    10.36,2,     0.30,2,     0.74,2, -999.000,9, -999.000,9, -999.000,9,-999.0000,9,  -999.00,9,   -999.0,9,   -999.0,9,   -999.0,9,  -999.00,9,25, -999.00,   -999,-999.0000,-999.000,  9.3116,-999.000
     316N151_2,   A24,   122,  1,     26,     26,2,19970623,1028, 51.4493, -33.9340, 3627,    105.9,   8.0620,  35.0448,2,  35.0390,2,    242.9,2,    246.6,2,     8.40,2,    14.95,2,     0.02,2,     0.99,2, -999.000,9, -999.000,9, -999.000,9,-999.0000,9,  -999.00,9,   -999.0,9,   -999.0,9,   -999.0,9,  -999.00,9,25, -999.00,   -999,-999.0000,-999.000,  8.0513,-999.000
     316N151_2,   A24,   122,  1,     25,     25,2,19970623,1028, 51.4493, -33.9340, 3627,    175.7,   6.7076,  34.9050,2,  34.9240,2,    246.5,2,    248.1,2,     9.38,2,    16.03,2,     0.01,2,     1.07,2, -999.000,9, -999.000,9, -999.000,9,-999.0000,9,  -999.00,9,   -999.0,9,   -999.0,9,   -999.0,9,  -999.00,9,25, -999.00,   -999,-999.0000,-999.000,  6.6916,-999.000
     316N151_2,   A24,   122,  1,     24,     24,2,19970623,1028, 51.4493, -33.9340, 3627,    246.8,   5.8884,  34.8519,2,  34.8500,2,    254.6,2,    257.0,2,     9.58,2,    16.32,2,     0.01,2,     1.09,2, -999.000,9, -999.000,9, -999.000,9,-999.0000,9,  -999.00,9,   -999.0,9,   -999.0,9,   -999.0,9,  -999.00,9,25, -999.00,   -999,-999.0000,-999.000,  5.8674,-999.000
     316N151_2,   A24,   122,  1,     23,     23,2,19970623,1028, 51.4493, -33.9340, 3627,    336.0,   5.7560,  34.9110,2,  34.9110,2,    226.3,2,    223.3,2,    11.92,2,    19.06,2,     0.01,2,     1.25,2, -999.000,9, -999.000,9, -999.000,9,-999.0000,9,  -999.00,9,   -999.0,9,   -999.0,9,   -999.0,9,  -999.00,9,25, -999.00,   -999,-999.0000,-999.000,  5.7275,-999.000
     316N151_2,   A24,   122,  1,     22,     22,2,19970623,1028, 51.4493, -33.9340, 3627,    397.3,   5.1924,  34.8882,2,  34.8900,2,    233.3,2,    236.0,2,    11.43,2,    18.57,2,     0.01,2,     1.22,2, -999.000,9, -999.000,9, -999.000,9,-999.0000,9,  -999.00,9,   -999.0,9,    787.6,2,   -999.0,9,  -999.00,9,25,   20.00,   -999,-999.0000,-999.000,  5.1602,-999.000
     316N151_2,   A24,   122,  1,     21,     21,2,19970623,1028, 51.4493, -33.9340, 3627,    487.8,   4.6787,  34.9114,2,  34.9140,2,    246.2,2,    244.2,2,    11.53,2,    18.47,2,     0.00,2,     1.21,2, -999.000,9, -999.000,9, -999.000,9,-999.0000,9,  -999.00,9,   -999.0,9,   -999.0,9,   -999.0,9,  -999.00,9,25, -999.00,   -999,-999.0000,-999.000,  4.6408,-999.000
     316N151_2,   A24,   122,  1,     20,     20,2,19970623,1028, 51.4493, -33.9340, 3627,    608.3,   4.1998,  34.9177,2,  34.9170,2,    256.3,2,    257.7,2,    11.34,2,    17.98,2,     0.00,2,     1.18,2, -999.000,9, -999.000,9, -999.000,9,-999.0000,9,  -999.00,9,   -999.0,9,    778.6,2,   -999.0,9,  -999.00,9,25,   20.00,   -999,-999.0000,-999.000,  4.1542,-999.000
     316N151_2,   A24,   122,  1,     19,     19,2,19970623,1028, 51.4493, -33.9340, 3627,    709.5,   3.9750,  34.9076,2,  34.9090,2,    261.0,2,    264.8,2,    11.14,2,    17.79,2,     0.00,2,     1.16,2, -999.000,9, -999.000,9, -999.000,9,-999.0000,9,  -999.00,9,   -999.0,9,   -999.0,9,   -999.0,9,  -999.00,9,25, -999.00,   -999,-999.0000,-999.000,  3.9226,-999.000
     316N151_2,   A24,   122,  1,     18,     18,2,19970623,1028, 51.4493, -33.9340, 3627,    808.9,   3.8253,  34.9095,2,  34.9080,2,    273.9,2,    270.0,2,    11.04,2,    17.49,2,     0.00,2,     1.15,2, -999.000,9, -999.000,9, -999.000,9,-999.0000,9,  -999.00,9,   -999.0,9,    767.3,2,   -999.0,9,  -999.00,9,25,   20.00,   -999,-999.0000,-999.000,  3.7659,-999.000
     316N151_2,   A24,   122,  1,     17,     17,2,19970623,1028, 51.4493, -33.9340, 3627,    910.1,   3.7031,  34.9026,2,  34.9030,2,    270.5,2,    272.7,2,    10.95,2,    17.40,2,     0.00,2,     1.14,2, -999.000,9, -999.000,9, -999.000,9,-999.0000,9,  -999.00,9,   -999.0,9,   -999.0,9,   -999.0,9,  -999.00,9,25, -999.00,   -999,-999.0000,-999.000,  3.6363,-999.000
     316N151_2,   A24,   122,  1,     16,     16,2,19970623,1028, 51.4493, -33.9340, 3627,   1009.6,   3.5649,  34.8923,2,  34.8940,2,    276.2,2,    277.3,2,    10.95,2,    17.30,2,     0.00,2,     1.13,2,    3.042,2,    1.487,2, -999.000,9,-999.0000,9,  -999.00,9,   -999.0,9,    757.9,2,   -999.0,9,  -999.00,9,25,   20.00,   -999,-999.0000,-999.000,  3.4912,-999.000
     316N151_2,   A24,   122,  1,     15,     15,2,19970623,1028, 51.4493, -33.9340, 3627,   1159.8,   3.4265,  34.8869,2,  34.8860,2,    279.6,2,    279.8,2,    11.14,2,    17.20,2,     0.00,2,     1.13,2, -999.000,9, -999.000,9, -999.000,9,-999.0000,9,  -999.00,9,   -999.0,9,    756.9,2,   -999.0,9,  -999.00,9,25,   20.00,   -999,-999.0000,-999.000,  3.3418,-999.000
     316N151_2,   A24,   122,  1,     14,     14,2,19970623,1028, 51.4493, -33.9340, 3627,   1311.7,   3.3071,  34.8802,2,  34.8860,3,    282.6,2,    283.1,2,    11.04,2,    17.00,2,     0.00,2,     1.12,2, -999.000,9, -999.000,9, -999.000,9,-999.0000,9,  -999.00,9,   -999.0,9,   -999.0,9,   -999.0,9,  -999.00,9,25, -999.00,   -999,-999.0000,-999.000,  3.2109,-999.000
     316N151_2,   A24,   122,  1,     13,     13,2,19970623,1028, 51.4493, -33.9340, 3627,   1514.0,   3.2159,  34.8759,2,  34.8760,2,    287.2,2,    284.8,2,    11.14,2,    16.91,2,     0.00,2,     1.12,2,    2.859,2,    1.362,2, -999.000,9,-999.0000,9,  -999.00,9,   -999.0,9,    746.4,2,   -999.0,9,  -999.00,9,25,   20.00,   -999,-999.0000,-999.000,  3.1036,-999.000
     316N151_2,   A24,   122,  1,     12,     12,2,19970623,1028, 51.4493, -33.9340, 3627,   1714.5,   3.1223,  34.8719,2,  34.8730,2,    284.5,2,    287.2,2,    11.14,2,    16.81,2,     0.00,2,     1.11,2, -999.000,9, -999.000,9, -999.000,9,-999.0000,9,  -999.00,9,   -999.0,9,   -999.0,9,   -999.0,9,  -999.00,9,25, -999.00,   -999,-999.0000,-999.000,  2.9938,-999.000
     316N151_2,   A24,   122,  1,     11,     11,2,19970623,1028, 51.4493, -33.9340, 3627,   1919.3,   3.1167,  34.8822,2,  34.8820,2,    282.5,2,    285.3,2,    11.53,2,    16.71,2,     0.00,2,     1.11,2,    2.688,2,    1.296,2, -999.000,9,-999.0000,9,  -999.00,9,   -999.0,9,    745.9,2,   -999.0,9,  -999.00,9,25,   20.00,   -999,-999.0000,-999.000,  2.9700,-999.000
     316N151_2,   A24,   122,  1,     10,     10,2,19970623,1028, 51.4493, -33.9340, 3627,   2123.7,   3.1663,  34.9077,2,  34.9080,2,    277.2,2,    279.4,2,    12.41,2,    16.71,2,     0.00,2,     1.10,2,    2.086,2,    1.015,2, -999.000,9,-999.0000,9,  -999.00,9,   -999.0,9,   -999.0,9,   -999.0,9,  -999.00,9,25, -999.00,   -999,-999.0000,-999.000,  2.9998,-999.000
     316N151_2,   A24,   122,  1,      9,      9,2,19970623,1028, 51.4493, -33.9340, 3627,   2327.9,   3.1035,  34.9223,2,  34.9230,2,    272.0,2,    275.3,2,    13.68,2,    16.81,2,     0.00,2,     1.11,2,    1.561,2,    0.770,2, -999.000,9,-999.0000,9,  -999.00,9,   -999.0,9,    742.0,2,   -999.0,9,  -999.00,9,25,   20.00,   -999,-999.0000,-999.000,  2.9186,-999.000
     316N151_2,   A24,   122,  1,      8,      8,2,19970623,1028, 51.4493, -33.9340, 3627,   2527.5,   3.0189,  34.9278,2,  34.9290,2,    273.2,2,    274.8,2,    14.17,2,    16.71,2,     0.00,2,     1.11,2, -999.000,9, -999.000,9, -999.000,9,-999.0000,9,  -999.00,9,   -999.0,9,   -999.0,9,   -999.0,9,  -999.00,9,25, -999.00,   -999,-999.0000,-999.000,  2.8160,-999.000
     316N151_2,   A24,   122,  1,      7,      7,2,19970623,1028, 51.4493, -33.9340, 3627,   2782.8,   2.8836,  34.9297,2,  34.9290,2,    275.5,2,    273.8,2,    15.34,2,    16.71,2,     0.00,2,     1.11,2, -999.000,9, -999.000,9, -999.000,9,-999.0000,9,  -999.00,9,   -999.0,9,   -999.0,9,   -999.0,9,  -999.00,9,25, -999.00,   -999,-999.0000,-999.000,  2.6578,-999.000
     316N151_2,   A24,   122,  1,      6,      6,2,19970623,1028, 51.4493, -33.9340, 3627,   2986.7,   2.7860,  34.9311,2,  34.9310,2,    273.9,2,    273.4,2,    16.42,2,    16.71,2,     0.00,2,     1.12,2,    1.301,2,    0.631,2, -999.000,9,-999.0000,9,  -999.00,9,   -999.0,9,    743.1,2,   -999.0,9,  -999.00,9,25,   20.00,   -999,-999.0000,-999.000,  2.5412,-999.000
     316N151_2,   A24,   122,  1,      5,      5,2,19970623,1028, 51.4493, -33.9340, 3627,   3117.2,   2.6961,  34.9282,2,  34.9280,2,    274.2,2,    273.6,2,    17.00,2,    16.71,2,     0.00,2,     1.12,2, -999.000,9, -999.000,9, -999.000,9,-999.0000,9,  -999.00,9,   -999.0,9,   -999.0,9,   -999.0,9,  -999.00,9,25, -999.00,   -999,-999.0000,-999.000,  2.4398,-999.000
     316N151_2,   A24,   122,  1,      4,      4,2,19970623,1028, 51.4493, -33.9340, 3627,   3238.9,   2.6338,  34.9205,2,  34.9220,2,    273.1,2,    274.0,2,    17.30,2,    16.71,2,     0.00,2,     1.12,2, -999.000,9, -999.000,9, -999.000,9,-999.0000,9,  -999.00,9,   -999.0,9,   -999.0,9,   -999.0,9,  -999.00,9,25, -999.00,   -999,-999.0000,-999.000,  2.3661,-999.000
     316N151_2,   A24,   122,  1,      3,      3,2,19970623,1028, 51.4493, -33.9340, 3627,   3389.1,   2.4854,  34.9123,2,  34.9120,2,    274.5,2,    275.6,2,    17.79,2,    16.71,2,     0.00,2,     1.12,2,    1.276,2,    0.619,2, -999.000,9,-999.0000,9,  -999.00,9,   -999.0,9,   -999.0,9,   -999.0,9,  -999.00,9,25, -999.00,   -999,-999.0000,-999.000,  2.2053,-999.000
     316N151_2,   A24,   122,  1,      2,      2,2,19970623,1028, 51.4493, -33.9340, 3627,   3539.1,   2.4248,  34.9081,2,  34.9060,2,    275.7,2,    276.4,2,    17.98,2,    16.71,2,     0.00,2,     1.12,2, -999.000,9, -999.000,9, -999.000,9,-999.0000,9,  -999.00,9,   -999.0,9,   -999.0,9,   -999.0,9,  -999.00,9,25, -999.00,   -999,-999.0000,-999.000,  2.1301,-999.000
     316N151_2,   A24,   122,  1,      1,      1,2,19970623,1028, 51.4493, -33.9340, 3627,   3639.2,   2.4229,  34.9084,2,  34.9060,2,    278.3,2,    276.7,2,    18.08,2,    16.71,2,     0.00,2,     1.12,2,    1.380,2,    0.668,2, -999.000,9,-999.0000,9,  -999.00,9,   -999.0,9,    739.2,2,   -999.0,9,  -999.00,9,25,   20.00,   -999,-999.0000,-999.000,  2.1173,-999.000