BOTTLE,20220629CCHSIOAMB
EXPOCODE,SECT_ID,STNNBR,CASTNO,SAMPNO,BTLNBR,BTLNBR_FLAG_W,DATE,TIME,LATITUDE,LONGITUDE,DEPTH,CTDPRS,CTDTMP,CTDSAL,CTDSAL_FLAG_W,SALNTY,SALNTY_FLAG_W,CTDOXY,CTDOXY_FLAG_W,OXYGEN,OXYGEN_FLAG_W,SILCAT,SILCAT_FLAG_W,NITRAT,NITRAT_FLAG_W,NITRIT,NITRIT_FLAG_W,PHSPHT,PHSPHT_FLAG_W,CFC-11,CFC-11_FLAG_W,CFC-12,CFC-12_FLAG_W,TRITUM,TRITUM_FLAG_W,HELIUM,HELIUM_FLAG_W,DELHE3,DELHE3_FLAG_W,TCARBN,TCARBN_FLAG_W,PCO2,PCO2_FLAG_W,ALKALI,ALKALI_FLAG_W,PH,PH_FLAG_W,PH_TMP,PCO2TMP,CTDRAW,HELIER,DELHER,THETA,TRITER
,,,,,,,,,,,,DBAR,ITS-90,PSS-78,,PSS-78,,UMOL/KG,,UMOL/KG,,UMOL/KG,,UMOL/KG,,UMOL/KG,,UMOL/KG,,PMOL/KG,,PMOL/KG,,TU,,NMOL/KG,,PERCNT,,UMOL/KG,,UATM,,UMOL/KG,,,,DEG C,DEG C,,NMOL/KG,PERCNT,DEG C,TU
     316N151_2,   A24,    18,  1,     31,     31,2,19970603,1232, 44.4490, -18.8348, 4300,      2.4,  16.3920,  35.7781,2,  35.7780,2,    255.3,2,    254.0,2,     0.35,2,     0.06,2,     0.00,2,     0.06,2,    2.939,2,    1.543,2, -999.000,9,-999.0000,9,  -999.00,9,   2065.7,2,    380.3,2,   2352.2,2,     7.97,6,25,   20.00,   -999,-999.0000,-999.000, 16.3916,-999.000
     316N151_2,   A24,    18,  1,     30,     30,2,19970603,1232, 44.4490, -18.8348, 4300,     40.6,  14.3340,  35.7643,2,  35.7650,2,    241.6,2,    247.4,2,     0.73,2,     2.05,2,     0.19,2,     0.19,2,    3.118,2,    1.666,2, -999.000,9,-999.0000,9,  -999.00,9,   2088.2,2,    426.6,2,   2349.7,2,     7.93,2,25,   20.00,   -999,-999.0000,-999.000, 14.3280,-999.000
     316N151_2,   A24,    18,  1,     29,     29,2,19970603,1232, 44.4490, -18.8348, 4300,     70.7,  12.8712,  35.7422,2,  35.7410,2,    244.6,2,    247.8,2,     1.93,2,     6.59,2,     0.02,2,     0.41,2,    3.240,2,    1.712,2, -999.000,9,-999.0000,9,  -999.00,9,   2112.4,2,    485.1,2,   2347.7,2,     7.88,2,25,   20.00,   -999,-999.0000,-999.000, 12.8615,-999.000
     316N151_2,   A24,    18,  1,     28,     28,2,19970603,1232, 44.4490, -18.8348, 4300,    186.4,  12.6137,  35.7121,2,  35.7140,2,    245.0,2,    247.9,2,     2.11,2,     6.99,2,     0.01,2,     0.44,2, -999.000,9, -999.000,9, -999.000,9,-999.0000,9,  -999.00,9,   2114.3,2,    489.3,2,   2345.2,2,     7.88,2,25,   20.00,   -999,-999.0000,-999.000, 12.5884,-999.000
     316N151_2,   A24,    18,  1,     27,     27,2,19970603,1232, 44.4490, -18.8348, 4300,    236.7,  12.0930,  35.6444,2,  35.6460,2,    242.2,2,    237.5,2,     3.01,2,     9.32,2,     0.01,2,     0.57,2,    3.220,2,    1.675,2, -999.000,9,-999.0000,9,  -999.00,9,   2123.7,2,    525.1,2,   2341.4,2,     7.84,2,25,   20.00,   -999,-999.0000,-999.000, 12.0617,-999.000
     316N151_2,   A24,    18,  1,     26,     26,2,19970603,1232, 44.4490, -18.8348, 4300,    317.0,  11.6553,  35.5857,2,  35.5840,2,    240.3,2,    236.3,2,     3.80,2,    10.52,2,     0.00,2,     0.65,2,    3.253,2,    1.692,2, -999.000,9,-999.0000,9,  -999.00,9,   2129.3,2,    546.7,2,   2336.7,2,     7.83,2,25,   20.00,   -999,-999.0000,-999.000, 11.6143,-999.000
     316N151_2,   A24,    18,  1,     25,     25,2,19970603,1232, 44.4490, -18.8348, 4300,    476.8,  10.9945,  35.5066,2,  35.5120,2,    236.4,2,    234.4,2,     4.39,2,    11.70,2,     0.00,2,     0.72,2,    3.268,2,    1.662,2, -999.000,9,-999.0000,9,  -999.00,9,   2134.8,2,    577.5,2,   2332.7,2,     7.82,2,25,   20.00,   -999,-999.0000,-999.000, 10.9346,-999.000
     316N151_2,   A24,    18,  1,     24,     24,2,19970603,1232, 44.4490, -18.8348, 4300,    630.3,  10.6300,  35.4765,2,  35.4770,2,    243.6,2,    241.1,2,     4.47,2,    11.80,2,     0.00,2,     0.74,2,    3.349,2,    1.734,2, -999.000,9,-999.0000,9,  -999.00,9,   2137.0,2,    583.3,2,   2332.0,2,     7.81,2,25,   20.00,   -999,-999.0000,-999.000, 10.5520,-999.000
     316N151_2,   A24,    18,  1,     23,     23,2,19970603,1232, 44.4490, -18.8348, 4300,    722.1,  10.3904,  35.4585,2,  35.4590,2,    225.7,2,    226.8,2,     5.67,2,    13.44,2,     0.00,2,     0.84,2, -999.000,9, -999.000,9, -999.000,9,-999.0000,9,  -999.00,9,   2143.9,2,   -999.0,9,   2333.5,2,     7.79,2,25, -999.00,   -999,-999.0000,-999.000, 10.3019,-999.000
     316N151_2,   A24,    18,  1,     22,     22,2,19970603,1232, 44.4490, -18.8348, 4300,    848.9,  10.1323,  35.5354,2,  35.5350,2,    203.9,2,    199.2,2,     7.89,2,    15.91,2,     0.00,2,     0.99,2,    2.086,2,    1.032,2, -999.000,9,-999.0000,9,  -999.00,9,   2165.9,2,    662.1,2,   2341.5,2,     7.77,2,25,   20.00,   -999,-999.0000,-999.000, 10.0291,-999.000
     316N151_2,   A24,    18,  1,     21,     21,2,19970603,1232, 44.4490, -18.8348, 4300,    970.0,  10.0368,  35.6967,2,  35.6970,2,    186.9,2,    188.2,2,     9.09,2,    16.65,2,     0.00,2,     1.04,2,    1.528,2,    0.771,2, -999.000,9,-999.0000,9,  -999.00,9,   2179.5,2,    672.2,2,   2356.3,2,     7.76,2,25,   20.00,   -999,-999.0000,-999.000,  9.9186,-999.000
     316N151_2,   A24,    18,  1,     20,     20,2,19970603,1232, 44.4490, -18.8348, 4300,   1103.3,   9.2293,  35.6618,2,  35.6600,2,    190.2,2,    191.8,2,     9.99,2,    17.25,2,     0.00,2,     1.08,2,    1.377,2,    0.677,2, -999.000,9,-999.0000,9,  -999.00,9,   2183.9,2,    688.2,2,   2357.5,2,     7.76,2,25,   20.00,   -999,-999.0000,-999.000,  9.1004,-999.000
     316N151_2,   A24,    18,  1,     19,     19,2,19970603,1232, 44.4490, -18.8348, 4300,   1205.5,   8.2578,  35.5441,2,  35.5490,2,    202.1,2,    200.7,2,    10.68,2,    17.64,2,     0.00,2,     1.11,2,    1.394,2,    0.698,2, -999.000,9,-999.0000,9,  -999.00,9,   2182.0,2,    709.3,2,   2351.5,2,     7.75,2,25,   20.00,   -999,-999.0000,-999.000,  8.1248,-999.000
     316N151_2,   A24,    18,  1,     18,     18,2,19970603,1232, 44.4490, -18.8348, 4300,   1308.4,   6.9702,  35.3653,2,  35.3670,2,    215.0,2,    215.7,2,    11.17,2,    17.94,2,     0.00,2,     1.15,2,    1.604,2,    0.766,2, -999.000,9,-999.0000,9,  -999.00,9,   2177.8,2,   -999.0,9,   2339.0,2,     7.73,2,25, -999.00,   -999,-999.0000,-999.000,  6.8375,-999.000
     316N151_2,   A24,    18,  1,     17,     17,2,19970603,1232, 44.4490, -18.8348, 4300,   1411.5,   5.9612,  35.2227,2,  35.2240,2,    227.3,2,    229.8,2,    11.46,2,    18.03,2,     0.00,2,     1.16,2,    1.620,2,    0.779,2, -999.000,9,-999.0000,9,  -999.00,9,   2172.3,2,    746.4,2,   2327.7,2,     7.72,2,25,   20.00,   -999,-999.0000,-999.000,  5.8278,-999.000
     316N151_2,   A24,    18,  1,     16,     16,2,19970603,1232, 44.4490, -18.8348, 4300,   1513.5,   5.2566,  35.1257,2,  35.1280,2,    244.5,2,    241.7,2,    11.54,2,    17.93,2,     0.00,2,     1.16,2,    1.704,2,    0.822,2, -999.000,9,-999.0000,9,  -999.00,9,   2167.6,2,    750.0,2,   2324.5,2,     7.72,2,25,   20.00,   -999,-999.0000,-999.000,  5.1206,-999.000
     316N151_2,   A24,    18,  1,     15,     15,2,19970603,1232, 44.4490, -18.8348, 4300,   1635.8,   4.9201,  35.0977,2,  35.0970,2,    247.4,2,    248.3,2,    11.72,2,    17.78,2,     0.00,2,     1.16,2,    1.598,2,    0.765,2, -999.000,9,-999.0000,9,  -999.00,9,   2165.5,2,    741.2,2,   2320.3,2,     7.72,2,25,   20.00,   -999,-999.0000,-999.000,  4.7758,-999.000
     316N151_2,   A24,    18,  1,     14,     14,2,19970603,1232, 44.4490, -18.8348, 4300,   1777.3,   4.1304,  34.9907,2,  34.9900,2,    258.3,2,    262.8,2,    12.01,2,    17.58,2,     0.00,2,     1.15,2,    1.514,2,    0.738,2, -999.000,9,-999.0000,9,  -999.00,9,   2158.9,2,   -999.0,9,   2313.3,2,     7.72,2,25, -999.00,   -999,-999.0000,-999.000,  3.9826,-999.000
     316N151_2,   A24,    18,  1,     13,     13,2,19970603,1232, 44.4490, -18.8348, 4300,   1919.0,   3.8419,  34.9599,2,  34.9600,2,    266.0,2,    267.5,2,    12.30,2,    17.48,2,     0.00,2,     1.15,2,    1.487,2,    0.715,2, -999.000,9,-999.0000,9,  -999.00,9,   2159.0,2,    748.8,2,   2310.6,2,     7.71,2,25,   20.00,   -999,-999.0000,-999.000,  3.6846,-999.000
     316N151_2,   A24,    18,  1,     12,     12,2,19970603,1232, 44.4490, -18.8348, 4300,   2070.9,   3.6784,  34.9566,2,  34.9570,2,    267.4,2,    267.3,2,    13.50,2,    17.47,2,     0.00,2,     1.16,2,    1.142,2,    0.560,2, -999.000,9,-999.0000,9,  -999.00,9,   2156.7,2,    739.5,2,   2313.7,2,     7.73,2,25,   20.00,   -999,-999.0000,-999.000,  3.5088,-999.000
     316N151_2,   A24,    18,  1,     11,     11,2,19970603,1232, 44.4490, -18.8348, 4300,   2223.6,   3.6163,  34.9716,2,  34.9700,2,    265.4,2,    263.3,2,    15.42,2,    17.76,2,     0.00,2,     1.17,2,    0.729,2,    0.373,2, -999.000,9,-999.0000,9,  -999.00,9,   2160.0,2,    736.7,2,   2315.4,2,     7.72,2,25,   20.00,   -999,-999.0000,-999.000,  3.4327,-999.000
     316N151_2,   A24,    18,  1,      9,      9,2,19970603,1232, 44.4490, -18.8348, 4300,   2425.9,   3.3738,  34.9693,2,  34.9690,2,    259.5,2,    259.9,2,    19.05,2,    18.25,2,     0.00,2,     1.22,2, -999.000,9, -999.000,9, -999.000,9,-999.0000,9,  -999.00,9,   2165.2,2,   -999.0,9,   2327.9,3,     7.73,2,25, -999.00,   -999,-999.0000,-999.000,  3.1744,-999.000
     316N151_2,   A24,    18,  1,     10,     10,2,19970603,1232, 44.4490, -18.8348, 4300,   2629.3,   3.1669,  34.9643,2,  34.9640,2,    255.4,2,    256.7,2,    22.84,2,    18.85,2,     0.00,2,     1.26,2,    0.277,2,    0.147,2, -999.000,9,-999.0000,9,  -999.00,9,   2171.1,2,   -999.0,9,   2320.9,2,     7.72,2,25, -999.00,   -999,-999.0000,-999.000,  2.9508,-999.000
     316N151_2,   A24,    18,  1,      8,      8,2,19970603,1232, 44.4490, -18.8348, 4300,   2832.3,   2.9929,  34.9539,2,  34.9530,2,    255.0,2,    254.7,2,    25.96,2,    19.19,2,     0.00,2,     1.29,2,    0.253,2,    0.136,2, -999.000,9,-999.0000,9,  -999.00,9,   2175.2,2,    742.2,2,   2331.2,2,     7.73,2,25,   20.00,   -999,-999.0000,-999.000,  2.7597,-999.000
     316N151_2,   A24,    18,  1,      7,      7,2,19970603,1232, 44.4490, -18.8348, 4300,   3239.2,   2.7239,  34.9357,2,  34.9340,2,    248.9,2,    248.4,2,    33.39,2,    20.33,2,     0.00,2,     1.37,2,    0.165,2,    0.086,2, -999.000,9,-999.0000,9,  -999.00,9,   2186.6,2,    757.0,2,   2341.2,2,     7.72,2,25,   20.00,   -999,-999.0000,-999.000,  2.4540,-999.000
     316N151_2,   A24,    18,  1,      6,      6,2,19970603,1232, 44.4490, -18.8348, 4300,   3444.4,   2.6548,  34.9277,2,  34.9280,2,    244.5,2,    245.8,2,    36.44,2,    20.87,2,     0.00,2,     1.42,2,    0.117,2,    0.060,2, -999.000,9,-999.0000,9,  -999.00,9,   2191.2,2,    761.1,2,   2345.9,2,     7.72,2,25,   20.00,   -999,-999.0000,-999.000,  2.3645,-999.000
     316N151_2,   A24,    18,  1,      5,      5,2,19970603,1232, 44.4490, -18.8348, 4300,   3648.3,   2.5999,  34.9207,2,  34.9200,2,    242.0,2,    243.3,2,    39.18,2,    21.31,2,     0.00,2,     1.45,2, -999.000,9, -999.000,9, -999.000,9,-999.0000,9,  -999.00,9,   2194.1,2,   -999.0,9,   2349.3,2,     7.72,2,25, -999.00,   -999,-999.0000,-999.000,  2.2886,-999.000
     316N151_2,   A24,    18,  1,      4,      4,2,19970603,1232, 44.4490, -18.8348, 4300,   3853.4,   2.5770,  34.9160,2,  34.9150,2,    242.2,2,    241.7,2,    40.90,2,    21.60,2,     0.00,2,     1.47,2,    0.066,2,    0.041,2, -999.000,9,-999.0000,9,  -999.00,9,   2196.8,2,    767.3,2,   2352.9,2,     7.72,2,25,   20.00,   -999,-999.0000,-999.000,  2.2433,-999.000
     316N151_2,   A24,    18,  1,      3,      3,2,19970603,1232, 44.4490, -18.8348, 4300,   4058.2,   2.5732,  34.9122,2,  34.9120,2,    241.5,2,    240.8,2,    42.01,2,    21.79,2,     0.00,2,     1.49,2,    0.046,2,    0.034,2, -999.000,9,-999.0000,9,  -999.00,9,   2199.6,2,    762.4,2,   2353.2,2,     7.71,2,25,   20.00,   -999,-999.0000,-999.000,  2.2161,-999.000
     316N151_2,   A24,    18,  1,      2,      2,2,19970603,1232, 44.4490, -18.8348, 4300,   4262.6,   2.5785,  34.9102,2,  34.9100,2,    241.6,2,    240.3,2,    42.81,2,    21.94,2,     0.00,2,     1.49,2,    0.046,2,    0.040,2, -999.000,9,-999.0000,9,  -999.00,9,   2200.9,2,   -999.0,9,   2354.6,2,     7.72,2,25, -999.00,   -999,-999.0000,-999.000,  2.1973,-999.000
     316N151_2,   A24,    18,  1,      1,      1,2,19970603,1232, 44.4490, -18.8348, 4300,   4421.9,   2.5945,  34.9095,2,  34.9100,2,    239.7,2,    239.8,2,    43.00,2,    21.88,2,     0.00,2,     1.50,2,    0.041,2,    0.031,2, -999.000,9,-999.0000,9,  -999.00,9,   2200.0,2,    771.5,2,   2354.6,2,     7.72,2,25,   20.00,   -999,-999.0000,-999.000,  2.1937,-999.000