BOTTLE,20220629CCHSIOAMB
EXPOCODE,SECT_ID,STNNBR,CASTNO,SAMPNO,BTLNBR,BTLNBR_FLAG_W,DATE,TIME,LATITUDE,LONGITUDE,DEPTH,CTDPRS,CTDTMP,CTDSAL,CTDSAL_FLAG_W,SALNTY,SALNTY_FLAG_W,CTDOXY,CTDOXY_FLAG_W,OXYGEN,OXYGEN_FLAG_W,SILCAT,SILCAT_FLAG_W,NITRAT,NITRAT_FLAG_W,NITRIT,NITRIT_FLAG_W,PHSPHT,PHSPHT_FLAG_W,CFC-11,CFC-11_FLAG_W,CFC-12,CFC-12_FLAG_W,TRITUM,TRITUM_FLAG_W,HELIUM,HELIUM_FLAG_W,DELHE3,DELHE3_FLAG_W,TCARBN,TCARBN_FLAG_W,PCO2,PCO2_FLAG_W,ALKALI,ALKALI_FLAG_W,PH,PH_FLAG_W,PH_TMP,PCO2TMP,CTDRAW,HELIER,DELHER,THETA,TRITER
,,,,,,,,,,,,DBAR,ITS-90,PSS-78,,PSS-78,,UMOL/KG,,UMOL/KG,,UMOL/KG,,UMOL/KG,,UMOL/KG,,UMOL/KG,,PMOL/KG,,PMOL/KG,,TU,,NMOL/KG,,PERCNT,,UMOL/KG,,UATM,,UMOL/KG,,,,DEG C,DEG C,,NMOL/KG,PERCNT,DEG C,TU
     316N151_2,   A24,    29,  1,     28,     28,2,19970606,0101, 48.1867, -12.9732, 3997,      3.6,  14.4032,  35.6406,2,  35.6421,2,    263.6,2,    264.1,2,     0.71,2,     1.15,2,     0.07,2,     0.15,2, -999.000,9, -999.000,9, -999.000,9,-999.0000,9,  -999.00,9,   2074.3,2,   -999.0,9,   2346.2,6,     7.95,6,25, -999.00,   -999,-999.0000,-999.000, 14.4027,-999.000
     316N151_2,   A24,    29,  1,     27,     27,2,19970606,0101, 48.1867, -12.9732, 3997,     36.5,  12.5196,  35.6031,2,  35.6036,2,    261.5,2,    259.9,2,     1.01,2,     3.93,2,     0.18,2,     0.35,2, -999.000,9, -999.000,9, -999.000,9,-999.0000,9,  -999.00,9,   2101.9,2,   -999.0,9,   2347.0,2,     7.91,2,25, -999.00,   -999,-999.0000,-999.000, 12.5147,-999.000
     316N151_2,   A24,    29,  1,     26,     26,2,19970606,0101, 48.1867, -12.9732, 3997,    106.0,  11.4360,  35.5702,2,  35.5705,2,    252.2,2,    251.8,2,     3.67,2,     9.30,2,     0.02,2,     0.59,2, -999.000,9, -999.000,9, -999.000,9,-999.0000,9,  -999.00,9,   2125.4,2,   -999.0,9,   2339.7,2,     7.85,2,25, -999.00,   -999,-999.0000,-999.000, 11.4226,-999.000
     316N151_2,   A24,    29,  1,     25,     25,2,19970606,0101, 48.1867, -12.9732, 3997,    179.7,  11.2202,  35.5487,2,  35.5490,2,    249.6,2,    249.4,2,     4.07,2,     9.71,2,     0.02,2,     0.62,2, -999.000,9, -999.000,9, -999.000,9,-999.0000,9,  -999.00,9,   2130.4,2,   -999.0,9,   2339.4,2,     7.83,2,25, -999.00,   -999,-999.0000,-999.000, 11.1976,-999.000
     316N151_2,   A24,    29,  1,     24,     24,2,19970606,0101, 48.1867, -12.9732, 3997,    277.1,  10.9895,  35.5211,2,  35.5209,2,    247.4,2,    246.2,2,     4.59,2,    10.48,2,     0.02,2,     0.67,2, -999.000,9, -999.000,9, -999.000,9,-999.0000,9,  -999.00,9,   2131.4,2,   -999.0,9,   2336.0,2,     7.83,2,25, -999.00,   -999,-999.0000,-999.000, 10.9550,-999.000
     316N151_2,   A24,    29,  1,     23,     23,2,19970606,0101, 48.1867, -12.9732, 3997,    397.1,  10.7389,  35.4944,2,  35.4949,2,    246.0,2,    248.7,2,     4.79,2,    10.83,2,     0.01,2,     0.70,2, -999.000,9, -999.000,9, -999.000,9,-999.0000,9,  -999.00,9,   2132.4,2,   -999.0,9,   2333.7,2,     7.82,2,25, -999.00,   -999,-999.0000,-999.000, 10.6899,-999.000
     316N151_2,   A24,    29,  1,     22,     22,2,19970606,0101, 48.1867, -12.9732, 3997,    509.0,  10.3405,  35.4447,2,  35.4448,2,    229.6,2,    233.5,2,     5.84,2,    12.76,2,     0.01,2,     0.82,2, -999.000,9, -999.000,9, -999.000,9,-999.0000,9,  -999.00,9,   2146.7,2,   -999.0,9,   2333.3,2,     7.79,2,25, -999.00,   -999,-999.0000,-999.000, 10.2789,-999.000
     316N151_2,   A24,    29,  1,     21,     21,2,19970606,0101, 48.1867, -12.9732, 3997,    635.2,   9.8086,  35.4230,2,  35.4219,2,    212.5,2,    209.4,3,     8.06,2,    15.51,2,     0.01,2,     0.99,2, -999.000,9, -999.000,9, -999.000,9,-999.0000,9,  -999.00,9,   2160.9,2,   -999.0,9,   2331.2,2,     7.76,2,25, -999.00,   -999,-999.0000,-999.000,  9.7337,-999.000
     316N151_2,   A24,    29,  1,     20,     20,2,19970606,0101, 48.1867, -12.9732, 3997,    769.0,   9.3179,  35.4914,2,  35.4933,2,    199.7,2,    199.8,2,     9.86,2,    17.14,2,     0.01,2,     1.09,2, -999.000,9, -999.000,9, -999.000,9,-999.0000,9,  -999.00,9,   2176.4,2,   -999.0,9,   2342.0,2,     7.74,2,25, -999.00,   -999,-999.0000,-999.000,  9.2293,-999.000
     316N151_2,   A24,    29,  1,     19,     19,2,19970606,0101, 48.1867, -12.9732, 3997,    907.9,   8.7893,  35.5460,2,  35.5499,2,    195.8,2,    194.3,2,    10.69,2,    17.54,2,     0.00,2,     1.12,2, -999.000,9, -999.000,9, -999.000,9,-999.0000,9,  -999.00,9,   2183.9,2,   -999.0,9,   2346.4,2,     7.74,2,25, -999.00,   -999,-999.0000,-999.000,  8.6873,-999.000
     316N151_2,   A24,    29,  1,     18,     18,2,19970606,0101, 48.1867, -12.9732, 3997,   1055.6,   7.9404,  35.5016,2,  35.5067,2,    205.0,2,    204.6,2,    11.42,2,    17.65,2,     0.00,2,     1.13,2, -999.000,9, -999.000,9, -999.000,9,-999.0000,9,  -999.00,9,   2185.1,2,   -999.0,9,   2347.8,2,     7.73,2,25, -999.00,   -999,-999.0000,-999.000,  7.8274,-999.000
     316N151_2,   A24,    29,  1,     17,     17,2,19970606,0101, 48.1867, -12.9732, 3997,   1153.3,   6.7409,  35.3139,2,  35.3125,2,    220.3,2,    217.8,2,    12.05,2,    18.06,2,     0.00,2,     1.17,2, -999.000,9, -999.000,9, -999.000,9,-999.0000,9,  -999.00,9,   -999.0,9,   -999.0,9,   -999.0,9,  -999.00,9,25, -999.00,   -999,-999.0000,-999.000,  6.6272,-999.000
     316N151_2,   A24,    29,  1,     16,     16,2,19970606,0101, 48.1867, -12.9732, 3997,   1301.1,   5.2198,  35.1030,2,  35.1025,2,    237.1,2,    240.3,2,    12.35,2,    18.11,2,     0.00,2,     1.19,2, -999.000,9, -999.000,9, -999.000,9,-999.0000,9,  -999.00,9,   -999.0,9,   -999.0,9,   -999.0,9,  -999.00,9,25, -999.00,   -999,-999.0000,-999.000,  5.1052,-999.000
     316N151_2,   A24,    29,  1,     15,     15,2,19970606,0101, 48.1867, -12.9732, 3997,   1450.9,   4.4214,  35.0006,2,  35.0007,2,    254.5,2,    255.3,2,    12.12,2,    17.86,2,     0.00,2,     1.18,2, -999.000,9, -999.000,9, -999.000,9,-999.0000,9,  -999.00,9,   -999.0,9,   -999.0,9,   -999.0,9,  -999.00,9,25, -999.00,   -999,-999.0000,-999.000,  4.3010,-999.000
     316N151_2,   A24,    29,  1,     14,     14,2,19970606,0101, 48.1867, -12.9732, 3997,   1603.7,   3.9402,  34.9439,2,  34.9436,2,    269.0,2,    266.6,2,    12.00,2,    17.61,2,     0.00,2,     1.17,2, -999.000,9, -999.000,9, -999.000,9,-999.0000,9,  -999.00,9,   -999.0,9,   -999.0,9,   -999.0,9,  -999.00,9,25, -999.00,   -999,-999.0000,-999.000,  3.8113,-999.000
     316N151_2,   A24,    29,  1,     13,     13,2,19970606,0101, 48.1867, -12.9732, 3997,   1753.5,   3.6864,  34.9219,2,  34.9226,2,    271.6,2,    272.1,2,    12.09,2,    17.40,2,     0.00,2,     1.16,2, -999.000,9, -999.000,9, -999.000,9,-999.0000,9,  -999.00,9,   -999.0,9,   -999.0,9,   -999.0,9,  -999.00,9,25, -999.00,   -999,-999.0000,-999.000,  3.5469,-999.000
     316N151_2,   A24,    29,  1,     12,     12,2,19970606,0101, 48.1867, -12.9732, 3997,   1824.6,   3.6323,  34.9205,2,  34.9202,2,    272.7,2,    273.1,2,    12.28,2,    17.30,2,     0.00,2,     1.16,2, -999.000,9, -999.000,9, -999.000,9,-999.0000,9,  -999.00,9,   -999.0,9,   -999.0,9,   -999.0,9,  -999.00,9,25, -999.00,   -999,-999.0000,-999.000,  3.4869,-999.000
     316N151_2,   A24,    29,  1,     11,     11,2,19970606,0101, 48.1867, -12.9732, 3997,   1954.9,   3.5352,  34.9260,2,  34.9253,2,    271.4,2,    272.5,2,    13.12,2,    17.30,2,     0.00,2,     1.16,2, -999.000,9, -999.000,9, -999.000,9,-999.0000,9,  -999.00,9,   -999.0,9,   -999.0,9,   -999.0,9,  -999.00,9,25, -999.00,   -999,-999.0000,-999.000,  3.3790,-999.000
     316N151_2,   A24,    29,  1,     10,     10,2,19970606,0101, 48.1867, -12.9732, 3997,   2105.1,   3.4829,  34.9431,2,  34.9426,2,    271.7,2,    268.3,2,    15.03,2,    17.50,2,     0.00,2,     1.17,2, -999.000,9, -999.000,9, -999.000,9,-999.0000,9,  -999.00,9,   -999.0,9,   -999.0,9,   -999.0,9,  -999.00,9,25, -999.00,   -999,-999.0000,-999.000,  3.3131,-999.000
     316N151_2,   A24,    29,  1,      9,      9,2,19970606,0101, 48.1867, -12.9732, 3997,   2303.9,   3.4048,  34.9658,2,  34.9660,2,    260.5,2,    256.7,2,    21.74,2,    18.78,2,     0.00,2,     1.26,2, -999.000,9, -999.000,9, -999.000,9,-999.0000,9,  -999.00,9,   -999.0,9,   -999.0,9,   -999.0,9,  -999.00,9,25, -999.00,   -999,-999.0000,-999.000,  3.2169,-999.000
     316N151_2,   A24,    29,  1,      8,      8,2,19970606,0101, 48.1867, -12.9732, 3997,   2512.7,   3.1665,  34.9603,2,  34.9597,2,    253.1,2,    254.4,2,    24.92,2,    19.18,2,     0.00,2,     1.30,2, -999.000,9, -999.000,9, -999.000,9,-999.0000,9,  -999.00,9,   -999.0,9,   -999.0,9,   -999.0,9,  -999.00,9,25, -999.00,   -999,-999.0000,-999.000,  2.9622,-999.000
     316N151_2,   A24,    29,  1,      7,      7,2,19970606,0101, 48.1867, -12.9732, 3997,   2722.8,   2.9574,  34.9514,2,  34.9505,2,    249.8,2,    248.6,2,    30.89,2,    20.20,2,     0.00,2,     1.37,2, -999.000,9, -999.000,9, -999.000,9,-999.0000,9,  -999.00,9,   -999.0,9,   -999.0,9,   -999.0,9,  -999.00,9,25, -999.00,   -999,-999.0000,-999.000,  2.7361,-999.000
     316N151_2,   A24,    29,  1,      6,      6,2,19970606,0101, 48.1867, -12.9732, 3997,   2930.4,   2.8380,  34.9427,2,  34.9422,2,    246.2,2,    246.8,2,    33.65,2,    20.56,2,     0.00,2,     1.39,2, -999.000,9, -999.000,9, -999.000,9,-999.0000,9,  -999.00,9,   -999.0,9,   -999.0,9,   -999.0,9,  -999.00,9,25, -999.00,   -999,-999.0000,-999.000,  2.5979,-999.000
     316N151_2,   A24,    29,  1,      5,      5,2,19970606,0101, 48.1867, -12.9732, 3997,   3135.9,   2.7553,  34.9356,2,  34.9351,2,    244.4,2,    245.6,2,    35.55,2,    20.82,2,     0.00,2,     1.41,2, -999.000,9, -999.000,9, -999.000,9,-999.0000,9,  -999.00,9,   -999.0,9,   -999.0,9,   -999.0,9,  -999.00,9,25, -999.00,   -999,-999.0000,-999.000,  2.4956,-999.000
     316N151_2,   A24,    29,  1,      4,      4,2,19970606,0101, 48.1867, -12.9732, 3997,   3342.0,   2.6468,  34.9261,2,  34.9253,2,    244.1,2,    244.1,2,    37.99,2,    21.17,2,     0.00,2,     1.44,2, -999.000,9, -999.000,9, -999.000,9,-999.0000,9,  -999.00,9,   -999.0,9,   -999.0,9,   -999.0,9,  -999.00,9,25, -999.00,   -999,-999.0000,-999.000,  2.3678,-999.000
     316N151_2,   A24,    29,  1,      3,      3,2,19970606,0101, 48.1867, -12.9732, 3997,   3544.0,   2.5786,  34.9179,2,  34.9172,2,    241.3,2,    242.3,2,    40.33,2,    21.58,2,     0.00,2,     1.47,2, -999.000,9, -999.000,9, -999.000,9,-999.0000,9,  -999.00,9,   -999.0,9,   -999.0,9,   -999.0,9,  -999.00,9,25, -999.00,   -999,-999.0000,-999.000,  2.2794,-999.000
     316N151_2,   A24,    29,  1,      2,      2,2,19970606,0101, 48.1867, -12.9732, 3997,   3748.7,   2.5413,  34.9130,2,  34.9121,2,    240.7,2,    241.6,2,    41.70,2,    21.78,2,     0.00,2,     1.48,2, -999.000,9, -999.000,9, -999.000,9,-999.0000,9,  -999.00,9,   -999.0,9,   -999.0,9,   -999.0,9,  -999.00,9,25, -999.00,   -999,-999.0000,-999.000,  2.2204,-999.000
     316N151_2,   A24,    29,  1,      1,      1,2,19970606,0101, 48.1867, -12.9732, 3997,   4035.4,   2.5046,  34.9046,2,  34.9073,2,    242.7,2,    240.7,2,    43.39,2,    21.94,2,     0.00,2,     1.51,2, -999.000,9, -999.000,9, -999.000,9,-999.0000,9,  -999.00,9,   -999.0,9,   -999.0,9,   -999.0,9,  -999.00,9,25, -999.00,   -999,-999.0000,-999.000,  2.1522,-999.000