BOTTLE,20220629CCHSIOAMB
EXPOCODE,SECT_ID,STNNBR,CASTNO,SAMPNO,BTLNBR,BTLNBR_FLAG_W,DATE,TIME,LATITUDE,LONGITUDE,DEPTH,CTDPRS,CTDTMP,CTDSAL,CTDSAL_FLAG_W,SALNTY,SALNTY_FLAG_W,CTDOXY,CTDOXY_FLAG_W,OXYGEN,OXYGEN_FLAG_W,SILCAT,SILCAT_FLAG_W,NITRAT,NITRAT_FLAG_W,NITRIT,NITRIT_FLAG_W,PHSPHT,PHSPHT_FLAG_W,CFC-11,CFC-11_FLAG_W,CFC-12,CFC-12_FLAG_W,TRITUM,TRITUM_FLAG_W,HELIUM,HELIUM_FLAG_W,DELHE3,DELHE3_FLAG_W,TCARBN,TCARBN_FLAG_W,PCO2,PCO2_FLAG_W,ALKALI,ALKALI_FLAG_W,PH,PH_FLAG_W,PH_TMP,PCO2TMP,CTDRAW,HELIER,DELHER,THETA,TRITER
,,,,,,,,,,,,DBAR,ITS-90,PSS-78,,PSS-78,,UMOL/KG,,UMOL/KG,,UMOL/KG,,UMOL/KG,,UMOL/KG,,UMOL/KG,,PMOL/KG,,PMOL/KG,,TU,,NMOL/KG,,PERCNT,,UMOL/KG,,UATM,,UMOL/KG,,,,DEG C,DEG C,,NMOL/KG,PERCNT,DEG C,TU
     316N151_2,   A24,    82,  1,     22,     22,2,19970615,1523, 61.7505, -29.6483, 1937,      2.1,   8.5301,  35.0125,2,  35.0122,2,    221.8,2,    303.7,2,     3.02,2,     8.55,2,     0.13,2,     0.56,2,    4.241,2,    2.216,2,    1.510,2,   1.8188,2,    -1.90,2,   2099.4,2,   -999.0,9,   2312.8,6,     7.86,6,25, -999.00,   -999,  0.0000,   0.200,  8.5299,   0.023
     316N151_2,   A24,    82,  1,     21,     21,2,19970615,1523, 61.7505, -29.6483, 1937,     34.0,   7.7320,  34.9959,2,  34.9941,2,    297.5,2,    293.8,2,     3.31,2,    10.13,2,     0.17,2,     0.69,2,    4.288,2,    2.217,2,    1.444,2,   1.8323,2,    -1.71,2,   -999.0,9,   -999.0,9,   -999.0,9,  -999.00,9,25, -999.00,   -999,  0.0000,   0.130,  7.7287,   0.018
     316N151_2,   A24,    82,  1,     20,     20,2,19970615,1523, 61.7505, -29.6483, 1937,     74.7,   7.1705,  35.0518,2,  35.0561,2,    285.2,2,    277.3,2,     7.54,2,    14.01,2,     0.19,2,     0.95,2,    4.064,2,    2.109,2,    1.482,2,   1.8534,2,    -0.85,2,   -999.0,9,   -999.0,9,   -999.0,9,  -999.00,9,25, -999.00,   -999,  0.0000,   0.130,  7.1634,   0.027
     316N151_2,   A24,    82,  1,     19,     19,2,19970615,1523, 61.7505, -29.6483, 1937,    124.7,   6.8462,  35.0564,2,  35.0526,2,    274.2,2,    276.3,2,     8.02,2,    14.84,2,     0.04,2,     0.98,2,    4.035,2,    2.092,2,    1.383,2,   1.8310,2,    -0.70,2,   -999.0,9,   -999.0,9,   -999.0,9,  -999.00,9,25, -999.00,   -999,  0.0000,   0.130,  6.8347,   0.025
     316N151_2,   A24,    82,  1,     18,     18,2,19970615,1523, 61.7505, -29.6483, 1937,    174.9,   6.8747,  35.0819,2,  35.0813,2,    271.9,2,    274.0,2,     7.91,2,    14.77,2,     0.01,2,     0.97,2, -999.000,9, -999.000,9,    1.456,2,   1.8102,2,    -0.57,2,   -999.0,9,   -999.0,9,   -999.0,9,  -999.00,9,25, -999.00,   -999,  0.0000,   0.130,  6.8585,   0.023
     316N151_2,   A24,    82,  1,     17,     17,2,19970615,1523, 61.7505, -29.6483, 1937,    235.1,   6.7387,  35.0728,2,  35.0693,2,    271.6,2,    275.2,2,     8.00,2,    14.82,2,     0.01,2,     0.98,2,    3.962,2,    2.052,2, -999.000,9,-999.0000,9,  -999.00,9,   -999.0,9,   -999.0,9,   -999.0,9,  -999.00,9,25, -999.00,   -999,-999.0000,-999.000,  6.7171,-999.000
     316N151_2,   A24,    82,  1,     16,     16,2,19970615,1523, 61.7505, -29.6483, 1937,    305.8,   6.4572,  35.0397,2,  35.0425,2,    269.8,2,    271.0,2,     8.48,2,    15.34,2,     0.00,2,     1.01,2, -999.000,9, -999.000,9,    1.461,2,   1.8303,2,     0.13,2,   -999.0,9,   -999.0,9,   -999.0,9,  -999.00,9,25, -999.00,   -999,  0.0000,   0.130,  6.4295,   0.023
     316N151_2,   A24,    82,  1,     15,     15,2,19970615,1523, 61.7505, -29.6483, 1937,    375.3,   5.9378,  34.9781,2,  34.9794,2,    268.3,2,    276.9,2,     8.66,2,    15.39,2,     0.00,2,     1.02,2,    4.058,2,    2.094,2, -999.000,9,-999.0000,9,  -999.00,9,   -999.0,9,   -999.0,9,   -999.0,9,  -999.00,9,25, -999.00,   -999,-999.0000,-999.000,  5.9052,-999.000
     316N151_2,   A24,    82,  1,     14,     14,2,19970615,1523, 61.7505, -29.6483, 1937,    446.3,   5.6023,  34.9507,2,  34.9514,2,    270.9,2,    276.8,2,     8.95,2,    15.63,2,     0.00,2,     1.04,2,    4.040,2,    2.089,2, -999.000,5,   1.8392,2,     0.54,2,   -999.0,9,   -999.0,9,   -999.0,9,  -999.00,9,25, -999.00,   -999,  0.0000,   0.130,  5.5645,-999.000
     316N151_2,   A24,    82,  1,     13,     13,2,19970615,1523, 61.7505, -29.6483, 1937,    477.3,   6.0056,  35.0344,2,  35.0172,2,    259.7,2,    255.9,2,    10.00,2,    16.68,2,     0.00,2,     1.09,2,    3.391,2,    1.706,2,    1.407,2,   1.8745,2,     2.90,2,   -999.0,9,   -999.0,9,   -999.0,9,  -999.00,9,25, -999.00,   -999,  0.0000,   0.130,  5.9635,   0.027
     316N151_2,   A24,    82,  1,     12,     12,2,19970615,1523, 61.7505, -29.6483, 1937,    575.8,   5.2619,  34.9763,2,  34.9749,2,    256.4,2,    253.5,2,    10.67,2,    17.35,2,     0.00,2,     1.14,2, -999.000,9, -999.000,9, -999.000,9,-999.0000,9,  -999.00,9,   -999.0,9,   -999.0,9,   -999.0,9,  -999.00,9,25, -999.00,   -999,-999.0000,-999.000,  5.2141,-999.000
     316N151_2,   A24,    82,  1,     11,     11,2,19970615,1523, 61.7505, -29.6483, 1937,    676.3,   4.7801,  34.9433,2,  34.9440,2,    257.5,2,    256.3,2,    11.05,2,    17.64,2,     0.00,2,     1.16,2,    3.171,2,    1.548,2,    1.385,2,   1.9034,2,     4.44,2,   -999.0,9,   -999.0,9,   -999.0,9,  -999.00,9,25, -999.00,   -999,  0.0000,   0.160,  4.7260,   0.028
     316N151_2,   A24,    82,  1,     10,     10,2,19970615,1523, 61.7505, -29.6483, 1937,    778.2,   4.4515,  34.9432,2,  34.9459,2,    260.7,2,    259.1,2,    11.14,2,    17.59,2,     0.00,2,     1.15,2, -999.000,9, -999.000,9, -999.000,9,-999.0000,9,  -999.00,9,   -999.0,9,   -999.0,9,   -999.0,9,  -999.00,9,25, -999.00,   -999,-999.0000,-999.000,  4.3907,-999.000
     316N151_2,   A24,    82,  1,      9,      9,2,19970615,1523, 61.7505, -29.6483, 1937,    878.7,   4.1246,  34.9283,2,  34.9316,2,    268.6,2,    266.6,2,    11.03,2,    17.34,2,     0.00,2,     1.13,2,    3.104,2,    1.509,2,    0.682,3,   1.8677,2,     5.32,2,   -999.0,9,   -999.0,9,   -999.0,9,  -999.00,9,25, -999.00,   -999,  0.0000,   0.130,  4.0574,   0.019
     316N151_2,   A24,    82,  1,      8,      8,2,19970615,1523, 61.7505, -29.6483, 1937,    980.6,   4.0676,  34.9491,2,  34.9461,2,    272.0,2,    267.0,2,    11.02,2,    17.10,2,     0.00,2,     1.12,2, -999.000,9, -999.000,9, -999.000,9,-999.0000,9,  -999.00,9,   -999.0,9,   -999.0,9,   -999.0,9,  -999.00,9,25, -999.00,   -999,-999.0000,-999.000,  3.9923,-999.000
     316N151_2,   A24,    82,  1,      7,      7,2,19970615,1523, 61.7505, -29.6483, 1937,   1079.0,   3.8130,  34.9291,2,  34.9281,2,    271.9,2,    271.9,2,    11.02,2,    17.10,2,     0.00,2,     1.12,2,    2.963,2,    1.430,2,    1.308,2,   1.8667,2,     6.05,2,   -999.0,9,   -999.0,9,   -999.0,9,  -999.00,9,25, -999.00,   -999,  0.0000,   0.160,  3.7316,   0.019
     316N151_2,   A24,    82,  1,      6,      6,2,19970615,1523, 61.7505, -29.6483, 1937,   1178.2,   3.7386,  34.9296,2,  34.9336,2,    273.8,2,    273.7,2,    11.01,2,    17.05,2,     0.00,2,     1.11,2, -999.000,9, -999.000,9, -999.000,9,-999.0000,9,  -999.00,9,   -999.0,9,   -999.0,9,   -999.0,9,  -999.00,9,25, -999.00,   -999,-999.0000,-999.000,  3.6494,-999.000
     316N151_2,   A24,    82,  1,      5,      5,2,19970615,1523, 61.7505, -29.6483, 1937,   1311.6,   3.5439,  34.9135,2,  34.9137,2,    276.8,2,    279.1,2,    11.00,2,    17.00,2,     0.00,2,     1.11,2,    3.120,2,    1.504,2,    1.314,2,   1.9258,2,     5.58,2,   -999.0,9,   -999.0,9,   -999.0,9,  -999.00,9,25, -999.00,   -999,  0.0000,   0.130,  3.4453,   0.019
     316N151_2,   A24,    82,  1,      4,      4,2,19970615,1523, 61.7505, -29.6483, 1937,   1458.6,   3.4114,  34.9057,2,  34.9039,2,    280.0,2,    281.8,2,    11.09,2,    16.90,2,     0.00,2,     1.11,2, -999.000,9, -999.000,9,    1.342,2,   1.8897,2,     4.91,2,   -999.0,9,   -999.0,9,   -999.0,9,  -999.00,9,25, -999.00,   -999,  0.0000,   0.160,  3.3016,   0.019
     316N151_2,   A24,    82,  1,      3,      3,2,19970615,1523, 61.7505, -29.6483, 1937,   1612.9,   3.2488,  34.8941,2,  34.8933,2,    283.1,2,    285.3,2,    11.18,2,    16.81,2,     0.00,2,     1.10,2,    3.218,2,    1.555,2,    0.617,3,   1.9257,2,     4.97,2,   -999.0,9,   -999.0,9,   -999.0,9,  -999.00,9,25, -999.00,   -999,  0.0000,   0.150,  3.1275,   0.015
     316N151_2,   A24,    82,  1,      2,      2,2,19970615,1523, 61.7505, -29.6483, 1937,   1763.7,   3.1060,  34.8931,2,  34.8915,2,    283.6,2,    285.4,2,    11.66,2,    16.66,2,     0.00,2,     1.10,2,    3.005,2,    1.449,2,    1.132,2,   1.8836,2,     5.18,2,   -999.0,9,   -999.0,9,   -999.0,9,  -999.00,9,25, -999.00,   -999,  0.0000,   0.160,  2.9733,   0.016
     316N151_2,   A24,    82,  1,      1,      1,2,19970615,1523, 61.7505, -29.6483, 1937,   1916.8,   3.0524,  34.8944,2,  34.8939,2,    284.4,2,    284.2,2,    11.84,2,    16.61,2,     0.00,2,     1.10,2,    2.812,2,    1.347,2,    1.259,2,   1.9212,2,     5.77,2,   -999.0,9,   -999.0,9,   -999.0,9,  -999.00,9,25, -999.00,   -999,  0.0000,   0.150,  2.9068,   0.018
     316N151_2,   A24,    83,  1,     28,     28,2,19970615,1940, 62.0365, -30.5113, 2165,      2.4,   7.9878,  35.0040,2,  35.0047,2,    284.7,2,    312.5,2,     1.40,2,     7.97,2,     0.10,2,     0.54,2,    4.369,2,    2.272,2, -999.000,9,-999.0000,9,  -999.00,9,   2100.5,2,    513.4,2,   2316.4,6,     7.86,6,25,   20.00,   -999,-999.0000,-999.000,  7.9876,-999.000
     316N151_2,   A24,    83,  1,     27,     27,2,19970615,1940, 62.0365, -30.5113, 2165,     34.7,   7.6795,  35.0302,2,  35.0290,2,    298.1,2,    303.2,2,     1.49,2,     8.94,2,     0.13,2,     0.59,2, -999.000,9, -999.000,9, -999.000,9,-999.0000,9,  -999.00,9,   2109.3,2,    536.6,2,   2317.4,2,     7.85,2,25,   20.00,   -999,-999.0000,-999.000,  7.6761,-999.000
     316N151_2,   A24,    83,  1,     26,     26,2,19970615,1940, 62.0365, -30.5113, 2165,     65.3,   7.3558,  35.0263,2,  35.0241,2,    296.7,2,    296.8,2,     2.83,2,    10.09,2,     0.16,2,     0.69,2,    4.348,2,    2.265,2, -999.000,9,-999.0000,9,  -999.00,9,   2117.8,2,    569.5,2,   2316.6,2,     7.83,2,25,   20.00,   -999,-999.0000,-999.000,  7.3495,-999.000
     316N151_2,   A24,    83,  1,     25,     25,2,19970615,1940, 62.0365, -30.5113, 2165,    115.1,   6.8540,  35.0895,2,  35.0888,2,    282.9,2,    275.7,2,     7.94,2,    14.66,2,     0.10,2,     0.97,2,    4.013,2,    2.095,2, -999.000,9,-999.0000,9,  -999.00,9,   2143.2,2,   -999.0,9,   2316.4,2,     7.76,2,25, -999.00,   -999,-999.0000,-999.000,  6.8434,-999.000
     316N151_2,   A24,    83,  1,     24,     24,2,19970615,1940, 62.0365, -30.5113, 2165,    205.7,   6.1802,  35.0135,2,  35.0099,2,    280.0,2,    276.1,2,     8.71,2,    15.28,2,     0.05,2,     1.02,2,    4.040,2,    2.099,2, -999.000,9,-999.0000,9,  -999.00,9,   2148.0,2,    687.0,2,   2312.4,2,     7.75,2,25,   20.00,   -999,-999.0000,-999.000,  6.1622,-999.000
     316N151_2,   A24,    83,  1,     23,     23,2,19970615,1940, 62.0365, -30.5113, 2165,    305.6,   5.5995,  34.9610,2,  34.9611,2,    277.8,2,    280.0,2,     8.99,2,    15.54,2,     0.02,2,     1.04,2, -999.000,9, -999.000,9, -999.000,9,-999.0000,9,  -999.00,9,   2146.8,2,    700.9,2,   2311.3,2,     7.74,2,25,   20.00,   -999,-999.0000,-999.000,  5.5739,-999.000
     316N151_2,   A24,    83,  1,     22,     22,2,19970615,1940, 62.0365, -30.5113, 2165,    414.7,   4.9708,  34.9123,2,  34.9171,2,    279.0,2,    281.4,2,     9.47,2,    16.02,2,     0.01,2,     1.07,2,    4.131,2,    2.105,2, -999.000,9,-999.0000,9,  -999.00,9,   2151.9,2,    723.4,2,   2307.2,2,     7.73,2,25,   20.00,   -999,-999.0000,-999.000,  4.9379,-999.000
     316N151_2,   A24,    83,  1,     21,     21,2,19970615,1940, 62.0365, -30.5113, 2165,    513.2,   4.6894,  34.9104,2,  34.9123,2,    272.9,2,    276.0,2,    10.04,2,    16.55,2,     0.01,2,     1.10,2, -999.000,9, -999.000,9, -999.000,9,-999.0000,9,  -999.00,9,   2154.8,2,    741.2,2,   2308.1,2,     7.72,2,25,   20.00,   -999,-999.0000,-999.000,  4.6493,-999.000
     316N151_2,   A24,    83,  1,     20,     20,2,19970615,1940, 62.0365, -30.5113, 2165,    601.0,   4.4476,  34.9094,2,  34.9100,2,    270.6,2,    273.5,2,    10.42,2,    16.88,2,     0.01,2,     1.12,2,    3.741,2,    1.886,2, -999.000,9,-999.0000,9,  -999.00,9,   2157.9,2,    753.8,2,   2307.4,2,     7.72,2,25,   20.00,   -999,-999.0000,-999.000,  4.4015,-999.000
     316N151_2,   A24,    83,  1,     19,     19,2,19970615,1940, 62.0365, -30.5113, 2165,    698.4,   4.1122,  34.8913,2,  34.8925,2,    286.0,2,    281.5,2,    10.32,2,    16.74,2,     0.00,2,     1.11,2,    3.904,2,    1.964,2, -999.000,9,-999.0000,9,  -999.00,9,   2154.9,2,    750.5,2,   2305.9,2,     7.72,2,25,   20.00,   -999,-999.0000,-999.000,  4.0599,-999.000
     316N151_2,   A24,    83,  1,     18,     18,2,19970615,1940, 62.0365, -30.5113, 2165,    784.9,   3.8553,  34.8744,2,  34.8736,2,    288.4,2,    288.6,2,    10.22,2,    16.64,2,     0.00,2,     1.10,2,    4.149,2,    2.082,2, -999.000,9,-999.0000,9,  -999.00,9,   2151.8,3,    751.8,2,   2306.5,2,     7.72,2,25,   20.00,   -999,-999.0000,-999.000,  3.7976,-999.000
     316N151_2,   A24,    83,  1,     17,     17,2,19970615,1940, 62.0365, -30.5113, 2165,    861.0,   3.7981,  34.8838,2,  34.8837,2,    279.5,2,    280.6,2,    11.18,2,    17.06,2,     0.00,2,     1.13,2,    3.745,2,    1.846,2, -999.000,9,-999.0000,9,  -999.00,9,   2158.6,2,   -999.0,9,   2308.5,2,     7.71,2,25, -999.00,   -999,-999.0000,-999.000,  3.7346,-999.000
     316N151_2,   A24,    83,  1,     16,     16,2,19970615,1940, 62.0365, -30.5113, 2165,    938.3,   3.8273,  34.9109,2,  34.9150,2,    274.4,2,    273.5,2,    11.75,3,    17.20,2,     0.00,2,     1.13,2,    3.220,2,    1.578,2, -999.000,9,-999.0000,9,  -999.00,9,   2157.2,2,    768.7,2,   2306.2,2,     7.71,2,25,   20.00,   -999,-999.0000,-999.000,  3.7574,-999.000
     316N151_2,   A24,    83,  1,     15,     15,2,19970615,1940, 62.0365, -30.5113, 2165,   1033.2,   3.7647,  34.9213,2,  34.9231,2,    275.1,2,    274.4,2,    11.84,3,    17.01,2,     0.00,2,     1.12,2,    3.070,2,    1.481,2, -999.000,9,-999.0000,9,  -999.00,9,   2159.6,2,    761.5,2,   2307.2,2,     7.71,2,25,   20.00,   -999,-999.0000,-999.000,  3.6874,-999.000
     316N151_2,   A24,    83,  1,     14,     14,2,19970615,1940, 62.0365, -30.5113, 2165,   1127.9,   3.6912,  34.9204,2,  34.9197,2,    277.9,2,    275.9,2,    11.84,3,    16.96,2,     0.00,2,     1.11,2,    3.054,2,    1.483,2, -999.000,9,-999.0000,9,  -999.00,9,   2158.0,2,    760.5,2,   2306.6,2,     7.71,2,25,   20.00,   -999,-999.0000,-999.000,  3.6066,-999.000
     316N151_2,   A24,    83,  1,     13,     13,2,19970615,1940, 62.0365, -30.5113, 2165,   1223.2,   3.5073,  34.9030,2,  34.9026,2,    279.8,2,    281.0,2,    11.93,3,    16.96,2,     0.00,2,     1.11,2, -999.000,9, -999.000,9, -999.000,9,-999.0000,9,  -999.00,9,   2159.0,2,    760.7,2,   2306.6,2,     7.71,2,25,   20.00,   -999,-999.0000,-999.000,  3.4165,-999.000
     316N151_2,   A24,    83,  1,     12,     12,2,19970615,1940, 62.0365, -30.5113, 2165,   1320.6,   3.4531,  34.9016,2,  34.9024,2,    284.1,2,    282.1,2,    11.08,2,    16.82,2,     0.00,2,     1.10,2,    3.216,2,    1.550,2, -999.000,9,-999.0000,9,  -999.00,9,   2156.8,2,    759.9,2,   2304.3,2,     7.71,2,25,   20.00,   -999,-999.0000,-999.000,  3.3547,-999.000
     316N151_2,   A24,    83,  1,     11,     11,2,19970615,1940, 62.0365, -30.5113, 2165,   1419.8,   3.3300,  34.8905,2,  34.8906,2,    285.0,2,    286.3,2,    10.98,2,    16.72,2,     0.00,2,     1.10,2, -999.000,9, -999.000,9, -999.000,9,-999.0000,9,  -999.00,9,   2153.3,2,   -999.0,9,   2307.3,2,     7.71,2,25, -999.00,   -999,-999.0000,-999.000,  3.2245,-999.000
     316N151_2,   A24,    83,  1,     10,     10,2,19970615,1940, 62.0365, -30.5113, 2165,   1518.2,   3.2158,  34.8798,2,  34.8794,2,    289.5,2,    290.1,2,    10.95,2,    16.76,2,     0.00,2,     1.10,2,    3.551,2,    1.715,2, -999.000,9,-999.0000,9,  -999.00,9,   2156.3,2,    756.7,2,   2303.9,2,     7.72,2,25,   20.00,   -999,-999.0000,-999.000,  3.1031,-999.000
     316N151_2,   A24,    83,  1,      9,      9,2,19970615,1940, 62.0365, -30.5113, 2165,   1629.0,   3.1242,  34.8731,2,  34.8732,2,    292.0,2,    292.6,2,    10.84,2,    16.66,2,     0.00,2,     1.10,2,    3.599,2,    1.737,2, -999.000,9,-999.0000,9,  -999.00,9,   2154.5,2,    754.1,2,   2309.2,2,     7.72,2,25,   20.00,   -999,-999.0000,-999.000,  3.0031,-999.000
     316N151_2,   A24,    83,  1,      8,      8,2,19970615,1940, 62.0365, -30.5113, 2165,   1719.3,   3.0852,  34.8718,2,  34.8720,2,    294.0,2,    292.3,2,    10.93,2,    16.61,2,     0.00,2,     1.10,2,    3.477,2,    1.692,2, -999.000,9,-999.0000,9,  -999.00,9,   2154.7,2,    753.6,2,   2309.3,2,     7.72,2,25,   20.00,   -999,-999.0000,-999.000,  2.9568,-999.000
     316N151_2,   A24,    83,  1,      7,      7,2,19970615,1940, 62.0365, -30.5113, 2165,   1820.1,   3.0547,  34.8762,2,  34.8763,2,    289.9,2,    291.0,2,    10.83,2,    16.60,2,     0.00,2,     1.10,2, -999.000,9, -999.000,9, -999.000,9,-999.0000,9,  -999.00,9,   2156.9,2,    750.0,2,   2305.7,2,     7.72,2,25,   20.00,   -999,-999.0000,-999.000,  2.9178,-999.000
     316N151_2,   A24,    83,  1,      6,      6,2,19970615,1940, 62.0365, -30.5113, 2165,   1891.0,   3.0563,  34.8848,2,  34.8850,2,    288.4,2,    288.4,2,    11.50,2,    16.55,2,     0.00,2,     1.10,2,    3.087,2,    1.494,2, -999.000,9,-999.0000,9,  -999.00,9,   2155.9,2,   -999.0,9,   2303.6,2,     7.71,3,25, -999.00,   -999,-999.0000,-999.000,  2.9130,-999.000
     316N151_2,   A24,    83,  1,      5,      5,2,19970615,1940, 62.0365, -30.5113, 2165,   1970.6,   3.0463,  34.8898,2,  34.8895,2,    285.2,2,    286.9,2,    11.69,2,    16.50,2,     0.00,2,     1.09,2,    2.935,2,    1.416,2, -999.000,9,-999.0000,9,  -999.00,9,   2156.8,2,    749.2,2,   2315.0,4,     7.71,2,25,   20.00,   -999,-999.0000,-999.000,  2.8959,-999.000
     316N151_2,   A24,    83,  1,      4,      4,2,19970615,1940, 62.0365, -30.5113, 2165,   2020.3,   3.0415,  34.8921,2,  34.8917,2,    284.4,2,    286.2,2,    11.78,2,    16.50,2,     0.00,2,     1.09,2,    2.883,2,    1.371,2, -999.000,9,-999.0000,9,  -999.00,9,   2156.5,2,    750.1,2,   2305.8,2,     7.72,2,25,   20.00,   -999,-999.0000,-999.000,  2.8866,-999.000
     316N151_2,   A24,    83,  1,      3,      3,2,19970615,1940, 62.0365, -30.5113, 2165,   2071.5,   3.0370,  34.8948,2,  34.8945,2,    283.7,2,    285.5,2,    11.97,2,    16.45,2,     0.00,2,     1.09,2, -999.000,9, -999.000,9, -999.000,9,-999.0000,9,  -999.00,9,   2156.8,2,   -999.0,9,   2305.5,2,     7.71,2,25, -999.00,   -999,-999.0000,-999.000,  2.8775,-999.000
     316N151_2,   A24,    83,  1,      2,      2,2,19970615,1940, 62.0365, -30.5113, 2165,   2120.6,   3.0355,  34.8966,2,  34.8957,2,    284.5,2,    285.1,2,    11.96,2,    16.45,2,     0.00,2,     1.09,2,    2.702,2,    1.315,2, -999.000,9,-999.0000,9,  -999.00,9,   2156.5,2,    749.6,2,   2306.5,2,     7.71,2,25,   20.00,   -999,-999.0000,-999.000,  2.8714,-999.000
     316N151_2,   A24,    83,  1,      1,      1,2,19970615,1940, 62.0365, -30.5113, 2165,   2171.2,   3.0357,  34.8986,2,  34.8985,2,    283.3,2,    282.9,2,    12.14,2,    16.43,2,     0.00,2,     1.09,2,    2.668,2,    1.273,2, -999.000,9,-999.0000,9,  -999.00,9,   2154.5,2,    750.5,2,   2306.7,2,     7.72,2,25,   20.00,   -999,-999.0000,-999.000,  2.8669,-999.000