BOTTLE,20220629CCHSIOAMB
EXPOCODE,SECT_ID,STNNBR,CASTNO,SAMPNO,BTLNBR,BTLNBR_FLAG_W,DATE,TIME,LATITUDE,LONGITUDE,DEPTH,CTDPRS,CTDTMP,CTDSAL,CTDSAL_FLAG_W,SALNTY,SALNTY_FLAG_W,CTDOXY,CTDOXY_FLAG_W,OXYGEN,OXYGEN_FLAG_W,SILCAT,SILCAT_FLAG_W,NITRAT,NITRAT_FLAG_W,NITRIT,NITRIT_FLAG_W,PHSPHT,PHSPHT_FLAG_W,CFC-11,CFC-11_FLAG_W,CFC-12,CFC-12_FLAG_W,TRITUM,TRITUM_FLAG_W,HELIUM,HELIUM_FLAG_W,DELHE3,DELHE3_FLAG_W,TCARBN,TCARBN_FLAG_W,PCO2,PCO2_FLAG_W,ALKALI,ALKALI_FLAG_W,PH,PH_FLAG_W,PH_TMP,PCO2TMP,CTDRAW,HELIER,DELHER,THETA,TRITER
,,,,,,,,,,,,DBAR,ITS-90,PSS-78,,PSS-78,,UMOL/KG,,UMOL/KG,,UMOL/KG,,UMOL/KG,,UMOL/KG,,UMOL/KG,,PMOL/KG,,PMOL/KG,,TU,,NMOL/KG,,PERCNT,,UMOL/KG,,UATM,,UMOL/KG,,,,DEG C,DEG C,,NMOL/KG,PERCNT,DEG C,TU
     316N151_2,   A24,    20,  1,     31,     31,2,19970604,0018, 45.1343, -17.8010, 4547,      2.5,  15.8840,  35.7204,2,  35.7235,2,    153.1,2,    252.5,2,     0.48,2,     0.05,2,     0.00,2,     0.06,2,    2.944,2,    1.557,2, -999.000,9,-999.0000,9,  -999.00,9,   2071.1,2,    385.7,2,   2349.0,6,     7.97,6,25,   20.00,   -999,-999.0000,-999.000, 15.8836,-999.000
     316N151_2,   A24,    20,  1,     30,     30,2,19970604,0018, 45.1343, -17.8010, 4547,     46.1,  13.9783,  35.7662,2,  35.7635,2,    247.4,2,    244.3,2,     1.11,2,     3.26,2,     0.14,2,     0.26,2,    3.167,2,    1.692,2, -999.000,9,-999.0000,9,  -999.00,9,   2101.4,2,    453.1,2,   2351.0,2,     7.91,2,25,   20.00,   -999,-999.0000,-999.000, 13.9717,-999.000
     316N151_2,   A24,    20,  1,     29,     29,2,19970604,0018, 45.1343, -17.8010, 4547,     86.7,  12.7622,  35.7165,2,  35.7207,2,    240.0,2,    247.5,2,     2.17,2,     6.29,2,     0.02,2,     0.41,2,    3.266,2,    1.764,2, -999.000,9,-999.0000,9,  -999.00,9,   2114.3,2,    489.1,2,   2354.1,2,     7.88,2,25,   20.00,   -999,-999.0000,-999.000, 12.7504,-999.000
     316N151_2,   A24,    20,  1,     28,     28,2,19970604,0018, 45.1343, -17.8010, 4547,    136.9,  12.5612,  35.7035,2,  35.7039,2,    241.8,2,    248.9,2,     2.48,2,     7.04,2,     0.01,2,     0.45,2,    3.268,2,    1.759,2, -999.000,9,-999.0000,9,  -999.00,9,   2116.7,2,    494.9,2,   2344.9,2,     7.87,2,25,   20.00,   -999,-999.0000,-999.000, 12.5427,-999.000
     316N151_2,   A24,    20,  1,     27,     27,2,19970604,0018, 45.1343, -17.8010, 4547,    207.0,  12.2242,  35.6600,2,  35.6623,2,    246.3,2,    244.2,2,     3.00,2,     8.28,2,     0.00,2,     0.52,2,    3.212,2,    1.723,2, -999.000,9,-999.0000,9,  -999.00,9,   2121.4,2,    508.3,2,   2343.2,2,     7.86,2,25,   20.00,   -999,-999.0000,-999.000, 12.1966,-999.000
     316N151_2,   A24,    20,  1,     26,     26,2,19970604,0018, 45.1343, -17.8010, 4547,    307.6,  11.6400,  35.5813,2,  35.5805,2,    233.8,2,    230.7,2,     4.28,2,    11.04,2,     0.00,2,     0.68,2,    3.143,2,    1.635,2, -999.000,9,-999.0000,9,  -999.00,9,   2134.0,2,    558.4,2,   2338.4,2,     7.83,2,25,   20.00,   -999,-999.0000,-999.000, 11.6002,-999.000
     316N151_2,   A24,    20,  1,     25,     25,2,19970604,0018, 45.1343, -17.8010, 4547,    417.9,  11.1585,  35.5209,2,  35.5180,2,    228.3,2,    229.4,2,     4.80,2,    11.98,2,     0.00,2,     0.74,2, -999.000,9, -999.000,9, -999.000,9,-999.0000,9,  -999.00,9,   2137.5,2,    577.7,2,   2337.3,2,     7.81,2,25,   20.00,   -999,-999.0000,-999.000, 11.1057,-999.000
     316N151_2,   A24,    20,  1,     24,     24,2,19970604,0018, 45.1343, -17.8010, 4547,    528.4,  10.6403,  35.4668,2,  35.4764,2,    223.0,2,    221.5,2,     5.75,2,    13.56,2,     0.01,2,     0.85,2,    2.950,2,    1.499,2, -999.000,9,-999.0000,9,  -999.00,9,   2146.7,2,    615.9,2,   2333.5,2,     7.79,2,25,   20.00,   -999,-999.0000,-999.000, 10.5751,-999.000
     316N151_2,   A24,    20,  1,     23,     23,2,19970604,0018, 45.1343, -17.8010, 4547,    638.7,  10.0920,  35.4249,2,  35.4259,2,    218.2,2,    212.7,2,     7.24,2,    15.09,2,     0.00,2,     0.95,2,    2.621,2,    1.321,2, -999.000,9,-999.0000,9,  -999.00,9,   2155.5,2,    647.2,2,   2334.2,2,     7.76,2,25,   20.00,   -999,-999.0000,-999.000, 10.0154,-999.000
     316N151_2,   A24,    20,  1,     22,     22,2,19970604,0018, 45.1343, -17.8010, 4547,    759.5,   9.9892,  35.5388,2,  35.5411,2,    199.5,2,    194.9,2,     8.62,2,    16.53,2,     0.00,2,     1.03,2,    1.929,2,    0.963,2, -999.000,9,-999.0000,9,  -999.00,9,   2171.9,2,   -999.0,9,   2343.4,2,     7.75,2,25, -999.00,   -999,-999.0000,-999.000,  9.8980,-999.000
     316N151_2,   A24,    20,  1,     21,     21,2,19970604,0018, 45.1343, -17.8010, 4547,    850.2,   9.1440,  35.4409,2,  35.4490,2,    194.6,2,    193.8,2,     9.89,2,    17.62,2,     0.00,2,     1.11,2,    1.769,2,    0.880,2, -999.000,9,-999.0000,9,  -999.00,9,   2177.0,2,    707.2,2,   2344.7,2,     7.74,2,25,   20.00,   -999,-999.0000,-999.000,  9.0467,-999.000
     316N151_2,   A24,    20,  1,     20,     20,2,19970604,0018, 45.1343, -17.8010, 4547,    990.9,   9.7226,  35.7818,2,  35.7756,2,    188.9,2,    189.0,2,     9.99,2,    16.87,2,     0.00,2,     1.05,2,    1.327,2,    0.681,2, -999.000,9,-999.0000,9,  -999.00,9,   2188.7,2,    676.8,4,   2364.2,2,     7.76,3,25,   20.00,   -999,-999.0000,-999.000,  9.6038,-999.000
     316N151_2,   A24,    20,  1,     19,     19,2,19970604,0018, 45.1343, -17.8010, 4547,   1061.0,   8.3665,  35.5225,2,  35.5294,2,    194.2,2,    198.8,2,    10.84,2,    17.76,2,     0.00,2,     1.12,2,    1.449,2,    0.722,2, -999.000,9,-999.0000,9,  -999.00,9,   2183.6,2,    706.1,2,   2347.9,3,     7.74,2,25,   20.00,   -999,-999.0000,-999.000,  8.2496,-999.000
     316N151_2,   A24,    20,  1,     18,     18,2,19970604,0018, 45.1343, -17.8010, 4547,   1161.8,   8.1337,  35.5673,2,  35.5699,2,    201.2,2,    203.9,2,    10.83,2,    17.51,2,     0.00,2,     1.11,2, -999.000,9, -999.000,9, -999.000,9,-999.0000,9,  -999.00,9,   2187.6,2,    708.2,2,   2351.5,2,     7.74,2,25,   20.00,   -999,-999.0000,-999.000,  8.0068,-999.000
     316N151_2,   A24,    20,  1,     17,     17,2,19970604,0018, 45.1343, -17.8010, 4547,   1262.2,   7.6535,  35.5440,2,  35.5431,2,    215.8,2,    211.4,2,    11.14,2,    17.47,2,     0.00,2,     1.11,2,    1.256,2,    0.642,2, -999.000,9,-999.0000,9,  -999.00,9,   2185.7,2,    707.4,2,   2350.6,2,     7.74,3,25,   20.00,   -999,-999.0000,-999.000,  7.5193,-999.000
     316N151_2,   A24,    20,  1,     16,     16,2,19970604,0018, 45.1343, -17.8010, 4547,   1363.1,   5.5169,  35.1487,2,  35.1343,2,    236.8,2,    238.0,2,    11.67,2,    18.11,2,     0.00,2,     1.18,2,    1.808,2,    0.875,2, -999.000,9,-999.0000,9,  -999.00,9,   2172.6,2,   -999.0,9,   2320.9,3,     7.71,2,25, -999.00,   -999,-999.0000,-999.000,  5.3931,-999.000
     316N151_2,   A24,    20,  1,     15,     15,2,19970604,0018, 45.1343, -17.8010, 4547,   1464.9,   5.1654,  35.1271,2,  35.1201,2,    244.5,2,    243.6,2,    11.77,2,    17.92,2,     0.00,2,     1.17,2,    1.661,2,    0.813,2, -999.000,9,-999.0000,9,  -999.00,9,   2170.5,2,    748.8,2,   2320.3,2,     7.72,2,25,   20.00,   -999,-999.0000,-999.000,  5.0353,-999.000
     316N151_2,   A24,    20,  1,     14,     14,2,19970604,0018, 45.1343, -17.8010, 4547,   1616.1,   4.7015,  35.0801,2,  35.0779,2,    254.0,2,    252.6,2,    12.08,2,    17.82,2,     0.00,2,     1.16,2,    1.489,2,    0.723,2, -999.000,9,-999.0000,9,  -999.00,9,   2166.4,2,   -999.0,9,   2317.5,2,     7.71,2,25, -999.00,   -999,-999.0000,-999.000,  4.5619,-999.000
     316N151_2,   A24,    20,  1,     13,     13,2,19970604,0018, 45.1343, -17.8010, 4547,   1818.9,   3.7483,  34.9376,2,  34.9372,2,    267.0,2,    270.6,2,    11.87,2,    17.47,2,     0.00,2,     1.15,2,    1.782,2,    0.863,2, -999.000,9,-999.0000,9,  -999.00,9,   2159.8,2,    740.2,2,   2310.4,2,     7.72,2,25,   20.00,   -999,-999.0000,-999.000,  3.6018,-999.000
     316N151_2,   A24,    20,  1,     12,     12,2,19970604,0018, 45.1343, -17.8010, 4547,   2022.0,   3.6166,  34.9400,2,  34.9382,2,    272.8,2,    270.7,2,    12.93,2,    17.42,2,     0.00,2,     1.15,2,    1.409,2,    0.690,2, -999.000,9,-999.0000,9,  -999.00,9,   2159.0,2,    741.2,2,   2309.8,2,     7.71,2,25,   20.00,   -999,-999.0000,-999.000,  3.4527,-999.000
     316N151_2,   A24,    20,  1,     11,     11,2,19970604,0018, 45.1343, -17.8010, 4547,   2428.3,   3.3404,  34.9621,2,  34.9610,2,    263.0,2,    262.0,2,    18.46,2,    18.07,2,     0.00,2,     1.21,2,    0.563,2,    0.291,2, -999.000,9,-999.0000,9,  -999.00,9,   2165.7,2,    738.7,2,   2317.2,2,     7.72,2,25,   20.00,   -999,-999.0000,-999.000,  3.1414,-999.000
     316N151_2,   A24,    20,  1,     10,     10,2,19970604,0018, 45.1343, -17.8010, 4547,   2631.1,   3.1568,  34.9643,2,  34.9632,2,    256.7,2,    256.2,2,    23.58,2,    18.91,2,     0.00,2,     1.27,2,    0.284,2,    0.147,2, -999.000,9,-999.0000,9,  -999.00,9,   2174.2,2,   -999.0,9,   2326.5,2,     7.71,2,25, -999.00,   -999,-999.0000,-999.000,  2.9407,-999.000
     316N151_2,   A24,    20,  1,      9,      9,2,19970604,0018, 45.1343, -17.8010, 4547,   2834.3,   2.9839,  34.9558,2,  34.9547,2,    253.6,2,    253.2,2,    27.30,2,    19.50,2,     0.00,2,     1.31,2,    0.189,2,    0.104,2, -999.000,9,-999.0000,9,  -999.00,9,   2178.7,2,    745.0,2,   2334.6,2,     7.72,2,25,   20.00,   -999,-999.0000,-999.000,  2.7506,-999.000
     316N151_2,   A24,    20,  1,      8,      8,2,19970604,0018, 45.1343, -17.8010, 4547,   3041.0,   2.8403,  34.9463,2,  34.9451,2,    248.8,2,    250.7,2,    30.60,2,    19.95,2,     0.00,2,     1.35,2,    0.155,2,    0.077,2, -999.000,9,-999.0000,9,  -999.00,9,   2183.7,2,    749.8,2,   2336.5,2,     7.71,2,25,   20.00,   -999,-999.0000,-999.000,  2.5886,-999.000
     316N151_2,   A24,    20,  1,      7,      7,2,19970604,0018, 45.1343, -17.8010, 4547,   3247.4,   2.7272,  34.9366,2,  34.9368,2,    246.0,2,    248.7,2,    33.48,2,    20.34,2,     0.00,2,     1.38,2, -999.000,9, -999.000,9, -999.000,9,-999.0000,9,  -999.00,9,   2188.4,2,    753.6,2,   2341.5,2,     7.72,2,25,   20.00,   -999,-999.0000,-999.000,  2.4563,-999.000
     316N151_2,   A24,    20,  1,      6,      6,2,19970604,0018, 45.1343, -17.8010, 4547,   3447.7,   2.6552,  34.9283,2,  34.9266,2,    244.1,2,    245.8,2,    36.89,2,    20.99,2,     0.00,2,     1.42,2,    0.120,2,    0.068,2, -999.000,9,-999.0000,9,  -999.00,9,   2193.8,2,   -999.0,9,   2345.0,2,     7.71,2,25, -999.00,   -999,-999.0000,-999.000,  2.3645,-999.000
     316N151_2,   A24,    20,  1,      5,      5,2,19970604,0018, 45.1343, -17.8010, 4547,   3649.8,   2.5948,  34.9209,2,  34.9191,2,    243.0,2,    243.1,2,    39.76,2,    21.44,2,     0.00,2,     1.45,2, -999.000,9, -999.000,9, -999.000,9,-999.0000,9,  -999.00,9,   2198.0,2,    760.4,2,   2348.0,2,     7.71,2,25,   20.00,   -999,-999.0000,-999.000,  2.2835,-999.000
     316N151_2,   A24,    20,  1,      4,      4,2,19970604,0018, 45.1343, -17.8010, 4547,   3854.4,   2.5769,  34.9166,2,  34.9179,4,    242.3,2,    241.7,2,    41.14,2,    21.83,2,     0.00,2,     1.47,2,    0.072,2,    0.039,2, -999.000,9,-999.0000,9,  -999.00,9,   2199.5,2,   -999.0,9,   2351.2,2,     7.71,2,25, -999.00,   -999,-999.0000,-999.000,  2.2431,-999.000
     316N151_2,   A24,    20,  1,      3,      3,2,19970604,0018, 45.1343, -17.8010, 4547,   4110.0,   2.5743,  34.9126,2,  34.9118,2,    240.2,2,    240.9,2,    42.20,2,    21.93,2,     0.00,2,     1.48,2, -999.000,9, -999.000,9, -999.000,9,-999.0000,9,  -999.00,9,   2203.1,2,    756.2,2,   2354.2,2,     7.71,2,25,   20.00,   -999,-999.0000,-999.000,  2.2112,-999.000
     316N151_2,   A24,    20,  1,      2,      2,2,19970604,0018, 45.1343, -17.8010, 4547,   4365.5,   2.5834,  34.9102,2,  34.9095,2,    240.5,2,    240.2,2,    42.94,2,    22.08,2,     0.00,2,     1.48,2,    0.049,2,    0.035,2, -999.000,9,-999.0000,9,  -999.00,9,   2201.7,2,   -999.0,9,   2355.1,2,     7.71,2,25, -999.00,   -999,-999.0000,-999.000,  2.1897,-999.000
     316N151_2,   A24,    20,  1,      1,      1,2,19970604,0018, 45.1343, -17.8010, 4547,   4610.5,   2.6056,  34.9088,2,  34.9087,2,    240.5,2,    246.0,4,    43.37,2,    22.18,2,     0.00,2,     1.50,2,    0.041,2,    0.036,2, -999.000,9,-999.0000,9,  -999.00,9,   2205.0,2,    763.9,2,   2353.5,2,     7.71,2,25,   20.00,   -999,-999.0000,-999.000,  2.1815,-999.000