BOTTLE,20220629CCHSIOAMB
EXPOCODE,SECT_ID,STNNBR,CASTNO,SAMPNO,BTLNBR,BTLNBR_FLAG_W,DATE,TIME,LATITUDE,LONGITUDE,DEPTH,CTDPRS,CTDTMP,CTDSAL,CTDSAL_FLAG_W,SALNTY,SALNTY_FLAG_W,CTDOXY,CTDOXY_FLAG_W,OXYGEN,OXYGEN_FLAG_W,SILCAT,SILCAT_FLAG_W,NITRAT,NITRAT_FLAG_W,NITRIT,NITRIT_FLAG_W,PHSPHT,PHSPHT_FLAG_W,CFC-11,CFC-11_FLAG_W,CFC-12,CFC-12_FLAG_W,TRITUM,TRITUM_FLAG_W,HELIUM,HELIUM_FLAG_W,DELHE3,DELHE3_FLAG_W,TCARBN,TCARBN_FLAG_W,PCO2,PCO2_FLAG_W,ALKALI,ALKALI_FLAG_W,PH,PH_FLAG_W,PH_TMP,PCO2TMP,CTDRAW,HELIER,DELHER,THETA,TRITER
,,,,,,,,,,,,DBAR,ITS-90,PSS-78,,PSS-78,,UMOL/KG,,UMOL/KG,,UMOL/KG,,UMOL/KG,,UMOL/KG,,UMOL/KG,,PMOL/KG,,PMOL/KG,,TU,,NMOL/KG,,PERCNT,,UMOL/KG,,UATM,,UMOL/KG,,,,DEG C,DEG C,,NMOL/KG,PERCNT,DEG C,TU
     316N151_2,   A24,   144,  1,     24,     24,2,19970627,1210, 41.5667, -28.3840, 2483,      2.8,  19.1304,  35.9396,2,  35.9414,2,     76.9,2,    239.1,2,     0.70,2,     0.05,2,     0.00,2,     0.05,2,    2.594,2,    1.445,2, -999.000,9,-999.0000,9,  -999.00,9,   2067.7,2,    372.0,2,   2358.9,2,     7.98,2,25,   20.00,   -999,-999.0000,-999.000, 19.1299,-999.000
     316N151_2,   A24,   144,  1,     23,     23,2,19970627,1210, 41.5667, -28.3840, 2483,     28.9,  16.8984,  35.8862,2,  35.8916,2,    208.2,2,    246.8,2,     0.79,2,     0.05,2,     0.00,2,     0.05,2,    2.794,2,    1.532,2, -999.000,9,-999.0000,9,  -999.00,9,   2065.6,2,    370.4,2,   2356.7,6,     7.98,2,25,   20.00,   -999,-999.0000,-999.000, 16.8936,-999.000
     316N151_2,   A24,   144,  1,     22,     22,2,19970627,1210, 41.5667, -28.3840, 2483,     69.4,  15.7769,  35.8866,2,  35.8786,2,    264.4,2,    243.6,2,     0.87,2,     0.55,2,     0.05,2,     0.09,2,    2.822,2,    1.539,2, -999.000,9,-999.0000,9,  -999.00,9,   2073.5,2,    388.2,2,   2355.2,2,     7.96,2,25,   20.00,   -999,-999.0000,-999.000, 15.7660,-999.000
     316N151_2,   A24,   144,  1,     21,     21,2,19970627,1210, 41.5667, -28.3840, 2483,    104.3,  14.3888,  35.9000,2,  35.9102,2,    275.7,2,    234.7,2,     1.87,2,     5.75,2,     0.05,2,     0.35,2,    2.937,2,    1.599,2, -999.000,9,-999.0000,9,  -999.00,9,   2103.6,2,    453.8,2,   2354.9,2,     7.91,2,25,   20.00,   -999,-999.0000,-999.000, 14.3734,-999.000
     316N151_2,   A24,   144,  1,     20,     20,2,19970627,1210, 41.5667, -28.3840, 2483,    154.7,  13.6367,  35.8551,2,  35.8547,2,    249.3,2,    233.8,2,     2.76,2,     7.76,2,     0.02,2,     0.46,2,    2.934,2,    1.603,2, -999.000,9,-999.0000,9,  -999.00,9,   2112.8,2,    478.8,2,   2352.7,2,     7.88,2,25,   20.00,   -999,-999.0000,-999.000, 13.6146,-999.000
     316N151_2,   A24,   144,  1,     19,     19,2,19970627,1210, 41.5667, -28.3840, 2483,    204.4,  13.2087,  35.7987,2,  35.7996,2,    238.4,2,    238.0,2,     2.95,2,     8.18,2,     0.02,2,     0.50,2,    3.015,2,    1.621,2, -999.000,9,-999.0000,9,  -999.00,9,   2115.9,2,   -999.0,9,   2350.4,2,     7.88,2,25, -999.00,   -999,-999.0000,-999.000, 13.1801,-999.000
     316N151_2,   A24,   144,  1,     18,     18,2,19970627,1210, 41.5667, -28.3840, 2483,    274.5,  12.7694,  35.7405,2,  35.7423,2,    235.1,2,    235.8,2,     3.44,2,     9.15,2,     0.01,2,     0.56,2,    2.991,2,    1.610,2, -999.000,9,-999.0000,9,  -999.00,9,   2119.4,2,    504.6,2,   2347.1,2,     7.87,2,25,   20.00,   -999,-999.0000,-999.000, 12.7317,-999.000
     316N151_2,   A24,   144,  1,     17,     17,2,19970627,1210, 41.5667, -28.3840, 2483,    334.8,  12.3227,  35.6640,2,  35.6644,2,    234.0,2,    226.6,2,     4.13,2,    10.59,2,     0.01,2,     0.65,2,    2.920,2,    1.540,2, -999.000,9,-999.0000,9,  -999.00,9,   2127.2,2,    535.5,2,   2344.1,2,     7.84,2,25,   20.00,   -999,-999.0000,-999.000, 12.2777,-999.000
     316N151_2,   A24,   144,  1,     16,     16,2,19970627,1210, 41.5667, -28.3840, 2483,    404.6,  11.7231,  35.5607,2,  35.5615,2,    219.6,2,    210.2,2,     5.63,2,    13.08,2,     0.00,2,     0.81,2,    2.591,2,    1.355,2, -999.000,9,-999.0000,9,  -999.00,9,   2140.1,2,    581.7,2,   2337.6,2,     7.81,2,25,   20.00,   -999,-999.0000,-999.000, 11.6704,-999.000
     316N151_2,   A24,   144,  1,     15,     15,2,19970627,1210, 41.5667, -28.3840, 2483,    506.1,  10.8842,  35.4595,2,  35.4586,2,    216.0,2,    210.1,2,     6.32,2,    14.29,2,     0.00,2,     0.89,2,    2.659,2,    1.365,2, -999.000,9,-999.0000,9,  -999.00,9,   2144.4,2,    616.4,2,   2334.1,2,     7.79,2,25,   20.00,   -999,-999.0000,-999.000, 10.8210,-999.000
     316N151_2,   A24,   144,  1,     14,     14,2,19970627,1210, 41.5667, -28.3840, 2483,    606.2,   9.9663,  35.3705,2,  35.3681,2,    213.6,2,    203.2,2,     7.92,2,    16.23,2,     0.00,2,     1.02,2,    2.372,2,    1.186,2, -999.000,9,-999.0000,9,  -999.00,9,   2155.2,2,    664.8,2,   2328.7,2,     7.76,2,25,   20.00,   -999,-999.0000,-999.000,  9.8943,-999.000
     316N151_2,   A24,   144,  1,     13,     13,2,19970627,1210, 41.5667, -28.3840, 2483,    706.3,   9.2754,  35.3474,2,  35.3429,2,    199.4,2,    193.1,2,     9.52,2,    17.81,2,     0.00,2,     1.13,2,    1.863,2,    0.939,2, -999.000,9,-999.0000,9,  -999.00,9,   2165.1,2,    705.2,2,   2330.0,2,     7.74,2,25,   20.00,   -999,-999.0000,-999.000,  9.1946,-999.000
     316N151_2,   A24,   144,  1,     12,     12,2,19970627,1210, 41.5667, -28.3840, 2483,    806.4,   8.5143,  35.3147,2,  35.3159,2,    193.0,2,    192.3,2,    10.62,2,    18.60,2,     0.00,2,     1.19,2,    1.589,2,    0.798,2, -999.000,9,-999.0000,9,  -999.00,9,   2171.0,2,    737.0,2,   2329.6,2,     7.72,2,25,   20.00,   -999,-999.0000,-999.000,  8.4261,-999.000
     316N151_2,   A24,   144,  1,     11,     11,2,19970627,1210, 41.5667, -28.3840, 2483,    907.6,   7.6914,  35.2743,2,  35.2710,2,    203.3,2,    199.1,2,    11.31,2,    18.88,2,     0.00,2,     1.21,2,    1.534,2,    0.749,2, -999.000,9,-999.0000,9,  -999.00,9,   2173.3,2,    753.8,2,   2329.2,2,     7.71,2,25,   20.00,   -999,-999.0000,-999.000,  7.5971,-999.000
     316N151_2,   A24,   144,  1,     10,     10,2,19970627,1210, 41.5667, -28.3840, 2483,   1058.0,   6.3662,  35.1980,2,  35.1926,2,    226.0,2,    219.6,2,    11.60,2,    18.61,2,     0.00,2,     1.20,2,    1.625,2,    0.788,2, -999.000,9,-999.0000,9,  -999.00,9,   2171.9,2,    759.8,2,   2323.5,2,     7.71,2,25,   20.00,   -999,-999.0000,-999.000,  6.2656,-999.000
     316N151_2,   A24,   144,  1,      9,      9,2,19970627,1210, 41.5667, -28.3840, 2483,   1208.8,   5.6710,  35.1446,2,  35.1434,2,    235.4,2,    232.9,2,    11.69,2,    18.33,2,     0.00,2,     1.19,2,    1.565,2,    0.757,2, -999.000,9,-999.0000,9,  -999.00,9,   2169.8,2,    755.8,2,   2321.7,2,     7.71,2,25,   20.00,   -999,-999.0000,-999.000,  5.5612,-999.000
     316N151_2,   A24,   144,  1,      8,      8,2,19970627,1210, 41.5667, -28.3840, 2483,   1360.7,   4.7399,  35.0372,2,  35.0363,2,    246.6,2,    248.8,2,    11.68,2,    18.05,2,     0.00,2,     1.18,2,    1.706,2,    0.834,2, -999.000,9,-999.0000,9,  -999.00,9,   2165.0,2,    760.7,2,   2313.9,2,     7.71,2,25,   20.00,   -999,-999.0000,-999.000,  4.6245,-999.000
     316N151_2,   A24,   144,  1,      7,      7,2,19970627,1210, 41.5667, -28.3840, 2483,   1512.3,   4.3366,  34.9947,2,  34.9944,2,    256.6,2,    257.9,2,    11.87,2,    17.87,2,     0.00,2,     1.17,2,    1.694,2,    0.815,2, -999.000,9,-999.0000,9,  -999.00,9,   2161.3,2,    759.2,2,   2311.1,2,     7.71,2,25,   20.00,   -999,-999.0000,-999.000,  4.2113,-999.000
     316N151_2,   A24,   144,  1,      6,      6,2,19970627,1210, 41.5667, -28.3840, 2483,   1664.0,   3.9429,  34.9573,2,  34.9572,2,    264.3,2,    264.1,2,    12.26,2,    17.64,2,     0.00,2,     1.17,2,    1.595,2,    0.785,2, -999.000,9,-999.0000,9,  -999.00,9,   2158.8,2,    755.1,2,   2309.0,2,     7.71,2,25,   20.00,   -999,-999.0000,-999.000,  3.8083,-999.000
     316N151_2,   A24,   144,  1,      5,      5,2,19970627,1210, 41.5667, -28.3840, 2483,   1814.9,   3.7672,  34.9447,2,  34.9438,2,    265.8,2,    266.0,2,    12.96,2,    17.64,2,     0.00,2,     1.17,2,    1.552,2,    0.746,2, -999.000,9,-999.0000,9,  -999.00,9,   2157.7,2,    754.4,2,   2309.1,2,     7.72,2,25,   20.00,   -999,-999.0000,-999.000,  3.6208,-999.000
     316N151_2,   A24,   144,  1,      4,      4,2,19970627,1210, 41.5667, -28.3840, 2483,   1966.7,   3.5752,  34.9360,2,  34.9356,2,    269.6,2,    267.4,2,    14.06,2,    17.65,2,     0.00,2,     1.17,2,    1.361,2,    0.672,2, -999.000,9,-999.0000,9,  -999.00,9,   2156.7,2,    751.2,2,   2308.9,2,     7.71,2,25,   20.00,   -999,-999.0000,-999.000,  3.4172,-999.000
     316N151_2,   A24,   144,  1,      3,      3,2,19970627,1210, 41.5667, -28.3840, 2483,   2168.7,   3.4123,  34.9372,2,  34.9370,2,    267.6,2,    266.5,2,    15.86,2,    17.79,2,     0.00,2,     1.18,2,    1.070,2,    0.526,2, -999.000,9,-999.0000,9,  -999.00,9,   2158.7,2,    746.5,2,   2313.2,2,     7.72,2,25,   20.00,   -999,-999.0000,-999.000,  3.2376,-999.000
     316N151_2,   A24,   144,  1,      2,      2,2,19970627,1210, 41.5667, -28.3840, 2483,   2370.9,   3.2650,  34.9352,2,  34.9388,2,    266.7,2,    265.4,2,    18.07,2,    17.97,2,     0.00,2,     1.20,2,    0.843,2,    0.418,2, -999.000,9,-999.0000,9,  -999.00,9,   2161.7,2,    745.0,2,   2316.6,2,     7.71,2,25,   20.00,   -999,-999.0000,-999.000,  3.0730,-999.000
     316N151_2,   A24,   144,  1,      1,      1,2,19970627,1210, 41.5667, -28.3840, 2483,   2525.1,   3.2399,  34.9377,2,  34.9408,2,    263.5,2,    264.5,2,    18.66,2,    18.07,2,     0.00,2,     1.21,2,    0.804,2,    0.399,2, -999.000,9,-999.0000,9,  -999.00,9,   2162.1,2,    742.3,2,   2316.7,2,     7.72,2,25,   20.00,   -999,-999.0000,-999.000,  3.0330,-999.000
     316N151_2,   A24,   145,  1,     26,     26,2,19970627,1540, 41.2505, -28.2310, 2661,      3.2,  19.4068,  35.9830,2,  35.9805,2,    218.2,2,    239.3,2,     0.46,2,     0.02,2,     0.00,2,     0.04,2, -999.000,9, -999.000,9, -999.000,9,-999.0000,9,  -999.00,9,   2068.3,2,    367.3,2,   2361.1,6,     7.98,6,25,   20.00,   -999,-999.0000,-999.000, 19.4063,-999.000
     316N151_2,   A24,   145,  1,     25,     25,2,19970627,1540, 41.2505, -28.2310, 2661,     34.8,  16.6032,  35.9323,2,  35.9297,2,    246.6,2,    247.4,2,     0.45,2,     0.02,2,     0.00,2,     0.05,2, -999.000,9, -999.000,9, -999.000,9,-999.0000,9,  -999.00,9,   -999.0,9,   -999.0,9,   -999.0,9,  -999.00,9,25, -999.00,   -999,-999.0000,-999.000, 16.5975,-999.000
     316N151_2,   A24,   145,  1,     24,     24,2,19970627,1540, 41.2505, -28.2310, 2661,     73.9,  15.3067,  35.9443,2,  35.9430,2,    233.4,2,    236.4,2,     1.14,2,     3.44,2,     0.23,2,     0.23,2, -999.000,9, -999.000,9, -999.000,9,-999.0000,9,  -999.00,9,   -999.0,9,   -999.0,9,   -999.0,9,  -999.00,9,25, -999.00,   -999,-999.0000,-999.000, 15.2954,-999.000
     316N151_2,   A24,   145,  1,     23,     23,2,19970627,1540, 41.2505, -28.2310, 2661,    124.4,  14.0534,  35.8960,2,  35.8997,2,    234.5,2,    232.9,2,     2.13,2,     7.00,2,     0.03,2,     0.43,2, -999.000,9, -999.000,9, -999.000,9,-999.0000,9,  -999.00,9,   -999.0,9,   -999.0,9,   -999.0,9,  -999.00,9,25, -999.00,   -999,-999.0000,-999.000, 14.0352,-999.000
     316N151_2,   A24,   145,  1,     22,     22,2,19970627,1540, 41.2505, -28.2310, 2661,    173.6,  13.5452,  35.8337,2,  35.8341,2,    236.2,2,    235.1,2,     2.41,2,     7.65,2,     0.03,2,     0.47,2, -999.000,9, -999.000,9, -999.000,9,-999.0000,9,  -999.00,9,   -999.0,9,   -999.0,9,   -999.0,9,  -999.00,9,25, -999.00,   -999,-999.0000,-999.000, 13.5205,-999.000
     316N151_2,   A24,   145,  1,     21,     21,2,19970627,1540, 41.2505, -28.2310, 2661,    224.5,  13.2116,  35.7903,2,  35.7901,2,    227.6,2,    230.4,2,     3.00,2,     8.77,2,     0.02,2,     0.54,2, -999.000,9, -999.000,9, -999.000,9,-999.0000,9,  -999.00,9,   -999.0,9,   -999.0,9,   -999.0,9,  -999.00,9,25, -999.00,   -999,-999.0000,-999.000, 13.1802,-999.000
     316N151_2,   A24,   145,  1,     20,     20,2,19970627,1540, 41.2505, -28.2310, 2661,    324.0,  12.5802,  35.7044,2,  35.7072,2,    224.2,2,    226.6,2,     3.69,2,    10.17,2,     0.01,2,     0.62,2, -999.000,9, -999.000,9, -999.000,9,-999.0000,9,  -999.00,9,   -999.0,9,   -999.0,9,   -999.0,9,  -999.00,9,25, -999.00,   -999,-999.0000,-999.000, 12.5361,-999.000
     316N151_2,   A24,   145,  1,     19,     19,2,19970627,1540, 41.2505, -28.2310, 2661,    424.1,  11.8709,  35.5917,2,  35.5951,2,    220.1,2,    217.2,2,     4.79,2,    12.08,2,     0.01,2,     0.75,2, -999.000,9, -999.000,9, -999.000,9,-999.0000,9,  -999.00,9,   -999.0,9,   -999.0,9,   -999.0,9,  -999.00,9,25, -999.00,   -999,-999.0000,-999.000, 11.8151,-999.000
     316N151_2,   A24,   145,  1,     18,     18,2,19970627,1540, 41.2505, -28.2310, 2661,    524.4,  10.8289,  35.4447,2,  35.4505,2,    212.9,2,    207.4,2,     6.39,2,    14.58,2,     0.00,2,     0.91,2, -999.000,9, -999.000,9, -999.000,9,-999.0000,9,  -999.00,9,   -999.0,9,   -999.0,9,   -999.0,9,  -999.00,9,25, -999.00,   -999,-999.0000,-999.000, 10.7636,-999.000
     316N151_2,   A24,   145,  1,     17,     17,2,19970627,1540, 41.2505, -28.2310, 2661,    625.4,   9.7350,  35.3557,2,  35.3586,2,    193.9,2,    198.8,2,     8.39,2,    16.77,2,     0.00,2,     1.06,2, -999.000,9, -999.000,9, -999.000,9,-999.0000,9,  -999.00,9,   -999.0,9,   -999.0,9,   -999.0,9,  -999.00,9,25, -999.00,   -999,-999.0000,-999.000,  9.6617,-999.000
     316N151_2,   A24,   145,  1,     16,     16,2,19970627,1540, 41.2505, -28.2310, 2661,    726.2,   9.2763,  35.3412,2,  35.3395,2,    194.7,2,    194.2,2,     9.29,2,    17.71,2,     0.00,2,     1.13,2, -999.000,9, -999.000,9, -999.000,9,-999.0000,9,  -999.00,9,   -999.0,9,   -999.0,9,   -999.0,9,  -999.00,9,25, -999.00,   -999,-999.0000,-999.000,  9.1932,-999.000
     316N151_2,   A24,   145,  1,     15,     15,2,19970627,1540, 41.2505, -28.2310, 2661,    827.0,   8.4028,  35.2989,2,  35.2948,2,    193.9,2,    193.2,2,    10.58,2,    18.69,2,     0.00,2,     1.20,2, -999.000,9, -999.000,9, -999.000,9,-999.0000,9,  -999.00,9,   -999.0,9,   -999.0,9,   -999.0,9,  -999.00,9,25, -999.00,   -999,-999.0000,-999.000,  8.3129,-999.000
     316N151_2,   A24,   145,  1,     14,     14,2,19970627,1540, 41.2505, -28.2310, 2661,    927.2,   7.5605,  35.2667,2,  35.2627,2,    200.8,2,    201.1,2,    11.18,2,    18.84,2,     0.00,2,     1.21,2, -999.000,9, -999.000,9, -999.000,9,-999.0000,9,  -999.00,9,   -999.0,9,   -999.0,9,   -999.0,9,  -999.00,9,25, -999.00,   -999,-999.0000,-999.000,  7.4649,-999.000
     316N151_2,   A24,   145,  1,     13,     13,2,19970627,1540, 41.2505, -28.2310, 2661,   1009.1,   7.1404,  35.2707,2,  35.2731,2,    209.3,2,    208.6,2,    11.36,2,    18.61,2,     0.00,2,     1.20,2, -999.000,9, -999.000,9, -999.000,9,-999.0000,9,  -999.00,9,   -999.0,9,   -999.0,9,   -999.0,9,  -999.00,9,25, -999.00,   -999,-999.0000,-999.000,  7.0389,-999.000
     316N151_2,   A24,   145,  1,     12,     12,2,19970627,1540, 41.2505, -28.2310, 2661,   1109.5,   5.9314,  35.1385,2,  35.1418,2,    223.4,2,    225.3,2,    11.65,2,    18.58,2,     0.00,2,     1.21,2, -999.000,9, -999.000,9, -999.000,9,-999.0000,9,  -999.00,9,   -999.0,9,   -999.0,9,   -999.0,9,  -999.00,9,25, -999.00,   -999,-999.0000,-999.000,  5.8292,-999.000
     316N151_2,   A24,   145,  1,     11,     11,2,19970627,1540, 41.2505, -28.2310, 2661,   1211.3,   5.3628,  35.0905,2,  35.0882,2,    236.4,2,    236.7,2,    11.63,2,    18.40,2,     0.00,2,     1.20,2, -999.000,9, -999.000,9, -999.000,9,-999.0000,9,  -999.00,9,   -999.0,9,   -999.0,9,   -999.0,9,  -999.00,9,25, -999.00,   -999,-999.0000,-999.000,  5.2556,-999.000
     316N151_2,   A24,   145,  1,     10,     10,2,19970627,1540, 41.2505, -28.2310, 2661,   1312.0,   5.1082,  35.0904,2,  35.0888,2,    241.6,2,    242.8,2,    11.72,2,    18.13,2,     0.00,2,     1.18,2, -999.000,9, -999.000,9, -999.000,9,-999.0000,9,  -999.00,9,   -999.0,9,   -999.0,9,   -999.0,9,  -999.00,9,25, -999.00,   -999,-999.0000,-999.000,  4.9937,-999.000
     316N151_2,   A24,   145,  1,      9,      9,2,19970627,1540, 41.2505, -28.2310, 2661,   1464.1,   4.3793,  35.0026,2,  35.0024,2,    253.6,2,    256.4,2,    11.81,2,    17.90,2,     0.00,2,     1.17,2, -999.000,9, -999.000,9, -999.000,9,-999.0000,9,  -999.00,9,   -999.0,9,   -999.0,9,   -999.0,9,  -999.00,9,25, -999.00,   -999,-999.0000,-999.000,  4.2581,-999.000
     316N151_2,   A24,   145,  1,      8,      8,2,19970627,1540, 41.2505, -28.2310, 2661,   1615.1,   4.0595,  34.9688,2,  34.9688,2,    261.1,2,    262.7,2,    12.09,2,    17.77,2,     0.00,2,     1.17,2, -999.000,9, -999.000,9, -999.000,9,-999.0000,9,  -999.00,9,   -999.0,9,   -999.0,9,   -999.0,9,  -999.00,9,25, -999.00,   -999,-999.0000,-999.000,  3.9280,-999.000
     316N151_2,   A24,   145,  1,      7,      7,2,19970627,1540, 41.2505, -28.2310, 2661,   1766.5,   3.8206,  34.9488,2,  34.9481,2,    266.1,2,    266.1,2,    12.79,2,    17.68,2,     0.00,2,     1.17,2, -999.000,9, -999.000,9, -999.000,9,-999.0000,9,  -999.00,9,   -999.0,9,   -999.0,9,   -999.0,9,  -999.00,9,25, -999.00,   -999,-999.0000,-999.000,  3.6781,-999.000
     316N151_2,   A24,   145,  1,      6,      6,2,19970627,1540, 41.2505, -28.2310, 2661,   1918.2,   3.5881,  34.9344,2,  34.9338,2,    269.6,2,    269.6,2,    13.38,2,    17.60,2,     0.00,2,     1.16,2, -999.000,9, -999.000,9, -999.000,9,-999.0000,9,  -999.00,9,   -999.0,9,   -999.0,9,   -999.0,9,  -999.00,9,25, -999.00,   -999,-999.0000,-999.000,  3.4345,-999.000
     316N151_2,   A24,   145,  1,      5,      5,2,19970627,1540, 41.2505, -28.2310, 2661,   2070.4,   3.4547,  34.9337,2,  34.9332,2,    270.5,2,    269.4,2,    14.48,2,    17.61,2,     0.00,2,     1.17,2, -999.000,9, -999.000,9, -999.000,9,-999.0000,9,  -999.00,9,   -999.0,9,   -999.0,9,   -999.0,9,  -999.00,9,25, -999.00,   -999,-999.0000,-999.000,  3.2887,-999.000
     316N151_2,   A24,   145,  1,      4,      4,2,19970627,1540, 41.2505, -28.2310, 2661,   2223.2,   3.3740,  34.9340,2,  34.9350,2,    269.3,2,    268.2,2,    15.78,2,    17.75,2,     0.00,2,     1.18,2, -999.000,9, -999.000,9, -999.000,9,-999.0000,9,  -999.00,9,   -999.0,9,   -999.0,9,   -999.0,9,  -999.00,9,25, -999.00,   -999,-999.0000,-999.000,  3.1946,-999.000
     316N151_2,   A24,   145,  1,      3,      3,2,19970627,1540, 41.2505, -28.2310, 2661,   2374.3,   3.2482,  34.9394,2,  34.9386,2,    267.4,2,    265.5,2,    17.99,2,    17.94,2,     0.00,2,     1.20,2, -999.000,9, -999.000,9, -999.000,9,-999.0000,9,  -999.00,9,   -999.0,9,   -999.0,9,   -999.0,9,  -999.00,9,25, -999.00,   -999,-999.0000,-999.000,  3.0561,-999.000
     316N151_2,   A24,   145,  1,      2,      2,2,19970627,1540, 41.2505, -28.2310, 2661,   2524.8,   3.2132,  34.9405,2,  34.9407,2,    263.8,2,    264.4,2,    18.99,2,    18.09,2,     0.00,2,     1.21,2, -999.000,9, -999.000,9, -999.000,9,-999.0000,9,  -999.00,9,   -999.0,9,   -999.0,9,   -999.0,9,  -999.00,9,25, -999.00,   -999,-999.0000,-999.000,  3.0069,-999.000
     316N151_2,   A24,   145,  1,      1,      1,2,19970627,1540, 41.2505, -28.2310, 2661,   2688.5,   3.1793,  34.9387,2,  34.9415,2,    260.7,2,    261.1,2,    19.99,2,    18.24,2,     0.00,2,     1.22,2, -999.000,9, -999.000,9, -999.000,9,-999.0000,9,  -999.00,9,   -999.0,9,   -999.0,9,   -999.0,9,  -999.00,9,25, -999.00,   -999,-999.0000,-999.000,  2.9571,-999.000