BOTTLE,20220629CCHSIOAMB
EXPOCODE,SECT_ID,STNNBR,CASTNO,SAMPNO,BTLNBR,BTLNBR_FLAG_W,DATE,TIME,LATITUDE,LONGITUDE,DEPTH,CTDPRS,CTDTMP,CTDSAL,CTDSAL_FLAG_W,SALNTY,SALNTY_FLAG_W,CTDOXY,CTDOXY_FLAG_W,OXYGEN,OXYGEN_FLAG_W,SILCAT,SILCAT_FLAG_W,NITRAT,NITRAT_FLAG_W,NITRIT,NITRIT_FLAG_W,PHSPHT,PHSPHT_FLAG_W,CFC-11,CFC-11_FLAG_W,CFC-12,CFC-12_FLAG_W,TRITUM,TRITUM_FLAG_W,HELIUM,HELIUM_FLAG_W,DELHE3,DELHE3_FLAG_W,TCARBN,TCARBN_FLAG_W,PCO2,PCO2_FLAG_W,ALKALI,ALKALI_FLAG_W,PH,PH_FLAG_W,PH_TMP,PCO2TMP,CTDRAW,HELIER,DELHER,THETA,TRITER
,,,,,,,,,,,,DBAR,ITS-90,PSS-78,,PSS-78,,UMOL/KG,,UMOL/KG,,UMOL/KG,,UMOL/KG,,UMOL/KG,,UMOL/KG,,PMOL/KG,,PMOL/KG,,TU,,NMOL/KG,,PERCNT,,UMOL/KG,,UATM,,UMOL/KG,,,,DEG C,DEG C,,NMOL/KG,PERCNT,DEG C,TU
     316N151_2,   A24,    44,  1,     24,     24,2,19970609,2158, 54.7488, -16.5338, 2347,     10.6,  12.3210,  35.4606,2,  35.4602,2,    277.2,2,    270.3,2,     0.53,2,     4.70,2,     0.10,2,     0.31,2,    3.441,2,    1.817,2, -999.000,9,-999.0000,9,  -999.00,9,   2093.8,2,    448.3,2,   2339.0,6,     7.92,2,25,   20.00,   -999,-999.0000,-999.000, 12.3196,-999.000
     316N151_2,   A24,    44,  1,     23,     23,2,19970609,2158, 54.7488, -16.5338, 2347,     45.6,  12.3138,  35.4619,2,  35.4565,2,    267.2,2,    270.3,2,     0.51,2,     4.79,2,     0.11,2,     0.33,2,    3.434,2,    1.801,2, -999.000,9,-999.0000,9,  -999.00,9,   2095.8,2,    450.4,2,   2340.0,2,     7.91,2,25,   20.00,   -999,-999.0000,-999.000, 12.3077,-999.000
     316N151_2,   A24,    44,  1,     22,     22,2,19970609,2158, 54.7488, -16.5338, 2347,     84.9,  10.3497,  35.4008,2,  35.4049,2,    265.4,2,    267.8,2,     2.58,2,     8.85,2,     0.20,2,     0.64,2,    3.652,2,    1.923,2, -999.000,9,-999.0000,9,  -999.00,9,   2119.7,2,    450.1,2,   2334.1,2,     7.84,2,25,   20.00,   -999,-999.0000,-999.000, 10.3396,-999.000
     316N151_2,   A24,    44,  1,     21,     21,2,19970609,2158, 54.7488, -16.5338, 2347,    154.1,  10.0009,  35.3862,2,  35.3842,2,    254.9,2,    262.2,2,     4.54,2,    10.67,2,     0.30,2,     0.72,2,    3.619,2,    1.892,2, -999.000,9,-999.0000,9,  -999.00,9,   2129.5,2,    568.7,2,   2334.7,2,     7.83,2,25,   20.00,   -999,-999.0000,-999.000,  9.9829,-999.000
     316N151_2,   A24,    44,  1,     20,     20,2,19970609,2158, 54.7488, -16.5338, 2347,    255.8,   9.6842,  35.3664,2,  35.3656,2,    257.8,2,    260.8,2,     5.69,2,    11.86,2,     0.02,2,     0.77,2,    3.523,2,    1.840,2, -999.000,9,-999.0000,9,  -999.00,9,   2133.5,2,    579.7,2,   2330.5,2,     7.82,2,25,   20.00,   -999,-999.0000,-999.000,  9.6548,-999.000
     316N151_2,   A24,    44,  1,     19,     19,2,19970609,2158, 54.7488, -16.5338, 2347,    407.2,   9.3234,  35.3372,2,  35.3372,2,    258.3,2,    252.7,2,     6.25,2,    12.88,2,     0.01,2,     0.84,2,    3.439,2,    1.774,2, -999.000,9,-999.0000,9,  -999.00,9,   2139.8,2,    607.4,2,   2330.1,2,     7.79,2,25,   20.00,   -999,-999.0000,-999.000,  9.2774,-999.000
     316N151_2,   A24,    44,  1,     18,     18,2,19970609,2158, 54.7488, -16.5338, 2347,    557.3,   8.8787,  35.2994,2,  35.2992,2,    245.1,2,    243.5,2,     7.28,2,    14.14,2,     0.01,2,     0.92,2,    3.271,2,    1.670,2, -999.000,9,-999.0000,9,  -999.00,9,   2146.3,2,    636.1,2,   2326.8,2,     7.78,2,25,   20.00,   -999,-999.0000,-999.000,  8.8171,-999.000
     316N151_2,   A24,    44,  1,     17,     17,2,19970609,2158, 54.7488, -16.5338, 2347,    660.0,   8.5315,  35.2752,2,  35.2768,2,    243.0,2,    237.9,2,     8.19,2,    15.00,2,     0.01,2,     0.98,2, -999.000,9, -999.000,9, -999.000,9,-999.0000,9,  -999.00,9,   2152.6,2,    658.2,2,   2327.6,2,     7.76,2,25,   20.00,   -999,-999.0000,-999.000,  8.4599,-999.000
     316N151_2,   A24,    44,  1,     16,     16,2,19970609,2158, 54.7488, -16.5338, 2347,    758.5,   8.1321,  35.2502,2,  35.2512,2,    235.5,2,    230.1,2,     9.34,2,    16.17,2,     0.01,2,     1.05,2,    2.796,2,    1.383,2, -999.000,9,-999.0000,9,  -999.00,9,   2160.4,2,    690.5,2,   2320.8,3,     7.74,2,25,   20.00,   -999,-999.0000,-999.000,  8.0516,-999.000
     316N151_2,   A24,    44,  1,     15,     15,2,19970609,2158, 54.7488, -16.5338, 2347,    861.8,   7.5305,  35.2223,2,  35.2217,2,    222.1,2,    221.2,2,    10.61,2,    17.28,2,     0.00,2,     1.13,2,    2.430,2,    1.172,2, -999.000,9,-999.0000,9,  -999.00,9,   2168.1,2,    724.5,2,   2330.3,2,     7.73,2,25,   20.00,   -999,-999.0000,-999.000,  7.4422,-999.000
     316N151_2,   A24,    44,  1,     14,     14,2,19970609,2158, 54.7488, -16.5338, 2347,    959.7,   6.9242,  35.1885,2,  35.1900,2,    218.2,2,    221.5,2,    11.40,2,    17.89,2,     0.00,2,     1.17,2,    2.194,2,    1.066,2, -999.000,9,-999.0000,9,  -999.00,9,   2168.8,2,    746.7,2,   2325.2,2,     7.72,2,25,   20.00,   -999,-999.0000,-999.000,  6.8296,-999.000
     316N151_2,   A24,    44,  1,     13,     13,2,19970609,2158, 54.7488, -16.5338, 2347,   1059.5,   6.3393,  35.1505,2,  35.1506,2,    224.8,2,    225.0,2,    11.85,2,    18.19,2,     0.00,2,     1.19,2,    2.106,2,    1.015,2, -999.000,9,-999.0000,9,  -999.00,9,   2172.3,2,    759.9,2,   2326.3,2,     7.70,2,25,   20.00,   -999,-999.0000,-999.000,  6.2388,-999.000
     316N151_2,   A24,    44,  1,     12,     12,2,19970609,2158, 54.7488, -16.5338, 2347,   1159.5,   5.6389,  35.0868,2,  35.0876,2,    242.1,2,    237.2,2,    11.84,2,    17.83,2,     0.00,2,     1.17,2,    2.238,2,    1.084,2, -999.000,9,-999.0000,9,  -999.00,9,   2169.1,2,    760.0,2,   2318.5,2,     7.71,2,25,   20.00,   -999,-999.0000,-999.000,  5.5344,-999.000
     316N151_2,   A24,    44,  1,     11,     11,2,19970609,2158, 54.7488, -16.5338, 2347,   1261.5,   5.0037,  35.0313,2,  35.0319,2,    246.9,2,    246.9,2,    11.94,2,    17.73,2,     0.00,2,     1.17,2, -999.000,9, -999.000,9, -999.000,9,-999.0000,9,  -999.00,9,   2167.4,2,    764.7,2,   2313.9,2,     7.70,2,25,   20.00,   -999,-999.0000,-999.000,  4.8952,-999.000
     316N151_2,   A24,    44,  1,     10,     10,2,19970609,2158, 54.7488, -16.5338, 2347,   1363.7,   4.6069,  34.9950,2,  34.9950,2,    251.2,2,    254.4,2,    12.04,2,    17.67,2,     0.00,2,     1.17,2,    2.238,2,    1.072,2, -999.000,9,-999.0000,9,  -999.00,9,   2164.3,2,    765.7,2,   2311.9,2,     7.71,2,25,   20.00,   -999,-999.0000,-999.000,  4.4927,-999.000
     316N151_2,   A24,    44,  1,      9,      9,2,19970609,2158, 54.7488, -16.5338, 2347,   1464.9,   4.1767,  34.9588,2,  34.9594,2,    261.6,2,    263.3,2,    12.25,2,    17.42,2,     0.00,2,     1.15,2,    2.183,2,    1.036,2, -999.000,9,-999.0000,9,  -999.00,9,   2164.2,2,    760.8,2,   2314.9,2,     7.71,2,25,   20.00,   -999,-999.0000,-999.000,  4.0577,-999.000
     316N151_2,   A24,    44,  1,      8,      8,2,19970609,2158, 54.7488, -16.5338, 2347,   1567.4,   3.9181,  34.9369,2,  34.9356,2,    268.6,2,    266.8,2,    12.35,2,    17.36,2,     0.00,2,     1.16,2,    2.168,2,    1.027,2, -999.000,9,-999.0000,9,  -999.00,9,   2161.7,2,    755.0,2,   2308.6,2,     7.72,2,25,   20.00,   -999,-999.0000,-999.000,  3.7928,-999.000
     316N151_2,   A24,    44,  1,      7,      7,2,19970609,2158, 54.7488, -16.5338, 2347,   1668.5,   3.7570,  34.9262,2,  34.9254,2,    269.8,2,    270.5,2,    12.68,2,    17.26,2,     0.00,2,     1.15,2, -999.000,9, -999.000,9, -999.000,9,-999.0000,9,  -999.00,9,   2159.6,2,    757.9,2,   2311.8,2,     7.70,2,25,   20.00,   -999,-999.0000,-999.000,  3.6244,-999.000
     316N151_2,   A24,    44,  1,      6,      6,2,19970609,2158, 54.7488, -16.5338, 2347,   1767.3,   3.6091,  34.9168,2,  34.9164,2,    269.7,2,    271.9,2,    13.02,2,    17.20,2,     0.00,2,     1.16,2,    2.021,2,    0.952,2, -999.000,9,-999.0000,9,  -999.00,9,   2159.7,2,    756.4,2,   2307.5,2,     7.70,2,25,   20.00,   -999,-999.0000,-999.000,  3.4693,-999.000
     316N151_2,   A24,    44,  1,      5,      5,2,19970609,2158, 54.7488, -16.5338, 2347,   1860.1,   3.5098,  34.9136,2,  34.9131,2,    274.5,2,    272.7,2,    13.35,2,    17.20,2,     0.00,2,     1.16,2, -999.000,9, -999.000,9, -999.000,9,-999.0000,9,  -999.00,9,   2159.3,2,    751.2,2,   2311.6,2,     7.71,2,25,   20.00,   -999,-999.0000,-999.000,  3.3628,-999.000
     316N151_2,   A24,    44,  1,      4,      4,2,19970609,2158, 54.7488, -16.5338, 2347,   1968.6,   3.4488,  34.9149,2,  34.9147,2,    273.6,2,    272.9,2,    13.80,2,    17.15,2,     0.00,2,     1.16,2,    1.822,2,    0.875,2, -999.000,9,-999.0000,9,  -999.00,9,   2160.0,2,    753.5,2,   2307.1,2,     7.71,2,25,   20.00,   -999,-999.0000,-999.000,  3.2926,-999.000
     316N151_2,   A24,    44,  1,      3,      3,2,19970609,2158, 54.7488, -16.5338, 2347,   2072.2,   3.3956,  34.9246,2,  34.9255,2,    266.4,2,    270.0,2,    15.07,2,    17.24,2,     0.00,2,     1.16,2, -999.000,9, -999.000,9, -999.000,9,-999.0000,9,  -999.00,9,   2161.0,2,    749.9,2,   2315.3,2,     7.71,2,25,   20.00,   -999,-999.0000,-999.000,  3.2304,-999.000
     316N151_2,   A24,    44,  1,      2,      2,2,19970609,2158, 54.7488, -16.5338, 2347,   2222.9,   3.2715,  34.9351,2,  34.9354,2,    265.1,2,    267.2,2,    17.64,2,    17.49,2,     0.00,2,     1.18,2,    1.118,2,    0.547,2, -999.000,9,-999.0000,9,  -999.00,9,   2163.4,2,    750.8,2,   2317.3,2,     7.71,2,25,   20.00,   -999,-999.0000,-999.000,  3.0938,-999.000
     316N151_2,   A24,    44,  1,      1,      1,2,19970609,2158, 54.7488, -16.5338, 2347,   2390.9,   3.0267,  34.9412,2,  34.9413,2,    255.5,2,    256.8,2,    25.48,2,    18.65,2,     0.01,2,     1.27,2,    0.639,2,    0.300,2, -999.000,9,-999.0000,9,  -999.00,9,   2176.6,2,    760.4,2,   2334.3,2,     7.71,2,25,   20.00,   -999,-999.0000,-999.000,  2.8369,-999.000
     316N151_2,   A24,    45,  1,     24,     24,2,19970610,0101, 54.8713, -16.8117, 2257,     12.6,  11.8881,  35.4692,2,  35.4693,2,    268.9,2,    270.7,2,     0.94,2,     5.63,2,     0.14,2,     0.37,2, -999.000,9, -999.000,9, -999.000,9,-999.0000,9,  -999.00,9,   2098.1,2,   -999.0,9,   2340.1,6,     7.90,6,25, -999.00,   -999,-999.0000,-999.000, 11.8865,-999.000
     316N151_2,   A24,    45,  1,     23,     23,2,19970610,0101, 54.8713, -16.8117, 2257,     67.5,  10.7319,  35.4544,2,  35.4504,2,    267.3,2,    264.5,2,     2.89,2,     8.75,2,     0.26,2,     0.60,2, -999.000,9, -999.000,9, -999.000,9,-999.0000,9,  -999.00,9,   -999.0,9,   -999.0,9,   -999.0,9,  -999.00,9,25, -999.00,   -999,-999.0000,-999.000, 10.7237,-999.000
     316N151_2,   A24,    45,  1,     22,     22,2,19970610,0101, 54.8713, -16.8117, 2257,    107.8,  10.4454,  35.4384,2,  35.4390,2,    256.9,2,    259.5,2,     4.03,2,    10.24,2,     0.14,2,     0.67,2, -999.000,9, -999.000,9, -999.000,9,-999.0000,9,  -999.00,9,   -999.0,9,   -999.0,9,   -999.0,9,  -999.00,9,25, -999.00,   -999,-999.0000,-999.000, 10.4325,-999.000
     316N151_2,   A24,    45,  1,     21,     21,2,19970610,0101, 54.8713, -16.8117, 2257,    166.6,  10.2668,  35.4228,2,  35.4228,2,    254.6,2,    257.5,2,     4.58,2,    10.97,2,     0.06,2,     0.71,2, -999.000,9, -999.000,9, -999.000,9,-999.0000,9,  -999.00,9,   -999.0,9,   -999.0,9,   -999.0,9,  -999.00,9,25, -999.00,   -999,-999.0000,-999.000, 10.2470,-999.000
     316N151_2,   A24,    45,  1,     20,     20,2,19970610,0101, 54.8713, -16.8117, 2257,    255.7,  10.0081,  35.4042,2,  35.4039,2,    254.6,2,    257.7,2,     5.37,2,    11.73,2,     0.01,2,     0.76,2, -999.000,9, -999.000,9, -999.000,9,-999.0000,9,  -999.00,9,   -999.0,9,   -999.0,9,   -999.0,9,  -999.00,9,25, -999.00,   -999,-999.0000,-999.000,  9.9781,-999.000
     316N151_2,   A24,    45,  1,     19,     19,2,19970610,0101, 54.8713, -16.8117, 2257,    324.0,   9.7859,  35.3903,2,  35.3917,2,    253.6,2,    255.2,2,     5.69,2,    12.14,2,     0.01,2,     0.78,2, -999.000,9, -999.000,9, -999.000,9,-999.0000,9,  -999.00,9,   -999.0,9,   -999.0,9,   -999.0,9,  -999.00,9,25, -999.00,   -999,-999.0000,-999.000,  9.7483,-999.000
     316N151_2,   A24,    45,  1,     18,     18,2,19970610,0101, 54.8713, -16.8117, 2257,    394.0,   9.7283,  35.3952,2,  35.3949,2,    262.8,2,    262.6,2,     5.43,2,    11.63,2,     0.01,2,     0.75,2, -999.000,9, -999.000,9, -999.000,9,-999.0000,9,  -999.00,9,   -999.0,9,   -999.0,9,   -999.0,9,  -999.00,9,25, -999.00,   -999,-999.0000,-999.000,  9.6826,-999.000
     316N151_2,   A24,    45,  1,     17,     17,2,19970610,0101, 54.8713, -16.8117, 2257,    529.8,   9.2972,  35.3402,2,  35.3394,2,    255.8,2,    247.8,2,     6.69,2,    13.24,2,     0.01,2,     0.86,2, -999.000,9, -999.000,9, -999.000,9,-999.0000,9,  -999.00,9,   -999.0,9,   -999.0,9,   -999.0,9,  -999.00,9,25, -999.00,   -999,-999.0000,-999.000,  9.2371,-999.000
     316N151_2,   A24,    45,  1,     16,     16,2,19970610,0101, 54.8713, -16.8117, 2257,    596.7,   8.9402,  35.3039,2,  35.3035,2,    242.8,2,    239.8,2,     7.59,2,    14.41,2,     0.01,2,     0.93,2, -999.000,9, -999.000,9, -999.000,9,-999.0000,9,  -999.00,9,   -999.0,9,   -999.0,9,   -999.0,9,  -999.00,9,25, -999.00,   -999,-999.0000,-999.000,  8.8738,-999.000
     316N151_2,   A24,    45,  1,     15,     15,2,19970610,0101, 54.8713, -16.8117, 2257,    743.5,   8.4669,  35.2725,2,  35.2710,2,    242.8,2,    240.6,2,     8.27,2,    14.86,2,     0.00,2,     0.97,2, -999.000,9, -999.000,9, -999.000,9,-999.0000,9,  -999.00,9,   -999.0,9,   -999.0,9,   -999.0,9,  -999.00,9,25, -999.00,   -999,-999.0000,-999.000,  8.3862,-999.000
     316N151_2,   A24,    45,  1,     14,     14,2,19970610,0101, 54.8713, -16.8117, 2257,    860.2,   7.7725,  35.2314,2,  35.2295,2,    217.2,2,    217.6,2,    10.57,2,    17.34,2,     0.00,2,     1.13,2, -999.000,9, -999.000,9, -999.000,9,-999.0000,9,  -999.00,9,   -999.0,9,   -999.0,9,   -999.0,9,  -999.00,9,25, -999.00,   -999,-999.0000,-999.000,  7.6829,-999.000
     316N151_2,   A24,    45,  1,     13,     13,2,19970610,0101, 54.8713, -16.8117, 2257,    980.5,   7.0781,  35.2044,2,-999.0000,5,    219.0,2,    217.3,2,    11.48,2,    17.94,2,     0.00,2,     1.18,2, -999.000,9, -999.000,9, -999.000,9,-999.0000,9,  -999.00,9,   -999.0,9,   -999.0,9,   -999.0,9,  -999.00,9,25, -999.00,   -999,-999.0000,-999.000,  6.9802,-999.000
     316N151_2,   A24,    45,  1,     12,     12,2,19970610,0101, 54.8713, -16.8117, 2257,   1081.2,   6.3174,  35.1467,2,  35.1446,2,    226.1,2,    225.7,2,    11.81,2,    17.99,2,     0.00,2,     1.18,2, -999.000,9, -999.000,9, -999.000,9,-999.0000,9,  -999.00,9,   -999.0,9,   -999.0,9,   -999.0,9,  -999.00,9,25, -999.00,   -999,-999.0000,-999.000,  6.2149,-999.000
     316N151_2,   A24,    45,  1,     11,     11,2,19970610,0101, 54.8713, -16.8117, 2257,   1182.4,   5.5717,  35.0807,2,  35.0808,2,    239.8,2,    239.9,2,    11.78,2,    17.63,2,     0.00,2,     1.17,2, -999.000,9, -999.000,9, -999.000,9,-999.0000,9,  -999.00,9,   -999.0,9,   -999.0,9,   -999.0,9,  -999.00,9,25, -999.00,   -999,-999.0000,-999.000,  5.4654,-999.000
     316N151_2,   A24,    45,  1,     10,     10,2,19970610,0101, 54.8713, -16.8117, 2257,   1289.7,   5.0910,  35.0386,2,  35.0427,2,    247.8,2,    250.3,2,    11.88,2,    17.57,2,     0.00,2,     1.17,2, -999.000,9, -999.000,9, -999.000,9,-999.0000,9,  -999.00,9,   -999.0,9,   -999.0,9,   -999.0,9,  -999.00,9,25, -999.00,   -999,-999.0000,-999.000,  4.9789,-999.000
     316N151_2,   A24,    45,  1,      9,      9,2,19970610,0101, 54.8713, -16.8117, 2257,   1396.6,   4.6732,  35.0024,2,  35.0000,2,    254.0,2,    254.0,2,    11.97,2,    17.47,2,     0.00,2,     1.16,2, -999.000,9, -999.000,9, -999.000,9,-999.0000,9,  -999.00,9,   -999.0,9,   -999.0,9,   -999.0,9,  -999.00,9,25, -999.00,   -999,-999.0000,-999.000,  4.5552,-999.000
     316N151_2,   A24,    45,  1,      8,      8,2,19970610,0101, 54.8713, -16.8117, 2257,   1498.8,   4.2320,  34.9607,2,  34.9599,2,    261.9,2,    260.5,2,    12.06,2,    17.52,2,     0.00,2,     1.17,2, -999.000,9, -999.000,9, -999.000,9,-999.0000,9,  -999.00,9,   -999.0,9,   -999.0,9,   -999.0,9,  -999.00,9,25, -999.00,   -999,-999.0000,-999.000,  4.1093,-999.000
     316N151_2,   A24,    45,  1,      7,      7,2,19970610,0101, 54.8713, -16.8117, 2257,   1605.5,   3.9919,  34.9501,2,  34.9563,2,    265.1,2,    266.8,2,    12.74,2,    17.26,2,     0.00,2,     1.16,2, -999.000,9, -999.000,9, -999.000,9,-999.0000,9,  -999.00,9,   -999.0,9,   -999.0,9,   -999.0,9,  -999.00,9,25, -999.00,   -999,-999.0000,-999.000,  3.8622,-999.000
     316N151_2,   A24,    45,  1,      6,      6,2,19970610,0101, 54.8713, -16.8117, 2257,   1711.0,   3.7741,  34.9320,2,  34.9339,2,    269.7,2,    268.8,2,    13.18,2,    17.40,2,     0.00,2,     1.17,2, -999.000,9, -999.000,9, -999.000,9,-999.0000,9,  -999.00,9,   -999.0,9,   -999.0,9,   -999.0,9,  -999.00,9,25, -999.00,   -999,-999.0000,-999.000,  3.6373,-999.000
     316N151_2,   A24,    45,  1,      5,      5,2,19970610,0101, 54.8713, -16.8117, 2257,   1815.2,   3.6334,  34.9337,2,  34.9342,2,    267.1,2,    267.4,2,    14.79,2,    17.45,2,     0.00,2,     1.17,2, -999.000,9, -999.000,9, -999.000,9,-999.0000,9,  -999.00,9,   -999.0,9,   -999.0,9,   -999.0,9,  -999.00,9,25, -999.00,   -999,-999.0000,-999.000,  3.4888,-999.000
     316N151_2,   A24,    45,  1,      4,      4,2,19970610,0101, 54.8713, -16.8117, 2257,   1916.0,   3.6212,  34.9343,2,  34.9346,2,    267.1,2,    267.3,2,    15.12,2,    17.44,2,     0.00,2,     1.17,2, -999.000,9, -999.000,9, -999.000,9,-999.0000,9,  -999.00,9,   -999.0,9,   -999.0,9,   -999.0,9,  -999.00,9,25, -999.00,   -999,-999.0000,-999.000,  3.4674,-999.000
     316N151_2,   A24,    45,  1,      3,      3,2,19970610,0101, 54.8713, -16.8117, 2257,   2022.5,   3.5726,  34.9313,2,  34.9318,2,    265.7,2,    267.4,2,    15.21,2,    17.44,2,     0.00,2,     1.17,2, -999.000,9, -999.000,9, -999.000,9,-999.0000,9,  -999.00,9,   -999.0,9,   -999.0,9,   -999.0,9,  -999.00,9,25, -999.00,   -999,-999.0000,-999.000,  3.4094,-999.000
     316N151_2,   A24,    45,  1,      2,      2,2,19970610,0101, 54.8713, -16.8117, 2257,   2123.8,   3.4403,  34.9339,2,  34.9340,2,    261.3,2,    266.7,2,    16.82,2,    17.58,2,     0.01,2,     1.18,2, -999.000,9, -999.000,9, -999.000,9,-999.0000,9,  -999.00,9,   -999.0,9,   -999.0,9,   -999.0,9,  -999.00,9,25, -999.00,   -999,-999.0000,-999.000,  3.2694,-999.000
     316N151_2,   A24,    45,  1,      1,      1,2,19970610,0101, 54.8713, -16.8117, 2257,   2267.8,   3.3654,  34.9354,2,  34.9364,2,    262.8,2,    265.2,2,    18.20,2,    17.73,2,     0.01,2,     1.20,2, -999.000,9, -999.000,9, -999.000,9,-999.0000,9,  -999.00,9,   -999.0,9,   -999.0,9,   -999.0,9,  -999.00,9,25, -999.00,   -999,-999.0000,-999.000,  3.1818,-999.000