BOTTLE,20220629CCHSIOAMB
EXPOCODE,SECT_ID,STNNBR,CASTNO,SAMPNO,BTLNBR,BTLNBR_FLAG_W,DATE,TIME,LATITUDE,LONGITUDE,DEPTH,CTDPRS,CTDTMP,CTDSAL,CTDSAL_FLAG_W,SALNTY,SALNTY_FLAG_W,CTDOXY,CTDOXY_FLAG_W,OXYGEN,OXYGEN_FLAG_W,SILCAT,SILCAT_FLAG_W,NITRAT,NITRAT_FLAG_W,NITRIT,NITRIT_FLAG_W,PHSPHT,PHSPHT_FLAG_W,CFC-11,CFC-11_FLAG_W,CFC-12,CFC-12_FLAG_W,TRITUM,TRITUM_FLAG_W,HELIUM,HELIUM_FLAG_W,DELHE3,DELHE3_FLAG_W,TCARBN,TCARBN_FLAG_W,PCO2,PCO2_FLAG_W,ALKALI,ALKALI_FLAG_W,PH,PH_FLAG_W,PH_TMP,PCO2TMP,CTDRAW,HELIER,DELHER,THETA,TRITER
,,,,,,,,,,,,DBAR,ITS-90,PSS-78,,PSS-78,,UMOL/KG,,UMOL/KG,,UMOL/KG,,UMOL/KG,,UMOL/KG,,UMOL/KG,,PMOL/KG,,PMOL/KG,,TU,,NMOL/KG,,PERCNT,,UMOL/KG,,UATM,,UMOL/KG,,,,DEG C,DEG C,,NMOL/KG,PERCNT,DEG C,TU
     316N151_2,   A24,    15,  1,     32,   -999,5,19970602,1915, 43.4423, -20.3802, 4215,      2.3,  16.6195,  35.8813,2,-999.0000,9,    243.4,2,   -999.0,9,  -999.00,9,  -999.00,9,  -999.00,9,  -999.00,9, -999.000,9, -999.000,9, -999.000,9,-999.0000,9,  -999.00,9,   -999.0,9,   -999.0,9,   -999.0,9,  -999.00,9,25, -999.00,   -999,-999.0000,-999.000, 16.6191,-999.000
     316N151_2,   A24,    15,  1,     80,     80,2,19970602,1915, 43.4423, -20.3802, 4215,      2.3,  16.6195,  35.8813,2,-999.0000,9,    243.7,2,   -999.0,9,  -999.00,9,  -999.00,9,  -999.00,9,  -999.00,9, -999.000,9, -999.000,9, -999.000,9,-999.0000,9,  -999.00,9,   -999.0,9,   -999.0,9,   -999.0,9,  -999.00,9,25, -999.00,   -999,-999.0000,-999.000, 16.6191,-999.000
     316N151_2,   A24,    15,  1,     31,     31,4,19970602,1915, 43.4423, -20.3802, 4215,     48.0,  14.3185,  35.8067,2,  35.7995,2,    250.0,2,    244.9,2,     1.57,2,     3.69,2,     0.29,2,     0.29,2, -999.000,9, -999.000,9, -999.000,9,-999.0000,9,  -999.00,9,   2096.7,2,   -999.0,9,   -999.0,9,  -999.00,9,25, -999.00,   -999,-999.0000,-999.000, 14.3114,-999.000
     316N151_2,   A24,    15,  1,     30,     30,4,19970602,1915, 43.4423, -20.3802, 4215,    107.9,  13.1223,  35.7777,2,  35.7910,2,    233.5,2,    238.7,2,     2.54,2,     6.65,2,     0.01,2,     0.43,2, -999.000,9, -999.000,9, -999.000,9,-999.0000,9,  -999.00,9,   2112.2,2,   -999.0,9,   -999.0,9,  -999.00,9,25, -999.00,   -999,-999.0000,-999.000, 13.1073,-999.000
     316N151_2,   A24,    15,  1,     28,     28,2,19970602,1915, 43.4423, -20.3802, 4215,    157.6,  12.8318,  35.7359,2,  35.7357,2,    241.5,2,    244.6,2,     3.01,2,     7.40,2,     0.01,2,     0.47,2, -999.000,9, -999.000,9, -999.000,9,-999.0000,9,  -999.00,9,   2111.9,2,   -999.0,9,   -999.0,9,  -999.00,9,25, -999.00,   -999,-999.0000,-999.000, 12.8102,-999.000
     316N151_2,   A24,    15,  1,     29,     29,9,19970602,1915, 43.4423, -20.3802, 4215,    157.6,  12.8318,  35.7359,2,-999.0000,9,    241.5,2,   -999.0,9,  -999.00,9,  -999.00,9,  -999.00,9,  -999.00,9, -999.000,9, -999.000,9, -999.000,9,-999.0000,9,  -999.00,9,   -999.0,9,   -999.0,9,   -999.0,9,  -999.00,9,25, -999.00,   -999,-999.0000,-999.000, 12.8102,-999.000
     316N151_2,   A24,    15,  1,     27,     27,2,19970602,1915, 43.4423, -20.3802, 4215,    208.4,  12.6450,  35.7153,2,  35.7155,2,    242.3,2,    246.3,2,     3.47,2,     8.00,2,     0.01,2,     0.51,2, -999.000,9, -999.000,9, -999.000,9,-999.0000,9,  -999.00,9,   2114.8,2,   -999.0,9,   -999.0,9,  -999.00,9,25, -999.00,   -999,-999.0000,-999.000, 12.6166,-999.000
     316N151_2,   A24,    15,  1,     26,     26,2,19970602,1915, 43.4423, -20.3802, 4215,    308.9,  11.9592,  35.6153,2,  35.6150,2,    231.5,2,    231.8,2,     4.54,2,    10.53,2,     0.01,2,     0.66,2, -999.000,9, -999.000,9, -999.000,9,-999.0000,9,  -999.00,9,   2128.0,2,   -999.0,9,   -999.0,9,  -999.00,9,25, -999.00,   -999,-999.0000,-999.000, 11.9186,-999.000
     316N151_2,   A24,    15,  1,     25,     25,2,19970602,1915, 43.4423, -20.3802, 4215,    408.7,  11.4570,  35.5481,2,  35.5495,2,    226.7,2,    228.3,2,     5.20,2,    11.63,2,     0.01,2,     0.73,2, -999.000,9, -999.000,9, -999.000,9,-999.0000,9,  -999.00,9,   2132.8,2,   -999.0,9,   -999.0,9,  -999.00,9,25, -999.00,   -999,-999.0000,-999.000, 11.4045,-999.000
     316N151_2,   A24,    15,  1,     24,     24,2,19970602,1915, 43.4423, -20.3802, 4215,    506.9,  11.0492,  35.5171,2,  35.5169,2,    218.0,2,    221.5,2,     5.67,2,    12.77,2,     0.00,2,     0.80,2, -999.000,9, -999.000,9, -999.000,9,-999.0000,9,  -999.00,9,   2140.8,2,   -999.0,9,   -999.0,9,  -999.00,9,25, -999.00,   -999,-999.0000,-999.000, 10.9853,-999.000
     316N151_2,   A24,    15,  1,     23,     23,2,19970602,1915, 43.4423, -20.3802, 4215,    605.4,  10.6132,  35.4736,2,  35.4715,2,    215.2,2,    212.2,2,     6.84,2,    14.46,2,     0.00,2,     0.90,2, -999.000,9, -999.000,9, -999.000,9,-999.0000,9,  -999.00,9,   2148.3,2,   -999.0,9,   -999.0,9,  -999.00,9,25, -999.00,   -999,-999.0000,-999.000, 10.5384,-999.000
     316N151_2,   A24,    15,  1,     22,     22,2,19970602,1915, 43.4423, -20.3802, 4215,    703.4,  10.0970,  35.4493,2,  35.4485,2,    206.0,2,    201.7,2,     8.21,2,    15.96,2,     0.00,2,     1.01,2, -999.000,9, -999.000,9, -999.000,9,-999.0000,9,  -999.00,9,   2158.3,2,   -999.0,9,   -999.0,9,  -999.00,9,25, -999.00,   -999,-999.0000,-999.000, 10.0123,-999.000
     316N151_2,   A24,    15,  1,     21,     21,2,19970602,1915, 43.4423, -20.3802, 4215,    805.1,   9.3299,  35.4009,2,  35.3972,2,    194.5,2,    193.8,2,     9.89,2,    17.45,2,     0.00,2,     1.12,2, -999.000,9, -999.000,9, -999.000,9,-999.0000,9,  -999.00,9,   2167.5,2,   -999.0,9,   -999.0,9,  -999.00,9,25, -999.00,   -999,-999.0000,-999.000,  9.2370,-999.000
     316N151_2,   A24,    15,  1,     20,     20,2,19970602,1915, 43.4423, -20.3802, 4215,    908.1,   8.6463,  35.4022,2,  35.4027,2,    194.0,2,    193.5,2,    10.96,2,    18.10,2,     0.00,2,     1.17,2, -999.000,9, -999.000,9, -999.000,9,-999.0000,9,  -999.00,9,   2175.9,2,   -999.0,9,   -999.0,9,  -999.00,9,25, -999.00,   -999,-999.0000,-999.000,  8.5454,-999.000
     316N151_2,   A24,    15,  1,     19,     19,2,19970602,1915, 43.4423, -20.3802, 4215,   1012.3,   8.0617,  35.4263,2,  35.4240,2,    197.7,2,    200.6,2,    11.32,2,    18.10,2,     0.00,2,     1.17,2, -999.000,9, -999.000,9, -999.000,9,-999.0000,9,  -999.00,9,   -999.0,9,   -999.0,9,   -999.0,9,  -999.00,9,25, -999.00,   -999,-999.0000,-999.000,  7.9529,-999.000
     316N151_2,   A24,    15,  1,     18,     18,2,19970602,1915, 43.4423, -20.3802, 4215,   1113.3,   7.6308,  35.4165,2,  35.4129,2,    207.6,2,    206.2,2,    11.48,2,    18.09,2,     0.00,2,     1.17,2, -999.000,9, -999.000,9, -999.000,9,-999.0000,9,  -999.00,9,   -999.0,9,   -999.0,9,   -999.0,9,  -999.00,9,25, -999.00,   -999,-999.0000,-999.000,  7.5139,-999.000
     316N151_2,   A24,    15,  1,     17,     17,2,19970602,1915, 43.4423, -20.3802, 4215,   1215.0,   6.7555,  35.3230,2,  35.3230,2,    216.9,2,    218.4,2,    11.64,2,    18.09,2,     0.00,2,     1.18,2, -999.000,9, -999.000,9, -999.000,9,-999.0000,9,  -999.00,9,   -999.0,9,   -999.0,9,   -999.0,9,  -999.00,9,25, -999.00,   -999,-999.0000,-999.000,  6.6350,-999.000
     316N151_2,   A24,    15,  1,     16,     16,2,19970602,1915, 43.4423, -20.3802, 4215,   1316.0,   6.1653,  35.2651,2,  35.2676,2,    228.9,2,    227.8,2,    11.90,2,    17.99,2,     0.00,2,     1.17,2, -999.000,9, -999.000,9, -999.000,9,-999.0000,9,  -999.00,9,   -999.0,9,   -999.0,9,   -999.0,9,  -999.00,9,25, -999.00,   -999,-999.0000,-999.000,  6.0397,-999.000
     316N151_2,   A24,    15,  1,     15,     15,2,19970602,1915, 43.4423, -20.3802, 4215,   1414.8,   5.6743,  35.2061,2,  35.2061,2,    238.4,2,    235.9,2,    11.96,2,    17.89,2,     0.00,2,     1.17,2,    1.522,2,    0.737,2, -999.000,9,-999.0000,9,  -999.00,9,   -999.0,9,   -999.0,9,   -999.0,9,  -999.00,9,25, -999.00,   -999,-999.0000,-999.000,  5.5436,-999.000
     316N151_2,   A24,    15,  1,     14,     14,2,19970602,1915, 43.4423, -20.3802, 4215,   1613.2,   4.8227,  35.0993,2,  35.1016,2,    252.0,2,    250.0,2,    12.32,2,    17.74,2,     0.00,2,     1.17,2,    1.452,2,    0.698,2, -999.000,9,-999.0000,9,  -999.00,9,   -999.0,9,   -999.0,9,   -999.0,9,  -999.00,9,25, -999.00,   -999,-999.0000,-999.000,  4.6818,-999.000
     316N151_2,   A24,    15,  1,     13,     13,2,19970602,1915, 43.4423, -20.3802, 4215,   1814.0,   4.1094,  35.0053,2,  35.0039,2,    264.9,2,    261.6,2,    12.88,2,    17.59,2,     0.00,2,     1.17,2,    1.320,2,    0.634,2, -999.000,9,-999.0000,9,  -999.00,9,   -999.0,9,   -999.0,9,   -999.0,9,  -999.00,9,25, -999.00,   -999,-999.0000,-999.000,  3.9583,-999.000
     316N151_2,   A24,    15,  1,     12,     12,2,19970602,1915, 43.4423, -20.3802, 4215,   2016.8,   3.7402,  34.9701,2,  34.9702,2,    267.3,2,    265.0,2,    14.06,2,    17.59,2,     0.00,2,     1.18,2,    1.027,2,    0.507,2, -999.000,9,-999.0000,9,  -999.00,9,   -999.0,9,   -999.0,9,   -999.0,9,  -999.00,9,25, -999.00,   -999,-999.0000,-999.000,  3.5749,-999.000
     316N151_2,   A24,    15,  1,     11,     11,2,19970602,1915, 43.4423, -20.3802, 4215,   2218.1,   3.5103,  34.9622,2,  34.9635,2,    264.8,2,    264.3,2,    15.84,2,    17.74,2,     0.00,2,     1.19,2,    0.712,2,    0.361,2, -999.000,9,-999.0000,9,  -999.00,9,   -999.0,9,   -999.0,9,   -999.0,9,  -999.00,9,25, -999.00,   -999,-999.0000,-999.000,  3.3291,-999.000
     316N151_2,   A24,    15,  1,     10,     10,2,19970602,1915, 43.4423, -20.3802, 4215,   2420.3,   3.2388,  34.9493,2,  34.9517,2,    261.7,2,    265.1,2,    17.41,2,    17.59,2,     0.00,2,     1.20,2, -999.000,9, -999.000,9, -999.000,9,-999.0000,9,  -999.00,9,   -999.0,9,   -999.0,9,   -999.0,9,  -999.00,9,25, -999.00,   -999,-999.0000,-999.000,  3.0423,-999.000
     316N151_2,   A24,    15,  1,      9,      9,2,19970602,1915, 43.4423, -20.3802, 4215,   2622.4,   3.1099,  34.9597,2,  34.9627,2,    253.3,2,    256.8,2,    23.45,2,    18.78,2,     0.00,2,     1.28,2, -999.000,9, -999.000,9, -999.000,9,-999.0000,9,  -999.00,9,   -999.0,9,   -999.0,9,   -999.0,9,  -999.00,9,25, -999.00,   -999,-999.0000,-999.000,  2.8956,-999.000
     316N151_2,   A24,    15,  1,      8,      8,2,19970602,1915, 43.4423, -20.3802, 4215,   2825.4,   2.9612,  34.9517,2,  34.9539,2,    251.0,2,    254.5,2,    26.45,2,    19.18,2,     0.00,2,     1.31,2, -999.000,9, -999.000,9, -999.000,9,-999.0000,9,  -999.00,9,   -999.0,9,   -999.0,9,   -999.0,9,  -999.00,9,25, -999.00,   -999,-999.0000,-999.000,  2.7293,-999.000
     316N151_2,   A24,    15,  1,      7,      7,2,19970602,1915, 43.4423, -20.3802, 4215,   3027.5,   2.8189,  34.9431,2,  34.9460,2,    248.6,2,    252.0,2,    29.86,2,    19.67,2,     0.00,2,     1.35,2, -999.000,9, -999.000,9, -999.000,9,-999.0000,9,  -999.00,9,   -999.0,9,   -999.0,9,   -999.0,9,  -999.00,9,25, -999.00,   -999,-999.0000,-999.000,  2.5691,-999.000
     316N151_2,   A24,    15,  1,      6,      6,2,19970602,1915, 43.4423, -20.3802, 4215,   3229.4,   2.7255,  34.9353,2,  34.9345,2,    244.5,2,    249.3,2,    32.86,2,    20.17,2,     0.00,2,     1.38,2, -999.000,9, -999.000,9, -999.000,9,-999.0000,9,  -999.00,9,   -999.0,9,   -999.0,9,   -999.0,9,  -999.00,9,25, -999.00,   -999,-999.0000,-999.000,  2.4566,-999.000
     316N151_2,   A24,    15,  1,      5,      5,2,19970602,1915, 43.4423, -20.3802, 4215,   3430.2,   2.6271,  34.9245,2,  34.9239,2,    246.4,2,    245.5,2,    37.08,2,    20.92,2,     0.00,2,     1.43,2, -999.000,9, -999.000,9, -999.000,9,-999.0000,9,  -999.00,9,   -999.0,9,   -999.0,9,   -999.0,9,  -999.00,9,25, -999.00,   -999,-999.0000,-999.000,  2.3391,-999.000
     316N151_2,   A24,    15,  1,      4,      4,2,19970602,1915, 43.4423, -20.3802, 4215,   3580.9,   2.5919,  34.9201,2,  34.9190,2,    243.3,2,    243.4,2,    39.17,2,    21.26,2,     0.00,2,     1.45,2,    0.126,2,    0.070,2, -999.000,9,-999.0000,9,  -999.00,9,   -999.0,9,   -999.0,9,   -999.0,9,  -999.00,9,25, -999.00,   -999,-999.0000,-999.000,  2.2883,-999.000
     316N151_2,   A24,    15,  1,      3,      3,2,19970602,1915, 43.4423, -20.3802, 4215,   3732.8,   2.5699,  34.9159,2,  34.9150,2,    243.9,2,    242.0,2,    40.75,2,    21.56,2,     0.00,2,     1.48,2,    0.089,2,    0.056,2, -999.000,9,-999.0000,9,  -999.00,9,   -999.0,9,   -999.0,9,   -999.0,9,  -999.00,9,25, -999.00,   -999,-999.0000,-999.000,  2.2500,-999.000
     316N151_2,   A24,    15,  1,      2,      2,2,19970602,1915, 43.4423, -20.3802, 4215,   3983.5,   2.5576,  34.9109,2,  34.9109,2,    239.1,2,    240.2,2,    42.54,2,    21.86,2,     0.00,2,     1.50,2,    0.064,2,    0.031,2, -999.000,9,-999.0000,9,  -999.00,9,   -999.0,9,   -999.0,9,   -999.0,9,  -999.00,9,25, -999.00,   -999,-999.0000,-999.000,  2.2096,-999.000
     316N151_2,   A24,    15,  1,      1,      1,2,19970602,1915, 43.4423, -20.3802, 4215,   4285.5,   2.5871,  34.9103,2,  34.9107,2,    240.3,2,    240.1,2,    42.90,2,    21.90,2,     0.00,2,     1.50,2,    0.059,2,    0.031,2, -999.000,9,-999.0000,9,  -999.00,9,   -999.0,9,   -999.0,9,   -999.0,9,  -999.00,9,25, -999.00,   -999,-999.0000,-999.000,  2.2029,-999.000