BOTTLE,20220629CCHSIOAMB
EXPOCODE,SECT_ID,STNNBR,CASTNO,SAMPNO,BTLNBR,BTLNBR_FLAG_W,DATE,TIME,LATITUDE,LONGITUDE,DEPTH,CTDPRS,CTDTMP,CTDSAL,CTDSAL_FLAG_W,SALNTY,SALNTY_FLAG_W,CTDOXY,CTDOXY_FLAG_W,OXYGEN,OXYGEN_FLAG_W,SILCAT,SILCAT_FLAG_W,NITRAT,NITRAT_FLAG_W,NITRIT,NITRIT_FLAG_W,PHSPHT,PHSPHT_FLAG_W,CFC-11,CFC-11_FLAG_W,CFC-12,CFC-12_FLAG_W,TRITUM,TRITUM_FLAG_W,HELIUM,HELIUM_FLAG_W,DELHE3,DELHE3_FLAG_W,TCARBN,TCARBN_FLAG_W,PCO2,PCO2_FLAG_W,ALKALI,ALKALI_FLAG_W,PH,PH_FLAG_W,PH_TMP,PCO2TMP,CTDRAW,HELIER,DELHER,THETA,TRITER
,,,,,,,,,,,,DBAR,ITS-90,PSS-78,,PSS-78,,UMOL/KG,,UMOL/KG,,UMOL/KG,,UMOL/KG,,UMOL/KG,,UMOL/KG,,PMOL/KG,,PMOL/KG,,TU,,NMOL/KG,,PERCNT,,UMOL/KG,,UATM,,UMOL/KG,,,,DEG C,DEG C,,NMOL/KG,PERCNT,DEG C,TU
     316N151_2,   A24,    52,  1,     19,     19,2,19970611,1548, 57.7478,  -9.9807, 1812,      2.8,  12.0265,  35.4215,2,  35.4216,2,    281.8,2,    274.8,2,     0.40,2,     5.16,2,     0.11,2,     0.34,2, -999.000,9, -999.000,9, -999.000,9,-999.0000,9,  -999.00,9,   2091.8,2,   -999.0,9,   2335.8,2,     7.92,2,25, -999.00,   -999,-999.0000,-999.000, 12.0262,-999.000
     316N151_2,   A24,    52,  1,     18,     18,2,19970611,1548, 57.7478,  -9.9807, 1812,     28.4,  11.7346,  35.4461,2,  35.4210,2,    277.2,2,    274.9,2,     0.43,2,     5.39,2,     0.12,2,     0.35,2, -999.000,9, -999.000,9, -999.000,9,-999.0000,9,  -999.00,9,   -999.0,9,   -999.0,9,   -999.0,9,  -999.00,9,25, -999.00,   -999,-999.0000,-999.000, 11.7310,-999.000
     316N151_2,   A24,    52,  1,     17,     17,2,19970611,1548, 57.7478,  -9.9807, 1812,     53.9,  10.5911,  35.4459,2,  35.4450,2,    262.6,2,    265.1,2,     2.57,2,     8.56,2,     0.31,2,     0.61,2, -999.000,9, -999.000,9, -999.000,9,-999.0000,9,  -999.00,9,   -999.0,9,   -999.0,9,   -999.0,9,  -999.00,9,25, -999.00,   -999,-999.0000,-999.000, 10.5846,-999.000
     316N151_2,   A24,    52,  1,     16,     16,2,19970611,1548, 57.7478,  -9.9807, 1812,    104.1,  10.2103,  35.4247,2,  35.4236,2,    257.3,2,    257.5,2,     4.53,2,    11.13,2,     0.09,2,     0.71,2, -999.000,9, -999.000,9, -999.000,9,-999.0000,9,  -999.00,9,   -999.0,9,   -999.0,9,   -999.0,9,  -999.00,9,25, -999.00,   -999,-999.0000,-999.000, 10.1980,-999.000
     316N151_2,   A24,    52,  1,     15,     15,2,19970611,1548, 57.7478,  -9.9807, 1812,    153.4,   9.9400,  35.4041,2,  35.4036,2,    261.0,2,    260.1,2,     4.57,2,    11.28,2,     0.12,2,     0.73,2, -999.000,9, -999.000,9, -999.000,9,-999.0000,9,  -999.00,9,   -999.0,9,   -999.0,9,   -999.0,9,  -999.00,9,25, -999.00,   -999,-999.0000,-999.000,  9.9222,-999.000
     316N151_2,   A24,    52,  1,     14,     14,2,19970611,1548, 57.7478,  -9.9807, 1812,    255.3,   9.6538,  35.3892,2,  35.3883,2,    270.5,2,    265.0,2,     4.22,2,    11.05,2,     0.17,2,     0.72,2, -999.000,9, -999.000,9, -999.000,9,-999.0000,9,  -999.00,9,   -999.0,9,   -999.0,9,   -999.0,9,  -999.00,9,25, -999.00,   -999,-999.0000,-999.000,  9.6246,-999.000
     316N151_2,   A24,    52,  1,     13,     13,2,19970611,1548, 57.7478,  -9.9807, 1812,    354.7,   9.4331,  35.3644,2,  35.3648,2,    258.7,2,    262.4,2,     4.84,2,    11.91,2,     0.03,2,     0.76,2, -999.000,9, -999.000,9, -999.000,9,-999.0000,9,  -999.00,9,   -999.0,9,   -999.0,9,   -999.0,9,  -999.00,9,25, -999.00,   -999,-999.0000,-999.000,  9.3929,-999.000
     316N151_2,   A24,    52,  1,     12,     12,2,19970611,1548, 57.7478,  -9.9807, 1812,    455.9,   9.1619,  35.3320,2,  35.3335,2,    259.2,2,    260.0,2,     5.65,2,    12.60,2,     0.01,2,     0.81,2, -999.000,9, -999.000,9, -999.000,9,-999.0000,9,  -999.00,9,   -999.0,9,   -999.0,9,   -999.0,9,  -999.00,9,25, -999.00,   -999,-999.0000,-999.000,  9.1108,-999.000
     316N151_2,   A24,    52,  1,     11,     11,2,19970611,1548, 57.7478,  -9.9807, 1812,    556.7,   8.9378,  35.3094,2,  35.3094,2,    264.7,2,    266.8,2,     5.30,2,    12.40,2,     0.01,2,     0.80,2,    3.717,2,    1.959,2, -999.000,9,-999.0000,9,  -999.00,9,   -999.0,9,   -999.0,9,   -999.0,9,  -999.00,9,25, -999.00,   -999,-999.0000,-999.000,  8.8760,-999.000
     316N151_2,   A24,    52,  1,     10,     10,2,19970611,1548, 57.7478,  -9.9807, 1812,    657.0,   8.8004,  35.2959,2,  35.2992,2,    264.9,2,    268.1,2,     5.54,2,    12.50,2,     0.01,2,     0.81,2, -999.000,9, -999.000,9, -999.000,9,-999.0000,9,  -999.00,9,   -999.0,9,   -999.0,9,   -999.0,9,  -999.00,9,25, -999.00,   -999,-999.0000,-999.000,  8.7278,-999.000
     316N151_2,   A24,    52,  1,      9,      9,2,19970611,1548, 57.7478,  -9.9807, 1812,    758.3,   8.6460,  35.2770,2,  35.2773,2,    260.0,2,    261.7,2,     6.25,2,    13.22,2,     0.01,2,     0.86,2,    3.643,2,    1.886,2, -999.000,9,-999.0000,9,  -999.00,9,   -999.0,9,   -999.0,9,   -999.0,9,  -999.00,9,25, -999.00,   -999,-999.0000,-999.000,  8.5626,-999.000
     316N151_2,   A24,    52,  1,      8,      8,2,19970611,1548, 57.7478,  -9.9807, 1812,    858.5,   8.2826,  35.2474,2,  35.2482,2,    246.5,2,    245.1,2,     7.92,2,    14.90,2,     0.01,2,     0.97,2, -999.000,9, -999.000,9, -999.000,9,-999.0000,9,  -999.00,9,   -999.0,9,   -999.0,9,   -999.0,9,  -999.00,9,25, -999.00,   -999,-999.0000,-999.000,  8.1900,-999.000
     316N151_2,   A24,    52,  1,      7,      7,2,19970611,1548, 57.7478,  -9.9807, 1812,    958.8,   7.8189,  35.2293,2,  35.2271,2,    229.9,2,    230.9,2,     9.41,2,    16.44,2,     0.00,2,     1.06,2,    2.814,2,    1.388,2, -999.000,9,-999.0000,9,  -999.00,9,   -999.0,9,   -999.0,9,   -999.0,9,  -999.00,9,25, -999.00,   -999,-999.0000,-999.000,  7.7181,-999.000
     316N151_2,   A24,    52,  1,      6,      6,2,19970611,1548, 57.7478,  -9.9807, 1812,   1060.5,   7.4580,  35.2043,2,  35.2046,2,    231.4,2,    230.6,2,     9.83,2,    16.83,2,     0.00,2,     1.08,2, -999.000,9, -999.000,9, -999.000,9,-999.0000,9,  -999.00,9,   -999.0,9,   -999.0,9,   -999.0,9,  -999.00,9,25, -999.00,   -999,-999.0000,-999.000,  7.3486,-999.000
     316N151_2,   A24,    52,  1,      5,      5,2,19970611,1548, 57.7478,  -9.9807, 1812,   1161.0,   6.5822,  35.1513,2,  35.1517,2,    235.4,2,    235.9,2,    10.45,2,    17.12,2,     0.00,2,     1.11,2,    2.574,2,    1.262,2, -999.000,9,-999.0000,9,  -999.00,9,   -999.0,9,   -999.0,9,   -999.0,9,  -999.00,9,25, -999.00,   -999,-999.0000,-999.000,  6.4693,-999.000
     316N151_2,   A24,    52,  1,      4,      4,2,19970611,1548, 57.7478,  -9.9807, 1812,   1313.2,   5.8034,  35.0960,2,  35.0987,2,    240.1,2,    239.7,2,    11.08,2,    17.50,2,     0.00,2,     1.14,2, -999.000,9, -999.000,9, -999.000,9,-999.0000,9,  -999.00,9,   -999.0,9,   -999.0,9,   -999.0,9,  -999.00,9,25, -999.00,   -999,-999.0000,-999.000,  5.6820,-999.000
     316N151_2,   A24,    52,  1,      3,      3,2,19970611,1548, 57.7478,  -9.9807, 1812,   1564.5,   4.3954,  34.9772,2,  34.9769,2,    256.7,2,    257.9,2,    12.08,2,    17.69,2,     0.00,2,     1.16,2,    2.128,2,    1.018,2, -999.000,9,-999.0000,9,  -999.00,9,   -999.0,9,   -999.0,9,   -999.0,9,  -999.00,9,25, -999.00,   -999,-999.0000,-999.000,  4.2647,-999.000
     316N151_2,   A24,    52,  1,      2,      2,2,19970611,1548, 57.7478,  -9.9807, 1812,   1716.2,   4.0761,  34.9487,2,  34.9485,2,    263.1,2,    263.0,2,    12.51,2,    17.64,2,     0.00,2,     1.16,2,    2.023,2,    0.973,2, -999.000,9,-999.0000,9,  -999.00,9,   -999.0,9,   -999.0,9,   -999.0,9,  -999.00,9,25, -999.00,   -999,-999.0000,-999.000,  3.9349,-999.000
     316N151_2,   A24,    52,  1,      1,      1,2,19970611,1548, 57.7478,  -9.9807, 1812,   1822.6,   3.7292,  34.9290,2,  34.9289,2,    266.6,2,    266.5,2,    13.91,2,    17.63,2,     0.02,2,     1.20,2,    1.749,2,    0.832,2, -999.000,9,-999.0000,9,  -999.00,9,   -999.0,9,   -999.0,9,   -999.0,9,  -999.00,9,25, -999.00,   -999,-999.0000,-999.000,  3.5826,-999.000
     316N151_2,   A24,    53,  1,     24,     24,2,19970611,1832, 57.7427, -10.4207, 2114,      2.2,  12.2683,  35.3950,2,  35.3951,2,    268.8,2,    274.6,2,     0.41,2,     4.10,2,     0.08,2,     0.28,2,    3.530,2,    1.856,2, -999.000,5,   1.8044,2,    -2.34,2,   2083.0,2,    435.8,2,   2335.9,6,     7.92,6,25,   20.00,   -999,  0.0000,   0.170, 12.2680,-999.000
     316N151_2,   A24,    53,  1,     23,     23,2,19970611,1832, 57.7427, -10.4207, 2114,     35.7,  11.0339,  35.4018,2,  35.4008,2,    276.0,2,    274.4,2,     1.27,2,     6.74,2,     0.18,2,     0.45,2,    3.608,2,    1.898,2, -999.000,9,-999.0000,9,  -999.00,9,   2101.2,2,    485.7,2,   2334.1,2,     7.88,2,25,   20.00,   -999,-999.0000,-999.000, 11.0295,-999.000
     316N151_2,   A24,    53,  1,     22,     22,2,19970611,1832, 57.7427, -10.4207, 2114,     73.7,  10.1950,  35.4262,2,  35.4265,2,    265.0,2,    264.3,2,     2.99,2,     9.17,2,     0.39,2,     0.65,2, -999.000,9, -999.000,9, -999.000,5,   1.8152,2,    -1.36,2,   2124.3,2,    549.6,2,   2333.8,2,     7.84,2,25,   20.00,   -999,  0.0000,   0.170, 10.1863,-999.000
     316N151_2,   A24,    53,  1,     21,     21,2,19970611,1832, 57.7427, -10.4207, 2114,    104.3,  10.0593,  35.4213,2,  35.4196,2,    260.8,2,    262.6,2,     4.05,2,    10.77,2,     0.09,2,     0.68,2,    3.631,2,    1.913,2, -999.000,9,-999.0000,9,  -999.00,9,   2125.6,2,    559.6,2,   2331.8,2,     7.82,2,25,   20.00,   -999,-999.0000,-999.000, 10.0471,-999.000
     316N151_2,   A24,    53,  1,     20,     20,2,19970611,1832, 57.7427, -10.4207, 2114,    154.2,   9.8619,  35.4097,2,  35.4099,2,    261.1,2,    262.2,2,     5.00,2,    11.42,2,     0.01,2,     0.72,2, -999.000,9, -999.000,9, -999.000,9,-999.0000,9,  -999.00,9,   2130.5,2,    573.7,2,   2330.4,2,     7.82,2,25,   20.00,   -999,-999.0000,-999.000,  9.8441,-999.000
     316N151_2,   A24,    53,  1,     19,     19,2,19970611,1832, 57.7427, -10.4207, 2114,    203.4,   9.7669,  35.4057,2,  35.4046,2,    263.1,2,    264.2,2,     5.09,2,    11.28,2,     0.01,2,     0.72,2,    3.628,2,    1.910,2, -999.000,5,   1.9429,3,    -2.15,3,   2128.0,2,    573.5,2,   2330.5,2,     7.81,2,25,   20.00,   -999,  0.0000,   0.130,  9.7435,-999.000
     316N151_2,   A24,    53,  1,     18,     18,2,19970611,1832, 57.7427, -10.4207, 2114,    303.8,   9.6309,  35.3884,2,  35.3888,2,    266.8,2,    265.2,2,     5.18,2,    11.47,2,     0.01,2,     0.73,2,    3.672,2,    1.935,2, -999.000,9,-999.0000,9,  -999.00,9,   2129.2,2,    573.9,2,   2329.7,2,     7.82,2,25,   20.00,   -999,-999.0000,-999.000,  9.5961,-999.000
     316N151_2,   A24,    53,  1,     17,     17,2,19970611,1832, 57.7427, -10.4207, 2114,    402.1,   9.4361,  35.3650,2,  35.3612,2,    260.6,2,    260.3,2,     5.53,2,    12.09,2,     0.02,2,     0.78,2,    3.546,2,    1.849,2, -999.000,9,-999.0000,9,  -999.00,9,   2134.1,2,    589.4,2,   2326.6,2,     7.80,2,25,   20.00,   -999,-999.0000,-999.000,  9.3904,-999.000
     316N151_2,   A24,    53,  1,     16,     16,2,19970611,1832, 57.7427, -10.4207, 2114,    504.3,   9.1096,  35.3283,2,  35.3290,2,    260.9,2,    263.5,2,     5.72,2,    12.43,2,     0.01,2,     0.81,2,    3.635,2,    1.899,2, -999.000,5,   1.8361,2,    -0.76,2,   2133.5,2,    598.3,2,   2326.9,2,     7.80,2,25,   20.00,   -999,  0.0000,   0.170,  9.0532,-999.000
     316N151_2,   A24,    53,  1,     15,     15,2,19970611,1832, 57.7427, -10.4207, 2114,    605.8,   8.9160,  35.3066,2,  35.3064,2,    263.4,2,    265.8,2,     5.65,2,    12.52,2,     0.01,2,     0.81,2,    3.711,2,    1.918,2, -999.000,9,-999.0000,9,  -999.00,9,   2134.2,2,    602.6,2,   2324.8,2,     7.80,2,25,   20.00,   -999,-999.0000,-999.000,  8.8487,-999.000
     316N151_2,   A24,    53,  1,     14,     14,2,19970611,1832, 57.7427, -10.4207, 2114,    706.5,   8.7197,  35.2845,2,  35.2855,2,    250.5,2,    252.1,2,     6.99,2,    13.78,2,     0.01,2,     0.89,2,    3.436,2,    1.759,2, -999.000,9,-999.0000,9,  -999.00,9,   2139.7,2,    631.3,2,   2325.4,2,     7.78,2,25,   20.00,   -999,-999.0000,-999.000,  8.6418,-999.000
     316N151_2,   A24,    53,  1,     13,     13,2,19970611,1832, 57.7427, -10.4207, 2114,    807.6,   8.3885,  35.2617,2,  35.2614,2,    239.7,2,    238.0,2,     8.51,2,    15.31,2,     0.00,2,     0.98,2,    3.061,2,    1.549,2, -999.000,5,   1.8580,2,     2.60,2,   2151.4,2,    664.2,2,   2326.7,2,     7.75,2,25,   20.00,   -999,  0.0000,   0.160,  8.3010,-999.000
     316N151_2,   A24,    53,  1,     12,     12,2,19970611,1832, 57.7427, -10.4207, 2114,    907.2,   8.0576,  35.2331,2,  35.2395,2,    233.3,2,    233.2,2,     9.25,2,    15.93,2,     0.00,2,     1.03,2,    2.901,2,    1.452,2, -999.000,9,-999.0000,9,  -999.00,9,   2155.0,2,    687.7,2,   2324.9,2,     7.76,2,25,   20.00,   -999,-999.0000,-999.000,  7.9609,-999.000
     316N151_2,   A24,    53,  1,     11,     11,2,19970611,1832, 57.7427, -10.4207, 2114,   1009.0,   7.5411,  35.2115,2,  35.2119,2,    229.9,2,    228.1,2,    10.31,2,    16.80,2,     0.00,2,     1.09,2,    2.605,2,    1.301,2, -999.000,5,   1.9367,2,     4.88,2,   2160.8,2,    711.4,2,   2326.2,2,     7.74,2,25,   20.00,   -999,  0.0000,   0.160,  7.4367,-999.000
     316N151_2,   A24,    53,  1,     10,     10,2,19970611,1832, 57.7427, -10.4207, 2114,   1110.6,   7.1692,  35.1880,2,  35.1875,2,    229.8,2,    230.9,2,    10.60,2,    16.90,2,     0.00,2,     1.10,2,    2.594,2,    1.278,2, -999.000,9,-999.0000,9,  -999.00,9,   2161.5,2,    720.6,2,   2323.2,2,     7.74,2,25,   20.00,   -999,-999.0000,-999.000,  7.0567,-999.000
     316N151_2,   A24,    53,  1,      9,      9,2,19970611,1832, 57.7427, -10.4207, 2114,   1212.2,   6.8068,  35.1657,2,  35.1664,2,    229.9,2,    230.7,2,    11.27,2,    17.33,2,     0.00,2,     1.12,2,    2.446,2,    1.202,2, -999.000,9,-999.0000,9,  -999.00,9,   2164.8,2,    731.4,2,   2321.2,2,     7.72,2,25,   20.00,   -999,-999.0000,-999.000,  6.6865,-999.000
     316N151_2,   A24,    53,  1,      8,      8,2,19970611,1832, 57.7427, -10.4207, 2114,   1313.8,   6.1391,  35.1188,2,  35.1213,2,    236.3,2,    238.1,2,    10.23,3,    17.33,2,     0.00,2,     1.12,2, -999.000,9, -999.000,9, -999.000,9,-999.0000,9,  -999.00,9,   2162.7,2,    743.1,2,   2319.5,2,     7.72,2,25,   20.00,   -999,-999.0000,-999.000,  6.0143,-999.000
     316N151_2,   A24,    53,  1,      7,      7,2,19970611,1832, 57.7427, -10.4207, 2114,   1415.0,   5.4652,  35.0661,2,  35.0674,2,    242.6,2,    244.5,2,    11.20,2,    17.53,2,     0.00,2,     1.14,2,    2.306,2,    1.136,2, -999.000,9,-999.0000,9,  -999.00,9,   2162.9,2,    755.9,2,   2315.5,2,     7.71,2,25,   20.00,   -999,-999.0000,-999.000,  5.3369,-999.000
     316N151_2,   A24,    53,  1,      6,      6,2,19970611,1832, 57.7427, -10.4207, 2114,   1516.7,   4.9553,  35.0248,2,  35.0262,2,    251.5,2,    250.9,2,    12.24,2,    17.52,2,     0.00,2,     1.14,2,    2.262,2,    1.084,2, -999.000,9,-999.0000,9,  -999.00,9,   2161.8,2,    755.4,2,   2314.5,2,     7.72,2,25,   20.00,   -999,-999.0000,-999.000,  4.8227,-999.000
     316N151_2,   A24,    53,  1,      5,      5,2,19970611,1832, 57.7427, -10.4207, 2114,   1617.5,   4.4667,  34.9844,2,  34.9815,2,    258.8,2,    257.4,2,    12.62,2,    17.62,2,     0.00,2,     1.15,2,    2.143,2,    1.026,2, -999.000,5,   5.8272,4,    -1.63,4,   2160.5,2,    762.9,2,   2310.5,2,     7.71,2,25,   20.00,   -999,  0.0000,   0.140,  4.3300,-999.000
     316N151_2,   A24,    53,  1,      4,      4,2,19970611,1832, 57.7427, -10.4207, 2114,   1718.6,   4.1414,  34.9523,2,  34.9520,2,    262.4,2,    262.1,2,    13.01,2,    17.57,2,     0.00,2,     1.16,2,    2.078,2,    0.985,2, -999.000,9,-999.0000,9,  -999.00,9,   2159.0,2,    759.9,2,   2310.3,2,     7.71,2,25,   20.00,   -999,-999.0000,-999.000,  3.9992,-999.000
     316N151_2,   A24,    53,  1,      3,      3,2,19970611,1832, 57.7427, -10.4207, 2114,   1820.9,   3.8897,  34.9340,2,  34.9339,2,    266.0,2,    271.2,2,    13.49,2,    17.52,2,     0.00,2,     1.15,2,    1.945,2,    0.939,2, -999.000,5,   1.8621,2,     8.52,2,   2158.0,2,    760.0,2,   2308.9,2,     7.71,2,25,   20.00,   -999,  0.0000,   0.160,  3.7412,-999.000
     316N151_2,   A24,    53,  1,      2,      2,2,19970611,1832, 57.7427, -10.4207, 2114,   1972.9,   3.7032,  34.9266,2,  34.9264,2,    264.5,2,   -999.0,5,    14.36,2,    17.47,2,     0.00,2,     1.16,2,    1.718,2,    0.833,2, -999.000,9,-999.0000,9,  -999.00,9,   2157.5,2,    758.5,2,   2311.4,2,     7.72,2,25,   20.00,   -999,-999.0000,-999.000,  3.5428,-999.000
     316N151_2,   A24,    53,  1,      1,      1,2,19970611,1832, 57.7427, -10.4207, 2114,   2126.0,   3.2471,  34.9353,2,  34.9349,2,    260.3,2,    261.8,2,    21.18,2,    18.14,2,     0.01,2,     1.21,2,    0.955,2,    0.471,2, -999.000,5,   1.8794,2,     7.24,2,   2167.5,2,    760.3,2,   2322.5,2,     7.72,2,25,   20.00,   -999,  0.0000,   0.160,  3.0790,-999.000