BOTTLE,20220629CCHSIOAMB
EXPOCODE,SECT_ID,STNNBR,CASTNO,SAMPNO,BTLNBR,BTLNBR_FLAG_W,DATE,TIME,LATITUDE,LONGITUDE,DEPTH,CTDPRS,CTDTMP,CTDSAL,CTDSAL_FLAG_W,SALNTY,SALNTY_FLAG_W,CTDOXY,CTDOXY_FLAG_W,OXYGEN,OXYGEN_FLAG_W,SILCAT,SILCAT_FLAG_W,NITRAT,NITRAT_FLAG_W,NITRIT,NITRIT_FLAG_W,PHSPHT,PHSPHT_FLAG_W,CFC-11,CFC-11_FLAG_W,CFC-12,CFC-12_FLAG_W,TRITUM,TRITUM_FLAG_W,HELIUM,HELIUM_FLAG_W,DELHE3,DELHE3_FLAG_W,TCARBN,TCARBN_FLAG_W,PCO2,PCO2_FLAG_W,ALKALI,ALKALI_FLAG_W,PH,PH_FLAG_W,PH_TMP,PCO2TMP,CTDRAW,HELIER,DELHER,THETA,TRITER
,,,,,,,,,,,,DBAR,ITS-90,PSS-78,,PSS-78,,UMOL/KG,,UMOL/KG,,UMOL/KG,,UMOL/KG,,UMOL/KG,,UMOL/KG,,PMOL/KG,,PMOL/KG,,TU,,NMOL/KG,,PERCNT,,UMOL/KG,,UATM,,UMOL/KG,,,,DEG C,DEG C,,NMOL/KG,PERCNT,DEG C,TU
     316N151_2,   A24,   131,  1,     29,     29,2,19970625,0744, 47.0892, -31.3278, 3752,      3.3,  14.6045,  35.4180,2,  35.4216,2,    271.0,2,    264.3,2,     0.87,2,     1.98,2,     0.08,2,     0.16,2,    3.130,2,    1.696,2, -999.000,9,-999.0000,9,  -999.00,9,   2069.6,2,    403.5,2,   2336.0,6,     7.96,6,25,   20.00,   -999,-999.0000,-999.000, 14.6040,-999.000
     316N151_2,   A24,   131,  1,     28,     28,2,19970625,0744, 47.0892, -31.3278, 3752,     31.3,  13.4514,  35.4679,2,  35.4378,2,    262.7,2,    269.4,2,     1.07,2,     2.56,2,     0.10,2,     0.20,2, -999.000,9, -999.000,9, -999.000,9,-999.0000,9,  -999.00,9,   2074.2,2,    411.0,2,   2340.2,2,     7.95,2,25,   20.00,   -999,-999.0000,-999.000, 13.4470,-999.000
     316N151_2,   A24,   131,  1,     27,     27,2,19970625,0744, 47.0892, -31.3278, 3752,     66.8,  12.3792,  35.4331,2,  35.4331,2,    253.1,2,    257.8,2,     2.79,2,     5.52,2,     0.27,2,     0.41,2,    3.297,2,    1.765,2, -999.000,9,-999.0000,9,  -999.00,9,   2096.0,2,    464.8,2,   2333.9,2,     7.90,2,25,   20.00,   -999,-999.0000,-999.000, 12.3703,-999.000
     316N151_2,   A24,   131,  1,     26,     26,2,19970625,0744, 47.0892, -31.3278, 3752,     96.8,  12.2063,  35.5508,2,  35.5720,2,    230.1,2,    231.0,2,     4.31,2,    10.30,2,     0.02,2,     0.63,2, -999.000,9, -999.000,9, -999.000,9,-999.0000,9,  -999.00,9,   2122.2,2,    521.9,2,   2340.0,2,     7.86,2,25,   20.00,   -999,-999.0000,-999.000, 12.1935,-999.000
     316N151_2,   A24,   131,  1,     25,     25,2,19970625,0744, 47.0892, -31.3278, 3752,    136.4,  11.5474,  35.4539,2,  35.4525,2,    234.6,2,    234.3,2,     5.12,2,    11.00,2,     0.02,2,     0.69,2,    2.976,2,    1.592,2, -999.000,9,-999.0000,9,  -999.00,9,   2125.1,2,    541.5,2,   2333.9,2,     7.84,2,25,   20.00,   -999,-999.0000,-999.000, 11.5300,-999.000
     316N151_2,   A24,   131,  1,     24,     24,2,19970625,0744, 47.0892, -31.3278, 3752,    207.4,  11.3829,  35.5071,2,  35.5101,2,    224.4,2,    226.9,2,     5.82,2,    12.26,2,     0.02,2,     0.76,2,    2.786,2,    1.487,2, -999.000,9,-999.0000,9,  -999.00,9,   2133.2,2,    559.5,2,   2335.6,2,     7.83,2,25,   20.00,   -999,-999.0000,-999.000, 11.3566,-999.000
     316N151_2,   A24,   131,  1,     23,     23,2,19970625,0744, 47.0892, -31.3278, 3752,    307.5,  10.4085,  35.3849,2,  35.3857,2,    201.9,2,    242.2,2,     6.13,2,    12.42,2,     0.01,2,     0.79,2,    3.062,2,    1.620,2, -999.000,9,-999.0000,9,  -999.00,9,   2132.5,2,    572.3,2,   2331.1,2,     7.82,2,25,   20.00,   -999,-999.0000,-999.000, 10.3715,-999.000
     316N151_2,   A24,   131,  1,     22,     22,2,19970625,0744, 47.0892, -31.3278, 3752,    347.8,  10.0565,  35.3283,2,  35.3451,2,    235.2,2,    240.0,2,     6.53,2,    12.93,2,     0.01,2,     0.82,2,    3.028,2,    1.610,2, -999.000,9,-999.0000,9,  -999.00,9,   2134.2,2,   -999.0,9,   2328.0,2,     7.81,2,25, -999.00,   -999,-999.0000,-999.000, 10.0155,-999.000
     316N151_2,   A24,   131,  1,     21,     21,2,19970625,0744, 47.0892, -31.3278, 3752,    408.2,   9.2692,  35.2095,2,  35.2153,2,    229.3,2,    234.3,2,     7.64,2,    14.39,2,     0.01,2,     0.93,2,    2.927,2,    1.530,2, -999.000,9,-999.0000,9,  -999.00,9,   2142.5,2,    628.9,2,   2322.0,2,     7.79,2,25,   20.00,   -999,-999.0000,-999.000,  9.2233,-999.000
     316N151_2,   A24,   131,  1,     20,     20,2,19970625,0744, 47.0892, -31.3278, 3752,    509.3,   7.8724,  35.0350,2,  35.0343,2,    227.5,2,    227.5,2,     9.67,2,    16.69,2,     0.01,2,     1.09,2,    2.795,2,    1.468,2, -999.000,9,-999.0000,9,  -999.00,9,   2152.7,2,    700.2,2,   2313.7,2,     7.74,2,25,   20.00,   -999,-999.0000,-999.000,  7.8203,-999.000
     316N151_2,   A24,   131,  1,     19,     19,2,19970625,0744, 47.0892, -31.3278, 3752,    580.1,   7.2058,  35.0077,2,  35.0097,2,    214.2,2,    206.6,2,    11.60,2,    19.00,2,     0.01,2,     1.23,2,    2.270,2,    1.145,2, -999.000,9,-999.0000,9,  -999.00,9,   2166.2,2,    763.7,2,   2313.7,2,     7.71,2,25,   20.00,   -999,-999.0000,-999.000,  7.1490,-999.000
     316N151_2,   A24,   131,  1,     18,     18,2,19970625,0744, 47.0892, -31.3278, 3752,    660.4,   5.9601,  34.9566,2,  34.9535,2,    205.9,2,    212.5,2,    12.51,2,    19.57,2,     0.00,2,     1.28,2,    2.243,2,    1.098,2, -999.000,9,-999.0000,9,  -999.00,9,   2172.5,2,    801.8,2,   2309.8,2,     7.69,2,25,   20.00,   -999,-999.0000,-999.000,  5.9014,-999.000
     316N151_2,   A24,   131,  1,     17,     17,2,19970625,0744, 47.0892, -31.3278, 3752,    750.9,   5.4024,  34.9561,2,  34.9555,2,    218.0,2,    225.5,2,    12.31,2,    19.15,2,     0.00,2,     1.25,2,    2.365,2,    1.160,2, -999.000,9,-999.0000,9,  -999.00,9,   2171.3,2,    800.5,2,   2309.8,2,     7.69,2,25,   20.00,   -999,-999.0000,-999.000,  5.3383,-999.000
     316N151_2,   A24,   131,  1,     16,     16,2,19970625,0744, 47.0892, -31.3278, 3752,    871.3,   4.8102,  34.9676,2,  34.9661,2,    236.0,2,    242.2,2,    12.10,2,    18.54,2,     0.00,2,     1.20,2,    2.471,2,    1.184,2, -999.000,9,-999.0000,9,  -999.00,9,   2168.6,2,    791.3,2,   2310.2,2,     7.70,2,25,   20.00,   -999,-999.0000,-999.000,  4.7390,-999.000
     316N151_2,   A24,   131,  1,     15,     15,2,19970625,0744, 47.0892, -31.3278, 3752,   1012.5,   4.5035,  34.9846,2,  34.9858,2,    247.1,2,    251.4,2,    12.10,2,    18.16,2,     0.00,2,     1.18,2,    2.144,2,    1.036,2, -999.000,9,-999.0000,9,  -999.00,9,   2166.0,2,    771.1,2,   2311.4,2,     7.71,2,25,   20.00,   -999,-999.0000,-999.000,  4.4221,-999.000
     316N151_2,   A24,   131,  1,     14,     14,2,19970625,0744, 47.0892, -31.3278, 3752,   1213.8,   3.9555,  34.9394,2,  34.9388,2,    262.9,2,    265.6,2,    12.10,2,    17.74,2,     0.00,2,     1.15,2,    2.226,2,    1.075,2, -999.000,9,-999.0000,9,  -999.00,9,   2160.8,2,    760.1,2,   2308.2,2,     7.71,2,25,   20.00,   -999,-999.0000,-999.000,  3.8613,-999.000
     316N151_2,   A24,   131,  1,     13,     13,2,19970625,0744, 47.0892, -31.3278, 3752,   1465.4,   3.5584,  34.9031,2,  34.9028,2,    274.3,2,    275.8,2,    11.99,2,    17.32,2,     0.00,2,     1.13,2,    2.444,2,    1.169,2, -999.000,9,-999.0000,9,  -999.00,9,   2157.1,2,   -999.0,9,   2304.9,2,     7.72,2,25, -999.00,   -999,-999.0000,-999.000,  3.4464,-999.000
     316N151_2,   A24,   131,  1,     12,     12,2,19970625,0744, 47.0892, -31.3278, 3752,   1715.9,   3.3467,  34.8893,2,  34.8887,2,    279.6,2,    281.1,2,    11.38,2,    17.08,2,     0.00,2,     1.12,2,    2.531,2,    1.206,2, -999.000,9,-999.0000,9,  -999.00,9,   2155.7,2,    752.0,2,   2305.6,2,     7.72,2,25,   20.00,   -999,-999.0000,-999.000,  3.2152,-999.000
     316N151_2,   A24,   131,  1,     11,     11,2,19970625,0744, 47.0892, -31.3278, 3752,   1966.9,   3.2286,  34.8851,2,  34.8842,2,    281.6,2,    283.1,2,    11.48,2,    16.99,2,     0.00,2,     1.11,2,    2.560,2,    1.220,2, -999.000,9,-999.0000,9,  -999.00,9,   2154.7,2,    749.2,2,   2304.6,2,     7.72,2,25,   20.00,   -999,-999.0000,-999.000,  3.0758,-999.000
     316N151_2,   A24,   131,  1,     10,     10,2,19970625,0744, 47.0892, -31.3278, 3752,   2164.6,   3.1825,  34.8903,2,  34.8899,2,    283.0,2,    282.8,2,    11.78,2,    16.90,2,     0.00,2,     1.11,2,    2.375,2,    1.135,2, -999.000,9,-999.0000,9,  -999.00,9,   2155.2,2,    743.8,2,   2305.7,2,     7.72,2,25,   20.00,   -999,-999.0000,-999.000,  3.0120,-999.000
     316N151_2,   A24,   131,  1,      9,      9,2,19970625,0744, 47.0892, -31.3278, 3752,   2384.4,   3.1722,  34.9099,2,  34.9091,2,    278.2,2,    278.1,2,    12.59,2,    16.85,2,     0.00,2,     1.11,2,    1.864,2,    0.910,2, -999.000,9,-999.0000,9,  -999.00,9,   2155.6,2,    742.4,2,   2308.0,2,     7.73,2,25,   20.00,   -999,-999.0000,-999.000,  2.9806,-999.000
     316N151_2,   A24,   131,  1,      8,      8,2,19970625,0744, 47.0892, -31.3278, 3752,   2616.2,   3.1056,  34.9240,2,  34.9231,2,    276.1,2,    274.6,2,    13.91,2,    16.90,2,     0.00,2,     1.11,2,    1.386,2,    0.687,2, -999.000,9,-999.0000,9,  -999.00,9,   2157.8,2,    739.3,2,   2309.6,2,     7.73,2,25,   20.00,   -999,-999.0000,-999.000,  2.8922,-999.000
     316N151_2,   A24,   131,  1,      7,      7,2,19970625,0744, 47.0892, -31.3278, 3752,   2818.5,   2.9871,  34.9279,2,  34.9276,2,    273.8,2,    272.9,2,    15.13,2,    16.90,2,     0.00,2,     1.12,2,    1.170,2,    0.568,2, -999.000,9,-999.0000,9,  -999.00,9,   2159.2,2,   -999.0,9,   2311.7,2,     7.72,2,25, -999.00,   -999,-999.0000,-999.000,  2.7555,-999.000
     316N151_2,   A24,   131,  1,      6,      6,2,19970625,0744, 47.0892, -31.3278, 3752,   3021.4,   2.8260,  34.9277,2,  34.9268,2,    273.1,2,    273.2,2,    16.05,2,    16.85,2,     0.00,2,     1.12,2,    1.084,2,    0.531,2, -999.000,9,-999.0000,9,  -999.00,9,   2159.7,2,    739.9,2,   2310.3,2,     7.72,2,25,   20.00,   -999,-999.0000,-999.000,  2.5768,-999.000
     316N151_2,   A24,   131,  1,      5,      5,2,19970625,0744, 47.0892, -31.3278, 3752,   3275.2,   2.6119,  34.9197,2,  34.9186,2,    271.8,2,    274.3,2,    17.37,2,    16.81,2,     0.00,2,     1.12,2,    1.082,2,    0.533,2, -999.000,9,-999.0000,9,  -999.00,9,   2159.6,2,   -999.0,9,   2313.4,2,     7.72,2,25, -999.00,   -999,-999.0000,-999.000,  2.3409,-999.000
     316N151_2,   A24,   131,  1,      4,      4,2,19970625,0744, 47.0892, -31.3278, 3752,   3478.9,   2.5217,  34.9157,2,  34.9145,2,    273.2,2,    274.5,2,    18.08,2,    16.76,2,     0.00,2,     1.12,2,    1.147,2,    0.571,2, -999.000,9,-999.0000,9,  -999.00,9,   2160.5,2,    738.6,2,   2313.3,2,     7.72,2,25,   20.00,   -999,-999.0000,-999.000,  2.2310,-999.000
     316N151_2,   A24,   131,  1,      3,      3,2,19970625,0744, 47.0892, -31.3278, 3752,   3631.7,   2.4810,  34.9118,2,  34.9114,2,    273.0,2,    274.8,2,    18.49,2,    16.76,2,     0.00,2,     1.13,2,    1.187,2,    0.566,2, -999.000,9,-999.0000,9,  -999.00,9,   2163.2,2,   -999.0,9,   2313.8,2,     7.72,2,25, -999.00,   -999,-999.0000,-999.000,  2.1747,-999.000
     316N151_2,   A24,   131,  1,      2,      2,2,19970625,0744, 47.0892, -31.3278, 3752,   3734.2,   2.4692,  34.9114,2,  34.9100,2,    273.9,2,    275.2,2,    18.48,2,    16.76,2,     0.00,2,     1.12,2,    1.216,2,    0.585,2, -999.000,9,-999.0000,9,  -999.00,9,   2162.8,2,   -999.0,9,   2315.5,2,     7.73,2,25, -999.00,   -999,-999.0000,-999.000,  2.1518,-999.000
     316N151_2,   A24,   131,  1,      1,      1,2,19970625,0744, 47.0892, -31.3278, 3752,   3810.9,   2.4632,  34.9117,2,  34.9097,2,    274.9,2,    274.8,2,    18.69,2,    16.76,2,     0.00,2,     1.13,2,    1.214,2,    0.592,2, -999.000,9,-999.0000,9,  -999.00,9,   2164.8,2,    739.5,2,   2315.4,2,     7.72,2,25,   20.00,   -999,-999.0000,-999.000,  2.1374,-999.000