BOTTLE,20220629CCHSIOAMB
EXPOCODE,SECT_ID,STNNBR,CASTNO,SAMPNO,BTLNBR,BTLNBR_FLAG_W,DATE,TIME,LATITUDE,LONGITUDE,DEPTH,CTDPRS,CTDTMP,CTDSAL,CTDSAL_FLAG_W,SALNTY,SALNTY_FLAG_W,CTDOXY,CTDOXY_FLAG_W,OXYGEN,OXYGEN_FLAG_W,SILCAT,SILCAT_FLAG_W,NITRAT,NITRAT_FLAG_W,NITRIT,NITRIT_FLAG_W,PHSPHT,PHSPHT_FLAG_W,CFC-11,CFC-11_FLAG_W,CFC-12,CFC-12_FLAG_W,TRITUM,TRITUM_FLAG_W,HELIUM,HELIUM_FLAG_W,DELHE3,DELHE3_FLAG_W,TCARBN,TCARBN_FLAG_W,PCO2,PCO2_FLAG_W,ALKALI,ALKALI_FLAG_W,PH,PH_FLAG_W,PH_TMP,PCO2TMP,CTDRAW,HELIER,DELHER,THETA,TRITER
,,,,,,,,,,,,DBAR,ITS-90,PSS-78,,PSS-78,,UMOL/KG,,UMOL/KG,,UMOL/KG,,UMOL/KG,,UMOL/KG,,UMOL/KG,,PMOL/KG,,PMOL/KG,,TU,,NMOL/KG,,PERCNT,,UMOL/KG,,UATM,,UMOL/KG,,,,DEG C,DEG C,,NMOL/KG,PERCNT,DEG C,TU
     316N151_2,   A24,   125,  1,     29,     29,2,19970624,0201, 50.0495, -33.0513, 3665,      3.6,  12.0634,  35.1344,2,  35.1347,2,    263.4,2,    272.9,2,     2.26,2,     3.88,2,     0.10,2,     0.33,2,    3.489,2,    1.850,2, -999.000,9,-999.0000,9,  -999.00,9,   2076.1,2,   -999.0,9,   2320.8,6,     7.91,6,25, -999.00,   -999,-999.0000,-999.000, 12.0630,-999.000
     316N151_2,   A24,   125,  1,     28,     28,2,19970624,0201, 50.0495, -33.0513, 3665,     35.7,  12.0274,  35.2178,2,  35.2170,2,    256.6,2,    268.1,2,     2.34,2,     4.37,2,     0.13,2,     0.38,2, -999.000,9, -999.000,9, -999.000,9,-999.0000,9,  -999.00,9,   2085.6,2,   -999.0,9,   2324.8,2,     7.91,2,25, -999.00,   -999,-999.0000,-999.000, 12.0228,-999.000
     316N151_2,   A24,   125,  1,     27,     27,2,19970624,0201, 50.0495, -33.0513, 3665,     85.3,  10.6104,  35.2165,2,  35.2186,2,    245.7,2,    231.5,2,     5.75,2,    11.58,2,     0.08,2,     0.77,2,    3.041,2,    1.590,2, -999.000,9,-999.0000,9,  -999.00,9,   2126.3,2,   -999.0,9,   2323.9,2,     7.82,2,25, -999.00,   -999,-999.0000,-999.000, 10.6001,-999.000
     316N151_2,   A24,   125,  1,     26,     26,2,19970624,0201, 50.0495, -33.0513, 3665,    134.6,  10.3665,  35.2767,2,  35.2772,2,    228.7,2,    224.9,2,     6.64,2,    13.08,2,     0.23,2,     0.86,2,    2.807,2,    1.489,2, -999.000,9,-999.0000,9,  -999.00,9,   2134.9,2,   -999.0,9,   2326.3,2,     7.80,2,25, -999.00,   -999,-999.0000,-999.000, 10.3505,-999.000
     316N151_2,   A24,   125,  1,     25,     25,2,19970624,0201, 50.0495, -33.0513, 3665,    184.4,  10.2981,  35.3535,2,  35.3515,2,    226.3,2,    234.9,2,     6.62,2,    12.86,2,     0.03,2,     0.83,2,    2.975,2,    1.578,2, -999.000,9,-999.0000,9,  -999.00,9,   2132.1,2,   -999.0,9,   2329.8,2,     7.82,3,25, -999.00,   -999,-999.0000,-999.000, 10.2762,-999.000
     316N151_2,   A24,   125,  1,     24,     24,2,19970624,0201, 50.0495, -33.0513, 3665,    264.7,   8.8189,  35.1291,2,  35.1269,2,    209.2,2,    207.6,2,     9.84,2,    17.20,2,     0.02,2,     1.12,2,    2.426,2,    1.258,2, -999.000,9,-999.0000,9,  -999.00,9,   2155.2,3,   -999.0,9,   2318.9,2,     7.74,2,25, -999.00,   -999,-999.0000,-999.000,  8.7903,-999.000
     316N151_2,   A24,   125,  1,     23,     23,2,19970624,0201, 50.0495, -33.0513, 3665,    344.6,   8.2748,  35.1147,2,  35.1151,2,    227.6,2,    246.9,2,     8.20,2,    14.57,2,     0.01,2,     0.97,2,    3.206,2,    1.689,2, -999.000,9,-999.0000,9,  -999.00,9,   2142.0,2,   -999.0,9,   2318.4,2,     7.78,4,25, -999.00,   -999,-999.0000,-999.000,  8.2388,-999.000
     316N151_2,   A24,   125,  1,     22,     22,2,19970624,0201, 50.0495, -33.0513, 3665,    453.0,   6.3552,  34.8980,2,  34.8963,2,    231.5,2,    234.9,2,    10.71,2,    17.53,2,     0.01,2,     1.17,2,    2.962,2,    1.517,2, -999.000,9,-999.0000,9,  -999.00,9,   2158.4,2,   -999.0,9,   2306.3,2,     7.72,2,25, -999.00,   -999,-999.0000,-999.000,  6.3142,-999.000
     316N151_2,   A24,   125,  1,     21,     21,2,19970624,0201, 50.0495, -33.0513, 3665,    552.6,   5.0018,  34.8239,2,  34.8196,2,    240.1,2,    255.6,2,    10.49,2,    17.17,2,     0.01,2,     1.15,2,    3.424,2,    1.724,2, -999.000,9,-999.0000,9,  -999.00,9,   2157.0,2,   -999.0,9,   2301.2,2,     7.71,2,25, -999.00,   -999,-999.0000,-999.000,  4.9573,-999.000
     316N151_2,   A24,   125,  1,     20,     20,2,19970624,0201, 50.0495, -33.0513, 3665,    651.1,   4.9299,  34.9054,2,  34.9054,2,    237.1,2,    239.8,2,    11.68,2,    18.49,2,     0.00,2,     1.23,2,    2.825,2,    1.390,2, -999.000,9,-999.0000,9,  -999.00,9,   2167.0,2,   -999.0,9,   2307.3,2,     7.69,2,25, -999.00,   -999,-999.0000,-999.000,  4.8772,-999.000
     316N151_2,   A24,   125,  1,     19,     19,2,19970624,0201, 50.0495, -33.0513, 3665,    748.8,   4.6228,  34.9435,2,  34.9426,2,    245.5,2,    248.0,2,    11.66,2,    18.25,2,     0.00,2,     1.21,2,    2.689,2,    1.316,2, -999.000,9,-999.0000,9,  -999.00,9,   2163.3,2,   -999.0,9,   2310.0,2,     7.71,2,25, -999.00,   -999,-999.0000,-999.000,  4.5634,-999.000
     316N151_2,   A24,   125,  1,     18,     18,2,19970624,0201, 50.0495, -33.0513, 3665,    846.6,   4.4893,  34.9615,2,  34.9584,2,    253.3,2,    251.8,2,    11.74,2,    18.21,2,     0.00,2,     1.20,2,    2.501,2,    1.215,2, -999.000,9,-999.0000,9,  -999.00,9,   2164.1,2,   -999.0,9,   2310.0,2,     7.70,2,25, -999.00,   -999,-999.0000,-999.000,  4.4224,-999.000
     316N151_2,   A24,   125,  1,     17,     17,2,19970624,0201, 50.0495, -33.0513, 3665,    995.6,   4.0522,  34.9332,2,  34.9358,2,    263.0,2,    263.2,2,    11.52,2,    17.79,2,     0.00,2,     1.17,2,    2.569,2,    1.237,2, -999.000,9,-999.0000,9,  -999.00,9,   2161.9,2,   -999.0,9,   2309.0,2,     7.71,2,25, -999.00,   -999,-999.0000,-999.000,  3.9758,-999.000
     316N151_2,   A24,   125,  1,     16,     16,2,19970624,0201, 50.0495, -33.0513, 3665,   1143.8,   3.7079,  34.9087,2,  34.9081,2,    272.1,2,    273.0,2,    11.29,2,    17.51,2,     0.00,2,     1.16,2,    2.728,2,    1.331,2, -999.000,9,-999.0000,9,  -999.00,9,   2158.3,2,   -999.0,9,   2306.6,2,     7.71,2,25, -999.00,   -999,-999.0000,-999.000,  3.6219,-999.000
     316N151_2,   A24,   125,  1,     15,     15,2,19970624,0201, 50.0495, -33.0513, 3665,   1344.3,   3.4425,  34.8888,2,  34.8880,2,    279.0,2,    280.0,2,    11.19,2,    17.17,2,     0.00,2,     1.14,2,    2.831,2,    1.366,2, -999.000,9,-999.0000,9,  -999.00,9,   2155.0,2,   -999.0,9,   2305.1,2,     7.72,2,25, -999.00,   -999,-999.0000,-999.000,  3.3422,-999.000
     316N151_2,   A24,   125,  1,     14,     14,2,19970624,0201, 50.0495, -33.0513, 3665,   1539.8,   3.3077,  34.8800,2,  34.8790,2,    283.9,2,    283.7,2,    11.07,2,    17.03,2,     0.00,2,     1.13,2,    2.850,2,    1.388,2, -999.000,9,-999.0000,9,  -999.00,9,   2154.2,2,   -999.0,9,   2301.8,2,     7.71,2,25, -999.00,   -999,-999.0000,-999.000,  3.1921,-999.000
     316N151_2,   A24,   125,  1,     13,     13,2,19970624,0201, 50.0495, -33.0513, 3665,   1741.6,   3.2179,  34.8753,2,  34.8741,2,    285.8,2,    286.8,2,    11.05,2,    16.85,2,     0.00,2,     1.12,2,    3.006,2,    1.448,2, -999.000,9,-999.0000,9,  -999.00,9,   2155.7,2,   -999.0,9,   2305.7,2,     7.72,2,25, -999.00,   -999,-999.0000,-999.000,  3.0857,-999.000
     316N151_2,   A24,   125,  1,     12,     12,2,19970624,0201, 50.0495, -33.0513, 3665,   1943.8,   3.1496,  34.8704,2,  34.8712,2,    287.5,2,    288.0,2,    11.03,2,    16.80,2,     0.00,2,     1.11,2,    3.032,2,    1.466,2, -999.000,9,-999.0000,9,  -999.00,9,   2154.3,2,   -999.0,9,   2303.7,2,     7.72,2,25, -999.00,   -999,-999.0000,-999.000,  3.0002,-999.000
     316N151_2,   A24,   125,  1,     11,     11,2,19970624,0201, 50.0495, -33.0513, 3665,   2094.0,   3.1146,  34.8719,2,  34.8712,2,    285.1,2,    288.4,2,    11.11,2,    16.71,2,     0.00,2,     1.11,2,    3.030,2,    1.457,2, -999.000,9,-999.0000,9,  -999.00,9,   2153.2,2,   -999.0,9,   2304.1,2,     7.72,2,25, -999.00,   -999,-999.0000,-999.000,  2.9518,-999.000
     316N151_2,   A24,   125,  1,     10,     10,2,19970624,0201, 50.0495, -33.0513, 3665,   2197.3,   3.1727,  34.8892,2,  34.8901,2,    284.9,2,    283.2,2,    12.00,2,    16.80,2,     0.00,2,     1.12,2,    2.449,2,    1.191,2, -999.000,9,-999.0000,9,  -999.00,9,   2155.6,2,   -999.0,9,   2303.2,2,     7.72,2,25, -999.00,   -999,-999.0000,-999.000,  2.9992,-999.000
     316N151_2,   A24,   125,  1,      9,      9,2,19970624,0201, 50.0495, -33.0513, 3665,   2343.9,   3.1528,  34.8972,2,  34.8994,2,    280.0,2,    281.7,2,    12.18,2,    16.71,2,     0.00,2,     1.11,2,    2.260,2,    1.102,2, -999.000,9,-999.0000,9,  -999.00,9,   2154.7,2,   -999.0,9,   2306.6,2,     7.72,2,25, -999.00,   -999,-999.0000,-999.000,  2.9655,-999.000
     316N151_2,   A24,   125,  1,      8,      8,2,19970624,0201, 50.0495, -33.0513, 3665,   2550.7,   3.1330,  34.9188,2,  34.9179,2,    278.2,2,    276.4,2,    13.38,2,    16.80,2,     0.00,2,     1.12,2,    1.629,2,    0.794,2, -999.000,9,-999.0000,9,  -999.00,9,   2156.2,2,   -999.0,9,   2308.0,2,     7.72,2,25, -999.00,   -999,-999.0000,-999.000,  2.9257,-999.000
     316N151_2,   A24,   125,  1,      7,      7,2,19970624,0201, 50.0495, -33.0513, 3665,   2755.0,   3.0567,  34.9266,2,  34.9272,2,    276.2,2,    274.5,2,    14.17,2,    16.75,2,     0.00,2,     1.12,2,    1.371,2,    0.667,2, -999.000,9,-999.0000,9,  -999.00,9,   2157.5,2,   -999.0,9,   2311.4,2,     7.72,2,25, -999.00,   -999,-999.0000,-999.000,  2.8302,-999.000
     316N151_2,   A24,   125,  1,      6,      6,2,19970624,0201, 50.0495, -33.0513, 3665,   3005.3,   2.8943,  34.9321,2,  34.9323,2,    274.5,2,    274.5,2,    15.16,2,    16.66,2,     0.00,2,     1.12,2,    1.346,2,    0.663,2, -999.000,9,-999.0000,9,  -999.00,9,   2159.3,2,   -999.0,9,   2311.6,2,     7.72,2,25, -999.00,   -999,-999.0000,-999.000,  2.6453,-999.000
     316N151_2,   A24,   125,  1,      5,      5,2,19970624,0201, 50.0495, -33.0513, 3665,   3211.7,   2.7331,  34.9268,2,  34.9273,2,    274.3,2,    275.2,2,    16.66,2,    16.71,2,     0.00,2,     1.12,2,    1.269,2,    0.619,2, -999.000,9,-999.0000,9,  -999.00,9,   2160.0,2,   -999.0,9,   2313.7,2,     7.72,2,25, -999.00,   -999,-999.0000,-999.000,  2.4660,-999.000
     316N151_2,   A24,   125,  1,      4,      4,2,19970624,0201, 50.0495, -33.0513, 3665,   3365.5,   2.6283,  34.9205,2,  34.9216,2,    274.5,2,    274.6,2,    17.24,2,    16.71,2,     0.00,2,     1.13,2,    1.247,2,    0.613,2, -999.000,9,-999.0000,9,  -999.00,9,   2160.6,2,   -999.0,9,   2314.3,2,     7.72,2,25, -999.00,   -999,-999.0000,-999.000,  2.3472,-999.000
     316N151_2,   A24,   125,  1,      3,      3,2,19970624,0201, 50.0495, -33.0513, 3665,   3520.6,   2.4665,  34.9104,2,  34.9114,2,    275.9,2,    276.2,2,    17.93,2,    16.71,2,     0.00,2,     1.13,2,    1.311,2,    0.626,2, -999.000,9,-999.0000,9,  -999.00,9,   2161.9,2,   -999.0,9,   2314.4,2,     7.72,2,25, -999.00,   -999,-999.0000,-999.000,  2.1727,-999.000
     316N151_2,   A24,   125,  1,      2,      2,2,19970624,0201, 50.0495, -33.0513, 3665,   3623.9,   2.4137,  34.9072,2,  34.9077,2,    276.2,2,    276.8,2,    18.12,2,    16.66,2,     0.00,2,     1.13,2,    1.358,2,    0.661,2, -999.000,9,-999.0000,9,  -999.00,9,   2161.8,2,   -999.0,9,   2314.6,2,     7.72,2,25, -999.00,   -999,-999.0000,-999.000,  2.1099,-999.000
     316N151_2,   A24,   125,  1,      1,      1,2,19970624,0201, 50.0495, -33.0513, 3665,   3715.6,   2.3844,  34.9034,2,  34.9053,2,    276.6,2,    279.1,2,    18.40,2,    16.61,2,     0.00,2,     1.13,2,    1.394,2,    0.678,2, -999.000,9,-999.0000,9,  -999.00,9,   2163.4,2,   -999.0,9,   2313.6,2,     7.72,2,25, -999.00,   -999,-999.0000,-999.000,  2.0713,-999.000