BOTTLE,20220629CCHSIOAMB
EXPOCODE,SECT_ID,STNNBR,CASTNO,SAMPNO,BTLNBR,BTLNBR_FLAG_W,DATE,TIME,LATITUDE,LONGITUDE,DEPTH,CTDPRS,CTDTMP,CTDSAL,CTDSAL_FLAG_W,SALNTY,SALNTY_FLAG_W,CTDOXY,CTDOXY_FLAG_W,OXYGEN,OXYGEN_FLAG_W,SILCAT,SILCAT_FLAG_W,NITRAT,NITRAT_FLAG_W,NITRIT,NITRIT_FLAG_W,PHSPHT,PHSPHT_FLAG_W,CFC-11,CFC-11_FLAG_W,CFC-12,CFC-12_FLAG_W,TRITUM,TRITUM_FLAG_W,HELIUM,HELIUM_FLAG_W,DELHE3,DELHE3_FLAG_W,TCARBN,TCARBN_FLAG_W,PCO2,PCO2_FLAG_W,ALKALI,ALKALI_FLAG_W,PH,PH_FLAG_W,PH_TMP,PCO2TMP,CTDRAW,HELIER,DELHER,THETA,TRITER
,,,,,,,,,,,,DBAR,ITS-90,PSS-78,,PSS-78,,UMOL/KG,,UMOL/KG,,UMOL/KG,,UMOL/KG,,UMOL/KG,,UMOL/KG,,PMOL/KG,,PMOL/KG,,TU,,NMOL/KG,,PERCNT,,UMOL/KG,,UATM,,UMOL/KG,,,,DEG C,DEG C,,NMOL/KG,PERCNT,DEG C,TU
     316N151_2,   A24,    17,  1,     31,     31,2,19970603,0648, 44.1123, -19.3588, 4831,     37.3,  14.6433,  35.7600,2,  35.7633,2,    255.1,2,    252.5,2,     0.89,2,     0.54,2,     0.10,2,     0.13,2, -999.000,9, -999.000,9, -999.000,9,-999.0000,9,  -999.00,9,   2083.4,2,   -999.0,9,   2352.4,6,     7.95,6,25, -999.00,   -999,-999.0000,-999.000, 14.6378,-999.000
     316N151_2,   A24,    17,  1,     30,     30,2,19970603,0648, 44.1123, -19.3588, 4831,     87.4,  12.9336,  35.7327,2,  35.7313,2,    239.5,2,    247.2,2,     2.10,2,     5.85,2,     0.02,2,     0.38,2, -999.000,9, -999.000,9, -999.000,9,-999.0000,9,  -999.00,9,   2112.1,2,   -999.0,9,   2346.7,2,     7.89,2,25, -999.00,   -999,-999.0000,-999.000, 12.9216,-999.000
     316N151_2,   A24,    17,  1,     29,     29,2,19970603,0648, 44.1123, -19.3588, 4831,    182.9,  12.3451,  35.6803,2,  35.6778,2,    247.2,2,    248.0,2,     3.00,2,     7.73,2,     0.01,2,     0.49,2, -999.000,9, -999.000,9, -999.000,9,-999.0000,9,  -999.00,9,   2119.9,2,   -999.0,9,   2344.9,2,     7.88,2,25, -999.00,   -999,-999.0000,-999.000, 12.3206,-999.000
     316N151_2,   A24,    17,  1,     28,     28,2,19970603,0648, 44.1123, -19.3588, 4831,    278.3,  11.7686,  35.5978,2,  35.5979,2,    237.1,2,    234.4,2,     4.11,2,    10.30,2,     0.00,2,     0.64,2, -999.000,9, -999.000,9, -999.000,9,-999.0000,9,  -999.00,9,   2130.5,2,   -999.0,9,   2339.6,2,     7.84,2,25, -999.00,   -999,-999.0000,-999.000, 11.7324,-999.000
     316N151_2,   A24,    17,  1,     27,     27,2,19970603,0648, 44.1123, -19.3588, 4831,    349.0,  11.3964,  35.5507,2,  35.5515,2,    226.6,2,    229.9,2,     4.61,2,    11.49,2,     0.00,2,     0.71,2, -999.000,9, -999.000,9, -999.000,9,-999.0000,9,  -999.00,9,   2137.9,2,   -999.0,9,   2337.5,2,     7.82,2,25, -999.00,   -999,-999.0000,-999.000, 11.3518,-999.000
     316N151_2,   A24,    17,  1,     26,     26,2,19970603,0648, 44.1123, -19.3588, 4831,    559.8,  10.6649,  35.4867,2,  35.4915,2,    224.9,2,    222.0,2,     5.82,2,    13.47,2,     0.00,2,     0.83,2, -999.000,9, -999.000,9, -999.000,9,-999.0000,9,  -999.00,9,   2149.2,2,   -999.0,9,   2334.1,2,     7.79,2,25, -999.00,   -999,-999.0000,-999.000, 10.5957,-999.000
     316N151_2,   A24,    17,  1,     25,     25,2,19970603,0648, 44.1123, -19.3588, 4831,    740.9,   9.8807,  35.4609,2,  35.4613,2,    200.9,2,    200.1,2,     8.44,2,    16.29,2,     0.00,2,     1.02,2, -999.000,9, -999.000,9, -999.000,9,-999.0000,9,  -999.00,9,   2167.2,2,   -999.0,9,   2337.8,2,     7.76,2,25, -999.00,   -999,-999.0000,-999.000,  9.7925,-999.000
     316N151_2,   A24,    17,  1,     24,     24,2,19970603,0648, 44.1123, -19.3588, 4831,    801.0,   9.7604,  35.5293,2,  35.5358,2,    193.4,2,    191.5,2,     9.24,2,    16.98,2,     0.00,2,     1.07,2, -999.000,9, -999.000,9, -999.000,9,-999.0000,9,  -999.00,9,   2175.2,2,   -999.0,9,   2343.9,2,     7.75,2,25, -999.00,   -999,-999.0000,-999.000,  9.6653,-999.000
     316N151_2,   A24,    17,  1,     23,     23,2,19970603,0648, 44.1123, -19.3588, 4831,    851.3,   9.4290,  35.5237,2,  35.5216,2,    191.1,2,    192.0,2,     9.75,2,    17.28,2,     0.00,2,     1.09,2, -999.000,9, -999.000,9, -999.000,9,-999.0000,9,  -999.00,9,   2178.3,2,   -999.0,9,   2344.5,2,     7.74,2,25, -999.00,   -999,-999.0000,-999.000,  9.3298,-999.000
     316N151_2,   A24,    17,  1,     22,     22,2,19970603,0648, 44.1123, -19.3588, 4831,    972.0,   9.2457,  35.6421,2,  35.6392,2,    193.7,2,    191.4,2,    10.25,2,    17.28,2,     0.00,2,     1.09,2, -999.000,9, -999.000,9, -999.000,9,-999.0000,9,  -999.00,9,   2186.4,2,   -999.0,9,   2354.6,2,     7.74,2,25, -999.00,   -999,-999.0000,-999.000,  9.1328,-999.000
     316N151_2,   A24,    17,  1,     21,     21,2,19970603,0648, 44.1123, -19.3588, 4831,   1123.0,   7.5494,  35.4449,2,  35.4453,2,    210.6,2,    208.8,2,    11.36,2,    17.82,2,     0.00,2,     1.14,2,    1.450,2,    0.706,2, -999.000,9,-999.0000,9,  -999.00,9,   2183.7,2,   -999.0,9,   2342.8,2,     7.74,2,25, -999.00,   -999,-999.0000,-999.000,  7.4319,-999.000
     316N151_2,   A24,    17,  1,     20,     20,2,19970603,0648, 44.1123, -19.3588, 4831,   1162.7,   7.3023,  35.4307,2,  35.4447,2,    208.5,2,    212.1,2,    11.05,2,    17.48,2,     0.00,2,     1.12,2, -999.000,9, -999.000,9, -999.000,9,-999.0000,9,  -999.00,9,   2180.4,2,   -999.0,9,   2342.7,2,     7.73,2,25, -999.00,   -999,-999.0000,-999.000,  7.1825,-999.000
     316N151_2,   A24,    17,  1,     19,     19,2,19970603,0648, 44.1123, -19.3588, 4831,   1253.2,   6.3292,  35.2789,2,  35.2795,2,    221.4,2,    224.4,2,    11.83,2,    17.99,2,     0.00,2,     1.17,2,    1.568,2,    0.760,2, -999.000,9,-999.0000,9,  -999.00,9,   -999.0,9,   -999.0,9,   -999.0,9,  -999.00,9,25, -999.00,   -999,-999.0000,-999.000,  6.2086,-999.000
     316N151_2,   A24,    17,  1,     18,     18,2,19970603,0648, 44.1123, -19.3588, 4831,   1414.2,   5.3072,  35.1383,2,  35.1376,2,    242.2,2,    241.2,2,    11.73,2,    17.89,2,     0.00,2,     1.18,2,    1.679,2,    0.802,2, -999.000,9,-999.0000,9,  -999.00,9,   -999.0,9,   -999.0,9,   -999.0,9,  -999.00,9,25, -999.00,   -999,-999.0000,-999.000,  5.1805,-999.000
     316N151_2,   A24,    17,  1,     17,     17,2,19970603,0648, 44.1123, -19.3588, 4831,   1564.9,   4.5133,  35.0306,2,  35.0301,2,    256.8,2,    255.4,2,    11.73,2,    17.70,2,     0.00,2,     1.18,2,    1.765,2,    0.845,2, -999.000,9,-999.0000,9,  -999.00,9,   -999.0,9,   -999.0,9,   -999.0,9,  -999.00,9,25, -999.00,   -999,-999.0000,-999.000,  4.3810,-999.000
     316N151_2,   A24,    17,  1,     16,     16,2,19970603,0648, 44.1123, -19.3588, 4831,   1655.2,   4.2370,  34.9998,2,  34.9943,2,    264.2,2,    261.6,2,    11.86,2,    17.64,2,     0.00,2,     1.16,2, -999.000,9, -999.000,9, -999.000,9,-999.0000,9,  -999.00,9,   -999.0,9,   -999.0,9,   -999.0,9,  -999.00,9,25, -999.00,   -999,-999.0000,-999.000,  4.0994,-999.000
     316N151_2,   A24,    17,  1,     15,     15,2,19970603,0648, 44.1123, -19.3588, 4831,   1745.1,   3.9482,  34.9636,2,  34.9628,2,    267.7,2,    266.4,2,    12.06,2,    17.49,2,     0.00,2,     1.15,2, -999.000,9, -999.000,9, -999.000,9,-999.0000,9,  -999.00,9,   -999.0,9,   -999.0,9,   -999.0,9,  -999.00,9,25, -999.00,   -999,-999.0000,-999.000,  3.8060,-999.000
     316N151_2,   A24,    17,  1,     14,     14,2,19970603,0648, 44.1123, -19.3588, 4831,   1875.7,   3.7834,  34.9511,2,  34.9504,2,    272.9,2,    269.1,2,    12.46,2,    17.44,2,     0.00,2,     1.15,2, -999.000,9, -999.000,9, -999.000,9,-999.0000,9,  -999.00,9,   -999.0,9,   -999.0,9,   -999.0,9,  -999.00,9,25, -999.00,   -999,-999.0000,-999.000,  3.6310,-999.000
     316N151_2,   A24,    17,  1,     13,     13,2,19970603,0648, 44.1123, -19.3588, 4831,   1965.8,   3.5389,  34.9149,2,  34.9159,2,    268.9,2,    274.2,2,    12.26,2,    17.24,2,     0.00,2,     1.15,2, -999.000,9, -999.000,9, -999.000,9,-999.0000,9,  -999.00,9,   -999.0,9,   -999.0,9,   -999.0,9,  -999.00,9,25, -999.00,   -999,-999.0000,-999.000,  3.3816,-999.000
     316N151_2,   A24,    17,  1,     12,     12,3,19970603,0648, 44.1123, -19.3588, 4831,   2025.2,   3.5388,  34.9228,2,  34.9669,4,    271.9,2,    268.9,4,    12.15,4,    17.04,4,     0.00,4,     1.13,4, -999.000,9, -999.000,9, -999.000,9,-999.0000,9,  -999.00,9,   -999.0,9,   -999.0,9,   -999.0,9,  -999.00,9,25, -999.00,   -999,-999.0000,-999.000,  3.3759,-999.000
     316N151_2,   A24,    17,  1,     11,     11,2,19970603,0648, 44.1123, -19.3588, 4831,   2115.1,   3.4725,  34.9246,2,  34.9244,2,    269.9,2,    272.5,2,    13.16,2,    17.19,2,     0.00,2,     1.15,2, -999.000,9, -999.000,9, -999.000,9,-999.0000,9,  -999.00,9,   -999.0,9,   -999.0,9,   -999.0,9,  -999.00,9,25, -999.00,   -999,-999.0000,-999.000,  3.3020,-999.000
     316N151_2,   A24,    17,  1,     10,     10,2,19970603,0648, 44.1123, -19.3588, 4831,   2264.9,   3.4174,  34.9383,2,  34.9379,2,    268.7,2,    269.3,2,    14.47,2,    17.34,2,     0.00,2,     1.16,2, -999.000,9, -999.000,9, -999.000,9,-999.0000,9,  -999.00,9,   -999.0,9,   -999.0,9,   -999.0,9,  -999.00,9,25, -999.00,   -999,-999.0000,-999.000,  3.2332,-999.000
     316N151_2,   A24,    17,  1,      9,      9,2,19970603,0648, 44.1123, -19.3588, 4831,   2374.3,   3.3429,  34.9464,2,  34.9464,2,    265.0,2,    266.7,2,    16.09,2,    17.49,2,     0.00,2,     1.18,2, -999.000,9, -999.000,9, -999.000,9,-999.0000,9,  -999.00,9,   -999.0,9,   -999.0,9,   -999.0,9,  -999.00,9,25, -999.00,   -999,-999.0000,-999.000,  3.1492,-999.000
     316N151_2,   A24,    17,  1,      7,      7,2,19970603,0648, 44.1123, -19.3588, 4831,   2708.3,   3.0598,  34.9524,2,  34.9517,2,    261.9,2,    260.2,2,    22.04,2,    18.24,2,     0.00,2,     1.23,2, -999.000,9, -999.000,9, -999.000,9,-999.0000,9,  -999.00,9,   -999.0,9,   -999.0,9,   -999.0,9,  -999.00,9,25, -999.00,   -999,-999.0000,-999.000,  2.8379,-999.000
     316N151_2,   A24,    17,  1,      8,      8,9,19970603,0648, 44.1123, -19.3588, 4831,   2708.3,   3.0598,  34.9524,2,-999.0000,9,    261.9,2,   -999.0,9,  -999.00,9,  -999.00,9,  -999.00,9,  -999.00,9, -999.000,9, -999.000,9, -999.000,9,-999.0000,9,  -999.00,9,   -999.0,9,   -999.0,9,   -999.0,9,  -999.00,9,25, -999.00,   -999,-999.0000,-999.000,  2.8379,-999.000
     316N151_2,   A24,    17,  1,      6,      6,2,19970603,0648, 44.1123, -19.3588, 4831,   3024.9,   2.8426,  34.9452,2,  34.9438,2,    251.8,2,    252.9,2,    29.02,2,    19.48,2,     0.00,2,     1.33,2, -999.000,9, -999.000,9, -999.000,9,-999.0000,9,  -999.00,9,   -999.0,9,   -999.0,9,   -999.0,9,  -999.00,9,25, -999.00,   -999,-999.0000,-999.000,  2.5926,-999.000
     316N151_2,   A24,    17,  1,      5,      5,2,19970603,0648, 44.1123, -19.3588, 4831,   3478.3,   2.6387,  34.9261,2,  34.9255,2,    244.3,2,    245.4,2,    37.11,2,    20.87,2,     0.00,2,     1.42,2, -999.000,9, -999.000,9, -999.000,9,-999.0000,9,  -999.00,9,   -999.0,9,   -999.0,9,   -999.0,9,  -999.00,9,25, -999.00,   -999,-999.0000,-999.000,  2.3451,-999.000
     316N151_2,   A24,    17,  1,      4,      4,2,19970603,0648, 44.1123, -19.3588, 4831,   3846.2,   2.5826,  34.9165,2,  34.9160,2,    241.2,2,    242.3,2,    40.76,2,    21.46,2,     0.00,2,     1.47,2, -999.000,9, -999.000,9, -999.000,9,-999.0000,9,  -999.00,9,   -999.0,9,   -999.0,9,   -999.0,9,  -999.00,9,25, -999.00,   -999,-999.0000,-999.000,  2.2496,-999.000
     316N151_2,   A24,    17,  1,      3,      3,2,19970603,0648, 44.1123, -19.3588, 4831,   4256.0,   2.5802,  34.9112,2,  34.9109,2,    239.5,2,    240.6,2,    42.59,2,    21.81,2,     0.00,2,     1.49,2, -999.000,9, -999.000,9, -999.000,9,-999.0000,9,  -999.00,9,   -999.0,9,   -999.0,9,   -999.0,9,  -999.00,9,25, -999.00,   -999,-999.0000,-999.000,  2.1997,-999.000
     316N151_2,   A24,    17,  1,      2,      2,2,19970603,0648, 44.1123, -19.3588, 4831,   4665.3,   2.6086,  34.9087,2,  34.9085,2,    239.3,2,    240.2,2,    43.09,2,    21.91,2,     0.00,2,     1.50,2, -999.000,9, -999.000,9, -999.000,9,-999.0000,9,  -999.00,9,   -999.0,9,   -999.0,9,   -999.0,9,  -999.00,9,25, -999.00,   -999,-999.0000,-999.000,  2.1776,-999.000
     316N151_2,   A24,    17,  1,      1,      1,2,19970603,0648, 44.1123, -19.3588, 4831,   4957.0,   2.6441,  34.9075,2,  34.9091,2,    240.1,2,    240.2,2,    43.40,2,    21.86,2,     0.00,2,     1.50,2,    0.053,2,    0.033,2, -999.000,9,-999.0000,9,  -999.00,9,   -999.0,9,   -999.0,9,   -999.0,9,  -999.00,9,25, -999.00,   -999,-999.0000,-999.000,  2.1753,-999.000