BOTTLE,20220629CCHSIOAMB
EXPOCODE,SECT_ID,STNNBR,CASTNO,SAMPNO,BTLNBR,BTLNBR_FLAG_W,DATE,TIME,LATITUDE,LONGITUDE,DEPTH,CTDPRS,CTDTMP,CTDSAL,CTDSAL_FLAG_W,SALNTY,SALNTY_FLAG_W,CTDOXY,CTDOXY_FLAG_W,OXYGEN,OXYGEN_FLAG_W,SILCAT,SILCAT_FLAG_W,NITRAT,NITRAT_FLAG_W,NITRIT,NITRIT_FLAG_W,PHSPHT,PHSPHT_FLAG_W,CFC-11,CFC-11_FLAG_W,CFC-12,CFC-12_FLAG_W,TRITUM,TRITUM_FLAG_W,HELIUM,HELIUM_FLAG_W,DELHE3,DELHE3_FLAG_W,TCARBN,TCARBN_FLAG_W,PCO2,PCO2_FLAG_W,ALKALI,ALKALI_FLAG_W,PH,PH_FLAG_W,PH_TMP,PCO2TMP,CTDRAW,HELIER,DELHER,THETA,TRITER
,,,,,,,,,,,,DBAR,ITS-90,PSS-78,,PSS-78,,UMOL/KG,,UMOL/KG,,UMOL/KG,,UMOL/KG,,UMOL/KG,,UMOL/KG,,PMOL/KG,,PMOL/KG,,TU,,NMOL/KG,,PERCNT,,UMOL/KG,,UATM,,UMOL/KG,,,,DEG C,DEG C,,NMOL/KG,PERCNT,DEG C,TU
     316N151_2,   A24,    24,  1,     31,     31,2,19970604,2138, 46.4835, -15.6995, 4241,      2.1,  15.2189,  35.7425,2,  35.7434,2,    265.8,2,    265.8,2,     0.81,2,     0.06,2,     0.01,2,     0.07,2,    3.073,2,    1.605,2, -999.000,9,-999.0000,9,  -999.00,9,   2064.2,2,   -999.0,9,   2350.4,6,     7.97,6,25, -999.00,   -999,-999.0000,-999.000, 15.2186,-999.000
     316N151_2,   A24,    24,  1,     30,     30,2,19970604,2138, 46.4835, -15.6995, 4241,     36.9,  14.3460,  35.7328,2,  35.7414,2,    262.2,2,    253.1,2,     1.02,2,     0.95,2,     0.13,2,     0.18,2,    3.137,2,    1.682,2, -999.000,9,-999.0000,9,  -999.00,9,   2084.8,2,   -999.0,9,   2352.1,2,     7.94,2,25, -999.00,   -999,-999.0000,-999.000, 14.3406,-999.000
     316N151_2,   A24,    24,  1,     29,     29,2,19970604,2138, 46.4835, -15.6995, 4241,     87.0,  12.9067,  35.7312,2,  35.7300,2,    246.7,2,    253.6,2,     2.71,2,     6.56,2,     0.02,2,     0.41,2,    3.268,2,    1.746,2, -999.000,9,-999.0000,9,  -999.00,9,   2109.5,2,   -999.0,9,   2345.4,2,     7.89,2,25, -999.00,   -999,-999.0000,-999.000, 12.8948,-999.000
     316N151_2,   A24,    24,  1,     28,     28,2,19970604,2138, 46.4835, -15.6995, 4241,    146.2,  12.6113,  35.7116,2,  35.7122,2,    244.7,2,    249.6,2,     3.34,2,     7.92,2,     0.02,2,     0.49,2,    3.208,2,    1.684,2, -999.000,9,-999.0000,9,  -999.00,9,   2114.5,2,   -999.0,9,   2345.1,2,     7.87,2,25, -999.00,   -999,-999.0000,-999.000, 12.5915,-999.000
     316N151_2,   A24,    24,  1,     27,     27,2,19970604,2138, 46.4835, -15.6995, 4241,    207.7,  12.2998,  35.6672,2,  35.6715,2,    240.0,2,    246.1,2,     3.55,2,     8.53,2,     0.02,2,     0.54,2,    3.212,2,    1.713,2, -999.000,9,-999.0000,9,  -999.00,9,   2118.0,2,   -999.0,9,   2348.3,2,     7.87,2,25, -999.00,   -999,-999.0000,-999.000, 12.2720,-999.000
     316N151_2,   A24,    24,  1,     26,     26,2,19970604,2138, 46.4835, -15.6995, 4241,    308.3,  11.8232,  35.6017,2,  35.6009,2,    241.7,2,    240.5,2,     4.18,2,     9.95,2,     0.01,2,     0.62,2,    3.205,2,    1.700,2, -999.000,9,-999.0000,9,  -999.00,9,   2125.0,2,   -999.0,9,   2339.8,2,     7.84,2,25, -999.00,   -999,-999.0000,-999.000, 11.7830,-999.000
     316N151_2,   A24,    24,  1,     25,     25,2,19970604,2138, 46.4835, -15.6995, 4241,    408.4,  11.5148,  35.5672,2,  35.5685,2,    234.8,2,    239.1,2,     4.28,2,    10.40,2,     0.02,2,     0.65,2,    3.263,2,    1.701,2, -999.000,9,-999.0000,9,  -999.00,9,   2129.0,2,   -999.0,9,   2339.8,2,     7.84,2,25, -999.00,   -999,-999.0000,-999.000, 11.4621,-999.000
     316N151_2,   A24,    24,  1,     24,     24,2,19970604,2138, 46.4835, -15.6995, 4241,    508.4,  11.0992,  35.5091,2,  35.5091,2,    225.5,2,    225.2,2,     5.34,2,    12.47,2,     0.02,2,     0.77,2,    3.085,2,    1.602,2, -999.000,9,-999.0000,9,  -999.00,9,   2139.3,2,   -999.0,9,   2334.8,2,     7.81,2,25, -999.00,   -999,-999.0000,-999.000, 11.0349,-999.000
     316N151_2,   A24,    24,  1,     23,     23,2,19970604,2138, 46.4835, -15.6995, 4241,    609.2,  10.4398,  35.4406,2,  35.4411,2,    220.0,2,    218.1,2,     6.61,2,    14.05,2,     0.01,2,     0.88,2, -999.000,4,    1.452,2, -999.000,9,-999.0000,9,  -999.00,9,   2148.9,2,   -999.0,9,   2327.9,2,     7.78,2,25, -999.00,   -999,-999.0000,-999.000, 10.3653,-999.000
     316N151_2,   A24,    24,  1,     22,     22,2,19970604,2138, 46.4835, -15.6995, 4241,    709.7,  10.0135,  35.4322,2,  35.4314,2,    208.5,2,    204.4,2,     8.09,2,    15.88,2,     0.01,2,     0.99,2,    2.361,2,    1.183,2, -999.000,9,-999.0000,9,  -999.00,9,   2158.5,2,   -999.0,9,   2331.1,2,     7.75,2,25, -999.00,   -999,-999.0000,-999.000,  9.9285,-999.000
     316N151_2,   A24,    24,  1,     21,     21,2,19970604,2138, 46.4835, -15.6995, 4241,    810.7,   9.6486,  35.4906,2,  35.4906,2,    196.0,2,    192.7,2,     9.57,2,    17.19,2,     0.01,2,     1.08,2,    1.821,2,    0.896,2, -999.000,9,-999.0000,9,  -999.00,9,   2171.8,2,   -999.0,9,   2340.4,2,     7.75,2,25, -999.00,   -999,-999.0000,-999.000,  9.5530,-999.000
     316N151_2,   A24,    24,  1,     20,     20,2,19970604,2138, 46.4835, -15.6995, 4241,    912.3,   9.6402,  35.6264,2,  35.6247,2,    189.0,2,    189.0,2,     9.99,2,    17.24,2,     0.01,2,     1.07,2,    1.507,2,    0.759,2, -999.000,9,-999.0000,9,  -999.00,9,   2179.2,2,   -999.0,9,   2352.4,2,     7.75,2,25, -999.00,   -999,-999.0000,-999.000,  9.5320,-999.000
     316N151_2,   A24,    24,  1,     19,     19,2,19970604,2138, 46.4835, -15.6995, 4241,   1012.4,   9.2426,  35.6456,2,  35.6455,2,    187.8,2,    190.7,2,    10.51,2,    17.40,2,     0.01,2,     1.09,2,    1.374,2,    0.685,2, -999.000,9,-999.0000,9,  -999.00,9,   2183.7,2,   -999.0,9,   2352.7,2,     7.75,2,25, -999.00,   -999,-999.0000,-999.000,  9.1248,-999.000
     316N151_2,   A24,    24,  1,     18,     18,2,19970604,2138, 46.4835, -15.6995, 4241,   1113.3,   8.0561,  35.4777,2,  35.4801,2,    199.5,2,    202.2,2,    11.25,2,    17.91,2,     0.01,2,     1.13,2, -999.000,2,    0.717,2, -999.000,9,-999.0000,9,  -999.00,9,   2182.6,2,   -999.0,9,   2343.7,2,     7.73,2,25, -999.00,   -999,-999.0000,-999.000,  7.9357,-999.000
     316N151_2,   A24,    24,  1,     17,     17,2,19970604,2138, 46.4835, -15.6995, 4241,   1214.5,   7.3266,  35.4179,2,  35.4164,2,    214.8,2,    211.6,2,    11.57,2,    17.96,2,     0.00,2,     1.14,2,    1.458,2,    0.717,2, -999.000,9,-999.0000,9,  -999.00,9,   2180.8,2,   -999.0,9,   2340.3,2,     7.73,2,25, -999.00,   -999,-999.0000,-999.000,  7.2009,-999.000
     316N151_2,   A24,    24,  1,     16,     16,2,19970604,2138, 46.4835, -15.6995, 4241,   1317.1,   6.3083,  35.2735,2,  35.2777,2,    223.3,2,    225.6,2,    12.09,2,    18.07,2,     0.00,2,     1.16,2, -999.000,9, -999.000,9, -999.000,9,-999.0000,9,  -999.00,9,   2174.6,2,   -999.0,9,   2331.1,2,     7.71,2,25, -999.00,   -999,-999.0000,-999.000,  6.1812,-999.000
     316N151_2,   A24,    24,  1,     15,     15,2,19970604,2138, 46.4835, -15.6995, 4241,   1416.6,   5.5260,  35.1643,2,  35.1668,2,    237.8,2,    237.1,2,    12.19,2,    18.07,2,     0.00,2,     1.16,2,    1.666,2,    0.791,2, -999.000,9,-999.0000,9,  -999.00,9,   2171.4,2,   -999.0,9,   2323.4,2,     7.72,2,25, -999.00,   -999,-999.0000,-999.000,  5.3967,-999.000
     316N151_2,   A24,    24,  1,     14,     14,2,19970604,2138, 46.4835, -15.6995, 4241,   1517.9,   5.0339,  35.1057,2,  35.1029,2,    248.7,2,    246.2,2,    12.19,2,    17.97,2,     0.00,2,     1.16,2,    1.685,2,    0.810,2, -999.000,9,-999.0000,9,  -999.00,9,   2168.4,2,   -999.0,9,   2319.6,2,     7.71,2,25, -999.00,   -999,-999.0000,-999.000,  4.9000,-999.000
     316N151_2,   A24,    24,  1,     13,     13,2,19970604,2138, 46.4835, -15.6995, 4241,   1719.5,   4.3024,  35.0109,2,  35.0130,2,    258.8,2,    260.0,2,    12.50,2,    17.72,2,     0.00,2,     1.16,2,    1.630,2,    0.777,2, -999.000,9,-999.0000,9,  -999.00,9,   2161.2,2,   -999.0,9,   2313.3,2,     7.72,2,25, -999.00,   -999,-999.0000,-999.000,  4.1578,-999.000
     316N151_2,   A24,    24,  1,     12,     12,2,19970604,2138, 46.4835, -15.6995, 4241,   1922.2,   3.6627,  34.9258,2,  34.9235,2,    273.8,2,    272.7,2,    12.39,2,    17.42,2,     0.00,2,     1.15,2,    1.791,2,    0.849,2, -999.000,9,-999.0000,9,  -999.00,9,   2156.1,2,   -999.0,9,   2305.7,2,     7.71,2,25, -999.00,   -999,-999.0000,-999.000,  3.5077,-999.000
     316N151_2,   A24,    24,  1,     11,     11,2,19970604,2138, 46.4835, -15.6995, 4241,   2125.8,   3.5921,  34.9422,2,  34.9408,2,    269.8,2,    269.6,2,    13.87,2,    17.52,2,     0.00,2,     1.15,2,    1.281,2,    0.639,2, -999.000,9,-999.0000,9,  -999.00,9,   2156.8,2,   -999.0,9,   2309.8,2,     7.72,2,25, -999.00,   -999,-999.0000,-999.000,  3.4186,-999.000
     316N151_2,   A24,    24,  1,     10,     10,2,19970604,2138, 46.4835, -15.6995, 4241,   2327.7,   3.5254,  34.9636,2,  34.9630,2,    262.8,2,    264.0,2,    16.52,2,    17.88,2,     0.00,2,     1.18,2,    0.723,2,    0.366,2, -999.000,9,-999.0000,9,  -999.00,9,   2161.3,2,   -999.0,9,   2314.0,2,     7.71,2,25, -999.00,   -999,-999.0000,-999.000,  3.3331,-999.000
     316N151_2,   A24,    24,  1,      9,      9,2,19970604,2138, 46.4835, -15.6995, 4241,   2528.8,   3.3486,  34.9666,2,  34.9677,2,    259.1,2,    260.2,2,    19.91,2,    18.33,2,     0.00,2,     1.22,2,    0.464,2,    0.256,2, -999.000,9,-999.0000,9,  -999.00,9,   2165.5,2,   -999.0,9,   2320.9,2,     7.73,2,25, -999.00,   -999,-999.0000,-999.000,  3.1393,-999.000
     316N151_2,   A24,    24,  1,      8,      8,2,19970604,2138, 46.4835, -15.6995, 4241,   2734.0,   3.1014,  34.9591,2,  34.9583,2,    255.8,2,    256.3,2,    24.57,2,    18.99,2,     0.00,2,     1.27,2,    0.310,2,    0.159,2, -999.000,9,-999.0000,9,  -999.00,9,   2173.8,2,   -999.0,9,   2328.1,2,     7.72,2,25, -999.00,   -999,-999.0000,-999.000,  2.8760,-999.000
     316N151_2,   A24,    24,  1,      7,      7,2,19970604,2138, 46.4835, -15.6995, 4241,   2936.2,   2.9387,  34.9504,2,  34.9492,2,    251.9,2,    253.5,2,    28.07,2,    19.50,2,     0.00,2,     1.31,2,    0.263,2,    0.142,2, -999.000,9,-999.0000,9,  -999.00,9,   2177.6,2,   -999.0,9,   2332.4,2,     7.72,2,25, -999.00,   -999,-999.0000,-999.000,  2.6959,-999.000
     316N151_2,   A24,    24,  1,      6,      6,2,19970604,2138, 46.4835, -15.6995, 4241,   3140.9,   2.8167,  34.9437,2,  34.9433,2,    248.8,2,    250.5,2,    31.56,2,    20.06,2,     0.00,2,     1.34,2, -999.000,9, -999.000,9, -999.000,9,-999.0000,9,  -999.00,9,   2182.5,2,   -999.0,9,   2338.3,2,     7.71,2,25, -999.00,   -999,-999.0000,-999.000,  2.5551,-999.000
     316N151_2,   A24,    24,  1,      5,      5,2,19970604,2138, 46.4835, -15.6995, 4241,   3344.2,   2.7144,  34.9335,2,  34.9327,2,    246.9,2,    247.4,2,    35.06,2,    20.62,2,     0.00,2,     1.39,2,    0.166,2,    0.081,2, -999.000,9,-999.0000,9,  -999.00,9,   2188.4,2,   -999.0,9,   2342.1,2,     7.71,2,25, -999.00,   -999,-999.0000,-999.000,  2.4335,-999.000
     316N151_2,   A24,    24,  1,      4,      4,2,19970604,2138, 46.4835, -15.6995, 4241,   3550.2,   2.6256,  34.9247,2,  34.9227,2,    242.6,2,    244.5,2,    38.55,2,    21.23,2,     0.00,2,     1.43,2, -999.000,9, -999.000,9, -999.000,9,-999.0000,9,  -999.00,9,   2193.1,2,   -999.0,9,   2347.5,2,     7.71,2,25, -999.00,   -999,-999.0000,-999.000,  2.3245,-999.000
     316N151_2,   A24,    24,  1,      3,      3,2,19970604,2138, 46.4835, -15.6995, 4241,   3755.2,   2.5718,  34.9169,2,  34.9154,2,    241.1,2,    242.3,2,    41.20,2,    21.69,2,     0.01,2,     1.46,2,    0.065,2,    0.036,2, -999.000,9,-999.0000,9,  -999.00,9,   2198.6,2,   -999.0,9,   2353.3,2,     7.72,2,25, -999.00,   -999,-999.0000,-999.000,  2.2493,-999.000
     316N151_2,   A24,    24,  1,      2,      2,2,19970604,2138, 46.4835, -15.6995, 4241,   3957.5,   2.5583,  34.9122,2,  34.9117,2,    239.1,2,    240.9,2,    42.36,2,    21.89,2,     0.01,2,     1.48,2, -999.000,9, -999.000,9, -999.000,9,-999.0000,9,  -999.00,9,   2199.5,2,   -999.0,9,   2352.7,2,     7.71,2,25, -999.00,   -999,-999.0000,-999.000,  2.2133,-999.000
     316N151_2,   A24,    24,  1,      1,      1,2,19970604,2138, 46.4835, -15.6995, 4241,   4321.3,   2.5690,  34.9095,2,  34.9083,2,    240.8,2,    240.2,2,    43.41,2,    22.09,2,     0.01,2,     1.49,2,    0.052,2,    0.024,2, -999.000,9,-999.0000,9,  -999.00,9,   2201.4,2,   -999.0,9,   2355.1,2,     7.70,2,25, -999.00,   -999,-999.0000,-999.000,  2.1811,-999.000