BOTTLE,20220629CCHSIOAMB
EXPOCODE,SECT_ID,STNNBR,CASTNO,SAMPNO,BTLNBR,BTLNBR_FLAG_W,DATE,TIME,LATITUDE,LONGITUDE,DEPTH,CTDPRS,CTDTMP,CTDSAL,CTDSAL_FLAG_W,SALNTY,SALNTY_FLAG_W,CTDOXY,CTDOXY_FLAG_W,OXYGEN,OXYGEN_FLAG_W,SILCAT,SILCAT_FLAG_W,NITRAT,NITRAT_FLAG_W,NITRIT,NITRIT_FLAG_W,PHSPHT,PHSPHT_FLAG_W,CFC-11,CFC-11_FLAG_W,CFC-12,CFC-12_FLAG_W,TRITUM,TRITUM_FLAG_W,HELIUM,HELIUM_FLAG_W,DELHE3,DELHE3_FLAG_W,TCARBN,TCARBN_FLAG_W,PCO2,PCO2_FLAG_W,ALKALI,ALKALI_FLAG_W,PH,PH_FLAG_W,PH_TMP,PCO2TMP,CTDRAW,HELIER,DELHER,THETA,TRITER
,,,,,,,,,,,,DBAR,ITS-90,PSS-78,,PSS-78,,UMOL/KG,,UMOL/KG,,UMOL/KG,,UMOL/KG,,UMOL/KG,,UMOL/KG,,PMOL/KG,,PMOL/KG,,TU,,NMOL/KG,,PERCNT,,UMOL/KG,,UATM,,UMOL/KG,,,,DEG C,DEG C,,NMOL/KG,PERCNT,DEG C,TU
     316N151_2,   A24,   110,  1,     30,     30,2,19970620,2147, 56.1222, -38.6492, 3187,      2.9,   8.2400,  34.7500,2,  34.7490,2,    300.8,2,    302.4,2,     1.07,2,     7.80,2,     0.12,2,     0.54,2,    4.265,2,    2.239,2, -999.000,9,-999.0000,9,  -999.00,9,   2092.4,2,    517.0,2,   2302.1,6,     7.86,2,25,   20.00,   -999,-999.0000,-999.000,  8.2397,-999.000
     316N151_2,   A24,   110,  1,     29,     29,2,19970620,2147, 56.1222, -38.6492, 3187,     37.4,   6.6007,  34.7968,2,  34.7889,2,    299.6,2,    294.2,2,     3.13,2,    10.79,2,     0.19,2,     0.83,2, -999.000,9, -999.000,9, -999.000,9,-999.0000,9,  -999.00,9,   -999.0,9,   -999.0,9,   -999.0,9,  -999.00,9,25, -999.00,   -999,-999.0000,-999.000,  6.5974,-999.000
     316N151_2,   A24,   110,  1,     28,     28,2,19970620,2147, 56.1222, -38.6492, 3187,     77.7,   5.8851,  34.9040,2,  34.9054,2,    284.5,2,    286.2,2,     8.53,2,    14.96,2,     0.03,2,     1.01,2,    4.264,2,    2.226,2, -999.000,9,-999.0000,9,  -999.00,9,   -999.0,9,   -999.0,9,   -999.0,9,  -999.00,9,25, -999.00,   -999,-999.0000,-999.000,  5.8786,-999.000
     316N151_2,   A24,   110,  1,     27,     27,2,19970620,2147, 56.1222, -38.6492, 3187,    127.4,   5.8943,  34.9427,2,  34.9427,2,    283.7,2,    285.3,2,     8.51,2,    15.07,2,     0.01,2,     1.01,2,    4.144,2,    2.188,2, -999.000,9,-999.0000,9,  -999.00,9,   -999.0,9,   -999.0,9,   -999.0,9,  -999.00,9,25, -999.00,   -999,-999.0000,-999.000,  5.8835,-999.000
     316N151_2,   A24,   110,  1,     26,     26,2,19970620,2147, 56.1222, -38.6492, 3187,    176.9,   5.6680,  34.9263,2,  34.9260,2,    285.0,2,    285.3,2,     8.69,2,    15.16,2,     0.01,2,     1.02,2,    4.199,2,    2.198,2, -999.000,9,-999.0000,9,  -999.00,9,   -999.0,9,   -999.0,9,   -999.0,9,  -999.00,9,25, -999.00,   -999,-999.0000,-999.000,  5.6533,-999.000
     316N151_2,   A24,   110,  1,     25,     25,2,19970620,2147, 56.1222, -38.6492, 3187,    228.6,   5.4955,  34.9098,2,  34.9103,2,    284.1,2,    285.3,2,     8.78,2,    15.21,2,     0.00,2,     1.02,2,    4.127,2,    2.163,2, -999.000,9,-999.0000,9,  -999.00,9,   -999.0,9,   -999.0,9,   -999.0,9,  -999.00,9,25, -999.00,   -999,-999.0000,-999.000,  5.4767,-999.000
     316N151_2,   A24,   110,  1,     24,     24,2,19970620,2147, 56.1222, -38.6492, 3187,    327.7,   5.0163,  34.8689,2,  34.8700,2,    274.5,2,    276.6,2,     9.55,2,    16.05,2,     0.00,2,     1.08,2,    4.025,2,    2.084,2, -999.000,9,-999.0000,9,  -999.00,9,   -999.0,9,   -999.0,9,   -999.0,9,  -999.00,9,25, -999.00,   -999,-999.0000,-999.000,  4.9904,-999.000
     316N151_2,   A24,   110,  1,     23,     23,2,19970620,2147, 56.1222, -38.6492, 3187,    425.8,   4.1620,  34.8096,2,  34.8113,2,    268.9,2,    278.0,2,    10.13,2,    16.52,2,     0.01,2,     1.11,2,    4.050,2,    2.057,2, -999.000,9,-999.0000,9,  -999.00,9,   -999.0,9,   -999.0,9,   -999.0,9,  -999.00,9,25, -999.00,   -999,-999.0000,-999.000,  4.1309,-999.000
     316N151_2,   A24,   110,  1,     22,     22,2,19970620,2147, 56.1222, -38.6492, 3187,    513.9,   4.1714,  34.8696,2,  34.8674,2,    276.2,2,    263.7,2,    11.09,2,    17.59,2,     0.00,2,     1.16,2,    3.456,2,    1.711,2, -999.000,9,-999.0000,9,  -999.00,9,   -999.0,9,   -999.0,9,   -999.0,9,  -999.00,9,25, -999.00,   -999,-999.0000,-999.000,  4.1334,-999.000
     316N151_2,   A24,   110,  1,     21,     21,2,19970620,2147, 56.1222, -38.6492, 3187,    602.5,   3.9204,  34.8782,2,  34.8849,2,    268.3,2,    265.6,2,    11.28,2,    17.73,2,     0.00,2,     1.17,2,    3.315,2,    1.629,2, -999.000,9,-999.0000,9,  -999.00,9,   -999.0,9,   -999.0,9,   -999.0,9,  -999.00,9,25, -999.00,   -999,-999.0000,-999.000,  3.8767,-999.000
     316N151_2,   A24,   110,  1,     20,     20,2,19970620,2147, 56.1222, -38.6492, 3187,    703.6,   3.6078,  34.8689,2,  34.8721,2,    275.9,2,    274.5,2,    11.16,2,    17.45,2,     0.00,2,     1.15,2,    3.486,2,    1.724,2, -999.000,9,-999.0000,9,  -999.00,9,   -999.0,9,   -999.0,9,   -999.0,9,  -999.00,9,25, -999.00,   -999,-999.0000,-999.000,  3.5579,-999.000
     316N151_2,   A24,   110,  1,     19,     19,2,19970620,2147, 56.1222, -38.6492, 3187,    804.1,   3.4932,  34.8724,2,  34.8721,2,    279.9,2,    276.9,2,    11.25,2,    17.40,2,     0.00,2,     1.15,2,    3.401,2,    1.675,2, -999.000,9,-999.0000,9,  -999.00,9,   -999.0,9,   -999.0,9,   -999.0,9,  -999.00,9,25, -999.00,   -999,-999.0000,-999.000,  3.4362,-999.000
     316N151_2,   A24,   110,  1,     18,     18,2,19970620,2147, 56.1222, -38.6492, 3187,    902.9,   3.3495,  34.8675,2,  34.8674,2,    280.4,2,    281.4,2,    11.23,2,    17.26,2,     0.00,2,     1.14,2, -999.000,9, -999.000,9, -999.000,9,-999.0000,9,  -999.00,9,   -999.0,9,   -999.0,9,   -999.0,9,  -999.00,9,25, -999.00,   -999,-999.0000,-999.000,  3.2859,-999.000
     316N151_2,   A24,   110,  1,     17,     17,2,19970620,2147, 56.1222, -38.6492, 3187,   1023.9,   3.2165,  34.8618,2,  34.8611,2,    286.9,2,    285.8,2,    11.12,2,    17.08,2,     0.00,2,     1.13,2,    3.478,2,    1.704,2, -999.000,9,-999.0000,9,  -999.00,9,   -999.0,9,   -999.0,9,   -999.0,9,  -999.00,9,25, -999.00,   -999,-999.0000,-999.000,  3.1444,-999.000
     316N151_2,   A24,   110,  1,     16,     16,2,19970620,2147, 56.1222, -38.6492, 3187,   1175.4,   3.1703,  34.8642,2,  34.8652,2,    285.6,2,    287.5,2,    11.10,2,    16.98,2,     0.00,2,     1.12,2,    3.339,2,    1.634,2, -999.000,9,-999.0000,9,  -999.00,9,   -999.0,9,   -999.0,9,   -999.0,9,  -999.00,9,25, -999.00,   -999,-999.0000,-999.000,  3.0866,-999.000
     316N151_2,   A24,   110,  1,     15,     15,2,19970620,2147, 56.1222, -38.6492, 3187,   1308.2,   3.0961,  34.8615,2,  34.8635,2,    291.4,2,    290.4,2,    10.89,2,    16.80,2,     0.00,2,     1.11,2,    3.558,2,    1.741,2, -999.000,9,-999.0000,9,  -999.00,9,   -999.0,9,   -999.0,9,   -999.0,9,  -999.00,9,25, -999.00,   -999,-999.0000,-999.000,  3.0024,-999.000
     316N151_2,   A24,   110,  1,     14,     14,2,19970620,2147, 56.1222, -38.6492, 3187,   1461.0,   3.0405,  34.8572,2,  34.8613,2,    290.4,2,    293.4,2,    10.88,2,    16.75,2,     0.00,2,     1.11,2,    3.662,2,    1.782,2, -999.000,9,-999.0000,9,  -999.00,9,   -999.0,9,   -999.0,9,   -999.0,9,  -999.00,9,25, -999.00,   -999,-999.0000,-999.000,  2.9348,-999.000
     316N151_2,   A24,   110,  1,     13,     13,2,19970620,2147, 56.1222, -38.6492, 3187,   1561.9,   3.0704,  34.8653,2,  34.8646,2,    293.6,2,    292.7,2,    10.86,2,    16.66,2,     0.00,2,     1.10,2,    3.625,2,    1.770,2, -999.000,9,-999.0000,9,  -999.00,9,   -999.0,9,   -999.0,9,   -999.0,9,  -999.00,9,25, -999.00,   -999,-999.0000,-999.000,  2.9558,-999.000
     316N151_2,   A24,   110,  1,     12,     12,2,19970620,2147, 56.1222, -38.6492, 3187,   1713.8,   2.9938,  34.8569,2,  34.8560,2,    294.4,2,    295.2,2,    10.75,2,    16.56,2,     0.00,2,     1.10,2,    3.675,2,    1.801,2, -999.000,9,-999.0000,9,  -999.00,9,   -999.0,9,   -999.0,9,   -999.0,9,  -999.00,9,25, -999.00,   -999,-999.0000,-999.000,  2.8671,-999.000
     316N151_2,   A24,   110,  1,     11,     11,2,19970620,2147, 56.1222, -38.6492, 3187,   1865.0,   3.0554,  34.8717,2,  34.8711,2,    292.6,2,    291.1,2,    10.93,2,    16.51,2,     0.00,2,     1.10,2,    3.285,2,    1.626,2, -999.000,9,-999.0000,9,  -999.00,9,   -999.0,9,   -999.0,9,   -999.0,9,  -999.00,9,25, -999.00,   -999,-999.0000,-999.000,  2.9145,-999.000
     316N151_2,   A24,   110,  1,     10,     10,2,19970620,2147, 56.1222, -38.6492, 3187,   2016.4,   3.1383,  34.8945,2,  34.8955,2,    285.7,2,    285.3,2,    11.51,2,    16.51,2,     0.00,2,     1.10,2,    2.837,2,    1.365,2, -999.000,9,-999.0000,9,  -999.00,9,   -999.0,9,   -999.0,9,   -999.0,9,  -999.00,9,25, -999.00,   -999,-999.0000,-999.000,  2.9823,-999.000
     316N151_2,   A24,   110,  1,      9,      9,2,19970620,2147, 56.1222, -38.6492, 3187,   2167.9,   3.1722,  34.9112,2,  34.9105,2,    280.6,2,    281.2,2,    12.08,2,    16.51,2,     0.00,2,     1.10,2,    2.452,2,    1.176,2, -999.000,9,-999.0000,9,  -999.00,9,   -999.0,9,   -999.0,9,   -999.0,9,  -999.00,9,25, -999.00,   -999,-999.0000,-999.000,  3.0014,-999.000
     316N151_2,   A24,   110,  1,      8,      8,2,19970620,2147, 56.1222, -38.6492, 3187,   2318.2,   3.1447,  34.9223,2,  34.9233,2,    277.2,2,    277.7,2,    12.85,2,    16.51,2,     0.00,2,     1.10,2,    2.006,2,    0.968,2, -999.000,9,-999.0000,9,  -999.00,9,   -999.0,9,   -999.0,9,   -999.0,9,  -999.00,9,25, -999.00,   -999,-999.0000,-999.000,  2.9600,-999.000
     316N151_2,   A24,   110,  1,      7,      7,2,19970620,2147, 56.1222, -38.6492, 3187,   2469.5,   3.0854,  34.9299,2,  34.9252,2,    274.3,2,    275.8,2,    13.52,2,    16.51,2,     0.00,2,     1.10,2,    1.760,2,    0.841,2, -999.000,9,-999.0000,9,  -999.00,9,   -999.0,9,   -999.0,9,   -999.0,9,  -999.00,9,25, -999.00,   -999,-999.0000,-999.000,  2.8869,-999.000
     316N151_2,   A24,   110,  1,      6,      6,2,19970620,2147, 56.1222, -38.6492, 3187,   2620.7,   3.0190,  34.9322,2,  34.9321,2,    275.2,2,    274.9,2,    14.00,2,    16.51,2,     0.00,2,     1.11,2,    1.645,2,    0.788,2, -999.000,9,-999.0000,9,  -999.00,9,   -999.0,9,   -999.0,9,   -999.0,9,  -999.00,9,25, -999.00,   -999,-999.0000,-999.000,  2.8068,-999.000
     316N151_2,   A24,   110,  1,      5,      5,2,19970620,2147, 56.1222, -38.6492, 3187,   2773.9,   2.9636,  34.9364,2,  34.9376,2,    274.6,2,    274.3,2,    14.38,2,    16.46,2,     0.00,2,     1.11,2,    1.567,2,    0.762,2, -999.000,9,-999.0000,9,  -999.00,9,   -999.0,9,   -999.0,9,   -999.0,9,  -999.00,9,25, -999.00,   -999,-999.0000,-999.000,  2.7370,-999.000
     316N151_2,   A24,   110,  1,      4,      4,2,19970620,2147, 56.1222, -38.6492, 3187,   2929.0,   2.9315,  34.9356,2,  34.9339,2,    272.9,2,    274.2,2,    14.85,2,    16.51,2,     0.00,2,     1.11,2,    1.544,2,    0.749,2, -999.000,9,-999.0000,9,  -999.00,9,   -999.0,9,   -999.0,9,   -999.0,9,  -999.00,9,25, -999.00,   -999,-999.0000,-999.000,  2.6897,-999.000
     316N151_2,   A24,   110,  1,      3,      3,2,19970620,2147, 56.1222, -38.6492, 3187,   3083.3,   2.8948,  34.9355,2,  34.9341,2,    272.7,2,    274.1,2,    15.13,2,    16.51,2,     0.00,2,     1.11,2, -999.000,9, -999.000,9, -999.000,9,-999.0000,9,  -999.00,9,   -999.0,9,   -999.0,9,   -999.0,9,  -999.00,9,25, -999.00,   -999,-999.0000,-999.000,  2.6376,-999.000
     316N151_2,   A24,   110,  1,      2,      2,2,19970620,2147, 56.1222, -38.6492, 3187,   3144.8,   2.8818,  34.9351,2,  34.9315,2,    273.0,2,    274.1,2,    15.31,2,    16.46,2,     0.00,2,     1.11,2,    1.568,2,    0.761,2, -999.000,9,-999.0000,9,  -999.00,9,   -999.0,9,   -999.0,9,   -999.0,9,  -999.00,9,25, -999.00,   -999,-999.0000,-999.000,  2.6184,-999.000
     316N151_2,   A24,   110,  1,      1,      1,2,19970620,2147, 56.1222, -38.6492, 3187,   3210.7,   2.8600,  34.9339,2,  34.9339,2,    274.9,2,    274.2,2,    15.69,2,    16.46,2,     0.00,2,     1.11,2,    1.568,2,    0.756,2, -999.000,9,-999.0000,9,  -999.00,9,   -999.0,9,   -999.0,9,   -999.0,9,  -999.00,9,25, -999.00,   -999,-999.0000,-999.000,  2.5901,-999.000