BOTTLE,20220629CCHSIOAMB
EXPOCODE,SECT_ID,STNNBR,CASTNO,SAMPNO,BTLNBR,BTLNBR_FLAG_W,DATE,TIME,LATITUDE,LONGITUDE,DEPTH,CTDPRS,CTDTMP,CTDSAL,CTDSAL_FLAG_W,SALNTY,SALNTY_FLAG_W,CTDOXY,CTDOXY_FLAG_W,OXYGEN,OXYGEN_FLAG_W,SILCAT,SILCAT_FLAG_W,NITRAT,NITRAT_FLAG_W,NITRIT,NITRIT_FLAG_W,PHSPHT,PHSPHT_FLAG_W,CFC-11,CFC-11_FLAG_W,CFC-12,CFC-12_FLAG_W,TRITUM,TRITUM_FLAG_W,HELIUM,HELIUM_FLAG_W,DELHE3,DELHE3_FLAG_W,TCARBN,TCARBN_FLAG_W,PCO2,PCO2_FLAG_W,ALKALI,ALKALI_FLAG_W,PH,PH_FLAG_W,PH_TMP,PCO2TMP,CTDRAW,HELIER,DELHER,THETA,TRITER
,,,,,,,,,,,,DBAR,ITS-90,PSS-78,,PSS-78,,UMOL/KG,,UMOL/KG,,UMOL/KG,,UMOL/KG,,UMOL/KG,,UMOL/KG,,PMOL/KG,,PMOL/KG,,TU,,NMOL/KG,,PERCNT,,UMOL/KG,,UATM,,UMOL/KG,,,,DEG C,DEG C,,NMOL/KG,PERCNT,DEG C,TU
     316N151_2,   A24,    87,  1,     29,     29,2,19970616,1331, 63.2163, -34.0353, 2759,      2.4,   7.8862,  34.9356,2,  34.9357,2,    310.0,2,    310.3,2,     0.55,2,     7.89,2,     0.11,2,     0.55,2,    4.549,2,    2.351,2, -999.000,5,   1.9216,2,    -1.37,2,   2099.9,2,   -999.0,9,   2313.6,6,     7.85,6,25, -999.00,   -999,  0.0000,   0.190,  7.8860,-999.000
     316N151_2,   A24,    87,  1,     28,     28,2,19970616,1331, 63.2163, -34.0353, 2759,     45.1,   6.4635,  34.9293,2,  34.9290,2,    304.9,2,    305.6,2,     2.29,2,    10.08,2,     0.13,2,     0.80,2,    4.663,2,    2.394,2, -999.000,5,   1.8823,2,    -1.68,2,   2123.9,2,   -999.0,9,   2311.0,2,     7.80,2,25, -999.00,   -999,  0.0000,   0.190,  6.4596,-999.000
     316N151_2,   A24,    87,  1,     27,     27,2,19970616,1331, 63.2163, -34.0353, 2759,    104.9,   4.7979,  34.8990,2,  34.8951,2,    293.3,2,    293.0,2,     9.00,2,    15.35,2,     0.28,2,     1.04,2, -999.000,9, -999.000,9, -999.000,5,   1.9377,2,    -1.17,2,   2146.1,2,   -999.0,9,   2305.5,2,     7.73,2,25, -999.00,   -999,  0.0000,   0.200,  4.7899,-999.000
     316N151_2,   A24,    87,  1,     26,     26,2,19970616,1331, 63.2163, -34.0353, 2759,    205.5,   4.1499,  34.8750,2,  34.8737,2,    284.4,2,    289.5,2,     9.57,2,    16.41,2,     0.03,2,     1.09,2,    4.304,2,    2.190,2, -999.000,5,   1.9054,2,     0.43,2,   2151.2,2,   -999.0,9,   2304.7,2,     7.71,2,25, -999.00,   -999,  0.0000,   0.190,  4.1352,-999.000
     316N151_2,   A24,    87,  1,     25,     25,2,19970616,1331, 63.2163, -34.0353, 2759,    306.6,   3.8589,  34.8645,2,  34.8625,2,    288.3,2,    291.8,2,     9.65,2,    16.52,2,     0.01,2,     1.10,2, -999.000,9, -999.000,9, -999.000,9,-999.0000,9,  -999.00,9,   2150.9,2,   -999.0,9,   2302.9,2,     7.72,2,25, -999.00,   -999,-999.0000,-999.000,  3.8375,-999.000
     316N151_2,   A24,    87,  1,     24,     24,2,19970616,1331, 63.2163, -34.0353, 2759,    407.2,   3.7873,  34.8707,2,  34.8735,2,    288.6,2,    288.2,2,     9.83,2,    16.72,2,     0.00,2,     1.10,2,    4.158,2,    2.096,2, -999.000,5,   1.8835,2,     1.36,2,   2150.3,2,   -999.0,9,   2312.2,3,     7.71,2,25, -999.00,   -999,  0.0000,   0.190,  3.7587,-999.000
     316N151_2,   A24,    87,  1,     23,     23,2,19970616,1331, 63.2163, -34.0353, 2759,    505.4,   3.8099,  34.8956,2,  34.8944,2,    276.1,2,    275.7,2,    10.50,2,    17.25,2,     0.00,2,     1.14,2,    3.511,2,    1.715,2, -999.000,9,-999.0000,9,  -999.00,9,   2155.0,2,   -999.0,9,   2307.5,2,     7.71,2,25, -999.00,   -999,-999.0000,-999.000,  3.7739,-999.000
     316N151_2,   A24,    87,  1,     22,     22,2,19970616,1331, 63.2163, -34.0353, 2759,    603.2,   3.5377,  34.8754,2,  34.8741,2,    281.7,2,    281.8,2,    10.48,2,    17.20,2,     0.00,2,     1.14,2,    3.664,2,    1.798,2, -999.000,5,   1.8886,2,     3.47,2,   2155.7,2,   -999.0,9,   2303.0,2,     7.70,2,25, -999.00,   -999,  0.0000,   0.180,  3.4957,-999.000
     316N151_2,   A24,    87,  1,     21,     21,2,19970616,1331, 63.2163, -34.0353, 2759,    703.5,   3.6046,  34.9004,2,  34.9005,2,    277.5,2,    277.5,2,    10.66,2,    17.20,2,     0.00,2,     1.14,2,    3.304,2,    1.603,2, -999.000,9,-999.0000,9,  -999.00,9,   2156.4,2,   -999.0,9,   2305.6,2,     7.71,2,25, -999.00,   -999,-999.0000,-999.000,  3.5546,-999.000
     316N151_2,   A24,    87,  1,     20,     20,2,19970616,1331, 63.2163, -34.0353, 2759,    804.1,   3.4335,  34.8883,2,  34.8887,2,    282.1,2,    282.3,2,    10.55,2,    17.01,2,     0.00,2,     1.12,2,    3.468,2,    1.685,2, -999.000,5,   1.8899,2,     4.43,2,   2154.2,2,   -999.0,9,   2302.8,2,     7.71,2,25, -999.00,   -999,  0.0000,   0.180,  3.3769,-999.000
     316N151_2,   A24,    87,  1,     19,     19,2,19970616,1331, 63.2163, -34.0353, 2759,    905.4,   3.3099,  34.8812,2,  34.8806,2,    284.7,2,    285.8,2,    10.64,2,    17.01,2,     0.00,2,     1.12,2,    3.546,2,    1.711,2, -999.000,9,-999.0000,9,  -999.00,9,   2153.9,2,   -999.0,9,   2303.0,2,     7.71,2,25, -999.00,   -999,-999.0000,-999.000,  3.2463,-999.000
     316N151_2,   A24,    87,  1,     18,     18,2,19970616,1331, 63.2163, -34.0353, 2759,   1007.9,   3.2125,  34.8733,2,  34.8734,2,    288.1,2,    288.7,2,    10.62,2,    16.97,2,     0.00,2,     1.12,2, -999.000,9, -999.000,9, -999.000,5,   1.9040,2,     4.00,2,   2152.6,2,   -999.0,9,   2303.5,2,     7.71,2,25, -999.00,   -999,  0.0000,   0.180,  3.1417,-999.000
     316N151_2,   A24,    87,  1,     17,     17,2,19970616,1331, 63.2163, -34.0353, 2759,   1109.3,   3.1473,  34.8682,2,  34.8677,2,    288.1,2,    292.6,2,    10.51,2,    16.87,2,     0.00,2,     1.11,2, -999.000,9, -999.000,9, -999.000,9,-999.0000,9,  -999.00,9,   2152.2,2,   -999.0,9,   2303.6,2,     7.71,2,25, -999.00,   -999,-999.0000,-999.000,  3.0691,-999.000
     316N151_2,   A24,    87,  1,     16,     16,2,19970616,1331, 63.2163, -34.0353, 2759,   1210.7,   3.1000,  34.8637,2,  34.8647,2,    292.7,2,    293.3,2,    10.49,2,    16.78,2,     0.00,2,     1.11,2,    3.737,2,    1.821,2,    1.390,2,   1.8991,2,     3.59,2,   2153.3,2,   -999.0,9,   2301.8,2,     7.71,2,25, -999.00,   -999,  0.0000,   0.180,  3.0141,   0.020
     316N151_2,   A24,    87,  1,     15,     15,2,19970616,1331, 63.2163, -34.0353, 2759,   1312.5,   3.0370,  34.8570,2,  34.8581,2,    292.9,2,    296.8,2,    10.38,2,    16.73,2,     0.00,2,     1.11,2, -999.000,9, -999.000,9, -999.000,9,-999.0000,9,  -999.00,9,   2149.8,2,   -999.0,9,   2301.5,2,     7.71,2,25, -999.00,   -999,-999.0000,-999.000,  2.9435,-999.000
     316N151_2,   A24,    87,  1,     14,     14,2,19970616,1331, 63.2163, -34.0353, 2759,   1413.0,   3.0066,  34.8545,2,  34.8563,2,    293.2,2,    297.3,2,    10.37,2,    16.68,2,     0.00,2,     1.11,2, -999.000,9, -999.000,9,    1.518,2,   1.8940,2,     2.84,2,   2149.5,2,   -999.0,9,   2303.6,2,     7.71,2,25, -999.00,   -999,  0.0000,   0.180,  2.9052,   0.022
     316N151_2,   A24,    87,  1,     13,     13,2,19970616,1331, 63.2163, -34.0353, 2759,   1513.9,   2.9777,  34.8510,2,  34.8520,2,    296.6,2,    298.4,2,    10.35,2,    16.64,2,     0.00,2,     1.10,2,    3.931,2,    1.906,2, -999.000,9,-999.0000,9,  -999.00,9,   2151.2,2,   -999.0,9,   2301.3,2,     7.71,2,25, -999.00,   -999,-999.0000,-999.000,  2.8683,-999.000
     316N151_2,   A24,    87,  1,     12,     12,2,19970616,1331, 63.2163, -34.0353, 2759,   1613.2,   2.9562,  34.8490,2,  34.8496,2,    298.0,2,    298.9,2,    10.34,2,    16.59,2,     0.00,2,     1.10,2, -999.000,9, -999.000,9, -999.000,5,   1.8826,2,     2.79,2,   2152.5,2,   -999.0,9,   2304.3,2,     7.72,2,25, -999.00,   -999,  0.0000,   0.190,  2.8387,-999.000
     316N151_2,   A24,    87,  1,     11,     11,2,19970616,1331, 63.2163, -34.0353, 2759,   1711.2,   2.9337,  34.8467,2,  34.8461,2,    296.3,2,    299.7,2,    10.23,2,    16.59,2,     0.00,2,     1.10,2,    3.985,2,    1.941,2, -999.000,5,   1.9037,2,     2.82,2,   2150.1,2,   -999.0,9,   2302.2,2,     7.72,2,25, -999.00,   -999,  0.0000,   0.180,  2.8080,-999.000
     316N151_2,   A24,    87,  1,     10,     10,2,19970616,1331, 63.2163, -34.0353, 2759,   1810.9,   2.9318,  34.8465,2,  34.8459,2,    297.2,2,    299.1,2,    10.31,2,    16.54,2,     0.00,2,     1.10,2,    3.921,2,    1.904,2,    1.347,2,   1.9003,2,     3.22,2,   2152.3,2,   -999.0,9,   2302.9,2,     7.72,2,25, -999.00,   -999,  0.0000,   0.180,  2.7975,   0.025
     316N151_2,   A24,    87,  1,      9,      9,2,19970616,1331, 63.2163, -34.0353, 2759,   1915.0,   2.9732,  34.8560,2,  34.8569,2,    297.5,2,    296.3,2,    10.49,2,    16.54,2,     0.00,2,     1.10,2,    3.672,2,    1.775,2, -999.000,9,-999.0000,9,  -999.00,9,   2147.0,2,   -999.0,9,   2302.7,2,     7.72,2,25, -999.00,   -999,-999.0000,-999.000,  2.8290,-999.000
     316N151_2,   A24,    87,  1,      8,      8,2,19970616,1331, 63.2163, -34.0353, 2759,   2124.2,   3.0889,  34.8904,2,  34.8905,2,    288.5,2,    287.0,2,    11.35,2,    16.50,2,     0.00,2,     1.10,2,    2.840,2,    1.359,2,    1.101,2,   1.9588,2,     5.38,2,   2152.3,2,   -999.0,9,   2306.6,2,     7.72,2,25, -999.00,   -999,  0.0000,   0.180,  2.9237,   0.022
     316N151_2,   A24,    87,  1,      7,      7,2,19970616,1331, 63.2163, -34.0353, 2759,   2275.4,   3.0841,  34.9049,2,  34.9053,2,    283.7,2,    283.3,2,    11.83,2,    16.45,2,     0.00,2,     1.10,2,    2.432,2,    1.155,2,   -0.001,4,   1.8932,2,     6.49,2,   2154.1,2,   -999.0,9,   2305.4,2,     7.72,2,25, -999.00,   -999,  0.0000,   0.180,  2.9046,   0.003
     316N151_2,   A24,    87,  1,      6,      6,2,19970616,1331, 63.2163, -34.0353, 2759,   2427.5,   2.9798,  34.9116,2,  34.9130,2,    281.0,2,    281.7,2,    12.20,2,    16.26,2,     0.00,2,     1.09,2,    2.236,2,    1.064,2,    1.035,2,   1.9352,2,     6.86,2,   2154.4,2,   -999.0,9,   2308.9,2,     7.72,2,25, -999.00,   -999,  0.0000,   0.180,  2.7874,   0.019
     316N151_2,   A24,    87,  1,      5,      5,2,19970616,1331, 63.2163, -34.0353, 2759,   2579.3,   2.8072,  34.9135,2,  34.9128,2,    280.2,2,    282.4,2,    12.29,2,    16.02,2,     0.00,2,     1.08,2,    2.252,2,    1.107,2,    1.075,2,   1.9134,2,     6.43,2,   2154.7,2,   -999.0,9,   2307.2,2,     7.73,2,25, -999.00,   -999,  0.0000,   0.180,  2.6031,   0.016
     316N151_2,   A24,    87,  1,      4,      4,2,19970616,1331, 63.2163, -34.0353, 2759,   2651.1,   2.5933,  34.9031,2,  34.9030,2,    283.4,2,    286.4,2,    11.39,2,    15.60,2,     0.00,2,     1.05,2, -999.000,9, -999.000,9, -999.000,9,-999.0000,9,  -999.00,9,   2152.8,2,   -999.0,9,   2309.0,2,     7.72,2,25, -999.00,   -999,-999.0000,-999.000,  2.3864,-999.000
     316N151_2,   A24,    87,  1,      3,      3,2,19970616,1331, 63.2163, -34.0353, 2759,   2701.7,   2.1792,  34.8859,3,  34.8902,2,   -999.0,5,    291.2,2,    10.30,2,    15.03,2,     0.00,2,     1.02,2,    3.139,2,    1.511,2,    1.270,2,   1.8935,2,     5.39,2,   2151.6,2,   -999.0,9,   2304.6,2,     7.72,2,25, -999.00,   -999,  0.0000,   0.180,  1.9756,   0.025
     316N151_2,   A24,    87,  1,      2,      2,2,19970616,1331, 63.2163, -34.0353, 2759,   2754.0,   1.4531,  34.8781,3,  34.8756,2,   -999.0,5,    301.9,2,     8.34,2,    13.74,2,     0.00,2,     0.94,2,    3.715,2,    1.803,2,    1.101,2,   5.8436,4,   -99.89,4,   2150.1,2,   -999.0,9,   2302.7,2,     7.71,2,25, -999.00,   -999,  0.0000,   0.900,  1.2593,   0.021
     316N151_2,   A24,    87,  1,      1,      1,2,19970616,1331, 63.2163, -34.0353, 2759,   2804.6,   1.3614,  34.8778,2,  34.8770,2,    304.4,2,    301.7,2,     8.42,2,    13.74,2,     0.00,2,     0.94,2,    3.687,2,    1.787,2,    1.360,2,   1.9096,2,     4.37,2,   2150.7,2,   -999.0,9,   2302.5,2,     7.72,2,25, -999.00,   -999,  0.0000,   0.180,  1.1649,   0.019