BOTTLE,20220629CCHSIOAMB
EXPOCODE,SECT_ID,STNNBR,CASTNO,SAMPNO,BTLNBR,BTLNBR_FLAG_W,DATE,TIME,LATITUDE,LONGITUDE,DEPTH,CTDPRS,CTDTMP,CTDSAL,CTDSAL_FLAG_W,SALNTY,SALNTY_FLAG_W,CTDOXY,CTDOXY_FLAG_W,OXYGEN,OXYGEN_FLAG_W,SILCAT,SILCAT_FLAG_W,NITRAT,NITRAT_FLAG_W,NITRIT,NITRIT_FLAG_W,PHSPHT,PHSPHT_FLAG_W,CFC-11,CFC-11_FLAG_W,CFC-12,CFC-12_FLAG_W,TRITUM,TRITUM_FLAG_W,HELIUM,HELIUM_FLAG_W,DELHE3,DELHE3_FLAG_W,TCARBN,TCARBN_FLAG_W,PCO2,PCO2_FLAG_W,ALKALI,ALKALI_FLAG_W,PH,PH_FLAG_W,PH_TMP,PCO2TMP,CTDRAW,HELIER,DELHER,THETA,TRITER
,,,,,,,,,,,,DBAR,ITS-90,PSS-78,,PSS-78,,UMOL/KG,,UMOL/KG,,UMOL/KG,,UMOL/KG,,UMOL/KG,,UMOL/KG,,PMOL/KG,,PMOL/KG,,TU,,NMOL/KG,,PERCNT,,UMOL/KG,,UATM,,UMOL/KG,,,,DEG C,DEG C,,NMOL/KG,PERCNT,DEG C,TU
     316N151_2,   A24,    22,  1,     31,     31,2,19970604,1119, 45.8168, -16.7487, 4542,      1.9,  15.4532,  35.7583,2,  35.7586,2,    249.1,2,    260.8,2,     0.71,2,     0.04,2,     0.00,2,     0.08,2, -999.000,9, -999.000,9,    0.625,3,   1.2181,4,    -6.18,4,   2065.8,2,    373.2,2,   2351.9,2,     7.97,6,25,   20.00,   -999,  0.0000,   0.170, 15.4529,   0.009
     316N151_2,   A24,    22,  1,     30,     30,2,19970604,1119, 45.8168, -16.7487, 4542,     35.8,  13.4052,  35.7322,2,  35.7306,2,    248.1,2,    250.0,2,     1.36,2,     2.59,2,     0.36,2,     0.27,2, -999.000,9, -999.000,9,    1.507,2,   1.5536,4,    -2.96,4,   2096.5,2,    444.9,2,   2348.7,2,     7.91,2,25,   20.00,   -999,  0.0000,   0.150, 13.4001,   0.022
     316N151_2,   A24,    22,  1,     29,     29,2,19970604,1119, 45.8168, -16.7487, 4542,     81.3,  12.5927,  35.7044,2,  35.7067,2,    244.9,2,    246.5,2,     2.64,2,     7.05,2,     0.02,2,     0.45,2,    3.263,2,    1.707,2,    1.397,2,-999.0000,5,  -999.00,5,   2113.3,2,    494.7,2,   2345.5,2,     7.87,2,25,   20.00,   -999,-999.0000,-999.000, 12.5817,   0.027
     316N151_2,   A24,    22,  1,     28,     28,2,19970604,1119, 45.8168, -16.7487, 4542,    126.3,  12.2602,  35.6683,2,  35.6672,2,    247.2,2,    246.8,2,     3.07,2,     8.01,2,     0.01,2,     0.51,2, -999.000,9, -999.000,9, -999.000,5,   1.8757,2,    -1.13,2,   2116.2,2,    508.5,2,   2344.5,2,     7.87,2,25,   20.00,   -999,  0.0000,   0.170, 12.2434,-999.000
     316N151_2,   A24,    22,  1,     27,     27,2,19970604,1119, 45.8168, -16.7487, 4542,    216.6,  11.8375,  35.6102,2,  35.6088,2,    246.9,2,    243.7,2,     3.61,2,     9.37,2,     0.01,2,     0.59,2, -999.000,9, -999.000,9, -999.000,5,   1.8287,2,  -999.00,5,   2123.3,2,    525.0,2,   2340.3,2,     7.85,2,25,   20.00,   -999,  0.0000,   0.360, 11.8093,-999.000
     316N151_2,   A24,    22,  1,     26,     26,2,19970604,1119, 45.8168, -16.7487, 4542,    296.9,  11.5497,  35.5749,2,  35.5751,2,    246.7,2,    242.8,2,     3.94,2,     9.93,2,     0.00,2,     0.63,2, -999.000,9, -999.000,9, -999.000,5,   1.8296,2,    -0.06,5,   2124.7,2,    539.6,2,   2340.0,2,     7.84,2,25,   20.00,   -999,  0.0000,   0.150, 11.5115,-999.000
     316N151_2,   A24,    22,  1,     25,     25,2,19970604,1119, 45.8168, -16.7487, 4542,    376.6,  11.2620,  35.5431,2,  35.5433,2,    241.3,2,    244.8,2,     4.05,2,    10.12,2,     0.01,2,     0.65,2, -999.000,9, -999.000,9, -999.000,5,   1.8159,2,    -0.32,2,   2127.4,2,    549.7,2,   2338.1,2,     7.83,2,25,   20.00,   -999,  0.0000,   0.160, 11.2142,-999.000
     316N151_2,   A24,    22,  1,     24,     24,2,19970604,1119, 45.8168, -16.7487, 4542,    476.6,  11.0662,  35.5304,2,  35.5309,2,    235.4,2,    251.0,4,     3.96,2,     9.97,2,     0.00,2,     0.64,2, -999.000,9, -999.000,9, -999.000,9,-999.0000,9,  -999.00,9,   2126.1,2,    545.1,2,   2338.9,2,     7.85,2,25,   20.00,   -999,-999.0000,-999.000, 11.0061,-999.000
     316N151_2,   A24,    22,  1,     23,     23,2,19970604,1119, 45.8168, -16.7487, 4542,    606.8,  10.5474,  35.4617,2,  35.4616,2,    230.9,2,    233.3,2,     5.13,2,    12.44,2,     0.00,2,     0.79,2,    3.170,2,    1.617,2, -999.000,9,-999.0000,9,  -999.00,9,   2140.3,2,    596.4,2,   2333.9,2,     7.81,2,25,   20.00,   -999,-999.0000,-999.000, 10.4727,-999.000
     316N151_2,   A24,    22,  1,     22,     22,2,19970604,1119, 45.8168, -16.7487, 4542,    717.9,  10.2910,  35.4847,2,  35.4863,2,    208.1,2,    209.5,2,     7.05,2,    14.90,2,     0.00,2,     0.94,2,    2.557,2,    1.293,2, -999.000,5,   1.8271,2,     5.38,2,   2155.1,2,    645.3,2,   2338.2,2,     7.78,2,25,   20.00,   -999,  0.0000,   0.150, 10.2035,-999.000
     316N151_2,   A24,    22,  1,     21,     21,2,19970604,1119, 45.8168, -16.7487, 4542,    858.3,   9.6474,  35.5167,2,  35.5173,2,    193.6,2,    193.3,2,     9.39,2,    16.86,2,     0.00,2,     1.07,2,    1.832,2,    0.925,2, -999.000,5,   1.8546,2,     7.96,2,   2171.1,2,    689.2,2,   2342.7,2,     7.75,2,25,   20.00,   -999,  0.0000,   0.150,  9.5460,-999.000
     316N151_2,   A24,    22,  1,     20,     20,2,19970604,1119, 45.8168, -16.7487, 4542,    958.6,   9.2116,  35.5326,2,  35.5297,2,    189.7,2,    191.6,2,    10.15,2,    17.42,2,     0.00,2,     1.11,2,    1.611,2,    0.798,2, -999.000,9,-999.0000,9,  -999.00,9,   2177.4,2,    695.9,2,   2346.3,2,     7.75,2,25,   20.00,   -999,-999.0000,-999.000,  9.1007,-999.000
     316N151_2,   A24,    22,  1,     19,     19,2,19970604,1119, 45.8168, -16.7487, 4542,   1058.5,   8.5444,  35.5006,2,  35.5015,2,    197.8,2,    196.4,2,    10.90,2,    17.72,2,     0.00,2,     1.14,2, -999.000,9, -999.000,9, -999.000,5,   1.8466,2,     9.15,2,   2180.4,2,    714.7,2,   2345.0,2,     7.74,2,25,   20.00,   -999,  0.0000,   0.160,  8.4265,-999.000
     316N151_2,   A24,    22,  1,     18,     18,2,19970604,1119, 45.8168, -16.7487, 4542,   1158.8,   8.1027,  35.5174,2,  35.5157,2,    203.5,2,    202.2,2,    11.12,2,    17.71,2,     0.00,2,     1.14,2,    1.402,2,    0.689,2, -999.000,9,-999.0000,9,  -999.00,9,   2181.5,2,    715.5,2,   2348.0,2,     7.74,2,25,   20.00,   -999,-999.0000,-999.000,  7.9765,-999.000
     316N151_2,   A24,    22,  1,     17,     17,2,19970604,1119, 45.8168, -16.7487, 4542,   1330.6,   6.4105,  35.3025,2,  35.2998,2,    226.1,2,    224.2,2,    11.77,2,    17.87,2,     0.00,2,     1.16,2,    1.515,2,    0.731,2, -999.000,5,   1.8486,2,     9.43,2,   2176.3,2,    738.3,2,   2332.1,2,     7.72,2,25,   20.00,   -999,  0.0000,   0.150,  6.2809,-999.000
     316N151_2,   A24,    22,  1,     16,     16,2,19970604,1119, 45.8168, -16.7487, 4542,   1583.9,   4.3925,  35.0006,2,  35.0001,2,    255.8,2,    257.0,2,    11.79,2,    17.77,2,     0.00,2,     1.17,2, -999.000,9, -999.000,9, -999.000,9,-999.0000,9,  -999.00,9,   2160.9,2,   -999.0,9,   2313.0,2,     7.72,2,25, -999.00,   -999,-999.0000,-999.000,  4.2599,-999.000
     316N151_2,   A24,    22,  1,     15,     15,2,19970604,1119, 45.8168, -16.7487, 4542,   1736.5,   3.9059,  34.9403,2,  34.9407,2,    264.8,2,    267.1,2,    11.80,2,    17.46,2,     0.00,2,     1.16,2, -999.000,9, -999.000,9, -999.000,5,   1.8890,2,     9.07,2,   2157.6,2,    750.1,2,   2308.1,2,     7.72,2,25,   20.00,   -999,  0.0000,   0.150,  3.7651,-999.000
     316N151_2,   A24,    22,  1,     14,     14,2,19970604,1119, 45.8168, -16.7487, 4542,   1951.1,   3.6544,  34.9244,2,  34.9236,2,    269.5,2,    272.3,2,    12.13,2,    17.26,2,     0.00,2,     1.15,2,    1.800,2,    0.856,2, -999.000,5,   0.0000,5,  -999.00,5,   2155.2,2,   -999.0,9,   2308.1,2,     7.73,2,25, -999.00,   -999,  0.0000,   1.830,  3.4968,-999.000
     316N151_2,   A24,    22,  1,     13,     13,2,19970604,1119, 45.8168, -16.7487, 4542,   2154.8,   3.6576,  34.9610,2,  34.9610,2,    265.7,2,    265.8,2,    14.37,2,    17.51,2,     0.00,2,     1.17,2,    1.056,2,    0.563,2, -999.000,5,   1.9418,2,     7.80,2,   2158.3,2,    740.6,2,   2312.5,2,     7.72,2,25,   20.00,   -999,  0.0000,   0.150,  3.4802,-999.000
     316N151_2,   A24,    22,  1,     12,     12,2,19970604,1119, 45.8168, -16.7487, 4542,   2327.3,   3.4893,  34.9572,2,  34.9572,2,    265.1,2,    264.7,2,    16.08,2,    17.61,2,     0.00,2,     1.18,2, -999.000,9, -999.000,9, -999.000,5,   1.9853,3,     7.24,2,   2160.6,2,   -999.0,9,   2315.8,2,     7.73,2,25, -999.00,   -999,  0.0000,   0.150,  3.2977,-999.000
     316N151_2,   A24,    22,  1,     11,     11,2,19970604,1119, 45.8168, -16.7487, 4542,   2530.4,   3.3045,  34.9597,2,  34.9602,2,    262.2,2,    260.8,2,    19.38,2,    18.06,2,     0.00,2,     1.22,2, -999.000,9, -999.000,9, -999.000,9,-999.0000,9,  -999.00,9,   2164.4,2,    738.0,2,   2319.9,2,     7.73,2,25,   20.00,   -999,-999.0000,-999.000,  3.0958,-999.000
     316N151_2,   A24,    22,  1,     10,     10,2,19970604,1119, 45.8168, -16.7487, 4542,   2733.8,   3.1093,  34.9556,2,  34.9555,2,    258.8,2,    256.9,2,    23.64,2,    18.66,2,     0.00,2,     1.26,2,    0.384,2,    0.210,2, -999.000,9,-999.0000,9,  -999.00,9,   2171.4,2,   -999.0,9,   2328.5,2,     7.72,2,25, -999.00,   -999,-999.0000,-999.000,  2.8838,-999.000
     316N151_2,   A24,    22,  1,      9,      9,2,19970604,1119, 45.8168, -16.7487, 4542,   2937.4,   2.9590,  34.9503,2,  34.9513,2,    253.8,2,    252.0,2,    28.44,2,    19.47,2,     0.00,2,     1.33,2,    0.221,2,    0.118,2,    0.211,2,   1.9099,2,     3.65,2,   2177.8,2,    748.5,2,   2333.4,2,     7.72,2,25,   20.00,   -999,  0.0000,   0.150,  2.7156,   0.010
     316N151_2,   A24,    22,  1,      8,      8,2,19970604,1119, 45.8168, -16.7487, 4542,   3140.9,   2.8242,  34.9423,2,  34.9417,2,    250.7,2,    250.1,2,    31.32,2,    19.87,2,     0.00,2,     1.35,2, -999.000,9, -999.000,9, -999.000,9,-999.0000,9,  -999.00,9,   2181.6,2,   -999.0,9,   2338.3,2,     7.72,2,25, -999.00,   -999,-999.0000,-999.000,  2.5624,-999.000
     316N151_2,   A24,    22,  1,      7,      7,2,19970604,1119, 45.8168, -16.7487, 4542,   3344.7,   2.7208,  34.9335,2,  34.9332,2,    247.9,2,    247.4,2,    34.52,2,    20.37,2,     0.00,2,     1.39,2,    0.158,2,    0.091,2, -999.000,9,-999.0000,9,  -999.00,9,   2185.6,2,    752.3,2,   2341.8,2,     7.72,2,25,   20.00,   -999,-999.0000,-999.000,  2.4397,-999.000
     316N151_2,   A24,    22,  1,      6,      6,2,19970604,1119, 45.8168, -16.7487, 4542,   3548.8,   2.6549,  34.9263,2,  34.9260,2,    245.0,2,    245.2,2,    37.30,2,    20.83,2,     0.00,2,     1.42,2, -999.000,9, -999.000,9,    0.073,2,-999.0000,5,  -999.00,5,   2190.5,2,    758.8,2,   2349.1,2,     7.72,2,25,   20.00,   -999,-999.0000,-999.000,  2.3532,   0.013
     316N151_2,   A24,    22,  1,      5,      5,2,19970604,1119, 45.8168, -16.7487, 4542,   3752.8,   2.6078,  34.9192,2,  34.9191,2,    242.5,2,    243.0,2,    39.66,2,    21.23,2,     0.00,2,     1.45,2,    0.090,2,    0.044,2, -999.000,9,-999.0000,9,  -999.00,9,   2193.2,2,    760.0,2,   2349.7,2,     7.71,2,25,   20.00,   -999,-999.0000,-999.000,  2.2846,-999.000
     316N151_2,   A24,    22,  1,      4,      4,2,19970604,1119, 45.8168, -16.7487, 4542,   3906.1,   2.5826,  34.9148,2,  34.9148,2,    241.5,2,    241.6,2,    41.05,2,    21.48,2,     0.00,2,     1.47,2, -999.000,9, -999.000,9,    0.052,2,   1.9662,2,     2.56,2,   2196.6,2,   -999.0,9,   2352.5,2,     7.72,2,25, -999.00,   -999,  0.0000,   0.150,  2.2428,   0.011
     316N151_2,   A24,    22,  1,      3,      3,2,19970604,1119, 45.8168, -16.7487, 4542,   4110.9,   2.5705,  34.9107,2,  34.9114,2,    239.8,2,    240.7,2,    42.35,2,    21.73,2,     0.00,2,     1.49,2, -999.000,9, -999.000,9,    0.048,2,   1.9301,2,     2.76,2,   2198.2,2,    765.2,2,   2353.4,2,     7.72,2,25,   20.00,   -999,  0.0000,   0.170,  2.2074,   0.009
     316N151_2,   A24,    22,  1,      2,      2,2,19970604,1119, 45.8168, -16.7487, 4542,   4366.4,   2.5729,  34.9079,2,  34.9083,2,    238.8,2,    239.5,2,    43.32,2,    21.88,2,     0.00,2,     1.50,2,    0.062,2,    0.025,2,    0.036,2,   1.8993,2,     2.20,2,   2200.9,2,   -999.0,9,   2354.4,2,     7.72,2,25, -999.00,   -999,  0.0000,   0.210,  2.1795,   0.006
     316N151_2,   A24,    22,  1,      1,      1,2,19970604,1119, 45.8168, -16.7487, 4542,   4653.4,   2.5854,  34.9057,2,  34.9071,2,    239.8,2,    239.7,2,    43.97,2,    21.98,2,     0.00,2,     1.51,2,    0.049,2,    0.025,2,    0.041,2,   1.9169,2,     2.77,2,   2201.0,2,    759.3,2,   2357.4,2,     7.71,2,25,   20.00,   -999,  0.0000,   0.210,  2.1566,   0.008