BOTTLE,20220629CCHSIOAMB
EXPOCODE,SECT_ID,STNNBR,CASTNO,SAMPNO,BTLNBR,BTLNBR_FLAG_W,DATE,TIME,LATITUDE,LONGITUDE,DEPTH,CTDPRS,CTDTMP,CTDSAL,CTDSAL_FLAG_W,SALNTY,SALNTY_FLAG_W,CTDOXY,CTDOXY_FLAG_W,OXYGEN,OXYGEN_FLAG_W,SILCAT,SILCAT_FLAG_W,NITRAT,NITRAT_FLAG_W,NITRIT,NITRIT_FLAG_W,PHSPHT,PHSPHT_FLAG_W,CFC-11,CFC-11_FLAG_W,CFC-12,CFC-12_FLAG_W,TRITUM,TRITUM_FLAG_W,HELIUM,HELIUM_FLAG_W,DELHE3,DELHE3_FLAG_W,TCARBN,TCARBN_FLAG_W,PCO2,PCO2_FLAG_W,ALKALI,ALKALI_FLAG_W,PH,PH_FLAG_W,PH_TMP,PCO2TMP,CTDRAW,HELIER,DELHER,THETA,TRITER
,,,,,,,,,,,,DBAR,ITS-90,PSS-78,,PSS-78,,UMOL/KG,,UMOL/KG,,UMOL/KG,,UMOL/KG,,UMOL/KG,,UMOL/KG,,PMOL/KG,,PMOL/KG,,TU,,NMOL/KG,,PERCNT,,UMOL/KG,,UATM,,UMOL/KG,,,,DEG C,DEG C,,NMOL/KG,PERCNT,DEG C,TU
     316N151_2,   A24,   129,  1,     30,     30,2,19970624,2104, 48.1808, -31.9685, 3979,      2.9,  14.4356,  35.3762,2,  35.3827,2,    286.8,2,    267.6,2,     1.22,2,     2.67,2,     0.09,2,     0.22,2,    3.222,2,    1.727,2,    1.520,2,   1.5369,4,    -3.16,4,   2070.1,2,    409.1,2,   2333.4,6,     7.91,2,25,   20.00,   -999,  0.0000,   0.170, 14.4352,   0.019
     316N151_2,   A24,   129,  1,     29,     29,2,19970624,2104, 48.1808, -31.9685, 3979,     47.1,  12.1489,  35.3456,2,  35.3488,2,    272.4,2,    264.8,2,     2.22,2,     4.89,2,     0.20,2,     0.39,2, -999.000,9, -999.000,9, -999.000,5,   1.8024,2,    -1.49,2,   2088.9,2,    458.0,2,   2332.2,2,     7.91,2,25,   20.00,   -999,  0.0000,   0.160, 12.1427,-999.000
     316N151_2,   A24,   129,  1,     28,     28,2,19970624,2104, 48.1808, -31.9685, 3979,     77.5,  11.1314,  35.3079,2,  35.3079,2,    252.2,2,    265.8,2,     4.32,2,     9.19,2,     0.25,2,     0.63,2,    3.329,2,    1.774,2, -999.000,9,-999.0000,9,  -999.00,9,   2113.8,2,    525.5,2,   2327.5,2,     7.85,2,25,   20.00,   -999,-999.0000,-999.000, 11.1218,-999.000
     316N151_2,   A24,   129,  1,     27,     27,2,19970624,2104, 48.1808, -31.9685, 3979,    116.6,  10.6607,  35.2997,2,  35.2923,2,    251.2,2,    249.7,2,     5.32,2,    10.91,2,     0.02,2,     0.72,2,    3.269,2,    1.741,2,    1.531,2,   1.8041,2,    -0.98,2,   2122.7,2,    552.3,2,   2326.9,2,     7.83,2,25,   20.00,   -999,  0.0000,   0.160, 10.6466,   0.019
     316N151_2,   A24,   129,  1,     26,     26,2,19970624,2104, 48.1808, -31.9685, 3979,    177.6,  10.9959,  35.4577,2,  35.4571,2,    233.7,2,    234.7,2,     5.71,2,    12.17,2,     0.03,2,     0.77,2,    2.942,2,    1.572,2, -999.000,5,   1.8098,2,     0.55,2,   2131.2,2,    565.0,2,   2334.2,2,     7.82,2,25,   20.00,   -999,  0.0000,   0.160, 10.9739,-999.000
     316N151_2,   A24,   129,  1,     25,     25,2,19970624,2104, 48.1808, -31.9685, 3979,    226.8,  10.4295,  35.3872,2,  35.3850,2,    242.3,2,    241.1,2,     6.01,2,    12.41,2,     0.02,2,     0.79,2,    3.077,2,    1.628,2, -999.000,5,   1.8178,2,    -0.12,2,   2131.1,2,    575.4,2,   2331.6,2,     7.82,2,25,   20.00,   -999,  0.0000,   0.160, 10.4023,-999.000
     316N151_2,   A24,   129,  1,     24,     24,2,19970624,2104, 48.1808, -31.9685, 3979,    297.1,   9.3611,  35.2136,2,  35.2131,2,    228.7,2,    228.9,2,     7.81,2,    14.62,2,     0.01,2,     0.95,2,    2.831,2,    1.499,2, -999.000,5,   1.8295,2,     1.25,2,   2143.3,2,    634.4,2,   2323.4,2,     7.78,2,25,   20.00,   -999,  0.0000,   0.160,  9.3277,-999.000
     316N151_2,   A24,   129,  1,     23,     23,2,19970624,2104, 48.1808, -31.9685, 3979,    398.9,   7.8770,  35.0291,2,  35.0310,2,    227.9,2,    234.5,2,     9.01,2,    16.03,2,     0.01,2,     1.05,2,    2.991,2,    1.555,2, -999.000,5,   1.8275,2,     1.77,2,   2148.9,2,    778.1,2,   2315.5,2,     7.75,2,25,   20.00,   -999,  0.0000,   0.160,  7.8365,-999.000
     316N151_2,   A24,   129,  1,     22,     22,2,19970624,2104, 48.1808, -31.9685, 3979,    498.2,   6.5915,  34.9432,2,  34.9401,2,    221.0,2,    213.8,2,    11.42,2,    18.90,2,     0.01,2,     1.24,2,    2.492,2,    1.251,2, -999.000,5,   1.8391,2,     4.08,2,   2165.8,2,    781.2,2,   2309.8,2,     7.70,2,25,   20.00,   -999,  0.0000,   0.160,  6.5454,-999.000
     316N151_2,   A24,   129,  1,     21,     21,2,19970624,2104, 48.1808, -31.9685, 3979,    560.0,   5.9874,  34.9401,2,  34.9454,2,    213.2,2,    212.1,2,    12.32,2,    19.61,2,     0.00,2,     1.29,2,    2.279,2,    1.114,2, -999.000,9,-999.0000,9,  -999.00,9,   2172.6,2,    811.8,2,   2310.7,2,     7.69,2,25,   20.00,   -999,-999.0000,-999.000,  5.9379,-999.000
     316N151_2,   A24,   129,  1,     20,     20,2,19970624,2104, 48.1808, -31.9685, 3979,    660.0,   5.4493,  34.9962,2,  34.9836,2,    222.3,2,    227.0,2,    12.11,2,    19.05,2,     0.00,2,     1.25,2,    2.261,2,    1.102,2, -999.000,5,   1.8598,2,     5.95,2,   2168.8,2,    796.1,2,   2313.3,2,     7.69,2,25,   20.00,   -999,  0.0000,   0.160,  5.3931,-999.000
     316N151_2,   A24,   129,  1,     19,     19,2,19970624,2104, 48.1808, -31.9685, 3979,    759.8,   5.1959,  35.0323,2,  35.0283,2,    233.2,2,    234.6,2,    12.00,2,    18.68,2,     0.00,2,     1.22,2,    2.050,2,    0.989,2, -999.000,9,-999.0000,9,  -999.00,9,   2168.3,2,    780.1,2,   2316.7,2,     7.71,2,25,   20.00,   -999,-999.0000,-999.000,  5.1321,-999.000
     316N151_2,   A24,   129,  1,     18,     18,2,19970624,2104, 48.1808, -31.9685, 3979,    860.4,   4.5301,  34.9668,2,  34.9663,2,    248.9,2,    250.1,2,    11.68,2,    18.26,2,     0.00,2,     1.19,2,    2.459,2,    1.192,2, -999.000,5,   1.8707,2,     6.23,2,   2166.6,2,    780.8,2,   2310.0,2,     7.71,2,25,   20.00,   -999,  0.0000,   0.160,  4.4617,-999.000
     316N151_2,   A24,   129,  1,     17,     17,2,19970624,2104, 48.1808, -31.9685, 3979,   1012.0,   4.1321,  34.9475,2,  34.9480,2,    259.3,2,    262.0,2,    11.57,2,    17.84,2,     0.00,2,     1.17,2,    2.432,2,    1.171,2, -999.000,9,-999.0000,9,  -999.00,9,   2158.8,2,    768.7,2,   2310.0,2,     7.71,2,25,   20.00,   -999,-999.0000,-999.000,  4.0537,-999.000
     316N151_2,   A24,   129,  1,     16,     16,2,19970624,2104, 48.1808, -31.9685, 3979,   1163.6,   3.7497,  34.9126,2,  34.9451,4,    269.5,2,    271.9,2,    11.26,2,    17.51,2,     0.00,2,     1.15,2, -999.000,9, -999.000,9, -999.000,5,   0.0160,4,  2199.92,4,   2158.0,2,   -999.0,9,   2306.4,2,     7.71,2,25, -999.00,   -999,  0.0000,   0.230,  3.6616,-999.000
     316N151_2,   A24,   129,  1,     15,     15,2,19970624,2104, 48.1808, -31.9685, 3979,   1314.1,   3.6115,  34.9065,2,  34.9071,2,    273.7,2,    275.4,2,    11.35,2,    17.33,2,     0.00,2,     1.14,2,    2.524,2,    1.220,2, -999.000,9,-999.0000,9,  -999.00,9,   2155.0,2,   -999.0,9,   2305.6,2,     7.72,2,25, -999.00,   -999,-999.0000,-999.000,  3.5120,-999.000
     316N151_2,   A24,   129,  1,     14,     14,2,19970624,2104, 48.1808, -31.9685, 3979,   1465.0,   3.4357,  34.8910,2,  34.8922,2,    280.8,2,    280.3,2,    11.23,2,    17.14,2,     0.00,2,     1.13,2,    2.680,2,    1.290,2, -999.000,5,   1.8571,2,     5.98,2,   2155.7,2,   -999.0,9,   2294.2,3,     7.71,2,25, -999.00,   -999,  0.0000,   0.160,  3.3252,-999.000
     316N151_2,   A24,   129,  1,     13,     13,2,19970624,2104, 48.1808, -31.9685, 3979,   1617.5,   3.3025,  34.8806,2,  34.8804,2,    283.9,2,    284.3,2,    11.12,2,    17.05,2,     0.00,2,     1.12,2,    2.833,2,    1.362,2, -999.000,9,-999.0000,9,  -999.00,9,   2152.7,2,   -999.0,9,   2305.1,2,     7.72,2,25, -999.00,   -999,-999.0000,-999.000,  3.1802,-999.000
     316N151_2,   A24,   129,  1,     12,     12,2,19970624,2104, 48.1808, -31.9685, 3979,   1769.7,   3.2391,  34.8813,2,  34.8822,2,    285.1,2,    284.0,2,    11.41,2,    16.96,2,     0.00,2,     1.12,2,    2.614,2,    1.266,2, -999.000,5,   1.8707,2,     6.23,2,   2153.2,2,   -999.0,9,   2310.5,2,     7.72,2,25, -999.00,   -999,  0.0000,   0.160,  3.1041,-999.000
     316N151_2,   A24,   129,  1,     11,     11,2,19970624,2104, 48.1808, -31.9685, 3979,   1921.8,   3.1856,  34.8810,2,  34.8796,2,    284.0,2,    285.5,2,    11.50,2,    16.87,2,     0.00,2,     1.12,2,    2.696,2,    1.299,2,    1.321,2,   1.8543,2,     6.07,2,   2152.1,2,   -999.0,9,   2305.7,2,     7.72,2,25, -999.00,   -999,  0.0000,   0.160,  3.0376,   0.022
     316N151_2,   A24,   129,  1,     10,     10,2,19970624,2104, 48.1808, -31.9685, 3979,   2074.3,   3.1284,  34.8806,2,  34.8804,2,    286.0,2,    286.6,2,    11.49,2,    16.78,2,     0.00,2,     1.11,2,    2.752,2,    1.315,2,    1.118,2,   1.8605,2,     5.86,2,   2151.7,2,   -999.0,9,   2306.2,2,     7.72,2,25, -999.00,   -999,  0.0000,   0.170,  2.9672,   0.019
     316N151_2,   A24,   129,  1,      9,      9,2,19970624,2104, 48.1808, -31.9685, 3979,   2226.1,   3.1404,  34.8926,2,  34.8911,2,    283.0,2,    283.9,2,    11.99,2,    16.74,2,     0.00,2,     1.10,2,    2.400,2,    1.153,2, -999.000,9,-999.0000,9,  -999.00,9,   2153.7,2,   -999.0,9,   2306.0,2,     7.72,2,25, -999.00,   -999,-999.0000,-999.000,  2.9647,-999.000
     316N151_2,   A24,   129,  1,      8,      8,2,19970624,2104, 48.1808, -31.9685, 3979,   2479.8,   3.1422,  34.9175,2,  34.9182,2,    278.2,2,    276.9,2,    13.39,2,    16.83,2,     0.00,2,     1.12,2,    1.620,2,    0.788,2, -999.000,5,   1.8791,2,     6.96,2,   2155.8,2,   -999.0,9,   2309.7,2,     7.72,2,25, -999.00,   -999,  0.0000,   0.170,  2.9417,-999.000
     316N151_2,   A24,   129,  1,      7,      7,2,19970624,2104, 48.1808, -31.9685, 3979,   2733.6,   3.0410,  34.9267,2,  34.9265,2,    274.3,2,    274.6,2,    14.49,2,    16.83,2,     0.00,2,     1.12,2,    1.244,2,    0.617,2, -999.000,9,-999.0000,9,  -999.00,9,   2156.3,2,   -999.0,9,   2311.5,2,     7.72,2,25, -999.00,   -999,-999.0000,-999.000,  2.8170,-999.000
     316N151_2,   A24,   129,  1,      6,      6,2,19970624,2104, 48.1808, -31.9685, 3979,   2988.1,   2.8658,  34.9274,2,  34.9281,2,    273.8,2,    274.5,2,    15.59,2,    16.79,2,     0.00,2,     1.11,2,    1.171,2,    0.565,2,    0.753,2,   1.8648,2,     6.62,2,   2156.3,2,   -999.0,9,   2311.7,2,     7.72,2,25, -999.00,   -999,  0.0000,   0.170,  2.6193,   0.017
     316N151_2,   A24,   129,  1,      5,      5,2,19970624,2104, 48.1808, -31.9685, 3979,   3242.2,   2.6708,  34.9218,2,  34.9212,2,    273.2,2,    274.6,2,    17.09,2,    16.79,2,     0.00,2,     1.12,2,    1.080,2,    0.525,2,    0.702,2,   1.8837,2,     7.25,2,   2157.9,2,   -999.0,9,   2314.2,2,     7.72,2,25, -999.00,   -999,  0.0000,   0.170,  2.4019,   0.016
     316N151_2,   A24,   129,  1,      4,      4,2,19970624,2104, 48.1808, -31.9685, 3979,   3497.5,   2.4919,  34.9129,2,  34.9124,2,    274.4,2,    276.0,2,    18.30,2,    16.75,2,     0.00,2,     1.12,2, -999.000,9, -999.000,9,    0.692,2,   4.2434,4,    -8.79,4,   2161.3,2,   -999.0,9,   2313.9,2,     7.72,2,25, -999.00,   -999,  0.0000,   0.150,  2.2000,   0.016
     316N151_2,   A24,   129,  1,      3,      3,2,19970624,2104, 48.1808, -31.9685, 3979,   3751.7,   2.4178,  34.9077,2,  34.9071,2,    274.3,2,    276.5,2,    18.69,2,    16.70,2,     0.00,2,     1.12,2,    1.236,2,    0.594,2,    0.751,2,   1.8856,2,     6.91,2,   2160.0,2,   -999.0,9,   2315.3,2,     7.73,2,25, -999.00,   -999,  0.0000,   0.170,  2.0998,   0.016
     316N151_2,   A24,   129,  1,      2,      2,2,19970624,2104, 48.1808, -31.9685, 3979,   3957.6,   2.3656,  34.9025,2,  34.9026,2,    275.6,2,    276.8,2,    19.49,2,    16.85,2,     0.00,2,     1.13,2,    1.285,2,    0.625,2,   -5.024,4,   1.8807,2,     6.75,2,   2162.0,2,   -999.0,9,   2314.7,2,     7.72,2,25, -999.00,   -999,  0.0000,   0.170,  2.0259,   0.087
     316N151_2,   A24,   129,  1,      1,      1,2,19970624,2104, 48.1808, -31.9685, 3979,   4046.3,   2.3516,  34.9012,2,  34.9012,2,    276.8,2,    274.7,2,    19.48,2,    16.76,2,     0.00,2,     1.13,2,    1.343,2,    0.654,2,    0.733,2,   1.8786,2,     6.64,2,   2162.2,2,    744.6,2,   2314.2,2,     7.72,2,25,   20.00,   -999,  0.0000,   0.170,  2.0021,   0.016