BOTTLE,20220629CCHSIOAMB
EXPOCODE,SECT_ID,STNNBR,CASTNO,SAMPNO,BTLNBR,BTLNBR_FLAG_W,DATE,TIME,LATITUDE,LONGITUDE,DEPTH,CTDPRS,CTDTMP,CTDSAL,CTDSAL_FLAG_W,SALNTY,SALNTY_FLAG_W,CTDOXY,CTDOXY_FLAG_W,OXYGEN,OXYGEN_FLAG_W,SILCAT,SILCAT_FLAG_W,NITRAT,NITRAT_FLAG_W,NITRIT,NITRIT_FLAG_W,PHSPHT,PHSPHT_FLAG_W,CFC-11,CFC-11_FLAG_W,CFC-12,CFC-12_FLAG_W,TRITUM,TRITUM_FLAG_W,HELIUM,HELIUM_FLAG_W,DELHE3,DELHE3_FLAG_W,TCARBN,TCARBN_FLAG_W,PCO2,PCO2_FLAG_W,ALKALI,ALKALI_FLAG_W,PH,PH_FLAG_W,PH_TMP,PCO2TMP,CTDRAW,HELIER,DELHER,THETA,TRITER
,,,,,,,,,,,,DBAR,ITS-90,PSS-78,,PSS-78,,UMOL/KG,,UMOL/KG,,UMOL/KG,,UMOL/KG,,UMOL/KG,,UMOL/KG,,PMOL/KG,,PMOL/KG,,TU,,NMOL/KG,,PERCNT,,UMOL/KG,,UATM,,UMOL/KG,,,,DEG C,DEG C,,NMOL/KG,PERCNT,DEG C,TU
     316N151_2,   A24,   113,  1,     26,     26,2,19970621,1846, 54.8412, -37.0655, 2527,      3.7,   9.7518,  34.8271,2,  34.8259,2,    293.7,2,    295.3,2,     1.52,2,     6.45,2,     0.13,2,     0.39,2,    4.015,2,    2.100,2, -999.000,9,-999.0000,9,  -999.00,9,   2074.5,2,    484.5,2,   2296.1,6,     7.88,6,25,   20.00,   -999,-999.0000,-999.000,  9.7513,-999.000
     316N151_2,   A24,   113,  1,     25,     25,2,19970621,1846, 54.8412, -37.0655, 2527,     45.8,   7.9920,  34.9039,2,  34.9009,2,    288.4,2,    286.2,2,     4.64,2,    10.22,2,     0.20,2,     0.74,2,    4.196,2,    2.174,2, -999.000,9,-999.0000,9,  -999.00,9,   2113.1,2,    586.3,2,   2304.9,2,     7.81,2,25,   20.00,   -999,-999.0000,-999.000,  7.9874,-999.000
     316N151_2,   A24,   113,  1,     24,     24,2,19970621,1846, 54.8412, -37.0655, 2527,     85.3,   6.9919,  34.9118,2,  34.9135,2,    279.3,2,    280.1,2,     6.94,2,    13.57,2,     0.12,2,     0.92,2,    4.162,2,    2.194,2, -999.000,9,-999.0000,9,  -999.00,9,   2132.5,2,    646.7,2,   2307.0,2,     7.77,2,25,   20.00,   -999,-999.0000,-999.000,  6.9840,-999.000
     316N151_2,   A24,   113,  1,     23,     23,2,19970621,1846, 54.8412, -37.0655, 2527,    135.4,   6.4237,  34.9379,2,  34.9304,2,    281.1,2,    278.7,2,     7.93,2,    14.77,2,     0.01,2,     0.99,2,    4.074,2,    2.126,2, -999.000,9,-999.0000,9,  -999.00,9,   2139.9,2,    677.3,2,   2307.4,2,     7.75,2,25,   20.00,   -999,-999.0000,-999.000,  6.4116,-999.000
     316N151_2,   A24,   113,  1,     22,     22,2,19970621,1846, 54.8412, -37.0655, 2527,    185.0,   6.5515,  35.0008,2,  34.9991,2,    277.9,2,    278.7,2,     7.81,2,    14.82,2,     0.01,2,     0.98,2,    4.032,2,    2.104,2, -999.000,9,-999.0000,9,  -999.00,9,   2141.8,2,    671.4,2,   2316.5,2,     7.76,2,25,   20.00,   -999,-999.0000,-999.000,  6.5349,-999.000
     316N151_2,   A24,   113,  1,     21,     21,2,19970621,1846, 54.8412, -37.0655, 2527,    235.3,   6.5183,  35.0130,2,  35.0133,2,    274.0,2,    279.0,2,     7.78,2,    14.82,2,     0.01,2,     0.98,2,    4.071,2,    2.124,2, -999.000,9,-999.0000,9,  -999.00,9,   2140.0,2,    670.6,2,   2312.4,2,     7.76,2,25,   20.00,   -999,-999.0000,-999.000,  6.4971,-999.000
     316N151_2,   A24,   113,  1,     20,     20,2,19970621,1846, 54.8412, -37.0655, 2527,    285.1,   6.4831,  35.0159,2,  35.0159,2,    277.4,2,    279.6,2,     7.96,2,    14.77,2,     0.01,2,     0.98,2,    4.091,2,    2.131,2, -999.000,9,-999.0000,9,  -999.00,9,   2141.3,2,    669.4,2,   2309.6,2,     7.75,2,25,   20.00,   -999,-999.0000,-999.000,  6.4574,-999.000
     316N151_2,   A24,   113,  1,     19,     19,2,19970621,1846, 54.8412, -37.0655, 2527,    335.9,   6.4292,  35.0131,2,  35.0151,2,    275.3,2,    278.9,2,     7.94,2,    14.82,2,     0.01,2,     0.99,2,    3.970,2,    2.075,2, -999.000,9,-999.0000,9,  -999.00,9,   2141.7,2,    672.2,2,   2311.9,2,     7.76,2,25,   20.00,   -999,-999.0000,-999.000,  6.3988,-999.000
     316N151_2,   A24,   113,  1,     18,     18,2,19970621,1846, 54.8412, -37.0655, 2527,    385.6,   6.0895,  34.9743,2,  34.9793,2,    267.7,2,    267.4,2,     8.82,2,    15.82,2,     0.01,2,     1.05,2,    3.789,2,    1.937,2, -999.000,9,-999.0000,9,  -999.00,9,   2148.2,2,    702.7,2,   2311.8,2,     7.74,2,25,   20.00,   -999,-999.0000,-999.000,  6.0556,-999.000
     316N151_2,   A24,   113,  1,     17,     17,2,19970621,1846, 54.8412, -37.0655, 2527,    466.2,   5.4908,  34.9388,2,  34.9409,2,    250.6,2,    246.0,2,    10.63,2,    17.77,2,     0.01,2,     1.17,2,    3.177,2,    1.566,2, -999.000,9,-999.0000,9,  -999.00,9,   2159.6,2,   -999.0,9,   2308.7,2,     7.71,2,25, -999.00,   -999,-999.0000,-999.000,  5.4516,-999.000
     316N151_2,   A24,   113,  1,     16,     16,2,19970621,1846, 54.8412, -37.0655, 2527,    548.2,   5.2626,  34.9732,2,  34.9708,2,    242.2,2,    242.5,2,    11.11,2,    18.06,2,     0.00,2,     1.18,2,    2.902,2,    1.403,2, -999.000,9,-999.0000,9,  -999.00,9,   2165.3,2,    777.4,2,   2313.3,2,     7.71,2,25,   20.00,   -999,-999.0000,-999.000,  5.2172,-999.000
     316N151_2,   A24,   113,  1,     15,     15,2,19970621,1846, 54.8412, -37.0655, 2527,    649.6,   4.8752,  34.9623,2,  34.9648,2,    243.5,2,    245.3,2,    11.49,2,    18.25,2,     0.00,2,     1.20,2,    2.724,2,    1.325,2, -999.000,9,-999.0000,9,  -999.00,9,   2165.4,2,    788.6,2,   2310.0,2,     7.70,2,25,   20.00,   -999,-999.0000,-999.000,  4.8228,-999.000
     316N151_2,   A24,   113,  1,     14,     14,2,19970621,1846, 54.8412, -37.0655, 2527,    749.5,   4.5512,  34.9566,2,  34.9561,2,    249.8,2,    252.4,2,    11.36,2,    17.96,2,     0.00,2,     1.18,2,    2.679,2,    1.287,2, -999.000,9,-999.0000,9,  -999.00,9,   2163.4,2,    782.9,2,   2310.1,2,     7.70,2,25,   20.00,   -999,-999.0000,-999.000,  4.4922,-999.000
     316N151_2,   A24,   113,  1,     13,     13,2,19970621,1846, 54.8412, -37.0655, 2527,    820.1,   4.2098,  34.9396,2,  34.9398,2,    260.3,2,    260.2,2,    11.34,2,    17.72,2,     0.00,2,     1.16,2,    2.674,2,    1.283,2, -999.000,9,-999.0000,9,  -999.00,9,   2161.5,2,   -999.0,9,   2308.4,2,     7.71,2,25, -999.00,   -999,-999.0000,-999.000,  4.1469,-999.000
     316N151_2,   A24,   113,  1,     12,     12,2,19970621,1846, 54.8412, -37.0655, 2527,    910.4,   3.9961,  34.9310,2,  34.9312,2,    263.7,2,    264.9,2,    11.21,2,    17.49,2,     0.00,2,     1.15,2,    2.636,2,    1.265,2, -999.000,9,-999.0000,9,  -999.00,9,   2159.0,2,    769.5,2,   2307.0,2,     7.71,2,25,   20.00,   -999,-999.0000,-999.000,  3.9272,-999.000
     316N151_2,   A24,   113,  1,     11,     11,2,19970621,1846, 54.8412, -37.0655, 2527,   1062.9,   3.7093,  34.9197,2,  34.9213,2,    271.0,2,    272.2,2,    11.09,2,    17.06,2,     0.00,2,     1.13,2,    2.582,2,    1.239,2, -999.000,9,-999.0000,9,  -999.00,9,   2156.7,2,    759.3,2,   2305.9,2,     7.72,2,25,   20.00,   -999,-999.0000,-999.000,  3.6300,-999.000
     316N151_2,   A24,   113,  1,     10,     10,2,19970621,1846, 54.8412, -37.0655, 2527,   1213.8,   3.4314,  34.9045,2,  34.9062,2,    280.2,2,    279.2,2,    11.06,2,    16.91,2,     0.00,2,     1.12,2,    2.747,2,    1.309,2, -999.000,9,-999.0000,9,  -999.00,9,   2153.9,2,   -999.0,9,   2305.6,2,     7.72,2,25, -999.00,   -999,-999.0000,-999.000,  3.3421,-999.000
     316N151_2,   A24,   113,  1,      9,      9,2,19970621,1846, 54.8412, -37.0655, 2527,   1364.4,   3.3500,  34.9135,2,  34.9145,2,    282.2,2,    281.0,2,    11.14,2,    16.63,2,     0.00,2,     1.10,2,    2.685,2,    1.293,2, -999.000,9,-999.0000,9,  -999.00,9,   2153.7,2,   -999.0,9,   2306.6,2,     7.73,2,25, -999.00,   -999,-999.0000,-999.000,  3.2489,-999.000
     316N151_2,   A24,   113,  1,      8,      8,2,19970621,1846, 54.8412, -37.0655, 2527,   1516.3,   3.1885,  34.9013,2,  34.9011,2,    286.0,2,    285.2,2,    11.12,2,    16.49,2,     0.00,2,     1.09,2,    2.897,2,    1.402,2, -999.000,9,-999.0000,9,  -999.00,9,   2152.9,2,    749.9,2,   2307.1,2,     7.72,2,25,   20.00,   -999,-999.0000,-999.000,  3.0763,-999.000
     316N151_2,   A24,   113,  1,      7,      7,2,19970621,1846, 54.8412, -37.0655, 2527,   1668.8,   3.1886,  34.9172,2,  34.9167,2,    280.2,2,    281.0,2,    11.80,2,    16.48,2,     0.00,2,     1.09,2,    2.443,2,    1.180,2, -999.000,9,-999.0000,9,  -999.00,9,   2153.5,2,   -999.0,9,   2307.5,2,     7.72,2,25, -999.00,   -999,-999.0000,-999.000,  3.0631,-999.000
     316N151_2,   A24,   113,  1,      6,      6,2,19970621,1846, 54.8412, -37.0655, 2527,   1820.6,   3.1765,  34.9260,2,  34.9271,2,    278.1,2,    278.8,2,    12.19,2,    16.44,2,     0.00,2,     1.09,2,    2.244,2,    1.076,2, -999.000,9,-999.0000,9,  -999.00,9,   2154.8,2,   -999.0,9,   2309.2,2,     7.72,2,25, -999.00,   -999,-999.0000,-999.000,  3.0377,-999.000
     316N151_2,   A24,   113,  1,      5,      5,2,19970621,1846, 54.8412, -37.0655, 2527,   1971.1,   3.1286,  34.9336,2,  34.9324,2,    276.7,2,    277.1,2,    12.77,2,    16.39,2,     0.00,2,     1.09,2,    2.019,2,    0.957,2, -999.000,9,-999.0000,9,  -999.00,9,   2154.3,2,    747.1,2,   2309.0,2,     7.72,2,25,   20.00,   -999,-999.0000,-999.000,  2.9768,-999.000
     316N151_2,   A24,   113,  1,      4,      4,2,19970621,1846, 54.8412, -37.0655, 2527,   2124.4,   3.0806,  34.9392,2,  34.9374,2,    272.5,2,    275.6,2,    13.36,2,    16.43,2,     0.00,2,     1.09,2,    1.852,2,    0.880,2, -999.000,9,-999.0000,9,  -999.00,9,   2156.4,2,   -999.0,9,   2311.3,2,     7.72,2,25, -999.00,   -999,-999.0000,-999.000,  2.9153,-999.000
     316N151_2,   A24,   113,  1,      3,      3,2,19970621,1846, 54.8412, -37.0655, 2527,   2276.2,   3.0235,  34.9387,2,  34.9376,2,    273.9,2,    274.6,2,    13.94,2,    16.53,2,     0.00,2,     1.10,2,    1.696,2,    0.815,2, -999.000,9,-999.0000,9,  -999.00,9,   2157.1,2,    746.2,2,   2310.4,2,     7.72,2,25,   20.00,   -999,-999.0000,-999.000,  2.8448,-999.000
     316N151_2,   A24,   113,  1,      2,      2,2,19970621,1846, 54.8412, -37.0655, 2527,   2429.9,   3.0054,  34.9395,2,  34.9382,2,    274.0,2,    274.2,2,    14.42,2,    16.53,2,     0.00,2,     1.10,2,    1.626,2,    0.784,2, -999.000,9,-999.0000,9,  -999.00,9,   2156.9,2,   -999.0,9,   2311.1,2,     7.72,2,25, -999.00,   -999,-999.0000,-999.000,  2.8122,-999.000
     316N151_2,   A24,   113,  1,      1,      1,2,19970621,1846, 54.8412, -37.0655, 2527,   2551.1,   3.0057,  34.9391,2,  34.9396,2,    274.4,2,    273.1,2,    14.81,2,    16.57,2,     0.00,2,     1.10,2,    1.656,2,    0.787,2, -999.000,9,-999.0000,9,  -999.00,9,   2157.1,2,    749.3,2,   2310.7,2,     7.72,2,25,   20.00,   -999,-999.0000,-999.000,  2.8006,-999.000
     316N151_2,   A24,   114,  1,     25,     25,2,19970621,2331, 54.3662, -36.5002, 2494,      4.1,   9.7402,  34.8012,2,-999.0000,9,    301.2,2,    295.9,2,     1.66,2,     6.41,2,     0.12,2,     0.41,2, -999.000,9, -999.000,9, -999.000,5,   1.8026,2,    -1.75,2,   2073.7,2,    491.7,2,   2302.9,6,     7.88,6,25,   20.00,   -999,  0.0000,   0.170,  9.7397,-999.000
     316N151_2,   A24,   114,  1,     24,     24,2,19970621,2331, 54.3662, -36.5002, 2494,     35.0,   7.5594,  34.8756,2,  34.8780,2,    288.7,2,    284.4,2,     4.98,2,    11.10,2,     0.20,2,     0.78,2, -999.000,9, -999.000,9, -999.000,5,   1.8228,2,    -1.54,2,   -999.0,9,   -999.0,9,   -999.0,9,  -999.00,9,25, -999.00,   -999,  0.0000,   0.150,  7.5561,-999.000
     316N151_2,   A24,   114,  1,     23,     23,2,19970621,2331, 54.3662, -36.5002, 2494,     75.0,   6.4866,  34.9095,2,  34.9062,2,    283.0,2,    280.0,2,     7.49,2,    14.10,2,     0.05,2,     0.95,2, -999.000,9, -999.000,9, -999.000,5,   1.8285,2,    -0.86,2,   2135.8,2,   -999.0,9,   2311.8,2,     7.76,2,25, -999.00,   -999,  0.0000,   0.170,  6.4800,-999.000
     316N151_2,   A24,   114,  1,     22,     22,2,19970621,2331, 54.3662, -36.5002, 2494,    105.7,   6.1379,  34.9029,2,  34.9015,2,    278.2,2,    281.5,2,     8.08,2,    14.66,2,     0.01,2,     0.99,2, -999.000,9, -999.000,9, -999.000,5,   1.8630,2,    -0.73,2,   -999.0,9,   -999.0,9,   -999.0,9,  -999.00,9,25, -999.00,   -999,  0.0000,   0.170,  6.1288,-999.000
     316N151_2,   A24,   114,  1,     21,     21,2,19970621,2331, 54.3662, -36.5002, 2494,    155.3,   6.1640,  34.9315,2,  34.9289,2,    280.3,2,    281.9,2,     8.16,2,    14.71,2,     0.01,2,     0.98,2, -999.000,9, -999.000,9, -999.000,5,   1.8277,2,    -1.13,2,   2140.7,2,   -999.0,9,   2306.1,2,     7.74,2,25, -999.00,   -999,  0.0000,   0.170,  6.1505,-999.000
     316N151_2,   A24,   114,  1,     20,     20,2,19970621,2331, 54.3662, -36.5002, 2494,    208.3,   6.5809,  35.0218,2,  35.0202,2,    277.9,2,    278.3,2,     7.93,2,    14.66,2,     0.01,2,     0.97,2, -999.000,9, -999.000,9, -999.000,9,-999.0000,9,  -999.00,9,   -999.0,9,   -999.0,9,   -999.0,9,  -999.00,9,25, -999.00,   -999,-999.0000,-999.000,  6.5621,-999.000
     316N151_2,   A24,   114,  1,     19,     19,2,19970621,2331, 54.3662, -36.5002, 2494,    255.7,   6.5305,  35.0229,2,  35.0216,2,    274.0,2,    279.4,2,     7.91,2,    14.62,2,     0.01,2,     0.97,2, -999.000,9, -999.000,9, -999.000,5,   1.8234,2,    -1.20,2,   2140.4,2,   -999.0,9,   2313.2,2,     7.76,2,25, -999.00,   -999,  0.0000,   0.150,  6.5074,-999.000
     316N151_2,   A24,   114,  1,     18,     18,2,19970621,2331, 54.3662, -36.5002, 2494,    356.7,   6.4870,  35.0251,2,  35.0246,2,    274.8,2,    281.6,2,     7.79,2,    14.47,2,     0.01,2,     0.96,2, -999.000,9, -999.000,9,    1.518,2,   1.8322,2,    -1.05,2,   -999.0,9,   -999.0,9,   -999.0,9,  -999.00,9,25, -999.00,   -999,  0.0000,   0.150,  6.4546,   0.022
     316N151_2,   A24,   114,  1,     17,     17,2,19970621,2331, 54.3662, -36.5002, 2494,    456.6,   6.0607,  34.9834,2,  34.9839,2,    269.3,2,    272.7,2,     8.48,2,    15.32,2,     0.00,2,     1.01,2,    3.901,2,    2.001,2,    1.477,2,   1.8409,2,     0.05,2,   2146.8,2,   -999.0,9,   2308.3,2,     7.75,2,25, -999.00,   -999,  0.0000,   0.170,  6.0204,   0.026
     316N151_2,   A24,   114,  1,     16,     16,2,19970621,2331, 54.3662, -36.5002, 2494,    557.7,   5.4206,  34.9562,2,  34.9618,2,    250.2,2,    245.4,2,    10.69,2,    17.62,2,     0.00,2,     1.16,2,    3.116,2,    1.532,2,   -0.016,4,   1.8074,2,     4.51,2,   -999.0,9,   -999.0,9,   -999.0,9,  -999.00,9,25, -999.00,   -999,  0.0000,   0.210,  5.3737,   0.003
     316N151_2,   A24,   114,  1,     15,     15,2,19970621,2331, 54.3662, -36.5002, 2494,    608.2,   5.0905,  34.9447,2,  34.9453,2,    242.1,2,    242.8,2,    11.08,2,    18.00,2,     0.00,2,     1.18,2,    2.958,2,    1.444,2, -999.000,9,-999.0000,9,  -999.00,9,   2166.1,2,   -999.0,9,   2308.7,2,     7.70,2,25, -999.00,   -999,-999.0000,-999.000,  5.0407,-999.000
     316N151_2,   A24,   114,  1,     14,     14,2,19970621,2331, 54.3662, -36.5002, 2494,    689.2,   4.5755,  34.9283,2,  34.9192,2,    248.9,2,    250.6,2,    11.26,2,    17.96,2,     0.00,2,     1.18,2,    2.942,2,    1.446,2,    1.378,2,   1.8480,2,     5.05,2,   -999.0,9,   -999.0,9,   -999.0,9,  -999.00,9,25, -999.00,   -999,  0.0000,   0.210,  4.5214,   0.020
     316N151_2,   A24,   114,  1,     13,     13,2,19970621,2331, 54.3662, -36.5002, 2494,    758.3,   4.5097,  34.9562,2,  34.9540,2,    252.0,2,    252.1,2,    11.24,2,    17.72,2,     0.00,2,     1.16,2,    2.690,2,    1.298,2, -999.000,9,-999.0000,9,  -999.00,9,   2165.1,2,   -999.0,9,   2308.6,2,     7.69,2,25, -999.00,   -999,-999.0000,-999.000,  4.4502,-999.000
     316N151_2,   A24,   114,  1,     12,     12,2,19970621,2331, 54.3662, -36.5002, 2494,    890.5,   4.1040,  34.9358,2,  34.9352,2,    259.2,2,    262.0,2,    11.22,2,    17.44,2,     0.00,2,     1.14,2,    2.648,2,    1.280,2,    1.200,2,   1.8634,2,     6.94,2,   -999.0,9,   -999.0,9,   -999.0,9,  -999.00,9,25, -999.00,   -999,  0.0000,   0.150,  4.0360,   0.020
     316N151_2,   A24,   114,  1,     11,     11,2,19970621,2331, 54.3662, -36.5002, 2494,   1011.3,   3.8317,  34.9226,2,  34.9240,2,    268.6,2,    268.7,2,    11.10,2,    17.16,2,     0.00,2,     1.12,2,    2.613,2,    1.241,2,    1.403,2,   1.8501,2,     6.73,2,   -999.0,9,   -999.0,9,   -999.0,9,  -999.00,9,25, -999.00,   -999,  0.0000,   0.210,  3.7557,   0.021
     316N151_2,   A24,   114,  1,     10,     10,2,19970621,2331, 54.3662, -36.5002, 2494,   1161.3,   3.6159,  34.9192,2,  34.9211,2,    274.0,2,    274.0,2,    10.98,2,    16.83,2,     0.00,2,     1.10,2,    2.596,2,    1.226,2, -999.000,9,-999.0000,9,  -999.00,9,   -999.0,9,   -999.0,9,   -999.0,9,  -999.00,9,25, -999.00,   -999,-999.0000,-999.000,  3.5292,-999.000
     316N151_2,   A24,   114,  1,      9,      9,2,19970621,2331, 54.3662, -36.5002, 2494,   1314.9,   3.4960,  34.9229,2,  34.9270,2,    276.0,2,    275.6,2,    11.16,2,    16.60,2,     0.00,2,     1.09,2,    2.498,2,    1.199,2,    1.273,2,-999.0000,5,  -999.00,5,   -999.0,9,   -999.0,9,   -999.0,9,  -999.00,9,25, -999.00,   -999,-999.0000,-999.000,  3.3976,   0.023
     316N151_2,   A24,   114,  1,      8,      8,2,19970621,2331, 54.3662, -36.5002, 2494,   1465.6,   3.3918,  34.9310,2,  34.9329,2,    279.7,2,    276.5,2,    11.45,2,    16.41,2,     0.00,2,     1.08,2,    2.439,2,    1.163,2,    1.280,2,   1.8515,2,     6.72,2,   -999.0,9,   -999.0,9,   -999.0,9,  -999.00,9,25, -999.00,   -999,  0.0000,   0.150,  3.2816,   0.018
     316N151_2,   A24,   114,  1,      7,      7,2,19970621,2331, 54.3662, -36.5002, 2494,   1618.5,   3.3028,  34.9306,2,  34.9316,2,    278.0,2,    277.0,2,    11.73,2,    16.36,2,     0.00,2,     1.08,2,    2.379,2,    1.134,2,    1.213,2,   1.8677,2,     6.99,2,   -999.0,9,   -999.0,9,   -999.0,9,  -999.00,9,25, -999.00,   -999,  0.0000,   0.150,  3.1803,   0.021
     316N151_2,   A24,   114,  1,      6,      6,2,19970621,2331, 54.3662, -36.5002, 2494,   1768.2,   3.2577,  34.9324,2,  34.9326,2,    278.7,2,    277.1,2,    11.91,2,    16.36,2,     0.00,2,     1.08,2, -999.000,9, -999.000,9, -999.000,9,-999.0000,9,  -999.00,9,   -999.0,9,   -999.0,9,   -999.0,9,  -999.00,9,25, -999.00,   -999,-999.0000,-999.000,  3.1224,-999.000
     316N151_2,   A24,   114,  1,      5,      5,2,19970621,2331, 54.3662, -36.5002, 2494,   1918.9,   3.2084,  34.9358,2,  34.9365,2,    276.5,2,    276.4,2,    12.40,2,    16.27,2,     0.00,2,     1.08,2, -999.000,9, -999.000,9,    0.996,2,   1.8450,2,     6.47,2,   -999.0,9,   -999.0,9,   -999.0,9,  -999.00,9,25, -999.00,   -999,  0.0000,   0.210,  3.0602,   0.016
     316N151_2,   A24,   114,  1,      4,      4,2,19970621,2331, 54.3662, -36.5002, 2494,   2073.0,   3.0935,  34.9419,2,  34.9422,2,    271.6,2,    274.4,2,    13.29,2,    16.32,2,     0.00,2,     1.08,2, -999.000,9, -999.000,9, -999.000,9,-999.0000,9,  -999.00,9,   -999.0,9,   -999.0,9,   -999.0,9,  -999.00,9,25, -999.00,   -999,-999.0000,-999.000,  2.9328,-999.000
     316N151_2,   A24,   114,  1,      3,      3,2,19970621,2331, 54.3662, -36.5002, 2494,   2224.7,   3.0276,  34.9448,2,  34.9436,2,    270.2,2,    273.6,2,    13.98,2,    16.36,2,     0.00,2,     1.08,2, -999.000,9, -999.000,9,    1.051,2,   1.8672,2,     7.95,2,   -999.0,9,   -999.0,9,   -999.0,9,  -999.00,9,25, -999.00,   -999,  0.0000,   0.210,  2.8537,   0.016
     316N151_2,   A24,   114,  1,      2,      2,2,19970621,2331, 54.3662, -36.5002, 2494,   2378.1,   2.9763,  34.9465,2,  34.9466,2,    271.5,2,    272.8,2,    14.57,2,    16.41,2,     0.00,2,     1.09,2, -999.000,9, -999.000,9, -999.000,9,-999.0000,9,  -999.00,9,   -999.0,9,   -999.0,9,   -999.0,9,  -999.00,9,25, -999.00,   -999,-999.0000,-999.000,  2.7887,-999.000
     316N151_2,   A24,   114,  1,      1,      1,2,19970621,2331, 54.3662, -36.5002, 2494,   2506.5,   2.9704,  34.9477,2,  34.9476,2,    273.8,2,    273.2,2,    14.86,2,    16.41,2,     0.00,2,     1.10,2, -999.000,9, -999.000,9,    0.917,2,   1.8770,2,     6.77,2,   -999.0,9,   -999.0,9,   -999.0,9,  -999.00,9,25, -999.00,   -999,  0.0000,   0.190,  2.7704,   0.014