BOTTLE,20220629CCHSIOAMB
EXPOCODE,SECT_ID,STNNBR,CASTNO,SAMPNO,BTLNBR,BTLNBR_FLAG_W,DATE,TIME,LATITUDE,LONGITUDE,DEPTH,CTDPRS,CTDTMP,CTDSAL,CTDSAL_FLAG_W,SALNTY,SALNTY_FLAG_W,CTDOXY,CTDOXY_FLAG_W,OXYGEN,OXYGEN_FLAG_W,SILCAT,SILCAT_FLAG_W,NITRAT,NITRAT_FLAG_W,NITRIT,NITRIT_FLAG_W,PHSPHT,PHSPHT_FLAG_W,CFC-11,CFC-11_FLAG_W,CFC-12,CFC-12_FLAG_W,TRITUM,TRITUM_FLAG_W,HELIUM,HELIUM_FLAG_W,DELHE3,DELHE3_FLAG_W,TCARBN,TCARBN_FLAG_W,PCO2,PCO2_FLAG_W,ALKALI,ALKALI_FLAG_W,PH,PH_FLAG_W,PH_TMP,PCO2TMP,CTDRAW,HELIER,DELHER,THETA,TRITER
,,,,,,,,,,,,DBAR,ITS-90,PSS-78,,PSS-78,,UMOL/KG,,UMOL/KG,,UMOL/KG,,UMOL/KG,,UMOL/KG,,UMOL/KG,,PMOL/KG,,PMOL/KG,,TU,,NMOL/KG,,PERCNT,,UMOL/KG,,UATM,,UMOL/KG,,,,DEG C,DEG C,,NMOL/KG,PERCNT,DEG C,TU
     316N151_2,   A24,    42,  1,     24,     24,2,19970609,1526, 54.4165, -15.8298, 2503,      1.2,  12.2774,  35.4601,2,  35.4671,2,    277.7,2,    274.2,2,     0.57,2,     4.92,2,     0.11,2,     0.33,2,    3.460,2,    1.834,2, -999.000,9,-999.0000,9,  -999.00,9,   2093.9,2,    455.0,2,   2341.1,6,     7.90,6,25,   20.00,   -999,-999.0000,-999.000, 12.2772,-999.000
     316N151_2,   A24,    42,  1,     23,     23,2,19970609,1526, 54.4165, -15.8298, 2503,     45.6,  11.9125,  35.4622,2,  35.4624,2,    269.1,2,    271.9,2,     0.66,2,     5.46,2,     0.13,2,     0.37,2,    3.451,2,    1.813,2, -999.000,9,-999.0000,9,  -999.00,9,   2097.3,2,    463.7,2,   2338.5,2,     7.90,2,25,   20.00,   -999,-999.0000,-999.000, 11.9066,-999.000
     316N151_2,   A24,    42,  1,     22,     22,2,19970609,1526, 54.4165, -15.8298, 2503,     84.9,  10.6742,  35.4476,2,  35.4484,2,    260.4,2,    262.3,2,     3.66,2,     9.39,2,     0.31,2,     0.63,2,    3.520,2,    1.869,2, -999.000,9,-999.0000,9,  -999.00,9,   2122.6,2,    541.2,2,   2334.4,2,     7.84,2,25,   20.00,   -999,-999.0000,-999.000, 10.6639,-999.000
     316N151_2,   A24,    42,  1,     21,     21,2,19970609,1526, 54.4165, -15.8298, 2503,    155.0,  10.3535,  35.4319,2,  35.4317,2,    253.7,2,    256.5,2,     4.92,2,    11.05,2,     0.02,2,     0.71,2,    3.456,2,    1.817,2, -999.000,9,-999.0000,9,  -999.00,9,   2129.3,2,    567.8,2,   2335.8,2,     7.82,2,25,   20.00,   -999,-999.0000,-999.000, 10.3350,-999.000
     316N151_2,   A24,    42,  1,     20,     20,2,19970609,1526, 54.4165, -15.8298, 2503,    254.3,   9.9897,  35.3973,2,  35.3978,2,    255.6,2,    256.2,2,     5.47,2,    11.77,2,     0.01,2,     0.76,2,    3.445,2,    1.800,2, -999.000,9,-999.0000,9,  -999.00,9,   2133.7,2,    578.0,2,   2330.3,2,     7.81,2,25,   20.00,   -999,-999.0000,-999.000,  9.9599,-999.000
     316N151_2,   A24,    42,  1,     19,     19,2,19970609,1526, 54.4165, -15.8298, 2503,    354.2,   9.7759,  35.3858,2,  35.3850,2,    253.4,2,    249.4,2,     5.79,2,    12.38,2,     0.01,2,     0.80,2,    3.328,2,    1.719,2, -999.000,9,-999.0000,9,  -999.00,9,   2138.4,2,    599.8,2,   2332.2,2,     7.80,2,25,   20.00,   -999,-999.0000,-999.000,  9.7348,-999.000
     316N151_2,   A24,    42,  1,     18,     18,2,19970609,1526, 54.4165, -15.8298, 2503,    457.3,   9.5216,  35.3615,2,  35.3627,2,    254.6,2,    254.4,2,     5.76,2,    12.43,2,     0.01,2,     0.80,2,    3.447,2,    1.805,2, -999.000,9,-999.0000,9,  -999.00,9,   2137.8,2,    600.5,2,   2328.7,2,     7.80,2,25,   20.00,   -999,-999.0000,-999.000,  9.4691,-999.000
     316N151_2,   A24,    42,  1,     17,     17,2,19970609,1526, 54.4165, -15.8298, 2503,    555.4,   9.2197,  35.3307,2,  35.3322,2,    252.0,2,    248.6,2,     6.43,2,    13.25,2,     0.01,2,     0.86,2,    3.369,2,    1.727,2, -999.000,9,-999.0000,9,  -999.00,9,   2142.4,2,    618.0,2,   2327.9,2,     7.78,2,25,   20.00,   -999,-999.0000,-999.000,  9.1569,-999.000
     316N151_2,   A24,    42,  1,     16,     16,2,19970609,1526, 54.4165, -15.8298, 2503,    656.5,   8.8980,  35.3016,2,  35.3017,2,    256.7,2,    255.6,2,     6.52,2,    13.25,2,     0.01,2,     0.87,2,    3.490,2,    1.804,2, -999.000,9,-999.0000,9,  -999.00,9,   2142.1,2,    619.2,2,   2326.3,2,     7.79,2,25,   20.00,   -999,-999.0000,-999.000,  8.8250,-999.000
     316N151_2,   A24,    42,  1,     15,     15,2,19970609,1526, 54.4165, -15.8298, 2503,    755.6,   8.5995,  35.2765,2,  35.2745,2,    242.5,2,    242.5,2,     7.77,2,    14.62,2,     0.01,2,     0.96,2,    3.192,2,    1.624,2, -999.000,9,-999.0000,9,  -999.00,9,   2149.7,2,    652.2,2,   2328.1,2,     7.76,2,25,   20.00,   -999,-999.0000,-999.000,  8.5167,-999.000
     316N151_2,   A24,    42,  1,     14,     14,2,19970609,1526, 54.4165, -15.8298, 2503,    857.1,   8.0286,  35.2459,2,  35.2439,2,    229.0,2,    225.2,2,     9.61,2,    16.60,2,     0.00,2,     1.08,2,    2.634,2,    1.313,2, -999.000,9,-999.0000,9,  -999.00,9,   2162.4,2,    702.3,2,   2325.7,2,     7.73,2,25,   20.00,   -999,-999.0000,-999.000,  7.9377,-999.000
     316N151_2,   A24,    42,  1,     13,     13,2,19970609,1526, 54.4165, -15.8298, 2503,    961.1,   7.2457,  35.2057,2,  35.2038,2,    220.1,2,    219.6,2,    10.87,2,    17.77,2,     0.00,2,     1.16,2,    2.253,2,    1.104,2, -999.000,9,-999.0000,9,  -999.00,9,   2170.7,2,    739.3,2,   2337.9,4,     7.72,2,25,   20.00,   -999,-999.0000,-999.000,  7.1487,-999.000
     316N151_2,   A24,    42,  1,     12,     12,2,19970609,1526, 54.4165, -15.8298, 2503,   1060.4,   6.4581,  35.1554,2,  35.1490,2,    220.5,2,    220.6,2,    11.66,2,    18.39,2,     0.00,2,     1.20,2,    2.085,2,    1.027,2, -999.000,9,-999.0000,9,  -999.00,9,   -999.0,9,    760.4,2,   2323.9,2,     7.71,2,25,   20.00,   -999,-999.0000,-999.000,  6.3566,-999.000
     316N151_2,   A24,    42,  1,     11,     11,2,19970609,1526, 54.4165, -15.8298, 2503,   1162.2,   5.7795,  35.0929,2,  35.0935,2,    233.3,2,    234.9,2,    11.51,2,    17.93,2,     0.00,2,     1.17,2,    2.161,2,    1.048,2, -999.000,9,-999.0000,9,  -999.00,9,   2168.3,2,    762.0,2,   2322.5,2,     7.71,2,25,   20.00,   -999,-999.0000,-999.000,  5.6735,-999.000
     316N151_2,   A24,    42,  1,     10,     10,2,19970609,1526, 54.4165, -15.8298, 2503,   1260.9,   5.2153,  35.0463,2,  35.0441,2,    243.0,2,    243.7,2,    11.71,2,    17.93,2,     0.00,2,     1.17,2,    2.162,2,    1.035,2, -999.000,9,-999.0000,9,  -999.00,9,   2167.6,2,    767.5,2,   2315.0,2,     7.70,2,25,   20.00,   -999,-999.0000,-999.000,  5.1048,-999.000
     316N151_2,   A24,    42,  1,      9,      9,2,19970609,1526, 54.4165, -15.8298, 2503,   1361.6,   4.6049,  34.9929,2,  34.9938,2,    249.6,2,    253.7,2,    11.92,2,    17.73,2,     0.00,2,     1.17,2,    2.111,2,    1.020,2, -999.000,9,-999.0000,9,  -999.00,9,   2164.4,2,    758.2,2,   2312.2,2,     7.70,2,25,   20.00,   -999,-999.0000,-999.000,  4.4909,-999.000
     316N151_2,   A24,    42,  1,      8,      8,2,19970609,1526, 54.4165, -15.8298, 2503,   1465.8,   4.2375,  34.9613,2,  34.9615,2,    260.6,2,    259.5,2,    12.12,2,    17.68,2,     0.00,2,     1.16,2,    2.079,2,    0.994,2, -999.000,9,-999.0000,9,  -999.00,9,   2162.6,2,    765.7,2,   2309.3,2,     7.71,2,25,   20.00,   -999,-999.0000,-999.000,  4.1178,-999.000
     316N151_2,   A24,    42,  1,      7,      7,2,19970609,1526, 54.4165, -15.8298, 2503,   1566.1,   3.9489,  34.9371,2,  34.9375,2,    265.2,2,    266.0,2,    12.33,2,    17.52,2,     0.00,2,     1.16,2,    1.982,2,    0.953,2, -999.000,9,-999.0000,9,  -999.00,9,   2160.1,2,    759.4,2,   2309.1,2,     7.71,2,25,   20.00,   -999,-999.0000,-999.000,  3.8233,-999.000
     316N151_2,   A24,    42,  1,      6,      6,2,19970609,1526, 54.4165, -15.8298, 2503,   1714.2,   3.6924,  34.9218,2,  34.9478,4,    272.1,2,    269.6,2,    12.77,2,    17.37,2,     0.00,2,     1.15,2,    1.866,2,    0.899,2, -999.000,9,-999.0000,9,  -999.00,9,   2159.4,2,    756.7,2,   2306.2,2,     7.70,2,25,   20.00,   -999,-999.0000,-999.000,  3.5564,-999.000
     316N151_2,   A24,    42,  1,      5,      5,2,19970609,1526, 54.4165, -15.8298, 2503,   1863.2,   3.5179,  34.9151,2,  34.9157,2,    270.0,2,    271.8,2,    13.21,2,    17.32,2,     0.00,2,     1.15,2,    1.794,2,    0.871,2, -999.000,9,-999.0000,9,  -999.00,9,   2157.3,2,    747.0,2,   2307.2,2,     7.70,2,25,   20.00,   -999,-999.0000,-999.000,  3.3705,-999.000
     316N151_2,   A24,    42,  1,      4,      4,2,19970609,1526, 54.4165, -15.8298, 2503,   2015.2,   3.4508,  34.9240,2,  34.9246,2,    271.8,2,    269.7,2,    14.46,2,    17.42,2,     0.00,2,     1.16,2,    1.450,2,    0.697,2, -999.000,9,-999.0000,9,  -999.00,9,   2160.4,2,    753.0,2,   2310.2,2,     7.71,2,25,   20.00,   -999,-999.0000,-999.000,  3.2902,-999.000
     316N151_2,   A24,    42,  1,      3,      3,2,19970609,1526, 54.4165, -15.8298, 2503,   2221.9,   3.2548,  34.9376,2,  34.9388,2,    261.4,2,    264.5,2,    18.18,2,    17.83,2,     0.00,2,     1.19,2,    0.932,2,    0.453,2, -999.000,9,-999.0000,9,  -999.00,9,   2164.4,2,    749.5,2,   2314.4,2,     7.71,2,25,   20.00,   -999,-999.0000,-999.000,  3.0774,-999.000
     316N151_2,   A24,    42,  1,      2,      2,2,19970609,1526, 54.4165, -15.8298, 2503,   2426.5,   3.0160,  34.9425,2,  34.9431,2,    253.2,2,    256.6,2,    25.41,2,    18.89,2,     0.00,2,     1.27,2,    0.579,2,    0.301,2, -999.000,9,-999.0000,9,  -999.00,9,   2176.7,2,    760.2,2,   2327.2,2,     7.70,2,25,   20.00,   -999,-999.0000,-999.000,  2.8230,-999.000
     316N151_2,   A24,    42,  1,      1,      1,2,19970609,1526, 54.4165, -15.8298, 2503,   2518.3,   2.8488,  34.9384,2,  34.9409,3,    250.9,2,    250.5,2,    30.90,2,    19.70,2,     0.00,2,     1.34,2,    0.390,2,    0.205,2, -999.000,9,-999.0000,9,  -999.00,9,   2185.4,2,    766.2,2,   2336.0,2,     7.71,2,25,   20.00,   -999,-999.0000,-999.000,  2.6498,-999.000
     316N151_2,   A24,    43,  1,     24,     24,2,19970609,1844, 54.5840, -16.1748, 2301,     10.2,  12.0170,  35.4455,2,  35.4545,2,    285.9,2,    272.8,2,     0.74,2,     5.05,2,     0.11,2,     0.36,2, -999.000,9, -999.000,9, -999.000,9,-999.0000,9,  -999.00,9,   2092.3,2,   -999.0,9,   2337.1,6,     7.91,6,25, -999.00,   -999,-999.0000,-999.000, 12.0157,-999.000
     316N151_2,   A24,    43,  1,     23,     23,2,19970609,1844, 54.5840, -16.1748, 2301,     35.7,  11.9010,  35.4458,2,  35.4524,2,    271.2,2,    272.6,2,     0.83,2,     5.25,2,     0.12,2,     0.36,2, -999.000,9, -999.000,9, -999.000,9,-999.0000,9,  -999.00,9,   -999.0,9,   -999.0,9,   -999.0,9,  -999.00,9,25, -999.00,   -999,-999.0000,-999.000, 11.8964,-999.000
     316N151_2,   A24,    43,  1,     22,     22,2,19970609,1844, 54.5840, -16.1748, 2301,     76.5,  10.5264,  35.4338,2,  35.4354,2,    270.2,2,    267.0,2,     1.98,2,     7.85,2,     0.25,2,     0.58,2, -999.000,9, -999.000,9, -999.000,9,-999.0000,9,  -999.00,9,   -999.0,9,   -999.0,9,   -999.0,9,  -999.00,9,25, -999.00,   -999,-999.0000,-999.000, 10.5172,-999.000
     316N151_2,   A24,    43,  1,     21,     21,2,19970609,1844, 54.5840, -16.1748, 2301,    107.5,  10.3834,  35.4292,2,  35.4307,2,    263.1,2,    258.7,2,     4.18,2,    10.20,2,     0.13,2,     0.69,2, -999.000,9, -999.000,9, -999.000,9,-999.0000,9,  -999.00,9,   -999.0,9,   -999.0,9,   -999.0,9,  -999.00,9,25, -999.00,   -999,-999.0000,-999.000, 10.3706,-999.000
     316N151_2,   A24,    43,  1,     20,     20,2,19970609,1844, 54.5840, -16.1748, 2301,    206.1,   9.9713,  35.3984,2,  35.3994,2,    253.0,2,    254.9,2,     5.09,2,    11.57,2,     0.08,2,     0.76,2, -999.000,9, -999.000,9, -999.000,9,-999.0000,9,  -999.00,9,   -999.0,9,   -999.0,9,   -999.0,9,  -999.00,9,25, -999.00,   -999,-999.0000,-999.000,  9.9473,-999.000
     316N151_2,   A24,    43,  1,     19,     19,2,19970609,1844, 54.5840, -16.1748, 2301,    306.5,   9.7926,  35.4085,2,  35.4071,2,    258.4,2,    264.4,2,     4.95,2,    11.23,2,     0.01,2,     0.73,2, -999.000,9, -999.000,9, -999.000,9,-999.0000,9,  -999.00,9,   -999.0,9,   -999.0,9,   -999.0,9,  -999.00,9,25, -999.00,   -999,-999.0000,-999.000,  9.7571,-999.000
     316N151_2,   A24,    43,  1,     18,     18,2,19970609,1844, 54.5840, -16.1748, 2301,    406.7,   9.6561,  35.3935,2,  35.3941,2,    260.5,2,    265.4,2,     5.16,2,    11.38,2,     0.01,2,     0.74,2, -999.000,9, -999.000,9, -999.000,9,-999.0000,9,  -999.00,9,   -999.0,9,   -999.0,9,   -999.0,9,  -999.00,9,25, -999.00,   -999,-999.0000,-999.000,  9.6091,-999.000
     316N151_2,   A24,    43,  1,     17,     17,2,19970609,1844, 54.5840, -16.1748, 2301,    508.7,   9.5254,  35.3769,2,  35.3738,2,    259.6,2,    263.1,2,     5.26,2,    11.69,2,     0.01,2,     0.76,2, -999.000,9, -999.000,9, -999.000,9,-999.0000,9,  -999.00,9,   -999.0,9,   -999.0,9,   -999.0,9,  -999.00,9,25, -999.00,   -999,-999.0000,-999.000,  9.4669,-999.000
     316N151_2,   A24,    43,  1,     16,     16,2,19970609,1844, 54.5840, -16.1748, 2301,    607.9,   9.2187,  35.3343,2,  35.3338,2,    262.8,2,    251.4,2,     6.41,2,    13.05,2,     0.01,2,     0.85,2, -999.000,9, -999.000,9, -999.000,9,-999.0000,9,  -999.00,9,   -999.0,9,   -999.0,9,   -999.0,9,  -999.00,9,25, -999.00,   -999,-999.0000,-999.000,  9.1498,-999.000
     316N151_2,   A24,    43,  1,     15,     15,2,19970609,1844, 54.5840, -16.1748, 2301,    704.6,   8.9311,  35.3041,2,  35.3010,2,    245.2,2,    244.8,2,     7.21,2,    13.96,2,     0.00,2,     0.91,2, -999.000,9, -999.000,9, -999.000,9,-999.0000,9,  -999.00,9,   -999.0,9,   -999.0,9,   -999.0,9,  -999.00,9,25, -999.00,   -999,-999.0000,-999.000,  8.8523,-999.000
     316N151_2,   A24,    43,  1,     14,     14,2,19970609,1844, 54.5840, -16.1748, 2301,    808.9,   8.4929,  35.2682,2,  35.2710,2,    237.3,2,    239.7,2,     8.01,2,    14.87,2,     0.00,2,     0.97,2, -999.000,9, -999.000,9, -999.000,9,-999.0000,9,  -999.00,9,   -999.0,9,   -999.0,9,   -999.0,9,  -999.00,9,25, -999.00,   -999,-999.0000,-999.000,  8.4046,-999.000
     316N151_2,   A24,    43,  1,     13,     13,2,19970609,1844, 54.5840, -16.1748, 2301,    910.5,   7.9172,  35.2422,2,  35.2443,2,    231.2,2,    225.9,2,     9.63,2,    16.55,2,     0.00,2,     1.08,2, -999.000,9, -999.000,9, -999.000,9,-999.0000,9,  -999.00,9,   -999.0,9,   -999.0,9,   -999.0,9,  -999.00,9,25, -999.00,   -999,-999.0000,-999.000,  7.8211,-999.000
     316N151_2,   A24,    43,  1,     12,     12,2,19970609,1844, 54.5840, -16.1748, 2301,   1010.8,   7.0432,  35.1936,2,  35.1887,2,    224.8,2,    223.7,2,    10.90,2,    17.51,2,     0.00,2,     1.14,2, -999.000,9, -999.000,9, -999.000,9,-999.0000,9,  -999.00,9,   -999.0,9,   -999.0,9,   -999.0,9,  -999.00,9,25, -999.00,   -999,-999.0000,-999.000,  6.9424,-999.000
     316N151_2,   A24,    43,  1,     11,     11,2,19970609,1844, 54.5840, -16.1748, 2301,   1111.4,   6.3613,  35.1445,2,  35.1448,2,    225.2,2,    227.1,2,    11.47,2,    17.92,2,     0.00,2,     1.18,2, -999.000,9, -999.000,9, -999.000,9,-999.0000,9,  -999.00,9,   -999.0,9,   -999.0,9,   -999.0,9,  -999.00,9,25, -999.00,   -999,-999.0000,-999.000,  6.2553,-999.000
     316N151_2,   A24,    43,  1,     10,     10,2,19970609,1844, 54.5840, -16.1748, 2301,   1213.4,   5.6163,  35.0812,2,  35.0883,2,    234.1,2,    235.2,2,    11.80,2,    18.01,2,     0.00,2,     1.18,2, -999.000,9, -999.000,9, -999.000,9,-999.0000,9,  -999.00,9,   -999.0,9,   -999.0,9,   -999.0,9,  -999.00,9,25, -999.00,   -999,-999.0000,-999.000,  5.5066,-999.000
     316N151_2,   A24,    43,  1,      9,      9,2,19970609,1844, 54.5840, -16.1748, 2301,   1313.7,   5.0177,  35.0324,2,  35.0328,2,    246.1,2,    246.1,2,    11.78,2,    17.81,2,     0.00,2,     1.18,2, -999.000,9, -999.000,9, -999.000,9,-999.0000,9,  -999.00,9,   -999.0,9,   -999.0,9,   -999.0,9,  -999.00,9,25, -999.00,   -999,-999.0000,-999.000,  4.9041,-999.000
     316N151_2,   A24,    43,  1,      8,      8,2,19970609,1844, 54.5840, -16.1748, 2301,   1414.9,   4.4839,  34.9837,2,  34.9829,2,    254.3,2,    255.0,2,    12.00,2,    17.71,2,     0.00,2,     1.18,2, -999.000,9, -999.000,9, -999.000,9,-999.0000,9,  -999.00,9,   -999.0,9,   -999.0,9,   -999.0,9,  -999.00,9,25, -999.00,   -999,-999.0000,-999.000,  4.3662,-999.000
     316N151_2,   A24,    43,  1,      7,      7,2,19970609,1844, 54.5840, -16.1748, 2301,   1515.1,   4.1741,  34.9603,2,  34.9591,2,    260.6,2,    261.6,2,    12.21,2,    17.45,2,     0.00,2,     1.16,2, -999.000,9, -999.000,9, -999.000,9,-999.0000,9,  -999.00,9,   -999.0,9,   -999.0,9,   -999.0,9,  -999.00,9,25, -999.00,   -999,-999.0000,-999.000,  4.0505,-999.000
     316N151_2,   A24,    43,  1,      6,      6,2,19970609,1844, 54.5840, -16.1748, 2301,   1668.5,   3.7857,  34.9298,2,  34.9284,2,    271.7,2,    268.8,2,    12.66,2,    17.30,2,     0.00,2,     1.16,2, -999.000,9, -999.000,9, -999.000,9,-999.0000,9,  -999.00,9,   -999.0,9,   -999.0,9,   -999.0,9,  -999.00,9,25, -999.00,   -999,-999.0000,-999.000,  3.6527,-999.000
     316N151_2,   A24,    43,  1,      5,      5,2,19970609,1844, 54.5840, -16.1748, 2301,   1718.1,   3.7200,  34.9294,2,  34.9267,2,    276.2,2,    269.3,2,    12.99,2,    17.29,2,     0.00,2,     1.16,2, -999.000,9, -999.000,9, -999.000,9,-999.0000,9,  -999.00,9,   -999.0,9,   -999.0,9,   -999.0,9,  -999.00,9,25, -999.00,   -999,-999.0000,-999.000,  3.5833,-999.000
     316N151_2,   A24,    43,  1,      4,      4,2,19970609,1844, 54.5840, -16.1748, 2301,   1869.4,   3.5252,  34.9238,2,  34.9214,2,    264.8,2,    270.2,2,    14.03,2,    17.24,2,     0.00,2,     1.17,2, -999.000,9, -999.000,9, -999.000,9,-999.0000,9,  -999.00,9,   -999.0,9,   -999.0,9,   -999.0,9,  -999.00,9,25, -999.00,   -999,-999.0000,-999.000,  3.3771,-999.000
     316N151_2,   A24,    43,  1,      3,      3,2,19970609,1844, 54.5840, -16.1748, 2301,   2022.8,   3.4224,  34.9334,2,  34.9313,2,    263.2,2,    267.0,2,    16.02,2,    17.44,2,     0.00,2,     1.18,2, -999.000,9, -999.000,9, -999.000,9,-999.0000,9,  -999.00,9,   -999.0,9,   -999.0,9,   -999.0,9,  -999.00,9,25, -999.00,   -999,-999.0000,-999.000,  3.2614,-999.000
     316N151_2,   A24,    43,  1,      2,      2,2,19970609,1844, 54.5840, -16.1748, 2301,   2175.4,   3.2497,  34.9415,2,  34.9413,2,    262.9,2,    263.7,2,    18.71,2,    17.74,2,     0.00,2,     1.20,2, -999.000,9, -999.000,9, -999.000,9,-999.0000,9,  -999.00,9,   -999.0,9,   -999.0,9,   -999.0,9,  -999.00,9,25, -999.00,   -999,-999.0000,-999.000,  3.0769,-999.000
     316N151_2,   A24,    43,  1,      1,      1,2,19970609,1844, 54.5840, -16.1748, 2301,   2317.9,   2.9844,  34.9446,2,  34.9429,2,    255.4,2,    254.7,2,    26.49,2,    18.85,2,     0.00,2,     1.28,2, -999.000,9, -999.000,9, -999.000,9,-999.0000,9,  -999.00,9,   -999.0,9,   -999.0,9,   -999.0,9,  -999.00,9,25, -999.00,   -999,-999.0000,-999.000,  2.8024,-999.000