BOTTLE,20220629CCHSIOAMB
EXPOCODE,SECT_ID,STNNBR,CASTNO,SAMPNO,BTLNBR,BTLNBR_FLAG_W,DATE,TIME,LATITUDE,LONGITUDE,DEPTH,CTDPRS,CTDTMP,CTDSAL,CTDSAL_FLAG_W,SALNTY,SALNTY_FLAG_W,CTDOXY,CTDOXY_FLAG_W,OXYGEN,OXYGEN_FLAG_W,SILCAT,SILCAT_FLAG_W,NITRAT,NITRAT_FLAG_W,NITRIT,NITRIT_FLAG_W,PHSPHT,PHSPHT_FLAG_W,CFC-11,CFC-11_FLAG_W,CFC-12,CFC-12_FLAG_W,TRITUM,TRITUM_FLAG_W,HELIUM,HELIUM_FLAG_W,DELHE3,DELHE3_FLAG_W,TCARBN,TCARBN_FLAG_W,PCO2,PCO2_FLAG_W,ALKALI,ALKALI_FLAG_W,PH,PH_FLAG_W,PH_TMP,PCO2TMP,CTDRAW,HELIER,DELHER,THETA,TRITER
,,,,,,,,,,,,DBAR,ITS-90,PSS-78,,PSS-78,,UMOL/KG,,UMOL/KG,,UMOL/KG,,UMOL/KG,,UMOL/KG,,UMOL/KG,,PMOL/KG,,PMOL/KG,,TU,,NMOL/KG,,PERCNT,,UMOL/KG,,UATM,,UMOL/KG,,,,DEG C,DEG C,,NMOL/KG,PERCNT,DEG C,TU
     316N151_2,   A24,    28,  1,     31,     31,2,19970605,1944, 47.8335, -13.5245, 4445,      2.6,  14.7199,  35.6457,2,  35.6455,2,    263.1,2,    263.4,2,     0.60,2,     1.50,2,     0.07,2,     0.16,2,    3.144,2,    1.707,2, -999.000,9,-999.0000,9,  -999.00,9,   2072.0,2,    396.1,2,   2344.7,6,     7.95,6,25,   20.00,   -999,-999.0000,-999.000, 14.7196,-999.000
     316N151_2,   A24,    28,  1,     30,     30,2,19970605,1944, 47.8335, -13.5245, 4445,     38.3,  13.8653,  35.6317,2,  35.6293,2,    259.6,2,    263.0,2,     0.60,2,     1.75,2,     0.08,2,     0.21,2,    3.212,2,    1.735,2, -999.000,9,-999.0000,9,  -999.00,9,   2076.4,2,    402.8,2,   2344.1,2,     7.95,2,25,   20.00,   -999,-999.0000,-999.000, 13.8598,-999.000
     316N151_2,   A24,    28,  1,     29,     29,2,19970605,1944, 47.8335, -13.5245, 4445,     78.0,  11.9318,  35.6001,2,  35.5945,2,    255.9,2,    256.2,2,     1.55,2,     4.52,2,     0.26,2,     0.39,2,    3.437,2,    1.809,2, -999.000,9,-999.0000,9,  -999.00,9,   2108.7,2,    480.7,2,   2343.6,2,     7.88,2,25,   20.00,   -999,-999.0000,-999.000, 11.9217,-999.000
     316N151_2,   A24,    28,  1,     28,     28,2,19970605,1944, 47.8335, -13.5245, 4445,    129.5,  11.3254,  35.5447,2,  35.5464,2,    253.0,2,    251.2,2,     4.11,2,     9.80,2,     0.03,2,     0.62,2,    3.305,2,    1.765,2, -999.000,9,-999.0000,9,  -999.00,9,   2127.4,2,    535.1,2,   2336.6,2,     7.85,2,25,   20.00,   -999,-999.0000,-999.000, 11.3091,-999.000
     316N151_2,   A24,    28,  1,     27,     27,2,19970605,1944, 47.8335, -13.5245, 4445,    208.3,  11.2105,  35.5435,2,  35.5446,2,    252.0,2,    250.1,2,     3.99,2,     9.75,2,     0.02,2,     0.63,2,    3.354,2,    1.769,2, -999.000,9,-999.0000,9,  -999.00,9,   2129.5,2,    543.2,2,   2337.2,2,     7.84,2,25,   20.00,   -999,-999.0000,-999.000, 11.1843,-999.000
     316N151_2,   A24,    28,  1,     26,     26,2,19970605,1944, 47.8335, -13.5245, 4445,    307.7,  11.0357,  35.5345,2,  35.5359,2,    251.0,2,    251.2,2,     4.10,2,     9.91,2,     0.01,2,     0.63,2,    3.377,2,    1.758,3, -999.000,9,-999.0000,9,  -999.00,9,   2129.1,2,    548.0,2,   2335.9,2,     7.84,2,25,   20.00,   -999,-999.0000,-999.000, 10.9972,-999.000
     316N151_2,   A24,    28,  1,     25,     25,2,19970605,1944, 47.8335, -13.5245, 4445,    408.3,  10.7558,  35.4915,2,  35.4915,2,    239.2,2,    238.4,2,     5.05,2,    11.60,2,     0.01,2,     0.73,2,    3.238,2,    1.696,2, -999.000,9,-999.0000,9,  -999.00,9,   2137.0,2,   -999.0,9,   2334.8,2,     7.81,2,25, -999.00,   -999,-999.0000,-999.000, 10.7054,-999.000
     316N151_2,   A24,    28,  1,     24,     24,2,19970605,1944, 47.8335, -13.5245, 4445,    508.9,  10.5034,  35.4672,2,  35.4663,2,    232.2,2,    231.8,2,     5.69,2,    12.57,2,     0.01,2,     0.79,2, -999.000,9, -999.000,9, -999.000,9,-999.0000,9,  -999.00,9,   2143.7,2,    598.9,2,   2337.1,2,     7.80,2,25,   20.00,   -999,-999.0000,-999.000, 10.4412,-999.000
     316N151_2,   A24,    28,  1,     23,     23,2,19970605,1944, 47.8335, -13.5245, 4445,    607.3,  10.1331,  35.4316,2,  35.4308,2,    224.1,2,    224.1,2,     6.64,2,    13.85,2,     0.01,2,     0.88,2,    2.920,2,    1.491,2, -999.000,9,-999.0000,9,  -999.00,9,   2150.5,2,    625.0,2,   2333.5,2,     7.79,2,25,   20.00,   -999,-999.0000,-999.000, 10.0602,-999.000
     316N151_2,   A24,    28,  1,     22,     22,2,19970605,1944, 47.8335, -13.5245, 4445,    708.2,   9.5023,  35.3877,2,  35.3870,2,    205.7,2,    207.8,2,     8.56,2,    15.99,2,     0.01,2,     1.01,2,    2.384,2,    1.205,2, -999.000,9,-999.0000,9,  -999.00,9,   2163.8,2,    674.1,2,   2331.3,2,     7.76,2,25,   20.00,   -999,-999.0000,-999.000,  9.4201,-999.000
     316N151_2,   A24,    28,  1,     21,     21,2,19970605,1944, 47.8335, -13.5245, 4445,    809.9,   9.2255,  35.4767,2,  35.4789,2,    196.2,2,    196.7,2,     9.83,2,    17.01,2,     0.00,2,     1.08,2,    1.804,2,    0.892,2, -999.000,9,-999.0000,9,  -999.00,9,   2175.0,2,    691.8,2,   2342.1,2,     7.75,2,25,   20.00,   -999,-999.0000,-999.000,  9.1325,-999.000
     316N151_2,   A24,    28,  1,     20,     20,2,19970605,1944, 47.8335, -13.5245, 4445,    909.5,   8.5041,  35.4353,2,  35.4335,2,    199.0,2,    197.3,2,    10.79,2,    17.78,2,     0.00,2,     1.13,2,    1.625,2,    0.812,2, -999.000,9,-999.0000,9,  -999.00,9,   2179.4,2,    720.6,2,   2340.9,2,     7.74,2,25,   20.00,   -999,-999.0000,-999.000,  8.4039,-999.000
     316N151_2,   A24,    28,  1,     19,     19,2,19970605,1944, 47.8335, -13.5245, 4445,   1011.1,   7.7675,  35.3991,2,  35.3982,2,    201.8,2,    203.8,2,    11.43,2,    18.04,2,     0.00,2,     1.16,2,    1.550,2,    0.774,2, -999.000,9,-999.0000,9,  -999.00,9,   2181.1,2,   -999.0,9,   2338.4,2,     7.73,2,25, -999.00,   -999,-999.0000,-999.000,  7.6610,-999.000
     316N151_2,   A24,    28,  1,     18,     18,2,19970605,1944, 47.8335, -13.5245, 4445,   1212.5,   6.0983,  35.1971,2,  35.1978,2,    226.1,2,    225.2,2,    12.06,2,    18.29,2,     0.00,2,     1.19,2, -999.000,9, -999.000,9, -999.000,9,-999.0000,9,  -999.00,9,   2175.8,2,    757.6,2,   2329.4,2,     7.72,2,25,   20.00,   -999,-999.0000,-999.000,  5.9842,-999.000
     316N151_2,   A24,    28,  1,     17,     17,2,19970605,1944, 47.8335, -13.5245, 4445,   1414.5,   4.6191,  35.0133,2,  35.0070,2,    245.6,2,    250.9,2,    12.06,2,    18.04,2,     0.00,2,     1.19,2,    1.983,2,    0.945,2, -999.000,9,-999.0000,9,  -999.00,9,   2166.7,2,   -999.0,9,   2313.1,2,     7.71,2,25, -999.00,   -999,-999.0000,-999.000,  4.4999,-999.000
     316N151_2,   A24,    28,  1,     16,     16,2,19970605,1944, 47.8335, -13.5245, 4445,   1618.3,   3.8633,  34.9304,2,  34.9293,2,    266.6,2,    267.1,2,    12.06,2,    17.58,2,     0.00,2,     1.17,2,    2.093,2,    0.996,2, -999.000,9,-999.0000,9,  -999.00,9,   2160.9,2,    759.3,2,   2306.5,2,     7.71,2,25,   20.00,   -999,-999.0000,-999.000,  3.7340,-999.000
     316N151_2,   A24,    28,  1,     15,     15,2,19970605,1944, 47.8335, -13.5245, 4445,   1719.7,   3.7247,  34.9210,2,  34.9257,2,    268.7,2,    269.7,2,    12.27,2,    17.47,2,     0.00,2,     1.16,2,    2.001,2,    0.950,2, -999.000,9,-999.0000,9,  -999.00,9,   2158.3,2,   -999.0,9,   2308.2,2,     7.71,2,25, -999.00,   -999,-999.0000,-999.000,  3.5878,-999.000
     316N151_2,   A24,    28,  1,     14,     14,2,19970605,1944, 47.8335, -13.5245, 4445,   1820.8,   3.5853,  34.9123,2,  34.9127,2,    274.0,2,    272.7,2,    12.37,2,    17.32,2,     0.00,2,     1.16,2,    1.940,2,    0.925,2, -999.000,9,-999.0000,9,  -999.00,9,   2157.7,2,    748.3,2,   2305.5,2,     7.71,2,25,   20.00,   -999,-999.0000,-999.000,  3.4409,-999.000
     316N151_2,   A24,    28,  1,     13,     13,2,19970605,1944, 47.8335, -13.5245, 4445,   2023.8,   3.4587,  34.9254,2,  34.9263,2,    267.3,2,    270.3,2,    14.07,2,    17.42,2,     0.00,2,     1.17,2,    1.467,2,    0.700,2, -999.000,9,-999.0000,9,  -999.00,9,   2160.7,2,    745.3,2,   2309.6,2,     7.71,2,25,   20.00,   -999,-999.0000,-999.000,  3.2971,-999.000
     316N151_2,   A24,    28,  1,     12,     12,2,19970605,1944, 47.8335, -13.5245, 4445,   2226.8,   3.3530,  34.9523,2,  34.9519,2,    261.7,2,    262.9,2,    18.23,2,    17.93,2,     0.00,2,     1.21,2,    0.783,2,    0.390,2, -999.000,9,-999.0000,9,  -999.00,9,   2165.4,2,    738.3,2,   2320.6,2,     7.73,2,25,   20.00,   -999,-999.0000,-999.000,  3.1736,-999.000
     316N151_2,   A24,    28,  1,     11,     11,2,19970605,1944, 47.8335, -13.5245, 4445,   2429.3,   3.2108,  34.9599,2,  34.9603,2,    256.4,2,    256.7,2,    22.93,2,    18.70,2,     0.00,2,     1.26,2,    0.414,2,    0.208,2, -999.000,9,-999.0000,9,  -999.00,9,   2173.2,2,   -999.0,9,   2326.4,2,     7.72,2,25, -999.00,   -999,-999.0000,-999.000,  3.0139,-999.000
     316N151_2,   A24,    28,  1,     10,     10,2,19970605,1944, 47.8335, -13.5245, 4445,   2633.4,   3.0038,  34.9542,2,  34.9538,2,    252.1,2,    249.8,2,    29.54,2,    19.82,2,     0.00,2,     1.34,2,    0.216,2,    0.123,2, -999.000,9,-999.0000,9,  -999.00,9,   2184.8,2,    747.9,2,   2335.3,2,     7.72,2,25,   20.00,   -999,-999.0000,-999.000,  2.7905,-999.000
     316N151_2,   A24,    28,  1,      9,      9,2,19970605,1944, 47.8335, -13.5245, 4445,   2836.5,   2.8697,  34.9463,2,  34.9455,2,    249.3,2,    248.3,2,    32.00,2,    20.18,2,     0.00,2,     1.37,2,    0.126,2,    0.059,2, -999.000,9,-999.0000,9,  -999.00,9,   2186.4,2,   -999.0,9,   2339.7,2,     7.72,2,25, -999.00,   -999,-999.0000,-999.000,  2.6386,-999.000
     316N151_2,   A24,    28,  1,      8,      8,2,19970605,1944, 47.8335, -13.5245, 4445,   3039.9,   2.7576,  34.9376,2,  34.9377,2,    247.9,2,    246.5,2,    34.67,2,    20.59,2,     0.00,2,     1.40,2, -999.000,9, -999.000,9, -999.000,9,-999.0000,9,  -999.00,9,   2189.6,2,    751.4,2,   2343.9,2,     7.72,2,25,   20.00,   -999,-999.0000,-999.000,  2.5079,-999.000
     316N151_2,   A24,    28,  1,      7,      7,2,19970605,1944, 47.8335, -13.5245, 4445,   3242.4,   2.6754,  34.9303,2,  34.9300,2,    245.9,2,    245.0,2,    36.91,2,    20.94,2,     0.00,2,     1.43,2,    0.056,2,    0.042,2, -999.000,9,-999.0000,9,  -999.00,9,   2193.2,2,   -999.0,9,   2345.8,2,     7.72,2,25, -999.00,   -999,-999.0000,-999.000,  2.4063,-999.000
     316N151_2,   A24,    28,  1,      6,      6,2,19970605,1944, 47.8335, -13.5245, 4445,   3445.4,   2.6062,  34.9218,2,  34.9223,2,    243.7,2,    243.3,2,    39.25,2,    21.35,2,     0.00,2,     1.45,2, -999.000,9, -999.000,9, -999.000,9,-999.0000,9,  -999.00,9,   2195.8,2,    756.4,2,   2348.9,2,     7.72,2,25,   20.00,   -999,-999.0000,-999.000,  2.3170,-999.000
     316N151_2,   A24,    28,  1,      5,      5,2,19970605,1944, 47.8335, -13.5245, 4445,   3648.3,   2.5612,  34.9164,2,  34.9156,2,    241.8,2,    242.2,2,    40.96,2,    21.55,2,     0.00,2,     1.47,2,    0.041,2,    0.026,2, -999.000,9,-999.0000,9,  -999.00,9,   2200.0,2,   -999.0,9,   2352.3,2,     7.72,2,25, -999.00,   -999,-999.0000,-999.000,  2.2510,-999.000
     316N151_2,   A24,    28,  1,      4,      4,2,19970605,1944, 47.8335, -13.5245, 4445,   3850.5,   2.5277,  34.9108,2,  34.9109,2,    240.6,2,    241.4,2,    42.56,2,    21.81,2,     0.00,2,     1.49,2, -999.000,9, -999.000,9, -999.000,9,-999.0000,9,  -999.00,9,   2202.0,2,    754.3,2,   2353.5,2,     7.73,2,25,   20.00,   -999,-999.0000,-999.000,  2.1957,-999.000
     316N151_2,   A24,    28,  1,      3,      3,2,19970605,1944, 47.8335, -13.5245, 4445,   4055.0,   2.5089,  34.9060,2,  34.9066,2,    241.7,2,    240.7,2,    43.52,2,    21.86,2,     0.00,2,     1.50,2,    0.039,2,    0.011,2, -999.000,9,-999.0000,9,  -999.00,9,   2201.0,2,    762.4,2,   2354.6,2,     7.72,2,25,   20.00,   -999,-999.0000,-999.000,  2.1541,-999.000
     316N151_2,   A24,    28,  1,      2,      2,2,19970605,1944, 47.8335, -13.5245, 4445,   4259.4,   2.5010,  34.9024,2,  34.9028,2,    238.9,2,    240.5,2,    44.27,2,    22.01,2,     0.00,2,     1.51,2,    0.050,2,    0.013,2, -999.000,9,-999.0000,9,  -999.00,9,   2205.0,2,   -999.0,9,   2358.9,2,     7.73,2,25, -999.00,   -999,-999.0000,-999.000,  2.1225,-999.000
     316N151_2,   A24,    28,  1,      1,      1,2,19970605,1944, 47.8335, -13.5245, 4445,   4543.5,   2.5143,  34.8996,2,  34.9004,2,    238.2,2,    239.4,2,    45.23,2,    22.21,2,     0.00,2,     1.51,2,    0.070,2,    0.026,2, -999.000,9,-999.0000,9,  -999.00,9,   2206.3,2,    763.9,2,   2358.7,2,     7.72,2,25,   20.00,   -999,-999.0000,-999.000,  2.1013,-999.000