BOTTLE,20220629CCHSIOAMB
EXPOCODE,SECT_ID,STNNBR,CASTNO,SAMPNO,BTLNBR,BTLNBR_FLAG_W,DATE,TIME,LATITUDE,LONGITUDE,DEPTH,CTDPRS,CTDTMP,CTDSAL,CTDSAL_FLAG_W,SALNTY,SALNTY_FLAG_W,CTDOXY,CTDOXY_FLAG_W,OXYGEN,OXYGEN_FLAG_W,SILCAT,SILCAT_FLAG_W,NITRAT,NITRAT_FLAG_W,NITRIT,NITRIT_FLAG_W,PHSPHT,PHSPHT_FLAG_W,CFC-11,CFC-11_FLAG_W,CFC-12,CFC-12_FLAG_W,TRITUM,TRITUM_FLAG_W,HELIUM,HELIUM_FLAG_W,DELHE3,DELHE3_FLAG_W,TCARBN,TCARBN_FLAG_W,PCO2,PCO2_FLAG_W,ALKALI,ALKALI_FLAG_W,PH,PH_FLAG_W,PH_TMP,PCO2TMP,CTDRAW,HELIER,DELHER,THETA,TRITER
,,,,,,,,,,,,DBAR,ITS-90,PSS-78,,PSS-78,,UMOL/KG,,UMOL/KG,,UMOL/KG,,UMOL/KG,,UMOL/KG,,UMOL/KG,,PMOL/KG,,PMOL/KG,,TU,,NMOL/KG,,PERCNT,,UMOL/KG,,UATM,,UMOL/KG,,,,DEG C,DEG C,,NMOL/KG,PERCNT,DEG C,TU
     316N151_2,   A24,    80,  1,     20,     20,2,19970615,0851, 61.2782, -28.2575, 1610,      2.7,   8.3317,  35.0536,2,  35.0555,2,    286.3,2,    299.9,2,     3.46,2,     9.30,2,     0.14,2,     0.63,2, -999.000,9, -999.000,9, -999.000,9,-999.0000,9,  -999.00,9,   2105.6,2,   -999.0,9,   2314.9,6,     7.84,6,25, -999.00,   -999,-999.0000,-999.000,  8.3314,-999.000
     316N151_2,   A24,    80,  1,     19,     19,2,19970615,0851, 61.2782, -28.2575, 1610,     43.8,   7.7528,  35.0558,2,  35.0583,2,    286.9,2,    292.4,2,     3.82,2,    10.42,2,     0.15,2,     0.71,2, -999.000,9, -999.000,9, -999.000,9,-999.0000,9,  -999.00,9,   -999.0,9,   -999.0,9,   -999.0,9,  -999.00,9,25, -999.00,   -999,-999.0000,-999.000,  7.7485,-999.000
     316N151_2,   A24,    80,  1,     18,     18,2,19970615,0851, 61.2782, -28.2575, 1610,     74.1,   7.7014,  35.0823,2,  35.0813,2,    287.3,2,    286.5,2,     4.75,2,    11.22,2,     0.15,2,     0.78,2, -999.000,9, -999.000,9, -999.000,9,-999.0000,9,  -999.00,9,   -999.0,9,   -999.0,9,   -999.0,9,  -999.00,9,25, -999.00,   -999,-999.0000,-999.000,  7.6942,-999.000
     316N151_2,   A24,    80,  1,     17,     17,2,19970615,0851, 61.2782, -28.2575, 1610,    153.9,   7.0229,  35.0962,2,  35.0961,2,    279.8,2,    275.5,2,     7.96,2,    14.54,2,     0.04,2,     0.97,2, -999.000,9, -999.000,9, -999.000,9,-999.0000,9,  -999.00,9,   -999.0,9,   -999.0,9,   -999.0,9,  -999.00,9,25, -999.00,   -999,-999.0000,-999.000,  7.0085,-999.000
     316N151_2,   A24,    80,  1,     16,     16,2,19970615,0851, 61.2782, -28.2575, 1610,    285.1,   6.9117,  35.1017,2,  35.1014,2,    275.2,2,    276.2,2,     7.85,2,    14.47,2,     0.02,2,     0.97,2, -999.000,9, -999.000,9, -999.000,9,-999.0000,9,  -999.00,9,   -999.0,9,   -999.0,9,   -999.0,9,  -999.00,9,25, -999.00,   -999,-999.0000,-999.000,  6.8850,-999.000
     316N151_2,   A24,    80,  1,     15,     15,2,19970615,0851, 61.2782, -28.2575, 1610,    405.1,   6.3929,  35.0478,2,  35.0451,2,    271.6,2,    270.0,2,     8.69,2,    15.37,2,     0.01,2,     1.03,2, -999.000,9, -999.000,9, -999.000,9,-999.0000,9,  -999.00,9,   -999.0,9,   -999.0,9,   -999.0,9,  -999.00,9,25, -999.00,   -999,-999.0000,-999.000,  6.3562,-999.000
     316N151_2,   A24,    80,  1,     14,     14,2,19970615,0851, 61.2782, -28.2575, 1610,    506.5,   6.0753,  35.0208,2,  35.0158,2,    264.7,2,    263.6,2,     9.43,2,    16.09,2,     0.01,2,     1.07,2, -999.000,9, -999.000,9, -999.000,9,-999.0000,9,  -999.00,9,   -999.0,9,   -999.0,9,   -999.0,9,  -999.00,9,25, -999.00,   -999,-999.0000,-999.000,  6.0303,-999.000
     316N151_2,   A24,    80,  1,     13,     13,2,19970615,0851, 61.2782, -28.2575, 1610,    607.2,   5.4863,  34.9751,2,  34.9745,2,    273.4,2,    277.2,2,     9.22,2,    15.85,2,     0.01,2,     1.07,2, -999.000,9, -999.000,9, -999.000,9,-999.0000,9,  -999.00,9,   -999.0,9,   -999.0,9,   -999.0,9,  -999.00,9,25, -999.00,   -999,-999.0000,-999.000,  5.4347,-999.000
     316N151_2,   A24,    80,  1,     12,     12,2,19970615,0851, 61.2782, -28.2575, 1610,    707.8,   5.0956,  34.9654,2,  34.9646,2,    257.8,2,    258.2,2,    10.63,2,    17.17,2,     0.01,2,     1.15,2, -999.000,9, -999.000,9, -999.000,9,-999.0000,9,  -999.00,9,   -999.0,9,   -999.0,9,   -999.0,9,  -999.00,9,25, -999.00,   -999,-999.0000,-999.000,  5.0371,-999.000
     316N151_2,   A24,    80,  1,     11,     11,2,19970615,0851, 61.2782, -28.2575, 1610,    808.6,   4.7889,  34.9643,2,  34.9633,2,    259.3,2,    260.0,2,    10.80,2,    17.18,2,     0.00,2,     1.15,2, -999.000,9, -999.000,9, -999.000,9,-999.0000,9,  -999.00,9,   -999.0,9,   -999.0,9,   -999.0,9,  -999.00,9,25, -999.00,   -999,-999.0000,-999.000,  4.7233,-999.000
     316N151_2,   A24,    80,  1,     10,     10,2,19970615,0851, 61.2782, -28.2575, 1610,    909.6,   4.6231,  34.9819,2,  34.9818,2,    257.2,2,    258.4,2,    10.98,2,    17.08,2,     0.00,2,     1.14,2,    2.851,2,    1.392,2, -999.000,9,-999.0000,9,  -999.00,9,   -999.0,9,   -999.0,9,   -999.0,9,  -999.00,9,25, -999.00,   -999,-999.0000,-999.000,  4.5498,-999.000
     316N151_2,   A24,    80,  1,      9,      9,2,19970615,0851, 61.2782, -28.2575, 1610,   1010.6,   4.4989,  34.9813,2,  34.9810,2,    259.3,2,    260.1,2,    10.96,2,    16.99,2,     0.00,2,     1.13,2,    2.774,2,    1.350,2, -999.000,9,-999.0000,9,  -999.00,9,   -999.0,9,   -999.0,9,   -999.0,9,  -999.00,9,25, -999.00,   -999,-999.0000,-999.000,  4.4177,-999.000
     316N151_2,   A24,    80,  1,      8,      8,2,19970615,0851, 61.2782, -28.2575, 1610,   1112.0,   4.4368,  34.9775,2,  34.9774,2,    261.8,2,    260.7,2,    10.94,2,    16.99,2,     0.00,2,     1.13,2,    2.833,2,    1.389,2, -999.000,9,-999.0000,9,  -999.00,9,   -999.0,9,   -999.0,9,   -999.0,9,  -999.00,9,25, -999.00,   -999,-999.0000,-999.000,  4.3472,-999.000
     316N151_2,   A24,    80,  1,      7,      7,2,19970615,0851, 61.2782, -28.2575, 1610,   1212.9,   4.2282,  34.9604,2,  34.9597,2,    264.0,2,    264.1,2,    11.02,2,    17.04,2,     0.00,2,     1.14,2,    2.870,2,    1.399,2, -999.000,9,-999.0000,9,  -999.00,9,   -999.0,9,   -999.0,9,   -999.0,9,  -999.00,9,25, -999.00,   -999,-999.0000,-999.000,  4.1315,-999.000
     316N151_2,   A24,    80,  1,      6,      6,2,19970615,0851, 61.2782, -28.2575, 1610,   1313.9,   4.2196,  34.9622,2,  34.9619,2,    265.8,2,    264.1,2,    11.00,2,    16.90,2,     0.00,2,     1.14,2,    2.834,2,    1.390,2, -999.000,9,-999.0000,9,  -999.00,9,   -999.0,9,   -999.0,9,   -999.0,9,  -999.00,9,25, -999.00,   -999,-999.0000,-999.000,  4.1139,-999.000
     316N151_2,   A24,    80,  1,      5,      5,2,19970615,0851, 61.2782, -28.2575, 1610,   1394.4,   3.9370,  34.9469,2,  34.9479,2,    270.0,2,    269.8,2,    11.08,2,    16.90,2,     0.00,2,     1.13,2,    2.874,2,    1.393,2, -999.000,9,-999.0000,9,  -999.00,9,   -999.0,9,   -999.0,9,   -999.0,9,  -999.00,9,25, -999.00,   -999,-999.0000,-999.000,  3.8271,-999.000
     316N151_2,   A24,    80,  1,      4,      4,2,19970615,0851, 61.2782, -28.2575, 1610,   1444.9,   3.8267,  34.9399,2,  34.9397,2,    270.8,2,    271.6,2,    11.15,2,    16.85,2,     0.00,2,     1.13,2, -999.000,9, -999.000,9, -999.000,9,-999.0000,9,  -999.00,9,   -999.0,9,   -999.0,9,   -999.0,9,  -999.00,9,25, -999.00,   -999,-999.0000,-999.000,  3.7135,-999.000
     316N151_2,   A24,    80,  1,      3,      3,2,19970615,0851, 61.2782, -28.2575, 1610,   1494.7,   3.7250,  34.9331,2,  34.9334,2,    273.2,2,    273.7,2,    11.13,2,    16.85,2,     0.00,2,     1.13,2,    2.876,2,    1.392,2, -999.000,9,-999.0000,9,  -999.00,9,   -999.0,9,   -999.0,9,   -999.0,9,  -999.00,9,25, -999.00,   -999,-999.0000,-999.000,  3.6084,-999.000
     316N151_2,   A24,    80,  1,      2,      2,2,19970615,0851, 61.2782, -28.2575, 1610,   1545.6,   3.6802,  34.9283,2,  34.9297,2,    276.0,2,    274.6,2,    11.12,2,    16.85,2,     0.00,2,     1.13,2, -999.000,9, -999.000,9, -999.000,9,-999.0000,9,  -999.00,9,   -999.0,9,   -999.0,9,   -999.0,9,  -999.00,9,25, -999.00,   -999,-999.0000,-999.000,  3.5596,-999.000
     316N151_2,   A24,    80,  1,      1,      1,2,19970615,0851, 61.2782, -28.2575, 1610,   1601.0,   3.6208,  34.9241,2,  34.9249,2,    278.3,2,    279.2,2,    11.19,2,    16.81,2,     0.00,2,     1.13,2,    2.931,2,    1.411,2, -999.000,9,-999.0000,9,  -999.00,9,   -999.0,9,   -999.0,9,   -999.0,9,  -999.00,9,25, -999.00,   -999,-999.0000,-999.000,  3.4960,-999.000
     316N151_2,   A24,    81,  1,     21,     21,2,19970615,1135, 61.4667, -28.8012, 1628,      2.0,   8.5029,  35.0612,2,  35.0676,2,    296.5,2,    299.3,2,     2.75,2,     9.42,2,     0.13,2,     0.63,2,    4.168,2,    2.174,2, -999.000,9,-999.0000,9,  -999.00,9,   2107.7,2,    540.2,2,   2316.7,6,     7.85,6,25,   20.00,   -999,-999.0000,-999.000,  8.5027,-999.000
     316N151_2,   A24,    81,  1,     20,     20,2,19970615,1135, 61.4667, -28.8012, 1628,     33.4,   7.7857,  35.0694,2,  35.0657,2,    288.8,2,    293.7,2,     3.06,2,    10.17,2,     0.14,2,     0.69,2, -999.000,9, -999.000,9, -999.000,9,-999.0000,9,  -999.00,9,   2113.5,2,    555.9,2,   2315.1,2,     7.82,2,25,   20.00,   -999,-999.0000,-999.000,  7.7824,-999.000
     316N151_2,   A24,    81,  1,     19,     19,2,19970615,1135, 61.4667, -28.8012, 1628,     83.4,   7.3413,  35.1006,2,  35.0981,2,    274.9,2,    276.9,2,     6.90,2,    13.75,2,     0.15,2,     0.92,2,    4.027,2,    2.084,2, -999.000,9,-999.0000,9,  -999.00,9,   2140.7,2,   -999.0,9,   2318.2,2,     7.78,2,25, -999.00,   -999,-999.0000,-999.000,  7.3333,-999.000
     316N151_2,   A24,    81,  1,     18,     18,2,19970615,1135, 61.4667, -28.8012, 1628,    143.3,   7.0854,  35.1012,2,  35.1005,2,    274.8,2,    275.8,2,     7.30,2,    14.53,2,     0.03,2,     0.96,2, -999.000,9, -999.000,9, -999.000,9,-999.0000,9,  -999.00,9,   2144.2,2,    654.1,2,   2316.1,2,     7.76,2,25,   20.00,   -999,-999.0000,-999.000,  7.0719,-999.000
     316N151_2,   A24,    81,  1,     17,     17,2,19970615,1135, 61.4667, -28.8012, 1628,    223.6,   7.0257,  35.1123,2,  35.1133,2,    273.9,2,    275.3,2,     7.14,2,    14.50,2,     0.01,2,     0.96,2,    3.942,2,    2.056,2, -999.000,9,-999.0000,9,  -999.00,9,   2142.9,2,   -999.0,9,   2318.4,2,     7.77,2,25, -999.00,   -999,-999.0000,-999.000,  7.0046,-999.000
     316N151_2,   A24,    81,  1,     16,     16,2,19970615,1135, 61.4667, -28.8012, 1628,    324.5,   6.8648,  35.1013,2,  35.0999,2,    277.0,2,    276.7,2,     7.16,2,    14.51,2,     0.01,2,     0.96,2, -999.000,9, -999.000,9, -999.000,9,-999.0000,9,  -999.00,9,   2143.3,2,   -999.0,9,   2315.5,2,     7.77,2,25, -999.00,   -999,-999.0000,-999.000,  6.8344,-999.000
     316N151_2,   A24,    81,  1,     15,     15,2,19970615,1135, 61.4667, -28.8012, 1628,    395.2,   6.4345,  35.0567,2,  35.0637,2,    275.0,2,    270.8,2,     7.76,2,    15.17,2,     0.01,2,     1.00,2,    3.795,2,    1.980,2, -999.000,9,-999.0000,9,  -999.00,9,   2147.5,2,   -999.0,9,   2314.9,2,     7.76,2,25, -999.00,   -999,-999.0000,-999.000,  6.3986,-999.000
     316N151_2,   A24,    81,  1,     14,     14,2,19970615,1135, 61.4667, -28.8012, 1628,    464.9,   6.0073,  35.0018,2,  35.0011,2,    272.2,2,    269.5,2,     8.35,2,    15.84,2,     0.00,2,     1.05,2,    3.776,2,    1.934,2, -999.000,9,-999.0000,9,  -999.00,9,   2151.3,2,    700.9,2,   2311.7,2,     7.74,2,25,   20.00,   -999,-999.0000,-999.000,  5.9664,-999.000
     316N151_2,   A24,    81,  1,     13,     13,2,19970615,1135, 61.4667, -28.8012, 1628,    565.7,   5.4650,  34.9553,2,  34.9557,2,    267.1,2,    272.5,2,     8.66,2,    16.13,2,     0.00,2,     1.07,2,    3.785,2,    1.949,2, -999.000,9,-999.0000,9,  -999.00,9,   2152.2,2,   -999.0,9,   2308.9,2,     7.74,2,25, -999.00,   -999,-999.0000,-999.000,  5.4172,-999.000
     316N151_2,   A24,    81,  1,     12,     12,2,19970615,1135, 61.4667, -28.8012, 1628,    706.0,   5.0409,  34.9649,2,  34.9649,2,    264.4,2,    261.8,2,     9.64,2,    17.03,2,     0.00,2,     1.12,2, -999.000,9, -999.000,9, -999.000,9,-999.0000,9,  -999.00,9,   2156.9,2,    747.5,2,   2310.1,2,     7.72,2,25,   20.00,   -999,-999.0000,-999.000,  4.9829,-999.000
     316N151_2,   A24,    81,  1,     11,     11,2,19970615,1135, 61.4667, -28.8012, 1628,    756.7,   5.0496,  34.9915,2,  34.9913,2,    264.5,2,    257.7,2,     9.95,2,    16.98,2,     0.00,2,     1.12,2,    3.080,2,    1.527,2, -999.000,9,-999.0000,9,  -999.00,9,   2158.3,2,   -999.0,9,   2311.3,2,     7.72,2,25, -999.00,   -999,-999.0000,-999.000,  4.9870,-999.000
     316N151_2,   A24,    81,  1,     10,     10,2,19970615,1135, 61.4667, -28.8012, 1628,    858.1,   4.5984,  34.9551,2,  34.9590,2,    262.8,2,    261.3,2,    10.07,2,    17.17,2,     0.00,2,     1.14,2,    3.176,2,    1.559,2, -999.000,9,-999.0000,9,  -999.00,9,   2159.8,2,   -999.0,9,   2310.5,2,     7.71,2,25, -999.00,   -999,-999.0000,-999.000,  4.5298,-999.000
     316N151_2,   A24,    81,  1,      9,      9,2,19970615,1135, 61.4667, -28.8012, 1628,    999.6,   4.4224,  34.9754,2,  34.9740,2,    263.9,2,    261.3,2,    10.10,2,    16.98,2,     0.00,2,     1.13,2,    2.906,2,    1.424,2, -999.000,9,-999.0000,9,  -999.00,9,   2162.3,2,    759.2,2,   2310.3,2,     7.72,2,25,   20.00,   -999,-999.0000,-999.000,  4.3428,-999.000
     316N151_2,   A24,    81,  1,      8,      8,2,19970615,1135, 61.4667, -28.8012, 1628,   1110.3,   4.1935,  34.9610,2,  34.9622,2,    266.4,2,    265.6,2,    10.60,2,    16.94,2,     0.00,2,     1.12,2, -999.000,9, -999.000,9, -999.000,9,-999.0000,9,  -999.00,9,   2161.2,2,   -999.0,9,   2308.6,2,     7.71,2,25, -999.00,   -999,-999.0000,-999.000,  4.1061,-999.000
     316N151_2,   A24,    81,  1,      7,      7,2,19970615,1135, 61.4667, -28.8012, 1628,   1211.4,   4.0176,  34.9511,2,  34.9516,2,    267.1,2,    268.7,2,    11.01,2,    16.84,2,     0.00,2,     1.12,2,    2.898,2,    1.411,2, -999.000,9,-999.0000,9,  -999.00,9,   2160.4,2,    759.3,2,   2305.8,2,     7.71,2,25,   20.00,   -999,-999.0000,-999.000,  3.9230,-999.000
     316N151_2,   A24,    81,  1,      6,      6,2,19970615,1135, 61.4667, -28.8012, 1628,   1292.1,   3.8575,  34.9387,2,  34.9374,2,    267.9,2,    271.0,2,    11.22,2,    16.84,2,     0.00,2,     1.12,2,    2.910,2,    1.414,2, -999.000,9,-999.0000,9,  -999.00,9,   2160.7,2,   -999.0,9,   2307.6,2,     7.71,2,25, -999.00,   -999,-999.0000,-999.000,  3.7574,-999.000
     316N151_2,   A24,    81,  1,      5,      5,2,19970615,1135, 61.4667, -28.8012, 1628,   1403.2,   3.7617,  34.9314,2,  34.9327,2,    271.2,2,    273.8,2,    11.34,2,    16.89,2,     0.00,2,     1.12,2,    2.894,2,    1.397,2, -999.000,9,-999.0000,9,  -999.00,9,   2158.7,2,    757.9,2,   2306.8,2,     7.72,2,25,   20.00,   -999,-999.0000,-999.000,  3.6528,-999.000
     316N151_2,   A24,    81,  1,      4,      4,2,19970615,1135, 61.4667, -28.8012, 1628,   1503.7,   3.6501,  34.9241,2,  34.9250,2,    275.5,2,    275.1,2,    11.37,2,    16.85,2,     0.00,2,     1.12,2, -999.000,9, -999.000,9, -999.000,9,-999.0000,9,  -999.00,9,   2158.9,2,   -999.0,9,   2306.2,2,     7.71,2,25, -999.00,   -999,-999.0000,-999.000,  3.5336,-999.000
     316N151_2,   A24,    81,  1,      3,      3,2,19970615,1135, 61.4667, -28.8012, 1628,   1544.5,   3.6146,  34.9219,2,  34.9230,2,    277.1,2,    275.9,2,    11.39,2,    16.80,2,     0.00,2,     1.12,2,    2.906,2,    1.405,2, -999.000,9,-999.0000,9,  -999.00,9,   2157.2,2,   -999.0,9,   2306.4,2,     7.72,2,25, -999.00,   -999,-999.0000,-999.000,  3.4949,-999.000
     316N151_2,   A24,    81,  1,      2,      2,2,19970615,1135, 61.4667, -28.8012, 1628,   1585.2,   3.6122,  34.9220,2,  34.9233,2,    278.7,2,    277.0,2,    11.32,2,    16.75,2,     0.00,2,     1.12,2, -999.000,9, -999.000,9, -999.000,9,-999.0000,9,  -999.00,9,   2157.1,2,   -999.0,9,   2306.5,2,     7.71,2,25, -999.00,   -999,-999.0000,-999.000,  3.4889,-999.000
     316N151_2,   A24,    81,  1,      1,      1,2,19970615,1135, 61.4667, -28.8012, 1628,   1620.3,   3.5513,  34.9188,2,  34.9195,2,    281.6,2,    278.1,2,    11.34,2,    16.80,2,     0.00,2,     1.12,2,    2.925,2,    1.401,2, -999.000,9,-999.0000,9,  -999.00,9,   2158.0,2,    756.4,2,   2306.9,2,     7.72,2,25,   20.00,   -999,-999.0000,-999.000,  3.4256,-999.000