BOTTLE,20220629CCHSIOAMB
EXPOCODE,SECT_ID,STNNBR,CASTNO,SAMPNO,BTLNBR,BTLNBR_FLAG_W,DATE,TIME,LATITUDE,LONGITUDE,DEPTH,CTDPRS,CTDTMP,CTDSAL,CTDSAL_FLAG_W,SALNTY,SALNTY_FLAG_W,CTDOXY,CTDOXY_FLAG_W,OXYGEN,OXYGEN_FLAG_W,SILCAT,SILCAT_FLAG_W,NITRAT,NITRAT_FLAG_W,NITRIT,NITRIT_FLAG_W,PHSPHT,PHSPHT_FLAG_W,CFC-11,CFC-11_FLAG_W,CFC-12,CFC-12_FLAG_W,TRITUM,TRITUM_FLAG_W,HELIUM,HELIUM_FLAG_W,DELHE3,DELHE3_FLAG_W,TCARBN,TCARBN_FLAG_W,PCO2,PCO2_FLAG_W,ALKALI,ALKALI_FLAG_W,PH,PH_FLAG_W,PH_TMP,PCO2TMP,CTDRAW,HELIER,DELHER,THETA,TRITER
,,,,,,,,,,,,DBAR,ITS-90,PSS-78,,PSS-78,,UMOL/KG,,UMOL/KG,,UMOL/KG,,UMOL/KG,,UMOL/KG,,UMOL/KG,,PMOL/KG,,PMOL/KG,,TU,,NMOL/KG,,PERCNT,,UMOL/KG,,UATM,,UMOL/KG,,,,DEG C,DEG C,,NMOL/KG,PERCNT,DEG C,TU
     316N151_2,   A24,   102,  1,     21,     21,2,19970619,1008, 59.1605, -42.2890, 2202,      3.2,   6.3158,  34.8975,2,  34.8973,2,    329.1,2,    322.2,2,     2.64,2,     6.16,2,     0.12,2,     0.53,2,    4.655,2,    2.415,2, -999.000,9,-999.0000,9,  -999.00,9,   2089.0,2,    488.6,2,   2313.8,6,     7.88,6,25,   20.00,   -999,-999.0000,-999.000,  6.3155,-999.000
     316N151_2,   A24,   102,  1,     20,     20,2,19970619,1008, 59.1605, -42.2890, 2202,     29.0,   6.3099,  34.8985,2,  34.8985,2,    324.4,2,    323.0,2,     2.72,2,     6.25,2,     0.12,2,     0.54,2, -999.000,9, -999.000,9, -999.000,9,-999.0000,9,  -999.00,9,   -999.0,9,    489.8,2,   -999.0,9,  -999.00,9,25,   20.00,   -999,-999.0000,-999.000,  6.3073,-999.000
     316N151_2,   A24,   102,  1,     19,     19,2,19970619,1008, 59.1605, -42.2890, 2202,     58.6,   5.8971,  34.9405,2,  34.9400,2,    309.7,2,    308.0,2,     5.38,2,     9.85,2,     0.17,2,     0.77,2,    4.537,2,    2.346,2, -999.000,9,-999.0000,9,  -999.00,9,   -999.0,9,    584.2,2,   -999.0,9,  -999.00,9,25,   20.00,   -999,-999.0000,-999.000,  5.8922,-999.000
     316N151_2,   A24,   102,  1,     18,     18,2,19970619,1008, 59.1605, -42.2890, 2202,    105.2,   5.4726,  34.9767,2,  34.9776,2,    288.4,2,    288.7,2,     8.13,2,    14.20,2,     0.21,2,     0.99,2,    4.338,2,    2.261,2, -999.000,9,-999.0000,9,  -999.00,9,   -999.0,9,    684.9,2,   -999.0,9,  -999.00,9,25,   20.00,   -999,-999.0000,-999.000,  5.4640,-999.000
     316N151_2,   A24,   102,  1,     17,     17,2,19970619,1008, 59.1605, -42.2890, 2202,    164.7,   5.2635,  34.9727,2,  34.9723,2,    286.9,2,    286.5,2,     8.61,2,    15.06,2,     0.11,2,     1.01,2,    4.245,2,    2.202,2, -999.000,9,-999.0000,9,  -999.00,9,   -999.0,9,    696.8,2,   -999.0,9,  -999.00,9,25,   20.00,   -999,-999.0000,-999.000,  5.2503,-999.000
     316N151_2,   A24,   102,  1,     16,     16,2,19970619,1008, 59.1605, -42.2890, 2202,    267.3,   4.6859,  34.9312,2,  34.9318,2,    285.9,2,    288.4,2,     8.99,2,    15.43,2,     0.02,2,     1.03,2,    4.231,2,    2.185,2, -999.000,9,-999.0000,9,  -999.00,9,   -999.0,9,    709.5,2,   -999.0,9,  -999.00,9,25,   20.00,   -999,-999.0000,-999.000,  4.6655,-999.000
     316N151_2,   A24,   102,  1,     15,     15,2,19970619,1008, 59.1605, -42.2890, 2202,    344.5,   4.4534,  34.9157,2,  34.9153,2,    286.8,2,    287.7,2,     9.17,2,    15.66,2,     0.02,2,     1.04,2,    4.226,2,    2.150,2, -999.000,9,-999.0000,9,  -999.00,9,   -999.0,9,    722.0,2,   -999.0,9,  -999.00,9,25,   20.00,   -999,-999.0000,-999.000,  4.4276,-999.000
     316N151_2,   A24,   102,  1,     14,     14,2,19970619,1008, 59.1605, -42.2890, 2202,    466.0,   4.1130,  34.8923,2,  34.8939,2,    289.9,2,    291.4,2,     9.46,2,    15.86,2,     0.01,2,     1.08,2,    4.220,2,    2.151,2, -999.000,9,-999.0000,9,  -999.00,9,   -999.0,9,    730.6,2,   -999.0,9,  -999.00,9,25,   20.00,   -999,-999.0000,-999.000,  4.0789,-999.000
     316N151_2,   A24,   102,  1,     13,     13,2,19970619,1008, 59.1605, -42.2890, 2202,    572.2,   3.8084,  34.8796,2,  34.8797,2,    288.1,2,    291.5,2,     9.84,2,    16.15,2,     0.01,2,     1.08,2,    4.148,2,    2.097,2, -999.000,9,-999.0000,9,  -999.00,9,   -999.0,9,    745.1,2,   -999.0,9,  -999.00,9,25,   20.00,   -999,-999.0000,-999.000,  3.7674,-999.000
     316N151_2,   A24,   102,  1,     12,     12,2,19970619,1008, 59.1605, -42.2890, 2202,    648.8,   3.7571,  34.8913,2,  34.8911,2,    288.0,2,    280.9,2,    10.22,2,    16.43,2,     0.00,2,     1.09,2,    3.668,2,    1.820,2, -999.000,9,-999.0000,9,  -999.00,9,   -999.0,9,    755.0,2,   -999.0,9,  -999.00,9,25,   20.00,   -999,-999.0000,-999.000,  3.7105,-999.000
     316N151_2,   A24,   102,  1,     11,     11,2,19970619,1008, 59.1605, -42.2890, 2202,    771.7,   3.5841,  34.8934,2,  34.8933,2,    281.9,2,    280.1,2,    10.50,2,    16.58,2,     0.00,2,     1.10,2,    3.462,2,    1.709,2, -999.000,9,-999.0000,9,  -999.00,9,   -999.0,9,    760.6,2,   -999.0,9,  -999.00,9,25,   20.00,   -999,-999.0000,-999.000,  3.5290,-999.000
     316N151_2,   A24,   102,  1,     10,     10,2,19970619,1008, 59.1605, -42.2890, 2202,    919.0,   3.3689,  34.8835,2,  34.8833,2,    288.1,2,    285.6,2,    10.58,2,    16.62,2,     0.00,2,     1.10,2,    3.546,2,    1.734,2, -999.000,9,-999.0000,9,  -999.00,9,   -999.0,9,    759.0,2,   -999.0,9,  -999.00,9,25,   20.00,   -999,-999.0000,-999.000,  3.3039,-999.000
     316N151_2,   A24,   102,  1,      9,      9,2,19970619,1008, 59.1605, -42.2890, 2202,   1122.9,   3.1384,  34.8703,2,  34.8694,2,    290.6,2,    291.9,2,    10.57,2,    16.58,2,     0.00,2,     1.09,2,    3.684,2,    1.784,2, -999.000,9,-999.0000,9,  -999.00,9,   -999.0,9,    761.6,2,   -999.0,9,  -999.00,9,25,   20.00,   -999,-999.0000,-999.000,  3.0592,-999.000
     316N151_2,   A24,   102,  1,      8,      8,2,19970619,1008, 59.1605, -42.2890, 2202,   1339.9,   2.9461,  34.8561,2,  34.8564,2,    292.9,2,    295.3,2,    10.45,2,    16.35,2,     0.00,2,     1.09,2,    3.766,2,    1.828,2, -999.000,9,-999.0000,9,  -999.00,9,   -999.0,9,    752.9,2,   -999.0,9,  -999.00,9,25,   20.00,   -999,-999.0000,-999.000,  2.8514,-999.000
     316N151_2,   A24,   102,  1,      7,      7,2,19970619,1008, 59.1605, -42.2890, 2202,   1500.6,   2.9641,  34.8775,2,  34.8782,2,    287.1,2,    290.0,2,    10.93,2,    16.21,2,     0.00,2,     1.08,2,    3.237,2,    1.572,2, -999.000,9,-999.0000,9,  -999.00,9,   -999.0,9,    744.3,2,   -999.0,9,  -999.00,9,25,   20.00,   -999,-999.0000,-999.000,  2.8559,-999.000
     316N151_2,   A24,   102,  1,      6,      6,2,19970619,1008, 59.1605, -42.2890, 2202,   1684.0,   2.7488,  34.8835,2,  34.8824,2,    286.2,2,    288.6,2,    10.62,2,    15.55,2,     0.00,2,     1.04,2,    3.151,2,    1.550,2, -999.000,9,-999.0000,9,  -999.00,9,   -999.0,9,    742.1,2,   -999.0,9,  -999.00,9,25,   20.00,   -999,-999.0000,-999.000,  2.6277,-999.000
     316N151_2,   A24,   102,  1,      5,      5,2,19970619,1008, 59.1605, -42.2890, 2202,   1809.3,   2.6329,  34.9136,2,  34.9162,2,    285.2,2,    281.5,2,    12.69,2,    15.93,2,     0.00,2,     1.07,2,    2.228,2,    1.083,2, -999.000,9,-999.0000,9,  -999.00,9,   -999.0,9,    744.3,2,   -999.0,9,  -999.00,9,25,   20.00,   -999,-999.0000,-999.000,  2.5026,-999.000
     316N151_2,   A24,   102,  1,      4,      4,2,19970619,1008, 59.1605, -42.2890, 2202,   1907.5,   2.5170,  34.9103,2,  34.9102,2,    285.5,2,    283.2,2,    12.48,2,    15.69,2,     0.00,2,     1.06,2,    2.389,2,    1.160,2, -999.000,9,-999.0000,9,  -999.00,9,   -999.0,9,    746.8,2,   -999.0,9,  -999.00,9,25,   20.00,   -999,-999.0000,-999.000,  2.3799,-999.000
     316N151_2,   A24,   102,  1,      3,      3,2,19970619,1008, 59.1605, -42.2890, 2202,   2038.1,   2.0534,  34.8847,2,  34.8795,2,    297.2,2,    294.7,2,     9.48,2,    14.52,2,     0.00,2,     0.98,2,    3.514,2,    1.743,2, -999.000,9,-999.0000,9,  -999.00,9,   -999.0,9,    744.7,2,   -999.0,9,  -999.00,9,25,   20.00,   -999,-999.0000,-999.000,  1.9121,-999.000
     316N151_2,   A24,   102,  1,      2,      2,2,19970619,1008, 59.1605, -42.2890, 2202,   2108.1,   1.9931,  34.8743,2,  34.8742,2,    295.8,2,    297.4,2,     9.17,2,    14.33,2,     0.00,2,     0.97,2,    3.611,2,    1.782,2, -999.000,9,-999.0000,9,  -999.00,9,   -999.0,9,    744.7,2,   -999.0,9,  -999.00,9,25,   20.00,   -999,-999.0000,-999.000,  1.8467,-999.000
     316N151_2,   A24,   102,  1,      1,      1,2,19970619,1008, 59.1605, -42.2890, 2202,   2201.6,   2.0004,  34.8745,2,  34.8738,2,    296.1,2,    296.4,2,     9.15,2,    14.33,2,     0.00,2,     0.97,2,    3.613,2,    1.773,4, -999.000,9,-999.0000,9,  -999.00,9,   -999.0,9,    746.5,2,   -999.0,9,  -999.00,9,25,   20.00,   -999,-999.0000,-999.000,  1.8458,-999.000
     316N151_2,   A24,   103,  1,     28,     28,2,19970619,1349, 58.8470, -41.9523, 2647,      4.2,   6.1102,  34.6983,2,-999.0000,9,    306.7,2,    323.1,2,     1.05,2,     7.70,2,     0.12,2,     0.49,2, -999.000,9, -999.000,9,    0.686,3,   1.8503,2,    -1.97,2,   2096.2,2,    538.9,2,   2299.8,2,     7.84,2,25,   20.00,   -999,  0.0000,   0.160,  6.1098,   0.014
     316N151_2,   A24,   103,  1,     27,     27,2,19970619,1349, 58.8470, -41.9523, 2647,     44.8,   4.3188,  34.7441,2,  34.7443,2,    315.5,2,    312.7,2,     7.96,2,    12.68,2,     0.20,2,     0.94,2, -999.000,9, -999.000,9,    0.006,4,   1.8733,2,    -1.88,2,   2134.7,2,   -999.0,9,   2300.0,6,     7.75,6,25, -999.00,   -999,  0.0000,   0.140,  4.3156,   0.003
     316N151_2,   A24,   103,  1,     26,     26,2,19970619,1349, 58.8470, -41.9523, 2647,     84.4,   3.6715,  34.8003,2,  34.7994,2,    303.7,2,    301.1,2,     9.33,2,    15.70,2,     0.13,2,     1.05,2, -999.000,9, -999.000,9, -999.000,9,-999.0000,9,  -999.00,9,   2147.2,2,   -999.0,9,   2301.0,2,     7.72,2,25, -999.00,   -999,-999.0000,-999.000,  3.6659,-999.000
     316N151_2,   A24,   103,  1,     25,     25,2,19970619,1349, 58.8470, -41.9523, 2647,    134.2,   3.9792,  34.8862,2,  34.8855,2,    289.4,2,    292.3,2,     9.41,2,    15.94,2,     0.03,2,     1.06,2, -999.000,9, -999.000,9,    0.916,3,   0.0000,5,  7131.72,4,   2150.7,2,   -999.0,9,   2304.7,2,     7.73,2,25, -999.00,   -999,  0.0000,   0.640,  3.9699,   0.014
     316N151_2,   A24,   103,  1,     24,     24,2,19970619,1349, 58.8470, -41.9523, 2647,    204.8,   3.7130,  34.8668,2,  34.8653,2,    295.6,2,    298.3,2,     9.49,2,    16.11,2,     0.01,2,     1.07,2, -999.000,9, -999.000,9,    1.342,2,   1.8425,2,    -0.09,2,   2150.6,2,   -999.0,9,   2303.1,2,     7.72,2,25, -999.00,   -999,  0.0000,   0.160,  3.6991,   0.019
     316N151_2,   A24,   103,  1,     23,     23,2,19970619,1349, 58.8470, -41.9523, 2647,    306.1,   3.5499,  34.8607,2,  34.8614,2,    294.3,2,    298.6,2,     9.58,2,    16.21,2,     0.00,2,     1.08,2, -999.000,9, -999.000,9,    1.488,2,   1.8649,2,     0.10,2,   2150.4,2,   -999.0,9,   2302.4,2,     7.73,2,25, -999.00,   -999,  0.0000,   0.170,  3.5293,   0.021
     316N151_2,   A24,   103,  1,     22,     22,2,19970619,1349, 58.8470, -41.9523, 2647,    407.5,   3.3769,  34.8528,2,  34.8517,2,    297.8,2,    299.2,2,     9.76,2,    16.31,2,     0.00,2,     1.09,2, -999.000,9, -999.000,9,    1.492,2,   1.8579,2,     0.47,2,   2151.7,2,   -999.0,9,   2302.0,2,     7.71,2,25, -999.00,   -999,  0.0000,   0.170,  3.3497,   0.021
     316N151_2,   A24,   103,  1,     21,     21,2,19970619,1349, 58.8470, -41.9523, 2647,    506.4,   3.3051,  34.8526,2,  34.8571,2,    293.9,2,    293.3,2,    10.14,2,    16.59,2,     0.00,2,     1.10,2, -999.000,9, -999.000,9, -999.000,9,-999.0000,9,  -999.00,9,   2153.4,2,   -999.0,9,   2302.1,2,     7.71,2,25, -999.00,   -999,-999.0000,-999.000,  3.2711,-999.000
     316N151_2,   A24,   103,  1,     20,     20,2,19970619,1349, 58.8470, -41.9523, 2647,    608.6,   3.2873,  34.8593,2,  34.8624,2,    293.5,2,    287.5,2,    10.52,2,    16.87,2,     0.00,2,     1.11,2, -999.000,9, -999.000,9, -999.000,5,   1.8572,2,     2.51,2,   2154.8,2,   -999.0,9,   2302.4,2,     7.70,2,25, -999.00,   -999,  0.0000,   0.190,  3.2461,-999.000
     316N151_2,   A24,   103,  1,     19,     19,2,19970619,1349, 58.8470, -41.9523, 2647,    706.9,   3.2539,  34.8654,2,  34.8657,2,    289.6,2,    285.9,2,    10.70,2,    16.97,2,     0.00,2,     1.12,2,    3.673,2,    1.798,2, -999.000,9,-999.0000,9,  -999.00,9,   2157.0,2,   -999.0,9,   2301.9,2,     7.71,2,25, -999.00,   -999,-999.0000,-999.000,  3.2056,-999.000
     316N151_2,   A24,   103,  1,     18,     18,2,19970619,1349, 58.8470, -41.9523, 2647,    809.8,   3.1907,  34.8677,2,  34.8668,2,    290.7,2,    288.2,2,    10.69,2,    16.92,2,     0.00,2,     1.12,2, -999.000,9, -999.000,9, -999.000,5,   1.8543,2,     3.83,2,   2154.6,2,   -999.0,9,   2305.6,2,     7.71,2,25, -999.00,   -999,  0.0000,   0.160,  3.1352,-999.000
     316N151_2,   A24,   103,  1,     17,     17,2,19970619,1349, 58.8470, -41.9523, 2647,   1061.1,   3.0355,  34.8582,2,  34.8575,2,    294.4,2,    295.2,2,    10.57,2,    16.69,2,     0.00,2,     1.11,2,    3.803,2,    1.852,2, -999.000,9,-999.0000,9,  -999.00,9,   2151.5,2,   -999.0,9,   2302.2,2,     7.72,2,25, -999.00,   -999,-999.0000,-999.000,  2.9620,-999.000
     316N151_2,   A24,   103,  1,     16,     16,2,19970619,1349, 58.8470, -41.9523, 2647,   1257.5,   2.9700,  34.8506,2,  34.8552,2,    296.9,2,    297.8,2,    10.46,2,    16.54,2,     0.00,2,     1.10,2, -999.000,9, -999.000,9, -999.000,5,   1.8521,2,     2.51,2,   2152.0,2,   -999.0,9,   2303.1,2,     7.71,2,25, -999.00,   -999,  0.0000,   0.170,  2.8817,-999.000
     316N151_2,   A24,   103,  1,     15,     15,2,19970619,1349, 58.8470, -41.9523, 2647,   1403.9,   2.9298,  34.8485,2,  34.8493,2,    297.6,2,    298.6,2,    10.34,2,    16.55,2,     0.00,2,     1.09,2, -999.000,9, -999.000,9, -999.000,5,   1.8504,2,    -1.38,3,   2152.5,2,   -999.0,9,   2300.8,2,     7.72,2,25, -999.00,   -999,  0.0000,   0.200,  2.8301,-999.000
     316N151_2,   A24,   103,  1,     14,     14,2,19970619,1349, 58.8470, -41.9523, 2647,   1556.8,   2.9027,  34.8457,2,  34.8471,2,    297.2,2,    298.6,2,    10.33,2,    16.50,2,     0.00,2,     1.10,2,    3.940,2,    1.890,2, -999.000,5,   0.0106,4,  2580.89,4,   2152.5,2,   -999.0,9,   2302.9,2,     7.71,2,25, -999.00,   -999,  0.0000,   0.260,  2.7906,-999.000
     316N151_2,   A24,   103,  1,     13,     13,2,19970619,1349, 58.8470, -41.9523, 2647,   1618.6,   2.9173,  34.8499,2,  34.8507,2,    294.6,2,    297.5,2,    10.41,2,    16.45,2,     0.00,2,     1.09,2,    3.815,2,    1.839,2, -999.000,5,   1.8604,2,     3.41,2,   2152.5,2,   -999.0,9,   2300.8,2,     7.72,2,25, -999.00,   -999,  0.0000,   0.170,  2.7998,-999.000
     316N151_2,   A24,   103,  1,     12,     12,2,19970619,1349, 58.8470, -41.9523, 2647,   1810.8,   3.0069,  34.8710,2,  34.8717,2,    289.4,2,    291.2,2,    10.89,2,    16.31,2,     0.00,2,     1.09,2, -999.000,9, -999.000,9, -999.000,9,-999.0000,9,  -999.00,9,   2152.6,2,   -999.0,9,   2304.9,2,     7.72,2,25, -999.00,   -999,-999.0000,-999.000,  2.8715,-999.000
     316N151_2,   A24,   103,  1,     11,     11,2,19970619,1349, 58.8470, -41.9523, 2647,   1944.6,   3.0503,  34.8920,2,  34.8914,2,    285.4,2,    286.0,2,    11.47,2,    16.36,2,     0.00,2,     1.09,2,    2.741,2,    1.326,2, -999.000,9,-999.0000,9,  -999.00,9,   2153.8,2,   -999.0,9,   2304.3,2,     7.72,2,25, -999.00,   -999,-999.0000,-999.000,  2.9022,-999.000
     316N151_2,   A24,   103,  1,     10,     10,2,19970619,1349, 58.8470, -41.9523, 2647,   2045.3,   2.9647,  34.8909,2,  34.8897,2,    287.2,2,    286.4,2,    11.16,2,    16.03,2,     0.00,2,     1.07,2,    2.835,2,    1.356,2, -999.000,5,   1.9029,2,     5.35,2,   2153.0,2,   -999.0,9,   2306.1,2,     7.72,2,25, -999.00,   -999,  0.0000,   0.170,  2.8087,-999.000
     316N151_2,   A24,   103,  1,      9,      9,2,19970619,1349, 58.8470, -41.9523, 2647,   2167.6,   2.9345,  34.9122,2,  34.9176,2,    283.2,2,    281.1,2,    12.43,2,    16.22,2,     0.00,2,     1.09,2,    2.191,2,    1.058,2, -999.000,9,-999.0000,9,  -999.00,9,   2155.3,2,   -999.0,9,   2307.2,2,     7.72,2,25, -999.00,   -999,-999.0000,-999.000,  2.7676,-999.000
     316N151_2,   A24,   103,  1,      8,      8,2,19970619,1349, 58.8470, -41.9523, 2647,   2245.0,   2.8911,  34.9163,2,  34.9147,2,    282.1,2,    280.3,2,    12.71,2,    16.22,2,     0.00,2,     1.09,2,    2.085,2,    1.002,2, -999.000,5,   1.9404,2,     6.91,2,   2155.8,2,   -999.0,9,   2308.7,2,     7.72,2,25, -999.00,   -999,  0.0000,   0.170,  2.7177,-999.000
     316N151_2,   A24,   103,  1,      7,      7,2,19970619,1349, 58.8470, -41.9523, 2647,   2315.7,   2.7560,  34.9147,2,  34.9159,2,    283.7,2,    280.9,2,    12.99,2,    16.08,2,     0.00,2,     1.08,2,    2.060,2,    0.987,2, -999.000,5,   1.9386,2,     6.23,2,   2154.7,2,   -999.0,9,   2310.1,2,     7.73,3,25, -999.00,   -999,  0.0000,   0.170,  2.5782,-999.000
     316N151_2,   A24,   103,  1,      6,      6,2,19970619,1349, 58.8470, -41.9523, 2647,   2376.6,   2.5593,  34.9003,2,  34.9004,2,    284.9,2,    286.5,2,    11.59,2,    15.51,2,     0.00,2,     1.04,2,    2.701,2,    1.317,2, -999.000,5,   1.8764,2,     5.73,2,   2154.7,2,   -999.0,9,   2306.3,2,     7.72,2,25, -999.00,   -999,  0.0000,   0.170,  2.3793,-999.000
     316N151_2,   A24,   103,  1,      5,      5,2,19970619,1349, 58.8470, -41.9523, 2647,   2437.3,   2.4816,  34.9006,2,  34.8994,2,    287.8,2,    287.4,2,    11.58,2,    15.42,2,     0.00,2,     1.04,2,    2.716,2,    1.315,2, -999.000,9,-999.0000,9,  -999.00,9,   2154.7,2,   -999.0,9,   2306.0,2,     7.72,2,25, -999.00,   -999,-999.0000,-999.000,  2.2973,-999.000
     316N151_2,   A24,   103,  1,      4,      4,2,19970619,1349, 58.8470, -41.9523, 2647,   2489.4,   1.9971,  34.8716,2,  34.8711,2,    294.3,2,    297.8,2,     8.98,2,    14.25,2,     0.00,2,     0.97,2,    3.649,2,    1.781,2, -999.000,5,   1.8836,2,     4.28,2,   2150.8,2,   -999.0,9,   2304.0,2,     7.73,2,25, -999.00,   -999,  0.0000,   0.200,  1.8169,-999.000
     316N151_2,   A24,   103,  1,      3,      3,2,19970619,1349, 58.8470, -41.9523, 2647,   2542.0,   1.9522,  34.8716,2,  34.8715,2,    297.9,2,    298.3,2,     8.87,2,    14.20,2,     0.00,2,     0.96,2,    3.644,2,    1.785,2, -999.000,5,   1.8784,2,     4.32,2,   2151.5,2,   -999.0,9,   2302.7,2,     7.73,2,25, -999.00,   -999,  0.0000,   0.170,  1.7680,-999.000
     316N151_2,   A24,   103,  1,      2,      2,2,19970619,1349, 58.8470, -41.9523, 2647,   2593.0,   1.8514,  34.8730,2,  34.8725,2,    299.4,2,    299.0,2,     8.85,2,    14.11,2,     0.00,2,     0.96,2,    3.680,2,    1.800,2, -999.000,9,-999.0000,9,  -999.00,9,   2151.6,2,   -999.0,9,   2303.5,2,     7.72,2,25, -999.00,   -999,-999.0000,-999.000,  1.6645,-999.000
     316N151_2,   A24,   103,  1,      1,      1,2,19970619,1349, 58.8470, -41.9523, 2647,   2627.7,   1.8548,  34.8727,2,  34.8737,2,    302.3,2,    298.1,2,     8.74,2,    14.10,2,     0.00,2,     0.97,2,    3.623,2,    1.783,2, -999.000,5,   1.8814,2,     4.38,2,   2151.3,2,   -999.0,9,   2302.1,2,     7.73,2,25, -999.00,   -999,  0.0000,   0.200,  1.6646,-999.000