BOTTLE,20220629CCHSIOAMB
EXPOCODE,SECT_ID,STNNBR,CASTNO,SAMPNO,BTLNBR,BTLNBR_FLAG_W,DATE,TIME,LATITUDE,LONGITUDE,DEPTH,CTDPRS,CTDTMP,CTDSAL,CTDSAL_FLAG_W,SALNTY,SALNTY_FLAG_W,CTDOXY,CTDOXY_FLAG_W,OXYGEN,OXYGEN_FLAG_W,SILCAT,SILCAT_FLAG_W,NITRAT,NITRAT_FLAG_W,NITRIT,NITRIT_FLAG_W,PHSPHT,PHSPHT_FLAG_W,CFC-11,CFC-11_FLAG_W,CFC-12,CFC-12_FLAG_W,TRITUM,TRITUM_FLAG_W,HELIUM,HELIUM_FLAG_W,DELHE3,DELHE3_FLAG_W,TCARBN,TCARBN_FLAG_W,PCO2,PCO2_FLAG_W,ALKALI,ALKALI_FLAG_W,PH,PH_FLAG_W,PH_TMP,PCO2TMP,CTDRAW,HELIER,DELHER,THETA,TRITER
,,,,,,,,,,,,DBAR,ITS-90,PSS-78,,PSS-78,,UMOL/KG,,UMOL/KG,,UMOL/KG,,UMOL/KG,,UMOL/KG,,UMOL/KG,,PMOL/KG,,PMOL/KG,,TU,,NMOL/KG,,PERCNT,,UMOL/KG,,UATM,,UMOL/KG,,,,DEG C,DEG C,,NMOL/KG,PERCNT,DEG C,TU
     316N151_2,   A24,    62,  1,      9,      9,2,19970612,1709, 57.9995, -14.3015,  291,      3.4,  10.4567,  35.3157,2,  35.3159,2,    291.3,2,    287.6,2,     0.61,2,     4.99,2,     0.12,2,     0.36,2,    3.858,2,    2.009,2, -999.000,9,-999.0000,9,  -999.00,9,   2085.1,2,   -999.0,9,   2332.2,2,     7.91,2,25, -999.00,   -999,-999.0000,-999.000, 10.4563,-999.000
     316N151_2,   A24,    62,  1,      8,      8,2,19970612,1709, 57.9995, -14.3015,  291,     35.0,  10.2025,  35.3159,2,  35.3140,2,    287.6,2,    287.5,2,     0.68,2,     5.12,2,     0.12,2,     0.37,2,    3.847,2,    2.021,2, -999.000,9,-999.0000,9,  -999.00,9,   -999.0,9,   -999.0,9,   -999.0,9,  -999.00,9,25, -999.00,   -999,-999.0000,-999.000, 10.1984,-999.000
     316N151_2,   A24,    62,  1,      7,      7,2,19970612,1709, 57.9995, -14.3015,  291,     75.8,   9.2498,  35.3108,2,  35.3160,2,    275.0,2,    272.5,2,     1.99,2,     9.02,2,     0.19,2,     0.69,2, -999.000,9, -999.000,9, -999.000,9,-999.0000,9,  -999.00,9,   -999.0,9,   -999.0,9,   -999.0,9,  -999.00,9,25, -999.00,   -999,-999.0000,-999.000,  9.2414,-999.000
     316N151_2,   A24,    62,  1,      6,      6,2,19970612,1709, 57.9995, -14.3015,  291,     94.9,   9.1108,  35.3171,2,  35.3174,2,    271.7,2,    271.7,2,     4.15,2,    10.28,2,     0.26,2,     0.76,2, -999.000,9, -999.000,9, -999.000,9,-999.0000,9,  -999.00,9,   -999.0,9,   -999.0,9,   -999.0,9,  -999.00,9,25, -999.00,   -999,-999.0000,-999.000,  9.1004,-999.000
     316N151_2,   A24,    62,  1,      5,      5,2,19970612,1709, 57.9995, -14.3015,  291,    135.5,   9.0685,  35.3167,2,  35.3169,2,    269.5,2,    272.3,2,     4.89,2,    10.80,2,     0.45,2,     0.75,2,    3.887,2,    2.028,2, -999.000,9,-999.0000,9,  -999.00,9,   -999.0,9,   -999.0,9,   -999.0,9,  -999.00,9,25, -999.00,   -999,-999.0000,-999.000,  9.0537,-999.000
     316N151_2,   A24,    62,  1,      4,      4,2,19970612,1709, 57.9995, -14.3015,  291,    175.7,   8.9649,  35.3103,2,  35.3090,2,    267.2,2,    266.8,2,     5.63,2,    12.40,2,     0.03,2,     0.80,2, -999.000,9, -999.000,9, -999.000,9,-999.0000,9,  -999.00,9,   -999.0,9,   -999.0,9,   -999.0,9,  -999.00,9,25, -999.00,   -999,-999.0000,-999.000,  8.9458,-999.000
     316N151_2,   A24,    62,  1,      3,      3,2,19970612,1709, 57.9995, -14.3015,  291,    216.1,   8.8347,  35.2998,2,  35.3012,2,    263.9,2,    265.9,2,     5.99,2,    12.70,2,     0.01,2,     0.83,2,    3.774,2,    1.993,2, -999.000,9,-999.0000,9,  -999.00,9,   -999.0,9,   -999.0,9,   -999.0,9,  -999.00,9,25, -999.00,   -999,-999.0000,-999.000,  8.8113,-999.000
     316N151_2,   A24,    62,  1,      2,      2,2,19970612,1709, 57.9995, -14.3015,  291,    245.6,   8.7016,  35.2949,2,  35.2953,2,    259.9,2,    260.5,2,     6.26,2,    13.16,2,     0.03,2,     0.87,2, -999.000,9, -999.000,9, -999.000,9,-999.0000,9,  -999.00,9,   -999.0,9,   -999.0,9,   -999.0,9,  -999.00,9,25, -999.00,   -999,-999.0000,-999.000,  8.6752,-999.000
     316N151_2,   A24,    62,  1,      1,      1,2,19970612,1709, 57.9995, -14.3015,  291,    280.6,   8.7009,  35.2945,2,  35.2951,2,    257.3,2,    259.7,2,     6.52,2,    13.24,2,     0.05,2,     0.88,2,    3.778,2,    1.967,2, -999.000,9,-999.0000,9,  -999.00,9,   -999.0,9,   -999.0,9,   -999.0,9,  -999.00,9,25, -999.00,   -999,-999.0000,-999.000,  8.6707,-999.000
     316N151_2,   A24,    63,  1,     10,     10,2,19970612,2023, 58.1828, -15.1847,  573,      2.6,  10.5309,  35.3468,2,  35.3468,2,    293.5,2,    297.9,2,     0.63,2,     4.87,2,     0.16,2,     0.36,2,    3.778,2,    1.966,2, -999.000,9,-999.0000,9,  -999.00,9,   2076.9,2,    427.6,2,   2333.6,2,     7.93,2,25,   20.00,   -999,-999.0000,-999.000, 10.5306,-999.000
     316N151_2,   A24,    63,  1,      9,      9,2,19970612,2023, 58.1828, -15.1847,  573,     23.9,  10.3546,  35.3449,2,  35.3453,2,    289.3,2,    289.6,2,     0.95,2,     5.77,2,     0.16,2,     0.42,2,    3.765,2,    1.958,2, -999.000,9,-999.0000,9,  -999.00,9,   2088.4,2,    454.0,2,   2336.5,2,     7.90,2,25,   20.00,   -999,-999.0000,-999.000, 10.3517,-999.000
     316N151_2,   A24,    63,  1,      8,      8,2,19970612,2023, 58.1828, -15.1847,  573,     74.7,   9.5488,  35.3419,2,  35.3413,2,    272.0,2,    271.4,2,     4.22,2,     9.76,2,     0.27,2,     0.73,2,    3.845,2,    2.007,2, -999.000,9,-999.0000,9,  -999.00,9,   2126.3,2,    559.8,2,   2330.4,2,     7.83,2,25,   20.00,   -999,-999.0000,-999.000,  9.5404,-999.000
     316N151_2,   A24,    63,  1,      7,      7,2,19970612,2023, 58.1828, -15.1847,  573,    104.3,   9.3551,  35.3492,2,  35.3482,2,    267.9,2,    269.4,2,     5.02,2,    11.44,2,     0.11,2,     0.77,2,    3.763,2,    1.969,2, -999.000,9,-999.0000,9,  -999.00,9,   2127.9,2,    575.6,2,   2328.6,2,     7.81,2,25,   20.00,   -999,-999.0000,-999.000,  9.3435,-999.000
     316N151_2,   A24,    63,  1,      6,      6,2,19970612,2023, 58.1828, -15.1847,  573,    154.2,   9.3028,  35.3446,2,  35.3447,2,    268.2,2,    269.0,2,     5.15,2,    11.75,2,     0.07,2,     0.78,2, -999.000,9, -999.000,9, -999.000,9,-999.0000,9,  -999.00,9,   2129.2,2,    577.6,2,   2327.9,2,     7.82,2,25,   20.00,   -999,-999.0000,-999.000,  9.2856,-999.000
     316N151_2,   A24,    63,  1,      5,      5,2,19970612,2023, 58.1828, -15.1847,  573,    204.4,   9.2451,  35.3394,2,  35.3390,2,    267.6,2,    269.2,2,     5.18,2,    11.81,2,     0.07,2,     0.79,2,    3.788,2,    1.974,2, -999.000,9,-999.0000,9,  -999.00,9,   2130.2,2,    578.3,2,   2331.0,2,     7.81,2,25,   20.00,   -999,-999.0000,-999.000,  9.2224,-999.000
     316N151_2,   A24,    63,  1,      4,      4,2,19970612,2023, 58.1828, -15.1847,  573,    306.1,   9.1236,  35.3266,2,  35.3273,2,    264.1,2,    264.0,2,     5.50,2,    12.48,2,     0.01,2,     0.82,2, -999.000,9, -999.000,9, -999.000,9,-999.0000,9,  -999.00,9,   2133.5,2,    592.4,2,   2326.6,2,     7.81,2,25,   20.00,   -999,-999.0000,-999.000,  9.0897,-999.000
     316N151_2,   A24,    63,  1,      3,      3,2,19970612,2023, 58.1828, -15.1847,  573,    406.7,   8.9730,  35.3093,2,  35.3102,2,    257.6,2,    262.8,2,     5.72,2,    12.76,2,     0.01,2,     0.84,2,    3.645,2,    1.913,2, -999.000,9,-999.0000,9,  -999.00,9,   2135.1,2,    600.3,2,   2329.3,2,     7.80,2,25,   20.00,   -999,-999.0000,-999.000,  8.9281,-999.000
     316N151_2,   A24,    63,  1,      2,      2,2,19970612,2023, 58.1828, -15.1847,  573,    507.7,   8.6652,  35.2765,2,  35.2759,2,    250.1,2,    250.1,2,     6.81,2,    13.99,2,     0.01,2,     0.93,2,    3.376,2,    1.734,2, -999.000,9,-999.0000,9,  -999.00,9,   2144.0,2,    633.2,2,   2326.0,2,     7.79,2,25,   20.00,   -999,-999.0000,-999.000,  8.6101,-999.000
     316N151_2,   A24,    63,  1,      1,      1,2,19970612,2023, 58.1828, -15.1847,  573,    573.6,   8.6539,  35.2869,2,  35.2875,2,    255.2,2,    256.4,2,     8.18,2,    13.55,2,     0.02,2,     0.91,2,    3.664,2,    1.912,2, -999.000,9,-999.0000,9,  -999.00,9,   2143.6,2,    630.7,2,   2327.0,2,     7.78,2,25,   20.00,   -999,-999.0000,-999.000,  8.5914,-999.000
     316N151_2,   A24,    64,  1,     15,     15,2,19970612,2342, 58.3500, -16.0682, 1195,      3.9,  10.6480,  35.3616,2,  35.3597,2,    301.9,2,    281.0,2,     1.26,2,     6.19,2,     0.13,2,     0.41,2,    3.677,2,    1.944,2, -999.000,5,   1.8136,2,    -1.76,2,   2094.8,2,    471.8,2,   2331.0,6,     7.89,6,25,   20.00,   -999,  0.0000,   0.170, 10.6475,-999.000
     316N151_2,   A24,    64,  1,     14,     14,2,19970612,2342, 58.3500, -16.0682, 1195,     33.4,  10.3838,  35.3520,2,  35.3553,2,    280.1,2,    279.1,2,     1.44,2,     6.64,2,     0.15,2,     0.45,2,    3.695,2,    1.936,2, -999.000,9,-999.0000,9,  -999.00,9,   2099.3,2,    483.2,2,   2330.5,2,     7.89,2,25,   20.00,   -999,-999.0000,-999.000, 10.3798,-999.000
     316N151_2,   A24,    64,  1,     13,     13,2,19970612,2342, 58.3500, -16.0682, 1195,     73.6,   9.6553,  35.3505,2,  35.3526,2,    281.8,2,    268.5,2,     3.62,2,     9.49,2,     0.27,2,     0.69,2, -999.000,9, -999.000,9, -999.000,9,-999.0000,9,  -999.00,9,   2123.7,2,    551.2,2,   2329.9,2,     7.83,2,25,   20.00,   -999,-999.0000,-999.000,  9.6469,-999.000
     316N151_2,   A24,    64,  1,     12,     12,2,19970612,2342, 58.3500, -16.0682, 1195,    104.0,   9.5367,  35.3514,2,  35.3575,2,    266.7,2,    266.4,2,     5.23,2,    11.22,2,     0.30,2,     0.74,2,    3.682,2,    1.930,2, -999.000,9,-999.0000,9,  -999.00,9,   2127.4,2,    569.3,2,   2333.4,2,     7.82,2,25,   20.00,   -999,-999.0000,-999.000,  9.5250,-999.000
     316N151_2,   A24,    64,  1,     11,     11,2,19970612,2342, 58.3500, -16.0682, 1195,    154.8,   9.4147,  35.3490,2,  35.3486,2,    262.9,2,    264.1,2,     5.89,2,    12.22,2,     0.02,2,     0.78,2, -999.000,9, -999.000,9, -999.000,9,-999.0000,9,  -999.00,9,   2131.3,2,    584.4,2,   2328.9,2,     7.82,2,25,   20.00,   -999,-999.0000,-999.000,  9.3973,-999.000
     316N151_2,   A24,    64,  1,     10,     10,2,19970612,2342, 58.3500, -16.0682, 1195,    255.3,   9.1500,  35.3205,2,  35.3228,2,    267.7,2,    266.8,2,     6.07,2,    12.46,2,     0.01,2,     0.79,2,    3.680,2,    1.931,2, -999.000,5,   4.2728,4,     3.38,4,   2131.6,2,   -999.0,9,   2324.6,2,     7.81,2,25, -999.00,   -999,  0.0000,   0.350,  9.1217,-999.000
     316N151_2,   A24,    64,  1,      9,      9,2,19970612,2342, 58.3500, -16.0682, 1195,    355.5,   8.9758,  35.3015,2,  35.3009,2,    267.5,2,    267.6,2,     6.25,2,    12.61,2,     0.01,2,     0.81,2, -999.000,9, -999.000,9, -999.000,9,-999.0000,9,  -999.00,9,   2132.2,2,    591.4,2,   2326.2,2,     7.81,2,25,   20.00,   -999,-999.0000,-999.000,  8.9367,-999.000
     316N151_2,   A24,    64,  1,      8,      8,2,19970612,2342, 58.3500, -16.0682, 1195,    456.7,   8.8814,  35.2914,2,  35.2924,2,    267.4,2,    266.7,2,     6.24,2,    12.66,2,     0.01,2,     0.81,2,    3.666,2,    1.917,2, -999.000,5,   4.4150,4,     4.07,4,   2133.2,2,    593.2,2,   2325.8,2,     7.80,2,25,   20.00,   -999,  0.0000,   0.450,  8.8312,-999.000
     316N151_2,   A24,    64,  1,      7,      7,2,19970612,2342, 58.3500, -16.0682, 1195,    556.4,   8.8018,  35.2839,2,  35.2824,2,    266.5,2,    267.9,2,     6.23,2,    12.71,2,     0.00,2,     0.82,2, -999.000,9, -999.000,9, -999.000,9,-999.0000,9,  -999.00,9,   2133.1,2,   -999.0,9,   2324.7,2,     7.81,2,25, -999.00,   -999,-999.0000,-999.000,  8.7406,-999.000
     316N151_2,   A24,    64,  1,      6,      6,2,19970612,2342, 58.3500, -16.0682, 1195,    657.3,   8.7291,  35.2704,2,  35.2704,2,    264.1,2,    265.8,2,     6.42,2,    12.95,2,     0.00,2,     0.84,2,    3.702,2,    1.934,2, -999.000,9,-999.0000,9,  -999.00,9,   2133.7,2,    604.8,2,   2323.2,2,     7.80,2,25,   20.00,   -999,-999.0000,-999.000,  8.6568,-999.000
     316N151_2,   A24,    64,  1,      5,      5,2,19970612,2342, 58.3500, -16.0682, 1195,    757.2,   8.5185,  35.2591,2,  35.2584,2,    244.3,2,    242.8,2,     8.32,2,    14.95,2,     0.01,2,     0.96,2,    3.233,2,    1.651,2, -999.000,9,-999.0000,9,  -999.00,9,   2148.5,2,    654.4,2,   2325.5,2,     7.77,2,25,   20.00,   -999,-999.0000,-999.000,  8.4359,-999.000
     316N151_2,   A24,    64,  1,      4,      4,2,19970612,2342, 58.3500, -16.0682, 1195,    859.6,   8.0383,  35.2143,2,  35.2191,2,    226.7,2,    225.8,2,     9.93,2,    16.67,2,     0.00,2,     1.08,2, -999.000,9, -999.000,9, -999.000,5,   1.8256,2,     4.16,2,   2158.1,2,    697.4,2,   2330.3,3,     7.75,2,25,   20.00,   -999,  0.0000,   0.170,  7.9471,-999.000
     316N151_2,   A24,    64,  1,      3,      3,2,19970612,2342, 58.3500, -16.0682, 1195,    959.2,   7.4971,  35.1832,2,  35.1805,2,    219.5,2,    220.5,2,    11.16,2,    17.77,2,     0.01,2,     1.15,2,    2.515,2,    1.251,2, -999.000,9,-999.0000,9,  -999.00,9,   2163.8,2,    728.9,2,   2324.2,2,     7.72,2,25,   20.00,   -999,-999.0000,-999.000,  7.3985,-999.000
     316N151_2,   A24,    64,  1,      2,      2,2,19970612,2342, 58.3500, -16.0682, 1195,   1057.2,   6.5341,  35.1326,2,  35.1295,2,    221.7,2,    222.8,2,    12.40,2,    18.64,2,     0.00,2,     1.20,2,    2.304,2,    1.114,2, -999.000,5,   1.8376,2,     6.86,2,   2169.3,2,    763.3,2,   2324.3,2,     7.71,2,25,   20.00,   -999,  0.0000,   0.160,  6.4324,-999.000
     316N151_2,   A24,    64,  1,      1,      1,2,19970612,2342, 58.3500, -16.0682, 1195,   1200.6,   5.2912,  35.0434,2,  35.0403,2,    234.4,2,    234.3,2,    14.78,2,    18.91,2,     0.01,2,     1.24,2,    2.165,2,    1.052,2, -999.000,5,   1.8532,2,     7.54,2,   2173.0,2,    791.9,2,   2323.3,2,     7.70,2,25,   20.00,   -999,  0.0000,   0.160,  5.1858,-999.000
     316N151_2,   A24,    65,  1,     14,     14,2,19970613,0316, 58.5328, -16.9500, 1144,      2.6,  10.1928,  35.3193,2,  35.3198,2,    289.1,2,    296.8,2,     0.86,2,     6.08,2,     0.18,2,     0.39,2,    3.808,2,    2.004,2, -999.000,9,-999.0000,9,  -999.00,9,   2088.8,2,   -999.0,9,   2328.0,6,     7.91,6,25, -999.00,   -999,-999.0000,-999.000, 10.1925,-999.000
     316N151_2,   A24,    65,  1,     13,     13,2,19970613,0316, 58.5328, -16.9500, 1144,     35.3,   9.8868,  35.3198,2,  35.3218,2,    290.3,2,    285.1,2,     1.26,2,     7.13,2,     0.17,2,     0.49,2,    3.789,2,    2.005,2, -999.000,9,-999.0000,9,  -999.00,9,   -999.0,9,   -999.0,9,   -999.0,9,  -999.00,9,25, -999.00,   -999,-999.0000,-999.000,  9.8827,-999.000
     316N151_2,   A24,    65,  1,     12,     12,2,19970613,0316, 58.5328, -16.9500, 1144,     84.6,   9.5385,  35.3502,2,  35.3490,2,    276.0,2,    263.3,2,     5.87,2,    11.78,2,     0.06,2,     0.77,2,    3.572,2,    1.885,2, -999.000,9,-999.0000,9,  -999.00,9,   -999.0,9,   -999.0,9,   -999.0,9,  -999.00,9,25, -999.00,   -999,-999.0000,-999.000,  9.5290,-999.000
     316N151_2,   A24,    65,  1,     11,     11,2,19970613,0316, 58.5328, -16.9500, 1144,    195.6,   9.3080,  35.3438,2,  35.3439,2,    256.9,2,    267.0,2,     5.75,2,    12.01,2,     0.01,2,     0.77,2,    3.679,2,    1.939,2, -999.000,9,-999.0000,9,  -999.00,9,   -999.0,9,   -999.0,9,   -999.0,9,  -999.00,9,25, -999.00,   -999,-999.0000,-999.000,  9.2862,-999.000
     316N151_2,   A24,    65,  1,     10,     10,2,19970613,0316, 58.5328, -16.9500, 1144,    285.5,   9.1079,  35.3198,2,  35.3177,2,    260.3,2,    267.0,2,     6.10,2,    12.25,2,     0.01,2,     0.79,2, -999.000,9, -999.000,9, -999.000,9,-999.0000,9,  -999.00,9,   -999.0,9,   -999.0,9,   -999.0,9,  -999.00,9,25, -999.00,   -999,-999.0000,-999.000,  9.0763,-999.000
     316N151_2,   A24,    65,  1,      9,      9,2,19970613,0316, 58.5328, -16.9500, 1144,    396.8,   8.9203,  35.2949,2,  35.2941,2,    260.9,2,    267.2,2,     6.37,2,    12.44,2,     0.01,2,     0.81,2,    3.691,2,    1.930,2, -999.000,9,-999.0000,9,  -999.00,9,   -999.0,9,   -999.0,9,   -999.0,9,  -999.00,9,25, -999.00,   -999,-999.0000,-999.000,  8.8767,-999.000
     316N151_2,   A24,    65,  1,      8,      8,2,19970613,0316, 58.5328, -16.9500, 1144,    507.6,   8.8015,  35.2777,2,  35.2780,2,    266.2,2,    267.7,2,     6.44,2,    12.57,2,     0.01,2,     0.82,2, -999.000,9, -999.000,9, -999.000,9,-999.0000,9,  -999.00,9,   -999.0,9,   -999.0,9,   -999.0,9,  -999.00,9,25, -999.00,   -999,-999.0000,-999.000,  8.7459,-999.000
     316N151_2,   A24,    65,  1,      7,      7,2,19970613,0316, 58.5328, -16.9500, 1144,    607.3,   8.7543,  35.2757,2,  35.2753,2,    257.2,2,    264.9,2,     6.61,2,    12.76,2,     0.01,2,     0.83,2,    3.638,2,    1.913,2, -999.000,9,-999.0000,9,  -999.00,9,   -999.0,9,   -999.0,9,   -999.0,9,  -999.00,9,25, -999.00,   -999,-999.0000,-999.000,  8.6876,-999.000
     316N151_2,   A24,    65,  1,      6,      6,2,19970613,0316, 58.5328, -16.9500, 1144,    708.7,   8.4504,  35.2434,2,  35.2442,2,    250.1,2,    244.6,2,     8.30,2,    14.68,2,     0.00,2,     0.95,2,    3.265,2,    1.672,2, -999.000,9,-999.0000,9,  -999.00,9,   -999.0,9,   -999.0,9,   -999.0,9,  -999.00,9,25, -999.00,   -999,-999.0000,-999.000,  8.3737,-999.000
     316N151_2,   A24,    65,  1,      5,      5,2,19970613,0316, 58.5328, -16.9500, 1144,    808.4,   7.9848,  35.2048,2,  35.2048,2,    230.6,2,    229.8,2,     9.80,2,    16.32,2,     0.00,2,     1.05,2,    2.881,2,    1.445,2, -999.000,9,-999.0000,9,  -999.00,9,   -999.0,9,   -999.0,9,   -999.0,9,  -999.00,9,25, -999.00,   -999,-999.0000,-999.000,  7.8996,-999.000
     316N151_2,   A24,    65,  1,      4,      4,2,19970613,0316, 58.5328, -16.9500, 1144,    858.8,   7.5816,  35.1690,2,  35.1704,2,    231.6,2,    231.1,2,    10.26,2,    16.60,2,     0.00,2,     1.08,2,    2.897,2,    1.446,2, -999.000,9,-999.0000,9,  -999.00,9,   -999.0,9,   -999.0,9,   -999.0,9,  -999.00,9,25, -999.00,   -999,-999.0000,-999.000,  7.4935,-999.000
     316N151_2,   A24,    65,  1,      3,      3,2,19970613,0316, 58.5328, -16.9500, 1144,    910.2,   7.2745,  35.1628,2,  35.1627,2,    229.6,2,    226.7,2,    11.10,2,    17.20,2,     0.00,2,     1.12,2, -999.000,9, -999.000,9, -999.000,9,-999.0000,9,  -999.00,9,   -999.0,9,   -999.0,9,   -999.0,9,  -999.00,9,25, -999.00,   -999,-999.0000,-999.000,  7.1828,-999.000
     316N151_2,   A24,    65,  1,      2,      2,2,19970613,0316, 58.5328, -16.9500, 1144,   1011.0,   6.4322,  35.1179,2,  35.1234,2,    232.3,2,    229.2,2,    12.60,2,    17.66,2,     0.00,2,     1.15,2,    2.490,2,    1.221,2, -999.000,9,-999.0000,9,  -999.00,9,   -999.0,9,   -999.0,9,   -999.0,9,  -999.00,9,25, -999.00,   -999,-999.0000,-999.000,  6.3360,-999.000
     316N151_2,   A24,    65,  1,      1,      1,2,19970613,0316, 58.5328, -16.9500, 1144,   1142.7,   5.8556,  35.0852,2,  35.0846,2,    227.2,2,    227.8,2,    15.26,2,    18.27,2,     0.02,2,     1.19,2,    2.360,2,    1.151,2, -999.000,9,-999.0000,9,  -999.00,9,   -999.0,9,   -999.0,9,   -999.0,9,  -999.00,9,25, -999.00,   -999,-999.0000,-999.000,  5.7509,-999.000