BOTTLE,20220629CCHSIOAMB
EXPOCODE,SECT_ID,STNNBR,CASTNO,SAMPNO,BTLNBR,BTLNBR_FLAG_W,DATE,TIME,LATITUDE,LONGITUDE,DEPTH,CTDPRS,CTDTMP,CTDSAL,CTDSAL_FLAG_W,SALNTY,SALNTY_FLAG_W,CTDOXY,CTDOXY_FLAG_W,OXYGEN,OXYGEN_FLAG_W,SILCAT,SILCAT_FLAG_W,NITRAT,NITRAT_FLAG_W,NITRIT,NITRIT_FLAG_W,PHSPHT,PHSPHT_FLAG_W,CFC-11,CFC-11_FLAG_W,CFC-12,CFC-12_FLAG_W,TRITUM,TRITUM_FLAG_W,HELIUM,HELIUM_FLAG_W,DELHE3,DELHE3_FLAG_W,TCARBN,TCARBN_FLAG_W,PCO2,PCO2_FLAG_W,ALKALI,ALKALI_FLAG_W,PH,PH_FLAG_W,PH_TMP,PCO2TMP,CTDRAW,HELIER,DELHER,THETA,TRITER
,,,,,,,,,,,,DBAR,ITS-90,PSS-78,,PSS-78,,UMOL/KG,,UMOL/KG,,UMOL/KG,,UMOL/KG,,UMOL/KG,,UMOL/KG,,PMOL/KG,,PMOL/KG,,TU,,NMOL/KG,,PERCNT,,UMOL/KG,,UATM,,UMOL/KG,,,,DEG C,DEG C,,NMOL/KG,PERCNT,DEG C,TU
     316N151_2,   A24,   120,  1,     31,     31,2,19970622,2358, 52.3832, -34.5128, 3657,      4.9,  11.1907,  34.9102,2,  34.9105,2,    285.7,2,    286.7,2,     1.78,2,     5.38,2,     0.11,2,     0.43,2, -999.000,9, -999.000,9, -999.000,9,-999.0000,9,  -999.00,9,   2072.4,2,   -999.0,9,   2309.5,6,     7.91,6,25, -999.00,   -999,-999.0000,-999.000, 11.1901,-999.000
     316N151_2,   A24,   120,  1,     30,     30,2,19970622,2358, 52.3832, -34.5128, 3657,     37.1,  10.7584,  34.9594,2,  34.9599,2,    280.5,2,    280.4,2,     1.96,2,     5.74,2,     0.13,2,     0.49,2, -999.000,9, -999.000,9, -999.000,9,-999.0000,9,  -999.00,9,   -999.0,9,   -999.0,9,   -999.0,9,  -999.00,9,25, -999.00,   -999,-999.0000,-999.000, 10.7539,-999.000
     316N151_2,   A24,   120,  1,     29,     29,2,19970622,2358, 52.3832, -34.5128, 3657,     86.5,   8.3550,  34.9501,2,  34.9499,2,    270.6,2,    269.4,2,     5.48,2,    11.44,2,     0.20,2,     0.81,2, -999.000,9, -999.000,9, -999.000,9,-999.0000,9,  -999.00,9,   -999.0,9,   -999.0,9,   -999.0,9,  -999.00,9,25, -999.00,   -999,-999.0000,-999.000,  8.3461,-999.000
     316N151_2,   A24,   120,  1,     28,     28,2,19970622,2358, 52.3832, -34.5128, 3657,    156.8,   6.4665,  34.8691,2,  34.8692,2,    264.9,2,    274.3,2,     8.19,2,    14.78,2,     0.01,2,     0.99,2, -999.000,9, -999.000,9, -999.000,9,-999.0000,9,  -999.00,9,   -999.0,9,   -999.0,9,   -999.0,9,  -999.00,9,25, -999.00,   -999,-999.0000,-999.000,  6.4526,-999.000
     316N151_2,   A24,   120,  1,     27,     27,2,19970622,2358, 52.3832, -34.5128, 3657,    228.5,   5.8653,  34.8399,2,  34.8378,2,    258.3,2,    261.4,2,     9.48,2,    16.10,2,     0.01,2,     1.08,2, -999.000,9, -999.000,9, -999.000,9,-999.0000,9,  -999.00,9,   -999.0,9,   -999.0,9,   -999.0,9,  -999.00,9,25, -999.00,   -999,-999.0000,-999.000,  5.8459,-999.000
     316N151_2,   A24,   120,  1,     26,     26,2,19970622,2358, 52.3832, -34.5128, 3657,    328.5,   5.9582,  34.9516,2,  34.9526,2,    267.0,2,    263.7,2,     9.26,2,    16.29,2,     0.01,2,     1.08,2, -999.000,9, -999.000,9, -999.000,9,-999.0000,9,  -999.00,9,   -999.0,9,   -999.0,9,   -999.0,9,  -999.00,9,25, -999.00,   -999,-999.0000,-999.000,  5.9298,-999.000
     316N151_2,   A24,   120,  1,     25,     25,2,19970622,2358, 52.3832, -34.5128, 3657,    427.3,   5.4093,  34.9419,2,  34.9436,2,    244.0,2,    242.8,2,    10.86,2,    18.09,2,     0.01,2,     1.19,2, -999.000,9, -999.000,9, -999.000,9,-999.0000,9,  -999.00,9,   -999.0,9,   -999.0,9,   -999.0,9,  -999.00,9,25, -999.00,   -999,-999.0000,-999.000,  5.3738,-999.000
     316N151_2,   A24,   120,  1,     24,     24,2,19970622,2358, 52.3832, -34.5128, 3657,    506.2,   4.7698,  34.9103,2,  34.9110,2,    240.3,2,    242.0,2,    11.65,2,    18.46,2,     0.01,2,     1.22,2, -999.000,9, -999.000,9, -999.000,9,-999.0000,9,  -999.00,9,   -999.0,9,   -999.0,9,   -999.0,9,  -999.00,9,25, -999.00,   -999,-999.0000,-999.000,  4.7300,-999.000
     316N151_2,   A24,   120,  1,     23,     23,2,19970622,2358, 52.3832, -34.5128, 3657,    606.7,   4.4182,  34.9159,2,  34.9141,2,    248.4,2,    251.7,2,    11.43,2,    18.14,2,     0.00,2,     1.20,2,    2.956,2,    1.450,2, -999.000,9,-999.0000,9,  -999.00,9,   -999.0,9,   -999.0,9,   -999.0,9,  -999.00,9,25, -999.00,   -999,-999.0000,-999.000,  4.3717,-999.000
     316N151_2,   A24,   120,  1,     22,     22,2,19970622,2358, 52.3832, -34.5128, 3657,    673.4,   4.4388,  34.9526,2,  34.9492,2,    262.6,2,    252.5,2,    11.72,2,    18.13,2,     0.01,2,     1.19,2,    2.631,2,    1.284,2, -999.000,9,-999.0000,9,  -999.00,9,   -999.0,9,   -999.0,9,   -999.0,9,  -999.00,9,25, -999.00,   -999,-999.0000,-999.000,  4.3867,-999.000
     316N151_2,   A24,   120,  1,     21,     21,2,19970622,2358, 52.3832, -34.5128, 3657,    803.3,   4.1071,  34.9340,2,  34.9334,2,    264.2,2,    261.1,2,    11.50,2,    17.85,2,     0.00,2,     1.17,2,    2.704,2,    1.312,2, -999.000,9,-999.0000,9,  -999.00,9,   -999.0,9,   -999.0,9,   -999.0,9,  -999.00,9,25, -999.00,   -999,-999.0000,-999.000,  4.0463,-999.000
     316N151_2,   A24,   120,  1,     20,     20,2,19970622,2358, 52.3832, -34.5128, 3657,    952.1,   3.8500,  34.9220,2,  34.9212,2,    267.8,2,    268.3,2,    11.18,2,    17.43,2,     0.00,2,     1.14,2,    2.647,2,    1.283,2, -999.000,9,-999.0000,9,  -999.00,9,   -999.0,9,   -999.0,9,   -999.0,9,  -999.00,9,25, -999.00,   -999,-999.0000,-999.000,  3.7788,-999.000
     316N151_2,   A24,   120,  1,     19,     19,2,19970622,2358, 52.3832, -34.5128, 3657,   1054.1,   3.6909,  34.9137,2,  34.9122,2,    275.5,2,    271.5,2,    11.16,2,    17.28,2,     0.00,2,     1.14,2,    2.635,2,    1.260,2, -999.000,9,-999.0000,9,  -999.00,9,   -999.0,9,   -999.0,9,   -999.0,9,  -999.00,9,25, -999.00,   -999,-999.0000,-999.000,  3.6125,-999.000
     316N151_2,   A24,   120,  1,     18,     18,2,19970622,2358, 52.3832, -34.5128, 3657,   1155.7,   3.5349,  34.9022,2,  34.9016,2,    274.3,2,    276.2,2,    11.14,2,    17.14,2,     0.00,2,     1.13,2, -999.000,9, -999.000,9, -999.000,9,-999.0000,9,  -999.00,9,   -999.0,9,   -999.0,9,   -999.0,9,  -999.00,9,25, -999.00,   -999,-999.0000,-999.000,  3.4495,-999.000
     316N151_2,   A24,   120,  1,     17,     17,2,19970622,2358, 52.3832, -34.5128, 3657,   1259.4,   3.4184,  34.8922,2,  34.8927,2,    279.1,2,    279.4,2,    11.12,2,    17.05,2,     0.00,2,     1.13,2, -999.000,9, -999.000,9, -999.000,9,-999.0000,9,  -999.00,9,   -999.0,9,   -999.0,9,   -999.0,9,  -999.00,9,25, -999.00,   -999,-999.0000,-999.000,  3.3255,-999.000
     316N151_2,   A24,   120,  1,     16,     16,2,19970622,2358, 52.3832, -34.5128, 3657,   1359.6,   3.3586,  34.8928,2,  34.8934,2,    277.7,2,    280.9,2,    11.11,2,    16.91,2,     0.00,2,     1.12,2, -999.000,9, -999.000,9, -999.000,9,-999.0000,9,  -999.00,9,   -999.0,9,   -999.0,9,   -999.0,9,  -999.00,9,25, -999.00,   -999,-999.0000,-999.000,  3.2579,-999.000
     316N151_2,   A24,   120,  1,     15,     15,2,19970622,2358, 52.3832, -34.5128, 3657,   1459.8,   3.3849,  34.9086,2,  34.9069,2,    277.0,2,    278.9,2,    11.19,2,    16.76,2,     0.00,2,     1.11,2, -999.000,9, -999.000,9, -999.000,9,-999.0000,9,  -999.00,9,   -999.0,9,   -999.0,9,   -999.0,9,  -999.00,9,25, -999.00,   -999,-999.0000,-999.000,  3.2753,-999.000
     316N151_2,   A24,   120,  1,     14,     14,2,19970622,2358, 52.3832, -34.5128, 3657,   1612.4,   3.2799,  34.9088,2,  34.9095,2,    279.5,2,    280.5,2,    11.37,2,    16.62,2,     0.00,2,     1.10,2, -999.000,9, -999.000,9, -999.000,9,-999.0000,9,  -999.00,9,   -999.0,9,   -999.0,9,   -999.0,9,  -999.00,9,25, -999.00,   -999,-999.0000,-999.000,  3.1582,-999.000
     316N151_2,   A24,   120,  1,     13,     13,2,19970622,2358, 52.3832, -34.5128, 3657,   1765.2,   3.2530,  34.9241,2,  34.9253,2,    274.9,2,    278.3,2,    11.76,2,    16.53,2,     0.00,2,     1.10,2, -999.000,9, -999.000,9, -999.000,9,-999.0000,9,  -999.00,9,   -999.0,9,   -999.0,9,   -999.0,9,  -999.00,9,25, -999.00,   -999,-999.0000,-999.000,  3.1181,-999.000
     316N151_2,   A24,   120,  1,     12,     12,2,19970622,2358, 52.3832, -34.5128, 3657,   1919.8,   3.2142,  34.9387,2,  34.9381,2,    273.8,2,    276.3,2,    12.25,2,    16.43,2,     0.00,2,     1.09,2, -999.000,9, -999.000,9, -999.000,9,-999.0000,9,  -999.00,9,   -999.0,9,   -999.0,9,   -999.0,9,  -999.00,9,25, -999.00,   -999,-999.0000,-999.000,  3.0658,-999.000
     316N151_2,   A24,   120,  1,     11,     11,2,19970622,2358, 52.3832, -34.5128, 3657,   2071.4,   3.1345,  34.9391,2,  34.9397,2,    273.0,2,    275.4,2,    12.84,2,    16.43,2,     0.00,2,     1.09,2, -999.000,9, -999.000,9, -999.000,9,-999.0000,9,  -999.00,9,   -999.0,9,   -999.0,9,   -999.0,9,  -999.00,9,25, -999.00,   -999,-999.0000,-999.000,  2.9733,-999.000
     316N151_2,   A24,   120,  1,     10,     10,2,19970622,2358, 52.3832, -34.5128, 3657,   2224.8,   3.0626,  34.9461,2,  34.9464,2,    270.3,2,    274.6,2,    13.43,2,    16.38,2,     0.00,2,     1.09,2, -999.000,9, -999.000,9, -999.000,9,-999.0000,9,  -999.00,9,   -999.0,9,   -999.0,9,   -999.0,9,  -999.00,9,25, -999.00,   -999,-999.0000,-999.000,  2.8881,-999.000
     316N151_2,   A24,   120,  1,      9,      9,2,19970622,2358, 52.3832, -34.5128, 3657,   2376.4,   2.9908,  34.9422,2,  34.9432,2,    270.3,2,    274.3,2,    14.12,2,    16.47,2,     0.00,2,     1.10,2, -999.000,9, -999.000,9, -999.000,9,-999.0000,9,  -999.00,9,   -999.0,9,   -999.0,9,   -999.0,9,  -999.00,9,25, -999.00,   -999,-999.0000,-999.000,  2.8031,-999.000
     316N151_2,   A24,   120,  1,      8,      8,2,19970622,2358, 52.3832, -34.5128, 3657,   2580.7,   2.9088,  34.9430,2,  34.9436,2,    273.6,2,    273.8,2,    14.91,2,    16.52,2,     0.00,2,     1.10,2, -999.000,9, -999.000,9, -999.000,9,-999.0000,9,  -999.00,9,   -999.0,9,   -999.0,9,   -999.0,9,  -999.00,9,25, -999.00,   -999,-999.0000,-999.000,  2.7026,-999.000
     316N151_2,   A24,   120,  1,      7,      7,2,19970622,2358, 52.3832, -34.5128, 3657,   2784.5,   2.8677,  34.9475,2,  34.9464,2,    273.0,2,    272.8,2,    15.80,2,    16.61,2,     0.00,2,     1.11,2, -999.000,9, -999.000,9, -999.000,9,-999.0000,9,  -999.00,9,   -999.0,9,   -999.0,9,   -999.0,9,  -999.00,9,25, -999.00,   -999,-999.0000,-999.000,  2.6419,-999.000
     316N151_2,   A24,   120,  1,      6,      6,2,19970622,2358, 52.3832, -34.5128, 3657,   2988.1,   2.8159,  34.9452,2,  34.9452,2,    271.2,2,    271.9,2,    16.79,2,    16.71,2,     0.00,2,     1.12,2, -999.000,9, -999.000,9, -999.000,9,-999.0000,9,  -999.00,9,   -999.0,9,   -999.0,9,   -999.0,9,  -999.00,9,25, -999.00,   -999,-999.0000,-999.000,  2.5703,-999.000
     316N151_2,   A24,   120,  1,      5,      5,2,19970622,2358, 52.3832, -34.5128, 3657,   3191.4,   2.7727,  34.9402,2,  34.9401,2,    272.3,2,    271.9,2,    17.38,2,    16.75,2,     0.00,2,     1.12,2, -999.000,9, -999.000,9, -999.000,9,-999.0000,9,  -999.00,9,   -999.0,9,   -999.0,9,   -999.0,9,  -999.00,9,25, -999.00,   -999,-999.0000,-999.000,  2.5067,-999.000
     316N151_2,   A24,   120,  1,      4,      4,2,19970622,2358, 52.3832, -34.5128, 3657,   3344.0,   2.7540,  34.9376,2,  34.9395,2,    273.0,2,    271.5,2,    17.97,2,    16.85,2,     0.00,2,     1.12,2, -999.000,9, -999.000,9, -999.000,9,-999.0000,9,  -999.00,9,   -999.0,9,   -999.0,9,   -999.0,9,  -999.00,9,25, -999.00,   -999,-999.0000,-999.000,  2.4721,-999.000
     316N151_2,   A24,   120,  1,      3,      3,2,19970622,2358, 52.3832, -34.5128, 3657,   3497.7,   2.6754,  34.9299,2,  34.9289,2,    274.9,2,    273.7,2,    17.65,2,    16.75,2,     0.00,2,     1.12,2, -999.000,9, -999.000,9, -999.000,9,-999.0000,9,  -999.00,9,   -999.0,9,   -999.0,9,   -999.0,9,  -999.00,9,25, -999.00,   -999,-999.0000,-999.000,  2.3788,-999.000
     316N151_2,   A24,   120,  1,      2,      2,2,19970622,2358, 52.3832, -34.5128, 3657,   3650.5,   2.5734,  34.9196,2,  34.9193,2,    275.7,2,    275.0,2,    17.74,2,    16.61,2,     0.00,2,     1.12,2, -999.000,9, -999.000,9, -999.000,9,-999.0000,9,  -999.00,9,   -999.0,9,   -999.0,9,   -999.0,9,  -999.00,9,25, -999.00,   -999,-999.0000,-999.000,  2.2626,-999.000
     316N151_2,   A24,   120,  1,      1,      1,2,19970622,2358, 52.3832, -34.5128, 3657,   3734.2,   2.5573,  34.9170,2,  34.9171,2,    277.1,2,    276.4,2,    17.82,2,    16.61,2,     0.00,2,     1.12,2, -999.000,9, -999.000,9, -999.000,9,-999.0000,9,  -999.00,9,   -999.0,9,   -999.0,9,   -999.0,9,  -999.00,9,25, -999.00,   -999,-999.0000,-999.000,  2.2376,-999.000