BOTTLE,20220629CCHSIOAMB
EXPOCODE,SECT_ID,STNNBR,CASTNO,SAMPNO,BTLNBR,BTLNBR_FLAG_W,DATE,TIME,LATITUDE,LONGITUDE,DEPTH,CTDPRS,CTDTMP,CTDSAL,CTDSAL_FLAG_W,SALNTY,SALNTY_FLAG_W,CTDOXY,CTDOXY_FLAG_W,OXYGEN,OXYGEN_FLAG_W,SILCAT,SILCAT_FLAG_W,NITRAT,NITRAT_FLAG_W,NITRIT,NITRIT_FLAG_W,PHSPHT,PHSPHT_FLAG_W,CFC-11,CFC-11_FLAG_W,CFC-12,CFC-12_FLAG_W,TRITUM,TRITUM_FLAG_W,HELIUM,HELIUM_FLAG_W,DELHE3,DELHE3_FLAG_W,TCARBN,TCARBN_FLAG_W,PCO2,PCO2_FLAG_W,ALKALI,ALKALI_FLAG_W,PH,PH_FLAG_W,PH_TMP,PCO2TMP,CTDRAW,HELIER,DELHER,THETA,TRITER
,,,,,,,,,,,,DBAR,ITS-90,PSS-78,,PSS-78,,UMOL/KG,,UMOL/KG,,UMOL/KG,,UMOL/KG,,UMOL/KG,,UMOL/KG,,PMOL/KG,,PMOL/KG,,TU,,NMOL/KG,,PERCNT,,UMOL/KG,,UATM,,UMOL/KG,,,,DEG C,DEG C,,NMOL/KG,PERCNT,DEG C,TU
     316N151_2,   A24,   124,  1,     31,     31,2,19970623,2051, 50.5167, -33.3500, 4111,      3.8,  12.4059,  35.2196,2,  35.2186,2,    287.8,2,    275.3,2,     0.89,2,     3.04,2,     0.09,2,     0.29,2, -999.000,9, -999.000,9,    1.538,2,   1.8215,2,    -1.54,2,   -999.0,9,    422.6,2,   2326.3,6,     7.93,2,25,   20.00,   -999,  0.0000,   0.170, 12.4054,   0.031
     316N151_2,   A24,   124,  1,     30,     30,2,19970623,2051, 50.5167, -33.3500, 4111,     56.7,  10.2314,  35.1028,2,  35.1036,2,    268.9,2,    268.0,2,     3.60,2,     6.81,2,     0.25,2,     0.58,2, -999.000,9, -999.000,9,    1.537,2,   1.8146,2,    -1.48,2,   -999.0,9,   -999.0,9,   -999.0,9,  -999.00,9,25, -999.00,   -999,  0.0000,   0.170, 10.2247,   0.034
     316N151_2,   A24,   124,  1,     29,     29,2,19970623,2051, 50.5167, -33.3500, 4111,    108.2,   9.2105,  35.1085,2,  35.1012,2,    250.6,2,    248.4,2,     6.32,2,    12.33,2,     0.07,2,     0.82,2, -999.000,9, -999.000,9,    1.527,2,   1.7965,2,    -0.38,2,   2071.6,2,   -999.0,9,   -999.0,9,  -999.00,9,25, -999.00,   -999,  0.0000,   0.170,  9.1986,   0.028
     316N151_2,   A24,   124,  1,     28,     28,2,19970623,2051, 50.5167, -33.3500, 4111,    157.6,   8.3357,  35.0663,2,  35.0711,2,    240.9,2,    243.1,2,     8.03,2,    14.63,2,     0.02,2,     0.97,2, -999.000,9, -999.000,9,    1.401,2,   1.8255,2,     0.44,2,   -999.0,9,   -999.0,9,   -999.0,9,  -999.00,9,25, -999.00,   -999,  0.0000,   0.170,  8.3194,   0.027
     316N151_2,   A24,   124,  1,     27,     27,2,19970623,2051, 50.5167, -33.3500, 4111,    248.6,   7.0717,  34.9393,2,  34.9491,2,    237.3,2,    244.3,2,     9.23,2,    15.91,2,     0.02,2,     1.06,2, -999.000,9, -999.000,9,    1.438,2,   1.8356,2,     1.07,2,   -999.0,9,   -999.0,9,   -999.0,9,  -999.00,9,25, -999.00,   -999,  0.0000,   0.170,  7.0482,   0.024
     316N151_2,   A24,   124,  1,     26,     26,2,19970623,2051, 50.5167, -33.3500, 4111,    323.0,   5.6913,  34.8293,2,  34.8277,2,    240.3,2,    260.1,2,     9.52,2,    16.19,2,     0.01,2,     1.09,2, -999.000,9, -999.000,9, -999.000,9,-999.0000,9,  -999.00,9,   -999.0,9,   -999.0,9,   -999.0,9,  -999.00,9,25, -999.00,   -999,-999.0000,-999.000,  5.6641,-999.000
     316N151_2,   A24,   124,  1,     25,     25,2,19970623,2051, 50.5167, -33.3500, 4111,    358.5,   5.6241,  34.8654,2,  34.8633,2,    235.4,2,    238.6,2,    10.82,2,    17.75,2,     0.01,2,     1.19,2, -999.000,9, -999.000,9,    1.303,2,   1.8458,2,     3.11,2,   -999.0,9,   -999.0,9,   -999.0,9,  -999.00,9,25, -999.00,   -999,  0.0000,   0.170,  5.5939,   0.025
     316N151_2,   A24,   124,  1,     24,     24,2,19970623,2051, 50.5167, -33.3500, 4111,    408.7,   5.2762,  34.8717,2,  34.8734,2,    236.7,2,    236.1,2,    11.32,2,    18.22,2,     0.01,2,     1.22,2, -999.000,9, -999.000,9,    1.164,2,   2.7775,4,   -46.72,4,   -999.0,9,   -999.0,9,   -999.0,9,  -999.00,9,25, -999.00,   -999,  0.0000,   0.180,  5.2428,   0.025
     316N151_2,   A24,   124,  1,     23,     23,2,19970623,2051, 50.5167, -33.3500, 4111,    510.8,   4.8507,  34.9205,2,  34.9210,2,    241.7,2,    239.4,2,    11.71,2,    18.47,2,     0.00,2,     1.22,2, -999.000,9, -999.000,9,    1.280,2,   1.8649,2,     5.00,2,   -999.0,9,   -999.0,9,   -999.0,9,  -999.00,9,25, -999.00,   -999,  0.0000,   0.170,  4.8102,   0.023
     316N151_2,   A24,   124,  1,     22,     22,2,19970623,2051, 50.5167, -33.3500, 4111,    610.8,   4.5254,  34.9359,2,  34.9348,2,    250.0,2,    250.3,2,    11.49,2,    18.09,2,     0.00,2,     1.20,2, -999.000,9, -999.000,9,    1.253,2,   1.8561,2,     5.30,2,   -999.0,9,   -999.0,9,   -999.0,9,  -999.00,9,25, -999.00,   -999,  0.0000,   0.160,  4.4781,   0.026
     316N151_2,   A24,   124,  1,     21,     21,2,19970623,2051, 50.5167, -33.3500, 4111,    710.0,   4.4010,  34.9496,2,  34.9549,2,    255.0,2,    253.1,2,    11.58,2,    18.10,2,     0.00,2,     1.19,2, -999.000,9, -999.000,9,    1.252,2,   1.8623,2,     6.33,2,   -999.0,9,   -999.0,9,   -999.0,9,  -999.00,9,25, -999.00,   -999,  0.0000,   0.160,  4.3461,   0.022
     316N151_2,   A24,   124,  1,     20,     20,2,19970623,2051, 50.5167, -33.3500, 4111,    812.8,   4.1532,  34.9410,2,  34.9433,2,    260.8,2,    260.4,2,    11.46,2,    17.86,2,     0.00,2,     1.18,2, -999.000,9, -999.000,9, -999.000,9,-999.0000,9,  -999.00,9,   -999.0,9,   -999.0,9,   -999.0,9,  -999.00,9,25, -999.00,   -999,-999.0000,-999.000,  4.0913,-999.000
     316N151_2,   A24,   124,  1,     19,     19,2,19970623,2051, 50.5167, -33.3500, 4111,    912.7,   3.9564,  34.9270,2,  34.9283,2,    266.7,2,    265.6,2,    11.35,2,    17.73,2,     0.00,2,     1.16,2, -999.000,9, -999.000,9,    1.230,2,   1.8618,2,     6.39,2,   -999.0,9,   -999.0,9,   -999.0,9,  -999.00,9,25, -999.00,   -999,  0.0000,   0.160,  3.8876,   0.024
     316N151_2,   A24,   124,  1,     18,     18,2,19970623,2051, 50.5167, -33.3500, 4111,   1014.5,   3.7467,  34.9151,2,  34.9146,2,    271.5,2,    270.9,2,    11.33,2,    17.54,2,     0.00,2,     1.16,2, -999.000,9, -999.000,9, -999.000,9,-999.0000,9,  -999.00,9,   -999.0,9,   -999.0,9,   -999.0,9,  -999.00,9,25, -999.00,   -999,-999.0000,-999.000,  3.6711,-999.000
     316N151_2,   A24,   124,  1,     17,     17,2,19970623,2051, 50.5167, -33.3500, 4111,   1115.0,   3.6324,  34.9054,2,  34.9044,2,    274.8,2,    274.1,2,    11.22,2,    17.45,2,     0.00,2,     1.15,2, -999.000,9, -999.000,9,   -0.043,4,   1.8487,2,     6.53,2,   -999.0,9,   -999.0,9,   -999.0,9,  -999.00,9,25, -999.00,   -999,  0.0000,   0.160,  3.5495,   0.100
     316N151_2,   A24,   124,  1,     16,     16,2,19970623,2051, 50.5167, -33.3500, 4111,   1214.2,   3.4883,  34.8917,2,  34.8884,2,    275.3,2,    278.5,2,    11.10,2,    17.31,2,     0.00,2,     1.14,2, -999.000,9, -999.000,9,    1.302,2,   1.8651,2,     5.98,2,   -999.0,9,   -999.0,9,   -999.0,9,  -999.00,9,25, -999.00,   -999,  0.0000,   0.160,  3.3985,   0.023
     316N151_2,   A24,   124,  1,     15,     15,2,19970623,2051, 50.5167, -33.3500, 4111,   1315.7,   3.4093,  34.8877,2,  34.8847,2,    278.4,2,    280.1,2,    11.29,2,    17.17,2,     0.00,2,     1.14,2, -999.000,9, -999.000,9,    1.260,2,   1.8778,2,     5.95,2,   -999.0,9,   -999.0,9,   -999.0,9,  -999.00,9,25, -999.00,   -999,  0.0000,   0.160,  3.3118,   0.020
     316N151_2,   A24,   124,  1,     14,     14,2,19970623,2051, 50.5167, -33.3500, 4111,   1516.4,   3.2851,  34.8812,2,  34.8804,2,    279.3,2,    283.5,2,    11.38,2,    17.08,2,     0.00,2,     1.13,2,    2.794,2,    1.353,2,    0.615,3,   1.8674,2,     5.66,2,   -999.0,9,   -999.0,9,   -999.0,9,  -999.00,9,25, -999.00,   -999,  0.0000,   0.160,  3.1718,   0.019
     316N151_2,   A24,   124,  1,     13,     13,2,19970623,2051, 50.5167, -33.3500, 4111,   1720.6,   3.2095,  34.8810,2,  34.8796,2,    280.5,2,    284.2,2,    11.56,2,    16.99,2,     0.00,2,     1.12,2,    2.660,2,    1.293,2,    1.262,2,   1.8590,2,     6.32,2,   -999.0,9,   -999.0,9,   -999.0,9,  -999.00,9,25, -999.00,   -999,  0.0000,   0.160,  3.0793,   0.022
     316N151_2,   A24,   124,  1,     12,     12,2,19970623,2051, 50.5167, -33.3500, 4111,   1922.3,   3.1774,  34.8888,2,  34.8871,2,    279.6,2,    282.6,2,    12.06,2,    16.99,2,     0.00,2,     1.13,2,    2.424,2,    1.171,2,    1.190,2,   1.8635,2,     6.42,2,   -999.0,9,   -999.0,9,   -999.0,9,  -999.00,9,25, -999.00,   -999,  0.0000,   0.160,  3.0295,   0.023
     316N151_2,   A24,   124,  1,     11,     11,2,19970623,2051, 50.5167, -33.3500, 4111,   2123.2,   3.1674,  34.9028,2,  34.9019,2,    278.1,2,    279.9,2,    12.65,2,    16.95,2,     0.00,2,     1.12,2,    2.127,2,    1.026,2, -999.000,9,-999.0000,9,  -999.00,9,   -999.0,9,   -999.0,9,   -999.0,9,  -999.00,9,25, -999.00,   -999,-999.0000,-999.000,  3.0010,-999.000
     316N151_2,   A24,   124,  1,     10,     10,2,19970623,2051, 50.5167, -33.3500, 4111,   2328.7,   3.1510,  34.9197,2,  34.9184,2,    276.3,2,    274.6,2,    14.26,2,    17.04,2,     0.00,2,     1.13,2,    1.553,2,    0.756,2,    0.903,2,   1.8770,2,     7.49,2,   -999.0,9,   -999.0,9,   -999.0,9,  -999.00,9,25, -999.00,   -999,  0.0000,   0.160,  2.9652,   0.019
     316N151_2,   A24,   124,  1,      9,      9,2,19970623,2051, 50.5167, -33.3500, 4111,   2529.7,   3.0672,  34.9273,2,  34.9287,2,    275.1,2,    273.6,2,    14.86,2,    16.95,2,     0.00,2,     1.13,2, -999.000,9, -999.000,9, -999.000,9,-999.0000,9,  -999.00,9,   -999.0,9,   -999.0,9,   -999.0,9,  -999.00,9,25, -999.00,   -999,-999.0000,-999.000,  2.8632,-999.000
     316N151_2,   A24,   124,  1,      8,      8,2,19970623,2051, 50.5167, -33.3500, 4111,   2732.7,   2.9733,  34.9299,2,  34.9304,2,    274.3,2,    274.7,2,    14.54,2,    16.72,2,     0.00,2,     1.11,2, -999.000,9, -999.000,9, -999.000,5,   1.8962,2,     7.40,2,   -999.0,9,   -999.0,9,   -999.0,9,  -999.00,9,25, -999.00,   -999,  0.0000,   0.160,  2.7507,-999.000
     316N151_2,   A24,   124,  1,      7,      7,2,19970623,2051, 50.5167, -33.3500, 4111,   2935.5,   2.8487,  34.9304,2,  34.9295,2,    274.2,2,    273.7,2,    15.74,2,    16.77,2,     0.00,2,     1.12,2, -999.000,9, -999.000,9, -999.000,9,-999.0000,9,  -999.00,9,   -999.0,9,   -999.0,9,   -999.0,9,  -999.00,9,25, -999.00,   -999,-999.0000,-999.000,  2.6079,-999.000
     316N151_2,   A24,   124,  1,      6,      6,2,19970623,2051, 50.5167, -33.3500, 4111,   3138.2,   2.6750,  34.9240,2,  34.9232,2,    273.7,2,    274.6,2,    16.75,2,    16.72,2,     0.00,2,     1.12,2, -999.000,9, -999.000,9,    0.928,2,   1.8740,2,     7.39,2,   -999.0,9,   -999.0,9,   -999.0,9,  -999.00,9,25, -999.00,   -999,  0.0000,   0.160,  2.4170,   0.023
     316N151_2,   A24,   124,  1,      5,      5,2,19970623,2051, 50.5167, -33.3500, 4111,   3344.0,   2.5353,  34.9163,2,  34.9149,2,    273.8,2,    275.4,2,    17.65,2,    16.72,2,     0.00,2,     1.12,2, -999.000,9, -999.000,9, -999.000,9,-999.0000,9,  -999.00,9,   -999.0,9,   -999.0,9,   -999.0,9,  -999.00,9,25, -999.00,   -999,-999.0000,-999.000,  2.2588,-999.000
     316N151_2,   A24,   124,  1,      4,      4,2,19970623,2051, 50.5167, -33.3500, 4111,   3550.7,   2.4791,  34.9102,2,  34.9118,2,    274.2,2,    276.0,2,    17.94,2,    16.68,2,     0.00,2,     1.12,2,    1.279,2,    0.616,2,    0.819,2,   1.8698,2,     7.21,2,   -999.0,9,   -999.0,9,   -999.0,9,  -999.00,9,25, -999.00,   -999,  0.0000,   0.160,  2.1817,   0.017
     316N151_2,   A24,   124,  1,      3,      3,2,19970623,2051, 50.5167, -33.3500, 4111,   3752.4,   2.4354,  34.9079,2,  34.9085,2,    274.8,2,    276.8,2,    18.13,2,    16.59,2,     0.00,2,     1.11,2, -999.000,9, -999.000,9,    0.664,2,   1.8727,2,     7.11,2,   -999.0,9,   -999.0,9,   -999.0,9,  -999.00,9,25, -999.00,   -999,  0.0000,   0.160,  2.1169,   0.019
     316N151_2,   A24,   124,  1,      2,      2,2,19970623,2051, 50.5167, -33.3500, 4111,   3957.9,   2.4154,  34.9054,2,  34.9051,2,    274.8,2,    276.9,2,    18.32,2,    16.59,2,     0.00,2,     1.11,2,    1.383,2,    0.672,2, -999.000,5,   1.8783,2,     6.81,2,   -999.0,9,   -999.0,9,   -999.0,9,  -999.00,9,25, -999.00,   -999,  0.0000,   0.150,  2.0742,-999.000
     316N151_2,   A24,   124,  1,      1,      1,2,19970623,2051, 50.5167, -33.3500, 4111,   4056.0,   2.4152,  34.9030,2,  34.9040,2,    275.8,2,    275.9,2,    18.51,2,    16.64,2,     0.00,2,     1.12,2, -999.000,9, -999.000,9,    0.652,2,   1.8764,2,     7.06,2,   -999.0,9,   -999.0,9,   -999.0,9,  -999.00,9,25, -999.00,   -999,  0.0000,   0.160,  2.0628,   0.111