BOTTLE,20220629CCHSIOAMB
EXPOCODE,SECT_ID,STNNBR,CASTNO,SAMPNO,BTLNBR,BTLNBR_FLAG_W,DATE,TIME,LATITUDE,LONGITUDE,DEPTH,CTDPRS,CTDTMP,CTDSAL,CTDSAL_FLAG_W,SALNTY,SALNTY_FLAG_W,CTDOXY,CTDOXY_FLAG_W,OXYGEN,OXYGEN_FLAG_W,SILCAT,SILCAT_FLAG_W,NITRAT,NITRAT_FLAG_W,NITRIT,NITRIT_FLAG_W,PHSPHT,PHSPHT_FLAG_W,CFC-11,CFC-11_FLAG_W,CFC-12,CFC-12_FLAG_W,TRITUM,TRITUM_FLAG_W,HELIUM,HELIUM_FLAG_W,DELHE3,DELHE3_FLAG_W,TCARBN,TCARBN_FLAG_W,PCO2,PCO2_FLAG_W,ALKALI,ALKALI_FLAG_W,PH,PH_FLAG_W,PH_TMP,PCO2TMP,CTDRAW,HELIER,DELHER,THETA,TRITER
,,,,,,,,,,,,DBAR,ITS-90,PSS-78,,PSS-78,,UMOL/KG,,UMOL/KG,,UMOL/KG,,UMOL/KG,,UMOL/KG,,UMOL/KG,,PMOL/KG,,PMOL/KG,,TU,,NMOL/KG,,PERCNT,,UMOL/KG,,UATM,,UMOL/KG,,,,DEG C,DEG C,,NMOL/KG,PERCNT,DEG C,TU
     316N151_2,   A24,    88,  1,     30,     30,2,19970616,1740, 63.5038, -34.9460, 2468,      3.6,   8.1289,  35.0150,2,  35.0141,2,    302.0,2,    308.7,2,     0.96,2,     8.11,2,     0.13,2,     0.55,2, -999.000,9, -999.000,9, -999.000,9,-999.0000,9,  -999.00,9,   2103.0,2,   -999.0,9,   2315.7,6,     7.86,6,25, -999.00,   -999,-999.0000,-999.000,  8.1286,-999.000
     316N151_2,   A24,    88,  1,     29,     29,2,19970616,1740, 63.5038, -34.9460, 2468,     46.1,   6.9884,  35.0238,2,  35.0222,2,    308.7,2,    306.4,2,     1.43,2,     9.54,2,     0.17,2,     0.65,2, -999.000,9, -999.000,9, -999.000,9,-999.0000,9,  -999.00,9,   -999.0,9,   -999.0,9,   -999.0,9,  -999.00,9,25, -999.00,   -999,-999.0000,-999.000,  6.9841,-999.000
     316N151_2,   A24,    88,  1,     28,     28,2,19970616,1740, 63.5038, -34.9460, 2468,     85.3,   6.1866,  35.0327,2,  35.0310,2,    286.6,2,    287.9,2,     7.82,2,    13.74,2,     0.24,2,     0.99,2, -999.000,9, -999.000,9, -999.000,9,-999.0000,9,  -999.00,9,   -999.0,9,   -999.0,9,   -999.0,9,  -999.00,9,25, -999.00,   -999,-999.0000,-999.000,  6.1792,-999.000
     316N151_2,   A24,    88,  1,     27,     27,2,19970616,1740, 63.5038, -34.9460, 2468,    154.9,   5.7650,  35.0027,2,  35.0013,2,    283.6,2,    285.1,2,     8.49,2,    15.01,2,     0.11,2,     1.01,2, -999.000,9, -999.000,9, -999.000,9,-999.0000,9,  -999.00,9,   -999.0,9,   -999.0,9,   -999.0,9,  -999.00,9,25, -999.00,   -999,-999.0000,-999.000,  5.7520,-999.000
     316N151_2,   A24,    88,  1,     26,     26,2,19970616,1740, 63.5038, -34.9460, 2468,    253.6,   5.3123,  34.9714,2,  34.9716,2,    283.0,2,    278.9,2,     9.17,2,    15.86,2,     0.02,2,     1.06,2, -999.000,9, -999.000,9, -999.000,9,-999.0000,9,  -999.00,9,   -999.0,9,   -999.0,9,   -999.0,9,  -999.00,9,25, -999.00,   -999,-999.0000,-999.000,  5.2917,-999.000
     316N151_2,   A24,    88,  1,     25,     25,2,19970616,1740, 63.5038, -34.9460, 2468,    353.5,   4.9607,  34.9538,2,  34.9532,2,    277.2,2,    280.1,2,     9.35,2,    16.01,2,     0.01,2,     1.07,2, -999.000,9, -999.000,9, -999.000,9,-999.0000,9,  -999.00,9,   -999.0,9,   -999.0,9,   -999.0,9,  -999.00,9,25, -999.00,   -999,-999.0000,-999.000,  4.9328,-999.000
     316N151_2,   A24,    88,  1,     24,     24,2,19970616,1740, 63.5038, -34.9460, 2468,    453.5,   4.4278,  34.9061,2,  34.9062,2,    283.4,2,    283.4,2,     9.73,2,    16.34,2,     0.01,2,     1.09,2, -999.000,9, -999.000,9, -999.000,9,-999.0000,9,  -999.00,9,   -999.0,9,   -999.0,9,   -999.0,9,  -999.00,9,25, -999.00,   -999,-999.0000,-999.000,  4.3936,-999.000
     316N151_2,   A24,    88,  1,     23,     23,2,19970616,1740, 63.5038, -34.9460, 2468,    551.9,   4.1182,  34.8897,2,  34.8914,2,    278.4,2,    285.3,2,     9.91,2,    16.54,2,     0.00,2,     1.11,2, -999.000,9, -999.000,9, -999.000,9,-999.0000,9,  -999.00,9,   -999.0,9,   -999.0,9,   -999.0,9,  -999.00,9,25, -999.00,   -999,-999.0000,-999.000,  4.0774,-999.000
     316N151_2,   A24,    88,  1,     22,     22,2,19970616,1740, 63.5038, -34.9460, 2468,    651.8,   3.9928,  34.8929,2,  34.8987,2,    281.4,2,    280.2,2,    10.29,2,    16.82,2,     0.00,2,     1.12,2, -999.000,9, -999.000,9, -999.000,9,-999.0000,9,  -999.00,9,   -999.0,9,   -999.0,9,   -999.0,9,  -999.00,9,25, -999.00,   -999,-999.0000,-999.000,  3.9448,-999.000
     316N151_2,   A24,    88,  1,     21,     21,2,19970616,1740, 63.5038, -34.9460, 2468,    751.3,   3.8758,  34.9026,2,  34.9069,2,    277.9,2,    275.2,2,    10.77,2,    17.20,2,     0.00,2,     1.13,2, -999.000,9, -999.000,9, -999.000,9,-999.0000,9,  -999.00,9,   -999.0,9,   -999.0,9,   -999.0,9,  -999.00,9,25, -999.00,   -999,-999.0000,-999.000,  3.8206,-999.000
     316N151_2,   A24,    88,  1,     20,     20,2,19970616,1740, 63.5038, -34.9460, 2468,    851.9,   3.6479,  34.8916,2,  34.8927,2,    277.9,2,    277.4,2,    10.85,2,    17.25,2,     0.00,2,     1.14,2, -999.000,9, -999.000,9, -999.000,9,-999.0000,9,  -999.00,9,   -999.0,9,   -999.0,9,   -999.0,9,  -999.00,9,25, -999.00,   -999,-999.0000,-999.000,  3.5862,-999.000
     316N151_2,   A24,    88,  1,     19,     19,2,19970616,1740, 63.5038, -34.9460, 2468,    953.0,   3.5886,  34.8998,2,  34.8990,2,    277.8,2,    278.1,2,    10.94,2,    17.10,2,     0.00,2,     1.13,2,    3.310,2,    1.590,2, -999.000,9,-999.0000,9,  -999.00,9,   -999.0,9,   -999.0,9,   -999.0,9,  -999.00,9,25, -999.00,   -999,-999.0000,-999.000,  3.5192,-999.000
     316N151_2,   A24,    88,  1,     18,     18,2,19970616,1740, 63.5038, -34.9460, 2468,   1052.3,   3.4961,  34.8974,2,  34.8972,2,    283.9,2,    281.2,2,    10.92,2,    17.01,2,     0.00,2,     1.13,2, -999.000,9, -999.000,9, -999.000,9,-999.0000,9,  -999.00,9,   -999.0,9,   -999.0,9,   -999.0,9,  -999.00,9,25, -999.00,   -999,-999.0000,-999.000,  3.4195,-999.000
     316N151_2,   A24,    88,  1,     17,     17,2,19970616,1740, 63.5038, -34.9460, 2468,   1152.2,   3.3636,  34.8870,2,  34.8882,2,    286.3,2,    285.0,2,    10.81,2,    16.96,2,     0.00,2,     1.13,2, -999.000,9, -999.000,9, -999.000,9,-999.0000,9,  -999.00,9,   -999.0,9,   -999.0,9,   -999.0,9,  -999.00,9,25, -999.00,   -999,-999.0000,-999.000,  3.2800,-999.000
     316N151_2,   A24,    88,  1,     16,     16,2,19970616,1740, 63.5038, -34.9460, 2468,   1253.2,   3.2839,  34.8812,2,  34.8850,3,    288.8,2,    288.0,2,    10.79,2,    16.91,2,     0.00,2,     1.12,2, -999.000,9, -999.000,9, -999.000,9,-999.0000,9,  -999.00,9,   -999.0,9,   -999.0,9,   -999.0,9,  -999.00,9,25, -999.00,   -999,-999.0000,-999.000,  3.1928,-999.000
     316N151_2,   A24,    88,  1,     15,     15,2,19970616,1740, 63.5038, -34.9460, 2468,   1356.0,   3.1790,  34.8716,2,  34.8708,2,    290.9,2,    291.1,2,    10.78,2,    16.86,2,     0.00,2,     1.12,2, -999.000,9, -999.000,9, -999.000,9,-999.0000,9,  -999.00,9,   -999.0,9,   -999.0,9,   -999.0,9,  -999.00,9,25, -999.00,   -999,-999.0000,-999.000,  3.0805,-999.000
     316N151_2,   A24,    88,  1,     14,     14,2,19970616,1740, 63.5038, -34.9460, 2468,   1456.9,   3.1149,  34.8647,2,  34.8696,3,    293.1,2,    294.1,2,    10.67,2,    16.77,2,     0.00,2,     1.12,2,    3.831,2,    1.846,2, -999.000,9,-999.0000,9,  -999.00,9,   -999.0,9,   -999.0,9,   -999.0,9,  -999.00,9,25, -999.00,   -999,-999.0000,-999.000,  3.0086,-999.000
     316N151_2,   A24,    88,  1,     13,     13,2,19970616,1740, 63.5038, -34.9460, 2468,   1557.7,   3.0633,  34.8609,2,  34.8598,2,    293.4,2,    296.0,2,    10.65,2,    16.72,2,     0.00,2,     1.11,2, -999.000,9, -999.000,9, -999.000,9,-999.0000,9,  -999.00,9,   -999.0,9,   -999.0,9,   -999.0,9,  -999.00,9,25, -999.00,   -999,-999.0000,-999.000,  2.9491,-999.000
     316N151_2,   A24,    88,  1,     12,     12,2,19970616,1740, 63.5038, -34.9460, 2468,   1659.3,   3.0288,  34.8574,2,  34.8558,2,    295.4,2,    297.3,2,    10.64,2,    16.67,2,     0.00,2,     1.11,2, -999.000,9, -999.000,9, -999.000,9,-999.0000,9,  -999.00,9,   -999.0,9,   -999.0,9,   -999.0,9,  -999.00,9,25, -999.00,   -999,-999.0000,-999.000,  2.9064,-999.000
     316N151_2,   A24,    88,  1,     11,     11,2,19970616,1740, 63.5038, -34.9460, 2468,   1762.5,   3.0135,  34.8564,2,  34.8552,2,    295.9,2,    297.7,2,    10.52,2,    16.67,2,     0.00,2,     1.11,2, -999.000,9, -999.000,9, -999.000,9,-999.0000,9,  -999.00,9,   -999.0,9,   -999.0,9,   -999.0,9,  -999.00,9,25, -999.00,   -999,-999.0000,-999.000,  2.8823,-999.000
     316N151_2,   A24,    88,  1,     10,     10,2,19970616,1740, 63.5038, -34.9460, 2468,   1864.2,   2.9835,  34.8533,2,  34.8550,2,    297.2,2,    297.7,2,    10.61,2,    16.62,2,     0.00,2,     1.10,2, -999.000,9, -999.000,9, -999.000,9,-999.0000,9,  -999.00,9,   -999.0,9,   -999.0,9,   -999.0,9,  -999.00,9,25, -999.00,   -999,-999.0000,-999.000,  2.8437,-999.000
     316N151_2,   A24,    88,  1,      9,      9,2,19970616,1740, 63.5038, -34.9460, 2468,   1967.2,   2.9880,  34.8564,2,  34.8624,3,    296.0,2,    296.3,2,    10.69,2,    16.57,2,     0.00,2,     1.10,2,    3.763,2,    1.814,2, -999.000,9,-999.0000,9,  -999.00,9,   -999.0,9,   -999.0,9,   -999.0,9,  -999.00,9,25, -999.00,   -999,-999.0000,-999.000,  2.8389,-999.000
     316N151_2,   A24,    88,  1,      8,      8,2,19970616,1740, 63.5038, -34.9460, 2468,   2068.4,   3.0236,  34.8699,2,  34.8719,2,    292.8,2,    292.2,2,    10.87,2,    16.43,2,     0.00,2,     1.10,2,    3.420,2,    1.648,2, -999.000,9,-999.0000,9,  -999.00,9,   -999.0,9,   -999.0,9,   -999.0,9,  -999.00,9,25, -999.00,   -999,-999.0000,-999.000,  2.8647,-999.000
     316N151_2,   A24,    88,  1,      7,      7,2,19970616,1740, 63.5038, -34.9460, 2468,   2140.2,   3.0320,  34.8796,2,  34.8789,2,    289.9,2,    289.4,2,    11.15,2,    16.38,2,     0.00,2,     1.09,2,    3.187,2,    1.520,2, -999.000,9,-999.0000,9,  -999.00,9,   -999.0,9,   -999.0,9,   -999.0,9,  -999.00,9,25, -999.00,   -999,-999.0000,-999.000,  2.8662,-999.000
     316N151_2,   A24,    88,  1,      6,      6,2,19970616,1740, 63.5038, -34.9460, 2468,   2201.5,   2.9610,  34.8828,2,  34.8826,2,    290.1,2,    288.5,2,    11.14,2,    16.14,2,     0.00,2,     1.08,2,    3.098,2,    1.480,2, -999.000,9,-999.0000,9,  -999.00,9,   -999.0,9,   -999.0,9,   -999.0,9,  -999.00,9,25, -999.00,   -999,-999.0000,-999.000,  2.7906,-999.000
     316N151_2,   A24,    88,  1,      5,      5,2,19970616,1740, 63.5038, -34.9460, 2468,   2263.2,   2.7415,  34.8747,2,  34.8748,2,    291.8,2,    291.5,2,    10.33,2,    15.47,2,     0.00,2,     1.04,2,    3.412,2,    1.651,2, -999.000,9,-999.0000,9,  -999.00,9,   -999.0,9,   -999.0,9,   -999.0,9,  -999.00,9,25, -999.00,   -999,-999.0000,-999.000,  2.5690,-999.000
     316N151_2,   A24,    88,  1,      4,      4,2,19970616,1740, 63.5038, -34.9460, 2468,   2323.6,   2.4130,  34.8666,2,  34.8649,2,    293.9,2,    295.6,2,     9.23,2,    14.61,2,     0.00,2,     0.99,2,    3.760,2,    1.837,2, -999.000,9,-999.0000,9,  -999.00,9,   -999.0,9,   -999.0,9,   -999.0,9,  -999.00,9,25, -999.00,   -999,-999.0000,-999.000,  2.2405,-999.000
     316N151_2,   A24,    88,  1,      3,      3,2,19970616,1740, 63.5038, -34.9460, 2468,   2385.5,   2.0090,  34.8687,2,  34.8671,2,    297.1,2,    297.8,2,     8.92,2,    14.33,2,     0.00,2,     0.98,2,    3.746,2,    1.821,2, -999.000,9,-999.0000,9,  -999.00,9,   -999.0,9,   -999.0,9,   -999.0,9,  -999.00,9,25, -999.00,   -999,-999.0000,-999.000,  1.8380,-999.000
     316N151_2,   A24,    88,  1,      2,      2,2,19970616,1740, 63.5038, -34.9460, 2468,   2435.7,   1.4274,  34.8788,2,  34.8781,2,    300.4,2,    300.3,2,     8.71,2,    13.95,2,     0.00,2,     0.96,2,    3.579,2,    1.740,2, -999.000,9,-999.0000,9,  -999.00,9,   -999.0,9,   -999.0,9,   -999.0,9,  -999.00,9,25, -999.00,   -999,-999.0000,-999.000,  1.2625,-999.000
     316N151_2,   A24,    88,  1,      1,      1,2,19970616,1740, 63.5038, -34.9460, 2468,   2475.8,   1.4101,  34.8795,2,  34.8792,2,    302.0,2,    300.3,2,     8.69,2,    13.95,2,     0.00,2,     0.96,2,    3.566,2,    1.738,2, -999.000,9,-999.0000,9,  -999.00,9,   -999.0,9,   -999.0,9,   -999.0,9,  -999.00,9,25, -999.00,   -999,-999.0000,-999.000,  1.2420,-999.000