BOTTLE,20220629CCHSIOAMB
EXPOCODE,SECT_ID,STNNBR,CASTNO,SAMPNO,BTLNBR,BTLNBR_FLAG_W,DATE,TIME,LATITUDE,LONGITUDE,DEPTH,CTDPRS,CTDTMP,CTDSAL,CTDSAL_FLAG_W,SALNTY,SALNTY_FLAG_W,CTDOXY,CTDOXY_FLAG_W,OXYGEN,OXYGEN_FLAG_W,SILCAT,SILCAT_FLAG_W,NITRAT,NITRAT_FLAG_W,NITRIT,NITRIT_FLAG_W,PHSPHT,PHSPHT_FLAG_W,CFC-11,CFC-11_FLAG_W,CFC-12,CFC-12_FLAG_W,TRITUM,TRITUM_FLAG_W,HELIUM,HELIUM_FLAG_W,DELHE3,DELHE3_FLAG_W,TCARBN,TCARBN_FLAG_W,PCO2,PCO2_FLAG_W,ALKALI,ALKALI_FLAG_W,PH,PH_FLAG_W,PH_TMP,PCO2TMP,CTDRAW,HELIER,DELHER,THETA,TRITER
,,,,,,,,,,,,DBAR,ITS-90,PSS-78,,PSS-78,,UMOL/KG,,UMOL/KG,,UMOL/KG,,UMOL/KG,,UMOL/KG,,UMOL/KG,,PMOL/KG,,PMOL/KG,,TU,,NMOL/KG,,PERCNT,,UMOL/KG,,UATM,,UMOL/KG,,,,DEG C,DEG C,,NMOL/KG,PERCNT,DEG C,TU
     316N151_2,   A24,    32,  1,     17,     17,2,19970606,1124, 48.8027, -11.9497, 1487,      2.2,  14.1222,  35.6579,2,  35.6581,2,    280.9,2,    270.0,2,     0.21,2,     0.62,2,     0.05,2,     0.08,2,    3.233,2,    1.686,2,    1.035,2,   1.7970,2,    -1.51,2,   2077.3,2,    405.4,2,   2345.9,6,     7.95,2,25,   20.00,   -999,  0.0000,   0.170, 14.1218,   0.017
     316N151_2,   A24,    32,  1,     16,     16,2,19970606,1124, 48.8027, -11.9497, 1487,     28.2,  13.4405,  35.6345,2,  35.6363,2,    273.6,2,    275.6,2,     0.00,2,     0.93,2,     0.05,2,     0.12,2,    3.293,2,    1.772,3,    0.573,3,   1.7773,2,    -1.85,2,   2075.8,2,    402.6,2,   2345.3,2,     7.96,2,25,   20.00,   -999,  0.0000,   0.170, 13.4365,   0.009
     316N151_2,   A24,    32,  1,     15,     15,2,19970606,1124, 48.8027, -11.9497, 1487,     53.5,  12.7202,  35.6218,2,  35.6235,2,    261.3,2,    259.5,2,     1.04,2,     2.88,2,     0.13,2,     0.27,2,    3.345,2,    1.796,2,    1.610,2,   1.8300,2,    -1.65,2,   2097.2,2,    450.5,2,   2345.0,2,     7.92,2,25,   20.00,   -999,  0.0000,   0.170, 12.7129,   0.024
     316N151_2,   A24,    32,  1,     14,     14,2,19970606,1124, 48.8027, -11.9497, 1487,    114.1,  11.8306,  35.6081,2,  35.6073,2,    251.7,2,    251.6,2,     2.52,2,     7.31,2,     0.06,2,     0.46,2,    3.371,2,    1.792,2,    1.618,2,   1.8135,2,    -1.38,2,   2116.9,2,    509.5,2,   2341.2,2,     7.87,2,25,   20.00,   -999,  0.0000,   0.170, 11.8158,   0.023
     316N151_2,   A24,    32,  1,     13,     13,2,19970606,1124, 48.8027, -11.9497, 1487,    163.9,  11.5212,  35.5879,2,  35.5881,2,    249.1,2,    251.6,2,     3.03,2,     8.42,2,     0.02,2,     0.53,2,    3.385,2,    1.759,3, -999.000,9,-999.0000,9,  -999.00,9,   2123.9,2,    528.2,2,   2339.3,2,     7.85,2,25,   20.00,   -999,-999.0000,-999.000, 11.5003,-999.000
     316N151_2,   A24,    32,  1,     12,     12,2,19970606,1124, 48.8027, -11.9497, 1487,    213.8,  11.4280,  35.5782,2,  35.5778,2,    250.6,2,    250.7,2,     3.13,2,     8.67,2,     0.02,2,     0.55,2,    3.377,2,    1.776,2, -999.000,5,   1.8863,2,    -1.14,2,   2124.3,2,    533.9,2,   2338.6,2,     7.85,2,25,   20.00,   -999,  0.0000,   0.170, 11.4008,-999.000
     316N151_2,   A24,    32,  1,     11,     11,2,19970606,1124, 48.8027, -11.9497, 1487,    304.8,  11.2829,  35.5622,2,  35.5616,2,    248.9,2,    248.0,2,     3.43,2,     9.34,2,     0.01,2,     0.58,2,    3.340,2,    1.764,3, -999.000,9,-999.0000,9,  -999.00,9,   2127.3,2,    561.1,2,   2338.3,2,     7.84,2,25,   20.00,   -999,-999.0000,-999.000, 11.2443,-999.000
     316N151_2,   A24,    32,  1,     10,     10,2,19970606,1124, 48.8027, -11.9497, 1487,    385.2,  11.0927,  35.5478,2,  35.5450,2,    243.9,2,    242.8,2,     3.95,2,    10.10,2,     0.01,2,     0.63,2,    3.290,2,    1.698,2, -999.000,9,-999.0000,9,  -999.00,9,   2132.9,2,    558.5,2,   2336.4,2,     7.83,2,25,   20.00,   -999,-999.0000,-999.000, 11.0442,-999.000
     316N151_2,   A24,    32,  1,      9,      9,2,19970606,1124, 48.8027, -11.9497, 1487,    485.6,  10.8915,  35.5399,2,  35.5395,2,    241.6,2,    239.1,2,     4.47,2,    10.72,2,     0.00,2,     0.67,2,    3.191,2,    1.667,3, -999.000,5,   1.8345,2,     0.89,2,   2136.2,2,    575.4,2,   2338.0,2,     7.82,2,25,   20.00,   -999,  0.0000,   0.170, 10.8308,-999.000
     316N151_2,   A24,    32,  1,      8,      8,2,19970606,1124, 48.8027, -11.9497, 1487,    606.2,  10.4075,  35.4955,2,  35.5061,2,    217.9,2,    221.2,2,     6.05,2,    13.51,2,     0.00,2,     0.85,2,    2.807,2,    1.428,2, -999.000,9,-999.0000,9,  -999.00,9,   2149.6,2,    619.9,2,   2336.8,2,     7.79,2,25,   20.00,   -999,-999.0000,-999.000, 10.3335,-999.000
     316N151_2,   A24,    32,  1,      7,      7,2,19970606,1124, 48.8027, -11.9497, 1487,    726.8,  10.1048,  35.5417,2,  35.5430,2,    212.0,2,    216.0,2,     7.10,2,    14.02,2,     0.00,2,     0.88,2,    2.402,2,    1.223,3, -999.000,9,-999.0000,9,  -999.00,9,   2156.9,2,    634.0,2,   2341.5,2,     7.78,2,25,   20.00,   -999,-999.0000,-999.000, 10.0171,-999.000
     316N151_2,   A24,    32,  1,      6,      6,2,19970606,1124, 48.8027, -11.9497, 1487,    807.7,   9.5669,  35.5309,2,  35.5323,2,    195.1,2,    195.8,2,     8.90,2,    16.76,2,     0.00,2,     1.05,2,    1.836,2,    0.915,2,    1.207,2,   1.8267,2,     7.96,2,   2172.2,2,    686.1,2,   2344.4,2,     7.76,2,25,   20.00,   -999,  0.0000,   0.170,  9.4721,   0.025
     316N151_2,   A24,    32,  1,      5,      5,2,19970606,1124, 48.8027, -11.9497, 1487,    908.1,   9.4241,  35.5724,2,  35.5724,2,    194.5,2,    192.5,2,     9.52,2,    17.12,2,     0.00,2,     1.08,2,    1.619,2,    0.806,3,    1.230,2,   1.8740,2,     8.75,2,   2177.1,2,    690.2,2,   2348.8,2,     7.75,2,25,   20.00,   -999,  0.0000,   0.170,  9.3179,   0.018
     316N151_2,   A24,    32,  1,      4,      4,2,19970606,1124, 48.8027, -11.9497, 1487,   1018.9,   8.8604,  35.5695,2,  35.5688,2,    195.3,2,    196.0,2,    10.25,2,    17.42,2,     0.00,2,     1.09,2,    1.422,2,    0.712,2,   -0.020,4,   1.8611,2,     8.97,2,   2181.9,2,    703.4,2,   2349.8,2,     7.75,2,25,   20.00,   -999,  0.0000,   0.170,  8.7447,   0.003
     316N151_2,   A24,    32,  1,      3,      3,2,19970606,1124, 48.8027, -11.9497, 1487,   1108.8,   8.4779,  35.5511,2,  35.5496,2,    198.7,2,    199.1,2,    10.66,2,    17.53,2,     0.00,2,     1.11,2,    1.349,2,    0.666,2,    1.029,2,   1.8852,2,     9.06,2,   2181.6,2,    707.8,2,   2348.2,2,     7.75,2,25,   20.00,   -999,  0.0000,   0.200,  8.3545,   0.020
     316N151_2,   A24,    32,  1,      2,      2,2,19970606,1124, 48.8027, -11.9497, 1487,   1260.9,   7.2872,  35.4039,2,  35.3973,2,    215.4,2,    214.8,2,    12.24,2,    17.78,2,     0.00,2,     1.14,2,    1.348,2,    0.665,3,    0.965,2,   1.8455,2,     9.17,2,   2177.7,2,    714.6,2,   2341.2,2,     7.74,2,25,   20.00,   -999,  0.0000,   0.170,  7.1567,   0.020
     316N151_2,   A24,    32,  1,      1,      1,2,19970606,1124, 48.8027, -11.9497, 1487,   1508.5,   5.0854,  35.1139,2,  35.1175,2,    241.0,2,    242.5,2,    14.03,2,    18.09,2,     0.00,2,     1.18,2,    1.441,2,    0.690,2, -999.000,5,   1.9047,2,     8.35,2,   2169.1,2,    748.1,2,   2324.0,2,     7.72,2,25,   20.00,   -999,  0.0000,   0.140,  4.9519,-999.000
     316N151_2,   A24,    33,  1,     16,     16,2,19970606,1438, 49.1045, -11.4760,  733,      1.7,  14.5468,  35.6368,2,  35.6299,2,    285.1,2,    283.3,2,     0.39,2,     0.05,2,     0.00,2,     0.05,2,    3.184,2,    1.692,2, -999.000,9,-999.0000,9,  -999.00,9,   2044.0,2,   -999.0,9,   2345.2,6,     8.00,6,25, -999.00,   -999,-999.0000,-999.000, 14.5466,-999.000
     316N151_2,   A24,    33,  1,     15,     15,2,19970606,1438, 49.1045, -11.4760,  733,     32.9,  13.0675,  35.6431,2,  35.6417,2,    259.3,2,    265.4,2,     1.00,2,     1.90,2,     0.09,2,     0.20,2, -999.000,9, -999.000,9, -999.000,9,-999.0000,9,  -999.00,9,   2085.5,2,   -999.0,9,   2344.7,2,     7.93,2,25, -999.00,   -999,-999.0000,-999.000, 13.0630,-999.000
     316N151_2,   A24,    33,  1,     14,     14,2,19970606,1438, 49.1045, -11.4760,  733,     86.2,  11.7555,  35.5961,2,  35.5943,2,    240.5,2,    253.6,2,     2.79,2,     7.20,2,     0.04,2,     0.46,2,    3.420,2,    1.796,2, -999.000,9,-999.0000,9,  -999.00,9,   2115.5,2,   -999.0,9,   2339.5,2,     7.86,2,25, -999.00,   -999,-999.0000,-999.000, 11.7444,-999.000
     316N151_2,   A24,    33,  1,     13,     13,2,19970606,1438, 49.1045, -11.4760,  733,    123.0,  11.5886,  35.5846,2,  35.5886,2,    241.6,2,    252.4,2,     3.09,2,     7.92,2,     0.03,2,     0.52,2, -999.000,9, -999.000,9, -999.000,9,-999.0000,9,  -999.00,9,   2118.5,2,   -999.0,9,   2338.6,2,     7.85,2,25, -999.00,   -999,-999.0000,-999.000, 11.5729,-999.000
     316N151_2,   A24,    33,  1,     12,     12,2,19970606,1438, 49.1045, -11.4760,  733,    167.8,  11.4825,  35.5772,2,  35.5760,2,    241.1,2,    251.2,2,     3.39,2,     8.48,2,     0.03,2,     0.54,2, -999.000,9, -999.000,9, -999.000,9,-999.0000,9,  -999.00,9,   2121.7,2,   -999.0,9,   2337.1,2,     7.85,2,25, -999.00,   -999,-999.0000,-999.000, 11.4611,-999.000
     316N151_2,   A24,    33,  1,     11,     11,2,19970606,1438, 49.1045, -11.4760,  733,    204.9,  11.4003,  35.5726,2,  35.5700,2,    245.8,2,    251.1,2,     3.48,2,     8.69,2,     0.03,2,     0.55,2,    3.388,2,    1.763,2, -999.000,9,-999.0000,9,  -999.00,9,   2124.4,2,   -999.0,9,   2336.4,2,     7.84,2,25, -999.00,   -999,-999.0000,-999.000, 11.3743,-999.000
     316N151_2,   A24,    33,  1,     10,     10,2,19970606,1438, 49.1045, -11.4760,  733,    256.9,  11.2367,  35.5606,2,  35.5578,2,    245.0,2,    249.6,2,     3.88,2,     9.30,2,     0.02,2,     0.59,2, -999.000,9, -999.000,9, -999.000,9,-999.0000,9,  -999.00,9,   2126.8,6,   -999.0,9,   2336.9,2,     7.84,2,25, -999.00,   -999,-999.0000,-999.000, 11.2043,-999.000
     316N151_2,   A24,    33,  1,      9,      9,2,19970606,1438, 49.1045, -11.4760,  733,    305.9,  11.1516,  35.5532,2,  35.5513,2,    248.2,2,    250.2,2,     4.08,2,     9.56,2,     0.02,2,     0.61,2, -999.000,9, -999.000,9, -999.000,9,-999.0000,9,  -999.00,9,   2127.3,2,   -999.0,9,   2337.0,2,     7.83,2,25, -999.00,   -999,-999.0000,-999.000, 11.1131,-999.000
     316N151_2,   A24,    33,  1,      8,      8,2,19970606,1438, 49.1045, -11.4760,  733,    353.6,  11.0463,  35.5432,2,  35.5418,2,    246.3,2,    251.0,2,     3.95,2,     9.76,2,     0.01,2,     0.62,2, -999.000,9, -999.000,9, -999.000,9,-999.0000,9,  -999.00,9,   2128.7,2,   -999.0,9,   2335.7,2,     7.83,2,25, -999.00,   -999,-999.0000,-999.000, 11.0020,-999.000
     316N151_2,   A24,    33,  1,      7,      7,2,19970606,1438, 49.1045, -11.4760,  733,    404.1,  10.9908,  35.5402,2,  35.5380,2,    245.9,2,    244.8,2,     4.47,2,    10.27,2,     0.01,2,     0.65,2,    3.313,2,    1.726,2, -999.000,9,-999.0000,9,  -999.00,9,   2131.4,2,   -999.0,9,   2336.4,2,     7.82,2,25, -999.00,   -999,-999.0000,-999.000, 10.9402,-999.000
     316N151_2,   A24,    33,  1,      6,      6,2,19970606,1438, 49.1045, -11.4760,  733,    454.0,  10.8482,  35.5294,2,  35.5341,2,    240.5,2,    240.3,2,     4.87,2,    10.93,2,     0.01,2,     0.70,2, -999.000,9, -999.000,9, -999.000,9,-999.0000,9,  -999.00,9,   2135.3,2,   -999.0,9,   2337.1,2,     7.81,2,25, -999.00,   -999,-999.0000,-999.000, 10.7917,-999.000
     316N151_2,   A24,    33,  1,      5,      5,2,19970606,1438, 49.1045, -11.4760,  733,    506.5,  10.7291,  35.5191,2,  35.5220,2,    240.9,2,    240.0,2,     4.96,2,    11.19,2,     0.01,2,     0.72,2,    3.200,2,    1.678,2, -999.000,9,-999.0000,9,  -999.00,9,   2136.9,2,   -999.0,9,   2335.6,2,     7.80,2,25, -999.00,   -999,-999.0000,-999.000, 10.6664,-999.000
     316N151_2,   A24,    33,  1,      4,      4,2,19970606,1438, 49.1045, -11.4760,  733,    557.9,  10.6560,  35.5149,2,  35.5133,2,    236.1,2,    237.1,2,     5.26,2,    11.54,2,     0.01,2,     0.74,2, -999.000,9, -999.000,9, -999.000,9,-999.0000,9,  -999.00,9,   2138.7,2,   -999.0,9,   2335.1,2,     7.81,2,25, -999.00,   -999,-999.0000,-999.000, 10.5870,-999.000
     316N151_2,   A24,    33,  1,      3,      3,2,19970606,1438, 49.1045, -11.4760,  733,    604.9,  10.4969,  35.5084,2,  35.5117,2,    232.1,2,    230.3,2,     5.88,2,    12.40,2,     0.01,2,     0.79,2,    2.958,2,    1.529,2, -999.000,9,-999.0000,9,  -999.00,9,   2144.5,2,   -999.0,9,   2337.0,2,     7.80,2,25, -999.00,   -999,-999.0000,-999.000, 10.4226,-999.000
     316N151_2,   A24,    33,  1,      2,      2,2,19970606,1438, 49.1045, -11.4760,  733,    705.4,   9.9396,  35.5027,2,  35.5015,2,    214.6,2,    215.8,2,     7.67,2,    14.44,2,     0.01,2,     0.92,2, -999.000,9, -999.000,9, -999.000,9,-999.0000,9,  -999.00,9,   2156.2,2,   -999.0,9,   2339.4,2,     7.78,2,25, -999.00,   -999,-999.0000,-999.000,  9.8554,-999.000
     316N151_2,   A24,    33,  1,      1,      1,2,19970606,1438, 49.1045, -11.4760,  733,    786.9,   9.6293,  35.5175,2,  35.5208,2,    214.9,2,    209.7,2,     8.82,2,    15.35,2,     0.01,2,     0.98,2,    2.159,2,    1.077,2, -999.000,9,-999.0000,9,  -999.00,9,   2164.0,2,   -999.0,9,   2343.4,2,     7.77,2,25, -999.00,   -999,-999.0000,-999.000,  9.5367,-999.000
     316N151_2,   A24,    34,  1,      8,      8,2,19970606,1617, 49.1817, -11.2297,  236,      2.3,  13.4456,  35.6057,2,  35.6080,2,    313.5,2,    285.4,2,     0.32,2,     1.15,2,     0.07,2,     0.13,2,    3.300,2,    1.764,2, -999.000,5,   1.8090,2,    -1.53,2,   2068.2,2,    393.0,2,   2345.8,6,     7.95,6,25,   20.00,   -999,  0.0000,   0.200, 13.4453,-999.000
     316N151_2,   A24,    34,  1,      7,      7,2,19970606,1617, 49.1817, -11.2297,  236,     33.7,  13.1051,  35.6063,2,  35.6105,2,    308.3,2,    280.3,2,     0.26,2,     1.79,2,     0.10,2,     0.18,2,    3.364,2,    1.786,2, -999.000,9,-999.0000,9,  -999.00,9,   2077.0,2,    412.9,2,   2343.8,2,     7.93,2,25,   20.00,   -999,-999.0000,-999.000, 13.1005,-999.000
     316N151_2,   A24,    34,  1,      6,      6,2,19970606,1617, 49.1817, -11.2297,  236,     63.1,  12.7536,  35.6067,2,  35.6070,2,    279.3,2,    267.4,2,     0.74,2,     3.30,2,     0.16,2,     0.27,2, -999.000,9, -999.000,9, -999.000,5,   1.7880,2,    -1.57,2,   2092.1,2,    444.0,2,   2348.4,2,     7.91,2,25,   20.00,   -999,  0.0000,   0.200, 12.7450,-999.000
     316N151_2,   A24,    34,  1,      5,      5,2,19970606,1617, 49.1817, -11.2297,  236,     92.4,  12.0620,  35.5974,2,  35.5963,2,    266.3,2,    256.0,2,     1.96,2,     5.81,2,     0.31,2,     0.40,2,    3.374,2,    1.785,2, -999.000,9,-999.0000,9,  -999.00,9,   2108.6,2,    491.1,2,   2339.9,2,     7.87,2,25,   20.00,   -999,-999.0000,-999.000, 12.0499,-999.000
     316N151_2,   A24,    34,  1,      4,      4,2,19970606,1617, 49.1817, -11.2297,  236,    124.2,  11.8315,  35.5908,2,  35.5877,2,    264.4,2,    253.6,2,     2.54,2,     7.03,2,     0.11,2,     0.46,2, -999.000,9, -999.000,9, -999.000,9,-999.0000,9,  -999.00,9,   2114.4,2,    505.3,2,   2338.5,2,     7.86,2,25,   20.00,   -999,-999.0000,-999.000, 11.8154,-999.000
     316N151_2,   A24,    34,  1,      3,      3,2,19970606,1617, 49.1817, -11.2297,  236,    154.1,  11.4269,  35.5771,2,  35.5762,2,    257.5,2,    249.8,2,     3.44,2,     8.69,2,     0.02,2,     0.56,2,    3.399,2,    1.791,2, -999.000,5,   1.8628,2,    -1.02,2,   2123.3,2,    532.1,2,   2338.8,2,     7.84,2,25,   20.00,   -999,  0.0000,   0.200, 11.4073,-999.000
     316N151_2,   A24,    34,  1,      2,      2,2,19970606,1617, 49.1817, -11.2297,  236,    205.6,  11.3775,  35.5706,2,  35.5701,2,    258.2,2,    248.8,2,     3.60,2,     8.84,2,     0.02,2,     0.57,2, -999.000,9, -999.000,9, -999.000,9,-999.0000,9,  -999.00,9,   2125.1,2,    537.6,2,   2338.3,2,     7.84,2,25,   20.00,   -999,-999.0000,-999.000, 11.3514,-999.000
     316N151_2,   A24,    34,  1,      1,      1,2,19970606,1617, 49.1817, -11.2297,  236,    236.2,  11.3768,  35.5708,2,  35.5691,2,    258.1,2,    248.4,2,     3.66,2,     8.84,2,     0.03,2,     0.57,2,    3.363,2,    1.771,2, -999.000,5,   1.9231,2,    -0.98,2,   2125.3,2,    540.7,2,   2338.5,2,     7.83,2,25,   20.00,   -999,  0.0000,   0.200, 11.3468,-999.000
     316N151_2,   A24,    35,  1,      8,      8,2,19970608,1732, 53.5007, -13.9088,  251,      2.7,  13.3691,  35.4697,2,  35.4713,2,    269.6,2,    269.5,2,     0.57,2,     3.25,2,     0.11,2,     0.26,2,    3.288,2,    1.738,2, -999.000,5,   1.8115,2,    -1.80,2,   2081.0,2,   -999.0,9,   2339.2,6,     7.93,6,25, -999.00,   -999,  0.0000,   0.200, 13.3687,-999.000
     316N151_2,   A24,    35,  1,      7,      7,2,19970608,1732, 53.5007, -13.9088,  251,     33.9,  11.3738,  35.4650,2,  35.4660,2,    279.3,2,    282.0,2,     0.68,2,     6.07,2,     0.14,2,     0.41,2,    3.515,2,    1.859,2, -999.000,9,-999.0000,9,  -999.00,9,   2101.4,2,   -999.0,9,   2337.7,2,     7.89,2,25, -999.00,   -999,-999.0000,-999.000, 11.3695,-999.000
     316N151_2,   A24,    35,  1,      6,      6,2,19970608,1732, 53.5007, -13.9088,  251,     60.5,  10.9133,  35.4748,2,  35.4743,2,    268.1,2,    264.9,2,     1.69,2,     7.80,2,     0.24,2,     0.56,2, -999.000,9, -999.000,9, -999.000,5,   1.8132,2,    -1.68,2,   2118.4,2,   -999.0,9,   2337.3,2,     7.85,2,25, -999.00,   -999,  0.0000,   0.200, 10.9059,-999.000
     316N151_2,   A24,    35,  1,      5,      5,2,19970608,1732, 53.5007, -13.9088,  251,     91.0,  10.7227,  35.4695,2,  35.4679,2,    260.4,2,    260.5,2,     2.70,2,     9.06,2,     0.30,2,     0.60,2,    3.483,2,    1.864,2, -999.000,9,-999.0000,9,  -999.00,9,   2122.6,2,   -999.0,9,   2335.6,2,     7.85,2,25, -999.00,   -999,-999.0000,-999.000, 10.7116,-999.000
     316N151_2,   A24,    35,  1,      4,      4,2,19970608,1732, 53.5007, -13.9088,  251,    119.2,  10.3982,  35.4558,2,  35.4563,2,    256.9,2,    257.6,2,     4.10,2,    10.56,2,     0.02,2,     0.67,2, -999.000,9, -999.000,9, -999.000,9,-999.0000,9,  -999.00,9,   2128.7,2,   -999.0,9,   2333.9,2,     7.83,2,25, -999.00,   -999,-999.0000,-999.000, 10.3840,-999.000
     316N151_2,   A24,    35,  1,      3,      3,2,19970608,1732, 53.5007, -13.9088,  251,    162.1,  10.2016,  35.4536,2,  35.4529,2,    254.0,2,    256.6,2,     4.42,2,    10.96,2,     0.02,2,     0.70,2,    3.449,2,    1.790,2, -999.000,5,   0.0000,5,  -999.00,5,   2132.7,2,   -999.0,9,   2334.2,2,     7.83,2,25, -999.00,   -999,  0.0000,   0.860, 10.1824,-999.000
     316N151_2,   A24,    35,  1,      2,      2,2,19970608,1732, 53.5007, -13.9088,  251,    201.2,  10.0973,  35.4585,2,  35.4581,2,    254.1,2,    255.9,2,     5.03,2,    11.04,2,     0.04,2,     0.71,2, -999.000,9, -999.000,9, -999.000,9,-999.0000,9,  -999.00,9,   2135.7,2,   -999.0,9,   2332.4,2,     7.81,2,25, -999.00,   -999,-999.0000,-999.000, 10.0736,-999.000
     316N151_2,   A24,    35,  1,      1,      1,2,19970608,1732, 53.5007, -13.9088,  251,    248.0,  10.0777,  35.4562,2,  35.4561,2,    253.9,2,    254.8,2,     5.24,2,    11.17,2,     0.05,2,     0.73,2,    3.524,2,    1.913,2, -999.000,5,   1.8820,2,    -1.08,2,   2137.6,2,   -999.0,9,   2335.4,2,     7.81,2,25, -999.00,   -999,  0.0000,   0.200, 10.0485,-999.000