BOTTLE,20220629CCHSIOAMB
EXPOCODE,SECT_ID,STNNBR,CASTNO,SAMPNO,BTLNBR,BTLNBR_FLAG_W,DATE,TIME,LATITUDE,LONGITUDE,DEPTH,CTDPRS,CTDTMP,CTDSAL,CTDSAL_FLAG_W,SALNTY,SALNTY_FLAG_W,CTDOXY,CTDOXY_FLAG_W,OXYGEN,OXYGEN_FLAG_W,SILCAT,SILCAT_FLAG_W,NITRAT,NITRAT_FLAG_W,NITRIT,NITRIT_FLAG_W,PHSPHT,PHSPHT_FLAG_W,CFC-11,CFC-11_FLAG_W,CFC-12,CFC-12_FLAG_W,TRITUM,TRITUM_FLAG_W,HELIUM,HELIUM_FLAG_W,DELHE3,DELHE3_FLAG_W,TCARBN,TCARBN_FLAG_W,PCO2,PCO2_FLAG_W,ALKALI,ALKALI_FLAG_W,PH,PH_FLAG_W,PH_TMP,PCO2TMP,CTDRAW,HELIER,DELHER,THETA,TRITER
,,,,,,,,,,,,DBAR,ITS-90,PSS-78,,PSS-78,,UMOL/KG,,UMOL/KG,,UMOL/KG,,UMOL/KG,,UMOL/KG,,UMOL/KG,,PMOL/KG,,PMOL/KG,,TU,,NMOL/KG,,PERCNT,,UMOL/KG,,UATM,,UMOL/KG,,,,DEG C,DEG C,,NMOL/KG,PERCNT,DEG C,TU
     316N151_2,   A24,   119,  1,     31,     31,2,19970622,1934, 52.7342, -34.7120, 4273,      3.8,  10.8985,  34.7744,2,  34.7811,2,    302.1,2,    300.8,2,     1.14,2,     4.63,2,     0.12,2,     0.33,2,    3.910,2,    2.069,2,    1.569,2,   1.8182,2,    -2.03,2,   2060.0,2,    447.6,2,   2301.0,2,     7.90,2,25,   20.00,   -999,  0.0000,   0.170, 10.8980,   0.021
     316N151_2,   A24,   119,  1,     30,     30,2,19970622,1934, 52.7342, -34.7120, 4273,     48.6,   9.0555,  34.8681,2,  34.8605,2,    288.3,2,    289.7,2,     3.36,2,     8.35,2,     0.18,2,     0.62,2,    4.112,2,    2.161,2,    1.499,2,   1.8196,2,    -1.60,2,   2099.7,2,    549.8,2,   2303.3,6,     7.83,2,25,   20.00,   -999,  0.0000,   0.170,  9.0502,   0.021
     316N151_2,   A24,   119,  1,     29,     29,2,19970622,1934, 52.7342, -34.7120, 4273,    108.9,   6.5339,  34.8609,2,  34.8662,2,    274.5,2,    277.1,2,     7.90,2,    14.45,2,     0.01,2,     0.98,2,    4.017,2,    2.119,2,    1.438,2,   1.8249,2,    -1.07,2,   2135.8,2,    679.8,2,   2305.1,2,     7.76,2,25,   20.00,   -999,  0.0000,   0.170,  6.5242,   0.022
     316N151_2,   A24,   119,  1,     28,     28,2,19970622,1934, 52.7342, -34.7120, 4273,    209.9,   5.9387,  34.8671,2,  34.8619,2,    271.4,2,    273.0,2,     8.80,2,    15.40,2,     0.01,2,     1.04,2,    3.962,2,    2.023,2,   -0.020,4,   1.8395,2,    -0.03,2,   2143.8,2,    707.2,2,   2306.8,2,     7.74,2,25,   20.00,   -999,  0.0000,   0.170,  5.9208,   0.003
     316N151_2,   A24,   119,  1,     27,     27,2,19970622,1934, 52.7342, -34.7120, 4273,    310.6,   5.6917,  34.9227,2,  34.9227,2,    259.5,2,    252.1,2,    10.10,2,    17.20,2,     0.00,2,     1.13,2,    3.434,2,    1.735,2,    0.731,3,   1.8444,2,     2.04,2,   2155.2,2,    747.6,2,   2308.4,2,     7.72,2,25,   20.00,   -999,  0.0000,   0.170,  5.6655,   0.011
     316N151_2,   A24,   119,  1,     26,     26,2,19970622,1934, 52.7342, -34.7120, 4273,    410.2,   5.1305,  34.9334,2,  34.9309,2,    239.1,2,    241.0,2,    11.31,2,    18.47,2,     0.00,2,     1.21,2,    2.992,2,    1.463,2,    1.237,2,   1.8466,2,     4.10,2,   2165.8,2,    792.7,2,   2307.9,2,     7.70,2,25,   20.00,   -999,  0.0000,   0.170,  5.0974,   0.019
     316N151_2,   A24,   119,  1,     25,     25,2,19970622,1934, 52.7342, -34.7120, 4273,    511.2,   4.6756,  34.9368,2,  34.9355,2,    248.5,2,    245.7,2,    11.60,2,    18.48,2,     0.00,2,     1.21,2,    2.789,2,    1.363,2,    1.269,2,-999.0000,5,  -999.00,5,   2167.1,2,   -999.0,9,   2306.9,2,     7.70,2,25, -999.00,   -999,-999.0000,-999.000,  4.6357,   0.018
     316N151_2,   A24,   119,  1,     24,     24,2,19970622,1934, 52.7342, -34.7120, 4273,    612.1,   4.2911,  34.9268,2,  34.9296,2,    252.1,2,    254.1,2,    11.49,2,    18.24,2,     0.00,2,     1.19,2,    2.764,2,    1.334,2, -999.000,9,-999.0000,9,  -999.00,9,   2164.4,2,    788.1,2,   2303.4,2,     7.70,2,25,   20.00,   -999,-999.0000,-999.000,  4.2447,-999.000
     316N151_2,   A24,   119,  1,     23,     23,2,19970622,1934, 52.7342, -34.7120, 4273,    712.0,   4.0512,  34.9275,2,  34.9264,2,    258.7,2,    261.5,2,    11.38,2,    17.91,2,     0.00,2,     1.17,2, -999.000,9, -999.000,9,    1.228,2,-999.0000,5,  -999.00,5,   2160.6,2,    777.3,2,   2306.3,2,     7.71,2,25,   20.00,   -999,-999.0000,-999.000,  3.9981,   0.019
     316N151_2,   A24,   119,  1,     22,     22,2,19970622,1934, 52.7342, -34.7120, 4273,    812.7,   3.8377,  34.9155,2,  34.9178,2,    265.1,2,    266.9,2,    11.37,2,    17.67,2,     0.00,2,     1.15,2,    2.727,2,    1.319,2, -999.000,9,-999.0000,9,  -999.00,9,   2156.4,2,    773.2,2,   2305.4,2,     7.71,2,25,   20.00,   -999,-999.0000,-999.000,  3.7779,-999.000
     316N151_2,   A24,   119,  1,     21,     21,2,19970622,1934, 52.7342, -34.7120, 4273,    913.4,   3.6266,  34.9063,2,  34.9061,2,    269.3,2,    273.2,2,    11.26,2,    17.38,2,     0.00,2,     1.14,2,    2.717,2,    1.291,2,    1.323,2,   1.8504,2,     6.64,2,   2156.1,2,    767.5,2,   2305.1,2,     7.71,2,25,   20.00,   -999,  0.0000,   0.170,  3.5601,   0.018
     316N151_2,   A24,   119,  1,     20,     20,2,19970622,1934, 52.7342, -34.7120, 4273,   1015.1,   3.5385,  34.9035,2,  34.9042,2,    272.3,2,    275.2,2,    11.26,2,    17.24,2,     0.00,2,     1.13,2,    2.677,2,    1.282,2,    1.282,2,   1.8661,2,     6.85,2,   2155.0,2,    763.4,2,   2304.6,2,     7.71,2,25,   20.00,   -999,  0.0000,   0.170,  3.4645,   0.019
     316N151_2,   A24,   119,  1,     19,     19,2,19970622,1934, 52.7342, -34.7120, 4273,   1116.7,   3.4509,  34.9024,2,  34.9020,2,    276.1,2,    277.6,2,    11.35,2,    16.72,2,     0.00,2,     1.10,2,    2.711,2,    1.300,2, -999.000,9,-999.0000,9,  -999.00,9,   2153.4,2,   -999.0,9,   2304.4,2,     7.72,2,25, -999.00,   -999,-999.0000,-999.000,  3.3694,-999.000
     316N151_2,   A24,   119,  1,     18,     18,2,19970622,1934, 52.7342, -34.7120, 4273,   1216.3,   3.4025,  34.9088,2,  34.9097,2,    277.5,2,    278.3,2,    11.24,2,    16.86,2,     0.00,2,     1.11,2,    2.555,2,    1.235,2,    1.189,2,-999.0000,5,  -999.00,5,   2154.4,2,    752.4,2,   2305.9,2,     7.72,2,25,   20.00,   -999,-999.0000,-999.000,  3.3133,   0.017
     316N151_2,   A24,   119,  1,     17,     17,2,19970622,1934, 52.7342, -34.7120, 4273,   1368.6,   3.2169,  34.8991,2,  34.9016,2,    282.3,2,    282.2,2,    11.33,2,    16.67,2,     0.00,2,     1.10,2,    2.723,2,    1.300,2,    0.700,4,-999.0000,5,  -999.00,5,   2153.2,2,    750.5,2,   2306.0,2,     7.72,2,25,   20.00,   -999,-999.0000,-999.000,  3.1168,   0.011
     316N151_2,   A24,   119,  1,     16,     16,2,19970622,1934, 52.7342, -34.7120, 4273,   1520.4,   3.2336,  34.9225,2,  34.9227,2,    278.4,2,    278.8,2,    11.73,2,    16.57,2,     0.00,2,     1.10,2,    2.387,2,    1.085,3,    1.107,2,-999.0000,5,  -999.00,5,   2155.1,2,    749.0,2,   2306.8,2,     7.72,2,25,   20.00,   -999,-999.0000,-999.000,  3.1204,   0.018
     316N151_2,   A24,   119,  1,     15,     15,2,19970622,1934, 52.7342, -34.7120, 4273,   1670.7,   3.2030,  34.9386,2,  34.9382,2,    278.8,2,    276.3,2,    12.22,2,    16.43,2,     0.00,2,     1.10,2,    2.179,2,    1.054,2,    1.045,2,-999.0000,5,  -999.00,5,   2156.2,2,   -999.0,9,   2307.8,2,     7.72,2,25, -999.00,   -999,-999.0000,-999.000,  3.0771,   0.017
     316N151_2,   A24,   119,  1,     14,     14,2,19970622,1934, 52.7342, -34.7120, 4273,   1823.1,   3.1521,  34.9549,2,  34.9538,2,    275.1,2,    274.9,2,    12.42,2,    16.19,2,     0.00,2,     1.08,2,    2.105,2,    1.009,2,    1.021,2,-999.0000,5,  -999.00,5,   2156.1,2,    749.6,2,   2310.3,2,     7.72,2,25,   20.00,   -999,-999.0000,-999.000,  3.0133,   0.016
     316N151_2,   A24,   119,  1,     13,     13,2,19970622,1934, 52.7342, -34.7120, 4273,   2025.7,   3.0236,  34.9599,2,  34.9585,2,    277.0,2,    274.5,2,    13.12,2,    16.14,2,     0.00,2,     1.08,2,    2.045,2,    1.005,2, -999.000,5,   1.8745,2,     6.75,2,   2158.4,2,    748.1,2,   2310.0,2,     7.72,2,25,   20.00,   -999,  0.0000,   0.130,  2.8683,-999.000
     316N151_2,   A24,   119,  1,     12,     12,2,19970622,1934, 52.7342, -34.7120, 4273,   2228.4,   2.9601,  34.9614,2,  34.9616,2,    272.1,2,    274.2,2,    13.72,2,    16.14,2,     0.00,2,     1.08,2,    2.081,2,    1.013,2, -999.000,9,-999.0000,9,  -999.00,9,   2159.5,2,   -999.0,9,   2312.8,2,     7.72,2,25, -999.00,   -999,-999.0000,-999.000,  2.7869,-999.000
     316N151_2,   A24,   119,  1,     11,     11,2,19970622,1934, 52.7342, -34.7120, 4273,   2426.2,   2.9297,  34.9630,2,  34.9604,2,    275.5,2,    274.0,2,    14.01,2,    16.19,2,     0.00,2,     1.08,2,    2.066,2,    1.012,2, -999.000,5,   1.8745,2,     6.36,2,   2160.0,2,    754.1,2,   2313.2,2,     7.72,2,25,   20.00,   -999,  0.0000,   0.130,  2.7382,-999.000
     316N151_2,   A24,   119,  1,     10,     10,2,19970622,1934, 52.7342, -34.7120, 4273,   2628.1,   2.9297,  34.9624,2,  34.9600,2,    275.3,2,    273.5,2,    14.21,2,    16.19,2,     0.00,2,     1.08,2,    2.090,2,    0.999,2, -999.000,9,-999.0000,9,  -999.00,9,   2159.0,2,    753.2,2,   2313.3,2,     7.72,2,25,   20.00,   -999,-999.0000,-999.000,  2.7184,-999.000
     316N151_2,   A24,   119,  1,      9,      9,2,19970622,1934, 52.7342, -34.7120, 4273,   2831.9,   2.9338,  34.9629,2,  34.9626,2,    272.5,2,    273.5,2,    14.30,2,    16.19,2,     0.00,2,     1.08,2, -999.000,9, -999.000,9, -999.000,5,   1.8694,2,     6.20,2,   2161.0,2,   -999.0,9,   2313.3,2,     7.72,2,25, -999.00,   -999,  0.0000,   0.130,  2.7018,-999.000
     316N151_2,   A24,   119,  1,      8,      8,2,19970622,1934, 52.7342, -34.7120, 4273,   3088.6,   2.9467,  34.9621,2,  34.9608,2,    270.9,2,    273.6,2,    14.49,2,    16.18,2,     0.00,2,     1.08,2,    2.075,2,    1.010,2, -999.000,9,-999.0000,9,  -999.00,9,   2161.2,2,    756.2,2,   2313.8,2,     7.71,2,25,   20.00,   -999,-999.0000,-999.000,  2.6877,-999.000
     316N151_2,   A24,   119,  1,      7,      7,2,19970622,1934, 52.7342, -34.7120, 4273,   3345.1,   2.9649,  34.9622,2,  34.9614,2,    273.2,2,    273.4,2,    14.58,2,    16.23,2,     0.00,2,     1.09,2,    2.018,2,    0.978,2, -999.000,5,   1.7754,3,     7.38,2,   2161.2,2,   -999.0,9,   2314.1,2,     7.72,2,25, -999.00,   -999,  0.0000,   0.160,  2.6778,-999.000
     316N151_2,   A24,   119,  1,      6,      6,2,19970622,1934, 52.7342, -34.7120, 4273,   3601.5,   2.9715,  34.9607,2,  34.9610,2,    271.3,2,    273.0,2,    15.28,2,    16.23,2,     0.00,2,     1.09,2,    2.019,2,    0.969,2, -999.000,9,-999.0000,9,  -999.00,9,   2163.0,2,    757.4,2,   2314.5,2,     7.72,2,25,   20.00,   -999,-999.0000,-999.000,  2.6558,-999.000
     316N151_2,   A24,   119,  1,      5,      5,2,19970622,1934, 52.7342, -34.7120, 4273,   3856.6,   2.9795,  34.9589,2,  34.9608,2,    271.1,2,    271.8,2,    16.09,2,    16.51,2,     0.00,2,     1.10,2,    1.922,2,    0.921,2, -999.000,5,   0.0059,4,  4553.40,4,   2164.5,2,   -999.0,9,   2315.3,2,     7.71,2,25, -999.00,   -999,  0.0000,   0.240,  2.6344,-999.000
     316N151_2,   A24,   119,  1,      4,      4,2,19970622,1934, 52.7342, -34.7120, 4273,   4060.5,   2.9415,  34.9498,2,  34.9522,2,    270.3,2,    271.3,2,    17.09,2,    16.65,2,     0.00,2,     1.12,2,    1.730,2,    0.836,2, -999.000,5,   1.8845,2,     5.99,2,   2164.2,2,    754.7,2,   2315.5,2,     7.72,2,25,   20.00,   -999,  0.0000,   0.130,  2.5736,-999.000
     316N151_2,   A24,   119,  1,      3,      3,2,19970622,1934, 52.7342, -34.7120, 4273,   4142.9,   2.9290,  34.9490,2,  34.9490,2,    270.7,2,    271.1,2,    17.39,2,    16.74,2,     0.00,2,     1.12,2,    1.698,2,    0.812,2, -999.000,5,   0.0009,4,  9310.38,4,   2165.0,2,    755.9,2,   2316.6,2,     7.72,2,25,   20.00,   -999,  0.0000,   0.240,  2.5517,-999.000
     316N151_2,   A24,   119,  1,      2,      2,2,19970622,1934, 52.7342, -34.7120, 4273,   4266.3,   2.9320,  34.9490,2,  34.9482,2,    270.4,2,    270.3,2,    18.19,2,    16.88,2,     0.00,2,     1.13,2,    1.635,2,    0.797,2, -999.000,5,   1.8766,2,     6.52,2,   2165.5,2,   -999.0,9,   2317.8,2,     7.72,2,25, -999.00,   -999,  0.0000,   0.130,  2.5398,-999.000
     316N151_2,   A24,   119,  1,      1,      1,2,19970622,1934, 52.7342, -34.7120, 4273,   4351.5,   2.9382,  34.9465,2,  34.9482,2,    270.4,2,    268.8,2,    18.48,2,    16.93,2,     0.00,2,     1.13,2,    1.621,2,    0.792,2, -999.000,5,   1.8642,2,     6.74,2,   2166.1,2,    756.9,2,   2318.7,2,     7.73,2,25,   20.00,   -999,  0.0000,   0.160,  2.5355,-999.000