BOTTLE,20220629CCHSIOAMB
EXPOCODE,SECT_ID,STNNBR,CASTNO,SAMPNO,BTLNBR,BTLNBR_FLAG_W,DATE,TIME,LATITUDE,LONGITUDE,DEPTH,CTDPRS,CTDTMP,CTDSAL,CTDSAL_FLAG_W,SALNTY,SALNTY_FLAG_W,CTDOXY,CTDOXY_FLAG_W,OXYGEN,OXYGEN_FLAG_W,SILCAT,SILCAT_FLAG_W,NITRAT,NITRAT_FLAG_W,NITRIT,NITRIT_FLAG_W,PHSPHT,PHSPHT_FLAG_W,CFC-11,CFC-11_FLAG_W,CFC-12,CFC-12_FLAG_W,TRITUM,TRITUM_FLAG_W,HELIUM,HELIUM_FLAG_W,DELHE3,DELHE3_FLAG_W,TCARBN,TCARBN_FLAG_W,PCO2,PCO2_FLAG_W,ALKALI,ALKALI_FLAG_W,PH,PH_FLAG_W,PH_TMP,PCO2TMP,CTDRAW,HELIER,DELHER,THETA,TRITER
,,,,,,,,,,,,DBAR,ITS-90,PSS-78,,PSS-78,,UMOL/KG,,UMOL/KG,,UMOL/KG,,UMOL/KG,,UMOL/KG,,UMOL/KG,,PMOL/KG,,PMOL/KG,,TU,,NMOL/KG,,PERCNT,,UMOL/KG,,UATM,,UMOL/KG,,,,DEG C,DEG C,,NMOL/KG,PERCNT,DEG C,TU
     316N151_2,   A24,    84,  1,     25,     25,2,19970615,2354, 62.3333, -31.3832, 2650,      3.2,   8.3509,  35.0232,2,  35.0236,2,   -999.0,5,    304.1,2,     1.58,2,     8.64,2,     0.12,2,     0.58,2,    4.324,2,    2.245,2, -999.000,5,   1.8111,2,    -1.72,2,   2105.3,2,    528.2,2,   2316.5,6,     7.85,6,25,   20.00,   -999,  0.0000,   0.170,  8.3506,-999.000
     316N151_2,   A24,    84,  1,     24,     24,2,19970615,2354, 62.3333, -31.3832, 2650,     45.1,   7.5159,  35.0450,2,  35.0427,2,   -999.0,5,    299.7,2,     1.66,2,     9.51,2,     0.15,2,     0.64,2, -999.000,9, -999.000,9, -999.000,5,   1.8172,2,    -2.03,2,   -999.0,9,    551.3,2,   -999.0,9,  -999.00,9,25,   20.00,   -999,  0.0000,   0.170,  7.5115,-999.000
     316N151_2,   A24,    84,  1,     23,     23,2,19970615,2354, 62.3333, -31.3832, 2650,    105.2,   6.6328,  35.0553,2,  35.0543,2,   -999.0,5,    277.5,2,     8.04,2,    14.77,2,     0.12,2,     0.99,2,    4.132,2,    2.131,2, -999.000,5,   1.8235,2,    -1.15,2,   -999.0,9,    675.5,2,   -999.0,9,  -999.00,9,25,   20.00,   -999,  0.0000,   0.170,  6.6233,-999.000
     316N151_2,   A24,    84,  1,     22,     22,2,19970615,2354, 62.3333, -31.3832, 2650,    205.6,   5.8774,  34.9790,2,  34.9797,2,   -999.0,5,    278.2,2,     8.70,2,    15.40,2,     0.05,2,     1.03,2,    4.131,2,    2.130,2, -999.000,5,   1.8265,2,    -0.53,2,   -999.0,9,    695.8,2,   -999.0,9,  -999.00,9,25,   20.00,   -999,  0.0000,   0.170,  5.8599,-999.000
     316N151_2,   A24,    84,  1,     21,     21,2,19970615,2354, 62.3333, -31.3832, 2650,    305.8,   5.5212,  34.9684,2,  34.9679,2,   -999.0,5,    272.5,2,     9.26,2,    16.06,2,     0.01,2,     1.07,2,    3.888,2,    1.984,2, -999.000,9,-999.0000,9,  -999.00,9,   -999.0,9,    714.3,2,   -999.0,9,  -999.00,9,25,   20.00,   -999,-999.0000,-999.000,  5.4958,-999.000
     316N151_2,   A24,    84,  1,     20,     20,2,19970615,2354, 62.3333, -31.3832, 2650,    408.0,   5.1741,  34.9498,2,  34.9506,2,   -999.0,5,    282.4,2,     9.05,2,    15.83,2,     0.01,2,     1.06,2,    4.126,2,    2.130,2, -999.000,5,   1.8448,2,     0.20,2,   -999.0,9,    713.8,2,   -999.0,9,  -999.00,9,25,   20.00,   -999,  0.0000,   0.170,  5.1410,-999.000
     316N151_2,   A24,    84,  1,     19,     19,2,19970615,2354, 62.3333, -31.3832, 2650,    509.3,   4.6961,  34.9070,2,  34.9095,2,   -999.0,5,    279.1,2,     9.71,2,    16.40,2,     0.00,2,     1.09,2,    4.006,2,    2.018,2, -999.000,9,-999.0000,9,  -999.00,9,   -999.0,9,    736.9,2,   -999.0,9,  -999.00,9,25,   20.00,   -999,-999.0000,-999.000,  4.6563,-999.000
     316N151_2,   A24,    84,  1,     18,     18,2,19970615,2354, 62.3333, -31.3832, 2650,    609.6,   4.2293,  34.8860,2,  34.8873,2,   -999.0,5,    281.2,2,     9.98,2,    16.69,2,     0.00,2,     1.11,2,    4.016,2,    2.019,2, -999.000,9,-999.0000,9,  -999.00,9,   -999.0,9,    748.3,2,   -999.0,9,  -999.00,9,25,   20.00,   -999,-999.0000,-999.000,  4.1835,-999.000
     316N151_2,   A24,    84,  1,     17,     17,2,19970615,2354, 62.3333, -31.3832, 2650,    710.2,   3.9975,  34.8777,2,  34.8776,2,   -999.0,5,    287.9,2,     9.86,2,    16.55,2,     0.00,2,     1.10,2, -999.000,9, -999.000,9, -999.000,9,-999.0000,9,  -999.00,9,   -999.0,9,    746.3,2,   -999.0,9,  -999.00,9,25,   20.00,   -999,-999.0000,-999.000,  3.9449,-999.000
     316N151_2,   A24,    84,  1,     16,     16,2,19970615,2354, 62.3333, -31.3832, 2650,    812.9,   3.8809,  34.8818,2,  34.8812,2,   -999.0,5,    285.6,2,    10.13,2,    16.79,2,     0.00,2,     1.11,2,    3.981,2,    1.983,2, -999.000,5,   1.8394,2,     1.71,2,   -999.0,9,    756.9,2,   -999.0,9,  -999.00,9,25,   20.00,   -999,  0.0000,   0.170,  3.8208,-999.000
     316N151_2,   A24,    84,  1,     15,     15,2,19970615,2354, 62.3333, -31.3832, 2650,    912.6,   3.9026,  34.9141,2,  34.9128,2,   -999.0,5,    272.0,2,    10.99,2,    17.26,2,     0.00,2,     1.14,2,    3.259,2,    1.593,2, -999.000,9,-999.0000,9,  -999.00,9,   -999.0,9,    769.9,2,   -999.0,9,  -999.00,9,25,   20.00,   -999,-999.0000,-999.000,  3.8342,-999.000
     316N151_2,   A24,    84,  1,     14,     14,2,19970615,2354, 62.3333, -31.3832, 2650,    996.8,   3.8603,  34.9230,2,  34.9227,2,   -999.0,5,    273.0,2,    10.97,2,    17.17,2,     0.00,2,     1.13,2,    3.144,2,    1.526,2, -999.000,5,   1.8503,2,     5.26,2,   -999.0,9,    767.3,2,   -999.0,9,  -999.00,9,25,   20.00,   -999,  0.0000,   0.160,  3.7853,-999.000
     316N151_2,   A24,    84,  1,     13,     13,2,19970615,2354, 62.3333, -31.3832, 2650,   1111.7,   3.7641,  34.9253,2,  34.9262,2,   -999.0,5,    273.2,2,    11.14,2,    16.98,2,     0.00,2,     1.14,2,    3.063,2,    1.489,2, -999.000,9,-999.0000,9,  -999.00,9,   -999.0,9,    770.1,2,   -999.0,9,  -999.00,9,25,   20.00,   -999,-999.0000,-999.000,  3.6803,-999.000
     316N151_2,   A24,    84,  1,     12,     12,2,19970615,2354, 62.3333, -31.3832, 2650,   1266.6,   3.6158,  34.9202,2,  34.9205,2,   -999.0,5,    276.9,2,    11.12,2,    16.93,2,     0.00,2,     1.12,2,    3.074,2,    1.489,2, -999.000,5,   1.8488,2,     5.26,2,   -999.0,9,    762.0,2,   -999.0,9,  -999.00,9,25,   20.00,   -999,  0.0000,   0.160,  3.5203,-999.000
     316N151_2,   A24,    84,  1,     11,     11,2,19970615,2354, 62.3333, -31.3832, 2650,   1416.9,   3.4128,  34.9025,2,  34.9026,2,   -999.0,5,    282.5,2,    11.10,2,    16.83,2,     0.00,2,     1.11,2, -999.000,9, -999.000,9, -999.000,5,   1.8540,2,     0.82,4,   -999.0,9,    759.3,2,   -999.0,9,  -999.00,9,25,   20.00,   -999,  0.0000,   0.170,  3.3066,-999.000
     316N151_2,   A24,    84,  1,     10,     10,2,19970615,2354, 62.3333, -31.3832, 2650,   1568.4,   3.2493,  34.8883,2,  34.8882,2,   -999.0,5,    287.7,2,    11.08,2,    16.83,2,     0.00,2,     1.11,2,    3.399,2,    1.643,2, -999.000,5,   4.7804,4,    10.27,4,   -999.0,9,    757.8,2,   -999.0,9,  -999.00,9,25,   20.00,   -999,  0.0000,   0.340,  3.1319,-999.000
     316N151_2,   A24,    84,  1,      9,      9,2,19970615,2354, 62.3333, -31.3832, 2650,   1720.5,   3.1541,  34.8778,2,  34.8772,2,   -999.0,5,    290.6,2,    11.07,2,    16.74,2,     0.00,2,     1.12,2,    3.510,2,    1.703,2, -999.000,9,-999.0000,9,  -999.00,9,   -999.0,9,    757.5,2,   -999.0,9,  -999.00,9,25,   20.00,   -999,-999.0000,-999.000,  3.0246,-999.000
     316N151_2,   A24,    84,  1,      8,      8,2,19970615,2354, 62.3333, -31.3832, 2650,   1873.4,   3.0892,  34.8747,2,  34.8743,2,   -999.0,5,    290.8,2,    11.14,2,    16.69,2,     0.00,2,     1.11,2,    3.501,2,    1.660,2, -999.000,5,   1.8688,2,     3.86,2,   -999.0,9,    754.6,2,   -999.0,9,  -999.00,9,25,   20.00,   -999,  0.0000,   0.170,  2.9470,-999.000
     316N151_2,   A24,    84,  1,      7,      7,2,19970615,2354, 62.3333, -31.3832, 2650,   2025.0,   3.0735,  34.8827,2,  34.8817,2,   -999.0,5,    289.7,2,    11.42,2,    16.64,2,     0.00,2,     1.11,2, -999.000,9, -999.000,9, -999.000,9,-999.0000,9,  -999.00,9,   -999.0,9,    751.4,2,   -999.0,9,  -999.00,9,25,   20.00,   -999,-999.0000,-999.000,  2.9177,-999.000
     316N151_2,   A24,    84,  1,      6,      6,2,19970615,2354, 62.3333, -31.3832, 2650,   2176.5,   3.0649,  34.8905,2,  34.8910,2,   -999.0,5,    286.1,2,    11.78,2,    16.60,2,     0.00,2,     1.11,2,    2.941,2,    1.403,2,    1.222,2,-999.0000,5,  -999.00,5,   -999.0,9,    749.3,2,   -999.0,9,  -999.00,9,25,   20.00,   -999,-999.0000,-999.000,  2.8952,   0.016
     316N151_2,   A24,    84,  1,      5,      5,2,19970615,2354, 62.3333, -31.3832, 2650,   2380.2,   3.0378,  34.9015,2,  34.9016,2,   -999.0,5,    282.8,2,    12.15,2,    16.50,2,     0.00,2,     1.10,2,    2.600,2,    1.258,2,    1.094,2,   1.8629,2,     6.06,2,   -999.0,9,   -999.0,9,   -999.0,9,  -999.00,9,25, -999.00,   -999,  0.0000,   0.170,  2.8490,   0.023
     316N151_2,   A24,    84,  1,      4,      4,2,19970615,2354, 62.3333, -31.3832, 2650,   2531.7,   3.0186,  34.9039,2,  34.9044,2,   -999.0,5,    282.3,2,    12.33,2,    16.45,2,     0.00,2,     1.10,2,    2.534,2,    1.206,2,    1.122,2,   1.8666,2,     6.18,2,   -999.0,9,    748.0,2,   -999.0,9,  -999.00,9,25,   20.00,   -999,  0.0000,   0.170,  2.8154,   0.014
     316N151_2,   A24,    84,  1,      3,      3,2,19970615,2354, 62.3333, -31.3832, 2650,   2582.7,   3.0208,  34.9042,2,  34.9044,2,   -999.0,5,    282.3,2,    12.31,2,    16.45,2,     0.00,2,     1.16,4,    2.525,2,    1.204,2, -999.000,9,-999.0000,9,  -999.00,9,   -999.0,9,    749.3,2,   -999.0,9,  -999.00,9,25,   20.00,   -999,-999.0000,-999.000,  2.8125,-999.000
     316N151_2,   A24,    84,  1,      2,      2,2,19970615,2354, 62.3333, -31.3832, 2650,   2632.7,   3.0160,  34.9054,2,  34.9046,2,   -999.0,5,    283.3,2,    12.29,2,    16.40,2,     0.00,2,     1.11,2,    2.491,2,    1.194,2,    1.102,2,   1.8570,2,     6.67,2,   -999.0,9,   -999.0,9,   -999.0,9,  -999.00,9,25, -999.00,   -999,  0.0000,   0.170,  2.8028,   0.023
     316N151_2,   A24,    84,  1,      1,      1,2,19970615,2354, 62.3333, -31.3832, 2650,   2664.0,   3.0199,  34.9049,2,  34.9050,2,   -999.0,5,    282.8,2,    12.27,2,    16.40,2,     0.00,2,     1.10,2,    2.493,2,    1.197,2,    1.207,2,   4.7991,4,   -99.75,4,   -999.0,9,    749.5,2,   -999.0,9,  -999.00,9,25,   20.00,   -999,  0.0000,   0.880,  2.8034,   0.025
     316N151_2,   A24,    85,  1,     25,     25,2,19970616,0437, 62.6343, -32.2612, 2939,      2.8,   8.3000,  35.0447,2,  35.0437,2,   -999.0,5,    307.0,2,     1.70,2,     8.24,2,     0.10,2,     0.56,2, -999.000,9, -999.000,9,    1.568,2,   1.8639,2,    -1.73,2,   2100.8,2,   -999.0,9,   2316.6,6,     7.86,6,25, -999.00,   -999,  0.0000,   0.190,  8.2997,   0.023
     316N151_2,   A24,    85,  1,     24,     24,2,19970616,0437, 62.6343, -32.2612, 2939,     31.5,   7.5837,  35.0440,2,  35.0341,2,   -999.0,5,    303.8,2,     1.49,2,     9.25,2,     0.13,2,     0.62,2, -999.000,9, -999.000,9, -999.000,9,-999.0000,9,  -999.00,9,   2108.3,2,   -999.0,9,   2316.9,2,     7.84,2,25, -999.00,   -999,-999.0000,-999.000,  7.5807,-999.000
     316N151_2,   A24,    85,  1,     23,     23,2,19970616,0437, 62.6343, -32.2612, 2939,     86.0,   6.3733,  35.0408,2,  35.0392,2,   -999.0,5,    279.1,2,     8.37,2,    14.38,2,     0.17,2,     1.01,2, -999.000,9, -999.000,9,    1.485,2,   1.8719,2,    -1.05,2,   2145.5,2,   -999.0,9,   2314.7,2,     7.75,2,25, -999.00,   -999,  0.0000,   0.190,  6.3657,   0.029
     316N151_2,   A24,    85,  1,     22,     22,2,19970616,0437, 62.6343, -32.2612, 2939,    146.3,   5.8526,  34.9831,2,  34.9851,2,   -999.0,5,    274.8,2,     8.84,2,    15.65,2,     0.04,2,     1.04,2, -999.000,9, -999.000,9, -999.000,9,-999.0000,9,  -999.00,9,   2147.5,2,   -999.0,9,   2309.4,2,     7.75,2,25, -999.00,   -999,-999.0000,-999.000,  5.8403,-999.000
     316N151_2,   A24,    85,  1,     21,     21,2,19970616,0437, 62.6343, -32.2612, 2939,    215.6,   5.6030,  34.9830,2,  34.9825,2,   -999.0,5,    277.6,2,     8.92,2,    15.73,2,     0.01,2,     1.04,2, -999.000,9, -999.000,9,    1.467,2,   1.8493,2,    -0.06,2,   2146.6,2,   -999.0,9,   2313.3,2,     7.74,2,25, -999.00,   -999,  0.0000,   0.170,  5.5850,   0.021
     316N151_2,   A24,    85,  1,     20,     20,2,19970616,0437, 62.6343, -32.2612, 2939,    357.1,   5.0535,  34.9503,2,  34.9506,2,   -999.0,5,    273.3,2,     9.58,2,    16.35,2,     0.01,2,     1.09,2,    3.833,2,    1.954,2, -999.000,9,-999.0000,9,  -999.00,9,   2152.3,2,   -999.0,9,   2308.5,2,     7.73,2,25, -999.00,   -999,-999.0000,-999.000,  5.0250,-999.000
     316N151_2,   A24,    85,  1,     19,     19,2,19970616,0437, 62.6343, -32.2612, 2939,    426.5,   4.7613,  34.9359,2,  34.9377,2,   -999.0,5,    271.7,2,     9.95,2,    16.68,2,     0.01,2,     1.11,2, -999.000,9, -999.000,9,    1.181,2,   1.8462,2,     2.18,2,   2155.2,2,   -999.0,9,   2309.2,2,     7.72,2,25, -999.00,   -999,  0.0000,   0.170,  4.7280,   0.025
     316N151_2,   A24,    85,  1,     18,     18,2,19970616,0437, 62.6343, -32.2612, 2939,    548.6,   4.2145,  34.8887,2,  34.8907,2,   -999.0,5,    286.0,2,     9.65,2,    16.40,2,     0.00,2,     1.09,2, -999.000,9, -999.000,9,    1.499,2,   1.9111,2,     0.81,2,   2151.6,2,   -999.0,9,   2304.3,2,     7.72,2,25, -999.00,   -999,  0.0000,   0.170,  4.1736,   0.027
     316N151_2,   A24,    85,  1,     17,     17,2,19970616,0437, 62.6343, -32.2612, 2939,    678.9,   3.8239,  34.8709,2,  34.8706,2,   -999.0,5,    291.6,2,     9.73,2,    16.54,2,     0.00,2,     1.10,2,    4.236,2,    2.142,2, -999.000,5,   1.8648,2,     0.95,2,   2151.6,2,   -999.0,9,   2303.4,2,     7.72,2,25, -999.00,   -999,  0.0000,   0.170,  3.7747,-999.000
     316N151_2,   A24,    85,  1,     16,     16,2,19970616,0437, 62.6343, -32.2612, 2939,    770.0,   3.8832,  34.8931,2,  34.8936,2,   -999.0,5,    278.3,2,    10.39,2,    17.11,2,     0.00,2,     1.13,2,    3.640,2,    1.808,2, -999.000,9,-999.0000,9,  -999.00,9,   2156.1,2,   -999.0,9,   2305.7,2,     7.72,2,25, -999.00,   -999,-999.0000,-999.000,  3.8265,-999.000
     316N151_2,   A24,    85,  1,     15,     15,2,19970616,0437, 62.6343, -32.2612, 2939,    859.2,   3.6764,  34.8876,2,  34.8864,2,   -999.0,5,    277.8,2,    10.66,2,    17.30,2,     0.00,2,     1.15,2, -999.000,9, -999.000,9,    1.278,2,   1.5258,4,     4.58,4,   2157.1,2,   -999.0,9,   2305.2,2,     7.70,2,25, -999.00,   -999,  0.0000,   0.170,  3.6139,   0.020
     316N151_2,   A24,    85,  1,     14,     14,2,19970616,0437, 62.6343, -32.2612, 2939,   1060.2,   3.4010,  34.8845,2,  34.8844,2,   -999.0,5,    283.5,2,    10.74,2,    17.16,2,     0.00,2,     1.13,2, -999.000,9, -999.000,9,    1.279,2,-999.0000,5,  -999.00,5,   2156.7,2,   -999.0,9,   2304.4,2,     7.72,2,25, -999.00,   -999,-999.0000,-999.000,  3.3246,   0.021
     316N151_2,   A24,    85,  1,     13,     13,2,19970616,0437, 62.6343, -32.2612, 2939,   1261.1,   3.2166,  34.8743,2,  34.8754,2,   -999.0,5,    290.0,2,    10.63,2,    16.97,2,     0.00,2,     1.12,2,    3.651,2,    1.785,2,    1.292,2,   7.2679,4,   -99.45,4,   2154.0,2,   -999.0,9,   2304.3,2,     7.71,2,25, -999.00,   -999,  0.0000,   0.580,  3.1255,   0.021
     316N151_2,   A24,    85,  1,     12,     12,2,19970616,0437, 62.6343, -32.2612, 2939,   1464.7,   3.1236,  34.8697,2,  34.8689,2,   -999.0,5,    292.8,2,    10.61,2,    16.83,2,     0.00,2,     1.12,2, -999.000,9, -999.000,9,    1.290,2,   1.9011,2,   -20.35,4,   2152.9,2,   -999.0,9,   2302.8,2,     7.72,2,25, -999.00,   -999,  0.0000,   0.180,  3.0166,   0.021
     316N151_2,   A24,    85,  1,     11,     11,2,19970616,0437, 62.6343, -32.2612, 2939,   1666.1,   3.0163,  34.8557,2,  34.8553,2,   -999.0,5,    298.0,2,    10.40,2,    16.73,2,     0.00,2,     1.11,2, -999.000,9, -999.000,9,    1.368,2,   1.8909,2,     3.09,2,   2152.2,2,   -999.0,9,   2304.7,2,     7.71,2,25, -999.00,   -999,  0.0000,   0.170,  2.8934,   0.023
     316N151_2,   A24,    85,  1,     10,     10,2,19970616,0437, 62.6343, -32.2612, 2939,   1818.3,   2.9773,  34.8524,2,  34.8506,2,   -999.0,5,    298.2,2,    10.39,2,    16.63,2,     0.00,2,     1.10,2,    3.965,2,    1.925,2,    1.287,2,   1.9087,2,     2.89,2,   2151.9,2,   -999.0,9,   2302.0,2,     7.72,2,25, -999.00,   -999,  0.0000,   0.170,  2.8417,   0.021
     316N151_2,   A24,    85,  1,      9,      9,2,19970616,0437, 62.6343, -32.2612, 2939,   2020.0,   2.9843,  34.8588,2,  34.8569,2,   -999.0,5,    295.9,2,    10.47,2,    16.58,2,     0.00,2,     1.10,2, -999.000,9, -999.000,9,    1.287,2,   1.8729,2,     3.71,2,   2151.7,2,   -999.0,9,   2302.3,2,     7.71,2,25, -999.00,   -999,  0.0000,   0.170,  2.8304,   0.022
     316N151_2,   A24,    85,  1,      8,      8,2,19970616,0437, 62.6343, -32.2612, 2939,   2222.6,   3.0804,  34.8877,2,  34.8872,2,   -999.0,5,    287.9,2,    11.32,2,    16.54,2,     0.00,2,     1.10,2,    2.983,2,    1.435,2,    1.282,2,   1.8668,2,     4.99,2,   2152.4,2,   -999.0,9,   2304.3,2,     7.72,2,25, -999.00,   -999,  0.0000,   0.170,  2.9060,   0.027
     316N151_2,   A24,    85,  1,      7,      7,2,19970616,0437, 62.6343, -32.2612, 2939,   2425.9,   3.0719,  34.9052,2,  34.9055,2,   -999.0,5,    282.8,2,    11.99,2,    16.44,2,     0.00,2,     1.10,2, -999.000,9, -999.000,9,    1.078,2,   1.8633,2,     6.19,2,   2154.0,2,   -999.0,9,   2308.2,2,     7.72,2,25, -999.00,   -999,  0.0000,   0.170,  2.8781,   0.018
     316N151_2,   A24,    85,  1,      6,      6,2,19970616,0437, 62.6343, -32.2612, 2939,   2576.8,   3.0115,  34.9130,2,  34.9126,2,   -999.0,5,    281.1,2,    12.26,2,    16.34,2,     0.00,2,     1.09,2,    2.236,2,    1.087,2,    1.029,2,   1.8744,2,     6.70,2,   2153.9,2,   -999.0,9,   2307.1,2,     7.72,2,25, -999.00,   -999,  0.0000,   0.170,  2.8039,   0.019
     316N151_2,   A24,    85,  1,      5,      5,2,19970616,0437, 62.6343, -32.2612, 2939,   2730.8,   2.6911,  34.9053,2,  34.9065,2,   -999.0,5,    284.5,2,    11.57,2,    15.77,2,     0.00,2,     1.06,2,    2.579,2,    1.246,2,    1.033,2,   1.8629,2,     6.19,2,   2153.7,2,   -999.0,9,   2307.0,2,     7.72,2,25, -999.00,   -999,  0.0000,   0.170,  2.4744,   0.018
     316N151_2,   A24,    85,  1,      4,      4,2,19970616,0437, 62.6343, -32.2612, 2939,   2832.3,   2.3336,  34.8950,2,  34.8961,2,   -999.0,5,    290.1,2,    10.38,2,    15.06,2,     0.00,2,     1.01,2, -999.000,9, -999.000,9,    1.194,2,   1.8737,2,     4.99,2,   2152.2,2,   -999.0,9,   2304.6,2,     7.72,2,25, -999.00,   -999,  0.0000,   0.170,  2.1142,   0.020
     316N151_2,   A24,    85,  1,      3,      3,2,19970616,0437, 62.6343, -32.2612, 2939,   2882.5,   2.2583,  34.8941,2,  34.8945,2,   -999.0,5,    291.2,2,    10.27,2,    14.96,2,     0.00,2,     1.01,2,    3.102,2,    1.515,2, -999.000,5,   1.8981,2,     5.24,2,   2152.4,2,   -999.0,9,   2305.2,2,     7.71,2,25, -999.00,   -999,  0.0000,   0.180,  2.0355,-999.000
     316N151_2,   A24,    85,  1,      2,      2,2,19970616,0437, 62.6343, -32.2612, 2939,   2923.5,   2.0993,  34.8959,2,  34.8953,2,   -999.0,5,    292.0,2,    10.06,2,    14.82,2,     0.00,2,     1.01,2, -999.000,9, -999.000,9, -999.000,9,-999.0000,9,  -999.00,9,   2152.8,2,   -999.0,9,   2305.4,2,     7.72,2,25, -999.00,   -999,-999.0000,-999.000,  1.8759,-999.000
     316N151_2,   A24,    85,  1,      1,      1,2,19970616,0437, 62.6343, -32.2612, 2939,   2959.2,   1.8947,  34.8824,2,  34.8900,2,   -999.0,5,    294.6,2,     9.36,2,    14.34,2,     0.00,2,     0.97,2,    3.423,2,    1.664,2, -999.000,5,   1.9034,2,     4.76,2,   2153.6,2,   -999.0,9,   2304.2,2,     7.72,2,25, -999.00,   -999,  0.0000,   0.180,  1.6722,-999.000