BOTTLE,20220629CCHSIOAMB
EXPOCODE,SECT_ID,STNNBR,CASTNO,SAMPNO,BTLNBR,BTLNBR_FLAG_W,DATE,TIME,LATITUDE,LONGITUDE,DEPTH,CTDPRS,CTDTMP,CTDSAL,CTDSAL_FLAG_W,SALNTY,SALNTY_FLAG_W,CTDOXY,CTDOXY_FLAG_W,OXYGEN,OXYGEN_FLAG_W,SILCAT,SILCAT_FLAG_W,NITRAT,NITRAT_FLAG_W,NITRIT,NITRIT_FLAG_W,PHSPHT,PHSPHT_FLAG_W,CFC-11,CFC-11_FLAG_W,CFC-12,CFC-12_FLAG_W,TRITUM,TRITUM_FLAG_W,HELIUM,HELIUM_FLAG_W,DELHE3,DELHE3_FLAG_W,TCARBN,TCARBN_FLAG_W,PCO2,PCO2_FLAG_W,ALKALI,ALKALI_FLAG_W,PH,PH_FLAG_W,PH_TMP,PCO2TMP,CTDRAW,HELIER,DELHER,THETA,TRITER
,,,,,,,,,,,,DBAR,ITS-90,PSS-78,,PSS-78,,UMOL/KG,,UMOL/KG,,UMOL/KG,,UMOL/KG,,UMOL/KG,,UMOL/KG,,PMOL/KG,,PMOL/KG,,TU,,NMOL/KG,,PERCNT,,UMOL/KG,,UATM,,UMOL/KG,,,,DEG C,DEG C,,NMOL/KG,PERCNT,DEG C,TU
     316N151_2,   A24,   107,  1,     28,     28,2,19970620,0716, 57.3480, -40.2253, 3253,      4.1,   7.0396,  34.6301,2,  34.6299,2,    317.9,2,    311.6,2,     0.39,2,     7.10,2,     0.10,2,     0.54,2,    4.751,2,    2.447,2, -999.000,9,-999.0000,9,  -999.00,9,   2094.3,2,    544.6,2,   2295.8,6,     7.84,6,25,   20.00,   -999,-999.0000,-999.000,  7.0392,-999.000
     316N151_2,   A24,   107,  1,     27,     27,2,19970620,0716, 57.3480, -40.2253, 3253,     31.7,   6.9362,  34.6365,2,  34.6313,2,    313.2,2,    311.1,2,     0.37,2,     7.37,2,     0.10,2,     0.57,2, -999.000,9, -999.000,9, -999.000,9,-999.0000,9,  -999.00,9,   2097.4,2,    551.0,2,   2297.6,2,     7.83,2,25,   20.00,   -999,-999.0000,-999.000,  6.9333,-999.000
     316N151_2,   A24,   107,  1,     26,     26,2,19970620,0716, 57.3480, -40.2253, 3253,     66.9,   4.2402,  34.6662,2,  34.6690,2,    309.4,2,    312.4,2,     7.18,2,    12.31,2,     0.21,2,     0.93,2, -999.000,9, -999.000,9, -999.000,9,-999.0000,9,  -999.00,9,   2134.3,2,    695.9,2,   2295.1,2,     7.75,2,25,   20.00,   -999,-999.0000,-999.000,  4.2354,-999.000
     316N151_2,   A24,   107,  1,     25,     25,2,19970620,0716, 57.3480, -40.2253, 3253,    126.4,   2.8975,  34.7133,2,  34.7122,2,    307.7,2,    309.4,2,     9.02,2,    15.73,2,     0.12,2,     1.06,2, -999.000,9, -999.000,9, -999.000,9,-999.0000,9,  -999.00,9,   2146.7,2,    755.9,2,   2294.1,2,     7.71,2,25,   20.00,   -999,-999.0000,-999.000,  2.8899,-999.000
     316N151_2,   A24,   107,  1,     24,     24,2,19970620,0716, 57.3480, -40.2253, 3253,    187.2,   2.8583,  34.7519,2,  34.7503,2,    308.0,2,    304.0,2,     9.31,2,    16.20,2,     0.02,2,     1.08,2, -999.000,9, -999.000,9, -999.000,9,-999.0000,9,  -999.00,9,   2150.0,2,    761.8,2,   2294.5,2,     7.72,2,25,   20.00,   -999,-999.0000,-999.000,  2.8470,-999.000
     316N151_2,   A24,   107,  1,     23,     23,2,19970620,0716, 57.3480, -40.2253, 3253,    277.2,   3.2542,  34.8285,2,  34.8289,2,    297.9,2,    286.3,2,    10.17,2,    17.10,2,     0.00,2,     1.12,2, -999.000,9, -999.000,9, -999.000,9,-999.0000,9,  -999.00,9,   2155.3,2,    770.7,2,   2300.4,2,     7.70,2,25,   20.00,   -999,-999.0000,-999.000,  3.2362,-999.000
     316N151_2,   A24,   107,  1,     22,     22,2,19970620,0716, 57.3480, -40.2253, 3253,    367.1,   3.0817,  34.8189,2,  34.8187,2,    293.5,2,    294.8,2,     9.97,2,    16.87,2,     0.00,2,     1.11,2,    4.282,2,    2.161,2, -999.000,9,-999.0000,9,  -999.00,9,   2153.3,2,    767.4,2,   2299.0,2,     7.71,2,25,   20.00,   -999,-999.0000,-999.000,  3.0582,-999.000
     316N151_2,   A24,   107,  1,     21,     21,2,19970620,0716, 57.3480, -40.2253, 3253,    457.2,   3.0803,  34.8260,2,  34.8263,2,    295.6,2,    294.5,2,     9.96,2,    16.86,2,     0.00,2,     1.11,2, -999.000,9, -999.000,9, -999.000,9,-999.0000,9,  -999.00,9,   2154.6,2,    765.8,2,   2300.6,2,     7.71,2,25,   20.00,   -999,-999.0000,-999.000,  3.0507,-999.000
     316N151_2,   A24,   107,  1,     20,     20,2,19970620,0716, 57.3480, -40.2253, 3253,    566.1,   3.0334,  34.8266,2,  34.8263,2,    298.8,2,    299.3,2,     9.85,2,    16.73,2,     0.00,2,     1.10,2, -999.000,9, -999.000,9, -999.000,9,-999.0000,9,  -999.00,9,   2152.2,2,    762.3,2,   2300.0,2,     7.72,2,25,   20.00,   -999,-999.0000,-999.000,  2.9964,-999.000
     316N151_2,   A24,   107,  1,     19,     19,2,19970620,0716, 57.3480, -40.2253, 3253,    686.2,   3.1524,  34.8476,2,  34.8485,2,    290.1,2,    291.9,2,    10.33,2,    17.01,2,     0.00,2,     1.12,2, -999.000,9, -999.000,9, -999.000,9,-999.0000,9,  -999.00,9,   2154.4,2,    766.8,2,   2304.4,2,     7.71,2,25,   20.00,   -999,-999.0000,-999.000,  3.1063,-999.000
     316N151_2,   A24,   107,  1,     18,     18,2,19970620,0716, 57.3480, -40.2253, 3253,    805.6,   3.1293,  34.8524,2,  34.8534,2,    291.8,2,    288.6,2,    10.51,2,    17.05,2,     0.00,2,     1.12,2, -999.000,9, -999.000,9, -999.000,9,-999.0000,9,  -999.00,9,   2154.4,2,    765.9,2,   2300.8,2,     7.71,2,25,   20.00,   -999,-999.0000,-999.000,  3.0745,-999.000
     316N151_2,   A24,   107,  1,     17,     17,2,19970620,0716, 57.3480, -40.2253, 3253,    954.7,   3.0718,  34.8535,2,  34.8573,2,    294.5,2,    291.9,2,    10.50,2,    16.96,2,     0.00,2,     1.12,2,    3.707,2,    1.786,2, -999.000,9,-999.0000,9,  -999.00,9,   2153.8,2,    760.3,2,   2304.7,2,     7.71,2,25,   20.00,   -999,-999.0000,-999.000,  3.0062,-999.000
     316N151_2,   A24,   107,  1,     16,     16,2,19970620,0716, 57.3480, -40.2253, 3253,   1106.0,   2.9961,  34.8487,2,  34.8481,2,    294.4,2,    294.1,2,    10.40,2,    16.82,2,     0.00,2,     1.11,2, -999.000,9, -999.000,9, -999.000,9,-999.0000,9,  -999.00,9,   2152.3,2,    759.4,2,   2301.1,2,     7.72,2,25,   20.00,   -999,-999.0000,-999.000,  2.9195,-999.000
     316N151_2,   A24,   107,  1,     15,     15,2,19970620,0716, 57.3480, -40.2253, 3253,   1307.8,   2.9509,  34.8465,2,  34.8453,2,    300.9,2,    296.4,2,    10.39,2,    16.72,2,     0.00,2,     1.11,2,    3.775,2,    1.851,2, -999.000,9,-999.0000,9,  -999.00,9,   2152.7,2,    756.6,2,   2304.6,2,     7.72,2,25,   20.00,   -999,-999.0000,-999.000,  2.8587,-999.000
     316N151_2,   A24,   107,  1,     14,     14,2,19970620,0716, 57.3480, -40.2253, 3253,   1509.6,   2.9152,  34.8438,2,  34.8431,2,    294.9,2,    297.8,2,    10.18,2,    16.63,2,     0.00,2,     1.10,2,    3.846,2,    1.879,2, -999.000,9,-999.0000,9,  -999.00,9,   2152.3,2,    755.9,2,   2299.8,2,     7.73,2,25,   20.00,   -999,-999.0000,-999.000,  2.8069,-999.000
     316N151_2,   A24,   107,  1,     13,     13,2,19970620,0716, 57.3480, -40.2253, 3253,   1710.1,   2.8931,  34.8409,2,  34.8413,2,    298.8,2,    299.2,2,    10.17,2,    16.58,2,     0.00,2,     1.10,2,    3.889,2,    1.902,2, -999.000,9,-999.0000,9,  -999.00,9,   2150.5,2,    755.3,2,   2302.6,2,     7.72,2,25,   20.00,   -999,-999.0000,-999.000,  2.7681,-999.000
     316N151_2,   A24,   107,  1,     12,     12,2,19970620,0716, 57.3480, -40.2253, 3253,   1809.5,   2.8935,  34.8419,2,  34.8421,2,    295.4,2,    299.0,2,    10.16,2,    16.53,2,     0.00,2,     1.10,2, -999.000,9, -999.000,9, -999.000,9,-999.0000,9,  -999.00,9,   2150.6,2,    752.0,2,   2301.0,2,     7.72,2,25,   20.00,   -999,-999.0000,-999.000,  2.7599,-999.000
     316N151_2,   A24,   107,  1,     11,     11,2,19970620,0716, 57.3480, -40.2253, 3253,   2011.0,   2.9855,  34.8615,2,  34.8637,2,    288.7,2,    292.5,2,    10.74,2,    16.58,2,     0.00,2,     1.10,2,    3.303,2,    1.588,2, -999.000,9,-999.0000,9,  -999.00,9,   2152.5,2,    749.9,2,   2306.1,2,     7.72,2,25,   20.00,   -999,-999.0000,-999.000,  2.8324,-999.000
     316N151_2,   A24,   107,  1,     10,     10,2,19970620,0716, 57.3480, -40.2253, 3253,   2213.2,   3.1054,  34.9022,2,  34.9014,2,    281.5,2,    282.0,2,    11.90,2,    16.53,2,     0.00,2,     1.10,2, -999.000,9, -999.000,9, -999.000,9,-999.0000,9,  -999.00,9,   2154.9,2,    747.4,2,   2306.1,2,     7.73,2,25,   20.00,   -999,-999.0000,-999.000,  2.9315,-999.000
     316N151_2,   A24,   107,  1,      9,      9,2,19970620,0716, 57.3480, -40.2253, 3253,   2367.1,   3.1025,  34.9123,2,  34.9126,2,    280.7,2,    282.5,2,    12.48,2,    16.62,2,     0.00,2,     1.10,2, -999.000,9, -999.000,9, -999.000,9,-999.0000,9,  -999.00,9,   2154.8,2,   -999.0,9,   2310.9,2,     7.72,2,25, -999.00,   -999,-999.0000,-999.000,  2.9138,-999.000
     316N151_2,   A24,   107,  1,      8,      8,2,19970620,0716, 57.3480, -40.2253, 3253,   2520.7,   2.9972,  34.9215,2,  34.9199,2,    279.8,2,    278.3,2,    13.06,2,    16.48,2,     0.00,2,     1.10,2,    1.726,2,    0.838,2, -999.000,9,-999.0000,9,  -999.00,9,   2153.3,2,    742.7,2,   2308.1,2,     7.73,2,25,   20.00,   -999,-999.0000,-999.000,  2.7954,-999.000
     316N151_2,   A24,   107,  1,      7,      7,2,19970620,0716, 57.3480, -40.2253, 3253,   2704.5,   2.8918,  34.9269,2,  34.9269,2,    278.2,2,    277.0,2,    13.97,2,    16.43,2,     0.00,2,     1.10,2, -999.000,9, -999.000,9, -999.000,9,-999.0000,9,  -999.00,9,   2155.9,2,   -999.0,9,   2313.2,2,     7.73,2,25, -999.00,   -999,-999.0000,-999.000,  2.6737,-999.000
     316N151_2,   A24,   107,  1,      6,      6,2,19970620,0716, 57.3480, -40.2253, 3253,   2825.3,   2.8297,  34.9287,2,  34.9281,2,    277.7,2,    278.3,2,    14.35,2,    16.33,2,     0.00,2,     1.10,2,    1.584,2,    0.747,2, -999.000,9,-999.0000,9,  -999.00,9,   2156.1,2,    742.9,2,   2308.7,2,     7.73,2,25,   20.00,   -999,-999.0000,-999.000,  2.6006,-999.000
     316N151_2,   A24,   107,  1,      5,      5,2,19970620,0716, 57.3480, -40.2253, 3253,   2967.5,   2.6893,  34.9217,2,  34.9212,2,    279.3,2,    281.0,2,    14.54,2,    16.24,2,     0.00,2,     1.10,2, -999.000,9, -999.000,9, -999.000,9,-999.0000,9,  -999.00,9,   2155.7,2,   -999.0,9,   2312.4,2,     7.72,2,25, -999.00,   -999,-999.0000,-999.000,  2.4487,-999.000
     316N151_2,   A24,   107,  1,      4,      4,2,19970620,0716, 57.3480, -40.2253, 3253,   3079.4,   2.6057,  34.9187,2,  34.9178,2,    283.6,2,    280.0,2,    14.49,2,    16.11,2,     0.00,2,     1.08,2, -999.000,9, -999.000,9, -999.000,9,-999.0000,9,  -999.00,9,   2156.2,2,    745.1,2,   2311.6,2,     7.73,2,25,   20.00,   -999,-999.0000,-999.000,  2.3554,-999.000
     316N151_2,   A24,   107,  1,      3,      3,2,19970620,0716, 57.3480, -40.2253, 3253,   3182.7,   2.4881,  34.9118,2,  34.9129,2,    283.4,2,    281.4,2,    14.48,2,    16.01,2,     0.00,2,     1.08,2,    1.903,2,    0.914,2, -999.000,9,-999.0000,9,  -999.00,9,   2155.6,2,   -999.0,9,   2310.4,2,     7.73,2,25, -999.00,   -999,-999.0000,-999.000,  2.2298,-999.000
     316N151_2,   A24,   107,  1,      2,      2,2,19970620,0716, 57.3480, -40.2253, 3253,   3235.2,   2.4868,  34.9129,2,  34.9117,2,    282.9,2,    281.6,2,    14.38,2,    15.97,2,     0.00,2,     1.07,2, -999.000,9, -999.000,9, -999.000,9,-999.0000,9,  -999.00,9,   2155.7,2,    744.6,2,   2309.5,2,     7.73,2,25,   20.00,   -999,-999.0000,-999.000,  2.2230,-999.000
     316N151_2,   A24,   107,  1,      1,      1,2,19970620,0716, 57.3480, -40.2253, 3253,   3276.3,   2.4850,  34.9120,2,  34.9127,2,    284.2,2,    283.8,2,    14.53,2,    16.01,2,     0.00,2,     1.08,2,    1.938,2,    0.930,2, -999.000,9,-999.0000,9,  -999.00,9,   2156.9,2,    743.5,2,   2308.9,2,     7.73,2,25,   20.00,   -999,-999.0000,-999.000,  2.2169,-999.000