BOTTLE,20220629CCHSIOAMB
EXPOCODE,SECT_ID,STNNBR,CASTNO,SAMPNO,BTLNBR,BTLNBR_FLAG_W,DATE,TIME,LATITUDE,LONGITUDE,DEPTH,CTDPRS,CTDTMP,CTDSAL,CTDSAL_FLAG_W,SALNTY,SALNTY_FLAG_W,CTDOXY,CTDOXY_FLAG_W,OXYGEN,OXYGEN_FLAG_W,SILCAT,SILCAT_FLAG_W,NITRAT,NITRAT_FLAG_W,NITRIT,NITRIT_FLAG_W,PHSPHT,PHSPHT_FLAG_W,CFC-11,CFC-11_FLAG_W,CFC-12,CFC-12_FLAG_W,TRITUM,TRITUM_FLAG_W,HELIUM,HELIUM_FLAG_W,DELHE3,DELHE3_FLAG_W,TCARBN,TCARBN_FLAG_W,PCO2,PCO2_FLAG_W,ALKALI,ALKALI_FLAG_W,PH,PH_FLAG_W,PH_TMP,PCO2TMP,CTDRAW,HELIER,DELHER,THETA,TRITER
,,,,,,,,,,,,DBAR,ITS-90,PSS-78,,PSS-78,,UMOL/KG,,UMOL/KG,,UMOL/KG,,UMOL/KG,,UMOL/KG,,UMOL/KG,,PMOL/KG,,PMOL/KG,,TU,,NMOL/KG,,PERCNT,,UMOL/KG,,UATM,,UMOL/KG,,,,DEG C,DEG C,,NMOL/KG,PERCNT,DEG C,TU
     316N151_2,   A24,     8,  1,     28,     28,2,19970601,0705, 41.0565, -23.8270, 3714,      3.6,  17.0164,  36.0363,2,  36.0378,2,    243.4,2,    242.2,2,     0.52,2,     0.06,2,     0.00,2,     0.04,2,    2.760,2,    1.538,2, -999.000,9,-999.0000,9,  -999.00,9,   2074.8,2,    376.1,2,   2365.8,2,     7.98,2,25,   20.00,   -999,-999.0000,-999.000, 17.0158,-999.000
     316N151_2,   A24,     8,  1,     27,     27,2,19970601,0705, 41.0565, -23.8270, 3714,     51.4,  16.6411,  36.0012,2,  35.9990,2,    240.5,2,    242.8,2,     0.49,2,     0.11,2,     0.00,2,     0.04,2,    2.807,2,    1.522,2, -999.000,9,-999.0000,9,  -999.00,9,   2074.9,2,    375.1,2,   2363.4,2,     7.98,2,25,   20.00,   -999,-999.0000,-999.000, 16.6327,-999.000
     316N151_2,   A24,     8,  1,     26,     26,2,19970601,0705, 41.0565, -23.8270, 3714,    106.3,  14.9363,  36.0199,2,  36.0215,2,    233.2,2,    231.3,2,     1.29,2,     4.45,2,     0.11,2,     0.27,2,    2.895,2,    1.565,2, -999.000,9,-999.0000,9,  -999.00,9,   2101.1,2,    435.9,2,   2363.2,2,     7.93,2,25,   20.00,   -999,-999.0000,-999.000, 14.9201,-999.000
     316N151_2,   A24,     8,  1,     25,     25,2,19970601,0705, 41.0565, -23.8270, 3714,    206.5,  13.7883,  35.8840,2,  35.8887,2,    222.4,2,    228.7,2,     2.29,2,     7.22,2,     0.01,2,     0.44,2,    2.982,2,    1.599,2, -999.000,9,-999.0000,9,  -999.00,9,   2117.3,2,    477.3,2,   2354.3,2,     7.89,2,25,   20.00,   -999,-999.0000,-999.000, 13.7585,-999.000
     316N151_2,   A24,     8,  1,     24,     24,2,19970601,0705, 41.0565, -23.8270, 3714,    306.9,  12.8065,  35.7467,2,  35.7452,2,    224.1,2,    224.2,2,     3.40,2,     9.75,2,     0.01,2,     0.59,2,    3.000,2,    1.567,2, -999.000,9,-999.0000,9,  -999.00,9,   2127.7,2,    521.6,2,   2347.1,2,     7.86,2,25,   20.00,   -999,-999.0000,-999.000, 12.7642,-999.000
     316N151_2,   A24,     8,  1,     23,     23,2,19970601,0705, 41.0565, -23.8270, 3714,    407.3,  12.0435,  35.6313,2,  35.6327,2,    227.6,2,    223.3,2,     4.10,2,    11.14,2,     0.00,2,     0.68,2,    3.010,2,    1.573,2, -999.000,9,-999.0000,9,  -999.00,9,   2130.2,2,    554.1,2,   2342.3,2,     7.83,2,25,   20.00,   -999,-999.0000,-999.000, 11.9895,-999.000
     316N151_2,   A24,     8,  1,     22,     22,2,19970601,0705, 41.0565, -23.8270, 3714,    538.0,  11.2328,  35.5331,2,  35.5328,2,    217.7,2,    213.9,2,     5.11,2,    13.36,2,     0.00,2,     0.82,2,    2.883,2,    1.463,2, -999.000,9,-999.0000,9,  -999.00,9,   2143.4,2,    602.7,2,   2337.9,2,     7.81,2,25,   20.00,   -999,-999.0000,-999.000, 11.1641,-999.000
     316N151_2,   A24,     8,  1,     21,     21,2,19970601,0705, 41.0565, -23.8270, 3714,    638.3,  10.7872,  35.4987,2,  35.4990,2,    209.0,2,    206.8,2,     6.12,2,    14.64,2,     0.00,2,     0.91,2,    2.568,2,    1.297,2, -999.000,9,-999.0000,9,  -999.00,9,   2152.5,2,    631.8,2,   2336.3,2,     7.78,2,25,   20.00,   -999,-999.0000,-999.000, 10.7074,-999.000
     316N151_2,   A24,     8,  1,     20,     20,2,19970601,0705, 41.0565, -23.8270, 3714,    767.5,   9.5849,  35.3940,2,  35.3939,2,    191.2,2,    192.3,2,     8.99,2,    17.42,2,     0.00,2,     1.10,2,    1.870,2,    0.939,2, -999.000,9,-999.0000,9,  -999.00,9,   2168.4,2,    697.7,2,   2333.4,2,     7.75,2,25,   20.00,   -999,-999.0000,-999.000,  9.4951,-999.000
     316N151_2,   A24,     8,  1,     19,     19,2,19970601,0705, 41.0565, -23.8270, 3714,    828.7,   9.4957,  35.4421,2,  35.4416,2,    188.6,2,    191.0,2,     9.18,2,    17.57,2,     0.00,2,     1.12,2,    1.791,2,    0.874,2, -999.000,9,-999.0000,9,  -999.00,9,   2172.8,2,    697.0,2,   2339.1,2,     7.74,2,25,   20.00,   -999,-999.0000,-999.000,  9.3989,-999.000
     316N151_2,   A24,     8,  1,     18,     18,2,19970601,0705, 41.0565, -23.8270, 3714,    919.8,   9.0615,  35.4987,2,  35.4982,2,    192.5,2,    190.3,2,     9.98,2,    17.87,2,     0.00,2,     1.14,2,    1.475,2,    0.741,2, -999.000,9,-999.0000,9,  -999.00,9,   2174.7,2,    711.8,2,   2345.9,2,     7.75,2,25,   20.00,   -999,-999.0000,-999.000,  8.9564,-999.000
     316N151_2,   A24,     8,  1,     17,     17,2,19970601,0705, 41.0565, -23.8270, 3714,   1010.8,   8.6333,  35.5371,2,  35.5378,2,    195.0,2,    194.3,2,    10.38,2,    17.87,2,     0.00,2,     1.14,2,    1.337,2,    0.658,2, -999.000,9,-999.0000,9,  -999.00,9,   2182.7,2,    711.9,2,   2349.8,2,     7.74,2,25,   20.00,   -999,-999.0000,-999.000,  8.5203,-999.000
     316N151_2,   A24,     8,  1,     16,     16,2,19970601,0705, 41.0565, -23.8270, 3714,   1160.7,   7.6414,  35.4763,2,  35.4764,2,    209.5,2,    208.0,2,    10.78,2,    17.81,2,     0.00,2,     1.13,2,    1.314,2,    0.636,2, -999.000,9,-999.0000,9,  -999.00,9,   2183.8,2,    721.9,2,   2346.5,2,     7.74,2,25,   20.00,   -999,-999.0000,-999.000,  7.5190,-999.000
     316N151_2,   A24,     8,  1,     15,     15,2,19970601,0705, 41.0565, -23.8270, 3714,   1260.6,   6.7844,  35.3698,2,  35.3689,2,    217.9,2,    219.6,2,    11.07,2,    17.81,2,     0.00,2,     1.15,2,    1.342,2,    0.650,2, -999.000,9,-999.0000,9,  -999.00,9,   2179.3,2,    726.7,2,   2339.1,2,     7.73,2,25,   20.00,   -999,-999.0000,-999.000,  6.6587,-999.000
     316N151_2,   A24,     8,  1,     14,     14,2,19970601,0705, 41.0565, -23.8270, 3714,   1359.1,   5.8868,  35.2394,2,  35.2359,2,    230.6,2,    232.8,2,    11.26,2,    17.91,2,     0.00,2,     1.16,2,    1.402,2,    0.689,2, -999.000,9,-999.0000,9,  -999.00,9,   2176.6,2,    740.4,2,   2329.6,2,     7.73,2,25,   20.00,   -999,-999.0000,-999.000,  5.7596,-999.000
     316N151_2,   A24,     8,  1,     13,     13,2,19970601,0705, 41.0565, -23.8270, 3714,   1506.0,   4.9782,  35.1073,2,  35.1057,2,    244.6,2,    246.9,2,    11.46,2,    17.85,2,     0.00,2,     1.17,2,    1.470,2,    0.705,2, -999.000,9,-999.0000,9,  -999.00,9,   2161.4,2,    745.0,2,   2320.6,2,     7.72,2,25,   20.00,   -999,-999.0000,-999.000,  4.8461,-999.000
     316N151_2,   A24,     8,  1,     12,     12,2,19970601,0705, 41.0565, -23.8270, 3714,   1680.9,   4.2820,  35.0114,2,  35.0111,2,    256.6,2,    259.8,2,    11.34,2,    17.64,2,     0.00,2,     1.16,2,    1.485,2,    0.727,2, -999.000,9,-999.0000,9,  -999.00,9,   2160.4,2,   -999.0,9,   2314.9,2,     7.72,2,25, -999.00,   -999,-999.0000,-999.000,  4.1414,-999.000
     316N151_2,   A24,     8,  1,     11,     11,2,19970601,0705, 41.0565, -23.8270, 3714,   1814.6,   3.8739,  34.9611,2,  34.9633,2,    265.5,2,    266.8,2,    11.63,2,    17.48,2,     0.00,2,     1.15,2,    1.398,2,    0.683,2, -999.000,9,-999.0000,9,  -999.00,9,   2160.4,2,    745.3,2,   2313.9,2,     7.73,2,25,   20.00,   -999,-999.0000,-999.000,  3.7261,-999.000
     316N151_2,   A24,     8,  1,     10,     10,2,19970601,0705, 41.0565, -23.8270, 3714,   1990.2,   3.7930,  34.9746,2,  34.9745,2,    264.7,2,    265.1,2,    12.86,2,    17.52,2,     0.00,2,     1.17,2,    0.946,2,    0.471,2, -999.000,9,-999.0000,9,  -999.00,9,   2160.4,2,    736.7,2,   2312.4,2,     7.73,2,25,   20.00,   -999,-999.0000,-999.000,  3.6294,-999.000
     316N151_2,   A24,     8,  1,      9,      9,2,19970601,0705, 41.0565, -23.8270, 3714,   2189.6,   3.5822,  34.9673,2,  34.9674,2,    262.2,2,    264.2,2,    14.83,2,    17.78,2,     0.00,2,     1.18,2, -999.000,9, -999.000,9, -999.000,9,-999.0000,9,  -999.00,9,   2161.4,2,    736.7,2,   2315.9,2,     7.73,2,25,   20.00,   -999,-999.0000,-999.000,  3.4026,-999.000
     316N151_2,   A24,     8,  1,      8,      8,2,19970601,0705, 41.0565, -23.8270, 3714,   2341.9,   3.3658,  34.9553,2,  34.9557,2,    264.4,2,    264.1,2,    16.58,2,    17.87,2,     0.00,2,     1.19,2,    0.586,2,    0.302,2, -999.000,9,-999.0000,9,  -999.00,9,   2162.7,2,   -999.0,9,   2319.3,2,     7.73,2,25, -999.00,   -999,-999.0000,-999.000,  3.1749,-999.000
     316N151_2,   A24,     8,  1,      7,      7,2,19970601,0705, 41.0565, -23.8270, 3714,   2592.3,   3.1407,  34.9533,2,  34.9532,2,    262.7,2,    260.4,2,    20.53,2,    18.38,2,     0.00,2,     1.23,2, -999.000,9, -999.000,9, -999.000,9,-999.0000,9,  -999.00,9,   2075.0,4,    739.1,2,   2323.0,2,     7.72,2,25,   20.00,   -999,-999.0000,-999.000,  2.9289,-999.000
     316N151_2,   A24,     8,  1,      6,      6,2,19970601,0705, 41.0565, -23.8270, 3714,   2814.4,   2.9514,  34.9469,2,  34.9466,2,    257.6,2,    256.6,2,    24.91,2,    18.94,2,     0.00,2,     1.28,2,    0.382,2,    0.193,2, -999.000,9,-999.0000,9,  -999.00,9,   2175.4,2,   -999.0,9,   2329.0,2,     7.72,2,25, -999.00,   -999,-999.0000,-999.000,  2.7209,-999.000
     316N151_2,   A24,     8,  1,      5,      5,2,19970601,0705, 41.0565, -23.8270, 3714,   3002.0,   2.8316,  34.9411,2,  34.9411,2,    256.6,2,    253.2,2,    28.67,2,    19.55,2,     0.00,2,     1.32,2, -999.000,9, -999.000,9, -999.000,9,-999.0000,9,  -999.00,9,   2181.0,2,    754.4,2,   2334.3,2,     7.72,2,25,   20.00,   -999,-999.0000,-999.000,  2.5842,-999.000
     316N151_2,   A24,     8,  1,      4,      4,2,19970601,0705, 41.0565, -23.8270, 3714,   3207.2,   2.7423,  34.9341,2,  34.9336,2,    252.5,2,    249.8,2,    32.33,2,    20.26,2,     0.00,2,     1.37,2,    0.246,2,    0.131,2, -999.000,9,-999.0000,9,  -999.00,9,   2182.6,2,    752.3,2,   2339.5,2,     7.72,2,25,   20.00,   -999,-999.0000,-999.000,  2.4754,-999.000
     316N151_2,   A24,     8,  1,      3,      3,2,19970601,0705, 41.0565, -23.8270, 3714,   3433.7,   2.6802,  34.9275,2,  34.9271,2,    246.1,2,    246.4,2,    35.58,2,    20.82,2,     0.00,2,     1.42,2, -999.000,9, -999.000,9, -999.000,9,-999.0000,9,  -999.00,9,   2192.5,2,    760.9,2,   2344.5,2,     7.71,2,25,   20.00,   -999,-999.0000,-999.000,  2.3905,-999.000
     316N151_2,   A24,     8,  1,      2,      2,2,19970601,0705, 41.0565, -23.8270, 3714,   3616.6,   2.6572,  34.9236,2,  34.9231,2,    245.4,2,    245.4,2,    37.26,2,    21.07,2,     0.00,2,     1.44,2,    0.146,2,    0.081,2, -999.000,9,-999.0000,9,  -999.00,9,   2194.8,2,   -999.0,9,   2345.2,2,     7.71,2,25, -999.00,   -999,-999.0000,-999.000,  2.3480,-999.000
     316N151_2,   A24,     8,  1,      1,      1,2,19970601,0705, 41.0565, -23.8270, 3714,   3798.6,   2.6255,  34.9187,2,  34.9197,2,    244.5,2,    244.8,2,    39.26,2,    21.42,2,     0.00,2,     1.46,2,    0.106,2,    0.070,2, -999.000,9,-999.0000,9,  -999.00,9,   2196.0,2,    763.1,2,   2349.2,2,     7.71,2,25,   20.00,   -999,-999.0000,-999.000,  2.2967,-999.000