BOTTLE,20220629CCHSIOAMB
EXPOCODE,SECT_ID,STNNBR,CASTNO,SAMPNO,BTLNBR,BTLNBR_FLAG_W,DATE,TIME,LATITUDE,LONGITUDE,DEPTH,CTDPRS,CTDTMP,CTDSAL,CTDSAL_FLAG_W,SALNTY,SALNTY_FLAG_W,CTDOXY,CTDOXY_FLAG_W,OXYGEN,OXYGEN_FLAG_W,SILCAT,SILCAT_FLAG_W,NITRAT,NITRAT_FLAG_W,NITRIT,NITRIT_FLAG_W,PHSPHT,PHSPHT_FLAG_W,CFC-11,CFC-11_FLAG_W,CFC-12,CFC-12_FLAG_W,TRITUM,TRITUM_FLAG_W,HELIUM,HELIUM_FLAG_W,DELHE3,DELHE3_FLAG_W,TCARBN,TCARBN_FLAG_W,PCO2,PCO2_FLAG_W,ALKALI,ALKALI_FLAG_W,PH,PH_FLAG_W,PH_TMP,PCO2TMP,CTDRAW,HELIER,DELHER,THETA,TRITER
,,,,,,,,,,,,DBAR,ITS-90,PSS-78,,PSS-78,,UMOL/KG,,UMOL/KG,,UMOL/KG,,UMOL/KG,,UMOL/KG,,UMOL/KG,,PMOL/KG,,PMOL/KG,,TU,,NMOL/KG,,PERCNT,,UMOL/KG,,UATM,,UMOL/KG,,,,DEG C,DEG C,,NMOL/KG,PERCNT,DEG C,TU
     316N151_2,   A24,   148,  1,     20,     20,2,19970628,0226, 40.3173, -27.7658, 2024,      3.1,  18.7598,  36.0139,2,  36.0210,2,    246.8,2,    241.3,2,     0.66,2,     0.05,2,     0.00,2,     0.04,2,    2.609,2,    1.458,2, -999.000,9,-999.0000,9,  -999.00,9,   2065.6,2,   -999.0,9,   2363.2,6,     7.99,2,25, -999.00,   -999,-999.0000,-999.000, 18.7593,-999.000
     316N151_2,   A24,   148,  1,     19,     19,2,19970628,0226, 40.3173, -27.7658, 2024,     23.9,  17.3998,  35.9938,2,  35.9886,2,    249.6,2,    248.4,2,     0.66,2,     0.05,2,     0.00,2,     0.03,2,    2.742,2,    1.504,2, -999.000,9,-999.0000,9,  -999.00,9,   2062.2,2,   -999.0,9,   2360.6,2,     8.00,2,25, -999.00,   -999,-999.0000,-999.000, 17.3958,-999.000
     316N151_2,   A24,   148,  1,     18,     18,2,19970628,0226, 40.3173, -27.7658, 2024,     53.9,  16.3109,  35.9981,2,  35.9988,2,    250.1,2,    246.5,2,     0.67,2,     0.13,2,     0.01,2,     0.04,2,    2.792,2,    1.512,2, -999.000,9,-999.0000,9,  -999.00,9,   2069.1,2,   -999.0,9,   -999.0,9,  -999.00,9,25, -999.00,   -999,-999.0000,-999.000, 16.3023,-999.000
     316N151_2,   A24,   148,  1,     17,     17,2,19970628,0226, 40.3173, -27.7658, 2024,     93.8,  14.5539,  35.9515,2,  35.9523,2,    231.7,2,    231.6,2,     1.89,2,     5.88,2,     0.02,2,     0.34,2,    2.912,2,    1.596,2, -999.000,9,-999.0000,9,  -999.00,9,   2106.4,2,   -999.0,9,   2357.3,2,     7.91,2,25, -999.00,   -999,-999.0000,-999.000, 14.5399,-999.000
     316N151_2,   A24,   148,  1,     16,     16,2,19970628,0226, 40.3173, -27.7658, 2024,    144.3,  14.2498,  35.9379,2,  35.9360,2,    230.1,2,    233.3,2,     2.40,2,     7.00,2,     0.01,2,     0.41,2,    2.901,2,    1.562,2, -999.000,9,-999.0000,9,  -999.00,9,   2111.1,2,   -999.0,9,   2355.7,2,     7.90,2,25, -999.00,   -999,-999.0000,-999.000, 14.2285,-999.000
     316N151_2,   A24,   148,  1,     15,     15,2,19970628,0226, 40.3173, -27.7658, 2024,    204.6,  13.6847,  35.8597,2,  35.8554,2,    228.5,2,    230.8,2,     3.02,2,     8.21,2,     0.01,2,     0.49,2, -999.000,9, -999.000,9, -999.000,9,-999.0000,9,  -999.00,9,   2115.8,2,   -999.0,9,   2352.4,2,     7.88,2,25, -999.00,   -999,-999.0000,-999.000, 13.6553,-999.000
     316N151_2,   A24,   148,  1,     14,     14,2,19970628,0226, 40.3173, -27.7658, 2024,    305.2,  12.7352,  35.7132,2,  35.7156,2,    223.4,2,    222.2,2,     4.24,2,    10.54,2,     0.01,2,     0.64,2,    2.777,2,    1.478,2, -999.000,9,-999.0000,9,  -999.00,9,   2127.1,2,   -999.0,9,   2345.1,2,     7.86,2,25, -999.00,   -999,-999.0000,-999.000, 12.6933,-999.000
     316N151_2,   A24,   148,  1,     13,     13,2,19970628,0226, 40.3173, -27.7658, 2024,    395.3,  11.7899,  35.5682,2,  35.5703,2,    210.8,2,    210.0,2,     5.77,2,    13.01,2,     0.00,2,     0.80,2,    2.602,2,    1.361,2, -999.000,9,-999.0000,9,  -999.00,9,   2140.9,2,   -999.0,9,   2337.8,2,     7.81,2,25, -999.00,   -999,-999.0000,-999.000, 11.7382,-999.000
     316N151_2,   A24,   148,  1,     12,     12,2,19970628,0226, 40.3173, -27.7658, 2024,    445.9,  11.3991,  35.5249,2,  35.5169,2,    198.2,2,    202.4,2,     6.48,2,    14.27,2,     0.00,2,     0.88,2,    2.481,2,    1.274,2, -999.000,9,-999.0000,9,  -999.00,9,   2146.3,2,   -999.0,9,   2334.9,2,     7.79,2,25, -999.00,   -999,-999.0000,-999.000, 11.3419,-999.000
     316N151_2,   A24,   148,  1,     11,     11,2,19970628,0226, 40.3173, -27.7658, 2024,    545.9,  10.4555,  35.4336,2,  35.4307,2,    200.3,2,    200.9,2,     7.60,2,    15.67,2,     0.00,2,     0.98,2,    2.350,2,    1.186,2, -999.000,9,-999.0000,9,  -999.00,9,   2154.1,2,   -999.0,9,   2329.5,2,     7.77,2,25, -999.00,   -999,-999.0000,-999.000, 10.3889,-999.000
     316N151_2,   A24,   148,  1,     10,     10,2,19970628,0226, 40.3173, -27.7658, 2024,    667.6,   9.2699,  35.3676,2,  35.3712,2,    193.1,2,    193.2,2,     9.64,2,    17.78,2,     0.00,2,     1.12,2,    1.784,2,    0.880,2, -999.000,9,-999.0000,9,  -999.00,9,   2167.4,2,   -999.0,9,   2331.8,2,     7.74,2,25, -999.00,   -999,-999.0000,-999.000,  9.1937,-999.000
     316N151_2,   A24,   148,  1,      9,      9,2,19970628,0226, 40.3173, -27.7658, 2024,    747.9,   8.2127,  35.3051,2,  35.3058,2,    196.4,2,    195.2,2,    11.06,2,    18.71,2,     0.00,2,     1.20,2,    1.509,2,    0.744,2, -999.000,9,-999.0000,9,  -999.00,9,   2175.5,2,   -999.0,9,   2331.1,2,     7.73,2,25, -999.00,   -999,-999.0000,-999.000,  8.1328,-999.000
     316N151_2,   A24,   148,  1,      8,      8,2,19970628,0226, 40.3173, -27.7658, 2024,    837.8,   7.5082,  35.2749,2,  35.2794,2,    207.4,2,    203.1,2,    11.57,2,    18.76,2,     0.00,2,     1.20,2,    1.400,2,    0.686,2, -999.000,9,-999.0000,9,  -999.00,9,   2175.0,2,   -999.0,9,   2328.6,2,     7.72,2,25, -999.00,   -999,-999.0000,-999.000,  7.4226,-999.000
     316N151_2,   A24,   148,  1,      7,      7,2,19970628,0226, 40.3173, -27.7658, 2024,    936.2,   6.7122,  35.2282,2,  35.2266,2,    213.5,2,    216.4,2,    12.09,2,    18.58,2,     0.00,2,     1.20,2,    1.330,2,    0.652,2, -999.000,9,-999.0000,9,  -999.00,9,   2174.9,2,   -999.0,9,   2326.2,2,     7.72,2,25, -999.00,   -999,-999.0000,-999.000,  6.6215,-999.000
     316N151_2,   A24,   148,  1,      6,      6,2,19970628,0226, 40.3173, -27.7658, 2024,   1105.5,   6.0289,  35.1772,2,  35.1752,2,    223.9,2,    226.4,2,    12.30,2,    18.39,2,     0.00,2,     1.20,2,    1.354,2,    0.669,2, -999.000,9,-999.0000,9,  -999.00,9,   2172.0,2,   -999.0,9,   2322.7,2,     7.71,2,25, -999.00,   -999,-999.0000,-999.000,  5.9262,-999.000
     316N151_2,   A24,   148,  1,      5,      5,2,19970628,0226, 40.3173, -27.7658, 2024,   1308.2,   5.2066,  35.0960,2,  35.0977,2,    238.7,2,    239.5,2,    12.71,2,    18.21,2,     0.00,2,     1.19,2, -999.000,9, -999.000,9, -999.000,9,-999.0000,9,  -999.00,9,   2168.0,2,   -999.0,9,   2319.9,2,     7.72,2,25, -999.00,   -999,-999.0000,-999.000,  5.0915,-999.000
     316N151_2,   A24,   148,  1,      4,      4,2,19970628,0226, 40.3173, -27.7658, 2024,   1518.1,   4.5870,  35.0292,2,  35.0314,2,    250.4,2,    250.6,2,    12.82,2,    18.02,2,     0.00,2,     1.18,2,    1.401,2,    0.679,2, -999.000,9,-999.0000,9,  -999.00,9,   2165.9,2,   -999.0,9,   2313.9,2,     7.72,2,25, -999.00,   -999,-999.0000,-999.000,  4.4583,-999.000
     316N151_2,   A24,   148,  1,      3,      3,2,19970628,0226, 40.3173, -27.7658, 2024,   1712.0,   4.0425,  34.9767,2,  34.9761,2,    261.5,2,    262.1,2,    12.52,2,    17.70,2,     0.00,2,     1.16,2,    1.434,2,    0.691,2, -999.000,9,-999.0000,9,  -999.00,9,   2161.1,2,   -999.0,9,   2310.7,2,     7.72,2,25, -999.00,   -999,-999.0000,-999.000,  3.9021,-999.000
     316N151_2,   A24,   148,  1,      2,      2,2,19970628,0226, 40.3173, -27.7658, 2024,   1916.6,   3.5881,  34.9409,2,  34.9425,2,    269.4,2,    268.3,2,    14.04,2,    17.61,2,     0.00,2,     1.16,2,    1.193,2,    0.588,2, -999.000,9,-999.0000,9,  -999.00,9,   2160.1,2,   -999.0,9,   2308.4,2,     7.71,2,25, -999.00,   -999,-999.0000,-999.000,  3.4347,-999.000
     316N151_2,   A24,   148,  1,      1,      1,2,19970628,0226, 40.3173, -27.7658, 2024,   2032.5,   3.5034,  34.9413,2,  34.9411,2,    266.1,2,    267.0,2,    14.86,2,    17.66,2,     0.00,2,     1.17,2,    1.082,2,    0.529,2, -999.000,9,-999.0000,9,  -999.00,9,   2160.5,2,   -999.0,9,   2310.3,2,     7.72,2,25, -999.00,   -999,-999.0000,-999.000,  3.3403,-999.000
     316N151_2,   A24,   149,  1,     22,     22,2,19970628,0547, 40.0015, -27.5985, 2178,      3.6,  19.3294,  36.0229,2,  36.0228,2,     77.7,2,    236.4,2,     0.61,2,     0.05,2,     0.00,2,     0.03,2, -999.000,9, -999.000,9, -999.000,9,-999.0000,9,  -999.00,9,   2067.7,2,    363.0,2,   2361.9,6,     7.99,6,25,   20.00,   -999,-999.0000,-999.000, 19.3288,-999.000
     316N151_2,   A24,   149,  1,     21,     21,2,19970628,0547, 40.0015, -27.5985, 2178,     34.9,  16.7242,  35.9697,2,  35.9695,2,    247.0,2,    245.1,2,     0.61,2,     0.05,2,     0.00,2,     0.03,2, -999.000,9, -999.000,9, -999.000,9,-999.0000,9,  -999.00,9,   -999.0,9,   -999.0,9,   -999.0,9,  -999.00,9,25, -999.00,   -999,-999.0000,-999.000, 16.7185,-999.000
     316N151_2,   A24,   149,  1,     20,     20,2,19970628,0547, 40.0015, -27.5985, 2178,     82.8,  15.6287,  35.9862,2,  35.9906,2,    237.4,2,    236.4,2,     0.91,2,     2.55,2,     0.24,2,     0.18,2, -999.000,9, -999.000,9, -999.000,9,-999.0000,9,  -999.00,9,   -999.0,9,   -999.0,9,   -999.0,9,  -999.00,9,25, -999.00,   -999,-999.0000,-999.000, 15.6157,-999.000
     316N151_2,   A24,   149,  1,     19,     19,2,19970628,0547, 40.0015, -27.5985, 2178,    125.1,  14.4225,  35.9514,2,  35.9493,2,    230.7,2,    231.8,2,     2.02,2,     6.48,2,     0.02,2,     0.38,2, -999.000,9, -999.000,9, -999.000,9,-999.0000,9,  -999.00,9,   -999.0,9,   -999.0,9,   -999.0,9,  -999.00,9,25, -999.00,   -999,-999.0000,-999.000, 14.4039,-999.000
     316N151_2,   A24,   149,  1,     18,     18,2,19970628,0547, 40.0015, -27.5985, 2178,    185.4,  13.9227,  35.8860,2,  35.8881,2,    226.8,2,    231.1,2,     2.62,2,     7.50,2,     0.01,2,     0.45,2, -999.000,9, -999.000,9, -999.000,9,-999.0000,9,  -999.00,9,   -999.0,9,   -999.0,9,   -999.0,9,  -999.00,9,25, -999.00,   -999,-999.0000,-999.000, 13.8958,-999.000
     316N151_2,   A24,   149,  1,     17,     17,2,19970628,0547, 40.0015, -27.5985, 2178,    255.6,  13.3699,  35.8089,2,  35.8077,2,    221.5,2,    225.4,2,     3.33,2,     9.04,2,     0.01,2,     0.55,2, -999.000,9, -999.000,9, -999.000,9,-999.0000,9,  -999.00,9,   -999.0,9,   -999.0,9,   -999.0,9,  -999.00,9,25, -999.00,   -999,-999.0000,-999.000, 13.3337,-999.000
     316N151_2,   A24,   149,  1,     16,     16,2,19970628,0547, 40.0015, -27.5985, 2178,    355.9,  12.4213,  35.6643,2,  35.6642,2,    215.0,2,    216.5,2,     4.64,2,    11.46,2,     0.01,2,     0.70,2, -999.000,9, -999.000,9, -999.000,9,-999.0000,9,  -999.00,9,   -999.0,9,   -999.0,9,   -999.0,9,  -999.00,9,25, -999.00,   -999,-999.0000,-999.000, 12.3732,-999.000
     316N151_2,   A24,   149,  1,     15,     15,2,19970628,0547, 40.0015, -27.5985, 2178,    456.4,  11.1055,  35.4737,2,  35.4826,2,    196.9,2,    203.6,2,     6.56,2,    14.53,2,     0.00,2,     0.90,2, -999.000,9, -999.000,9, -999.000,9,-999.0000,9,  -999.00,9,   -999.0,9,   -999.0,9,   -999.0,9,  -999.00,9,25, -999.00,   -999,-999.0000,-999.000, 11.0479,-999.000
     316N151_2,   A24,   149,  1,     14,     14,2,19970628,0547, 40.0015, -27.5985, 2178,    506.6,  10.5198,  35.4004,2,  35.4028,2,    200.5,2,    196.1,2,     7.87,2,    16.16,2,     0.00,2,     1.01,2, -999.000,9, -999.000,9, -999.000,9,-999.0000,9,  -999.00,9,   -999.0,9,   -999.0,9,   -999.0,9,  -999.00,9,25, -999.00,   -999,-999.0000,-999.000, 10.4579,-999.000
     316N151_2,   A24,   149,  1,     13,     13,2,19970628,0547, 40.0015, -27.5985, 2178,    547.8,  10.0749,  35.3584,2,  35.3515,2,    187.2,2,    186.3,2,     9.08,2,    17.70,2,     0.00,2,     1.12,2, -999.000,9, -999.000,9, -999.000,9,-999.0000,9,  -999.00,9,   -999.0,9,   -999.0,9,   -999.0,9,  -999.00,9,25, -999.00,   -999,-999.0000,-999.000, 10.0096,-999.000
     316N151_2,   A24,   149,  1,     12,     12,2,19970628,0547, 40.0015, -27.5985, 2178,    608.1,   9.6494,  35.3608,2,  35.3656,2,    188.1,2,    190.3,2,     9.28,2,    17.71,2,     0.00,2,     1.12,2, -999.000,9, -999.000,9, -999.000,9,-999.0000,9,  -999.00,9,   -999.0,9,   -999.0,9,   -999.0,9,  -999.00,9,25, -999.00,   -999,-999.0000,-999.000,  9.5785,-999.000
     316N151_2,   A24,   149,  1,     11,     11,2,19970628,0547, 40.0015, -27.5985, 2178,    677.4,   9.0104,  35.3125,2,  35.3055,2,    183.6,2,    189.1,2,    10.29,2,    18.55,2,     0.00,2,     1.18,2, -999.000,9, -999.000,9, -999.000,9,-999.0000,9,  -999.00,9,   -999.0,9,   -999.0,9,   -999.0,9,  -999.00,9,25, -999.00,   -999,-999.0000,-999.000,  8.9344,-999.000
     316N151_2,   A24,   149,  1,     10,     10,2,19970628,0547, 40.0015, -27.5985, 2178,    758.0,   8.5371,  35.3348,2,  35.3526,2,    192.0,2,    193.9,2,    10.49,2,    18.41,2,     0.00,2,     1.18,2, -999.000,9, -999.000,9, -999.000,9,-999.0000,9,  -999.00,9,   -999.0,9,   -999.0,9,   -999.0,9,  -999.00,9,25, -999.00,   -999,-999.0000,-999.000,  8.4543,-999.000
     316N151_2,   A24,   149,  1,      9,      9,2,19970628,0547, 40.0015, -27.5985, 2178,    857.5,   7.6376,  35.2839,2,  35.2846,2,    200.4,2,    202.8,2,    11.40,2,    18.69,2,     0.00,2,     1.20,2, -999.000,9, -999.000,9, -999.000,9,-999.0000,9,  -999.00,9,   -999.0,9,   -999.0,9,   -999.0,9,  -999.00,9,25, -999.00,   -999,-999.0000,-999.000,  7.5491,-999.000
     316N151_2,   A24,   149,  1,      8,      8,2,19970628,0547, 40.0015, -27.5985, 2178,    958.9,   6.9781,  35.2487,2,  35.2486,2,    212.0,2,    210.7,2,    11.70,2,    18.65,2,     0.00,2,     1.20,2, -999.000,9, -999.000,9, -999.000,9,-999.0000,9,  -999.00,9,   -999.0,9,   -999.0,9,   -999.0,9,  -999.00,9,25, -999.00,   -999,-999.0000,-999.000,  6.8832,-999.000
     316N151_2,   A24,   149,  1,      7,      7,2,19970628,0547, 40.0015, -27.5985, 2178,   1161.0,   5.8764,  35.1640,2,  35.1613,2,    229.2,2,    229.2,2,    12.30,2,    18.37,2,     0.00,2,     1.19,2, -999.000,9, -999.000,9, -999.000,9,-999.0000,9,  -999.00,9,   -999.0,9,   -999.0,9,   -999.0,9,  -999.00,9,25, -999.00,   -999,-999.0000,-999.000,  5.7695,-999.000
     316N151_2,   A24,   149,  1,      6,      6,2,19970628,0547, 40.0015, -27.5985, 2178,   1363.9,   4.9587,  35.0740,2,  35.0743,2,    240.6,2,    244.5,2,    12.20,2,    18.04,2,     0.00,2,     1.18,2, -999.000,9, -999.000,9, -999.000,9,-999.0000,9,  -999.00,9,   -999.0,9,   -999.0,9,   -999.0,9,  -999.00,9,25, -999.00,   -999,-999.0000,-999.000,  4.8407,-999.000
     316N151_2,   A24,   149,  1,      5,      5,2,19970628,0547, 40.0015, -27.5985, 2178,   1565.4,   4.3383,  35.0086,2,  35.0070,2,    250.8,2,    255.7,2,    12.61,2,    17.81,2,     0.00,2,     1.17,2, -999.000,9, -999.000,9, -999.000,9,-999.0000,9,  -999.00,9,   -999.0,9,   -999.0,9,   -999.0,9,  -999.00,9,25, -999.00,   -999,-999.0000,-999.000,  4.2080,-999.000
     316N151_2,   A24,   149,  1,      4,      4,2,19970628,0547, 40.0015, -27.5985, 2178,   1768.1,   3.8598,  34.9630,2,  34.9631,2,    259.9,2,    263.0,2,    13.11,2,    17.67,2,     0.00,2,     1.16,2, -999.000,9, -999.000,9, -999.000,9,-999.0000,9,  -999.00,9,   -999.0,9,   -999.0,9,   -999.0,9,  -999.00,9,25, -999.00,   -999,-999.0000,-999.000,  3.7166,-999.000
     316N151_2,   A24,   149,  1,      3,      3,2,19970628,0547, 40.0015, -27.5985, 2178,   1920.8,   3.5014,  34.9454,2,  34.9425,2,    263.1,2,    265.3,2,    14.92,2,    17.67,2,     0.00,2,     1.17,2, -999.000,9, -999.000,9, -999.000,9,-999.0000,9,  -999.00,9,   -999.0,9,   -999.0,9,   -999.0,9,  -999.00,9,25, -999.00,   -999,-999.0000,-999.000,  3.3488,-999.000
     316N151_2,   A24,   149,  1,      2,      2,2,19970628,0547, 40.0015, -27.5985, 2178,   2022.1,   3.3907,  34.9419,2,  34.9401,2,    264.3,2,    266.6,2,    16.03,2,    17.77,2,     0.00,2,     1.18,2, -999.000,9, -999.000,9, -999.000,9,-999.0000,9,  -999.00,9,   -999.0,9,   -999.0,9,   -999.0,9,  -999.00,9,25, -999.00,   -999,-999.0000,-999.000,  3.2303,-999.000
     316N151_2,   A24,   149,  1,      1,      1,2,19970628,0547, 40.0015, -27.5985, 2178,   2133.1,   3.3065,  34.9396,2,  34.9408,2,    264.0,2,    263.8,2,    17.54,2,    17.95,2,     0.00,2,     1.20,2, -999.000,9, -999.000,9, -999.000,9,-999.0000,9,  -999.00,9,   -999.0,9,   -999.0,9,   -999.0,9,  -999.00,9,25, -999.00,   -999,-999.0000,-999.000,  3.1368,-999.000