BOTTLE,20220629CCHSIOAMB
EXPOCODE,SECT_ID,STNNBR,CASTNO,SAMPNO,BTLNBR,BTLNBR_FLAG_W,DATE,TIME,LATITUDE,LONGITUDE,DEPTH,CTDPRS,CTDTMP,CTDSAL,CTDSAL_FLAG_W,SALNTY,SALNTY_FLAG_W,CTDOXY,CTDOXY_FLAG_W,OXYGEN,OXYGEN_FLAG_W,SILCAT,SILCAT_FLAG_W,NITRAT,NITRAT_FLAG_W,NITRIT,NITRIT_FLAG_W,PHSPHT,PHSPHT_FLAG_W,CFC-11,CFC-11_FLAG_W,CFC-12,CFC-12_FLAG_W,TRITUM,TRITUM_FLAG_W,HELIUM,HELIUM_FLAG_W,DELHE3,DELHE3_FLAG_W,TCARBN,TCARBN_FLAG_W,PCO2,PCO2_FLAG_W,ALKALI,ALKALI_FLAG_W,PH,PH_FLAG_W,PH_TMP,PCO2TMP,CTDRAW,HELIER,DELHER,THETA,TRITER
,,,,,,,,,,,,DBAR,ITS-90,PSS-78,,PSS-78,,UMOL/KG,,UMOL/KG,,UMOL/KG,,UMOL/KG,,UMOL/KG,,UMOL/KG,,PMOL/KG,,PMOL/KG,,TU,,NMOL/KG,,PERCNT,,UMOL/KG,,UATM,,UMOL/KG,,,,DEG C,DEG C,,NMOL/KG,PERCNT,DEG C,TU
     316N151_2,   A24,   111,  1,     27,     27,2,19970621,0249, 55.7023, -38.1292, 2708,      3.7,   9.0806,  34.7629,2,  34.7620,2,    294.3,2,    292.9,2,     2.50,2,     6.75,2,     0.10,2,     0.54,2, -999.000,9, -999.000,9, -999.000,9,-999.0000,9,  -999.00,9,   2089.4,2,   -999.0,9,   2304.4,6,     7.87,6,25, -999.00,   -999,-999.0000,-999.000,  9.0802,-999.000
     316N151_2,   A24,   111,  1,     26,     26,2,19970621,0249, 55.7023, -38.1292, 2708,     35.8,   7.8957,  34.8168,2,  34.8190,2,    292.2,2,    291.5,2,     3.56,2,     9.26,2,     0.20,2,     0.70,2, -999.000,9, -999.000,9, -999.000,9,-999.0000,9,  -999.00,9,   2111.7,2,   -999.0,9,   2304.3,2,     7.82,2,25, -999.00,   -999,-999.0000,-999.000,  7.8922,-999.000
     316N151_2,   A24,   111,  1,     25,     25,2,19970621,0249, 55.7023, -38.1292, 2708,     59.1,   6.9728,  34.7971,2,  34.7962,2,    288.2,2,    288.4,2,     4.63,2,    11.19,2,     0.23,2,     0.84,2, -999.000,9, -999.000,9, -999.000,9,-999.0000,9,  -999.00,9,   2122.8,2,   -999.0,9,   2302.9,2,     7.79,2,25, -999.00,   -999,-999.0000,-999.000,  6.9673,-999.000
     316N151_2,   A24,   111,  1,     24,     24,2,19970621,0249, 55.7023, -38.1292, 2708,    102.7,   5.8193,  34.8409,2,  34.8399,2,    281.3,2,    285.6,2,     8.13,2,    14.66,2,     0.03,2,     1.00,2, -999.000,9, -999.000,9, -999.000,9,-999.0000,9,  -999.00,9,   2143.4,2,   -999.0,9,   2301.8,2,     7.75,2,25, -999.00,   -999,-999.0000,-999.000,  5.8107,-999.000
     316N151_2,   A24,   111,  1,     23,     23,2,19970621,0249, 55.7023, -38.1292, 2708,    144.6,   5.4454,  34.8307,2,  34.8288,2,    284.7,2,    287.5,2,     8.62,2,    14.96,2,     0.01,2,     1.02,2, -999.000,9, -999.000,9, -999.000,9,-999.0000,9,  -999.00,9,   2144.1,2,   -999.0,9,   2309.4,2,     7.74,2,25, -999.00,   -999,-999.0000,-999.000,  5.4337,-999.000
     316N151_2,   A24,   111,  1,     22,     22,2,19970621,0249, 55.7023, -38.1292, 2708,    195.0,   5.8448,  34.9253,2,  34.9256,2,    278.3,2,    280.4,2,     8.71,2,    15.20,2,     0.01,2,     1.02,2, -999.000,9, -999.000,9, -999.000,9,-999.0000,9,  -999.00,9,   2145.0,2,   -999.0,9,   2308.1,2,     7.75,2,25, -999.00,   -999,-999.0000,-999.000,  5.8283,-999.000
     316N151_2,   A24,   111,  1,     21,     21,2,19970621,0249, 55.7023, -38.1292, 2708,    234.4,   5.4394,  34.8772,2,  34.8808,2,    281.7,2,    282.4,2,     8.80,2,    15.30,2,     0.00,2,     1.03,2, -999.000,9, -999.000,9, -999.000,9,-999.0000,9,  -999.00,9,   2145.7,2,   -999.0,9,   2308.8,2,     7.75,2,25, -999.00,   -999,-999.0000,-999.000,  5.4202,-999.000
     316N151_2,   A24,   111,  1,     20,     20,2,19970621,0249, 55.7023, -38.1292, 2708,    325.6,   5.2644,  34.8997,2,  34.9010,2,    271.9,2,    261.0,2,    10.16,2,    16.89,2,     0.00,2,     1.12,2, -999.000,9, -999.000,9, -999.000,9,-999.0000,9,  -999.00,9,   2157.2,2,   -999.0,9,   2306.3,2,     7.72,2,25, -999.00,   -999,-999.0000,-999.000,  5.2380,-999.000
     316N151_2,   A24,   111,  1,     19,     19,2,19970621,0249, 55.7023, -38.1292, 2708,    416.9,   5.0640,  34.9384,2,  34.9394,2,    244.4,2,    244.6,2,    11.33,2,    18.16,2,     0.00,2,     1.19,2, -999.000,9, -999.000,9, -999.000,9,-999.0000,9,  -999.00,9,   2165.5,2,   -999.0,9,   2309.4,2,     7.70,2,25, -999.00,   -999,-999.0000,-999.000,  5.0306,-999.000
     316N151_2,   A24,   111,  1,     18,     18,2,19970621,0249, 55.7023, -38.1292, 2708,    537.0,   4.5358,  34.9288,2,  34.9307,2,    252.9,2,    251.3,2,    11.52,2,    18.16,2,     0.00,2,     1.19,2, -999.000,9, -999.000,9, -999.000,9,-999.0000,9,  -999.00,9,   2167.7,2,   -999.0,9,   2308.4,2,     7.71,2,25, -999.00,   -999,-999.0000,-999.000,  4.4944,-999.000
     316N151_2,   A24,   111,  1,     17,     17,2,19970621,0249, 55.7023, -38.1292, 2708,    658.3,   4.1176,  34.9206,2,  34.9231,2,    257.6,2,    260.2,2,    11.51,2,    17.88,2,     0.00,2,     1.17,2, -999.000,9, -999.000,9, -999.000,9,-999.0000,9,  -999.00,9,   2164.9,2,   -999.0,9,   2305.5,2,     7.70,2,25, -999.00,   -999,-999.0000,-999.000,  4.0684,-999.000
     316N151_2,   A24,   111,  1,     16,     16,2,19970621,0249, 55.7023, -38.1292, 2708,    758.9,   3.9002,  34.9139,2,  34.9126,2,    264.9,2,    266.2,2,    11.41,2,    17.65,2,     0.00,2,     1.16,2, -999.000,9, -999.000,9, -999.000,9,-999.0000,9,  -999.00,9,   2162.9,2,   -999.0,9,   2307.2,2,     7.71,2,25, -999.00,   -999,-999.0000,-999.000,  3.8443,-999.000
     316N151_2,   A24,   111,  1,     15,     15,2,19970621,0249, 55.7023, -38.1292, 2708,    860.2,   3.6756,  34.8971,2,  34.8969,2,    272.7,2,    272.1,2,    11.21,2,    17.46,2,     0.00,2,     1.15,2, -999.000,9, -999.000,9, -999.000,9,-999.0000,9,  -999.00,9,   2160.8,2,   -999.0,9,   2306.2,2,     7.71,2,25, -999.00,   -999,-999.0000,-999.000,  3.6130,-999.000
     316N151_2,   A24,   111,  1,     14,     14,2,19970621,0249, 55.7023, -38.1292, 2708,    979.7,   3.4693,  34.8936,2,  34.8928,2,    279.6,2,    278.0,2,    11.21,2,    17.13,2,     0.00,2,     1.13,2, -999.000,9, -999.000,9, -999.000,9,-999.0000,9,  -999.00,9,   2158.1,2,   -999.0,9,   2304.5,2,     7.72,2,25, -999.00,   -999,-999.0000,-999.000,  3.3987,-999.000
     316N151_2,   A24,   111,  1,     13,     13,2,19970621,0249, 55.7023, -38.1292, 2708,   1112.6,   3.3301,  34.8871,2,  34.8871,2,    285.2,2,    282.4,2,    11.20,2,    16.95,2,     0.00,2,     1.12,2,    3.115,2,    1.514,2, -999.000,9,-999.0000,9,  -999.00,9,   2157.0,2,   -999.0,9,   2304.8,2,     7.71,2,25, -999.00,   -999,-999.0000,-999.000,  3.2501,-999.000
     316N151_2,   A24,   111,  1,     12,     12,2,19970621,0249, 55.7023, -38.1292, 2708,   1244.2,   3.2642,  34.8900,2,  34.8894,2,    282.7,2,    284.8,2,    11.10,2,    16.76,2,     0.00,2,     1.11,2,    3.084,2,    1.501,2, -999.000,9,-999.0000,9,  -999.00,9,   2157.6,2,   -999.0,9,   2304.8,2,     7.72,2,25, -999.00,   -999,-999.0000,-999.000,  3.1740,-999.000
     316N151_2,   A24,   111,  1,     11,     11,2,19970621,0249, 55.7023, -38.1292, 2708,   1415.7,   3.0307,  34.8641,2,  34.8631,2,    290.8,2,    293.5,2,    10.81,2,    16.57,2,     0.00,2,     1.10,2,    3.599,2,    1.765,2, -999.000,9,-999.0000,9,  -999.00,9,   2154.6,2,   -999.0,9,   2303.1,2,     7.71,2,25, -999.00,   -999,-999.0000,-999.000,  2.9288,-999.000
     316N151_2,   A24,   111,  1,     10,     10,2,19970621,0249, 55.7023, -38.1292, 2708,   1519.1,   3.0240,  34.8666,2,  34.8672,2,    296.1,2,    292.7,2,    10.80,2,    16.53,2,     0.00,2,     1.10,2,    3.518,2,    1.715,2, -999.000,9,-999.0000,9,  -999.00,9,   2154.7,2,   -999.0,9,   2302.6,2,     7.72,2,25, -999.00,   -999,-999.0000,-999.000,  2.9136,-999.000
     316N151_2,   A24,   111,  1,      9,      9,2,19970621,0249, 55.7023, -38.1292, 2708,   1679.2,   3.1022,  34.8927,2,  34.8914,2,    286.2,2,    286.5,2,    11.28,2,    16.48,2,     0.00,2,     1.09,2,    2.949,2,    1.426,2, -999.000,9,-999.0000,9,  -999.00,9,   2156.1,2,   -999.0,9,   2305.5,2,     7.72,2,25, -999.00,   -999,-999.0000,-999.000,  2.9770,-999.000
     316N151_2,   A24,   111,  1,      8,      8,2,19970621,0249, 55.7023, -38.1292, 2708,   1842.3,   3.1762,  34.9190,2,  34.9181,2,    277.3,2,    280.1,2,    12.06,2,    16.48,2,     0.00,2,     1.09,2,    2.381,2,    1.144,2, -999.000,9,-999.0000,9,  -999.00,9,   2157.7,2,   -999.0,9,   2306.4,2,     7.72,2,25, -999.00,   -999,-999.0000,-999.000,  3.0355,-999.000
     316N151_2,   A24,   111,  1,      7,      7,2,19970621,0249, 55.7023, -38.1292, 2708,   1971.3,   3.1535,  34.9270,2,  34.9282,2,    274.5,2,    277.7,2,    12.64,2,    16.44,2,     0.00,2,     1.09,2,    2.174,2,    1.049,2, -999.000,9,-999.0000,9,  -999.00,9,   2158.0,2,   -999.0,9,   2309.2,2,     7.72,2,25, -999.00,   -999,-999.0000,-999.000,  3.0013,-999.000
     316N151_2,   A24,   111,  1,      6,      6,2,19970621,0249, 55.7023, -38.1292, 2708,   2174.4,   3.0879,  34.9328,2,  34.9331,2,    274.1,2,    275.6,2,    13.42,2,    16.53,2,     0.00,2,     1.09,2, -999.000,9, -999.000,9, -999.000,9,-999.0000,9,  -999.00,9,   2159.3,2,   -999.0,9,   2309.9,2,     7.71,2,25, -999.00,   -999,-999.0000,-999.000,  2.9178,-999.000
     316N151_2,   A24,   111,  1,      5,      5,2,19970621,0249, 55.7023, -38.1292, 2708,   2376.6,   3.0305,  34.9355,2,  34.9362,2,    273.4,2,    274.3,2,    14.10,2,    16.53,2,     0.00,2,     1.10,2, -999.000,9, -999.000,9, -999.000,9,-999.0000,9,  -999.00,9,   2159.7,2,   -999.0,9,   2311.9,2,     7.72,2,25, -999.00,   -999,-999.0000,-999.000,  2.8421,-999.000
     316N151_2,   A24,   111,  1,      4,      4,2,19970621,0249, 55.7023, -38.1292, 2708,   2478.9,   2.9885,  34.9385,2,  34.9392,2,    273.0,2,    273.7,2,    14.58,2,    16.53,2,     0.00,2,     1.10,2, -999.000,9, -999.000,9, -999.000,9,-999.0000,9,  -999.00,9,   2160.3,2,   -999.0,9,   2311.5,2,     7.73,2,25, -999.00,   -999,-999.0000,-999.000,  2.7909,-999.000
     316N151_2,   A24,   111,  1,      3,      3,2,19970621,0249, 55.7023, -38.1292, 2708,   2580.4,   2.9603,  34.9420,2,  34.9416,2,    273.8,2,    273.3,2,    14.87,2,    16.53,2,     0.00,2,     1.10,2, -999.000,9, -999.000,9, -999.000,9,-999.0000,9,  -999.00,9,   2161.5,2,   -999.0,9,   2311.7,2,     7.72,2,25, -999.00,   -999,-999.0000,-999.000,  2.7532,-999.000
     316N151_2,   A24,   111,  1,      2,      2,2,19970621,0249, 55.7023, -38.1292, 2708,   2670.4,   2.9320,  34.9417,2,  34.9404,2,    274.7,2,    273.2,2,    15.16,2,    16.58,2,     0.00,2,     1.10,2, -999.000,9, -999.000,9, -999.000,9,-999.0000,9,  -999.00,9,   2161.6,2,   -999.0,9,   2312.1,2,     7.72,2,25, -999.00,   -999,-999.0000,-999.000,  2.7165,-999.000
     316N151_2,   A24,   111,  1,      1,      1,2,19970621,0249, 55.7023, -38.1292, 2708,   2721.7,   2.9290,  34.9411,2,  34.9400,2,    277.2,2,    273.1,2,    15.25,2,    16.54,2,     0.00,2,     1.10,2, -999.000,9, -999.000,9, -999.000,9,-999.0000,9,  -999.00,9,   2162.2,2,   -999.0,9,   2312.1,2,     7.72,2,25, -999.00,   -999,-999.0000,-999.000,  2.7084,-999.000