BOTTLE,20220629CCHSIOAMB
EXPOCODE,SECT_ID,STNNBR,CASTNO,SAMPNO,BTLNBR,BTLNBR_FLAG_W,DATE,TIME,LATITUDE,LONGITUDE,DEPTH,CTDPRS,CTDTMP,CTDSAL,CTDSAL_FLAG_W,SALNTY,SALNTY_FLAG_W,CTDOXY,CTDOXY_FLAG_W,OXYGEN,OXYGEN_FLAG_W,SILCAT,SILCAT_FLAG_W,NITRAT,NITRAT_FLAG_W,NITRIT,NITRIT_FLAG_W,PHSPHT,PHSPHT_FLAG_W,CFC-11,CFC-11_FLAG_W,CFC-12,CFC-12_FLAG_W,TRITUM,TRITUM_FLAG_W,HELIUM,HELIUM_FLAG_W,DELHE3,DELHE3_FLAG_W,TCARBN,TCARBN_FLAG_W,PCO2,PCO2_FLAG_W,ALKALI,ALKALI_FLAG_W,PH,PH_FLAG_W,PH_TMP,PCO2TMP,CTDRAW,HELIER,DELHER,THETA,TRITER
,,,,,,,,,,,,DBAR,ITS-90,PSS-78,,PSS-78,,UMOL/KG,,UMOL/KG,,UMOL/KG,,UMOL/KG,,UMOL/KG,,UMOL/KG,,PMOL/KG,,PMOL/KG,,TU,,NMOL/KG,,PERCNT,,UMOL/KG,,UATM,,UMOL/KG,,,,DEG C,DEG C,,NMOL/KG,PERCNT,DEG C,TU
     316N151_2,   A24,   140,  1,     18,     18,2,19970626,2319, 42.8150, -29.0185, 1749,      2.3,  18.3082,  35.9205,2,  35.9461,2,    220.8,2,    245.2,2,     0.48,2,     0.04,2,     0.00,2,     0.04,2, -999.000,9, -999.000,9, -999.000,9,-999.0000,9,  -999.00,9,   2064.4,2,   -999.0,9,   2359.6,6,     7.99,6,25, -999.00,   -999,-999.0000,-999.000, 18.3078,-999.000
     316N151_2,   A24,   140,  1,     17,     17,2,19970626,2319, 42.8150, -29.0185, 1749,     33.1,  15.8974,  35.9199,2,  35.9145,2,    256.6,2,    257.7,2,     0.57,2,     0.52,2,     0.03,2,     0.07,2, -999.000,9, -999.000,9, -999.000,9,-999.0000,9,  -999.00,9,   -999.0,9,   -999.0,9,   -999.0,9,  -999.00,9,25, -999.00,   -999,-999.0000,-999.000, 15.8921,-999.000
     316N151_2,   A24,   140,  1,     16,     16,2,19970626,2319, 42.8150, -29.0185, 1749,     83.5,  14.4491,  35.8893,2,  35.8943,2,    241.8,2,    237.0,2,     1.66,2,     5.79,2,     0.06,2,     0.36,2, -999.000,9, -999.000,9, -999.000,9,-999.0000,9,  -999.00,9,   -999.0,9,   -999.0,9,   -999.0,9,  -999.00,9,25, -999.00,   -999,-999.0000,-999.000, 14.4367,-999.000
     316N151_2,   A24,   140,  1,     15,     15,2,19970626,2319, 42.8150, -29.0185, 1749,    123.8,  13.7234,  35.8100,2,  35.8050,2,    233.9,2,    232.8,2,     2.56,2,     8.01,2,     0.02,2,     0.48,2, -999.000,9, -999.000,9, -999.000,9,-999.0000,9,  -999.00,9,   -999.0,9,   -999.0,9,   -999.0,9,  -999.00,9,25, -999.00,   -999,-999.0000,-999.000, 13.7057,-999.000
     316N151_2,   A24,   140,  1,     14,     14,2,19970626,2319, 42.8150, -29.0185, 1749,    188.0,  12.9769,  35.7226,2,  35.7217,2,    221.4,2,    226.3,2,     3.76,2,     9.94,2,     0.02,2,     0.60,2, -999.000,9, -999.000,9, -999.000,9,-999.0000,9,  -999.00,9,   -999.0,9,   -999.0,9,   2345.7,2,     7.86,2,25, -999.00,   -999,-999.0000,-999.000, 12.9509,-999.000
     316N151_2,   A24,   140,  1,     13,     13,2,19970626,2319, 42.8150, -29.0185, 1749,    253.3,  12.4562,  35.6538,2,  35.6544,2,    222.5,2,    223.8,2,     4.45,2,    10.96,2,     0.02,2,     0.67,2, -999.000,9, -999.000,9, -999.000,9,-999.0000,9,  -999.00,9,   -999.0,9,   -999.0,9,   -999.0,9,  -999.00,9,25, -999.00,   -999,-999.0000,-999.000, 12.4220,-999.000
     316N151_2,   A24,   140,  1,     12,     12,2,19970626,2319, 42.8150, -29.0185, 1749,    354.4,  11.8357,  35.5648,2,  35.5678,2,    218.7,2,    223.3,2,     5.15,2,    11.99,2,     0.01,2,     0.75,2, -999.000,9, -999.000,9, -999.000,9,-999.0000,9,  -999.00,9,   -999.0,9,   -999.0,9,   -999.0,9,  -999.00,9,25, -999.00,   -999,-999.0000,-999.000, 11.7893,-999.000
     316N151_2,   A24,   140,  1,     11,     11,2,19970626,2319, 42.8150, -29.0185, 1749,    454.3,  10.4698,  35.3748,2,  35.3743,2,    209.7,2,    207.0,2,     7.57,2,    15.28,2,     0.01,2,     0.96,2,    2.395,2,    1.251,2, -999.000,9,-999.0000,9,  -999.00,9,   -999.0,9,   -999.0,9,   2322.8,2,     7.72,2,25, -999.00,   -999,-999.0000,-999.000, 10.4146,-999.000
     316N151_2,   A24,   140,  1,     10,     10,2,19970626,2319, 42.8150, -29.0185, 1749,    555.5,   9.1811,  35.2011,2,  35.2112,2,    184.1,2,    183.5,2,    10.49,2,    19.04,2,     0.01,2,     1.21,2,    1.856,2,    0.930,2, -999.000,9,-999.0000,9,  -999.00,9,   -999.0,9,   -999.0,9,   2322.4,2,     7.71,2,25, -999.00,   -999,-999.0000,-999.000,  9.1186,-999.000
     316N151_2,   A24,   140,  1,      9,      9,2,19970626,2319, 42.8150, -29.0185, 1749,    655.8,   8.2381,  35.2007,2,  35.1868,2,    187.0,2,    187.2,2,    11.39,2,    19.74,2,     0.00,2,     1.26,2,    1.647,2,    0.807,2, -999.000,9,-999.0000,9,  -999.00,9,   -999.0,9,   -999.0,9,   2329.4,2,     7.72,2,25, -999.00,   -999,-999.0000,-999.000,  8.1684,-999.000
     316N151_2,   A24,   140,  1,      8,      8,2,19970626,2319, 42.8150, -29.0185, 1749,    757.0,   7.9549,  35.2696,2,  35.2677,2,    193.5,2,    195.6,2,    11.07,2,    18.95,2,     0.00,2,     1.21,2,    1.622,2,    0.796,2, -999.000,9,-999.0000,9,  -999.00,9,   -999.0,9,   -999.0,9,   -999.0,9,  -999.00,9,25, -999.00,   -999,-999.0000,-999.000,  7.8755,-999.000
     316N151_2,   A24,   140,  1,      7,      7,2,19970626,2319, 42.8150, -29.0185, 1749,    857.5,   7.0914,  35.2199,2,  35.2205,2,    207.9,2,    206.3,2,    11.46,2,    18.95,2,     0.00,2,     1.22,2,    1.621,2,    0.783,2, -999.000,9,-999.0000,9,  -999.00,9,   -999.0,9,   -999.0,9,   -999.0,9,  -999.00,9,25, -999.00,   -999,-999.0000,-999.000,  7.0064,-999.000
     316N151_2,   A24,   140,  1,      6,      6,2,19970626,2319, 42.8150, -29.0185, 1749,    958.3,   6.0787,  35.1356,2,  35.1395,2,    221.3,2,    220.2,2,    11.75,2,    18.90,2,     0.01,2,     1.22,2,    1.681,2,    0.821,2, -999.000,9,-999.0000,9,  -999.00,9,   -999.0,9,   -999.0,9,   2321.8,2,     7.70,2,25, -999.00,   -999,-999.0000,-999.000,  5.9904,-999.000
     316N151_2,   A24,   140,  1,      5,      5,2,19970626,2319, 42.8150, -29.0185, 1749,   1109.9,   5.2018,  35.0651,2,  35.0661,2,    241.0,2,    237.3,2,    11.84,2,    18.49,2,     0.00,2,     1.20,2,    1.705,2,    0.815,2, -999.000,9,-999.0000,9,  -999.00,9,   -999.0,9,   -999.0,9,   -999.0,9,  -999.00,9,25, -999.00,   -999,-999.0000,-999.000,  5.1058,-999.000
     316N151_2,   A24,   140,  1,      4,      4,2,19970626,2319, 42.8150, -29.0185, 1749,   1261.6,   4.5823,  35.0197,2,  35.0192,2,    249.7,2,    250.8,2,    12.13,2,    18.07,2,     0.00,2,     1.18,2,    1.603,2,    0.762,2, -999.000,9,-999.0000,9,  -999.00,9,   -999.0,9,   -999.0,9,   -999.0,9,  -999.00,9,25, -999.00,   -999,-999.0000,-999.000,  4.4778,-999.000
     316N151_2,   A24,   140,  1,      3,      3,2,19970626,2319, 42.8150, -29.0185, 1749,   1413.5,   4.2083,  34.9843,2,  34.9850,2,    255.8,2,    257.7,2,    12.42,2,    17.88,2,     0.00,2,     1.17,2, -999.000,9, -999.000,9, -999.000,9,-999.0000,9,  -999.00,9,   -999.0,9,   -999.0,9,   -999.0,9,  -999.00,9,25, -999.00,   -999,-999.0000,-999.000,  4.0936,-999.000
     316N151_2,   A24,   140,  1,      2,      2,2,19970626,2319, 42.8150, -29.0185, 1749,   1615.8,   3.9168,  34.9558,2,  34.9581,2,    260.2,2,    263.4,2,    12.61,2,    17.80,2,     0.00,2,     1.16,2, -999.000,9, -999.000,9, -999.000,9,-999.0000,9,  -999.00,9,   -999.0,9,   -999.0,9,   -999.0,9,  -999.00,9,25, -999.00,   -999,-999.0000,-999.000,  3.7870,-999.000
     316N151_2,   A24,   140,  1,      1,      1,2,19970626,2319, 42.8150, -29.0185, 1749,   1808.0,   3.7360,  34.9414,2,  34.9431,2,    268.6,2,    266.3,2,    13.20,2,    17.70,2,     0.00,2,     1.16,2, -999.000,9, -999.000,9, -999.000,9,-999.0000,9,  -999.00,9,   -999.0,9,   -999.0,9,   2310.6,2,     7.72,2,25, -999.00,   -999,-999.0000,-999.000,  3.5907,-999.000
     316N151_2,   A24,   141,  1,     20,     20,2,19970627,0222, 42.5005, -28.8455, 1951,      2.9,  18.4645,  36.0334,2,  36.0369,2,    228.9,2,    243.6,2,     0.59,2,     0.04,2,     0.00,2,     0.04,2,    2.678,2,    1.490,2, -999.000,9,-999.0000,9,  -999.00,9,   2066.1,2,   -999.0,9,   2364.7,6,     8.00,6,25, -999.00,   -999,-999.0000,-999.000, 18.4639,-999.000
     316N151_2,   A24,   141,  1,     19,     19,2,19970627,0222, 42.5005, -28.8455, 1951,     34.6,  16.4537,  35.9548,2,  35.9505,2,    249.6,2,    252.5,2,     0.67,2,     0.04,2,     0.00,2,     0.04,2,    2.812,2,    1.528,2, -999.000,9,-999.0000,9,  -999.00,9,   2066.1,2,   -999.0,9,   2359.9,2,     7.99,2,25, -999.00,   -999,-999.0000,-999.000, 16.4481,-999.000
     316N151_2,   A24,   141,  1,     18,     18,2,19970627,0222, 42.5005, -28.8455, 1951,     64.4,  15.9119,  35.9693,2,  35.9722,2,    242.5,2,    245.0,2,     0.64,2,     0.59,2,     0.05,2,     0.07,2,    2.828,2,    1.526,2, -999.000,9,-999.0000,9,  -999.00,9,   2074.4,2,   -999.0,9,   2359.9,2,     7.97,2,25, -999.00,   -999,-999.0000,-999.000, 15.9017,-999.000
     316N151_2,   A24,   141,  1,     17,     17,2,19970627,0222, 42.5005, -28.8455, 1951,    114.4,  14.6179,  35.9506,2,  35.9493,2,    232.3,2,    232.7,2,     1.93,2,     6.19,2,     0.03,2,     0.36,2,    2.855,2,    1.537,2, -999.000,9,-999.0000,9,  -999.00,9,   2103.5,2,   -999.0,9,   2357.1,2,     7.92,2,25, -999.00,   -999,-999.0000,-999.000, 14.6008,-999.000
     316N151_2,   A24,   141,  1,     16,     16,2,19970627,0222, 42.5005, -28.8455, 1951,    164.9,  13.8803,  35.8815,2,  35.8812,2,    234.3,2,    233.8,2,     2.61,2,     7.58,2,     0.03,2,     0.45,2, -999.000,9, -999.000,9, -999.000,9,-999.0000,9,  -999.00,9,   2114.9,2,   -999.0,9,   2353.5,2,     7.89,2,25, -999.00,   -999,-999.0000,-999.000, 13.8565,-999.000
     316N151_2,   A24,   141,  1,     15,     15,2,19970627,0222, 42.5005, -28.8455, 1951,    225.8,  13.1716,  35.7937,2,  35.7830,2,    232.8,2,    225.6,2,     3.49,2,     9.35,2,     0.02,2,     0.56,2,    2.805,2,    1.512,2, -999.000,9,-999.0000,9,  -999.00,9,   2121.5,2,   -999.0,9,   2348.3,2,     7.87,2,25, -999.00,   -999,-999.0000,-999.000, 13.1400,-999.000
     316N151_2,   A24,   141,  1,     14,     14,2,19970627,0222, 42.5005, -28.8455, 1951,    265.5,  12.8205,  35.7051,2,  35.7070,2,    216.8,2,    219.6,2,     4.37,2,    10.74,2,     0.01,2,     0.65,2,    2.702,2,    1.445,2, -999.000,9,-999.0000,9,  -999.00,9,   2125.4,2,   -999.0,9,   2344.8,2,     7.85,2,25, -999.00,   -999,-999.0000,-999.000, 12.7840,-999.000
     316N151_2,   A24,   141,  1,     13,     13,2,19970627,0222, 42.5005, -28.8455, 1951,    357.8,  12.1903,  35.6187,2,  35.6188,2,    221.9,2,    222.9,2,     4.95,2,    11.53,2,     0.01,2,     0.71,2, -999.000,9, -999.000,9, -999.000,9,-999.0000,9,  -999.00,9,   2129.4,2,   -999.0,9,   2341.0,2,     7.84,2,25, -999.00,   -999,-999.0000,-999.000, 12.1425,-999.000
     316N151_2,   A24,   141,  1,     12,     12,2,19970627,0222, 42.5005, -28.8455, 1951,    474.8,  10.8343,  35.4227,2,  35.4312,2,    206.9,2,    210.3,2,     7.05,2,    14.45,2,     0.01,2,     0.91,2,    2.485,2,    1.317,2, -999.000,9,-999.0000,9,  -999.00,9,   2142.4,2,   -999.0,9,   2331.6,2,     7.79,2,25, -999.00,   -999,-999.0000,-999.000, 10.7753,-999.000
     316N151_2,   A24,   141,  1,     11,     11,2,19970627,0222, 42.5005, -28.8455, 1951,    606.7,   9.1575,  35.2359,2,  35.2296,2,    187.0,2,    186.0,2,    10.36,2,    18.90,2,     0.01,2,     1.20,2,    1.885,2,    0.948,2, -999.000,9,-999.0000,9,  -999.00,9,   2166.0,2,   -999.0,9,   2323.5,2,     7.73,2,25, -999.00,   -999,-999.0000,-999.000,  9.0891,-999.000
     316N151_2,   A24,   141,  1,     10,     10,2,19970627,0222, 42.5005, -28.8455, 1951,    677.6,   8.7289,  35.2475,2,  35.2524,2,    189.8,2,    189.0,2,    10.54,2,    18.90,2,     0.01,2,     1.20,2,    1.788,2,    0.877,2, -999.000,9,-999.0000,9,  -999.00,9,   2171.6,2,   -999.0,9,   2323.6,2,     7.71,2,25, -999.00,   -999,-999.0000,-999.000,  8.6543,-999.000
     316N151_2,   A24,   141,  1,      9,      9,2,19970627,0222, 42.5005, -28.8455, 1951,    777.9,   8.0078,  35.2497,2,  35.2485,2,    194.3,2,    194.2,2,    11.22,2,    19.14,2,     0.00,2,     1.22,2,    1.628,2,    0.804,2, -999.000,9,-999.0000,9,  -999.00,9,   2176.9,2,   -999.0,9,   2326.5,2,     7.71,2,25, -999.00,   -999,-999.0000,-999.000,  7.9258,-999.000
     316N151_2,   A24,   141,  1,      8,      8,2,19970627,0222, 42.5005, -28.8455, 1951,    838.0,   6.8002,  35.1193,2,  35.1166,2,    202.0,2,    203.7,2,    12.11,2,    19.61,2,     0.00,2,     1.27,2,    1.706,2,    0.830,2, -999.000,9,-999.0000,9,  -999.00,9,   2172.9,2,   -999.0,9,   2319.5,2,     7.70,2,25, -999.00,   -999,-999.0000,-999.000,  6.7192,-999.000
     316N151_2,   A24,   141,  1,      7,      7,2,19970627,0222, 42.5005, -28.8455, 1951,    939.2,   5.9634,  35.0929,2,  35.0918,2,    216.6,2,    219.9,2,    12.08,2,    19.05,2,     0.00,2,     1.24,2,    1.761,2,    0.862,2, -999.000,9,-999.0000,9,  -999.00,9,   2174.5,2,   -999.0,9,   2318.2,2,     7.70,2,25, -999.00,   -999,-999.0000,-999.000,  5.8779,-999.000
     316N151_2,   A24,   141,  1,      6,      6,2,19970627,0222, 42.5005, -28.8455, 1951,   1109.8,   5.3845,  35.0827,2,  35.0818,2,    233.7,2,    234.5,2,    11.96,2,    18.54,2,     0.00,2,     1.20,2,    1.691,2,    0.824,2, -999.000,9,-999.0000,9,  -999.00,9,   2170.2,2,   -999.0,9,   2319.5,2,     7.72,2,25, -999.00,   -999,-999.0000,-999.000,  5.2869,-999.000
     316N151_2,   A24,   141,  1,      5,      5,2,19970627,0222, 42.5005, -28.8455, 1951,   1310.2,   4.4643,  35.0082,2,  35.0101,2,    253.5,2,    253.2,2,    12.23,2,    17.99,2,     0.00,2,     1.17,2,    1.661,2,    0.812,2, -999.000,9,-999.0000,9,  -999.00,9,   2162.7,2,   -999.0,9,   2312.6,2,     7.71,2,25, -999.00,   -999,-999.0000,-999.000,  4.3565,-999.000
     316N151_2,   A24,   141,  1,      4,      4,2,19970627,0222, 42.5005, -28.8455, 1951,   1512.8,   4.0822,  34.9735,2,  34.9738,2,    258.6,2,    260.3,2,    12.61,2,    17.81,2,     0.00,2,     1.17,2,    1.613,2,    0.778,2, -999.000,9,-999.0000,9,  -999.00,9,   2161.8,2,   -999.0,9,   2311.3,2,     7.71,2,25, -999.00,   -999,-999.0000,-999.000,  3.9599,-999.000
     316N151_2,   A24,   141,  1,      3,      3,2,19970627,0222, 42.5005, -28.8455, 1951,   1715.4,   3.7856,  34.9479,2,  34.9488,2,    264.6,2,    264.9,2,    13.20,2,    17.71,2,     0.00,2,     1.16,2,    1.539,2,    0.736,2, -999.000,9,-999.0000,9,  -999.00,9,   2160.4,2,   -999.0,9,   2313.3,2,     7.71,2,25, -999.00,   -999,-999.0000,-999.000,  3.6482,-999.000
     316N151_2,   A24,   141,  1,      2,      2,2,19970627,0222, 42.5005, -28.8455, 1951,   1918.5,   3.6494,  34.9426,2,  34.9425,2,    266.4,2,    265.7,2,    14.18,2,    17.76,2,     0.00,2,     1.17,2, -999.000,9, -999.000,9, -999.000,9,-999.0000,9,  -999.00,9,   2160.7,2,   -999.0,9,   2318.8,2,     7.72,2,25, -999.00,   -999,-999.0000,-999.000,  3.4949,-999.000
     316N151_2,   A24,   141,  1,      1,      1,2,19970627,0222, 42.5005, -28.8455, 1951,   1967.6,   3.6236,  34.9407,2,  34.9419,2,    265.6,2,    265.4,2,    14.36,2,    17.76,2,     0.00,2,     1.17,2,    1.363,2,    0.669,2, -999.000,9,-999.0000,9,  -999.00,9,   2162.1,2,   -999.0,9,   2311.1,3,     7.72,2,25, -999.00,   -999,-999.0000,-999.000,  3.4648,-999.000