BOTTLE,20220629CCHSIOAMB
EXPOCODE,SECT_ID,STNNBR,CASTNO,SAMPNO,BTLNBR,BTLNBR_FLAG_W,DATE,TIME,LATITUDE,LONGITUDE,DEPTH,CTDPRS,CTDTMP,CTDSAL,CTDSAL_FLAG_W,SALNTY,SALNTY_FLAG_W,CTDOXY,CTDOXY_FLAG_W,OXYGEN,OXYGEN_FLAG_W,SILCAT,SILCAT_FLAG_W,NITRAT,NITRAT_FLAG_W,NITRIT,NITRIT_FLAG_W,PHSPHT,PHSPHT_FLAG_W,CFC-11,CFC-11_FLAG_W,CFC-12,CFC-12_FLAG_W,TRITUM,TRITUM_FLAG_W,HELIUM,HELIUM_FLAG_W,DELHE3,DELHE3_FLAG_W,TCARBN,TCARBN_FLAG_W,PCO2,PCO2_FLAG_W,ALKALI,ALKALI_FLAG_W,PH,PH_FLAG_W,PH_TMP,PCO2TMP,CTDRAW,HELIER,DELHER,THETA,TRITER
,,,,,,,,,,,,DBAR,ITS-90,PSS-78,,PSS-78,,UMOL/KG,,UMOL/KG,,UMOL/KG,,UMOL/KG,,UMOL/KG,,UMOL/KG,,PMOL/KG,,PMOL/KG,,TU,,NMOL/KG,,PERCNT,,UMOL/KG,,UATM,,UMOL/KG,,,,DEG C,DEG C,,NMOL/KG,PERCNT,DEG C,TU
     316N151_2,   A24,    54,  1,     24,     24,2,19970611,2212, 57.7515, -11.1660, 2094,      2.3,  11.9726,  35.3933,2,  35.3930,2,    288.4,2,    275.5,2,     0.80,2,     4.74,2,     0.10,2,     0.31,2, -999.000,9, -999.000,9, -999.000,9,-999.0000,9,  -999.00,9,   -999.0,9,   -999.0,9,   2335.7,6,     7.91,2,25, -999.00,   -999,-999.0000,-999.000, 11.9723,-999.000
     316N151_2,   A24,    54,  1,     23,     23,2,19970611,2212, 57.7515, -11.1660, 2094,     32.7,  10.9768,  35.4193,2,  35.4254,2,    266.7,2,    276.6,2,     1.06,2,     6.61,2,     0.17,2,     0.45,2, -999.000,9, -999.000,9, -999.000,9,-999.0000,9,  -999.00,9,   -999.0,9,   -999.0,9,   -999.0,9,  -999.00,9,25, -999.00,   -999,-999.0000,-999.000, 10.9728,-999.000
     316N151_2,   A24,    54,  1,     22,     22,2,19970611,2212, 57.7515, -11.1660, 2094,     82.5,  10.2136,  35.4224,2,  35.4215,2,    261.6,2,    261.6,2,     3.58,2,     9.73,2,     0.35,2,     0.65,2, -999.000,9, -999.000,9, -999.000,9,-999.0000,9,  -999.00,9,   -999.0,9,   -999.0,9,   -999.0,9,  -999.00,9,25, -999.00,   -999,-999.0000,-999.000, 10.2039,-999.000
     316N151_2,   A24,    54,  1,     21,     21,2,19970611,2212, 57.7515, -11.1660, 2094,    131.3,   9.9525,  35.4089,2,  35.4083,2,    260.8,2,    261.2,2,     4.98,2,    11.37,2,     0.05,2,     0.71,2, -999.000,9, -999.000,9, -999.000,9,-999.0000,9,  -999.00,9,   -999.0,9,   -999.0,9,   -999.0,9,  -999.00,9,25, -999.00,   -999,-999.0000,-999.000,  9.9372,-999.000
     316N151_2,   A24,    54,  1,     20,     20,2,19970611,2212, 57.7515, -11.1660, 2094,    181.1,   9.8558,  35.4097,2,  35.4105,2,    259.9,2,    263.3,2,     5.33,2,    11.45,2,     0.01,2,     0.73,2, -999.000,9, -999.000,9, -999.000,9,-999.0000,9,  -999.00,9,   -999.0,9,   -999.0,9,   -999.0,9,  -999.00,9,25, -999.00,   -999,-999.0000,-999.000,  9.8348,-999.000
     316N151_2,   A24,    54,  1,     19,     19,2,19970611,2212, 57.7515, -11.1660, 2094,    233.0,   9.7083,  35.3905,2,  35.3904,2,    261.5,2,    263.7,2,     4.73,2,    11.29,2,     0.09,2,     0.72,2, -999.000,9, -999.000,9, -999.000,9,-999.0000,9,  -999.00,9,   -999.0,9,   -999.0,9,   -999.0,9,  -999.00,9,25, -999.00,   -999,-999.0000,-999.000,  9.6815,-999.000
     316N151_2,   A24,    54,  1,     18,     18,2,19970611,2212, 57.7515, -11.1660, 2094,    282.8,   9.6858,  35.3939,2,  35.3928,2,    261.2,2,    263.6,2,     5.36,2,    11.55,2,     0.01,2,     0.73,2, -999.000,9, -999.000,9, -999.000,9,-999.0000,9,  -999.00,9,   -999.0,9,   -999.0,9,   -999.0,9,  -999.00,9,25, -999.00,   -999,-999.0000,-999.000,  9.6533,-999.000
     316N151_2,   A24,    54,  1,     17,     17,2,19970611,2212, 57.7515, -11.1660, 2094,    331.7,   9.6414,  35.3894,2,  35.3903,2,    261.3,2,   -999.0,5,     5.43,2,    11.61,2,     0.01,2,     0.74,2,    3.647,2,    1.912,2, -999.000,9,-999.0000,9,  -999.00,9,   -999.0,9,   -999.0,9,   -999.0,9,  -999.00,9,25, -999.00,   -999,-999.0000,-999.000,  9.6033,-999.000
     316N151_2,   A24,    54,  1,     16,     16,2,19970611,2212, 57.7515, -11.1660, 2094,    381.9,   9.5303,  35.3718,2,  35.3733,2,    261.7,2,    260.7,2,     5.68,2,    12.08,2,     0.01,2,     0.77,2, -999.000,9, -999.000,9, -999.000,9,-999.0000,9,  -999.00,9,   -999.0,9,   -999.0,9,   -999.0,9,  -999.00,9,25, -999.00,   -999,-999.0000,-999.000,  9.4866,-999.000
     316N151_2,   A24,    54,  1,     15,     15,2,19970611,2212, 57.7515, -11.1660, 2094,    452.5,   9.4531,  35.3651,2,  35.3657,2,    259.1,2,    261.0,2,     5.75,2,    12.13,2,     0.01,2,     0.77,2, -999.000,9, -999.000,9, -999.000,9,-999.0000,9,  -999.00,9,   -999.0,9,   -999.0,9,   -999.0,9,  -999.00,9,25, -999.00,   -999,-999.0000,-999.000,  9.4014,-999.000
     316N151_2,   A24,    54,  1,     14,     14,2,19970611,2212, 57.7515, -11.1660, 2094,    554.5,   9.0109,  35.3123,2,  35.3168,2,    256.7,2,    255.6,2,     6.48,2,    13.13,2,     0.01,2,     0.84,2, -999.000,9, -999.000,9, -999.000,9,-999.0000,9,  -999.00,9,   -999.0,9,   -999.0,9,   -999.0,9,  -999.00,9,25, -999.00,   -999,-999.0000,-999.000,  8.9491,-999.000
     316N151_2,   A24,    54,  1,     13,     13,2,19970611,2212, 57.7515, -11.1660, 2094,    656.4,   8.8348,  35.3001,2,  35.2987,2,    264.5,2,    269.0,2,     5.79,2,    12.42,2,     0.01,2,     0.80,2,    3.782,2,    1.974,2, -999.000,9,-999.0000,9,  -999.00,9,   -999.0,9,   -999.0,9,   -999.0,9,  -999.00,9,25, -999.00,   -999,-999.0000,-999.000,  8.7621,-999.000
     316N151_2,   A24,    54,  1,     12,     12,2,19970611,2212, 57.7515, -11.1660, 2094,    757.3,   8.5947,  35.2725,2,  35.2722,2,    256.0,2,    262.4,2,     6.61,2,    13.23,2,     0.01,2,     0.85,2, -999.000,9, -999.000,9, -999.000,9,-999.0000,9,  -999.00,9,   -999.0,9,   -999.0,9,   -999.0,9,  -999.00,9,25, -999.00,   -999,-999.0000,-999.000,  8.5117,-999.000
     316N151_2,   A24,    54,  1,     11,     11,2,19970611,2212, 57.7515, -11.1660, 2094,    857.6,   8.3747,  35.2575,2,  35.2568,2,    246.2,2,    249.8,2,     7.72,2,    14.47,2,     0.01,2,     0.93,2, -999.000,9, -999.000,9, -999.000,9,-999.0000,9,  -999.00,9,   -999.0,9,   -999.0,9,   -999.0,9,  -999.00,9,25, -999.00,   -999,-999.0000,-999.000,  8.2816,-999.000
     316N151_2,   A24,    54,  1,     10,     10,2,19970611,2212, 57.7515, -11.1660, 2094,    958.8,   8.0075,  35.2382,2,  35.2419,2,    236.4,2,    233.6,2,     9.30,2,    16.04,2,     0.00,2,     1.03,2,    2.862,2,    1.438,2, -999.000,9,-999.0000,9,  -999.00,9,   -999.0,9,   -999.0,9,   -999.0,9,  -999.00,9,25, -999.00,   -999,-999.0000,-999.000,  7.9054,-999.000
     316N151_2,   A24,    54,  1,      9,      9,2,19970611,2212, 57.7515, -11.1660, 2094,   1058.4,   7.5055,  35.2155,2,  35.2145,2,    227.7,2,    227.1,2,    10.22,2,    16.95,2,     0.00,2,     1.09,2,    2.576,2,    1.274,2, -999.000,9,-999.0000,9,  -999.00,9,   -999.0,9,   -999.0,9,   -999.0,9,  -999.00,9,25, -999.00,   -999,-999.0000,-999.000,  7.3959,-999.000
     316N151_2,   A24,    54,  1,      8,      8,2,19970611,2212, 57.7515, -11.1660, 2094,   1159.3,   6.5615,  35.1454,2,  35.1521,2,    231.8,2,    234.7,2,    10.77,2,    17.19,2,     0.00,2,     1.11,2, -999.000,9, -999.000,9, -999.000,9,-999.0000,9,  -999.00,9,   -999.0,9,   -999.0,9,   -999.0,9,  -999.00,9,25, -999.00,   -999,-999.0000,-999.000,  6.4490,-999.000
     316N151_2,   A24,    54,  1,      7,      7,2,19970611,2212, 57.7515, -11.1660, 2094,   1261.2,   5.8825,  35.1044,2,  35.1021,2,    240.9,2,    243.3,2,    11.02,2,    17.14,2,     0.00,2,     1.11,2,    2.500,2,    1.216,2, -999.000,9,-999.0000,9,  -999.00,9,   -999.0,9,   -999.0,9,   -999.0,9,  -999.00,9,25, -999.00,   -999,-999.0000,-999.000,  5.7656,-999.000
     316N151_2,   A24,    54,  1,      6,      6,2,19970611,2212, 57.7515, -11.1660, 2094,   1362.7,   5.1996,  35.0505,2,  35.0492,2,    250.8,2,    250.5,2,    11.37,2,    17.29,2,     0.00,2,     1.13,2,    2.402,2,    1.176,2, -999.000,9,-999.0000,9,  -999.00,9,   -999.0,9,   -999.0,9,   -999.0,9,  -999.00,9,25, -999.00,   -999,-999.0000,-999.000,  5.0793,-999.000
     316N151_2,   A24,    54,  1,      5,      5,2,19970611,2212, 57.7515, -11.1660, 2094,   1463.3,   4.6874,  35.0055,2,  35.0040,2,    254.0,2,    254.2,2,    12.01,2,    17.72,2,     0.00,2,     1.15,2, -999.000,9, -999.000,9, -999.000,9,-999.0000,9,  -999.00,9,   -999.0,9,   -999.0,9,   -999.0,9,  -999.00,9,25, -999.00,   -999,-999.0000,-999.000,  4.5629,-999.000
     316N151_2,   A24,    54,  1,      4,      4,2,19970611,2212, 57.7515, -11.1660, 2094,   1565.1,   4.2023,  34.9593,2,  34.9623,2,    261.6,2,    260.6,2,    12.46,2,    17.73,2,     0.00,2,     1.16,2,    2.032,2,    0.977,2, -999.000,9,-999.0000,9,  -999.00,9,   -999.0,9,   -999.0,9,   -999.0,9,  -999.00,9,25, -999.00,   -999,-999.0000,-999.000,  4.0738,-999.000
     316N151_2,   A24,    54,  1,      3,      3,2,19970611,2212, 57.7515, -11.1660, 2094,   1717.0,   3.8010,  34.9329,2,  34.9312,2,    266.6,2,    266.8,2,    13.09,2,    17.64,2,     0.00,2,     1.16,2,    1.813,2,    0.877,2, -999.000,9,-999.0000,9,  -999.00,9,   -999.0,9,   -999.0,9,   -999.0,9,  -999.00,9,25, -999.00,   -999,-999.0000,-999.000,  3.6633,-999.000
     316N151_2,   A24,    54,  1,      2,      2,2,19970611,2212, 57.7515, -11.1660, 2094,   1968.4,   3.4907,  34.9297,2,  34.9293,2,    266.6,2,    267.7,2,    15.25,2,    17.69,2,     0.00,2,     1.17,2,    1.355,2,    0.659,2, -999.000,9,-999.0000,9,  -999.00,9,   -999.0,9,   -999.0,9,   -999.0,9,  -999.00,9,25, -999.00,   -999,-999.0000,-999.000,  3.3339,-999.000
     316N151_2,   A24,    54,  1,      1,      1,2,19970611,2212, 57.7515, -11.1660, 2094,   2103.0,   3.2457,  34.9373,2,  34.9356,2,    260.9,2,    261.3,2,    20.17,2,    18.21,2,     0.01,2,     1.21,2,    0.912,2,    0.457,2, -999.000,9,-999.0000,9,  -999.00,9,   -999.0,9,   -999.0,9,   -999.0,9,  -999.00,9,25, -999.00,   -999,-999.0000,-999.000,  3.0798,-999.000
     316N151_2,   A24,    55,  1,     21,     21,2,19970612,0131, 57.7503, -11.8422, 1810,      5.2,  11.4602,  35.3911,2,  35.3920,2,    281.0,2,    279.4,2,     0.71,2,     5.01,2,     0.09,2,     0.33,2,    3.615,2,    1.905,2, -999.000,9,-999.0000,9,  -999.00,9,   2089.4,2,   -999.0,9,   2334.9,2,     7.91,6,25, -999.00,   -999,-999.0000,-999.000, 11.4596,-999.000
     316N151_2,   A24,    55,  1,     20,     20,2,19970612,0131, 57.7503, -11.8422, 1810,     46.1,  10.7561,  35.3875,2,  35.3920,2,    279.4,2,    282.1,2,     1.15,2,     6.19,2,     0.13,2,     0.43,2, -999.000,9, -999.000,9, -999.000,9,-999.0000,9,  -999.00,9,   2099.8,2,   -999.0,9,   2335.6,2,     7.89,2,25, -999.00,   -999,-999.0000,-999.000, 10.7505,-999.000
     316N151_2,   A24,    55,  1,     19,     19,2,19970612,0131, 57.7503, -11.8422, 1810,     95.3,   9.7460,  35.3960,2,  35.3943,2,    262.9,2,    265.2,2,     4.25,2,    10.77,2,     0.22,2,     0.70,2,    3.621,2,    1.915,2, -999.000,9,-999.0000,9,  -999.00,9,   2126.1,2,   -999.0,9,   2330.5,2,     7.83,2,25, -999.00,   -999,-999.0000,-999.000,  9.7351,-999.000
     316N151_2,   A24,    55,  1,     18,     18,2,19970612,0131, 57.7503, -11.8422, 1810,    155.6,   9.6075,  35.3822,2,  35.3806,2,    266.3,2,    267.5,2,     3.94,2,    10.48,2,     0.27,2,     0.70,2, -999.000,9, -999.000,9, -999.000,9,-999.0000,9,  -999.00,9,   2126.6,2,   -999.0,9,   2331.8,2,     7.83,2,25, -999.00,   -999,-999.0000,-999.000,  9.5898,-999.000
     316N151_2,   A24,    55,  1,     17,     17,2,19970612,0131, 57.7503, -11.8422, 1810,    225.7,   9.4057,  35.3621,2,  35.3626,2,    265.1,2,    262.9,2,     5.52,2,    12.06,2,     0.01,2,     0.77,2,    3.586,2,    1.892,2, -999.000,9,-999.0000,9,  -999.00,9,   2131.3,2,   -999.0,9,   2326.8,2,     7.81,2,25, -999.00,   -999,-999.0000,-999.000,  9.3803,-999.000
     316N151_2,   A24,    55,  1,     16,     16,2,19970612,0131, 57.7503, -11.8422, 1810,    302.6,   9.2044,  35.3409,2,  35.3411,2,    263.1,2,    262.9,2,     6.06,2,    12.44,2,     0.01,2,     0.79,2, -999.000,9, -999.000,9, -999.000,9,-999.0000,9,  -999.00,9,   2133.7,2,   -999.0,9,   2325.0,2,     7.80,2,25, -999.00,   -999,-999.0000,-999.000,  9.1707,-999.000
     316N151_2,   A24,    55,  1,     15,     15,2,19970612,0131, 57.7503, -11.8422, 1810,    423.5,   8.9624,  35.3125,2,  35.3127,2,    264.1,2,    263.6,2,     6.32,2,    12.73,2,     0.01,2,     0.81,2,    3.586,2,    1.887,2, -999.000,9,-999.0000,9,  -999.00,9,   2135.7,2,   -999.0,9,   2326.9,2,     7.80,2,25, -999.00,   -999,-999.0000,-999.000,  8.9157,-999.000
     316N151_2,   A24,    55,  1,     14,     14,2,19970612,0131, 57.7503, -11.8422, 1810,    554.5,   8.7552,  35.2903,2,  35.2909,2,    264.1,2,    263.3,2,     6.48,2,    12.92,2,     0.01,2,     0.83,2,    3.653,2,    1.910,2, -999.000,9,-999.0000,9,  -999.00,9,   2136.4,2,   -999.0,9,   2323.9,2,     7.79,2,25, -999.00,   -999,-999.0000,-999.000,  8.6944,-999.000
     316N151_2,   A24,    55,  1,     13,     13,2,19970612,0131, 57.7503, -11.8422, 1810,    700.0,   8.4900,  35.2591,2,  35.2593,2,    257.7,2,    268.5,2,     6.45,2,    13.02,2,     0.01,2,     0.84,2, -999.000,9, -999.000,9, -999.000,9,-999.0000,9,  -999.00,9,   2134.1,2,   -999.0,9,   2322.7,2,     7.79,2,25, -999.00,   -999,-999.0000,-999.000,  8.4141,-999.000
     316N151_2,   A24,    55,  1,     12,     12,2,19970612,0131, 57.7503, -11.8422, 1810,    790.3,   8.2460,  35.2375,2,  35.2392,2,    254.9,2,    254.7,2,     7.85,2,    14.48,2,     0.01,2,     0.93,2,    3.426,2,    1.742,2, -999.000,9,-999.0000,9,  -999.00,9,   2143.6,2,   -999.0,9,   2322.8,2,     7.77,2,25, -999.00,   -999,-999.0000,-999.000,  8.1613,-999.000
     316N151_2,   A24,    55,  1,     11,     11,2,19970612,0131, 57.7503, -11.8422, 1810,    852.4,   7.8732,  35.2188,2,  35.2166,2,    248.3,2,    242.9,2,     8.96,2,    15.71,2,     0.00,2,     1.01,2,    3.060,2,    1.553,2, -999.000,9,-999.0000,9,  -999.00,9,   2149.4,2,   -999.0,9,   2322.2,2,     7.75,2,25, -999.00,   -999,-999.0000,-999.000,  7.7839,-999.000
     316N151_2,   A24,    55,  1,     10,     10,2,19970612,0131, 57.7503, -11.8422, 1810,    923.1,   7.5406,  35.1969,2,  35.1961,2,    247.3,2,    247.7,2,     8.93,2,    15.57,2,     0.00,2,     1.00,2, -999.000,9, -999.000,9, -999.000,9,-999.0000,9,  -999.00,9,   2151.1,2,   -999.0,9,   2322.8,2,     7.75,2,25, -999.00,   -999,-999.0000,-999.000,  7.4456,-999.000
     316N151_2,   A24,    55,  1,      9,      9,2,19970612,0131, 57.7503, -11.8422, 1810,   1004.2,   7.0986,  35.1774,2,  35.1762,2,    244.0,2,    243.2,2,     9.76,2,    16.28,2,     0.00,2,     1.05,2,    2.875,2,    1.428,2, -999.000,9,-999.0000,9,  -999.00,9,   2156.3,2,   -999.0,9,   2320.2,2,     7.74,2,25, -999.00,   -999,-999.0000,-999.000,  6.9981,-999.000
     316N151_2,   A24,    55,  1,      8,      8,2,19970612,0131, 57.7503, -11.8422, 1810,   1106.9,   6.3531,  35.1378,2,  35.1366,2,    242.9,2,    245.8,2,    10.30,2,    16.57,2,     0.00,2,     1.07,2,    2.696,2,    1.329,2, -999.000,9,-999.0000,9,  -999.00,9,   2158.7,2,   -999.0,9,   2319.6,2,     7.73,2,25, -999.00,   -999,-999.0000,-999.000,  6.2477,-999.000
     316N151_2,   A24,    55,  1,      7,      7,2,19970612,0131, 57.7503, -11.8422, 1810,   1209.9,   5.7310,  35.0923,2,  35.0933,2,    250.3,2,    249.5,2,    10.84,2,    16.86,2,     0.00,2,     1.09,2, -999.000,9, -999.000,9, -999.000,9,-999.0000,9,  -999.00,9,   2159.2,2,   -999.0,9,   2317.0,2,     7.73,2,25, -999.00,   -999,-999.0000,-999.000,  5.6207,-999.000
     316N151_2,   A24,    55,  1,      6,      6,2,19970612,0131, 57.7503, -11.8422, 1810,   1312.8,   5.1095,  35.0437,2,  35.0445,2,    253.6,2,    253.9,2,    11.48,2,    17.24,2,     0.00,2,     1.12,2,    2.361,2,    1.141,2, -999.000,9,-999.0000,9,  -999.00,9,   2159.7,2,   -999.0,9,   2319.8,2,     7.72,2,25, -999.00,   -999,-999.0000,-999.000,  4.9950,-999.000
     316N151_2,   A24,    55,  1,      5,      5,2,19970612,0131, 57.7503, -11.8422, 1810,   1415.7,   4.6158,  35.0055,2,  35.0081,2,    259.5,2,    260.1,2,    11.83,2,    17.10,2,     0.00,2,     1.11,2, -999.000,9, -999.000,9, -999.000,9,-999.0000,9,  -999.00,9,   2158.3,2,   -999.0,9,   2311.2,2,     7.72,2,25, -999.00,   -999,-999.0000,-999.000,  4.4966,-999.000
     316N151_2,   A24,    55,  1,      4,      4,2,19970612,0131, 57.7503, -11.8422, 1810,   1516.2,   4.1333,  34.9574,2,  34.9587,2,    262.1,2,    263.5,2,    12.56,2,    17.53,2,     0.00,2,     1.14,2,    2.026,2,    0.989,2, -999.000,9,-999.0000,9,  -999.00,9,   2159.2,2,   -999.0,9,   2309.5,2,     7.71,2,25, -999.00,   -999,-999.0000,-999.000,  4.0101,-999.000
     316N151_2,   A24,    55,  1,      3,      3,2,19970612,0131, 57.7503, -11.8422, 1810,   1617.5,   3.8673,  34.9347,2,  34.9362,2,    266.6,2,    267.7,2,    12.82,2,    17.48,2,     0.00,2,     1.15,2,    1.922,2,    0.924,2, -999.000,9,-999.0000,9,  -999.00,9,   2158.2,2,   -999.0,9,   2307.2,2,     7.71,2,25, -999.00,   -999,-999.0000,-999.000,  3.7380,-999.000
     316N151_2,   A24,    55,  1,      2,      2,2,19970612,0131, 57.7503, -11.8422, 1810,   1718.9,   3.6462,  34.9384,2,  34.9355,2,    266.4,2,    268.5,2,    14.89,2,    17.48,2,     0.00,2,     1.15,2,    1.611,2,    0.781,2, -999.000,9,-999.0000,9,  -999.00,9,   2157.9,2,   -999.0,9,   2309.5,2,     7.71,2,25, -999.00,   -999,-999.0000,-999.000,  3.5103,-999.000
     316N151_2,   A24,    55,  1,      1,      1,2,19970612,0131, 57.7503, -11.8422, 1810,   1810.0,   3.3766,  34.9386,2,  34.9390,2,    264.8,2,    263.8,2,    19.05,2,    17.90,2,     0.02,2,     1.19,2,    1.124,2,    0.554,2, -999.000,9,-999.0000,9,  -999.00,9,   2166.8,2,   -999.0,9,   2319.3,2,     7.72,2,25, -999.00,   -999,-999.0000,-999.000,  3.2360,-999.000