BOTTLE,20220629CCHSIOAMB
EXPOCODE,SECT_ID,STNNBR,CASTNO,SAMPNO,BTLNBR,BTLNBR_FLAG_W,DATE,TIME,LATITUDE,LONGITUDE,DEPTH,CTDPRS,CTDTMP,CTDSAL,CTDSAL_FLAG_W,SALNTY,SALNTY_FLAG_W,CTDOXY,CTDOXY_FLAG_W,OXYGEN,OXYGEN_FLAG_W,SILCAT,SILCAT_FLAG_W,NITRAT,NITRAT_FLAG_W,NITRIT,NITRIT_FLAG_W,PHSPHT,PHSPHT_FLAG_W,CFC-11,CFC-11_FLAG_W,CFC-12,CFC-12_FLAG_W,TRITUM,TRITUM_FLAG_W,HELIUM,HELIUM_FLAG_W,DELHE3,DELHE3_FLAG_W,TCARBN,TCARBN_FLAG_W,PCO2,PCO2_FLAG_W,ALKALI,ALKALI_FLAG_W,PH,PH_FLAG_W,PH_TMP,PCO2TMP,CTDRAW,HELIER,DELHER,THETA,TRITER
,,,,,,,,,,,,DBAR,ITS-90,PSS-78,,PSS-78,,UMOL/KG,,UMOL/KG,,UMOL/KG,,UMOL/KG,,UMOL/KG,,UMOL/KG,,PMOL/KG,,PMOL/KG,,TU,,NMOL/KG,,PERCNT,,UMOL/KG,,UATM,,UMOL/KG,,,,DEG C,DEG C,,NMOL/KG,PERCNT,DEG C,TU
     316N151_2,   A24,    19,  1,     31,     31,2,19970603,1829, 44.7995, -18.3167, 4666,      3.1,  16.4165,  35.7689,2,  35.7690,2,   -999.0,5,    257.8,2,     0.98,2,     0.10,2,     0.00,2,     0.07,2, -999.000,9, -999.000,9, -999.000,9,-999.0000,9,  -999.00,9,   -999.0,9,   -999.0,9,   -999.0,9,  -999.00,9,25, -999.00,   -999,-999.0000,-999.000, 16.4160,-999.000
     316N151_2,   A24,    19,  1,     30,     30,2,19970603,1829, 44.7995, -18.3167, 4666,     47.8,  13.3320,  35.7581,2,  35.7560,2,   -999.0,5,    246.5,2,     2.15,2,     5.18,2,     0.07,2,     0.35,2, -999.000,9, -999.000,9, -999.000,9,-999.0000,9,  -999.00,9,   -999.0,9,   -999.0,9,   -999.0,9,  -999.00,9,25, -999.00,   -999,-999.0000,-999.000, 13.3253,-999.000
     316N151_2,   A24,    19,  1,     29,     29,2,19970603,1829, 44.7995, -18.3167, 4666,     78.1,  12.8459,  35.7377,2,  35.7370,2,   -999.0,5,    247.4,2,     2.64,2,     6.84,2,     0.02,2,     0.44,2, -999.000,9, -999.000,9, -999.000,9,-999.0000,9,  -999.00,9,   -999.0,9,   -999.0,9,   -999.0,9,  -999.00,9,25, -999.00,   -999,-999.0000,-999.000, 12.8352,-999.000
     316N151_2,   A24,    19,  1,     28,     28,2,19970603,1829, 44.7995, -18.3167, 4666,    158.4,  12.6509,  35.7182,2,  35.7190,2,   -999.0,5,    248.9,2,     3.13,2,     7.52,2,     0.01,2,     0.48,2, -999.000,9, -999.000,9, -999.000,9,-999.0000,9,  -999.00,9,   -999.0,9,   -999.0,9,   -999.0,9,  -999.00,9,25, -999.00,   -999,-999.0000,-999.000, 12.6294,-999.000
     316N151_2,   A24,    19,  1,     27,     27,2,19970603,1829, 44.7995, -18.3167, 4666,    248.5,  12.2569,  35.6634,2,  35.6660,2,   -999.0,5,   -999.0,5,     3.52,2,     8.60,2,     0.01,2,     0.54,2, -999.000,9, -999.000,9, -999.000,9,-999.0000,9,  -999.00,9,   -999.0,9,   -999.0,9,   -999.0,9,  -999.00,9,25, -999.00,   -999,-999.0000,-999.000, 12.2237,-999.000
     316N151_2,   A24,    19,  1,     26,     26,2,19970603,1829, 44.7995, -18.3167, 4666,    328.8,  11.8178,  35.6001,2,  35.6000,2,   -999.0,5,    233.8,2,     4.30,2,    10.45,2,     0.00,2,     0.65,2, -999.000,9, -999.000,9, -999.000,9,-999.0000,9,  -999.00,9,   -999.0,9,   -999.0,9,   -999.0,9,  -999.00,9,25, -999.00,   -999,-999.0000,-999.000, 11.7749,-999.000
     316N151_2,   A24,    19,  1,     25,     25,2,19970603,1829, 44.7995, -18.3167, 4666,    408.9,  11.3898,  35.5445,2,  35.5450,2,   -999.0,5,    229.9,2,     4.59,2,    11.53,2,     0.00,2,     0.71,2, -999.000,9, -999.000,9, -999.000,9,-999.0000,9,  -999.00,9,   -999.0,9,   -999.0,9,   -999.0,9,  -999.00,9,25, -999.00,   -999,-999.0000,-999.000, 11.3375,-999.000
     316N151_2,   A24,    19,  1,     24,     24,2,19970603,1829, 44.7995, -18.3167, 4666,    509.7,  11.0328,  35.5018,2,  35.5020,2,   -999.0,5,    224.8,2,     5.08,2,    12.60,2,     0.00,2,     0.78,2, -999.000,9, -999.000,9, -999.000,9,-999.0000,9,  -999.00,9,   -999.0,9,   -999.0,9,   -999.0,9,  -999.00,9,25, -999.00,   -999,-999.0000,-999.000, 10.9686,-999.000
     316N151_2,   A24,    19,  1,     23,     23,2,19970603,1829, 44.7995, -18.3167, 4666,    610.1,  10.6928,  35.4796,2,  35.4810,2,   -999.0,5,    223.8,2,     5.47,2,    13.29,2,     0.00,2,     0.83,2, -999.000,9, -999.000,9, -999.000,9,-999.0000,9,  -999.00,9,   -999.0,9,   -999.0,9,   -999.0,9,  -999.00,9,25, -999.00,   -999,-999.0000,-999.000, 10.6171,-999.000
     316N151_2,   A24,    19,  1,     22,     22,2,19970603,1829, 44.7995, -18.3167, 4666,    710.2,  10.2358,  35.4506,2,  35.4490,2,   -999.0,5,    209.9,2,     7.13,2,    15.14,2,     0.00,2,     0.95,2, -999.000,9, -999.000,9, -999.000,9,-999.0000,9,  -999.00,9,   -999.0,9,   -999.0,9,   -999.0,9,  -999.00,9,25, -999.00,   -999,-999.0000,-999.000, 10.1496,-999.000
     316N151_2,   A24,    19,  1,     21,     21,2,19970603,1829, 44.7995, -18.3167, 4666,    813.1,   9.8248,  35.4747,2,  35.4680,2,   -999.0,5,    198.3,2,     8.60,2,    16.51,2,     0.00,2,     1.04,2, -999.000,9, -999.000,9, -999.000,9,-999.0000,9,  -999.00,9,   -999.0,9,   -999.0,9,   -999.0,9,  -999.00,9,25, -999.00,   -999,-999.0000,-999.000,  9.7279,-999.000
     316N151_2,   A24,    19,  1,     20,     20,2,19970603,1829, 44.7995, -18.3167, 4666,    914.0,   7.8858,  35.1984,2,  35.1910,2,   -999.0,5,    194.6,2,    11.33,2,    19.15,2,     0.00,2,     1.24,2, -999.000,9, -999.000,9, -999.000,9,-999.0000,9,  -999.00,9,   -999.0,9,   -999.0,9,   -999.0,9,  -999.00,9,25, -999.00,   -999,-999.0000,-999.000,  7.7896,-999.000
     316N151_2,   A24,    19,  1,     19,     19,2,19970603,1829, 44.7995, -18.3167, 4666,   1064.9,   6.7779,  35.1828,2,  35.1860,2,   -999.0,5,    210.5,2,    11.72,2,    18.76,2,     0.00,2,     1.23,2, -999.000,9, -999.000,9, -999.000,9,-999.0000,9,  -999.00,9,   -999.0,9,   -999.0,9,   -999.0,9,  -999.00,9,25, -999.00,   -999,-999.0000,-999.000,  6.6734,-999.000
     316N151_2,   A24,    19,  1,     18,     18,2,19970603,1829, 44.7995, -18.3167, 4666,   1216.4,   6.0390,  35.1930,2,  35.1900,2,   -999.0,5,    226.4,2,    11.72,2,    18.27,2,     0.00,2,     1.19,2, -999.000,9, -999.000,9, -999.000,9,-999.0000,9,  -999.00,9,   -999.0,9,   -999.0,9,   -999.0,9,  -999.00,9,25, -999.00,   -999,-999.0000,-999.000,  5.9250,-999.000
     316N151_2,   A24,    19,  1,     17,     17,2,19970603,1829, 44.7995, -18.3167, 4666,   1368.4,   5.3671,  35.1382,2,  35.1380,2,   -999.0,5,    239.2,2,    11.63,2,    18.08,2,     0.00,2,     1.18,2, -999.000,9, -999.000,9, -999.000,9,-999.0000,9,  -999.00,9,   -999.0,9,   -999.0,9,   -999.0,9,  -999.00,9,25, -999.00,   -999,-999.0000,-999.000,  5.2444,-999.000
     316N151_2,   A24,    19,  1,     16,     16,2,19970603,1829, 44.7995, -18.3167, 4666,   1517.6,   4.8482,  35.0833,2,  35.0830,2,   -999.0,5,    249.5,2,    11.73,2,    17.88,2,     0.00,2,     1.17,2, -999.000,9, -999.000,9, -999.000,9,-999.0000,9,  -999.00,9,   -999.0,9,   -999.0,9,   -999.0,9,  -999.00,9,25, -999.00,   -999,-999.0000,-999.000,  4.7165,-999.000
     316N151_2,   A24,    19,  1,     15,     15,2,19970603,1829, 44.7995, -18.3167, 4666,   1773.9,   4.0603,  34.9859,2,  34.9900,2,   -999.0,5,    263.6,2,    12.21,2,    17.59,2,     0.00,2,     1.16,2, -999.000,9, -999.000,9, -999.000,9,-999.0000,9,  -999.00,9,   -999.0,9,   -999.0,9,   -999.0,9,  -999.00,9,25, -999.00,   -999,-999.0000,-999.000,  3.9138,-999.000
     316N151_2,   A24,    19,  1,     14,     14,2,19970603,1829, 44.7995, -18.3167, 4666,   1925.2,   3.8883,  34.9746,2,  34.9750,2,   -999.0,5,    265.5,2,    12.90,2,    17.59,2,     0.00,2,     1.16,2, -999.000,9, -999.000,9, -999.000,9,-999.0000,9,  -999.00,9,   -999.0,9,   -999.0,9,   -999.0,9,  -999.00,9,25, -999.00,   -999,-999.0000,-999.000,  3.7297,-999.000
     316N151_2,   A24,    19,  1,     13,     13,2,19970603,1829, 44.7995, -18.3167, 4666,   2127.8,   3.6984,  34.9666,2,  34.9660,2,   -999.0,5,    265.2,2,    14.27,2,    17.59,2,     0.00,2,     1.17,2, -999.000,9, -999.000,9, -999.000,9,-999.0000,9,  -999.00,9,   -999.0,9,   -999.0,9,   -999.0,9,  -999.00,9,25, -999.00,   -999,-999.0000,-999.000,  3.5229,-999.000
     316N151_2,   A24,    19,  1,     12,     12,2,19970603,1829, 44.7995, -18.3167, 4666,   2328.5,   3.4664,  34.9692,2,  34.9680,2,   -999.0,5,    261.8,2,    17.59,2,    17.98,2,     0.00,2,     1.20,2, -999.000,9, -999.000,9, -999.000,9,-999.0000,9,  -999.00,9,   -999.0,9,   -999.0,9,   -999.0,9,  -999.00,9,25, -999.00,   -999,-999.0000,-999.000,  3.2750,-999.000
     316N151_2,   A24,    19,  1,     11,     11,2,19970603,1829, 44.7995, -18.3167, 4666,   2532.9,   3.2035,  34.9607,2,  34.9610,2,   -999.0,5,    259.5,2,    21.21,2,    18.37,2,     0.00,2,     1.24,2, -999.000,9, -999.000,9, -999.000,9,-999.0000,9,  -999.00,9,   -999.0,9,   -999.0,9,   -999.0,9,  -999.00,9,25, -999.00,   -999,-999.0000,-999.000,  2.9964,-999.000
     316N151_2,   A24,    19,  1,     10,     10,2,19970603,1829, 44.7995, -18.3167, 4666,   2736.4,   3.0355,  34.9530,2,  34.9540,2,   -999.0,5,    256.3,2,    24.63,2,    18.86,2,     0.00,2,     1.28,2, -999.000,9, -999.000,9, -999.000,9,-999.0000,9,  -999.00,9,   -999.0,9,   -999.0,9,   -999.0,9,  -999.00,9,25, -999.00,   -999,-999.0000,-999.000,  2.8112,-999.000
     316N151_2,   A24,    19,  1,      9,      9,2,19970603,1829, 44.7995, -18.3167, 4666,   2939.7,   2.8855,  34.9477,2,  34.9470,2,   -999.0,5,    252.8,2,    28.83,2,    19.54,2,     0.00,2,     1.33,2, -999.000,9, -999.000,9, -999.000,9,-999.0000,9,  -999.00,9,   -999.0,9,   -999.0,9,   -999.0,9,  -999.00,9,25, -999.00,   -999,-999.0000,-999.000,  2.6435,-999.000
     316N151_2,   A24,    19,  1,      8,      8,2,19970603,1829, 44.7995, -18.3167, 4666,   3140.5,   2.7746,  34.9394,2,  34.9380,2,   -999.0,5,    250.1,2,    31.96,2,    20.03,2,     0.00,2,     1.36,2, -999.000,9, -999.000,9, -999.000,9,-999.0000,9,  -999.00,9,   -999.0,9,   -999.0,9,   -999.0,9,  -999.00,9,25, -999.00,   -999,-999.0000,-999.000,  2.5140,-999.000
     316N151_2,   A24,    19,  1,      7,      7,2,19970603,1829, 44.7995, -18.3167, 4666,   3397.9,   2.6766,  34.9296,2,  34.9290,2,   -999.0,5,    246.6,2,    35.86,2,    20.72,2,     0.00,2,     1.41,2, -999.000,9, -999.000,9, -999.000,9,-999.0000,9,  -999.00,9,   -999.0,9,   -999.0,9,   -999.0,9,  -999.00,9,25, -999.00,   -999,-999.0000,-999.000,  2.3908,-999.000
     316N151_2,   A24,    19,  1,      6,      6,2,19970603,1829, 44.7995, -18.3167, 4666,   3601.9,   2.6106,  34.9219,2,  34.9210,2,   -999.0,5,    243.9,2,    38.89,2,    21.21,2,     0.00,2,     1.45,2, -999.000,9, -999.000,9, -999.000,9,-999.0000,9,  -999.00,9,   -999.0,9,   -999.0,9,   -999.0,9,  -999.00,9,25, -999.00,   -999,-999.0000,-999.000,  2.3042,-999.000
     316N151_2,   A24,    19,  1,      5,      5,2,19970603,1829, 44.7995, -18.3167, 4666,   3805.0,   2.5856,  34.9169,2,  34.9160,2,   -999.0,5,    242.0,2,    40.56,2,    21.50,2,     0.00,2,     1.47,2, -999.000,9, -999.000,9, -999.000,9,-999.0000,9,  -999.00,9,   -999.0,9,   -999.0,9,   -999.0,9,  -999.00,9,25, -999.00,   -999,-999.0000,-999.000,  2.2572,-999.000
     316N151_2,   A24,    19,  1,      4,      4,2,19970603,1829, 44.7995, -18.3167, 4666,   4061.7,   2.5716,  34.9118,2,  34.9110,2,   -999.0,5,    240.7,2,    42.02,2,    21.79,2,     0.00,2,     1.49,2, -999.000,9, -999.000,9, -999.000,9,-999.0000,9,  -999.00,9,   -999.0,9,   -999.0,9,   -999.0,9,  -999.00,9,25, -999.00,   -999,-999.0000,-999.000,  2.2142,-999.000
     316N151_2,   A24,    19,  1,      3,      3,2,19970603,1829, 44.7995, -18.3167, 4666,   4316.3,   2.5806,  34.9094,2,  34.9090,2,   -999.0,5,    240.3,2,    43.00,2,    21.89,2,     0.00,2,     1.50,2, -999.000,9, -999.000,9, -999.000,9,-999.0000,9,  -999.00,9,   -999.0,9,   -999.0,9,   -999.0,9,  -999.00,9,25, -999.00,   -999,-999.0000,-999.000,  2.1929,-999.000
     316N151_2,   A24,    19,  1,      2,      2,2,19970603,1829, 44.7995, -18.3167, 4666,   4573.2,   2.5996,  34.9084,2,  34.9080,2,   -999.0,5,    239.9,2,    43.29,2,    21.99,2,     0.00,2,     1.50,2, -999.000,9, -999.000,9, -999.000,9,-999.0000,9,  -999.00,9,   -999.0,9,   -999.0,9,   -999.0,9,  -999.00,9,25, -999.00,   -999,-999.0000,-999.000,  2.1802,-999.000
     316N151_2,   A24,    19,  1,      1,      1,2,19970603,1829, 44.7995, -18.3167, 4666,   4771.4,   2.6216,  34.9077,2,  34.9080,2,   -999.0,5,    239.6,2,    43.59,2,    21.99,2,     0.00,2,     1.50,2, -999.000,9, -999.000,9, -999.000,9,-999.0000,9,  -999.00,9,   -999.0,9,   -999.0,9,   -999.0,9,  -999.00,9,25, -999.00,   -999,-999.0000,-999.000,  2.1770,-999.000