BOTTLE,20220629CCHSIOAMB
EXPOCODE,SECT_ID,STNNBR,CASTNO,SAMPNO,BTLNBR,BTLNBR_FLAG_W,DATE,TIME,LATITUDE,LONGITUDE,DEPTH,CTDPRS,CTDTMP,CTDSAL,CTDSAL_FLAG_W,SALNTY,SALNTY_FLAG_W,CTDOXY,CTDOXY_FLAG_W,OXYGEN,OXYGEN_FLAG_W,SILCAT,SILCAT_FLAG_W,NITRAT,NITRAT_FLAG_W,NITRIT,NITRIT_FLAG_W,PHSPHT,PHSPHT_FLAG_W,CFC-11,CFC-11_FLAG_W,CFC-12,CFC-12_FLAG_W,TRITUM,TRITUM_FLAG_W,HELIUM,HELIUM_FLAG_W,DELHE3,DELHE3_FLAG_W,TCARBN,TCARBN_FLAG_W,PCO2,PCO2_FLAG_W,ALKALI,ALKALI_FLAG_W,PH,PH_FLAG_W,PH_TMP,PCO2TMP,CTDRAW,HELIER,DELHER,THETA,TRITER
,,,,,,,,,,,,DBAR,ITS-90,PSS-78,,PSS-78,,UMOL/KG,,UMOL/KG,,UMOL/KG,,UMOL/KG,,UMOL/KG,,UMOL/KG,,PMOL/KG,,PMOL/KG,,TU,,NMOL/KG,,PERCNT,,UMOL/KG,,UATM,,UMOL/KG,,,,DEG C,DEG C,,NMOL/KG,PERCNT,DEG C,TU
     316N151_2,   A24,    75,  1,     21,     21,2,19970614,1836, 60.2953, -25.4937, 2174,      3.6,  10.0993,  35.2245,2,  35.2215,2,    300.4,2,    305.8,2,     0.59,2,     5.82,2,     0.14,2,     0.40,2,    3.803,2,    2.016,2,    0.388,3,   1.8212,2,    -1.58,2,   2082.0,2,    457.4,2,   2323.1,6,     7.85,2,25,   20.00,   -999,  0.0000,   0.140, 10.0988,   0.007
     316N151_2,   A24,    75,  1,     20,     20,2,19970614,1836, 60.2953, -25.4937, 2174,     44.5,   9.3417,  35.2197,2,  35.2174,2,    275.7,2,    279.8,2,     2.57,2,     8.72,2,     0.15,2,     0.61,2,    3.804,2,    2.019,2,    1.456,2,   1.8466,2,    -1.55,2,   2109.4,2,    532.8,2,   2322.9,2,     7.85,2,25,   20.00,   -999,  0.0000,   0.140,  9.3367,   0.018
     316N151_2,   A24,    75,  1,     19,     19,2,19970614,1836, 60.2953, -25.4937, 2174,    105.3,   8.8659,  35.2090,2,  35.2071,2,    274.2,2,    265.2,2,     6.37,2,    12.74,2,     0.04,2,     0.84,2,    3.611,2,    1.935,2,    1.444,2,   1.8413,2,    -1.05,2,   2129.3,2,    604.6,2,   2322.5,2,     7.80,2,25,   20.00,   -999,  0.0000,   0.140,  8.8546,   0.019
     316N151_2,   A24,    75,  1,     18,     18,2,19970614,1836, 60.2953, -25.4937, 2174,    156.3,   9.0231,  35.2775,2,  35.2913,2,    263.2,2,    265.2,2,     6.26,2,    12.67,2,     0.01,2,     0.83,2,    3.567,2,    1.903,2,    1.505,2,   1.8231,2,    -0.94,2,   2131.0,2,    598.3,2,   2325.2,2,     7.81,2,25,   20.00,   -999,  0.0000,   0.140,  9.0060,   0.023
     316N151_2,   A24,    75,  1,     17,     17,2,19970614,1836, 60.2953, -25.4937, 2174,    204.7,   8.9064,  35.2731,2,  35.2747,2,    262.3,2,    265.1,2,     6.33,2,    12.72,2,     0.01,2,     0.83,2,    3.618,2,    1.915,2, -999.000,9,-999.0000,9,  -999.00,9,   2132.0,2,    597.3,2,   2324.6,2,     7.80,2,25,   20.00,   -999,-999.0000,-999.000,  8.8842,-999.000
     316N151_2,   A24,    75,  1,     16,     16,2,19970614,1836, 60.2953, -25.4937, 2174,    305.0,   8.0238,  35.1420,2,  35.1449,2,    260.5,2,    259.5,2,     7.74,2,    14.32,2,     0.01,2,     0.95,2,    3.562,2,    1.868,2,    1.457,2,   1.8214,2,     0.14,2,   2140.2,2,    641.2,2,   2318.2,2,     7.78,2,25,   20.00,   -999,  0.0000,   0.140,  7.9926,   0.018
     316N151_2,   A24,    75,  1,     15,     15,2,19970614,1836, 60.2953, -25.4937, 2174,    405.9,   7.7410,  35.1530,2,  35.1561,2,    270.6,2,    270.0,2,     7.44,2,    14.04,2,     0.01,2,     0.93,2,    3.776,2,    1.983,2,    1.430,2,   0.0029,4,  9435.61,4,   2136.1,2,    635.8,2,   2323.4,2,     7.78,2,25,   20.00,   -999,  0.0000,   0.200,  7.7001,   0.017
     316N151_2,   A24,    75,  1,     14,     14,2,19970614,1836, 60.2953, -25.4937, 2174,    504.7,   7.4869,  35.1437,2,  35.1406,2,    267.7,2,    268.1,2,     7.70,2,    14.42,2,     0.00,2,     0.95,2,    3.723,2,    1.959,2,    1.453,2,   0.0000,5,  -999.00,5,   2139.5,2,    645.3,2,   2318.6,2,     7.78,2,25,   20.00,   -999,  0.0000,   3.470,  7.4366,   0.018
     316N151_2,   A24,    75,  1,     13,     13,2,19970614,1836, 60.2953, -25.4937, 2174,    603.3,   7.3572,  35.1409,2,  35.1396,2,    268.2,2,    270.4,2,     7.68,2,    14.37,2,     0.00,2,     0.95,2,    3.780,2,    1.968,2, -999.000,9,-999.0000,9,  -999.00,9,   2138.9,2,    648.1,2,   2322.3,2,     7.77,2,25,   20.00,   -999,-999.0000,-999.000,  7.2972,-999.000
     316N151_2,   A24,    75,  1,     12,     12,2,19970614,1836, 60.2953, -25.4937, 2174,    702.4,   6.8871,  35.0967,2,  35.0961,2,    258.9,2,    259.4,2,     8.71,2,    15.59,2,     0.00,2,     1.03,2,    3.530,2,    1.818,2,    1.522,2,   1.8517,2,     0.89,2,   2142.3,2,    683.7,2,   2317.3,2,     7.75,2,25,   20.00,   -999,  0.0000,   0.200,  6.8194,   0.019
     316N151_2,   A24,    75,  1,     11,     11,2,19970614,1836, 60.2953, -25.4937, 2174,    800.3,   6.1524,  35.0369,2,  35.0358,2,    231.7,2,    232.1,2,    11.18,2,    18.00,2,     0.00,2,     1.19,2,    2.726,2,    1.340,2,    1.232,2,   1.9409,2,     4.69,2,   2158.9,2,    765.2,2,   2319.0,2,     7.71,2,25,   20.00,   -999,  0.0000,   0.200,  6.0792,   0.015
     316N151_2,   A24,    75,  1,     10,     10,2,19970614,1836, 60.2953, -25.4937, 2174,    899.4,   5.5790,  35.0168,2,  35.0169,2,    236.9,2,    234.9,2,    11.54,2,    18.23,2,     0.00,2,     1.20,2,    2.609,2,    1.260,2,    1.244,2,   1.8791,2,     5.76,2,   2166.7,2,    780.0,2,   2313.2,2,     7.71,2,25,   20.00,   -999,  0.0000,   0.200,  5.5000,   0.017
     316N151_2,   A24,    75,  1,      9,      9,2,19970614,1836, 60.2953, -25.4937, 2174,    997.5,   5.0547,  34.9918,2,  34.9943,2,    243.3,2,    242.3,2,    11.71,2,    18.19,2,     0.00,2,     1.20,2,    2.542,2,    1.229,2, -999.000,9,-999.0000,9,  -999.00,9,   2164.9,2,    781.0,2,   2312.5,2,     7.70,2,25,   20.00,   -999,-999.0000,-999.000,  4.9704,-999.000
     316N151_2,   A24,    75,  1,      8,      8,2,19970614,1836, 60.2953, -25.4937, 2174,   1097.7,   4.6644,  34.9845,2,  34.9864,2,    252.6,2,    256.1,2,    11.02,2,    17.11,2,     0.00,2,     1.14,2,    2.788,2,    1.355,2,    1.287,2,   1.8818,2,     5.78,2,   2159.4,2,    762.3,2,   2310.5,2,     7.71,2,25,   20.00,   -999,  0.0000,   0.200,  4.5741,   0.017
     316N151_2,   A24,    75,  1,      7,      7,2,19970614,1836, 60.2953, -25.4937, 2174,   1248.0,   4.1719,  34.9516,2,  34.9475,2,    262.1,2,    262.9,2,    11.39,2,    17.30,2,     0.00,2,     1.15,2,    2.660,2,    1.285,2, -999.000,9,-999.0000,9,  -999.00,9,   2161.2,2,    768.5,2,   2309.3,2,     7.71,2,25,   20.00,   -999,-999.0000,-999.000,  4.0726,-999.000
     316N151_2,   A24,    75,  1,      6,      6,2,19970614,1836, 60.2953, -25.4937, 2174,   1400.7,   3.8484,  34.9282,2,  34.9307,2,    270.6,2,    270.2,2,    11.27,2,    16.97,2,     0.00,2,     1.13,2,    2.602,2,    1.252,2,    1.279,2,   1.9197,2,     6.36,2,   2154.5,2,    759.1,2,   2306.2,2,     7.72,2,25,   20.00,   -999,  0.0000,   0.200,  3.7389,   0.016
     316N151_2,   A24,    75,  1,      5,      5,2,19970614,1836, 60.2953, -25.4937, 2174,   1554.0,   3.6529,  34.9298,2,  34.9313,2,    275.1,2,    274.6,2,    11.16,2,    16.59,2,     0.00,2,     1.11,2,    2.590,2,    1.241,2,    1.239,2,   1.8783,2,     4.64,2,   2156.2,2,    750.6,2,   2307.8,2,     7.72,2,25,   20.00,   -999,  0.0000,   0.200,  3.5319,   0.016
     316N151_2,   A24,    75,  1,      4,      4,2,19970614,1836, 60.2953, -25.4937, 2174,   1705.5,   3.5563,  34.9425,2,  34.9427,2,    275.1,2,    274.6,2,    11.14,2,    16.31,2,     0.00,2,     1.09,2,    2.462,2,    1.193,2, -999.000,9,-999.0000,9,  -999.00,9,   2153.1,2,    748.3,2,   2307.4,2,     7.72,2,25,   20.00,   -999,-999.0000,-999.000,  3.4228,-999.000
     316N151_2,   A24,    75,  1,      3,      3,2,19970614,1836, 60.2953, -25.4937, 2174,   1855.4,   3.3407,  34.9588,2,  34.9593,2,    273.0,2,    273.1,2,    12.07,2,    16.21,2,     0.00,2,     1.09,2,    2.125,2,    1.022,2,    1.033,2,   1.9015,2,     6.61,2,   2154.6,2,    748.3,2,   2311.6,2,     7.72,2,25,   20.00,   -999,  0.0000,   0.200,  3.1964,   0.014
     316N151_2,   A24,    75,  1,      2,      2,2,19970614,1836, 60.2953, -25.4937, 2174,   2053.7,   2.8009,  34.9693,2,  34.9705,2,    276.5,2,    276.1,2,    12.05,2,    15.65,2,     0.00,2,     1.08,2,    2.408,2,    1.168,2,    1.078,2,   1.8723,2,     5.22,2,   2158.0,2,    756.3,2,   2312.1,2,     7.72,2,25,   20.00,   -999,  0.0000,   0.200,  2.6463,   0.014
     316N151_2,   A24,    75,  1,      1,      1,2,19970614,1836, 60.2953, -25.4937, 2174,   2185.6,   2.7426,  34.9695,2,  34.9695,2,    275.1,2,    275.3,2,    12.42,2,    15.65,2,     0.00,2,     1.08,2,    2.420,2,    1.172,2,    1.077,2,   1.8992,2,     5.28,2,   2158.2,2,    757.1,2,   2317.1,2,     7.71,2,25,   20.00,   -999,  0.0000,   0.200,  2.5769,   0.014
     316N151_2,   A24,    76,  1,     18,     18,2,19970614,2226, 60.5817, -26.3023, 1961,      1.7,  10.1764,  35.2005,2,  35.1965,2,    310.0,2,    314.3,2,     0.64,2,     5.27,2,     0.14,2,     0.37,2,    3.841,2,    2.030,2, -999.000,9,-999.0000,9,  -999.00,9,   2077.3,2,   -999.0,9,   2326.8,6,     7.91,2,25, -999.00,   -999,-999.0000,-999.000, 10.1762,-999.000
     316N151_2,   A24,    76,  1,     17,     17,2,19970614,2226, 60.5817, -26.3023, 1961,     28.8,   9.3136,  35.1840,2,  35.1868,2,    295.2,2,    286.2,2,     1.76,2,     8.17,2,     0.15,2,     0.57,2, -999.000,9, -999.000,9, -999.000,9,-999.0000,9,  -999.00,9,   -999.0,9,   -999.0,9,   -999.0,9,  -999.00,9,25, -999.00,   -999,-999.0000,-999.000,  9.3104,-999.000
     316N151_2,   A24,    76,  1,     16,     16,2,19970614,2226, 60.5817, -26.3023, 1961,     78.8,   8.7233,  35.2115,2,  35.1870,2,    272.7,2,    276.6,2,     5.06,2,    11.13,2,     0.11,2,     0.77,2, -999.000,9, -999.000,9, -999.000,9,-999.0000,9,  -999.00,9,   -999.0,9,   -999.0,9,   -999.0,9,  -999.00,9,25, -999.00,   -999,-999.0000,-999.000,  8.7149,-999.000
     316N151_2,   A24,    76,  1,     15,     15,2,19970614,2226, 60.5817, -26.3023, 1961,    154.1,   8.2705,  35.1710,2,  35.1685,2,    264.2,2,    263.2,2,     7.23,2,    13.65,2,     0.03,2,     0.91,2, -999.000,9, -999.000,9, -999.000,9,-999.0000,9,  -999.00,9,   -999.0,9,   -999.0,9,   -999.0,9,  -999.00,9,25, -999.00,   -999,-999.0000,-999.000,  8.2546,-999.000
     316N151_2,   A24,    76,  1,     14,     14,2,19970614,2226, 60.5817, -26.3023, 1961,    254.1,   7.8909,  35.1628,2,  35.1642,2,    266.3,2,    274.1,2,     7.22,2,    13.54,2,     0.06,2,     0.90,2,    3.802,2,    2.001,2, -999.000,9,-999.0000,9,  -999.00,9,   -999.0,9,   -999.0,9,   -999.0,9,  -999.00,9,25, -999.00,   -999,-999.0000,-999.000,  7.8653,-999.000
     316N151_2,   A24,    76,  1,     13,     13,2,19970614,2226, 60.5817, -26.3023, 1961,    354.3,   7.6535,  35.1655,2,  35.1638,2,    263.0,2,    271.9,2,     7.30,2,    13.96,2,     0.01,2,     0.93,2, -999.000,9, -999.000,9, -999.000,9,-999.0000,9,  -999.00,9,   -999.0,9,   -999.0,9,   -999.0,9,  -999.00,9,25, -999.00,   -999,-999.0000,-999.000,  7.6181,-999.000
     316N151_2,   A24,    76,  1,     12,     12,2,19970614,2226, 60.5817, -26.3023, 1961,    454.1,   7.4418,  35.1509,2,  35.1500,2,    266.6,2,    268.7,2,     7.66,2,    14.30,2,     0.01,2,     0.95,2,    3.760,2,    1.965,2, -999.000,9,-999.0000,9,  -999.00,9,   -999.0,9,   -999.0,9,   -999.0,9,  -999.00,9,25, -999.00,   -999,-999.0000,-999.000,  7.3968,-999.000
     316N151_2,   A24,    76,  1,     11,     11,2,19970614,2226, 60.5817, -26.3023, 1961,    554.4,   7.2371,  35.1357,2,  35.1376,2,    266.9,2,    265.2,2,     8.03,2,    14.72,2,     0.01,2,     0.98,2, -999.000,9, -999.000,9, -999.000,9,-999.0000,9,  -999.00,9,   -999.0,9,   -999.0,9,   -999.0,9,  -999.00,9,25, -999.00,   -999,-999.0000,-999.000,  7.1827,-999.000
     316N151_2,   A24,    76,  1,     10,     10,2,19970614,2226, 60.5817, -26.3023, 1961,    655.9,   6.8747,  35.1090,2,  35.1102,2,    260.6,2,    258.0,2,     8.96,2,    15.62,2,     0.00,2,     1.03,2, -999.000,9, -999.000,9, -999.000,9,-999.0000,9,  -999.00,9,   -999.0,9,   -999.0,9,   -999.0,9,  -999.00,9,25, -999.00,   -999,-999.0000,-999.000,  6.8117,-999.000
     316N151_2,   A24,    76,  1,      9,      9,2,19970614,2226, 60.5817, -26.3023, 1961,    756.6,   6.2280,  35.0641,2,  35.0630,2,    247.3,2,    242.1,2,    10.47,2,    17.14,2,     0.00,2,     1.13,2,    2.939,2,    1.457,2, -999.000,9,-999.0000,9,  -999.00,9,   -999.0,9,   -999.0,9,   -999.0,9,  -999.00,9,25, -999.00,   -999,-999.0000,-999.000,  6.1585,-999.000
     316N151_2,   A24,    76,  1,      8,      8,2,19970614,2226, 60.5817, -26.3023, 1961,    857.8,   5.6698,  35.0396,2,  35.0445,2,    244.6,2,    243.4,2,    10.93,2,    17.33,2,     0.00,2,     1.15,2,    2.794,2,    1.383,2, -999.000,9,-999.0000,9,  -999.00,9,   -999.0,9,   -999.0,9,   -999.0,9,  -999.00,9,25, -999.00,   -999,-999.0000,-999.000,  5.5942,-999.000
     316N151_2,   A24,    76,  1,      7,      7,2,19970614,2226, 60.5817, -26.3023, 1961,   1009.4,   5.0423,  35.0101,2,  35.0092,2,    253.5,2,    255.6,2,    10.73,2,    16.77,2,     0.00,2,     1.11,2, -999.000,9, -999.000,9, -999.000,9,-999.0000,9,  -999.00,9,   -999.0,9,   -999.0,9,   -999.0,9,  -999.00,9,25, -999.00,   -999,-999.0000,-999.000,  4.9570,-999.000
     316N151_2,   A24,    76,  1,      6,      6,2,19970614,2226, 60.5817, -26.3023, 1961,   1161.4,   4.4721,  34.9813,2,  34.9819,2,    260.9,2,    263.2,2,    10.62,2,    16.49,2,     0.00,2,     1.10,2,    2.933,2,    1.439,2, -999.000,9,-999.0000,9,  -999.00,9,   -999.0,9,   -999.0,9,   -999.0,9,  -999.00,9,25, -999.00,   -999,-999.0000,-999.000,  4.3778,-999.000
     316N151_2,   A24,    76,  1,      5,      5,2,19970614,2226, 60.5817, -26.3023, 1961,   1312.7,   4.0129,  34.9574,2,  34.9577,2,    270.7,2,    269.9,2,    10.70,2,    16.40,2,     0.00,2,     1.10,2, -999.000,9, -999.000,9, -999.000,9,-999.0000,9,  -999.00,9,   -999.0,9,   -999.0,9,   -999.0,9,  -999.00,9,25, -999.00,   -999,-999.0000,-999.000,  3.9094,-999.000
     316N151_2,   A24,    76,  1,      4,      4,2,19970614,2226, 60.5817, -26.3023, 1961,   1466.2,   3.6636,  34.9622,2,  34.9626,2,    275.8,2,    275.3,2,    10.40,2,    15.79,2,     0.00,2,     1.06,2,    2.851,2,    1.385,2, -999.000,9,-999.0000,9,  -999.00,9,   -999.0,9,   -999.0,9,   -999.0,9,  -999.00,9,25, -999.00,   -999,-999.0000,-999.000,  3.5502,-999.000
     316N151_2,   A24,    76,  1,      3,      3,2,19970614,2226, 60.5817, -26.3023, 1961,   1616.7,   3.3744,  34.9692,2,  34.9691,2,    278.6,2,    274.7,2,    11.15,2,    15.84,2,     0.00,2,     1.07,2, -999.000,9, -999.000,9, -999.000,9,-999.0000,9,  -999.00,9,   -999.0,9,   -999.0,9,   -999.0,9,  -999.00,9,25, -999.00,   -999,-999.0000,-999.000,  3.2511,-999.000
     316N151_2,   A24,    76,  1,      2,      2,2,19970614,2226, 60.5817, -26.3023, 1961,   1770.1,   3.1147,  34.9699,2,  34.9691,2,    278.4,2,    277.9,2,    11.04,2,    15.55,2,     0.00,2,     1.05,2,    2.609,2,    1.270,2, -999.000,9,-999.0000,9,  -999.00,9,   -999.0,9,   -999.0,9,   -999.0,9,  -999.00,9,25, -999.00,   -999,-999.0000,-999.000,  2.9811,-999.000
     316N151_2,   A24,    76,  1,      1,      1,2,19970614,2226, 60.5817, -26.3023, 1961,   1968.0,   3.1164,  34.9698,2,  34.9685,2,    275.7,2,    278.0,2,    11.12,2,    15.51,2,     0.00,2,     1.05,2,    2.583,2,    1.257,2, -999.000,9,-999.0000,9,  -999.00,9,   -999.0,9,   -999.0,9,   -999.0,9,  -999.00,9,25, -999.00,   -999,-999.0000,-999.000,  2.9649,-999.000