BOTTLE,20220629CCHSIOAMB
EXPOCODE,SECT_ID,STNNBR,CASTNO,SAMPNO,BTLNBR,BTLNBR_FLAG_W,DATE,TIME,LATITUDE,LONGITUDE,DEPTH,CTDPRS,CTDTMP,CTDSAL,CTDSAL_FLAG_W,SALNTY,SALNTY_FLAG_W,CTDOXY,CTDOXY_FLAG_W,OXYGEN,OXYGEN_FLAG_W,SILCAT,SILCAT_FLAG_W,NITRAT,NITRAT_FLAG_W,NITRIT,NITRIT_FLAG_W,PHSPHT,PHSPHT_FLAG_W,CFC-11,CFC-11_FLAG_W,CFC-12,CFC-12_FLAG_W,TRITUM,TRITUM_FLAG_W,HELIUM,HELIUM_FLAG_W,DELHE3,DELHE3_FLAG_W,TCARBN,TCARBN_FLAG_W,PCO2,PCO2_FLAG_W,ALKALI,ALKALI_FLAG_W,PH,PH_FLAG_W,PH_TMP,PCO2TMP,CTDRAW,HELIER,DELHER,THETA,TRITER
,,,,,,,,,,,,DBAR,ITS-90,PSS-78,,PSS-78,,UMOL/KG,,UMOL/KG,,UMOL/KG,,UMOL/KG,,UMOL/KG,,UMOL/KG,,PMOL/KG,,PMOL/KG,,TU,,NMOL/KG,,PERCNT,,UMOL/KG,,UATM,,UMOL/KG,,,,DEG C,DEG C,,NMOL/KG,PERCNT,DEG C,TU
     316N151_2,   A24,   121,  1,     29,     29,2,19970623,0506, 51.9222, -34.2147, 3636,      4.0,  11.5397,  34.9732,2,  34.9732,2,    263.8,2,    281.2,2,     2.04,2,     4.88,2,     0.10,2,     0.36,2,    3.594,2,    1.924,2, -999.000,9,-999.0000,9,  -999.00,9,   2072.9,2,   -999.0,9,   2313.0,6,     7.91,6,25, -999.00,   -999,-999.0000,-999.000, 11.5392,-999.000
     316N151_2,   A24,   121,  1,     28,     28,2,19970623,0506, 51.9222, -34.2147, 3636,     26.6,  11.4623,  34.9828,2,  34.9827,2,    268.0,2,    282.5,2,     2.10,2,     5.02,2,     0.10,2,     0.38,2, -999.000,9, -999.000,9, -999.000,9,-999.0000,9,  -999.00,9,   2074.7,2,   -999.0,9,   2314.4,2,     7.91,2,25, -999.00,   -999,-999.0000,-999.000, 11.4590,-999.000
     316N151_2,   A24,   121,  1,     27,     27,2,19970623,0506, 51.9222, -34.2147, 3636,     55.7,  10.0325,  35.0553,2,  35.0581,2,    270.2,2,    270.3,2,     3.58,2,     7.11,2,     0.26,2,     0.59,2,    3.652,2,    1.948,2, -999.000,9,-999.0000,9,  -999.00,9,   2104.8,2,   -999.0,9,   2318.2,2,     7.86,2,25, -999.00,   -999,-999.0000,-999.000, 10.0260,-999.000
     316N151_2,   A24,   121,  1,     26,     26,2,19970623,0506, 51.9222, -34.2147, 3636,    106.0,   8.4320,  35.0633,2,  35.0508,2,    253.1,2,    252.9,2,     7.47,2,    13.82,2,     0.03,2,     0.91,2,    3.401,2,    1.808,2, -999.000,9,-999.0000,9,  -999.00,9,   2135.6,2,   -999.0,9,   2314.9,2,     7.78,2,25, -999.00,   -999,-999.0000,-999.000,  8.4210,-999.000
     316N151_2,   A24,   121,  1,     25,     25,2,19970623,0506, 51.9222, -34.2147, 3636,    156.2,   7.2173,  34.9630,2,  34.9619,2,    236.8,2,    246.6,2,     8.95,2,    15.76,2,     0.02,2,     1.05,2,    3.243,2,    1.706,2, -999.000,9,-999.0000,9,  -999.00,9,   2146.5,2,   -999.0,9,   2310.0,2,     7.75,2,25, -999.00,   -999,-999.0000,-999.000,  7.2024,-999.000
     316N151_2,   A24,   121,  1,     24,     24,2,19970623,0506, 51.9222, -34.2147, 3636,    196.0,   6.6803,  34.9254,2,  34.9253,2,    235.9,2,    226.0,2,    10.63,2,    17.82,2,     0.03,2,     1.18,2,    2.790,2,    1.432,2, -999.000,9,-999.0000,9,  -999.00,9,   2158.7,2,   -999.0,9,   2310.7,2,     7.72,3,25, -999.00,   -999,-999.0000,-999.000,  6.6625,-999.000
     316N151_2,   A24,   121,  1,     23,     23,2,19970623,0506, 51.9222, -34.2147, 3636,    266.6,   5.6197,  34.8310,2,  34.8354,2,    258.5,2,    262.5,2,     9.49,2,    16.23,2,     0.01,2,     1.09,2,    3.616,2,    1.888,2, -999.000,9,-999.0000,9,  -999.00,9,   2148.9,3,   -999.0,9,   2303.9,2,     7.73,2,25, -999.00,   -999,-999.0000,-999.000,  5.5974,-999.000
     316N151_2,   A24,   121,  1,     22,     22,2,19970623,0506, 51.9222, -34.2147, 3636,    367.4,   5.1296,  34.8726,2,  34.8699,2,    246.4,2,    242.4,2,    11.06,2,    18.07,2,     0.01,2,     1.20,2,    3.062,2,    1.523,2, -999.000,9,-999.0000,9,  -999.00,9,   2162.1,2,   -999.0,9,   2307.5,2,     7.70,2,25, -999.00,   -999,-999.0000,-999.000,  5.1001,-999.000
     316N151_2,   A24,   121,  1,     21,     21,2,19970623,0506, 51.9222, -34.2147, 3636,    427.8,   4.9078,  34.9113,2,  34.9149,2,    236.0,2,    238.4,2,    11.63,2,    18.59,2,     0.01,2,     1.22,2,    2.778,2,    1.367,2, -999.000,9,-999.0000,9,  -999.00,9,   2165.7,2,   -999.0,9,   2308.1,2,     7.70,2,25, -999.00,   -999,-999.0000,-999.000,  4.8739,-999.000
     316N151_2,   A24,   121,  1,     20,     20,2,19970623,0506, 51.9222, -34.2147, 3636,    507.7,   4.4698,  34.9073,2,  34.9080,2,    247.0,2,    249.3,2,    11.40,2,    18.26,2,     0.00,2,     1.20,2,    3.001,2,    1.468,2, -999.000,9,-999.0000,9,  -999.00,9,   2164.9,2,   -999.0,9,   2303.7,2,     7.69,2,25, -999.00,   -999,-999.0000,-999.000,  4.4311,-999.000
     316N151_2,   A24,   121,  1,     19,     19,2,19970623,0506, 51.9222, -34.2147, 3636,    656.2,   3.9614,  34.9094,2,  34.9075,2,    262.2,2,    264.0,2,    11.16,2,    17.74,2,     0.00,2,     1.16,2,    2.989,2,    1.475,2, -999.000,9,-999.0000,9,  -999.00,9,   2160.9,2,   -999.0,9,   2306.2,2,     7.71,2,25, -999.00,   -999,-999.0000,-999.000,  3.9132,-999.000
     316N151_2,   A24,   121,  1,     18,     18,2,19970623,0506, 51.9222, -34.2147, 3636,    759.8,   3.9100,  34.9184,2,  34.9197,2,    266.9,2,    267.5,2,    11.33,2,    17.60,2,     0.00,2,     1.15,2,    2.851,2,    1.391,2, -999.000,9,-999.0000,9,  -999.00,9,   2158.9,2,   -999.0,9,   2305.4,2,     7.71,2,25, -999.00,   -999,-999.0000,-999.000,  3.8539,-999.000
     316N151_2,   A24,   121,  1,     17,     17,2,19970623,0506, 51.9222, -34.2147, 3636,    909.1,   3.6876,  34.9086,2,  34.9087,2,    271.8,2,    272.5,2,    11.39,2,    17.41,2,     0.00,2,     1.14,2,    2.687,2,    1.310,2, -999.000,9,-999.0000,9,  -999.00,9,   2157.8,2,   -999.0,9,   2305.2,2,     7.71,2,25, -999.00,   -999,-999.0000,-999.000,  3.6210,-999.000
     316N151_2,   A24,   121,  1,     16,     16,2,19970623,0506, 51.9222, -34.2147, 3636,   1060.7,   3.4833,  34.8911,2,  34.8927,2,    273.1,2,    278.4,2,    11.26,2,    17.22,2,     0.00,2,     1.13,2,    2.851,2,    1.391,2, -999.000,9,-999.0000,9,  -999.00,9,   2155.8,2,   -999.0,9,   2305.1,2,     7.72,3,25, -999.00,   -999,-999.0000,-999.000,  3.4061,-999.000
     316N151_2,   A24,   121,  1,     15,     15,2,19970623,0506, 51.9222, -34.2147, 3636,   1213.8,   3.3203,  34.8810,2,  34.8812,2,    279.6,2,    282.5,2,    11.22,2,    17.03,2,     0.00,2,     1.12,2,    2.884,2,    1.415,2, -999.000,9,-999.0000,9,  -999.00,9,   2154.0,2,   -999.0,9,   2304.8,2,     7.71,2,25, -999.00,   -999,-999.0000,-999.000,  3.2321,-999.000
     316N151_2,   A24,   121,  1,     14,     14,2,19970623,0506, 51.9222, -34.2147, 3636,   1415.5,   3.1967,  34.8746,2,  34.8741,2,    286.5,2,    286.3,2,    11.19,2,    16.84,2,     0.00,2,     1.11,2,    3.006,2,    1.462,2, -999.000,9,-999.0000,9,  -999.00,9,   2154.3,2,   -999.0,9,   2304.3,2,     7.71,2,25, -999.00,   -999,-999.0000,-999.000,  3.0930,-999.000
     316N151_2,   A24,   121,  1,     13,     13,2,19970623,0506, 51.9222, -34.2147, 3636,   1619.9,   3.1296,  34.8722,2,  34.8715,2,    290.0,2,    287.9,2,    11.15,2,    16.74,2,     0.00,2,     1.10,2,    3.003,2,    1.480,2, -999.000,9,-999.0000,9,  -999.00,9,   2152.5,2,   -999.0,9,   2303.4,2,     7.71,2,25, -999.00,   -999,-999.0000,-999.000,  3.0093,-999.000
     316N151_2,   A24,   121,  1,     12,     12,2,19970623,0506, 51.9222, -34.2147, 3636,   1821.3,   3.0758,  34.8709,2,  34.8698,2,    286.9,2,    289.5,2,    11.02,2,    16.65,2,     0.00,2,     1.10,2,    3.144,2,    1.545,2, -999.000,9,-999.0000,9,  -999.00,9,   2151.5,2,   -999.0,9,   2302.5,2,     7.72,2,25, -999.00,   -999,-999.0000,-999.000,  2.9385,-999.000
     316N151_2,   A24,   121,  1,     11,     11,2,19970623,0506, 51.9222, -34.2147, 3636,   2024.9,   3.1168,  34.8901,2,  34.8903,2,    283.5,2,    284.5,2,    11.69,2,    16.60,2,     0.00,2,     1.10,2,    2.612,2,    1.275,2, -999.000,9,-999.0000,9,  -999.00,9,   2152.3,2,   -999.0,9,   2305.4,2,     7.72,2,25, -999.00,   -999,-999.0000,-999.000,  2.9604,-999.000
     316N151_2,   A24,   121,  1,     10,     10,2,19970623,0506, 51.9222, -34.2147, 3636,   2174.3,   3.1601,  34.9141,2,  34.9133,2,    280.3,2,    278.7,2,    12.46,2,    16.60,2,     0.00,2,     1.10,2,    2.072,2,    1.005,2, -999.000,9,-999.0000,9,  -999.00,9,   2155.2,2,   -999.0,9,   2306.8,2,     7.72,2,25, -999.00,   -999,-999.0000,-999.000,  2.9889,-999.000
     316N151_2,   A24,   121,  1,      9,      9,2,19970623,0506, 51.9222, -34.2147, 3636,   2325.0,   3.1122,  34.9230,2,  34.9226,2,    278.9,2,    276.0,2,    13.53,2,    16.74,2,     0.00,2,     1.10,2,    1.649,2,    0.819,2, -999.000,9,-999.0000,9,  -999.00,9,   2155.8,2,   -999.0,9,   2309.0,2,     7.72,2,25, -999.00,   -999,-999.0000,-999.000,  2.9274,-999.000
     316N151_2,   A24,   121,  1,      8,      8,2,19970623,0506, 51.9222, -34.2147, 3636,   2526.4,   3.0409,  34.9341,2,  34.9348,2,    273.5,2,    274.4,2,    14.10,2,    16.59,2,     0.00,2,     1.10,2,    1.570,2,    0.774,2, -999.000,9,-999.0000,9,  -999.00,9,   2156.4,2,   -999.0,9,   2310.7,2,     7.72,2,25, -999.00,   -999,-999.0000,-999.000,  2.8376,-999.000
     316N151_2,   A24,   121,  1,      7,      7,2,19970623,0506, 51.9222, -34.2147, 3636,   2732.7,   2.9631,  34.9405,2,  34.9395,2,    275.6,2,    273.7,2,    14.97,2,    16.59,2,     0.00,2,     1.10,2,    1.520,2,    0.738,2, -999.000,9,-999.0000,9,  -999.00,9,   2158.4,2,   -999.0,9,   2312.0,2,     7.72,2,25, -999.00,   -999,-999.0000,-999.000,  2.7407,-999.000
     316N151_2,   A24,   121,  1,      6,      6,2,19970623,0506, 51.9222, -34.2147, 3636,   2935.5,   2.8237,  34.9359,2,  34.9373,2,    274.8,2,    273.0,2,    16.35,2,    16.68,2,     0.00,2,     1.11,2,    1.405,2,    0.686,2, -999.000,9,-999.0000,9,  -999.00,9,   2160.2,2,   -999.0,9,   2314.4,2,     7.72,2,25, -999.00,   -999,-999.0000,-999.000,  2.5834,-999.000
     316N151_2,   A24,   121,  1,      5,      5,2,19970623,0506, 51.9222, -34.2147, 3636,   3088.7,   2.7516,  34.9360,2,  34.9356,2,    274.0,2,    272.6,2,    17.22,2,    16.73,2,     0.00,2,     1.12,2, -999.000,9, -999.000,9, -999.000,9,-999.0000,9,  -999.00,9,   2161.6,2,   -999.0,9,   2316.1,2,     7.72,2,25, -999.00,   -999,-999.0000,-999.000,  2.4970,-999.000
     316N151_2,   A24,   121,  1,      4,      4,2,19970623,0506, 51.9222, -34.2147, 3636,   3294.6,   2.6740,  34.9299,2,  34.9301,2,    275.8,2,    273.1,2,    17.69,2,    16.77,2,     0.00,2,     1.12,2,    1.393,2,    0.681,2, -999.000,9,-999.0000,9,  -999.00,9,   2161.6,2,   -999.0,9,   2315.6,2,     7.72,2,25, -999.00,   -999,-999.0000,-999.000,  2.3994,-999.000
     316N151_2,   A24,   121,  1,      3,      3,2,19970623,0506, 51.9222, -34.2147, 3636,   3447.3,   2.6351,  34.9264,2,  34.9254,2,    274.2,2,    274.0,2,    17.75,2,    16.77,2,     0.00,2,     1.12,2, -999.000,9, -999.000,9, -999.000,9,-999.0000,9,  -999.00,9,   2162.3,2,   -999.0,9,   2313.6,2,     7.72,2,25, -999.00,   -999,-999.0000,-999.000,  2.3450,-999.000
     316N151_2,   A24,   121,  1,      2,      2,2,19970623,0506, 51.9222, -34.2147, 3636,   3549.8,   2.6115,  34.9223,2,  34.9230,2,    275.1,2,    274.7,2,    17.82,2,    16.77,2,     0.00,2,     1.12,2,    1.403,2,    0.686,2, -999.000,9,-999.0000,9,  -999.00,9,   2161.6,2,   -999.0,9,   2315.2,2,     7.72,2,25, -999.00,   -999,-999.0000,-999.000,  2.3108,-999.000
     316N151_2,   A24,   121,  1,      1,      1,2,19970623,0506, 51.9222, -34.2147, 3636,   3637.4,   2.5392,  34.9152,2,  34.9164,2,    275.7,2,    276.9,2,    17.89,2,    16.72,2,     0.00,2,     1.12,2,    1.402,2,    0.685,2, -999.000,9,-999.0000,9,  -999.00,9,   2161.0,2,   -999.0,9,   2311.3,2,     7.68,3,25, -999.00,   -999,-999.0000,-999.000,  2.2307,-999.000