BOTTLE,20220629CCHSIOAMB
EXPOCODE,SECT_ID,STNNBR,CASTNO,SAMPNO,BTLNBR,BTLNBR_FLAG_W,DATE,TIME,LATITUDE,LONGITUDE,DEPTH,CTDPRS,CTDTMP,CTDSAL,CTDSAL_FLAG_W,SALNTY,SALNTY_FLAG_W,CTDOXY,CTDOXY_FLAG_W,OXYGEN,OXYGEN_FLAG_W,SILCAT,SILCAT_FLAG_W,NITRAT,NITRAT_FLAG_W,NITRIT,NITRIT_FLAG_W,PHSPHT,PHSPHT_FLAG_W,CFC-11,CFC-11_FLAG_W,CFC-12,CFC-12_FLAG_W,TRITUM,TRITUM_FLAG_W,HELIUM,HELIUM_FLAG_W,DELHE3,DELHE3_FLAG_W,TCARBN,TCARBN_FLAG_W,PCO2,PCO2_FLAG_W,ALKALI,ALKALI_FLAG_W,PH,PH_FLAG_W,PH_TMP,PCO2TMP,CTDRAW,HELIER,DELHER,THETA,TRITER
,,,,,,,,,,,,DBAR,ITS-90,PSS-78,,PSS-78,,UMOL/KG,,UMOL/KG,,UMOL/KG,,UMOL/KG,,UMOL/KG,,UMOL/KG,,PMOL/KG,,PMOL/KG,,TU,,NMOL/KG,,PERCNT,,UMOL/KG,,UATM,,UMOL/KG,,,,DEG C,DEG C,,NMOL/KG,PERCNT,DEG C,TU
     316N151_2,   A24,    71,  1,     24,     24,2,19970614,0226, 59.5197, -22.0948, 2710,      3.1,  10.6188,  35.2404,2,  35.2432,2,    309.7,2,    303.8,2,     0.70,2,     4.53,2,     0.13,2,     0.34,2,    3.788,2,    1.987,2, -999.000,9,-999.0000,9,  -999.00,9,   2077.2,2,   -999.0,9,   2326.2,6,     7.91,6,25, -999.00,   -999,-999.0000,-999.000, 10.6184,-999.000
     316N151_2,   A24,    71,  1,     23,     23,2,19970614,0226, 59.5197, -22.0948, 2710,     64.4,   9.4691,  35.2363,2,  35.2365,2,    280.3,2,    280.8,2,     2.20,2,     8.01,2,     0.14,2,     0.59,2, -999.000,9, -999.000,9, -999.000,9,-999.0000,9,  -999.00,9,   2107.6,2,   -999.0,9,   2323.8,2,     7.86,2,25, -999.00,   -999,-999.0000,-999.000,  9.4619,-999.000
     316N151_2,   A24,    71,  1,     22,     22,2,19970614,0226, 59.5197, -22.0948, 2710,     95.2,   9.3846,  35.2440,2,  35.2446,2,    280.1,2,    280.0,2,     2.75,2,     8.05,2,     0.14,2,     0.60,2,    3.860,2,    2.030,2, -999.000,9,-999.0000,9,  -999.00,9,   2108.1,2,   -999.0,9,   2325.8,2,     7.85,2,25, -999.00,   -999,-999.0000,-999.000,  9.3740,-999.000
     316N151_2,   A24,    71,  1,     21,     21,2,19970614,0226, 59.5197, -22.0948, 2710,    155.3,   8.7477,  35.1994,2,  35.1914,2,    258.9,2,    266.9,2,     6.64,2,    12.80,2,     0.07,2,     0.86,2,    3.678,2,    1.944,2, -999.000,9,-999.0000,9,  -999.00,9,   2131.6,2,   -999.0,9,   2320.8,2,     7.80,2,25, -999.00,   -999,-999.0000,-999.000,  8.7311,-999.000
     316N151_2,   A24,    71,  1,     20,     20,2,19970614,0226, 59.5197, -22.0948, 2710,    225.1,   8.7461,  35.2414,2,  35.2410,2,    261.8,2,    266.5,2,     6.62,2,    12.83,2,     0.03,2,     0.86,2, -999.000,9, -999.000,9, -999.000,9,-999.0000,9,  -999.00,9,   2133.0,2,   -999.0,9,   2324.9,2,     7.80,2,25, -999.00,   -999,-999.0000,-999.000,  8.7219,-999.000
     316N151_2,   A24,    71,  1,     19,     19,2,19970614,0226, 59.5197, -22.0948, 2710,    305.6,   7.8698,  35.0905,2,  35.0905,2,    264.9,2,    266.8,2,     7.66,2,    13.99,2,     0.01,2,     0.94,2,    3.725,2,    1.949,2, -999.000,9,-999.0000,9,  -999.00,9,   2136.5,2,   -999.0,9,   2316.8,3,     7.78,2,25, -999.00,   -999,-999.0000,-999.000,  7.8389,-999.000
     316N151_2,   A24,    71,  1,     18,     18,2,19970614,0226, 59.5197, -22.0948, 2710,    376.4,   7.9309,  35.1350,2,  35.1480,2,    263.7,2,    263.0,2,     7.83,2,    14.27,2,     0.01,2,     0.96,2, -999.000,9, -999.000,9, -999.000,9,-999.0000,9,  -999.00,9,   2140.9,2,   -999.0,9,   2323.6,2,     7.77,2,25, -999.00,   -999,-999.0000,-999.000,  7.8925,-999.000
     316N151_2,   A24,    71,  1,     17,     17,2,19970614,0226, 59.5197, -22.0948, 2710,    446.5,   7.6305,  35.1345,2,  35.1335,2,    269.9,2,    265.3,2,     7.90,2,    14.51,2,     0.00,2,     0.97,2,    3.679,2,    1.909,2, -999.000,9,-999.0000,9,  -999.00,9,   2140.6,2,   -999.0,9,   2320.8,2,     7.78,2,25, -999.00,   -999,-999.0000,-999.000,  7.5858,-999.000
     316N151_2,   A24,    71,  1,     16,     16,2,19970614,0226, 59.5197, -22.0948, 2710,    537.5,   7.5353,  35.1420,2,  35.1413,2,    268.0,2,    264.9,2,     7.88,2,    14.56,2,     0.00,2,     0.97,2, -999.000,9, -999.000,9, -999.000,9,-999.0000,9,  -999.00,9,   2142.5,2,   -999.0,9,   2321.5,2,     7.77,2,25, -999.00,   -999,-999.0000,-999.000,  7.4814,-999.000
     316N151_2,   A24,    71,  1,     15,     15,2,19970614,0226, 59.5197, -22.0948, 2710,    647.6,   7.3458,  35.1298,2,  35.1285,2,    265.7,2,    261.8,2,     8.25,2,    14.98,2,     0.00,2,     1.00,2,    3.608,2,    1.866,2, -999.000,9,-999.0000,9,  -999.00,9,   2144.8,2,   -999.0,9,   2318.5,2,     7.76,2,25, -999.00,   -999,-999.0000,-999.000,  7.2813,-999.000
     316N151_2,   A24,    71,  1,     14,     14,2,19970614,0226, 59.5197, -22.0948, 2710,    738.2,   6.9072,  35.0899,2,  35.0898,2,    244.1,2,    239.1,2,    10.14,2,    16.92,2,     0.00,2,     1.12,2,    3.049,2,    1.535,2, -999.000,9,-999.0000,9,  -999.00,9,   2157.3,2,   -999.0,9,   2317.8,2,     7.73,2,25, -999.00,   -999,-999.0000,-999.000,  6.8358,-999.000
     316N151_2,   A24,    71,  1,     13,     13,2,19970614,0226, 59.5197, -22.0948, 2710,    828.3,   6.2009,  35.0438,2,  35.0419,2,    230.6,2,    228.4,2,    11.55,2,    18.29,2,     0.00,2,     1.21,2,    2.640,2,    1.305,2, -999.000,9,-999.0000,9,  -999.00,9,   2165.6,2,   -999.0,9,   2316.4,2,     7.71,2,25, -999.00,   -999,-999.0000,-999.000,  6.1246,-999.000
     316N151_2,   A24,    71,  1,     12,     12,2,19970614,0226, 59.5197, -22.0948, 2710,    949.7,   5.4449,  35.0114,2,  35.0092,2,    234.4,2,    234.7,2,    12.01,2,    18.48,2,     0.00,2,     1.22,2, -999.000,9, -999.000,9, -999.000,9,-999.0000,9,  -999.00,9,   2166.7,2,   -999.0,9,   2314.0,2,     7.70,2,25, -999.00,   -999,-999.0000,-999.000,  5.3621,-999.000
     316N151_2,   A24,    71,  1,     11,     11,2,19970614,0226, 59.5197, -22.0948, 2710,   1060.5,   4.8859,  34.9808,2,  34.9809,2,    242.9,2,    244.0,2,    11.99,2,    18.29,2,     0.00,2,     1.21,2,    2.537,2,    1.216,2, -999.000,9,-999.0000,9,  -999.00,9,   2165.6,2,   -999.0,9,   2312.5,2,     7.70,2,25, -999.00,   -999,-999.0000,-999.000,  4.7971,-999.000
     316N151_2,   A24,    71,  1,     10,     10,2,19970614,0226, 59.5197, -22.0948, 2710,   1162.0,   4.5091,  34.9575,2,  34.9600,2,    249.0,2,    250.7,2,    12.07,2,    18.19,2,     0.00,2,     1.21,2, -999.000,9, -999.000,9, -999.000,9,-999.0000,9,  -999.00,9,   2163.9,2,   -999.0,9,   2312.6,2,     7.70,2,25, -999.00,   -999,-999.0000,-999.000,  4.4144,-999.000
     316N151_2,   A24,    71,  1,      9,      9,2,19970614,0226, 59.5197, -22.0948, 2710,   1293.0,   4.1018,  34.9339,2,  34.9343,2,    257.4,2,    261.4,2,    11.86,2,    17.72,2,     0.00,2,     1.18,2,    2.578,2,    1.228,2, -999.000,9,-999.0000,9,  -999.00,9,   2159.7,2,   -999.0,9,   2309.6,2,     7.71,2,25, -999.00,   -999,-999.0000,-999.000,  3.9992,-999.000
     316N151_2,   A24,    71,  1,      8,      8,2,19970614,0226, 59.5197, -22.0948, 2710,   1414.9,   3.8480,  34.9135,2,  34.9136,2,    265.3,2,    267.5,2,    11.84,2,    17.72,2,     0.00,2,     1.18,2, -999.000,9, -999.000,9, -999.000,9,-999.0000,9,  -999.00,9,   2158.6,2,   -999.0,9,   2310.9,2,     7.71,2,25, -999.00,   -999,-999.0000,-999.000,  3.7373,-999.000
     316N151_2,   A24,    71,  1,      7,      7,2,19970614,0226, 59.5197, -22.0948, 2710,   1619.4,   3.5725,  34.8963,2,  34.8963,2,    274.3,2,    275.4,2,    11.73,2,    17.34,2,     0.00,2,     1.16,2,    2.515,2,    1.192,2, -999.000,9,-999.0000,9,  -999.00,9,   2153.7,2,   -999.0,9,   2305.8,2,     7.71,2,25, -999.00,   -999,-999.0000,-999.000,  3.4467,-999.000
     316N151_2,   A24,    71,  1,      6,      6,2,19970614,0226, 59.5197, -22.0948, 2710,   1821.5,   3.4201,  34.8913,2,  34.8918,2,    278.6,2,    279.3,2,    11.81,2,    17.06,2,     0.00,2,     1.15,2,    2.474,2,    1.178,2, -999.000,9,-999.0000,9,  -999.00,9,   2153.4,2,   -999.0,9,   2306.5,2,     7.71,2,25, -999.00,   -999,-999.0000,-999.000,  3.2780,-999.000
     316N151_2,   A24,    71,  1,      5,      5,2,19970614,0226, 59.5197, -22.0948, 2710,   2024.5,   3.3473,  34.9019,2,  34.9010,2,    281.4,2,    279.6,2,    11.98,2,    16.87,2,     0.00,2,     1.14,2,    2.323,2,    1.107,2, -999.000,9,-999.0000,9,  -999.00,9,   2151.3,2,   -999.0,9,   2307.1,2,     7.72,2,25, -999.00,   -999,-999.0000,-999.000,  3.1874,-999.000
     316N151_2,   A24,    71,  1,      4,      4,2,19970614,0226, 59.5197, -22.0948, 2710,   2227.8,   3.3464,  34.9366,2,  34.9372,2,    277.5,2,    274.2,2,    12.82,2,    16.68,2,     0.00,2,     1.12,2,    1.811,2,    0.878,2, -999.000,9,-999.0000,9,  -999.00,9,   2155.1,2,   -999.0,9,   2311.3,2,     7.72,2,25, -999.00,   -999,-999.0000,-999.000,  3.1670,-999.000
     316N151_2,   A24,    71,  1,      3,      3,2,19970614,0226, 59.5197, -22.0948, 2710,   2429.9,   3.1636,  34.9601,2,  34.9604,2,    274.1,2,    272.1,2,    14.04,2,    16.39,2,     0.00,2,     1.11,2,    1.828,2,    0.887,2, -999.000,9,-999.0000,9,  -999.00,9,   2157.3,2,   -999.0,9,   2311.6,2,     7.71,2,25, -999.00,   -999,-999.0000,-999.000,  2.9675,-999.000
     316N151_2,   A24,    71,  1,      2,      2,2,19970614,0226, 59.5197, -22.0948, 2710,   2635.5,   2.6636,  34.9655,2,  34.9658,2,    275.1,2,    276.6,2,    13.93,2,    15.83,2,     0.00,2,     1.08,2,    2.319,2,    1.117,2, -999.000,9,-999.0000,9,  -999.00,9,   2160.9,2,   -999.0,9,   2313.2,2,     7.71,2,25, -999.00,   -999,-999.0000,-999.000,  2.4566,-999.000
     316N151_2,   A24,    71,  1,      1,      1,2,19970614,0226, 59.5197, -22.0948, 2710,   2727.7,   2.5587,  34.9669,2,  34.9665,2,    276.3,2,    277.7,2,    13.43,2,    15.64,2,     0.00,2,     1.06,2,    2.470,2,    1.212,2, -999.000,9,-999.0000,9,  -999.00,9,   2162.1,2,   -999.0,9,   2314.6,2,     7.71,2,25, -999.00,   -999,-999.0000,-999.000,  2.3447,-999.000
     316N151_2,   A24,    72,  1,     20,     20,2,19970614,0648, 59.6980, -23.0058, 2315,      2.5,  10.4784,  35.1753,2,  35.2050,2,    240.9,2,    303.6,2,     0.79,2,     4.33,2,     0.13,2,     0.33,2,    3.782,2,    2.002,2,    1.429,2,   1.8058,2,    -1.71,2,   2078.1,2,   -999.0,9,   2323.4,6,     7.92,2,25, -999.00,   -999,  0.0000,   0.200, 10.4781,   0.018
     316N151_2,   A24,    72,  1,     19,     19,2,19970614,0648, 59.6980, -23.0058, 2315,     34.7,   9.7869,  35.1827,2,  35.1792,2,    270.5,2,    277.6,2,     2.67,2,     7.08,2,     0.17,2,     0.54,2, -999.000,9, -999.000,9,    1.490,2,   1.8027,2,    -1.68,2,   -999.0,9,   -999.0,9,   -999.0,9,  -999.00,9,25, -999.00,   -999,  0.0000,   0.200,  9.7829,   0.018
     316N151_2,   A24,    72,  1,     18,     18,2,19970614,0648, 59.6980, -23.0058, 2315,     64.5,   9.0613,  35.1709,2,  35.1709,2,    264.4,2,    269.4,2,     6.36,2,    11.69,2,     0.28,2,     0.81,2, -999.000,9, -999.000,9,    1.076,3,   1.8211,2,    -1.32,2,   -999.0,9,   -999.0,9,   -999.0,9,  -999.00,9,25, -999.00,   -999,  0.0000,   0.200,  9.0543,   0.177
     316N151_2,   A24,    72,  1,     17,     17,2,19970614,0648, 59.6980, -23.0058, 2315,    115.1,   8.7940,  35.1804,2,  35.1781,2,    268.5,2,    265.2,2,     6.82,2,    12.90,2,     0.02,2,     0.87,2, -999.000,9, -999.000,9, -999.000,9,-999.0000,9,  -999.00,9,   -999.0,9,   -999.0,9,   -999.0,9,  -999.00,9,25, -999.00,   -999,-999.0000,-999.000,  8.7817,-999.000
     316N151_2,   A24,    72,  1,     16,     16,2,19970614,0648, 59.6980, -23.0058, 2315,    175.8,   8.0152,  35.0740,2,  35.0723,2,    266.2,2,    265.6,2,     7.65,2,    13.81,2,     0.01,2,     0.94,2,    3.717,2,    1.953,2, -999.000,5,   1.8241,2,    -0.70,2,   -999.0,9,   -999.0,9,   -999.0,9,  -999.00,9,25, -999.00,   -999,  0.0000,   0.200,  7.9974,-999.000
     316N151_2,   A24,    72,  1,     15,     15,2,19970614,0648, 59.6980, -23.0058, 2315,    296.3,   8.0493,  35.1182,2,  35.1356,2,    261.9,2,    263.7,2,     7.73,2,    14.05,2,     0.01,2,     0.95,2, -999.000,9, -999.000,9,    1.487,2,   3.3323,4,    -8.18,4,   -999.0,9,   -999.0,9,   -999.0,9,  -999.00,9,25, -999.00,   -999,  0.0000,   0.190,  8.0190,   0.019
     316N151_2,   A24,    72,  1,     14,     14,2,19970614,0648, 59.6980, -23.0058, 2315,    396.0,   7.6677,  35.1306,2,  35.1287,2,    259.6,2,    265.9,2,     8.09,2,    14.57,2,     0.01,2,     0.97,2, -999.000,9, -999.000,9, -999.000,5,   1.8327,2,     0.00,2,   -999.0,9,   -999.0,9,   -999.0,9,  -999.00,9,25, -999.00,   -999,  0.0000,   0.200,  7.6280,-999.000
     316N151_2,   A24,    72,  1,     13,     13,2,19970614,0648, 59.6980, -23.0058, 2315,    507.6,   7.3378,  35.1181,2,  35.1212,2,    266.3,2,    260.6,2,     8.55,2,    15.14,2,     0.00,2,     1.01,2,    3.508,2,    1.810,2, -999.000,9,-999.0000,9,  -999.00,9,   -999.0,9,   -999.0,9,   -999.0,9,  -999.00,9,25, -999.00,   -999,-999.0000,-999.000,  7.2878,-999.000
     316N151_2,   A24,    72,  1,     12,     12,2,19970614,0648, 59.6980, -23.0058, 2315,    617.4,   7.1498,  35.1229,2,  35.1197,2,    263.2,2,    266.7,2,     8.25,2,    14.86,2,     0.00,2,     1.00,2, -999.000,9, -999.000,9, -999.000,9,-999.0000,9,  -999.00,9,   -999.0,9,   -999.0,9,   -999.0,9,  -999.00,9,25, -999.00,   -999,-999.0000,-999.000,  7.0894,-999.000
     316N151_2,   A24,    72,  1,     11,     11,2,19970614,0648, 59.6980, -23.0058, 2315,    728.4,   6.6032,  35.0681,2,  35.0693,2,    249.5,2,    234.2,2,    10.80,2,    17.51,2,     0.00,2,     1.16,2,    2.888,2,    1.429,2, -999.000,5,   1.8435,2,     4.14,2,   -999.0,9,   -999.0,9,   -999.0,9,  -999.00,9,25, -999.00,   -999,  0.0000,   0.200,  6.5345,-999.000
     316N151_2,   A24,    72,  1,     10,     10,2,19970614,0648, 59.6980, -23.0058, 2315,    787.7,   6.1254,  35.0399,2,  35.0376,2,    237.6,2,    233.8,2,    11.44,2,    18.08,2,     0.00,2,     1.20,2, -999.000,9, -999.000,9,    1.261,2,   1.8596,2,     5.28,2,   -999.0,9,   -999.0,9,   -999.0,9,  -999.00,9,25, -999.00,   -999,  0.0000,   0.200,  6.0536,   0.016
     316N151_2,   A24,    72,  1,      9,      9,2,19970614,0648, 59.6980, -23.0058, 2315,    889.3,   5.5398,  35.0185,2,  35.0181,2,    234.7,2,    239.5,2,    11.71,2,    18.13,2,     0.00,2,     1.21,2,    2.642,2,    1.291,2, -999.000,9,-999.0000,9,  -999.00,9,   -999.0,9,   -999.0,9,   -999.0,9,  -999.00,9,25, -999.00,   -999,-999.0000,-999.000,  5.4620,-999.000
     316N151_2,   A24,    72,  1,      8,      8,2,19970614,0648, 59.6980, -23.0058, 2315,   1009.9,   4.8344,  34.9786,2,  34.9796,2,    244.1,2,    245.9,2,    12.07,2,    18.37,2,     0.00,2,     1.22,2,    2.530,2,    1.216,2, -999.000,9,-999.0000,9,  -999.00,9,   -999.0,9,   -999.0,9,   -999.0,9,  -999.00,9,25, -999.00,   -999,-999.0000,-999.000,  4.7507,-999.000
     316N151_2,   A24,    72,  1,      7,      7,2,19970614,0648, 59.6980, -23.0058, 2315,   1111.3,   4.4226,  34.9528,2,  34.9519,2,    250.8,2,    252.6,2,    12.06,2,    18.13,2,     0.00,2,     1.21,2, -999.000,9, -999.000,9,    1.128,2,   1.8637,2,     6.92,2,   -999.0,9,   -999.0,9,   -999.0,9,  -999.00,9,25, -999.00,   -999,  0.0000,   0.200,  4.3332,   0.015
     316N151_2,   A24,    72,  1,      6,      6,2,19970614,0648, 59.6980, -23.0058, 2315,   1313.3,   3.9155,  34.9216,2,  34.9202,2,    263.8,2,    265.9,2,    11.75,2,    17.66,2,     0.00,2,     1.18,2,    2.515,2,    1.196,2,    0.922,4,   1.8836,2,     7.21,2,   -999.0,9,   -999.0,9,   -999.0,9,  -999.00,9,25, -999.00,   -999,  0.0000,   0.200,  3.8130,   0.019
     316N151_2,   A24,    72,  1,      5,      5,2,19970614,0648, 59.6980, -23.0058, 2315,   1515.6,   3.5774,  34.8999,2,  34.8992,2,    274.9,2,    275.2,2,    11.54,2,    17.29,2,     0.00,2,     1.16,2,    2.500,2,    1.193,2, -999.000,5,   1.8888,2,     7.77,2,   -999.0,9,   -999.0,9,   -999.0,9,  -999.00,9,25, -999.00,   -999,  0.0000,   0.200,  3.4608,-999.000
     316N151_2,   A24,    72,  1,      4,      4,2,19970614,0648, 59.6980, -23.0058, 2315,   1716.7,   3.4569,  34.9054,2,  34.9025,2,    277.3,2,    278.0,2,    11.53,2,    16.91,2,     0.00,2,     1.14,2,    2.498,2,    1.195,2, -999.000,5,   1.8711,2,     7.25,2,   -999.0,9,   -999.0,9,   -999.0,9,  -999.00,9,25, -999.00,   -999,  0.0000,   0.200,  3.3238,-999.000
     316N151_2,   A24,    72,  1,      3,      3,2,19970614,0648, 59.6980, -23.0058, 2315,   1920.6,   3.4646,  34.9516,2,  34.9525,2,    273.4,2,    274.3,2,    11.60,2,    16.25,2,     0.00,2,     1.10,2,    2.284,2,    1.099,2,    1.128,2,   1.8655,2,     6.51,2,   -999.0,9,   -999.0,9,   -999.0,9,  -999.00,9,25, -999.00,   -999,  0.0000,   0.200,  3.3125,   0.015
     316N151_2,   A24,    72,  1,      2,      2,2,19970614,0648, 59.6980, -23.0058, 2315,   2123.0,   3.1348,  34.9740,2,  34.9726,2,    273.3,2,    274.8,2,    11.77,2,    15.83,2,     0.00,2,     1.07,2,    2.338,2,    1.136,2,    1.028,2,   1.8846,2,     5.48,2,   -999.0,9,   -999.0,9,   -999.0,9,  -999.00,9,25, -999.00,   -999,  0.0000,   0.200,  2.9687,   0.019
     316N151_2,   A24,    72,  1,      1,      1,2,19970614,0648, 59.6980, -23.0058, 2315,   2326.0,   2.6713,  34.9706,2,  34.9689,2,    277.1,2,    276.9,2,    12.71,2,    15.64,2,     0.00,2,     1.07,2, -999.000,9, -999.000,9,    1.056,2,   1.8828,2,     5.57,2,   -999.0,9,   -999.0,9,   -999.0,9,  -999.00,9,25, -999.00,   -999,  0.0000,   0.200,  2.4938,   0.017