BOTTLE,20220629CCHSIOAMB
EXPOCODE,SECT_ID,STNNBR,CASTNO,SAMPNO,BTLNBR,BTLNBR_FLAG_W,DATE,TIME,LATITUDE,LONGITUDE,DEPTH,CTDPRS,CTDTMP,CTDSAL,CTDSAL_FLAG_W,SALNTY,SALNTY_FLAG_W,CTDOXY,CTDOXY_FLAG_W,OXYGEN,OXYGEN_FLAG_W,SILCAT,SILCAT_FLAG_W,NITRAT,NITRAT_FLAG_W,NITRIT,NITRIT_FLAG_W,PHSPHT,PHSPHT_FLAG_W,CFC-11,CFC-11_FLAG_W,CFC-12,CFC-12_FLAG_W,TRITUM,TRITUM_FLAG_W,HELIUM,HELIUM_FLAG_W,DELHE3,DELHE3_FLAG_W,TCARBN,TCARBN_FLAG_W,PCO2,PCO2_FLAG_W,ALKALI,ALKALI_FLAG_W,PH,PH_FLAG_W,PH_TMP,PCO2TMP,CTDRAW,HELIER,DELHER,THETA,TRITER
,,,,,,,,,,,,DBAR,ITS-90,PSS-78,,PSS-78,,UMOL/KG,,UMOL/KG,,UMOL/KG,,UMOL/KG,,UMOL/KG,,UMOL/KG,,PMOL/KG,,PMOL/KG,,TU,,NMOL/KG,,PERCNT,,UMOL/KG,,UATM,,UMOL/KG,,,,DEG C,DEG C,,NMOL/KG,PERCNT,DEG C,TU
     316N151_2,   A24,   123,  1,     31,     31,2,19970623,1538, 50.9835, -33.6320, 4263,      5.4,  12.2212,  35.1515,2,  35.1520,2,    275.4,2,    279.0,2,     0.40,2,     3.12,2,     0.12,2,     0.25,2,    3.474,2,    1.865,2, -999.000,9,-999.0000,9,  -999.00,9,   2066.5,2,    420.7,2,   2324.3,2,     7.93,2,25,   20.00,   -999,-999.0000,-999.000, 12.2204,-999.000
     316N151_2,   A24,   123,  1,     30,     30,2,19970623,1538, 50.9835, -33.6320, 4263,     26.0,  12.0343,  35.1501,2,  35.1471,2,    274.7,2,    278.3,2,     0.38,2,     3.11,2,     0.12,2,     0.26,2, -999.000,9, -999.000,9, -999.000,9,-999.0000,9,  -999.00,9,   2068.1,2,    425.4,2,   2323.0,6,     7.93,6,25,   20.00,   -999,-999.0000,-999.000, 12.0310,-999.000
     316N151_2,   A24,   123,  1,     29,     29,2,19970623,1538, 50.9835, -33.6320, 4263,     76.7,  10.2050,  35.1869,2,  35.1991,2,    248.1,2,    247.1,2,     5.21,2,    10.46,2,     0.41,2,     0.72,2,    3.346,2,    1.771,2, -999.000,9,-999.0000,9,  -999.00,9,   2120.8,2,    562.5,2,   2322.6,2,     7.83,2,25,   20.00,   -999,-999.0000,-999.000, 10.1960,-999.000
     316N151_2,   A24,   123,  1,     28,     28,2,19970623,1538, 50.9835, -33.6320, 4263,    146.8,   8.5307,  35.1026,2,  35.1040,2,    237.3,2,    231.8,2,     8.53,2,    15.31,2,     0.02,2,     1.01,2,    2.982,2,    1.561,2, -999.000,9,-999.0000,9,  -999.00,9,   2144.6,2,    663.8,2,   2318.1,2,     7.77,2,25,   20.00,   -999,-999.0000,-999.000,  8.5153,-999.000
     316N151_2,   A24,   123,  1,     27,     27,2,19970623,1538, 50.9835, -33.6320, 4263,    247.3,   6.7332,  34.9123,2,  34.9172,2,    242.4,2,    260.9,2,     8.52,2,    15.09,2,     0.01,2,     1.01,2,    3.584,2,    1.885,2, -999.000,9,-999.0000,9,  -999.00,9,   2144.2,2,    684.5,2,   2308.7,2,     7.75,2,25,   20.00,   -999,-999.0000,-999.000,  6.7105,-999.000
     316N151_2,   A24,   123,  1,     26,     26,2,19970623,1538, 50.9835, -33.6320, 4263,    336.3,   5.7399,  34.8348,2,  34.8358,2,    252.6,2,    259.7,2,     9.52,2,    16.13,2,     0.01,2,     1.08,2,    3.616,2,    1.866,2, -999.000,9,-999.0000,9,  -999.00,9,   2149.6,2,    728.5,2,   2305.1,2,     7.73,2,25,   20.00,   -999,-999.0000,-999.000,  5.7114,-999.000
     316N151_2,   A24,   123,  1,     25,     25,2,19970623,1538, 50.9835, -33.6320, 4263,    447.3,   5.2437,  34.8768,2,  34.8678,2,    243.6,2,    239.8,2,    11.12,2,    18.12,2,     0.01,2,     1.20,2,    3.039,2,    1.523,2, -999.000,9,-999.0000,9,  -999.00,9,   2162.7,2,    780.8,2,   2306.5,2,     7.71,2,25,   20.00,   -999,-999.0000,-999.000,  5.2071,-999.000
     316N151_2,   A24,   123,  1,     24,     24,2,19970623,1538, 50.9835, -33.6320, 4263,    546.0,   4.6549,  34.9132,2,  34.9109,2,    251.4,2,    245.3,2,    11.41,2,    18.36,2,     0.00,2,     1.21,2,    2.906,2,    1.415,2, -999.000,9,-999.0000,9,  -999.00,9,   2165.7,2,    794.8,2,   2308.4,2,     7.69,2,25,   20.00,   -999,-999.0000,-999.000,  4.6123,-999.000
     316N151_2,   A24,   123,  1,     23,     23,2,19970623,1538, 50.9835, -33.6320, 4263,    627.4,   4.4240,  34.9274,2,  34.9318,2,    258.1,2,    252.6,2,    11.40,2,    18.08,2,     0.00,2,     1.19,2,    2.842,2,    1.403,2, -999.000,9,-999.0000,9,  -999.00,9,   2163.3,2,    781.2,2,   2309.2,2,     7.71,2,25,   20.00,   -999,-999.0000,-999.000,  4.3758,-999.000
     316N151_2,   A24,   123,  1,     22,     22,2,19970623,1538, 50.9835, -33.6320, 4263,    727.1,   4.0473,  34.9169,2,  34.9164,2,    265.2,2,    263.5,2,    11.19,2,    17.75,2,     0.00,2,     1.17,2,    3.004,2,    1.491,2, -999.000,9,-999.0000,9,  -999.00,9,   2161.0,2,    777.4,2,   2306.9,2,     7.71,2,25,   20.00,   -999,-999.0000,-999.000,  3.9930,-999.000
     316N151_2,   A24,   123,  1,     21,     21,2,19970623,1538, 50.9835, -33.6320, 4263,    857.8,   3.8946,  34.9159,2,  34.9166,2,    271.8,2,    268.4,2,    11.18,2,    17.62,2,     0.00,2,     1.15,2,    2.924,2,    1.436,2, -999.000,9,-999.0000,9,  -999.00,9,   2159.1,2,    765.0,2,   2306.7,2,     7.71,2,25,   20.00,   -999,-999.0000,-999.000,  3.8308,-999.000
     316N151_2,   A24,   123,  1,     20,     20,2,19970623,1538, 50.9835, -33.6320, 4263,    959.0,   3.7433,  34.9099,2,  34.9111,2,    272.7,2,    272.3,2,    11.16,2,    17.52,2,     0.00,2,     1.15,2,    2.872,2,    1.406,2, -999.000,9,-999.0000,9,  -999.00,9,   2156.7,2,    766.0,2,   2306.5,2,     7.71,2,25,   20.00,   -999,-999.0000,-999.000,  3.6723,-999.000
     316N151_2,   A24,   123,  1,     19,     19,2,19970623,1538, 50.9835, -33.6320, 4263,   1060.7,   3.5976,  34.9001,2,  34.8995,2,    274.9,2,    276.4,2,    11.15,2,    17.39,2,     0.00,2,     1.14,2, -999.000,9, -999.000,9, -999.000,9,-999.0000,9,  -999.00,9,   2157.1,2,   -999.0,9,   2304.7,2,     7.72,2,25, -999.00,   -999,-999.0000,-999.000,  3.5194,-999.000
     316N151_2,   A24,   123,  1,     18,     18,2,19970623,1538, 50.9835, -33.6320, 4263,   1211.8,   3.4341,  34.8855,2,  34.8877,2,    281.9,2,    280.9,2,    11.14,2,    17.20,2,     0.00,2,     1.13,2,    3.005,2,    1.450,2, -999.000,9,-999.0000,9,  -999.00,9,   2155.5,2,    756.2,2,   2305.3,2,     7.71,2,25,   20.00,   -999,-999.0000,-999.000,  3.3450,-999.000
     316N151_2,   A24,   123,  1,     17,     17,2,19970623,1538, 50.9835, -33.6320, 4263,   1363.5,   3.3247,  34.8820,2,  34.8818,2,    282.5,2,    283.9,2,    11.13,2,    17.11,2,     0.00,2,     1.12,2,    2.952,2,    1.428,2, -999.000,9,-999.0000,9,  -999.00,9,   2154.0,2,   -999.0,9,   2303.7,2,     7.72,2,25, -999.00,   -999,-999.0000,-999.000,  3.2241,-999.000
     316N151_2,   A24,   123,  1,     16,     16,2,19970623,1538, 50.9835, -33.6320, 4263,   1518.3,   3.2659,  34.8815,2,  34.8811,2,    283.0,2,    284.3,2,    11.32,2,    17.07,2,     0.00,2,     1.12,2,    2.761,2,    1.326,2, -999.000,9,-999.0000,9,  -999.00,9,   2152.7,2,    749.6,2,   2304.2,2,     7.72,2,25,   20.00,   -999,-999.0000,-999.000,  3.1526,-999.000
     316N151_2,   A24,   123,  1,     15,     15,2,19970623,1538, 50.9835, -33.6320, 4263,   1667.9,   3.1922,  34.8808,2,  34.8815,2,    283.7,2,    285.2,2,    11.51,2,    16.97,2,     0.00,2,     1.12,2,    2.717,2,    1.305,2, -999.000,9,-999.0000,9,  -999.00,9,   2153.1,2,    746.9,2,   2302.9,2,     7.72,2,25,   20.00,   -999,-999.0000,-999.000,  3.0669,-999.000
     316N151_2,   A24,   123,  1,     14,     14,2,19970623,1538, 50.9835, -33.6320, 4263,   1820.7,   3.1645,  34.8857,2,  34.8860,2,    281.5,2,    284.6,2,    11.70,2,    16.98,2,     0.00,2,     1.11,2,    2.520,2,    1.221,2, -999.000,9,-999.0000,9,  -999.00,9,   2152.0,2,    744.5,2,   2305.4,2,     7.72,2,25,   20.00,   -999,-999.0000,-999.000,  3.0260,-999.000
     316N151_2,   A24,   123,  1,     13,     13,2,19970623,1538, 50.9835, -33.6320, 4263,   1971.5,   3.0526,  34.8720,2,  34.8712,2,    283.9,2,    289.9,2,    11.08,2,    16.74,2,     0.00,2,     1.10,2,    3.061,2,    1.474,2, -999.000,9,-999.0000,9,  -999.00,9,   2151.6,2,   -999.0,9,   2303.7,2,     7.72,2,25, -999.00,   -999,-999.0000,-999.000,  2.9021,-999.000
     316N151_2,   A24,   123,  1,     12,     12,2,19970623,1538, 50.9835, -33.6320, 4263,   2125.0,   3.1189,  34.8913,2,  34.8901,2,    283.6,2,    284.3,2,    11.78,2,    16.79,2,     0.00,2,     1.11,2,    2.522,2,    1.218,2, -999.000,9,-999.0000,9,  -999.00,9,   2153.5,2,    747.0,2,   2307.1,2,     7.72,2,25,   20.00,   -999,-999.0000,-999.000,  2.9531,-999.000
     316N151_2,   A24,   123,  1,     11,     11,2,19970623,1538, 50.9835, -33.6320, 4263,   2327.3,   3.1348,  34.9124,2,  34.9112,2,    277.8,2,    278.8,2,    12.68,2,    16.61,2,     0.00,2,     1.11,2,    1.910,2,    0.934,2, -999.000,9,-999.0000,9,  -999.00,9,   2154.9,2,   -999.0,9,   2306.8,2,     7.73,2,25, -999.00,   -999,-999.0000,-999.000,  2.9494,-999.000
     316N151_2,   A24,   123,  1,     10,     10,2,19970623,1538, 50.9835, -33.6320, 4263,   2529.7,   3.0618,  34.9235,2,  34.9228,2,    274.8,2,    276.5,2,    13.58,2,    16.70,2,     0.00,2,     1.11,2,    1.575,2,    0.766,2, -999.000,9,-999.0000,9,  -999.00,9,   2155.3,2,    741.2,2,   2310.1,2,     7.72,2,25,   20.00,   -999,-999.0000,-999.000,  2.8579,-999.000
     316N151_2,   A24,   123,  1,      9,      9,2,19970623,1538, 50.9835, -33.6320, 4263,   2733.4,   2.9795,  34.9300,2,  34.9283,2,    272.2,2,    275.6,2,    14.27,2,    16.71,2,     0.00,2,     1.11,2,    1.453,2,    0.698,2, -999.000,9,-999.0000,9,  -999.00,9,   2155.2,2,    738.2,2,   2311.5,2,     7.73,2,25,   20.00,   -999,-999.0000,-999.000,  2.7567,-999.000
     316N151_2,   A24,   123,  1,      8,      8,2,19970623,1538, 50.9835, -33.6320, 4263,   2935.9,   2.8436,  34.9308,2,  34.9299,2,    271.8,2,    274.7,2,    15.48,2,    16.71,2,     0.00,2,     1.11,2,    1.317,2,    0.650,2, -999.000,9,-999.0000,9,  -999.00,9,   2158.3,2,   -999.0,9,   2313.2,2,     7.73,2,25, -999.00,   -999,-999.0000,-999.000,  2.6028,-999.000
     316N151_2,   A24,   123,  1,      7,      7,2,19970623,1538, 50.9835, -33.6320, 4263,   3139.1,   2.7009,  34.9260,2,  34.9246,2,    271.9,2,    275.0,2,    16.68,2,    16.71,2,     0.00,2,     1.11,2,    1.260,2,    0.611,2, -999.000,9,-999.0000,9,  -999.00,9,   2159.1,2,    741.8,2,   2313.5,2,     7.72,2,25,   20.00,   -999,-999.0000,-999.000,  2.4422,-999.000
     316N151_2,   A24,   123,  1,      6,      6,2,19970623,1538, 50.9835, -33.6320, 4263,   3343.9,   2.5590,  34.9178,2,  34.9187,2,    274.0,2,    276.1,2,    17.38,2,    16.72,2,     0.00,2,     1.11,2,    1.280,2,    0.608,2, -999.000,9,-999.0000,9,  -999.00,9,   2159.9,2,   -999.0,9,   2315.0,2,     7.72,2,25, -999.00,   -999,-999.0000,-999.000,  2.2819,-999.000
     316N151_2,   A24,   123,  1,      5,      5,2,19970623,1538, 50.9835, -33.6320, 4263,   3549.4,   2.4903,  34.9133,2,  34.9124,2,    275.1,2,    276.8,2,    17.67,2,    16.58,2,     0.00,2,     1.11,2,    1.332,2,    0.647,2, -999.000,9,-999.0000,9,  -999.00,9,   2160.5,2,   -999.0,9,   2313.0,2,     7.73,2,25, -999.00,   -999,-999.0000,-999.000,  2.1928,-999.000
     316N151_2,   A24,   123,  1,      4,      4,2,19970623,1538, 50.9835, -33.6320, 4263,   3801.5,   2.4414,  34.9080,2,  34.9067,2,    276.3,2,    277.3,2,    17.97,2,    16.63,2,     0.00,2,     1.11,2,    1.381,2,    0.661,2, -999.000,9,-999.0000,9,  -999.00,9,   2159.1,2,    742.3,2,   2315.3,2,     7.72,2,25,   20.00,   -999,-999.0000,-999.000,  2.1173,-999.000
     316N151_2,   A24,   123,  1,      3,      3,2,19970623,1538, 50.9835, -33.6320, 4263,   4057.8,   2.4076,  34.9043,2,  34.9034,2,    276.6,2,    278.3,2,    18.16,2,    16.58,2,     0.00,2,     1.11,2,    1.457,2,    0.700,2, -999.000,9,-999.0000,9,  -999.00,9,   2161.4,2,    743.4,2,   2314.5,2,     7.72,2,25,   20.00,   -999,-999.0000,-999.000,  2.0552,-999.000
     316N151_2,   A24,   123,  1,      2,      2,2,19970623,1538, 50.9835, -33.6320, 4263,   4211.0,   2.3982,  34.9025,2,  34.9012,2,    277.0,2,    278.4,2,    18.25,2,    16.58,2,     0.00,2,     1.11,2,    1.469,2,    0.711,2, -999.000,9,-999.0000,9,  -999.00,9,   2160.6,2,   -999.0,9,   2317.1,2,     7.72,2,25, -999.00,   -999,-999.0000,-999.000,  2.0283,-999.000
     316N151_2,   A24,   123,  1,      1,      1,2,19970623,1538, 50.9835, -33.6320, 4263,   4313.2,   2.4042,  34.9010,2,  34.8989,3,    277.9,2,    277.0,2,    18.34,2,    16.59,2,     0.00,2,     1.11,2,    1.481,2,    0.717,2, -999.000,9,-999.0000,9,  -999.00,9,   2160.7,2,    740.7,2,   2312.9,2,     7.72,2,25,   20.00,   -999,-999.0000,-999.000,  2.0221,-999.000