BOTTLE,20220629CCHSIOAMB
EXPOCODE,SECT_ID,STNNBR,CASTNO,SAMPNO,BTLNBR,BTLNBR_FLAG_W,DATE,TIME,LATITUDE,LONGITUDE,DEPTH,CTDPRS,CTDTMP,CTDSAL,CTDSAL_FLAG_W,SALNTY,SALNTY_FLAG_W,CTDOXY,CTDOXY_FLAG_W,OXYGEN,OXYGEN_FLAG_W,SILCAT,SILCAT_FLAG_W,NITRAT,NITRAT_FLAG_W,NITRIT,NITRIT_FLAG_W,PHSPHT,PHSPHT_FLAG_W,CFC-11,CFC-11_FLAG_W,CFC-12,CFC-12_FLAG_W,TRITUM,TRITUM_FLAG_W,HELIUM,HELIUM_FLAG_W,DELHE3,DELHE3_FLAG_W,TCARBN,TCARBN_FLAG_W,PCO2,PCO2_FLAG_W,ALKALI,ALKALI_FLAG_W,PH,PH_FLAG_W,PH_TMP,PCO2TMP,CTDRAW,HELIER,DELHER,THETA,TRITER
,,,,,,,,,,,,DBAR,ITS-90,PSS-78,,PSS-78,,UMOL/KG,,UMOL/KG,,UMOL/KG,,UMOL/KG,,UMOL/KG,,UMOL/KG,,PMOL/KG,,PMOL/KG,,TU,,NMOL/KG,,PERCNT,,UMOL/KG,,UATM,,UMOL/KG,,,,DEG C,DEG C,,NMOL/KG,PERCNT,DEG C,TU
     316N151_2,   A24,   126,  1,     30,     30,2,19970624,0655, 49.5680, -32.7672, 3672,      3.9,  13.1044,  35.3388,2,  35.3384,2,    256.3,2,    263.6,2,     1.35,2,     3.47,2,     0.08,2,     0.30,2,    3.314,2,    1.766,2, -999.000,9,-999.0000,9,  -999.00,9,   2082.6,2,   -999.0,9,   2332.2,6,     7.93,2,25, -999.00,   -999,-999.0000,-999.000, 13.1039,-999.000
     316N151_2,   A24,   126,  1,     29,     29,2,19970624,0655, 49.5680, -32.7672, 3672,     47.6,  12.0065,  35.3788,2,  35.3747,2,    255.0,2,    260.5,2,     2.54,2,     5.62,2,     0.18,2,     0.46,2, -999.000,9, -999.000,9, -999.000,9,-999.0000,9,  -999.00,9,   -999.0,9,   -999.0,9,   -999.0,9,  -999.00,9,25, -999.00,   -999,-999.0000,-999.000, 12.0003,-999.000
     316N151_2,   A24,   126,  1,     28,     28,2,19970624,0655, 49.5680, -32.7672, 3672,     78.0,  11.3613,  35.3506,2,  35.3492,2,    245.6,2,    244.7,2,     4.04,2,     9.29,2,     0.31,2,     0.63,2, -999.000,9, -999.000,9, -999.000,9,-999.0000,9,  -999.00,9,   -999.0,9,   -999.0,9,   -999.0,9,  -999.00,9,25, -999.00,   -999,-999.0000,-999.000, 11.3515,-999.000
     316N151_2,   A24,   126,  1,     27,     27,2,19970624,0655, 49.5680, -32.7672, 3672,    117.7,  11.0984,  35.3770,2,  35.3717,2,    243.9,2,    239.8,2,     5.23,2,    11.12,2,     0.07,2,     0.73,2, -999.000,9, -999.000,9, -999.000,9,-999.0000,9,  -999.00,9,   -999.0,9,   -999.0,9,   -999.0,9,  -999.00,9,25, -999.00,   -999,-999.0000,-999.000, 11.0838,-999.000
     316N151_2,   A24,   126,  1,     26,     26,2,19970624,0655, 49.5680, -32.7672, 3672,    178.3,  11.0035,  35.4628,2,  35.4638,2,    232.1,2,    237.8,2,     5.51,2,    11.65,2,     0.06,2,     0.75,2, -999.000,9, -999.000,9, -999.000,9,-999.0000,9,  -999.00,9,   -999.0,9,   -999.0,9,   -999.0,9,  -999.00,9,25, -999.00,   -999,-999.0000,-999.000, 10.9814,-999.000
     316N151_2,   A24,   126,  1,     25,     25,2,19970624,0655, 49.5680, -32.7672, 3672,    218.5,  11.0370,  35.4910,2,  35.4911,2,    246.5,2,    240.5,2,     5.39,2,    11.42,2,     0.05,2,     0.73,2,    2.980,2,    1.609,2, -999.000,9,-999.0000,9,  -999.00,9,   -999.0,9,   -999.0,9,   -999.0,9,  -999.00,9,25, -999.00,   -999,-999.0000,-999.000, 11.0098,-999.000
     316N151_2,   A24,   126,  1,     24,     24,2,19970624,0655, 49.5680, -32.7672, 3672,    267.8,  10.9822,  35.4971,2,  35.4952,2,    246.3,2,    243.2,2,     5.37,2,    11.29,2,     0.04,2,     0.73,2, -999.000,9, -999.000,9, -999.000,9,-999.0000,9,  -999.00,9,   -999.0,9,   -999.0,9,   -999.0,9,  -999.00,9,25, -999.00,   -999,-999.0000,-999.000, 10.9489,-999.000
     316N151_2,   A24,   126,  1,     23,     23,2,19970624,0655, 49.5680, -32.7672, 3672,    368.9,  10.0597,  35.3278,2,  35.3331,2,    236.5,2,    241.8,2,     6.36,2,    12.76,2,     0.02,2,     0.83,2, -999.000,9, -999.000,9, -999.000,9,-999.0000,9,  -999.00,9,   -999.0,9,   -999.0,9,   -999.0,9,  -999.00,9,25, -999.00,   -999,-999.0000,-999.000, 10.0161,-999.000
     316N151_2,   A24,   126,  1,     22,     22,2,19970624,0655, 49.5680, -32.7672, 3672,    459.4,   8.7789,  35.1387,2,  35.1403,2,    229.2,2,    231.4,2,     8.26,2,    15.11,2,     0.01,2,     1.00,2,    2.916,2,    1.523,2, -999.000,9,-999.0000,9,  -999.00,9,   -999.0,9,   -999.0,9,   -999.0,9,  -999.00,9,25, -999.00,   -999,-999.0000,-999.000,  8.7289,-999.000
     316N151_2,   A24,   126,  1,     21,     21,2,19970624,0655, 49.5680, -32.7672, 3672,    560.2,   7.1055,  34.9658,2,  34.9694,2,    226.1,2,    229.0,2,    10.07,2,    17.09,2,     0.01,2,     1.14,2,    2.801,2,    1.442,2, -999.000,9,-999.0000,9,  -999.00,9,   -999.0,9,   -999.0,9,   -999.0,9,  -999.00,9,25, -999.00,   -999,-999.0000,-999.000,  7.0512,-999.000
     316N151_2,   A24,   126,  1,     20,     20,2,19970624,0655, 49.5680, -32.7672, 3672,    629.6,   6.3467,  34.9435,2,  34.9533,2,    209.5,2,    206.8,2,    12.37,2,    19.63,2,     0.00,2,     1.30,2,    2.168,2,    1.074,2, -999.000,9,-999.0000,9,  -999.00,9,   -999.0,9,   -999.0,9,   -999.0,9,  -999.00,9,25, -999.00,   -999,-999.0000,-999.000,  6.2890,-999.000
     316N151_2,   A24,   126,  1,     19,     19,2,19970624,0655, 49.5680, -32.7672, 3672,    729.5,   5.5005,  34.9556,2,  34.9573,2,    222.9,2,    223.4,2,    12.25,2,    19.07,2,     0.00,2,     1.26,2, -999.000,9, -999.000,9, -999.000,9,-999.0000,9,  -999.00,9,   -999.0,9,   -999.0,9,   -999.0,9,  -999.00,9,25, -999.00,   -999,-999.0000,-999.000,  5.4378,-999.000
     316N151_2,   A24,   126,  1,     18,     18,2,19970624,0655, 49.5680, -32.7672, 3672,    838.6,   4.7800,  34.9503,2,  34.9466,2,    240.8,2,    243.4,2,    11.82,2,    18.31,2,     0.00,2,     1.21,2,    2.617,2,    1.289,2, -999.000,9,-999.0000,9,  -999.00,9,   -999.0,9,   -999.0,9,   -999.0,9,  -999.00,9,25, -999.00,   -999,-999.0000,-999.000,  4.7119,-999.000
     316N151_2,   A24,   126,  1,     17,     17,2,19970624,0655, 49.5680, -32.7672, 3672,    957.1,   4.3179,  34.9328,2,  34.9331,2,    255.8,2,    257.2,2,    11.40,2,    17.80,2,     0.00,2,     1.17,2,    2.838,2,    1.396,2, -999.000,9,-999.0000,9,  -999.00,9,   -999.0,9,   -999.0,9,   -999.0,9,  -999.00,9,25, -999.00,   -999,-999.0000,-999.000,  4.2427,-999.000
     316N151_2,   A24,   126,  1,     16,     16,2,19970624,0655, 49.5680, -32.7672, 3672,   1105.5,   4.1464,  34.9448,2,  34.9451,2,    261.5,2,    262.3,2,    11.58,2,    17.70,2,     0.00,2,     1.17,2,    2.517,2,    1.232,2, -999.000,9,-999.0000,9,  -999.00,9,   -999.0,9,   -999.0,9,   -999.0,9,  -999.00,9,25, -999.00,   -999,-999.0000,-999.000,  4.0598,-999.000
     316N151_2,   A24,   126,  1,     15,     15,2,19970624,0655, 49.5680, -32.7672, 3672,   1222.5,   3.9578,  34.9373,2,  34.9366,2,    266.4,2,    266.7,2,    11.66,2,    17.56,2,     0.00,2,     1.16,2, -999.000,9, -999.000,9, -999.000,9,-999.0000,9,  -999.00,9,   -999.0,9,   -999.0,9,   -999.0,9,  -999.00,9,25, -999.00,   -999,-999.0000,-999.000,  3.8628,-999.000
     316N151_2,   A24,   126,  1,     14,     14,2,19970624,0655, 49.5680, -32.7672, 3672,   1400.1,   3.5600,  34.8966,2,  34.8963,2,    276.8,2,    278.2,2,    11.23,2,    17.13,2,     0.00,2,     1.13,2, -999.000,9, -999.000,9, -999.000,9,-999.0000,9,  -999.00,9,   -999.0,9,   -999.0,9,   -999.0,9,  -999.00,9,25, -999.00,   -999,-999.0000,-999.000,  3.4537,-999.000
     316N151_2,   A24,   126,  1,     13,     13,2,19970624,0655, 49.5680, -32.7672, 3672,   1592.2,   3.3594,  34.8820,2,  34.8814,2,    284.1,2,    283.8,2,    11.11,2,    16.94,2,     0.00,2,     1.12,2,    3.065,2,    1.481,2, -999.000,9,-999.0000,9,  -999.00,9,   -999.0,9,   -999.0,9,   -999.0,9,  -999.00,9,25, -999.00,   -999,-999.0000,-999.000,  3.2387,-999.000
     316N151_2,   A24,   126,  1,     12,     12,2,19970624,0655, 49.5680, -32.7672, 3672,   1784.3,   3.2219,  34.8740,2,  34.8731,2,    287.1,2,    287.5,2,    11.09,2,    16.75,2,     0.00,2,     1.11,2, -999.000,9, -999.000,9, -999.000,9,-999.0000,9,  -999.00,9,   -999.0,9,   -999.0,9,   -999.0,9,  -999.00,9,25, -999.00,   -999,-999.0000,-999.000,  3.0859,-999.000
     316N151_2,   A24,   126,  1,     11,     11,2,19970624,0655, 49.5680, -32.7672, 3672,   1979.9,   3.1238,  34.8674,2,  34.8673,2,    288.0,2,    289.8,2,    10.97,2,    16.66,2,     0.00,2,     1.10,2,    3.236,2,    1.562,2, -999.000,9,-999.0000,9,  -999.00,9,   -999.0,9,   -999.0,9,   -999.0,9,  -999.00,9,25, -999.00,   -999,-999.0000,-999.000,  2.9715,-999.000
     316N151_2,   A24,   126,  1,     10,     10,2,19970624,0655, 49.5680, -32.7672, 3672,   2227.2,   3.1070,  34.8762,2,  34.8747,2,    287.5,2,    287.7,2,    11.35,2,    16.56,2,     0.00,2,     1.10,2,    2.878,2,    1.401,2, -999.000,9,-999.0000,9,  -999.00,9,   -999.0,9,   -999.0,9,   -999.0,9,  -999.00,9,25, -999.00,   -999,-999.0000,-999.000,  2.9318,-999.000
     316N151_2,   A24,   126,  1,      9,      9,2,19970624,0655, 49.5680, -32.7672, 3672,   2425.2,   3.1654,  34.9025,2,  34.9017,2,    281.5,2,    280.5,2,    12.45,2,    16.65,2,     0.00,2,     1.11,2,    2.150,2,    1.036,2, -999.000,9,-999.0000,9,  -999.00,9,   -999.0,9,   -999.0,9,   -999.0,9,  -999.00,9,25, -999.00,   -999,-999.0000,-999.000,  2.9700,-999.000
     316N151_2,   A24,   126,  1,      8,      8,2,19970624,0655, 49.5680, -32.7672, 3672,   2576.2,   3.1499,  34.9110,2,  34.9112,2,    277.1,2,    278.3,2,    12.93,2,    16.61,2,     0.00,2,     1.11,2, -999.000,9, -999.000,9, -999.000,9,-999.0000,9,  -999.00,9,   -999.0,9,   -999.0,9,   -999.0,9,  -999.00,9,25, -999.00,   -999,-999.0000,-999.000,  2.9397,-999.000
     316N151_2,   A24,   126,  1,      7,      7,2,19970624,0655, 49.5680, -32.7672, 3672,   2831.3,   3.0750,  34.9271,2,  34.9263,2,    274.3,2,    275.0,2,    13.72,2,    16.51,2,     0.00,2,     1.10,2, -999.000,9, -999.000,9, -999.000,9,-999.0000,9,  -999.00,9,   -999.0,9,   -999.0,9,   -999.0,9,  -999.00,9,25, -999.00,   -999,-999.0000,-999.000,  2.8403,-999.000
     316N151_2,   A24,   126,  1,      6,      6,2,19970624,0655, 49.5680, -32.7672, 3672,   3088.4,   2.9150,  34.9285,2,  34.9303,2,    273.4,2,    273.9,2,    15.32,2,    16.60,2,     0.00,2,     1.11,2,    1.230,2,    0.614,2, -999.000,9,-999.0000,9,  -999.00,9,   -999.0,9,   -999.0,9,   -999.0,9,  -999.00,9,25, -999.00,   -999,-999.0000,-999.000,  2.6569,-999.000
     316N151_2,   A24,   126,  1,      5,      5,2,19970624,0655, 49.5680, -32.7672, 3672,   3290.6,   2.8048,  34.9296,2,  34.9293,2,    272.9,2,    273.7,2,    16.31,2,    16.60,2,     0.00,2,     1.11,2, -999.000,9, -999.000,9, -999.000,9,-999.0000,9,  -999.00,9,   -999.0,9,   -999.0,9,   -999.0,9,  -999.00,9,25, -999.00,   -999,-999.0000,-999.000,  2.5275,-999.000
     316N151_2,   A24,   126,  1,      4,      4,2,19970624,0655, 49.5680, -32.7672, 3672,   3492.6,   2.6345,  34.9192,2,  34.9211,2,    274.7,2,    274.5,2,    17.30,2,    16.60,2,     0.00,2,     1.11,2, -999.000,9, -999.000,9, -999.000,9,-999.0000,9,  -999.00,9,   -999.0,9,   -999.0,9,   -999.0,9,  -999.00,9,25, -999.00,   -999,-999.0000,-999.000,  2.3395,-999.000
     316N151_2,   A24,   126,  1,      3,      3,2,19970624,0655, 49.5680, -32.7672, 3672,   3591.1,   2.5284,  34.9123,2,  34.9142,2,    273.8,2,    275.9,2,    17.58,2,    16.55,2,     0.00,2,     1.11,2, -999.000,9, -999.000,9, -999.000,9,-999.0000,9,  -999.00,9,   -999.0,9,   -999.0,9,   -999.0,9,  -999.00,9,25, -999.00,   -999,-999.0000,-999.000,  2.2253,-999.000
     316N151_2,   A24,   126,  1,      2,      2,2,19970624,0655, 49.5680, -32.7672, 3672,   3692.8,   2.4844,  34.9120,2,  34.9104,2,    275.5,2,    276.4,2,    17.86,2,    16.55,2,     0.00,2,     1.11,2, -999.000,9, -999.000,9, -999.000,9,-999.0000,9,  -999.00,9,   -999.0,9,   -999.0,9,   -999.0,9,  -999.00,9,25, -999.00,   -999,-999.0000,-999.000,  2.1712,-999.000
     316N151_2,   A24,   126,  1,      1,      1,2,19970624,0655, 49.5680, -32.7672, 3672,   3737.7,   2.4656,  34.9113,2,  34.9101,2,    276.4,2,    274.8,2,    18.04,2,    16.59,2,     0.00,2,     1.11,2,    1.319,2,    0.643,2, -999.000,9,-999.0000,9,  -999.00,9,   -999.0,9,   -999.0,9,   -999.0,9,  -999.00,9,25, -999.00,   -999,-999.0000,-999.000,  2.1480,-999.000