BOTTLE,20220629CCHSIOAMB
EXPOCODE,SECT_ID,STNNBR,CASTNO,SAMPNO,BTLNBR,BTLNBR_FLAG_W,DATE,TIME,LATITUDE,LONGITUDE,DEPTH,CTDPRS,CTDTMP,CTDSAL,CTDSAL_FLAG_W,SALNTY,SALNTY_FLAG_W,CTDOXY,CTDOXY_FLAG_W,OXYGEN,OXYGEN_FLAG_W,SILCAT,SILCAT_FLAG_W,NITRAT,NITRAT_FLAG_W,NITRIT,NITRIT_FLAG_W,PHSPHT,PHSPHT_FLAG_W,CFC-11,CFC-11_FLAG_W,CFC-12,CFC-12_FLAG_W,TRITUM,TRITUM_FLAG_W,HELIUM,HELIUM_FLAG_W,DELHE3,DELHE3_FLAG_W,TCARBN,TCARBN_FLAG_W,PCO2,PCO2_FLAG_W,ALKALI,ALKALI_FLAG_W,PH,PH_FLAG_W,PH_TMP,PCO2TMP,CTDRAW,HELIER,DELHER,THETA,TRITER
,,,,,,,,,,,,DBAR,ITS-90,PSS-78,,PSS-78,,UMOL/KG,,UMOL/KG,,UMOL/KG,,UMOL/KG,,UMOL/KG,,UMOL/KG,,PMOL/KG,,PMOL/KG,,TU,,NMOL/KG,,PERCNT,,UMOL/KG,,UATM,,UMOL/KG,,,,DEG C,DEG C,,NMOL/KG,PERCNT,DEG C,TU
     316N151_2,   A24,   106,  1,     28,     28,2,19970620,0229, 57.7410, -40.7612, 3265,      4.0,   6.7363,  34.7103,2,  34.7119,2,    308.7,2,    312.3,2,     1.19,2,     8.88,2,     0.13,2,     0.60,2,    4.703,2,    2.447,2,   -3.019,4,-999.0000,5,  -999.00,5,   2103.7,2,   -999.0,9,   2299.9,6,     7.82,2,25, -999.00,   -999,-999.0000,-999.000,  6.7360,   0.058
     316N151_2,   A24,   106,  1,     27,     27,2,19970620,0229, 57.7410, -40.7612, 3265,     35.6,   6.2419,  34.6945,2,  34.7158,2,    313.9,2,    313.0,2,     1.85,2,     9.78,2,     0.15,2,     0.67,2,    4.788,2,    2.467,2,   -3.386,4,   1.8346,2,    -1.58,2,   -999.0,9,   -999.0,9,   -999.0,9,  -999.00,9,25, -999.00,   -999,  0.0000,   0.160,  6.2388,   0.046
     316N151_2,   A24,   106,  1,     26,     26,2,19970620,0229, 57.7410, -40.7612, 3265,     75.1,   4.5191,  34.8026,2,  34.8082,2,    294.4,2,    292.8,2,     8.92,2,    15.30,2,     0.02,2,     1.03,2,    4.485,2,    2.329,2,   -2.980,4,   1.8497,2,    -0.80,2,   -999.0,9,   -999.0,9,   -999.0,9,  -999.00,9,25, -999.00,   -999,  0.0000,   0.160,  4.5136,   0.042
     316N151_2,   A24,   106,  1,     25,     25,2,19970620,0229, 57.7410, -40.7612, 3265,    145.9,   4.3812,  34.8152,2,  34.8147,2,    290.8,2,    293.9,2,     9.10,2,    15.36,2,     0.01,2,     1.04,2,    4.498,2,    2.333,2,   -3.757,4,   1.8372,2,    -0.57,2,   -999.0,9,   -999.0,9,   -999.0,9,  -999.00,9,25, -999.00,   -999,  0.0000,   0.160,  4.3706,   0.049
     316N151_2,   A24,   106,  1,     24,     24,2,19970620,0229, 57.7410, -40.7612, 3265,    206.2,   4.0430,  34.7899,2,  34.7909,2,    286.4,2,    289.7,2,     9.47,2,    15.78,2,     0.01,2,     1.07,2,    4.368,2,    2.250,2,   -4.293,4,   1.8469,2,     0.30,2,   -999.0,9,   -999.0,9,   -999.0,9,  -999.00,9,25, -999.00,   -999,  0.0000,   0.160,  4.0285,   0.055
     316N151_2,   A24,   106,  1,     23,     23,2,19970620,0229, 57.7410, -40.7612, 3265,    306.4,   3.6312,  34.8062,2,  34.8058,2,    286.9,2,    285.5,2,    10.13,2,    16.52,2,     0.00,2,     1.10,2,    4.207,2,    2.112,2,   -3.645,4,   1.8603,2,     1.45,2,   -999.0,9,   -999.0,9,   -999.0,9,  -999.00,9,25, -999.00,   -999,  0.0000,   0.160,  3.6104,   0.047
     316N151_2,   A24,   106,  1,     22,     22,2,19970620,0229, 57.7410, -40.7612, 3265,    406.5,   3.4730,  34.8324,2,  34.8314,2,    289.8,2,    283.9,2,    10.50,2,    16.89,2,     0.00,2,     1.12,2,    3.975,2,    2.004,2,   -3.575,4,   1.8730,2,     2.01,2,   -999.0,9,   -999.0,9,   -999.0,9,  -999.00,9,25, -999.00,   -999,  0.0000,   0.160,  3.4456,   0.047
     316N151_2,   A24,   106,  1,     21,     21,2,19970620,0229, 57.7410, -40.7612, 3265,    507.4,   3.3792,  34.8452,2,  34.8430,2,    282.7,2,    281.7,2,    10.77,2,    17.07,2,     0.00,2,     1.13,2,    3.786,2,    1.887,2,   -3.655,4,   1.8731,2,     3.29,2,   -999.0,9,   -999.0,9,   -999.0,9,  -999.00,9,25, -999.00,   -999,  0.0000,   0.150,  3.3449,   0.046
     316N151_2,   A24,   106,  1,     20,     20,2,19970620,0229, 57.7410, -40.7612, 3265,    607.8,   3.3817,  34.8637,2,  34.8630,2,    281.2,2,    280.9,2,    10.94,2,    17.16,2,     0.00,2,     1.13,2,    3.583,2,    1.760,2, -999.000,9,-999.0000,9,  -999.00,9,   -999.0,9,   -999.0,9,   -999.0,9,  -999.00,9,25, -999.00,   -999,-999.0000,-999.000,  3.3401,-999.000
     316N151_2,   A24,   106,  1,     19,     19,2,19970620,0229, 57.7410, -40.7612, 3265,    707.2,   3.0135,  34.8225,2,  34.8221,2,    298.9,2,    301.9,2,     9.95,2,    16.33,2,     0.00,2,     1.08,2,    4.425,2,    2.260,2, -999.000,5,   1.8646,2,     0.61,3,   -999.0,9,   -999.0,9,   -999.0,9,  -999.00,9,25, -999.00,   -999,  0.0000,   0.160,  2.9667,-999.000
     316N151_2,   A24,   106,  1,     18,     18,2,19970620,0229, 57.7410, -40.7612, 3265,    777.2,   2.9997,  34.8226,2,  34.8213,2,    302.5,2,    302.3,2,    10.03,2,    16.28,2,     0.00,2,     1.09,2,    4.453,2,    2.263,2, -999.000,9,-999.0000,9,  -999.00,9,   -999.0,9,   -999.0,9,   -999.0,9,  -999.00,9,25, -999.00,   -999,-999.0000,-999.000,  2.9479,-999.000
     316N151_2,   A24,   106,  1,     17,     17,2,19970620,0229, 57.7410, -40.7612, 3265,    836.6,   3.2560,  34.8645,2,  34.8648,2,    284.8,2,    284.9,2,    11.08,2,    17.02,2,     0.00,2,     1.12,2,    3.440,2,    1.688,2,   -3.066,4,   1.8790,2,     4.62,2,   -999.0,9,   -999.0,9,   -999.0,9,  -999.00,9,25, -999.00,   -999,  0.0000,   0.150,  3.1980,   0.041
     316N151_2,   A24,   106,  1,     16,     16,2,19970620,0229, 57.7410, -40.7612, 3265,   1007.8,   3.1227,  34.8593,2,  34.8577,2,    291.8,2,    289.6,2,    10.96,2,    16.83,2,     0.00,2,     1.12,2, -999.000,9, -999.000,9,   -4.163,4,   1.8616,2,     4.32,2,   -999.0,9,   -999.0,9,   -999.0,9,  -999.00,9,25, -999.00,   -999,  0.0000,   0.150,  3.0526,   0.061
     316N151_2,   A24,   106,  1,     15,     15,2,19970620,0229, 57.7410, -40.7612, 3265,   1207.6,   3.0355,  34.8552,2,  34.8543,2,    289.5,2,    293.5,2,    10.84,2,    16.60,2,     0.00,2,     1.10,2,    3.664,2,    1.803,2, -999.000,9,-999.0000,9,  -999.00,9,   -999.0,9,   -999.0,9,   -999.0,9,  -999.00,9,25, -999.00,   -999,-999.0000,-999.000,  2.9505,-999.000
     316N151_2,   A24,   106,  1,     14,     14,2,19970620,0229, 57.7410, -40.7612, 3265,   1327.9,   3.0126,  34.8542,2,  34.8555,2,    295.0,2,    294.6,2,    10.72,2,    16.55,2,     0.00,2,     1.10,2,    3.658,2,    1.801,2,   -3.083,4,   1.8633,2,     3.95,2,   -999.0,9,   -999.0,9,   -999.0,9,  -999.00,9,25, -999.00,   -999,  0.0000,   0.160,  2.9182,   0.041
     316N151_2,   A24,   106,  1,     13,     13,2,19970620,0229, 57.7410, -40.7612, 3265,   1579.8,   2.9704,  34.8516,2,  34.8535,2,    294.4,2,    296.8,2,    10.61,2,    16.46,2,     0.00,2,     1.09,2,    3.694,2,    1.813,2,   -0.020,4,   1.8593,2,     3.51,2,   -999.0,9,   -999.0,9,   -999.0,9,  -999.00,9,25, -999.00,   -999,  0.0000,   0.150,  2.8555,   0.002
     316N151_2,   A24,   106,  1,     12,     12,2,19970620,0229, 57.7410, -40.7612, 3265,   1760.0,   2.9616,  34.8556,2,  34.8555,2,    294.8,2,    295.5,2,    10.78,2,    16.41,2,     0.00,2,     1.10,2,    3.632,2,    1.770,2,   -0.021,4,   1.8532,2,     4.01,2,   -999.0,9,   -999.0,9,   -999.0,9,  -999.00,9,25, -999.00,   -999,  0.0000,   0.150,  2.8313,   0.005
     316N151_2,   A24,   106,  1,     11,     11,2,19970620,0229, 57.7410, -40.7612, 3265,   1958.4,   3.0674,  34.8829,2,  34.8834,2,    291.0,2,    288.1,2,    11.44,2,    16.40,2,     0.00,2,     1.10,2,    2.849,2,    1.404,2, -999.000,5,   1.8506,2,     5.47,2,   -999.0,9,   -999.0,9,   -999.0,9,  -999.00,9,25, -999.00,   -999,  0.0000,   0.150,  2.9178,-999.000
     316N151_2,   A24,   106,  1,     10,     10,2,19970620,0229, 57.7410, -40.7612, 3265,   2128.1,   3.1236,  34.9066,2,  34.9058,2,    284.4,2,    281.9,2,    12.10,2,    16.45,2,     0.00,2,     1.10,2,    2.313,2,    1.122,2, -999.000,9,-999.0000,9,  -999.00,9,   -999.0,9,   -999.0,9,   -999.0,9,  -999.00,9,25, -999.00,   -999,-999.0000,-999.000,  2.9574,-999.000
     316N151_2,   A24,   106,  1,      9,      9,2,19970620,0229, 57.7410, -40.7612, 3265,   2259.7,   3.1075,  34.9187,2,  34.9180,2,    280.0,2,    279.1,2,    12.67,2,    16.45,2,     0.00,2,     1.09,2,    1.975,2,    0.963,2,    1.055,2,   1.8593,2,     7.06,2,   -999.0,9,   -999.0,9,   -999.0,9,  -999.00,9,25, -999.00,   -999,  0.0000,   0.200,  2.9290,   0.020
     316N151_2,   A24,   106,  1,      8,      8,2,19970620,0229, 57.7410, -40.7612, 3265,   2412.0,   3.0485,  34.9286,2,  34.9286,2,    275.1,2,    276.6,2,    13.52,2,    16.40,2,     0.00,2,     1.10,2,    1.681,2,    0.813,2,    0.933,2,-999.0000,5,  -999.00,5,   -999.0,9,   -999.0,9,   -999.0,9,  -999.00,9,25, -999.00,   -999,-999.0000,-999.000,  2.8563,   0.014
     316N151_2,   A24,   106,  1,      7,      7,2,19970620,0229, 57.7410, -40.7612, 3265,   2581.7,   2.9995,  34.9333,2,  34.9341,2,    277.3,2,    275.4,2,    14.09,2,    16.40,2,     0.00,2,     1.10,2,    1.585,2,    0.774,2, -999.000,9,-999.0000,9,  -999.00,9,   -999.0,9,   -999.0,9,   -999.0,9,  -999.00,9,25, -999.00,   -999,-999.0000,-999.000,  2.7915,-999.000
     316N151_2,   A24,   106,  1,      6,      6,2,19970620,0229, 57.7410, -40.7612, 3265,   2692.1,   2.9532,  34.9346,2,  34.9353,2,    274.7,2,    275.4,2,    14.36,2,    16.39,2,     0.00,2,     1.10,2,    1.552,2,    0.757,2,    0.838,2,-999.0000,5,  -999.00,5,   -999.0,9,   -999.0,9,   -999.0,9,  -999.00,9,25, -999.00,   -999,-999.0000,-999.000,  2.7351,   0.014
     316N151_2,   A24,   106,  1,      5,      5,2,19970620,0229, 57.7410, -40.7612, 3265,   2876.1,   2.8401,  34.9305,2,  34.9300,2,    277.9,2,    276.4,2,    14.53,2,    16.25,2,     0.00,2,     1.09,2,    1.599,2,    0.778,2,    0.920,2,   1.8780,2,     6.97,2,   -999.0,9,   -999.0,9,   -999.0,9,  -999.00,9,25, -999.00,   -999,  0.0000,   0.190,  2.6056,   0.015
     316N151_2,   A24,   106,  1,      4,      4,2,19970620,0229, 57.7410, -40.7612, 3265,   2956.1,   2.7034,  34.9198,2,  34.9207,2,    278.2,2,    279.2,2,    14.12,2,    16.07,2,     0.00,2,     1.08,2,    1.781,2,    0.872,2, -999.000,9,-999.0000,9,  -999.00,9,   -999.0,9,   -999.0,9,   -999.0,9,  -999.00,9,25, -999.00,   -999,-999.0000,-999.000,  2.4636,-999.000
     316N151_2,   A24,   106,  1,      3,      3,2,19970620,0229, 57.7410, -40.7612, 3265,   3120.2,   2.4465,  34.9112,2,  34.9111,2,    283.3,2,    283.8,2,    13.52,2,    15.65,2,     0.00,2,     1.06,2,    2.191,2,    1.068,2,    1.104,2,   1.8788,2,     6.28,2,   -999.0,9,   -999.0,9,   -999.0,9,  -999.00,9,25, -999.00,   -999,  0.0000,   0.190,  2.1956,   0.020
     316N151_2,   A24,   106,  1,      2,      2,2,19970620,0229, 57.7410, -40.7612, 3265,   3219.6,   2.2890,  34.9060,2,  34.9058,2,    286.2,2,    286.8,2,    12.82,2,    15.33,2,     0.00,2,     1.04,2,    2.497,2,    1.218,2, -999.000,9,-999.0000,9,  -999.00,9,   -999.0,9,   -999.0,9,   -999.0,9,  -999.00,9,25, -999.00,   -999,-999.0000,-999.000,  2.0314,-999.000
     316N151_2,   A24,   106,  1,      1,      1,2,19970620,0229, 57.7410, -40.7612, 3265,   3289.4,   2.0518,  34.8991,2,  34.9004,2,    292.0,2,    290.7,2,    11.34,2,    14.82,2,     0.00,2,     1.01,2,    2.995,2,    1.465,2,    1.208,2,   1.8636,2,     5.36,2,   -999.0,9,   -999.0,9,   -999.0,9,  -999.00,9,25, -999.00,   -999,  0.0000,   0.150,  1.7926,   0.018