BOTTLE,20220629CCHSIOAMB
EXPOCODE,SECT_ID,STNNBR,CASTNO,SAMPNO,BTLNBR,BTLNBR_FLAG_W,DATE,TIME,LATITUDE,LONGITUDE,DEPTH,CTDPRS,CTDTMP,CTDSAL,CTDSAL_FLAG_W,SALNTY,SALNTY_FLAG_W,CTDOXY,CTDOXY_FLAG_W,OXYGEN,OXYGEN_FLAG_W,SILCAT,SILCAT_FLAG_W,NITRAT,NITRAT_FLAG_W,NITRIT,NITRIT_FLAG_W,PHSPHT,PHSPHT_FLAG_W,CFC-11,CFC-11_FLAG_W,CFC-12,CFC-12_FLAG_W,TRITUM,TRITUM_FLAG_W,HELIUM,HELIUM_FLAG_W,DELHE3,DELHE3_FLAG_W,TCARBN,TCARBN_FLAG_W,PCO2,PCO2_FLAG_W,ALKALI,ALKALI_FLAG_W,PH,PH_FLAG_W,PH_TMP,PCO2TMP,CTDRAW,HELIER,DELHER,THETA,TRITER
,,,,,,,,,,,,DBAR,ITS-90,PSS-78,,PSS-78,,UMOL/KG,,UMOL/KG,,UMOL/KG,,UMOL/KG,,UMOL/KG,,UMOL/KG,,PMOL/KG,,PMOL/KG,,TU,,NMOL/KG,,PERCNT,,UMOL/KG,,UATM,,UMOL/KG,,,,DEG C,DEG C,,NMOL/KG,PERCNT,DEG C,TU
     316N151_2,   A24,    11,  1,     29,     29,2,19970601,2318, 42.0835, -22.3677, 3736,      2.5,  16.5492,  35.9118,2,  35.9121,2,    254.1,2,    246.4,2,     0.51,2,     0.11,2,     0.00,2,     0.06,2, -999.000,9, -999.000,9, -999.000,9,-999.0000,9,  -999.00,9,   -999.0,9,   -999.0,9,   -999.0,9,  -999.00,9,25, -999.00,   -999,-999.0000,-999.000, 16.5488,-999.000
     316N151_2,   A24,    11,  1,     28,     28,2,19970601,2318, 42.0835, -22.3677, 3736,     47.3,  16.1477,  35.9090,2,  35.9073,2,    245.5,2,    246.5,2,     0.51,2,     0.20,2,     0.01,2,     0.07,2, -999.000,9, -999.000,9, -999.000,9,-999.0000,9,  -999.00,9,   -999.0,9,   -999.0,9,   -999.0,9,  -999.00,9,25, -999.00,   -999,-999.0000,-999.000, 16.1401,-999.000
     316N151_2,   A24,    11,  1,     27,     27,2,19970601,2318, 42.0835, -22.3677, 3736,     87.6,  13.5510,  35.8322,2,  35.8305,2,    233.9,2,    238.2,2,     2.15,2,     6.95,2,     0.03,2,     0.42,2, -999.000,9, -999.000,9, -999.000,9,-999.0000,9,  -999.00,9,   -999.0,9,   -999.0,9,   -999.0,9,  -999.00,9,25, -999.00,   -999,-999.0000,-999.000, 13.5386,-999.000
     316N151_2,   A24,    11,  1,     26,     26,2,19970601,2318, 42.0835, -22.3677, 3736,    127.6,  13.2329,  35.8019,2,  35.8032,2,    234.4,2,    240.9,2,     2.76,2,     7.93,2,     0.02,2,     0.48,2, -999.000,9, -999.000,9, -999.000,9,-999.0000,9,  -999.00,9,   -999.0,9,   -999.0,9,   -999.0,9,  -999.00,9,25, -999.00,   -999,-999.0000,-999.000, 13.2150,-999.000
     316N151_2,   A24,    11,  1,     25,     25,2,19970601,2318, 42.0835, -22.3677, 3736,    208.2,  12.9203,  35.7694,2,  35.7694,2,    245.9,2,    244.6,2,     2.96,2,     8.20,2,     0.02,2,     0.50,2, -999.000,9, -999.000,9, -999.000,9,-999.0000,9,  -999.00,9,   -999.0,9,   -999.0,9,   -999.0,9,  -999.00,9,25, -999.00,   -999,-999.0000,-999.000, 12.8916,-999.000
     316N151_2,   A24,    11,  1,     24,     24,2,19970601,2318, 42.0835, -22.3677, 3736,    288.7,  12.3181,  35.6683,2,  35.6695,2,    242.8,2,    237.9,2,     3.78,2,     9.84,2,     0.01,2,     0.61,2, -999.000,9, -999.000,9, -999.000,9,-999.0000,9,  -999.00,9,   -999.0,9,   -999.0,9,   -999.0,9,  -999.00,9,25, -999.00,   -999,-999.0000,-999.000, 12.2793,-999.000
     316N151_2,   A24,    11,  1,     23,     23,2,19970601,2318, 42.0835, -22.3677, 3736,    388.4,  11.5511,  35.5484,2,  35.5507,2,    223.0,2,    220.1,2,     5.01,2,    12.40,2,     0.00,2,     0.76,2, -999.000,9, -999.000,9, -999.000,9,-999.0000,9,  -999.00,9,   -999.0,9,   -999.0,9,   -999.0,9,  -999.00,9,25, -999.00,   -999,-999.0000,-999.000, 11.5010,-999.000
     316N151_2,   A24,    11,  1,     22,     22,2,19970601,2318, 42.0835, -22.3677, 3736,    489.4,  10.8321,  35.4634,2,  35.4619,2,    213.8,2,    211.3,2,     6.13,2,    14.24,2,     0.00,2,     0.88,2, -999.000,9, -999.000,9, -999.000,9,-999.0000,9,  -999.00,9,   -999.0,9,   -999.0,9,   -999.0,9,  -999.00,9,25, -999.00,   -999,-999.0000,-999.000, 10.7712,-999.000
     316N151_2,   A24,    11,  1,     21,     21,2,19970601,2318, 42.0835, -22.3677, 3736,    589.2,  10.1498,  35.4142,2,  35.4126,2,    203.3,2,    201.8,2,  -999.00,5,  -999.00,5,  -999.00,5,  -999.00,5, -999.000,9, -999.000,9, -999.000,9,-999.0000,9,  -999.00,9,   -999.0,9,   -999.0,9,   -999.0,9,  -999.00,9,25, -999.00,   -999,-999.0000,-999.000, 10.0791,-999.000
     316N151_2,   A24,    11,  1,     20,     20,2,19970601,2318, 42.0835, -22.3677, 3736,    690.3,   9.3939,  35.3634,2,  35.3619,2,    193.7,2,    194.0,2,     9.20,2,    17.52,2,     0.00,2,     1.10,2, -999.000,9, -999.000,9, -999.000,9,-999.0000,9,  -999.00,9,   -999.0,9,   -999.0,9,   -999.0,9,  -999.00,9,25, -999.00,   -999,-999.0000,-999.000,  9.3144,-999.000
     316N151_2,   A24,    11,  1,     19,     19,2,19970601,2318, 42.0835, -22.3677, 3736,    791.0,   9.0604,  35.4275,2,  35.4271,2,    193.4,2,    191.2,2,     9.91,2,    17.98,2,     0.00,2,     1.13,2, -999.000,9, -999.000,9, -999.000,9,-999.0000,9,  -999.00,9,   -999.0,9,   -999.0,9,   -999.0,9,  -999.00,9,25, -999.00,   -999,-999.0000,-999.000,  8.9707,-999.000
     316N151_2,   A24,    11,  1,     18,     18,2,19970601,2318, 42.0835, -22.3677, 3736,    891.0,   8.3064,  35.4041,2,  35.4043,2,    195.2,2,    195.9,2,    10.73,2,    18.33,2,     0.00,2,     1.16,2, -999.000,9, -999.000,9, -999.000,9,-999.0000,9,  -999.00,9,   -999.0,9,   -999.0,9,   -999.0,9,  -999.00,9,25, -999.00,   -999,-999.0000,-999.000,  8.2097,-999.000
     316N151_2,   A24,    11,  1,     17,     17,2,19970601,2318, 42.0835, -22.3677, 3736,    991.9,   8.0741,  35.4748,2,  35.4725,2,    200.6,2,    200.7,2,    10.83,2,    18.02,2,     0.00,2,     1.14,2, -999.000,9, -999.000,9, -999.000,9,-999.0000,9,  -999.00,9,   -999.0,9,   -999.0,9,   -999.0,9,  -999.00,9,25, -999.00,   -999,-999.0000,-999.000,  7.9674,-999.000
     316N151_2,   A24,    11,  1,     16,     16,2,19970601,2318, 42.0835, -22.3677, 3736,   1163.0,   6.9163,  35.3869,2,  35.3873,2,    212.0,2,    217.7,2,  -999.00,5,  -999.00,5,  -999.00,5,  -999.00,5, -999.000,9, -999.000,9, -999.000,9,-999.0000,9,  -999.00,9,   -999.0,9,   -999.0,9,   -999.0,9,  -999.00,9,25, -999.00,   -999,-999.0000,-999.000,  6.7999,-999.000
     316N151_2,   A24,    11,  1,     15,     15,2,19970601,2318, 42.0835, -22.3677, 3736,   1314.2,   5.7280,  35.2163,2,  35.2162,2,    233.0,2,    235.0,2,    11.34,2,    17.91,2,     0.00,2,     1.15,2, -999.000,9, -999.000,9, -999.000,9,-999.0000,9,  -999.00,9,   -999.0,9,   -999.0,9,   -999.0,9,  -999.00,9,25, -999.00,   -999,-999.0000,-999.000,  5.6070,-999.000
     316N151_2,   A24,    11,  1,     14,     14,2,19970601,2318, 42.0835, -22.3677, 3736,   1465.4,   5.0619,  35.1241,2,  35.1268,2,    242.8,2,    246.2,2,    11.45,2,    17.85,2,     0.00,2,     1.15,2, -999.000,9, -999.000,9, -999.000,9,-999.0000,9,  -999.00,9,   -999.0,9,   -999.0,9,   -999.0,9,  -999.00,9,25, -999.00,   -999,-999.0000,-999.000,  4.9329,-999.000
     316N151_2,   A24,    11,  1,     13,     13,2,19970601,2318, 42.0835, -22.3677, 3736,   1615.2,   4.3340,  35.0212,2,  35.0198,2,    260.0,2,    258.9,2,    11.45,2,    17.69,2,     0.00,2,     1.16,2, -999.000,9, -999.000,9, -999.000,9,-999.0000,9,  -999.00,9,   -999.0,9,   -999.0,9,   -999.0,9,  -999.00,9,25, -999.00,   -999,-999.0000,-999.000,  4.1990,-999.000
     316N151_2,   A24,    11,  1,     12,     12,2,19970601,2318, 42.0835, -22.3677, 3736,   1768.1,   3.9352,  34.9671,2,  34.9687,2,    266.7,2,    266.6,2,    11.75,2,    17.53,2,     0.00,2,     1.15,2, -999.000,9, -999.000,9, -999.000,9,-999.0000,9,  -999.00,9,   -999.0,9,   -999.0,9,   -999.0,9,  -999.00,9,25, -999.00,   -999,-999.0000,-999.000,  3.7909,-999.000
     316N151_2,   A24,    11,  1,     11,     11,2,19970601,2318, 42.0835, -22.3677, 3736,   1969.9,   3.7287,  34.9630,2,  34.9624,2,    267.8,2,    267.6,2,    12.67,2,    17.53,2,     0.00,2,     1.16,2, -999.000,9, -999.000,9, -999.000,9,-999.0000,9,  -999.00,9,   -999.0,9,   -999.0,9,   -999.0,9,  -999.00,9,25, -999.00,   -999,-999.0000,-999.000,  3.5681,-999.000
     316N151_2,   A24,    11,  1,     10,     10,2,19970601,2318, 42.0835, -22.3677, 3736,   2174.0,   3.5229,  34.9610,2,  34.9631,2,    263.5,2,    265.3,2,    14.92,2,    17.78,2,     0.00,2,     1.17,2, -999.000,9, -999.000,9, -999.000,9,-999.0000,9,  -999.00,9,   -999.0,9,   -999.0,9,   -999.0,9,  -999.00,9,25, -999.00,   -999,-999.0000,-999.000,  3.3458,-999.000
     316N151_2,   A24,    11,  1,      9,      9,2,19970601,2318, 42.0835, -22.3677, 3736,   2378.2,   3.2793,  34.9548,2,  34.9562,2,    265.0,2,    263.5,2,    17.68,2,    18.03,2,     0.00,2,     1.19,2, -999.000,9, -999.000,9, -999.000,9,-999.0000,9,  -999.00,9,   -999.0,9,   -999.0,9,   -999.0,9,  -999.00,9,25, -999.00,   -999,-999.0000,-999.000,  3.0862,-999.000
     316N151_2,   A24,    11,  1,      8,      8,2,19970601,2318, 42.0835, -22.3677, 3736,   2579.6,   3.0879,  34.9527,2,  34.9558,2,    262.4,2,    260.7,2,    21.16,2,    18.48,2,     0.00,2,     1.23,2, -999.000,9, -999.000,9, -999.000,9,-999.0000,9,  -999.00,9,   -999.0,9,   -999.0,9,   -999.0,9,  -999.00,9,25, -999.00,   -999,-999.0000,-999.000,  2.8784,-999.000
     316N151_2,   A24,    11,  1,      7,      7,2,19970601,2318, 42.0835, -22.3677, 3736,   2783.6,   2.9478,  34.9481,2,  34.9466,2,    257.2,2,    257.6,2,    24.63,2,    18.98,2,     0.00,2,     1.27,2, -999.000,9, -999.000,9, -999.000,9,-999.0000,9,  -999.00,9,   -999.0,9,   -999.0,9,   -999.0,9,  -999.00,9,25, -999.00,   -999,-999.0000,-999.000,  2.7205,-999.000
     316N151_2,   A24,    11,  1,      6,      6,2,19970601,2318, 42.0835, -22.3677, 3736,   2987.0,   2.7988,  34.9406,2,  34.9422,2,    253.2,2,    253.5,2,    28.93,2,    19.64,2,     0.00,2,     1.31,2, -999.000,9, -999.000,9, -999.000,9,-999.0000,9,  -999.00,9,   -999.0,9,   -999.0,9,   -999.0,9,  -999.00,9,25, -999.00,   -999,-999.0000,-999.000,  2.5537,-999.000
     316N151_2,   A24,    11,  1,      5,      5,4,19970601,2318, 42.0835, -22.3677, 3736,   3190.8,   2.7275,  34.9347,2,  35.5832,4,    251.5,2,    233.1,4,     4.59,4,    11.11,4,     0.00,4,     0.70,4, -999.000,9, -999.000,9, -999.000,9,-999.0000,9,  -999.00,9,   -999.0,9,   -999.0,9,   -999.0,9,  -999.00,9,25, -999.00,   -999,-999.0000,-999.000,  2.4627,-999.000
     316N151_2,   A24,    11,  1,      3,      3,2,19970601,2318, 42.0835, -22.3677, 3736,   3343.3,   2.6874,  34.9304,2,  34.9290,2,    247.5,2,    248.4,2,    34.04,2,    20.54,2,     0.00,2,     1.38,2, -999.000,9, -999.000,9, -999.000,9,-999.0000,9,  -999.00,9,   -999.0,9,   -999.0,9,   -999.0,9,  -999.00,9,25, -999.00,   -999,-999.0000,-999.000,  2.4072,-999.000
     316N151_2,   A24,    11,  1,      2,      2,2,19970601,2318, 42.0835, -22.3677, 3736,   3547.6,   2.6277,  34.9235,2,  34.9225,2,    245.2,2,    243.7,2,    37.32,2,    21.14,2,     0.00,2,     1.42,2, -999.000,9, -999.000,9, -999.000,9,-999.0000,9,  -999.00,9,   -999.0,9,   -999.0,9,   -999.0,9,  -999.00,9,25, -999.00,   -999,-999.0000,-999.000,  2.3268,-999.000
     316N151_2,   A24,    11,  1,      4,      4,2,19970601,2318, 42.0835, -22.3677, 3736,   3740.7,   2.6091,  34.9196,2,  34.9190,2,    243.2,2,    243.6,2,    38.66,2,    21.36,2,     0.00,2,     1.43,2, -999.000,9, -999.000,9, -999.000,9,-999.0000,9,  -999.00,9,   -999.0,9,   -999.0,9,   -999.0,9,  -999.00,9,25, -999.00,   -999,-999.0000,-999.000,  2.2873,-999.000
     316N151_2,   A24,    11,  1,      1,      1,2,19970601,2318, 42.0835, -22.3677, 3736,   3741.0,   2.6094,  34.9192,2,  34.9187,2,    243.2,2,    243.6,2,    38.96,2,    21.44,2,     0.00,2,     1.44,2, -999.000,9, -999.000,9, -999.000,9,-999.0000,9,  -999.00,9,   -999.0,9,   -999.0,9,   -999.0,9,  -999.00,9,25, -999.00,   -999,-999.0000,-999.000,  2.2875,-999.000