BOTTLE,20220629CCHSIOAMB
EXPOCODE,SECT_ID,STNNBR,CASTNO,SAMPNO,BTLNBR,BTLNBR_FLAG_W,DATE,TIME,LATITUDE,LONGITUDE,DEPTH,CTDPRS,CTDTMP,CTDSAL,CTDSAL_FLAG_W,SALNTY,SALNTY_FLAG_W,CTDOXY,CTDOXY_FLAG_W,OXYGEN,OXYGEN_FLAG_W,SILCAT,SILCAT_FLAG_W,NITRAT,NITRAT_FLAG_W,NITRIT,NITRIT_FLAG_W,PHSPHT,PHSPHT_FLAG_W,CFC-11,CFC-11_FLAG_W,CFC-12,CFC-12_FLAG_W,TRITUM,TRITUM_FLAG_W,HELIUM,HELIUM_FLAG_W,DELHE3,DELHE3_FLAG_W,TCARBN,TCARBN_FLAG_W,PCO2,PCO2_FLAG_W,ALKALI,ALKALI_FLAG_W,PH,PH_FLAG_W,PH_TMP,PCO2TMP,CTDRAW,HELIER,DELHER,THETA,TRITER
,,,,,,,,,,,,DBAR,ITS-90,PSS-78,,PSS-78,,UMOL/KG,,UMOL/KG,,UMOL/KG,,UMOL/KG,,UMOL/KG,,UMOL/KG,,PMOL/KG,,PMOL/KG,,TU,,NMOL/KG,,PERCNT,,UMOL/KG,,UATM,,UMOL/KG,,,,DEG C,DEG C,,NMOL/KG,PERCNT,DEG C,TU
     316N151_2,   A24,   117,  1,     19,     19,2,19970622,1256, 52.9963, -34.9110, 1694,      2.6,  10.3882,  34.7858,2,  34.8004,2,    296.6,2,    296.4,2,     1.57,2,     5.51,2,     0.13,2,     0.38,2, -999.000,9, -999.000,9, -999.000,9,-999.0000,9,  -999.00,9,   2068.1,2,    468.7,2,   2299.2,6,     7.89,6,25,   20.00,   -999,-999.0000,-999.000, 10.3879,-999.000
     316N151_2,   A24,   117,  1,     18,     18,2,19970622,1256, 52.9963, -34.9110, 1694,     34.4,   8.5206,  34.8637,2,  34.8527,2,    285.9,2,    286.7,2,     3.57,2,     8.73,2,     0.20,2,     0.67,2, -999.000,9, -999.000,9, -999.000,9,-999.0000,9,  -999.00,9,   2102.6,2,    563.5,2,   2303.4,2,     7.83,2,25,   20.00,   -999,-999.0000,-999.000,  8.5170,-999.000
     316N151_2,   A24,   117,  1,     17,     17,2,19970622,1256, 52.9963, -34.9110, 1694,     64.1,   7.7079,  34.8947,2,  34.8923,2,    282.8,2,    280.9,2,     5.67,2,    11.73,2,     0.21,2,     0.83,2, -999.000,9, -999.000,9, -999.000,9,-999.0000,9,  -999.00,9,   2120.2,2,   -999.0,9,   2304.9,2,     7.80,2,25, -999.00,   -999,-999.0000,-999.000,  7.7017,-999.000
     316N151_2,   A24,   117,  1,     16,     16,2,19970622,1256, 52.9963, -34.9110, 1694,    104.2,   6.5771,  34.8895,2,  34.8820,2,    283.6,2,    279.7,2,     7.67,2,    14.32,2,     0.02,2,     0.97,2, -999.000,9, -999.000,9, -999.000,9,-999.0000,9,  -999.00,9,   2135.3,2,    675.8,2,   2305.6,2,     7.76,2,25,   20.00,   -999,-999.0000,-999.000,  6.5678,-999.000
     316N151_2,   A24,   117,  1,     15,     15,2,19970622,1256, 52.9963, -34.9110, 1694,    184.9,   6.3536,  34.9366,2,  34.9338,2,    271.0,2,    277.5,2,     8.16,2,    14.94,2,     0.01,2,     1.00,2, -999.000,9, -999.000,9, -999.000,9,-999.0000,9,  -999.00,9,   2141.2,2,    688.9,2,   2308.0,2,     7.76,2,25,   20.00,   -999,-999.0000,-999.000,  6.3372,-999.000
     316N151_2,   A24,   117,  1,     14,     14,2,19970622,1256, 52.9963, -34.9110, 1694,    255.5,   6.4002,  34.9919,2,  34.9934,2,    269.3,2,    272.8,2,     8.24,2,    15.28,2,     0.01,2,     1.02,2,    3.896,2,    2.015,2, -999.000,9,-999.0000,9,  -999.00,9,   2142.2,2,   -999.0,9,   2310.1,2,     7.75,2,25, -999.00,   -999,-999.0000,-999.000,  6.3773,-999.000
     316N151_2,   A24,   117,  1,     13,     13,2,19970622,1256, 52.9963, -34.9110, 1694,    314.5,   6.0300,  34.9686,2,  34.9695,2,    259.9,2,    257.8,2,     9.43,2,    16.55,2,     0.01,2,     1.09,2,    3.519,2,    1.812,2, -999.000,9,-999.0000,9,  -999.00,9,   2152.2,2,    724.4,2,   2310.7,2,     7.74,2,25,   20.00,   -999,-999.0000,-999.000,  6.0026,-999.000
     316N151_2,   A24,   117,  1,     12,     12,2,19970622,1256, 52.9963, -34.9110, 1694,    403.6,   5.4716,  34.9456,2,  34.9463,2,    241.3,2,    242.9,2,    10.83,2,    17.97,2,     0.00,2,     1.18,2,    3.127,2,    1.556,2, -999.000,9,-999.0000,9,  -999.00,9,   2162.4,2,    773.2,2,   2307.3,2,     7.71,2,25,   20.00,   -999,-999.0000,-999.000,  5.4379,-999.000
     316N151_2,   A24,   117,  1,     11,     11,2,19970622,1256, 52.9963, -34.9110, 1694,    502.3,   5.1846,  34.9539,2,  34.9536,2,    240.6,2,    239.9,2,    11.32,2,    18.45,2,     0.00,2,     1.20,2,    2.856,2,    1.392,2, -999.000,9,-999.0000,9,  -999.00,9,   2167.6,2,   -999.0,9,   2307.2,2,     7.70,2,25, -999.00,   -999,-999.0000,-999.000,  5.1435,-999.000
     316N151_2,   A24,   117,  1,     10,     10,2,19970622,1256, 52.9963, -34.9110, 1694,    601.7,   4.4959,  34.9357,2,  34.9378,2,    248.7,2,    249.4,2,    11.50,2,    18.31,2,     0.00,2,     1.20,2,    2.747,2,    1.326,2, -999.000,9,-999.0000,9,  -999.00,9,   2165.3,2,    790.8,2,   2307.0,2,     7.69,2,25,   20.00,   -999,-999.0000,-999.000,  4.4495,-999.000
     316N151_2,   A24,   117,  1,      9,      9,2,19970622,1256, 52.9963, -34.9110, 1694,    702.4,   4.1882,  34.9302,2,  34.9349,2,    258.6,2,    258.2,2,    11.38,2,    17.98,2,     0.00,2,     1.17,2, -999.000,9, -999.000,9, -999.000,9,-999.0000,9,  -999.00,9,   2163.1,2,   -999.0,9,   2306.8,2,     7.70,2,25, -999.00,   -999,-999.0000,-999.000,  4.1351,-999.000
     316N151_2,   A24,   117,  1,      8,      8,2,19970622,1256, 52.9963, -34.9110, 1694,    802.8,   3.9084,  34.9174,2,  34.9182,2,    266.3,2,    264.9,2,    11.26,2,    17.74,2,     0.00,2,     1.16,2, -999.000,9, -999.000,9, -999.000,9,-999.0000,9,  -999.00,9,   2159.8,2,    775.8,2,   2304.9,2,     7.70,2,25,   20.00,   -999,-999.0000,-999.000,  3.8489,-999.000
     316N151_2,   A24,   117,  1,      7,      7,2,19970622,1256, 52.9963, -34.9110, 1694,    904.6,   3.7117,  34.9089,2,  34.9084,2,    271.0,2,    270.6,2,    11.25,2,    17.51,2,     0.00,2,     1.15,2, -999.000,9, -999.000,9, -999.000,9,-999.0000,9,  -999.00,9,   2157.8,2,   -999.0,9,   2305.6,2,     7.72,2,25, -999.00,   -999,-999.0000,-999.000,  3.6453,-999.000
     316N151_2,   A24,   117,  1,      6,      6,2,19970622,1256, 52.9963, -34.9110, 1694,   1004.9,   3.5073,  34.8952,2,  34.8968,2,    274.3,2,    276.1,2,    11.13,2,    17.27,2,     0.00,2,     1.13,2, -999.000,9, -999.000,9, -999.000,9,-999.0000,9,  -999.00,9,   2155.4,2,    762.8,2,   2303.5,2,     7.71,2,25,   20.00,   -999,-999.0000,-999.000,  3.4344,-999.000
     316N151_2,   A24,   117,  1,      5,      5,2,19970622,1256, 52.9963, -34.9110, 1694,   1154.4,   3.3679,  34.8972,2,  34.8974,2,    279.3,2,    279.6,2,    11.11,2,    16.94,2,     0.00,2,     1.12,2,    2.710,2,    1.293,2, -999.000,9,-999.0000,9,  -999.00,9,   2154.9,2,   -999.0,9,   2305.3,2,     7.72,2,25, -999.00,   -999,-999.0000,-999.000,  3.2841,-999.000
     316N151_2,   A24,   117,  1,      4,      4,2,19970622,1256, 52.9963, -34.9110, 1694,   1304.4,   3.2246,  34.8988,2,  34.8988,2,    282.4,2,    282.0,2,    11.29,2,    16.71,2,     0.00,2,     1.11,2, -999.000,9, -999.000,9, -999.000,9,-999.0000,9,  -999.00,9,   2154.1,2,   -999.0,9,   2306.0,2,     7.72,2,25, -999.00,   -999,-999.0000,-999.000,  3.1298,-999.000
     316N151_2,   A24,   117,  1,      3,      3,2,19970622,1256, 52.9963, -34.9110, 1694,   1454.9,   3.2131,  34.9108,2,  34.9112,2,    279.5,2,    280.3,2,    11.58,2,    16.61,2,     0.00,2,     1.10,2, -999.000,9, -999.000,9, -999.000,9,-999.0000,9,  -999.00,9,   2156.3,2,   -999.0,9,   2305.8,2,     7.73,2,25, -999.00,   -999,-999.0000,-999.000,  3.1058,-999.000
     316N151_2,   A24,   117,  1,      2,      2,2,19970622,1256, 52.9963, -34.9110, 1694,   1607.2,   3.2140,  34.9305,2,  34.9315,2,    276.0,2,    276.9,2,    11.97,2,    16.47,2,     0.00,2,     1.09,2, -999.000,9, -999.000,9, -999.000,9,-999.0000,9,  -999.00,9,   2153.3,2,   -999.0,9,   2307.1,2,     7.72,2,25, -999.00,   -999,-999.0000,-999.000,  3.0935,-999.000
     316N151_2,   A24,   117,  1,      1,      1,2,19970622,1256, 52.9963, -34.9110, 1694,   1714.1,   3.1616,  34.9476,2,  34.9476,2,    275.0,2,    274.9,2,    12.35,2,    16.38,2,     0.00,2,     1.09,2,    2.088,2,    1.010,2, -999.000,9,-999.0000,9,  -999.00,9,   2156.7,2,    747.9,2,   2310.2,2,     7.72,2,25,   20.00,   -999,-999.0000,-999.000,  3.0324,-999.000
     316N151_2,   A24,   118,  1,     12,     12,2,19970622,1605, 52.7967, -34.7423, 4407,      2.5,  11.3069,  34.7854,2,  34.7856,2,    294.9,2,    297.2,2,     1.32,2,     5.00,2,     0.12,2,     0.35,2, -999.000,9, -999.000,9, -999.000,9,-999.0000,9,  -999.00,9,   -999.0,9,   -999.0,9,   -999.0,9,  -999.00,9,25, -999.00,   -999,-999.0000,-999.000, 11.3066,-999.000
     316N151_2,   A24,   118,  1,     11,     11,2,19970622,1605, 52.7967, -34.7423, 4407,    208.6,   6.0846,  34.8861,2,  34.8849,2,    272.2,2,    272.2,2,     8.65,2,    15.28,2,     0.01,2,     1.03,2, -999.000,9, -999.000,9, -999.000,9,-999.0000,9,  -999.00,9,   -999.0,9,   -999.0,9,   -999.0,9,  -999.00,9,25, -999.00,   -999,-999.0000,-999.000,  6.0665,-999.000
     316N151_2,   A24,   118,  1,     10,     10,2,19970622,1605, 52.7967, -34.7423, 4407,    310.9,   5.6974,  34.9167,2,  34.9168,2,    246.1,2,    248.6,2,    10.26,2,    17.36,2,     0.00,2,     1.14,2, -999.000,9, -999.000,9, -999.000,9,-999.0000,9,  -999.00,9,   -999.0,9,   -999.0,9,   -999.0,9,  -999.00,9,25, -999.00,   -999,-999.0000,-999.000,  5.6712,-999.000
     316N151_2,   A24,   118,  1,      9,      9,2,19970622,1605, 52.7967, -34.7423, 4407,    380.1,   5.2616,  34.9247,2,  34.9225,2,    237.9,2,    238.2,2,    11.25,2,    18.45,2,     0.00,2,     1.21,2, -999.000,9, -999.000,9, -999.000,9,-999.0000,9,  -999.00,9,   -999.0,9,   -999.0,9,   -999.0,9,  -999.00,9,25, -999.00,   -999,-999.0000,-999.000,  5.2306,-999.000
     316N151_2,   A24,   118,  1,      8,      8,2,19970622,1605, 52.7967, -34.7423, 4407,    509.5,   4.7013,  34.9342,2,  34.9338,2,    244.1,2,    245.3,2,    11.55,2,    18.41,2,     0.00,2,     1.20,2, -999.000,9, -999.000,9, -999.000,9,-999.0000,9,  -999.00,9,   -999.0,9,   -999.0,9,   -999.0,9,  -999.00,9,25, -999.00,   -999,-999.0000,-999.000,  4.6615,-999.000
     316N151_2,   A24,   118,  1,      7,      7,2,19970622,1605, 52.7967, -34.7423, 4407,   1264.6,   3.2556,  34.8940,2,  34.8929,2,    281.2,2,    282.7,2,    11.23,2,    16.81,2,     0.00,2,     1.11,2, -999.000,9, -999.000,9, -999.000,9,-999.0000,9,  -999.00,9,   -999.0,9,   -999.0,9,   -999.0,9,  -999.00,9,25, -999.00,   -999,-999.0000,-999.000,  3.1638,-999.000
     316N151_2,   A24,   118,  1,      6,      6,2,19970622,1605, 52.7967, -34.7423, 4407,   2531.1,   2.9361,  34.9623,2,  34.9623,2,    274.6,2,    272.6,2,    14.05,2,    16.19,2,     0.00,2,     1.08,2, -999.000,9, -999.000,9, -999.000,9,-999.0000,9,  -999.00,9,   -999.0,9,   -999.0,9,   -999.0,9,  -999.00,9,25, -999.00,   -999,-999.0000,-999.000,  2.7342,-999.000
     316N151_2,   A24,   118,  1,      5,      5,2,19970622,1605, 52.7967, -34.7423, 4407,   3038.9,   2.9515,  34.9629,2,  34.9624,2,    270.9,2,    273.7,2,    14.44,2,    16.20,2,     0.00,2,     1.08,2, -999.000,9, -999.000,9, -999.000,9,-999.0000,9,  -999.00,9,   -999.0,9,   -999.0,9,   -999.0,9,  -999.00,9,25, -999.00,   -999,-999.0000,-999.000,  2.6976,-999.000
     316N151_2,   A24,   118,  1,      4,      4,2,19970622,1605, 52.7967, -34.7423, 4407,   3549.1,   2.9745,  34.9613,2,  34.9620,2,    274.1,2,    273.2,2,    15.04,2,    16.29,2,     0.00,2,     1.09,2, -999.000,9, -999.000,9, -999.000,9,-999.0000,9,  -999.00,9,   -999.0,9,   -999.0,9,   -999.0,9,  -999.00,9,25, -999.00,   -999,-999.0000,-999.000,  2.6646,-999.000
     316N151_2,   A24,   118,  1,      3,      3,2,19970622,1605, 52.7967, -34.7423, 4407,   4061.9,   2.9706,  34.9554,2,  34.9553,2,    269.5,2,    270.8,2,    16.94,2,    16.63,2,     0.00,2,     1.11,2, -999.000,9, -999.000,9, -999.000,9,-999.0000,9,  -999.00,9,   -999.0,9,   -999.0,9,   -999.0,9,  -999.00,9,25, -999.00,   -999,-999.0000,-999.000,  2.6017,-999.000
     316N151_2,   A24,   118,  1,      2,      2,2,19970622,1605, 52.7967, -34.7423, 4407,   4368.7,   2.9611,  34.9495,2,  34.9498,2,    269.9,2,    270.7,2,    17.64,2,    16.77,2,     0.00,2,     1.12,2,    1.699,2,    0.829,2, -999.000,9,-999.0000,9,  -999.00,9,   -999.0,9,   -999.0,9,   -999.0,9,  -999.00,9,25, -999.00,   -999,-999.0000,-999.000,  2.5556,-999.000
     316N151_2,   A24,   118,  1,      1,      1,2,19970622,1605, 52.7967, -34.7423, 4407,   4494.0,   2.9708,  34.9484,2,  34.9500,2,    271.3,2,    270.6,2,    17.53,2,    16.77,2,     0.00,2,     1.12,2,    1.711,2,    0.830,2, -999.000,9,-999.0000,9,  -999.00,9,   -999.0,9,   -999.0,9,   -999.0,9,  -999.00,9,25, -999.00,   -999,-999.0000,-999.000,  2.5496,-999.000