BOTTLE,20220629CCHSIOAMB
EXPOCODE,SECT_ID,STNNBR,CASTNO,SAMPNO,BTLNBR,BTLNBR_FLAG_W,DATE,TIME,LATITUDE,LONGITUDE,DEPTH,CTDPRS,CTDTMP,CTDSAL,CTDSAL_FLAG_W,SALNTY,SALNTY_FLAG_W,CTDOXY,CTDOXY_FLAG_W,OXYGEN,OXYGEN_FLAG_W,SILCAT,SILCAT_FLAG_W,NITRAT,NITRAT_FLAG_W,NITRIT,NITRIT_FLAG_W,PHSPHT,PHSPHT_FLAG_W,CFC-11,CFC-11_FLAG_W,CFC-12,CFC-12_FLAG_W,TRITUM,TRITUM_FLAG_W,HELIUM,HELIUM_FLAG_W,DELHE3,DELHE3_FLAG_W,TCARBN,TCARBN_FLAG_W,PCO2,PCO2_FLAG_W,ALKALI,ALKALI_FLAG_W,PH,PH_FLAG_W,PH_TMP,PCO2TMP,CTDRAW,HELIER,DELHER,THETA,TRITER
,,,,,,,,,,,,DBAR,ITS-90,PSS-78,,PSS-78,,UMOL/KG,,UMOL/KG,,UMOL/KG,,UMOL/KG,,UMOL/KG,,UMOL/KG,,PMOL/KG,,PMOL/KG,,TU,,NMOL/KG,,PERCNT,,UMOL/KG,,UATM,,UMOL/KG,,,,DEG C,DEG C,,NMOL/KG,PERCNT,DEG C,TU
     316N151_2,   A24,    25,  1,     31,     31,2,19970605,0305, 46.8375, -15.1642, 4763,      4.8,  15.3265,  35.7615,2,  35.7619,2,   -999.0,9,    261.5,2,     0.88,2,     0.09,2,     0.01,2,     0.08,2, -999.000,9, -999.000,9, -999.000,9,-999.0000,9,  -999.00,9,   -999.0,9,   -999.0,9,   2350.6,6,     7.97,6,25, -999.00,   -999,-999.0000,-999.000, 15.3258,-999.000
     316N151_2,   A24,    25,  1,     30,     30,2,19970605,0305, 46.8375, -15.1642, 4763,     32.1,  14.6086,  35.7614,2,  35.7610,2,   -999.0,9,    254.4,2,     0.97,2,     0.55,2,     0.10,2,     0.12,2, -999.000,9, -999.000,9, -999.000,9,-999.0000,9,  -999.00,9,   2072.9,2,   -999.0,9,   -999.0,9,  -999.00,9,25, -999.00,   -999,-999.0000,-999.000, 14.6039,-999.000
     316N151_2,   A24,    25,  1,     29,     29,2,19970605,0305, 46.8375, -15.1642, 4763,     69.0,  13.4627,  35.7511,2,  35.7507,2,   -999.0,9,    247.6,2,     1.70,2,     3.77,2,     0.45,2,     0.31,2, -999.000,9, -999.000,9, -999.000,9,-999.0000,9,  -999.00,9,   -999.0,9,   -999.0,9,   -999.0,9,  -999.00,9,25, -999.00,   -999,-999.0000,-999.000, 13.4529,-999.000
     316N151_2,   A24,    25,  1,     28,     28,2,19970605,0305, 46.8375, -15.1642, 4763,    104.8,  12.8714,  35.7384,2,  35.7388,2,   -999.0,9,    248.5,2,     2.86,2,     7.22,2,     0.03,2,     0.45,2, -999.000,9, -999.000,9, -999.000,9,-999.0000,9,  -999.00,9,   -999.0,9,   -999.0,9,   -999.0,9,  -999.00,9,25, -999.00,   -999,-999.0000,-999.000, 12.8570,-999.000
     316N151_2,   A24,    25,  1,     27,     27,2,19970605,0305, 46.8375, -15.1642, 4763,    161.6,  12.6962,  35.7236,2,  35.7238,2,   -999.0,9,    249.7,2,     3.06,2,     7.78,2,     0.02,2,     0.49,2, -999.000,9, -999.000,9, -999.000,9,-999.0000,9,  -999.00,9,   -999.0,9,   -999.0,9,   -999.0,9,  -999.00,9,25, -999.00,   -999,-999.0000,-999.000, 12.6742,-999.000
     316N151_2,   A24,    25,  1,     26,     26,2,19970605,0305, 46.8375, -15.1642, 4763,    194.0,  12.6442,  35.7161,2,  35.7167,2,   -999.0,9,    249.7,2,     3.16,2,     7.83,2,     0.02,2,     0.50,2, -999.000,9, -999.000,9, -999.000,9,-999.0000,9,  -999.00,9,   -999.0,9,   -999.0,9,   -999.0,9,  -999.00,9,25, -999.00,   -999,-999.0000,-999.000, 12.6178,-999.000
     316N151_2,   A24,    25,  1,     25,     25,2,19970605,0305, 46.8375, -15.1642, 4763,    291.0,  12.2413,  35.6601,2,  35.6656,2,   -999.0,9,    242.3,2,     3.46,2,     8.84,2,     0.01,2,     0.56,2, -999.000,9, -999.000,9, -999.000,9,-999.0000,9,  -999.00,9,   -999.0,9,   -999.0,9,   -999.0,9,  -999.00,9,25, -999.00,   -999,-999.0000,-999.000, 12.2024,-999.000
     316N151_2,   A24,    25,  1,     24,     24,2,19970605,0305, 46.8375, -15.1642, 4763,    389.8,  11.6242,  35.5704,2,  35.5706,2,   -999.0,9,    230.9,2,     4.51,2,    11.11,2,     0.01,2,     0.69,2, -999.000,9, -999.000,9, -999.000,9,-999.0000,9,  -999.00,9,   -999.0,9,   -999.0,9,   -999.0,9,  -999.00,9,25, -999.00,   -999,-999.0000,-999.000, 11.5737,-999.000
     316N151_2,   A24,    25,  1,     23,     23,2,19970605,0305, 46.8375, -15.1642, 4763,    523.5,  10.9028,  35.4736,2,  35.4742,2,   -999.0,9,    223.2,2,     5.67,2,    13.08,2,     0.01,2,     0.82,2, -999.000,9, -999.000,9, -999.000,9,-999.0000,9,  -999.00,9,   -999.0,9,   -999.0,9,   -999.0,9,  -999.00,9,25, -999.00,   -999,-999.0000,-999.000, 10.8373,-999.000
     316N151_2,   A24,    25,  1,     22,     22,2,19970605,0305, 46.8375, -15.1642, 4763,    665.8,  10.4800,  35.4639,2,  35.4639,2,   -999.0,9,    217.6,2,     6.40,2,    14.20,2,     0.00,2,     0.89,2, -999.000,9, -999.000,9, -999.000,9,-999.0000,9,  -999.00,9,   -999.0,9,   -999.0,9,   -999.0,9,  -999.00,9,25, -999.00,   -999,-999.0000,-999.000, 10.3982,-999.000
     316N151_2,   A24,    25,  1,     21,     21,2,19970605,0305, 46.8375, -15.1642, 4763,    754.4,   9.6646,  35.3729,2,  35.3732,2,   -999.0,9,    200.6,2,     8.72,2,    16.72,2,     0.00,2,     1.06,2, -999.000,9, -999.000,9, -999.000,9,-999.0000,9,  -999.00,9,   -999.0,9,   -999.0,9,   -999.0,9,  -999.00,9,25, -999.00,   -999,-999.0000,-999.000,  9.5760,-999.000
     316N151_2,   A24,    25,  1,     20,     20,2,19970605,0305, 46.8375, -15.1642, 4763,    831.7,   8.8967,  35.2951,2,  35.2955,2,   -999.0,9,    195.7,2,    10.08,2,    17.99,2,     0.00,2,     1.16,2, -999.000,9, -999.000,9, -999.000,9,-999.0000,9,  -999.00,9,   -999.0,9,   -999.0,9,   -999.0,9,  -999.00,9,25, -999.00,   -999,-999.0000,-999.000,  8.8033,-999.000
     316N151_2,   A24,    25,  1,     19,     19,2,19970605,0305, 46.8375, -15.1642, 4763,    939.8,   8.6883,  35.4155,2,  35.4175,2,   -999.0,9,    194.9,2,    10.60,2,    17.99,2,     0.00,2,     1.15,2, -999.000,9, -999.000,9, -999.000,9,-999.0000,9,  -999.00,9,   -999.0,9,   -999.0,9,   -999.0,9,  -999.00,9,25, -999.00,   -999,-999.0000,-999.000,  8.5834,-999.000
     316N151_2,   A24,    25,  1,     18,     18,2,19970605,0305, 46.8375, -15.1642, 4763,   1038.9,   7.9316,  35.3795,2,  35.3676,2,   -999.0,9,    201.3,2,    11.23,2,    18.40,2,     0.00,2,     1.18,2, -999.000,9, -999.000,9, -999.000,9,-999.0000,9,  -999.00,9,   -999.0,9,   -999.0,9,   -999.0,9,  -999.00,9,25, -999.00,   -999,-999.0000,-999.000,  7.8208,-999.000
     316N151_2,   A24,    25,  1,     17,     17,2,19970605,0305, 46.8375, -15.1642, 4763,   1158.9,   7.6090,  35.4236,2,  35.4217,2,   -999.0,9,    207.1,2,    11.43,2,    18.09,2,     0.00,2,     1.16,2, -999.000,9, -999.000,9, -999.000,9,-999.0000,9,  -999.00,9,   -999.0,9,   -999.0,9,   -999.0,9,  -999.00,9,25, -999.00,   -999,-999.0000,-999.000,  7.4872,-999.000
     316N151_2,   A24,    25,  1,     16,     16,2,19970605,0305, 46.8375, -15.1642, 4763,   1300.7,   6.3004,  35.2679,2,  35.2675,2,   -999.0,9,    224.9,2,    11.85,2,    18.15,2,     0.00,2,     1.17,2, -999.000,9, -999.000,9, -999.000,9,-999.0000,9,  -999.00,9,   -999.0,9,   -999.0,9,   -999.0,9,  -999.00,9,25, -999.00,   -999,-999.0000,-999.000,  6.1751,-999.000
     316N151_2,   A24,    25,  1,     15,     15,2,19970605,0305, 46.8375, -15.1642, 4763,   1515.4,   4.6989,  35.0382,2,  35.0363,2,   -999.0,9,    249.9,2,    11.95,2,    18.10,2,     0.00,2,     1.18,2, -999.000,9, -999.000,9, -999.000,9,-999.0000,9,  -999.00,9,   -999.0,9,   -999.0,9,   -999.0,9,  -999.00,9,25, -999.00,   -999,-999.0000,-999.000,  4.5692,-999.000
     316N151_2,   A24,    25,  1,     14,     14,2,19970605,0305, 46.8375, -15.1642, 4763,   1669.0,   4.0944,  34.9616,2,  34.9609,2,   -999.0,9,    262.9,2,    11.94,2,    17.80,2,     0.00,2,     1.18,2, -999.000,9, -999.000,9, -999.000,9,-999.0000,9,  -999.00,9,   -999.0,9,   -999.0,9,   -999.0,9,  -999.00,9,25, -999.00,   -999,-999.0000,-999.000,  3.9574,-999.000
     316N151_2,   A24,    25,  1,     13,     13,2,19970605,0305, 46.8375, -15.1642, 4763,   1790.6,   3.8390,  34.9380,2,  34.9412,2,   -999.0,9,    268.3,2,    12.04,2,    17.60,2,     0.00,2,     1.17,2, -999.000,9, -999.000,9, -999.000,9,-999.0000,9,  -999.00,9,   -999.0,9,   -999.0,9,   -999.0,9,  -999.00,9,25, -999.00,   -999,-999.0000,-999.000,  3.6940,-999.000
     316N151_2,   A24,    25,  1,     12,     12,2,19970605,0305, 46.8375, -15.1642, 4763,   1981.2,   3.6438,  34.9322,2,  34.9318,2,   -999.0,9,    270.7,2,    12.98,2,    17.50,2,     0.00,2,     1.17,2, -999.000,9, -999.000,9, -999.000,9,-999.0000,9,  -999.00,9,   -999.0,9,   -999.0,9,   -999.0,9,  -999.00,9,25, -999.00,   -999,-999.0000,-999.000,  3.4835,-999.000
     316N151_2,   A24,    25,  1,     11,     11,2,19970605,0305, 46.8375, -15.1642, 4763,   2218.1,   3.4292,  34.9348,2,  34.9351,2,   -999.0,9,    269.7,2,    14.45,2,    17.55,2,     0.00,2,     1.18,2, -999.000,9, -999.000,9, -999.000,9,-999.0000,9,  -999.00,9,   -999.0,9,   -999.0,9,   -999.0,9,  -999.00,9,25, -999.00,   -999,-999.0000,-999.000,  3.2494,-999.000
     316N151_2,   A24,    25,  1,     10,     10,2,19970605,0305, 46.8375, -15.1642, 4763,   2474.4,   3.2881,  34.9578,2,  34.9583,2,   -999.0,9,    260.7,2,    19.84,2,    18.31,2,     0.00,2,     1.23,2, -999.000,9, -999.000,9, -999.000,9,-999.0000,9,  -999.00,9,   -999.0,9,   -999.0,9,   -999.0,9,  -999.00,9,25, -999.00,   -999,-999.0000,-999.000,  3.0853,-999.000
     316N151_2,   A24,    25,  1,      9,      9,2,19970605,0305, 46.8375, -15.1642, 4763,   2732.4,   3.0708,  34.9551,2,  34.9546,2,   -999.0,9,    256.1,2,    24.60,2,    19.02,2,     0.00,2,     1.27,2, -999.000,9, -999.000,9, -999.000,9,-999.0000,9,  -999.00,9,   -999.0,9,   -999.0,9,   -999.0,9,  -999.00,9,25, -999.00,   -999,-999.0000,-999.000,  2.8462,-999.000
     316N151_2,   A24,    25,  1,      8,      8,2,19970605,0305, 46.8375, -15.1642, 4763,   2989.0,   2.8813,  34.9472,2,  34.9463,2,   -999.0,9,    252.1,2,    29.25,2,    19.73,2,     0.00,2,     1.33,2, -999.000,9, -999.000,9, -999.000,9,-999.0000,9,  -999.00,9,   -999.0,9,   -999.0,9,   -999.0,9,  -999.00,9,25, -999.00,   -999,-999.0000,-999.000,  2.6342,-999.000
     316N151_2,   A24,    25,  1,      7,      7,2,19970605,0305, 46.8375, -15.1642, 4763,   3246.2,   2.7467,  34.9368,2,  34.9357,2,   -999.0,9,    248.5,2,    33.48,2,    20.45,2,     0.00,2,     1.39,2, -999.000,9, -999.000,9, -999.000,9,-999.0000,9,  -999.00,9,   -999.0,9,   -999.0,9,   -999.0,9,  -999.00,9,25, -999.00,   -999,-999.0000,-999.000,  2.4755,-999.000
     316N151_2,   A24,    25,  1,      6,      6,2,19970605,0305, 46.8375, -15.1642, 4763,   3500.3,   2.6298,  34.9249,2,  34.9239,2,   -999.0,9,    244.8,2,    37.92,2,    21.21,2,     0.00,2,     1.44,2, -999.000,9, -999.000,9, -999.000,9,-999.0000,9,  -999.00,9,   -999.0,9,   -999.0,9,   -999.0,9,  -999.00,9,25, -999.00,   -999,-999.0000,-999.000,  2.3341,-999.000
     316N151_2,   A24,    25,  1,      5,      5,2,19970605,0305, 46.8375, -15.1642, 4763,   3755.1,   2.5783,  34.9175,2,  34.9164,2,   -999.0,9,    242.5,2,    40.56,2,    21.62,2,     0.00,2,     1.47,2, -999.000,9, -999.000,9, -999.000,9,-999.0000,9,  -999.00,9,   -999.0,9,   -999.0,9,   -999.0,9,  -999.00,9,25, -999.00,   -999,-999.0000,-999.000,  2.2557,-999.000
     316N151_2,   A24,    25,  1,      4,      4,2,19970605,0305, 46.8375, -15.1642, 4763,   4010.8,   2.5550,  34.9111,2,  34.9111,2,   -999.0,9,    241.4,2,    42.15,2,    21.87,2,     0.00,2,     1.50,2, -999.000,9, -999.000,9, -999.000,9,-999.0000,9,  -999.00,9,   -999.0,9,   -999.0,9,   -999.0,9,  -999.00,9,25, -999.00,   -999,-999.0000,-999.000,  2.2039,-999.000
     316N151_2,   A24,    25,  1,      3,      3,2,19970605,0305, 46.8375, -15.1642, 4763,   4265.6,   2.5455,  34.9075,2,  34.9071,2,   -999.0,9,    240.7,2,    43.09,2,    22.08,2,     0.00,2,     1.51,2, -999.000,9, -999.000,9, -999.000,9,-999.0000,9,  -999.00,9,   -999.0,9,   -999.0,9,   -999.0,9,  -999.00,9,25, -999.00,   -999,-999.0000,-999.000,  2.1649,-999.000
     316N151_2,   A24,    25,  1,      2,      2,2,19970605,0305, 46.8375, -15.1642, 4763,   4548.9,   2.5474,  34.9041,2,  34.9036,2,   -999.0,9,    240.4,2,    43.93,2,    22.18,2,     0.00,2,     1.51,2, -999.000,9, -999.000,9, -999.000,9,-999.0000,9,  -999.00,9,   -999.0,9,   -999.0,9,   -999.0,9,  -999.00,9,25, -999.00,   -999,-999.0000,-999.000,  2.1327,-999.000
     316N151_2,   A24,    25,  1,      1,      1,2,19970605,0305, 46.8375, -15.1642, 4763,   4883.7,   2.5610,  34.9001,2,  34.9010,2,   -999.0,9,    240.4,2,    44.56,2,    22.23,2,     0.00,2,     1.52,2, -999.000,9, -999.000,9, -999.000,9,-999.0000,9,  -999.00,9,   -999.0,9,   -999.0,9,   -999.0,9,  -999.00,9,25, -999.00,   -999,-999.0000,-999.000,  2.1043,-999.000