BOTTLE,20220629CCHSIOAMB
EXPOCODE,SECT_ID,STNNBR,CASTNO,SAMPNO,BTLNBR,BTLNBR_FLAG_W,DATE,TIME,LATITUDE,LONGITUDE,DEPTH,CTDPRS,CTDTMP,CTDSAL,CTDSAL_FLAG_W,SALNTY,SALNTY_FLAG_W,CTDOXY,CTDOXY_FLAG_W,OXYGEN,OXYGEN_FLAG_W,SILCAT,SILCAT_FLAG_W,NITRAT,NITRAT_FLAG_W,NITRIT,NITRIT_FLAG_W,PHSPHT,PHSPHT_FLAG_W,CFC-11,CFC-11_FLAG_W,CFC-12,CFC-12_FLAG_W,TRITUM,TRITUM_FLAG_W,HELIUM,HELIUM_FLAG_W,DELHE3,DELHE3_FLAG_W,TCARBN,TCARBN_FLAG_W,PCO2,PCO2_FLAG_W,ALKALI,ALKALI_FLAG_W,PH,PH_FLAG_W,PH_TMP,PCO2TMP,CTDRAW,HELIER,DELHER,THETA,TRITER
,,,,,,,,,,,,DBAR,ITS-90,PSS-78,,PSS-78,,UMOL/KG,,UMOL/KG,,UMOL/KG,,UMOL/KG,,UMOL/KG,,UMOL/KG,,PMOL/KG,,PMOL/KG,,TU,,NMOL/KG,,PERCNT,,UMOL/KG,,UATM,,UMOL/KG,,,,DEG C,DEG C,,NMOL/KG,PERCNT,DEG C,TU
     316N151_2,   A24,    12,  1,     28,     28,2,19970602,0434, 42.4278, -21.8738, 3859,      3.1,  16.3877,  35.9415,2,  35.9433,2,    219.0,2,    246.3,2,     0.92,2,     0.06,2,     0.00,2,     0.05,2,    2.848,2,    1.559,2,    0.924,3,   1.7965,2,    -1.79,2,   2079.6,2,    388.6,2,   2360.2,6,     7.97,6,25,   20.00,   -999,  0.0000,   0.210, 16.3872,   0.019
     316N151_2,   A24,    12,  1,     27,     27,2,19970602,0434, 42.4278, -21.8738, 3859,     55.9,  14.2711,  35.9156,2,  35.9113,2,    240.9,2,    237.8,2,     1.85,2,     5.23,2,     0.05,2,     0.33,2,    3.005,2,    1.623,2,    1.463,2,   2.4091,4,    -0.96,4,   2106.7,2,    450.9,2,   2356.6,2,     7.91,2,25,   20.00,   -999,  0.0000,   0.200, 14.2629,   0.020
     316N151_2,   A24,    12,  1,     26,     26,2,19970602,0434, 42.4278, -21.8738, 3859,    104.9,  13.5846,  35.8408,2,  35.8406,2,    228.7,2,    239.0,2,     2.27,2,     6.22,2,     0.01,2,     0.39,2,    3.096,2,    1.657,2,    1.370,2,   1.7979,2,    -0.91,2,   2113.0,2,    472.7,2,   2352.0,2,     7.89,2,25,   20.00,   -999,  0.0000,   0.210, 13.5697,   0.023
     316N151_2,   A24,    12,  1,     25,     25,2,19970602,0434, 42.4278, -21.8738, 3859,    156.3,  13.2447,  35.8016,2,  35.8007,2,    228.7,2,    236.2,2,     2.90,2,     7.64,2,     0.01,2,     0.47,2,    3.082,2,    1.634,2,    1.495,2,   1.8374,2,    -0.63,2,   2117.3,2,    487.8,2,   2350.9,2,     7.88,2,25,   20.00,   -999,  0.0000,   0.210, 13.2228,   0.019
     316N151_2,   A24,    12,  1,     24,     24,2,19970602,0434, 42.4278, -21.8738, 3859,    246.3,  12.5019,  35.6989,2,  35.6983,2,    226.4,2,    225.3,2,     3.94,2,    10.23,2,     0.01,2,     0.62,2,    3.011,2,    1.577,2,    1.400,2,   1.8425,2,     0.45,2,   2129.3,2,    528.4,2,   2344.9,2,     7.85,2,25,   20.00,   -999,  0.0000,   0.210, 12.4686,   0.028
     316N151_2,   A24,    12,  1,     23,     23,2,19970602,0434, 42.4278, -21.8738, 3859,    356.4,  11.6798,  35.5790,2,  35.5787,2,    227.1,2,    222.9,2,     4.77,2,    11.85,2,     0.01,2,     0.72,2,    2.973,2,    1.532,2,    1.527,2,   1.8138,2,     1.39,2,   2137.3,2,    566.4,2,   2340.2,2,     7.83,2,25,   20.00,   -999,  0.0000,   0.210, 11.6335,   0.033
     316N151_2,   A24,    12,  1,     22,     22,2,19970602,0434, 42.4278, -21.8738, 3859,    457.9,  11.1611,  35.5167,2,  35.5170,2,    220.6,2,    213.9,2,     5.70,2,    13.47,2,     0.00,2,     0.83,2,    2.816,2,    1.439,2,    1.487,2,   1.8256,2,     3.13,2,   2146.2,2,    603.5,2,   2336.0,2,     7.80,2,25,   20.00,   -999,  0.0000,   0.210, 11.1031,   0.019
     316N151_2,   A24,    12,  1,     21,     21,2,19970602,0434, 42.4278, -21.8738, 3859,    557.5,  10.6583,  35.4974,2,  35.4978,2,    213.1,2,    212.0,2,     6.22,2,    14.38,2,     0.00,2,     0.89,2,    2.730,2,    1.366,2,    1.448,2,   1.9542,3,     3.12,2,   2152.2,2,    630.0,2,   2335.9,2,     7.78,2,25,   20.00,   -999,  0.0000,   0.210, 10.5894,   0.018
     316N151_2,   A24,    12,  1,     20,     20,2,19970602,0434, 42.4278, -21.8738, 3859,    678.0,  10.2769,  35.5498,2,  35.5523,2,    203.1,2,    196.6,2,     8.08,2,    16.05,2,     0.00,2,     1.00,2,    2.053,2,    1.031,2,    1.239,2,   1.8217,2,     7.27,2,   2168.2,2,    658.9,2,   2341.8,2,     7.76,2,25,   20.00,   -999,  0.0000,   0.210, 10.1944,   0.022
     316N151_2,   A24,    12,  1,     19,     19,2,19970602,0434, 42.4278, -21.8738, 3859,    779.4,  10.0453,  35.6087,2,  35.6105,2,    191.6,2,    190.1,2,     9.01,2,    16.81,2,     0.00,2,     1.05,2,    1.692,3,    1.034,3, -999.000,5,   1.8228,2,     8.20,2,   2176.5,2,    677.2,2,   2347.5,2,     7.75,2,25,   20.00,   -999,  0.0000,   0.210,  9.9512,-999.000
     316N151_2,   A24,    12,  1,     18,     18,2,19970602,0434, 42.4278, -21.8738, 3859,    844.8,  10.3413,  35.7548,2,  35.7587,2,    189.0,2,    185.9,2,     9.02,2,    16.55,2,     0.00,2,     1.03,2,    1.502,2,    0.758,2, -999.000,5,   1.8768,2,     8.56,2,   2182.3,2,    665.8,2,   2360.3,2,     7.77,3,25,   20.00,   -999,  0.0000,   0.210, 10.2371,-999.000
     316N151_2,   A24,    12,  1,     17,     17,2,19970602,0434, 42.4278, -21.8738, 3859,    908.6,   9.6622,  35.6791,2,  35.6809,2,    182.6,2,    187.3,2,     9.95,2,    17.31,2,     0.00,2,     1.08,2,    1.357,2,    0.676,2,    0.757,4,   2.1730,3,     6.73,3,   2185.1,2,    686.3,2,   2357.0,2,     7.75,2,25,   20.00,   -999,  0.0000,   0.200,  9.5543,   0.103
     316N151_2,   A24,    12,  1,     16,     16,2,19970602,0434, 42.4278, -21.8738, 3859,   1010.1,   9.7836,  35.8184,2,  35.8182,2,    188.3,2,   -999.0,5,    10.17,2,    17.00,2,     0.00,2,     1.06,2,    1.200,2,    0.591,2,    1.102,2,   1.8151,2,     9.06,2,   2192.5,2,   -999.0,9,   2367.0,2,     7.77,3,25, -999.00,   -999,  0.0000,   0.210,  9.6619,   0.018
     316N151_2,   A24,    12,  1,     15,     15,2,19970602,0434, 42.4278, -21.8738, 3859,   1140.6,   8.7795,  35.7045,2,  35.7022,2,    195.6,2,    197.7,2,    10.79,2,    17.26,2,     0.00,2,     1.08,2,    1.213,2,    0.606,2,   -0.044,4,   0.0119,4,   395.84,4,   2189.9,2,    690.7,2,   2362.6,2,     7.75,2,25,   20.00,   -999,  0.0000,   0.560,  8.6496,   0.075
     316N151_2,   A24,    12,  1,     14,     14,2,19970602,0434, 42.4278, -21.8738, 3859,   1383.1,   6.4654,  35.3605,2,  35.3655,2,    219.9,2,    225.8,2,    11.83,2,    17.76,2,     0.00,2,     1.14,2,    1.244,2,    0.626,2, -999.000,5,   1.8693,2,     9.33,2,   2178.8,2,   -999.0,9,   2339.1,2,     7.74,2,25, -999.00,   -999,  0.0000,   0.160,  6.3296,-999.000
     316N151_2,   A24,    12,  1,     13,     13,2,19970602,0434, 42.4278, -21.8738, 3859,   1594.1,   4.4550,  35.0335,2,  35.0310,2,    255.0,2,    256.7,2,    11.94,2,    17.77,2,     0.00,2,     1.17,2,    1.657,2,    0.805,2, -999.000,5,   2.0876,3,     8.55,2,   2164.4,2,    746.8,2,   2312.7,2,     7.71,2,25,   20.00,   -999,  0.0000,   0.200,  4.3206,-999.000
     316N151_2,   A24,    12,  1,     12,     12,2,19970602,0434, 42.4278, -21.8738, 3859,   1817.3,   3.8985,  34.9615,2,  34.9601,2,    268.8,2,    267.3,2,    12.16,2,    17.56,2,     0.00,2,     1.16,2,    1.623,2,    0.781,2,    1.115,2,   1.9359,2,     8.86,2,   2159.9,2,   -999.0,9,   2307.8,2,     7.72,2,25, -999.00,   -999,  0.0000,   0.180,  3.7501,   0.020
     316N151_2,   A24,    12,  1,     11,     11,2,19970602,0434, 42.4278, -21.8738, 3859,   1968.6,   3.6359,  34.9353,2,  34.9361,2,    273.0,2,    271.2,2,    12.58,2,    17.36,2,     0.00,2,     1.15,2,    1.495,2,    0.725,2,    1.024,2,   1.9337,2,     7.91,2,   2158.0,2,    741.0,2,   2309.9,2,     7.71,2,25,   20.00,   -999,  0.0000,   0.160,  3.4769,   0.014
     316N151_2,   A24,    12,  1,     10,     10,2,19970602,0434, 42.4278, -21.8738, 3859,   2122.0,   3.6240,  34.9619,2,  34.9619,2,    262.1,2,    266.2,2,    14.43,2,    17.76,2,     0.00,2,     1.17,2,    0.931,2,    0.468,2,    0.670,2,   1.9045,2,     7.68,2,   2160.7,2,    731.4,2,   2319.0,2,     7.72,2,25,   20.00,   -999,  0.0000,   0.160,  3.4503,   0.014
     316N151_2,   A24,    12,  1,      9,      9,2,19970602,0434, 42.4278, -21.8738, 3859,   2274.3,   3.4680,  34.9620,2,  34.9631,2,    264.0,2,    264.5,2,    16.29,2,    17.86,2,     0.00,2,     1.19,2, -999.000,9, -999.000,9, -999.000,5,   1.3679,4,     6.10,4,   2162.5,2,    735.4,2,   2316.8,2,     7.72,2,25,   20.00,   -999,  0.0000,   0.220,  3.2820,-999.000
     316N151_2,   A24,    12,  1,      8,      8,2,19970602,0434, 42.4278, -21.8738, 3859,   2426.4,   3.2935,  34.9583,2,  34.9577,2,    261.8,2,    262.7,2,    18.65,2,    18.16,2,     0.00,2,     1.21,2,    0.557,2,    0.282,2, -999.000,9,-999.0000,9,  -999.00,9,   2165.4,2,   -999.0,9,   2319.3,2,     7.72,2,25, -999.00,   -999,-999.0000,-999.000,  3.0954,-999.000
     316N151_2,   A24,    12,  1,      7,      7,2,19970602,0434, 42.4278, -21.8738, 3859,   2630.8,   3.1118,  34.9570,2,  34.9562,2,    261.0,2,    259.0,2,    22.45,2,    18.62,2,     0.00,2,     1.25,2, -999.000,9, -999.000,9, -999.000,5,   1.9833,3,     4.77,2,   2171.5,2,    740.9,2,   2325.2,2,     7.72,2,25,   20.00,   -999,  0.0000,   0.200,  2.8967,-999.000
     316N151_2,   A24,    12,  1,      6,      6,2,19970602,0434, 42.4278, -21.8738, 3859,   2833.1,   2.9447,  34.9502,2,  34.9501,2,    256.0,2,    256.3,2,    25.83,2,    19.12,2,     0.00,2,     1.29,2,    0.372,2,    0.188,2, -999.000,9,-999.0000,9,  -999.00,9,   2176.8,2,    743.1,2,   2327.1,2,     7.71,2,25,   20.00,   -999,-999.0000,-999.000,  2.7124,-999.000
     316N151_2,   A24,    12,  1,      5,      5,2,19970602,0434, 42.4278, -21.8738, 3859,   3034.9,   2.7960,  34.9397,2,  34.9394,2,    254.2,2,    253.2,2,    29.84,2,    19.62,2,     0.00,2,     1.33,2, -999.000,9, -999.000,9, -999.000,9,-999.0000,9,  -999.00,9,   2183.2,2,    752.1,2,   2339.9,2,     7.71,2,25,   20.00,   -999,-999.0000,-999.000,  2.5460,-999.000
     316N151_2,   A24,    12,  1,      4,      4,2,19970602,0434, 42.4278, -21.8738, 3859,   3239.1,   2.7250,  34.9339,2,  34.9327,2,    247.7,2,    250.0,2,    33.02,2,    20.18,2,     0.00,2,     1.37,2,    0.314,2,    0.156,2, -999.000,9,-999.0000,9,  -999.00,9,   2187.4,2,    755.2,2,   2341.5,2,     7.72,2,25,   20.00,   -999,-999.0000,-999.000,  2.4551,-999.000
     316N151_2,   A24,    12,  1,      3,      3,2,19970602,0434, 42.4278, -21.8738, 3859,   3442.8,   2.6726,  34.9286,2,  34.9264,2,    246.0,2,    247.2,2,    35.90,2,    20.68,2,     0.00,2,     1.40,2,    0.228,2,    0.116,2, -999.000,5,   1.9434,2,     3.53,2,   2192.1,2,    759.1,2,   2344.6,2,     7.71,2,25,   20.00,   -999,  0.0000,   0.210,  2.3820,-999.000
     316N151_2,   A24,    12,  1,      2,      2,2,19970602,0434, 42.4278, -21.8738, 3859,   3647.2,   2.6391,  34.9230,2,  34.9229,2,    245.0,2,    245.2,2,    37.96,2,    21.09,2,     0.00,2,     1.43,2,    0.171,2,    0.092,2, -999.000,9,-999.0000,9,  -999.00,9,   2194.7,2,   -999.0,9,   2344.6,2,     7.71,2,25, -999.00,   -999,-999.0000,-999.000,  2.3269,-999.000
     316N151_2,   A24,    12,  1,      1,      1,2,19970602,0434, 42.4278, -21.8738, 3859,   3945.7,   2.5980,  34.9159,2,  34.9176,2,    242.5,2,    242.6,2,    41.15,2,    21.69,2,     0.00,2,     1.48,2,    0.095,2,    0.060,2,    0.074,2,   1.9118,2,     2.86,2,   2199.0,2,    757.3,2,   2351.7,2,     7.71,2,25,   20.00,   -999,  0.0000,   0.210,  2.2532,   0.012
     316N151_2,   A24,    13,  1,     20,     20,2,19970602,0920, 42.7665, -21.3673, 2436,      3.5,  16.0598,  35.8759,2,  35.8755,2,    263.3,2,    248.1,2,     0.99,2,     0.14,2,     0.00,2,     0.07,2, -999.000,9, -999.000,9, -999.000,9,-999.0000,9,  -999.00,9,   -999.0,9,   -999.0,9,   -999.0,9,  -999.00,9,25, -999.00,   -999,-999.0000,-999.000, 16.0592,-999.000
     316N151_2,   A24,    13,  1,     19,     19,2,19970602,0920, 42.7665, -21.3673, 2436,     35.2,  15.5217,  35.8675,2,  35.8662,2,    246.2,2,    247.1,2,     0.99,2,     0.17,2,     0.01,2,     0.08,2, -999.000,9, -999.000,9, -999.000,9,-999.0000,9,  -999.00,9,   -999.0,9,   -999.0,9,   -999.0,9,  -999.00,9,25, -999.00,   -999,-999.0000,-999.000, 15.5162,-999.000
     316N151_2,   A24,    13,  1,     18,     18,2,19970602,0920, 42.7665, -21.3673, 2436,     85.0,  14.1277,  35.8509,2,  35.8492,2,    246.2,2,    242.2,2,     1.60,2,     3.96,2,     0.11,2,     0.28,2, -999.000,9, -999.000,9, -999.000,9,-999.0000,9,  -999.00,9,   -999.0,9,   -999.0,9,   -999.0,9,  -999.00,9,25, -999.00,   -999,-999.0000,-999.000, 14.1153,-999.000
     316N151_2,   A24,    13,  1,     17,     17,2,19970602,0920, 42.7665, -21.3673, 2436,    134.5,  13.1764,  35.7862,2,  35.7848,2,    238.3,2,    242.2,2,     2.31,2,     6.52,2,     0.01,2,     0.41,2, -999.000,9, -999.000,9, -999.000,9,-999.0000,9,  -999.00,9,   -999.0,9,   -999.0,9,   -999.0,9,  -999.00,9,25, -999.00,   -999,-999.0000,-999.000, 13.1577,-999.000
     316N151_2,   A24,    13,  1,     16,     16,2,19970602,0920, 42.7665, -21.3673, 2436,    215.5,  12.6469,  35.7184,2,  35.7168,2,    235.2,2,    235.4,2,     3.33,2,     8.89,2,     0.01,2,     0.55,2, -999.000,9, -999.000,9, -999.000,9,-999.0000,9,  -999.00,9,   -999.0,9,   -999.0,9,   -999.0,9,  -999.00,9,25, -999.00,   -999,-999.0000,-999.000, 12.6176,-999.000
     316N151_2,   A24,    13,  1,     15,     15,2,19970602,0920, 42.7665, -21.3673, 2436,    305.0,  11.9302,  35.6192,2,  35.6181,2,    230.6,2,    230.4,2,     4.04,2,    10.55,2,     0.00,2,     0.66,2, -999.000,9, -999.000,9, -999.000,9,-999.0000,9,  -999.00,9,   -999.0,9,   -999.0,9,   -999.0,9,  -999.00,9,25, -999.00,   -999,-999.0000,-999.000, 11.8902,-999.000
     316N151_2,   A24,    13,  1,     14,     14,2,19970602,0920, 42.7665, -21.3673, 2436,    415.8,  11.1883,  35.5158,2,  35.5196,2,    222.8,2,    223.8,2,     5.05,2,    12.47,2,     0.01,2,     0.78,2, -999.000,9, -999.000,9, -999.000,9,-999.0000,9,  -999.00,9,   -999.0,9,   -999.0,9,   -999.0,9,  -999.00,9,25, -999.00,   -999,-999.0000,-999.000, 11.1357,-999.000
     316N151_2,   A24,    13,  1,     13,     13,2,19970602,0920, 42.7665, -21.3673, 2436,    525.8,  10.6725,  35.4633,2,  35.4680,2,    212.1,2,    215.9,2,     6.07,2,    14.13,2,     0.01,2,     0.88,2, -999.000,9, -999.000,9, -999.000,9,-999.0000,9,  -999.00,9,   -999.0,9,   -999.0,9,   -999.0,9,  -999.00,9,25, -999.00,   -999,-999.0000,-999.000, 10.6076,-999.000
     316N151_2,   A24,    13,  1,     12,     12,2,19970602,0920, 42.7665, -21.3673, 2436,    616.3,  10.1829,  35.4189,2,  35.4169,2,    212.5,2,    209.0,2,     7.29,2,    15.34,2,     0.00,2,     0.97,2, -999.000,9, -999.000,9, -999.000,9,-999.0000,9,  -999.00,9,   -999.0,9,   -999.0,9,   -999.0,9,  -999.00,9,25, -999.00,   -999,-999.0000,-999.000, 10.1087,-999.000
     316N151_2,   A24,    13,  1,     11,     11,2,19970602,0920, 42.7665, -21.3673, 2436,    677.3,   9.9146,  35.4409,2,  35.4381,2,    200.1,2,    199.7,2,     8.20,2,    16.40,2,     0.00,2,     1.03,2, -999.000,9, -999.000,9, -999.000,9,-999.0000,9,  -999.00,9,   -999.0,9,   -999.0,9,   -999.0,9,  -999.00,9,25, -999.00,   -999,-999.0000,-999.000,  9.8340,-999.000
     316N151_2,   A24,    13,  1,     10,     10,2,19970602,0920, 42.7665, -21.3673, 2436,    788.4,   8.7338,  35.3235,2,  35.3248,2,    192.4,2,    193.2,2,    10.34,2,    18.27,2,     0.00,2,     1.17,2, -999.000,9, -999.000,9, -999.000,9,-999.0000,9,  -999.00,9,   -999.0,9,   -999.0,9,   -999.0,9,  -999.00,9,25, -999.00,   -999,-999.0000,-999.000,  8.6464,-999.000
     316N151_2,   A24,    13,  1,      9,      9,2,19970602,0920, 42.7665, -21.3673, 2436,    949.5,   8.5359,  35.5079,2,  35.5057,2,    194.6,2,    195.5,2,    10.74,2,    18.01,2,     0.00,2,     1.14,2, -999.000,9, -999.000,9, -999.000,9,-999.0000,9,  -999.00,9,   -999.0,9,   -999.0,9,   -999.0,9,  -999.00,9,25, -999.00,   -999,-999.0000,-999.000,  8.4308,-999.000
     316N151_2,   A24,    13,  1,      8,      8,2,19970602,0920, 42.7665, -21.3673, 2436,   1101.0,   7.6618,  35.4534,2,  35.4594,2,    210.4,2,    207.0,2,    11.15,2,    18.01,2,     0.00,2,     1.15,2, -999.000,9, -999.000,9, -999.000,9,-999.0000,9,  -999.00,9,   -999.0,9,   -999.0,9,   -999.0,9,  -999.00,9,25, -999.00,   -999,-999.0000,-999.000,  7.5460,-999.000
     316N151_2,   A24,    13,  1,      7,      7,2,19970602,0920, 42.7665, -21.3673, 2436,   1211.9,   6.5446,  35.3022,2,  35.2922,2,    218.4,2,    222.3,2,    11.45,2,    18.11,2,     0.00,2,     1.17,2, -999.000,9, -999.000,9, -999.000,9,-999.0000,9,  -999.00,9,   -999.0,9,   -999.0,9,   -999.0,9,  -999.00,9,25, -999.00,   -999,-999.0000,-999.000,  6.4264,-999.000
     316N151_2,   A24,    13,  1,      6,      6,2,19970602,0920, 42.7665, -21.3673, 2436,   1383.6,   4.5772,  35.0137,2,  35.0139,2,    254.0,2,    252.6,2,    11.55,2,    18.01,2,     0.00,2,     1.18,2, -999.000,9, -999.000,9, -999.000,9,-999.0000,9,  -999.00,9,   -999.0,9,   -999.0,9,   -999.0,9,  -999.00,9,25, -999.00,   -999,-999.0000,-999.000,  4.4614,-999.000
     316N151_2,   A24,    13,  1,      5,      5,2,19970602,0920, 42.7665, -21.3673, 2436,   1595.7,   4.0143,  34.9518,2,  34.9533,2,    262.9,2,    265.5,2,    11.55,2,    17.71,2,     0.00,2,     1.17,2, -999.000,9, -999.000,9, -999.000,9,-999.0000,9,  -999.00,9,   -999.0,9,   -999.0,9,   -999.0,9,  -999.00,9,25, -999.00,   -999,-999.0000,-999.000,  3.8852,-999.000
     316N151_2,   A24,    13,  1,      4,      4,2,19970602,0920, 42.7665, -21.3673, 2436,   1798.2,   3.6228,  34.9121,2,  34.9098,2,    275.7,2,    274.1,2,    11.55,2,    17.35,2,     0.00,2,     1.15,2, -999.000,9, -999.000,9, -999.000,9,-999.0000,9,  -999.00,9,   -999.0,9,   -999.0,9,   -999.0,9,  -999.00,9,25, -999.00,   -999,-999.0000,-999.000,  3.4800,-999.000
     316N151_2,   A24,    13,  1,      3,      3,2,19970602,0920, 42.7665, -21.3673, 2436,   2020.2,   3.5091,  34.9146,2,  34.9139,2,    274.2,2,    274.5,2,    12.15,2,    17.30,2,     0.00,2,     1.15,2, -999.000,9, -999.000,9, -999.000,9,-999.0000,9,  -999.00,9,   -999.0,9,   -999.0,9,   -999.0,9,  -999.00,9,25, -999.00,   -999,-999.0000,-999.000,  3.3471,-999.000
     316N151_2,   A24,    13,  1,      2,      2,2,19970602,0920, 42.7665, -21.3673, 2436,   2222.3,   3.3737,  34.9381,2,  34.9386,2,    266.4,2,    269.6,2,    15.01,2,    17.50,2,     0.00,2,     1.17,2, -999.000,9, -999.000,9, -999.000,9,-999.0000,9,  -999.00,9,   -999.0,9,   -999.0,9,   -999.0,9,  -999.00,9,25, -999.00,   -999,-999.0000,-999.000,  3.1944,-999.000
     316N151_2,   A24,    13,  1,      1,      1,2,19970602,0920, 42.7665, -21.3673, 2436,   2471.5,   3.3053,  34.9446,2,  34.9439,2,    263.1,2,    265.5,2,    16.94,2,    17.75,2,     0.00,2,     1.19,2, -999.000,9, -999.000,9, -999.000,9,-999.0000,9,  -999.00,9,   -999.0,9,   -999.0,9,   -999.0,9,  -999.00,9,25, -999.00,   -999,-999.0000,-999.000,  3.1026,-999.000