BOTTLE,20220629CCHSIOAMB
EXPOCODE,SECT_ID,STNNBR,CASTNO,SAMPNO,BTLNBR,BTLNBR_FLAG_W,DATE,TIME,LATITUDE,LONGITUDE,DEPTH,CTDPRS,CTDTMP,CTDSAL,CTDSAL_FLAG_W,SALNTY,SALNTY_FLAG_W,CTDOXY,CTDOXY_FLAG_W,OXYGEN,OXYGEN_FLAG_W,SILCAT,SILCAT_FLAG_W,NITRAT,NITRAT_FLAG_W,NITRIT,NITRIT_FLAG_W,PHSPHT,PHSPHT_FLAG_W,CFC-11,CFC-11_FLAG_W,CFC-12,CFC-12_FLAG_W,TRITUM,TRITUM_FLAG_W,HELIUM,HELIUM_FLAG_W,DELHE3,DELHE3_FLAG_W,TCARBN,TCARBN_FLAG_W,PCO2,PCO2_FLAG_W,ALKALI,ALKALI_FLAG_W,PH,PH_FLAG_W,PH_TMP,PCO2TMP,CTDRAW,HELIER,DELHER,THETA,TRITER
,,,,,,,,,,,,DBAR,ITS-90,PSS-78,,PSS-78,,UMOL/KG,,UMOL/KG,,UMOL/KG,,UMOL/KG,,UMOL/KG,,UMOL/KG,,PMOL/KG,,PMOL/KG,,TU,,NMOL/KG,,PERCNT,,UMOL/KG,,UATM,,UMOL/KG,,,,DEG C,DEG C,,NMOL/KG,PERCNT,DEG C,TU
     316N151_2,   A24,    58,  1,     17,     17,2,19970612,0842, 57.7697, -12.7628, 1298,      2.6,  11.1191,  35.4131,2,  35.4143,2,    287.5,2,    277.1,2,     0.79,2,     5.29,2,     0.09,2,     0.36,2,    3.667,2,    1.935,2, -999.000,9,-999.0000,9,  -999.00,9,   2097.7,2,    459.8,2,   2333.4,6,     7.90,6,25,   20.00,   -999,-999.0000,-999.000, 11.1188,-999.000
     316N151_2,   A24,    58,  1,     16,     16,2,19970612,0842, 57.7697, -12.7628, 1298,     34.7,  10.1065,  35.4079,2,  35.4054,2,    276.7,2,    275.4,2,     1.42,2,     7.12,2,     0.18,2,     0.53,2,    3.714,2,    1.956,2, -999.000,9,-999.0000,9,  -999.00,9,   -999.0,9,    505.5,2,   -999.0,9,  -999.00,9,25,   20.00,   -999,-999.0000,-999.000, 10.1024,-999.000
     316N151_2,   A24,    58,  1,     15,     15,2,19970612,0842, 57.7697, -12.7628, 1298,    104.8,   9.6522,  35.3868,2,  35.3857,2,    264.9,2,    266.9,2,     3.19,2,     9.94,2,     0.36,2,     0.68,2,    3.681,3,    1.935,2, -999.000,9,-999.0000,9,  -999.00,9,   -999.0,9,    558.8,2,   -999.0,9,  -999.00,9,25,   20.00,   -999,-999.0000,-999.000,  9.6403,-999.000
     316N151_2,   A24,    58,  1,     14,     14,2,19970612,0842, 57.7697, -12.7628, 1298,    170.4,   9.4240,  35.3660,2,  35.3655,2,    263.7,2,    263.5,2,     5.33,2,    11.91,2,     0.02,2,     0.77,2,    3.637,2,    1.913,2, -999.000,9,-999.0000,9,  -999.00,9,   -999.0,9,    587.8,2,   -999.0,9,  -999.00,9,25,   20.00,   -999,-999.0000,-999.000,  9.4048,-999.000
     316N151_2,   A24,    58,  1,     13,     13,2,19970612,0842, 57.7697, -12.7628, 1298,    296.0,   9.1468,  35.3351,2,  35.3366,2,    263.4,2,    265.4,2,     5.39,2,    12.09,2,     0.03,2,     0.78,2,    3.672,2,    1.927,2, -999.000,9,-999.0000,9,  -999.00,9,   -999.0,9,    593.8,2,   -999.0,9,  -999.00,9,25,   20.00,   -999,-999.0000,-999.000,  9.1140,-999.000
     316N151_2,   A24,    58,  1,     12,     12,2,19970612,0842, 57.7697, -12.7628, 1298,    375.4,   9.0239,  35.3204,2,  35.3202,2,    263.3,2,    262.2,2,     5.93,2,    12.49,2,     0.01,2,     0.80,2,    3.642,2,    1.892,2, -999.000,9,-999.0000,9,  -999.00,9,   -999.0,9,    602.4,2,   -999.0,9,  -999.00,9,25,   20.00,   -999,-999.0000,-999.000,  8.9824,-999.000
     316N151_2,   A24,    58,  1,     11,     11,2,19970612,0842, 57.7697, -12.7628, 1298,    466.0,   8.8851,  35.3032,2,  35.3040,2,    257.9,2,    259.2,2,     6.47,2,    12.96,2,     0.01,2,     0.84,2,    3.598,2,    1.857,2, -999.000,9,-999.0000,9,  -999.00,9,   -999.0,9,    611.4,2,   -999.0,9,  -999.00,9,25,   20.00,   -999,-999.0000,-999.000,  8.8338,-999.000
     316N151_2,   A24,    58,  1,     10,     10,2,19970612,0842, 57.7697, -12.7628, 1298,    523.7,   8.8158,  35.2965,2,  35.2973,2,    260.5,2,    262.7,2,     6.35,2,    12.87,2,     0.01,2,     0.83,2,    3.635,2,    1.895,2, -999.000,9,-999.0000,9,  -999.00,9,   -999.0,9,    610.2,2,   -999.0,9,  -999.00,9,25,   20.00,   -999,-999.0000,-999.000,  8.7583,-999.000
     316N151_2,   A24,    58,  1,      9,      9,2,19970612,0842, 57.7697, -12.7628, 1298,    599.6,   8.6993,  35.2841,2,  35.2843,2,    258.4,2,    258.6,2,     6.79,2,    13.30,2,     0.01,2,     0.86,2,    3.552,2,    1.837,2, -999.000,9,-999.0000,9,  -999.00,9,   -999.0,9,    622.4,2,   -999.0,9,  -999.00,9,25,   20.00,   -999,-999.0000,-999.000,  8.6337,-999.000
     316N151_2,   A24,    58,  1,      8,      8,2,19970612,0842, 57.7697, -12.7628, 1298,    679.4,   8.5546,  35.2691,2,  35.2691,2,    252.9,2,    253.0,2,     7.33,2,    13.86,2,     0.01,2,     0.90,2,    3.466,2,    1.776,2, -999.000,9,-999.0000,9,  -999.00,9,   -999.0,9,    638.4,2,   -999.0,9,  -999.00,9,25,   20.00,   -999,-999.0000,-999.000,  8.4807,-999.000
     316N151_2,   A24,    58,  1,      7,      7,2,19970612,0842, 57.7697, -12.7628, 1298,    760.6,   8.2983,  35.2436,2,  35.2439,2,    251.2,2,    254.0,2,     7.59,2,    14.19,2,     0.01,2,     0.92,2,    3.419,2,    1.766,2, -999.000,9,-999.0000,9,  -999.00,9,   -999.0,9,    643.4,2,   -999.0,9,  -999.00,9,25,   20.00,   -999,-999.0000,-999.000,  8.2166,-999.000
     316N151_2,   A24,    58,  1,      6,      6,2,19970612,0842, 57.7697, -12.7628, 1298,    886.6,   7.7717,  35.2021,2,  35.2031,2,    244.8,2,    248.8,2,     8.41,2,    15.04,2,     0.00,2,     0.98,2,    3.295,2,    1.657,2, -999.000,9,-999.0000,9,  -999.00,9,   -999.0,9,    668.4,2,   -999.0,9,  -999.00,9,25,   20.00,   -999,-999.0000,-999.000,  7.6793,-999.000
     316N151_2,   A24,    58,  1,      5,      5,2,19970612,0842, 57.7697, -12.7628, 1298,    958.9,   7.4286,  35.1871,2,  35.1874,2,    239.9,2,    239.6,2,     9.52,2,    15.97,2,     0.01,2,     1.04,2,    2.969,2,    1.488,2, -999.000,9,-999.0000,9,  -999.00,9,   -999.0,9,    694.8,2,   -999.0,9,  -999.00,9,25,   20.00,   -999,-999.0000,-999.000,  7.3305,-999.000
     316N151_2,   A24,    58,  1,      4,      4,2,19970612,0842, 57.7697, -12.7628, 1298,   1060.8,   6.7474,  35.1511,2,  35.1555,2,    241.6,2,    241.6,2,    10.25,2,    16.25,2,     0.01,2,     1.05,2,    2.824,2,    1.416,2, -999.000,9,-999.0000,9,  -999.00,9,   -999.0,9,    715.5,2,   -999.0,9,  -999.00,9,25,   20.00,   -999,-999.0000,-999.000,  6.6436,-999.000
     316N151_2,   A24,    58,  1,      3,      3,2,19970612,0842, 57.7697, -12.7628, 1298,   1162.4,   6.1026,  35.1156,2,  35.1137,2,    247.9,2,    247.6,2,    10.51,2,    16.30,2,     0.01,2,     1.06,2,    2.764,2,    1.362,2, -999.000,9,-999.0000,9,  -999.00,9,   -999.0,9,    723.8,2,   -999.0,9,  -999.00,9,25,   20.00,   -999,-999.0000,-999.000,  5.9937,-999.000
     316N151_2,   A24,    58,  1,      2,      2,2,19970612,0842, 57.7697, -12.7628, 1298,   1232.7,   5.6938,  35.0880,2,  35.0885,2,    252.6,2,    252.5,2,    10.67,2,    16.31,2,     0.01,2,     1.06,2,    2.685,2,    1.322,2, -999.000,9,-999.0000,9,  -999.00,9,   -999.0,9,    731.6,2,   -999.0,9,  -999.00,9,25,   20.00,   -999,-999.0000,-999.000,  5.5815,-999.000
     316N151_2,   A24,    58,  1,      1,      1,2,19970612,0842, 57.7697, -12.7628, 1298,   1303.1,   5.0517,  35.0521,2,  35.0515,2,    258.2,2,    261.2,2,    11.22,2,    16.17,2,     0.01,2,     1.05,2,    2.592,2,    1.280,2, -999.000,9,-999.0000,9,  -999.00,9,   -999.0,9,    726.9,2,   -999.0,9,  -999.00,9,25,   20.00,   -999,-999.0000,-999.000,  4.9387,-999.000
     316N151_2,   A24,    59,  1,     15,     15,2,19970612,1029, 57.7845, -12.8863,  994,      4.2,  11.1768,  35.4134,2,  35.4141,2,    288.2,2,    276.5,2,     0.91,2,     5.24,2,     0.09,2,     0.36,2, -999.000,9, -999.000,9, -999.000,9,-999.0000,9,  -999.00,9,   2094.2,2,    456.6,2,   2336.5,2,     7.91,6,25,   20.00,   -999,-999.0000,-999.000, 11.1763,-999.000
     316N151_2,   A24,    59,  1,     14,     14,2,19970612,1029, 57.7845, -12.8863,  994,     43.6,  11.0677,  35.4128,2,  35.4105,2,    277.4,2,    276.6,2,     0.99,2,     5.51,2,     0.09,2,     0.38,2, -999.000,9, -999.000,9, -999.000,9,-999.0000,9,  -999.00,9,   2096.4,2,    461.9,2,   2337.2,2,     7.90,2,25,   20.00,   -999,-999.0000,-999.000, 11.0623,-999.000
     316N151_2,   A24,    59,  1,     13,     13,2,19970612,1029, 57.7845, -12.8863,  994,     88.8,   9.6641,  35.3865,2,  35.3867,2,    269.8,2,    268.9,2,     3.15,2,     9.47,2,     0.25,2,     0.67,2, -999.000,9, -999.000,9, -999.000,9,-999.0000,9,  -999.00,9,   2124.3,2,   -999.0,9,   2332.8,2,     7.83,2,25, -999.00,   -999,-999.0000,-999.000,  9.6540,-999.000
     316N151_2,   A24,    59,  1,     12,     12,2,19970612,1029, 57.7845, -12.8863,  994,    154.0,   9.3509,  35.3595,2,  35.3579,2,    266.3,2,    267.9,2,     4.27,2,    11.06,2,     0.21,2,     0.74,2, -999.000,9, -999.000,9, -999.000,9,-999.0000,9,  -999.00,9,   2129.8,2,    577.4,2,   2330.1,2,     7.82,2,25,   20.00,   -999,-999.0000,-999.000,  9.3337,-999.000
     316N151_2,   A24,    59,  1,     11,     11,2,19970612,1029, 57.7845, -12.8863,  994,    204.0,   9.1243,  35.3312,2,  35.3315,2,    267.2,2,    269.0,2,     4.73,2,    11.68,2,     0.15,2,     0.77,2, -999.000,9, -999.000,9, -999.000,9,-999.0000,9,  -999.00,9,   2131.4,2,   -999.0,9,   2326.9,2,     7.81,2,25, -999.00,   -999,-999.0000,-999.000,  9.1018,-999.000
     316N151_2,   A24,    59,  1,     10,     10,2,19970612,1029, 57.7845, -12.8863,  994,    264.0,   8.9368,  35.3046,2,  35.3029,2,    271.1,2,    272.5,2,     4.52,2,    11.65,2,     0.19,2,     0.77,2, -999.000,9, -999.000,9, -999.000,9,-999.0000,9,  -999.00,9,   2130.1,2,   -999.0,9,   2325.8,2,     7.82,2,25, -999.00,   -999,-999.0000,-999.000,  8.9080,-999.000
     316N151_2,   A24,    59,  1,      9,      9,2,19970612,1029, 57.7845, -12.8863,  994,    354.8,   8.8413,  35.2936,2,  35.2940,2,    269.0,2,    269.5,2,     5.55,2,    12.38,2,     0.02,2,     0.80,2, -999.000,9, -999.000,9, -999.000,9,-999.0000,9,  -999.00,9,   2133.3,2,   -999.0,9,   2325.0,2,     7.81,2,25, -999.00,   -999,-999.0000,-999.000,  8.8026,-999.000
     316N151_2,   A24,    59,  1,      8,      8,2,19970612,1029, 57.7845, -12.8863,  994,    414.0,   8.8067,  35.2920,2,  35.2911,2,    268.9,2,    269.5,2,     5.92,2,    12.48,2,     0.01,2,     0.81,2, -999.000,9, -999.000,9, -999.000,9,-999.0000,9,  -999.00,9,   2133.5,2,    598.5,2,   2324.6,2,     7.81,2,25,   20.00,   -999,-999.0000,-999.000,  8.7615,-999.000
     316N151_2,   A24,    59,  1,      7,      7,2,19970612,1029, 57.7845, -12.8863,  994,    503.0,   8.7723,  35.2905,2,  35.2915,2,    268.4,2,    266.8,2,     6.18,2,    12.67,2,     0.01,2,     0.83,2, -999.000,9, -999.000,9, -999.000,9,-999.0000,9,  -999.00,9,   2134.8,2,   -999.0,9,   2325.8,2,     7.80,2,25, -999.00,   -999,-999.0000,-999.000,  8.7173,-999.000
     316N151_2,   A24,    59,  1,      6,      6,2,19970612,1029, 57.7845, -12.8863,  994,    583.9,   8.7158,  35.2825,2,  35.2844,2,    266.5,2,    267.3,2,     6.26,2,    12.71,2,     0.01,2,     0.83,2, -999.000,9, -999.000,9, -999.000,9,-999.0000,9,  -999.00,9,   2134.3,2,   -999.0,9,   2324.1,2,     7.81,2,25, -999.00,   -999,-999.0000,-999.000,  8.6519,-999.000
     316N151_2,   A24,    59,  1,      5,      5,2,19970612,1029, 57.7845, -12.8863,  994,    664.1,   8.6324,  35.2742,2,  35.2747,2,    263.9,2,    266.0,2,     6.53,2,    12.90,2,     0.01,2,     0.84,2, -999.000,9, -999.000,9, -999.000,9,-999.0000,9,  -999.00,9,   2136.3,2,   -999.0,9,   2324.8,2,     7.79,2,25, -999.00,   -999,-999.0000,-999.000,  8.5598,-999.000
     316N151_2,   A24,    59,  1,      4,      4,2,19970612,1029, 57.7845, -12.8863,  994,    743.9,   8.5439,  35.2603,2,  35.2617,2,    267.7,2,    268.9,2,     6.42,2,    12.95,2,     0.01,2,     0.84,2, -999.000,9, -999.000,9, -999.000,9,-999.0000,9,  -999.00,9,   2135.6,2,    606.5,2,   2322.4,2,     7.80,2,25,   20.00,   -999,-999.0000,-999.000,  8.4627,-999.000
     316N151_2,   A24,    59,  1,      3,      3,2,19970612,1029, 57.7845, -12.8863,  994,    825.9,   8.3743,  35.2424,2,  35.2424,2,    256.2,2,    257.1,2,     7.45,2,    13.98,2,     0.01,2,     0.91,2, -999.000,9, -999.000,9, -999.000,9,-999.0000,9,  -999.00,9,   2142.8,2,   -999.0,9,   2322.3,2,     7.78,2,25, -999.00,   -999,-999.0000,-999.000,  8.2848,-999.000
     316N151_2,   A24,    59,  1,      2,      2,2,19970612,1029, 57.7845, -12.8863,  994,    907.8,   8.0898,  35.2253,2,  35.2231,2,    245.1,2,    248.1,2,     8.58,2,    14.97,2,     0.01,2,     0.98,2, -999.000,9, -999.000,9, -999.000,9,-999.0000,9,  -999.00,9,   2149.2,2,    659.8,2,   2322.7,2,     7.77,2,25,   20.00,   -999,-999.0000,-999.000,  7.9929,-999.000
     316N151_2,   A24,    59,  1,      1,      1,2,19970612,1029, 57.7845, -12.8863,  994,    998.8,   7.4123,  35.1904,2,  35.1931,2,    241.1,2,    239.3,2,     9.99,2,    16.14,2,     0.01,2,     1.05,2, -999.000,9, -999.000,9, -999.000,9,-999.0000,9,  -999.00,9,   2156.1,2,   -999.0,9,   2323.9,2,     7.74,2,25, -999.00,   -999,-999.0000,-999.000,  7.3100,-999.000
     316N151_2,   A24,    60,  1,      8,      8,2,19970612,1203, 57.7947, -12.9552,  459,      3.6,  10.9907,  35.4004,2,  35.4009,2,    285.9,2,    277.5,2,     0.81,2,     5.63,2,     0.09,2,     0.39,2,    3.685,2,    1.937,2, -999.000,9,-999.0000,9,  -999.00,9,   2097.6,2,   -999.0,9,   2334.6,6,     7.90,2,25, -999.00,   -999,-999.0000,-999.000, 10.9902,-999.000
     316N151_2,   A24,    60,  1,      7,      7,2,19970612,1203, 57.7947, -12.9552,  459,     34.8,  10.1656,  35.3475,2,  35.3472,2,    286.2,2,    284.4,2,     1.08,2,     6.43,2,     0.14,2,     0.45,2, -999.000,9, -999.000,9, -999.000,9,-999.0000,9,  -999.00,9,   -999.0,9,   -999.0,9,   -999.0,9,  -999.00,9,25, -999.00,   -999,-999.0000,-999.000, 10.1615,-999.000
     316N151_2,   A24,    60,  1,      6,      6,2,19970612,1203, 57.7947, -12.9552,  459,     74.8,   9.2801,  35.3318,2,  35.3340,2,    275.5,2,    273.6,2,     2.58,2,     9.30,2,     0.19,2,     0.69,2,    3.825,2,    2.006,2, -999.000,9,-999.0000,9,  -999.00,9,   -999.0,9,   -999.0,9,   -999.0,9,  -999.00,9,25, -999.00,   -999,-999.0000,-999.000,  9.2718,-999.000
     316N151_2,   A24,    60,  1,      5,      5,2,19970612,1203, 57.7947, -12.9552,  459,    125.2,   9.2813,  35.3538,2,  35.3529,2,    270.4,2,    268.2,2,     4.09,2,    11.19,2,     0.23,2,     0.74,2, -999.000,9, -999.000,9, -999.000,9,-999.0000,9,  -999.00,9,   -999.0,9,   -999.0,9,   -999.0,9,  -999.00,9,25, -999.00,   -999,-999.0000,-999.000,  9.2674,-999.000
     316N151_2,   A24,    60,  1,      4,      4,2,19970612,1203, 57.7947, -12.9552,  459,    185.3,   9.1590,  35.3384,2,  35.3394,2,    271.0,2,    268.3,2,     4.64,2,    11.68,2,     0.08,2,     0.76,2, -999.000,9, -999.000,9, -999.000,9,-999.0000,9,  -999.00,9,   -999.0,9,   -999.0,9,   -999.0,9,  -999.00,9,25, -999.00,   -999,-999.0000,-999.000,  9.1385,-999.000
     316N151_2,   A24,    60,  1,      3,      3,2,19970612,1203, 57.7947, -12.9552,  459,    305.9,   8.8797,  35.3016,2,  35.3011,2,    270.1,2,    269.1,2,     5.39,2,    12.22,2,     0.05,2,     0.80,2,    3.759,2,    1.961,2, -999.000,9,-999.0000,9,  -999.00,9,   -999.0,9,   -999.0,9,   -999.0,9,  -999.00,9,25, -999.00,   -999,-999.0000,-999.000,  8.8464,-999.000
     316N151_2,   A24,    60,  1,      2,      2,2,19970612,1203, 57.7947, -12.9552,  459,    406.0,   8.8644,  35.3009,2,  35.3011,2,    271.5,2,    269.6,2,     5.66,2,    12.33,2,     0.03,2,     0.81,2, -999.000,9, -999.000,9, -999.000,9,-999.0000,9,  -999.00,9,   -999.0,9,   -999.0,9,   -999.0,9,  -999.00,9,25, -999.00,   -999,-999.0000,-999.000,  8.8199,-999.000
     316N151_2,   A24,    60,  1,      1,      1,2,19970612,1203, 57.7947, -12.9552,  459,    457.3,   8.8594,  35.3006,2,  35.3005,2,    271.8,2,    269.2,2,     5.64,2,    12.38,2,     0.03,2,     0.81,2,    3.759,2,    1.966,2, -999.000,9,-999.0000,9,  -999.00,9,   -999.0,9,   -999.0,9,   -999.0,9,  -999.00,9,25, -999.00,   -999,-999.0000,-999.000,  8.8092,-999.000
     316N151_2,   A24,    61,  1,      6,      6,2,19970612,1443, 57.8957, -13.6292,  174,      3.9,  10.3197,  35.2993,2,  35.2981,2,    290.5,2,    287.5,2,     0.68,2,     4.69,2,     0.13,2,     0.34,2, -999.000,9, -999.000,9, -999.000,9,-999.0000,9,  -999.00,9,   2082.5,2,   -999.0,9,   2328.0,2,     7.91,2,25, -999.00,   -999,-999.0000,-999.000, 10.3192,-999.000
     316N151_2,   A24,    61,  1,      5,      5,2,19970612,1443, 57.8957, -13.6292,  174,     24.3,  10.2814,  35.2964,2,  35.2954,2,    288.2,2,    287.7,2,     0.66,2,     4.59,2,     0.13,2,     0.34,2, -999.000,9, -999.000,9, -999.000,9,-999.0000,9,  -999.00,9,   2082.1,2,   -999.0,9,   2326.2,2,     7.91,2,25, -999.00,   -999,-999.0000,-999.000, 10.2785,-999.000
     316N151_2,   A24,    61,  1,      4,      4,2,19970612,1443, 57.8957, -13.6292,  174,     59.9,  10.0106,  35.2753,2,  35.2757,2,    282.9,2,    283.1,2,     0.64,2,     4.59,2,     0.14,2,     0.37,2, -999.000,9, -999.000,9, -999.000,9,-999.0000,9,  -999.00,9,   2086.1,2,   -999.0,9,   2328.4,2,     7.91,2,25, -999.00,   -999,-999.0000,-999.000, 10.0036,-999.000
     316N151_2,   A24,    61,  1,      3,      3,2,19970612,1443, 57.8957, -13.6292,  174,     94.3,   8.7550,  35.2934,2,  35.3117,2,    259.5,2,    257.8,2,     5.56,2,    12.71,2,     0.19,2,     0.83,2, -999.000,9, -999.000,9, -999.000,9,-999.0000,9,  -999.00,9,   2143.8,2,   -999.0,9,   2325.9,2,     7.79,2,25, -999.00,   -999,-999.0000,-999.000,  8.7449,-999.000
     316N151_2,   A24,    61,  1,      2,      2,2,19970612,1443, 57.8957, -13.6292,  174,    124.4,   8.7556,  35.2932,2,  35.2939,2,    256.8,2,    257.5,2,     5.73,2,    12.76,2,     0.19,2,     0.84,2, -999.000,9, -999.000,9, -999.000,9,-999.0000,9,  -999.00,9,   2144.3,2,   -999.0,9,   2325.2,2,     7.77,2,25, -999.00,   -999,-999.0000,-999.000,  8.7423,-999.000
     316N151_2,   A24,    61,  1,      1,      1,2,19970612,1443, 57.8957, -13.6292,  174,    168.1,   8.7588,  35.2929,2,  35.2940,2,    257.6,2,    257.4,2,     5.80,2,    12.82,2,     0.17,2,     0.84,2, -999.000,9, -999.000,9, -999.000,9,-999.0000,9,  -999.00,9,   2144.9,2,   -999.0,9,   2325.7,2,     7.78,2,25, -999.00,   -999,-999.0000,-999.000,  8.7408,-999.000