BOTTLE,20220629CCHSIOAMB
EXPOCODE,SECT_ID,STNNBR,CASTNO,SAMPNO,BTLNBR,BTLNBR_FLAG_W,DATE,TIME,LATITUDE,LONGITUDE,DEPTH,CTDPRS,CTDTMP,CTDSAL,CTDSAL_FLAG_W,SALNTY,SALNTY_FLAG_W,CTDOXY,CTDOXY_FLAG_W,OXYGEN,OXYGEN_FLAG_W,SILCAT,SILCAT_FLAG_W,NITRAT,NITRAT_FLAG_W,NITRIT,NITRIT_FLAG_W,PHSPHT,PHSPHT_FLAG_W,CFC-11,CFC-11_FLAG_W,CFC-12,CFC-12_FLAG_W,TRITUM,TRITUM_FLAG_W,HELIUM,HELIUM_FLAG_W,DELHE3,DELHE3_FLAG_W,TCARBN,TCARBN_FLAG_W,PCO2,PCO2_FLAG_W,ALKALI,ALKALI_FLAG_W,PH,PH_FLAG_W,PH_TMP,PCO2TMP,CTDRAW,HELIER,DELHER,THETA,TRITER
,,,,,,,,,,,,DBAR,ITS-90,PSS-78,,PSS-78,,UMOL/KG,,UMOL/KG,,UMOL/KG,,UMOL/KG,,UMOL/KG,,UMOL/KG,,PMOL/KG,,PMOL/KG,,TU,,NMOL/KG,,PERCNT,,UMOL/KG,,UATM,,UMOL/KG,,,,DEG C,DEG C,,NMOL/KG,PERCNT,DEG C,TU
     316N151_2,   A24,    16,  1,     31,     31,2,19970603,0056, 43.7868, -19.8657, 4476,      2.8,  15.7991,  35.7835,2,  35.7807,2,    233.2,2,    255.3,2,     0.57,2,     0.09,2,     0.01,2,     0.08,2,    2.978,2,    1.584,2, -999.000,9,-999.0000,9,  -999.00,9,   2068.9,2,   -999.0,9,   2352.8,6,     7.97,2,25, -999.00,   -999,-999.0000,-999.000, 15.7987,-999.000
     316N151_2,   A24,    16,  1,     30,     30,2,19970603,0056, 43.7868, -19.8657, 4476,     52.7,  13.2491,  35.7746,2,  35.7746,2,    239.0,2,    245.2,2,     2.28,2,     6.93,2,     0.01,2,     0.43,2,    3.197,2,    1.713,2, -999.000,9,-999.0000,9,  -999.00,9,   2112.7,2,   -999.0,9,   2347.9,2,     7.88,2,25, -999.00,   -999,-999.0000,-999.000, 13.2417,-999.000
     316N151_2,   A24,    16,  1,     29,     29,2,19970603,0056, 43.7868, -19.8657, 4476,     82.7,  12.9889,  35.7566,2,  35.7578,2,    236.3,2,    246.0,2,     2.27,2,     6.83,2,     0.01,2,     0.44,2, -999.000,9, -999.000,9, -999.000,9,-999.0000,9,  -999.00,9,   2113.4,2,   -999.0,9,   2348.3,2,     7.88,2,25, -999.00,   -999,-999.0000,-999.000, 12.9775,-999.000
     316N151_2,   A24,    16,  1,     28,     28,2,19970603,0056, 43.7868, -19.8657, 4476,    158.0,  12.7445,  35.7310,2,  35.7384,2,    237.2,2,    249.4,2,     2.77,2,     7.72,2,     0.01,2,     0.49,2,    3.193,2,    1.713,2, -999.000,9,-999.0000,9,  -999.00,9,   2114.9,2,   -999.0,9,   2359.5,3,     7.88,2,25, -999.00,   -999,-999.0000,-999.000, 12.7229,-999.000
     316N151_2,   A24,    16,  1,     27,     27,2,19970603,0056, 43.7868, -19.8657, 4476,    278.6,  12.3101,  35.6626,2,  35.6602,2,    249.5,2,    240.5,2,     3.57,2,     9.56,2,     0.01,2,     0.59,2,    3.115,2,    1.657,2, -999.000,9,-999.0000,9,  -999.00,9,   2124.3,2,   -999.0,9,   2343.8,2,     7.86,2,25, -999.00,   -999,-999.0000,-999.000, 12.2727,-999.000
     316N151_2,   A24,    16,  1,     26,     26,2,19970603,0056, 43.7868, -19.8657, 4476,    359.0,  11.8441,  35.6037,2,  35.6121,2,    237.2,2,    231.2,2,     3.97,2,    10.75,2,     0.01,2,     0.67,2, -999.000,9, -999.000,9, -999.000,9,-999.0000,9,  -999.00,9,   2131.2,2,   -999.0,9,   2343.6,2,     7.84,2,25, -999.00,   -999,-999.0000,-999.000, 11.7971,-999.000
     316N151_2,   A24,    16,  1,     25,     25,2,19970603,0056, 43.7868, -19.8657, 4476,    519.9,  10.9544,  35.4915,2,  35.4921,2,    227.5,2,    221.3,2,     5.28,2,    13.13,2,     0.00,2,     0.81,2,    2.988,2,    1.522,2, -999.000,9,-999.0000,9,  -999.00,9,   2144.6,2,   -999.0,9,   2330.4,2,     7.79,2,25, -999.00,   -999,-999.0000,-999.000, 10.8891,-999.000
     316N151_2,   A24,    16,  1,     24,     24,2,19970603,0056, 43.7868, -19.8657, 4476,    690.8,  10.1821,  35.4648,2,  35.4641,2,    212.6,2,    203.8,2,     7.39,2,    15.71,2,     0.00,2,     0.97,2,    2.325,2,    1.169,2, -999.000,9,-999.0000,9,  -999.00,9,   2160.3,2,   -999.0,9,   2345.7,3,     7.77,2,25, -999.00,   -999,-999.0000,-999.000, 10.0985,-999.000
     316N151_2,   A24,    16,  1,     23,     23,2,19970603,0056, 43.7868, -19.8657, 4476,    816.2,   9.2521,  35.4145,2,  35.4168,2,    199.0,2,    192.9,2,     9.50,2,    17.60,2,     0.00,2,     1.11,2,    1.809,2,    0.900,2, -999.000,9,-999.0000,9,  -999.00,9,   2172.7,2,   -999.0,9,   2337.7,2,     7.74,2,25, -999.00,   -999,-999.0000,-999.000,  9.1583,-999.000
     316N151_2,   A24,    16,  1,     22,     22,2,19970603,0056, 43.7868, -19.8657, 4476,    891.3,   9.3932,  35.5685,2,  35.5791,2,    190.3,2,    189.9,2,     9.70,2,    17.45,2,     0.00,2,     1.10,2,    1.503,2,    0.747,2, -999.000,9,-999.0000,9,  -999.00,9,   2180.7,2,   -999.0,9,   2351.9,3,     7.74,2,25, -999.00,   -999,-999.0000,-999.000,  9.2892,-999.000
     316N151_2,   A24,    16,  1,     21,     21,2,19970603,0056, 43.7868, -19.8657, 4476,    982.4,   8.5179,  35.4814,2,  35.4810,2,    196.7,2,    196.1,2,    10.50,2,    17.94,2,     0.00,2,     1.14,2,    1.484,2,    0.773,2, -999.000,9,-999.0000,9,  -999.00,9,   2182.0,2,   -999.0,9,   2344.9,2,     7.73,2,25, -999.00,   -999,-999.0000,-999.000,  8.4091,-999.000
     316N151_2,   A24,    16,  1,     20,     20,2,19970603,0056, 43.7868, -19.8657, 4476,   1062.6,   8.1698,  35.5105,2,  35.5130,2,    203.3,2,    201.0,2,    10.70,2,    17.74,2,     0.00,2,     1.13,2,    1.376,2,    0.678,2, -999.000,9,-999.0000,9,  -999.00,9,   2183.6,2,   -999.0,9,   2346.9,2,     7.73,2,25, -999.00,   -999,-999.0000,-999.000,  8.0542,-999.000
     316N151_2,   A24,    16,  1,     19,     19,2,19970603,0056, 43.7868, -19.8657, 4476,   1097.8,   7.9411,  35.5033,2,  35.4986,2,    197.9,2,    205.1,2,    10.80,2,    17.79,2,     0.00,2,     1.13,2,    1.386,2,    0.690,2, -999.000,9,-999.0000,9,  -999.00,9,   2184.4,2,   -999.0,9,   2346.5,2,     7.73,2,25, -999.00,   -999,-999.0000,-999.000,  7.8233,-999.000
     316N151_2,   A24,    16,  1,     18,     18,2,19970603,0056, 43.7868, -19.8657, 4476,   1142.8,   7.2252,  35.3928,2,  35.3828,2,    210.7,2,    213.7,2,    11.10,2,    17.99,2,     0.00,2,     1.15,2,    1.501,2,    0.723,2, -999.000,9,-999.0000,9,  -999.00,9,   2180.1,2,   -999.0,9,   2346.0,2,     7.73,2,25, -999.00,   -999,-999.0000,-999.000,  7.1083,-999.000
     316N151_2,   A24,    16,  1,     17,     17,2,19970603,0056, 43.7868, -19.8657, 4476,   1223.2,   5.8103,  35.1769,2,  35.1732,2,    228.3,2,    231.4,2,    11.40,2,    18.19,2,     0.00,2,     1.18,2, -999.000,9, -999.000,9, -999.000,9,-999.0000,9,  -999.00,9,   2173.7,2,   -999.0,9,   2324.4,2,     7.71,2,25, -999.00,   -999,-999.0000,-999.000,  5.6977,-999.000
     316N151_2,   A24,    16,  1,     16,     16,2,19970603,0056, 43.7868, -19.8657, 4476,   1334.7,   4.6837,  35.0164,2,  35.0164,2,    250.7,2,    249.8,2,    11.40,2,    18.09,2,     0.00,2,     1.18,2,    2.033,2,    0.970,2, -999.000,9,-999.0000,9,  -999.00,9,   2166.5,2,   -999.0,9,   2316.4,2,     7.71,2,25, -999.00,   -999,-999.0000,-999.000,  4.5714,-999.000
     316N151_2,   A24,    16,  1,     15,     15,2,19970603,0056, 43.7868, -19.8657, 4476,   1516.8,   4.1329,  34.9610,2,  34.9609,2,    263.1,2,    262.1,2,    11.19,2,    17.69,2,     0.00,2,     1.17,2,    2.021,2,    0.960,2, -999.000,9,-999.0000,9,  -999.00,9,   2162.3,2,   -999.0,9,   2309.8,2,     7.71,2,25, -999.00,   -999,-999.0000,-999.000,  4.0097,-999.000
     316N151_2,   A24,    16,  1,     14,     14,2,19970603,0056, 43.7868, -19.8657, 4476,   1689.0,   3.7561,  34.9181,2,  34.9235,4,    270.6,2,    271.3,2,    11.19,2,    17.44,2,     0.00,2,     1.15,2,    2.063,2,    0.997,2, -999.000,9,-999.0000,9,  -999.00,9,   2158.2,2,   -999.0,9,   2306.6,2,     7.71,2,25, -999.00,   -999,-999.0000,-999.000,  3.6216,-999.000
     316N151_2,   A24,    16,  1,     13,     13,2,19970603,0056, 43.7868, -19.8657, 4476,   1901.4,   3.5070,  34.8995,2,  34.9001,2,    275.5,2,    276.6,2,    11.29,2,    17.14,2,     0.00,2,     1.14,2,    2.044,2,    0.968,2, -999.000,9,-999.0000,9,  -999.00,9,   2155.5,2,   -999.0,9,   2305.6,2,     7.71,2,25, -999.00,   -999,-999.0000,-999.000,  3.3563,-999.000
     316N151_2,   A24,    16,  1,     12,     12,2,19970603,0056, 43.7868, -19.8657, 4476,   2042.6,   3.4181,  34.9020,2,  34.9037,2,    282.3,2,    277.1,2,    11.69,2,    17.09,2,     0.00,2,     1.14,2,    1.886,2,    0.909,2, -999.000,9,-999.0000,9,  -999.00,9,   2155.3,2,   -999.0,9,   2305.2,2,     7.72,2,25, -999.00,   -999,-999.0000,-999.000,  3.2554,-999.000
     316N151_2,   A24,    16,  1,     11,     11,2,19970603,0056, 43.7868, -19.8657, 4476,   2316.6,   3.3589,  34.9286,2,  34.9286,2,    275.7,2,    277.1,2,    13.40,2,    17.14,2,     0.00,2,     1.15,2,    1.258,2,    0.604,2, -999.000,9,-999.0000,9,  -999.00,9,   2157.0,2,   -999.0,9,   2310.3,2,     7.72,2,25, -999.00,   -999,-999.0000,-999.000,  3.1707,-999.000
     316N151_2,   A24,    16,  1,     10,     10,2,19970603,0056, 43.7868, -19.8657, 4476,   2427.1,   3.3288,  34.9400,2,  34.9428,2,    266.0,2,    268.6,2,    15.01,2,    17.38,2,     0.00,2,     1.16,2,    0.967,2,    0.460,2, -999.000,9,-999.0000,9,  -999.00,9,   2159.2,2,   -999.0,9,   2312.1,2,     7.72,2,25, -999.00,   -999,-999.0000,-999.000,  3.1302,-999.000
     316N151_2,   A24,    16,  1,      9,      9,2,19970603,0056, 43.7868, -19.8657, 4476,   2628.2,   3.1715,  34.9508,2,  34.9518,2,    259.6,2,    263.2,2,    19.05,2,    17.93,2,     0.00,2,     1.20,2,    0.669,2,    0.329,2, -999.000,9,-999.0000,9,  -999.00,9,   2168.0,2,   -999.0,9,   2320.1,2,     7.72,2,25, -999.00,   -999,-999.0000,-999.000,  2.9555,-999.000
     316N151_2,   A24,    16,  1,      8,      8,2,19970603,0056, 43.7868, -19.8657, 4476,   2739.1,   3.0885,  34.9520,2,  34.9522,2,    259.4,2,    260.4,2,    21.57,2,    18.37,2,     0.00,2,     1.23,2,    0.528,2,    0.262,2, -999.000,9,-999.0000,9,  -999.00,9,   2167.7,2,   -999.0,9,   2322.6,2,     7.72,2,25, -999.00,   -999,-999.0000,-999.000,  2.8629,-999.000
     316N151_2,   A24,    16,  1,      7,      7,2,19970603,0056, 43.7868, -19.8657, 4476,   2982.9,   2.9149,  34.9473,2,  34.9475,2,    256.5,2,    255.1,2,    26.62,2,    19.21,2,     0.00,2,     1.29,2,    0.380,2,    0.189,2, -999.000,9,-999.0000,9,  -999.00,9,   2178.3,2,   -999.0,9,   2330.8,2,     7.72,2,25, -999.00,   -999,-999.0000,-999.000,  2.6678,-999.000
     316N151_2,   A24,    16,  1,      6,      6,2,19970603,0056, 43.7868, -19.8657, 4476,   3287.9,   2.7499,  34.9365,2,  34.9367,2,    251.2,2,    250.9,2,    31.68,2,    20.06,2,     0.00,2,     1.35,2, -999.000,9, -999.000,9, -999.000,9,-999.0000,9,  -999.00,9,   2186.0,2,   -999.0,9,   2338.3,2,     7.72,2,25, -999.00,   -999,-999.0000,-999.000,  2.4742,-999.000
     316N151_2,   A24,    16,  1,      5,      5,2,19970603,0056, 43.7868, -19.8657, 4476,   3440.7,   2.6737,  34.9287,2,  34.9288,2,    248.8,2,    247.7,2,    35.02,2,    20.65,2,     0.00,2,     1.39,2,    0.207,2,    0.114,2, -999.000,9,-999.0000,9,  -999.00,9,   2190.9,2,   -999.0,9,   2343.8,2,     7.71,2,25, -999.00,   -999,-999.0000,-999.000,  2.3833,-999.000
     316N151_2,   A24,    16,  1,      4,      4,2,19970603,0056, 43.7868, -19.8657, 4476,   3694.8,   2.6121,  34.9207,2,  34.9207,2,    243.2,2,    244.1,2,    38.57,2,    21.30,2,     0.00,2,     1.44,2,    0.116,2,    0.058,2, -999.000,9,-999.0000,9,  -999.00,9,   2195.8,2,   -999.0,9,   2348.4,2,     7.71,2,25, -999.00,   -999,-999.0000,-999.000,  2.2953,-999.000
     316N151_2,   A24,    16,  1,      3,      3,2,19970603,0056, 43.7868, -19.8657, 4476,   3848.9,   2.5853,  34.9155,2,  34.9162,2,    242.6,2,    242.5,2,    40.29,2,    21.54,2,     0.00,2,     1.47,2, -999.000,9, -999.000,9, -999.000,9,-999.0000,9,  -999.00,9,   2198.4,2,   -999.0,9,   2351.8,2,     7.71,2,25, -999.00,   -999,-999.0000,-999.000,  2.2519,-999.000
     316N151_2,   A24,    16,  1,      2,      2,2,19970603,0056, 43.7868, -19.8657, 4476,   4104.8,   2.5752,  34.9114,2,  34.9126,2,    239.0,2,    241.0,2,    41.61,2,    21.79,2,     0.00,2,     1.49,2,    0.071,2,    0.025,2, -999.000,9,-999.0000,9,  -999.00,9,   2203.3,2,   -999.0,9,   2353.0,2,     7.71,2,25, -999.00,   -999,-999.0000,-999.000,  2.2126,-999.000
     316N151_2,   A24,    16,  1,      1,      1,2,19970603,0056, 43.7868, -19.8657, 4476,   4443.2,   2.5888,  34.9081,2,  34.9128,4,    240.2,2,    239.7,2,    42.92,2,    22.03,2,     0.00,2,     1.50,2,    0.056,2,    0.034,2, -999.000,9,-999.0000,9,  -999.00,9,   2202.9,2,   -999.0,9,   2356.4,2,     7.71,2,25, -999.00,   -999,-999.0000,-999.000,  2.1856,-999.000