BOTTLE,20220629CCHSIOAMB
EXPOCODE,SECT_ID,STNNBR,CASTNO,SAMPNO,BTLNBR,BTLNBR_FLAG_W,DATE,TIME,LATITUDE,LONGITUDE,DEPTH,CTDPRS,CTDTMP,CTDSAL,CTDSAL_FLAG_W,SALNTY,SALNTY_FLAG_W,CTDOXY,CTDOXY_FLAG_W,OXYGEN,OXYGEN_FLAG_W,SILCAT,SILCAT_FLAG_W,NITRAT,NITRAT_FLAG_W,NITRIT,NITRIT_FLAG_W,PHSPHT,PHSPHT_FLAG_W,CFC-11,CFC-11_FLAG_W,CFC-12,CFC-12_FLAG_W,TRITUM,TRITUM_FLAG_W,HELIUM,HELIUM_FLAG_W,DELHE3,DELHE3_FLAG_W,TCARBN,TCARBN_FLAG_W,PCO2,PCO2_FLAG_W,ALKALI,ALKALI_FLAG_W,PH,PH_FLAG_W,PH_TMP,PCO2TMP,CTDRAW,HELIER,DELHER,THETA,TRITER
,,,,,,,,,,,,DBAR,ITS-90,PSS-78,,PSS-78,,UMOL/KG,,UMOL/KG,,UMOL/KG,,UMOL/KG,,UMOL/KG,,UMOL/KG,,PMOL/KG,,PMOL/KG,,TU,,NMOL/KG,,PERCNT,,UMOL/KG,,UATM,,UMOL/KG,,,,DEG C,DEG C,,NMOL/KG,PERCNT,DEG C,TU
     316N151_2,   A24,    98,  1,      8,      8,2,19970618,2356, 59.7158, -42.8668,  193,      4.2,   2.0537,  33.9359,2,  33.9406,2,    350.8,2,    347.1,2,     3.04,2,     5.84,2,     0.08,2,     0.49,2,    5.714,2,    2.855,2,    2.407,2,   1.8985,2,    -1.40,2,   2075.0,2,    564.6,2,   2267.7,6,     7.82,6,25,   20.00,   -999,  0.0000,   0.170,  2.0535,   0.032
     316N151_2,   A24,    98,  1,      7,      7,2,19970618,2356, 59.7158, -42.8668,  193,     27.3,   3.1364,  34.1976,2,  34.2077,2,    344.8,2,    344.1,2,     2.24,2,     5.83,2,     0.09,2,     0.48,2,    5.383,2,    2.748,2,    2.086,2,   1.9042,2,    -1.43,2,   2077.4,2,    536.1,2,   2277.0,2,     7.84,2,25,   20.00,   -999,  0.0000,   0.170,  3.1347,   0.030
     316N151_2,   A24,    98,  1,      6,      6,2,19970618,2356, 59.7158, -42.8668,  193,     52.1,   3.2948,  34.2567,2,  34.2547,2,    340.5,2,    342.3,2,     2.21,2,     5.88,2,     0.09,2,     0.48,2, -999.000,9, -999.000,9,    2.147,2,   1.8723,2,    -1.45,2,   2079.8,2,    533.4,2,   2280.0,2,     7.84,2,25,   20.00,   -999,  0.0000,   0.170,  3.2915,   0.029
     316N151_2,   A24,    98,  1,      5,      5,2,19970618,2356, 59.7158, -42.8668,  193,     76.6,   3.5436,  34.3638,2,  34.3642,2,    334.7,2,    334.9,2,     2.68,2,     6.94,2,     0.11,2,     0.54,2, -999.000,9, -999.000,9, -999.000,9,-999.0000,9,  -999.00,9,   2089.8,2,    554.8,2,   2284.9,2,     7.83,2,25,   20.00,   -999,-999.0000,-999.000,  3.5386,-999.000
     316N151_2,   A24,    98,  1,      4,      4,2,19970618,2356, 59.7158, -42.8668,  193,    102.2,   3.6791,  34.4198,2,  34.4192,2,    329.5,2,    331.6,2,     2.85,2,     7.40,2,     0.11,2,     0.58,2,    5.186,2,    2.631,2,    1.996,2,   1.8694,2,    -1.39,2,   2093.8,2,    562.1,2,   2288.5,2,     7.82,2,25,   20.00,   -999,  0.0000,   0.170,  3.6723,   0.028
     316N151_2,   A24,    98,  1,      3,      3,2,19970618,2356, 59.7158, -42.8668,  193,    120.4,   3.3868,  34.4097,2,  34.4108,2,    325.6,2,    327.3,2,     3.90,2,     8.52,2,     0.12,2,     0.66,2,    5.183,2,    2.617,2, -999.000,9,-999.0000,9,  -999.00,9,   2102.6,2,    595.2,2,   2285.2,2,     7.80,2,25,   20.00,   -999,-999.0000,-999.000,  3.3791,-999.000
     316N151_2,   A24,    98,  1,      2,      2,2,19970618,2356, 59.7158, -42.8668,  193,    149.3,   3.5119,  34.4677,2,  34.4659,2,    321.8,2,    322.0,2,     4.76,2,     9.54,2,     0.12,2,     0.72,2,    4.792,2,    2.536,2,    1.869,2,   1.8705,2,    -1.15,2,   2110.5,2,    615.8,2,   2287.0,2,     7.78,2,25,   20.00,   -999,  0.0000,   0.170,  3.5022,   0.027
     316N151_2,   A24,    98,  1,      1,      1,2,19970618,2356, 59.7158, -42.8668,  193,    190.9,   3.4928,  34.5396,2,  34.5380,2,    307.4,2,    309.3,2,     6.79,2,    11.69,2,     0.13,2,     0.85,2,    4.944,2,    2.517,2,    1.880,2,-999.0000,5,  -999.00,5,   2124.6,2,    673.7,2,   2289.8,2,     7.75,2,25,   20.00,   -999,-999.0000,-999.000,  3.4803,   0.025
     316N151_2,   A24,    99,  1,     10,     10,2,19970619,0133, 59.6217, -42.7633, 1110,      4.9,   4.4817,  34.5839,2,  34.5810,2,    331.5,2,    325.2,2,     3.11,2,     8.38,2,     0.13,2,     0.60,2,    4.850,2,    2.508,2, -999.000,9,-999.0000,9,  -999.00,9,   2098.6,2,    566.0,2,   2294.3,6,     7.82,2,25,   20.00,   -999,-999.0000,-999.000,  4.4814,-999.000
     316N151_2,   A24,    99,  1,      9,      9,2,19970619,0133, 59.6217, -42.7633, 1110,     64.6,   4.3921,  34.5788,2,  34.5765,2,    325.7,2,    325.3,2,     3.18,2,     8.38,2,     0.12,2,     0.62,2,    4.935,2,    2.530,2,    1.761,2,   1.8580,2,    -1.47,2,   2100.8,2,    571.1,2,   2298.3,2,     7.82,2,25,   20.00,   -999,  0.0000,   0.170,  4.3875,   0.031
     316N151_2,   A24,    99,  1,      8,      8,2,19970619,0133, 59.6217, -42.7633, 1110,     94.8,   3.7403,  34.5490,2,  34.5502,2,    317.2,2,    315.0,2,     5.51,2,    10.53,2,     0.13,2,     0.77,2,    4.947,2,    2.526,2,    0.095,4,   1.8885,2,    -1.19,2,   2117.5,2,    637.6,2,   2290.5,2,     7.77,2,25,   20.00,   -999,  0.0000,   0.170,  3.7339,   0.004
     316N151_2,   A24,    99,  1,      7,      7,2,19970619,0133, 59.6217, -42.7633, 1110,    155.0,   4.3707,  34.7301,2,  34.7296,2,    304.3,2,    304.0,2,     6.95,2,    12.32,2,     0.16,2,     0.87,2,    4.653,2,    2.397,2, -999.000,5,   1.8564,2,    -2.39,2,   2131.0,2,    665.5,2,   2299.2,2,     7.76,2,25,   20.00,   -999,  0.0000,   0.170,  4.3595,-999.000
     316N151_2,   A24,    99,  1,      6,      6,2,19970619,0133, 59.6217, -42.7633, 1110,    205.9,   4.7575,  34.8034,2,  34.8057,2,    302.5,2,    300.2,2,     6.64,2,    12.49,2,     0.18,2,     0.87,2,    4.562,2,    2.352,2, -999.000,9,-999.0000,9,  -999.00,9,   2133.6,2,    661.3,2,   2301.1,2,     7.77,2,25,   20.00,   -999,-999.0000,-999.000,  4.7418,-999.000
     316N151_2,   A24,    99,  1,      5,      5,2,19970619,0133, 59.6217, -42.7633, 1110,    265.6,   4.6245,  34.8047,2,  34.8049,2,    299.4,2,    297.3,2,     7.30,2,    13.13,2,     0.19,2,     0.91,2, -999.000,9, -999.000,9, -999.000,5,   1.8664,2,    -1.16,2,   2134.8,2,    677.6,2,   2302.8,2,     7.75,2,25,   20.00,   -999,  0.0000,   0.170,  4.6044,-999.000
     316N151_2,   A24,    99,  1,      4,      4,2,19970619,0133, 59.6217, -42.7633, 1110,    356.9,   4.7449,  34.8398,2,  34.8409,2,    295.4,2,    295.1,2,     7.67,2,    13.57,2,     0.18,2,     0.93,2,    4.522,2,    2.303,2, -999.000,5,   1.8427,2,    -0.72,2,   2138.0,2,    683.1,2,   2303.4,2,     7.75,2,25,   20.00,   -999,  0.0000,   0.170,  4.7173,-999.000
     316N151_2,   A24,    99,  1,      3,      3,2,19970619,0133, 59.6217, -42.7633, 1110,    417.2,   4.9468,  34.8780,2,  34.8793,2,    293.4,2,    292.7,2,     7.84,2,    13.97,2,     0.16,2,     0.95,2,    4.430,2,    2.291,2, -999.000,9,-999.0000,9,  -999.00,9,   2139.6,2,    683.6,2,   2304.8,2,     7.75,2,25,   20.00,   -999,-999.0000,-999.000,  4.9137,-999.000
     316N151_2,   A24,    99,  1,      2,      2,2,19970619,0133, 59.6217, -42.7633, 1110,    487.2,   4.9768,  34.8852,2,  34.8856,2,    291.8,2,    294.0,2,     7.82,2,    14.07,2,     0.16,2,     0.96,2,    4.426,2,    2.265,2,    1.676,2,   1.8590,2,    -1.33,2,   2140.0,2,    686.0,2,   2309.5,2,     7.76,2,25,   20.00,   -999,  0.0000,   0.170,  4.9379,   0.028
     316N151_2,   A24,    99,  1,      1,      1,2,19970619,0133, 59.6217, -42.7633, 1110,    542.3,   4.9718,  34.8954,2,  34.8944,2,    291.5,2,    291.9,2,     8.09,2,    14.34,2,     0.13,2,     0.96,2,    4.357,2,    2.242,2,    0.583,4,   1.8609,2,    -0.46,2,   2139.4,2,    689.0,2,   2306.2,2,     7.75,2,25,   20.00,   -999,  0.0000,   0.170,  4.9282,   0.009
     316N151_2,   A24,   100,  1,     16,     16,2,19970619,0325, 59.5618, -42.7140, 1117,      5.1,   5.6915,  34.8680,2,  34.8672,2,    312.7,2,    308.9,2,     3.64,2,    10.32,2,     0.16,2,     0.72,2,    4.574,2,    2.363,2, -999.000,9,-999.0000,9,  -999.00,9,   2117.4,2,   -999.0,9,   2309.0,6,     7.81,6,25, -999.00,   -999,-999.0000,-999.000,  5.6911,-999.000
     316N151_2,   A24,   100,  1,     15,     15,2,19970619,0325, 59.5618, -42.7140, 1117,     35.2,   5.6448,  34.8745,2,  34.8739,2,    306.6,2,    306.6,2,     4.02,2,    10.60,2,     0.16,2,     0.75,2, -999.000,9, -999.000,9, -999.000,9,-999.0000,9,  -999.00,9,   -999.0,9,   -999.0,9,   -999.0,9,  -999.00,9,25, -999.00,   -999,-999.0000,-999.000,  5.6420,-999.000
     316N151_2,   A24,   100,  1,     14,     14,2,19970619,0325, 59.5618, -42.7140, 1117,     84.8,   5.3896,  34.8686,2,  34.8677,2,    305.0,2,    303.5,2,     5.19,2,    11.67,2,     0.18,2,     0.82,2,    4.588,2,    2.361,2, -999.000,9,-999.0000,9,  -999.00,9,   -999.0,9,   -999.0,9,   -999.0,9,  -999.00,9,25, -999.00,   -999,-999.0000,-999.000,  5.3828,-999.000
     316N151_2,   A24,   100,  1,     13,     13,2,19970619,0325, 59.5618, -42.7140, 1117,    134.8,   5.4221,  34.9025,2,  34.8995,2,    297.1,2,    298.6,2,     6.16,2,    12.59,2,     0.20,2,     0.88,2,    4.497,2,    2.322,2, -999.000,9,-999.0000,9,  -999.00,9,   -999.0,9,   -999.0,9,   -999.0,9,  -999.00,9,25, -999.00,   -999,-999.0000,-999.000,  5.4112,-999.000
     316N151_2,   A24,   100,  1,     12,     12,2,19970619,0325, 59.5618, -42.7140, 1117,    183.6,   5.2604,  34.8945,2,  34.8945,2,    294.7,2,    295.2,2,     6.84,2,    13.15,2,     0.21,2,     0.90,2,    4.495,2,    2.323,2, -999.000,9,-999.0000,9,  -999.00,9,   -999.0,9,   -999.0,9,   -999.0,9,  -999.00,9,25, -999.00,   -999,-999.0000,-999.000,  5.2457,-999.000
     316N151_2,   A24,   100,  1,     11,     11,2,19970619,0325, 59.5618, -42.7140, 1117,    236.1,   5.2335,  34.9039,2,  34.9047,2,    293.9,2,    293.2,2,     7.42,2,    13.77,2,     0.19,2,     0.93,2,    4.485,2,    2.297,2, -999.000,9,-999.0000,9,  -999.00,9,   -999.0,9,   -999.0,9,   -999.0,9,  -999.00,9,25, -999.00,   -999,-999.0000,-999.000,  5.2146,-999.000
     316N151_2,   A24,   100,  1,     10,     10,2,19970619,0325, 59.5618, -42.7140, 1117,    324.8,   5.1962,  34.9460,2,  34.9464,2,    289.5,2,    287.9,2,     8.40,2,    14.76,2,     0.05,2,     0.98,2,    4.261,2,    2.190,2, -999.000,9,-999.0000,9,  -999.00,9,   -999.0,9,   -999.0,9,   -999.0,9,  -999.00,9,25, -999.00,   -999,-999.0000,-999.000,  5.1700,-999.000
     316N151_2,   A24,   100,  1,      9,      9,2,19970619,0325, 59.5618, -42.7140, 1117,    424.2,   5.1746,  34.9464,2,  34.9476,2,    287.7,2,    287.2,2,     8.38,2,    14.82,2,     0.04,2,     0.98,2,    4.244,2,    2.179,2, -999.000,9,-999.0000,9,  -999.00,9,   -999.0,9,   -999.0,9,   -999.0,9,  -999.00,9,25, -999.00,   -999,-999.0000,-999.000,  5.1402,-999.000
     316N151_2,   A24,   100,  1,      8,      8,2,19970619,0325, 59.5618, -42.7140, 1117,    534.1,   4.9433,  34.9237,2,  34.9243,2,    288.1,2,    287.6,2,     8.47,2,    14.87,2,     0.03,2,     0.98,2, -999.000,9, -999.000,9, -999.000,9,-999.0000,9,  -999.00,9,   -999.0,9,   -999.0,9,   -999.0,9,  -999.00,9,25, -999.00,   -999,-999.0000,-999.000,  4.9004,-999.000
     316N151_2,   A24,   100,  1,      7,      7,2,19970619,0325, 59.5618, -42.7140, 1117,    651.4,   4.8915,  34.9264,2,  34.9264,2,    287.4,2,    287.7,2,     8.56,2,    15.02,2,     0.02,2,     0.99,2,    4.177,2,    2.146,2, -999.000,9,-999.0000,9,  -999.00,9,   -999.0,9,   -999.0,9,   -999.0,9,  -999.00,9,25, -999.00,   -999,-999.0000,-999.000,  4.8389,-999.000
     316N151_2,   A24,   100,  1,      6,      6,2,19970619,0325, 59.5618, -42.7140, 1117,    760.5,   4.7922,  34.9289,2,  34.9318,2,    284.7,2,    285.7,2,     8.74,2,    15.27,2,     0.01,2,     1.01,2, -999.000,9, -999.000,9, -999.000,9,-999.0000,9,  -999.00,9,   -999.0,9,   -999.0,9,   -999.0,9,  -999.00,9,25, -999.00,   -999,-999.0000,-999.000,  4.7308,-999.000
     316N151_2,   A24,   100,  1,      5,      5,2,19970619,0325, 59.5618, -42.7140, 1117,    870.1,   4.6285,  34.9264,2,  34.9263,2,    283.9,2,    284.2,2,     9.12,2,    15.70,2,     0.00,2,     1.04,2,    4.029,2,    2.062,2, -999.000,9,-999.0000,9,  -999.00,9,   -999.0,9,   -999.0,9,   -999.0,9,  -999.00,9,25, -999.00,   -999,-999.0000,-999.000,  4.5587,-999.000
     316N151_2,   A24,   100,  1,      4,      4,2,19970619,0325, 59.5618, -42.7140, 1117,    951.6,   4.4454,  34.9173,2,  34.9180,2,    283.7,2,    283.2,2,     9.31,2,    16.03,2,     0.00,2,     1.05,2,    4.004,2,    2.022,2, -999.000,9,-999.0000,9,  -999.00,9,   -999.0,9,   -999.0,9,   -999.0,9,  -999.00,9,25, -999.00,   -999,-999.0000,-999.000,  4.3699,-999.000
     316N151_2,   A24,   100,  1,      3,      3,2,19970619,0325, 59.5618, -42.7140, 1117,   1042.1,   3.8613,  34.9184,2,  34.9015,2,    286.2,2,    283.4,2,     9.79,2,    16.27,2,     0.00,2,     1.06,2,    3.807,2,    1.900,2, -999.000,9,-999.0000,9,  -999.00,9,   -999.0,9,   -999.0,9,   -999.0,9,  -999.00,9,25, -999.00,   -999,-999.0000,-999.000,  3.7826,-999.000
     316N151_2,   A24,   100,  1,      2,      2,2,19970619,0325, 59.5618, -42.7140, 1117,   1104.6,   3.5809,  34.8871,2,  34.8911,2,    286.2,2,    285.6,2,    10.08,2,    16.35,2,     0.01,2,     1.07,2, -999.000,9, -999.000,9, -999.000,9,-999.0000,9,  -999.00,9,   -999.0,9,   -999.0,9,   -999.0,9,  -999.00,9,25, -999.00,   -999,-999.0000,-999.000,  3.4993,-999.000
     316N151_2,   A24,   100,  1,      1,      1,2,19970619,0325, 59.5618, -42.7140, 1117,   1150.1,   3.4539,  34.8916,2,  34.8861,2,    287.0,2,    286.9,2,    10.16,2,    16.30,2,     0.01,2,     1.07,2,    3.669,2,    1.803,2, -999.000,9,-999.0000,9,  -999.00,9,   -999.0,9,   -999.0,9,   -999.0,9,  -999.00,9,25, -999.00,   -999,-999.0000,-999.000,  3.3697,-999.000
     316N151_2,   A24,   101,  1,     17,     17,2,19970619,0601, 59.4670, -42.6142, 1809,      4.2,   6.4458,  34.9075,2,  34.9128,2,    311.1,2,    314.7,2,     1.57,2,     8.34,2,     0.14,2,     0.59,2,    4.513,2,    2.346,2, -999.000,5,   1.8844,2,    -1.70,2,   2101.3,2,   -999.0,9,   2312.3,6,     7.84,2,25, -999.00,   -999,  0.0000,   0.200,  6.4454,-999.000
     316N151_2,   A24,   101,  1,     16,     16,2,19970619,0601, 59.4670, -42.6142, 1809,     33.4,   6.4257,  34.9152,2,  34.9128,2,    312.4,2,    317.5,2,     1.57,2,     8.38,2,     0.14,2,     0.61,2, -999.000,9, -999.000,9, -999.000,9,-999.0000,9,  -999.00,9,   2102.4,2,   -999.0,9,   2310.2,2,     7.85,2,25, -999.00,   -999,-999.0000,-999.000,  6.4227,-999.000
     316N151_2,   A24,   101,  1,     15,     15,2,19970619,0601, 59.4670, -42.6142, 1809,     64.6,   5.2249,  34.8515,2,  34.8434,2,    312.7,2,    306.2,2,     4.43,2,    11.38,2,     0.18,2,     0.81,2, -999.000,9, -999.000,9, -999.000,9,-999.0000,9,  -999.00,9,   2126.4,2,   -999.0,9,   2305.0,2,     7.78,2,25, -999.00,   -999,-999.0000,-999.000,  5.2198,-999.000
     316N151_2,   A24,   101,  1,     14,     14,2,19970619,0601, 59.4670, -42.6142, 1809,     95.4,   5.7290,  34.9736,2,  34.9805,2,    293.5,2,    295.1,2,     6.49,2,    13.47,2,     0.23,2,     0.92,2, -999.000,9, -999.000,9, -999.000,9,-999.0000,9,  -999.00,9,   2140.2,2,   -999.0,9,   2307.7,2,     7.76,2,25, -999.00,   -999,-999.0000,-999.000,  5.7211,-999.000
     316N151_2,   A24,   101,  1,     13,     13,2,19970619,0601, 59.4670, -42.6142, 1809,    194.6,   5.6652,  35.0051,2,  35.0049,2,    288.1,2,    286.7,2,     7.96,2,    14.76,2,     0.06,2,     0.98,2, -999.000,9, -999.000,9,    1.471,2,   1.8511,2,    -0.56,2,   2144.5,2,   -999.0,9,   2313.4,2,     7.75,2,25, -999.00,   -999,  0.0000,   0.200,  5.6490,   0.021
     316N151_2,   A24,   101,  1,     12,     12,2,19970619,0601, 59.4670, -42.6142, 1809,    304.9,   5.0854,  34.9570,2,  34.9595,2,    285.8,2,    283.9,2,     8.46,2,    15.22,2,     0.01,2,     1.00,2,    4.127,2,    2.134,2,   -0.022,4,   1.8564,2,     0.02,2,   2147.5,2,   -999.0,9,   2308.4,2,     7.75,2,25, -999.00,   -999,  0.0000,   0.200,  5.0611,   0.003
     316N151_2,   A24,   101,  1,     11,     11,2,19970619,0601, 59.4670, -42.6142, 1809,    454.7,   4.5604,  34.9211,2,  34.9229,2,    284.5,2,    286.5,2,     8.85,2,    15.41,2,     0.01,2,     1.02,2, -999.000,9, -999.000,9, -999.000,5,   1.8769,2,     1.06,2,   2148.2,2,   -999.0,9,   2308.5,2,     7.73,2,25, -999.00,   -999,  0.0000,   0.200,  4.5256,-999.000
     316N151_2,   A24,   101,  1,     10,     10,2,19970619,0601, 59.4670, -42.6142, 1809,    606.0,   4.2564,  34.9121,2,  34.9101,2,    282.5,2,    283.2,2,     9.34,2,    15.98,2,     0.00,2,     1.06,2,    3.872,2,    1.961,2, -999.000,9,-999.0000,9,  -999.00,9,   2152.5,2,   -999.0,9,   2305.1,2,     7.72,2,25, -999.00,   -999,-999.0000,-999.000,  4.2107,-999.000
     316N151_2,   A24,   101,  1,      9,      9,2,19970619,0601, 59.4670, -42.6142, 1809,    755.1,   4.0307,  34.9018,2,  34.9029,2,    282.8,2,    285.5,2,     9.64,2,    16.17,2,     0.00,2,     1.07,2, -999.000,9, -999.000,9,    1.425,2,   0.0176,4,   444.27,4,   2153.0,2,   -999.0,9,   2307.7,2,     7.72,2,25, -999.00,   -999,  0.0000,   0.460,  3.9743,   0.020
     316N151_2,   A24,   101,  1,      8,      8,2,19970619,0601, 59.4670, -42.6142, 1809,    897.9,   3.8030,  34.8987,2,  34.8976,2,    282.4,2,    281.3,2,     9.84,2,    16.21,2,     0.00,2,     1.07,2,    3.657,2,    1.810,2, -999.000,9,-999.0000,9,  -999.00,9,   2153.0,2,   -999.0,9,   2305.5,2,     7.72,2,25, -999.00,   -999,-999.0000,-999.000,  3.7365,-999.000
     316N151_2,   A24,   101,  1,      7,      7,2,19970619,0601, 59.4670, -42.6142, 1809,   1076.8,   3.5383,  34.8924,2,  34.8921,2,    286.1,2,    284.0,2,    10.13,2,    16.26,2,     0.00,2,     1.07,2, -999.000,9, -999.000,9, -999.000,9,-999.0000,9,  -999.00,9,   2154.7,2,   -999.0,9,   2302.0,2,     7.71,2,25, -999.00,   -999,-999.0000,-999.000,  3.4593,-999.000
     316N151_2,   A24,   101,  1,      6,      6,2,19970619,0601, 59.4670, -42.6142, 1809,   1187.8,   3.3919,  34.8871,2,  34.8848,2,    287.0,2,    285.5,2,    10.13,2,    16.21,2,     0.00,2,     1.08,2,    3.611,2,    1.766,2,    1.370,2,   1.8599,2,     3.88,2,   2154.2,2,   -999.0,9,   2306.4,2,     7.72,2,25, -999.00,   -999,  0.0000,   0.200,  3.3052,   0.020
     316N151_2,   A24,   101,  1,      5,      5,2,19970619,0601, 59.4670, -42.6142, 1809,   1388.9,   3.1085,  34.8715,2,  34.8720,2,    290.8,2,    290.5,2,    10.13,2,    16.02,2,     0.00,2,     1.07,2, -999.000,9, -999.000,9,    1.328,2,   1.8612,2,     3.59,2,   2153.8,2,   -999.0,9,   2310.8,2,     7.72,2,25, -999.00,   -999,  0.0000,   0.170,  3.0080,   0.020
     316N151_2,   A24,   101,  1,      4,      4,2,19970619,0601, 59.4670, -42.6142, 1809,   1519.7,   2.9999,  34.8703,2,  34.8689,2,    290.9,2,    291.6,2,    10.13,2,    15.88,2,     0.00,2,     1.06,2,    3.648,2,    1.781,2, -999.000,9,-999.0000,9,  -999.00,9,   2153.0,2,   -999.0,9,   2305.8,2,     7.72,2,25, -999.00,   -999,-999.0000,-999.000,  2.8897,-999.000
     316N151_2,   A24,   101,  1,      3,      3,2,19970619,0601, 59.4670, -42.6142, 1809,   1620.8,   2.9394,  34.8710,2,  34.8691,2,    292.3,2,    291.6,2,    10.13,2,    15.79,2,     0.00,2,     1.05,2, -999.000,9, -999.000,9,    1.404,2,   0.0111,4,   377.77,4,   2151.5,2,   -999.0,9,   2306.0,2,     7.72,2,25, -999.00,   -999,  0.0000,   0.570,  2.8214,   0.019
     316N151_2,   A24,   101,  1,      2,      2,2,19970619,0601, 59.4670, -42.6142, 1809,   1711.5,   2.8527,  34.8707,2,  34.8707,2,    290.5,2,    292.3,2,    10.13,2,    15.64,2,     0.00,2,     1.05,2,    3.521,2,    1.717,2, -999.000,9,-999.0000,9,  -999.00,9,   2152.5,2,   -999.0,9,   2303.6,2,     7.72,2,25, -999.00,   -999,-999.0000,-999.000,  2.7279,-999.000
     316N151_2,   A24,   101,  1,      1,      1,2,19970619,0601, 59.4670, -42.6142, 1809,   1788.6,   2.8312,  34.8720,2,  34.8717,2,    292.4,2,    292.0,2,    10.04,2,    15.60,2,     0.00,2,     1.05,2,    3.512,2,    1.719,2,    1.295,2,   1.8968,2,     3.40,2,   2152.1,2,   -999.0,9,   2304.1,2,     7.72,2,25, -999.00,   -999,  0.0000,   0.170,  2.7000,   0.018