BOTTLE,20220629CCHSIOAMB
EXPOCODE,SECT_ID,STNNBR,CASTNO,SAMPNO,BTLNBR,BTLNBR_FLAG_W,DATE,TIME,LATITUDE,LONGITUDE,DEPTH,CTDPRS,CTDTMP,CTDSAL,CTDSAL_FLAG_W,SALNTY,SALNTY_FLAG_W,CTDOXY,CTDOXY_FLAG_W,OXYGEN,OXYGEN_FLAG_W,SILCAT,SILCAT_FLAG_W,NITRAT,NITRAT_FLAG_W,NITRIT,NITRIT_FLAG_W,PHSPHT,PHSPHT_FLAG_W,CFC-11,CFC-11_FLAG_W,CFC-12,CFC-12_FLAG_W,TRITUM,TRITUM_FLAG_W,HELIUM,HELIUM_FLAG_W,DELHE3,DELHE3_FLAG_W,TCARBN,TCARBN_FLAG_W,PCO2,PCO2_FLAG_W,ALKALI,ALKALI_FLAG_W,PH,PH_FLAG_W,PH_TMP,PCO2TMP,CTDRAW,HELIER,DELHER,THETA,TRITER
,,,,,,,,,,,,DBAR,ITS-90,PSS-78,,PSS-78,,UMOL/KG,,UMOL/KG,,UMOL/KG,,UMOL/KG,,UMOL/KG,,UMOL/KG,,PMOL/KG,,PMOL/KG,,TU,,NMOL/KG,,PERCNT,,UMOL/KG,,UATM,,UMOL/KG,,,,DEG C,DEG C,,NMOL/KG,PERCNT,DEG C,TU
     316N151_2,   A24,   132,  1,     27,     27,2,19970625,1256, 46.5505, -31.0328, 3531,      3.5,  16.0702,  35.5097,2,  35.5101,2,    263.5,2,    262.4,2,     0.14,2,     2.00,2,     0.05,2,     0.15,2, -999.000,9, -999.000,9, -999.000,9,-999.0000,9,  -999.00,9,   2064.0,2,   -999.0,9,   2341.5,6,     7.97,6,25, -999.00,   -999,-999.0000,-999.000, 16.0696,-999.000
     316N151_2,   A24,   132,  1,     26,     26,2,19970625,1256, 46.5505, -31.0328, 3531,     29.8,  14.4108,  35.5393,2,  35.5367,2,    271.6,2,    270.6,2,     1.15,2,     2.85,2,     0.09,2,     0.19,2, -999.000,9, -999.000,9, -999.000,9,-999.0000,9,  -999.00,9,   -999.0,9,   -999.0,9,   -999.0,9,  -999.00,9,25, -999.00,   -999,-999.0000,-999.000, 14.4064,-999.000
     316N151_2,   A24,   132,  1,     25,     25,2,19970625,1256, 46.5505, -31.0328, 3531,     54.9,  13.1914,  35.5349,2,  35.5403,2,    267.8,2,    262.0,2,     2.05,2,     4.69,2,     0.20,2,     0.32,2, -999.000,9, -999.000,9, -999.000,9,-999.0000,9,  -999.00,9,   -999.0,9,    436.0,2,   -999.0,9,  -999.00,9,25,   20.00,   -999,-999.0000,-999.000, 13.1838,-999.000
     316N151_2,   A24,   132,  1,     24,     24,2,19970625,1256, 46.5505, -31.0328, 3531,    105.3,  12.0472,  35.5545,2,  35.5618,2,    240.1,2,    242.4,2,     3.47,2,     9.54,2,     0.04,2,     0.60,2, -999.000,9, -999.000,9, -999.000,9,-999.0000,9,  -999.00,9,   -999.0,9,   -999.0,9,   2335.8,2,     7.86,2,25, -999.00,   -999,-999.0000,-999.000, 12.0334,-999.000
     316N151_2,   A24,   132,  1,     23,     23,2,19970625,1256, 46.5505, -31.0328, 3531,    154.6,  11.2515,  35.4801,2,  35.4813,2,    234.4,2,    237.0,2,     5.18,2,    11.69,2,     0.02,2,     0.75,2, -999.000,9, -999.000,9, -999.000,9,-999.0000,9,  -999.00,9,   -999.0,9,   -999.0,9,   -999.0,9,  -999.00,9,25, -999.00,   -999,-999.0000,-999.000, 11.2321,-999.000
     316N151_2,   A24,   132,  1,     22,     22,2,19970625,1256, 46.5505, -31.0328, 3531,    234.6,  10.8566,  35.4613,2,  35.4616,2,    237.4,2,    242.8,2,     5.38,2,    11.66,2,     0.02,2,     0.75,2, -999.000,9, -999.000,9, -999.000,9,-999.0000,9,  -999.00,9,   -999.0,9,   -999.0,9,   2333.7,2,     7.83,2,25, -999.00,   -999,-999.0000,-999.000, 10.8277,-999.000
     316N151_2,   A24,   132,  1,     21,     21,2,19970625,1256, 46.5505, -31.0328, 3531,    334.3,   9.9367,  35.3042,2,  35.3149,2,    231.4,2,    238.8,2,     6.59,2,    13.16,2,     0.01,2,     0.85,2, -999.000,9, -999.000,9, -999.000,9,-999.0000,9,  -999.00,9,   -999.0,9,   -999.0,9,   -999.0,9,  -999.00,9,25, -999.00,   -999,-999.0000,-999.000,  9.8976,-999.000
     316N151_2,   A24,   132,  1,     20,     20,2,19970625,1256, 46.5505, -31.0328, 3531,    435.3,   8.5320,  35.1182,2,  35.1144,2,    220.8,2,    217.9,2,     9.22,2,    16.61,2,     0.01,2,     1.08,2, -999.000,9, -999.000,9, -999.000,9,-999.0000,9,  -999.00,9,   -999.0,9,   -999.0,9,   2315.8,2,     7.74,2,25, -999.00,   -999,-999.0000,-999.000,  8.4855,-999.000
     316N151_2,   A24,   132,  1,     19,     19,2,19970625,1256, 46.5505, -31.0328, 3531,    536.2,   7.1970,  34.9929,2,  34.9927,2,    212.8,2,    205.8,2,    11.55,2,    19.14,2,     0.01,2,     1.25,2,    2.266,2,    1.134,2, -999.000,9,-999.0000,9,  -999.00,9,   -999.0,9,   -999.0,9,   2312.3,2,     7.70,2,25, -999.00,   -999,-999.0000,-999.000,  7.1447,-999.000
     316N151_2,   A24,   132,  1,     18,     18,2,19970625,1256, 46.5505, -31.0328, 3531,    658.2,   5.8014,  34.9606,2,  34.9569,2,    213.9,2,    216.4,2,    12.25,2,    19.47,2,     0.00,2,     1.28,2,    2.253,2,    1.104,2, -999.000,9,-999.0000,9,  -999.00,9,   -999.0,9,   -999.0,9,   2311.2,2,     7.69,2,25, -999.00,   -999,-999.0000,-999.000,  5.7437,-999.000
     316N151_2,   A24,   132,  1,     17,     17,2,19970625,1256, 46.5505, -31.0328, 3531,    738.4,   5.9233,  35.0922,2,  35.0915,2,    217.5,2,    220.7,2,    12.04,2,    19.05,2,     0.00,2,     1.24,2,    1.823,2,    0.883,2, -999.000,9,-999.0000,9,  -999.00,9,   -999.0,9,   -999.0,9,   2319.4,3,     7.71,2,25, -999.00,   -999,-999.0000,-999.000,  5.8573,-999.000
     316N151_2,   A24,   132,  1,     16,     16,2,19970625,1256, 46.5505, -31.0328, 3531,    858.5,   5.2239,  35.0469,2,  35.0478,2,    234.6,2,    235.8,2,    11.93,2,    18.64,2,     0.00,2,     1.21,2,    1.924,2,    0.936,2, -999.000,9,-999.0000,9,  -999.00,9,   -999.0,9,   -999.0,9,   -999.0,9,  -999.00,9,25, -999.00,   -999,-999.0000,-999.000,  5.1510,-999.000
     316N151_2,   A24,   132,  1,     15,     15,2,19970625,1256, 46.5505, -31.0328, 3531,    958.4,   4.8322,  35.0187,2,  35.0209,2,    244.2,2,    245.2,2,    11.82,2,    18.41,2,     0.00,2,     1.20,2,    1.961,2,    0.941,2, -999.000,9,-999.0000,9,  -999.00,9,   -999.0,9,   -999.0,9,   -999.0,9,  -999.00,9,25, -999.00,   -999,-999.0000,-999.000,  4.7530,-999.000
     316N151_2,   A24,   132,  1,     14,     14,2,19970625,1256, 46.5505, -31.0328, 3531,   1108.3,   4.2551,  34.9639,2,  34.9636,2,    258.6,2,    258.6,2,    11.71,2,    18.04,2,     0.00,2,     1.18,2,    2.151,2,    1.030,2, -999.000,9,-999.0000,9,  -999.00,9,   -999.0,9,   -999.0,9,   2309.7,2,     7.71,2,25, -999.00,   -999,-999.0000,-999.000,  4.1673,-999.000
     316N151_2,   A24,   132,  1,     13,     13,2,19970625,1256, 46.5505, -31.0328, 3531,   1314.0,   3.9340,  34.9475,2,  34.9494,2,    267.2,2,    265.6,2,    12.11,2,    17.76,2,     0.00,2,     1.16,2,    1.868,2,    0.908,2, -999.000,9,-999.0000,9,  -999.00,9,   -999.0,9,   -999.0,9,   -999.0,9,  -999.00,9,25, -999.00,   -999,-999.0000,-999.000,  3.8312,-999.000
     316N151_2,   A24,   132,  1,     12,     12,2,19970625,1256, 46.5505, -31.0328, 3531,   1515.2,   3.6324,  34.9208,2,  34.9213,2,    270.7,2,    272.1,2,    12.21,2,    17.48,2,     0.00,2,     1.15,2,    1.973,2,    0.955,2, -999.000,9,-999.0000,9,  -999.00,9,   -999.0,9,   -999.0,9,   -999.0,9,  -999.00,9,25, -999.00,   -999,-999.0000,-999.000,  3.5151,-999.000
     316N151_2,   A24,   132,  1,     11,     11,2,19970625,1256, 46.5505, -31.0328, 3531,   1647.8,   3.3388,  34.8864,2,  34.8861,2,    281.3,2,    282.5,2,    11.39,2,    17.11,2,     0.00,2,     1.13,2,    2.646,2,    1.267,2, -999.000,9,-999.0000,9,  -999.00,9,   -999.0,9,   -999.0,9,   -999.0,9,  -999.00,9,25, -999.00,   -999,-999.0000,-999.000,  3.2134,-999.000
     316N151_2,   A24,   132,  1,     10,     10,2,19970625,1256, 46.5505, -31.0328, 3531,   1769.4,   3.2755,  34.8820,2,  34.8806,2,    284.1,2,    284.2,2,    11.28,2,    17.02,2,     0.00,2,     1.12,2,    2.700,2,    1.289,2, -999.000,9,-999.0000,9,  -999.00,9,   -999.0,9,   -999.0,9,   -999.0,9,  -999.00,9,25, -999.00,   -999,-999.0000,-999.000,  3.1400,-999.000
     316N151_2,   A24,   132,  1,      9,      9,2,19970625,1256, 46.5505, -31.0328, 3531,   2022.9,   3.2004,  34.8842,2,  34.8839,2,    283.3,2,    284.7,2,    11.58,2,    16.93,2,     0.00,2,     1.12,2,    2.540,2,    1.211,2, -999.000,9,-999.0000,9,  -999.00,9,   -999.0,9,   -999.0,9,   2304.5,2,     7.72,2,25, -999.00,   -999,-999.0000,-999.000,  3.0429,-999.000
     316N151_2,   A24,   132,  1,      8,      8,2,19970625,1256, 46.5505, -31.0328, 3531,   2276.2,   3.1841,  34.9003,2,  34.8998,2,    282.1,2,    280.7,2,    12.38,2,    16.84,2,     0.00,2,     1.12,2,    2.068,2,    1.001,2, -999.000,9,-999.0000,9,  -999.00,9,   -999.0,9,   -999.0,9,   -999.0,9,  -999.00,9,25, -999.00,   -999,-999.0000,-999.000,  3.0028,-999.000
     316N151_2,   A24,   132,  1,      7,      7,2,19970625,1256, 46.5505, -31.0328, 3531,   2529.8,   3.1183,  34.9224,2,  34.9223,2,    274.8,2,    274.7,2,    14.30,2,    16.98,2,     0.00,2,     1.12,2, -999.000,9, -999.000,9, -999.000,9,-999.0000,9,  -999.00,9,   -999.0,9,   -999.0,9,   -999.0,9,  -999.00,9,25, -999.00,   -999,-999.0000,-999.000,  2.9133,-999.000
     316N151_2,   A24,   132,  1,      6,      6,2,19970625,1256, 46.5505, -31.0328, 3531,   2783.9,   2.9387,  34.9264,2,  34.9264,2,    272.7,2,    273.7,2,    15.62,2,    16.94,2,     0.00,2,     1.13,2, -999.000,9, -999.000,9, -999.000,9,-999.0000,9,  -999.00,9,   -999.0,9,   -999.0,9,   -999.0,9,  -999.00,9,25, -999.00,   -999,-999.0000,-999.000,  2.7116,-999.000
     316N151_2,   A24,   132,  1,      5,      5,2,19970625,1256, 46.5505, -31.0328, 3531,   3038.6,   2.7722,  34.9241,2,  34.9238,2,    272.0,2,    274.0,2,    16.73,2,    16.89,2,     0.00,2,     1.13,2, -999.000,9, -999.000,9, -999.000,9,-999.0000,9,  -999.00,9,   -999.0,9,   -999.0,9,   2312.7,2,     7.72,2,25, -999.00,   -999,-999.0000,-999.000,  2.5224,-999.000
     316N151_2,   A24,   132,  1,      4,      4,2,19970625,1256, 46.5505, -31.0328, 3531,   3242.0,   2.5896,  34.9177,2,  34.9176,2,    272.6,2,    274.9,2,    17.74,2,    16.85,2,     0.00,2,     1.13,2,    1.107,2,    0.542,2, -999.000,9,-999.0000,9,  -999.00,9,   -999.0,9,   -999.0,9,   -999.0,9,  -999.00,9,25, -999.00,   -999,-999.0000,-999.000,  2.3226,-999.000
     316N151_2,   A24,   132,  1,      3,      3,2,19970625,1256, 46.5505, -31.0328, 3531,   3394.6,   2.4762,  34.9119,2,  34.9118,2,    275.3,2,    275.6,2,    18.44,2,    16.80,2,     0.00,2,     1.13,2, -999.000,9, -999.000,9, -999.000,9,-999.0000,9,  -999.00,9,   -999.0,9,   -999.0,9,   -999.0,9,  -999.00,9,25, -999.00,   -999,-999.0000,-999.000,  2.1958,-999.000
     316N151_2,   A24,   132,  1,      2,      2,2,19970625,1256, 46.5505, -31.0328, 3531,   3495.9,   2.4298,  34.9092,2,  34.9091,2,    276.0,2,    275.8,2,    18.84,2,    16.81,2,     0.00,2,     1.13,2, -999.000,9, -999.000,9, -999.000,9,-999.0000,9,  -999.00,9,   -999.0,9,   -999.0,9,   -999.0,9,  -999.00,9,25, -999.00,   -999,-999.0000,-999.000,  2.1396,-999.000
     316N151_2,   A24,   132,  1,      1,      1,2,19970625,1256, 46.5505, -31.0328, 3531,   3542.8,   2.4187,  34.9080,2,  34.9085,2,    276.1,2,    274.0,2,    19.04,2,    16.76,2,     0.00,2,     1.13,2,    1.224,2,    0.582,2, -999.000,9,-999.0000,9,  -999.00,9,   -999.0,9,   -999.0,9,   2314.5,2,     7.72,2,25, -999.00,   -999,-999.0000,-999.000,  2.1236,-999.000