BOTTLE,20220629CCHSIOAMB
EXPOCODE,SECT_ID,STNNBR,CASTNO,SAMPNO,BTLNBR,BTLNBR_FLAG_W,DATE,TIME,LATITUDE,LONGITUDE,DEPTH,CTDPRS,CTDTMP,CTDSAL,CTDSAL_FLAG_W,SALNTY,SALNTY_FLAG_W,CTDOXY,CTDOXY_FLAG_W,OXYGEN,OXYGEN_FLAG_W,SILCAT,SILCAT_FLAG_W,NITRAT,NITRAT_FLAG_W,NITRIT,NITRIT_FLAG_W,PHSPHT,PHSPHT_FLAG_W,CFC-11,CFC-11_FLAG_W,CFC-12,CFC-12_FLAG_W,TRITUM,TRITUM_FLAG_W,HELIUM,HELIUM_FLAG_W,DELHE3,DELHE3_FLAG_W,TCARBN,TCARBN_FLAG_W,PCO2,PCO2_FLAG_W,ALKALI,ALKALI_FLAG_W,PH,PH_FLAG_W,PH_TMP,PCO2TMP,CTDRAW,HELIER,DELHER,THETA,TRITER
,,,,,,,,,,,,DBAR,ITS-90,PSS-78,,PSS-78,,UMOL/KG,,UMOL/KG,,UMOL/KG,,UMOL/KG,,UMOL/KG,,UMOL/KG,,PMOL/KG,,PMOL/KG,,TU,,NMOL/KG,,PERCNT,,UMOL/KG,,UATM,,UMOL/KG,,,,DEG C,DEG C,,NMOL/KG,PERCNT,DEG C,TU
     316N151_2,   A24,    49,  1,      7,      7,2,19970611,1122, 57.7497,  -9.3343,  188,      2.9,  12.0828,  35.4281,2,  35.4288,2,    294.8,2,    275.3,2,     0.26,2,     4.91,2,     0.11,2,     0.33,2,    3.549,2,    1.877,2, -999.000,5,   0.0016,4,  9910.00,4,   2091.7,2,    448.5,2,   2336.6,6,     7.92,2,25,   20.00,   -999,  0.0000,   0.260, 12.0825,-999.000
     316N151_2,   A24,    49,  1,      6,      6,2,19970611,1122, 57.7497,  -9.3343,  188,     32.7,  11.7861,  35.4283,2,  35.4269,2,    273.6,2,    273.7,2,     0.34,2,     5.42,2,     0.13,2,     0.37,2, -999.000,9, -999.000,9, -999.000,9,-999.0000,9,  -999.00,9,   2093.2,2,    463.2,2,   2336.0,2,     7.90,2,25,   20.00,   -999,-999.0000,-999.000, 11.7819,-999.000
     316N151_2,   A24,    49,  1,      5,      5,2,19970611,1122, 57.7497,  -9.3343,  188,     62.6,  10.4939,  35.4458,2,  35.4458,2,    257.9,2,    258.3,2,     3.00,2,     9.66,2,     0.32,2,     0.65,2,    3.555,2,    1.887,2, -999.000,5,   1.8047,2,    -1.24,2,   2125.8,2,    551.3,2,   2332.9,2,     7.84,2,25,   20.00,   -999,  0.0000,   0.130, 10.4864,-999.000
     316N151_2,   A24,    49,  1,      4,      4,2,19970611,1122, 57.7497,  -9.3343,  188,     92.7,  10.2696,  35.4416,2,  35.4423,2,    255.4,2,    257.0,2,     4.13,2,    10.67,2,     0.04,2,     0.68,2, -999.000,9, -999.000,9, -999.000,9,-999.0000,9,  -999.00,9,   2128.7,3,    568.1,2,   2333.9,2,     7.82,2,25,   20.00,   -999,-999.0000,-999.000, 10.2586,-999.000
     316N151_2,   A24,    49,  1,      3,      3,2,19970611,1122, 57.7497,  -9.3343,  188,    122.6,  10.1348,  35.4346,2,  35.4330,2,    255.5,2,    258.2,2,     4.03,2,    10.36,2,     0.10,2,     0.67,2,    3.647,2,    1.921,2, -999.000,5,   1.8055,2,    -1.56,2,   2129.8,2,    567.4,2,   2332.2,2,     7.83,2,25,   20.00,   -999,  0.0000,   0.200, 10.1204,-999.000
     316N151_2,   A24,    49,  1,      2,      2,2,19970611,1122, 57.7497,  -9.3343,  188,    153.1,   9.5269,  35.3836,2,  35.3845,2,    259.9,2,    263.3,2,     4.11,2,     8.64,2,     0.67,2,     0.62,2, -999.000,9, -999.000,9, -999.000,9,-999.0000,9,  -999.00,9,   2126.8,2,    566.2,2,   2330.8,2,     7.83,2,25,   20.00,   -999,-999.0000,-999.000,  9.5096,-999.000
     316N151_2,   A24,    49,  1,      1,      1,2,19970611,1122, 57.7497,  -9.3343,  188,    181.9,   9.4577,  35.3811,2,  35.3817,2,    258.4,2,    263.0,2,     4.09,2,     8.74,2,     0.62,2,     0.62,2,    3.875,2,    2.045,2,   -4.449,4,   4.9370,4,    -0.54,4,   2129.1,2,    567.0,2,   2330.7,2,     7.83,2,25,   20.00,   -999,  0.0000,   0.190,  9.4372,   0.096
     316N151_2,   A24,    50,  1,     10,     10,2,19970611,1242, 57.7557,  -9.6105,  502,      3.3,  12.2220,  35.4285,2,  35.4283,2,    278.0,2,    277.7,2,     0.12,2,     4.73,2,     0.10,2,     0.31,2,    3.548,2,    1.880,2, -999.000,9,-999.0000,9,  -999.00,9,   2089.4,2,    443.4,2,   2340.0,6,     7.92,2,25,   20.00,   -999,-999.0000,-999.000, 12.2215,-999.000
     316N151_2,   A24,    50,  1,      9,      9,2,19970611,1242, 57.7557,  -9.6105,  502,     33.4,  12.0247,  35.4250,2,  35.4245,2,    276.7,2,    276.8,2,     0.20,2,     4.92,2,     0.10,2,     0.32,2,    3.558,2,    1.876,2, -999.000,9,-999.0000,9,  -999.00,9,   2088.9,2,    448.7,2,   2337.6,2,     7.92,2,25,   20.00,   -999,-999.0000,-999.000, 12.0204,-999.000
     316N151_2,   A24,    50,  1,      8,      8,2,19970611,1242, 57.7557,  -9.6105,  502,     73.4,  10.5228,  35.4421,2,  35.4377,2,    265.5,2,    265.9,2,     2.10,2,     8.32,2,     0.27,2,     0.61,2,    3.608,2,    1.901,2, -999.000,9,-999.0000,9,  -999.00,9,   2118.9,2,    527.9,2,   2334.3,2,     7.85,2,25,   20.00,   -999,-999.0000,-999.000, 10.5140,-999.000
     316N151_2,   A24,    50,  1,      7,      7,2,19970611,1242, 57.7557,  -9.6105,  502,    103.5,  10.3898,  35.4329,2,  35.4348,2,    262.3,2,    262.9,2,     3.04,2,     9.49,2,     0.31,2,     0.65,2, -999.000,9, -999.000,9, -999.000,9,-999.0000,9,  -999.00,9,   2124.6,2,    544.4,2,   2333.1,2,     7.84,2,25,   20.00,   -999,-999.0000,-999.000, 10.3775,-999.000
     316N151_2,   A24,    50,  1,      6,      6,2,19970611,1242, 57.7557,  -9.6105,  502,    153.9,  10.1522,  35.4164,2,  35.4156,2,    260.0,2,    259.2,2,     4.27,2,    10.95,2,     0.20,2,     0.71,2,    3.539,2,    1.865,2, -999.000,9,-999.0000,9,  -999.00,9,   2128.3,2,    564.4,2,   2330.8,2,     7.83,2,25,   20.00,   -999,-999.0000,-999.000, 10.1341,-999.000
     316N151_2,   A24,    50,  1,      5,      5,2,19970611,1242, 57.7557,  -9.6105,  502,    213.5,   9.9838,  35.4113,2,  35.4113,2,    259.4,2,    258.8,2,     4.93,2,    11.59,2,     0.04,2,     0.74,2, -999.000,9, -999.000,9, -999.000,9,-999.0000,9,  -999.00,9,   2133.6,2,    575.7,2,   2330.4,2,     7.82,2,25,   20.00,   -999,-999.0000,-999.000,  9.9589,-999.000
     316N151_2,   A24,    50,  1,      4,      4,2,19970611,1242, 57.7557,  -9.6105,  502,    284.1,   9.8786,  35.4075,2,  35.4072,2,    260.3,2,    259.8,2,     5.01,2,    11.66,2,     0.02,2,     0.74,2,    3.547,2,    1.856,2, -999.000,9,-999.0000,9,  -999.00,9,   2133.5,2,    577.6,2,   2331.0,2,     7.82,2,25,   20.00,   -999,-999.0000,-999.000,  9.8455,-999.000
     316N151_2,   A24,    50,  1,      3,      3,2,19970611,1242, 57.7557,  -9.6105,  502,    355.0,   9.8155,  35.4062,2,  35.4060,2,    260.7,2,    262.2,2,     4.81,2,    11.36,2,     0.03,2,     0.73,2, -999.000,9, -999.000,9, -999.000,9,-999.0000,9,  -999.00,9,   2131.2,2,    574.4,2,   2330.7,2,     7.83,2,25,   20.00,   -999,-999.0000,-999.000,  9.7742,-999.000
     316N151_2,   A24,    50,  1,      2,      2,2,19970611,1242, 57.7557,  -9.6105,  502,    434.9,   9.7669,  35.4005,2,  35.3997,2,    264.5,2,    264.0,2,     4.80,2,    11.41,2,     0.03,2,     0.73,2,    3.603,2,    1.918,2, -999.000,9,-999.0000,9,  -999.00,9,   2128.0,2,    576.1,2,   2332.7,2,     7.82,2,25,   20.00,   -999,-999.0000,-999.000,  9.7163,-999.000
     316N151_2,   A24,    50,  1,      1,      1,2,19970611,1242, 57.7557,  -9.6105,  502,    500.8,   9.7259,  35.3955,2,  35.3965,2,    264.0,2,    263.9,2,     4.88,2,    11.40,2,     0.04,2,     0.74,2,    3.650,2,    1.934,2, -999.000,9,-999.0000,9,  -999.00,9,   2132.1,2,    575.2,2,   2331.0,2,     7.82,2,25,   20.00,   -999,-999.0000,-999.000,  9.6676,-999.000
     316N151_2,   A24,    51,  1,     16,     16,2,19970611,1404, 57.7507,  -9.8090, 1282,      2.9,  12.1747,  35.4308,2,  35.4309,2,    289.1,2,    276.2,2,     0.35,2,     4.73,2,     0.09,2,     0.31,2,    3.531,2,    1.862,2, -999.000,9,-999.0000,9,  -999.00,9,   2093.8,2,   -999.0,9,   2336.2,6,     7.92,6,25, -999.00,   -999,-999.0000,-999.000, 12.1743,-999.000
     316N151_2,   A24,    51,  1,     15,     15,2,19970611,1404, 57.7507,  -9.8090, 1282,     33.4,  11.8901,  35.4294,2,  35.4233,2,    274.6,2,    274.6,2,     0.32,2,     5.15,2,     0.11,2,     0.34,2,    3.551,2,    1.862,2, -999.000,9,-999.0000,9,  -999.00,9,   2096.1,2,   -999.0,9,   2333.4,2,     7.90,2,25, -999.00,   -999,-999.0000,-999.000, 11.8858,-999.000
     316N151_2,   A24,    51,  1,     14,     14,2,19970611,1404, 57.7507,  -9.8090, 1282,     73.0,  10.4784,  35.4302,2,  35.4329,2,    267.3,2,    266.1,2,     2.11,2,     8.26,2,     0.27,2,     0.60,2,    3.616,2,    1.917,2, -999.000,9,-999.0000,9,  -999.00,9,   2121.5,2,    529.4,2,   2334.9,2,     7.85,2,25,   20.00,   -999,-999.0000,-999.000, 10.4697,-999.000
     316N151_2,   A24,    51,  1,     13,     13,2,19970611,1404, 57.7507,  -9.8090, 1282,    123.6,  10.2129,  35.4253,2,  35.4239,2,    261.6,2,    260.0,2,     4.00,2,    10.66,2,     0.20,2,     0.69,2,    3.584,2,    1.882,2, -999.000,9,-999.0000,9,  -999.00,9,   2126.8,2,   -999.0,9,   2332.9,2,     7.83,2,25, -999.00,   -999,-999.0000,-999.000, 10.1983,-999.000
     316N151_2,   A24,    51,  1,     12,     12,2,19970611,1404, 57.7507,  -9.8090, 1282,    183.8,   9.9689,  35.4105,2,  35.4091,2,    256.3,2,    259.2,2,     5.03,2,    11.55,2,     0.02,2,     0.74,2, -999.000,9, -999.000,9, -999.000,9,-999.0000,9,  -999.00,9,   2134.6,2,    574.2,2,   2330.6,2,     7.82,2,25,   20.00,   -999,-999.0000,-999.000,  9.9475,-999.000
     316N151_2,   A24,    51,  1,     11,     11,2,19970611,1404, 57.7507,  -9.8090, 1282,    224.1,   9.8569,  35.4033,2,  35.4032,2,    258.3,2,    260.1,2,     5.20,2,    11.58,2,     0.03,2,     0.75,2,    3.567,2,    1.867,2, -999.000,9,-999.0000,9,  -999.00,9,   2131.1,2,   -999.0,9,   2332.6,2,     7.82,2,25, -999.00,   -999,-999.0000,-999.000,  9.8309,-999.000
     316N151_2,   A24,    51,  1,     10,     10,2,19970611,1404, 57.7507,  -9.8090, 1282,    304.2,   9.7287,  35.3945,2,  35.3933,2,    262.6,2,    262.0,2,     5.07,2,    11.60,2,     0.02,2,     0.75,2, -999.000,9, -999.000,9, -999.000,9,-999.0000,9,  -999.00,9,   2126.2,2,   -999.0,9,   2330.5,2,     7.82,2,25, -999.00,   -999,-999.0000,-999.000,  9.6936,-999.000
     316N151_2,   A24,    51,  1,      9,      9,2,19970611,1404, 57.7507,  -9.8090, 1282,    404.9,   9.5981,  35.3844,2,  35.3856,2,    264.3,2,    264.3,2,     5.14,2,    11.56,2,     0.01,2,     0.75,2,    3.686,2,    1.937,2, -999.000,9,-999.0000,9,  -999.00,9,   2133.8,2,   -999.0,9,   2330.1,2,     7.82,2,25, -999.00,   -999,-999.0000,-999.000,  9.5515,-999.000
     316N151_2,   A24,    51,  1,      8,      8,2,19970611,1404, 57.7507,  -9.8090, 1282,    505.9,   9.3361,  35.3531,2,  35.3515,2,    256.4,2,    259.8,2,     5.59,2,    12.33,2,     0.01,2,     0.79,2, -999.000,9, -999.000,9, -999.000,9,-999.0000,9,  -999.00,9,   2133.2,2,   -999.0,9,   2328.2,2,     7.81,2,25, -999.00,   -999,-999.0000,-999.000,  9.2786,-999.000
     316N151_2,   A24,    51,  1,      7,      7,2,19970611,1404, 57.7507,  -9.8090, 1282,    606.0,   9.1223,  35.3285,2,  35.3261,2,    260.9,2,    260.2,2,     5.85,2,    12.67,2,     0.01,2,     0.82,2,    3.624,2,    1.892,2, -999.000,9,-999.0000,9,  -999.00,9,   2138.9,2,    606.6,2,   2327.9,2,     7.80,2,25,   20.00,   -999,-999.0000,-999.000,  9.0540,-999.000
     316N151_2,   A24,    51,  1,      6,      6,2,19970611,1404, 57.7507,  -9.8090, 1282,    706.5,   8.9576,  35.3103,2,  35.3099,2,    264.2,2,    264.8,2,     5.63,2,    12.56,2,     0.01,2,     0.81,2,    3.686,2,    1.919,2, -999.000,9,-999.0000,9,  -999.00,9,   2138.3,2,   -999.0,9,   2325.9,2,     7.81,2,25, -999.00,   -999,-999.0000,-999.000,  8.8785,-999.000
     316N151_2,   A24,    51,  1,      5,      5,2,19970611,1404, 57.7507,  -9.8090, 1282,    857.7,   8.6002,  35.2698,2,  35.2739,2,    259.2,2,    262.5,2,     6.37,2,    13.24,2,     0.01,2,     0.86,2,    3.666,2,    1.899,2, -999.000,9,-999.0000,9,  -999.00,9,   2136.5,3,    619.2,2,   2323.5,2,     7.79,2,25,   20.00,   -999,-999.0000,-999.000,  8.5056,-999.000
     316N151_2,   A24,    51,  1,      4,      4,2,19970611,1404, 57.7507,  -9.8090, 1282,    958.9,   8.0277,  35.2349,2,  35.2339,2,    240.2,2,    237.2,2,     8.74,2,    15.74,2,     0.01,2,     1.02,2,    3.010,2,    1.517,2, -999.000,9,-999.0000,9,  -999.00,9,   2156.0,2,   -999.0,9,   2324.2,2,     7.76,2,25, -999.00,   -999,-999.0000,-999.000,  7.9254,-999.000
     316N151_2,   A24,    51,  1,      3,      3,2,19970611,1404, 57.7507,  -9.8090, 1282,   1060.0,   6.9371,  35.1786,2,  35.1770,2,    228.8,2,    230.1,2,    10.44,2,    17.24,2,     0.00,2,     1.12,2,    2.534,2,    1.246,2, -999.000,9,-999.0000,9,  -999.00,9,   2166.5,3,   -999.0,9,   2320.1,2,     7.73,2,25, -999.00,   -999,-999.0000,-999.000,  6.8319,-999.000
     316N151_2,   A24,    51,  1,      2,      2,2,19970611,1404, 57.7507,  -9.8090, 1282,   1160.7,   6.3201,  35.1306,2,  35.1323,2,    233.1,2,    235.1,2,    10.99,2,    17.48,2,     0.00,2,     1.14,2,    2.425,2,    1.175,2, -999.000,9,-999.0000,9,  -999.00,9,   2160.8,2,    739.2,2,   2321.5,2,     7.73,2,25,   20.00,   -999,-999.0000,-999.000,  6.2094,-999.000
     316N151_2,   A24,    51,  1,      1,      1,2,19970611,1404, 57.7507,  -9.8090, 1282,   1276.6,   5.6591,  35.0830,2,  35.0842,2,    241.8,2,    241.1,2,    11.35,2,    17.67,2,     0.00,2,     1.15,2,    2.321,2,    1.124,2, -999.000,9,-999.0000,9,  -999.00,9,   2167.6,3,    746.5,2,   2316.7,2,     7.72,2,25,   20.00,   -999,-999.0000,-999.000,  5.5428,-999.000