BOTTLE,20220629CCHSIOAMB
EXPOCODE,SECT_ID,STNNBR,CASTNO,SAMPNO,BTLNBR,BTLNBR_FLAG_W,DATE,TIME,LATITUDE,LONGITUDE,DEPTH,CTDPRS,CTDTMP,CTDSAL,CTDSAL_FLAG_W,SALNTY,SALNTY_FLAG_W,CTDOXY,CTDOXY_FLAG_W,OXYGEN,OXYGEN_FLAG_W,SILCAT,SILCAT_FLAG_W,NITRAT,NITRAT_FLAG_W,NITRIT,NITRIT_FLAG_W,PHSPHT,PHSPHT_FLAG_W,CFC-11,CFC-11_FLAG_W,CFC-12,CFC-12_FLAG_W,TRITUM,TRITUM_FLAG_W,HELIUM,HELIUM_FLAG_W,DELHE3,DELHE3_FLAG_W,TCARBN,TCARBN_FLAG_W,PCO2,PCO2_FLAG_W,ALKALI,ALKALI_FLAG_W,PH,PH_FLAG_W,PH_TMP,PCO2TMP,CTDRAW,HELIER,DELHER,THETA,TRITER
,,,,,,,,,,,,DBAR,ITS-90,PSS-78,,PSS-78,,UMOL/KG,,UMOL/KG,,UMOL/KG,,UMOL/KG,,UMOL/KG,,UMOL/KG,,PMOL/KG,,PMOL/KG,,TU,,NMOL/KG,,PERCNT,,UMOL/KG,,UATM,,UMOL/KG,,,,DEG C,DEG C,,NMOL/KG,PERCNT,DEG C,TU
     316N151_2,   A24,    56,  1,     21,     21,2,19970612,0411, 57.7485, -12.3470, 1791,      3.2,  11.1747,  35.4107,2,  35.4115,2,    281.2,2,    275.9,2,     0.85,2,     5.65,2,     0.11,2,     0.37,2, -999.000,9, -999.000,9,    1.612,2,   2.8296,4,   -62.37,4,   2097.1,2,   -999.0,9,   2335.8,6,     7.89,6,25, -999.00,   -999,  0.0000,   0.230, 11.1743,   0.027
     316N151_2,   A24,    56,  1,     20,     20,2,19970612,0411, 57.7485, -12.3470, 1791,     34.3,  10.8466,  35.3948,2,  35.4074,2,    272.5,2,    276.1,2,     0.91,2,     5.83,2,     0.11,2,     0.40,2, -999.000,9, -999.000,9, -999.000,9,-999.0000,9,  -999.00,9,   -999.0,9,   -999.0,9,   -999.0,9,  -999.00,9,25, -999.00,   -999,-999.0000,-999.000, 10.8424,-999.000
     316N151_2,   A24,    56,  1,     19,     19,2,19970612,0411, 57.7485, -12.3470, 1791,     75.2,   9.9682,  35.4008,2,  35.3999,2,    267.6,2,    269.0,2,     2.67,2,     9.13,2,     0.21,2,     0.63,2, -999.000,9, -999.000,9, -999.000,9,-999.0000,9,  -999.00,9,   -999.0,9,   -999.0,9,   -999.0,9,  -999.00,9,25, -999.00,   -999,-999.0000,-999.000,  9.9595,-999.000
     316N151_2,   A24,    56,  1,     18,     18,2,19970612,0411, 57.7485, -12.3470, 1791,    124.8,   9.6450,  35.3747,2,  35.3865,2,    272.8,2,    272.2,2,     2.07,2,     8.42,2,     0.20,2,     0.63,2, -999.000,9, -999.000,9,    1.509,2,   1.8425,2,    -1.26,2,   -999.0,9,   -999.0,9,   -999.0,9,  -999.00,9,25, -999.00,   -999,  0.0000,   0.210,  9.6308,   0.026
     316N151_2,   A24,    56,  1,     17,     17,2,19970612,0411, 57.7485, -12.3470, 1791,    204.6,   9.4229,  35.3637,2,  35.3650,2,    268.3,2,    277.7,2,     4.49,2,    11.34,2,     0.16,2,     0.74,2, -999.000,9, -999.000,9,    1.464,2,   1.5959,4,   -21.68,4,   -999.0,9,   -999.0,9,   -999.0,9,  -999.00,9,25, -999.00,   -999,  0.0000,   0.220,  9.3999,   0.017
     316N151_2,   A24,    56,  1,     16,     16,2,19970612,0411, 57.7485, -12.3470, 1791,    285.0,   9.2595,  35.3473,2,  35.3476,2,    264.5,2,    263.9,2,     5.50,2,    12.17,2,     0.03,2,     0.78,2, -999.000,9, -999.000,9, -999.000,9,-999.0000,9,  -999.00,9,   -999.0,9,   -999.0,9,   -999.0,9,  -999.00,9,25, -999.00,   -999,-999.0000,-999.000,  9.2276,-999.000
     316N151_2,   A24,    56,  1,     15,     15,2,19970612,0411, 57.7485, -12.3470, 1791,    375.0,   9.0440,  35.3240,2,  35.3228,2,    264.0,2,    263.7,2,     5.56,2,    12.37,2,     0.02,2,     0.79,2, -999.000,9, -999.000,9, -999.000,9,-999.0000,9,  -999.00,9,   -999.0,9,   -999.0,9,   -999.0,9,  -999.00,9,25, -999.00,   -999,-999.0000,-999.000,  9.0025,-999.000
     316N151_2,   A24,    56,  1,     14,     14,2,19970612,0411, 57.7485, -12.3470, 1791,    455.0,   8.8972,  35.3059,2,  35.3145,3,    265.5,2,    262.9,2,     6.09,2,    12.71,2,     0.01,2,     0.82,2,    3.655,2,    1.909,2,    0.515,3,   0.0000,5,  -999.00,5,   -999.0,9,   -999.0,9,   -999.0,9,  -999.00,9,25, -999.00,   -999,  0.0000,   3.030,  8.8471,   0.007
     316N151_2,   A24,    56,  1,     13,     13,2,19970612,0411, 57.7485, -12.3470, 1791,    605.6,   8.6453,  35.2781,2,  35.2786,2,    258.4,2,    257.6,2,     6.72,2,    13.46,2,     0.01,2,     0.87,2, -999.000,9, -999.000,9, -999.000,9,-999.0000,9,  -999.00,9,   -999.0,9,   -999.0,9,   -999.0,9,  -999.00,9,25, -999.00,   -999,-999.0000,-999.000,  8.5793,-999.000
     316N151_2,   A24,    56,  1,     12,     12,2,19970612,0411, 57.7485, -12.3470, 1791,    744.4,   8.3167,  35.2496,2,  35.2501,2,    243.6,2,    245.3,2,     8.01,2,    14.82,2,     0.01,2,     0.96,2,    3.287,2,    1.686,2, -999.000,9,-999.0000,9,  -999.00,9,   -999.0,9,   -999.0,9,   -999.0,9,  -999.00,9,25, -999.00,   -999,-999.0000,-999.000,  8.2367,-999.000
     316N151_2,   A24,    56,  1,     11,     11,2,19970612,0411, 57.7485, -12.3470, 1791,    851.4,   7.8832,  35.2309,2,  35.2300,2,    228.4,2,    229.2,2,     9.49,2,    16.47,2,     0.00,2,     1.06,2, -999.000,9, -999.000,9,    1.307,2,   1.8419,2,    -0.52,4,   -999.0,9,   -999.0,9,   -999.0,9,  -999.00,9,25, -999.00,   -999,  0.0000,   0.210,  7.7939,   0.016
     316N151_2,   A24,    56,  1,     10,     10,2,19970612,0411, 57.7485, -12.3470, 1791,    930.1,   7.3493,  35.2010,2,  35.1992,2,    230.0,2,    228.7,2,    10.12,2,    16.98,2,     0.00,2,     1.09,2,    2.598,2,    1.290,2, -999.000,9,-999.0000,9,  -999.00,9,   -999.0,9,   -999.0,9,   -999.0,9,  -999.00,9,25, -999.00,   -999,-999.0000,-999.000,  7.2549,-999.000
     316N151_2,   A24,    56,  1,      9,      9,2,19970612,0411, 57.7485, -12.3470, 1791,   1046.5,   6.5034,  35.1442,2,  35.1439,2,    235.6,2,    243.1,2,     9.99,2,    16.46,2,     0.00,2,     1.07,2, -999.000,9, -999.000,9,    1.239,2,   1.8491,2,     5.00,2,   -999.0,9,   -999.0,9,   -999.0,9,  -999.00,9,25, -999.00,   -999,  0.0000,   0.210,  6.4031,   0.023
     316N151_2,   A24,    56,  1,      8,      8,2,19970612,0411, 57.7485, -12.3470, 1791,   1144.4,   5.8144,  35.0964,2,  35.0961,2,    238.1,2,    237.6,2,    11.37,2,    17.68,2,     0.00,2,     1.15,2,    2.291,2,    1.108,2, -999.000,9,-999.0000,9,  -999.00,9,   -999.0,9,   -999.0,9,   -999.0,9,  -999.00,9,25, -999.00,   -999,-999.0000,-999.000,  5.7098,-999.000
     316N151_2,   A24,    56,  1,      7,      7,2,19970612,0411, 57.7485, -12.3470, 1791,   1243.7,   5.2518,  35.0543,2,  35.0537,2,    245.1,2,    248.8,2,    11.25,2,    17.26,2,     0.00,2,     1.12,2, -999.000,9, -999.000,9,    1.209,2,   1.8421,2,     6.81,2,   -999.0,9,   -999.0,9,   -999.0,9,  -999.00,9,25, -999.00,   -999,  0.0000,   0.160,  5.1426,   0.015
     316N151_2,   A24,    56,  1,      6,      6,2,19970612,0411, 57.7485, -12.3470, 1791,   1342.7,   4.7109,  35.0114,2,  35.0110,2,    254.6,2,    256.4,2,    11.59,2,    17.20,2,     0.00,2,     1.12,2, -999.000,9, -999.000,9, -999.000,9,-999.0000,9,  -999.00,9,   -999.0,9,   -999.0,9,   -999.0,9,  -999.00,9,25, -999.00,   -999,-999.0000,-999.000,  4.5976,-999.000
     316N151_2,   A24,    56,  1,      5,      5,2,19970612,0411, 57.7485, -12.3470, 1791,   1445.9,   4.2445,  34.9658,2,  34.9667,2,    260.0,2,    261.0,2,    12.13,2,    17.49,2,     0.00,2,     1.14,2,    2.095,2,    1.010,2,    1.164,2,   1.8485,2,     8.27,2,   -999.0,9,   -999.0,9,   -999.0,9,  -999.00,9,25, -999.00,   -999,  0.0000,   0.160,  4.1265,   0.014
     316N151_2,   A24,    56,  1,      4,      4,2,19970612,0411, 57.7485, -12.3470, 1791,   1549.1,   4.0499,  34.9648,2,  34.9644,2,    261.8,2,    264.2,2,    13.23,2,    17.25,2,     0.00,2,     1.13,2,    1.979,2,    0.958,2,    1.081,2,   1.8686,2,     7.97,2,   -999.0,9,   -999.0,9,   -999.0,9,  -999.00,9,25, -999.00,   -999,  0.0000,   0.160,  3.9246,   0.021
     316N151_2,   A24,    56,  1,      3,      3,2,19970612,0411, 57.7485, -12.3470, 1791,   1650.8,   3.6720,  34.9435,2,  34.9437,2,    262.8,2,    264.1,2,    15.66,2,    17.52,2,     0.00,2,     1.16,2, -999.000,9, -999.000,9,    0.980,2,   0.0000,5,  -999.00,5,   -999.0,9,   -999.0,9,   -999.0,9,  -999.00,9,25, -999.00,   -999,  0.0000,   0.540,  3.5420,   0.013
     316N151_2,   A24,    56,  1,      2,      2,2,19970612,0411, 57.7485, -12.3470, 1791,   1735.5,   3.3957,  34.9352,2,  34.9368,2,    262.9,2,    263.7,2,    17.81,2,    17.84,2,     0.01,2,     1.19,2,    1.160,2,    0.571,2, -999.000,5,   0.0000,5,  -999.00,5,   -999.0,9,   -999.0,9,   -999.0,9,  -999.00,9,25, -999.00,   -999,  0.0000,   0.540,  3.2616,-999.000
     316N151_2,   A24,    56,  1,      1,      1,2,19970612,0411, 57.7485, -12.3470, 1791,   1796.8,   3.1055,  34.9387,2,  34.9394,2,    260.0,2,    258.1,2,    23.19,2,    18.49,2,     0.01,2,     1.24,2,    0.736,2,    0.367,2, -999.000,9,-999.0000,9,  -999.00,9,   -999.0,9,   -999.0,9,   -999.0,9,  -999.00,9,25, -999.00,   -999,-999.0000,-999.000,  2.9698,-999.000
     316N151_2,   A24,    57,  1,     20,     20,2,19970612,0631, 57.7585, -12.5495, 1579,      3.8,  11.0182,  35.4111,2,  35.4118,2,    280.6,2,    276.6,2,     0.90,2,     5.70,2,     0.10,2,     0.38,2, -999.000,9, -999.000,9, -999.000,5,   1.8260,2,    -1.71,2,   2099.2,2,   -999.0,9,   2335.6,6,     7.90,6,25, -999.00,   -999,  0.0000,   0.210, 11.0177,-999.000
     316N151_2,   A24,    57,  1,     19,     19,2,19970612,0631, 57.7585, -12.5495, 1579,     34.7,  11.0027,  35.4111,2,  35.4104,2,    276.8,2,    276.2,2,     0.95,2,     5.79,2,     0.10,2,     0.39,2, -999.000,9, -999.000,9, -999.000,9,-999.0000,9,  -999.00,9,   2100.7,2,   -999.0,9,   2336.2,2,     7.90,2,25, -999.00,   -999,-999.0000,-999.000, 10.9984,-999.000
     316N151_2,   A24,    57,  1,     18,     18,2,19970612,0631, 57.7585, -12.5495, 1579,     68.6,   9.8014,  35.3950,2,  35.3944,2,    268.3,2,    266.2,2,     3.37,2,     9.85,2,     0.24,2,     0.68,2, -999.000,9, -999.000,9, -999.000,9,-999.0000,9,  -999.00,9,   2128.1,2,   -999.0,9,   2331.7,2,     7.84,2,25, -999.00,   -999,-999.0000,-999.000,  9.7935,-999.000
     316N151_2,   A24,    57,  1,     17,     17,2,19970612,0631, 57.7585, -12.5495, 1579,    149.2,   9.5400,  35.3774,2,  35.3771,2,    266.5,2,    263.8,2,     4.56,2,    11.54,2,     0.06,2,     0.74,2, -999.000,9, -999.000,9, -999.000,9,-999.0000,9,  -999.00,9,   2133.4,2,   -999.0,9,   2329.7,2,     7.82,2,25, -999.00,   -999,-999.0000,-999.000,  9.5231,-999.000
     316N151_2,   A24,    57,  1,     16,     16,2,19970612,0631, 57.7585, -12.5495, 1579,    225.4,   9.3844,  35.3625,2,  35.3601,2,    261.7,2,    262.1,2,     5.28,2,    12.14,2,     0.02,2,     0.77,2, -999.000,9, -999.000,9, -999.000,5,   1.8240,2,    -0.77,2,   2136.5,2,   -999.0,9,   2329.1,2,     7.82,2,25, -999.00,   -999,  0.0000,   0.210,  9.3591,-999.000
     316N151_2,   A24,    57,  1,     15,     15,2,19970612,0631, 57.7585, -12.5495, 1579,    294.6,   9.2501,  35.3471,2,  35.3475,2,    263.5,2,    263.6,2,     5.52,2,    12.24,2,     0.01,2,     0.78,2, -999.000,9, -999.000,9, -999.000,9,-999.0000,9,  -999.00,9,   2135.9,2,   -999.0,9,   2326.8,2,     7.81,2,25, -999.00,   -999,-999.0000,-999.000,  9.2172,-999.000
     316N151_2,   A24,    57,  1,     14,     14,2,19970612,0631, 57.7585, -12.5495, 1579,    396.1,   9.0448,  35.3227,2,  35.3225,2,    260.4,2,    262.6,2,     5.86,2,    12.57,2,     0.01,2,     0.81,2, -999.000,9, -999.000,9, -999.000,9,-999.0000,9,  -999.00,9,   2138.0,2,   -999.0,9,   2326.2,2,     7.81,2,25, -999.00,   -999,-999.0000,-999.000,  9.0009,-999.000
     316N151_2,   A24,    57,  1,     13,     13,2,19970612,0631, 57.7585, -12.5495, 1579,    547.1,   8.8029,  35.2957,2,  35.2963,2,    261.4,2,    263.3,2,     6.20,2,    12.80,2,     0.01,2,     0.83,2, -999.000,9, -999.000,9, -999.000,5,   1.8454,2,    -0.69,2,   2139.4,2,   -999.0,9,   2326.2,2,     7.80,2,25, -999.00,   -999,  0.0000,   0.150,  8.7428,-999.000
     316N151_2,   A24,    57,  1,     12,     12,2,19970612,0631, 57.7585, -12.5495, 1579,    616.6,   8.7064,  35.2842,2,  35.2852,2,    257.3,2,    260.5,2,     6.82,2,    13.18,2,     0.01,2,     0.85,2, -999.000,9, -999.000,9, -999.000,9,-999.0000,9,  -999.00,9,   2138.7,2,   -999.0,9,   2324.9,2,     7.80,2,25, -999.00,   -999,-999.0000,-999.000,  8.6388,-999.000
     316N151_2,   A24,    57,  1,     11,     11,2,19970612,0631, 57.7585, -12.5495, 1579,    717.7,   8.4435,  35.2602,2,  35.2604,2,    250.0,2,    247.8,2,     7.92,2,    14.50,2,     0.01,2,     0.93,2, -999.000,9, -999.000,9, -999.000,9,-999.0000,9,  -999.00,9,   2148.5,2,   -999.0,9,   2324.4,2,     7.77,2,25, -999.00,   -999,-999.0000,-999.000,  8.3658,-999.000
     316N151_2,   A24,    57,  1,     10,     10,2,19970612,0631, 57.7585, -12.5495, 1579,    800.9,   8.1287,  35.2444,2,  35.2446,2,    240.9,2,    236.4,2,     9.11,2,    15.67,2,     0.01,2,     1.01,2, -999.000,9, -999.000,9, -999.000,5,   1.8345,2,     3.33,2,   2156.3,2,   -999.0,9,   2323.7,2,     7.76,2,25, -999.00,   -999,  0.0000,   0.210,  8.0435,-999.000
     316N151_2,   A24,    57,  1,      9,      9,2,19970612,0631, 57.7585, -12.5495, 1579,    866.7,   7.8476,  35.2271,2,  35.2279,2,    232.9,2,    232.3,2,     9.74,2,    16.33,2,     0.01,2,     1.05,2, -999.000,9, -999.000,9, -999.000,9,-999.0000,9,  -999.00,9,   2160.3,2,   -999.0,9,   2324.5,2,     7.75,2,25, -999.00,   -999,-999.0000,-999.000,  7.7568,-999.000
     316N151_2,   A24,    57,  1,      8,      8,2,19970612,0631, 57.7585, -12.5495, 1579,    907.2,   7.5915,  35.2049,2,  35.2034,2,    240.9,2,    239.7,2,     9.41,2,    15.95,2,     0.00,2,     1.03,2, -999.000,9, -999.000,9, -999.000,5,   1.8290,2,     3.77,2,   2158.8,2,   -999.0,9,   2322.3,2,     7.75,2,25, -999.00,   -999,  0.0000,   0.210,  7.4980,-999.000
     316N151_2,   A24,    57,  1,      7,      7,2,19970612,0631, 57.7585, -12.5495, 1579,    997.8,   6.8199,  35.1640,2,  35.1646,2,    239.9,2,    243.7,2,     9.94,2,    16.14,2,     0.00,2,     1.05,2, -999.000,9, -999.000,9, -999.000,9,-999.0000,9,  -999.00,9,   2160.2,2,   -999.0,9,   2321.2,2,     7.74,2,25, -999.00,   -999,-999.0000,-999.000,  6.7222,-999.000
     316N151_2,   A24,    57,  1,      6,      6,2,19970612,0631, 57.7585, -12.5495, 1579,   1110.1,   5.9702,  35.1114,2,  35.1115,2,    244.9,2,    248.0,2,    10.66,2,    16.56,2,     0.00,2,     1.08,2, -999.000,9, -999.000,9, -999.000,9,-999.0000,9,  -999.00,9,   2161.7,2,   -999.0,9,   2317.1,2,     7.74,2,25, -999.00,   -999,-999.0000,-999.000,  5.8677,-999.000
     316N151_2,   A24,    57,  1,      5,      5,2,19970612,0631, 57.7585, -12.5495, 1579,   1212.2,   5.3927,  35.0727,2,  35.0715,2,    256.8,2,    254.6,2,    10.91,2,    16.56,2,     0.00,2,     1.08,2, -999.000,9, -999.000,9,    1.228,2,   1.8686,2,     5.42,2,   2160.6,2,   -999.0,9,   2316.3,2,     7.73,2,25, -999.00,   -999,  0.0000,   0.210,  5.2852,   0.015
     316N151_2,   A24,    57,  1,      4,      4,2,19970612,0631, 57.7585, -12.5495, 1579,   1312.3,   5.0333,  35.0512,2,  35.0500,2,    262.5,2,    259.5,2,    11.15,2,    16.42,2,     0.00,2,     1.07,2,    2.558,2,    1.255,2,    1.208,2,   2.2407,4,     3.86,4,   2159.9,2,   -999.0,9,   2314.2,2,     7.73,2,25, -999.00,   -999,  0.0000,   0.200,  4.9196,   0.015
     316N151_2,   A24,    57,  1,      3,      3,2,19970612,0631, 57.7585, -12.5495, 1579,   1413.0,   4.5846,  35.0159,2,  35.0165,2,    264.1,2,    263.3,2,    11.87,2,    16.56,2,     0.00,2,     1.09,2,    2.347,2,    1.157,2,    1.143,2,   1.8598,2,     5.98,2,   2159.5,2,   -999.0,9,   2314.7,2,     7.72,2,25, -999.00,   -999,  0.0000,   0.210,  4.4660,   0.014
     316N151_2,   A24,    57,  1,      2,      2,2,19970612,0631, 57.7585, -12.5495, 1579,   1513.3,   3.8598,  34.9597,2,  34.9622,2,    262.8,2,    264.0,2,    14.78,2,    17.35,2,     0.01,2,     1.15,2,    1.841,2,    0.897,2,    1.037,2,   0.0544,4,   -90.16,4,   2162.2,2,   -999.0,9,   2312.0,2,     7.71,2,25, -999.00,   -999,  0.0000,   1.880,  3.7400,   0.013
     316N151_2,   A24,    57,  1,      1,      1,2,19970612,0631, 57.7585, -12.5495, 1579,   1603.5,   3.6903,  34.9509,2,  34.9514,2,    262.8,2,    263.1,2,    16.36,2,    17.57,2,     0.01,2,     1.17,2,    1.569,2,    0.769,2,    0.912,2,   1.8571,2,     7.74,2,   2166.3,2,   -999.0,9,   2314.4,2,     7.72,2,25, -999.00,   -999,  0.0000,   0.160,  3.5643,   0.011