BOTTLE,20220629CCHSIOAMB
EXPOCODE,SECT_ID,STNNBR,CASTNO,SAMPNO,BTLNBR,BTLNBR_FLAG_W,DATE,TIME,LATITUDE,LONGITUDE,DEPTH,CTDPRS,CTDTMP,CTDSAL,CTDSAL_FLAG_W,SALNTY,SALNTY_FLAG_W,CTDOXY,CTDOXY_FLAG_W,OXYGEN,OXYGEN_FLAG_W,SILCAT,SILCAT_FLAG_W,NITRAT,NITRAT_FLAG_W,NITRIT,NITRIT_FLAG_W,PHSPHT,PHSPHT_FLAG_W,CFC-11,CFC-11_FLAG_W,CFC-12,CFC-12_FLAG_W,TRITUM,TRITUM_FLAG_W,HELIUM,HELIUM_FLAG_W,DELHE3,DELHE3_FLAG_W,TCARBN,TCARBN_FLAG_W,PCO2,PCO2_FLAG_W,ALKALI,ALKALI_FLAG_W,PH,PH_FLAG_W,PH_TMP,PCO2TMP,CTDRAW,HELIER,DELHER,THETA,TRITER
,,,,,,,,,,,,DBAR,ITS-90,PSS-78,,PSS-78,,UMOL/KG,,UMOL/KG,,UMOL/KG,,UMOL/KG,,UMOL/KG,,UMOL/KG,,PMOL/KG,,PMOL/KG,,TU,,NMOL/KG,,PERCNT,,UMOL/KG,,UATM,,UMOL/KG,,,,DEG C,DEG C,,NMOL/KG,PERCNT,DEG C,TU
     316N151_2,   A24,    77,  1,     20,     20,2,19970615,0202, 60.8833, -26.9988, 1467,      2.8,   9.7214,  35.2033,2,  35.1950,2,    287.8,2,    320.8,2,     0.67,2,     5.60,2,     0.14,2,     0.41,2,    3.962,2,    2.108,2, -999.000,9,-999.0000,9,  -999.00,9,   2081.6,2,   -999.0,9,   2324.2,6,     7.90,6,25, -999.00,   -999,-999.0000,-999.000,  9.7210,-999.000
     316N151_2,   A24,    77,  1,     19,     19,2,19970615,0202, 60.8833, -26.9988, 1467,     29.4,   8.5922,  35.1826,2,  35.1820,2,    293.8,2,    293.5,2,     2.18,2,     8.99,2,     0.14,2,     0.63,2, -999.000,9, -999.000,9, -999.000,9,-999.0000,9,  -999.00,9,   2109.1,2,   -999.0,9,   2318.4,2,     7.84,2,25, -999.00,   -999,-999.0000,-999.000,  8.5891,-999.000
     316N151_2,   A24,    77,  1,     18,     18,2,19970615,0202, 60.8833, -26.9988, 1467,     84.9,   8.2991,  35.1672,2,  35.1710,2,    282.6,2,    284.9,2,     4.36,2,    10.52,2,     0.17,2,     0.75,2,    4.019,2,    2.108,2, -999.000,9,-999.0000,9,  -999.00,9,   2120.6,2,   -999.0,9,   2321.1,2,     7.82,2,25, -999.00,   -999,-999.0000,-999.000,  8.2904,-999.000
     316N151_2,   A24,    77,  1,     17,     17,2,19970615,0202, 60.8833, -26.9988, 1467,    125.0,   7.7874,  35.1591,2,  35.1598,2,    277.2,2,    275.6,2,     6.73,2,    13.19,2,     0.18,2,     0.90,2, -999.000,9, -999.000,9, -999.000,9,-999.0000,9,  -999.00,9,   2137.6,2,   -999.0,9,   2320.5,2,     7.78,2,25, -999.00,   -999,-999.0000,-999.000,  7.7750,-999.000
     316N151_2,   A24,    77,  1,     16,     16,2,19970615,0202, 60.8833, -26.9988, 1467,    165.3,   7.6175,  35.1551,2,  35.1556,2,    275.6,2,    274.7,2,     7.19,2,    13.85,2,     0.04,2,     0.92,2,    3.876,2,    2.025,2, -999.000,9,-999.0000,9,  -999.00,9,   2139.3,2,   -999.0,9,   2320.0,2,     7.78,2,25, -999.00,   -999,-999.0000,-999.000,  7.6013,-999.000
     316N151_2,   A24,    77,  1,     15,     15,2,19970615,0202, 60.8833, -26.9988, 1467,    245.5,   7.4291,  35.1510,2,  35.1507,2,    273.5,2,    273.4,2,     7.28,2,    13.95,2,     0.08,2,     0.94,2, -999.000,9, -999.000,9, -999.000,9,-999.0000,9,  -999.00,9,   2140.7,2,   -999.0,9,   2318.8,2,     7.78,2,25, -999.00,   -999,-999.0000,-999.000,  7.4051,-999.000
     316N151_2,   A24,    77,  1,     14,     14,2,19970615,0202, 60.8833, -26.9988, 1467,    346.2,   7.2603,  35.1387,2,  35.1393,2,    269.7,2,    273.2,2,     7.55,2,    14.29,2,     0.02,2,     0.95,2,    3.799,2,    1.990,2, -999.000,9,-999.0000,9,  -999.00,9,   2141.8,2,   -999.0,9,   2321.1,2,     7.78,2,25, -999.00,   -999,-999.0000,-999.000,  7.2267,-999.000
     316N151_2,   A24,    77,  1,     13,     13,2,19970615,0202, 60.8833, -26.9988, 1467,    446.8,   7.0573,  35.1288,2,  35.1280,2,    268.8,2,    271.3,2,     7.83,2,    14.68,2,     0.01,2,     0.98,2, -999.000,9, -999.000,9, -999.000,9,-999.0000,9,  -999.00,9,   2143.2,2,   -999.0,9,   2316.9,2,     7.76,2,25, -999.00,   -999,-999.0000,-999.000,  7.0144,-999.000
     316N151_2,   A24,    77,  1,     12,     12,2,19970615,0202, 60.8833, -26.9988, 1467,    547.4,   6.7390,  35.1016,2,  35.1020,2,    264.3,2,    265.7,2,     8.48,2,    15.25,2,     0.00,2,     1.02,2,    3.699,2,    1.902,2, -999.000,9,-999.0000,9,  -999.00,9,   2147.8,2,   -999.0,9,   2318.2,2,     7.76,2,25, -999.00,   -999,-999.0000,-999.000,  6.6874,-999.000
     316N151_2,   A24,    77,  1,     11,     11,2,19970615,0202, 60.8833, -26.9988, 1467,    647.5,   6.4492,  35.0827,2,  35.0823,2,    255.2,2,    251.7,2,     9.80,2,    16.29,2,     0.00,2,     1.09,2,    3.243,2,    1.648,2, -999.000,9,-999.0000,9,  -999.00,9,   2155.0,2,   -999.0,9,   2315.2,2,     7.73,2,25, -999.00,   -999,-999.0000,-999.000,  6.3891,-999.000
     316N151_2,   A24,    77,  1,     10,     10,2,19970615,0202, 60.8833, -26.9988, 1467,    718.5,   6.1522,  35.0630,2,  35.0624,2,    243.9,2,    244.7,2,    10.55,2,    17.04,2,     0.00,2,     1.13,2,    2.931,2,    1.472,2, -999.000,9,-999.0000,9,  -999.00,9,   2160.6,2,   -999.0,9,   2313.8,2,     7.62,4,25, -999.00,   -999,-999.0000,-999.000,  6.0868,-999.000
     316N151_2,   A24,    77,  1,      9,      9,2,19970615,0202, 60.8833, -26.9988, 1467,    868.9,   5.3326,  35.0186,2,  35.0185,2,    245.5,2,    247.3,2,    11.12,2,    17.33,2,     0.00,2,     1.15,2,    2.800,2,    1.363,2, -999.000,9,-999.0000,9,  -999.00,9,   2161.6,2,   -999.0,9,   2313.8,2,     7.71,2,25, -999.00,   -999,-999.0000,-999.000,  5.2581,-999.000
     316N151_2,   A24,    77,  1,      8,      8,2,19970615,0202, 60.8833, -26.9988, 1467,    959.9,   4.8997,  35.0009,2,  34.9998,2,    253.3,2,    254.9,2,    10.91,2,    16.86,2,     0.00,2,     1.13,2, -999.000,9, -999.000,9, -999.000,9,-999.0000,9,  -999.00,9,   2160.2,2,   -999.0,9,   2310.7,2,     7.72,2,25, -999.00,   -999,-999.0000,-999.000,  4.8199,-999.000
     316N151_2,   A24,    77,  1,      7,      7,2,19970615,0202, 60.8833, -26.9988, 1467,   1061.0,   4.5264,  34.9817,2,  34.9823,2,    259.3,2,    261.9,2,    10.81,2,    16.67,2,     0.00,2,     1.12,2,    2.868,2,    1.415,2, -999.000,9,-999.0000,9,  -999.00,9,   2159.7,2,   -999.0,9,   2310.8,2,     7.71,3,25, -999.00,   -999,-999.0000,-999.000,  4.4405,-999.000
     316N151_2,   A24,    77,  1,      6,      6,2,19970615,0202, 60.8833, -26.9988, 1467,   1162.2,   4.0999,  34.9689,2,  34.9687,2,    268.6,2,    268.0,2,    10.80,2,    16.34,2,     0.00,2,     1.10,2, -999.000,9, -999.000,9, -999.000,9,-999.0000,9,  -999.00,9,   2157.1,2,   -999.0,9,   2308.9,2,     7.72,2,25, -999.00,   -999,-999.0000,-999.000,  4.0088,-999.000
     316N151_2,   A24,    77,  1,      5,      5,2,19970615,0202, 60.8833, -26.9988, 1467,   1263.3,   3.9112,  34.9628,2,  34.9630,2,    270.3,2,    270.1,2,    10.88,2,    16.20,2,     0.00,2,     1.09,2,    2.748,2,    1.344,2, -999.000,9,-999.0000,9,  -999.00,9,   2156.3,2,   -999.0,9,   2309.2,2,     7.71,2,25, -999.00,   -999,-999.0000,-999.000,  3.8131,-999.000
     316N151_2,   A24,    77,  1,      4,      4,2,19970615,0202, 60.8833, -26.9988, 1467,   1313.7,   3.8446,  34.9631,2,  34.9628,2,    270.1,2,    271.1,2,    10.87,2,    16.20,2,     0.00,2,     1.10,2, -999.000,9, -999.000,9, -999.000,9,-999.0000,9,  -999.00,9,   2156.9,2,   -999.0,9,   2308.8,2,     7.72,2,25, -999.00,   -999,-999.0000,-999.000,  3.7427,-999.000
     316N151_2,   A24,    77,  1,      3,      3,2,19970615,0202, 60.8833, -26.9988, 1467,   1364.0,   3.7686,  34.9649,2,  34.9630,2,    270.5,2,    271.6,2,    10.86,2,    16.20,2,     0.00,2,     1.09,2,    2.732,2,    1.337,2, -999.000,9,-999.0000,9,  -999.00,9,   2157.1,2,   -999.0,9,   2314.1,3,     7.70,3,25, -999.00,   -999,-999.0000,-999.000,  3.6630,-999.000
     316N151_2,   A24,    77,  1,      2,      2,2,19970615,0202, 60.8833, -26.9988, 1467,   1414.5,   3.7240,  34.9634,2,  34.9630,2,    269.9,2,    273.2,2,    10.94,2,    16.10,2,     0.00,2,     1.09,2,    2.701,2,    1.323,2, -999.000,9,-999.0000,9,  -999.00,9,   2156.8,2,   -999.0,9,   2311.3,2,     7.72,2,25, -999.00,   -999,-999.0000,-999.000,  3.6145,-999.000
     316N151_2,   A24,    77,  1,      1,      1,2,19970615,0202, 60.8833, -26.9988, 1467,   1460.9,   3.7083,  34.9638,2,  34.9634,2,    269.4,2,    271.5,2,    10.93,2,    16.10,2,     0.00,2,     1.09,2,    2.713,2,    1.308,2, -999.000,9,-999.0000,9,  -999.00,9,   2157.9,2,   -999.0,9,   2308.1,2,     7.72,2,25, -999.00,   -999,-999.0000,-999.000,  3.5949,-999.000
     316N151_2,   A24,    78,  1,     16,     16,2,19970615,0434, 61.0425, -27.5317, 1052,      2.6,   9.5403,  35.1799,2,  35.1797,2,    319.3,2,    301.4,2,     2.03,2,     7.94,2,     0.14,2,     0.55,2, -999.000,9, -999.000,9,    1.496,2,   1.6917,4,     0.62,4,   2102.5,2,   -999.0,9,   2322.3,6,     7.86,6,25, -999.00,   -999,  0.0000,   0.170,  9.5400,   0.021
     316N151_2,   A24,    78,  1,     15,     15,2,19970615,0434, 61.0425, -27.5317, 1052,     33.2,   8.3920,  35.1734,2,  35.1719,2,    296.6,2,    300.1,2,     2.11,2,     8.69,2,     0.14,2,     0.59,2, -999.000,9, -999.000,9, -999.000,9,-999.0000,9,  -999.00,9,   -999.0,9,   -999.0,9,   -999.0,9,  -999.00,9,25, -999.00,   -999,-999.0000,-999.000,  8.3886,-999.000
     316N151_2,   A24,    78,  1,     14,     14,2,19970615,0434, 61.0425, -27.5317, 1052,     83.3,   8.1751,  35.1755,2,  35.1730,2,    291.0,2,    287.0,2,     4.17,2,    10.32,2,     0.16,2,     0.72,2, -999.000,9, -999.000,9,    1.450,2,   1.8307,2,    -1.82,2,   -999.0,9,   -999.0,9,   -999.0,9,  -999.00,9,25, -999.00,   -999,  0.0000,   0.170,  8.1666,   0.022
     316N151_2,   A24,    78,  1,     13,     13,2,19970615,0434, 61.0425, -27.5317, 1052,    134.1,   7.7389,  35.1700,2,  35.1697,2,    274.0,2,    275.0,2,     7.00,2,    13.52,2,     0.06,2,     0.90,2, -999.000,9, -999.000,9, -999.000,9,-999.0000,9,  -999.00,9,   -999.0,9,   -999.0,9,   -999.0,9,  -999.00,9,25, -999.00,   -999,-999.0000,-999.000,  7.7256,-999.000
     316N151_2,   A24,    78,  1,     12,     12,2,19970615,0434, 61.0425, -27.5317, 1052,    173.9,   7.5987,  35.1574,2,  35.1612,2,    272.2,2,    273.2,2,     7.27,2,    13.79,2,     0.03,2,     0.92,2, -999.000,9, -999.000,9,    1.493,2,   1.8343,2,    -1.17,2,   -999.0,9,   -999.0,9,   -999.0,9,  -999.00,9,25, -999.00,   -999,  0.0000,   0.170,  7.5816,   0.021
     316N151_2,   A24,    78,  1,     11,     11,2,19970615,0434, 61.0425, -27.5317, 1052,    263.5,   7.3243,  35.1394,2,  35.1403,2,    271.3,2,    272.5,2,     7.63,2,    14.18,2,     0.01,2,     0.95,2, -999.000,9, -999.000,9, -999.000,9,-999.0000,9,  -999.00,9,   -999.0,9,   -999.0,9,   -999.0,9,  -999.00,9,25, -999.00,   -999,-999.0000,-999.000,  7.2988,-999.000
     316N151_2,   A24,    78,  1,     10,     10,2,19970615,0434, 61.0425, -27.5317, 1052,    334.7,   7.2545,  35.1402,2,  35.1405,2,    273.1,2,    271.2,2,     7.80,2,    14.37,2,     0.00,2,     0.96,2, -999.000,9, -999.000,9,    1.411,2,   1.8799,2,    -0.33,2,   -999.0,9,   -999.0,9,   -999.0,9,  -999.00,9,25, -999.00,   -999,  0.0000,   0.130,  7.2221,   0.022
     316N151_2,   A24,    78,  1,      9,      9,2,19970615,0434, 61.0425, -27.5317, 1052,    385.5,   7.0469,  35.1174,2,  35.1163,2,    268.2,2,    275.6,2,     7.78,2,    14.42,2,     0.00,2,     0.96,2, -999.000,9, -999.000,9, -999.000,9,-999.0000,9,  -999.00,9,   -999.0,9,   -999.0,9,   -999.0,9,  -999.00,9,25, -999.00,   -999,-999.0000,-999.000,  7.0101,-999.000
     316N151_2,   A24,    78,  1,      8,      8,2,19970615,0434, 61.0425, -27.5317, 1052,    475.5,   6.9129,  35.1090,2,  35.1096,2,    265.8,2,    272.9,2,     7.95,2,    14.75,2,     0.00,2,     0.98,2, -999.000,9, -999.000,9,    1.378,2,   1.5525,4,     3.65,4,   -999.0,9,   -999.0,9,   -999.0,9,  -999.00,9,25, -999.00,   -999,  0.0000,   0.170,  6.8677,   0.021
     316N151_2,   A24,    78,  1,      7,      7,2,19970615,0434, 61.0425, -27.5317, 1052,    555.9,   6.6848,  35.0941,2,  35.0956,2,    260.2,2,    261.8,2,     8.88,2,    15.64,2,     0.00,2,     1.04,2, -999.000,9, -999.000,9, -999.000,9,-999.0000,9,  -999.00,9,   -999.0,9,   -999.0,9,   -999.0,9,  -999.00,9,25, -999.00,   -999,-999.0000,-999.000,  6.6326,-999.000
     316N151_2,   A24,    78,  1,      6,      6,2,19970615,0434, 61.0425, -27.5317, 1052,    656.4,   6.3051,  35.0723,2,  35.0724,2,    252.8,2,    255.2,2,     9.63,2,    16.21,2,     0.00,2,     1.08,2, -999.000,9, -999.000,9,    1.379,2,   1.8368,2,     2.65,2,   -999.0,9,   -999.0,9,   -999.0,9,  -999.00,9,25, -999.00,   -999,  0.0000,   0.150,  6.2449,   0.020
     316N151_2,   A24,    78,  1,      5,      5,2,19970615,0434, 61.0425, -27.5317, 1052,    747.3,   5.8548,  35.0482,2,  35.0483,2,    247.8,2,    246.9,2,    10.56,2,    16.96,2,     0.00,2,     1.13,2, -999.000,9, -999.000,9, -999.000,9,-999.0000,9,  -999.00,9,   -999.0,9,   -999.0,9,   -999.0,9,  -999.00,9,25, -999.00,   -999,-999.0000,-999.000,  5.7884,-999.000
     316N151_2,   A24,    78,  1,      4,      4,2,19970615,0434, 61.0425, -27.5317, 1052,    828.4,   5.2991,  35.0206,2,  35.0202,2,    245.6,2,    249.2,2,    10.83,2,    17.10,2,     0.00,2,     1.14,2,    2.855,2,    1.400,2,    1.325,2,   1.8506,2,     4.95,2,   -999.0,9,   -999.0,9,   -999.0,9,  -999.00,9,25, -999.00,   -999,  0.0000,   0.130,  5.2285,   0.019
     316N151_2,   A24,    78,  1,      3,      3,2,19970615,0434, 61.0425, -27.5317, 1052,    909.3,   4.9792,  35.0041,2,  35.0048,2,    250.4,2,    253.3,2,    10.81,2,    16.91,2,     0.00,2,     1.14,2,    2.826,2,    1.391,2, -999.000,9,-999.0000,9,  -999.00,9,   -999.0,9,   -999.0,9,   -999.0,9,  -999.00,9,25, -999.00,   -999,-999.0000,-999.000,  4.9035,-999.000
     316N151_2,   A24,    78,  1,      2,      2,2,19970615,0434, 61.0425, -27.5317, 1052,    959.4,   4.7561,  34.9939,2,  34.9948,2,    252.1,2,    257.4,2,    10.89,2,    16.86,2,     0.00,2,     1.13,2,    2.818,2,    1.394,2, -999.000,9,-999.0000,9,  -999.00,9,   -999.0,9,   -999.0,9,   -999.0,9,  -999.00,9,25, -999.00,   -999,-999.0000,-999.000,  4.6774,-999.000
     316N151_2,   A24,    78,  1,      1,      1,2,19970615,0434, 61.0425, -27.5317, 1052,   1030.3,   4.5429,  34.9841,2,  34.9852,2,    258.9,2,    260.4,2,    10.77,2,    16.72,2,     0.00,2,     1.12,2,    2.827,2,    1.407,2,    1.315,2,   1.8645,2,     5.44,2,   -999.0,9,   -999.0,9,   -999.0,9,  -999.00,9,25, -999.00,   -999,  0.0000,   0.130,  4.4596,   0.019
     316N151_2,   A24,    79,  1,     14,     14,2,19970615,0644, 61.1753, -27.9245,  995,      3.8,   8.9256,  35.1296,2,  35.1163,2,    291.9,2,    306.4,2,     2.17,2,     8.20,2,     0.13,2,     0.56,2,    4.047,2,    2.141,2, -999.000,9,-999.0000,9,  -999.00,9,   2099.2,2,    511.7,2,   2318.8,6,     7.87,2,25,   20.00,   -999,-999.0000,-999.000,  8.9252,-999.000
     316N151_2,   A24,    79,  1,     13,     13,2,19970615,0644, 61.1753, -27.9245,  995,     28.0,   8.1984,  35.1140,2,  35.1102,2,    288.5,2,    291.9,2,     3.10,2,     9.74,2,     0.14,2,     0.68,2,    4.045,2,    2.133,2, -999.000,9,-999.0000,9,  -999.00,9,   2112.5,2,    550.6,2,   2318.1,2,     7.83,2,25,   20.00,   -999,-999.0000,-999.000,  8.1956,-999.000
     316N151_2,   A24,    79,  1,     12,     12,2,19970615,0644, 61.1753, -27.9245,  995,     72.9,   7.8468,  35.0911,2,  35.1119,2,    285.2,2,    282.0,2,     5.46,2,    11.60,2,     0.16,2,     0.83,2,    3.993,2,    2.102,2, -999.000,9,-999.0000,9,  -999.00,9,   2126.7,2,    595.9,2,   2318.9,2,     7.80,2,25,   20.00,   -999,-999.0000,-999.000,  7.8396,-999.000
     316N151_2,   A24,    79,  1,     11,     11,2,19970615,0644, 61.1753, -27.9245,  995,    124.2,   7.4177,  35.1254,2,  35.1283,2,    275.8,2,    271.2,2,     7.63,2,    14.19,2,     0.12,2,     0.96,2,    3.816,2,    1.996,2, -999.000,9,-999.0000,9,  -999.00,9,   2141.4,2,    649.2,2,   2318.3,2,     7.78,2,25,   20.00,   -999,-999.0000,-999.000,  7.4057,-999.000
     316N151_2,   A24,    79,  1,     10,     10,2,19970615,0644, 61.1753, -27.9245,  995,    205.0,   7.1839,  35.1220,2,  35.1240,2,    272.4,2,    273.8,2,     7.81,2,    14.42,2,     0.02,2,     0.96,2,    3.786,2,    1.995,2, -999.000,9,-999.0000,9,  -999.00,9,   2142.4,2,    649.8,2,   2318.1,2,     7.77,2,25,   20.00,   -999,-999.0000,-999.000,  7.1643,-999.000
     316N151_2,   A24,    79,  1,      9,      9,2,19970615,0644, 61.1753, -27.9245,  995,    305.6,   7.0144,  35.1182,2,  35.1188,2,    270.2,2,   -999.0,5,     7.99,2,    14.67,2,     0.01,2,     0.98,2,    3.747,2,    1.968,2, -999.000,9,-999.0000,9,  -999.00,9,   2142.3,2,    657.4,2,   2317.3,2,     7.77,2,25,   20.00,   -999,-999.0000,-999.000,  6.9854,-999.000
     316N151_2,   A24,    79,  1,      8,      8,2,19970615,0644, 61.1753, -27.9245,  995,    374.7,   6.7688,  35.0874,2,  35.0870,2,    270.0,2,    275.3,2,     8.07,2,    14.71,2,     0.01,2,     0.99,2,    3.912,2,    2.046,2, -999.000,9,-999.0000,9,  -999.00,9,   2142.5,2,    660.5,2,   2315.5,2,     7.76,2,25,   20.00,   -999,-999.0000,-999.000,  6.7339,-999.000
     316N151_2,   A24,    79,  1,      7,      7,2,19970615,0644, 61.1753, -27.9245,  995,    465.7,   6.6512,  35.0884,2,  35.0891,2,    266.4,2,    269.7,2,     8.53,2,    15.18,2,     0.01,2,     1.02,2,    3.718,2,    1.929,2, -999.000,9,-999.0000,9,  -999.00,9,   2147.1,6,    675.2,2,   2314.9,2,     7.76,2,25,   20.00,   -999,-999.0000,-999.000,  6.6079,-999.000
     316N151_2,   A24,    79,  1,      6,      6,2,19970615,0644, 61.1753, -27.9245,  995,    557.0,   6.1828,  35.0453,2,  35.0458,2,    263.5,2,    263.5,2,     9.37,2,    15.89,2,     0.01,2,     1.06,2,    3.548,2,    1.824,2, -999.000,9,-999.0000,9,  -999.00,9,   2150.9,2,    699.8,2,   2314.0,2,     7.75,2,25,   20.00,   -999,-999.0000,-999.000,  6.1326,-999.000
     316N151_2,   A24,    79,  1,      5,      5,2,19970615,0644, 61.1753, -27.9245,  995,    659.3,   5.7485,  35.0161,2,  35.0159,2,    260.6,2,    262.3,2,     9.93,2,    16.31,2,     0.01,2,     1.09,2,    3.474,2,    1.767,2, -999.000,9,-999.0000,9,  -999.00,9,   2153.5,2,    716.1,2,   2312.5,2,     7.74,2,25,   20.00,   -999,-999.0000,-999.000,  5.6909,-999.000
     316N151_2,   A24,    79,  1,      4,      4,2,19970615,0644, 61.1753, -27.9245,  995,    757.5,   5.4497,  35.0063,2,  35.0055,2,    259.3,2,    258.2,2,    10.30,2,    16.78,2,     0.01,2,     1.12,2,    3.204,2,    1.622,2, -999.000,9,-999.0000,9,  -999.00,9,   2156.0,2,    736.9,2,   2313.0,2,     7.73,2,25,   20.00,   -999,-999.0000,-999.000,  5.3847,-999.000
     316N151_2,   A24,    79,  1,      3,      3,2,19970615,0644, 61.1753, -27.9245,  995,    856.8,   5.2411,  35.0023,2,  35.0002,2,    256.8,2,    256.2,2,    10.67,2,    16.97,2,     0.01,2,     1.13,2,    3.118,2,    1.555,2, -999.000,9,-999.0000,9,  -999.00,9,   2157.5,2,    744.9,2,   2311.0,2,     7.73,2,25,   20.00,   -999,-999.0000,-999.000,  5.1683,-999.000
     316N151_2,   A24,    79,  1,      2,      2,2,19970615,0644, 61.1753, -27.9245,  995,    929.2,   5.1912,  35.0074,2,  35.0073,2,    256.6,2,    255.6,2,    10.85,2,    16.96,2,     0.01,2,     1.13,2,    3.036,2,    1.506,2, -999.000,9,-999.0000,9,  -999.00,9,   2159.2,2,    746.4,2,   2311.7,2,     7.72,2,25,   20.00,   -999,-999.0000,-999.000,  5.1122,-999.000
     316N151_2,   A24,    79,  1,      1,      1,2,19970615,0644, 61.1753, -27.9245,  995,    999.8,   5.1871,  35.0075,2,  35.0083,2,    254.0,2,    255.0,2,    10.93,2,    16.92,2,     0.01,2,     1.13,2,    2.991,2,    1.472,2, -999.000,9,-999.0000,9,  -999.00,9,   2160.9,2,    747.7,2,   2312.0,2,     7.72,2,25,   20.00,   -999,-999.0000,-999.000,  5.1016,-999.000