BOTTLE,20220629CCHSIOAMB
EXPOCODE,SECT_ID,STNNBR,CASTNO,SAMPNO,BTLNBR,BTLNBR_FLAG_W,DATE,TIME,LATITUDE,LONGITUDE,DEPTH,CTDPRS,CTDTMP,CTDSAL,CTDSAL_FLAG_W,SALNTY,SALNTY_FLAG_W,CTDOXY,CTDOXY_FLAG_W,OXYGEN,OXYGEN_FLAG_W,SILCAT,SILCAT_FLAG_W,NITRAT,NITRAT_FLAG_W,NITRIT,NITRIT_FLAG_W,PHSPHT,PHSPHT_FLAG_W,CFC-11,CFC-11_FLAG_W,CFC-12,CFC-12_FLAG_W,TRITUM,TRITUM_FLAG_W,HELIUM,HELIUM_FLAG_W,DELHE3,DELHE3_FLAG_W,TCARBN,TCARBN_FLAG_W,PCO2,PCO2_FLAG_W,ALKALI,ALKALI_FLAG_W,PH,PH_FLAG_W,PH_TMP,PCO2TMP,CTDRAW,HELIER,DELHER,THETA,TRITER
,,,,,,,,,,,,DBAR,ITS-90,PSS-78,,PSS-78,,UMOL/KG,,UMOL/KG,,UMOL/KG,,UMOL/KG,,UMOL/KG,,UMOL/KG,,PMOL/KG,,PMOL/KG,,TU,,NMOL/KG,,PERCNT,,UMOL/KG,,UATM,,UMOL/KG,,,,DEG C,DEG C,,NMOL/KG,PERCNT,DEG C,TU
     316N151_2,   A24,   112,  1,     27,     27,2,19970621,0745, 55.2828, -37.6393, 2750,      2.9,   9.1681,  34.7659,2,  34.7665,2,    298.2,2,    292.4,2,     2.32,2,     6.88,2,     0.10,2,     0.54,2,    4.101,2,    2.145,2, -999.000,9,-999.0000,9,  -999.00,9,   2088.5,2,   -999.0,9,   2302.8,6,     7.86,6,25, -999.00,   -999,-999.0000,-999.000,  9.1678,-999.000
     316N151_2,   A24,   112,  1,     26,     26,2,19970621,0745, 55.2828, -37.6393, 2750,     31.9,   8.0973,  34.8230,2,  34.8131,2,    293.8,2,    293.9,2,     3.00,2,     8.29,2,     0.14,2,     0.63,2, -999.000,9, -999.000,9, -999.000,9,-999.0000,9,  -999.00,9,   2100.4,2,   -999.0,9,   2303.5,2,     7.84,2,25, -999.00,   -999,-999.0000,-999.000,  8.0941,-999.000
     316N151_2,   A24,   112,  1,     25,     25,2,19970621,0745, 55.2828, -37.6393, 2750,     56.9,   6.8726,  34.8444,2,  34.8495,2,    289.3,2,    287.1,2,     5.74,2,    12.44,2,     0.18,2,     0.88,2,    4.277,2,    2.236,2, -999.000,9,-999.0000,9,  -999.00,9,   2127.7,2,   -999.0,9,   2304.1,2,     7.78,2,25, -999.00,   -999,-999.0000,-999.000,  6.8674,-999.000
     316N151_2,   A24,   112,  1,     24,     24,2,19970621,0745, 55.2828, -37.6393, 2750,     96.1,   6.1638,  34.8705,2,  34.8689,2,    280.1,2,    280.8,2,     8.37,2,    14.84,2,     0.02,2,     1.01,2,    4.095,2,    2.129,2, -999.000,9,-999.0000,9,  -999.00,9,   2142.1,2,   -999.0,9,   2304.0,2,     7.75,2,25, -999.00,   -999,-999.0000,-999.000,  6.1555,-999.000
     316N151_2,   A24,   112,  1,     23,     23,2,19970621,0745, 55.2828, -37.6393, 2750,    155.6,   6.2479,  34.9251,2,  34.9330,2,    278.6,2,    280.6,2,     8.37,2,    14.90,2,     0.01,2,     1.01,2,    4.007,2,    2.111,2, -999.000,9,-999.0000,9,  -999.00,9,   2143.0,2,   -999.0,9,   2308.4,2,     7.76,2,25, -999.00,   -999,-999.0000,-999.000,  6.2343,-999.000
     316N151_2,   A24,   112,  1,     22,     22,2,19970621,0745, 55.2828, -37.6393, 2750,    206.7,   6.4086,  34.9844,2,  34.9842,2,    281.2,2,    280.1,2,     8.26,2,    14.85,2,     0.01,2,     1.00,2,    4.048,2,    2.114,2, -999.000,9,-999.0000,9,  -999.00,9,   2143.1,2,   -999.0,9,   2310.8,2,     7.76,2,25, -999.00,   -999,-999.0000,-999.000,  6.3901,-999.000
     316N151_2,   A24,   112,  1,     21,     21,2,19970621,0745, 55.2828, -37.6393, 2750,    267.8,   6.3367,  34.9921,2,  34.9928,2,    278.2,2,    280.7,2,     8.16,2,    14.90,2,     0.01,2,     1.00,2,    4.109,2,    2.148,2, -999.000,9,-999.0000,9,  -999.00,9,   2144.0,2,   -999.0,9,   2310.8,2,     7.76,2,25, -999.00,   -999,-999.0000,-999.000,  6.3128,-999.000
     316N151_2,   A24,   112,  1,     20,     20,2,19970621,0745, 55.2828, -37.6393, 2750,    338.3,   5.9921,  34.9572,2,  34.9533,2,    266.8,2,    273.2,2,     8.84,2,    15.60,2,     0.01,2,     1.04,2,    3.903,2,    2.031,2, -999.000,9,-999.0000,9,  -999.00,9,   2147.1,2,   -999.0,9,   2309.5,2,     7.74,2,25, -999.00,   -999,-999.0000,-999.000,  5.9627,-999.000
     316N151_2,   A24,   112,  1,     19,     19,2,19970621,0745, 55.2828, -37.6393, 2750,    387.6,   5.3419,  34.8674,2,  34.8690,2,    283.2,2,    290.2,2,     8.45,2,    14.90,2,     0.00,2,     1.01,2,    4.374,2,    2.265,2, -999.000,9,-999.0000,9,  -999.00,9,   2142.0,3,   -999.0,9,   2303.0,3,     7.75,2,25, -999.00,   -999,-999.0000,-999.000,  5.3101,-999.000
     316N151_2,   A24,   112,  1,     18,     18,2,19970621,0745, 55.2828, -37.6393, 2750,    432.8,   5.4438,  34.9104,2,  34.9121,2,    268.6,2,    256.7,2,    10.21,2,    17.01,2,     0.00,2,     1.13,2,    3.547,2,    1.792,2, -999.000,9,-999.0000,9,  -999.00,9,   2157.2,2,   -999.0,9,   2308.8,2,     7.72,2,25, -999.00,   -999,-999.0000,-999.000,  5.4077,-999.000
     316N151_2,   A24,   112,  1,     17,     17,2,19970621,0745, 55.2828, -37.6393, 2750,    518.1,   5.3219,  34.9650,2,  34.9670,2,    245.5,2,    242.4,2,    11.28,2,    18.08,2,     0.00,2,     1.19,2,    2.939,2,    1.443,2, -999.000,9,-999.0000,9,  -999.00,9,   2166.3,2,   -999.0,9,   2309.0,2,     7.70,2,25, -999.00,   -999,-999.0000,-999.000,  5.2789,-999.000
     316N151_2,   A24,   112,  1,     16,     16,2,19970621,0745, 55.2828, -37.6393, 2750,    608.6,   4.6216,  34.9295,2,  34.9298,2,    249.7,2,    250.1,2,    11.47,2,    18.18,2,     0.00,2,     1.20,2,    2.948,2,    1.432,2, -999.000,9,-999.0000,9,  -999.00,9,   2165.5,2,   -999.0,9,   2306.8,2,     7.70,2,25, -999.00,   -999,-999.0000,-999.000,  4.5740,-999.000
     316N151_2,   A24,   112,  1,     15,     15,2,19970621,0745, 55.2828, -37.6393, 2750,    708.2,   4.2200,  34.9124,2,  34.9071,2,    255.5,2,    259.8,2,    11.37,2,    17.85,2,     0.00,2,     1.18,2,    3.078,2,    1.491,2, -999.000,9,-999.0000,9,  -999.00,9,   2164.6,2,   -999.0,9,   2306.2,2,     7.71,2,25, -999.00,   -999,-999.0000,-999.000,  4.1663,-999.000
     316N151_2,   A24,   112,  1,     14,     14,2,19970621,0745, 55.2828, -37.6393, 2750,    807.5,   4.0081,  34.9201,2,  34.9199,2,    266.9,2,    264.9,2,    11.37,2,    17.61,2,     0.00,2,     1.16,2,    2.867,2,    1.399,2, -999.000,9,-999.0000,9,  -999.00,9,   2161.5,2,   -999.0,9,   2305.1,2,     7.70,2,25, -999.00,   -999,-999.0000,-999.000,  3.9476,-999.000
     316N151_2,   A24,   112,  1,     13,     13,2,19970621,0745, 55.2828, -37.6393, 2750,    910.0,   3.7071,  34.9051,2,  34.9057,2,    268.1,2,    271.6,2,    11.27,2,    17.38,2,     0.00,2,     1.15,2,    2.875,2,    1.395,2,    1.106,2,-999.0000,5,  -999.00,5,   2161.9,2,   -999.0,9,   2304.1,2,     7.71,2,25, -999.00,   -999,-999.0000,-999.000,  3.6403,   0.015
     316N151_2,   A24,   112,  1,     12,     12,2,19970621,0745, 55.2828, -37.6393, 2750,   1112.5,   3.4177,  34.8944,2,  34.8939,2,    283.4,2,    279.7,2,    11.16,2,    17.01,2,     0.00,2,     1.13,2,    2.994,2,    1.445,2, -999.000,9,-999.0000,9,  -999.00,9,   -999.0,9,   -999.0,9,   -999.0,9,  -999.00,9,25, -999.00,   -999,-999.0000,-999.000,  3.3369,-999.000
     316N151_2,   A24,   112,  1,     11,     11,2,19970621,0745, 55.2828, -37.6393, 2750,   1265.2,   3.1812,  34.8755,2,  34.8752,2,    288.4,2,    288.0,2,    10.97,2,    16.82,2,     0.00,2,     1.11,2,    3.353,2,    1.619,2, -999.000,9,-999.0000,9,  -999.00,9,   -999.0,9,   -999.0,9,   -999.0,9,  -999.00,9,25, -999.00,   -999,-999.0000,-999.000,  3.0901,-999.000
     316N151_2,   A24,   112,  1,     10,     10,2,19970621,0745, 55.2828, -37.6393, 2750,   1385.4,   3.1306,  34.8715,2,  34.8717,2,    294.6,2,    290.0,2,    10.87,2,    16.77,2,     0.00,2,     1.11,2,    3.424,2,    1.664,2, -999.000,9,-999.0000,9,  -999.00,9,   -999.0,9,   -999.0,9,   -999.0,9,  -999.00,9,25, -999.00,   -999,-999.0000,-999.000,  3.0301,-999.000
     316N151_2,   A24,   112,  1,      9,      9,2,19970621,0745, 55.2828, -37.6393, 2750,   1529.3,   3.0350,  34.8654,2,  34.8654,2,    288.3,2,    293.1,2,    10.77,2,    16.58,2,     0.00,2,     1.10,2,    3.562,2,    1.742,2, -999.000,9,-999.0000,9,  -999.00,9,   -999.0,9,   -999.0,9,   -999.0,9,  -999.00,9,25, -999.00,   -999,-999.0000,-999.000,  2.9236,-999.000
     316N151_2,   A24,   112,  1,      8,      8,2,19970621,0745, 55.2828, -37.6393, 2750,   1719.9,   3.1504,  34.8957,2,  34.8958,2,    284.6,2,    285.4,2,    11.35,2,    16.54,2,     0.00,2,     1.10,2,    2.905,2,    1.414,2, -999.000,9,-999.0000,9,  -999.00,9,   -999.0,9,   -999.0,9,   -999.0,9,  -999.00,9,25, -999.00,   -999,-999.0000,-999.000,  3.0210,-999.000
     316N151_2,   A24,   112,  1,      7,      7,2,19970621,0745, 55.2828, -37.6393, 2750,   1872.9,   3.2359,  34.9291,2,  34.9283,2,    277.8,2,    278.3,2,    12.03,2,    16.44,2,     0.00,2,     1.10,2,    2.388,2,    1.154,2, -999.000,9,-999.0000,9,  -999.00,9,   -999.0,9,   -999.0,9,   -999.0,9,  -999.00,9,25, -999.00,   -999,-999.0000,-999.000,  3.0915,-999.000
     316N151_2,   A24,   112,  1,      6,      6,2,19970621,0745, 55.2828, -37.6393, 2750,   2074.1,   3.1195,  34.9351,2,  34.9350,2,    273.8,2,    276.1,2,    13.10,2,    16.49,2,     0.00,2,     1.10,2,    1.956,2,    0.949,2, -999.000,9,-999.0000,9,  -999.00,9,   -999.0,9,   -999.0,9,   -999.0,9,  -999.00,9,25, -999.00,   -999,-999.0000,-999.000,  2.9583,-999.000
     316N151_2,   A24,   112,  1,      5,      5,2,19970621,0745, 55.2828, -37.6393, 2750,   2278.0,   3.0752,  34.9375,2,  34.9373,2,    273.1,2,    274.7,2,    13.68,2,    16.49,2,     0.00,2,     1.10,2,    1.850,2,    0.891,2, -999.000,9,-999.0000,9,  -999.00,9,   -999.0,9,   -999.0,9,   -999.0,9,  -999.00,9,25, -999.00,   -999,-999.0000,-999.000,  2.8955,-999.000
     316N151_2,   A24,   112,  1,      4,      4,2,19970621,0745, 55.2828, -37.6393, 2750,   2380.1,   3.0371,  34.9367,2,  34.9357,2,    272.9,2,    274.4,2,    14.07,2,    16.40,2,     0.00,2,     1.11,2,    1.743,2,    0.833,2, -999.000,9,-999.0000,9,  -999.00,9,   -999.0,9,   -999.0,9,   -999.0,9,  -999.00,9,25, -999.00,   -999,-999.0000,-999.000,  2.8482,-999.000
     316N151_2,   A24,   112,  1,      3,      3,2,19970621,0745, 55.2828, -37.6393, 2750,   2530.2,   2.9835,  34.9375,2,  34.9375,2,    274.8,2,    273.8,2,    14.65,2,    16.49,2,     0.00,2,     1.11,2,    1.642,2,    0.797,2, -999.000,9,-999.0000,9,  -999.00,9,   -999.0,9,   -999.0,9,   -999.0,9,  -999.00,9,25, -999.00,   -999,-999.0000,-999.000,  2.7809,-999.000
     316N151_2,   A24,   112,  1,      2,      2,2,19970621,0745, 55.2828, -37.6393, 2750,   2631.8,   2.9740,  34.9391,2,  34.9384,2,    273.6,2,    273.6,2,    14.84,2,    16.53,2,     0.00,2,     1.11,2,    1.599,2,    0.777,2, -999.000,9,-999.0000,9,  -999.00,9,   -999.0,9,   -999.0,9,   -999.0,9,  -999.00,9,25, -999.00,   -999,-999.0000,-999.000,  2.7615,-999.000
     316N151_2,   A24,   112,  1,      1,      1,2,19970621,0745, 55.2828, -37.6393, 2750,   2693.2,   2.9661,  34.9379,2,  34.9390,2,    277.4,2,    273.3,2,    14.94,2,    16.53,2,     0.00,2,     1.11,2,    1.615,2,    0.772,2, -999.000,9,-999.0000,9,  -999.00,9,   -999.0,9,   -999.0,9,   -999.0,9,  -999.00,9,25, -999.00,   -999,-999.0000,-999.000,  2.7476,-999.000