BOTTLE,20220629CCHSIOAMB
EXPOCODE,SECT_ID,STNNBR,CASTNO,SAMPNO,BTLNBR,BTLNBR_FLAG_W,DATE,TIME,LATITUDE,LONGITUDE,DEPTH,CTDPRS,CTDTMP,CTDSAL,CTDSAL_FLAG_W,SALNTY,SALNTY_FLAG_W,CTDOXY,CTDOXY_FLAG_W,OXYGEN,OXYGEN_FLAG_W,SILCAT,SILCAT_FLAG_W,NITRAT,NITRAT_FLAG_W,NITRIT,NITRIT_FLAG_W,PHSPHT,PHSPHT_FLAG_W,CFC-11,CFC-11_FLAG_W,CFC-12,CFC-12_FLAG_W,TRITUM,TRITUM_FLAG_W,HELIUM,HELIUM_FLAG_W,DELHE3,DELHE3_FLAG_W,TCARBN,TCARBN_FLAG_W,PCO2,PCO2_FLAG_W,ALKALI,ALKALI_FLAG_W,PH,PH_FLAG_W,PH_TMP,PCO2TMP,CTDRAW,HELIER,DELHER,THETA,TRITER
,,,,,,,,,,,,DBAR,ITS-90,PSS-78,,PSS-78,,UMOL/KG,,UMOL/KG,,UMOL/KG,,UMOL/KG,,UMOL/KG,,UMOL/KG,,PMOL/KG,,PMOL/KG,,TU,,NMOL/KG,,PERCNT,,UMOL/KG,,UATM,,UMOL/KG,,,,DEG C,DEG C,,NMOL/KG,PERCNT,DEG C,TU
     316N151_2,   A24,     9,  1,     28,     28,2,19970601,1222, 41.4148, -23.3452, 3875,      3.3,  17.0688,  36.0573,2,  36.0572,2,    297.6,2,    242.3,2,     0.45,2,     0.10,2,     0.00,2,     0.04,2, -999.000,9, -999.000,9, -999.000,9,-999.0000,9,  -999.00,9,   -999.0,9,   -999.0,9,   -999.0,9,  -999.00,9,25, -999.00,   -999,-999.0000,-999.000, 17.0683,-999.000
     316N151_2,   A24,     9,  1,     27,     27,2,19970601,1222, 41.4148, -23.3452, 3875,     46.8,  16.7227,  36.0489,2,  36.0503,2,    240.3,2,    243.0,2,     0.44,2,     0.10,2,     0.00,2,     0.04,2, -999.000,9, -999.000,9, -999.000,9,-999.0000,9,  -999.00,9,   -999.0,9,   -999.0,9,   -999.0,9,  -999.00,9,25, -999.00,   -999,-999.0000,-999.000, 16.7151,-999.000
     316N151_2,   A24,     9,  1,     26,     26,2,19970601,1222, 41.4148, -23.3452, 3875,    107.1,  14.5176,  35.9583,2,  35.9603,2,    230.7,2,    231.1,2,     1.67,2,     5.69,2,     0.02,2,     0.34,2, -999.000,9, -999.000,9, -999.000,9,-999.0000,9,  -999.00,9,   -999.0,9,   -999.0,9,   -999.0,9,  -999.00,9,25, -999.00,   -999,-999.0000,-999.000, 14.5017,-999.000
     316N151_2,   A24,     9,  1,     25,     25,2,19970601,1222, 41.4148, -23.3452, 3875,    156.7,  13.9017,  35.8971,2,  35.8972,2,    220.9,2,    222.1,2,     2.58,2,     8.06,2,     0.01,2,     0.47,2, -999.000,9, -999.000,9, -999.000,9,-999.0000,9,  -999.00,9,   -999.0,9,   -999.0,9,   -999.0,9,  -999.00,9,25, -999.00,   -999,-999.0000,-999.000, 13.8790,-999.000
     316N151_2,   A24,     9,  1,     24,     24,2,19970601,1222, 41.4148, -23.3452, 3875,    206.5,  13.3815,  35.8271,2,  35.8273,2,    214.1,2,    219.6,2,     3.29,2,     9.24,2,     0.01,2,     0.55,2, -999.000,9, -999.000,9, -999.000,9,-999.0000,9,  -999.00,9,   -999.0,9,   -999.0,9,   -999.0,9,  -999.00,9,25, -999.00,   -999,-999.0000,-999.000, 13.3523,-999.000
     316N151_2,   A24,     9,  1,     23,     23,2,19970601,1222, 41.4148, -23.3452, 3875,    277.4,  12.7587,  35.7340,2,  35.7342,2,    223.6,2,    221.0,2,     3.90,2,    10.22,2,     0.00,2,     0.61,2, -999.000,9, -999.000,9, -999.000,9,-999.0000,9,  -999.00,9,   -999.0,9,   -999.0,9,   -999.0,9,  -999.00,9,25, -999.00,   -999,-999.0000,-999.000, 12.7206,-999.000
     316N151_2,   A24,     9,  1,     22,     22,2,19970601,1222, 41.4148, -23.3452, 3875,    358.3,  12.2339,  35.6640,2,  35.6631,2,    226.4,2,    224.0,2,     3.89,2,    10.57,2,     0.00,2,     0.64,2, -999.000,9, -999.000,9, -999.000,9,-999.0000,9,  -999.00,9,   -999.0,9,   -999.0,9,   -999.0,9,  -999.00,9,25, -999.00,   -999,-999.0000,-999.000, 12.1859,-999.000
     316N151_2,   A24,     9,  1,     21,     21,2,19970601,1222, 41.4148, -23.3452, 3875,    457.4,  11.4680,  35.5623,2,  35.5617,2,    216.6,2,    215.8,2,     4.91,2,    12.73,2,     0.00,2,     0.77,2, -999.000,9, -999.000,9, -999.000,9,-999.0000,9,  -999.00,9,   -999.0,9,   -999.0,9,   -999.0,9,  -999.00,9,25, -999.00,   -999,-999.0000,-999.000, 11.4091,-999.000
     316N151_2,   A24,     9,  1,     20,     20,2,19970601,1222, 41.4148, -23.3452, 3875,    558.7,  10.8563,  35.5072,2,  35.5070,2,    213.2,2,    207.8,2,     6.14,2,    14.47,2,     0.00,2,     0.89,2, -999.000,9, -999.000,9, -999.000,9,-999.0000,9,  -999.00,9,   -999.0,9,   -999.0,9,   -999.0,9,  -999.00,9,25, -999.00,   -999,-999.0000,-999.000, 10.7864,-999.000
     316N151_2,   A24,     9,  1,     19,     19,2,19970601,1222, 41.4148, -23.3452, 3875,    669.5,   9.9921,  35.4199,2,  35.4193,2,    199.8,2,    195.3,2,     8.39,2,    16.68,2,     0.00,2,     1.04,2, -999.000,9, -999.000,9, -999.000,9,-999.0000,9,  -999.00,9,   -999.0,9,   -999.0,9,   -999.0,9,  -999.00,9,25, -999.00,   -999,-999.0000,-999.000,  9.9122,-999.000
     316N151_2,   A24,     9,  1,     18,     18,2,19970601,1222, 41.4148, -23.3452, 3875,    760.1,   9.4476,  35.4335,2,  35.4311,2,    190.7,2,    190.9,2,     9.51,2,    17.70,2,     0.00,2,     1.12,2, -999.000,9, -999.000,9, -999.000,9,-999.0000,9,  -999.00,9,   -999.0,9,   -999.0,9,   -999.0,9,  -999.00,9,25, -999.00,   -999,-999.0000,-999.000,  9.3594,-999.000
     316N151_2,   A24,     9,  1,     17,     17,2,19970601,1222, 41.4148, -23.3452, 3875,    910.4,   8.8316,  35.4987,2,  35.4975,2,    192.6,2,    191.9,2,    10.43,2,    18.05,2,     0.00,2,     1.14,2, -999.000,9, -999.000,9, -999.000,9,-999.0000,9,  -999.00,9,   -999.0,9,   -999.0,9,   -999.0,9,  -999.00,9,25, -999.00,   -999,-999.0000,-999.000,  8.7291,-999.000
     316N151_2,   A24,     9,  1,     16,     16,2,19970601,1222, 41.4148, -23.3452, 3875,   1010.9,   7.6056,  35.3396,2,  35.3415,2,    202.0,2,    204.3,2,    11.35,2,    18.51,2,     0.00,2,     1.18,2, -999.000,9, -999.000,9, -999.000,9,-999.0000,9,  -999.00,9,   -999.0,9,   -999.0,9,   -999.0,9,  -999.00,9,25, -999.00,   -999,-999.0000,-999.000,  7.5004,-999.000
     316N151_2,   A24,     9,  1,     15,     15,2,19970601,1222, 41.4148, -23.3452, 3875,   1111.6,   7.6531,  35.4504,2,  35.4492,2,    207.9,2,    206.9,2,    11.13,2,    18.04,2,     0.00,2,     1.14,2, -999.000,9, -999.000,9, -999.000,9,-999.0000,9,  -999.00,9,   -999.0,9,   -999.0,9,   -999.0,9,  -999.00,9,25, -999.00,   -999,-999.0000,-999.000,  7.5362,-999.000
     316N151_2,   A24,     9,  1,     14,     14,2,19970601,1222, 41.4148, -23.3452, 3875,   1212.3,   6.7673,  35.3476,2,  35.3466,2,    216.5,2,    219.4,2,    11.33,2,    18.04,2,     0.00,2,     1.15,2, -999.000,9, -999.000,9, -999.000,9,-999.0000,9,  -999.00,9,   -999.0,9,   -999.0,9,   -999.0,9,  -999.00,9,25, -999.00,   -999,-999.0000,-999.000,  6.6470,-999.000
     316N151_2,   A24,     9,  1,     13,     13,2,19970601,1222, 41.4148, -23.3452, 3875,   1412.2,   4.9045,  35.0847,2,  35.0846,2,    243.3,2,    247.7,2,    11.64,2,    17.93,2,     0.00,2,     1.16,2, -999.000,9, -999.000,9, -999.000,9,-999.0000,9,  -999.00,9,   -999.0,9,   -999.0,9,   -999.0,9,  -999.00,9,25, -999.00,   -999,-999.0000,-999.000,  4.7823,-999.000
     316N151_2,   A24,     9,  1,     12,     12,2,19970601,1222, 41.4148, -23.3452, 3875,   1613.6,   4.0050,  34.9592,2,  34.9610,2,    259.9,2,    265.0,2,    11.63,2,    17.67,2,     0.00,2,     1.15,2, -999.000,9, -999.000,9, -999.000,9,-999.0000,9,  -999.00,9,   -999.0,9,   -999.0,9,   -999.0,9,  -999.00,9,25, -999.00,   -999,-999.0000,-999.000,  3.8743,-999.000
     316N151_2,   A24,     9,  1,     11,     11,2,19970601,1222, 41.4148, -23.3452, 3875,   1817.0,   3.7868,  34.9471,2,  34.9466,2,    272.5,2,    269.2,2,    12.14,2,    17.51,2,     0.00,2,     1.15,2, -999.000,9, -999.000,9, -999.000,9,-999.0000,9,  -999.00,9,   -999.0,9,   -999.0,9,   -999.0,9,  -999.00,9,25, -999.00,   -999,-999.0000,-999.000,  3.6399,-999.000
     316N151_2,   A24,     9,  1,     10,     10,2,19970601,1222, 41.4148, -23.3452, 3875,   2016.0,   3.5676,  34.9402,2,  34.9439,2,    270.9,2,    269.6,2,    13.27,2,    17.45,2,     0.00,2,     1.15,2, -999.000,9, -999.000,9, -999.000,9,-999.0000,9,  -999.00,9,   -999.0,9,   -999.0,9,   -999.0,9,  -999.00,9,25, -999.00,   -999,-999.0000,-999.000,  3.4051,-999.000
     316N151_2,   A24,     9,  1,      9,      9,2,19970601,1222, 41.4148, -23.3452, 3875,   2216.4,   3.4285,  34.9504,2,  34.9503,2,    265.5,2,    266.2,2,    15.42,2,    17.65,2,     0.00,2,     1.17,2, -999.000,9, -999.000,9, -999.000,9,-999.0000,9,  -999.00,9,   -999.0,9,   -999.0,9,   -999.0,9,  -999.00,9,25, -999.00,   -999,-999.0000,-999.000,  3.2488,-999.000
     316N151_2,   A24,     9,  1,      8,      8,2,19970601,1222, 41.4148, -23.3452, 3875,   2416.2,   3.2616,  34.9538,2,  34.9541,2,    266.6,2,    262.5,2,    18.29,2,    18.00,2,     0.00,2,     1.20,2, -999.000,9, -999.000,9, -999.000,9,-999.0000,9,  -999.00,9,   -999.0,9,   -999.0,9,   -999.0,9,  -999.00,9,25, -999.00,   -999,-999.0000,-999.000,  3.0651,-999.000
     316N151_2,   A24,     9,  1,      7,      7,2,19970601,1222, 41.4148, -23.3452, 3875,   2617.7,   3.1069,  34.9531,2,  34.9529,2,    259.4,2,    259.9,2,    21.58,2,    18.46,2,     0.00,2,     1.24,2, -999.000,9, -999.000,9, -999.000,9,-999.0000,9,  -999.00,9,   -999.0,9,   -999.0,9,   -999.0,9,  -999.00,9,25, -999.00,   -999,-999.0000,-999.000,  2.8932,-999.000
     316N151_2,   A24,     9,  1,      6,      6,2,19970601,1222, 41.4148, -23.3452, 3875,   2820.2,   2.9728,  34.9486,2,  34.9542,4,    257.3,2,    257.5,2,    24.77,2,    18.86,2,     0.00,2,     1.27,2, -999.000,9, -999.000,9, -999.000,9,-999.0000,9,  -999.00,9,   -999.0,9,   -999.0,9,   -999.0,9,  -999.00,9,25, -999.00,   -999,-999.0000,-999.000,  2.7412,-999.000
     316N151_2,   A24,     9,  1,      5,      5,2,19970601,1222, 41.4148, -23.3452, 3875,   3069.7,   2.8136,  34.9405,2,  34.9395,2,    252.3,2,    250.3,3,    29.30,2,    19.57,2,     0.00,2,     1.31,2, -999.000,9, -999.000,9, -999.000,9,-999.0000,9,  -999.00,9,   -999.0,9,   -999.0,9,   -999.0,9,  -999.00,9,25, -999.00,   -999,-999.0000,-999.000,  2.5595,-999.000
     316N151_2,   A24,     9,  1,      4,      4,2,19970601,1222, 41.4148, -23.3452, 3875,   3276.6,   2.7410,  34.9341,2,  34.9335,2,    250.7,2,    250.0,2,    32.49,2,    20.08,2,     0.00,2,     1.36,2, -999.000,9, -999.000,9, -999.000,9,-999.0000,9,  -999.00,9,   -999.0,9,   -999.0,9,   -999.0,9,  -999.00,9,25, -999.00,   -999,-999.0000,-999.000,  2.4667,-999.000
     316N151_2,   A24,     9,  1,      3,      3,2,19970601,1222, 41.4148, -23.3452, 3875,   3530.9,   2.6625,  34.9262,2,  34.9257,2,    243.7,2,    245.8,2,    36.61,2,    21.05,2,     0.00,2,     1.41,2, -999.000,9, -999.000,9, -999.000,9,-999.0000,9,  -999.00,9,   -999.0,9,   -999.0,9,   -999.0,9,  -999.00,9,25, -999.00,   -999,-999.0000,-999.000,  2.3626,-999.000
     316N151_2,   A24,     9,  1,      2,      2,2,19970601,1222, 41.4148, -23.3452, 3875,   3788.8,   2.6344,  34.9204,2,  34.9203,2,    243.1,2,    243.8,2,    38.99,2,    21.45,2,     0.00,2,     1.43,2, -999.000,9, -999.000,9, -999.000,9,-999.0000,9,  -999.00,9,   -999.0,9,   -999.0,9,   -999.0,9,  -999.00,9,25, -999.00,   -999,-999.0000,-999.000,  2.3065,-999.000
     316N151_2,   A24,     9,  1,      1,      1,2,19970601,1222, 41.4148, -23.3452, 3875,   3960.1,   2.6124,  34.9162,2,  34.9160,2,    242.7,2,    242.0,2,    40.64,2,    21.70,2,     0.00,2,     1.47,2, -999.000,9, -999.000,9, -999.000,9,-999.0000,9,  -999.00,9,   -999.0,9,   -999.0,9,   -999.0,9,  -999.00,9,25, -999.00,   -999,-999.0000,-999.000,  2.2655,-999.000