BOTTLE,20220629CCHSIOAMB
EXPOCODE,SECT_ID,STNNBR,CASTNO,SAMPNO,BTLNBR,BTLNBR_FLAG_W,DATE,TIME,LATITUDE,LONGITUDE,DEPTH,CTDPRS,CTDTMP,CTDSAL,CTDSAL_FLAG_W,SALNTY,SALNTY_FLAG_W,CTDOXY,CTDOXY_FLAG_W,OXYGEN,OXYGEN_FLAG_W,SILCAT,SILCAT_FLAG_W,NITRAT,NITRAT_FLAG_W,NITRIT,NITRIT_FLAG_W,PHSPHT,PHSPHT_FLAG_W,CFC-11,CFC-11_FLAG_W,CFC-12,CFC-12_FLAG_W,TRITUM,TRITUM_FLAG_W,HELIUM,HELIUM_FLAG_W,DELHE3,DELHE3_FLAG_W,TCARBN,TCARBN_FLAG_W,PCO2,PCO2_FLAG_W,ALKALI,ALKALI_FLAG_W,PH,PH_FLAG_W,PH_TMP,PCO2TMP,CTDRAW,HELIER,DELHER,THETA,TRITER
,,,,,,,,,,,,DBAR,ITS-90,PSS-78,,PSS-78,,UMOL/KG,,UMOL/KG,,UMOL/KG,,UMOL/KG,,UMOL/KG,,UMOL/KG,,PMOL/KG,,PMOL/KG,,TU,,NMOL/KG,,PERCNT,,UMOL/KG,,UATM,,UMOL/KG,,,,DEG C,DEG C,,NMOL/KG,PERCNT,DEG C,TU
     316N151_2,   A24,     7,  1,     27,     27,4,19970601,0113, 40.7328, -24.3180, 3907,      2.3,  17.4928,  36.2000,2,  36.2062,2,    221.0,2,    239.9,2,     0.70,2,     0.10,2,     0.00,2,     0.04,2, -999.000,9, -999.000,9, -999.000,9,-999.0000,9,  -999.00,9,   -999.0,9,   -999.0,9,   -999.0,9,  -999.00,9,25, -999.00,   -999,-999.0000,-999.000, 17.4924,-999.000
     316N151_2,   A24,     7,  1,     26,     26,4,19970601,0113, 40.7328, -24.3180, 3907,     82.4,  16.0618,  36.1180,2,  36.1260,2,    239.8,2,    238.9,2,     0.98,2,     1.09,2,     0.10,2,     0.11,2, -999.000,9, -999.000,9, -999.000,9,-999.0000,9,  -999.00,9,   -999.0,9,   -999.0,9,   -999.0,9,  -999.00,9,25, -999.00,   -999,-999.0000,-999.000, 16.0486,-999.000
     316N151_2,   A24,     7,  1,     25,     25,4,19970601,0113, 40.7328, -24.3180, 3907,    136.5,  14.6964,  35.9944,2,  35.9949,2,    224.8,2,    224.1,2,     1.97,2,     5.95,2,     0.02,2,     0.36,2, -999.000,9, -999.000,9, -999.000,9,-999.0000,9,  -999.00,9,   -999.0,9,   -999.0,9,   -999.0,9,  -999.00,9,25, -999.00,   -999,-999.0000,-999.000, 14.6759,-999.000
     316N151_2,   A24,     7,  1,     24,     24,4,19970601,0113, 40.7328, -24.3180, 3907,    225.7,  13.6368,  35.8733,2,  35.8727,2,    213.0,2,    216.6,2,     3.28,2,     8.95,2,     0.01,2,     0.54,2, -999.000,9, -999.000,9, -999.000,9,-999.0000,9,  -999.00,9,   -999.0,9,   -999.0,9,   -999.0,9,  -999.00,9,25, -999.00,   -999,-999.0000,-999.000, 13.6045,-999.000
     316N151_2,   A24,     7,  1,     23,     23,4,19970601,0113, 40.7328, -24.3180, 3907,    315.5,  12.7866,  35.7411,2,  35.7428,2,    214.4,2,    218.8,2,     3.97,2,    10.39,2,     0.01,2,     0.64,2, -999.000,9, -999.000,9, -999.000,9,-999.0000,9,  -999.00,9,   -999.0,9,   -999.0,9,   -999.0,9,  -999.00,9,25, -999.00,   -999,-999.0000,-999.000, 12.7432,-999.000
     316N151_2,   A24,     7,  1,     22,     22,4,19970601,0113, 40.7328, -24.3180, 3907,    414.6,  12.1143,  35.6397,2,  35.6393,2,    221.5,2,    223.3,2,     4.45,2,    11.16,2,     0.00,2,     0.69,2, -999.000,9, -999.000,9, -999.000,9,-999.0000,9,  -999.00,9,   -999.0,9,   -999.0,9,   -999.0,9,  -999.00,9,25, -999.00,   -999,-999.0000,-999.000, 12.0591,-999.000
     316N151_2,   A24,     7,  1,     21,     21,4,19970601,0113, 40.7328, -24.3180, 3907,    514.2,  11.2831,  35.5287,2,  35.5270,2,    217.0,2,    217.0,2,     5.35,2,    13.17,2,     0.00,2,     0.82,2, -999.000,9, -999.000,9, -999.000,9,-999.0000,9,  -999.00,9,   -999.0,9,   -999.0,9,   -999.0,9,  -999.00,9,25, -999.00,   -999,-999.0000,-999.000, 11.2174,-999.000
     316N151_2,   A24,     7,  1,     20,     20,4,19970601,0113, 40.7328, -24.3180, 3907,    603.9,  10.7424,  35.4846,2,  35.4868,2,    214.2,2,    208.9,2,     6.35,2,    14.71,2,     0.00,2,     0.92,2, -999.000,9, -999.000,9, -999.000,9,-999.0000,9,  -999.00,9,   -999.0,9,   -999.0,9,   -999.0,9,  -999.00,9,25, -999.00,   -999,-999.0000,-999.000, 10.6672,-999.000
     316N151_2,   A24,     7,  1,     19,     19,4,19970601,0113, 40.7328, -24.3180, 3907,    713.7,  10.4442,  35.5379,2,  35.5365,2,    200.3,2,    194.3,2,     7.86,2,    16.31,2,     0.00,2,     1.03,2, -999.000,9, -999.000,9, -999.000,9,-999.0000,9,  -999.00,9,   -999.0,9,   -999.0,9,   -999.0,9,  -999.00,9,25, -999.00,   -999,-999.0000,-999.000, 10.3564,-999.000
     316N151_2,   A24,     7,  1,     18,     18,4,19970601,0113, 40.7328, -24.3180, 3907,    828.3,  10.2084,  35.6280,2,  35.6300,2,    183.6,2,    186.5,2,     9.07,2,    17.08,2,     0.00,2,     1.08,2, -999.000,9, -999.000,9, -999.000,9,-999.0000,9,  -999.00,9,   -999.0,9,   -999.0,9,   -999.0,9,  -999.00,9,25, -999.00,   -999,-999.0000,-999.000, 10.1072,-999.000
     316N151_2,   A24,     7,  1,     17,     17,4,19970601,0113, 40.7328, -24.3180, 3907,    881.6,   8.9320,  35.4116,2,  35.4124,2,    189.0,2,    192.0,2,    10.48,2,    18.31,2,     0.00,2,     1.18,2, -999.000,9, -999.000,9, -999.000,9,-999.0000,9,  -999.00,9,   -999.0,9,   -999.0,9,   -999.0,9,  -999.00,9,25, -999.00,   -999,-999.0000,-999.000,  8.8324,-999.000
     316N151_2,   A24,     7,  1,     16,     16,4,19970601,0113, 40.7328, -24.3180, 3907,    947.2,   8.8665,  35.4776,2,  35.4787,2,    192.3,2,    191.9,2,    10.56,2,    18.21,2,     0.00,2,     1.17,2, -999.000,9, -999.000,9, -999.000,9,-999.0000,9,  -999.00,9,   -999.0,9,   -999.0,9,   -999.0,9,  -999.00,9,25, -999.00,   -999,-999.0000,-999.000,  8.7594,-999.000
     316N151_2,   A24,     7,  1,     15,     15,4,19970601,0113, 40.7328, -24.3180, 3907,   1058.9,   8.5809,  35.5580,2,  35.5562,2,    198.5,2,    195.9,2,    10.84,2,    17.99,2,     0.00,2,     1.16,2, -999.000,9, -999.000,9, -999.000,9,-999.0000,9,  -999.00,9,   -999.0,9,   -999.0,9,   -999.0,9,  -999.00,9,25, -999.00,   -999,-999.0000,-999.000,  8.4625,-999.000
     316N151_2,   A24,     7,  1,     14,     14,4,19970601,0113, 40.7328, -24.3180, 3907,   1171.3,   7.4739,  35.4400,2,  35.4394,2,    210.1,2,    209.7,2,    11.43,2,    18.09,2,     0.00,2,     1.17,2, -999.000,9, -999.000,9, -999.000,9,-999.0000,9,  -999.00,9,   -999.0,9,   -999.0,9,   -999.0,9,  -999.00,9,25, -999.00,   -999,-999.0000,-999.000,  7.3517,-999.000
     316N151_2,   A24,     7,  1,     13,     13,4,19970601,0113, 40.7328, -24.3180, 3907,   1313.2,   6.2523,  35.2780,2,  35.2841,2,    223.9,2,    225.4,2,    11.71,2,    18.20,2,     0.00,2,     1.19,2, -999.000,9, -999.000,9, -999.000,9,-999.0000,9,  -999.00,9,   -999.0,9,   -999.0,9,   -999.0,9,  -999.00,9,25, -999.00,   -999,-999.0000,-999.000,  6.1261,-999.000
     316N151_2,   A24,     7,  1,     12,     12,4,19970601,0113, 40.7328, -24.3180, 3907,   1536.5,   4.7466,  35.0696,2,  35.0729,2,    252.8,2,    250.5,2,    11.69,2,    18.04,2,     0.00,2,     1.18,2, -999.000,9, -999.000,9, -999.000,9,-999.0000,9,  -999.00,9,   -999.0,9,   -999.0,9,   -999.0,9,  -999.00,9,25, -999.00,   -999,-999.0000,-999.000,  4.6142,-999.000
     316N151_2,   A24,     7,  1,     11,     11,4,19970601,0113, 40.7328, -24.3180, 3907,   1759.3,   4.0536,  34.9821,2,  34.9812,2,    264.0,2,    264.2,2,    12.18,2,    17.73,2,     0.00,2,     1.18,2, -999.000,9, -999.000,9, -999.000,9,-999.0000,9,  -999.00,9,   -999.0,9,   -999.0,9,   -999.0,9,  -999.00,9,25, -999.00,   -999,-999.0000,-999.000,  3.9086,-999.000
     316N151_2,   A24,     7,  1,     10,     10,4,19970601,0113, 40.7328, -24.3180, 3907,   1969.0,   3.7084,  34.9526,2,  34.9521,2,    267.3,2,    268.0,2,    13.90,2,    17.67,2,     0.00,2,     1.18,2, -999.000,9, -999.000,9, -999.000,9,-999.0000,9,  -999.00,9,   -999.0,9,   -999.0,9,   -999.0,9,  -999.00,9,25, -999.00,   -999,-999.0000,-999.000,  3.5482,-999.000
     316N151_2,   A24,     7,  1,      9,      9,4,19970601,0113, 40.7328, -24.3180, 3907,   2208.0,   3.5077,  34.9563,2,  34.9550,2,    265.6,2,    266.3,2,    15.21,2,    17.77,2,     0.00,2,     1.19,2, -999.000,9, -999.000,9, -999.000,9,-999.0000,9,  -999.00,9,   -999.0,9,   -999.0,9,   -999.0,9,  -999.00,9,25, -999.00,   -999,-999.0000,-999.000,  3.3275,-999.000
     316N151_2,   A24,     7,  1,      8,      8,4,19970601,0113, 40.7328, -24.3180, 3907,   2379.7,   3.3413,  34.9565,2,  34.9552,2,    262.9,2,    264.3,2,    17.35,2,    17.97,2,     0.00,2,     1.22,2, -999.000,9, -999.000,9, -999.000,9,-999.0000,9,  -999.00,9,   -999.0,9,   -999.0,9,   -999.0,9,  -999.00,9,25, -999.00,   -999,-999.0000,-999.000,  3.1471,-999.000
     316N151_2,   A24,     7,  1,      7,      7,4,19970601,0113, 40.7328, -24.3180, 3907,   2564.2,   3.1590,  34.9556,2,  34.9542,2,    260.4,2,    260.8,2,    20.93,2,    18.43,2,     0.00,2,     1.25,2, -999.000,9, -999.000,9, -999.000,9,-999.0000,9,  -999.00,9,   -999.0,9,   -999.0,9,   -999.0,9,  -999.00,9,25, -999.00,   -999,-999.0000,-999.000,  2.9497,-999.000
     316N151_2,   A24,     7,  1,      6,      6,4,19970601,0113, 40.7328, -24.3180, 3907,   2792.9,   2.9794,  34.9500,2,  34.9487,2,    256.4,2,    257.7,2,    24.82,2,    18.94,2,     0.00,2,     1.29,2, -999.000,9, -999.000,9, -999.000,9,-999.0000,9,  -999.00,9,   -999.0,9,   -999.0,9,   -999.0,9,  -999.00,9,25, -999.00,   -999,-999.0000,-999.000,  2.7505,-999.000
     316N151_2,   A24,     7,  1,      5,      5,4,19970601,0113, 40.7328, -24.3180, 3907,   3030.8,   2.8466,  34.9435,2,  34.9414,2,    252.3,2,    253.7,2,    28.81,2,    19.56,2,     0.00,2,     1.34,2, -999.000,9, -999.000,9, -999.000,9,-999.0000,9,  -999.00,9,   -999.0,9,   -999.0,9,   -999.0,9,  -999.00,9,25, -999.00,   -999,-999.0000,-999.000,  2.5959,-999.000
     316N151_2,   A24,     7,  1,      4,      4,4,19970601,0113, 40.7328, -24.3180, 3907,   3246.9,   2.7573,  34.9367,2,  34.9369,2,    250.3,2,    250.0,2,    32.61,2,    20.22,2,     0.00,2,     1.39,2, -999.000,9, -999.000,9, -999.000,9,-999.0000,9,  -999.00,9,   -999.0,9,   -999.0,9,   -999.0,9,  -999.00,9,25, -999.00,   -999,-999.0000,-999.000,  2.4858,-999.000
     316N151_2,   A24,     7,  1,      3,      3,4,19970601,0113, 40.7328, -24.3180, 3907,   3463.7,   2.7032,  34.9306,2,  34.9298,2,    249.4,2,    247.6,2,    35.37,2,    20.73,2,     0.00,2,     1.42,2, -999.000,9, -999.000,9, -999.000,9,-999.0000,9,  -999.00,9,   -999.0,9,   -999.0,9,   -999.0,9,  -999.00,9,25, -999.00,   -999,-999.0000,-999.000,  2.4096,-999.000
     316N151_2,   A24,     7,  1,      2,      2,4,19970601,0113, 40.7328, -24.3180, 3907,   3618.1,   2.6631,  34.9262,2,  34.9241,2,    243.5,2,    245.6,2,    37.52,2,    21.09,2,     0.00,2,     1.44,2, -999.000,9, -999.000,9, -999.000,9,-999.0000,9,  -999.00,9,   -999.0,9,   -999.0,9,   -999.0,9,  -999.00,9,25, -999.00,   -999,-999.0000,-999.000,  2.3535,-999.000
     316N151_2,   A24,     7,  1,      1,      1,2,19970601,0113, 40.7328, -24.3180, 3907,   3972.1,   2.6286,  34.9189,2,  34.9178,2,    244.2,2,    244.0,2,    40.08,2,    21.60,2,     0.00,2,     1.50,2, -999.000,9, -999.000,9, -999.000,9,-999.0000,9,  -999.00,9,   -999.0,9,   -999.0,9,   -999.0,9,  -999.00,9,25, -999.00,   -999,-999.0000,-999.000,  2.2799,-999.000