BOTTLE,20220629CCHSIOAMB
EXPOCODE,SECT_ID,STNNBR,CASTNO,SAMPNO,BTLNBR,BTLNBR_FLAG_W,DATE,TIME,LATITUDE,LONGITUDE,DEPTH,CTDPRS,CTDTMP,CTDSAL,CTDSAL_FLAG_W,SALNTY,SALNTY_FLAG_W,CTDOXY,CTDOXY_FLAG_W,OXYGEN,OXYGEN_FLAG_W,SILCAT,SILCAT_FLAG_W,NITRAT,NITRAT_FLAG_W,NITRIT,NITRIT_FLAG_W,PHSPHT,PHSPHT_FLAG_W,CFC-11,CFC-11_FLAG_W,CFC-12,CFC-12_FLAG_W,TRITUM,TRITUM_FLAG_W,HELIUM,HELIUM_FLAG_W,DELHE3,DELHE3_FLAG_W,TCARBN,TCARBN_FLAG_W,PCO2,PCO2_FLAG_W,ALKALI,ALKALI_FLAG_W,PH,PH_FLAG_W,PH_TMP,PCO2TMP,CTDRAW,HELIER,DELHER,THETA,TRITER
,,,,,,,,,,,,DBAR,ITS-90,PSS-78,,PSS-78,,UMOL/KG,,UMOL/KG,,UMOL/KG,,UMOL/KG,,UMOL/KG,,UMOL/KG,,PMOL/KG,,PMOL/KG,,TU,,NMOL/KG,,PERCNT,,UMOL/KG,,UATM,,UMOL/KG,,,,DEG C,DEG C,,NMOL/KG,PERCNT,DEG C,TU
     316N151_2,   A24,    89,  1,     27,     27,2,19970616,2120, 63.7437, -35.6687, 2178,      3.3,   7.7755,  35.0128,2,  35.0132,2,    302.5,2,    308.4,2,     1.46,2,     8.61,2,     0.14,2,     0.59,2,    4.426,2,    2.292,2,    1.520,2,   1.8095,2,    -1.71,2,   2106.9,2,    533.8,2,   2316.4,6,     7.84,6,25,   20.00,   -999,  0.0000,   0.170,  7.7752,   0.026
     316N151_2,   A24,    89,  1,     26,     26,2,19970616,2120, 63.7437, -35.6687, 2178,     35.4,   7.5263,  35.0192,2,  35.0224,2,    309.8,2,    310.1,2,     1.54,2,     8.84,2,     0.14,2,     0.61,2,    4.425,2,    2.263,2,    1.412,2,   1.8318,2,    -1.78,2,   2107.8,2,    536.4,2,   2315.9,2,     7.85,2,25,   20.00,   -999,  0.0000,   0.170,  7.5228,   0.020
     316N151_2,   A24,    89,  1,     25,     25,2,19970616,2120, 63.7437, -35.6687, 2178,     65.0,   6.9167,  35.0580,2,  35.0577,2,    294.2,2,    291.8,2,     4.48,2,    11.84,2,     0.17,2,     0.83,2, -999.000,9, -999.000,9, -999.000,9,-999.0000,9,  -999.00,9,   2128.7,2,    613.3,2,   2314.3,2,     7.79,2,25,   20.00,   -999,-999.0000,-999.000,  6.9107,-999.000
     316N151_2,   A24,    89,  1,     24,     24,2,19970616,2120, 63.7437, -35.6687, 2178,    104.9,   6.4501,  35.0541,2,  35.0534,2,    281.9,2,    283.7,2,     7.91,2,    14.01,2,     0.23,2,     0.98,2,    4.249,2,    2.197,2,    1.576,2,   1.8293,2,    -1.52,2,   2143.8,2,    670.4,2,   2315.1,2,     7.76,2,25,   20.00,   -999,  0.0000,   0.170,  6.4407,   0.022
     316N151_2,   A24,    89,  1,     23,     23,2,19970616,2120, 63.7437, -35.6687, 2178,    205.5,   5.9091,  35.0184,2,  35.0170,2,    281.1,2,    282.1,2,     8.49,2,    15.06,2,     0.08,2,     1.00,2, -999.000,9, -999.000,9,    0.400,4,   3.8920,4,   -10.50,4,   2145.8,2,    685.6,2,   2316.4,2,     7.75,2,25,   20.00,   -999,  0.0000,   0.150,  5.8916,   0.012
     316N151_2,   A24,    89,  1,     22,     22,2,19970616,2120, 63.7437, -35.6687, 2178,    316.5,   5.4112,  34.9739,2,  34.9743,2,    281.5,2,    278.4,2,     9.16,2,    15.74,2,     0.01,2,     1.05,2,    4.017,2,    2.047,2,    0.541,4,   1.8535,2,     0.40,2,   2147.6,2,    706.8,2,   2308.9,2,     7.74,2,25,   20.00,   -999,  0.0000,   0.170,  5.3851,   0.010
     316N151_2,   A24,    89,  1,     21,     21,2,19970616,2120, 63.7437, -35.6687, 2178,    426.2,   5.0528,  34.9556,2,  34.9546,2,    282.1,2,    282.3,2,     9.25,2,    15.84,2,     0.01,2,     1.05,2,    4.062,2,    2.072,2, -999.000,9,-999.0000,9,  -999.00,9,   2151.0,2,    712.8,2,   2308.0,2,     7.73,2,25,   20.00,   -999,-999.0000,-999.000,  5.0186,-999.000
     316N151_2,   A24,    89,  1,     20,     20,2,19970616,2120, 63.7437, -35.6687, 2178,    527.7,   4.4159,  34.9047,2,  34.9068,2,    281.9,2,    285.1,2,     9.63,2,    16.27,2,     0.00,2,     1.08,2,    4.163,2,    2.104,2,    1.345,2,-999.0000,5,  -999.00,5,   2152.0,2,    733.3,2,   2306.3,2,     7.73,2,25,   20.00,   -999,-999.0000,-999.000,  4.3758,   0.024
     316N151_2,   A24,    89,  1,     19,     19,2,19970616,2120, 63.7437, -35.6687, 2178,    627.7,   4.2249,  34.8986,2,  34.8991,2,    282.5,2,   -999.0,5,     9.91,2,    16.47,2,     0.00,2,     1.09,2,    4.078,2,    2.037,2, -999.000,9,-999.0000,9,  -999.00,9,   2153.1,2,    741.4,2,   2308.7,2,     7.72,2,25,   20.00,   -999,-999.0000,-999.000,  4.1776,-999.000
     316N151_2,   A24,    89,  1,     18,     18,2,19970616,2120, 63.7437, -35.6687, 2178,    728.1,   3.9809,  34.9031,2,  34.9040,2,    281.2,2,    276.8,2,    10.49,2,    16.94,2,     0.00,2,     1.12,2,    3.560,2,    1.769,2,    1.227,2,   1.8582,2,     3.53,2,   2152.9,2,    762.0,2,   2306.1,2,     7.71,2,25,   20.00,   -999,  0.0000,   0.210,  3.9269,   0.018
     316N151_2,   A24,    89,  1,     17,     17,2,19970616,2120, 63.7437, -35.6687, 2178,    828.7,   3.7822,  34.9123,2,  34.9107,2,    280.7,2,    278.1,2,    10.47,2,    16.51,2,     0.00,2,     1.09,2,    3.386,2,    1.645,2, -999.000,9,-999.0000,9,  -999.00,9,   2156.5,2,    755.1,2,   2306.6,2,     7.71,2,25,   20.00,   -999,-999.0000,-999.000,  3.7214,-999.000
     316N151_2,   A24,    89,  1,     16,     16,2,19970616,2120, 63.7437, -35.6687, 2178,    928.9,   3.6728,  34.9081,2,  34.9129,2,    281.6,2,    279.6,2,    10.56,2,    16.56,2,     0.00,2,     1.09,2, -999.000,9, -999.000,9,    1.310,2,   1.8491,2,     5.39,2,   2155.4,2,    757.1,2,   2305.0,2,     7.71,2,25,   20.00,   -999,  0.0000,   0.200,  3.6047,   0.021
     316N151_2,   A24,    89,  1,     15,     15,2,19970616,2120, 63.7437, -35.6687, 2178,   1028.6,   3.4994,  34.8974,2,  34.8972,2,    283.2,2,    283.2,2,    10.64,2,    16.65,2,     0.00,2,     1.10,2,    3.391,2,    1.656,2, -999.000,9,-999.0000,9,  -999.00,9,   2154.8,2,    758.7,2,   2304.6,2,     7.71,2,25,   20.00,   -999,-999.0000,-999.000,  3.4247,-999.000
     316N151_2,   A24,    89,  1,     14,     14,2,19970616,2120, 63.7437, -35.6687, 2178,   1128.4,   3.2952,  34.8834,2,  34.8844,2,    285.4,2,    288.6,2,    10.83,2,    16.79,2,     0.00,2,     1.11,2,    3.566,2,    1.719,2,    1.310,2,   0.0284,4,     6.26,4,   2155.5,2,    758.5,2,   2303.9,2,     7.71,2,25,   20.00,   -999,  0.0000,   0.790,  3.2141,   0.020
     316N151_2,   A24,    89,  1,     13,     13,2,19970616,2120, 63.7437, -35.6687, 2178,   1227.6,   3.2026,  34.8755,2,  34.8754,2,    288.8,2,    291.7,2,    10.72,2,    16.79,2,     0.00,2,     1.10,2, -999.000,9, -999.000,9, -999.000,9,-999.0000,9,  -999.00,9,   2153.2,2,    759.2,2,   2304.0,2,     7.71,2,25,   20.00,   -999,-999.0000,-999.000,  3.1144,-999.000
     316N151_2,   A24,    89,  1,     12,     12,2,19970616,2120, 63.7437, -35.6687, 2178,   1327.3,   3.1207,  34.8670,2,  34.8669,2,    290.8,2,    294.0,2,    10.70,2,    16.74,2,     0.00,2,     1.11,2,    3.781,2,    1.833,2, -999.000,5,   1.8799,2,     3.35,2,   2152.7,2,    756.3,2,   2302.2,2,     7.71,2,25,   20.00,   -999,  0.0000,   0.200,  3.0251,-999.000
     316N151_2,   A24,    89,  1,     11,     11,2,19970616,2120, 63.7437, -35.6687, 2178,   1437.1,   3.0319,  34.8584,2,  34.8575,2,    293.0,2,    297.5,2,    10.59,2,    16.65,2,     0.00,2,     1.10,2,    3.910,2,    1.880,2, -999.000,5,   1.9817,3,     2.36,3,   2153.8,2,    755.8,2,   2302.3,2,     7.71,2,25,   20.00,   -999,  0.0000,   0.200,  2.9283,-999.000
     316N151_2,   A24,    89,  1,     10,     10,2,19970616,2120, 63.7437, -35.6687, 2178,   1547.1,   2.9776,  34.8537,2,  34.8553,2,    293.7,2,    298.4,2,    10.58,2,    16.60,2,     0.00,2,     1.10,2, -999.000,9, -999.000,9, -999.000,9,-999.0000,9,  -999.00,9,   2153.5,2,   -999.0,9,   2302.8,2,     7.72,2,25, -999.00,   -999,-999.0000,-999.000,  2.8654,-999.000
     316N151_2,   A24,    89,  1,      9,      9,2,19970616,2120, 63.7437, -35.6687, 2178,   1638.9,   2.9535,  34.8532,2,  34.8563,2,    294.7,2,    297.7,2,    10.56,2,    16.50,2,     0.00,2,     1.10,2,    3.816,2,    1.836,2, -999.000,5,   1.8840,2,     3.41,2,   2149.4,2,    753.0,2,   2302.9,2,     7.71,2,25,   20.00,   -999,  0.0000,   0.200,  2.8338,-999.000
     316N151_2,   A24,    89,  1,      8,      8,2,19970616,2120, 63.7437, -35.6687, 2178,   1750.1,   2.9556,  34.8783,2,  34.8772,2,    294.3,2,    290.9,2,    11.04,2,    16.21,2,     0.00,2,     1.08,2,    3.183,2,    1.543,2, -999.000,9,-999.0000,9,  -999.00,9,   2149.0,2,    748.2,2,   2303.0,2,     7.72,2,25,   20.00,   -999,-999.0000,-999.000,  2.8262,-999.000
     316N151_2,   A24,    89,  1,      7,      7,2,19970616,2120, 63.7437, -35.6687, 2178,   1831.3,   2.6765,  34.8727,2,  34.8715,2,    295.6,2,    292.8,2,    10.24,2,    15.40,2,     0.00,2,     1.03,2,    3.430,2,    1.666,2, -999.000,5,   1.8918,2,     4.84,2,   2150.9,2,    745.7,2,   2303.0,2,     7.71,2,25,   20.00,   -999,  0.0000,   0.200,  2.5438,-999.000
     316N151_2,   A24,    89,  1,      6,      6,2,19970616,2120, 63.7437, -35.6687, 2178,   1912.8,   2.2595,  34.8609,2,  34.8603,2,    297.7,2,    297.0,2,     9.14,2,    14.49,2,     0.01,2,     0.98,2, -999.000,9, -999.000,9, -999.000,9,-999.0000,9,  -999.00,9,   2149.1,2,   -999.0,9,   2301.3,2,     7.72,2,25, -999.00,   -999,-999.0000,-999.000,  2.1258,-999.000
     316N151_2,   A24,    89,  1,      5,      5,2,19970616,2120, 63.7437, -35.6687, 2178,   1994.6,   2.1300,  34.8669,2,  34.8656,2,    299.0,2,    298.0,2,     9.03,2,    14.39,2,     0.01,2,     0.97,2,    3.793,2,    1.847,2, -999.000,5,   1.8853,2,     3.88,2,   2149.3,2,    745.7,2,   2303.4,2,     7.72,2,25,   20.00,   -999,  0.0000,   0.200,  1.9913,-999.000
     316N151_2,   A24,    89,  1,      4,      4,2,19970616,2120, 63.7437, -35.6687, 2178,   2046.4,   1.5804,  34.8773,2,  34.8776,2,    300.9,2,    300.5,2,     8.92,2,    14.15,2,     0.01,2,     0.96,2,    3.563,2,    1.732,2, -999.000,9,-999.0000,9,  -999.00,9,   2152.1,2,    749.1,2,   2304.9,2,     7.72,2,25,   20.00,   -999,-999.0000,-999.000,  1.4457,-999.000
     316N151_2,   A24,    89,  1,      3,      3,2,19970616,2120, 63.7437, -35.6687, 2178,   2098.1,   1.2024,  34.8767,2,  34.8764,2,    301.7,2,    303.4,2,     8.51,2,    13.77,2,     0.01,2,     0.94,2,    3.606,2,    1.736,2, -999.000,5,   1.8836,2,     4.87,2,   2153.2,2,    751.5,2,   2302.2,2,     7.71,2,25,   20.00,   -999,  0.0000,   0.200,  1.0695,-999.000
     316N151_2,   A24,    89,  1,      2,      2,2,19970616,2120, 63.7437, -35.6687, 2178,   2150.7,   1.1189,  34.8727,2,  34.8725,2,    302.4,2,    304.2,2,     8.40,2,    13.68,2,     0.01,2,     0.93,2,    3.705,2,    1.790,2, -999.000,9,-999.0000,9,  -999.00,9,   2147.8,2,   -999.0,9,   2305.7,2,     7.72,2,25, -999.00,   -999,-999.0000,-999.000,  0.9832,-999.000
     316N151_2,   A24,    89,  1,      1,      1,2,19970616,2120, 63.7437, -35.6687, 2178,   2182.1,   1.1180,  34.8730,2,  34.8729,2,    303.8,2,    302.1,2,     8.39,2,    13.67,2,     0.01,2,     0.94,2,    3.670,2,    1.781,2, -999.000,5,   1.8992,2,     4.23,2,   2152.3,2,    750.8,2,   2300.7,2,     7.71,2,25,   20.00,   -999,  0.0000,   0.200,  0.9798,-999.000
     316N151_2,   A24,    90,  1,     23,     23,2,19970617,0008, 63.8433, -35.9685, 1799,      2.7,   6.8734,  34.8689,2,  34.8699,2,   -999.0,5,    325.0,2,     0.79,2,     7.02,2,     0.13,2,     0.46,2, -999.000,9, -999.000,9, -999.000,9,-999.0000,9,  -999.00,9,   2091.4,2,   -999.0,9,   2312.1,6,     7.87,2,25, -999.00,   -999,-999.0000,-999.000,  6.8732,-999.000
     316N151_2,   A24,    90,  1,     22,     22,2,19970617,0008, 63.8433, -35.9685, 1799,     54.2,   7.1626,  34.9568,2,  34.9492,2,   -999.0,5,    318.4,2,     1.07,2,     7.91,2,     0.13,2,     0.52,2, -999.000,9, -999.000,9, -999.000,9,-999.0000,9,  -999.00,9,   -999.0,9,   -999.0,9,   -999.0,9,  -999.00,9,25, -999.00,   -999,-999.0000,-999.000,  7.1575,-999.000
     316N151_2,   A24,    90,  1,     21,     21,2,19970617,0008, 63.8433, -35.9685, 1799,    104.2,   6.4818,  34.9975,2,  34.9996,2,   -999.0,5,    299.0,2,     3.51,2,    11.04,2,     0.16,2,     0.76,2, -999.000,9, -999.000,9, -999.000,9,-999.0000,9,  -999.00,9,   -999.0,9,   -999.0,9,   -999.0,9,  -999.00,9,25, -999.00,   -999,-999.0000,-999.000,  6.4726,-999.000
     316N151_2,   A24,    90,  1,     20,     20,2,19970617,0008, 63.8433, -35.9685, 1799,    154.8,   6.3008,  35.0457,2,  35.0447,2,   -999.0,5,    286.6,2,     7.04,2,    13.83,2,     0.15,2,     0.94,2,    4.220,2,    2.184,2, -999.000,9,-999.0000,9,  -999.00,9,   -999.0,9,   -999.0,9,   -999.0,9,  -999.00,9,25, -999.00,   -999,-999.0000,-999.000,  6.2871,-999.000
     316N151_2,   A24,    90,  1,     19,     19,2,19970617,0008, 63.8433, -35.9685, 1799,    255.0,   5.9438,  35.0239,2,  35.0232,2,   -999.0,5,    284.9,2,     8.01,2,    14.63,2,     0.05,2,     0.98,2, -999.000,9, -999.000,9, -999.000,9,-999.0000,9,  -999.00,9,   -999.0,9,   -999.0,9,   -999.0,9,  -999.00,9,25, -999.00,   -999,-999.0000,-999.000,  5.9219,-999.000
     316N151_2,   A24,    90,  1,     18,     18,2,19970617,0008, 63.8433, -35.9685, 1799,    355.4,   5.4639,  34.9878,2,  34.9986,2,   -999.0,5,    280.9,2,     8.68,2,    15.34,2,     0.01,2,     1.02,2, -999.000,9, -999.000,9, -999.000,9,-999.0000,9,  -999.00,9,   -999.0,9,   -999.0,9,   -999.0,9,  -999.00,9,25, -999.00,   -999,-999.0000,-999.000,  5.4344,-999.000
     316N151_2,   A24,    90,  1,     17,     17,2,19970617,0008, 63.8433, -35.9685, 1799,    454.8,   5.0345,  34.9553,2,  34.9557,2,   -999.0,5,    281.2,2,     9.07,2,    15.67,2,     0.01,2,     1.04,2, -999.000,9, -999.000,9, -999.000,9,-999.0000,9,  -999.00,9,   -999.0,9,   -999.0,9,   -999.0,9,  -999.00,9,25, -999.00,   -999,-999.0000,-999.000,  4.9980,-999.000
     316N151_2,   A24,    90,  1,     16,     16,2,19970617,0008, 63.8433, -35.9685, 1799,    554.5,   4.6896,  34.9299,2,  34.9309,2,   -999.0,5,    281.4,2,     9.05,2,    15.39,2,     0.01,2,     1.03,2, -999.000,9, -999.000,9, -999.000,9,-999.0000,9,  -999.00,9,   -999.0,9,   -999.0,9,   -999.0,9,  -999.00,9,25, -999.00,   -999,-999.0000,-999.000,  4.6461,-999.000
     316N151_2,   A24,    90,  1,     15,     15,2,19970617,0008, 63.8433, -35.9685, 1799,    653.1,   4.3693,  34.9164,2,  34.9167,2,   -999.0,5,    279.8,2,     9.34,2,    15.68,2,     0.01,2,     1.05,2, -999.000,9, -999.000,9, -999.000,9,-999.0000,9,  -999.00,9,   -999.0,9,   -999.0,9,   -999.0,9,  -999.00,9,25, -999.00,   -999,-999.0000,-999.000,  4.3193,-999.000
     316N151_2,   A24,    90,  1,     14,     14,2,19970617,0008, 63.8433, -35.9685, 1799,    753.7,   4.0913,  34.9155,2,  34.9185,2,   -999.0,5,    277.7,2,     9.72,2,    16.01,2,     0.00,2,     1.07,2, -999.000,9, -999.000,9, -999.000,9,-999.0000,9,  -999.00,9,   -999.0,9,   -999.0,9,   -999.0,9,  -999.00,9,25, -999.00,   -999,-999.0000,-999.000,  4.0346,-999.000
     316N151_2,   A24,    90,  1,     13,     13,2,19970617,0008, 63.8433, -35.9685, 1799,    853.3,   3.8546,  34.9110,2,  34.9110,2,   -999.0,5,    278.4,2,     9.90,2,    16.06,2,     0.00,2,     1.07,2,    3.550,2,    1.736,2, -999.000,9,-999.0000,9,  -999.00,9,   -999.0,9,   -999.0,9,   -999.0,9,  -999.00,9,25, -999.00,   -999,-999.0000,-999.000,  3.7914,-999.000
     316N151_2,   A24,    90,  1,     12,     12,2,19970617,0008, 63.8433, -35.9685, 1799,    952.1,   3.5740,  34.9009,2,  34.9009,2,   -999.0,5,    281.8,2,     9.99,2,    16.02,2,     0.00,2,     1.07,2, -999.000,9, -999.000,9, -999.000,9,-999.0000,9,  -999.00,9,   -999.0,9,   -999.0,9,   -999.0,9,  -999.00,9,25, -999.00,   -999,-999.0000,-999.000,  3.5048,-999.000
     316N151_2,   A24,    90,  1,     11,     11,2,19970617,0008, 63.8433, -35.9685, 1799,   1051.5,   3.2986,  34.8843,2,  34.8818,2,   -999.0,5,    287.2,2,     9.98,2,    15.88,2,     0.00,2,     1.06,2, -999.000,9, -999.000,9, -999.000,9,-999.0000,9,  -999.00,9,   -999.0,9,   -999.0,9,   -999.0,9,  -999.00,9,25, -999.00,   -999,-999.0000,-999.000,  3.2236,-999.000
     316N151_2,   A24,    90,  1,     10,     10,2,19970617,0008, 63.8433, -35.9685, 1799,   1150.4,   3.1486,  34.8727,2,  34.8718,2,   -999.0,5,    291.3,2,    10.16,2,    16.17,2,     0.00,2,     1.07,2, -999.000,9, -999.000,9, -999.000,9,-999.0000,9,  -999.00,9,   -999.0,9,   -999.0,9,   -999.0,9,  -999.00,9,25, -999.00,   -999,-999.0000,-999.000,  3.0671,-999.000
     316N151_2,   A24,    90,  1,      9,      9,2,19970617,0008, 63.8433, -35.9685, 1799,   1251.3,   3.0090,  34.8605,2,  34.8596,2,   -999.0,5,    296.6,2,    10.45,2,    16.45,2,     0.00,2,     1.09,2,    3.837,2,    1.878,2, -999.000,9,-999.0000,9,  -999.00,9,   -999.0,9,   -999.0,9,   -999.0,9,  -999.00,9,25, -999.00,   -999,-999.0000,-999.000,  2.9208,-999.000
     316N151_2,   A24,    90,  1,      8,      8,2,19970617,0008, 63.8433, -35.9685, 1799,   1351.4,   2.9565,  34.8635,2,  34.8623,2,   -999.0,5,    294.2,2,    10.24,2,    16.03,2,     0.00,2,     1.07,2,    3.793,2,    1.838,2, -999.000,9,-999.0000,9,  -999.00,9,   -999.0,9,   -999.0,9,   -999.0,9,  -999.00,9,25, -999.00,   -999,-999.0000,-999.000,  2.8607,-999.000
     316N151_2,   A24,    90,  1,      7,      7,2,19970617,0008, 63.8433, -35.9685, 1799,   1434.2,   2.8213,  34.8653,2,  34.8641,2,   -999.0,5,    292.6,2,     9.74,2,    15.27,2,     0.00,2,     1.02,2, -999.000,9, -999.000,9, -999.000,9,-999.0000,9,  -999.00,9,   -999.0,9,   -999.0,9,   -999.0,9,  -999.00,9,25, -999.00,   -999,-999.0000,-999.000,  2.7201,-999.000
     316N151_2,   A24,    90,  1,      6,      6,2,19970617,0008, 63.8433, -35.9685, 1799,   1506.0,   2.4872,  34.8663,2,  34.8637,2,   -999.0,5,    294.7,2,     9.43,2,    14.84,2,     0.01,2,     1.00,2,    3.726,2,    1.818,2, -999.000,9,-999.0000,9,  -999.00,9,   -999.0,9,   -999.0,9,   -999.0,9,  -999.00,9,25, -999.00,   -999,-999.0000,-999.000,  2.3841,-999.000
     316N151_2,   A24,    90,  1,      5,      5,2,19970617,0008, 63.8433, -35.9685, 1799,   1588.1,   2.3861,  34.8690,2,  34.8708,2,   -999.0,5,    294.8,2,     9.42,2,    14.89,2,     0.00,2,     1.00,2, -999.000,9, -999.000,9, -999.000,9,-999.0000,9,  -999.00,9,   -999.0,9,   -999.0,9,   -999.0,9,  -999.00,9,25, -999.00,   -999,-999.0000,-999.000,  2.2775,-999.000
     316N151_2,   A24,    90,  1,      4,      4,2,19970617,0008, 63.8433, -35.9685, 1799,   1639.8,   2.1634,  34.8709,2,  34.8684,2,   -999.0,5,    295.9,2,     9.35,2,    14.61,2,     0.02,2,     0.99,2, -999.000,9, -999.000,9, -999.000,9,-999.0000,9,  -999.00,9,   -999.0,9,   -999.0,9,   -999.0,9,  -999.00,9,25, -999.00,   -999,-999.0000,-999.000,  2.0535,-999.000
     316N151_2,   A24,    90,  1,      3,      3,2,19970617,0008, 63.8433, -35.9685, 1799,   1692.9,   1.9515,  34.8689,2,  34.8670,2,   -999.0,5,    297.8,2,     8.84,2,    14.33,2,     0.01,2,     0.97,2,    3.741,2,    1.820,2, -999.000,9,-999.0000,9,  -999.00,9,   -999.0,9,   -999.0,9,   -999.0,9,  -999.00,9,25, -999.00,   -999,-999.0000,-999.000,  1.8400,-999.000
     316N151_2,   A24,    90,  1,      2,      2,2,19970617,0008, 63.8433, -35.9685, 1799,   1745.4,   1.6122,  34.8568,2,  34.8623,2,   -999.0,5,    300.9,2,     8.50,2,    13.99,2,     0.01,2,     0.95,2, -999.000,9, -999.000,9, -999.000,9,-999.0000,9,  -999.00,9,   -999.0,9,   -999.0,9,   -999.0,9,  -999.00,9,25, -999.00,   -999,-999.0000,-999.000,  1.5011,-999.000
     316N151_2,   A24,    90,  1,      1,      1,2,19970617,0008, 63.8433, -35.9685, 1799,   1797.5,   1.5139,  34.8623,2,  34.8615,2,   -999.0,5,    301.7,2,     8.39,2,    13.90,2,     0.02,2,     0.95,2,    3.812,2,    1.854,2, -999.000,9,-999.0000,9,  -999.00,9,   -999.0,9,   -999.0,9,   -999.0,9,  -999.00,9,25, -999.00,   -999,-999.0000,-999.000,  1.4001,-999.000