BOTTLE,20220629CCHSIOAMB
EXPOCODE,SECT_ID,STNNBR,CASTNO,SAMPNO,BTLNBR,BTLNBR_FLAG_W,DATE,TIME,LATITUDE,LONGITUDE,DEPTH,CTDPRS,CTDTMP,CTDSAL,CTDSAL_FLAG_W,SALNTY,SALNTY_FLAG_W,CTDOXY,CTDOXY_FLAG_W,OXYGEN,OXYGEN_FLAG_W,SILCAT,SILCAT_FLAG_W,NITRAT,NITRAT_FLAG_W,NITRIT,NITRIT_FLAG_W,PHSPHT,PHSPHT_FLAG_W,CFC-11,CFC-11_FLAG_W,CFC-12,CFC-12_FLAG_W,TRITUM,TRITUM_FLAG_W,HELIUM,HELIUM_FLAG_W,DELHE3,DELHE3_FLAG_W,TCARBN,TCARBN_FLAG_W,PCO2,PCO2_FLAG_W,ALKALI,ALKALI_FLAG_W,PH,PH_FLAG_W,PH_TMP,PCO2TMP,CTDRAW,HELIER,DELHER,THETA,TRITER
,,,,,,,,,,,,DBAR,ITS-90,PSS-78,,PSS-78,,UMOL/KG,,UMOL/KG,,UMOL/KG,,UMOL/KG,,UMOL/KG,,UMOL/KG,,PMOL/KG,,PMOL/KG,,TU,,NMOL/KG,,PERCNT,,UMOL/KG,,UATM,,UMOL/KG,,,,DEG C,DEG C,,NMOL/KG,PERCNT,DEG C,TU
     316N151_2,   A24,   150,  1,     19,     19,2,19970628,0852, 39.7000, -27.4495, 1831,      3.1,  18.9924,  36.0213,2,  36.0224,2,    244.2,2,    238.7,2,     0.56,2,     0.09,2,     0.00,2,     0.04,2,    2.605,2,    1.493,2, -999.000,9,-999.0000,9,  -999.00,9,   2067.9,2,   -999.0,9,   2363.9,6,     7.99,2,25, -999.00,   -999,-999.0000,-999.000, 18.9919,-999.000
     316N151_2,   A24,   150,  1,     18,     18,2,19970628,0852, 39.7000, -27.4495, 1831,     45.1,  16.3320,  35.9707,2,  35.9791,2,    240.5,2,    245.5,2,     0.64,2,     0.09,2,     0.01,2,     0.05,2,    2.788,2,    1.517,2, -999.000,9,-999.0000,9,  -999.00,9,   2069.1,2,   -999.0,9,   2362.0,2,     7.97,2,25, -999.00,   -999,-999.0000,-999.000, 16.3248,-999.000
     316N151_2,   A24,   150,  1,     17,     17,2,19970628,0852, 39.7000, -27.4495, 1831,     78.5,  15.7352,  36.0338,2,  36.0264,2,    241.1,2,    234.7,2,     1.03,2,     3.17,2,     0.21,2,     0.20,2,    2.810,2,    1.516,2, -999.000,9,-999.0000,9,  -999.00,9,   2091.0,2,   -999.0,9,   2363.0,2,     7.95,2,25, -999.00,   -999,-999.0000,-999.000, 15.7229,-999.000
     316N151_2,   A24,   150,  1,     16,     16,2,19970628,0852, 39.7000, -27.4495, 1831,    134.3,  14.5955,  35.9781,2,  35.9810,2,    232.2,2,    229.1,2,     2.22,2,     6.84,2,     0.02,2,     0.40,2,    2.839,2,    1.536,2, -999.000,9,-999.0000,9,  -999.00,9,   2110.5,2,   -999.0,9,   2359.2,2,     7.91,2,25, -999.00,   -999,-999.0000,-999.000, 14.5754,-999.000
     316N151_2,   A24,   150,  1,     15,     15,2,19970628,0852, 39.7000, -27.4495, 1831,    195.3,  13.8731,  35.8784,2,  35.8768,2,    234.5,2,    238.3,2,     2.71,2,     7.78,2,     0.02,2,     0.47,2,    2.880,2,    1.559,2, -999.000,9,-999.0000,9,  -999.00,9,   2114.7,2,   -999.0,9,   2354.4,2,     7.89,2,25, -999.00,   -999,-999.0000,-999.000, 13.8449,-999.000
     316N151_2,   A24,   150,  1,     14,     14,2,19970628,0852, 39.7000, -27.4495, 1831,    305.0,  12.9643,  35.7442,2,  35.7451,2,    213.2,2,    219.0,2,     4.11,2,    10.39,2,     0.01,2,     0.63,2,    2.746,2,    1.469,2, -999.000,9,-999.0000,9,  -999.00,9,   2128.5,2,   -999.0,9,   2346.7,2,     7.86,2,25, -999.00,   -999,-999.0000,-999.000, 12.9220,-999.000
     316N151_2,   A24,   150,  1,     13,     13,2,19970628,0852, 39.7000, -27.4495, 1831,    405.4,  11.9974,  35.6046,2,  35.6052,2,    214.1,2,    213.7,2,     5.21,2,    12.35,2,     0.00,2,     0.76,2,    2.651,2,    1.399,2, -999.000,9,-999.0000,9,  -999.00,9,   2138.5,2,   -999.0,9,   2339.2,2,     7.83,2,25, -999.00,   -999,-999.0000,-999.000, 11.9438,-999.000
     316N151_2,   A24,   150,  1,     12,     12,2,19970628,0852, 39.7000, -27.4495, 1831,    486.5,  11.2399,  35.4935,2,  35.4937,2,    204.4,2,    203.3,2,     6.41,2,    14.40,2,     0.00,2,     0.89,2,    2.520,2,    1.304,2, -999.000,9,-999.0000,9,  -999.00,9,   2146.4,2,   -999.0,9,   2333.3,2,     7.79,2,25, -999.00,   -999,-999.0000,-999.000, 11.1780,-999.000
     316N151_2,   A24,   150,  1,     11,     11,2,19970628,0852, 39.7000, -27.4495, 1831,    577.2,  10.1806,  35.3790,2,  35.3831,2,    197.5,2,    196.0,2,     8.11,2,    16.55,2,     0.00,2,     1.04,2,    2.234,2,    1.131,2, -999.000,9,-999.0000,9,  -999.00,9,   2157.9,2,   -999.0,9,   2329.8,2,     7.76,2,25, -999.00,   -999,-999.0000,-999.000, 10.1112,-999.000
     316N151_2,   A24,   150,  1,     10,     10,2,19970628,0852, 39.7000, -27.4495, 1831,    667.9,   9.2074,  35.3477,2,  35.3202,2,    185.7,2,    187.8,2,    10.33,2,    18.61,2,     0.00,2,     1.19,2,    1.658,2,    0.826,2, -999.000,9,-999.0000,9,  -999.00,9,   2169.7,2,   -999.0,9,   2328.1,2,     7.73,2,25, -999.00,   -999,-999.0000,-999.000,  9.1315,-999.000
     316N151_2,   A24,   150,  1,      9,      9,2,19970628,0852, 39.7000, -27.4495, 1831,    737.7,   8.8615,  35.3343,2,  35.3354,2,    192.2,2,    191.2,2,    10.41,2,    18.52,2,     0.00,2,     1.18,2,    1.571,2,    0.795,2, -999.000,9,-999.0000,9,  -999.00,9,   2172.4,2,   -999.0,9,   2330.4,2,     7.73,2,25, -999.00,   -999,-999.0000,-999.000,  8.7792,-999.000
     316N151_2,   A24,   150,  1,      8,      8,2,19970628,0852, 39.7000, -27.4495, 1831,    808.3,   7.8266,  35.2617,2,  35.2610,2,    194.8,2,    195.9,2,    11.41,2,    19.04,2,     0.00,2,     1.23,2,    1.511,2,    0.742,2, -999.000,9,-999.0000,9,  -999.00,9,   2177.8,2,   -999.0,9,   2328.1,2,     7.71,2,25, -999.00,   -999,-999.0000,-999.000,  7.7423,-999.000
     316N151_2,   A24,   150,  1,      7,      7,2,19970628,0852, 39.7000, -27.4495, 1831,    888.5,   7.3895,  35.2725,2,  35.2704,2,    204.4,2,    204.6,2,    11.40,2,    18.76,2,     0.00,2,     1.21,2,    1.495,2,    0.735,2, -999.000,9,-999.0000,9,  -999.00,9,   2176.9,2,   -999.0,9,   2329.8,2,     7.72,2,25, -999.00,   -999,-999.0000,-999.000,  7.2992,-999.000
     316N151_2,   A24,   150,  1,      6,      6,2,19970628,0852, 39.7000, -27.4495, 1831,   1010.6,   6.5123,  35.2214,2,  35.2182,2,    219.2,2,    218.3,2,    11.89,2,    18.53,2,     0.00,2,     1.20,2,    1.337,2,    0.658,2, -999.000,9,-999.0000,9,  -999.00,9,   2174.7,2,   -999.0,9,   2325.6,2,     7.72,2,25, -999.00,   -999,-999.0000,-999.000,  6.4155,-999.000
     316N151_2,   A24,   150,  1,      5,      5,2,19970628,0852, 39.7000, -27.4495, 1831,   1212.5,   5.5286,  35.1317,2,  35.1320,2,    231.4,2,    233.9,2,    12.28,2,    18.30,2,     0.00,2,     1.19,2,    1.344,2,    0.654,2, -999.000,9,-999.0000,9,  -999.00,9,   2170.9,2,   -999.0,9,   2321.3,2,     7.72,2,25, -999.00,   -999,-999.0000,-999.000,  5.4197,-999.000
     316N151_2,   A24,   150,  1,      4,      4,2,19970628,0852, 39.7000, -27.4495, 1831,   1415.0,   4.7719,  35.0524,2,  35.0521,2,    247.3,2,    246.9,2,    12.47,2,    18.07,2,     0.00,2,     1.19,2,    1.391,2,    0.678,2, -999.000,9,-999.0000,9,  -999.00,9,   2165.5,2,   -999.0,9,   2315.9,2,     7.72,2,25, -999.00,   -999,-999.0000,-999.000,  4.6510,-999.000
     316N151_2,   A24,   150,  1,      3,      3,2,19970628,0852, 39.7000, -27.4495, 1831,   1616.5,   4.1869,  34.9925,2,  34.9956,2,    256.1,2,    256.9,2,    12.76,2,    17.84,2,     0.00,2,     1.17,2,    1.392,2,    0.677,2, -999.000,9,-999.0000,9,  -999.00,9,   2161.3,2,   -999.0,9,   2313.1,2,     7.72,2,25, -999.00,   -999,-999.0000,-999.000,  4.0536,-999.000
     316N151_2,   A24,   150,  1,      2,      2,2,19970628,0852, 39.7000, -27.4495, 1831,   1718.0,   3.7934,  34.9595,2,  34.9588,2,    260.9,2,    264.1,2,    13.56,2,    17.70,2,     0.00,2,     1.17,2,    1.264,2,    0.622,2, -999.000,9,-999.0000,9,  -999.00,9,   2162.0,2,   -999.0,9,   2310.4,2,     7.71,2,25, -999.00,   -999,-999.0000,-999.000,  3.6556,-999.000
     316N151_2,   A24,   150,  1,      1,      1,2,19970628,0852, 39.7000, -27.4495, 1831,   1835.4,   3.4530,  34.9404,2,  34.9431,2,    266.4,2,    264.0,2,    15.89,2,    17.84,2,     0.01,2,     1.19,2,    0.991,2,    0.513,2, -999.000,9,-999.0000,9,  -999.00,9,   2161.8,2,   -999.0,9,   2313.4,2,     7.71,2,25, -999.00,   -999,-999.0000,-999.000,  3.3090,-999.000
     316N151_2,   A24,   151,  1,     17,     17,2,19970628,1203, 39.3832, -27.3005, 1582,      4.2,  19.3846,  36.1434,2,  36.1430,2,    251.8,2,    236.1,2,     0.00,2,     0.05,2,     0.00,2,     0.02,2, -999.000,9, -999.000,9, -999.000,9,-999.0000,9,  -999.00,9,   2070.3,2,    353.4,2,   2368.5,6,     8.00,2,25,   20.00,   -999,-999.0000,-999.000, 19.3839,-999.000
     316N151_2,   A24,   151,  1,     16,     16,2,19970628,1203, 39.3832, -27.3005, 1582,     35.2,  17.5976,  36.1329,2,  36.1223,2,    244.3,2,    245.8,2,     0.00,2,     0.05,2,     0.00,2,     0.02,2, -999.000,9, -999.000,9, -999.000,9,-999.0000,9,  -999.00,9,   -999.0,9,   -999.0,9,   -999.0,9,  -999.00,9,25, -999.00,   -999,-999.0000,-999.000, 17.5917,-999.000
     316N151_2,   A24,   151,  1,     15,     15,2,19970628,1203, 39.3832, -27.3005, 1582,     64.1,  16.6664,  36.0859,2,  36.0883,2,    242.0,2,    240.4,2,     0.24,2,     0.53,2,     0.04,2,     0.06,2, -999.000,9, -999.000,9, -999.000,9,-999.0000,9,  -999.00,9,   -999.0,9,   -999.0,9,   -999.0,9,  -999.00,9,25, -999.00,   -999,-999.0000,-999.000, 16.6559,-999.000
     316N151_2,   A24,   151,  1,     14,     14,2,19970628,1203, 39.3832, -27.3005, 1582,    116.3,  15.1993,  36.0630,2,  36.0691,2,    229.6,2,    229.3,2,     1.14,2,     5.34,2,     0.01,2,     0.32,2, -999.000,9, -999.000,9, -999.000,9,-999.0000,9,  -999.00,9,   -999.0,9,   -999.0,9,   -999.0,9,  -999.00,9,25, -999.00,   -999,-999.0000,-999.000, 15.1814,-999.000
     316N151_2,   A24,   151,  1,     13,     13,2,19970628,1203, 39.3832, -27.3005, 1582,    165.8,  14.8346,  36.0220,2,  36.0238,2,    224.2,2,    226.7,2,     1.84,2,     6.66,2,     0.01,2,     0.39,2, -999.000,9, -999.000,9, -999.000,9,-999.0000,9,  -999.00,9,   -999.0,9,   -999.0,9,   -999.0,9,  -999.00,9,25, -999.00,   -999,-999.0000,-999.000, 14.8095,-999.000
     316N151_2,   A24,   151,  1,     12,     12,2,19970628,1203, 39.3832, -27.3005, 1582,    236.3,  14.4429,  35.9737,2,  35.9754,2,    228.1,2,    229.3,2,     2.02,2,     7.13,2,     0.01,2,     0.43,2, -999.000,9, -999.000,9, -999.000,9,-999.0000,9,  -999.00,9,   -999.0,9,   -999.0,9,   -999.0,9,  -999.00,9,25, -999.00,   -999,-999.0000,-999.000, 14.4077,-999.000
     316N151_2,   A24,   151,  1,     11,     11,2,19970628,1203, 39.3832, -27.3005, 1582,    356.5,  13.2016,  35.7841,2,  35.7844,2,    217.5,2,    220.3,2,     3.33,2,     9.83,2,     0.00,2,     0.60,2, -999.000,9, -999.000,9, -999.000,9,-999.0000,9,  -999.00,9,   -999.0,9,   -999.0,9,   -999.0,9,  -999.00,9,25, -999.00,   -999,-999.0000,-999.000, 13.1515,-999.000
     316N151_2,   A24,   151,  1,     10,     10,2,19970628,1203, 39.3832, -27.3005, 1582,    453.3,  12.3547,  35.6609,2,  35.6758,2,    210.2,2,    213.3,2,     4.23,2,    11.77,2,     0.00,2,     0.72,2, -999.000,9, -999.000,9, -999.000,9,-999.0000,9,  -999.00,9,   -999.0,9,   -999.0,9,   -999.0,9,  -999.00,9,25, -999.00,   -999,-999.0000,-999.000, 12.2934,-999.000
     316N151_2,   A24,   151,  1,      9,      9,2,19970628,1203, 39.3832, -27.3005, 1582,    548.7,  11.2614,  35.4959,2,  35.4932,2,    203.6,2,    201.9,2,     6.14,2,    14.65,2,     0.00,2,     0.91,2, -999.000,9, -999.000,9, -999.000,9,-999.0000,9,  -999.00,9,   -999.0,9,   -999.0,9,   -999.0,9,  -999.00,9,25, -999.00,   -999,-999.0000,-999.000, 11.1913,-999.000
     316N151_2,   A24,   151,  1,      8,      8,2,19970628,1203, 39.3832, -27.3005, 1582,    638.8,  10.2338,  35.4228,2,  35.4225,2,    192.2,2,    191.8,2,     7.96,2,    16.87,2,     0.00,2,     1.05,2, -999.000,9, -999.000,9, -999.000,9,-999.0000,9,  -999.00,9,   -999.0,9,   -999.0,9,   -999.0,9,  -999.00,9,25, -999.00,   -999,-999.0000,-999.000, 10.1565,-999.000
     316N151_2,   A24,   151,  1,      7,      7,2,19970628,1203, 39.3832, -27.3005, 1582,    760.1,   8.9246,  35.3499,2,  35.3475,2,    191.0,2,    191.5,2,     9.87,2,    18.43,2,     0.00,2,     1.17,2, -999.000,9, -999.000,9, -999.000,9,-999.0000,9,  -999.00,9,   -999.0,9,   -999.0,9,   -999.0,9,  -999.00,9,25, -999.00,   -999,-999.0000,-999.000,  8.8394,-999.000
     316N151_2,   A24,   151,  1,      6,      6,2,19970628,1203, 39.3832, -27.3005, 1582,    849.2,   7.8183,  35.2518,2,  35.2461,2,    190.9,2,    195.0,2,    11.07,2,    19.32,2,     0.00,2,     1.24,2, -999.000,9, -999.000,9, -999.000,9,-999.0000,9,  -999.00,9,   -999.0,9,   -999.0,9,   -999.0,9,  -999.00,9,25, -999.00,   -999,-999.0000,-999.000,  7.7296,-999.000
     316N151_2,   A24,   151,  1,      5,      5,2,19970628,1203, 39.3832, -27.3005, 1582,    958.9,   7.2277,  35.2636,2,  35.2626,2,    206.9,2,    206.4,2,    11.25,2,    18.89,2,     0.00,2,     1.22,2, -999.000,9, -999.000,9, -999.000,9,-999.0000,9,  -999.00,9,   -999.0,9,   -999.0,9,   -999.0,9,  -999.00,9,25, -999.00,   -999,-999.0000,-999.000,  7.1310,-999.000
     316N151_2,   A24,   151,  1,      4,      4,2,19970628,1203, 39.3832, -27.3005, 1582,   1111.0,   6.2703,  35.1967,2,  35.1964,2,    219.8,2,    222.6,2,    11.64,2,    18.54,2,     0.00,2,     1.20,2, -999.000,9, -999.000,9, -999.000,9,-999.0000,9,  -999.00,9,   -999.0,9,   -999.0,9,   -999.0,9,  -999.00,9,25, -999.00,   -999,-999.0000,-999.000,  6.1650,-999.000
     316N151_2,   A24,   151,  1,      3,      3,2,19970628,1203, 39.3832, -27.3005, 1582,   1342.9,   5.1438,  35.0920,2,  35.0901,2,    241.4,2,    240.7,2,    12.34,2,    18.25,2,     0.00,2,     1.19,2, -999.000,9, -999.000,9, -999.000,9,-999.0000,9,  -999.00,9,   -999.0,9,   -999.0,9,   -999.0,9,  -999.00,9,25, -999.00,   -999,-999.0000,-999.000,  5.0259,-999.000
     316N151_2,   A24,   151,  1,      2,      2,2,19970628,1203, 39.3832, -27.3005, 1582,   1464.5,   4.7427,  35.0513,2,  35.0509,2,    244.2,2,    248.1,2,    12.52,2,    18.15,2,     0.00,2,     1.19,2, -999.000,9, -999.000,9, -999.000,9,-999.0000,9,  -999.00,9,   -999.0,9,   -999.0,9,   -999.0,9,  -999.00,9,25, -999.00,   -999,-999.0000,-999.000,  4.6174,-999.000
     316N151_2,   A24,   151,  1,      1,      1,2,19970628,1203, 39.3832, -27.3005, 1582,   1592.8,   4.5300,  35.0278,2,  35.0285,2,    251.2,2,    251.4,2,    13.21,2,    18.09,2,     0.00,2,     1.19,2, -999.000,9, -999.000,9, -999.000,9,-999.0000,9,  -999.00,9,   -999.0,9,   -999.0,9,   -999.0,9,  -999.00,9,25, -999.00,   -999,-999.0000,-999.000,  4.3948,-999.000