BOTTLE,20220629CCHSIOAMB
EXPOCODE,SECT_ID,STNNBR,CASTNO,SAMPNO,BTLNBR,BTLNBR_FLAG_W,DATE,TIME,LATITUDE,LONGITUDE,DEPTH,CTDPRS,CTDTMP,CTDSAL,CTDSAL_FLAG_W,SALNTY,SALNTY_FLAG_W,CTDOXY,CTDOXY_FLAG_W,OXYGEN,OXYGEN_FLAG_W,SILCAT,SILCAT_FLAG_W,NITRAT,NITRAT_FLAG_W,NITRIT,NITRIT_FLAG_W,PHSPHT,PHSPHT_FLAG_W,CFC-11,CFC-11_FLAG_W,CFC-12,CFC-12_FLAG_W,TRITUM,TRITUM_FLAG_W,HELIUM,HELIUM_FLAG_W,DELHE3,DELHE3_FLAG_W,TCARBN,TCARBN_FLAG_W,PCO2,PCO2_FLAG_W,ALKALI,ALKALI_FLAG_W,PH,PH_FLAG_W,PH_TMP,PCO2TMP,CTDRAW,HELIER,DELHER,THETA,TRITER
,,,,,,,,,,,,DBAR,ITS-90,PSS-78,,PSS-78,,UMOL/KG,,UMOL/KG,,UMOL/KG,,UMOL/KG,,UMOL/KG,,UMOL/KG,,PMOL/KG,,PMOL/KG,,TU,,NMOL/KG,,PERCNT,,UMOL/KG,,UATM,,UMOL/KG,,,,DEG C,DEG C,,NMOL/KG,PERCNT,DEG C,TU
     316N151_2,   A24,    66,  1,     10,     10,2,19970613,0642, 58.6982, -17.8512,  665,      2.2,  10.5345,  35.3362,2,  35.3410,2,    306.8,2,    281.7,2,     1.58,2,     6.91,2,     0.12,2,     0.47,2,    3.702,2,    1.964,2, -999.000,9,-999.0000,9,  -999.00,9,   2102.5,2,   -999.0,9,   2329.5,6,     7.89,2,25, -999.00,   -999,-999.0000,-999.000, 10.5342,-999.000
     316N151_2,   A24,    66,  1,      9,      9,2,19970613,0642, 58.6982, -17.8512,  665,     52.8,   9.9093,  35.3333,2,  35.3368,2,    273.1,2,    267.7,2,     3.75,2,     9.95,2,     0.15,2,     0.67,2,    3.631,2,    1.914,2, -999.000,9,-999.0000,9,  -999.00,9,   2124.7,2,   -999.0,9,   2329.8,2,     7.83,2,25, -999.00,   -999,-999.0000,-999.000,  9.9032,-999.000
     316N151_2,   A24,    66,  1,      8,      8,2,19970613,0642, 58.6982, -17.8512,  665,    103.4,   9.7388,  35.3585,2,  35.3556,2,    266.3,2,    262.0,2,     5.45,2,    11.68,2,     0.07,2,     0.76,2,    3.568,2,    1.874,2, -999.000,9,-999.0000,9,  -999.00,9,   2131.3,2,   -999.0,9,   2330.3,2,     7.82,2,25, -999.00,   -999,-999.0000,-999.000,  9.7270,-999.000
     316N151_2,   A24,    66,  1,      7,      7,2,19970613,0642, 58.6982, -17.8512,  665,    144.8,   9.6686,  35.3615,2,  35.3606,2,    261.4,2,    261.7,2,     5.72,2,    11.96,2,     0.03,2,     0.77,2,    3.549,2,    1.868,2, -999.000,9,-999.0000,9,  -999.00,9,   2132.6,2,   -999.0,9,   2328.4,2,     7.82,2,25, -999.00,   -999,-999.0000,-999.000,  9.6521,-999.000
     316N151_2,   A24,    66,  1,      6,      6,2,19970613,0642, 58.6982, -17.8512,  665,    203.5,   9.4756,  35.3339,2,  35.3383,2,    261.1,2,    260.7,2,     6.08,2,    12.35,2,     0.01,2,     0.80,2,    3.531,2,    1.852,2, -999.000,9,-999.0000,9,  -999.00,9,   2136.4,2,   -999.0,9,   2328.1,2,     7.81,2,25, -999.00,   -999,-999.0000,-999.000,  9.4526,-999.000
     316N151_2,   A24,    66,  1,      5,      5,2,19970613,0642, 58.6982, -17.8512,  665,    284.2,   9.2418,  35.3205,2,  35.3196,2,    266.2,2,    264.4,2,     6.16,2,    12.40,2,     0.01,2,     0.81,2,    3.617,2,    1.898,2, -999.000,9,-999.0000,9,  -999.00,9,   2134.4,2,   -999.0,9,   2326.4,2,     7.81,2,25, -999.00,   -999,-999.0000,-999.000,  9.2101,-999.000
     316N151_2,   A24,    66,  1,      4,      4,2,19970613,0642, 58.6982, -17.8512,  665,    354.0,   9.1318,  35.3084,2,  35.3057,2,    267.8,2,    263.6,2,     6.24,2,    12.54,2,     0.01,2,     0.82,2,    3.604,2,    1.890,2, -999.000,9,-999.0000,9,  -999.00,9,   2135.1,2,   -999.0,9,   2324.9,2,     7.80,2,25, -999.00,   -999,-999.0000,-999.000,  9.0924,-999.000
     316N151_2,   A24,    66,  1,      3,      3,2,19970613,0642, 58.6982, -17.8512,  665,    455.4,   8.8904,  35.2792,2,  35.2777,2,    264.3,2,    264.6,2,     6.42,2,    12.83,2,     0.01,2,     0.84,2,    3.635,2,    1.905,2, -999.000,9,-999.0000,9,  -999.00,9,   2137.1,2,   -999.0,9,   2324.5,2,     7.80,2,25, -999.00,   -999,-999.0000,-999.000,  8.8403,-999.000
     316N151_2,   A24,    66,  1,      2,      2,2,19970613,0642, 58.6982, -17.8512,  665,    555.5,   8.5289,  35.2301,2,  35.2277,2,    260.3,2,    259.4,2,     7.17,2,    13.67,2,     0.01,2,     0.90,2,    3.566,2,    1.853,2, -999.000,9,-999.0000,9,  -999.00,9,   2139.0,2,   -999.0,9,   2322.2,2,     7.78,2,25, -999.00,   -999,-999.0000,-999.000,  8.4690,-999.000
     316N151_2,   A24,    66,  1,      1,      1,2,19970613,0642, 58.6982, -17.8512,  665,    660.2,   8.1352,  35.1803,2,  35.1787,2,    253.3,2,    252.1,2,     8.10,2,    14.71,2,     0.01,2,     0.97,2,    3.413,2,    1.766,2, -999.000,9,-999.0000,9,  -999.00,9,   2148.4,2,   -999.0,9,   2321.3,2,     7.78,2,25, -999.00,   -999,-999.0000,-999.000,  8.0656,-999.000
     316N151_2,   A24,    67,  1,     17,     17,2,19970613,1048, 58.9113, -18.9000, 1511,      2.8,  10.7549,  35.3261,2,  35.3289,2,    293.9,2,    284.9,2,     1.31,2,     6.71,2,     0.13,2,     0.44,2,    3.679,2,    1.946,2, -999.000,9,-999.0000,9,  -999.00,9,   2097.4,2,    480.0,2,   2328.3,6,     7.88,6,25,   20.00,   -999,-999.0000,-999.000, 10.7545,-999.000
     316N151_2,   A24,    67,  1,     16,     16,2,19970613,1048, 58.9113, -18.9000, 1511,     34.5,  10.1235,  35.3329,2,  35.3334,2,    282.2,2,    283.0,2,     1.29,2,     7.27,2,     0.14,2,     0.48,2,    3.720,2,    1.966,2, -999.000,9,-999.0000,9,  -999.00,9,   2101.9,2,    492.5,2,   2327.6,2,     7.88,2,25,   20.00,   -999,-999.0000,-999.000, 10.1194,-999.000
     316N151_2,   A24,    67,  1,     15,     15,2,19970613,1048, 58.9113, -18.9000, 1511,    104.1,   9.9427,  35.3275,2,  35.3283,2,    274.4,2,    274.9,2,     2.14,2,     8.28,2,     0.17,2,     0.57,2,    3.731,2,    1.959,2, -999.000,9,-999.0000,9,  -999.00,9,   2113.8,2,    518.4,2,   2328.6,2,     7.85,2,25,   20.00,   -999,-999.0000,-999.000,  9.9306,-999.000
     316N151_2,   A24,    67,  1,     14,     14,2,19970613,1048, 58.9113, -18.9000, 1511,    154.6,   9.5459,  35.3319,2,  35.3327,2,    267.0,2,    267.6,2,     4.60,2,    11.12,2,     0.21,2,     0.74,2,    3.613,2,    1.918,2, -999.000,9,-999.0000,9,  -999.00,9,   2129.6,2,    572.2,2,   2327.2,2,     7.82,2,25,   20.00,   -999,-999.0000,-999.000,  9.5284,-999.000
     316N151_2,   A24,    67,  1,     13,     13,2,19970613,1048, 58.9113, -18.9000, 1511,    204.5,   9.2709,  35.2973,2,  35.2956,2,    261.9,2,    263.4,2,     6.12,2,    12.29,2,     0.08,2,     0.80,2,    3.577,2,    1.879,2, -999.000,9,-999.0000,9,  -999.00,9,   2132.7,2,    590.2,2,   2325.4,2,     7.81,2,25,   20.00,   -999,-999.0000,-999.000,  9.2481,-999.000
     316N151_2,   A24,    67,  1,     12,     12,2,19970613,1048, 58.9113, -18.9000, 1511,    274.7,   9.2538,  35.3142,2,  35.3145,2,    267.6,2,    266.7,2,     5.91,2,    12.11,2,     0.07,2,     0.79,2,    3.621,2,    1.912,2, -999.000,9,-999.0000,9,  -999.00,9,   2135.6,2,    584.7,2,   2326.8,2,     7.82,2,25,   20.00,   -999,-999.0000,-999.000,  9.2231,-999.000
     316N151_2,   A24,    67,  1,     11,     11,2,19970613,1048, 58.9113, -18.9000, 1511,    355.4,   9.0629,  35.2922,2,  35.2905,2,    264.7,2,    261.7,2,     6.47,2,    12.83,2,     0.01,2,     0.84,2,    3.569,2,    1.875,2, -999.000,9,-999.0000,9,  -999.00,9,   2139.5,2,    599.9,2,   2327.5,2,     7.80,2,25,   20.00,   -999,-999.0000,-999.000,  9.0236,-999.000
     316N151_2,   A24,    67,  1,     10,     10,2,19970613,1048, 58.9113, -18.9000, 1511,    456.0,   8.9652,  35.2924,2,  35.2938,2,    266.8,2,    266.5,2,     6.26,2,    12.64,2,     0.01,2,     0.82,2,    3.677,2,    1.931,2, -999.000,9,-999.0000,9,  -999.00,9,   2134.9,2,    597.7,2,   2324.5,2,     7.81,2,25,   20.00,   -999,-999.0000,-999.000,  8.9148,-999.000
     316N151_2,   A24,    67,  1,      9,      9,2,19970613,1048, 58.9113, -18.9000, 1511,    555.9,   8.7938,  35.2702,2,  35.2696,2,    263.1,2,    264.7,2,     6.44,2,    12.92,2,     0.01,2,     0.84,2,    3.614,2,    1.899,2, -999.000,9,-999.0000,9,  -999.00,9,   2136.3,2,    605.3,2,   2325.2,2,     7.80,2,25,   20.00,   -999,-999.0000,-999.000,  8.7327,-999.000
     316N151_2,   A24,    67,  1,      8,      8,2,19970613,1048, 58.9113, -18.9000, 1511,    656.0,   8.6491,  35.2526,2,  35.2507,2,    260.2,2,    262.1,2,     6.71,2,    13.30,2,     0.01,2,     0.87,2,    3.589,2,    1.874,2, -999.000,9,-999.0000,9,  -999.00,9,   2140.7,2,    615.2,2,   2323.2,2,     7.80,2,25,   20.00,   -999,-999.0000,-999.000,  8.5774,-999.000
     316N151_2,   A24,    67,  1,      7,      7,2,19970613,1048, 58.9113, -18.9000, 1511,    756.4,   8.1478,  35.1857,2,  35.1833,2,    248.3,2,    249.0,2,     8.23,2,    14.95,2,     0.01,2,     0.98,2,    3.308,2,    1.713,2, -999.000,9,-999.0000,9,  -999.00,9,   2150.1,2,    655.5,2,   2322.8,2,     7.77,2,25,   20.00,   -999,-999.0000,-999.000,  8.0675,-999.000
     316N151_2,   A24,    67,  1,      6,      6,2,19970613,1048, 58.9113, -18.9000, 1511,    856.6,   6.7298,  35.1119,2,  35.1138,2,    224.2,2,    222.0,2,    11.65,2,    18.26,2,     0.01,2,     1.19,2,    2.422,2,    1.196,2, -999.000,9,-999.0000,9,  -999.00,9,   2171.6,2,    757.5,2,   2319.6,2,     7.72,2,25,   20.00,   -999,-999.0000,-999.000,  6.6473,-999.000
     316N151_2,   A24,    67,  1,      5,      5,2,19970613,1048, 58.9113, -18.9000, 1511,    955.9,   6.3301,  35.1086,2,  35.1083,2,    220.5,2,    221.1,2,    12.31,2,    18.64,2,     0.00,2,     1.21,2,    2.203,2,    1.076,2, -999.000,9,-999.0000,9,  -999.00,9,   2175.4,2,    772.6,2,   2322.2,2,     7.71,2,25,   20.00,   -999,-999.0000,-999.000,  6.2402,-999.000
     316N151_2,   A24,    67,  1,      4,      4,2,19970613,1048, 58.9113, -18.9000, 1511,   1055.8,   5.6333,  35.0500,2,  35.0474,2,    228.4,2,    229.8,2,    12.49,2,    18.64,2,     0.00,2,     1.22,2,    2.269,2,    1.104,2, -999.000,9,-999.0000,9,  -999.00,9,   2173.7,2,    783.5,2,   2316.3,2,     7.71,2,25,   20.00,   -999,-999.0000,-999.000,  5.5389,-999.000
     316N151_2,   A24,    67,  1,      3,      3,2,19970613,1048, 58.9113, -18.9000, 1511,   1155.3,   4.9875,  34.9952,2,  34.9957,2,    238.4,2,    240.1,2,    12.38,2,    18.59,2,     0.00,2,     1.22,2,    2.336,2,    1.117,2, -999.000,9,-999.0000,9,  -999.00,9,   2170.1,2,    784.4,2,   2311.0,2,     7.70,2,25,   20.00,   -999,-999.0000,-999.000,  4.8892,-999.000
     316N151_2,   A24,    67,  1,      2,      2,2,19970613,1048, 58.9113, -18.9000, 1511,   1306.5,   4.5080,  34.9716,2,  34.9713,2,    251.0,2,    251.9,2,    12.46,2,    18.22,2,     0.00,2,     1.20,2,    2.283,2,    1.093,2, -999.000,9,-999.0000,9,  -999.00,9,   2166.2,2,    777.9,2,   2310.8,2,     7.71,2,25,   20.00,   -999,-999.0000,-999.000,  4.4002,-999.000
     316N151_2,   A24,    67,  1,      1,      1,2,19970613,1048, 58.9113, -18.9000, 1511,   1517.7,   3.7554,  34.9155,2,  34.9183,2,    269.0,2,    268.2,2,    12.73,2,    17.65,2,     0.00,2,     1.17,2,    2.287,2,    1.097,2, -999.000,9,-999.0000,9,  -999.00,9,   2158.8,2,    764.9,2,   2307.5,2,     7.71,2,25,   20.00,   -999,-999.0000,-999.000,  3.6365,-999.000
     316N151_2,   A24,    68,  1,     24,     24,2,19970613,1327, 59.0003, -19.3437, 2532,      2.0,  11.0891,  35.3103,2,  35.3125,2,    268.8,2,    287.7,2,     0.83,2,     5.05,2,     0.11,2,     0.35,2, -999.000,9, -999.000,9, -999.000,9,-999.0000,9,  -999.00,9,   2087.6,2,   -999.0,9,   2327.9,6,     7.91,6,25, -999.00,   -999,-999.0000,-999.000, 11.0888,-999.000
     316N151_2,   A24,    68,  1,     23,     23,2,19970613,1327, 59.0003, -19.3437, 2532,     33.6,  10.2145,  35.2997,2,  35.2993,2,    273.9,2,    280.2,2,     0.82,2,     6.07,2,     0.13,2,     0.44,2, -999.000,9, -999.000,9, -999.000,9,-999.0000,9,  -999.00,9,   -999.0,9,   -999.0,9,   -999.0,9,  -999.00,9,25, -999.00,   -999,-999.0000,-999.000, 10.2105,-999.000
     316N151_2,   A24,    68,  1,     22,     22,2,19970613,1327, 59.0003, -19.3437, 2532,     93.6,   9.4108,  35.2766,2,  35.2767,2,    275.9,2,    273.3,2,     3.29,2,     9.63,2,     0.18,2,     0.70,2, -999.000,9, -999.000,9, -999.000,9,-999.0000,9,  -999.00,9,   -999.0,9,   -999.0,9,   -999.0,9,  -999.00,9,25, -999.00,   -999,-999.0000,-999.000,  9.4003,-999.000
     316N151_2,   A24,    68,  1,     21,     21,2,19970613,1327, 59.0003, -19.3437, 2532,    154.4,   9.1717,  35.2607,2,  35.2605,2,    272.8,2,    265.9,2,     6.05,2,    12.30,2,     0.06,2,     0.80,2, -999.000,9, -999.000,9, -999.000,9,-999.0000,9,  -999.00,9,   -999.0,9,   -999.0,9,   -999.0,9,  -999.00,9,25, -999.00,   -999,-999.0000,-999.000,  9.1547,-999.000
     316N151_2,   A24,    68,  1,     20,     20,2,19970613,1327, 59.0003, -19.3437, 2532,    224.5,   9.1098,  35.2749,2,  35.2763,2,    271.2,2,    267.5,2,     6.13,2,    12.25,2,     0.11,2,     0.81,2, -999.000,9, -999.000,9, -999.000,9,-999.0000,9,  -999.00,9,   -999.0,9,   -999.0,9,   -999.0,9,  -999.00,9,25, -999.00,   -999,-999.0000,-999.000,  9.0851,-999.000
     316N151_2,   A24,    68,  1,     19,     19,2,19970613,1327, 59.0003, -19.3437, 2532,    305.2,   8.9066,  35.2648,2,  35.2637,2,    265.7,2,    267.0,2,     6.40,2,    12.58,2,     0.06,2,     0.82,2, -999.000,9, -999.000,9, -999.000,9,-999.0000,9,  -999.00,9,   -999.0,9,   -999.0,9,   -999.0,9,  -999.00,9,25, -999.00,   -999,-999.0000,-999.000,  8.8733,-999.000
     316N151_2,   A24,    68,  1,     18,     18,2,19970613,1327, 59.0003, -19.3437, 2532,    405.4,   8.7133,  35.2526,2,  35.2515,2,    262.8,2,    265.3,2,     6.48,2,    13.01,2,     0.01,2,     0.85,2, -999.000,9, -999.000,9, -999.000,9,-999.0000,9,  -999.00,9,   -999.0,9,   -999.0,9,   -999.0,9,  -999.00,9,25, -999.00,   -999,-999.0000,-999.000,  8.6694,-999.000
     316N151_2,   A24,    68,  1,     17,     17,2,19970613,1327, 59.0003, -19.3437, 2532,    506.6,   8.3090,  35.1869,2,  35.1898,2,    253.2,2,    250.5,2,     7.81,2,    14.52,2,     0.01,2,     0.95,2, -999.000,9, -999.000,9, -999.000,9,-999.0000,9,  -999.00,9,   -999.0,9,   -999.0,9,   -999.0,9,  -999.00,9,25, -999.00,   -999,-999.0000,-999.000,  8.2554,-999.000
     316N151_2,   A24,    68,  1,     16,     16,2,19970613,1327, 59.0003, -19.3437, 2532,    607.0,   7.7403,  35.1509,2,  35.1490,2,    236.0,2,    233.4,2,     9.51,2,    16.55,2,     0.00,2,     1.08,2,    2.931,2,    1.482,2, -999.000,9,-999.0000,9,  -999.00,9,   -999.0,9,   -999.0,9,   -999.0,9,  -999.00,9,25, -999.00,   -999,-999.0000,-999.000,  7.6783,-999.000
     316N151_2,   A24,    68,  1,     15,     15,2,19970613,1327, 59.0003, -19.3437, 2532,    708.4,   7.2966,  35.1284,2,  35.1270,2,    251.1,2,    263.8,2,     8.06,2,    14.86,2,     0.00,2,     0.98,2,    3.645,2,    1.890,2, -999.000,9,-999.0000,9,  -999.00,9,   -999.0,9,   -999.0,9,   -999.0,9,  -999.00,9,25, -999.00,   -999,-999.0000,-999.000,  7.2261,-999.000
     316N151_2,   A24,    68,  1,     14,     14,2,19970613,1327, 59.0003, -19.3437, 2532,    809.1,   6.5443,  35.0636,2,  35.0632,2,    226.6,2,    228.2,2,    11.11,2,    18.07,2,     0.00,2,     1.18,2, -999.000,9, -999.000,9, -999.000,9,-999.0000,9,  -999.00,9,   -999.0,9,   -999.0,9,   -999.0,9,  -999.00,9,25, -999.00,   -999,-999.0000,-999.000,  6.4679,-999.000
     316N151_2,   A24,    68,  1,     13,     13,2,19970613,1327, 59.0003, -19.3437, 2532,    909.7,   5.9434,  35.0376,2,  35.0394,2,    229.0,2,    228.3,2,    11.86,2,    18.59,2,     0.00,2,     1.22,2,    2.501,2,    1.225,2, -999.000,9,-999.0000,9,  -999.00,9,   -999.0,9,   -999.0,9,   -999.0,9,  -999.00,9,25, -999.00,   -999,-999.0000,-999.000,  5.8609,-999.000
     316N151_2,   A24,    68,  1,     12,     12,2,19970613,1327, 59.0003, -19.3437, 2532,   1010.1,   5.3065,  35.0039,2,  35.0041,2,    235.7,2,    234.7,2,    12.14,2,    18.64,2,     0.00,2,     1.23,2, -999.000,9, -999.000,9, -999.000,9,-999.0000,9,  -999.00,9,   -999.0,9,   -999.0,9,   -999.0,9,  -999.00,9,25, -999.00,   -999,-999.0000,-999.000,  5.2191,-999.000
     316N151_2,   A24,    68,  1,     11,     11,2,19970613,1327, 59.0003, -19.3437, 2532,   1111.2,   4.8285,  34.9849,2,  34.9862,2,    243.4,2,    242.3,2,    12.22,2,    18.50,2,     0.00,2,     1.22,2, -999.000,9, -999.000,9, -999.000,9,-999.0000,9,  -999.00,9,   -999.0,9,   -999.0,9,   -999.0,9,  -999.00,9,25, -999.00,   -999,-999.0000,-999.000,  4.7356,-999.000
     316N151_2,   A24,    68,  1,     10,     10,2,19970613,1327, 59.0003, -19.3437, 2532,   1212.1,   4.4069,  34.9548,2,  34.9549,2,    252.2,2,    253.2,2,    12.11,2,    18.27,2,     0.00,2,     1.20,2,    2.436,2,    1.168,2, -999.000,9,-999.0000,9,  -999.00,9,   -999.0,9,   -999.0,9,   -999.0,9,  -999.00,9,25, -999.00,   -999,-999.0000,-999.000,  4.3087,-999.000
     316N151_2,   A24,    68,  1,      9,      9,2,19970613,1327, 59.0003, -19.3437, 2532,   1313.2,   4.0903,  34.9304,2,  34.9313,2,    259.3,2,    260.6,2,    12.00,2,    18.03,2,     0.00,2,     1.19,2, -999.000,9, -999.000,9, -999.000,9,-999.0000,9,  -999.00,9,   -999.0,9,   -999.0,9,   -999.0,9,  -999.00,9,25, -999.00,   -999,-999.0000,-999.000,  3.9861,-999.000
     316N151_2,   A24,    68,  1,      8,      8,2,19970613,1327, 59.0003, -19.3437, 2532,   1465.3,   3.7746,  34.9092,2,  34.9091,2,    269.0,2,    268.7,2,    11.89,2,    17.70,2,     0.00,2,     1.17,2,    2.485,2,    1.188,2, -999.000,9,-999.0000,9,  -999.00,9,   -999.0,9,   -999.0,9,   -999.0,9,  -999.00,9,25, -999.00,   -999,-999.0000,-999.000,  3.6601,-999.000
     316N151_2,   A24,    68,  1,      7,      7,2,19970613,1327, 59.0003, -19.3437, 2532,   1617.3,   3.5647,  34.8945,2,  34.8953,2,    275.3,2,    276.0,2,    11.69,2,    17.47,2,     0.00,2,     1.15,2,    2.483,2,    1.179,2, -999.000,9,-999.0000,9,  -999.00,9,   -999.0,9,   -999.0,9,   -999.0,9,  -999.00,9,25, -999.00,   -999,-999.0000,-999.000,  3.4392,-999.000
     316N151_2,   A24,    68,  1,      6,      6,2,19970613,1327, 59.0003, -19.3437, 2532,   1768.1,   3.4185,  34.8908,2,  34.8900,2,    278.5,2,    279.3,2,    11.58,2,    17.19,2,     0.00,2,     1.14,2,    2.523,2,    1.203,2, -999.000,9,-999.0000,9,  -999.00,9,   -999.0,9,   -999.0,9,   -999.0,9,  -999.00,9,25, -999.00,   -999,-999.0000,-999.000,  3.2813,-999.000
     316N151_2,   A24,    68,  1,      5,      5,2,19970613,1327, 59.0003, -19.3437, 2532,   1919.8,   3.3411,  34.8966,2,  34.8957,2,    279.0,2,    280.0,2,    11.76,2,    17.00,2,     0.00,2,     1.13,2, -999.000,9, -999.000,9, -999.000,9,-999.0000,9,  -999.00,9,   -999.0,9,   -999.0,9,   -999.0,9,  -999.00,9,25, -999.00,   -999,-999.0000,-999.000,  3.1911,-999.000
     316N151_2,   A24,    68,  1,      4,      4,2,19970613,1327, 59.0003, -19.3437, 2532,   2071.9,   3.3422,  34.9193,2,  34.9203,2,    276.9,2,    275.7,2,    12.70,2,    16.96,2,     0.00,2,     1.13,2,    1.989,2,    0.957,2, -999.000,9,-999.0000,9,  -999.00,9,   -999.0,9,   -999.0,9,   -999.0,9,  -999.00,9,25, -999.00,   -999,-999.0000,-999.000,  3.1779,-999.000
     316N151_2,   A24,    68,  1,      3,      3,2,19970613,1327, 59.0003, -19.3437, 2532,   2224.1,   3.2917,  34.9533,2,  34.9514,2,    272.7,2,    272.7,2,    13.07,2,    16.58,2,     0.00,2,     1.11,2,    1.799,2,    0.875,2, -999.000,9,-999.0000,9,  -999.00,9,   -999.0,9,   -999.0,9,   -999.0,9,  -999.00,9,25, -999.00,   -999,-999.0000,-999.000,  3.1134,-999.000
     316N151_2,   A24,    68,  1,      2,      2,2,19970613,1327, 59.0003, -19.3437, 2532,   2376.8,   3.0816,  34.9564,2,  34.9532,2,    272.8,2,    271.5,2,    15.45,2,    16.87,2,     0.00,2,     1.13,2,    1.608,2,    0.779,2, -999.000,9,-999.0000,9,  -999.00,9,   -999.0,9,   -999.0,9,   -999.0,9,  -999.00,9,25, -999.00,   -999,-999.0000,-999.000,  2.8922,-999.000
     316N151_2,   A24,    68,  1,      1,      1,2,19970613,1327, 59.0003, -19.3437, 2532,   2512.3,   3.0291,  34.9567,2,  34.9567,2,    270.8,2,    270.8,2,    15.92,2,    16.82,2,     0.00,2,     1.13,2,    1.634,2,    0.795,2, -999.000,9,-999.0000,9,  -999.00,9,   -999.0,9,   -999.0,9,   -999.0,9,  -999.00,9,25, -999.00,   -999,-999.0000,-999.000,  2.8274,-999.000