BOTTLE,20220629CCHSIOAMB
EXPOCODE,SECT_ID,STNNBR,CASTNO,SAMPNO,BTLNBR,BTLNBR_FLAG_W,DATE,TIME,LATITUDE,LONGITUDE,DEPTH,CTDPRS,CTDTMP,CTDSAL,CTDSAL_FLAG_W,SALNTY,SALNTY_FLAG_W,CTDOXY,CTDOXY_FLAG_W,OXYGEN,OXYGEN_FLAG_W,SILCAT,SILCAT_FLAG_W,NITRAT,NITRAT_FLAG_W,NITRIT,NITRIT_FLAG_W,PHSPHT,PHSPHT_FLAG_W,CFC-11,CFC-11_FLAG_W,CFC-12,CFC-12_FLAG_W,TRITUM,TRITUM_FLAG_W,HELIUM,HELIUM_FLAG_W,DELHE3,DELHE3_FLAG_W,TCARBN,TCARBN_FLAG_W,PCO2,PCO2_FLAG_W,ALKALI,ALKALI_FLAG_W,PH,PH_FLAG_W,PH_TMP,PCO2TMP,CTDRAW,HELIER,DELHER,THETA,TRITER
,,,,,,,,,,,,DBAR,ITS-90,PSS-78,,PSS-78,,UMOL/KG,,UMOL/KG,,UMOL/KG,,UMOL/KG,,UMOL/KG,,UMOL/KG,,PMOL/KG,,PMOL/KG,,TU,,NMOL/KG,,PERCNT,,UMOL/KG,,UATM,,UMOL/KG,,,,DEG C,DEG C,,NMOL/KG,PERCNT,DEG C,TU
     316N151_2,   A24,    27,  1,     31,     31,2,19970605,1413, 47.5035, -14.0803, 4796,      2.6,  14.5656,  35.5929,2,  35.5945,2,    266.7,2,    263.1,2,     0.58,2,     1.15,2,     0.05,2,     0.16,2, -999.000,9, -999.000,9, -999.000,9,-999.0000,9,  -999.00,9,   2065.9,2,   -999.0,9,   2342.0,2,     7.96,2,25, -999.00,   -999,-999.0000,-999.000, 14.5652,-999.000
     316N151_2,   A24,    27,  1,     30,     30,2,19970605,1413, 47.5035, -14.0803, 4796,     31.7,  13.7077,  35.5940,2,  35.5872,2,    263.2,2,    265.0,2,     0.58,2,     1.19,2,     0.06,2,     0.18,2, -999.000,9, -999.000,9, -999.000,9,-999.0000,9,  -999.00,9,   -999.0,9,   -999.0,9,   -999.0,9,  -999.00,9,25, -999.00,   -999,-999.0000,-999.000, 13.7032,-999.000
     316N151_2,   A24,    27,  1,     29,     29,2,19970605,1413, 47.5035, -14.0803, 4796,     77.5,  11.9459,  35.5935,2,  35.5906,2,    257.2,2,    254.7,2,     2.49,2,     7.01,2,     0.32,2,     0.49,2, -999.000,9, -999.000,9, -999.000,9,-999.0000,9,  -999.00,9,   -999.0,9,   -999.0,9,   -999.0,9,  -999.00,9,25, -999.00,   -999,-999.0000,-999.000, 11.9358,-999.000
     316N151_2,   A24,    27,  1,     28,     28,2,19970605,1413, 47.5035, -14.0803, 4796,    127.4,  11.4533,  35.5639,2,  35.5637,2,    251.1,2,    252.5,2,     4.08,2,     9.61,2,     0.03,2,     0.61,2, -999.000,9, -999.000,9, -999.000,9,-999.0000,9,  -999.00,9,   -999.0,9,   -999.0,9,   -999.0,9,  -999.00,9,25, -999.00,   -999,-999.0000,-999.000, 11.4371,-999.000
     316N151_2,   A24,    27,  1,     27,     27,2,19970605,1413, 47.5035, -14.0803, 4796,    207.9,  11.2356,  35.5472,2,  35.5469,2,    251.6,2,    253.7,2,     4.07,2,     9.67,2,     0.02,2,     0.63,2, -999.000,9, -999.000,9, -999.000,9,-999.0000,9,  -999.00,9,   -999.0,9,   -999.0,9,   -999.0,9,  -999.00,9,25, -999.00,   -999,-999.0000,-999.000, 11.2094,-999.000
     316N151_2,   A24,    27,  1,     26,     26,2,19970605,1413, 47.5035, -14.0803, 4796,    327.9,  11.0064,  35.5243,2,  35.5244,2,    249.7,2,    253.8,2,     4.28,2,    10.02,2,     0.01,2,     0.64,2, -999.000,9, -999.000,9, -999.000,9,-999.0000,9,  -999.00,9,   -999.0,9,   -999.0,9,   -999.0,9,  -999.00,9,25, -999.00,   -999,-999.0000,-999.000, 10.9655,-999.000
     316N151_2,   A24,    27,  1,     25,     25,2,19970605,1413, 47.5035, -14.0803, 4796,    458.9,  10.7143,  35.4908,2,  35.4909,2,    249.5,2,    247.2,2,     4.81,2,    11.08,2,     0.01,2,     0.70,2, -999.000,9, -999.000,9, -999.000,9,-999.0000,9,  -999.00,9,   -999.0,9,   -999.0,9,   -999.0,9,  -999.00,9,25, -999.00,   -999,-999.0000,-999.000, 10.6576,-999.000
     316N151_2,   A24,    27,  1,     24,     24,2,19970605,1413, 47.5035, -14.0803, 4796,    560.0,  10.2976,  35.4357,2,  35.4370,2,    230.4,2,    234.0,2,     5.97,2,    12.84,2,     0.01,2,     0.82,2, -999.000,9, -999.000,9, -999.000,9,-999.0000,9,  -999.00,9,   -999.0,9,   -999.0,9,   -999.0,9,  -999.00,9,25, -999.00,   -999,-999.0000,-999.000, 10.2298,-999.000
     316N151_2,   A24,    27,  1,     23,     23,2,19970605,1413, 47.5035, -14.0803, 4796,    660.2,   9.8258,  35.4084,2,  35.4078,2,    220.4,2,    213.7,2,     7.78,2,    15.21,2,     0.01,2,     0.97,2, -999.000,9, -999.000,9, -999.000,9,-999.0000,9,  -999.00,9,   -999.0,9,   -999.0,9,   -999.0,9,  -999.00,9,25, -999.00,   -999,-999.0000,-999.000,  9.7478,-999.000
     316N151_2,   A24,    27,  1,     22,     22,2,19970605,1413, 47.5035, -14.0803, 4796,    761.1,   9.3846,  35.4331,2,  35.4333,2,    201.6,2,    200.6,2,     9.27,2,    16.72,2,     0.00,2,     1.07,2, -999.000,9, -999.000,9, -999.000,9,-999.0000,9,  -999.00,9,   -999.0,9,   -999.0,9,   -999.0,9,  -999.00,9,25, -999.00,   -999,-999.0000,-999.000,  9.2966,-999.000
     316N151_2,   A24,    27,  1,     21,     21,2,19970605,1413, 47.5035, -14.0803, 4796,    861.9,   9.1073,  35.5017,2,  35.4981,2,    195.6,2,    196.0,2,    10.22,2,    17.27,2,     0.00,2,     1.10,2, -999.000,9, -999.000,9, -999.000,9,-999.0000,9,  -999.00,9,   -999.0,9,   -999.0,9,   -999.0,9,  -999.00,9,25, -999.00,   -999,-999.0000,-999.000,  9.0088,-999.000
     316N151_2,   A24,    27,  1,     20,     20,2,19970605,1413, 47.5035, -14.0803, 4796,    961.4,   8.3987,  35.4619,2,  35.4622,2,    199.3,2,    198.1,2,    11.07,2,    17.88,2,     0.00,2,     1.14,2,    1.529,2,    0.758,2, -999.000,9,-999.0000,9,  -999.00,9,   -999.0,9,   -999.0,9,   -999.0,9,  -999.00,9,25, -999.00,   -999,-999.0000,-999.000,  8.2932,-999.000
     316N151_2,   A24,    27,  1,     19,     19,2,19970605,1413, 47.5035, -14.0803, 4796,   1062.0,   7.6658,  35.3951,2,  35.3938,2,    202.3,2,    205.0,2,    11.60,2,    18.13,2,     0.00,2,     1.17,2,    1.522,2,    0.745,2, -999.000,9,-999.0000,9,  -999.00,9,   -999.0,9,   -999.0,9,   -999.0,9,  -999.00,9,25, -999.00,   -999,-999.0000,-999.000,  7.5544,-999.000
     316N151_2,   A24,    27,  1,     18,     18,2,19970605,1413, 47.5035, -14.0803, 4796,   1213.3,   6.7058,  35.2961,2,  35.2970,2,    214.0,2,    217.8,2,    12.13,2,    18.23,2,     0.00,2,     1.18,2, -999.000,9, -999.000,9, -999.000,9,-999.0000,9,  -999.00,9,   -999.0,9,   -999.0,9,   -999.0,9,  -999.00,9,25, -999.00,   -999,-999.0000,-999.000,  6.5860,-999.000
     316N151_2,   A24,    27,  1,     17,     17,2,19970605,1413, 47.5035, -14.0803, 4796,   1365.2,   5.7911,  35.1853,2,  35.1853,2,    233.0,2,    231.4,2,    12.33,2,    18.18,2,     0.00,2,     1.19,2, -999.000,9, -999.000,9, -999.000,9,-999.0000,9,  -999.00,9,   -999.0,9,   -999.0,9,   -999.0,9,  -999.00,9,25, -999.00,   -999,-999.0000,-999.000,  5.6643,-999.000
     316N151_2,   A24,    27,  1,     16,     16,2,19970605,1413, 47.5035, -14.0803, 4796,   1618.6,   4.1034,  34.9567,2,  34.9573,2,    260.9,2,    262.0,2,    12.22,2,    17.78,2,     0.00,2,     1.18,2,    2.002,2,    0.958,2, -999.000,9,-999.0000,9,  -999.00,9,   -999.0,9,   -999.0,9,   -999.0,9,  -999.00,9,25, -999.00,   -999,-999.0000,-999.000,  3.9711,-999.000
     316N151_2,   A24,    27,  1,     15,     15,2,19970605,1413, 47.5035, -14.0803, 4796,   1773.1,   3.8381,  34.9406,2,  34.9409,2,    269.0,2,    267.7,2,    12.43,2,    17.58,2,     0.00,2,     1.16,2, -999.000,9, -999.000,9, -999.000,9,-999.0000,9,  -999.00,9,   -999.0,9,   -999.0,9,   -999.0,9,  -999.00,9,25, -999.00,   -999,-999.0000,-999.000,  3.6948,-999.000
     316N151_2,   A24,    27,  1,     14,     14,2,19970605,1413, 47.5035, -14.0803, 4796,   1924.0,   3.5932,  34.9211,2,  34.9207,2,    271.6,2,    272.5,2,    12.64,2,    17.37,2,     0.00,2,     1.16,2,    1.728,2,    0.830,2, -999.000,9,-999.0000,9,  -999.00,9,   -999.0,9,   -999.0,9,   -999.0,9,  -999.00,9,25, -999.00,   -999,-999.0000,-999.000,  3.4391,-999.000
     316N151_2,   A24,    27,  1,     13,     13,2,19970605,1413, 47.5035, -14.0803, 4796,   2128.5,   3.4109,  34.9246,2,  34.9238,2,    271.9,2,    271.3,2,    14.02,2,    17.32,2,     0.00,2,     1.16,2,    1.419,2,    0.695,2, -999.000,9,-999.0000,9,  -999.00,9,   -999.0,9,   -999.0,9,   -999.0,9,  -999.00,9,25, -999.00,   -999,-999.0000,-999.000,  3.2401,-999.000
     316N151_2,   A24,    27,  1,     12,     12,2,19970605,1413, 47.5035, -14.0803, 4796,   2332.6,   3.3068,  34.9469,2,  34.9470,2,    261.0,2,    264.1,2,    18.50,2,    17.87,2,     0.00,2,     1.20,2, -999.000,9, -999.000,9, -999.000,9,-999.0000,9,  -999.00,9,   -999.0,9,   -999.0,9,   -999.0,9,  -999.00,9,25, -999.00,   -999,-999.0000,-999.000,  3.1178,-999.000
     316N151_2,   A24,    27,  1,     11,     11,2,19970605,1413, 47.5035, -14.0803, 4796,   2533.2,   3.2004,  34.9615,2,  34.9608,2,    256.4,2,    256.8,2,    23.51,2,    18.78,2,     0.00,2,     1.27,2, -999.000,9, -999.000,9, -999.000,9,-999.0000,9,  -999.00,9,   -999.0,9,   -999.0,9,   -999.0,9,  -999.00,9,25, -999.00,   -999,-999.0000,-999.000,  2.9934,-999.000
     316N151_2,   A24,    27,  1,     10,     10,2,19970605,1413, 47.5035, -14.0803, 4796,   2739.3,   3.0170,  34.9544,2,  34.9541,2,    254.6,2,    253.5,2,    27.46,2,    19.38,2,     0.00,2,     1.31,2, -999.000,9, -999.000,9, -999.000,9,-999.0000,9,  -999.00,9,   -999.0,9,   -999.0,9,   -999.0,9,  -999.00,9,25, -999.00,   -999,-999.0000,-999.000,  2.7928,-999.000
     316N151_2,   A24,    27,  1,      9,      9,2,19970605,1413, 47.5035, -14.0803, 4796,   2942.4,   2.8700,  34.9464,2,  34.9464,2,    248.8,2,    249.8,2,    31.52,2,    20.09,2,     0.00,2,     1.36,2, -999.000,9, -999.000,9, -999.000,9,-999.0000,9,  -999.00,9,   -999.0,9,   -999.0,9,   -999.0,9,  -999.00,9,25, -999.00,   -999,-999.0000,-999.000,  2.6280,-999.000
     316N151_2,   A24,    27,  1,      8,      8,2,19970605,1413, 47.5035, -14.0803, 4796,   3142.2,   2.7693,  34.9385,2,  34.9377,2,    245.7,2,    247.4,2,    34.40,2,    20.54,2,     0.00,2,     1.40,2, -999.000,9, -999.000,9, -999.000,9,-999.0000,9,  -999.00,9,   -999.0,9,   -999.0,9,   -999.0,9,  -999.00,9,25, -999.00,   -999,-999.0000,-999.000,  2.5086,-999.000
     316N151_2,   A24,    27,  1,      7,      7,2,19970605,1413, 47.5035, -14.0803, 4796,   3396.8,   2.6612,  34.9278,2,  34.9267,2,    247.0,2,    244.6,2,    37.92,2,    21.15,2,     0.00,2,     1.44,2, -999.000,9, -999.000,9, -999.000,9,-999.0000,9,  -999.00,9,   -999.0,9,   -999.0,9,   -999.0,9,  -999.00,9,25, -999.00,   -999,-999.0000,-999.000,  2.3759,-999.000
     316N151_2,   A24,    27,  1,      6,      6,2,19970605,1413, 47.5035, -14.0803, 4796,   3651.8,   2.5915,  34.9190,2,  34.9186,2,    243.7,2,    242.9,2,    40.48,2,    21.55,2,     0.00,2,     1.47,2, -999.000,9, -999.000,9, -999.000,9,-999.0000,9,  -999.00,9,   -999.0,9,   -999.0,9,   -999.0,9,  -999.00,9,25, -999.00,   -999,-999.0000,-999.000,  2.2801,-999.000
     316N151_2,   A24,    27,  1,      5,      5,2,19970605,1413, 47.5035, -14.0803, 4796,   3907.5,   2.5607,  34.9128,2,  34.9129,2,    241.0,2,    241.7,2,    42.08,2,    21.80,2,     0.00,2,     1.49,2, -999.000,9, -999.000,9, -999.000,9,-999.0000,9,  -999.00,9,   -999.0,9,   -999.0,9,   -999.0,9,  -999.00,9,25, -999.00,   -999,-999.0000,-999.000,  2.2213,-999.000
     316N151_2,   A24,    27,  1,      4,      4,2,19970605,1413, 47.5035, -14.0803, 4796,   4162.6,   2.5360,  34.9073,2,  34.9072,2,    240.8,2,    240.8,2,    43.57,2,    22.05,2,     0.00,2,     1.50,2, -999.000,9, -999.000,9, -999.000,9,-999.0000,9,  -999.00,9,   -999.0,9,   -999.0,9,   -999.0,9,  -999.00,9,25, -999.00,   -999,-999.0000,-999.000,  2.1678,-999.000
     316N151_2,   A24,    27,  1,      3,      3,2,19970605,1413, 47.5035, -14.0803, 4796,   4416.7,   2.5245,  34.9028,2,  34.9026,2,    239.7,2,    240.7,2,    44.53,2,    22.15,2,     0.00,2,     1.51,2, -999.000,9, -999.000,9, -999.000,9,-999.0000,9,  -999.00,9,   -999.0,9,   -999.0,9,   -999.0,9,  -999.00,9,25, -999.00,   -999,-999.0000,-999.000,  2.1265,-999.000
     316N151_2,   A24,    27,  1,      2,      2,2,19970605,1413, 47.5035, -14.0803, 4796,   4673.4,   2.5355,  34.9006,2,  34.9005,2,    239.6,2,    240.7,2,    44.95,2,    22.25,2,     0.00,2,     1.52,2,    0.049,2,    0.016,2, -999.000,9,-999.0000,9,  -999.00,9,   -999.0,9,   -999.0,9,   -999.0,9,  -999.00,9,25, -999.00,   -999,-999.0000,-999.000,  2.1059,-999.000
     316N151_2,   A24,    27,  1,      1,      1,2,19970605,1413, 47.5035, -14.0803, 4796,   4909.0,   2.5507,  34.8986,2,  34.8993,2,    240.8,2,    240.2,2,    45.59,2,    22.30,2,     0.00,2,     1.53,2,    0.090,2,    0.027,2, -999.000,9,-999.0000,9,  -999.00,9,   -999.0,9,   -999.0,9,   -999.0,9,  -999.00,9,25, -999.00,   -999,-999.0000,-999.000,  2.0912,-999.000