BOTTLE,20220629CCHSIOAMB
EXPOCODE,SECT_ID,STNNBR,CASTNO,SAMPNO,BTLNBR,BTLNBR_FLAG_W,DATE,TIME,LATITUDE,LONGITUDE,DEPTH,CTDPRS,CTDTMP,CTDSAL,CTDSAL_FLAG_W,SALNTY,SALNTY_FLAG_W,CTDOXY,CTDOXY_FLAG_W,OXYGEN,OXYGEN_FLAG_W,SILCAT,SILCAT_FLAG_W,NITRAT,NITRAT_FLAG_W,NITRIT,NITRIT_FLAG_W,PHSPHT,PHSPHT_FLAG_W,CFC-11,CFC-11_FLAG_W,CFC-12,CFC-12_FLAG_W,TRITUM,TRITUM_FLAG_W,HELIUM,HELIUM_FLAG_W,DELHE3,DELHE3_FLAG_W,TCARBN,TCARBN_FLAG_W,PCO2,PCO2_FLAG_W,ALKALI,ALKALI_FLAG_W,PH,PH_FLAG_W,PH_TMP,PCO2TMP,CTDRAW,HELIER,DELHER,THETA,TRITER
,,,,,,,,,,,,DBAR,ITS-90,PSS-78,,PSS-78,,UMOL/KG,,UMOL/KG,,UMOL/KG,,UMOL/KG,,UMOL/KG,,UMOL/KG,,PMOL/KG,,PMOL/KG,,TU,,NMOL/KG,,PERCNT,,UMOL/KG,,UATM,,UMOL/KG,,,,DEG C,DEG C,,NMOL/KG,PERCNT,DEG C,TU
     316N151_2,   A24,    26,  1,     31,     31,2,19970605,0831, 47.1673, -14.6317, 4798,      3.3,  14.8477,  35.6604,2,  35.6626,2,    260.1,2,    260.6,2,     0.70,2,     1.06,2,     0.05,2,     0.15,2,    3.147,2,    1.636,2, -999.000,9,-999.0000,9,  -999.00,9,   2070.8,2,    396.8,2,   2346.2,6,     7.96,6,25,   20.00,   -999,-999.0000,-999.000, 14.8472,-999.000
     316N151_2,   A24,    26,  1,     30,     30,2,19970605,0831, 47.1673, -14.6317, 4798,     37.4,  13.8471,  35.6123,2,  35.6079,2,    273.1,2,    265.2,2,     0.59,2,     1.55,2,     0.07,2,     0.20,2,    3.253,2,    1.732,2, -999.000,9,-999.0000,9,  -999.00,9,   2073.2,2,    403.1,2,   2342.7,2,     7.95,2,25,   20.00,   -999,-999.0000,-999.000, 13.8418,-999.000
     316N151_2,   A24,    26,  1,     29,     29,2,19970605,0831, 47.1673, -14.6317, 4798,     88.2,  12.0708,  35.6082,2,  35.6056,2,    255.1,2,    251.8,2,     2.37,2,     6.99,2,     0.32,2,     0.48,2,    3.398,2,    1.820,2, -999.000,9,-999.0000,9,  -999.00,9,   2113.0,2,    499.6,2,   2341.2,2,     7.87,2,25,   20.00,   -999,-999.0000,-999.000, 12.0593,-999.000
     316N151_2,   A24,    26,  1,     28,     28,2,19970605,0831, 47.1673, -14.6317, 4798,    148.2,  11.4091,  35.5609,2,  35.5576,2,    251.2,2,    252.9,2,     4.05,2,     9.70,2,     0.02,2,     0.61,2,    3.327,2,    1.788,2, -999.000,9,-999.0000,9,  -999.00,9,   2121.7,2,    532.6,2,   2336.7,2,     7.85,2,25,   20.00,   -999,-999.0000,-999.000, 11.3903,-999.000
     316N151_2,   A24,    26,  1,     27,     27,2,19970605,0831, 47.1673, -14.6317, 4798,    238.2,  11.1637,  35.5379,2,  35.5381,2,    249.2,2,    253.3,2,     4.15,2,     9.76,2,     0.02,2,     0.62,2,    3.362,2,    1.787,2, -999.000,9,-999.0000,9,  -999.00,9,   2122.7,2,    537.5,2,   2336.8,2,     7.84,2,25,   20.00,   -999,-999.0000,-999.000, 11.1338,-999.000
     316N151_2,   A24,    26,  1,     26,     26,2,19970605,0831, 47.1673, -14.6317, 4798,    329.1,  11.0128,  35.5264,2,  35.5258,2,    244.5,2,    251.7,2,     4.25,2,    10.11,2,     0.01,2,     0.64,2,    3.351,2,    1.779,2, -999.000,9,-999.0000,9,  -999.00,9,   2125.6,2,    547.3,2,   2335.0,2,     7.84,2,25,   20.00,   -999,-999.0000,-999.000, 10.9717,-999.000
     316N151_2,   A24,    26,  1,     25,     25,2,19970605,0831, 47.1673, -14.6317, 4798,    410.2,  10.8229,  35.5006,2,  35.5007,2,    242.4,2,    253.7,2,     4.46,2,    10.52,2,     0.01,2,     0.67,2,    3.379,2,    1.778,2, -999.000,9,-999.0000,9,  -999.00,9,   2125.7,2,    546.5,2,   2335.1,2,     7.84,2,25,   20.00,   -999,-999.0000,-999.000, 10.7720,-999.000
     316N151_2,   A24,    26,  1,     24,     24,2,19970605,0831, 47.1673, -14.6317, 4798,    480.3,  10.7018,  35.4874,2,  35.4923,2,    253.2,2,    244.3,2,     4.88,2,    11.27,2,     0.01,2,     0.71,2,    3.293,2,    1.702,2, -999.000,9,-999.0000,9,  -999.00,9,   2132.8,2,    568.7,2,   2333.8,2,     7.82,2,25,   20.00,   -999,-999.0000,-999.000, 10.6425,-999.000
     316N151_2,   A24,    26,  1,     23,     23,2,19970605,0831, 47.1673, -14.6317, 4798,    570.7,  10.3557,  35.4444,2,  35.4443,2,    233.3,2,    232.3,2,     5.82,2,    12.89,2,     0.01,2,     0.81,2,    3.130,2,    1.604,2, -999.000,9,-999.0000,9,  -999.00,9,   2140.0,2,   -999.0,9,   2331.7,2,     7.80,2,25, -999.00,   -999,-999.0000,-999.000, 10.2864,-999.000
     316N151_2,   A24,    26,  1,     22,     22,2,19970605,0831, 47.1673, -14.6317, 4798,    711.2,   9.7026,  35.4015,2,  35.4011,2,    214.4,2,    210.1,2,     8.13,2,    15.62,2,     0.01,2,     0.99,2,    2.472,2,    1.241,2, -999.000,9,-999.0000,9,  -999.00,9,   2157.8,2,    664.1,2,   2332.6,2,     7.77,2,25,   20.00,   -999,-999.0000,-999.000,  9.6190,-999.000
     316N151_2,   A24,    26,  1,     21,     21,2,19970605,0831, 47.1673, -14.6317, 4798,    842.3,   9.2048,  35.4427,2,  35.4439,2,    202.0,2,    197.8,2,     9.71,2,    17.08,2,     0.00,2,     1.08,2,    1.917,2,    0.950,2, -999.000,9,-999.0000,9,  -999.00,9,   2169.9,2,    698.6,2,   2337.6,2,     7.75,2,25,   20.00,   -999,-999.0000,-999.000,  9.1081,-999.000
     316N151_2,   A24,    26,  1,     20,     20,2,19970605,0831, 47.1673, -14.6317, 4798,    953.5,   9.1030,  35.5603,2,  35.5544,2,    194.7,2,    195.7,2,    10.55,2,    17.13,2,     0.00,2,     1.08,2,    1.560,2,    0.793,2, -999.000,9,-999.0000,9,  -999.00,9,   2177.8,2,    694.7,2,   2347.0,2,     7.75,2,25,   20.00,   -999,-999.0000,-999.000,  8.9934,-999.000
     316N151_2,   A24,    26,  1,     19,     19,2,19970605,0831, 47.1673, -14.6317, 4798,   1063.5,   8.2878,  35.5084,2,  35.5105,2,    200.9,2,    201.0,2,    11.49,2,    17.64,2,     0.00,2,     1.12,2,    1.386,2,    0.684,2, -999.000,9,-999.0000,9,  -999.00,9,   2179.2,2,   -999.0,9,   2347.3,2,     7.75,2,25, -999.00,   -999,-999.0000,-999.000,  8.1712,-999.000
     316N151_2,   A24,    26,  1,     18,     18,2,19970605,0831, 47.1673, -14.6317, 4798,   1215.2,   6.7159,  35.2896,2,  35.2875,2,    214.5,2,    217.8,2,    12.34,2,    18.20,2,     0.00,2,     1.17,2,    1.558,2,    0.746,2, -999.000,9,-999.0000,9,  -999.00,9,   2175.5,2,    744.3,2,   2329.9,2,     7.72,2,25,   20.00,   -999,-999.0000,-999.000,  6.5958,-999.000
     316N151_2,   A24,    26,  1,     17,     17,2,19970605,0831, 47.1673, -14.6317, 4798,   1416.2,   4.8856,  35.0382,2,  35.0394,2,    246.2,2,    244.9,2,    12.23,2,    18.20,2,     0.00,2,     1.18,2,    1.980,2,    0.950,2, -999.000,9,-999.0000,9,  -999.00,9,   2166.2,2,    758.8,2,   2315.0,2,     7.71,2,25,   20.00,   -999,-999.0000,-999.000,  4.7634,-999.000
     316N151_2,   A24,    26,  1,     16,     16,2,19970605,0831, 47.1673, -14.6317, 4798,   1617.9,   4.0593,  34.9461,2,  34.9447,2,    265.0,2,    263.4,2,    12.12,2,    17.75,2,     0.00,2,     1.17,2,    2.110,2,    1.002,2, -999.000,9,-999.0000,9,  -999.00,9,   2158.8,2,    759.9,2,   2307.3,2,     7.71,2,25,   20.00,   -999,-999.0000,-999.000,  3.9276,-999.000
     316N151_2,   A24,    26,  1,     15,     15,2,19970605,0831, 47.1673, -14.6317, 4798,   1883.2,   3.5311,  34.9025,2,  34.9028,2,    275.9,2,    275.1,2,    12.12,2,    17.24,2,     0.00,2,     1.14,2,    2.070,2,    0.986,2, -999.000,9,-999.0000,9,  -999.00,9,   2153.2,2,   -999.0,9,   2305.5,2,     7.71,2,25, -999.00,   -999,-999.0000,-999.000,  3.3817,-999.000
     316N151_2,   A24,    26,  1,     14,     14,2,19970605,0831, 47.1673, -14.6317, 4798,   2024.8,   3.4447,  34.9100,2,  34.9101,2,    276.0,2,    274.9,2,    12.85,2,    17.19,2,     0.00,2,     1.14,2,    1.797,2,    0.860,2, -999.000,9,-999.0000,9,  -999.00,9,   2154.7,2,    745.3,2,   2305.6,2,     7.72,2,25,   20.00,   -999,-999.0000,-999.000,  3.2833,-999.000
     316N151_2,   A24,    26,  1,     13,     13,2,19970605,0831, 47.1673, -14.6317, 4798,   2197.5,   3.4475,  34.9408,2,  34.9403,2,    266.2,2,    267.6,2,    15.17,2,    17.55,2,     0.00,2,     1.16,2,    1.103,2,    0.543,2, -999.000,9,-999.0000,9,  -999.00,9,   2157.3,2,    741.5,2,   2312.3,2,     7.72,2,25,   20.00,   -999,-999.0000,-999.000,  3.2694,-999.000
     316N151_2,   A24,    26,  1,     12,     12,2,19970605,0831, 47.1673, -14.6317, 4798,   2339.1,   3.3522,  34.9512,2,  34.9513,2,    262.6,2,    262.6,2,    18.33,2,    17.95,2,     0.00,2,     1.20,2,    0.778,2,    0.385,2, -999.000,9,-999.0000,9,  -999.00,9,   2162.1,2,    743.8,2,   2318.1,2,     7.73,2,25,   20.00,   -999,-999.0000,-999.000,  3.1618,-999.000
     316N151_2,   A24,    26,  1,     11,     11,2,19970605,0831, 47.1673, -14.6317, 4798,   2430.5,   3.2661,  34.9532,2,  34.9531,2,    260.3,2,    261.0,2,    20.02,2,    18.15,2,     0.00,2,     1.21,2,    0.647,2,    0.331,2, -999.000,9,-999.0000,9,  -999.00,9,   2165.1,2,   -999.0,9,   2319.9,2,     7.72,2,25, -999.00,   -999,-999.0000,-999.000,  3.0681,-999.000
     316N151_2,   A24,    26,  1,     10,     10,2,19970605,0831, 47.1673, -14.6317, 4798,   2684.9,   3.0925,  34.9578,2,  34.9586,2,    252.1,2,    254.3,2,    25.51,2,    19.11,2,     0.00,2,     1.28,2, -999.000,9, -999.000,9, -999.000,9,-999.0000,9,  -999.00,9,   2171.9,2,    745.2,2,   2330.5,2,     7.73,2,25,   20.00,   -999,-999.0000,-999.000,  2.8723,-999.000
     316N151_2,   A24,    26,  1,      9,      9,2,19970605,0831, 47.1673, -14.6317, 4798,   2938.1,   2.8869,  34.9472,2,  34.9474,2,    248.2,2,    250.2,2,    30.57,2,    19.92,2,     0.00,2,     1.34,2,    0.162,2,    0.084,2, -999.000,9,-999.0000,9,  -999.00,9,   2182.1,2,   -999.0,9,   2337.3,2,     7.73,2,25, -999.00,   -999,-999.0000,-999.000,  2.6450,-999.000
     316N151_2,   A24,    26,  1,      8,      8,2,19970605,0831, 47.1673, -14.6317, 4798,   3191.9,   2.7555,  34.9370,2,  34.9361,2,    245.3,2,    246.8,2,    34.58,2,    20.58,2,     0.00,2,     1.39,2, -999.000,9, -999.000,9, -999.000,9,-999.0000,9,  -999.00,9,   2186.2,2,    753.7,2,   2343.0,2,     7.72,2,25,   20.00,   -999,-999.0000,-999.000,  2.4899,-999.000
     316N151_2,   A24,    26,  1,      7,      7,2,19970605,0831, 47.1673, -14.6317, 4798,   3446.3,   2.6451,  34.9261,2,  34.9255,2,    243.0,2,    265.4,4,    37.75,2,    21.08,2,     0.00,2,     1.43,2,    0.064,2,    0.030,2, -999.000,9,-999.0000,9,  -999.00,9,   2189.7,2,    748.8,2,   2349.5,2,     7.73,2,25,   20.00,   -999,-999.0000,-999.000,  2.3549,-999.000
     316N151_2,   A24,    26,  1,      6,      6,2,19970605,0831, 47.1673, -14.6317, 4798,   3697.9,   2.5831,  34.9184,2,  34.9174,2,    241.5,2,    242.8,2,    40.29,2,    21.44,2,     0.00,2,     1.46,2, -999.000,9, -999.000,9, -999.000,9,-999.0000,9,  -999.00,9,   2194.9,2,    760.2,2,   2351.0,2,     7.72,2,25,   20.00,   -999,-999.0000,-999.000,  2.2668,-999.000
     316N151_2,   A24,    26,  1,      5,      5,2,19970605,0831, 47.1673, -14.6317, 4798,   3947.6,   2.5514,  34.9114,2,  34.9117,2,    240.8,2,    242.0,2,    41.87,2,    21.74,2,     0.00,2,     1.47,2,    0.037,2,    0.023,2, -999.000,9,-999.0000,9,  -999.00,9,   2196.5,2,   -999.0,9,   2353.2,2,     7.72,2,25, -999.00,   -999,-999.0000,-999.000,  2.2077,-999.000
     316N151_2,   A24,    26,  1,      4,      4,2,19970605,0831, 47.1673, -14.6317, 4798,   4201.8,   2.5299,  34.9057,2,  34.9068,2,    241.4,2,    242.2,2,    43.14,2,    21.94,2,     0.00,2,     1.49,2, -999.000,9, -999.000,9, -999.000,9,-999.0000,9,  -999.00,9,   2198.8,2,    760.3,2,   2353.8,2,     7.72,2,25,   20.00,   -999,-999.0000,-999.000,  2.1573,-999.000
     316N151_2,   A24,    26,  1,      3,      3,2,19970605,0831, 47.1673, -14.6317, 4798,   4458.8,   2.5270,  34.9021,2,  34.9032,2,    241.0,2,    241.1,2,    43.89,2,    22.04,2,     0.00,2,     1.50,2,    0.037,2,    0.020,2, -999.000,9,-999.0000,9,  -999.00,9,   2199.8,2,   -999.0,9,   2357.8,2,     7.72,2,25, -999.00,   -999,-999.0000,-999.000,  2.1239,-999.000
     316N151_2,   A24,    26,  1,      2,      2,2,19970605,0831, 47.1673, -14.6317, 4798,   4716.0,   2.5331,  34.9002,2,  34.9009,2,    241.6,2,    240.9,2,    44.52,2,    22.15,2,     0.00,2,     1.51,2, -999.000,9, -999.000,9, -999.000,9,-999.0000,9,  -999.00,9,   2199.7,2,    763.6,2,   2355.1,2,     7.72,2,25,   20.00,   -999,-999.0000,-999.000,  2.0983,-999.000
     316N151_2,   A24,    26,  1,      1,      1,2,19970605,0831, 47.1673, -14.6317, 4798,   4911.4,   2.5495,  34.8980,2,  34.8993,2,    240.8,2,    241.1,2,    44.95,2,    22.20,2,     0.00,2,     1.51,2,    0.096,3,    0.013,2, -999.000,9,-999.0000,9,  -999.00,9,   2202.0,2,    760.8,2,   2360.5,2,     7.72,2,25,   20.00,   -999,-999.0000,-999.000,  2.0897,-999.000