BOTTLE,20220629CCHSIOAMB
EXPOCODE,SECT_ID,STNNBR,CASTNO,SAMPNO,BTLNBR,BTLNBR_FLAG_W,DATE,TIME,LATITUDE,LONGITUDE,DEPTH,CTDPRS,CTDTMP,CTDSAL,CTDSAL_FLAG_W,SALNTY,SALNTY_FLAG_W,CTDOXY,CTDOXY_FLAG_W,OXYGEN,OXYGEN_FLAG_W,SILCAT,SILCAT_FLAG_W,NITRAT,NITRAT_FLAG_W,NITRIT,NITRIT_FLAG_W,PHSPHT,PHSPHT_FLAG_W,CFC-11,CFC-11_FLAG_W,CFC-12,CFC-12_FLAG_W,TRITUM,TRITUM_FLAG_W,HELIUM,HELIUM_FLAG_W,DELHE3,DELHE3_FLAG_W,TCARBN,TCARBN_FLAG_W,PCO2,PCO2_FLAG_W,ALKALI,ALKALI_FLAG_W,PH,PH_FLAG_W,PH_TMP,PCO2TMP,CTDRAW,HELIER,DELHER,THETA,TRITER
,,,,,,,,,,,,DBAR,ITS-90,PSS-78,,PSS-78,,UMOL/KG,,UMOL/KG,,UMOL/KG,,UMOL/KG,,UMOL/KG,,UMOL/KG,,PMOL/KG,,PMOL/KG,,TU,,NMOL/KG,,PERCNT,,UMOL/KG,,UATM,,UMOL/KG,,,,DEG C,DEG C,,NMOL/KG,PERCNT,DEG C,TU
     316N151_2,   A24,   115,  1,     22,     22,2,19970622,0406, 53.8827, -35.9328, 1944,      4.4,  10.0714,  34.8091,2,  34.8070,2,    292.0,2,    292.8,2,     2.42,2,     5.88,2,     0.13,2,     0.42,2,    3.897,2,    2.054,2, -999.000,9,-999.0000,9,  -999.00,9,   2073.8,2,   -999.0,9,   2303.2,2,     7.89,6,25, -999.00,   -999,-999.0000,-999.000, 10.0709,-999.000
     316N151_2,   A24,   115,  1,     21,     21,2,19970622,0406, 53.8827, -35.9328, 1944,     34.7,   8.4685,  34.8730,2,  34.8672,2,    288.3,2,    287.3,2,     4.02,2,     8.78,2,     0.19,2,     0.67,2, -999.000,9, -999.000,9, -999.000,9,-999.0000,9,  -999.00,9,   2102.9,2,   -999.0,9,   2303.8,2,     7.83,2,25, -999.00,   -999,-999.0000,-999.000,  8.4649,-999.000
     316N151_2,   A24,   115,  1,     20,     20,2,19970622,0406, 53.8827, -35.9328, 1944,     64.6,   7.3204,  34.8668,2,  34.8796,2,    281.1,2,    280.5,2,     6.72,2,    12.57,2,     0.17,2,     0.87,2,    4.123,2,    2.164,2, -999.000,9,-999.0000,9,  -999.00,9,   2125.2,2,   -999.0,9,   2305.0,2,     7.78,2,25, -999.00,   -999,-999.0000,-999.000,  7.3142,-999.000
     316N151_2,   A24,   115,  1,     19,     19,2,19970622,0406, 53.8827, -35.9328, 1944,    114.8,   6.3551,  34.8688,2,  34.8713,2,    280.6,2,    276.9,2,     8.31,2,    14.62,2,     0.01,2,     0.98,2,    4.063,2,    2.115,2, -999.000,9,-999.0000,9,  -999.00,9,   2136.9,2,   -999.0,9,   2305.3,2,     7.76,2,25, -999.00,   -999,-999.0000,-999.000,  6.3450,-999.000
     316N151_2,   A24,   115,  1,     18,     18,2,19970622,0406, 53.8827, -35.9328, 1944,    164.4,   6.4569,  34.9458,2,  34.9496,2,    274.8,2,    276.9,2,     8.39,2,    14.95,2,     0.01,2,     1.00,2,    3.984,2,    2.075,2, -999.000,9,-999.0000,9,  -999.00,9,   2139.5,2,   -999.0,9,   2308.6,2,     7.76,2,25, -999.00,   -999,-999.0000,-999.000,  6.4422,-999.000
     316N151_2,   A24,   115,  1,     17,     17,2,19970622,0406, 53.8827, -35.9328, 1944,    233.8,   6.5836,  35.0122,2,  35.0125,2,    272.9,2,    279.5,2,     8.06,2,    14.81,2,     0.01,2,     0.98,2,    4.057,2,    2.116,2, -999.000,9,-999.0000,9,  -999.00,9,   2140.9,2,   -999.0,9,   2312.5,2,     7.76,2,25, -999.00,   -999,-999.0000,-999.000,  6.5624,-999.000
     316N151_2,   A24,   115,  1,     16,     16,2,19970622,0406, 53.8827, -35.9328, 1944,    306.0,   6.5712,  35.0337,2,  35.0336,2,    270.8,2,    275.7,2,     8.14,2,    14.90,2,     0.01,2,     0.99,2,    3.951,2,    2.052,2, -999.000,9,-999.0000,9,  -999.00,9,   2143.0,2,   -999.0,9,   2313.3,2,     7.76,2,25, -999.00,   -999,-999.0000,-999.000,  6.5433,-999.000
     316N151_2,   A24,   115,  1,     15,     15,2,19970622,0406, 53.8827, -35.9328, 1944,    405.8,   5.8403,  34.9560,2,  34.9570,2,    250.4,2,    249.1,2,    10.23,2,    17.22,2,     0.00,2,     1.13,2,    3.344,2,    1.687,2, -999.000,9,-999.0000,9,  -999.00,9,   2156.4,2,   -999.0,9,   2310.1,2,     7.72,2,25, -999.00,   -999,-999.0000,-999.000,  5.8053,-999.000
     316N151_2,   A24,   115,  1,     14,     14,2,19970622,0406, 53.8827, -35.9328, 1944,    486.7,   5.3503,  34.9573,2,  34.9541,2,    241.7,2,    241.2,2,    11.12,2,    18.13,2,     0.00,2,     1.19,2,    2.938,2,    1.463,2, -999.000,9,-999.0000,9,  -999.00,9,   2162.8,2,   -999.0,9,   2310.0,2,     7.71,2,25, -999.00,   -999,-999.0000,-999.000,  5.3099,-999.000
     316N151_2,   A24,   115,  1,     13,     13,2,19970622,0406, 53.8827, -35.9328, 1944,    607.2,   4.6938,  34.9456,2,  34.9452,2,    247.0,2,    245.7,2,    11.60,2,    18.32,2,     0.00,2,     1.19,2,    2.753,2,    1.336,2, -999.000,9,-999.0000,9,  -999.00,9,   2164.7,2,   -999.0,9,   2308.9,2,     7.70,2,25, -999.00,   -999,-999.0000,-999.000,  4.6459,-999.000
     316N151_2,   A24,   115,  1,     12,     12,2,19970622,0406, 53.8827, -35.9328, 1944,    708.1,   4.3623,  34.9464,2,  34.9480,2,    255.5,2,    256.0,2,    11.47,2,    17.85,2,     0.00,2,     1.16,2,    2.623,2,    1.276,2, -999.000,9,-999.0000,9,  -999.00,9,   2158.9,2,   -999.0,9,   2309.0,2,     7.71,2,25, -999.00,   -999,-999.0000,-999.000,  4.3078,-999.000
     316N151_2,   A24,   115,  1,     11,     11,2,19970622,0406, 53.8827, -35.9328, 1944,    808.9,   4.0672,  34.9332,2,  34.9342,2,    260.4,2,    262.9,2,    11.35,2,    17.57,2,     0.00,2,     1.15,2,    2.652,2,    1.266,2, -999.000,9,-999.0000,9,  -999.00,9,   2159.4,2,   -999.0,9,   2308.1,2,     7.71,2,25, -999.00,   -999,-999.0000,-999.000,  4.0062,-999.000
     316N151_2,   A24,   115,  1,     10,     10,2,19970622,0406, 53.8827, -35.9328, 1944,    918.7,   3.8045,  34.9193,2,  34.9190,2,    266.5,2,    269.3,2,    11.32,2,    17.38,2,     0.00,2,     1.14,2,    2.607,2,    1.245,2, -999.000,9,-999.0000,9,  -999.00,9,   2157.4,2,   -999.0,9,   2306.0,2,     7.71,2,25, -999.00,   -999,-999.0000,-999.000,  3.7363,-999.000
     316N151_2,   A24,   115,  1,      9,      9,2,19970622,0406, 53.8827, -35.9328, 1944,   1060.5,   3.6552,  34.9190,2,  34.9190,2,    270.3,2,    272.8,2,    11.30,2,    17.10,2,     0.00,2,     1.12,2,    2.571,2,    1.232,2, -999.000,9,-999.0000,9,  -999.00,9,   2155.1,2,   -999.0,9,   2305.4,2,     7.71,2,25, -999.00,   -999,-999.0000,-999.000,  3.5765,-999.000
     316N151_2,   A24,   115,  1,      8,      8,2,19970622,0406, 53.8827, -35.9328, 1944,   1211.5,   3.5073,  34.9228,2,  34.9227,2,    274.3,2,    275.7,2,    11.28,2,    16.77,2,     0.00,2,     1.09,2,    2.482,2,    1.187,2, -999.000,9,-999.0000,9,  -999.00,9,   2154.7,2,   -999.0,9,   2305.7,2,     7.71,2,25, -999.00,   -999,-999.0000,-999.000,  3.4175,-999.000
     316N151_2,   A24,   115,  1,      7,      7,2,19970622,0406, 53.8827, -35.9328, 1944,   1312.6,   3.4301,  34.9288,2,  34.9278,2,    276.5,2,    275.9,2,    11.45,2,    16.63,2,     0.00,2,     1.09,2,    2.433,2,    1.171,2, -999.000,9,-999.0000,9,  -999.00,9,   2154.2,2,   -999.0,9,   2308.5,2,     7.72,2,25, -999.00,   -999,-999.0000,-999.000,  3.3325,-999.000
     316N151_2,   A24,   115,  1,      6,      6,2,19970622,0406, 53.8827, -35.9328, 1944,   1465.0,   3.3051,  34.9405,2,  34.9402,2,    279.8,2,    276.5,2,    11.73,2,    16.35,2,     0.00,2,     1.08,2,    2.355,2,    1.133,2, -999.000,9,-999.0000,9,  -999.00,9,   2153.1,2,   -999.0,9,   2307.1,2,     7.72,2,25, -999.00,   -999,-999.0000,-999.000,  3.1958,-999.000
     316N151_2,   A24,   115,  1,      5,      5,2,19970622,0406, 53.8827, -35.9328, 1944,   1617.4,   3.3052,  34.9459,2,  34.9471,2,    278.6,2,    275.8,2,    11.81,2,    16.26,2,     0.00,2,     1.08,2,    2.297,2,    1.107,2, -999.000,9,-999.0000,9,  -999.00,9,   2155.9,2,   -999.0,9,   2306.9,2,     7.72,2,25, -999.00,   -999,-999.0000,-999.000,  3.1827,-999.000
     316N151_2,   A24,   115,  1,      4,      4,2,19970622,0406, 53.8827, -35.9328, 1944,   1789.0,   3.2735,  34.9492,2,  34.9495,2,    277.1,2,    277.7,2,    12.09,2,    16.26,2,     0.00,2,     1.07,2,    2.235,2,    1.096,2, -999.000,9,-999.0000,9,  -999.00,9,   2155.2,2,   -999.0,9,   2308.9,2,     7.72,2,25, -999.00,   -999,-999.0000,-999.000,  3.1361,-999.000
     316N151_2,   A24,   115,  1,      3,      3,2,19970622,0406, 53.8827, -35.9328, 1944,   1850.3,   3.1650,  34.9427,2,  34.9436,2,    277.7,2,    275.5,2,    12.67,2,    16.31,2,     0.00,2,     1.08,2,    2.065,2,    1.004,2, -999.000,9,-999.0000,9,  -999.00,9,   2154.9,2,   -999.0,9,   2319.2,2,     7.72,2,25, -999.00,   -999,-999.0000,-999.000,  3.0236,-999.000
     316N151_2,   A24,   115,  1,      2,      2,2,19970622,0406, 53.8827, -35.9328, 1944,   1920.1,   3.1443,  34.9429,2,  34.9433,2,    276.1,2,    275.5,2,    12.85,2,    16.36,2,     0.00,2,     1.08,2,    2.011,2,    0.979,2, -999.000,9,-999.0000,9,  -999.00,9,   2153.9,2,   -999.0,9,   2310.0,2,     7.72,2,25, -999.00,   -999,-999.0000,-999.000,  2.9969,-999.000
     316N151_2,   A24,   115,  1,      1,      1,2,19970622,0406, 53.8827, -35.9328, 1944,   2007.7,   3.1406,  34.9432,2,  34.9437,2,    273.5,2,    275.1,2,    12.93,2,    16.36,2,     0.00,2,     1.09,2,    1.969,2,    0.959,2, -999.000,9,-999.0000,9,  -999.00,9,   2157.2,2,   -999.0,9,   2310.8,2,     7.72,2,25, -999.00,   -999,-999.0000,-999.000,  2.9852,-999.000
     316N151_2,   A24,   116,  1,     23,     23,2,19970622,0857, 53.3973, -35.3670, 2934,      2.9,  10.1884,  34.7851,2,  34.7907,2,    293.5,2,    294.4,2,     1.66,2,     5.52,2,     0.13,2,     0.39,2,    3.946,2,    2.071,2, -999.000,9,-999.0000,9,  -999.00,9,   2071.9,2,    467.6,2,   2301.3,2,     7.90,6,25,   20.00,   -999,-999.0000,-999.000, 10.1880,-999.000
     316N151_2,   A24,   116,  1,     22,     22,2,19970622,0857, 53.3973, -35.3670, 2934,     45.0,   7.9959,  34.9073,2,  34.9087,2,    280.7,2,    286.6,2,     4.16,2,     9.97,2,     0.21,2,     0.72,2,    4.192,2,    2.192,2, -999.000,9,-999.0000,9,  -999.00,9,   -999.0,9,    582.0,2,   -999.0,9,  -999.00,9,25,   20.00,   -999,-999.0000,-999.000,  7.9914,-999.000
     316N151_2,   A24,   116,  1,     21,     21,2,19970622,0857, 53.3973, -35.3670, 2934,     95.3,   6.4144,  34.8603,2,  34.8609,2,    278.1,2,    278.8,2,     7.98,2,    14.37,2,     0.01,2,     0.98,2,    4.078,2,    2.131,2, -999.000,9,-999.0000,9,  -999.00,9,   -999.0,9,   -999.0,9,   -999.0,9,  -999.00,9,25, -999.00,   -999,-999.0000,-999.000,  6.4059,-999.000
     316N151_2,   A24,   116,  1,     20,     20,2,19970622,0857, 53.3973, -35.3670, 2934,    155.9,   6.3270,  34.9112,2,  34.8996,2,    270.7,2,    275.8,2,     8.36,2,    14.93,2,     0.01,2,     1.01,2,    4.014,2,    2.084,2, -999.000,9,-999.0000,9,  -999.00,9,   -999.0,9,    685.9,2,   -999.0,9,  -999.00,9,25,   20.00,   -999,-999.0000,-999.000,  6.3132,-999.000
     316N151_2,   A24,   116,  1,     19,     19,2,19970622,0857, 53.3973, -35.3670, 2934,    225.6,   6.1855,  34.9309,2,  34.9322,2,    273.1,2,    267.1,2,     8.95,2,    15.74,2,     0.01,2,     1.05,2,    3.764,2,    1.954,2, -999.000,9,-999.0000,9,  -999.00,9,   -999.0,9,    704.1,2,   -999.0,9,  -999.00,9,25,   20.00,   -999,-999.0000,-999.000,  6.1657,-999.000
     316N151_2,   A24,   116,  1,     18,     18,2,19970622,0857, 53.3973, -35.3670, 2934,    336.1,   5.8110,  34.9441,2,  34.9456,2,    253.9,2,    246.1,2,    10.34,2,    17.45,2,     0.00,2,     1.15,2,    3.279,2,    1.642,2, -999.000,9,-999.0000,9,  -999.00,9,   -999.0,9,    751.4,2,   -999.0,9,  -999.00,9,25,   20.00,   -999,-999.0000,-999.000,  5.7823,-999.000
     316N151_2,   A24,   116,  1,     17,     17,2,19970622,0857, 53.3973, -35.3670, 2934,    445.4,   5.3590,  34.9594,2,  34.9597,2,    241.2,2,    242.1,2,    11.03,2,    18.06,2,     0.00,2,     1.19,2,    2.971,2,    1.463,2, -999.000,9,-999.0000,9,  -999.00,9,   -999.0,9,   -999.0,9,   -999.0,9,  -999.00,9,25, -999.00,   -999,-999.0000,-999.000,  5.3221,-999.000
     316N151_2,   A24,   116,  1,     16,     16,2,19970622,0857, 53.3973, -35.3670, 2934,    545.3,   4.8825,  34.9508,2,  34.9542,2,    241.4,2,    244.3,2,    11.51,2,    18.30,2,     0.00,2,     1.20,2,    2.745,2,    1.335,2, -999.000,9,-999.0000,9,  -999.00,9,   -999.0,9,    784.8,2,   -999.0,9,  -999.00,9,25,   20.00,   -999,-999.0000,-999.000,  4.8389,-999.000
     316N151_2,   A24,   116,  1,     15,     15,2,19970622,0857, 53.3973, -35.3670, 2934,    656.8,   4.6064,  34.9565,2,  34.9577,2,    248.2,2,    250.3,2,    11.49,2,    18.11,2,     0.00,2,     1.18,2,    2.675,2,    1.305,2, -999.000,9,-999.0000,9,  -999.00,9,   -999.0,9,    781.7,2,   -999.0,9,  -999.00,9,25,   20.00,   -999,-999.0000,-999.000,  4.5548,-999.000
     316N151_2,   A24,   116,  1,     14,     14,2,19970622,0857, 53.3973, -35.3670, 2934,    757.7,   4.2032,  34.9412,2,  34.9404,2,    256.6,2,    259.3,2,    11.37,2,    17.78,2,     0.00,2,     1.16,2,    2.658,2,    1.272,2, -999.000,9,-999.0000,9,  -999.00,9,   -999.0,9,    776.0,2,   -999.0,9,  -999.00,9,25,   20.00,   -999,-999.0000,-999.000,  4.1455,-999.000
     316N151_2,   A24,   116,  1,     13,     13,2,19970622,0857, 53.3973, -35.3670, 2934,    859.2,   3.9930,  34.9308,2,  34.9321,2,    266.4,2,    264.4,2,    11.36,2,    17.54,2,     0.00,2,     1.15,2,    2.583,2,    1.257,2, -999.000,9,-999.0000,9,  -999.00,9,   -999.0,9,    769.3,2,   -999.0,9,  -999.00,9,25,   20.00,   -999,-999.0000,-999.000,  3.9284,-999.000
     316N151_2,   A24,   116,  1,     12,     12,2,19970622,0857, 53.3973, -35.3670, 2934,   1010.6,   3.6704,  34.9188,2,  34.9187,2,    269.8,2,    272.0,2,    11.24,2,    17.21,2,     0.00,2,     1.13,2,    2.604,2,    1.253,2, -999.000,9,-999.0000,9,  -999.00,9,   -999.0,9,    762.4,2,   -999.0,9,  -999.00,9,25,   20.00,   -999,-999.0000,-999.000,  3.5957,-999.000
     316N151_2,   A24,   116,  1,     11,     11,2,19970622,0857, 53.3973, -35.3670, 2934,   1162.5,   3.4877,  34.9176,2,  34.9175,2,    275.2,2,    276.3,2,    11.12,2,    16.87,2,     0.00,2,     1.11,2,    2.538,2,    1.221,2, -999.000,9,-999.0000,9,  -999.00,9,   -999.0,9,   -999.0,9,   -999.0,9,  -999.00,9,25, -999.00,   -999,-999.0000,-999.000,  3.4021,-999.000
     316N151_2,   A24,   116,  1,     10,     10,2,19970622,0857, 53.3973, -35.3670, 2934,   1362.8,   3.3688,  34.9317,2,  34.9323,2,    274.4,2,    276.7,2,    11.50,2,    16.59,2,     0.00,2,     1.09,2,    2.375,2,    1.152,2, -999.000,9,-999.0000,9,  -999.00,9,   -999.0,9,    750.8,2,   -999.0,9,  -999.00,9,25,   20.00,   -999,-999.0000,-999.000,  3.2676,-999.000
     316N151_2,   A24,   116,  1,      9,      9,2,19970622,0857, 53.3973, -35.3670, 2934,   1566.8,   3.2436,  34.9478,2,  34.9458,2,    274.1,2,    275.7,2,    11.99,2,    16.40,2,     0.00,2,     1.09,2, -999.000,9, -999.000,9, -999.000,9,-999.0000,9,  -999.00,9,   -999.0,9,   -999.0,9,   -999.0,9,  -999.00,9,25, -999.00,   -999,-999.0000,-999.000,  3.1262,-999.000
     316N151_2,   A24,   116,  1,      8,      8,2,19970622,0857, 53.3973, -35.3670, 2934,   1768.6,   3.1980,  34.9586,2,  34.9568,2,    275.0,2,    274.7,2,    12.17,2,    16.26,2,     0.00,2,     1.08,2,    2.182,2,    1.060,2, -999.000,9,-999.0000,9,  -999.00,9,   -999.0,9,   -999.0,9,   -999.0,9,  -999.00,9,25, -999.00,   -999,-999.0000,-999.000,  3.0634,-999.000
     316N151_2,   A24,   116,  1,      7,      7,2,19970622,0857, 53.3973, -35.3670, 2934,   1972.2,   3.1257,  34.9619,2,  34.9606,2,    273.0,2,    274.7,2,    12.55,2,    16.21,2,     0.00,2,     1.07,2, -999.000,9, -999.000,9, -999.000,9,-999.0000,9,  -999.00,9,   -999.0,9,    750.6,2,   -999.0,9,  -999.00,9,25,   20.00,   -999,-999.0000,-999.000,  2.9737,-999.000
     316N151_2,   A24,   116,  1,      6,      6,2,19970622,0857, 53.3973, -35.3670, 2934,   2174.2,   3.0860,  34.9633,2,  34.9617,2,    273.9,2,    274.6,2,    12.84,2,    16.21,2,     0.00,2,     1.07,2,    2.195,2,    1.060,2, -999.000,9,-999.0000,9,  -999.00,9,   -999.0,9,    751.5,2,   -999.0,9,  -999.00,9,25,   20.00,   -999,-999.0000,-999.000,  2.9159,-999.000
     316N151_2,   A24,   116,  1,      5,      5,2,19970622,0857, 53.3973, -35.3670, 2934,   2376.0,   3.0601,  34.9644,2,  34.9633,2,    274.5,2,    274.5,2,    13.02,2,    16.16,2,     0.00,2,     1.07,2, -999.000,9, -999.000,9, -999.000,9,-999.0000,9,  -999.00,9,   -999.0,9,   -999.0,9,   -999.0,9,  -999.00,9,25, -999.00,   -999,-999.0000,-999.000,  2.8711,-999.000
     316N151_2,   A24,   116,  1,      4,      4,2,19970622,0857, 53.3973, -35.3670, 2934,   2529.3,   3.0519,  34.9652,2,  34.9633,2,    274.3,2,    273.8,2,    13.31,2,    16.16,2,     0.00,2,     1.08,2,    2.192,2,    1.068,2, -999.000,9,-999.0000,9,  -999.00,9,   -999.0,9,   -999.0,9,   -999.0,9,  -999.00,9,25, -999.00,   -999,-999.0000,-999.000,  2.8480,-999.000
     316N151_2,   A24,   116,  1,      3,      3,2,19970622,0857, 53.3973, -35.3670, 2934,   2661.1,   3.0569,  34.9647,2,  34.9631,2,    273.9,2,    273.9,2,    13.39,2,    16.15,2,     0.00,2,     1.08,2,    2.148,2,    1.044,2, -999.000,9,-999.0000,9,  -999.00,9,   -999.0,9,   -999.0,9,   -999.0,9,  -999.00,9,25, -999.00,   -999,-999.0000,-999.000,  2.8398,-999.000
     316N151_2,   A24,   116,  1,      2,      2,2,19970622,0857, 53.3973, -35.3670, 2934,   2783.3,   3.0677,  34.9634,2,  34.9630,2,    271.7,2,    274.0,2,    13.47,2,    16.15,2,     0.00,2,     1.07,2,    2.169,2,    1.052,2, -999.000,9,-999.0000,9,  -999.00,9,   -999.0,9,    752.4,2,   -999.0,9,  -999.00,9,25,   20.00,   -999,-999.0000,-999.000,  2.8379,-999.000
     316N151_2,   A24,   116,  1,      1,      1,2,19970622,0857, 53.3973, -35.3670, 2934,   2844.4,   3.0741,  34.9646,2,  34.9675,3,    275.4,2,    273.9,2,    13.55,2,    16.20,2,     0.00,2,     1.08,2,    2.165,2,    1.045,2, -999.000,9,-999.0000,9,  -999.00,9,   -999.0,9,   -999.0,9,   -999.0,9,  -999.00,9,25, -999.00,   -999,-999.0000,-999.000,  2.8379,-999.000