BOTTLE,20220629CCHSIOAMB
EXPOCODE,SECT_ID,STNNBR,CASTNO,SAMPNO,BTLNBR,BTLNBR_FLAG_W,DATE,TIME,LATITUDE,LONGITUDE,DEPTH,CTDPRS,CTDTMP,CTDSAL,CTDSAL_FLAG_W,SALNTY,SALNTY_FLAG_W,CTDOXY,CTDOXY_FLAG_W,OXYGEN,OXYGEN_FLAG_W,SILCAT,SILCAT_FLAG_W,NITRAT,NITRAT_FLAG_W,NITRIT,NITRIT_FLAG_W,PHSPHT,PHSPHT_FLAG_W,CFC-11,CFC-11_FLAG_W,CFC-12,CFC-12_FLAG_W,TRITUM,TRITUM_FLAG_W,HELIUM,HELIUM_FLAG_W,DELHE3,DELHE3_FLAG_W,TCARBN,TCARBN_FLAG_W,PCO2,PCO2_FLAG_W,ALKALI,ALKALI_FLAG_W,PH,PH_FLAG_W,PH_TMP,PCO2TMP,CTDRAW,HELIER,DELHER,THETA,TRITER
,,,,,,,,,,,,DBAR,ITS-90,PSS-78,,PSS-78,,UMOL/KG,,UMOL/KG,,UMOL/KG,,UMOL/KG,,UMOL/KG,,UMOL/KG,,PMOL/KG,,PMOL/KG,,TU,,NMOL/KG,,PERCNT,,UMOL/KG,,UATM,,UMOL/KG,,,,DEG C,DEG C,,NMOL/KG,PERCNT,DEG C,TU
     316N151_2,   A24,    94,  1,     10,     10,2,19970617,0826, 64.0837, -36.7672,  399,      4.3,   1.8342,  32.7141,3,  32.7550,2,   -999.0,5,    408.1,2,     0.12,2,     0.19,2,     0.00,2,     0.12,2, -999.000,9, -999.000,9,   -1.224,4,   1.8970,2,    -1.65,2,   1938.7,2,   -999.0,9,   2204.0,6,     8.01,6,25, -999.00,   -999,  0.0000,   0.180,  1.8340,   0.046
     316N151_2,   A24,    94,  1,      9,      9,2,19970617,0826, 64.0837, -36.7672,  399,     32.4,   0.1142,  33.9171,3,  33.9552,2,   -999.0,5,    338.5,2,     2.50,2,     8.07,2,     0.07,2,     0.71,2,    5.988,2,    2.945,2,   -2.002,4,   1.9176,2,    -0.35,2,   -999.0,9,   -999.0,9,   -999.0,9,  -999.00,9,25, -999.00,   -999,  0.0000,   0.200,  0.1131,   0.047
     316N151_2,   A24,    94,  1,      8,      8,2,19970617,0826, 64.0837, -36.7672,  399,     72.3,   2.6995,  34.4573,2,  34.4614,2,    311.0,2,    310.6,2,     6.95,2,    12.28,2,     0.23,2,     0.89,2, -999.000,9, -999.000,9,   -2.431,4,   1.8732,2,    -0.67,2,   -999.0,9,   -999.0,9,   -999.0,9,  -999.00,9,25, -999.00,   -999,  0.0000,   0.160,  2.6953,   0.045
     316N151_2,   A24,    94,  1,      7,      7,2,19970617,0826, 64.0837, -36.7672,  399,    101.8,   3.8448,  34.6794,2,  34.6851,2,    306.7,2,    307.1,2,     5.95,2,    11.73,2,     0.16,2,     0.88,2, -999.000,9, -999.000,9,   -2.941,4,   0.0000,5,  -999.00,5,   -999.0,9,   -999.0,9,   -999.0,9,  -999.00,9,25, -999.00,   -999,  0.0000,   0.280,  3.8379,   0.051
     316N151_2,   A24,    94,  1,      6,      6,2,19970617,0826, 64.0837, -36.7672,  399,    142.4,   4.7680,  34.8550,2,  34.8542,2,    298.4,2,    298.3,2,     6.92,2,    13.04,2,     0.22,2,     0.94,2,    4.636,2,    2.360,2,   -0.034,4,   0.0010,4,  3102.84,4,   -999.0,9,   -999.0,9,   -999.0,9,  -999.00,9,25, -999.00,   -999,  0.0000,   0.310,  4.7572,   0.015
     316N151_2,   A24,    94,  1,      5,      5,2,19970617,0826, 64.0837, -36.7672,  399,    203.0,   4.5232,  34.8579,2,  34.8524,2,    294.0,2,    293.0,2,     7.89,2,    14.23,2,     0.06,2,     0.98,2, -999.000,9, -999.000,9,   -2.586,4,   1.8489,2,    -0.29,2,   -999.0,9,   -999.0,9,   -999.0,9,  -999.00,9,25, -999.00,   -999,  0.0000,   0.150,  4.5081,   0.043
     316N151_2,   A24,    94,  1,      4,      4,2,19970617,0826, 64.0837, -36.7672,  399,    253.0,   4.5843,  34.8884,2,  34.8876,2,    292.7,2,    290.2,2,     8.17,2,    14.49,2,     0.03,2,     0.99,2,    4.417,2,    2.250,2, -999.000,9,-999.0000,9,  -999.00,9,   -999.0,9,   -999.0,9,   -999.0,9,  -999.00,9,25, -999.00,   -999,-999.0000,-999.000,  4.5653,-999.000
     316N151_2,   A24,    94,  1,      3,      3,2,19970617,0826, 64.0837, -36.7672,  399,    323.3,   4.1233,  34.8601,2,  34.8593,2,    292.2,2,    292.7,2,     8.25,2,    14.36,2,     0.02,2,     0.99,2,    4.502,2,    2.280,2,   -3.248,4,   1.8698,2,    -0.13,2,   -999.0,9,   -999.0,9,   -999.0,9,  -999.00,9,25, -999.00,   -999,  0.0000,   0.150,  4.1000,   0.054
     316N151_2,   A24,    94,  1,      2,      2,2,19970617,0826, 64.0837, -36.7672,  399,    363.7,   3.9538,  34.8499,2,  34.8481,2,    293.0,2,    293.3,2,     8.53,2,    14.39,2,     0.03,2,     0.99,2, -999.000,9, -999.000,9, -999.000,9,-999.0000,9,  -999.00,9,   -999.0,9,   -999.0,9,   -999.0,9,  -999.00,9,25, -999.00,   -999,-999.0000,-999.000,  3.9280,-999.000
     316N151_2,   A24,    94,  1,      1,      1,2,19970617,0826, 64.0837, -36.7672,  399,    388.8,   3.9710,  34.8514,2,  34.8515,2,    294.4,2,    291.8,2,     8.57,2,    14.33,2,     0.03,2,     0.98,2,    4.487,2,    2.265,2,    1.387,2,   1.8483,2,     0.22,2,   -999.0,9,   -999.0,9,   -999.0,9,  -999.00,9,25, -999.00,   -999,  0.0000,   0.160,  3.9433,   0.020
     316N151_2,   A24,    95,  1,     11,     11,2,19970617,1045, 64.2850, -37.3835,  626,      2.7,   1.4521,  32.4007,3,  32.4346,2,   -999.0,5,    408.6,2,     0.44,2,     0.05,2,     0.00,2,     0.08,2,    6.660,2,    3.240,2,   -2.427,4,   1.9028,2,    -1.65,2,   1916.7,2,    328.7,2,   2185.6,6,     8.01,2,25,   20.00,   -999,  0.0000,   0.170,  1.4520,   0.049
     316N151_2,   A24,    95,  1,     10,     10,2,19970617,1045, 64.2850, -37.3835,  626,     32.7,   0.8344,  33.8778,2,  33.8940,2,    396.2,2,    364.8,2,     0.53,2,     2.70,2,     0.05,2,     0.32,2, -999.000,9, -999.000,9,   -2.368,4,   1.9204,2,    -0.40,2,   2085.2,2,    583.1,2,   2272.0,2,     7.80,2,25,   20.00,   -999,  0.0000,   0.170,  0.8330,   0.043
     316N151_2,   A24,    95,  1,      9,      9,2,19970617,1045, 64.2850, -37.3835,  626,    103.4,   2.8304,  34.5308,3,  34.4840,2,   -999.0,5,    318.0,2,     5.16,2,    10.40,2,     0.10,2,     0.78,2,    5.258,2,    2.641,2,   -3.160,4,   1.9082,2,    -0.69,2,   2124.5,2,    672.4,2,   2289.0,2,     7.76,2,25,   20.00,   -999,  0.0000,   0.200,  2.8242,   0.045
     316N151_2,   A24,    95,  1,      8,      8,2,19970617,1045, 64.2850, -37.3835,  626,    163.6,   4.0084,  34.7332,2,  34.7404,2,    301.2,2,    300.5,2,     7.32,2,    13.27,2,     0.17,2,     0.91,2, -999.000,9, -999.000,9,   -3.602,4,   1.8980,2,    -0.73,2,   2134.2,2,    689.6,2,   2297.4,2,     7.75,2,25,   20.00,   -999,  0.0000,   0.200,  3.9970,   0.051
     316N151_2,   A24,    95,  1,      7,      7,2,19970617,1045, 64.2850, -37.3835,  626,    243.9,   4.0520,  34.8034,2,  34.7970,2,    297.5,2,    298.1,2,     8.01,2,    14.01,2,     0.04,2,     0.94,2,    4.696,2,    2.381,2,   -3.739,4,   1.8686,2,    -0.60,2,   2137.9,2,    699.0,2,   2300.8,2,     7.74,2,25,   20.00,   -999,  0.0000,   0.200,  4.0347,   0.050
     316N151_2,   A24,    95,  1,      6,      6,2,19970617,1045, 64.2850, -37.3835,  626,    294.7,   4.1987,  34.8408,2,  34.8419,2,    294.7,2,    294.5,2,     8.20,2,    14.27,2,     0.02,2,     0.96,2,    4.556,2,    2.307,2,   -3.698,4,   1.8600,2,    -0.26,2,   2141.3,2,    699.7,2,   2301.2,2,     7.74,2,25,   20.00,   -999,  0.0000,   0.200,  4.1773,   0.058
     316N151_2,   A24,    95,  1,      5,      5,2,19970617,1045, 64.2850, -37.3835,  626,    334.6,   4.1798,  34.8473,2,  34.8450,2,    293.4,2,    293.4,2,     8.29,2,    14.31,2,     0.02,2,     0.96,2,    4.527,2,    2.290,2, -999.000,9,-999.0000,9,  -999.00,9,   2142.6,2,    703.5,2,   2303.1,2,     7.74,2,25,   20.00,   -999,-999.0000,-999.000,  4.1555,-999.000
     316N151_2,   A24,    95,  1,      4,      4,2,19970617,1045, 64.2850, -37.3835,  626,    415.1,   3.9527,  34.8281,2,  34.8264,2,    295.7,2,    295.2,2,     8.28,2,    14.23,2,     0.01,2,     0.95,2,    4.564,2,    2.307,2, -999.000,9,-999.0000,9,  -999.00,9,   2140.1,2,    707.2,2,   2301.6,2,     7.74,2,25,   20.00,   -999,-999.0000,-999.000,  3.9231,-999.000
     316N151_2,   A24,    95,  1,      3,      3,2,19970617,1045, 64.2850, -37.3835,  626,    495.4,   3.9165,  34.8309,2,  34.8323,2,    295.3,2,    294.8,2,     8.37,2,    14.28,2,     0.01,2,     0.96,2,    4.560,2,    2.300,2,   -3.089,4,   1.9299,2,    -0.21,2,   2141.6,2,    708.1,2,   2303.0,2,     7.74,2,25,   20.00,   -999,  0.0000,   0.200,  3.8810,   0.050
     316N151_2,   A24,    95,  1,      2,      2,2,19970617,1045, 64.2850, -37.3835,  626,    545.3,   3.9137,  34.8359,2,  34.8376,2,    295.7,2,    295.4,2,     8.47,2,    14.32,2,     0.01,2,     0.96,2,    4.519,2,    2.296,2, -999.000,9,-999.0000,9,  -999.00,9,   2142.6,2,    712.2,2,   2302.4,2,     7.75,2,25,   20.00,   -999,-999.0000,-999.000,  3.8744,-999.000
     316N151_2,   A24,    95,  1,      1,      1,2,19970617,1045, 64.2850, -37.3835,  626,    610.9,   3.8998,  34.8378,2,  34.8364,2,    294.0,2,    294.2,2,     8.76,2,    14.37,2,     0.01,2,     0.96,2,    4.573,2,    2.303,2,   -3.084,4,   1.8779,2,     0.06,2,   2143.1,2,    715.3,2,   2300.2,2,     7.74,2,25,   20.00,   -999,  0.0000,   0.200,  3.8555,   0.050
     316N151_2,   A24,    96,  1,     14,     14,2,19970617,1309, 64.4675, -38.0202,  781,      4.0,   1.2209,  32.5254,2,  32.4920,2,    400.3,2,    407.8,2,     0.34,2,     0.05,2,     0.00,2,     0.08,2,    6.877,2,    3.305,2, -999.000,9,-999.0000,9,  -999.00,9,   1920.0,2,    331.1,2,   2187.3,6,     8.01,2,25,   20.00,   -999,-999.0000,-999.000,  1.2207,-999.000
     316N151_2,   A24,    96,  1,     13,     13,2,19970617,1309, 64.4675, -38.0202,  781,     29.2,   1.5854,  33.6665,2,  33.7353,2,    419.2,2,    419.7,2,     0.43,2,     0.14,2,     0.00,2,     0.09,2,    6.201,2,    3.038,2, -999.000,9,-999.0000,9,  -999.00,9,   -999.0,9,    397.9,2,   -999.0,9,  -999.00,9,25,   20.00,   -999,-999.0000,-999.000,  1.5840,-999.000
     316N151_2,   A24,    96,  1,     12,     12,2,19970617,1309, 64.4675, -38.0202,  781,     78.2,   2.2794,  34.4087,2,  34.3833,2,    320.1,2,    319.3,2,     5.37,2,    10.29,2,     0.11,2,     0.78,2,    5.423,2,    2.689,2, -999.000,9,-999.0000,9,  -999.00,9,   -999.0,9,    679.6,2,   -999.0,9,  -999.00,9,25,   20.00,   -999,-999.0000,-999.000,  2.2751,-999.000
     316N151_2,   A24,    96,  1,     11,     11,2,19970617,1309, 64.4675, -38.0202,  781,    129.0,   3.5766,  34.6534,2,  34.6649,2,    304.5,2,    303.5,2,     7.33,2,    12.74,2,     0.17,2,     0.89,2,    4.821,2,    2.447,2, -999.000,9,-999.0000,9,  -999.00,9,   -999.0,9,    687.0,2,   -999.0,9,  -999.00,9,25,   20.00,   -999,-999.0000,-999.000,  3.5681,-999.000
     316N151_2,   A24,    96,  1,     10,     10,2,19970617,1309, 64.4675, -38.0202,  781,    179.9,   3.8721,  34.7464,2,  34.7462,2,    298.6,2,    299.3,2,     8.02,2,    13.73,2,     0.07,2,     0.93,2,    4.749,2,    2.405,2, -999.000,9,-999.0000,9,  -999.00,9,   -999.0,9,    695.2,2,   -999.0,9,  -999.00,9,25,   20.00,   -999,-999.0000,-999.000,  3.8598,-999.000
     316N151_2,   A24,    96,  1,      9,      9,2,19970617,1309, 64.4675, -38.0202,  781,    255.5,   4.1128,  34.8199,2,  34.8234,2,    296.1,2,    296.3,2,     8.31,2,    14.16,2,     0.02,2,     0.95,2,    4.604,2,    2.342,2, -999.000,9,-999.0000,9,  -999.00,9,   -999.0,9,    697.3,2,   -999.0,9,  -999.00,9,25,   20.00,   -999,-999.0000,-999.000,  4.0945,-999.000
     316N151_2,   A24,    96,  1,      8,      8,2,19970617,1309, 64.4675, -38.0202,  781,    305.4,   4.0960,  34.8305,2,  34.8380,2,    292.1,2,    296.0,2,     8.40,2,    14.12,2,     0.02,2,     0.95,2,    4.621,2,    2.340,2, -999.000,9,-999.0000,9,  -999.00,9,   -999.0,9,    699.1,2,   -999.0,9,  -999.00,9,25,   20.00,   -999,-999.0000,-999.000,  4.0741,-999.000
     316N151_2,   A24,    96,  1,      7,      7,2,19970617,1309, 64.4675, -38.0202,  781,    356.2,   4.0414,  34.8331,2,  34.8314,2,    297.7,2,    296.1,2,     8.39,2,    14.22,2,     0.01,2,     0.95,2,    4.607,2,    2.331,2, -999.000,9,-999.0000,9,  -999.00,9,   -999.0,9,   -999.0,9,   -999.0,9,  -999.00,9,25, -999.00,   -999,-999.0000,-999.000,  4.0159,-999.000
     316N151_2,   A24,    96,  1,      6,      6,2,19970617,1309, 64.4675, -38.0202,  781,    456.5,   3.9684,  34.8383,2,  34.8371,2,    295.7,2,    295.4,2,     8.49,2,    14.27,2,     0.01,2,     0.96,2,    4.530,2,    2.297,2, -999.000,9,-999.0000,9,  -999.00,9,   -999.0,9,    698.2,2,   -999.0,9,  -999.00,9,25,   20.00,   -999,-999.0000,-999.000,  3.9356,-999.000
     316N151_2,   A24,    96,  1,      5,      5,2,19970617,1309, 64.4675, -38.0202,  781,    557.1,   3.9049,  34.8409,2,  34.8432,2,    295.4,2,    294.4,2,     8.68,2,    14.36,2,     0.01,2,     0.96,2,    4.502,2,    2.279,2, -999.000,9,-999.0000,9,  -999.00,9,   -999.0,9,   -999.0,9,   -999.0,9,  -999.00,9,25, -999.00,   -999,-999.0000,-999.000,  3.8647,-999.000
     316N151_2,   A24,    96,  1,      4,      4,2,19970617,1309, 64.4675, -38.0202,  781,    658.2,   3.8808,  34.8423,2,  34.8439,2,    291.2,2,    293.7,2,     8.67,2,    14.36,2,     0.00,2,     0.96,2,    4.481,2,    2.283,2, -999.000,9,-999.0000,9,  -999.00,9,   -999.0,9,    706.4,2,   -999.0,9,  -999.00,9,25,   20.00,   -999,-999.0000,-999.000,  3.8330,-999.000
     316N151_2,   A24,    96,  1,      3,      3,2,19970617,1309, 64.4675, -38.0202,  781,    707.8,   3.8355,  34.8402,2,  34.8415,2,    292.5,2,    293.5,2,     8.56,2,    14.41,2,     0.01,2,     0.97,2,    4.498,2,    2.271,2, -999.000,9,-999.0000,9,  -999.00,9,   -999.0,9,   -999.0,9,   -999.0,9,  -999.00,9,25, -999.00,   -999,-999.0000,-999.000,  3.7841,-999.000
     316N151_2,   A24,    96,  1,      2,      2,2,19970617,1309, 64.4675, -38.0202,  781,    748.6,   3.8198,  34.8409,2,  34.8397,2,    292.1,2,    293.4,2,     8.46,2,    14.41,2,     0.01,2,     0.97,2,    4.468,2,    2.261,2, -999.000,9,-999.0000,9,  -999.00,9,   -999.0,9,    712.2,2,   -999.0,9,  -999.00,9,25,   20.00,   -999,-999.0000,-999.000,  3.7653,-999.000
     316N151_2,   A24,    96,  1,      1,      1,2,19970617,1309, 64.4675, -38.0202,  781,    783.1,   3.8233,  34.8406,2,  34.8407,2,    294.9,2,    293.4,2,     8.45,2,    14.41,2,     0.01,2,     0.97,2,    4.478,2,    2.269,2, -999.000,9,-999.0000,9,  -999.00,9,   -999.0,9,    709.8,2,   -999.0,9,  -999.00,9,25,   20.00,   -999,-999.0000,-999.000,  3.7660,-999.000
     316N151_2,   A24,    97,  1,     10,     10,2,19970617,1627, 64.7667, -38.9553,  448,      1.7,   0.2290,  32.3652,2,  32.4029,2,    403.1,2,    445.1,2,     0.07,2,     0.05,2,     0.00,2,     0.08,2,    6.789,2,    3.290,2,    3.418,2,   1.9285,2,    -1.30,2,   1907.1,2,    312.6,2,   2184.4,6,     8.02,6,25,   20.00,   -999,  0.0000,   0.170,  0.2290,   0.046
     316N151_2,   A24,    97,  1,      9,      9,2,19970617,1627, 64.7667, -38.9553,  448,     43.7,   0.4081,  33.7231,2,  33.7695,2,    368.0,2,    367.6,2,     0.25,2,     2.98,2,     0.04,2,     0.36,2,    6.140,2,    3.002,2,    2.701,2,   1.9251,2,    -0.50,2,   2076.4,2,    568.5,2,   2265.9,2,     7.80,2,25,   20.00,   -999,  0.0000,   0.170,  0.4065,   0.039
     316N151_2,   A24,    97,  1,      8,      8,2,19970617,1627, 64.7667, -38.9553,  448,     74.0,   1.3841,  34.1407,2,  34.1198,2,    338.9,2,    343.5,2,     1.61,2,     6.35,2,     0.06,2,     0.58,2,    5.587,2,    2.808,2,    2.312,2,   1.9981,3,    -0.71,3,   2099.1,2,    609.3,2,   2276.5,2,     7.79,2,25,   20.00,   -999,  0.0000,   0.170,  1.3807,   0.031
     316N151_2,   A24,    97,  1,      7,      7,2,19970617,1627, 64.7667, -38.9553,  448,    113.8,   1.8274,  34.3491,2,  34.3600,2,    320.8,2,    322.7,2,     5.06,2,    10.29,2,     0.09,2,     0.80,2,    5.307,2,    2.674,2,    2.033,2,   1.9840,3,    -0.67,3,   2121.3,2,    680.8,2,   2286.4,2,     7.75,2,25,   20.00,   -999,  0.0000,   0.170,  1.8216,   0.027
     316N151_2,   A24,    97,  1,      6,      6,2,19970617,1627, 64.7667, -38.9553,  448,    153.7,   3.3294,  34.6022,2,  34.6013,2,    312.3,2,    310.4,2,     5.73,2,    11.28,2,     0.13,2,     0.84,2,    5.044,2,    2.543,2,    0.192,4,   1.9403,2,    -0.87,2,   2126.7,2,    669.6,2,   2294.5,2,     7.76,2,25,   20.00,   -999,  0.0000,   0.170,  3.3196,   0.007
     316N151_2,   A24,    97,  1,      5,      5,2,19970617,1627, 64.7667, -38.9553,  448,    203.9,   4.9933,  34.8921,2,  34.8898,2,    293.5,2,    294.3,2,     7.20,2,    13.37,2,     0.21,2,     0.94,2,    4.491,2,    2.320,2, -999.000,9,-999.0000,9,  -999.00,9,   2138.0,2,    676.6,2,   2308.4,2,     7.75,2,25,   20.00,   -999,-999.0000,-999.000,  4.9774,-999.000
     316N151_2,   A24,    97,  1,      4,      4,2,19970617,1627, 64.7667, -38.9553,  448,    253.6,   4.7537,  34.8773,2,  34.8725,2,    291.7,2,    292.8,2,     7.58,2,    13.83,2,     0.18,2,     0.95,2,    4.539,2,    2.324,2, -999.000,5,   1.8530,2,    -0.52,2,   2138.5,2,    687.1,2,   2305.1,2,     7.75,2,25,   20.00,   -999,  0.0000,   0.180,  4.7343,-999.000
     316N151_2,   A24,    97,  1,      3,      3,2,19970617,1627, 64.7667, -38.9553,  448,    303.6,   4.5549,  34.8463,2,  34.8567,2,    293.8,2,    293.2,2,     7.66,2,    13.85,2,     0.16,2,     0.95,2,    4.489,2,    2.294,2, -999.000,9,-999.0000,9,  -999.00,9,   2138.2,2,    692.1,2,   2304.1,2,     7.74,2,25,   20.00,   -999,-999.0000,-999.000,  4.5320,-999.000
     316N151_2,   A24,    97,  1,      2,      2,2,19970617,1627, 64.7667, -38.9553,  448,    374.7,   4.1896,  34.8078,2,  34.8071,2,    294.9,2,    296.8,2,     7.65,2,    13.65,2,     0.13,2,     0.95,2,    4.626,2,    2.355,2,    1.633,2,   1.8602,2,    -0.56,2,   2136.9,2,    693.2,2,   2301.1,2,     7.75,2,25,   20.00,   -999,  0.0000,   0.180,  4.1623,   0.023
     316N151_2,   A24,    97,  1,      1,      1,2,19970617,1627, 64.7667, -38.9553,  448,    447.1,   3.7849,  34.7534,2,  34.7542,2,    298.3,2,    298.4,2,     7.73,2,    13.55,2,     0.10,2,     0.94,2,    4.701,2,    2.396,2,    1.423,2,   1.8636,2,    -0.39,2,   2136.1,2,    699.9,2,   2300.1,2,     7.75,2,25,   20.00,   -999,  0.0000,   0.180,  3.7535,   0.021