BOTTLE,20220629CCHSIOAMB
EXPOCODE,SECT_ID,STNNBR,CASTNO,SAMPNO,BTLNBR,BTLNBR_FLAG_W,DATE,TIME,LATITUDE,LONGITUDE,DEPTH,CTDPRS,CTDTMP,CTDSAL,CTDSAL_FLAG_W,SALNTY,SALNTY_FLAG_W,CTDOXY,CTDOXY_FLAG_W,OXYGEN,OXYGEN_FLAG_W,SILCAT,SILCAT_FLAG_W,NITRAT,NITRAT_FLAG_W,NITRIT,NITRIT_FLAG_W,PHSPHT,PHSPHT_FLAG_W,CFC-11,CFC-11_FLAG_W,CFC-12,CFC-12_FLAG_W,TRITUM,TRITUM_FLAG_W,HELIUM,HELIUM_FLAG_W,DELHE3,DELHE3_FLAG_W,TCARBN,TCARBN_FLAG_W,PCO2,PCO2_FLAG_W,ALKALI,ALKALI_FLAG_W,PH,PH_FLAG_W,PH_TMP,PCO2TMP,CTDRAW,HELIER,DELHER,THETA,TRITER
,,,,,,,,,,,,DBAR,ITS-90,PSS-78,,PSS-78,,UMOL/KG,,UMOL/KG,,UMOL/KG,,UMOL/KG,,UMOL/KG,,UMOL/KG,,PMOL/KG,,PMOL/KG,,TU,,NMOL/KG,,PERCNT,,UMOL/KG,,UATM,,UMOL/KG,,,,DEG C,DEG C,,NMOL/KG,PERCNT,DEG C,TU
     316N151_2,   A24,   105,  1,     29,     29,2,19970619,2151, 58.1667, -41.2795, 3206,      4.0,   6.8144,  34.6687,2,  34.6690,2,    318.9,2,    315.1,2,     0.42,2,     7.95,2,     0.13,2,     0.55,2, -999.000,9, -999.000,9, -999.000,9,-999.0000,9,  -999.00,9,   2098.3,2,   -999.0,9,   2300.0,6,     7.83,6,25, -999.00,   -999,-999.0000,-999.000,  6.8141,-999.000
     316N151_2,   A24,   105,  1,     28,     28,2,19970619,2151, 58.1667, -41.2795, 3206,     47.5,   4.3554,  34.7125,2,  34.7074,2,    317.8,2,    316.9,2,     7.40,2,    11.95,2,     0.13,2,     0.88,2, -999.000,9, -999.000,9, -999.000,9,-999.0000,9,  -999.00,9,   2127.5,2,   -999.0,9,   2298.1,2,     7.76,2,25, -999.00,   -999,-999.0000,-999.000,  4.3521,-999.000
     316N151_2,   A24,   105,  1,     27,     27,2,19970619,2151, 58.1667, -41.2795, 3206,     97.7,   3.4677,  34.7641,2,  34.7477,2,    304.7,2,    305.9,2,     9.03,2,    14.78,2,     0.16,2,     1.02,2, -999.000,9, -999.000,9, -999.000,9,-999.0000,9,  -999.00,9,   2143.8,2,   -999.0,9,   2297.9,2,     7.72,2,25, -999.00,   -999,-999.0000,-999.000,  3.4614,-999.000
     316N151_2,   A24,   105,  1,     26,     26,2,19970619,2151, 58.1667, -41.2795, 3206,    158.0,   3.4449,  34.8057,2,  34.7951,2,    291.0,2,    288.2,2,     9.98,2,    16.36,2,     0.01,2,     1.10,2, -999.000,9, -999.000,9, -999.000,9,-999.0000,9,  -999.00,9,   2151.5,2,   -999.0,9,   2299.3,2,     7.71,2,25, -999.00,   -999,-999.0000,-999.000,  3.4346,-999.000
     316N151_2,   A24,   105,  1,     25,     25,2,19970619,2151, 58.1667, -41.2795, 3206,    257.2,   3.1232,  34.7914,2,  34.7902,2,    299.0,2,    302.2,2,     9.57,2,    16.00,2,     0.00,2,     1.07,2, -999.000,9, -999.000,9, -999.000,9,-999.0000,9,  -999.00,9,   2149.1,2,   -999.0,9,   2298.3,2,     7.71,2,25, -999.00,   -999,-999.0000,-999.000,  3.1069,-999.000
     316N151_2,   A24,   105,  1,     24,     24,2,19970619,2151, 58.1667, -41.2795, 3206,    358.6,   3.2803,  34.8331,2,  34.8321,2,    294.1,2,    293.7,2,    10.04,2,    16.41,2,     0.00,2,     1.10,2, -999.000,9, -999.000,9, -999.000,9,-999.0000,9,  -999.00,9,   2155.7,3,   -999.0,9,   2300.3,2,     7.71,2,25, -999.00,   -999,-999.0000,-999.000,  3.2567,-999.000
     316N151_2,   A24,   105,  1,     23,     23,2,19970619,2151, 58.1667, -41.2795, 3206,    459.6,   3.2383,  34.8387,2,  34.8409,2,    294.4,2,    294.4,2,    10.12,2,    16.36,2,     0.00,2,     1.09,2, -999.000,9, -999.000,9, -999.000,9,-999.0000,9,  -999.00,9,   2148.7,2,   -999.0,9,   2294.0,2,     7.71,2,25, -999.00,   -999,-999.0000,-999.000,  3.2079,-999.000
     316N151_2,   A24,   105,  1,     22,     22,2,19970619,2151, 58.1667, -41.2795, 3206,    560.3,   3.1782,  34.8391,2,  34.8404,2,    298.1,2,    300.8,2,     9.80,2,    16.04,2,     0.00,2,     1.08,2, -999.000,9, -999.000,9, -999.000,9,-999.0000,9,  -999.00,9,   2153.5,2,   -999.0,9,   2300.4,2,     7.72,2,25, -999.00,   -999,-999.0000,-999.000,  3.1410,-999.000
     316N151_2,   A24,   105,  1,     21,     21,2,19970619,2151, 58.1667, -41.2795, 3206,    661.1,   3.1325,  34.8408,2,  34.8414,2,    300.2,2,    296.2,2,    10.17,2,    16.22,2,     0.00,2,     1.09,2, -999.000,9, -999.000,9, -999.000,9,-999.0000,9,  -999.00,9,   2153.1,2,   -999.0,9,   2312.3,4,     7.72,2,25, -999.00,   -999,-999.0000,-999.000,  3.0883,-999.000
     316N151_2,   A24,   105,  1,     20,     20,2,19970619,2151, 58.1667, -41.2795, 3206,    762.3,   3.1594,  34.8526,2,  34.8543,2,    290.6,2,    289.7,2,    10.64,2,    16.45,2,     0.00,2,     1.10,2, -999.000,9, -999.000,9, -999.000,9,-999.0000,9,  -999.00,9,   2153.0,2,   -999.0,9,   2302.6,2,     7.71,2,25, -999.00,   -999,-999.0000,-999.000,  3.1076,-999.000
     316N151_2,   A24,   105,  1,     19,     19,2,19970619,2151, 58.1667, -41.2795, 3206,    863.4,   3.1380,  34.8592,2,  34.8575,2,    289.0,2,    289.6,2,    10.62,2,    16.40,2,     0.00,2,     1.11,2, -999.000,9, -999.000,9, -999.000,9,-999.0000,9,  -999.00,9,   2156.9,3,   -999.0,9,   2303.3,2,     7.71,2,25, -999.00,   -999,-999.0000,-999.000,  3.0788,-999.000
     316N151_2,   A24,   105,  1,     18,     18,2,19970619,2151, 58.1667, -41.2795, 3206,    963.4,   3.0551,  34.8515,2,  34.8520,2,    291.0,2,    291.4,2,    10.79,2,    16.40,2,     0.00,2,     1.11,2, -999.000,9, -999.000,9, -999.000,9,-999.0000,9,  -999.00,9,   2152.9,2,   -999.0,9,   2302.3,2,     7.72,2,25, -999.00,   -999,-999.0000,-999.000,  2.9890,-999.000
     316N151_2,   A24,   105,  1,     17,     17,2,19970619,2151, 58.1667, -41.2795, 3206,   1063.8,   3.0096,  34.8498,2,  34.8501,2,    292.8,2,    294.3,2,    10.77,2,    16.30,2,     0.00,2,     1.10,2, -999.000,9, -999.000,9, -999.000,9,-999.0000,9,  -999.00,9,   2152.9,2,   -999.0,9,   2303.5,2,     7.71,2,25, -999.00,   -999,-999.0000,-999.000,  2.9361,-999.000
     316N151_2,   A24,   105,  1,     16,     16,2,19970619,2151, 58.1667, -41.2795, 3206,   1266.2,   2.9513,  34.8459,2,  34.8465,2,    297.3,2,    296.4,2,    10.75,2,    16.16,2,     0.00,2,     1.10,2, -999.000,9, -999.000,9, -999.000,9,-999.0000,9,  -999.00,9,   2153.8,2,   -999.0,9,   2302.8,2,     7.72,2,25, -999.00,   -999,-999.0000,-999.000,  2.8625,-999.000
     316N151_2,   A24,   105,  1,     15,     15,2,19970619,2151, 58.1667, -41.2795, 3206,   1468.3,   2.9246,  34.8452,2,  34.8546,4,    294.9,2,    298.2,2,    10.63,2,    16.11,2,     0.00,2,     1.09,2, -999.000,9, -999.000,9, -999.000,9,-999.0000,9,  -999.00,9,   2151.7,2,   -999.0,9,   2302.6,2,     7.72,2,25, -999.00,   -999,-999.0000,-999.000,  2.8196,-999.000
     316N151_2,   A24,   105,  1,     14,     14,2,19970619,2151, 58.1667, -41.2795, 3206,   1670.2,   2.9009,  34.8442,2,  34.8448,2,    297.8,2,    298.7,2,    10.52,2,    16.11,2,     0.00,2,     1.09,2,    3.900,2,    1.903,2, -999.000,9,-999.0000,9,  -999.00,9,   2149.8,2,   -999.0,9,   2301.2,2,     7.72,2,25, -999.00,   -999,-999.0000,-999.000,  2.7792,-999.000
     316N151_2,   A24,   105,  1,     13,     13,2,19970619,2151, 58.1667, -41.2795, 3206,   1873.2,   2.9355,  34.8526,2,  34.8525,2,    295.4,2,    296.0,2,    10.79,2,    16.15,2,     0.00,2,     1.09,2,    3.607,2,    1.746,2, -999.000,9,-999.0000,9,  -999.00,9,   2149.5,2,   -999.0,9,   2304.2,2,     7.72,2,25, -999.00,   -999,-999.0000,-999.000,  2.7956,-999.000
     316N151_2,   A24,   105,  1,     12,     12,2,19970619,2151, 58.1667, -41.2795, 3206,   2024.9,   3.0441,  34.8777,2,  34.8777,2,    290.9,2,    288.7,2,    11.45,2,    16.24,2,     0.00,2,     1.08,2,    2.935,2,    1.426,2, -999.000,9,-999.0000,9,  -999.00,9,   2150.0,2,   -999.0,9,   2303.7,2,     7.72,2,25, -999.00,   -999,-999.0000,-999.000,  2.8888,-999.000
     316N151_2,   A24,   105,  1,     11,     11,2,19970619,2151, 58.1667, -41.2795, 3206,   2176.6,   3.0964,  34.8982,2,  34.8983,2,    284.5,2,    283.2,2,    12.11,2,    16.33,2,     0.00,2,     1.09,2, -999.000,9, -999.000,9, -999.000,9,-999.0000,9,  -999.00,9,   2151.7,2,   -999.0,9,   2307.3,2,     7.72,2,25, -999.00,   -999,-999.0000,-999.000,  2.9261,-999.000
     316N151_2,   A24,   105,  1,     10,     10,2,19970619,2151, 58.1667, -41.2795, 3206,   2329.6,   3.0649,  34.9153,2,  34.9166,2,    279.8,2,    279.0,2,    12.86,2,    16.38,2,     0.00,2,     1.09,2,    1.873,2,    0.909,2, -999.000,9,-999.0000,9,  -999.00,9,   2153.3,2,   -999.0,9,   2308.0,2,     7.73,2,25, -999.00,   -999,-999.0000,-999.000,  2.8805,-999.000
     316N151_2,   A24,   105,  1,      9,      9,2,19970619,2151, 58.1667, -41.2795, 3206,   2482.1,   3.0052,  34.9226,2,  34.9241,2,    279.5,2,    277.6,2,    13.52,2,    16.33,2,     0.00,2,     1.09,2,    1.686,2,    0.808,2, -999.000,9,-999.0000,9,  -999.00,9,   2154.3,2,   -999.0,9,   2309.6,2,     7.72,2,25, -999.00,   -999,-999.0000,-999.000,  2.8070,-999.000
     316N151_2,   A24,   105,  1,      8,      8,2,19970619,2151, 58.1667, -41.2795, 3206,   2633.7,   2.8817,  34.9245,2,  34.9243,2,    279.3,2,    277.5,2,    13.99,2,    16.28,2,     0.00,2,     1.09,2,    1.648,2,    0.795,2, -999.000,9,-999.0000,9,  -999.00,9,   2155.9,2,   -999.0,9,   2310.1,2,     7.73,2,25, -999.00,   -999,-999.0000,-999.000,  2.6709,-999.000
     316N151_2,   A24,   105,  1,      7,      7,2,19970619,2151, 58.1667, -41.2795, 3206,   2785.9,   2.6107,  34.9016,2,  34.9072,2,    281.0,2,    283.5,2,    13.00,2,    15.72,2,     0.00,2,     1.05,2,    2.283,2,    1.111,2, -999.000,9,-999.0000,9,  -999.00,9,   2156.6,2,   -999.0,9,   2309.5,2,     7.72,2,25, -999.00,   -999,-999.0000,-999.000,  2.3902,-999.000
     316N151_2,   A24,   105,  1,      6,      6,2,19970619,2151, 58.1667, -41.2795, 3206,   2939.3,   2.2336,  34.8948,2,  34.8943,2,    286.9,2,    289.0,2,    12.20,2,    15.12,2,     0.00,2,     1.02,2, -999.000,9, -999.000,9, -999.000,9,-999.0000,9,  -999.00,9,   2155.0,2,   -999.0,9,   2306.8,2,     7.72,2,25, -999.00,   -999,-999.0000,-999.000,  2.0057,-999.000
     316N151_2,   A24,   105,  1,      5,      5,2,19970619,2151, 58.1667, -41.2795, 3206,   3010.4,   1.9625,  34.8763,2,  34.8748,2,    294.9,2,    297.9,2,     9.26,2,    14.14,2,     0.00,2,     0.96,2,    3.574,2,    1.751,2, -999.000,9,-999.0000,9,  -999.00,9,   2151.1,2,   -999.0,9,   2303.5,2,     7.72,2,25, -999.00,   -999,-999.0000,-999.000,  1.7335,-999.000
     316N151_2,   A24,   105,  1,      4,      4,2,19970619,2151, 58.1667, -41.2795, 3206,   3070.2,   1.7891,  34.8820,2,  34.8803,2,    298.1,2,    298.2,2,     9.24,2,    14.09,2,     0.00,2,     0.95,2, -999.000,9, -999.000,9, -999.000,9,-999.0000,9,  -999.00,9,   2148.3,2,   -999.0,9,   2303.7,2,     7.73,2,25, -999.00,   -999,-999.0000,-999.000,  1.5581,-999.000
     316N151_2,   A24,   105,  1,      3,      3,2,19970619,2151, 58.1667, -41.2795, 3206,   3132.1,   1.4942,  34.8818,2,  34.8803,2,    301.0,2,    301.2,2,     8.83,2,    13.77,2,     0.00,2,     0.93,2,    3.687,2,    1.777,2, -999.000,9,-999.0000,9,  -999.00,9,   2151.9,2,   -999.0,9,   2303.3,2,     7.72,2,25, -999.00,   -999,-999.0000,-999.000,  1.2638,-999.000
     316N151_2,   A24,   105,  1,      2,      2,2,19970619,2151, 58.1667, -41.2795, 3206,   3193.6,   1.3930,  34.8843,2,  34.8813,2,    301.7,2,    301.4,2,     8.81,2,    13.76,2,     0.00,2,     0.93,2, -999.000,9, -999.000,9, -999.000,9,-999.0000,9,  -999.00,9,   2150.3,2,   -999.0,9,   2302.7,2,     7.72,2,25, -999.00,   -999,-999.0000,-999.000,  1.1589,-999.000
     316N151_2,   A24,   105,  1,      1,      1,2,19970619,2151, 58.1667, -41.2795, 3206,   3233.4,   1.3671,  34.8852,2,  34.8843,2,    304.8,2,    300.2,2,     8.99,2,    13.76,2,     0.00,2,     0.94,2,    3.594,2,    1.735,2, -999.000,9,-999.0000,9,  -999.00,9,   2150.8,2,   -999.0,9,   2314.0,3,     7.72,2,25, -999.00,   -999,-999.0000,-999.000,  1.1298,-999.000