BOTTLE,20220629CCHSIOAMB
EXPOCODE,SECT_ID,STNNBR,CASTNO,SAMPNO,BTLNBR,BTLNBR_FLAG_W,DATE,TIME,LATITUDE,LONGITUDE,DEPTH,CTDPRS,CTDTMP,CTDSAL,CTDSAL_FLAG_W,SALNTY,SALNTY_FLAG_W,CTDOXY,CTDOXY_FLAG_W,OXYGEN,OXYGEN_FLAG_W,SILCAT,SILCAT_FLAG_W,NITRAT,NITRAT_FLAG_W,NITRIT,NITRIT_FLAG_W,PHSPHT,PHSPHT_FLAG_W,CFC-11,CFC-11_FLAG_W,CFC-12,CFC-12_FLAG_W,TRITUM,TRITUM_FLAG_W,HELIUM,HELIUM_FLAG_W,DELHE3,DELHE3_FLAG_W,TCARBN,TCARBN_FLAG_W,PCO2,PCO2_FLAG_W,ALKALI,ALKALI_FLAG_W,PH,PH_FLAG_W,PH_TMP,PCO2TMP,CTDRAW,HELIER,DELHER,THETA,TRITER
,,,,,,,,,,,,DBAR,ITS-90,PSS-78,,PSS-78,,UMOL/KG,,UMOL/KG,,UMOL/KG,,UMOL/KG,,UMOL/KG,,UMOL/KG,,PMOL/KG,,PMOL/KG,,TU,,NMOL/KG,,PERCNT,,UMOL/KG,,UATM,,UMOL/KG,,,,DEG C,DEG C,,NMOL/KG,PERCNT,DEG C,TU
     316N151_2,   A24,    91,  1,     21,     21,2,19970617,0230, 63.9125, -36.2038, 1484,      3.7,   7.0150,  35.0322,2,  35.0295,2,    308.0,2,    304.3,2,     2.79,2,     9.97,2,     0.15,2,     0.64,2,    4.372,2,    2.262,2,    1.462,2,   0.0011,4,  2972.01,4,   2112.5,2,   -999.0,9,   2316.3,6,     7.83,6,25, -999.00,   -999,  0.0000,   0.300,  7.0147,   0.022
     316N151_2,   A24,    91,  1,     20,     20,2,19970617,0230, 63.9125, -36.2038, 1484,     29.1,   6.6629,  35.0294,2,  35.0303,2,    299.9,2,    300.4,2,     3.95,2,    11.28,2,     0.15,2,     0.74,2, -999.000,9, -999.000,9, -999.000,9,-999.0000,9,  -999.00,9,   2121.6,2,   -999.0,9,   2315.6,2,     7.81,2,25, -999.00,   -999,-999.0000,-999.000,  6.6603,-999.000
     316N151_2,   A24,    91,  1,     19,     19,2,19970617,0230, 63.9125, -36.2038, 1484,     75.0,   6.5248,  35.0395,2,  35.0403,2,    288.9,2,    292.8,2,     5.41,2,    12.50,2,     0.15,2,     0.83,2,    4.297,2,    2.220,2,    1.437,2,   1.8194,2,    -1.43,2,   2127.9,2,   -999.0,9,   2315.9,2,     7.79,2,25, -999.00,   -999,  0.0000,   0.160,  6.5181,   0.023
     316N151_2,   A24,    91,  1,     18,     18,2,19970617,0230, 63.9125, -36.2038, 1484,    145.2,   6.3213,  35.0611,2,  35.0612,2,    290.0,2,    284.8,2,     7.65,2,    14.44,2,     0.08,2,     0.96,2, -999.000,9, -999.000,9,    1.395,2,   1.9209,2,    -1.27,2,   2141.9,2,   -999.0,9,   2315.0,2,     7.77,2,25, -999.00,   -999,  0.0000,   0.170,  6.3085,   0.021
     316N151_2,   A24,    91,  1,     17,     17,2,19970617,0230, 63.9125, -36.2038, 1484,    245.7,   6.2796,  35.0561,2,  35.0557,2,    284.6,2,    284.4,2,     7.73,2,    14.45,2,     0.07,2,     0.97,2,    4.179,2,    2.162,2, -999.000,9,-999.0000,9,  -999.00,9,   2140.7,2,   -999.0,9,   2315.7,2,     7.77,2,25, -999.00,   -999,-999.0000,-999.000,  6.2578,-999.000
     316N151_2,   A24,    91,  1,     16,     16,2,19970617,0230, 63.9125, -36.2038, 1484,    306.0,   6.1253,  35.0485,2,  35.0476,2,    284.1,2,    286.3,2,     8.00,2,    14.66,2,     0.04,2,     0.97,2,    4.213,2,    2.174,2,    1.442,2,   1.8614,2,    -1.15,2,   2140.4,2,   -999.0,9,   2314.5,2,     7.77,2,25, -999.00,   -999,  0.0000,   0.170,  6.0984,   0.022
     316N151_2,   A24,    91,  1,     15,     15,2,19970617,0230, 63.9125, -36.2038, 1484,    336.9,   6.0846,  35.0432,2,  35.0485,2,    285.0,2,    284.7,2,     8.08,2,    14.71,2,     0.03,2,     0.98,2, -999.000,9, -999.000,9, -999.000,9,-999.0000,9,  -999.00,9,   2143.2,2,   -999.0,9,   2314.9,2,     7.76,2,25, -999.00,   -999,-999.0000,-999.000,  6.0550,-999.000
     316N151_2,   A24,    91,  1,     14,     14,2,19970617,0230, 63.9125, -36.2038, 1484,    405.8,   5.6594,  35.0055,2,  35.0054,2,    280.9,2,    281.8,2,     8.65,2,    15.34,2,     0.01,2,     1.02,2,    4.048,2,    2.080,2,    1.354,2,   1.8348,2,    -0.32,2,   2146.0,2,   -999.0,9,   2310.8,2,     7.75,2,25, -999.00,   -999,  0.0000,   0.170,  5.6250,   0.021
     316N151_2,   A24,    91,  1,     13,     13,2,19970617,0230, 63.9125, -36.2038, 1484,    503.8,   5.2217,  34.9696,2,  34.9700,2,    280.9,2,    281.8,2,     9.03,2,    15.67,2,     0.01,2,     1.05,2, -999.000,9, -999.000,9,    1.379,2,   6.7689,4,   -99.06,4,   2148.6,2,   -999.0,9,   2311.4,2,     7.74,2,25, -999.00,   -999,  0.0000,   0.520,  5.1803,   0.021
     316N151_2,   A24,    91,  1,     12,     12,2,19970617,0230, 63.9125, -36.2038, 1484,    604.0,   4.9353,  34.9505,2,  34.9503,2,    281.3,2,    280.5,2,     9.30,2,    15.85,2,     0.01,2,     1.06,2,    4.014,2,    2.031,2, -999.000,9,-999.0000,9,  -999.00,9,   2148.6,2,   -999.0,9,   2308.7,2,     7.74,2,25, -999.00,   -999,-999.0000,-999.000,  4.8865,-999.000
     316N151_2,   A24,    91,  1,     11,     11,2,19970617,0230, 63.9125, -36.2038, 1484,    708.6,   4.5691,  34.9305,2,  34.9310,2,    281.0,2,    279.0,2,     9.58,2,    15.99,2,     0.01,2,     1.06,2,    3.909,2,    1.960,2,    1.146,2,   1.8563,2,     1.07,2,   2150.4,2,   -999.0,9,   2308.3,2,     7.73,2,25, -999.00,   -999,  0.0000,   0.180,  4.5134,   0.017
     316N151_2,   A24,    91,  1,     10,     10,2,19970617,0230, 63.9125, -36.2038, 1484,    788.7,   4.1590,  34.9109,2,  34.9125,2,    278.7,2,    279.3,2,    10.05,2,    16.41,2,     0.00,2,     1.09,2,    3.711,2,    1.836,2, -999.000,9,-999.0000,9,  -999.00,9,   2153.0,2,   -999.0,9,   2306.9,2,     7.73,2,25, -999.00,   -999,-999.0000,-999.000,  4.0991,-999.000
     316N151_2,   A24,    91,  1,      9,      9,2,19970617,0230, 63.9125, -36.2038, 1484,    899.9,   3.8937,  34.9217,2,  34.9229,2,    275.1,2,    275.1,2,    10.52,2,    16.64,2,     0.00,2,     1.10,2, -999.000,9, -999.000,9,    1.300,2,   1.8704,2,     4.81,2,   2155.9,2,   -999.0,9,   2305.8,2,     7.71,2,25, -999.00,   -999,  0.0000,   0.160,  3.8264,   0.025
     316N151_2,   A24,    91,  1,      8,      8,2,19970617,0230, 63.9125, -36.2038, 1484,    998.2,   3.5379,  34.9068,2,  34.9044,2,    280.4,2,    280.3,2,    10.80,2,    16.73,2,     0.00,2,     1.11,2,    3.302,2,    1.594,2, -999.000,9,-999.0000,9,  -999.00,9,   2155.4,2,   -999.0,9,   2304.5,2,     7.72,2,25, -999.00,   -999,-999.0000,-999.000,  3.4653,-999.000
     316N151_2,   A24,    91,  1,      7,      7,2,19970617,0230, 63.9125, -36.2038, 1484,   1096.4,   3.2529,  34.8824,2,  34.8832,2,    287.4,2,    289.5,2,    10.78,2,    16.73,2,     0.00,2,     1.11,2,    3.549,2,    1.716,2,    1.483,2,   1.8615,2,     3.94,2,   2152.9,2,   -999.0,9,   2304.2,2,     7.71,2,25, -999.00,   -999,  0.0000,   0.180,  3.1747,   0.022
     316N151_2,   A24,    91,  1,      6,      6,2,19970617,0230, 63.9125, -36.2038, 1484,   1198.0,   3.2028,  34.8829,2,  34.8828,2,    287.8,2,    288.9,2,    10.66,2,    16.53,2,     0.00,2,     1.11,2,    3.511,2,    1.704,2, -999.000,9,-999.0000,9,  -999.00,9,   2152.8,2,   -999.0,9,   2302.9,2,     7.72,2,25, -999.00,   -999,-999.0000,-999.000,  3.1169,-999.000
     316N151_2,   A24,    91,  1,      5,      5,2,19970617,0230, 63.9125, -36.2038, 1484,   1297.4,   2.9263,  34.8649,2,  34.8655,2,    291.6,2,    291.6,2,     9.96,2,    15.63,2,     0.00,2,     1.05,2, -999.000,9, -999.000,9,    1.594,2,   1.8735,2,     3.40,2,   2149.7,2,   -999.0,9,   2303.7,2,     7.72,2,25, -999.00,   -999,  0.0000,   0.160,  2.8352,   0.023
     316N151_2,   A24,    91,  1,      4,      4,2,19970617,0230, 63.9125, -36.2038, 1484,   1347.1,   2.7937,  34.8715,2,  34.8726,2,    292.3,2,    291.4,2,     9.74,2,    15.25,2,     0.00,2,     1.03,2,    3.673,2,    1.793,2, -999.000,9,-999.0000,9,  -999.00,9,   2150.8,2,   -999.0,9,   2303.2,2,     7.73,2,25, -999.00,   -999,-999.0000,-999.000,  2.6999,-999.000
     316N151_2,   A24,    91,  1,      3,      3,2,19970617,0230, 63.9125, -36.2038, 1484,   1398.3,   2.5972,  34.8710,2,  34.8700,2,    292.9,2,    292.8,2,     9.52,2,    14.96,2,     0.01,2,     1.01,2,    3.697,2,    1.803,2,    1.434,2,   1.9295,2,     3.46,2,   2148.9,2,   -999.0,9,   2304.0,2,     7.72,2,25, -999.00,   -999,  0.0000,   0.160,  2.5014,   0.024
     316N151_2,   A24,    91,  1,      2,      2,2,19970617,0230, 63.9125, -36.2038, 1484,   1439.4,   2.5822,  34.8700,2,  34.8690,2,    293.8,2,    294.1,2,     9.50,2,    14.90,2,     0.01,2,     1.01,2, -999.000,9, -999.000,9, -999.000,9,-999.0000,9,  -999.00,9,   2148.8,2,   -999.0,9,   2303.0,2,     7.73,2,25, -999.00,   -999,-999.0000,-999.000,  2.4833,-999.000
     316N151_2,   A24,    91,  1,      1,      1,2,19970617,0230, 63.9125, -36.2038, 1484,   1472.9,   2.5908,  34.8692,2,  34.8698,2,    292.5,2,    293.9,2,     9.39,2,    14.90,2,     0.01,2,     1.01,2,    3.621,2,    1.786,2,    1.432,2,   1.8653,2,    -5.04,4,   2150.2,2,   -999.0,9,   2303.6,2,     7.72,2,25, -999.00,   -999,  0.0000,   0.170,  2.4891,   0.029
     316N151_2,   A24,    92,  1,     18,     18,2,19970617,0451, 63.9613, -36.2275,  995,      3.1,   7.2051,  35.0432,2,  35.0445,2,    292.0,2,    304.9,2,     2.39,2,     9.45,2,     0.15,2,     0.62,2,    4.391,2,    2.250,2, -999.000,9,-999.0000,9,  -999.00,9,   2111.4,2,   -999.0,9,   2319.3,6,     7.85,6,25, -999.00,   -999,-999.0000,-999.000,  7.2048,-999.000
     316N151_2,   A24,    92,  1,     17,     17,2,19970617,0451, 63.9613, -36.2275,  995,     44.3,   6.6625,  35.0251,2,  35.0110,2,    295.2,2,    298.3,2,     3.96,2,    11.18,2,     0.16,2,     0.76,2,    4.368,2,    2.249,2, -999.000,9,-999.0000,9,  -999.00,9,   -999.0,9,   -999.0,9,   -999.0,9,  -999.00,9,25, -999.00,   -999,-999.0000,-999.000,  6.6585,-999.000
     316N151_2,   A24,    92,  1,     16,     16,2,19970617,0451, 63.9613, -36.2275,  995,    104.0,   6.3527,  35.0590,2,  35.0597,2,    287.4,2,    286.2,2,     7.31,2,    14.28,2,     0.12,2,     0.96,2, -999.000,9, -999.000,9, -999.000,9,-999.0000,9,  -999.00,9,   -999.0,9,   -999.0,9,   -999.0,9,  -999.00,9,25, -999.00,   -999,-999.0000,-999.000,  6.3435,-999.000
     316N151_2,   A24,    92,  1,     15,     15,2,19970617,0451, 63.9613, -36.2275,  995,    151.8,   6.3132,  35.0616,2,  35.0612,2,    287.3,2,    287.8,2,     7.60,2,    14.51,2,     0.08,2,     0.96,2, -999.000,9, -999.000,9, -999.000,9,-999.0000,9,  -999.00,9,   -999.0,9,   -999.0,9,   -999.0,9,  -999.00,9,25, -999.00,   -999,-999.0000,-999.000,  6.2998,-999.000
     316N151_2,   A24,    92,  1,     14,     14,2,19970617,0451, 63.9613, -36.2275,  995,    200.1,   6.2332,  35.0538,2,  35.0537,2,    288.6,2,    285.1,2,     7.69,2,    14.56,2,     0.07,2,     0.97,2,    4.241,2,    2.183,2, -999.000,9,-999.0000,9,  -999.00,9,   -999.0,9,   -999.0,9,   -999.0,9,  -999.00,9,25, -999.00,   -999,-999.0000,-999.000,  6.2156,-999.000
     316N151_2,   A24,    92,  1,     13,     13,2,19970617,0451, 63.9613, -36.2275,  995,    275.6,   6.0704,  35.0393,2,  35.0393,2,    285.4,2,    287.1,2,     7.97,2,    14.84,2,     0.03,2,     0.98,2, -999.000,9, -999.000,9, -999.000,9,-999.0000,9,  -999.00,9,   -999.0,9,   -999.0,9,   -999.0,9,  -999.00,9,25, -999.00,   -999,-999.0000,-999.000,  6.0464,-999.000
     316N151_2,   A24,    92,  1,     12,     12,2,19970617,0451, 63.9613, -36.2275,  995,    371.6,   5.7689,  35.0131,2,  35.0131,2,    280.9,2,    279.7,2,     8.46,2,    15.33,2,     0.02,2,     1.02,2, -999.000,9, -999.000,9, -999.000,9,-999.0000,9,  -999.00,9,   -999.0,9,   -999.0,9,   -999.0,9,  -999.00,9,25, -999.00,   -999,-999.0000,-999.000,  5.7372,-999.000
     316N151_2,   A24,    92,  1,     11,     11,2,19970617,0451, 63.9613, -36.2275,  995,    420.3,   5.6084,  35.0010,2,  35.0007,2,    277.8,2,    278.0,2,     8.74,2,    15.61,2,     0.01,2,     1.04,2,    3.974,2,    2.022,2, -999.000,9,-999.0000,9,  -999.00,9,   -999.0,9,   -999.0,9,   -999.0,9,  -999.00,9,25, -999.00,   -999,-999.0000,-999.000,  5.5728,-999.000
     316N151_2,   A24,    92,  1,     10,     10,2,19970617,0451, 63.9613, -36.2275,  995,    488.5,   5.4430,  34.9881,2,  34.9848,2,    276.6,2,    279.0,2,     8.93,2,    15.75,2,     0.01,2,     1.04,2, -999.000,9, -999.000,9, -999.000,9,-999.0000,9,  -999.00,9,   -999.0,9,   -999.0,9,   -999.0,9,  -999.00,9,25, -999.00,   -999,-999.0000,-999.000,  5.4020,-999.000
     316N151_2,   A24,    92,  1,      9,      9,2,19970617,0451, 63.9613, -36.2275,  995,    538.7,   5.0265,  34.9585,2,  34.9590,2,    278.0,2,    277.5,2,     9.12,2,    15.85,2,     0.01,2,     1.05,2,    3.881,2,    1.964,2, -999.000,9,-999.0000,9,  -999.00,9,   -999.0,9,   -999.0,9,   -999.0,9,  -999.00,9,25, -999.00,   -999,-999.0000,-999.000,  4.9829,-999.000
     316N151_2,   A24,    92,  1,      8,      8,2,19970617,0451, 63.9613, -36.2275,  995,    588.2,   4.9749,  34.9563,2,  34.9566,2,    277.2,2,    279.2,2,     9.21,2,    15.85,2,     0.01,2,     1.06,2, -999.000,9, -999.000,9, -999.000,9,-999.0000,9,  -999.00,9,   -999.0,9,   -999.0,9,   -999.0,9,  -999.00,9,25, -999.00,   -999,-999.0000,-999.000,  4.9274,-999.000
     316N151_2,   A24,    92,  1,      7,      7,2,19970617,0451, 63.9613, -36.2275,  995,    639.8,   4.8273,  34.9482,2,  34.9474,2,    278.5,2,    277.4,2,     9.30,2,    15.90,2,     0.01,2,     1.06,2,    3.931,2,    1.961,2, -999.000,9,-999.0000,9,  -999.00,9,   -999.0,9,   -999.0,9,   -999.0,9,  -999.00,9,25, -999.00,   -999,-999.0000,-999.000,  4.7760,-999.000
     316N151_2,   A24,    92,  1,      6,      6,2,19970617,0451, 63.9613, -36.2275,  995,    691.4,   4.6620,  34.9305,2,  34.9296,2,    278.9,2,    281.1,2,     9.09,2,    15.56,2,     0.01,2,     1.04,2, -999.000,9, -999.000,9, -999.000,9,-999.0000,9,  -999.00,9,   -999.0,9,   -999.0,9,   -999.0,9,  -999.00,9,25, -999.00,   -999,-999.0000,-999.000,  4.6073,-999.000
     316N151_2,   A24,    92,  1,      5,      5,2,19970617,0451, 63.9613, -36.2275,  995,    762.5,   4.0162,  34.9012,2,  34.9013,2,    282.3,2,    282.2,2,     9.18,2,    15.42,2,     0.01,2,     1.03,2,    3.886,2,    1.930,2, -999.000,9,-999.0000,9,  -999.00,9,   -999.0,9,   -999.0,9,   -999.0,9,  -999.00,9,25, -999.00,   -999,-999.0000,-999.000,  3.9593,-999.000
     316N151_2,   A24,    92,  1,      4,      4,2,19970617,0451, 63.9613, -36.2275,  995,    844.3,   3.8261,  34.8787,2,  34.8796,2,    287.5,2,    289.8,2,     8.68,2,    14.75,2,     0.02,2,     0.99,2, -999.000,9, -999.000,9, -999.000,9,-999.0000,9,  -999.00,9,   -999.0,9,   -999.0,9,   -999.0,9,  -999.00,9,25, -999.00,   -999,-999.0000,-999.000,  3.7639,-999.000
     316N151_2,   A24,    92,  1,      3,      3,2,19970617,0451, 63.9613, -36.2275,  995,    895.8,   3.7656,  34.8854,2,  34.8851,2,    287.8,2,    288.5,2,     8.96,2,    14.99,2,     0.01,2,     1.01,2,    4.015,2,    1.993,2, -999.000,9,-999.0000,9,  -999.00,9,   -999.0,9,   -999.0,9,   -999.0,9,  -999.00,9,25, -999.00,   -999,-999.0000,-999.000,  3.6995,-999.000
     316N151_2,   A24,    92,  1,      2,      2,2,19970617,0451, 63.9613, -36.2275,  995,    938.5,   3.7801,  34.8881,2,  34.8893,2,    287.7,2,    287.5,2,     9.15,2,    15.18,2,     0.01,2,     1.02,2, -999.000,9, -999.000,9, -999.000,9,-999.0000,9,  -999.00,9,   -999.0,9,   -999.0,9,   -999.0,9,  -999.00,9,25, -999.00,   -999,-999.0000,-999.000,  3.7105,-999.000
     316N151_2,   A24,    92,  1,      1,      1,2,19970617,0451, 63.9613, -36.2275,  995,    978.5,   3.7744,  34.8906,2,  34.8912,2,    286.4,2,    287.9,2,     9.24,2,    15.27,2,     0.01,2,     1.03,2,    3.867,2,    1.913,2, -999.000,9,-999.0000,9,  -999.00,9,   -999.0,9,   -999.0,9,   -999.0,9,  -999.00,9,25, -999.00,   -999,-999.0000,-999.000,  3.7016,-999.000
     316N151_2,   A24,    93,  1,     10,     10,2,19970617,0628, 63.9762, -36.2968,  522,      3.3,   7.2188,  35.0419,2,  35.0413,2,    316.9,2,    305.7,2,     2.54,2,     9.42,2,     0.15,2,     0.61,2, -999.000,9, -999.000,9,    1.503,2,   1.8498,2,    -1.39,2,   2111.0,2,   -999.0,9,   2317.6,2,     7.84,6,25, -999.00,   -999,  0.0000,   0.150,  7.2185,   0.021
     316N151_2,   A24,    93,  1,      9,      9,2,19970617,0628, 63.9762, -36.2968,  522,     33.0,   7.0637,  35.0294,2,  35.0281,2,    305.2,2,    305.1,2,     2.72,2,     9.70,2,     0.15,2,     0.64,2,    4.412,2,    2.261,2,    0.532,4,   0.7142,4,    -2.47,4,   2113.9,2,   -999.0,9,   2316.7,2,     7.83,2,25, -999.00,   -999,  0.0000,   0.190,  7.0606,   0.009
     316N151_2,   A24,    93,  1,      8,      8,2,19970617,0628, 63.9762, -36.2968,  522,     84.3,   6.3624,  35.0586,2,  35.0588,2,    286.2,2,    285.7,2,     7.13,2,    13.88,2,     0.15,2,     0.94,2, -999.000,9, -999.000,9,    1.433,2,   1.8718,2,    -0.93,2,   2141.6,2,   -999.0,9,   2313.7,2,     7.77,2,25, -999.00,   -999,  0.0000,   0.160,  6.3549,   0.022
     316N151_2,   A24,    93,  1,      7,      7,2,19970617,0628, 63.9762, -36.2968,  522,    154.0,   6.2228,  35.0559,2,  35.0555,2,    284.5,2,    285.6,2,     7.91,2,    14.50,2,     0.04,2,     0.97,2,    4.191,2,    2.161,2,    1.457,2,   1.8409,2,    -1.45,2,   2142.4,2,   -999.0,9,   2315.0,2,     7.76,2,25, -999.00,   -999,  0.0000,   0.160,  6.2093,   0.020
     316N151_2,   A24,    93,  1,      6,      6,2,19970617,0628, 63.9762, -36.2968,  522,    254.1,   5.9563,  35.0309,2,  35.0322,2,    280.4,2,    282.3,2,     8.29,2,    14.85,2,     0.02,2,     0.99,2, -999.000,9, -999.000,9,    1.422,2,   1.8314,2,    -0.28,2,   2144.4,2,   -999.0,9,   2312.0,2,     7.76,2,25, -999.00,   -999,  0.0000,   0.160,  5.9344,   0.022
     316N151_2,   A24,    93,  1,      5,      5,2,19970617,0628, 63.9762, -36.2968,  522,    325.5,   5.5841,  35.0000,2,  34.9997,2,    278.3,2,    279.0,2,     8.67,2,    15.38,2,     0.02,2,     1.03,2,    4.058,2,    2.061,2,    0.713,4,   1.8308,2,     0.39,2,   2147.7,2,   -999.0,9,   2311.5,2,     7.75,2,25, -999.00,   -999,  0.0000,   0.160,  5.5568,   0.013
     316N151_2,   A24,    93,  1,      4,      4,2,19970617,0628, 63.9762, -36.2968,  522,    384.2,   5.3688,  34.9844,2,  34.9840,2,    274.8,2,    276.3,2,     9.05,2,    15.76,2,     0.01,2,     1.05,2, -999.000,9, -999.000,9, -999.000,9,-999.0000,9,  -999.00,9,   2149.4,2,   -999.0,9,   2309.6,2,     7.75,2,25, -999.00,   -999,-999.0000,-999.000,  5.3371,-999.000
     316N151_2,   A24,    93,  1,      3,      3,2,19970617,0628, 63.9762, -36.2968,  522,    445.6,   5.2179,  34.9730,2,  34.9743,2,    277.9,2,    276.9,2,     9.13,2,    15.75,2,     0.02,2,     1.05,2,    3.978,2,    2.010,2,    1.373,2,   1.8320,2,     1.00,2,   2149.7,2,   -999.0,9,   2309.9,2,     7.74,2,25, -999.00,   -999,  0.0000,   0.160,  5.1815,   0.020
     316N151_2,   A24,    93,  1,      2,      2,2,19970617,0628, 63.9762, -36.2968,  522,    496.1,   4.9139,  34.9462,2,  34.9450,2,    280.3,2,    281.8,2,     8.92,2,    15.37,2,     0.02,2,     1.03,2, -999.000,9, -999.000,9, -999.000,9,-999.0000,9,  -999.00,9,   2147.9,2,   -999.0,9,   2307.4,2,     7.74,2,25, -999.00,   -999,-999.0000,-999.000,  4.8743,-999.000
     316N151_2,   A24,    93,  1,      1,      1,2,19970617,0628, 63.9762, -36.2968,  522,    515.7,   4.9227,  34.9450,2,  34.9467,2,    277.9,2,    281.5,2,     8.90,2,    15.32,2,     0.02,2,     1.04,2,    4.009,2,    2.035,2,    1.456,2,   0.7034,4,    -0.15,4,   2148.6,2,   -999.0,9,   2309.2,2,     7.74,2,25, -999.00,   -999,  0.0000,   0.190,  4.8814,   0.020