BOTTLE,20220629CCHSIOAMB
EXPOCODE,SECT_ID,STNNBR,CASTNO,SAMPNO,BTLNBR,BTLNBR_FLAG_W,DATE,TIME,LATITUDE,LONGITUDE,DEPTH,CTDPRS,CTDTMP,CTDSAL,CTDSAL_FLAG_W,SALNTY,SALNTY_FLAG_W,CTDOXY,CTDOXY_FLAG_W,OXYGEN,OXYGEN_FLAG_W,SILCAT,SILCAT_FLAG_W,NITRAT,NITRAT_FLAG_W,NITRIT,NITRIT_FLAG_W,PHSPHT,PHSPHT_FLAG_W,CFC-11,CFC-11_FLAG_W,CFC-12,CFC-12_FLAG_W,TRITUM,TRITUM_FLAG_W,HELIUM,HELIUM_FLAG_W,DELHE3,DELHE3_FLAG_W,TCARBN,TCARBN_FLAG_W,PCO2,PCO2_FLAG_W,ALKALI,ALKALI_FLAG_W,PH,PH_FLAG_W,PH_TMP,PCO2TMP,CTDRAW,HELIER,DELHER,THETA,TRITER
,,,,,,,,,,,,DBAR,ITS-90,PSS-78,,PSS-78,,UMOL/KG,,UMOL/KG,,UMOL/KG,,UMOL/KG,,UMOL/KG,,UMOL/KG,,PMOL/KG,,PMOL/KG,,TU,,NMOL/KG,,PERCNT,,UMOL/KG,,UATM,,UMOL/KG,,,,DEG C,DEG C,,NMOL/KG,PERCNT,DEG C,TU
     316N151_2,   A24,    86,  1,     27,     27,2,19970616,0859, 62.9167, -33.1327, 2894,      3.4,   7.8172,  34.9543,2,  34.9587,2,   -999.0,5,    308.9,2,     0.68,2,     7.78,2,     0.11,2,     0.52,2, -999.000,9, -999.000,9, -999.000,9,-999.0000,9,  -999.00,9,   -999.0,9,   -999.0,9,   -999.0,9,  -999.00,9,25, -999.00,   -999,-999.0000,-999.000,  7.8169,-999.000
     316N151_2,   A24,    86,  1,     26,     26,2,19970616,0859, 62.9167, -33.1327, 2894,      3.6,   7.7901,  34.9554,2,  34.9596,2,   -999.0,5,    307.5,2,     0.67,2,     7.83,2,     0.11,2,     0.53,2,    4.451,2,    2.312,2, -999.000,9,-999.0000,9,  -999.00,9,   2100.9,2,   -999.0,9,   2314.7,6,     7.85,2,25, -999.00,   -999,-999.0000,-999.000,  7.7898,-999.000
     316N151_2,   A24,    86,  1,     25,     25,2,19970616,0859, 62.9167, -33.1327, 2894,     35.1,   7.2560,  34.9475,2,  34.9433,2,   -999.0,5,    310.9,2,     0.95,2,     8.36,2,     0.11,2,     0.58,2, -999.000,9, -999.000,9, -999.000,9,-999.0000,9,  -999.00,9,   -999.0,9,   -999.0,9,   -999.0,9,  -999.00,9,25, -999.00,   -999,-999.0000,-999.000,  7.2527,-999.000
     316N151_2,   A24,    86,  1,     24,     24,2,19970616,0859, 62.9167, -33.1327, 2894,     95.3,   5.2348,  34.8884,2,  34.8874,2,   -999.0,5,    301.6,2,     8.34,2,    12.73,2,     0.16,2,     0.96,2,    4.812,2,    2.487,2, -999.000,9,-999.0000,9,  -999.00,9,   -999.0,9,   -999.0,9,   -999.0,9,  -999.00,9,25, -999.00,   -999,-999.0000,-999.000,  5.2273,-999.000
     316N151_2,   A24,    86,  1,     23,     23,2,19970616,0859, 62.9167, -33.1327, 2894,    145.6,   4.4791,  34.8739,2,  34.8752,2,   -999.0,5,    294.1,2,     9.50,2,    15.63,2,     0.26,2,     1.05,2,    4.510,2,    2.299,2, -999.000,9,-999.0000,9,  -999.00,9,   -999.0,9,   -999.0,9,   -999.0,9,  -999.00,9,25, -999.00,   -999,-999.0000,-999.000,  4.4684,-999.000
     316N151_2,   A24,    86,  1,     22,     22,2,19970616,0859, 62.9167, -33.1327, 2894,    205.9,   4.3112,  34.8829,2,  34.8843,2,   -999.0,5,    287.5,2,     9.59,2,    16.32,2,     0.05,2,     1.08,2,    4.229,2,    2.169,2, -999.000,9,-999.0000,9,  -999.00,9,   -999.0,9,   -999.0,9,   -999.0,9,  -999.00,9,25, -999.00,   -999,-999.0000,-999.000,  4.2962,-999.000
     316N151_2,   A24,    86,  1,     21,     21,2,19970616,0859, 62.9167, -33.1327, 2894,    296.7,   3.8791,  34.8577,2,  34.8561,2,   -999.0,5,    293.0,2,     9.68,2,    16.46,2,     0.01,2,     1.09,2,    4.358,2,    2.208,2, -999.000,9,-999.0000,9,  -999.00,9,   -999.0,9,   -999.0,9,   -999.0,9,  -999.00,9,25, -999.00,   -999,-999.0000,-999.000,  3.8584,-999.000
     316N151_2,   A24,    86,  1,     20,     20,2,19970616,0859, 62.9167, -33.1327, 2894,    386.9,   3.7859,  34.8641,2,  34.8624,2,   -999.0,5,    291.5,2,     9.76,2,    16.56,2,     0.01,2,     1.10,2,    4.276,2,    2.174,2, -999.000,9,-999.0000,9,  -999.00,9,   -999.0,9,   -999.0,9,   -999.0,9,  -999.00,9,25, -999.00,   -999,-999.0000,-999.000,  3.7588,-999.000
     316N151_2,   A24,    86,  1,     19,     19,2,19970616,0859, 62.9167, -33.1327, 2894,    467.2,   3.7227,  34.8720,2,  34.8695,2,   -999.0,5,    288.9,2,     9.95,2,    16.71,2,     0.00,2,     1.10,2,    4.107,2,    2.086,2, -999.000,9,-999.0000,9,  -999.00,9,   -999.0,9,   -999.0,9,   -999.0,9,  -999.00,9,25, -999.00,   -999,-999.0000,-999.000,  3.6899,-999.000
     316N151_2,   A24,    86,  1,     18,     18,2,19970616,0859, 62.9167, -33.1327, 2894,    557.1,   3.6229,  34.8687,2,  34.8691,2,   -999.0,5,    286.1,2,    10.23,2,    16.95,2,     0.00,2,     1.12,2,    3.912,2,    1.979,2, -999.000,9,-999.0000,9,  -999.00,9,   -999.0,9,   -999.0,9,   -999.0,9,  -999.00,9,25, -999.00,   -999,-999.0000,-999.000,  3.5839,-999.000
     316N151_2,   A24,    86,  1,     17,     17,2,19970616,0859, 62.9167, -33.1327, 2894,    637.9,   3.5852,  34.8773,2,  34.8779,2,   -999.0,5,    282.3,2,    10.51,2,    17.19,2,     0.00,2,     1.12,2,    3.699,2,    1.818,2, -999.000,9,-999.0000,9,  -999.00,9,   -999.0,9,   -999.0,9,   -999.0,9,  -999.00,9,25, -999.00,   -999,-999.0000,-999.000,  3.5403,-999.000
     316N151_2,   A24,    86,  1,     16,     16,2,19970616,0859, 62.9167, -33.1327, 2894,    738.7,   3.4943,  34.8800,2,  34.8801,2,   -999.0,5,    281.4,2,    10.60,2,    17.19,2,     0.00,2,     1.13,2,    3.576,2,    1.763,2, -999.000,9,-999.0000,9,  -999.00,9,   -999.0,9,   -999.0,9,   -999.0,9,  -999.00,9,25, -999.00,   -999,-999.0000,-999.000,  3.4423,-999.000
     316N151_2,   A24,    86,  1,     15,     15,2,19970616,0859, 62.9167, -33.1327, 2894,    900.0,   3.3216,  34.8765,2,  34.8758,2,   -999.0,5,    285.3,2,    10.78,2,    17.10,2,     0.00,2,     1.12,2,    3.560,2,    1.741,2, -999.000,9,-999.0000,9,  -999.00,9,   -999.0,9,   -999.0,9,   -999.0,9,  -999.00,9,25, -999.00,   -999,-999.0000,-999.000,  3.2584,-999.000
     316N151_2,   A24,    86,  1,     14,     14,2,19970616,0859, 62.9167, -33.1327, 2894,   1112.4,   3.1496,  34.8652,2,  34.8651,2,   -999.0,5,    290.9,2,    10.67,2,    16.96,2,     0.00,2,     1.11,2,    3.712,2,    1.780,2, -999.000,9,-999.0000,9,  -999.00,9,   -999.0,9,   -999.0,9,   -999.0,9,  -999.00,9,25, -999.00,   -999,-999.0000,-999.000,  3.0711,-999.000
     316N151_2,   A24,    86,  1,     13,     13,2,19970616,0859, 62.9167, -33.1327, 2894,   1314.9,   3.0455,  34.8573,2,  34.8584,2,   -999.0,5,    295.1,2,    10.57,2,    16.81,2,     0.00,2,     1.11,2,    3.836,2,    1.870,2, -999.000,9,-999.0000,9,  -999.00,9,   -999.0,9,   -999.0,9,   -999.0,9,  -999.00,9,25, -999.00,   -999,-999.0000,-999.000,  2.9518,-999.000
     316N151_2,   A24,    86,  1,     12,     12,2,19970616,0859, 62.9167, -33.1327, 2894,   1516.8,   2.9757,  34.8503,2,  34.8512,2,   -999.0,5,    297.7,2,    10.46,2,    16.72,2,     0.00,2,     1.10,2,    3.846,2,    1.877,2, -999.000,9,-999.0000,9,  -999.00,9,   -999.0,9,   -999.0,9,   -999.0,9,  -999.00,9,25, -999.00,   -999,-999.0000,-999.000,  2.8661,-999.000
     316N151_2,   A24,    86,  1,     11,     11,2,19970616,0859, 62.9167, -33.1327, 2894,   1719.4,   2.9379,  34.8463,2,  34.8474,2,   -999.0,5,    299.0,2,    10.35,2,    16.62,2,     0.00,2,     1.10,2,    3.956,2,    1.922,2, -999.000,9,-999.0000,9,  -999.00,9,   -999.0,9,   -999.0,9,   -999.0,9,  -999.00,9,25, -999.00,   -999,-999.0000,-999.000,  2.8115,-999.000
     316N151_2,   A24,    86,  1,     10,     10,2,19970616,0859, 62.9167, -33.1327, 2894,   1919.7,   2.9438,  34.8506,2,  34.8504,2,   -999.0,5,    297.1,2,    10.44,2,    16.58,2,     0.00,2,     1.10,2,    3.847,2,    1.858,2, -999.000,9,-999.0000,9,  -999.00,9,   -999.0,9,   -999.0,9,   -999.0,9,  -999.00,9,25, -999.00,   -999,-999.0000,-999.000,  2.7996,-999.000
     316N151_2,   A24,    86,  1,      9,      9,2,19970616,0859, 62.9167, -33.1327, 2894,   2121.1,   3.0764,  34.8843,2,  34.8836,2,   -999.0,5,    288.3,2,    11.21,2,    16.58,2,     0.00,2,     1.10,2,    3.005,2,    1.443,2, -999.000,9,-999.0000,9,  -999.00,9,   -999.0,9,   -999.0,9,   -999.0,9,  -999.00,9,25, -999.00,   -999,-999.0000,-999.000,  2.9117,-999.000
     316N151_2,   A24,    86,  1,      8,      8,2,19970616,0859, 62.9167, -33.1327, 2894,   2326.6,   3.1044,  34.9080,2,  34.9078,2,   -999.0,5,    281.8,2,    12.07,2,    16.53,2,     0.00,2,     1.10,2,    2.358,2,    1.139,2, -999.000,9,-999.0000,9,  -999.00,9,   -999.0,9,   -999.0,9,   -999.0,9,  -999.00,9,25, -999.00,   -999,-999.0000,-999.000,  2.9196,-999.000
     316N151_2,   A24,    86,  1,      7,      7,2,19970616,0859, 62.9167, -33.1327, 2894,   2467.6,   3.0481,  34.9172,2,  34.9174,2,   -999.0,5,    279.2,2,    12.65,2,    16.48,2,     0.00,2,     1.10,2,    2.021,2,    0.973,2, -999.000,9,-999.0000,9,  -999.00,9,   -999.0,9,   -999.0,9,   -999.0,9,  -999.00,9,25, -999.00,   -999,-999.0000,-999.000,  2.8506,-999.000
     316N151_2,   A24,    86,  1,      6,      6,2,19970616,0859, 62.9167, -33.1327, 2894,   2569.4,   2.9889,  34.9205,2,  34.9207,2,   -999.0,5,    278.7,2,    12.93,2,    16.44,2,     0.00,2,     1.10,2,    1.951,2,    0.942,2, -999.000,9,-999.0000,9,  -999.00,9,   -999.0,9,   -999.0,9,   -999.0,9,  -999.00,9,25, -999.00,   -999,-999.0000,-999.000,  2.7824,-999.000
     316N151_2,   A24,    86,  1,      5,      5,2,19970616,0859, 62.9167, -33.1327, 2894,   2669.7,   2.7457,  34.9009,2,  34.9016,2,   -999.0,5,    284.9,2,    11.65,2,    15.77,2,     0.00,2,     1.05,2, -999.000,9, -999.000,9, -999.000,9,-999.0000,9,  -999.00,9,   -999.0,9,   -999.0,9,   -999.0,9,  -999.00,9,25, -999.00,   -999,-999.0000,-999.000,  2.5340,-999.000
     316N151_2,   A24,    86,  1,      4,      4,2,19970616,0859, 62.9167, -33.1327, 2894,   2751.3,   2.4869,  34.8925,3,  34.8948,2,   -999.0,5,    289.1,2,    10.86,2,    15.29,2,     0.00,2,     1.02,2,    3.022,2,    1.476,2, -999.000,9,-999.0000,9,  -999.00,9,   -999.0,9,   -999.0,9,   -999.0,9,  -999.00,9,25, -999.00,   -999,-999.0000,-999.000,  2.2724,-999.000
     316N151_2,   A24,    86,  1,      3,      3,2,19970616,0859, 62.9167, -33.1327, 2894,   2821.0,   1.8847,  34.8815,3,  34.8869,2,   -999.0,5,    295.8,2,     9.38,2,    14.39,2,     0.00,2,     0.97,2, -999.000,9, -999.000,9, -999.000,9,-999.0000,9,  -999.00,9,   -999.0,9,   -999.0,9,   -999.0,9,  -999.00,9,25, -999.00,   -999,-999.0000,-999.000,  1.6757,-999.000
     316N151_2,   A24,    86,  1,      2,      2,2,19970616,0859, 62.9167, -33.1327, 2894,   2862.0,   1.4675,  34.8827,3,  34.8867,2,   -999.0,5,    299.1,2,     8.79,2,    13.96,2,     0.00,2,     0.94,2,    3.588,2,    1.741,2, -999.000,9,-999.0000,9,  -999.00,9,   -999.0,9,   -999.0,9,   -999.0,9,  -999.00,9,25, -999.00,   -999,-999.0000,-999.000,  1.2634,-999.000
     316N151_2,   A24,    86,  1,      1,      1,2,19970616,0859, 62.9167, -33.1327, 2894,   2907.6,   1.2553,  34.8866,3,  34.8790,2,   -999.0,5,    301.5,2,     8.48,2,    13.67,2,     0.00,2,     0.92,2,    3.640,2,    1.765,2, -999.000,9,-999.0000,9,  -999.00,9,   -999.0,9,   -999.0,9,   -999.0,9,  -999.00,9,25, -999.00,   -999,-999.0000,-999.000,  1.0515,-999.000