BOTTLE,20220629CCHSIOAMB
EXPOCODE,SECT_ID,STNNBR,CASTNO,SAMPNO,BTLNBR,BTLNBR_FLAG_W,DATE,TIME,LATITUDE,LONGITUDE,DEPTH,CTDPRS,CTDTMP,CTDSAL,CTDSAL_FLAG_W,SALNTY,SALNTY_FLAG_W,CTDOXY,CTDOXY_FLAG_W,OXYGEN,OXYGEN_FLAG_W,SILCAT,SILCAT_FLAG_W,NITRAT,NITRAT_FLAG_W,NITRIT,NITRIT_FLAG_W,PHSPHT,PHSPHT_FLAG_W,CFC-11,CFC-11_FLAG_W,CFC-12,CFC-12_FLAG_W,TRITUM,TRITUM_FLAG_W,HELIUM,HELIUM_FLAG_W,DELHE3,DELHE3_FLAG_W,TCARBN,TCARBN_FLAG_W,PCO2,PCO2_FLAG_W,ALKALI,ALKALI_FLAG_W,PH,PH_FLAG_W,PH_TMP,PCO2TMP,CTDRAW,HELIER,DELHER,THETA,TRITER
,,,,,,,,,,,,DBAR,ITS-90,PSS-78,,PSS-78,,UMOL/KG,,UMOL/KG,,UMOL/KG,,UMOL/KG,,UMOL/KG,,UMOL/KG,,PMOL/KG,,PMOL/KG,,TU,,NMOL/KG,,PERCNT,,UMOL/KG,,UATM,,UMOL/KG,,,,DEG C,DEG C,,NMOL/KG,PERCNT,DEG C,TU
     316N151_2,   A24,    46,  1,     19,     19,2,19970610,0318, 54.8878, -16.8700, 1824,      5.4,  11.6755,  35.4442,2,  35.4453,2,    272.0,2,    270.4,2,     1.08,2,     6.01,2,     0.12,2,     0.40,2,    3.511,2,    1.862,2, -999.000,9,-999.0000,9,  -999.00,9,   2099.2,2,   -999.0,9,   2338.2,6,     7.89,2,25, -999.00,   -999,-999.0000,-999.000, 11.6748,-999.000
     316N151_2,   A24,    46,  1,     18,     18,2,19970610,0318, 54.8878, -16.8700, 1824,     74.0,  10.7471,  35.4576,2,  35.4565,2,    263.3,2,    260.3,2,     3.85,2,     9.71,2,     0.22,2,     0.64,2, -999.000,9, -999.000,9, -999.000,9,-999.0000,9,  -999.00,9,   2120.9,2,   -999.0,9,   -999.0,9,  -999.00,9,25, -999.00,   -999,-999.0000,-999.000, 10.7381,-999.000
     316N151_2,   A24,    46,  1,     17,     17,2,19970610,0318, 54.8878, -16.8700, 1824,    175.3,  10.3016,  35.4203,2,  35.4199,2,    256.2,2,    257.5,2,     4.88,2,    11.02,2,     0.03,2,     0.72,2,    3.453,2,    1.817,2, -999.000,9,-999.0000,9,  -999.00,9,   2126.7,2,   -999.0,9,   2334.8,2,     7.82,2,25, -999.00,   -999,-999.0000,-999.000, 10.2808,-999.000
     316N151_2,   A24,    46,  1,     16,     16,2,19970610,0318, 54.8878, -16.8700, 1824,    346.5,   9.7126,  35.3759,2,  35.3771,2,    252.0,2,    256.1,2,     5.79,2,    12.16,2,     0.00,2,     0.79,2,    3.477,2,    1.811,2, -999.000,9,-999.0000,9,  -999.00,9,   2133.9,2,   -999.0,9,   -999.0,9,  -999.00,9,25, -999.00,   -999,-999.0000,-999.000,  9.6726,-999.000
     316N151_2,   A24,    46,  1,     15,     15,2,19970610,0318, 54.8878, -16.8700, 1824,    497.5,   9.4237,  35.3472,2,  35.3462,2,    249.6,2,    245.2,2,     6.58,2,    13.27,2,     0.00,2,     0.87,2,    3.263,2,    1.677,2, -999.000,9,-999.0000,9,  -999.00,9,   2139.8,2,   -999.0,9,   2329.7,2,     7.79,2,25, -999.00,   -999,-999.0000,-999.000,  9.3669,-999.000
     316N151_2,   A24,    46,  1,     14,     14,2,19970610,0318, 54.8878, -16.8700, 1824,    567.0,   9.2263,  35.3241,2,  35.3242,2,    238.1,2,    241.0,2,     7.13,2,    13.88,2,     0.00,2,     0.90,2, -999.000,9, -999.000,9, -999.000,9,-999.0000,9,  -999.00,9,   2144.4,2,   -999.0,9,   -999.0,9,  -999.00,9,25, -999.00,   -999,-999.0000,-999.000,  9.1621,-999.000
     316N151_2,   A24,    46,  1,     13,     13,2,19970610,0318, 54.8878, -16.8700, 1824,    659.4,   8.9584,  35.3031,2,  35.3023,2,    237.7,2,    238.9,2,     7.46,2,    14.44,2,     0.00,2,     0.94,2,    3.115,2,    1.583,2, -999.000,9,-999.0000,9,  -999.00,9,   2146.4,2,   -999.0,9,   2330.1,2,     7.77,2,25, -999.00,   -999,-999.0000,-999.000,  8.8847,-999.000
     316N151_2,   A24,    46,  1,     12,     12,2,19970610,0318, 54.8878, -16.8700, 1824,    758.6,   8.5118,  35.2690,2,  35.2686,2,    231.6,2,    235.2,2,     8.25,2,    15.30,2,     0.00,2,     1.00,2,    2.997,2,    1.518,2, -999.000,9,-999.0000,9,  -999.00,9,   2151.8,2,   -999.0,9,   -999.0,9,  -999.00,9,25, -999.00,   -999,-999.0000,-999.000,  8.4291,-999.000
     316N151_2,   A24,    46,  1,     11,     11,2,19970610,0318, 54.8878, -16.8700, 1824,    856.5,   7.8677,  35.2324,2,  35.2320,2,    227.9,2,    227.8,2,     9.62,2,    16.67,2,     0.00,2,     1.08,2,    2.676,2,    1.318,2, -999.000,9,-999.0000,9,  -999.00,9,   2161.3,2,   -999.0,9,   2325.2,2,     7.75,2,25, -999.00,   -999,-999.0000,-999.000,  7.7779,-999.000
     316N151_2,   A24,    46,  1,     10,     10,2,19970610,0318, 54.8878, -16.8700, 1824,    956.3,   7.1634,  35.1948,2,  35.1938,2,    228.1,2,    224.9,2,    10.77,2,    17.58,2,     0.00,2,     1.14,2,    2.407,2,    1.189,2, -999.000,9,-999.0000,9,  -999.00,9,   2165.7,2,   -999.0,9,   -999.0,9,  -999.00,9,25, -999.00,   -999,-999.0000,-999.000,  7.0675,-999.000
     316N151_2,   A24,    46,  1,      9,      9,2,19970610,0318, 54.8878, -16.8700, 1824,   1056.5,   6.4342,  35.1474,2,  35.1470,2,    231.4,2,    227.6,2,    11.56,2,    17.98,2,     0.00,2,     1.18,2,    2.217,2,    1.069,2, -999.000,9,-999.0000,9,  -999.00,9,   2166.8,2,   -999.0,9,   2324.1,2,     7.71,2,25, -999.00,   -999,-999.0000,-999.000,  6.3333,-999.000
     316N151_2,   A24,    46,  1,      8,      8,2,19970610,0318, 54.8878, -16.8700, 1824,   1158.4,   5.8045,  35.0967,2,  35.0958,2,    234.7,2,    235.2,2,    11.77,2,    17.98,2,     0.00,2,     1.18,2,    2.196,2,    1.046,2, -999.000,9,-999.0000,9,  -999.00,9,   2166.4,2,   -999.0,9,   -999.0,9,  -999.00,9,25, -999.00,   -999,-999.0000,-999.000,  5.6986,-999.000
     316N151_2,   A24,    46,  1,      7,      7,2,19970610,0318, 54.8878, -16.8700, 1824,   1259.6,   5.2061,  35.0452,2,  35.0468,2,    244.8,2,    243.4,2,    11.86,2,    17.98,2,     0.00,2,     1.18,2,    2.195,2,    1.041,2, -999.000,9,-999.0000,9,  -999.00,9,   2165.5,2,   -999.0,9,   2315.9,2,     7.71,2,25, -999.00,   -999,-999.0000,-999.000,  5.0958,-999.000
     316N151_2,   A24,    46,  1,      6,      6,2,19970610,0318, 54.8878, -16.8700, 1824,   1359.3,   4.7402,  35.0055,2,  35.0055,2,    249.5,2,    252.8,2,    11.83,2,    17.77,2,     0.00,2,     1.17,2, -999.000,9, -999.000,9, -999.000,9,-999.0000,9,  -999.00,9,   2163.1,2,   -999.0,9,   -999.0,9,  -999.00,9,25, -999.00,   -999,-999.0000,-999.000,  4.6250,-999.000
     316N151_2,   A24,    46,  1,      5,      5,2,19970610,0318, 54.8878, -16.8700, 1824,   1461.3,   4.4721,  34.9885,2,  34.9888,2,    258.9,2,    259.0,2,    12.04,2,    17.31,2,     0.00,2,     1.15,2,    2.227,2,    1.069,2, -999.000,9,-999.0000,9,  -999.00,9,   2159.7,2,   -999.0,9,   2314.9,2,     7.71,2,25, -999.00,   -999,-999.0000,-999.000,  4.3502,-999.000
     316N151_2,   A24,    46,  1,      4,      4,2,19970610,0318, 54.8878, -16.8700, 1824,   1562.0,   4.1711,  34.9673,2,  34.9682,2,    264.8,2,    263.9,2,    12.60,2,    17.21,2,     0.00,2,     1.14,2, -999.000,9, -999.000,9, -999.000,9,-999.0000,9,  -999.00,9,   2159.1,2,   -999.0,9,   2310.1,2,     7.71,2,25, -999.00,   -999,-999.0000,-999.000,  4.0432,-999.000
     316N151_2,   A24,    46,  1,      3,      3,2,19970610,0318, 54.8878, -16.8700, 1824,   1662.4,   4.0631,  34.9561,2,  34.9623,3,    262.6,2,    264.1,2,    12.81,2,    17.30,2,     0.00,2,     1.16,2,    2.018,2,    0.971,2, -999.000,9,-999.0000,9,  -999.00,9,   2160.0,2,   -999.0,9,   2309.4,2,     7.71,2,25, -999.00,   -999,-999.0000,-999.000,  3.9272,-999.000
     316N151_2,   A24,    46,  1,      2,      2,2,19970610,0318, 54.8878, -16.8700, 1824,   1733.7,   3.9266,  34.9479,2,  34.9492,2,    258.8,2,    265.8,2,    13.25,2,    17.40,2,     0.00,2,     1.16,2, -999.000,9, -999.000,9, -999.000,9,-999.0000,9,  -999.00,9,   2160.1,2,   -999.0,9,   -999.0,9,  -999.00,9,25, -999.00,   -999,-999.0000,-999.000,  3.7858,-999.000
     316N151_2,   A24,    46,  1,      1,      1,2,19970610,0318, 54.8878, -16.8700, 1824,   1831.4,   3.7647,  34.9351,2,  34.9405,3,    267.2,2,    267.5,2,    13.70,2,    17.50,2,     0.00,2,     1.18,2,    1.831,2,    0.882,2, -999.000,9,-999.0000,9,  -999.00,9,   2160.0,2,   -999.0,9,   2310.1,2,     7.71,2,25, -999.00,   -999,-999.0000,-999.000,  3.6168,-999.000
     316N151_2,   A24,    47,  1,     15,     15,2,19970610,0523, 54.9473, -17.0040, 1319,      4.6,  11.4016,  35.4138,2,  35.4135,2,    267.4,2,    270.7,2,     1.39,2,     5.98,2,     0.11,2,     0.40,2, -999.000,9, -999.000,9, -999.000,9,-999.0000,9,  -999.00,9,   2097.5,2,   -999.0,9,   2337.4,6,     7.89,6,25, -999.00,   -999,-999.0000,-999.000, 11.4010,-999.000
     316N151_2,   A24,    47,  1,     14,     14,2,19970610,0523, 54.9473, -17.0040, 1319,     53.3,  10.7405,  35.4221,2,  35.4228,2,    270.0,2,    268.2,2,     2.07,2,     8.25,2,     0.21,2,     0.59,2, -999.000,9, -999.000,9, -999.000,9,-999.0000,9,  -999.00,9,   2114.5,2,   -999.0,9,   2335.3,2,     7.86,2,25, -999.00,   -999,-999.0000,-999.000, 10.7340,-999.000
     316N151_2,   A24,    47,  1,     13,     13,2,19970610,0523, 54.9473, -17.0040, 1319,     95.7,  10.3167,  35.3994,2,  35.3987,2,    265.7,2,    268.0,2,     2.52,2,     9.14,2,     0.23,2,     0.66,2, -999.000,9, -999.000,9, -999.000,9,-999.0000,9,  -999.00,9,   2121.3,2,   -999.0,9,   2334.3,2,     7.84,2,25, -999.00,   -999,-999.0000,-999.000, 10.3053,-999.000
     316N151_2,   A24,    47,  1,     12,     12,2,19970610,0523, 54.9473, -17.0040, 1319,    195.2,  10.0399,  35.3799,2,  35.3794,2,    259.3,2,    259.1,2,     5.24,2,    11.51,2,     0.03,2,     0.76,2, -999.000,9, -999.000,9, -999.000,9,-999.0000,9,  -999.00,9,   2128.4,2,   -999.0,9,   2329.3,2,     7.81,2,25, -999.00,   -999,-999.0000,-999.000, 10.0171,-999.000
     316N151_2,   A24,    47,  1,     11,     11,2,19970610,0523, 54.9473, -17.0040, 1319,    275.7,   9.9031,  35.3868,2,  35.3849,2,    260.2,2,    253.7,2,     5.81,2,    12.09,2,     0.01,2,     0.79,2, -999.000,9, -999.000,9, -999.000,9,-999.0000,9,  -999.00,9,   2133.1,2,   -999.0,9,   2331.4,2,     7.81,2,25, -999.00,   -999,-999.0000,-999.000,  9.8710,-999.000
     316N151_2,   A24,    47,  1,     10,     10,2,19970610,0523, 54.9473, -17.0040, 1319,    367.8,   9.7626,  35.3869,2,  35.3875,2,    256.0,2,    261.6,2,     5.50,2,    11.68,2,     0.01,2,     0.76,2, -999.000,9, -999.000,9, -999.000,9,-999.0000,9,  -999.00,9,   2130.7,2,   -999.0,9,   2330.3,2,     7.81,2,25, -999.00,   -999,-999.0000,-999.000,  9.7199,-999.000
     316N151_2,   A24,    47,  1,      9,      9,2,19970610,0523, 54.9473, -17.0040, 1319,    517.1,   9.5559,  35.3725,2,  35.3728,2,    262.1,2,    262.0,2,     5.60,2,    11.83,2,     0.01,2,     0.77,2, -999.000,9, -999.000,9, -999.000,9,-999.0000,9,  -999.00,9,   2132.0,2,   -999.0,9,   2330.0,2,     7.81,2,25, -999.00,   -999,-999.0000,-999.000,  9.4963,-999.000
     316N151_2,   A24,    47,  1,      8,      8,2,19970610,0523, 54.9473, -17.0040, 1319,    575.4,   9.2462,  35.3346,2,  35.3341,2,    253.2,2,    256.3,2,     6.17,2,    12.65,2,     0.01,2,     0.83,2, -999.000,9, -999.000,9, -999.000,9,-999.0000,9,  -999.00,9,   2135.9,2,   -999.0,9,   2327.2,2,     7.80,2,25, -999.00,   -999,-999.0000,-999.000,  9.1810,-999.000
     316N151_2,   A24,    47,  1,      7,      7,2,19970610,0523, 54.9473, -17.0040, 1319,    688.8,   8.9271,  35.3020,2,  35.3028,2,    245.5,2,    245.8,2,     7.20,2,    13.96,2,     0.01,2,     0.91,2, -999.000,9, -999.000,9, -999.000,9,-999.0000,9,  -999.00,9,   2143.2,2,   -999.0,9,   2327.1,2,     7.79,2,25, -999.00,   -999,-999.0000,-999.000,  8.8502,-999.000
     316N151_2,   A24,    47,  1,      6,      6,2,19970610,0523, 54.9473, -17.0040, 1319,    807.7,   8.4445,  35.2682,2,  35.2675,2,    240.1,2,    236.9,2,     8.23,2,    15.23,2,     0.00,2,     0.99,2, -999.000,9, -999.000,9, -999.000,9,-999.0000,9,  -999.00,9,   2151.1,2,   -999.0,9,   2321.9,2,     7.75,2,25, -999.00,   -999,-999.0000,-999.000,  8.3566,-999.000
     316N151_2,   A24,    47,  1,      5,      5,2,19970610,0523, 54.9473, -17.0040, 1319,    907.8,   7.8455,  35.2328,2,  35.2327,2,    220.8,2,    221.3,2,    10.08,2,    17.10,2,     0.00,2,     1.11,2, -999.000,9, -999.000,9, -999.000,9,-999.0000,9,  -999.00,9,   2163.2,2,   -999.0,9,   2322.8,2,     7.72,2,25, -999.00,   -999,-999.0000,-999.000,  7.7502,-999.000
     316N151_2,   A24,    47,  1,      4,      4,2,19970610,0523, 54.9473, -17.0040, 1319,   1005.5,   7.1941,  35.1990,2,  35.1984,2,    221.7,2,    222.5,2,    10.88,2,    17.61,2,     0.00,2,     1.15,2, -999.000,9, -999.000,9, -999.000,9,-999.0000,9,  -999.00,9,   2166.3,2,   -999.0,9,   2326.2,2,     7.72,2,25, -999.00,   -999,-999.0000,-999.000,  7.0927,-999.000
     316N151_2,   A24,    47,  1,      3,      3,2,19970610,0523, 54.9473, -17.0040, 1319,   1109.0,   6.3036,  35.1391,2,  35.1384,2,    229.4,2,    227.7,2,    11.68,2,    18.02,2,     0.00,2,     1.18,2, -999.000,9, -999.000,9, -999.000,9,-999.0000,9,  -999.00,9,   2167.3,2,   -999.0,9,   2320.8,2,     7.71,2,25, -999.00,   -999,-999.0000,-999.000,  6.1984,-999.000
     316N151_2,   A24,    47,  1,      2,      2,2,19970610,0523, 54.9473, -17.0040, 1319,   1209.9,   5.8534,  35.1002,2,  35.1016,2,    233.9,2,    235.2,2,    11.78,2,    17.92,2,     0.01,2,     1.18,2, -999.000,9, -999.000,9, -999.000,9,-999.0000,9,  -999.00,9,   2166.8,2,   -999.0,9,   2322.7,2,     7.71,2,25, -999.00,   -999,-999.0000,-999.000,  5.7419,-999.000
     316N151_2,   A24,    47,  1,      1,      1,2,19970610,0523, 54.9473, -17.0040, 1319,   1315.1,   5.4092,  35.0641,2,  35.0645,2,    241.9,2,    242.1,2,    12.00,2,    17.81,2,     0.01,2,     1.18,2, -999.000,9, -999.000,9, -999.000,9,-999.0000,9,  -999.00,9,   2164.7,2,   -999.0,9,   2316.5,2,     7.71,2,25, -999.00,   -999,-999.0000,-999.000,  5.2915,-999.000
     316N151_2,   A24,    48,  1,     12,     12,2,19970610,0742, 55.0927, -17.2630,  879,      3.7,  12.2045,  35.5557,2,  35.5557,2,    263.9,2,    261.8,2,     1.76,2,     5.57,2,     0.23,2,     0.40,2,    3.419,2,    1.832,2,    1.360,2,   1.8082,2,    -1.49,2,   2102.5,2,   -999.0,9,   2341.5,2,     7.89,2,25, -999.00,   -999,  0.0000,   0.200, 12.2040,   0.026
     316N151_2,   A24,    48,  1,     11,     11,2,19970610,0742, 55.0927, -17.2630,  879,     54.5,  11.8692,  35.5539,2,  35.5548,2,    257.0,2,    257.2,2,     2.90,2,     7.53,2,     0.31,2,     0.51,2,    3.403,2,    1.789,2, -999.000,9,-999.0000,9,  -999.00,9,   2113.4,2,   -999.0,9,   2341.5,2,     7.89,2,25, -999.00,   -999,-999.0000,-999.000, 11.8622,-999.000
     316N151_2,   A24,    48,  1,     10,     10,2,19970610,0742, 55.0927, -17.2630,  879,    104.7,  11.1386,  35.4979,2,  35.4930,2,    257.5,2,    252.5,2,     4.61,2,    10.39,2,     0.03,2,     0.67,2,    3.308,2,    1.743,2,   -3.099,4,   1.8249,2,    -0.83,2,   2127.4,2,   -999.0,9,   2339.9,2,     7.87,2,25, -999.00,   -999,  0.0000,   0.120, 11.1256,   0.062
     316N151_2,   A24,    48,  1,      9,      9,2,19970610,0742, 55.0927, -17.2630,  879,    153.3,  10.8108,  35.4619,2,  35.4611,2,    251.2,2,    253.2,2,     4.82,2,    10.75,2,     0.02,2,     0.70,2,    3.357,2,    1.766,2, -999.000,9,-999.0000,9,  -999.00,9,   2126.5,2,   -999.0,9,   2334.9,2,     7.83,2,25, -999.00,   -999,-999.0000,-999.000, 10.7920,-999.000
     316N151_2,   A24,    48,  1,      8,      8,2,19970610,0742, 55.0927, -17.2630,  879,    203.6,  10.4994,  35.4081,2,  35.4127,2,    248.9,2,    249.4,2,     5.27,2,    11.41,2,     0.01,2,     0.74,2,    3.303,2,    1.739,2,    1.554,2,   1.7896,2,    -1.00,2,   2130.9,2,   -999.0,9,   2332.6,2,     7.82,2,25, -999.00,   -999,  0.0000,   0.120, 10.4749,   0.031
     316N151_2,   A24,    48,  1,      7,      7,2,19970610,0742, 55.0927, -17.2630,  879,    255.2,  10.4301,  35.4192,2,  35.4194,2,    243.8,2,    248.1,2,     5.36,2,    11.61,2,     0.01,2,     0.75,2,    3.285,2,    1.716,2, -999.000,9,-999.0000,9,  -999.00,9,   2134.3,2,   -999.0,9,   2332.8,2,     7.83,2,25, -999.00,   -999,-999.0000,-999.000, 10.3994,-999.000
     316N151_2,   A24,    48,  1,      6,      6,2,19970610,0742, 55.0927, -17.2630,  879,    354.7,   9.7473,  35.3020,2,  35.3047,2,    248.1,2,    246.6,2,     6.27,2,    12.78,2,     0.01,2,     0.84,2,    3.288,2,    1.707,2,    1.511,2,   1.8434,2,    -0.12,2,   2136.5,2,   -999.0,9,   2332.0,2,     7.82,2,25, -999.00,   -999,  0.0000,   0.200,  9.7063,   0.028
     316N151_2,   A24,    48,  1,      5,      5,2,19970610,0742, 55.0927, -17.2630,  879,    404.2,  10.0169,  35.3917,2,  35.3912,2,    247.6,2,    249.5,2,     5.66,2,    12.12,2,     0.01,2,     0.79,2,    3.358,2,    1.743,2, -999.000,9,-999.0000,9,  -999.00,9,   2136.6,2,   -999.0,9,   2329.6,2,     7.80,2,25, -999.00,   -999,-999.0000,-999.000,  9.9692,-999.000
     316N151_2,   A24,    48,  1,      4,      4,2,19970610,0742, 55.0927, -17.2630,  879,    478.3,   9.5486,  35.3190,2,  35.3195,2,    226.7,2,    227.2,2,     7.39,2,    14.50,2,     0.01,2,     0.94,2,    2.919,2,    1.496,2,    1.446,2,   1.8274,2,     2.08,2,   2148.5,2,   -999.0,9,   2327.6,2,     7.78,3,25, -999.00,   -999,  0.0000,   0.200,  9.4936,   0.025
     316N151_2,   A24,    48,  1,      3,      3,2,19970610,0742, 55.0927, -17.2630,  879,    614.1,   9.3442,  35.3454,2,  35.3463,2,    252.8,2,    254.2,2,     6.08,2,    12.67,2,     0.01,2,     0.83,2,    3.495,2,    1.804,2,    1.535,2,-999.0000,5,  -999.00,5,   2141.9,2,   -999.0,9,   2329.7,2,     7.79,2,25, -999.00,   -999,-999.0000,-999.000,  9.2740,   0.027
     316N151_2,   A24,    48,  1,      2,      2,2,19970610,0742, 55.0927, -17.2630,  879,    756.3,   8.6809,  35.2868,2,  35.2875,2,    243.4,2,    244.5,2,     7.46,2,    14.29,2,     0.01,2,     0.93,2,    3.195,2,    1.629,2,    1.411,2,   1.8150,2,     2.00,2,   2148.6,2,   -999.0,9,   2325.7,2,     7.77,2,25, -999.00,   -999,  0.0000,   0.200,  8.5975,   0.028
     316N151_2,   A24,    48,  1,      1,      1,2,19970610,0742, 55.0927, -17.2630,  879,    875.2,   8.1925,  35.2561,2,  35.2518,2,    235.4,2,    234.5,2,     8.95,2,    15.66,2,     0.01,2,     1.02,2,    2.869,2,    1.430,2,   -3.081,4,   0.0015,4,  9355.73,4,   2156.6,2,   -999.0,9,   2326.6,2,     7.75,2,25, -999.00,   -999,  0.0000,   0.260,  8.0985,   0.051