BOTTLE,20220629CCHSIOAMB
EXPOCODE,SECT_ID,STNNBR,CASTNO,SAMPNO,BTLNBR,BTLNBR_FLAG_W,DATE,TIME,LATITUDE,LONGITUDE,DEPTH,CTDPRS,CTDTMP,CTDSAL,CTDSAL_FLAG_W,SALNTY,SALNTY_FLAG_W,CTDOXY,CTDOXY_FLAG_W,OXYGEN,OXYGEN_FLAG_W,SILCAT,SILCAT_FLAG_W,NITRAT,NITRAT_FLAG_W,NITRIT,NITRIT_FLAG_W,PHSPHT,PHSPHT_FLAG_W,CFC-11,CFC-11_FLAG_W,CFC-12,CFC-12_FLAG_W,TRITUM,TRITUM_FLAG_W,HELIUM,HELIUM_FLAG_W,DELHE3,DELHE3_FLAG_W,TCARBN,TCARBN_FLAG_W,PCO2,PCO2_FLAG_W,ALKALI,ALKALI_FLAG_W,PH,PH_FLAG_W,PH_TMP,PCO2TMP,CTDRAW,HELIER,DELHER,THETA,TRITER
,,,,,,,,,,,,DBAR,ITS-90,PSS-78,,PSS-78,,UMOL/KG,,UMOL/KG,,UMOL/KG,,UMOL/KG,,UMOL/KG,,UMOL/KG,,PMOL/KG,,PMOL/KG,,TU,,NMOL/KG,,PERCNT,,UMOL/KG,,UATM,,UMOL/KG,,,,DEG C,DEG C,,NMOL/KG,PERCNT,DEG C,TU
     316N151_2,   A24,    73,  1,     20,     20,2,19970614,1050, 59.8672, -23.9530, 2320,      2.4,  10.9749,  35.2373,2,  35.2200,2,    280.9,2,    304.8,2,     0.64,2,     3.65,2,     0.12,2,     0.29,2,    3.722,2,    1.980,2, -999.000,9,-999.0000,9,  -999.00,9,   2071.4,2,    430.1,2,   2323.7,6,     7.93,6,25,   20.00,   -999,-999.0000,-999.000, 10.9746,-999.000
     316N151_2,   A24,    73,  1,     19,     19,2,19970614,1050, 59.8672, -23.9530, 2320,     29.2,  10.0338,  35.2073,2,  35.2053,2,    270.6,2,    284.4,2,     1.11,2,     5.75,2,     0.13,2,     0.44,2, -999.000,9, -999.000,9, -999.000,9,-999.0000,9,  -999.00,9,   2091.5,2,    482.7,2,   2322.5,2,     7.89,2,25,   20.00,   -999,-999.0000,-999.000, 10.0304,-999.000
     316N151_2,   A24,    73,  1,     18,     18,2,19970614,1050, 59.8672, -23.9530, 2320,     64.7,   9.3420,  35.1824,2,  35.1871,2,    264.2,2,    280.2,2,     2.52,2,     7.91,2,     0.13,2,     0.62,2,    3.926,2,    2.057,2, -999.000,9,-999.0000,9,  -999.00,9,   2107.9,2,    524.4,2,   2323.2,2,     7.85,2,25,   20.00,   -999,-999.0000,-999.000,  9.3348,-999.000
     316N151_2,   A24,    73,  1,     17,     17,2,19970614,1050, 59.8672, -23.9530, 2320,    114.6,   8.2468,  35.1525,2,  35.1606,2,    252.9,2,    271.4,2,     6.87,2,    12.66,2,     0.18,2,     0.87,2, -999.000,9, -999.000,9, -999.000,9,-999.0000,9,  -999.00,9,   2131.4,2,    613.2,2,   2319.1,2,     7.80,2,25,   20.00,   -999,-999.0000,-999.000,  8.2350,-999.000
     316N151_2,   A24,    73,  1,     16,     16,2,19970614,1050, 59.8672, -23.9530, 2320,    185.0,   7.4793,  35.0687,2,  35.0690,2,    255.5,2,    257.4,2,     8.47,2,    14.86,2,     0.05,2,     1.00,2,    3.505,2,    1.822,2, -999.000,9,-999.0000,9,  -999.00,9,   2142.4,2,    663.1,2,   2319.9,2,     7.76,2,25,   20.00,   -999,-999.0000,-999.000,  7.4612,-999.000
     316N151_2,   A24,    73,  1,     15,     15,2,19970614,1050, 59.8672, -23.9530, 2320,    224.6,   7.5327,  35.1079,2,  35.1070,2,    259.2,2,    260.7,2,  -999.00,9,  -999.00,9,  -999.00,9,  -999.00,9, -999.000,9, -999.000,9, -999.000,9,-999.0000,9,  -999.00,9,   2138.4,2,    661.3,2,   2316.4,2,     7.77,2,25,   20.00,   -999,-999.0000,-999.000,  7.5106,-999.000
     316N151_2,   A24,    73,  1,     14,     14,2,19970614,1050, 59.8672, -23.9530, 2320,    355.1,   7.5582,  35.1550,2,  35.1494,2,    269.0,2,    269.3,2,     7.60,2,    14.15,2,     0.00,2,     0.94,2,    3.746,2,    1.970,2, -999.000,9,-999.0000,9,  -999.00,9,   2140.3,2,    643.7,2,   2321.0,2,     7.77,2,25,   20.00,   -999,-999.0000,-999.000,  7.5229,-999.000
     316N151_2,   A24,    73,  1,     13,     13,2,19970614,1050, 59.8672, -23.9530, 2320,    456.8,   7.1258,  35.1093,2,  35.1125,2,    257.0,2,    258.8,2,     8.54,2,    15.23,2,     0.00,2,     1.02,2,    3.482,2,    1.817,2, -999.000,9,-999.0000,9,  -999.00,9,   2147.6,2,    674.6,2,   2315.7,2,     7.76,2,25,   20.00,   -999,-999.0000,-999.000,  7.0817,-999.000
     316N151_2,   A24,    73,  1,     12,     12,2,19970614,1050, 59.8672, -23.9530, 2320,    567.3,   6.2992,  35.0092,2,  35.0320,2,    240.7,2,    232.7,2,    11.00,2,    17.77,2,     0.00,2,     1.18,2,    2.800,2,    1.396,2, -999.000,9,-999.0000,9,  -999.00,9,   2163.4,2,    755.6,2,   2313.8,2,     7.71,2,25,   20.00,   -999,-999.0000,-999.000,  6.2476,-999.000
     316N151_2,   A24,    73,  1,     11,     11,2,19970614,1050, 59.8672, -23.9530, 2320,    667.7,   5.9085,  35.0347,2,  35.0310,2,    229.7,2,    227.4,2,    11.84,2,    18.48,2,     0.00,2,     1.23,2,    2.512,2,    1.228,2, -999.000,9,-999.0000,9,  -999.00,9,   2169.1,2,    779.6,2,   2313.9,2,     7.70,2,25,   20.00,   -999,-999.0000,-999.000,  5.8493,-999.000
     316N151_2,   A24,    73,  1,     10,     10,2,19970614,1050, 59.8672, -23.9530, 2320,    717.8,   5.6170,  35.0224,2,  35.0210,2,    231.0,2,    236.1,2,    11.64,2,    18.05,2,     0.00,2,     1.20,2,    2.601,2,    1.284,2, -999.000,9,-999.0000,9,  -999.00,9,   2168.0,2,    773.6,2,   2313.4,2,     7.70,2,25,   20.00,   -999,-999.0000,-999.000,  5.5546,-999.000
     316N151_2,   A24,    73,  1,      9,      9,2,19970614,1050, 59.8672, -23.9530, 2320,    849.4,   4.9252,  34.9849,2,  34.9852,2,    233.5,2,    242.3,2,    12.00,2,    18.33,2,     0.00,2,     1.22,2,    2.505,2,    1.200,2, -999.000,9,-999.0000,9,  -999.00,9,   2165.6,2,    781.5,2,   2310.9,2,     7.70,2,25,   20.00,   -999,-999.0000,-999.000,  4.8551,-999.000
     316N151_2,   A24,    73,  1,      8,      8,2,19970614,1050, 59.8672, -23.9530, 2320,   1011.3,   4.2675,  34.9422,2,  34.9429,2,    247.6,2,    255.1,2,    11.99,2,    18.10,2,     0.00,2,     1.21,2,    2.549,2,    1.220,2, -999.000,9,-999.0000,9,  -999.00,9,   2163.7,2,    779.3,2,   2308.7,2,     7.70,2,25,   20.00,   -999,-999.0000,-999.000,  4.1881,-999.000
     316N151_2,   A24,    73,  1,      7,      7,2,19970614,1050, 59.8672, -23.9530, 2320,   1212.4,   3.8326,  34.9146,2,  34.9138,2,    263.6,2,    267.5,2,    11.79,2,    17.63,2,     0.00,2,     1.18,2,    2.525,2,    1.205,2, -999.000,9,-999.0000,9,  -999.00,9,   2157.7,2,    770.7,2,   2305.5,2,     7.71,2,25,   20.00,   -999,-999.0000,-999.000,  3.7397,-999.000
     316N151_2,   A24,    73,  1,      6,      6,2,19970614,1050, 59.8672, -23.9530, 2320,   1415.2,   3.5509,  34.8993,2,  34.8982,2,    271.9,2,    275.5,2,    11.68,2,    17.25,2,     0.00,2,     1.16,2, -999.000,9, -999.000,9, -999.000,9,-999.0000,9,  -999.00,9,   2156.2,2,    757.6,2,   2305.5,2,     7.72,2,25,   20.00,   -999,-999.0000,-999.000,  3.4434,-999.000
     316N151_2,   A24,    73,  1,      5,      5,2,19970614,1050, 59.8672, -23.9530, 2320,   1617.7,   3.3520,  34.8916,2,  34.8910,2,    277.2,2,    280.3,2,    11.66,2,    17.01,2,     0.00,2,     1.15,2, -999.000,9, -999.000,9, -999.000,9,-999.0000,9,  -999.00,9,   2153.0,2,    749.4,2,   2307.8,2,     7.71,2,25,   20.00,   -999,-999.0000,-999.000,  3.2291,-999.000
     316N151_2,   A24,    73,  1,      4,      4,2,19970614,1050, 59.8672, -23.9530, 2320,   1820.7,   3.3841,  34.9343,2,  34.9348,2,    276.3,2,    275.0,2,    12.03,2,    16.59,2,     0.00,2,     1.12,2,    2.117,2,    1.025,2, -999.000,9,-999.0000,9,  -999.00,9,   2154.6,2,    744.4,2,   2311.3,2,     7.72,2,25,   20.00,   -999,-999.0000,-999.000,  3.2425,-999.000
     316N151_2,   A24,    73,  1,      3,      3,2,19970614,1050, 59.8672, -23.9530, 2320,   2023.3,   3.1793,  34.9551,2,  34.9530,2,    271.4,2,    272.1,2,    13.63,2,    16.59,2,     0.00,2,     1.13,2,    1.725,2,    0.838,2, -999.000,9,-999.0000,9,  -999.00,9,   2155.5,2,    747.4,2,   2313.5,2,     7.72,2,25,   20.00,   -999,-999.0000,-999.000,  3.0218,-999.000
     316N151_2,   A24,    73,  1,      2,      2,2,19970614,1050, 59.8672, -23.9530, 2320,   2225.6,   2.8861,  34.9653,2,  34.9646,2,    269.6,2,    272.8,2,    14.38,2,    16.25,2,     0.00,2,     1.11,2,    2.009,2,    0.978,2, -999.000,9,-999.0000,9,  -999.00,9,   2162.2,2,    749.6,2,   2315.5,2,     7.71,2,25,   20.00,   -999,-999.0000,-999.000,  2.7144,-999.000
     316N151_2,   A24,    73,  1,      1,      1,2,19970614,1050, 59.8672, -23.9530, 2320,   2332.1,   2.6286,  34.9678,2,  34.9681,2,    274.9,2,    276.7,2,    12.85,2,    15.64,2,     0.00,2,     1.07,2,    2.380,2,    1.165,2, -999.000,9,-999.0000,9,  -999.00,9,   2161.5,2,    759.0,2,   2314.0,2,     7.71,2,25,   20.00,   -999,-999.0000,-999.000,  2.4513,-999.000
     316N151_2,   A24,    74,  1,     21,     21,2,19970614,1424, 60.0000, -24.6668, 2264,      1.5,  10.1785,  35.1708,2,  35.2101,2,    262.3,2,    308.3,2,     0.58,2,     5.06,2,     0.14,2,     0.37,2, -999.000,9, -999.000,9, -999.000,9,-999.0000,9,  -999.00,9,   2103.2,2,   -999.0,9,   -999.0,9,  -999.00,9,25, -999.00,   -999,-999.0000,-999.000, 10.1783,-999.000
     316N151_2,   A24,    74,  1,     20,     20,2,19970614,1424, 60.0000, -24.6668, 2264,     34.6,   9.5054,  35.1974,2,  35.1847,2,    264.5,2,    284.5,2,     1.71,2,     7.77,2,     0.15,2,     0.56,2, -999.000,9, -999.000,9, -999.000,9,-999.0000,9,  -999.00,9,   -999.0,9,   -999.0,9,   2320.0,6,     7.86,2,25, -999.00,   -999,-999.0000,-999.000,  9.5015,-999.000
     316N151_2,   A24,    74,  1,     19,     19,2,19970614,1424, 60.0000, -24.6668, 2264,    104.5,   8.3119,  35.1622,2,  35.1644,2,    268.2,2,    271.8,2,     6.74,2,    12.53,2,     0.18,2,     0.85,2, -999.000,9, -999.000,9, -999.000,9,-999.0000,9,  -999.00,9,   -999.0,9,   -999.0,9,   -999.0,9,  -999.00,9,25, -999.00,   -999,-999.0000,-999.000,  8.3011,-999.000
     316N151_2,   A24,    74,  1,     18,     18,2,19970614,1424, 60.0000, -24.6668, 2264,    154.4,   7.6320,  35.0989,2,  35.1065,2,    271.1,2,    268.2,2,     7.78,2,    14.12,2,     0.09,2,     0.95,2, -999.000,9, -999.000,9, -999.000,9,-999.0000,9,  -999.00,9,   -999.0,9,   -999.0,9,   -999.0,9,  -999.00,9,25, -999.00,   -999,-999.0000,-999.000,  7.6169,-999.000
     316N151_2,   A24,    74,  1,     17,     17,2,19970614,1424, 60.0000, -24.6668, 2264,    205.3,   7.4868,  35.1104,2,  35.1109,2,    264.1,2,    267.5,2,     7.86,2,    14.48,2,     0.01,2,     0.96,2, -999.000,9, -999.000,9, -999.000,9,-999.0000,9,  -999.00,9,   -999.0,9,   -999.0,9,   -999.0,9,  -999.00,9,25, -999.00,   -999,-999.0000,-999.000,  7.4667,-999.000
     316N151_2,   A24,    74,  1,     16,     16,2,19970614,1424, 60.0000, -24.6668, 2264,    255.7,   7.4374,  35.1412,2,  35.1248,2,    260.9,2,    268.5,2,     7.85,2,    14.48,2,     0.01,2,     0.97,2, -999.000,9, -999.000,9, -999.000,9,-999.0000,9,  -999.00,9,   -999.0,9,   -999.0,9,   -999.0,9,  -999.00,9,25, -999.00,   -999,-999.0000,-999.000,  7.4124,-999.000
     316N151_2,   A24,    74,  1,     15,     15,2,19970614,1424, 60.0000, -24.6668, 2264,    356.1,   7.1460,  35.0978,2,  35.1012,2,    265.2,2,    256.9,2,     8.70,2,    15.52,2,     0.01,2,     1.03,2, -999.000,9, -999.000,9, -999.000,9,-999.0000,9,  -999.00,9,   -999.0,9,   -999.0,9,   -999.0,9,  -999.00,9,25, -999.00,   -999,-999.0000,-999.000,  7.1118,-999.000
     316N151_2,   A24,    74,  1,     14,     14,2,19970614,1424, 60.0000, -24.6668, 2264,    456.3,   6.8509,  35.0826,2,  35.0801,2,    265.0,2,    245.9,2,     9.73,2,    16.56,2,     0.00,2,     1.10,2,    3.172,2,    1.625,2, -999.000,9,-999.0000,9,  -999.00,9,   -999.0,9,   -999.0,9,   -999.0,9,  -999.00,9,25, -999.00,   -999,-999.0000,-999.000,  6.8078,-999.000
     316N151_2,   A24,    74,  1,     13,     13,2,19970614,1424, 60.0000, -24.6668, 2264,    557.7,   6.5314,  35.0673,2,  35.0101,3,    254.9,2,    250.4,2,     9.72,2,    16.51,2,     0.00,2,     1.10,2, -999.000,9, -999.000,9, -999.000,9,-999.0000,9,  -999.00,9,   -999.0,9,   -999.0,9,   -999.0,9,  -999.00,9,25, -999.00,   -999,-999.0000,-999.000,  6.4797,-999.000
     316N151_2,   A24,    74,  1,     12,     12,2,19970614,1424, 60.0000, -24.6668, 2264,    657.7,   5.9946,  35.0286,2,  35.0315,2,    238.9,2,    236.1,2,    11.14,2,    17.93,2,     0.00,2,     1.18,2, -999.000,9, -999.000,9, -999.000,9,-999.0000,9,  -999.00,9,   -999.0,9,   -999.0,9,   -999.0,9,  -999.00,9,25, -999.00,   -999,-999.0000,-999.000,  5.9359,-999.000
     316N151_2,   A24,    74,  1,     11,     11,2,19970614,1424, 60.0000, -24.6668, 2264,    759.1,   5.4752,  35.0077,2,  35.0079,2,    237.1,2,    237.0,2,    11.70,2,    18.31,2,     0.00,2,     1.21,2,    2.646,2,    1.285,2, -999.000,9,-999.0000,9,  -999.00,9,   -999.0,9,   -999.0,9,   -999.0,9,  -999.00,9,25, -999.00,   -999,-999.0000,-999.000,  5.4099,-999.000
     316N151_2,   A24,    74,  1,     10,     10,2,19970614,1424, 60.0000, -24.6668, 2264,    860.6,   4.9681,  34.9878,2,  34.9906,2,    243.5,2,    244.0,2,    11.70,2,    18.12,2,     0.00,2,     1.20,2, -999.000,9, -999.000,9, -999.000,9,-999.0000,9,  -999.00,9,   -999.0,9,   -999.0,9,   -999.0,9,  -999.00,9,25, -999.00,   -999,-999.0000,-999.000,  4.8968,-999.000
     316N151_2,   A24,    74,  1,      9,      9,2,19970614,1424, 60.0000, -24.6668, 2264,    963.8,   4.5974,  34.9699,2,  34.9717,2,    251.4,2,    251.9,2,    11.59,2,    17.84,2,     0.00,2,     1.18,2, -999.000,9, -999.000,9, -999.000,9,-999.0000,9,  -999.00,9,   -999.0,9,   -999.0,9,   -999.0,9,  -999.00,9,25, -999.00,   -999,-999.0000,-999.000,  4.5196,-999.000
     316N151_2,   A24,    74,  1,      8,      8,2,19970614,1424, 60.0000, -24.6668, 2264,   1061.9,   4.2552,  34.9416,2,  34.9440,2,    256.5,2,    258.1,2,    11.77,2,    17.98,2,     0.00,2,     1.19,2, -999.000,9, -999.000,9, -999.000,9,-999.0000,9,  -999.00,9,   -999.0,9,   -999.0,9,   -999.0,9,  -999.00,9,25, -999.00,   -999,-999.0000,-999.000,  4.1715,-999.000
     316N151_2,   A24,    74,  1,      7,      7,2,19970614,1424, 60.0000, -24.6668, 2264,   1163.6,   4.0452,  34.9277,2,  34.9275,2,    257.9,2,    262.9,2,    11.76,2,    17.84,2,     0.00,2,     1.18,2,    2.530,2,    1.200,2, -999.000,9,-999.0000,9,  -999.00,9,   -999.0,9,   -999.0,9,   -999.0,9,  -999.00,9,25, -999.00,   -999,-999.0000,-999.000,  3.9545,-999.000
     316N151_2,   A24,    74,  1,      6,      6,2,19970614,1424, 60.0000, -24.6668, 2264,   1315.7,   3.7882,  34.9145,2,  34.9168,2,    267.4,2,    271.0,2,    11.47,2,    17.38,2,     0.00,2,     1.16,2, -999.000,9, -999.000,9, -999.000,9,-999.0000,9,  -999.00,9,   -999.0,9,   -999.0,9,   -999.0,9,  -999.00,9,25, -999.00,   -999,-999.0000,-999.000,  3.6867,-999.000
     316N151_2,   A24,    74,  1,      5,      5,2,19970614,1424, 60.0000, -24.6668, 2264,   1517.1,   3.5306,  34.9038,2,  34.9054,2,    273.1,2,    276.2,2,    11.46,2,    17.05,2,     0.00,2,     1.14,2,    2.496,2,    1.197,2, -999.000,9,-999.0000,9,  -999.00,9,   -999.0,9,   -999.0,9,   -999.0,9,  -999.00,9,25, -999.00,   -999,-999.0000,-999.000,  3.4144,-999.000
     316N151_2,   A24,    74,  1,      4,      4,2,19970614,1424, 60.0000, -24.6668, 2264,   1722.5,   3.4677,  34.9324,2,  34.9348,2,    272.8,2,    275.4,2,    11.54,2,    16.53,2,     0.00,2,     1.11,2, -999.000,9, -999.000,9, -999.000,9,-999.0000,9,  -999.00,9,   -999.0,9,   -999.0,9,   -999.0,9,  -999.00,9,25, -999.00,   -999,-999.0000,-999.000,  3.3339,-999.000
     316N151_2,   A24,    74,  1,      3,      3,2,19970614,1424, 60.0000, -24.6668, 2264,   1922.8,   3.3028,  34.9676,2,  34.9684,2,    272.8,2,    274.5,2,    11.34,2,    15.92,2,     0.00,2,     1.07,2,    2.400,2,    1.164,2, -999.000,9,-999.0000,9,  -999.00,9,   -999.0,9,   -999.0,9,   -999.0,9,  -999.00,9,25, -999.00,   -999,-999.0000,-999.000,  3.1527,-999.000
     316N151_2,   A24,    74,  1,      2,      2,2,19970614,1424, 60.0000, -24.6668, 2264,   2123.8,   2.8949,  34.9682,2,  34.9702,2,    273.9,2,    276.8,2,    12.00,2,    15.74,2,     0.00,2,     1.06,2,    2.420,2,    1.168,2, -999.000,9,-999.0000,9,  -999.00,9,   -999.0,9,   -999.0,9,   -999.0,9,  -999.00,9,25, -999.00,   -999,-999.0000,-999.000,  2.7325,-999.000
     316N151_2,   A24,    74,  1,      1,      1,2,19970614,1424, 60.0000, -24.6668, 2264,   2272.1,   2.7234,  34.9675,2,  34.9680,2,    277.2,2,    277.0,2,    12.47,2,    15.64,2,     0.00,2,     1.06,2,    2.371,2,    1.159,2, -999.000,9,-999.0000,9,  -999.00,9,   -999.0,9,   -999.0,9,   -999.0,9,  -999.00,9,25, -999.00,   -999,-999.0000,-999.000,  2.5500,-999.000