BOTTLE,20220629CCHSIOAMB
EXPOCODE,SECT_ID,STNNBR,CASTNO,SAMPNO,BTLNBR,BTLNBR_FLAG_W,DATE,TIME,LATITUDE,LONGITUDE,DEPTH,CTDPRS,CTDTMP,CTDSAL,CTDSAL_FLAG_W,SALNTY,SALNTY_FLAG_W,CTDOXY,CTDOXY_FLAG_W,OXYGEN,OXYGEN_FLAG_W,SILCAT,SILCAT_FLAG_W,NITRAT,NITRAT_FLAG_W,NITRIT,NITRIT_FLAG_W,PHSPHT,PHSPHT_FLAG_W,CFC-11,CFC-11_FLAG_W,CFC-12,CFC-12_FLAG_W,TRITUM,TRITUM_FLAG_W,HELIUM,HELIUM_FLAG_W,DELHE3,DELHE3_FLAG_W,TCARBN,TCARBN_FLAG_W,PCO2,PCO2_FLAG_W,ALKALI,ALKALI_FLAG_W,PH,PH_FLAG_W,PH_TMP,PCO2TMP,CTDRAW,HELIER,DELHER,THETA,TRITER
,,,,,,,,,,,,DBAR,ITS-90,PSS-78,,PSS-78,,UMOL/KG,,UMOL/KG,,UMOL/KG,,UMOL/KG,,UMOL/KG,,UMOL/KG,,PMOL/KG,,PMOL/KG,,TU,,NMOL/KG,,PERCNT,,UMOL/KG,,UATM,,UMOL/KG,,,,DEG C,DEG C,,NMOL/KG,PERCNT,DEG C,TU
     316N151_2,   A24,    10,  1,     28,     28,2,19970601,1750, 41.7383, -22.8665, 3947,      2.7,  16.6822,  35.8857,2,  35.8870,2,    257.6,2,    247.2,2,     0.72,2,     0.05,2,     0.00,2,     0.05,2,    2.843,2,    1.523,2, -999.000,9,-999.0000,9,  -999.00,9,   2071.0,2,    379.9,2,   2359.5,6,     7.98,6,25,   20.00,   -999,-999.0000,-999.000, 16.6818,-999.000
     316N151_2,   A24,    10,  1,     29,     29,2,19970601,1750, 41.7383, -22.8665, 3947,      2.9,  16.6832,  35.8860,2,-999.0000,9,    248.1,2,   -999.0,9,  -999.00,9,  -999.00,9,  -999.00,9,  -999.00,9, -999.000,9, -999.000,9, -999.000,9,-999.0000,9,  -999.00,9,   -999.0,9,   -999.0,9,   -999.0,9,  -999.00,9,25, -999.00,   -999,-999.0000,-999.000, 16.6827,-999.000
     316N151_2,   A24,    10,  1,     27,     27,2,19970601,1750, 41.7383, -22.8665, 3947,     57.5,  14.2790,  35.8192,2,  35.8486,2,    242.8,2,    242.9,2,     1.63,2,     4.22,2,     0.16,2,     0.29,2,    3.050,2,    1.639,2, -999.000,9,-999.0000,9,  -999.00,9,   2094.5,2,    434.6,2,   2353.7,2,     7.92,2,25,   20.00,   -999,-999.0000,-999.000, 14.2705,-999.000
     316N151_2,   A24,    10,  1,     26,     26,2,19970601,1750, 41.7383, -22.8665, 3947,    157.4,  13.0602,  35.7809,2,  35.7821,2,    237.4,2,    244.1,2,     3.05,2,     7.96,2,     0.02,2,     0.49,2,    3.130,2,    1.667,2, -999.000,9,-999.0000,9,  -999.00,9,   2114.5,2,    485.0,2,   2348.9,2,     7.88,2,25,   20.00,   -999,-999.0000,-999.000, 13.0384,-999.000
     316N151_2,   A24,    10,  1,     25,     25,2,19970601,1750, 41.7383, -22.8665, 3947,    258.6,  12.6488,  35.7240,2,  35.7305,2,    244.8,2,    241.7,2,     3.55,2,     8.94,2,     0.01,2,     0.55,2,    3.085,2,    1.640,2, -999.000,9,-999.0000,9,  -999.00,9,   2119.4,2,    502.2,2,   2347.2,2,     7.87,2,25,   20.00,   -999,-999.0000,-999.000, 12.6135,-999.000
     316N151_2,   A24,    10,  1,     24,     24,2,19970601,1750, 41.7383, -22.8665, 3947,    358.4,  12.0049,  35.6146,2,  35.6142,2,    232.5,2,    237.6,2,     4.25,2,    10.33,2,     0.01,2,     0.64,2,    3.087,2,    1.626,2, -999.000,9,-999.0000,9,  -999.00,9,   2124.5,2,   -999.0,9,   2341.3,2,     7.85,2,25, -999.00,   -999,-999.0000,-999.000, 11.9576,-999.000
     316N151_2,   A24,    10,  1,     23,     23,2,19970601,1750, 41.7383, -22.8665, 3947,    458.4,  11.2661,  35.5040,2,  35.5029,2,    227.8,2,    221.2,2,     5.57,2,    12.75,2,     0.00,2,     0.80,2,    2.902,2,    1.505,2, -999.000,9,-999.0000,9,  -999.00,9,   2136.5,2,    580.5,2,   2336.7,2,     7.81,2,25,   20.00,   -999,-999.0000,-999.000, 11.2077,-999.000
     316N151_2,   A24,    10,  1,     22,     22,2,19970601,1750, 41.7383, -22.8665, 3947,    558.5,  10.1959,  35.3690,2,  35.3682,2,    206.5,2,    205.4,2,     7.61,2,    15.73,2,     0.00,2,     0.99,2,    2.526,2,    1.298,2, -999.000,9,-999.0000,9,  -999.00,9,   2151.5,2,   -999.0,9,   2328.9,2,     7.77,2,25, -999.00,   -999,-999.0000,-999.000, 10.1288,-999.000
     316N151_2,   A24,    10,  1,     21,     21,2,19970601,1750, 41.7383, -22.8665, 3947,    658.4,   9.7410,  35.3822,2,  35.3814,2,    198.8,2,    197.2,2,     8.62,2,    16.91,2,     0.00,2,     1.07,2,    2.123,2,    1.058,2, -999.000,9,-999.0000,9,  -999.00,9,   2162.2,2,    685.3,2,   2333.1,2,     7.75,2,25,   20.00,   -999,-999.0000,-999.000,  9.6636,-999.000
     316N151_2,   A24,    10,  1,     20,     20,2,19970601,1750, 41.7383, -22.8665, 3947,    758.1,   9.1630,  35.3885,2,  35.3877,2,    191.8,2,    191.5,2,     9.84,2,    17.94,2,     0.00,2,     1.14,2,    1.744,2,    0.853,2, -999.000,9,-999.0000,9,  -999.00,9,   2170.6,2,   -999.0,9,   2337.3,2,     7.74,2,25, -999.00,   -999,-999.0000,-999.000,  9.0766,-999.000
     316N151_2,   A24,    10,  1,     19,     19,2,19970601,1750, 41.7383, -22.8665, 3947,    858.0,   8.6554,  35.4113,2,  35.4098,2,    188.6,2,    192.9,2,    10.55,2,    18.19,2,     0.00,2,     1.16,2,    1.561,2,    0.768,2, -999.000,9,-999.0000,9,  -999.00,9,   2177.0,2,    721.1,2,   2339.3,2,     7.73,2,25,   20.00,   -999,-999.0000,-999.000,  8.5603,-999.000
     316N151_2,   A24,    10,  1,     18,     18,2,19970601,1750, 41.7383, -22.8665, 3947,    958.1,   8.4464,  35.4921,2,  35.4932,2,    199.3,2,    195.9,2,    10.74,2,    18.03,2,     0.00,2,     1.15,2,    1.373,2,    0.692,2, -999.000,9,-999.0000,9,  -999.00,9,   2179.7,2,   -999.0,9,   2345.1,2,     7.74,2,25, -999.00,   -999,-999.0000,-999.000,  8.3409,-999.000
     316N151_2,   A24,    10,  1,     17,     17,2,19970601,1750, 41.7383, -22.8665, 3947,   1057.9,   7.6491,  35.4518,2,  35.4514,2,    210.5,2,    206.7,2,    11.04,2,    17.92,2,     0.00,2,     1.15,2,    1.382,2,    0.674,2, -999.000,9,-999.0000,9,  -999.00,9,   2180.2,2,    725.0,2,   2344.7,2,     7.73,2,25,   20.00,   -999,-999.0000,-999.000,  7.5382,-999.000
     316N151_2,   A24,    10,  1,     16,     16,2,19970601,1750, 41.7383, -22.8665, 3947,   1209.6,   6.4505,  35.3090,2,  35.3064,2,    220.8,2,    224.0,2,    11.24,2,    17.92,2,     0.00,2,     1.16,2,    1.479,2,    0.714,2, -999.000,9,-999.0000,9,  -999.00,9,   2175.1,2,   -999.0,9,   2334.0,2,     7.72,2,25, -999.00,   -999,-999.0000,-999.000,  6.3333,-999.000
     316N151_2,   A24,    10,  1,     15,     15,2,19970601,1750, 41.7383, -22.8665, 3947,   1358.3,   5.1038,  35.1142,2,  35.1148,2,    244.7,2,    243.9,2,    11.44,2,    17.86,2,     0.00,2,     1.17,2,    1.662,2,    0.797,2, -999.000,9,-999.0000,9,  -999.00,9,   2166.9,2,    747.8,2,   2321.7,2,     7.71,2,25,   20.00,   -999,-999.0000,-999.000,  4.9848,-999.000
     316N151_2,   A24,    10,  1,     14,     14,2,19970601,1750, 41.7383, -22.8665, 3947,   1505.0,   4.3762,  35.0117,2,  35.0112,2,    258.7,2,    257.6,2,    11.53,2,    17.71,2,     0.00,2,     1.16,2,    1.694,2,    0.802,2, -999.000,9,-999.0000,9,  -999.00,9,   2161.2,2,   -999.0,9,   2313.7,2,     7.72,2,25, -999.00,   -999,-999.0000,-999.000,  4.2512,-999.000
     316N151_2,   A24,    10,  1,     13,     13,2,19970601,1750, 41.7383, -22.8665, 3947,   1653.6,   4.0494,  34.9760,2,  34.9768,2,    259.6,2,    263.9,2,    11.62,2,    17.55,2,     0.00,2,     1.17,2,    1.577,2,    0.767,2, -999.000,9,-999.0000,9,  -999.00,9,   2159.3,2,    747.7,2,   2311.9,2,     7.71,2,25,   20.00,   -999,-999.0000,-999.000,  3.9144,-999.000
     316N151_2,   A24,    10,  1,     12,     12,2,19970601,1750, 41.7383, -22.8665, 3947,   1803.7,   3.8074,  34.9494,2,  34.9502,2,    267.5,2,    268.6,2,    11.92,2,    17.49,2,     0.00,2,     1.16,2,    1.565,2,    0.751,2, -999.000,9,-999.0000,9,  -999.00,9,   2156.8,2,   -999.0,9,   2310.7,2,     7.72,2,25, -999.00,   -999,-999.0000,-999.000,  3.6615,-999.000
     316N151_2,   A24,    10,  1,     11,     11,2,19970601,1750, 41.7383, -22.8665, 3947,   1953.6,   3.6393,  34.9452,2,  34.9443,2,    268.7,2,    269.0,2,    12.84,2,    17.59,2,     0.00,2,     1.17,2,    1.214,2,    0.606,2, -999.000,9,-999.0000,9,  -999.00,9,   2154.5,2,    740.1,2,   2311.0,2,     7.72,2,25,   20.00,   -999,-999.0000,-999.000,  3.4816,-999.000
     316N151_2,   A24,    10,  1,     10,     10,2,19970601,1750, 41.7383, -22.8665, 3947,   2102.5,   3.5369,  34.9486,2,  34.9486,2,    270.1,2,    267.4,2,    14.06,2,    17.63,2,     0.00,2,     1.17,2,    0.987,2,    0.491,2, -999.000,9,-999.0000,9,  -999.00,9,   2157.3,2,   -999.0,9,   2312.2,2,     7.72,2,25, -999.00,   -999,-999.0000,-999.000,  3.3665,-999.000
     316N151_2,   A24,    10,  1,      9,      9,2,19970601,1750, 41.7383, -22.8665, 3947,   2299.5,   3.3354,  34.9557,2,  34.9576,2,    263.1,2,    263.7,2,    17.24,2,    17.94,2,     0.00,2,     1.20,2,    0.631,2,    0.325,2, -999.000,9,-999.0000,9,  -999.00,9,   2162.0,2,    738.4,2,   2317.4,2,     7.72,2,25,   20.00,   -999,-999.0000,-999.000,  3.1492,-999.000
     316N151_2,   A24,    10,  1,      8,      8,2,19970601,1750, 41.7383, -22.8665, 3947,   2499.8,   3.1550,  34.9518,2,  34.9533,2,    262.3,2,    261.7,2,    19.91,2,    18.24,2,     0.00,2,     1.23,2,    0.542,2,    0.273,2, -999.000,9,-999.0000,9,  -999.00,9,   2166.0,2,   -999.0,9,   2320.4,2,     7.72,2,25, -999.00,   -999,-999.0000,-999.000,  2.9522,-999.000
     316N151_2,   A24,    10,  1,      7,      7,2,19970601,1750, 41.7383, -22.8665, 3947,   2699.9,   2.9911,  34.9480,2,  34.9481,2,    259.8,2,    258.8,2,    23.30,2,    18.70,2,     0.00,2,     1.26,2,    0.486,2,    0.262,2, -999.000,9,-999.0000,9,  -999.00,9,   2171.3,2,    743.0,2,   2327.7,2,     7.72,2,25,   20.00,   -999,-999.0000,-999.000,  2.7714,-999.000
     316N151_2,   A24,    10,  1,      6,      6,2,19970601,1750, 41.7383, -22.8665, 3947,   2901.3,   2.8803,  34.9440,2,  34.9446,2,    255.6,2,    255.2,2,    27.01,2,    19.31,2,     0.00,2,     1.30,2,    0.375,2,    0.198,2, -999.000,9,-999.0000,9,  -999.00,9,   2175.4,2,   -999.0,9,   2330.7,2,     7.72,2,25, -999.00,   -999,-999.0000,-999.000,  2.6424,-999.000
     316N151_2,   A24,    10,  1,      5,      5,2,19970601,1750, 41.7383, -22.8665, 3947,   3104.7,   2.7854,  34.9374,2,  34.9375,2,    251.0,2,    252.1,2,    30.20,2,    19.81,2,     0.00,2,     1.34,2,    0.338,2,    0.191,2, -999.000,9,-999.0000,9,  -999.00,9,   2183.0,2,    755.9,2,   2336.1,2,     7.71,2,25,   20.00,   -999,-999.0000,-999.000,  2.5283,-999.000
     316N151_2,   A24,    10,  1,      4,      4,2,19970601,1750, 41.7383, -22.8665, 3947,   3310.9,   2.7178,  34.9316,2,  34.9310,2,    248.0,2,    248.9,2,    33.29,2,    20.37,2,     0.00,2,     1.38,2, -999.000,9, -999.000,9, -999.000,9,-999.0000,9,  -999.00,9,   2185.4,2,   -999.0,9,   2340.5,2,     7.72,2,25, -999.00,   -999,-999.0000,-999.000,  2.4404,-999.000
     316N151_2,   A24,    10,  1,      3,      3,2,19970601,1750, 41.7383, -22.8665, 3947,   3571.1,   2.6482,  34.9235,2,  34.9229,2,    243.8,2,    245.3,2,    37.11,2,    21.03,2,     0.00,2,     1.43,2,    0.167,2,    0.083,2, -999.000,9,-999.0000,9,  -999.00,9,   2191.5,2,    762.0,2,   2346.3,2,     7.71,2,25,   20.00,   -999,-999.0000,-999.000,  2.3442,-999.000
     316N151_2,   A24,    10,  1,      2,      2,2,19970601,1750, 41.7383, -22.8665, 3947,   3830.9,   2.6171,  34.9176,2,  34.9184,2,    240.4,2,    243.5,2,    39.48,2,    21.44,2,     0.00,2,     1.45,2,    0.118,2,    0.072,2, -999.000,9,-999.0000,9,  -999.00,9,   2194.8,2,   -999.0,9,   2349.3,2,     7.71,2,25, -999.00,   -999,-999.0000,-999.000,  2.2849,-999.000
     316N151_2,   A24,    10,  1,      1,      1,2,19970601,1750, 41.7383, -22.8665, 3947,   4037.6,   2.6295,  34.9162,2,  34.9213,4,    242.9,2,    242.4,2,    40.00,2,    21.59,2,     0.00,2,     1.47,2,    0.103,2,    0.057,2, -999.000,9,-999.0000,9,  -999.00,9,   2195.9,2,    765.6,2,   2351.7,2,     7.71,2,25,   20.00,   -999,-999.0000,-999.000,  2.2732,-999.000