BOTTLE,20220629CCHSIOAMB
EXPOCODE,SECT_ID,STNNBR,CASTNO,SAMPNO,BTLNBR,BTLNBR_FLAG_W,DATE,TIME,LATITUDE,LONGITUDE,DEPTH,CTDPRS,CTDTMP,CTDSAL,CTDSAL_FLAG_W,SALNTY,SALNTY_FLAG_W,CTDOXY,CTDOXY_FLAG_W,OXYGEN,OXYGEN_FLAG_W,SILCAT,SILCAT_FLAG_W,NITRAT,NITRAT_FLAG_W,NITRIT,NITRIT_FLAG_W,PHSPHT,PHSPHT_FLAG_W,CFC-11,CFC-11_FLAG_W,CFC-12,CFC-12_FLAG_W,TRITUM,TRITUM_FLAG_W,HELIUM,HELIUM_FLAG_W,DELHE3,DELHE3_FLAG_W,TCARBN,TCARBN_FLAG_W,PCO2,PCO2_FLAG_W,ALKALI,ALKALI_FLAG_W,PH,PH_FLAG_W,PH_TMP,PCO2TMP,CTDRAW,HELIER,DELHER,THETA,TRITER
,,,,,,,,,,,,DBAR,ITS-90,PSS-78,,PSS-78,,UMOL/KG,,UMOL/KG,,UMOL/KG,,UMOL/KG,,UMOL/KG,,UMOL/KG,,PMOL/KG,,PMOL/KG,,TU,,NMOL/KG,,PERCNT,,UMOL/KG,,UATM,,UMOL/KG,,,,DEG C,DEG C,,NMOL/KG,PERCNT,DEG C,TU
     316N151_2,   A24,   146,  1,     27,     27,2,19970627,1932, 40.9508, -28.0652, 2871,      3.1,  19.6250,  36.0645,2,  36.0635,2,    258.3,2,    238.2,2,     0.72,2,     0.08,2,     0.00,2,     0.03,2,    2.587,2,    1.430,2,    1.346,2,-999.0000,5,  -999.00,5,   2065.1,2,    359.4,2,   2366.3,6,     7.99,2,25,   20.00,   -999,-999.0000,-999.000, 19.6244,   0.025
     316N151_2,   A24,   146,  1,     26,     26,2,19970627,1932, 40.9508, -28.0652, 2871,     35.0,  16.6832,  36.0201,2,  36.0185,2,    251.4,2,    249.0,2,     0.59,2,     0.08,2,     0.00,2,     0.03,2,    2.760,2,    1.507,2,    1.368,2,-999.0000,5,  -999.00,5,   2062.0,2,    354.4,2,   2359.2,2,     7.99,2,25,   20.00,   -999,-999.0000,-999.000, 16.6775,   0.024
     316N151_2,   A24,   146,  1,     25,     25,2,19970627,1932, 40.9508, -28.0652, 2871,     95.3,  15.1381,  36.0674,2,  36.0655,2,    231.4,2,    229.4,2,     1.89,2,     5.84,2,     0.02,2,     0.32,2,    2.787,2,    1.504,2,    1.472,2,-999.0000,5,  -999.00,5,   2100.5,2,    430.6,2,   2363.8,2,     7.92,2,25,   20.00,   -999,-999.0000,-999.000, 15.1235,   0.021
     316N151_2,   A24,   146,  1,     24,     24,2,19970627,1932, 40.9508, -28.0652, 2871,    146.0,  14.3662,  35.9584,2,  35.9655,2,    224.7,2,    228.7,2,     2.67,2,     7.44,2,     0.01,2,     0.43,2, -999.000,9, -999.000,9, -999.000,9,-999.0000,9,  -999.00,9,   2110.3,2,    455.8,2,   2358.3,2,     7.90,2,25,   20.00,   -999,-999.0000,-999.000, 14.3446,-999.000
     316N151_2,   A24,   146,  1,     23,     23,2,19970627,1932, 40.9508, -28.0652, 2871,    195.9,  13.9035,  35.8832,2,  35.8847,2,    223.4,2,    223.7,2,     3.16,2,     8.60,2,     0.01,2,     0.51,2,    2.754,2,    1.481,2,    1.233,3,-999.0000,5,  -999.00,5,   2114.3,2,    478.4,2,   2354.0,2,     7.88,2,25,   20.00,   -999,-999.0000,-999.000, 13.8751,   0.018
     316N151_2,   A24,   146,  1,     22,     22,2,19970627,1932, 40.9508, -28.0652, 2871,    246.5,  13.3680,  35.7930,2,  35.7966,2,    217.0,2,    216.2,2,     3.85,2,     9.95,2,     0.01,2,     0.60,2,    2.689,2,    1.417,2, -999.000,9,-999.0000,9,  -999.00,9,   2122.1,2,    506.9,2,   2349.4,2,     7.86,2,25,   20.00,   -999,-999.0000,-999.000, 13.3331,-999.000
     316N151_2,   A24,   146,  1,     21,     21,2,19970627,1932, 40.9508, -28.0652, 2871,    306.3,  12.8821,  35.7120,2,  35.7111,2,    209.6,2,    209.2,2,     4.64,2,    11.45,2,     0.01,2,     0.69,2,    2.604,2,    1.374,2,    1.459,2,-999.0000,5,  -999.00,5,   2129.2,2,    536.7,2,   2345.0,2,     7.84,2,25,   20.00,   -999,-999.0000,-999.000, 12.8398,   0.025
     316N151_2,   A24,   146,  1,     20,     20,2,19970627,1932, 40.9508, -28.0652, 2871,    404.4,  12.0599,  35.6006,2,  35.6007,2,    206.2,2,    209.4,2,     5.43,2,    12.71,2,     0.00,2,     0.79,2,    2.619,2,    1.361,2,    1.485,2,-999.0000,5,  -999.00,5,   2135.2,2,    569.9,2,   2340.7,2,     7.82,2,25,   20.00,   -999,-999.0000,-999.000, 12.0062,   0.024
     316N151_2,   A24,   146,  1,     19,     19,2,19970627,1932, 40.9508, -28.0652, 2871,    503.6,  10.9761,  35.4527,2,  35.4512,2,    193.3,2,    194.2,2,     7.35,2,    15.71,2,     0.00,2,     0.98,2,    2.282,2,    1.156,2,    1.327,2,   1.8227,2,     4.56,2,   2149.2,2,    639.5,2,   2333.4,2,     7.78,2,25,   20.00,   -999,  0.0000,   0.130, 10.9129,   0.024
     316N151_2,   A24,   146,  1,     18,     18,2,19970627,1932, 40.9508, -28.0652, 2871,    604.6,  10.0742,  35.3555,2,  35.3556,2,    185.1,2,    186.7,2,     9.06,2,    17.63,2,     0.00,2,     1.11,2,    1.952,2,    0.982,2,    1.232,2,   1.8370,2,     6.07,2,   2159.8,2,   -999.0,9,   2329.3,2,     7.75,2,25, -999.00,   -999,  0.0000,   0.130, 10.0019,   0.023
     316N151_2,   A24,   146,  1,     17,     17,2,19970627,1932, 40.9508, -28.0652, 2871,    706.5,   9.3632,  35.3480,2,  35.3461,2,    190.3,2,    191.3,2,     9.55,2,    17.91,2,     0.00,2,     1.13,2,    1.848,2,    0.920,2,    1.190,2,   1.8140,2,     7.13,2,   2164.5,2,    708.2,2,   2330.4,2,     7.73,2,25,   20.00,   -999,  0.0000,   0.130,  9.2819,   0.021
     316N151_2,   A24,   146,  1,     16,     16,2,19970627,1932, 40.9508, -28.0652, 2871,    807.6,   8.4260,  35.3145,2,  35.3154,2,    194.1,2,    193.4,2,    10.65,2,    18.66,2,     0.00,2,     1.19,2,    1.557,2,    0.776,2,    1.208,2,   1.8435,2,     9.03,2,   2171.1,2,    737.6,2,   2331.1,2,     7.73,2,25,   20.00,   -999,  0.0000,   0.130,  8.3382,   0.018
     316N151_2,   A24,   146,  1,     15,     15,2,19970627,1932, 40.9508, -28.0652, 2871,    909.2,   7.6770,  35.3238,2,  35.3256,2,    203.5,2,    202.0,2,    11.14,2,    18.57,2,     0.00,2,     1.19,2,    1.463,2,    0.713,2,    1.109,2,   1.8502,2,     9.59,2,   2175.1,2,    740.8,2,   2332.3,2,     7.71,2,25,   20.00,   -999,  0.0000,   0.130,  7.5825,   0.017
     316N151_2,   A24,   146,  1,     14,     14,2,19970627,1932, 40.9508, -28.0652, 2871,   1010.4,   6.8450,  35.2567,2,  35.2551,2,    212.5,2,    213.3,2,    11.53,2,    18.52,2,     0.00,2,     1.19,2,    1.397,2,    0.692,2,    0.667,3,   1.8352,2,    10.03,2,   2171.9,2,    745.9,2,   2328.8,2,     7.72,2,25,   20.00,   -999,  0.0000,   0.130,  6.7456,   0.013
     316N151_2,   A24,   146,  1,     13,     13,2,19970627,1932, 40.9508, -28.0652, 2871,   1161.8,   5.9142,  35.1709,2,  35.1712,2,    229.1,2,    227.7,2,    11.82,2,    18.38,2,     0.00,2,     1.19,2,    1.430,2,    0.689,2, -999.000,9,-999.0000,9,  -999.00,9,   2169.6,2,    753.8,2,   2323.4,2,     7.71,2,25,   20.00,   -999,-999.0000,-999.000,  5.8069,-999.000
     316N151_2,   A24,   146,  1,     12,     12,2,19970627,1932, 40.9508, -28.0652, 2871,   1313.9,   5.1157,  35.0877,2,  35.0889,2,    240.4,2,    241.0,2,    12.31,2,    18.14,2,     0.00,2,     1.18,2,    1.360,2,    0.658,2,    1.030,2,   1.8500,2,    11.19,2,   2166.1,2,    753.9,2,   2320.2,2,     7.72,2,25,   20.00,   -999,  0.0000,   0.130,  5.0009,   0.020
     316N151_2,   A24,   146,  1,     11,     11,2,19970627,1932, 40.9508, -28.0652, 2871,   1465.6,   4.5923,  35.0319,2,  35.0306,2,    253.8,2,    251.2,2,    12.09,2,    17.96,2,     0.00,2,     1.18,2,    1.540,2,    0.733,2,    1.079,2,   1.8121,2,     9.79,2,   2162.2,2,   -999.0,9,   2315.9,2,     7.72,2,25, -999.00,   -999,  0.0000,   0.110,  4.4686,   0.016
     316N151_2,   A24,   146,  1,     10,     10,2,19970627,1932, 40.9508, -28.0652, 2871,   1616.9,   4.0965,  34.9805,2,  34.9806,2,    259.6,2,    259.8,2,    12.48,2,    17.77,2,     0.00,2,     1.17,2,    1.471,2,    0.712,2,    1.036,2,   1.8630,2,     9.69,2,   2158.4,2,    753.9,2,   2312.2,2,     7.71,2,25,   20.00,   -999,  0.0000,   0.110,  3.9643,   0.019
     316N151_2,   A24,   146,  1,      9,      9,2,19970627,1932, 40.9508, -28.0652, 2871,   1766.9,   3.7911,  34.9524,2,  34.9555,2,    262.9,2,    265.2,2,    12.98,2,    17.63,2,     0.00,2,     1.16,2,    1.370,2,    0.670,2,    1.008,2,   1.8683,2,     9.05,2,   2156.8,2,    746.8,2,   2311.2,2,     7.71,2,25,   20.00,   -999,  0.0000,   0.110,  3.6488,   0.022
     316N151_2,   A24,   146,  1,      8,      8,2,19970627,1932, 40.9508, -28.0652, 2871,   1916.8,   3.5892,  34.9406,2,  34.9399,2,    267.3,2,    268.1,2,    13.37,2,    17.53,2,     0.00,2,     1.16,2,    1.253,2,    0.597,2,   -4.626,4,   1.8592,2,     8.79,2,   2155.4,2,   -999.0,9,   2309.9,2,     7.72,2,25, -999.00,   -999,  0.0000,   0.130,  3.4357,   0.083
     316N151_2,   A24,   146,  1,      7,      7,2,19970627,1932, 40.9508, -28.0652, 2871,   2070.3,   3.4359,  34.9399,2,  34.9389,2,    264.9,2,    266.7,2,    15.19,2,    17.67,2,     0.00,2,     1.17,2,    1.007,2,    0.507,2, -999.000,9,-999.0000,9,  -999.00,9,   2158.1,2,   -999.0,9,   2311.8,2,     7.72,2,25, -999.00,   -999,-999.0000,-999.000,  3.2702,-999.000
     316N151_2,   A24,   146,  1,      6,      6,2,19970627,1932, 40.9508, -28.0652, 2871,   2222.6,   3.3274,  34.9405,2,  34.9407,2,    264.0,2,    265.2,2,    16.82,2,    17.81,2,     0.00,2,     1.19,2,    0.858,2,    0.424,2,   -4.815,4,   1.8799,2,     7.31,2,   2160.4,2,    748.8,2,   2315.4,2,     7.72,2,25,   20.00,   -999,  0.0000,   0.110,  3.1488,   0.063
     316N151_2,   A24,   146,  1,      5,      5,2,19970627,1932, 40.9508, -28.0652, 2871,   2376.0,   3.2315,  34.9413,2,  34.9405,2,    264.1,2,    263.9,2,    18.34,2,    17.95,2,     0.00,2,     1.20,2, -999.000,9, -999.000,9, -999.000,9,-999.0000,9,  -999.00,9,   2160.5,2,   -999.0,9,   2317.0,2,     7.72,2,25, -999.00,   -999,-999.0000,-999.000,  3.0396,-999.000
     316N151_2,   A24,   146,  1,      4,      4,2,19970627,1932, 40.9508, -28.0652, 2871,   2530.0,   3.1662,  34.9426,2,  34.9421,2,    260.4,2,    262.2,2,    19.97,2,    18.14,2,     0.00,2,     1.21,2,    0.657,2,    0.334,2,   -4.474,4,   1.8685,2,     6.72,2,   2164.1,2,    745.0,2,   2320.0,2,     7.72,2,25,   20.00,   -999,  0.0000,   0.130,  2.9602,   0.075
     316N151_2,   A24,   146,  1,      3,      3,2,19970627,1932, 40.9508, -28.0652, 2871,   2681.4,   3.1501,  34.9428,2,  34.9419,2,    264.3,2,    261.5,2,    20.57,2,    18.28,2,     0.00,2,     1.22,2,    0.627,2,    0.308,2,   -6.091,4,   1.8924,2,     6.59,2,   2165.4,2,   -999.0,9,   2320.3,2,     7.70,3,25, -999.00,   -999,  0.0000,   0.110,  2.9292,   0.111
     316N151_2,   A24,   146,  1,      2,      2,2,19970627,1932, 40.9508, -28.0652, 2871,   2834.3,   3.1543,  34.9428,2,  34.9425,2,    260.3,2,    261.3,2,    20.86,2,    18.28,2,     0.00,2,     1.23,2,    0.610,2,    0.304,2,    0.502,3,   1.8534,2,     6.72,2,   2164.9,2,   -999.0,9,   2321.7,2,     7.72,2,25, -999.00,   -999,  0.0000,   0.130,  2.9176,   0.020
     316N151_2,   A24,   146,  1,      1,      1,2,19970627,1932, 40.9508, -28.0652, 2871,   2907.7,   3.1422,  34.9419,2,  34.9429,2,    261.6,2,    259.2,2,    21.36,2,    18.37,2,     0.00,2,     1.23,2,    0.591,2,    0.294,2,   -4.452,4,   1.8738,2,     7.00,2,   2167.0,2,    741.8,2,   2321.2,2,     7.71,2,25,   20.00,   -999,  0.0000,   0.130,  2.8981,   0.059
     316N151_2,   A24,   147,  1,     24,     24,2,19970627,2301, 40.6367, -27.9098, 2617,      3.2,  19.2074,  35.9886,2,  35.9874,2,     76.1,2,    239.4,2,     0.62,2,     0.08,2,     0.00,2,     0.04,2, -999.000,9, -999.000,9, -999.000,9,-999.0000,9,  -999.00,9,   2065.0,2,   -999.0,9,   2361.8,6,     7.99,2,25, -999.00,   -999,-999.0000,-999.000, 19.2068,-999.000
     316N151_2,   A24,   147,  1,     23,     23,2,19970627,2301, 40.6367, -27.9098, 2617,     44.7,  16.5551,  35.9433,2,  35.9590,2,     66.6,2,    245.8,2,     0.61,2,     0.08,2,     0.00,2,     0.04,2, -999.000,9, -999.000,9, -999.000,9,-999.0000,9,  -999.00,9,   -999.0,9,   -999.0,9,   -999.0,9,  -999.00,9,25, -999.00,   -999,-999.0000,-999.000, 16.5478,-999.000
     316N151_2,   A24,   147,  1,     22,     22,2,19970627,2301, 40.6367, -27.9098, 2617,     84.8,  15.7706,  36.0451,2,  36.0411,2,     64.4,2,    233.6,2,     1.11,2,     2.81,2,     0.20,2,     0.19,2, -999.000,9, -999.000,9, -999.000,9,-999.0000,9,  -999.00,9,   -999.0,9,   -999.0,9,   -999.0,9,  -999.00,9,25, -999.00,   -999,-999.0000,-999.000, 15.7573,-999.000
     316N151_2,   A24,   147,  1,     21,     21,2,19970627,2301, 40.6367, -27.9098, 2617,    135.6,  14.5201,  35.9813,2,  35.9776,2,    233.3,2,    229.5,2,     2.42,2,     6.99,2,     0.02,2,     0.40,2, -999.000,9, -999.000,9, -999.000,9,-999.0000,9,  -999.00,9,   -999.0,9,   -999.0,9,   -999.0,9,  -999.00,9,25, -999.00,   -999,-999.0000,-999.000, 14.4999,-999.000
     316N151_2,   A24,   147,  1,     20,     20,2,19970627,2301, 40.6367, -27.9098, 2617,    184.9,  14.1538,  35.9222,2,  35.9221,2,    232.1,2,    229.8,2,     2.81,2,     7.70,2,     0.01,2,     0.46,2, -999.000,9, -999.000,9, -999.000,9,-999.0000,9,  -999.00,9,   -999.0,9,   -999.0,9,   -999.0,9,  -999.00,9,25, -999.00,   -999,-999.0000,-999.000, 14.1266,-999.000
     316N151_2,   A24,   147,  1,     19,     19,2,19970627,2301, 40.6367, -27.9098, 2617,    253.3,  13.7441,  35.8561,2,  35.8573,2,    223.1,2,    225.3,2,     3.31,2,     8.63,2,     0.01,2,     0.51,2, -999.000,9, -999.000,9, -999.000,9,-999.0000,9,  -999.00,9,   -999.0,9,   -999.0,9,   -999.0,9,  -999.00,9,25, -999.00,   -999,-999.0000,-999.000, 13.7076,-999.000
     316N151_2,   A24,   147,  1,     18,     18,2,19970627,2301, 40.6367, -27.9098, 2617,    352.1,  12.8023,  35.7218,2,  35.7130,2,    218.5,2,    219.6,2,     4.32,2,    10.64,2,     0.01,2,     0.65,2, -999.000,9, -999.000,9, -999.000,9,-999.0000,9,  -999.00,9,   -999.0,9,   -999.0,9,   -999.0,9,  -999.00,9,25, -999.00,   -999,-999.0000,-999.000, 12.7537,-999.000
     316N151_2,   A24,   147,  1,     17,     17,2,19970627,2301, 40.6367, -27.9098, 2617,    422.6,  12.0916,  35.6108,2,  35.6101,2,    205.0,2,    212.4,2,     5.22,2,    12.32,2,     0.01,2,     0.76,2, -999.000,9, -999.000,9, -999.000,9,-999.0000,9,  -999.00,9,   -999.0,9,   -999.0,9,   -999.0,9,  -999.00,9,25, -999.00,   -999,-999.0000,-999.000, 12.0354,-999.000
     316N151_2,   A24,   147,  1,     16,     16,2,19970627,2301, 40.6367, -27.9098, 2617,    503.0,  10.8197,  35.4133,2,  35.4094,2,    187.5,2,    184.0,2,     8.46,2,    16.94,2,     0.01,2,     1.06,2, -999.000,9, -999.000,9, -999.000,9,-999.0000,9,  -999.00,9,   -999.0,9,   -999.0,9,   -999.0,9,  -999.00,9,25, -999.00,   -999,-999.0000,-999.000, 10.7571,-999.000
     316N151_2,   A24,   147,  1,     15,     15,2,19970627,2301, 40.6367, -27.9098, 2617,    573.3,  10.1006,  35.3598,2,  35.3662,2,    187.9,2,    188.9,2,     8.96,2,    17.41,2,     0.00,2,     1.10,2, -999.000,9, -999.000,9, -999.000,9,-999.0000,9,  -999.00,9,   -999.0,9,   -999.0,9,   -999.0,9,  -999.00,9,25, -999.00,   -999,-999.0000,-999.000, 10.0321,-999.000
     316N151_2,   A24,   147,  1,     14,     14,2,19970627,2301, 40.6367, -27.9098, 2617,    672.3,   9.2268,  35.2948,2,  35.2933,2,    184.8,2,    186.9,2,    10.37,2,    18.67,2,     0.00,2,     1.19,2, -999.000,9, -999.000,9, -999.000,9,-999.0000,9,  -999.00,9,   -999.0,9,   -999.0,9,   -999.0,9,  -999.00,9,25, -999.00,   -999,-999.0000,-999.000,  9.1503,-999.000
     316N151_2,   A24,   147,  1,     13,     13,2,19970627,2301, 40.6367, -27.9098, 2617,    772.8,   7.9906,  35.2515,2,  35.2521,2,    190.8,2,    193.7,2,    11.58,2,    19.19,2,     0.00,2,     1.23,2, -999.000,9, -999.000,9, -999.000,9,-999.0000,9,  -999.00,9,   -999.0,9,   -999.0,9,   -999.0,9,  -999.00,9,25, -999.00,   -999,-999.0000,-999.000,  7.9093,-999.000
     316N151_2,   A24,   147,  1,     12,     12,2,19970627,2301, 40.6367, -27.9098, 2617,    873.5,   7.5684,  35.2832,2,  35.2845,2,    199.3,2,    202.1,2,    11.67,2,    18.81,2,     0.00,2,     1.20,2, -999.000,9, -999.000,9, -999.000,9,-999.0000,9,  -999.00,9,   -999.0,9,   -999.0,9,   -999.0,9,  -999.00,9,25, -999.00,   -999,-999.0000,-999.000,  7.4786,-999.000
     316N151_2,   A24,   147,  1,     11,     11,2,19970627,2301, 40.6367, -27.9098, 2617,    975.0,   6.9521,  35.2594,2,  35.2595,2,    211.0,2,    211.6,2,    11.86,2,    18.63,2,     0.00,2,     1.20,2, -999.000,9, -999.000,9, -999.000,9,-999.0000,9,  -999.00,9,   -999.0,9,   -999.0,9,   -999.0,9,  -999.00,9,25, -999.00,   -999,-999.0000,-999.000,  6.8556,-999.000
     316N151_2,   A24,   147,  1,     10,     10,2,19970627,2301, 40.6367, -27.9098, 2617,   1055.7,   6.3028,  35.2006,2,  35.2097,2,    220.5,2,    222.5,2,    11.95,2,    18.48,2,     0.00,2,     1.19,2, -999.000,9, -999.000,9, -999.000,9,-999.0000,9,  -999.00,9,   -999.0,9,   -999.0,9,   -999.0,9,  -999.00,9,25, -999.00,   -999,-999.0000,-999.000,  6.2029,-999.000
     316N151_2,   A24,   147,  1,      9,      9,2,19970627,2301, 40.6367, -27.9098, 2617,   1208.6,   5.2534,  35.1008,2,  35.1023,2,    236.0,2,    239.3,2,    12.66,2,    18.25,2,     0.00,2,     1.18,2, -999.000,9, -999.000,9, -999.000,9,-999.0000,9,  -999.00,9,   -999.0,9,   -999.0,9,   -999.0,9,  -999.00,9,25, -999.00,   -999,-999.0000,-999.000,  5.1474,-999.000
     316N151_2,   A24,   147,  1,      8,      8,2,19970627,2301, 40.6367, -27.9098, 2617,   1360.2,   4.8339,  35.0602,2,  35.0618,2,    242.6,2,    246.0,2,    12.65,2,    18.11,2,     0.00,2,     1.18,2, -999.000,9, -999.000,9, -999.000,9,-999.0000,9,  -999.00,9,   -999.0,9,   -999.0,9,   -999.0,9,  -999.00,9,25, -999.00,   -999,-999.0000,-999.000,  4.7175,-999.000
     316N151_2,   A24,   147,  1,      7,      7,2,19970627,2301, 40.6367, -27.9098, 2617,   1512.1,   4.3844,  35.0100,2,  35.0075,2,    252.3,2,    255.7,2,    12.43,2,    17.92,2,     0.00,2,     1.17,2, -999.000,9, -999.000,9, -999.000,9,-999.0000,9,  -999.00,9,   -999.0,9,   -999.0,9,   -999.0,9,  -999.00,9,25, -999.00,   -999,-999.0000,-999.000,  4.2587,-999.000
     316N151_2,   A24,   147,  1,      6,      6,2,19970627,2301, 40.6367, -27.9098, 2617,   1713.4,   3.8538,  34.9487,2,  34.9512,2,    267.7,2,    266.1,2,    12.43,2,    17.59,2,     0.00,2,     1.16,2, -999.000,9, -999.000,9, -999.000,9,-999.0000,9,  -999.00,9,   -999.0,9,   -999.0,9,   -999.0,9,  -999.00,9,25, -999.00,   -999,-999.0000,-999.000,  3.7158,-999.000
     316N151_2,   A24,   147,  1,      5,      5,2,19970627,2301, 40.6367, -27.9098, 2617,   1911.8,   3.6275,  34.9406,2,  34.9422,2,    268.5,2,    267.5,2,    13.63,2,    17.59,2,     0.00,2,     1.16,2, -999.000,9, -999.000,9, -999.000,9,-999.0000,9,  -999.00,9,   -999.0,9,   -999.0,9,   -999.0,9,  -999.00,9,25, -999.00,   -999,-999.0000,-999.000,  3.4739,-999.000
     316N151_2,   A24,   147,  1,      4,      4,2,19970627,2301, 40.6367, -27.9098, 2617,   2111.2,   3.4332,  34.9375,2,  34.9383,2,    268.5,2,    266.4,2,    15.45,2,    17.68,2,     0.00,2,     1.17,2, -999.000,9, -999.000,9, -999.000,9,-999.0000,9,  -999.00,9,   -999.0,9,   -999.0,9,   -999.0,9,  -999.00,9,25, -999.00,   -999,-999.0000,-999.000,  3.2637,-999.000
     316N151_2,   A24,   147,  1,      3,      3,2,19970627,2301, 40.6367, -27.9098, 2617,   2311.0,   3.2852,  34.9399,2,  34.9397,2,    267.3,2,    264.4,2,    17.68,2,    17.92,2,     0.00,2,     1.19,2, -999.000,9, -999.000,9, -999.000,9,-999.0000,9,  -999.00,9,   -999.0,9,   -999.0,9,   -999.0,9,  -999.00,9,25, -999.00,   -999,-999.0000,-999.000,  3.0987,-999.000
     316N151_2,   A24,   147,  1,      2,      2,2,19970627,2301, 40.6367, -27.9098, 2617,   2460.7,   3.2096,  34.9426,2,  34.9407,2,    265.7,2,    264.1,2,    19.09,2,    18.06,2,     0.00,2,     1.20,2, -999.000,9, -999.000,9, -999.000,9,-999.0000,9,  -999.00,9,   -999.0,9,   -999.0,9,   -999.0,9,  -999.00,9,25, -999.00,   -999,-999.0000,-999.000,  3.0097,-999.000
     316N151_2,   A24,   147,  1,      1,      1,2,19970627,2301, 40.6367, -27.9098, 2617,   2647.6,   3.1614,  34.9372,2,  34.9425,2,    261.3,2,    262.3,2,    20.51,2,    18.24,2,     0.00,2,     1.22,2, -999.000,9, -999.000,9, -999.000,9,-999.0000,9,  -999.00,9,   -999.0,9,   -999.0,9,   -999.0,9,  -999.00,9,25, -999.00,   -999,-999.0000,-999.000,  2.9437,-999.000