BOTTLE,20220629CCHSIOAMB
EXPOCODE,SECT_ID,STNNBR,CASTNO,SAMPNO,BTLNBR,BTLNBR_FLAG_W,DATE,TIME,LATITUDE,LONGITUDE,DEPTH,CTDPRS,CTDTMP,CTDSAL,CTDSAL_FLAG_W,SALNTY,SALNTY_FLAG_W,CTDOXY,CTDOXY_FLAG_W,OXYGEN,OXYGEN_FLAG_W,SILCAT,SILCAT_FLAG_W,NITRAT,NITRAT_FLAG_W,NITRIT,NITRIT_FLAG_W,PHSPHT,PHSPHT_FLAG_W,CFC-11,CFC-11_FLAG_W,CFC-12,CFC-12_FLAG_W,TRITUM,TRITUM_FLAG_W,HELIUM,HELIUM_FLAG_W,DELHE3,DELHE3_FLAG_W,TCARBN,TCARBN_FLAG_W,PCO2,PCO2_FLAG_W,ALKALI,ALKALI_FLAG_W,PH,PH_FLAG_W,PH_TMP,PCO2TMP,CTDRAW,HELIER,DELHER,THETA,TRITER
,,,,,,,,,,,,DBAR,ITS-90,PSS-78,,PSS-78,,UMOL/KG,,UMOL/KG,,UMOL/KG,,UMOL/KG,,UMOL/KG,,UMOL/KG,,PMOL/KG,,PMOL/KG,,TU,,NMOL/KG,,PERCNT,,UMOL/KG,,UATM,,UMOL/KG,,,,DEG C,DEG C,,NMOL/KG,PERCNT,DEG C,TU
     316N151_2,   A24,   138,  1,     23,     23,2,19970626,1543, 43.7503, -29.5098, 2428,      2.4,  18.5779,  36.1485,2,  36.1454,2,    231.5,2,    242.6,2,     0.39,2,     0.05,2,     0.00,2,     0.03,2, -999.000,9, -999.000,9, -999.000,9,-999.0000,9,  -999.00,9,   2064.0,2,   -999.0,9,   2370.2,6,     8.00,6,25, -999.00,   -999,-999.0000,-999.000, 18.5775,-999.000
     316N151_2,   A24,   138,  1,     22,     22,2,19970626,1543, 43.7503, -29.5098, 2428,     44.4,  16.5349,  36.0929,2,  36.0905,2,    255.9,2,    258.9,2,     0.59,2,     0.05,2,     0.00,2,     0.03,2, -999.000,9, -999.000,9, -999.000,9,-999.0000,9,  -999.00,9,   -999.0,9,   -999.0,9,   -999.0,9,  -999.00,9,25, -999.00,   -999,-999.0000,-999.000, 16.5277,-999.000
     316N151_2,   A24,   138,  1,     21,     21,2,19970626,1543, 43.7503, -29.5098, 2428,     85.2,  15.6635,  36.0969,2,  36.0947,2,    240.7,2,    235.9,2,     1.09,2,     3.33,2,     0.30,2,     0.22,2, -999.000,9, -999.000,9, -999.000,9,-999.0000,9,  -999.00,9,   -999.0,9,   -999.0,9,   -999.0,9,  -999.00,9,25, -999.00,   -999,-999.0000,-999.000, 15.6501,-999.000
     316N151_2,   A24,   138,  1,     20,     20,2,19970626,1543, 43.7503, -29.5098, 2428,    144.9,  15.0281,  36.0434,2,  36.0482,2,    231.5,2,    231.1,2,     1.70,2,     5.91,2,     0.02,2,     0.34,2, -999.000,9, -999.000,9, -999.000,9,-999.0000,9,  -999.00,9,   -999.0,9,   -999.0,9,   -999.0,9,  -999.00,9,25, -999.00,   -999,-999.0000,-999.000, 15.0060,-999.000
     316N151_2,   A24,   138,  1,     19,     19,2,19970626,1543, 43.7503, -29.5098, 2428,    204.9,  14.4063,  35.9455,2,  35.9436,2,    224.3,2,    222.9,2,     2.51,2,     7.76,2,     0.01,2,     0.46,2, -999.000,9, -999.000,9, -999.000,9,-999.0000,9,  -999.00,9,   -999.0,9,   -999.0,9,   -999.0,9,  -999.00,9,25, -999.00,   -999,-999.0000,-999.000, 14.3759,-999.000
     316N151_2,   A24,   138,  1,     18,     18,2,19970626,1543, 43.7503, -29.5098, 2428,    306.5,  13.2143,  35.7514,2,  35.7524,2,    218.5,2,    218.4,2,     3.73,2,    10.06,2,     0.01,2,     0.61,2, -999.000,9, -999.000,9, -999.000,9,-999.0000,9,  -999.00,9,   -999.0,9,   -999.0,9,   -999.0,9,  -999.00,9,25, -999.00,   -999,-999.0000,-999.000, 13.1713,-999.000
     316N151_2,   A24,   138,  1,     17,     17,2,19970626,1543, 43.7503, -29.5098, 2428,    406.6,  12.1246,  35.5964,2,  35.5999,2,    202.3,2,    208.9,2,     5.35,2,    12.83,2,     0.01,2,     0.79,2, -999.000,9, -999.000,9, -999.000,9,-999.0000,9,  -999.00,9,   -999.0,9,   -999.0,9,   -999.0,9,  -999.00,9,25, -999.00,   -999,-999.0000,-999.000, 12.0705,-999.000
     316N151_2,   A24,   138,  1,     16,     16,2,19970626,1543, 43.7503, -29.5098, 2428,    507.2,  11.0663,  35.4443,2,  35.4460,2,    190.4,2,    195.4,2,     7.18,2,    15.51,2,     0.01,2,     0.97,2, -999.000,9, -999.000,9, -999.000,9,-999.0000,9,  -999.00,9,   -999.0,9,   -999.0,9,   -999.0,9,  -999.00,9,25, -999.00,   -999,-999.0000,-999.000, 11.0023,-999.000
     316N151_2,   A24,   138,  1,     15,     15,2,19970626,1543, 43.7503, -29.5098, 2428,    607.2,  10.3220,  35.3699,2,  35.3542,2,    201.8,2,    200.2,2,     7.89,2,    16.16,2,     0.00,2,     1.02,2,    2.297,2,    1.181,2, -999.000,9,-999.0000,9,  -999.00,9,   -999.0,9,   -999.0,9,   -999.0,9,  -999.00,9,25, -999.00,   -999,-999.0000,-999.000, 10.2483,-999.000
     316N151_2,   A24,   138,  1,     14,     14,2,19970626,1543, 43.7503, -29.5098, 2428,    707.1,   9.2123,  35.2856,2,  35.2836,2,    193.8,2,    190.3,2,     9.72,2,    18.29,2,     0.00,2,     1.17,2,    1.891,3,    0.956,3, -999.000,9,-999.0000,9,  -999.00,9,   -999.0,9,   -999.0,9,   -999.0,9,  -999.00,9,25, -999.00,   -999,-999.0000,-999.000,  9.1318,-999.000
     316N151_2,   A24,   138,  1,     13,     13,2,19970626,1543, 43.7503, -29.5098, 2428,    808.6,   7.9160,  35.2017,2,  35.2019,2,    195.1,2,    192.8,2,    11.34,2,    19.45,2,     0.00,2,     1.26,2,    1.622,2,    0.809,2, -999.000,9,-999.0000,9,  -999.00,9,   -999.0,9,   -999.0,9,   -999.0,9,  -999.00,9,25, -999.00,   -999,-999.0000,-999.000,  7.8312,-999.000
     316N151_2,   A24,   138,  1,     12,     12,2,19970626,1543, 43.7503, -29.5098, 2428,    908.6,   6.9190,  35.1769,2,  35.1757,2,    205.8,2,    206.2,2,    11.64,2,    19.22,2,     0.00,2,     1.25,2,    1.612,2,    0.789,2, -999.000,9,-999.0000,9,  -999.00,9,   -999.0,9,   -999.0,9,   -999.0,9,  -999.00,9,25, -999.00,   -999,-999.0000,-999.000,  6.8298,-999.000
     316N151_2,   A24,   138,  1,     11,     11,2,19970626,1543, 43.7503, -29.5098, 2428,   1009.7,   6.1102,  35.1350,2,  35.1367,2,    221.8,2,    221.8,2,    11.64,2,    18.76,2,     0.00,2,     1.23,2,    1.689,2,    0.817,2, -999.000,9,-999.0000,9,  -999.00,9,   -999.0,9,   -999.0,9,   -999.0,9,  -999.00,9,25, -999.00,   -999,-999.0000,-999.000,  6.0165,-999.000
     316N151_2,   A24,   138,  1,     10,     10,2,19970626,1543, 43.7503, -29.5098, 2428,   1160.7,   5.2614,  35.0739,2,  35.0743,2,    234.4,2,    238.3,2,    11.63,2,    18.35,2,     0.00,2,     1.20,2, -999.000,9, -999.000,9, -999.000,9,-999.0000,9,  -999.00,9,   -999.0,9,   -999.0,9,   -999.0,9,  -999.00,9,25, -999.00,   -999,-999.0000,-999.000,  5.1600,-999.000
     316N151_2,   A24,   138,  1,      9,      9,2,19970626,1543, 43.7503, -29.5098, 2428,   1312.4,   4.5711,  35.0101,2,  35.0100,2,    251.8,2,    252.1,2,    11.73,2,    18.02,2,     0.00,2,     1.19,2, -999.000,9, -999.000,9, -999.000,9,-999.0000,9,  -999.00,9,   -999.0,9,   -999.0,9,   -999.0,9,  -999.00,9,25, -999.00,   -999,-999.0000,-999.000,  4.4620,-999.000
     316N151_2,   A24,   138,  1,      8,      8,2,19970626,1543, 43.7503, -29.5098, 2428,   1464.1,   4.1163,  34.9672,2,  34.9667,2,    260.8,2,    261.5,2,    11.93,2,    17.80,2,     0.00,2,     1.17,2, -999.000,9, -999.000,9, -999.000,9,-999.0000,9,  -999.00,9,   -999.0,9,   -999.0,9,   -999.0,9,  -999.00,9,25, -999.00,   -999,-999.0000,-999.000,  3.9981,-999.000
     316N151_2,   A24,   138,  1,      7,      7,2,19970626,1543, 43.7503, -29.5098, 2428,   1614.7,   3.8838,  34.9488,2,  34.9477,2,    267.5,2,    266.0,2,    12.23,2,    17.66,2,     0.00,2,     1.17,2,    1.746,2,    0.840,2, -999.000,9,-999.0000,9,  -999.00,9,   -999.0,9,   -999.0,9,   -999.0,9,  -999.00,9,25, -999.00,   -999,-999.0000,-999.000,  3.7545,-999.000
     316N151_2,   A24,   138,  1,      6,      6,2,19970626,1543, 43.7503, -29.5098, 2428,   1766.8,   3.7155,  34.9342,2,  34.9339,2,    268.3,2,    269.1,2,    12.53,2,    17.57,2,     0.00,2,     1.16,2,    1.719,2,    0.830,2, -999.000,9,-999.0000,9,  -999.00,9,   -999.0,9,   -999.0,9,   -999.0,9,  -999.00,9,25, -999.00,   -999,-999.0000,-999.000,  3.5743,-999.000
     316N151_2,   A24,   138,  1,      5,      5,2,19970626,1543, 43.7503, -29.5098, 2428,   1917.7,   3.6140,  34.9261,2,  34.9267,2,    270.4,2,    271.2,2,    12.63,2,    17.48,2,     0.00,2,     1.16,2,    1.731,2,    0.837,2, -999.000,9,-999.0000,9,  -999.00,9,   -999.0,9,   -999.0,9,   -999.0,9,  -999.00,9,25, -999.00,   -999,-999.0000,-999.000,  3.4601,-999.000
     316N151_2,   A24,   138,  1,      4,      4,2,19970626,1543, 43.7503, -29.5098, 2428,   2070.8,   3.5561,  34.9271,2,  34.9275,2,    271.2,2,    270.7,2,    13.33,2,    17.52,2,     0.00,2,     1.16,2,    1.582,2,    0.765,2, -999.000,9,-999.0000,9,  -999.00,9,   -999.0,9,   -999.0,9,   -999.0,9,  -999.00,9,25, -999.00,   -999,-999.0000,-999.000,  3.3885,-999.000
     316N151_2,   A24,   138,  1,      3,      3,2,19970626,1543, 43.7503, -29.5098, 2428,   2223.8,   3.4297,  34.9226,2,  34.9222,2,    270.5,2,    272.2,2,    13.74,2,    17.43,2,     0.00,2,     1.16,2, -999.000,9, -999.000,9, -999.000,9,-999.0000,9,  -999.00,9,   -999.0,9,   -999.0,9,   -999.0,9,  -999.00,9,25, -999.00,   -999,-999.0000,-999.000,  3.2494,-999.000
     316N151_2,   A24,   138,  1,      2,      2,2,19970626,1543, 43.7503, -29.5098, 2428,   2345.0,   3.3875,  34.9215,2,  34.9218,2,    270.0,2,    272.3,2,    13.93,2,    17.30,2,     0.00,2,     1.16,2, -999.000,9, -999.000,9, -999.000,9,-999.0000,9,  -999.00,9,   -999.0,9,   -999.0,9,   -999.0,9,  -999.00,9,25, -999.00,   -999,-999.0000,-999.000,  3.1960,-999.000
     316N151_2,   A24,   138,  1,      1,      1,2,19970626,1543, 43.7503, -29.5098, 2428,   2444.3,   3.2969,  34.9207,2,  34.9215,2,    273.5,2,    270.2,2,    14.44,2,    17.30,2,     0.00,2,     1.16,2,    1.448,2,    0.700,2, -999.000,9,-999.0000,9,  -999.00,9,   -999.0,9,   -999.0,9,   -999.0,9,  -999.00,9,25, -999.00,   -999,-999.0000,-999.000,  3.0971,-999.000
     316N151_2,   A24,   139,  1,     18,     18,2,19970626,1939, 43.2815, -29.2635, 1774,      3.4,  18.2920,  35.9797,2,  35.9850,2,    234.9,2,    245.2,2,     0.51,2,     0.04,2,     0.00,2,     0.04,2,    2.717,2,    1.440,2,   -4.647,4,-999.0000,5,  -999.00,5,   2064.4,2,   -999.0,9,   2362.4,6,     7.99,2,25, -999.00,   -999,-999.0000,-999.000, 18.2914,   0.091
     316N151_2,   A24,   139,  1,     17,     17,2,19970626,1939, 43.2815, -29.2635, 1774,     44.7,  15.7846,  35.9975,2,  35.9854,2,    250.6,2,    242.8,2,     0.60,2,     0.80,2,     0.07,2,     0.09,2,    2.823,2,    1.534,2,   -3.779,4,   1.7823,2,    -1.80,2,   2077.1,2,   -999.0,9,   2365.0,2,     7.99,2,25, -999.00,   -999,  0.0000,   0.220, 15.7776,   0.077
     316N151_2,   A24,   139,  1,     16,     16,2,19970626,1939, 43.2815, -29.2635, 1774,     95.6,  15.2672,  36.0316,2,  36.0384,2,    237.0,2,    235.1,2,     1.39,2,     4.70,2,     0.17,2,     0.28,2,    2.802,2,    1.523,2,   -0.023,4,   1.7871,2,    -1.64,2,   2095.5,2,   -999.0,9,   2365.9,2,     7.94,2,25, -999.00,   -999,  0.0000,   0.190, 15.2525,   0.009
     316N151_2,   A24,   139,  1,     15,     15,2,19970626,1939, 43.2815, -29.2635, 1774,    134.9,  14.5878,  35.9524,2,  35.9653,2,    223.6,2,    227.6,2,     2.09,2,     6.92,2,     0.02,2,     0.41,2,    2.755,2,    1.484,2, -999.000,9,-999.0000,9,  -999.00,9,   2108.3,2,    449.9,2,   2362.2,2,     7.92,2,25,   20.00,   -999,-999.0000,-999.000, 14.5677,-999.000
     316N151_2,   A24,   139,  1,     14,     14,2,19970626,1939, 43.2815, -29.2635, 1774,    184.7,  13.7037,  35.8615,2,  35.8643,2,    228.4,2,    232.8,2,     2.59,2,     7.88,2,     0.03,2,     0.47,2,    2.920,2,    1.578,2,   -3.644,4,   1.8027,2,    -0.89,2,   2115.0,2,    473.8,2,   2353.7,2,     7.89,2,25,   20.00,   -999,  0.0000,   0.190, 13.6772,   0.076
     316N151_2,   A24,   139,  1,     13,     13,2,19970626,1939, 43.2815, -29.2635, 1774,    285.6,  13.0545,  35.7733,2,  35.7796,2,    232.4,2,    236.8,2,     2.98,2,     8.63,2,     0.02,2,     0.52,2,    3.007,2,    1.605,2,   -3.188,4,   1.8061,2,    -0.54,2,   2117.7,2,    492.1,2,   2348.0,2,     7.88,2,25,   20.00,   -999,  0.0000,   0.190, 13.0147,   0.067
     316N151_2,   A24,   139,  1,     12,     12,2,19970626,1939, 43.2815, -29.2635, 1774,    385.1,  12.1302,  35.6153,2,  35.6163,2,    214.9,2,    217.0,2,     4.69,2,    11.86,2,     0.01,2,     0.72,2,    2.755,2,    1.444,2,   -4.123,4,   1.8051,2,     1.03,2,   2133.8,2,    557.9,2,   2340.4,2,     7.83,2,25,   20.00,   -999,  0.0000,   0.190, 12.0789,   0.097
     316N151_2,   A24,   139,  1,     11,     11,2,19970626,1939, 43.2815, -29.2635, 1774,    505.6,  10.9912,  35.4493,2,  35.4536,2,    200.2,2,    200.5,2,     6.81,2,    15.09,2,     0.01,2,     0.94,2,    2.423,2,    1.234,2,   -4.722,4,   1.8334,2,     3.38,2,   2148.3,2,    628.2,2,   2332.8,2,     7.78,2,25,   20.00,   -999,  0.0000,   0.190, 10.9277,   0.093
     316N151_2,   A24,   139,  1,     10,     10,2,19970626,1939, 43.2815, -29.2635, 1774,    625.6,   9.4047,  35.2717,2,  35.2705,2,    182.7,2,    182.4,2,    10.15,2,    18.94,2,     0.00,2,     1.20,2,    1.775,2,    0.889,2,   -4.365,4,-999.0000,5,  -999.00,5,   2168.4,2,    724.5,2,   2327.2,2,     7.73,2,25,   20.00,   -999,-999.0000,-999.000,  9.3329,   0.099
     316N151_2,   A24,   139,  1,      9,      9,2,19970626,1939, 43.2815, -29.2635, 1774,    726.9,   8.6294,  35.2569,2,  35.2626,2,    187.5,2,    189.2,2,    10.55,2,    18.99,2,     0.00,2,     1.21,2,    1.703,2,    0.840,2, -999.000,5,   1.8381,2,     6.66,2,   2172.3,2,    740.9,2,   2327.3,2,     7.71,2,25,   20.00,   -999,  0.0000,   0.190,  8.5497,-999.000
     316N151_2,   A24,   139,  1,      8,      8,2,19970626,1939, 43.2815, -29.2635, 1774,    827.8,   8.1554,  35.3568,2,  35.3582,2,    196.8,2,    196.8,2,    10.64,2,    18.48,2,     0.00,2,     1.18,2,    1.570,2,    0.761,2, -999.000,5,   1.8359,2,     8.43,2,   2178.1,2,    733.6,2,   2335.6,2,     7.73,2,25,   20.00,   -999,  0.0000,   0.190,  8.0669,-999.000
     316N151_2,   A24,   139,  1,      7,      7,2,19970626,1939, 43.2815, -29.2635, 1774,    907.5,   7.5587,  35.3307,2,  35.3399,2,    203.3,2,    203.2,2,    10.93,2,    18.48,2,     0.00,2,     1.18,2,    1.551,2,    0.755,2, -999.000,9,-999.0000,9,  -999.00,9,   2178.3,2,    740.0,2,   2334.3,2,     7.72,2,25,   20.00,   -999,-999.0000,-999.000,  7.4651,-999.000
     316N151_2,   A24,   139,  1,      6,      6,2,19970626,1939, 43.2815, -29.2635, 1774,   1060.5,   5.7947,  35.1155,2,  35.1186,2,    230.4,2,    227.0,2,    11.53,2,    18.63,2,     0.00,2,     1.21,2,    1.726,2,    0.851,2,    1.061,2,   1.8274,2,     8.47,2,   2173.8,2,    763.2,2,   2321.3,2,     7.71,2,25,   20.00,   -999,  0.0000,   0.160,  5.6985,   0.016
     316N151_2,   A24,   139,  1,      5,      5,2,19970626,1939, 43.2815, -29.2635, 1774,   1211.2,   4.7346,  35.0246,2,  35.0243,2,    250.9,2,    247.8,2,    11.62,2,    18.17,2,     0.00,2,     1.19,2,    1.799,2,    0.850,2,    1.042,2,   1.8465,2,     8.85,2,   2165.7,2,    760.4,2,   2314.3,2,     7.70,2,25,   20.00,   -999,  0.0000,   0.160,  4.6332,   0.020
     316N151_2,   A24,   139,  1,      4,      4,2,19970626,1939, 43.2815, -29.2635, 1774,   1363.3,   4.2407,  34.9800,2,  34.9805,2,    253.6,2,    257.8,2,    11.92,2,    17.89,2,     0.00,2,     1.18,2,    1.751,2,    0.834,2, -999.000,5,   1.8527,2,     8.83,2,   2161.7,2,    755.7,2,   2311.5,2,     7.71,2,25,   20.00,   -999,  0.0000,   0.190,  4.1303,-999.000
     316N151_2,   A24,   139,  1,      3,      3,2,19970626,1939, 43.2815, -29.2635, 1774,   1515.6,   4.0106,  34.9614,2,  34.9632,2,    258.3,2,    262.0,2,    12.31,2,    17.75,2,     0.00,2,     1.17,2,    1.669,2,    0.803,2, -999.000,5,   1.8454,2,     8.54,2,   2160.4,2,    750.9,2,   2309.8,2,     7.71,2,25,   20.00,   -999,  0.0000,   0.140,  3.8889,-999.000
     316N151_2,   A24,   139,  1,      2,      2,2,19970626,1939, 43.2815, -29.2635, 1774,   1666.6,   3.8050,  34.9481,2,  34.9490,2,    259.9,2,    265.0,2,    12.81,2,    17.66,2,     0.00,2,     1.17,2,    1.591,2,    0.762,2, -999.000,5,   1.8558,2,     9.61,2,   2159.8,2,    746.9,2,   2310.2,2,     7.71,2,25,   20.00,   -999,  0.0000,   0.190,  3.6719,-999.000
     316N151_2,   A24,   139,  1,      1,      1,2,19970626,1939, 43.2815, -29.2635, 1774,   1785.8,   3.7071,  34.9392,2,  34.9402,2,    268.1,2,    266.0,2,    13.21,2,    17.62,2,     0.00,2,     1.17,2,    1.532,2,    0.741,2, -999.000,5,   1.8413,2,     8.80,2,   2158.9,2,    748.6,2,   2310.3,2,     7.71,2,25,   20.00,   -999,  0.0000,   0.160,  3.5642,-999.000