BOTTLE,20220629CCHSIOAMB
EXPOCODE,SECT_ID,STNNBR,CASTNO,SAMPNO,BTLNBR,BTLNBR_FLAG_W,DATE,TIME,LATITUDE,LONGITUDE,DEPTH,CTDPRS,CTDTMP,CTDSAL,CTDSAL_FLAG_W,SALNTY,SALNTY_FLAG_W,CTDOXY,CTDOXY_FLAG_W,OXYGEN,OXYGEN_FLAG_W,SILCAT,SILCAT_FLAG_W,NITRAT,NITRAT_FLAG_W,NITRIT,NITRIT_FLAG_W,PHSPHT,PHSPHT_FLAG_W,CFC-11,CFC-11_FLAG_W,CFC-12,CFC-12_FLAG_W,TRITUM,TRITUM_FLAG_W,HELIUM,HELIUM_FLAG_W,DELHE3,DELHE3_FLAG_W,TCARBN,TCARBN_FLAG_W,PCO2,PCO2_FLAG_W,ALKALI,ALKALI_FLAG_W,PH,PH_FLAG_W,PH_TMP,PCO2TMP,CTDRAW,HELIER,DELHER,THETA,TRITER
,,,,,,,,,,,,DBAR,ITS-90,PSS-78,,PSS-78,,UMOL/KG,,UMOL/KG,,UMOL/KG,,UMOL/KG,,UMOL/KG,,UMOL/KG,,PMOL/KG,,PMOL/KG,,TU,,NMOL/KG,,PERCNT,,UMOL/KG,,UATM,,UMOL/KG,,,,DEG C,DEG C,,NMOL/KG,PERCNT,DEG C,TU
     316N151_2,   A24,   136,  1,     24,     24,2,19970626,0724, 44.6842, -30.0130, 2977,      2.7,  18.1576,  36.1163,2,  36.1152,2,    246.4,2,    243.3,2,     0.40,2,     0.05,2,     0.00,2,     0.04,2, -999.000,9, -999.000,9, -999.000,9,-999.0000,9,  -999.00,9,   2061.2,2,   -999.0,9,   2369.6,6,     8.01,2,25, -999.00,   -999,-999.0000,-999.000, 18.1571,-999.000
     316N151_2,   A24,   136,  1,     23,     23,2,19970626,0724, 44.6842, -30.0130, 2977,     30.4,  16.8259,  36.1590,2,  36.1783,2,    252.4,2,    252.9,2,     0.39,2,     0.09,2,     0.00,2,     0.03,2, -999.000,9, -999.000,9, -999.000,9,-999.0000,9,  -999.00,9,   -999.0,9,   -999.0,9,   -999.0,9,  -999.00,9,25, -999.00,   -999,-999.0000,-999.000, 16.8209,-999.000
     316N151_2,   A24,   136,  1,     22,     22,2,19970626,0724, 44.6842, -30.0130, 2977,     65.4,  15.6457,  36.1101,2,  36.1128,2,    239.0,2,    238.7,2,     0.98,2,     2.85,2,     0.27,2,     0.22,2, -999.000,9, -999.000,9, -999.000,9,-999.0000,9,  -999.00,9,   -999.0,9,   -999.0,9,   -999.0,9,  -999.00,9,25, -999.00,   -999,-999.0000,-999.000, 15.6355,-999.000
     316N151_2,   A24,   136,  1,     21,     21,2,19970626,0724, 44.6842, -30.0130, 2977,    115.4,  15.4215,  36.0959,2,  36.0988,2,    229.4,2,    232.8,2,     1.57,2,     4.97,2,     0.05,2,     0.29,2, -999.000,9, -999.000,9, -999.000,9,-999.0000,9,  -999.00,9,   -999.0,9,   -999.0,9,   -999.0,9,  -999.00,9,25, -999.00,   -999,-999.0000,-999.000, 15.4035,-999.000
     316N151_2,   A24,   136,  1,     20,     20,2,19970626,0724, 44.6842, -30.0130, 2977,    185.3,  15.0838,  36.0609,2,  36.0554,2,    222.7,2,    227.9,2,     2.17,2,     6.40,2,     0.02,2,     0.37,2, -999.000,9, -999.000,9, -999.000,9,-999.0000,9,  -999.00,9,   -999.0,9,   -999.0,9,   -999.0,9,  -999.00,9,25, -999.00,   -999,-999.0000,-999.000, 15.0554,-999.000
     316N151_2,   A24,   136,  1,     19,     19,2,19970626,0724, 44.6842, -30.0130, 2977,    285.9,  14.0246,  35.8944,2,  35.8842,2,    217.3,2,    221.5,2,     3.17,2,     8.68,2,     0.01,2,     0.52,2, -999.000,9, -999.000,9, -999.000,9,-999.0000,9,  -999.00,9,   -999.0,9,   -999.0,9,   -999.0,9,  -999.00,9,25, -999.00,   -999,-999.0000,-999.000, 13.9828,-999.000
     316N151_2,   A24,   136,  1,     18,     18,2,19970626,0724, 44.6842, -30.0130, 2977,    376.3,  12.8993,  35.7168,2,  35.7191,2,    218.1,2,    214.3,2,     4.37,2,    10.97,2,     0.01,2,     0.67,2, -999.000,9, -999.000,9, -999.000,9,-999.0000,9,  -999.00,9,   -999.0,9,   -999.0,9,   -999.0,9,  -999.00,9,25, -999.00,   -999,-999.0000,-999.000, 12.8471,-999.000
     316N151_2,   A24,   136,  1,     17,     17,2,19970626,0724, 44.6842, -30.0130, 2977,    457.3,  11.9373,  35.5666,2,  35.5650,2,    205.1,2,    196.2,2,     6.18,2,    14.09,2,     0.00,2,     0.87,2, -999.000,9, -999.000,9, -999.000,9,-999.0000,9,  -999.00,9,   -999.0,9,   -999.0,9,   -999.0,9,  -999.00,9,25, -999.00,   -999,-999.0000,-999.000, 11.8769,-999.000
     316N151_2,   A24,   136,  1,     16,     16,2,19970626,0724, 44.6842, -30.0130, 2977,    566.8,  10.4336,  35.3439,2,  35.3242,2,    186.7,2,    181.9,2,     9.10,2,    17.60,2,     0.00,2,     1.11,2, -999.000,9, -999.000,9, -999.000,9,-999.0000,9,  -999.00,9,   -999.0,9,   -999.0,9,   2327.1,2,     7.75,2,25, -999.00,   -999,-999.0000,-999.000, 10.3645,-999.000
     316N151_2,   A24,   136,  1,     15,     15,2,19970626,0724, 44.6842, -30.0130, 2977,    637.7,   9.7150,  35.2834,2,  35.2868,2,    179.1,2,    180.2,2,    10.10,2,    18.77,2,     0.00,2,     1.20,2, -999.000,9, -999.000,9, -999.000,9,-999.0000,9,  -999.00,9,   -999.0,9,   -999.0,9,   -999.0,9,  -999.00,9,25, -999.00,   -999,-999.0000,-999.000,  9.6404,-999.000
     316N151_2,   A24,   136,  1,     14,     14,2,19970626,0724, 44.6842, -30.0130, 2977,    738.8,   8.3562,  35.1754,2,  35.1861,2,    179.9,2,    180.2,2,    12.12,2,    20.36,2,     0.00,2,     1.31,2,    1.452,2,    0.732,2, -999.000,9,-999.0000,9,  -999.00,9,   -999.0,9,   -999.0,9,   -999.0,9,  -999.00,9,25, -999.00,   -999,-999.0000,-999.000,  8.2767,-999.000
     316N151_2,   A24,   136,  1,     13,     13,2,19970626,0724, 44.6842, -30.0130, 2977,    838.8,   7.1071,  35.0990,2,  35.0995,2,    194.9,2,    197.5,2,    12.41,2,    20.04,2,     0.00,2,     1.31,2,    1.664,2,    0.840,2, -999.000,9,-999.0000,9,  -999.00,9,   -999.0,9,   -999.0,9,   2318.5,2,     7.70,2,25, -999.00,   -999,-999.0000,-999.000,  7.0241,-999.000
     316N151_2,   A24,   136,  1,     12,     12,2,19970626,0724, 44.6842, -30.0130, 2977,    899.2,   6.4778,  35.0849,2,  35.0869,2,    205.2,2,    208.4,2,    12.30,2,    19.57,2,     0.00,2,     1.28,2,    1.793,2,    0.877,2, -999.000,9,-999.0000,9,  -999.00,9,   -999.0,9,   -999.0,9,   2318.9,2,     7.70,2,25, -999.00,   -999,-999.0000,-999.000,  6.3927,-999.000
     316N151_2,   A24,   136,  1,     11,     11,2,19970626,0724, 44.6842, -30.0130, 2977,   1000.6,   5.7303,  35.0674,2,  35.0675,2,    222.0,2,    224.2,2,    12.18,2,    18.96,2,     0.00,2,     1.25,2,    1.880,2,    0.911,2, -999.000,9,-999.0000,9,  -999.00,9,   -999.0,9,   -999.0,9,   2316.1,2,     7.70,2,25, -999.00,   -999,-999.0000,-999.000,  5.6406,-999.000
     316N151_2,   A24,   136,  1,     10,     10,2,19970626,0724, 44.6842, -30.0130, 2977,   1111.5,   5.3217,  35.0713,2,  35.0704,2,    231.1,2,    235.4,2,    11.97,2,    18.54,2,     0.00,2,     1.21,2,    1.747,2,    0.858,2, -999.000,9,-999.0000,9,  -999.00,9,   -999.0,9,   -999.0,9,   2316.6,2,     7.71,2,25, -999.00,   -999,-999.0000,-999.000,  5.2245,-999.000
     316N151_2,   A24,   136,  1,      9,      9,2,19970626,0724, 44.6842, -30.0130, 2977,   1213.0,   4.8431,  35.0335,2,  35.0325,2,    244.4,2,    245.4,2,    11.96,2,    18.31,2,     0.00,2,     1.20,2,    1.793,2,    0.856,2, -999.000,9,-999.0000,9,  -999.00,9,   -999.0,9,   -999.0,9,   -999.0,9,  -999.00,9,25, -999.00,   -999,-999.0000,-999.000,  4.7406,-999.000
     316N151_2,   A24,   136,  1,      8,      8,2,19970626,0724, 44.6842, -30.0130, 2977,   1364.5,   4.3323,  34.9830,2,  34.9831,2,    256.3,2,    256.3,2,    11.84,2,    17.93,2,     0.00,2,     1.18,2,    1.930,2,    0.933,2, -999.000,9,-999.0000,9,  -999.00,9,   -999.0,9,   -999.0,9,   -999.0,9,  -999.00,9,25, -999.00,   -999,-999.0000,-999.000,  4.2208,-999.000
     316N151_2,   A24,   136,  1,      7,      7,2,19970626,0724, 44.6842, -30.0130, 2977,   1515.7,   4.0130,  34.9544,2,  34.9542,2,    265.5,2,    263.8,2,    11.93,2,    17.75,2,     0.00,2,     1.17,2,    1.888,2,    0.911,2, -999.000,9,-999.0000,9,  -999.00,9,   -999.0,9,   -999.0,9,   2308.2,2,     7.71,2,25, -999.00,   -999,-999.0000,-999.000,  3.8913,-999.000
     316N151_2,   A24,   136,  1,      6,      6,2,19970626,0724, 44.6842, -30.0130, 2977,   1769.5,   3.6564,  34.9266,2,  34.9280,2,    270.8,2,    270.4,2,    12.33,2,    17.42,2,     0.00,2,     1.16,2,    1.828,2,    0.882,2, -999.000,9,-999.0000,9,  -999.00,9,   -999.0,9,   -999.0,9,   -999.0,9,  -999.00,9,25, -999.00,   -999,-999.0000,-999.000,  3.5158,-999.000
     316N151_2,   A24,   136,  1,      5,      5,2,19970626,0724, 44.6842, -30.0130, 2977,   2022.1,   3.4689,  34.9170,2,  34.9161,2,    274.3,2,    271.7,2,    12.82,2,    17.33,2,     0.00,2,     1.15,2,    1.741,2,    0.836,2, -999.000,9,-999.0000,9,  -999.00,9,   -999.0,9,   -999.0,9,   -999.0,9,  -999.00,9,25, -999.00,   -999,-999.0000,-999.000,  3.3073,-999.000
     316N151_2,   A24,   136,  1,      4,      4,2,19970626,0724, 44.6842, -30.0130, 2977,   2224.1,   3.3822,  34.9222,2,  34.9216,2,    273.8,2,    272.1,2,    13.72,2,    17.33,2,     0.00,2,     1.15,2,    1.499,2,    0.733,2, -999.000,9,-999.0000,9,  -999.00,9,   -999.0,9,   -999.0,9,   -999.0,9,  -999.00,9,25, -999.00,   -999,-999.0000,-999.000,  3.2027,-999.000
     316N151_2,   A24,   136,  1,      3,      3,2,19970626,0724, 44.6842, -30.0130, 2977,   2426.9,   3.2440,  34.9253,2,  34.9238,2,    270.3,2,    272.1,2,    14.52,2,    17.19,2,     0.00,2,     1.15,2, -999.000,9, -999.000,9, -999.000,9,-999.0000,9,  -999.00,9,   -999.0,9,   -999.0,9,   -999.0,9,  -999.00,9,25, -999.00,   -999,-999.0000,-999.000,  3.0469,-999.000
     316N151_2,   A24,   136,  1,      2,      2,2,19970626,0724, 44.6842, -30.0130, 2977,   2681.5,   3.0324,  34.9268,2,  34.9258,2,    271.3,2,    271.4,2,    15.83,2,    17.14,2,     0.00,2,     1.15,2, -999.000,9, -999.000,9, -999.000,9,-999.0000,9,  -999.00,9,   -999.0,9,   -999.0,9,   -999.0,9,  -999.00,9,25, -999.00,   -999,-999.0000,-999.000,  2.8138,-999.000
     316N151_2,   A24,   136,  1,      1,      1,2,19970626,0724, 44.6842, -30.0130, 2977,   2890.3,   2.9501,  34.9269,2,  34.9260,2,    268.7,2,    270.8,2,    16.42,2,    17.09,2,     0.00,2,     1.14,2, -999.000,9, -999.000,9, -999.000,9,-999.0000,9,  -999.00,9,   -999.0,9,   -999.0,9,   2312.7,2,     7.72,2,25, -999.00,   -999,-999.0000,-999.000,  2.7119,-999.000
     316N151_2,   A24,   137,  1,     25,     25,2,19970626,1137, 44.2175, -29.7680, 2515,      2.6,  17.9397,  36.0248,2,  36.0210,2,    154.2,2,    248.3,2,     0.64,2,     0.09,2,     0.00,2,     0.04,2, -999.000,9, -999.000,9, -999.000,9,-999.0000,9,  -999.00,9,   2061.4,2,   -999.0,9,   2363.8,2,     8.00,2,25, -999.00,   -999,-999.0000,-999.000, 17.9393,-999.000
     316N151_2,   A24,   137,  1,     24,     24,2,19970626,1137, 44.2175, -29.7680, 2515,      2.9,  17.9158,  36.0204,2,  36.0161,2,    209.8,2,    248.3,2,     0.61,2,     0.09,2,     0.00,2,     0.04,2,    2.711,2,    1.496,2, -999.000,9,-999.0000,9,  -999.00,9,   -999.0,9,    352.1,2,   2364.1,6,     8.00,6,25,   20.00,   -999,-999.0000,-999.000, 17.9153,-999.000
     316N151_2,   A24,   137,  1,     23,     23,2,19970626,1137, 44.2175, -29.7680, 2515,     34.9,  16.0041,  35.9619,2,  35.9612,2,    256.5,2,    258.8,2,     0.77,2,     0.40,2,     0.02,2,     0.06,2,    2.871,2,    1.551,2, -999.000,9,-999.0000,9,  -999.00,9,   2064.9,2,    364.9,2,   2361.6,2,     7.99,2,25,   20.00,   -999,-999.0000,-999.000, 15.9985,-999.000
     316N151_2,   A24,   137,  1,     22,     22,2,19970626,1137, 44.2175, -29.7680, 2515,     74.7,  15.2192,  35.9401,2,  35.9385,2,    237.3,2,    244.5,2,     1.04,2,     2.07,2,     0.11,2,     0.18,2,    2.870,2,    1.558,2, -999.000,9,-999.0000,9,  -999.00,9,   2082.7,2,    398.8,2,   2359.5,2,     7.96,2,25,   20.00,   -999,-999.0000,-999.000, 15.2078,-999.000
     316N151_2,   A24,   137,  1,     21,     21,2,19970626,1137, 44.2175, -29.7680, 2515,    114.5,  14.8922,  35.9990,2,  36.0107,2,    231.4,2,    231.7,2,     1.72,2,     6.02,2,     0.03,2,     0.35,2,    2.811,2,    1.515,2, -999.000,9,-999.0000,9,  -999.00,9,   2101.1,2,    431.7,2,   2360.2,2,     7.92,2,25,   20.00,   -999,-999.0000,-999.000, 14.8748,-999.000
     316N151_2,   A24,   137,  1,     20,     20,2,19970626,1137, 44.2175, -29.7680, 2515,    154.5,  14.3713,  35.9153,2,  35.9164,2,    226.9,2,    230.0,2,     2.29,2,     7.19,2,     0.02,2,     0.43,2,    2.801,2,    1.514,2, -999.000,9,-999.0000,9,  -999.00,9,   2107.3,2,    454.5,2,   2355.7,2,     7.91,2,25,   20.00,   -999,-999.0000,-999.000, 14.3484,-999.000
     316N151_2,   A24,   137,  1,     19,     19,2,19970626,1137, 44.2175, -29.7680, 2515,    234.6,  13.4359,  35.7626,2,  35.7604,2,    217.9,2,    214.8,2,     3.78,2,    10.08,2,     0.01,2,     0.62,2,    2.619,2,    1.383,2, -999.000,9,-999.0000,9,  -999.00,9,   2122.5,2,    509.1,2,   2346.7,2,     7.87,2,25,   20.00,   -999,-999.0000,-999.000, 13.4026,-999.000
     316N151_2,   A24,   137,  1,     18,     18,2,19970626,1137, 44.2175, -29.7680, 2515,    294.8,  12.7337,  35.6901,2,  35.6907,2,    200.0,2,    217.2,2,     4.35,2,    11.11,2,     0.01,2,     0.68,2,    2.654,2,    1.415,2, -999.000,9,-999.0000,9,  -999.00,9,   2128.0,2,    532.5,2,   2343.9,2,     7.85,2,25,   20.00,   -999,-999.0000,-999.000, 12.6933,-999.000
     316N151_2,   A24,   137,  1,     17,     17,2,19970626,1137, 44.2175, -29.7680, 2515,    395.6,  12.4283,  35.6755,2,  35.6787,2,    239.3,2,    238.5,2,     3.81,2,     9.95,2,     0.01,2,     0.62,2,    2.972,2,    1.593,2, -999.000,9,-999.0000,9,  -999.00,9,   2120.8,3,    511.5,2,   2343.3,2,     7.86,2,25,   20.00,   -999,-999.0000,-999.000, 12.3747,-999.000
     316N151_2,   A24,   137,  1,     16,     16,2,19970626,1137, 44.2175, -29.7680, 2515,    505.8,  11.4445,  35.5082,2,  35.5075,2,    217.6,2,    219.2,2,     5.60,2,    12.89,2,     0.01,2,     0.81,2,    2.674,2,    1.395,2, -999.000,9,-999.0000,9,  -999.00,9,   2134.7,2,    573.2,2,   2335.6,2,     7.82,2,25,   20.00,   -999,-999.0000,-999.000, 11.3793,-999.000
     316N151_2,   A24,   137,  1,     15,     15,2,19970626,1137, 44.2175, -29.7680, 2515,    596.6,  10.0836,  35.3307,2,  35.3287,2,    198.7,2,    194.2,2,     8.40,2,    17.00,2,     0.00,2,     1.08,2,    2.160,2,    1.096,2, -999.000,9,-999.0000,9,  -999.00,9,   2156.2,2,    676.4,2,   2326.3,2,     7.76,2,25,   20.00,   -999,-999.0000,-999.000, 10.0123,-999.000
     316N151_2,   A24,   137,  1,     14,     14,2,19970626,1137, 44.2175, -29.7680, 2515,    657.0,   9.4939,  35.2989,2,  35.3031,2,    192.4,2,    190.8,2,     9.18,2,    17.98,2,     0.00,2,     1.14,2,    1.985,2,    0.994,2, -999.000,9,-999.0000,9,  -999.00,9,   2163.4,2,    710.5,2,   2326.4,2,     7.74,2,25,   20.00,   -999,-999.0000,-999.000,  9.4180,-999.000
     316N151_2,   A24,   137,  1,     13,     13,2,19970626,1137, 44.2175, -29.7680, 2515,    717.0,   8.4746,  35.1665,2,  35.1683,2,    181.6,2,    182.4,2,    11.27,2,    20.00,2,     0.00,2,     1.29,2,    1.657,2,    0.827,2, -999.000,9,-999.0000,9,  -999.00,9,   2171.5,2,    765.8,2,   2321.7,2,     7.71,2,25,   20.00,   -999,-999.0000,-999.000,  8.3969,-999.000
     316N151_2,   A24,   137,  1,     12,     12,2,19970626,1137, 44.2175, -29.7680, 2515,    836.4,   7.8414,  35.2405,2,  35.2361,2,    192.9,2,    193.9,2,    11.24,2,    19.34,2,     0.00,2,     1.25,2,    1.535,2,    0.788,2, -999.000,9,-999.0000,9,  -999.00,9,   2174.9,2,    759.8,2,   2326.2,2,     7.71,2,25,   20.00,   -999,-999.0000,-999.000,  7.7540,-999.000
     316N151_2,   A24,   137,  1,     11,     11,2,19970626,1137, 44.2175, -29.7680, 2515,    958.8,   6.5287,  35.1578,2,  35.1613,2,    212.9,2,    211.9,2,    11.51,2,    19.06,2,     0.00,2,     1.24,2,    1.650,2,    0.804,2, -999.000,9,-999.0000,9,  -999.00,9,   2173.5,2,    770.9,2,   2322.9,2,     7.71,2,25,   20.00,   -999,-999.0000,-999.000,  6.4371,-999.000
     316N151_2,   A24,   137,  1,     10,     10,2,19970626,1137, 44.2175, -29.7680, 2515,   1110.2,   5.3142,  35.0627,2,  35.0637,2,    232.0,2,    234.1,2,    11.58,2,    18.64,2,     0.00,2,     1.23,2,    1.820,2,    0.887,2, -999.000,9,-999.0000,9,  -999.00,9,   2168.8,2,    771.3,2,   2316.2,2,     7.71,2,25,   20.00,   -999,-999.0000,-999.000,  5.2172,-999.000
     316N151_2,   A24,   137,  1,      9,      9,2,19970626,1137, 44.2175, -29.7680, 2515,   1211.5,   4.8271,  35.0202,2,  35.0204,2,    243.6,2,    244.7,2,    11.55,2,    18.36,2,     0.00,2,     1.21,2,    1.991,2,    0.944,2, -999.000,9,-999.0000,9,  -999.00,9,   2165.5,2,    765.1,2,   2313.4,2,     7.71,2,25,   20.00,   -999,-999.0000,-999.000,  4.7249,-999.000
     316N151_2,   A24,   137,  1,      8,      8,2,19970626,1137, 44.2175, -29.7680, 2515,   1413.5,   4.2690,  34.9753,2,  34.9753,2,    257.7,2,    258.5,2,    11.51,2,    17.94,2,     0.00,2,     1.18,2,    1.900,2,    0.920,2, -999.000,9,-999.0000,9,  -999.00,9,   2159.9,2,    760.8,2,   2310.0,2,     7.71,2,25,   20.00,   -999,-999.0000,-999.000,  4.1537,-999.000
     316N151_2,   A24,   137,  1,      7,      7,2,19970626,1137, 44.2175, -29.7680, 2515,   1514.6,   3.9957,  34.9500,2,  34.9512,2,    262.3,2,    264.5,2,    11.48,2,    17.70,2,     0.00,2,     1.17,2,    1.946,2,    0.921,2, -999.000,9,-999.0000,9,  -999.00,9,   2158.2,2,    758.4,2,   2308.9,2,     7.71,2,25,   20.00,   -999,-999.0000,-999.000,  3.8743,-999.000
     316N151_2,   A24,   137,  1,      6,      6,2,19970626,1137, 44.2175, -29.7680, 2515,   1615.7,   3.9322,  34.9440,2,  34.9447,2,    265.8,2,    266.0,2,    11.45,2,    17.66,2,     0.00,2,     1.17,2,    1.942,2,    0.932,2, -999.000,9,-999.0000,9,  -999.00,9,   2157.2,2,    753.3,2,   2308.1,2,     7.72,2,25,   20.00,   -999,-999.0000,-999.000,  3.8023,-999.000
     316N151_2,   A24,   137,  1,      5,      5,2,19970626,1137, 44.2175, -29.7680, 2515,   1868.1,   3.5365,  34.9155,2,  34.9162,2,    273.5,2,    273.4,2,    11.92,2,    17.37,2,     0.00,2,     1.16,2,    1.896,2,    0.894,2, -999.000,9,-999.0000,9,  -999.00,9,   2155.8,2,    750.8,2,   2307.2,2,     7.72,2,25,   20.00,   -999,-999.0000,-999.000,  3.3884,-999.000
     316N151_2,   A24,   137,  1,      4,      4,2,19970626,1137, 44.2175, -29.7680, 2515,   2120.8,   3.4116,  34.9204,2,  34.9206,2,    275.5,2,    272.2,2,    13.11,2,    17.42,2,     0.00,2,     1.16,2,    1.574,2,    0.766,2, -999.000,9,-999.0000,9,  -999.00,9,   2156.5,2,    742.5,2,   2308.4,2,     7.72,2,25,   20.00,   -999,-999.0000,-999.000,  3.2415,-999.000
     316N151_2,   A24,   137,  1,      3,      3,2,19970626,1137, 44.2175, -29.7680, 2515,   2272.7,   3.3196,  34.9180,2,  34.9202,2,    272.3,2,    272.5,2,    13.58,2,    17.33,2,     0.00,2,     1.15,2,    1.494,2,    0.716,2, -999.000,9,-999.0000,9,  -999.00,9,   2156.8,2,    744.3,2,   2309.6,2,     7.72,2,25,   20.00,   -999,-999.0000,-999.000,  3.1364,-999.000
     316N151_2,   A24,   137,  1,      2,      2,2,19970626,1137, 44.2175, -29.7680, 2515,   2425.0,   3.2544,  34.9199,2,  34.9212,2,    272.4,2,    272.6,2,    13.85,2,    17.28,2,     0.00,2,     1.15,2,    1.418,2,    0.704,2, -999.000,9,-999.0000,9,  -999.00,9,   2157.7,2,    742.3,2,   2309.3,2,     7.72,2,25,   20.00,   -999,-999.0000,-999.000,  3.0573,-999.000
     316N151_2,   A24,   137,  1,      1,      1,2,19970626,1137, 44.2175, -29.7680, 2515,   2559.9,   3.2029,  34.9209,2,  34.9213,2,    272.0,2,    272.5,2,    15.14,2,    17.28,2,     0.00,2,     1.16,2,    1.375,2,    0.668,2, -999.000,9,-999.0000,9,  -999.00,9,   2157.6,2,    741.9,2,   2310.7,2,     7.72,2,25,   20.00,   -999,-999.0000,-999.000,  2.9933,-999.000