BOTTLE,20220629CCHSIOAMB
EXPOCODE,SECT_ID,STNNBR,CASTNO,SAMPNO,BTLNBR,BTLNBR_FLAG_W,DATE,TIME,LATITUDE,LONGITUDE,DEPTH,CTDPRS,CTDTMP,CTDSAL,CTDSAL_FLAG_W,SALNTY,SALNTY_FLAG_W,CTDOXY,CTDOXY_FLAG_W,OXYGEN,OXYGEN_FLAG_W,SILCAT,SILCAT_FLAG_W,NITRAT,NITRAT_FLAG_W,NITRIT,NITRIT_FLAG_W,PHSPHT,PHSPHT_FLAG_W,CFC-11,CFC-11_FLAG_W,CFC-12,CFC-12_FLAG_W,TRITUM,TRITUM_FLAG_W,HELIUM,HELIUM_FLAG_W,DELHE3,DELHE3_FLAG_W,TCARBN,TCARBN_FLAG_W,PCO2,PCO2_FLAG_W,ALKALI,ALKALI_FLAG_W,PH,PH_FLAG_W,PH_TMP,PCO2TMP,CTDRAW,HELIER,DELHER,THETA,TRITER
,,,,,,,,,,,,DBAR,ITS-90,PSS-78,,PSS-78,,UMOL/KG,,UMOL/KG,,UMOL/KG,,UMOL/KG,,UMOL/KG,,UMOL/KG,,PMOL/KG,,PMOL/KG,,TU,,NMOL/KG,,PERCNT,,UMOL/KG,,UATM,,UMOL/KG,,,,DEG C,DEG C,,NMOL/KG,PERCNT,DEG C,TU
     316N151_2,   A24,    23,  1,     31,     31,2,19970604,1626, 46.1543, -16.2325, 4181,      2.7,  15.5668,  35.7464,2,  35.7456,2,    227.1,2,    263.3,2,     0.87,2,     0.05,2,     0.00,2,     0.07,2, -999.000,9, -999.000,9, -999.000,9,-999.0000,9,  -999.00,9,   2063.3,2,   -999.0,9,   2351.1,6,     7.98,2,25, -999.00,   -999,-999.0000,-999.000, 15.5664,-999.000
     316N151_2,   A24,    23,  1,     30,     30,2,19970604,1626, 46.1543, -16.2325, 4181,     35.8,  14.2929,  35.7469,2,  35.7438,2,    256.3,2,    252.4,2,     1.19,2,     1.32,2,     0.14,2,     0.16,2, -999.000,9, -999.000,9, -999.000,9,-999.0000,9,  -999.00,9,   2084.3,2,   -999.0,9,   -999.0,9,  -999.00,9,25, -999.00,   -999,-999.0000,-999.000, 14.2876,-999.000
     316N151_2,   A24,    23,  1,     29,     29,2,19970604,1626, 46.1543, -16.2325, 4181,     66.4,  12.9536,  35.7284,2,  35.7299,2,    246.6,2,    245.6,2,     2.79,2,     7.01,2,     0.03,2,     0.43,2, -999.000,9, -999.000,9, -999.000,9,-999.0000,9,  -999.00,9,   2109.7,2,   -999.0,9,   -999.0,9,  -999.00,9,25, -999.00,   -999,-999.0000,-999.000, 12.9445,-999.000
     316N151_2,   A24,    23,  1,     28,     28,2,19970604,1626, 46.1543, -16.2325, 4181,    107.1,  12.6960,  35.7225,2,  35.7226,2,    247.7,2,    248.1,2,     3.32,2,     8.03,2,     0.01,2,     0.50,2, -999.000,9, -999.000,9, -999.000,9,-999.0000,9,  -999.00,9,   2113.4,2,   -999.0,9,   -999.0,9,  -999.00,9,25, -999.00,   -999,-999.0000,-999.000, 12.6814,-999.000
     316N151_2,   A24,    23,  1,     27,     27,2,19970604,1626, 46.1543, -16.2325, 4181,    167.4,  12.6339,  35.7145,2,  35.7147,2,    247.3,2,    248.7,2,     3.43,2,     8.14,2,     0.01,2,     0.51,2, -999.000,9, -999.000,9, -999.000,9,-999.0000,9,  -999.00,9,   2113.2,2,   -999.0,9,   -999.0,9,  -999.00,9,25, -999.00,   -999,-999.0000,-999.000, 12.6112,-999.000
     316N151_2,   A24,    23,  1,     26,     26,2,19970604,1626, 46.1543, -16.2325, 4181,    237.8,  12.4750,  35.6895,2,  35.6936,2,    247.6,2,    247.3,2,     3.64,2,     8.54,2,     0.01,2,     0.53,2, -999.000,9, -999.000,9, -999.000,9,-999.0000,9,  -999.00,9,   2115.6,2,   -999.0,9,   -999.0,9,  -999.00,9,25, -999.00,   -999,-999.0000,-999.000, 12.4429,-999.000
     316N151_2,   A24,    23,  1,     25,     25,2,19970604,1626, 46.1543, -16.2325, 4181,    317.1,  12.0161,  35.6256,2,  35.6268,2,    239.0,2,    240.7,2,     3.96,2,     9.51,2,     0.01,2,     0.59,2, -999.000,9, -999.000,9, -999.000,9,-999.0000,9,  -999.00,9,   2122.0,2,   -999.0,9,   -999.0,9,  -999.00,9,25, -999.00,   -999,-999.0000,-999.000, 11.9743,-999.000
     316N151_2,   A24,    23,  1,     24,     24,2,19970604,1626, 46.1543, -16.2325, 4181,    407.7,  11.6553,  35.5849,2,  35.5846,2,    236.4,2,    241.8,2,     4.18,2,     9.86,2,     0.01,2,     0.62,2, -999.000,9, -999.000,9, -999.000,9,-999.0000,9,  -999.00,9,   2124.1,2,   -999.0,9,   -999.0,9,  -999.00,9,25, -999.00,   -999,-999.0000,-999.000, 11.6023,-999.000
     316N151_2,   A24,    23,  1,     23,     23,2,19970604,1626, 46.1543, -16.2325, 4181,    489.8,  11.2791,  35.5335,2,  35.5378,2,    228.6,2,    229.2,2,     4.82,2,    11.63,2,     0.00,2,     0.72,2, -999.000,9, -999.000,9, -999.000,9,-999.0000,9,  -999.00,9,   2135.1,2,   -999.0,9,   -999.0,9,  -999.00,9,25, -999.00,   -999,-999.0000,-999.000, 11.2166,-999.000
     316N151_2,   A24,    23,  1,     22,     22,2,19970604,1626, 46.1543, -16.2325, 4181,    570.5,  10.8839,  35.4858,2,  35.4863,2,    222.7,2,    222.8,2,     5.67,2,    13.00,2,     0.00,2,     0.81,2, -999.000,9, -999.000,9, -999.000,9,-999.0000,9,  -999.00,9,   2141.5,2,   -999.0,9,   -999.0,9,  -999.00,9,25, -999.00,   -999,-999.0000,-999.000, 10.8124,-999.000
     316N151_2,   A24,    23,  1,     21,     21,2,19970604,1626, 46.1543, -16.2325, 4181,    661.1,  10.4349,  35.4425,2,  35.4465,2,    220.5,2,    216.8,2,     6.74,2,    14.26,2,     0.00,2,     0.89,2, -999.000,9, -999.000,9, -999.000,9,-999.0000,9,  -999.00,9,   2146.8,2,   -999.0,9,   -999.0,9,  -999.00,9,25, -999.00,   -999,-999.0000,-999.000, 10.3539,-999.000
     316N151_2,   A24,    23,  1,     20,     20,2,19970604,1626, 46.1543, -16.2325, 4181,    765.1,   9.8745,  35.4469,2,  35.4459,2,    199.3,2,    198.4,2,     8.65,2,    16.49,2,     0.00,2,     1.04,2, -999.000,9, -999.000,9, -999.000,9,-999.0000,9,  -999.00,9,   2162.5,2,   -999.0,9,   -999.0,9,  -999.00,9,25, -999.00,   -999,-999.0000,-999.000,  9.7833,-999.000
     316N151_2,   A24,    23,  1,     19,     19,2,19970604,1626, 46.1543, -16.2325, 4181,    864.5,   9.4935,  35.5326,2,  35.5324,2,    190.1,2,    191.1,2,     9.82,2,    17.25,2,     0.00,2,     1.09,2, -999.000,9, -999.000,9, -999.000,9,-999.0000,9,  -999.00,9,   -999.0,9,   -999.0,9,   -999.0,9,  -999.00,9,25, -999.00,   -999,-999.0000,-999.000,  9.3922,-999.000
     316N151_2,   A24,    23,  1,     18,     18,2,19970604,1626, 46.1543, -16.2325, 4181,    965.5,   9.3267,  35.6289,2,  35.6273,2,    189.8,2,    189.9,2,    10.35,2,    17.40,2,     0.00,2,     1.10,2, -999.000,9, -999.000,9, -999.000,9,-999.0000,9,  -999.00,9,   -999.0,9,   -999.0,9,   -999.0,9,  -999.00,9,25, -999.00,   -999,-999.0000,-999.000,  9.2140,-999.000
     316N151_2,   A24,    23,  1,     17,     17,2,19970604,1626, 46.1543, -16.2325, 4181,   1066.1,   8.8500,  35.6178,2,  35.6196,2,    194.1,2,    194.2,2,    10.89,2,    17.51,2,     0.00,2,     1.11,2, -999.000,9, -999.000,9, -999.000,9,-999.0000,9,  -999.00,9,   -999.0,9,   -999.0,9,   -999.0,9,  -999.00,9,25, -999.00,   -999,-999.0000,-999.000,  8.7286,-999.000
     316N151_2,   A24,    23,  1,     16,     16,2,19970604,1626, 46.1543, -16.2325, 4181,   1214.9,   7.8761,  35.5255,2,  35.5141,2,    206.5,2,    205.8,2,    11.42,2,    17.72,2,     0.00,2,     1.13,2, -999.000,9, -999.000,9, -999.000,9,-999.0000,9,  -999.00,9,   -999.0,9,   -999.0,9,   -999.0,9,  -999.00,9,25, -999.00,   -999,-999.0000,-999.000,  7.7454,-999.000
     316N151_2,   A24,    23,  1,     15,     15,2,19970604,1626, 46.1543, -16.2325, 4181,   1421.7,   5.4514,  35.1391,2,  35.1411,2,    238.6,2,    237.6,2,    12.06,2,    18.13,2,     0.00,2,     1.18,2, -999.000,9, -999.000,9, -999.000,9,-999.0000,9,  -999.00,9,   -999.0,9,   -999.0,9,   -999.0,9,  -999.00,9,25, -999.00,   -999,-999.0000,-999.000,  5.3224,-999.000
     316N151_2,   A24,    23,  1,     14,     14,2,19970604,1626, 46.1543, -16.2325, 4181,   1621.3,   4.2466,  34.9835,2,  34.9825,2,    258.1,2,    259.0,2,    11.96,2,    17.83,2,     0.00,2,     1.17,2, -999.000,9, -999.000,9, -999.000,9,-999.0000,9,  -999.00,9,   -999.0,9,   -999.0,9,   -999.0,9,  -999.00,9,25, -999.00,   -999,-999.0000,-999.000,  4.1122,-999.000
     316N151_2,   A24,    23,  1,     13,     13,2,19970604,1626, 46.1543, -16.2325, 4181,   1822.6,   3.8663,  34.9478,2,  34.9470,2,    271.0,2,    267.8,2,    12.18,2,    17.53,2,     0.00,2,     1.16,2, -999.000,9, -999.000,9, -999.000,9,-999.0000,9,  -999.00,9,   -999.0,9,   -999.0,9,   -999.0,9,  -999.00,9,25, -999.00,   -999,-999.0000,-999.000,  3.7179,-999.000
     316N151_2,   A24,    23,  1,     12,     12,2,19970604,1626, 46.1543, -16.2325, 4181,   2027.8,   3.5646,  34.9184,2,  34.9175,2,    271.8,2,    273.3,2,    12.39,2,    17.34,2,     0.00,2,     1.16,2, -999.000,9, -999.000,9, -999.000,9,-999.0000,9,  -999.00,9,   -999.0,9,   -999.0,9,   -999.0,9,  -999.00,9,25, -999.00,   -999,-999.0000,-999.000,  3.4010,-999.000
     316N151_2,   A24,    23,  1,     11,     11,2,19970604,1626, 46.1543, -16.2325, 4181,   2231.7,   3.6029,  34.9581,2,  34.9555,2,    265.2,2,    265.8,2,    14.73,2,    17.64,2,     0.00,2,     1.17,2, -999.000,9, -999.000,9, -999.000,9,-999.0000,9,  -999.00,9,   -999.0,9,   -999.0,9,   -999.0,9,  -999.00,9,25, -999.00,   -999,-999.0000,-999.000,  3.4188,-999.000
     316N151_2,   A24,    23,  1,     10,     10,2,19970604,1626, 46.1543, -16.2325, 4181,   2431.1,   3.4073,  34.9513,2,  34.9513,2,    263.8,2,    265.3,2,    16.33,2,    17.65,2,     0.00,2,     1.18,2, -999.000,9, -999.000,9, -999.000,9,-999.0000,9,  -999.00,9,   -999.0,9,   -999.0,9,   -999.0,9,  -999.00,9,25, -999.00,   -999,-999.0000,-999.000,  3.2068,-999.000
     316N151_2,   A24,    23,  1,      9,      9,2,19970604,1626, 46.1543, -16.2325, 4181,   2633.9,   3.2529,  34.9631,2,  34.9621,2,    260.5,2,    258.6,2,    21.22,2,    18.46,2,     0.00,2,     1.24,2, -999.000,9, -999.000,9, -999.000,9,-999.0000,9,  -999.00,9,   -999.0,9,   -999.0,9,   -999.0,9,  -999.00,9,25, -999.00,   -999,-999.0000,-999.000,  3.0347,-999.000
     316N151_2,   A24,    23,  1,      8,      8,2,19970604,1626, 46.1543, -16.2325, 4181,   2836.9,   3.0734,  34.9560,2,  34.9546,2,    256.1,2,    255.7,2,    24.73,2,    18.97,2,     0.00,2,     1.28,2, -999.000,9, -999.000,9, -999.000,9,-999.0000,9,  -999.00,9,   -999.0,9,   -999.0,9,   -999.0,9,  -999.00,9,25, -999.00,   -999,-999.0000,-999.000,  2.8380,-999.000
     316N151_2,   A24,    23,  1,      7,      7,2,19970604,1626, 46.1543, -16.2325, 4181,   3039.8,   2.9191,  34.9490,2,  34.9475,2,    252.2,2,    252.2,2,    28.77,2,    19.59,2,     0.00,2,     1.33,2, -999.000,9, -999.000,9, -999.000,9,-999.0000,9,  -999.00,9,   -999.0,9,   -999.0,9,   -999.0,9,  -999.00,9,25, -999.00,   -999,-999.0000,-999.000,  2.6659,-999.000
     316N151_2,   A24,    23,  1,      6,      6,2,19970604,1626, 46.1543, -16.2325, 4181,   3243.9,   2.7920,  34.9402,2,  34.9395,2,    250.7,2,    249.5,2,    32.28,2,    20.15,2,     0.00,2,     1.37,2, -999.000,9, -999.000,9, -999.000,9,-999.0000,9,  -999.00,9,   -999.0,9,   -999.0,9,   -999.0,9,  -999.00,9,25, -999.00,   -999,-999.0000,-999.000,  2.5200,-999.000
     316N151_2,   A24,    23,  1,      5,      5,2,19970604,1626, 46.1543, -16.2325, 4181,   3448.3,   2.6922,  34.9315,2,  34.9296,2,    246.2,2,    246.2,2,    35.89,2,    20.77,2,     0.00,2,     1.41,2, -999.000,9, -999.000,9, -999.000,9,-999.0000,9,  -999.00,9,   -999.0,9,   -999.0,9,   -999.0,9,  -999.00,9,25, -999.00,   -999,-999.0000,-999.000,  2.4005,-999.000
     316N151_2,   A24,    23,  1,      4,      4,2,19970604,1626, 46.1543, -16.2325, 4181,   3651.1,   2.6067,  34.9218,2,  34.9202,2,    242.6,2,    242.8,2,    39.51,2,    21.43,2,     0.00,2,     1.46,2, -999.000,9, -999.000,9, -999.000,9,-999.0000,9,  -999.00,9,   -999.0,9,   -999.0,9,   -999.0,9,  -999.00,9,25, -999.00,   -999,-999.0000,-999.000,  2.2949,-999.000
     316N151_2,   A24,    23,  1,      3,      3,2,19970604,1626, 46.1543, -16.2325, 4181,   3854.9,   2.5705,  34.9152,2,  34.9146,2,    240.4,2,    241.2,2,    41.53,2,    21.79,2,     0.00,2,     1.48,2, -999.000,9, -999.000,9, -999.000,9,-999.0000,9,  -999.00,9,   -999.0,9,   -999.0,9,   -999.0,9,  -999.00,9,25, -999.00,   -999,-999.0000,-999.000,  2.2368,-999.000
     316N151_2,   A24,    23,  1,      2,      2,2,19970604,1626, 46.1543, -16.2325, 4181,   4062.0,   2.5646,  34.9122,2,  34.9113,2,    238.7,2,    240.2,2,    42.49,2,    21.90,2,     0.00,2,     1.50,2, -999.000,9, -999.000,9, -999.000,9,-999.0000,9,  -999.00,9,   -999.0,9,   -999.0,9,   -999.0,9,  -999.00,9,25, -999.00,   -999,-999.0000,-999.000,  2.2073,-999.000
     316N151_2,   A24,    23,  1,      1,      1,2,19970604,1626, 46.1543, -16.2325, 4181,   4234.1,   2.5701,  34.9109,2,  34.9101,2,    240.3,2,    240.0,2,    43.13,2,    22.01,2,     0.00,2,     1.50,2, -999.000,9, -999.000,9, -999.000,9,-999.0000,9,  -999.00,9,   -999.0,9,   -999.0,9,   -999.0,9,  -999.00,9,25, -999.00,   -999,-999.0000,-999.000,  2.1925,-999.000