BOTTLE,20220629CCHSIOAMB
EXPOCODE,SECT_ID,STNNBR,CASTNO,SAMPNO,BTLNBR,BTLNBR_FLAG_W,DATE,TIME,LATITUDE,LONGITUDE,DEPTH,CTDPRS,CTDTMP,CTDSAL,CTDSAL_FLAG_W,SALNTY,SALNTY_FLAG_W,CTDOXY,CTDOXY_FLAG_W,OXYGEN,OXYGEN_FLAG_W,SILCAT,SILCAT_FLAG_W,NITRAT,NITRAT_FLAG_W,NITRIT,NITRIT_FLAG_W,PHSPHT,PHSPHT_FLAG_W,CFC-11,CFC-11_FLAG_W,CFC-12,CFC-12_FLAG_W,TRITUM,TRITUM_FLAG_W,HELIUM,HELIUM_FLAG_W,DELHE3,DELHE3_FLAG_W,TCARBN,TCARBN_FLAG_W,PCO2,PCO2_FLAG_W,ALKALI,ALKALI_FLAG_W,PH,PH_FLAG_W,PH_TMP,PCO2TMP,CTDRAW,HELIER,DELHER,THETA,TRITER
,,,,,,,,,,,,DBAR,ITS-90,PSS-78,,PSS-78,,UMOL/KG,,UMOL/KG,,UMOL/KG,,UMOL/KG,,UMOL/KG,,UMOL/KG,,PMOL/KG,,PMOL/KG,,TU,,NMOL/KG,,PERCNT,,UMOL/KG,,UATM,,UMOL/KG,,,,DEG C,DEG C,,NMOL/KG,PERCNT,DEG C,TU
     316N151_2,   A24,   128,  1,     27,     27,2,19970624,1615, 48.6465, -32.2282, 3583,      4.6,  13.3976,  35.3403,2,  35.3425,2,    260.6,2,    265.0,2,     1.64,2,     3.50,2,     0.08,2,     0.31,2, -999.000,9, -999.000,9, -999.000,9,-999.0000,9,  -999.00,9,   2079.5,2,   -999.0,9,   2333.0,6,     7.93,2,25, -999.00,   -999,-999.0000,-999.000, 13.3969,-999.000
     316N151_2,   A24,   128,  1,     26,     26,2,19970624,1615, 48.6465, -32.2282, 3583,     35.0,  12.9153,  35.3873,2,  35.3644,2,    265.1,2,    266.4,2,     1.83,2,     3.81,2,     0.08,2,     0.31,2, -999.000,9, -999.000,9, -999.000,9,-999.0000,9,  -999.00,9,   2083.4,2,    437.5,2,   -999.0,9,  -999.00,9,25,   20.00,   -999,-999.0000,-999.000, 12.9105,-999.000
     316N151_2,   A24,   128,  1,     25,     25,2,19970624,1615, 48.6465, -32.2282, 3583,     86.9,  11.4346,  35.3674,2,  35.3775,2,    243.2,2,    245.5,2,     4.04,2,     9.22,2,     0.22,2,     0.61,2, -999.000,9, -999.000,9, -999.000,9,-999.0000,9,  -999.00,9,   2115.9,2,   -999.0,9,   -999.0,9,  -999.00,9,25, -999.00,   -999,-999.0000,-999.000, 11.4236,-999.000
     316N151_2,   A24,   128,  1,     24,     24,2,19970624,1615, 48.6465, -32.2282, 3583,    136.5,  10.9568,  35.3713,2,  35.3694,2,    241.0,2,    237.6,2,     5.24,2,    11.30,2,     0.09,2,     0.73,2, -999.000,9, -999.000,9, -999.000,9,-999.0000,9,  -999.00,9,   2127.2,2,   -999.0,9,   2329.9,2,     7.83,2,25, -999.00,   -999,-999.0000,-999.000, 10.9400,-999.000
     316N151_2,   A24,   128,  1,     23,     23,2,19970624,1615, 48.6465, -32.2282, 3583,    175.5,  10.9259,  35.4222,2,  35.4179,2,    235.4,2,    231.1,2,     5.93,2,    12.32,2,     0.05,2,     0.79,2, -999.000,9, -999.000,9, -999.000,9,-999.0000,9,  -999.00,9,   2132.4,2,   -999.0,9,   -999.0,9,  -999.00,9,25, -999.00,   -999,-999.0000,-999.000, 10.9043,-999.000
     316N151_2,   A24,   128,  1,     22,     22,2,19970624,1615, 48.6465, -32.2282, 3583,    226.8,  10.9298,  35.4710,2,  35.4694,2,    236.1,2,    242.2,2,     5.42,2,    11.54,2,     0.04,2,     0.74,2, -999.000,9, -999.000,9, -999.000,9,-999.0000,9,  -999.00,9,   2129.4,2,   -999.0,9,   2334.9,2,     7.84,2,25, -999.00,   -999,-999.0000,-999.000, 10.9017,-999.000
     316N151_2,   A24,   128,  1,     21,     21,2,19970624,1615, 48.6465, -32.2282, 3583,    266.2,  10.4784,  35.3976,2,  35.3888,2,    239.4,2,    237.4,2,     6.12,2,    12.53,2,     0.02,2,     0.81,2, -999.000,9, -999.000,9, -999.000,9,-999.0000,9,  -999.00,9,   2134.7,2,   -999.0,9,   -999.0,9,  -999.00,9,25, -999.00,   -999,-999.0000,-999.000, 10.4463,-999.000
     316N151_2,   A24,   128,  1,     20,     20,2,19970624,1615, 48.6465, -32.2282, 3583,    317.3,  10.0495,  35.3238,2,  35.3206,2,    235.8,2,    242.0,2,     6.41,2,    12.87,2,     0.02,2,     0.84,2, -999.000,9, -999.000,9, -999.000,9,-999.0000,9,  -999.00,9,   2134.8,2,   -999.0,9,   2328.2,2,     7.81,2,25, -999.00,   -999,-999.0000,-999.000, 10.0122,-999.000
     316N151_2,   A24,   128,  1,     19,     19,2,19970624,1615, 48.6465, -32.2282, 3583,    418.3,   8.5992,  35.1267,2,  35.1270,2,    223.6,2,    238.8,2,     8.22,2,    14.88,2,     0.02,2,     0.98,2, -999.000,9, -999.000,9, -999.000,9,-999.0000,9,  -999.00,9,   2143.7,2,   -999.0,9,   -999.0,9,  -999.00,9,25, -999.00,   -999,-999.0000,-999.000,  8.5543,-999.000
     316N151_2,   A24,   128,  1,     18,     18,2,19970624,1615, 48.6465, -32.2282, 3583,    527.9,   7.1311,  34.9743,2,  34.9736,2,    220.0,2,    217.9,2,    10.83,2,    18.11,2,     0.02,2,     1.19,2, -999.000,9, -999.000,9, -999.000,9,-999.0000,9,  -999.00,9,   2162.6,2,   -999.0,9,   2312.9,2,     7.72,2,25, -999.00,   -999,-999.0000,-999.000,  7.0799,-999.000
     316N151_2,   A24,   128,  1,     17,     17,2,19970624,1615, 48.6465, -32.2282, 3583,    628.3,   5.7400,  34.8795,2,  34.8777,2,    230.3,2,    236.3,2,    11.03,2,    18.02,2,     0.01,2,     1.20,2,    2.955,2,    1.500,2, -999.000,9,-999.0000,9,  -999.00,9,   -999.0,9,   -999.0,9,   -999.0,9,  -999.00,9,25, -999.00,   -999,-999.0000,-999.000,  5.6854,-999.000
     316N151_2,   A24,   128,  1,     16,     16,2,19970624,1615, 48.6465, -32.2282, 3583,    730.9,   5.0889,  34.9279,2,  34.9280,2,    233.4,2,    233.4,2,    11.92,2,    18.78,2,     0.00,2,     1.24,2,    2.587,2,    1.283,2, -999.000,9,-999.0000,9,  -999.00,9,   -999.0,9,   -999.0,9,   2308.9,2,     7.70,2,25, -999.00,   -999,-999.0000,-999.000,  5.0285,-999.000
     316N151_2,   A24,   128,  1,     15,     15,2,19970624,1615, 48.6465, -32.2282, 3583,    862.2,   4.6130,  34.9653,2,  34.9688,2,    247.3,2,    247.4,2,    11.71,2,    18.36,2,     0.00,2,     1.21,2,    2.459,2,    1.195,2, -999.000,9,-999.0000,9,  -999.00,9,   -999.0,9,   -999.0,9,   -999.0,9,  -999.00,9,25, -999.00,   -999,-999.0000,-999.000,  4.5439,-999.000
     316N151_2,   A24,   128,  1,     14,     14,2,19970624,1615, 48.6465, -32.2282, 3583,   1012.6,   4.2273,  34.9526,2,  34.9544,2,    257.1,2,    259.0,2,    11.50,2,    17.94,2,     0.00,2,     1.18,2,    2.437,2,    1.187,2, -999.000,9,-999.0000,9,  -999.00,9,   -999.0,9,   -999.0,9,   2309.6,2,     7.71,2,25, -999.00,   -999,-999.0000,-999.000,  4.1480,-999.000
     316N151_2,   A24,   128,  1,     13,     13,2,19970624,1615, 48.6465, -32.2282, 3583,   1262.5,   3.6809,  34.9067,2,  34.9065,2,    271.6,2,    273.3,2,    11.29,2,    17.47,2,     0.00,2,     1.15,2,    2.703,2,    1.294,2, -999.000,9,-999.0000,9,  -999.00,9,   -999.0,9,   -999.0,9,   -999.0,9,  -999.00,9,25, -999.00,   -999,-999.0000,-999.000,  3.5851,-999.000
     316N151_2,   A24,   128,  1,     12,     12,2,19970624,1615, 48.6465, -32.2282, 3583,   1415.1,   3.4956,  34.8926,2,  34.8937,2,    278.2,2,    278.2,2,    11.18,2,    17.33,2,     0.00,2,     1.14,2, -999.000,9, -999.000,9, -999.000,9,-999.0000,9,  -999.00,9,   -999.0,9,   -999.0,9,   -999.0,9,  -999.00,9,25, -999.00,   -999,-999.0000,-999.000,  3.3887,-999.000
     316N151_2,   A24,   128,  1,     11,     11,2,19970624,1615, 48.6465, -32.2282, 3583,   1564.8,   3.3557,  34.8831,2,  34.8829,2,    280.7,2,    282.2,2,    11.17,2,    17.10,2,     0.00,2,     1.13,2, -999.000,9, -999.000,9, -999.000,9,-999.0000,9,  -999.00,9,   -999.0,9,   -999.0,9,   -999.0,9,  -999.00,9,25, -999.00,   -999,-999.0000,-999.000,  3.2374,-999.000
     316N151_2,   A24,   128,  1,     10,     10,2,19970624,1615, 48.6465, -32.2282, 3583,   1717.7,   3.2859,  34.8804,2,  34.8823,2,    282.0,2,    283.3,2,    11.26,2,    17.00,2,     0.00,2,     1.13,2, -999.000,9, -999.000,9, -999.000,9,-999.0000,9,  -999.00,9,   -999.0,9,   -999.0,9,   -999.0,9,  -999.00,9,25, -999.00,   -999,-999.0000,-999.000,  3.1549,-999.000
     316N151_2,   A24,   128,  1,      9,      9,2,19970624,1615, 48.6465, -32.2282, 3583,   1919.5,   3.1987,  34.8769,2,  34.8761,2,    282.9,2,    285.6,2,    11.26,2,    16.91,2,     0.00,2,     1.12,2, -999.000,9, -999.000,9, -999.000,9,-999.0000,9,  -999.00,9,   -999.0,9,   -999.0,9,   -999.0,9,  -999.00,9,25, -999.00,   -999,-999.0000,-999.000,  3.0508,-999.000
     316N151_2,   A24,   128,  1,      8,      8,2,19970624,1615, 48.6465, -32.2282, 3583,   2172.8,   3.1583,  34.8867,2,  34.8879,2,    281.6,2,    283.6,2,    11.75,2,    16.86,2,     0.00,2,     1.12,2, -999.000,9, -999.000,9, -999.000,9,-999.0000,9,  -999.00,9,   -999.0,9,   -999.0,9,   -999.0,9,  -999.00,9,25, -999.00,   -999,-999.0000,-999.000,  2.9874,-999.000
     316N151_2,   A24,   128,  1,      7,      7,2,19970624,1615, 48.6465, -32.2282, 3583,   2427.8,   3.1709,  34.9088,2,  34.9101,2,    280.2,2,    278.0,2,    12.75,2,    16.86,2,     0.00,2,     1.12,2,    1.858,2,    0.898,2, -999.000,9,-999.0000,9,  -999.00,9,   -999.0,9,   -999.0,9,   -999.0,9,  -999.00,9,25, -999.00,   -999,-999.0000,-999.000,  2.9751,-999.000
     316N151_2,   A24,   128,  1,      6,      6,2,19970624,1615, 48.6465, -32.2282, 3583,   2679.8,   3.1087,  34.9241,2,  34.9247,2,    277.1,2,    274.0,2,    14.26,2,    16.91,2,     0.00,2,     1.13,2, -999.000,9, -999.000,9, -999.000,9,-999.0000,9,  -999.00,9,   -999.0,9,   -999.0,9,   -999.0,9,  -999.00,9,25, -999.00,   -999,-999.0000,-999.000,  2.8888,-999.000
     316N151_2,   A24,   128,  1,      5,      5,2,19970624,1615, 48.6465, -32.2282, 3583,   2933.4,   2.9696,  34.9270,2,  34.9285,2,    274.9,2,    273.6,2,    14.96,2,    16.82,2,     0.00,2,     1.12,2,    1.165,2,    0.565,2, -999.000,9,-999.0000,9,  -999.00,9,   -999.0,9,   -999.0,9,   -999.0,9,  -999.00,9,25, -999.00,   -999,-999.0000,-999.000,  2.7265,-999.000
     316N151_2,   A24,   128,  1,      4,      4,2,19970624,1615, 48.6465, -32.2282, 3583,   3187.9,   2.7755,  34.9249,2,  34.9247,2,    273.1,2,    273.5,2,    16.36,2,    16.77,2,     0.00,2,     1.13,2, -999.000,9, -999.000,9, -999.000,9,-999.0000,9,  -999.00,9,   -999.0,9,   -999.0,9,   -999.0,9,  -999.00,9,25, -999.00,   -999,-999.0000,-999.000,  2.5099,-999.000
     316N151_2,   A24,   128,  1,      3,      3,2,19970624,1615, 48.6465, -32.2282, 3583,   3391.7,   2.6288,  34.9192,2,  34.9187,2,    272.8,2,    274.1,2,    17.36,2,    16.82,2,     0.00,2,     1.13,2, -999.000,9, -999.000,9, -999.000,9,-999.0000,9,  -999.00,9,   -999.0,9,   -999.0,9,   -999.0,9,  -999.00,9,25, -999.00,   -999,-999.0000,-999.000,  2.3449,-999.000
     316N151_2,   A24,   128,  1,      2,      2,2,19970624,1615, 48.6465, -32.2282, 3583,   3544.8,   2.5247,  34.9138,2,  34.9136,2,    272.0,2,    274.9,2,    18.06,2,    16.77,2,     0.00,2,     1.13,2,    1.113,2,    0.549,2, -999.000,9,-999.0000,9,  -999.00,9,   -999.0,9,   -999.0,9,   -999.0,9,  -999.00,9,25, -999.00,   -999,-999.0000,-999.000,  2.2268,-999.000
     316N151_2,   A24,   128,  1,      1,      1,2,19970624,1615, 48.6465, -32.2282, 3583,   3636.4,   2.4996,  34.9114,2,  34.9124,2,    272.9,2,    273.7,2,    18.35,2,    16.77,2,     0.00,2,     1.13,2,    1.145,2,    0.557,2, -999.000,9,-999.0000,9,  -999.00,9,   -999.0,9,   -999.0,9,   -999.0,9,  -999.00,9,25, -999.00,   -999,-999.0000,-999.000,  2.1923,-999.000