BOTTLE,20220629CCHSIOAMB
EXPOCODE,SECT_ID,STNNBR,CASTNO,SAMPNO,BTLNBR,BTLNBR_FLAG_W,DATE,TIME,LATITUDE,LONGITUDE,DEPTH,CTDPRS,CTDTMP,CTDSAL,CTDSAL_FLAG_W,SALNTY,SALNTY_FLAG_W,CTDOXY,CTDOXY_FLAG_W,OXYGEN,OXYGEN_FLAG_W,SILCAT,SILCAT_FLAG_W,NITRAT,NITRAT_FLAG_W,NITRIT,NITRIT_FLAG_W,PHSPHT,PHSPHT_FLAG_W,CFC-11,CFC-11_FLAG_W,CFC-12,CFC-12_FLAG_W,TRITUM,TRITUM_FLAG_W,HELIUM,HELIUM_FLAG_W,DELHE3,DELHE3_FLAG_W,TCARBN,TCARBN_FLAG_W,PCO2,PCO2_FLAG_W,ALKALI,ALKALI_FLAG_W,PH,PH_FLAG_W,PH_TMP,PCO2TMP,CTDRAW,HELIER,DELHER,THETA,TRITER
,,,,,,,,,,,,DBAR,ITS-90,PSS-78,,PSS-78,,UMOL/KG,,UMOL/KG,,UMOL/KG,,UMOL/KG,,UMOL/KG,,UMOL/KG,,PMOL/KG,,PMOL/KG,,TU,,NMOL/KG,,PERCNT,,UMOL/KG,,UATM,,UMOL/KG,,,,DEG C,DEG C,,NMOL/KG,PERCNT,DEG C,TU
     316N151_2,   A24,   133,  1,     28,     28,2,19970625,1744, 46.0850, -30.7770, 3271,      4.9,  16.3933,  35.6576,2,  35.6595,2,    268.5,2,    265.1,2,     0.26,2,     0.84,2,     0.04,2,     0.09,2, -999.000,9, -999.000,9, -999.000,9,-999.0000,9,  -999.00,9,   2058.5,2,   -999.0,9,   2349.9,2,     7.98,2,25, -999.00,   -999,-999.0000,-999.000, 16.3925,-999.000
     316N151_2,   A24,   133,  1,     27,     27,2,19970625,1744, 46.0850, -30.7770, 3271,      5.2,  16.3940,  35.6588,2,  35.6613,2,    269.0,2,    265.6,2,     0.27,2,     0.84,2,     0.04,2,     0.09,2,    2.938,2,    1.607,2, -999.000,9,-999.0000,9,  -999.00,9,   -999.0,9,    364.7,2,   2348.1,6,     7.98,2,25,   20.00,   -999,-999.0000,-999.000, 16.3931,-999.000
     316N151_2,   A24,   133,  1,     26,     26,2,19970625,1744, 46.0850, -30.7770, 3271,     35.6,  14.9238,  35.9290,2,  35.9232,2,    253.6,2,    253.1,2,     0.98,2,     2.35,2,     0.11,2,     0.19,2, -999.000,9, -999.000,9, -999.000,9,-999.0000,9,  -999.00,9,   2079.6,2,    394.3,2,   2359.5,2,     7.96,2,25,   20.00,   -999,-999.0000,-999.000, 14.9184,-999.000
     316N151_2,   A24,   133,  1,     25,     25,2,19970625,1744, 46.0850, -30.7770, 3271,     76.2,  13.4304,  35.7172,2,  35.7176,2,    243.5,2,    237.0,2,     2.71,2,     7.45,2,     0.12,2,     0.46,2,    2.964,2,    1.597,2, -999.000,9,-999.0000,9,  -999.00,9,   2102.3,2,    469.5,2,   2349.4,2,     7.89,2,25,   20.00,   -999,-999.0000,-999.000, 13.4196,-999.000
     316N151_2,   A24,   133,  1,     24,     24,2,19970625,1744, 46.0850, -30.7770, 3271,    125.7,  12.3781,  35.5987,2,  35.5992,2,    223.7,2,    226.1,2,     4.53,2,    10.52,2,     0.03,2,     0.65,2, -999.000,9, -999.000,9, -999.000,9,-999.0000,9,  -999.00,9,   2123.9,2,    522.9,2,   2341.3,2,     7.85,2,25,   20.00,   -999,-999.0000,-999.000, 12.3613,-999.000
     316N151_2,   A24,   133,  1,     23,     23,2,19970625,1744, 46.0850, -30.7770, 3271,    167.1,  12.1404,  35.6032,2,  35.6083,2,    226.5,2,    226.9,2,     4.94,2,    11.13,2,     0.02,2,     0.70,2,    2.799,2,    1.498,2, -999.000,9,-999.0000,9,  -999.00,9,   2127.4,2,    534.9,2,   2341.4,2,     7.84,2,25,   20.00,   -999,-999.0000,-999.000, 12.1183,-999.000
     316N151_2,   A24,   133,  1,     22,     22,2,19970625,1744, 46.0850, -30.7770, 3271,    227.4,  11.2919,  35.4629,2,  35.4794,2,    223.6,2,    222.4,2,     6.06,2,    12.82,2,     0.01,2,     0.81,2,    2.716,2,    1.442,2, -999.000,9,-999.0000,9,  -999.00,9,   2135.6,2,    570.7,2,   2335.7,2,     7.82,2,25,   20.00,   -999,-999.0000,-999.000, 11.2632,-999.000
     316N151_2,   A24,   133,  1,     21,     21,2,19970625,1744, 46.0850, -30.7770, 3271,    326.4,  10.6499,  35.4279,2,  35.4349,2,    233.4,2,    240.1,2,     5.97,2,    12.16,2,     0.02,2,     0.78,2,    3.018,2,    1.629,2, -999.000,9,-999.0000,9,  -999.00,9,   2131.9,3,    564.3,2,   2335.6,2,     7.83,2,25,   20.00,   -999,-999.0000,-999.000, 10.6100,-999.000
     316N151_2,   A24,   133,  1,     20,     20,2,19970625,1744, 46.0850, -30.7770, 3271,    426.7,   9.0495,  35.1920,2,  35.1860,2,    194.6,2,    205.0,2,     9.72,2,    17.30,2,     0.01,2,     1.12,2,    2.304,2,    1.195,2, -999.000,9,-999.0000,9,  -999.00,9,   2158.9,2,    696.1,2,   2322.4,2,     7.75,2,25,   20.00,   -999,-999.0000,-999.000,  9.0022,-999.000
     316N151_2,   A24,   133,  1,     19,     19,2,19970625,1744, 46.0850, -30.7770, 3271,    507.3,   8.2620,  35.1462,2,  35.1448,2,    186.0,2,    182.6,2,    12.15,2,    20.21,2,     0.00,2,     1.31,2,    1.652,2,    0.830,2, -999.000,9,-999.0000,9,  -999.00,9,   2173.9,2,    774.9,2,   2320.3,2,     7.70,2,25,   20.00,   -999,-999.0000,-999.000,  8.2085,-999.000
     316N151_2,   A24,   133,  1,     18,     18,2,19970625,1744, 46.0850, -30.7770, 3271,    604.8,   6.7361,  35.0769,2,  35.0749,2,    203.8,2,    202.1,2,    12.57,2,    19.84,2,     0.00,2,     1.30,2,    1.781,2,    0.870,2, -999.000,9,-999.0000,9,  -999.00,9,   2176.0,2,    789.8,2,   2318.1,2,     7.70,2,25,   20.00,   -999,-999.0000,-999.000,  6.6789,-999.000
     316N151_2,   A24,   133,  1,     17,     17,2,19970625,1744, 46.0850, -30.7770, 3271,    704.4,   6.0751,  35.0697,2,  35.0687,2,    214.5,2,    213.9,2,    12.68,2,    19.42,2,     0.00,2,     1.28,2,    1.808,2,    0.885,2, -999.000,9,-999.0000,9,  -999.00,9,   2176.3,2,    788.2,2,   2318.3,2,     7.70,2,25,   20.00,   -999,-999.0000,-999.000,  6.0115,-999.000
     316N151_2,   A24,   133,  1,     16,     16,2,19970625,1744, 46.0850, -30.7770, 3271,    804.8,   5.7456,  35.0989,2,  35.0947,2,    228.3,2,    224.6,2,    12.38,2,    18.95,2,     0.00,2,     1.25,2,    1.750,2,    0.850,2, -999.000,9,-999.0000,9,  -999.00,9,   2173.1,2,    775.0,2,   2319.0,2,     7.71,2,25,   20.00,   -999,-999.0000,-999.000,  5.6744,-999.000
     316N151_2,   A24,   133,  1,     15,     15,2,19970625,1744, 46.0850, -30.7770, 3271,    906.2,   5.0536,  35.0381,2,  35.0425,2,    237.7,2,    239.0,2,    12.29,2,    18.54,2,     0.00,2,     1.21,2,    1.902,2,    0.910,2, -999.000,9,-999.0000,9,  -999.00,9,   2169.3,2,    770.4,2,   2315.3,2,     7.71,2,25,   20.00,   -999,-999.0000,-999.000,  4.9776,-999.000
     316N151_2,   A24,   133,  1,     14,     14,2,19970625,1744, 46.0850, -30.7770, 3271,   1056.8,   4.4095,  34.9819,2,  34.9831,2,    254.6,2,    254.6,2,    12.09,2,    18.12,2,     0.00,2,     1.19,2,    2.040,2,    0.990,2, -999.000,9,-999.0000,9,  -999.00,9,   2163.1,2,    764.7,2,   2313.1,2,     7.71,2,25,   20.00,   -999,-999.0000,-999.000,  4.3250,-999.000
     316N151_2,   A24,   133,  1,     13,     13,2,19970625,1744, 46.0850, -30.7770, 3271,   1207.5,   4.0941,  34.9639,2,  34.9636,2,    260.7,2,    261.5,2,    12.30,2,    17.88,2,     0.00,2,     1.18,2,    1.874,2,    0.902,2, -999.000,9,-999.0000,9,  -999.00,9,   2161.3,2,    762.0,2,   2311.1,2,     7.71,2,25,   20.00,   -999,-999.0000,-999.000,  3.9991,-999.000
     316N151_2,   A24,   133,  1,     12,     12,2,19970625,1744, 46.0850, -30.7770, 3271,   1358.6,   3.6594,  34.9116,2,  34.9111,2,    270.2,2,    273.2,2,    11.81,2,    17.51,2,     0.00,2,     1.16,2,    2.437,2,    1.171,2, -999.000,9,-999.0000,9,  -999.00,9,   2158.1,2,   -999.0,9,   2306.6,2,     7.71,2,25, -999.00,   -999,-999.0000,-999.000,  3.5556,-999.000
     316N151_2,   A24,   133,  1,     11,     11,2,19970625,1744, 46.0850, -30.7770, 3271,   1510.5,   3.5331,  34.9028,2,  34.9023,2,    275.8,2,    276.1,2,    11.81,2,    17.37,2,     0.00,2,     1.15,2,    2.412,2,    1.160,2, -999.000,9,-999.0000,9,  -999.00,9,   2156.2,2,   -999.0,9,   2304.4,2,     7.71,2,25, -999.00,   -999,-999.0000,-999.000,  3.4174,-999.000
     316N151_2,   A24,   133,  1,     10,     10,2,19970625,1744, 46.0850, -30.7770, 3271,   1662.3,   3.3929,  34.8926,2,  34.8940,2,    279.7,2,    279.4,2,    11.82,2,    17.24,2,     0.00,2,     1.13,2,    2.443,2,    1.174,2, -999.000,9,-999.0000,9,  -999.00,9,   2157.1,2,   -999.0,9,   2304.0,2,     7.71,2,25, -999.00,   -999,-999.0000,-999.000,  3.2655,-999.000
     316N151_2,   A24,   133,  1,      9,      9,2,19970625,1744, 46.0850, -30.7770, 3271,   1812.1,   3.3177,  34.8951,2,  34.8962,2,    277.3,2,    280.0,2,    12.24,2,    17.14,2,     0.00,2,     1.13,2,    2.373,2,    1.137,2, -999.000,9,-999.0000,9,  -999.00,9,   2156.3,2,   -999.0,9,   2304.7,2,     7.72,2,25, -999.00,   -999,-999.0000,-999.000,  3.1779,-999.000
     316N151_2,   A24,   133,  1,      8,      8,2,19970625,1744, 46.0850, -30.7770, 3271,   2014.1,   3.2724,  34.8975,2,  34.8986,2,    280.1,2,    279.2,2,    12.75,2,    17.10,2,     0.00,2,     1.14,2,    2.153,2,    1.038,2, -999.000,9,-999.0000,9,  -999.00,9,   2157.7,2,    746.7,2,   2306.5,2,     7.72,2,25,   20.00,   -999,-999.0000,-999.000,  3.1146,-999.000
     316N151_2,   A24,   133,  1,      7,      7,2,19970625,1744, 46.0850, -30.7770, 3271,   2212.2,   3.2247,  34.9059,2,  34.9045,2,    275.8,2,    277.7,2,    13.36,2,    17.05,2,     0.00,2,     1.13,2,    1.915,2,    0.921,2, -999.000,9,-999.0000,9,  -999.00,9,   2157.2,2,   -999.0,9,   2306.7,2,     7.72,2,25, -999.00,   -999,-999.0000,-999.000,  3.0489,-999.000
     316N151_2,   A24,   133,  1,      6,      6,2,19970625,1744, 46.0850, -30.7770, 3271,   2413.6,   3.1414,  34.9210,2,  34.9208,2,    275.0,2,    273.7,2,    14.89,2,    17.05,2,     0.00,2,     1.14,2,    1.411,2,    0.689,2, -999.000,9,-999.0000,9,  -999.00,9,   2158.6,2,   -999.0,9,   2311.5,2,     7.72,2,25, -999.00,   -999,-999.0000,-999.000,  2.9475,-999.000
     316N151_2,   A24,   133,  1,      5,      5,2,19970625,1744, 46.0850, -30.7770, 3271,   2616.7,   3.0282,  34.9269,2,  34.9254,2,    271.5,2,    272.4,2,    15.91,2,    17.06,2,     0.00,2,     1.14,2,    1.201,2,    0.591,2, -999.000,9,-999.0000,9,  -999.00,9,   2159.2,2,   -999.0,9,   2312.3,2,     7.72,2,25, -999.00,   -999,-999.0000,-999.000,  2.8162,-999.000
     316N151_2,   A24,   133,  1,      4,      4,2,19970625,1744, 46.0850, -30.7770, 3271,   2821.9,   2.8872,  34.9274,2,  34.9260,2,    271.6,2,    272.4,2,    16.63,2,    17.01,2,     0.00,2,     1.14,2,    1.096,2,    0.537,2, -999.000,9,-999.0000,9,  -999.00,9,   2161.0,2,   -999.0,9,   2313.5,2,     7.72,2,25, -999.00,   -999,-999.0000,-999.000,  2.6573,-999.000
     316N151_2,   A24,   133,  1,      3,      3,2,19970625,1744, 46.0850, -30.7770, 3271,   3024.8,   2.7467,  34.9234,2,  34.9228,2,    271.8,2,    273.0,2,    17.54,2,    16.92,2,     0.00,2,     1.14,2,    1.089,2,    0.529,2, -999.000,9,-999.0000,9,  -999.00,9,   2163.7,2,    740.5,2,   2313.1,2,     7.72,2,25,   20.00,   -999,-999.0000,-999.000,  2.4989,-999.000
     316N151_2,   A24,   133,  1,      2,      2,2,19970625,1744, 46.0850, -30.7770, 3271,   3178.2,   2.6024,  34.9190,2,  34.9177,2,    272.3,2,    273.8,2,    17.65,2,    16.87,2,     0.00,2,     1.14,2,    1.125,2,    0.549,2, -999.000,9,-999.0000,9,  -999.00,9,   2162.7,2,   -999.0,9,   2314.9,2,     7.73,2,25, -999.00,   -999,-999.0000,-999.000,  2.3419,-999.000
     316N151_2,   A24,   133,  1,      1,      1,2,19970625,1744, 46.0850, -30.7770, 3271,   3292.6,   2.5349,  34.9142,2,  34.9144,2,    275.3,2,    272.4,2,    18.17,2,    16.88,2,     0.00,2,     1.14,2,    1.154,2,    0.556,2, -999.000,9,-999.0000,9,  -999.00,9,   2163.1,2,    740.1,2,   2315.5,2,     7.72,2,25,   20.00,   -999,-999.0000,-999.000,  2.2639,-999.000