BOTTLE,20220629CCHSIOAMB
EXPOCODE,SECT_ID,STNNBR,CASTNO,SAMPNO,BTLNBR,BTLNBR_FLAG_W,DATE,TIME,LATITUDE,LONGITUDE,DEPTH,CTDPRS,CTDTMP,CTDSAL,CTDSAL_FLAG_W,SALNTY,SALNTY_FLAG_W,CTDOXY,CTDOXY_FLAG_W,OXYGEN,OXYGEN_FLAG_W,SILCAT,SILCAT_FLAG_W,NITRAT,NITRAT_FLAG_W,NITRIT,NITRIT_FLAG_W,PHSPHT,PHSPHT_FLAG_W,CFC-11,CFC-11_FLAG_W,CFC-12,CFC-12_FLAG_W,TRITUM,TRITUM_FLAG_W,HELIUM,HELIUM_FLAG_W,DELHE3,DELHE3_FLAG_W,TCARBN,TCARBN_FLAG_W,PCO2,PCO2_FLAG_W,ALKALI,ALKALI_FLAG_W,PH,PH_FLAG_W,PH_TMP,PCO2TMP,CTDRAW,HELIER,DELHER,THETA,TRITER
,,,,,,,,,,,,DBAR,ITS-90,PSS-78,,PSS-78,,UMOL/KG,,UMOL/KG,,UMOL/KG,,UMOL/KG,,UMOL/KG,,UMOL/KG,,PMOL/KG,,PMOL/KG,,TU,,NMOL/KG,,PERCNT,,UMOL/KG,,UATM,,UMOL/KG,,,,DEG C,DEG C,,NMOL/KG,PERCNT,DEG C,TU
     316N151_2,   A24,    21,  1,      4,      4,2,19970604,0542, 45.4643, -17.2908, 4264,      2.1,  14.9993,  35.6666,2,  35.6696,2,    262.9,2,    262.9,2,     0.71,2,     0.05,2,     0.01,2,     0.08,2, -999.000,9, -999.000,9, -999.000,9,-999.0000,9,  -999.00,9,   2060.3,2,   -999.0,9,   2345.3,6,     7.98,6,25, -999.00,   -999,-999.0000,-999.000, 14.9990,-999.000
     316N151_2,   A24,    21,  1,     31,     31,2,19970604,0542, 45.4643, -17.2908, 4264,     47.1,  13.2436,  35.7332,2,  35.7329,2,    242.0,2,    249.8,2,     2.03,2,     4.54,2,     0.36,2,     0.34,2, -999.000,9, -999.000,9, -999.000,9,-999.0000,9,  -999.00,9,   2104.7,2,   -999.0,9,   2345.8,2,     7.91,2,25, -999.00,   -999,-999.0000,-999.000, 13.2370,-999.000
     316N151_2,   A24,    21,  1,     30,     30,2,19970604,0542, 45.4643, -17.2908, 4264,     77.5,  12.7774,  35.7289,2,  35.7288,2,    243.5,2,    247.5,2,     3.19,2,     7.93,2,     0.03,2,     0.50,2, -999.000,9, -999.000,9, -999.000,9,-999.0000,9,  -999.00,9,   2118.4,2,   -999.0,9,   2346.6,2,     7.88,2,25, -999.00,   -999,-999.0000,-999.000, 12.7668,-999.000
     316N151_2,   A24,    21,  1,     29,     29,2,19970604,0542, 45.4643, -17.2908, 4264,    112.5,  12.6904,  35.7233,2,  35.7238,2,    242.0,2,    248.3,2,     3.18,2,     7.94,2,     0.02,2,     0.50,2, -999.000,9, -999.000,9, -999.000,9,-999.0000,9,  -999.00,9,   2116.6,2,   -999.0,9,   2346.5,2,     7.88,2,25, -999.00,   -999,-999.0000,-999.000, 12.6751,-999.000
     316N151_2,   A24,    21,  1,     28,     28,2,19970604,0542, 45.4643, -17.2908, 4264,    208.1,  12.5413,  35.7029,2,  35.7033,2,    246.1,2,    249.0,2,     3.17,2,     7.99,2,     0.01,2,     0.51,2, -999.000,9, -999.000,9, -999.000,9,-999.0000,9,  -999.00,9,   2116.5,2,   -999.0,9,   2344.7,2,     7.88,2,25, -999.00,   -999,-999.0000,-999.000, 12.5131,-999.000
     316N151_2,   A24,    21,  1,     27,     27,2,19970604,0542, 45.4643, -17.2908, 4264,    316.6,  11.9463,  35.6188,2,  35.6172,2,    241.4,2,    242.8,2,     3.90,2,     9.61,2,     0.01,2,     0.60,2, -999.000,9, -999.000,9, -999.000,9,-999.0000,9,  -999.00,9,   2126.7,2,   -999.0,9,   2341.5,2,     7.86,2,25, -999.00,   -999,-999.0000,-999.000, 11.9047,-999.000
     316N151_2,   A24,    21,  1,     26,     26,2,19970604,0542, 45.4643, -17.2908, 4264,    480.9,  11.1498,  35.5125,2,  35.5148,2,    238.6,2,    231.5,2,     4.96,2,    11.83,2,     0.01,2,     0.74,2, -999.000,9, -999.000,9, -999.000,9,-999.0000,9,  -999.00,9,   2139.5,2,   -999.0,9,   2335.5,2,     7.82,2,25, -999.00,   -999,-999.0000,-999.000, 11.0889,-999.000
     316N151_2,   A24,    21,  1,     25,     25,2,19970604,0542, 45.4643, -17.2908, 4264,    556.9,  10.8090,  35.4771,2,  35.4836,2,    236.4,2,    224.2,2,     5.69,2,    13.07,2,     0.00,2,     0.81,2, -999.000,9, -999.000,9, -999.000,9,-999.0000,9,  -999.00,9,   2146.4,2,   -999.0,9,   2334.0,2,     7.80,2,25, -999.00,   -999,-999.0000,-999.000, 10.7396,-999.000
     316N151_2,   A24,    21,  1,     24,     24,2,19970604,0542, 45.4643, -17.2908, 4264,    658.8,  10.2800,  35.4518,2,  35.4515,2,    214.0,2,    209.3,2,     7.28,2,    15.14,2,     0.00,2,     0.95,2, -999.000,9, -999.000,9, -999.000,9,-999.0000,9,  -999.00,9,   2156.6,2,   -999.0,9,   2333.5,2,     7.77,2,25, -999.00,   -999,-999.0000,-999.000, 10.2000,-999.000
     316N151_2,   A24,    21,  1,     23,     23,2,19970604,0542, 45.4643, -17.2908, 4264,    790.9,   9.4907,  35.4108,2,  35.4024,2,    200.6,2,    195.1,2,     9.39,2,    17.26,2,     0.00,2,     1.10,2, -999.000,9, -999.000,9, -999.000,9,-999.0000,9,  -999.00,9,   2171.6,2,   -999.0,9,   2334.6,2,     7.75,2,25, -999.00,   -999,-999.0000,-999.000,  9.3986,-999.000
     316N151_2,   A24,    21,  1,     22,     22,2,19970604,0542, 45.4643, -17.2908, 4264,    841.2,   9.3095,  35.4521,2,  35.4576,2,    193.6,2,    192.6,2,     9.81,2,    17.45,2,     0.00,2,     1.11,2, -999.000,9, -999.000,9, -999.000,9,-999.0000,9,  -999.00,9,   2175.6,2,   -999.0,9,   2339.1,2,     7.75,2,25, -999.00,   -999,-999.0000,-999.000,  9.2123,-999.000
     316N151_2,   A24,    21,  1,     21,     21,2,19970604,0542, 45.4643, -17.2908, 4264,    941.8,   9.5439,  35.6380,2,  35.6371,2,    189.2,2,    189.3,2,    10.01,2,    17.25,2,     0.00,2,     1.09,2, -999.000,9, -999.000,9, -999.000,9,-999.0000,9,  -999.00,9,   2183.9,2,   -999.0,9,   2354.5,2,     7.75,2,25, -999.00,   -999,-999.0000,-999.000,  9.4327,-999.000
     316N151_2,   A24,    21,  1,     20,     20,2,19970604,0542, 45.4643, -17.2908, 4264,   1072.1,   8.6062,  35.5788,2,  35.5785,2,    195.9,2,    197.3,2,    10.96,2,    17.59,2,     0.00,2,     1.11,2, -999.000,9, -999.000,9, -999.000,9,-999.0000,9,  -999.00,9,   -999.0,9,   -999.0,9,   2352.2,2,     7.75,2,25, -999.00,   -999,-999.0000,-999.000,  8.4861,-999.000
     316N151_2,   A24,    21,  1,     19,     19,2,19970604,0542, 45.4643, -17.2908, 4264,   1172.8,   8.1073,  35.5657,2,  35.5672,2,    202.2,2,    203.5,2,    11.16,2,    17.54,2,     0.00,2,     1.12,2, -999.000,9, -999.000,9, -999.000,9,-999.0000,9,  -999.00,9,   -999.0,9,   -999.0,9,   -999.0,9,  -999.00,9,25, -999.00,   -999,-999.0000,-999.000,  7.9794,-999.000
     316N151_2,   A24,    21,  1,     18,     18,2,19970604,0542, 45.4643, -17.2908, 4264,   1314.7,   6.4607,  35.3057,2,  35.3073,2,    219.1,2,    223.5,2,    11.90,2,    17.98,2,     0.00,2,     1.16,2, -999.000,9, -999.000,9, -999.000,9,-999.0000,9,  -999.00,9,   -999.0,9,   -999.0,9,   -999.0,9,  -999.00,9,25, -999.00,   -999,-999.0000,-999.000,  6.3324,-999.000
     316N151_2,   A24,    21,  1,     17,     17,2,19970604,0542, 45.4643, -17.2908, 4264,   1466.2,   5.0243,  35.0907,2,  35.0924,2,    242.4,2,    244.2,2,    12.21,2,    18.03,2,     0.00,2,     1.18,2, -999.000,9, -999.000,9, -999.000,9,-999.0000,9,  -999.00,9,   -999.0,9,   -999.0,9,   -999.0,9,  -999.00,9,25, -999.00,   -999,-999.0000,-999.000,  4.8957,-999.000
     316N151_2,   A24,    21,  1,     16,     16,2,19970604,0542, 45.4643, -17.2908, 4264,   1608.0,   4.7160,  35.0726,2,  35.0700,2,    252.2,2,    251.8,2,    12.41,2,    17.83,2,     0.00,2,     1.17,2, -999.000,9, -999.000,9, -999.000,9,-999.0000,9,  -999.00,9,   -999.0,9,   -999.0,9,   -999.0,9,  -999.00,9,25, -999.00,   -999,-999.0000,-999.000,  4.5770,-999.000
     316N151_2,   A24,    21,  1,     15,     15,2,19970604,0542, 45.4643, -17.2908, 4264,   1768.6,   4.1118,  34.9929,2,  34.9922,2,    260.1,2,    262.1,2,    12.72,2,    17.63,2,     0.00,2,     1.17,2, -999.000,9, -999.000,9, -999.000,9,-999.0000,9,  -999.00,9,   -999.0,9,   -999.0,9,   -999.0,9,  -999.00,9,25, -999.00,   -999,-999.0000,-999.000,  3.9651,-999.000
     316N151_2,   A24,    21,  1,     14,     14,2,19970604,0542, 45.4643, -17.2908, 4264,   1920.5,   3.8015,  34.9622,2,  34.9617,2,    266.0,2,    267.0,2,    13.24,2,    17.53,2,     0.00,2,     1.17,2, -999.000,9, -999.000,9, -999.000,9,-999.0000,9,  -999.00,9,   -999.0,9,   -999.0,9,   -999.0,9,  -999.00,9,25, -999.00,   -999,-999.0000,-999.000,  3.6445,-999.000
     316N151_2,   A24,    21,  1,     13,     13,2,19970604,0542, 45.4643, -17.2908, 4264,   2060.6,   3.6395,  34.9587,2,  34.9580,2,    265.4,2,    266.0,2,    14.61,2,    17.63,2,     0.00,2,     1.18,2, -999.000,9, -999.000,9, -999.000,9,-999.0000,9,  -999.00,9,   -999.0,9,   -999.0,9,   -999.0,9,  -999.00,9,25, -999.00,   -999,-999.0000,-999.000,  3.4715,-999.000
     316N151_2,   A24,    21,  1,     12,     12,2,19970604,0542, 45.4643, -17.2908, 4264,   2203.1,   3.5302,  34.9615,2,  34.9619,2,    263.6,2,    264.6,2,    15.99,2,    17.72,2,     0.00,2,     1.19,2, -999.000,9, -999.000,9, -999.000,9,-999.0000,9,  -999.00,9,   -999.0,9,   -999.0,9,   -999.0,9,  -999.00,9,25, -999.00,   -999,-999.0000,-999.000,  3.3501,-999.000
     316N151_2,   A24,    21,  1,     11,     11,2,19970604,0542, 45.4643, -17.2908, 4264,   2345.7,   3.4145,  34.9622,2,  34.9619,2,    263.3,2,    261.9,2,    18.21,2,    18.02,2,     0.00,2,     1.21,2, -999.000,9, -999.000,9, -999.000,9,-999.0000,9,  -999.00,9,   -999.0,9,   -999.0,9,   -999.0,9,  -999.00,9,25, -999.00,   -999,-999.0000,-999.000,  3.2224,-999.000
     316N151_2,   A24,    21,  1,     10,     10,2,19970604,0542, 45.4643, -17.2908, 4264,   2464.5,   3.3079,  34.9640,2,  34.9627,2,    259.0,2,    259.1,2,    20.44,2,    18.36,2,     0.00,2,     1.24,2, -999.000,9, -999.000,9, -999.000,9,-999.0000,9,  -999.00,9,   -999.0,9,   -999.0,9,   -999.0,9,  -999.00,9,25, -999.00,   -999,-999.0000,-999.000,  3.1057,-999.000
     316N151_2,   A24,    21,  1,      9,      9,2,19970604,0542, 45.4643, -17.2908, 4264,   2626.0,   3.1461,  34.9582,2,  34.9579,2,    258.3,2,    257.8,2,    22.88,2,    18.65,2,     0.00,2,     1.26,2, -999.000,9, -999.000,9, -999.000,9,-999.0000,9,  -999.00,9,   -999.0,9,   -999.0,9,   -999.0,9,  -999.00,9,25, -999.00,   -999,-999.0000,-999.000,  2.9308,-999.000
     316N151_2,   A24,    21,  1,      8,      8,2,19970604,0542, 45.4643, -17.2908, 4264,   2883.8,   2.9351,  34.9521,2,  34.9518,2,    253.1,2,    252.9,2,    28.31,2,    19.44,2,     0.00,2,     1.33,2, -999.000,9, -999.000,9, -999.000,9,-999.0000,9,  -999.00,9,   -999.0,9,   -999.0,9,   -999.0,9,  -999.00,9,25, -999.00,   -999,-999.0000,-999.000,  2.6978,-999.000
     316N151_2,   A24,    21,  1,      7,      7,2,19970604,0542, 45.4643, -17.2908, 4264,   3135.8,   2.8036,  34.9425,2,  34.9461,4,    250.8,2,    250.2,2,    31.60,2,    19.98,2,     0.00,2,     1.36,2, -999.000,9, -999.000,9, -999.000,9,-999.0000,9,  -999.00,9,   -999.0,9,   -999.0,9,   -999.0,9,  -999.00,9,25, -999.00,   -999,-999.0000,-999.000,  2.5428,-999.000
     316N151_2,   A24,    21,  1,      6,      6,2,19970604,0542, 45.4643, -17.2908, 4264,   3389.0,   2.6642,  34.9294,2,  34.9286,2,    246.2,2,    246.3,2,    36.39,2,    20.77,2,     0.00,2,     1.41,2, -999.000,9, -999.000,9, -999.000,9,-999.0000,9,  -999.00,9,   -999.0,9,   -999.0,9,   -999.0,9,  -999.00,9,25, -999.00,   -999,-999.0000,-999.000,  2.3797,-999.000
     316N151_2,   A24,    21,  1,      5,      5,2,19970604,0542, 45.4643, -17.2908, 4264,   3644.6,   2.5994,  34.9211,2,  34.9201,2,    243.2,2,    243.5,2,    39.58,2,    21.31,2,     0.00,2,     1.45,2, -999.000,9, -999.000,9, -999.000,9,-999.0000,9,  -999.00,9,   -999.0,9,   -999.0,9,   -999.0,9,  -999.00,9,25, -999.00,   -999,-999.0000,-999.000,  2.2885,-999.000
     316N151_2,   A24,    21,  1,      3,      3,2,19970604,0542, 45.4643, -17.2908, 4264,   3899.7,   2.5616,  34.9138,2,  34.9136,2,    240.6,2,    241.2,2,    41.92,2,    21.71,2,     0.00,2,     1.48,2, -999.000,9, -999.000,9, -999.000,9,-999.0000,9,  -999.00,9,   -999.0,9,   -999.0,9,   -999.0,9,  -999.00,9,25, -999.00,   -999,-999.0000,-999.000,  2.2231,-999.000
     316N151_2,   A24,    21,  1,      2,      2,2,19970604,0542, 45.4643, -17.2908, 4264,   4158.2,   2.5636,  34.9108,2,  34.9107,2,    241.1,2,    240.6,2,    42.87,2,    21.85,2,     0.00,2,     1.50,2, -999.000,9, -999.000,9, -999.000,9,-999.0000,9,  -999.00,9,   -999.0,9,   -999.0,9,   -999.0,9,  -999.00,9,25, -999.00,   -999,-999.0000,-999.000,  2.1951,-999.000
     316N151_2,   A24,    21,  1,      1,      1,2,19970604,0542, 45.4643, -17.2908, 4264,   4371.2,   2.5750,  34.9096,2,  34.9091,2,    239.9,2,    240.3,2,    43.50,2,    21.95,2,     0.00,2,     1.50,2, -999.000,9, -999.000,9, -999.000,9,-999.0000,9,  -999.00,9,   -999.0,9,   -999.0,9,   -999.0,9,  -999.00,9,25, -999.00,   -999,-999.0000,-999.000,  2.1809,-999.000