BOTTLE,20220629CCHSIOAMB
EXPOCODE,SECT_ID,STNNBR,CASTNO,SAMPNO,BTLNBR,BTLNBR_FLAG_W,DATE,TIME,LATITUDE,LONGITUDE,DEPTH,CTDPRS,CTDTMP,CTDSAL,CTDSAL_FLAG_W,SALNTY,SALNTY_FLAG_W,CTDOXY,CTDOXY_FLAG_W,OXYGEN,OXYGEN_FLAG_W,SILCAT,SILCAT_FLAG_W,NITRAT,NITRAT_FLAG_W,NITRIT,NITRIT_FLAG_W,PHSPHT,PHSPHT_FLAG_W,CFC-11,CFC-11_FLAG_W,CFC-12,CFC-12_FLAG_W,TRITUM,TRITUM_FLAG_W,HELIUM,HELIUM_FLAG_W,DELHE3,DELHE3_FLAG_W,TCARBN,TCARBN_FLAG_W,PCO2,PCO2_FLAG_W,ALKALI,ALKALI_FLAG_W,PH,PH_FLAG_W,PH_TMP,PCO2TMP,CTDRAW,HELIER,DELHER,THETA,TRITER
,,,,,,,,,,,,DBAR,ITS-90,PSS-78,,PSS-78,,UMOL/KG,,UMOL/KG,,UMOL/KG,,UMOL/KG,,UMOL/KG,,UMOL/KG,,PMOL/KG,,PMOL/KG,,TU,,NMOL/KG,,PERCNT,,UMOL/KG,,UATM,,UMOL/KG,,,,DEG C,DEG C,,NMOL/KG,PERCNT,DEG C,TU
     316N151_2,   A24,   109,  1,     30,     30,2,19970620,1658, 56.5162, -39.1690, 2984,      4.2,   8.0307,  34.7591,2,  34.7563,2,    216.4,2,    306.6,2,  -999.00,5,  -999.00,5,  -999.00,5,  -999.00,5, -999.000,9, -999.000,9, -999.000,9,-999.0000,9,  -999.00,9,   2089.3,2,   -999.0,9,   -999.0,9,  -999.00,9,25, -999.00,   -999,-999.0000,-999.000,  8.0303,-999.000
     316N151_2,   A24,   109,  1,     29,     29,2,19970620,1658, 56.5162, -39.1690, 2984,      4.5,   8.0323,  34.7574,2,  34.7563,2,    216.5,2,   -999.0,5,     0.72,2,     7.32,2,     0.10,2,     0.51,2, -999.000,9, -999.000,9,    1.622,2,   1.8086,2,    -1.85,2,   -999.0,9,    513.0,2,   2304.0,6,     7.86,6,25,   20.00,   -999,  0.0000,   0.220,  8.0319,   0.022
     316N151_2,   A24,   109,  1,     28,     28,2,19970620,1658, 56.5162, -39.1690, 2984,     54.1,   6.2836,  34.7953,2,  34.7917,2,    302.1,2,    296.6,2,     3.14,2,    10.96,2,     0.17,2,     0.83,2, -999.000,9, -999.000,9,   -0.020,4,   1.8413,2,    -1.24,2,   2123.3,2,    626.5,2,   2303.3,2,     7.79,2,25,   20.00,   -999,  0.0000,   0.220,  6.2789,   0.003
     316N151_2,   A24,   109,  1,     27,     27,2,19970620,1658, 56.5162, -39.1690, 2984,    104.6,   5.1866,  34.8617,2,  34.8647,2,    283.5,2,    290.2,2,     8.79,2,    15.16,2,     0.03,2,     1.02,2, -999.000,9, -999.000,9, -999.000,5,   1.8356,2,    -1.08,2,   2142.2,2,    702.8,2,   2304.2,2,     7.75,2,25,   20.00,   -999,  0.0000,   0.210,  5.1784,-999.000
     316N151_2,   A24,   109,  1,     26,     26,2,19970620,1658, 56.5162, -39.1690, 2984,    155.5,   4.7890,  34.8342,2,  34.8379,2,    285.8,2,    289.2,2,     9.06,2,    15.45,2,     0.01,2,     1.03,2, -999.000,9, -999.000,9,    1.421,2,   0.0072,4,   784.13,4,   2142.5,2,    711.8,2,   2309.3,2,     7.74,2,25,   20.00,   -999,  0.0000,   0.510,  4.7772,   0.023
     316N151_2,   A24,   109,  1,     25,     25,2,19970620,1658, 56.5162, -39.1690, 2984,    255.9,   4.5159,  34.8392,2,  34.8381,2,    278.2,2,    276.3,2,    10.02,2,    16.44,2,     0.01,2,     1.09,2, -999.000,9, -999.000,9,    1.297,2,   1.8092,2,     0.77,2,   2154.5,2,    744.9,2,   2303.4,2,     7.72,2,25,   20.00,   -999,  0.0000,   0.190,  4.4968,   0.023
     316N151_2,   A24,   109,  1,     24,     24,2,19970620,1658, 56.5162, -39.1690, 2984,    355.7,   3.9157,  34.8197,2,  34.8228,2,    275.6,2,    277.8,2,    10.39,2,    16.72,2,     0.01,2,     1.11,2, -999.000,9, -999.000,9,    1.358,2,   1.8494,2,     1.92,2,   2154.5,2,    760.8,2,   2302.8,2,     7.71,2,25,   20.00,   -999,  0.0000,   0.190,  3.8906,   0.022
     316N151_2,   A24,   109,  1,     23,     23,2,19970620,1658, 56.5162, -39.1690, 2984,    457.2,   3.8324,  34.8635,2,  34.8594,2,    273.7,2,   -999.0,5,    10.86,2,    17.19,2,     0.00,2,     1.13,2, -999.000,9, -999.000,9,   -2.236,4,   1.8476,2,     2.95,2,   2157.6,2,    772.9,2,   2303.9,2,     7.71,2,25,   20.00,   -999,  0.0000,   0.150,  3.8001,   0.048
     316N151_2,   A24,   109,  1,     22,     22,2,19970620,1658, 56.5162, -39.1690, 2984,    557.3,   3.6578,  34.8670,2,  34.8708,2,    273.4,2,    274.9,2,    11.04,2,    17.33,2,     0.00,2,     1.13,2,    3.490,2,    1.790,2,    1.298,2,   1.8498,2,     4.08,2,   2157.2,2,    774.4,2,   2299.6,2,     7.69,2,25,   20.00,   -999,  0.0000,   0.150,  3.6186,   0.022
     316N151_2,   A24,   109,  1,     21,     21,2,19970620,1658, 56.5162, -39.1690, 2984,    657.6,   3.4717,  34.8614,2,  34.8659,2,    280.5,2,    279.2,2,    10.93,2,    17.24,2,     0.00,2,     1.13,2, -999.000,9, -999.000,9, -999.000,9,-999.0000,9,  -999.00,9,   2155.8,2,    775.3,2,   2304.1,2,     7.70,2,25,   20.00,   -999,-999.0000,-999.000,  3.4260,-999.000
     316N151_2,   A24,   109,  1,     20,     20,2,19970620,1658, 56.5162, -39.1690, 2984,    759.2,   3.4499,  34.8727,2,  34.8771,2,    278.4,2,    277.8,2,    11.20,2,    17.38,2,     0.00,2,     1.13,2, -999.000,9, -999.000,9,   -2.526,4,   0.7926,4,     2.25,4,   2157.2,2,    774.8,2,   2305.2,2,     7.71,2,25,   20.00,   -999,  0.0000,   0.180,  3.3966,   0.050
     316N151_2,   A24,   109,  1,     19,     19,2,19970620,1658, 56.5162, -39.1690, 2984,    860.3,   3.3310,  34.8670,2,  34.8665,2,    281.3,2,    281.3,2,    11.18,2,    17.25,2,     0.00,2,     1.13,2, -999.000,9, -999.000,9, -999.000,9,-999.0000,9,  -999.00,9,   2155.6,2,   -999.0,9,   2304.0,2,     7.72,2,25, -999.00,   -999,-999.0000,-999.000,  3.2708,-999.000
     316N151_2,   A24,   109,  1,     18,     18,2,19970620,1658, 56.5162, -39.1690, 2984,    960.8,   3.2576,  34.8686,2,  34.8669,2,    285.2,2,    283.8,2,    11.07,2,    17.11,2,     0.00,2,     1.12,2,    3.410,2,    1.720,2,    1.269,2,   1.8501,2,     4.30,2,   2155.1,2,    765.8,2,   2306.8,2,     7.71,2,25,   20.00,   -999,  0.0000,   0.150,  3.1901,   0.021
     316N151_2,   A24,   109,  1,     17,     17,2,19970620,1658, 56.5162, -39.1690, 2984,   1181.6,   3.0921,  34.8603,2,  34.8594,2,    287.7,2,    291.3,2,    10.95,2,    16.78,2,     0.00,2,     1.10,2, -999.000,9, -999.000,9, -999.000,9,-999.0000,9,  -999.00,9,   2152.8,2,   -999.0,9,   2302.8,2,     7.72,2,25, -999.00,   -999,-999.0000,-999.000,  3.0086,-999.000
     316N151_2,   A24,   109,  1,     16,     16,2,19970620,1658, 56.5162, -39.1690, 2984,   1384.3,   3.0025,  34.8531,2,  34.8584,2,    292.0,2,    294.9,2,    10.74,2,    16.69,2,     0.00,2,     1.09,2, -999.000,9, -999.000,9,   -3.885,4,   1.8491,2,     3.72,2,   2152.3,2,    755.3,2,   2306.1,2,     7.71,2,25,   20.00,   -999,  0.0000,   0.150,  2.9036,   0.062
     316N151_2,   A24,   109,  1,     15,     15,2,19970620,1658, 56.5162, -39.1690, 2984,   1588.5,   2.9667,  34.8516,2,  34.8522,2,    296.8,2,    295.1,2,    10.72,2,    16.60,2,     0.00,2,     1.09,2, -999.000,9, -999.000,9,   -2.813,4,   1.8528,2,     3.33,2,   2152.2,2,   -999.0,9,   2302.7,2,     7.72,2,25, -999.00,   -999,  0.0000,   0.150,  2.8511,   0.040
     316N151_2,   A24,   109,  1,     14,     14,2,19970620,1658, 56.5162, -39.1690, 2984,   1739.0,   2.9512,  34.8501,2,  34.8490,2,    295.1,2,    297.2,2,    10.70,2,    16.55,2,     0.00,2,     1.09,2,    3.775,3,    1.896,3,   -3.692,4,-999.0000,5,  -999.00,5,   2150.6,2,    752.5,2,   2302.1,2,     7.72,2,25,   20.00,   -999,-999.0000,-999.000,  2.8229,   0.049
     316N151_2,   A24,   109,  1,     13,     13,2,19970620,1658, 56.5162, -39.1690, 2984,   1892.1,   2.9816,  34.8601,2,  34.8585,2,    292.9,2,    295.0,2,    10.78,2,    16.51,2,     0.00,2,     1.09,2,    3.516,2,    1.785,2,   -2.843,4,   1.8809,2,     3.73,2,   2151.6,2,    749.9,2,   2302.7,2,     7.73,2,25,   20.00,   -999,  0.0000,   0.150,  2.8393,   0.043
     316N151_2,   A24,   109,  1,     12,     12,2,19970620,1658, 56.5162, -39.1690, 2984,   2043.2,   3.1152,  34.8917,2,  34.8909,2,    286.0,2,    286.3,2,    11.45,2,    16.51,2,     0.00,2,     1.09,2,    2.825,2,    1.404,2,   -2.078,4,   1.9375,2,     5.38,2,   2152.6,2,    750.1,2,   2305.0,2,     7.72,2,25,   20.00,   -999,  0.0000,   0.150,  2.9571,   0.043
     316N151_2,   A24,   109,  1,     11,     11,2,19970620,1658, 56.5162, -39.1690, 2984,   2197.2,   3.1403,  34.9088,2,  34.9100,2,    281.1,2,    279.5,2,    12.12,2,    16.55,2,     0.00,2,     1.08,2, -999.000,9, -999.000,9,   -1.765,4,   1.8618,2,     6.51,2,   2153.8,2,   -999.0,9,   2305.6,2,     7.72,2,25, -999.00,   -999,  0.0000,   0.150,  2.9673,   0.037
     316N151_2,   A24,   109,  1,     10,     10,2,19970620,1658, 56.5162, -39.1690, 2984,   2347.7,   3.1299,  34.9205,2,  34.9200,2,    278.5,2,    278.9,2,    12.69,2,    16.51,2,     0.00,2,     1.08,2, -999.000,9, -999.000,9, -999.000,9,-999.0000,9,  -999.00,9,   2154.1,2,    744.8,2,   2309.4,2,     7.72,2,25,   20.00,   -999,-999.0000,-999.000,  2.9426,-999.000
     316N151_2,   A24,   109,  1,      9,      9,2,19970620,1658, 56.5162, -39.1690, 2984,   2498.6,   3.0737,  34.9273,2,  34.9301,2,    276.2,2,    275.1,2,    13.26,2,    16.46,2,     0.00,2,     1.09,2, -999.000,9, -999.000,9,   -4.331,4,   1.8603,2,     7.33,2,   2155.3,2,    745.6,2,   2307.8,2,     7.73,2,25,   20.00,   -999,  0.0000,   0.150,  2.8726,   0.054
     316N151_2,   A24,   109,  1,      8,      8,2,19970620,1658, 56.5162, -39.1690, 2984,   2612.1,   3.0139,  34.9311,2,  34.9328,2,    275.8,2,    275.9,2,    13.83,2,    16.51,2,     0.00,2,     1.09,2, -999.000,9, -999.000,9, -999.000,9,-999.0000,9,  -999.00,9,   2156.3,2,    743.8,2,   2310.3,2,     7.72,2,25,   20.00,   -999,-999.0000,-999.000,  2.8027,-999.000
     316N151_2,   A24,   109,  1,      7,      7,2,19970620,1658, 56.5162, -39.1690, 2984,   2704.0,   2.9861,  34.9321,2,  34.9313,2,    275.0,2,    275.7,2,    14.10,2,    16.51,2,     0.00,2,     1.09,2, -999.000,9, -999.000,9,   -2.337,4,   1.8603,2,     7.37,2,   2155.4,2,   -999.0,9,   2310.2,2,     7.73,2,25, -999.00,   -999,  0.0000,   0.150,  2.7662,   0.041
     316N151_2,   A24,   109,  1,      6,      6,2,19970620,1658, 56.5162, -39.1690, 2984,   2787.2,   2.9373,  34.9327,2,  34.9321,2,    274.2,2,    275.8,2,    14.28,2,    16.42,2,     0.00,2,     1.09,2, -999.000,9, -999.000,9, -999.000,9,-999.0000,9,  -999.00,9,   2156.1,2,    747.4,2,   2310.0,2,     7.72,2,25,   20.00,   -999,-999.0000,-999.000,  2.7099,-999.000
     316N151_2,   A24,   109,  1,      5,      5,2,19970620,1658, 56.5162, -39.1690, 2984,   2866.0,   2.9037,  34.9319,2,  34.9303,2,    274.1,2,    276.0,2,    14.36,2,    16.42,2,     0.00,2,     1.09,2, -999.000,9, -999.000,9,   -4.585,4,   1.8833,2,     7.32,2,   2157.0,2,   -999.0,9,   2309.2,2,     7.73,2,25, -999.00,   -999,  0.0000,   0.150,  2.6690,   0.058
     316N151_2,   A24,   109,  1,      4,      4,2,19970620,1658, 56.5162, -39.1690, 2984,   2938.1,   2.8637,  34.9309,2,  34.9299,2,    274.4,2,    276.4,2,    14.54,2,    16.42,2,     0.00,2,     1.09,2, -999.000,9, -999.000,9, -999.000,9,-999.0000,9,  -999.00,9,   2155.9,2,   -999.0,9,   2309.8,2,     7.72,2,25, -999.00,   -999,-999.0000,-999.000,  2.6224,-999.000
     316N151_2,   A24,   109,  1,      3,      3,2,19970620,1658, 56.5162, -39.1690, 2984,   2988.2,   2.8441,  34.9330,2,  34.9311,2,    275.0,2,    275.8,2,    14.72,2,    16.42,2,     0.00,2,     1.09,2, -999.000,9, -999.000,9,   -2.609,4,   1.8613,2,     7.23,2,   2157.2,2,    747.6,2,   2311.1,2,     7.73,2,25,   20.00,   -999,  0.0000,   0.150,  2.5979,   0.045
     316N151_2,   A24,   109,  1,      2,      2,2,19970620,1658, 56.5162, -39.1690, 2984,   3039.9,   2.8104,  34.9325,2,  34.9305,2,    276.3,2,    276.0,2,    14.90,2,    16.42,2,     0.00,2,     1.09,2,    1.598,2,    0.810,2, -999.000,9,-999.0000,9,  -999.00,9,   2158.8,2,   -999.0,9,   2310.5,2,     7.72,2,25, -999.00,   -999,-999.0000,-999.000,  2.5596,-999.000
     316N151_2,   A24,   109,  1,      1,      1,2,19970620,1658, 56.5162, -39.1690, 2984,   3086.3,   2.7769,  34.9288,2,  34.9274,2,    279.5,2,    275.8,2,    14.78,2,    16.33,2,     0.00,2,     1.09,2,    1.655,2,    0.830,2,   -2.819,4,   1.8771,2,     7.18,2,   2156.6,2,    747.3,2,   2311.2,2,     7.73,2,25,   20.00,   -999,  0.0000,   0.150,  2.5220,   0.050