BOTTLE,20220629CCHSIOAMB
EXPOCODE,SECT_ID,STNNBR,CASTNO,SAMPNO,BTLNBR,BTLNBR_FLAG_W,DATE,TIME,LATITUDE,LONGITUDE,DEPTH,CTDPRS,CTDTMP,CTDSAL,CTDSAL_FLAG_W,SALNTY,SALNTY_FLAG_W,CTDOXY,CTDOXY_FLAG_W,OXYGEN,OXYGEN_FLAG_W,SILCAT,SILCAT_FLAG_W,NITRAT,NITRAT_FLAG_W,NITRIT,NITRIT_FLAG_W,PHSPHT,PHSPHT_FLAG_W,CFC-11,CFC-11_FLAG_W,CFC-12,CFC-12_FLAG_W,TRITUM,TRITUM_FLAG_W,HELIUM,HELIUM_FLAG_W,DELHE3,DELHE3_FLAG_W,TCARBN,TCARBN_FLAG_W,PCO2,PCO2_FLAG_W,ALKALI,ALKALI_FLAG_W,PH,PH_FLAG_W,PH_TMP,PCO2TMP,CTDRAW,HELIER,DELHER,THETA,TRITER
,,,,,,,,,,,,DBAR,ITS-90,PSS-78,,PSS-78,,UMOL/KG,,UMOL/KG,,UMOL/KG,,UMOL/KG,,UMOL/KG,,UMOL/KG,,PMOL/KG,,PMOL/KG,,TU,,NMOL/KG,,PERCNT,,UMOL/KG,,UATM,,UMOL/KG,,,,DEG C,DEG C,,NMOL/KG,PERCNT,DEG C,TU
     316N151_2,   A24,    36,  1,     16,     16,2,19970608,1932, 53.6463, -14.2065,  694,      2.2,  12.8509,  35.4860,2,  35.4855,2,    278.4,2,    271.2,2,     0.42,2,     4.80,2,     0.12,2,     0.33,2,    3.264,2,    1.728,2, -999.000,9,-999.0000,9,  -999.00,9,   2093.7,2,    445.8,2,   2339.1,2,     7.91,2,25,   20.00,   -999,-999.0000,-999.000, 12.8506,-999.000
     316N151_2,   A24,    36,  1,     15,     15,2,19970608,1932, 53.6463, -14.2065,  694,     40.6,  11.9583,  35.5667,2,  35.5482,2,    269.3,2,    268.1,2,     1.67,2,     6.73,2,     0.27,2,     0.47,2,    3.322,2,    1.771,2, -999.000,9,-999.0000,9,  -999.00,9,   2107.9,2,    486.2,2,   2344.6,2,     7.88,2,25,   20.00,   -999,-999.0000,-999.000, 11.9531,-999.000
     316N151_2,   A24,    36,  1,     14,     14,2,19970608,1932, 53.6463, -14.2065,  694,     81.6,  10.9163,  35.4712,2,  35.4708,2,    258.7,2,    259.6,2,     3.84,2,     9.60,2,     0.24,2,     0.64,2, -999.000,9, -999.000,9, -999.000,9,-999.0000,9,  -999.00,9,   2123.2,2,    537.8,2,   2337.7,2,     7.84,2,25,   20.00,   -999,-999.0000,-999.000, 10.9063,-999.000
     316N151_2,   A24,    36,  1,     13,     13,2,19970608,1932, 53.6463, -14.2065,  694,    108.5,  10.7514,  35.4585,2,  35.4604,2,    258.2,2,    258.3,2,     4.17,2,    10.31,2,     0.09,2,     0.67,2,    3.334,2,    1.779,2, -999.000,9,-999.0000,9,  -999.00,9,   2126.7,2,    548.1,2,   2335.1,2,     7.84,2,25,   20.00,   -999,-999.0000,-999.000, 10.7382,-999.000
     316N151_2,   A24,    36,  1,     12,     12,2,19970608,1932, 53.6463, -14.2065,  694,    153.9,  10.6636,  35.4559,2,  35.4552,2,    256.8,2,    256.1,2,     4.61,2,    10.68,2,     0.03,2,     0.69,2, -999.000,9, -999.000,9, -999.000,9,-999.0000,9,  -999.00,9,   2126.3,2,    551.5,2,   2333.5,2,     7.83,2,25,   20.00,   -999,-999.0000,-999.000, 10.6449,-999.000
     316N151_2,   A24,    36,  1,     11,     11,2,19970608,1932, 53.6463, -14.2065,  694,    196.9,  10.6950,  35.4738,2,  35.4738,2,    255.3,2,    256.7,2,     4.59,2,    10.49,2,     0.01,2,     0.69,2,    3.318,2,    1.758,2, -999.000,9,-999.0000,9,  -999.00,9,   2126.2,2,    550.6,2,   2335.1,2,     7.84,2,25,   20.00,   -999,-999.0000,-999.000, 10.6710,-999.000
     316N151_2,   A24,    36,  1,     10,     10,2,19970608,1932, 53.6463, -14.2065,  694,    241.9,  10.4310,  35.4292,2,  35.4298,2,    255.9,2,    256.2,2,     4.57,2,    10.86,2,     0.10,2,     0.71,2, -999.000,9, -999.000,9, -999.000,9,-999.0000,9,  -999.00,9,   2127.8,2,    560.6,2,   2332.3,2,     7.82,2,25,   20.00,   -999,-999.0000,-999.000, 10.4019,-999.000
     316N151_2,   A24,    36,  1,      9,      9,2,19970608,1932, 53.6463, -14.2065,  694,    286.8,  10.3855,  35.4281,2,  35.4278,2,    254.7,2,    254.5,2,     4.79,2,    11.17,2,     0.05,2,     0.73,2,    3.303,2,    1.749,2, -999.000,9,-999.0000,9,  -999.00,9,   2130.8,2,    566.4,2,   2333.1,2,     7.82,2,25,   20.00,   -999,-999.0000,-999.000, 10.3511,-999.000
     316N151_2,   A24,    36,  1,      8,      8,2,19970608,1932, 53.6463, -14.2065,  694,    332.9,  10.2128,  35.4109,2,  35.4093,2,    252.8,2,    253.7,2,     5.11,2,    11.61,2,     0.02,2,     0.75,2, -999.000,9, -999.000,9, -999.000,9,-999.0000,9,  -999.00,9,   2133.7,2,    573.7,2,   2332.9,2,     7.81,2,25,   20.00,   -999,-999.0000,-999.000, 10.1732,-999.000
     316N151_2,   A24,    36,  1,      7,      7,2,19970608,1932, 53.6463, -14.2065,  694,    381.9,  10.1430,  35.4208,2,  35.4189,2,    251.4,2,    251.7,2,     5.21,2,    11.81,2,     0.01,2,     0.77,2,    3.291,2,    1.746,2, -999.000,9,-999.0000,9,  -999.00,9,   2133.9,2,    582.4,2,   2332.3,2,     7.80,2,25,   20.00,   -999,-999.0000,-999.000, 10.0976,-999.000
     316N151_2,   A24,    36,  1,      6,      6,2,19970608,1932, 53.6463, -14.2065,  694,    444.9,   9.9454,  35.4001,2,  35.4012,2,    250.0,2,    241.0,2,     5.88,2,    12.78,2,     0.01,2,     0.83,2,    3.151,2,    1.627,2, -999.000,9,-999.0000,9,  -999.00,9,   2140.2,2,    606.3,2,   2332.0,2,     7.81,2,25,   20.00,   -999,-999.0000,-999.000,  9.8930,-999.000
     316N151_2,   A24,    36,  1,      5,      5,2,19970608,1932, 53.6463, -14.2065,  694,    506.9,   9.7185,  35.3850,2,  35.3840,2,    249.7,2,    252.2,2,     6.44,2,    12.32,2,     0.01,2,     0.80,2,    3.270,2,    1.714,2, -999.000,9,-999.0000,9,  -999.00,9,   2137.8,2,    595.9,2,   2331.3,2,     7.81,2,25,   20.00,   -999,-999.0000,-999.000,  9.6595,-999.000
     316N151_2,   A24,    36,  1,      4,      4,2,19970608,1932, 53.6463, -14.2065,  694,    529.0,   9.6381,  35.3759,2,  35.3757,2,    244.5,2,    250.4,2,     6.65,2,    12.53,2,     0.01,2,     0.82,2,    3.256,2,    1.712,2, -999.000,9,-999.0000,9,  -999.00,9,   2138.2,2,    597.6,2,   2331.3,2,     7.80,2,25,   20.00,   -999,-999.0000,-999.000,  9.5767,-999.000
     316N151_2,   A24,    36,  1,      3,      3,2,19970608,1932, 53.6463, -14.2065,  694,    583.4,   9.4201,  35.3483,2,  35.3503,2,    242.1,2,    241.4,2,     7.32,2,    13.49,2,     0.01,2,     0.88,2, -999.000,9, -999.000,9, -999.000,9,-999.0000,9,  -999.00,9,   2145.1,2,    622.6,2,   2330.4,2,     7.79,2,25,   20.00,   -999,-999.0000,-999.000,  9.3532,-999.000
     316N151_2,   A24,    36,  1,      2,      2,2,19970608,1932, 53.6463, -14.2065,  694,    632.8,   9.2287,  35.3262,2,  35.3270,2,    239.2,2,    240.1,2,     7.77,2,    13.95,2,     0.00,2,     0.91,2,    3.032,2,    1.551,2, -999.000,9,-999.0000,9,  -999.00,9,   2146.6,2,    630.1,2,   2327.6,2,     7.78,2,25,   20.00,   -999,-999.0000,-999.000,  9.1568,-999.000
     316N151_2,   A24,    36,  1,      1,      1,2,19970608,1932, 53.6463, -14.2065,  694,    702.5,   8.9214,  35.3054,2,  35.3055,2,    244.3,2,    219.0,2,     9.48,2,    15.88,2,     0.01,2,     1.03,2,    2.532,2,    1.264,2, -999.000,9,-999.0000,9,  -999.00,9,   2158.5,2,    683.0,2,   2328.8,2,     7.75,2,25,   20.00,   -999,-999.0000,-999.000,  8.8429,-999.000
     316N151_2,   A24,    37,  1,     24,     24,2,19970608,2128, 53.6897, -14.3157, 1233,      2.2,  13.3339,  35.4791,2,  35.4793,2,    266.7,2,    267.9,2,     0.52,2,     4.43,2,     0.09,2,     0.31,2, -999.000,9, -999.000,9, -999.000,9,-999.0000,9,  -999.00,9,   2088.9,2,   -999.0,9,   2339.7,6,     7.91,6,25, -999.00,   -999,-999.0000,-999.000, 13.3336,-999.000
     316N151_2,   A24,    37,  1,     23,     23,2,19970608,2128, 53.6897, -14.3157, 1233,     40.9,  12.0798,  35.4851,2,  35.4793,2,    272.4,2,    279.9,2,     0.62,2,     5.30,2,     0.13,2,     0.38,2, -999.000,9, -999.000,9, -999.000,9,-999.0000,9,  -999.00,9,   2094.9,2,   -999.0,9,   2338.7,2,     7.90,2,25, -999.00,   -999,-999.0000,-999.000, 12.0745,-999.000
     316N151_2,   A24,    37,  1,     22,     22,2,19970608,2128, 53.6897, -14.3157, 1233,     81.8,  10.9796,  35.4677,2,  35.4703,2,    263.2,2,    262.6,2,     3.01,2,     8.47,2,     0.27,2,     0.60,2, -999.000,9, -999.000,9, -999.000,9,-999.0000,9,  -999.00,9,   2118.8,2,   -999.0,9,   2336.1,2,     7.84,2,25, -999.00,   -999,-999.0000,-999.000, 10.9695,-999.000
     316N151_2,   A24,    37,  1,     21,     21,2,19970608,2128, 53.6897, -14.3157, 1233,    110.1,  10.7309,  35.4525,2,  35.4531,2,    259.5,2,    258.7,2,     4.26,2,    10.04,2,     0.17,2,     0.67,2, -999.000,9, -999.000,9, -999.000,9,-999.0000,9,  -999.00,9,   2122.9,2,   -999.0,9,   2334.5,2,     7.83,2,25, -999.00,   -999,-999.0000,-999.000, 10.7175,-999.000
     316N151_2,   A24,    37,  1,     20,     20,2,19970608,2128, 53.6897, -14.3157, 1233,    139.8,  10.6379,  35.4495,2,  35.4482,2,    254.5,2,    258.5,2,     4.70,2,    10.55,2,     0.06,2,     0.69,2, -999.000,9, -999.000,9, -999.000,9,-999.0000,9,  -999.00,9,   2124.7,2,   -999.0,9,   2332.7,2,     7.83,2,25, -999.00,   -999,-999.0000,-999.000, 10.6210,-999.000
     316N151_2,   A24,    37,  1,     19,     19,2,19970608,2128, 53.6897, -14.3157, 1233,    176.3,  10.6295,  35.4609,2,  35.4604,2,    254.4,2,    257.3,2,     4.80,2,    10.59,2,     0.02,2,     0.69,2, -999.000,9, -999.000,9, -999.000,9,-999.0000,9,  -999.00,9,   2125.7,2,   -999.0,9,   2333.6,2,     7.83,2,25, -999.00,   -999,-999.0000,-999.000, 10.6081,-999.000
     316N151_2,   A24,    37,  1,     18,     18,2,19970608,2128, 53.6897, -14.3157, 1233,    225.5,  10.3167,  35.4124,2,  35.4271,2,    260.9,2,    253.8,2,     5.24,2,    11.35,2,     0.02,2,     0.75,2, -999.000,9, -999.000,9, -999.000,9,-999.0000,9,  -999.00,9,   2129.6,2,   -999.0,9,   2332.0,2,     7.82,2,25, -999.00,   -999,-999.0000,-999.000, 10.2898,-999.000
     316N151_2,   A24,    37,  1,     17,     17,2,19970608,2128, 53.6897, -14.3157, 1233,    270.6,  10.2537,  35.4228,2,  35.4241,2,    253.7,2,    255.0,2,     5.22,2,    11.25,2,     0.01,2,     0.73,2, -999.000,9, -999.000,9, -999.000,9,-999.0000,9,  -999.00,9,   2129.6,2,   -999.0,9,   2331.5,2,     7.82,2,25, -999.00,   -999,-999.0000,-999.000, 10.2215,-999.000
     316N151_2,   A24,    37,  1,     16,     16,2,19970608,2128, 53.6897, -14.3157, 1233,    316.8,  10.1523,  35.4185,2,  35.4192,2,    257.8,2,    255.0,2,     5.31,2,    11.45,2,     0.01,2,     0.75,2, -999.000,9, -999.000,9, -999.000,9,-999.0000,9,  -999.00,9,   2130.9,2,   -999.0,9,   2331.5,2,     7.81,2,25, -999.00,   -999,-999.0000,-999.000, 10.1147,-999.000
     316N151_2,   A24,    37,  1,     15,     15,2,19970608,2128, 53.6897, -14.3157, 1233,    360.3,   9.9182,  35.3884,2,  35.3873,2,    248.6,2,    245.7,2,     6.10,2,    12.46,2,     0.01,2,     0.81,2, -999.000,9, -999.000,9, -999.000,9,-999.0000,9,  -999.00,9,   2137.4,2,   -999.0,9,   2329.8,2,     7.80,2,25, -999.00,   -999,-999.0000,-999.000,  9.8760,-999.000
     316N151_2,   A24,    37,  1,     14,     14,2,19970608,2128, 53.6897, -14.3157, 1233,    407.2,   9.9182,  35.4058,2,  35.4058,2,    251.5,2,    251.5,2,     5.85,2,    11.96,2,     0.01,2,     0.79,2, -999.000,9, -999.000,9, -999.000,9,-999.0000,9,  -999.00,9,   2136.1,2,   -999.0,9,   2332.8,2,     7.80,2,25, -999.00,   -999,-999.0000,-999.000,  9.8704,-999.000
     316N151_2,   A24,    37,  1,     13,     13,2,19970608,2128, 53.6897, -14.3157, 1233,    452.1,   9.9979,  35.4359,2,  35.4358,2,    249.1,2,    252.2,2,     5.83,2,    11.55,2,     0.01,2,     0.76,2, -999.000,9, -999.000,9, -999.000,9,-999.0000,9,  -999.00,9,   2136.1,2,   -999.0,9,   2333.0,2,     7.80,2,25, -999.00,   -999,-999.0000,-999.000,  9.9444,-999.000
     316N151_2,   A24,    37,  1,     12,     12,2,19970608,2128, 53.6897, -14.3157, 1233,    497.5,   9.6343,  35.3681,2,  35.3685,2,    245.0,2,    250.6,2,     6.16,2,    12.51,2,     0.01,2,     0.82,2,    3.269,2,    1.714,2, -999.000,9,-999.0000,9,  -999.00,9,   2137.1,2,   -999.0,9,   2329.2,2,     7.79,2,25, -999.00,   -999,-999.0000,-999.000,  9.5767,-999.000
     316N151_2,   A24,    37,  1,     11,     11,2,19970608,2128, 53.6897, -14.3157, 1233,    541.2,   9.5858,  35.3687,2,  35.3733,2,    251.2,2,   -999.0,5,     5.91,2,    12.21,2,     0.01,2,     0.80,2, -999.000,9, -999.000,9, -999.000,9,-999.0000,9,  -999.00,9,   2134.8,2,   -999.0,9,   2332.5,2,     7.80,2,25, -999.00,   -999,-999.0000,-999.000,  9.5232,-999.000
     316N151_2,   A24,    37,  1,     10,     10,2,19970608,2128, 53.6897, -14.3157, 1233,    584.9,   9.5064,  35.3625,2,  35.3630,2,    254.7,2,    256.9,2,     5.89,2,    12.26,2,     0.01,2,     0.80,2, -999.000,9, -999.000,9, -999.000,9,-999.0000,9,  -999.00,9,   2134.9,2,   -999.0,9,   2328.7,2,     7.80,2,25, -999.00,   -999,-999.0000,-999.000,  9.4389,-999.000
     316N151_2,   A24,    37,  1,      9,      9,2,19970608,2128, 53.6897, -14.3157, 1233,    628.9,   9.2463,  35.3232,2,  35.3244,2,    253.8,2,    246.3,2,     6.68,2,    13.37,2,     0.01,2,     0.88,2, -999.000,9, -999.000,9, -999.000,9,-999.0000,9,  -999.00,9,   2140.4,2,   -999.0,9,   2328.0,2,     7.78,2,25, -999.00,   -999,-999.0000,-999.000,  9.1748,-999.000
     316N151_2,   A24,    37,  1,      8,      8,2,19970608,2128, 53.6897, -14.3157, 1233,    676.2,   8.9342,  35.2761,2,  35.2767,2,    241.9,2,    227.6,2,     8.05,2,    15.18,2,     0.00,2,     0.99,2,    2.784,2,    1.428,2, -999.000,9,-999.0000,9,  -999.00,9,   2150.8,2,   -999.0,9,   2327.5,2,     7.75,2,25, -999.00,   -999,-999.0000,-999.000,  8.8587,-999.000
     316N151_2,   A24,    37,  1,      7,      7,2,19970608,2128, 53.6897, -14.3157, 1233,    762.6,   8.3186,  35.2470,2,  35.2463,2,    218.5,2,    215.8,2,     9.65,2,    16.84,2,     0.00,2,     1.10,2,    2.406,2,    1.200,2, -999.000,9,-999.0000,9,  -999.00,9,   2161.9,2,   -999.0,9,   2326.9,2,     7.73,2,25, -999.00,   -999,-999.0000,-999.000,  8.2366,-999.000
     316N151_2,   A24,    37,  1,      6,      6,2,19970608,2128, 53.6897, -14.3157, 1233,    838.8,   8.0176,  35.2494,2,  35.2483,2,    223.7,2,    221.7,2,     9.74,2,    16.64,2,     0.00,2,     1.08,2, -999.000,9, -999.000,9, -999.000,9,-999.0000,9,  -999.00,9,   2161.8,3,   -999.0,9,   2326.2,2,     7.73,2,25, -999.00,   -999,-999.0000,-999.000,  7.9288,-999.000
     316N151_2,   A24,    37,  1,      5,      5,2,19970608,2128, 53.6897, -14.3157, 1233,    917.4,   7.6064,  35.2500,2,  35.2511,2,    211.5,2,    205.9,2,    11.23,2,    18.16,2,     0.00,2,     1.18,2,    1.903,2,    0.928,2, -999.000,9,-999.0000,9,  -999.00,9,   2173.7,2,   -999.0,9,   2333.5,3,     7.71,2,25, -999.00,   -999,-999.0000,-999.000,  7.5116,-999.000
     316N151_2,   A24,    37,  1,      4,      4,2,19970608,2128, 53.6897, -14.3157, 1233,   1006.6,   6.8137,  35.1963,2,  35.1937,2,    216.9,2,    214.8,2,    11.56,2,    18.31,2,     0.00,2,     1.20,2,    1.921,2,    0.917,2, -999.000,9,-999.0000,9,  -999.00,9,   2173.1,2,   -999.0,9,   2326.5,2,     7.70,2,25, -999.00,   -999,-999.0000,-999.000,  6.7150,-999.000
     316N151_2,   A24,    37,  1,      3,      3,2,19970608,2128, 53.6897, -14.3157, 1233,   1084.7,   6.5170,  35.1985,2,  35.1979,2,    220.0,2,    218.6,2,    11.77,2,    18.31,2,     0.00,2,     1.20,2, -999.000,9, -999.000,9, -999.000,9,-999.0000,9,  -999.00,9,   2173.7,2,   -999.0,9,   2327.7,2,     7.71,2,25, -999.00,   -999,-999.0000,-999.000,  6.4125,-999.000
     316N151_2,   A24,    37,  1,      2,      2,2,19970608,2128, 53.6897, -14.3157, 1233,   1173.2,   5.8744,  35.1234,2,  35.1234,2,    226.6,2,    229.2,2,    11.87,2,    18.31,2,     0.00,2,     1.20,2,    1.920,2,    0.926,2, -999.000,9,-999.0000,9,  -999.00,9,   2170.4,2,   -999.0,9,   2321.9,2,     7.70,2,25, -999.00,   -999,-999.0000,-999.000,  5.7664,-999.000
     316N151_2,   A24,    37,  1,      1,      1,2,19970608,2128, 53.6897, -14.3157, 1233,   1271.7,   5.4564,  35.0797,2,  35.0931,4,    235.2,2,    236.9,2,    11.85,2,    18.16,2,     0.00,2,     1.20,2,    1.995,2,    0.967,2, -999.000,9,-999.0000,9,  -999.00,9,   2169.5,2,   -999.0,9,   2318.7,2,     7.70,2,25, -999.00,   -999,-999.0000,-999.000,  5.3424,-999.000