BOTTLE,20220629CCHSIOAMB
EXPOCODE,SECT_ID,STNNBR,CASTNO,SAMPNO,BTLNBR,BTLNBR_FLAG_W,DATE,TIME,LATITUDE,LONGITUDE,DEPTH,CTDPRS,CTDTMP,CTDSAL,CTDSAL_FLAG_W,SALNTY,SALNTY_FLAG_W,CTDOXY,CTDOXY_FLAG_W,OXYGEN,OXYGEN_FLAG_W,SILCAT,SILCAT_FLAG_W,NITRAT,NITRAT_FLAG_W,NITRIT,NITRIT_FLAG_W,PHSPHT,PHSPHT_FLAG_W,CFC-11,CFC-11_FLAG_W,CFC-12,CFC-12_FLAG_W,TRITUM,TRITUM_FLAG_W,HELIUM,HELIUM_FLAG_W,DELHE3,DELHE3_FLAG_W,TCARBN,TCARBN_FLAG_W,PCO2,PCO2_FLAG_W,ALKALI,ALKALI_FLAG_W,PH,PH_FLAG_W,PH_TMP,PCO2TMP,CTDRAW,HELIER,DELHER,THETA,TRITER
,,,,,,,,,,,,DBAR,ITS-90,PSS-78,,PSS-78,,UMOL/KG,,UMOL/KG,,UMOL/KG,,UMOL/KG,,UMOL/KG,,UMOL/KG,,PMOL/KG,,PMOL/KG,,TU,,NMOL/KG,,PERCNT,,UMOL/KG,,UATM,,UMOL/KG,,,,DEG C,DEG C,,NMOL/KG,PERCNT,DEG C,TU
     316N151_2,   A24,   152,  1,     17,     17,2,19970628,1449, 39.0660, -27.1495, 1316,      3.3,  19.0368,  36.1432,2,  36.1439,2,    244.5,2,    237.8,2,     0.50,2,     0.09,2,     0.00,2,     0.02,2,    2.561,2,    1.424,2, -999.000,9,-999.0000,9,  -999.00,9,   2066.6,2,    356.7,2,   2369.6,6,     8.00,2,25,   20.00,   -999,-999.0000,-999.000, 19.0362,-999.000
     316N151_2,   A24,   152,  1,     16,     16,2,19970628,1449, 39.0660, -27.1495, 1316,     32.9,  17.3239,  36.0952,2,  36.0964,2,    315.4,2,    245.6,2,     0.49,2,     0.09,2,     0.00,2,     0.02,2,    2.679,2,    1.420,2, -999.000,9,-999.0000,9,  -999.00,9,   2063.5,2,    352.3,2,   2367.1,2,     8.00,2,25,   20.00,   -999,-999.0000,-999.000, 17.3183,-999.000
     316N151_2,   A24,   152,  1,     15,     15,2,19970628,1449, 39.0660, -27.1495, 1316,     62.7,  16.5148,  36.0957,2,  36.0994,2,    249.4,2,    244.9,2,     0.58,2,     0.42,2,     0.05,2,     0.05,2,    2.735,2,    1.503,2, -999.000,9,-999.0000,9,  -999.00,9,   2073.1,2,    366.5,2,   2366.8,2,     7.98,2,25,   20.00,   -999,-999.0000,-999.000, 16.5046,-999.000
     316N151_2,   A24,   152,  1,     14,     14,2,19970628,1449, 39.0660, -27.1495, 1316,    113.0,  15.3864,  36.0934,2,  36.0905,2,    222.9,2,    227.4,2,     1.78,2,     5.48,2,     0.02,2,     0.31,2,    2.744,2,    1.510,2, -999.000,9,-999.0000,9,  -999.00,9,   2102.9,2,    429.4,2,   2364.6,2,     7.93,2,25,   20.00,   -999,-999.0000,-999.000, 15.3688,-999.000
     316N151_2,   A24,   152,  1,     13,     13,2,19970628,1449, 39.0660, -27.1495, 1316,    163.2,  14.7951,  36.0180,2,  36.0177,2,    227.5,2,    229.2,2,     2.38,2,     6.65,2,     0.02,2,     0.39,2,    2.794,2,    1.527,2, -999.000,9,-999.0000,9,  -999.00,9,   2107.2,2,   -999.0,9,   2361.0,2,     7.92,2,25, -999.00,   -999,-999.0000,-999.000, 14.7704,-999.000
     316N151_2,   A24,   152,  1,     12,     12,2,19970628,1449, 39.0660, -27.1495, 1316,    223.5,  14.2857,  35.9340,2,  35.9333,2,    228.2,2,    230.4,2,     2.57,2,     7.17,2,     0.02,2,     0.43,2,    2.859,2,    1.541,2, -999.000,9,-999.0000,9,  -999.00,9,   2110.6,2,    459.8,2,   2355.6,2,     7.90,2,25,   20.00,   -999,-999.0000,-999.000, 14.2526,-999.000
     316N151_2,   A24,   152,  1,     11,     11,2,19970628,1449, 39.0660, -27.1495, 1316,    323.8,  13.5380,  35.8149,2,  35.8209,2,    214.5,2,    218.1,2,     3.78,2,     9.60,2,     0.01,2,     0.57,2,    2.668,2,    1.434,2, -999.000,9,-999.0000,9,  -999.00,9,   2121.1,2,    498.2,2,   2351.4,2,     7.88,2,25,   20.00,   -999,-999.0000,-999.000, 13.4917,-999.000
     316N151_2,   A24,   152,  1,     10,     10,2,19970628,1449, 39.0660, -27.1495, 1316,    424.1,  12.0969,  35.6138,2,  35.6239,2,    196.7,2,    203.0,2,     5.59,2,    12.92,2,     0.01,2,     0.79,2,    2.495,2,    1.311,2, -999.000,9,-999.0000,9,  -999.00,9,   2138.2,2,    571.4,2,   2340.0,2,     7.82,2,25,   20.00,   -999,-999.0000,-999.000, 12.0405,-999.000
     316N151_2,   A24,   152,  1,      9,      9,2,19970628,1449, 39.0660, -27.1495, 1316,    525.6,  10.8391,  35.4259,2,  35.4229,2,    188.5,2,    188.9,2,     8.02,2,    16.44,2,     0.00,2,     1.02,2,    2.127,2,    1.091,2, -999.000,9,-999.0000,9,  -999.00,9,   2154.5,2,    653.4,2,   2331.5,2,     7.77,2,25,   20.00,   -999,-999.0000,-999.000, 10.7736,-999.000
     316N151_2,   A24,   152,  1,      8,      8,2,19970628,1449, 39.0660, -27.1495, 1316,    625.7,   9.8655,  35.3531,2,  35.3503,2,    185.4,2,    186.8,2,     9.43,2,    17.89,2,     0.00,2,     1.13,2,    1.882,2,    0.959,2, -999.000,9,-999.0000,9,  -999.00,9,   2163.0,2,    696.3,2,   2328.7,2,     7.74,2,25,   20.00,   -999,-999.0000,-999.000,  9.7916,-999.000
     316N151_2,   A24,   152,  1,      7,      7,2,19970628,1449, 39.0660, -27.1495, 1316,    714.4,   8.6909,  35.2356,2,  35.2279,2,    180.4,2,    182.5,2,    11.35,2,    19.63,2,     0.00,2,     1.26,2,    1.591,2,    0.795,2, -999.000,9,-999.0000,9,  -999.00,9,   2172.6,2,    751.1,2,   2324.9,2,     7.72,2,25,   20.00,   -999,-999.0000,-999.000,  8.6123,-999.000
     316N151_2,   A24,   152,  1,      6,      6,2,19970628,1449, 39.0660, -27.1495, 1316,    842.9,   8.1517,  35.3715,2,  35.3695,2,    193.6,2,    198.1,2,    11.04,2,    18.50,2,     0.00,2,     1.18,2,    1.413,2,    0.702,2, -999.000,9,-999.0000,9,  -999.00,9,   2175.6,2,    732.0,2,   2334.1,2,     7.73,2,25,   20.00,   -999,-999.0000,-999.000,  8.0615,-999.000
     316N151_2,   A24,   152,  1,      5,      5,2,19970628,1449, 39.0660, -27.1495, 1316,    924.4,   7.3426,  35.3190,2,  35.3170,2,    204.6,2,    206.4,2,    11.53,2,    18.60,2,     0.00,2,     1.20,2,    1.373,2,    0.682,2, -999.000,9,-999.0000,9,  -999.00,9,   2175.9,2,    741.9,2,   2332.3,2,     7.72,2,25,   20.00,   -999,-999.0000,-999.000,  7.2487,-999.000
     316N151_2,   A24,   152,  1,      4,      4,2,19970628,1449, 39.0660, -27.1495, 1316,   1026.4,   6.6451,  35.2292,2,  35.2295,2,    214.8,2,    216.8,2,    11.93,2,    18.60,2,     0.00,2,     1.20,2,    1.363,2,    0.678,2, -999.000,9,-999.0000,9,  -999.00,9,   2173.8,2,    749.3,2,   2326.0,2,     7.72,2,25,   20.00,   -999,-999.0000,-999.000,  6.5456,-999.000
     316N151_2,   A24,   152,  1,      3,      3,2,19970628,1449, 39.0660, -27.1495, 1316,   1157.5,   6.0020,  35.1749,2,  35.1801,2,    227.3,2,    226.7,2,    12.33,2,    18.46,2,     0.00,2,     1.20,2,    1.315,2,    0.641,2, -999.000,9,-999.0000,9,  -999.00,9,   2171.8,2,    748.2,2,   2324.6,2,     7.72,2,25,   20.00,   -999,-999.0000,-999.000,  5.8943,-999.000
     316N151_2,   A24,   152,  1,      2,      2,2,19970628,1449, 39.0660, -27.1495, 1316,   1258.9,   5.6703,  35.1437,2,  35.1463,2,    229.2,2,    231.9,2,    12.52,2,    18.41,2,     0.00,2,     1.20,2,    1.276,2,    0.626,2, -999.000,9,-999.0000,9,  -999.00,9,   2169.1,2,    751.7,2,   2321.5,2,     7.72,2,25,   20.00,   -999,-999.0000,-999.000,  5.5555,-999.000
     316N151_2,   A24,   152,  1,      1,      1,2,19970628,1449, 39.0660, -27.1495, 1316,   1325.0,   5.5176,  35.1285,2,  35.1299,2,    229.1,2,    233.1,2,    12.61,2,    18.36,2,     0.00,2,     1.21,2,    1.298,2,    0.643,2, -999.000,9,-999.0000,9,  -999.00,9,   2169.6,2,    752.9,2,   2323.9,2,     7.71,2,25,   20.00,   -999,-999.0000,-999.000,  5.3977,-999.000
     316N151_2,   A24,   153,  1,      3,      3,2,19970628,1715, 38.8165, -27.0320, 1054,    798.0,   8.6404,  35.3127,2,  35.3119,2,   -999.0,9,   -999.0,9,  -999.00,9,  -999.00,9,  -999.00,9,  -999.00,9, -999.000,9, -999.000,9, -999.000,9,-999.0000,9,  -999.00,9,   -999.0,9,    731.2,2,   -999.0,9,  -999.00,9,25,   20.00,   -999,-999.0000,-999.000,  8.5524,-999.000
     316N151_2,   A24,   153,  1,      2,      2,2,19970628,1715, 38.8165, -27.0320, 1054,    878.2,   8.0198,  35.2990,2,  35.2981,2,   -999.0,9,   -999.0,9,  -999.00,9,  -999.00,9,  -999.00,9,  -999.00,9, -999.000,9, -999.000,9, -999.000,9,-999.0000,9,  -999.00,9,   -999.0,9,    742.9,2,   -999.0,9,  -999.00,9,25,   20.00,   -999,-999.0000,-999.000,  7.9266,-999.000
     316N151_2,   A24,   153,  1,      1,      1,2,19970628,1715, 38.8165, -27.0320, 1054,    960.6,   7.4269,  35.2730,2,  35.2727,2,   -999.0,9,   -999.0,9,  -999.00,9,  -999.00,9,  -999.00,9,  -999.00,9, -999.000,9, -999.000,9, -999.000,9,-999.0000,9,  -999.00,9,   -999.0,9,    741.3,2,   -999.0,9,  -999.00,9,25,   20.00,   -999,-999.0000,-999.000,  7.3285,-999.000
     316N151_2,   A24,   153,  2,     16,     16,2,19970628,1812, 38.8170, -27.0322, 1080,      2.3,  18.1269,  36.1080,2,-999.0000,9,    238.9,2,    243.5,2,     0.15,2,     0.09,2,     0.00,2,     0.02,2,    2.641,2,    1.464,2,    1.291,2,-999.0000,5,  -999.00,5,   2063.9,2,    354.0,2,   2366.7,6,     8.00,2,25,   20.00,   -999,-999.0000,-999.000, 18.1265,   0.031
     316N151_2,   A24,   153,  2,     15,     15,2,19970628,1812, 38.8170, -27.0322, 1080,     34.6,  16.6974,  36.0991,2,  36.1035,2,    243.6,2,    244.7,2,     0.19,2,     0.41,2,     0.06,2,     0.04,2,    2.743,2,    1.497,2, -999.000,9,-999.0000,9,  -999.00,9,   2071.5,2,    367.0,2,   2366.6,2,     7.99,2,25,   20.00,   -999,-999.0000,-999.000, 16.6918,-999.000
     316N151_2,   A24,   153,  2,     14,     14,2,19970628,1812, 38.8170, -27.0322, 1080,     64.2,  15.9603,  36.1085,2,  36.1057,2,    235.2,2,    232.9,2,     0.74,2,     3.12,2,     0.14,2,     0.19,2,    2.789,2,    1.517,2,    1.341,2,-999.0000,5,  -999.00,5,   2089.8,2,    403.6,2,   2365.2,2,     7.95,2,25,   20.00,   -999,-999.0000,-999.000, 15.9501,   0.034
     316N151_2,   A24,   153,  2,     13,     13,2,19970628,1812, 38.8170, -27.0322, 1080,    104.9,  15.4221,  36.1077,2,  36.1065,2,    225.8,2,    228.4,2,     1.30,2,     5.46,2,     0.02,2,     0.31,2,    2.762,2,    1.500,2,    1.273,2,-999.0000,5,  -999.00,5,   2102.2,2,    426.7,2,   2365.3,2,     7.93,2,25,   20.00,   -999,-999.0000,-999.000, 15.4058,   0.028
     316N151_2,   A24,   153,  2,     12,     12,2,19970628,1812, 38.8170, -27.0322, 1080,    175.3,  14.5533,  35.9845,2,  35.9811,2,    227.0,2,    226.1,2,     1.95,2,     7.10,2,     0.01,2,     0.41,2,    2.796,2,    1.508,2,   -0.020,4,-999.0000,5,  -999.00,5,   2109.8,2,    456.0,2,   2358.4,2,     7.91,2,25,   20.00,   -999,-999.0000,-999.000, 14.5271,   0.017
     316N151_2,   A24,   153,  2,     11,     11,2,19970628,1812, 38.8170, -27.0322, 1080,    254.1,  14.0624,  35.9073,2,  35.9041,2,    229.0,2,    230.2,2,     2.91,2,     7.56,2,     0.01,2,     0.45,2,    2.860,2,    1.567,2, -999.000,9,-999.0000,9,  -999.00,9,   2112.0,2,    468.1,2,   2355.6,2,     7.90,2,25,   20.00,   -999,-999.0000,-999.000, 14.0251,-999.000
     316N151_2,   A24,   153,  2,     10,     10,2,19970628,1812, 38.8170, -27.0322, 1080,    355.8,  13.2063,  35.7903,2,  35.7885,2,    212.4,2,    215.8,2,     4.08,2,    10.22,2,     0.01,2,     0.61,2,    2.730,2,    1.445,2,    1.387,2,-999.0000,5,  -999.00,5,   2126.2,2,    517.3,2,   2348.8,2,     7.86,2,25,   20.00,   -999,-999.0000,-999.000, 13.1562,   0.033
     316N151_2,   A24,   153,  2,      9,      9,2,19970628,1812, 38.8170, -27.0322, 1080,    455.8,  12.4586,  35.6662,2,  35.6726,2,    208.6,2,    210.7,2,     4.94,2,    11.89,2,     0.01,2,     0.72,2,    2.638,2,    1.376,2, -999.000,9,-999.0000,9,  -999.00,9,   2133.6,2,    552.5,2,   2342.2,2,     7.83,2,25,   20.00,   -999,-999.0000,-999.000, 12.3966,-999.000
     316N151_2,   A24,   153,  2,      8,      8,2,19970628,1812, 38.8170, -27.0322, 1080,    536.6,  11.1997,  35.4748,2,  35.4812,2,    192.8,2,    192.1,2,     7.33,2,    15.43,2,     0.01,2,     0.96,2,    2.225,2,    1.146,2,    1.280,2,-999.0000,5,  -999.00,5,   2150.0,2,    628.9,2,   2334.5,2,     7.79,2,25,   20.00,   -999,-999.0000,-999.000, 11.1314,   0.034
     316N151_2,   A24,   153,  2,      7,      7,2,19970628,1812, 38.8170, -27.0322, 1080,    607.0,  10.5956,  35.4116,2,  35.4116,2,    190.5,2,    192.9,2,     8.09,2,    16.41,2,     0.00,2,     1.03,2,    2.157,2,    1.103,2, -999.000,9,-999.0000,9,  -999.00,9,   2154.4,2,    665.4,2,   2331.4,2,     7.77,2,25,   20.00,   -999,-999.0000,-999.000, 10.5207,-999.000
     316N151_2,   A24,   153,  2,      6,      6,2,19970628,1812, 38.8170, -27.0322, 1080,    656.5,   9.8630,  35.3464,2,  35.3440,2,    191.9,2,    187.9,2,     9.36,2,    17.82,2,     0.00,2,     1.13,2,    1.917,2,    0.959,2,   -0.017,4,-999.0000,5,  -999.00,5,   2162.1,2,    697.2,2,   2328.3,2,     7.75,2,25,   20.00,   -999,-999.0000,-999.000,  9.7853,   0.023
     316N151_2,   A24,   153,  2,      5,      5,2,19970628,1812, 38.8170, -27.0322, 1080,    730.6,   9.0675,  35.3276,2,  35.3263,2,    189.9,2,    192.3,2,    10.13,2,    18.23,2,     0.00,2,     1.16,2,    1.717,2,    0.856,2, -999.000,9,-999.0000,9,  -999.00,9,   2166.6,2,   -999.0,9,   2329.1,2,     7.73,2,25, -999.00,   -999,-999.0000,-999.000,  8.9850,-999.000
     316N151_2,   A24,   153,  2,      4,      4,2,19970628,1812, 38.8170, -27.0322, 1080,    803.7,   8.4909,  35.3082,2,  35.3071,2,    190.7,2,    194.4,2,    10.68,2,    18.61,2,     0.00,2,     1.19,2,    1.586,2,    0.783,2,    1.120,2,-999.0000,5,  -999.00,5,   2171.1,2,    728.5,2,   2328.5,2,     7.73,2,25,   20.00,   -999,-999.0000,-999.000,  8.4031,   0.030
     316N151_2,   A24,   153,  2,      3,      3,2,19970628,1812, 38.8170, -27.0322, 1080,    901.2,   7.8276,  35.2893,2,  35.2894,2,    200.0,2,    202.4,2,    11.04,2,    18.56,2,     0.00,2,     1.19,2,    1.472,2,    0.732,2,    1.042,2,-999.0000,5,  -999.00,5,   2171.3,2,    731.2,2,   2329.6,2,     7.73,2,25,   20.00,   -999,-999.0000,-999.000,  7.7331,   0.028
     316N151_2,   A24,   153,  2,      2,      2,2,19970628,1812, 38.8170, -27.0322, 1080,   1002.9,   7.1645,  35.2605,2,  35.2607,2,    210.3,2,    210.4,2,    11.50,2,    18.61,2,     0.00,2,     1.20,2,    1.373,2,    0.683,2,    0.992,2,-999.0000,5,  -999.00,5,   2173.0,2,    742.9,2,   2327.9,2,     7.72,2,25,   20.00,   -999,-999.0000,-999.000,  7.0635,   0.030
     316N151_2,   A24,   153,  2,      1,      1,2,19970628,1812, 38.8170, -27.0322, 1080,   1089.0,   6.6174,  35.2251,2,  35.2246,2,    215.8,2,    217.5,2,    11.96,2,    18.47,2,     0.00,2,     1.20,2,    1.329,2,    0.654,2,    0.982,2,-999.0000,5,  -999.00,5,   2171.3,2,    741.3,2,   2328.2,2,     7.72,2,25,   20.00,   -999,-999.0000,-999.000,  6.5116,   0.029