BOTTLE,20220629CCHSIOAMB
EXPOCODE,SECT_ID,STNNBR,CASTNO,SAMPNO,BTLNBR,BTLNBR_FLAG_W,DATE,TIME,LATITUDE,LONGITUDE,DEPTH,CTDPRS,CTDTMP,CTDSAL,CTDSAL_FLAG_W,SALNTY,SALNTY_FLAG_W,CTDOXY,CTDOXY_FLAG_W,OXYGEN,OXYGEN_FLAG_W,SILCAT,SILCAT_FLAG_W,NITRAT,NITRAT_FLAG_W,NITRIT,NITRIT_FLAG_W,PHSPHT,PHSPHT_FLAG_W,CFC-11,CFC-11_FLAG_W,CFC-12,CFC-12_FLAG_W,TRITUM,TRITUM_FLAG_W,HELIUM,HELIUM_FLAG_W,DELHE3,DELHE3_FLAG_W,TCARBN,TCARBN_FLAG_W,PCO2,PCO2_FLAG_W,ALKALI,ALKALI_FLAG_W,PH,PH_FLAG_W,PH_TMP,PCO2TMP,CTDRAW,HELIER,DELHER,THETA,TRITER
,,,,,,,,,,,,DBAR,ITS-90,PSS-78,,PSS-78,,UMOL/KG,,UMOL/KG,,UMOL/KG,,UMOL/KG,,UMOL/KG,,UMOL/KG,,PMOL/KG,,PMOL/KG,,TU,,NMOL/KG,,PERCNT,,UMOL/KG,,UATM,,UMOL/KG,,,,DEG C,DEG C,,NMOL/KG,PERCNT,DEG C,TU
     316N151_2,   A24,    38,  1,     24,     24,2,19970608,2348, 53.7262, -14.3890, 1993,      2.5,  13.3298,  35.4803,2,  35.4805,2,    262.8,2,    266.9,2,     0.41,2,     4.23,2,     0.09,2,     0.31,2,    3.215,2,    1.727,2,    1.353,4,   1.7699,2,    -1.54,2,   2090.3,2,    440.5,2,   2339.9,6,     7.92,6,25,   20.00,   -999,  0.0000,   0.210, 13.3294,   0.029
     316N151_2,   A24,    38,  1,     23,     23,2,19970608,2348, 53.7262, -14.3890, 1993,     54.2,  11.4852,  35.4715,2,  35.4726,2,    268.7,2,    276.2,2,     0.85,2,     6.55,2,     0.17,2,     0.47,2, -999.000,9, -999.000,9, -999.000,9,-999.0000,9,  -999.00,9,   2105.0,2,    485.5,2,   2336.4,2,     7.88,2,25,   20.00,   -999,-999.0000,-999.000, 11.4783,-999.000
     316N151_2,   A24,    38,  1,     22,     22,2,19970608,2348, 53.7262, -14.3890, 1993,    102.6,  10.8653,  35.4607,2,  35.4610,2,    263.3,2,    261.3,2,     3.14,2,     8.89,2,     0.25,2,     0.63,2,    3.389,2,    1.810,2,   -4.203,4,   1.8085,2,    -4.47,4,   2123.3,2,    531.9,2,   2334.9,2,     7.85,2,25,   20.00,   -999,  0.0000,   0.210, 10.8527,   0.054
     316N151_2,   A24,    38,  1,     21,     21,2,19970608,2348, 53.7262, -14.3890, 1993,    203.6,  10.5340,  35.4391,2,  35.4403,2,    257.2,2,    255.9,2,     4.73,2,    10.81,2,     0.03,2,     0.71,2,    3.309,2,    1.786,2, -999.000,9,-999.0000,9,  -999.00,9,   2128.2,2,    559.6,2,   2332.9,2,     7.83,2,25,   20.00,   -999,-999.0000,-999.000, 10.5094,-999.000
     316N151_2,   A24,    38,  1,     20,     20,2,19970608,2348, 53.7262, -14.3890, 1993,    315.1,  10.2250,  35.4208,2,  35.4206,2,    254.4,2,    254.2,2,     5.06,2,    11.34,2,     0.01,2,     0.74,2, -999.000,9, -999.000,9,   -3.241,4,   1.8054,2,    -0.49,2,   2132.5,2,    568.3,2,   2330.9,2,     7.82,2,25,   20.00,   -999,  0.0000,   0.210, 10.1875,   0.051
     316N151_2,   A24,    38,  1,     19,     19,2,19970608,2348, 53.7262, -14.3890, 1993,    383.2,  10.1185,  35.4234,2,  35.4232,2,    251.8,2,    253.7,2,     5.16,2,    11.44,2,     0.01,2,     0.74,2,    3.321,2,    1.764,2, -999.000,9,-999.0000,9,  -999.00,9,   2135.8,2,    576.9,2,   2331.5,2,     7.81,2,25,   20.00,   -999,-999.0000,-999.000, 10.0730,-999.000
     316N151_2,   A24,    38,  1,     18,     18,2,19970608,2348, 53.7262, -14.3890, 1993,    454.0,   9.8797,  35.3943,2,  35.3940,2,    247.2,2,    247.0,2,     5.95,2,    12.30,2,     0.01,2,     0.80,2,    3.179,2,    1.671,2, -999.000,9,-999.0000,9,  -999.00,9,   2139.8,2,    596.3,2,   2331.3,2,     7.81,2,25,   20.00,   -999,-999.0000,-999.000,  9.8264,-999.000
     316N151_2,   A24,    38,  1,     17,     17,2,19970608,2348, 53.7262, -14.3890, 1993,    512.3,   9.8997,  35.4153,2,  35.4145,2,    247.5,2,    248.9,2,     5.93,2,    11.95,2,     0.01,2,     0.78,2, -999.000,9, -999.000,9,   -2.585,4,   1.8196,2,    -0.10,2,   2137.7,2,    593.8,2,   2330.9,2,     7.80,2,25,   20.00,   -999,  0.0000,   0.210,  9.8393,   0.042
     316N151_2,   A24,    38,  1,     16,     16,2,19970608,2348, 53.7262, -14.3890, 1993,    583.7,   9.5489,  35.3639,2,  35.3647,2,    244.5,2,    243.9,2,     6.49,2,    13.01,2,     0.01,2,     0.84,2,    3.115,2,    1.635,2, -999.000,9,-999.0000,9,  -999.00,9,   2145.3,2,    615.1,2,   2329.1,2,     7.80,2,25,   20.00,   -999,-999.0000,-999.000,  9.4814,-999.000
     316N151_2,   A24,    38,  1,     15,     15,2,19970608,2348, 53.7262, -14.3890, 1993,    682.9,   8.7885,  35.2881,2,  35.2860,2,    227.8,2,    224.9,2,     8.55,2,    15.48,2,     0.01,2,     1.00,2,    2.659,2,    1.348,2, -999.000,9,-999.0000,9,  -999.00,9,   2156.7,2,    671.5,2,   2328.4,2,     7.75,2,25,   20.00,   -999,-999.0000,-999.000,  8.7130,-999.000
     316N151_2,   A24,    38,  1,     14,     14,2,19970608,2348, 53.7262, -14.3890, 1993,    782.7,   8.0324,  35.2514,2,  35.2547,2,    212.3,2,    208.1,2,    10.62,2,    17.55,2,     0.00,2,     1.14,2,    2.107,2,    1.051,2,   -0.811,4,   1.8139,2,     6.65,2,   2171.2,2,    732.3,2,   2326.9,2,     7.73,2,25,   20.00,   -999,  0.0000,   0.140,  7.9497,   0.015
     316N151_2,   A24,    38,  1,     13,     13,2,19970608,2348, 53.7262, -14.3890, 1993,    832.5,   7.8373,  35.2476,2,  35.2474,2,    206.0,2,    207.4,2,    10.95,2,    17.86,2,     0.00,2,     1.16,2,    2.011,2,    0.981,2, -999.000,9,-999.0000,9,  -999.00,9,   2172.7,2,    731.4,2,   2328.0,2,     7.71,2,25,   20.00,   -999,-999.0000,-999.000,  7.7503,-999.000
     316N151_2,   A24,    38,  1,     12,     12,2,19970608,2348, 53.7262, -14.3890, 1993,    872.7,   7.5492,  35.2308,2,  35.2293,2,    209.7,2,    208.2,2,    11.28,2,    18.07,2,     0.00,2,     1.17,2,    1.966,2,    0.958,2, -999.000,9,-999.0000,9,  -999.00,9,   2175.9,2,    749.2,2,   2328.0,2,     7.72,2,25,   20.00,   -999,-999.0000,-999.000,  7.4596,-999.000
     316N151_2,   A24,    38,  1,     11,     11,2,19970608,2348, 53.7262, -14.3890, 1993,    953.0,   7.0015,  35.2093,2,  35.2076,2,    208.6,2,    213.0,2,    11.61,2,    18.22,2,     0.00,2,     1.18,2,    1.909,2,    0.924,2, -999.000,5,   1.8508,2,     7.84,2,   2176.6,2,    754.9,2,   2326.1,2,     7.71,2,25,   20.00,   -999,  0.0000,   0.140,  6.9071,-999.000
     316N151_2,   A24,    38,  1,     10,     10,2,19970608,2348, 53.7262, -14.3890, 1993,   1054.4,   6.4075,  35.1683,2,  35.1765,2,    217.3,2,    220.4,2,    11.94,2,    18.28,2,     0.00,2,     1.19,2,    1.901,2,    0.912,2, -999.000,5,   1.8374,2,     7.91,2,   2173.9,2,    762.7,2,   2323.9,2,     7.71,2,25,   20.00,   -999,  0.0000,   0.140,  6.3070,-999.000
     316N151_2,   A24,    38,  1,      9,      9,2,19970608,2348, 53.7262, -14.3890, 1993,   1156.1,   5.5913,  35.0841,2,  35.0836,2,    236.1,2,    232.9,2,    12.05,2,    18.23,2,     0.00,2,     1.20,2, -999.000,9, -999.000,9, -999.000,9,-999.0000,9,  -999.00,9,   2172.8,2,    775.2,2,   2320.9,2,     7.70,3,25,   20.00,   -999,-999.0000,-999.000,  5.4874,-999.000
     316N151_2,   A24,    38,  1,      8,      8,2,19970608,2348, 53.7262, -14.3890, 1993,   1255.5,   4.9439,  35.0224,2,  35.0206,2,    239.9,2,    244.0,2,    12.03,2,    18.13,2,     0.00,2,     1.20,2,    2.112,2,    1.013,2, -999.000,9,-999.0000,9,  -999.00,9,   2168.5,2,    775.2,2,   2314.9,2,     7.71,2,25,   20.00,   -999,-999.0000,-999.000,  4.8364,-999.000
     316N151_2,   A24,    38,  1,      7,      7,2,19970608,2348, 53.7262, -14.3890, 1993,   1355.2,   4.5805,  34.9903,2,  34.9901,2,    254.8,2,    252.1,2,    12.02,2,    17.83,2,     0.00,2,     1.18,2, -999.000,9, -999.000,9, -999.000,9,-999.0000,9,  -999.00,9,   2165.0,2,    771.9,2,   2313.4,2,     7.71,2,25,   20.00,   -999,-999.0000,-999.000,  4.4674,-999.000
     316N151_2,   A24,    38,  1,      6,      6,2,19970608,2348, 53.7262, -14.3890, 1993,   1456.6,   4.2815,  34.9611,2,  34.9667,2,    258.3,2,    258.8,2,    11.80,2,    17.65,2,     0.00,2,     1.17,2,    2.156,2,    1.060,2, -999.000,5,   1.8556,2,     8.15,2,   2163.8,2,    765.8,2,   2310.1,2,     7.71,2,25,   20.00,   -999,  0.0000,   0.140,  4.1621,-999.000
     316N151_2,   A24,    38,  1,      5,      5,2,19970608,2348, 53.7262, -14.3890, 1993,   1558.0,   3.9828,  34.9367,2,  34.9370,2,    265.5,2,    265.3,2,    11.90,2,    17.45,2,     0.00,2,     1.16,2, -999.000,9, -999.000,9, -999.000,9,-999.0000,9,  -999.00,9,   2163.8,2,    766.3,2,   2309.1,2,     7.70,3,25,   20.00,   -999,-999.0000,-999.000,  3.8576,-999.000
     316N151_2,   A24,    38,  1,      4,      4,2,19970608,2348, 53.7262, -14.3890, 1993,   1657.2,   3.7592,  34.9232,2,  34.9240,2,    268.7,2,    269.4,2,    12.32,2,    17.29,2,     0.00,2,     1.15,2,    1.986,2,    0.950,2, -999.000,5,   1.9328,2,     8.04,2,   2160.7,2,    760.9,2,   2308.3,2,     7.71,2,25,   20.00,   -999,  0.0000,   0.140,  3.6276,-999.000
     316N151_2,   A24,    38,  1,      3,      3,2,19970608,2348, 53.7262, -14.3890, 1993,   1760.4,   3.6637,  34.9202,2,  34.9203,2,    269.8,2,    270.6,2,    12.42,2,    17.24,2,     0.00,2,     1.15,2, -999.000,9, -999.000,9, -999.000,5,   1.8611,2,     8.02,2,   2160.1,2,    758.2,2,   2309.0,2,     7.71,2,25,   20.00,   -999,  0.0000,   0.200,  3.5238,-999.000
     316N151_2,   A24,    38,  1,      2,      2,2,19970608,2348, 53.7262, -14.3890, 1993,   1858.5,   3.4860,  34.9193,2,  34.9195,2,    270.6,2,    271.3,2,    13.57,2,    17.19,2,     0.00,2,     1.15,2,    1.650,2,    0.784,2, -999.000,5,   1.8342,2,     8.40,2,   2160.8,2,    753.7,2,   2307.7,2,     7.71,2,25,   20.00,   -999,  0.0000,   0.200,  3.3395,-999.000
     316N151_2,   A24,    38,  1,      1,      1,2,19970608,2348, 53.7262, -14.3890, 1993,   2008.6,   3.3713,  34.9256,2,  34.9266,2,    268.3,2,    269.3,2,    14.95,2,    17.29,2,     0.00,2,     1.16,2,    1.380,2,    0.680,2, -999.000,5,   1.9246,2,     7.78,2,   2159.1,2,    750.9,2,   2312.4,2,     7.72,2,25,   20.00,   -999,  0.0000,   0.140,  3.2125,-999.000
     316N151_2,   A24,    39,  1,     24,     24,2,19970609,0344, 53.7987, -14.5442, 2858,      2.8,  12.9226,  35.4357,2,  35.4371,2,    269.8,2,    270.2,2,     0.48,2,     3.98,2,     0.08,2,     0.28,2, -999.000,9, -999.000,9, -999.000,9,-999.0000,9,  -999.00,9,   2084.7,2,   -999.0,9,   2340.5,6,     7.92,6,25, -999.00,   -999,-999.0000,-999.000, 12.9222,-999.000
     316N151_2,   A24,    39,  1,     23,     23,2,19970609,0344, 53.7987, -14.5442, 2858,     30.4,  12.9329,  35.4409,2,  35.4390,2,    265.9,2,    270.4,2,     0.35,2,     3.98,2,     0.08,2,     0.29,2, -999.000,9, -999.000,9, -999.000,9,-999.0000,9,  -999.00,9,   -999.0,9,   -999.0,9,   -999.0,9,  -999.00,9,25, -999.00,   -999,-999.0000,-999.000, 12.9288,-999.000
     316N151_2,   A24,    39,  1,     22,     22,2,19970609,0344, 53.7987, -14.5442, 2858,     60.9,  11.2190,  35.4788,2,  35.4846,2,    261.5,2,    270.3,2,     1.39,2,     7.27,2,     0.21,2,     0.52,2, -999.000,9, -999.000,9, -999.000,9,-999.0000,9,  -999.00,9,   -999.0,9,   -999.0,9,   -999.0,9,  -999.00,9,25, -999.00,   -999,-999.0000,-999.000, 11.2114,-999.000
     316N151_2,   A24,    39,  1,     21,     21,2,19970609,0344, 53.7987, -14.5442, 2858,    115.8,  10.7900,  35.4555,2,  35.4555,2,    256.6,2,    259.7,2,     3.69,2,     9.60,2,     0.25,2,     0.65,2, -999.000,9, -999.000,9, -999.000,9,-999.0000,9,  -999.00,9,   -999.0,9,   -999.0,9,   -999.0,9,  -999.00,9,25, -999.00,   -999,-999.0000,-999.000, 10.7759,-999.000
     316N151_2,   A24,    39,  1,     20,     20,2,19970609,0344, 53.7987, -14.5442, 2858,    165.1,  10.6670,  35.4520,2,  35.4516,2,    252.5,2,    257.3,2,     4.26,2,    10.31,2,     0.15,2,     0.69,2, -999.000,9, -999.000,9, -999.000,9,-999.0000,9,  -999.00,9,   -999.0,9,   -999.0,9,   -999.0,9,  -999.00,9,25, -999.00,   -999,-999.0000,-999.000, 10.6469,-999.000
     316N151_2,   A24,    39,  1,     19,     19,2,19970609,0344, 53.7987, -14.5442, 2858,    227.0,  10.4584,  35.4353,2,  35.4383,2,    256.1,2,    255.6,2,     4.83,2,    10.94,2,     0.02,2,     0.72,2, -999.000,9, -999.000,9, -999.000,9,-999.0000,9,  -999.00,9,   -999.0,9,   -999.0,9,   -999.0,9,  -999.00,9,25, -999.00,   -999,-999.0000,-999.000, 10.4311,-999.000
     316N151_2,   A24,    39,  1,     18,     18,2,19970609,0344, 53.7987, -14.5442, 2858,    337.4,  10.1629,  35.4215,2,  35.4198,2,    257.8,2,    254.3,2,     5.29,2,    11.46,2,     0.01,2,     0.75,2, -999.000,9, -999.000,9, -999.000,9,-999.0000,9,  -999.00,9,   -999.0,9,   -999.0,9,   -999.0,9,  -999.00,9,25, -999.00,   -999,-999.0000,-999.000, 10.1228,-999.000
     316N151_2,   A24,    39,  1,     17,     17,2,19970609,0344, 53.7987, -14.5442, 2858,    416.2,  10.0506,  35.4214,2,  35.4215,2,    257.8,2,    253.2,2,     5.39,2,    11.56,2,     0.01,2,     0.76,2, -999.000,9, -999.000,9, -999.000,9,-999.0000,9,  -999.00,9,   -999.0,9,   -999.0,9,   -999.0,9,  -999.00,9,25, -999.00,   -999,-999.0000,-999.000, 10.0013,-999.000
     316N151_2,   A24,    39,  1,     16,     16,2,19970609,0344, 53.7987, -14.5442, 2858,    527.8,   9.9599,  35.4226,2,  35.4221,2,    259.4,2,    251.6,2,     5.73,2,    11.72,2,     0.01,2,     0.77,2, -999.000,9, -999.000,9, -999.000,9,-999.0000,9,  -999.00,9,   -999.0,9,   -999.0,9,   -999.0,9,  -999.00,9,25, -999.00,   -999,-999.0000,-999.000,  9.8974,-999.000
     316N151_2,   A24,    39,  1,     15,     15,2,19970609,0344, 53.7987, -14.5442, 2858,    636.0,   9.5524,  35.3657,2,  35.3678,2,    247.2,2,    242.3,2,     6.88,2,    13.08,2,     0.01,2,     0.86,2, -999.000,9, -999.000,9, -999.000,9,-999.0000,9,  -999.00,9,   -999.0,9,   -999.0,9,   -999.0,9,  -999.00,9,25, -999.00,   -999,-999.0000,-999.000,  9.4786,-999.000
     316N151_2,   A24,    39,  1,     14,     14,2,19970609,0344, 53.7987, -14.5442, 2858,    722.0,   8.7723,  35.2876,2,  35.2856,2,    221.4,2,    222.6,2,     8.96,2,    15.72,2,     0.00,2,     1.02,2,    2.587,2,    1.294,2, -999.000,9,-999.0000,9,  -999.00,9,   -999.0,9,   -999.0,9,   -999.0,9,  -999.00,9,25, -999.00,   -999,-999.0000,-999.000,  8.6924,-999.000
     316N151_2,   A24,    39,  1,     13,     13,2,19970609,0344, 53.7987, -14.5442, 2858,    849.7,   7.8037,  35.2357,2,  35.2339,2,    212.0,2,    208.1,2,    11.04,2,    17.90,2,     0.00,2,     1.16,2,    2.041,2,    1.020,2, -999.000,9,-999.0000,9,  -999.00,9,   -999.0,9,   -999.0,9,   -999.0,9,  -999.00,9,25, -999.00,   -999,-999.0000,-999.000,  7.7151,-999.000
     316N151_2,   A24,    39,  1,     12,     12,2,19970609,0344, 53.7987, -14.5442, 2858,   1001.4,   6.7834,  35.1757,2,  35.1746,2,    216.1,2,    215.5,2,    11.85,2,    18.31,2,     0.00,2,     1.20,2,    1.944,2,    0.944,2, -999.000,9,-999.0000,9,  -999.00,9,   -999.0,9,   -999.0,9,   -999.0,9,  -999.00,9,25, -999.00,   -999,-999.0000,-999.000,  6.6855,-999.000
     316N151_2,   A24,    39,  1,     11,     11,2,19970609,0344, 53.7987, -14.5442, 2858,   1103.1,   5.9667,  35.1101,2,  35.1106,2,    224.6,2,    226.9,2,    12.07,2,    18.27,2,     0.00,2,     1.20,2,    2.016,2,    0.975,2, -999.000,9,-999.0000,9,  -999.00,9,   -999.0,9,   -999.0,9,   -999.0,9,  -999.00,9,25, -999.00,   -999,-999.0000,-999.000,  5.8649,-999.000
     316N151_2,   A24,    39,  1,     10,     10,2,19970609,0344, 53.7987, -14.5442, 2858,   1203.7,   5.2578,  35.0532,2,  35.0533,2,    238.1,2,    239.3,2,    12.06,2,    18.12,2,     0.00,2,     1.19,2,    2.068,2,    1.004,2, -999.000,9,-999.0000,9,  -999.00,9,   -999.0,9,   -999.0,9,   -999.0,9,  -999.00,9,25, -999.00,   -999,-999.0000,-999.000,  5.1524,-999.000
     316N151_2,   A24,    39,  1,      9,      9,2,19970609,0344, 53.7987, -14.5442, 2858,   1303.2,   4.8076,  35.0095,2,  35.0076,2,    245.2,2,    248.5,2,    12.05,2,    17.87,2,     0.00,2,     1.18,2,    2.120,2,    1.023,2, -999.000,9,-999.0000,9,  -999.00,9,   -999.0,9,   -999.0,9,   -999.0,9,  -999.00,9,25, -999.00,   -999,-999.0000,-999.000,  4.6970,-999.000
     316N151_2,   A24,    39,  1,      8,      8,2,19970609,0344, 53.7987, -14.5442, 2858,   1500.2,   4.1021,  34.9485,2,  34.9477,2,    260.4,2,    263.3,2,    12.16,2,    17.52,2,     0.00,2,     1.17,2,    2.087,2,    1.000,2, -999.000,9,-999.0000,9,  -999.00,9,   -999.0,9,   -999.0,9,   -999.0,9,  -999.00,9,25, -999.00,   -999,-999.0000,-999.000,  3.9808,-999.000
     316N151_2,   A24,    39,  1,      7,      7,2,19970609,0344, 53.7987, -14.5442, 2858,   1698.7,   3.7315,  34.9216,2,  34.9217,2,    269.3,2,    242.7,4,    12.62,2,    17.27,2,     0.00,2,     1.16,2,    1.949,2,    0.939,2, -999.000,9,-999.0000,9,  -999.00,9,   -999.0,9,   -999.0,9,   -999.0,9,  -999.00,9,25, -999.00,   -999,-999.0000,-999.000,  3.5964,-999.000
     316N151_2,   A24,    39,  1,      6,      6,2,19970609,0344, 53.7987, -14.5442, 2858,   1895.9,   3.4897,  34.9187,2,  34.9207,2,    272.4,2,    271.7,2,    13.89,2,    17.23,2,     0.00,2,     1.16,2,    1.645,2,    0.783,2, -999.000,9,-999.0000,9,  -999.00,9,   -999.0,9,   -999.0,9,   -999.0,9,  -999.00,9,25, -999.00,   -999,-999.0000,-999.000,  3.3397,-999.000
     316N151_2,   A24,    39,  1,      5,      5,2,19970609,0344, 53.7987, -14.5442, 2858,   2097.7,   3.3589,  34.9256,2,  34.9262,2,    269.8,2,    270.1,2,    15.16,2,    17.28,2,     0.00,2,     1.16,2,    1.356,2,    0.652,2, -999.000,9,-999.0000,9,  -999.00,9,   -999.0,9,   -999.0,9,   -999.0,9,  -999.00,9,25, -999.00,   -999,-999.0000,-999.000,  3.1919,-999.000
     316N151_2,   A24,    39,  1,      4,      4,2,19970609,0344, 53.7987, -14.5442, 2858,   2297.3,   3.2661,  34.9349,2,  34.9356,2,    266.9,2,    266.9,2,    17.25,2,    17.49,2,     0.00,2,     1.18,2,    1.062,2,    0.530,2, -999.000,9,-999.0000,9,  -999.00,9,   -999.0,9,   -999.0,9,   -999.0,9,  -999.00,9,25, -999.00,   -999,-999.0000,-999.000,  3.0813,-999.000
     316N151_2,   A24,    39,  1,      3,      3,2,19970609,0344, 53.7987, -14.5442, 2858,   2498.0,   3.1309,  34.9427,2,  34.9434,2,    260.4,2,    262.3,2,    20.62,2,    18.00,2,     0.00,2,     1.21,2,    0.791,2,    0.387,2, -999.000,9,-999.0000,9,  -999.00,9,   -999.0,9,   -999.0,9,   -999.0,9,  -999.00,9,25, -999.00,   -999,-999.0000,-999.000,  2.9287,-999.000
     316N151_2,   A24,    39,  1,      2,      2,2,19970609,0344, 53.7987, -14.5442, 2858,   2698.6,   3.0333,  34.9450,2,  34.9448,2,    254.4,2,    259.0,2,    23.42,2,    18.41,2,     0.00,2,     1.24,2,    0.625,2,    0.311,2, -999.000,9,-999.0000,9,  -999.00,9,   -999.0,9,   -999.0,9,   -999.0,9,  -999.00,9,25, -999.00,   -999,-999.0000,-999.000,  2.8129,-999.000
     316N151_2,   A24,    39,  1,      1,      1,2,19970609,0344, 53.7987, -14.5442, 2858,   2837.4,   2.6219,  34.9281,2,  34.9292,2,    246.0,2,    247.0,2,    35.81,2,    20.55,2,     0.00,2,     1.40,2,    0.224,2,    0.107,2, -999.000,9,-999.0000,9,  -999.00,9,   -999.0,9,   -999.0,9,   -999.0,9,  -999.00,9,25, -999.00,   -999,-999.0000,-999.000,  2.3959,-999.000