BOTTLE,20220629CCHSIOAMB
EXPOCODE,SECT_ID,STNNBR,CASTNO,SAMPNO,BTLNBR,BTLNBR_FLAG_W,DATE,TIME,LATITUDE,LONGITUDE,DEPTH,CTDPRS,CTDTMP,CTDSAL,CTDSAL_FLAG_W,SALNTY,SALNTY_FLAG_W,CTDOXY,CTDOXY_FLAG_W,OXYGEN,OXYGEN_FLAG_W,SILCAT,SILCAT_FLAG_W,NITRAT,NITRAT_FLAG_W,NITRIT,NITRIT_FLAG_W,PHSPHT,PHSPHT_FLAG_W,CFC-11,CFC-11_FLAG_W,CFC-12,CFC-12_FLAG_W,TRITUM,TRITUM_FLAG_W,HELIUM,HELIUM_FLAG_W,DELHE3,DELHE3_FLAG_W,TCARBN,TCARBN_FLAG_W,PCO2,PCO2_FLAG_W,ALKALI,ALKALI_FLAG_W,PH,PH_FLAG_W,PH_TMP,PCO2TMP,CTDRAW,HELIER,DELHER,THETA,TRITER
,,,,,,,,,,,,DBAR,ITS-90,PSS-78,,PSS-78,,UMOL/KG,,UMOL/KG,,UMOL/KG,,UMOL/KG,,UMOL/KG,,UMOL/KG,,PMOL/KG,,PMOL/KG,,TU,,NMOL/KG,,PERCNT,,UMOL/KG,,UATM,,UMOL/KG,,,,DEG C,DEG C,,NMOL/KG,PERCNT,DEG C,TU
     316N151_2,   A24,    40,  1,     24,     24,2,19970609,0655, 53.9355, -14.7447, 2975,      4.8,  12.7901,  35.4634,2,  35.4651,2,    271.5,2,    270.9,2,     0.41,2,     4.21,2,     0.09,2,     0.29,2,    3.208,2,    1.732,2,   -4.626,4,   0.0014,4,   978.78,4,   2086.5,2,   -999.0,9,   2340.2,6,     7.92,2,25, -999.00,   -999,  0.0000,   0.210, 12.7895,   0.070
     316N151_2,   A24,    40,  1,     23,     23,2,19970609,0655, 53.9355, -14.7447, 2975,     36.5,  12.7815,  35.4646,2,  35.4651,2,    268.9,2,    271.0,2,     0.39,2,     4.26,2,     0.09,2,     0.30,2, -999.000,9, -999.000,9, -999.000,9,-999.0000,9,  -999.00,9,   2086.9,2,   -999.0,9,   2338.3,2,     7.91,2,25, -999.00,   -999,-999.0000,-999.000, 12.7765,-999.000
     316N151_2,   A24,    40,  1,     22,     22,2,19970609,0655, 53.9355, -14.7447, 2975,     66.5,  11.1550,  35.4891,2,  35.4915,2,    252.9,2,    268.4,2,     1.53,2,     7.58,2,     0.26,2,     0.51,2, -999.000,9, -999.000,9,   -2.828,4,   3.4435,4,    -0.13,4,   2111.4,2,   -999.0,9,   2336.7,2,     7.87,2,25, -999.00,   -999,  0.0000,   0.110, 11.1467,   0.041
     316N151_2,   A24,    40,  1,     21,     21,2,19970609,0655, 53.9355, -14.7447, 2975,     96.5,  10.9860,  35.4780,2,  35.4795,2,    257.3,2,    259.8,2,     3.60,2,     9.00,2,     0.31,2,     0.61,2,    3.353,2,    1.810,2, -999.000,9,-999.0000,9,  -999.00,9,   2119.0,2,   -999.0,9,   2334.6,2,     7.85,2,25, -999.00,   -999,-999.0000,-999.000, 10.9741,-999.000
     316N151_2,   A24,    40,  1,     20,     20,2,19970609,0655, 53.9355, -14.7447, 2975,    146.6,  10.6095,  35.4372,2,  35.4391,2,    250.9,2,    268.1,2,     1.60,2,     7.82,2,     0.22,2,     0.58,2,    3.436,2,    1.861,2, -999.000,9,-999.0000,9,  -999.00,9,   2116.9,2,   -999.0,9,   2334.9,2,     7.86,2,25, -999.00,   -999,-999.0000,-999.000, 10.5918,-999.000
     316N151_2,   A24,    40,  1,     19,     19,2,19970609,0655, 53.9355, -14.7447, 2975,    223.7,  10.3901,  35.4289,2,  35.4284,2,    263.4,2,    263.6,2,     2.51,2,     8.64,2,     0.26,2,     0.63,2, -999.000,9, -999.000,9,   -4.427,4,   1.8068,2,    -1.35,2,   2121.2,2,   -999.0,9,   2337.3,2,     7.84,2,25, -999.00,   -999,  0.0000,   0.200, 10.3633,   0.056
     316N151_2,   A24,    40,  1,     18,     18,2,19970609,0655, 53.9355, -14.7447, 2975,    306.0,  10.1584,  35.4201,2,  35.4201,2,    259.9,2,    259.3,2,     4.34,2,    10.87,2,     0.10,2,     0.71,2,    3.385,2,    1.819,2, -999.000,9,-999.0000,9,  -999.00,9,   2127.7,2,   -999.0,9,   2332.9,2,     7.83,2,25, -999.00,   -999,-999.0000,-999.000, 10.1221,-999.000
     316N151_2,   A24,    40,  1,     17,     17,2,19970609,0655, 53.9355, -14.7447, 2975,    394.6,   9.9231,  35.3973,2,  35.3965,2,    264.8,2,    242.0,2,     5.95,2,    12.67,2,     0.01,2,     0.81,2,    3.099,2,    1.639,2, -999.000,9,-999.0000,9,  -999.00,9,   2138.8,2,   -999.0,9,   2339.9,3,     7.80,2,25, -999.00,   -999,-999.0000,-999.000,  9.8768,-999.000
     316N151_2,   A24,    40,  1,     16,     16,2,19970609,0655, 53.9355, -14.7447, 2975,    484.0,   9.8686,  35.4071,2,  35.4053,2,    246.9,2,    242.5,2,     6.16,2,    12.62,2,     0.01,2,     0.81,2,    3.085,2,    1.641,2,   -3.577,4,   0.9498,4,    -3.08,4,   2140.4,2,   -999.0,9,   2332.7,2,     7.80,2,25, -999.00,   -999,  0.0000,   0.230,  9.8118,   0.048
     316N151_2,   A24,    40,  1,     15,     15,2,19970609,0655, 53.9355, -14.7447, 2975,    574.8,   9.6634,  35.3788,2,  35.3781,2,    243.5,2,    244.1,2,     6.25,2,    12.82,2,     0.01,2,     0.83,2,    3.102,2,    1.649,2, -999.000,9,-999.0000,9,  -999.00,9,   2140.2,2,   -999.0,9,   2330.3,2,     7.79,2,25, -999.00,   -999,-999.0000,-999.000,  9.5965,-999.000
     316N151_2,   A24,    40,  1,     14,     14,2,19970609,0655, 53.9355, -14.7447, 2975,    685.1,   9.1102,  35.3137,2,  35.3134,2,    235.4,2,    231.7,2,     7.62,2,    14.69,2,     0.01,2,     0.94,2,    2.806,2,    1.464,2,   -3.527,4,   1.8182,2,     2.63,2,   2149.8,2,   -999.0,9,   2328.9,2,     7.77,2,25, -999.00,   -999,  0.0000,   0.210,  9.0328,   0.049
     316N151_2,   A24,    40,  1,     13,     13,2,19970609,0655, 53.9355, -14.7447, 2975,    801.7,   8.3847,  35.2552,2,  35.2549,2,    222.7,2,    216.8,2,     9.34,2,    16.66,2,     0.01,2,     1.07,2,    2.394,2,    1.207,2, -999.000,9,-999.0000,9,  -999.00,9,   2161.6,2,   -999.0,9,   2335.2,2,     7.74,2,25, -999.00,   -999,-999.0000,-999.000,  8.2979,-999.000
     316N151_2,   A24,    40,  1,     12,     12,2,19970609,0655, 53.9355, -14.7447, 2975,    943.6,   7.5777,  35.2475,2,  35.2425,2,    206.5,2,    207.5,2,    11.05,2,    18.18,2,     0.00,2,     1.16,2,    1.901,2,    0.937,2,   -3.038,4,   1.8455,2,     7.48,2,   2171.8,2,   -999.0,9,   2330.0,2,     7.72,2,25, -999.00,   -999,  0.0000,   0.210,  7.4803,   0.041
     316N151_2,   A24,    40,  1,     11,     11,2,19970609,0655, 53.9355, -14.7447, 2975,   1049.1,   7.2043,  35.2623,2,  35.2614,2,    210.5,2,    210.2,2,    11.38,2,    18.23,2,     0.00,2,     1.17,2,    1.754,2,    0.853,2,   -3.631,4,   1.8399,2,     7.98,2,   2174.8,2,   -999.0,9,   2331.3,2,     7.72,2,25, -999.00,   -999,  0.0000,   0.210,  7.0980,   0.045
     316N151_2,   A24,    40,  1,     10,     10,2,19970609,0655, 53.9355, -14.7447, 2975,   1146.8,   6.6774,  35.2160,2,  35.2153,2,    222.2,2,    216.5,2,    11.59,2,    18.28,2,     0.00,2,     1.17,2,    1.782,2,    0.872,2,   -3.972,4,   1.8584,2,     8.23,2,   2174.6,2,   -999.0,9,   2329.4,2,     7.71,2,25, -999.00,   -999,  0.0000,   0.210,  6.5651,   0.074
     316N151_2,   A24,    40,  1,      9,      9,2,19970609,0655, 53.9355, -14.7447, 2975,   1343.3,   4.9380,  35.0185,2,  35.0174,2,    246.2,2,    243.9,2,    11.68,2,    18.17,2,     0.00,2,     1.17,2,    2.109,2,    1.011,2, -999.000,9,-999.0000,9,  -999.00,9,   2167.3,2,   -999.0,9,   2314.4,2,     7.71,2,25, -999.00,   -999,-999.0000,-999.000,  4.8223,-999.000
     316N151_2,   A24,    40,  1,      8,      8,2,19970609,0655, 53.9355, -14.7447, 2975,   1547.6,   4.1441,  34.9548,2,  34.9554,2,    262.8,2,    262.9,2,    11.77,2,    17.41,2,     0.00,2,     1.14,2,    2.102,2,    1.009,2, -999.000,5,   1.9256,2,     7.79,2,   2159.1,2,   -999.0,9,   2311.6,2,     7.71,2,25, -999.00,   -999,  0.0000,   0.210,  4.0179,-999.000
     316N151_2,   A24,    40,  1,      7,      7,2,19970609,0655, 53.9355, -14.7447, 2975,   1744.2,   3.7054,  34.9242,2,  34.9239,2,    270.7,2,    270.3,2,    12.45,2,    17.26,2,     0.00,2,     1.14,2,    1.933,2,    0.930,2,   -4.129,4,   1.8928,2,     8.34,2,   2157.0,2,   -999.0,9,   2308.3,2,     7.72,2,25, -999.00,   -999,  0.0000,   0.210,  3.5665,   0.097
     316N151_2,   A24,    40,  1,      6,      6,2,19970609,0655, 53.9355, -14.7447, 2975,   1945.1,   3.4683,  34.9232,2,  34.9235,2,    267.7,2,    270.7,2,    14.04,2,    17.30,2,     0.00,2,     1.15,2,    1.521,2,    0.729,2,   -5.719,4,   0.0146,4,   121.75,4,   2157.2,2,   -999.0,9,   2311.0,2,     7.71,2,25, -999.00,   -999,  0.0000,   0.760,  3.3140,   0.102
     316N151_2,   A24,    40,  1,      5,      5,2,19970609,0655, 53.9355, -14.7447, 2975,   2148.5,   3.2939,  34.9373,2,  34.9383,2,    264.9,2,    266.3,2,    16.80,2,    17.55,2,     0.00,2,     1.18,2,    1.085,2,    0.498,2,   -4.019,4,   1.9260,2,     7.62,2,   2160.6,2,   -999.0,9,   2315.3,2,     7.72,2,25, -999.00,   -999,  0.0000,   0.210,  3.1229,   0.073
     316N151_2,   A24,    40,  1,      4,      4,2,19970609,0655, 53.9355, -14.7447, 2975,   2344.5,   3.0933,  34.9444,2,  34.9436,2,    260.6,2,    260.1,2,    21.76,2,    18.26,2,     0.00,2,     1.23,2,    0.699,2,    0.335,2,   -5.524,4,   1.9340,2,     6.32,2,   2168.6,2,   -999.0,9,   2323.0,2,     7.71,2,25, -999.00,   -999,  0.0000,   0.210,  2.9068,   0.064
     316N151_2,   A24,    40,  1,      3,      3,2,19970609,0655, 53.9355, -14.7447, 2975,   2533.7,   2.9524,  34.9467,2,  34.9455,2,    255.4,2,    257.0,2,    24.75,2,    18.76,2,     0.00,2,     1.26,2,    0.561,2,    0.262,2,   -5.980,4,   1.9008,2,     5.28,2,   2174.0,2,   -999.0,9,   2328.5,2,     7.72,2,25, -999.00,   -999,  0.0000,   0.210,  2.7500,   0.068
     316N151_2,   A24,    40,  1,      2,      2,2,19970609,0655, 53.9355, -14.7447, 2975,   2722.8,   2.7609,  34.9404,2,  34.9392,2,    249.8,2,    250.5,2,    31.10,2,    19.82,2,     0.00,2,     1.34,2,    0.315,2,    0.151,2,   -3.950,4,-999.0000,5,  -999.00,5,   2183.8,2,   -999.0,9,   2338.2,2,     7.72,2,25, -999.00,   -999,-999.0000,-999.000,  2.5434,   0.045
     316N151_2,   A24,    40,  1,      1,      1,2,19970609,0655, 53.9355, -14.7447, 2975,   3009.7,   2.4365,  34.9110,2,  34.9107,2,    239.5,2,    240.2,2,    42.72,2,    21.89,2,     0.00,2,     1.49,2,    0.065,2,    0.034,2,   -5.462,4,   4.8606,4,   -98.84,4,   2201.2,2,   -999.0,9,   2356.3,2,     7.72,2,25, -999.00,   -999,  0.0000,   0.580,  2.1971,   0.061
     316N151_2,   A24,    41,  1,     24,     24,2,19970609,1135, 54.1823, -15.3305, 2960,      1.4,  12.2712,  35.4603,2,-999.0000,9,    285.3,2,    270.4,2,     0.57,2,     4.96,2,     0.11,2,     0.34,2, -999.000,9, -999.000,9, -999.000,9,-999.0000,9,  -999.00,9,   2092.7,2,   -999.0,9,   2337.2,6,     7.90,6,25, -999.00,   -999,-999.0000,-999.000, 12.2710,-999.000
     316N151_2,   A24,    41,  1,     23,     23,2,19970609,1135, 54.1823, -15.3305, 2960,     38.9,  12.1051,  35.4643,2,  35.4620,2,    275.0,2,    270.7,2,     0.77,2,     5.31,2,     0.12,2,     0.36,2, -999.000,9, -999.000,9, -999.000,9,-999.0000,9,  -999.00,9,   -999.0,9,   -999.0,9,   -999.0,9,  -999.00,9,25, -999.00,   -999,-999.0000,-999.000, 12.1001,-999.000
     316N151_2,   A24,    41,  1,     22,     22,2,19970609,1135, 54.1823, -15.3305, 2960,     55.0,  10.9522,  35.4455,2,  35.4459,2,    277.2,2,    273.5,2,     1.09,2,     7.29,2,     0.17,2,     0.51,2, -999.000,9, -999.000,9, -999.000,9,-999.0000,9,  -999.00,9,   -999.0,9,   -999.0,9,   -999.0,9,  -999.00,9,25, -999.00,   -999,-999.0000,-999.000, 10.9454,-999.000
     316N151_2,   A24,    41,  1,     21,     21,2,19970609,1135, 54.1823, -15.3305, 2960,    125.0,  10.5712,  35.4366,2,  35.4373,2,    256.0,2,    263.3,2,     3.03,2,     9.10,2,     0.23,2,     0.64,2, -999.000,9, -999.000,9, -999.000,9,-999.0000,9,  -999.00,9,   -999.0,9,   -999.0,9,   -999.0,9,  -999.00,9,25, -999.00,   -999,-999.0000,-999.000, 10.5561,-999.000
     316N151_2,   A24,    41,  1,     20,     20,2,19970609,1135, 54.1823, -15.3305, 2960,    193.0,  10.1461,  35.3637,2,  35.3628,2,    255.7,2,    252.0,2,     5.33,2,    11.71,2,     0.06,2,     0.77,2, -999.000,9, -999.000,9, -999.000,9,-999.0000,9,  -999.00,9,   -999.0,9,   -999.0,9,   -999.0,9,  -999.00,9,25, -999.00,   -999,-999.0000,-999.000, 10.1234,-999.000
     316N151_2,   A24,    41,  1,     19,     19,2,19970609,1135, 54.1823, -15.3305, 2960,    244.1,  10.1219,  35.3885,2,  35.3883,2,    248.2,2,    242.6,2,     5.77,2,    12.41,2,     0.02,2,     0.81,2, -999.000,9, -999.000,9, -999.000,9,-999.0000,9,  -999.00,9,   -999.0,9,   -999.0,9,   -999.0,9,  -999.00,9,25, -999.00,   -999,-999.0000,-999.000, 10.0931,-999.000
     316N151_2,   A24,    41,  1,     18,     18,2,19970609,1135, 54.1823, -15.3305, 2960,    307.1,   9.9438,  35.3794,2,  35.3907,2,    236.6,2,    247.3,2,     5.85,2,    12.47,2,     0.01,2,     0.81,2, -999.000,9, -999.000,9, -999.000,9,-999.0000,9,  -999.00,9,   -999.0,9,   -999.0,9,   -999.0,9,  -999.00,9,25, -999.00,   -999,-999.0000,-999.000,  9.9079,-999.000
     316N151_2,   A24,    41,  1,     17,     17,2,19970609,1135, 54.1823, -15.3305, 2960,    366.7,   9.8220,  35.3816,2,  35.3805,2,    246.6,2,    251.6,2,     5.82,2,    12.32,2,     0.01,2,     0.81,2, -999.000,9, -999.000,9, -999.000,9,-999.0000,9,  -999.00,9,   -999.0,9,   -999.0,9,   -999.0,9,  -999.00,9,25, -999.00,   -999,-999.0000,-999.000,  9.7793,-999.000
     316N151_2,   A24,    41,  1,     16,     16,2,19970609,1135, 54.1823, -15.3305, 2960,    487.3,   9.5829,  35.3718,2,  35.3741,2,    226.5,2,    258.6,2,     5.56,2,    12.07,2,     0.01,2,     0.79,2, -999.000,9, -999.000,9, -999.000,9,-999.0000,9,  -999.00,9,   -999.0,9,   -999.0,9,   -999.0,9,  -999.00,9,25, -999.00,   -999,-999.0000,-999.000,  9.5267,-999.000
     316N151_2,   A24,    41,  1,     15,     15,2,19970609,1135, 54.1823, -15.3305, 2960,    648.9,   8.9537,  35.2999,2,  35.3094,2,    231.9,2,    240.4,2,     7.39,2,    14.26,2,     0.00,2,     0.94,2, -999.000,9, -999.000,9, -999.000,9,-999.0000,9,  -999.00,9,   -999.0,9,   -999.0,9,   -999.0,9,  -999.00,9,25, -999.00,   -999,-999.0000,-999.000,  8.8813,-999.000
     316N151_2,   A24,    41,  1,     14,     14,2,19970609,1135, 54.1823, -15.3305, 2960,    751.0,   8.5252,  35.2711,2,  35.2713,2,    228.6,2,    239.4,2,     8.06,2,    14.97,2,     0.00,2,     0.99,2, -999.000,9, -999.000,9, -999.000,9,-999.0000,9,  -999.00,9,   -999.0,9,   -999.0,9,   -999.0,9,  -999.00,9,25, -999.00,   -999,-999.0000,-999.000,  8.4433,-999.000
     316N151_2,   A24,    41,  1,     13,     13,2,19970609,1135, 54.1823, -15.3305, 2960,    893.5,   7.7216,  35.2354,2,  35.2368,2,    217.0,2,    219.6,2,    10.25,2,    17.26,2,     0.00,2,     1.13,2, -999.000,9, -999.000,9, -999.000,9,-999.0000,9,  -999.00,9,   -999.0,9,   -999.0,9,   -999.0,9,  -999.00,9,25, -999.00,   -999,-999.0000,-999.000,  7.6287,-999.000
     316N151_2,   A24,    41,  1,     12,     12,2,19970609,1135, 54.1823, -15.3305, 2960,    944.6,   7.0600,  35.1748,2,  35.1723,2,    215.6,2,    207.3,2,    11.74,2,    18.69,2,     0.00,2,     1.24,2, -999.000,9, -999.000,9, -999.000,9,-999.0000,9,  -999.00,9,   -999.0,9,   -999.0,9,   -999.0,9,  -999.00,9,25, -999.00,   -999,-999.0000,-999.000,  6.9661,-999.000
     316N151_2,   A24,    41,  1,     11,     11,2,19970609,1135, 54.1823, -15.3305, 2960,    998.2,   6.8137,  35.1918,2,  35.1885,2,    215.2,2,    213.1,2,    11.71,2,    18.49,2,     0.00,2,     1.22,2, -999.000,9, -999.000,9, -999.000,9,-999.0000,9,  -999.00,9,   -999.0,9,   -999.0,9,   -999.0,9,  -999.00,9,25, -999.00,   -999,-999.0000,-999.000,  6.7159,-999.000
     316N151_2,   A24,    41,  1,     10,     10,2,19970609,1135, 54.1823, -15.3305, 2960,   1098.3,   5.8197,  35.1003,2,  35.1021,2,    229.7,2,    233.4,2,    11.56,2,    17.98,2,     0.00,2,     1.18,2, -999.000,9, -999.000,9, -999.000,9,-999.0000,9,  -999.00,9,   -999.0,9,   -999.0,9,   -999.0,9,  -999.00,9,25, -999.00,   -999,-999.0000,-999.000,  5.7196,-999.000
     316N151_2,   A24,    41,  1,      9,      9,2,19970609,1135, 54.1823, -15.3305, 2960,   1280.3,   4.8267,  35.0137,2,  35.0143,2,    250.9,2,    250.8,2,    11.65,2,    17.63,2,     0.00,2,     1.17,2, -999.000,9, -999.000,9, -999.000,9,-999.0000,9,  -999.00,9,   -999.0,9,   -999.0,9,   -999.0,9,  -999.00,9,25, -999.00,   -999,-999.0000,-999.000,  4.7181,-999.000
     316N151_2,   A24,    41,  1,      8,      8,2,19970609,1135, 54.1823, -15.3305, 2960,   1464.7,   4.0324,  34.9423,2,  34.9429,2,    264.9,2,    263.5,2,    12.09,2,    17.58,2,     0.00,2,     1.17,2, -999.000,9, -999.000,9, -999.000,9,-999.0000,9,  -999.00,9,   -999.0,9,   -999.0,9,   -999.0,9,  -999.00,9,25, -999.00,   -999,-999.0000,-999.000,  3.9151,-999.000
     316N151_2,   A24,    41,  1,      7,      7,2,19970609,1135, 54.1823, -15.3305, 2960,   1665.4,   3.6158,  34.9181,2,  34.9192,2,    270.8,2,    271.6,2,    12.88,2,    17.32,2,     0.00,2,     1.16,2, -999.000,9, -999.000,9, -999.000,9,-999.0000,9,  -999.00,9,   -999.0,9,   -999.0,9,   -999.0,9,  -999.00,9,25, -999.00,   -999,-999.0000,-999.000,  3.4853,-999.000
     316N151_2,   A24,    41,  1,      6,      6,2,19970609,1135, 54.1823, -15.3305, 2960,   1866.6,   3.4385,  34.9234,2,  34.9253,2,    271.6,2,    269.5,2,    14.37,2,    17.37,2,     0.00,2,     1.16,2, -999.000,9, -999.000,9, -999.000,9,-999.0000,9,  -999.00,9,   -999.0,9,   -999.0,9,   -999.0,9,  -999.00,9,25, -999.00,   -999,-999.0000,-999.000,  3.2919,-999.000
     316N151_2,   A24,    41,  1,      5,      5,2,19970609,1135, 54.1823, -15.3305, 2960,   2072.8,   3.2775,  34.9350,2,  34.9525,4,    265.8,2,    265.9,2,    17.03,2,    17.68,2,     0.00,2,     1.19,2, -999.000,9, -999.000,9, -999.000,9,-999.0000,9,  -999.00,9,   -999.0,9,   -999.0,9,   -999.0,9,  -999.00,9,25, -999.00,   -999,-999.0000,-999.000,  3.1140,-999.000
     316N151_2,   A24,    41,  1,      4,      4,2,19970609,1135, 54.1823, -15.3305, 2960,   2278.2,   3.0664,  34.9431,2,  34.9431,2,    261.4,2,    260.2,2,    21.79,2,    18.34,2,     0.00,2,     1.24,2, -999.000,9, -999.000,9, -999.000,9,-999.0000,9,  -999.00,9,   -999.0,9,   -999.0,9,   -999.0,9,  -999.00,9,25, -999.00,   -999,-999.0000,-999.000,  2.8868,-999.000
     316N151_2,   A24,    41,  1,      3,      3,2,19970609,1135, 54.1823, -15.3305, 2960,   2481.0,   2.8327,  34.9409,2,  34.9461,4,    252.5,2,    252.3,2,    29.02,2,    19.52,2,     0.00,2,     1.32,2, -999.000,9, -999.000,9, -999.000,9,-999.0000,9,  -999.00,9,   -999.0,9,   -999.0,9,   -999.0,9,  -999.00,9,25, -999.00,   -999,-999.0000,-999.000,  2.6376,-999.000
     316N151_2,   A24,    41,  1,      2,      2,2,19970609,1135, 54.1823, -15.3305, 2960,   2632.3,   2.6959,  34.9335,2,  34.9359,2,    247.9,2,    249.3,2,    33.22,2,    20.28,2,     0.00,2,     1.38,2, -999.000,9, -999.000,9, -999.000,9,-999.0000,9,  -999.00,9,   -999.0,9,   -999.0,9,   -999.0,9,  -999.00,9,25, -999.00,   -999,-999.0000,-999.000,  2.4887,-999.000
     316N151_2,   A24,    41,  1,      1,      1,2,19970609,1135, 54.1823, -15.3305, 2960,   2823.6,   2.4748,  34.9139,2,  34.9228,4,    241.8,2,    241.6,2,    41.18,2,    21.71,2,     0.00,2,     1.49,2, -999.000,9, -999.000,9, -999.000,9,-999.0000,9,  -999.00,9,   -999.0,9,   -999.0,9,   -999.0,9,  -999.00,9,25, -999.00,   -999,-999.0000,-999.000,  2.2533,-999.000