BOTTLE,20220629CCHSIOAMB
EXPOCODE,SECT_ID,STNNBR,CASTNO,SAMPNO,BTLNBR,BTLNBR_FLAG_W,DATE,TIME,LATITUDE,LONGITUDE,DEPTH,CTDPRS,CTDTMP,CTDSAL,CTDSAL_FLAG_W,SALNTY,SALNTY_FLAG_W,CTDOXY,CTDOXY_FLAG_W,OXYGEN,OXYGEN_FLAG_W,SILCAT,SILCAT_FLAG_W,NITRAT,NITRAT_FLAG_W,NITRIT,NITRIT_FLAG_W,PHSPHT,PHSPHT_FLAG_W,CFC-11,CFC-11_FLAG_W,CFC-12,CFC-12_FLAG_W,TRITUM,TRITUM_FLAG_W,HELIUM,HELIUM_FLAG_W,DELHE3,DELHE3_FLAG_W,TCARBN,TCARBN_FLAG_W,PCO2,PCO2_FLAG_W,ALKALI,ALKALI_FLAG_W,PH,PH_FLAG_W,PH_TMP,PCO2TMP,CTDRAW,HELIER,DELHER,THETA,TRITER
,,,,,,,,,,,,DBAR,ITS-90,PSS-78,,PSS-78,,UMOL/KG,,UMOL/KG,,UMOL/KG,,UMOL/KG,,UMOL/KG,,UMOL/KG,,PMOL/KG,,PMOL/KG,,TU,,NMOL/KG,,PERCNT,,UMOL/KG,,UATM,,UMOL/KG,,,,DEG C,DEG C,,NMOL/KG,PERCNT,DEG C,TU
     316N151_2,   A24,     3,  1,     23,     23,4,19970531,0523, 39.3770, -26.2530, 2756,      4.0,  17.3294,  36.0387,2,  36.0406,2,    266.3,2,    242.3,2,     0.51,2,     0.06,2,     0.00,2,     0.05,2, -999.000,9, -999.000,9, -999.000,5,   1.8563,2,     1.07,3,   -999.0,9,   -999.0,9,   -999.0,9,  -999.00,9,25, -999.00,   -999,  0.0000,   0.180, 17.3287,-999.000
     316N151_2,   A24,     3,  1,     22,     22,4,19970531,0523, 39.3770, -26.2530, 2756,     35.0,  16.9930,  36.0352,2,  36.0352,2,    239.3,2,    242.9,2,     0.50,2,     0.06,2,     0.00,2,     0.05,2, -999.000,9, -999.000,9, -999.000,5,   1.7794,2,    -1.56,2,   -999.0,9,   -999.0,9,   -999.0,9,  -999.00,9,25, -999.00,   -999,  0.0000,   0.210, 16.9872,-999.000
     316N151_2,   A24,     3,  1,     21,     21,4,19970531,0523, 39.3770, -26.2530, 2756,     65.0,  15.6451,  36.0192,2,  36.0080,2,    240.0,2,    239.2,2,     0.79,2,     1.97,2,     0.20,2,     0.16,2, -999.000,9, -999.000,9, -999.000,5,   1.7732,2,    -0.56,2,   -999.0,9,   -999.0,9,   -999.0,9,  -999.00,9,25, -999.00,   -999,  0.0000,   0.210, 15.6349,-999.000
     316N151_2,   A24,     3,  1,     20,     20,4,19970531,0523, 39.3770, -26.2530, 2756,    104.4,  14.7360,  35.9956,2,  35.9955,2,    227.3,2,    230.4,2,     1.92,2,     6.19,2,     0.02,2,     0.37,2, -999.000,9, -999.000,9, -999.000,5,   1.8063,2,    -0.77,2,   -999.0,9,   -999.0,9,   -999.0,9,  -999.00,9,25, -999.00,   -999,  0.0000,   0.210, 14.7203,-999.000
     316N151_2,   A24,     3,  1,     19,     19,4,19970531,0523, 39.3770, -26.2530, 2756,    155.4,  14.0095,  35.9035,2,  35.9109,2,    227.4,2,    222.9,2,     2.73,2,     8.04,2,     0.01,2,     0.48,2, -999.000,9, -999.000,9, -999.000,9,-999.0000,9,  -999.00,9,   -999.0,9,   -999.0,9,   -999.0,9,  -999.00,9,25, -999.00,   -999,-999.0000,-999.000, 13.9869,-999.000
     316N151_2,   A24,     3,  1,     18,     18,4,19970531,0523, 39.3770, -26.2530, 2756,    205.3,  13.6503,  35.8557,2,  35.8548,2,    221.6,2,    222.3,2,     3.13,2,     8.86,2,     0.01,2,     0.54,2, -999.000,9, -999.000,9, -999.000,5,   1.7992,2,     0.24,2,   -999.0,9,   -999.0,9,   -999.0,9,  -999.00,9,25, -999.00,   -999,  0.0000,   0.210, 13.6209,-999.000
     316N151_2,   A24,     3,  1,     17,     17,4,19970531,0523, 39.3770, -26.2530, 2756,    265.8,  13.1424,  35.7840,2,  35.7819,2,    217.6,2,    219.3,2,     3.74,2,     9.99,2,     0.01,2,     0.61,2, -999.000,9, -999.000,9, -999.000,9,-999.0000,9,  -999.00,9,   -999.0,9,   -999.0,9,   -999.0,9,  -999.00,9,25, -999.00,   -999,-999.0000,-999.000, 13.1052,-999.000
     316N151_2,   A24,     3,  1,     16,     16,4,19970531,0523, 39.3770, -26.2530, 2756,    326.0,  12.5489,  35.7089,2,  35.7065,2,    213.7,2,    217.5,2,     4.45,2,    11.17,2,     0.00,2,     0.74,2, -999.000,9, -999.000,9, -999.000,5,   1.8085,2,     2.06,2,   -999.0,9,   -999.0,9,   -999.0,9,  -999.00,9,25, -999.00,   -999,  0.0000,   0.210, 12.5046,-999.000
     316N151_2,   A24,     3,  1,     15,     15,4,19970531,0523, 39.3770, -26.2530, 2756,    405.8,  11.9319,  35.6172,2,  35.6153,2,    212.5,2,    212.7,2,     5.16,2,    12.61,2,     0.00,2,     0.78,2, -999.000,9, -999.000,9, -999.000,9,-999.0000,9,  -999.00,9,   -999.0,9,   -999.0,9,   -999.0,9,  -999.00,9,25, -999.00,   -999,-999.0000,-999.000, 11.8784,-999.000
     316N151_2,   A24,     3,  1,     14,     14,4,19970531,0523, 39.3770, -26.2530, 2756,    506.3,  11.2356,  35.5213,2,  35.5194,2,    207.3,2,    208.7,2,     6.08,2,    14.20,2,     0.00,2,     0.88,2, -999.000,9, -999.000,9, -999.000,5,   1.8625,2,     3.39,2,   -999.0,9,   -999.0,9,   -999.0,9,  -999.00,9,25, -999.00,   -999,  0.0000,   0.210, 11.1711,-999.000
     316N151_2,   A24,     3,  1,     13,     13,2,19970531,0523, 39.3770, -26.2530, 2756,    706.6,   9.1547,  35.3563,2,  35.3559,2,    191.5,2,    193.1,2,     9.68,2,    18.26,2,     0.00,2,     1.15,2, -999.000,9, -999.000,9, -999.000,9,-999.0000,9,  -999.00,9,   -999.0,9,   -999.0,9,   -999.0,9,  -999.00,9,25, -999.00,   -999,-999.0000,-999.000,  9.0745,-999.000
     316N151_2,   A24,     3,  1,     12,     12,2,19970531,0523, 39.3770, -26.2530, 2756,    806.8,   8.5616,  35.3815,2,  35.3993,2,    194.1,2,    193.8,2,    10.60,2,    18.67,2,     0.00,2,     1.19,2, -999.000,9, -999.000,9, -999.000,9,-999.0000,9,  -999.00,9,   -999.0,9,   -999.0,9,   -999.0,9,  -999.00,9,25, -999.00,   -999,-999.0000,-999.000,  8.4730,-999.000
     316N151_2,   A24,     3,  1,     11,     11,2,19970531,0523, 39.3770, -26.2530, 2756,    957.6,   7.4574,  35.3443,2,  35.3459,2,    206.9,2,    207.0,2,    11.31,2,    18.57,2,     0.00,2,     1.20,2, -999.000,9, -999.000,9, -999.000,9,-999.0000,9,  -999.00,9,   -999.0,9,   -999.0,9,   -999.0,9,  -999.00,9,25, -999.00,   -999,-999.0000,-999.000,  7.3590,-999.000
     316N151_2,   A24,     3,  1,     10,     10,2,19970531,0523, 39.3770, -26.2530, 2756,   1108.6,   6.3159,  35.2442,2,  35.2406,2,    224.0,2,    225.0,2,    11.72,2,    18.48,2,     0.00,2,     1.20,2, -999.000,9, -999.000,9, -999.000,5,   1.8587,2,    10.11,2,   -999.0,9,   -999.0,9,   -999.0,9,  -999.00,9,25, -999.00,   -999,  0.0000,   0.160,  6.2104,-999.000
     316N151_2,   A24,     3,  1,      9,      9,2,19970531,0523, 39.3770, -26.2530, 2756,   1310.3,   5.0356,  35.0921,2,  35.0919,2,    240.9,2,    245.3,2,    11.91,2,    18.33,2,     0.00,2,     1.20,2, -999.000,9, -999.000,9, -999.000,9,-999.0000,9,  -999.00,9,   -999.0,9,   -999.0,9,   -999.0,9,  -999.00,9,25, -999.00,   -999,-999.0000,-999.000,  4.9220,-999.000
     316N151_2,   A24,     3,  1,      8,      8,3,19970531,0523, 39.3770, -26.2530, 2756,   1512.5,   4.4102,  35.0200,2,  35.0179,2,    252.6,2,    273.4,4,    11.90,2,    18.02,2,     0.00,2,     1.19,2, -999.000,9, -999.000,9, -999.000,5,   1.8512,2,     9.90,2,   -999.0,9,   -999.0,9,   -999.0,9,  -999.00,9,25, -999.00,   -999,  0.0000,   0.170,  4.2841,-999.000
     316N151_2,   A24,     3,  1,      7,      7,2,19970531,0523, 39.3770, -26.2530, 2756,   1715.1,   3.8521,  34.9526,2,  34.9589,2,    266.8,2,    272.1,2,    11.91,2,    17.74,2,     0.00,2,     1.19,2, -999.000,9, -999.000,9, -999.000,9,-999.0000,9,  -999.00,9,   -999.0,9,   -999.0,9,   -999.0,9,  -999.00,9,25, -999.00,   -999,-999.0000,-999.000,  3.7140,-999.000
     316N151_2,   A24,     3,  1,      6,      6,2,19970531,0523, 39.3770, -26.2530, 2756,   1917.5,   3.5702,  34.9377,2,  34.9400,2,    271.4,2,    268.2,2,    12.73,2,    17.64,2,     0.00,2,     1.19,2, -999.000,9, -999.000,9, -999.000,5,   1.8606,2,     8.72,2,   -999.0,9,   -999.0,9,   -999.0,9,  -999.00,9,25, -999.00,   -999,  0.0000,   0.160,  3.4169,-999.000
     316N151_2,   A24,     3,  1,      5,      5,2,19970531,0523, 39.3770, -26.2530, 2756,   2120.0,   3.4464,  34.9449,2,  34.9439,2,    268.4,2,    265.6,3,    14.48,2,    17.74,2,     0.00,2,     1.19,2, -999.000,9, -999.000,9, -999.000,9,-999.0000,9,  -999.00,9,   -999.0,9,   -999.0,9,   -999.0,9,  -999.00,9,25, -999.00,   -999,-999.0000,-999.000,  3.2758,-999.000
     316N151_2,   A24,     3,  1,      4,      4,2,19970531,0523, 39.3770, -26.2530, 2756,   2323.1,   3.2747,  34.9460,2,  34.9447,2,    266.0,2,    265.9,2,    17.36,2,    18.05,2,     0.00,2,     1.22,2, -999.000,9, -999.000,9, -999.000,5,   1.8929,2,     7.38,2,   -999.0,9,   -999.0,9,   -999.0,9,  -999.00,9,25, -999.00,   -999,  0.0000,   0.160,  3.0872,-999.000
     316N151_2,   A24,     3,  1,      3,      3,2,19970531,0523, 39.3770, -26.2530, 2756,   2576.7,   3.0797,  34.9459,2,  34.9244,4,    259.5,2,    261.1,2,    21.60,2,    18.67,2,     0.00,2,     1.27,2, -999.000,9, -999.000,9, -999.000,5,   2.1267,3,     6.11,2,   -999.0,9,   -999.0,9,   -999.0,9,  -999.00,9,25, -999.00,   -999,  0.0000,   0.160,  2.8707,-999.000
     316N151_2,   A24,     3,  1,      2,      2,2,19970531,0523, 39.3770, -26.2530, 2756,   2729.5,   3.0101,  34.9448,2,  34.9445,2,    256.6,2,    260.1,2,    23.94,2,    19.02,2,     0.00,2,     1.29,2, -999.000,9, -999.000,9, -999.000,5,   1.8995,2,     5.81,2,   -999.0,9,   -999.0,9,   -999.0,9,  -999.00,9,25, -999.00,   -999,  0.0000,   0.160,  2.7870,-999.000
     316N151_2,   A24,     3,  1,      1,      1,2,19970531,0523, 39.3770, -26.2530, 2756,   2810.7,   2.9973,  34.9451,2,  34.9429,2,    258.2,2,    259.1,2,    24.66,2,    19.12,2,     0.00,2,     1.30,2, -999.000,9, -999.000,9, -999.000,5,   1.9197,2,     5.65,2,   -999.0,9,   -999.0,9,   -999.0,9,  -999.00,9,25, -999.00,   -999,  0.0000,   0.170,  2.7662,-999.000
     316N151_2,   A24,     4,  1,     24,     24,2,19970531,1028, 39.7163, -25.7660, 3006,      2.8,  16.7685,  35.8870,2,  35.8866,2,    217.7,2,    245.2,2,     0.65,2,     0.05,2,     0.00,2,     0.06,2,    2.832,2,    1.532,2, -999.000,9,-999.0000,9,  -999.00,9,   2067.5,2,    376.7,2,   2355.8,6,     7.98,2,25,   20.00,   -999,-999.0000,-999.000, 16.7681,-999.000
     316N151_2,   A24,     4,  1,     23,     23,2,19970531,1028, 39.7163, -25.7660, 3006,     54.8,  14.5714,  35.9386,2,  35.9208,2,    238.9,2,    237.6,2,     1.45,2,     4.23,2,     0.17,2,     0.30,2,    3.010,2,    1.604,2, -999.000,9,-999.0000,9,  -999.00,9,   2099.3,2,    440.0,2,   2357.7,2,     7.92,2,25,   20.00,   -999,-999.0000,-999.000, 14.5633,-999.000
     316N151_2,   A24,     4,  1,     22,     22,2,19970531,1028, 39.7163, -25.7660, 3006,     95.8,  13.8679,  35.8723,2,  35.8734,2,    232.6,2,    237.4,2,     2.25,2,     6.61,2,     0.02,2,     0.42,2,    3.077,2,    1.642,2, -999.000,9,-999.0000,9,  -999.00,9,   2110.5,2,    465.5,2,   2354.2,2,     7.90,2,25,   20.00,   -999,-999.0000,-999.000, 13.8541,-999.000
     316N151_2,   A24,     4,  1,     21,     21,2,19970531,1028, 39.7163, -25.7660, 3006,    165.6,  13.2976,  35.8046,2,  35.8036,2,    231.3,2,    229.2,2,     3.36,2,     8.90,2,     0.01,2,     0.55,2,    2.933,2,    1.571,2, -999.000,9,-999.0000,9,  -999.00,9,   2120.4,2,    495.8,2,   2350.0,2,     7.88,2,25,   20.00,   -999,-999.0000,-999.000, 13.2743,-999.000
     316N151_2,   A24,     4,  1,     20,     20,2,19970531,1028, 39.7163, -25.7660, 3006,    245.6,  12.9878,  35.7789,2,  35.7799,2,    228.4,2,    244.4,4,     3.03,2,     8.09,2,     0.01,2,     0.51,2,    3.144,2,    1.663,2, -999.000,9,-999.0000,9,  -999.00,9,   2115.5,2,    486.0,3,   2349.8,2,     7.88,2,25,   20.00,   -999,-999.0000,-999.000, 12.9537,-999.000
     316N151_2,   A24,     4,  1,     19,     19,2,19970531,1028, 39.7163, -25.7660, 3006,    336.3,  12.4090,  35.6741,2,  35.6765,2,    225.3,2,    227.0,2,     4.25,2,    10.53,2,     0.01,2,     0.66,2, -999.000,9, -999.000,9, -999.000,9,-999.0000,9,  -999.00,9,   2126.0,2,    527.9,2,   2342.5,2,     7.85,2,25,   20.00,   -999,-999.0000,-999.000, 12.3636,-999.000
     316N151_2,   A24,     4,  1,     18,     18,2,19970531,1028, 39.7163, -25.7660, 3006,    436.7,  11.4632,  35.5386,2,  35.5405,2,    219.6,2,    219.7,2,     5.16,2,    12.71,2,     0.00,2,     0.79,2,    2.931,2,    1.490,2, -999.000,9,-999.0000,9,  -999.00,9,   2139.0,2,    583.0,2,   2338.1,2,     7.81,2,25,   20.00,   -999,-999.0000,-999.000, 11.4070,-999.000
     316N151_2,   A24,     4,  1,     17,     17,2,19970531,1028, 39.7163, -25.7660, 3006,    537.4,  10.6869,  35.4509,2,  35.4498,2,    207.7,2,    206.6,2,     6.69,2,    15.09,2,     0.01,2,     0.94,2,    2.621,2,    1.300,2, -999.000,9,-999.0000,9,  -999.00,9,   2151.5,2,    631.6,2,   2332.7,2,     7.78,2,25,   20.00,   -999,-999.0000,-999.000, 10.6204,-999.000
     316N151_2,   A24,     4,  1,     16,     16,2,19970531,1028, 39.7163, -25.7660, 3006,    617.9,  10.0730,  35.4160,2,  35.4131,2,    197.9,2,    196.8,2,     8.11,2,    16.78,2,     0.00,2,     1.06,2,    2.122,2,    1.054,2, -999.000,9,-999.0000,9,  -999.00,9,   2161.2,2,    673.4,2,   2334.1,2,     7.76,2,25,   20.00,   -999,-999.0000,-999.000,  9.9990,-999.000
     316N151_2,   A24,     4,  1,     15,     15,2,19970531,1028, 39.7163, -25.7660, 3006,    718.4,   9.2013,  35.3705,2,  35.3703,2,    191.3,2,    190.9,2,     9.75,2,    18.20,2,     0.00,2,     1.16,2, -999.000,9, -999.000,9, -999.000,9,-999.0000,9,  -999.00,9,   2171.7,2,    713.1,2,   2333.1,2,     7.74,2,25,   20.00,   -999,-999.0000,-999.000,  9.1194,-999.000
     316N151_2,   A24,     4,  1,     14,     14,2,19970531,1028, 39.7163, -25.7660, 3006,    819.1,   9.0843,  35.4952,2,  35.4967,2,    191.4,2,    190.8,2,    10.04,2,    18.00,2,     0.00,2,     1.15,2,    1.490,2,    0.730,2, -999.000,9,-999.0000,9,  -999.00,9,   2178.0,2,    712.9,2,   2344.0,3,     7.74,2,25,   20.00,   -999,-999.0000,-999.000,  8.9910,-999.000
     316N151_2,   A24,     4,  1,     13,     13,2,19970531,1028, 39.7163, -25.7660, 3006,    919.7,   8.0884,  35.4021,2,  35.3993,2,    196.5,2,    199.3,2,    10.85,2,    18.46,2,     0.00,2,     1.18,2, -999.000,9, -999.000,9, -999.000,9,-999.0000,9,  -999.00,9,   2180.0,2,    727.9,2,   2337.9,2,     7.73,2,25,   20.00,   -999,-999.0000,-999.000,  7.9899,-999.000
     316N151_2,   A24,     4,  1,     12,     12,2,19970531,1028, 39.7163, -25.7660, 3006,   1020.6,   7.2480,  35.3465,2,  35.3457,2,    209.9,2,    210.3,2,    11.35,2,    18.41,2,     0.00,2,     1.19,2,    1.358,2,    0.661,2, -999.000,9,-999.0000,9,  -999.00,9,   2177.3,2,    739.3,2,   2337.9,2,     7.72,2,25,   20.00,   -999,-999.0000,-999.000,  7.1443,-999.000
     316N151_2,   A24,     4,  1,     11,     11,2,19970531,1028, 39.7163, -25.7660, 3006,   1121.5,   6.3074,  35.2415,2,  35.2353,2,    221.3,2,    223.2,2,    11.64,2,    18.37,2,     0.00,2,     1.20,2,    1.398,2,    0.684,2, -999.000,9,-999.0000,9,  -999.00,9,   2172.4,2,    746.6,2,   2328.5,2,     7.72,2,25,   20.00,   -999,-999.0000,-999.000,  6.2007,-999.000
     316N151_2,   A24,     4,  1,     10,     10,2,19970531,1028, 39.7163, -25.7660, 3006,   1263.1,   5.3354,  35.1189,2,  35.1191,2,    240.5,2,    238.9,2,    11.83,2,    18.27,2,     0.00,2,     1.20,2,    1.461,2,    0.709,2, -999.000,9,-999.0000,9,  -999.00,9,   2169.4,2,    757.2,2,   2321.3,2,     7.71,2,25,   20.00,   -999,-999.0000,-999.000,  5.2234,-999.000
     316N151_2,   A24,     4,  1,      9,      9,2,19970531,1028, 39.7163, -25.7660, 3006,   1384.4,   4.7367,  35.0537,2,  35.0531,2,    249.8,2,    250.0,2,    11.71,2,    18.07,2,     0.00,2,     1.19,2,    1.576,2,    0.749,2, -999.000,9,-999.0000,9,  -999.00,9,   2165.7,2,    751.5,2,   2316.7,2,     7.72,2,25,   20.00,   -999,-999.0000,-999.000,  4.6191,-999.000
     316N151_2,   A24,     4,  1,      8,      8,2,19970531,1028, 39.7163, -25.7660, 3006,   1536.0,   4.2030,  34.9899,2,  34.9957,4,    260.0,2,    260.9,2,    11.80,2,    17.81,2,     0.00,2,     1.18,2,    1.577,2,    0.748,2, -999.000,9,-999.0000,9,  -999.00,9,   2160.9,2,    753.2,2,   2312.9,2,     7.70,3,25,   20.00,   -999,-999.0000,-999.000,  4.0771,-999.000
     316N151_2,   A24,     4,  1,      7,      7,2,19970531,1028, 39.7163, -25.7660, 3006,   1728.0,   3.8129,  34.9497,2,  34.9500,2,    269.3,2,    268.4,2,    11.88,2,    17.56,2,     0.00,2,     1.17,2,    1.488,2,    0.718,2, -999.000,9,-999.0000,9,  -999.00,9,   2155.4,2,    747.5,2,   2311.0,2,     7.72,2,25,   20.00,   -999,-999.0000,-999.000,  3.6741,-999.000
     316N151_2,   A24,     4,  1,      6,      6,2,19970531,1028, 39.7163, -25.7660, 3006,   1971.0,   3.5332,  34.9426,2,  34.9429,2,    268.8,2,    269.4,2,    13.42,2,    17.56,2,     0.00,2,     1.18,2,    1.032,2,    0.510,2, -999.000,9,-999.0000,9,  -999.00,9,   2157.5,2,    742.9,2,   2309.6,2,     7.72,2,25,   20.00,   -999,-999.0000,-999.000,  3.3754,-999.000
     316N151_2,   A24,     4,  1,      5,      5,2,19970531,1028, 39.7163, -25.7660, 3006,   2173.1,   3.3842,  34.9489,2,  34.9567,4,    264.0,2,    266.8,2,    15.69,2,    17.77,2,     0.00,2,     1.18,2,    0.740,2,    0.378,2, -999.000,9,-999.0000,9,  -999.00,9,   2160.1,2,    737.5,2,   2315.1,2,     7.72,2,25,   20.00,   -999,-999.0000,-999.000,  3.2095,-999.000
     316N151_2,   A24,     4,  1,      4,      4,2,19970531,1028, 39.7163, -25.7660, 3006,   2376.3,   3.1795,  34.9486,2,  34.9496,2,    264.2,2,    263.3,2,    19.00,2,    18.13,2,     0.00,2,     1.22,2,    0.611,2,    0.299,2, -999.000,9,-999.0000,9,  -999.00,9,   2164.7,2,    745.0,2,   2319.4,2,     7.72,2,25,   20.00,   -999,-999.0000,-999.000,  2.9884,-999.000
     316N151_2,   A24,     4,  1,      3,      3,2,19970531,1028, 39.7163, -25.7660, 3006,   2629.7,   2.9978,  34.9455,2,  34.9441,2,    259.4,2,    258.4,2,    23.77,2,    18.84,2,     0.00,2,     1.27,2,    0.447,2,    0.236,2, -999.000,9,-999.0000,9,  -999.00,9,   2172.0,2,    747.8,2,   2326.1,2,     7.71,2,25,   20.00,   -999,-999.0000,-999.000,  2.7850,-999.000
     316N151_2,   A24,     4,  1,      2,      2,2,19970531,1028, 39.7163, -25.7660, 3006,   2883.7,   2.9299,  34.9432,2,  34.9427,2,    253.5,2,    256.4,2,    26.46,2,    19.30,2,     0.00,2,     1.30,2,    0.367,2,    0.184,2, -999.000,9,-999.0000,9,  -999.00,9,   2178.0,2,    754.4,2,   2331.0,2,     7.72,2,25,   20.00,   -999,-999.0000,-999.000,  2.6927,-999.000
     316N151_2,   A24,     4,  1,      1,      1,2,19970531,1028, 39.7163, -25.7660, 3006,   3127.5,   2.8546,  34.9401,2,  34.9414,2,    250.1,2,    252.9,2,    29.57,2,    19.81,2,     0.00,2,     1.34,2,    0.286,2,    0.157,2, -999.000,9,-999.0000,9,  -999.00,9,   2183.0,2,    750.4,2,   2335.2,2,     7.71,2,25,   20.00,   -999,-999.0000,-999.000,  2.5935,-999.000