BOTTLE,20220629CCHSIOAMB
EXPOCODE,SECT_ID,STNNBR,CASTNO,SAMPNO,BTLNBR,BTLNBR_FLAG_W,DATE,TIME,LATITUDE,LONGITUDE,DEPTH,CTDPRS,CTDTMP,CTDSAL,CTDSAL_FLAG_W,SALNTY,SALNTY_FLAG_W,CTDOXY,CTDOXY_FLAG_W,OXYGEN,OXYGEN_FLAG_W,SILCAT,SILCAT_FLAG_W,NITRAT,NITRAT_FLAG_W,NITRIT,NITRIT_FLAG_W,PHSPHT,PHSPHT_FLAG_W,CFC-11,CFC-11_FLAG_W,CFC-12,CFC-12_FLAG_W,TRITUM,TRITUM_FLAG_W,HELIUM,HELIUM_FLAG_W,DELHE3,DELHE3_FLAG_W,TCARBN,TCARBN_FLAG_W,PCO2,PCO2_FLAG_W,ALKALI,ALKALI_FLAG_W,PH,PH_FLAG_W,PH_TMP,PCO2TMP,CTDRAW,HELIER,DELHER,THETA,TRITER
,,,,,,,,,,,,DBAR,ITS-90,PSS-78,,PSS-78,,UMOL/KG,,UMOL/KG,,UMOL/KG,,UMOL/KG,,UMOL/KG,,UMOL/KG,,PMOL/KG,,PMOL/KG,,TU,,NMOL/KG,,PERCNT,,UMOL/KG,,UATM,,UMOL/KG,,,,DEG C,DEG C,,NMOL/KG,PERCNT,DEG C,TU
     316N151_2,   A24,   142,  1,     22,     22,2,19970627,0533, 42.2018, -28.6958, 2655,      3.1,  18.1978,  36.0929,2,  36.0913,2,    262.6,2,    243.7,2,     0.67,2,     0.05,2,     0.00,2,     0.03,2, -999.000,9, -999.000,9, -999.000,9,-999.0000,9,  -999.00,9,   2067.6,2,   -999.0,9,   2368.8,6,     8.00,6,25, -999.00,   -999,-999.0000,-999.000, 18.1972,-999.000
     316N151_2,   A24,   142,  1,     21,     21,2,19970627,0533, 42.2018, -28.6958, 2655,     29.8,  17.2753,  36.1886,2,  36.1589,2,    244.6,2,    249.9,2,     0.55,2,     0.04,2,     0.00,2,     0.02,2, -999.000,9, -999.000,9, -999.000,9,-999.0000,9,  -999.00,9,   -999.0,9,   -999.0,9,   -999.0,9,  -999.00,9,25, -999.00,   -999,-999.0000,-999.000, 17.2703,-999.000
     316N151_2,   A24,   142,  1,     20,     20,2,19970627,0533, 42.2018, -28.6958, 2655,     49.2,  16.2489,  36.1383,2,  36.1111,2,    252.2,2,    246.3,2,     0.74,2,     0.49,2,     0.06,2,     0.05,2, -999.000,9, -999.000,9, -999.000,9,-999.0000,9,  -999.00,9,   -999.0,9,   -999.0,9,   -999.0,9,  -999.00,9,25, -999.00,   -999,-999.0000,-999.000, 16.2410,-999.000
     316N151_2,   A24,   142,  1,     19,     19,2,19970627,0533, 42.2018, -28.6958, 2655,     95.7,  15.7696,  36.1834,2,  36.1835,2,    230.7,2,    227.6,2,     1.73,2,     5.02,2,     0.04,2,     0.27,2, -999.000,9, -999.000,9, -999.000,9,-999.0000,9,  -999.00,9,   -999.0,9,   -999.0,9,   -999.0,9,  -999.00,9,25, -999.00,   -999,-999.0000,-999.000, 15.7545,-999.000
     316N151_2,   A24,   142,  1,     18,     18,2,19970627,0533, 42.2018, -28.6958, 2655,    155.3,  14.4691,  35.9617,2,  35.9670,2,    227.6,2,    226.5,2,     2.62,2,     7.35,2,     0.02,2,     0.42,2, -999.000,9, -999.000,9, -999.000,9,-999.0000,9,  -999.00,9,   -999.0,9,   -999.0,9,   -999.0,9,  -999.00,9,25, -999.00,   -999,-999.0000,-999.000, 14.4460,-999.000
     316N151_2,   A24,   142,  1,     17,     17,2,19970627,0533, 42.2018, -28.6958, 2655,    205.9,  13.8163,  35.8445,2,  35.8484,2,    221.1,2,    220.0,2,     3.42,2,     8.88,2,     0.01,2,     0.52,2, -999.000,9, -999.000,9, -999.000,9,-999.0000,9,  -999.00,9,   -999.0,9,   -999.0,9,   -999.0,9,  -999.00,9,25, -999.00,   -999,-999.0000,-999.000, 13.7866,-999.000
     316N151_2,   A24,   142,  1,     16,     16,2,19970627,0533, 42.2018, -28.6958, 2655,    255.7,  13.4284,  35.8074,2,  35.8028,2,    217.0,2,    220.5,2,     3.80,2,     9.57,2,     0.02,2,     0.57,2, -999.000,9, -999.000,9, -999.000,9,-999.0000,9,  -999.00,9,   -999.0,9,   -999.0,9,   -999.0,9,  -999.00,9,25, -999.00,   -999,-999.0000,-999.000, 13.3921,-999.000
     316N151_2,   A24,   142,  1,     15,     15,2,19970627,0533, 42.2018, -28.6958, 2655,    355.8,  12.8562,  35.7522,2,  35.7528,2,    235.1,2,    239.7,2,     3.38,2,     8.74,2,     0.01,2,     0.53,2, -999.000,9, -999.000,9, -999.000,9,-999.0000,9,  -999.00,9,   -999.0,9,   -999.0,9,   -999.0,9,  -999.00,9,25, -999.00,   -999,-999.0000,-999.000, 12.8070,-999.000
     316N151_2,   A24,   142,  1,     14,     14,2,19970627,0533, 42.2018, -28.6958, 2655,    456.1,  12.1132,  35.6287,2,  35.6342,2,    230.8,2,    229.7,2,     4.28,2,    10.68,2,     0.01,2,     0.65,2, -999.000,9, -999.000,9, -999.000,9,-999.0000,9,  -999.00,9,   -999.0,9,   -999.0,9,   -999.0,9,  -999.00,9,25, -999.00,   -999,-999.0000,-999.000, 12.0524,-999.000
     316N151_2,   A24,   142,  1,     13,     13,2,19970627,0533, 42.2018, -28.6958, 2655,    556.2,  11.1394,  35.4920,2,  35.4961,2,    215.1,2,    218.4,2,     5.77,2,    13.31,2,     0.01,2,     0.82,2, -999.000,9, -999.000,9, -999.000,9,-999.0000,9,  -999.00,9,   -999.0,9,   -999.0,9,   -999.0,9,  -999.00,9,25, -999.00,   -999,-999.0000,-999.000, 11.0688,-999.000
     316N151_2,   A24,   142,  1,     12,     12,2,19970627,0533, 42.2018, -28.6958, 2655,    657.0,  10.0968,  35.3683,2,  35.3667,2,    193.8,2,    193.7,2,     8.49,2,    16.88,2,     0.01,2,     1.06,2, -999.000,9, -999.000,9, -999.000,9,-999.0000,9,  -999.00,9,   -999.0,9,   -999.0,9,   -999.0,9,  -999.00,9,25, -999.00,   -999,-999.0000,-999.000, 10.0179,-999.000
     316N151_2,   A24,   142,  1,     11,     11,2,19970627,0533, 42.2018, -28.6958, 2655,    746.9,   8.8472,  35.2616,2,  35.2605,2,    187.9,2,    188.0,2,    10.49,2,    18.87,2,     0.01,2,     1.20,2, -999.000,9, -999.000,9, -999.000,9,-999.0000,9,  -999.00,9,   -999.0,9,   -999.0,9,   -999.0,9,  -999.00,9,25, -999.00,   -999,-999.0000,-999.000,  8.7640,-999.000
     316N151_2,   A24,   142,  1,     10,     10,2,19970627,0533, 42.2018, -28.6958, 2655,    837.5,   8.3602,  35.3496,2,  35.3490,2,    195.4,2,    194.4,2,    10.68,2,    18.46,2,     0.01,2,     1.17,2, -999.000,9, -999.000,9, -999.000,9,-999.0000,9,  -999.00,9,   -999.0,9,   -999.0,9,   -999.0,9,  -999.00,9,25, -999.00,   -999,-999.0000,-999.000,  8.2693,-999.000
     316N151_2,   A24,   142,  1,      9,      9,2,19970627,0533, 42.2018, -28.6958, 2655,    908.3,   7.3528,  35.2246,2,  35.2204,2,    200.5,2,    200.8,2,    11.67,2,    19.16,2,     0.01,2,     1.23,2, -999.000,9, -999.000,9, -999.000,9,-999.0000,9,  -999.00,9,   -999.0,9,   -999.0,9,   -999.0,9,  -999.00,9,25, -999.00,   -999,-999.0000,-999.000,  7.2607,-999.000
     316N151_2,   A24,   142,  1,      8,      8,2,19970627,0533, 42.2018, -28.6958, 2655,   1049.7,   6.6695,  35.2450,2,  35.2529,2,    212.2,2,    214.1,2,    11.56,2,    18.55,2,     0.01,2,     1.19,2, -999.000,9, -999.000,9, -999.000,9,-999.0000,9,  -999.00,9,   -999.0,9,   -999.0,9,   -999.0,9,  -999.00,9,25, -999.00,   -999,-999.0000,-999.000,  6.5674,-999.000
     316N151_2,   A24,   142,  1,      7,      7,2,19970627,0533, 42.2018, -28.6958, 2655,   1210.0,   5.3345,  35.0977,2,  35.0940,2,    235.0,2,    236.6,2,    11.95,2,    18.37,2,     0.01,2,     1.19,2, -999.000,9, -999.000,9, -999.000,9,-999.0000,9,  -999.00,9,   -999.0,9,   -999.0,9,   -999.0,9,  -999.00,9,25, -999.00,   -999,-999.0000,-999.000,  5.2277,-999.000
     316N151_2,   A24,   142,  1,      6,      6,2,19970627,0533, 42.2018, -28.6958, 2655,   1454.7,   4.4513,  35.0071,2,  35.0054,2,    254.1,2,    253.9,2,    12.23,2,    17.95,2,     0.01,2,     1.17,2, -999.000,9, -999.000,9, -999.000,9,-999.0000,9,  -999.00,9,   -999.0,9,   -999.0,9,   -999.0,9,  -999.00,9,25, -999.00,   -999,-999.0000,-999.000,  4.3302,-999.000
     316N151_2,   A24,   142,  1,      5,      5,2,19970627,0533, 42.2018, -28.6958, 2655,   1715.4,   3.9292,  34.9662,2,  34.9637,2,    264.2,2,    262.0,2,    13.23,2,    17.77,2,     0.01,2,     1.17,2, -999.000,9, -999.000,9, -999.000,9,-999.0000,9,  -999.00,9,   -999.0,9,   -999.0,9,   -999.0,9,  -999.00,9,25, -999.00,   -999,-999.0000,-999.000,  3.7900,-999.000
     316N151_2,   A24,   142,  1,      4,      4,2,19970627,0533, 42.2018, -28.6958, 2655,   1968.8,   3.6771,  34.9491,2,  34.9466,2,    264.5,2,    265.7,2,    14.23,2,    17.72,2,     0.01,2,     1.16,2, -999.000,9, -999.000,9, -999.000,9,-999.0000,9,  -999.00,9,   -999.0,9,   -999.0,9,   -999.0,9,  -999.00,9,25, -999.00,   -999,-999.0000,-999.000,  3.5174,-999.000
     316N151_2,   A24,   142,  1,      3,      3,2,19970627,0533, 42.2018, -28.6958, 2655,   2222.9,   3.4839,  34.9434,2,  34.9417,2,    265.8,2,    265.1,2,    15.93,2,    17.77,2,     0.01,2,     1.18,2, -999.000,9, -999.000,9, -999.000,9,-999.0000,9,  -999.00,9,   -999.0,9,   -999.0,9,   -999.0,9,  -999.00,9,25, -999.00,   -999,-999.0000,-999.000,  3.3027,-999.000
     316N151_2,   A24,   142,  1,      2,      2,2,19970627,0533, 42.2018, -28.6958, 2655,   2375.3,   3.4547,  34.9435,2,  34.9409,2,    263.8,2,    265.4,2,    16.32,2,    17.77,2,     0.01,2,     1.18,2, -999.000,9, -999.000,9, -999.000,9,-999.0000,9,  -999.00,9,   -999.0,9,   -999.0,9,   -999.0,9,  -999.00,9,25, -999.00,   -999,-999.0000,-999.000,  3.2590,-999.000
     316N151_2,   A24,   142,  1,      1,      1,2,19970627,0533, 42.2018, -28.6958, 2655,   2518.0,   3.4632,  34.9426,2,  34.9409,2,    265.4,2,    264.7,2,    16.40,2,    17.82,2,     0.01,2,     1.18,2, -999.000,9, -999.000,9, -999.000,9,-999.0000,9,  -999.00,9,   -999.0,9,   -999.0,9,   -999.0,9,  -999.00,9,25, -999.00,   -999,-999.0000,-999.000,  3.2530,-999.000
     316N151_2,   A24,   143,  1,     21,     21,2,19970627,0853, 41.8842, -28.5317, 2185,      3.3,  19.0441,  36.0037,2,  36.0019,2,    217.7,2,    238.8,2,     0.54,2,     0.09,2,     0.00,2,     0.04,2,    2.621,2,    1.462,2, -999.000,9,-999.0000,9,  -999.00,9,   2070.1,2,   -999.0,9,   2361.4,6,     7.99,2,25, -999.00,   -999,-999.0000,-999.000, 19.0435,-999.000
     316N151_2,   A24,   143,  1,     20,     20,2,19970627,0853, 41.8842, -28.5317, 2185,     39.4,  16.4128,  35.9797,2,  35.9778,2,    245.5,2,    246.8,2,     0.52,2,     0.13,2,     0.01,2,     0.05,2, -999.000,9, -999.000,9, -999.000,9,-999.0000,9,  -999.00,9,   -999.0,9,   -999.0,9,   -999.0,9,  -999.00,9,25, -999.00,   -999,-999.0000,-999.000, 16.4064,-999.000
     316N151_2,   A24,   143,  1,     19,     19,2,19970627,0853, 41.8842, -28.5317, 2185,     75.0,  15.6421,  36.0852,2,  36.0885,2,    236.9,2,    233.9,2,     1.30,2,     4.25,2,     0.11,2,     0.25,2,    2.756,2,    1.499,2, -999.000,9,-999.0000,9,  -999.00,9,   -999.0,9,   -999.0,9,   -999.0,9,  -999.00,9,25, -999.00,   -999,-999.0000,-999.000, 15.6304,-999.000
     316N151_2,   A24,   143,  1,     18,     18,2,19970627,0853, 41.8842, -28.5317, 2185,    135.0,  14.0859,  35.9162,2,  35.9175,2,    224.8,2,    227.1,2,     2.68,2,     7.94,2,     0.01,2,     0.46,2, -999.000,9, -999.000,9, -999.000,9,-999.0000,9,  -999.00,9,   -999.0,9,   -999.0,9,   -999.0,9,  -999.00,9,25, -999.00,   -999,-999.0000,-999.000, 14.0661,-999.000
     316N151_2,   A24,   143,  1,     17,     17,2,19970627,0853, 41.8842, -28.5317, 2185,    185.3,  13.5206,  35.8302,2,  35.8291,2,    228.9,2,    227.2,2,     3.06,2,     8.73,2,     0.01,2,     0.52,2, -999.000,9, -999.000,9, -999.000,9,-999.0000,9,  -999.00,9,   -999.0,9,   -999.0,9,   -999.0,9,  -999.00,9,25, -999.00,   -999,-999.0000,-999.000, 13.4942,-999.000
     316N151_2,   A24,   143,  1,     16,     16,2,19970627,0853, 41.8842, -28.5317, 2185,    245.0,  13.0159,  35.7496,2,  35.7586,2,    218.4,2,    226.8,2,     3.55,2,     9.60,2,     0.01,2,     0.58,2,    2.845,2,    1.518,2, -999.000,9,-999.0000,9,  -999.00,9,   -999.0,9,   -999.0,9,   -999.0,9,  -999.00,9,25, -999.00,   -999,-999.0000,-999.000, 12.9819,-999.000
     316N151_2,   A24,   143,  1,     15,     15,2,19970627,0853, 41.8842, -28.5317, 2185,    335.7,  12.6437,  35.7081,2,  35.7005,2,    228.1,2,    223.1,2,     3.93,2,    10.53,2,     0.01,2,     0.64,2, -999.000,9, -999.000,9, -999.000,9,-999.0000,9,  -999.00,9,   -999.0,9,   -999.0,9,   -999.0,9,  -999.00,9,25, -999.00,   -999,-999.0000,-999.000, 12.5978,-999.000
     316N151_2,   A24,   143,  1,     14,     14,2,19970627,0853, 41.8842, -28.5317, 2185,    436.1,  11.9131,  35.6038,2,  35.6019,2,    231.0,2,    233.5,2,     4.11,2,    10.72,2,     0.01,2,     0.66,2,    3.026,2,    1.610,2, -999.000,9,-999.0000,9,  -999.00,9,   -999.0,9,   -999.0,9,   -999.0,9,  -999.00,9,25, -999.00,   -999,-999.0000,-999.000, 11.8556,-999.000
     316N151_2,   A24,   143,  1,     13,     13,2,19970627,0853, 41.8842, -28.5317, 2185,    606.4,  10.4399,  35.4103,2,  35.4147,2,    211.4,2,    207.7,2,     6.80,2,    15.10,2,     0.00,2,     0.94,2,    2.561,2,    1.309,2, -999.000,9,-999.0000,9,  -999.00,9,   -999.0,9,   -999.0,9,   -999.0,9,  -999.00,9,25, -999.00,   -999,-999.0000,-999.000, 10.3658,-999.000
     316N151_2,   A24,   143,  1,     12,     12,2,19970627,0853, 41.8842, -28.5317, 2185,    727.9,   9.2132,  35.3108,2,  35.3102,2,    192.4,2,    190.9,2,     9.59,2,    18.16,2,     0.00,2,     1.15,2,    1.841,2,    0.911,2, -999.000,9,-999.0000,9,  -999.00,9,   -999.0,9,   -999.0,9,   -999.0,9,  -999.00,9,25, -999.00,   -999,-999.0000,-999.000,  9.1302,-999.000
     316N151_2,   A24,   143,  1,     11,     11,2,19970627,0853, 41.8842, -28.5317, 2185,    807.9,   8.8640,  35.3560,2,  35.3532,2,    190.6,2,    192.1,2,     9.88,2,    18.16,2,     0.00,2,     1.15,2,    1.721,2,    0.861,2, -999.000,9,-999.0000,9,  -999.00,9,   -999.0,9,   -999.0,9,   -999.0,9,  -999.00,9,25, -999.00,   -999,-999.0000,-999.000,  8.7735,-999.000
     316N151_2,   A24,   143,  1,     10,     10,2,19970627,0853, 41.8842, -28.5317, 2185,    908.7,   8.0520,  35.3005,2,  35.3089,2,    196.1,2,    196.5,2,    10.67,2,    18.67,2,     0.00,2,     1.19,2,    1.580,2,    0.791,2, -999.000,9,-999.0000,9,  -999.00,9,   -999.0,9,   -999.0,9,   -999.0,9,  -999.00,9,25, -999.00,   -999,-999.0000,-999.000,  7.9551,-999.000
     316N151_2,   A24,   143,  1,      9,      9,2,19970627,0853, 41.8842, -28.5317, 2185,   1009.2,   7.2696,  35.2837,2,  35.2853,2,    207.6,2,    206.4,2,    11.15,2,    18.63,2,     0.00,2,     1.20,2,    1.517,2,    0.747,2, -999.000,9,-999.0000,9,  -999.00,9,   -999.0,9,   -999.0,9,   -999.0,9,  -999.00,9,25, -999.00,   -999,-999.0000,-999.000,  7.1671,-999.000
     316N151_2,   A24,   143,  1,      8,      8,2,19970627,0853, 41.8842, -28.5317, 2185,   1210.5,   5.1762,  35.0789,2,  35.0775,2,    243.8,2,    240.0,2,    11.64,2,    18.22,2,     0.00,2,     1.18,2,    1.641,2,    0.795,2, -999.000,9,-999.0000,9,  -999.00,9,   -999.0,9,   -999.0,9,   -999.0,9,  -999.00,9,25, -999.00,   -999,-999.0000,-999.000,  5.0708,-999.000
     316N151_2,   A24,   143,  1,      7,      7,2,19970627,0853, 41.8842, -28.5317, 2185,   1413.2,   4.4091,  34.9992,2,  34.9994,2,    250.1,2,    254.4,2,    11.83,2,    17.94,2,     0.00,2,     1.17,2,    1.700,2,    0.817,2, -999.000,9,-999.0000,9,  -999.00,9,   -999.0,9,   -999.0,9,   -999.0,9,  -999.00,9,25, -999.00,   -999,-999.0000,-999.000,  4.2924,-999.000
     316N151_2,   A24,   143,  1,      6,      6,2,19970627,0853, 41.8842, -28.5317, 2185,   1616.0,   4.0436,  34.9694,2,  34.9699,2,    259.0,2,    260.9,2,    12.52,2,    17.76,2,     0.00,2,     1.17,2, -999.000,9, -999.000,9, -999.000,9,-999.0000,9,  -999.00,9,   -999.0,9,   -999.0,9,   -999.0,9,  -999.00,9,25, -999.00,   -999,-999.0000,-999.000,  3.9122,-999.000
     316N151_2,   A24,   143,  1,      5,      5,2,19970627,0853, 41.8842, -28.5317, 2185,   1787.2,   3.7046,  34.9460,2,  34.9456,2,    261.9,2,    265.3,2,    13.51,2,    17.67,2,     0.00,2,     1.17,2, -999.000,9, -999.000,9, -999.000,9,-999.0000,9,  -999.00,9,   -999.0,9,   -999.0,9,   -999.0,9,  -999.00,9,25, -999.00,   -999,-999.0000,-999.000,  3.5616,-999.000
     316N151_2,   A24,   143,  1,      4,      4,2,19970627,0853, 41.8842, -28.5317, 2185,   1908.4,   3.5915,  34.9444,2,  34.9438,2,    268.5,2,    265.3,2,    14.50,2,    17.72,2,     0.00,2,     1.17,2,    1.275,2,    0.626,2, -999.000,9,-999.0000,9,  -999.00,9,   -999.0,9,   -999.0,9,   -999.0,9,  -999.00,9,25, -999.00,   -999,-999.0000,-999.000,  3.4388,-999.000
     316N151_2,   A24,   143,  1,      3,      3,2,19970627,0853, 41.8842, -28.5317, 2185,   2019.2,   3.5921,  34.9440,2,  34.9434,2,    266.5,2,    265.3,2,    14.59,2,    17.77,2,     0.00,2,     1.17,2, -999.000,9, -999.000,9, -999.000,9,-999.0000,9,  -999.00,9,   -999.0,9,   -999.0,9,   -999.0,9,  -999.00,9,25, -999.00,   -999,-999.0000,-999.000,  3.4289,-999.000
     316N151_2,   A24,   143,  1,      2,      2,2,19970627,0853, 41.8842, -28.5317, 2185,   2170.2,   3.5203,  34.9418,2,  34.9421,2,    267.3,2,    265.2,2,    15.28,2,    17.81,2,     0.00,2,     1.18,2, -999.000,9, -999.000,9, -999.000,9,-999.0000,9,  -999.00,9,   -999.0,9,   -999.0,9,   -999.0,9,  -999.00,9,25, -999.00,   -999,-999.0000,-999.000,  3.3436,-999.000
     316N151_2,   A24,   143,  1,      1,      1,2,19970627,0853, 41.8842, -28.5317, 2185,   2231.2,   3.5239,  34.9405,2,  34.9421,2,    262.4,2,    264.9,2,    15.37,2,    17.82,2,     0.00,2,     1.18,2,    1.163,2,    0.584,2, -999.000,9,-999.0000,9,  -999.00,9,   -999.0,9,   -999.0,9,   -999.0,9,  -999.00,9,25, -999.00,   -999,-999.0000,-999.000,  3.3412,-999.000