BOTTLE,20220629CCHSIOAMB
EXPOCODE,SECT_ID,STNNBR,CASTNO,SAMPNO,BTLNBR,BTLNBR_FLAG_W,DATE,TIME,LATITUDE,LONGITUDE,DEPTH,CTDPRS,CTDTMP,CTDSAL,CTDSAL_FLAG_W,SALNTY,SALNTY_FLAG_W,CTDOXY,CTDOXY_FLAG_W,OXYGEN,OXYGEN_FLAG_W,SILCAT,SILCAT_FLAG_W,NITRAT,NITRAT_FLAG_W,NITRIT,NITRIT_FLAG_W,PHSPHT,PHSPHT_FLAG_W,CFC-11,CFC-11_FLAG_W,CFC-12,CFC-12_FLAG_W,TRITUM,TRITUM_FLAG_W,HELIUM,HELIUM_FLAG_W,DELHE3,DELHE3_FLAG_W,TCARBN,TCARBN_FLAG_W,PCO2,PCO2_FLAG_W,ALKALI,ALKALI_FLAG_W,PH,PH_FLAG_W,PH_TMP,PCO2TMP,CTDRAW,HELIER,DELHER,THETA,TRITER
,,,,,,,,,,,,DBAR,ITS-90,PSS-78,,PSS-78,,UMOL/KG,,UMOL/KG,,UMOL/KG,,UMOL/KG,,UMOL/KG,,UMOL/KG,,PMOL/KG,,PMOL/KG,,TU,,NMOL/KG,,PERCNT,,UMOL/KG,,UATM,,UMOL/KG,,,,DEG C,DEG C,,NMOL/KG,PERCNT,DEG C,TU
     316N151_2,   A24,   130,  1,     29,     29,2,19970625,0231, 47.6260, -31.6378, 3763,      3.6,  14.9884,  35.4445,2,  35.4460,2,    275.7,2,    269.7,2,     0.15,2,     1.12,2,     0.05,2,     0.12,2, -999.000,9, -999.000,9, -999.000,9,-999.0000,9,  -999.00,9,   2056.9,2,   -999.0,9,   2336.6,6,     7.97,6,25, -999.00,   -999,-999.0000,-999.000, 14.9878,-999.000
     316N151_2,   A24,   130,  1,     28,     28,2,19970625,0231, 47.6260, -31.6378, 3763,     33.9,  14.1198,  35.4514,2,  35.4474,2,    267.5,2,    268.0,2,     0.44,2,     1.95,2,     0.07,2,     0.18,2, -999.000,9, -999.000,9, -999.000,9,-999.0000,9,  -999.00,9,   -999.0,9,   -999.0,9,   -999.0,9,  -999.00,9,25, -999.00,   -999,-999.0000,-999.000, 14.1148,-999.000
     316N151_2,   A24,   130,  1,     27,     27,2,19970625,0231, 47.6260, -31.6378, 3763,     70.8,  12.5355,  35.4639,2,  35.4599,2,    258.0,2,    256.9,2,     2.26,2,     5.10,2,     0.35,2,     0.42,2, -999.000,9, -999.000,9, -999.000,9,-999.0000,9,  -999.00,9,   -999.0,9,   -999.0,9,   -999.0,9,  -999.00,9,25, -999.00,   -999,-999.0000,-999.000, 12.5260,-999.000
     316N151_2,   A24,   130,  1,     26,     26,2,19970625,0231, 47.6260, -31.6378, 3763,    121.5,  11.0529,  35.4075,2,  35.4056,2,    247.6,2,    251.8,2,     4.19,2,    10.46,2,     0.01,2,     0.67,2, -999.000,9, -999.000,9, -999.000,9,-999.0000,9,  -999.00,9,   -999.0,9,   -999.0,9,   -999.0,9,  -999.00,9,25, -999.00,   -999,-999.0000,-999.000, 11.0378,-999.000
     316N151_2,   A24,   130,  1,     25,     25,2,19970625,0231, 47.6260, -31.6378, 3763,    187.2,   9.6562,  35.2678,2,  35.2647,2,    236.1,2,    242.3,2,     6.62,2,    13.42,2,     0.02,2,     0.87,2, -999.000,9, -999.000,9, -999.000,9,-999.0000,9,  -999.00,9,   -999.0,9,   -999.0,9,   -999.0,9,  -999.00,9,25, -999.00,   -999,-999.0000,-999.000,  9.6349,-999.000
     316N151_2,   A24,   130,  1,     24,     24,2,19970625,0231, 47.6260, -31.6378, 3763,    256.7,   8.8574,  35.1453,2,  35.1477,2,    227.0,2,    222.6,2,     8.54,2,    15.74,2,     0.01,2,     1.02,2, -999.000,9, -999.000,9, -999.000,9,-999.0000,9,  -999.00,9,   -999.0,9,   -999.0,9,   -999.0,9,  -999.00,9,25, -999.00,   -999,-999.0000,-999.000,  8.8296,-999.000
     316N151_2,   A24,   130,  1,     23,     23,2,19970625,0231, 47.6260, -31.6378, 3763,    357.0,   7.8980,  35.0352,2,  35.0357,2,    227.6,2,    227.8,2,     9.35,2,    16.55,2,     0.01,2,     1.09,2, -999.000,9, -999.000,9, -999.000,9,-999.0000,9,  -999.00,9,   -999.0,9,   -999.0,9,   -999.0,9,  -999.00,9,25, -999.00,   -999,-999.0000,-999.000,  7.8618,-999.000
     316N151_2,   A24,   130,  1,     22,     22,2,19970625,0231, 47.6260, -31.6378, 3763,    426.3,   7.0470,  34.9632,2,  34.9633,2,    217.2,2,    219.1,2,    10.76,2,    18.16,2,     0.01,2,     1.19,2, -999.000,9, -999.000,9, -999.000,9,-999.0000,9,  -999.00,9,   -999.0,9,   -999.0,9,   -999.0,9,  -999.00,9,25, -999.00,   -999,-999.0000,-999.000,  7.0063,-999.000
     316N151_2,   A24,   130,  1,     21,     21,2,19970625,0231, 47.6260, -31.6378, 3763,    495.5,   6.2645,  34.9384,2,  34.9431,2,    208.5,2,    208.9,2,    12.18,2,    19.63,2,     0.01,2,     1.29,2, -999.000,9, -999.000,9, -999.000,9,-999.0000,9,  -999.00,9,   -999.0,9,   -999.0,9,   -999.0,9,  -999.00,9,25, -999.00,   -999,-999.0000,-999.000,  6.2198,-999.000
     316N151_2,   A24,   130,  1,     20,     20,2,19970625,0231, 47.6260, -31.6378, 3763,    604.8,   5.3798,  34.9467,2,  34.9470,2,    220.8,2,    226.4,2,    12.07,2,    19.06,2,     0.00,2,     1.26,2, -999.000,9, -999.000,9, -999.000,9,-999.0000,9,  -999.00,9,   -999.0,9,   -999.0,9,   -999.0,9,  -999.00,9,25, -999.00,   -999,-999.0000,-999.000,  5.3289,-999.000
     316N151_2,   A24,   130,  1,     19,     19,2,19970625,0231, 47.6260, -31.6378, 3763,    706.9,   4.8707,  34.9533,2,  34.9531,2,    240.9,2,    240.0,2,    11.86,2,    18.55,2,     0.00,2,     1.22,2, -999.000,9, -999.000,9, -999.000,9,-999.0000,9,  -999.00,9,   -999.0,9,   -999.0,9,   -999.0,9,  -999.00,9,25, -999.00,   -999,-999.0000,-999.000,  4.8135,-999.000
     316N151_2,   A24,   130,  1,     18,     18,2,19970625,0231, 47.6260, -31.6378, 3763,    766.7,   4.9895,  35.0136,2,  35.0131,2,    239.1,2,    239.5,2,    12.06,2,    18.55,2,     0.00,2,     1.21,2,    2.121,2,    1.028,2, -999.000,9,-999.0000,9,  -999.00,9,   -999.0,9,   -999.0,9,   -999.0,9,  -999.00,9,25, -999.00,   -999,-999.0000,-999.000,  4.9264,-999.000
     316N151_2,   A24,   130,  1,     17,     17,2,19970625,0231, 47.6260, -31.6378, 3763,    872.5,   4.5966,  34.9839,2,  34.9836,2,    251.7,2,    250.5,2,    11.85,2,    18.17,2,     0.00,2,     1.19,2,    2.288,2,    1.106,2, -999.000,9,-999.0000,9,  -999.00,9,   -999.0,9,   -999.0,9,   -999.0,9,  -999.00,9,25, -999.00,   -999,-999.0000,-999.000,  4.5267,-999.000
     316N151_2,   A24,   130,  1,     16,     16,2,19970625,0231, 47.6260, -31.6378, 3763,    992.7,   4.1450,  34.9429,2,  34.9415,2,    256.5,2,    261.7,2,    11.44,2,    17.80,2,     0.00,2,     1.17,2,    2.598,2,    1.261,2, -999.000,9,-999.0000,9,  -999.00,9,   -999.0,9,   -999.0,9,   -999.0,9,  -999.00,9,25, -999.00,   -999,-999.0000,-999.000,  4.0681,-999.000
     316N151_2,   A24,   130,  1,     15,     15,2,19970625,0231, 47.6260, -31.6378, 3763,   1097.1,   3.8743,  34.9179,2,  34.9176,2,    267.2,2,    270.9,2,    11.23,2,    17.52,2,     0.00,2,     1.15,2, -999.000,9, -999.000,9, -999.000,9,-999.0000,9,  -999.00,9,   -999.0,9,   -999.0,9,   -999.0,9,  -999.00,9,25, -999.00,   -999,-999.0000,-999.000,  3.7908,-999.000
     316N151_2,   A24,   130,  1,     14,     14,2,19970625,0231, 47.6260, -31.6378, 3763,   1258.1,   3.7271,  34.9175,2,  34.9170,2,    270.3,2,    272.6,2,    11.42,2,    17.47,2,     0.00,2,     1.15,2,    2.423,2,    1.167,2, -999.000,9,-999.0000,9,  -999.00,9,   -999.0,9,   -999.0,9,   -999.0,9,  -999.00,9,25, -999.00,   -999,-999.0000,-999.000,  3.6312,-999.000
     316N151_2,   A24,   130,  1,     13,     13,2,19970625,0231, 47.6260, -31.6378, 3763,   1412.2,   3.5763,  34.9051,2,  34.9050,2,    277.5,2,    276.4,2,    11.42,2,    17.33,2,     0.00,2,     1.14,2,    2.394,2,    1.149,2, -999.000,9,-999.0000,9,  -999.00,9,   -999.0,9,   -999.0,9,   -999.0,9,  -999.00,9,25, -999.00,   -999,-999.0000,-999.000,  3.4687,-999.000
     316N151_2,   A24,   130,  1,     12,     12,2,19970625,0231, 47.6260, -31.6378, 3763,   1615.0,   3.3929,  34.8939,2,  34.8956,2,    278.8,2,    279.4,2,    11.62,2,    17.19,2,     0.00,2,     1.13,2,    2.326,2,    1.122,2, -999.000,9,-999.0000,9,  -999.00,9,   -999.0,9,   -999.0,9,   -999.0,9,  -999.00,9,25, -999.00,   -999,-999.0000,-999.000,  3.2697,-999.000
     316N151_2,   A24,   130,  1,     11,     11,2,19970625,0231, 47.6260, -31.6378, 3763,   1817.9,   3.2389,  34.8826,2,  34.8830,2,    282.3,2,    284.7,2,    11.51,2,    16.96,2,     0.00,2,     1.12,2,    2.629,2,    1.269,2, -999.000,9,-999.0000,9,  -999.00,9,   -999.0,9,   -999.0,9,   -999.0,9,  -999.00,9,25, -999.00,   -999,-999.0000,-999.000,  3.0996,-999.000
     316N151_2,   A24,   130,  1,     10,     10,2,19970625,0231, 47.6260, -31.6378, 3763,   2072.2,   3.1315,  34.8785,2,  34.8787,2,    284.8,2,    286.8,2,    11.40,2,    16.77,2,     0.00,2,     1.11,2,    2.741,2,    1.328,2, -999.000,9,-999.0000,9,  -999.00,9,   -999.0,9,   -999.0,9,   -999.0,9,  -999.00,9,25, -999.00,   -999,-999.0000,-999.000,  2.9705,-999.000
     316N151_2,   A24,   130,  1,      9,      9,2,19970625,0231, 47.6260, -31.6378, 3763,   2221.7,   3.1523,  34.8918,2,  34.8919,2,    282.8,2,    283.9,2,    11.90,2,    16.77,2,     0.00,2,     1.11,2,    2.401,2,    1.156,2, -999.000,9,-999.0000,9,  -999.00,9,   -999.0,9,   -999.0,9,   -999.0,9,  -999.00,9,25, -999.00,   -999,-999.0000,-999.000,  2.9768,-999.000
     316N151_2,   A24,   130,  1,      8,      8,2,19970625,0231, 47.6260, -31.6378, 3763,   2466.0,   3.1626,  34.9170,2,  34.9169,2,    276.5,2,    277.0,2,    13.32,2,    16.87,2,     0.00,2,     1.12,2,    1.616,2,    0.779,2, -999.000,9,-999.0000,9,  -999.00,9,   -999.0,9,   -999.0,9,   -999.0,9,  -999.00,9,25, -999.00,   -999,-999.0000,-999.000,  2.9631,-999.000
     316N151_2,   A24,   130,  1,      7,      7,2,19970625,0231, 47.6260, -31.6378, 3763,   2728.6,   3.0344,  34.9268,2,  34.9275,2,    274.7,2,    274.6,2,    14.53,2,    16.82,2,     0.00,2,     1.12,2, -999.000,9, -999.000,9, -999.000,9,-999.0000,9,  -999.00,9,   -999.0,9,   -999.0,9,   -999.0,9,  -999.00,9,25, -999.00,   -999,-999.0000,-999.000,  2.8110,-999.000
     316N151_2,   A24,   130,  1,      6,      6,2,19970625,0231, 47.6260, -31.6378, 3763,   2980.2,   2.8803,  34.9278,2,  34.9285,2,    274.3,2,    274.4,2,    15.54,2,    16.73,2,     0.00,2,     1.12,2, -999.000,9, -999.000,9, -999.000,9,-999.0000,9,  -999.00,9,   -999.0,9,   -999.0,9,   -999.0,9,  -999.00,9,25, -999.00,   -999,-999.0000,-999.000,  2.6343,-999.000
     316N151_2,   A24,   130,  1,      5,      5,2,19970625,0231, 47.6260, -31.6378, 3763,   3233.6,   2.6533,  34.9213,2,  34.9212,2,    273.4,2,    274.6,2,    17.26,2,    16.78,2,     0.00,2,     1.13,2, -999.000,9, -999.000,9, -999.000,9,-999.0000,9,  -999.00,9,   -999.0,9,   -999.0,9,   -999.0,9,  -999.00,9,25, -999.00,   -999,-999.0000,-999.000,  2.3857,-999.000
     316N151_2,   A24,   130,  1,      4,      4,2,19970625,0231, 47.6260, -31.6378, 3763,   3457.2,   2.5067,  34.9142,2,  34.9138,2,    275.0,2,    275.3,2,    18.28,2,    16.73,2,     0.00,2,     1.13,2, -999.000,9, -999.000,9, -999.000,9,-999.0000,9,  -999.00,9,   -999.0,9,   -999.0,9,   -999.0,9,  -999.00,9,25, -999.00,   -999,-999.0000,-999.000,  2.2188,-999.000
     316N151_2,   A24,   130,  1,      3,      3,2,19970625,0231, 47.6260, -31.6378, 3763,   3590.8,   2.4798,  34.9124,2,  34.9116,2,    274.2,2,    275.7,2,    18.47,2,    16.73,2,     0.00,2,     1.12,2, -999.000,9, -999.000,9, -999.000,9,-999.0000,9,  -999.00,9,   -999.0,9,   -999.0,9,   -999.0,9,  -999.00,9,25, -999.00,   -999,-999.0000,-999.000,  2.1780,-999.000
     316N151_2,   A24,   130,  1,      2,      2,2,19970625,0231, 47.6260, -31.6378, 3763,   3744.6,   2.4465,  34.9089,2,  34.9097,2,    274.4,2,    276.0,2,    18.77,2,    16.73,2,     0.00,2,     1.13,2, -999.000,9, -999.000,9, -999.000,9,-999.0000,9,  -999.00,9,   -999.0,9,   -999.0,9,   -999.0,9,  -999.00,9,25, -999.00,   -999,-999.0000,-999.000,  2.1286,-999.000
     316N151_2,   A24,   130,  1,      1,      1,2,19970625,0231, 47.6260, -31.6378, 3763,   3814.6,   2.4046,  34.9071,2,  34.9069,2,    273.0,2,    274.9,2,    19.07,2,    16.78,2,     0.00,2,     1.13,2, -999.000,9, -999.000,9, -999.000,9,-999.0000,9,  -999.00,9,   -999.0,9,   -999.0,9,   -999.0,9,  -999.00,9,25, -999.00,   -999,-999.0000,-999.000,  2.0799,-999.000