BOTTLE,20220629CCHSIOAMB
EXPOCODE,SECT_ID,STNNBR,CASTNO,SAMPNO,BTLNBR,BTLNBR_FLAG_W,DATE,TIME,LATITUDE,LONGITUDE,DEPTH,CTDPRS,CTDTMP,CTDSAL,CTDSAL_FLAG_W,SALNTY,SALNTY_FLAG_W,CTDOXY,CTDOXY_FLAG_W,OXYGEN,OXYGEN_FLAG_W,SILCAT,SILCAT_FLAG_W,NITRAT,NITRAT_FLAG_W,NITRIT,NITRIT_FLAG_W,PHSPHT,PHSPHT_FLAG_W,CFC-11,CFC-11_FLAG_W,CFC-12,CFC-12_FLAG_W,TRITUM,TRITUM_FLAG_W,HELIUM,HELIUM_FLAG_W,DELHE3,DELHE3_FLAG_W,TCARBN,TCARBN_FLAG_W,PCO2,PCO2_FLAG_W,ALKALI,ALKALI_FLAG_W,PH,PH_FLAG_W,PH_TMP,PCO2TMP,CTDRAW,HELIER,DELHER,THETA,TRITER
,,,,,,,,,,,,DBAR,ITS-90,PSS-78,,PSS-78,,UMOL/KG,,UMOL/KG,,UMOL/KG,,UMOL/KG,,UMOL/KG,,UMOL/KG,,PMOL/KG,,PMOL/KG,,TU,,NMOL/KG,,PERCNT,,UMOL/KG,,UATM,,UMOL/KG,,,,DEG C,DEG C,,NMOL/KG,PERCNT,DEG C,TU
     316N151_2,   A24,    14,  1,     25,     25,2,19970602,1342, 43.0870, -20.8835, 2457,      2.0,  16.3068,  35.8798,2,  35.8770,2,    257.1,2,    246.6,2,     0.68,2,     0.10,2,     0.00,2,     0.06,2,    2.888,2,    1.580,2, -999.000,9,-999.0000,9,  -999.00,9,   2077.1,2,    392.6,2,   2357.9,6,     7.96,6,25,   20.00,   -999,-999.0000,-999.000, 16.3065,-999.000
     316N151_2,   A24,    14,  1,     24,     24,2,19970602,1342, 43.0870, -20.8835, 2457,     35.8,  15.5573,  35.8712,2,  35.8720,2,    248.4,2,    247.0,2,     0.68,2,     0.10,2,     0.01,2,     0.06,2,    2.950,2,    1.587,2, -999.000,9,-999.0000,9,  -999.00,9,   2079.5,2,    395.4,2,   2356.5,2,     7.96,2,25,   20.00,   -999,-999.0000,-999.000, 15.5517,-999.000
     316N151_2,   A24,    14,  1,     23,     23,2,19970602,1342, 43.0870, -20.8835, 2457,     75.9,  13.8112,  35.8372,2,  35.8430,2,    242.8,2,    243.1,2,     1.56,2,     4.59,2,     0.06,2,     0.31,2,    3.147,2,    1.697,2, -999.000,9,-999.0000,9,  -999.00,9,   2102.9,2,    455.3,2,   2354.1,2,     7.91,2,25,   20.00,   -999,-999.0000,-999.000, 13.8003,-999.000
     316N151_2,   A24,    14,  1,     22,     22,2,19970602,1342, 43.0870, -20.8835, 2457,    126.3,  13.2547,  35.7935,2,  35.7930,2,    239.3,2,    244.0,2,     2.15,2,     6.35,2,     0.01,2,     0.40,2,    3.158,2,    1.695,2, -999.000,9,-999.0000,9,  -999.00,9,   2110.6,2,    477.4,2,   2349.8,2,     7.89,2,25,   20.00,   -999,-999.0000,-999.000, 13.2370,-999.000
     316N151_2,   A24,    14,  1,     21,     21,2,19970602,1342, 43.0870, -20.8835, 2457,    206.6,  12.8634,  35.7446,2,  35.7450,2,    238.8,2,    241.5,2,     2.64,2,     7.52,2,     0.01,2,     0.47,2,    3.149,2,    1.690,2, -999.000,9,-999.0000,9,  -999.00,9,   2115.2,2,    489.5,2,   2346.6,2,     7.88,2,25,   20.00,   -999,-999.0000,-999.000, 12.8350,-999.000
     316N151_2,   A24,    14,  1,     20,     20,2,19970602,1342, 43.0870, -20.8835, 2457,    277.0,  12.1843,  35.6501,2,  35.6500,2,    231.0,2,    229.0,2,     3.91,2,    10.35,2,     0.01,2,     0.63,2,    3.067,2,    1.587,2, -999.000,9,-999.0000,9,  -999.00,9,   2127.5,2,    536.9,2,   2342.2,2,     7.84,2,25,   20.00,   -999,-999.0000,-999.000, 12.1474,-999.000
     316N151_2,   A24,    14,  1,     19,     19,2,19970602,1342, 43.0870, -20.8835, 2457,    356.9,  11.7212,  35.5875,2,  35.5870,2,    224.5,2,    227.5,2,     4.30,2,    11.23,2,     0.01,2,     0.69,2, -999.000,9, -999.000,9, -999.000,9,-999.0000,9,  -999.00,9,   2131.5,2,    558.6,2,   2339.2,2,     7.83,2,25,   20.00,   -999,-999.0000,-999.000, 11.6748,-999.000
     316N151_2,   A24,    14,  1,     18,     18,2,19970602,1342, 43.0870, -20.8835, 2457,    428.3,  11.3133,  35.5323,2,  35.5310,2,    225.3,2,    221.8,2,     4.98,2,    12.50,2,     0.01,2,     0.77,2,    3.011,2,    1.549,2, -999.000,9,-999.0000,9,  -999.00,9,   2138.7,6,    586.5,2,   2336.6,2,     7.81,2,25,   20.00,   -999,-999.0000,-999.000, 11.2587,-999.000
     316N151_2,   A24,    14,  1,     17,     17,2,19970602,1342, 43.0870, -20.8835, 2457,    528.3,  10.7347,  35.4685,2,  35.4710,2,    214.6,2,    215.0,2,     5.96,2,    14.07,2,     0.01,2,     0.87,2,    2.835,2,    1.438,2, -999.000,9,-999.0000,9,  -999.00,9,   2146.1,2,    619.0,2,   2334.4,2,     7.79,2,25,   20.00,   -999,-999.0000,-999.000, 10.6692,-999.000
     316N151_2,   A24,    14,  1,     16,     16,2,19970602,1342, 43.0870, -20.8835, 2457,    629.2,  10.1569,  35.4104,2,  35.4110,2,    209.8,2,    207.3,2,     7.52,2,    15.53,2,     0.00,2,     0.98,2,    2.503,2,    1.266,2, -999.000,9,-999.0000,9,  -999.00,9,   2153.7,2,    654.8,2,   2332.1,2,     7.77,2,25,   20.00,   -999,-999.0000,-999.000, 10.0812,-999.000
     316N151_2,   A24,    14,  1,     15,     15,2,19970602,1342, 43.0870, -20.8835, 2457,    730.0,   9.3133,  35.3485,2,  35.3510,2,    197.5,2,    195.2,2,     9.57,2,    17.58,2,     0.00,2,     1.11,2,    1.983,2,    0.993,2, -999.000,9,-999.0000,9,  -999.00,9,   2164.4,2,    706.1,2,   2331.8,2,     7.75,2,25,   20.00,   -999,-999.0000,-999.000,  9.2295,-999.000
     316N151_2,   A24,    14,  1,     14,     14,2,19970602,1342, 43.0870, -20.8835, 2457,    810.7,   9.1056,  35.4443,2,  35.4420,2,    195.2,2,    191.4,2,    10.16,2,    17.88,2,     0.00,2,     1.12,2,    1.640,2,    0.805,2, -999.000,9,-999.0000,9,  -999.00,9,   2174.2,2,    712.2,2,   2340.8,2,     7.74,2,25,   20.00,   -999,-999.0000,-999.000,  9.0133,-999.000
     316N151_2,   A24,    14,  1,     13,     13,2,19970602,1342, 43.0870, -20.8835, 2457,    911.4,   8.7323,  35.5167,2,  35.5140,2,    192.3,2,    193.7,2,    10.75,2,    17.97,2,     0.00,2,     1.13,2,    1.409,2,    0.694,2, -999.000,9,-999.0000,9,  -999.00,9,   2179.6,2,    708.9,2,   2347.3,2,     7.75,2,25,   20.00,   -999,-999.0000,-999.000,  8.6303,-999.000
     316N151_2,   A24,    14,  1,     12,     12,2,19970602,1342, 43.0870, -20.8835, 2457,   1012.0,   8.2530,  35.4890,2,  35.4890,2,    194.5,2,    198.8,2,    11.04,2,    17.97,2,     0.00,2,     1.14,2,    1.390,2,    0.702,2, -999.000,9,-999.0000,9,  -999.00,9,   2180.8,2,    719.4,2,   2345.8,2,     7.74,2,25,   20.00,   -999,-999.0000,-999.000,  8.1427,-999.000
     316N151_2,   A24,    14,  1,     11,     11,2,19970602,1342, 43.0870, -20.8835, 2457,   1112.6,   7.0362,  35.3236,2,  35.3230,2,    210.6,2,    212.8,2,    11.43,2,    18.17,2,     0.00,2,     1.17,2,    1.559,2,    0.768,2, -999.000,9,-999.0000,9,  -999.00,9,   2176.8,2,    743.0,2,   2336.2,2,     7.73,2,25,   20.00,   -999,-999.0000,-999.000,  6.9243,-999.000
     316N151_2,   A24,    14,  1,     10,     10,2,19970602,1342, 43.0870, -20.8835, 2457,   1213.8,   5.9689,  35.1840,2,  35.1820,2,    224.7,2,    228.0,2,    11.53,2,    18.27,2,     0.00,2,     1.18,2, -999.000,4,    0.833,2, -999.000,9,-999.0000,9,  -999.00,9,   2172.0,2,    756.4,2,   2326.3,2,     7.72,2,25,   20.00,   -999,-999.0000,-999.000,  5.8558,-999.000
     316N151_2,   A24,    14,  1,      9,      9,2,19970602,1342, 43.0870, -20.8835, 2457,   1364.3,   4.6644,  35.0225,2,  35.0220,2,    248.7,2,    250.3,2,    11.53,2,    17.98,2,     0.00,2,     1.18,2,    1.936,2,    0.920,2, -999.000,9,-999.0000,9,  -999.00,9,   2164.2,2,    756.3,2,   2313.9,2,     7.71,2,25,   20.00,   -999,-999.0000,-999.000,  4.5495,-999.000
     316N151_2,   A24,    14,  1,      8,      8,2,19970602,1342, 43.0870, -20.8835, 2457,   1516.9,   4.0642,  34.9521,2,  34.9530,2,    266.2,2,    263.0,2,    11.53,2,    17.69,2,     0.00,2,     1.17,2,    2.014,2,    0.960,2, -999.000,9,-999.0000,9,  -999.00,9,   2158.7,2,    760.7,2,   2309.6,2,     7.71,2,25,   20.00,   -999,-999.0000,-999.000,  3.9418,-999.000
     316N151_2,   A24,    14,  1,      7,      7,2,19970602,1342, 43.0870, -20.8835, 2457,   1669.3,   3.7327,  34.9194,2,  34.9230,2,    270.3,2,    271.1,2,    11.63,2,    17.49,2,     0.00,2,     1.16,2,    2.014,2,    0.965,2, -999.000,9,-999.0000,9,  -999.00,9,   2155.6,2,    752.2,2,   2307.5,2,     7.72,2,25,   20.00,   -999,-999.0000,-999.000,  3.6003,-999.000
     316N151_2,   A24,    14,  1,      6,      6,2,19970602,1342, 43.0870, -20.8835, 2457,   1800.1,   3.6003,  34.9080,2,  34.9080,2,    271.5,2,    274.1,2,    11.63,2,    17.40,2,     0.00,2,     1.15,2, -999.000,9, -999.000,9, -999.000,9,-999.0000,9,  -999.00,9,   2154.4,2,    750.4,2,   2306.9,2,     7.72,2,25,   20.00,   -999,-999.0000,-999.000,  3.4577,-999.000
     316N151_2,   A24,    14,  1,      5,      5,9,19970602,1342, 43.0870, -20.8835, 2457,   1800.1,   3.6003,  34.9080,2,-999.0000,9,    271.5,2,   -999.0,9,  -999.00,9,  -999.00,9,  -999.00,9,  -999.00,9,    2.016,2,    0.958,2, -999.000,9,-999.0000,9,  -999.00,9,   -999.0,9,   -999.0,9,   -999.0,9,  -999.00,9,25, -999.00,   -999,-999.0000,-999.000,  3.4577,-999.000
     316N151_2,   A24,    14,  1,      4,      4,2,19970602,1342, 43.0870, -20.8835, 2457,   1922.7,   3.5153,  34.9051,2,  34.9060,2,    276.5,2,    275.0,2,    11.82,2,    17.20,2,     0.00,2,     1.15,2,    1.920,2,    0.916,2, -999.000,9,-999.0000,9,  -999.00,9,   2153.9,2,    741.0,2,   2306.7,2,     7.72,2,25,   20.00,   -999,-999.0000,-999.000,  3.3625,-999.000
     316N151_2,   A24,    14,  1,      3,      3,2,19970602,1342, 43.0870, -20.8835, 2457,   2125.3,   3.4114,  34.9248,2,  34.9260,2,    268.8,2,    271.7,2,    13.58,2,    17.30,2,     0.00,2,     1.15,2,    1.349,2,    0.674,2, -999.000,9,-999.0000,9,  -999.00,9,   2155.0,2,    743.9,2,   2310.7,2,     7.72,2,25,   20.00,   -999,-999.0000,-999.000,  3.2409,-999.000
     316N151_2,   A24,    14,  1,      2,      2,2,19970602,1342, 43.0870, -20.8835, 2457,   2327.4,   3.2685,  34.9363,2,  34.9360,2,    268.9,2,    268.2,2,    15.93,2,    17.49,2,     0.00,2,     1.17,2,    1.027,2,    0.499,2, -999.000,9,-999.0000,9,  -999.00,9,   2159.1,2,    741.6,2,   2313.7,2,     7.72,2,25,   20.00,   -999,-999.0000,-999.000,  3.0807,-999.000
     316N151_2,   A24,    14,  1,      1,      1,2,19970602,1342, 43.0870, -20.8835, 2457,   2551.9,   3.0537,  34.9453,2,  34.9460,2,    262.0,2,    262.6,2,    20.52,2,    18.08,2,     0.00,2,     1.21,2,    0.728,2,    0.359,2, -999.000,9,-999.0000,9,  -999.00,9,   2165.7,2,    745.8,2,   2320.4,2,     7.73,2,25,   20.00,   -999,-999.0000,-999.000,  2.8476,-999.000