BOTTLE,20220629CCHSIOAMB
EXPOCODE,SECT_ID,STNNBR,CASTNO,SAMPNO,BTLNBR,BTLNBR_FLAG_W,DATE,TIME,LATITUDE,LONGITUDE,DEPTH,CTDPRS,CTDTMP,CTDSAL,CTDSAL_FLAG_W,SALNTY,SALNTY_FLAG_W,CTDOXY,CTDOXY_FLAG_W,OXYGEN,OXYGEN_FLAG_W,SILCAT,SILCAT_FLAG_W,NITRAT,NITRAT_FLAG_W,NITRIT,NITRIT_FLAG_W,PHSPHT,PHSPHT_FLAG_W,CFC-11,CFC-11_FLAG_W,CFC-12,CFC-12_FLAG_W,TRITUM,TRITUM_FLAG_W,HELIUM,HELIUM_FLAG_W,DELHE3,DELHE3_FLAG_W,TCARBN,TCARBN_FLAG_W,PCO2,PCO2_FLAG_W,ALKALI,ALKALI_FLAG_W,PH,PH_FLAG_W,PH_TMP,PCO2TMP,CTDRAW,HELIER,DELHER,THETA,TRITER
,,,,,,,,,,,,DBAR,ITS-90,PSS-78,,PSS-78,,UMOL/KG,,UMOL/KG,,UMOL/KG,,UMOL/KG,,UMOL/KG,,UMOL/KG,,PMOL/KG,,PMOL/KG,,TU,,NMOL/KG,,PERCNT,,UMOL/KG,,UATM,,UMOL/KG,,,,DEG C,DEG C,,NMOL/KG,PERCNT,DEG C,TU
     316N151_2,   A24,   108,  1,     29,     29,2,19970620,1203, 56.9362, -39.6837, 3240,      3.9,   7.2904,  34.6452,2,  34.6441,2,    320.8,2,    309.5,2,     0.40,2,     6.55,2,     0.08,2,     0.53,2,    4.602,2,    2.378,2, -999.000,9,-999.0000,9,  -999.00,9,   2090.6,2,    525.9,2,   2297.9,6,     7.85,6,25,   20.00,   -999,-999.0000,-999.000,  7.2900,-999.000
     316N151_2,   A24,   108,  1,     28,     28,2,19970620,1203, 56.9362, -39.6837, 3240,     35.0,   5.9098,  34.7072,2,  34.6612,2,    314.0,2,    309.0,2,     0.68,2,     8.00,2,     0.11,2,     0.67,2,    4.827,2,    2.469,2, -999.000,9,-999.0000,9,  -999.00,9,   -999.0,9,   -999.0,9,   -999.0,9,  -999.00,9,25, -999.00,   -999,-999.0000,-999.000,  5.9069,-999.000
     316N151_2,   A24,   108,  1,     27,     27,2,19970620,1203, 56.9362, -39.6837, 3240,     65.6,   4.5757,  34.6882,2,  34.6665,2,    308.3,2,    312.1,2,     4.90,2,    10.96,2,     0.16,2,     0.88,2, -999.000,9, -999.000,9, -999.000,9,-999.0000,9,  -999.00,9,   -999.0,9,   -999.0,9,   -999.0,9,  -999.00,9,25, -999.00,   -999,-999.0000,-999.000,  4.5709,-999.000
     316N151_2,   A24,   108,  1,     26,     26,2,19970620,1203, 56.9362, -39.6837, 3240,    105.1,   3.3348,  34.6962,2,  34.6909,2,    301.8,2,    312.5,2,     8.71,2,    14.30,2,     0.33,2,     1.03,2,    5.148,2,    2.641,2, -999.000,9,-999.0000,9,  -999.00,9,   -999.0,9,   -999.0,9,   -999.0,9,  -999.00,9,25, -999.00,   -999,-999.0000,-999.000,  3.3281,-999.000
     316N151_2,   A24,   108,  1,     25,     25,2,19970620,1203, 56.9362, -39.6837, 3240,    175.7,   3.2386,  34.7557,2,  34.7434,2,    302.7,2,    296.9,2,     9.49,2,    16.09,2,     0.02,2,     1.08,2,    4.603,2,    2.361,2, -999.000,9,-999.0000,9,  -999.00,9,   -999.0,9,   -999.0,9,   -999.0,9,  -999.00,9,25, -999.00,   -999,-999.0000,-999.000,  3.2274,-999.000
     316N151_2,   A24,   108,  1,     24,     24,2,19970620,1203, 56.9362, -39.6837, 3240,    246.0,   3.2193,  34.7850,2,  34.7783,2,    296.9,2,    292.5,2,     9.87,2,    16.43,2,     0.01,2,     1.10,2, -999.000,9, -999.000,9, -999.000,9,-999.0000,9,  -999.00,9,   -999.0,9,   -999.0,9,   -999.0,9,  -999.00,9,25, -999.00,   -999,-999.0000,-999.000,  3.2035,-999.000
     316N151_2,   A24,   108,  1,     23,     23,2,19970620,1203, 56.9362, -39.6837, 3240,    326.3,   3.0334,  34.7791,2,  34.7811,2,    295.3,2,    296.1,2,     9.76,2,    16.39,2,     0.00,2,     1.10,2,    4.435,2,    2.271,2, -999.000,9,-999.0000,9,  -999.00,9,   -999.0,9,   -999.0,9,   -999.0,9,  -999.00,9,25, -999.00,   -999,-999.0000,-999.000,  3.0128,-999.000
     316N151_2,   A24,   108,  1,     22,     22,2,19970620,1203, 56.9362, -39.6837, 3240,    405.8,   3.1656,  34.8162,2,  34.8195,2,    290.9,2,    292.2,2,    10.04,2,    16.72,2,     0.00,2,     1.11,2, -999.000,9, -999.000,9, -999.000,9,-999.0000,9,  -999.00,9,   -999.0,9,   -999.0,9,   -999.0,9,  -999.00,9,25, -999.00,   -999,-999.0000,-999.000,  3.1392,-999.000
     316N151_2,   A24,   108,  1,     21,     21,2,19970620,1203, 56.9362, -39.6837, 3240,    495.0,   3.2851,  34.8512,2,  34.8568,2,    293.2,2,    283.9,2,    10.62,2,    17.14,2,     0.00,2,     1.13,2,    3.761,2,    1.871,2, -999.000,9,-999.0000,9,  -999.00,9,   -999.0,9,   -999.0,9,   -999.0,9,  -999.00,9,25, -999.00,   -999,-999.0000,-999.000,  3.2520,-999.000
     316N151_2,   A24,   108,  1,     20,     20,2,19970620,1203, 56.9362, -39.6837, 3240,    575.5,   3.2912,  34.8578,2,  34.8596,2,    280.0,2,    284.9,2,    10.61,2,    17.05,2,     0.00,2,     1.13,2,    3.713,2,    1.835,2, -999.000,9,-999.0000,9,  -999.00,9,   -999.0,9,   -999.0,9,   -999.0,9,  -999.00,9,25, -999.00,   -999,-999.0000,-999.000,  3.2523,-999.000
     316N151_2,   A24,   108,  1,     19,     19,2,19970620,1203, 56.9362, -39.6837, 3240,    666.1,   3.2058,  34.8514,2,  34.8507,2,    288.2,2,    287.2,2,    10.60,2,    16.91,2,     0.00,2,     1.12,2,    3.718,2,    1.832,2, -999.000,9,-999.0000,9,  -999.00,9,   -999.0,9,   -999.0,9,   -999.0,9,  -999.00,9,25, -999.00,   -999,-999.0000,-999.000,  3.1608,-999.000
     316N151_2,   A24,   108,  1,     18,     18,2,19970620,1203, 56.9362, -39.6837, 3240,    848.2,   3.1429,  34.8560,2,  34.8571,2,    286.1,2,    287.7,2,    10.78,2,    17.00,2,     0.00,2,     1.12,2,    3.597,2,    1.762,2, -999.000,9,-999.0000,9,  -999.00,9,   -999.0,9,   -999.0,9,   -999.0,9,  -999.00,9,25, -999.00,   -999,-999.0000,-999.000,  3.0848,-999.000
     316N151_2,   A24,   108,  1,     17,     17,2,19970620,1203, 56.9362, -39.6837, 3240,   1008.8,   3.0619,  34.8531,2,  34.8549,2,    290.4,2,    290.5,2,    10.77,2,    16.86,2,     0.00,2,     1.12,2,    3.687,2,    1.781,2, -999.000,9,-999.0000,9,  -999.00,9,   -999.0,9,   -999.0,9,   -999.0,9,  -999.00,9,25, -999.00,   -999,-999.0000,-999.000,  2.9923,-999.000
     316N151_2,   A24,   108,  1,     16,     16,2,19970620,1203, 56.9362, -39.6837, 3240,   1211.7,   2.9993,  34.8496,2,  34.8506,2,    292.7,2,    293.4,2,    10.76,2,    16.72,2,     0.00,2,     1.11,2,    3.724,2,    1.760,2, -999.000,9,-999.0000,9,  -999.00,9,   -999.0,9,   -999.0,9,   -999.0,9,  -999.00,9,25, -999.00,   -999,-999.0000,-999.000,  2.9143,-999.000
     316N151_2,   A24,   108,  1,     15,     15,2,19970620,1203, 56.9362, -39.6837, 3240,   1415.0,   2.9496,  34.8489,2,  34.8516,2,    297.9,2,    295.5,2,    10.55,2,    16.59,2,     0.00,2,     1.10,2,    3.721,2,    1.781,2, -999.000,9,-999.0000,9,  -999.00,9,   -999.0,9,   -999.0,9,   -999.0,9,  -999.00,9,25, -999.00,   -999,-999.0000,-999.000,  2.8487,-999.000
     316N151_2,   A24,   108,  1,     14,     14,2,19970620,1203, 56.9362, -39.6837, 3240,   1617.8,   2.9376,  34.8489,2,  34.8531,2,    294.5,2,    296.5,2,    10.54,2,    16.54,2,     0.00,2,     1.10,2,    3.741,2,    1.837,2, -999.000,9,-999.0000,9,  -999.00,9,   -999.0,9,   -999.0,9,   -999.0,9,  -999.00,9,25, -999.00,   -999,-999.0000,-999.000,  2.8199,-999.000
     316N151_2,   A24,   108,  1,     13,     13,2,19970620,1203, 56.9362, -39.6837, 3240,   1747.2,   2.9090,  34.8456,2,  34.8445,2,    293.1,2,    297.2,2,    10.43,2,    16.49,2,     0.00,2,     1.10,2,    3.825,2,    1.909,2, -999.000,9,-999.0000,9,  -999.00,9,   -999.0,9,   -999.0,9,   -999.0,9,  -999.00,9,25, -999.00,   -999,-999.0000,-999.000,  2.7806,-999.000
     316N151_2,   A24,   108,  1,     12,     12,2,19970620,1203, 56.9362, -39.6837, 3240,   1916.8,   2.9517,  34.8538,2,  34.8531,2,    292.7,2,    294.7,2,    10.62,2,    16.45,2,     0.00,2,     1.10,2,    3.564,2,    1.738,2, -999.000,9,-999.0000,9,  -999.00,9,   -999.0,9,   -999.0,9,   -999.0,9,  -999.00,9,25, -999.00,   -999,-999.0000,-999.000,  2.8077,-999.000
     316N151_2,   A24,   108,  1,     11,     11,2,19970620,1203, 56.9362, -39.6837, 3240,   2119.2,   3.0682,  34.8828,2,  34.8854,2,    287.3,2,    286.4,2,    11.39,2,    16.49,2,     0.00,2,     1.10,2,    2.839,2,    1.354,2, -999.000,9,-999.0000,9,  -999.00,9,   -999.0,9,   -999.0,9,   -999.0,9,  -999.00,9,25, -999.00,   -999,-999.0000,-999.000,  2.9038,-999.000
     316N151_2,   A24,   108,  1,     10,     10,2,19970620,1203, 56.9362, -39.6837, 3240,   2260.8,   3.1183,  34.9031,2,  34.9012,2,    283.0,2,    281.2,2,    12.07,2,    16.54,2,     0.00,2,     1.10,2, -999.000,9, -999.000,9, -999.000,9,-999.0000,9,  -999.00,9,   -999.0,9,   -999.0,9,   -999.0,9,  -999.00,9,25, -999.00,   -999,-999.0000,-999.000,  2.9396,-999.000
     316N151_2,   A24,   108,  1,      9,      9,2,19970620,1203, 56.9362, -39.6837, 3240,   2425.6,   3.0897,  34.9170,2,  34.9167,2,    279.1,2,    277.7,2,    12.74,2,    16.49,2,     0.00,2,     1.10,2,    1.873,2,    0.909,2, -999.000,9,-999.0000,9,  -999.00,9,   -999.0,9,   -999.0,9,   -999.0,9,  -999.00,9,25, -999.00,   -999,-999.0000,-999.000,  2.8955,-999.000
     316N151_2,   A24,   108,  1,      8,      8,2,19970620,1203, 56.9362, -39.6837, 3240,   2587.1,   3.0265,  34.9281,2,  34.9265,2,    276.1,2,    275.7,2,    13.42,2,    16.49,2,     0.00,2,     1.10,2,    1.605,2,    0.787,2, -999.000,9,-999.0000,9,  -999.00,9,   -999.0,9,   -999.0,9,   -999.0,9,  -999.00,9,25, -999.00,   -999,-999.0000,-999.000,  2.8175,-999.000
     316N151_2,   A24,   108,  1,      7,      7,2,19970620,1203, 56.9362, -39.6837, 3240,   2688.4,   2.9461,  34.9211,2,  34.9203,2,    278.0,2,    277.3,2,    13.41,2,    16.36,2,     0.00,2,     1.10,2,    1.739,2,    0.860,2, -999.000,9,-999.0000,9,  -999.00,9,   -999.0,9,   -999.0,9,   -999.0,9,  -999.00,9,25, -999.00,   -999,-999.0000,-999.000,  2.7286,-999.000
     316N151_2,   A24,   108,  1,      6,      6,2,19970620,1203, 56.9362, -39.6837, 3240,   2830.5,   2.9008,  34.9320,2,  34.9315,2,    276.2,2,    275.3,2,    14.48,2,    16.40,2,     0.00,2,     1.10,2,    1.568,2,    0.752,2, -999.000,9,-999.0000,9,  -999.00,9,   -999.0,9,   -999.0,9,   -999.0,9,  -999.00,9,25, -999.00,   -999,-999.0000,-999.000,  2.6698,-999.000
     316N151_2,   A24,   108,  1,      5,      5,2,19970620,1203, 56.9362, -39.6837, 3240,   2984.5,   2.8147,  34.9301,2,  34.9291,2,    275.2,2,    275.3,2,    15.06,2,    16.40,2,     0.00,2,     1.10,2,    1.536,2,    0.744,2, -999.000,9,-999.0000,9,  -999.00,9,   -999.0,9,   -999.0,9,   -999.0,9,  -999.00,9,25, -999.00,   -999,-999.0000,-999.000,  2.5695,-999.000
     316N151_2,   A24,   108,  1,      4,      4,2,19970620,1203, 56.9362, -39.6837, 3240,   3086.5,   2.7320,  34.9278,2,  34.9272,2,    276.8,2,    275.6,2,    15.34,2,    16.36,2,     0.00,2,     1.10,2,    1.546,2,    0.749,2, -999.000,9,-999.0000,9,  -999.00,9,   -999.0,9,   -999.0,9,   -999.0,9,  -999.00,9,25, -999.00,   -999,-999.0000,-999.000,  2.4781,-999.000
     316N151_2,   A24,   108,  1,      3,      3,2,19970620,1203, 56.9362, -39.6837, 3240,   3158.5,   2.5691,  34.9173,2,  34.9158,2,    282.0,2,    279.8,2,    14.44,2,    15.99,2,     0.00,2,     1.08,2,    1.882,2,    0.921,2, -999.000,9,-999.0000,9,  -999.00,9,   -999.0,9,   -999.0,9,   -999.0,9,  -999.00,9,25, -999.00,   -999,-999.0000,-999.000,  2.3114,-999.000
     316N151_2,   A24,   108,  1,      2,      2,2,19970620,1203, 56.9362, -39.6837, 3240,   3209.6,   2.4413,  34.9122,2,  34.9107,2,    280.9,2,    282.3,2,    13.94,2,    15.75,2,     0.00,2,     1.06,2,    2.142,2,    1.041,2, -999.000,9,-999.0000,9,  -999.00,9,   -999.0,9,   -999.0,9,   -999.0,9,  -999.00,9,25, -999.00,   -999,-999.0000,-999.000,  2.1812,-999.000
     316N151_2,   A24,   108,  1,      1,      1,2,19970620,1203, 56.9362, -39.6837, 3240,   3267.4,   2.1581,  34.9056,2,  34.9040,2,    288.6,2,    287.5,2,    12.36,2,    15.20,2,     0.00,2,     1.03,2,    2.722,2,    1.313,2, -999.000,9,-999.0000,9,  -999.00,9,   -999.0,9,   -999.0,9,   -999.0,9,  -999.00,9,25, -999.00,   -999,-999.0000,-999.000,  1.8986,-999.000