BOTTLE,20220629CCHSIOAMB
EXPOCODE,SECT_ID,STNNBR,CASTNO,SAMPNO,BTLNBR,BTLNBR_FLAG_W,DATE,TIME,LATITUDE,LONGITUDE,DEPTH,CTDPRS,CTDTMP,CTDSAL,CTDSAL_FLAG_W,SALNTY,SALNTY_FLAG_W,CTDOXY,CTDOXY_FLAG_W,OXYGEN,OXYGEN_FLAG_W,SILCAT,SILCAT_FLAG_W,NITRAT,NITRAT_FLAG_W,NITRIT,NITRIT_FLAG_W,PHSPHT,PHSPHT_FLAG_W,CFC-11,CFC-11_FLAG_W,CFC-12,CFC-12_FLAG_W,TRITUM,TRITUM_FLAG_W,HELIUM,HELIUM_FLAG_W,DELHE3,DELHE3_FLAG_W,TCARBN,TCARBN_FLAG_W,PCO2,PCO2_FLAG_W,ALKALI,ALKALI_FLAG_W,PH,PH_FLAG_W,PH_TMP,PCO2TMP,CTDRAW,HELIER,DELHER,THETA,TRITER
,,,,,,,,,,,,DBAR,ITS-90,PSS-78,,PSS-78,,UMOL/KG,,UMOL/KG,,UMOL/KG,,UMOL/KG,,UMOL/KG,,UMOL/KG,,PMOL/KG,,PMOL/KG,,TU,,NMOL/KG,,PERCNT,,UMOL/KG,,UATM,,UMOL/KG,,,,DEG C,DEG C,,NMOL/KG,PERCNT,DEG C,TU
     316N151_2,   A24,   127,  1,     30,     30,2,19970624,1131, 49.1048, -32.5005, 4033,      3.8,  13.2098,  35.3287,2,  35.3271,2,    277.0,2,    266.1,2,     1.69,2,     3.56,2,     0.08,2,     0.29,2,    3.307,2,    1.764,2, -999.000,9,-999.0000,9,  -999.00,9,   2077.8,2,    432.3,2,   2331.1,2,     7.93,2,25,   20.00,   -999,-999.0000,-999.000, 13.2093,-999.000
     316N151_2,   A24,   127,  1,     29,     29,2,19970624,1131, 49.1048, -32.5005, 4033,     36.5,  12.5080,  35.3580,2,  35.3559,2,    263.9,2,    265.3,2,     2.07,2,     4.20,2,     0.10,2,     0.34,2, -999.000,9, -999.000,9, -999.000,9,-999.0000,9,  -999.00,9,   2085.8,2,    446.3,2,   2332.8,2,     7.91,6,25,   20.00,   -999,-999.0000,-999.000, 12.5031,-999.000
     316N151_2,   A24,   127,  1,     28,     28,2,19970624,1131, 49.1048, -32.5005, 4033,     61.7,  11.8142,  35.3697,2,  35.3680,2,    260.5,2,    260.7,2,     3.16,2,     6.10,2,     0.17,2,     0.47,2,    3.353,2,    1.782,2, -999.000,9,-999.0000,9,  -999.00,9,   2100.4,2,    530.6,2,   2332.4,2,     7.89,2,25,   20.00,   -999,-999.0000,-999.000, 11.8063,-999.000
     316N151_2,   A24,   127,  1,     27,     27,2,19970624,1131, 49.1048, -32.5005, 4033,    106.2,  11.1420,  35.3333,2,  35.3238,2,    247.0,2,    247.2,2,     4.06,2,     9.17,2,     0.23,2,     0.63,2,    3.279,2,    1.736,2, -999.000,9,-999.0000,9,  -999.00,9,   2114.8,2,   -999.0,9,   2325.9,2,     7.85,2,25, -999.00,   -999,-999.0000,-999.000, 11.1288,-999.000
     316N151_2,   A24,   127,  1,     26,     26,2,19970624,1131, 49.1048, -32.5005, 4033,    167.1,  10.7838,  35.3572,2,  35.3569,2,    241.6,2,    239.6,2,     5.05,2,    11.09,2,     0.18,2,     0.72,2,    3.079,2,    1.648,2, -999.000,9,-999.0000,9,  -999.00,9,   2124.9,2,    556.7,2,   2329.7,2,     7.84,2,25,   20.00,   -999,-999.0000,-999.000, 10.7634,-999.000
     316N151_2,   A24,   127,  1,     25,     25,2,19970624,1131, 49.1048, -32.5005, 4033,    207.1,  10.9778,  35.4463,2,  35.4393,2,    238.4,2,    234.9,2,     5.74,2,    11.93,2,     0.04,2,     0.77,2,    2.955,2,    1.578,2, -999.000,9,-999.0000,9,  -999.00,9,   2129.5,2,    563.0,2,   2334.1,2,     7.83,2,25,   20.00,   -999,-999.0000,-999.000, 10.9521,-999.000
     316N151_2,   A24,   127,  1,     24,     24,2,19970624,1131, 49.1048, -32.5005, 4033,    277.6,  11.1882,  35.5393,2,  35.5374,2,    241.7,2,    245.4,2,     4.91,2,    10.80,2,     0.04,2,     0.69,2,    3.059,2,    1.650,2, -999.000,9,-999.0000,9,  -999.00,9,   2124.6,2,    536.2,3,   2339.2,2,     7.85,2,25,   20.00,   -999,-999.0000,-999.000, 11.1533,-999.000
     316N151_2,   A24,   127,  1,     23,     23,2,19970624,1131, 49.1048, -32.5005, 4033,    348.5,  10.5082,  35.4043,2,  35.4153,2,    237.8,2,    243.3,2,     5.70,2,    11.90,2,     0.02,2,     0.77,2,    3.082,2,    1.645,2, -999.000,9,-999.0000,9,  -999.00,9,   2129.7,2,    564.7,3,   2332.3,2,     7.83,2,25,   20.00,   -999,-999.0000,-999.000, 10.4659,-999.000
     316N151_2,   A24,   127,  1,     22,     22,2,19970624,1131, 49.1048, -32.5005, 4033,    448.6,   8.7429,  35.1220,2,  35.1355,2,    226.5,2,    224.9,2,     8.61,2,    15.62,2,     0.01,2,     1.02,2,    2.789,2,    1.434,2, -999.000,9,-999.0000,9,  -999.00,9,   2148.1,2,    666.6,2,   2320.3,2,     7.77,2,25,   20.00,   -999,-999.0000,-999.000,  8.6942,-999.000
     316N151_2,   A24,   127,  1,     21,     21,2,19970624,1131, 49.1048, -32.5005, 4033,    528.6,   7.7739,  35.0278,2,  35.0257,2,    224.6,2,    226.3,2,     9.60,2,    16.79,2,     0.01,2,     1.11,2,    2.801,2,    1.445,2, -999.000,9,-999.0000,9,  -999.00,9,   2152.3,2,    709.1,2,   2315.0,2,     7.74,2,25,   20.00,   -999,-999.0000,-999.000,  7.7201,-999.000
     316N151_2,   A24,   127,  1,     20,     20,2,19970624,1131, 49.1048, -32.5005, 4033,    608.4,   6.5540,  34.9444,2,  34.9467,2,    209.2,2,    211.2,2,    11.81,2,    19.25,2,     0.01,2,     1.27,2,    2.360,2,    1.180,2, -999.000,9,-999.0000,9,  -999.00,9,   2167.8,2,    790.5,2,   2310.9,2,     7.70,2,25,   20.00,   -999,-999.0000,-999.000,  6.4974,-999.000
     316N151_2,   A24,   127,  1,     19,     19,2,19970624,1131, 49.1048, -32.5005, 4033,    707.8,   5.5689,  34.9366,2,  34.9375,2,    221.4,2,    222.5,2,    12.09,2,    19.21,2,     0.00,2,     1.27,2,    2.409,2,    1.166,2, -999.000,9,-999.0000,9,  -999.00,9,   2169.3,2,    809.9,2,   2309.8,2,     7.69,2,25,   20.00,   -999,-999.0000,-999.000,  5.5078,-999.000
     316N151_2,   A24,   127,  1,     18,     18,2,19970624,1131, 49.1048, -32.5005, 4033,    807.3,   4.9122,  34.9440,2,  34.9401,2,    239.6,2,    238.9,2,    11.78,2,    18.60,2,     0.00,2,     1.23,2,    2.593,2,    1.269,2, -999.000,9,-999.0000,9,  -999.00,9,   2165.5,2,    791.0,2,   2309.7,2,     7.70,2,25,   20.00,   -999,-999.0000,-999.000,  4.8460,-999.000
     316N151_2,   A24,   127,  1,     17,     17,2,19970624,1131, 49.1048, -32.5005, 4033,    957.4,   4.3709,  34.9393,2,  34.9450,2,    254.5,2,    255.7,2,    11.46,2,    17.98,2,     0.00,2,     1.19,2,    2.706,2,    1.314,2, -999.000,9,-999.0000,9,  -999.00,9,   2163.2,2,    775.3,2,   2309.6,2,     7.71,2,25,   20.00,   -999,-999.0000,-999.000,  4.2954,-999.000
     316N151_2,   A24,   127,  1,     16,     16,2,19970624,1131, 49.1048, -32.5005, 4033,   1156.3,   3.8908,  34.9222,2,  34.9241,2,    267.4,2,    269.1,2,    11.24,2,    17.61,2,     0.00,2,     1.16,2,    2.729,2,    1.321,2, -999.000,9,-999.0000,9,  -999.00,9,   2159.1,2,    764.4,2,   2307.8,2,     7.72,2,25,   20.00,   -999,-999.0000,-999.000,  3.8022,-999.000
     316N151_2,   A24,   127,  1,     15,     15,2,19970624,1131, 49.1048, -32.5005, 4033,   1405.6,   3.5399,  34.8960,2,  34.9021,2,    277.4,2,    279.2,2,    11.12,2,    17.23,2,     0.00,2,     1.14,2,    2.887,2,    1.402,2, -999.000,9,-999.0000,9,  -999.00,9,   2155.9,2,    758.9,2,   2305.3,2,     7.71,2,25,   20.00,   -999,-999.0000,-999.000,  3.4333,-999.000
     316N151_2,   A24,   127,  1,     14,     14,2,19970624,1131, 49.1048, -32.5005, 4033,   1604.0,   3.3665,  34.8828,2,  34.8822,2,    282.4,2,    283.6,2,    11.11,2,    17.09,2,     0.00,2,     1.13,2,    2.909,2,    1.412,2, -999.000,9,-999.0000,9,  -999.00,9,   2152.7,2,   -999.0,9,   2304.3,2,     7.72,2,25, -999.00,   -999,-999.0000,-999.000,  3.2447,-999.000
     316N151_2,   A24,   127,  1,     13,     13,2,19970624,1131, 49.1048, -32.5005, 4033,   1784.1,   3.2369,  34.8754,2,  34.8746,2,    287.2,2,    287.4,2,    10.99,2,    16.91,2,     0.00,2,     1.11,2,    3.076,2,    1.495,2, -999.000,9,-999.0000,9,  -999.00,9,   2153.5,2,    751.4,2,   2305.1,2,     7.72,2,25,   20.00,   -999,-999.0000,-999.000,  3.1007,-999.000
     316N151_2,   A24,   127,  1,     12,     12,2,19970624,1131, 49.1048, -32.5005, 4033,   2021.2,   3.0950,  34.8661,2,  34.8656,2,    288.0,2,    291.0,2,    10.87,2,    16.72,2,     0.00,2,     1.11,2,    3.233,2,    1.568,2, -999.000,9,-999.0000,9,  -999.00,9,   2152.3,2,    748.1,2,   2304.1,2,     7.72,2,25,   20.00,   -999,-999.0000,-999.000,  2.9393,-999.000
     316N151_2,   A24,   127,  1,     11,     11,2,19970624,1131, 49.1048, -32.5005, 4033,   2251.4,   3.1029,  34.8807,2,  34.8799,2,    286.1,2,    287.6,2,    11.26,2,    16.67,2,     0.00,2,     1.10,2,    2.823,2,    1.368,2, -999.000,9,-999.0000,9,  -999.00,9,   2153.1,2,   -999.0,9,   2305.5,2,     7.72,2,25, -999.00,   -999,-999.0000,-999.000,  2.9255,-999.000
     316N151_2,   A24,   127,  1,     10,     10,2,19970624,1131, 49.1048, -32.5005, 4033,   2502.7,   3.1332,  34.9069,2,  34.9075,2,    281.7,2,    280.7,2,    12.46,2,    16.72,2,     0.00,2,     1.11,2,    2.051,2,    0.982,2, -999.000,9,-999.0000,9,  -999.00,9,   2153.5,2,    744.5,2,   2306.6,2,     7.73,2,25,   20.00,   -999,-999.0000,-999.000,  2.9307,-999.000
     316N151_2,   A24,   127,  1,      9,      9,2,19970624,1131, 49.1048, -32.5005, 4033,   2704.0,   3.1094,  34.9200,2,  34.9254,2,    279.2,2,    277.0,2,    13.45,2,    16.77,2,     0.00,2,     1.11,2,    1.588,2,    0.766,2, -999.000,9,-999.0000,9,  -999.00,9,   2154.8,2,   -999.0,9,   2309.8,2,     7.72,2,25, -999.00,   -999,-999.0000,-999.000,  2.8871,-999.000
     316N151_2,   A24,   127,  1,      8,      8,2,19970624,1131, 49.1048, -32.5005, 4033,   2956.5,   2.9919,  34.9309,2,  34.9319,2,    275.6,2,    274.3,2,    14.94,2,    16.77,2,     0.00,2,     1.12,2,    1.301,2,    0.633,2, -999.000,9,-999.0000,9,  -999.00,9,   2157.7,2,    741.6,2,   2312.1,2,     7.73,2,25,   20.00,   -999,-999.0000,-999.000,  2.7459,-999.000
     316N151_2,   A24,   127,  1,      7,      7,2,19970624,1131, 49.1048, -32.5005, 4033,   3210.2,   2.8271,  34.9314,2,  34.9309,2,    274.6,2,    274.3,2,    16.04,2,    16.72,2,     0.00,2,     1.12,2,    1.268,2,    0.617,2, -999.000,9,-999.0000,9,  -999.00,9,   2158.5,2,   -999.0,9,   2312.8,2,     7.72,2,25, -999.00,   -999,-999.0000,-999.000,  2.5579,-999.000
     316N151_2,   A24,   127,  1,      6,      6,2,19970624,1131, 49.1048, -32.5005, 4033,   3464.7,   2.6726,  34.9231,2,  34.9236,2,    275.2,2,    274.8,2,    17.23,2,    16.67,2,     0.00,2,     1.13,2,    1.262,2,    0.610,2, -999.000,9,-999.0000,9,  -999.00,9,   2160.1,2,    744.6,2,   2314.6,2,     7.73,2,25,   20.00,   -999,-999.0000,-999.000,  2.3797,-999.000
     316N151_2,   A24,   127,  1,      5,      5,2,19970624,1131, 49.1048, -32.5005, 4033,   3618.0,   2.6021,  34.9177,2,  34.9179,2,    275.4,2,    275.8,2,    17.42,2,    16.67,2,     0.00,2,     1.12,2,    1.271,2,    0.615,2, -999.000,9,-999.0000,9,  -999.00,9,   2159.7,2,   -999.0,9,   2314.6,2,     7.72,2,25, -999.00,   -999,-999.0000,-999.000,  2.2941,-999.000
     316N151_2,   A24,   127,  1,      4,      4,2,19970624,1131, 49.1048, -32.5005, 4033,   3771.2,   2.5310,  34.9130,2,  34.9130,2,    275.7,2,    276.5,2,    17.81,2,    16.68,2,     0.00,2,     1.12,2,    1.313,2,    0.627,2, -999.000,9,-999.0000,9,  -999.00,9,   2160.1,2,   -999.0,9,   2314.7,2,     7.73,2,25, -999.00,   -999,-999.0000,-999.000,  2.2079,-999.000
     316N151_2,   A24,   127,  1,      3,      3,2,19970624,1131, 49.1048, -32.5005, 4033,   3925.0,   2.4760,  34.9096,2,  34.9089,2,    275.4,2,    277.3,2,    17.99,2,    16.63,2,     0.00,2,     1.12,2,    1.335,2,    0.646,2, -999.000,9,-999.0000,9,  -999.00,9,   2161.2,2,    741.8,2,   2314.4,2,     7.72,2,25,   20.00,   -999,-999.0000,-999.000,  2.1370,-999.000
     316N151_2,   A24,   127,  1,      2,      2,2,19970624,1131, 49.1048, -32.5005, 4033,   4028.0,   2.4543,  34.9060,2,  34.9069,2,    275.7,2,    277.6,2,    18.08,2,    16.63,2,     0.00,2,     1.12,2,    1.374,2,    0.667,2, -999.000,9,-999.0000,9,  -999.00,9,   2160.0,2,   -999.0,9,   2314.7,2,     7.72,2,25, -999.00,   -999,-999.0000,-999.000,  2.1041,-999.000
     316N151_2,   A24,   127,  1,      1,      1,2,19970624,1131, 49.1048, -32.5005, 4033,   4100.2,   2.4416,  34.9049,2,  34.9057,2,    275.2,2,    276.2,2,    18.57,2,    16.68,2,     0.00,2,     1.12,2,    1.355,2,    0.655,2, -999.000,9,-999.0000,9,  -999.00,9,   2161.3,2,    745.8,2,   2316.2,2,     7.72,2,25,   20.00,   -999,-999.0000,-999.000,  2.0834,-999.000