BOTTLE,20220629CCHSIOAMB
EXPOCODE,SECT_ID,STNNBR,CASTNO,SAMPNO,BTLNBR,BTLNBR_FLAG_W,DATE,TIME,LATITUDE,LONGITUDE,DEPTH,CTDPRS,CTDTMP,CTDSAL,CTDSAL_FLAG_W,SALNTY,SALNTY_FLAG_W,CTDOXY,CTDOXY_FLAG_W,OXYGEN,OXYGEN_FLAG_W,SILCAT,SILCAT_FLAG_W,NITRAT,NITRAT_FLAG_W,NITRIT,NITRIT_FLAG_W,PHSPHT,PHSPHT_FLAG_W,CFC-11,CFC-11_FLAG_W,CFC-12,CFC-12_FLAG_W,TRITUM,TRITUM_FLAG_W,HELIUM,HELIUM_FLAG_W,DELHE3,DELHE3_FLAG_W,TCARBN,TCARBN_FLAG_W,PCO2,PCO2_FLAG_W,ALKALI,ALKALI_FLAG_W,PH,PH_FLAG_W,PH_TMP,PCO2TMP,CTDRAW,HELIER,DELHER,THETA,TRITER
,,,,,,,,,,,,DBAR,ITS-90,PSS-78,,PSS-78,,UMOL/KG,,UMOL/KG,,UMOL/KG,,UMOL/KG,,UMOL/KG,,UMOL/KG,,PMOL/KG,,PMOL/KG,,TU,,NMOL/KG,,PERCNT,,UMOL/KG,,UATM,,UMOL/KG,,,,DEG C,DEG C,,NMOL/KG,PERCNT,DEG C,TU
     316N151_2,   A24,   104,  1,     29,     29,2,19970619,1803, 58.4663, -41.5703, 3071,      4.8,   6.5214,  34.7438,2,  34.7425,2,    339.5,2,    338.6,2,     0.51,2,     4.13,2,     0.13,2,     0.35,2,    4.800,2,    2.454,2, -999.000,9,-999.0000,9,  -999.00,9,   2065.4,2,    446.4,2,   2307.1,6,     7.92,6,25,   20.00,   -999,-999.0000,-999.000,  6.5210,-999.000
     316N151_2,   A24,   104,  1,     28,     28,2,19970619,1803, 58.4663, -41.5703, 3071,     56.8,   4.9469,  34.8532,2,  34.8525,2,    312.1,2,    310.6,2,     7.21,2,    11.02,2,     0.13,2,     0.87,2,    4.793,2,    2.465,2, -999.000,9,-999.0000,9,  -999.00,9,   -999.0,9,    643.1,2,   -999.0,9,  -999.00,9,25,   20.00,   -999,-999.0000,-999.000,  4.9425,-999.000
     316N151_2,   A24,   104,  1,     27,     27,2,19970619,1803, 58.4663, -41.5703, 3071,    106.2,   4.2935,  34.8785,2,  34.8753,2,    299.7,2,    298.1,2,     8.86,2,    15.13,2,     0.14,2,     1.02,2,    4.515,2,    2.318,2, -999.000,9,-999.0000,9,  -999.00,9,   -999.0,9,    714.1,2,   -999.0,9,  -999.00,9,25,   20.00,   -999,-999.0000,-999.000,  4.2858,-999.000
     316N151_2,   A24,   104,  1,     26,     26,2,19970619,1803, 58.4663, -41.5703, 3071,    156.8,   4.0123,  34.8755,2,  34.8773,2,    297.0,2,    295.7,2,     9.33,2,    15.84,2,     0.03,2,     1.06,2,    4.466,2,    2.262,2, -999.000,9,-999.0000,9,  -999.00,9,   -999.0,9,    728.1,2,   -999.0,9,  -999.00,9,25,   20.00,   -999,-999.0000,-999.000,  4.0013,-999.000
     316N151_2,   A24,   104,  1,     25,     25,2,19970619,1803, 58.4663, -41.5703, 3071,    257.7,   3.7120,  34.8681,2,  34.8635,2,    293.0,2,    295.2,2,     9.52,2,    16.09,2,     0.01,2,     1.07,2,    4.330,2,    2.201,2, -999.000,9,-999.0000,9,  -999.00,9,   -999.0,9,    738.2,2,   -999.0,9,  -999.00,9,25,   20.00,   -999,-999.0000,-999.000,  3.6944,-999.000
     316N151_2,   A24,   104,  1,     24,     24,2,19970619,1803, 58.4663, -41.5703, 3071,    358.4,   3.5488,  34.8635,2,  34.8604,2,    293.6,2,    296.8,2,     9.70,2,    16.32,2,     0.00,2,     1.08,2, -999.000,9, -999.000,9, -999.000,9,-999.0000,9,  -999.00,9,   -999.0,9,    745.0,2,   -999.0,9,  -999.00,9,25,   20.00,   -999,-999.0000,-999.000,  3.5245,-999.000
     316N151_2,   A24,   104,  1,     23,     23,2,19970619,1803, 58.4663, -41.5703, 3071,    458.1,   3.4575,  34.8622,2,  34.8608,2,    294.2,2,    294.3,2,     9.99,2,    16.55,2,     0.00,2,     1.10,2,    4.263,2,    2.147,2, -999.000,9,-999.0000,9,  -999.00,9,   -999.0,9,    753.5,2,   -999.0,9,  -999.00,9,25,   20.00,   -999,-999.0000,-999.000,  3.4264,-999.000
     316N151_2,   A24,   104,  1,     22,     22,2,19970619,1803, 58.4663, -41.5703, 3071,    559.1,   3.4125,  34.8661,2,  34.8657,2,    291.7,2,    290.1,2,    10.17,2,    16.69,2,     0.00,2,     1.10,2, -999.000,9, -999.000,9, -999.000,9,-999.0000,9,  -999.00,9,   -999.0,9,    758.2,2,   -999.0,9,  -999.00,9,25,   20.00,   -999,-999.0000,-999.000,  3.3743,-999.000
     316N151_2,   A24,   104,  1,     21,     21,2,19970619,1803, 58.4663, -41.5703, 3071,    660.4,   3.3872,  34.8720,2,  34.8728,2,    288.8,2,    286.7,2,    10.45,2,    16.83,2,     0.00,2,     1.11,2,    3.797,2,    1.877,2, -999.000,9,-999.0000,9,  -999.00,9,   -999.0,9,    761.4,2,   -999.0,9,  -999.00,9,25,   20.00,   -999,-999.0000,-999.000,  3.3417,-999.000
     316N151_2,   A24,   104,  1,     20,     20,2,19970619,1803, 58.4663, -41.5703, 3071,    761.1,   3.3237,  34.8769,2,  34.8781,2,    289.2,2,    284.8,2,    10.64,2,    16.96,2,     0.00,2,     1.12,2,    3.605,2,    1.755,2, -999.000,9,-999.0000,9,  -999.00,9,   -999.0,9,   -999.0,9,   -999.0,9,  -999.00,9,25, -999.00,   -999,-999.0000,-999.000,  3.2711,-999.000
     316N151_2,   A24,   104,  1,     19,     19,2,19970619,1803, 58.4663, -41.5703, 3071,    861.4,   3.2473,  34.8734,2,  34.8721,2,    288.7,2,    287.0,2,    10.63,2,    16.91,2,     0.00,2,     1.12,2,    3.531,2,    1.740,2, -999.000,9,-999.0000,9,  -999.00,9,   -999.0,9,    763.9,2,   -999.0,9,  -999.00,9,25,   20.00,   -999,-999.0000,-999.000,  3.1875,-999.000
     316N151_2,   A24,   104,  1,     18,     18,2,19970619,1803, 58.4663, -41.5703, 3071,    962.6,   3.1405,  34.8640,2,  34.8634,2,    290.4,2,    290.1,2,    10.72,2,    17.00,2,     0.00,2,     1.12,2,    3.670,2,    1.788,2, -999.000,9,-999.0000,9,  -999.00,9,   -999.0,9,    762.8,2,   -999.0,9,  -999.00,9,25,   20.00,   -999,-999.0000,-999.000,  3.0738,-999.000
     316N151_2,   A24,   104,  1,     17,     17,2,19970619,1803, 58.4663, -41.5703, 3071,   1064.4,   3.0753,  34.8591,2,  34.8581,2,    291.1,2,    292.1,2,    10.61,2,    16.90,2,     0.00,2,     1.12,2,    3.801,2,    1.849,2, -999.000,9,-999.0000,9,  -999.00,9,   -999.0,9,   -999.0,9,   -999.0,9,  -999.00,9,25, -999.00,   -999,-999.0000,-999.000,  3.0012,-999.000
     316N151_2,   A24,   104,  1,     16,     16,2,19970619,1803, 58.4663, -41.5703, 3071,   1165.7,   3.0445,  34.8584,2,  34.8631,2,    292.5,2,    293.9,2,    10.60,2,    16.80,2,     0.00,2,     1.11,2,    3.809,2,    1.856,2, -999.000,9,-999.0000,9,  -999.00,9,   -999.0,9,    759.4,2,   -999.0,9,  -999.00,9,25,   20.00,   -999,-999.0000,-999.000,  2.9627,-999.000
     316N151_2,   A24,   104,  1,     15,     15,2,19970619,1803, 58.4663, -41.5703, 3071,   1367.0,   2.9784,  34.8538,2,  34.8580,2,    294.5,2,    296.7,2,    10.50,2,    16.71,2,     0.00,2,     1.11,2,    3.945,2,    1.912,2, -999.000,9,-999.0000,9,  -999.00,9,   -999.0,9,    754.9,2,   -999.0,9,  -999.00,9,25,   20.00,   -999,-999.0000,-999.000,  2.8811,-999.000
     316N151_2,   A24,   104,  1,     14,     14,2,19970619,1803, 58.4663, -41.5703, 3071,   1569.7,   2.9350,  34.8476,2,  34.8527,2,    294.5,2,    298.2,2,    10.49,2,    16.65,2,     0.00,2,     1.11,2, -999.000,9, -999.000,9, -999.000,9,-999.0000,9,  -999.00,9,   -999.0,9,    753.9,2,   -999.0,9,  -999.00,9,25,   20.00,   -999,-999.0000,-999.000,  2.8214,-999.000
     316N151_2,   A24,   104,  1,     13,     13,2,19970619,1803, 58.4663, -41.5703, 3071,   1770.0,   2.9190,  34.8479,2,  34.8478,2,    294.9,2,    297.1,2,    10.48,2,    16.56,2,     0.00,2,     1.10,2,    3.878,2,    1.873,2, -999.000,9,-999.0000,9,  -999.00,9,   -999.0,9,    752.5,2,   -999.0,9,  -999.00,9,25,   20.00,   -999,-999.0000,-999.000,  2.7884,-999.000
     316N151_2,   A24,   104,  1,     12,     12,2,19970619,1803, 58.4663, -41.5703, 3071,   1974.7,   3.0038,  34.8691,2,  34.8680,2,    292.0,2,    291.1,2,    10.86,2,    16.51,2,     0.00,2,     1.10,2,    3.284,2,    1.590,2, -999.000,9,-999.0000,9,  -999.00,9,   -999.0,9,    749.3,2,   -999.0,9,  -999.00,9,25,   20.00,   -999,-999.0000,-999.000,  2.8537,-999.000
     316N151_2,   A24,   104,  1,     11,     11,2,19970619,1803, 58.4663, -41.5703, 3071,   2176.0,   3.0643,  34.8962,2,  34.8979,2,    284.3,2,    283.8,2,    11.53,2,    16.46,2,     0.00,2,     1.10,2,    2.669,2,    1.266,2, -999.000,9,-999.0000,9,  -999.00,9,   -999.0,9,    749.3,2,   -999.0,9,  -999.00,9,25,   20.00,   -999,-999.0000,-999.000,  2.8946,-999.000
     316N151_2,   A24,   104,  1,     10,     10,2,19970619,1803, 58.4663, -41.5703, 3071,   2377.5,   2.9981,  34.9160,2,  34.9188,2,    281.1,2,    279.1,2,    12.59,2,    16.40,2,     0.00,2,     1.10,2,    2.066,2,    0.986,2, -999.000,9,-999.0000,9,  -999.00,9,   -999.0,9,    744.3,2,   -999.0,9,  -999.00,9,25,   20.00,   -999,-999.0000,-999.000,  2.8102,-999.000
     316N151_2,   A24,   104,  1,      9,      9,2,19970619,1803, 58.4663, -41.5703, 3071,   2530.0,   2.8712,  34.9212,2,  34.9245,2,    279.8,2,    278.4,2,    13.16,2,    16.26,2,     0.00,2,     1.10,2,    1.925,2,    0.912,2, -999.000,9,-999.0000,9,  -999.00,9,   -999.0,9,    745.4,2,   -999.0,9,  -999.00,9,25,   20.00,   -999,-999.0000,-999.000,  2.6708,-999.000
     316N151_2,   A24,   104,  1,      8,      8,2,19970619,1803, 58.4663, -41.5703, 3071,   2630.7,   2.7109,  34.9120,2,  34.9159,2,    282.2,2,    281.2,2,    12.76,2,    15.98,2,     0.00,2,     1.08,2,    2.247,2,    1.081,2, -999.000,9,-999.0000,9,  -999.00,9,   -999.0,9,   -999.0,9,   -999.0,9,  -999.00,9,25, -999.00,   -999,-999.0000,-999.000,  2.5037,-999.000
     316N151_2,   A24,   104,  1,      7,      7,2,19970619,1803, 58.4663, -41.5703, 3071,   2711.7,   2.5777,  34.9107,2,  34.9094,2,    284.6,2,    282.7,2,    12.65,2,    15.83,2,     0.00,2,     1.07,2, -999.000,9, -999.000,9, -999.000,9,-999.0000,9,  -999.00,9,   -999.0,9,    746.7,2,   -999.0,9,  -999.00,9,25,   20.00,   -999,-999.0000,-999.000,  2.3651,-999.000
     316N151_2,   A24,   104,  1,      6,      6,2,19970619,1803, 58.4663, -41.5703, 3071,   2774.0,   2.3927,  34.9024,2,  34.8974,2,    287.2,2,    287.9,2,    11.28,2,    15.32,2,     0.00,2,     1.04,2,    2.910,2,    1.397,2, -999.000,9,-999.0000,9,  -999.00,9,   -999.0,9,    748.9,2,   -999.0,9,  -999.00,9,25,   20.00,   -999,-999.0000,-999.000,  2.1777,-999.000
     316N151_2,   A24,   104,  1,      5,      5,2,19970619,1803, 58.4663, -41.5703, 3071,   2834.6,   2.1961,  34.8984,2,  34.8968,2,    286.9,2,    289.2,2,    11.27,2,    15.17,2,     0.00,2,     1.02,2,    2.940,2,    1.418,2, -999.000,9,-999.0000,9,  -999.00,9,   -999.0,9,    749.2,2,   -999.0,9,  -999.00,9,25,   20.00,   -999,-999.0000,-999.000,  1.9793,-999.000
     316N151_2,   A24,   104,  1,      4,      4,2,19970619,1803, 58.4663, -41.5703, 3071,   2895.2,   1.9714,  34.8829,2,  34.8823,2,    292.5,2,    295.2,2,     9.52,2,    14.47,2,     0.00,2,     0.98,2,    3.500,2,    1.693,2, -999.000,9,-999.0000,9,  -999.00,9,   -999.0,9,   -999.0,9,   -999.0,9,  -999.00,9,25, -999.00,   -999,-999.0000,-999.000,  1.7534,-999.000
     316N151_2,   A24,   104,  1,      3,      3,2,19970619,1803, 58.4663, -41.5703, 3071,   2957.0,   1.5318,  34.8835,2,  34.8801,2,    295.1,2,    299.7,2,     8.73,2,    13.96,2,     0.00,2,     0.95,2,    3.616,2,    1.761,2, -999.000,9,-999.0000,9,  -999.00,9,   -999.0,9,    748.8,2,   -999.0,9,  -999.00,9,25,   20.00,   -999,-999.0000,-999.000,  1.3174,-999.000
     316N151_2,   A24,   104,  1,      2,      2,2,19970619,1803, 58.4663, -41.5703, 3071,   3027.0,   1.3706,  34.8848,2,  34.8851,2,    298.1,2,    300.0,2,     8.72,2,    13.86,2,     0.00,2,     0.95,2,    3.597,2,    1.738,2, -999.000,9,-999.0000,9,  -999.00,9,   -999.0,9,   -999.0,9,   -999.0,9,  -999.00,9,25, -999.00,   -999,-999.0000,-999.000,  1.1531,-999.000
     316N151_2,   A24,   104,  1,      1,      1,2,19970619,1803, 58.4663, -41.5703, 3071,   3094.3,   1.3127,  34.8874,2,  34.8871,2,    300.6,2,    300.3,2,     8.91,2,    13.86,2,     0.00,2,     0.96,2,    3.593,2,    1.738,2, -999.000,9,-999.0000,9,  -999.00,9,   -999.0,9,    753.9,2,   -999.0,9,  -999.00,9,25,   20.00,   -999,-999.0000,-999.000,  1.0901,-999.000