BOTTLE,20220629CCHSIOAMB
EXPOCODE,SECT_ID,STNNBR,CASTNO,SAMPNO,BTLNBR,BTLNBR_FLAG_W,DATE,TIME,LATITUDE,LONGITUDE,DEPTH,CTDPRS,CTDTMP,CTDSAL,CTDSAL_FLAG_W,SALNTY,SALNTY_FLAG_W,CTDOXY,CTDOXY_FLAG_W,OXYGEN,OXYGEN_FLAG_W,SILCAT,SILCAT_FLAG_W,NITRAT,NITRAT_FLAG_W,NITRIT,NITRIT_FLAG_W,PHSPHT,PHSPHT_FLAG_W,CFC-11,CFC-11_FLAG_W,CFC-12,CFC-12_FLAG_W,TRITUM,TRITUM_FLAG_W,HELIUM,HELIUM_FLAG_W,DELHE3,DELHE3_FLAG_W,TCARBN,TCARBN_FLAG_W,PCO2,PCO2_FLAG_W,ALKALI,ALKALI_FLAG_W,PH,PH_FLAG_W,PH_TMP,PCO2TMP,CTDRAW,HELIER,DELHER,THETA,TRITER
,,,,,,,,,,,,DBAR,ITS-90,PSS-78,,PSS-78,,UMOL/KG,,UMOL/KG,,UMOL/KG,,UMOL/KG,,UMOL/KG,,UMOL/KG,,PMOL/KG,,PMOL/KG,,TU,,NMOL/KG,,PERCNT,,UMOL/KG,,UATM,,UMOL/KG,,,,DEG C,DEG C,,NMOL/KG,PERCNT,DEG C,TU
     316N151_2,   A24,    69,  1,     23,     23,2,19970613,1750, 59.1577, -20.2752, 2813,      2.5,  10.4976,  35.2463,2,-999.0000,9,    248.9,2,    303.7,2,     0.64,2,     4.83,2,     0.14,2,     0.36,2,    3.825,2,    2.013,2,    1.411,2,   1.8355,2,    -1.84,2,   2077.7,2,    444.1,2,   2326.7,6,     7.91,6,25,   20.00,   -999,  0.0000,   0.200, 10.4973,   0.022
     316N151_2,   A24,    69,  1,     22,     22,2,19970613,1750, 59.1577, -20.2752, 2813,     57.1,   9.6145,  35.2481,2,  35.2489,2,    271.7,2,    279.5,2,     1.68,2,     7.50,2,     0.14,2,     0.56,2,    3.842,2,    2.028,2,    1.476,2,   1.8283,2,    -1.65,2,   2105.5,2,    513.9,2,   2323.8,2,     7.86,2,25,   20.00,   -999,  0.0000,   0.200,  9.6080,   0.020
     316N151_2,   A24,    69,  1,     21,     21,2,19970613,1750, 59.1577, -20.2752, 2813,    106.7,   8.9258,  35.2228,2,  35.2160,2,    286.6,2,    277.0,2,     5.01,2,    10.41,2,     0.15,2,     0.76,2,    3.838,2,    2.028,2,    1.443,2,   1.8887,2,    -1.97,2,   2121.9,2,    570.9,2,   2323.3,2,     7.82,2,25,   20.00,   -999,  0.0000,   0.200,  8.9143,   0.023
     316N151_2,   A24,    69,  1,     19,     19,2,19970613,1750, 59.1577, -20.2752, 2813,    156.4,   8.6934,  35.2159,2,  35.2170,2,    266.7,2,    273.3,2,     6.32,2,    11.97,2,     0.29,2,     0.82,2,    3.821,2,    2.008,2, -999.000,9,-999.0000,9,  -999.00,9,   2129.0,2,    590.5,2,   2318.8,2,     7.77,4,25,   20.00,   -999,-999.0000,-999.000,  8.6767,-999.000
     316N151_2,   A24,    69,  1,     20,     20,2,19970613,1750, 59.1577, -20.2752, 2813,    257.1,   8.1120,  35.1570,2,  35.1565,2,    262.3,2,    260.9,2,     7.48,2,    14.02,2,     0.02,2,     0.93,2,    3.566,2,    1.868,2,    1.461,2,   1.8364,2,    -0.33,2,   2138.0,2,    638.8,2,   2324.0,2,     7.80,2,25,   20.00,   -999,  0.0000,   0.200,  8.0856,   0.021
     316N151_2,   A24,    69,  1,     18,     18,2,19970613,1750, 59.1577, -20.2752, 2813,    356.4,   7.7665,  35.1378,2,  35.1351,2,    255.2,2,    258.6,2,     8.12,2,    14.83,2,     0.01,2,     0.98,2,    3.516,2,    1.825,2, -999.000,9,-999.0000,9,  -999.00,9,   2142.4,2,    653.7,2,   2317.7,2,     7.76,2,25,   20.00,   -999,-999.0000,-999.000,  7.7306,-999.000
     316N151_2,   A24,    69,  1,     17,     17,2,19970613,1750, 59.1577, -20.2752, 2813,    456.8,   7.5656,  35.1339,2,  35.1345,2,    259.5,2,    260.1,2,     8.11,2,    14.84,2,     0.00,2,     0.99,2,    3.568,2,    1.847,2,    1.419,2,   1.9516,2,     0.07,2,   2143.5,2,    657.0,2,   2320.6,2,     7.76,2,25,   20.00,   -999,  0.0000,   0.180,  7.5200,   0.020
     316N151_2,   A24,    69,  1,     16,     16,2,19970613,1750, 59.1577, -20.2752, 2813,    555.7,   7.4379,  35.1377,2,  35.1371,2,    265.8,2,    264.5,2,     7.90,2,    14.60,2,     0.01,2,     0.98,2,    3.675,2,    1.915,2, -999.000,9,-999.0000,9,  -999.00,9,   2142.5,2,    653.0,2,   2317.0,2,     7.76,2,25,   20.00,   -999,-999.0000,-999.000,  7.3825,-999.000
     316N151_2,   A24,    69,  1,     15,     15,2,19970613,1750, 59.1577, -20.2752, 2813,    656.2,   7.0254,  35.0929,2,  35.0938,2,    245.2,2,    245.8,2,     9.51,2,    16.30,2,     0.00,2,     1.08,2,    3.202,2,    1.644,2,    0.773,4,   1.6254,4,     2.46,4,   2153.4,2,    700.7,2,   2318.6,2,     7.74,2,25,   20.00,   -999,  0.0000,   0.210,  6.9617,   0.013
     316N151_2,   A24,    69,  1,     14,     14,2,19970613,1750, 59.1577, -20.2752, 2813,    755.6,   6.5650,  35.0480,2,  35.0449,2,    234.5,2,    225.9,2,    11.22,2,    18.09,2,     0.00,2,     1.20,2,    2.695,2,    1.335,2, -999.000,9,-999.0000,9,  -999.00,9,   2163.7,2,    759.6,2,   2314.0,2,     7.70,2,25,   20.00,   -999,-999.0000,-999.000,  6.4938,-999.000
     316N151_2,   A24,    69,  1,     13,     13,2,19970613,1750, 59.1577, -20.2752, 2813,    856.1,   6.1250,  35.0429,2,  35.0418,2,    225.2,2,    228.0,2,    11.68,2,    18.33,2,     0.00,2,     1.22,2,    2.584,2,    1.256,2,    1.275,2,   1.8580,2,     5.17,2,   2167.4,2,    769.7,2,   2316.9,2,     7.71,2,25,   20.00,   -999,  0.0000,   0.160,  6.0465,   0.018
     316N151_2,   A24,    69,  1,     12,     12,2,19970613,1750, 59.1577, -20.2752, 2813,    955.2,   5.6232,  35.0222,2,  35.0204,2,    232.3,2,    231.8,2,    11.96,2,    18.43,2,     0.00,2,     1.22,2,    2.500,2,    1.224,2, -999.000,5,   1.8353,2,    -0.15,3,   2167.1,2,    780.4,2,   2312.5,2,     7.69,2,25,   20.00,   -999,  0.0000,   0.200,  5.5386,-999.000
     316N151_2,   A24,    69,  1,     11,     11,2,19970613,1750, 59.1577, -20.2752, 2813,   1054.8,   5.1280,  34.9936,2,  34.9942,2,    236.8,2,    237.3,2,    12.23,2,    18.57,2,     0.00,2,     1.24,2,    2.445,2,    1.176,2,    0.394,4,   0.0394,4,    -4.26,4,   2167.3,2,    787.8,2,   2314.1,2,     7.70,2,25,   20.00,   -999,  0.0000,   0.720,  5.0379,   0.007
     316N151_2,   A24,    69,  1,     10,     10,2,19970613,1750, 59.1577, -20.2752, 2813,   1155.4,   4.7309,  34.9731,2,  34.9739,2,    244.6,2,    245.0,2,    12.21,2,    18.43,2,     0.00,2,     1.22,2,    2.395,2,    1.154,2, -999.000,9,-999.0000,9,  -999.00,9,   2165.3,2,    785.3,2,   2309.1,2,     7.69,2,25,   20.00,   -999,-999.0000,-999.000,  4.6348,-999.000
     316N151_2,   A24,    69,  1,      9,      9,2,19970613,1750, 59.1577, -20.2752, 2813,   1255.0,   4.3974,  34.9485,2,  34.9493,2,    250.9,2,    252.6,2,    12.10,2,    18.25,2,     0.00,2,     1.22,2,    2.439,2,    1.167,2,    1.255,2,   1.8997,2,     6.89,2,   2162.6,2,    784.0,2,   2308.8,2,     7.70,2,25,   20.00,   -999,  0.0000,   0.160,  4.2954,   0.018
     316N151_2,   A24,    69,  1,      8,      8,2,19970613,1750, 59.1577, -20.2752, 2813,   1406.7,   4.0253,  34.9232,2,  34.9244,2,    260.4,2,    262.6,2,    11.99,2,    17.92,2,     0.00,2,     1.20,2,    2.498,2,    1.187,2, -999.000,9,-999.0000,9,  -999.00,9,   2160.8,2,    776.0,2,   2302.5,2,     7.69,2,25,   20.00,   -999,-999.0000,-999.000,  3.9134,-999.000
     316N151_2,   A24,    69,  1,      7,      7,2,19970613,1750, 59.1577, -20.2752, 2813,   1606.8,   3.7264,  34.9031,2,  34.9039,2,    270.6,2,    270.8,2,    11.88,2,    17.54,2,     0.00,2,     1.18,2,    2.464,2,    1.173,2,    0.660,4,   4.9174,4,   -96.91,4,   2156.1,2,    764.5,2,   2305.0,2,     7.71,2,25,   20.00,   -999,  0.0000,   0.380,  3.5998,   0.010
     316N151_2,   A24,    69,  1,      6,      6,2,19970613,1750, 59.1577, -20.2752, 2813,   1807.8,   3.5222,  34.8912,2,  34.8917,2,    277.2,2,    277.2,2,    11.68,2,    17.22,2,     0.00,2,     1.16,2,    2.505,2,    1.194,2,    1.221,2,   1.9045,2,     7.56,2,   2154.0,2,    756.7,2,   2302.1,2,     7.70,2,25,   20.00,   -999,  0.0000,   0.160,  3.3800,   0.019
     316N151_2,   A24,    69,  1,      5,      5,2,19970613,1750, 59.1577, -20.2752, 2813,   2011.4,   3.4172,  34.8937,2,  34.8939,2,    278.4,2,    279.2,2,    11.76,2,    16.98,2,     0.00,2,     1.15,2,    2.390,2,    1.143,2,    1.223,2,   1.9537,2,     7.45,2,   2153.0,2,    751.8,2,   2307.3,2,     7.72,2,25,   20.00,   -999,  0.0000,   0.160,  3.2575,   0.018
     316N151_2,   A24,    69,  1,      4,      4,2,19970613,1750, 59.1577, -20.2752, 2813,   2217.4,   3.3719,  34.9136,2,  34.9126,2,    278.1,2,    277.3,2,    12.22,2,    16.79,2,     0.00,2,     1.13,2,    2.073,2,    1.004,2,    0.999,2,   1.9391,2,     7.15,2,   2153.6,2,    746.0,2,   2308.5,2,     7.72,2,25,   20.00,   -999,  0.0000,   0.160,  3.1932,   0.014
     316N151_2,   A24,    69,  1,      3,      3,2,19970613,1750, 59.1577, -20.2752, 2813,   2422.2,   3.3266,  34.9435,2,  34.9441,2,    272.6,2,    273.2,2,    13.07,2,    16.65,2,     0.00,2,     1.12,2,    1.754,2,    0.848,2, -999.000,5,   1.8749,2,     7.70,2,   2155.9,2,    744.1,2,   2309.6,2,     7.72,2,25,   20.00,   -999,  0.0000,   0.160,  3.1285,-999.000
     316N151_2,   A24,    69,  1,      2,      2,2,19970613,1750, 59.1577, -20.2752, 2813,   2628.3,   3.1373,  34.9621,2,  34.9636,2,    270.4,2,    272.7,2,    13.82,2,    16.32,2,     0.00,2,     1.10,2,    1.938,2,    0.932,2, -999.000,5,   1.8807,2,     6.68,2,   2158.7,2,    748.0,2,   2312.7,2,     7.71,2,25,   20.00,   -999,  0.0000,   0.160,  2.9219,-999.000
     316N151_2,   A24,    69,  1,      1,      1,2,19970613,1750, 59.1577, -20.2752, 2813,   2839.0,   2.6486,  34.9660,2,  34.9665,2,    277.7,2,    276.1,2,    13.32,2,    15.71,2,     0.00,2,     1.07,2,    2.383,2,    1.154,2, -999.000,9,-999.0000,9,  -999.00,9,   2161.1,2,    758.9,2,   2312.1,2,     7.71,2,25,   20.00,   -999,-999.0000,-999.000,  2.4217,-999.000
     316N151_2,   A24,    70,  1,     24,     24,2,19970613,2214, 59.3512, -21.1902, 2873,      2.9,  10.9220,  35.3058,2,  35.3063,2,    280.3,2,    306.6,2,     0.60,2,     3.69,2,     0.11,2,     0.31,2, -999.000,9, -999.000,9, -999.000,9,-999.0000,9,  -999.00,9,   2074.1,2,   -999.0,9,   2327.7,6,     7.93,6,25, -999.00,   -999,-999.0000,-999.000, 10.9216,-999.000
     316N151_2,   A24,    70,  1,     23,     23,2,19970613,2214, 59.3512, -21.1902, 2873,     44.7,   9.7476,  35.2782,2,  35.2769,2,    284.6,2,    281.8,2,     1.06,2,     7.00,2,     0.13,2,     0.51,2, -999.000,9, -999.000,9, -999.000,9,-999.0000,9,  -999.00,9,   -999.0,9,   -999.0,9,   -999.0,9,  -999.00,9,25, -999.00,   -999,-999.0000,-999.000,  9.7425,-999.000
     316N151_2,   A24,    70,  1,     22,     22,2,19970613,2214, 59.3512, -21.1902, 2873,     94.9,   9.3034,  35.2736,2,  35.2728,2,    274.1,2,    270.9,2,     4.95,2,    10.75,2,     0.23,2,     0.76,2, -999.000,9, -999.000,9, -999.000,9,-999.0000,9,  -999.00,9,   -999.0,9,   -999.0,9,   -999.0,9,  -999.00,9,25, -999.00,   -999,-999.0000,-999.000,  9.2929,-999.000
     316N151_2,   A24,    70,  1,     21,     21,2,19970613,2214, 59.3512, -21.1902, 2873,    144.5,   9.3154,  35.2996,2,  35.2996,2,    267.4,2,    265.5,2,     6.08,2,    11.92,2,     0.04,2,     0.79,2, -999.000,9, -999.000,9, -999.000,9,-999.0000,9,  -999.00,9,   -999.0,9,   -999.0,9,   -999.0,9,  -999.00,9,25, -999.00,   -999,-999.0000,-999.000,  9.2993,-999.000
     316N151_2,   A24,    70,  1,     20,     20,2,19970613,2214, 59.3512, -21.1902, 2873,    194.8,   9.1363,  35.2920,2,  35.2925,2,    264.0,2,    264.1,2,     6.35,2,    12.37,2,     0.01,2,     0.81,2, -999.000,9, -999.000,9, -999.000,9,-999.0000,9,  -999.00,9,   -999.0,9,   -999.0,9,   -999.0,9,  -999.00,9,25, -999.00,   -999,-999.0000,-999.000,  9.1148,-999.000
     316N151_2,   A24,    70,  1,     19,     19,2,19970613,2214, 59.3512, -21.1902, 2873,    305.3,   8.9406,  35.2769,2,  35.2780,2,    260.4,2,    264.8,2,     6.61,2,    12.52,2,     0.00,2,     0.84,2, -999.000,9, -999.000,9, -999.000,9,-999.0000,9,  -999.00,9,   -999.0,9,   -999.0,9,   -999.0,9,  -999.00,9,25, -999.00,   -999,-999.0000,-999.000,  8.9072,-999.000
     316N151_2,   A24,    70,  1,     18,     18,2,19970613,2214, 59.3512, -21.1902, 2873,    405.0,   8.6578,  35.2366,2,  35.2382,2,    262.5,2,    263.0,2,     6.88,2,    13.04,2,     0.00,2,     0.87,2, -999.000,9, -999.000,9, -999.000,9,-999.0000,9,  -999.00,9,   -999.0,9,   -999.0,9,   -999.0,9,  -999.00,9,25, -999.00,   -999,-999.0000,-999.000,  8.6141,-999.000
     316N151_2,   A24,    70,  1,     17,     17,2,19970613,2214, 59.3512, -21.1902, 2873,    506.6,   8.3420,  35.1928,2,  35.1935,2,    256.2,2,    260.2,2,     7.34,2,    13.70,2,     0.00,2,     0.91,2, -999.000,9, -999.000,9, -999.000,9,-999.0000,9,  -999.00,9,   -999.0,9,   -999.0,9,   -999.0,9,  -999.00,9,25, -999.00,   -999,-999.0000,-999.000,  8.2883,-999.000
     316N151_2,   A24,    70,  1,     16,     16,2,19970613,2214, 59.3512, -21.1902, 2873,    607.4,   7.9199,  35.1479,2,  35.1472,2,    255.9,2,    260.7,2,     7.89,2,    14.32,2,     0.00,2,     0.96,2, -999.000,9, -999.000,9, -999.000,9,-999.0000,9,  -999.00,9,   -999.0,9,   -999.0,9,   -999.0,9,  -999.00,9,25, -999.00,   -999,-999.0000,-999.000,  7.8570,-999.000
     316N151_2,   A24,    70,  1,     15,     15,2,19970613,2214, 59.3512, -21.1902, 2873,    706.7,   7.6971,  35.1481,2,  35.1484,2,    258.7,2,    260.5,2,     8.07,2,    14.60,2,     0.00,2,     0.97,2, -999.000,9, -999.000,9, -999.000,9,-999.0000,9,  -999.00,9,   -999.0,9,   -999.0,9,   -999.0,9,  -999.00,9,25, -999.00,   -999,-999.0000,-999.000,  7.6247,-999.000
     316N151_2,   A24,    70,  1,     14,     14,2,19970613,2214, 59.3512, -21.1902, 2873,    807.9,   7.3963,  35.1207,2,  35.1230,2,    253.4,2,    252.2,2,     8.81,2,    15.40,2,     0.00,2,     1.03,2, -999.000,9, -999.000,9, -999.000,9,-999.0000,9,  -999.00,9,   -999.0,9,   -999.0,9,   -999.0,9,  -999.00,9,25, -999.00,   -999,-999.0000,-999.000,  7.3147,-999.000
     316N151_2,   A24,    70,  1,     13,     13,2,19970613,2214, 59.3512, -21.1902, 2873,    908.7,   6.9295,  35.0943,2,  35.0937,2,    239.4,2,    235.8,2,    10.42,2,    17.00,2,     0.00,2,     1.12,2, -999.000,9, -999.000,9, -999.000,9,-999.0000,9,  -999.00,9,   -999.0,9,   -999.0,9,   -999.0,9,  -999.00,9,25, -999.00,   -999,-999.0000,-999.000,  6.8404,-999.000
     316N151_2,   A24,    70,  1,     12,     12,2,19970613,2214, 59.3512, -21.1902, 2873,   1009.8,   6.1818,  35.0608,2,  35.0610,2,    223.4,2,    223.7,2,    11.93,2,    18.46,2,     0.00,2,     1.22,2,    2.417,2,    1.178,2, -999.000,9,-999.0000,9,  -999.00,9,   -999.0,9,   -999.0,9,   -999.0,9,  -999.00,9,25, -999.00,   -999,-999.0000,-999.000,  6.0877,-999.000
     316N151_2,   A24,    70,  1,     11,     11,2,19970613,2214, 59.3512, -21.1902, 2873,   1110.6,   5.4788,  35.0071,2,  35.0110,2,    231.9,2,    232.4,2,    12.29,2,    18.51,2,     0.00,2,     1.22,2, -999.000,9, -999.000,9, -999.000,9,-999.0000,9,  -999.00,9,   -999.0,9,   -999.0,9,   -999.0,9,  -999.00,9,25, -999.00,   -999,-999.0000,-999.000,  5.3805,-999.000
     316N151_2,   A24,    70,  1,     10,     10,2,19970613,2214, 59.3512, -21.1902, 2873,   1211.2,   5.1488,  35.0093,2,  35.0101,2,    237.0,2,    237.1,2,    12.47,2,    18.46,2,     0.00,2,     1.22,2,    2.307,2,    1.104,2, -999.000,9,-999.0000,9,  -999.00,9,   -999.0,9,   -999.0,9,   -999.0,9,  -999.00,9,25, -999.00,   -999,-999.0000,-999.000,  5.0437,-999.000
     316N151_2,   A24,    70,  1,      9,      9,2,19970613,2214, 59.3512, -21.1902, 2873,   1362.3,   4.3760,  34.9471,2,  34.9479,2,    253.9,2,    253.4,2,    12.26,2,    18.04,2,     0.00,2,     1.20,2, -999.000,9, -999.000,9, -999.000,9,-999.0000,9,  -999.00,9,   -999.0,9,   -999.0,9,   -999.0,9,  -999.00,9,25, -999.00,   -999,-999.0000,-999.000,  4.2644,-999.000
     316N151_2,   A24,    70,  1,      8,      8,2,19970613,2214, 59.3512, -21.1902, 2873,   1565.0,   3.8718,  34.9127,2,  34.9117,2,    266.8,2,    266.9,2,    11.76,2,    17.58,2,     0.00,2,     1.17,2,    2.517,2,    1.200,2, -999.000,9,-999.0000,9,  -999.00,9,   -999.0,9,   -999.0,9,   -999.0,9,  -999.00,9,25, -999.00,   -999,-999.0000,-999.000,  3.7473,-999.000
     316N151_2,   A24,    70,  1,      7,      7,2,19970613,2214, 59.3512, -21.1902, 2873,   1767.1,   3.6031,  34.8947,2,  34.8952,2,    272.8,2,    274.8,2,    11.65,2,    17.25,2,     0.00,2,     1.15,2, -999.000,9, -999.000,9, -999.000,9,-999.0000,9,  -999.00,9,   -999.0,9,   -999.0,9,   -999.0,9,  -999.00,9,25, -999.00,   -999,-999.0000,-999.000,  3.4635,-999.000
     316N151_2,   A24,    70,  1,      6,      6,2,19970613,2214, 59.3512, -21.1902, 2873,   1969.7,   3.4457,  34.8895,2,  34.8897,2,    279.4,2,    279.3,2,    11.53,2,    16.97,2,     0.00,2,     1.14,2,    2.475,2,    1.177,2, -999.000,9,-999.0000,9,  -999.00,9,   -999.0,9,   -999.0,9,   -999.0,9,  -999.00,9,25, -999.00,   -999,-999.0000,-999.000,  3.2895,-999.000
     316N151_2,   A24,    70,  1,      5,      5,2,19970613,2214, 59.3512, -21.1902, 2873,   2172.5,   3.3717,  34.9027,2,  34.9017,2,    279.9,2,    279.1,2,    11.80,2,    16.74,2,     0.00,2,     1.12,2,    2.196,2,    1.061,2, -999.000,9,-999.0000,9,  -999.00,9,   -999.0,9,   -999.0,9,   -999.0,9,  -999.00,9,25, -999.00,   -999,-999.0000,-999.000,  3.1974,-999.000
     316N151_2,   A24,    70,  1,      4,      4,2,19970613,2214, 59.3512, -21.1902, 2873,   2376.2,   3.3729,  34.9405,2,  34.9383,2,    273.9,2,    274.2,2,    12.45,2,    16.46,2,     0.00,2,     1.12,2,    1.892,2,    0.907,2, -999.000,9,-999.0000,9,  -999.00,9,   -999.0,9,   -999.0,9,   -999.0,9,  -999.00,9,25, -999.00,   -999,-999.0000,-999.000,  3.1785,-999.000
     316N151_2,   A24,    70,  1,      3,      3,2,19970613,2214, 59.3512, -21.1902, 2873,   2578.7,   3.1876,  34.9572,2,  34.9561,2,    272.0,2,    272.0,2,    13.97,2,    16.32,2,     0.00,2,     1.11,2,    1.753,2,    0.840,2, -999.000,9,-999.0000,9,  -999.00,9,   -999.0,9,   -999.0,9,   -999.0,9,  -999.00,9,25, -999.00,   -999,-999.0000,-999.000,  2.9763,-999.000
     316N151_2,   A24,    70,  1,      2,      2,2,19970613,2214, 59.3512, -21.1902, 2873,   2782.3,   2.9059,  34.9611,2,  34.9598,2,    272.6,2,    271.9,2,    15.39,2,    16.28,2,     0.00,2,     1.11,2,    1.907,2,    0.925,2, -999.000,9,-999.0000,9,  -999.00,9,   -999.0,9,   -999.0,9,   -999.0,9,  -999.00,9,25, -999.00,   -999,-999.0000,-999.000,  2.6795,-999.000
     316N151_2,   A24,    70,  1,      1,      1,2,19970613,2214, 59.3512, -21.1902, 2873,   2904.2,   2.5929,  34.9640,2,  34.9640,2,    276.7,2,    277.2,2,    13.36,2,    15.62,2,     0.00,2,     1.06,2,    2.416,2,    1.174,2, -999.000,9,-999.0000,9,  -999.00,9,   -999.0,9,   -999.0,9,   -999.0,9,  -999.00,9,25, -999.00,   -999,-999.0000,-999.000,  2.3606,-999.000