BOTTLE,20220629CCHSIOAMB
EXPOCODE,SECT_ID,STNNBR,CASTNO,SAMPNO,BTLNBR,BTLNBR_FLAG_W,DATE,TIME,LATITUDE,LONGITUDE,DEPTH,CTDPRS,CTDTMP,CTDSAL,CTDSAL_FLAG_W,SALNTY,SALNTY_FLAG_W,CTDOXY,CTDOXY_FLAG_W,OXYGEN,OXYGEN_FLAG_W,SILCAT,SILCAT_FLAG_W,NITRAT,NITRAT_FLAG_W,NITRIT,NITRIT_FLAG_W,PHSPHT,PHSPHT_FLAG_W,CFC-11,CFC-11_FLAG_W,CFC-12,CFC-12_FLAG_W,TRITUM,TRITUM_FLAG_W,HELIUM,HELIUM_FLAG_W,DELHE3,DELHE3_FLAG_W,TCARBN,TCARBN_FLAG_W,PCO2,PCO2_FLAG_W,ALKALI,ALKALI_FLAG_W,PH,PH_FLAG_W,PH_TMP,PCO2TMP,CTDRAW,HELIER,DELHER,THETA,TRITER
,,,,,,,,,,,,DBAR,ITS-90,PSS-78,,PSS-78,,UMOL/KG,,UMOL/KG,,UMOL/KG,,UMOL/KG,,UMOL/KG,,UMOL/KG,,PMOL/KG,,PMOL/KG,,TU,,NMOL/KG,,PERCNT,,UMOL/KG,,UATM,,UMOL/KG,,,,DEG C,DEG C,,NMOL/KG,PERCNT,DEG C,TU
     316N151_2,   A24,   134,  1,     27,     27,2,19970625,2221, 45.6108, -30.5078, 3216,      3.1,  16.6612,  35.6472,2,  35.6457,2,    272.3,2,    259.0,2,     0.79,2,     1.04,2,     0.04,2,     0.10,2, -999.000,9, -999.000,9, -999.000,5,   1.7696,2,    -1.82,2,   2060.6,2,   -999.0,9,   2346.2,6,     7.98,2,25, -999.00,   -999,  0.0000,   0.190, 16.6607,-999.000
     316N151_2,   A24,   134,  1,     26,     26,2,19970625,2221, 45.6108, -30.5078, 3216,     55.1,  14.6889,  35.8337,2,  35.8205,2,    256.9,2,    252.5,2,     0.98,2,     2.41,2,     0.11,2,     0.21,2, -999.000,9, -999.000,9, -999.000,5,   1.7816,2,    -1.50,2,   -999.0,9,   -999.0,9,   -999.0,9,  -999.00,9,25, -999.00,   -999,  0.0000,   0.180, 14.6807,-999.000
     316N151_2,   A24,   134,  1,     25,     25,2,19970625,2221, 45.6108, -30.5078, 3216,    105.6,  12.5398,  35.6031,2,  35.5964,2,    233.4,2,    241.2,2,     2.98,2,     8.36,2,     0.13,2,     0.53,2, -999.000,9, -999.000,9, -999.000,9,-999.0000,9,  -999.00,9,   -999.0,9,   -999.0,9,   -999.0,9,  -999.00,9,25, -999.00,   -999,-999.0000,-999.000, 12.5256,-999.000
     316N151_2,   A24,   134,  1,     24,     24,2,19970625,2221, 45.6108, -30.5078, 3216,    166.1,  11.8651,  35.5670,2,  35.5737,2,    233.8,2,    233.8,2,     4.58,2,    10.95,2,     0.02,2,     0.69,2, -999.000,9, -999.000,9, -999.000,9,-999.0000,9,  -999.00,9,   -999.0,9,   -999.0,9,   -999.0,9,  -999.00,9,25, -999.00,   -999,-999.0000,-999.000, 11.8435,-999.000
     316N151_2,   A24,   134,  1,     23,     23,2,19970625,2221, 45.6108, -30.5078, 3216,    215.8,  11.2428,  35.4870,2,  35.4871,2,    226.9,2,    229.9,2,     5.47,2,    12.17,2,     0.02,2,     0.77,2, -999.000,9, -999.000,9, -999.000,5,   1.8126,2,     0.16,2,   -999.0,9,   -999.0,9,   -999.0,9,  -999.00,9,25, -999.00,   -999,  0.0000,   0.160, 11.2156,-999.000
     316N151_2,   A24,   134,  1,     22,     22,2,19970625,2221, 45.6108, -30.5078, 3216,    286.9,  10.7089,  35.4309,2,  35.4305,2,    240.6,2,    233.5,2,     5.96,2,    12.59,2,     0.02,2,     0.81,2, -999.000,9, -999.000,9, -999.000,5,   1.8449,2,    -0.19,2,   -999.0,9,   -999.0,9,   -999.0,9,  -999.00,9,25, -999.00,   -999,  0.0000,   0.160, 10.6738,-999.000
     316N151_2,   A24,   134,  1,     21,     21,2,19970625,2221, 45.6108, -30.5078, 3216,    388.0,   9.7692,  35.2839,2,  35.2888,2,    225.1,2,    226.7,2,     7.36,2,    14.43,2,     0.01,2,     0.94,2,    2.803,2,    1.469,2, -999.000,5,   1.8402,2,     1.72,2,   -999.0,9,   -999.0,9,   -999.0,9,  -999.00,9,25, -999.00,   -999,  0.0000,   0.130,  9.7242,-999.000
     316N151_2,   A24,   134,  1,     20,     20,2,19970625,2221, 45.6108, -30.5078, 3216,    488.5,   8.3702,  35.0918,2,  35.0950,2,    224.0,2,    228.8,2,     8.76,2,    15.98,2,     0.00,2,     1.06,2,    2.866,2,    1.488,2, -999.000,5,   1.8126,2,     1.96,2,   -999.0,9,   -999.0,9,   -999.0,9,  -999.00,9,25, -999.00,   -999,  0.0000,   0.170,  8.3184,-999.000
     316N151_2,   A24,   134,  1,     19,     19,2,19970625,2221, 45.6108, -30.5078, 3216,    568.8,   7.1949,  34.9829,2,  34.9822,2,    208.9,2,    211.4,2,    11.07,2,    18.66,2,     0.00,2,     1.23,2,    2.433,2,    1.244,2, -999.000,9,-999.0000,9,  -999.00,9,   -999.0,9,   -999.0,9,   -999.0,9,  -999.00,9,25, -999.00,   -999,-999.0000,-999.000,  7.1393,-999.000
     316N151_2,   A24,   134,  1,     18,     18,2,19970625,2221, 45.6108, -30.5078, 3216,    669.2,   5.9051,  34.9494,2,  34.9545,2,    215.4,2,    213.5,2,    12.26,2,    19.56,2,     0.00,2,     1.30,2,    2.222,2,    1.092,2,    1.128,2,   1.8592,2,     6.00,2,   -999.0,9,   -999.0,9,   -999.0,9,  -999.00,9,25, -999.00,   -999,  0.0000,   0.160,  5.8459,   0.015
     316N151_2,   A24,   134,  1,     17,     17,2,19970625,2221, 45.6108, -30.5078, 3216,    739.8,   5.6546,  35.0119,2,  35.0074,2,    225.6,2,    222.5,2,    12.25,2,    19.18,2,     0.00,2,     1.27,2,    2.112,2,    1.022,2, -999.000,9,-999.0000,9,  -999.00,9,   -999.0,9,   -999.0,9,   -999.0,9,  -999.00,9,25, -999.00,   -999,-999.0000,-999.000,  5.5901,-999.000
     316N151_2,   A24,   134,  1,     16,     16,2,19970625,2221, 45.6108, -30.5078, 3216,    809.0,   5.5305,  35.0489,2,  35.0484,2,    230.6,2,    227.2,2,    12.13,2,    18.91,2,     0.00,2,     1.25,2,    1.942,2,    0.943,2, -999.000,5,   1.8382,2,     4.93,2,   -999.0,9,   -999.0,9,   -999.0,9,  -999.00,9,25, -999.00,   -999,  0.0000,   0.170,  5.4602,-999.000
     316N151_2,   A24,   134,  1,     15,     15,2,19970625,2221, 45.6108, -30.5078, 3216,    909.6,   4.4058,  34.9318,2,  34.9307,2,    246.2,2,    255.6,4,    11.31,2,    17.97,2,     0.00,2,     1.19,2,    2.919,3,    1.421,3, -999.000,9,-999.0000,9,  -999.00,9,   -999.0,9,   -999.0,9,   -999.0,9,  -999.00,9,25, -999.00,   -999,-999.0000,-999.000,  4.3341,-999.000
     316N151_2,   A24,   134,  1,     14,     14,2,19970625,2221, 45.6108, -30.5078, 3216,   1011.2,   4.3051,  34.9429,2,  34.9451,2,    255.3,2,    257.8,2,    11.50,2,    17.98,2,     0.00,2,     1.19,2, -999.000,9, -999.000,9,   -0.022,4,   1.8751,2,     5.48,2,   -999.0,9,   -999.0,9,   -999.0,9,  -999.00,9,25, -999.00,   -999,  0.0000,   0.170,  4.2254,   0.005
     316N151_2,   A24,   134,  1,     13,     13,2,19970625,2221, 45.6108, -30.5078, 3216,   1160.9,   3.9246,  34.9214,2,  34.9215,2,    266.8,2,    269.5,2,    11.19,2,    17.56,2,     0.00,2,     1.16,2, -999.000,9, -999.000,9, -999.000,9,-999.0000,9,  -999.00,9,   -999.0,9,   -999.0,9,   -999.0,9,  -999.00,9,25, -999.00,   -999,-999.0000,-999.000,  3.8353,-999.000
     316N151_2,   A24,   134,  1,     12,     12,2,19970625,2221, 45.6108, -30.5078, 3216,   1312.2,   3.6832,  34.9067,2,  34.9048,2,    273.4,2,    274.8,2,    11.17,2,    17.42,2,     0.00,2,     1.15,2, -999.000,9, -999.000,9, -999.000,5,   1.8493,2,     6.03,2,   -999.0,9,   -999.0,9,   -999.0,9,  -999.00,9,25, -999.00,   -999,  0.0000,   0.170,  3.5831,-999.000
     316N151_2,   A24,   134,  1,     11,     11,2,19970625,2221, 45.6108, -30.5078, 3216,   1462.7,   3.5754,  34.9075,2,  34.9058,2,    274.8,2,    275.7,2,    11.56,2,    17.33,2,     0.00,2,     1.15,2, -999.000,9, -999.000,9, -999.000,5,   1.8766,2,     7.02,2,   -999.0,9,   -999.0,9,   -999.0,9,  -999.00,9,25, -999.00,   -999,  0.0000,   0.170,  3.4634,-999.000
     316N151_2,   A24,   134,  1,     10,     10,2,19970625,2221, 45.6108, -30.5078, 3216,   1612.3,   3.4481,  34.8986,2,  34.9038,2,    277.5,2,    278.1,2,    11.75,2,    17.15,2,     0.00,2,     1.14,2, -999.000,9, -999.000,9, -999.000,5,   1.8745,2,     6.71,2,   -999.0,9,   -999.0,9,   -999.0,9,  -999.00,9,25, -999.00,   -999,  0.0000,   0.170,  3.3245,-999.000
     316N151_2,   A24,   134,  1,      9,      9,2,19970625,2221, 45.6108, -30.5078, 3216,   1761.4,   3.3034,  34.8864,2,  34.8871,2,    280.2,2,    283.1,2,    11.43,2,    17.06,2,     0.00,2,     1.13,2, -999.000,9, -999.000,9,    1.201,2,   1.8715,2,     6.11,2,   -999.0,9,   -999.0,9,   -999.0,9,  -999.00,9,25, -999.00,   -999,  0.0000,   0.170,  3.1683,   0.016
     316N151_2,   A24,   134,  1,      8,      8,2,19970625,2221, 45.6108, -30.5078, 3216,   1911.6,   3.2540,  34.8878,2,  34.8911,2,    281.5,2,    282.6,2,    11.82,2,    17.01,2,     0.00,2,     1.13,2, -999.000,9, -999.000,9,    1.154,2,   1.8945,2,     6.61,2,   -999.0,9,   -999.0,9,   -999.0,9,  -999.00,9,25, -999.00,   -999,  0.0000,   0.170,  3.1059,   0.015
     316N151_2,   A24,   134,  1,      7,      7,2,19970625,2221, 45.6108, -30.5078, 3216,   2111.0,   3.2448,  34.9038,2,  34.9023,2,    279.8,2,    278.9,2,    12.72,2,    17.06,2,     0.00,2,     1.14,2, -999.000,9, -999.000,9, -999.000,9,-999.0000,9,  -999.00,9,   -999.0,9,   -999.0,9,   -999.0,9,  -999.00,9,25, -999.00,   -999,-999.0000,-999.000,  3.0783,-999.000
     316N151_2,   A24,   134,  1,      6,      6,2,19970625,2221, 45.6108, -30.5078, 3216,   2309.8,   3.1948,  34.9174,2,  34.9157,2,    277.0,2,    275.5,2,    14.02,2,    17.11,2,     0.00,2,     1.14,2, -999.000,9, -999.000,9,    0.930,2,   1.8787,2,     7.82,2,   -999.0,9,   -999.0,9,   -999.0,9,  -999.00,9,25, -999.00,   -999,  0.0000,   0.170,  3.0100,   0.013
     316N151_2,   A24,   134,  1,      5,      5,2,19970625,2221, 45.6108, -30.5078, 3216,   2508.4,   3.0941,  34.9249,2,  34.9240,2,    275.2,2,    273.6,2,    15.02,2,    17.07,2,     0.00,2,     1.14,2, -999.000,9, -999.000,9, -999.000,9,-999.0000,9,  -999.00,9,   -999.0,9,   -999.0,9,   -999.0,9,  -999.00,9,25, -999.00,   -999,-999.0000,-999.000,  2.8917,-999.000
     316N151_2,   A24,   134,  1,      4,      4,2,19970625,2221, 45.6108, -30.5078, 3216,   2707.6,   2.9062,  34.9276,2,  34.9254,2,    273.4,2,    273.2,2,    16.01,2,    16.98,2,     0.00,2,     1.14,2, -999.000,9, -999.000,9, -999.000,5,   1.3459,4,     4.30,4,   -999.0,9,   -999.0,9,   -999.0,9,  -999.00,9,25, -999.00,   -999,  0.0000,   0.170,  2.6875,-999.000
     316N151_2,   A24,   134,  1,      3,      3,2,19970625,2221, 45.6108, -30.5078, 3216,   2913.1,   2.8062,  34.9249,2,  34.9230,2,    272.3,2,    273.2,2,    16.91,2,    16.98,2,     0.00,2,     1.14,2, -999.000,9, -999.000,9, -999.000,9,-999.0000,9,  -999.00,9,   -999.0,9,   -999.0,9,   -999.0,9,  -999.00,9,25, -999.00,   -999,-999.0000,-999.000,  2.5686,-999.000
     316N151_2,   A24,   134,  1,      2,      2,2,19970625,2221, 45.6108, -30.5078, 3216,   3116.7,   2.7118,  34.9224,2,  34.9191,2,    270.8,2,    273.5,2,    17.60,2,    16.94,2,     0.00,2,     1.14,2, -999.000,9, -999.000,9,    0.719,2,   1.8731,2,     7.05,2,   -999.0,9,   -999.0,9,   -999.0,9,  -999.00,9,25, -999.00,   -999,  0.0000,   0.160,  2.4552,   0.011
     316N151_2,   A24,   134,  1,      1,      1,2,19970625,2221, 45.6108, -30.5078, 3216,   3252.9,   2.6846,  34.9212,2,  34.9195,2,    271.7,2,    272.8,2,    17.79,2,    16.94,2,     0.00,2,     1.15,2, -999.000,9, -999.000,9,    0.740,2,   1.8701,2,     7.68,2,   -999.0,9,   -999.0,9,   -999.0,9,  -999.00,9,25, -999.00,   -999,  0.0000,   0.150,  2.4142,   0.016
     316N151_2,   A24,   135,  1,     24,     24,2,19970626,0249, 45.1503, -30.2643, 3040,      3.5,  17.8771,  36.0971,2,  36.0997,2,    242.4,2,    245.5,2,     0.42,2,     0.06,2,     0.00,2,     0.04,2,    2.692,2,    1.438,2, -999.000,9,-999.0000,9,  -999.00,9,   2062.6,2,   -999.0,9,   2369.3,6,     8.01,6,25, -999.00,   -999,-999.0000,-999.000, 17.8765,-999.000
     316N151_2,   A24,   135,  1,     23,     23,2,19970626,0249, 45.1503, -30.2643, 3040,     34.7,  16.2176,  36.0609,2,  36.0596,2,    249.1,2,    250.2,2,     0.61,2,     0.10,2,     0.01,2,     0.04,2,    2.810,2,    1.531,2, -999.000,9,-999.0000,9,  -999.00,9,   2067.2,2,   -999.0,9,   2366.0,2,     8.00,2,25, -999.00,   -999,-999.0000,-999.000, 16.2121,-999.000
     316N151_2,   A24,   135,  1,     22,     22,2,19970626,0249, 45.1503, -30.2643, 3040,     74.5,  15.2903,  35.9913,2,  35.9930,2,    236.2,2,    239.4,2,     1.11,2,     3.28,2,     0.23,2,     0.23,2,    2.842,2,    1.551,2, -999.000,9,-999.0000,9,  -999.00,9,   2089.2,2,   -999.0,9,   2360.5,2,     7.95,2,25, -999.00,   -999,-999.0000,-999.000, 15.2789,-999.000
     316N151_2,   A24,   135,  1,     21,     21,2,19970626,0249, 45.1503, -30.2643, 3040,    135.1,  14.3057,  35.8831,2,  35.8901,2,    228.4,2,    227.1,2,     2.51,2,     7.52,2,     0.01,2,     0.45,2,    2.794,2,    1.523,2, -999.000,9,-999.0000,9,  -999.00,9,   2110.1,2,   -999.0,9,   2354.7,2,     7.90,2,25, -999.00,   -999,-999.0000,-999.000, 14.2858,-999.000
     316N151_2,   A24,   135,  1,     20,     20,2,19970626,0249, 45.1503, -30.2643, 3040,    185.4,  13.6547,  35.7823,2,  35.8071,2,    225.7,2,    226.6,2,     3.31,2,     8.55,2,     0.01,2,     0.52,2,    2.761,2,    1.493,2, -999.000,9,-999.0000,9,  -999.00,9,   2114.8,2,   -999.0,9,   2350.7,2,     7.89,2,25, -999.00,   -999,-999.0000,-999.000, 13.6282,-999.000
     316N151_2,   A24,   135,  1,     19,     19,2,19970626,0249, 45.1503, -30.2643, 3040,    266.7,  12.9100,  35.7063,2,  35.7038,2,    211.4,2,    210.0,2,     4.62,2,    11.26,2,     0.01,2,     0.69,2,    2.530,2,    1.360,2, -999.000,9,-999.0000,9,  -999.00,9,   2129.2,2,   -999.0,9,   2345.1,2,     7.85,2,25, -999.00,   -999,-999.0000,-999.000, 12.8732,-999.000
     316N151_2,   A24,   135,  1,     18,     18,2,19970626,0249, 45.1503, -30.2643, 3040,    355.8,  11.9602,  35.5680,2,  35.5774,2,    212.7,2,    212.6,2,     5.62,2,    12.63,2,     0.01,2,     0.79,2,    2.561,2,    1.364,2, -999.000,9,-999.0000,9,  -999.00,9,   2134.2,2,   -999.0,9,   2338.1,2,     7.83,2,25, -999.00,   -999,-999.0000,-999.000, 11.9133,-999.000
     316N151_2,   A24,   135,  1,     17,     17,2,19970626,0249, 45.1503, -30.2643, 3040,    466.9,  10.7600,  35.4083,2,  35.4022,2,    190.1,2,    186.9,2,     8.25,2,    16.71,2,     0.01,2,     1.05,2,    2.071,2,    1.062,2, -999.000,9,-999.0000,9,  -999.00,9,   2155.8,2,   -999.0,9,   2331.2,2,     7.77,2,25, -999.00,   -999,-999.0000,-999.000, 10.7022,-999.000
     316N151_2,   A24,   135,  1,     16,     16,2,19970626,0249, 45.1503, -30.2643, 3040,    557.5,   9.5083,  35.2595,2,  35.2710,2,    179.3,2,    181.2,2,    10.26,2,    18.92,2,     0.00,2,     1.21,2,    1.787,2,    0.907,2, -999.000,9,-999.0000,9,  -999.00,9,   2167.8,2,   -999.0,9,   2325.1,2,     7.73,2,25, -999.00,   -999,-999.0000,-999.000,  9.4442,-999.000
     316N151_2,   A24,   135,  1,     15,     15,2,19970626,0249, 45.1503, -30.2643, 3040,    667.7,   7.6806,  35.1193,2,  35.1217,2,    193.6,2,    190.6,2,    11.87,2,    19.96,2,     0.00,2,     1.30,2,    1.715,2,    0.857,2, -999.000,9,-999.0000,9,  -999.00,9,   2173.7,2,   -999.0,9,   2319.7,2,     7.71,2,25, -999.00,   -999,-999.0000,-999.000,  7.6125,-999.000
     316N151_2,   A24,   135,  1,     14,     14,2,19970626,0249, 45.1503, -30.2643, 3040,    778.8,   6.8126,  35.1226,2,  35.1223,2,    202.8,2,    202.0,2,    12.17,2,    19.69,2,     0.00,2,     1.29,2,    1.653,2,    0.817,2, -999.000,9,-999.0000,9,  -999.00,9,   2176.4,2,   -999.0,9,   2321.4,2,     7.70,2,25, -999.00,   -999,-999.0000,-999.000,  6.7375,-999.000
     316N151_2,   A24,   135,  1,     13,     13,2,19970626,0249, 45.1503, -30.2643, 3040,    869.5,   6.0527,  35.0764,2,  35.0698,2,    210.0,2,    215.8,2,    12.16,2,    19.31,2,     0.00,2,     1.27,2,    1.840,2,    0.893,2, -999.000,9,-999.0000,9,  -999.00,9,   2172.1,2,   -999.0,9,   2317.2,2,     7.70,2,25, -999.00,   -999,-999.0000,-999.000,  5.9733,-999.000
     316N151_2,   A24,   135,  1,     12,     12,2,19970626,0249, 45.1503, -30.2643, 3040,    969.4,   5.4823,  35.0538,2,  35.0515,2,    225.3,2,    228.8,2,    12.05,2,    18.85,2,     0.00,2,     1.24,2,    1.922,2,    0.946,2, -999.000,9,-999.0000,9,  -999.00,9,   2171.1,2,   -999.0,9,   2315.0,2,     7.70,2,25, -999.00,   -999,-999.0000,-999.000,  5.3973,-999.000
     316N151_2,   A24,   135,  1,     11,     11,2,19970626,0249, 45.1503, -30.2643, 3040,   1061.0,   5.1947,  35.0589,2,  35.0576,2,    235.4,2,    235.4,2,    12.04,2,    18.57,2,     0.00,2,     1.22,2,    1.820,2,    0.890,2, -999.000,9,-999.0000,9,  -999.00,9,   2169.0,2,   -999.0,9,   2315.0,2,     7.71,2,25, -999.00,   -999,-999.0000,-999.000,  5.1033,-999.000
     316N151_2,   A24,   135,  1,     10,     10,2,19970626,0249, 45.1503, -30.2643, 3040,   1212.2,   4.5019,  34.9911,2,  34.9909,2,    249.8,2,    252.4,2,    11.73,2,    18.15,2,     0.00,2,     1.20,2,    2.065,2,    0.990,2, -999.000,9,-999.0000,9,  -999.00,9,   2163.8,2,   -999.0,9,   2310.5,2,     7.71,2,25, -999.00,   -999,-999.0000,-999.000,  4.4027,-999.000
     316N151_2,   A24,   135,  1,      9,      9,2,19970626,0249, 45.1503, -30.2643, 3040,   1414.7,   3.9571,  34.9499,2,  34.9484,2,    264.3,2,    265.0,2,    11.82,2,    17.73,2,     0.00,2,     1.17,2,    1.960,2,    0.948,2, -999.000,9,-999.0000,9,  -999.00,9,   2159.1,2,   -999.0,9,   2307.9,2,     7.71,2,25, -999.00,   -999,-999.0000,-999.000,  3.8451,-999.000
     316N151_2,   A24,   135,  1,      8,      8,2,19970626,0249, 45.1503, -30.2643, 3040,   1617.4,   3.6428,  34.9208,2,  34.9181,2,    272.8,2,    272.4,2,    11.91,2,    17.45,2,     0.00,2,     1.15,2,    2.056,2,    0.984,2, -999.000,9,-999.0000,9,  -999.00,9,   2157.0,2,   -999.0,9,   2305.2,2,     7.72,2,25, -999.00,   -999,-999.0000,-999.000,  3.5163,-999.000
     316N151_2,   A24,   135,  1,      7,      7,2,19970626,0249, 45.1503, -30.2643, 3040,   1819.0,   3.5265,  34.9201,2,  34.9190,2,    275.6,2,    272.8,2,    12.61,2,    17.40,2,     0.00,2,     1.15,2,    1.798,2,    0.879,2, -999.000,9,-999.0000,9,  -999.00,9,   2157.2,2,   -999.0,9,   2308.5,2,     7.72,2,25, -999.00,   -999,-999.0000,-999.000,  3.3831,-999.000
     316N151_2,   A24,   135,  1,      6,      6,2,19970626,0249, 45.1503, -30.2643, 3040,   1941.6,   3.4665,  34.9177,2,  34.9160,2,    275.5,2,    273.8,2,    12.80,2,    17.36,2,     0.00,2,     1.15,2,    1.768,2,    0.852,2, -999.000,9,-999.0000,9,  -999.00,9,   2156.7,2,   -999.0,9,   2308.2,2,     7.72,2,25, -999.00,   -999,-999.0000,-999.000,  3.3126,-999.000
     316N151_2,   A24,   135,  1,      5,      5,2,19970626,0249, 45.1503, -30.2643, 3040,   2194.3,   3.3176,  34.9208,2,  34.9186,2,    274.2,2,    273.4,2,    13.71,2,    17.32,2,     0.00,2,     1.15,2,    1.519,2,    0.742,2, -999.000,9,-999.0000,9,  -999.00,9,   2157.4,2,   -999.0,9,   2310.6,2,     7.72,2,25, -999.00,   -999,-999.0000,-999.000,  3.1420,-999.000
     316N151_2,   A24,   135,  1,      4,      4,2,19970626,0249, 45.1503, -30.2643, 3040,   2427.4,   3.1746,  34.9244,2,  34.9222,2,    273.2,2,    272.5,2,    14.71,2,    17.18,2,     0.00,2,     1.15,2,    1.321,2,    0.647,2, -999.000,9,-999.0000,9,  -999.00,9,   2158.9,2,   -999.0,9,   2309.9,2,     7.72,2,25, -999.00,   -999,-999.0000,-999.000,  2.9787,-999.000
     316N151_2,   A24,   135,  1,      3,      3,2,19970626,0249, 45.1503, -30.2643, 3040,   2630.5,   3.0410,  34.9276,2,  34.9252,2,    271.1,2,    272.3,2,    15.71,2,    17.18,2,     0.00,2,     1.15,2,    1.178,2,    0.582,2, -999.000,9,-999.0000,9,  -999.00,9,   2158.8,2,   -999.0,9,   2311.6,2,     7.72,2,25, -999.00,   -999,-999.0000,-999.000,  2.8274,-999.000
     316N151_2,   A24,   135,  1,      2,      2,2,19970626,0249, 45.1503, -30.2643, 3040,   2884.9,   2.8518,  34.9273,2,  34.9248,2,    271.8,2,    271.4,2,    16.92,2,    17.04,2,     0.00,2,     1.14,2,    1.103,2,    0.542,2, -999.000,9,-999.0000,9,  -999.00,9,   2160.5,2,   -999.0,9,   2313.3,2,     7.72,2,25, -999.00,   -999,-999.0000,-999.000,  2.6161,-999.000
     316N151_2,   A24,   135,  1,      1,      1,2,19970626,0249, 45.1503, -30.2643, 3040,   3071.3,   2.8065,  34.9265,2,  34.9238,2,    270.4,2,    272.2,2,    17.32,2,    17.00,2,     0.00,2,     1.15,2,    1.066,2,    0.543,2, -999.000,9,-999.0000,9,  -999.00,9,   2161.9,2,   -999.0,9,   2312.7,2,     7.72,2,25, -999.00,   -999,-999.0000,-999.000,  2.5525,-999.000